BOTTLE,20170720CCHSIOCBG
# Merged parameters: TRITUM, TRITER, TRITUM_FLAG_W
# 20150527CCHSIOCBG
# Merged parameters: TRITUM, TRITUM_FLAG_W, TRITER
# 20140926CCHSIOAMB
# Merged parameters: DELHE3, DELHER, DELHE3_FLAG_W, HELIUM, HELIER, HELIUM_FLAG_W, NEON, NEONER, NEON_FLAG_W
# 20140121CCHSIOCBG
# Merged parameters: TRITUM, TRITER, TRITUM_FLAG_W
# Merged parameters: HELIUM, HELIUM_FLAG_W, HELIER, NEON, NEON_FLAG_W, NEONER, DELHE3, DELHE3_FLAG_W, DELHER
# 20140110SIOCCHRJL
# Added instructions for citation use
# BOTTLE,20110330CCHDOSIOJCF
# BOTTLE,20100111CCHDOSIODBK
#| These data were provided by:
#| PARAMETER/PROGRAM       PI NAME                 EMAIL ADDRESS
#| _________________________________________________________________________
#| Chief Scientist        R. Feely (PMEL)         richard.a.feely@noaa.gov
#|                        Chris Sabine (PMEL)     Chris.Sabine@noaa.gov
#| Co-chief Scientist     Erica Key (RSMAS)
#|                        S. Mecking (UW)
#| CTD-Hydrography        Gregory Johnson(PMEL)   Gregory.C.Johnson@noaa.gov
#|                        Molly Beringer (AOML)   Molly.Baringer@noaa.gov
#| LADCP                  Jules Hummon (UH)       hummon@hawaii.edu
#|                        Bruce Huber (LDEO)      bhuber@ldeo.columbia.edu
#| Oxygen Measurements    Chris Langdon(RSMAS)    clangdon@rsmas.miami.edu
#| Nutrients              Calvin Mordy (PMEL)     calvin.w.mordy@noaa.gov
#|                        Jia Zang (AOML)         Jia-Zhong.Zhang@noaa.gov
#| CFC Measurements       John Bullister (PMEL)   John.L.Bullister@noaa.gov
#|                        Mark Warner (UW)        warner@u.washington.edu
#| DIC Measurements       Chris Sabine (PMEL)     Chris.Sabine@noaa.gov
#|                        Rik Wanninkhof(AOML)    Rik.Wanninkhof@noaa.gov
#|                        Richard Feely (PMEL)    richard.a.feely@noaa.gov
#| TAlk Measurements      Frank  Millero (RSMAS)  fmillero@rsmas.miami.edu
#| pH Discrete
#| Measurements           Frank Millero (RSMAS)   fmillero@rsmas.miami.edu
#|                        Robert Byrne (USF)      byrne@marine.usf.edu
#|
#| Discrete pCO2          Rik Wanninkhof (AOML)   Rik.Wanninkhof@noaa.gov
#| Underway DIC           Robert Byrne (USF)      byrne@marine.usf.edu
#| Underway pCO2          Richard Feely (PMEL)    richard.a.feely@noaa.gov
#| Underway fluorometer   Paul Falkowski (Rutgers)falko@imcs.rutgers.edu
#| Carbon/Oxygen Isotopes Ann McNichol (WHOI)     amcnichol@whoi.edu
#|                        Paul Quay (UW)          pdquay@u.washington.edu
#| Dissolved Organic
#| Carbon                 Dennis Hansell(RSMAS)   dhansell@rsmas.miami.edu
#| Colored Dissolved
#| Organic Matter         Dave Siegel (UCSB)      davey@bren.ucsb.edu
#|                        Craig Carlson (UCSC)    carlson@lifesci.ucsb.edu
#| Helium-tritium         Bill Jenkins (WHOI)     wjenkins@whoi.edu
#|                        Peter Schlosser (LDEO)  schlosser@ldeo.columbia.edu
#| Trace Metals           Chris Measures (UH)     chrism@soest.hawaii.edu
#|                        Bill Landing (FSU)      wlanding@fsu.edu
#| Meteorological
#| Measurements           Erica Key (RSMAS)       ekey@rsmas.miami.edu
#| Zooplankton            Victoria Fabry (CSUSM)  fabry@csusm.edu
#|
#| Transmissometer        Wilf Gardner (TAMU)     wgardner@ocean.tamu.edu
#| ARGO floats            Howard Freeland (F&O Canada)    freelandhj@pac.dfo-mpo.gc.ca
#|
#|
#|  Following American Geophysical Union recommendations, the data should be
#|  cited as: "data provider(s), cruise name or cruise ID, data file name(s),
#|  CLIVAR and Carbon Hydrographic Data Office, La Jolla, CA, USA, and data
#|  file date." For further information, please contact one of the parties
#|  listed above or cchdo@ucsd.edu. Users are also requested to acknowledge
#|  the NSF/NOAA-funded U.S. Repeat Hydrography Program in publications resulting
#|  from their use.
#|
# Hydro: Who - G. Johnson; Status - final  
# Nuts/O2: Who - C. Mordy;C. Langdon; Status - final 
# TCO2: Who - Feely,Sabine,Wanninkhof; Status - final 
# TA: Who - Millero; Status - final 
# fCO2: Who - Wanninkhof; Status - final 
# 	Reported at 20C 
# pHTOT: Who - Millero/Byrne; Status - final 
# CFC: Who - Bullister, Warner; Status - final 
# 	Notes:  Includes CFC-113 
# C-14: Who - A.McNichol,R.Key; Status - final 
# C-13: Who - A.McNichol,R.Key; Status - final 
# H-3/He-3: Who - B.Jenkins/P.Schlosser; Status - final   
# 	Notes: Revised H3 data from W.Jenkins 12/2015 
# DOC: Who -  D. Hansel; Status - final 
# 	Notes: Also TDN 
# Trace Metals: Who -  C.Measures, W.Landing; Status - ?   
# Other: CDOM at various wavelengths 
EXPOCODE,SECT_ID,STNNBR,CASTNO,SAMPNO,BTLNBR,BTLNBR_FLAG_W,DATE,TIME,LATITUDE,LONGITUDE,DEPTH,CTDPRS,CTDTMP,CTDSAL,CTDSAL_FLAG_W,SALNTY,SALNTY_FLAG_W,CTDOXY,CTDOXY_FLAG_W,OXYGEN,OXYGEN_FLAG_W,SILCAT,SILCAT_FLAG_W,NITRAT,NITRAT_FLAG_W,NITRIT,NITRIT_FLAG_W,PHSPHT,PHSPHT_FLAG_W,CFC-11,CFC-11_FLAG_W,CFC-12,CFC-12_FLAG_W,CFC113,CFC113_FLAG_W,TCARBN,TCARBN_FLAG_W,ALKALI,ALKALI_FLAG_W,FCO2,FCO2_FLAG_W,FCO2TMP,PH_TOT,PH_TOT_FLAG_W,PH_TMP,TRITUM,TRITUM_FLAG_W,TRITER,HELIUM,HELIUM_FLAG_W,DELHE3,DELHE3_FLAG_W,DELC13,DELC13_FLAG_W,DELC14,DELC14_FLAG_W,C14ERR,NEON,NEON_FLAG_W,NEONER,DOC,DOC_FLAG_W,TDN,TDN_FLAG_W,CTDRAW,CDOM325,CDOM325_FLAG_W,CDOM340,CDOM340_FLAG_W,CDOM380,CDOM380_FLAG_W,CDOM412,CDOM412_FLAG_W,CDOMSL,CDOMSL_FLAG_W,CDOMSN,CDOMSN_FLAG_W,DCNS,ARABI,ARABI_FLAG_W,FUCO,FUCO_FLAG_W,GALA,GALA_FLAG_W,GLUC,GLUC_FLAG_W,MAN,MAN_FLAG_W,RHAM,RHAM_FLAG_W,BRDU,BRDU_FLAG_W,THETA,HELIER,DELHER
,,,,,,,,,,,METERS,DBAR,ITS-90,PSS-78,,PSS-78,,UMOL/KG,,UMOL/KG,,UMOL/KG,,UMOL/KG,,UMOL/KG,,UMOL/KG,,PMOL/KG,,PMOL/KG,,PMOL/KG,,UMOL/KG,,UMOL/KG,,UATM,,DEG C,,,DEG C,TU,,TU,NMOL/KG,,PERCNT,,/MILLE,,/MILLE,,/MILLE,NMOL/KG,,NMOL/KG,UMOL/KG,,UMOL/KG,,DBAR,1/M,,1/M,,1/M,,1/M,,1/NM,,1/NM,,NMOL/KG,NMOL/KG,,NMOL/KG,,NMOL/KG,,NMOL/KG,,NMOL/KG,,NMOL/KG,,PMOL/L/H,,DEG C,NMOL/KG,PERCNT
325020060213,       P16N,       1,          2,         34,         34,2,20060214,       1218,   -17.0002,  -149.9995,       1935,     6.4,  28.7363,  35.8620,2,  35.8617,4,    197.4,2,   195.6,2,    0.10,2,    0.00,6,    0.00,6,    0.13,6,   1.527,2,   0.977,2,-999.000,5,  -999.0,9,  2349.4,2,   -999.0,9,  -999.00,   8.1372,2,    25.00,   0.554,2,   0.003,   1.6945,2,   -1.81,2, -999.00,9,  -999.0,9,    -9.0,   6.617,2,   0.020,   73.70,2,    4.71,2,    6.40,   0.0510,2,   0.0340,2,   0.0110,2,   0.0050,2,   0.0260,2,   0.0255,2,     -999.0,     -999.0,9,     -999.0,9,     -999.0,9,     -999.0,9,     -999.0,9,     -999.0,9, -999.00,9,  28.7348,   0.0051,    0.14
325020060213,       P16N,       1,          2,         35,         35,2,20060214,       1218,   -17.0002,  -149.9995,       1935,     6.5,  28.7364,  35.8621,2,-999.0000,9,    197.3,2,  -999.0,9,    0.00,2,    0.10,6,    0.00,6,    0.13,6,-999.000,9,-999.000,9,-999.000,9,  1990.1,6,  -999.0,5,   -999.0,9,  -999.00,-999.0000,9,  -999.00,-999.000,9,-999.000,-999.0000,9,-999.000,9, -999.00,5,    70.4,2,     3.2,-999.000,9,-999.000, -999.00,9, -999.00,9,    6.50,   0.0390,2,   0.0250,2,   0.0020,3,  -0.0010,4,   0.0285,2,   0.0285,2,     -999.0,     -999.0,9,     -999.0,9,     -999.0,9,     -999.0,9,     -999.0,9,     -999.0,9,    0.44,2,  28.7348,-999.0000,-999.000
325020060213,       P16N,       1,          2,         33,         33,2,20060214,       1218,   -17.0002,  -149.9995,       1935,    24.3,  28.6916,  35.9320,2,  35.9354,4,    198.3,2,   196.3,2,    0.00,2,    0.00,6,    0.00,6,    0.13,6,-999.000,9,-999.000,9,-999.000,9,  1995.6,2,  2356.4,6,   -999.0,9,  -999.00,   8.1385,2,    25.00,   0.491,2,   0.003,   1.7069,2,   -1.63,2, -999.00,5,    65.3,2,     3.5,   6.668,2,   0.020,   73.75,2,    4.68,2,   24.30,-999.0000,9,-999.0000,9,-999.0000,9,-999.0000,9,-999.0000,9,-999.0000,9,     -999.0,     -999.0,9,     -999.0,9,     -999.0,9,     -999.0,9,     -999.0,9,     -999.0,9,    0.56,2,  28.6857,   0.0051,    0.14
325020060213,       P16N,       1,          2,         32,         32,2,20060214,       1218,   -17.0002,  -149.9995,       1935,    50.9,  28.3956,  36.0070,2,  36.0087,4,    200.9,2,   200.7,2,    0.10,2,    0.10,6,    0.00,6,    0.13,6,   1.570,6,   1.006,6,-999.000,5,  2002.0,2,  2362.7,2,   -999.0,9,  -999.00,-999.0000,9,  -999.00,   0.564,2,   0.003,   1.7090,2,   -1.59,2, -999.00,5,    68.9,2,     3.9,   6.692,2,   0.020,   73.27,2,    4.61,2,   50.90,   0.1080,2,   0.0810,2,   0.0240,2,   0.0100,2,   0.0277,2,   0.0252,2,     -999.0,     -999.0,9,     -999.0,9,     -999.0,9,     -999.0,9,     -999.0,9,     -999.0,9,    0.41,2,  28.3834,   0.0051,    0.14
325020060213,       P16N,       1,          2,         31,         31,2,20060214,       1218,   -17.0002,  -149.9995,       1935,    74.3,  25.8530,  36.0684,2,  36.0566,4,    203.8,2,   202.9,2,    0.10,2,    0.10,6,    0.00,6,    0.16,6,   1.739,2,   1.085,2,-999.000,5,  2021.7,2,  2368.4,2,   -999.0,9,  -999.00,   8.1111,2,    25.00,-999.000,9,-999.000,   1.7124,2,   -1.75,2, -999.00,5,    71.2,2,     3.5,   6.749,2,   0.020,   66.88,2,    4.03,2,   74.30,   0.1220,2,   0.0880,2,   0.0290,2,   0.0140,2,   0.0270,2,   0.0256,2,     -999.0,     -999.0,9,     -999.0,9,     -999.0,9,     -999.0,9,     -999.0,9,     -999.0,9,    0.04,2,  25.8365,   0.0051,    0.14
325020060213,       P16N,       1,          2,         30,         30,2,20060214,       1218,   -17.0002,  -149.9995,       1935,   100.4,  25.1518,  36.1152,2,  36.1104,4,    195.6,2,   194.8,2,    0.20,2,    0.10,6,    0.00,6,    0.20,6,   1.798,2,   1.104,2,-999.000,5,  2038.8,2,  2374.7,2,   -999.0,9,  -999.00,   8.0909,2,    25.00,   0.523,2,   0.003,   1.7256,2,   -1.65,2, -999.00,5,    72.4,2,     3.5,   6.813,2,   0.020,   62.62,2,    3.75,2,  100.40,-999.0000,9,-999.0000,9,-999.0000,9,-999.0000,9,-999.0000,9,-999.0000,9,     -999.0,     -999.0,9,     -999.0,9,     -999.0,9,     -999.0,9,     -999.0,9,     -999.0,9,    0.17,2,  25.1298,   0.0052,    0.14
325020060213,       P16N,       1,          2,         29,         29,2,20060214,       1218,   -17.0002,  -149.9995,       1935,   125.8,  24.1107,  35.9940,2,  35.9876,4,    195.3,2,   199.0,2,    0.10,2,    0.20,6,    0.10,6,    0.19,6,   1.857,2,   1.145,2,-999.000,5,  2034.7,2,  2362.1,2,   -999.0,9,  -999.00,   8.0788,2,    25.00,   0.500,2,   0.003,   1.7243,2,   -1.71,2, -999.00,5,    77.7,2,     3.6,   6.853,2,   0.021,   62.00,2,    4.34,2,  125.80,   0.1210,2,   0.0880,2,   0.0290,2,   0.0160,2,   0.0266,2,   0.0252,2,     -999.0,     -999.0,9,     -999.0,9,     -999.0,9,     -999.0,9,     -999.0,9,     -999.0,9,    0.04,2,  24.0840,   0.0052,    0.14
325020060213,       P16N,       1,          2,         28,         28,2,20060214,       1218,   -17.0002,  -149.9995,       1935,   149.8,  23.5432,  36.0108,2,  36.0002,4,    190.1,2,   187.9,2,    0.30,2,    0.80,6,    0.10,6,    0.25,6,   1.919,2,   1.168,2,-999.000,5,  2052.5,2,  2364.8,2,   -999.0,9,  -999.00,   8.0512,2,    25.00,   0.510,2,   0.003,   1.7337,2,   -1.54,2, -999.00,5,    77.1,2,     2.3,   6.891,2,   0.021,   57.84,2,    4.89,2,  149.80,-999.0000,9,-999.0000,9,-999.0000,9,-999.0000,9,-999.0000,9,-999.0000,9,     -999.0,     -999.0,9,     -999.0,9,     -999.0,9,     -999.0,9,     -999.0,9,     -999.0,9,    0.05,2,  23.5119,   0.0052,    0.14
325020060213,       P16N,       1,          2,         27,         27,2,20060214,       1218,   -17.0002,  -149.9995,       1935,   205.7,  21.4596,  35.9056,2,  35.8674,4,    173.8,2,   172.7,2,    0.80,2,    3.50,6,    0.00,6,    0.42,6,   2.084,2,   1.234,2,-999.000,5,  2085.1,2,  2358.4,2,   -999.0,9,  -999.00,   7.9824,2,    25.00,   0.461,2,   0.003,   1.7849,2,   -0.78,2, -999.00,5,    86.9,2,     3.6,   7.146,2,   0.021,   50.24,2,    7.82,2,  205.70,   0.0870,2,   0.0600,2,   0.0240,2,   0.0170,2,   0.0248,2,   0.0248,2,     -999.0,     -999.0,9,     -999.0,9,     -999.0,9,     -999.0,9,     -999.0,9,     -999.0,9, -999.00,9,  21.4194,   0.0054,    0.14
325020060213,       P16N,       1,          2,         26,         26,2,20060214,       1218,   -17.0002,  -149.9995,       1935,   231.2,  21.0063,  35.8496,2,  35.8279,4,    174.2,2,   172.5,2,    0.80,2,    3.90,6,    0.00,6,    0.47,6,   2.131,2,   1.235,2,-999.000,5,  2087.1,2,  2356.2,2,   -999.0,9,  -999.00,   7.9771,2,    25.00,   0.413,2,   0.003,   1.7433,2,   -1.06,2, -999.00,5,    89.2,2,     3.6,   7.053,2,   0.021,   49.42,2,    8.17,2,  231.20,-999.0000,9,-999.0000,9,-999.0000,9,-999.0000,9,-999.0000,9,-999.0000,9,     -999.0,     -999.0,9,     -999.0,9,     -999.0,9,     -999.0,9,     -999.0,9,     -999.0,9, -999.00,9,  20.9618,   0.0052,    0.14
325020060213,       P16N,       1,          2,         25,         25,9,20060214,       1218,   -17.0002,  -149.9995,       1935,   261.8,  19.3300,  35.6303,2,-999.0000,9,    174.8,2,  -999.0,9, -999.00,9, -999.00,9, -999.00,9, -999.00,9,-999.000,9,-999.000,9,-999.000,9,  -999.0,9,  -999.0,9,   -999.0,9,  -999.00,-999.0000,9,  -999.00,-999.000,9,-999.000,-999.0000,9,-999.000,9, -999.00,9,  -999.0,9,    -9.0,-999.000,9,-999.000, -999.00,9, -999.00,9,  261.80,-999.0000,9,-999.0000,9,-999.0000,9,-999.0000,9,-999.0000,9,-999.0000,9,     -999.0,     -999.0,9,     -999.0,9,     -999.0,9,     -999.0,9,     -999.0,9,     -999.0,9, -999.00,9,  19.2825,-999.0000,-999.000
325020060213,       P16N,       1,          2,         24,         24,2,20060214,       1218,   -17.0002,  -149.9995,       1935,   301.2,  16.9243,  35.3187,2,  35.3070,4,    173.7,2,   171.0,2,    2.30,2,    7.90,6,    0.00,6,    0.71,6,   2.265,2,   1.243,2,-999.000,5,  2101.5,2,  2323.5,2,   -999.0,9,  -999.00,-999.0000,9,  -999.00,   0.388,3,   0.003,   1.7676,2,   -0.37,2, -999.00,5,    93.0,2,     3.3,   7.212,2,   0.022,   45.85,2,   12.03,2,  301.20,-999.0000,9,-999.0000,9,-999.0000,9,-999.0000,9,-999.0000,9,-999.0000,9,     -999.0,     -999.0,9,     -999.0,9,     -999.0,9,     -999.0,9,     -999.0,9,     -999.0,9, -999.00,9,  16.8744,   0.0053,    0.14
325020060213,       P16N,       1,          2,         23,         23,2,20060214,       1218,   -17.0002,  -149.9995,       1935,   356.4,  14.6544,  35.0536,2,  35.0208,4,    173.1,2,   167.3,2,    4.10,2,   11.70,6,    0.00,6,    0.96,6,   2.127,2,   1.157,2,-999.000,5,  2115.9,2,  2308.2,6,   -999.0,9,  -999.00,   7.8249,2,    25.00,   0.313,2,   0.003,-999.0000,9,-999.000,9, -999.00,5,    67.7,2,     2.8,-999.000,9,-999.000,   44.08,2,   15.67,2,  356.40,   0.0720,2,   0.0450,2,   0.0150,2,   0.0100,2,   0.0301,2,   0.0306,2,     -999.0,     -999.0,9,     -999.0,9,     -999.0,9,     -999.0,9,     -999.0,9,     -999.0,9, -999.00,9,  14.6010,-999.0000,-999.000
325020060213,       P16N,       1,          2,         22,         22,2,20060214,       1218,   -17.0002,  -149.9995,       1935,   449.7,   9.3448,  34.5663,2,  34.5420,4,    141.7,2,   138.8,2,   14.60,2,   25.30,6,    0.00,6,    1.80,6,-999.000,9,-999.000,9,-999.000,9,  2177.1,2,  2293.3,2,   -999.0,9,  -999.00,   7.6438,2,    25.00,   0.106,2,   0.005,   1.7949,2,    2.46,2, -999.00,5,    -8.1,2,     2.3,   7.553,2,   0.023,   42.07,2,   29.49,2,  449.70,   0.0940,2,   0.0620,2,   0.0280,2,   0.0200,2,   0.0231,2,   0.0248,2,     -999.0,     -999.0,9,     -999.0,9,     -999.0,9,     -999.0,9,     -999.0,9,     -999.0,9, -999.00,9,   9.2944,   0.0054,    0.14
325020060213,       P16N,       1,          2,         21,         21,2,20060214,       1218,   -17.0002,  -149.9995,       1935,   501.3,   8.1024,  34.4993,2,  34.4946,4,    143.9,2,   141.5,2,   18.90,2,   28.00,6,    0.00,6,    1.95,6,  -0.003,4,  -0.008,4,-999.000,5,  2188.2,6,  2291.3,2,   -999.0,9,  -999.00,   7.6193,2,    25.00,   0.087,2,   0.004,   1.8144,2,    3.61,2, -999.00,5,   -33.9,2,     3.3,   7.694,2,   0.023,   40.61,2,   32.18,2,  501.30,   0.0940,2,   0.0600,2,   0.0280,2,   0.0190,2,   0.0232,2,   0.0253,2,     -999.0,     -999.0,9,     -999.0,9,     -999.0,9,     -999.0,9,     -999.0,9,     -999.0,9, -999.00,9,   8.0506,   0.0054,    0.14
325020060213,       P16N,       1,          2,         20,         20,2,20060214,       1218,   -17.0002,  -149.9995,       1935,   600.5,   6.5616,  34.4520,2,  34.4428,4,    150.4,2,   148.0,2,   28.40,2,   31.20,6,    0.00,6,    2.12,6,   0.380,2,   0.210,2,-999.000,5,  2201.4,2,  2297.7,2,   -999.0,9,  -999.00,   7.5959,2,    25.00,   0.042,2,   0.004,   1.8311,2,    6.45,2, -999.00,5,   -76.6,2,     2.6,   7.790,2,   0.023,   39.86,2,   35.23,2,  600.50,   0.0930,2,   0.0590,2,   0.0260,2,   0.0180,2,   0.0242,2,   0.0262,2,     -999.0,     -999.0,9,     -999.0,9,     -999.0,9,     -999.0,9,     -999.0,9,     -999.0,9, -999.00,9,   6.5062,   0.0055,    0.14
325020060213,       P16N,       1,          2,         19,         19,2,20060214,       1218,   -17.0002,  -149.9995,       1935,   699.8,   5.4223,  34.4332,2,  34.4161,4,    154.8,2,   152.4,2,   39.10,2,   33.30,6,    0.00,6,    2.24,6,   0.181,2,   0.098,2,-999.000,5,  2214.1,2,  2312.2,2,   -999.0,9,  -999.00,   7.5861,2,    25.00,-999.000,9,-999.000,   1.8067,2,    8.90,2, -999.00,5,  -105.7,2,     2.5,   7.750,2,   0.023,   38.68,2,   37.02,2,  699.80,   0.0920,2,   0.0580,2,   0.0230,2,   0.0140,2,   0.0263,2,   0.0281,2,     -999.0,     -999.0,9,     -999.0,9,     -999.0,9,     -999.0,9,     -999.0,9,     -999.0,9, -999.00,9,   5.3633,   0.0054,    0.14
325020060213,       P16N,       1,          2,         18,         18,2,20060214,       1218,   -17.0002,  -149.9995,       1935,   800.3,   4.9076,  34.4673,2,  34.4562,4,    149.0,2,   145.9,2,   51.00,2,   34.50,6,    0.00,6,    2.33,6,   0.072,2,   0.041,6,-999.000,5,  2231.6,2,  2322.4,2,   -999.0,9,  -999.00,   7.5723,2,    25.00,   0.015,2,   0.003,-999.0000,9,-999.000,9, -999.00,5,  -133.2,2,     3.0,-999.000,9,-999.000,   37.88,2,   38.47,2,  800.30,   0.0970,2,   0.0630,2,   0.0290,2,   0.0190,2,   0.0223,2,   0.0243,2,     -999.0,     -999.0,9,     -999.0,9,     -999.0,9,     -999.0,9,     -999.0,9,     -999.0,9, -999.00,9,   4.8427,-999.0000,-999.000
325020060213,       P16N,       1,          2,         17,         17,2,20060214,       1218,   -17.0002,  -149.9995,       1935,   900.1,   4.5158,  34.4858,2,  34.4779,4,    145.1,2,   142.8,2,   59.40,2,   35.20,6,    0.00,6,    2.38,6,   0.052,2,   0.023,2,-999.000,5,  2241.9,2,  2329.6,2,   -999.0,9,  -999.00,-999.0000,9,  -999.00,   0.011,3,   0.004,   1.8606,2,   14.65,2, -999.00,5,  -146.6,2,     2.6,   7.967,2,   0.024,   37.44,2,   39.45,2,  900.10,   0.0920,2,   0.0580,2,   0.0230,2,   0.0130,2,   0.0263,2,   0.0280,2,     -999.0,     -999.0,9,     -999.0,9,     -999.0,9,     -999.0,9,     -999.0,9,     -999.0,9, -999.00,9,   4.4448,   0.0056,    0.14
325020060213,       P16N,       1,          2,         16,         16,4,20060214,       1218,   -17.0002,  -149.9995,       1935,  1001.2,   3.9680,  34.5020,2,-999.0000,9,    145.4,2,  -999.0,9, -999.00,1, -999.00,1, -999.00,1, -999.00,1,-999.000,9,-999.000,9,-999.000,9,  -999.0,9,  -999.0,5,   -999.0,9,  -999.00,-999.0000,9,  -999.00,-999.000,9,-999.000,-999.0000,9,-999.000,9, -999.00,9,  -999.0,9,    -9.0,-999.000,9,-999.000,   37.52,2,   36.45,2, 1001.20,   0.1020,2,   0.0650,2,   0.0300,2,   0.0200,2,   0.0223,2,   0.0245,2,     -999.0,     -999.0,9,     -999.0,9,     -999.0,9,     -999.0,9,     -999.0,9,     -999.0,9, -999.00,9,   3.8925,-999.0000,-999.000