BOTTLE,20170720CCHSIOCBG
EXPOCODE,SECT_ID,STNNBR,CASTNO,SAMPNO,BTLNBR,BTLNBR_FLAG_W,DATE,TIME,LATITUDE,LONGITUDE,DEPTH,CTDPRS,CTDTMP,CTDSAL,CTDSAL_FLAG_W,SALNTY,SALNTY_FLAG_W,CTDOXY,CTDOXY_FLAG_W,OXYGEN,OXYGEN_FLAG_W,SILCAT,SILCAT_FLAG_W,NITRAT,NITRAT_FLAG_W,NITRIT,NITRIT_FLAG_W,PHSPHT,PHSPHT_FLAG_W,CFC-11,CFC-11_FLAG_W,CFC-12,CFC-12_FLAG_W,CFC113,CFC113_FLAG_W,TCARBN,TCARBN_FLAG_W,ALKALI,ALKALI_FLAG_W,FCO2,FCO2_FLAG_W,FCO2TMP,PH_TOT,PH_TOT_FLAG_W,PH_TMP,TRITUM,TRITUM_FLAG_W,TRITER,HELIUM,HELIUM_FLAG_W,DELHE3,DELHE3_FLAG_W,DELC13,DELC13_FLAG_W,DELC14,DELC14_FLAG_W,C14ERR,NEON,NEON_FLAG_W,NEONER,DOC,DOC_FLAG_W,TDN,TDN_FLAG_W,CTDRAW,CDOM325,CDOM325_FLAG_W,CDOM340,CDOM340_FLAG_W,CDOM380,CDOM380_FLAG_W,CDOM412,CDOM412_FLAG_W,CDOMSL,CDOMSL_FLAG_W,CDOMSN,CDOMSN_FLAG_W,DCNS,ARABI,ARABI_FLAG_W,FUCO,FUCO_FLAG_W,GALA,GALA_FLAG_W,GLUC,GLUC_FLAG_W,MAN,MAN_FLAG_W,RHAM,RHAM_FLAG_W,BRDU,BRDU_FLAG_W,THETA,HELIER,DELHER
,,,,,,,,,,,METERS,DBAR,ITS-90,PSS-78,,PSS-78,,UMOL/KG,,UMOL/KG,,UMOL/KG,,UMOL/KG,,UMOL/KG,,UMOL/KG,,PMOL/KG,,PMOL/KG,,PMOL/KG,,UMOL/KG,,UMOL/KG,,UATM,,DEG C,,,DEG C,TU,,TU,NMOL/KG,,PERCNT,,/MILLE,,/MILLE,,/MILLE,NMOL/KG,,NMOL/KG,UMOL/KG,,UMOL/KG,,DBAR,1/M,,1/M,,1/M,,1/M,,1/NM,,1/NM,,NMOL/KG,NMOL/KG,,NMOL/KG,,NMOL/KG,,NMOL/KG,,NMOL/KG,,NMOL/KG,,PMOL/L/H,,DEG C,NMOL/KG,PERCNT
325020060213,       P16N,      47,          2,         36,         36,2,20060313,       2350,    24.9995,  -152.0002,       5361,     5.0,  22.0164,  35.2951,2,  35.2978,2,    215.6,2,   217.3,2,    0.10,2,    0.00,2,    0.00,2,    0.03,2,   2.013,2,   1.243,2,-999.000,9,  2010.6,6,  2322.4,2,    310.5,2,    20.00,   8.0606,6,    25.00,-999.000,9,-999.000,    1.720,2,  -1.386,2, -999.00,9,  -999.0,9,    -9.0,   6.981,2,   0.005,   69.01,2,    4.54,2,    5.00,   0.0330,2,   0.0190,2,  -0.0010,4,  -0.0060,4,   0.0339,2,   0.0339,2,     -999.0,     -999.0,9,     -999.0,9,     -999.0,9,     -999.0,9,     -999.0,9,     -999.0,9,    0.80,2,  22.0154,    0.001,   0.183
325020060213,       P16N,      47,          2,         35,         35,2,20060313,       2350,    24.9995,  -152.0002,       5361,    24.1,  22.0147,  35.2948,2,  35.2959,2,    216.0,2,   217.7,2,    0.10,2,    0.00,2,    0.00,2,    0.03,2,   2.002,2,   1.238,2,-999.000,9,  2010.8,2,  2324.9,2,    311.0,2,    20.00,   8.0607,2,    25.00,-999.000,9,-999.000,    1.734,2,  -0.433,3, -999.00,9,  -999.0,9,    -9.0,   6.984,2,   0.011,   70.90,2,    4.70,2,   24.10,   0.0360,2,   0.0200,2,  -0.0010,4,  -0.0050,4,   0.0339,2,   0.0339,2,     -999.0,     -999.0,9,     -999.0,9,     -999.0,9,     -999.0,9,     -999.0,9,     -999.0,9,    1.54,2,  22.0100,    0.001,   0.178
325020060213,       P16N,      47,          2,         34,         34,2,20060313,       2350,    24.9995,  -152.0002,       5361,    51.5,  22.0110,  35.2940,2,  35.2955,2,    215.2,2,   217.6,2,    0.20,2,    0.00,2,    0.00,2,    0.03,2,   1.979,2,   1.217,2,-999.000,9,  2010.4,2,  2323.7,2,    313.3,2,    20.00,   8.0598,2,    25.00,-999.000,9,-999.000,    1.731,2,  -0.405,3, -999.00,9,  -999.0,9,    -9.0,   7.012,2,   0.011,   69.27,2,    4.86,2,   51.50,   0.0350,2,   0.0200,2,  -0.0010,4,  -0.0060,4,   0.0329,2,   0.0328,2,     -999.0,     -999.0,9,     -999.0,9,     -999.0,9,     -999.0,9,     -999.0,9,     -999.0,9,    1.92,2,  22.0008,    0.001,   0.186
325020060213,       P16N,      47,          2,         33,         33,2,20060313,       2350,    24.9995,  -152.0002,       5361,    75.4,  22.0058,  35.2947,2,  35.2963,2,    214.3,2,   217.2,2,    0.10,2,    0.00,2,    0.00,2,    0.03,2,   2.012,2,   1.241,2,-999.000,9,  2010.2,2,  2323.8,2,    312.2,2,    20.00,   8.0595,2,    25.00,-999.000,9,-999.000,    1.729,2,  -1.433,2, -999.00,9,  -999.0,9,    -9.0,   6.960,2,   0.016,   66.26,2,    4.68,2,   75.40,   0.0350,2,   0.0200,2,   0.0000,4,  -0.0040,4,   0.0335,2,   0.0334,2,     -999.0,     -999.0,9,     -999.0,9,     -999.0,9,     -999.0,9,     -999.0,9,     -999.0,9,    1.37,2,  21.9909,    0.001,   0.181
325020060213,       P16N,      47,          2,         32,         32,2,20060313,       2350,    24.9995,  -152.0002,       5361,   101.4,  21.9975,  35.2982,2,  35.2983,2,    211.3,2,   217.0,2,    0.10,2,    0.00,2,    0.00,2,    0.04,2,   1.979,2,   1.231,2,-999.000,9,  2012.0,2,  2320.9,2,    312.0,2,    20.00,   8.0597,2,    25.00,-999.000,9,-999.000,-999.0000,9,-999.000,9, -999.00,9,  -999.0,9,    -9.0,-999.000,9,-999.000,   61.51,2,    4.75,2,  101.40,   0.0360,2,   0.0200,2,   0.0000,4,  -0.0040,4,   0.0337,2,   0.0337,2,     -999.0,     -999.0,9,     -999.0,9,     -999.0,9,     -999.0,9,     -999.0,9,     -999.0,9,    0.69,2,  21.9774,-999.0000,-999.000
325020060213,       P16N,      47,          2,         31,         31,2,20060313,       2350,    24.9995,  -152.0002,       5361,   125.7,  21.7811,  35.2703,2,  35.2722,2,    206.9,2,   209.9,2,    0.30,2,    0.30,2,    0.10,2,    0.06,2,   2.012,2,   1.243,2,-999.000,9,  2019.7,2,  2321.0,2,    327.9,6,    20.00,   8.0281,2,    25.00,-999.000,9,-999.000,    1.721,2,  -0.743,2, -999.00,9,  -999.0,9,    -9.0,   6.916,2,   0.015,   59.02,2,    4.92,2,  125.70,   0.0520,2,   0.0320,2,   0.0080,2,   0.0020,3,   0.0309,2,   0.0305,2,     -999.0,     -999.0,9,     -999.0,9,     -999.0,9,     -999.0,9,     -999.0,9,     -999.0,9,    0.18,2,  21.7564,    0.001,   0.187
325020060213,       P16N,      47,          2,         30,         30,2,20060313,       2350,    24.9995,  -152.0002,       5361,   150.8,  20.8154,  35.2287,2,  35.2385,2,    205.8,2,   211.0,2,    0.70,2,    0.50,2,    0.10,2,    0.07,2,   2.119,2,   1.280,2,-999.000,9,  2024.3,2,  2315.6,2,    340.2,2,    20.00,   8.0291,2,    25.00,-999.000,9,-999.000,    1.736,2,  -1.139,2, -999.00,9,  -999.0,9,    -9.0,   6.982,4,   0.081,   58.17,2,    4.38,2,  150.80,   0.0570,2,   0.0370,2,   0.0100,2,   0.0030,3,   0.0298,2,   0.0293,2,     -999.0,     -999.0,9,     -999.0,9,     -999.0,9,     -999.0,9,     -999.0,9,     -999.0,9,    0.52,2,  20.7867,    0.001,   0.177
325020060213,       P16N,      47,          2,         29,         29,2,20060313,       2350,    24.9995,  -152.0002,       5361,   201.3,  18.4211,  34.8825,2,  34.8883,2,    201.2,2,   202.5,2,    1.90,2,    2.30,2,    0.00,2,    0.22,2,   2.415,2,   1.440,2,-999.000,9,  2042.9,2,  2294.0,6,    408.8,2,    20.00,   7.9614,2,    25.00,-999.000,9,-999.000,    1.744,2,   0.066,2, -999.00,9,  -999.0,9,    -9.0,   7.202,2,   0.011,   54.58,2,    6.13,2,  201.30,   0.0850,2,   0.0590,2,   0.0220,2,   0.0130,2,   0.0259,2,   0.0256,2,     -999.0,     -999.0,9,     -999.0,9,     -999.0,9,     -999.0,9,     -999.0,9,     -999.0,9,    0.07,2,  18.3860,    0.002,   0.179
325020060213,       P16N,      47,          2,         28,         28,2,20060313,       2350,    24.9995,  -152.0002,       5361,   250.9,  15.5919,  34.5575,2,  34.5447,2,    207.5,2,   209.3,2,    4.00,2,    4.90,2,    0.00,2,    0.38,2,   2.759,2,   1.588,2,-999.000,9,  2049.8,2,  2274.5,2,    469.5,2,    20.00,   7.9116,2,    25.00,   0.717,2,   0.012,-999.0000,9,-999.000,9, -999.00,9,  -999.0,9,    -9.0,-999.000,9,-999.000,   50.85,2,    9.44,2,  250.90,   0.0890,2,   0.0620,2,   0.0250,2,   0.0170,2,   0.0240,2,   0.0241,2,     -999.0,     -999.0,9,     -999.0,9,     -999.0,9,     -999.0,9,     -999.0,9,     -999.0,9, -999.00,9,  15.5530,-999.0000,-999.000
325020060213,       P16N,      47,          2,         27,         27,2,20060313,       2350,    24.9995,  -152.0002,       5361,   300.3,  13.1890,  34.3343,2,  34.3321,2,    214.7,2,   216.1,2,    7.20,2,    8.80,2,    0.00,2,    0.61,2,   3.093,2,   1.743,2,-999.000,9,  2064.2,2,  2263.3,2,    536.7,2,    20.00,   7.8618,2,    25.00,-999.000,9,-999.000,    1.777,2,   0.811,2, -999.00,9,  -999.0,9,    -9.0,   7.415,2,   0.007,   49.53,2,   12.92,2,  300.30,   0.0820,2,   0.0560,2,   0.0220,2,   0.0130,2,   0.0259,2,   0.0260,2,     -999.0,     -999.0,9,     -999.0,9,     -999.0,9,     -999.0,9,     -999.0,9,     -999.0,9, -999.00,9,  13.1474,    0.001,   0.196
325020060213,       P16N,      47,          2,         26,         26,2,20060313,       2350,    24.9995,  -152.0002,       5361,   349.4,  11.5570,  34.2181,2,  34.2213,2,    212.7,2,   212.3,2,   11.60,2,   12.40,2,    0.00,2,    0.84,2,   3.267,2,   1.774,2,-999.000,9,  2084.7,2,  2259.7,2,    613.7,2,    20.00,   7.8130,2,    25.00,   0.876,2,   0.019,-999.0000,9,-999.000,9, -999.00,9,  -999.0,9,    -9.0,-999.000,9,-999.000,   47.93,2,   16.23,2,  349.40,   0.0830,2,   0.0560,2,   0.0220,2,   0.0140,2,   0.0258,2,   0.0263,2,    460.344,    48.9379,2,    61.1802,2,    96.3066,2,    141.138,2,    73.3296,2,    39.4512,2, -999.00,9,  11.5126,-999.0000,-999.000
325020060213,       P16N,      47,          2,         25,         25,2,20060313,       2350,    24.9995,  -152.0002,       5361,   399.7,  10.2317,  34.1561,2,  34.1538,2,    199.0,2,   199.7,2,   17.90,2,   16.40,2,    0.00,2,    1.11,2,   3.246,2,   1.723,2,-999.000,9,  2111.5,2,  2262.1,2,    716.2,2,    20.00,   7.7553,2,    25.00,-999.000,9,-999.000,    1.775,2,   3.717,2, -999.00,9,  -999.0,9,    -9.0,   7.606,2,   0.007,   46.48,2,   20.78,2,  399.70,   0.0950,2,   0.0640,2,   0.0270,2,   0.0170,2,   0.0240,2,   0.0247,2,     -999.0,     -999.0,9,     -999.0,9,     -999.0,9,     -999.0,9,     -999.0,9,     -999.0,9, -999.00,9,  10.1846,    0.001,   0.170
325020060213,       P16N,      47,          2,         24,         24,2,20060313,       2350,    24.9995,  -152.0002,       5361,   449.8,   9.1089,  34.1094,2,  34.1117,2,    180.0,2,   181.0,2,   25.10,2,   20.50,2,    0.00,2,    1.39,2,   3.032,2,   1.572,2,-999.000,9,  2137.7,2,  2266.3,2,    834.1,6,    20.00,   7.6979,2,    25.00,   0.793,2,   0.013,    1.786,2,   6.207,2, -999.00,9,  -999.0,9,    -9.0,   7.718,2,   0.005,   45.60,2,   24.28,2,  449.80,   0.1080,2,   0.0740,2,   0.0320,2,   0.0210,2,   0.0220,2,   0.0232,2,     -999.0,     -999.0,9,     -999.0,9,     -999.0,9,     -999.0,9,     -999.0,9,     -999.0,9, -999.00,9,   9.0595,    0.001,   0.187
325020060213,       P16N,      47,          2,         23,         23,4,20060313,       2350,    24.9995,  -152.0002,       5361,   501.2,   7.9001,  34.0596,2,  34.4031,4,    148.1,2,   210.4,4,    5.90,4,    7.20,4,    0.00,4,    0.52,4,   2.944,2,   1.653,4,-999.000,5,  2058.6,3,  2266.5,3,    508.2,4,    20.00,   7.8800,3,    25.00,   0.727,2,   0.013,-999.0000,9,-999.000,9, -999.00,9,  -999.0,9,    -9.0,-999.000,9,-999.000,   44.81,2,   11.18,2,  501.20,   0.0830,2,   0.0570,2,   0.0230,2,   0.0160,2,   0.0246,2,   0.0249,2,     -999.0,     -999.0,9,     -999.0,9,     -999.0,9,     -999.0,9,     -999.0,9,     -999.0,9, -999.00,9,   7.8495,-999.0000,-999.000
325020060213,       P16N,      47,          2,         22,         22,2,20060313,       2350,    24.9995,  -152.0002,       5361,   600.7,   6.1955,  34.0630,2,  34.0648,2,     81.4,2,    80.3,2,   59.50,2,   34.70,2,    0.00,2,    2.46,2,   1.157,2,   0.556,2,-999.000,9,  2252.0,2,  2292.5,2,   1650.1,2,    20.00,   7.4298,2,    25.00,   0.551,2,   0.009,    1.840,2,  17.114,2, -999.00,9,  -999.0,9,    -9.0,   8.033,2,   0.015,   44.04,2,   39.25,2,  600.70,   0.1620,2,   0.1150,2,   0.0600,2,   0.0430,2,   0.0144,3,   0.0165,3,     -999.0,     -999.0,9,     -999.0,9,     -999.0,9,     -999.0,9,     -999.0,9,     -999.0,9, -999.00,9,   6.1421,    0.001,   0.209
325020060213,       P16N,      47,          2,         21,         21,2,20060313,       2350,    24.9995,  -152.0002,       5361,   700.8,   4.9928,  34.1446,2,  34.1471,2,     39.0,2,    37.3,2,   84.30,2,   40.30,2,    0.00,2,    2.89,2,   0.296,2,   0.156,2,-999.000,9,  2307.4,2,  2319.0,2,   2102.6,2,    20.00,   7.3322,2,    25.00,   0.221,2,   0.011,    1.844,2,  16.457,2, -999.00,9,  -999.0,9,    -9.0,   7.964,2,   0.018,   43.24,2,   44.88,2,  700.80,-999.0000,9,-999.0000,9,-999.0000,9,-999.0000,9,-999.0000,9,-999.0000,9,     -999.0,     -999.0,9,     -999.0,9,     -999.0,9,     -999.0,9,     -999.0,9,     -999.0,9, -999.00,9,   4.9364,    0.001,   0.188
325020060213,       P16N,      47,          2,         20,         20,2,20060313,       2350,    24.9995,  -152.0002,       5361,   799.8,   4.5534,  34.2702,2,  34.2675,2,     19.5,2,    19.6,2,   97.80,6,   42.40,6,    0.00,6,    3.07,6,   0.051,2,   0.034,2,-999.000,9,  2335.6,6,  2338.3,2,   2240.5,2,    20.00,   7.3130,2,    25.00,   0.051,2,   0.005,    1.859,2,  13.958,2, -999.00,9,  -999.0,9,    -9.0,   8.034,2,   0.014,   42.47,2,   46.31,2,  799.80,   0.1790,2,   0.1290,2,   0.0710,2,   0.0540,2,   0.0129,3,   0.0146,3,     -999.0,     -999.0,9,     -999.0,9,     -999.0,9,     -999.0,9,     -999.0,9,     -999.0,9, -999.00,9,   4.4910,    0.001,   0.213
325020060213,       P16N,      47,          2,         19,         19,2,20060313,       2350,    24.9995,  -152.0002,       5361,   901.2,   4.2317,  34.3707,2,  34.3712,2,     23.0,2,    22.6,2,  106.00,2,   42.80,2,    0.00,2,    3.09,2,   0.013,2,   0.015,2,-999.000,9,  2346.1,2,  2354.8,2,   2147.6,2,    20.00,   7.3306,2,    25.00,   0.001,2,   0.004,    1.870,2,  14.330,3, -999.00,9,  -999.0,9,    -9.0,   7.982,2,   0.035,   41.68,2,   47.14,2,  901.20,-999.0000,9,-999.0000,9,-999.0000,9,-999.0000,9,-999.0000,9,-999.0000,9,     -999.0,     -999.0,9,     -999.0,9,     -999.0,9,     -999.0,9,     -999.0,9,     -999.0,9, -999.00,9,   4.1628,    0.003,   0.335
325020060213,       P16N,      47,          2,         18,         18,2,20060313,       2350,    24.9995,  -152.0002,       5361,  1000.1,   3.9785,  34.4325,2,  34.4358,2,     31.8,2,    31.6,2,  111.50,2,   42.60,2,    0.00,2,    3.07,2,   0.000,2,   0.004,2,-999.000,9,  2349.2,2,  2366.9,6,   2033.5,2,    20.00,   7.3633,2,    25.00,   0.001,2,   0.003,    1.903,2,  20.157,2, -999.00,9,  -999.0,9,    -9.0,   8.064,2,   0.009,   40.28,2,   46.39,2, 1000.10,   0.1680,2,   0.1200,2,   0.0680,2,   0.0510,2,   0.0126,3,   0.0144,3,     -999.0,     -999.0,9,     -999.0,9,     -999.0,9,     -999.0,9,     -999.0,9,     -999.0,9, -999.00,9,   3.9031,    0.001,   0.206
325020060213,       P16N,      47,          2,         17,         17,2,20060313,       2350,    24.9995,  -152.0002,       5361,  1200.8,   3.5078,  34.5003,2,  34.5021,2,     45.2,2,    45.3,2,  121.10,2,   42.10,2,    0.00,2,    3.02,2,   0.001,2,   0.007,2,-999.000,5,  2350.3,2,  2382.9,2,   1883.9,2,    20.00,   7.3876,2,    25.00,   0.001,2,   0.004,    1.898,2,  16.422,2, -999.00,9,  -999.0,9,    -9.0,   8.257,2,   0.011,   38.23,2,   46.22,2, 1200.80,-999.0000,9,-999.0000,9,-999.0000,9,-999.0000,9,-999.0000,9,-999.0000,9,     -999.0,     -999.0,9,     -999.0,9,     -999.0,9,     -999.0,9,     -999.0,9,     -999.0,9, -999.00,9,   3.4197,    0.004,   0.221
325020060213,       P16N,      47,          2,         16,         16,2,20060313,       2350,    24.9995,  -152.0002,       5361,  1400.7,   3.0921,  34.5398,2,  34.5410,2,     56.5,2,    56.4,2,  130.10,6,   41.30,3,    0.00,6,    2.98,6,   0.020,3,   0.012,3,-999.000,5,  2355.2,2,  2393.8,2,   1789.6,6,    20.00,   7.4115,2,    25.00,-999.000,9,-999.000,-999.0000,9,-999.000,9, -999.00,9,  -999.0,9,    -9.0,-999.000,9,-999.000,   37.41,2,   44.75,2, 1400.70,-999.0000,9,-999.0000,9,-999.0000,9,-999.0000,9,-999.0000,9,-999.0000,9,     -999.0,     -999.0,9,     -999.0,9,     -999.0,9,     -999.0,9,     -999.0,9,     -999.0,9, -999.00,9,   2.9915,-999.0000,-999.000
325020060213,       P16N,      47,          2,         15,         15,2,20060313,       2350,    24.9995,  -152.0002,       5361,  1599.8,   2.7094,  34.5733,2,  34.5755,2,     66.7,2,    66.3,2,  138.30,2,   41.40,2,    0.00,2,    2.94,2,-999.000,9,-999.000,9,-999.000,9,  2358.6,2,  2404.0,2,   1711.6,2,    20.00,   7.4287,2,    25.00,-999.000,9,-999.000,-999.0000,9,-999.000,9, -999.00,9,  -999.0,9,    -9.0,-999.000,9,-999.000,   36.40,2,   45.48,2, 1599.80,   0.1480,2,   0.1040,2,   0.0560,2,   0.0410,2,   0.0134,3,   0.0157,3,     -999.0,     -999.0,9,     -999.0,9,     -999.0,9,     -999.0,9,     -999.0,9,     -999.0,9, -999.00,9,   2.5968,-999.0000,-999.000
325020060213,       P16N,      47,          2,         14,         14,2,20060313,       2350,    24.9995,  -152.0002,       5361,  1801.9,   2.3591,  34.5976,2,  34.6007,2,     75.4,2,    75.6,2,  147.30,2,   40.80,2,    0.00,2,    2.90,2,   0.000,2,   0.009,2,-999.000,9,  2362.9,2,  2409.1,2,   1660.7,2,    20.00,   7.4516,2,    25.00,   0.001,2,   0.004,    1.930,2,  21.854,2, -999.00,9,  -999.0,9,    -9.0,   8.234,2,   0.019,   36.14,2,   45.12,2, 1801.90,   0.1460,2,   0.1020,2,   0.0540,2,   0.0400,2,   0.0138,3,   0.0162,3,     -999.0,     -999.0,9,     -999.0,9,     -999.0,9,     -999.0,9,     -999.0,9,     -999.0,9, -999.00,9,   2.2341,    0.001,   0.193
325020060213,       P16N,      47,          2,         13,         13,9,20060313,       2350,    24.9995,  -152.0002,       5361,  1998.6,   2.0970,  34.6161,2,-999.0000,9,     81.0,2,  -999.0,9, -999.00,9, -999.00,9, -999.00,9, -999.00,9,-999.000,9,-999.000,9,-999.000,9,  -999.0,9,  -999.0,9,   -999.0,9,  -999.00,-999.0000,9,  -999.00,-999.000,9,-999.000,-999.0000,9,-999.000,9, -999.00,9,  -999.0,9,    -9.0,-999.000,9,-999.000, -999.00,9, -999.00,9, 1998.60,-999.0000,9,-999.0000,9,-999.0000,9,-999.0000,9,-999.0000,9,-999.0000,9,     -999.0,     -999.0,9,     -999.0,9,     -999.0,9,     -999.0,9,     -999.0,9,     -999.0,9, -999.00,9,   1.9593,-999.0000,-999.000
325020060213,       P16N,      47,          2,         12,         12,2,20060313,       2350,    24.9995,  -152.0002,       5361,  2249.4,   1.8855,  34.6360,2,  34.6362,2,     92.6,2,    92.7,2,  159.90,2,   39.70,2,    0.00,2,    2.82,2,  -0.001,2,   0.002,2,-999.000,5,  2363.1,2,  2420.9,2,   1543.5,2,    20.00,   7.4775,2,    25.00,-999.000,9,-999.000,-999.0000,9,-999.000,9, -999.00,9,  -999.0,9,    -9.0,-999.000,9,-999.000,   35.93,2,   43.62,2, 2249.40,-999.0000,9,-999.0000,9,-999.0000,9,-999.0000,9,-999.0000,9,-999.0000,9,     -999.0,     -999.0,9,     -999.0,9,     -999.0,9,     -999.0,9,     -999.0,9,     -999.0,9, -999.00,9,   1.7296,-999.0000,-999.000
325020060213,       P16N,      47,          2,         11,         11,2,20060313,       2350,    24.9995,  -152.0002,       5361,  2500.2,   1.7363,  34.6507,2,  34.6519,2,    103.7,2,   106.0,2,  161.60,2,   39.10,2,    0.00,2,    2.78,2,-999.000,9,-999.000,9,-999.000,9,  2358.8,2,  2424.8,2,   1453.8,6,    20.00,   7.4992,2,    25.00,-999.000,9,-999.000,-999.0000,9,-999.000,9, -999.00,9,  -999.0,9,    -9.0,-999.000,9,-999.000,   36.25,2,   42.64,2, 2500.20,   0.1320,2,   0.0900,2,   0.0460,2,   0.0320,2,   0.0159,2,   0.0183,2,     -999.0,     -999.0,9,     -999.0,9,     -999.0,9,     -999.0,9,     -999.0,9,     -999.0,9, -999.00,9,   1.5609,-999.0000,-999.000
325020060213,       P16N,      47,          2,         10,         10,2,20060313,       2350,    24.9995,  -152.0002,       5361,  2750.7,   1.6369,  34.6612,2,  34.6621,2,    112.8,2,   112.9,2,  161.70,2,   38.50,2,    0.00,2,    2.73,2,-999.000,9,-999.000,9,-999.000,9,  2353.6,2,  2427.8,2,   1354.0,2,    20.00,   7.5141,6,    25.00,-999.000,9,-999.000,-999.0000,9,-999.000,9, -999.00,9,  -999.0,9,    -9.0,-999.000,9,-999.000,   36.13,2,   42.32,2, 2750.70,-999.0000,9,-999.0000,9,-999.0000,9,-999.0000,9,-999.0000,9,-999.0000,9,     -999.0,     -999.0,9,     -999.0,9,     -999.0,9,     -999.0,9,     -999.0,9,     -999.0,9, -999.00,9,   1.4406,-999.0000,-999.000