BOTTLE,20170720CCHSIOCBG
EXPOCODE,SECT_ID,STNNBR,CASTNO,SAMPNO,BTLNBR,BTLNBR_FLAG_W,DATE,TIME,LATITUDE,LONGITUDE,DEPTH,CTDPRS,CTDTMP,CTDSAL,CTDSAL_FLAG_W,SALNTY,SALNTY_FLAG_W,CTDOXY,CTDOXY_FLAG_W,OXYGEN,OXYGEN_FLAG_W,SILCAT,SILCAT_FLAG_W,NITRAT,NITRAT_FLAG_W,NITRIT,NITRIT_FLAG_W,PHSPHT,PHSPHT_FLAG_W,CFC-11,CFC-11_FLAG_W,CFC-12,CFC-12_FLAG_W,CFC113,CFC113_FLAG_W,TCARBN,TCARBN_FLAG_W,ALKALI,ALKALI_FLAG_W,FCO2,FCO2_FLAG_W,FCO2TMP,PH_TOT,PH_TOT_FLAG_W,PH_TMP,TRITUM,TRITUM_FLAG_W,TRITER,HELIUM,HELIUM_FLAG_W,DELHE3,DELHE3_FLAG_W,DELC13,DELC13_FLAG_W,DELC14,DELC14_FLAG_W,C14ERR,NEON,NEON_FLAG_W,NEONER,DOC,DOC_FLAG_W,TDN,TDN_FLAG_W,CTDRAW,CDOM325,CDOM325_FLAG_W,CDOM340,CDOM340_FLAG_W,CDOM380,CDOM380_FLAG_W,CDOM412,CDOM412_FLAG_W,CDOMSL,CDOMSL_FLAG_W,CDOMSN,CDOMSN_FLAG_W,DCNS,ARABI,ARABI_FLAG_W,FUCO,FUCO_FLAG_W,GALA,GALA_FLAG_W,GLUC,GLUC_FLAG_W,MAN,MAN_FLAG_W,RHAM,RHAM_FLAG_W,BRDU,BRDU_FLAG_W,THETA,HELIER,DELHER
,,,,,,,,,,,METERS,DBAR,ITS-90,PSS-78,,PSS-78,,UMOL/KG,,UMOL/KG,,UMOL/KG,,UMOL/KG,,UMOL/KG,,UMOL/KG,,PMOL/KG,,PMOL/KG,,PMOL/KG,,UMOL/KG,,UMOL/KG,,UATM,,DEG C,,,DEG C,TU,,TU,NMOL/KG,,PERCNT,,/MILLE,,/MILLE,,/MILLE,NMOL/KG,,NMOL/KG,UMOL/KG,,UMOL/KG,,DBAR,1/M,,1/M,,1/M,,1/M,,1/NM,,1/NM,,NMOL/KG,NMOL/KG,,NMOL/KG,,NMOL/KG,,NMOL/KG,,NMOL/KG,,NMOL/KG,,PMOL/L/H,,DEG C,NMOL/KG,PERCNT
325020060213,       P16N,       5,          2,          8,          8,2,20060216,       0417,   -12.9998,  -150.9985,       4596,  2999.4,   1.7321,  34.6790,2,  34.6772,4,    154.9,2,   154.2,2,  128.40,2,   36.00,2,    0.00,2,    2.51,2,-999.000,9,-999.000,9,-999.000,9,  2310.1,2,  2407.6,2,   -999.0,9,  -999.00,   7.5676,2,    25.00,-999.000,9,-999.000,-999.0000,9,-999.000,9, -999.00,9,  -999.0,9,    -9.0,-999.000,9,-999.000,   37.90,2,   39.51,2, 2999.40,-999.0000,9,-999.0000,9,-999.0000,9,-999.0000,9,-999.0000,9,-999.0000,9,     -999.0,     -999.0,9,     -999.0,9,     -999.0,9,     -999.0,9,     -999.0,9,     -999.0,9, -999.00,9,   1.5103,-999.0000,-999.000
325020060213,       P16N,       5,          2,          7,          7,2,20060216,       0417,   -12.9998,  -150.9985,       4596,  3250.4,   1.6537,  34.6838,2,  34.6808,4,    161.0,2,   159.2,2,  127.90,2,   35.70,2,    0.00,2,    2.48,2,   0.003,6,   0.001,6,-999.000,5,  2304.9,2,  2404.6,2,   -999.0,9,  -999.00,-999.0000,9,  -999.00,-999.000,9,-999.000,-999.0000,9,-999.000,9, -999.00,9,  -999.0,9,    -9.0,-999.000,9,-999.000,   38.05,2,   38.61,2, 3250.40,-999.0000,9,-999.0000,9,-999.0000,9,-999.0000,9,-999.0000,9,-999.0000,9,     -999.0,     -999.0,9,     -999.0,9,     -999.0,9,     -999.0,9,     -999.0,9,     -999.0,9, -999.00,9,   1.4090,-999.0000,-999.000
325020060213,       P16N,       5,          2,          6,          6,2,20060216,       0417,   -12.9998,  -150.9985,       4596,  3650.9,   1.4909,  34.6935,2,  34.6882,4,    174.7,2,   174.3,2,  122.90,2,   34.60,2,    0.00,2,    2.40,2,-999.000,9,-999.000,9,-999.000,9,  2289.7,2,  2394.7,6,   -999.0,9,  -999.00,-999.0000,9,  -999.00,-999.000,9,-999.000,-999.0000,9,-999.000,9, -999.00,9,  -999.0,9,    -9.0,-999.000,9,-999.000,   38.25,2,   38.70,2, 3650.90,-999.0000,9,-999.0000,9,-999.0000,9,-999.0000,9,-999.0000,9,-999.0000,9,     -999.0,     -999.0,9,     -999.0,9,     -999.0,9,     -999.0,9,     -999.0,9,     -999.0,9, -999.00,9,   1.2094,-999.0000,-999.000
325020060213,       P16N,       5,          2,          5,          5,2,20060216,       0417,   -12.9998,  -150.9985,       4596,  4049.0,   1.3993,  34.7000,2,  34.6973,4,    180.9,2,   181.6,2,  121.50,6,   34.20,6,    0.00,6,    2.36,6,-999.000,9,-999.000,9,-999.000,9,  2282.4,2,  2362.6,4,   -999.0,9,  -999.00,   7.6045,2,    25.00,-999.000,9,-999.000,-999.0000,9,-999.000,9, -999.00,9,  -999.0,9,    -9.0,-999.000,9,-999.000,   37.11,2,   37.39,2, 4049.00,-999.0000,9,-999.0000,9,-999.0000,9,-999.0000,9,-999.0000,9,-999.0000,9,     -999.0,     -999.0,9,     -999.0,9,     -999.0,9,     -999.0,9,     -999.0,9,     -999.0,9, -999.00,9,   1.0779,-999.0000,-999.000
325020060213,       P16N,       5,          2,          4,          4,2,20060216,       0417,   -12.9998,  -150.9985,       4596,  4250.5,   1.3550,  34.7030,2,  34.7016,4,    185.3,2,   185.1,2,  120.90,6,   33.80,6,    0.00,6,    2.34,6,-999.000,9,-999.000,9,-999.000,9,  2279.5,2,  2388.4,3,   -999.0,9,  -999.00,   7.6076,2,    25.00,-999.000,9,-999.000,-999.0000,9,-999.000,9, -999.00,9,  -999.0,9,    -9.0,-999.000,9,-999.000,   38.28,2,   37.07,2, 4250.50,-999.0000,9,-999.0000,9,-999.0000,9,-999.0000,9,-999.0000,9,-999.0000,9,     -999.0,     -999.0,9,     -999.0,9,     -999.0,9,     -999.0,9,     -999.0,9,     -999.0,9, -999.00,9,   1.0126,-999.0000,-999.000
325020060213,       P16N,       5,          2,          3,          3,2,20060216,       0417,   -12.9998,  -150.9985,       4596,  4548.8,   1.3314,  34.7055,2,  34.7002,4,    189.1,2,   188.9,2,  120.00,6,   33.50,6,    0.00,6,    2.32,6,   0.000,2,   0.000,2,-999.000,5,  2275.8,2,  2357.5,4,   -999.0,9,  -999.00,   7.6147,2,    25.00,-999.000,9,-999.000,-999.0000,9,-999.000,9, -999.00,9,  -999.0,9,    -9.0,-999.000,9,-999.000,   38.40,2,   37.06,2, 4548.80,-999.0000,9,-999.0000,9,-999.0000,9,-999.0000,9,-999.0000,9,-999.0000,9,     -999.0,     -999.0,9,     -999.0,9,     -999.0,9,     -999.0,9,     -999.0,9,     -999.0,9, -999.00,9,   0.9559,-999.0000,-999.000
325020060213,       P16N,       5,          2,          1,          1,2,20060216,       0417,   -12.9998,  -150.9985,       4596,  4725.8,   1.3244,  34.7068,2,  34.6991,4,    191.1,2,   190.6,2,  119.80,2,   33.60,2,    0.00,2,    2.31,2,   0.001,2,   0.000,2,-999.000,5,  2275.4,6,  2372.6,3,   -999.0,9,  -999.00,   7.6146,2,    25.00,-999.000,9,-999.000,-999.0000,9,-999.000,9, -999.00,9,  -999.0,9,    -9.0,-999.000,9,-999.000,   38.43,2,   36.96,2, 4725.80,-999.0000,9,-999.0000,9,-999.0000,9,-999.0000,9,-999.0000,9,-999.0000,9,     -999.0,     -999.0,9,     -999.0,9,     -999.0,9,     -999.0,9,     -999.0,9,     -999.0,9, -999.00,9,   0.9286,-999.0000,-999.000