BOTTLE,20170720CCHSIOCBG
EXPOCODE,SECT_ID,STNNBR,CASTNO,SAMPNO,BTLNBR,BTLNBR_FLAG_W,DATE,TIME,LATITUDE,LONGITUDE,DEPTH,CTDPRS,CTDTMP,CTDSAL,CTDSAL_FLAG_W,SALNTY,SALNTY_FLAG_W,CTDOXY,CTDOXY_FLAG_W,OXYGEN,OXYGEN_FLAG_W,SILCAT,SILCAT_FLAG_W,NITRAT,NITRAT_FLAG_W,NITRIT,NITRIT_FLAG_W,PHSPHT,PHSPHT_FLAG_W,CFC-11,CFC-11_FLAG_W,CFC-12,CFC-12_FLAG_W,CFC113,CFC113_FLAG_W,TCARBN,TCARBN_FLAG_W,ALKALI,ALKALI_FLAG_W,FCO2,FCO2_FLAG_W,FCO2TMP,PH_TOT,PH_TOT_FLAG_W,PH_TMP,TRITUM,TRITUM_FLAG_W,TRITER,HELIUM,HELIUM_FLAG_W,DELHE3,DELHE3_FLAG_W,DELC13,DELC13_FLAG_W,DELC14,DELC14_FLAG_W,C14ERR,NEON,NEON_FLAG_W,NEONER,DOC,DOC_FLAG_W,TDN,TDN_FLAG_W,CTDRAW,CDOM325,CDOM325_FLAG_W,CDOM340,CDOM340_FLAG_W,CDOM380,CDOM380_FLAG_W,CDOM412,CDOM412_FLAG_W,CDOMSL,CDOMSL_FLAG_W,CDOMSN,CDOMSN_FLAG_W,DCNS,ARABI,ARABI_FLAG_W,FUCO,FUCO_FLAG_W,GALA,GALA_FLAG_W,GLUC,GLUC_FLAG_W,MAN,MAN_FLAG_W,RHAM,RHAM_FLAG_W,BRDU,BRDU_FLAG_W,THETA,HELIER,DELHER
,,,,,,,,,,,METERS,DBAR,ITS-90,PSS-78,,PSS-78,,UMOL/KG,,UMOL/KG,,UMOL/KG,,UMOL/KG,,UMOL/KG,,UMOL/KG,,PMOL/KG,,PMOL/KG,,PMOL/KG,,UMOL/KG,,UMOL/KG,,UATM,,DEG C,,,DEG C,TU,,TU,NMOL/KG,,PERCNT,,/MILLE,,/MILLE,,/MILLE,NMOL/KG,,NMOL/KG,UMOL/KG,,UMOL/KG,,DBAR,1/M,,1/M,,1/M,,1/M,,1/NM,,1/NM,,NMOL/KG,NMOL/KG,,NMOL/KG,,NMOL/KG,,NMOL/KG,,NMOL/KG,,NMOL/KG,,PMOL/L/H,,DEG C,NMOL/KG,PERCNT
325020060213,       P16N,       3,          1,         35,         35,2,20060215,       0922,        -15,     -150.8,       4495,     5.0,  29.3749,  36.0306,2,  36.0220,4,    192.7,2,   193.7,2,    0.00,2,    0.00,2,    0.00,2,    0.18,2,   1.500,2,   0.939,2,-999.000,5,  1997.6,6,  2360.6,2,   -999.0,9,  -999.00,   8.1397,2,    25.00,-999.000,9,-999.000,-999.0000,9,-999.000,9, -999.00,5,    59.6,2,     3.4,-999.000,9,-999.000,   74.99,2,    4.64,2,    5.00,-999.0000,9,-999.0000,9,-999.0000,9,-999.0000,9,-999.0000,9,-999.0000,9,     -999.0,     -999.0,9,     -999.0,9,     -999.0,9,     -999.0,9,     -999.0,9,     -999.0,9, -999.00,9,  29.3737,-999.0000,-999.000
325020060213,       P16N,       3,          1,         34,         34,2,20060215,       0922,        -15,     -150.8,       4495,    24.6,  29.2778,  36.0133,2,  36.0089,4,    194.5,2,   194.2,2,    0.00,2,    0.10,2,    0.00,2,    0.18,2,   1.508,6,   0.950,6,-999.000,5,  1995.4,2,  2355.8,2,   -999.0,9,  -999.00,   8.1334,2,    25.00,   0.339,2,   0.005,   1.6975,2,   -1.95,2, -999.00,9,  -999.0,9,    -9.0,   6.583,2,   0.020,   75.05,2,    4.92,2,   24.60,-999.0000,9,-999.0000,9,-999.0000,9,-999.0000,9,-999.0000,9,-999.0000,9,     -999.0,     -999.0,9,     -999.0,9,     -999.0,9,     -999.0,9,     -999.0,9,     -999.0,9, -999.00,9,  29.2718,   0.0051,    0.14
325020060213,       P16N,       3,          1,         33,         33,2,20060215,       0922,        -15,     -150.8,       4495,    50.0,  29.1915,  36.0324,2,  36.0239,4,    194.8,2,   194.8,2,    0.00,2,    0.00,2,    0.00,2,    0.18,2,-999.000,9,-999.000,9,-999.000,9,  1996.1,2,  2353.7,2,   -999.0,9,  -999.00,   8.1384,2,    25.00,-999.000,9,-999.000,   1.6997,2,   -2.07,2, -999.00,5,    67.2,2,     3.3,   6.594,2,   0.020,   72.57,2,    4.61,2,   50.00,-999.0000,9,-999.0000,9,-999.0000,9,-999.0000,9,-999.0000,9,-999.0000,9,     -999.0,     -999.0,9,     -999.0,9,     -999.0,9,     -999.0,9,     -999.0,9,     -999.0,9, -999.00,9,  29.1794,   0.0051,    0.14
325020060213,       P16N,       3,          1,         32,         32,2,20060215,       0922,        -15,     -150.8,       4495,    75.3,  28.5877,  36.0662,2,  36.0668,4,    204.5,2,   204.0,2,    0.10,2,    0.00,2,    0.00,2,    0.16,2,   1.587,2,   0.989,2,-999.000,5,  1996.6,2,  2358.6,2,   -999.0,9,  -999.00,   8.1426,2,    25.00,   0.391,2,   0.005,   1.7010,2,   -1.89,2, -999.00,5,    69.6,2,     3.4,   6.670,2,   0.020,   74.01,2,    4.06,2,   75.30,-999.0000,9,-999.0000,9,-999.0000,9,-999.0000,9,-999.0000,9,-999.0000,9,     -999.0,     -999.0,9,     -999.0,9,     -999.0,9,     -999.0,9,     -999.0,9,     -999.0,9, -999.00,9,  28.5697,   0.0051,    0.14
325020060213,       P16N,       3,          1,         31,         31,2,20060215,       0922,        -15,     -150.8,       4495,   100.7,  27.5832,  36.1546,2,  36.1422,4,    203.2,2,   203.0,2,    0.10,2,    0.10,2,    0.00,2,    0.18,2,-999.000,9,-999.000,9,-999.000,9,  2008.2,2,  2367.2,2,   -999.0,9,  -999.00,-999.0000,9,  -999.00,-999.000,9,-999.000,   1.7039,2,   -1.77,2, -999.00,5,    66.2,2,     3.6,   6.702,2,   0.020,   71.15,2,    4.46,2,  100.70,-999.0000,9,-999.0000,9,-999.0000,9,-999.0000,9,-999.0000,9,-999.0000,9,     -999.0,     -999.0,9,     -999.0,9,     -999.0,9,     -999.0,9,     -999.0,9,     -999.0,9, -999.00,9,  27.5596,   0.0051,    0.14
325020060213,       P16N,       3,          1,         30,         30,2,20060215,       0922,        -15,     -150.8,       4495,   124.7,  26.6611,  36.2245,2,  36.2364,4,    195.5,2,   195.2,2,    0.10,2,    0.10,2,    0.00,2,    0.20,2,   1.706,2,   1.064,2,-999.000,5,  2034.7,2,  2369.1,2,   -999.0,9,  -999.00,   8.1008,2,    25.00,   0.283,3,   0.005,   1.7218,2,   -1.69,2, -999.00,5,    79.9,2,     3.0,   6.779,2,   0.020,   67.98,2,    4.52,2,  124.70,-999.0000,9,-999.0000,9,-999.0000,9,-999.0000,9,-999.0000,9,-999.0000,9,     -999.0,     -999.0,9,     -999.0,9,     -999.0,9,     -999.0,9,     -999.0,9,     -999.0,9, -999.00,9,  26.6326,   0.0052,    0.14
325020060213,       P16N,       3,          1,         29,         29,9,20060215,       0922,        -15,     -150.8,       4495,   149.6,  25.4335,  36.2573,2,-999.0000,9,    183.3,2,  -999.0,9,    0.20,2,    0.30,2,    0.10,2,    0.28,2,-999.000,9,-999.000,9,-999.000,9,  -999.0,9,  -999.0,9,   -999.0,9,  -999.00,-999.0000,9,  -999.00,-999.000,9,-999.000,-999.0000,9,-999.000,9, -999.00,9,  -999.0,9,    -9.0,-999.000,9,-999.000, -999.00,9, -999.00,9,  149.60,-999.0000,9,-999.0000,9,-999.0000,9,-999.0000,9,-999.0000,9,-999.0000,9,     -999.0,     -999.0,9,     -999.0,9,     -999.0,9,     -999.0,9,     -999.0,9,     -999.0,9, -999.00,9,  25.4005,-999.0000,-999.000
325020060213,       P16N,       3,          1,         28,         28,2,20060215,       0922,        -15,     -150.8,       4495,   200.6,  23.3317,  36.2310,2,  36.1778,4,    172.2,2,   172.5,2,    0.40,2,    3.00,2,    0.10,2,    0.45,2,   2.004,2,   1.192,2,-999.000,5,  2095.2,2,  2375.1,2,   -999.0,9,  -999.00,   8.0031,2,    25.00,   0.302,2,   0.005,   1.7109,2,   -1.43,2, -999.00,5,    85.3,2,     3.6,   6.836,2,   0.021,   57.87,2,    6.72,2,  200.60,-999.0000,9,-999.0000,9,-999.0000,9,-999.0000,9,-999.0000,9,-999.0000,9,     -999.0,     -999.0,9,     -999.0,9,     -999.0,9,     -999.0,9,     -999.0,9,     -999.0,9, -999.00,9,  23.2900,   0.0051,    0.14
325020060213,       P16N,       3,          1,         27,         27,2,20060215,       0922,        -15,     -150.8,       4495,   249.9,  20.4607,  35.8055,2,  35.7834,4,    168.8,2,   169.2,2,    0.70,2,    5.10,2,    0.00,2,    0.58,2,   2.181,2,   1.276,2,-999.000,5,  2103.9,2,  2349.9,2,   -999.0,9,  -999.00,   7.9469,2,    25.00,-999.000,9,-999.000,   1.7380,2,   -0.96,2, -999.00,5,    75.3,2,     4.3,   6.968,2,   0.021,   52.39,2,    9.66,2,  249.90,-999.0000,9,-999.0000,9,-999.0000,9,-999.0000,9,-999.0000,9,-999.0000,9,     -999.0,     -999.0,9,     -999.0,9,     -999.0,9,     -999.0,9,     -999.0,9,     -999.0,9, -999.00,9,  20.4134,   0.0052,    0.14
325020060213,       P16N,       3,          1,         26,         26,2,20060215,       0922,        -15,     -150.8,       4495,   300.5,  17.1078,  35.3474,2,  35.3237,4,    163.7,2,   162.4,2,    2.50,2,    8.90,2,    0.00,2,    0.78,2,   2.201,2,   1.211,2,-999.000,5,  2111.2,2,  2318.1,2,   -999.0,9,  -999.00,   7.8788,2,    25.00,   0.363,2,   0.003,   1.7557,2,   -0.14,2, -999.00,5,    78.8,2,     3.1,   7.167,2,   0.022,   46.41,2,   13.00,2,  300.50,-999.0000,9,-999.0000,9,-999.0000,9,-999.0000,9,-999.0000,9,-999.0000,9,     -999.0,     -999.0,9,     -999.0,9,     -999.0,9,     -999.0,9,     -999.0,9,     -999.0,9, -999.00,9,  17.0577,   0.0053,    0.14
325020060213,       P16N,       3,          1,         25,         25,2,20060215,       0922,        -15,     -150.8,       4495,   351.0,  13.4323,  34.9164,2,  34.8891,4,    144.7,2,   145.3,2,    6.90,2,   15.80,2,    0.00,2,    1.25,2,   1.849,2,   0.984,2,-999.000,5,  2140.2,2,  2294.4,2,   -999.0,9,  -999.00,   7.7689,2,    25.00,   0.261,2,   0.002,   1.7878,2,    1.06,2, -999.00,5,    48.0,2,     3.0,   7.415,2,   0.022,   45.28,2,   19.91,2,  351.00,-999.0000,9,-999.0000,9,-999.0000,9,-999.0000,9,-999.0000,9,-999.0000,9,     -999.0,     -999.0,9,     -999.0,9,     -999.0,9,     -999.0,9,     -999.0,9,     -999.0,9, -999.00,9,  13.3828,   0.0054,    0.14
325020060213,       P16N,       3,          1,         24,         24,2,20060215,       0922,        -15,     -150.8,       4495,   399.8,  11.2876,  34.7137,2,  34.7076,4,    130.8,2,   130.1,2,   11.30,2,   21.10,2,    0.00,2,    1.58,2,   1.380,2,   0.707,2,-999.000,5,  2166.7,2,  2286.1,2,   -999.0,9,  -999.00,   7.6853,2,    25.00,   0.194,2,   0.002,   1.8002,2,    1.44,2, -999.00,5,    12.0,2,     3.3,   7.498,2,   0.022,   43.80,2,   25.35,2,  399.80,-999.0000,9,-999.0000,9,-999.0000,9,-999.0000,9,-999.0000,9,-999.0000,9,     -999.0,     -999.0,9,     -999.0,9,     -999.0,9,     -999.0,9,     -999.0,9,     -999.0,9, -999.00,9,  11.2371,   0.0054,    0.14
325020060213,       P16N,       3,          1,         23,         23,2,20060215,       0922,        -15,     -150.8,       4495,   450.3,   9.5775,  34.5978,2,  34.5910,4,    121.8,2,   120.8,2,   16.80,2,   26.20,2,    0.00,2,    1.88,2,   0.926,2,   0.489,2,-999.000,5,  2187.8,6,  2284.5,2,   -999.0,9,  -999.00,-999.0000,9,  -999.00,   0.154,2,   0.002,   1.7761,2,    2.72,2, -999.00,5,   -19.2,2,     3.7,   7.524,2,   0.023,   43.32,2,   30.33,2,  450.30,-999.0000,9,-999.0000,9,-999.0000,9,-999.0000,9,-999.0000,9,-999.0000,9,     -999.0,     -999.0,9,     -999.0,9,     -999.0,9,     -999.0,9,     -999.0,9,     -999.0,9, -999.00,9,   9.5262,   0.0053,    0.14
325020060213,       P16N,       3,          1,         22,         22,2,20060215,       0922,        -15,     -150.8,       4495,   500.1,   8.3964,  34.5335,2,  34.5272,4,    126.5,2,   126.2,2,   20.90,2,   28.80,2,    0.00,2,    2.00,2,   0.665,2,   0.349,2,-999.000,5,  2196.4,2,  2285.4,2,   -999.0,9,  -999.00,-999.0000,9,  -999.00,   0.105,2,   0.002,   1.7991,2,    4.16,2, -999.00,5,   -44.6,2,     3.2,   7.634,2,   0.023,   41.34,2,   32.71,2,  500.10,-999.0000,9,-999.0000,9,-999.0000,9,-999.0000,9,-999.0000,9,-999.0000,9,     -999.0,     -999.0,9,     -999.0,9,     -999.0,9,     -999.0,9,     -999.0,9,     -999.0,9, -999.00,9,   8.3436,   0.0054,    0.14
325020060213,       P16N,       3,          1,         21,         21,2,20060215,       0922,        -15,     -150.8,       4495,   601.0,   6.7418,  34.4776,2,  34.4740,4,    142.7,2,   141.9,2,   29.00,2,   31.30,2,    0.00,2,    2.12,2,   0.354,2,   0.145,2,-999.000,5,  2204.7,2,  2291.8,2,   -999.0,9,  -999.00,   7.5932,2,    25.00,   0.067,2,   0.002,   1.8409,2,    7.75,2, -999.00,5,   -78.6,2,     3.2,   7.780,2,   0.023,   40.19,2,   35.63,2,  601.00,-999.0000,9,-999.0000,9,-999.0000,9,-999.0000,9,-999.0000,9,-999.0000,9,     -999.0,     -999.0,9,     -999.0,9,     -999.0,9,     -999.0,9,     -999.0,9,     -999.0,9, -999.00,9,   6.6855,   0.0055,    0.14
325020060213,       P16N,       3,          1,         20,         20,2,20060215,       0922,        -15,     -150.8,       4495,   700.8,   5.7842,  34.4629,2,  34.4431,4,    147.4,2,   147.4,2,   37.90,2,   33.00,2,    0.00,2,    2.21,2,   0.133,2,   0.072,2,-999.000,5,  2213.9,2,  2293.4,2,   -999.0,9,  -999.00,-999.0000,9,  -999.00,   0.051,2,   0.001,   1.8370,2,   14.00,2, -999.00,5,  -107.5,2,     3.1,   7.805,2,   0.023,   39.29,2,   36.56,2,  700.80,-999.0000,9,-999.0000,9,-999.0000,9,-999.0000,9,-999.0000,9,-999.0000,9,     -999.0,     -999.0,9,     -999.0,9,     -999.0,9,     -999.0,9,     -999.0,9,     -999.0,9, -999.00,9,   5.7232,   0.0055,    0.14
325020060213,       P16N,       3,          1,         19,         19,2,20060215,       0922,        -15,     -150.8,       4495,   801.2,   5.0679,  34.4735,2,  34.4680,4,    144.3,2,   144.3,2,   49.10,2,   34.50,2,    0.00,2,    2.33,2,-999.000,9,-999.000,9,-999.000,9,  2230.0,2,  2311.4,2,   -999.0,9,  -999.00,-999.0000,9,  -999.00,   0.043,2,   0.001,   1.8718,2,   15.88,2, -999.00,5,  -121.8,2,     3.5,   7.858,2,   0.024,   38.42,2,   38.37,2,  801.20,-999.0000,9,-999.0000,9,-999.0000,9,-999.0000,9,-999.0000,9,-999.0000,9,     -999.0,     -999.0,9,     -999.0,9,     -999.0,9,     -999.0,9,     -999.0,9,     -999.0,9, -999.00,9,   5.0019,   0.0056,    0.14
325020060213,       P16N,       3,          1,         18,         18,2,20060215,       0922,        -15,     -150.8,       4495,   900.8,   4.6023,  34.4907,2,  34.4749,4,    140.2,2,   139.4,2,   58.40,2,   35.50,2,    0.00,2,    2.40,2,   0.025,2,   0.015,2,-999.000,5,  2239.2,3,  2320.2,2,   -999.0,9,  -999.00,   7.5639,2,    25.00,   0.019,2,   0.001,   1.8741,2,   15.37,2, -999.00,9,  -999.0,9,    -9.0,   7.955,2,   0.024,   37.77,2,   39.77,2,  900.80,-999.0000,9,-999.0000,9,-999.0000,9,-999.0000,9,-999.0000,9,-999.0000,9,     -999.0,     -999.0,9,     -999.0,9,     -999.0,9,     -999.0,9,     -999.0,9,     -999.0,9, -999.00,9,   4.5306,   0.0056,    0.14
325020060213,       P16N,       3,          1,         17,         17,2,20060215,       0922,        -15,     -150.8,       4495,  1001.4,   4.1227,  34.5143,2,  34.5110,4,    135.4,2,   135.2,2,   69.80,2,   36.40,2,    0.00,2,    2.48,2,-999.000,9,-999.000,9,-999.000,9,  2257.7,2,  2332.2,6,   -999.0,9,  -999.00,   7.5540,2,    25.00,   0.030,2,   0.002,   1.9252,2,   17.47,2, -999.00,9,  -999.0,9,    -9.0,   8.101,2,   0.024,   36.75,2,   39.93,2, 1001.40,-999.0000,9,-999.0000,9,-999.0000,9,-999.0000,9,-999.0000,9,-999.0000,9,     -999.0,     -999.0,9,     -999.0,9,     -999.0,9,     -999.0,9,     -999.0,9,     -999.0,9, -999.00,9,   4.0459,   0.0058,    0.14
325020060213,       P16N,       3,          1,         16,         16,2,20060215,       0922,        -15,     -150.8,       4495,  1201.5,   3.5066,  34.5469,2,  34.5363,4,    134.3,2,   135.1,2,   82.90,2,   36.90,2,    0.00,2,    2.53,2,   0.010,2,   0.001,2,-999.000,5,  2273.4,2,  2343.2,2,   -999.0,9,  -999.00,   7.5514,2,    25.00,-999.000,9,-999.000,   1.9108,2,   19.45,2, -999.00,9,  -999.0,9,    -9.0,   8.015,2,   0.024,   37.32,2,   40.59,2, 1201.50,-999.0000,9,-999.0000,9,-999.0000,9,-999.0000,9,-999.0000,9,-999.0000,9,     -999.0,     -999.0,9,     -999.0,9,     -999.0,9,     -999.0,9,     -999.0,9,     -999.0,9, -999.00,9,   3.4184,   0.0057,    0.14
325020060213,       P16N,       3,          1,         15,         15,2,20060215,       0922,        -15,     -150.8,       4495,  1401.7,   3.0422,  34.5732,2,  34.5718,4,    138.3,2,   138.5,2,   92.90,2,   37.00,2,    0.00,2,    2.54,2,  -0.001,2,   0.000,2,-999.000,5,  2282.6,2,  2355.1,2,   -999.0,9,  -999.00,   7.5514,2,    25.00,-999.000,9,-999.000,   1.9218,2,   21.27,2, -999.00,9,  -999.0,9,    -9.0,   8.101,2,   0.024,   37.85,2,   40.27,2, 1401.70,-999.0000,9,-999.0000,9,-999.0000,9,-999.0000,9,-999.0000,9,-999.0000,9,     -999.0,     -999.0,9,     -999.0,9,     -999.0,9,     -999.0,9,     -999.0,9,     -999.0,9, -999.00,9,   2.9421,   0.0058,    0.14
325020060213,       P16N,       3,          1,         14,         14,2,20060215,       0922,        -15,     -150.8,       4495,  1601.1,   2.6858,  34.5975,2,  34.5893,4,    140.5,2,   141.0,2,  101.60,2,   36.90,2,    0.00,2,    2.54,2,-999.000,9,-999.000,9,-999.000,9,  2289.4,2,  2367.3,2,   -999.0,9,  -999.00,   7.5589,2,    25.00,-999.000,9,-999.000,-999.0000,9,-999.000,9, -999.00,9,  -999.0,9,    -9.0,-999.000,9,-999.000,   36.55,2,   40.51,2, 1601.10,-999.0000,9,-999.0000,9,-999.0000,9,-999.0000,9,-999.0000,9,-999.0000,9,     -999.0,     -999.0,9,     -999.0,9,     -999.0,9,     -999.0,9,     -999.0,9,     -999.0,9, -999.00,9,   2.5732,-999.0000,-999.000
325020060213,       P16N,       3,          1,         13,         13,2,20060215,       0922,        -15,     -150.8,       4495,  1800.5,   2.3961,  34.6188,2,  34.6042,4,    143.8,2,   144.6,2,  108.70,2,   36.70,2,    0.00,2,    2.54,2,   0.000,4,  -0.002,4,-999.000,5,  2295.6,2,  2374.7,2,   -999.0,9,  -999.00,   7.5640,2,    25.00,-999.000,9,-999.000,-999.0000,9,-999.000,9, -999.00,9,  -999.0,9,    -9.0,-999.000,9,-999.000,   35.40,2,   40.36,2, 1800.50,-999.0000,9,-999.0000,9,-999.0000,9,-999.0000,9,-999.0000,9,-999.0000,9,     -999.0,     -999.0,9,     -999.0,9,     -999.0,9,     -999.0,9,     -999.0,9,     -999.0,9, -999.00,9,   2.2707,-999.0000,-999.000
325020060213,       P16N,       3,          1,         12,         12,2,20060215,       0922,        -15,     -150.8,       4495,  1999.8,   2.1909,  34.6352,2,  34.6219,4,    147.3,2,   147.7,2,  113.80,2,   36.50,2,    0.00,2,    2.53,2,-999.000,9,-999.000,9,-999.000,9,  2299.7,2,  2381.6,2,   -999.0,9,  -999.00,   7.5661,2,    25.00,-999.000,9,-999.000,-999.0000,9,-999.000,9, -999.00,9,  -999.0,9,    -9.0,-999.000,9,-999.000,   35.67,2,   39.94,2, 1999.80,-999.0000,9,-999.0000,9,-999.0000,9,-999.0000,9,-999.0000,9,-999.0000,9,     -999.0,     -999.0,9,     -999.0,9,     -999.0,9,     -999.0,9,     -999.0,9,     -999.0,9, -999.00,9,   2.0516,-999.0000,-999.000
325020060213,       P16N,       3,          1,         11,         11,2,20060215,       0922,        -15,     -150.8,       4495,  2200.0,   2.0507,  34.6475,2,  34.6317,4,    149.2,2,   149.3,2,  117.90,2,   36.50,2,    0.00,2,    2.53,2,  -0.002,2,   0.000,2,-999.000,5,  2302.6,2,  2382.9,2,   -999.0,9,  -999.00,   7.5697,2,    25.00,-999.000,9,-999.000,-999.0000,9,-999.000,9, -999.00,9,  -999.0,9,    -9.0,-999.000,9,-999.000,   35.28,2,   39.99,2, 2200.00,-999.0000,9,-999.0000,9,-999.0000,9,-999.0000,9,-999.0000,9,-999.0000,9,     -999.0,     -999.0,9,     -999.0,9,     -999.0,9,     -999.0,9,     -999.0,9,     -999.0,9, -999.00,9,   1.8963,-999.0000,-999.000
325020060213,       P16N,       3,          1,         10,         10,2,20060215,       0922,        -15,     -150.8,       4495,  2401.8,   1.9551,  34.6571,2,  34.6397,4,    150.5,2,   150.3,2,  121.30,2,   36.70,2,    0.00,2,    2.53,2,-999.000,9,-999.000,9,-999.000,9,  2305.2,2,  2387.4,2,   -999.0,9,  -999.00,   7.5769,2,    25.00,-999.000,9,-999.000,-999.0000,9,-999.000,9, -999.00,9,  -999.0,9,    -9.0,-999.000,9,-999.000,   36.13,2,   40.55,2, 2401.80,-999.0000,9,-999.0000,9,-999.0000,9,-999.0000,9,-999.0000,9,-999.0000,9,     -999.0,     -999.0,9,     -999.0,9,     -999.0,9,     -999.0,9,     -999.0,9,     -999.0,9, -999.00,9,   1.7845,-999.0000,-999.000
325020060213,       P16N,       3,          1,          9,          9,2,20060215,       0922,        -15,     -150.8,       4495,  2599.8,   1.8766,  34.6652,2,  34.6555,4,    150.8,2,   150.9,2,  124.60,2,   36.40,2,    0.00,2,    2.52,2,-999.000,1,-999.000,1,-999.000,9,  2308.5,2,  2390.6,2,   -999.0,9,  -999.00,   7.5756,2,    25.00,-999.000,9,-999.000,-999.0000,9,-999.000,9, -999.00,9,  -999.0,9,    -9.0,-999.000,9,-999.000,   36.13,2,   40.06,2, 2599.80,-999.0000,9,-999.0000,9,-999.0000,9,-999.0000,9,-999.0000,9,-999.0000,9,     -999.0,     -999.0,9,     -999.0,9,     -999.0,9,     -999.0,9,     -999.0,9,     -999.0,9, -999.00,9,   1.6894,-999.0000,-999.000