BOTTLE,20170720CCHSIOCBG
EXPOCODE,SECT_ID,STNNBR,CASTNO,SAMPNO,BTLNBR,BTLNBR_FLAG_W,DATE,TIME,LATITUDE,LONGITUDE,DEPTH,CTDPRS,CTDTMP,CTDSAL,CTDSAL_FLAG_W,SALNTY,SALNTY_FLAG_W,CTDOXY,CTDOXY_FLAG_W,OXYGEN,OXYGEN_FLAG_W,SILCAT,SILCAT_FLAG_W,NITRAT,NITRAT_FLAG_W,NITRIT,NITRIT_FLAG_W,PHSPHT,PHSPHT_FLAG_W,CFC-11,CFC-11_FLAG_W,CFC-12,CFC-12_FLAG_W,CFC113,CFC113_FLAG_W,TCARBN,TCARBN_FLAG_W,ALKALI,ALKALI_FLAG_W,FCO2,FCO2_FLAG_W,FCO2TMP,PH_TOT,PH_TOT_FLAG_W,PH_TMP,TRITUM,TRITUM_FLAG_W,TRITER,HELIUM,HELIUM_FLAG_W,DELHE3,DELHE3_FLAG_W,DELC13,DELC13_FLAG_W,DELC14,DELC14_FLAG_W,C14ERR,NEON,NEON_FLAG_W,NEONER,DOC,DOC_FLAG_W,TDN,TDN_FLAG_W,CTDRAW,CDOM325,CDOM325_FLAG_W,CDOM340,CDOM340_FLAG_W,CDOM380,CDOM380_FLAG_W,CDOM412,CDOM412_FLAG_W,CDOMSL,CDOMSL_FLAG_W,CDOMSN,CDOMSN_FLAG_W,DCNS,ARABI,ARABI_FLAG_W,FUCO,FUCO_FLAG_W,GALA,GALA_FLAG_W,GLUC,GLUC_FLAG_W,MAN,MAN_FLAG_W,RHAM,RHAM_FLAG_W,BRDU,BRDU_FLAG_W,THETA,HELIER,DELHER
,,,,,,,,,,,METERS,DBAR,ITS-90,PSS-78,,PSS-78,,UMOL/KG,,UMOL/KG,,UMOL/KG,,UMOL/KG,,UMOL/KG,,UMOL/KG,,PMOL/KG,,PMOL/KG,,PMOL/KG,,UMOL/KG,,UMOL/KG,,UATM,,DEG C,,,DEG C,TU,,TU,NMOL/KG,,PERCNT,,/MILLE,,/MILLE,,/MILLE,NMOL/KG,,NMOL/KG,UMOL/KG,,UMOL/KG,,DBAR,1/M,,1/M,,1/M,,1/M,,1/NM,,1/NM,,NMOL/KG,NMOL/KG,,NMOL/KG,,NMOL/KG,,NMOL/KG,,NMOL/KG,,NMOL/KG,,PMOL/L/H,,DEG C,NMOL/KG,PERCNT
325020060213,       P16N,      63,          1,          9,          9,2,20060321,       0837,         41,       -152,       4995,  2800.7,   1.6077,  34.6537,2,  34.6515,2,     98.8,2,    99.3,2,  171.00,2,   39.70,2,    0.00,2,    2.81,2,-999.000,9,-999.000,9,-999.000,9,  2363.2,2,  2422.6,2,   -999.0,9,  -999.00,   7.4826,2,    25.00,-999.000,9,-999.000,-999.0000,9,-999.000,9, -999.00,9,  -999.0,9,    -9.0,-999.000,9,-999.000,   37.15,2,   43.46,2, 2800.70,-999.0000,9,-999.0000,9,-999.0000,9,-999.0000,9,-999.0000,9,-999.0000,9,     -999.0,     -999.0,9,     -999.0,9,     -999.0,9,     -999.0,9,     -999.0,9,     -999.0,9, -999.00,9,   1.4075,-999.0000,-999.000
325020060213,       P16N,      63,          1,          8,          8,2,20060321,       0837,         41,       -152,       4995,  2999.1,   1.5592,  34.6622,2,  34.6610,2,    108.8,2,   108.8,2,  169.60,2,   39.00,2,    0.00,2,    2.76,2,   0.007,2,  -0.001,2,-999.000,5,  2356.9,2,  2424.4,2,   -999.0,9,  -999.00,   7.5046,6,    25.00,-999.000,9,-999.000,-999.0000,9,-999.000,9, -999.00,9,  -999.0,9,    -9.0,-999.000,9,-999.000,   37.77,2,   43.03,2, 2999.10,-999.0000,9,-999.0000,9,-999.0000,9,-999.0000,9,-999.0000,9,-999.0000,9,     -999.0,     -999.0,9,     -999.0,9,     -999.0,9,     -999.0,9,     -999.0,9,     -999.0,9, -999.00,9,   1.3412,-999.0000,-999.000
325020060213,       P16N,      63,          1,          7,          7,2,20060321,       0837,         41,       -152,       4995,  3298.8,   1.5039,  34.6728,2,  34.6715,2,    121.9,2,   121.8,2,  168.30,2,   38.10,2,    0.00,2,    2.69,2,-999.000,9,-999.000,9,-999.000,9,  2349.7,2,  2412.5,3,   -999.0,9,  -999.00,   7.5284,2,    25.00,-999.000,9,-999.000,-999.0000,9,-999.000,9, -999.00,9,  -999.0,9,    -9.0,-999.000,9,-999.000,   37.12,2,   41.24,2, 3298.80,-999.0000,9,-999.0000,9,-999.0000,9,-999.0000,9,-999.0000,9,-999.0000,9,     -999.0,     -999.0,9,     -999.0,9,     -999.0,9,     -999.0,9,     -999.0,9,     -999.0,9, -999.00,9,   1.2580,-999.0000,-999.000
325020060213,       P16N,      63,          1,          6,          6,2,20060321,       0837,         41,       -152,       4995,  3598.7,   1.4852,  34.6793,2,  34.6817,3,    130.0,2,   129.7,2,  169.00,2,   37.60,2,    0.00,2,    2.65,2,-999.000,9,-999.000,9,-999.000,9,  2345.0,2,  2425.8,2,   -999.0,9,  -999.00,   7.5455,2,    25.00,-999.000,9,-999.000,-999.0000,9,-999.000,9, -999.00,9,  -999.0,9,    -9.0,-999.000,9,-999.000,   37.54,2,   41.06,2, 3598.70,-999.0000,9,-999.0000,9,-999.0000,9,-999.0000,9,-999.0000,9,-999.0000,9,     -999.0,     -999.0,9,     -999.0,9,     -999.0,9,     -999.0,9,     -999.0,9,     -999.0,9, -999.00,9,   1.2093,-999.0000,-999.000
325020060213,       P16N,      63,          1,          5,          5,2,20060321,       0837,         41,       -152,       4995,  3897.7,   1.4846,  34.6838,2,  34.6841,2,    135.7,2,   134.8,2,  169.60,2,   37.50,2,    0.00,2,    2.63,2,   0.005,2,   0.000,2,-999.000,5,  2342.8,2,  2426.8,2,   -999.0,9,  -999.00,   7.5590,3,    25.00,-999.000,9,-999.000,-999.0000,9,-999.000,9, -999.00,9,  -999.0,9,    -9.0,-999.000,9,-999.000,   36.68,2,   41.42,2, 3897.70,-999.0000,9,-999.0000,9,-999.0000,9,-999.0000,9,-999.0000,9,-999.0000,9,     -999.0,     -999.0,9,     -999.0,9,     -999.0,9,     -999.0,9,     -999.0,9,     -999.0,9, -999.00,9,   1.1772,-999.0000,-999.000
325020060213,       P16N,      63,          1,          4,          4,2,20060321,       0837,         41,       -152,       4995,  4199.3,   1.4985,  34.6863,2,  34.6850,2,    139.4,2,   137.8,2,  169.50,6,   37.00,6,    0.00,6,    2.61,6,-999.000,9,-999.000,9,-999.000,9,  2341.2,2,  2430.2,2,   -999.0,9,  -999.00,   7.5681,2,    25.00,-999.000,9,-999.000,-999.0000,9,-999.000,9, -999.00,9,  -999.0,9,    -9.0,-999.000,9,-999.000,   37.54,2,   40.67,2, 4199.30,-999.0000,9,-999.0000,9,-999.0000,9,-999.0000,9,-999.0000,9,-999.0000,9,     -999.0,     -999.0,9,     -999.0,9,     -999.0,9,     -999.0,9,     -999.0,9,     -999.0,9, -999.00,9,   1.1576,-999.0000,-999.000
325020060213,       P16N,      63,          1,          3,          3,2,20060321,       0837,         41,       -152,       4995,  4498.7,   1.5224,  34.6882,2,  34.6870,2,    141.4,2,   139.8,2,  170.80,6,   36.80,6,    0.00,6,    2.60,6,   0.013,3,   0.000,2,-999.000,5,  2340.9,2,  2432.2,2,   -999.0,9,  -999.00,   7.5711,2,    25.00,-999.000,9,-999.000,-999.0000,9,-999.000,9, -999.00,9,  -999.0,9,    -9.0,-999.000,9,-999.000,   36.72,2,   40.88,2, 4498.70,-999.0000,9,-999.0000,9,-999.0000,9,-999.0000,9,-999.0000,9,-999.0000,9,     -999.0,     -999.0,9,     -999.0,9,     -999.0,9,     -999.0,9,     -999.0,9,     -999.0,9, -999.00,9,   1.1468,-999.0000,-999.000
325020060213,       P16N,      63,          1,          2,          2,2,20060321,       0837,         41,       -152,       4995,  4801.0,   1.5570,  34.6888,2,  34.6893,2,    141.4,2,   140.2,2,  170.90,6,   37.00,6,    0.00,6,    2.60,6,-999.000,9,-999.000,9,-999.000,9,  2341.6,2,  2434.3,2,   -999.0,9,  -999.00,   7.5719,2,    25.00,-999.000,9,-999.000,-999.0000,9,-999.000,9, -999.00,9,  -999.0,9,    -9.0,-999.000,9,-999.000,   35.89,2,   40.20,2, 4801.00,-999.0000,9,-999.0000,9,-999.0000,9,-999.0000,9,-999.0000,9,-999.0000,9,     -999.0,     -999.0,9,     -999.0,9,     -999.0,9,     -999.0,9,     -999.0,9,     -999.0,9, -999.00,9,   1.1449,-999.0000,-999.000
325020060213,       P16N,      63,          1,          1,          1,2,20060321,       0837,         41,       -152,       4995,  5118.9,   1.5971,  34.6887,2,  34.6921,3,    141.7,2,   140.3,2,  171.00,2,   37.20,2,    0.00,2,    2.61,2,   0.006,2,   0.000,2,-999.000,5,  2342.2,6,  2433.5,2,   -999.0,9,  -999.00,   7.5718,2,    25.00,-999.000,9,-999.000,-999.0000,9,-999.000,9, -999.00,9,  -999.0,9,    -9.0,-999.000,9,-999.000,   35.41,2,   40.27,2, 5118.90,-999.0000,9,-999.0000,9,-999.0000,9,-999.0000,9,-999.0000,9,-999.0000,9,     -999.0,     -999.0,9,     -999.0,9,     -999.0,9,     -999.0,9,     -999.0,9,     -999.0,9, -999.00,9,   1.1449,-999.0000,-999.000