BOTTLE,20170720CCHSIOCBG
EXPOCODE,SECT_ID,STNNBR,CASTNO,SAMPNO,BTLNBR,BTLNBR_FLAG_W,DATE,TIME,LATITUDE,LONGITUDE,DEPTH,CTDPRS,CTDTMP,CTDSAL,CTDSAL_FLAG_W,SALNTY,SALNTY_FLAG_W,CTDOXY,CTDOXY_FLAG_W,OXYGEN,OXYGEN_FLAG_W,SILCAT,SILCAT_FLAG_W,NITRAT,NITRAT_FLAG_W,NITRIT,NITRIT_FLAG_W,PHSPHT,PHSPHT_FLAG_W,CFC-11,CFC-11_FLAG_W,CFC-12,CFC-12_FLAG_W,CFC113,CFC113_FLAG_W,TCARBN,TCARBN_FLAG_W,ALKALI,ALKALI_FLAG_W,FCO2,FCO2_FLAG_W,FCO2TMP,PH_TOT,PH_TOT_FLAG_W,PH_TMP,TRITUM,TRITUM_FLAG_W,TRITER,HELIUM,HELIUM_FLAG_W,DELHE3,DELHE3_FLAG_W,DELC13,DELC13_FLAG_W,DELC14,DELC14_FLAG_W,C14ERR,NEON,NEON_FLAG_W,NEONER,DOC,DOC_FLAG_W,TDN,TDN_FLAG_W,CTDRAW,CDOM325,CDOM325_FLAG_W,CDOM340,CDOM340_FLAG_W,CDOM380,CDOM380_FLAG_W,CDOM412,CDOM412_FLAG_W,CDOMSL,CDOMSL_FLAG_W,CDOMSN,CDOMSN_FLAG_W,DCNS,ARABI,ARABI_FLAG_W,FUCO,FUCO_FLAG_W,GALA,GALA_FLAG_W,GLUC,GLUC_FLAG_W,MAN,MAN_FLAG_W,RHAM,RHAM_FLAG_W,BRDU,BRDU_FLAG_W,THETA,HELIER,DELHER
,,,,,,,,,,,METERS,DBAR,ITS-90,PSS-78,,PSS-78,,UMOL/KG,,UMOL/KG,,UMOL/KG,,UMOL/KG,,UMOL/KG,,UMOL/KG,,PMOL/KG,,PMOL/KG,,PMOL/KG,,UMOL/KG,,UMOL/KG,,UATM,,DEG C,,,DEG C,TU,,TU,NMOL/KG,,PERCNT,,/MILLE,,/MILLE,,/MILLE,NMOL/KG,,NMOL/KG,UMOL/KG,,UMOL/KG,,DBAR,1/M,,1/M,,1/M,,1/M,,1/NM,,1/NM,,NMOL/KG,NMOL/KG,,NMOL/KG,,NMOL/KG,,NMOL/KG,,NMOL/KG,,NMOL/KG,,PMOL/L/H,,DEG C,NMOL/KG,PERCNT
325020060213,       P16N,      52,          1,          9,          9,2,20060316,       0708,         30,       -152,       5326,  2874.4,   1.5894,  34.6629,2,  34.6628,2,    110.3,2,   110.4,2,  168.30,6,   38.50,2,    0.00,6,    2.71,6,-999.000,9,-999.000,9,-999.000,9,  2358.5,2,  2429.0,2,   -999.0,9,  -999.00,   7.5107,2,    25.00,-999.000,9,-999.000,-999.0000,9,-999.000,9, -999.00,9,  -999.0,9,    -9.0,-999.000,9,-999.000,   37.80,2,   42.64,2, 2874.40,-999.0000,9,-999.0000,9,-999.0000,9,-999.0000,9,-999.0000,9,-999.0000,9,     -999.0,     -999.0,9,     -999.0,9,     -999.0,9,     -999.0,9,     -999.0,9,     -999.0,9, -999.00,9,   1.3826,-999.0000,-999.000
325020060213,       P16N,      52,          1,          8,          8,2,20060316,       0708,         30,       -152,       5326,  3124.3,   1.5146,  34.6720,2,  34.6715,2,    122.0,2,   122.4,2,  165.10,6,   38.20,6,    0.00,6,    2.65,6,   0.035,4,   0.004,2,-999.000,9,  2349.7,2,  2428.7,2,   -999.0,9,  -999.00,   7.5317,2,    25.00,-999.000,9,-999.000,-999.0000,9,-999.000,9, -999.00,9,  -999.0,9,    -9.0,-999.000,9,-999.000,   37.48,2,   42.05,2, 3124.30,-999.0000,9,-999.0000,9,-999.0000,9,-999.0000,9,-999.0000,9,-999.0000,9,     -999.0,     -999.0,9,     -999.0,9,     -999.0,9,     -999.0,9,     -999.0,9,     -999.0,9, -999.00,9,   1.2855,-999.0000,-999.000
325020060213,       P16N,      52,          1,          7,          7,2,20060316,       0708,         30,       -152,       5326,  3450.2,   1.4664,  34.6807,2,  34.6811,2,    134.1,2,   134.5,2,  161.20,2,   37.30,2,    0.00,2,    2.59,2,-999.000,9,-999.000,9,-999.000,9,  2341.1,2,  2430.4,6,   -999.0,9,  -999.00,   7.5532,2,    25.00,-999.000,9,-999.000,-999.0000,9,-999.000,9, -999.00,9,  -999.0,9,    -9.0,-999.000,9,-999.000,   36.49,2,   40.77,2, 3450.20,-999.0000,9,-999.0000,9,-999.0000,9,-999.0000,9,-999.0000,9,-999.0000,9,     -999.0,     -999.0,9,     -999.0,9,     -999.0,9,     -999.0,9,     -999.0,9,     -999.0,9, -999.00,9,   1.2061,-999.0000,-999.000
325020060213,       P16N,      52,          1,          6,          6,2,20060316,       0708,         30,       -152,       5326,  3850.5,   1.4601,  34.6860,2,  34.6839,2,    142.1,2,   142.9,2,  157.80,2,   36.30,3,    0.00,2,    2.54,2,-999.000,9,-999.000,9,-999.000,9,  2335.5,2,  2428.8,2,   -999.0,9,  -999.00,   7.5684,2,    25.00,-999.000,9,-999.000,-999.0000,9,-999.000,9, -999.00,9,  -999.0,9,    -9.0,-999.000,9,-999.000,   36.81,2,   40.03,2, 3850.50,-999.0000,9,-999.0000,9,-999.0000,9,-999.0000,9,-999.0000,9,-999.0000,9,     -999.0,     -999.0,9,     -999.0,9,     -999.0,9,     -999.0,9,     -999.0,9,     -999.0,9, -999.00,9,   1.1584,-999.0000,-999.000
325020060213,       P16N,      52,          1,          5,          5,2,20060316,       0708,         30,       -152,       5326,  4300.1,   1.4716,  34.6903,2,  34.6902,2,    149.0,2,   149.9,2,  153.30,6,   35.90,2,    0.00,6,    2.49,6,-999.000,9,-999.000,9,-999.000,9,  2329.1,2,  2426.1,2,   -999.0,9,  -999.00,   7.5815,2,    25.00,-999.000,9,-999.000,-999.0000,9,-999.000,9, -999.00,9,  -999.0,9,    -9.0,-999.000,9,-999.000,   37.19,2,   39.54,2, 4300.10,-999.0000,9,-999.0000,9,-999.0000,9,-999.0000,9,-999.0000,9,-999.0000,9,     -999.0,     -999.0,9,     -999.0,9,     -999.0,9,     -999.0,9,     -999.0,9,     -999.0,9, -999.00,9,   1.1203,-999.0000,-999.000
325020060213,       P16N,      52,          1,          4,          4,2,20060316,       0708,         30,       -152,       5326,  4801.0,   1.5108,  34.6925,2,  34.6918,2,    154.5,2,   154.5,2,  148.40,6,   35.90,6,    0.00,6,    2.46,6,-999.000,9,-999.000,9,-999.000,9,  2324.7,2,  2423.8,2,   -999.0,9,  -999.00,   7.5910,3,    25.00,-999.000,9,-999.000,-999.0000,9,-999.000,9, -999.00,9,  -999.0,9,    -9.0,-999.000,9,-999.000,   36.93,2,   39.24,2, 4801.00,-999.0000,9,-999.0000,9,-999.0000,9,-999.0000,9,-999.0000,9,-999.0000,9,     -999.0,     -999.0,9,     -999.0,9,     -999.0,9,     -999.0,9,     -999.0,9,     -999.0,9, -999.00,9,   1.1002,-999.0000,-999.000
325020060213,       P16N,      52,          1,          3,          3,2,20060316,       0708,         30,       -152,       5326,  5000.3,   1.5301,  34.6928,2,-999.0000,5,    155.6,2,   155.9,2,  147.40,6,   36.00,6,    0.00,6,    2.45,6,-999.000,9,-999.000,9,-999.000,9,  2323.9,2,  2423.8,2,   -999.0,9,  -999.00,   7.5894,2,    25.00,-999.000,9,-999.000,-999.0000,9,-999.000,9, -999.00,9,  -999.0,9,    -9.0,-999.000,9,-999.000,   37.11,2,   38.99,2, 5000.30,-999.0000,9,-999.0000,9,-999.0000,9,-999.0000,9,-999.0000,9,-999.0000,9,     -999.0,     -999.0,9,     -999.0,9,     -999.0,9,     -999.0,9,     -999.0,9,     -999.0,9, -999.00,9,   1.0947,-999.0000,-999.000
325020060213,       P16N,      52,          1,          2,          2,2,20060316,       0708,         30,       -152,       5326,  5250.1,   1.5455,  34.6936,2,  34.6947,2,    158.6,2,   158.5,2,  145.40,6,   35.50,6,    0.00,6,    2.44,6,   0.012,3,   0.000,2,-999.000,9,  2321.4,6,  2420.7,2,   -999.0,9,  -999.00,   7.5896,2,    25.00,-999.000,9,-999.000,-999.0000,9,-999.000,9, -999.00,9,  -999.0,9,    -9.0,-999.000,9,-999.000,   37.32,2,   39.27,2, 5250.10,-999.0000,9,-999.0000,9,-999.0000,9,-999.0000,9,-999.0000,9,-999.0000,9,     -999.0,     -999.0,9,     -999.0,9,     -999.0,9,     -999.0,9,     -999.0,9,     -999.0,9, -999.00,9,   1.0789,-999.0000,-999.000
325020060213,       P16N,      52,          1,          1,          1,2,20060316,       0708,         30,       -152,       5326,  5479.0,   1.5670,  34.6940,2,  34.6930,2,    160.2,2,   160.3,2,  143.80,2,   35.70,2,    0.00,2,    2.45,2,   0.007,3,  -0.001,2,-999.000,9,  2318.6,2,  2418.1,2,   -999.0,9,  -999.00,   7.5914,2,    25.00,-999.000,9,-999.000,-999.0000,9,-999.000,9, -999.00,9,  -999.0,9,    -9.0,-999.000,9,-999.000,   36.94,2,   39.02,2, 5479.00,-999.0000,9,-999.0000,9,-999.0000,9,-999.0000,9,-999.0000,9,-999.0000,9,     -999.0,     -999.0,9,     -999.0,9,     -999.0,9,     -999.0,9,     -999.0,9,     -999.0,9, -999.00,9,   1.0707,-999.0000,-999.000