BOTTLE,20170720CCHSIOCBG
EXPOCODE,SECT_ID,STNNBR,CASTNO,SAMPNO,BTLNBR,BTLNBR_FLAG_W,DATE,TIME,LATITUDE,LONGITUDE,DEPTH,CTDPRS,CTDTMP,CTDSAL,CTDSAL_FLAG_W,SALNTY,SALNTY_FLAG_W,CTDOXY,CTDOXY_FLAG_W,OXYGEN,OXYGEN_FLAG_W,SILCAT,SILCAT_FLAG_W,NITRAT,NITRAT_FLAG_W,NITRIT,NITRIT_FLAG_W,PHSPHT,PHSPHT_FLAG_W,CFC-11,CFC-11_FLAG_W,CFC-12,CFC-12_FLAG_W,CFC113,CFC113_FLAG_W,TCARBN,TCARBN_FLAG_W,ALKALI,ALKALI_FLAG_W,FCO2,FCO2_FLAG_W,FCO2TMP,PH_TOT,PH_TOT_FLAG_W,PH_TMP,TRITUM,TRITUM_FLAG_W,TRITER,HELIUM,HELIUM_FLAG_W,DELHE3,DELHE3_FLAG_W,DELC13,DELC13_FLAG_W,DELC14,DELC14_FLAG_W,C14ERR,NEON,NEON_FLAG_W,NEONER,DOC,DOC_FLAG_W,TDN,TDN_FLAG_W,CTDRAW,CDOM325,CDOM325_FLAG_W,CDOM340,CDOM340_FLAG_W,CDOM380,CDOM380_FLAG_W,CDOM412,CDOM412_FLAG_W,CDOMSL,CDOMSL_FLAG_W,CDOMSN,CDOMSN_FLAG_W,DCNS,ARABI,ARABI_FLAG_W,FUCO,FUCO_FLAG_W,GALA,GALA_FLAG_W,GLUC,GLUC_FLAG_W,MAN,MAN_FLAG_W,RHAM,RHAM_FLAG_W,BRDU,BRDU_FLAG_W,THETA,HELIER,DELHER
,,,,,,,,,,,METERS,DBAR,ITS-90,PSS-78,,PSS-78,,UMOL/KG,,UMOL/KG,,UMOL/KG,,UMOL/KG,,UMOL/KG,,UMOL/KG,,PMOL/KG,,PMOL/KG,,PMOL/KG,,UMOL/KG,,UMOL/KG,,UATM,,DEG C,,,DEG C,TU,,TU,NMOL/KG,,PERCNT,,/MILLE,,/MILLE,,/MILLE,NMOL/KG,,NMOL/KG,UMOL/KG,,UMOL/KG,,DBAR,1/M,,1/M,,1/M,,1/M,,1/NM,,1/NM,,NMOL/KG,NMOL/KG,,NMOL/KG,,NMOL/KG,,NMOL/KG,,NMOL/KG,,NMOL/KG,,PMOL/L/H,,DEG C,NMOL/KG,PERCNT
325020060213,       P16N,      77,          1,          9,          9,2,20060328,       1429,       55.5,  -152.8803,       5352,  3300.7,   1.4846,  34.6736,2,  34.6743,2,    129.4,2,   130.1,2,  161.10,2,   36.30,2,    0.00,2,    2.66,2,-999.000,9,-999.000,9,-999.000,9,  2343.6,2,  2423.8,2,   1333.1,2,    20.00,   7.5367,2,    25.00,-999.000,9,-999.000,-999.0000,9,-999.000,9, -999.00,5,  -223.6,2,     3.4,-999.000,9,-999.000,   35.85,2,   39.59,2, 3300.70,   0.1400,2,   0.0960,2,   0.0510,2,   0.0380,2,   0.0136,3,   0.0163,3,     -999.0,     -999.0,9,     -999.0,9,     -999.0,9,     -999.0,9,     -999.0,9,     -999.0,9, -999.00,9,   1.2390,-999.0000,-999.000
325020060213,       P16N,      77,          1,          8,          8,2,20060328,       1429,       55.5,  -152.8803,       5352,  3600.4,   1.4670,  34.6797,2,  34.6802,2,    137.4,2,   137.6,2,  159.90,2,   35.80,2,    0.00,2,    2.63,2,-999.000,9,-999.000,9,-999.000,9,  2338.0,2,  2424.5,2,   1262.5,2,    20.00,   7.5513,2,    25.00,-999.000,9,-999.000,-999.0000,9,-999.000,9, -999.00,5,  -226.2,2,     2.6,-999.000,9,-999.000,   36.03,2,   38.59,2, 3600.40,   0.1380,2,   0.0940,2,   0.0500,2,   0.0380,2,   0.0136,3,   0.0163,3,     -999.0,     -999.0,9,     -999.0,9,     -999.0,9,     -999.0,9,     -999.0,9,     -999.0,9, -999.00,9,   1.1914,-999.0000,-999.000
325020060213,       P16N,      77,          1,          7,          7,4,20060328,       1429,       55.5,  -152.8803,       5352,  3901.0,   1.4606,  34.6845,2,  34.6715,4,    143.5,2,   125.5,4,  162.10,4,   37.00,4,    0.00,4,    2.68,4,   0.014,3,   0.006,3,-999.000,5,  2346.0,4,  2423.8,4,   1351.4,4,    20.00,   7.5281,3,    25.00,-999.000,9,-999.000,-999.0000,9,-999.000,9, -999.00,9,  -999.0,9,    -9.0,-999.000,9,-999.000,   36.06,2,   40.32,2, 3901.00,   0.1420,2,   0.0980,2,   0.0530,2,   0.0410,2,   0.0128,3,   0.0155,3,     -999.0,     -999.0,9,     -999.0,9,     -999.0,9,     -999.0,9,     -999.0,9,     -999.0,9, -999.00,9,   1.1535,-999.0000,-999.000
325020060213,       P16N,      77,          1,          6,          6,2,20060328,       1429,       55.5,  -152.8803,       5352,  4199.9,   1.4674,  34.6875,2,  34.6879,2,    147.9,2,   147.5,2,  156.90,2,   34.90,2,    0.00,2,    2.57,2,-999.000,9,-999.000,9,-999.000,9,  2330.6,2,  2422.1,2,   1213.9,2,    20.00,   7.5695,2,    25.00,-999.000,9,-999.000,-999.0000,9,-999.000,9, -999.00,5,  -222.5,2,     2.9,-999.000,9,-999.000,   36.80,2,   37.91,2, 4199.90,   0.1330,2,   0.0910,2,   0.0480,2,   0.0360,2,   0.0134,3,   0.0163,3,     -999.0,     -999.0,9,     -999.0,9,     -999.0,9,     -999.0,9,     -999.0,9,     -999.0,9, -999.00,9,   1.1274,-999.0000,-999.000
325020060213,       P16N,      77,          1,          5,          5,2,20060328,       1429,       55.5,  -152.8803,       5352,  4500.9,   1.4806,  34.6898,2,  34.6906,2,    151.9,2,   151.7,2,  154.30,2,   34.70,2,    0.00,2,    2.55,2,-999.000,9,-999.000,9,-999.000,9,  2327.1,2,  2421.3,2,   -999.0,5,  -999.00,   7.5749,2,    25.00,-999.000,9,-999.000,-999.0000,9,-999.000,9, -999.00,9,  -999.0,9,    -9.0,-999.000,9,-999.000,   36.60,2,   38.25,2, 4500.90,   0.1330,2,   0.0910,2,   0.0480,2,   0.0370,2,   0.0130,3,   0.0159,3,     -999.0,     -999.0,9,     -999.0,9,     -999.0,9,     -999.0,9,     -999.0,9,     -999.0,9, -999.00,9,   1.1061,-999.0000,-999.000
325020060213,       P16N,      77,          1,          4,          4,2,20060328,       1429,       55.5,  -152.8803,       5352,  4799.7,   1.4978,  34.6914,2,  34.6950,3,    155.6,2,   155.2,2,  151.00,6,   34.60,6,    0.00,6,    2.52,6,   0.001,2,   0.004,2,-999.000,5,  2323.2,2,  2419.6,2,   -999.0,5,  -999.00,   7.5801,2,    25.00,-999.000,9,-999.000,-999.0000,9,-999.000,9, -999.00,5,  -212.2,2,     2.4,-999.000,9,-999.000,   36.10,2,   37.83,2, 4799.70,   0.1300,2,   0.0880,2,   0.0470,2,   0.0370,2,   0.0127,3,   0.0157,3,     -999.0,     -999.0,9,     -999.0,9,     -999.0,9,     -999.0,9,     -999.0,9,     -999.0,9, -999.00,9,   1.0877,-999.0000,-999.000
325020060213,       P16N,      77,          1,          3,          3,2,20060328,       1429,       55.5,  -152.8803,       5352,  5000.8,   1.5150,  34.6922,2,  34.6956,3,    156.9,2,   156.4,2,  149.80,6,   34.40,6,    0.00,6,    2.54,6,-999.000,9,-999.000,9,-999.000,9,  2321.7,2,  2417.7,2,   -999.0,5,  -999.00,   7.5808,2,    25.00,-999.000,9,-999.000,-999.0000,9,-999.000,9, -999.00,5,  -206.4,2,     2.7,-999.000,9,-999.000,   36.69,2,   37.95,2, 5000.80,   0.1330,2,   0.0910,2,   0.0480,2,   0.0380,2,   0.0127,3,   0.0157,3,     -999.0,     -999.0,9,     -999.0,9,     -999.0,9,     -999.0,9,     -999.0,9,     -999.0,9, -999.00,9,   1.0801,-999.0000,-999.000
325020060213,       P16N,      77,          1,          2,          2,2,20060328,       1429,       55.5,  -152.8803,       5352,  5249.5,   1.5371,  34.6928,2,  34.6953,2,    158.5,2,   158.5,2,  148.10,6,   34.30,6,    0.00,6,    2.62,5,   0.013,3,   0.014,3,-999.000,5,  2318.2,2,  2417.7,2,   -999.0,5,  -999.00,   7.5810,2,    25.00,   0.001,2,   0.002,-999.0000,9,-999.000,9, -999.00,5,  -204.9,2,     2.6,-999.000,9,-999.000,   36.35,2,   37.89,2, 5249.50,   0.1350,2,   0.0920,2,   0.0500,2,   0.0390,2,   0.0122,3,   0.0152,3,     -999.0,     -999.0,9,     -999.0,9,     -999.0,9,     -999.0,9,     -999.0,9,     -999.0,9, -999.00,9,   1.0708,-999.0000,-999.000
325020060213,       P16N,      77,          1,          1,          1,4,20060328,       1429,       55.5,  -152.8803,       5352,  5481.8,   1.5656,  34.6930,2,  34.6863,4,    158.1,2,   141.2,4,  159.30,4,   36.00,4,    0.00,4,    2.36,4,   0.009,3,   0.015,3,-999.000,5,  2336.0,6,  2422.3,4,   -999.0,5,  -999.00,   7.5586,2,    25.00,   0.001,2,   0.002,-999.0000,9,-999.000,9, -999.00,5,  -221.6,2,     2.2,-999.000,9,-999.000,   35.81,2,   39.02,2, 5481.80,   0.1390,2,   0.0950,2,   0.0520,2,   0.0420,2,   0.0117,3,   0.0145,3,     -999.0,     -999.0,9,     -999.0,9,     -999.0,9,     -999.0,9,     -999.0,9,     -999.0,9, -999.00,9,   1.0690,-999.0000,-999.000