BOTTLE,20170720CCHSIOCBG
EXPOCODE,SECT_ID,STNNBR,CASTNO,SAMPNO,BTLNBR,BTLNBR_FLAG_W,DATE,TIME,LATITUDE,LONGITUDE,DEPTH,CTDPRS,CTDTMP,CTDSAL,CTDSAL_FLAG_W,SALNTY,SALNTY_FLAG_W,CTDOXY,CTDOXY_FLAG_W,OXYGEN,OXYGEN_FLAG_W,SILCAT,SILCAT_FLAG_W,NITRAT,NITRAT_FLAG_W,NITRIT,NITRIT_FLAG_W,PHSPHT,PHSPHT_FLAG_W,CFC-11,CFC-11_FLAG_W,CFC-12,CFC-12_FLAG_W,CFC113,CFC113_FLAG_W,TCARBN,TCARBN_FLAG_W,ALKALI,ALKALI_FLAG_W,FCO2,FCO2_FLAG_W,FCO2TMP,PH_TOT,PH_TOT_FLAG_W,PH_TMP,TRITUM,TRITUM_FLAG_W,TRITER,HELIUM,HELIUM_FLAG_W,DELHE3,DELHE3_FLAG_W,DELC13,DELC13_FLAG_W,DELC14,DELC14_FLAG_W,C14ERR,NEON,NEON_FLAG_W,NEONER,DOC,DOC_FLAG_W,TDN,TDN_FLAG_W,CTDRAW,CDOM325,CDOM325_FLAG_W,CDOM340,CDOM340_FLAG_W,CDOM380,CDOM380_FLAG_W,CDOM412,CDOM412_FLAG_W,CDOMSL,CDOMSL_FLAG_W,CDOMSN,CDOMSN_FLAG_W,DCNS,ARABI,ARABI_FLAG_W,FUCO,FUCO_FLAG_W,GALA,GALA_FLAG_W,GLUC,GLUC_FLAG_W,MAN,MAN_FLAG_W,RHAM,RHAM_FLAG_W,BRDU,BRDU_FLAG_W,THETA,HELIER,DELHER
,,,,,,,,,,,METERS,DBAR,ITS-90,PSS-78,,PSS-78,,UMOL/KG,,UMOL/KG,,UMOL/KG,,UMOL/KG,,UMOL/KG,,UMOL/KG,,PMOL/KG,,PMOL/KG,,PMOL/KG,,UMOL/KG,,UMOL/KG,,UATM,,DEG C,,,DEG C,TU,,TU,NMOL/KG,,PERCNT,,/MILLE,,/MILLE,,/MILLE,NMOL/KG,,NMOL/KG,UMOL/KG,,UMOL/KG,,DBAR,1/M,,1/M,,1/M,,1/M,,1/NM,,1/NM,,NMOL/KG,NMOL/KG,,NMOL/KG,,NMOL/KG,,NMOL/KG,,NMOL/KG,,NMOL/KG,,PMOL/L/H,,DEG C,NMOL/KG,PERCNT
325020060213,       P16N,      28,          1,          8,          8,9,20060224,       1547,     5.9998,    -151.16,       4992,  2876.1,   1.7268,  34.6771,2,-999.0000,9,    122.3,2,  -999.0,9, -999.00,9, -999.00,9, -999.00,9, -999.00,9,-999.000,9,-999.000,9,-999.000,9,  -999.0,9,  -999.0,9,   -999.0,9,  -999.00,-999.0000,9,  -999.00,-999.000,9,-999.000,-999.0000,9,-999.000,9, -999.00,9,  -999.0,9,    -9.0,-999.000,9,-999.000, -999.00,9, -999.00,9, 2876.10,-999.0000,9,-999.0000,9,-999.0000,9,-999.0000,9,-999.0000,9,-999.0000,9,     -999.0,     -999.0,9,     -999.0,9,     -999.0,9,     -999.0,9,     -999.0,9,     -999.0,9, -999.00,9,   1.5168,-999.0000,-999.000
325020060213,       P16N,      28,          1,          7,          7,2,20060224,       1547,     5.9998,    -151.16,       4992,  3125.1,   1.6403,  34.6820,2,  34.6810,2,    129.2,2,   132.1,2,  151.20,2,   37.60,2,    0.00,2,    2.62,2,-999.000,9,-999.000,9,-999.000,9,  2347.3,2,  2432.4,2,   1242.7,2,    20.00,   7.5580,2,    25.00,-999.000,9,-999.000,-999.0000,9,-999.000,9, -999.00,9,  -999.0,9,    -9.0,-999.000,9,-999.000,   38.14,2,   41.56,2, 3125.10,-999.0000,9,-999.0000,9,-999.0000,9,-999.0000,9,-999.0000,9,-999.0000,9,     -999.0,     -999.0,9,     -999.0,9,     -999.0,9,     -999.0,9,     -999.0,9,     -999.0,9, -999.00,9,   1.4082,-999.0000,-999.000
325020060213,       P16N,      28,          1,          6,          6,2,20060224,       1547,     5.9998,    -151.16,       4992,  3450.3,   1.5264,  34.6884,2,  34.6865,2,    141.1,2,   143.4,2,  148.70,2,   36.90,2,    0.00,2,    2.55,2,-999.000,9,-999.000,9,-999.000,9,  2336.3,2,  2429.9,6,   1182.3,2,    20.00,   7.5805,2,    25.00,-999.000,9,-999.000,-999.0000,9,-999.000,9, -999.00,9,  -999.0,9,    -9.0,-999.000,9,-999.000,   39.67,2,   40.32,2, 3450.30,-999.0000,9,-999.0000,9,-999.0000,9,-999.0000,9,-999.0000,9,-999.0000,9,     -999.0,     -999.0,9,     -999.0,9,     -999.0,9,     -999.0,9,     -999.0,9,     -999.0,9, -999.00,9,   1.2647,-999.0000,-999.000
325020060213,       P16N,      28,          1,          5,          5,2,20060224,       1547,     5.9998,    -151.16,       4992,  3850.5,   1.4300,  34.6951,2,  34.6941,2,    156.3,2,   157.3,2,  143.40,6,   36.00,6,    0.00,6,    2.47,6,   0.000,2,  -0.001,2,-999.000,5,  2324.9,2,  2426.6,2,   1127.0,6,    20.00,   7.5902,2,    25.00,-999.000,9,-999.000,-999.0000,9,-999.000,9, -999.00,9,  -999.0,9,    -9.0,-999.000,9,-999.000,   39.27,2,   39.77,2, 3850.50,-999.0000,9,-999.0000,9,-999.0000,9,-999.0000,9,-999.0000,9,-999.0000,9,     -999.0,     -999.0,9,     -999.0,9,     -999.0,9,     -999.0,9,     -999.0,9,     -999.0,9, -999.00,9,   1.1291,-999.0000,-999.000
325020060213,       P16N,      28,          1,          4,          4,2,20060224,       1547,     5.9998,    -151.16,       4992,  4299.3,   1.3794,  34.6997,2,  34.6976,2,    167.0,2,   166.8,2,  138.80,6,   35.30,6,    0.00,6,    2.42,6,-999.000,9,-999.000,9,-999.000,9,  2314.3,2,  2419.2,2,   1094.9,2,    20.00,   7.6040,2,    25.00,-999.000,9,-999.000,-999.0000,9,-999.000,9, -999.00,9,  -999.0,9,    -9.0,-999.000,9,-999.000,   38.93,2,   39.10,2, 4299.30,-999.0000,9,-999.0000,9,-999.0000,9,-999.0000,9,-999.0000,9,-999.0000,9,     -999.0,     -999.0,9,     -999.0,9,     -999.0,9,     -999.0,9,     -999.0,9,     -999.0,9, -999.00,9,   1.0308,-999.0000,-999.000
325020060213,       P16N,      28,          1,          3,          3,2,20060224,       1547,     5.9998,    -151.16,       4992,  4801.4,   1.4123,  34.7008,2,  34.6992,2,    170.3,2,   169.5,2,  137.00,6,   35.10,6,    0.00,6,    2.41,6,-999.000,9,-999.000,9,-999.000,9,  2310.8,2,  2414.7,2,   1090.2,2,    20.00,   7.6090,2,    25.00,-999.000,9,-999.000,-999.0000,9,-999.000,9, -999.00,9,  -999.0,9,    -9.0,-999.000,9,-999.000,   39.54,2,   38.46,2, 4801.40,-999.0000,9,-999.0000,9,-999.0000,9,-999.0000,9,-999.0000,9,-999.0000,9,     -999.0,     -999.0,9,     -999.0,9,     -999.0,9,     -999.0,9,     -999.0,9,     -999.0,9, -999.00,9,   1.0048,-999.0000,-999.000
325020060213,       P16N,      28,          1,          1,          1,2,20060224,       1547,     5.9998,    -151.16,       4992,  5156.4,   1.4461,  34.7009,2,  34.7009,2,    172.5,2,   170.8,2,  136.30,2,   35.00,2,    0.00,2,    2.39,2,   0.001,2,   0.000,2,-999.000,5,  2310.0,6,  2412.9,2,   1086.4,2,    20.00,   7.6053,2,    25.00,-999.000,9,-999.000,-999.0000,9,-999.000,9, -999.00,9,  -999.0,9,    -9.0,-999.000,9,-999.000,   39.37,2,   38.52,2, 5156.40,-999.0000,9,-999.0000,9,-999.0000,9,-999.0000,9,-999.0000,9,-999.0000,9,     -999.0,     -999.0,9,     -999.0,9,     -999.0,9,     -999.0,9,     -999.0,9,     -999.0,9, -999.00,9,   0.9945,-999.0000,-999.000