BOTTLE,20170720CCHSIOCBG
EXPOCODE,SECT_ID,STNNBR,CASTNO,SAMPNO,BTLNBR,BTLNBR_FLAG_W,DATE,TIME,LATITUDE,LONGITUDE,DEPTH,CTDPRS,CTDTMP,CTDSAL,CTDSAL_FLAG_W,SALNTY,SALNTY_FLAG_W,CTDOXY,CTDOXY_FLAG_W,OXYGEN,OXYGEN_FLAG_W,SILCAT,SILCAT_FLAG_W,NITRAT,NITRAT_FLAG_W,NITRIT,NITRIT_FLAG_W,PHSPHT,PHSPHT_FLAG_W,CFC-11,CFC-11_FLAG_W,CFC-12,CFC-12_FLAG_W,CFC113,CFC113_FLAG_W,TCARBN,TCARBN_FLAG_W,ALKALI,ALKALI_FLAG_W,FCO2,FCO2_FLAG_W,FCO2TMP,PH_TOT,PH_TOT_FLAG_W,PH_TMP,TRITUM,TRITUM_FLAG_W,TRITER,HELIUM,HELIUM_FLAG_W,DELHE3,DELHE3_FLAG_W,DELC13,DELC13_FLAG_W,DELC14,DELC14_FLAG_W,C14ERR,NEON,NEON_FLAG_W,NEONER,DOC,DOC_FLAG_W,TDN,TDN_FLAG_W,CTDRAW,CDOM325,CDOM325_FLAG_W,CDOM340,CDOM340_FLAG_W,CDOM380,CDOM380_FLAG_W,CDOM412,CDOM412_FLAG_W,CDOMSL,CDOMSL_FLAG_W,CDOMSN,CDOMSN_FLAG_W,DCNS,ARABI,ARABI_FLAG_W,FUCO,FUCO_FLAG_W,GALA,GALA_FLAG_W,GLUC,GLUC_FLAG_W,MAN,MAN_FLAG_W,RHAM,RHAM_FLAG_W,BRDU,BRDU_FLAG_W,THETA,HELIER,DELHER
,,,,,,,,,,,METERS,DBAR,ITS-90,PSS-78,,PSS-78,,UMOL/KG,,UMOL/KG,,UMOL/KG,,UMOL/KG,,UMOL/KG,,UMOL/KG,,PMOL/KG,,PMOL/KG,,PMOL/KG,,UMOL/KG,,UMOL/KG,,UATM,,DEG C,,,DEG C,TU,,TU,NMOL/KG,,PERCNT,,/MILLE,,/MILLE,,/MILLE,NMOL/KG,,NMOL/KG,UMOL/KG,,UMOL/KG,,DBAR,1/M,,1/M,,1/M,,1/M,,1/NM,,1/NM,,NMOL/KG,NMOL/KG,,NMOL/KG,,NMOL/KG,,NMOL/KG,,NMOL/KG,,NMOL/KG,,PMOL/L/H,,DEG C,NMOL/KG,PERCNT
325020060213,       P16N,      52,          1,         36,         36,2,20060316,       0708,         30,       -152,       5326,     4.9,  19.7553,  35.2630,2,  35.2625,2,    228.4,2,   228.1,2,    0.80,2,    0.00,2,    0.00,2,    0.01,2,   2.228,2,   1.356,2,-999.000,9,  2023.0,6,  2317.0,2,   -999.0,9,  -999.00,   8.0327,6,    25.00,-999.000,9,-999.000,-999.0000,9,-999.000,9, -999.00,5,    72.7,2,     4.2,-999.000,9,-999.000,   64.88,2,    4.08,2,    4.90,-999.0000,9,-999.0000,9,-999.0000,9,-999.0000,9,-999.0000,9,-999.0000,9,     -999.0,     -999.0,9,     -999.0,9,     -999.0,9,     -999.0,9,     -999.0,9,     -999.0,9, -999.00,9,  19.7544,-999.0000,-999.000
325020060213,       P16N,      52,          1,         35,         35,2,20060316,       0708,         30,       -152,       5326,    15.2,  19.7602,  35.2631,2,  35.2625,2,    228.7,2,   228.5,2,    0.90,2,    0.00,2,    0.00,2,    0.01,2,   2.276,2,   1.393,2,-999.000,9,  2023.3,2,  2318.6,2,   -999.0,9,  -999.00,   8.0337,2,    25.00,-999.000,9,-999.000,-999.0000,9,-999.000,9, -999.00,9,  -999.0,9,    -9.0,-999.000,9,-999.000,   64.57,2,    4.00,2,   15.20,-999.0000,9,-999.0000,9,-999.0000,9,-999.0000,9,-999.0000,9,-999.0000,9,     -999.0,     -999.0,9,     -999.0,9,     -999.0,9,     -999.0,9,     -999.0,9,     -999.0,9, -999.00,9,  19.7575,-999.0000,-999.000
325020060213,       P16N,      52,          1,         34,         34,2,20060316,       0708,         30,       -152,       5326,    36.1,  19.6406,  35.2426,2,  35.2444,2,    229.2,2,   229.1,2,    1.00,2,    0.00,2,    0.00,2,    0.01,2,   2.321,2,   1.392,2,-999.000,9,  2021.8,2,  2317.5,2,   -999.0,9,  -999.00,   8.0318,2,    25.00,-999.000,9,-999.000,-999.0000,9,-999.000,9, -999.00,5,    81.7,2,     3.6,-999.000,9,-999.000,   64.64,2,    3.84,2,   36.10,-999.0000,9,-999.0000,9,-999.0000,9,-999.0000,9,-999.0000,9,-999.0000,9,     -999.0,     -999.0,9,     -999.0,9,     -999.0,9,     -999.0,9,     -999.0,9,     -999.0,9, -999.00,9,  19.6340,-999.0000,-999.000
325020060213,       P16N,      52,          1,         33,         33,2,20060316,       0708,         30,       -152,       5326,    59.2,  19.5366,  35.2237,2,  35.2194,2,    228.0,2,   229.6,2,    1.00,2,    0.00,2,    0.00,2,    0.02,2,   2.275,2,   1.385,2,-999.000,9,  2021.5,2,  2314.9,2,   -999.0,9,  -999.00,   8.0302,2,    25.00,-999.000,9,-999.000,-999.0000,9,-999.000,9, -999.00,9,  -999.0,9,    -9.0,-999.000,9,-999.000,   63.69,2,    3.74,2,   59.20,-999.0000,9,-999.0000,9,-999.0000,9,-999.0000,9,-999.0000,9,-999.0000,9,     -999.0,     -999.0,9,     -999.0,9,     -999.0,9,     -999.0,9,     -999.0,9,     -999.0,9, -999.00,9,  19.5258,-999.0000,-999.000
325020060213,       P16N,      52,          1,         32,         32,2,20060316,       0708,         30,       -152,       5326,    84.6,  18.6354,  35.0522,2,  35.0522,2,    226.5,2,   231.8,2,    1.40,6,    0.00,6,    0.00,6,    0.03,6,   2.410,2,   1.422,2,-999.000,9,  2019.6,2,  2304.4,2,   -999.0,9,  -999.00,   8.0198,2,    25.00,-999.000,9,-999.000,-999.0000,9,-999.000,9, -999.00,5,    70.6,2,     3.6,-999.000,9,-999.000,   62.74,2,    4.37,2,   84.60,-999.0000,9,-999.0000,9,-999.0000,9,-999.0000,9,-999.0000,9,-999.0000,9,     -999.0,     -999.0,9,     -999.0,9,     -999.0,9,     -999.0,9,     -999.0,9,     -999.0,9, -999.00,9,  18.6205,-999.0000,-999.000
325020060213,       P16N,      52,          1,         31,         31,2,20060316,       0708,         30,       -152,       5326,   109.6,  17.9714,  34.9184,2,  34.9174,2,    223.0,2,   232.1,2,    1.80,6,    0.10,6,    0.10,6,    0.05,6,   2.499,2,   1.472,2,-999.000,9,  2019.2,2,  2295.4,2,   -999.0,9,  -999.00,   8.0053,2,    25.00,-999.000,9,-999.000,-999.0000,9,-999.000,9, -999.00,5,    74.4,2,     4.0,-999.000,9,-999.000,   63.25,2,    4.62,2,  109.60,-999.0000,9,-999.0000,9,-999.0000,9,-999.0000,9,-999.0000,9,-999.0000,9,     -999.0,     -999.0,9,     -999.0,9,     -999.0,9,     -999.0,9,     -999.0,9,     -999.0,9, -999.00,9,  17.9526,-999.0000,-999.000
325020060213,       P16N,      52,          1,         30,         30,2,20060316,       0708,         30,       -152,       5326,   134.7,  16.2020,  34.6281,2,  34.6165,2,    217.0,2,   214.7,2,    3.50,6,    3.10,6,    0.00,6,    0.26,6,   2.819,2,   1.602,2,-999.000,9,  2043.6,2,  2276.3,2,   -999.0,9,  -999.00,   7.9318,2,    25.00,-999.000,9,-999.000,-999.0000,9,-999.000,9, -999.00,5,    68.4,2,     3.5,-999.000,9,-999.000,   54.25,2,    6.71,2,  134.70,-999.0000,9,-999.0000,9,-999.0000,9,-999.0000,9,-999.0000,9,-999.0000,9,     -999.0,     -999.0,9,     -999.0,9,     -999.0,9,     -999.0,9,     -999.0,9,     -999.0,9, -999.00,9,  16.1806,-999.0000,-999.000
325020060213,       P16N,      52,          1,         29,         29,2,20060316,       0708,         30,       -152,       5326,   176.4,  14.1617,  34.4417,2,  34.4403,2,    218.0,2,   218.0,2,    5.80,6,    6.60,6,    0.00,6,    0.46,6,   3.020,2,   1.717,2,-999.000,9,  2056.8,2,  2266.5,6,   -999.0,9,  -999.00,   7.8885,2,    25.00,-999.000,9,-999.000,-999.0000,9,-999.000,9, -999.00,5,    65.7,2,     3.7,-999.000,9,-999.000,   49.46,2,   11.19,2,  176.40,-999.0000,9,-999.0000,9,-999.0000,9,-999.0000,9,-999.0000,9,-999.0000,9,     -999.0,     -999.0,9,     -999.0,9,     -999.0,9,     -999.0,9,     -999.0,9,     -999.0,9, -999.00,9,  14.1361,-999.0000,-999.000
325020060213,       P16N,      52,          1,         28,         28,2,20060316,       0708,         30,       -152,       5326,   225.2,  12.3709,  34.2905,2,  34.2886,2,    220.4,2,   218.5,2,    8.70,6,    9.90,6,    0.00,6,    0.68,6,   3.235,2,   1.807,2,-999.000,9,  2073.4,2,  2262.0,2,   -999.0,9,  -999.00,   7.8442,2,    25.00,-999.000,9,-999.000,-999.0000,9,-999.000,9, -999.00,5,    67.6,2,     3.3,-999.000,9,-999.000,   48.41,2,   13.93,2,  225.20,-999.0000,9,-999.0000,9,-999.0000,9,-999.0000,9,-999.0000,9,-999.0000,9,     -999.0,     -999.0,9,     -999.0,9,     -999.0,9,     -999.0,9,     -999.0,9,     -999.0,9, -999.00,9,  12.3411,-999.0000,-999.000
325020060213,       P16N,      52,          1,         27,         27,2,20060316,       0708,         30,       -152,       5326,   275.9,  11.2799,  34.2248,2,  34.2245,2,    219.8,2,   219.6,2,   12.10,2,   12.30,6,    0.00,6,    0.82,6,   3.458,2,   1.872,2,-999.000,9,  2085.5,2,  2262.3,2,   -999.0,9,  -999.00,   7.8134,2,    25.00,-999.000,9,-999.000,-999.0000,9,-999.000,9, -999.00,5,    54.1,2,     3.5,-999.000,9,-999.000,   46.54,2,   16.89,2,  275.90,-999.0000,9,-999.0000,9,-999.0000,9,-999.0000,9,-999.0000,9,-999.0000,9,     -999.0,     -999.0,9,     -999.0,9,     -999.0,9,     -999.0,9,     -999.0,9,     -999.0,9, -999.00,9,  11.2455,-999.0000,-999.000
325020060213,       P16N,      52,          1,         26,         26,2,20060316,       0708,         30,       -152,       5326,   325.2,  10.5586,  34.1757,2,  34.1769,2,    220.1,2,   219.6,2,   14.80,2,   13.80,6,    0.00,6,    0.97,6,   3.458,2,   1.884,2,-999.000,9,  2095.1,2,  2263.4,2,   -999.0,9,  -999.00,   7.7943,2,    25.00,-999.000,9,-999.000,-999.0000,9,-999.000,9, -999.00,5,    44.4,2,     3.4,-999.000,9,-999.000,   45.37,2,   18.16,2,  325.20,-999.0000,9,-999.0000,9,-999.0000,9,-999.0000,9,-999.0000,9,-999.0000,9,     -999.0,     -999.0,9,     -999.0,9,     -999.0,9,     -999.0,9,     -999.0,9,     -999.0,9, -999.00,9,  10.5197,-999.0000,-999.000
325020060213,       P16N,      52,          1,         25,         25,2,20060316,       0708,         30,       -152,       5326,   376.3,   9.8203,  34.1337,2,  34.1349,2,    211.8,2,   211.6,2,   18.90,2,   16.00,6,    0.00,6,    1.07,6,   3.420,2,   1.862,2,-999.000,9,  2109.4,2,  2263.8,2,   -999.0,9,  -999.00,   7.7624,2,    25.00,-999.000,9,-999.000,-999.0000,9,-999.000,9, -999.00,5,    45.7,2,     3.5,-999.000,9,-999.000,   44.41,2,   19.87,2,  376.30,-999.0000,9,-999.0000,9,-999.0000,9,-999.0000,9,-999.0000,9,-999.0000,9,     -999.0,     -999.0,9,     -999.0,9,     -999.0,9,     -999.0,9,     -999.0,9,     -999.0,9, -999.00,9,   9.7772,-999.0000,-999.000
325020060213,       P16N,      52,          1,         24,         24,2,20060316,       0708,         30,       -152,       5326,   425.6,   8.9681,  34.1011,2,  34.1003,2,    189.2,2,   189.7,2,   26.20,2,   19.80,6,    0.00,6,    1.33,6,   3.267,2,   1.701,2,-999.000,9,  2136.4,2,  2268.8,2,   -999.0,9,  -999.00,   7.7054,2,    25.00,-999.000,9,-999.000,-999.0000,9,-999.000,9, -999.00,5,    29.8,2,     3.7,-999.000,9,-999.000,   43.74,2,   23.81,2,  425.60,-999.0000,9,-999.0000,9,-999.0000,9,-999.0000,9,-999.0000,9,-999.0000,9,     -999.0,     -999.0,9,     -999.0,9,     -999.0,9,     -999.0,9,     -999.0,9,     -999.0,9, -999.00,9,   8.9219,-999.0000,-999.000
325020060213,       P16N,      52,          1,         23,         23,2,20060316,       0708,         30,       -152,       5326,   474.3,   8.0579,  34.0606,2,  34.0611,2,    166.8,2,   165.8,2,   34.60,2,   23.80,6,    0.00,6,    1.60,6,   2.841,2,   1.452,2,-999.000,9,  2163.8,2,  2272.5,2,   -999.0,9,  -999.00,   7.6410,2,    25.00,-999.000,9,-999.000,-999.0000,9,-999.000,9, -999.00,5,     5.5,2,     4.0,-999.000,9,-999.000,   43.17,2,   27.92,2,  474.30,-999.0000,9,-999.0000,9,-999.0000,9,-999.0000,9,-999.0000,9,-999.0000,9,     -999.0,     -999.0,9,     -999.0,9,     -999.0,9,     -999.0,9,     -999.0,9,     -999.0,9, -999.00,9,   8.0095,-999.0000,-999.000
325020060213,       P16N,      52,          1,         22,         22,2,20060316,       0708,         30,       -152,       5326,   549.1,   6.5402,  34.0081,2,  34.0084,2,    130.2,2,   130.9,2,   51.10,2,   29.70,2,    0.00,6,    2.04,6,   2.249,2,   1.120,2,-999.000,9,  2208.7,2,  2284.1,2,   -999.0,9,  -999.00,   7.5375,2,    25.00,-999.000,9,-999.000,-999.0000,9,-999.000,9, -999.00,5,   -31.1,2,     3.8,-999.000,9,-999.000,   42.67,2,   34.24,2,  549.10,-999.0000,9,-999.0000,9,-999.0000,9,-999.0000,9,-999.0000,9,-999.0000,9,     -999.0,     -999.0,9,     -999.0,9,     -999.0,9,     -999.0,9,     -999.0,9,     -999.0,9, -999.00,9,   6.4903,-999.0000,-999.000
325020060213,       P16N,      52,          1,         21,         21,2,20060316,       0708,         30,       -152,       5326,   650.6,   5.0881,  34.0326,2,  34.0337,2,     78.5,2,    76.1,2,   75.30,2,   37.40,6,    0.00,6,    2.58,6,   1.030,2,   0.493,2,-999.000,9,  2272.6,2,  2304.2,2,   -999.0,9,  -999.00,   7.3988,2,    25.00,-999.000,9,-999.000,-999.0000,9,-999.000,9, -999.00,5,   -97.4,2,     3.0,-999.000,9,-999.000,   41.41,2,   41.73,2,  650.60,-999.0000,9,-999.0000,9,-999.0000,9,-999.0000,9,-999.0000,9,-999.0000,9,     -999.0,     -999.0,9,     -999.0,9,     -999.0,9,     -999.0,9,     -999.0,9,     -999.0,9, -999.00,9,   5.0356,-999.0000,-999.000
325020060213,       P16N,      52,          1,         20,         20,2,20060316,       0708,         30,       -152,       5326,   750.4,   4.3163,  34.1272,2,  34.1266,2,     38.4,2,    37.7,2,   96.40,2,   41.50,3,    0.00,6,    2.89,6,   0.296,2,   0.153,2,-999.000,9,  2319.7,2,  2326.6,2,   -999.0,9,  -999.00,   7.3218,2,    25.00,-999.000,9,-999.000,-999.0000,9,-999.000,9, -999.00,5,  -148.0,2,     2.8,-999.000,9,-999.000,   40.37,2,   45.97,2,  750.40,-999.0000,9,-999.0000,9,-999.0000,9,-999.0000,9,-999.0000,9,-999.0000,9,     -999.0,     -999.0,9,     -999.0,9,     -999.0,9,     -999.0,9,     -999.0,9,     -999.0,9, -999.00,9,   4.2596,-999.0000,-999.000
325020060213,       P16N,      52,          1,         19,         19,2,20060316,       0708,         30,       -152,       5326,   850.4,   4.0196,  34.2493,2,  34.2530,2,     14.8,2,    14.4,2,  110.50,2,   43.70,6,    0.00,6,    3.09,6,   0.063,2,   0.026,2,-999.000,9,  2348.5,6,  2345.6,2,   -999.0,9,  -999.00,   7.2924,2,    25.00,-999.000,9,-999.000,-999.0000,9,-999.000,9, -999.00,5,  -174.1,2,     2.4,-999.000,9,-999.000,   39.15,2,   47.99,2,  850.40,-999.0000,9,-999.0000,9,-999.0000,9,-999.0000,9,-999.0000,9,-999.0000,9,     -999.0,     -999.0,9,     -999.0,9,     -999.0,9,     -999.0,9,     -999.0,9,     -999.0,9, -999.00,9,   3.9565,-999.0000,-999.000
325020060213,       P16N,      52,          1,         18,         18,2,20060316,       0708,         30,       -152,       5326,   949.6,   3.8157,  34.3254,2,  34.3254,2,     11.8,2,    11.4,2,  117.90,2,   44.00,6,    0.00,6,    3.14,6,   0.014,2,   0.013,2,-999.000,9,  2360.2,2,  2359.3,6,   -999.0,9,  -999.00,   7.2963,2,    25.00,-999.000,9,-999.000,-999.0000,9,-999.000,9, -999.00,9,  -999.0,9,    -9.0,-999.000,9,-999.000,   38.46,2,   48.43,2,  949.60,-999.0000,9,-999.0000,9,-999.0000,9,-999.0000,9,-999.0000,9,-999.0000,9,     -999.0,     -999.0,9,     -999.0,9,     -999.0,9,     -999.0,9,     -999.0,9,     -999.0,9, -999.00,9,   3.7458,-999.0000,-999.000
325020060213,       P16N,      52,          1,         17,         17,2,20060316,       0708,         30,       -152,       5326,  1099.8,   3.4721,  34.4279,2,  34.4279,2,     18.6,2,    18.4,2,  127.70,2,   43.60,3,    0.00,6,    3.13,6,   0.001,2,  -0.001,2,-999.000,9,  2369.8,2,  2376.7,2,   -999.0,9,  -999.00,   7.3198,2,    25.00,-999.000,9,-999.000,-999.0000,9,-999.000,9, -999.00,9,  -999.0,9,    -9.0,-999.000,9,-999.000,   37.72,2,   46.88,2, 1099.80,-999.0000,9,-999.0000,9,-999.0000,9,-999.0000,9,-999.0000,9,-999.0000,9,     -999.0,     -999.0,9,     -999.0,9,     -999.0,9,     -999.0,9,     -999.0,9,     -999.0,9, -999.00,9,   3.3927,-999.0000,-999.000
325020060213,       P16N,      52,          1,         16,         16,2,20060316,       0708,         30,       -152,       5326,  1299.2,   3.0530,  34.5080,2,  34.5082,2,     36.7,2,    36.4,2,  136.20,2,   43.00,6,    0.00,6,    3.05,6,-999.000,9,-999.000,9,-999.000,9,  2370.7,2,  2392.1,2,   -999.0,9,  -999.00,   7.3624,2,    25.00,-999.000,9,-999.000,-999.0000,9,-999.000,9, -999.00,9,  -999.0,9,    -9.0,-999.000,9,-999.000,   37.24,2,   46.27,2, 1299.20,-999.0000,9,-999.0000,9,-999.0000,9,-999.0000,9,-999.0000,9,-999.0000,9,     -999.0,     -999.0,9,     -999.0,9,     -999.0,9,     -999.0,9,     -999.0,9,     -999.0,9, -999.00,9,   2.9612,-999.0000,-999.000
325020060213,       P16N,      52,          1,         15,         15,2,20060316,       0708,         30,       -152,       5326,  1500.5,   2.7162,  34.5511,2,  34.5518,2,     51.0,2,    50.7,2,  143.50,2,   42.50,6,    0.00,6,    2.99,6,-999.000,9,-999.000,9,-999.000,9,  2370.9,2,  2402.4,2,   -999.0,9,  -999.00,   7.3929,2,    25.00,-999.000,9,-999.000,-999.0000,9,-999.000,9, -999.00,9,  -999.0,9,    -9.0,-999.000,9,-999.000,   36.93,2,   45.93,2, 1500.50,-999.0000,9,-999.0000,9,-999.0000,9,-999.0000,9,-999.0000,9,-999.0000,9,     -999.0,     -999.0,9,     -999.0,9,     -999.0,9,     -999.0,9,     -999.0,9,     -999.0,9, -999.00,9,   2.6117,-999.0000,-999.000
325020060213,       P16N,      52,          1,         14,         14,2,20060316,       0708,         30,       -152,       5326,  1699.3,   2.3784,  34.5847,2,  34.5840,2,     63.9,2,    64.0,2,  151.70,2,   41.50,6,    0.00,6,    2.93,6,   0.011,6,   0.001,6,-999.000,5,  2369.5,2,  2411.8,2,   -999.0,9,  -999.00,   7.4219,2,    25.00,-999.000,9,-999.000,-999.0000,9,-999.000,9, -999.00,9,  -999.0,9,    -9.0,-999.000,9,-999.000,   36.92,2,   44.98,2, 1699.30,-999.0000,9,-999.0000,9,-999.0000,9,-999.0000,9,-999.0000,9,-999.0000,9,     -999.0,     -999.0,9,     -999.0,9,     -999.0,9,     -999.0,9,     -999.0,9,     -999.0,9, -999.00,9,   2.2617,-999.0000,-999.000
325020060213,       P16N,      52,          1,         13,         13,9,20060316,       0708,         30,       -152,       5326,  1901.3,   2.1477,  34.6065,2,-999.0000,9,     72.4,2,  -999.0,9, -999.00,9, -999.00,9, -999.00,9, -999.00,9,-999.000,9,-999.000,9,-999.000,9,  -999.0,9,  -999.0,9,   -999.0,9,  -999.00,-999.0000,9,  -999.00,-999.000,9,-999.000,-999.0000,9,-999.000,9, -999.00,9,  -999.0,9,    -9.0,-999.000,9,-999.000, -999.00,9, -999.00,9, 1901.30,-999.0000,9,-999.0000,9,-999.0000,9,-999.0000,9,-999.0000,9,-999.0000,9,     -999.0,     -999.0,9,     -999.0,9,     -999.0,9,     -999.0,9,     -999.0,9,     -999.0,9, -999.00,9,   2.0174,-999.0000,-999.000
325020060213,       P16N,      52,          1,         12,         12,2,20060316,       0708,         30,       -152,       5326,  2125.3,   1.9434,  34.6258,2,  34.6261,2,     81.5,2,    81.7,2,  163.70,2,   40.80,2,    0.00,2,    2.86,2,-999.000,9,-999.000,9,-999.000,9,  2370.5,2,  2423.6,2,   -999.0,9,  -999.00,   7.4540,2,    25.00,-999.000,9,-999.000,-999.0000,9,-999.000,9, -999.00,9,  -999.0,9,    -9.0,-999.000,9,-999.000,   37.32,2,   44.31,2, 2125.30,-999.0000,9,-999.0000,9,-999.0000,9,-999.0000,9,-999.0000,9,-999.0000,9,     -999.0,     -999.0,9,     -999.0,9,     -999.0,9,     -999.0,9,     -999.0,9,     -999.0,9, -999.00,9,   1.7972,-999.0000,-999.000
325020060213,       P16N,      52,          1,         11,         11,2,20060316,       0708,         30,       -152,       5326,  2375.5,   1.7903,  34.6414,2,  34.6418,2,     91.5,2,    91.4,2,  166.90,2,   40.20,2,    0.00,2,    2.82,2,-999.000,9,-999.000,9,-999.000,9,  2368.4,2,  2427.4,2,   -999.0,9,  -999.00,   7.4762,2,    25.00,-999.000,9,-999.000,-999.0000,9,-999.000,9, -999.00,9,  -999.0,9,    -9.0,-999.000,9,-999.000,   37.54,2,   44.12,2, 2375.50,-999.0000,9,-999.0000,9,-999.0000,9,-999.0000,9,-999.0000,9,-999.0000,9,     -999.0,     -999.0,9,     -999.0,9,     -999.0,9,     -999.0,9,     -999.0,9,     -999.0,9, -999.00,9,   1.6251,-999.0000,-999.000
325020060213,       P16N,      52,          1,         10,         10,2,20060316,       0708,         30,       -152,       5326,  2624.6,   1.6674,  34.6543,2,  34.6542,2,    101.9,2,   102.5,2,  168.60,2,   39.50,2,    0.00,2,    2.76,2,-999.000,9,-999.000,9,-999.000,9,  2362.9,2,  2430.3,2,   -999.0,9,  -999.00,   7.4942,6,    25.00,-999.000,9,-999.000,-999.0000,9,-999.000,9, -999.00,9,  -999.0,9,    -9.0,-999.000,9,-999.000,   37.46,2,   43.38,2, 2624.60,-999.0000,9,-999.0000,9,-999.0000,9,-999.0000,9,-999.0000,9,-999.0000,9,     -999.0,     -999.0,9,     -999.0,9,     -999.0,9,     -999.0,9,     -999.0,9,     -999.0,9, -999.00,9,   1.4821,-999.0000,-999.000