BOTTLE,20170720CCHSIOCBG
EXPOCODE,SECT_ID,STNNBR,CASTNO,SAMPNO,BTLNBR,BTLNBR_FLAG_W,DATE,TIME,LATITUDE,LONGITUDE,DEPTH,CTDPRS,CTDTMP,CTDSAL,CTDSAL_FLAG_W,SALNTY,SALNTY_FLAG_W,CTDOXY,CTDOXY_FLAG_W,OXYGEN,OXYGEN_FLAG_W,SILCAT,SILCAT_FLAG_W,NITRAT,NITRAT_FLAG_W,NITRIT,NITRIT_FLAG_W,PHSPHT,PHSPHT_FLAG_W,CFC-11,CFC-11_FLAG_W,CFC-12,CFC-12_FLAG_W,CFC113,CFC113_FLAG_W,TCARBN,TCARBN_FLAG_W,ALKALI,ALKALI_FLAG_W,FCO2,FCO2_FLAG_W,FCO2TMP,PH_TOT,PH_TOT_FLAG_W,PH_TMP,TRITUM,TRITUM_FLAG_W,TRITER,HELIUM,HELIUM_FLAG_W,DELHE3,DELHE3_FLAG_W,DELC13,DELC13_FLAG_W,DELC14,DELC14_FLAG_W,C14ERR,NEON,NEON_FLAG_W,NEONER,DOC,DOC_FLAG_W,TDN,TDN_FLAG_W,CTDRAW,CDOM325,CDOM325_FLAG_W,CDOM340,CDOM340_FLAG_W,CDOM380,CDOM380_FLAG_W,CDOM412,CDOM412_FLAG_W,CDOMSL,CDOMSL_FLAG_W,CDOMSN,CDOMSN_FLAG_W,DCNS,ARABI,ARABI_FLAG_W,FUCO,FUCO_FLAG_W,GALA,GALA_FLAG_W,GLUC,GLUC_FLAG_W,MAN,MAN_FLAG_W,RHAM,RHAM_FLAG_W,BRDU,BRDU_FLAG_W,THETA,HELIER,DELHER
,,,,,,,,,,,METERS,DBAR,ITS-90,PSS-78,,PSS-78,,UMOL/KG,,UMOL/KG,,UMOL/KG,,UMOL/KG,,UMOL/KG,,UMOL/KG,,PMOL/KG,,PMOL/KG,,PMOL/KG,,UMOL/KG,,UMOL/KG,,UATM,,DEG C,,,DEG C,TU,,TU,NMOL/KG,,PERCNT,,/MILLE,,/MILLE,,/MILLE,NMOL/KG,,NMOL/KG,UMOL/KG,,UMOL/KG,,DBAR,1/M,,1/M,,1/M,,1/M,,1/NM,,1/NM,,NMOL/KG,NMOL/KG,,NMOL/KG,,NMOL/KG,,NMOL/KG,,NMOL/KG,,NMOL/KG,,PMOL/L/H,,DEG C,NMOL/KG,PERCNT
325020060213,       P16N,      47,          2,          9,          9,2,20060313,       2350,    24.9995,  -152.0002,       5361,  3000.6,   1.5672,  34.6692,2,  34.6696,2,    121.7,2,   122.1,2,  160.70,2,   38.00,2,    0.00,2,    2.68,2,-999.000,9,-999.000,9,-999.000,9,  2348.9,2,  2429.0,2,   1306.6,2,    20.00,   7.5320,2,    25.00,-999.000,9,-999.000,-999.0000,9,-999.000,9, -999.00,9,  -999.0,9,    -9.0,-999.000,9,-999.000,   36.40,2,   41.66,2, 3000.60,   0.1250,2,   0.0840,2,   0.0420,2,   0.0290,2,   0.0171,2,   0.0194,2,     -999.0,     -999.0,9,     -999.0,9,     -999.0,9,     -999.0,9,     -999.0,9,     -999.0,9, -999.00,9,   1.3489,-999.0000,-999.000
325020060213,       P16N,      47,          2,          8,          8,2,20060313,       2350,    24.9995,  -152.0002,       5361,  3249.0,   1.5253,  34.6756,2,  34.6766,2,    128.6,2,   128.7,2,  159.30,2,   37.60,2,    0.00,2,    2.64,2,  -0.003,6,   0.004,6,-999.000,5,  2346.0,2,  2430.6,2,   1289.1,2,    20.00,   7.5438,2,    25.00,   0.001,2,   0.006,    1.966,2,  18.312,3, -999.00,9,  -999.0,9,    -9.0,   8.360,2,   0.009,   37.37,2,   41.38,2, 3249.00,-999.0000,9,-999.0000,9,-999.0000,9,-999.0000,9,-999.0000,9,-999.0000,9,     -999.0,     -999.0,9,     -999.0,9,     -999.0,9,     -999.0,9,     -999.0,9,     -999.0,9, -999.00,9,   1.2838,    0.000,   0.174
325020060213,       P16N,      47,          2,          7,          7,2,20060313,       2350,    24.9995,  -152.0002,       5361,  3647.9,   1.4872,  34.6835,2,  34.6843,2,    138.6,2,   138.5,2,  157.20,2,   37.10,2,    0.00,2,    2.59,2,-999.000,9,-999.000,9,-999.000,9,  2339.5,2,  2425.7,6,   1250.0,2,    20.00,   7.5600,2,    25.00,-999.000,9,-999.000,-999.0000,9,-999.000,9, -999.00,9,  -999.0,9,    -9.0,-999.000,9,-999.000,   38.02,2,   40.98,2, 3647.90,   0.1180,2,   0.0780,2,   0.0380,2,   0.0260,2,   0.0194,2,   0.0215,2,     -999.0,     -999.0,9,     -999.0,9,     -999.0,9,     -999.0,9,     -999.0,9,     -999.0,9, -999.00,9,   1.2061,-999.0000,-999.000
325020060213,       P16N,      47,          2,          6,          6,2,20060313,       2350,    24.9995,  -152.0002,       5361,  4048.7,   1.4790,  34.6876,2,  34.6886,2,    145.7,2,   145.7,2,  153.40,2,   36.60,2,    0.00,2,    2.55,2,-999.000,9,-999.000,9,-999.000,9,  2332.3,2,  2424.7,2,   1234.5,2,    20.00,   7.5725,2,    25.00,-999.000,9,-999.000,-999.0000,9,-999.000,9, -999.00,9,  -999.0,9,    -9.0,-999.000,9,-999.000,   37.83,2,   40.01,2, 4048.70,-999.0000,9,-999.0000,9,-999.0000,9,-999.0000,9,-999.0000,9,-999.0000,9,     -999.0,     -999.0,9,     -999.0,9,     -999.0,9,     -999.0,9,     -999.0,9,     -999.0,9, -999.00,9,   1.1553,-999.0000,-999.000
325020060213,       P16N,      47,          2,          5,          5,2,20060313,       2350,    24.9995,  -152.0002,       5361,  4546.1,   1.4817,  34.6916,2,  34.6921,2,    153.6,2,   154.1,2,  147.90,2,   36.00,2,    0.00,2,    2.50,2,  -0.002,2,   0.003,2,-999.000,9,  2325.4,2,  2420.3,2,   1215.7,2,    20.00,   7.5851,2,    25.00,-999.000,9,-999.000,-999.0000,9,-999.000,9, -999.00,9,  -999.0,9,    -9.0,-999.000,9,-999.000,   38.25,2,   39.71,2, 4546.10,   0.1150,2,   0.0760,2,   0.0360,2,   0.0240,2,   0.0203,2,   0.0223,2,     -999.0,     -999.0,9,     -999.0,9,     -999.0,9,     -999.0,9,     -999.0,9,     -999.0,9, -999.00,9,   1.1020,-999.0000,-999.000
325020060213,       P16N,      47,          2,          4,          4,2,20060313,       2350,    24.9995,  -152.0002,       5361,  5048.5,   1.4974,  34.6950,2,  34.6956,2,    161.8,2,   161.6,2,  142.10,6,   35.30,6,    0.00,6,    2.44,6,-999.000,9,-999.000,9,-999.000,9,  2316.2,2,  2418.4,2,   1161.2,2,    20.00,   7.5922,2,    25.00,-999.000,9,-999.000,-999.0000,9,-999.000,9, -999.00,9,  -999.0,9,    -9.0,-999.000,9,-999.000,   37.86,2,   39.59,2, 5048.50,-999.0000,9,-999.0000,9,-999.0000,9,-999.0000,9,-999.0000,9,-999.0000,9,     -999.0,     -999.0,9,     -999.0,9,     -999.0,9,     -999.0,9,     -999.0,9,     -999.0,9, -999.00,9,   1.0573,-999.0000,-999.000
325020060213,       P16N,      47,          2,          3,          3,2,20060313,       2350,    24.9995,  -152.0002,       5361,  5249.1,   1.5130,  34.6957,2,  34.6956,2,    163.0,2,   163.0,2,  141.10,4,   35.30,4,    0.00,4,    2.43,4,-999.000,9,-999.000,9,-999.000,9,  2314.3,2,  2419.2,2,   1174.1,2,    20.00,   7.5938,2,    25.00,-999.000,9,-999.000,-999.0000,9,-999.000,9, -999.00,9,  -999.0,9,    -9.0,-999.000,9,-999.000,   38.02,2,   33.99,2, 5249.10,-999.0000,9,-999.0000,9,-999.0000,9,-999.0000,9,-999.0000,9,-999.0000,9,     -999.0,     -999.0,9,     -999.0,9,     -999.0,9,     -999.0,9,     -999.0,9,     -999.0,9, -999.00,9,   1.0476,-999.0000,-999.000
325020060213,       P16N,      47,          2,          2,          2,2,20060313,       2350,    24.9995,  -152.0002,       5361,  5350.4,   1.5248,  34.6957,2,  34.6958,2,    163.1,2,   163.3,2,  140.90,6,   35.20,6,    0.00,6,    2.43,6,   0.006,2,   0.010,2,-999.000,5,  2316.5,2,  -999.0,5,   1186.7,2,    20.00,   7.5940,2,    25.00,   0.001,2,   0.004,    1.922,2,  11.616,2, -999.00,9,  -999.0,9,    -9.0,   8.445,2,   0.013,   38.43,2,   39.39,2, 5350.40,-999.0000,9,-999.0000,9,-999.0000,9,-999.0000,9,-999.0000,9,-999.0000,9,     -999.0,     -999.0,9,     -999.0,9,     -999.0,9,     -999.0,9,     -999.0,9,     -999.0,9, -999.00,9,   1.0463,    0.003,   0.223
325020060213,       P16N,      47,          2,          1,          1,2,20060313,       2350,    24.9995,  -152.0002,       5361,  5484.6,   1.5410,  34.6958,2,  34.6600,4,    163.5,2,   112.1,4,  161.60,4,   38.80,4,    0.00,4,    2.73,4,  -0.006,2,   0.003,2,-999.000,9,  2355.4,3,  2428.6,3,   1378.8,4,    20.00,   7.5132,3,    25.00,   0.001,2,   0.003,    1.945,2,  16.244,3, -999.00,9,  -999.0,9,    -9.0,   8.444,2,   0.012,   38.24,2,   42.46,2, 5484.60,   0.1310,2,   0.0890,2,   0.0460,2,   0.0320,2,   0.0155,2,   0.0181,2,     -999.0,     -999.0,9,     -999.0,9,     -999.0,9,     -999.0,9,     -999.0,9,     -999.0,9, -999.00,9,   1.0449,    0.003,   0.239