BOTTLE,20170720CCHSIOCBG
EXPOCODE,SECT_ID,STNNBR,CASTNO,SAMPNO,BTLNBR,BTLNBR_FLAG_W,DATE,TIME,LATITUDE,LONGITUDE,DEPTH,CTDPRS,CTDTMP,CTDSAL,CTDSAL_FLAG_W,SALNTY,SALNTY_FLAG_W,CTDOXY,CTDOXY_FLAG_W,OXYGEN,OXYGEN_FLAG_W,SILCAT,SILCAT_FLAG_W,NITRAT,NITRAT_FLAG_W,NITRIT,NITRIT_FLAG_W,PHSPHT,PHSPHT_FLAG_W,CFC-11,CFC-11_FLAG_W,CFC-12,CFC-12_FLAG_W,CFC113,CFC113_FLAG_W,TCARBN,TCARBN_FLAG_W,ALKALI,ALKALI_FLAG_W,FCO2,FCO2_FLAG_W,FCO2TMP,PH_TOT,PH_TOT_FLAG_W,PH_TMP,TRITUM,TRITUM_FLAG_W,TRITER,HELIUM,HELIUM_FLAG_W,DELHE3,DELHE3_FLAG_W,DELC13,DELC13_FLAG_W,DELC14,DELC14_FLAG_W,C14ERR,NEON,NEON_FLAG_W,NEONER,DOC,DOC_FLAG_W,TDN,TDN_FLAG_W,CTDRAW,CDOM325,CDOM325_FLAG_W,CDOM340,CDOM340_FLAG_W,CDOM380,CDOM380_FLAG_W,CDOM412,CDOM412_FLAG_W,CDOMSL,CDOMSL_FLAG_W,CDOMSN,CDOMSN_FLAG_W,DCNS,ARABI,ARABI_FLAG_W,FUCO,FUCO_FLAG_W,GALA,GALA_FLAG_W,GLUC,GLUC_FLAG_W,MAN,MAN_FLAG_W,RHAM,RHAM_FLAG_W,BRDU,BRDU_FLAG_W,THETA,HELIER,DELHER
,,,,,,,,,,,METERS,DBAR,ITS-90,PSS-78,,PSS-78,,UMOL/KG,,UMOL/KG,,UMOL/KG,,UMOL/KG,,UMOL/KG,,UMOL/KG,,PMOL/KG,,PMOL/KG,,PMOL/KG,,UMOL/KG,,UMOL/KG,,UATM,,DEG C,,,DEG C,TU,,TU,NMOL/KG,,PERCNT,,/MILLE,,/MILLE,,/MILLE,NMOL/KG,,NMOL/KG,UMOL/KG,,UMOL/KG,,DBAR,1/M,,1/M,,1/M,,1/M,,1/NM,,1/NM,,NMOL/KG,NMOL/KG,,NMOL/KG,,NMOL/KG,,NMOL/KG,,NMOL/KG,,NMOL/KG,,PMOL/L/H,,DEG C,NMOL/KG,PERCNT
325020060213,       P16N,      10,          1,          8,          8,2,20060218,       0301,    -7.9998,  -151.0002,       4629,  2876.0,   1.7082,  34.6807,2,  34.6830,2,    146.4,2,   145.7,2,  136.60,2,   36.90,2,    0.00,2,    2.56,2,-999.000,9,-999.000,9,-999.000,9,  2324.4,2,  2422.6,2,   1171.0,6,    20.00,   7.5820,2,    25.00,-999.000,9,-999.000,-999.0000,9,-999.000,9, -999.00,9,  -999.0,9,    -9.0,-999.000,9,-999.000,   36.50,2,   41.25,2, 2876.00,-999.0000,9,-999.0000,9,-999.0000,9,-999.0000,9,-999.0000,9,-999.0000,9,     -999.0,     -999.0,9,     -999.0,9,     -999.0,9,     -999.0,9,     -999.0,9,     -999.0,9, -999.00,9,   1.4987,-999.0000,-999.000
325020060213,       P16N,      10,          1,          7,          7,2,20060218,       0301,    -7.9998,  -151.0002,       4629,  3125.1,   1.6612,  34.6843,2,  34.6889,3,    152.3,2,   150.1,2,  136.00,2,   36.60,2,    0.00,2,    2.54,2,-999.000,9,-999.000,9,-999.000,9,  2324.2,2,  2422.0,2,   1134.4,2,    20.00,   7.5867,2,    25.00,-999.000,9,-999.000,-999.0000,9,-999.000,9, -999.00,9,  -999.0,9,    -9.0,-999.000,9,-999.000,   37.12,2,   39.87,2, 3125.10,-999.0000,9,-999.0000,9,-999.0000,9,-999.0000,9,-999.0000,9,-999.0000,9,     -999.0,     -999.0,9,     -999.0,9,     -999.0,9,     -999.0,9,     -999.0,9,     -999.0,9, -999.00,9,   1.4287,-999.0000,-999.000
325020060213,       P16N,      10,          1,          6,          6,2,20060218,       0301,    -7.9998,  -151.0002,       4629,  3451.0,   1.5689,  34.6898,2,  34.6922,2,    159.3,2,   159.0,2,  134.40,2,   36.10,2,    0.00,2,    2.49,2,-999.000,9,-999.000,9,-999.000,9,  2318.4,2,  2419.1,6,   1114.8,2,    20.00,   7.5976,2,    25.00,-999.000,9,-999.000,-999.0000,9,-999.000,9, -999.00,9,  -999.0,9,    -9.0,-999.000,9,-999.000,   36.46,2,   38.98,2, 3451.00,-999.0000,9,-999.0000,9,-999.0000,9,-999.0000,9,-999.0000,9,-999.0000,9,     -999.0,     -999.0,9,     -999.0,9,     -999.0,9,     -999.0,9,     -999.0,9,     -999.0,9, -999.00,9,   1.3059,-999.0000,-999.000
325020060213,       P16N,      10,          1,          5,          5,2,20060218,       0301,    -7.9998,  -151.0002,       4629,  3849.9,   1.4819,  34.6954,2,  34.6914,3,    166.9,2,   158.7,4,  134.10,6,   35.90,6,    0.00,6,    2.49,6,  -0.003,2,   0.000,2,-999.000,5,  2316.2,2,  2415.8,2,   1098.9,2,    20.00,   7.5942,2,    25.00,-999.000,9,-999.000,-999.0000,9,-999.000,9, -999.00,9,  -999.0,9,    -9.0,-999.000,9,-999.000,   37.13,2,   39.43,2, 3849.90,-999.0000,9,-999.0000,9,-999.0000,9,-999.0000,9,-999.0000,9,-999.0000,9,     -999.0,     -999.0,9,     -999.0,9,     -999.0,9,     -999.0,9,     -999.0,9,     -999.0,9, -999.00,9,   1.1796,-999.0000,-999.000
325020060213,       P16N,      10,          1,          4,          4,2,20060218,       0301,    -7.9998,  -151.0002,       4629,  4299.9,   1.3662,  34.7029,2,  34.7075,3,    180.1,2,   180.7,2,  125.90,6,   34.20,6,    0.00,6,    2.37,6,-999.000,9,-999.000,9,-999.000,9,  2291.7,2,  2394.8,2,   1063.3,6,    20.00,   7.6084,2,    25.00,-999.000,9,-999.000,-999.0000,9,-999.000,9, -999.00,9,  -999.0,9,    -9.0,-999.000,9,-999.000,   39.55,2,   37.82,2, 4299.90,-999.0000,9,-999.0000,9,-999.0000,9,-999.0000,9,-999.0000,9,-999.0000,9,     -999.0,     -999.0,9,     -999.0,9,     -999.0,9,     -999.0,9,     -999.0,9,     -999.0,9, -999.00,9,   1.0179,-999.0000,-999.000
325020060213,       P16N,      10,          1,          3,          3,2,20060218,       0301,    -7.9998,  -151.0002,       4629,  4799.1,   1.3626,  34.7055,2,  34.7083,2,    187.1,2,   186.3,2,  123.20,6,   33.70,6,    0.00,6,    2.34,6,   0.001,2,   0.001,2,-999.000,5,  2283.5,2,  2389.2,2,   1061.9,2,    20.00,   7.6115,2,    25.00,-999.000,9,-999.000,-999.0000,9,-999.000,9, -999.00,9,  -999.0,9,    -9.0,-999.000,9,-999.000,   39.50,2,   37.08,2, 4799.10,-999.0000,9,-999.0000,9,-999.0000,9,-999.0000,9,-999.0000,9,-999.0000,9,     -999.0,     -999.0,9,     -999.0,9,     -999.0,9,     -999.0,9,     -999.0,9,     -999.0,9, -999.00,9,   0.9569,-999.0000,-999.000
325020060213,       P16N,      10,          1,          1,          1,2,20060218,       0301,    -7.9998,  -151.0002,       4629,  5015.0,   1.3785,  34.7059,2,  34.7075,2,    187.1,2,   187.2,2,  122.80,6,   33.60,6,    0.00,6,    2.33,6,  -0.001,2,   0.001,2,-999.000,5,  2283.4,2,  2386.8,2,   1052.0,2,    20.00,   7.6106,2,    25.00,-999.000,9,-999.000,-999.0000,9,-999.000,9, -999.00,9,  -999.0,9,    -9.0,-999.000,9,-999.000,   39.49,2,   36.96,2, 5015.00,-999.0000,9,-999.0000,9,-999.0000,9,-999.0000,9,-999.0000,9,-999.0000,9,     -999.0,     -999.0,9,     -999.0,9,     -999.0,9,     -999.0,9,     -999.0,9,     -999.0,9, -999.00,9,   0.9465,-999.0000,-999.000