BOTTLE,20170720CCHSIOCBG
EXPOCODE,SECT_ID,STNNBR,CASTNO,SAMPNO,BTLNBR,BTLNBR_FLAG_W,DATE,TIME,LATITUDE,LONGITUDE,DEPTH,CTDPRS,CTDTMP,CTDSAL,CTDSAL_FLAG_W,SALNTY,SALNTY_FLAG_W,CTDOXY,CTDOXY_FLAG_W,OXYGEN,OXYGEN_FLAG_W,SILCAT,SILCAT_FLAG_W,NITRAT,NITRAT_FLAG_W,NITRIT,NITRIT_FLAG_W,PHSPHT,PHSPHT_FLAG_W,CFC-11,CFC-11_FLAG_W,CFC-12,CFC-12_FLAG_W,CFC113,CFC113_FLAG_W,TCARBN,TCARBN_FLAG_W,ALKALI,ALKALI_FLAG_W,FCO2,FCO2_FLAG_W,FCO2TMP,PH_TOT,PH_TOT_FLAG_W,PH_TMP,TRITUM,TRITUM_FLAG_W,TRITER,HELIUM,HELIUM_FLAG_W,DELHE3,DELHE3_FLAG_W,DELC13,DELC13_FLAG_W,DELC14,DELC14_FLAG_W,C14ERR,NEON,NEON_FLAG_W,NEONER,DOC,DOC_FLAG_W,TDN,TDN_FLAG_W,CTDRAW,CDOM325,CDOM325_FLAG_W,CDOM340,CDOM340_FLAG_W,CDOM380,CDOM380_FLAG_W,CDOM412,CDOM412_FLAG_W,CDOMSL,CDOMSL_FLAG_W,CDOMSN,CDOMSN_FLAG_W,DCNS,ARABI,ARABI_FLAG_W,FUCO,FUCO_FLAG_W,GALA,GALA_FLAG_W,GLUC,GLUC_FLAG_W,MAN,MAN_FLAG_W,RHAM,RHAM_FLAG_W,BRDU,BRDU_FLAG_W,THETA,HELIER,DELHER
,,,,,,,,,,,METERS,DBAR,ITS-90,PSS-78,,PSS-78,,UMOL/KG,,UMOL/KG,,UMOL/KG,,UMOL/KG,,UMOL/KG,,UMOL/KG,,PMOL/KG,,PMOL/KG,,PMOL/KG,,UMOL/KG,,UMOL/KG,,UATM,,DEG C,,,DEG C,TU,,TU,NMOL/KG,,PERCNT,,/MILLE,,/MILLE,,/MILLE,NMOL/KG,,NMOL/KG,UMOL/KG,,UMOL/KG,,DBAR,1/M,,1/M,,1/M,,1/M,,1/NM,,1/NM,,NMOL/KG,NMOL/KG,,NMOL/KG,,NMOL/KG,,NMOL/KG,,NMOL/KG,,NMOL/KG,,PMOL/L/H,,DEG C,NMOL/KG,PERCNT
325020060213,       P16N,      69,          1,         36,         36,2,20060325,       0612,    48.0017,  -151.9987,       4896,     4.9,   5.5400,  32.7135,2,  32.7142,2,    308.5,2,   309.1,2,   19.50,2,   11.60,2,    0.10,2,    1.20,2,   4.735,2,   2.633,2,-999.000,5,  2049.9,6,  2204.6,2,   -999.0,9,  -999.00,   7.7851,6,    25.00,   0.773,2,   0.018,    1.868,2,  -0.444,2, -999.00,9,  -999.0,9,    -9.0,   8.156,2,   0.009,   52.43,2,   15.82,2,    4.90,-999.0000,9,-999.0000,9,-999.0000,9,-999.0000,9,-999.0000,9,-999.0000,9,     -999.0,     -999.0,9,     -999.0,9,     -999.0,9,     -999.0,9,     -999.0,9,     -999.0,9, -999.00,9,   5.5396,    0.000,   0.180
325020060213,       P16N,      69,          1,         35,         35,2,20060325,       0612,    48.0017,  -151.9987,       4896,    23.8,   5.5453,  32.7143,2,  32.7142,2,    309.2,2,   309.2,2,   19.60,2,   11.70,2,    0.10,2,    1.20,2,   4.715,2,   2.633,2,-999.000,5,  2049.6,2,  2204.6,2,   -999.0,9,  -999.00,   7.7849,2,    25.00,   0.797,2,   0.011,    1.828,2,  -1.110,2, -999.00,9,  -999.0,9,    -9.0,   7.987,2,   0.012,   52.28,2,   16.14,2,   23.80,-999.0000,9,-999.0000,9,-999.0000,9,-999.0000,9,-999.0000,9,-999.0000,9,     -999.0,     -999.0,9,     -999.0,9,     -999.0,9,     -999.0,9,     -999.0,9,     -999.0,9, -999.00,9,   5.5434,    0.001,   0.176
325020060213,       P16N,      69,          1,         34,         34,2,20060325,       0612,    48.0017,  -151.9987,       4896,    49.6,   5.5467,  32.7142,2,  32.7144,2,    310.2,2,   308.7,2,   19.60,2,   11.60,2,    0.10,2,    1.20,2,   4.709,6,   2.619,6,-999.000,5,  2049.1,2,  2204.8,2,   -999.0,9,  -999.00,   7.7845,2,    25.00,   0.838,2,   0.018,-999.0000,9,-999.000,9, -999.00,9,  -999.0,9,    -9.0,-999.000,9,-999.000,   52.53,2,   16.14,2,   49.60,-999.0000,9,-999.0000,9,-999.0000,9,-999.0000,9,-999.0000,9,-999.0000,9,     -999.0,     -999.0,9,     -999.0,9,     -999.0,9,     -999.0,9,     -999.0,9,     -999.0,9, -999.00,9,   5.5428,-999.0000,-999.000
325020060213,       P16N,      69,          1,         33,         33,2,20060325,       0612,    48.0017,  -151.9987,       4896,    73.1,   5.5434,  32.7141,2,  32.7148,2,    311.1,2,   308.4,2,   19.60,2,   11.70,2,    0.10,2,    1.21,2,   4.715,2,   2.621,2,-999.000,5,  2049.3,2,  2204.0,2,   -999.0,9,  -999.00,   7.7835,2,    25.00,   0.802,2,   0.022,    1.847,2,  -0.966,2, -999.00,9,  -999.0,9,    -9.0,   7.960,2,   0.013,   52.36,2,   15.53,2,   73.10,-999.0000,9,-999.0000,9,-999.0000,9,-999.0000,9,-999.0000,9,-999.0000,9,     -999.0,     -999.0,9,     -999.0,9,     -999.0,9,     -999.0,9,     -999.0,9,     -999.0,9, -999.00,9,   5.5377,    0.002,   0.176
325020060213,       P16N,      69,          1,         32,         32,2,20060325,       0612,    48.0017,  -151.9987,       4896,    99.1,   5.5383,  32.7149,2,  32.7229,2,    308.1,2,   307.3,2,   19.80,2,   11.80,2,    0.10,2,    1.21,2,   4.728,2,   2.611,2,-999.000,5,  2051.2,2,  2205.3,2,   -999.0,9,  -999.00,   7.7819,2,    25.00,-999.000,9,-999.000,    1.842,2,  -0.620,2, -999.00,9,  -999.0,9,    -9.0,   8.054,2,   0.009,   51.91,2,   16.25,2,   99.10,-999.0000,9,-999.0000,9,-999.0000,9,-999.0000,9,-999.0000,9,-999.0000,9,     -999.0,     -999.0,9,     -999.0,9,     -999.0,9,     -999.0,9,     -999.0,9,     -999.0,9, -999.00,9,   5.5306,    0.001,   0.187
325020060213,       P16N,      69,          1,         31,         31,2,20060325,       0612,    48.0017,  -151.9987,       4896,   123.7,   6.3316,  33.7203,2,  33.7059,2,    230.1,2,   237.6,2,   28.30,2,   18.20,2,    0.00,2,    1.41,2,   4.168,2,   2.248,2,-999.000,5,  2131.6,2,  2255.6,2,   -999.0,9,  -999.00,   7.6832,2,    25.00,   0.757,2,   0.017,    1.821,2,   1.706,2, -999.00,9,  -999.0,9,    -9.0,   7.909,2,   0.009,   51.20,2,   22.79,2,  123.70,-999.0000,9,-999.0000,9,-999.0000,9,-999.0000,9,-999.0000,9,-999.0000,9,     -999.0,     -999.0,9,     -999.0,9,     -999.0,9,     -999.0,9,     -999.0,9,     -999.0,9, -999.00,9,   6.3210,    0.001,   0.185
325020060213,       P16N,      69,          1,         30,         30,2,20060325,       0612,    48.0017,  -151.9987,       4896,   149.6,   6.0642,  33.7699,2,  33.7722,2,    218.1,2,   220.3,2,   34.40,2,   20.80,2,    0.00,2,    1.54,2,   3.974,2,   2.141,2,-999.000,5,  2152.0,2,  2262.7,2,   -999.0,9,  -999.00,   7.6511,2,    25.00,   0.753,2,   0.024,    1.824,2,   3.205,2, -999.00,9,  -999.0,9,    -9.0,   7.933,2,   0.012,   50.44,2,   24.76,2,  149.60,-999.0000,9,-999.0000,9,-999.0000,9,-999.0000,9,-999.0000,9,-999.0000,9,     -999.0,     -999.0,9,     -999.0,9,     -999.0,9,     -999.0,9,     -999.0,9,     -999.0,9, -999.00,9,   6.0516,    0.001,   0.191
325020060213,       P16N,      69,          1,         29,         29,2,20060325,       0612,    48.0017,  -151.9987,       4896,   199.5,   5.2622,  33.7762,2,  33.7771,2,    185.6,2,   184.3,2,   47.40,2,   26.00,2,    0.00,2,    1.90,2,   3.682,2,   1.941,2,-999.000,5,  2190.5,2,  2271.0,6,   -999.0,9,  -999.00,   7.5604,3,    25.00,   0.708,2,   0.017,    1.842,2,   6.230,2, -999.00,9,  -999.0,9,    -9.0,   7.920,2,   0.013,   49.54,2,   29.49,2,  199.50,-999.0000,9,-999.0000,9,-999.0000,9,-999.0000,9,-999.0000,9,-999.0000,9,     -999.0,     -999.0,9,     -999.0,9,     -999.0,9,     -999.0,9,     -999.0,9,     -999.0,9, -999.00,9,   5.2466,    0.002,   0.180
325020060213,       P16N,      69,          1,         28,         28,2,20060325,       0612,    48.0017,  -151.9987,       4896,   247.9,   4.6813,  33.8131,2,  33.8109,2,    139.6,2,   141.7,2,   60.10,2,   31.10,2,    0.00,2,    2.22,2,   3.195,2,   1.631,2,-999.000,5,  2229.4,2,  2282.2,2,   -999.0,9,  -999.00,   7.4687,2,    25.00,   0.630,2,   0.021,    1.855,2,   9.241,2, -999.00,9,  -999.0,9,    -9.0,   8.021,2,   0.008,   47.93,2,   35.14,2,  247.90,-999.0000,9,-999.0000,9,-999.0000,9,-999.0000,9,-999.0000,9,-999.0000,9,     -999.0,     -999.0,9,     -999.0,9,     -999.0,9,     -999.0,9,     -999.0,9,     -999.0,9, -999.00,9,   4.6629,    0.001,   0.194
325020060213,       P16N,      69,          1,         27,         27,2,20060325,       0612,    48.0017,  -151.9987,       4896,   298.7,   4.4772,  33.8878,2,  33.8860,2,    101.4,2,   102.6,2,   71.80,2,   35.00,2,    0.00,2,    2.47,2,   2.569,2,   1.303,2,-999.000,5,  2262.6,2,  2293.7,2,   -999.0,9,  -999.00,   7.4039,2,    25.00,   0.580,2,   0.020,    2.537,4,   9.426,3, -999.00,9,  -999.0,9,    -9.0,  10.401,4,   0.011,   46.49,2,   39.22,2,  298.70,-999.0000,9,-999.0000,9,-999.0000,9,-999.0000,9,-999.0000,9,-999.0000,9,     -999.0,     -999.0,9,     -999.0,9,     -999.0,9,     -999.0,9,     -999.0,9,     -999.0,9, -999.00,9,   4.4553,    0.001,   0.187
325020060213,       P16N,      69,          1,         26,         26,2,20060325,       0612,    48.0017,  -151.9987,       4896,   349.4,   4.4646,  33.9602,2,  33.9593,2,     82.0,2,    81.2,2,   79.40,2,   37.10,2,    0.00,2,    2.61,2,   2.070,2,   1.037,2,-999.000,5,  2278.3,2,  2302.9,2,   -999.0,9,  -999.00,   7.3693,2,    25.00,-999.000,9,-999.000,    1.896,2,  12.820,2, -999.00,9,  -999.0,9,    -9.0,   8.197,2,   0.009,   44.85,2,   40.95,2,  349.40,-999.0000,9,-999.0000,9,-999.0000,9,-999.0000,9,-999.0000,9,-999.0000,9,     -999.0,     -999.0,9,     -999.0,9,     -999.0,9,     -999.0,9,     -999.0,9,     -999.0,9, -999.00,9,   4.4389,    0.000,   0.180
325020060213,       P16N,      69,          1,         25,         25,2,20060325,       0612,    48.0017,  -151.9987,       4896,   400.2,   4.3573,  34.0251,2,  34.0257,2,     63.3,2,    62.2,2,   87.50,2,   38.90,2,    0.00,2,    2.74,2,   1.604,2,   0.790,2,-999.000,5,  2298.1,2,  2311.1,2,   -999.0,9,  -999.00,   7.3530,2,    25.00,   0.421,2,   0.017,    1.856,2,  15.025,2, -999.00,9,  -999.0,9,    -9.0,   8.020,2,   0.008,   43.52,2,   42.56,2,  400.20,-999.0000,9,-999.0000,9,-999.0000,9,-999.0000,9,-999.0000,9,-999.0000,9,     -999.0,     -999.0,9,     -999.0,9,     -999.0,9,     -999.0,9,     -999.0,9,     -999.0,9, -999.00,9,   4.3280,    0.000,   0.183
325020060213,       P16N,      69,          1,         24,         24,2,20060325,       0612,    48.0017,  -151.9987,       4896,   424.3,   4.2589,  34.0456,2,  34.0470,2,     56.0,2,    55.0,2,   91.30,2,   39.70,2,    0.00,2,    2.80,2,   1.467,2,   0.708,2,-999.000,5,  2306.4,2,  2315.9,2,   -999.0,9,  -999.00,   7.3304,2,    25.00,   0.383,2,   0.019,    1.859,2,  14.762,2, -999.00,9,  -999.0,9,    -9.0,   8.070,2,   0.009,   41.28,2,   43.07,2,  424.30,-999.0000,9,-999.0000,9,-999.0000,9,-999.0000,9,-999.0000,9,-999.0000,9,     -999.0,     -999.0,9,     -999.0,9,     -999.0,9,     -999.0,9,     -999.0,9,     -999.0,9, -999.00,9,   4.2281,    0.000,   0.170
325020060213,       P16N,      69,          1,         23,         23,2,20060325,       0612,    48.0017,  -151.9987,       4896,   499.7,   3.9507,  34.1052,2,  34.1042,2,     38.2,2,    38.0,2,  101.70,2,   41.60,2,    0.00,2,    2.91,2,   1.057,2,   0.523,2,-999.000,5,  2327.1,2,  2327.0,2,   -999.0,9,  -999.00,   7.2974,2,    25.00,   0.334,2,   0.016,    1.869,2,  15.973,2, -999.00,9,  -999.0,9,    -9.0,   8.097,2,   0.009,   40.86,2,   46.08,2,  499.70,-999.0000,9,-999.0000,9,-999.0000,9,-999.0000,9,-999.0000,9,-999.0000,9,     -999.0,     -999.0,9,     -999.0,9,     -999.0,9,     -999.0,9,     -999.0,9,     -999.0,9, -999.00,9,   3.9153,    0.000,   0.182
325020060213,       P16N,      69,          1,         22,         22,2,20060325,       0612,    48.0017,  -151.9987,       4896,   600.0,   3.6523,  34.1673,2,  34.1652,2,     28.3,2,    28.0,2,  112.70,2,   42.50,2,    0.00,2,    3.00,2,   0.705,2,   0.351,2,-999.000,5,  2343.5,2,  2340.1,2,   -999.0,9,  -999.00,   7.2902,2,    25.00,-999.000,9,-999.000,    1.897,2,  16.734,2, -999.00,9,  -999.0,9,    -9.0,   8.092,2,   0.019,   39.66,2,   46.23,2,  600.00,-999.0000,9,-999.0000,9,-999.0000,9,-999.0000,9,-999.0000,9,-999.0000,9,     -999.0,     -999.0,9,     -999.0,9,     -999.0,9,     -999.0,9,     -999.0,9,     -999.0,9, -999.00,9,   3.6107,    0.001,   0.203
325020060213,       P16N,      69,          1,         21,         21,2,20060325,       0612,    48.0017,  -151.9987,       4896,   700.7,   3.4472,  34.2283,2,  34.2279,2,     25.1,2,    24.1,2,  121.60,2,   43.00,2,    0.00,2,    3.03,2,   0.463,2,   0.224,2,-999.000,5,  2354.2,2,  2350.8,2,   -999.0,9,  -999.00,   7.2890,2,    25.00,   0.212,2,   0.016,    1.865,2,  16.353,2, -999.00,9,  -999.0,9,    -9.0,   8.107,2,   0.008,   38.98,2,   47.58,2,  700.70,-999.0000,9,-999.0000,9,-999.0000,9,-999.0000,9,-999.0000,9,-999.0000,9,     -999.0,     -999.0,9,     -999.0,9,     -999.0,9,     -999.0,9,     -999.0,9,     -999.0,9, -999.00,9,   3.3992,    0.001,   0.182
325020060213,       P16N,      69,          1,         20,         20,2,20060325,       0612,    48.0017,  -151.9987,       4896,   800.0,   3.2832,  34.2853,2,  34.2920,3,     23.0,2,    22.7,2,  128.40,2,   43.10,2,    0.00,2,    3.06,2,   0.268,2,   0.128,2,-999.000,5,  2362.5,2,  2360.5,2,   -999.0,9,  -999.00,   7.2966,2,    25.00,-999.000,9,-999.000,    1.881,2,  16.859,2, -999.00,9,  -999.0,9,    -9.0,   8.196,2,   0.019,   38.64,2,   47.02,2,  800.00,-999.0000,9,-999.0000,9,-999.0000,9,-999.0000,9,-999.0000,9,-999.0000,9,     -999.0,     -999.0,9,     -999.0,9,     -999.0,9,     -999.0,9,     -999.0,9,     -999.0,9, -999.00,9,   3.2286,    0.001,   0.196
325020060213,       P16N,      69,          1,         19,         19,2,20060325,       0612,    48.0017,  -151.9987,       4896,   900.5,   3.1264,  34.3303,2,  34.3299,2,     22.0,2,    21.6,2,  134.10,2,   43.30,2,    0.00,2,    3.07,2,   0.159,2,   0.075,2,-999.000,5,  2369.2,2,  2370.2,2,   -999.0,9,  -999.00,   7.3034,2,    25.00,   0.117,2,   0.018,    1.911,2,  17.163,2, -999.00,9,  -999.0,9,    -9.0,   8.299,2,   0.017,   38.58,2,   47.64,2,  900.50,-999.0000,9,-999.0000,9,-999.0000,9,-999.0000,9,-999.0000,9,-999.0000,9,     -999.0,     -999.0,9,     -999.0,9,     -999.0,9,     -999.0,9,     -999.0,9,     -999.0,9, -999.00,9,   3.0653,    0.001,   0.196
325020060213,       P16N,      69,          1,         18,         18,2,20060325,       0612,    48.0017,  -151.9987,       4896,   998.8,   2.9675,  34.3698,2,  34.3716,2,     19.3,2,    19.1,2,  139.60,2,   43.60,2,    0.00,2,    3.11,2,   0.076,2,   0.039,2,-999.000,5,  2376.6,2,  2379.0,6,   -999.0,9,  -999.00,   7.3050,2,    25.00,   0.066,2,   0.019,    1.898,2,  16.557,2, -999.00,9,  -999.0,9,    -9.0,   8.182,2,   0.018,   38.33,2,   47.51,2,  998.80,-999.0000,9,-999.0000,9,-999.0000,9,-999.0000,9,-999.0000,9,-999.0000,9,     -999.0,     -999.0,9,     -999.0,9,     -999.0,9,     -999.0,9,     -999.0,9,     -999.0,9, -999.00,9,   2.9002,    0.001,   0.204
325020060213,       P16N,      69,          1,         17,         17,2,20060325,       0612,    48.0017,  -151.9987,       4896,  1200.7,   2.6741,  34.4307,2,  34.4293,2,     19.3,2,    18.6,2,  149.90,2,   43.90,2,    0.00,2,    3.12,2,   0.028,2,   0.015,2,-999.000,5,  2386.9,6,  2392.0,2,   -999.0,9,  -999.00,   7.3079,2,    25.00,   0.001,2,   0.014,    1.906,2,  16.951,2, -999.00,9,  -999.0,9,    -9.0,   8.187,2,   0.008,   35.93,2,   47.86,2, 1200.70,-999.0000,9,-999.0000,9,-999.0000,9,-999.0000,9,-999.0000,9,-999.0000,9,     -999.0,     -999.0,9,     -999.0,9,     -999.0,9,     -999.0,9,     -999.0,9,     -999.0,9, -999.00,9,   2.5939,    0.001,   0.183
325020060213,       P16N,      69,          1,         16,         16,2,20060325,       0612,    48.0017,  -151.9987,       4896,  1598.0,   2.2569,  34.5229,2,  34.5223,2,     23.1,2,    23.0,2,  163.70,2,   44.10,2,    0.00,2,    3.12,2,-999.000,9,-999.000,9,-999.000,9,  2399.5,2,  2410.4,2,   -999.0,9,  -999.00,   7.3246,2,    25.00,-999.000,9,-999.000,-999.0000,9,-999.000,9, -999.00,9,  -999.0,9,    -9.0,-999.000,9,-999.000,   37.34,2,   48.32,2, 1598.00,-999.0000,9,-999.0000,9,-999.0000,9,-999.0000,9,-999.0000,9,-999.0000,9,     -999.0,     -999.0,9,     -999.0,9,     -999.0,9,     -999.0,9,     -999.0,9,     -999.0,9, -999.00,9,   2.1501,-999.0000,-999.000
325020060213,       P16N,      69,          1,         15,         15,2,20060325,       0612,    48.0017,  -151.9987,       4896,  1598.7,   2.2545,  34.5233,2,  34.5211,2,     23.3,2,    33.4,4,  163.70,2,   43.90,2,    0.00,2,    3.13,2,   0.002,2,  -0.001,2,-999.000,5,  2398.7,2,  2408.5,2,   -999.0,9,  -999.00,   7.3294,2,    25.00,   0.029,2,   0.014,    1.925,2,  19.141,2, -999.00,9,  -999.0,9,    -9.0,   8.241,2,   0.017,   37.87,2,   47.25,2, 1598.70,-999.0000,9,-999.0000,9,-999.0000,9,-999.0000,9,-999.0000,9,-999.0000,9,     -999.0,     -999.0,9,     -999.0,9,     -999.0,9,     -999.0,9,     -999.0,9,     -999.0,9, -999.00,9,   2.1477,    0.001,   0.295
325020060213,       P16N,      69,          1,         14,         14,2,20060325,       0612,    48.0017,  -151.9987,       4896,  1798.8,   2.1039,  34.5560,2,  34.5557,2,     33.7,2,    33.3,2,  167.50,2,   43.40,2,    0.00,2,    3.08,2,-999.000,9,-999.000,9,-999.000,9,  2395.5,2,  2414.2,2,   -999.0,9,  -999.00,   7.3491,2,    25.00,-999.000,9,-999.000,-999.0000,9,-999.000,9, -999.00,9,  -999.0,9,    -9.0,-999.000,9,-999.000,   37.07,2,   47.49,2, 1798.80,-999.0000,9,-999.0000,9,-999.0000,9,-999.0000,9,-999.0000,9,-999.0000,9,     -999.0,     -999.0,9,     -999.0,9,     -999.0,9,     -999.0,9,     -999.0,9,     -999.0,9, -999.00,9,   1.9828,-999.0000,-999.000
325020060213,       P16N,      69,          1,         13,         13,2,20060325,       0612,    48.0017,  -151.9987,       4896,  1999.6,   1.9725,  34.5830,2,  34.5804,2,     46.8,2,    46.6,2,  169.50,2,   42.50,2,    0.00,2,    3.02,2,   0.000,2,   0.005,2,-999.000,5,  2391.5,2,  2417.6,2,   -999.0,9,  -999.00,   7.3769,2,    25.00,-999.000,9,-999.000,-999.0000,9,-999.000,9, -999.00,9,  -999.0,9,    -9.0,-999.000,9,-999.000,   37.51,2,   46.78,2, 1999.60,-999.0000,9,-999.0000,9,-999.0000,9,-999.0000,9,-999.0000,9,-999.0000,9,     -999.0,     -999.0,9,     -999.0,9,     -999.0,9,     -999.0,9,     -999.0,9,     -999.0,9, -999.00,9,   1.8367,-999.0000,-999.000
325020060213,       P16N,      69,          1,         12,         12,9,20060325,       0612,    48.0017,  -151.9987,       4896,  2188.8,   1.8911,  34.6000,2,-999.0000,9,     57.0,2,  -999.0,9, -999.00,9, -999.00,9, -999.00,9, -999.00,9,-999.000,9,-999.000,9,-999.000,9,  -999.0,9,  -999.0,9,   -999.0,9,  -999.00,-999.0000,9,  -999.00,-999.000,9,-999.000,-999.0000,9,-999.000,9, -999.00,9,  -999.0,9,    -9.0,-999.000,9,-999.000, -999.00,9, -999.00,9, 2188.80,-999.0000,9,-999.0000,9,-999.0000,9,-999.0000,9,-999.0000,9,-999.0000,9,     -999.0,     -999.0,9,     -999.0,9,     -999.0,9,     -999.0,9,     -999.0,9,     -999.0,9, -999.00,9,   1.7405,-999.0000,-999.000
325020060213,       P16N,      69,          1,         11,         11,2,20060325,       0612,    48.0017,  -151.9987,       4896,  2399.8,   1.7828,  34.6201,2,  34.6191,2,     72.0,2,    70.8,2,  170.80,2,   41.00,2,    0.00,2,    2.94,2,   0.002,2,   0.003,2,-999.000,5,  2379.4,2,  2422.2,2,   -999.0,9,  -999.00,   7.4256,2,    25.00,   0.003,2,   0.015,    1.953,2,  19.262,2, -999.00,9,  -999.0,9,    -9.0,   8.387,2,   0.016,   37.77,2,   44.57,2, 2399.80,-999.0000,9,-999.0000,9,-999.0000,9,-999.0000,9,-999.0000,9,-999.0000,9,     -999.0,     -999.0,9,     -999.0,9,     -999.0,9,     -999.0,9,     -999.0,9,     -999.0,9, -999.00,9,   1.6156,    0.001,   0.203
325020060213,       P16N,      69,          1,         10,         10,2,20060325,       0612,    48.0017,  -151.9987,       4896,  2600.2,   1.7036,  34.6344,2,  34.6324,2,     84.6,2,    83.7,2,  169.80,2,   40.00,2,    0.00,2,    2.86,2,-999.000,9,-999.000,9,-999.000,9,  2373.0,2,  2422.6,2,   -999.0,9,  -999.00,   7.4500,2,    25.00,-999.000,9,-999.000,-999.0000,9,-999.000,9, -999.00,9,  -999.0,9,    -9.0,-999.000,9,-999.000,   37.73,2,   44.08,2, 2600.20,-999.0000,9,-999.0000,9,-999.0000,9,-999.0000,9,-999.0000,9,-999.0000,9,     -999.0,     -999.0,9,     -999.0,9,     -999.0,9,     -999.0,9,     -999.0,9,     -999.0,9, -999.00,9,   1.5199,-999.0000,-999.000