BOTTLE,20170720CCHSIOCBG
EXPOCODE,SECT_ID,STNNBR,CASTNO,SAMPNO,BTLNBR,BTLNBR_FLAG_W,DATE,TIME,LATITUDE,LONGITUDE,DEPTH,CTDPRS,CTDTMP,CTDSAL,CTDSAL_FLAG_W,SALNTY,SALNTY_FLAG_W,CTDOXY,CTDOXY_FLAG_W,OXYGEN,OXYGEN_FLAG_W,SILCAT,SILCAT_FLAG_W,NITRAT,NITRAT_FLAG_W,NITRIT,NITRIT_FLAG_W,PHSPHT,PHSPHT_FLAG_W,CFC-11,CFC-11_FLAG_W,CFC-12,CFC-12_FLAG_W,CFC113,CFC113_FLAG_W,TCARBN,TCARBN_FLAG_W,ALKALI,ALKALI_FLAG_W,FCO2,FCO2_FLAG_W,FCO2TMP,PH_TOT,PH_TOT_FLAG_W,PH_TMP,TRITUM,TRITUM_FLAG_W,TRITER,HELIUM,HELIUM_FLAG_W,DELHE3,DELHE3_FLAG_W,DELC13,DELC13_FLAG_W,DELC14,DELC14_FLAG_W,C14ERR,NEON,NEON_FLAG_W,NEONER,DOC,DOC_FLAG_W,TDN,TDN_FLAG_W,CTDRAW,CDOM325,CDOM325_FLAG_W,CDOM340,CDOM340_FLAG_W,CDOM380,CDOM380_FLAG_W,CDOM412,CDOM412_FLAG_W,CDOMSL,CDOMSL_FLAG_W,CDOMSN,CDOMSN_FLAG_W,DCNS,ARABI,ARABI_FLAG_W,FUCO,FUCO_FLAG_W,GALA,GALA_FLAG_W,GLUC,GLUC_FLAG_W,MAN,MAN_FLAG_W,RHAM,RHAM_FLAG_W,BRDU,BRDU_FLAG_W,THETA,HELIER,DELHER
,,,,,,,,,,,METERS,DBAR,ITS-90,PSS-78,,PSS-78,,UMOL/KG,,UMOL/KG,,UMOL/KG,,UMOL/KG,,UMOL/KG,,UMOL/KG,,PMOL/KG,,PMOL/KG,,PMOL/KG,,UMOL/KG,,UMOL/KG,,UATM,,DEG C,,,DEG C,TU,,TU,NMOL/KG,,PERCNT,,/MILLE,,/MILLE,,/MILLE,NMOL/KG,,NMOL/KG,UMOL/KG,,UMOL/KG,,DBAR,1/M,,1/M,,1/M,,1/M,,1/NM,,1/NM,,NMOL/KG,NMOL/KG,,NMOL/KG,,NMOL/KG,,NMOL/KG,,NMOL/KG,,NMOL/KG,,PMOL/L/H,,DEG C,NMOL/KG,PERCNT
325020060213,       P16N,      58,          1,          9,          9,2,20060318,       2107,         36,  -152.0002,       5510,  2873.9,   1.5756,  34.6611,2,  34.6607,2,    110.1,2,   110.6,2,  165.80,2,   39.00,2,    0.00,2,    2.73,2,   0.012,3,   0.000,2,-999.000,5,  2356.0,2,  2432.6,2,   -999.0,9,  -999.00,   7.5060,2,    25.00,-999.000,9,-999.000,-999.0000,9,-999.000,9, -999.00,5,  -247.3,2,     2.7,-999.000,9,-999.000,   37.03,2,   42.30,2, 2873.90,   0.1310,2,   0.0890,2,   0.0460,2,   0.0330,2,   0.0155,2,   0.0181,2,     -999.0,     -999.0,9,     -999.0,9,     -999.0,9,     -999.0,9,     -999.0,9,     -999.0,9, -999.00,9,   1.3691,-999.0000,-999.000
325020060213,       P16N,      58,          1,          8,          8,2,20060318,       2107,         36,  -152.0002,       5510,  3125.8,   1.5213,  34.6702,2,  34.6696,2,    121.3,2,   121.5,2,  163.30,2,   38.10,2,    0.00,2,    2.67,2,-999.000,9,-999.000,9,-999.000,9,  2349.3,2,  2433.9,2,   -999.0,9,  -999.00,   7.5286,2,    25.00,-999.000,9,-999.000,-999.0000,9,-999.000,9, -999.00,5,  -260.0,2,     3.0,-999.000,9,-999.000,   37.17,2,   41.82,2, 3125.80,   0.1270,2,   0.0850,2,   0.0430,2,   0.0310,2,   0.0162,2,   0.0187,2,     -999.0,     -999.0,9,     -999.0,9,     -999.0,9,     -999.0,9,     -999.0,9,     -999.0,9, -999.00,9,   1.2919,-999.0000,-999.000
325020060213,       P16N,      58,          1,          7,          7,2,20060318,       2107,         36,  -152.0002,       5510,  3451.6,   1.4840,  34.6779,2,  34.6802,2,    131.7,2,   132.5,2,  159.90,2,   37.30,2,    0.00,2,    2.61,2,  -0.003,2,   0.000,2,-999.000,5,  2341.4,2,  2427.5,6,   -999.0,9,  -999.00,   7.5491,6,    25.00,-999.000,9,-999.000,-999.0000,9,-999.000,9, -999.00,5,  -242.3,2,     3.1,-999.000,9,-999.000,   37.92,2,   40.20,2, 3451.60,   0.1230,2,   0.0820,2,   0.0410,2,   0.0290,2,   0.0174,2,   0.0196,2,     -999.0,     -999.0,9,     -999.0,9,     -999.0,9,     -999.0,9,     -999.0,9,     -999.0,9, -999.00,9,   1.2232,-999.0000,-999.000
325020060213,       P16N,      58,          1,          6,          6,2,20060318,       2107,         36,  -152.0002,       5510,  3842.0,   1.4711,  34.6840,2,  34.6834,2,    140.3,2,   140.8,2,  158.00,2,   36.70,2,    0.00,2,    2.57,2,-999.000,9,-999.000,9,-999.000,9,  2336.6,2,  2428.4,2,   -999.0,9,  -999.00,   7.5640,2,    25.00,-999.000,9,-999.000,-999.0000,9,-999.000,9, -999.00,5,  -232.9,2,     2.2,-999.000,9,-999.000,   37.91,2,   40.36,2, 3842.00,   0.1180,2,   0.0780,2,   0.0390,2,   0.0270,2,   0.0187,2,   0.0207,2,     -999.0,     -999.0,9,     -999.0,9,     -999.0,9,     -999.0,9,     -999.0,9,     -999.0,9, -999.00,9,   1.1700,-999.0000,-999.000
325020060213,       P16N,      58,          1,          5,          5,2,20060318,       2107,         36,  -152.0002,       5510,  4300.6,   1.4875,  34.6880,2,  34.6898,2,    146.0,2,   146.3,2,  156.40,2,   36.60,2,    0.00,2,    2.53,2,   0.002,2,  -0.002,2,-999.000,5,  2333.6,2,  2427.7,2,   -999.0,9,  -999.00,   7.5746,2,    25.00,-999.000,9,-999.000,-999.0000,9,-999.000,9, -999.00,5,  -231.3,2,     2.0,-999.000,9,-999.000,   37.82,2,   39.87,2, 4300.60,   0.1210,2,   0.0800,2,   0.0390,2,   0.0280,2,   0.0187,2,   0.0207,2,     -999.0,     -999.0,9,     -999.0,9,     -999.0,9,     -999.0,9,     -999.0,9,     -999.0,9, -999.00,9,   1.1357,-999.0000,-999.000
325020060213,       P16N,      58,          1,          4,          4,2,20060318,       2107,         36,  -152.0002,       5510,  4799.9,   1.5239,  34.6904,2,  34.6941,3,    150.7,2,   150.4,2,  153.50,6,   36.30,6,    0.00,6,    2.51,6,-999.000,9,-999.000,9,-999.000,9,  2329.9,2,  2434.4,2,   -999.0,9,  -999.00,   7.5818,2,    25.00,-999.000,9,-999.000,-999.0000,9,-999.000,9, -999.00,5,  -223.1,2,     1.9,-999.000,9,-999.000,   38.13,2,   40.24,2, 4799.90,   0.1160,2,   0.0760,2,   0.0370,2,   0.0260,2,   0.0199,2,   0.0218,2,     -999.0,     -999.0,9,     -999.0,9,     -999.0,9,     -999.0,9,     -999.0,9,     -999.0,9, -999.00,9,   1.1130,-999.0000,-999.000
325020060213,       P16N,      58,          1,          3,          3,2,20060318,       2107,         36,  -152.0002,       5510,  5099.8,   1.5494,  34.6915,2,  34.6928,2,    153.7,2,   153.4,2,  150.50,6,   36.10,6,    0.00,6,    2.49,6,   0.005,2,  -0.001,2,-999.000,5,  2327.0,2,  2433.9,2,   -999.0,9,  -999.00,   7.5850,2,    25.00,-999.000,9,-999.000,-999.0000,9,-999.000,9, -999.00,5,  -226.1,2,     1.7,-999.000,9,-999.000,   36.68,2,   39.69,2, 5099.80,   0.1150,2,   0.0750,2,   0.0360,2,   0.0260,2,   0.0200,2,   0.0220,2,     -999.0,     -999.0,9,     -999.0,9,     -999.0,9,     -999.0,9,     -999.0,9,     -999.0,9, -999.00,9,   1.1013,-999.0000,-999.000
325020060213,       P16N,      58,          1,          2,          2,2,20060318,       2107,         36,  -152.0002,       5510,  5400.6,   1.5833,  34.6923,2,  34.6964,3,    155.1,2,   154.8,2,  148.50,6,   35.80,6,    0.00,6,    2.48,6,-999.000,9,-999.000,9,-999.000,9,  2326.8,2,  2433.2,2,   -999.0,9,  -999.00,   7.5877,2,    25.00,-999.000,9,-999.000,-999.0000,9,-999.000,9, -999.00,5,  -220.7,2,     1.8,-999.000,9,-999.000,   37.10,2,   38.98,2, 5400.60,   0.1160,2,   0.0750,2,   0.0360,2,   0.0260,2,   0.0202,2,   0.0222,2,     -999.0,     -999.0,9,     -999.0,9,     -999.0,9,     -999.0,9,     -999.0,9,     -999.0,9, -999.00,9,   1.0963,-999.0000,-999.000
325020060213,       P16N,      58,          1,          1,          1,2,20060318,       2107,         36,  -152.0002,       5510,  5660.3,   1.6165,  34.6923,2,  34.6968,3,    155.7,2,   155.2,2,  148.10,2,   35.90,2,    0.00,2,    2.48,2,  -0.002,2,   0.002,2,-999.000,5,  2325.6,6,  2430.5,2,   -999.0,9,  -999.00,   7.5869,2,    25.00,-999.000,9,-999.000,-999.0000,9,-999.000,9, -999.00,5,  -213.8,2,     2.8,-999.000,9,-999.000,   37.42,2,   39.40,2, 5660.30,   0.1150,2,   0.0750,2,   0.0360,2,   0.0260,3,   0.0203,3,   0.0222,3,     -999.0,     -999.0,9,     -999.0,9,     -999.0,9,     -999.0,9,     -999.0,9,     -999.0,9, -999.00,9,   1.0950,-999.0000,-999.000