BOTTLE,20170720CCHSIOCBG
EXPOCODE,SECT_ID,STNNBR,CASTNO,SAMPNO,BTLNBR,BTLNBR_FLAG_W,DATE,TIME,LATITUDE,LONGITUDE,DEPTH,CTDPRS,CTDTMP,CTDSAL,CTDSAL_FLAG_W,SALNTY,SALNTY_FLAG_W,CTDOXY,CTDOXY_FLAG_W,OXYGEN,OXYGEN_FLAG_W,SILCAT,SILCAT_FLAG_W,NITRAT,NITRAT_FLAG_W,NITRIT,NITRIT_FLAG_W,PHSPHT,PHSPHT_FLAG_W,CFC-11,CFC-11_FLAG_W,CFC-12,CFC-12_FLAG_W,CFC113,CFC113_FLAG_W,TCARBN,TCARBN_FLAG_W,ALKALI,ALKALI_FLAG_W,FCO2,FCO2_FLAG_W,FCO2TMP,PH_TOT,PH_TOT_FLAG_W,PH_TMP,TRITUM,TRITUM_FLAG_W,TRITER,HELIUM,HELIUM_FLAG_W,DELHE3,DELHE3_FLAG_W,DELC13,DELC13_FLAG_W,DELC14,DELC14_FLAG_W,C14ERR,NEON,NEON_FLAG_W,NEONER,DOC,DOC_FLAG_W,TDN,TDN_FLAG_W,CTDRAW,CDOM325,CDOM325_FLAG_W,CDOM340,CDOM340_FLAG_W,CDOM380,CDOM380_FLAG_W,CDOM412,CDOM412_FLAG_W,CDOMSL,CDOMSL_FLAG_W,CDOMSN,CDOMSN_FLAG_W,DCNS,ARABI,ARABI_FLAG_W,FUCO,FUCO_FLAG_W,GALA,GALA_FLAG_W,GLUC,GLUC_FLAG_W,MAN,MAN_FLAG_W,RHAM,RHAM_FLAG_W,BRDU,BRDU_FLAG_W,THETA,HELIER,DELHER
,,,,,,,,,,,METERS,DBAR,ITS-90,PSS-78,,PSS-78,,UMOL/KG,,UMOL/KG,,UMOL/KG,,UMOL/KG,,UMOL/KG,,UMOL/KG,,PMOL/KG,,PMOL/KG,,PMOL/KG,,UMOL/KG,,UMOL/KG,,UATM,,DEG C,,,DEG C,TU,,TU,NMOL/KG,,PERCNT,,/MILLE,,/MILLE,,/MILLE,NMOL/KG,,NMOL/KG,UMOL/KG,,UMOL/KG,,DBAR,1/M,,1/M,,1/M,,1/M,,1/NM,,1/NM,,NMOL/KG,NMOL/KG,,NMOL/KG,,NMOL/KG,,NMOL/KG,,NMOL/KG,,NMOL/KG,,PMOL/L/H,,DEG C,NMOL/KG,PERCNT
325020060213,       P16N,      37,          1,         35,         35,2,20060228,       0724,    15.0003,       -152,       5643,     4.8,  25.3000,  34.2065,2,  34.2068,2,    209.1,2,   211.9,4,    0.20,2,    0.00,2,    0.00,2,    0.13,2,   1.775,2,   1.110,2,-999.000,5,  1940.2,2,  2252.0,2,    281.8,2,    20.00,   8.0906,2,    25.00,   0.636,2,   0.004,   1.7235,2,   -1.54,2, -999.00,9,  -999.0,9,    -9.0,   6.838,2,   0.021,   68.82,2,    4.70,2,    4.80,-999.0000,9,-999.0000,9,-999.0000,9,-999.0000,9,-999.0000,9,-999.0000,9,     -999.0,     -999.0,9,     -999.0,9,     -999.0,9,     -999.0,9,     -999.0,9,     -999.0,9, -999.00,9,  25.2989,   0.0052,    0.14
325020060213,       P16N,      37,          1,         34,         34,2,20060228,       0724,    15.0003,       -152,       5643,    25.8,  25.2505,  34.2219,2,  34.2256,2,    210.4,2,   210.5,4,    0.10,2,    0.00,2,    0.00,2,    0.14,2,   1.802,2,   1.117,2,-999.000,5,  1940.6,3,  2253.7,2,    282.0,2,    20.00,   8.0922,2,    25.00,   0.629,3,   0.004,   1.7316,2,   -1.33,2, -999.00,9,  -999.0,9,    -9.0,   6.850,2,   0.021,   68.69,2,    4.79,2,   25.80,-999.0000,9,-999.0000,9,-999.0000,9,-999.0000,9,-999.0000,9,-999.0000,9,     -999.0,     -999.0,9,     -999.0,9,     -999.0,9,     -999.0,9,     -999.0,9,     -999.0,9, -999.00,9,  25.2449,   0.0052,    0.14
325020060213,       P16N,      37,          1,         33,         33,2,20060228,       0724,    15.0003,       -152,       5643,    51.6,  24.6111,  34.4970,2,  34.4954,2,    212.7,2,   214.5,4,    0.10,2,    0.00,2,    0.00,2,    0.12,2,   1.840,6,   1.137,6,-999.000,5,  1949.9,3,  2272.7,2,    289.7,2,    20.00,   8.0862,2,    25.00,-999.000,9,-999.000,-999.0000,9,-999.000,9, -999.00,9,  -999.0,9,    -9.0,-999.000,9,-999.000,   68.37,2,    4.12,2,   51.60,-999.0000,9,-999.0000,9,-999.0000,9,-999.0000,9,-999.0000,9,-999.0000,9,     -999.0,     -999.0,9,     -999.0,9,     -999.0,9,     -999.0,9,     -999.0,9,     -999.0,9, -999.00,9,  24.6001,-999.0000,-999.000
325020060213,       P16N,      37,          1,         32,         32,2,20060228,       0724,    15.0003,       -152,       5643,    75.9,  23.5150,  34.8956,2,  34.8974,2,    218.4,2,   221.1,4,    0.30,2,    0.00,2,    0.00,2,    0.11,2,   2.002,2,   1.224,2,-999.000,5,  1999.5,3,  2305.2,2,    315.6,2,    20.00,   8.0440,2,    25.00,   0.790,2,   0.004,   1.7351,2,   -1.25,2, -999.00,9,  -999.0,9,    -9.0,   6.942,2,   0.021,   66.75,2,    4.75,2,   75.90,-999.0000,9,-999.0000,9,-999.0000,9,-999.0000,9,-999.0000,9,-999.0000,9,     -999.0,     -999.0,9,     -999.0,9,     -999.0,9,     -999.0,9,     -999.0,9,     -999.0,9, -999.00,9,  23.4993,   0.0052,    0.14
325020060213,       P16N,      37,          1,         31,         31,2,20060228,       0724,    15.0003,       -152,       5643,   100.4,  22.2346,  35.0195,2,  35.0261,2,    215.8,2,   217.0,4,    0.40,2,    0.00,2,    0.00,2,    0.10,2,   2.106,2,   1.270,2,-999.000,5,  2020.9,3,  2311.8,2,    342.3,2,    20.00,   8.0233,2,    25.00,   0.784,2,   0.003,   1.7457,2,   -1.30,2, -999.00,9,  -999.0,9,    -9.0,   6.877,2,   0.021,   65.70,2,    4.29,2,  100.40,-999.0000,9,-999.0000,9,-999.0000,9,-999.0000,9,-999.0000,9,-999.0000,9,     -999.0,     -999.0,9,     -999.0,9,     -999.0,9,     -999.0,9,     -999.0,9,     -999.0,9, -999.00,9,  22.2146,   0.0052,    0.14
325020060213,       P16N,      37,          1,         30,         30,2,20060228,       0724,    15.0003,       -152,       5643,   125.6,  20.8976,  35.0950,2,  35.0891,2,    201.4,2,   201.7,4,    0.80,2,    0.60,2,    0.10,2,    0.14,2,   2.196,2,   1.315,2,-999.000,5,  2041.8,3,  2313.1,2,    376.5,6,    20.00,   7.9959,2,    25.00,   0.804,2,   0.004,   1.7526,2,   -1.30,2, -999.00,9,  -999.0,9,    -9.0,   7.081,2,   0.021,   61.39,2,    4.66,2,  125.60,-999.0000,9,-999.0000,9,-999.0000,9,-999.0000,9,-999.0000,9,-999.0000,9,     -999.0,     -999.0,9,     -999.0,9,     -999.0,9,     -999.0,9,     -999.0,9,     -999.0,9, -999.00,9,  20.8736,   0.0053,    0.14
325020060213,       P16N,      37,          1,         29,         29,2,20060228,       0724,    15.0003,       -152,       5643,   150.0,  18.2980,  34.7326,2,  34.7531,2,    189.5,2,   191.3,4,    2.30,2,    3.30,2,    0.00,2,    0.32,2,   2.423,2,   1.413,2,-999.000,5,  2056.1,3,  -999.0,5,    445.0,2,    20.00,   7.9337,2,    25.00,   0.858,2,   0.004,   1.6964,2,   -0.89,2, -999.00,9,  -999.0,9,    -9.0,   6.967,2,   0.021,   55.23,2,    7.38,2,  150.00,-999.0000,9,-999.0000,9,-999.0000,9,-999.0000,9,-999.0000,9,-999.0000,9,     -999.0,     -999.0,9,     -999.0,9,     -999.0,9,     -999.0,9,     -999.0,9,     -999.0,9, -999.00,9,  18.2720,   0.0051,    0.14
325020060213,       P16N,      37,          1,         28,         28,2,20060228,       0724,    15.0003,       -152,       5643,   199.5,  11.8155,  34.1277,2,  34.1265,2,    142.5,2,   142.1,4,   14.80,2,   17.10,2,    0.00,2,    1.32,2,   2.771,2,   1.472,2,-999.000,5,  2137.7,2,  2260.8,6,    859.9,2,    20.00,   7.6571,2,    25.00,   0.809,2,   0.003,   1.7661,2,    3.62,2, -999.00,9,  -999.0,9,    -9.0,   7.441,2,   0.022,   47.95,2,   20.81,2,  199.50,-999.0000,9,-999.0000,9,-999.0000,9,-999.0000,9,-999.0000,9,-999.0000,9,     -999.0,     -999.0,9,     -999.0,9,     -999.0,9,     -999.0,9,     -999.0,9,     -999.0,9, -999.00,9,  11.7900,   0.0053,    0.14
325020060213,       P16N,      37,          1,         27,         27,2,20060228,       0724,    15.0003,       -152,       5643,   251.3,  10.2663,  34.3020,2,  34.3052,2,     96.0,2,    95.6,4,   25.90,2,   25.20,2,    0.00,2,    1.88,2,   1.912,2,   0.976,2,-999.000,5,  2197.0,2,  2277.0,2,   1205.9,2,    20.00,   7.5499,2,    25.00,   0.610,2,   0.004,   1.7975,2,    8.28,2, -999.00,9,  -999.0,9,    -9.0,   7.596,2,   0.023,   46.42,2,   28.66,2,  251.30,-999.0000,9,-999.0000,9,-999.0000,9,-999.0000,9,-999.0000,9,-999.0000,9,     -999.0,     -999.0,9,     -999.0,9,     -999.0,9,     -999.0,9,     -999.0,9,     -999.0,9, -999.00,9,  10.2368,   0.0054,    0.14
325020060213,       P16N,      37,          1,         26,         26,2,20060228,       0724,    15.0003,       -152,       5643,   299.9,   9.6239,  34.4230,2,  34.4231,2,     46.1,2,    49.7,4,   34.00,2,   30.30,2,    0.00,2,    2.30,2,   0.876,6,   0.442,6,-999.000,5,  2241.5,2,  2291.9,2,   1562.9,2,    20.00,   7.4248,2,    25.00,   0.448,2,   0.003,   1.8106,2,    9.81,2, -999.00,9,  -999.0,9,    -9.0,   7.661,2,   0.023,   45.09,2,   33.88,2,  299.90,-999.0000,9,-999.0000,9,-999.0000,9,-999.0000,9,-999.0000,9,-999.0000,9,     -999.0,     -999.0,9,     -999.0,9,     -999.0,9,     -999.0,9,     -999.0,9,     -999.0,9, -999.00,9,   9.5900,   0.0054,    0.14
325020060213,       P16N,      37,          1,         25,         25,2,20060228,       0724,    15.0003,       -152,       5643,   349.7,   9.0630,  34.4680,2,  34.4652,2,     29.5,2,    35.4,4,   38.40,2,   32.90,2,    0.00,2,    2.44,2,-999.000,9,-999.000,9,-999.000,9,  2258.2,2,  2297.6,2,   1701.8,2,    20.00,   7.4174,2,    25.00,   0.305,2,   0.002,   1.8174,2,    9.63,2, -999.00,9,  -999.0,9,    -9.0,   7.695,2,   0.023,   44.66,2,   37.48,2,  349.70,-999.0000,9,-999.0000,9,-999.0000,9,-999.0000,9,-999.0000,9,-999.0000,9,     -999.0,     -999.0,9,     -999.0,9,     -999.0,9,     -999.0,9,     -999.0,9,     -999.0,9, -999.00,9,   9.0248,   0.0055,    0.14
325020060213,       P16N,      37,          1,         24,         24,2,20060228,       0724,    15.0003,       -152,       5643,   399.5,   8.4176,  34.4797,2,  34.4738,2,     23.4,2,    28.9,4,   44.30,2,   35.10,2,    0.00,2,    2.57,2,   0.212,2,   0.108,2,-999.000,5,  2270.6,2,  2306.2,2,   1784.1,2,    20.00,   7.4019,2,    25.00,   0.189,2,   0.002,   1.8089,2,    9.26,2, -999.00,9,  -999.0,9,    -9.0,   7.619,2,   0.023,   44.31,2,   38.93,2,  399.50,-999.0000,9,-999.0000,9,-999.0000,9,-999.0000,9,-999.0000,9,-999.0000,9,     -999.0,     -999.0,9,     -999.0,9,     -999.0,9,     -999.0,9,     -999.0,9,     -999.0,9, -999.00,9,   8.3757,   0.0054,    0.14
325020060213,       P16N,      37,          1,         23,         23,2,20060228,       0724,    15.0003,       -152,       5643,   450.4,   7.8998,  34.4846,2,  34.4829,2,     25.5,2,    30.6,4,   48.50,2,   36.30,2,    0.00,2,    2.62,2,-999.000,9,-999.000,9,-999.000,9,  2276.0,2,  2310.2,2,   1797.4,2,    20.00,-999.0000,9,  -999.00,   0.112,2,   0.002,   1.8228,2,    9.25,2, -999.00,9,  -999.0,9,    -9.0,   7.701,2,   0.023,   43.55,2,   40.19,2,  450.40,-999.0000,9,-999.0000,9,-999.0000,9,-999.0000,9,-999.0000,9,-999.0000,9,     -999.0,     -999.0,9,     -999.0,9,     -999.0,9,     -999.0,9,     -999.0,9,     -999.0,9, -999.00,9,   7.8541,   0.0055,    0.14
325020060213,       P16N,      37,          1,         22,         22,2,20060228,       0724,    15.0003,       -152,       5643,   499.7,   7.4263,  34.4894,2,  34.4862,2,     27.7,2,    29.4,4,   53.50,2,   37.40,2,    0.00,2,    2.68,2,   0.068,2,   0.036,2,-999.000,5,  2281.5,2,  2316.6,2,   1787.6,2,    20.00,   7.3998,2,    25.00,   0.080,2,   0.001,   1.8283,2,    9.36,2, -999.00,9,  -999.0,9,    -9.0,   7.746,2,   0.023,   42.61,2,   41.69,2,  499.70,-999.0000,9,-999.0000,9,-999.0000,9,-999.0000,9,-999.0000,9,-999.0000,9,     -999.0,     -999.0,9,     -999.0,9,     -999.0,9,     -999.0,9,     -999.0,9,     -999.0,9, -999.00,9,   7.3773,   0.0055,    0.14
325020060213,       P16N,      37,          1,         21,         21,2,20060228,       0724,    15.0003,       -152,       5643,   600.2,   6.4084,  34.4890,2,  34.4866,2,     29.4,2,    34.5,4,   65.50,2,   39.40,2,    0.00,2,    2.82,2,   0.022,2,   0.012,2,-999.000,5,  2297.8,2,  2330.4,2,   1835.0,2,    20.00,   7.3932,2,    25.00,   0.034,2,   0.001,   1.8247,2,   11.26,2, -999.00,9,  -999.0,9,    -9.0,   7.720,2,   0.023,   41.54,2,   43.12,2,  600.20,-999.0000,9,-999.0000,9,-999.0000,9,-999.0000,9,-999.0000,9,-999.0000,9,     -999.0,     -999.0,9,     -999.0,9,     -999.0,9,     -999.0,9,     -999.0,9,     -999.0,9, -999.00,9,   6.3537,   0.0055,    0.14
325020060213,       P16N,      37,          1,         20,         20,2,20060228,       0724,    15.0003,       -152,       5643,   700.8,   5.7480,  34.5121,2,  34.5106,2,     26.1,2,    27.3,4,   74.70,2,   41.30,2,    0.00,2,    2.96,2,-999.000,9,-999.000,9,-999.000,9,  2314.3,2,  2344.6,2,   1919.6,2,    20.00,   7.3741,2,    25.00,   0.011,2,   0.001,   1.8551,2,   13.03,2, -999.00,9,  -999.0,9,    -9.0,   7.860,2,   0.024,   40.44,2,   45.73,2,  700.80,-999.0000,9,-999.0000,9,-999.0000,9,-999.0000,9,-999.0000,9,-999.0000,9,     -999.0,     -999.0,9,     -999.0,9,     -999.0,9,     -999.0,9,     -999.0,9,     -999.0,9, -999.00,9,   5.6871,   0.0056,    0.14
325020060213,       P16N,      37,          1,         19,         19,2,20060228,       0724,    15.0003,       -152,       5643,   800.3,   5.2234,  34.5136,2,  34.5130,2,     27.4,2,    29.5,4,   83.40,2,   42.10,2,    0.00,2,    2.99,2,   0.003,2,   0.001,2,-999.000,5,  2323.2,2,  2353.6,2,   1933.9,2,    20.00,   7.3676,2,    25.00,   0.033,2,   0.001,   1.8473,2,   15.22,2, -999.00,9,  -999.0,9,    -9.0,   7.834,2,   0.024,   39.63,2,   46.32,2,  800.30,-999.0000,9,-999.0000,9,-999.0000,9,-999.0000,9,-999.0000,9,-999.0000,9,     -999.0,     -999.0,9,     -999.0,9,     -999.0,9,     -999.0,9,     -999.0,9,     -999.0,9, -999.00,9,   5.1565,   0.0055,    0.14
325020060213,       P16N,      37,          1,         18,         18,2,20060228,       0724,    15.0003,       -152,       5643,   899.6,   4.7801,  34.5253,2,  34.5236,2,     31.5,2,    35.4,4,   91.00,2,   42.50,2,    0.00,2,    3.03,2,   0.034,4,   0.001,2,-999.000,5,  2330.3,2,  2362.0,2,   1919.3,2,    20.00,   7.3787,2,    25.00,   0.019,2,   0.001,   1.8901,2,   17.37,2, -999.00,9,  -999.0,9,    -9.0,   7.979,2,   0.024,   38.49,2,   46.56,2,  899.60,-999.0000,9,-999.0000,9,-999.0000,9,-999.0000,9,-999.0000,9,-999.0000,9,     -999.0,     -999.0,9,     -999.0,9,     -999.0,9,     -999.0,9,     -999.0,9,     -999.0,9, -999.00,9,   4.7073,   0.0057,    0.14
325020060213,       P16N,      37,          1,         17,         17,2,20060228,       0724,    15.0003,       -152,       5643,  1000.3,   4.3900,  34.5412,2,  34.5407,2,     38.2,2,    39.8,4,   98.00,2,   42.70,2,    0.00,2,    3.04,2,  -0.001,2,   0.001,2,-999.000,5,  2336.7,2,  2378.3,3,   1896.5,2,    20.00,   7.3812,2,    25.00,   0.010,2,   0.001,   1.8873,2,   19.99,2, -999.00,9,  -999.0,9,    -9.0,   7.979,2,   0.024,   38.46,2,   46.59,2, 1000.30,-999.0000,9,-999.0000,9,-999.0000,9,-999.0000,9,-999.0000,9,-999.0000,9,     -999.0,     -999.0,9,     -999.0,9,     -999.0,9,     -999.0,9,     -999.0,9,     -999.0,9, -999.00,9,   4.3113,   0.0057,    0.14
325020060213,       P16N,      37,          1,         16,         16,2,20060228,       0724,    15.0003,       -152,       5643,  1201.0,   3.7555,  34.5615,2,  34.5602,2,     49.0,2,    50.6,4,  111.00,2,   42.10,2,    0.00,2,    3.01,2,   0.003,6,   0.000,6,-999.000,5,  2344.1,2,  2380.7,2,   1807.0,2,    20.00,   7.4161,2,    25.00,   0.010,2,   0.001,   1.9023,2,   22.14,2, -999.00,9,  -999.0,9,    -9.0,   8.018,2,   0.024,   38.49,2,   46.18,2, 1201.00,-999.0000,9,-999.0000,9,-999.0000,9,-999.0000,9,-999.0000,9,-999.0000,9,     -999.0,     -999.0,9,     -999.0,9,     -999.0,9,     -999.0,9,     -999.0,9,     -999.0,9, -999.00,9,   3.6650,   0.0057,    0.14
325020060213,       P16N,      37,          1,         15,         15,2,20060228,       0724,    15.0003,       -152,       5643,  1400.7,   3.1675,  34.5866,2,  34.5865,2,     61.5,2,    65.9,4,  124.00,2,   41.50,2,    0.00,2,    2.97,2,   0.000,2,   0.000,2,-999.000,5,  2351.7,2,  2395.6,2,   1735.0,2,    20.00,   7.4196,2,    25.00,-999.000,9,-999.000,-999.0000,9,-999.000,9, -999.00,9,  -999.0,9,    -9.0,-999.000,9,-999.000,   37.00,2,   45.07,2, 1400.70,-999.0000,9,-999.0000,9,-999.0000,9,-999.0000,9,-999.0000,9,-999.0000,9,     -999.0,     -999.0,9,     -999.0,9,     -999.0,9,     -999.0,9,     -999.0,9,     -999.0,9, -999.00,9,   3.0660,-999.0000,-999.000
325020060213,       P16N,      37,          1,         14,         14,2,20060228,       0724,    15.0003,       -152,       5643,  1600.8,   2.6809,  34.6052,2,  34.6048,2,     72.9,2,    76.8,4,  135.40,2,   40.80,2,    0.00,2,    2.90,2,   0.002,2,   0.000,2,-999.000,5,  2354.7,2,  2411.1,2,   1650.4,6,    20.00,   7.4469,2,    25.00,-999.000,9,-999.000,-999.0000,9,-999.000,9, -999.00,9,  -999.0,9,    -9.0,-999.000,9,-999.000,   37.31,2,   44.61,2, 1600.80,-999.0000,9,-999.0000,9,-999.0000,9,-999.0000,9,-999.0000,9,-999.0000,9,     -999.0,     -999.0,9,     -999.0,9,     -999.0,9,     -999.0,9,     -999.0,9,     -999.0,9, -999.00,9,   2.5684,-999.0000,-999.000
325020060213,       P16N,      37,          1,         13,         13,2,20060228,       0724,    15.0003,       -152,       5643,  1801.5,   2.3556,  34.6232,2,  34.6217,2,     85.4,2,    87.8,4,  141.50,2,   40.00,2,    0.00,2,    2.83,2,-999.000,9,-999.000,9,-999.000,9,  2355.0,2,  2417.6,2,   1553.4,2,    20.00,   7.4680,2,    25.00,-999.000,9,-999.000,-999.0000,9,-999.000,9, -999.00,9,  -999.0,9,    -9.0,-999.000,9,-999.000,   36.80,2,   43.87,2, 1801.50,-999.0000,9,-999.0000,9,-999.0000,9,-999.0000,9,-999.0000,9,-999.0000,9,     -999.0,     -999.0,9,     -999.0,9,     -999.0,9,     -999.0,9,     -999.0,9,     -999.0,9, -999.00,9,   2.2306,-999.0000,-999.000
325020060213,       P16N,      37,          1,         12,         12,2,20060228,       0724,    15.0003,       -152,       5643,  2000.9,   2.1236,  34.6379,2,  34.6376,2,     97.0,2,   100.1,4,  145.30,2,   39.30,2,    0.00,2,    2.77,2,   0.003,2,   0.000,2,-999.000,5,  2352.5,2,  2424.2,2,   1472.4,2,    20.00,   7.4835,2,    25.00,-999.000,9,-999.000,-999.0000,9,-999.000,9, -999.00,9,  -999.0,9,    -9.0,-999.000,9,-999.000,   37.08,2,   43.51,2, 2000.90,-999.0000,9,-999.0000,9,-999.0000,9,-999.0000,9,-999.0000,9,-999.0000,9,     -999.0,     -999.0,9,     -999.0,9,     -999.0,9,     -999.0,9,     -999.0,9,     -999.0,9, -999.00,9,   1.9852,-999.0000,-999.000
325020060213,       P16N,      37,          1,         11,         11,2,20060228,       0724,    15.0003,       -152,       5643,  2249.3,   1.9488,  34.6513,2,  34.6508,2,    106.1,2,   111.5,4,  148.60,2,   38.80,2,    0.00,2,    2.73,2,  -0.002,2,  -0.001,2,-999.000,5,  2351.9,2,  2423.3,2,   1411.6,2,    20.00,   7.5052,2,    25.00,-999.000,9,-999.000,-999.0000,9,-999.000,9, -999.00,9,  -999.0,9,    -9.0,-999.000,9,-999.000,   36.39,2,   43.02,2, 2249.30,-999.0000,9,-999.0000,9,-999.0000,9,-999.0000,9,-999.0000,9,-999.0000,9,     -999.0,     -999.0,9,     -999.0,9,     -999.0,9,     -999.0,9,     -999.0,9,     -999.0,9, -999.00,9,   1.7918,-999.0000,-999.000
325020060213,       P16N,      37,          1,         10,         10,2,20060228,       0724,    15.0003,       -152,       5643,  2501.0,   1.8196,  34.6625,2,  34.6622,2,    113.3,2,   129.6,4,  150.90,2,   38.20,2,    0.00,2,    2.68,2,   0.003,2,   0.000,2,-999.000,5,  2349.7,2,  2427.8,2,   1364.6,2,    20.00,   7.5215,2,    25.00,-999.000,9,-999.000,-999.0000,9,-999.000,9, -999.00,9,  -999.0,9,    -9.0,-999.000,9,-999.000,   37.63,2,   42.05,2, 2501.00,-999.0000,9,-999.0000,9,-999.0000,9,-999.0000,9,-999.0000,9,-999.0000,9,     -999.0,     -999.0,9,     -999.0,9,     -999.0,9,     -999.0,9,     -999.0,9,     -999.0,9, -999.00,9,   1.6425,-999.0000,-999.000
325020060213,       P16N,      37,          1,          9,          9,2,20060228,       0724,    15.0003,       -152,       5643,  2750.1,   1.7296,  34.6698,2,  34.6685,2,    118.7,2,   124.1,4,  152.10,2,   37.90,2,    0.00,2,    2.66,2,-999.000,9,-999.000,9,-999.000,9,  2348.6,2,  2429.5,2,   1331.2,2,    20.00,   7.5218,2,    25.00,-999.000,9,-999.000,-999.0000,9,-999.000,9, -999.00,9,  -999.0,9,    -9.0,-999.000,9,-999.000,   35.77,2,   42.20,2, 2750.10,-999.0000,9,-999.0000,9,-999.0000,9,-999.0000,9,-999.0000,9,-999.0000,9,     -999.0,     -999.0,9,     -999.0,9,     -999.0,9,     -999.0,9,     -999.0,9,     -999.0,9, -999.00,9,   1.5315,-999.0000,-999.000