BOTTLE,20170720CCHSIOCBG
EXPOCODE,SECT_ID,STNNBR,CASTNO,SAMPNO,BTLNBR,BTLNBR_FLAG_W,DATE,TIME,LATITUDE,LONGITUDE,DEPTH,CTDPRS,CTDTMP,CTDSAL,CTDSAL_FLAG_W,SALNTY,SALNTY_FLAG_W,CTDOXY,CTDOXY_FLAG_W,OXYGEN,OXYGEN_FLAG_W,SILCAT,SILCAT_FLAG_W,NITRAT,NITRAT_FLAG_W,NITRIT,NITRIT_FLAG_W,PHSPHT,PHSPHT_FLAG_W,CFC-11,CFC-11_FLAG_W,CFC-12,CFC-12_FLAG_W,CFC113,CFC113_FLAG_W,TCARBN,TCARBN_FLAG_W,ALKALI,ALKALI_FLAG_W,FCO2,FCO2_FLAG_W,FCO2TMP,PH_TOT,PH_TOT_FLAG_W,PH_TMP,TRITUM,TRITUM_FLAG_W,TRITER,HELIUM,HELIUM_FLAG_W,DELHE3,DELHE3_FLAG_W,DELC13,DELC13_FLAG_W,DELC14,DELC14_FLAG_W,C14ERR,NEON,NEON_FLAG_W,NEONER,DOC,DOC_FLAG_W,TDN,TDN_FLAG_W,CTDRAW,CDOM325,CDOM325_FLAG_W,CDOM340,CDOM340_FLAG_W,CDOM380,CDOM380_FLAG_W,CDOM412,CDOM412_FLAG_W,CDOMSL,CDOMSL_FLAG_W,CDOMSN,CDOMSN_FLAG_W,DCNS,ARABI,ARABI_FLAG_W,FUCO,FUCO_FLAG_W,GALA,GALA_FLAG_W,GLUC,GLUC_FLAG_W,MAN,MAN_FLAG_W,RHAM,RHAM_FLAG_W,BRDU,BRDU_FLAG_W,THETA,HELIER,DELHER
,,,,,,,,,,,METERS,DBAR,ITS-90,PSS-78,,PSS-78,,UMOL/KG,,UMOL/KG,,UMOL/KG,,UMOL/KG,,UMOL/KG,,UMOL/KG,,PMOL/KG,,PMOL/KG,,PMOL/KG,,UMOL/KG,,UMOL/KG,,UATM,,DEG C,,,DEG C,TU,,TU,NMOL/KG,,PERCNT,,/MILLE,,/MILLE,,/MILLE,NMOL/KG,,NMOL/KG,UMOL/KG,,UMOL/KG,,DBAR,1/M,,1/M,,1/M,,1/M,,1/NM,,1/NM,,NMOL/KG,NMOL/KG,,NMOL/KG,,NMOL/KG,,NMOL/KG,,NMOL/KG,,NMOL/KG,,PMOL/L/H,,DEG C,NMOL/KG,PERCNT
325020060213,       P16N,      28,          1,         35,         35,2,20060224,       1547,     5.9998,    -151.16,       4992,     5.1,  27.2043,  34.8361,2,  34.8379,2,    200.9,2,   202.0,2,    0.40,2,    0.90,2,    0.10,2,    0.22,2,   1.635,2,   1.030,2,-999.000,5,  1973.5,6,  2289.0,2,    290.4,2,    20.00,   8.0587,2,    25.00,-999.000,9,-999.000,-999.0000,9,-999.000,9, -999.00,9,  -999.0,9,    -9.0,-999.000,9,-999.000,   64.64,2,    5.45,2,    5.10,-999.0000,9,-999.0000,9,-999.0000,9,-999.0000,9,-999.0000,9,-999.0000,9,     -999.0,     -999.0,9,     -999.0,9,     -999.0,9,     -999.0,9,     -999.0,9,     -999.0,9, -999.00,9,  27.2031,-999.0000,-999.000
325020060213,       P16N,      28,          1,         34,         34,2,20060224,       1547,     5.9998,    -151.16,       4992,    14.7,  27.2067,  34.8361,2,  34.8357,2,    201.1,2,   202.1,2,    0.30,2,    0.90,2,    0.10,2,    0.22,2,   1.709,2,   1.035,2,-999.000,5,  1974.4,2,  2287.4,2,    290.5,2,    20.00,   8.0799,2,    25.00,-999.000,9,-999.000,-999.0000,9,-999.000,9, -999.00,9,  -999.0,9,    -9.0,-999.000,9,-999.000,   64.06,2,    5.46,2,   14.70,-999.0000,9,-999.0000,9,-999.0000,9,-999.0000,9,-999.0000,9,-999.0000,9,     -999.0,     -999.0,9,     -999.0,9,     -999.0,9,     -999.0,9,     -999.0,9,     -999.0,9, -999.00,9,  27.2034,-999.0000,-999.000
325020060213,       P16N,      28,          1,         33,         33,2,20060224,       1547,     5.9998,    -151.16,       4992,    34.5,  27.1957,  34.8371,2,  34.8353,2,    201.0,2,   202.3,2,    0.40,2,    0.90,2,    0.10,2,    0.22,2,   1.646,2,   1.033,2,-999.000,5,  1974.4,2,  2289.4,2,    292.8,2,    20.00,   8.0788,2,    25.00,-999.000,9,-999.000,-999.0000,9,-999.000,9, -999.00,9,  -999.0,9,    -9.0,-999.000,9,-999.000,   63.52,2,    5.73,2,   34.50,-999.0000,9,-999.0000,9,-999.0000,9,-999.0000,9,-999.0000,9,-999.0000,9,     -999.0,     -999.0,9,     -999.0,9,     -999.0,9,     -999.0,9,     -999.0,9,     -999.0,9, -999.00,9,  27.1878,-999.0000,-999.000
325020060213,       P16N,      28,          1,         32,         32,2,20060224,       1547,     5.9998,    -151.16,       4992,    60.8,  27.1798,  34.8578,2,  34.8667,2,    202.7,2,   200.9,2,    0.40,2,    1.00,2,    0.10,2,    0.24,2,   1.640,2,   1.033,2,-999.000,5,  1977.1,2,  2294.3,2,    295.0,2,    20.00,   8.0742,2,    25.00,-999.000,9,-999.000,-999.0000,9,-999.000,9, -999.00,9,  -999.0,9,    -9.0,-999.000,9,-999.000,   62.43,2,    5.26,2,   60.80,-999.0000,9,-999.0000,9,-999.0000,9,-999.0000,9,-999.0000,9,-999.0000,9,     -999.0,     -999.0,9,     -999.0,9,     -999.0,9,     -999.0,9,     -999.0,9,     -999.0,9, -999.00,9,  27.1658,-999.0000,-999.000
325020060213,       P16N,      28,          1,         31,         31,2,20060224,       1547,     5.9998,    -151.16,       4992,    85.2,  27.1234,  34.9009,2,  34.7039,3,    196.9,2,   198.6,2,    0.60,2,    1.30,2,    0.10,2,    0.28,2,   1.656,2,   1.030,2,-999.000,5,  1982.4,2,  2292.0,2,    301.8,6,    20.00,   8.0671,2,    25.00,-999.000,9,-999.000,-999.0000,9,-999.000,9, -999.00,9,  -999.0,9,    -9.0,-999.000,9,-999.000,   58.87,2,    5.48,2,   85.20,-999.0000,9,-999.0000,9,-999.0000,9,-999.0000,9,-999.0000,9,-999.0000,9,     -999.0,     -999.0,9,     -999.0,9,     -999.0,9,     -999.0,9,     -999.0,9,     -999.0,9, -999.00,9,  27.1038,-999.0000,-999.000
325020060213,       P16N,      28,          1,         30,         30,2,20060224,       1547,     5.9998,    -151.16,       4992,   110.6,  19.7254,  34.7061,2,  34.7056,2,    145.7,2,   144.2,2,    6.00,2,    8.40,2,    0.50,2,    0.73,2,   2.147,6,   1.230,6,-999.000,5,  2085.2,2,  2284.5,2,    528.5,2,    20.00,   7.8639,2,    25.00,-999.000,9,-999.000,-999.0000,9,-999.000,9, -999.00,9,  -999.0,9,    -9.0,-999.000,9,-999.000,   53.13,2,   13.13,2,  110.60,-999.0000,9,-999.0000,9,-999.0000,9,-999.0000,9,-999.0000,9,-999.0000,9,     -999.0,     -999.0,9,     -999.0,9,     -999.0,9,     -999.0,9,     -999.0,9,     -999.0,9, -999.00,9,  19.7052,-999.0000,-999.000
325020060213,       P16N,      28,          1,         29,         29,2,20060224,       1547,     5.9998,    -151.16,       4992,   135.2,  14.8452,  34.6175,2,  34.6187,2,     84.1,2,    85.4,2,   15.90,2,   21.00,2,    0.00,2,    1.50,2,   1.729,2,   0.962,2,-999.000,5,  2166.7,2,  2286.2,2,    896.2,2,    20.00,   7.6636,2,    25.00,-999.000,9,-999.000,-999.0000,9,-999.000,9, -999.00,9,  -999.0,9,    -9.0,-999.000,9,-999.000,   50.99,2,   25.28,2,  135.20,-999.0000,9,-999.0000,9,-999.0000,9,-999.0000,9,-999.0000,9,-999.0000,9,     -999.0,     -999.0,9,     -999.0,9,     -999.0,9,     -999.0,9,     -999.0,9,     -999.0,9, -999.00,9,  14.8250,-999.0000,-999.000
325020060213,       P16N,      28,          1,         28,         28,2,20060224,       1547,     5.9998,    -151.16,       4992,   174.1,  11.0679,  34.6559,2,  34.6537,2,     48.6,2,    49.3,2,   28.30,2,   31.10,2,    0.00,2,    2.12,2,   0.748,2,   0.402,2,-999.000,5,  2228.0,2,  2298.1,6,   1286.7,2,    20.00,   7.5252,2,    25.00,-999.000,9,-999.000,-999.0000,9,-999.000,9, -999.00,9,  -999.0,9,    -9.0,-999.000,9,-999.000,   49.76,2,   35.08,2,  174.10,-999.0000,9,-999.0000,9,-999.0000,9,-999.0000,9,-999.0000,9,-999.0000,9,     -999.0,     -999.0,9,     -999.0,9,     -999.0,9,     -999.0,9,     -999.0,9,     -999.0,9, -999.00,9,  11.0464,-999.0000,-999.000
325020060213,       P16N,      28,          1,         27,         27,2,20060224,       1547,     5.9998,    -151.16,       4992,   224.2,  10.1376,  34.6848,2,  34.6849,2,     61.4,2,    58.2,2,   29.90,2,   32.00,2,    0.00,2,    2.15,2,   0.541,2,   0.293,2,-999.000,5,  2233.3,2,  2303.3,2,   1291.0,2,    20.00,   7.5313,2,    25.00,-999.000,9,-999.000,-999.0000,9,-999.000,9, -999.00,9,  -999.0,9,    -9.0,-999.000,9,-999.000,   48.62,2,   36.63,2,  224.20,-999.0000,9,-999.0000,9,-999.0000,9,-999.0000,9,-999.0000,9,-999.0000,9,     -999.0,     -999.0,9,     -999.0,9,     -999.0,9,     -999.0,9,     -999.0,9,     -999.0,9, -999.00,9,  10.1115,-999.0000,-999.000
325020060213,       P16N,      28,          1,         26,         26,2,20060224,       1547,     5.9998,    -151.16,       4992,   275.4,   9.6119,  34.6755,2,  34.6745,2,     54.9,2,    56.4,2,   31.40,2,   33.30,2,    0.00,2,    2.22,2,   0.414,2,   0.228,2,-999.000,5,  2239.3,2,  2304.8,2,   1327.8,2,    20.00,   7.5119,2,    25.00,-999.000,9,-999.000,-999.0000,9,-999.000,9, -999.00,9,  -999.0,9,    -9.0,-999.000,9,-999.000,   47.64,2,   37.54,2,  275.40,-999.0000,9,-999.0000,9,-999.0000,9,-999.0000,9,-999.0000,9,-999.0000,9,     -999.0,     -999.0,9,     -999.0,9,     -999.0,9,     -999.0,9,     -999.0,9,     -999.0,9, -999.00,9,   9.5807,-999.0000,-999.000
325020060213,       P16N,      28,          1,         25,         25,2,20060224,       1547,     5.9998,    -151.16,       4992,   323.9,   9.2867,  34.6641,2,  34.6630,2,     48.4,2,    44.4,2,   33.90,2,   34.90,2,    0.00,2,    2.34,2,   0.285,2,   0.151,2,-999.000,5,  2251.5,2,  2305.2,2,   1452.8,6,    20.00,   7.4773,2,    25.00,-999.000,9,-999.000,-999.0000,9,-999.000,9, -999.00,9,  -999.0,9,    -9.0,-999.000,9,-999.000,   46.67,2,   39.26,2,  323.90,-999.0000,9,-999.0000,9,-999.0000,9,-999.0000,9,-999.0000,9,-999.0000,9,     -999.0,     -999.0,9,     -999.0,9,     -999.0,9,     -999.0,9,     -999.0,9,     -999.0,9, -999.00,9,   9.2507,-999.0000,-999.000
325020060213,       P16N,      28,          1,         24,         24,2,20060224,       1547,     5.9998,    -151.16,       4992,   376.3,   8.9620,  34.6509,2,  34.6482,2,     48.0,2,    48.7,2,   35.30,2,   35.20,2,    0.00,2,    2.37,2,   0.241,2,   0.137,2,-999.000,5,  2248.9,2,  2306.9,2,   1444.9,2,    20.00,-999.0000,9,  -999.00,-999.000,9,-999.000,-999.0000,9,-999.000,9, -999.00,9,  -999.0,9,    -9.0,-999.000,9,-999.000,   45.77,2,   39.52,2,  376.30,-999.0000,9,-999.0000,9,-999.0000,9,-999.0000,9,-999.0000,9,-999.0000,9,     -999.0,     -999.0,9,     -999.0,9,     -999.0,9,     -999.0,9,     -999.0,9,     -999.0,9, -999.00,9,   8.9210,-999.0000,-999.000
325020060213,       P16N,      28,          1,         23,         23,2,20060224,       1547,     5.9998,    -151.16,       4992,   425.8,   8.6649,  34.6389,2,  34.6352,2,     45.5,2,    44.8,2,   37.50,2,   36.10,2,    0.00,2,    2.45,2,   0.189,2,   0.106,2,-999.000,5,  2257.0,2,  2309.6,2,   1491.4,2,    20.00,   7.4695,2,    25.00,-999.000,9,-999.000,-999.0000,9,-999.000,9, -999.00,9,  -999.0,9,    -9.0,-999.000,9,-999.000,   45.03,2,   40.52,2,  425.80,-999.0000,9,-999.0000,9,-999.0000,9,-999.0000,9,-999.0000,9,-999.0000,9,     -999.0,     -999.0,9,     -999.0,9,     -999.0,9,     -999.0,9,     -999.0,9,     -999.0,9, -999.00,9,   8.6193,-999.0000,-999.000
325020060213,       P16N,      28,          1,         22,         22,2,20060224,       1547,     5.9998,    -151.16,       4992,   474.5,   8.3029,  34.6210,2,  34.6181,2,     38.0,2,    36.2,2,   41.10,2,   37.40,2,    0.00,2,    2.58,2,   0.117,2,   0.066,2,-999.000,5,  2270.4,2,  2312.1,2,   1591.8,2,    20.00,-999.0000,9,  -999.00,-999.000,9,-999.000,-999.0000,9,-999.000,9, -999.00,9,  -999.0,9,    -9.0,-999.000,9,-999.000,   43.57,2,   41.40,2,  474.50,-999.0000,9,-999.0000,9,-999.0000,9,-999.0000,9,-999.0000,9,-999.0000,9,     -999.0,     -999.0,9,     -999.0,9,     -999.0,9,     -999.0,9,     -999.0,9,     -999.0,9, -999.00,9,   8.2532,-999.0000,-999.000
325020060213,       P16N,      28,          1,         21,         21,2,20060224,       1547,     5.9998,    -151.16,       4992,   551.0,   7.6130,  34.5963,2,  34.5959,2,     18.3,2,    17.5,2,   49.80,2,   40.10,2,    0.00,2,    2.85,2,   0.022,2,   0.013,2,-999.000,5,  2292.9,6,  2317.6,2,   1823.1,2,    20.00,   7.3918,2,    25.00,-999.000,9,-999.000,-999.0000,9,-999.000,9, -999.00,9,  -999.0,9,    -9.0,-999.000,9,-999.000,   42.21,2,   43.89,2,  551.00,-999.0000,9,-999.0000,9,-999.0000,9,-999.0000,9,-999.0000,9,-999.0000,9,     -999.0,     -999.0,9,     -999.0,9,     -999.0,9,     -999.0,9,     -999.0,9,     -999.0,9, -999.00,9,   7.5579,-999.0000,-999.000
325020060213,       P16N,      28,          1,         20,         20,2,20060224,       1547,     5.9998,    -151.16,       4992,   650.8,   6.5575,  34.5667,2,  34.5672,2,     16.9,2,    16.8,2,   61.10,2,   42.50,2,    0.00,2,    3.01,2,   0.004,6,   0.003,6,-999.000,5,  2310.7,2,  2328.3,2,   1915.7,2,    20.00,   7.3693,2,    25.00,-999.000,9,-999.000,-999.0000,9,-999.000,9, -999.00,9,  -999.0,9,    -9.0,-999.000,9,-999.000,   41.34,2,   47.02,2,  650.80,-999.0000,9,-999.0000,9,-999.0000,9,-999.0000,9,-999.0000,9,-999.0000,9,     -999.0,     -999.0,9,     -999.0,9,     -999.0,9,     -999.0,9,     -999.0,9,     -999.0,9, -999.00,9,   6.4972,-999.0000,-999.000
325020060213,       P16N,      28,          1,         19,         19,2,20060224,       1547,     5.9998,    -151.16,       4992,   751.5,   5.7778,  34.5572,2,  34.5568,2,     23.9,2,    23.3,2,   70.40,2,   43.60,2,    0.00,2,    3.06,2,   0.003,2,   0.001,2,-999.000,5,  2321.8,2,  2337.5,2,   1917.4,2,    20.00,   7.3725,2,    25.00,-999.000,9,-999.000,-999.0000,9,-999.000,9, -999.00,9,  -999.0,9,    -9.0,-999.000,9,-999.000,   40.70,2,   47.93,2,  751.50,-999.0000,9,-999.0000,9,-999.0000,9,-999.0000,9,-999.0000,9,-999.0000,9,     -999.0,     -999.0,9,     -999.0,9,     -999.0,9,     -999.0,9,     -999.0,9,     -999.0,9, -999.00,9,   5.7120,-999.0000,-999.000
325020060213,       P16N,      28,          1,         18,         18,2,20060224,       1547,     5.9998,    -151.16,       4992,   851.2,   5.1817,  34.5560,2,  34.5593,2,     38.6,2,    38.0,2,   79.00,2,   43.10,2,    0.00,2,    3.02,2,   0.005,2,   0.002,2,-999.000,5,  2321.6,2,  2350.1,2,   1821.2,2,    20.00,   7.3962,2,    25.00,-999.000,9,-999.000,-999.0000,9,-999.000,9, -999.00,9,  -999.0,9,    -9.0,-999.000,9,-999.000,   39.49,2,   47.44,2,  851.20,-999.0000,9,-999.0000,9,-999.0000,9,-999.0000,9,-999.0000,9,-999.0000,9,     -999.0,     -999.0,9,     -999.0,9,     -999.0,9,     -999.0,9,     -999.0,9,     -999.0,9, -999.00,9,   5.1104,-999.0000,-999.000
325020060213,       P16N,      28,          1,         17,         17,2,20060224,       1547,     5.9998,    -151.16,       4992,   950.2,   4.6709,  34.5621,2,  34.5632,2,     50.6,2,    51.0,2,   87.90,2,   42.50,2,    0.00,2,    2.99,2,   0.004,2,   0.001,2,-999.000,5,  2325.1,2,  2359.8,6,   1741.9,2,    20.00,   7.4117,2,    25.00,-999.000,9,-999.000,-999.0000,9,-999.000,9, -999.00,9,  -999.0,9,    -9.0,-999.000,9,-999.000,   38.76,2,   46.71,2,  950.20,-999.0000,9,-999.0000,9,-999.0000,9,-999.0000,9,-999.0000,9,-999.0000,9,     -999.0,     -999.0,9,     -999.0,9,     -999.0,9,     -999.0,9,     -999.0,9,     -999.0,9, -999.00,9,   4.5943,-999.0000,-999.000
325020060213,       P16N,      28,          1,         16,         16,2,20060224,       1547,     5.9998,    -151.16,       4992,  1100.5,   4.0571,  34.5756,2,  34.5759,2,     53.5,2,    52.8,2,  102.20,2,   42.60,2,    0.00,2,    3.03,2,-999.000,9,-999.000,9,-999.000,9,  2339.3,2,  2375.3,2,   1744.6,6,    20.00,   7.4216,2,    25.00,-999.000,9,-999.000,-999.0000,9,-999.000,9, -999.00,9,  -999.0,9,    -9.0,-999.000,9,-999.000,   38.42,2,   46.95,2, 1100.50,-999.0000,9,-999.0000,9,-999.0000,9,-999.0000,9,-999.0000,9,-999.0000,9,     -999.0,     -999.0,9,     -999.0,9,     -999.0,9,     -999.0,9,     -999.0,9,     -999.0,9, -999.00,9,   3.9724,-999.0000,-999.000
325020060213,       P16N,      28,          1,         15,         15,2,20060224,       1547,     5.9998,    -151.16,       4992,  1300.2,   3.4252,  34.5950,2,  34.5934,2,     72.3,2,    72.8,2,  114.10,2,   41.30,2,    0.00,2,    2.93,2,-999.000,9,-999.000,9,-999.000,9,  2341.4,2,  2386.5,2,   1604.6,2,    20.00,   7.4515,2,    25.00,-999.000,9,-999.000,-999.0000,9,-999.000,9, -999.00,9,  -999.0,9,    -9.0,-999.000,9,-999.000,   38.09,2,   44.80,2, 1300.20,-999.0000,9,-999.0000,9,-999.0000,9,-999.0000,9,-999.0000,9,-999.0000,9,     -999.0,     -999.0,9,     -999.0,9,     -999.0,9,     -999.0,9,     -999.0,9,     -999.0,9, -999.00,9,   3.3294,-999.0000,-999.000
325020060213,       P16N,      28,          1,         14,         14,2,20060224,       1547,     5.9998,    -151.16,       4992,  1501.5,   2.9841,  34.6108,2,  34.5916,4,     81.8,2,    72.1,3,  111.90,3,   41.40,2,    0.00,2,    2.94,3,-999.000,9,-999.000,9,-999.000,9,  2340.0,2,  2384.8,3,   1613.8,2,    20.00,   7.4509,2,    25.00,-999.000,9,-999.000,-999.0000,9,-999.000,9, -999.00,9,  -999.0,9,    -9.0,-999.000,9,-999.000,   37.67,2,   44.87,2, 1501.50,-999.0000,9,-999.0000,9,-999.0000,9,-999.0000,9,-999.0000,9,-999.0000,9,     -999.0,     -999.0,9,     -999.0,9,     -999.0,9,     -999.0,9,     -999.0,9,     -999.0,9, -999.00,9,   2.8763,-999.0000,-999.000
325020060213,       P16N,      28,          1,         13,         13,2,20060224,       1547,     5.9998,    -151.16,       4992,  1701.2,   2.6059,  34.6271,2,  34.6259,2,     90.5,2,    90.4,2,  132.80,2,   40.30,2,    0.00,2,    2.84,2,   0.000,2,   0.001,2,-999.000,5,  2350.0,2,  2407.7,2,   1494.4,2,    20.00,   7.4843,2,    25.00,-999.000,9,-999.000,-999.0000,9,-999.000,9, -999.00,9,  -999.0,9,    -9.0,-999.000,9,-999.000,   37.15,2,   43.77,2, 1701.20,-999.0000,9,-999.0000,9,-999.0000,9,-999.0000,9,-999.0000,9,-999.0000,9,     -999.0,     -999.0,9,     -999.0,9,     -999.0,9,     -999.0,9,     -999.0,9,     -999.0,9, -999.00,9,   2.4859,-999.0000,-999.000
325020060213,       P16N,      28,          1,         12,         12,2,20060224,       1547,     5.9998,    -151.16,       4992,  1799.8,   2.4800,  34.6331,2,  34.6318,2,     94.0,2,    93.9,2,  135.90,2,   40.00,2,    0.00,2,    2.82,2,-999.000,9,-999.000,9,-999.000,9,  2349.8,2,  2412.9,2,   1474.4,2,    20.00,   7.4853,2,    25.00,-999.000,9,-999.000,-999.0000,9,-999.000,9, -999.00,9,  -999.0,9,    -9.0,-999.000,9,-999.000,   38.63,2,   43.88,2, 1799.80,-999.0000,9,-999.0000,9,-999.0000,9,-999.0000,9,-999.0000,9,-999.0000,9,     -999.0,     -999.0,9,     -999.0,9,     -999.0,9,     -999.0,9,     -999.0,9,     -999.0,9, -999.00,9,   2.3535,-999.0000,-999.000
325020060213,       P16N,      28,          1,         11,         11,2,20060224,       1547,     5.9998,    -151.16,       4992,  1900.0,   2.3051,  34.6418,2,  34.6410,2,     98.7,2,    99.9,2,  140.00,2,   39.90,2,    0.00,2,    2.80,2,-999.000,9,-999.000,9,-999.000,9,  2352.2,2,  2417.6,2,   1424.8,2,    20.00,   7.4991,2,    25.00,-999.000,9,-999.000,-999.0000,9,-999.000,9, -999.00,9,  -999.0,9,    -9.0,-999.000,9,-999.000,   36.89,2,   44.16,2, 1900.00,-999.0000,9,-999.0000,9,-999.0000,9,-999.0000,9,-999.0000,9,-999.0000,9,     -999.0,     -999.0,9,     -999.0,9,     -999.0,9,     -999.0,9,     -999.0,9,     -999.0,9, -999.00,9,   2.1725,-999.0000,-999.000
325020060213,       P16N,      28,          1,         10,         10,2,20060224,       1547,     5.9998,    -151.16,       4992,  2374.6,   1.8961,  34.6670,2,  34.6669,2,    112.6,2,   112.8,2,  149.80,2,   38.80,2,    0.00,2,    2.71,2,-999.000,9,-999.000,9,-999.000,9,  2353.9,2,  2429.8,2,   1322.3,2,    20.00,   7.5283,2,    25.00,-999.000,9,-999.000,-999.0000,9,-999.000,9, -999.00,9,  -999.0,9,    -9.0,-999.000,9,-999.000,   37.30,2,   42.67,2, 2374.60,-999.0000,9,-999.0000,9,-999.0000,9,-999.0000,9,-999.0000,9,-999.0000,9,     -999.0,     -999.0,9,     -999.0,9,     -999.0,9,     -999.0,9,     -999.0,9,     -999.0,9, -999.00,9,   1.7289,-999.0000,-999.000
325020060213,       P16N,      28,          1,          9,          9,2,20060224,       1547,     5.9998,    -151.16,       4992,  2625.5,   1.8248,  34.6720,2,  34.6718,2,    116.1,2,   116.4,2,  151.60,2,   38.60,2,    0.00,2,    2.69,2,   0.000,2,   0.000,2,-999.000,5,  2354.9,2,  2431.9,2,   1316.9,2,    20.00,   7.5322,2,    25.00,-999.000,9,-999.000,-999.0000,9,-999.000,9, -999.00,9,  -999.0,9,    -9.0,-999.000,9,-999.000,   37.70,2,   42.28,2, 2625.50,-999.0000,9,-999.0000,9,-999.0000,9,-999.0000,9,-999.0000,9,-999.0000,9,     -999.0,     -999.0,9,     -999.0,9,     -999.0,9,     -999.0,9,     -999.0,9,     -999.0,9, -999.00,9,   1.6362,-999.0000,-999.000