BOTTLE,20170720CCHSIOCBG
EXPOCODE,SECT_ID,STNNBR,CASTNO,SAMPNO,BTLNBR,BTLNBR_FLAG_W,DATE,TIME,LATITUDE,LONGITUDE,DEPTH,CTDPRS,CTDTMP,CTDSAL,CTDSAL_FLAG_W,SALNTY,SALNTY_FLAG_W,CTDOXY,CTDOXY_FLAG_W,OXYGEN,OXYGEN_FLAG_W,SILCAT,SILCAT_FLAG_W,NITRAT,NITRAT_FLAG_W,NITRIT,NITRIT_FLAG_W,PHSPHT,PHSPHT_FLAG_W,CFC-11,CFC-11_FLAG_W,CFC-12,CFC-12_FLAG_W,CFC113,CFC113_FLAG_W,TCARBN,TCARBN_FLAG_W,ALKALI,ALKALI_FLAG_W,FCO2,FCO2_FLAG_W,FCO2TMP,PH_TOT,PH_TOT_FLAG_W,PH_TMP,TRITUM,TRITUM_FLAG_W,TRITER,HELIUM,HELIUM_FLAG_W,DELHE3,DELHE3_FLAG_W,DELC13,DELC13_FLAG_W,DELC14,DELC14_FLAG_W,C14ERR,NEON,NEON_FLAG_W,NEONER,DOC,DOC_FLAG_W,TDN,TDN_FLAG_W,CTDRAW,CDOM325,CDOM325_FLAG_W,CDOM340,CDOM340_FLAG_W,CDOM380,CDOM380_FLAG_W,CDOM412,CDOM412_FLAG_W,CDOMSL,CDOMSL_FLAG_W,CDOMSN,CDOMSN_FLAG_W,DCNS,ARABI,ARABI_FLAG_W,FUCO,FUCO_FLAG_W,GALA,GALA_FLAG_W,GLUC,GLUC_FLAG_W,MAN,MAN_FLAG_W,RHAM,RHAM_FLAG_W,BRDU,BRDU_FLAG_W,THETA,HELIER,DELHER
,,,,,,,,,,,METERS,DBAR,ITS-90,PSS-78,,PSS-78,,UMOL/KG,,UMOL/KG,,UMOL/KG,,UMOL/KG,,UMOL/KG,,UMOL/KG,,PMOL/KG,,PMOL/KG,,PMOL/KG,,UMOL/KG,,UMOL/KG,,UATM,,DEG C,,,DEG C,TU,,TU,NMOL/KG,,PERCNT,,/MILLE,,/MILLE,,/MILLE,NMOL/KG,,NMOL/KG,UMOL/KG,,UMOL/KG,,DBAR,1/M,,1/M,,1/M,,1/M,,1/NM,,1/NM,,NMOL/KG,NMOL/KG,,NMOL/KG,,NMOL/KG,,NMOL/KG,,NMOL/KG,,NMOL/KG,,PMOL/L/H,,DEG C,NMOL/KG,PERCNT
325020060213,       P16N,      48,          1,         36,         36,2,20060314,       1131,    26.0002,  -152.0003,       5292,     4.7,  21.2803,  35.3208,2,  35.3212,2,    220.0,2,   221.4,2,    0.30,2,    0.00,4,    0.00,2,    0.02,2,   2.091,2,   1.268,2,-999.000,9,  2015.9,6,  2324.1,2,   -999.0,9,  -999.00,   8.0535,6,    25.00,-999.000,9,-999.000,-999.0000,9,-999.000,9, -999.00,5,    74.0,2,     2.3,-999.000,9,-999.000,   69.66,2,    4.39,2,    4.70,-999.0000,9,-999.0000,9,-999.0000,9,-999.0000,9,-999.0000,9,-999.0000,9,     -999.0,     -999.0,9,     -999.0,9,     -999.0,9,     -999.0,9,     -999.0,9,     -999.0,9, -999.00,9,  21.2794,-999.0000,-999.000
325020060213,       P16N,      48,          1,         35,         35,2,20060314,       1131,    26.0002,  -152.0003,       5292,    15.2,  21.2820,  35.3208,2,  35.3258,2,    220.3,2,   227.0,2,    0.40,2,    0.00,2,    0.00,2,    0.02,2,   2.065,2,   1.267,2,-999.000,9,  2015.5,2,  2322.6,2,   -999.0,9,  -999.00,   8.0574,2,    25.00,-999.000,9,-999.000,-999.0000,9,-999.000,9, -999.00,9,  -999.0,9,    -9.0,-999.000,9,-999.000,   70.22,2,    4.46,2,   15.20,-999.0000,9,-999.0000,9,-999.0000,9,-999.0000,9,-999.0000,9,-999.0000,9,     -999.0,     -999.0,9,     -999.0,9,     -999.0,9,     -999.0,9,     -999.0,9,     -999.0,9, -999.00,9,  21.2790,-999.0000,-999.000
325020060213,       P16N,      48,          1,         34,         34,2,20060314,       1131,    26.0002,  -152.0003,       5292,    35.6,  21.2912,  35.3206,2,  35.3199,2,    222.2,2,   221.6,2,    0.40,2,    0.00,2,    0.00,2,    0.02,2,   2.054,2,   1.260,2,-999.000,9,  2015.2,2,  2323.7,2,   -999.0,9,  -999.00,   8.0538,2,    25.00,-999.000,9,-999.000,-999.0000,9,-999.000,9, -999.00,5,    68.8,2,     2.8,-999.000,9,-999.000,   67.88,2,    4.21,2,   35.60,-999.0000,9,-999.0000,9,-999.0000,9,-999.0000,9,-999.0000,9,-999.0000,9,     -999.0,     -999.0,9,     -999.0,9,     -999.0,9,     -999.0,9,     -999.0,9,     -999.0,9, -999.00,9,  21.2843,-999.0000,-999.000
325020060213,       P16N,      48,          1,         33,         33,2,20060314,       1131,    26.0002,  -152.0003,       5292,    60.4,  21.2431,  35.3259,2,  35.3244,2,    221.8,2,   221.4,2,    0.60,2,    0.00,2,    0.00,2,    0.02,2,   2.097,2,   1.268,2,-999.000,9,  2016.5,2,  2323.8,2,   -999.0,9,  -999.00,   8.0538,2,    25.00,-999.000,9,-999.000,-999.0000,9,-999.000,9, -999.00,9,  -999.0,9,    -9.0,-999.000,9,-999.000,   67.69,2,    4.33,2,   60.40,-999.0000,9,-999.0000,9,-999.0000,9,-999.0000,9,-999.0000,9,-999.0000,9,     -999.0,     -999.0,9,     -999.0,9,     -999.0,9,     -999.0,9,     -999.0,9,     -999.0,9, -999.00,9,  21.2314,-999.0000,-999.000
325020060213,       P16N,      48,          1,         32,         32,2,20060314,       1131,    26.0002,  -152.0003,       5292,    85.1,  20.7322,  35.3374,2,  35.3378,2,    222.5,2,   223.2,2,    0.70,2,    0.00,4,    0.00,2,    0.02,2,   2.140,2,   1.302,2,-999.000,9,  2019.9,2,  2323.5,2,   -999.0,9,  -999.00,   8.0464,2,    25.00,-999.000,9,-999.000,-999.0000,9,-999.000,9, -999.00,5,    67.2,2,     2.5,-999.000,9,-999.000,   64.15,2,    4.26,2,   85.10,-999.0000,9,-999.0000,9,-999.0000,9,-999.0000,9,-999.0000,9,-999.0000,9,     -999.0,     -999.0,9,     -999.0,9,     -999.0,9,     -999.0,9,     -999.0,9,     -999.0,9, -999.00,9,  20.7160,-999.0000,-999.000
325020060213,       P16N,      48,          1,         31,         31,2,20060314,       1131,    26.0002,  -152.0003,       5292,   110.3,  20.4804,  35.3214,2,  35.3260,2,    222.1,2,   222.4,2,    0.70,2,    0.00,2,    0.00,2,    0.02,2,   2.144,2,   1.301,2,-999.000,9,  2021.4,2,  2324.0,2,   -999.0,9,  -999.00,   8.0402,2,    25.00,-999.000,9,-999.000,-999.0000,9,-999.000,9, -999.00,5,    82.8,2,     2.3,-999.000,9,-999.000,   61.10,2,    4.45,2,  110.30,-999.0000,9,-999.0000,9,-999.0000,9,-999.0000,9,-999.0000,9,-999.0000,9,     -999.0,     -999.0,9,     -999.0,9,     -999.0,9,     -999.0,9,     -999.0,9,     -999.0,9, -999.00,9,  20.4597,-999.0000,-999.000
325020060213,       P16N,      48,          1,         30,         30,2,20060314,       1131,    26.0002,  -152.0003,       5292,   133.9,  20.4476,  35.3209,2,  35.3166,2,    222.0,2,   221.6,2,    0.70,2,    0.00,2,    0.00,2,    0.02,2,   2.179,2,   1.302,2,-999.000,9,  2023.6,2,  2317.9,2,   -999.0,9,  -999.00,   8.0397,2,    25.00,-999.000,9,-999.000,-999.0000,9,-999.000,9, -999.00,5,    75.1,2,     2.4,-999.000,9,-999.000,   57.68,2,    4.00,2,  133.90,-999.0000,9,-999.0000,9,-999.0000,9,-999.0000,9,-999.0000,9,-999.0000,9,     -999.0,     -999.0,9,     -999.0,9,     -999.0,9,     -999.0,9,     -999.0,9,     -999.0,9, -999.00,9,  20.4224,-999.0000,-999.000
325020060213,       P16N,      48,          1,         29,         29,2,20060314,       1131,    26.0002,  -152.0003,       5292,   175.3,  17.2291,  34.7381,2,  34.7310,2,    207.4,2,   208.7,2,    2.70,2,    2.50,2,    0.00,2,    0.23,2,   2.584,2,   1.486,2,-999.000,9,  2042.5,2,  2283.0,6,   -999.0,9,  -999.00,   7.9451,2,    25.00,-999.000,9,-999.000,-999.0000,9,-999.000,9, -999.00,5,    79.3,2,     3.3,-999.000,9,-999.000,   55.71,2,    6.29,2,  175.30,-999.0000,9,-999.0000,9,-999.0000,9,-999.0000,9,-999.0000,9,-999.0000,9,     -999.0,     -999.0,9,     -999.0,9,     -999.0,9,     -999.0,9,     -999.0,9,     -999.0,9, -999.00,9,  17.2000,-999.0000,-999.000
325020060213,       P16N,      48,          1,         28,         28,2,20060314,       1131,    26.0002,  -152.0003,       5292,   226.1,  14.7708,  34.4542,2,  34.4319,2,    207.4,2,   207.5,2,    5.20,2,    6.40,2,    0.00,2,    0.48,2,   2.910,2,   1.631,2,-999.000,9,  2058.5,2,  2265.7,2,   -999.0,9,  -999.00,   7.8861,2,    25.00,-999.000,9,-999.000,-999.0000,9,-999.000,9, -999.00,5,    73.6,2,     3.2,-999.000,9,-999.000,   50.50,2,   10.60,2,  226.10,-999.0000,9,-999.0000,9,-999.0000,9,-999.0000,9,-999.0000,9,-999.0000,9,     -999.0,     -999.0,9,     -999.0,9,     -999.0,9,     -999.0,9,     -999.0,9,     -999.0,9, -999.00,9,  14.7371,-999.0000,-999.000
325020060213,       P16N,      48,          1,         27,         27,2,20060314,       1131,    26.0002,  -152.0003,       5292,   275.4,  12.3487,  34.2454,2,  34.2488,2,    213.4,2,   210.9,2,    9.00,2,   10.30,2,    0.00,2,    0.72,2,   3.203,2,   1.749,2,-999.000,9,  2075.8,2,  2369.4,4,   -999.0,9,  -999.00,   7.8336,2,    25.00,-999.000,9,-999.000,-999.0000,9,-999.000,9, -999.00,5,    58.4,2,     3.4,-999.000,9,-999.000,   47.67,2,   14.59,2,  275.40,-999.0000,9,-999.0000,9,-999.0000,9,-999.0000,9,-999.0000,9,-999.0000,9,     -999.0,     -999.0,9,     -999.0,9,     -999.0,9,     -999.0,9,     -999.0,9,     -999.0,9, -999.00,9,  12.3122,-999.0000,-999.000
325020060213,       P16N,      48,          1,         26,         26,2,20060314,       1131,    26.0002,  -152.0003,       5292,   323.9,  11.3423,  34.2102,2,  34.2100,2,    210.3,2,   210.0,2,   12.30,2,   12.80,2,    0.00,2,    0.87,2,   3.251,2,   1.755,2,-999.000,9,  2088.4,2,  2463.2,4,   -999.0,9,  -999.00,   7.8057,2,    25.00,-999.000,9,-999.000,-999.0000,9,-999.000,9, -999.00,5,  -999.0,5,    -9.0,-999.000,9,-999.000,   47.18,2,   16.48,2,  323.90,-999.0000,9,-999.0000,9,-999.0000,9,-999.0000,9,-999.0000,9,-999.0000,9,     -999.0,     -999.0,9,     -999.0,9,     -999.0,9,     -999.0,9,     -999.0,9,     -999.0,9, -999.00,9,  11.3016,-999.0000,-999.000
325020060213,       P16N,      48,          1,         25,         25,2,20060314,       1131,    26.0002,  -152.0003,       5292,   373.8,  10.2993,  34.1627,2,  34.1633,2,    204.9,2,   203.5,2,   16.70,2,   15.50,2,    0.00,2,    1.05,2,   3.340,2,   1.745,2,-999.000,9,  2107.5,2,  2264.1,2,   -999.0,9,  -999.00,   7.7676,2,    25.00,-999.000,9,-999.000,-999.0000,9,-999.000,9, -999.00,5,    56.4,2,     3.3,-999.000,9,-999.000,   45.26,2,   19.43,2,  373.80,-999.0000,9,-999.0000,9,-999.0000,9,-999.0000,9,-999.0000,9,-999.0000,9,     -999.0,     -999.0,9,     -999.0,9,     -999.0,9,     -999.0,9,     -999.0,9,     -999.0,9, -999.00,9,  10.2552,-999.0000,-999.000
325020060213,       P16N,      48,          1,         24,         24,2,20060314,       1131,    26.0002,  -152.0003,       5292,   424.2,   9.1234,  34.1099,2,  34.1086,2,    184.1,2,   131.6,4,   25.10,2,   20.10,2,    0.00,2,    1.37,2,   3.077,2,   1.580,2,-999.000,9,  2136.6,2,  2269.7,2,   -999.0,9,  -999.00,   7.6990,2,    25.00,-999.000,9,-999.000,-999.0000,9,-999.000,9, -999.00,5,    33.9,2,     3.4,-999.000,9,-999.000,   46.72,2,   24.29,2,  424.20,-999.0000,9,-999.0000,9,-999.0000,9,-999.0000,9,-999.0000,9,-999.0000,9,     -999.0,     -999.0,9,     -999.0,9,     -999.0,9,     -999.0,9,     -999.0,9,     -999.0,9, -999.00,9,   9.0769,-999.0000,-999.000
325020060213,       P16N,      48,          1,         23,         23,2,20060314,       1131,    26.0002,  -152.0003,       5292,   474.3,   8.1473,  34.0667,2,  34.0661,2,    160.9,2,   160.4,2,   33.70,2,   24.10,2,    0.00,2,    1.64,2,   2.782,2,   1.383,2,-999.000,9,  2165.6,2,  2273.2,2,   -999.0,9,  -999.00,   7.6336,2,    25.00,-999.000,9,-999.000,-999.0000,9,-999.000,9, -999.00,5,    10.5,2,     3.4,-999.000,9,-999.000,   44.76,2,   28.55,2,  474.30,-999.0000,9,-999.0000,9,-999.0000,9,-999.0000,9,-999.0000,9,-999.0000,9,     -999.0,     -999.0,9,     -999.0,9,     -999.0,9,     -999.0,9,     -999.0,9,     -999.0,9, -999.00,9,   8.0986,-999.0000,-999.000
325020060213,       P16N,      48,          1,         22,         22,2,20060314,       1131,    26.0002,  -152.0003,       5292,   549.9,   6.8394,  34.0239,2,  34.0277,2,    127.8,2,   128.0,2,   47.40,2,   29.80,2,    0.00,2,    2.04,2,   2.101,2,   1.024,2,-999.000,9,  2207.8,2,  2282.0,2,   -999.0,9,  -999.00,   7.5387,2,    25.00,-999.000,9,-999.000,-999.0000,9,-999.000,9, -999.00,5,   -31.0,2,     2.9,-999.000,9,-999.000,   43.59,2,   33.51,2,  549.90,-999.0000,9,-999.0000,9,-999.0000,9,-999.0000,9,-999.0000,9,-999.0000,9,     -999.0,     -999.0,9,     -999.0,9,     -999.0,9,     -999.0,9,     -999.0,9,     -999.0,9, -999.00,9,   6.7881,-999.0000,-999.000
325020060213,       P16N,      48,          1,         21,         21,2,20060314,       1131,    26.0002,  -152.0003,       5292,   649.2,   5.1118,  34.0639,2,  34.0640,2,     65.4,2,    66.5,2,   76.30,2,   38.00,2,    0.00,2,    2.67,2,   0.803,2,   0.404,2,-999.000,9,  2280.0,2,  2306.0,2,   -999.0,9,  -999.00,   7.3826,2,    25.00,-999.000,9,-999.000,-999.0000,9,-999.000,9, -999.00,5,  -102.5,2,     3.0,-999.000,9,-999.000,   41.93,2,   42.23,2,  649.20,-999.0000,9,-999.0000,9,-999.0000,9,-999.0000,9,-999.0000,9,-999.0000,9,     -999.0,     -999.0,9,     -999.0,9,     -999.0,9,     -999.0,9,     -999.0,9,     -999.0,9, -999.00,9,   5.0593,-999.0000,-999.000
325020060213,       P16N,      48,          1,         20,         20,2,20060314,       1131,    26.0002,  -152.0003,       5292,   749.2,   4.5293,  34.1711,2,  34.1722,2,     34.5,2,    35.5,2,   93.80,2,   41.40,2,    0.00,2,    2.94,2,   0.256,2,   0.132,2,-999.000,9,  2318.9,6,  2327.5,2,   -999.0,9,  -999.00,   7.3299,2,    25.00,-999.000,9,-999.000,-999.0000,9,-999.000,9, -999.00,5,  -146.3,2,     2.9,-999.000,9,-999.000,   40.75,2,   45.09,2,  749.20,-999.0000,9,-999.0000,9,-999.0000,9,-999.0000,9,-999.0000,9,-999.0000,9,     -999.0,     -999.0,9,     -999.0,9,     -999.0,9,     -999.0,9,     -999.0,9,     -999.0,9, -999.00,9,   4.4714,-999.0000,-999.000
325020060213,       P16N,      48,          1,         19,         19,2,20060314,       1131,    26.0002,  -152.0003,       5292,   849.0,   4.2515,  34.3030,2,  34.3013,2,     21.2,2,    22.9,2,  104.50,2,   42.40,3,    0.00,2,    3.07,2,   0.043,2,   0.030,2,-999.000,9,  2342.0,2,  2348.5,2,   -999.0,9,  -999.00,   7.3164,2,    25.00,-999.000,9,-999.000,-999.0000,9,-999.000,9, -999.00,5,  -178.7,2,     1.9,-999.000,9,-999.000,   40.93,2,   46.84,2,  849.00,-999.0000,9,-999.0000,9,-999.0000,9,-999.0000,9,-999.0000,9,-999.0000,9,     -999.0,     -999.0,9,     -999.0,9,     -999.0,9,     -999.0,9,     -999.0,9,     -999.0,9, -999.00,9,   4.1868,-999.0000,-999.000
325020060213,       P16N,      48,          1,         18,         18,2,20060314,       1131,    26.0002,  -152.0003,       5292,   946.9,   3.9131,  34.3917,2,  34.3959,2,     26.6,2,    27.4,2,  113.40,2,   43.00,2,    0.00,2,    3.08,2,   0.024,2,   0.018,2,-999.000,9,  2351.1,2,  2363.6,6,   -999.0,9,  -999.00,   7.3444,2,    25.00,-999.000,9,-999.000,-999.0000,9,-999.000,9, -999.00,9,  -999.0,9,    -9.0,-999.000,9,-999.000,   40.29,2,   46.95,2,  946.90,-999.0000,9,-999.0000,9,-999.0000,9,-999.0000,9,-999.0000,9,-999.0000,9,     -999.0,     -999.0,9,     -999.0,9,     -999.0,9,     -999.0,9,     -999.0,9,     -999.0,9, -999.00,9,   3.8427,-999.0000,-999.000
325020060213,       P16N,      48,          1,         17,         17,2,20060314,       1131,    26.0002,  -152.0003,       5292,  1099.6,   3.6077,  34.4608,2,  34.4603,2,     37.5,2,    38.7,2,  119.60,2,   42.30,2,    0.00,2,    3.04,2,   0.007,2,   0.007,2,-999.000,9,  2353.8,2,  2376.5,2,   -999.0,9,  -999.00,   7.3683,2,    25.00,-999.000,9,-999.000,-999.0000,9,-999.000,9, -999.00,9,  -999.0,9,    -9.0,-999.000,9,-999.000,   39.47,2,   45.92,2, 1099.60,-999.0000,9,-999.0000,9,-999.0000,9,-999.0000,9,-999.0000,9,-999.0000,9,     -999.0,     -999.0,9,     -999.0,9,     -999.0,9,     -999.0,9,     -999.0,9,     -999.0,9, -999.00,9,   3.5271,-999.0000,-999.000
325020060213,       P16N,      48,          1,         16,         16,2,20060314,       1131,    26.0002,  -152.0003,       5292,  1299.3,   3.1601,  34.5227,2,  34.5229,2,     51.9,2,    52.8,2,  128.40,2,   41.90,2,    0.00,2,    2.99,2,   0.009,6,   0.006,6,-999.000,5,  2357.3,2,  2389.6,2,   -999.0,9,  -999.00,   7.3986,2,    25.00,-999.000,9,-999.000,-999.0000,9,-999.000,9, -999.00,9,  -999.0,9,    -9.0,-999.000,9,-999.000,   38.85,2,   45.87,2, 1299.30,-999.0000,9,-999.0000,9,-999.0000,9,-999.0000,9,-999.0000,9,-999.0000,9,     -999.0,     -999.0,9,     -999.0,9,     -999.0,9,     -999.0,9,     -999.0,9,     -999.0,9, -999.00,9,   3.0672,-999.0000,-999.000
325020060213,       P16N,      48,          1,         15,         15,2,20060314,       1131,    26.0002,  -152.0003,       5292,  1500.8,   2.7787,  34.5617,2,  34.5614,2,     62.4,2,    62.3,2,  137.30,2,   41.40,2,    0.00,2,    2.95,2,-999.000,9,-999.000,9,-999.000,9,  2361.2,2,  2399.4,2,   -999.0,9,  -999.00,   7.4194,2,    25.00,-999.000,9,-999.000,-999.0000,9,-999.000,9, -999.00,9,  -999.0,9,    -9.0,-999.000,9,-999.000,   37.19,2,   44.90,2, 1500.80,-999.0000,9,-999.0000,9,-999.0000,9,-999.0000,9,-999.0000,9,-999.0000,9,     -999.0,     -999.0,9,     -999.0,9,     -999.0,9,     -999.0,9,     -999.0,9,     -999.0,9, -999.00,9,   2.6734,-999.0000,-999.000
325020060213,       P16N,      48,          1,         14,         14,2,20060314,       1131,    26.0002,  -152.0003,       5292,  1699.8,   2.4593,  34.5886,2,  34.5889,2,     71.4,2,    71.2,2,  145.60,2,   41.00,2,    0.00,2,    2.92,2,-999.000,9,-999.000,9,-999.000,9,  2362.8,2,  2408.0,2,   -999.0,9,  -999.00,   7.4393,2,    25.00,-999.000,9,-999.000,-999.0000,9,-999.000,9, -999.00,9,  -999.0,9,    -9.0,-999.000,9,-999.000,   37.17,2,   44.53,2, 1699.80,-999.0000,9,-999.0000,9,-999.0000,9,-999.0000,9,-999.0000,9,-999.0000,9,     -999.0,     -999.0,9,     -999.0,9,     -999.0,9,     -999.0,9,     -999.0,9,     -999.0,9, -999.00,9,   2.3415,-999.0000,-999.000
325020060213,       P16N,      48,          1,         13,         13,2,20060314,       1131,    26.0002,  -152.0003,       5292,  1900.3,   2.2227,  34.6070,2,  34.6060,2,     78.3,2,    78.3,2,  151.70,2,   40.80,2,    0.00,2,    2.89,2,   0.004,2,   0.003,2,-999.000,9,  2364.3,2,  2415.1,2,   -999.0,9,  -999.00,   7.4556,2,    25.00,-999.000,9,-999.000,-999.0000,9,-999.000,9, -999.00,9,  -999.0,9,    -9.0,-999.000,9,-999.000,   37.28,2,   45.05,2, 1900.30,-999.0000,9,-999.0000,9,-999.0000,9,-999.0000,9,-999.0000,9,-999.0000,9,     -999.0,     -999.0,9,     -999.0,9,     -999.0,9,     -999.0,9,     -999.0,9,     -999.0,9, -999.00,9,   2.0914,-999.0000,-999.000
325020060213,       P16N,      48,          1,         12,         12,2,20060314,       1131,    26.0002,  -152.0003,       5292,  2124.1,   1.9816,  34.6275,2,  34.6270,2,     88.4,2,    88.8,2,  157.10,2,   40.10,2,    0.00,2,    2.83,2,-999.000,9,-999.000,9,-999.000,9,  2362.3,2,  2421.0,2,   -999.0,9,  -999.00,   7.4689,2,    25.00,-999.000,9,-999.000,-999.0000,9,-999.000,9, -999.00,9,  -999.0,9,    -9.0,-999.000,9,-999.000,   36.58,2,   43.79,2, 2124.10,-999.0000,9,-999.0000,9,-999.0000,9,-999.0000,9,-999.0000,9,-999.0000,9,     -999.0,     -999.0,9,     -999.0,9,     -999.0,9,     -999.0,9,     -999.0,9,     -999.0,9, -999.00,9,   1.8349,-999.0000,-999.000
325020060213,       P16N,      48,          1,         11,         11,2,20060314,       1131,    26.0002,  -152.0003,       5292,  2374.6,   1.8010,  34.6440,2,  34.6449,2,     99.1,2,    98.7,2,  161.10,2,   39.30,2,    0.00,2,    2.78,2,  -0.001,2,   0.011,2,-999.000,9,  2360.6,2,  2425.8,2,   -999.0,9,  -999.00,   7.4898,2,    25.00,-999.000,9,-999.000,-999.0000,9,-999.000,9, -999.00,9,  -999.0,9,    -9.0,-999.000,9,-999.000,   37.28,2,   43.55,2, 2374.60,-999.0000,9,-999.0000,9,-999.0000,9,-999.0000,9,-999.0000,9,-999.0000,9,     -999.0,     -999.0,9,     -999.0,9,     -999.0,9,     -999.0,9,     -999.0,9,     -999.0,9, -999.00,9,   1.6356,-999.0000,-999.000
325020060213,       P16N,      48,          1,         10,         10,2,20060314,       1131,    26.0002,  -152.0003,       5292,  2625.1,   1.6761,  34.6570,2,  34.6573,2,    110.4,2,   111.7,2,  161.00,2,   39.00,2,    0.00,2,    2.73,2,-999.000,9,-999.000,9,-999.000,9,  2355.0,2,  2426.2,2,   -999.0,9,  -999.00,   7.5097,6,    25.00,-999.000,9,-999.000,-999.0000,9,-999.000,9, -999.00,9,  -999.0,9,    -9.0,-999.000,9,-999.000,   37.00,2,   42.67,2, 2625.10,-999.0000,9,-999.0000,9,-999.0000,9,-999.0000,9,-999.0000,9,-999.0000,9,     -999.0,     -999.0,9,     -999.0,9,     -999.0,9,     -999.0,9,     -999.0,9,     -999.0,9, -999.00,9,   1.4906,-999.0000,-999.000