BOTTLE,20170720CCHSIOCBG
EXPOCODE,SECT_ID,STNNBR,CASTNO,SAMPNO,BTLNBR,BTLNBR_FLAG_W,DATE,TIME,LATITUDE,LONGITUDE,DEPTH,CTDPRS,CTDTMP,CTDSAL,CTDSAL_FLAG_W,SALNTY,SALNTY_FLAG_W,CTDOXY,CTDOXY_FLAG_W,OXYGEN,OXYGEN_FLAG_W,SILCAT,SILCAT_FLAG_W,NITRAT,NITRAT_FLAG_W,NITRIT,NITRIT_FLAG_W,PHSPHT,PHSPHT_FLAG_W,CFC-11,CFC-11_FLAG_W,CFC-12,CFC-12_FLAG_W,CFC113,CFC113_FLAG_W,TCARBN,TCARBN_FLAG_W,ALKALI,ALKALI_FLAG_W,FCO2,FCO2_FLAG_W,FCO2TMP,PH_TOT,PH_TOT_FLAG_W,PH_TMP,TRITUM,TRITUM_FLAG_W,TRITER,HELIUM,HELIUM_FLAG_W,DELHE3,DELHE3_FLAG_W,DELC13,DELC13_FLAG_W,DELC14,DELC14_FLAG_W,C14ERR,NEON,NEON_FLAG_W,NEONER,DOC,DOC_FLAG_W,TDN,TDN_FLAG_W,CTDRAW,CDOM325,CDOM325_FLAG_W,CDOM340,CDOM340_FLAG_W,CDOM380,CDOM380_FLAG_W,CDOM412,CDOM412_FLAG_W,CDOMSL,CDOMSL_FLAG_W,CDOMSN,CDOMSN_FLAG_W,DCNS,ARABI,ARABI_FLAG_W,FUCO,FUCO_FLAG_W,GALA,GALA_FLAG_W,GLUC,GLUC_FLAG_W,MAN,MAN_FLAG_W,RHAM,RHAM_FLAG_W,BRDU,BRDU_FLAG_W,THETA,HELIER,DELHER
,,,,,,,,,,,METERS,DBAR,ITS-90,PSS-78,,PSS-78,,UMOL/KG,,UMOL/KG,,UMOL/KG,,UMOL/KG,,UMOL/KG,,UMOL/KG,,PMOL/KG,,PMOL/KG,,PMOL/KG,,UMOL/KG,,UMOL/KG,,UATM,,DEG C,,,DEG C,TU,,TU,NMOL/KG,,PERCNT,,/MILLE,,/MILLE,,/MILLE,NMOL/KG,,NMOL/KG,UMOL/KG,,UMOL/KG,,DBAR,1/M,,1/M,,1/M,,1/M,,1/NM,,1/NM,,NMOL/KG,NMOL/KG,,NMOL/KG,,NMOL/KG,,NMOL/KG,,NMOL/KG,,NMOL/KG,,PMOL/L/H,,DEG C,NMOL/KG,PERCNT
325020060213,       P16N,      36,          3,         35,         35,2,20060227,       2152,         14,       -152,       5639,     4.8,  25.9890,  34.3906,2,  34.3927,2,    206.2,2,   206.4,4,    0.10,2,    0.00,2,    0.00,2,    0.13,2,   1.732,2,   1.082,2,-999.000,5,  1947.0,6,  2256.9,2,   -999.0,9,  -999.00,   8.1013,2,    25.00,-999.000,9,-999.000,-999.0000,9,-999.000,9, -999.00,5,    69.4,2,     2.5,-999.000,9,-999.000,   67.65,2,    3.99,2,    4.80,   0.0310,2,   0.0210,2,   0.0070,2,   0.0060,2,   0.0343,2,   0.0344,2,     -999.0,     -999.0,9,     -999.0,9,     -999.0,9,     -999.0,9,     -999.0,9,     -999.0,9,    2.19,2,  25.9880,-999.0000,-999.000
325020060213,       P16N,      36,          3,         34,         34,2,20060227,       2152,         14,       -152,       5639,    14.8,  25.9940,  34.3902,2,  34.3925,2,    206.5,2,   206.1,4,    0.20,2,    0.00,2,    0.00,2,    0.13,2,-999.000,9,-999.000,9,-999.000,9,  1937.7,2,  2257.3,2,   -999.0,9,  -999.00,-999.0000,9,  -999.00,-999.000,9,-999.000,-999.0000,9,-999.000,9, -999.00,9,  -999.0,9,    -9.0,-999.000,9,-999.000,   68.65,2,    4.27,2,   14.80,   0.0310,2,   0.0200,2,   0.0060,2,   0.0060,2,   0.0338,2,   0.0339,2,     -999.0,     -999.0,9,     -999.0,9,     -999.0,9,     -999.0,9,     -999.0,9,     -999.0,9,    2.00,2,  25.9907,-999.0000,-999.000
325020060213,       P16N,      36,          3,         33,         33,2,20060227,       2152,         14,       -152,       5639,    34.0,  26.0348,  34.4512,2,  34.4540,2,    206.5,2,   244.4,4,    0.30,2,    0.00,2,    0.00,2,    0.14,2,   1.727,6,   1.087,6,-999.000,5,  1947.2,2,  2261.1,2,   -999.0,9,  -999.00,   8.0872,2,    25.00,-999.000,9,-999.000,-999.0000,9,-999.000,9, -999.00,5,    54.1,2,     2.5,-999.000,9,-999.000,   68.24,2,    4.55,2,   34.00,   0.0330,2,   0.0210,2,   0.0060,2,   0.0060,2,   0.0346,2,   0.0347,2,     -999.0,     -999.0,9,     -999.0,9,     -999.0,9,     -999.0,9,     -999.0,9,     -999.0,9,    2.37,2,  26.0272,-999.0000,-999.000
325020060213,       P16N,      36,          3,         32,         32,2,20060227,       2152,         14,       -152,       5639,    59.6,  25.8459,  34.4420,2,  34.4498,2,    206.5,2,   240.9,4,    0.20,2,    0.00,2,    0.00,2,    0.14,2,   1.738,2,   1.094,2,-999.000,5,  1943.1,2,  2267.9,2,   -999.0,9,  -999.00,   8.0721,2,    25.00,-999.000,9,-999.000,-999.0000,9,-999.000,9, -999.00,5,    54.9,2,     2.4,-999.000,9,-999.000,   67.80,2,    3.61,2,   59.60,   0.0410,2,   0.0270,2,   0.0080,2,   0.0070,2,   0.0301,2,   0.0304,2,     -999.0,     -999.0,9,     -999.0,9,     -999.0,9,     -999.0,9,     -999.0,9,     -999.0,9,    2.83,2,  25.8327,-999.0000,-999.000
325020060213,       P16N,      36,          3,         31,         31,2,20060227,       2152,         14,       -152,       5639,    84.2,  22.3774,  34.5928,2,  34.5944,2,    217.9,2,   224.3,4,    0.80,2,    0.10,2,    0.00,2,    0.18,2,   2.129,2,   1.283,2,-999.000,5,  2010.0,2,  2292.5,2,   -999.0,9,  -999.00,   8.0234,2,    25.00,-999.000,9,-999.000,-999.0000,9,-999.000,9, -999.00,5,    54.6,2,     3.2,-999.000,9,-999.000,   67.87,2,    4.10,2,   84.20,   0.1340,2,   0.0930,2,   0.0400,2,   0.0280,2,   0.0192,2,   0.0216,2,     -999.0,     -999.0,9,     -999.0,9,     -999.0,9,     -999.0,9,     -999.0,9,     -999.0,9,    2.19,2,  22.3606,-999.0000,-999.000
325020060213,       P16N,      36,          3,         30,         30,2,20060227,       2152,         14,       -152,       5639,   110.2,  18.8952,  34.4546,2,  34.4732,2,    180.3,2,   209.1,4,    3.80,2,    4.30,2,    0.10,2,    0.58,2,   2.303,2,   1.351,2,-999.000,5,  2076.1,2,  2289.0,2,   -999.0,9,  -999.00,   7.8900,2,    25.00,-999.000,9,-999.000,-999.0000,9,-999.000,9, -999.00,5,    55.2,2,     2.4,-999.000,9,-999.000,   61.75,2,    8.72,2,  110.20,   0.1650,2,   0.1170,2,   0.0540,2,   0.0390,2,   0.0163,3,   0.0189,3,     -999.0,     -999.0,9,     -999.0,9,     -999.0,9,     -999.0,9,     -999.0,9,     -999.0,9,    1.81,2,  18.8757,-999.0000,-999.000
325020060213,       P16N,      36,          3,         29,         29,2,20060227,       2152,         14,       -152,       5639,   133.5,  16.6640,  34.4527,2,  34.4585,2,    154.5,2,   201.6,4,    5.30,2,    8.30,2,    0.10,2,    0.71,2,   2.464,2,   1.421,2,-999.000,5,  2088.1,2,  2271.9,2,   -999.0,9,  -999.00,   7.8369,2,    25.00,-999.000,9,-999.000,-999.0000,9,-999.000,9, -999.00,5,    55.5,2,     2.4,-999.000,9,-999.000,   56.22,2,   12.30,2,  133.50,   0.1420,2,   0.1020,2,   0.0500,2,   0.0380,2,   0.0147,3,   0.0172,3,     -999.0,     -999.0,9,     -999.0,9,     -999.0,9,     -999.0,9,     -999.0,9,     -999.0,9,    2.05,2,  16.6424,-999.0000,-999.000
325020060213,       P16N,      36,          3,         28,         28,2,20060227,       2152,         14,       -152,       5639,   173.6,  12.8909,  34.2167,2,  34.2126,2,    145.0,2,   192.9,4,   12.10,2,   15.80,2,    0.00,2,    1.18,2,   2.694,6,   1.477,6,-999.000,5,  2126.8,2,  2259.3,6,   -999.0,9,  -999.00,   7.7049,2,    25.00,-999.000,9,-999.000,-999.0000,9,-999.000,9, -999.00,5,    44.2,2,     2.2,-999.000,9,-999.000,   50.41,2,   19.84,2,  173.60,   0.1280,2,   0.0920,2,   0.0460,2,   0.0360,2,   0.0142,3,   0.0167,3,     -999.0,     -999.0,9,     -999.0,9,     -999.0,9,     -999.0,9,     -999.0,9,     -999.0,9,    0.76,2,  12.8673,-999.0000,-999.000
325020060213,       P16N,      36,          3,         27,         27,2,20060227,       2152,         14,       -152,       5639,   225.1,  10.3913,  34.3647,2,  34.3619,2,     73.0,2,    87.5,4,   28.40,2,   27.10,2,    0.00,2,    2.06,2,   1.558,2,   0.795,2,-999.000,5,  2216.3,2,  -999.0,5,   -999.0,9,  -999.00,-999.0000,9,  -999.00,-999.000,9,-999.000,-999.0000,9,-999.000,9, -999.00,5,   -14.1,2,     2.1,-999.000,9,-999.000,   48.75,2,   30.89,2,  225.10,   0.1560,2,   0.1140,2,   0.0630,2,   0.0500,2,   0.0126,3,   0.0143,3,     -999.0,     -999.0,9,     -999.0,9,     -999.0,9,     -999.0,9,     -999.0,9,     -999.0,9, -999.00,9,  10.3647,-999.0000,-999.000
325020060213,       P16N,      36,          3,         26,         26,2,20060227,       2152,         14,       -152,       5639,   274.6,   9.3398,  34.4644,2,  34.4663,2,     29.8,2,    32.9,4,   37.00,2,   32.50,2,    0.00,2,    2.42,2,   0.529,2,   0.272,2,-999.000,5,  2257.2,2,  2296.6,2,   -999.0,9,  -999.00,   7.4154,2,    25.00,-999.000,9,-999.000,-999.0000,9,-999.000,9, -999.00,5,   -66.6,2,     2.2,-999.000,9,-999.000,   44.00,2,   36.41,2,  274.60,   0.1670,2,   0.1230,2,   0.0700,2,   0.0570,2,   0.0121,3,   0.0134,3,     -999.0,     -999.0,9,     -999.0,9,     -999.0,9,     -999.0,9,     -999.0,9,     -999.0,9, -999.00,9,   9.3093,-999.0000,-999.000
325020060213,       P16N,      36,          3,         25,         25,2,20060227,       2152,         14,       -152,       5639,   325.2,   8.4567,  34.4777,2,  34.4773,2,     23.6,2,    25.3,4,   43.70,2,   35.20,2,    0.00,2,    2.56,2,   0.226,2,   0.119,2,-999.000,5,  2270.7,3,  2303.9,2,   -999.0,9,  -999.00,   7.3988,2,    25.00,-999.000,9,-999.000,-999.0000,9,-999.000,9, -999.00,5,   -97.8,2,     1.9,-999.000,9,-999.000,   43.63,2,   39.71,2,  325.20,   0.1680,2,   0.1220,2,   0.0700,2,   0.0560,2,   0.0121,3,   0.0135,3,    275.686,    26.0425,2,    32.4784,2,    59.8374,2,    56.3252,2,    71.6733,2,    29.3293,2, -999.00,9,   8.4227,-999.0000,-999.000
325020060213,       P16N,      36,          3,         24,         24,2,20060227,       2152,         14,       -152,       5639,   373.9,   8.1139,  34.5119,2,  34.5109,2,     25.5,2,    29.0,4,   46.50,2,   36.60,2,    0.00,2,    2.59,2,   0.119,6,   0.067,6,-999.000,5,  2267.8,2,  2309.6,2,   -999.0,9,  -999.00,-999.0000,9,  -999.00,-999.000,9,-999.000,-999.0000,9,-999.000,9, -999.00,5,  -107.9,2,     2.8,-999.000,9,-999.000,   43.02,2,   40.69,2,  373.90,   0.1620,2,   0.1170,2,   0.0660,2,   0.0530,2,   0.0122,3,   0.0138,3,     -999.0,     -999.0,9,     -999.0,9,     -999.0,9,     -999.0,9,     -999.0,9,     -999.0,9, -999.00,9,   8.0756,-999.0000,-999.000
325020060213,       P16N,      36,          3,         23,         23,2,20060227,       2152,         14,       -152,       5639,   425.4,   7.7711,  34.5247,2,  34.5250,2,     26.5,2,    28.7,4,   49.10,2,   37.40,2,    0.00,2,    2.63,2,   0.069,2,   0.038,2,-999.000,5,  2277.1,2,  2310.3,2,   -999.0,9,  -999.00,   7.4094,2,    25.00,-999.000,9,-999.000,-999.0000,9,-999.000,9, -999.00,5,  -111.8,2,     2.4,-999.000,9,-999.000,   42.21,2,   42.16,2,  425.40,   0.1580,2,   0.1140,2,   0.0650,2,   0.0510,2,   0.0124,3,   0.0140,3,     -999.0,     -999.0,9,     -999.0,9,     -999.0,9,     -999.0,9,     -999.0,9,     -999.0,9, -999.00,9,   7.7285,-999.0000,-999.000
325020060213,       P16N,      36,          3,         22,         22,2,20060227,       2152,         14,       -152,       5639,   474.8,   7.3957,  34.5134,2,  34.5117,2,     27.9,2,    30.7,4,   53.40,2,   38.10,2,    0.00,2,    2.68,2,   0.054,2,   0.031,2,-999.000,5,  2285.2,6,  2314.9,2,   -999.0,9,  -999.00,   7.4066,2,    25.00,-999.000,9,-999.000,-999.0000,9,-999.000,9, -999.00,5,  -119.8,2,     2.0,-999.000,9,-999.000,   41.87,2,   42.46,2,  474.80,   0.1570,2,   0.1130,2,   0.0630,2,   0.0480,2,   0.0129,3,   0.0147,3,     -999.0,     -999.0,9,     -999.0,9,     -999.0,9,     -999.0,9,     -999.0,9,     -999.0,9, -999.00,9,   7.3492,-999.0000,-999.000
325020060213,       P16N,      36,          3,         21,         21,2,20060227,       2152,         14,       -152,       5639,   550.0,   6.8805,  34.5206,2,  34.5199,2,     13.6,2,    15.0,4,   61.40,2,   39.70,2,    0.00,2,    2.91,2,   0.054,3,   0.007,3,-999.000,5,  2305.5,2,  -999.0,9,   -999.0,9,  -999.00,-999.0000,9,  -999.00,-999.000,9,-999.000,-999.0000,9,-999.000,9, -999.00,5,  -136.4,2,     1.8,-999.000,9,-999.000,   41.46,2,   44.14,2,  550.00,   0.1680,2,   0.1210,2,   0.0680,2,   0.0520,2,   0.0127,3,   0.0144,3,     -999.0,     -999.0,9,     -999.0,9,     -999.0,9,     -999.0,9,     -999.0,9,     -999.0,9, -999.00,9,   6.8286,-999.0000,-999.000
325020060213,       P16N,      36,          3,         20,         20,2,20060227,       2152,         14,       -152,       5639,   647.4,   6.0589,  34.5168,2,  34.5156,2,     17.4,2,    19.0,4,   71.20,2,   41.50,2,    0.00,2,    2.98,2,   0.005,2,   0.005,2,-999.000,5,  2316.7,2,  2337.3,2,   -999.0,9,  -999.00,   7.3664,2,    25.00,-999.000,9,-999.000,-999.0000,9,-999.000,9, -999.00,5,  -157.2,2,     1.8,-999.000,9,-999.000,   40.57,2,   45.98,2,  647.40,   0.1660,2,   0.1190,2,   0.0660,2,   0.0500,2,   0.0130,3,   0.0147,3,     -999.0,     -999.0,9,     -999.0,9,     -999.0,9,     -999.0,9,     -999.0,9,     -999.0,9, -999.00,9,   6.0014,-999.0000,-999.000
325020060213,       P16N,      36,          3,         19,         19,2,20060227,       2152,         14,       -152,       5639,   749.2,   5.5621,  34.5215,2,  34.5184,2,     23.8,2,    25.3,4,   78.00,2,   42.50,2,    0.00,2,    3.01,2,   0.006,2,   0.005,2,-999.000,5,  2324.5,2,  2345.6,2,   -999.0,9,  -999.00,   7.4497,2,    25.00,-999.000,9,-999.000,-999.0000,9,-999.000,9, -999.00,5,  -168.6,2,     1.9,-999.000,9,-999.000,   39.15,2,   46.69,2,  749.20,   0.1600,2,   0.1140,2,   0.0620,2,   0.0450,2,   0.0137,3,   0.0156,3,     -999.0,     -999.0,9,     -999.0,9,     -999.0,9,     -999.0,9,     -999.0,9,     -999.0,9, -999.00,9,   5.4978,-999.0000,-999.000
325020060213,       P16N,      36,          3,         18,         18,2,20060227,       2152,         14,       -152,       5639,   848.8,   5.0622,  34.5282,2,  34.5264,2,     30.8,2,    34.5,4,   85.70,2,   42.80,2,    0.00,2,    3.01,2,   0.002,2,   0.003,2,-999.000,5,  2326.2,2,  2353.5,2,   -999.0,9,  -999.00,-999.0000,9,  -999.00,-999.000,9,-999.000,-999.0000,9,-999.000,9, -999.00,5,  -186.6,2,     2.7,-999.000,9,-999.000,   38.78,2,   47.38,2,  848.80,-999.0000,9,-999.0000,9,-999.0000,9,-999.0000,9,-999.0000,9,-999.0000,9,     -999.0,     -999.0,9,     -999.0,9,     -999.0,9,     -999.0,9,     -999.0,9,     -999.0,9, -999.00,9,   4.9920,-999.0000,-999.000
325020060213,       P16N,      36,          3,         17,         17,2,20060227,       2152,         14,       -152,       5639,   940.4,   4.6295,  34.5383,2,  34.5372,2,     36.9,2,    44.8,4,   93.40,2,   42.80,2,    0.00,2,    3.02,2,  -0.001,4,   0.000,2,-999.000,5,  2333.3,2,  2362.0,6,   -999.0,9,  -999.00,-999.0000,9,  -999.00,-999.000,9,-999.000,-999.0000,9,-999.000,9, -999.00,9,  -999.0,9,    -9.0,-999.000,9,-999.000,   38.07,2,   47.10,2,  940.40,   0.1540,2,   0.1080,2,   0.0580,2,   0.0410,2,   0.0144,2,   0.0165,2,     -999.0,     -999.0,9,     -999.0,9,     -999.0,9,     -999.0,9,     -999.0,9,     -999.0,9, -999.00,9,   4.5542,-999.0000,-999.000
325020060213,       P16N,      36,          3,         16,         16,2,20060227,       2152,         14,       -152,       5639,  1098.6,   4.0558,  34.5527,2,  34.5527,2,     44.2,2,    55.1,4,  105.20,2,   42.80,2,    0.00,2,    3.03,2,   0.007,2,   0.004,2,-999.000,5,  2341.5,2,  2362.1,2,   -999.0,9,  -999.00,   7.4009,2,    25.00,-999.000,9,-999.000,-999.0000,9,-999.000,9, -999.00,5,  -206.2,2,     2.6,-999.000,9,-999.000,   37.50,2,   46.67,2, 1098.60,   0.1540,2,   0.1070,2,   0.0570,2,   0.0390,2,   0.0149,2,   0.0170,2,     -999.0,     -999.0,9,     -999.0,9,     -999.0,9,     -999.0,9,     -999.0,9,     -999.0,9, -999.00,9,   3.9713,-999.0000,-999.000
325020060213,       P16N,      36,          3,         15,         15,2,20060227,       2152,         14,       -152,       5639,  1299.2,   3.4558,  34.5741,2,  34.5728,2,     54.9,2,    69.5,4,  118.10,2,   42.20,2,    0.00,2,    2.99,2,-999.000,9,-999.000,9,-999.000,9,  2350.4,2,  2378.5,2,   -999.0,9,  -999.00,-999.0000,9,  -999.00,-999.000,9,-999.000,-999.0000,9,-999.000,9, -999.00,5,  -226.3,2,     2.6,-999.000,9,-999.000,   37.46,2,   45.82,2, 1299.20,-999.0000,9,-999.0000,9,-999.0000,9,-999.0000,9,-999.0000,9,-999.0000,9,     -999.0,     -999.0,9,     -999.0,9,     -999.0,9,     -999.0,9,     -999.0,9,     -999.0,9, -999.00,9,   3.3599,-999.0000,-999.000
325020060213,       P16N,      36,          3,         14,         14,2,20060227,       2152,         14,       -152,       5639,  1500.2,   2.9851,  34.5932,2,  34.5920,2,     65.3,2,    83.8,4,  129.20,2,   41.60,2,    0.00,2,    2.94,2,   0.002,2,   0.001,2,-999.000,5,  2351.9,2,  2399.7,2,   -999.0,9,  -999.00,-999.0000,9,  -999.00,-999.000,9,-999.000,-999.0000,9,-999.000,9, -999.00,5,  -234.5,2,     2.1,-999.000,9,-999.000,   38.45,2,   45.79,2, 1500.20,   0.1460,2,   0.1010,2,   0.0510,2,   0.0340,2,   0.0163,2,   0.0184,2,     -999.0,     -999.0,9,     -999.0,9,     -999.0,9,     -999.0,9,     -999.0,9,     -999.0,9, -999.00,9,   2.8774,-999.0000,-999.000
325020060213,       P16N,      36,          3,         13,         13,2,20060227,       2152,         14,       -152,       5639,  1698.2,   2.5456,  34.6136,2,  34.6115,2,     78.5,2,    99.7,4,  138.90,2,   40.80,2,    0.00,2,    2.88,2,-999.000,9,-999.000,9,-999.000,9,  2355.8,2,  2412.2,2,   -999.0,9,  -999.00,-999.0000,9,  -999.00,-999.000,9,-999.000,-999.0000,9,-999.000,9, -999.00,5,  -241.3,2,     2.3,-999.000,9,-999.000,   38.09,2,   44.96,2, 1698.20,-999.0000,9,-999.0000,9,-999.0000,9,-999.0000,9,-999.0000,9,-999.0000,9,     -999.0,     -999.0,9,     -999.0,9,     -999.0,9,     -999.0,9,     -999.0,9,     -999.0,9, -999.00,9,   2.4267,-999.0000,-999.000
325020060213,       P16N,      36,          3,         12,         12,2,20060227,       2152,         14,       -152,       5639,  1897.3,   2.2484,  34.6305,2,  34.6290,2,     91.6,2,   119.2,4,  144.00,2,   39.90,2,    0.00,2,    2.80,2,   0.002,2,   0.003,2,-999.000,5,  2356.0,2,  2416.4,2,   -999.0,9,  -999.00,   7.4981,2,    25.00,-999.000,9,-999.000,-999.0000,9,-999.000,9, -999.00,5,  -239.9,2,     2.5,-999.000,9,-999.000,   37.75,2,   43.31,2, 1897.30,   0.1330,2,   0.0900,2,   0.0430,2,   0.0260,2,   0.0192,2,   0.0211,2,     -999.0,     -999.0,9,     -999.0,9,     -999.0,9,     -999.0,9,     -999.0,9,     -999.0,9, -999.00,9,   2.1169,-999.0000,-999.000
325020060213,       P16N,      36,          3,         11,         11,2,20060227,       2152,         14,       -152,       5639,  2123.3,   2.0116,  34.6472,2,  34.6454,2,    102.7,2,   133.5,4,  147.90,2,   39.30,2,    0.00,2,    2.75,2,-999.000,9,-999.000,9,-999.000,9,  2354.9,2,  2415.5,2,   -999.0,9,  -999.00,   7.5372,2,    25.00,-999.000,9,-999.000,-999.0000,9,-999.000,9, -999.00,5,  -245.5,2,     2.2,-999.000,9,-999.000,   38.67,2,   43.43,2, 2123.30,-999.0000,9,-999.0000,9,-999.0000,9,-999.0000,9,-999.0000,9,-999.0000,9,     -999.0,     -999.0,9,     -999.0,9,     -999.0,9,     -999.0,9,     -999.0,9,     -999.0,9, -999.00,9,   1.8645,-999.0000,-999.000
325020060213,       P16N,      36,          3,         10,         10,2,20060227,       2152,         14,       -152,       5639,  2374.9,   1.8809,  34.6595,2,  34.6580,2,    109.3,2,   140.3,4,  150.60,2,   38.90,2,    0.00,2,    2.71,2,   0.006,2,   0.002,2,-999.000,5,  2355.4,2,  2385.6,3,   -999.0,9,  -999.00,-999.0000,9,  -999.00,-999.000,9,-999.000,-999.0000,9,-999.000,9, -999.00,5,  -238.0,2,     2.1,-999.000,9,-999.000,   37.78,2,   42.99,2, 2374.90,   0.1260,2,   0.0840,2,   0.0380,2,   0.0220,2,   0.0209,2,   0.0226,2,     -999.0,     -999.0,9,     -999.0,9,     -999.0,9,     -999.0,9,     -999.0,9,     -999.0,9, -999.00,9,   1.7140,-999.0000,-999.000
325020060213,       P16N,      36,          3,          9,          9,2,20060227,       2152,         14,       -152,       5639,  2625.2,   1.7933,  34.6675,2,  34.6671,2,    114.0,2,   142.7,4,  153.10,2,   38.70,2,    0.00,2,    2.69,2,-999.000,9,-999.000,9,-999.000,9,  2356.1,2,  2430.3,2,   -999.0,9,  -999.00,   7.5575,2,    25.00,-999.000,9,-999.000,-999.0000,9,-999.000,9, -999.00,5,  -237.7,2,     2.9,-999.000,9,-999.000,   37.49,2,   42.93,2, 2625.20,-999.0000,9,-999.0000,9,-999.0000,9,-999.0000,9,-999.0000,9,-999.0000,9,     -999.0,     -999.0,9,     -999.0,9,     -999.0,9,     -999.0,9,     -999.0,9,     -999.0,9, -999.00,9,   1.6055,-999.0000,-999.000