BOTTLE,20170720CCHSIOCBG
EXPOCODE,SECT_ID,STNNBR,CASTNO,SAMPNO,BTLNBR,BTLNBR_FLAG_W,DATE,TIME,LATITUDE,LONGITUDE,DEPTH,CTDPRS,CTDTMP,CTDSAL,CTDSAL_FLAG_W,SALNTY,SALNTY_FLAG_W,CTDOXY,CTDOXY_FLAG_W,OXYGEN,OXYGEN_FLAG_W,SILCAT,SILCAT_FLAG_W,NITRAT,NITRAT_FLAG_W,NITRIT,NITRIT_FLAG_W,PHSPHT,PHSPHT_FLAG_W,CFC-11,CFC-11_FLAG_W,CFC-12,CFC-12_FLAG_W,CFC113,CFC113_FLAG_W,TCARBN,TCARBN_FLAG_W,ALKALI,ALKALI_FLAG_W,FCO2,FCO2_FLAG_W,FCO2TMP,PH_TOT,PH_TOT_FLAG_W,PH_TMP,TRITUM,TRITUM_FLAG_W,TRITER,HELIUM,HELIUM_FLAG_W,DELHE3,DELHE3_FLAG_W,DELC13,DELC13_FLAG_W,DELC14,DELC14_FLAG_W,C14ERR,NEON,NEON_FLAG_W,NEONER,DOC,DOC_FLAG_W,TDN,TDN_FLAG_W,CTDRAW,CDOM325,CDOM325_FLAG_W,CDOM340,CDOM340_FLAG_W,CDOM380,CDOM380_FLAG_W,CDOM412,CDOM412_FLAG_W,CDOMSL,CDOMSL_FLAG_W,CDOMSN,CDOMSN_FLAG_W,DCNS,ARABI,ARABI_FLAG_W,FUCO,FUCO_FLAG_W,GALA,GALA_FLAG_W,GLUC,GLUC_FLAG_W,MAN,MAN_FLAG_W,RHAM,RHAM_FLAG_W,BRDU,BRDU_FLAG_W,THETA,HELIER,DELHER
,,,,,,,,,,,METERS,DBAR,ITS-90,PSS-78,,PSS-78,,UMOL/KG,,UMOL/KG,,UMOL/KG,,UMOL/KG,,UMOL/KG,,UMOL/KG,,PMOL/KG,,PMOL/KG,,PMOL/KG,,UMOL/KG,,UMOL/KG,,UATM,,DEG C,,,DEG C,TU,,TU,NMOL/KG,,PERCNT,,/MILLE,,/MILLE,,/MILLE,NMOL/KG,,NMOL/KG,UMOL/KG,,UMOL/KG,,DBAR,1/M,,1/M,,1/M,,1/M,,1/NM,,1/NM,,NMOL/KG,NMOL/KG,,NMOL/KG,,NMOL/KG,,NMOL/KG,,NMOL/KG,,NMOL/KG,,PMOL/L/H,,DEG C,NMOL/KG,PERCNT
325020060213,       P16N,      73,          1,         36,         36,2,20060326,       2238,    51.9998,  -151.9988,       5087,     5.0,   4.3366,  32.6855,2,  32.6897,2,    314.1,2,   316.8,2,   25.00,2,   12.50,2,    0.10,2,    1.33,2,   4.983,2,   2.726,2,-999.000,5,  2064.6,6,  2199.3,2,    723.3,2,    20.00,   7.7420,6,    25.00,-999.000,9,-999.000,-999.0000,9,-999.000,9, -999.00,9,  -999.0,9,    -9.0,-999.000,9,-999.000,   55.52,2,   17.18,2,    5.00,-999.0000,9,-999.0000,9,-999.0000,9,-999.0000,9,-999.0000,9,-999.0000,9,     -999.0,     -999.0,9,     -999.0,9,     -999.0,9,     -999.0,9,     -999.0,9,     -999.0,9, -999.00,9,   4.3362,-999.0000,-999.000
325020060213,       P16N,      73,          1,         35,         35,2,20060326,       2238,    51.9998,  -151.9988,       5087,    25.5,   4.3351,  32.6858,2,  32.6890,2,    314.4,2,   316.8,2,   25.10,2,   12.70,2,    0.10,2,    1.33,2,   4.981,2,   2.729,2,-999.000,5,  2065.5,2,  2199.6,2,    722.9,2,    20.00,   7.7430,2,    25.00,-999.000,9,-999.000,-999.0000,9,-999.000,9, -999.00,9,  -999.0,9,    -9.0,-999.000,9,-999.000,   55.45,2,   17.05,2,   25.50,-999.0000,9,-999.0000,9,-999.0000,9,-999.0000,9,-999.0000,9,-999.0000,9,     -999.0,     -999.0,9,     -999.0,9,     -999.0,9,     -999.0,9,     -999.0,9,     -999.0,9, -999.00,9,   4.3334,-999.0000,-999.000
325020060213,       P16N,      73,          1,         34,         34,2,20060326,       2238,    51.9998,  -151.9988,       5087,    50.2,   4.3246,  32.6865,2,  32.6931,2,    314.0,2,   316.8,2,   25.10,2,   12.50,2,    0.10,2,    1.34,2,   4.991,2,   2.721,2,-999.000,5,  2063.7,2,  2200.3,2,    725.3,2,    20.00,   7.7413,2,    25.00,-999.000,9,-999.000,    1.815,2,  -1.610,2, -999.00,9,  -999.0,9,    -9.0,   8.110,2,   0.008,   54.58,2,   16.66,2,   50.20,-999.0000,9,-999.0000,9,-999.0000,9,-999.0000,9,-999.0000,9,-999.0000,9,     -999.0,     -999.0,9,     -999.0,9,     -999.0,9,     -999.0,9,     -999.0,9,     -999.0,9, -999.00,9,   4.3212,    0.001,   0.175
325020060213,       P16N,      73,          1,         33,         33,2,20060326,       2238,    51.9998,  -151.9988,       5087,    74.4,   4.3241,  32.6868,2,  32.6897,2,    304.2,2,   315.8,2,   25.30,2,   12.80,2,    0.10,2,    1.35,2,   4.982,2,   2.720,2,-999.000,5,  2064.2,2,  2199.6,2,    729.1,2,    20.00,   7.7389,2,    25.00,-999.000,9,-999.000,    1.827,2,  -0.500,2, -999.00,9,  -999.0,9,    -9.0,   8.151,2,   0.015,   52.26,2,   17.06,2,   74.40,-999.0000,9,-999.0000,9,-999.0000,9,-999.0000,9,-999.0000,9,-999.0000,9,     -999.0,     -999.0,9,     -999.0,9,     -999.0,9,     -999.0,9,     -999.0,9,     -999.0,9, -999.00,9,   4.3191,    0.002,   0.193
325020060213,       P16N,      73,          1,         32,         32,2,20060326,       2238,    51.9998,  -151.9988,       5087,    99.8,   4.3131,  32.6950,2,  32.8331,2,    302.3,2,   271.4,2,   30.50,2,   16.00,2,    0.10,2,    1.51,2,   4.638,2,   2.510,2,-999.000,5,  2106.2,2,  2217.2,2,    893.7,2,    20.00,   7.6769,2,    25.00,-999.000,9,-999.000,-999.0000,9,-999.000,9, -999.00,9,  -999.0,9,    -9.0,-999.000,9,-999.000,   50.41,2,   19.99,2,   99.80,-999.0000,9,-999.0000,9,-999.0000,9,-999.0000,9,-999.0000,9,-999.0000,9,     -999.0,     -999.0,9,     -999.0,9,     -999.0,9,     -999.0,9,     -999.0,9,     -999.0,9, -999.00,9,   4.3062,-999.0000,-999.000
325020060213,       P16N,      73,          1,         31,         31,2,20060326,       2238,    51.9998,  -151.9988,       5087,   121.3,   4.2021,  33.4713,2,  33.4723,2,    166.1,2,   166.5,2,   53.80,2,   30.00,2,    0.00,2,    2.21,2,   3.869,2,   2.013,2,-999.000,5,  2207.0,2,  2260.0,2,   1486.6,2,    20.00,   7.4639,2,    25.00,-999.000,9,-999.000,    1.825,2,   3.817,2, -999.00,9,  -999.0,9,    -9.0,   8.142,2,   0.012,   49.09,2,   34.22,2,  121.30,-999.0000,9,-999.0000,9,-999.0000,9,-999.0000,9,-999.0000,9,-999.0000,9,     -999.0,     -999.0,9,     -999.0,9,     -999.0,9,     -999.0,9,     -999.0,9,     -999.0,9, -999.00,9,   4.1938,    0.003,   0.218
325020060213,       P16N,      73,          1,         30,         30,2,20060326,       2238,    51.9998,  -151.9988,       5087,   149.9,   3.9522,  33.7170,2,  33.7279,2,    105.8,2,   105.0,2,   69.30,2,   36.50,2,    0.00,2,    2.55,2,   3.174,2,   1.607,2,-999.000,5,  2260.8,2,  2282.4,6,   2001.8,6,    20.00,   7.3504,2,    25.00,-999.000,9,-999.000,    1.854,2,   9.313,2, -999.00,9,  -999.0,9,    -9.0,   8.156,2,   0.056,   47.91,2,   40.90,2,  149.90,-999.0000,9,-999.0000,9,-999.0000,9,-999.0000,9,-999.0000,9,-999.0000,9,     -999.0,     -999.0,9,     -999.0,9,     -999.0,9,     -999.0,9,     -999.0,9,     -999.0,9, -999.00,9,   3.9421,    0.003,   0.101
325020060213,       P16N,      73,          1,         29,         29,9,20060326,       2238,    51.9998,  -151.9988,       5087,   199.7,   3.9282,  33.8296,2,-999.0000,9,     68.7,2,  -999.0,9, -999.00,9, -999.00,9, -999.00,9, -999.00,9,-999.000,9,-999.000,9,-999.000,9,  -999.0,9,  -999.0,9,   -999.0,9,  -999.00,-999.0000,9,  -999.00,-999.000,9,-999.000,-999.0000,9,-999.000,9, -999.00,9,  -999.0,9,    -9.0,-999.000,9,-999.000, -999.00,9, -999.00,9,  199.70,-999.0000,9,-999.0000,9,-999.0000,9,-999.0000,9,-999.0000,9,-999.0000,9,     -999.0,     -999.0,9,     -999.0,9,     -999.0,9,     -999.0,9,     -999.0,9,     -999.0,9, -999.00,9,   3.9146,-999.0000,-999.000
325020060213,       P16N,      73,          1,         28,         28,2,20060326,       2238,    51.9998,  -151.9988,       5087,   247.7,   3.9198,  33.9081,2,  33.9128,2,     43.1,2,    43.2,2,   87.60,2,   42.40,2,    0.00,2,    2.89,2,   2.069,2,   1.015,2,-999.000,5,  2312.6,2,  2304.4,2,   2181.9,4,    20.00,   7.2548,2,    25.00,-999.000,9,-999.000,-999.0000,9,-999.000,9, -999.00,9,  -999.0,9,    -9.0,-999.000,9,-999.000,   43.71,2,   46.89,2,  247.70,-999.0000,9,-999.0000,9,-999.0000,9,-999.0000,9,-999.0000,9,-999.0000,9,     -999.0,     -999.0,9,     -999.0,9,     -999.0,9,     -999.0,9,     -999.0,9,     -999.0,9, -999.00,9,   3.9029,-999.0000,-999.000
325020060213,       P16N,      73,          1,         27,         27,2,20060326,       2238,    51.9998,  -151.9988,       5087,   299.8,   3.8758,  33.9736,2,  33.9108,3,     32.4,2,    42.7,2,   87.50,2,   42.40,2,    0.00,2,    2.88,2,   2.073,2,   1.005,2,-999.000,5,  2313.1,2,  2305.2,2,   1763.9,4,    20.00,   7.2511,2,    25.00,-999.000,9,-999.000,    1.847,2,  12.954,2, -999.00,9,  -999.0,9,    -9.0,   7.846,2,   0.070,   41.96,2,   46.10,2,  299.80,-999.0000,9,-999.0000,9,-999.0000,9,-999.0000,9,-999.0000,9,-999.0000,9,     -999.0,     -999.0,9,     -999.0,9,     -999.0,9,     -999.0,9,     -999.0,9,     -999.0,9, -999.00,9,   3.8553,    0.006,   0.136
325020060213,       P16N,      73,          1,         26,         26,2,20060326,       2238,    51.9998,  -151.9988,       5087,   348.7,   3.7947,  34.0421,2,  34.0456,2,     27.8,2,    27.9,2,  101.50,2,   43.30,2,    0.00,2,    2.97,2,   1.255,2,   0.610,2,-999.000,5,  2331.9,2,  2315.3,2,   2563.7,2,    20.00,   7.2563,2,    25.00,-999.000,9,-999.000,    1.865,2,  15.161,2, -999.00,9,  -999.0,9,    -9.0,   8.497,3,   0.048,   40.31,2,   47.66,2,  348.70,-999.0000,9,-999.0000,9,-999.0000,9,-999.0000,9,-999.0000,9,-999.0000,9,     -999.0,     -999.0,9,     -999.0,9,     -999.0,9,     -999.0,9,     -999.0,9,     -999.0,9, -999.00,9,   3.7709,    0.003,   0.185
325020060213,       P16N,      73,          1,         25,         25,9,20060326,       2238,    51.9998,  -151.9988,       5087,   399.2,   3.7346,  34.0817,2,-999.0000,9,     24.2,2,  -999.0,9, -999.00,9, -999.00,9, -999.00,9, -999.00,9,-999.000,9,-999.000,9,-999.000,9,  -999.0,9,  -999.0,9,   -999.0,9,  -999.00,-999.0000,9,  -999.00,-999.000,9,-999.000,-999.0000,9,-999.000,9, -999.00,9,  -999.0,9,    -9.0,-999.000,9,-999.000, -999.00,9, -999.00,9,  399.20,-999.0000,9,-999.0000,9,-999.0000,9,-999.0000,9,-999.0000,9,-999.0000,9,     -999.0,     -999.0,9,     -999.0,9,     -999.0,9,     -999.0,9,     -999.0,9,     -999.0,9, -999.00,9,   3.7074,-999.0000,-999.000
325020060213,       P16N,      73,          1,         24,         24,2,20060326,       2238,    51.9998,  -151.9988,       5087,   449.6,   3.6651,  34.1233,2,  34.1248,2,     21.4,2,    22.1,2,  110.90,2,   43.60,2,    0.00,2,    3.05,2,   0.809,6,   0.382,6,-999.000,5,  2342.6,2,  2328.4,2,   -999.0,9,  -999.00,   7.2615,2,    25.00,   0.311,2,   0.015,    1.890,2,  16.529,2, -999.00,9,  -999.0,9,    -9.0,   8.101,2,   0.019,   39.14,2,   47.39,2,  449.60,-999.0000,9,-999.0000,9,-999.0000,9,-999.0000,9,-999.0000,9,-999.0000,9,     -999.0,     -999.0,9,     -999.0,9,     -999.0,9,     -999.0,9,     -999.0,9,     -999.0,9, -999.00,9,   3.6345,    0.002,   0.196
325020060213,       P16N,      73,          1,         23,         23,4,20060326,       2238,    51.9998,  -151.9988,       5087,   499.5,   3.5971,  34.1676,2,  32.6855,4,     20.5,2,   316.1,4,   25.40,4,   12.70,4,    0.10,4,    1.33,4,   4.960,4,   2.733,4,-999.000,5,  2062.0,3,  2196.6,3,   -999.0,9,  -999.00,   7.7388,3,    25.00,-999.000,9,-999.000,    1.825,2,  -0.717,4, -999.00,9,  -999.0,9,    -9.0,   8.006,2,   0.018,   38.84,2,   16.64,2,  499.50,-999.0000,9,-999.0000,9,-999.0000,9,-999.0000,9,-999.0000,9,-999.0000,9,     -999.0,     -999.0,9,     -999.0,9,     -999.0,9,     -999.0,9,     -999.0,9,     -999.0,9, -999.00,9,   3.5630,    0.001,   0.171
325020060213,       P16N,      73,          1,         22,         22,2,20060326,       2238,    51.9998,  -151.9988,       5087,   600.2,   3.4454,  34.2377,2,  34.2413,2,     19.7,2,    20.0,2,  122.90,2,   43.60,2,    0.00,2,    3.04,2,   0.333,2,   0.162,2,-999.000,5,  2355.8,2,  2356.1,2,   -999.0,9,  -999.00,   7.2846,2,    25.00,-999.000,9,-999.000,-999.0000,9,-999.000,9, -999.00,9,  -999.0,9,    -9.0,-999.000,9,-999.000,   37.87,2,   48.21,2,  600.20,-999.0000,9,-999.0000,9,-999.0000,9,-999.0000,9,-999.0000,9,-999.0000,9,     -999.0,     -999.0,9,     -999.0,9,     -999.0,9,     -999.0,9,     -999.0,9,     -999.0,9, -999.00,9,   3.4047,-999.0000,-999.000
325020060213,       P16N,      73,          1,         21,         21,2,20060326,       2238,    51.9998,  -151.9988,       5087,   699.3,   3.2839,  34.2887,2,  34.2906,2,     18.6,2,    19.1,2,  129.10,2,   43.60,2,    0.00,2,    3.07,2,   0.190,2,   0.090,2,-999.000,5,  2361.7,2,  2365.0,2,   -999.0,9,  -999.00,   7.2884,2,    25.00,   0.133,2,   0.016,    1.893,2,  16.758,2, -999.00,9,  -999.0,9,    -9.0,   8.119,2,   0.018,   38.41,2,   47.64,2,  699.30,-999.0000,9,-999.0000,9,-999.0000,9,-999.0000,9,-999.0000,9,-999.0000,9,     -999.0,     -999.0,9,     -999.0,9,     -999.0,9,     -999.0,9,     -999.0,9,     -999.0,9, -999.00,9,   3.2368,    0.001,   0.194
325020060213,       P16N,      73,          1,         20,         20,2,20060326,       2238,    51.9998,  -151.9988,       5087,   800.0,   3.0953,  34.3332,2,  34.3330,2,     17.7,2,    17.9,2,  135.90,2,   43.70,2,    0.00,2,    3.09,2,   0.107,2,   0.056,2,-999.000,5,  2369.9,2,  2367.0,2,   -999.0,9,  -999.00,   7.2945,2,    25.00,-999.000,9,-999.000,    1.892,2,  16.926,2, -999.00,9,  -999.0,9,    -9.0,   8.159,2,   0.014,   38.12,2,   47.89,2,  800.00,-999.0000,9,-999.0000,9,-999.0000,9,-999.0000,9,-999.0000,9,-999.0000,9,     -999.0,     -999.0,9,     -999.0,9,     -999.0,9,     -999.0,9,     -999.0,9,     -999.0,9, -999.00,9,   3.0418,    0.001,   0.196
325020060213,       P16N,      73,          1,         19,         19,2,20060326,       2238,    51.9998,  -151.9988,       5087,   897.7,   2.9478,  34.3663,2,  34.3704,2,     17.2,2,    17.2,2,  141.40,2,   44.00,2,    0.00,2,    3.10,2,   0.061,2,   0.035,2,-999.000,5,  2377.4,2,  2378.4,6,   -999.0,9,  -999.00,   7.2968,2,    25.00,   0.058,2,   0.017,    1.878,2,  17.170,2, -999.00,9,  -999.0,9,    -9.0,   8.066,2,   0.019,   37.71,2,   47.96,2,  897.70,-999.0000,9,-999.0000,9,-999.0000,9,-999.0000,9,-999.0000,9,-999.0000,9,     -999.0,     -999.0,9,     -999.0,9,     -999.0,9,     -999.0,9,     -999.0,9,     -999.0,9, -999.00,9,   2.8882,    0.001,   0.185
325020060213,       P16N,      73,          1,         18,         18,2,20060326,       2238,    51.9998,  -151.9988,       5087,   998.7,   2.7917,  34.4009,2,  34.4037,2,     16.4,2,    16.6,2,  146.60,2,   44.10,2,    0.00,2,    3.13,2,   0.029,2,   0.022,2,-999.000,5,  2382.3,6,  2380.1,2,   -999.0,9,  -999.00,   7.3000,6,    25.00,   0.032,2,   0.004,    1.905,2,  17.430,2, -999.00,9,  -999.0,9,    -9.0,   8.189,2,   0.013,   37.68,2,   48.51,2,  998.70,-999.0000,9,-999.0000,9,-999.0000,9,-999.0000,9,-999.0000,9,-999.0000,9,     -999.0,     -999.0,9,     -999.0,9,     -999.0,9,     -999.0,9,     -999.0,9,     -999.0,9, -999.00,9,   2.7257,    0.002,   0.191
325020060213,       P16N,      73,          1,         17,         17,2,20060326,       2238,    51.9998,  -151.9988,       5087,  1199.9,   2.5311,  34.4582,2,  34.4609,2,     17.6,2,    18.6,2,  155.60,2,   44.40,2,    0.00,2,    3.13,2,   0.008,2,   0.011,2,-999.000,5,  2391.8,2,  2407.7,3,   -999.0,9,  -999.00,   7.3060,2,    25.00,-999.000,9,-999.000,-999.0000,9,-999.000,9, -999.00,9,  -999.0,9,    -9.0,-999.000,9,-999.000,   37.53,2,   48.58,2, 1199.90,-999.0000,9,-999.0000,9,-999.0000,9,-999.0000,9,-999.0000,9,-999.0000,9,     -999.0,     -999.0,9,     -999.0,9,     -999.0,9,     -999.0,9,     -999.0,9,     -999.0,9, -999.00,9,   2.4522,-999.0000,-999.000
325020060213,       P16N,      73,          1,         16,         16,2,20060326,       2238,    51.9998,  -151.9988,       5087,  1399.5,   2.3458,  34.4984,2,  34.5014,2,     23.0,2,    23.8,2,  160.90,2,   43.90,2,    0.00,2,    3.12,2,   0.001,2,   0.006,2,-999.000,5,  2392.5,2,  2400.1,2,   -999.0,9,  -999.00,   7.3201,2,    25.00,   0.016,2,   0.011,    1.915,2,  18.764,2, -999.00,9,  -999.0,9,    -9.0,   8.171,2,   0.013,   36.46,2,   47.46,2, 1399.50,-999.0000,9,-999.0000,9,-999.0000,9,-999.0000,9,-999.0000,9,-999.0000,9,     -999.0,     -999.0,9,     -999.0,9,     -999.0,9,     -999.0,9,     -999.0,9,     -999.0,9, -999.00,9,   2.2535,    0.002,   0.213
325020060213,       P16N,      73,          1,         15,         15,2,20060326,       2238,    51.9998,  -151.9988,       5087,  1599.8,   2.1774,  34.5355,2,  34.5356,2,     32.3,2,    33.1,2,  164.70,2,   43.60,2,    0.00,2,    3.08,2,   0.001,2,   0.004,2,-999.000,5,  2392.9,2,  2413.2,2,   -999.0,9,  -999.00,   7.3446,2,    25.00,-999.000,9,-999.000,    1.930,2,  18.666,2, -999.00,9,  -999.0,9,    -9.0,   8.356,2,   0.031,   37.66,2,   47.64,2, 1599.80,-999.0000,9,-999.0000,9,-999.0000,9,-999.0000,9,-999.0000,9,-999.0000,9,     -999.0,     -999.0,9,     -999.0,9,     -999.0,9,     -999.0,9,     -999.0,9,     -999.0,9, -999.00,9,   2.0713,    0.001,   0.186
325020060213,       P16N,      73,          1,         14,         14,2,20060326,       2238,    51.9998,  -151.9988,       5087,  1801.2,   2.0415,  34.5646,2,  34.5651,2,     43.2,2,    43.3,2,  167.60,2,   42.70,2,    0.00,2,    3.03,2,-999.000,9,-999.000,9,-999.000,9,  2388.9,2,  2409.4,2,   2064.5,2,    20.00,   7.3662,2,    25.00,-999.000,9,-999.000,-999.0000,9,-999.000,9, -999.00,9,  -999.0,9,    -9.0,-999.000,9,-999.000,   37.36,2,   46.41,2, 1801.20,-999.0000,9,-999.0000,9,-999.0000,9,-999.0000,9,-999.0000,9,-999.0000,9,     -999.0,     -999.0,9,     -999.0,9,     -999.0,9,     -999.0,9,     -999.0,9,     -999.0,9, -999.00,9,   1.9210,-999.0000,-999.000
325020060213,       P16N,      73,          1,         13,         13,2,20060326,       2238,    51.9998,  -151.9988,       5087,  2002.1,   1.9241,  34.5893,2,  34.5910,2,     54.4,2,    55.0,2,  169.30,2,   41.90,2,    0.00,2,    2.99,2,-999.000,9,-999.000,9,-999.000,9,  2384.8,2,  2412.8,2,   2019.5,3,    20.00,   7.3910,2,    25.00,-999.000,9,-999.000,-999.0000,9,-999.000,9, -999.00,9,  -999.0,9,    -9.0,-999.000,9,-999.000,   36.18,2,   46.05,2, 2002.10,-999.0000,9,-999.0000,9,-999.0000,9,-999.0000,9,-999.0000,9,-999.0000,9,     -999.0,     -999.0,9,     -999.0,9,     -999.0,9,     -999.0,9,     -999.0,9,     -999.0,9, -999.00,9,   1.7887,-999.0000,-999.000
325020060213,       P16N,      73,          1,         12,         12,2,20060326,       2238,    51.9998,  -151.9988,       5087,  2198.1,   1.8362,  34.6081,2,  34.6087,2,     63.8,2,    64.8,2,  170.40,2,   41.30,2,    0.00,2,    2.95,2,  -0.005,2,   0.001,2,-999.000,5,  2381.6,2,  2414.9,2,   1846.3,2,    20.00,   7.4087,2,    25.00,   0.023,2,   0.017,    1.934,2,  18.350,2, -999.00,9,  -999.0,9,    -9.0,   8.268,2,   0.031,   35.64,2,   44.98,2, 2198.10,-999.0000,9,-999.0000,9,-999.0000,9,-999.0000,9,-999.0000,9,-999.0000,9,     -999.0,     -999.0,9,     -999.0,9,     -999.0,9,     -999.0,9,     -999.0,9,     -999.0,9, -999.00,9,   1.6856,    0.004,   0.261
325020060213,       P16N,      73,          1,         11,         11,2,20060326,       2238,    51.9998,  -151.9988,       5087,  2398.9,   1.7478,  34.6242,2,  34.6262,2,     77.2,2,    77.9,3,  169.20,2,   40.10,2,    0.00,2,    2.89,2,-999.000,9,-999.000,9,-999.000,9,  2372.7,2,  2426.0,2,   1739.0,2,    20.00,   7.4364,2,    25.00,-999.000,9,-999.000,-999.0000,9,-999.000,9, -999.00,9,  -999.0,9,    -9.0,-999.000,9,-999.000,   35.32,2,   43.56,2, 2398.90,-999.0000,9,-999.0000,9,-999.0000,9,-999.0000,9,-999.0000,9,-999.0000,9,     -999.0,     -999.0,9,     -999.0,9,     -999.0,9,     -999.0,9,     -999.0,9,     -999.0,9, -999.00,9,   1.5813,-999.0000,-999.000
325020060213,       P16N,      73,          1,         10,         10,2,20060326,       2238,    51.9998,  -151.9988,       5087,  2597.8,   1.6897,  34.6364,2,  34.6385,2,     86.1,2,    86.7,2,  170.20,2,   39.60,2,    0.00,2,    2.87,2,-999.000,9,-999.000,9,-999.000,9,  2370.1,6,  2427.8,2,   1614.1,2,    20.00,   7.4543,2,    25.00,-999.000,9,-999.000,-999.0000,9,-999.000,9, -999.00,9,  -999.0,9,    -9.0,-999.000,9,-999.000,   36.48,2,   43.51,2, 2597.80,-999.0000,9,-999.0000,9,-999.0000,9,-999.0000,9,-999.0000,9,-999.0000,9,     -999.0,     -999.0,9,     -999.0,9,     -999.0,9,     -999.0,9,     -999.0,9,     -999.0,9, -999.00,9,   1.5065,-999.0000,-999.000