BOTTLE,20170720CCHSIOCBG
EXPOCODE,SECT_ID,STNNBR,CASTNO,SAMPNO,BTLNBR,BTLNBR_FLAG_W,DATE,TIME,LATITUDE,LONGITUDE,DEPTH,CTDPRS,CTDTMP,CTDSAL,CTDSAL_FLAG_W,SALNTY,SALNTY_FLAG_W,CTDOXY,CTDOXY_FLAG_W,OXYGEN,OXYGEN_FLAG_W,SILCAT,SILCAT_FLAG_W,NITRAT,NITRAT_FLAG_W,NITRIT,NITRIT_FLAG_W,PHSPHT,PHSPHT_FLAG_W,CFC-11,CFC-11_FLAG_W,CFC-12,CFC-12_FLAG_W,CFC113,CFC113_FLAG_W,TCARBN,TCARBN_FLAG_W,ALKALI,ALKALI_FLAG_W,FCO2,FCO2_FLAG_W,FCO2TMP,PH_TOT,PH_TOT_FLAG_W,PH_TMP,TRITUM,TRITUM_FLAG_W,TRITER,HELIUM,HELIUM_FLAG_W,DELHE3,DELHE3_FLAG_W,DELC13,DELC13_FLAG_W,DELC14,DELC14_FLAG_W,C14ERR,NEON,NEON_FLAG_W,NEONER,DOC,DOC_FLAG_W,TDN,TDN_FLAG_W,CTDRAW,CDOM325,CDOM325_FLAG_W,CDOM340,CDOM340_FLAG_W,CDOM380,CDOM380_FLAG_W,CDOM412,CDOM412_FLAG_W,CDOMSL,CDOMSL_FLAG_W,CDOMSN,CDOMSN_FLAG_W,DCNS,ARABI,ARABI_FLAG_W,FUCO,FUCO_FLAG_W,GALA,GALA_FLAG_W,GLUC,GLUC_FLAG_W,MAN,MAN_FLAG_W,RHAM,RHAM_FLAG_W,BRDU,BRDU_FLAG_W,THETA,HELIER,DELHER
,,,,,,,,,,,METERS,DBAR,ITS-90,PSS-78,,PSS-78,,UMOL/KG,,UMOL/KG,,UMOL/KG,,UMOL/KG,,UMOL/KG,,UMOL/KG,,PMOL/KG,,PMOL/KG,,PMOL/KG,,UMOL/KG,,UMOL/KG,,UATM,,DEG C,,,DEG C,TU,,TU,NMOL/KG,,PERCNT,,/MILLE,,/MILLE,,/MILLE,NMOL/KG,,NMOL/KG,UMOL/KG,,UMOL/KG,,DBAR,1/M,,1/M,,1/M,,1/M,,1/NM,,1/NM,,NMOL/KG,NMOL/KG,,NMOL/KG,,NMOL/KG,,NMOL/KG,,NMOL/KG,,NMOL/KG,,PMOL/L/H,,DEG C,NMOL/KG,PERCNT
325020060213,       P16N,      39,          1,          8,          8,9,20060301,       0715,         17,       -152,       5305,  2998.5,   1.6596,  34.6721,2,-999.0000,9,    121.3,2,  -999.0,9, -999.00,9, -999.00,9, -999.00,9, -999.00,9,-999.000,9,-999.000,9,-999.000,9,  -999.0,9,  -999.0,9,   -999.0,9,  -999.00,-999.0000,9,  -999.00,-999.000,9,-999.000,-999.0000,9,-999.000,9, -999.00,9,  -999.0,9,    -9.0,-999.000,9,-999.000, -999.00,9, -999.00,9, 2998.50,-999.0000,9,-999.0000,9,-999.0000,9,-999.0000,9,-999.0000,9,-999.0000,9,     -999.0,     -999.0,9,     -999.0,9,     -999.0,9,     -999.0,9,     -999.0,9,     -999.0,9, -999.00,9,   1.4395,-999.0000,-999.000
325020060213,       P16N,      39,          1,          7,          7,2,20060301,       0715,         17,       -152,       5305,  3249.5,   1.5923,  34.6772,2,  34.6793,2,    127.5,2,   127.7,2,  157.70,2,   37.60,2,    0.00,2,    2.61,2,-999.000,9,-999.000,9,-999.000,9,  2346.5,2,  2432.8,2,   -999.0,9,  -999.00,   7.5529,2,    25.00,-999.000,9,-999.000,-999.0000,9,-999.000,9, -999.00,9,  -999.0,9,    -9.0,-999.000,9,-999.000,   36.01,2,   41.24,2, 3249.50,-999.0000,9,-999.0000,9,-999.0000,9,-999.0000,9,-999.0000,9,-999.0000,9,     -999.0,     -999.0,9,     -999.0,9,     -999.0,9,     -999.0,9,     -999.0,9,     -999.0,9, -999.00,9,   1.3492,-999.0000,-999.000
325020060213,       P16N,      39,          1,          6,          6,2,20060301,       0715,         17,       -152,       5305,  3649.8,   1.5074,  34.6843,2,  34.6858,2,    138.4,2,   139.2,2,  155.80,2,   36.90,2,    0.00,2,    2.56,2,-999.000,9,-999.000,9,-999.000,9,  2337.9,2,  2430.6,6,   -999.0,9,  -999.00,   7.5644,2,    25.00,-999.000,9,-999.000,-999.0000,9,-999.000,9, -999.00,9,  -999.0,9,    -9.0,-999.000,9,-999.000,   35.42,2,   40.83,2, 3649.80,-999.0000,9,-999.0000,9,-999.0000,9,-999.0000,9,-999.0000,9,-999.0000,9,     -999.0,     -999.0,9,     -999.0,9,     -999.0,9,     -999.0,9,     -999.0,9,     -999.0,9, -999.00,9,   1.2256,-999.0000,-999.000
325020060213,       P16N,      39,          1,          5,          5,2,20060301,       0715,         17,       -152,       5305,  4050.0,   1.4551,  34.6901,2,  34.6891,2,    150.7,2,   150.8,2,  148.80,6,   35.90,6,    0.00,6,    2.49,6,-999.000,9,-999.000,9,-999.000,9,  2326.2,2,  2423.7,2,   -999.0,9,  -999.00,   7.5698,2,    25.00,-999.000,9,-999.000,-999.0000,9,-999.000,9, -999.00,9,  -999.0,9,    -9.0,-999.000,9,-999.000,   36.69,2,   39.21,2, 4050.00,-999.0000,9,-999.0000,9,-999.0000,9,-999.0000,9,-999.0000,9,-999.0000,9,     -999.0,     -999.0,9,     -999.0,9,     -999.0,9,     -999.0,9,     -999.0,9,     -999.0,9, -999.00,9,   1.1320,-999.0000,-999.000
325020060213,       P16N,      39,          1,          4,          4,2,20060301,       0715,         17,       -152,       5305,  4549.3,   1.4443,  34.6946,2,  34.6935,2,    160.7,2,   160.4,2,  142.90,6,   35.20,6,    0.00,6,    2.43,6,   0.000,2,   0.000,2,-999.000,5,  2316.5,2,  2417.1,2,   -999.0,9,  -999.00,   7.5895,2,    25.00,-999.000,9,-999.000,-999.0000,9,-999.000,9, -999.00,9,  -999.0,9,    -9.0,-999.000,9,-999.000,   37.15,2,   39.11,2, 4549.30,-999.0000,9,-999.0000,9,-999.0000,9,-999.0000,9,-999.0000,9,-999.0000,9,     -999.0,     -999.0,9,     -999.0,9,     -999.0,9,     -999.0,9,     -999.0,9,     -999.0,9, -999.00,9,   1.0654,-999.0000,-999.000
325020060213,       P16N,      39,          1,          3,          3,2,20060301,       0715,         17,       -152,       5305,  5049.2,   1.4346,  34.6988,2,  34.7000,2,    171.5,2,   171.0,2,  135.80,6,   34.40,6,    0.00,6,    2.37,6,   0.006,3,  -0.002,2,-999.000,5,  2304.8,2,  2408.0,2,   -999.0,9,  -999.00,   7.5980,2,    25.00,-999.000,9,-999.000,-999.0000,9,-999.000,9, -999.00,9,  -999.0,9,    -9.0,-999.000,9,-999.000,   39.06,2,   38.21,2, 5049.20,-999.0000,9,-999.0000,9,-999.0000,9,-999.0000,9,-999.0000,9,-999.0000,9,     -999.0,     -999.0,9,     -999.0,9,     -999.0,9,     -999.0,9,     -999.0,9,     -999.0,9, -999.00,9,   0.9965,-999.0000,-999.000
325020060213,       P16N,      39,          1,          1,          1,2,20060301,       0715,         17,       -152,       5305,  5334.5,   1.4539,  34.6998,2,-999.0000,5,    174.4,2,   172.6,2,  134.40,2,   34.30,2,    0.00,2,    2.36,2,   0.001,2,   0.000,2,-999.000,5,  2303.5,6,  2405.7,2,   -999.0,9,  -999.00,   7.6007,2,    25.00,-999.000,9,-999.000,-999.0000,9,-999.000,9, -999.00,9,  -999.0,9,    -9.0,-999.000,9,-999.000,   38.33,2,   37.50,2, 5334.50,-999.0000,9,-999.0000,9,-999.0000,9,-999.0000,9,-999.0000,9,-999.0000,9,     -999.0,     -999.0,9,     -999.0,9,     -999.0,9,     -999.0,9,     -999.0,9,     -999.0,9, -999.00,9,   0.9799,-999.0000,-999.000