BOTTLE,20170720CCHSIOCBG
EXPOCODE,SECT_ID,STNNBR,CASTNO,SAMPNO,BTLNBR,BTLNBR_FLAG_W,DATE,TIME,LATITUDE,LONGITUDE,DEPTH,CTDPRS,CTDTMP,CTDSAL,CTDSAL_FLAG_W,SALNTY,SALNTY_FLAG_W,CTDOXY,CTDOXY_FLAG_W,OXYGEN,OXYGEN_FLAG_W,SILCAT,SILCAT_FLAG_W,NITRAT,NITRAT_FLAG_W,NITRIT,NITRIT_FLAG_W,PHSPHT,PHSPHT_FLAG_W,CFC-11,CFC-11_FLAG_W,CFC-12,CFC-12_FLAG_W,CFC113,CFC113_FLAG_W,TCARBN,TCARBN_FLAG_W,ALKALI,ALKALI_FLAG_W,FCO2,FCO2_FLAG_W,FCO2TMP,PH_TOT,PH_TOT_FLAG_W,PH_TMP,TRITUM,TRITUM_FLAG_W,TRITER,HELIUM,HELIUM_FLAG_W,DELHE3,DELHE3_FLAG_W,DELC13,DELC13_FLAG_W,DELC14,DELC14_FLAG_W,C14ERR,NEON,NEON_FLAG_W,NEONER,DOC,DOC_FLAG_W,TDN,TDN_FLAG_W,CTDRAW,CDOM325,CDOM325_FLAG_W,CDOM340,CDOM340_FLAG_W,CDOM380,CDOM380_FLAG_W,CDOM412,CDOM412_FLAG_W,CDOMSL,CDOMSL_FLAG_W,CDOMSN,CDOMSN_FLAG_W,DCNS,ARABI,ARABI_FLAG_W,FUCO,FUCO_FLAG_W,GALA,GALA_FLAG_W,GLUC,GLUC_FLAG_W,MAN,MAN_FLAG_W,RHAM,RHAM_FLAG_W,BRDU,BRDU_FLAG_W,THETA,HELIER,DELHER
,,,,,,,,,,,METERS,DBAR,ITS-90,PSS-78,,PSS-78,,UMOL/KG,,UMOL/KG,,UMOL/KG,,UMOL/KG,,UMOL/KG,,UMOL/KG,,PMOL/KG,,PMOL/KG,,PMOL/KG,,UMOL/KG,,UMOL/KG,,UATM,,DEG C,,,DEG C,TU,,TU,NMOL/KG,,PERCNT,,/MILLE,,/MILLE,,/MILLE,NMOL/KG,,NMOL/KG,UMOL/KG,,UMOL/KG,,DBAR,1/M,,1/M,,1/M,,1/M,,1/NM,,1/NM,,NMOL/KG,NMOL/KG,,NMOL/KG,,NMOL/KG,,NMOL/KG,,NMOL/KG,,NMOL/KG,,PMOL/L/H,,DEG C,NMOL/KG,PERCNT
325020060213,       P16N,      13,          1,          8,          8,2,20060219,       0801,         -5,       -151,       4987,  2999.8,   1.6689,  34.6814,2,  34.6820,2,    144.7,2,   145.2,2,  139.30,2,   36.80,2,    0.00,2,    2.56,2,-999.000,9,-999.000,9,-999.000,9,  2325.5,2,  2421.2,2,   1163.8,2,    20.00,   7.5816,2,    25.00,-999.000,9,-999.000,-999.0000,9,-999.000,9, -999.00,9,  -999.0,9,    -9.0,-999.000,9,-999.000,   38.53,2,   40.42,2, 2999.80,-999.0000,9,-999.0000,9,-999.0000,9,-999.0000,9,-999.0000,9,-999.0000,9,     -999.0,     -999.0,9,     -999.0,9,     -999.0,9,     -999.0,9,     -999.0,9,     -999.0,9, -999.00,9,   1.4484,-999.0000,-999.000
325020060213,       P16N,      13,          1,          7,          7,2,20060219,       0801,         -5,       -151,       4987,  3250.4,   1.5740,  34.6869,2,  34.6847,2,    151.8,2,   152.7,2,  138.30,2,   36.30,2,    0.00,2,    2.52,2,-999.000,9,-999.000,9,-999.000,9,  2320.9,2,  2420.9,2,   1144.5,2,    20.00,-999.0000,9,  -999.00,-999.000,9,-999.000,-999.0000,9,-999.000,9, -999.00,9,  -999.0,9,    -9.0,-999.000,9,-999.000,   38.20,2,   39.49,2, 3250.40,-999.0000,9,-999.0000,9,-999.0000,9,-999.0000,9,-999.0000,9,-999.0000,9,     -999.0,     -999.0,9,     -999.0,9,     -999.0,9,     -999.0,9,     -999.0,9,     -999.0,9, -999.00,9,   1.3311,-999.0000,-999.000
325020060213,       P16N,      13,          1,          6,          6,2,20060219,       0801,         -5,       -151,       4987,  3649.4,   1.4604,  34.6941,2,  34.6920,2,    160.8,2,   161.9,2,  137.40,2,   35.70,2,    0.00,2,    2.47,2,-999.000,9,-999.000,9,-999.000,9,  2314.8,2,  2417.9,6,   1096.1,2,    20.00,   7.6002,2,    25.00,-999.000,9,-999.000,-999.0000,9,-999.000,9, -999.00,9,  -999.0,9,    -9.0,-999.000,9,-999.000,   37.85,2,   39.05,2, 3649.40,-999.0000,9,-999.0000,9,-999.0000,9,-999.0000,9,-999.0000,9,-999.0000,9,     -999.0,     -999.0,9,     -999.0,9,     -999.0,9,     -999.0,9,     -999.0,9,     -999.0,9, -999.00,9,   1.1798,-999.0000,-999.000
325020060213,       P16N,      13,          1,          5,          5,2,20060219,       0801,         -5,       -151,       4987,  4049.7,   1.3663,  34.7010,2,  34.6987,2,    173.6,2,   174.5,2,  131.60,6,   34.80,6,    0.00,6,    2.40,6,-999.000,9,-999.000,9,-999.000,9,  2300.9,2,  2406.7,2,   1079.5,2,    20.00,-999.0000,9,  -999.00,-999.000,9,-999.000,-999.0000,9,-999.000,9, -999.00,9,  -999.0,9,    -9.0,-999.000,9,-999.000,   38.01,2,   38.34,2, 4049.70,-999.0000,9,-999.0000,9,-999.0000,9,-999.0000,9,-999.0000,9,-999.0000,9,     -999.0,     -999.0,9,     -999.0,9,     -999.0,9,     -999.0,9,     -999.0,9,     -999.0,9, -999.00,9,   1.0457,-999.0000,-999.000
325020060213,       P16N,      13,          1,          4,          4,2,20060219,       0801,         -5,       -151,       4987,  4549.4,   1.3158,  34.7058,2,  34.7048,2,    184.8,2,   184.9,2,  127.10,6,   34.00,6,    0.00,6,    2.35,6,-999.000,9,-999.000,9,-999.000,9,  2287.6,2,  2394.8,2,   1047.5,2,    20.00,-999.0000,9,  -999.00,-999.000,9,-999.000,-999.0000,9,-999.000,9, -999.00,9,  -999.0,9,    -9.0,-999.000,9,-999.000,   37.32,2,   37.63,2, 4549.40,-999.0000,9,-999.0000,9,-999.0000,9,-999.0000,9,-999.0000,9,-999.0000,9,     -999.0,     -999.0,9,     -999.0,9,     -999.0,9,     -999.0,9,     -999.0,9,     -999.0,9, -999.00,9,   0.9408,-999.0000,-999.000
325020060213,       P16N,      13,          1,          3,          3,2,20060219,       0801,         -5,       -151,       4987,  4850.0,   1.3329,  34.7066,2,  34.7066,2,    188.2,2,   186.8,2,  125.10,6,   33.80,6,    0.00,6,    2.33,6,-999.000,9,-999.000,9,-999.000,9,  2283.9,2,  2389.5,2,   1055.4,2,    20.00,-999.0000,9,  -999.00,-999.000,9,-999.000,-999.0000,9,-999.000,9, -999.00,9,  -999.0,9,    -9.0,-999.000,9,-999.000,   38.41,2,   37.36,2, 4850.00,-999.0000,9,-999.0000,9,-999.0000,9,-999.0000,9,-999.0000,9,-999.0000,9,     -999.0,     -999.0,9,     -999.0,9,     -999.0,9,     -999.0,9,     -999.0,9,     -999.0,9, -999.00,9,   0.9222,-999.0000,-999.000
325020060213,       P16N,      13,          1,          1,          1,2,20060219,       0801,         -5,       -151,       4987,  5101.6,   1.3419,  34.7074,2,  34.7085,2,    189.6,2,   189.0,2,  124.40,2,   33.60,2,    0.00,2,    2.32,2,   0.001,2,   0.001,2,-999.000,5,  2282.8,6,  2388.5,2,   1037.7,2,    20.00,-999.0000,9,  -999.00,-999.000,9,-999.000,-999.0000,9,-999.000,9, -999.00,9,  -999.0,9,    -9.0,-999.000,9,-999.000,   38.74,2,   37.17,2, 5101.60,-999.0000,9,-999.0000,9,-999.0000,9,-999.0000,9,-999.0000,9,-999.0000,9,     -999.0,     -999.0,9,     -999.0,9,     -999.0,9,     -999.0,9,     -999.0,9,     -999.0,9, -999.00,9,   0.9005,-999.0000,-999.000