BOTTLE,20170720CCHSIOCBG
EXPOCODE,SECT_ID,STNNBR,CASTNO,SAMPNO,BTLNBR,BTLNBR_FLAG_W,DATE,TIME,LATITUDE,LONGITUDE,DEPTH,CTDPRS,CTDTMP,CTDSAL,CTDSAL_FLAG_W,SALNTY,SALNTY_FLAG_W,CTDOXY,CTDOXY_FLAG_W,OXYGEN,OXYGEN_FLAG_W,SILCAT,SILCAT_FLAG_W,NITRAT,NITRAT_FLAG_W,NITRIT,NITRIT_FLAG_W,PHSPHT,PHSPHT_FLAG_W,CFC-11,CFC-11_FLAG_W,CFC-12,CFC-12_FLAG_W,CFC113,CFC113_FLAG_W,TCARBN,TCARBN_FLAG_W,ALKALI,ALKALI_FLAG_W,FCO2,FCO2_FLAG_W,FCO2TMP,PH_TOT,PH_TOT_FLAG_W,PH_TMP,TRITUM,TRITUM_FLAG_W,TRITER,HELIUM,HELIUM_FLAG_W,DELHE3,DELHE3_FLAG_W,DELC13,DELC13_FLAG_W,DELC14,DELC14_FLAG_W,C14ERR,NEON,NEON_FLAG_W,NEONER,DOC,DOC_FLAG_W,TDN,TDN_FLAG_W,CTDRAW,CDOM325,CDOM325_FLAG_W,CDOM340,CDOM340_FLAG_W,CDOM380,CDOM380_FLAG_W,CDOM412,CDOM412_FLAG_W,CDOMSL,CDOMSL_FLAG_W,CDOMSN,CDOMSN_FLAG_W,DCNS,ARABI,ARABI_FLAG_W,FUCO,FUCO_FLAG_W,GALA,GALA_FLAG_W,GLUC,GLUC_FLAG_W,MAN,MAN_FLAG_W,RHAM,RHAM_FLAG_W,BRDU,BRDU_FLAG_W,THETA,HELIER,DELHER
,,,,,,,,,,,METERS,DBAR,ITS-90,PSS-78,,PSS-78,,UMOL/KG,,UMOL/KG,,UMOL/KG,,UMOL/KG,,UMOL/KG,,UMOL/KG,,PMOL/KG,,PMOL/KG,,PMOL/KG,,UMOL/KG,,UMOL/KG,,UATM,,DEG C,,,DEG C,TU,,TU,NMOL/KG,,PERCNT,,/MILLE,,/MILLE,,/MILLE,NMOL/KG,,NMOL/KG,UMOL/KG,,UMOL/KG,,DBAR,1/M,,1/M,,1/M,,1/M,,1/NM,,1/NM,,NMOL/KG,NMOL/KG,,NMOL/KG,,NMOL/KG,,NMOL/KG,,NMOL/KG,,NMOL/KG,,PMOL/L/H,,DEG C,NMOL/KG,PERCNT
325020060213,       P16N,      79,          2,         36,         36,2,20060329,       0713,    55.7698,  -153.0003,       3920,     5.7,   4.2023,  32.5442,2,  32.5457,2,    315.9,2,   322.6,2,   21.40,2,   12.20,2,    0.20,2,    1.26,2,   4.960,2,   2.732,2,-999.000,5,  2053.3,6,  2191.9,2,   -999.0,9,  -999.00,   7.7423,6,    25.00,-999.000,9,-999.000,-999.0000,9,-999.000,9, -999.00,9,  -999.0,9,    -9.0,-999.000,9,-999.000,   56.54,2,   16.34,2,    5.70,-999.0000,9,-999.0000,9,-999.0000,9,-999.0000,9,-999.0000,9,-999.0000,9,     -999.0,     -999.0,9,     -999.0,9,     -999.0,9,     -999.0,9,     -999.0,9,     -999.0,9, -999.00,9,   4.2019,-999.0000,-999.000
325020060213,       P16N,      79,          2,         35,         35,2,20060329,       0713,    55.7698,  -153.0003,       3920,    25.2,   4.0900,  32.5696,2,  32.5720,2,    314.2,2,   322.4,2,   21.70,2,   12.60,2,    0.20,2,    1.28,2,-999.000,9,-999.000,9,-999.000,9,  2059.3,2,  2192.7,2,   -999.0,9,  -999.00,   7.7364,2,    25.00,-999.000,9,-999.000,-999.0000,9,-999.000,9, -999.00,9,  -999.0,9,    -9.0,-999.000,9,-999.000,   56.46,2,   17.23,2,   25.20,-999.0000,9,-999.0000,9,-999.0000,9,-999.0000,9,-999.0000,9,-999.0000,9,     -999.0,     -999.0,9,     -999.0,9,     -999.0,9,     -999.0,9,     -999.0,9,     -999.0,9, -999.00,9,   4.0883,-999.0000,-999.000
325020060213,       P16N,      79,          2,         34,         34,2,20060329,       0713,    55.7698,  -153.0003,       3920,    52.1,   3.9973,  32.5933,2,  32.5939,2,    316.0,2,   312.6,2,   22.00,2,   13.30,2,    0.20,2,    1.31,2,-999.000,9,-999.000,9,-999.000,9,  2062.9,2,  2192.4,2,   -999.0,9,  -999.00,   7.7257,2,    25.00,-999.000,9,-999.000,-999.0000,9,-999.000,9, -999.00,9,  -999.0,9,    -9.0,-999.000,9,-999.000,   56.31,2,   17.23,2,   52.10,-999.0000,9,-999.0000,9,-999.0000,9,-999.0000,9,-999.0000,9,-999.0000,9,     -999.0,     -999.0,9,     -999.0,9,     -999.0,9,     -999.0,9,     -999.0,9,     -999.0,9, -999.00,9,   3.9939,-999.0000,-999.000
325020060213,       P16N,      79,          2,         33,         33,2,20060329,       0713,    55.7698,  -153.0003,       3920,    75.3,   4.4236,  32.7968,2,  32.8058,2,    278.7,2,   272.6,2,   27.70,2,   17.50,2,    0.10,2,    1.53,2,   4.663,2,   2.522,2,-999.000,5,  2096.4,2,  2205.6,6,   -999.0,9,  -999.00,   7.6648,2,    25.00,-999.000,9,-999.000,-999.0000,9,-999.000,9, -999.00,9,  -999.0,9,    -9.0,-999.000,9,-999.000,   54.89,2,   21.32,2,   75.30,-999.0000,9,-999.0000,9,-999.0000,9,-999.0000,9,-999.0000,9,-999.0000,9,     -999.0,     -999.0,9,     -999.0,9,     -999.0,9,     -999.0,9,     -999.0,9,     -999.0,9, -999.00,9,   4.4184,-999.0000,-999.000
325020060213,       P16N,      79,          2,         32,         32,2,20060329,       0713,    55.7698,  -153.0003,       3920,    85.8,   4.6937,  32.9956,2,  33.0050,2,    273.5,2,   238.7,2,   33.60,2,   21.10,2,    0.10,2,    1.71,2,-999.000,9,-999.000,9,-999.000,9,  2125.9,2,  2218.8,2,   -999.0,9,  -999.00,   7.6106,2,    25.00,-999.000,9,-999.000,-999.0000,9,-999.000,9, -999.00,9,  -999.0,9,    -9.0,-999.000,9,-999.000,   53.07,2,   25.68,2,   85.80,-999.0000,9,-999.0000,9,-999.0000,9,-999.0000,9,-999.0000,9,-999.0000,9,     -999.0,     -999.0,9,     -999.0,9,     -999.0,9,     -999.0,9,     -999.0,9,     -999.0,9, -999.00,9,   4.6876,-999.0000,-999.000
325020060213,       P16N,      79,          2,         31,         31,2,20060329,       0713,    55.7698,  -153.0003,       3920,   100.2,   4.9536,  33.2401,2,  33.2332,2,    212.1,2,   197.9,2,   40.50,2,   25.30,2,    0.00,2,    1.92,2,-999.000,9,-999.000,9,-999.000,9,  2160.1,6,  2234.9,2,   -999.0,9,  -999.00,   7.5462,2,    25.00,-999.000,9,-999.000,-999.0000,9,-999.000,9, -999.00,9,  -999.0,9,    -9.0,-999.000,9,-999.000,   52.15,2,   29.39,2,  100.20,-999.0000,9,-999.0000,9,-999.0000,9,-999.0000,9,-999.0000,9,-999.0000,9,     -999.0,     -999.0,9,     -999.0,9,     -999.0,9,     -999.0,9,     -999.0,9,     -999.0,9, -999.00,9,   4.9462,-999.0000,-999.000
325020060213,       P16N,      79,          2,         30,         30,2,20060329,       0713,    55.7698,  -153.0003,       3920,   110.2,   5.0241,  33.4292,2,  33.4516,2,    139.8,2,   162.2,2,   47.60,2,   29.30,2,    0.00,2,    2.12,2,-999.000,9,-999.000,9,-999.000,9,  -999.0,9,  -999.0,9,   -999.0,9,  -999.00,   7.4834,2,    25.00,-999.000,9,-999.000,-999.0000,9,-999.000,9, -999.00,9,  -999.0,9,    -9.0,-999.000,9,-999.000,   51.46,2,   33.60,2,  110.20,-999.0000,9,-999.0000,9,-999.0000,9,-999.0000,9,-999.0000,9,-999.0000,9,     -999.0,     -999.0,9,     -999.0,9,     -999.0,9,     -999.0,9,     -999.0,9,     -999.0,9, -999.00,9,   5.0158,-999.0000,-999.000
325020060213,       P16N,      79,          2,         29,         29,9,20060329,       0713,    55.7698,  -153.0003,       3920,   126.7,   5.1480,  33.6387,2,-999.0000,9,    130.0,2,  -999.0,9, -999.00,9, -999.00,9, -999.00,9, -999.00,9,-999.000,9,-999.000,9,-999.000,9,  -999.0,9,  -999.0,9,   -999.0,9,  -999.00,-999.0000,9,  -999.00,-999.000,9,-999.000,-999.0000,9,-999.000,9, -999.00,9,  -999.0,9,    -9.0,-999.000,9,-999.000, -999.00,9, -999.00,9,  126.70,-999.0000,9,-999.0000,9,-999.0000,9,-999.0000,9,-999.0000,9,-999.0000,9,     -999.0,     -999.0,9,     -999.0,9,     -999.0,9,     -999.0,9,     -999.0,9,     -999.0,9, -999.00,9,   5.1383,-999.0000,-999.000
325020060213,       P16N,      79,          2,         28,         28,2,20060329,       0713,    55.7698,  -153.0003,       3920,   150.5,   5.0303,  33.7560,2,  33.7572,2,    104.5,2,   107.8,2,   59.10,2,   34.70,2,    0.00,2,    2.41,2,-999.000,9,-999.000,9,-999.000,9,  -999.0,9,  -999.0,9,   -999.0,9,  -999.00,   7.3902,2,    25.00,-999.000,9,-999.000,-999.0000,9,-999.000,9, -999.00,9,  -999.0,9,    -9.0,-999.000,9,-999.000,   49.84,2,   38.69,2,  150.50,-999.0000,9,-999.0000,9,-999.0000,9,-999.0000,9,-999.0000,9,-999.0000,9,     -999.0,     -999.0,9,     -999.0,9,     -999.0,9,     -999.0,9,     -999.0,9,     -999.0,9, -999.00,9,   5.0188,-999.0000,-999.000
325020060213,       P16N,      79,          2,         27,         27,2,20060329,       0713,    55.7698,  -153.0003,       3920,   175.7,   4.9436,  33.8176,2,  33.8197,2,     90.5,2,    89.3,2,   64.30,2,   36.80,2,    0.00,2,    2.54,2,-999.000,9,-999.000,9,-999.000,9,  -999.0,9,  -999.0,9,   -999.0,9,  -999.00,   7.3592,2,    25.00,-999.000,9,-999.000,-999.0000,9,-999.000,9, -999.00,9,  -999.0,9,    -9.0,-999.000,9,-999.000,   48.98,2,   41.04,2,  175.70,-999.0000,9,-999.0000,9,-999.0000,9,-999.0000,9,-999.0000,9,-999.0000,9,     -999.0,     -999.0,9,     -999.0,9,     -999.0,9,     -999.0,9,     -999.0,9,     -999.0,9, -999.00,9,   4.9303,-999.0000,-999.000
325020060213,       P16N,      79,          2,         26,         26,2,20060329,       0713,    55.7698,  -153.0003,       3920,   200.2,   4.4834,  33.8220,2,  33.8252,2,     75.7,2,    78.2,2,   70.40,2,   38.60,2,    0.00,2,    2.67,2,   2.681,2,   1.350,2,-999.000,5,  -999.0,9,  -999.0,9,   -999.0,9,  -999.00,   7.3243,2,    25.00,-999.000,9,-999.000,-999.0000,9,-999.000,9, -999.00,9,  -999.0,9,    -9.0,-999.000,9,-999.000,   48.56,2,   42.94,2,  200.20,-999.0000,9,-999.0000,9,-999.0000,9,-999.0000,9,-999.0000,9,-999.0000,9,     -999.0,     -999.0,9,     -999.0,9,     -999.0,9,     -999.0,9,     -999.0,9,     -999.0,9, -999.00,9,   4.4689,-999.0000,-999.000
325020060213,       P16N,      79,          2,         25,         25,2,20060329,       0713,    55.7698,  -153.0003,       3920,   251.5,   4.3241,  33.9065,2,  33.9065,2,     49.4,2,    51.5,2,   79.50,2,   41.50,2,    0.00,2,    2.83,2,-999.000,9,-999.000,9,-999.000,9,  -999.0,9,  -999.0,9,   -999.0,9,  -999.00,   7.2849,2,    25.00,-999.000,9,-999.000,-999.0000,9,-999.000,9, -999.00,9,  -999.0,9,    -9.0,-999.000,9,-999.000,   47.37,2,   46.10,2,  251.50,-999.0000,9,-999.0000,9,-999.0000,9,-999.0000,9,-999.0000,9,-999.0000,9,     -999.0,     -999.0,9,     -999.0,9,     -999.0,9,     -999.0,9,     -999.0,9,     -999.0,9, -999.00,9,   4.3061,-999.0000,-999.000
325020060213,       P16N,      79,          2,         24,         24,2,20060329,       0713,    55.7698,  -153.0003,       3920,   300.4,   4.2458,  33.9743,2,  33.9745,2,     36.9,2,    36.2,2,   86.80,2,   42.70,2,    0.00,2,    2.94,2,-999.000,9,-999.000,9,-999.000,9,  -999.0,9,  -999.0,9,   -999.0,9,  -999.00,   7.2650,2,    25.00,-999.000,9,-999.000,-999.0000,9,-999.000,9, -999.00,9,  -999.0,9,    -9.0,-999.000,9,-999.000,   46.66,2,   47.23,2,  300.40,-999.0000,9,-999.0000,9,-999.0000,9,-999.0000,9,-999.0000,9,-999.0000,9,     -999.0,     -999.0,9,     -999.0,9,     -999.0,9,     -999.0,9,     -999.0,9,     -999.0,9, -999.00,9,   4.2244,-999.0000,-999.000
325020060213,       P16N,      79,          2,         23,         23,2,20060329,       0713,    55.7698,  -153.0003,       3920,   350.1,   4.1460,  34.0166,2,  34.0169,2,     28.0,2,    28.2,2,   92.40,2,   43.50,2,    0.00,2,    3.00,2,   1.342,2,   0.652,2,-999.000,5,  -999.0,9,  -999.0,9,   -999.0,9,  -999.00,   7.2578,2,    25.00,-999.000,9,-999.000,-999.0000,9,-999.000,9, -999.00,9,  -999.0,9,    -9.0,-999.000,9,-999.000,   45.82,2,   47.90,2,  350.10,-999.0000,9,-999.0000,9,-999.0000,9,-999.0000,9,-999.0000,9,-999.0000,9,     -999.0,     -999.0,9,     -999.0,9,     -999.0,9,     -999.0,9,     -999.0,9,     -999.0,9, -999.00,9,   4.1211,-999.0000,-999.000
325020060213,       P16N,      79,          2,         22,         22,2,20060329,       0713,    55.7698,  -153.0003,       3920,   402.3,   4.0175,  34.0655,2,  34.0661,2,     22.9,2,    23.3,2,   98.90,2,   43.60,2,    0.00,2,    3.05,2,-999.000,9,-999.000,9,-999.000,9,  -999.0,9,  -999.0,9,   -999.0,9,  -999.00,   7.2597,2,    25.00,-999.000,9,-999.000,-999.0000,9,-999.000,9, -999.00,9,  -999.0,9,    -9.0,-999.000,9,-999.000,   44.06,2,   47.70,2,  402.30,-999.0000,9,-999.0000,9,-999.0000,9,-999.0000,9,-999.0000,9,-999.0000,9,     -999.0,     -999.0,9,     -999.0,9,     -999.0,9,     -999.0,9,     -999.0,9,     -999.0,9, -999.00,9,   3.9891,-999.0000,-999.000
325020060213,       P16N,      79,          2,         21,         21,2,20060329,       0713,    55.7698,  -153.0003,       3920,   450.5,   3.8600,  34.0890,2,  34.0913,2,     20.6,2,    20.0,2,  104.00,2,   44.10,2,    0.00,2,    3.08,2,-999.000,9,-999.000,9,-999.000,9,  -999.0,9,  -999.0,9,   -999.0,9,  -999.00,   7.2548,2,    25.00,-999.000,9,-999.000,-999.0000,9,-999.000,9, -999.00,9,  -999.0,9,    -9.0,-999.000,9,-999.000,   43.06,2,   48.60,2,  450.50,-999.0000,9,-999.0000,9,-999.0000,9,-999.0000,9,-999.0000,9,-999.0000,9,     -999.0,     -999.0,9,     -999.0,9,     -999.0,9,     -999.0,9,     -999.0,9,     -999.0,9, -999.00,9,   3.8286,-999.0000,-999.000
325020060213,       P16N,      79,          2,         20,         20,2,20060329,       0713,    55.7698,  -153.0003,       3920,   500.7,   3.8297,  34.1319,2,  34.1346,2,     18.4,2,    18.4,2,  107.90,2,   44.10,2,    0.00,2,    3.09,2,-999.000,9,-999.000,9,-999.000,9,  -999.0,9,  -999.0,9,   -999.0,9,  -999.00,   7.2626,6,    25.00,-999.000,9,-999.000,-999.0000,9,-999.000,9, -999.00,9,  -999.0,9,    -9.0,-999.000,9,-999.000,   42.12,2,   48.25,2,  500.70,-999.0000,9,-999.0000,9,-999.0000,9,-999.0000,9,-999.0000,9,-999.0000,9,     -999.0,     -999.0,9,     -999.0,9,     -999.0,9,     -999.0,9,     -999.0,9,     -999.0,9, -999.00,9,   3.7947,-999.0000,-999.000
325020060213,       P16N,      79,          2,         19,         19,2,20060329,       0713,    55.7698,  -153.0003,       3920,   600.4,   3.6225,  34.2054,2,  34.2070,2,     16.0,2,    15.6,2,  117.30,2,   44.10,2,    0.00,2,    3.12,2,-999.000,9,-999.000,9,-999.000,9,  -999.0,9,  -999.0,9,   -999.0,9,  -999.00,-999.0000,9,  -999.00,-999.000,9,-999.000,-999.0000,9,-999.000,9, -999.00,9,  -999.0,9,    -9.0,-999.000,9,-999.000,   41.39,2,   47.72,2,  600.40,-999.0000,9,-999.0000,9,-999.0000,9,-999.0000,9,-999.0000,9,-999.0000,9,     -999.0,     -999.0,9,     -999.0,9,     -999.0,9,     -999.0,9,     -999.0,9,     -999.0,9, -999.00,9,   3.5810,-999.0000,-999.000
325020060213,       P16N,      79,          2,         18,         18,2,20060329,       0713,    55.7698,  -153.0003,       3920,   701.8,   3.4278,  34.2442,2,  34.2459,2,     14.7,2,    14.4,2,  124.30,2,   44.40,2,    0.00,2,    3.15,2,   0.305,6,   0.149,6,-999.000,5,  -999.0,9,  -999.0,9,   -999.0,9,  -999.00,-999.0000,9,  -999.00,-999.000,9,-999.000,-999.0000,9,-999.000,9, -999.00,9,  -999.0,9,    -9.0,-999.000,9,-999.000,   40.56,2,   48.51,2,  701.80,-999.0000,9,-999.0000,9,-999.0000,9,-999.0000,9,-999.0000,9,-999.0000,9,     -999.0,     -999.0,9,     -999.0,9,     -999.0,9,     -999.0,9,     -999.0,9,     -999.0,9, -999.00,9,   3.3798,-999.0000,-999.000
325020060213,       P16N,      79,          2,         17,         17,2,20060329,       0713,    55.7698,  -153.0003,       3920,   800.2,   3.2405,  34.3050,2,  34.3073,2,     15.0,2,    14.9,2,  131.90,2,   44.30,2,    0.00,2,    3.16,2,-999.000,9,-999.000,9,-999.000,9,  -999.0,9,  -999.0,9,   -999.0,9,  -999.00,-999.0000,9,  -999.00,-999.000,9,-999.000,-999.0000,9,-999.000,9, -999.00,9,  -999.0,9,    -9.0,-999.000,9,-999.000,   39.16,2,   48.00,2,  800.20,-999.0000,9,-999.0000,9,-999.0000,9,-999.0000,9,-999.0000,9,-999.0000,9,     -999.0,     -999.0,9,     -999.0,9,     -999.0,9,     -999.0,9,     -999.0,9,     -999.0,9, -999.00,9,   3.1862,-999.0000,-999.000
325020060213,       P16N,      79,          2,         16,         16,2,20060329,       0713,    55.7698,  -153.0003,       3920,   901.3,   3.0778,  34.3435,2,  34.3460,2,     14.0,2,    13.8,2,  137.80,2,   44.50,2,    0.00,2,    3.18,2,   0.097,2,   0.047,2,-999.000,5,  -999.0,9,  -999.0,9,   -999.0,9,  -999.00,-999.0000,9,  -999.00,-999.000,9,-999.000,-999.0000,9,-999.000,9, -999.00,9,  -999.0,9,    -9.0,-999.000,9,-999.000,   38.83,2,   48.13,2,  901.30,-999.0000,9,-999.0000,9,-999.0000,9,-999.0000,9,-999.0000,9,-999.0000,9,     -999.0,     -999.0,9,     -999.0,9,     -999.0,9,     -999.0,9,     -999.0,9,     -999.0,9, -999.00,9,   3.0170,-999.0000,-999.000
325020060213,       P16N,      79,          2,         15,         15,2,20060329,       0713,    55.7698,  -153.0003,       3920,  1000.8,   2.9123,  34.3789,2,  34.3810,2,     14.6,2,    14.4,2,  143.30,2,   44.40,2,    0.00,2,    3.19,2,   0.064,2,   0.020,2,-999.000,5,  -999.0,9,  -999.0,9,   -999.0,9,  -999.00,-999.0000,9,  -999.00,-999.000,9,-999.000,-999.0000,9,-999.000,9, -999.00,9,  -999.0,9,    -9.0,-999.000,9,-999.000,   38.46,2,   48.60,2, 1000.80,-999.0000,9,-999.0000,9,-999.0000,9,-999.0000,9,-999.0000,9,-999.0000,9,     -999.0,     -999.0,9,     -999.0,9,     -999.0,9,     -999.0,9,     -999.0,9,     -999.0,9, -999.00,9,   2.8452,-999.0000,-999.000
325020060213,       P16N,      79,          2,         14,         14,2,20060329,       0713,    55.7698,  -153.0003,       3920,  1199.0,   2.6105,  34.4410,2,  34.4437,2,     18.5,2,    18.4,2,  152.90,2,   44.60,2,    0.00,2,    3.20,2,-999.000,9,-999.000,9,-999.000,9,  -999.0,9,  -999.0,9,   -999.0,9,  -999.00,-999.0000,9,  -999.00,-999.000,9,-999.000,-999.0000,9,-999.000,9, -999.00,9,  -999.0,9,    -9.0,-999.000,9,-999.000,   38.26,2,   47.99,2, 1199.00,-999.0000,9,-999.0000,9,-999.0000,9,-999.0000,9,-999.0000,9,-999.0000,9,     -999.0,     -999.0,9,     -999.0,9,     -999.0,9,     -999.0,9,     -999.0,9,     -999.0,9, -999.00,9,   2.5310,-999.0000,-999.000
325020060213,       P16N,      79,          2,         13,         13,2,20060329,       0713,    55.7698,  -153.0003,       3920,  1402.0,   2.3817,  34.4891,2,  34.4907,2,     25.2,2,  -999.0,5,  159.30,2,   44.10,2,    0.00,2,    3.18,2,-999.000,9,-999.000,9,-999.000,9,  -999.0,9,  -999.0,9,   -999.0,9,  -999.00,-999.0000,9,  -999.00,-999.000,9,-999.000,-999.0000,9,-999.000,9, -999.00,9,  -999.0,9,    -9.0,-999.000,9,-999.000,   37.97,2,   47.72,2, 1402.00,-999.0000,9,-999.0000,9,-999.0000,9,-999.0000,9,-999.0000,9,-999.0000,9,     -999.0,     -999.0,9,     -999.0,9,     -999.0,9,     -999.0,9,     -999.0,9,     -999.0,9, -999.00,9,   2.2889,-999.0000,-999.000
325020060213,       P16N,      79,          2,         12,         12,2,20060329,       0713,    55.7698,  -153.0003,       3920,  1601.9,   2.2019,  34.5282,2,  34.5298,2,     34.3,2,    34.5,2,  163.90,2,   43.60,2,    0.00,2,    3.14,2,-999.000,9,-999.000,9,-999.000,9,  -999.0,9,  -999.0,9,   -999.0,9,  -999.00,-999.0000,9,  -999.00,-999.000,9,-999.000,-999.0000,9,-999.000,9, -999.00,9,  -999.0,9,    -9.0,-999.000,9,-999.000,   37.90,2,   47.56,2, 1601.90,-999.0000,9,-999.0000,9,-999.0000,9,-999.0000,9,-999.0000,9,-999.0000,9,     -999.0,     -999.0,9,     -999.0,9,     -999.0,9,     -999.0,9,     -999.0,9,     -999.0,9, -999.00,9,   2.0955,-999.0000,-999.000
325020060213,       P16N,      79,          2,         11,         11,2,20060329,       0713,    55.7698,  -153.0003,       3920,  1801.0,   2.0242,  34.5660,2,  34.5691,3,     47.2,2,    47.5,2,  166.90,2,   42.70,2,    0.00,2,    3.10,2,-999.000,9,-999.000,9,-999.000,9,  -999.0,9,  -999.0,9,   -999.0,9,  -999.00,-999.0000,9,  -999.00,-999.000,9,-999.000,-999.0000,9,-999.000,9, -999.00,9,  -999.0,9,    -9.0,-999.000,9,-999.000,   37.97,2,   46.06,2, 1801.00,-999.0000,9,-999.0000,9,-999.0000,9,-999.0000,9,-999.0000,9,-999.0000,9,     -999.0,     -999.0,9,     -999.0,9,     -999.0,9,     -999.0,9,     -999.0,9,     -999.0,9, -999.00,9,   1.9040,-999.0000,-999.000
325020060213,       P16N,      79,          2,         10,         10,2,20060329,       0713,    55.7698,  -153.0003,       3920,  2000.1,   1.9190,  34.5883,2,  34.5909,3,     57.5,2,    57.6,2,  168.90,2,   42.10,2,    0.00,2,    3.06,2,-999.000,9,-999.000,9,-999.000,9,  -999.0,9,  -999.0,9,   -999.0,9,  -999.00,-999.0000,9,  -999.00,-999.000,9,-999.000,-999.0000,9,-999.000,9, -999.00,9,  -999.0,9,    -9.0,-999.000,9,-999.000,   38.15,2,   45.65,2, 2000.10,-999.0000,9,-999.0000,9,-999.0000,9,-999.0000,9,-999.0000,9,-999.0000,9,     -999.0,     -999.0,9,     -999.0,9,     -999.0,9,     -999.0,9,     -999.0,9,     -999.0,9, -999.00,9,   1.7839,-999.0000,-999.000