BOTTLE,20170720CCHSIOCBG
EXPOCODE,SECT_ID,STNNBR,CASTNO,SAMPNO,BTLNBR,BTLNBR_FLAG_W,DATE,TIME,LATITUDE,LONGITUDE,DEPTH,CTDPRS,CTDTMP,CTDSAL,CTDSAL_FLAG_W,SALNTY,SALNTY_FLAG_W,CTDOXY,CTDOXY_FLAG_W,OXYGEN,OXYGEN_FLAG_W,SILCAT,SILCAT_FLAG_W,NITRAT,NITRAT_FLAG_W,NITRIT,NITRIT_FLAG_W,PHSPHT,PHSPHT_FLAG_W,CFC-11,CFC-11_FLAG_W,CFC-12,CFC-12_FLAG_W,CFC113,CFC113_FLAG_W,TCARBN,TCARBN_FLAG_W,ALKALI,ALKALI_FLAG_W,FCO2,FCO2_FLAG_W,FCO2TMP,PH_TOT,PH_TOT_FLAG_W,PH_TMP,TRITUM,TRITUM_FLAG_W,TRITER,HELIUM,HELIUM_FLAG_W,DELHE3,DELHE3_FLAG_W,DELC13,DELC13_FLAG_W,DELC14,DELC14_FLAG_W,C14ERR,NEON,NEON_FLAG_W,NEONER,DOC,DOC_FLAG_W,TDN,TDN_FLAG_W,CTDRAW,CDOM325,CDOM325_FLAG_W,CDOM340,CDOM340_FLAG_W,CDOM380,CDOM380_FLAG_W,CDOM412,CDOM412_FLAG_W,CDOMSL,CDOMSL_FLAG_W,CDOMSN,CDOMSN_FLAG_W,DCNS,ARABI,ARABI_FLAG_W,FUCO,FUCO_FLAG_W,GALA,GALA_FLAG_W,GLUC,GLUC_FLAG_W,MAN,MAN_FLAG_W,RHAM,RHAM_FLAG_W,BRDU,BRDU_FLAG_W,THETA,HELIER,DELHER
,,,,,,,,,,,METERS,DBAR,ITS-90,PSS-78,,PSS-78,,UMOL/KG,,UMOL/KG,,UMOL/KG,,UMOL/KG,,UMOL/KG,,UMOL/KG,,PMOL/KG,,PMOL/KG,,PMOL/KG,,UMOL/KG,,UMOL/KG,,UATM,,DEG C,,,DEG C,TU,,TU,NMOL/KG,,PERCNT,,/MILLE,,/MILLE,,/MILLE,NMOL/KG,,NMOL/KG,UMOL/KG,,UMOL/KG,,DBAR,1/M,,1/M,,1/M,,1/M,,1/NM,,1/NM,,NMOL/KG,NMOL/KG,,NMOL/KG,,NMOL/KG,,NMOL/KG,,NMOL/KG,,NMOL/KG,,PMOL/L/H,,DEG C,NMOL/KG,PERCNT
325020060213,       P16N,      78,          2,         36,         36,2,20060329,       0105,      55.67,    -152.95,       4954,     4.8,   4.1832,  32.6170,2,  32.6181,2,    320.3,2,   322.2,2,   22.60,2,   12.90,2,    0.20,2,    1.26,2,   4.989,2,   2.775,2,-999.000,5,  2059.8,6,  2197.0,2,   -999.0,9,  -999.00,   7.7395,6,    25.00,-999.000,9,-999.000,-999.0000,9,-999.000,9, -999.00,5,    -6.3,6,     2.5,-999.000,9,-999.000,   55.14,2,   17.33,2,    4.80,-999.0000,9,-999.0000,9,-999.0000,9,-999.0000,9,-999.0000,9,-999.0000,9,     -999.0,     -999.0,9,     -999.0,9,     -999.0,9,     -999.0,9,     -999.0,9,     -999.0,9, -999.00,9,   4.1829,-999.0000,-999.000
325020060213,       P16N,      78,          2,         35,         35,2,20060329,       0105,      55.67,    -152.95,       4954,    29.6,   4.1809,  32.6187,2,  32.6187,2,    321.4,2,   322.0,2,   22.60,2,   13.00,2,    0.20,2,    1.26,2,-999.000,9,-999.000,9,-999.000,9,  2059.9,2,  2197.9,2,   -999.0,9,  -999.00,   7.7386,2,    25.00,-999.000,9,-999.000,-999.0000,9,-999.000,9, -999.00,9,  -999.0,9,    -9.0,-999.000,9,-999.000,   53.78,2,   17.49,2,   29.60,-999.0000,9,-999.0000,9,-999.0000,9,-999.0000,9,-999.0000,9,-999.0000,9,     -999.0,     -999.0,9,     -999.0,9,     -999.0,9,     -999.0,9,     -999.0,9,     -999.0,9, -999.00,9,   4.1789,-999.0000,-999.000
325020060213,       P16N,      78,          2,         34,         34,2,20060329,       0105,      55.67,    -152.95,       4954,    59.5,   3.8853,  32.6899,2,  32.6939,2,    316.3,2,   314.2,2,   25.30,2,   14.90,2,    0.20,2,    1.38,2,   4.953,2,   2.798,2,-999.000,5,  2073.8,2,  2201.9,2,   -999.0,9,  -999.00,   7.7131,2,    25.00,-999.000,9,-999.000,-999.0000,9,-999.000,9, -999.00,9,  -999.0,9,    -9.0,-999.000,9,-999.000,   51.53,2,   18.92,2,   59.50,-999.0000,9,-999.0000,9,-999.0000,9,-999.0000,9,-999.0000,9,-999.0000,9,     -999.0,     -999.0,9,     -999.0,9,     -999.0,9,     -999.0,9,     -999.0,9,     -999.0,9, -999.00,9,   3.8814,-999.0000,-999.000
325020060213,       P16N,      78,          2,         33,         33,2,20060329,       0105,      55.67,    -152.95,       4954,    79.3,   3.5384,  32.7920,2,  32.7944,2,    316.6,2,   317.5,2,   28.90,2,   16.90,2,    0.20,2,    1.49,2,-999.000,9,-999.000,9,-999.000,9,  2086.1,2,  2209.8,2,   -999.0,9,  -999.00,   7.6967,2,    25.00,-999.000,9,-999.000,-999.0000,9,-999.000,9, -999.00,9,  -999.0,9,    -9.0,-999.000,9,-999.000,   51.48,2,   21.32,2,   79.30,-999.0000,9,-999.0000,9,-999.0000,9,-999.0000,9,-999.0000,9,-999.0000,9,     -999.0,     -999.0,9,     -999.0,9,     -999.0,9,     -999.0,9,     -999.0,9,     -999.0,9, -999.00,9,   3.5335,-999.0000,-999.000
325020060213,       P16N,      78,          2,         32,         32,2,20060329,       0105,      55.67,    -152.95,       4954,    95.6,   3.4367,  32.8665,2,  32.8868,2,    309.8,2,   304.5,2,   33.40,2,   19.30,2,    0.20,2,    1.60,2,-999.000,9,-999.000,9,-999.000,9,  2102.6,2,  2216.3,2,   -999.0,9,  -999.00,   7.6650,2,    25.00,-999.000,9,-999.000,-999.0000,9,-999.000,9, -999.00,9,  -999.0,9,    -9.0,-999.000,9,-999.000,   49.02,2,   23.62,2,   95.60,-999.0000,9,-999.0000,9,-999.0000,9,-999.0000,9,-999.0000,9,-999.0000,9,     -999.0,     -999.0,9,     -999.0,9,     -999.0,9,     -999.0,9,     -999.0,9,     -999.0,9, -999.00,9,   3.4308,-999.0000,-999.000
325020060213,       P16N,      78,          2,         31,         31,2,20060329,       0105,      55.67,    -152.95,       4954,   109.5,   4.0218,  33.2588,2,  33.2596,2,    201.0,2,   199.9,2,   49.30,6,   28.50,6,    0.10,6,    2.06,6,   3.992,2,   2.150,2,-999.000,5,  2177.5,2,  2241.3,2,   -999.0,9,  -999.00,   7.5076,2,    25.00,-999.000,9,-999.000,-999.0000,9,-999.000,9, -999.00,9,  -999.0,9,    -9.0,-999.000,9,-999.000,   47.41,2,   32.92,2,  109.50,-999.0000,9,-999.0000,9,-999.0000,9,-999.0000,9,-999.0000,9,-999.0000,9,     -999.0,     -999.0,9,     -999.0,9,     -999.0,9,     -999.0,9,     -999.0,9,     -999.0,9, -999.00,9,   4.0145,-999.0000,-999.000
325020060213,       P16N,      78,          2,         30,         30,2,20060329,       0105,      55.67,    -152.95,       4954,   125.0,   4.1446,  33.5653,2,  33.5597,2,    105.8,2,   120.5,2,   64.30,2,   36.00,2,    0.00,2,    2.50,2,-999.000,9,-999.000,9,-999.000,9,  2242.0,2,  2264.4,2,   -999.0,9,  -999.00,   7.3739,2,    25.00,-999.000,9,-999.000,-999.0000,9,-999.000,9, -999.00,9,  -999.0,9,    -9.0,-999.000,9,-999.000,   46.34,2,   39.74,2,  125.00,-999.0000,9,-999.0000,9,-999.0000,9,-999.0000,9,-999.0000,9,-999.0000,9,     -999.0,     -999.0,9,     -999.0,9,     -999.0,9,     -999.0,9,     -999.0,9,     -999.0,9, -999.00,9,   4.1360,-999.0000,-999.000
325020060213,       P16N,      78,          2,         29,         29,2,20060329,       0105,      55.67,    -152.95,       4954,   134.7,   4.1386,  33.6931,2,  33.6998,2,     84.8,2,    83.5,2,   71.90,2,   39.50,2,    0.00,2,    2.71,2,-999.000,9,-999.000,9,-999.000,9,  2272.5,2,  2276.6,6,   -999.0,9,  -999.00,   7.3083,2,    25.00,-999.000,9,-999.000,-999.0000,9,-999.000,9, -999.00,9,  -999.0,9,    -9.0,-999.000,9,-999.000,   44.62,2,   43.22,2,  134.70,-999.0000,9,-999.0000,9,-999.0000,9,-999.0000,9,-999.0000,9,-999.0000,9,     -999.0,     -999.0,9,     -999.0,9,     -999.0,9,     -999.0,9,     -999.0,9,     -999.0,9, -999.00,9,   4.1294,-999.0000,-999.000
325020060213,       P16N,      78,          2,         28,         28,2,20060329,       0105,      55.67,    -152.95,       4954,   175.3,   4.0526,  33.8653,2,  33.8681,2,     37.8,2,    38.9,2,   83.50,6,   43.60,6,    0.00,6,    2.93,6,   2.220,2,   1.090,2,-999.000,5,  2311.3,6,  2292.5,2,   -999.0,9,  -999.00,   7.2368,2,    25.00,-999.000,9,-999.000,-999.0000,9,-999.000,9, -999.00,9,  -999.0,9,    -9.0,-999.000,9,-999.000,   43.32,2,   47.83,2,  175.30,-999.0000,9,-999.0000,9,-999.0000,9,-999.0000,9,-999.0000,9,-999.0000,9,     -999.0,     -999.0,9,     -999.0,9,     -999.0,9,     -999.0,9,     -999.0,9,     -999.0,9, -999.00,9,   4.0406,-999.0000,-999.000
325020060213,       P16N,      78,          2,         27,         27,9,20060329,       0105,      55.67,    -152.95,       4954,   226.4,   3.9701,  33.9345,2,-999.0000,9,     25.1,2,  -999.0,9, -999.00,9, -999.00,9, -999.00,9, -999.00,9,-999.000,9,-999.000,9,-999.000,9,  -999.0,9,  -999.0,9,   -999.0,9,  -999.00,-999.0000,9,  -999.00,-999.000,9,-999.000,-999.0000,9,-999.000,9, -999.00,9,  -999.0,9,    -9.0,-999.000,9,-999.000, -999.00,9, -999.00,9,  226.40,-999.0000,9,-999.0000,9,-999.0000,9,-999.0000,9,-999.0000,9,-999.0000,9,     -999.0,     -999.0,9,     -999.0,9,     -999.0,9,     -999.0,9,     -999.0,9,     -999.0,9, -999.00,9,   3.9546,-999.0000,-999.000
325020060213,       P16N,      78,          2,         26,         26,2,20060329,       0105,      55.67,    -152.95,       4954,   276.1,   3.9733,  34.0023,2,  34.0025,2,     18.1,2,    21.8,2,   95.40,2,   44.50,2,    0.00,2,    3.04,2,-999.000,9,-999.000,9,-999.000,9,  -999.0,9,  -999.0,9,   -999.0,9,  -999.00,   7.2341,2,    25.00,-999.000,9,-999.000,-999.0000,9,-999.000,9, -999.00,5,  -113.5,6,     1.7,-999.000,9,-999.000,   42.67,2,   48.56,2,  276.10,-999.0000,9,-999.0000,9,-999.0000,9,-999.0000,9,-999.0000,9,-999.0000,9,     -999.0,     -999.0,9,     -999.0,9,     -999.0,9,     -999.0,9,     -999.0,9,     -999.0,9, -999.00,9,   3.9542,-999.0000,-999.000
325020060213,       P16N,      78,          2,         25,         25,2,20060329,       0105,      55.67,    -152.95,       4954,   325.1,   3.8802,  34.0485,2,  34.0513,2,     15.6,2,    18.3,2,  101.00,2,   44.80,2,    0.00,2,    3.07,2,-999.000,9,-999.000,9,-999.000,9,  -999.0,9,  -999.0,9,   -999.0,9,  -999.00,   7.2424,2,    25.00,-999.000,9,-999.000,-999.0000,9,-999.000,9, -999.00,9,  -999.0,9,    -9.0,-999.000,9,-999.000,   42.03,2,   48.48,2,  325.10,-999.0000,9,-999.0000,9,-999.0000,9,-999.0000,9,-999.0000,9,-999.0000,9,     -999.0,     -999.0,9,     -999.0,9,     -999.0,9,     -999.0,9,     -999.0,9,     -999.0,9, -999.00,9,   3.8578,-999.0000,-999.000
325020060213,       P16N,      78,          2,         24,         24,2,20060329,       0105,      55.67,    -152.95,       4954,   375.9,   3.8158,  34.0985,2,  34.0996,2,     16.6,2,    16.3,2,  106.30,2,   44.60,2,    0.00,2,    3.08,2,   0.864,2,   0.427,2,-999.000,5,  -999.0,9,  -999.0,9,   -999.0,9,  -999.00,   7.2460,2,    25.00,-999.000,9,-999.000,-999.0000,9,-999.000,9, -999.00,9,  -999.0,9,    -9.0,-999.000,9,-999.000,   41.51,2,   49.10,2,  375.90,-999.0000,9,-999.0000,9,-999.0000,9,-999.0000,9,-999.0000,9,-999.0000,9,     -999.0,     -999.0,9,     -999.0,9,     -999.0,9,     -999.0,9,     -999.0,9,     -999.0,9, -999.00,9,   3.7900,-999.0000,-999.000
325020060213,       P16N,      78,          2,         23,         23,2,20060329,       0105,      55.67,    -152.95,       4954,   425.2,   3.6860,  34.1179,2,  34.1200,2,     16.6,2,    16.4,2,  111.00,2,   44.60,2,    0.00,2,    3.09,2,-999.000,9,-999.000,9,-999.000,9,  -999.0,9,  -999.0,9,   -999.0,9,  -999.00,   7.2466,2,    25.00,-999.000,9,-999.000,-999.0000,9,-999.000,9, -999.00,9,  -999.0,9,    -9.0,-999.000,9,-999.000,   40.59,2,   48.47,2,  425.20,-999.0000,9,-999.0000,9,-999.0000,9,-999.0000,9,-999.0000,9,-999.0000,9,     -999.0,     -999.0,9,     -999.0,9,     -999.0,9,     -999.0,9,     -999.0,9,     -999.0,9, -999.00,9,   3.6570,-999.0000,-999.000
325020060213,       P16N,      78,          2,         22,         22,2,20060329,       0105,      55.67,    -152.95,       4954,   474.0,   3.6930,  34.1657,2,  34.1679,2,     17.0,2,    17.0,2,  113.50,2,   44.20,2,    0.00,2,    3.08,2,-999.000,9,-999.000,9,-999.000,9,  -999.0,9,  -999.0,9,   -999.0,9,  -999.00,   7.2660,3,    25.00,-999.000,9,-999.000,-999.0000,9,-999.000,9, -999.00,5,  -151.3,6,     1.8,-999.000,9,-999.000,   39.10,2,   48.04,2,  474.00,-999.0000,9,-999.0000,9,-999.0000,9,-999.0000,9,-999.0000,9,-999.0000,9,     -999.0,     -999.0,9,     -999.0,9,     -999.0,9,     -999.0,9,     -999.0,9,     -999.0,9, -999.00,9,   3.6605,-999.0000,-999.000
325020060213,       P16N,      78,          2,         21,         21,2,20060329,       0105,      55.67,    -152.95,       4954,   548.4,   3.5877,  34.2064,2,  34.2061,2,     14.1,2,    14.4,2,  118.90,2,   44.50,2,    0.00,2,    3.10,2,-999.000,9,-999.000,9,-999.000,9,  -999.0,9,  -999.0,9,   -999.0,9,  -999.00,   7.2649,2,    25.00,-999.000,9,-999.000,-999.0000,9,-999.000,9, -999.00,9,  -999.0,9,    -9.0,-999.000,9,-999.000,   38.46,2,   48.43,2,  548.40,-999.0000,9,-999.0000,9,-999.0000,9,-999.0000,9,-999.0000,9,-999.0000,9,     -999.0,     -999.0,9,     -999.0,9,     -999.0,9,     -999.0,9,     -999.0,9,     -999.0,9, -999.00,9,   3.5502,-999.0000,-999.000
325020060213,       P16N,      78,          2,         20,         20,2,20060329,       0105,      55.67,    -152.95,       4954,   648.1,   3.4178,  34.2610,2,  34.2627,2,     13.7,2,    14.1,2,  125.90,2,   44.40,2,    0.00,2,    3.13,2,   0.247,6,   0.119,6,-999.000,5,  -999.0,9,  -999.0,9,   -999.0,9,  -999.00,   7.2746,2,    25.00,-999.000,9,-999.000,-999.0000,9,-999.000,9, -999.00,9,  -999.0,9,    -9.0,-999.000,9,-999.000,   37.90,2,   48.37,2,  648.10,-999.0000,9,-999.0000,9,-999.0000,9,-999.0000,9,-999.0000,9,-999.0000,9,     -999.0,     -999.0,9,     -999.0,9,     -999.0,9,     -999.0,9,     -999.0,9,     -999.0,9, -999.00,9,   3.3737,-999.0000,-999.000
325020060213,       P16N,      78,          2,         19,         19,2,20060329,       0105,      55.67,    -152.95,       4954,   749.4,   3.2300,  34.3078,2,  34.3070,2,     13.7,2,    14.0,2,  132.90,2,   44.50,2,    0.00,2,    3.14,2,-999.000,9,-999.000,9,-999.000,9,  -999.0,9,  -999.0,9,   -999.0,9,  -999.00,   7.2838,2,    25.00,-999.000,9,-999.000,-999.0000,9,-999.000,9, -999.00,9,  -999.0,9,    -9.0,-999.000,9,-999.000,   37.15,2,   47.96,2,  749.40,-999.0000,9,-999.0000,9,-999.0000,9,-999.0000,9,-999.0000,9,-999.0000,9,     -999.0,     -999.0,9,     -999.0,9,     -999.0,9,     -999.0,9,     -999.0,9,     -999.0,9, -999.00,9,   3.1795,-999.0000,-999.000
325020060213,       P16N,      78,          2,         18,         18,2,20060329,       0105,      55.67,    -152.95,       4954,   848.6,   3.0424,  34.3502,2,  34.3496,2,     13.9,2,    14.2,2,  139.30,2,   44.60,2,    0.00,2,    3.16,2,-999.000,9,-999.000,9,-999.000,9,  -999.0,9,  -999.0,9,   -999.0,9,  -999.00,   7.2869,6,    25.00,-999.000,9,-999.000,-999.0000,9,-999.000,9, -999.00,9,  -999.0,9,    -9.0,-999.000,9,-999.000,   36.91,2,   48.63,2,  848.60,-999.0000,9,-999.0000,9,-999.0000,9,-999.0000,9,-999.0000,9,-999.0000,9,     -999.0,     -999.0,9,     -999.0,9,     -999.0,9,     -999.0,9,     -999.0,9,     -999.0,9, -999.00,9,   2.9858,-999.0000,-999.000
325020060213,       P16N,      78,          2,         17,         17,2,20060329,       0105,      55.67,    -152.95,       4954,   999.6,   2.8290,  34.3939,2,  34.3964,2,     15.6,2,    15.8,2,  146.40,2,   44.50,2,    0.00,2,    3.16,2,   0.059,2,   0.017,2,-999.000,5,  -999.0,9,  -999.0,9,   -999.0,9,  -999.00,   7.2928,2,    25.00,-999.000,9,-999.000,-999.0000,9,-999.000,9, -999.00,5,  -218.5,6,     2.3,-999.000,9,-999.000,   37.16,2,   48.28,2,  999.60,-999.0000,9,-999.0000,9,-999.0000,9,-999.0000,9,-999.0000,9,-999.0000,9,     -999.0,     -999.0,9,     -999.0,9,     -999.0,9,     -999.0,9,     -999.0,9,     -999.0,9, -999.00,9,   2.7626,-999.0000,-999.000
325020060213,       P16N,      78,          2,         16,         16,2,20060329,       0105,      55.67,    -152.95,       4954,  1199.3,   2.5445,  34.4538,2,  34.4577,2,     19.8,2,    20.2,2,  155.50,2,   44.50,2,    0.00,2,    3.16,2,   0.019,2,   0.010,2,-999.000,5,  -999.0,9,  -999.0,9,   -999.0,9,  -999.00,   7.3079,2,    25.00,-999.000,9,-999.000,-999.0000,9,-999.000,9, -999.00,9,  -999.0,9,    -9.0,-999.000,9,-999.000,   37.02,2,   48.58,2, 1199.30,-999.0000,9,-999.0000,9,-999.0000,9,-999.0000,9,-999.0000,9,-999.0000,9,     -999.0,     -999.0,9,     -999.0,9,     -999.0,9,     -999.0,9,     -999.0,9,     -999.0,9, -999.00,9,   2.4656,-999.0000,-999.000
325020060213,       P16N,      78,          2,         15,         15,2,20060329,       0105,      55.67,    -152.95,       4954,  1399.7,   2.3364,  34.4978,2,  34.4996,2,     27.1,2,    27.3,2,  161.10,2,   44.00,2,    0.00,2,    3.14,2,   0.011,2,   0.021,3,-999.000,5,  -999.0,9,  -999.0,9,   -999.0,9,  -999.00,   7.3270,2,    25.00,-999.000,9,-999.000,-999.0000,9,-999.000,9, -999.00,9,  -999.0,9,    -9.0,-999.000,9,-999.000,   36.70,2,   47.83,2, 1399.70,-999.0000,9,-999.0000,9,-999.0000,9,-999.0000,9,-999.0000,9,-999.0000,9,     -999.0,     -999.0,9,     -999.0,9,     -999.0,9,     -999.0,9,     -999.0,9,     -999.0,9, -999.00,9,   2.2442,-999.0000,-999.000
325020060213,       P16N,      78,          2,         14,         14,2,20060329,       0105,      55.67,    -152.95,       4954,  1600.2,   2.1641,  34.5356,2,  34.5389,2,     36.9,2,    37.4,2,  165.00,2,   43.50,2,    0.00,2,    3.11,2,   0.008,2,   0.009,2,-999.000,5,  -999.0,9,  -999.0,9,   -999.0,9,  -999.00,   7.3498,2,    25.00,-999.000,9,-999.000,-999.0000,9,-999.000,9, -999.00,9,  -999.0,9,    -9.0,-999.000,9,-999.000,   36.36,2,   47.77,2, 1600.20,-999.0000,9,-999.0000,9,-999.0000,9,-999.0000,9,-999.0000,9,-999.0000,9,     -999.0,     -999.0,9,     -999.0,9,     -999.0,9,     -999.0,9,     -999.0,9,     -999.0,9, -999.00,9,   2.0582,-999.0000,-999.000
325020060213,       P16N,      78,          2,         13,         13,2,20060329,       0105,      55.67,    -152.95,       4954,  1850.7,   1.9903,  34.5728,2,  34.5641,4,     50.4,2,    46.3,3,  167.30,2,   42.90,2,    0.00,2,    3.07,2,   0.002,2,   0.000,2,-999.000,5,  -999.0,9,  -999.0,9,   -999.0,9,  -999.00,   7.3714,2,    25.00,-999.000,9,-999.000,-999.0000,9,-999.000,9, -999.00,5,  -236.4,6,     1.6,-999.000,9,-999.000,   36.50,2,   46.75,2, 1850.70,-999.0000,9,-999.0000,9,-999.0000,9,-999.0000,9,-999.0000,9,-999.0000,9,     -999.0,     -999.0,9,     -999.0,9,     -999.0,9,     -999.0,9,     -999.0,9,     -999.0,9, -999.00,9,   1.8666,-999.0000,-999.000
325020060213,       P16N,      78,          2,         12,         12,2,20060329,       0105,      55.67,    -152.95,       4954,  2100.0,   1.8538,  34.6012,2,  34.6016,2,     64.5,2,    64.6,2,  170.30,2,   41.60,2,    0.00,2,    3.00,2,-999.000,9,-999.000,9,-999.000,9,  -999.0,9,  -999.0,9,   -999.0,9,  -999.00,   7.4078,2,    25.00,-999.000,9,-999.000,-999.0000,9,-999.000,9, -999.00,9,  -999.0,9,    -9.0,-999.000,9,-999.000,   37.05,2,   45.43,2, 2100.00,-999.0000,9,-999.0000,9,-999.0000,9,-999.0000,9,-999.0000,9,-999.0000,9,     -999.0,     -999.0,9,     -999.0,9,     -999.0,9,     -999.0,9,     -999.0,9,     -999.0,9, -999.00,9,   1.7113,-999.0000,-999.000
325020060213,       P16N,      78,          2,         11,         11,2,20060329,       0105,      55.67,    -152.95,       4954,  2350.3,   1.7373,  34.6240,2,  34.6260,2,     78.7,2,    79.0,2,  171.50,2,   40.60,2,    0.00,2,    2.92,2,-999.000,9,-999.000,9,-999.000,9,  -999.0,9,  -999.0,9,   -999.0,9,  -999.00,   7.4407,2,    25.00,-999.000,9,-999.000,-999.0000,9,-999.000,9, -999.00,9,  -999.0,9,    -9.0,-999.000,9,-999.000,   37.22,2,   44.42,2, 2350.30,-999.0000,9,-999.0000,9,-999.0000,9,-999.0000,9,-999.0000,9,-999.0000,9,     -999.0,     -999.0,9,     -999.0,9,     -999.0,9,     -999.0,9,     -999.0,9,     -999.0,9, -999.00,9,   1.5753,-999.0000,-999.000
325020060213,       P16N,      78,          2,         10,         10,2,20060329,       0105,      55.67,    -152.95,       4954,  2599.3,   1.6573,  34.6402,2,  34.6422,2,     92.4,2,    93.3,2,  169.80,2,   39.60,2,    0.00,2,    2.87,2,-999.000,9,-999.000,9,-999.000,9,  -999.0,9,  -999.0,9,   -999.0,9,  -999.00,   7.4645,2,    25.00,-999.000,9,-999.000,-999.0000,9,-999.000,9, -999.00,9,  -999.0,9,    -9.0,-999.000,9,-999.000,   37.01,2,   43.49,2, 2599.30,-999.0000,9,-999.0000,9,-999.0000,9,-999.0000,9,-999.0000,9,-999.0000,9,     -999.0,     -999.0,9,     -999.0,9,     -999.0,9,     -999.0,9,     -999.0,9,     -999.0,9, -999.00,9,   1.4746,-999.0000,-999.000