BOTTLE,20170720CCHSIOCBG
EXPOCODE,SECT_ID,STNNBR,CASTNO,SAMPNO,BTLNBR,BTLNBR_FLAG_W,DATE,TIME,LATITUDE,LONGITUDE,DEPTH,CTDPRS,CTDTMP,CTDSAL,CTDSAL_FLAG_W,SALNTY,SALNTY_FLAG_W,CTDOXY,CTDOXY_FLAG_W,OXYGEN,OXYGEN_FLAG_W,SILCAT,SILCAT_FLAG_W,NITRAT,NITRAT_FLAG_W,NITRIT,NITRIT_FLAG_W,PHSPHT,PHSPHT_FLAG_W,CFC-11,CFC-11_FLAG_W,CFC-12,CFC-12_FLAG_W,CFC113,CFC113_FLAG_W,TCARBN,TCARBN_FLAG_W,ALKALI,ALKALI_FLAG_W,FCO2,FCO2_FLAG_W,FCO2TMP,PH_TOT,PH_TOT_FLAG_W,PH_TMP,TRITUM,TRITUM_FLAG_W,TRITER,HELIUM,HELIUM_FLAG_W,DELHE3,DELHE3_FLAG_W,DELC13,DELC13_FLAG_W,DELC14,DELC14_FLAG_W,C14ERR,NEON,NEON_FLAG_W,NEONER,DOC,DOC_FLAG_W,TDN,TDN_FLAG_W,CTDRAW,CDOM325,CDOM325_FLAG_W,CDOM340,CDOM340_FLAG_W,CDOM380,CDOM380_FLAG_W,CDOM412,CDOM412_FLAG_W,CDOMSL,CDOMSL_FLAG_W,CDOMSN,CDOMSN_FLAG_W,DCNS,ARABI,ARABI_FLAG_W,FUCO,FUCO_FLAG_W,GALA,GALA_FLAG_W,GLUC,GLUC_FLAG_W,MAN,MAN_FLAG_W,RHAM,RHAM_FLAG_W,BRDU,BRDU_FLAG_W,THETA,HELIER,DELHER
,,,,,,,,,,,METERS,DBAR,ITS-90,PSS-78,,PSS-78,,UMOL/KG,,UMOL/KG,,UMOL/KG,,UMOL/KG,,UMOL/KG,,UMOL/KG,,PMOL/KG,,PMOL/KG,,PMOL/KG,,UMOL/KG,,UMOL/KG,,UATM,,DEG C,,,DEG C,TU,,TU,NMOL/KG,,PERCNT,,/MILLE,,/MILLE,,/MILLE,NMOL/KG,,NMOL/KG,UMOL/KG,,UMOL/KG,,DBAR,1/M,,1/M,,1/M,,1/M,,1/NM,,1/NM,,NMOL/KG,NMOL/KG,,NMOL/KG,,NMOL/KG,,NMOL/KG,,NMOL/KG,,NMOL/KG,,PMOL/L/H,,DEG C,NMOL/KG,PERCNT
325020060213,       P16N,      33,          1,          8,          8,2,20060226,       1600,    11.0003,  -152.0007,       5395,  3000.3,   1.6919,  34.6736,2,  34.6749,2,    121.2,2,   122.0,2,  155.00,2,   38.00,2,    0.00,2,    2.62,2,-999.000,9,-999.000,9,-999.000,9,  2348.5,2,  2430.7,2,   -999.0,9,  -999.00,   7.5400,2,    25.00,-999.000,9,-999.000,-999.0000,9,-999.000,9, -999.00,5,  -236.8,2,     2.5,-999.000,9,-999.000,   38.23,2,   41.19,2, 3000.30,-999.0000,9,-999.0000,9,-999.0000,9,-999.0000,9,-999.0000,9,-999.0000,9,     -999.0,     -999.0,9,     -999.0,9,     -999.0,9,     -999.0,9,     -999.0,9,     -999.0,9, -999.00,9,   1.4708,-999.0000,-999.000
325020060213,       P16N,      33,          1,          7,          7,2,20060226,       1600,    11.0003,  -152.0007,       5395,  3251.0,   1.5952,  34.6787,2,  34.6810,2,    127.9,2,   128.0,2,  157.10,2,   37.70,2,    0.00,2,    2.59,2,   0.000,2,  -0.002,2,-999.000,5,  2345.8,2,  2431.6,2,   -999.0,9,  -999.00,   7.5492,2,    25.00,-999.000,9,-999.000,-999.0000,9,-999.000,9, -999.00,5,  -236.9,2,     2.6,-999.000,9,-999.000,   38.44,2,   41.70,2, 3251.00,-999.0000,9,-999.0000,9,-999.0000,9,-999.0000,9,-999.0000,9,-999.0000,9,     -999.0,     -999.0,9,     -999.0,9,     -999.0,9,     -999.0,9,     -999.0,9,     -999.0,9, -999.00,9,   1.3518,-999.0000,-999.000
325020060213,       P16N,      33,          1,          6,          6,2,20060226,       1600,    11.0003,  -152.0007,       5395,  3651.0,   1.4975,  34.6854,2,  34.6871,2,    141.6,2,   142.8,2,  152.40,2,   36.70,2,    0.00,2,    2.51,2,-999.000,9,-999.000,9,-999.000,9,  2337.8,2,  2427.3,6,   -999.0,9,  -999.00,   7.5662,2,    25.00,-999.000,9,-999.000,-999.0000,9,-999.000,9, -999.00,5,  -228.1,2,     2.8,-999.000,9,-999.000,   38.66,2,   40.30,2, 3651.00,-999.0000,9,-999.0000,9,-999.0000,9,-999.0000,9,-999.0000,9,-999.0000,9,     -999.0,     -999.0,9,     -999.0,9,     -999.0,9,     -999.0,9,     -999.0,9,     -999.0,9, -999.00,9,   1.2158,-999.0000,-999.000
325020060213,       P16N,      33,          1,          5,          5,2,20060226,       1600,    11.0003,  -152.0007,       5395,  4050.2,   1.4084,  34.6953,2,  34.6936,2,    159.0,2,   159.2,2,  141.80,6,   35.50,6,    0.00,6,    2.41,6,   0.007,4,  -0.001,2,-999.000,5,  2319.4,2,  2421.1,2,   -999.0,9,  -999.00,-999.0000,9,  -999.00,-999.000,9,-999.000,-999.0000,9,-999.000,9, -999.00,5,  -213.0,2,     2.1,-999.000,9,-999.000,   38.62,2,   39.08,2, 4050.20,-999.0000,9,-999.0000,9,-999.0000,9,-999.0000,9,-999.0000,9,-999.0000,9,     -999.0,     -999.0,9,     -999.0,9,     -999.0,9,     -999.0,9,     -999.0,9,     -999.0,9, -999.00,9,   1.0866,-999.0000,-999.000
325020060213,       P16N,      33,          1,          4,          4,2,20060226,       1600,    11.0003,  -152.0007,       5395,  4551.5,   1.3548,  34.7012,2,  34.7006,2,    173.4,2,   173.1,2,  133.70,6,   34.50,6,    0.00,6,    2.33,6,   0.000,2,  -0.001,2,-999.000,5,  2301.6,2,  2408.7,2,   -999.0,9,  -999.00,   7.5981,2,    25.00,-999.000,9,-999.000,-999.0000,9,-999.000,9, -999.00,5,  -197.5,2,     2.9,-999.000,9,-999.000,   38.20,2,   37.91,2, 4551.50,-999.0000,9,-999.0000,9,-999.0000,9,-999.0000,9,-999.0000,9,-999.0000,9,     -999.0,     -999.0,9,     -999.0,9,     -999.0,9,     -999.0,9,     -999.0,9,     -999.0,9, -999.00,9,   0.9784,-999.0000,-999.000
325020060213,       P16N,      33,          1,          3,          3,2,20060226,       1600,    11.0003,  -152.0007,       5395,  5050.0,   1.4010,  34.7018,2,  34.7016,2,    175.4,2,   175.0,2,  132.30,6,   34.40,6,    0.00,6,    2.33,6,   0.002,2,   0.000,2,-999.000,5,  2297.8,2,  2407.7,2,   -999.0,9,  -999.00,   7.5938,2,    25.00,-999.000,9,-999.000,-999.0000,9,-999.000,9, -999.00,5,  -201.6,2,     3.2,-999.000,9,-999.000,   39.04,2,   38.16,2, 5050.00,-999.0000,9,-999.0000,9,-999.0000,9,-999.0000,9,-999.0000,9,-999.0000,9,     -999.0,     -999.0,9,     -999.0,9,     -999.0,9,     -999.0,9,     -999.0,9,     -999.0,9, -999.00,9,   0.9639,-999.0000,-999.000
325020060213,       P16N,      33,          1,          1,          1,4,20060226,       1600,    11.0003,  -152.0007,       5395,  5466.4,   1.4489,  34.7020,2,  34.6808,4,    176.3,2,   127.4,4,  156.60,4,   37.70,4,    0.00,4,    2.60,4,  -0.002,2,  -0.001,2,-999.000,5,  2334.1,4,  2435.6,3,   -999.0,9,  -999.00,   7.5661,2,    25.00,-999.000,9,-999.000,-999.0000,9,-999.000,9, -999.00,5,  -236.6,4,     2.1,-999.000,9,-999.000,   39.84,2,   41.30,2, 5466.40,-999.0000,9,-999.0000,9,-999.0000,9,-999.0000,9,-999.0000,9,-999.0000,9,     -999.0,     -999.0,9,     -999.0,9,     -999.0,9,     -999.0,9,     -999.0,9,     -999.0,9, -999.00,9,   0.9584,-999.0000,-999.000