BOTTLE,20170720CCHSIOCBG
EXPOCODE,SECT_ID,STNNBR,CASTNO,SAMPNO,BTLNBR,BTLNBR_FLAG_W,DATE,TIME,LATITUDE,LONGITUDE,DEPTH,CTDPRS,CTDTMP,CTDSAL,CTDSAL_FLAG_W,SALNTY,SALNTY_FLAG_W,CTDOXY,CTDOXY_FLAG_W,OXYGEN,OXYGEN_FLAG_W,SILCAT,SILCAT_FLAG_W,NITRAT,NITRAT_FLAG_W,NITRIT,NITRIT_FLAG_W,PHSPHT,PHSPHT_FLAG_W,CFC-11,CFC-11_FLAG_W,CFC-12,CFC-12_FLAG_W,CFC113,CFC113_FLAG_W,TCARBN,TCARBN_FLAG_W,ALKALI,ALKALI_FLAG_W,FCO2,FCO2_FLAG_W,FCO2TMP,PH_TOT,PH_TOT_FLAG_W,PH_TMP,TRITUM,TRITUM_FLAG_W,TRITER,HELIUM,HELIUM_FLAG_W,DELHE3,DELHE3_FLAG_W,DELC13,DELC13_FLAG_W,DELC14,DELC14_FLAG_W,C14ERR,NEON,NEON_FLAG_W,NEONER,DOC,DOC_FLAG_W,TDN,TDN_FLAG_W,CTDRAW,CDOM325,CDOM325_FLAG_W,CDOM340,CDOM340_FLAG_W,CDOM380,CDOM380_FLAG_W,CDOM412,CDOM412_FLAG_W,CDOMSL,CDOMSL_FLAG_W,CDOMSN,CDOMSN_FLAG_W,DCNS,ARABI,ARABI_FLAG_W,FUCO,FUCO_FLAG_W,GALA,GALA_FLAG_W,GLUC,GLUC_FLAG_W,MAN,MAN_FLAG_W,RHAM,RHAM_FLAG_W,BRDU,BRDU_FLAG_W,THETA,HELIER,DELHER
,,,,,,,,,,,METERS,DBAR,ITS-90,PSS-78,,PSS-78,,UMOL/KG,,UMOL/KG,,UMOL/KG,,UMOL/KG,,UMOL/KG,,UMOL/KG,,PMOL/KG,,PMOL/KG,,PMOL/KG,,UMOL/KG,,UMOL/KG,,UATM,,DEG C,,,DEG C,TU,,TU,NMOL/KG,,PERCNT,,/MILLE,,/MILLE,,/MILLE,NMOL/KG,,NMOL/KG,UMOL/KG,,UMOL/KG,,DBAR,1/M,,1/M,,1/M,,1/M,,1/NM,,1/NM,,NMOL/KG,NMOL/KG,,NMOL/KG,,NMOL/KG,,NMOL/KG,,NMOL/KG,,NMOL/KG,,PMOL/L/H,,DEG C,NMOL/KG,PERCNT
325020060213,       P16N,      34,          2,         35,         35,2,20060227,       0114,     12.003,  -151.9985,       5438,     5.4,  26.4211,  34.5547,2,  34.5553,2,    204.9,2,   205.7,2,    0.20,2,    0.00,2,    0.00,2,    0.15,2,   1.692,2,   1.066,2,-999.000,5,  1952.0,6,  2271.4,2,    280.0,2,    20.00,   8.0853,2,    25.00,-999.000,9,-999.000,-999.0000,9,-999.000,9, -999.00,9,  -999.0,9,    -9.0,-999.000,9,-999.000,   68.63,2,    4.44,2,    5.40,   0.0350,2,   0.0230,2,   0.0100,2,   0.0120,2,   0.0354,2,   0.0356,2,     -999.0,     -999.0,9,     -999.0,9,     -999.0,9,     -999.0,9,     -999.0,9,     -999.0,9,    1.69,2,  26.4198,-999.0000,-999.000
325020060213,       P16N,      34,          2,         34,         34,2,20060227,       0114,     12.003,  -151.9985,       5438,    14.8,  26.4094,  34.5930,2,  34.6111,2,    204.5,2,   205.8,2,    0.20,2,    0.00,2,    0.00,2,    0.16,2,-999.000,9,-999.000,9,-999.000,9,  1953.5,2,  2274.5,2,    280.9,2,    20.00,   8.0730,2,    25.00,-999.000,9,-999.000,-999.0000,9,-999.000,9, -999.00,9,  -999.0,9,    -9.0,-999.000,9,-999.000,   67.96,2,    3.98,2,   14.80,   0.0400,2,   0.0270,2,   0.0120,2,   0.0130,2,   0.0318,2,   0.0324,2,     -999.0,     -999.0,9,     -999.0,9,     -999.0,9,     -999.0,9,     -999.0,9,     -999.0,9,    0.74,2,  26.4060,-999.0000,-999.000
325020060213,       P16N,      34,          2,         33,         33,2,20060227,       0114,     12.003,  -151.9985,       5438,    34.9,  26.3498,  34.6653,2,  34.6645,2,    206.0,2,   205.4,2,    0.20,2,    0.00,2,    0.00,2,    0.17,2,   1.694,6,   1.065,6,-999.000,5,  1956.2,2,  2277.7,2,    284.3,6,    20.00,   8.0531,2,    25.00,-999.000,9,-999.000,-999.0000,9,-999.000,9, -999.00,9,  -999.0,9,    -9.0,-999.000,9,-999.000,   67.80,2,    4.78,2,   34.90,   0.0460,2,   0.0300,2,   0.0130,2,   0.0140,2,   0.0286,2,   0.0292,2,     -999.0,     -999.0,9,     -999.0,9,     -999.0,9,     -999.0,9,     -999.0,9,     -999.0,9,    1.17,2,  26.3420,-999.0000,-999.000
325020060213,       P16N,      34,          2,         32,         32,2,20060227,       0114,     12.003,  -151.9985,       5438,    60.3,  26.1467,  34.6502,2,  34.6492,2,    205.8,2,   205.8,2,    0.30,2,    0.00,2,    0.00,2,    0.17,2,-999.000,9,-999.000,9,-999.000,9,  1956.7,2,  2281.0,2,    288.1,2,    20.00,   8.0779,2,    25.00,-999.000,9,-999.000,-999.0000,9,-999.000,9, -999.00,9,  -999.0,9,    -9.0,-999.000,9,-999.000,   65.77,2,    4.53,2,   60.30,   0.0570,2,   0.0380,2,   0.0170,2,   0.0160,2,   0.0256,2,   0.0264,2,     -999.0,     -999.0,9,     -999.0,9,     -999.0,9,     -999.0,9,     -999.0,9,     -999.0,9,    1.09,2,  26.1333,-999.0000,-999.000
325020060213,       P16N,      34,          2,         31,         31,2,20060227,       0114,     12.003,  -151.9985,       5438,    84.7,  21.7202,  34.5381,2,  34.5384,2,    195.3,2,   195.2,2,    2.00,2,    1.50,2,    0.10,2,    0.37,2,   2.131,2,   1.265,2,-999.000,5,  2028.8,2,  2285.9,2,    396.4,2,    20.00,-999.0000,9,  -999.00,-999.000,9,-999.000,-999.0000,9,-999.000,9, -999.00,9,  -999.0,9,    -9.0,-999.000,9,-999.000,   63.62,2,    6.23,2,   84.70,   0.1460,2,   0.1040,2,   0.0500,2,   0.0390,2,   0.0146,3,   0.0173,3,     -999.0,     -999.0,9,     -999.0,9,     -999.0,9,     -999.0,9,     -999.0,9,     -999.0,9,    0.76,2,  21.7036,-999.0000,-999.000
325020060213,       P16N,      34,          2,         30,         30,2,20060227,       0114,     12.003,  -151.9985,       5438,   109.8,  16.8734,  34.4073,2,  34.4016,2,    146.4,2,   145.6,2,    7.30,2,   10.50,2,    0.30,2,    0.95,2,   2.344,2,   1.331,2,-999.000,5,  2106.1,2,  2276.3,2,    639.3,2,    20.00,   7.7974,2,    25.00,-999.000,9,-999.000,-999.0000,9,-999.000,9, -999.00,9,  -999.0,9,    -9.0,-999.000,9,-999.000,   56.57,2,   15.46,2,  109.80,   0.1770,2,   0.1270,2,   0.0630,2,   0.0480,2,   0.0142,3,   0.0165,3,     -999.0,     -999.0,9,     -999.0,9,     -999.0,9,     -999.0,9,     -999.0,9,     -999.0,9,    2.22,3,  16.8555,-999.0000,-999.000
325020060213,       P16N,      34,          2,         29,         29,2,20060227,       0114,     12.003,  -151.9985,       5438,   135.0,  13.4432,  34.4857,2,  34.4825,2,     47.2,2,    46.6,2,   18.90,2,   25.20,2,    0.70,2,    1.97,2,   1.658,2,   0.894,2,-999.000,5,  2218.8,2,  2277.4,2,   1278.9,6,    20.00,   7.5240,2,    25.00,-999.000,9,-999.000,-999.0000,9,-999.000,9, -999.00,9,  -999.0,9,    -9.0,-999.000,9,-999.000,   49.63,2,   29.95,2,  135.00,   0.1920,2,   0.1410,2,   0.0760,2,   0.0600,2,   0.0131,3,   0.0145,3,     -999.0,     -999.0,9,     -999.0,9,     -999.0,9,     -999.0,9,     -999.0,9,     -999.0,9,    0.50,2,  13.4243,-999.0000,-999.000
325020060213,       P16N,      34,          2,         28,         28,2,20060227,       0114,     12.003,  -151.9985,       5438,   174.6,  11.5919,  34.5552,2,  34.5540,2,     25.1,2,    25.7,2,   26.10,2,   30.40,2,    0.00,2,    2.24,2,   1.050,2,   0.548,2,-999.000,5,  2237.1,3,  2288.0,6,   1511.8,2,    20.00,   7.4315,2,    25.00,-999.000,9,-999.000,-999.0000,9,-999.000,9, -999.00,9,  -999.0,9,    -9.0,-999.000,9,-999.000,   48.85,2,   34.08,2,  174.60,   0.1650,2,   0.1210,2,   0.0690,2,   0.0580,2,   0.0118,3,   0.0131,3,     -999.0,     -999.0,9,     -999.0,9,     -999.0,9,     -999.0,9,     -999.0,9,     -999.0,9,    2.54,3,  11.5698,-999.0000,-999.000
325020060213,       P16N,      34,          2,         27,         27,2,20060227,       0114,     12.003,  -151.9985,       5438,   225.1,  10.9551,  34.6749,2,  34.6681,2,     11.0,2,    11.2,2,   29.30,2,   33.80,2,    0.00,2,    2.36,2,   0.443,2,   0.237,2,-999.000,5,  2254.7,3,  2296.9,2,   1614.8,2,    20.00,-999.0000,9,  -999.00,-999.000,9,-999.000,-999.0000,9,-999.000,9, -999.00,9,  -999.0,9,    -9.0,-999.000,9,-999.000,   47.22,2,   37.71,2,  225.10,   0.1620,2,   0.1200,2,   0.0710,2,   0.0590,2,   0.0114,3,   0.0125,3,     -999.0,     -999.0,9,     -999.0,9,     -999.0,9,     -999.0,9,     -999.0,9,     -999.0,9, -999.00,9,  10.9274,-999.0000,-999.000
325020060213,       P16N,      34,          2,         26,         26,2,20060227,       0114,     12.003,  -151.9985,       5438,   274.9,  10.4844,  34.6857,2,  34.6825,2,      7.5,2,     9.3,2,   31.00,2,   34.50,2,    0.00,2,    2.40,2,   0.275,2,   0.154,2,-999.000,5,  2262.1,2,  2309.2,2,   1666.5,2,    20.00,   7.4260,2,    25.00,-999.000,9,-999.000,-999.0000,9,-999.000,9, -999.00,9,  -999.0,9,    -9.0,-999.000,9,-999.000,   45.95,2,   38.51,2,  274.90,   0.1660,2,   0.1230,2,   0.0740,2,   0.0620,2,   0.0113,3,   0.0122,3,     -999.0,     -999.0,9,     -999.0,9,     -999.0,9,     -999.0,9,     -999.0,9,     -999.0,9, -999.00,9,  10.4515,-999.0000,-999.000
325020060213,       P16N,      34,          2,         25,         25,2,20060227,       0114,     12.003,  -151.9985,       5438,   325.8,  10.0177,  34.6781,2,  34.6752,2,     20.2,2,    18.9,2,   32.20,2,   35.10,2,    0.00,2,    2.37,2,   0.245,2,   0.138,2,-999.000,5,  2260.2,6,  2307.0,2,   1597.9,2,    20.00,   7.4320,2,    25.00,-999.000,9,-999.000,-999.0000,9,-999.000,9, -999.00,9,  -999.0,9,    -9.0,-999.000,9,-999.000,   45.41,2,   38.81,2,  325.80,   0.1610,2,   0.1180,2,   0.0700,2,   0.0580,2,   0.0115,3,   0.0127,3,    445.472,    38.4737,2,    42.1086,2,    80.9756,2,    129.691,2,    118.979,2,    35.2439,2, -999.00,9,   9.9798,-999.0000,-999.000
325020060213,       P16N,      34,          2,         24,         24,2,20060227,       0114,     12.003,  -151.9985,       5438,   375.6,   9.5788,  34.6572,2,  34.6546,2,     13.8,2,    14.7,2,   35.00,2,   35.90,2,    0.00,2,    2.47,2,   0.153,2,   0.086,2,-999.000,5,  2271.3,2,  2307.4,2,   1688.7,2,    20.00,   7.4143,2,    25.00,-999.000,9,-999.000,-999.0000,9,-999.000,9, -999.00,9,  -999.0,9,    -9.0,-999.000,9,-999.000,   44.03,2,   40.12,2,  375.60,   0.1620,2,   0.1190,2,   0.0710,2,   0.0590,2,   0.0114,3,   0.0126,3,     -999.0,     -999.0,9,     -999.0,9,     -999.0,9,     -999.0,9,     -999.0,9,     -999.0,9, -999.00,9,   9.5362,-999.0000,-999.000
325020060213,       P16N,      34,          2,         23,         23,2,20060227,       0114,     12.003,  -151.9985,       5438,   426.0,   9.2039,  34.6394,2,  34.6405,2,     16.5,2,    15.3,2,   37.30,2,   36.50,2,    0.00,2,    2.52,2,   0.111,6,   0.064,6,-999.000,5,  2272.3,3,  2306.8,2,   1716.7,2,    20.00,   7.4490,2,    25.00,-999.000,9,-999.000,-999.0000,9,-999.000,9, -999.00,9,  -999.0,9,    -9.0,-999.000,9,-999.000,   43.11,2,   41.09,2,  426.00,   0.1590,2,   0.1160,2,   0.0670,2,   0.0550,2,   0.0118,3,   0.0133,3,     -999.0,     -999.0,9,     -999.0,9,     -999.0,9,     -999.0,9,     -999.0,9,     -999.0,9, -999.00,9,   9.1566,-999.0000,-999.000
325020060213,       P16N,      34,          2,         22,         22,2,20060227,       0114,     12.003,  -151.9985,       5438,   474.9,   8.5832,  34.5965,2,  34.5939,2,     12.8,2,    12.0,2,   43.20,2,   37.20,2,    0.00,2,    2.65,2,   0.050,2,   0.030,2,-999.000,5,  2282.1,3,  2311.0,2,   1813.6,2,    20.00,-999.0000,9,  -999.00,-999.000,9,-999.000,-999.0000,9,-999.000,9, -999.00,9,  -999.0,9,    -9.0,-999.000,9,-999.000,   42.74,2,   41.66,2,  474.90,   0.1640,2,   0.1200,2,   0.0690,2,   0.0560,2,   0.0121,3,   0.0134,3,     -999.0,     -999.0,9,     -999.0,9,     -999.0,9,     -999.0,9,     -999.0,9,     -999.0,9, -999.00,9,   8.5325,-999.0000,-999.000
325020060213,       P16N,      34,          2,         21,         21,2,20060227,       0114,     12.003,  -151.9985,       5438,   550.4,   7.6885,  34.5568,2,  34.5541,2,     24.0,2,    24.3,2,   50.30,2,   38.20,2,    0.00,2,    2.70,2,   0.040,2,   0.021,2,-999.000,5,  2285.7,2,  2318.2,2,   1768.1,2,    20.00,-999.0000,9,  -999.00,-999.000,9,-999.000,-999.0000,9,-999.000,9, -999.00,9,  -999.0,9,    -9.0,-999.000,9,-999.000,   42.31,2,   42.54,2,  550.40,   0.1530,2,   0.1110,2,   0.0620,2,   0.0480,2,   0.0128,3,   0.0145,3,     -999.0,     -999.0,9,     -999.0,9,     -999.0,9,     -999.0,9,     -999.0,9,     -999.0,9, -999.00,9,   7.6332,-999.0000,-999.000
325020060213,       P16N,      34,          2,         20,         20,2,20060227,       0114,     12.003,  -151.9985,       5438,   650.6,   6.6955,  34.5278,2,  34.5258,2,     22.0,2,    24.9,2,   62.30,2,   40.10,2,    0.00,2,    2.86,2,   0.015,2,   0.007,2,-999.000,5,  2303.5,3,  2329.7,2,   1883.4,2,    20.00,   7.3852,2,    25.00,-999.000,9,-999.000,-999.0000,9,-999.000,9, -999.00,9,  -999.0,9,    -9.0,-999.000,9,-999.000,   41.68,2,   43.79,2,  650.60,   0.1560,2,   0.1130,2,   0.0640,2,   0.0480,2,   0.0129,2,   0.0146,3,     -999.0,     -999.0,9,     -999.0,9,     -999.0,9,     -999.0,9,     -999.0,9,     -999.0,9, -999.00,9,   6.6345,-999.0000,-999.000
325020060213,       P16N,      34,          2,         19,         19,2,20060227,       0114,     12.003,  -151.9985,       5438,   749.4,   6.0170,  34.5243,2,  34.5205,2,     24.8,2,    22.1,2,   71.00,2,   41.50,2,    0.00,2,    2.95,2,   0.009,6,   0.002,6,-999.000,5,  2314.2,2,  2337.6,2,   1924.2,6,    20.00,   7.3854,2,    25.00,-999.000,9,-999.000,-999.0000,9,-999.000,9, -999.00,9,  -999.0,9,    -9.0,-999.000,9,-999.000,   40.64,2,   45.22,2,  749.40,   0.1600,2,   0.1150,2,   0.0640,2,   0.0470,2,   0.0134,2,   0.0151,3,     -999.0,     -999.0,9,     -999.0,9,     -999.0,9,     -999.0,9,     -999.0,9,     -999.0,9, -999.00,9,   5.9501,-999.0000,-999.000
325020060213,       P16N,      34,          2,         18,         18,2,20060227,       0114,     12.003,  -151.9985,       5438,   849.4,   5.3458,  34.5260,2,  34.5239,2,     23.2,2,    24.6,2,   81.80,2,   42.80,2,    0.00,2,    3.02,2,   0.005,2,   0.001,2,-999.000,5,  2326.4,2,  2349.4,2,   1951.1,2,    20.00,   7.3720,2,    25.00,-999.000,9,-999.000,-999.0000,9,-999.000,9, -999.00,9,  -999.0,9,    -9.0,-999.000,9,-999.000,   39.67,2,   46.96,2,  849.40,-999.0000,9,-999.0000,9,-999.0000,9,-999.0000,9,-999.0000,9,-999.0000,9,     -999.0,     -999.0,9,     -999.0,9,     -999.0,9,     -999.0,9,     -999.0,9,     -999.0,9, -999.00,9,   5.2737,-999.0000,-999.000
325020060213,       P16N,      34,          2,         17,         17,2,20060227,       0114,     12.003,  -151.9985,       5438,   950.1,   4.8810,  34.5355,2,  34.5361,2,     31.2,2,    31.0,2,   89.30,2,   43.00,2,    0.00,2,    3.03,2,-999.000,9,-999.000,9,-999.000,9,  2336.5,2,  2358.7,6,   1915.8,2,    20.00,   7.3824,2,    25.00,-999.000,9,-999.000,-999.0000,9,-999.000,9, -999.00,9,  -999.0,9,    -9.0,-999.000,9,-999.000,   39.17,2,   47.41,2,  950.10,   0.1600,2,   0.1140,2,   0.0630,2,   0.0460,2,   0.0137,2,   0.0154,2,     -999.0,     -999.0,9,     -999.0,9,     -999.0,9,     -999.0,9,     -999.0,9,     -999.0,9, -999.00,9,   4.8030,-999.0000,-999.000
325020060213,       P16N,      34,          2,         16,         16,2,20060227,       0114,     12.003,  -151.9985,       5438,  1100.2,   4.2442,  34.5567,2,  34.5557,2,     41.4,2,    41.2,2,  100.70,2,   43.00,2,    0.00,2,    3.03,2,   0.008,2,   0.002,2,-999.000,5,  2343.9,2,  2387.4,3,   1852.9,2,    20.00,   7.3949,2,    25.00,-999.000,9,-999.000,-999.0000,9,-999.000,9, -999.00,9,  -999.0,9,    -9.0,-999.000,9,-999.000,   38.73,2,   46.33,2, 1100.20,   0.1530,2,   0.1080,2,   0.0580,2,   0.0390,2,   0.0151,2,   0.0168,2,     -999.0,     -999.0,9,     -999.0,9,     -999.0,9,     -999.0,9,     -999.0,9,     -999.0,9, -999.00,9,   4.1580,-999.0000,-999.000
325020060213,       P16N,      34,          2,         15,         15,2,20060227,       0114,     12.003,  -151.9985,       5438,  1299.2,   3.6130,  34.5801,2,  34.5787,2,     56.1,2,    56.4,2,  113.20,2,   42.30,2,    0.00,2,    2.98,2,-999.000,9,-999.000,9,-999.000,9,  2349.9,2,  2372.8,3,   1756.1,2,    20.00,   7.4178,2,    25.00,-999.000,9,-999.000,-999.0000,9,-999.000,9, -999.00,9,  -999.0,9,    -9.0,-999.000,9,-999.000,   38.00,2,   46.22,2, 1299.20,-999.0000,9,-999.0000,9,-999.0000,9,-999.0000,9,-999.0000,9,-999.0000,9,     -999.0,     -999.0,9,     -999.0,9,     -999.0,9,     -999.0,9,     -999.0,9,     -999.0,9, -999.00,9,   3.5155,-999.0000,-999.000
325020060213,       P16N,      34,          2,         14,         14,2,20060227,       0114,     12.003,  -151.9985,       5438,  1500.4,   3.1683,  34.5969,2,  34.5966,2,     68.2,2,    68.2,2,  122.60,2,   41.40,2,    0.00,2,    2.90,2,   0.007,2,   0.001,2,-999.000,5,  2352.9,2,  2396.3,2,   1664.6,2,    20.00,   7.4432,2,    25.00,-999.000,9,-999.000,-999.0000,9,-999.000,9, -999.00,9,  -999.0,9,    -9.0,-999.000,9,-999.000,   37.29,2,   45.52,2, 1500.40,   0.1450,2,   0.1020,2,   0.0520,2,   0.0340,2,   0.0163,2,   0.0182,2,     -999.0,     -999.0,9,     -999.0,9,     -999.0,9,     -999.0,9,     -999.0,9,     -999.0,9, -999.00,9,   3.0585,-999.0000,-999.000
325020060213,       P16N,      34,          2,         13,         13,2,20060227,       0114,     12.003,  -151.9985,       5438,  1700.6,   2.7261,  34.6142,2,  34.6135,2,     80.4,2,    80.4,2,  132.40,2,   40.60,2,    0.00,2,    2.84,2,   0.007,2,  -0.001,2,-999.000,5,  2356.2,2,  2406.0,2,   1588.8,2,    20.00,   7.4644,2,    25.00,-999.000,9,-999.000,-999.0000,9,-999.000,9, -999.00,9,  -999.0,9,    -9.0,-999.000,9,-999.000,   36.93,2,   44.85,2, 1700.60,-999.0000,9,-999.0000,9,-999.0000,9,-999.0000,9,-999.0000,9,-999.0000,9,     -999.0,     -999.0,9,     -999.0,9,     -999.0,9,     -999.0,9,     -999.0,9,     -999.0,9, -999.00,9,   2.6046,-999.0000,-999.000
325020060213,       P16N,      34,          2,         12,         12,2,20060227,       0114,     12.003,  -151.9985,       5438,  1899.6,   2.4194,  34.6275,2,  34.6269,2,     89.1,2,    88.5,2,  139.60,2,   40.10,2,    0.00,2,    2.79,2,   0.006,2,   0.000,2,-999.000,5,  2358.4,2,  2414.3,2,   1532.4,2,    20.00,   7.4649,2,    25.00,-999.000,9,-999.000,-999.0000,9,-999.000,9, -999.00,9,  -999.0,9,    -9.0,-999.000,9,-999.000,   37.25,2,   44.17,2, 1899.60,   0.1350,2,   0.0930,2,   0.0460,2,   0.0270,2,   0.0181,2,   0.0198,2,     -999.0,     -999.0,9,     -999.0,9,     -999.0,9,     -999.0,9,     -999.0,9,     -999.0,9, -999.00,9,   2.2852,-999.0000,-999.000
325020060213,       P16N,      34,          2,         11,         11,2,20060227,       0114,     12.003,  -151.9985,       5438,  2125.3,   2.1570,  34.6435,2,  34.6450,2,     96.4,2,    96.5,2,  145.80,2,   39.70,2,    0.00,2,    2.75,2,   0.006,2,   0.000,2,-999.000,5,  2362.2,2,  2422.3,2,   1484.4,2,    20.00,   7.4888,2,    25.00,-999.000,9,-999.000,-999.0000,9,-999.000,9, -999.00,9,  -999.0,9,    -9.0,-999.000,9,-999.000,   37.09,2,   43.61,2, 2125.30,-999.0000,9,-999.0000,9,-999.0000,9,-999.0000,9,-999.0000,9,-999.0000,9,     -999.0,     -999.0,9,     -999.0,9,     -999.0,9,     -999.0,9,     -999.0,9,     -999.0,9, -999.00,9,   2.0074,-999.0000,-999.000
325020060213,       P16N,      34,          2,         10,         10,2,20060227,       0114,     12.003,  -151.9985,       5438,  2374.2,   1.9518,  34.6568,2,  34.6548,2,    105.4,2,   105.2,2,  150.00,2,   39.10,2,    0.00,2,    2.68,2,   0.006,2,  -0.001,2,-999.000,5,  2361.8,3,  2427.5,2,   1413.7,2,    20.00,   7.5043,2,    25.00,-999.000,9,-999.000,-999.0000,9,-999.000,9, -999.00,9,  -999.0,9,    -9.0,-999.000,9,-999.000,   37.37,2,   42.69,2, 2374.20,   0.1270,2,   0.0870,2,   0.0400,2,   0.0220,2,   0.0200,2,   0.0217,2,     -999.0,     -999.0,9,     -999.0,9,     -999.0,9,     -999.0,9,     -999.0,9,     -999.0,9, -999.00,9,   1.7837,-999.0000,-999.000
325020060213,       P16N,      34,          2,          9,          9,2,20060227,       0114,     12.003,  -151.9985,       5438,  2623.3,   1.8280,  34.6666,2,  34.6644,2,    112.3,2,   111.8,2,  152.80,2,   38.60,2,    0.00,2,    2.66,2,   0.012,3,   0.000,2,-999.000,5,  2360.8,2,  2431.6,2,   1370.1,2,    20.00,   7.5199,2,    25.00,-999.000,9,-999.000,-999.0000,9,-999.000,9, -999.00,9,  -999.0,9,    -9.0,-999.000,9,-999.000,   37.76,2,   42.74,2, 2623.30,-999.0000,9,-999.0000,9,-999.0000,9,-999.0000,9,-999.0000,9,-999.0000,9,     -999.0,     -999.0,9,     -999.0,9,     -999.0,9,     -999.0,9,     -999.0,9,     -999.0,9, -999.00,9,   1.6396,-999.0000,-999.000