BOTTLE,20170720CCHSIOCBG
EXPOCODE,SECT_ID,STNNBR,CASTNO,SAMPNO,BTLNBR,BTLNBR_FLAG_W,DATE,TIME,LATITUDE,LONGITUDE,DEPTH,CTDPRS,CTDTMP,CTDSAL,CTDSAL_FLAG_W,SALNTY,SALNTY_FLAG_W,CTDOXY,CTDOXY_FLAG_W,OXYGEN,OXYGEN_FLAG_W,SILCAT,SILCAT_FLAG_W,NITRAT,NITRAT_FLAG_W,NITRIT,NITRIT_FLAG_W,PHSPHT,PHSPHT_FLAG_W,CFC-11,CFC-11_FLAG_W,CFC-12,CFC-12_FLAG_W,CFC113,CFC113_FLAG_W,TCARBN,TCARBN_FLAG_W,ALKALI,ALKALI_FLAG_W,FCO2,FCO2_FLAG_W,FCO2TMP,PH_TOT,PH_TOT_FLAG_W,PH_TMP,TRITUM,TRITUM_FLAG_W,TRITER,HELIUM,HELIUM_FLAG_W,DELHE3,DELHE3_FLAG_W,DELC13,DELC13_FLAG_W,DELC14,DELC14_FLAG_W,C14ERR,NEON,NEON_FLAG_W,NEONER,DOC,DOC_FLAG_W,TDN,TDN_FLAG_W,CTDRAW,CDOM325,CDOM325_FLAG_W,CDOM340,CDOM340_FLAG_W,CDOM380,CDOM380_FLAG_W,CDOM412,CDOM412_FLAG_W,CDOMSL,CDOMSL_FLAG_W,CDOMSN,CDOMSN_FLAG_W,DCNS,ARABI,ARABI_FLAG_W,FUCO,FUCO_FLAG_W,GALA,GALA_FLAG_W,GLUC,GLUC_FLAG_W,MAN,MAN_FLAG_W,RHAM,RHAM_FLAG_W,BRDU,BRDU_FLAG_W,THETA,HELIER,DELHER
,,,,,,,,,,,METERS,DBAR,ITS-90,PSS-78,,PSS-78,,UMOL/KG,,UMOL/KG,,UMOL/KG,,UMOL/KG,,UMOL/KG,,UMOL/KG,,PMOL/KG,,PMOL/KG,,PMOL/KG,,UMOL/KG,,UMOL/KG,,UATM,,DEG C,,,DEG C,TU,,TU,NMOL/KG,,PERCNT,,/MILLE,,/MILLE,,/MILLE,NMOL/KG,,NMOL/KG,UMOL/KG,,UMOL/KG,,DBAR,1/M,,1/M,,1/M,,1/M,,1/NM,,1/NM,,NMOL/KG,NMOL/KG,,NMOL/KG,,NMOL/KG,,NMOL/KG,,NMOL/KG,,NMOL/KG,,PMOL/L/H,,DEG C,NMOL/KG,PERCNT
325020060213,       P16N,      56,          2,         36,         36,2,20060318,       0002,    33.9997,  -152.0005,       5507,     4.7,  15.5549,  34.4084,2,  34.4075,2,    251.9,2,   252.5,2,    2.30,2,    0.00,2,    0.00,2,    0.10,2,   2.787,2,   1.672,2,-999.000,5,  2016.1,6,  2265.4,2,    397.8,2,    20.00,   7.9661,6,    25.00,-999.000,9,-999.000,-999.0000,9,-999.000,9, -999.00,5,    64.3,2,     3.2,-999.000,9,-999.000,   59.81,2,    4.44,2,    4.70,-999.0000,9,-999.0000,9,-999.0000,9,-999.0000,9,-999.0000,9,-999.0000,9,     -999.0,     -999.0,9,     -999.0,9,     -999.0,9,     -999.0,9,     -999.0,9,     -999.0,9, -999.00,9,  15.5542,-999.0000,-999.000
325020060213,       P16N,      56,          2,         35,         35,2,20060318,       0002,    33.9997,  -152.0005,       5507,    15.3,  15.5536,  34.4074,2,  34.4071,2,    252.2,2,   252.5,2,    2.30,2,    0.00,2,    0.00,2,    0.10,2,   2.768,2,   1.663,2,-999.000,5,  2014.7,2,  2263.7,2,    399.0,2,    20.00,   7.9664,2,    25.00,-999.000,9,-999.000,-999.0000,9,-999.000,9, -999.00,9,  -999.0,9,    -9.0,-999.000,9,-999.000,   58.19,2,    3.59,2,   15.30,-999.0000,9,-999.0000,9,-999.0000,9,-999.0000,9,-999.0000,9,-999.0000,9,     -999.0,     -999.0,9,     -999.0,9,     -999.0,9,     -999.0,9,     -999.0,9,     -999.0,9, -999.00,9,  15.5513,-999.0000,-999.000
325020060213,       P16N,      56,          2,         34,         34,2,20060318,       0002,    33.9997,  -152.0005,       5507,    35.4,  15.4297,  34.3876,2,  34.3606,2,    252.8,2,   254.6,2,    2.30,2,    0.00,2,    0.00,2,    0.11,2,-999.000,9,-999.000,9,-999.000,9,  2014.4,2,  2260.8,2,    402.0,2,    20.00,   7.9629,2,    25.00,-999.000,9,-999.000,-999.0000,9,-999.000,9, -999.00,5,    79.6,2,     3.5,-999.000,9,-999.000,   57.99,2,    3.54,2,   35.40,-999.0000,9,-999.0000,9,-999.0000,9,-999.0000,9,-999.0000,9,-999.0000,9,     -999.0,     -999.0,9,     -999.0,9,     -999.0,9,     -999.0,9,     -999.0,9,     -999.0,9, -999.00,9,  15.4243,-999.0000,-999.000
325020060213,       P16N,      56,          2,         33,         33,2,20060318,       0002,    33.9997,  -152.0005,       5507,    59.5,  14.2283,  34.1716,2,  34.1717,2,    250.4,2,   257.7,2,    2.40,2,    0.20,2,    0.10,2,    0.16,2,   2.918,2,   1.734,2,-999.000,5,  2013.0,2,  2251.7,2,    419.5,2,    20.00,   7.9460,2,    25.00,-999.000,9,-999.000,-999.0000,9,-999.000,9, -999.00,9,  -999.0,9,    -9.0,-999.000,9,-999.000,   57.20,2,    4.40,2,   59.50,-999.0000,9,-999.0000,9,-999.0000,9,-999.0000,9,-999.0000,9,-999.0000,9,     -999.0,     -999.0,9,     -999.0,9,     -999.0,9,     -999.0,9,     -999.0,9,     -999.0,9, -999.00,9,  14.2197,-999.0000,-999.000
325020060213,       P16N,      56,          2,         32,         32,2,20060318,       0002,    33.9997,  -152.0005,       5507,    85.2,  14.0474,  34.1638,2,  34.1627,2,    254.4,2,   255.1,2,    2.70,2,    0.40,2,    0.10,2,    0.18,2,   2.915,2,   1.747,2,-999.000,5,  2016.9,2,  2253.1,2,    427.7,2,    20.00,   7.9416,2,    25.00,-999.000,9,-999.000,-999.0000,9,-999.000,9, -999.00,5,    66.3,2,     3.5,-999.000,9,-999.000,   55.42,2,    4.60,2,   85.20,-999.0000,9,-999.0000,9,-999.0000,9,-999.0000,9,-999.0000,9,-999.0000,9,     -999.0,     -999.0,9,     -999.0,9,     -999.0,9,     -999.0,9,     -999.0,9,     -999.0,9, -999.00,9,  14.0352,-999.0000,-999.000
325020060213,       P16N,      56,          2,         31,         31,2,20060318,       0002,    33.9997,  -152.0005,       5507,   111.1,  14.0130,  34.1563,2,  34.1557,2,    254.2,2,   253.7,2,    2.80,2,    0.40,2,    0.10,2,    0.19,2,   2.940,2,   1.741,2,-999.000,5,  2017.6,2,  2250.6,2,    430.3,2,    20.00,   7.9385,2,    25.00,-999.000,9,-999.000,-999.0000,9,-999.000,9, -999.00,5,    70.8,2,     3.3,-999.000,9,-999.000,   53.58,2,    4.64,2,  111.10,-999.0000,9,-999.0000,9,-999.0000,9,-999.0000,9,-999.0000,9,-999.0000,9,     -999.0,     -999.0,9,     -999.0,9,     -999.0,9,     -999.0,9,     -999.0,9,     -999.0,9, -999.00,9,  13.9971,-999.0000,-999.000
325020060213,       P16N,      56,          2,         30,         30,2,20060318,       0002,    33.9997,  -152.0005,       5507,   135.3,  13.1565,  34.3463,2,  34.3486,2,    215.9,2,   221.5,2,    6.90,2,    7.80,2,    0.00,2,    0.56,2,   3.036,2,   1.746,2,-999.000,5,  2061.8,2,  2262.8,2,    526.4,2,    20.00,   7.8676,2,    25.00,-999.000,9,-999.000,-999.0000,9,-999.000,9, -999.00,5,    68.7,2,     3.9,-999.000,9,-999.000,   51.69,2,   12.36,2,  135.30,-999.0000,9,-999.0000,9,-999.0000,9,-999.0000,9,-999.0000,9,-999.0000,9,     -999.0,     -999.0,9,     -999.0,9,     -999.0,9,     -999.0,9,     -999.0,9,     -999.0,9, -999.00,9,  13.1379,-999.0000,-999.000
325020060213,       P16N,      56,          2,         29,         29,2,20060318,       0002,    33.9997,  -152.0005,       5507,   175.5,  12.4337,  34.3097,2,  34.3157,2,    226.8,2,   226.7,2,    8.20,2,    8.90,2,    0.00,2,    0.62,2,   3.112,2,   1.794,2,-999.000,5,  2067.7,2,  2263.9,6,    540.9,2,    20.00,   7.8569,2,    25.00,-999.000,9,-999.000,-999.0000,9,-999.000,9, -999.00,5,    55.4,2,     3.5,-999.000,9,-999.000,   48.98,2,   12.84,2,  175.50,-999.0000,9,-999.0000,9,-999.0000,9,-999.0000,9,-999.0000,9,-999.0000,9,     -999.0,     -999.0,9,     -999.0,9,     -999.0,9,     -999.0,9,     -999.0,9,     -999.0,9, -999.00,9,  12.4104,-999.0000,-999.000
325020060213,       P16N,      56,          2,         28,         28,2,20060318,       0002,    33.9997,  -152.0005,       5507,   225.8,  11.4667,  34.2536,2,  34.2563,2,    218.0,2,   218.4,2,   11.80,2,   12.00,2,    0.00,2,    0.82,2,   3.220,2,   1.803,2,-999.000,5,  2085.7,2,  2264.1,2,    598.4,2,    20.00,   7.8207,2,    25.00,-999.000,9,-999.000,-999.0000,9,-999.000,9, -999.00,5,    57.8,2,     3.5,-999.000,9,-999.000,   47.35,2,   15.89,2,  225.80,-999.0000,9,-999.0000,9,-999.0000,9,-999.0000,9,-999.0000,9,-999.0000,9,     -999.0,     -999.0,9,     -999.0,9,     -999.0,9,     -999.0,9,     -999.0,9,     -999.0,9, -999.00,9,  11.4383,-999.0000,-999.000
325020060213,       P16N,      56,          2,         27,         27,2,20060318,       0002,    33.9997,  -152.0005,       5507,   275.1,  10.7151,  34.2000,2,  34.2006,2,    218.4,2,   219.8,2,   14.50,2,   13.60,2,    0.00,2,    0.93,2,   3.268,2,   1.841,2,-999.000,5,  2094.9,2,  2265.7,2,    636.7,2,    20.00,   7.7974,2,    25.00,-999.000,9,-999.000,-999.0000,9,-999.000,9, -999.00,5,    49.5,2,     3.8,-999.000,9,-999.000,   47.25,2,   18.09,2,  275.10,-999.0000,9,-999.0000,9,-999.0000,9,-999.0000,9,-999.0000,9,-999.0000,9,     -999.0,     -999.0,9,     -999.0,9,     -999.0,9,     -999.0,9,     -999.0,9,     -999.0,9, -999.00,9,  10.6819,-999.0000,-999.000
325020060213,       P16N,      56,          2,         26,         26,2,20060318,       0002,    33.9997,  -152.0005,       5507,   325.6,  10.0248,  34.1527,2,  34.1543,2,    216.3,2,   216.0,2,   17.80,2,   15.30,2,    0.00,2,    1.05,2,   3.290,2,   1.843,2,-999.000,5,  2105.8,2,  2267.2,2,    685.0,2,    20.00,   7.7741,2,    25.00,-999.000,9,-999.000,-999.0000,9,-999.000,9, -999.00,5,    18.9,2,     3.5,-999.000,9,-999.000,   46.06,2,   19.29,2,  325.60,-999.0000,9,-999.0000,9,-999.0000,9,-999.0000,9,-999.0000,9,-999.0000,9,     -999.0,     -999.0,9,     -999.0,9,     -999.0,9,     -999.0,9,     -999.0,9,     -999.0,9, -999.00,9,   9.9871,-999.0000,-999.000
325020060213,       P16N,      56,          2,         25,         25,2,20060318,       0002,    33.9997,  -152.0005,       5507,   374.3,   9.1496,  34.1021,2,  34.1061,2,    199.8,2,   201.6,2,   23.10,2,   18.50,2,    0.00,2,    1.24,2,   3.230,2,   1.758,2,-999.000,5,  2125.2,2,  2269.4,2,    759.7,2,    20.00,   7.7287,2,    25.00,-999.000,9,-999.000,-999.0000,9,-999.000,9, -999.00,5,    25.2,2,     3.1,-999.000,9,-999.000,   44.87,2,   22.44,2,  374.30,-999.0000,9,-999.0000,9,-999.0000,9,-999.0000,9,-999.0000,9,-999.0000,9,     -999.0,     -999.0,9,     -999.0,9,     -999.0,9,     -999.0,9,     -999.0,9,     -999.0,9, -999.00,9,   9.1086,-999.0000,-999.000
325020060213,       P16N,      56,          2,         24,         24,2,20060318,       0002,    33.9997,  -152.0005,       5507,   424.6,   8.0492,  34.0403,2,  34.0425,2,    176.3,2,   178.0,2,   32.30,2,   22.90,2,    0.00,2,    1.54,2,   3.049,6,   1.628,6,-999.000,5,  2156.2,2,  2272.1,2,    922.7,2,    20.00,   7.6575,2,    25.00,-999.000,9,-999.000,-999.0000,9,-999.000,9, -999.00,5,     2.6,2,     3.3,-999.000,9,-999.000,   44.13,2,   26.59,2,  424.60,-999.0000,9,-999.0000,9,-999.0000,9,-999.0000,9,-999.0000,9,-999.0000,9,     -999.0,     -999.0,9,     -999.0,9,     -999.0,9,     -999.0,9,     -999.0,9,     -999.0,9, -999.00,9,   8.0061,-999.0000,-999.000
325020060213,       P16N,      56,          2,         23,         23,2,20060318,       0002,    33.9997,  -152.0005,       5507,   474.8,   7.0899,  34.0111,2,  34.0125,2,    148.2,2,   149.2,2,   44.00,2,   27.60,2,    0.00,2,    1.88,2,   2.628,2,   1.344,2,-999.000,5,  2189.9,2,  2278.8,2,   1128.8,6,    20.00,   7.5791,2,    25.00,-999.000,9,-999.000,-999.0000,9,-999.000,9, -999.00,5,   -22.6,2,     3.2,-999.000,9,-999.000,   44.01,2,   31.95,2,  474.80,-999.0000,9,-999.0000,9,-999.0000,9,-999.0000,9,-999.0000,9,-999.0000,9,     -999.0,     -999.0,9,     -999.0,9,     -999.0,9,     -999.0,9,     -999.0,9,     -999.0,9, -999.00,9,   7.0449,-999.0000,-999.000
325020060213,       P16N,      56,          2,         22,         22,2,20060318,       0002,    33.9997,  -152.0005,       5507,   550.3,   5.8953,  33.9908,2,  33.9902,2,    116.1,2,   116.5,2,   59.60,2,   32.60,2,    0.00,2,    2.27,2,   2.052,2,   1.011,2,-999.000,5,  2230.9,2,  2290.6,2,   1416.5,2,    20.00,   7.4892,2,    25.00,-999.000,9,-999.000,-999.0000,9,-999.000,9, -999.00,5,   -52.2,2,     2.7,-999.000,9,-999.000,   43.04,2,   36.99,2,  550.30,-999.0000,9,-999.0000,9,-999.0000,9,-999.0000,9,-999.0000,9,-999.0000,9,     -999.0,     -999.0,9,     -999.0,9,     -999.0,9,     -999.0,9,     -999.0,9,     -999.0,9, -999.00,9,   5.8479,-999.0000,-999.000
325020060213,       P16N,      56,          2,         21,         21,2,20060318,       0002,    33.9997,  -152.0005,       5507,   649.9,   4.9664,  34.0269,2,  34.0266,2,     80.2,2,    80.2,2,   76.20,2,   37.40,2,    0.00,2,    2.61,2,   1.195,2,   0.586,2,-999.000,5,  2271.9,2,  2305.9,2,   1765.5,2,    20.00,   7.4007,2,    25.00,-999.000,9,-999.000,-999.0000,9,-999.000,9, -999.00,5,   -82.4,2,     2.8,-999.000,9,-999.000,   41.63,2,   41.82,2,  649.90,-999.0000,9,-999.0000,9,-999.0000,9,-999.0000,9,-999.0000,9,-999.0000,9,     -999.0,     -999.0,9,     -999.0,9,     -999.0,9,     -999.0,9,     -999.0,9,     -999.0,9, -999.00,9,   4.9146,-999.0000,-999.000
325020060213,       P16N,      56,          2,         20,         20,2,20060318,       0002,    33.9997,  -152.0005,       5507,   749.3,   4.3329,  34.1193,2,  34.1221,2,     41.3,2,    40.2,2,   95.60,2,   41.40,2,    0.00,2,    2.91,2,   0.374,2,   0.189,2,-999.000,5,  2315.1,2,  2325.9,2,   2141.2,2,    20.00,   7.3270,2,    25.00,-999.000,9,-999.000,-999.0000,9,-999.000,9, -999.00,5,  -142.3,2,     3.2,-999.000,9,-999.000,   40.81,2,   45.68,2,  749.30,-999.0000,9,-999.0000,9,-999.0000,9,-999.0000,9,-999.0000,9,-999.0000,9,     -999.0,     -999.0,9,     -999.0,9,     -999.0,9,     -999.0,9,     -999.0,9,     -999.0,9, -999.00,9,   4.2762,-999.0000,-999.000
325020060213,       P16N,      56,          2,         19,         19,2,20060318,       0002,    33.9997,  -152.0005,       5507,   850.6,   3.8790,  34.2068,2,  34.2073,2,     18.5,2,    18.6,2,  110.80,2,   43.80,2,    0.00,2,    3.07,2,   0.077,2,   0.043,2,-999.000,5,  2348.0,2,  2343.9,2,   -999.0,9,  -999.00,   7.2924,2,    25.00,-999.000,9,-999.000,-999.0000,9,-999.000,9, -999.00,5,  -161.3,2,     2.5,-999.000,9,-999.000,   40.00,2,   47.58,2,  850.60,-999.0000,9,-999.0000,9,-999.0000,9,-999.0000,9,-999.0000,9,-999.0000,9,     -999.0,     -999.0,9,     -999.0,9,     -999.0,9,     -999.0,9,     -999.0,9,     -999.0,9, -999.00,9,   3.8168,-999.0000,-999.000
325020060213,       P16N,      56,          2,         18,         18,2,20060318,       0002,    33.9997,  -152.0005,       5507,   950.8,   3.6233,  34.2855,2,  34.2882,2,      9.1,2,     9.2,2,  121.60,6,   44.20,6,    0.00,6,    3.16,6,   0.028,2,   0.012,2,-999.000,5,  2364.9,6,  2358.5,6,   -999.0,9,  -999.00,   7.2827,2,    25.00,-999.000,9,-999.000,-999.0000,9,-999.000,9, -999.00,9,  -999.0,9,    -9.0,-999.000,9,-999.000,   38.94,2,   48.61,2,  950.80,-999.0000,9,-999.0000,9,-999.0000,9,-999.0000,9,-999.0000,9,-999.0000,9,     -999.0,     -999.0,9,     -999.0,9,     -999.0,9,     -999.0,9,     -999.0,9,     -999.0,9, -999.00,9,   3.5549,-999.0000,-999.000
325020060213,       P16N,      56,          2,         17,         17,2,20060318,       0002,    33.9997,  -152.0005,       5507,  1100.0,   3.3768,  34.3856,2,  34.3845,2,      8.6,2,     8.5,2,  131.30,2,   44.80,2,    0.00,2,    3.20,2,  -0.003,2,   0.005,2,-999.000,5,  2377.8,2,  2373.6,2,   -999.0,9,  -999.00,   7.2909,2,    25.00,-999.000,9,-999.000,-999.0000,9,-999.000,9, -999.00,9,  -999.0,9,    -9.0,-999.000,9,-999.000,   37.98,2,   48.68,2, 1100.00,-999.0000,9,-999.0000,9,-999.0000,9,-999.0000,9,-999.0000,9,-999.0000,9,     -999.0,     -999.0,9,     -999.0,9,     -999.0,9,     -999.0,9,     -999.0,9,     -999.0,9, -999.00,9,   3.2983,-999.0000,-999.000
325020060213,       P16N,      56,          2,         16,         16,2,20060318,       0002,    33.9997,  -152.0005,       5507,  1300.5,   3.0288,  34.4749,2,  34.4766,2,     17.4,2,    17.0,2,  141.40,2,   44.20,2,    0.00,2,    3.17,2,-999.000,9,-999.000,9,-999.000,9,  2384.5,2,  2391.8,2,   2249.4,2,    20.00,   7.3190,2,    25.00,-999.000,9,-999.000,-999.0000,9,-999.000,9, -999.00,9,  -999.0,9,    -9.0,-999.000,9,-999.000,   37.44,2,   48.03,2, 1300.50,-999.0000,9,-999.0000,9,-999.0000,9,-999.0000,9,-999.0000,9,-999.0000,9,     -999.0,     -999.0,9,     -999.0,9,     -999.0,9,     -999.0,9,     -999.0,9,     -999.0,9, -999.00,9,   2.9372,-999.0000,-999.000
325020060213,       P16N,      56,          2,         15,         15,2,20060318,       0002,    33.9997,  -152.0005,       5507,  1500.9,   2.6889,  34.5323,2,  34.5331,2,     32.1,2,    32.4,2,  149.90,2,   43.50,2,    0.00,2,    3.12,2,   0.001,2,   0.004,2,-999.000,5,  2385.7,2,  2404.1,2,   2076.2,6,    20.00,   7.3491,2,    25.00,-999.000,9,-999.000,-999.0000,9,-999.000,9, -999.00,9,  -999.0,9,    -9.0,-999.000,9,-999.000,   37.44,2,   47.29,2, 1500.90,-999.0000,9,-999.0000,9,-999.0000,9,-999.0000,9,-999.0000,9,-999.0000,9,     -999.0,     -999.0,9,     -999.0,9,     -999.0,9,     -999.0,9,     -999.0,9,     -999.0,9, -999.00,9,   2.5847,-999.0000,-999.000
325020060213,       P16N,      56,          2,         14,         14,2,20060318,       0002,    33.9997,  -152.0005,       5507,  1700.9,   2.3506,  34.5705,2,  34.5703,2,     46.3,2,    46.7,2,  158.10,2,   43.10,2,    0.00,2,    3.05,2,-999.000,9,-999.000,9,-999.000,9,  2385.9,2,  2414.2,2,   1931.8,2,    20.00,   7.3834,2,    25.00,-999.000,9,-999.000,-999.0000,9,-999.000,9, -999.00,9,  -999.0,9,    -9.0,-999.000,9,-999.000,   37.39,2,   47.17,2, 1700.90,-999.0000,9,-999.0000,9,-999.0000,9,-999.0000,9,-999.0000,9,-999.0000,9,     -999.0,     -999.0,9,     -999.0,9,     -999.0,9,     -999.0,9,     -999.0,9,     -999.0,9, -999.00,9,   2.2342,-999.0000,-999.000
325020060213,       P16N,      56,          2,         13,         13,2,20060318,       0002,    33.9997,  -152.0005,       5507,  1900.5,   2.0950,  34.5975,2,  34.5976,2,     58.2,2,    58.4,2,  165.00,2,   42.20,2,    0.00,2,    3.00,2,   0.003,2,   0.004,2,-999.000,5,  2385.4,2,  2418.8,2,   1826.2,2,    20.00,   7.4081,2,    25.00,-999.000,9,-999.000,-999.0000,9,-999.000,9, -999.00,9,  -999.0,9,    -9.0,-999.000,9,-999.000,   37.15,2,   46.51,2, 1900.50,-999.0000,9,-999.0000,9,-999.0000,9,-999.0000,9,-999.0000,9,-999.0000,9,     -999.0,     -999.0,9,     -999.0,9,     -999.0,9,     -999.0,9,     -999.0,9,     -999.0,9, -999.00,9,   1.9655,-999.0000,-999.000
325020060213,       P16N,      56,          2,         12,         12,2,20060318,       0002,    33.9997,  -152.0005,       5507,  2123.7,   1.8963,  34.6217,2,  34.6214,2,     72.6,2,    73.2,2,  168.60,2,   41.30,2,    0.00,2,    2.92,2,-999.000,9,-999.000,9,-999.000,9,  2381.2,2,  2424.4,2,   1702.1,2,    20.00,   7.4358,2,    25.00,-999.000,9,-999.000,-999.0000,9,-999.000,9, -999.00,9,  -999.0,9,    -9.0,-999.000,9,-999.000,   36.99,2,   44.70,2, 2123.70,-999.0000,9,-999.0000,9,-999.0000,9,-999.0000,9,-999.0000,9,-999.0000,9,     -999.0,     -999.0,9,     -999.0,9,     -999.0,9,     -999.0,9,     -999.0,9,     -999.0,9, -999.00,9,   1.7511,-999.0000,-999.000
325020060213,       P16N,      56,          2,         11,         11,2,20060318,       0002,    33.9997,  -152.0005,       5507,  2375.5,   1.7616,  34.6400,2,  34.6394,2,     87.4,2,    87.3,2,  169.40,2,   40.20,2,    0.00,2,    2.85,2,   0.006,2,   0.000,2,-999.000,5,  2372.8,2,  2427.9,2,   1582.0,2,    20.00,   7.4658,2,    25.00,-999.000,9,-999.000,-999.0000,9,-999.000,9, -999.00,9,  -999.0,9,    -9.0,-999.000,9,-999.000,   37.46,2,   43.43,2, 2375.50,-999.0000,9,-999.0000,9,-999.0000,9,-999.0000,9,-999.0000,9,-999.0000,9,     -999.0,     -999.0,9,     -999.0,9,     -999.0,9,     -999.0,9,     -999.0,9,     -999.0,9, -999.00,9,   1.5969,-999.0000,-999.000
325020060213,       P16N,      56,          2,         10,         10,2,20060318,       0002,    33.9997,  -152.0005,       5507,  2623.6,   1.6463,  34.6541,2,  34.6540,2,    100.4,2,   101.2,2,  169.00,2,   39.80,2,    0.00,2,    2.79,2,   0.013,3,  -0.001,2,-999.000,5,  2366.2,2,  2429.2,2,   1489.2,6,    20.00,   7.4895,2,    25.00,-999.000,9,-999.000,-999.0000,9,-999.000,9, -999.00,9,  -999.0,9,    -9.0,-999.000,9,-999.000,   37.64,2,   42.81,2, 2623.60,-999.0000,9,-999.0000,9,-999.0000,9,-999.0000,9,-999.0000,9,-999.0000,9,     -999.0,     -999.0,9,     -999.0,9,     -999.0,9,     -999.0,9,     -999.0,9,     -999.0,9, -999.00,9,   1.4616,-999.0000,-999.000