BOTTLE,20170720CCHSIOCBG
EXPOCODE,SECT_ID,STNNBR,CASTNO,SAMPNO,BTLNBR,BTLNBR_FLAG_W,DATE,TIME,LATITUDE,LONGITUDE,DEPTH,CTDPRS,CTDTMP,CTDSAL,CTDSAL_FLAG_W,SALNTY,SALNTY_FLAG_W,CTDOXY,CTDOXY_FLAG_W,OXYGEN,OXYGEN_FLAG_W,SILCAT,SILCAT_FLAG_W,NITRAT,NITRAT_FLAG_W,NITRIT,NITRIT_FLAG_W,PHSPHT,PHSPHT_FLAG_W,CFC-11,CFC-11_FLAG_W,CFC-12,CFC-12_FLAG_W,CFC113,CFC113_FLAG_W,TCARBN,TCARBN_FLAG_W,ALKALI,ALKALI_FLAG_W,FCO2,FCO2_FLAG_W,FCO2TMP,PH_TOT,PH_TOT_FLAG_W,PH_TMP,TRITUM,TRITUM_FLAG_W,TRITER,HELIUM,HELIUM_FLAG_W,DELHE3,DELHE3_FLAG_W,DELC13,DELC13_FLAG_W,DELC14,DELC14_FLAG_W,C14ERR,NEON,NEON_FLAG_W,NEONER,DOC,DOC_FLAG_W,TDN,TDN_FLAG_W,CTDRAW,CDOM325,CDOM325_FLAG_W,CDOM340,CDOM340_FLAG_W,CDOM380,CDOM380_FLAG_W,CDOM412,CDOM412_FLAG_W,CDOMSL,CDOMSL_FLAG_W,CDOMSN,CDOMSN_FLAG_W,DCNS,ARABI,ARABI_FLAG_W,FUCO,FUCO_FLAG_W,GALA,GALA_FLAG_W,GLUC,GLUC_FLAG_W,MAN,MAN_FLAG_W,RHAM,RHAM_FLAG_W,BRDU,BRDU_FLAG_W,THETA,HELIER,DELHER
,,,,,,,,,,,METERS,DBAR,ITS-90,PSS-78,,PSS-78,,UMOL/KG,,UMOL/KG,,UMOL/KG,,UMOL/KG,,UMOL/KG,,UMOL/KG,,PMOL/KG,,PMOL/KG,,PMOL/KG,,UMOL/KG,,UMOL/KG,,UATM,,DEG C,,,DEG C,TU,,TU,NMOL/KG,,PERCNT,,/MILLE,,/MILLE,,/MILLE,NMOL/KG,,NMOL/KG,UMOL/KG,,UMOL/KG,,DBAR,1/M,,1/M,,1/M,,1/M,,1/NM,,1/NM,,NMOL/KG,NMOL/KG,,NMOL/KG,,NMOL/KG,,NMOL/KG,,NMOL/KG,,NMOL/KG,,PMOL/L/H,,DEG C,NMOL/KG,PERCNT
325020060213,       P16N,      67,          1,          9,          9,2,20060324,       1006,         46,  -152.0002,       5230,  3001.0,   1.5861,  34.6575,2,  34.6553,2,    106.9,2,   105.6,2,  165.70,2,   38.50,2,    0.00,2,    2.76,2,   0.001,2,  -0.001,2,-999.000,5,  2356.4,2,  2427.0,2,   -999.0,9,  -999.00,   7.4949,2,    25.00,-999.000,9,-999.000,-999.0000,9,-999.000,9, -999.00,9,  -999.0,9,    -9.0,-999.000,9,-999.000,   36.90,2,   42.42,2, 3001.00,-999.0000,9,-999.0000,9,-999.0000,9,-999.0000,9,-999.0000,9,-999.0000,9,     -999.0,     -999.0,9,     -999.0,9,     -999.0,9,     -999.0,9,     -999.0,9,     -999.0,9, -999.00,9,   1.3674,-999.0000,-999.000
325020060213,       P16N,      67,          1,          8,          8,2,20060324,       1006,         46,  -152.0002,       5230,  3247.3,   1.5390,  34.6668,2,  34.6657,2,    119.2,2,   118.3,2,  162.70,2,   37.50,2,    0.00,2,    2.70,2,-999.000,9,-999.000,9,-999.000,9,  2348.4,2,  2426.3,2,   -999.0,9,  -999.00,   7.5194,6,    25.00,-999.000,9,-999.000,-999.0000,9,-999.000,9, -999.00,9,  -999.0,9,    -9.0,-999.000,9,-999.000,   36.39,2,   41.37,2, 3247.30,-999.0000,9,-999.0000,9,-999.0000,9,-999.0000,9,-999.0000,9,-999.0000,9,     -999.0,     -999.0,9,     -999.0,9,     -999.0,9,     -999.0,9,     -999.0,9,     -999.0,9, -999.00,9,   1.2974,-999.0000,-999.000
325020060213,       P16N,      67,          1,          7,          7,2,20060324,       1006,         46,  -152.0002,       5230,  3648.9,   1.4964,  34.6771,2,  34.6777,2,    132.6,2,   128.4,3,  160.10,2,   36.70,2,    0.00,2,    2.63,2,  -0.006,2,  -0.001,2,-999.000,5,  2341.5,2,  2423.5,6,   -999.0,9,  -999.00,   7.5426,2,    25.00,-999.000,9,-999.000,-999.0000,9,-999.000,9, -999.00,9,  -999.0,9,    -9.0,-999.000,9,-999.000,   36.46,2,   40.11,2, 3648.90,-999.0000,9,-999.0000,9,-999.0000,9,-999.0000,9,-999.0000,9,-999.0000,9,     -999.0,     -999.0,9,     -999.0,9,     -999.0,9,     -999.0,9,     -999.0,9,     -999.0,9, -999.00,9,   1.2150,-999.0000,-999.000
325020060213,       P16N,      67,          1,          6,          6,2,20060324,       1006,         46,  -152.0002,       5230,  4049.2,   1.4856,  34.6840,2,  34.6844,2,    141.1,2,   140.8,2,  159.80,2,   36.20,2,    0.00,2,    2.58,2,-999.000,9,-999.000,9,-999.000,9,  2336.4,2,  2425.6,2,   -999.0,9,  -999.00,   7.5611,2,    25.00,-999.000,9,-999.000,-999.0000,9,-999.000,9, -999.00,9,  -999.0,9,    -9.0,-999.000,9,-999.000,   35.54,2,   40.07,2, 4049.20,-999.0000,9,-999.0000,9,-999.0000,9,-999.0000,9,-999.0000,9,-999.0000,9,     -999.0,     -999.0,9,     -999.0,9,     -999.0,9,     -999.0,9,     -999.0,9,     -999.0,9, -999.00,9,   1.1617,-999.0000,-999.000
325020060213,       P16N,      67,          1,          5,          5,2,20060324,       1006,         46,  -152.0002,       5230,  4498.9,   1.5116,  34.6878,2,  34.6881,2,    144.3,2,   144.5,2,  162.50,2,   35.90,2,    0.00,2,    2.58,2,-999.000,9,-999.000,9,-999.000,9,  2335.2,2,  2426.8,2,   -999.0,9,  -999.00,   7.5772,3,    25.00,-999.000,9,-999.000,-999.0000,9,-999.000,9, -999.00,9,  -999.0,9,    -9.0,-999.000,9,-999.000,   35.10,2,   39.58,2, 4498.90,-999.0000,9,-999.0000,9,-999.0000,9,-999.0000,9,-999.0000,9,-999.0000,9,     -999.0,     -999.0,9,     -999.0,9,     -999.0,9,     -999.0,9,     -999.0,9,     -999.0,9, -999.00,9,   1.1364,-999.0000,-999.000
325020060213,       P16N,      67,          1,          4,          4,2,20060324,       1006,         46,  -152.0002,       5230,  4899.7,   1.5512,  34.6892,2,  34.6887,2,    145.9,2,   144.7,2,  164.00,6,   36.00,6,    0.00,6,    2.57,2,   0.000,2,   0.003,2,-999.000,5,  2335.3,2,  2433.2,2,   -999.0,9,  -999.00,   7.5762,2,    25.00,-999.000,9,-999.000,    1.914,2,  16.211,2, -999.00,9,  -999.0,9,    -9.0,   8.305,2,   0.008,   36.24,2,   39.95,2, 4899.70,-999.0000,9,-999.0000,9,-999.0000,9,-999.0000,9,-999.0000,9,-999.0000,9,     -999.0,     -999.0,9,     -999.0,9,     -999.0,9,     -999.0,9,     -999.0,9,     -999.0,9, -999.00,9,   1.1274,    0.001,   0.190
325020060213,       P16N,      67,          1,          3,          3,2,20060324,       1006,         46,  -152.0002,       5230,  5100.6,   1.5740,  34.6896,2,  34.6919,2,    145.6,2,   143.2,3,  164.30,6,   36.00,6,    0.00,6,    2.57,2,-999.000,9,-999.000,9,-999.000,9,  2335.8,2,  2433.8,2,   -999.0,9,  -999.00,   7.5757,2,    25.00,-999.000,9,-999.000,-999.0000,9,-999.000,9, -999.00,9,  -999.0,9,    -9.0,-999.000,9,-999.000,   36.79,2,   40.06,2, 5100.60,-999.0000,9,-999.0000,9,-999.0000,9,-999.0000,9,-999.0000,9,-999.0000,9,     -999.0,     -999.0,9,     -999.0,9,     -999.0,9,     -999.0,9,     -999.0,9,     -999.0,9, -999.00,9,   1.1249,-999.0000,-999.000
325020060213,       P16N,      67,          1,          2,          2,2,20060324,       1006,         46,  -152.0002,       5230,  5300.1,   1.5983,  34.6897,2,  34.6916,2,    145.8,2,   146.0,2,  164.70,6,   35.90,6,    0.00,6,    2.56,2,-999.000,9,-999.000,9,-999.000,9,  2335.1,2,  2433.1,2,   -999.0,9,  -999.00,   7.5752,2,    25.00,-999.000,9,-999.000,-999.0000,9,-999.000,9, -999.00,9,  -999.0,9,    -9.0,-999.000,9,-999.000,   35.28,2,   38.93,2, 5300.10,-999.0000,9,-999.0000,9,-999.0000,9,-999.0000,9,-999.0000,9,-999.0000,9,     -999.0,     -999.0,9,     -999.0,9,     -999.0,9,     -999.0,9,     -999.0,9,     -999.0,9, -999.00,9,   1.1235,-999.0000,-999.000
325020060213,       P16N,      67,          1,          1,          1,2,20060324,       1006,         46,  -152.0002,       5230,  5414.7,   1.6136,  34.6897,2,  34.6891,2,    145.5,2,   145.7,2,  165.50,2,   36.10,2,    0.00,2,    2.58,2,   0.002,2,   0.010,2,-999.000,5,  2336.4,6,  2433.9,2,   -999.0,9,  -999.00,   7.5767,2,    25.00,-999.000,9,-999.000,    1.914,2,  15.341,2, -999.00,9,  -999.0,9,    -9.0,   8.291,2,   0.008,   36.37,2,   39.51,2, 5414.70,-999.0000,9,-999.0000,9,-999.0000,9,-999.0000,9,-999.0000,9,-999.0000,9,     -999.0,     -999.0,9,     -999.0,9,     -999.0,9,     -999.0,9,     -999.0,9,     -999.0,9, -999.00,9,   1.1238,    0.001,   0.185