BOTTLE,20170720CCHSIOCBG
EXPOCODE,SECT_ID,STNNBR,CASTNO,SAMPNO,BTLNBR,BTLNBR_FLAG_W,DATE,TIME,LATITUDE,LONGITUDE,DEPTH,CTDPRS,CTDTMP,CTDSAL,CTDSAL_FLAG_W,SALNTY,SALNTY_FLAG_W,CTDOXY,CTDOXY_FLAG_W,OXYGEN,OXYGEN_FLAG_W,SILCAT,SILCAT_FLAG_W,NITRAT,NITRAT_FLAG_W,NITRIT,NITRIT_FLAG_W,PHSPHT,PHSPHT_FLAG_W,CFC-11,CFC-11_FLAG_W,CFC-12,CFC-12_FLAG_W,CFC113,CFC113_FLAG_W,TCARBN,TCARBN_FLAG_W,ALKALI,ALKALI_FLAG_W,FCO2,FCO2_FLAG_W,FCO2TMP,PH_TOT,PH_TOT_FLAG_W,PH_TMP,TRITUM,TRITUM_FLAG_W,TRITER,HELIUM,HELIUM_FLAG_W,DELHE3,DELHE3_FLAG_W,DELC13,DELC13_FLAG_W,DELC14,DELC14_FLAG_W,C14ERR,NEON,NEON_FLAG_W,NEONER,DOC,DOC_FLAG_W,TDN,TDN_FLAG_W,CTDRAW,CDOM325,CDOM325_FLAG_W,CDOM340,CDOM340_FLAG_W,CDOM380,CDOM380_FLAG_W,CDOM412,CDOM412_FLAG_W,CDOMSL,CDOMSL_FLAG_W,CDOMSN,CDOMSN_FLAG_W,DCNS,ARABI,ARABI_FLAG_W,FUCO,FUCO_FLAG_W,GALA,GALA_FLAG_W,GLUC,GLUC_FLAG_W,MAN,MAN_FLAG_W,RHAM,RHAM_FLAG_W,BRDU,BRDU_FLAG_W,THETA,HELIER,DELHER
,,,,,,,,,,,METERS,DBAR,ITS-90,PSS-78,,PSS-78,,UMOL/KG,,UMOL/KG,,UMOL/KG,,UMOL/KG,,UMOL/KG,,UMOL/KG,,PMOL/KG,,PMOL/KG,,PMOL/KG,,UMOL/KG,,UMOL/KG,,UATM,,DEG C,,,DEG C,TU,,TU,NMOL/KG,,PERCNT,,/MILLE,,/MILLE,,/MILLE,NMOL/KG,,NMOL/KG,UMOL/KG,,UMOL/KG,,DBAR,1/M,,1/M,,1/M,,1/M,,1/NM,,1/NM,,NMOL/KG,NMOL/KG,,NMOL/KG,,NMOL/KG,,NMOL/KG,,NMOL/KG,,NMOL/KG,,PMOL/L/H,,DEG C,NMOL/KG,PERCNT
325020060213,       P16N,      78,          2,          9,          9,2,20060329,       0105,      55.67,    -152.95,       4954,  2846.1,   1.5985,  34.6523,2,  34.6530,2,    103.7,2,   104.1,2,  168.60,2,   38.90,2,    0.00,2,    2.81,2,-999.000,9,-999.000,9,-999.000,9,  -999.0,9,  -999.0,9,   -999.0,9,  -999.00,   7.4895,2,    25.00,-999.000,9,-999.000,-999.0000,9,-999.000,9, -999.00,5,  -233.5,6,     1.5,-999.000,9,-999.000,   37.07,2,   42.09,2, 2846.10,-999.0000,9,-999.0000,9,-999.0000,9,-999.0000,9,-999.0000,9,-999.0000,9,     -999.0,     -999.0,9,     -999.0,9,     -999.0,9,     -999.0,9,     -999.0,9,     -999.0,9, -999.00,9,   1.3942,-999.0000,-999.000
325020060213,       P16N,      78,          2,          8,          8,2,20060329,       0105,      55.67,    -152.95,       4954,  3149.6,   1.5492,  34.6631,2,  34.6651,2,    115.1,2,   115.9,2,  167.60,2,   38.00,2,    0.00,2,    2.75,2,-999.000,9,-999.000,9,-999.000,9,  -999.0,9,  -999.0,9,   -999.0,9,  -999.00,   7.5126,2,    25.00,-999.000,9,-999.000,-999.0000,9,-999.000,9, -999.00,9,  -999.0,9,    -9.0,-999.000,9,-999.000,   37.11,2,   41.68,2, 3149.60,-999.0000,9,-999.0000,9,-999.0000,9,-999.0000,9,-999.0000,9,-999.0000,9,     -999.0,     -999.0,9,     -999.0,9,     -999.0,9,     -999.0,9,     -999.0,9,     -999.0,9, -999.00,9,   1.3169,-999.0000,-999.000
325020060213,       P16N,      78,          2,          7,          7,2,20060329,       0105,      55.67,    -152.95,       4954,  3449.8,   1.5087,  34.6726,2,  34.6745,2,    127.2,2,   127.3,2,  163.80,2,   37.20,2,    0.00,2,    2.69,2,-999.000,9,-999.000,9,-999.000,9,  -999.0,9,  -999.0,9,   -999.0,9,  -999.00,   7.5333,2,    25.00,-999.000,9,-999.000,-999.0000,9,-999.000,9, -999.00,9,  -999.0,9,    -9.0,-999.000,9,-999.000,   37.01,2,   40.62,2, 3449.80,-999.0000,9,-999.0000,9,-999.0000,9,-999.0000,9,-999.0000,9,-999.0000,9,     -999.0,     -999.0,9,     -999.0,9,     -999.0,9,     -999.0,9,     -999.0,9,     -999.0,9, -999.00,9,   1.2475,-999.0000,-999.000
325020060213,       P16N,      78,          2,          6,          6,2,20060329,       0105,      55.67,    -152.95,       4954,  3748.6,   1.4902,  34.6788,2,  34.6844,4,    134.8,2,   135.3,2,  162.40,2,   36.40,2,    0.00,2,    2.66,2,   0.008,2,  -0.009,2,-999.000,5,  -999.0,9,  -999.0,9,   -999.0,9,  -999.00,   7.5483,2,    25.00,-999.000,9,-999.000,-999.0000,9,-999.000,9, -999.00,9,  -999.0,9,    -9.0,-999.000,9,-999.000,   36.84,2,   39.77,2, 3748.60,-999.0000,9,-999.0000,9,-999.0000,9,-999.0000,9,-999.0000,9,-999.0000,9,     -999.0,     -999.0,9,     -999.0,9,     -999.0,9,     -999.0,9,     -999.0,9,     -999.0,9, -999.00,9,   1.1985,-999.0000,-999.000
325020060213,       P16N,      78,          2,          5,          5,2,20060329,       0105,      55.67,    -152.95,       4954,  4049.6,   1.4858,  34.6836,2,  34.6855,2,    141.0,2,   141.2,2,  161.00,2,   36.10,2,    0.00,2,    2.62,2,-999.000,9,-999.000,9,-999.000,9,  -999.0,9,  -999.0,9,   -999.0,9,  -999.00,   7.5591,2,    25.00,-999.000,9,-999.000,-999.0000,9,-999.000,9, -999.00,5,  -222.8,6,     2.7,-999.000,9,-999.000,   36.67,2,   39.40,2, 4049.60,-999.0000,9,-999.0000,9,-999.0000,9,-999.0000,9,-999.0000,9,-999.0000,9,     -999.0,     -999.0,9,     -999.0,9,     -999.0,9,     -999.0,9,     -999.0,9,     -999.0,9, -999.00,9,   1.1618,-999.0000,-999.000
325020060213,       P16N,      78,          2,          4,          4,2,20060329,       0105,      55.67,    -152.95,       4954,  4349.3,   1.4889,  34.6869,2,  34.6883,2,    146.1,2,   158.9,4,  158.50,6,   35.80,6,    0.00,6,    2.57,6,   0.012,2,   0.008,2,-999.000,5,  -999.0,9,  -999.0,9,   -999.0,9,  -999.00,   7.5668,2,    25.00,-999.000,9,-999.000,-999.0000,9,-999.000,9, -999.00,9,  -999.0,9,    -9.0,-999.000,9,-999.000,   37.04,2,   39.76,2, 4349.30,-999.0000,9,-999.0000,9,-999.0000,9,-999.0000,9,-999.0000,9,-999.0000,9,     -999.0,     -999.0,9,     -999.0,9,     -999.0,9,     -999.0,9,     -999.0,9,     -999.0,9, -999.00,9,   1.1315,-999.0000,-999.000
325020060213,       P16N,      78,          2,          3,          3,2,20060329,       0105,      55.67,    -152.95,       4954,  4649.5,   1.4953,  34.6899,2,  34.6928,2,    151.6,2,   151.9,2,  154.90,6,   35.30,6,    0.00,6,    2.54,6,-999.000,9,-999.000,9,-999.000,9,  -999.0,9,  -999.0,9,   -999.0,9,  -999.00,   7.5755,2,    25.00,-999.000,9,-999.000,-999.0000,9,-999.000,9, -999.00,9,  -999.0,9,    -9.0,-999.000,9,-999.000,   37.39,2,   38.64,2, 4649.50,-999.0000,9,-999.0000,9,-999.0000,9,-999.0000,9,-999.0000,9,-999.0000,9,     -999.0,     -999.0,9,     -999.0,9,     -999.0,9,     -999.0,9,     -999.0,9,     -999.0,9, -999.00,9,   1.1031,-999.0000,-999.000
325020060213,       P16N,      78,          2,          2,          2,2,20060329,       0105,      55.67,    -152.95,       4954,  4948.5,   1.5145,  34.6915,2,  34.6933,2,    155.8,2,   155.2,2,  151.40,6,   35.10,6,    0.00,6,    2.51,6,   0.018,2,   0.010,2,-999.000,5,  -999.0,9,  -999.0,9,   -999.0,9,  -999.00,   7.5781,2,    25.00,-999.000,9,-999.000,-999.0000,9,-999.000,9, -999.00,9,  -999.0,9,    -9.0,-999.000,9,-999.000,   37.00,2,   38.83,2, 4948.50,-999.0000,9,-999.0000,9,-999.0000,9,-999.0000,9,-999.0000,9,-999.0000,9,     -999.0,     -999.0,9,     -999.0,9,     -999.0,9,     -999.0,9,     -999.0,9,     -999.0,9, -999.00,9,   1.0860,-999.0000,-999.000
325020060213,       P16N,      78,          2,          1,          1,2,20060329,       0105,      55.67,    -152.95,       4954,  5104.9,   1.5274,  34.6920,2,  34.6951,2,    156.5,2,   156.1,2,  150.60,6,   34.90,6,    0.00,6,    2.52,6,   0.010,4,   0.010,2,-999.000,5,  -999.0,9,  -999.0,9,   -999.0,9,  -999.00,   7.5790,2,    25.00,-999.000,9,-999.000,-999.0000,9,-999.000,9, -999.00,5,  -207.2,2,     2.3,-999.000,9,-999.000,   37.73,2,   39.96,2, 5104.90,-999.0000,9,-999.0000,9,-999.0000,9,-999.0000,9,-999.0000,9,-999.0000,9,     -999.0,     -999.0,9,     -999.0,9,     -999.0,9,     -999.0,9,     -999.0,9,     -999.0,9, -999.00,9,   1.0793,-999.0000,-999.000