BOTTLE,20170720CCHSIOCBG
EXPOCODE,SECT_ID,STNNBR,CASTNO,SAMPNO,BTLNBR,BTLNBR_FLAG_W,DATE,TIME,LATITUDE,LONGITUDE,DEPTH,CTDPRS,CTDTMP,CTDSAL,CTDSAL_FLAG_W,SALNTY,SALNTY_FLAG_W,CTDOXY,CTDOXY_FLAG_W,OXYGEN,OXYGEN_FLAG_W,SILCAT,SILCAT_FLAG_W,NITRAT,NITRAT_FLAG_W,NITRIT,NITRIT_FLAG_W,PHSPHT,PHSPHT_FLAG_W,CFC-11,CFC-11_FLAG_W,CFC-12,CFC-12_FLAG_W,CFC113,CFC113_FLAG_W,TCARBN,TCARBN_FLAG_W,ALKALI,ALKALI_FLAG_W,FCO2,FCO2_FLAG_W,FCO2TMP,PH_TOT,PH_TOT_FLAG_W,PH_TMP,TRITUM,TRITUM_FLAG_W,TRITER,HELIUM,HELIUM_FLAG_W,DELHE3,DELHE3_FLAG_W,DELC13,DELC13_FLAG_W,DELC14,DELC14_FLAG_W,C14ERR,NEON,NEON_FLAG_W,NEONER,DOC,DOC_FLAG_W,TDN,TDN_FLAG_W,CTDRAW,CDOM325,CDOM325_FLAG_W,CDOM340,CDOM340_FLAG_W,CDOM380,CDOM380_FLAG_W,CDOM412,CDOM412_FLAG_W,CDOMSL,CDOMSL_FLAG_W,CDOMSN,CDOMSN_FLAG_W,DCNS,ARABI,ARABI_FLAG_W,FUCO,FUCO_FLAG_W,GALA,GALA_FLAG_W,GLUC,GLUC_FLAG_W,MAN,MAN_FLAG_W,RHAM,RHAM_FLAG_W,BRDU,BRDU_FLAG_W,THETA,HELIER,DELHER
,,,,,,,,,,,METERS,DBAR,ITS-90,PSS-78,,PSS-78,,UMOL/KG,,UMOL/KG,,UMOL/KG,,UMOL/KG,,UMOL/KG,,UMOL/KG,,PMOL/KG,,PMOL/KG,,PMOL/KG,,UMOL/KG,,UMOL/KG,,UATM,,DEG C,,,DEG C,TU,,TU,NMOL/KG,,PERCNT,,/MILLE,,/MILLE,,/MILLE,NMOL/KG,,NMOL/KG,UMOL/KG,,UMOL/KG,,DBAR,1/M,,1/M,,1/M,,1/M,,1/NM,,1/NM,,NMOL/KG,NMOL/KG,,NMOL/KG,,NMOL/KG,,NMOL/KG,,NMOL/KG,,NMOL/KG,,PMOL/L/H,,DEG C,NMOL/KG,PERCNT
325020060213,       P16N,      23,          1,         35,         35,2,20060222,       1356,        1.5,       -151,       4078,     5.4,  26.0615,  34.9261,2,  34.9266,2,    203.1,2,   204.9,2,    1.70,2,    4.00,2,    0.30,2,    0.43,2,-999.000,9,-999.000,9,-999.000,9,  2010.8,6,  2298.3,2,   -999.0,9,  -999.00,   8.0266,2,    25.00,-999.000,9,-999.000,-999.0000,9,-999.000,9, -999.00,9,  -999.0,9,    -9.0,-999.000,9,-999.000,   62.09,2,    8.08,2,    5.40,-999.0000,9,-999.0000,9,-999.0000,9,-999.0000,9,-999.0000,9,-999.0000,9,     -999.0,     -999.0,9,     -999.0,9,     -999.0,9,     -999.0,9,     -999.0,9,     -999.0,9, -999.00,9,  26.0603,-999.0000,-999.000
325020060213,       P16N,      23,          1,         34,         34,2,20060222,       1356,        1.5,       -151,       4078,    25.2,  26.0336,  34.9251,2,  34.9254,2,    203.1,2,   203.5,2,    1.70,2,    4.10,2,    0.30,2,    0.44,2,-999.000,9,-999.000,9,-999.000,9,  -999.0,9,  -999.0,5,   -999.0,9,  -999.00,-999.0000,9,  -999.00,-999.000,9,-999.000,-999.0000,9,-999.000,9, -999.00,9,  -999.0,9,    -9.0,-999.000,9,-999.000,   60.95,2,    9.00,2,   25.20,-999.0000,9,-999.0000,9,-999.0000,9,-999.0000,9,-999.0000,9,-999.0000,9,     -999.0,     -999.0,9,     -999.0,9,     -999.0,9,     -999.0,9,     -999.0,9,     -999.0,9, -999.00,9,  26.0280,-999.0000,-999.000
325020060213,       P16N,      23,          1,         33,         33,2,20060222,       1356,        1.5,       -151,       4078,    50.5,  25.3331,  34.9571,2,  34.9608,2,    193.5,2,   195.8,2,    2.10,2,    5.40,2,    0.70,2,    0.53,2,-999.000,9,-999.000,9,-999.000,9,  -999.0,9,  2299.5,2,   -999.0,9,  -999.00,   7.9991,2,    25.00,-999.000,9,-999.000,-999.0000,9,-999.000,9, -999.00,9,  -999.0,9,    -9.0,-999.000,9,-999.000,   57.92,2,   10.36,2,   50.50,-999.0000,9,-999.0000,9,-999.0000,9,-999.0000,9,-999.0000,9,-999.0000,9,     -999.0,     -999.0,9,     -999.0,9,     -999.0,9,     -999.0,9,     -999.0,9,     -999.0,9, -999.00,9,  25.3221,-999.0000,-999.000
325020060213,       P16N,      23,          1,         32,         32,2,20060222,       1356,        1.5,       -151,       4078,    75.2,  24.2159,  35.0531,2,  35.0553,2,    181.0,2,   181.9,2,    3.20,2,    7.20,2,    1.20,2,    0.65,2,-999.000,9,-999.000,9,-999.000,9,  -999.0,9,  -999.0,5,   -999.0,9,  -999.00,-999.0000,9,  -999.00,-999.000,9,-999.000,-999.0000,9,-999.000,9, -999.00,9,  -999.0,9,    -9.0,-999.000,9,-999.000,   56.04,2,   12.54,2,   75.20,-999.0000,9,-999.0000,9,-999.0000,9,-999.0000,9,-999.0000,9,-999.0000,9,     -999.0,     -999.0,9,     -999.0,9,     -999.0,9,     -999.0,9,     -999.0,9,     -999.0,9, -999.00,9,  24.2000,-999.0000,-999.000
325020060213,       P16N,      23,          1,         31,         31,2,20060222,       1356,        1.5,       -151,       4078,   100.8,  19.6168,  34.8441,2,  34.8375,2,    123.1,2,   125.2,2,    9.60,2,   14.90,2,    0.10,2,    1.05,2,-999.000,9,-999.000,9,-999.000,9,  -999.0,9,  2293.2,2,   -999.0,9,  -999.00,   7.8188,2,    25.00,-999.000,9,-999.000,-999.0000,9,-999.000,9, -999.00,9,  -999.0,9,    -9.0,-999.000,9,-999.000,   53.83,2,   19.40,2,  100.80,-999.0000,9,-999.0000,9,-999.0000,9,-999.0000,9,-999.0000,9,-999.0000,9,     -999.0,     -999.0,9,     -999.0,9,     -999.0,9,     -999.0,9,     -999.0,9,     -999.0,9, -999.00,9,  19.5985,-999.0000,-999.000
325020060213,       P16N,      23,          1,         30,         30,2,20060222,       1356,        1.5,       -151,       4078,   125.6,  13.1395,  34.7038,2,  34.7060,2,    109.8,2,   110.0,2,   19.60,2,   21.70,2,    0.00,2,    1.48,2,-999.000,9,-999.000,9,-999.000,9,  -999.0,9,  -999.0,5,   -999.0,9,  -999.00,-999.0000,9,  -999.00,-999.000,9,-999.000,-999.0000,9,-999.000,9, -999.00,9,  -999.0,9,    -9.0,-999.000,9,-999.000,   52.16,2,   25.91,2,  125.60,-999.0000,9,-999.0000,9,-999.0000,9,-999.0000,9,-999.0000,9,-999.0000,9,     -999.0,     -999.0,9,     -999.0,9,     -999.0,9,     -999.0,9,     -999.0,9,     -999.0,9, -999.00,9,  13.1222,-999.0000,-999.000
325020060213,       P16N,      23,          1,         29,         29,2,20060222,       1356,        1.5,       -151,       4078,   149.6,  12.4302,  34.7648,2,  34.7651,2,     99.9,2,   101.5,2,   20.50,2,   23.70,2,    0.00,2,    1.60,2,-999.000,9,-999.000,9,-999.000,9,  -999.0,9,  2301.8,2,   -999.0,9,  -999.00,   7.6700,2,    25.00,-999.000,9,-999.000,-999.0000,9,-999.000,9, -999.00,9,  -999.0,9,    -9.0,-999.000,9,-999.000,   50.85,2,   28.22,2,  149.60,-999.0000,9,-999.0000,9,-999.0000,9,-999.0000,9,-999.0000,9,-999.0000,9,     -999.0,     -999.0,9,     -999.0,9,     -999.0,9,     -999.0,9,     -999.0,9,     -999.0,9, -999.00,9,  12.4103,-999.0000,-999.000
325020060213,       P16N,      23,          1,         28,         28,2,20060222,       1356,        1.5,       -151,       4078,   201.0,  12.2054,  34.8685,2,  34.8668,2,     39.3,2,    39.0,2,   22.90,2,   30.50,2,    0.00,2,    2.04,2,-999.000,9,-999.000,9,-999.000,9,  -999.0,9,  -999.0,5,   -999.0,9,  -999.00,-999.0000,9,  -999.00,-999.000,9,-999.000,-999.0000,9,-999.000,9, -999.00,9,  -999.0,9,    -9.0,-999.000,9,-999.000,   49.35,2,   33.99,2,  201.00,-999.0000,9,-999.0000,9,-999.0000,9,-999.0000,9,-999.0000,9,-999.0000,9,     -999.0,     -999.0,9,     -999.0,9,     -999.0,9,     -999.0,9,     -999.0,9,     -999.0,9, -999.00,9,  12.1789,-999.0000,-999.000
325020060213,       P16N,      23,          1,         27,         27,2,20060222,       1356,        1.5,       -151,       4078,   250.4,  11.9126,  34.8453,2,  34.8458,2,     50.2,2,    44.1,2,   23.50,2,   30.50,2,    0.00,2,    2.03,2,-999.000,9,-999.000,9,-999.000,9,  -999.0,9,  2303.8,2,   -999.0,9,  -999.00,   7.5402,2,    25.00,-999.000,9,-999.000,-999.0000,9,-999.000,9, -999.00,9,  -999.0,9,    -9.0,-999.000,9,-999.000,   47.95,2,   34.06,2,  250.40,-999.0000,9,-999.0000,9,-999.0000,9,-999.0000,9,-999.0000,9,-999.0000,9,     -999.0,     -999.0,9,     -999.0,9,     -999.0,9,     -999.0,9,     -999.0,9,     -999.0,9, -999.00,9,  11.8800,-999.0000,-999.000
325020060213,       P16N,      23,          1,         26,         26,2,20060222,       1356,        1.5,       -151,       4078,   300.1,  11.3750,  34.8071,2,  34.8062,2,     57.9,2,    50.9,2,   24.60,2,   30.70,2,    0.00,2,    2.04,2,-999.000,9,-999.000,9,-999.000,9,  -999.0,9,  -999.0,5,   -999.0,9,  -999.00,-999.0000,9,  -999.00,-999.000,9,-999.000,-999.0000,9,-999.000,9, -999.00,9,  -999.0,9,    -9.0,-999.000,9,-999.000,   46.20,2,   34.55,2,  300.10,-999.0000,9,-999.0000,9,-999.0000,9,-999.0000,9,-999.0000,9,-999.0000,9,     -999.0,     -999.0,9,     -999.0,9,     -999.0,9,     -999.0,9,     -999.0,9,     -999.0,9, -999.00,9,  11.3371,-999.0000,-999.000
325020060213,       P16N,      23,          1,         25,         25,2,20060222,       1356,        1.5,       -151,       4078,   351.0,  10.6725,  34.7536,2,  34.7537,2,     70.2,2,    70.1,2,   25.60,2,   30.00,2,    0.00,2,    1.99,2,-999.000,9,-999.000,9,-999.000,9,  -999.0,9,  2305.3,2,   -999.0,9,  -999.00,   7.5637,2,    25.00,-999.000,9,-999.000,-999.0000,9,-999.000,9, -999.00,9,  -999.0,9,    -9.0,-999.000,9,-999.000,   44.14,2,   33.68,2,  351.00,-999.0000,9,-999.0000,9,-999.0000,9,-999.0000,9,-999.0000,9,-999.0000,9,     -999.0,     -999.0,9,     -999.0,9,     -999.0,9,     -999.0,9,     -999.0,9,     -999.0,9, -999.00,9,  10.6298,-999.0000,-999.000
325020060213,       P16N,      23,          1,         24,         24,2,20060222,       1356,        1.5,       -151,       4078,   401.0,   9.6255,  34.6843,2,  34.6840,2,     56.7,2,    57.3,2,   31.00,2,   33.20,2,    0.00,2,    2.20,2,-999.000,9,-999.000,9,-999.000,9,  -999.0,9,  -999.0,5,   -999.0,9,  -999.00,-999.0000,9,  -999.00,-999.000,9,-999.000,-999.0000,9,-999.000,9, -999.00,9,  -999.0,9,    -9.0,-999.000,9,-999.000,   43.37,2,   36.66,2,  401.00,-999.0000,9,-999.0000,9,-999.0000,9,-999.0000,9,-999.0000,9,-999.0000,9,     -999.0,     -999.0,9,     -999.0,9,     -999.0,9,     -999.0,9,     -999.0,9,     -999.0,9, -999.00,9,   9.5798,-999.0000,-999.000
325020060213,       P16N,      23,          1,         23,         23,2,20060222,       1356,        1.5,       -151,       4078,   450.3,   8.5602,  34.6327,2,  34.6333,2,     54.5,2,    52.3,2,   36.80,2,   35.60,2,    0.00,2,    2.40,2,-999.000,9,-999.000,9,-999.000,9,  -999.0,9,  2309.5,2,   -999.0,9,  -999.00,   7.4810,2,    25.00,-999.000,9,-999.000,-999.0000,9,-999.000,9, -999.00,9,  -999.0,9,    -9.0,-999.000,9,-999.000,   42.80,2,   39.18,2,  450.30,-999.0000,9,-999.0000,9,-999.0000,9,-999.0000,9,-999.0000,9,-999.0000,9,     -999.0,     -999.0,9,     -999.0,9,     -999.0,9,     -999.0,9,     -999.0,9,     -999.0,9, -999.00,9,   8.5123,-999.0000,-999.000
325020060213,       P16N,      23,          1,         22,         22,2,20060222,       1356,        1.5,       -151,       4078,   500.4,   7.4443,  34.5957,2,  34.5952,2,     51.8,2,    52.7,2,   44.30,2,   38.20,2,    0.00,2,    2.60,2,-999.000,9,-999.000,9,-999.000,9,  -999.0,9,  -999.0,5,   -999.0,9,  -999.00,-999.0000,9,  -999.00,-999.000,9,-999.000,-999.0000,9,-999.000,9, -999.00,9,  -999.0,9,    -9.0,-999.000,9,-999.000,   42.12,2,   42.75,2,  500.40,-999.0000,9,-999.0000,9,-999.0000,9,-999.0000,9,-999.0000,9,-999.0000,9,     -999.0,     -999.0,9,     -999.0,9,     -999.0,9,     -999.0,9,     -999.0,9,     -999.0,9, -999.00,9,   7.3951,-999.0000,-999.000
325020060213,       P16N,      23,          1,         21,         21,2,20060222,       1356,        1.5,       -151,       4078,   601.2,   6.8823,  34.5759,2,  34.5757,2,     61.7,2,    61.7,2,   48.50,2,   38.50,2,    0.00,2,    2.62,2,-999.000,9,-999.000,9,-999.000,9,  -999.0,9,  2319.4,2,   -999.0,9,  -999.00,   7.4523,2,    25.00,-999.000,9,-999.000,-999.0000,9,-999.000,9, -999.00,9,  -999.0,9,    -9.0,-999.000,9,-999.000,   41.17,2,   42.35,2,  601.20,-999.0000,9,-999.0000,9,-999.0000,9,-999.0000,9,-999.0000,9,-999.0000,9,     -999.0,     -999.0,9,     -999.0,9,     -999.0,9,     -999.0,9,     -999.0,9,     -999.0,9, -999.00,9,   6.8253,-999.0000,-999.000
325020060213,       P16N,      23,          1,         20,         20,2,20060222,       1356,        1.5,       -151,       4078,   699.6,   5.8748,  34.5513,2,  34.5510,2,     76.8,2,    76.4,2,   59.20,2,   38.60,2,    0.00,2,    2.65,2,-999.000,9,-999.000,9,-999.000,9,  -999.0,9,  -999.0,5,   -999.0,9,  -999.00,-999.0000,9,  -999.00,-999.000,9,-999.000,-999.0000,9,-999.000,9, -999.00,9,  -999.0,9,    -9.0,-999.000,9,-999.000,   40.50,2,   43.03,2,  699.60,-999.0000,9,-999.0000,9,-999.0000,9,-999.0000,9,-999.0000,9,-999.0000,9,     -999.0,     -999.0,9,     -999.0,9,     -999.0,9,     -999.0,9,     -999.0,9,     -999.0,9, -999.00,9,   5.8133,-999.0000,-999.000
325020060213,       P16N,      23,          1,         19,         19,2,20060222,       1356,        1.5,       -151,       4078,   800.5,   5.4611,  34.5504,2,  34.5506,2,     76.2,2,    75.5,2,   66.00,2,   39.30,2,    0.00,2,    2.71,2,-999.000,9,-999.000,9,-999.000,9,  -999.0,9,  2337.5,2,   -999.0,9,  -999.00,   7.4625,2,    25.00,-999.000,9,-999.000,-999.0000,9,-999.000,9, -999.00,9,  -999.0,9,    -9.0,-999.000,9,-999.000,   39.50,2,   43.11,2,  800.50,-999.0000,9,-999.0000,9,-999.0000,9,-999.0000,9,-999.0000,9,-999.0000,9,     -999.0,     -999.0,9,     -999.0,9,     -999.0,9,     -999.0,9,     -999.0,9,     -999.0,9, -999.00,9,   5.3927,-999.0000,-999.000
325020060213,       P16N,      23,          1,         18,         18,2,20060222,       1356,        1.5,       -151,       4078,   901.2,   5.1773,  34.5498,2,  34.5498,2,     80.2,2,    81.2,2,   70.40,2,   39.20,2,    0.00,2,    2.71,2,-999.000,9,-999.000,9,-999.000,9,  -999.0,9,  -999.0,5,   -999.0,9,  -999.00,-999.0000,9,  -999.00,-999.000,9,-999.000,-999.0000,9,-999.000,9, -999.00,9,  -999.0,9,    -9.0,-999.000,9,-999.000,   38.15,2,   42.87,2,  901.20,-999.0000,9,-999.0000,9,-999.0000,9,-999.0000,9,-999.0000,9,-999.0000,9,     -999.0,     -999.0,9,     -999.0,9,     -999.0,9,     -999.0,9,     -999.0,9,     -999.0,9, -999.00,9,   5.1016,-999.0000,-999.000
325020060213,       P16N,      23,          1,         17,         17,2,20060222,       1356,        1.5,       -151,       4078,   999.7,   4.7793,  34.5545,2,  34.5539,2,     82.5,2,    81.7,2,   78.00,2,   39.40,2,    0.00,2,    2.74,2,-999.000,9,-999.000,9,-999.000,9,  -999.0,9,  2351.1,2,   -999.0,9,  -999.00,   7.4721,2,    25.00,-999.000,9,-999.000,-999.0000,9,-999.000,9, -999.00,9,  -999.0,9,    -9.0,-999.000,9,-999.000,   38.61,2,   43.94,2,  999.70,-999.0000,9,-999.0000,9,-999.0000,9,-999.0000,9,-999.0000,9,-999.0000,9,     -999.0,     -999.0,9,     -999.0,9,     -999.0,9,     -999.0,9,     -999.0,9,     -999.0,9, -999.00,9,   4.6977,-999.0000,-999.000
325020060213,       P16N,      23,          1,         16,         16,2,20060222,       1356,        1.5,       -151,       4078,  1200.9,   3.7986,  34.5808,2,  34.5810,2,     80.8,2,    80.2,2,  101.80,2,   40.30,2,    0.00,2,    2.83,2,-999.000,9,-999.000,9,-999.000,9,  -999.0,9,  -999.0,5,   -999.0,9,  -999.00,-999.0000,9,  -999.00,-999.000,9,-999.000,-999.0000,9,-999.000,9, -999.00,9,  -999.0,9,    -9.0,-999.000,9,-999.000,   37.50,2,   44.35,2, 1200.90,-999.0000,9,-999.0000,9,-999.0000,9,-999.0000,9,-999.0000,9,-999.0000,9,     -999.0,     -999.0,9,     -999.0,9,     -999.0,9,     -999.0,9,     -999.0,9,     -999.0,9, -999.00,9,   3.7077,-999.0000,-999.000
325020060213,       P16N,      23,          1,         15,         15,2,20060222,       1356,        1.5,       -151,       4078,  1400.1,   3.4117,  34.5930,2,  34.5934,2,     87.7,2,    86.9,2,  109.60,2,   40.10,2,    0.00,2,    2.81,2,-999.000,9,-999.000,9,-999.000,9,  -999.0,9,  2387.5,2,   -999.0,9,  -999.00,   7.4803,2,    25.00,-999.000,9,-999.000,-999.0000,9,-999.000,9, -999.00,9,  -999.0,9,    -9.0,-999.000,9,-999.000,   37.76,2,   43.58,2, 1400.10,-999.0000,9,-999.0000,9,-999.0000,9,-999.0000,9,-999.0000,9,-999.0000,9,     -999.0,     -999.0,9,     -999.0,9,     -999.0,9,     -999.0,9,     -999.0,9,     -999.0,9, -999.00,9,   3.3077,-999.0000,-999.000
325020060213,       P16N,      23,          1,         14,         14,2,20060222,       1356,        1.5,       -151,       4078,  1600.5,   2.9532,  34.6118,2,  34.6121,2,     91.7,2,    92.4,2,  121.40,2,   39.90,2,    0.00,2,    2.81,2,-999.000,9,-999.000,9,-999.000,9,  -999.0,9,  -999.0,5,   -999.0,9,  -999.00,-999.0000,9,  -999.00,-999.000,9,-999.000,-999.0000,9,-999.000,9, -999.00,9,  -999.0,9,    -9.0,-999.000,9,-999.000,   37.31,2,   43.99,2, 1600.50,-999.0000,9,-999.0000,9,-999.0000,9,-999.0000,9,-999.0000,9,-999.0000,9,     -999.0,     -999.0,9,     -999.0,9,     -999.0,9,     -999.0,9,     -999.0,9,     -999.0,9, -999.00,9,   2.8374,-999.0000,-999.000
325020060213,       P16N,      23,          1,         13,         13,2,20060222,       1356,        1.5,       -151,       4078,  1800.8,   2.5913,  34.6290,2,  34.6292,2,     96.2,2,    96.4,2,  131.00,2,   39.80,2,    0.00,2,    2.79,2,-999.000,9,-999.000,9,-999.000,9,  -999.0,9,  2410.7,2,   -999.0,9,  -999.00,   7.4980,2,    25.00,-999.000,9,-999.000,-999.0000,9,-999.000,9, -999.00,9,  -999.0,9,    -9.0,-999.000,9,-999.000,   37.58,2,   44.11,2, 1800.80,-999.0000,9,-999.0000,9,-999.0000,9,-999.0000,9,-999.0000,9,-999.0000,9,     -999.0,     -999.0,9,     -999.0,9,     -999.0,9,     -999.0,9,     -999.0,9,     -999.0,9, -999.00,9,   2.4632,-999.0000,-999.000
325020060213,       P16N,      23,          1,         12,         12,2,20060222,       1356,        1.5,       -151,       4078,  2000.9,   2.2651,  34.6454,2,  34.6447,2,    104.3,2,   104.0,2,  138.90,2,   39.30,2,    0.00,2,    2.76,2,-999.000,9,-999.000,9,-999.000,9,  -999.0,9,  -999.0,5,   -999.0,9,  -999.00,-999.0000,9,  -999.00,-999.000,9,-999.000,-999.0000,9,-999.000,9, -999.00,9,  -999.0,9,    -9.0,-999.000,9,-999.000,   37.02,2,   42.53,2, 2000.90,-999.0000,9,-999.0000,9,-999.0000,9,-999.0000,9,-999.0000,9,-999.0000,9,     -999.0,     -999.0,9,     -999.0,9,     -999.0,9,     -999.0,9,     -999.0,9,     -999.0,9, -999.00,9,   2.1245,-999.0000,-999.000
325020060213,       P16N,      23,          1,         11,         11,2,20060222,       1356,        1.5,       -151,       4078,  2201.0,   2.0517,  34.6561,2,  34.6557,2,    112.8,2,   113.2,2,  142.00,2,   38.60,2,    0.00,2,    2.69,2,-999.000,9,-999.000,9,-999.000,9,  -999.0,9,  2421.2,2,   -999.0,9,  -999.00,   7.5245,2,    25.00,-999.000,9,-999.000,-999.0000,9,-999.000,9, -999.00,9,  -999.0,9,    -9.0,-999.000,9,-999.000,   37.19,2,   42.63,2, 2201.00,-999.0000,9,-999.0000,9,-999.0000,9,-999.0000,9,-999.0000,9,-999.0000,9,     -999.0,     -999.0,9,     -999.0,9,     -999.0,9,     -999.0,9,     -999.0,9,     -999.0,9, -999.00,9,   1.8972,-999.0000,-999.000
325020060213,       P16N,      23,          1,         10,         10,2,20060222,       1356,        1.5,       -151,       4078,  2402.5,   1.8809,  34.6665,2,-999.0000,5,    119.5,2,   120.5,2,  145.60,2,   38.30,2,    0.00,2,    2.66,2,-999.000,9,-999.000,9,-999.000,9,  -999.0,9,  -999.0,5,   -999.0,9,  -999.00,-999.0000,9,  -999.00,-999.000,9,-999.000,-999.0000,9,-999.000,9, -999.00,9,  -999.0,9,    -9.0,-999.000,9,-999.000,   37.46,2,   42.44,2, 2402.50,-999.0000,9,-999.0000,9,-999.0000,9,-999.0000,9,-999.0000,9,-999.0000,9,     -999.0,     -999.0,9,     -999.0,9,     -999.0,9,     -999.0,9,     -999.0,9,     -999.0,9, -999.00,9,   1.7115,-999.0000,-999.000
325020060213,       P16N,      23,          1,          9,          9,2,20060222,       1356,        1.5,       -151,       4078,  2601.3,   1.8382,  34.6699,2,  34.6696,2,    121.6,2,   120.6,2,  147.40,2,   38.30,2,    0.00,2,    2.67,2,-999.000,9,-999.000,9,-999.000,9,  -999.0,9,  2428.3,2,   -999.0,9,  -999.00,   7.5334,2,    25.00,-999.000,9,-999.000,-999.0000,9,-999.000,9, -999.00,9,  -999.0,9,    -9.0,-999.000,9,-999.000,   37.75,2,   41.95,2, 2601.30,-999.0000,9,-999.0000,9,-999.0000,9,-999.0000,9,-999.0000,9,-999.0000,9,     -999.0,     -999.0,9,     -999.0,9,     -999.0,9,     -999.0,9,     -999.0,9,     -999.0,9, -999.00,9,   1.6516,-999.0000,-999.000