BOTTLE,20170720CCHSIOCBG
EXPOCODE,SECT_ID,STNNBR,CASTNO,SAMPNO,BTLNBR,BTLNBR_FLAG_W,DATE,TIME,LATITUDE,LONGITUDE,DEPTH,CTDPRS,CTDTMP,CTDSAL,CTDSAL_FLAG_W,SALNTY,SALNTY_FLAG_W,CTDOXY,CTDOXY_FLAG_W,OXYGEN,OXYGEN_FLAG_W,SILCAT,SILCAT_FLAG_W,NITRAT,NITRAT_FLAG_W,NITRIT,NITRIT_FLAG_W,PHSPHT,PHSPHT_FLAG_W,CFC-11,CFC-11_FLAG_W,CFC-12,CFC-12_FLAG_W,CFC113,CFC113_FLAG_W,TCARBN,TCARBN_FLAG_W,ALKALI,ALKALI_FLAG_W,FCO2,FCO2_FLAG_W,FCO2TMP,PH_TOT,PH_TOT_FLAG_W,PH_TMP,TRITUM,TRITUM_FLAG_W,TRITER,HELIUM,HELIUM_FLAG_W,DELHE3,DELHE3_FLAG_W,DELC13,DELC13_FLAG_W,DELC14,DELC14_FLAG_W,C14ERR,NEON,NEON_FLAG_W,NEONER,DOC,DOC_FLAG_W,TDN,TDN_FLAG_W,CTDRAW,CDOM325,CDOM325_FLAG_W,CDOM340,CDOM340_FLAG_W,CDOM380,CDOM380_FLAG_W,CDOM412,CDOM412_FLAG_W,CDOMSL,CDOMSL_FLAG_W,CDOMSN,CDOMSN_FLAG_W,DCNS,ARABI,ARABI_FLAG_W,FUCO,FUCO_FLAG_W,GALA,GALA_FLAG_W,GLUC,GLUC_FLAG_W,MAN,MAN_FLAG_W,RHAM,RHAM_FLAG_W,BRDU,BRDU_FLAG_W,THETA,HELIER,DELHER
,,,,,,,,,,,METERS,DBAR,ITS-90,PSS-78,,PSS-78,,UMOL/KG,,UMOL/KG,,UMOL/KG,,UMOL/KG,,UMOL/KG,,UMOL/KG,,PMOL/KG,,PMOL/KG,,PMOL/KG,,UMOL/KG,,UMOL/KG,,UATM,,DEG C,,,DEG C,TU,,TU,NMOL/KG,,PERCNT,,/MILLE,,/MILLE,,/MILLE,NMOL/KG,,NMOL/KG,UMOL/KG,,UMOL/KG,,DBAR,1/M,,1/M,,1/M,,1/M,,1/NM,,1/NM,,NMOL/KG,NMOL/KG,,NMOL/KG,,NMOL/KG,,NMOL/KG,,NMOL/KG,,NMOL/KG,,PMOL/L/H,,DEG C,NMOL/KG,PERCNT
325020060213,       P16N,      65,          1,          9,          9,2,20060323,       0952,    44.0002,  -151.9995,       5497,  3002.2,   1.5875,  34.6578,2,  34.6540,3,    105.2,2,   102.3,2,  169.10,2,   38.90,6,    0.00,2,    2.80,2,-999.000,9,-999.000,9,-999.000,9,  2361.9,2,  2425.0,2,   1489.8,2,    20.00,   7.4861,2,    25.00,-999.000,9,-999.000,-999.0000,9,-999.000,9, -999.00,9,  -999.0,9,    -9.0,-999.000,9,-999.000,   37.01,2,   42.24,2, 3002.20,-999.0000,9,-999.0000,9,-999.0000,9,-999.0000,9,-999.0000,9,-999.0000,9,     -999.0,     -999.0,9,     -999.0,9,     -999.0,9,     -999.0,9,     -999.0,9,     -999.0,9, -999.00,9,   1.3687,-999.0000,-999.000
325020060213,       P16N,      65,          1,          8,          8,2,20060323,       0952,    44.0002,  -151.9995,       5497,  3252.3,   1.5374,  34.6672,2,  34.6654,2,    117.3,2,   117.3,2,  165.70,2,   38.10,2,    0.00,2,    2.71,2,   0.004,2,  -0.001,2,-999.000,5,  2352.4,2,  2425.3,2,   1381.9,2,    20.00,   7.5174,6,    25.00,-999.000,9,-999.000,    1.959,2,  16.645,2, -999.00,9,  -999.0,9,    -9.0,   7.828,2,   0.008,   37.50,2,   41.66,2, 3252.30,-999.0000,9,-999.0000,9,-999.0000,9,-999.0000,9,-999.0000,9,-999.0000,9,     -999.0,     -999.0,9,     -999.0,9,     -999.0,9,     -999.0,9,     -999.0,9,     -999.0,9, -999.00,9,   1.2954,    0.000,   0.169
325020060213,       P16N,      65,          1,          7,          7,2,20060323,       0952,    44.0002,  -151.9995,       5497,  3654.7,   1.4921,  34.6780,2,  34.6758,2,    131.8,2,   131.8,2,  163.00,2,   37.10,2,    0.00,2,    2.64,2,-999.000,9,-999.000,9,-999.000,9,  2343.7,2,  2426.2,6,   1290.2,2,    20.00,   7.5444,2,    25.00,-999.000,9,-999.000,-999.0000,9,-999.000,9, -999.00,9,  -999.0,9,    -9.0,-999.000,9,-999.000,   37.11,2,   40.69,2, 3654.70,-999.0000,9,-999.0000,9,-999.0000,9,-999.0000,9,-999.0000,9,-999.0000,9,     -999.0,     -999.0,9,     -999.0,9,     -999.0,9,     -999.0,9,     -999.0,9,     -999.0,9, -999.00,9,   1.2103,-999.0000,-999.000
325020060213,       P16N,      65,          1,          6,          6,2,20060323,       0952,    44.0002,  -151.9995,       5497,  4053.0,   1.4882,  34.6842,2,  34.6855,2,    139.6,2,   139.4,2,  163.10,2,   36.70,2,    0.00,2,    2.61,2,-999.000,9,-999.000,9,-999.000,9,  2339.1,2,  2429.3,2,   1243.8,2,    20.00,   7.5612,2,    25.00,-999.000,9,-999.000,-999.0000,9,-999.000,9, -999.00,9,  -999.0,9,    -9.0,-999.000,9,-999.000,   36.88,2,   40.35,2, 4053.00,-999.0000,9,-999.0000,9,-999.0000,9,-999.0000,9,-999.0000,9,-999.0000,9,     -999.0,     -999.0,9,     -999.0,9,     -999.0,9,     -999.0,9,     -999.0,9,     -999.0,9, -999.00,9,   1.1638,-999.0000,-999.000
325020060213,       P16N,      65,          1,          5,          5,2,20060323,       0952,    44.0002,  -151.9995,       5497,  4550.9,   1.5218,  34.6880,2,  34.6873,2,    143.4,2,   143.4,2,  165.60,2,   36.50,2,    0.00,2,    2.60,2,   0.004,2,   0.000,2,-999.000,5,  2338.9,2,  2431.8,2,   1216.2,2,    20.00,   7.5719,2,    25.00,-999.000,9,-999.000,-999.0000,9,-999.000,9, -999.00,9,  -999.0,9,    -9.0,-999.000,9,-999.000,   37.16,2,   39.95,2, 4550.90,-999.0000,9,-999.0000,9,-999.0000,9,-999.0000,9,-999.0000,9,-999.0000,9,     -999.0,     -999.0,9,     -999.0,9,     -999.0,9,     -999.0,9,     -999.0,9,     -999.0,9, -999.00,9,   1.1403,-999.0000,-999.000
325020060213,       P16N,      65,          1,          4,          4,2,20060323,       0952,    44.0002,  -151.9995,       5497,  5053.0,   1.5772,  34.6891,2,  34.6875,2,    144.1,2,   143.0,2,  167.80,6,   36.40,6,    0.00,6,    2.60,2,-999.000,9,-999.000,9,-999.000,9,  2337.8,2,  2433.1,2,   1204.6,2,    20.00,   7.5779,3,    25.00,-999.000,9,-999.000,-999.0000,9,-999.000,9, -999.00,9,  -999.0,9,    -9.0,-999.000,9,-999.000,   37.41,2,   40.18,2, 5053.00,-999.0000,9,-999.0000,9,-999.0000,9,-999.0000,9,-999.0000,9,-999.0000,9,     -999.0,     -999.0,9,     -999.0,9,     -999.0,9,     -999.0,9,     -999.0,9,     -999.0,9, -999.00,9,   1.1339,-999.0000,-999.000
325020060213,       P16N,      65,          1,          3,          3,2,20060323,       0952,    44.0002,  -151.9995,       5497,  5251.9,   1.6018,  34.6892,2,  34.6890,2,    144.2,2,   143.9,2,  167.90,6,   36.40,6,    0.00,6,    2.60,2,-999.000,9,-999.000,9,-999.000,9,  2338.5,2,  2433.8,2,   1205.5,2,    20.00,   7.5739,2,    25.00,-999.000,9,-999.000,-999.0000,9,-999.000,9, -999.00,9,  -999.0,9,    -9.0,-999.000,9,-999.000,   37.59,2,   40.20,2, 5251.90,-999.0000,9,-999.0000,9,-999.0000,9,-999.0000,9,-999.0000,9,-999.0000,9,     -999.0,     -999.0,9,     -999.0,9,     -999.0,9,     -999.0,9,     -999.0,9,     -999.0,9, -999.00,9,   1.1330,-999.0000,-999.000
325020060213,       P16N,      65,          1,          2,          2,2,20060323,       0952,    44.0002,  -151.9995,       5497,  5449.6,   1.6277,  34.6891,2,  34.6883,2,    144.5,2,   143.4,2,  167.90,6,   36.30,6,    0.00,6,    2.60,2,   0.005,2,   0.005,2,-999.000,5,  2338.5,2,  2434.0,2,   1197.7,2,    20.00,   7.5736,2,    25.00,-999.000,9,-999.000,    1.997,2,  14.419,2, -999.00,9,  -999.0,9,    -9.0,   8.315,2,   0.011,   37.32,2,   39.80,2, 5449.60,-999.0000,9,-999.0000,9,-999.0000,9,-999.0000,9,-999.0000,9,-999.0000,9,     -999.0,     -999.0,9,     -999.0,9,     -999.0,9,     -999.0,9,     -999.0,9,     -999.0,9, -999.00,9,   1.1329,    0.001,   0.190
325020060213,       P16N,      65,          1,          1,          1,2,20060323,       0952,    44.0002,  -151.9995,       5497,  5714.8,   1.6634,  34.6891,2,  34.6940,4,    144.7,2,   143.0,2,  167.30,6,   36.40,6,    0.00,6,    2.59,2,   0.008,2,   0.004,2,-999.000,5,  2340.2,6,  2433.3,2,   1198.7,2,    20.00,   7.5731,3,    25.00,-999.000,9,-999.000,    2.014,2,  12.196,2, -999.00,9,  -999.0,9,    -9.0,   8.352,2,   0.009,   37.36,2,   40.49,2, 5714.80,-999.0000,9,-999.0000,9,-999.0000,9,-999.0000,9,-999.0000,9,-999.0000,9,     -999.0,     -999.0,9,     -999.0,9,     -999.0,9,     -999.0,9,     -999.0,9,     -999.0,9, -999.00,9,   1.1330,    0.000,   0.173