BOTTLE,20170720CCHSIOCBG
EXPOCODE,SECT_ID,STNNBR,CASTNO,SAMPNO,BTLNBR,BTLNBR_FLAG_W,DATE,TIME,LATITUDE,LONGITUDE,DEPTH,CTDPRS,CTDTMP,CTDSAL,CTDSAL_FLAG_W,SALNTY,SALNTY_FLAG_W,CTDOXY,CTDOXY_FLAG_W,OXYGEN,OXYGEN_FLAG_W,SILCAT,SILCAT_FLAG_W,NITRAT,NITRAT_FLAG_W,NITRIT,NITRIT_FLAG_W,PHSPHT,PHSPHT_FLAG_W,CFC-11,CFC-11_FLAG_W,CFC-12,CFC-12_FLAG_W,CFC113,CFC113_FLAG_W,TCARBN,TCARBN_FLAG_W,ALKALI,ALKALI_FLAG_W,FCO2,FCO2_FLAG_W,FCO2TMP,PH_TOT,PH_TOT_FLAG_W,PH_TMP,TRITUM,TRITUM_FLAG_W,TRITER,HELIUM,HELIUM_FLAG_W,DELHE3,DELHE3_FLAG_W,DELC13,DELC13_FLAG_W,DELC14,DELC14_FLAG_W,C14ERR,NEON,NEON_FLAG_W,NEONER,DOC,DOC_FLAG_W,TDN,TDN_FLAG_W,CTDRAW,CDOM325,CDOM325_FLAG_W,CDOM340,CDOM340_FLAG_W,CDOM380,CDOM380_FLAG_W,CDOM412,CDOM412_FLAG_W,CDOMSL,CDOMSL_FLAG_W,CDOMSN,CDOMSN_FLAG_W,DCNS,ARABI,ARABI_FLAG_W,FUCO,FUCO_FLAG_W,GALA,GALA_FLAG_W,GLUC,GLUC_FLAG_W,MAN,MAN_FLAG_W,RHAM,RHAM_FLAG_W,BRDU,BRDU_FLAG_W,THETA,HELIER,DELHER
,,,,,,,,,,,METERS,DBAR,ITS-90,PSS-78,,PSS-78,,UMOL/KG,,UMOL/KG,,UMOL/KG,,UMOL/KG,,UMOL/KG,,UMOL/KG,,PMOL/KG,,PMOL/KG,,PMOL/KG,,UMOL/KG,,UMOL/KG,,UATM,,DEG C,,,DEG C,TU,,TU,NMOL/KG,,PERCNT,,/MILLE,,/MILLE,,/MILLE,NMOL/KG,,NMOL/KG,UMOL/KG,,UMOL/KG,,DBAR,1/M,,1/M,,1/M,,1/M,,1/NM,,1/NM,,NMOL/KG,NMOL/KG,,NMOL/KG,,NMOL/KG,,NMOL/KG,,NMOL/KG,,NMOL/KG,,PMOL/L/H,,DEG C,NMOL/KG,PERCNT
325020060213,       P16N,      70,          1,         36,         36,2,20060325,       1628,    49.0002,  -151.9993,       4980,     5.3,   5.2292,  32.6557,2,  32.6557,2,    310.7,2,   311.5,2,   22.10,6,   11.70,6,    0.10,6,    1.22,6,   4.811,2,   2.661,2,-999.000,5,  2051.4,6,  2200.4,2,    664.0,2,    20.00,   7.7740,6,    25.00,-999.000,9,-999.000,-999.0000,9,-999.000,9, -999.00,5,    -4.0,2,     3.6,-999.000,9,-999.000,   55.73,2,   15.67,2,    5.30,   0.1330,2,   0.0900,2,   0.0350,2,   0.0160,2,   0.0245,2,   0.0255,2,     -999.0,     -999.0,9,     -999.0,9,     -999.0,9,     -999.0,9,     -999.0,9,     -999.0,9,    1.56,2,   5.2288,-999.0000,-999.000
325020060213,       P16N,      70,          1,         35,         35,2,20060325,       1628,    49.0002,  -151.9993,       4980,    15.4,   5.2292,  32.6556,2,  32.6555,2,    311.1,2,   311.3,2,   22.20,6,   11.60,6,    0.10,6,    1.22,6,   4.750,2,   2.635,2,-999.000,5,  2049.8,2,  2202.1,2,    664.4,2,    20.00,   7.7744,3,    25.00,-999.000,9,-999.000,-999.0000,9,-999.000,9, -999.00,9,  -999.0,9,    -9.0,-999.000,9,-999.000,   57.33,2,   16.50,2,   15.40,   0.1350,2,   0.0910,2,   0.0360,2,   0.0170,2,   0.0242,2,   0.0253,2,     -999.0,     -999.0,9,     -999.0,9,     -999.0,9,     -999.0,9,     -999.0,9,     -999.0,9,    4.39,2,   5.2281,-999.0000,-999.000
325020060213,       P16N,      70,          1,         34,         34,2,20060325,       1628,    49.0002,  -151.9993,       4980,    34.7,   5.2280,  32.6554,2,  32.6548,2,    311.8,2,   311.5,2,   22.20,6,   11.60,6,    0.10,6,    1.23,6,-999.000,9,-999.000,9,-999.000,9,  2050.7,2,  2200.2,2,    665.2,6,    20.00,   7.7746,2,    25.00,-999.000,9,-999.000,-999.0000,9,-999.000,9, -999.00,5,    -4.8,2,     3.3,-999.000,9,-999.000,   55.72,2,   15.79,2,   34.70,   0.1370,2,   0.0930,2,   0.0370,2,   0.0180,2,   0.0237,2,   0.0249,2,     -999.0,     -999.0,9,     -999.0,9,     -999.0,9,     -999.0,9,     -999.0,9,     -999.0,9,    4.30,2,   5.2254,-999.0000,-999.000
325020060213,       P16N,      70,          1,         33,         33,2,20060325,       1628,    49.0002,  -151.9993,       4980,    59.9,   5.2303,  32.6562,2,  32.6551,2,    310.2,2,   311.3,2,   22.20,6,   11.60,6,    0.10,6,    1.23,6,   4.775,2,   2.655,2,-999.000,5,  2051.4,2,  2199.6,2,    667.1,2,    20.00,   7.7719,2,    25.00,-999.000,9,-999.000,-999.0000,9,-999.000,9, -999.00,9,  -999.0,9,    -9.0,-999.000,9,-999.000,   56.69,2,   16.35,2,   59.90,   0.1350,2,   0.0910,2,   0.0360,2,   0.0180,2,   0.0241,2,   0.0252,2,     -999.0,     -999.0,9,     -999.0,9,     -999.0,9,     -999.0,9,     -999.0,9,     -999.0,9,    4.23,2,   5.2258,-999.0000,-999.000
325020060213,       P16N,      70,          1,         32,         32,2,20060325,       1628,    49.0002,  -151.9993,       4980,    85.4,   5.2846,  32.6670,2,  32.6720,2,    309.2,2,   309.7,2,   21.80,6,   11.40,6,    0.10,6,    1.22,6,-999.000,9,-999.000,9,-999.000,9,  2051.6,2,  2200.6,2,    663.8,2,    20.00,   7.7744,2,    25.00,-999.000,9,-999.000,-999.0000,9,-999.000,9, -999.00,5,    -3.2,2,     3.3,-999.000,9,-999.000,   54.94,2,   15.28,2,   85.40,   0.1370,2,   0.0930,2,   0.0370,2,   0.0190,2,   0.0236,2,   0.0247,2,     -999.0,     -999.0,9,     -999.0,9,     -999.0,9,     -999.0,9,     -999.0,9,     -999.0,9,    4.24,2,   5.2781,-999.0000,-999.000
325020060213,       P16N,      70,          1,         31,         31,2,20060325,       1628,    49.0002,  -151.9993,       4980,   110.2,   5.3790,  32.6840,2,  32.6845,2,    311.7,2,   309.8,2,   21.80,6,   11.30,6,    0.10,6,    1.20,6,   4.754,2,   2.631,2,-999.000,5,  2051.0,2,  2200.0,2,    664.1,2,    20.00,   7.7759,2,    25.00,-999.000,9,-999.000,-999.0000,9,-999.000,9, -999.00,5,    -2.7,2,     2.7,-999.000,9,-999.000,   52.05,2,   15.92,2,  110.20,   0.1460,2,   0.0990,2,   0.0390,2,   0.0210,2,   0.0233,2,   0.0245,2,     -999.0,     -999.0,9,     -999.0,9,     -999.0,9,     -999.0,9,     -999.0,9,     -999.0,9,    6.67,2,   5.3706,-999.0000,-999.000
325020060213,       P16N,      70,          1,         30,         30,2,20060325,       1628,    49.0002,  -151.9993,       4980,   134.3,   5.0549,  33.4724,2,  33.4904,2,    218.5,2,   232.3,2,   36.70,6,   21.50,6,    0.00,6,    1.64,6,   4.369,2,   2.340,2,-999.000,5,  2148.4,2,  2246.4,2,   1005.5,2,    20.00,   7.6240,2,    25.00,-999.000,9,-999.000,-999.0000,9,-999.000,9, -999.00,5,   -19.6,2,     3.6,-999.000,9,-999.000,   51.99,2,   25.20,2,  134.30,   0.1500,2,   0.1040,2,   0.0460,2,   0.0280,2,   0.0194,2,   0.0214,2,     -999.0,     -999.0,9,     -999.0,9,     -999.0,9,     -999.0,9,     -999.0,9,     -999.0,9,    2.22,2,   5.0447,-999.0000,-999.000
325020060213,       P16N,      70,          1,         29,         29,2,20060325,       1628,    49.0002,  -151.9993,       4980,   175.2,   4.5522,  33.7237,2,  33.7259,2,    163.9,2,   162.4,2,   55.00,2,   29.20,2,    0.00,2,    2.17,2,   3.610,2,   1.887,2,-999.000,5,  2212.6,2,  2269.5,6,   1409.7,2,    20.00,   7.4879,2,    25.00,-999.000,9,-999.000,-999.0000,9,-999.000,9, -999.00,5,   -75.0,3,     3.1,-999.000,9,-999.000,   49.36,2,   33.19,2,  175.20,   0.1750,2,   0.1240,2,   0.0600,2,   0.0390,2,   0.0171,2,   0.0188,2,     -999.0,     -999.0,9,     -999.0,9,     -999.0,9,     -999.0,9,     -999.0,9,     -999.0,9,    0.55,2,   4.5395,-999.0000,-999.000
325020060213,       P16N,      70,          1,         28,         28,2,20060325,       1628,    49.0002,  -151.9993,       4980,   224.6,   4.2712,  33.8041,2,  33.8056,2,    114.1,2,   111.7,2,   68.50,2,   34.50,2,    0.00,2,    2.42,2,   2.948,2,   1.494,2,-999.000,5,  2253.1,2,  2280.4,2,   1800.4,2,    20.00,   7.3902,2,    25.00,-999.000,9,-999.000,-999.0000,9,-999.000,9, -999.00,5,   -48.7,3,     3.1,-999.000,9,-999.000,   47.68,2,   38.46,2,  224.60,   0.1890,2,   0.1350,2,   0.0680,2,   0.0460,2,   0.0160,2,   0.0176,2,     -999.0,     -999.0,9,     -999.0,9,     -999.0,9,     -999.0,9,     -999.0,9,     -999.0,9, -999.00,9,   4.2553,-999.0000,-999.000
325020060213,       P16N,      70,          1,         27,         27,2,20060325,       1628,    49.0002,  -151.9993,       4980,   275.7,   4.1945,  33.8768,2,  33.8780,2,     81.8,2,    80.0,2,   77.90,2,   37.60,2,    0.00,2,    2.61,2,   2.433,2,   1.227,2,-999.000,5,  2278.5,2,  2290.5,2,   2057.0,6,    20.00,   7.3380,2,    25.00,-999.000,9,-999.000,-999.0000,9,-999.000,9, -999.00,5,   -84.6,2,     3.8,-999.000,9,-999.000,   45.29,2,   42.09,2,  275.70,   0.1950,2,   0.1400,2,   0.0720,2,   0.0490,2,   0.0155,2,   0.0170,2,     -999.0,     -999.0,9,     -999.0,9,     -999.0,9,     -999.0,9,     -999.0,9,     -999.0,9, -999.00,9,   4.1750,-999.0000,-999.000
325020060213,       P16N,      70,          1,         26,         26,2,20060325,       1628,    49.0002,  -151.9993,       4980,   324.5,   4.1698,  33.9435,2,  33.9417,2,     62.8,2,    61.9,2,   84.60,2,   39.40,2,    0.00,2,    2.71,2,   2.050,2,   1.020,2,-999.000,5,  2294.5,2,  2298.1,2,   2214.4,2,    20.00,   7.3122,2,    25.00,-999.000,9,-999.000,-999.0000,9,-999.000,9, -999.00,5,  -102.1,2,     2.6,-999.000,9,-999.000,   44.36,2,   43.03,2,  324.50,   0.1960,2,   0.1410,2,   0.0740,2,   0.0520,2,   0.0150,2,   0.0165,2,    480.818,    32.9617,2,    68.7657,2,    98.4716,2,    154.856,2,    84.0325,2,    41.7309,2, -999.00,9,   4.1468,-999.0000,-999.000
325020060213,       P16N,      70,          1,         25,         25,2,20060325,       1628,    49.0002,  -151.9993,       4980,   375.5,   4.0585,  34.0078,2,  34.0068,2,     46.1,2,    46.3,2,   93.00,2,   41.10,2,    0.00,2,    2.84,2,   1.608,2,   0.789,2,-999.000,5,  2310.7,2,  2310.0,2,   2345.2,3,    20.00,   7.2959,2,    25.00,-999.000,9,-999.000,-999.0000,9,-999.000,9, -999.00,5,  -115.3,2,     2.7,-999.000,9,-999.000,   43.06,2,   44.84,2,  375.50,   0.1970,2,   0.1420,2,   0.0750,2,   0.0520,2,   0.0149,2,   0.0164,2,     -999.0,     -999.0,9,     -999.0,9,     -999.0,9,     -999.0,9,     -999.0,9,     -999.0,9, -999.00,9,   4.0320,-999.0000,-999.000
325020060213,       P16N,      70,          1,         24,         24,2,20060325,       1628,    49.0002,  -151.9993,       4980,   424.8,   3.9368,  34.0450,2,  34.0436,2,     35.9,2,    36.7,2,   99.00,2,   41.80,2,    0.00,2,    2.90,2,   1.338,2,   0.649,2,-999.000,5,  2321.6,2,  2316.4,2,   2406.5,2,    20.00,   7.2789,2,    25.00,-999.000,9,-999.000,-999.0000,9,-999.000,9, -999.00,5,  -130.9,2,     2.9,-999.000,9,-999.000,   42.59,2,   46.31,2,  424.80,   0.2010,2,   0.1460,2,   0.0780,2,   0.0560,2,   0.0145,2,   0.0158,2,     -999.0,     -999.0,9,     -999.0,9,     -999.0,9,     -999.0,9,     -999.0,9,     -999.0,9, -999.00,9,   3.9071,-999.0000,-999.000
325020060213,       P16N,      70,          1,         23,         23,2,20060325,       1628,    49.0002,  -151.9993,       4980,   475.3,   3.8357,  34.0817,2,  34.0778,2,     31.6,2,    31.6,2,  103.70,2,   42.50,2,    0.00,2,    2.93,2,   1.124,2,   0.521,2,-999.000,5,  2328.9,2,  2322.0,2,   2442.3,2,    20.00,   7.2761,2,    25.00,-999.000,9,-999.000,-999.0000,9,-999.000,9, -999.00,5,  -137.2,2,     2.7,-999.000,9,-999.000,   41.65,2,   46.18,2,  475.30,   0.1980,2,   0.1430,2,   0.0770,2,   0.0550,2,   0.0144,2,   0.0157,2,     -999.0,     -999.0,9,     -999.0,9,     -999.0,9,     -999.0,9,     -999.0,9,     -999.0,9, -999.00,9,   3.8026,-999.0000,-999.000
325020060213,       P16N,      70,          1,         22,         22,2,20060325,       1628,    49.0002,  -151.9993,       4980,   550.2,   3.6523,  34.1423,2,  34.1415,2,     25.3,2,    24.4,2,  112.30,2,   43.00,2,    0.00,2,    2.97,2,   0.782,2,   0.386,2,-999.000,5,  2341.5,2,  2331.9,2,   -999.0,9,  -999.00,   7.2775,2,    25.00,-999.000,9,-999.000,-999.0000,9,-999.000,9, -999.00,5,  -156.8,2,     2.8,-999.000,9,-999.000,   39.80,2,   46.98,2,  550.20,   0.1980,2,   0.1440,2,   0.0780,2,   0.0560,2,   0.0142,2,   0.0154,2,     -999.0,     -999.0,9,     -999.0,9,     -999.0,9,     -999.0,9,     -999.0,9,     -999.0,9, -999.00,9,   3.6144,-999.0000,-999.000
325020060213,       P16N,      70,          1,         21,         21,2,20060325,       1628,    49.0002,  -151.9993,       4980,   650.4,   3.4641,  34.2138,2,  34.2131,2,     21.5,2,    21.2,2,  121.30,2,   43.10,2,    0.00,2,    3.00,2,   0.478,2,   0.218,2,-999.000,5,  2352.2,2,  2344.7,2,   -999.0,9,  -999.00,   7.2770,2,    25.00,-999.000,9,-999.000,-999.0000,9,-999.000,9, -999.00,5,  -172.5,2,     2.7,-999.000,9,-999.000,   38.99,2,   47.46,2,  650.40,   0.1960,2,   0.1430,2,   0.0790,2,   0.0570,2,   0.0138,2,   0.0151,3,     -999.0,     -999.0,9,     -999.0,9,     -999.0,9,     -999.0,9,     -999.0,9,     -999.0,9, -999.00,9,   3.4197,-999.0000,-999.000
325020060213,       P16N,      70,          1,         20,         20,2,20060325,       1628,    49.0002,  -151.9993,       4980,   749.2,   3.3018,  34.2697,2,  34.2677,2,     21.2,2,    20.7,2,  128.10,2,   43.20,2,    0.00,2,    2.99,2,   0.305,6,   0.141,6,-999.000,5,  2357.9,2,  2356.9,2,   -999.0,9,  -999.00,   7.2914,2,    25.00,-999.000,9,-999.000,-999.0000,9,-999.000,9, -999.00,5,  -181.2,2,     2.6,-999.000,9,-999.000,   37.98,2,   47.46,2,  749.20,   0.1940,2,   0.1410,2,   0.0780,2,   0.0570,2,   0.0137,2,   0.0150,3,     -999.0,     -999.0,9,     -999.0,9,     -999.0,9,     -999.0,9,     -999.0,9,     -999.0,9, -999.00,9,   3.2510,-999.0000,-999.000
325020060213,       P16N,      70,          1,         19,         19,2,20060325,       1628,    49.0002,  -151.9993,       4980,   850.8,   3.1471,  34.3195,2,  34.3195,2,     20.4,2,    24.0,3,  134.10,6,   43.30,6,    0.00,6,    3.02,6,   0.165,2,   0.081,2,-999.000,5,  2365.2,2,  2366.3,2,   -999.0,9,  -999.00,   7.2976,2,    25.00,-999.000,9,-999.000,-999.0000,9,-999.000,9, -999.00,5,  -191.8,2,     4.6,-999.000,9,-999.000,   37.68,2,   47.25,2,  850.80,   0.1900,2,   0.1380,2,   0.0770,2,   0.0570,2,   0.0135,2,   0.0148,3,     -999.0,     -999.0,9,     -999.0,9,     -999.0,9,     -999.0,9,     -999.0,9,     -999.0,9, -999.00,9,   3.0896,-999.0000,-999.000
325020060213,       P16N,      70,          1,         18,         18,2,20060325,       1628,    49.0002,  -151.9993,       4980,   950.2,   2.9736,  34.3633,2,  34.3606,2,     20.8,2,    20.7,2,  139.70,2,   43.50,2,    0.00,2,    3.03,2,   0.101,2,   0.049,2,-999.000,5,  2371.7,2,  2374.8,6,   -999.0,9,  -999.00,   7.3055,6,    25.00,-999.000,9,-999.000,-999.0000,9,-999.000,9, -999.00,9,  -999.0,9,    -9.0,-999.000,9,-999.000,   37.85,2,   47.78,2,  950.20,   0.1840,2,   0.1330,2,   0.0740,2,   0.0540,2,   0.0134,2,   0.0149,3,     -999.0,     -999.0,9,     -999.0,9,     -999.0,9,     -999.0,9,     -999.0,9,     -999.0,9, -999.00,9,   2.9099,-999.0000,-999.000
325020060213,       P16N,      70,          1,         17,         17,2,20060325,       1628,    49.0002,  -151.9993,       4980,  1101.0,   2.7607,  34.4104,2,  34.4096,2,     20.2,2,    20.0,2,  147.20,2,   43.50,2,    0.00,2,    3.05,2,   0.050,2,   0.029,2,-999.000,5,  2380.0,2,  2382.6,2,   -999.0,9,  -999.00,   7.3088,2,    25.00,-999.000,9,-999.000,-999.0000,9,-999.000,9, -999.00,9,  -999.0,9,    -9.0,-999.000,9,-999.000,   37.89,2,   47.72,2, 1101.00,   0.1830,2,   0.1310,2,   0.0730,2,   0.0540,2,   0.0133,3,   0.0148,3,     -999.0,     -999.0,9,     -999.0,9,     -999.0,9,     -999.0,9,     -999.0,9,     -999.0,9, -999.00,9,   2.6873,-999.0000,-999.000
325020060213,       P16N,      70,          1,         16,         16,2,20060325,       1628,    49.0002,  -151.9993,       4980,  1301.0,   2.5139,  34.4644,2,  34.4641,2,     19.2,2,    18.5,2,  156.30,2,   44.20,2,    0.00,2,    3.08,2,   0.004,2,   0.012,2,-999.000,5,  2390.6,2,  2394.0,2,   -999.0,9,  -999.00,   7.3086,2,    25.00,-999.000,9,-999.000,-999.0000,9,-999.000,9, -999.00,9,  -999.0,9,    -9.0,-999.000,9,-999.000,   37.72,2,   47.44,2, 1301.00,   0.1840,2,   0.1330,2,   0.0740,2,   0.0550,2,   0.0131,3,   0.0145,3,     -999.0,     -999.0,9,     -999.0,9,     -999.0,9,     -999.0,9,     -999.0,9,     -999.0,9, -999.00,9,   2.4275,-999.0000,-999.000
325020060213,       P16N,      70,          1,         15,         15,2,20060325,       1628,    49.0002,  -151.9993,       4980,  1501.1,   2.3340,  34.5079,2,  34.5055,2,     18.2,2,    18.7,2,  162.50,2,   44.20,2,    0.00,2,    3.08,2,   0.001,2,   0.003,2,-999.000,5,  2397.7,6,  2402.1,2,   -999.0,9,  -999.00,   7.3181,2,    25.00,-999.000,9,-999.000,-999.0000,9,-999.000,9, -999.00,9,  -999.0,9,    -9.0,-999.000,9,-999.000,   37.17,2,   47.72,2, 1501.10,   0.1810,2,   0.1300,2,   0.0730,2,   0.0550,2,   0.0129,3,   0.0145,3,     -999.0,     -999.0,9,     -999.0,9,     -999.0,9,     -999.0,9,     -999.0,9,     -999.0,9, -999.00,9,   2.2340,-999.0000,-999.000
325020060213,       P16N,      70,          1,         14,         14,2,20060325,       1628,    49.0002,  -151.9993,       4980,  1700.2,   2.1494,  34.5450,2,  34.5441,2,     30.6,2,    18.5,4,  166.80,6,   43.70,6,    0.00,6,    3.04,6,-999.000,9,-999.000,9,-999.000,9,  2395.4,2,  2409.1,2,   2148.5,2,    20.00,   7.3405,2,    25.00,-999.000,9,-999.000,-999.0000,9,-999.000,9, -999.00,9,  -999.0,9,    -9.0,-999.000,9,-999.000,   38.31,2,   47.66,2, 1700.20,   0.1760,2,   0.1260,2,   0.0700,2,   0.0520,2,   0.0131,3,   0.0147,3,     -999.0,     -999.0,9,     -999.0,9,     -999.0,9,     -999.0,9,     -999.0,9,     -999.0,9, -999.00,9,   2.0357,-999.0000,-999.000
325020060213,       P16N,      70,          1,         13,         13,4,20060325,       1628,    49.0002,  -151.9993,       4980,  1899.7,   2.0054,  34.5746,2,  34.4348,4,     43.9,2,    30.9,4,  151.10,6,   43.70,6,    0.00,6,    3.07,6,   0.021,3,   0.019,3,-999.000,5,  2385.1,4,  2387.0,4,   2300.6,4,    20.00,   7.3113,4,    25.00,-999.000,9,-999.000,-999.0000,9,-999.000,9, -999.00,9,  -999.0,9,    -9.0,-999.000,9,-999.000,   38.38,2,   47.08,2, 1899.70,   0.1850,2,   0.1330,2,   0.0760,2,   0.0580,2,   0.0127,3,   0.0141,3,     -999.0,     -999.0,9,     -999.0,9,     -999.0,9,     -999.0,9,     -999.0,9,     -999.0,9, -999.00,9,   1.8774,-999.0000,-999.000
325020060213,       P16N,      70,          1,         12,         12,2,20060325,       1628,    49.0002,  -151.9993,       4980,  2125.3,   1.8893,  34.5987,2,  34.5976,2,     57.1,2,    57.1,2,  170.40,2,   41.90,6,    0.00,6,    2.94,6,-999.000,9,-999.000,9,-999.000,9,  2383.9,2,  2416.7,2,   1872.2,6,    20.00,   7.3978,2,    25.00,-999.000,9,-999.000,-999.0000,9,-999.000,9, -999.00,9,  -999.0,9,    -9.0,-999.000,9,-999.000,   38.41,2,   45.17,2, 2125.30,   0.1640,2,   0.1160,2,   0.0640,2,   0.0480,2,   0.0130,3,   0.0150,3,     -999.0,     -999.0,9,     -999.0,9,     -999.0,9,     -999.0,9,     -999.0,9,     -999.0,9, -999.00,9,   1.7442,-999.0000,-999.000
325020060213,       P16N,      70,          1,         11,         11,2,20060325,       1628,    49.0002,  -151.9993,       4980,  2375.3,   1.7730,  34.6208,2,  34.6200,2,     72.7,2,    72.6,2,  170.80,2,   40.50,2,    0.00,2,    2.86,2,-999.000,9,-999.000,9,-999.000,9,  2376.5,2,  2417.1,2,   1740.1,2,    20.00,   7.4298,2,    25.00,-999.000,9,-999.000,-999.0000,9,-999.000,9, -999.00,9,  -999.0,9,    -9.0,-999.000,9,-999.000,   37.68,2,   44.15,2, 2375.30,   0.1560,2,   0.1100,2,   0.0600,2,   0.0450,2,   0.0132,3,   0.0153,3,     -999.0,     -999.0,9,     -999.0,9,     -999.0,9,     -999.0,9,     -999.0,9,     -999.0,9, -999.00,9,   1.6082,-999.0000,-999.000
325020060213,       P16N,      70,          1,         10,         10,2,20060325,       1628,    49.0002,  -151.9993,       4980,  2625.2,   1.6903,  34.6367,2,  34.6346,2,     86.8,2,    87.0,2,  169.90,2,   39.40,2,    0.00,2,    2.80,2,  -0.002,2,   0.001,2,-999.000,5,  2368.5,2,  2420.8,2,   1642.7,2,    20.00,   7.4531,2,    25.00,-999.000,9,-999.000,-999.0000,9,-999.000,9, -999.00,9,  -999.0,9,    -9.0,-999.000,9,-999.000,   37.23,2,   42.88,2, 2625.20,   0.1530,2,   0.1070,2,   0.0580,2,   0.0440,2,   0.0131,3,   0.0153,3,     -999.0,     -999.0,9,     -999.0,9,     -999.0,9,     -999.0,9,     -999.0,9,     -999.0,9, -999.00,9,   1.5046,-999.0000,-999.000