BOTTLE,20170720CCHSIOCBG
EXPOCODE,SECT_ID,STNNBR,CASTNO,SAMPNO,BTLNBR,BTLNBR_FLAG_W,DATE,TIME,LATITUDE,LONGITUDE,DEPTH,CTDPRS,CTDTMP,CTDSAL,CTDSAL_FLAG_W,SALNTY,SALNTY_FLAG_W,CTDOXY,CTDOXY_FLAG_W,OXYGEN,OXYGEN_FLAG_W,SILCAT,SILCAT_FLAG_W,NITRAT,NITRAT_FLAG_W,NITRIT,NITRIT_FLAG_W,PHSPHT,PHSPHT_FLAG_W,CFC-11,CFC-11_FLAG_W,CFC-12,CFC-12_FLAG_W,CFC113,CFC113_FLAG_W,TCARBN,TCARBN_FLAG_W,ALKALI,ALKALI_FLAG_W,FCO2,FCO2_FLAG_W,FCO2TMP,PH_TOT,PH_TOT_FLAG_W,PH_TMP,TRITUM,TRITUM_FLAG_W,TRITER,HELIUM,HELIUM_FLAG_W,DELHE3,DELHE3_FLAG_W,DELC13,DELC13_FLAG_W,DELC14,DELC14_FLAG_W,C14ERR,NEON,NEON_FLAG_W,NEONER,DOC,DOC_FLAG_W,TDN,TDN_FLAG_W,CTDRAW,CDOM325,CDOM325_FLAG_W,CDOM340,CDOM340_FLAG_W,CDOM380,CDOM380_FLAG_W,CDOM412,CDOM412_FLAG_W,CDOMSL,CDOMSL_FLAG_W,CDOMSN,CDOMSN_FLAG_W,DCNS,ARABI,ARABI_FLAG_W,FUCO,FUCO_FLAG_W,GALA,GALA_FLAG_W,GLUC,GLUC_FLAG_W,MAN,MAN_FLAG_W,RHAM,RHAM_FLAG_W,BRDU,BRDU_FLAG_W,THETA,HELIER,DELHER
,,,,,,,,,,,METERS,DBAR,ITS-90,PSS-78,,PSS-78,,UMOL/KG,,UMOL/KG,,UMOL/KG,,UMOL/KG,,UMOL/KG,,UMOL/KG,,PMOL/KG,,PMOL/KG,,PMOL/KG,,UMOL/KG,,UMOL/KG,,UATM,,DEG C,,,DEG C,TU,,TU,NMOL/KG,,PERCNT,,/MILLE,,/MILLE,,/MILLE,NMOL/KG,,NMOL/KG,UMOL/KG,,UMOL/KG,,DBAR,1/M,,1/M,,1/M,,1/M,,1/NM,,1/NM,,NMOL/KG,NMOL/KG,,NMOL/KG,,NMOL/KG,,NMOL/KG,,NMOL/KG,,NMOL/KG,,PMOL/L/H,,DEG C,NMOL/KG,PERCNT
325020060213,       P16N,      82,          1,         25,         25,2,20060329,       2147,      56.01,  -153.0997,       1832,     4.4,   4.7598,  32.1695,2,  32.1735,2,    314.7,2,   316.1,2,   22.80,2,   11.70,2,    0.10,2,    1.26,2,-999.000,9,-999.000,9,-999.000,9,  -999.0,9,  -999.0,9,   -999.0,9,  -999.00,   7.7325,2,    25.00,-999.000,9,-999.000,-999.0000,9,-999.000,9, -999.00,9,  -999.0,9,    -9.0,-999.000,9,-999.000, -999.00,9, -999.00,9,    4.40,-999.0000,9,-999.0000,9,-999.0000,9,-999.0000,9,-999.0000,9,-999.0000,9,     -999.0,     -999.0,9,     -999.0,9,     -999.0,9,     -999.0,9,     -999.0,9,     -999.0,9, -999.00,9,   4.7595,-999.0000,-999.000
325020060213,       P16N,      82,          1,         24,         24,2,20060329,       2147,      56.01,  -153.0997,       1832,     4.6,   4.7539,  32.1699,2,  32.1741,2,    314.7,2,   316.1,2,   22.70,2,   11.60,2,    0.10,2,    1.26,2,   4.852,2,   2.701,2,-999.000,5,  2038.7,6,  2165.5,2,   -999.0,9,  -999.00,   7.7295,2,    25.00,-999.000,9,-999.000,-999.0000,9,-999.000,9, -999.00,9,  -999.0,9,    -9.0,-999.000,9,-999.000, -999.00,9, -999.00,9,    4.60,-999.0000,9,-999.0000,9,-999.0000,9,-999.0000,9,-999.0000,9,-999.0000,9,     -999.0,     -999.0,9,     -999.0,9,     -999.0,9,     -999.0,9,     -999.0,9,     -999.0,9, -999.00,9,   4.7535,-999.0000,-999.000
325020060213,       P16N,      82,          1,         26,         26,2,20060329,       2147,      56.01,  -153.0997,       1832,     4.7,   4.7620,  32.1695,2,  32.1753,2,    314.7,2,   316.1,2,   22.80,2,   11.60,2,    0.10,2,    1.26,2,-999.000,9,-999.000,9,-999.000,9,  -999.0,9,  -999.0,9,   -999.0,9,  -999.00,   7.7303,2,    25.00,-999.000,9,-999.000,-999.0000,9,-999.000,9, -999.00,9,  -999.0,9,    -9.0,-999.000,9,-999.000, -999.00,9, -999.00,9,    4.70,-999.0000,9,-999.0000,9,-999.0000,9,-999.0000,9,-999.0000,9,-999.0000,9,     -999.0,     -999.0,9,     -999.0,9,     -999.0,9,     -999.0,9,     -999.0,9,     -999.0,9, -999.00,9,   4.7617,-999.0000,-999.000
325020060213,       P16N,      82,          1,         23,         23,2,20060329,       2147,      56.01,  -153.0997,       1832,    15.0,   4.6849,  32.2186,2,  32.2363,2,    311.4,2,   308.9,2,   23.30,2,   12.40,2,    0.10,2,    1.31,2,   4.748,2,   2.682,2,-999.000,5,  2047.7,2,  2166.9,2,   -999.0,9,  -999.00,   7.7174,2,    25.00,-999.000,9,-999.000,-999.0000,9,-999.000,9, -999.00,9,  -999.0,9,    -9.0,-999.000,9,-999.000, -999.00,9, -999.00,9,   15.00,-999.0000,9,-999.0000,9,-999.0000,9,-999.0000,9,-999.0000,9,-999.0000,9,     -999.0,     -999.0,9,     -999.0,9,     -999.0,9,     -999.0,9,     -999.0,9,     -999.0,9, -999.00,9,   4.6838,-999.0000,-999.000
325020060213,       P16N,      82,          1,         22,         22,2,20060329,       2147,      56.01,  -153.0997,       1832,    34.5,   4.7258,  32.3375,2,  32.3622,2,    304.1,2,   313.8,2,   21.30,2,   11.20,2,    0.10,2,    1.25,2,-999.000,9,-999.000,9,-999.000,9,  2044.5,2,  -999.0,5,   -999.0,9,  -999.00,   7.7386,2,    25.00,-999.000,9,-999.000,-999.0000,9,-999.000,9, -999.00,9,  -999.0,9,    -9.0,-999.000,9,-999.000, -999.00,9, -999.00,9,   34.50,-999.0000,9,-999.0000,9,-999.0000,9,-999.0000,9,-999.0000,9,-999.0000,9,     -999.0,     -999.0,9,     -999.0,9,     -999.0,9,     -999.0,9,     -999.0,9,     -999.0,9, -999.00,9,   4.7234,-999.0000,-999.000
325020060213,       P16N,      82,          1,         21,         21,2,20060329,       2147,      56.01,  -153.0997,       1832,    60.1,   4.5934,  32.4450,2,  32.4549,2,    307.1,2,   314.7,2,   22.40,2,   11.30,6,    0.10,6,    1.22,2,-999.000,9,-999.000,9,-999.000,9,  2048.2,2,  2181.0,2,   -999.0,9,  -999.00,   7.7391,2,    25.00,-999.000,9,-999.000,-999.0000,9,-999.000,9, -999.00,9,  -999.0,9,    -9.0,-999.000,9,-999.000, -999.00,9, -999.00,9,   60.10,-999.0000,9,-999.0000,9,-999.0000,9,-999.0000,9,-999.0000,9,-999.0000,9,     -999.0,     -999.0,9,     -999.0,9,     -999.0,9,     -999.0,9,     -999.0,9,     -999.0,9, -999.00,9,   4.5892,-999.0000,-999.000
325020060213,       P16N,      82,          1,         20,         20,2,20060329,       2147,      56.01,  -153.0997,       1832,    85.7,   4.7952,  32.5884,2,  32.5939,2,    285.1,2,   285.0,2,   25.00,2,   14.30,2,    0.10,2,    1.43,2,-999.000,9,-999.000,9,-999.000,9,  2073.2,2,  2187.8,2,   -999.0,9,  -999.00,   7.6901,2,    25.00,-999.000,9,-999.000,-999.0000,9,-999.000,9, -999.00,9,  -999.0,9,    -9.0,-999.000,9,-999.000, -999.00,9, -999.00,9,   85.70,-999.0000,9,-999.0000,9,-999.0000,9,-999.0000,9,-999.0000,9,-999.0000,9,     -999.0,     -999.0,9,     -999.0,9,     -999.0,9,     -999.0,9,     -999.0,9,     -999.0,9, -999.00,9,   4.7891,-999.0000,-999.000
325020060213,       P16N,      82,          1,         19,         19,2,20060329,       2147,      56.01,  -153.0997,       1832,    94.9,   4.2724,  32.5942,2,  32.6203,2,    262.1,2,   278.8,2,   23.40,2,   13.50,2,    0.20,2,    1.38,2,-999.000,9,-999.000,9,-999.000,9,  2065.8,2,  2199.2,2,   -999.0,9,  -999.00,   7.7093,2,    25.00,-999.000,9,-999.000,-999.0000,9,-999.000,9, -999.00,9,  -999.0,9,    -9.0,-999.000,9,-999.000, -999.00,9, -999.00,9,   94.90,-999.0000,9,-999.0000,9,-999.0000,9,-999.0000,9,-999.0000,9,-999.0000,9,     -999.0,     -999.0,9,     -999.0,9,     -999.0,9,     -999.0,9,     -999.0,9,     -999.0,9, -999.00,9,   4.2659,-999.0000,-999.000
325020060213,       P16N,      82,          1,         18,         18,2,20060329,       2147,      56.01,  -153.0997,       1832,   110.5,   5.2287,  32.9394,2,  33.0179,2,    215.8,2,   210.7,2,   36.10,2,   21.30,2,    0.00,2,    1.76,2,-999.000,9,-999.000,9,-999.000,9,  2133.7,2,  2213.2,2,   -999.0,9,  -999.00,   7.5848,6,    25.00,-999.000,9,-999.000,-999.0000,9,-999.000,9, -999.00,9,  -999.0,9,    -9.0,-999.000,9,-999.000, -999.00,9, -999.00,9,  110.50,-999.0000,9,-999.0000,9,-999.0000,9,-999.0000,9,-999.0000,9,-999.0000,9,     -999.0,     -999.0,9,     -999.0,9,     -999.0,9,     -999.0,9,     -999.0,9,     -999.0,9, -999.00,9,   5.2203,-999.0000,-999.000
325020060213,       P16N,      82,          1,         17,         17,2,20060329,       2147,      56.01,  -153.0997,       1832,   134.4,   6.0227,  33.4288,2,  33.4482,2,    148.3,2,   147.6,2,   45.10,6,   27.60,6,    0.00,6,    2.04,6,-999.000,9,-999.000,9,-999.000,9,  2187.6,6,  2240.3,6,   -999.0,9,  -999.00,   7.4889,2,    25.00,-999.000,9,-999.000,-999.0000,9,-999.000,9, -999.00,9,  -999.0,9,    -9.0,-999.000,9,-999.000, -999.00,9, -999.00,9,  134.40,-999.0000,9,-999.0000,9,-999.0000,9,-999.0000,9,-999.0000,9,-999.0000,9,     -999.0,     -999.0,9,     -999.0,9,     -999.0,9,     -999.0,9,     -999.0,9,     -999.0,9, -999.00,9,   6.0115,-999.0000,-999.000
325020060213,       P16N,      82,          1,         16,         16,2,20060329,       2147,      56.01,  -153.0997,       1832,   174.8,   5.8104,  33.7142,2,  33.7248,2,    113.2,2,   112.2,2,   52.90,2,   31.70,2,    0.00,2,    2.28,2,-999.000,9,-999.000,9,-999.000,9,  -999.0,9,  -999.0,9,   -999.0,9,  -999.00,   7.4248,2,    25.00,-999.000,9,-999.000,-999.0000,9,-999.000,9, -999.00,9,  -999.0,9,    -9.0,-999.000,9,-999.000, -999.00,9, -999.00,9,  174.80,-999.0000,9,-999.0000,9,-999.0000,9,-999.0000,9,-999.0000,9,-999.0000,9,     -999.0,     -999.0,9,     -999.0,9,     -999.0,9,     -999.0,9,     -999.0,9,     -999.0,9, -999.00,9,   5.7960,-999.0000,-999.000
325020060213,       P16N,      82,          1,         15,         15,2,20060329,       2147,      56.01,  -153.0997,       1832,   224.7,   5.4917,  33.8203,2,  33.8360,2,     95.0,2,    91.8,2,   60.20,2,   34.80,2,    0.00,2,    2.45,2,-999.000,9,-999.000,9,-999.000,9,  -999.0,9,  -999.0,9,   -999.0,9,  -999.00,   7.3821,2,    25.00,-999.000,9,-999.000,-999.0000,9,-999.000,9, -999.00,9,  -999.0,9,    -9.0,-999.000,9,-999.000, -999.00,9, -999.00,9,  224.70,-999.0000,9,-999.0000,9,-999.0000,9,-999.0000,9,-999.0000,9,-999.0000,9,     -999.0,     -999.0,9,     -999.0,9,     -999.0,9,     -999.0,9,     -999.0,9,     -999.0,9, -999.00,9,   5.4736,-999.0000,-999.000
325020060213,       P16N,      82,          1,         14,         14,2,20060329,       2147,      56.01,  -153.0997,       1832,   275.4,   5.0407,  33.8951,2,  33.8986,2,     68.8,2,    69.5,2,   69.30,2,   37.80,2,    0.00,2,    2.65,2,-999.000,9,-999.000,9,-999.000,9,  -999.0,9,  -999.0,9,   -999.0,9,  -999.00,   7.3326,2,    25.00,-999.000,9,-999.000,-999.0000,9,-999.000,9, -999.00,9,  -999.0,9,    -9.0,-999.000,9,-999.000, -999.00,9, -999.00,9,  275.40,-999.0000,9,-999.0000,9,-999.0000,9,-999.0000,9,-999.0000,9,-999.0000,9,     -999.0,     -999.0,9,     -999.0,9,     -999.0,9,     -999.0,9,     -999.0,9,     -999.0,9, -999.00,9,   5.0194,-999.0000,-999.000
325020060213,       P16N,      82,          1,         13,         13,2,20060329,       2147,      56.01,  -153.0997,       1832,   324.9,   4.7109,  33.9355,2,  33.9017,4,     53.8,2,    69.4,2,   69.00,2,   37.80,2,    0.00,2,    2.64,2,-999.000,9,-999.000,9,-999.000,9,  -999.0,9,  -999.0,9,   -999.0,9,  -999.00,   7.3345,3,    25.00,-999.000,9,-999.000,-999.0000,9,-999.000,9, -999.00,9,  -999.0,9,    -9.0,-999.000,9,-999.000, -999.00,9, -999.00,9,  324.90,-999.0000,9,-999.0000,9,-999.0000,9,-999.0000,9,-999.0000,9,-999.0000,9,     -999.0,     -999.0,9,     -999.0,9,     -999.0,9,     -999.0,9,     -999.0,9,     -999.0,9, -999.00,9,   4.6865,-999.0000,-999.000
325020060213,       P16N,      82,          1,         12,         12,2,20060329,       2147,      56.01,  -153.0997,       1832,   375.3,   4.4491,  33.9777,2,  33.9858,2,     42.2,2,    41.2,2,   84.20,2,   41.50,2,    0.00,2,    2.89,2,-999.000,9,-999.000,9,-999.000,9,  -999.0,9,  -999.0,9,   -999.0,9,  -999.00,   7.2799,2,    25.00,-999.000,9,-999.000,-999.0000,9,-999.000,9, -999.00,9,  -999.0,9,    -9.0,-999.000,9,-999.000, -999.00,9, -999.00,9,  375.30,-999.0000,9,-999.0000,9,-999.0000,9,-999.0000,9,-999.0000,9,-999.0000,9,     -999.0,     -999.0,9,     -999.0,9,     -999.0,9,     -999.0,9,     -999.0,9,     -999.0,9, -999.00,9,   4.4215,-999.0000,-999.000
325020060213,       P16N,      82,          1,         11,         11,2,20060329,       2147,      56.01,  -153.0997,       1832,   473.3,   4.1606,  34.0576,2,  34.0655,2,     27.4,2,    26.7,2,   95.70,2,   42.90,2,    0.00,2,    3.00,2,-999.000,9,-999.000,9,-999.000,9,  -999.0,9,  -999.0,9,   -999.0,9,  -999.00,   7.2694,2,    25.00,-999.000,9,-999.000,-999.0000,9,-999.000,9, -999.00,9,  -999.0,9,    -9.0,-999.000,9,-999.000, -999.00,9, -999.00,9,  473.30,-999.0000,9,-999.0000,9,-999.0000,9,-999.0000,9,-999.0000,9,-999.0000,9,     -999.0,     -999.0,9,     -999.0,9,     -999.0,9,     -999.0,9,     -999.0,9,     -999.0,9, -999.00,9,   4.1264,-999.0000,-999.000
325020060213,       P16N,      82,          1,         10,         10,2,20060329,       2147,      56.01,  -153.0997,       1832,   550.0,   3.9843,  34.1115,2,  34.1164,2,     21.6,2,    21.3,2,  103.70,2,   43.20,2,    0.00,2,    3.06,2,-999.000,9,-999.000,9,-999.000,9,  -999.0,9,  -999.0,9,   -999.0,9,  -999.00,   7.2647,2,    25.00,-999.000,9,-999.000,-999.0000,9,-999.000,9, -999.00,9,  -999.0,9,    -9.0,-999.000,9,-999.000, -999.00,9, -999.00,9,  550.00,-999.0000,9,-999.0000,9,-999.0000,9,-999.0000,9,-999.0000,9,-999.0000,9,     -999.0,     -999.0,9,     -999.0,9,     -999.0,9,     -999.0,9,     -999.0,9,     -999.0,9, -999.00,9,   3.9450,-999.0000,-999.000
325020060213,       P16N,      82,          1,          9,          9,2,20060329,       2147,      56.01,  -153.0997,       1832,   650.2,   3.7699,  34.1758,2,  34.1792,2,     17.3,2,    17.4,2,  112.60,2,   43.60,2,    0.00,2,    3.10,2,-999.000,9,-999.000,9,-999.000,9,  -999.0,9,  -999.0,9,   -999.0,9,  -999.00,-999.0000,9,  -999.00,-999.000,9,-999.000,-999.0000,9,-999.000,9, -999.00,9,  -999.0,9,    -9.0,-999.000,9,-999.000, -999.00,9, -999.00,9,  650.20,-999.0000,9,-999.0000,9,-999.0000,9,-999.0000,9,-999.0000,9,-999.0000,9,     -999.0,     -999.0,9,     -999.0,9,     -999.0,9,     -999.0,9,     -999.0,9,     -999.0,9, -999.00,9,   3.7239,-999.0000,-999.000
325020060213,       P16N,      82,          1,          8,          8,2,20060329,       2147,      56.01,  -153.0997,       1832,   750.0,   3.5408,  34.2291,2,  34.2315,2,     15.4,2,    15.7,2,  121.20,2,   43.80,2,    0.00,2,    3.13,2,-999.000,9,-999.000,9,-999.000,9,  -999.0,9,  -999.0,9,   -999.0,9,  -999.00,-999.0000,9,  -999.00,-999.000,9,-999.000,-999.0000,9,-999.000,9, -999.00,9,  -999.0,9,    -9.0,-999.000,9,-999.000, -999.00,9, -999.00,9,  750.00,-999.0000,9,-999.0000,9,-999.0000,9,-999.0000,9,-999.0000,9,-999.0000,9,     -999.0,     -999.0,9,     -999.0,9,     -999.0,9,     -999.0,9,     -999.0,9,     -999.0,9, -999.00,9,   3.4885,-999.0000,-999.000
325020060213,       P16N,      82,          1,          7,          7,2,20060329,       2147,      56.01,  -153.0997,       1832,   850.0,   3.3405,  34.2784,2,  34.2859,4,     15.9,2,    16.1,2,  128.80,2,   43.80,2,    0.00,2,    3.13,2,-999.000,9,-999.000,9,-999.000,9,  -999.0,9,  -999.0,9,   -999.0,9,  -999.00,-999.0000,9,  -999.00,-999.000,9,-999.000,-999.0000,9,-999.000,9, -999.00,9,  -999.0,9,    -9.0,-999.000,9,-999.000, -999.00,9, -999.00,9,  850.00,-999.0000,9,-999.0000,9,-999.0000,9,-999.0000,9,-999.0000,9,-999.0000,9,     -999.0,     -999.0,9,     -999.0,9,     -999.0,9,     -999.0,9,     -999.0,9,     -999.0,9, -999.00,9,   3.2818,-999.0000,-999.000
325020060213,       P16N,      82,          1,          6,          6,2,20060329,       2147,      56.01,  -153.0997,       1832,   950.0,   3.1690,  34.3229,2,  34.3265,3,     15.0,2,    15.3,2,  134.90,2,   43.90,2,    0.00,2,    3.16,2,-999.000,9,-999.000,9,-999.000,9,  -999.0,9,  -999.0,9,   -999.0,9,  -999.00,-999.0000,9,  -999.00,-999.000,9,-999.000,-999.0000,9,-999.000,9, -999.00,9,  -999.0,9,    -9.0,-999.000,9,-999.000, -999.00,9, -999.00,9,  950.00,-999.0000,9,-999.0000,9,-999.0000,9,-999.0000,9,-999.0000,9,-999.0000,9,     -999.0,     -999.0,9,     -999.0,9,     -999.0,9,     -999.0,9,     -999.0,9,     -999.0,9, -999.00,9,   3.1039,-999.0000,-999.000
325020060213,       P16N,      82,          1,          5,          5,2,20060329,       2147,      56.01,  -153.0997,       1832,  1100.2,   2.9320,  34.3757,2,  34.3786,3,     14.8,2,    14.7,2,  143.40,2,   44.00,2,    0.00,2,    3.18,2,   0.065,2,   0.034,2,-999.000,5,  -999.0,9,  -999.0,9,   -999.0,9,  -999.00,-999.0000,9,  -999.00,-999.000,9,-999.000,-999.0000,9,-999.000,9, -999.00,9,  -999.0,9,    -9.0,-999.000,9,-999.000, -999.00,9, -999.00,9, 1100.20,-999.0000,9,-999.0000,9,-999.0000,9,-999.0000,9,-999.0000,9,-999.0000,9,     -999.0,     -999.0,9,     -999.0,9,     -999.0,9,     -999.0,9,     -999.0,9,     -999.0,9, -999.00,9,   2.8572,-999.0000,-999.000
325020060213,       P16N,      82,          1,          4,          4,2,20060329,       2147,      56.01,  -153.0997,       1832,  1299.3,   2.6358,  34.4365,2,  34.4416,4,     18.5,2,    18.3,2,  152.80,6,   44.50,6,    0.00,6,    3.16,6,   0.031,3,   0.005,2,-999.000,5,  -999.0,9,  -999.0,9,   -999.0,9,  -999.00,-999.0000,9,  -999.00,-999.000,9,-999.000,-999.0000,9,-999.000,9, -999.00,9,  -999.0,9,    -9.0,-999.000,9,-999.000, -999.00,9, -999.00,9, 1299.30,-999.0000,9,-999.0000,9,-999.0000,9,-999.0000,9,-999.0000,9,-999.0000,9,     -999.0,     -999.0,9,     -999.0,9,     -999.0,9,     -999.0,9,     -999.0,9,     -999.0,9, -999.00,9,   2.5483,-999.0000,-999.000
325020060213,       P16N,      82,          1,          3,          3,2,20060329,       2147,      56.01,  -153.0997,       1832,  1499.3,   2.3821,  34.4901,2,  34.4933,3,     25.8,2,    24.9,2,  160.30,6,   43.90,6,    0.00,6,    3.13,6,   0.016,2,   0.013,2,-999.000,5,  -999.0,9,  -999.0,9,   -999.0,9,  -999.00,-999.0000,9,  -999.00,-999.000,9,-999.000,-999.0000,9,-999.000,9, -999.00,9,  -999.0,9,    -9.0,-999.000,9,-999.000, -999.00,9, -999.00,9, 1499.30,-999.0000,9,-999.0000,9,-999.0000,9,-999.0000,9,-999.0000,9,-999.0000,9,     -999.0,     -999.0,9,     -999.0,9,     -999.0,9,     -999.0,9,     -999.0,9,     -999.0,9, -999.00,9,   2.2817,-999.0000,-999.000
325020060213,       P16N,      82,          1,          2,          2,2,20060329,       2147,      56.01,  -153.0997,       1832,  1700.6,   2.1976,  34.5303,2,  34.5361,4,     35.3,2,    34.6,2,  164.40,6,   43.40,6,    0.00,6,    3.11,6,  -0.004,2,   0.008,2,-999.000,5,  -999.0,9,  -999.0,9,   -999.0,9,  -999.00,-999.0000,9,  -999.00,-999.000,9,-999.000,-999.0000,9,-999.000,9, -999.00,9,  -999.0,9,    -9.0,-999.000,9,-999.000, -999.00,9, -999.00,9, 1700.60,-999.0000,9,-999.0000,9,-999.0000,9,-999.0000,9,-999.0000,9,-999.0000,9,     -999.0,     -999.0,9,     -999.0,9,     -999.0,9,     -999.0,9,     -999.0,9,     -999.0,9, -999.00,9,   2.0833,-999.0000,-999.000
325020060213,       P16N,      82,          1,          1,          1,2,20060329,       2147,      56.01,  -153.0997,       1832,  1808.3,   2.0964,  34.5505,2,  34.5547,3,     42.8,2,    40.5,2,  166.30,6,   42.70,6,    0.00,6,    3.09,6,   0.001,2,   0.004,2,-999.000,5,  -999.0,9,  -999.0,9,   -999.0,9,  -999.00,-999.0000,9,  -999.00,-999.000,9,-999.000,-999.0000,9,-999.000,9, -999.00,9,  -999.0,9,    -9.0,-999.000,9,-999.000, -999.00,9, -999.00,9, 1808.30,-999.0000,9,-999.0000,9,-999.0000,9,-999.0000,9,-999.0000,9,-999.0000,9,     -999.0,     -999.0,9,     -999.0,9,     -999.0,9,     -999.0,9,     -999.0,9,     -999.0,9, -999.00,9,   1.9747,-999.0000,-999.000