BOTTLE,20170720CCHSIOCBG
EXPOCODE,SECT_ID,STNNBR,CASTNO,SAMPNO,BTLNBR,BTLNBR_FLAG_W,DATE,TIME,LATITUDE,LONGITUDE,DEPTH,CTDPRS,CTDTMP,CTDSAL,CTDSAL_FLAG_W,SALNTY,SALNTY_FLAG_W,CTDOXY,CTDOXY_FLAG_W,OXYGEN,OXYGEN_FLAG_W,SILCAT,SILCAT_FLAG_W,NITRAT,NITRAT_FLAG_W,NITRIT,NITRIT_FLAG_W,PHSPHT,PHSPHT_FLAG_W,CFC-11,CFC-11_FLAG_W,CFC-12,CFC-12_FLAG_W,CFC113,CFC113_FLAG_W,TCARBN,TCARBN_FLAG_W,ALKALI,ALKALI_FLAG_W,FCO2,FCO2_FLAG_W,FCO2TMP,PH_TOT,PH_TOT_FLAG_W,PH_TMP,TRITUM,TRITUM_FLAG_W,TRITER,HELIUM,HELIUM_FLAG_W,DELHE3,DELHE3_FLAG_W,DELC13,DELC13_FLAG_W,DELC14,DELC14_FLAG_W,C14ERR,NEON,NEON_FLAG_W,NEONER,DOC,DOC_FLAG_W,TDN,TDN_FLAG_W,CTDRAW,CDOM325,CDOM325_FLAG_W,CDOM340,CDOM340_FLAG_W,CDOM380,CDOM380_FLAG_W,CDOM412,CDOM412_FLAG_W,CDOMSL,CDOMSL_FLAG_W,CDOMSN,CDOMSN_FLAG_W,DCNS,ARABI,ARABI_FLAG_W,FUCO,FUCO_FLAG_W,GALA,GALA_FLAG_W,GLUC,GLUC_FLAG_W,MAN,MAN_FLAG_W,RHAM,RHAM_FLAG_W,BRDU,BRDU_FLAG_W,THETA,HELIER,DELHER
,,,,,,,,,,,METERS,DBAR,ITS-90,PSS-78,,PSS-78,,UMOL/KG,,UMOL/KG,,UMOL/KG,,UMOL/KG,,UMOL/KG,,UMOL/KG,,PMOL/KG,,PMOL/KG,,PMOL/KG,,UMOL/KG,,UMOL/KG,,UATM,,DEG C,,,DEG C,TU,,TU,NMOL/KG,,PERCNT,,/MILLE,,/MILLE,,/MILLE,NMOL/KG,,NMOL/KG,UMOL/KG,,UMOL/KG,,DBAR,1/M,,1/M,,1/M,,1/M,,1/NM,,1/NM,,NMOL/KG,NMOL/KG,,NMOL/KG,,NMOL/KG,,NMOL/KG,,NMOL/KG,,NMOL/KG,,PMOL/L/H,,DEG C,NMOL/KG,PERCNT
325020060213,       P16N,      55,          2,          9,          9,2,20060317,       1342,    32.9997,       -152,       5373,  2998.8,   1.5334,  34.6686,2,  34.6677,2,    117.8,2,   117.7,2,  166.20,2,   37.90,2,    0.00,2,    2.67,2,-999.000,9,-999.000,9,-999.000,9,  2353.8,2,  2431.8,2,   -999.0,9,  -999.00,   7.5222,2,    25.00,-999.000,9,-999.000,-999.0000,9,-999.000,9, -999.00,9,  -999.0,9,    -9.0,-999.000,9,-999.000,   35.97,2,   42.27,2, 2998.80,   0.1300,2,   0.0890,2,   0.0450,2,   0.0310,2,   0.0164,2,   0.0187,2,     -999.0,     -999.0,9,     -999.0,9,     -999.0,9,     -999.0,9,     -999.0,9,     -999.0,9, -999.00,9,   1.3161,-999.0000,-999.000
325020060213,       P16N,      55,          2,          8,          8,2,20060317,       1342,    32.9997,       -152,       5373,  3247.9,   1.4962,  34.6751,2,  34.6754,2,    126.9,2,   127.1,2,  163.00,2,   37.40,2,    0.00,2,    2.62,2,-999.000,9,-999.000,9,-999.000,9,  2346.6,2,  2430.1,2,   -999.0,9,  -999.00,   7.5384,2,    25.00,-999.000,9,-999.000,-999.0000,9,-999.000,9, -999.00,9,  -999.0,9,    -9.0,-999.000,9,-999.000,   36.22,2,   40.60,2, 3247.90,   0.1260,2,   0.0860,2,   0.0430,2,   0.0300,2,   0.0169,2,   0.0191,2,     -999.0,     -999.0,9,     -999.0,9,     -999.0,9,     -999.0,9,     -999.0,9,     -999.0,9, -999.00,9,   1.2555,-999.0000,-999.000
325020060213,       P16N,      55,          2,          7,          7,2,20060317,       1342,    32.9997,       -152,       5373,  3646.8,   1.4675,  34.6829,2,  34.6832,2,    138.0,2,   138.1,2,  158.50,2,   36.90,2,    0.00,2,    2.55,2,  -0.002,2,   0.000,2,-999.000,5,  2337.8,2,  2427.2,6,   -999.0,9,  -999.00,   7.5587,2,    25.00,   0.001,2,   0.007,-999.0000,9,-999.000,9, -999.00,9,  -999.0,9,    -9.0,-999.000,9,-999.000,   36.39,2,   40.94,2, 3646.80,   0.1220,2,   0.0820,2,   0.0400,2,   0.0270,2,   0.0183,2,   0.0204,2,     -999.0,     -999.0,9,     -999.0,9,     -999.0,9,     -999.0,9,     -999.0,9,     -999.0,9, -999.00,9,   1.1871,-999.0000,-999.000
325020060213,       P16N,      55,          2,          6,          6,2,20060317,       1342,    32.9997,       -152,       5373,  4048.6,   1.4704,  34.6874,2,  34.6868,2,    145.5,2,   145.0,2,  155.70,2,   36.40,2,    0.00,2,    2.52,2,-999.000,9,-999.000,9,-999.000,9,  2334.5,2,  2425.6,2,   -999.0,9,  -999.00,   7.5705,2,    25.00,-999.000,9,-999.000,-999.0000,9,-999.000,9, -999.00,9,  -999.0,9,    -9.0,-999.000,9,-999.000,   36.78,2,   40.35,2, 4048.60,   0.1150,2,   0.0770,2,   0.0370,2,   0.0250,2,   0.0193,2,   0.0214,2,     -999.0,     -999.0,9,     -999.0,9,     -999.0,9,     -999.0,9,     -999.0,9,     -999.0,9, -999.00,9,   1.1470,-999.0000,-999.000
325020060213,       P16N,      55,          2,          5,          5,2,20060317,       1342,    32.9997,       -152,       5373,  4543.7,   1.4959,  34.6905,2,  34.6921,2,    151.1,2,   151.0,2,  151.60,2,   35.80,2,    0.00,2,    2.48,2,-999.000,9,-999.000,9,-999.000,9,  2329.9,2,  2424.0,2,   -999.0,9,  -999.00,   7.5805,2,    25.00,-999.000,9,-999.000,-999.0000,9,-999.000,9, -999.00,9,  -999.0,9,    -9.0,-999.000,9,-999.000,   36.28,2,   39.80,2, 4543.70,   0.1160,2,   0.0770,2,   0.0370,2,   0.0250,2,   0.0195,2,   0.0215,2,     -999.0,     -999.0,9,     -999.0,9,     -999.0,9,     -999.0,9,     -999.0,9,     -999.0,9, -999.00,9,   1.1160,-999.0000,-999.000
325020060213,       P16N,      55,          2,          4,          4,2,20060317,       1342,    32.9997,       -152,       5373,  4998.7,   1.5355,  34.6924,2,  34.6915,2,    155.4,2,   154.5,2,  147.30,2,   35.60,6,    0.00,6,    2.44,2,   0.005,2,   0.000,2,-999.000,5,  2326.0,2,  2427.6,2,   -999.0,9,  -999.00,   7.5867,2,    25.00,-999.000,9,-999.000,-999.0000,9,-999.000,9, -999.00,9,  -999.0,9,    -9.0,-999.000,9,-999.000,   35.77,2,   39.27,2, 4998.70,   0.1140,2,   0.0750,2,   0.0360,2,   0.0240,2,   0.0198,2,   0.0218,2,     -999.0,     -999.0,9,     -999.0,9,     -999.0,9,     -999.0,9,     -999.0,9,     -999.0,9, -999.00,9,   1.1002,-999.0000,-999.000
325020060213,       P16N,      55,          2,          3,          3,2,20060317,       1342,    32.9997,       -152,       5373,  5199.2,   1.5582,  34.6927,2,  34.6924,2,    156.0,2,   152.3,3,  146.00,2,   35.50,6,    0.00,6,    2.46,6,-999.000,9,-999.000,9,-999.000,9,  2323.9,2,  2424.9,2,   -999.0,9,  -999.00,   7.5873,3,    25.00,-999.000,9,-999.000,-999.0000,9,-999.000,9, -999.00,9,  -999.0,9,    -9.0,-999.000,9,-999.000,   36.15,2,   38.87,2, 5199.20,   0.1150,2,   0.0760,2,   0.0370,2,   0.0240,2,   0.0197,2,   0.0217,2,     -999.0,     -999.0,9,     -999.0,9,     -999.0,9,     -999.0,9,     -999.0,9,     -999.0,9, -999.00,9,   1.0974,-999.0000,-999.000
325020060213,       P16N,      55,          2,          2,          2,2,20060317,       1342,    32.9997,       -152,       5373,  5398.9,   1.5780,  34.6928,2,  34.6928,2,    157.0,2,   156.3,2,  147.20,6,   35.50,6,    0.00,6,    2.46,6,   0.014,3,   0.003,2,-999.000,5,  2324.3,2,  2422.7,2,   -999.0,9,  -999.00,   7.5872,2,    25.00,-999.000,9,-999.000,-999.0000,9,-999.000,9, -999.00,9,  -999.0,9,    -9.0,-999.000,9,-999.000,   36.52,2,   39.35,2, 5398.90,   0.1170,2,   0.0780,2,   0.0380,2,   0.0260,2,   0.0188,2,   0.0210,2,     -999.0,     -999.0,9,     -999.0,9,     -999.0,9,     -999.0,9,     -999.0,9,     -999.0,9, -999.00,9,   1.0915,-999.0000,-999.000
325020060213,       P16N,      55,          2,          1,          1,2,20060317,       1342,    32.9997,       -152,       5373,  5521.2,   1.5925,  34.6930,2,  34.6948,2,    157.0,2,   148.3,4,  146.60,6,   35.50,6,    0.00,6,    2.45,6,  -0.002,2,   0.007,2,-999.000,5,  2324.2,6,  2420.4,2,   -999.0,9,  -999.00,   7.5858,2,    25.00,   0.001,2,   0.008,-999.0000,9,-999.000,9, -999.00,9,  -999.0,9,    -9.0,-999.000,9,-999.000,   37.80,2,   38.86,2, 5521.20,   0.1170,2,   0.0780,2,   0.0380,2,   0.0260,2,   0.0191,2,   0.0212,2,     -999.0,     -999.0,9,     -999.0,9,     -999.0,9,     -999.0,9,     -999.0,9,     -999.0,9, -999.00,9,   1.0898,-999.0000,-999.000