BOTTLE,20170720CCHSIOCBG
EXPOCODE,SECT_ID,STNNBR,CASTNO,SAMPNO,BTLNBR,BTLNBR_FLAG_W,DATE,TIME,LATITUDE,LONGITUDE,DEPTH,CTDPRS,CTDTMP,CTDSAL,CTDSAL_FLAG_W,SALNTY,SALNTY_FLAG_W,CTDOXY,CTDOXY_FLAG_W,OXYGEN,OXYGEN_FLAG_W,SILCAT,SILCAT_FLAG_W,NITRAT,NITRAT_FLAG_W,NITRIT,NITRIT_FLAG_W,PHSPHT,PHSPHT_FLAG_W,CFC-11,CFC-11_FLAG_W,CFC-12,CFC-12_FLAG_W,CFC113,CFC113_FLAG_W,TCARBN,TCARBN_FLAG_W,ALKALI,ALKALI_FLAG_W,FCO2,FCO2_FLAG_W,FCO2TMP,PH_TOT,PH_TOT_FLAG_W,PH_TMP,TRITUM,TRITUM_FLAG_W,TRITER,HELIUM,HELIUM_FLAG_W,DELHE3,DELHE3_FLAG_W,DELC13,DELC13_FLAG_W,DELC14,DELC14_FLAG_W,C14ERR,NEON,NEON_FLAG_W,NEONER,DOC,DOC_FLAG_W,TDN,TDN_FLAG_W,CTDRAW,CDOM325,CDOM325_FLAG_W,CDOM340,CDOM340_FLAG_W,CDOM380,CDOM380_FLAG_W,CDOM412,CDOM412_FLAG_W,CDOMSL,CDOMSL_FLAG_W,CDOMSN,CDOMSN_FLAG_W,DCNS,ARABI,ARABI_FLAG_W,FUCO,FUCO_FLAG_W,GALA,GALA_FLAG_W,GLUC,GLUC_FLAG_W,MAN,MAN_FLAG_W,RHAM,RHAM_FLAG_W,BRDU,BRDU_FLAG_W,THETA,HELIER,DELHER
,,,,,,,,,,,METERS,DBAR,ITS-90,PSS-78,,PSS-78,,UMOL/KG,,UMOL/KG,,UMOL/KG,,UMOL/KG,,UMOL/KG,,UMOL/KG,,PMOL/KG,,PMOL/KG,,PMOL/KG,,UMOL/KG,,UMOL/KG,,UATM,,DEG C,,,DEG C,TU,,TU,NMOL/KG,,PERCNT,,/MILLE,,/MILLE,,/MILLE,NMOL/KG,,NMOL/KG,UMOL/KG,,UMOL/KG,,DBAR,1/M,,1/M,,1/M,,1/M,,1/NM,,1/NM,,NMOL/KG,NMOL/KG,,NMOL/KG,,NMOL/KG,,NMOL/KG,,NMOL/KG,,NMOL/KG,,PMOL/L/H,,DEG C,NMOL/KG,PERCNT
325020060213,       P16N,      54,          1,         36,         36,2,20060317,       0327,    31.9998,  -152.0003,       5194,     5.0,  18.0841,  34.9433,2,  34.9430,2,    237.9,2,   237.7,2,    1.70,2,    0.00,2,    0.00,2,    0.04,2,   2.501,2,   1.479,2,-999.000,5,  2021.2,6,  2297.7,2,   -999.0,9,  -999.00,   8.0063,6,    25.00,-999.000,9,-999.000,-999.0000,9,-999.000,9, -999.00,5,    72.9,2,     3.6,-999.000,9,-999.000,   62.30,2,    3.96,2,    5.00,-999.0000,9,-999.0000,9,-999.0000,9,-999.0000,9,-999.0000,9,-999.0000,9,     -999.0,     -999.0,9,     -999.0,9,     -999.0,9,     -999.0,9,     -999.0,9,     -999.0,9, -999.00,9,  18.0832,-999.0000,-999.000
325020060213,       P16N,      54,          1,         35,         35,2,20060317,       0327,    31.9998,  -152.0003,       5194,    19.1,  18.0571,  34.9417,2,  34.9408,2,    238.3,2,   237.9,2,    1.70,2,    0.00,2,    0.00,2,    0.04,2,   2.455,2,   1.473,2,-999.000,5,  2023.0,2,  2296.0,2,   -999.0,9,  -999.00,   8.0062,2,    25.00,-999.000,9,-999.000,-999.0000,9,-999.000,9, -999.00,9,  -999.0,9,    -9.0,-999.000,9,-999.000,   62.79,2,    3.59,2,   19.10,-999.0000,9,-999.0000,9,-999.0000,9,-999.0000,9,-999.0000,9,-999.0000,9,     -999.0,     -999.0,9,     -999.0,9,     -999.0,9,     -999.0,9,     -999.0,9,     -999.0,9, -999.00,9,  18.0538,-999.0000,-999.000
325020060213,       P16N,      54,          1,         34,         34,2,20060317,       0327,    31.9998,  -152.0003,       5194,    50.3,  17.5441,  34.8964,2,  34.8962,2,    237.7,2,   238.6,2,    1.80,2,    0.00,2,    0.00,2,    0.05,2,   2.494,2,   1.486,2,-999.000,5,  2021.4,2,  2293.5,2,   -999.0,9,  -999.00,   8.0042,2,    25.00,-999.000,9,-999.000,-999.0000,9,-999.000,9, -999.00,5,    65.4,2,     3.6,-999.000,9,-999.000,   60.55,2,    3.70,2,   50.30,-999.0000,9,-999.0000,9,-999.0000,9,-999.0000,9,-999.0000,9,-999.0000,9,     -999.0,     -999.0,9,     -999.0,9,     -999.0,9,     -999.0,9,     -999.0,9,     -999.0,9, -999.00,9,  17.5356,-999.0000,-999.000
325020060213,       P16N,      54,          1,         33,         33,2,20060317,       0327,    31.9998,  -152.0003,       5194,    79.9,  17.0823,  34.7910,2,  34.7977,2,    240.1,2,   237.9,2,    1.90,2,    0.00,2,    0.10,2,    0.07,2,   2.528,2,   1.497,2,-999.000,5,  2021.1,2,  2289.6,2,   -999.0,9,  -999.00,   7.9960,2,    25.00,-999.000,9,-999.000,-999.0000,9,-999.000,9, -999.00,9,  -999.0,9,    -9.0,-999.000,9,-999.000,   59.84,2,    4.01,2,   79.90,-999.0000,9,-999.0000,9,-999.0000,9,-999.0000,9,-999.0000,9,-999.0000,9,     -999.0,     -999.0,9,     -999.0,9,     -999.0,9,     -999.0,9,     -999.0,9,     -999.0,9, -999.00,9,  17.0691,-999.0000,-999.000
325020060213,       P16N,      54,          1,         32,         32,2,20060317,       0327,    31.9998,  -152.0003,       5194,   110.7,  16.3010,  34.6340,2,  34.6296,2,    243.5,2,   242.3,2,    2.50,2,    0.10,2,    0.10,2,    0.09,2,   2.691,2,   1.569,2,-999.000,5,  2019.9,2,  2277.9,2,   -999.0,9,  -999.00,   7.9822,2,    25.00,-999.000,9,-999.000,-999.0000,9,-999.000,9, -999.00,5,    62.0,2,     3.7,-999.000,9,-999.000,   56.78,2,    4.13,2,  110.70,-999.0000,9,-999.0000,9,-999.0000,9,-999.0000,9,-999.0000,9,-999.0000,9,     -999.0,     -999.0,9,     -999.0,9,     -999.0,9,     -999.0,9,     -999.0,9,     -999.0,9, -999.00,9,  16.2834,-999.0000,-999.000
325020060213,       P16N,      54,          1,         31,         31,2,20060317,       0327,    31.9998,  -152.0003,       5194,   135.2,  15.8819,  34.5705,2,  34.5648,2,    234.0,2,   232.6,3,    3.10,2,    1.40,2,    0.10,2,    0.19,2,   2.730,2,   1.587,2,-999.000,5,  2030.8,2,  2272.1,2,   -999.0,9,  -999.00,   7.9526,2,    25.00,-999.000,9,-999.000,-999.0000,9,-999.000,9, -999.00,5,  -999.0,5,    -9.0,-999.000,9,-999.000,   55.48,2,    5.29,2,  135.20,-999.0000,9,-999.0000,9,-999.0000,9,-999.0000,9,-999.0000,9,-999.0000,9,     -999.0,     -999.0,9,     -999.0,9,     -999.0,9,     -999.0,9,     -999.0,9,     -999.0,9, -999.00,9,  15.8607,-999.0000,-999.000
325020060213,       P16N,      54,          1,         30,         30,2,20060317,       0327,    31.9998,  -152.0003,       5194,   175.2,  13.6325,  34.3776,2,  34.3646,2,    218.4,2,   217.7,2,    6.20,2,    7.40,2,    0.00,2,    0.53,2,   3.053,2,   1.721,2,-999.000,5,  2061.5,2,  2261.6,2,   -999.0,9,  -999.00,   7.8737,2,    25.00,-999.000,9,-999.000,-999.0000,9,-999.000,9, -999.00,5,    70.2,2,     3.6,-999.000,9,-999.000,   52.43,2,   11.84,2,  175.20,-999.0000,9,-999.0000,9,-999.0000,9,-999.0000,9,-999.0000,9,-999.0000,9,     -999.0,     -999.0,9,     -999.0,9,     -999.0,9,     -999.0,9,     -999.0,9,     -999.0,9, -999.00,9,  13.6077,-999.0000,-999.000
325020060213,       P16N,      54,          1,         29,         29,2,20060317,       0327,    31.9998,  -152.0003,       5194,   224.6,  12.4752,  34.3035,2,  34.3048,2,    226.6,2,   223.0,2,    8.10,2,    9.10,2,    0.00,2,    0.64,2,   3.217,2,   1.806,2,-999.000,5,  2070.5,2,  2261.8,6,   -999.0,9,  -999.00,   7.8542,2,    25.00,-999.000,9,-999.000,-999.0000,9,-999.000,9, -999.00,5,    59.0,2,     4.9,-999.000,9,-999.000,   49.58,2,   13.30,2,  224.60,-999.0000,9,-999.0000,9,-999.0000,9,-999.0000,9,-999.0000,9,-999.0000,9,     -999.0,     -999.0,9,     -999.0,9,     -999.0,9,     -999.0,9,     -999.0,9,     -999.0,9, -999.00,9,  12.4453,-999.0000,-999.000
325020060213,       P16N,      54,          1,         28,         28,2,20060317,       0327,    31.9998,  -152.0003,       5194,   275.3,  11.5252,  34.2527,2,  34.2570,2,    218.4,2,   217.7,2,   11.60,2,   11.90,2,    0.00,2,    0.81,2,   3.301,2,   1.803,2,-999.000,5,  2085.4,2,  2262.0,2,   -999.0,9,  -999.00,   7.8216,2,    25.00,-999.000,9,-999.000,-999.0000,9,-999.000,9, -999.00,5,    53.3,2,     3.0,-999.000,9,-999.000,   48.80,2,   16.38,2,  275.30,-999.0000,9,-999.0000,9,-999.0000,9,-999.0000,9,-999.0000,9,-999.0000,9,     -999.0,     -999.0,9,     -999.0,9,     -999.0,9,     -999.0,9,     -999.0,9,     -999.0,9, -999.00,9,  11.4904,-999.0000,-999.000
325020060213,       P16N,      54,          1,         27,         27,2,20060317,       0327,    31.9998,  -152.0003,       5194,   324.8,  10.5610,  34.1863,2,  34.1881,2,    216.6,2,   216.2,2,   15.10,2,   14.20,2,    0.00,2,    0.96,2,   3.382,2,   1.829,2,-999.000,5,  2098.3,2,  2264.4,2,   -999.0,9,  -999.00,   7.7917,2,    25.00,-999.000,9,-999.000,-999.0000,9,-999.000,9, -999.00,5,    45.4,2,     3.6,-999.000,9,-999.000,   48.08,2,   18.71,2,  324.80,-999.0000,9,-999.0000,9,-999.0000,9,-999.0000,9,-999.0000,9,-999.0000,9,     -999.0,     -999.0,9,     -999.0,9,     -999.0,9,     -999.0,9,     -999.0,9,     -999.0,9, -999.00,9,  10.5221,-999.0000,-999.000
325020060213,       P16N,      54,          1,         26,         26,2,20060317,       0327,    31.9998,  -152.0003,       5194,   374.3,   9.7592,  34.1340,2,  34.1362,2,    206.1,2,   206.3,2,   19.30,2,   16.50,2,    0.00,2,    1.12,2,   3.382,6,   1.786,6,-999.000,5,  2113.9,2,  2266.0,2,   -999.0,9,  -999.00,   7.7557,2,    25.00,-999.000,9,-999.000,-999.0000,9,-999.000,9, -999.00,5,    36.0,2,     2.9,-999.000,9,-999.000,   47.09,2,   20.67,2,  374.30,-999.0000,9,-999.0000,9,-999.0000,9,-999.0000,9,-999.0000,9,-999.0000,9,     -999.0,     -999.0,9,     -999.0,9,     -999.0,9,     -999.0,9,     -999.0,9,     -999.0,9, -999.00,9,   9.7165,-999.0000,-999.000
325020060213,       P16N,      54,          1,         25,         25,2,20060317,       0327,    31.9998,  -152.0003,       5194,   451.1,   8.4354,  34.0692,2,  34.0708,2,    179.3,2,   180.2,2,   29.80,2,   21.80,2,    0.00,2,    1.48,2,   3.172,2,   1.622,2,-999.000,5,  2150.5,2,  2270.8,2,   -999.0,9,  -999.00,   7.6754,2,    25.00,-999.000,9,-999.000,-999.0000,9,-999.000,9, -999.00,5,    -1.0,2,     6.3,-999.000,9,-999.000,   46.05,2,   25.60,2,  451.10,-999.0000,9,-999.0000,9,-999.0000,9,-999.0000,9,-999.0000,9,-999.0000,9,     -999.0,     -999.0,9,     -999.0,9,     -999.0,9,     -999.0,9,     -999.0,9,     -999.0,9, -999.00,9,   8.3882,-999.0000,-999.000
325020060213,       P16N,      54,          1,         24,         24,2,20060317,       0327,    31.9998,  -152.0003,       5194,   549.9,   6.4097,  33.9986,2,  33.9979,2,    131.3,2,   129.4,2,   53.00,2,   30.40,2,    0.00,2,    2.11,2,   2.319,2,   1.136,2,-999.000,5,  2215.6,2,  2285.3,2,   -999.0,9,  -999.00,   7.5267,2,    25.00,-999.000,9,-999.000,-999.0000,9,-999.000,9, -999.00,5,   -37.0,2,     3.3,-999.000,9,-999.000,   43.82,2,   34.94,2,  549.90,-999.0000,9,-999.0000,9,-999.0000,9,-999.0000,9,-999.0000,9,-999.0000,9,     -999.0,     -999.0,9,     -999.0,9,     -999.0,9,     -999.0,9,     -999.0,9,     -999.0,9, -999.00,9,   6.3602,-999.0000,-999.000
325020060213,       P16N,      54,          1,         23,         23,2,20060317,       0327,    31.9998,  -152.0003,       5194,   650.1,   4.9625,  34.0313,2,  34.0324,2,     78.1,2,    77.8,2,   77.00,2,   37.50,2,    0.00,2,    2.61,2,   1.123,2,   0.543,2,-999.000,5,  2273.9,2,  2305.4,2,   -999.0,9,  -999.00,   7.3988,2,    25.00,-999.000,9,-999.000,-999.0000,9,-999.000,9, -999.00,5,   -97.8,2,     3.0,-999.000,9,-999.000,   42.37,2,   41.09,2,  650.10,-999.0000,9,-999.0000,9,-999.0000,9,-999.0000,9,-999.0000,9,-999.0000,9,     -999.0,     -999.0,9,     -999.0,9,     -999.0,9,     -999.0,9,     -999.0,9,     -999.0,9, -999.00,9,   4.9107,-999.0000,-999.000
325020060213,       P16N,      54,          1,         22,         22,2,20060317,       0327,    31.9998,  -152.0003,       5194,   750.2,   4.2663,  34.1366,2,  34.1359,2,     34.0,2,    35.3,2,   97.40,2,   41.60,2,    0.00,2,    2.94,2,   0.263,2,   0.141,2,-999.000,5,  2320.6,2,  2327.0,2,   -999.0,9,  -999.00,   7.3178,2,    25.00,-999.000,9,-999.000,-999.0000,9,-999.000,9, -999.00,5,  -144.5,2,     2.6,-999.000,9,-999.000,   41.48,2,   45.69,2,  750.20,-999.0000,9,-999.0000,9,-999.0000,9,-999.0000,9,-999.0000,9,-999.0000,9,     -999.0,     -999.0,9,     -999.0,9,     -999.0,9,     -999.0,9,     -999.0,9,     -999.0,9, -999.00,9,   4.2098,-999.0000,-999.000
325020060213,       P16N,      54,          1,         21,         21,2,20060317,       0327,    31.9998,  -152.0003,       5194,   850.8,   3.9427,  34.2280,2,  34.2283,2,     15.0,2,    15.3,2,  110.20,2,   43.50,2,    0.00,2,    3.09,2,   0.053,2,   0.031,2,-999.000,5,  2346.7,2,  2344.8,2,   -999.0,9,  -999.00,   7.2864,2,    25.00,-999.000,9,-999.000,-999.0000,9,-999.000,9, -999.00,5,  -175.2,2,     2.3,-999.000,9,-999.000,   40.74,2,   47.57,2,  850.80,-999.0000,9,-999.0000,9,-999.0000,9,-999.0000,9,-999.0000,9,-999.0000,9,     -999.0,     -999.0,9,     -999.0,9,     -999.0,9,     -999.0,9,     -999.0,9,     -999.0,9, -999.00,9,   3.8801,-999.0000,-999.000
325020060213,       P16N,      54,          1,         20,         20,2,20060317,       0327,    31.9998,  -152.0003,       5194,   950.1,   3.6429,  34.3087,2,  34.3130,2,      8.8,2,     8.4,2,  121.70,2,   43.60,2,    0.00,2,    3.16,2,   0.002,2,   0.002,2,-999.000,5,  2365.1,6,  2359.4,2,   -999.0,9,  -999.00,   7.2855,2,    25.00,-999.000,9,-999.000,-999.0000,9,-999.000,9, -999.00,9,  -999.0,9,    -9.0,-999.000,9,-999.000,   38.41,2,   47.10,2,  950.10,-999.0000,9,-999.0000,9,-999.0000,9,-999.0000,9,-999.0000,9,-999.0000,9,     -999.0,     -999.0,9,     -999.0,9,     -999.0,9,     -999.0,9,     -999.0,9,     -999.0,9, -999.00,9,   3.5743,-999.0000,-999.000
325020060213,       P16N,      54,          1,         19,         19,2,20060317,       0327,    31.9998,  -152.0003,       5194,  1100.3,   3.3480,  34.4226,2,  34.4218,2,     12.3,2,    12.4,2,  132.10,2,   44.40,2,    0.00,2,    3.18,2,   0.006,2,   0.003,2,-999.000,5,  2374.3,2,  2379.7,2,   -999.0,9,  -999.00,   7.3057,2,    25.00,-999.000,9,-999.000,-999.0000,9,-999.000,9, -999.00,5,  -206.4,2,     2.7,-999.000,9,-999.000,   37.74,2,   48.37,2, 1100.30,-999.0000,9,-999.0000,9,-999.0000,9,-999.0000,9,-999.0000,9,-999.0000,9,     -999.0,     -999.0,9,     -999.0,9,     -999.0,9,     -999.0,9,     -999.0,9,     -999.0,9, -999.00,9,   3.2696,-999.0000,-999.000
325020060213,       P16N,      54,          1,         18,         18,2,20060317,       0327,    31.9998,  -152.0003,       5194,  1301.2,   2.9998,  34.4966,2,  34.4979,2,     23.3,2,    24.2,2,  140.80,2,   44.00,2,    0.00,2,    3.14,2,  -0.006,2,   0.001,2,-999.000,5,  2379.5,2,  2391.4,6,   -999.0,9,  -999.00,   7.3381,2,    25.00,-999.000,9,-999.000,-999.0000,9,-999.000,9, -999.00,5,  -225.0,2,     2.7,-999.000,9,-999.000,   36.80,2,   47.25,2, 1301.20,-999.0000,9,-999.0000,9,-999.0000,9,-999.0000,9,-999.0000,9,-999.0000,9,     -999.0,     -999.0,9,     -999.0,9,     -999.0,9,     -999.0,9,     -999.0,9,     -999.0,9, -999.00,9,   2.9084,-999.0000,-999.000
325020060213,       P16N,      54,          1,         17,         17,2,20060317,       0327,    31.9998,  -152.0003,       5194,  1500.7,   2.6460,  34.5431,2,  34.5441,2,     37.6,2,    37.7,2,  149.90,2,   43.20,2,    0.00,2,    3.08,2,-999.000,9,-999.000,9,-999.000,9,  2381.3,2,  2402.9,2,   -999.0,9,  -999.00,   7.3644,2,    25.00,-999.000,9,-999.000,-999.0000,9,-999.000,9, -999.00,5,  -237.7,2,     2.8,-999.000,9,-999.000,   37.06,2,   47.19,2, 1500.70,-999.0000,9,-999.0000,9,-999.0000,9,-999.0000,9,-999.0000,9,-999.0000,9,     -999.0,     -999.0,9,     -999.0,9,     -999.0,9,     -999.0,9,     -999.0,9,     -999.0,9, -999.00,9,   2.5423,-999.0000,-999.000
325020060213,       P16N,      54,          1,         16,         16,2,20060317,       0327,    31.9998,  -152.0003,       5194,  1700.2,   2.3640,  34.5778,2,  34.5791,2,     52.6,2,    55.2,2,  155.20,2,   42.00,2,    0.00,2,    3.00,2,-999.000,9,-999.000,9,-999.000,9,  2377.5,2,  2413.2,2,   -999.0,9,  -999.00,   7.4007,2,    25.00,-999.000,9,-999.000,-999.0000,9,-999.000,9, -999.00,5,  -238.9,2,     2.8,-999.000,9,-999.000,   36.76,2,   45.38,2, 1700.20,-999.0000,9,-999.0000,9,-999.0000,9,-999.0000,9,-999.0000,9,-999.0000,9,     -999.0,     -999.0,9,     -999.0,9,     -999.0,9,     -999.0,9,     -999.0,9,     -999.0,9, -999.00,9,   2.2474,-999.0000,-999.000
325020060213,       P16N,      54,          1,         15,         15,2,20060317,       0327,    31.9998,  -152.0003,       5194,  1900.1,   2.1326,  34.6015,2,  34.6021,2,     65.9,2,    65.2,2,  161.30,2,   41.50,2,    0.00,2,    2.95,2,  -0.003,2,   0.000,2,-999.000,5,  2377.0,2,  2418.7,2,   -999.0,9,  -999.00,   7.4197,2,    25.00,-999.000,9,-999.000,-999.0000,9,-999.000,9, -999.00,5,  -247.0,2,     2.7,-999.000,9,-999.000,   36.99,2,   45.24,2, 1900.10,-999.0000,9,-999.0000,9,-999.0000,9,-999.0000,9,-999.0000,9,-999.0000,9,     -999.0,     -999.0,9,     -999.0,9,     -999.0,9,     -999.0,9,     -999.0,9,     -999.0,9, -999.00,9,   2.0026,-999.0000,-999.000
325020060213,       P16N,      54,          1,         14,         14,2,20060317,       0327,    31.9998,  -152.0003,       5194,  2100.5,   1.9367,  34.6228,2,  34.6231,2,     80.2,2,    77.2,2,  165.50,2,   40.70,2,    0.00,2,    2.89,2,-999.000,9,-999.000,9,-999.000,9,  2374.5,2,  2424.4,2,   -999.0,9,  -999.00,   7.4470,2,    25.00,-999.000,9,-999.000,-999.0000,9,-999.000,9, -999.00,5,  -245.5,2,     2.7,-999.000,9,-999.000,   36.91,2,   44.86,2, 2100.50,-999.0000,9,-999.0000,9,-999.0000,9,-999.0000,9,-999.0000,9,-999.0000,9,     -999.0,     -999.0,9,     -999.0,9,     -999.0,9,     -999.0,9,     -999.0,9,     -999.0,9, -999.00,9,   1.7928,-999.0000,-999.000
325020060213,       P16N,      54,          1,         12,         12,2,20060317,       0327,    31.9998,  -152.0003,       5194,  2300.6,   1.8065,  34.6364,2,  34.6381,2,     89.5,2,    85.6,2,  169.30,2,   40.10,2,    0.00,2,    2.87,2,-999.000,9,-999.000,9,-999.000,9,  2372.1,2,  2425.5,2,   -999.0,9,  -999.00,   7.4624,2,    25.00,-999.000,9,-999.000,-999.0000,9,-999.000,9, -999.00,5,  -240.2,2,     2.7,-999.000,9,-999.000,   36.26,2,   44.16,2, 2300.60,-999.0000,9,-999.0000,9,-999.0000,9,-999.0000,9,-999.0000,9,-999.0000,9,     -999.0,     -999.0,9,     -999.0,9,     -999.0,9,     -999.0,9,     -999.0,9,     -999.0,9, -999.00,9,   1.6475,-999.0000,-999.000
325020060213,       P16N,      54,          1,         13,         13,2,20060317,       0327,    31.9998,  -152.0003,       5194,  2300.9,   1.8081,  34.6364,2,  34.6359,2,     89.5,2,    84.9,2,  168.80,2,   40.30,2,    0.00,2,    2.86,2,   0.010,2,  -0.001,2,-999.000,5,  2372.2,2,  2427.7,2,   -999.0,9,  -999.00,   7.4682,2,    25.00,-999.000,9,-999.000,-999.0000,9,-999.000,9, -999.00,9,  -999.0,9,    -9.0,-999.000,9,-999.000,   36.50,2,   44.08,2, 2300.90,-999.0000,9,-999.0000,9,-999.0000,9,-999.0000,9,-999.0000,9,-999.0000,9,     -999.0,     -999.0,9,     -999.0,9,     -999.0,9,     -999.0,9,     -999.0,9,     -999.0,9, -999.00,9,   1.6490,-999.0000,-999.000
325020060213,       P16N,      54,          1,         11,         11,2,20060317,       0327,    31.9998,  -152.0003,       5194,  2600.0,   1.6699,  34.6521,2,  34.6523,2,     99.4,2,    98.6,2,  169.50,2,   39.50,2,    0.00,2,    2.79,2,  -0.002,2,   0.000,2,-999.000,5,  2365.6,2,  2427.8,2,   -999.0,9,  -999.00,   7.4885,2,    25.00,-999.000,9,-999.000,-999.0000,9,-999.000,9, -999.00,5,  -241.3,2,     2.5,-999.000,9,-999.000,   36.51,2,   43.09,2, 2600.00,-999.0000,9,-999.0000,9,-999.0000,9,-999.0000,9,-999.0000,9,-999.0000,9,     -999.0,     -999.0,9,     -999.0,9,     -999.0,9,     -999.0,9,     -999.0,9,     -999.0,9, -999.00,9,   1.4868,-999.0000,-999.000
325020060213,       P16N,      54,          1,         10,         10,2,20060317,       0327,    31.9998,  -152.0003,       5194,  2900.1,   1.5761,  34.6647,2,  34.6657,2,    114.0,2,   113.8,2,  166.40,2,   38.40,2,    0.00,2,    2.71,2,-999.000,9,-999.000,9,-999.000,9,  2356.7,2,  2429.7,2,   -999.0,9,  -999.00,   7.5155,6,    25.00,-999.000,9,-999.000,-999.0000,9,-999.000,9, -999.00,5,  -237.9,2,     2.8,-999.000,9,-999.000,   36.02,2,   41.74,2, 2900.10,-999.0000,9,-999.0000,9,-999.0000,9,-999.0000,9,-999.0000,9,-999.0000,9,     -999.0,     -999.0,9,     -999.0,9,     -999.0,9,     -999.0,9,     -999.0,9,     -999.0,9, -999.00,9,   1.3672,-999.0000,-999.000