BOTTLE,20170720CCHSIOCBG
EXPOCODE,SECT_ID,STNNBR,CASTNO,SAMPNO,BTLNBR,BTLNBR_FLAG_W,DATE,TIME,LATITUDE,LONGITUDE,DEPTH,CTDPRS,CTDTMP,CTDSAL,CTDSAL_FLAG_W,SALNTY,SALNTY_FLAG_W,CTDOXY,CTDOXY_FLAG_W,OXYGEN,OXYGEN_FLAG_W,SILCAT,SILCAT_FLAG_W,NITRAT,NITRAT_FLAG_W,NITRIT,NITRIT_FLAG_W,PHSPHT,PHSPHT_FLAG_W,CFC-11,CFC-11_FLAG_W,CFC-12,CFC-12_FLAG_W,CFC113,CFC113_FLAG_W,TCARBN,TCARBN_FLAG_W,ALKALI,ALKALI_FLAG_W,FCO2,FCO2_FLAG_W,FCO2TMP,PH_TOT,PH_TOT_FLAG_W,PH_TMP,TRITUM,TRITUM_FLAG_W,TRITER,HELIUM,HELIUM_FLAG_W,DELHE3,DELHE3_FLAG_W,DELC13,DELC13_FLAG_W,DELC14,DELC14_FLAG_W,C14ERR,NEON,NEON_FLAG_W,NEONER,DOC,DOC_FLAG_W,TDN,TDN_FLAG_W,CTDRAW,CDOM325,CDOM325_FLAG_W,CDOM340,CDOM340_FLAG_W,CDOM380,CDOM380_FLAG_W,CDOM412,CDOM412_FLAG_W,CDOMSL,CDOMSL_FLAG_W,CDOMSN,CDOMSN_FLAG_W,DCNS,ARABI,ARABI_FLAG_W,FUCO,FUCO_FLAG_W,GALA,GALA_FLAG_W,GLUC,GLUC_FLAG_W,MAN,MAN_FLAG_W,RHAM,RHAM_FLAG_W,BRDU,BRDU_FLAG_W,THETA,HELIER,DELHER
,,,,,,,,,,,METERS,DBAR,ITS-90,PSS-78,,PSS-78,,UMOL/KG,,UMOL/KG,,UMOL/KG,,UMOL/KG,,UMOL/KG,,UMOL/KG,,PMOL/KG,,PMOL/KG,,PMOL/KG,,UMOL/KG,,UMOL/KG,,UATM,,DEG C,,,DEG C,TU,,TU,NMOL/KG,,PERCNT,,/MILLE,,/MILLE,,/MILLE,NMOL/KG,,NMOL/KG,UMOL/KG,,UMOL/KG,,DBAR,1/M,,1/M,,1/M,,1/M,,1/NM,,1/NM,,NMOL/KG,NMOL/KG,,NMOL/KG,,NMOL/KG,,NMOL/KG,,NMOL/KG,,NMOL/KG,,PMOL/L/H,,DEG C,NMOL/KG,PERCNT
325020060213,       P16N,       8,          2,         35,         35,2,20060217,       0923,        -10,       -151,       4664,     5.2,  29.2073,  35.9759,2,  35.9736,2,    193.9,2,   194.5,2,    0.10,2,    0.10,2,    0.00,2,    0.19,2,-999.000,1,-999.000,1,-999.000,9,  2001.7,6,  2369.2,2,   -999.0,9,  -999.00,-999.0000,9,  -999.00,-999.000,9,-999.000,-999.0000,9,-999.000,9, -999.00,5,    52.8,2,     3.6,-999.000,9,-999.000,   72.33,2,    4.59,2,    5.20,-999.0000,9,-999.0000,9,-999.0000,9,-999.0000,9,-999.0000,9,-999.0000,9,     -999.0,     -999.0,9,     -999.0,9,     -999.0,9,     -999.0,9,     -999.0,9,     -999.0,9, -999.00,9,  29.2060,-999.0000,-999.000
325020060213,       P16N,       8,          2,         34,         34,2,20060217,       0923,        -10,       -151,       4664,    14.7,  29.2153,  35.9759,2,  35.9750,2,    194.3,2,   194.2,2,    0.10,2,    0.00,2,    0.00,2,    0.19,2,   1.532,2,   0.953,2,-999.000,5,  1997.7,2,  2369.3,2,   -999.0,9,  -999.00,-999.0000,9,  -999.00,-999.000,9,-999.000,-999.0000,9,-999.000,9, -999.00,5,    60.0,2,     3.5,-999.000,9,-999.000,   72.23,2,    4.11,2,   14.70,-999.0000,9,-999.0000,9,-999.0000,9,-999.0000,9,-999.0000,9,-999.0000,9,     -999.0,     -999.0,9,     -999.0,9,     -999.0,9,     -999.0,9,     -999.0,9,     -999.0,9, -999.00,9,  29.2117,-999.0000,-999.000
325020060213,       P16N,       8,          2,         33,         33,2,20060217,       0923,        -10,       -151,       4664,    34.9,  29.2207,  35.9777,2,  35.9770,2,    194.6,2,   193.8,2,    0.00,2,    0.00,2,    0.00,2,    0.19,2,   1.540,2,   0.957,2,-999.000,5,  1998.5,2,  2367.6,2,   -999.0,9,  -999.00,-999.0000,9,  -999.00,-999.000,9,-999.000,-999.0000,9,-999.000,9, -999.00,9,  -999.0,9,    -9.0,-999.000,9,-999.000,   71.25,2,    4.47,2,   34.90,-999.0000,9,-999.0000,9,-999.0000,9,-999.0000,9,-999.0000,9,-999.0000,9,     -999.0,     -999.0,9,     -999.0,9,     -999.0,9,     -999.0,9,     -999.0,9,     -999.0,9, -999.00,9,  29.2121,-999.0000,-999.000
325020060213,       P16N,       8,          2,         32,         32,2,20060217,       0923,        -10,       -151,       4664,    60.5,  29.2028,  35.9833,2,  35.9831,2,    194.2,2,   194.3,2,    0.00,2,    0.00,2,    0.00,2,    0.19,2,-999.000,9,-999.000,9,-999.000,9,  1998.9,2,  2368.6,2,   -999.0,9,  -999.00,   8.1377,2,    25.00,-999.000,9,-999.000,-999.0000,9,-999.000,9, -999.00,5,    62.5,2,     3.4,-999.000,9,-999.000,   71.12,2,    4.20,2,   60.50,-999.0000,9,-999.0000,9,-999.0000,9,-999.0000,9,-999.0000,9,-999.0000,9,     -999.0,     -999.0,9,     -999.0,9,     -999.0,9,     -999.0,9,     -999.0,9,     -999.0,9, -999.00,9,  29.1880,-999.0000,-999.000
325020060213,       P16N,       8,          2,         31,         31,2,20060217,       0923,        -10,       -151,       4664,    84.2,  28.9264,  36.0352,2,  36.0386,2,    196.1,2,   196.5,2,    0.10,2,    0.10,2,    0.00,2,    0.19,2,   1.561,6,   0.976,6,-999.000,5,  2003.0,2,  2371.9,2,   -999.0,9,  -999.00,-999.0000,9,  -999.00,-999.000,9,-999.000,-999.0000,9,-999.000,9, -999.00,5,    56.8,2,     3.2,-999.000,9,-999.000,   69.77,2,    4.50,2,   84.20,-999.0000,9,-999.0000,9,-999.0000,9,-999.0000,9,-999.0000,9,-999.0000,9,     -999.0,     -999.0,9,     -999.0,9,     -999.0,9,     -999.0,9,     -999.0,9,     -999.0,9, -999.00,9,  28.9060,-999.0000,-999.000
325020060213,       P16N,       8,          2,         30,         30,2,20060217,       0923,        -10,       -151,       4664,   111.3,  27.5167,  36.3430,2,  36.3444,2,    191.5,2,   190.8,2,    0.20,2,    0.10,2,    0.00,2,    0.22,2,-999.000,9,-999.000,9,-999.000,9,  2038.3,2,  2394.5,2,   -999.0,9,  -999.00,   8.1195,2,    25.00,-999.000,9,-999.000,-999.0000,9,-999.000,9, -999.00,5,    66.5,2,     3.0,-999.000,9,-999.000,   67.99,2,    4.31,2,  111.30,-999.0000,9,-999.0000,9,-999.0000,9,-999.0000,9,-999.0000,9,-999.0000,9,     -999.0,     -999.0,9,     -999.0,9,     -999.0,9,     -999.0,9,     -999.0,9,     -999.0,9, -999.00,9,  27.4907,-999.0000,-999.000
325020060213,       P16N,       8,          2,         29,         29,2,20060217,       0923,        -10,       -151,       4664,   135.0,  26.3650,  36.4211,2,  36.4206,2,    181.0,2,   179.8,2,    0.30,2,    0.80,2,    0.40,2,    0.32,2,   1.714,2,   1.074,2,-999.000,5,  2062.7,2,  2397.5,2,   -999.0,9,  -999.00,   8.0967,2,    25.00,-999.000,9,-999.000,-999.0000,9,-999.000,9, -999.00,5,    69.5,2,     2.6,-999.000,9,-999.000,   62.86,2,    5.68,2,  135.00,-999.0000,9,-999.0000,9,-999.0000,9,-999.0000,9,-999.0000,9,-999.0000,9,     -999.0,     -999.0,9,     -999.0,9,     -999.0,9,     -999.0,9,     -999.0,9,     -999.0,9, -999.00,9,  26.3344,-999.0000,-999.000
325020060213,       P16N,       8,          2,         28,         28,2,20060217,       0923,        -10,       -151,       4664,   174.9,  23.8331,  36.3106,2,  36.2953,2,    165.3,2,   165.6,2,    0.40,2,    3.60,2,    0.10,2,    0.48,2,-999.000,9,-999.000,9,-999.000,9,  2097.3,2,  2389.6,6,   -999.0,9,  -999.00,   8.0005,2,    25.00,-999.000,9,-999.000,-999.0000,9,-999.000,9, -999.00,5,    77.8,2,     3.0,-999.000,9,-999.000,   55.79,2,    7.40,2,  174.90,-999.0000,9,-999.0000,9,-999.0000,9,-999.0000,9,-999.0000,9,-999.0000,9,     -999.0,     -999.0,9,     -999.0,9,     -999.0,9,     -999.0,9,     -999.0,9,     -999.0,9, -999.00,9,  23.7962,-999.0000,-999.000
325020060213,       P16N,       8,          2,         27,         27,2,20060217,       0923,        -10,       -151,       4664,   225.4,  19.9004,  35.7283,2,  35.7336,2,    157.2,2,   157.2,2,    1.10,2,    6.80,2,    0.00,2,    0.67,2,   2.212,2,   1.285,2,-999.000,5,  2113.7,2,  2354.9,2,   -999.0,9,  -999.00,   7.9357,2,    25.00,-999.000,9,-999.000,-999.0000,9,-999.000,9, -999.00,5,    82.0,2,     3.7,-999.000,9,-999.000,   48.57,2,   11.13,2,  225.40,-999.0000,9,-999.0000,9,-999.0000,9,-999.0000,9,-999.0000,9,-999.0000,9,     -999.0,     -999.0,9,     -999.0,9,     -999.0,9,     -999.0,9,     -999.0,9,     -999.0,9, -999.00,9,  19.8587,-999.0000,-999.000
325020060213,       P16N,       8,          2,         26,         26,2,20060217,       0923,        -10,       -151,       4664,   275.2,  16.4785,  35.2456,2,  35.2300,2,    142.6,2,   140.5,2,    3.80,2,   11.40,2,    0.00,2,    0.99,2,   2.392,2,   1.268,2,-999.000,5,  2130.0,2,  2321.3,2,   -999.0,9,  -999.00,   7.8170,2,    25.00,-999.000,9,-999.000,-999.0000,9,-999.000,9, -999.00,5,    79.8,2,     3.7,-999.000,9,-999.000,   45.74,2,   15.87,2,  275.20,-999.0000,9,-999.0000,9,-999.0000,9,-999.0000,9,-999.0000,9,-999.0000,9,     -999.0,     -999.0,9,     -999.0,9,     -999.0,9,     -999.0,9,     -999.0,9,     -999.0,9, -999.00,9,  16.4339,-999.0000,-999.000
325020060213,       P16N,       8,          2,         25,         25,2,20060217,       0923,        -10,       -151,       4664,   323.9,  12.5284,  34.8437,2,  34.8258,2,     80.5,2,    77.8,2,   13.90,2,   23.60,2,    0.00,2,    1.83,2,   1.247,2,   0.663,2,-999.000,5,  2199.5,2,  2303.2,2,   -999.0,9,  -999.00,   7.6198,2,    25.00,-999.000,9,-999.000,-999.0000,9,-999.000,9, -999.00,5,    16.9,2,     3.5,-999.000,9,-999.000,   43.56,2,   27.64,2,  323.90,-999.0000,9,-999.0000,9,-999.0000,9,-999.0000,9,-999.0000,9,-999.0000,9,     -999.0,     -999.0,9,     -999.0,9,     -999.0,9,     -999.0,9,     -999.0,9,     -999.0,9, -999.00,9,  12.4847,-999.0000,-999.000
325020060213,       P16N,       8,          2,         24,         24,2,20060217,       0923,        -10,       -151,       4664,   375.9,   9.8416,  34.6892,2,  34.6909,2,     75.5,2,    77.2,2,   22.40,2,   30.30,2,    0.00,2,    2.12,2,   0.481,2,   0.251,2,-999.000,5,  2219.3,6,  2302.4,2,   -999.0,9,  -999.00,   7.5668,2,    25.00,-999.000,9,-999.000,-999.0000,9,-999.000,9, -999.00,5,   -40.2,2,     3.0,-999.000,9,-999.000,   41.80,2,   33.92,2,  375.90,-999.0000,9,-999.0000,9,-999.0000,9,-999.0000,9,-999.0000,9,-999.0000,9,     -999.0,     -999.0,9,     -999.0,9,     -999.0,9,     -999.0,9,     -999.0,9,     -999.0,9, -999.00,9,   9.7982,-999.0000,-999.000
325020060213,       P16N,       8,          2,         23,         23,2,20060217,       0923,        -10,       -151,       4664,   424.6,   8.7793,  34.6436,2,  34.6432,2,     89.3,2,    88.6,2,   26.50,2,   31.90,2,    0.00,2,    2.16,2,   0.273,4,   0.152,4,-999.000,5,  2223.0,2,  2303.9,2,   -999.0,9,  -999.00,-999.0000,9,  -999.00,-999.000,9,-999.000,-999.0000,9,-999.000,9, -999.00,5,   -60.4,2,     3.2,-999.000,9,-999.000,   41.54,2,   35.83,2,  424.60,-999.0000,9,-999.0000,9,-999.0000,9,-999.0000,9,-999.0000,9,-999.0000,9,     -999.0,     -999.0,9,     -999.0,9,     -999.0,9,     -999.0,9,     -999.0,9,     -999.0,9, -999.00,9,   8.7335,-999.0000,-999.000
325020060213,       P16N,       8,          2,         22,         22,2,20060217,       0923,        -10,       -151,       4664,   475.6,   7.9841,  34.6092,2,  34.6086,2,     94.8,2,    94.1,2,   31.00,2,   33.60,2,    0.00,2,    2.23,2,   0.185,2,   0.101,2,-999.000,5,  2227.5,2,  2305.9,2,   -999.0,9,  -999.00,   7.5498,2,    25.00,-999.000,9,-999.000,-999.0000,9,-999.000,9, -999.00,5,   -72.6,2,     2.9,-999.000,9,-999.000,   40.53,2,   37.65,2,  475.60,-999.0000,9,-999.0000,9,-999.0000,9,-999.0000,9,-999.0000,9,-999.0000,9,     -999.0,     -999.0,9,     -999.0,9,     -999.0,9,     -999.0,9,     -999.0,9,     -999.0,9, -999.00,9,   7.9354,-999.0000,-999.000
325020060213,       P16N,       8,          2,         21,         21,2,20060217,       0923,        -10,       -151,       4664,   551.8,   7.3141,  34.5782,2,  34.5772,2,     95.7,2,    91.6,2,   35.60,2,   35.40,2,    0.00,2,    2.34,2,   0.112,2,   0.060,2,-999.000,5,  2238.2,2,  2308.5,2,   -999.0,9,  -999.00,   7.5301,2,    25.00,-999.000,9,-999.000,-999.0000,9,-999.000,9, -999.00,5,   -86.6,2,     2.6,-999.000,9,-999.000,   39.61,2,   39.68,2,  551.80,-999.0000,9,-999.0000,9,-999.0000,9,-999.0000,9,-999.0000,9,-999.0000,9,     -999.0,     -999.0,9,     -999.0,9,     -999.0,9,     -999.0,9,     -999.0,9,     -999.0,9, -999.00,9,   7.2602,-999.0000,-999.000
325020060213,       P16N,       8,          2,         20,         20,2,20060217,       0923,        -10,       -151,       4664,   649.9,   6.3261,  34.5428,2,  34.5414,2,     88.4,2,    88.5,2,   45.70,2,   37.90,2,    0.00,2,    2.53,2,-999.000,1,-999.000,1,-999.000,9,  2251.6,2,  2316.3,2,   -999.0,9,  -999.00,   7.4990,2,    25.00,-999.000,9,-999.000,-999.0000,9,-999.000,9, -999.00,5,  -130.9,2,     6.3,-999.000,9,-999.000,   39.40,2,   41.89,2,  649.90,-999.0000,9,-999.0000,9,-999.0000,9,-999.0000,9,-999.0000,9,-999.0000,9,     -999.0,     -999.0,9,     -999.0,9,     -999.0,9,     -999.0,9,     -999.0,9,     -999.0,9, -999.00,9,   6.2670,-999.0000,-999.000
325020060213,       P16N,       8,          2,         19,         19,2,20060217,       0923,        -10,       -151,       4664,   750.7,   5.5655,  34.5262,2,  34.5251,2,     92.7,2,    93.7,2,   53.80,2,   38.80,2,    0.00,2,    2.60,2,   0.016,6,   0.008,6,-999.000,5,  2261.1,2,  2325.1,2,   -999.0,9,  -999.00,   7.4965,2,    25.00,-999.000,9,-999.000,-999.0000,9,-999.000,9, -999.00,5,  -136.4,2,     2.9,-999.000,9,-999.000,   39.15,2,   42.65,2,  750.70,-999.0000,9,-999.0000,9,-999.0000,9,-999.0000,9,-999.0000,9,-999.0000,9,     -999.0,     -999.0,9,     -999.0,9,     -999.0,9,     -999.0,9,     -999.0,9,     -999.0,9, -999.00,9,   5.5010,-999.0000,-999.000
325020060213,       P16N,       8,          2,         18,         18,2,20060217,       0923,        -10,       -151,       4664,   850.3,   5.0296,  34.5301,2,-999.0000,8,     93.7,2,    94.1,2,   63.50,2,   39.50,2,    0.00,2,    2.66,2,   0.006,2,   0.002,2,-999.000,5,  2271.9,2,  2335.3,2,   -999.0,9,  -999.00,   7.4996,2,    25.00,-999.000,9,-999.000,-999.0000,9,-999.000,9, -999.00,9,  -999.0,9,    -9.0,-999.000,9,-999.000,   37.93,2,   43.23,2,  850.30,-999.0000,9,-999.0000,9,-999.0000,9,-999.0000,9,-999.0000,9,-999.0000,9,     -999.0,     -999.0,9,     -999.0,9,     -999.0,9,     -999.0,9,     -999.0,9,     -999.0,9, -999.00,9,   4.9595,-999.0000,-999.000
325020060213,       P16N,       8,          2,         17,         17,2,20060217,       0923,        -10,       -151,       4664,   951.2,   4.5306,  34.5329,2,  34.5342,2,    102.9,2,   103.4,2,   71.20,2,   38.90,2,    0.00,2,    2.64,2,-999.000,1,-999.000,1,-999.000,9,  2274.2,2,  2343.1,6,   -999.0,9,  -999.00,   7.5118,2,    25.00,-999.000,9,-999.000,-999.0000,9,-999.000,9, -999.00,9,  -999.0,9,    -9.0,-999.000,9,-999.000,   37.28,2,   42.86,2,  951.20,-999.0000,9,-999.0000,9,-999.0000,9,-999.0000,9,-999.0000,9,-999.0000,9,     -999.0,     -999.0,9,     -999.0,9,     -999.0,9,     -999.0,9,     -999.0,9,     -999.0,9, -999.00,9,   4.4550,-999.0000,-999.000
325020060213,       P16N,       8,          2,         16,         16,2,20060217,       0923,        -10,       -151,       4664,  1101.2,   3.8754,  34.5534,2,  34.5519,2,    111.1,2,   111.7,2,   84.70,2,   38.60,2,    0.00,2,    2.64,2,   0.005,2,   0.003,2,-999.000,5,  2285.5,2,  2358.0,2,   -999.0,9,  -999.00,   7.5192,2,    25.00,-999.000,9,-999.000,-999.0000,9,-999.000,9, -999.00,9,  -999.0,9,    -9.0,-999.000,9,-999.000,   37.21,2,   42.35,2, 1101.20,-999.0000,9,-999.0000,9,-999.0000,9,-999.0000,9,-999.0000,9,-999.0000,9,     -999.0,     -999.0,9,     -999.0,9,     -999.0,9,     -999.0,9,     -999.0,9,     -999.0,9, -999.00,9,   3.7922,-999.0000,-999.000
325020060213,       P16N,       8,          2,         15,         15,2,20060217,       0923,        -10,       -151,       4664,  1300.0,   3.3166,  34.5771,2,  34.5762,2,    117.1,2,   117.5,2,   97.30,2,   38.40,2,    0.00,2,    2.64,2,   0.005,2,   0.000,2,-999.000,5,  2302.6,2,  2372.4,2,   -999.0,9,  -999.00,   7.5304,2,    25.00,-999.000,9,-999.000,-999.0000,9,-999.000,9, -999.00,9,  -999.0,9,    -9.0,-999.000,9,-999.000,   36.52,2,   41.92,2, 1300.00,-999.0000,9,-999.0000,9,-999.0000,9,-999.0000,9,-999.0000,9,-999.0000,9,     -999.0,     -999.0,9,     -999.0,9,     -999.0,9,     -999.0,9,     -999.0,9,     -999.0,9, -999.00,9,   3.2220,-999.0000,-999.000
325020060213,       P16N,       8,          2,         13,         13,2,20060217,       0923,        -10,       -151,       4664,  1500.1,   2.9108,  34.5966,2,  34.5978,2,    123.6,2,   124.2,2,  105.70,2,   38.10,2,    0.00,2,    2.62,2,-999.000,1,-999.000,1,-999.000,9,  2306.6,2,  2382.1,2,   -999.0,9,  -999.00,   7.5356,2,    25.00,-999.000,9,-999.000,-999.0000,9,-999.000,9, -999.00,9,  -999.0,9,    -9.0,-999.000,9,-999.000,   36.82,2,   41.39,2, 1500.10,-999.0000,9,-999.0000,9,-999.0000,9,-999.0000,9,-999.0000,9,-999.0000,9,     -999.0,     -999.0,9,     -999.0,9,     -999.0,9,     -999.0,9,     -999.0,9,     -999.0,9, -999.00,9,   2.8039,-999.0000,-999.000
325020060213,       P16N,       8,          2,         14,         14,2,20060217,       0923,        -10,       -151,       4664,  1500.5,   2.9134,  34.5964,2,-999.0000,8,    123.7,2,   123.9,2,  105.80,2,   38.20,2,    0.00,2,    2.62,2,-999.000,9,-999.000,9,-999.000,9,  2307.8,2,  2382.9,2,   -999.0,9,  -999.00,   7.5392,2,    25.00,-999.000,9,-999.000,-999.0000,9,-999.000,9, -999.00,9,  -999.0,9,    -9.0,-999.000,9,-999.000,   36.47,2,   41.82,2, 1500.50,-999.0000,9,-999.0000,9,-999.0000,9,-999.0000,9,-999.0000,9,-999.0000,9,     -999.0,     -999.0,9,     -999.0,9,     -999.0,9,     -999.0,9,     -999.0,9,     -999.0,9, -999.00,9,   2.8065,-999.0000,-999.000
325020060213,       P16N,       8,          2,         12,         12,2,20060217,       0923,        -10,       -151,       4664,  1901.0,   2.2650,  34.6356,2,  34.6340,2,    134.6,2,   135.4,2,  119.70,2,   37.60,2,    0.00,2,    2.58,2,-999.000,9,-999.000,9,-999.000,9,  2316.1,2,  2398.6,2,   -999.0,9,  -999.00,   7.5564,2,    25.00,-999.000,9,-999.000,-999.0000,9,-999.000,9, -999.00,9,  -999.0,9,    -9.0,-999.000,9,-999.000,   36.30,2,   41.97,2, 1901.00,-999.0000,9,-999.0000,9,-999.0000,9,-999.0000,9,-999.0000,9,-999.0000,9,     -999.0,     -999.0,9,     -999.0,9,     -999.0,9,     -999.0,9,     -999.0,9,     -999.0,9, -999.00,9,   2.1330,-999.0000,-999.000
325020060213,       P16N,       8,          2,         11,         11,2,20060217,       0923,        -10,       -151,       4664,  2126.3,   2.0694,  34.6506,2,  34.6483,2,    139.5,2,   140.0,2,  123.70,2,   37.30,2,    0.00,2,    2.56,2,-999.000,9,-999.000,9,-999.000,9,  2318.1,2,  2403.1,2,   -999.0,9,  -999.00,   7.5569,2,    25.00,-999.000,9,-999.000,-999.0000,9,-999.000,9, -999.00,9,  -999.0,9,    -9.0,-999.000,9,-999.000,   36.79,2,   40.93,2, 2126.30,-999.0000,9,-999.0000,9,-999.0000,9,-999.0000,9,-999.0000,9,-999.0000,9,     -999.0,     -999.0,9,     -999.0,9,     -999.0,9,     -999.0,9,     -999.0,9,     -999.0,9, -999.00,9,   1.9211,-999.0000,-999.000
325020060213,       P16N,       8,          2,         10,         10,2,20060217,       0923,        -10,       -151,       4664,  2372.8,   1.9203,  34.6635,2,  34.6584,3,    140.6,2,   141.5,2,  129.20,2,   37.10,2,    0.00,2,    2.49,2,-999.000,9,-999.000,9,-999.000,9,  2322.3,2,  2410.2,2,   -999.0,9,  -999.00,   7.5737,2,    25.00,-999.000,9,-999.000,-999.0000,9,-999.000,9, -999.00,9,  -999.0,9,    -9.0,-999.000,9,-999.000,   36.37,2,   40.59,2, 2372.80,-999.0000,9,-999.0000,9,-999.0000,9,-999.0000,9,-999.0000,9,-999.0000,9,     -999.0,     -999.0,9,     -999.0,9,     -999.0,9,     -999.0,9,     -999.0,9,     -999.0,9, -999.00,9,   1.7529,-999.0000,-999.000
325020060213,       P16N,       8,          2,          9,          9,2,20060217,       0923,        -10,       -151,       4664,  2625.8,   1.8151,  34.6729,2,  34.6719,2,    143.9,2,   145.0,2,  131.90,2,   36.80,2,    0.00,2,    2.54,2,   0.002,2,   0.000,6,-999.000,5,  2322.8,2,  2413.7,2,   -999.0,9,  -999.00,   7.5778,2,    25.00,-999.000,9,-999.000,-999.0000,9,-999.000,9, -999.00,9,  -999.0,9,    -9.0,-999.000,9,-999.000,   35.93,2,   41.02,2, 2625.80,-999.0000,9,-999.0000,9,-999.0000,9,-999.0000,9,-999.0000,9,-999.0000,9,     -999.0,     -999.0,9,     -999.0,9,     -999.0,9,     -999.0,9,     -999.0,9,     -999.0,9, -999.00,9,   1.6267,-999.0000,-999.000