BOTTLE,20170720CCHSIOCBG
EXPOCODE,SECT_ID,STNNBR,CASTNO,SAMPNO,BTLNBR,BTLNBR_FLAG_W,DATE,TIME,LATITUDE,LONGITUDE,DEPTH,CTDPRS,CTDTMP,CTDSAL,CTDSAL_FLAG_W,SALNTY,SALNTY_FLAG_W,CTDOXY,CTDOXY_FLAG_W,OXYGEN,OXYGEN_FLAG_W,SILCAT,SILCAT_FLAG_W,NITRAT,NITRAT_FLAG_W,NITRIT,NITRIT_FLAG_W,PHSPHT,PHSPHT_FLAG_W,CFC-11,CFC-11_FLAG_W,CFC-12,CFC-12_FLAG_W,CFC113,CFC113_FLAG_W,TCARBN,TCARBN_FLAG_W,ALKALI,ALKALI_FLAG_W,FCO2,FCO2_FLAG_W,FCO2TMP,PH_TOT,PH_TOT_FLAG_W,PH_TMP,TRITUM,TRITUM_FLAG_W,TRITER,HELIUM,HELIUM_FLAG_W,DELHE3,DELHE3_FLAG_W,DELC13,DELC13_FLAG_W,DELC14,DELC14_FLAG_W,C14ERR,NEON,NEON_FLAG_W,NEONER,DOC,DOC_FLAG_W,TDN,TDN_FLAG_W,CTDRAW,CDOM325,CDOM325_FLAG_W,CDOM340,CDOM340_FLAG_W,CDOM380,CDOM380_FLAG_W,CDOM412,CDOM412_FLAG_W,CDOMSL,CDOMSL_FLAG_W,CDOMSN,CDOMSN_FLAG_W,DCNS,ARABI,ARABI_FLAG_W,FUCO,FUCO_FLAG_W,GALA,GALA_FLAG_W,GLUC,GLUC_FLAG_W,MAN,MAN_FLAG_W,RHAM,RHAM_FLAG_W,BRDU,BRDU_FLAG_W,THETA,HELIER,DELHER
,,,,,,,,,,,METERS,DBAR,ITS-90,PSS-78,,PSS-78,,UMOL/KG,,UMOL/KG,,UMOL/KG,,UMOL/KG,,UMOL/KG,,UMOL/KG,,PMOL/KG,,PMOL/KG,,PMOL/KG,,UMOL/KG,,UMOL/KG,,UATM,,DEG C,,,DEG C,TU,,TU,NMOL/KG,,PERCNT,,/MILLE,,/MILLE,,/MILLE,NMOL/KG,,NMOL/KG,UMOL/KG,,UMOL/KG,,DBAR,1/M,,1/M,,1/M,,1/M,,1/NM,,1/NM,,NMOL/KG,NMOL/KG,,NMOL/KG,,NMOL/KG,,NMOL/KG,,NMOL/KG,,NMOL/KG,,PMOL/L/H,,DEG C,NMOL/KG,PERCNT
325020060213,       P16N,      44,          1,         36,         36,2,20060312,       1330,    22.0003,  -152.0003,       5156,     5.0,  23.2812,  34.8822,2,  34.8826,2,    214.7,2,   214.8,2,    0.10,2,    0.00,2,    0.00,2,    0.08,2,   1.992,2,   1.201,2,-999.000,5,  1986.7,2,  2294.9,2,    297.4,2,    20.00,   8.0744,6,    25.00,-999.000,9,-999.000,-999.0000,9,-999.000,9, -999.00,5,    72.1,2,     3.2,-999.000,9,-999.000,   67.97,2,    4.26,2,    5.00,-999.0000,9,-999.0000,9,-999.0000,9,-999.0000,9,-999.0000,9,-999.0000,9,     -999.0,     -999.0,9,     -999.0,9,     -999.0,9,     -999.0,9,     -999.0,9,     -999.0,9, -999.00,9,  23.2802,-999.0000,-999.000
325020060213,       P16N,      44,          1,         35,         35,2,20060312,       1330,    22.0003,  -152.0003,       5156,    15.4,  23.2878,  34.8819,2,  34.8830,2,    214.1,2,   214.8,2,    0.00,2,    0.00,2,    0.00,2,    0.08,2,   1.978,2,   1.205,2,-999.000,5,  1985.6,2,  2301.8,2,    296.5,2,    20.00,   8.0738,2,    25.00,-999.000,9,-999.000,-999.0000,9,-999.000,9, -999.00,9,  -999.0,9,    -9.0,-999.000,9,-999.000,   67.09,2,    4.45,2,   15.40,-999.0000,9,-999.0000,9,-999.0000,9,-999.0000,9,-999.0000,9,-999.0000,9,     -999.0,     -999.0,9,     -999.0,9,     -999.0,9,     -999.0,9,     -999.0,9,     -999.0,9, -999.00,9,  23.2846,-999.0000,-999.000
325020060213,       P16N,      44,          1,         34,         34,2,20060312,       1330,    22.0003,  -152.0003,       5156,    34.9,  23.2886,  34.8810,2,  34.8799,2,    214.7,2,   214.1,2,    0.00,2,    0.00,2,    0.00,2,    0.07,2,   2.001,6,   1.200,6,-999.000,5,  1984.6,2,  2296.5,2,    300.6,2,    20.00,   8.0713,2,    25.00,-999.000,9,-999.000,-999.0000,9,-999.000,9, -999.00,9,  -999.0,9,    -9.0,-999.000,9,-999.000,   65.02,2,    4.17,2,   34.90,-999.0000,9,-999.0000,9,-999.0000,9,-999.0000,9,-999.0000,9,-999.0000,9,     -999.0,     -999.0,9,     -999.0,9,     -999.0,9,     -999.0,9,     -999.0,9,     -999.0,9, -999.00,9,  23.2815,-999.0000,-999.000
325020060213,       P16N,      44,          1,         33,         33,9,20060312,       1330,    22.0003,  -152.0003,       5156,    60.6,  23.3036,  34.9086,2,-999.0000,9,    215.3,2,  -999.0,9, -999.00,9, -999.00,9, -999.00,9, -999.00,9,-999.000,9,-999.000,9,-999.000,9,  -999.0,9,  -999.0,9,   -999.0,9,  -999.00,-999.0000,9,  -999.00,-999.000,9,-999.000,-999.0000,9,-999.000,9, -999.00,9,  -999.0,9,    -9.0,-999.000,9,-999.000, -999.00,9, -999.00,9,   60.60,-999.0000,9,-999.0000,9,-999.0000,9,-999.0000,9,-999.0000,9,-999.0000,9,     -999.0,     -999.0,9,     -999.0,9,     -999.0,9,     -999.0,9,     -999.0,9,     -999.0,9, -999.00,9,  23.2911,-999.0000,-999.000
325020060213,       P16N,      44,          1,         32,         32,2,20060312,       1330,    22.0003,  -152.0003,       5156,    86.0,  22.9690,  35.2179,2,  35.2176,2,    214.4,2,   212.6,2,    0.10,2,    0.10,2,    0.00,2,    0.04,2,   1.985,2,   1.215,2,-999.000,5,  2007.5,2,  2318.7,2,    311.5,2,    20.00,   8.0647,2,    25.00,-999.000,9,-999.000,-999.0000,9,-999.000,9, -999.00,9,  -999.0,9,    -9.0,-999.000,9,-999.000,   64.80,2,    4.58,2,   86.00,-999.0000,9,-999.0000,9,-999.0000,9,-999.0000,9,-999.0000,9,-999.0000,9,     -999.0,     -999.0,9,     -999.0,9,     -999.0,9,     -999.0,9,     -999.0,9,     -999.0,9, -999.00,9,  22.9514,-999.0000,-999.000
325020060213,       P16N,      44,          1,         31,         31,2,20060312,       1330,    22.0003,  -152.0003,       5156,   110.3,  22.6803,  35.2831,2,  35.2864,2,    210.6,2,   212.7,2,    0.20,2,    0.00,2,    0.00,2,    0.03,2,   2.060,2,   1.226,2,-999.000,5,  2010.8,2,  2321.6,2,    312.3,2,    20.00,   8.0588,2,    25.00,-999.000,9,-999.000,-999.0000,9,-999.000,9, -999.00,5,    73.6,2,     3.4,-999.000,9,-999.000,   64.00,2,    4.43,2,  110.30,-999.0000,9,-999.0000,9,-999.0000,9,-999.0000,9,-999.0000,9,-999.0000,9,     -999.0,     -999.0,9,     -999.0,9,     -999.0,9,     -999.0,9,     -999.0,9,     -999.0,9, -999.00,9,  22.6579,-999.0000,-999.000
325020060213,       P16N,      44,          1,         30,         30,2,20060312,       1330,    22.0003,  -152.0003,       5156,   136.2,  21.3059,  35.1465,2,  35.1509,2,    195.3,2,   197.9,2,    0.70,2,    0.80,2,    0.10,2,    0.13,2,   2.297,2,   1.315,2,-999.000,5,  2036.7,2,  2314.0,2,    368.4,2,    20.00,   8.0054,2,    25.00,-999.000,9,-999.000,-999.0000,9,-999.000,9, -999.00,5,    81.5,2,     3.6,-999.000,9,-999.000,   54.92,2,    4.98,2,  136.20,-999.0000,9,-999.0000,9,-999.0000,9,-999.0000,9,-999.0000,9,-999.0000,9,     -999.0,     -999.0,9,     -999.0,9,     -999.0,9,     -999.0,9,     -999.0,9,     -999.0,9, -999.00,9,  21.2796,-999.0000,-999.000
325020060213,       P16N,      44,          1,         29,         29,2,20060312,       1330,    22.0003,  -152.0003,       5156,   174.8,  19.1765,  34.8971,2,  34.9173,2,    190.7,2,   193.6,2,    1.60,2,    2.60,2,    0.00,2,    0.23,2,   2.530,2,   1.448,2,-999.000,5,  2048.9,2,  2294.7,6,    419.5,2,    20.00,   7.9561,2,    25.00,-999.000,9,-999.000,-999.0000,9,-999.000,9, -999.00,9,  -999.0,9,    -9.0,-999.000,9,-999.000,   50.43,2,    6.47,2,  174.80,-999.0000,9,-999.0000,9,-999.0000,9,-999.0000,9,-999.0000,9,-999.0000,9,     -999.0,     -999.0,9,     -999.0,9,     -999.0,9,     -999.0,9,     -999.0,9,     -999.0,9, -999.00,9,  19.1452,-999.0000,-999.000
325020060213,       P16N,      44,          1,         28,         28,2,20060312,       1330,    22.0003,  -152.0003,       5156,   224.7,  14.5091,  34.2857,2,  34.2836,2,    189.2,2,   187.2,2,    5.60,2,    7.80,2,    0.00,2,    0.62,2,   2.927,2,   1.644,2,-999.000,5,  2072.9,2,  2265.3,2,    563.2,2,    20.00,   7.8466,2,    25.00,-999.000,9,-999.000,-999.0000,9,-999.000,9, -999.00,5,    78.1,2,     3.9,-999.000,9,-999.000,   49.13,2,   11.81,2,  224.70,-999.0000,9,-999.0000,9,-999.0000,9,-999.0000,9,-999.0000,9,-999.0000,9,     -999.0,     -999.0,9,     -999.0,9,     -999.0,9,     -999.0,9,     -999.0,9,     -999.0,9, -999.00,9,  14.4760,-999.0000,-999.000
325020060213,       P16N,      44,          1,         27,         27,2,20060312,       1330,    22.0003,  -152.0003,       5156,   275.7,  11.9727,  34.1451,2,  34.1433,2,    200.2,2,   194.5,2,   10.80,2,   12.60,2,    0.00,2,    0.90,2,   3.488,2,   1.763,2,-999.000,5,  2092.1,2,  2258.5,2,    650.0,2,    20.00,   7.7907,2,    25.00,-999.000,9,-999.000,-999.0000,9,-999.000,9, -999.00,9,  -999.0,9,    -9.0,-999.000,9,-999.000,   48.11,2,   17.24,2,  275.70,-999.0000,9,-999.0000,9,-999.0000,9,-999.0000,9,-999.0000,9,-999.0000,9,     -999.0,     -999.0,9,     -999.0,9,     -999.0,9,     -999.0,9,     -999.0,9,     -999.0,9, -999.00,9,  11.9370,-999.0000,-999.000
325020060213,       P16N,      44,          1,         26,         26,2,20060312,       1330,    22.0003,  -152.0003,       5156,   325.4,  10.4879,  34.1410,2,  34.1396,2,    200.9,2,   198.7,2,   15.90,2,   15.60,2,    0.00,2,    1.07,2,   3.575,2,   1.789,2,-999.000,5,  2107.1,2,  2260.0,2,    697.1,2,    20.00,   7.7625,2,    25.00,-999.000,9,-999.000,-999.0000,9,-999.000,9, -999.00,5,    41.5,2,     3.4,-999.000,9,-999.000,   47.20,2,   20.19,2,  325.40,-999.0000,9,-999.0000,9,-999.0000,9,-999.0000,9,-999.0000,9,-999.0000,9,     -999.0,     -999.0,9,     -999.0,9,     -999.0,9,     -999.0,9,     -999.0,9,     -999.0,9, -999.00,9,  10.4491,-999.0000,-999.000
325020060213,       P16N,      44,          1,         25,         25,2,20060312,       1330,    22.0003,  -152.0003,       5156,   373.9,   9.5201,  34.1164,2,  34.1175,2,    192.5,2,   191.1,2,   21.10,2,   18.50,2,    0.00,2,    1.24,2,   3.296,2,   1.729,2,-999.000,5,  2124.9,2,  2263.3,2,    766.6,2,    20.00,   7.7258,3,    25.00,-999.000,9,-999.000,-999.0000,9,-999.000,9, -999.00,5,    34.6,2,     3.9,-999.000,9,-999.000,   46.20,2,   22.75,2,  373.90,-999.0000,9,-999.0000,9,-999.0000,9,-999.0000,9,-999.0000,9,-999.0000,9,     -999.0,     -999.0,9,     -999.0,9,     -999.0,9,     -999.0,9,     -999.0,9,     -999.0,9, -999.00,9,   9.4781,-999.0000,-999.000
325020060213,       P16N,      44,          1,         24,         24,2,20060312,       1330,    22.0003,  -152.0003,       5156,   424.8,   8.0854,  34.0636,2,  34.0645,2,    160.5,2,   158.0,2,   33.60,2,   24.50,2,    0.00,2,    1.66,2,   2.820,2,   1.395,2,-999.000,5,  2167.4,2,  2271.8,2,    988.4,6,    20.00,   7.6271,2,    25.00,-999.000,9,-999.000,-999.0000,9,-999.000,9, -999.00,5,    13.7,2,     3.1,-999.000,9,-999.000,   45.23,2,   28.41,2,  424.80,-999.0000,9,-999.0000,9,-999.0000,9,-999.0000,9,-999.0000,9,-999.0000,9,     -999.0,     -999.0,9,     -999.0,9,     -999.0,9,     -999.0,9,     -999.0,9,     -999.0,9, -999.00,9,   8.0421,-999.0000,-999.000
325020060213,       P16N,      44,          1,         23,         23,2,20060312,       1330,    22.0003,  -152.0003,       5156,   474.3,   6.8524,  34.0371,2,  34.0371,2,    115.4,2,   113.7,2,   48.90,2,   31.00,2,    0.00,2,    2.14,2,   1.895,2,   0.922,2,-999.000,5,  2217.0,2,  2288.2,2,   1344.1,2,    20.00,   7.5082,2,    25.00,-999.000,9,-999.000,-999.0000,9,-999.000,9, -999.00,5,   -26.8,2,     3.3,-999.000,9,-999.000,   44.66,2,   34.92,2,  474.30,-999.0000,9,-999.0000,9,-999.0000,9,-999.0000,9,-999.0000,9,-999.0000,9,     -999.0,     -999.0,9,     -999.0,9,     -999.0,9,     -999.0,9,     -999.0,9,     -999.0,9, -999.00,9,   6.8083,-999.0000,-999.000
325020060213,       P16N,      44,          1,         22,         22,2,20060312,       1330,    22.0003,  -152.0003,       5156,   551.2,   5.8299,  34.1072,2,  34.1004,2,     59.2,2,    60.7,2,   66.70,2,   37.00,2,    0.00,2,    2.63,2,   0.697,2,   0.370,2,-999.000,5,  2274.1,6,  2306.7,2,   1825.0,2,    20.00,   7.3911,2,    25.00,-999.000,9,-999.000,-999.0000,9,-999.000,9, -999.00,5,   -98.0,2,     2.8,-999.000,9,-999.000,   43.59,2,   40.44,2,  551.20,-999.0000,9,-999.0000,9,-999.0000,9,-999.0000,9,-999.0000,9,-999.0000,9,     -999.0,     -999.0,9,     -999.0,9,     -999.0,9,     -999.0,9,     -999.0,9,     -999.0,9, -999.00,9,   5.7826,-999.0000,-999.000
325020060213,       P16N,      44,          1,         21,         21,2,20060312,       1330,    22.0003,  -152.0003,       5156,   649.7,   5.3851,  34.2647,2,  34.2669,2,     27.2,2,    25.9,2,   81.10,2,   40.50,2,    0.00,2,    2.96,2,   0.107,2,   0.059,2,-999.000,5,  2312.8,2,  2331.5,2,   2091.1,2,    20.00,   7.3392,2,    25.00,-999.000,9,-999.000,-999.0000,9,-999.000,9, -999.00,5,  -150.6,2,     2.9,-999.000,9,-999.000,   42.69,2,   44.39,2,  649.70,-999.0000,9,-999.0000,9,-999.0000,9,-999.0000,9,-999.0000,9,-999.0000,9,     -999.0,     -999.0,9,     -999.0,9,     -999.0,9,     -999.0,9,     -999.0,9,     -999.0,9, -999.00,9,   5.3310,-999.0000,-999.000
325020060213,       P16N,      44,          1,         20,         20,2,20060312,       1330,    22.0003,  -152.0003,       5156,   749.9,   5.0479,  34.3817,2,  34.3799,2,     24.9,2,    24.2,2,   88.60,2,   41.70,2,    0.00,2,    3.03,2,   0.019,2,   0.024,2,-999.000,5,  2327.9,2,  2340.8,2,   2053.8,2,    20.00,   7.3502,2,    25.00,-999.000,9,-999.000,-999.0000,9,-999.000,9, -999.00,5,  -171.9,2,     2.7,-999.000,9,-999.000,   41.50,2,   45.93,2,  749.90,-999.0000,9,-999.0000,9,-999.0000,9,-999.0000,9,-999.0000,9,-999.0000,9,     -999.0,     -999.0,9,     -999.0,9,     -999.0,9,     -999.0,9,     -999.0,9,     -999.0,9, -999.00,9,   4.9866,-999.0000,-999.000
325020060213,       P16N,      44,          1,         19,         19,2,20060312,       1330,    22.0003,  -152.0003,       5156,   849.8,   4.7248,  34.4517,2,  34.4507,2,     30.1,2,    29.1,2,   94.40,2,   42.20,2,    0.00,2,    3.05,2,   0.002,2,   0.014,2,-999.000,5,  2334.2,2,  2352.9,2,   1977.9,2,    20.00,   7.3663,2,    25.00,-999.000,9,-999.000,-999.0000,9,-999.000,9, -999.00,5,  -187.1,2,     2.6,-999.000,9,-999.000,   40.42,2,   46.06,2,  849.80,-999.0000,9,-999.0000,9,-999.0000,9,-999.0000,9,-999.0000,9,-999.0000,9,     -999.0,     -999.0,9,     -999.0,9,     -999.0,9,     -999.0,9,     -999.0,9,     -999.0,9, -999.00,9,   4.6568,-999.0000,-999.000
325020060213,       P16N,      44,          1,         18,         18,2,20060312,       1330,    22.0003,  -152.0003,       5156,   950.6,   4.4021,  34.4813,2,  34.4806,2,     34.4,2,    33.9,2,  100.80,2,   42.30,2,    0.00,2,    3.05,2,   0.004,6,   0.004,6,-999.000,5,  2340.0,2,  2365.3,6,   1934.6,2,    20.00,   7.3774,2,    25.00,-999.000,9,-999.000,-999.0000,9,-999.000,9, -999.00,5,  -197.8,2,     2.6,-999.000,9,-999.000,   39.39,2,   46.65,2,  950.60,-999.0000,9,-999.0000,9,-999.0000,9,-999.0000,9,-999.0000,9,-999.0000,9,     -999.0,     -999.0,9,     -999.0,9,     -999.0,9,     -999.0,9,     -999.0,9,     -999.0,9, -999.00,9,   4.3276,-999.0000,-999.000
325020060213,       P16N,      44,          1,         17,         17,2,20060312,       1330,    22.0003,  -152.0003,       5156,  1100.4,   4.0201,  34.5129,2,  34.5120,2,     39.4,2,    39.5,2,  109.00,2,   42.60,2,    0.00,2,    3.06,2,  -0.005,2,   0.005,2,-999.000,5,  2347.6,2,  2380.5,2,   1911.5,2,    20.00,   7.3850,2,    25.00,-999.000,9,-999.000,-999.0000,9,-999.000,9, -999.00,5,  -210.5,2,     2.7,-999.000,9,-999.000,   37.92,2,   46.46,2, 1100.40,-999.0000,9,-999.0000,9,-999.0000,9,-999.0000,9,-999.0000,9,-999.0000,9,     -999.0,     -999.0,9,     -999.0,9,     -999.0,9,     -999.0,9,     -999.0,9,     -999.0,9, -999.00,9,   3.9358,-999.0000,-999.000
325020060213,       P16N,      44,          1,         16,         16,2,20060312,       1330,    22.0003,  -152.0003,       5156,  1300.4,   3.4858,  34.5439,2,  34.5421,2,     49.0,2,    48.7,2,  120.30,2,   42.30,2,    0.00,2,    3.03,2,-999.000,9,-999.000,9,-999.000,9,  2353.6,2,  2393.5,2,   1837.2,2,    20.00,   7.4074,2,    25.00,-999.000,9,-999.000,-999.0000,9,-999.000,9, -999.00,5,  -221.2,2,     2.4,-999.000,9,-999.000,   37.35,2,   46.39,2, 1300.40,-999.0000,9,-999.0000,9,-999.0000,9,-999.0000,9,-999.0000,9,-999.0000,9,     -999.0,     -999.0,9,     -999.0,9,     -999.0,9,     -999.0,9,     -999.0,9,     -999.0,9, -999.00,9,   3.3895,-999.0000,-999.000
325020060213,       P16N,      44,          1,         15,         15,2,20060312,       1330,    22.0003,  -152.0003,       5156,  1500.5,   3.0015,  34.5708,2,  34.5687,2,     62.0,2,    61.5,2,  130.90,2,   41.80,2,    0.00,2,    2.98,2,-999.000,9,-999.000,9,-999.000,9,  2358.0,2,  2405.5,2,   1745.6,6,    20.00,   7.4248,2,    25.00,-999.000,9,-999.000,-999.0000,9,-999.000,9, -999.00,5,  -226.3,2,     3.0,-999.000,9,-999.000,   37.21,2,   45.26,2, 1500.50,-999.0000,9,-999.0000,9,-999.0000,9,-999.0000,9,-999.0000,9,-999.0000,9,     -999.0,     -999.0,9,     -999.0,9,     -999.0,9,     -999.0,9,     -999.0,9,     -999.0,9, -999.00,9,   2.8936,-999.0000,-999.000
325020060213,       P16N,      44,          1,         14,         14,2,20060312,       1330,    22.0003,  -152.0003,       5156,  1700.8,   2.6148,  34.5928,2,  34.5929,2,     70.9,2,    71.1,2,  139.70,2,   40.90,2,    0.00,2,    2.94,2,   0.014,3,   0.185,3,-999.000,5,  2361.0,2,  2436.7,3,   1680.6,2,    20.00,   7.4431,2,    25.00,-999.000,9,-999.000,-999.0000,9,-999.000,9, -999.00,9,  -999.0,9,    -9.0,-999.000,9,-999.000,   37.41,2,   44.59,2, 1700.80,-999.0000,9,-999.0000,9,-999.0000,9,-999.0000,9,-999.0000,9,-999.0000,9,     -999.0,     -999.0,9,     -999.0,9,     -999.0,9,     -999.0,9,     -999.0,9,     -999.0,9, -999.00,9,   2.4949,-999.0000,-999.000
325020060213,       P16N,      44,          1,         13,         13,9,20060312,       1330,    22.0003,  -152.0003,       5156,  1900.1,   2.3383,  34.6104,2,-999.0000,9,     80.6,2,  -999.0,9, -999.00,9, -999.00,9, -999.00,9, -999.00,9,-999.000,9,-999.000,9,-999.000,9,  -999.0,9,  -999.0,9,   -999.0,9,  -999.00,-999.0000,9,  -999.00,-999.000,9,-999.000,-999.0000,9,-999.000,9, -999.00,9,  -999.0,9,    -9.0,-999.000,9,-999.000, -999.00,9, -999.00,9, 1900.10,-999.0000,9,-999.0000,9,-999.0000,9,-999.0000,9,-999.0000,9,-999.0000,9,     -999.0,     -999.0,9,     -999.0,9,     -999.0,9,     -999.0,9,     -999.0,9,     -999.0,9, -999.00,9,   2.2053,-999.0000,-999.000
325020060213,       P16N,      44,          1,         12,         12,2,20060312,       1330,    22.0003,  -152.0003,       5156,  2126.8,   2.0652,  34.6273,2,  34.6263,2,     90.9,2,    90.7,2,  152.00,2,   39.90,2,    0.00,2,    2.82,2,-999.000,9,-999.000,9,-999.000,9,  2360.3,2,  2417.7,2,   1541.2,2,    20.00,   7.4758,3,    25.00,-999.000,9,-999.000,-999.0000,9,-999.000,9, -999.00,9,  -999.0,9,    -9.0,-999.000,9,-999.000,   37.35,2,   44.18,2, 2126.80,-999.0000,9,-999.0000,9,-999.0000,9,-999.0000,9,-999.0000,9,-999.0000,9,     -999.0,     -999.0,9,     -999.0,9,     -999.0,9,     -999.0,9,     -999.0,9,     -999.0,9, -999.00,9,   1.9170,-999.0000,-999.000
325020060213,       P16N,      44,          1,         11,         11,2,20060312,       1330,    22.0003,  -152.0003,       5156,  2376.3,   1.8649,  34.6421,2,  34.6399,2,    100.0,2,   100.2,2,  156.10,2,   39.40,2,    0.00,2,    2.78,2,  -0.012,2,   0.009,2,-999.000,5,  2358.8,2,  2421.2,2,   1483.5,2,    20.00,   7.4913,2,    25.00,-999.000,9,-999.000,-999.0000,9,-999.000,9, -999.00,9,  -999.0,9,    -9.0,-999.000,9,-999.000,   36.84,2,   42.88,2, 2376.30,-999.0000,9,-999.0000,9,-999.0000,9,-999.0000,9,-999.0000,9,-999.0000,9,     -999.0,     -999.0,9,     -999.0,9,     -999.0,9,     -999.0,9,     -999.0,9,     -999.0,9, -999.00,9,   1.6983,-999.0000,-999.000
325020060213,       P16N,      44,          1,         10,         10,2,20060312,       1330,    22.0003,  -152.0003,       5156,  2624.5,   1.7291,  34.6543,2,  34.6537,2,    107.9,2,   108.0,2,  159.40,2,   38.90,2,    0.00,2,    2.74,2,-999.000,9,-999.000,9,-999.000,9,  2355.7,2,  2433.0,2,   1418.0,6,    20.00,   7.5097,3,    25.00,-999.000,9,-999.000,-999.0000,9,-999.000,9, -999.00,9,  -999.0,9,    -9.0,-999.000,9,-999.000,   36.78,2,   43.27,2, 2624.50,-999.0000,9,-999.0000,9,-999.0000,9,-999.0000,9,-999.0000,9,-999.0000,9,     -999.0,     -999.0,9,     -999.0,9,     -999.0,9,     -999.0,9,     -999.0,9,     -999.0,9, -999.00,9,   1.5426,-999.0000,-999.000