BOTTLE,20170720CCHSIOCBG
EXPOCODE,SECT_ID,STNNBR,CASTNO,SAMPNO,BTLNBR,BTLNBR_FLAG_W,DATE,TIME,LATITUDE,LONGITUDE,DEPTH,CTDPRS,CTDTMP,CTDSAL,CTDSAL_FLAG_W,SALNTY,SALNTY_FLAG_W,CTDOXY,CTDOXY_FLAG_W,OXYGEN,OXYGEN_FLAG_W,SILCAT,SILCAT_FLAG_W,NITRAT,NITRAT_FLAG_W,NITRIT,NITRIT_FLAG_W,PHSPHT,PHSPHT_FLAG_W,CFC-11,CFC-11_FLAG_W,CFC-12,CFC-12_FLAG_W,CFC113,CFC113_FLAG_W,TCARBN,TCARBN_FLAG_W,ALKALI,ALKALI_FLAG_W,FCO2,FCO2_FLAG_W,FCO2TMP,PH_TOT,PH_TOT_FLAG_W,PH_TMP,TRITUM,TRITUM_FLAG_W,TRITER,HELIUM,HELIUM_FLAG_W,DELHE3,DELHE3_FLAG_W,DELC13,DELC13_FLAG_W,DELC14,DELC14_FLAG_W,C14ERR,NEON,NEON_FLAG_W,NEONER,DOC,DOC_FLAG_W,TDN,TDN_FLAG_W,CTDRAW,CDOM325,CDOM325_FLAG_W,CDOM340,CDOM340_FLAG_W,CDOM380,CDOM380_FLAG_W,CDOM412,CDOM412_FLAG_W,CDOMSL,CDOMSL_FLAG_W,CDOMSN,CDOMSN_FLAG_W,DCNS,ARABI,ARABI_FLAG_W,FUCO,FUCO_FLAG_W,GALA,GALA_FLAG_W,GLUC,GLUC_FLAG_W,MAN,MAN_FLAG_W,RHAM,RHAM_FLAG_W,BRDU,BRDU_FLAG_W,THETA,HELIER,DELHER
,,,,,,,,,,,METERS,DBAR,ITS-90,PSS-78,,PSS-78,,UMOL/KG,,UMOL/KG,,UMOL/KG,,UMOL/KG,,UMOL/KG,,UMOL/KG,,PMOL/KG,,PMOL/KG,,PMOL/KG,,UMOL/KG,,UMOL/KG,,UATM,,DEG C,,,DEG C,TU,,TU,NMOL/KG,,PERCNT,,/MILLE,,/MILLE,,/MILLE,NMOL/KG,,NMOL/KG,UMOL/KG,,UMOL/KG,,DBAR,1/M,,1/M,,1/M,,1/M,,1/NM,,1/NM,,NMOL/KG,NMOL/KG,,NMOL/KG,,NMOL/KG,,NMOL/KG,,NMOL/KG,,NMOL/KG,,PMOL/L/H,,DEG C,NMOL/KG,PERCNT
325020060213,       P16N,       9,          1,         35,         35,2,20060217,       1802,         -9,  -151.0003,       4079,     4.9,  29.0622,  35.9379,2,  35.9337,2,    193.7,2,   195.4,2,    0.10,2,    0.00,2,    0.00,2,    0.20,2,   1.526,2,   0.959,2,-999.000,5,  2003.4,6,  2368.5,2,   -999.0,9,  -999.00,   8.1262,2,    25.00,   0.498,2,   0.003,   1.6998,2,   -1.63,2, -999.00,9,  -999.0,9,    -9.0,   6.606,2,   0.020,   70.44,2,    3.86,2,    4.90,-999.0000,9,-999.0000,9,-999.0000,9,-999.0000,9,-999.0000,9,-999.0000,9,     -999.0,     -999.0,9,     -999.0,9,     -999.0,9,     -999.0,9,     -999.0,9,     -999.0,9,    1.50,2,  29.0610,   0.0051,    0.14
325020060213,       P16N,       9,          1,         34,         34,2,20060217,       1802,         -9,  -151.0003,       4079,    25.3,  29.0830,  35.9498,2,  35.9353,2,    194.5,2,   195.0,2,    0.00,2,    0.00,2,    0.00,2,    0.19,2,-999.000,9,-999.000,9,-999.000,9,  2002.7,2,  2369.4,2,   -999.0,9,  -999.00,   8.1259,2,    25.00,   0.463,2,   0.003,   1.6964,2,   -1.57,2, -999.00,9,  -999.0,9,    -9.0,   6.601,2,   0.020,   71.39,2,    4.00,2,   25.30,  -0.0010,2,  -0.0010,2,  -0.0090,2,  -0.0080,2,-999.0000,9,-999.0000,9,     -999.0,     -999.0,9,     -999.0,9,     -999.0,9,     -999.0,9,     -999.0,9,     -999.0,9,    3.03,2,  29.0769,   0.0051,    0.14
325020060213,       P16N,       9,          1,         33,         33,2,20060217,       1802,         -9,  -151.0003,       4079,    50.6,  28.9544,  35.9798,2,  35.9755,2,    194.3,2,   195.1,2,    0.00,2,    0.00,2,    0.00,2,    0.19,2,   1.525,2,   0.956,2,-999.000,5,  2001.3,2,  2371.3,2,   -999.0,9,  -999.00,   8.1386,2,    25.00,   0.484,2,   0.003,   1.6976,2,   -1.74,2, -999.00,9,  -999.0,9,    -9.0,   6.580,2,   0.020,   72.03,2,    4.35,2,   50.60,   0.0330,2,   0.0250,2,  -0.0050,2,  -0.0070,2,   0.0038,2,   0.0038,2,     -999.0,     -999.0,9,     -999.0,9,     -999.0,9,     -999.0,9,     -999.0,9,     -999.0,9,    2.37,2,  28.9422,   0.0051,    0.14
325020060213,       P16N,       9,          1,         32,         32,2,20060217,       1802,         -9,  -151.0003,       4079,    74.5,  28.7251,  36.0388,2,  36.0469,2,    193.8,2,   195.1,2,    0.10,2,    0.00,2,    0.00,2,    0.19,2,-999.000,9,-999.000,9,-999.000,9,  2007.0,2,  2375.7,2,   -999.0,9,  -999.00,   8.1307,2,    25.00,   0.503,2,   0.003,   1.6987,2,   -1.92,2, -999.00,9,  -999.0,9,    -9.0,   6.633,2,   0.020,   70.49,2,    4.69,2,   74.50,-999.0000,9,-999.0000,9,-999.0000,9,-999.0000,9,-999.0000,9,-999.0000,9,     -999.0,     -999.0,9,     -999.0,9,     -999.0,9,     -999.0,9,     -999.0,9,     -999.0,9,    1.50,2,  28.7072,   0.0051,    0.14
325020060213,       P16N,       9,          1,         31,         31,2,20060217,       1802,         -9,  -151.0003,       4079,   100.5,  27.7435,  36.3089,2,  36.3095,2,    193.1,2,   194.4,2,    0.10,2,    0.10,2,    0.00,2,    0.21,2,   1.621,2,   1.011,2,-999.000,5,  2031.0,2,  2393.6,2,   -999.0,9,  -999.00,   8.1191,2,    25.00,   0.481,2,   0.003,   1.7172,2,   -1.32,2, -999.00,9,  -999.0,9,    -9.0,   6.684,2,   0.020,   68.87,2,    4.75,2,  100.50,-999.0000,9,-999.0000,9,-999.0000,9,-999.0000,9,-999.0000,9,-999.0000,9,     -999.0,     -999.0,9,     -999.0,9,     -999.0,9,     -999.0,9,     -999.0,9,     -999.0,9,    0.44,2,  27.7198,   0.0052,    0.14
325020060213,       P16N,       9,          1,         30,         30,2,20060217,       1802,         -9,  -151.0003,       4079,   125.4,  26.5558,  36.3958,2,  36.3980,2,    173.7,2,   172.9,2,    0.40,2,    1.10,2,    0.60,2,    0.37,2,-999.000,9,-999.000,9,-999.000,9,  2067.6,2,  2395.3,2,   -999.0,9,  -999.00,   8.0764,2,    25.00,   0.466,2,   0.003,   1.7213,2,   -1.54,2, -999.00,9,  -999.0,9,    -9.0,   6.761,2,   0.020,   60.74,2,    5.68,2,  125.40,   0.2910,2,   0.2310,2,   0.5790,2,   0.2700,2,   0.0061,4,   0.0056,4,     -999.0,     -999.0,9,     -999.0,9,     -999.0,9,     -999.0,9,     -999.0,9,     -999.0,9,    0.55,2,  26.5272,   0.0052,    0.14
325020060213,       P16N,       9,          1,         29,         29,2,20060217,       1802,         -9,  -151.0003,       4079,   150.3,  24.1782,  36.3447,2,  36.3426,2,    156.8,2,   157.5,2,    0.60,2,    4.10,2,    0.00,2,    0.54,2,   1.883,2,   1.149,2,-999.000,5,  2104.5,2,  2393.2,2,   -999.0,9,  -999.00,-999.0000,9,  -999.00,   0.414,2,   0.002,   1.7191,2,   -1.38,2, -999.00,9,  -999.0,9,    -9.0,   6.827,2,   0.020,   54.56,2,    8.85,2,  150.30,-999.0000,9,-999.0000,9,-999.0000,9,-999.0000,9,-999.0000,9,-999.0000,9,     -999.0,     -999.0,9,     -999.0,9,     -999.0,9,     -999.0,9,     -999.0,9,     -999.0,9,    1.47,3,  24.1462,   0.0052,    0.14
325020060213,       P16N,       9,          1,         28,         28,2,20060217,       1802,         -9,  -151.0003,       4079,   200.0,  20.1350,  35.7577,2,  35.7425,2,    150.2,2,   150.5,2,    1.50,2,    7.20,2,    0.00,2,    0.77,2,   2.162,2,   1.263,2,-999.000,5,  2125.1,2,  2355.6,6,   -999.0,9,  -999.00,   7.8852,2,    25.00,   0.395,2,   0.003,   1.7327,2,   -0.94,2, -999.00,9,  -999.0,9,    -9.0,   7.006,2,   0.021,   49.80,2,   11.44,2,  200.00,-999.0000,9,-999.0000,9,-999.0000,9,-999.0000,9,-999.0000,9,-999.0000,9,     -999.0,     -999.0,9,     -999.0,9,     -999.0,9,     -999.0,9,     -999.0,9,     -999.0,9,    0.07,2,  20.0977,   0.0052,    0.14
325020060213,       P16N,       9,          1,         27,         27,2,20060217,       1802,         -9,  -151.0003,       4079,   250.3,  15.9788,  35.1900,2,  35.1746,2,    117.3,2,   113.6,2,    5.80,2,   14.30,2,    0.00,2,    1.29,2,   2.007,2,   1.122,2,-999.000,5,  2158.3,2,  2320.4,2,   -999.0,9,  -999.00,   7.7489,2,    25.00,   0.191,2,   0.005,   1.7573,2,    0.31,2, -999.00,9,  -999.0,9,    -9.0,   7.212,2,   0.022,   48.37,2,   18.56,2,  250.30,   0.1260,2,   0.0960,2,   0.0240,2,   0.0120,2,   0.0295,2,   0.0259,2,     -999.0,     -999.0,9,     -999.0,9,     -999.0,9,     -999.0,9,     -999.0,9,     -999.0,9, -999.00,9,  15.9391,   0.0053,    0.14
325020060213,       P16N,       9,          1,         26,         26,2,20060217,       1802,         -9,  -151.0003,       4079,   300.0,  11.9165,  34.8245,2,  34.8125,2,     67.5,2,    65.9,2,   16.70,2,   26.10,2,    0.00,2,    2.01,2,   0.935,6,   0.501,6,-999.000,5,  2213.4,2,  2304.0,2,   -999.0,9,  -999.00,   7.5771,2,    25.00,-999.000,9,-999.000,   1.7780,2,    2.68,2, -999.00,9,  -999.0,9,    -9.0,   7.427,2,   0.022,   45.40,2,   29.95,2,  300.00,-999.0000,9,-999.0000,9,-999.0000,9,-999.0000,9,-999.0000,9,-999.0000,9,     -999.0,     -999.0,9,     -999.0,9,     -999.0,9,     -999.0,9,     -999.0,9,     -999.0,9, -999.00,9,  11.8775,   0.0053,    0.14
325020060213,       P16N,       9,          1,         25,         25,2,20060217,       1802,         -9,  -151.0003,       4079,   350.3,  10.0288,  34.7386,2,  34.7380,2,     78.3,2,    79.5,2,   22.30,2,   29.90,2,    0.00,2,    2.10,2,   0.468,2,   0.253,2,-999.000,5,  2219.6,6,  2307.0,2,   -999.0,9,  -999.00,   7.5657,2,    25.00,   0.139,2,   0.002,   1.7952,2,    3.75,2, -999.00,9,  -999.0,9,    -9.0,   7.569,2,   0.023,   44.37,2,   33.61,2,  350.30,   0.1360,2,   0.1000,2,   0.0460,2,   0.0350,2,   0.0158,2,   0.0181,2,    382.752,    28.4291,2,    34.9331,2,    60.5343,2,    138.276,2,    86.9201,2,    33.6585,2, -999.00,9,   9.9879,   0.0054,    0.14
325020060213,       P16N,       9,          1,         24,         24,2,20060217,       1802,         -9,  -151.0003,       4079,   400.7,   8.8525,  34.6663,2,  34.6683,2,     97.2,2,    97.0,2,   25.80,2,   30.90,2,    0.00,2,    2.11,2,   0.355,2,   0.193,2,-999.000,5,  2218.6,2,  2307.1,2,   -999.0,9,  -999.00,   7.5769,2,    25.00,   0.104,2,   0.002,   1.7983,2,    4.77,2, -999.00,9,  -999.0,9,    -9.0,   7.603,2,   0.023,   43.41,2,   35.49,2,  400.70,   0.1160,2,   0.0830,2,   0.0420,2,   0.0320,2,   0.0146,2,   0.0169,2,     -999.0,     -999.0,9,     -999.0,9,     -999.0,9,     -999.0,9,     -999.0,9,     -999.0,9, -999.00,9,   8.8091,   0.0054,    0.14
325020060213,       P16N,       9,          1,         23,         23,2,20060217,       1802,         -9,  -151.0003,       4079,   450.1,   8.2344,  34.6292,2,  34.6302,2,     97.4,2,    97.7,2,   28.70,2,   32.30,2,    0.00,2,    2.19,2,   0.256,2,   0.149,2,-999.000,5,  2222.7,2,  2308.3,2,   -999.0,9,  -999.00,   7.5664,2,    25.00,   0.072,2,   0.001,   1.8051,2,    5.32,2, -999.00,9,  -999.0,9,    -9.0,   7.658,2,   0.023,   42.12,2,   36.90,2,  450.10,   0.1090,2,   0.0750,2,   0.0380,2,   0.0290,2,   0.0164,2,   0.0190,2,     -999.0,     -999.0,9,     -999.0,9,     -999.0,9,     -999.0,9,     -999.0,9,     -999.0,9, -999.00,9,   8.1875,   0.0054,    0.14
325020060213,       P16N,       9,          1,         22,         22,2,20060217,       1802,         -9,  -151.0003,       4079,   501.0,   7.8262,  34.6066,2,  34.6015,2,     96.0,2,    96.1,2,   31.40,2,   33.50,2,    0.00,2,    2.26,2,   0.197,2,   0.107,2,-999.000,5,  2228.5,2,  2311.9,2,   -999.0,9,  -999.00,   7.5493,2,    25.00,   0.088,2,   0.002,   1.8231,2,    5.72,2, -999.00,9,  -999.0,9,    -9.0,   7.698,2,   0.023,   41.26,2,   37.64,2,  501.00,   0.1420,2,   0.0930,2,   0.0460,2,   0.0320,2,   0.0167,3,   0.0198,3,     -999.0,     -999.0,9,     -999.0,9,     -999.0,9,     -999.0,9,     -999.0,9,     -999.0,9, -999.00,9,   7.7754,   0.0055,    0.14
325020060213,       P16N,       9,          1,         21,         21,2,20060217,       1802,         -9,  -151.0003,       4079,   600.5,   7.0225,  34.5699,2,  34.5703,2,     89.9,2,    89.7,2,   38.10,2,   36.00,2,    0.00,2,    2.42,2,   0.082,2,   0.046,2,-999.000,5,  2242.0,2,  -999.0,5,   -999.0,9,  -999.00,-999.0000,9,  -999.00,   0.052,2,   0.001,   1.8213,2,    7.57,2, -999.00,9,  -999.0,9,    -9.0,   7.710,2,   0.023,   40.59,2,   39.97,2,  600.50,   0.1420,2,   0.0900,2,   0.0410,2,   0.0290,2,   0.0189,3,   0.0226,3,     -999.0,     -999.0,9,     -999.0,9,     -999.0,9,     -999.0,9,     -999.0,9,     -999.0,9, -999.00,9,   6.9650,   0.0055,    0.14
325020060213,       P16N,       9,          1,         20,         20,2,20060217,       1802,         -9,  -151.0003,       4079,   700.0,   6.3321,  34.5479,2,  34.5485,2,     86.5,2,    85.9,2,   45.60,2,   37.90,2,    0.00,2,    2.57,2,   0.031,2,   0.017,2,-999.000,5,  2254.4,2,  2317.6,2,   -999.0,9,  -999.00,   7.5051,2,    25.00,   0.036,2,   0.001,   1.8378,2,    8.95,2, -999.00,9,  -999.0,9,    -9.0,   7.841,2,   0.024,   39.68,2,   41.45,2,  700.00,   0.1400,2,   0.0870,2,   0.0400,2,   0.0290,2,   0.0194,2,   0.0230,2,     -999.0,     -999.0,9,     -999.0,9,     -999.0,9,     -999.0,9,     -999.0,9,     -999.0,9, -999.00,9,   6.2682,   0.0055,    0.14
325020060213,       P16N,       9,          1,         19,         19,2,20060217,       1802,         -9,  -151.0003,       4079,   800.2,   5.5482,  34.5357,2,  34.5352,2,     84.8,2,    84.8,2,   56.30,2,   39.30,2,    0.00,2,    2.68,2,   0.007,2,   0.004,2,-999.000,5,  2268.7,2,  2330.2,2,   -999.0,9,  -999.00,   7.4806,2,    25.00,   0.030,2,   0.001,   1.8431,2,   11.50,2, -999.00,9,  -999.0,9,    -9.0,   7.832,2,   0.023,   39.14,2,   42.89,2,  800.20,   0.1380,2,   0.0860,2,   0.0390,2,   0.0270,2,   0.0202,2,   0.0238,2,     -999.0,     -999.0,9,     -999.0,9,     -999.0,9,     -999.0,9,     -999.0,9,     -999.0,9, -999.00,9,   5.4793,   0.0055,    0.14
325020060213,       P16N,       9,          1,         18,         18,2,20060217,       1802,         -9,  -151.0003,       4079,   901.6,   4.8854,  34.5361,2,  34.5384,2,     91.5,2,    91.5,2,   67.10,2,   39.60,2,    0.00,2,    2.71,2,   0.004,2,   0.004,2,-999.000,5,  2278.5,2,  2341.6,2,   -999.0,9,  -999.00,   7.4872,2,    25.00,   0.005,2,   0.001,   1.9072,2,   14.05,2, -999.00,9,  -999.0,9,    -9.0,   8.059,2,   0.024,   38.30,2,   44.15,2,  901.60,   0.1130,2,   0.0750,2,   0.0360,2,   0.0260,2,   0.0199,2,   0.0220,2,     -999.0,     -999.0,9,     -999.0,9,     -999.0,9,     -999.0,9,     -999.0,9,     -999.0,9, -999.00,9,   4.8116,   0.0057,    0.14
325020060213,       P16N,       9,          1,         17,         17,2,20060217,       1802,         -9,  -151.0003,       4079,   999.6,   4.4507,  34.5408,2,  34.5408,2,     99.5,2,    99.7,2,   73.90,2,   39.00,2,    0.00,2,    2.69,2,   0.005,6,   0.002,6,-999.000,5,  2281.6,2,  2348.3,6,   -999.0,9,  -999.00,   7.5044,2,    25.00,   0.036,2,   0.001,   1.8817,2,   16.05,2, -999.00,9,  -999.0,9,    -9.0,   7.925,2,   0.024,   37.54,2,   42.82,2,  999.60,   0.1080,2,   0.0700,2,   0.0320,2,   0.0210,2,   0.0217,2,   0.0236,2,     -999.0,     -999.0,9,     -999.0,9,     -999.0,9,     -999.0,9,     -999.0,9,     -999.0,9, -999.00,9,   4.3716,   0.0056,    0.14
325020060213,       P16N,       9,          1,         16,         16,2,20060217,       1802,         -9,  -151.0003,       4079,  1200.9,   3.7311,  34.5622,2,  34.5628,2,    108.9,2,   109.2,2,   88.60,6,   38.40,6,    0.00,6,    2.68,6,-999.000,9,-999.000,9,-999.000,9,  2293.0,2,  2364.9,2,   -999.0,9,  -999.00,   7.5166,2,    25.00,   0.029,2,   0.001,   1.9047,2,   19.58,2, -999.00,9,  -999.0,9,    -9.0,   8.012,2,   0.024,   38.15,2,   42.44,2, 1200.90,   0.1120,2,   0.0740,2,   0.0340,2,   0.0230,2,   0.0207,2,   0.0226,2,     -999.0,     -999.0,9,     -999.0,9,     -999.0,9,     -999.0,9,     -999.0,9,     -999.0,9, -999.00,9,   3.6408,   0.0057,    0.14
325020060213,       P16N,       9,          1,         15,         15,2,20060217,       1802,         -9,  -151.0003,       4079,  1400.8,   3.2666,  34.5819,2,  34.5821,2,    114.2,2,   114.1,2,   99.00,6,   38.20,6,    0.00,6,    2.69,6,-999.000,9,-999.000,9,-999.000,9,  2299.9,2,  2375.9,2,   -999.0,9,  -999.00,   7.5208,2,    25.00,-999.000,9,-999.000,-999.0000,9,-999.000,9, -999.00,9,  -999.0,9,    -9.0,-999.000,9,-999.000,   37.37,2,   42.34,2, 1400.80,   0.1160,2,   0.0770,2,   0.0350,2,   0.0220,2,   0.0212,2,   0.0228,2,     -999.0,     -999.0,9,     -999.0,9,     -999.0,9,     -999.0,9,     -999.0,9,     -999.0,9, -999.00,9,   3.1641,-999.0000,-999.000
325020060213,       P16N,       9,          1,         14,         14,4,20060217,       1802,         -9,  -151.0003,       4079,  1600.2,   2.8561,  34.6053,2,  35.7149,4,    113.5,2,   149.7,4,    2.70,4,    7.60,4,    0.00,4,    0.79,4,   2.127,4,   1.258,4,-999.000,5,  2128.0,4,  2357.0,3,   -999.0,9,  -999.00,-999.0000,9,  -999.00,-999.000,9,-999.000,-999.0000,9,-999.000,9, -999.00,9,  -999.0,9,    -9.0,-999.000,9,-999.000,   37.80,2,   11.34,2, 1600.20,-999.0000,9,-999.0000,9,-999.0000,9,-999.0000,9,-999.0000,9,-999.0000,9,     -999.0,     -999.0,9,     -999.0,9,     -999.0,9,     -999.0,9,     -999.0,9,     -999.0,9, -999.00,9,   2.7415,-999.0000,-999.000
325020060213,       P16N,       9,          1,         13,         13,2,20060217,       1802,         -9,  -151.0003,       4079,  1801.0,   2.5623,  34.6212,2,  34.6203,2,    121.1,2,   121.0,2,  117.40,2,   38.20,2,    0.00,2,    2.68,2,-999.000,9,-999.000,9,-999.000,9,  2316.7,2,  2395.8,2,   -999.0,9,  -999.00,   7.5389,2,    25.00,-999.000,9,-999.000,-999.0000,9,-999.000,9, -999.00,9,  -999.0,9,    -9.0,-999.000,9,-999.000,   38.25,2,   41.93,2, 1801.00,   0.1070,2,   0.0690,2,   0.0300,2,   0.0180,2,   0.0232,2,   0.0252,2,     -999.0,     -999.0,9,     -999.0,9,     -999.0,9,     -999.0,9,     -999.0,9,     -999.0,9, -999.00,9,   2.4345,-999.0000,-999.000
325020060213,       P16N,       9,          1,         12,         12,2,20060217,       1802,         -9,  -151.0003,       4079,  2000.5,   2.2938,  34.6358,2,  34.6339,2,    132.0,2,   132.3,2,  119.90,2,   37.40,2,    0.00,2,    2.62,2,-999.000,9,-999.000,9,-999.000,9,  2314.2,2,  2400.1,2,   -999.0,9,  -999.00,   7.5499,2,    25.00,-999.000,9,-999.000,-999.0000,9,-999.000,9, -999.00,9,  -999.0,9,    -9.0,-999.000,9,-999.000,   36.90,2,   41.53,2, 2000.50,   0.0990,2,   0.0630,2,   0.0260,2,   0.0150,2,   0.0248,2,   0.0267,2,     -999.0,     -999.0,9,     -999.0,9,     -999.0,9,     -999.0,9,     -999.0,9,     -999.0,9, -999.00,9,   2.1528,-999.0000,-999.000
325020060213,       P16N,       9,          1,         11,         11,2,20060217,       1802,         -9,  -151.0003,       4079,  2201.2,   2.0852,  34.6510,2,  34.6482,2,    137.3,2,   137.6,2,  124.60,2,   37.00,2,    0.00,2,    2.59,2,-999.000,9,-999.000,9,-999.000,9,  2317.0,2,  2407.1,2,   -999.0,9,  -999.00,   7.5513,2,    25.00,-999.000,9,-999.000,-999.0000,9,-999.000,9, -999.00,9,  -999.0,9,    -9.0,-999.000,9,-999.000,   37.41,2,   40.96,2, 2201.20,   0.0940,2,   0.0580,2,   0.0230,2,   0.0130,2,   0.0262,2,   0.0282,2,     -999.0,     -999.0,9,     -999.0,9,     -999.0,9,     -999.0,9,     -999.0,9,     -999.0,9, -999.00,9,   1.9301,-999.0000,-999.000
325020060213,       P16N,       9,          1,         10,         10,2,20060217,       1802,         -9,  -151.0003,       4079,  2400.8,   1.8926,  34.6667,2,  34.6677,2,    138.7,2,   139.4,2,  131.60,2,   36.90,2,    0.00,2,    2.58,2,   0.002,6,   0.001,6,-999.000,5,  2325.0,2,  2415.8,2,   -999.0,9,  -999.00,   7.5782,2,    25.00,-999.000,9,-999.000,-999.0000,9,-999.000,9, -999.00,9,  -999.0,9,    -9.0,-999.000,9,-999.000,   36.78,2,   41.16,2, 2400.80,-999.0000,9,-999.0000,9,-999.0000,9,-999.0000,9,-999.0000,9,-999.0000,9,     -999.0,     -999.0,9,     -999.0,9,     -999.0,9,     -999.0,9,     -999.0,9,     -999.0,9, -999.00,9,   1.7231,-999.0000,-999.000
325020060213,       P16N,       9,          1,          9,          9,2,20060217,       1802,         -9,  -151.0003,       4079,  2602.0,   1.8218,  34.6731,2,  34.6721,2,    141.0,2,   141.1,2,  134.30,2,   36.90,2,    0.00,2,    2.58,2,-999.000,9,-999.000,9,-999.000,9,  2324.9,2,  2420.0,2,   -999.0,9,  -999.00,   7.5736,2,    25.00,-999.000,9,-999.000,-999.0000,9,-999.000,9, -999.00,9,  -999.0,9,    -9.0,-999.000,9,-999.000,   36.52,2,   40.89,2, 2602.00,   0.1040,2,   0.0670,2,   0.0280,2,   0.0170,2,   0.0241,2,   0.0259,2,     -999.0,     -999.0,9,     -999.0,9,     -999.0,9,     -999.0,9,     -999.0,9,     -999.0,9, -999.00,9,   1.6355,-999.0000,-999.000