BOTTLE,20170720CCHSIOCBG
EXPOCODE,SECT_ID,STNNBR,CASTNO,SAMPNO,BTLNBR,BTLNBR_FLAG_W,DATE,TIME,LATITUDE,LONGITUDE,DEPTH,CTDPRS,CTDTMP,CTDSAL,CTDSAL_FLAG_W,SALNTY,SALNTY_FLAG_W,CTDOXY,CTDOXY_FLAG_W,OXYGEN,OXYGEN_FLAG_W,SILCAT,SILCAT_FLAG_W,NITRAT,NITRAT_FLAG_W,NITRIT,NITRIT_FLAG_W,PHSPHT,PHSPHT_FLAG_W,CFC-11,CFC-11_FLAG_W,CFC-12,CFC-12_FLAG_W,CFC113,CFC113_FLAG_W,TCARBN,TCARBN_FLAG_W,ALKALI,ALKALI_FLAG_W,FCO2,FCO2_FLAG_W,FCO2TMP,PH_TOT,PH_TOT_FLAG_W,PH_TMP,TRITUM,TRITUM_FLAG_W,TRITER,HELIUM,HELIUM_FLAG_W,DELHE3,DELHE3_FLAG_W,DELC13,DELC13_FLAG_W,DELC14,DELC14_FLAG_W,C14ERR,NEON,NEON_FLAG_W,NEONER,DOC,DOC_FLAG_W,TDN,TDN_FLAG_W,CTDRAW,CDOM325,CDOM325_FLAG_W,CDOM340,CDOM340_FLAG_W,CDOM380,CDOM380_FLAG_W,CDOM412,CDOM412_FLAG_W,CDOMSL,CDOMSL_FLAG_W,CDOMSN,CDOMSN_FLAG_W,DCNS,ARABI,ARABI_FLAG_W,FUCO,FUCO_FLAG_W,GALA,GALA_FLAG_W,GLUC,GLUC_FLAG_W,MAN,MAN_FLAG_W,RHAM,RHAM_FLAG_W,BRDU,BRDU_FLAG_W,THETA,HELIER,DELHER
,,,,,,,,,,,METERS,DBAR,ITS-90,PSS-78,,PSS-78,,UMOL/KG,,UMOL/KG,,UMOL/KG,,UMOL/KG,,UMOL/KG,,UMOL/KG,,PMOL/KG,,PMOL/KG,,PMOL/KG,,UMOL/KG,,UMOL/KG,,UATM,,DEG C,,,DEG C,TU,,TU,NMOL/KG,,PERCNT,,/MILLE,,/MILLE,,/MILLE,NMOL/KG,,NMOL/KG,UMOL/KG,,UMOL/KG,,DBAR,1/M,,1/M,,1/M,,1/M,,1/NM,,1/NM,,NMOL/KG,NMOL/KG,,NMOL/KG,,NMOL/KG,,NMOL/KG,,NMOL/KG,,NMOL/KG,,PMOL/L/H,,DEG C,NMOL/KG,PERCNT
325020060213,       P16N,      18,          1,          8,          8,2,20060221,       0239,         -1,       -151,       4688,  2874.3,   1.7186,  34.6747,2,  34.6763,2,    133.6,2,   133.4,2,  144.40,2,   37.70,2,    0.00,2,    2.68,2,-999.000,9,-999.000,9,-999.000,9,  2334.9,2,  2423.7,2,   1241.9,6,    20.00,-999.0000,9,  -999.00,-999.000,9,-999.000,-999.0000,9,-999.000,9, -999.00,5,  -221.7,2,     2.3,-999.000,9,-999.000,   37.37,2,   41.13,2, 2874.30,-999.0000,9,-999.0000,9,-999.0000,9,-999.0000,9,-999.0000,9,-999.0000,9,     -999.0,     -999.0,9,     -999.0,9,     -999.0,9,     -999.0,9,     -999.0,9,     -999.0,9, -999.00,9,   1.5090,-999.0000,-999.000
325020060213,       P16N,      18,          1,          7,          7,2,20060221,       0239,         -1,       -151,       4688,  3123.8,   1.6514,  34.6798,2,  34.6798,2,    138.0,2,   138.2,2,  145.00,2,   37.30,2,    0.00,2,    2.65,2,  -0.002,2,   0.000,2,-999.000,5,  2330.3,2,  2424.3,2,   -999.0,9,  -999.00,   7.5459,2,    25.00,-999.000,9,-999.000,-999.0000,9,-999.000,9, -999.00,5,  -230.1,2,     2.9,-999.000,9,-999.000,   38.61,2,   40.27,2, 3123.80,-999.0000,9,-999.0000,9,-999.0000,9,-999.0000,9,-999.0000,9,-999.0000,9,     -999.0,     -999.0,9,     -999.0,9,     -999.0,9,     -999.0,9,     -999.0,9,     -999.0,9, -999.00,9,   1.4193,-999.0000,-999.000
325020060213,       P16N,      18,          1,          6,          6,2,20060221,       0239,         -1,       -151,       4688,  3449.4,   1.5770,  34.6856,2,  34.6849,2,    145.2,2,   144.6,2,  144.70,2,   36.80,2,    0.00,2,    2.62,2,-999.000,9,-999.000,9,-999.000,9,  2326.7,2,  2425.6,6,   1188.0,2,    20.00,   7.5670,2,    25.00,-999.000,9,-999.000,-999.0000,9,-999.000,9, -999.00,5,  -999.0,5,    -9.0,-999.000,9,-999.000,   38.76,2,   40.33,2, 3449.40,-999.0000,9,-999.0000,9,-999.0000,9,-999.0000,9,-999.0000,9,-999.0000,9,     -999.0,     -999.0,9,     -999.0,9,     -999.0,9,     -999.0,9,     -999.0,9,     -999.0,9, -999.00,9,   1.3141,-999.0000,-999.000
325020060213,       P16N,      18,          1,          5,          5,2,20060221,       0239,         -1,       -151,       4688,  3849.7,   1.4510,  34.6954,2,  34.6957,2,    157.4,2,   156.1,2,  144.20,6,   36.10,6,    0.00,6,    2.53,6,-999.000,9,-999.000,9,-999.000,9,  2321.4,2,  2429.1,2,   -999.0,9,  -999.00,-999.0000,9,  -999.00,-999.000,9,-999.000,-999.0000,9,-999.000,9, -999.00,5,  -207.5,2,     2.3,-999.000,9,-999.000,   38.25,2,   40.24,2, 3849.70,-999.0000,9,-999.0000,9,-999.0000,9,-999.0000,9,-999.0000,9,-999.0000,9,     -999.0,     -999.0,9,     -999.0,9,     -999.0,9,     -999.0,9,     -999.0,9,     -999.0,9, -999.00,9,   1.1496,-999.0000,-999.000
325020060213,       P16N,      18,          1,          4,          4,2,20060221,       0239,         -1,       -151,       4688,  4300.5,   1.4106,  34.6996,2,  34.6987,2,    166.0,2,   164.8,2,  140.50,6,   35.60,6,    0.00,6,    2.48,6,-999.000,9,-999.000,9,-999.000,9,  2314.8,3,  2423.3,2,   1093.9,2,    20.00,   7.6075,2,    25.00,-999.000,9,-999.000,-999.0000,9,-999.000,9, -999.00,5,  -209.5,2,     2.4,-999.000,9,-999.000,   38.46,2,   39.39,2, 4300.50,-999.0000,9,-999.0000,9,-999.0000,9,-999.0000,9,-999.0000,9,-999.0000,9,     -999.0,     -999.0,9,     -999.0,9,     -999.0,9,     -999.0,9,     -999.0,9,     -999.0,9, -999.00,9,   1.0610,-999.0000,-999.000
325020060213,       P16N,      18,          1,          3,          3,2,20060221,       0239,         -1,       -151,       4688,  4500.0,   1.3407,  34.7040,2,  34.7056,2,    177.8,2,   177.4,2,  132.10,6,   34.70,6,    0.00,6,    2.41,6,   0.001,2,   0.001,2,-999.000,5,  2298.5,3,  2407.5,2,   1075.6,2,    20.00,   7.6135,2,    25.00,-999.000,9,-999.000,-999.0000,9,-999.000,9, -999.00,5,  -190.8,2,     2.7,-999.000,9,-999.000,   39.49,2,   38.42,2, 4500.00,-999.0000,9,-999.0000,9,-999.0000,9,-999.0000,9,-999.0000,9,-999.0000,9,     -999.0,     -999.0,9,     -999.0,9,     -999.0,9,     -999.0,9,     -999.0,9,     -999.0,9, -999.00,9,   0.9705,-999.0000,-999.000
325020060213,       P16N,      18,          1,          1,          1,2,20060221,       0239,         -1,       -151,       4688,  4800.6,   1.3313,  34.7059,2,  34.7075,2,    185.2,2,   183.5,2,  127.90,2,   34.40,2,    0.00,2,    2.36,2,   0.001,2,   0.001,2,-999.000,5,  2288.8,2,  2398.3,2,   1059.9,2,    20.00,   7.6103,2,    25.00,-999.000,9,-999.000,-999.0000,9,-999.000,9, -999.00,5,  -183.2,2,     2.9,-999.000,9,-999.000,   38.48,2,   37.41,2, 4800.60,-999.0000,9,-999.0000,9,-999.0000,9,-999.0000,9,-999.0000,9,-999.0000,9,     -999.0,     -999.0,9,     -999.0,9,     -999.0,9,     -999.0,9,     -999.0,9,     -999.0,9, -999.00,9,   0.9264,-999.0000,-999.000