BOTTLE,20170720CCHSIOCBG
EXPOCODE,SECT_ID,STNNBR,CASTNO,SAMPNO,BTLNBR,BTLNBR_FLAG_W,DATE,TIME,LATITUDE,LONGITUDE,DEPTH,CTDPRS,CTDTMP,CTDSAL,CTDSAL_FLAG_W,SALNTY,SALNTY_FLAG_W,CTDOXY,CTDOXY_FLAG_W,OXYGEN,OXYGEN_FLAG_W,SILCAT,SILCAT_FLAG_W,NITRAT,NITRAT_FLAG_W,NITRIT,NITRIT_FLAG_W,PHSPHT,PHSPHT_FLAG_W,CFC-11,CFC-11_FLAG_W,CFC-12,CFC-12_FLAG_W,CFC113,CFC113_FLAG_W,TCARBN,TCARBN_FLAG_W,ALKALI,ALKALI_FLAG_W,FCO2,FCO2_FLAG_W,FCO2TMP,PH_TOT,PH_TOT_FLAG_W,PH_TMP,TRITUM,TRITUM_FLAG_W,TRITER,HELIUM,HELIUM_FLAG_W,DELHE3,DELHE3_FLAG_W,DELC13,DELC13_FLAG_W,DELC14,DELC14_FLAG_W,C14ERR,NEON,NEON_FLAG_W,NEONER,DOC,DOC_FLAG_W,TDN,TDN_FLAG_W,CTDRAW,CDOM325,CDOM325_FLAG_W,CDOM340,CDOM340_FLAG_W,CDOM380,CDOM380_FLAG_W,CDOM412,CDOM412_FLAG_W,CDOMSL,CDOMSL_FLAG_W,CDOMSN,CDOMSN_FLAG_W,DCNS,ARABI,ARABI_FLAG_W,FUCO,FUCO_FLAG_W,GALA,GALA_FLAG_W,GLUC,GLUC_FLAG_W,MAN,MAN_FLAG_W,RHAM,RHAM_FLAG_W,BRDU,BRDU_FLAG_W,THETA,HELIER,DELHER
,,,,,,,,,,,METERS,DBAR,ITS-90,PSS-78,,PSS-78,,UMOL/KG,,UMOL/KG,,UMOL/KG,,UMOL/KG,,UMOL/KG,,UMOL/KG,,PMOL/KG,,PMOL/KG,,PMOL/KG,,UMOL/KG,,UMOL/KG,,UATM,,DEG C,,,DEG C,TU,,TU,NMOL/KG,,PERCNT,,/MILLE,,/MILLE,,/MILLE,NMOL/KG,,NMOL/KG,UMOL/KG,,UMOL/KG,,DBAR,1/M,,1/M,,1/M,,1/M,,1/NM,,1/NM,,NMOL/KG,NMOL/KG,,NMOL/KG,,NMOL/KG,,NMOL/KG,,NMOL/KG,,NMOL/KG,,PMOL/L/H,,DEG C,NMOL/KG,PERCNT
325020060213,       P16N,      65,          1,         36,         36,2,20060323,       0952,    44.0002,  -151.9995,       5497,     9.9,   8.3108,  32.9301,2,  32.9303,2,    291.6,2,   291.7,2,    6.60,2,    6.30,2,    0.20,2,    0.74,2,   3.974,2,   2.283,2,-999.000,5,  2030.6,6,  2208.0,2,    557.6,2,    20.00,   7.8414,6,    25.00,   0.789,2,   0.019,    1.828,2,  -1.000,2, -999.00,9,  -999.0,9,    -9.0,   7.864,2,   0.011,   55.81,2,   10.49,2,    9.90,-999.0000,9,-999.0000,9,-999.0000,9,-999.0000,9,-999.0000,9,-999.0000,9,     -999.0,     -999.0,9,     -999.0,9,     -999.0,9,     -999.0,9,     -999.0,9,     -999.0,9, -999.00,9,   8.3098,    0.001,   0.171
325020060213,       P16N,      65,          1,         35,         35,2,20060323,       0952,    44.0002,  -151.9995,       5497,    25.2,   8.3159,  32.9295,2,  32.9299,2,    292.2,2,   292.1,2,    6.60,2,    6.30,2,    0.20,2,    0.75,2,   3.852,3,   2.159,3,-999.000,5,  2028.9,2,  2207.5,2,    558.1,2,    20.00,   7.8403,2,    25.00,   0.822,2,   0.020,    1.910,3,  -0.740,2, -999.00,9,  -999.0,9,    -9.0,   8.298,3,   0.016,   56.20,2,   10.69,2,   25.20,-999.0000,9,-999.0000,9,-999.0000,9,-999.0000,9,-999.0000,9,-999.0000,9,     -999.0,     -999.0,9,     -999.0,9,     -999.0,9,     -999.0,9,     -999.0,9,     -999.0,9, -999.00,9,   8.3134,    0.001,   0.165
325020060213,       P16N,      65,          1,         34,         34,2,20060323,       0952,    44.0002,  -151.9995,       5497,    51.5,   8.3171,  32.9298,2,  32.9356,2,    293.2,2,   289.8,2,    6.70,2,    6.30,2,    0.20,2,    0.75,2,   3.969,2,   2.280,2,-999.000,5,  2029.6,2,  2206.5,2,    556.1,2,    20.00,   7.8412,2,    25.00,   0.831,2,   0.020,    1.830,2,  -0.131,2, -999.00,9,  -999.0,9,    -9.0,   7.792,2,   0.008,   56.71,2,   10.02,2,   51.50,-999.0000,9,-999.0000,9,-999.0000,9,-999.0000,9,-999.0000,9,-999.0000,9,     -999.0,     -999.0,9,     -999.0,9,     -999.0,9,     -999.0,9,     -999.0,9,     -999.0,9, -999.00,9,   8.3120,    0.001,   0.189
325020060213,       P16N,      65,          1,         33,         33,2,20060323,       0952,    44.0002,  -151.9995,       5497,    74.6,   8.3327,  32.9338,2,  32.9366,2,    292.0,2,   288.2,2,    6.50,2,    6.30,2,    0.20,2,    0.75,2,   3.977,2,   2.283,2,-999.000,5,  2029.5,2,  2207.8,2,    556.9,6,    20.00,   7.8404,2,    25.00,   0.815,2,   0.020,    1.825,2,  -0.935,2, -999.00,9,  -999.0,9,    -9.0,   7.845,2,   0.012,   56.74,2,   10.18,2,   74.60,-999.0000,9,-999.0000,9,-999.0000,9,-999.0000,9,-999.0000,9,-999.0000,9,     -999.0,     -999.0,9,     -999.0,9,     -999.0,9,     -999.0,9,     -999.0,9,     -999.0,9, -999.00,9,   8.3253,    0.002,   0.191
325020060213,       P16N,      65,          1,         32,         32,2,20060323,       0952,    44.0002,  -151.9995,       5497,   101.2,   8.3919,  32.9547,2,  32.9551,2,    291.8,2,   284.1,2,    6.10,2,    6.00,2,    0.20,2,    0.72,2,   3.965,2,   2.298,2,-999.000,5,  2029.2,2,  2208.1,2,    551.8,2,    20.00,   7.8449,2,    25.00,   0.815,2,   0.019,    1.851,2,   1.111,3, -999.00,9,  -999.0,9,    -9.0,   7.790,2,   0.009,   56.30,2,    9.84,2,  101.20,-999.0000,9,-999.0000,9,-999.0000,9,-999.0000,9,-999.0000,9,-999.0000,9,     -999.0,     -999.0,9,     -999.0,9,     -999.0,9,     -999.0,9,     -999.0,9,     -999.0,9, -999.00,9,   8.3817,    0.002,   0.277
325020060213,       P16N,      65,          1,         31,         31,2,20060323,       0952,    44.0002,  -151.9995,       5497,   127.3,   8.3485,  32.9555,2,  32.9569,2,    291.6,2,   286.3,2,    6.60,2,    6.10,2,    0.20,2,    0.73,2,   3.978,2,   2.291,2,-999.000,5,  2029.8,2,  2207.3,2,    553.0,2,    20.00,   7.8418,2,    25.00,   0.864,2,   0.019,    1.815,2,  -1.408,3, -999.00,9,  -999.0,9,    -9.0,   7.842,2,   0.009,   55.26,2,   10.86,2,  127.30,-999.0000,9,-999.0000,9,-999.0000,9,-999.0000,9,-999.0000,9,-999.0000,9,     -999.0,     -999.0,9,     -999.0,9,     -999.0,9,     -999.0,9,     -999.0,9,     -999.0,9, -999.00,9,   8.3357,    0.000,   0.161
325020060213,       P16N,      65,          1,         30,         30,2,20060323,       0952,    44.0002,  -151.9995,       5497,   152.0,   8.5550,  33.2944,2,  33.2690,2,    262.8,2,   263.1,2,   11.90,2,    9.80,2,    0.10,2,    0.88,2,   3.929,2,   2.227,2,-999.000,5,  2058.3,2,  2222.8,2,    620.6,2,    20.00,   7.8025,2,    25.00,   0.817,2,   0.019,    1.783,2,  -3.095,4, -999.00,9,  -999.0,9,    -9.0,   7.770,2,   0.010,   53.76,2,   13.69,2,  152.00,-999.0000,9,-999.0000,9,-999.0000,9,-999.0000,9,-999.0000,9,-999.0000,9,     -999.0,     -999.0,9,     -999.0,9,     -999.0,9,     -999.0,9,     -999.0,9,     -999.0,9, -999.00,9,   8.5394,    0.001,   0.214
325020060213,       P16N,      65,          1,         29,         29,2,20060323,       0952,    44.0002,  -151.9995,       5497,   201.0,   7.8581,  33.8117,2,  33.8199,2,    239.0,2,   238.8,2,   21.80,2,   16.10,2,    0.00,2,    1.15,2,   3.933,2,   2.187,2,-999.000,5,  2109.9,2,  2253.0,6,    739.5,2,    20.00,   7.7313,2,    25.00,   0.809,2,   0.023,    1.804,2,   0.117,3, -999.00,9,  -999.0,9,    -9.0,   7.770,2,   0.009,   52.28,2,   19.87,2,  201.00,-999.0000,9,-999.0000,9,-999.0000,9,-999.0000,9,-999.0000,9,-999.0000,9,     -999.0,     -999.0,9,     -999.0,9,     -999.0,9,     -999.0,9,     -999.0,9,     -999.0,9, -999.00,9,   7.8384,    0.000,   0.163
325020060213,       P16N,      65,          1,         28,         28,2,20060323,       0952,    44.0002,  -151.9995,       5497,   252.1,   7.1770,  33.8543,2,  33.8544,2,    223.1,2,   224.1,2,   28.10,2,   19.00,2,    0.00,2,    1.35,2,   3.728,3,   1.959,3,-999.000,5,  2133.3,2,  2259.4,2,    840.3,2,    20.00,   7.6916,2,    25.00,   0.754,2,   0.019,    1.820,2,   2.894,2, -999.00,9,  -999.0,9,    -9.0,   7.900,2,   0.012,   50.02,2,   22.77,2,  252.10,-999.0000,9,-999.0000,9,-999.0000,9,-999.0000,9,-999.0000,9,-999.0000,9,     -999.0,     -999.0,9,     -999.0,9,     -999.0,9,     -999.0,9,     -999.0,9,     -999.0,9, -999.00,9,   7.1534,    0.001,   0.189
325020060213,       P16N,      65,          1,         27,         27,2,20060323,       0952,    44.0002,  -151.9995,       5497,   302.8,   6.6593,  33.8898,2,  33.8922,2,    193.5,2,   195.0,2,   37.30,2,   23.00,2,    0.00,2,    1.61,2,   3.521,2,   1.871,2,-999.000,5,  2163.1,2,  2268.7,2,    978.8,2,    20.00,   7.6299,2,    25.00,-999.000,9,-999.000,    1.852,2,   4.482,2, -999.00,9,  -999.0,9,    -9.0,   8.044,2,   0.014,   49.63,2,   27.62,2,  302.80,-999.0000,9,-999.0000,9,-999.0000,9,-999.0000,9,-999.0000,9,-999.0000,9,     -999.0,     -999.0,9,     -999.0,9,     -999.0,9,     -999.0,9,     -999.0,9,     -999.0,9, -999.00,9,   6.6321,    0.001,   0.191
325020060213,       P16N,      65,          1,         26,         26,2,20060323,       0952,    44.0002,  -151.9995,       5497,   352.4,   5.9412,  33.8869,2,  33.8891,2,    167.0,2,   167.4,2,   47.50,2,   27.10,2,    0.00,2,    1.88,2,   3.200,2,   1.678,2,-999.000,5,  2193.9,2,  2275.9,3,   1163.6,2,    20.00,   7.5616,2,    25.00,-999.000,9,-999.000,    1.876,2,   6.880,2, -999.00,9,  -999.0,9,    -9.0,   8.124,2,   0.013,   48.31,2,   31.04,2,  352.40,-999.0000,9,-999.0000,9,-999.0000,9,-999.0000,9,-999.0000,9,-999.0000,9,     -999.0,     -999.0,9,     -999.0,9,     -999.0,9,     -999.0,9,     -999.0,9,     -999.0,9, -999.00,9,   5.9113,    0.001,   0.240
325020060213,       P16N,      65,          1,         25,         25,4,20060323,       0952,    44.0002,  -151.9995,       5497,   400.3,   5.5811,  33.9408,2,  33.8908,3,    123.6,2,   167.5,4,   47.60,4,   27.10,4,    0.00,4,    1.88,4,   3.224,2,   1.701,2,-999.000,5,  2193.2,3,  2274.6,2,   1164.8,2,    20.00,   7.5608,4,    25.00,-999.000,9,-999.000,    1.828,2,   8.031,2, -999.00,9,  -999.0,9,    -9.0,   7.870,2,   0.017,   47.44,2,   31.28,2,  400.30,-999.0000,9,-999.0000,9,-999.0000,9,-999.0000,9,-999.0000,9,-999.0000,9,     -999.0,     -999.0,9,     -999.0,9,     -999.0,9,     -999.0,9,     -999.0,9,     -999.0,9, -999.00,9,   5.5481,    0.001,   0.184
325020060213,       P16N,      65,          1,         24,         24,2,20060323,       0952,    44.0002,  -151.9995,       5497,   453.0,   5.0032,  33.9504,2,  33.9521,2,     95.3,2,    96.1,2,   71.10,2,   35.40,2,    0.00,2,    2.45,2,   2.217,2,   1.127,2,-999.000,5,  2259.6,2,  2293.9,2,   1714.8,2,    20.00,   7.4115,2,    25.00,-999.000,9,-999.000,    1.842,2,  13.378,2, -999.00,9,  -999.0,9,    -9.0,   8.033,2,   0.012,   46.28,2,   39.98,2,  453.00,-999.0000,9,-999.0000,9,-999.0000,9,-999.0000,9,-999.0000,9,-999.0000,9,     -999.0,     -999.0,9,     -999.0,9,     -999.0,9,     -999.0,9,     -999.0,9,     -999.0,9, -999.00,9,   4.9677,    0.001,   0.189
325020060213,       P16N,      65,          1,         23,         23,2,20060323,       0952,    44.0002,  -151.9995,       5497,   502.3,   4.7215,  33.9867,2,  33.9855,2,     79.4,2,    80.1,2,   78.40,2,   37.20,2,    0.00,2,    2.60,2,   1.889,2,   0.929,2,-999.000,5,  2276.5,2,  2302.1,2,   1862.7,2,    20.00,   7.3786,2,    25.00,-999.000,9,-999.000,    1.852,2,  13.838,2, -999.00,9,  -999.0,9,    -9.0,   8.057,2,   0.009,   43.86,2,   40.83,2,  502.30,-999.0000,9,-999.0000,9,-999.0000,9,-999.0000,9,-999.0000,9,-999.0000,9,     -999.0,     -999.0,9,     -999.0,9,     -999.0,9,     -999.0,9,     -999.0,9,     -999.0,9, -999.00,9,   4.6830,    0.001,   0.167
325020060213,       P16N,      65,          1,         22,         22,2,20060323,       0952,    44.0002,  -151.9995,       5497,   602.2,   4.2447,  34.0755,2,  34.0729,2,     53.5,2,    54.4,2,   93.70,2,   40.10,2,    0.00,2,    2.82,2,   1.131,3,   0.530,3,-999.000,5,  2307.2,2,  2318.1,2,   2093.5,6,    20.00,   7.3376,2,    25.00,   0.259,2,   0.014,    1.878,2,  15.644,2, -999.00,9,  -999.0,9,    -9.0,   8.153,2,   0.009,   43.24,2,   43.74,2,  602.20,-999.0000,9,-999.0000,9,-999.0000,9,-999.0000,9,-999.0000,9,-999.0000,9,     -999.0,     -999.0,9,     -999.0,9,     -999.0,9,     -999.0,9,     -999.0,9,     -999.0,9, -999.00,9,   4.2002,    0.002,   0.184
325020060213,       P16N,      65,          1,         21,         21,2,20060323,       0952,    44.0002,  -151.9995,       5497,   701.8,   3.9543,  34.1547,2,  34.1546,2,     38.2,2,    38.7,2,  105.60,2,   41.60,2,    0.00,2,    2.94,2,   0.680,2,   0.326,2,-999.000,5,  2328.0,2,  2332.3,2,   2216.9,2,    20.00,   7.3158,2,    25.00,-999.000,9,-999.000,    1.865,2,  17.431,2, -999.00,9,  -999.0,9,    -9.0,   8.069,2,   0.012,   42.35,2,   45.76,2,  701.80,-999.0000,9,-999.0000,9,-999.0000,9,-999.0000,9,-999.0000,9,-999.0000,9,     -999.0,     -999.0,9,     -999.0,9,     -999.0,9,     -999.0,9,     -999.0,9,     -999.0,9, -999.00,9,   3.9035,    0.002,   0.203
325020060213,       P16N,      65,          1,         20,         20,2,20060323,       0952,    44.0002,  -151.9995,       5497,   802.8,   3.7004,  34.2276,2,  34.2258,2,     27.1,2,    27.0,2,  116.30,2,   42.50,2,    0.00,2,    3.03,2,   0.328,2,   0.165,2,-999.000,5,  2346.8,2,  2346.6,2,   -999.0,9,  -999.00,   7.3030,2,    25.00,-999.000,9,-999.000,    1.862,2,  17.428,2, -999.00,9,  -999.0,9,    -9.0,   8.169,2,   0.014,   41.37,2,   46.28,2,  802.80,-999.0000,9,-999.0000,9,-999.0000,9,-999.0000,9,-999.0000,9,-999.0000,9,     -999.0,     -999.0,9,     -999.0,9,     -999.0,9,     -999.0,9,     -999.0,9,     -999.0,9, -999.00,9,   3.6431,    0.002,   0.186
325020060213,       P16N,      65,          1,         19,         19,2,20060323,       0952,    44.0002,  -151.9995,       5497,   898.6,   3.4324,  34.2824,2,  34.2831,2,     19.6,2,    19.4,2,  125.90,2,   43.30,2,    0.00,2,    3.11,2,   0.144,2,   0.068,2,-999.000,5,  2361.2,2,  2359.9,2,   -999.0,9,  -999.00,   7.2977,2,    25.00,-999.000,9,-999.000,    1.904,2,  16.275,2, -999.00,9,  -999.0,9,    -9.0,   8.165,2,   0.009,   40.63,2,   46.84,2,  898.60,-999.0000,9,-999.0000,9,-999.0000,9,-999.0000,9,-999.0000,9,-999.0000,9,     -999.0,     -999.0,9,     -999.0,9,     -999.0,9,     -999.0,9,     -999.0,9,     -999.0,9, -999.00,9,   3.3694,    0.000,   0.178
325020060213,       P16N,      65,          1,         18,         18,2,20060323,       0952,    44.0002,  -151.9995,       5497,   998.7,   3.1998,  34.3270,2,  34.3280,2,     14.4,2,    13.7,2,  133.70,2,   43.90,2,    0.00,2,    3.17,2,   0.064,2,   0.023,2,-999.000,5,  2372.5,2,  2368.9,6,   -999.0,9,  -999.00,   7.2911,2,    25.00,-999.000,9,-999.000,    1.892,2,  15.987,2, -999.00,9,  -999.0,9,    -9.0,   8.211,2,   0.014,   39.79,2,   48.04,2,  998.70,-999.0000,9,-999.0000,9,-999.0000,9,-999.0000,9,-999.0000,9,-999.0000,9,     -999.0,     -999.0,9,     -999.0,9,     -999.0,9,     -999.0,9,     -999.0,9,     -999.0,9, -999.00,9,   3.1308,    0.001,   0.231
325020060213,       P16N,      65,          1,         17,         17,2,20060323,       0952,    44.0002,  -151.9995,       5497,  1199.9,   2.8262,  34.4046,2,  34.4051,2,     10.6,2,    10.7,2,  147.40,2,   44.40,2,    0.00,2,    3.19,2,   0.011,2,   0.009,2,-999.000,5,  2387.1,2,  2385.6,2,   -999.0,9,  -999.00,-999.0000,5,  -999.00,-999.000,9,-999.000,    1.945,2,  16.886,2, -999.00,9,  -999.0,9,    -9.0,   8.301,2,   0.015,   39.24,2,   47.93,2, 1199.90,-999.0000,9,-999.0000,9,-999.0000,9,-999.0000,9,-999.0000,9,-999.0000,9,     -999.0,     -999.0,9,     -999.0,9,     -999.0,9,     -999.0,9,     -999.0,9,     -999.0,9, -999.00,9,   2.7447,    0.001,   0.208
325020060213,       P16N,      65,          1,         16,         16,2,20060323,       0952,    44.0002,  -151.9995,       5497,  1401.0,   2.5784,  34.4634,2,  34.4634,2,     11.2,2,    11.5,2,  156.40,2,   44.60,2,    0.00,2,    3.19,2,  -0.002,2,   0.002,2,-999.000,5,  2395.6,2,  2396.9,2,   -999.0,9,  -999.00,   7.2978,2,    25.00,-999.000,9,-999.000,    1.953,2,  18.162,2, -999.00,9,  -999.0,9,    -9.0,   8.280,2,   0.012,   38.07,2,   48.34,2, 1401.00,-999.0000,9,-999.0000,9,-999.0000,9,-999.0000,9,-999.0000,9,-999.0000,9,     -999.0,     -999.0,9,     -999.0,9,     -999.0,9,     -999.0,9,     -999.0,9,     -999.0,9, -999.00,9,   2.4836,    0.001,   0.218
325020060213,       P16N,      65,          1,         15,         15,2,20060323,       0952,    44.0002,  -151.9995,       5497,  1602.1,   2.3699,  34.5138,2,  34.5125,2,     19.6,2,    20.0,2,  162.60,2,   44.10,2,    0.00,2,    3.15,2,-999.000,9,-999.000,9,-999.000,9,  2394.8,2,  2404.3,2,   2263.9,2,    20.00,   7.3206,2,    25.00,-999.000,9,-999.000,-999.0000,9,-999.000,9, -999.00,9,  -999.0,9,    -9.0,-999.000,9,-999.000,   37.69,2,   47.40,2, 1602.10,-999.0000,9,-999.0000,9,-999.0000,9,-999.0000,9,-999.0000,9,-999.0000,9,     -999.0,     -999.0,9,     -999.0,9,     -999.0,9,     -999.0,9,     -999.0,9,     -999.0,9, -999.00,9,   2.2614,-999.0000,-999.000
325020060213,       P16N,      65,          1,         14,         14,2,20060323,       0952,    44.0002,  -151.9995,       5497,  1800.2,   2.1694,  34.5519,2,  34.5514,2,     32.3,2,    33.5,2,  167.30,2,   43.20,2,    0.00,2,    3.12,2,   0.003,6,   0.001,6,-999.000,5,  2394.5,2,  2411.5,2,   2113.2,6,    20.00,   7.3504,2,    25.00,-999.000,9,-999.000,-999.0000,9,-999.000,9, -999.00,9,  -999.0,9,    -9.0,-999.000,9,-999.000,   37.13,2,   46.59,2, 1800.20,-999.0000,9,-999.0000,9,-999.0000,9,-999.0000,9,-999.0000,9,-999.0000,9,     -999.0,     -999.0,9,     -999.0,9,     -999.0,9,     -999.0,9,     -999.0,9,     -999.0,9, -999.00,9,   2.0473,-999.0000,-999.000
325020060213,       P16N,      65,          1,         13,         13,2,20060323,       0952,    44.0002,  -151.9995,       5497,  2002.0,   2.0009,  34.5806,2,  34.5809,2,     45.3,2,    45.7,2,  170.70,2,   42.60,2,    0.00,2,    3.07,2,-999.000,9,-999.000,9,-999.000,9,  2393.1,2,  2416.4,2,   1979.5,2,    20.00,   7.3755,2,    25.00,-999.000,9,-999.000,-999.0000,9,-999.000,9, -999.00,9,  -999.0,9,    -9.0,-999.000,9,-999.000,   37.28,2,   46.37,2, 2002.00,-999.0000,9,-999.0000,9,-999.0000,9,-999.0000,9,-999.0000,9,-999.0000,9,     -999.0,     -999.0,9,     -999.0,9,     -999.0,9,     -999.0,9,     -999.0,9,     -999.0,9, -999.00,9,   1.8644,-999.0000,-999.000
325020060213,       P16N,      65,          1,         12,         12,2,20060323,       0952,    44.0002,  -151.9995,       5497,  2253.0,   1.8588,  34.6102,2,  34.6080,2,     61.7,2,    62.4,2,  172.40,2,   41.60,2,    0.00,2,    3.00,2,-999.000,9,-999.000,9,-999.000,9,  2385.6,2,  2422.0,2,   1828.5,2,    20.00,   7.4101,2,    25.00,-999.000,9,-999.000,-999.0000,9,-999.000,9, -999.00,9,  -999.0,9,    -9.0,-999.000,9,-999.000,   37.25,2,   45.65,2, 2253.00,-999.0000,9,-999.0000,9,-999.0000,9,-999.0000,9,-999.0000,9,-999.0000,9,     -999.0,     -999.0,9,     -999.0,9,     -999.0,9,     -999.0,9,     -999.0,9,     -999.0,9, -999.00,9,   1.7031,-999.0000,-999.000
325020060213,       P16N,      65,          1,         11,         11,2,20060323,       0952,    44.0002,  -151.9995,       5497,  2499.6,   1.7584,  34.6294,2,  34.6318,2,     76.1,2,    76.5,2,  172.80,2,   40.70,2,    0.00,2,    2.94,2,   0.012,3,   0.000,2,-999.000,5,  2378.4,2,  2424.8,2,   1690.2,6,    20.00,   7.4390,2,    25.00,-999.000,9,-999.000,-999.0000,9,-999.000,9, -999.00,9,  -999.0,9,    -9.0,-999.000,9,-999.000,   36.80,2,   44.72,2, 2499.60,-999.0000,9,-999.0000,9,-999.0000,9,-999.0000,9,-999.0000,9,-999.0000,9,     -999.0,     -999.0,9,     -999.0,9,     -999.0,9,     -999.0,9,     -999.0,9,     -999.0,9, -999.00,9,   1.5828,-999.0000,-999.000
325020060213,       P16N,      65,          1,         10,         10,2,20060323,       0952,    44.0002,  -151.9995,       5497,  2751.2,   1.6516,  34.6463,2,  34.6463,2,     91.9,2,    92.0,2,  170.90,2,   39.70,2,    0.00,2,    2.84,2,-999.000,9,-999.000,9,-999.000,9,  2370.0,2,  2424.4,2,   1562.9,2,    20.00,   7.4673,2,    25.00,-999.000,9,-999.000,-999.0000,9,-999.000,9, -999.00,9,  -999.0,9,    -9.0,-999.000,9,-999.000,   36.88,2,   43.26,2, 2751.20,-999.0000,9,-999.0000,9,-999.0000,9,-999.0000,9,-999.0000,9,-999.0000,9,     -999.0,     -999.0,9,     -999.0,9,     -999.0,9,     -999.0,9,     -999.0,9,     -999.0,9, -999.00,9,   1.4551,-999.0000,-999.000