BOTTLE,20170720CCHSIOCBG
EXPOCODE,SECT_ID,STNNBR,CASTNO,SAMPNO,BTLNBR,BTLNBR_FLAG_W,DATE,TIME,LATITUDE,LONGITUDE,DEPTH,CTDPRS,CTDTMP,CTDSAL,CTDSAL_FLAG_W,SALNTY,SALNTY_FLAG_W,CTDOXY,CTDOXY_FLAG_W,OXYGEN,OXYGEN_FLAG_W,SILCAT,SILCAT_FLAG_W,NITRAT,NITRAT_FLAG_W,NITRIT,NITRIT_FLAG_W,PHSPHT,PHSPHT_FLAG_W,CFC-11,CFC-11_FLAG_W,CFC-12,CFC-12_FLAG_W,CFC113,CFC113_FLAG_W,TCARBN,TCARBN_FLAG_W,ALKALI,ALKALI_FLAG_W,FCO2,FCO2_FLAG_W,FCO2TMP,PH_TOT,PH_TOT_FLAG_W,PH_TMP,TRITUM,TRITUM_FLAG_W,TRITER,HELIUM,HELIUM_FLAG_W,DELHE3,DELHE3_FLAG_W,DELC13,DELC13_FLAG_W,DELC14,DELC14_FLAG_W,C14ERR,NEON,NEON_FLAG_W,NEONER,DOC,DOC_FLAG_W,TDN,TDN_FLAG_W,CTDRAW,CDOM325,CDOM325_FLAG_W,CDOM340,CDOM340_FLAG_W,CDOM380,CDOM380_FLAG_W,CDOM412,CDOM412_FLAG_W,CDOMSL,CDOMSL_FLAG_W,CDOMSN,CDOMSN_FLAG_W,DCNS,ARABI,ARABI_FLAG_W,FUCO,FUCO_FLAG_W,GALA,GALA_FLAG_W,GLUC,GLUC_FLAG_W,MAN,MAN_FLAG_W,RHAM,RHAM_FLAG_W,BRDU,BRDU_FLAG_W,THETA,HELIER,DELHER
,,,,,,,,,,,METERS,DBAR,ITS-90,PSS-78,,PSS-78,,UMOL/KG,,UMOL/KG,,UMOL/KG,,UMOL/KG,,UMOL/KG,,UMOL/KG,,PMOL/KG,,PMOL/KG,,PMOL/KG,,UMOL/KG,,UMOL/KG,,UATM,,DEG C,,,DEG C,TU,,TU,NMOL/KG,,PERCNT,,/MILLE,,/MILLE,,/MILLE,NMOL/KG,,NMOL/KG,UMOL/KG,,UMOL/KG,,DBAR,1/M,,1/M,,1/M,,1/M,,1/NM,,1/NM,,NMOL/KG,NMOL/KG,,NMOL/KG,,NMOL/KG,,NMOL/KG,,NMOL/KG,,NMOL/KG,,PMOL/L/H,,DEG C,NMOL/KG,PERCNT
325020060213,       P16N,      73,          1,          9,          9,4,20060326,       2238,    51.9998,  -151.9988,       5087,  2797.9,   1.6254,  34.6480,2,  32.6873,4,     98.7,2,  -999.0,4,   25.30,4,   12.50,4,    0.10,4,    1.33,4,-999.000,9,-999.000,9,-999.000,9,  -999.0,9,  -999.0,9,    729.6,4,    20.00,   7.7375,3,    25.00,-999.000,9,-999.000,-999.0000,9,-999.000,9, -999.00,9,  -999.0,9,    -9.0,-999.000,9,-999.000,   36.18,2,   16.96,2, 2797.90,-999.0000,9,-999.0000,9,-999.0000,9,-999.0000,9,-999.0000,9,-999.0000,9,     -999.0,     -999.0,9,     -999.0,9,     -999.0,9,     -999.0,9,     -999.0,9,     -999.0,9, -999.00,9,   1.4250,-999.0000,-999.000
325020060213,       P16N,      73,          1,          8,          8,2,20060326,       2238,    51.9998,  -151.9988,       5087,  2997.4,   1.5836,  34.6565,2,  34.6609,3,    107.3,2,   108.3,2,  167.00,2,   38.00,2,    0.00,2,    2.74,2,  -0.002,2,   0.001,2,-999.000,5,  2355.3,2,  2430.7,2,   1469.3,6,    20.00,   7.4985,2,    25.00,-999.000,9,-999.000,-999.0000,9,-999.000,9, -999.00,9,  -999.0,9,    -9.0,-999.000,9,-999.000,   35.90,2,   41.97,2, 2997.40,-999.0000,9,-999.0000,9,-999.0000,9,-999.0000,9,-999.0000,9,-999.0000,9,     -999.0,     -999.0,9,     -999.0,9,     -999.0,9,     -999.0,9,     -999.0,9,     -999.0,9, -999.00,9,   1.3653,-999.0000,-999.000
325020060213,       P16N,      73,          1,          7,          7,2,20060326,       2238,    51.9998,  -151.9988,       5087,  3301.1,   1.5343,  34.6675,2,  34.6683,2,    119.5,2,   120.3,2,  165.70,2,   37.00,2,    0.00,2,    2.69,2,-999.000,9,-999.000,9,-999.000,9,  2349.2,2,  2422.6,6,   1359.2,2,    20.00,   7.5209,2,    25.00,-999.000,9,-999.000,-999.0000,9,-999.000,9, -999.00,9,  -999.0,9,    -9.0,-999.000,9,-999.000,   35.97,2,   40.24,2, 3301.10,-999.0000,9,-999.0000,9,-999.0000,9,-999.0000,9,-999.0000,9,-999.0000,9,     -999.0,     -999.0,9,     -999.0,9,     -999.0,9,     -999.0,9,     -999.0,9,     -999.0,9, -999.00,9,   1.2874,-999.0000,-999.000
325020060213,       P16N,      73,          1,          6,          6,2,20060326,       2238,    51.9998,  -151.9988,       5087,  3598.2,   1.5104,  34.6748,2,  34.6746,2,    127.7,2,   123.6,3,  163.50,2,   36.50,2,    0.00,2,    2.65,2,-999.000,9,-999.000,9,-999.000,9,  2343.5,2,  2422.7,2,   1310.8,2,    20.00,   7.5370,2,    25.00,-999.000,9,-999.000,-999.0000,9,-999.000,9, -999.00,9,  -999.0,9,    -9.0,-999.000,9,-999.000,   37.11,2,   40.44,2, 3598.20,-999.0000,9,-999.0000,9,-999.0000,9,-999.0000,9,-999.0000,9,-999.0000,9,     -999.0,     -999.0,9,     -999.0,9,     -999.0,9,     -999.0,9,     -999.0,9,     -999.0,9, -999.00,9,   1.2339,-999.0000,-999.000
325020060213,       P16N,      73,          1,          5,          5,2,20060326,       2238,    51.9998,  -151.9988,       5087,  3896.2,   1.5000,  34.6804,2,  34.6833,3,    135.0,2,   135.3,2,  163.70,2,   36.10,2,    0.00,2,    2.61,2,-999.000,9,-999.000,9,-999.000,9,  2339.6,2,  2422.9,2,   1264.1,6,    20.00,   7.5512,2,    25.00,-999.000,9,-999.000,-999.0000,9,-999.000,9, -999.00,9,  -999.0,9,    -9.0,-999.000,9,-999.000,   36.87,2,   39.69,2, 3896.20,-999.0000,9,-999.0000,9,-999.0000,9,-999.0000,9,-999.0000,9,-999.0000,9,     -999.0,     -999.0,9,     -999.0,9,     -999.0,9,     -999.0,9,     -999.0,9,     -999.0,9, -999.00,9,   1.1924,-999.0000,-999.000
325020060213,       P16N,      73,          1,          4,          4,2,20060326,       2238,    51.9998,  -151.9988,       5087,  4197.0,   1.5112,  34.6833,2,  34.6855,2,    138.6,2,   139.0,2,  163.60,6,   36.00,6,    0.00,6,    2.59,6,   0.000,2,   0.000,2,-999.000,5,  2337.5,2,  2430.4,2,   1250.5,2,    20.00,   7.5572,2,    25.00,-999.000,9,-999.000,-999.0000,9,-999.000,9, -999.00,9,  -999.0,9,    -9.0,-999.000,9,-999.000,   37.07,2,   39.10,2, 4197.00,-999.0000,9,-999.0000,9,-999.0000,9,-999.0000,9,-999.0000,9,-999.0000,9,     -999.0,     -999.0,9,     -999.0,9,     -999.0,9,     -999.0,9,     -999.0,9,     -999.0,9, -999.00,9,   1.1703,-999.0000,-999.000
325020060213,       P16N,      73,          1,          3,          3,2,20060326,       2238,    51.9998,  -151.9988,       5087,  4498.2,   1.5308,  34.6855,2,  34.6880,2,    141.2,2,   141.5,2,  163.90,6,   35.90,6,    0.00,6,    2.57,6,-999.000,9,-999.000,9,-999.000,9,  2336.6,2,  2433.9,2,   1231.4,2,    20.00,   7.5642,2,    25.00,-999.000,9,-999.000,-999.0000,9,-999.000,9, -999.00,9,  -999.0,9,    -9.0,-999.000,9,-999.000,   36.95,2,   39.00,2, 4498.20,-999.0000,9,-999.0000,9,-999.0000,9,-999.0000,9,-999.0000,9,-999.0000,9,     -999.0,     -999.0,9,     -999.0,9,     -999.0,9,     -999.0,9,     -999.0,9,     -999.0,9, -999.00,9,   1.1551,-999.0000,-999.000
325020060213,       P16N,      73,          1,          2,          2,2,20060326,       2238,    51.9998,  -151.9988,       5087,  4848.4,   1.5619,  34.6868,2,  34.6873,2,    143.8,2,   143.4,2,  163.50,6,   35.50,6,    0.00,6,    2.55,6,  -0.003,2,  -0.002,2,-999.000,5,  2335.4,2,  2434.3,2,   1211.1,2,    20.00,   7.5656,2,    25.00,   0.002,2,   0.018,    1.918,2,  16.291,2, -999.00,9,  -999.0,9,    -9.0,   8.036,2,   0.072,   37.25,2,   39.41,2, 4848.40,-999.0000,9,-999.0000,9,-999.0000,9,-999.0000,9,-999.0000,9,-999.0000,9,     -999.0,     -999.0,9,     -999.0,9,     -999.0,9,     -999.0,9,     -999.0,9,     -999.0,9, -999.00,9,   1.1439,    0.006,   0.133
325020060213,       P16N,      73,          1,          1,          1,2,20060326,       2238,    51.9998,  -151.9988,       5087,  5199.9,   1.6033,  34.6869,2,  34.6928,4,    143.3,2,   143.9,2,  162.80,6,   35.50,6,    0.00,6,    2.57,6,  -0.001,2,   0.000,2,-999.000,5,  2334.6,6,  2432.8,2,   1214.4,2,    20.00,   7.5655,2,    25.00,   0.009,2,   0.015,-999.0000,9,-999.000,9, -999.00,9,  -999.0,9,    -9.0,-999.000,9,-999.000,   37.01,2,   39.31,2, 5199.90,-999.0000,9,-999.0000,9,-999.0000,9,-999.0000,9,-999.0000,9,-999.0000,9,     -999.0,     -999.0,9,     -999.0,9,     -999.0,9,     -999.0,9,     -999.0,9,     -999.0,9, -999.00,9,   1.1409,-999.0000,-999.000