BOTTLE,20170720CCHSIOCBG
EXPOCODE,SECT_ID,STNNBR,CASTNO,SAMPNO,BTLNBR,BTLNBR_FLAG_W,DATE,TIME,LATITUDE,LONGITUDE,DEPTH,CTDPRS,CTDTMP,CTDSAL,CTDSAL_FLAG_W,SALNTY,SALNTY_FLAG_W,CTDOXY,CTDOXY_FLAG_W,OXYGEN,OXYGEN_FLAG_W,SILCAT,SILCAT_FLAG_W,NITRAT,NITRAT_FLAG_W,NITRIT,NITRIT_FLAG_W,PHSPHT,PHSPHT_FLAG_W,CFC-11,CFC-11_FLAG_W,CFC-12,CFC-12_FLAG_W,CFC113,CFC113_FLAG_W,TCARBN,TCARBN_FLAG_W,ALKALI,ALKALI_FLAG_W,FCO2,FCO2_FLAG_W,FCO2TMP,PH_TOT,PH_TOT_FLAG_W,PH_TMP,TRITUM,TRITUM_FLAG_W,TRITER,HELIUM,HELIUM_FLAG_W,DELHE3,DELHE3_FLAG_W,DELC13,DELC13_FLAG_W,DELC14,DELC14_FLAG_W,C14ERR,NEON,NEON_FLAG_W,NEONER,DOC,DOC_FLAG_W,TDN,TDN_FLAG_W,CTDRAW,CDOM325,CDOM325_FLAG_W,CDOM340,CDOM340_FLAG_W,CDOM380,CDOM380_FLAG_W,CDOM412,CDOM412_FLAG_W,CDOMSL,CDOMSL_FLAG_W,CDOMSN,CDOMSN_FLAG_W,DCNS,ARABI,ARABI_FLAG_W,FUCO,FUCO_FLAG_W,GALA,GALA_FLAG_W,GLUC,GLUC_FLAG_W,MAN,MAN_FLAG_W,RHAM,RHAM_FLAG_W,BRDU,BRDU_FLAG_W,THETA,HELIER,DELHER
,,,,,,,,,,,METERS,DBAR,ITS-90,PSS-78,,PSS-78,,UMOL/KG,,UMOL/KG,,UMOL/KG,,UMOL/KG,,UMOL/KG,,UMOL/KG,,PMOL/KG,,PMOL/KG,,PMOL/KG,,UMOL/KG,,UMOL/KG,,UATM,,DEG C,,,DEG C,TU,,TU,NMOL/KG,,PERCNT,,/MILLE,,/MILLE,,/MILLE,NMOL/KG,,NMOL/KG,UMOL/KG,,UMOL/KG,,DBAR,1/M,,1/M,,1/M,,1/M,,1/NM,,1/NM,,NMOL/KG,NMOL/KG,,NMOL/KG,,NMOL/KG,,NMOL/KG,,NMOL/KG,,NMOL/KG,,PMOL/L/H,,DEG C,NMOL/KG,PERCNT
325020060213,       P16N,       2,          2,          8,          8,2,20060214,       2114,        -16,       -150,       4226,  2745.7,   1.8096,  34.6704,2,  34.6676,4,    152.9,2,   153.5,2,  126.10,2,   36.40,2,    0.00,2,    2.52,2,-999.000,9,-999.000,9,-999.000,9,  2310.4,2,  2395.2,2,   1132.4,2,    20.00,   7.5831,2,    25.00,-999.000,9,-999.000,-999.0000,9,-999.000,9, -999.00,9,  -999.0,9,    -9.0,-999.000,9,-999.000,   36.61,2,   40.09,2, 2745.70,-999.0000,9,-999.0000,9,-999.0000,9,-999.0000,9,-999.0000,9,-999.0000,9,     -999.0,     -999.0,9,     -999.0,9,     -999.0,9,     -999.0,9,     -999.0,9,     -999.0,9, -999.00,9,   1.6102,-999.0000,-999.000
325020060213,       P16N,       2,          2,          7,          7,2,20060214,       2114,        -16,       -150,       4226,  2937.7,   1.7197,  34.6774,2,  34.6690,4,    156.8,2,   157.0,2,  127.40,2,   36.30,2,    0.00,2,    2.50,2,-999.000,9,-999.000,9,-999.000,9,  2309.8,2,  2396.6,2,   1119.1,2,    20.00,   7.5879,2,    25.00,-999.000,9,-999.000,-999.0000,9,-999.000,9, -999.00,9,  -999.0,9,    -9.0,-999.000,9,-999.000,   36.39,2,   39.96,2, 2937.70,-999.0000,9,-999.0000,9,-999.0000,9,-999.0000,9,-999.0000,9,-999.0000,9,     -999.0,     -999.0,9,     -999.0,9,     -999.0,9,     -999.0,9,     -999.0,9,     -999.0,9, -999.00,9,   1.5041,-999.0000,-999.000
325020060213,       P16N,       2,          2,          6,          6,2,20060214,       2114,        -16,       -150,       4226,  3192.7,   1.6560,  34.6814,2,  34.6702,4,    162.0,2,   162.6,2,  125.90,2,   35.80,2,    0.00,2,    2.47,2,   0.004,6,   0.002,6,-999.000,5,  2303.5,2,  2392.1,2,   1096.7,2,    20.00,   7.5887,2,    25.00,-999.000,9,-999.000,-999.0000,9,-999.000,9, -999.00,9,  -999.0,9,    -9.0,-999.000,9,-999.000,   36.54,2,   39.30,2, 3192.70,-999.0000,9,-999.0000,9,-999.0000,9,-999.0000,9,-999.0000,9,-999.0000,9,     -999.0,     -999.0,9,     -999.0,9,     -999.0,9,     -999.0,9,     -999.0,9,     -999.0,9, -999.00,9,   1.4170,-999.0000,-999.000
325020060213,       P16N,       2,          2,          5,          5,2,20060214,       2114,        -16,       -150,       4226,  3501.2,   1.5404,  34.6891,2,  34.6830,4,    171.4,2,   171.7,2,  123.30,6,   35.10,6,    0.00,6,    2.42,6,-999.000,9,-999.000,9,-999.000,9,  2293.4,2,  2386.7,2,   1085.0,2,    20.00,   7.6001,2,    25.00,-999.000,9,-999.000,-999.0000,9,-999.000,9, -999.00,9,  -999.0,9,    -9.0,-999.000,9,-999.000,   36.52,2,   38.98,2, 3501.20,-999.0000,9,-999.0000,9,-999.0000,9,-999.0000,9,-999.0000,9,-999.0000,9,     -999.0,     -999.0,9,     -999.0,9,     -999.0,9,     -999.0,9,     -999.0,9,     -999.0,9, -999.00,9,   1.2731,-999.0000,-999.000
325020060213,       P16N,       2,          2,          4,          4,2,20060214,       2114,        -16,       -150,       4226,  3807.0,   1.4762,  34.6948,2,  34.6856,4,    177.1,2,   177.6,2,  122.50,6,   34.80,6,    0.00,6,    2.39,6,-999.000,9,-999.000,9,-999.000,9,  2290.1,2,  2381.6,6,   1072.7,2,    20.00,   7.5961,2,    25.00,-999.000,9,-999.000,-999.0000,9,-999.000,9, -999.00,9,  -999.0,9,    -9.0,-999.000,9,-999.000,   37.80,2,   37.97,2, 3807.00,-999.0000,9,-999.0000,9,-999.0000,9,-999.0000,9,-999.0000,9,-999.0000,9,     -999.0,     -999.0,9,     -999.0,9,     -999.0,9,     -999.0,9,     -999.0,9,     -999.0,9, -999.00,9,   1.1786,-999.0000,-999.000
325020060213,       P16N,       2,          2,          3,          3,2,20060214,       2114,        -16,       -150,       4226,  4113.4,   1.4708,  34.6970,2,  34.6923,4,    179.3,2,   179.4,2,  122.20,6,   34.60,6,    0.00,6,    2.38,6,   0.001,2,  -0.001,2,-999.000,5,  2290.0,2,  2378.7,2,   1063.5,6,    20.00,   7.5991,2,    25.00,-999.000,9,-999.000,-999.0000,9,-999.000,9, -999.00,9,  -999.0,9,    -9.0,-999.000,9,-999.000,   37.09,2,   38.37,2, 4113.40,-999.0000,9,-999.0000,9,-999.0000,9,-999.0000,9,-999.0000,9,-999.0000,9,     -999.0,     -999.0,9,     -999.0,9,     -999.0,9,     -999.0,9,     -999.0,9,     -999.0,9, -999.00,9,   1.1402,-999.0000,-999.000
325020060213,       P16N,       2,          2,          1,          1,2,20060214,       2114,        -16,       -150,       4226,  4321.4,   1.4788,  34.6977,2,  34.6975,4,    180.5,2,   180.0,2,  122.30,6,   34.50,6,    0.00,6,    2.38,6,   0.008,2,   0.000,2,-999.000,5,  2290.1,6,  2380.4,2,   1051.0,2,    20.00,   7.6046,2,    25.00,-999.000,9,-999.000,-999.0000,9,-999.000,9, -999.00,9,  -999.0,9,    -9.0,-999.000,9,-999.000,   38.08,2,   38.54,2, 4321.40,-999.0000,9,-999.0000,9,-999.0000,9,-999.0000,9,-999.0000,9,-999.0000,9,     -999.0,     -999.0,9,     -999.0,9,     -999.0,9,     -999.0,9,     -999.0,9,     -999.0,9, -999.00,9,   1.1248,-999.0000,-999.000