BOTTLE,20170720CCHSIOCBG
EXPOCODE,SECT_ID,STNNBR,CASTNO,SAMPNO,BTLNBR,BTLNBR_FLAG_W,DATE,TIME,LATITUDE,LONGITUDE,DEPTH,CTDPRS,CTDTMP,CTDSAL,CTDSAL_FLAG_W,SALNTY,SALNTY_FLAG_W,CTDOXY,CTDOXY_FLAG_W,OXYGEN,OXYGEN_FLAG_W,SILCAT,SILCAT_FLAG_W,NITRAT,NITRAT_FLAG_W,NITRIT,NITRIT_FLAG_W,PHSPHT,PHSPHT_FLAG_W,CFC-11,CFC-11_FLAG_W,CFC-12,CFC-12_FLAG_W,CFC113,CFC113_FLAG_W,TCARBN,TCARBN_FLAG_W,ALKALI,ALKALI_FLAG_W,FCO2,FCO2_FLAG_W,FCO2TMP,PH_TOT,PH_TOT_FLAG_W,PH_TMP,TRITUM,TRITUM_FLAG_W,TRITER,HELIUM,HELIUM_FLAG_W,DELHE3,DELHE3_FLAG_W,DELC13,DELC13_FLAG_W,DELC14,DELC14_FLAG_W,C14ERR,NEON,NEON_FLAG_W,NEONER,DOC,DOC_FLAG_W,TDN,TDN_FLAG_W,CTDRAW,CDOM325,CDOM325_FLAG_W,CDOM340,CDOM340_FLAG_W,CDOM380,CDOM380_FLAG_W,CDOM412,CDOM412_FLAG_W,CDOMSL,CDOMSL_FLAG_W,CDOMSN,CDOMSN_FLAG_W,DCNS,ARABI,ARABI_FLAG_W,FUCO,FUCO_FLAG_W,GALA,GALA_FLAG_W,GLUC,GLUC_FLAG_W,MAN,MAN_FLAG_W,RHAM,RHAM_FLAG_W,BRDU,BRDU_FLAG_W,THETA,HELIER,DELHER
,,,,,,,,,,,METERS,DBAR,ITS-90,PSS-78,,PSS-78,,UMOL/KG,,UMOL/KG,,UMOL/KG,,UMOL/KG,,UMOL/KG,,UMOL/KG,,PMOL/KG,,PMOL/KG,,PMOL/KG,,UMOL/KG,,UMOL/KG,,UATM,,DEG C,,,DEG C,TU,,TU,NMOL/KG,,PERCNT,,/MILLE,,/MILLE,,/MILLE,NMOL/KG,,NMOL/KG,UMOL/KG,,UMOL/KG,,DBAR,1/M,,1/M,,1/M,,1/M,,1/NM,,1/NM,,NMOL/KG,NMOL/KG,,NMOL/KG,,NMOL/KG,,NMOL/KG,,NMOL/KG,,NMOL/KG,,PMOL/L/H,,DEG C,NMOL/KG,PERCNT
325020060213,       P16N,      45,          3,          9,          9,2,20060313,       0058,         23,       -152,       5397,  3000.0,   1.5663,  34.6680,2,  34.6692,2,    122.8,2,   122.0,2,  159.80,2,   38.40,2,    0.00,2,    2.68,2,-999.000,9,-999.000,9,-999.000,9,  2347.7,2,  2424.5,2,   -999.0,9,  -999.00,   7.5315,2,    25.00,-999.000,9,-999.000,-999.0000,9,-999.000,9, -999.00,9,  -999.0,9,    -9.0,-999.000,9,-999.000,   36.97,2,   41.99,2, 3000.00,   0.1300,2,   0.0890,2,   0.0460,2,   0.0310,2,   0.0164,2,   0.0184,2,     -999.0,     -999.0,9,     -999.0,9,     -999.0,9,     -999.0,9,     -999.0,9,     -999.0,9, -999.00,9,   1.3480,-999.0000,-999.000
325020060213,       P16N,      45,          3,          8,          8,2,20060313,       0058,         23,       -152,       5397,  3250.3,   1.5149,  34.6757,2,  34.6759,2,    130.1,2,   130.3,2,  157.90,2,   37.60,2,    0.00,2,    2.64,2,-999.000,9,-999.000,9,-999.000,9,  2343.4,2,  2425.0,2,   -999.0,9,  -999.00,   7.5476,2,    25.00,-999.000,9,-999.000,-999.0000,9,-999.000,9, -999.00,9,  -999.0,9,    -9.0,-999.000,9,-999.000,   36.82,2,   40.95,2, 3250.30,   0.1300,2,   0.0890,2,   0.0470,2,   0.0320,2,   0.0159,2,   0.0180,2,     -999.0,     -999.0,9,     -999.0,9,     -999.0,9,     -999.0,9,     -999.0,9,     -999.0,9, -999.00,9,   1.2735,-999.0000,-999.000
325020060213,       P16N,      45,          3,          7,          7,2,20060313,       0058,         23,       -152,       5397,  3650.5,   1.4698,  34.6838,2,  34.6852,2,    140.7,2,   140.9,2,  155.20,2,   36.90,2,    0.00,2,    2.57,2,  -0.001,2,   0.009,2,-999.000,5,  2337.3,2,  2421.9,6,   -999.0,9,  -999.00,   7.5645,2,    25.00,-999.000,9,-999.000,-999.0000,9,-999.000,9, -999.00,9,  -999.0,9,    -9.0,-999.000,9,-999.000,   37.49,2,   40.57,2, 3650.50,   0.1250,2,   0.0840,2,   0.0420,2,   0.0280,2,   0.0180,2,   0.0201,2,     -999.0,     -999.0,9,     -999.0,9,     -999.0,9,     -999.0,9,     -999.0,9,     -999.0,9, -999.00,9,   1.1889,-999.0000,-999.000
325020060213,       P16N,      45,          3,          6,          6,2,20060313,       0058,         23,       -152,       5397,  4051.4,   1.4586,  34.6885,2,  34.6889,2,    148.2,2,   148.2,2,  151.60,2,   36.40,2,    0.00,2,    2.54,2,-999.000,9,-999.000,9,-999.000,9,  2330.3,2,  2420.3,2,   -999.0,9,  -999.00,   7.5761,2,    25.00,-999.000,9,-999.000,-999.0000,9,-999.000,9, -999.00,9,  -999.0,9,    -9.0,-999.000,9,-999.000,   37.58,2,   40.16,2, 4051.40,   0.1270,2,   0.0870,2,   0.0460,2,   0.0300,2,   0.0165,2,   0.0183,2,     -999.0,     -999.0,9,     -999.0,9,     -999.0,9,     -999.0,9,     -999.0,9,     -999.0,9, -999.00,9,   1.1353,-999.0000,-999.000
325020060213,       P16N,      45,          3,          5,          5,2,20060313,       0058,         23,       -152,       5397,  4551.3,   1.4701,  34.6926,2,  34.6929,2,    155.6,2,   156.4,2,  146.40,2,   36.00,2,    0.00,2,    2.48,2,-999.000,9,-999.000,9,-999.000,9,  2323.0,2,  2416.0,2,   -999.0,9,  -999.00,   7.5864,2,    25.00,-999.000,9,-999.000,-999.0000,9,-999.000,9, -999.00,9,  -999.0,9,    -9.0,-999.000,9,-999.000,   38.16,2,   39.14,2, 4551.30,   0.1190,2,   0.0790,2,   0.0390,2,   0.0250,2,   0.0191,2,   0.0211,2,     -999.0,     -999.0,9,     -999.0,9,     -999.0,9,     -999.0,9,     -999.0,9,     -999.0,9, -999.00,9,   1.0901,-999.0000,-999.000
325020060213,       P16N,      45,          3,          4,          4,2,20060313,       0058,         23,       -152,       5397,  5050.7,   1.4807,  34.6962,2,  34.6968,2,    164.5,2,   164.1,2,  140.30,6,   35.30,6,    0.00,6,    2.44,6,   0.006,2,   0.024,3,-999.000,5,  2315.1,2,  2413.8,2,   -999.0,9,  -999.00,   7.5953,2,    25.00,-999.000,9,-999.000,-999.0000,9,-999.000,9, -999.00,9,  -999.0,9,    -9.0,-999.000,9,-999.000,   37.58,2,   39.05,2, 5050.70,   0.1270,2,   0.0870,2,   0.0470,2,   0.0300,2,   0.0163,2,   0.0179,2,     -999.0,     -999.0,9,     -999.0,9,     -999.0,9,     -999.0,9,     -999.0,9,     -999.0,9, -999.00,9,   1.0409,-999.0000,-999.000
325020060213,       P16N,      45,          3,          3,          3,2,20060313,       0058,         23,       -152,       5397,  5251.4,   1.5001,  34.6966,2,  34.6955,2,    165.4,2,   167.8,3,  139.90,6,   35.30,6,    0.00,6,    2.42,6,-999.000,9,-999.000,9,-999.000,9,  2313.7,2,  2412.1,2,   -999.0,9,  -999.00,-999.0000,5,  -999.00,-999.000,9,-999.000,-999.0000,9,-999.000,9, -999.00,9,  -999.0,9,    -9.0,-999.000,9,-999.000,   38.51,2,   39.58,2, 5251.40,   0.1190,2,   0.0800,2,   0.0400,2,   0.0260,2,   0.0184,2,   0.0202,2,     -999.0,     -999.0,9,     -999.0,9,     -999.0,9,     -999.0,9,     -999.0,9,     -999.0,9, -999.00,9,   1.0349,-999.0000,-999.000
325020060213,       P16N,      45,          3,          2,          2,2,20060313,       0058,         23,       -152,       5397,  5446.0,   1.5207,  34.6967,2,  34.6973,2,    165.7,2,   167.0,2,  139.20,6,   35.10,6,    0.00,6,    2.42,6,   0.000,2,   0.001,2,-999.000,5,  2312.6,2,  2410.3,2,   -999.0,9,  -999.00,   7.5957,2,    25.00,-999.000,9,-999.000,    1.947,2,  15.342,2, -999.00,9,  -999.0,9,    -9.0,   8.375,2,   0.009,   37.95,2,   39.29,2, 5446.00,   0.1260,2,   0.0860,2,   0.0430,2,   0.0300,2,   0.0169,2,   0.0189,2,     -999.0,     -999.0,9,     -999.0,9,     -999.0,9,     -999.0,9,     -999.0,9,     -999.0,9, -999.00,9,   1.0302,    0.001,   0.193
325020060213,       P16N,      45,          3,          1,          1,2,20060313,       0058,         23,       -152,       5397,  5546.4,   1.5313,  34.6969,2,  34.6981,2,    166.1,2,   165.9,2,  138.80,6,   35.30,6,    0.00,6,    2.41,6,   0.008,2,   0.023,3,-999.000,5,  2312.9,6,  2404.5,3,   -999.0,9,  -999.00,   7.5957,2,    25.00,   0.001,2,   0.004,-999.0000,9,-999.000,9, -999.00,9,  -999.0,9,    -9.0,-999.000,9,-999.000,   37.62,2,   38.84,2, 5546.40,   0.1220,2,   0.0820,2,   0.0410,2,   0.0280,2,   0.0177,2,   0.0197,2,     -999.0,     -999.0,9,     -999.0,9,     -999.0,9,     -999.0,9,     -999.0,9,     -999.0,9, -999.00,9,   1.0276,-999.0000,-999.000