BOTTLE,20170720CCHSIOCBG
EXPOCODE,SECT_ID,STNNBR,CASTNO,SAMPNO,BTLNBR,BTLNBR_FLAG_W,DATE,TIME,LATITUDE,LONGITUDE,DEPTH,CTDPRS,CTDTMP,CTDSAL,CTDSAL_FLAG_W,SALNTY,SALNTY_FLAG_W,CTDOXY,CTDOXY_FLAG_W,OXYGEN,OXYGEN_FLAG_W,SILCAT,SILCAT_FLAG_W,NITRAT,NITRAT_FLAG_W,NITRIT,NITRIT_FLAG_W,PHSPHT,PHSPHT_FLAG_W,CFC-11,CFC-11_FLAG_W,CFC-12,CFC-12_FLAG_W,CFC113,CFC113_FLAG_W,TCARBN,TCARBN_FLAG_W,ALKALI,ALKALI_FLAG_W,FCO2,FCO2_FLAG_W,FCO2TMP,PH_TOT,PH_TOT_FLAG_W,PH_TMP,TRITUM,TRITUM_FLAG_W,TRITER,HELIUM,HELIUM_FLAG_W,DELHE3,DELHE3_FLAG_W,DELC13,DELC13_FLAG_W,DELC14,DELC14_FLAG_W,C14ERR,NEON,NEON_FLAG_W,NEONER,DOC,DOC_FLAG_W,TDN,TDN_FLAG_W,CTDRAW,CDOM325,CDOM325_FLAG_W,CDOM340,CDOM340_FLAG_W,CDOM380,CDOM380_FLAG_W,CDOM412,CDOM412_FLAG_W,CDOMSL,CDOMSL_FLAG_W,CDOMSN,CDOMSN_FLAG_W,DCNS,ARABI,ARABI_FLAG_W,FUCO,FUCO_FLAG_W,GALA,GALA_FLAG_W,GLUC,GLUC_FLAG_W,MAN,MAN_FLAG_W,RHAM,RHAM_FLAG_W,BRDU,BRDU_FLAG_W,THETA,HELIER,DELHER
,,,,,,,,,,,METERS,DBAR,ITS-90,PSS-78,,PSS-78,,UMOL/KG,,UMOL/KG,,UMOL/KG,,UMOL/KG,,UMOL/KG,,UMOL/KG,,PMOL/KG,,PMOL/KG,,PMOL/KG,,UMOL/KG,,UMOL/KG,,UATM,,DEG C,,,DEG C,TU,,TU,NMOL/KG,,PERCNT,,/MILLE,,/MILLE,,/MILLE,NMOL/KG,,NMOL/KG,UMOL/KG,,UMOL/KG,,DBAR,1/M,,1/M,,1/M,,1/M,,1/NM,,1/NM,,NMOL/KG,NMOL/KG,,NMOL/KG,,NMOL/KG,,NMOL/KG,,NMOL/KG,,NMOL/KG,,PMOL/L/H,,DEG C,NMOL/KG,PERCNT
325020060213,       P16N,      40,          1,         35,         35,9,20060301,       1646,    18.0003,  -152.0003,       5079,     4.9,  23.7990,  34.4573,2,-999.0000,9,    212.5,2,  -999.0,9, -999.00,9, -999.00,9, -999.00,9, -999.00,9,-999.000,9,-999.000,9,-999.000,9,  -999.0,9,  -999.0,9,   -999.0,9,  -999.00,-999.0000,9,  -999.00,-999.000,9,-999.000,-999.0000,9,-999.000,9, -999.00,9,  -999.0,9,    -9.0,-999.000,9,-999.000, -999.00,9, -999.00,9,    4.90,-999.0000,9,-999.0000,9,-999.0000,9,-999.0000,9,-999.0000,9,-999.0000,9,     -999.0,     -999.0,9,     -999.0,9,     -999.0,9,     -999.0,9,     -999.0,9,     -999.0,9, -999.00,9,  23.7980,-999.0000,-999.000
325020060213,       P16N,      40,          1,         34,         34,2,20060301,       1646,    18.0003,  -152.0003,       5079,    24.9,  23.7662,  34.5062,2,  34.5046,2,    213.3,2,   212.6,2,    0.10,2,    0.00,2,    0.00,2,    0.11,2,   1.903,2,   1.157,2,-999.000,5,  1959.9,2,  2272.1,2,    291.6,2,    20.00,   8.0822,2,    25.00,-999.000,9,-999.000,-999.0000,9,-999.000,9, -999.00,9,  -999.0,9,    -9.0,-999.000,9,-999.000,   69.59,2,    3.91,2,   24.90,   0.0170,3,   0.0080,2,  -0.0010,4,   0.0010,3,-999.0000,9,-999.0000,9,     -999.0,     -999.0,9,     -999.0,9,     -999.0,9,     -999.0,9,     -999.0,9,     -999.0,9,    2.74,2,  23.7610,-999.0000,-999.000
325020060213,       P16N,      40,          1,         33,         33,9,20060301,       1646,    18.0003,  -152.0003,       5079,    50.4,  23.7249,  34.6014,2,-999.0000,9,    213.5,2,  -999.0,9, -999.00,9, -999.00,9, -999.00,9, -999.00,9,-999.000,9,-999.000,9,-999.000,9,  -999.0,9,  -999.0,9,   -999.0,9,  -999.00,-999.0000,9,  -999.00,-999.000,9,-999.000,-999.0000,9,-999.000,9, -999.00,9,  -999.0,9,    -9.0,-999.000,9,-999.000, -999.00,9, -999.00,9,   50.40,-999.0000,9,-999.0000,9,-999.0000,9,-999.0000,9,-999.0000,9,-999.0000,9,     -999.0,     -999.0,9,     -999.0,9,     -999.0,9,     -999.0,9,     -999.0,9,     -999.0,9, -999.00,9,  23.7144,-999.0000,-999.000
325020060213,       P16N,      40,          1,         32,         32,2,20060301,       1646,    18.0003,  -152.0003,       5079,    74.9,  23.8322,  34.8501,2,  34.8387,2,    213.8,2,   212.9,2,    0.10,2,    0.00,2,    0.00,2,    0.08,2,   1.851,2,   1.157,2,-999.000,5,  1980.4,2,  2297.6,2,    294.5,2,    20.00,   8.0766,2,    25.00,-999.000,9,-999.000,-999.0000,9,-999.000,9, -999.00,9,  -999.0,9,    -9.0,-999.000,9,-999.000,   68.82,2,    4.03,2,   74.90,   0.0390,2,   0.0240,2,   0.0060,2,   0.0050,2,   0.0398,2,   0.0404,2,     -999.0,     -999.0,9,     -999.0,9,     -999.0,9,     -999.0,9,     -999.0,9,     -999.0,9,    2.27,2,  23.8165,-999.0000,-999.000
325020060213,       P16N,      40,          1,         31,         31,2,20060301,       1646,    18.0003,  -152.0003,       5079,   101.1,  23.6219,  34.8982,2,  34.8999,2,    213.1,2,   212.8,2,    0.20,2,    0.00,2,    0.00,2,    0.07,2,   1.851,2,   1.155,2,-999.000,5,  1982.7,3,  2300.6,2,    297.4,2,    20.00,   8.0742,2,    25.00,-999.000,9,-999.000,-999.0000,9,-999.000,9, -999.00,9,  -999.0,9,    -9.0,-999.000,9,-999.000,   64.34,2,    4.14,2,  101.10,   0.0310,2,   0.0190,2,   0.0040,2,   0.0040,2,   0.0423,2,   0.0423,2,     -999.0,     -999.0,9,     -999.0,9,     -999.0,9,     -999.0,9,     -999.0,9,     -999.0,9,    1.40,2,  23.6008,-999.0000,-999.000
325020060213,       P16N,      40,          1,         30,         30,2,20060301,       1646,    18.0003,  -152.0003,       5079,   125.9,  23.6044,  34.9555,2,  34.9579,2,    212.5,2,   212.1,2,    0.20,2,    0.10,2,    0.00,2,    0.07,2,   1.868,2,   1.157,2,-999.000,5,  1986.9,3,  2304.2,2,    297.7,6,    20.00,   8.0748,2,    25.00,-999.000,9,-999.000,-999.0000,9,-999.000,9, -999.00,9,  -999.0,9,    -9.0,-999.000,9,-999.000,   60.79,2,    4.53,2,  125.90,   0.0330,2,   0.0190,2,   0.0040,3,   0.0040,2,   0.0420,2,   0.0422,2,     -999.0,     -999.0,9,     -999.0,9,     -999.0,9,     -999.0,9,     -999.0,9,     -999.0,9,    3.27,2,  23.5782,-999.0000,-999.000
325020060213,       P16N,      40,          1,         29,         29,2,20060301,       1646,    18.0003,  -152.0003,       5079,   149.9,  21.7449,  35.0307,2,  35.0276,2,    206.5,2,   207.4,2,    0.60,2,    0.10,2,    0.10,2,    0.12,2,   2.087,2,   1.283,2,-999.000,5,  2028.2,2,  2314.1,2,    352.2,2,    20.00,   8.0117,2,    25.00,-999.000,9,-999.000,-999.0000,9,-999.000,9, -999.00,9,  -999.0,9,    -9.0,-999.000,9,-999.000,   54.88,2,    3.91,2,  149.90,   0.0970,2,   0.0680,2,   0.0290,2,   0.0220,2,   0.0221,2,   0.0226,2,     -999.0,     -999.0,9,     -999.0,9,     -999.0,9,     -999.0,9,     -999.0,9,     -999.0,9,    0.13,2,  21.7155,-999.0000,-999.000
325020060213,       P16N,      40,          1,         28,         28,2,20060301,       1646,    18.0003,  -152.0003,       5079,   201.9,  17.9019,  34.7150,2,  34.7239,2,    192.2,2,   192.0,2,    2.50,2,    3.40,2,    0.00,2,    0.31,2,   2.461,6,   1.462,6,-999.000,5,  2054.3,2,  2290.1,6,    446.8,2,    20.00,   7.9184,2,    25.00,-999.000,9,-999.000,-999.0000,9,-999.000,9, -999.00,9,  -999.0,9,    -9.0,-999.000,9,-999.000,   51.37,2,    8.14,2,  201.90,   0.0910,2,   0.0650,2,   0.0290,2,   0.0230,2,   0.0210,2,   0.0215,2,     -999.0,     -999.0,9,     -999.0,9,     -999.0,9,     -999.0,9,     -999.0,9,     -999.0,9,    0.73,2,  17.8674,-999.0000,-999.000
325020060213,       P16N,      40,          1,         27,         27,2,20060301,       1646,    18.0003,  -152.0003,       5079,   249.8,  13.5757,  34.2775,2,  34.2790,2,    206.7,2,   206.7,2,    6.30,2,    7.80,2,    0.00,2,    0.57,2,   2.984,2,   1.705,2,-999.000,5,  2063.7,3,  2262.6,2,    533.2,6,    20.00,   7.8501,2,    25.00,-999.000,9,-999.000,-999.0000,9,-999.000,9, -999.00,9,  -999.0,9,    -9.0,-999.000,9,-999.000,   49.66,2,   11.60,2,  249.80,   0.0840,2,   0.0590,2,   0.0270,2,   0.0210,2,   0.0211,2,   0.0217,2,     -999.0,     -999.0,9,     -999.0,9,     -999.0,9,     -999.0,9,     -999.0,9,     -999.0,9, -999.00,9,  13.5405,-999.0000,-999.000
325020060213,       P16N,      40,          1,         26,         26,2,20060301,       1646,    18.0003,  -152.0003,       5079,   302.0,  10.6632,  34.1360,2,  34.1396,2,    201.1,2,   194.0,2,   15.10,2,   15.20,2,    0.00,2,    1.05,2,   3.171,2,   1.730,2,-999.000,5,  2107.9,3,  2260.4,2,    698.1,2,    20.00,   7.7498,2,    25.00,-999.000,9,-999.000,-999.0000,9,-999.000,9, -999.00,9,  -999.0,9,    -9.0,-999.000,9,-999.000,   46.22,2,   19.50,2,  302.00,   0.0960,2,   0.0660,2,   0.0310,2,   0.0230,2,   0.0209,2,   0.0219,2,     -999.0,     -999.0,9,     -999.0,9,     -999.0,9,     -999.0,9,     -999.0,9,     -999.0,9, -999.00,9,  10.6268,-999.0000,-999.000
325020060213,       P16N,      40,          1,         25,         25,2,20060301,       1646,    18.0003,  -152.0003,       5079,   350.6,   9.9882,  34.3897,2,  34.3753,2,     58.6,2,    60.3,2,   31.20,2,   28.20,2,    0.00,2,    2.18,2,   1.343,2,   0.666,2,-999.000,5,  2233.8,2,  2285.0,2,   1414.6,2,    20.00,-999.0000,9,  -999.00,-999.000,9,-999.000,-999.0000,9,-999.000,9, -999.00,9,  -999.0,9,    -9.0,-999.000,9,-999.000,   44.82,2,   32.45,2,  350.60,   0.1570,2,   0.1140,2,   0.0630,2,   0.0490,2,   0.0127,3,   0.0145,3,    374.809,    34.0414,2,    22.4029,2,    66.3858,2,     144.08,2,    80.3991,2,       27.5,2, -999.00,9,   9.9475,-999.0000,-999.000
325020060213,       P16N,      40,          1,         24,         24,2,20060301,       1646,    18.0003,  -152.0003,       5079,   400.2,   8.6785,  34.3430,2,  34.3451,2,     51.3,2,    49.8,2,   39.70,2,   31.30,2,    0.00,2,    2.36,2,   0.854,2,   0.419,2,-999.000,5,  2245.4,2,  2291.9,2,   1593.5,2,    20.00,-999.0000,9,  -999.00,-999.000,9,-999.000,-999.0000,9,-999.000,9, -999.00,9,  -999.0,9,    -9.0,-999.000,9,-999.000,   43.44,2,   35.54,2,  400.20,   0.1590,2,   0.1160,2,   0.0640,2,   0.0510,2,   0.0124,3,   0.0141,3,     -999.0,     -999.0,9,     -999.0,9,     -999.0,9,     -999.0,9,     -999.0,9,     -999.0,9, -999.00,9,   8.6359,-999.0000,-999.000
325020060213,       P16N,      40,          1,         23,         23,2,20060301,       1646,    18.0003,  -152.0003,       5079,   452.1,   7.2332,  34.2250,2,  34.2281,2,     57.2,2,    55.6,2,   52.00,2,   34.10,2,    0.00,2,    2.50,2,   0.709,6,   0.350,6,-999.000,5,  2259.0,2,  2297.5,2,   1706.3,2,    20.00,   7.5803,2,    25.00,-999.000,9,-999.000,-999.0000,9,-999.000,9, -999.00,9,  -999.0,9,    -9.0,-999.000,9,-999.000,   42.35,2,   38.43,2,  452.10,   0.1620,2,   0.1170,2,   0.0640,2,   0.0480,2,   0.0132,3,   0.0150,3,     -999.0,     -999.0,9,     -999.0,9,     -999.0,9,     -999.0,9,     -999.0,9,     -999.0,9, -999.00,9,   7.1898,-999.0000,-999.000
325020060213,       P16N,      40,          1,         22,         22,2,20060301,       1646,    18.0003,  -152.0003,       5079,   499.6,   6.7198,  34.2430,2,  34.2461,2,     44.6,2,    45.2,2,   59.40,2,   36.20,2,    0.00,2,    2.62,2,   0.442,2,   0.225,2,-999.000,5,  2273.5,6,  2304.1,2,   1828.5,2,    20.00,-999.0000,9,  -999.00,-999.000,9,-999.000,-999.0000,9,-999.000,9, -999.00,9,  -999.0,9,    -9.0,-999.000,9,-999.000,   41.84,2,   40.21,2,  499.60,   0.1630,2,   0.1170,2,   0.0630,2,   0.0470,2,   0.0135,3,   0.0154,3,     -999.0,     -999.0,9,     -999.0,9,     -999.0,9,     -999.0,9,     -999.0,9,     -999.0,9, -999.00,9,   6.6736,-999.0000,-999.000
325020060213,       P16N,      40,          1,         21,         21,2,20060301,       1646,    18.0003,  -152.0003,       5079,   600.0,   6.1054,  34.3746,2,  34.3742,2,     26.0,2,    26.4,2,   70.40,2,   39.60,2,    0.00,2,    2.87,2,   0.083,2,   0.043,2,-999.000,5,  2303.4,2,  2326.3,2,   1969.1,2,    20.00,-999.0000,9,  -999.00,-999.000,9,-999.000,-999.0000,9,-999.000,9, -999.00,9,  -999.0,9,    -9.0,-999.000,9,-999.000,   40.86,2,   43.78,2,  600.00,   0.1610,2,   0.1160,2,   0.0640,2,   0.0480,2,   0.0133,3,   0.0151,3,     -999.0,     -999.0,9,     -999.0,9,     -999.0,9,     -999.0,9,     -999.0,9,     -999.0,9, -999.00,9,   6.0522,-999.0000,-999.000
325020060213,       P16N,      40,          1,         20,         20,2,20060301,       1646,    18.0003,  -152.0003,       5079,   700.9,   5.5209,  34.4323,2,  34.4316,2,     26.0,2,    24.9,2,   80.10,2,   41.10,2,    0.00,2,    2.97,2,   0.019,2,   0.014,2,-999.000,5,  2327.1,3,  2341.1,2,   1979.0,2,    20.00,-999.0000,9,  -999.00,-999.000,9,-999.000,-999.0000,9,-999.000,9, -999.00,9,  -999.0,9,    -9.0,-999.000,9,-999.000,   39.85,2,   44.74,2,  700.90,   0.1620,2,   0.1160,2,   0.0640,2,   0.0470,2,   0.0135,3,   0.0154,3,     -999.0,     -999.0,9,     -999.0,9,     -999.0,9,     -999.0,9,     -999.0,9,     -999.0,9, -999.00,9,   5.4613,-999.0000,-999.000
325020060213,       P16N,      40,          1,         19,         19,2,20060301,       1646,    18.0003,  -152.0003,       5079,   799.8,   5.1022,  34.4678,2,  34.4676,2,     27.1,2,    26.6,2,   87.00,2,   42.10,2,    0.00,2,    3.01,2,   0.006,2,   0.006,2,-999.000,5,  2326.1,2,  2350.5,2,   1961.0,2,    20.00,-999.0000,9,  -999.00,-999.000,9,-999.000,-999.0000,9,-999.000,9, -999.00,9,  -999.0,9,    -9.0,-999.000,9,-999.000,   38.89,2,   45.64,2,  799.80,   0.1650,2,   0.1160,2,   0.0640,2,   0.0470,2,   0.0138,3,   0.0157,3,     -999.0,     -999.0,9,     -999.0,9,     -999.0,9,     -999.0,9,     -999.0,9,     -999.0,9, -999.00,9,   5.0362,-999.0000,-999.000
325020060213,       P16N,      40,          1,         18,         18,2,20060301,       1646,    18.0003,  -152.0003,       5079,   902.6,   4.6521,  34.4913,2,  34.4913,2,     37.4,2,    37.6,2,   94.70,2,   41.90,2,    0.00,2,    2.98,2,   0.003,2,   0.005,2,-999.000,5,  2331.8,2,  2359.6,2,   1874.7,2,    20.00,-999.0000,9,  -999.00,-999.000,9,-999.000,-999.0000,9,-999.000,9, -999.00,9,  -999.0,9,    -9.0,-999.000,9,-999.000,   37.95,2,   46.22,2,  902.60,-999.0000,9,-999.0000,9,-999.0000,9,-999.0000,9,-999.0000,9,-999.0000,9,     -999.0,     -999.0,9,     -999.0,9,     -999.0,9,     -999.0,9,     -999.0,9,     -999.0,9, -999.00,9,   4.5799,-999.0000,-999.000
325020060213,       P16N,      40,          1,         17,         17,2,20060301,       1646,    18.0003,  -152.0003,       5079,  1001.7,   4.3205,  34.5118,2,  34.5137,2,     41.0,2,    40.6,2,  101.30,2,   42.20,2,    0.00,2,    3.01,2,   0.000,2,   0.004,2,-999.000,5,  2337.8,2,  2370.0,6,   1862.7,2,    20.00,-999.0000,9,  -999.00,-999.000,9,-999.000,-999.0000,9,-999.000,9, -999.00,9,  -999.0,9,    -9.0,-999.000,9,-999.000,   37.44,2,   45.61,2, 1001.70,   0.1550,2,   0.1090,2,   0.0590,2,   0.0420,2,   0.0144,2,   0.0165,2,     -999.0,     -999.0,9,     -999.0,9,     -999.0,9,     -999.0,9,     -999.0,9,     -999.0,9, -999.00,9,   4.2422,-999.0000,-999.000
325020060213,       P16N,      40,          1,         16,         16,2,20060301,       1646,    18.0003,  -152.0003,       5079,  1201.0,   3.7278,  34.5445,2,  34.5442,2,     48.5,2,    47.8,2,  113.90,2,   42.30,2,    0.00,2,    3.01,2,-999.000,9,-999.000,9,-999.000,9,  2348.3,2,  2384.6,2,   1827.6,2,    20.00,   7.4062,2,    25.00,-999.000,9,-999.000,-999.0000,9,-999.000,9, -999.00,9,  -999.0,9,    -9.0,-999.000,9,-999.000,   36.22,2,   45.76,2, 1201.00,   0.1540,2,   0.1080,2,   0.0580,2,   0.0400,2,   0.0149,2,   0.0169,2,     -999.0,     -999.0,9,     -999.0,9,     -999.0,9,     -999.0,9,     -999.0,9,     -999.0,9, -999.00,9,   3.6375,-999.0000,-999.000
325020060213,       P16N,      40,          1,         15,         15,2,20060301,       1646,    18.0003,  -152.0003,       5079,  1400.5,   3.1730,  34.5675,2,  34.5689,2,     58.2,2,    57.9,2,  126.70,2,   41.90,2,    0.00,2,    2.96,2,   0.000,2,   0.000,2,-999.000,5,  2351.5,2,  2397.7,2,   1762.6,2,    20.00,   7.4196,2,    25.00,-999.000,9,-999.000,-999.0000,9,-999.000,9, -999.00,9,  -999.0,9,    -9.0,-999.000,9,-999.000,   36.15,2,   45.93,2, 1400.50,-999.0000,9,-999.0000,9,-999.0000,9,-999.0000,9,-999.0000,9,-999.0000,9,     -999.0,     -999.0,9,     -999.0,9,     -999.0,9,     -999.0,9,     -999.0,9,     -999.0,9, -999.00,9,   3.0715,-999.0000,-999.000
325020060213,       P16N,      40,          1,         14,         14,2,20060301,       1646,    18.0003,  -152.0003,       5079,  1602.3,   2.7171,  34.5944,2,  34.5970,2,     69.8,2,    69.9,2,  137.10,2,   41.30,2,    0.00,2,    2.91,2,-999.000,9,-999.000,9,-999.000,9,  2359.6,2,  2406.2,2,   1678.8,2,    20.00,   7.4393,2,    25.00,-999.000,9,-999.000,-999.0000,9,-999.000,9, -999.00,9,  -999.0,9,    -9.0,-999.000,9,-999.000,   35.52,2,   45.38,2, 1602.30,   0.1430,2,   0.0990,2,   0.0500,2,   0.0330,2,   0.0165,2,   0.0186,2,     -999.0,     -999.0,9,     -999.0,9,     -999.0,9,     -999.0,9,     -999.0,9,     -999.0,9, -999.00,9,   2.6040,-999.0000,-999.000
325020060213,       P16N,      40,          1,         13,         13,2,20060301,       1646,    18.0003,  -152.0003,       5079,  1802.1,   2.4165,  34.6127,2,  34.6137,2,     80.2,2,    80.1,2,  143.30,2,   40.60,2,    0.00,2,    2.85,2,   0.003,2,  -0.001,2,-999.000,5,  2362.9,2,  2412.5,2,   1598.2,2,    20.00,   7.4945,3,    25.00,-999.000,9,-999.000,-999.0000,9,-999.000,9, -999.00,9,  -999.0,9,    -9.0,-999.000,9,-999.000,   37.54,2,   44.57,2, 1802.10,-999.0000,9,-999.0000,9,-999.0000,9,-999.0000,9,-999.0000,9,-999.0000,9,     -999.0,     -999.0,9,     -999.0,9,     -999.0,9,     -999.0,9,     -999.0,9,     -999.0,9, -999.00,9,   2.2907,-999.0000,-999.000
325020060213,       P16N,      40,          1,         12,         12,2,20060301,       1646,    18.0003,  -152.0003,       5079,  2000.3,   2.1943,  34.6270,2,  34.6279,2,     89.1,2,    90.0,2,  147.80,2,   40.10,2,    0.00,2,    2.81,2,-999.000,9,-999.000,9,-999.000,9,  2360.7,2,  2417.8,2,   1537.6,2,    20.00,   7.4718,2,    25.00,-999.000,9,-999.000,-999.0000,9,-999.000,9, -999.00,9,  -999.0,9,    -9.0,-999.000,9,-999.000,   37.41,2,   43.87,2, 2000.30,   0.1310,2,   0.0900,2,   0.0440,2,   0.0270,2,   0.0183,2,   0.0202,2,     -999.0,     -999.0,9,     -999.0,9,     -999.0,9,     -999.0,9,     -999.0,9,     -999.0,9, -999.00,9,   2.0550,-999.0000,-999.000
325020060213,       P16N,      40,          1,         11,         11,2,20060301,       1646,    18.0003,  -152.0003,       5079,  2249.6,   1.9812,  34.6414,2,  34.6409,2,    100.5,2,   100.1,2,  151.10,2,   39.30,2,    0.00,2,    2.75,2,  -0.004,2,   0.001,2,-999.000,5,  2354.9,2,  2425.0,2,   1459.4,2,    20.00,   7.4961,2,    25.00,-999.000,9,-999.000,-999.0000,9,-999.000,9, -999.00,9,  -999.0,9,    -9.0,-999.000,9,-999.000,   37.49,2,   43.11,2, 2249.60,-999.0000,9,-999.0000,9,-999.0000,9,-999.0000,9,-999.0000,9,-999.0000,9,     -999.0,     -999.0,9,     -999.0,9,     -999.0,9,     -999.0,9,     -999.0,9,     -999.0,9, -999.00,9,   1.8236,-999.0000,-999.000
325020060213,       P16N,      40,          1,         10,         10,2,20060301,       1646,    18.0003,  -152.0003,       5079,  2498.4,   1.8107,  34.6552,2,  34.6560,2,    109.8,2,   109.9,2,  153.90,2,   38.70,2,    0.00,2,    2.69,2,-999.000,9,-999.000,9,-999.000,9,  2350.2,2,  2428.7,2,   1396.6,2,    20.00,   7.5136,2,    25.00,-999.000,9,-999.000,-999.0000,9,-999.000,9, -999.00,9,  -999.0,9,    -9.0,-999.000,9,-999.000,   36.49,2,   42.61,2, 2498.40,   0.1260,2,   0.0850,2,   0.0400,2,   0.0230,2,   0.0197,2,   0.0217,2,     -999.0,     -999.0,9,     -999.0,9,     -999.0,9,     -999.0,9,     -999.0,9,     -999.0,9, -999.00,9,   1.6341,-999.0000,-999.000
325020060213,       P16N,      40,          1,          9,          9,2,20060301,       1646,    18.0003,  -152.0003,       5079,  2750.8,   1.7038,  34.6658,2,  34.6652,2,    117.6,2,   117.3,2,  155.50,2,   38.30,2,    0.00,2,    2.66,2,-999.000,1,-999.000,1,-999.000,9,  2347.9,2,  2431.6,2,   1344.8,2,    20.00,   7.5243,2,    25.00,-999.000,9,-999.000,-999.0000,9,-999.000,9, -999.00,9,  -999.0,9,    -9.0,-999.000,9,-999.000,   36.58,2,   42.40,2, 2750.80,-999.0000,9,-999.0000,9,-999.0000,9,-999.0000,9,-999.0000,9,-999.0000,9,     -999.0,     -999.0,9,     -999.0,9,     -999.0,9,     -999.0,9,     -999.0,9,     -999.0,9, -999.00,9,   1.5062,-999.0000,-999.000