BOTTLE,20170720CCHSIOCBG
EXPOCODE,SECT_ID,STNNBR,CASTNO,SAMPNO,BTLNBR,BTLNBR_FLAG_W,DATE,TIME,LATITUDE,LONGITUDE,DEPTH,CTDPRS,CTDTMP,CTDSAL,CTDSAL_FLAG_W,SALNTY,SALNTY_FLAG_W,CTDOXY,CTDOXY_FLAG_W,OXYGEN,OXYGEN_FLAG_W,SILCAT,SILCAT_FLAG_W,NITRAT,NITRAT_FLAG_W,NITRIT,NITRIT_FLAG_W,PHSPHT,PHSPHT_FLAG_W,CFC-11,CFC-11_FLAG_W,CFC-12,CFC-12_FLAG_W,CFC113,CFC113_FLAG_W,TCARBN,TCARBN_FLAG_W,ALKALI,ALKALI_FLAG_W,FCO2,FCO2_FLAG_W,FCO2TMP,PH_TOT,PH_TOT_FLAG_W,PH_TMP,TRITUM,TRITUM_FLAG_W,TRITER,HELIUM,HELIUM_FLAG_W,DELHE3,DELHE3_FLAG_W,DELC13,DELC13_FLAG_W,DELC14,DELC14_FLAG_W,C14ERR,NEON,NEON_FLAG_W,NEONER,DOC,DOC_FLAG_W,TDN,TDN_FLAG_W,CTDRAW,CDOM325,CDOM325_FLAG_W,CDOM340,CDOM340_FLAG_W,CDOM380,CDOM380_FLAG_W,CDOM412,CDOM412_FLAG_W,CDOMSL,CDOMSL_FLAG_W,CDOMSN,CDOMSN_FLAG_W,DCNS,ARABI,ARABI_FLAG_W,FUCO,FUCO_FLAG_W,GALA,GALA_FLAG_W,GLUC,GLUC_FLAG_W,MAN,MAN_FLAG_W,RHAM,RHAM_FLAG_W,BRDU,BRDU_FLAG_W,THETA,HELIER,DELHER
,,,,,,,,,,,METERS,DBAR,ITS-90,PSS-78,,PSS-78,,UMOL/KG,,UMOL/KG,,UMOL/KG,,UMOL/KG,,UMOL/KG,,UMOL/KG,,PMOL/KG,,PMOL/KG,,PMOL/KG,,UMOL/KG,,UMOL/KG,,UATM,,DEG C,,,DEG C,TU,,TU,NMOL/KG,,PERCNT,,/MILLE,,/MILLE,,/MILLE,NMOL/KG,,NMOL/KG,UMOL/KG,,UMOL/KG,,DBAR,1/M,,1/M,,1/M,,1/M,,1/NM,,1/NM,,NMOL/KG,NMOL/KG,,NMOL/KG,,NMOL/KG,,NMOL/KG,,NMOL/KG,,NMOL/KG,,PMOL/L/H,,DEG C,NMOL/KG,PERCNT
325020060213,       P16N,      71,          1,          9,          9,2,20060326,       0248,         50,  -151.9995,       4908,  2799.6,   1.6250,  34.6490,2,  34.6472,2,     98.3,2,    97.4,2,  168.30,6,   39.10,6,    0.00,6,    2.78,2,-999.000,9,-999.000,9,-999.000,9,  2363.2,2,  2421.3,2,   -999.0,9,  -999.00,   7.4783,2,    25.00,-999.000,9,-999.000,-999.0000,9,-999.000,9, -999.00,9,  -999.0,9,    -9.0,-999.000,9,-999.000,   36.89,2,   42.76,2, 2799.60,-999.0000,9,-999.0000,9,-999.0000,9,-999.0000,9,-999.0000,9,-999.0000,9,     -999.0,     -999.0,9,     -999.0,9,     -999.0,9,     -999.0,9,     -999.0,9,     -999.0,9, -999.00,9,   1.4246,-999.0000,-999.000
325020060213,       P16N,      71,          1,          8,          8,2,20060326,       0248,         50,  -151.9995,       4908,  3001.0,   1.5812,  34.6576,2,  34.6555,2,    107.6,2,   107.2,2,  167.10,6,   38.30,6,    0.00,6,    2.73,2,  -0.002,2,   0.000,2,-999.000,5,  2356.6,2,  2423.0,2,   -999.0,9,  -999.00,   7.4973,2,    25.00,-999.000,9,-999.000,-999.0000,9,-999.000,9, -999.00,9,  -999.0,9,    -9.0,-999.000,9,-999.000,   36.82,2,   42.16,2, 3001.00,-999.0000,9,-999.0000,9,-999.0000,9,-999.0000,9,-999.0000,9,-999.0000,9,     -999.0,     -999.0,9,     -999.0,9,     -999.0,9,     -999.0,9,     -999.0,9,     -999.0,9, -999.00,9,   1.3627,-999.0000,-999.000
325020060213,       P16N,      71,          1,          7,          7,2,20060326,       0248,         50,  -151.9995,       4908,  3299.7,   1.5252,  34.6688,2,  34.6680,2,    121.2,2,   120.5,2,  164.40,2,   37.40,2,    0.00,2,    2.66,2,-999.000,9,-999.000,9,-999.000,9,  2347.8,2,  2423.1,6,   -999.0,9,  -999.00,   7.5221,3,    25.00,-999.000,9,-999.000,-999.0000,9,-999.000,9, -999.00,9,  -999.0,9,    -9.0,-999.000,9,-999.000,   36.46,2,   41.44,2, 3299.70,-999.0000,9,-999.0000,9,-999.0000,9,-999.0000,9,-999.0000,9,-999.0000,9,     -999.0,     -999.0,9,     -999.0,9,     -999.0,9,     -999.0,9,     -999.0,9,     -999.0,9, -999.00,9,   1.2787,-999.0000,-999.000
325020060213,       P16N,      71,          1,          6,          6,2,20060326,       0248,         50,  -151.9995,       4908,  3598.7,   1.4979,  34.6763,2,  34.6736,2,    130.6,2,   129.5,2,  163.60,2,   36.50,2,    0.00,2,    2.63,2,-999.000,9,-999.000,9,-999.000,9,  2343.3,2,  2424.0,2,   -999.0,9,  -999.00,   7.5405,2,    25.00,-999.000,9,-999.000,-999.0000,9,-999.000,9, -999.00,9,  -999.0,9,    -9.0,-999.000,9,-999.000,   36.76,2,   40.57,2, 3598.70,-999.0000,9,-999.0000,9,-999.0000,9,-999.0000,9,-999.0000,9,-999.0000,9,     -999.0,     -999.0,9,     -999.0,9,     -999.0,9,     -999.0,9,     -999.0,9,     -999.0,9, -999.00,9,   1.2217,-999.0000,-999.000
325020060213,       P16N,      71,          1,          5,          5,2,20060326,       0248,         50,  -151.9995,       4908,  3899.6,   1.4895,  34.6818,2,  34.6810,2,    137.0,2,   135.8,2,  163.30,6,   36.30,6,    0.00,2,    2.59,6,   0.001,2,   0.004,2,-999.000,5,  2339.9,2,  2423.3,2,   -999.0,9,  -999.00,   7.5555,2,    25.00,-999.000,9,-999.000,-999.0000,9,-999.000,9, -999.00,9,  -999.0,9,    -9.0,-999.000,9,-999.000,   36.73,2,   39.40,2, 3899.60,-999.0000,9,-999.0000,9,-999.0000,9,-999.0000,9,-999.0000,9,-999.0000,9,     -999.0,     -999.0,9,     -999.0,9,     -999.0,9,     -999.0,9,     -999.0,9,     -999.0,9, -999.00,9,   1.1818,-999.0000,-999.000
325020060213,       P16N,      71,          1,          4,          4,2,20060326,       0248,         50,  -151.9995,       4908,  4199.2,   1.5008,  34.6850,2,  34.6828,2,    140.5,2,   139.2,2,  164.40,6,   36.00,6,    0.00,2,    2.58,6,-999.000,9,-999.000,9,-999.000,9,  2337.5,2,  2426.2,2,   -999.0,9,  -999.00,   7.5643,2,    25.00,-999.000,9,-999.000,-999.0000,9,-999.000,9, -999.00,9,  -999.0,9,    -9.0,-999.000,9,-999.000,   36.98,2,   39.89,2, 4199.20,-999.0000,9,-999.0000,9,-999.0000,9,-999.0000,9,-999.0000,9,-999.0000,9,     -999.0,     -999.0,9,     -999.0,9,     -999.0,9,     -999.0,9,     -999.0,9,     -999.0,9, -999.00,9,   1.1599,-999.0000,-999.000
325020060213,       P16N,      71,          1,          3,          3,9,20060326,       0248,         50,  -151.9995,       4908,  4498.2,   1.5231,  34.6871,2,-999.0000,9,    142.0,2,  -999.0,9, -999.00,9, -999.00,9, -999.00,9, -999.00,9,-999.000,9,-999.000,9,-999.000,9,  -999.0,9,  -999.0,9,   -999.0,9,  -999.00,-999.0000,9,  -999.00,-999.000,9,-999.000,-999.0000,9,-999.000,9, -999.00,9,  -999.0,9,    -9.0,-999.000,9,-999.000, -999.00,9, -999.00,9, 4498.20,-999.0000,9,-999.0000,9,-999.0000,9,-999.0000,9,-999.0000,9,-999.0000,9,     -999.0,     -999.0,9,     -999.0,9,     -999.0,9,     -999.0,9,     -999.0,9,     -999.0,9, -999.00,9,   1.1477,-999.0000,-999.000
325020060213,       P16N,      71,          1,          2,          2,2,20060326,       0248,         50,  -151.9995,       4908,  4799.9,   1.5531,  34.6883,2,  34.6880,2,    142.7,2,   141.7,2,  168.10,6,   36.00,6,    0.00,2,    2.57,6,   0.001,2,   0.003,2,-999.000,5,  2338.7,6,  2429.0,2,   -999.0,9,  -999.00,   7.5722,3,    25.00,-999.000,9,-999.000,    1.962,2,  16.749,2, -999.00,9,  -999.0,9,    -9.0,   8.420,2,   0.009,   37.35,2,   39.82,2, 4799.90,-999.0000,9,-999.0000,9,-999.0000,9,-999.0000,9,-999.0000,9,-999.0000,9,     -999.0,     -999.0,9,     -999.0,9,     -999.0,9,     -999.0,9,     -999.0,9,     -999.0,9, -999.00,9,   1.1412,    0.000,   0.176
325020060213,       P16N,      71,          1,          1,          1,2,20060326,       0248,         50,  -151.9995,       4908,  5028.0,   1.5814,  34.6886,2,  34.6933,4,    141.8,2,   141.9,2,  169.50,6,   35.90,6,    0.00,2,    2.57,6,  -0.002,2,  -0.002,2,-999.000,5,  2339.7,6,  2429.5,2,   -999.0,9,  -999.00,   7.5741,3,    25.00,-999.000,9,-999.000,    1.972,2,  16.089,2, -999.00,9,  -999.0,9,    -9.0,   8.489,2,   0.010,   37.20,2,   42.47,2, 5028.00,-999.0000,9,-999.0000,9,-999.0000,9,-999.0000,9,-999.0000,9,-999.0000,9,     -999.0,     -999.0,9,     -999.0,9,     -999.0,9,     -999.0,9,     -999.0,9,     -999.0,9, -999.00,9,   1.1410,    0.000,   0.184