BOTTLE,20170720CCHSIOCBG
EXPOCODE,SECT_ID,STNNBR,CASTNO,SAMPNO,BTLNBR,BTLNBR_FLAG_W,DATE,TIME,LATITUDE,LONGITUDE,DEPTH,CTDPRS,CTDTMP,CTDSAL,CTDSAL_FLAG_W,SALNTY,SALNTY_FLAG_W,CTDOXY,CTDOXY_FLAG_W,OXYGEN,OXYGEN_FLAG_W,SILCAT,SILCAT_FLAG_W,NITRAT,NITRAT_FLAG_W,NITRIT,NITRIT_FLAG_W,PHSPHT,PHSPHT_FLAG_W,CFC-11,CFC-11_FLAG_W,CFC-12,CFC-12_FLAG_W,CFC113,CFC113_FLAG_W,TCARBN,TCARBN_FLAG_W,ALKALI,ALKALI_FLAG_W,FCO2,FCO2_FLAG_W,FCO2TMP,PH_TOT,PH_TOT_FLAG_W,PH_TMP,TRITUM,TRITUM_FLAG_W,TRITER,HELIUM,HELIUM_FLAG_W,DELHE3,DELHE3_FLAG_W,DELC13,DELC13_FLAG_W,DELC14,DELC14_FLAG_W,C14ERR,NEON,NEON_FLAG_W,NEONER,DOC,DOC_FLAG_W,TDN,TDN_FLAG_W,CTDRAW,CDOM325,CDOM325_FLAG_W,CDOM340,CDOM340_FLAG_W,CDOM380,CDOM380_FLAG_W,CDOM412,CDOM412_FLAG_W,CDOMSL,CDOMSL_FLAG_W,CDOMSN,CDOMSN_FLAG_W,DCNS,ARABI,ARABI_FLAG_W,FUCO,FUCO_FLAG_W,GALA,GALA_FLAG_W,GLUC,GLUC_FLAG_W,MAN,MAN_FLAG_W,RHAM,RHAM_FLAG_W,BRDU,BRDU_FLAG_W,THETA,HELIER,DELHER
,,,,,,,,,,,METERS,DBAR,ITS-90,PSS-78,,PSS-78,,UMOL/KG,,UMOL/KG,,UMOL/KG,,UMOL/KG,,UMOL/KG,,UMOL/KG,,PMOL/KG,,PMOL/KG,,PMOL/KG,,UMOL/KG,,UMOL/KG,,UATM,,DEG C,,,DEG C,TU,,TU,NMOL/KG,,PERCNT,,/MILLE,,/MILLE,,/MILLE,NMOL/KG,,NMOL/KG,UMOL/KG,,UMOL/KG,,DBAR,1/M,,1/M,,1/M,,1/M,,1/NM,,1/NM,,NMOL/KG,NMOL/KG,,NMOL/KG,,NMOL/KG,,NMOL/KG,,NMOL/KG,,NMOL/KG,,PMOL/L/H,,DEG C,NMOL/KG,PERCNT
325020060213,       P16N,       3,          1,          8,          8,2,20060215,       0922,        -15,     -150.8,       4495,  2799.4,   1.8032,  34.6716,2,  34.6603,4,    153.5,2,   153.3,2,  126.20,2,   36.30,2,    0.00,2,    2.51,2,-999.000,9,-999.000,9,-999.000,9,  2309.0,2,  2397.3,2,   -999.0,9,  -999.00,   7.5791,2,    25.00,-999.000,9,-999.000,-999.0000,9,-999.000,9, -999.00,9,  -999.0,9,    -9.0,-999.000,9,-999.000,   36.16,2,   39.58,2, 2799.40,-999.0000,9,-999.0000,9,-999.0000,9,-999.0000,9,-999.0000,9,-999.0000,9,     -999.0,     -999.0,9,     -999.0,9,     -999.0,9,     -999.0,9,     -999.0,9,     -999.0,9, -999.00,9,   1.5989,-999.0000,-999.000
325020060213,       P16N,       3,          1,          7,          7,2,20060215,       0922,        -15,     -150.8,       4495,  2999.2,   1.7271,  34.6774,2,  34.6629,4,    157.2,2,   156.4,2,  127.00,2,   36.10,2,    0.00,2,    2.50,2,   0.002,2,  -0.001,2,-999.000,5,  2306.1,2,  2396.2,2,   -999.0,9,  -999.00,   7.5836,2,    25.00,-999.000,9,-999.000,-999.0000,9,-999.000,9, -999.00,9,  -999.0,9,    -9.0,-999.000,9,-999.000,   36.86,2,   39.57,2, 2999.20,-999.0000,9,-999.0000,9,-999.0000,9,-999.0000,9,-999.0000,9,-999.0000,9,     -999.0,     -999.0,9,     -999.0,9,     -999.0,9,     -999.0,9,     -999.0,9,     -999.0,9, -999.00,9,   1.5054,-999.0000,-999.000
325020060213,       P16N,       3,          1,          6,          6,2,20060215,       0922,        -15,     -150.8,       4495,  3299.6,   1.6439,  34.6830,2,  34.6638,4,    164.0,2,   163.9,2,  125.90,2,   35.80,2,    0.00,2,    2.47,2,-999.000,9,-999.000,9,-999.000,9,  2301.7,2,  2394.0,2,   -999.0,9,  -999.00,   7.5923,2,    25.00,-999.000,9,-999.000,-999.0000,9,-999.000,9, -999.00,9,  -999.0,9,    -9.0,-999.000,9,-999.000,   36.51,2,   39.57,2, 3299.60,-999.0000,9,-999.0000,9,-999.0000,9,-999.0000,9,-999.0000,9,-999.0000,9,     -999.0,     -999.0,9,     -999.0,9,     -999.0,9,     -999.0,9,     -999.0,9,     -999.0,9, -999.00,9,   1.3945,-999.0000,-999.000
325020060213,       P16N,       3,          1,          5,          5,2,20060215,       0922,        -15,     -150.8,       4495,  3601.1,   1.5335,  34.6904,2,  34.6740,4,    172.8,2,   172.1,2,  123.60,6,   34.90,6,    0.00,6,    2.41,6,-999.000,9,-999.000,9,-999.000,9,  2291.6,2,  2381.9,2,   -999.0,9,  -999.00,   7.5957,2,    25.00,-999.000,9,-999.000,-999.0000,9,-999.000,9, -999.00,9,  -999.0,9,    -9.0,-999.000,9,-999.000,   37.18,2,   38.42,2, 3601.10,-999.0000,9,-999.0000,9,-999.0000,9,-999.0000,9,-999.0000,9,-999.0000,9,     -999.0,     -999.0,9,     -999.0,9,     -999.0,9,     -999.0,9,     -999.0,9,     -999.0,9, -999.00,9,   1.2561,-999.0000,-999.000
325020060213,       P16N,       3,          1,          4,          4,2,20060215,       0922,        -15,     -150.8,       4495,  3900.8,   1.4797,  34.6954,2,  34.6895,4,    177.8,2,   177.4,2,  122.50,6,   34.60,6,    0.00,6,    2.39,6,  -0.001,2,   0.012,4,-999.000,5,  2286.6,2,  -999.0,5,   -999.0,9,  -999.00,   7.6043,2,    25.00,-999.000,9,-999.000,-999.0000,9,-999.000,9, -999.00,9,  -999.0,9,    -9.0,-999.000,9,-999.000,   38.86,2,   38.13,2, 3900.80,-999.0000,9,-999.0000,9,-999.0000,9,-999.0000,9,-999.0000,9,-999.0000,9,     -999.0,     -999.0,9,     -999.0,9,     -999.0,9,     -999.0,9,     -999.0,9,     -999.0,9, -999.00,9,   1.1720,-999.0000,-999.000
325020060213,       P16N,       3,          1,          3,          3,2,20060215,       0922,        -15,     -150.8,       4495,  4200.5,   1.4543,  34.6982,2,  34.6779,4,    181.0,2,   180.4,2,  122.30,6,   34.40,6,    0.00,6,    2.37,6,  -0.003,6,  -0.001,6,-999.000,5,  2284.4,2,  2377.3,2,   -999.0,9,  -999.00,   7.6059,2,    25.00,-999.000,9,-999.000,-999.0000,9,-999.000,9, -999.00,9,  -999.0,9,    -9.0,-999.000,9,-999.000,   39.67,2,   38.19,2, 4200.50,-999.0000,9,-999.0000,9,-999.0000,9,-999.0000,9,-999.0000,9,-999.0000,9,     -999.0,     -999.0,9,     -999.0,9,     -999.0,9,     -999.0,9,     -999.0,9,     -999.0,9, -999.00,9,   1.1145,-999.0000,-999.000
325020060213,       P16N,       3,          1,          1,          1,2,20060215,       0922,        -15,     -150.8,       4495,  4602.7,   1.3917,  34.7031,2,  34.6923,4,    187.3,2,   186.1,2,  121.60,2,   34.00,2,    0.00,2,    2.35,2,  -0.004,2,  -0.001,2,-999.000,5,  2279.9,6,  2374.8,2,   -999.0,9,  -999.00,-999.0000,9,  -999.00,-999.000,9,-999.000,-999.0000,9,-999.000,9, -999.00,9,  -999.0,9,    -9.0,-999.000,9,-999.000,   39.76,2,   37.90,2, 4602.70,-999.0000,9,-999.0000,9,-999.0000,9,-999.0000,9,-999.0000,9,-999.0000,9,     -999.0,     -999.0,9,     -999.0,9,     -999.0,9,     -999.0,9,     -999.0,9,     -999.0,9, -999.00,9,   1.0081,-999.0000,-999.000