BOTTLE,20170720CCHSIOCBG
EXPOCODE,SECT_ID,STNNBR,CASTNO,SAMPNO,BTLNBR,BTLNBR_FLAG_W,DATE,TIME,LATITUDE,LONGITUDE,DEPTH,CTDPRS,CTDTMP,CTDSAL,CTDSAL_FLAG_W,SALNTY,SALNTY_FLAG_W,CTDOXY,CTDOXY_FLAG_W,OXYGEN,OXYGEN_FLAG_W,SILCAT,SILCAT_FLAG_W,NITRAT,NITRAT_FLAG_W,NITRIT,NITRIT_FLAG_W,PHSPHT,PHSPHT_FLAG_W,CFC-11,CFC-11_FLAG_W,CFC-12,CFC-12_FLAG_W,CFC113,CFC113_FLAG_W,TCARBN,TCARBN_FLAG_W,ALKALI,ALKALI_FLAG_W,FCO2,FCO2_FLAG_W,FCO2TMP,PH_TOT,PH_TOT_FLAG_W,PH_TMP,TRITUM,TRITUM_FLAG_W,TRITER,HELIUM,HELIUM_FLAG_W,DELHE3,DELHE3_FLAG_W,DELC13,DELC13_FLAG_W,DELC14,DELC14_FLAG_W,C14ERR,NEON,NEON_FLAG_W,NEONER,DOC,DOC_FLAG_W,TDN,TDN_FLAG_W,CTDRAW,CDOM325,CDOM325_FLAG_W,CDOM340,CDOM340_FLAG_W,CDOM380,CDOM380_FLAG_W,CDOM412,CDOM412_FLAG_W,CDOMSL,CDOMSL_FLAG_W,CDOMSN,CDOMSN_FLAG_W,DCNS,ARABI,ARABI_FLAG_W,FUCO,FUCO_FLAG_W,GALA,GALA_FLAG_W,GLUC,GLUC_FLAG_W,MAN,MAN_FLAG_W,RHAM,RHAM_FLAG_W,BRDU,BRDU_FLAG_W,THETA,HELIER,DELHER
,,,,,,,,,,,METERS,DBAR,ITS-90,PSS-78,,PSS-78,,UMOL/KG,,UMOL/KG,,UMOL/KG,,UMOL/KG,,UMOL/KG,,UMOL/KG,,PMOL/KG,,PMOL/KG,,PMOL/KG,,UMOL/KG,,UMOL/KG,,UATM,,DEG C,,,DEG C,TU,,TU,NMOL/KG,,PERCNT,,/MILLE,,/MILLE,,/MILLE,NMOL/KG,,NMOL/KG,UMOL/KG,,UMOL/KG,,DBAR,1/M,,1/M,,1/M,,1/M,,1/NM,,1/NM,,NMOL/KG,NMOL/KG,,NMOL/KG,,NMOL/KG,,NMOL/KG,,NMOL/KG,,NMOL/KG,,PMOL/L/H,,DEG C,NMOL/KG,PERCNT
325020060213,       P16N,      77,          1,         36,         36,2,20060328,       1429,       55.5,  -152.8803,       5352,     5.8,   4.0950,  32.6371,2,  32.6403,2,    320.9,2,   322.0,2,   23.80,2,   12.30,2,    0.20,2,    1.33,2,   5.089,2,   2.828,2,-999.000,5,  2065.5,6,  2198.3,2,    743.3,2,    20.00,   7.7304,6,    25.00,-999.000,9,-999.000,-999.0000,9,-999.000,9, -999.00,9,  -999.0,9,    -9.0,-999.000,9,-999.000,   55.40,2,   16.48,2,    5.80,   0.1650,2,   0.1140,2,   0.0430,2,   0.0190,2,   0.0032,3,   0.0251,3,     -999.0,     -999.0,9,     -999.0,9,     -999.0,9,     -999.0,9,     -999.0,9,     -999.0,9,    3.13,2,   4.0947,-999.0000,-999.000
325020060213,       P16N,      77,          1,         35,         35,2,20060328,       1429,       55.5,  -152.8803,       5352,    50.5,   3.7414,  32.7682,2,  32.7831,2,    314.6,2,   311.9,2,   28.60,2,   15.40,2,    0.20,2,    1.49,2,   5.030,2,   2.804,2,-999.000,5,  2087.0,2,  2209.5,2,    811.4,2,    20.00,   7.6966,2,    25.00,-999.000,9,-999.000,-999.0000,9,-999.000,9, -999.00,9,  -999.0,9,    -9.0,-999.000,9,-999.000,   50.23,2,   19.89,2,   50.50,   0.1570,2,   0.1080,2,   0.0440,2,   0.0220,2,   0.0040,3,   0.0237,3,     -999.0,     -999.0,9,     -999.0,9,     -999.0,9,     -999.0,9,     -999.0,9,     -999.0,9,    2.50,2,   3.7382,-999.0000,-999.000
325020060213,       P16N,      77,          1,         34,         34,2,20060328,       1429,       55.5,  -152.8803,       5352,    75.5,   4.0496,  33.0969,2,  33.1423,2,    241.3,2,   223.1,2,   44.40,2,   24.80,2,    0.10,2,    1.95,2,   4.234,2,   2.298,2,-999.000,5,  2158.9,2,  2232.5,2,   1188.5,2,    20.00,   7.5509,2,    25.00,-999.000,9,-999.000,-999.0000,9,-999.000,9, -999.00,9,  -999.0,9,    -9.0,-999.000,9,-999.000,   48.13,2,   28.38,2,   75.50,   0.1690,2,   0.1190,2,   0.0540,2,   0.0300,2,   0.0058,3,   0.0209,3,     -999.0,     -999.0,9,     -999.0,9,     -999.0,9,     -999.0,9,     -999.0,9,     -999.0,9,    0.87,2,   4.0446,-999.0000,-999.000
325020060213,       P16N,      77,          1,         33,         33,2,20060328,       1429,       55.5,  -152.8803,       5352,    94.1,   4.1464,  33.6744,2,  33.6189,2,     82.0,2,    92.3,2,   68.10,2,   37.30,2,    0.00,2,    2.59,2,   2.978,2,   1.530,2,-999.000,5,  2265.6,2,  2270.2,2,   2109.4,6,    20.00,   7.3221,2,    25.00,-999.000,9,-999.000,-999.0000,9,-999.000,9, -999.00,9,  -999.0,9,    -9.0,-999.000,9,-999.000,   47.59,2,   41.12,2,   94.10,   0.1990,2,   0.1430,2,   0.0710,2,   0.0440,2,   0.0171,2,   0.0184,2,     -999.0,     -999.0,9,     -999.0,9,     -999.0,9,     -999.0,9,     -999.0,9,     -999.0,9,    0.12,2,   4.1400,-999.0000,-999.000
325020060213,       P16N,      77,          1,         32,         32,2,20060328,       1429,       55.5,  -152.8803,       5352,   114.7,   4.1098,  33.7997,2,  33.8117,2,     58.1,2,    54.3,2,   78.60,2,   41.80,2,    0.00,2,    2.83,2,   2.508,2,   1.249,2,-999.000,5,  2297.6,2,  2284.0,2,   2483.0,2,    20.00,   7.2591,2,    25.00,-999.000,9,-999.000,-999.0000,9,-999.000,9, -999.00,9,  -999.0,9,    -9.0,-999.000,9,-999.000,   46.93,2,   46.04,2,  114.70,   0.2040,2,   0.1470,2,   0.0740,2,   0.0480,2,   0.0166,2,   0.0179,2,     -999.0,     -999.0,9,     -999.0,9,     -999.0,9,     -999.0,9,     -999.0,9,     -999.0,9,    0.27,2,   4.1020,-999.0000,-999.000
325020060213,       P16N,      77,          1,         31,         31,2,20060328,       1429,       55.5,  -152.8803,       5352,   129.9,   4.0677,  33.8465,2,  33.8501,2,     45.8,2,    45.9,2,   81.40,2,   42.60,2,    0.00,2,    2.88,2,   2.360,2,   1.188,2,-999.000,5,  2305.4,2,  2288.3,2,   2593.0,2,    20.00,   7.2490,2,    25.00,-999.000,9,-999.000,-999.0000,9,-999.000,9, -999.00,9,  -999.0,9,    -9.0,-999.000,9,-999.000,   46.50,2,   46.42,2,  129.90,   0.2050,2,   0.1480,2,   0.0760,2,   0.0510,2,   0.0161,2,   0.0173,2,     -999.0,     -999.0,9,     -999.0,9,     -999.0,9,     -999.0,9,     -999.0,9,     -999.0,9,    0.06,2,   4.0588,-999.0000,-999.000
325020060213,       P16N,      77,          1,         30,         30,2,20060328,       1429,       55.5,  -152.8803,       5352,   150.3,   4.0245,  33.8883,2,  33.8874,2,     35.1,2,    35.7,2,   85.30,2,   43.60,2,    0.00,2,    2.94,2,   2.128,2,   1.055,2,-999.000,5,  2315.0,2,  2293.6,2,   2122.8,4,    20.00,   7.2360,2,    25.00,-999.000,9,-999.000,-999.0000,9,-999.000,9, -999.00,9,  -999.0,9,    -9.0,-999.000,9,-999.000,   45.51,2,   48.14,2,  150.30,   0.2080,2,   0.1510,2,   0.0770,2,   0.0520,2,   0.0159,2,   0.0172,2,     -999.0,     -999.0,9,     -999.0,9,     -999.0,9,     -999.0,9,     -999.0,9,     -999.0,9,    0.31,2,   4.0142,-999.0000,-999.000
325020060213,       P16N,      77,          1,         29,         29,2,20060328,       1429,       55.5,  -152.8803,       5352,   175.0,   3.9888,  33.9237,2,  33.8887,2,     27.3,2,    35.6,2,   85.20,2,   43.40,2,    0.00,2,    2.93,2,   2.140,2,   1.051,2,-999.000,5,  2315.4,2,  2292.1,6,   2888.6,3,    20.00,   7.2525,4,    25.00,-999.000,9,-999.000,-999.0000,9,-999.000,9, -999.00,9,  -999.0,9,    -9.0,-999.000,9,-999.000,   44.88,2,   47.50,2,  175.00,   0.2100,2,   0.1520,2,   0.0800,2,   0.0550,2,   0.0155,2,   0.0167,2,     -999.0,     -999.0,9,     -999.0,9,     -999.0,9,     -999.0,9,     -999.0,9,     -999.0,9,    0.23,2,   3.9769,-999.0000,-999.000
325020060213,       P16N,      77,          1,         28,         28,2,20060328,       1429,       55.5,  -152.8803,       5352,   200.8,   3.9563,  33.9656,2,  33.9640,2,     20.4,2,    21.0,2,   92.90,2,   44.70,2,    0.00,2,    3.02,2,   1.663,2,   1.143,4,-999.000,5,  2329.5,2,  2305.0,2,   -999.0,9,  -999.00,   7.2214,2,    25.00,-999.000,9,-999.000,-999.0000,9,-999.000,9, -999.00,5,  -110.9,2,     3.0,-999.000,9,-999.000,   43.86,2,   48.49,2,  200.80,   0.2090,2,   0.1520,2,   0.0810,2,   0.0570,2,   0.0150,2,   0.0161,2,    380.615,    38.4669,2,      61.02,2,    78.2439,2,    101.641,2,    68.2927,2,    32.9504,2, -999.00,9,   3.9426,-999.0000,-999.000
325020060213,       P16N,      77,          1,         27,         27,2,20060328,       1429,       55.5,  -152.8803,       5352,   249.8,   3.8955,  34.0286,2,  34.0287,2,     17.2,2,    17.4,2,   99.10,2,   44.50,2,    0.00,2,    3.04,2,   1.248,2,   0.592,2,-999.000,5,  2336.6,2,  2315.7,2,   -999.0,9,  -999.00,   7.2298,2,    25.00,   0.356,2,   0.016,-999.0000,9,-999.000,9, -999.00,9,  -999.0,9,    -9.0,-999.000,9,-999.000,   42.96,2,   49.02,2,  249.80,   0.2080,2,   0.1510,2,   0.0810,2,   0.0570,2,   0.0149,2,   0.0160,2,     -999.0,     -999.0,9,     -999.0,9,     -999.0,9,     -999.0,9,     -999.0,9,     -999.0,9, -999.00,9,   3.8784,-999.0000,-999.000
325020060213,       P16N,      77,          1,         26,         26,2,20060328,       1429,       55.5,  -152.8803,       5352,   300.5,   3.8465,  34.0754,2,  34.0731,2,     17.2,2,    17.6,2,  103.60,2,   44.40,2,    0.00,2,    3.04,2,   0.991,2,   0.473,2,-999.000,5,  2338.8,2,  2321.8,2,   -999.0,9,  -999.00,   7.2434,2,    25.00,   0.369,2,   0.017,-999.0000,9,-999.000,9, -999.00,5,  -129.2,2,     3.1,-999.000,9,-999.000,   42.12,2,   48.91,2,  300.50,   0.2060,2,   0.1500,2,   0.0820,2,   0.0580,2,   0.0146,2,   0.0156,2,     -999.0,     -999.0,9,     -999.0,9,     -999.0,9,     -999.0,9,     -999.0,9,     -999.0,9, -999.00,9,   3.8259,-999.0000,-999.000
325020060213,       P16N,      77,          1,         25,         25,9,20060328,       1429,       55.5,  -152.8803,       5352,   350.8,   3.7733,  34.1200,2,-999.0000,9,     16.3,2,  -999.0,9, -999.00,9, -999.00,9, -999.00,9, -999.00,9,-999.000,9,-999.000,9,-999.000,9,  -999.0,9,  -999.0,9,   -999.0,9,  -999.00,-999.0000,9,  -999.00,-999.000,9,-999.000,-999.0000,9,-999.000,9, -999.00,9,  -999.0,9,    -9.0,-999.000,9,-999.000, -999.00,9, -999.00,9,  350.80,-999.0000,9,-999.0000,9,-999.0000,9,-999.0000,9,-999.0000,9,-999.0000,9,     -999.0,     -999.0,9,     -999.0,9,     -999.0,9,     -999.0,9,     -999.0,9,     -999.0,9, -999.00,9,   3.7493,-999.0000,-999.000
325020060213,       P16N,      77,          1,         24,         24,2,20060328,       1429,       55.5,  -152.8803,       5352,   401.1,   3.7256,  34.1512,2,  34.1514,2,     15.4,2,    16.0,2,  111.50,2,   44.10,2,    0.00,2,    3.05,2,   0.604,2,   0.292,2,-999.000,5,  2347.9,2,  2334.9,2,   -999.0,9,  -999.00,   7.2556,2,    25.00,   0.261,2,   0.004,-999.0000,9,-999.000,9, -999.00,9,  -999.0,9,    -9.0,-999.000,9,-999.000,   41.56,2,   48.23,2,  401.10,   0.1960,2,   0.1420,2,   0.0770,2,   0.0550,2,   0.0146,2,   0.0158,2,     -999.0,     -999.0,9,     -999.0,9,     -999.0,9,     -999.0,9,     -999.0,9,     -999.0,9, -999.00,9,   3.6982,-999.0000,-999.000
325020060213,       P16N,      77,          1,         23,         23,2,20060328,       1429,       55.5,  -152.8803,       5352,   450.7,   3.6550,  34.1805,2,  34.1808,2,     14.6,2,    15.0,2,  114.90,2,   44.00,2,    0.00,2,    3.05,2,   0.489,2,   0.208,2,-999.000,5,  2350.8,2,  2339.5,2,   -999.0,9,  -999.00,   7.2601,2,    25.00,-999.000,9,-999.000,-999.0000,9,-999.000,9, -999.00,5,  -154.4,2,     2.8,-999.000,9,-999.000,   41.11,2,   48.45,2,  450.70,   0.1970,2,   0.1430,2,   0.0780,2,   0.0560,2,   0.0143,2,   0.0155,2,     -999.0,     -999.0,9,     -999.0,9,     -999.0,9,     -999.0,9,     -999.0,9,     -999.0,9, -999.00,9,   3.6243,-999.0000,-999.000
325020060213,       P16N,      77,          1,         22,         22,2,20060328,       1429,       55.5,  -152.8803,       5352,   500.3,   3.5821,  34.2093,2,  34.2097,2,     14.1,2,    14.8,2,  118.50,2,   44.10,2,    0.00,2,    3.06,2,   0.382,2,   0.200,2,-999.000,5,  2356.3,6,  2380.4,4,   -999.0,9,  -999.00,   7.2691,2,    25.00,   0.189,2,   0.003,-999.0000,9,-999.000,9, -999.00,9,  -999.0,9,    -9.0,-999.000,9,-999.000,   40.11,2,   48.59,2,  500.30,   0.1950,2,   0.1410,2,   0.0790,2,   0.0570,2,   0.0139,2,   0.0151,2,     -999.0,     -999.0,9,     -999.0,9,     -999.0,9,     -999.0,9,     -999.0,9,     -999.0,9, -999.00,9,   3.5480,-999.0000,-999.000
325020060213,       P16N,      77,          1,         21,         21,2,20060328,       1429,       55.5,  -152.8803,       5352,   600.9,   3.4018,  34.2647,2,  34.2645,2,     13.7,2,    14.3,2,  125.70,2,   44.00,2,    0.00,2,    3.09,2,   0.233,2,   0.102,2,-999.000,5,  2361.4,2,  2351.5,2,   -999.0,9,  -999.00,   7.2738,2,    25.00,   0.132,2,   0.003,-999.0000,9,-999.000,9, -999.00,5,  -173.9,2,     2.5,-999.000,9,-999.000,   38.92,2,   48.16,2,  600.90,   0.1920,2,   0.1400,2,   0.0770,2,   0.0560,2,   0.0140,2,   0.0153,2,     -999.0,     -999.0,9,     -999.0,9,     -999.0,9,     -999.0,9,     -999.0,9,     -999.0,9, -999.00,9,   3.3612,-999.0000,-999.000
325020060213,       P16N,      77,          1,         20,         20,2,20060328,       1429,       55.5,  -152.8803,       5352,   750.3,   3.1471,  34.3270,2,  34.3261,2,     13.8,2,    14.7,2,  134.80,2,   44.10,2,    0.00,2,    3.11,2,   0.116,2,   0.060,2,-999.000,5,  2372.6,2,  2367.8,2,   -999.0,9,  -999.00,   7.2811,2,    25.00,   0.225,2,   0.005,-999.0000,9,-999.000,9, -999.00,9,  -999.0,9,    -9.0,-999.000,9,-999.000,   38.64,2,   47.85,2,  750.30,   0.1950,2,   0.1420,2,   0.0790,2,   0.0580,2,   0.0137,2,   0.0149,2,     -999.0,     -999.0,9,     -999.0,9,     -999.0,9,     -999.0,9,     -999.0,9,     -999.0,9, -999.00,9,   3.0970,-999.0000,-999.000
325020060213,       P16N,      77,          1,         19,         19,2,20060328,       1429,       55.5,  -152.8803,       5352,   900.6,   2.8713,  34.3845,2,  34.3856,2,     15.0,2,    16.0,2,  144.00,2,   44.10,2,    0.00,2,    3.13,2,   0.062,2,   0.033,2,-999.000,5,  2381.9,2,  2418.0,4,   -999.0,9,  -999.00,   7.2940,2,    25.00,   0.039,2,   0.002,-999.0000,9,-999.000,9, -999.00,5,  -203.1,2,     2.2,-999.000,9,-999.000,   38.28,2,   48.62,2,  900.60,   0.1880,2,   0.1360,2,   0.0760,2,   0.0560,2,   0.0136,2,   0.0148,2,     -999.0,     -999.0,9,     -999.0,9,     -999.0,9,     -999.0,9,     -999.0,9,     -999.0,9, -999.00,9,   2.8119,-999.0000,-999.000
325020060213,       P16N,      77,          1,         18,         18,2,20060328,       1429,       55.5,  -152.8803,       5352,  1050.7,   2.6617,  34.4279,2,  34.4279,2,     18.0,2,    18.6,2,  150.60,2,   44.10,2,    0.00,2,    3.14,2,   0.033,4,   0.045,2,-999.000,5,  2386.3,2,  2420.2,4,   -999.0,9,  -999.00,   7.3049,6,    25.00,   0.020,2,   0.002,-999.0000,9,-999.000,9, -999.00,9,  -999.0,9,    -9.0,-999.000,9,-999.000,   38.25,2,   48.16,2, 1050.70,   0.1800,2,   0.1300,2,   0.0710,2,   0.0510,2,   0.0139,2,   0.0154,2,     -999.0,     -999.0,9,     -999.0,9,     -999.0,9,     -999.0,9,     -999.0,9,     -999.0,9, -999.00,9,   2.5929,-999.0000,-999.000
325020060213,       P16N,      77,          1,         17,         17,2,20060328,       1429,       55.5,  -152.8803,       5352,  1249.5,   2.4103,  34.4811,2,  34.4810,2,     23.9,2,    24.6,2,  158.10,2,   44.00,2,    0.00,2,    3.12,2,   0.012,2,   0.005,2,-999.000,5,  2390.7,2,  -999.0,5,   -999.0,9,  -999.00,   7.3215,2,    25.00,   0.001,2,   0.002,-999.0000,9,-999.000,9, -999.00,5,  -221.6,2,     2.6,-999.000,9,-999.000,   37.62,2,   48.24,2, 1249.50,   0.1790,2,   0.1280,2,   0.0710,2,   0.0520,2,   0.0136,2,   0.0152,3,     -999.0,     -999.0,9,     -999.0,9,     -999.0,9,     -999.0,9,     -999.0,9,     -999.0,9, -999.00,9,   2.3288,-999.0000,-999.000
325020060213,       P16N,      77,          1,         16,         16,2,20060328,       1429,       55.5,  -152.8803,       5352,  1500.1,   2.1755,  34.5319,2,  34.5333,2,     35.6,2,    36.7,2,  163.60,2,   43.00,2,    0.00,2,    3.08,2,   0.003,2,   0.008,2,-999.000,5,  2390.2,2,  2407.5,2,   2111.7,2,    20.00,   7.3467,2,    25.00,-999.000,9,-999.000,-999.0000,9,-999.000,9, -999.00,9,  -999.0,9,    -9.0,-999.000,9,-999.000,   37.83,2,   46.68,2, 1500.10,   0.1740,2,   0.1240,2,   0.0690,2,   0.0510,2,   0.0134,3,   0.0150,3,     -999.0,     -999.0,9,     -999.0,9,     -999.0,9,     -999.0,9,     -999.0,9,     -999.0,9, -999.00,9,   2.0773,-999.0000,-999.000
325020060213,       P16N,      77,          1,         15,         15,2,20060328,       1429,       55.5,  -152.8803,       5352,  1749.0,   1.9947,  34.5707,2,  34.5715,2,     49.8,2,    50.5,2,  167.30,2,   42.30,2,    0.00,2,    3.03,2,   0.004,2,  -0.001,2,-999.000,5,  2387.0,2,  2422.3,2,   1960.2,2,    20.00,   7.3783,2,    25.00,   0.006,2,   0.002,-999.0000,9,-999.000,9, -999.00,9,  -999.0,9,    -9.0,-999.000,9,-999.000,   37.04,2,   46.03,2, 1749.00,   0.1710,2,   0.1210,2,   0.0670,2,   0.0490,2,   0.0134,3,   0.0152,3,     -999.0,     -999.0,9,     -999.0,9,     -999.0,9,     -999.0,9,     -999.0,9,     -999.0,9, -999.00,9,   1.8791,-999.0000,-999.000
325020060213,       P16N,      77,          1,         14,         14,2,20060328,       1429,       55.5,  -152.8803,       5352,  1999.7,   1.8606,  34.5992,2,  34.5987,2,     63.5,2,    64.6,2,  168.40,2,   41.20,2,    0.00,2,    2.97,2,-999.000,9,-999.000,9,-999.000,9,  2381.2,2,  -999.0,5,   1815.4,6,    20.00,   7.4107,2,    25.00,-999.000,9,-999.000,-999.0000,9,-999.000,9, -999.00,5,  -237.8,2,     2.6,-999.000,9,-999.000,   36.52,2,   44.66,2, 1999.70,   0.1610,2,   0.1130,2,   0.0610,2,   0.0450,2,   0.0136,3,   0.0156,3,     -999.0,     -999.0,9,     -999.0,9,     -999.0,9,     -999.0,9,     -999.0,9,     -999.0,9, -999.00,9,   1.7264,-999.0000,-999.000
325020060213,       P16N,      77,          1,         13,         13,2,20060328,       1429,       55.5,  -152.8803,       5352,  2249.1,   1.7404,  34.6224,2,  34.6251,2,     78.0,2,    78.8,2,  170.50,2,   40.10,2,    0.00,2,    2.91,2,-999.000,9,-999.000,9,-999.000,9,  2376.2,2,  2421.9,2,   1697.6,2,    20.00,   7.4392,2,    25.00,-999.000,9,-999.000,-999.0000,9,-999.000,9, -999.00,5,  -236.4,2,     2.6,-999.000,9,-999.000,   36.76,2,   43.43,2, 2249.10,   0.1560,2,   0.1090,2,   0.0590,2,   0.0440,2,   0.0135,3,   0.0157,3,     -999.0,     -999.0,9,     -999.0,9,     -999.0,9,     -999.0,9,     -999.0,9,     -999.0,9, -999.00,9,   1.5870,-999.0000,-999.000
325020060213,       P16N,      77,          1,         12,         12,2,20060328,       1429,       55.5,  -152.8803,       5352,  2500.0,   1.6603,  34.6388,2,  34.6396,2,     92.3,2,    93.2,2,  167.20,2,   39.30,2,    0.00,2,    2.84,2,  -0.001,2,   0.003,2,-999.000,5,  2366.4,2,  2421.1,2,   1580.5,2,    20.00,   7.4641,2,    25.00,   0.001,2,   0.002,-999.0000,9,-999.000,9, -999.00,9,  -999.0,9,    -9.0,-999.000,9,-999.000,   36.67,2,   42.89,2, 2500.00,   0.1500,2,   0.1040,2,   0.0560,2,   0.0420,2,   0.0135,3,   0.0158,3,     -999.0,     -999.0,9,     -999.0,9,     -999.0,9,     -999.0,9,     -999.0,9,     -999.0,9, -999.00,9,   1.4865,-999.0000,-999.000
325020060213,       P16N,      77,          1,         11,         11,2,20060328,       1429,       55.5,  -152.8803,       5352,  2747.9,   1.6021,  34.6505,2,  34.6511,2,    103.1,2,   103.9,2,  166.70,2,   38.20,2,    0.00,2,    2.78,2,-999.000,9,-999.000,9,-999.000,9,  2359.6,2,  2423.2,2,   1494.0,6,    20.00,   7.4881,2,    25.00,-999.000,9,-999.000,-999.0000,9,-999.000,9, -999.00,5,  -234.5,2,     2.6,-999.000,9,-999.000,   36.99,2,   42.09,2, 2747.90,   0.1470,2,   0.1020,2,   0.0550,2,   0.0410,2,   0.0134,3,   0.0158,3,     -999.0,     -999.0,9,     -999.0,9,     -999.0,9,     -999.0,9,     -999.0,9,     -999.0,9, -999.00,9,   1.4069,-999.0000,-999.000
325020060213,       P16N,      77,          1,         10,         10,2,20060328,       1429,       55.5,  -152.8803,       5352,  2999.6,   1.5438,  34.6619,2,  34.6626,2,    115.8,2,   116.3,2,  163.90,2,   37.40,2,    0.00,2,    2.72,2,   0.013,3,   0.000,3,-999.000,5,  2351.8,2,  2423.2,2,   1400.3,2,    20.00,   7.5103,2,    25.00,-999.000,9,-999.000,-999.0000,9,-999.000,9, -999.00,9,  -999.0,9,    -9.0,-999.000,9,-999.000,   35.71,2,   40.79,2, 2999.60,   0.1420,2,   0.0980,2,   0.0520,2,   0.0390,2,   0.0134,3,   0.0159,3,     -999.0,     -999.0,9,     -999.0,9,     -999.0,9,     -999.0,9,     -999.0,9,     -999.0,9, -999.00,9,   1.3262,-999.0000,-999.000