BOTTLE,20170720CCHSIOCBG
EXPOCODE,SECT_ID,STNNBR,CASTNO,SAMPNO,BTLNBR,BTLNBR_FLAG_W,DATE,TIME,LATITUDE,LONGITUDE,DEPTH,CTDPRS,CTDTMP,CTDSAL,CTDSAL_FLAG_W,SALNTY,SALNTY_FLAG_W,CTDOXY,CTDOXY_FLAG_W,OXYGEN,OXYGEN_FLAG_W,SILCAT,SILCAT_FLAG_W,NITRAT,NITRAT_FLAG_W,NITRIT,NITRIT_FLAG_W,PHSPHT,PHSPHT_FLAG_W,CFC-11,CFC-11_FLAG_W,CFC-12,CFC-12_FLAG_W,CFC113,CFC113_FLAG_W,TCARBN,TCARBN_FLAG_W,ALKALI,ALKALI_FLAG_W,FCO2,FCO2_FLAG_W,FCO2TMP,PH_TOT,PH_TOT_FLAG_W,PH_TMP,TRITUM,TRITUM_FLAG_W,TRITER,HELIUM,HELIUM_FLAG_W,DELHE3,DELHE3_FLAG_W,DELC13,DELC13_FLAG_W,DELC14,DELC14_FLAG_W,C14ERR,NEON,NEON_FLAG_W,NEONER,DOC,DOC_FLAG_W,TDN,TDN_FLAG_W,CTDRAW,CDOM325,CDOM325_FLAG_W,CDOM340,CDOM340_FLAG_W,CDOM380,CDOM380_FLAG_W,CDOM412,CDOM412_FLAG_W,CDOMSL,CDOMSL_FLAG_W,CDOMSN,CDOMSN_FLAG_W,DCNS,ARABI,ARABI_FLAG_W,FUCO,FUCO_FLAG_W,GALA,GALA_FLAG_W,GLUC,GLUC_FLAG_W,MAN,MAN_FLAG_W,RHAM,RHAM_FLAG_W,BRDU,BRDU_FLAG_W,THETA,HELIER,DELHER
,,,,,,,,,,,METERS,DBAR,ITS-90,PSS-78,,PSS-78,,UMOL/KG,,UMOL/KG,,UMOL/KG,,UMOL/KG,,UMOL/KG,,UMOL/KG,,PMOL/KG,,PMOL/KG,,PMOL/KG,,UMOL/KG,,UMOL/KG,,UATM,,DEG C,,,DEG C,TU,,TU,NMOL/KG,,PERCNT,,/MILLE,,/MILLE,,/MILLE,NMOL/KG,,NMOL/KG,UMOL/KG,,UMOL/KG,,DBAR,1/M,,1/M,,1/M,,1/M,,1/NM,,1/NM,,NMOL/KG,NMOL/KG,,NMOL/KG,,NMOL/KG,,NMOL/KG,,NMOL/KG,,NMOL/KG,,PMOL/L/H,,DEG C,NMOL/KG,PERCNT
325020060213,       P16N,      50,          1,         36,         36,2,20060315,       0828,    28.0002,  -152.0002,       5467,     6.1,  19.9114,  35.2975,2,  35.2986,2,    360.3,2,   226.9,2,    1.00,2,    0.10,2,    0.00,2,    0.06,2,   2.207,2,   1.343,2,-999.000,9,  2023.2,2,  2319.3,2,    335.9,2,    20.00,   8.0330,6,    25.00,-999.000,9,-999.000,-999.0000,9,-999.000,9, -999.00,5,    78.5,2,     3.0,-999.000,9,-999.000,   66.36,2,    3.62,2,    6.10,-999.0000,9,-999.0000,9,-999.0000,9,-999.0000,9,-999.0000,9,-999.0000,9,     -999.0,     -999.0,9,     -999.0,9,     -999.0,9,     -999.0,9,     -999.0,9,     -999.0,9, -999.00,9,  19.9103,-999.0000,-999.000
325020060213,       P16N,      50,          1,         35,         35,2,20060315,       0828,    28.0002,  -152.0002,       5467,    14.6,  19.9172,  35.2971,2,  35.2972,2,    108.6,2,   227.1,2,    1.10,2,    0.00,2,    0.00,2,    0.00,2,   2.047,2,   1.365,2,-999.000,9,  2027.3,2,  2318.9,2,    333.0,2,    20.00,   8.0343,2,    25.00,-999.000,9,-999.000,-999.0000,9,-999.000,9, -999.00,9,  -999.0,9,    -9.0,-999.000,9,-999.000,   65.46,2,    3.56,2,   14.60,-999.0000,9,-999.0000,9,-999.0000,9,-999.0000,9,-999.0000,9,-999.0000,9,     -999.0,     -999.0,9,     -999.0,9,     -999.0,9,     -999.0,9,     -999.0,9,     -999.0,9, -999.00,9,  19.9145,-999.0000,-999.000
325020060213,       P16N,      50,          1,         34,         34,2,20060315,       0828,    28.0002,  -152.0002,       5467,    34.9,  19.9177,  35.2972,2,  35.2984,2,    224.2,2,   227.0,2,    1.10,2,    0.00,2,    0.00,2,    0.00,2,   2.224,2,   1.367,2,-999.000,9,  2026.4,2,  2319.4,2,    337.5,2,    20.00,   8.0338,2,    25.00,-999.000,9,-999.000,-999.0000,9,-999.000,9, -999.00,5,    82.4,2,     3.0,-999.000,9,-999.000,   66.36,2,    3.79,2,   34.90,-999.0000,9,-999.0000,9,-999.0000,9,-999.0000,9,-999.0000,9,-999.0000,9,     -999.0,     -999.0,9,     -999.0,9,     -999.0,9,     -999.0,9,     -999.0,9,     -999.0,9, -999.00,9,  19.9112,-999.0000,-999.000
325020060213,       P16N,      50,          1,         33,         33,2,20060315,       0828,    28.0002,  -152.0002,       5467,    60.1,  19.9202,  35.2956,2,  35.2869,2,    225.0,2,   227.2,2,    1.10,2,    0.00,2,    0.00,2,    0.01,2,   2.068,2,   1.353,2,-999.000,9,  2026.4,2,  2319.3,2,    336.1,2,    20.00,   8.0316,2,    25.00,-999.000,9,-999.000,-999.0000,9,-999.000,9, -999.00,5,    81.0,2,     3.5,-999.000,9,-999.000,   64.12,2,    4.21,2,   60.10,-999.0000,9,-999.0000,9,-999.0000,9,-999.0000,9,-999.0000,9,-999.0000,9,     -999.0,     -999.0,9,     -999.0,9,     -999.0,9,     -999.0,9,     -999.0,9,     -999.0,9, -999.00,9,  19.9091,-999.0000,-999.000
325020060213,       P16N,      50,          1,         32,         32,2,20060315,       0828,    28.0002,  -152.0002,       5467,    85.3,  18.8518,  35.0845,2,  35.0815,2,    228.7,2,   227.9,2,    1.60,2,    0.10,2,    0.00,2,    0.03,2,   2.122,2,   1.405,2,-999.000,9,  2024.4,2,  2306.3,2,    352.7,2,    20.00,   8.0168,2,    25.00,-999.000,9,-999.000,-999.0000,9,-999.000,9, -999.00,5,    84.7,2,     4.1,-999.000,9,-999.000,   64.07,2,    4.01,2,   85.30,-999.0000,9,-999.0000,9,-999.0000,9,-999.0000,9,-999.0000,9,-999.0000,9,     -999.0,     -999.0,9,     -999.0,9,     -999.0,9,     -999.0,9,     -999.0,9,     -999.0,9, -999.00,9,  18.8366,-999.0000,-999.000
325020060213,       P16N,      50,          1,         31,         31,2,20060315,       0828,    28.0002,  -152.0002,       5467,   110.1,  18.6685,  35.0528,2,  35.0343,2,    221.8,2,   227.4,2,    1.80,2,    0.20,2,    0.10,2,    0.04,2,   2.366,2,   1.449,2,-999.000,9,  2025.8,2,  2303.0,2,    356.9,2,    20.00,   8.0088,2,    25.00,-999.000,9,-999.000,-999.0000,9,-999.000,9, -999.00,5,    87.0,2,     3.6,-999.000,9,-999.000,   62.53,2,    4.74,2,  110.10,-999.0000,9,-999.0000,9,-999.0000,9,-999.0000,9,-999.0000,9,-999.0000,9,     -999.0,     -999.0,9,     -999.0,9,     -999.0,9,     -999.0,9,     -999.0,9,     -999.0,9, -999.00,9,  18.6492,-999.0000,-999.000
325020060213,       P16N,      50,          1,         30,         30,2,20060315,       0828,    28.0002,  -152.0002,       5467,   135.3,  17.6501,  34.8546,2,  34.8558,2,    233.1,2,   226.8,2,    2.40,2,    0.70,2,    0.10,2,    0.10,2,   2.306,2,   1.480,2,-999.000,9,  2027.6,2,  2290.5,2,    380.6,2,    20.00,   7.9883,2,    25.00,-999.000,9,-999.000,-999.0000,9,-999.000,9, -999.00,9,  -999.0,9,    -9.0,-999.000,9,-999.000,   58.97,2,    4.80,2,  135.30,-999.0000,9,-999.0000,9,-999.0000,9,-999.0000,9,-999.0000,9,-999.0000,9,     -999.0,     -999.0,9,     -999.0,9,     -999.0,9,     -999.0,9,     -999.0,9,     -999.0,9, -999.00,9,  17.6272,-999.0000,-999.000
325020060213,       P16N,      50,          1,         29,         29,2,20060315,       0828,    28.0002,  -152.0002,       5467,   174.4,  15.2207,  34.5140,2,  34.5199,2,    223.4,2,   218.6,2,    4.30,2,    3.90,2,    0.00,2,    0.31,2,   2.623,2,   1.632,2,-999.000,9,  2047.3,2,  2274.7,6,    455.3,2,    20.00,   7.9201,2,    25.00,-999.000,9,-999.000,-999.0000,9,-999.000,9, -999.00,9,  -999.0,9,    -9.0,-999.000,9,-999.000,   55.12,2,    8.32,2,  174.40,-999.0000,9,-999.0000,9,-999.0000,9,-999.0000,9,-999.0000,9,-999.0000,9,     -999.0,     -999.0,9,     -999.0,9,     -999.0,9,     -999.0,9,     -999.0,9,     -999.0,9, -999.00,9,  15.1942,-999.0000,-999.000
325020060213,       P16N,      50,          1,         28,         28,2,20060315,       0828,    28.0002,  -152.0002,       5467,   225.0,  13.2429,  34.3499,2,  34.3478,2,    219.1,2,   218.2,2,    7.20,2,    8.30,2,    0.00,2,    0.56,2,   2.912,2,   1.767,2,-999.000,9,  2064.2,2,  2262.8,2,    526.6,2,    20.00,   7.8673,2,    25.00,-999.000,9,-999.000,-999.0000,9,-999.000,9, -999.00,5,    72.9,2,     3.0,-999.000,9,-999.000,   51.31,2,   12.16,2,  225.00,-999.0000,9,-999.0000,9,-999.0000,9,-999.0000,9,-999.0000,9,-999.0000,9,     -999.0,     -999.0,9,     -999.0,9,     -999.0,9,     -999.0,9,     -999.0,9,     -999.0,9, -999.00,9,  13.2118,-999.0000,-999.000
325020060213,       P16N,      50,          1,         27,         27,2,20060315,       0828,    28.0002,  -152.0002,       5467,   274.6,  12.0916,  34.2637,2,  34.2456,2,    216.4,2,   218.5,2,   10.10,2,   10.80,2,    0.00,2,    0.72,2,   0.000,5,   1.842,2,-999.000,5,  2077.3,2,  2260.2,2,    575.8,2,    20.00,   7.8307,2,    25.00,-999.000,9,-999.000,-999.0000,9,-999.000,9, -999.00,5,    71.4,2,     2.9,-999.000,9,-999.000,   49.87,2,   14.62,2,  274.60,-999.0000,9,-999.0000,9,-999.0000,9,-999.0000,9,-999.0000,9,-999.0000,9,     -999.0,     -999.0,9,     -999.0,9,     -999.0,9,     -999.0,9,     -999.0,9,     -999.0,9, -999.00,9,  12.0557,-999.0000,-999.000
325020060213,       P16N,      50,          1,         26,         26,2,20060315,       0828,    28.0002,  -152.0002,       5467,   324.8,  10.8706,  34.1702,2,  34.1719,2,    214.7,2,   214.5,2,   13.80,2,   13.50,2,    0.00,2,    0.90,2,   3.367,2,   1.832,2,-999.000,9,  2092.9,2,  2259.1,2,    633.1,2,    20.00,   7.7962,2,    25.00,-999.000,9,-999.000,-999.0000,9,-999.000,9, -999.00,5,    58.2,2,     3.5,-999.000,9,-999.000,   48.92,2,   17.93,2,  324.80,-999.0000,9,-999.0000,9,-999.0000,9,-999.0000,9,-999.0000,9,-999.0000,9,     -999.0,     -999.0,9,     -999.0,9,     -999.0,9,     -999.0,9,     -999.0,9,     -999.0,9, -999.00,9,  10.8310,-999.0000,-999.000
325020060213,       P16N,      50,          1,         25,         25,2,20060315,       0828,    28.0002,  -152.0002,       5467,   374.9,   9.8997,  34.1260,2,  34.1287,2,    203.8,2,   205.7,2,   18.40,2,   16.10,2,    0.00,2,    1.09,2,   3.189,2,   1.817,2,-999.000,5,  2110.9,2,  2263.1,2,    698.2,2,    20.00,   7.7560,2,    25.00,-999.000,9,-999.000,-999.0000,9,-999.000,9, -999.00,5,    48.2,2,     3.1,-999.000,9,-999.000,   48.00,2,   20.77,2,  374.90,-999.0000,9,-999.0000,9,-999.0000,9,-999.0000,9,-999.0000,9,-999.0000,9,     -999.0,     -999.0,9,     -999.0,9,     -999.0,9,     -999.0,9,     -999.0,9,     -999.0,9, -999.00,9,   9.8566,-999.0000,-999.000
325020060213,       P16N,      50,          1,         24,         24,2,20060315,       0828,    28.0002,  -152.0002,       5467,   424.8,   9.1828,  34.1087,2,  34.1083,2,    185.0,2,   186.9,2,   24.40,2,   19.60,2,    0.00,2,    1.31,2,   3.152,2,   1.658,2,-999.000,9,  2134.5,2,  2267.0,2,    798.9,2,    20.00,   7.7049,2,    25.00,-999.000,9,-999.000,-999.0000,9,-999.000,9, -999.00,5,    36.8,2,     3.4,-999.000,9,-999.000,   47.34,2,   24.02,2,  424.80,-999.0000,9,-999.0000,9,-999.0000,9,-999.0000,9,-999.0000,9,-999.0000,9,     -999.0,     -999.0,9,     -999.0,9,     -999.0,9,     -999.0,9,     -999.0,9,     -999.0,9, -999.00,9,   9.1360,-999.0000,-999.000
325020060213,       P16N,      50,          1,         23,         23,2,20060315,       0828,    28.0002,  -152.0002,       5467,   474.7,   8.2739,  34.0676,2,  34.0660,2,    165.2,2,   164.5,2,   32.60,2,   23.50,2,    0.00,2,    1.56,2,   2.836,2,   1.461,2,-999.000,9,  2161.7,2,  2271.8,2,    946.3,2,    20.00,   7.6421,2,    25.00,-999.000,9,-999.000,-999.0000,9,-999.000,9, -999.00,9,  -999.0,9,    -9.0,-999.000,9,-999.000,   45.83,2,   28.26,2,  474.70,-999.0000,9,-999.0000,9,-999.0000,9,-999.0000,9,-999.0000,9,-999.0000,9,     -999.0,     -999.0,9,     -999.0,9,     -999.0,9,     -999.0,9,     -999.0,9,     -999.0,9, -999.00,9,   8.2247,-999.0000,-999.000
325020060213,       P16N,      50,          1,         22,         22,2,20060315,       0828,    28.0002,  -152.0002,       5467,   550.4,   6.7253,  34.0151,2,  34.0172,2,    125.1,2,   126.0,2,   48.90,2,   29.80,2,    0.00,2,    2.03,2,   2.152,2,   1.056,2,-999.000,9,  2208.8,2,  2281.6,2,   1265.2,6,    20.00,   7.5315,2,    25.00,-999.000,9,-999.000,-999.0000,9,-999.000,9, -999.00,5,   -35.9,2,     3.0,-999.000,9,-999.000,   43.00,2,   34.11,2,  550.40,-999.0000,9,-999.0000,9,-999.0000,9,-999.0000,9,-999.0000,9,-999.0000,9,     -999.0,     -999.0,9,     -999.0,9,     -999.0,9,     -999.0,9,     -999.0,9,     -999.0,9, -999.00,9,   6.6744,-999.0000,-999.000
325020060213,       P16N,      50,          1,         21,         21,2,20060315,       0828,    28.0002,  -152.0002,       5467,   649.3,   5.3618,  34.0379,2,  34.0421,2,     79.2,2,    76.3,2,   71.90,2,   36.20,2,    0.00,2,    2.54,2,   1.001,2,   0.501,2,-999.000,9,  2266.4,2,  2301.5,2,   1753.1,2,    20.00,   7.4046,2,    25.00,-999.000,9,-999.000,-999.0000,9,-999.000,9, -999.00,5,   -87.3,2,     3.0,-999.000,9,-999.000,   41.86,2,   40.10,2,  649.30,-999.0000,9,-999.0000,9,-999.0000,9,-999.0000,9,-999.0000,9,-999.0000,9,     -999.0,     -999.0,9,     -999.0,9,     -999.0,9,     -999.0,9,     -999.0,9,     -999.0,9, -999.00,9,   5.3080,-999.0000,-999.000
325020060213,       P16N,      50,          1,         20,         20,2,20060315,       0828,    28.0002,  -152.0002,       5467,   750.5,   4.6020,  34.1208,2,  34.1242,2,     42.2,2,    41.5,2,   89.80,2,   40.30,2,    0.00,2,    2.83,2,   0.359,2,   0.187,2,-999.000,9,  2311.4,2,  2321.0,2,   2115.9,2,    20.00,   7.3346,2,    25.00,-999.000,9,-999.000,-999.0000,9,-999.000,9, -999.00,5,  -138.6,2,     2.9,-999.000,9,-999.000,   40.89,2,   44.83,2,  750.50,-999.0000,9,-999.0000,9,-999.0000,9,-999.0000,9,-999.0000,9,-999.0000,9,     -999.0,     -999.0,9,     -999.0,9,     -999.0,9,     -999.0,9,     -999.0,9,     -999.0,9, -999.00,9,   4.5436,-999.0000,-999.000
325020060213,       P16N,      50,          1,         19,         19,2,20060315,       0828,    28.0002,  -152.0002,       5467,   850.3,   4.0960,  34.2317,2,  34.2354,2,     19.6,2,    18.1,2,  107.00,2,   42.40,2,    0.00,2,    3.02,2,   0.052,2,   0.040,2,-999.000,9,  2343.8,6,  2343.1,2,   2334.0,2,    20.00,   7.2991,2,    25.00,-999.000,9,-999.000,-999.0000,9,-999.000,9, -999.00,5,  -178.3,2,     2.5,-999.000,9,-999.000,   39.75,2,   46.24,2,  850.30,-999.0000,9,-999.0000,9,-999.0000,9,-999.0000,9,-999.0000,9,-999.0000,9,     -999.0,     -999.0,9,     -999.0,9,     -999.0,9,     -999.0,9,     -999.0,9,     -999.0,9, -999.00,9,   4.0324,-999.0000,-999.000
325020060213,       P16N,      50,          1,         18,         18,2,20060315,       0828,    28.0002,  -152.0002,       5467,   948.6,   3.8550,  34.3270,2,  34.3276,2,     15.3,2,    14.2,2,  115.70,6,   43.10,6,    0.00,6,    3.07,2,   0.015,2,   0.017,2,-999.000,9,  2357.9,2,  2358.6,6,   2324.4,2,    20.00,   7.3064,2,    25.00,-999.000,9,-999.000,-999.0000,9,-999.000,9, -999.00,9,  -999.0,9,    -9.0,-999.000,9,-999.000,   38.41,2,   47.49,2,  948.60,-999.0000,9,-999.0000,9,-999.0000,9,-999.0000,9,-999.0000,9,-999.0000,9,     -999.0,     -999.0,9,     -999.0,9,     -999.0,9,     -999.0,9,     -999.0,9,     -999.0,9, -999.00,9,   3.7849,-999.0000,-999.000
325020060213,       P16N,      50,          1,         17,         17,2,20060315,       0828,    28.0002,  -152.0002,       5467,  1100.6,   3.4971,  34.4419,2,  34.4432,2,     25.6,2,    25.4,2,  125.00,2,   42.30,2,    0.00,2,    3.06,2,   0.003,2,   0.008,2,-999.000,9,  2366.3,2,  2377.5,2,   2145.3,2,    20.00,   7.3373,2,    25.00,-999.000,9,-999.000,-999.0000,9,-999.000,9, -999.00,5,  -210.2,2,     2.3,-999.000,9,-999.000,   37.57,2,   46.00,2, 1100.60,-999.0000,9,-999.0000,9,-999.0000,9,-999.0000,9,-999.0000,9,-999.0000,9,     -999.0,     -999.0,9,     -999.0,9,     -999.0,9,     -999.0,9,     -999.0,9,     -999.0,9, -999.00,9,   3.4174,-999.0000,-999.000
325020060213,       P16N,      50,          1,         16,         16,2,20060315,       0828,    28.0002,  -152.0002,       5467,  1301.7,   3.1330,  34.5201,2,  34.5211,2,     46.7,2,    44.2,2,  130.80,3,   41.40,3,    0.00,3,    2.98,3,   0.022,3,   0.001,2,-999.000,5,  2363.1,2,  2391.1,2,   1927.8,2,    20.00,   7.3884,2,    25.00,-999.000,9,-999.000,-999.0000,9,-999.000,9, -999.00,5,  -224.9,2,     2.2,-999.000,9,-999.000,   36.63,2,   45.23,2, 1301.70,-999.0000,9,-999.0000,9,-999.0000,9,-999.0000,9,-999.0000,9,-999.0000,9,     -999.0,     -999.0,9,     -999.0,9,     -999.0,9,     -999.0,9,     -999.0,9,     -999.0,9, -999.00,9,   3.0402,-999.0000,-999.000
325020060213,       P16N,      50,          1,         15,         15,2,20060315,       0828,    28.0002,  -152.0002,       5467,  1500.2,   2.7516,  34.5619,2,  34.5630,2,     58.7,2,    58.4,2,  139.10,3,   40.90,3,    0.00,3,    2.92,3,   0.001,2,  -0.001,2,-999.000,9,  2363.9,2,  2401.5,2,   -999.0,5,  -999.00,   7.4121,2,    25.00,-999.000,9,-999.000,-999.0000,9,-999.000,9, -999.00,5,  -233.5,2,     2.6,-999.000,9,-999.000,   37.01,2,   44.64,2, 1500.20,-999.0000,9,-999.0000,9,-999.0000,9,-999.0000,9,-999.0000,9,-999.0000,9,     -999.0,     -999.0,9,     -999.0,9,     -999.0,9,     -999.0,9,     -999.0,9,     -999.0,9, -999.00,9,   2.6467,-999.0000,-999.000
325020060213,       P16N,      50,          1,         14,         14,2,20060315,       0828,    28.0002,  -152.0002,       5467,  1701.6,   2.4169,  34.5871,2,  34.5873,2,     68.2,2,    67.8,2,  148.30,3,   40.60,3,    0.00,3,    2.88,3,-999.000,9,-999.000,9,-999.000,9,  2367.0,2,  2409.5,2,   1736.8,6,    20.00,   7.4342,2,    25.00,-999.000,9,-999.000,-999.0000,9,-999.000,9, -999.00,5,  -245.3,2,     2.1,-999.000,9,-999.000,   36.59,2,   44.63,2, 1701.60,-999.0000,9,-999.0000,9,-999.0000,9,-999.0000,9,-999.0000,9,-999.0000,9,     -999.0,     -999.0,9,     -999.0,9,     -999.0,9,     -999.0,9,     -999.0,9,     -999.0,9, -999.00,9,   2.2995,-999.0000,-999.000
325020060213,       P16N,      50,          1,         13,         13,4,20060315,       0828,    28.0002,  -152.0002,       5467,  1899.9,   2.1612,  34.6087,2,  34.5885,4,     75.4,2,    65.1,4,  145.80,4,   40.90,4,    0.00,4,    2.90,4,-999.000,9,-999.000,9,-999.000,9,  2365.8,4,  2407.6,4,   -999.0,5,  -999.00,   7.4276,3,    25.00,-999.000,9,-999.000,-999.0000,9,-999.000,9, -999.00,5,  -239.3,2,     2.4,-999.000,9,-999.000,   36.63,2,   44.42,2, 1899.90,-999.0000,9,-999.0000,9,-999.0000,9,-999.0000,9,-999.0000,9,-999.0000,9,     -999.0,     -999.0,9,     -999.0,9,     -999.0,9,     -999.0,9,     -999.0,9,     -999.0,9, -999.00,9,   2.0308,-999.0000,-999.000
325020060213,       P16N,      50,          1,         12,         12,2,20060315,       0828,    28.0002,  -152.0002,       5467,  2124.2,   1.9473,  34.6273,2,  34.6292,2,     84.5,2,    83.9,2,  161.10,2,   39.90,2,    0.00,2,    2.81,2,-999.000,9,-999.000,9,-999.000,9,  2368.7,2,  2422.7,2,   -999.0,5,  -999.00,   7.4615,2,    25.00,-999.000,9,-999.000,-999.0000,9,-999.000,9, -999.00,5,  -248.7,2,     2.6,-999.000,9,-999.000,   36.84,2,   44.20,2, 2124.20,-999.0000,9,-999.0000,9,-999.0000,9,-999.0000,9,-999.0000,9,-999.0000,9,     -999.0,     -999.0,9,     -999.0,9,     -999.0,9,     -999.0,9,     -999.0,9,     -999.0,9, -999.00,9,   1.8012,-999.0000,-999.000
325020060213,       P16N,      50,          1,         11,         11,2,20060315,       0828,    28.0002,  -152.0002,       5467,  2373.7,   1.7800,  34.6431,2,  34.6449,2,     94.8,2,    94.5,2,  164.60,2,   38.90,2,    0.00,2,    2.77,2,  -0.001,6,   0.005,6,-999.000,5,  2365.6,2,  2425.8,2,   -999.0,5,  -999.00,   7.4817,2,    25.00,-999.000,9,-999.000,-999.0000,9,-999.000,9, -999.00,5,  -251.7,2,     2.5,-999.000,9,-999.000,   36.54,2,   43.15,2, 2373.70,-999.0000,9,-999.0000,9,-999.0000,9,-999.0000,9,-999.0000,9,-999.0000,9,     -999.0,     -999.0,9,     -999.0,9,     -999.0,9,     -999.0,9,     -999.0,9,     -999.0,9, -999.00,9,   1.6150,-999.0000,-999.000
325020060213,       P16N,      50,          1,         10,         10,2,20060315,       0828,    28.0002,  -152.0002,       5467,  2623.7,   1.6616,  34.6555,2,  34.6561,2,    105.2,2,   105.2,2,  165.50,2,   38.50,2,    0.00,2,    2.72,2,-999.000,9,-999.000,9,-999.000,9,  2360.3,2,  2428.0,2,   1436.2,6,    20.00,   7.5038,6,    25.00,-999.000,9,-999.000,-999.0000,9,-999.000,9, -999.00,5,  -242.7,2,     2.1,-999.000,9,-999.000,   36.24,2,   42.69,2, 2623.70,-999.0000,9,-999.0000,9,-999.0000,9,-999.0000,9,-999.0000,9,-999.0000,9,     -999.0,     -999.0,9,     -999.0,9,     -999.0,9,     -999.0,9,     -999.0,9,     -999.0,9, -999.00,9,   1.4765,-999.0000,-999.000