BOTTLE,20170720CCHSIOCBG
EXPOCODE,SECT_ID,STNNBR,CASTNO,SAMPNO,BTLNBR,BTLNBR_FLAG_W,DATE,TIME,LATITUDE,LONGITUDE,DEPTH,CTDPRS,CTDTMP,CTDSAL,CTDSAL_FLAG_W,SALNTY,SALNTY_FLAG_W,CTDOXY,CTDOXY_FLAG_W,OXYGEN,OXYGEN_FLAG_W,SILCAT,SILCAT_FLAG_W,NITRAT,NITRAT_FLAG_W,NITRIT,NITRIT_FLAG_W,PHSPHT,PHSPHT_FLAG_W,CFC-11,CFC-11_FLAG_W,CFC-12,CFC-12_FLAG_W,CFC113,CFC113_FLAG_W,TCARBN,TCARBN_FLAG_W,ALKALI,ALKALI_FLAG_W,FCO2,FCO2_FLAG_W,FCO2TMP,PH_TOT,PH_TOT_FLAG_W,PH_TMP,TRITUM,TRITUM_FLAG_W,TRITER,HELIUM,HELIUM_FLAG_W,DELHE3,DELHE3_FLAG_W,DELC13,DELC13_FLAG_W,DELC14,DELC14_FLAG_W,C14ERR,NEON,NEON_FLAG_W,NEONER,DOC,DOC_FLAG_W,TDN,TDN_FLAG_W,CTDRAW,CDOM325,CDOM325_FLAG_W,CDOM340,CDOM340_FLAG_W,CDOM380,CDOM380_FLAG_W,CDOM412,CDOM412_FLAG_W,CDOMSL,CDOMSL_FLAG_W,CDOMSN,CDOMSN_FLAG_W,DCNS,ARABI,ARABI_FLAG_W,FUCO,FUCO_FLAG_W,GALA,GALA_FLAG_W,GLUC,GLUC_FLAG_W,MAN,MAN_FLAG_W,RHAM,RHAM_FLAG_W,BRDU,BRDU_FLAG_W,THETA,HELIER,DELHER
,,,,,,,,,,,METERS,DBAR,ITS-90,PSS-78,,PSS-78,,UMOL/KG,,UMOL/KG,,UMOL/KG,,UMOL/KG,,UMOL/KG,,UMOL/KG,,PMOL/KG,,PMOL/KG,,PMOL/KG,,UMOL/KG,,UMOL/KG,,UATM,,DEG C,,,DEG C,TU,,TU,NMOL/KG,,PERCNT,,/MILLE,,/MILLE,,/MILLE,NMOL/KG,,NMOL/KG,UMOL/KG,,UMOL/KG,,DBAR,1/M,,1/M,,1/M,,1/M,,1/NM,,1/NM,,NMOL/KG,NMOL/KG,,NMOL/KG,,NMOL/KG,,NMOL/KG,,NMOL/KG,,NMOL/KG,,PMOL/L/H,,DEG C,NMOL/KG,PERCNT
325020060213,       P16N,      16,          1,          8,          8,4,20060220,       1155,         -2,       -151,       4712,  2875.8,   1.7224,  34.6756,2,  34.5982,4,    135.9,2,    99.4,4,  110.40,4,   39.50,4,    0.00,4,    2.76,4,-999.000,9,-999.000,9,-999.000,9,  2316.4,4,  -999.0,5,   1415.9,4,    20.00,-999.0000,9,  -999.00,-999.000,9,-999.000,-999.0000,9,-999.000,9, -999.00,9,  -999.0,9,    -9.0,-999.000,9,-999.000,   36.85,2,   43.34,2, 2875.80,-999.0000,9,-999.0000,9,-999.0000,9,-999.0000,9,-999.0000,9,-999.0000,9,     -999.0,     -999.0,9,     -999.0,9,     -999.0,9,     -999.0,9,     -999.0,9,     -999.0,9, -999.00,9,   1.5125,-999.0000,-999.000
325020060213,       P16N,      16,          1,          7,          7,2,20060220,       1155,         -2,       -151,       4712,  3126.3,   1.6178,  34.6812,2,  34.6792,2,    142.1,2,   142.4,2,  142.50,2,   37.10,2,    0.00,2,    2.58,2,   0.001,2,  -0.001,2,-999.000,5,  2327.2,2,  -999.0,5,   -999.0,9,  -999.00,-999.0000,9,  -999.00,-999.000,9,-999.000,-999.0000,9,-999.000,9, -999.00,9,  -999.0,9,    -9.0,-999.000,9,-999.000,   37.56,2,   40.96,2, 3126.30,-999.0000,9,-999.0000,9,-999.0000,9,-999.0000,9,-999.0000,9,-999.0000,9,     -999.0,     -999.0,9,     -999.0,9,     -999.0,9,     -999.0,9,     -999.0,9,     -999.0,9, -999.00,9,   1.3861,-999.0000,-999.000
325020060213,       P16N,      16,          1,          6,          6,2,20060220,       1155,         -2,       -151,       4712,  3448.7,   1.5161,  34.6890,2,  34.6898,2,    149.2,2,   149.0,2,  143.90,2,   36.80,2,    0.00,2,    2.55,2,-999.000,9,-999.000,9,-999.000,9,  2324.9,2,  2451.3,3,   1164.2,2,    20.00,   7.5825,2,    25.00,-999.000,9,-999.000,-999.0000,9,-999.000,9, -999.00,9,  -999.0,9,    -9.0,-999.000,9,-999.000,   39.41,2,   40.84,2, 3448.70,-999.0000,9,-999.0000,9,-999.0000,9,-999.0000,9,-999.0000,9,-999.0000,9,     -999.0,     -999.0,9,     -999.0,9,     -999.0,9,     -999.0,9,     -999.0,9,     -999.0,9, -999.00,9,   1.2547,-999.0000,-999.000
325020060213,       P16N,      16,          1,          5,          5,2,20060220,       1155,         -2,       -151,       4712,  3850.4,   1.4175,  34.6969,2,  34.6959,2,    160.0,2,   160.2,2,  142.50,6,   35.90,6,    0.00,6,    2.49,6,-999.000,9,-999.000,9,-999.000,9,  2318.3,2,  2426.6,2,   -999.0,9,  -999.00,   7.6002,2,    25.00,-999.000,9,-999.000,-999.0000,9,-999.000,9, -999.00,9,  -999.0,9,    -9.0,-999.000,9,-999.000,   39.64,2,   39.29,2, 3850.40,-999.0000,9,-999.0000,9,-999.0000,9,-999.0000,9,-999.0000,9,-999.0000,9,     -999.0,     -999.0,9,     -999.0,9,     -999.0,9,     -999.0,9,     -999.0,9,     -999.0,9, -999.00,9,   1.1169,-999.0000,-999.000
325020060213,       P16N,      16,          1,          4,          4,2,20060220,       1155,         -2,       -151,       4712,  4301.2,   1.3882,  34.7009,2,  34.6990,2,    169.1,2,   168.7,2,  136.80,6,   35.30,6,    0.00,6,    2.43,6,-999.000,9,-999.000,9,-999.000,9,  2308.8,2,  2416.0,2,   1081.5,2,    20.00,   7.6073,2,    25.00,-999.000,9,-999.000,-999.0000,9,-999.000,9, -999.00,9,  -999.0,9,    -9.0,-999.000,9,-999.000,   39.68,2,   39.01,2, 4301.20,-999.0000,9,-999.0000,9,-999.0000,9,-999.0000,9,-999.0000,9,-999.0000,9,     -999.0,     -999.0,9,     -999.0,9,     -999.0,9,     -999.0,9,     -999.0,9,     -999.0,9, -999.00,9,   1.0392,-999.0000,-999.000
325020060213,       P16N,      16,          1,          3,          3,2,20060220,       1155,         -2,       -151,       4712,  4498.6,   1.3417,  34.7044,2,  34.7056,2,    182.2,2,   181.8,2,  127.90,6,   34.30,6,    0.00,6,    2.36,6,-999.000,9,-999.000,9,-999.000,9,  2290.2,2,  2399.6,2,   1072.9,2,    20.00,   7.6122,2,    25.00,-999.000,9,-999.000,-999.0000,9,-999.000,9, -999.00,9,  -999.0,9,    -9.0,-999.000,9,-999.000,   39.41,2,   38.16,2, 4498.60,-999.0000,9,-999.0000,9,-999.0000,9,-999.0000,9,-999.0000,9,-999.0000,9,     -999.0,     -999.0,9,     -999.0,9,     -999.0,9,     -999.0,9,     -999.0,9,     -999.0,9, -999.00,9,   0.9717,-999.0000,-999.000
325020060213,       P16N,      16,          1,          1,          1,2,20060220,       1155,         -2,       -151,       4712,  4829.2,   1.3405,  34.7059,2,  34.7067,2,    185.7,2,   183.5,2,  127.30,2,   34.30,2,    0.00,2,    2.36,2,   0.000,2,   0.000,2,-999.000,5,  2288.5,6,  2397.8,2,   1063.4,2,    20.00,   7.6111,2,    25.00,-999.000,9,-999.000,-999.0000,9,-999.000,9, -999.00,9,  -999.0,9,    -9.0,-999.000,9,-999.000,   39.54,2,   37.94,2, 4829.20,-999.0000,9,-999.0000,9,-999.0000,9,-999.0000,9,-999.0000,9,-999.0000,9,     -999.0,     -999.0,9,     -999.0,9,     -999.0,9,     -999.0,9,     -999.0,9,     -999.0,9, -999.00,9,   0.9319,-999.0000,-999.000