BOTTLE,20170720CCHSIOCBG
EXPOCODE,SECT_ID,STNNBR,CASTNO,SAMPNO,BTLNBR,BTLNBR_FLAG_W,DATE,TIME,LATITUDE,LONGITUDE,DEPTH,CTDPRS,CTDTMP,CTDSAL,CTDSAL_FLAG_W,SALNTY,SALNTY_FLAG_W,CTDOXY,CTDOXY_FLAG_W,OXYGEN,OXYGEN_FLAG_W,SILCAT,SILCAT_FLAG_W,NITRAT,NITRAT_FLAG_W,NITRIT,NITRIT_FLAG_W,PHSPHT,PHSPHT_FLAG_W,CFC-11,CFC-11_FLAG_W,CFC-12,CFC-12_FLAG_W,CFC113,CFC113_FLAG_W,TCARBN,TCARBN_FLAG_W,ALKALI,ALKALI_FLAG_W,FCO2,FCO2_FLAG_W,FCO2TMP,PH_TOT,PH_TOT_FLAG_W,PH_TMP,TRITUM,TRITUM_FLAG_W,TRITER,HELIUM,HELIUM_FLAG_W,DELHE3,DELHE3_FLAG_W,DELC13,DELC13_FLAG_W,DELC14,DELC14_FLAG_W,C14ERR,NEON,NEON_FLAG_W,NEONER,DOC,DOC_FLAG_W,TDN,TDN_FLAG_W,CTDRAW,CDOM325,CDOM325_FLAG_W,CDOM340,CDOM340_FLAG_W,CDOM380,CDOM380_FLAG_W,CDOM412,CDOM412_FLAG_W,CDOMSL,CDOMSL_FLAG_W,CDOMSN,CDOMSN_FLAG_W,DCNS,ARABI,ARABI_FLAG_W,FUCO,FUCO_FLAG_W,GALA,GALA_FLAG_W,GLUC,GLUC_FLAG_W,MAN,MAN_FLAG_W,RHAM,RHAM_FLAG_W,BRDU,BRDU_FLAG_W,THETA,HELIER,DELHER
,,,,,,,,,,,METERS,DBAR,ITS-90,PSS-78,,PSS-78,,UMOL/KG,,UMOL/KG,,UMOL/KG,,UMOL/KG,,UMOL/KG,,UMOL/KG,,PMOL/KG,,PMOL/KG,,PMOL/KG,,UMOL/KG,,UMOL/KG,,UATM,,DEG C,,,DEG C,TU,,TU,NMOL/KG,,PERCNT,,/MILLE,,/MILLE,,/MILLE,NMOL/KG,,NMOL/KG,UMOL/KG,,UMOL/KG,,DBAR,1/M,,1/M,,1/M,,1/M,,1/NM,,1/NM,,NMOL/KG,NMOL/KG,,NMOL/KG,,NMOL/KG,,NMOL/KG,,NMOL/KG,,NMOL/KG,,PMOL/L/H,,DEG C,NMOL/KG,PERCNT
325020060213,       P16N,      72,          1,         36,         36,2,20060326,       1159,    50.9998,  -151.9998,       4951,     5.5,   4.5898,  32.6705,2,  32.6726,2,    312.3,2,   316.8,2,   23.00,2,   12.90,2,    0.10,2,    1.32,2,   4.937,2,   2.703,2,-999.000,5,  2058.3,2,  2200.3,2,   -999.0,9,  -999.00,   7.7518,6,    25.00,-999.000,9,-999.000,-999.0000,9,-999.000,9, -999.00,5,   -90.4,3,     3.2,-999.000,9,-999.000,   56.76,2,   17.15,2,    5.50,   0.1400,2,   0.0940,2,   0.0360,2,   0.0160,2,   0.0248,2,   0.0257,2,     -999.0,     -999.0,9,     -999.0,9,     -999.0,9,     -999.0,9,     -999.0,9,     -999.0,9,    4.50,2,   4.5894,-999.0000,-999.000
325020060213,       P16N,      72,          1,         35,         35,2,20060326,       1159,    50.9998,  -151.9998,       4951,    16.2,   4.5904,  32.6706,2,  32.6754,2,    312.2,2,   316.7,2,   23.10,2,   12.90,2,    0.10,2,    1.32,2,   4.937,2,   2.712,2,-999.000,5,  2058.8,2,  2200.2,2,   -999.0,9,  -999.00,   7.7520,2,    25.00,-999.000,9,-999.000,-999.0000,9,-999.000,9, -999.00,9,  -999.0,9,    -9.0,-999.000,9,-999.000,   56.68,2,   17.25,2,   16.20,   0.1400,2,   0.0940,2,   0.0360,2,   0.0170,2,   0.0248,2,   0.0258,2,     -999.0,     -999.0,9,     -999.0,9,     -999.0,9,     -999.0,9,     -999.0,9,     -999.0,9,   21.09,2,   4.5893,-999.0000,-999.000
325020060213,       P16N,      72,          1,         34,         34,2,20060326,       1159,    50.9998,  -151.9998,       4951,    34.7,   4.5899,  32.6707,2,  32.6723,2,    312.3,2,   315.2,2,   23.30,2,   13.10,2,    0.10,2,    1.33,2,   4.905,2,   2.712,2,-999.000,5,  2059.9,2,  2206.8,2,   -999.0,9,  -999.00,   7.7521,2,    25.00,-999.000,9,-999.000,-999.0000,9,-999.000,9, -999.00,5,   -31.4,2,     3.2,-999.000,9,-999.000,   55.80,2,   17.46,2,   34.70,   0.1400,2,   0.0940,2,   0.0360,2,   0.0170,2,   0.0249,2,   0.0258,2,     -999.0,     -999.0,9,     -999.0,9,     -999.0,9,     -999.0,9,     -999.0,9,     -999.0,9,   11.68,2,   4.5874,-999.0000,-999.000
325020060213,       P16N,      72,          1,         33,         33,2,20060326,       1159,    50.9998,  -151.9998,       4951,    61.2,   4.5687,  32.6721,2,  32.6739,2,    311.0,2,   313.9,2,   23.40,2,   13.10,2,    0.10,2,    1.34,2,   4.904,2,   2.707,2,-999.000,5,  2059.9,2,  2205.8,2,   -999.0,9,  -999.00,   7.7484,2,    25.00,-999.000,9,-999.000,-999.0000,9,-999.000,9, -999.00,9,  -999.0,9,    -9.0,-999.000,9,-999.000,   55.33,2,   16.91,2,   61.20,   0.1380,2,   0.0920,2,   0.0350,2,   0.0170,2,   0.0248,2,   0.0258,2,     -999.0,     -999.0,9,     -999.0,9,     -999.0,9,     -999.0,9,     -999.0,9,     -999.0,9,   11.74,2,   4.5645,-999.0000,-999.000
325020060213,       P16N,      72,          1,         32,         32,2,20060326,       1159,    50.9998,  -151.9998,       4951,    85.3,   4.5517,  32.6730,2,  32.6796,2,    310.0,2,   313.7,2,   23.70,2,   13.50,2,    0.10,2,    1.34,2,   4.914,2,   2.716,2,-999.000,5,  2060.6,2,  2201.1,2,   -999.0,9,  -999.00,   7.7469,2,    25.00,-999.000,9,-999.000,-999.0000,9,-999.000,9, -999.00,5,    -5.1,2,     3.3,-999.000,9,-999.000,   55.03,2,   18.24,2,   85.30,   0.1410,2,   0.0950,2,   0.0370,2,   0.0190,2,   0.0239,2,   0.0250,2,     -999.0,     -999.0,9,     -999.0,9,     -999.0,9,     -999.0,9,     -999.0,9,     -999.0,9,    9.17,2,   4.5457,-999.0000,-999.000
325020060213,       P16N,      72,          1,         31,         31,2,20060326,       1159,    50.9998,  -151.9998,       4951,   111.0,   4.3378,  33.3514,2,  33.3602,2,    205.3,2,   198.7,2,   46.10,2,   26.90,2,    0.00,2,    2.04,2,   4.140,2,   2.190,2,-999.000,5,  2175.2,2,  2245.6,2,   -999.0,9,  -999.00,   7.5286,2,    25.00,-999.000,9,-999.000,-999.0000,9,-999.000,9, -999.00,5,    -9.0,2,     3.3,-999.000,9,-999.000,   51.15,2,   31.48,2,  111.00,   0.1660,2,   0.1150,2,   0.0520,2,   0.0310,2,   0.0192,2,   0.0211,2,     -999.0,     -999.0,9,     -999.0,9,     -999.0,9,     -999.0,9,     -999.0,9,     -999.0,9,    2.78,2,   4.3301,-999.0000,-999.000
325020060213,       P16N,      72,          1,         30,         30,2,20060326,       1159,    50.9998,  -151.9998,       4951,   134.7,   4.0883,  33.6795,2,  33.6896,2,    138.6,2,   139.8,2,   60.50,2,   32.90,2,    0.00,2,    2.38,2,   3.523,2,   1.817,2,-999.000,5,  2233.6,2,  2275.6,2,   -999.0,9,  -999.00,   7.4222,2,    25.00,-999.000,9,-999.000,-999.0000,9,-999.000,9, -999.00,9,  -999.0,9,    -9.0,-999.000,9,-999.000,   50.59,2,   36.73,2,  134.70,   0.1870,2,   0.1330,2,   0.0640,2,   0.0410,2,   0.0172,2,   0.0188,2,     -999.0,     -999.0,9,     -999.0,9,     -999.0,9,     -999.0,9,     -999.0,9,     -999.0,9,    1.55,2,   4.0791,-999.0000,-999.000
325020060213,       P16N,      72,          1,         29,         29,2,20060326,       1159,    50.9998,  -151.9998,       4951,   175.8,   3.9478,  33.7862,2,  33.7902,2,     91.8,2,    94.0,2,   72.80,2,   37.30,2,    0.00,2,    2.64,2,   2.871,2,   1.443,2,-999.000,5,  2269.3,2,  2288.6,6,   -999.0,9,  -999.00,   7.3403,2,    25.00,-999.000,9,-999.000,-999.0000,9,-999.000,9, -999.00,5,   -17.1,2,     3.1,-999.000,9,-999.000,   48.07,2,   41.58,2,  175.80,   0.1960,2,   0.1400,2,   0.0700,2,   0.0460,2,   0.0163,2,   0.0179,2,     -999.0,     -999.0,9,     -999.0,9,     -999.0,9,     -999.0,9,     -999.0,9,     -999.0,9,    1.12,2,   3.9359,-999.0000,-999.000
325020060213,       P16N,      72,          1,         28,         28,2,20060326,       1159,    50.9998,  -151.9998,       4951,   202.0,   3.9518,  33.8296,2,  33.8364,2,     76.5,2,    73.4,2,   78.30,6,   39.20,6,    0.00,6,    2.73,6,   2.578,2,   1.298,2,-999.000,5,  2286.8,2,  2288.5,2,   -999.0,9,  -999.00,   7.3038,2,    25.00,-999.000,9,-999.000,-999.0000,9,-999.000,9, -999.00,5,   -83.7,2,     3.0,-999.000,9,-999.000,   48.07,2,   43.74,2,  202.00,   0.1990,2,   0.1430,2,   0.0730,2,   0.0490,2,   0.0159,2,   0.0173,2,     -999.0,     -999.0,9,     -999.0,9,     -999.0,9,     -999.0,9,     -999.0,9,     -999.0,9, -999.00,9,   3.9381,-999.0000,-999.000
325020060213,       P16N,      72,          1,         27,         27,2,20060326,       1159,    50.9998,  -151.9998,       4951,   225.8,   3.9296,  33.8560,2,  33.8341,2,     66.6,2,    74.2,3,   78.20,6,   39.30,6,    0.00,6,    2.73,6,   2.579,2,   1.293,2,-999.000,5,  2286.0,2,  2288.9,2,   -999.0,9,  -999.00,   7.3048,3,    25.00,-999.000,9,-999.000,-999.0000,9,-999.000,9, -999.00,5,   -77.6,2,     3.0,-999.000,9,-999.000,   47.59,2,   43.80,2,  225.80,   0.2010,2,   0.1440,2,   0.0740,2,   0.0500,2,   0.0157,2,   0.0172,2,     -999.0,     -999.0,9,     -999.0,9,     -999.0,9,     -999.0,9,     -999.0,9,     -999.0,9, -999.00,9,   3.9143,-999.0000,-999.000
325020060213,       P16N,      72,          1,         26,         26,2,20060326,       1159,    50.9998,  -151.9998,       4951,   275.7,   3.9826,  33.9419,2,  33.9436,2,     46.0,2,    44.0,2,   88.60,2,   41.50,2,    0.00,2,    2.90,2,   1.918,2,   0.924,2,-999.000,5,  2310.6,2,  2302.3,2,   -999.0,9,  -999.00,   7.2686,2,    25.00,-999.000,9,-999.000,-999.0000,9,-999.000,9, -999.00,5,  -106.6,2,     2.5,-999.000,9,-999.000,   45.99,2,   45.83,2,  275.70,   0.2010,2,   0.1450,2,   0.0760,2,   0.0520,2,   0.0152,2,   0.0166,2,    526.841,    38.2579,2,    74.0577,2,    123.057,2,    158.714,2,    89.0407,2,    43.7136,2, -999.00,9,   3.9636,-999.0000,-999.000
325020060213,       P16N,      72,          1,         25,         25,2,20060326,       1159,    50.9998,  -151.9998,       4951,   326.1,   3.8819,  34.0064,2,  34.0089,2,     29.7,2,    31.0,2,   95.90,2,   42.80,2,    0.00,2,    3.00,2,   1.511,2,   0.725,2,-999.000,5,  2325.6,2,  2311.0,2,   -999.0,9,  -999.00,   7.2591,2,    25.00,-999.000,9,-999.000,-999.0000,9,-999.000,9, -999.00,5,  -121.1,2,     2.4,-999.000,9,-999.000,   45.30,2,   47.20,2,  326.10,   0.2010,2,   0.1450,2,   0.0770,2,   0.0540,2,   0.0149,2,   0.0163,2,     -999.0,     -999.0,9,     -999.0,9,     -999.0,9,     -999.0,9,     -999.0,9,     -999.0,9, -999.00,9,   3.8594,-999.0000,-999.000
325020060213,       P16N,      72,          1,         24,         24,2,20060326,       1159,    50.9998,  -151.9998,       4951,   375.9,   3.8074,  34.0497,2,  34.0524,2,     27.3,2,    26.9,2,  101.70,2,   42.90,2,    0.00,2,    3.03,2,   1.227,2,   0.608,2,-999.000,5,  2331.0,2,  2319.4,2,   -999.0,9,  -999.00,   7.2569,2,    25.00,-999.000,9,-999.000,-999.0000,9,-999.000,9, -999.00,5,  -123.6,2,     2.7,-999.000,9,-999.000,   43.94,2,   47.01,2,  375.90,   0.2000,2,   0.1440,2,   0.0760,2,   0.0540,2,   0.0147,2,   0.0161,2,     -999.0,     -999.0,9,     -999.0,9,     -999.0,9,     -999.0,9,     -999.0,9,     -999.0,9, -999.00,9,   3.7816,-999.0000,-999.000
325020060213,       P16N,      72,          1,         23,         23,2,20060326,       1159,    50.9998,  -151.9998,       4951,   424.8,   3.7208,  34.0911,2,  34.0901,2,     24.0,2,    23.3,2,  106.30,2,   43.20,2,    0.00,2,    3.06,2,   1.000,2,   0.476,2,-999.000,5,  2339.2,2,  2325.5,2,   -999.0,9,  -999.00,   7.2591,2,    25.00,-999.000,9,-999.000,-999.0000,9,-999.000,9, -999.00,5,  -137.8,2,     2.9,-999.000,9,-999.000,   42.93,2,   47.50,2,  424.80,   0.1980,2,   0.1430,2,   0.0760,2,   0.0540,2,   0.0146,2,   0.0161,2,     -999.0,     -999.0,9,     -999.0,9,     -999.0,9,     -999.0,9,     -999.0,9,     -999.0,9, -999.00,9,   3.6917,-999.0000,-999.000
325020060213,       P16N,      72,          1,         22,         22,2,20060326,       1159,    50.9998,  -151.9998,       4951,   475.9,   3.6331,  34.1326,2,  34.1327,2,     21.4,2,    20.6,2,  111.20,2,   43.30,2,    0.00,2,    3.06,2,   0.794,6,   0.378,6,-999.000,5,  2343.9,2,  2338.2,2,   -999.0,9,  -999.00,   7.2652,2,    25.00,-999.000,9,-999.000,-999.0000,9,-999.000,9, -999.00,5,  -145.2,2,     2.8,-999.000,9,-999.000,   41.12,2,   46.85,2,  475.90,   0.1960,2,   0.1410,2,   0.0760,2,   0.0540,2,   0.0144,2,   0.0159,2,     -999.0,     -999.0,9,     -999.0,9,     -999.0,9,     -999.0,9,     -999.0,9,     -999.0,9, -999.00,9,   3.6006,-999.0000,-999.000
325020060213,       P16N,      72,          1,         21,         21,2,20060326,       1159,    50.9998,  -151.9998,       4951,   551.5,   3.5063,  34.1883,2,  34.1895,2,     20.0,2,    20.0,2,  118.20,2,   43.30,2,    0.00,2,    3.08,2,   0.550,2,   0.275,2,-999.000,5,  2351.6,2,  2347.3,2,   -999.0,9,  -999.00,   7.2715,2,    25.00,-999.000,9,-999.000,-999.0000,9,-999.000,9, -999.00,5,  -164.7,2,     2.9,-999.000,9,-999.000,   40.10,2,   47.51,2,  551.50,   0.1930,2,   0.1390,2,   0.0760,2,   0.0550,2,   0.0141,2,   0.0155,3,     -999.0,     -999.0,9,     -999.0,9,     -999.0,9,     -999.0,9,     -999.0,9,     -999.0,9, -999.00,9,   3.4689,-999.0000,-999.000
325020060213,       P16N,      72,          1,         20,         20,2,20060326,       1159,    50.9998,  -151.9998,       4951,   649.5,   3.3448,  34.2489,2,  34.2537,2,     19.8,2,    19.2,2,  125.60,2,   43.30,2,    0.00,2,    3.09,2,   0.359,2,   0.174,2,-999.000,5,  2359.1,2,  2353.5,2,   -999.0,9,  -999.00,   7.2827,2,    25.00,-999.000,9,-999.000,-999.0000,9,-999.000,9, -999.00,5,  -178.3,2,     2.5,-999.000,9,-999.000,   39.73,2,   47.90,2,  649.50,   0.1890,2,   0.1360,2,   0.0730,2,   0.0530,2,   0.0141,2,   0.0157,3,     -999.0,     -999.0,9,     -999.0,9,     -999.0,9,     -999.0,9,     -999.0,9,     -999.0,9, -999.00,9,   3.3010,-999.0000,-999.000
325020060213,       P16N,      72,          1,         19,         19,2,20060326,       1159,    50.9998,  -151.9998,       4951,   750.7,   3.1999,  34.3006,2,  34.3012,2,     20.1,2,    19.9,2,  131.20,2,   43.10,2,    0.00,2,    3.11,2,   0.212,2,   0.101,2,-999.000,5,  2364.0,2,  2362.6,2,   -999.0,9,  -999.00,   7.2944,2,    25.00,-999.000,9,-999.000,-999.0000,9,-999.000,9, -999.00,5,  -184.7,2,     2.8,-999.000,9,-999.000,   38.79,2,   47.22,2,  750.70,   0.1870,2,   0.1350,2,   0.0740,2,   0.0530,2,   0.0138,2,   0.0153,3,     -999.0,     -999.0,9,     -999.0,9,     -999.0,9,     -999.0,9,     -999.0,9,     -999.0,9, -999.00,9,   3.1495,-999.0000,-999.000
325020060213,       P16N,      72,          1,         18,         18,2,20060326,       1159,    50.9998,  -151.9998,       4951,   849.3,   3.0182,  34.3446,2,  34.3464,2,     19.9,2,    19.6,2,  137.70,2,   43.50,2,    0.00,2,    3.12,2,   0.136,2,   0.072,2,-999.000,5,  2369.4,2,  2373.4,6,   -999.0,9,  -999.00,   7.2981,6,    25.00,-999.000,9,-999.000,-999.0000,9,-999.000,9, -999.00,9,  -999.0,9,    -9.0,-999.000,9,-999.000,   37.94,2,   46.82,2,  849.30,   0.1840,2,   0.1320,2,   0.0720,2,   0.0530,2,   0.0138,2,   0.0153,3,     -999.0,     -999.0,9,     -999.0,9,     -999.0,9,     -999.0,9,     -999.0,9,     -999.0,9, -999.00,9,   2.9616,-999.0000,-999.000
325020060213,       P16N,      72,          1,         17,         17,2,20060326,       1159,    50.9998,  -151.9998,       4951,   950.0,   2.8808,  34.3805,2,  34.3811,2,     19.7,2,    19.2,2,  142.10,2,   43.50,2,    0.00,2,    3.12,2,   0.075,2,   0.045,2,-999.000,5,  2376.0,6,  2382.9,2,   -999.0,9,  -999.00,   7.3051,3,    25.00,-999.000,9,-999.000,-999.0000,9,-999.000,9, -999.00,5,  -202.7,2,     2.7,-999.000,9,-999.000,   37.35,2,   47.63,2,  950.00,   0.1810,2,   0.1300,2,   0.0710,2,   0.0510,2,   0.0138,2,   0.0154,3,     -999.0,     -999.0,9,     -999.0,9,     -999.0,9,     -999.0,9,     -999.0,9,     -999.0,9, -999.00,9,   2.8178,-999.0000,-999.000
325020060213,       P16N,      72,          1,         16,         16,2,20060326,       1159,    50.9998,  -151.9998,       4951,  1100.0,   2.6800,  34.4256,2,  34.4267,2,     20.6,2,    18.6,2,  149.50,2,   43.80,2,    0.00,2,    3.15,2,   0.032,2,   0.021,2,-999.000,5,  2382.6,2,  2391.6,2,   -999.0,9,  -999.00,   7.3050,2,    25.00,-999.000,9,-999.000,-999.0000,9,-999.000,9, -999.00,5,  -211.8,2,     2.5,-999.000,9,-999.000,   37.36,2,   47.92,2, 1100.00,   0.1790,2,   0.1280,2,   0.0700,2,   0.0510,2,   0.0135,3,   0.0152,3,     -999.0,     -999.0,9,     -999.0,9,     -999.0,9,     -999.0,9,     -999.0,9,     -999.0,9, -999.00,9,   2.6073,-999.0000,-999.000
325020060213,       P16N,      72,          1,         15,         15,4,20060326,       1159,    50.9998,  -151.9998,       4951,  1298.5,   2.4526,  34.4733,2,  34.4735,2,     23.7,2,    23.1,2,  156.30,4,   43.50,4,    0.00,4,    3.12,4,-999.000,9,-999.000,9,-999.000,9,  2387.5,2,  2401.4,2,   -999.0,9,  -999.00,   7.3224,2,    25.00,-999.000,9,-999.000,-999.0000,9,-999.000,9, -999.00,5,  -224.8,2,     2.2,-999.000,9,-999.000,   37.09,2,   47.11,2, 1298.50,   0.1760,2,   0.1250,2,   0.0690,2,   0.0510,2,   0.0134,3,   0.0152,3,     -999.0,     -999.0,9,     -999.0,9,     -999.0,9,     -999.0,9,     -999.0,9,     -999.0,9, -999.00,9,   2.3670,-999.0000,-999.000
325020060213,       P16N,      72,          1,         14,         14,4,20060326,       1159,    50.9998,  -151.9998,       4951,  1499.6,   2.2607,  34.5168,2,  34.5179,2,     28.8,2,    28.3,2,  161.90,4,   43.40,4,    0.00,4,    3.11,4,-999.000,9,-999.000,9,-999.000,9,  2390.5,2,  2404.0,2,   -999.0,9,  -999.00,   7.3333,2,    25.00,-999.000,9,-999.000,-999.0000,9,-999.000,9, -999.00,5,  -233.0,2,     2.2,-999.000,9,-999.000,   36.85,2,   47.03,2, 1499.60,   0.1750,2,   0.1250,2,   0.0680,2,   0.0500,2,   0.0135,3,   0.0153,3,     -999.0,     -999.0,9,     -999.0,9,     -999.0,9,     -999.0,9,     -999.0,9,     -999.0,9, -999.00,9,   2.1615,-999.0000,-999.000
325020060213,       P16N,      72,          1,         13,         13,4,20060326,       1159,    50.9998,  -151.9998,       4951,  1697.5,   2.1089,  34.5514,2,  34.4726,4,     36.8,2,    23.4,4,  156.10,4,   43.60,4,    0.00,4,    3.13,4,   0.033,3,   0.015,4,-999.000,5,  2387.8,2,  2394.7,3,   -999.0,9,  -999.00,   7.3201,3,    25.00,-999.000,9,-999.000,-999.0000,9,-999.000,9, -999.00,5,  -223.1,4,     1.8,-999.000,9,-999.000,   37.08,2,   47.33,2, 1697.50,   0.1800,2,   0.1290,2,   0.0710,2,   0.0530,2,   0.0132,4,   0.0149,4,     -999.0,     -999.0,9,     -999.0,9,     -999.0,9,     -999.0,9,     -999.0,9,     -999.0,9, -999.00,9,   1.9959,-999.0000,-999.000
325020060213,       P16N,      72,          1,         12,         12,2,20060326,       1159,    50.9998,  -151.9998,       4951,  1898.4,   1.9876,  34.5780,2,  34.5796,2,     46.5,2,    46.6,2,  168.30,2,   42.20,2,    0.00,2,    3.05,2,-999.000,9,-999.000,9,-999.000,9,  2388.5,2,  2413.5,2,   -999.0,9,  -999.00,   7.3731,2,    25.00,-999.000,9,-999.000,-999.0000,9,-999.000,9, -999.00,5,  -237.7,2,     1.9,-999.000,9,-999.000,   36.80,2,   45.85,2, 1898.40,   0.1640,2,   0.1160,2,   0.0630,2,   0.0460,2,   0.0135,3,   0.0155,3,     -999.0,     -999.0,9,     -999.0,9,     -999.0,9,     -999.0,9,     -999.0,9,     -999.0,9, -999.00,9,   1.8599,-999.0000,-999.000
325020060213,       P16N,      72,          1,         11,         11,2,20060326,       1159,    50.9998,  -151.9998,       4951,  2122.1,   1.8850,  34.5994,2,  34.5995,2,     58.0,2,    58.0,2,  169.30,2,   41.60,2,    0.00,2,    2.99,2,-999.000,9,-999.000,9,-999.000,9,  2384.2,2,  -999.0,5,   -999.0,9,  -999.00,   7.3981,2,    25.00,-999.000,9,-999.000,-999.0000,9,-999.000,9, -999.00,5,  -240.4,2,     2.6,-999.000,9,-999.000,   36.56,2,   45.06,2, 2122.10,   0.1640,2,   0.1150,2,   0.0620,2,   0.0460,2,   0.0134,3,   0.0156,3,     -999.0,     -999.0,9,     -999.0,9,     -999.0,9,     -999.0,9,     -999.0,9,     -999.0,9, -999.00,9,   1.7401,-999.0000,-999.000
325020060213,       P16N,      72,          1,         10,         10,2,20060326,       1159,    50.9998,  -151.9998,       4951,  2375.4,   1.7683,  34.6219,2,  34.6219,2,     73.0,2,    73.0,2,  169.70,2,   40.40,2,    0.00,2,    2.93,2,   0.001,2,   0.003,2,-999.000,5,  2376.6,2,  2420.9,2,   -999.0,9,  -999.00,   7.4270,2,    25.00,-999.000,9,-999.000,-999.0000,9,-999.000,9, -999.00,5,  -243.0,2,     2.1,-999.000,9,-999.000,   36.11,2,   43.93,2, 2375.40,   0.1530,2,   0.1060,2,   0.0570,2,   0.0420,2,   0.0138,3,   0.0161,3,     -999.0,     -999.0,9,     -999.0,9,     -999.0,9,     -999.0,9,     -999.0,9,     -999.0,9, -999.00,9,   1.6035,-999.0000,-999.000