BOTTLE,20170720CCHSIOCBG
EXPOCODE,SECT_ID,STNNBR,CASTNO,SAMPNO,BTLNBR,BTLNBR_FLAG_W,DATE,TIME,LATITUDE,LONGITUDE,DEPTH,CTDPRS,CTDTMP,CTDSAL,CTDSAL_FLAG_W,SALNTY,SALNTY_FLAG_W,CTDOXY,CTDOXY_FLAG_W,OXYGEN,OXYGEN_FLAG_W,SILCAT,SILCAT_FLAG_W,NITRAT,NITRAT_FLAG_W,NITRIT,NITRIT_FLAG_W,PHSPHT,PHSPHT_FLAG_W,CFC-11,CFC-11_FLAG_W,CFC-12,CFC-12_FLAG_W,CFC113,CFC113_FLAG_W,TCARBN,TCARBN_FLAG_W,ALKALI,ALKALI_FLAG_W,FCO2,FCO2_FLAG_W,FCO2TMP,PH_TOT,PH_TOT_FLAG_W,PH_TMP,TRITUM,TRITUM_FLAG_W,TRITER,HELIUM,HELIUM_FLAG_W,DELHE3,DELHE3_FLAG_W,DELC13,DELC13_FLAG_W,DELC14,DELC14_FLAG_W,C14ERR,NEON,NEON_FLAG_W,NEONER,DOC,DOC_FLAG_W,TDN,TDN_FLAG_W,CTDRAW,CDOM325,CDOM325_FLAG_W,CDOM340,CDOM340_FLAG_W,CDOM380,CDOM380_FLAG_W,CDOM412,CDOM412_FLAG_W,CDOMSL,CDOMSL_FLAG_W,CDOMSN,CDOMSN_FLAG_W,DCNS,ARABI,ARABI_FLAG_W,FUCO,FUCO_FLAG_W,GALA,GALA_FLAG_W,GLUC,GLUC_FLAG_W,MAN,MAN_FLAG_W,RHAM,RHAM_FLAG_W,BRDU,BRDU_FLAG_W,THETA,HELIER,DELHER
,,,,,,,,,,,METERS,DBAR,ITS-90,PSS-78,,PSS-78,,UMOL/KG,,UMOL/KG,,UMOL/KG,,UMOL/KG,,UMOL/KG,,UMOL/KG,,PMOL/KG,,PMOL/KG,,PMOL/KG,,UMOL/KG,,UMOL/KG,,UATM,,DEG C,,,DEG C,TU,,TU,NMOL/KG,,PERCNT,,/MILLE,,/MILLE,,/MILLE,NMOL/KG,,NMOL/KG,UMOL/KG,,UMOL/KG,,DBAR,1/M,,1/M,,1/M,,1/M,,1/NM,,1/NM,,NMOL/KG,NMOL/KG,,NMOL/KG,,NMOL/KG,,NMOL/KG,,NMOL/KG,,NMOL/KG,,PMOL/L/H,,DEG C,NMOL/KG,PERCNT
325020060213,       P16N,      30,          2,          8,          8,2,20060225,       1212,     8.0002,  -151.5002,       5102,  2874.8,   1.7561,  34.6758,2,  34.6743,2,    118.5,2,   118.4,2,  153.50,2,   38.40,2,    0.00,2,    2.68,2,-999.000,9,-999.000,9,-999.000,9,  2354.5,2,  2434.3,2,   -999.0,9,  -999.00,   7.5384,2,    25.00,-999.000,9,-999.000,-999.0000,9,-999.000,9, -999.00,9,  -999.0,9,    -9.0,-999.000,9,-999.000,   37.40,2,   42.24,2, 2874.80,-999.0000,9,-999.0000,9,-999.0000,9,-999.0000,9,-999.0000,9,-999.0000,9,     -999.0,     -999.0,9,     -999.0,9,     -999.0,9,     -999.0,9,     -999.0,9,     -999.0,9, -999.00,9,   1.5456,-999.0000,-999.000
325020060213,       P16N,      30,          2,          7,          7,2,20060225,       1212,     8.0002,  -151.5002,       5102,  3123.5,   1.6594,  34.6808,2,  34.6802,2,    126.9,2,   126.3,2,  153.60,2,   37.90,2,    0.00,2,    2.64,2,   0.000,2,  -0.001,2,-999.000,5,  2349.5,2,  2433.4,2,   -999.0,9,  -999.00,-999.0000,9,  -999.00,-999.000,9,-999.000,-999.0000,9,-999.000,9, -999.00,9,  -999.0,9,    -9.0,-999.000,9,-999.000,   37.43,2,   41.19,2, 3123.50,-999.0000,9,-999.0000,9,-999.0000,9,-999.0000,9,-999.0000,9,-999.0000,9,     -999.0,     -999.0,9,     -999.0,9,     -999.0,9,     -999.0,9,     -999.0,9,     -999.0,9, -999.00,9,   1.4271,-999.0000,-999.000
325020060213,       P16N,      30,          2,          6,          6,2,20060225,       1212,     8.0002,  -151.5002,       5102,  3451.3,   1.5355,  34.6874,2,  34.6865,2,    139.8,2,   139.8,2,  151.20,2,   37.10,2,    0.00,2,    2.58,2,-999.000,9,-999.000,9,-999.000,9,  2339.8,2,  2431.0,6,   -999.0,9,  -999.00,   7.5675,2,    25.00,-999.000,9,-999.000,-999.0000,9,-999.000,9, -999.00,9,  -999.0,9,    -9.0,-999.000,9,-999.000,   37.69,2,   40.49,2, 3451.30,-999.0000,9,-999.0000,9,-999.0000,9,-999.0000,9,-999.0000,9,-999.0000,9,     -999.0,     -999.0,9,     -999.0,9,     -999.0,9,     -999.0,9,     -999.0,9,     -999.0,9, -999.00,9,   1.2734,-999.0000,-999.000
325020060213,       P16N,      30,          2,          5,          5,2,20060225,       1212,     8.0002,  -151.5002,       5102,  3849.6,   1.4269,  34.6947,2,  34.6954,2,    156.5,2,   156.5,2,  143.70,6,   35.90,6,    0.00,6,    2.48,6,-999.000,9,-999.000,9,-999.000,9,  2323.7,2,  2423.6,2,   -999.0,9,  -999.00,   7.5814,2,    25.00,-999.000,9,-999.000,-999.0000,9,-999.000,9, -999.00,9,  -999.0,9,    -9.0,-999.000,9,-999.000,   38.96,2,   39.99,2, 3849.60,-999.0000,9,-999.0000,9,-999.0000,9,-999.0000,9,-999.0000,9,-999.0000,9,     -999.0,     -999.0,9,     -999.0,9,     -999.0,9,     -999.0,9,     -999.0,9,     -999.0,9, -999.00,9,   1.1261,-999.0000,-999.000
325020060213,       P16N,      30,          2,          4,          4,2,20060225,       1212,     8.0002,  -151.5002,       5102,  4298.8,   1.3713,  34.6997,2,  34.6985,2,    168.5,2,   170.1,2,  137.60,6,   35.10,6,    0.00,6,    2.42,6,   0.001,2,  -0.001,2,-999.000,5,  2311.7,2,  2413.3,2,   -999.0,9,  -999.00,   7.6030,2,    25.00,-999.000,9,-999.000,-999.0000,9,-999.000,9, -999.00,9,  -999.0,9,    -9.0,-999.000,9,-999.000,   37.81,2,   38.21,2, 4298.80,-999.0000,9,-999.0000,9,-999.0000,9,-999.0000,9,-999.0000,9,-999.0000,9,     -999.0,     -999.0,9,     -999.0,9,     -999.0,9,     -999.0,9,     -999.0,9,     -999.0,9, -999.00,9,   1.0230,-999.0000,-999.000
325020060213,       P16N,      30,          2,          3,          3,2,20060225,       1212,     8.0002,  -151.5002,       5102,  4799.0,   1.4016,  34.7008,2,  34.7003,2,    172.0,2,   171.0,2,  135.80,6,   34.80,6,    0.00,6,    2.40,6,-999.000,9,-999.000,9,-999.000,9,  2307.9,2,  2408.7,2,   -999.0,9,  -999.00,   7.6021,2,    25.00,-999.000,9,-999.000,-999.0000,9,-999.000,9, -999.00,9,  -999.0,9,    -9.0,-999.000,9,-999.000,   39.57,2,   38.83,2, 4799.00,-999.0000,9,-999.0000,9,-999.0000,9,-999.0000,9,-999.0000,9,-999.0000,9,     -999.0,     -999.0,9,     -999.0,9,     -999.0,9,     -999.0,9,     -999.0,9,     -999.0,9, -999.00,9,   0.9947,-999.0000,-999.000
325020060213,       P16N,      30,          2,          1,          1,2,20060225,       1212,     8.0002,  -151.5002,       5102,  5209.3,   1.4470,  34.7008,2,  34.7017,2,    172.4,2,   172.1,2,  135.20,6,   34.90,6,    0.00,6,    2.40,6,   0.000,2,   0.000,2,-999.000,5,  2304.7,6,  2406.9,2,   -999.0,9,  -999.00,   7.5997,2,    25.00,-999.000,9,-999.000,-999.0000,9,-999.000,9, -999.00,9,  -999.0,9,    -9.0,-999.000,9,-999.000,   39.77,2,   38.51,2, 5209.30,-999.0000,9,-999.0000,9,-999.0000,9,-999.0000,9,-999.0000,9,-999.0000,9,     -999.0,     -999.0,9,     -999.0,9,     -999.0,9,     -999.0,9,     -999.0,9,     -999.0,9, -999.00,9,   0.9888,-999.0000,-999.000