BOTTLE,20170720CCHSIOCBG
EXPOCODE,SECT_ID,STNNBR,CASTNO,SAMPNO,BTLNBR,BTLNBR_FLAG_W,DATE,TIME,LATITUDE,LONGITUDE,DEPTH,CTDPRS,CTDTMP,CTDSAL,CTDSAL_FLAG_W,SALNTY,SALNTY_FLAG_W,CTDOXY,CTDOXY_FLAG_W,OXYGEN,OXYGEN_FLAG_W,SILCAT,SILCAT_FLAG_W,NITRAT,NITRAT_FLAG_W,NITRIT,NITRIT_FLAG_W,PHSPHT,PHSPHT_FLAG_W,CFC-11,CFC-11_FLAG_W,CFC-12,CFC-12_FLAG_W,CFC113,CFC113_FLAG_W,TCARBN,TCARBN_FLAG_W,ALKALI,ALKALI_FLAG_W,FCO2,FCO2_FLAG_W,FCO2TMP,PH_TOT,PH_TOT_FLAG_W,PH_TMP,TRITUM,TRITUM_FLAG_W,TRITER,HELIUM,HELIUM_FLAG_W,DELHE3,DELHE3_FLAG_W,DELC13,DELC13_FLAG_W,DELC14,DELC14_FLAG_W,C14ERR,NEON,NEON_FLAG_W,NEONER,DOC,DOC_FLAG_W,TDN,TDN_FLAG_W,CTDRAW,CDOM325,CDOM325_FLAG_W,CDOM340,CDOM340_FLAG_W,CDOM380,CDOM380_FLAG_W,CDOM412,CDOM412_FLAG_W,CDOMSL,CDOMSL_FLAG_W,CDOMSN,CDOMSN_FLAG_W,DCNS,ARABI,ARABI_FLAG_W,FUCO,FUCO_FLAG_W,GALA,GALA_FLAG_W,GLUC,GLUC_FLAG_W,MAN,MAN_FLAG_W,RHAM,RHAM_FLAG_W,BRDU,BRDU_FLAG_W,THETA,HELIER,DELHER
,,,,,,,,,,,METERS,DBAR,ITS-90,PSS-78,,PSS-78,,UMOL/KG,,UMOL/KG,,UMOL/KG,,UMOL/KG,,UMOL/KG,,UMOL/KG,,PMOL/KG,,PMOL/KG,,PMOL/KG,,UMOL/KG,,UMOL/KG,,UATM,,DEG C,,,DEG C,TU,,TU,NMOL/KG,,PERCNT,,/MILLE,,/MILLE,,/MILLE,NMOL/KG,,NMOL/KG,UMOL/KG,,UMOL/KG,,DBAR,1/M,,1/M,,1/M,,1/M,,1/NM,,1/NM,,NMOL/KG,NMOL/KG,,NMOL/KG,,NMOL/KG,,NMOL/KG,,NMOL/KG,,NMOL/KG,,PMOL/L/H,,DEG C,NMOL/KG,PERCNT
325020060213,       P16N,      61,          2,          9,          9,2,20060320,       0953,         39,       -152,       5782,  3000.2,   1.5518,  34.6633,2,  34.6624,2,    113.0,2,   113.1,2,  165.70,2,   38.90,2,    0.00,2,    2.70,2,   0.015,3,   0.002,2,-999.000,5,  2354.5,2,  2426.9,2,   -999.0,9,  -999.00,   7.5101,2,    25.00,   0.001,2,   0.005,    1.935,2,  18.474,2, -999.00,9,  -999.0,9,    -9.0,   8.286,2,   0.012,   36.71,2,   42.14,2, 3000.20,-999.0000,9,-999.0000,9,-999.0000,9,-999.0000,9,-999.0000,9,-999.0000,9,     -999.0,     -999.0,9,     -999.0,9,     -999.0,9,     -999.0,9,     -999.0,9,     -999.0,9, -999.00,9,   1.3339,    0.001,   0.193
325020060213,       P16N,      61,          2,          8,          8,2,20060320,       0953,         39,       -152,       5782,  3248.3,   1.5146,  34.6710,2,  34.6696,2,    124.3,2,   119.3,3,  162.50,2,   38.30,2,    0.00,2,    2.65,2,-999.000,9,-999.000,9,-999.000,9,  2347.4,2,  2426.8,2,   -999.0,9,  -999.00,   7.5314,2,    25.00,-999.000,9,-999.000,-999.0000,9,-999.000,9, -999.00,9,  -999.0,9,    -9.0,-999.000,9,-999.000,   36.37,2,   42.21,2, 3248.30,-999.0000,9,-999.0000,9,-999.0000,9,-999.0000,9,-999.0000,9,-999.0000,9,     -999.0,     -999.0,9,     -999.0,9,     -999.0,9,     -999.0,9,     -999.0,9,     -999.0,9, -999.00,9,   1.2734,-999.0000,-999.000
325020060213,       P16N,      61,          2,          7,          7,2,20060320,       0953,         39,       -152,       5782,  3651.3,   1.4810,  34.6803,2,  34.6785,2,    134.9,2,   123.3,4,  161.00,2,   37.50,2,    0.00,2,    2.59,2,-999.000,9,-999.000,9,-999.000,9,  2340.1,2,  2428.1,6,   -999.0,9,  -999.00,   7.5540,6,    25.00,-999.000,9,-999.000,-999.0000,9,-999.000,9, -999.00,9,  -999.0,9,    -9.0,-999.000,9,-999.000,   36.93,2,   41.49,2, 3651.30,-999.0000,9,-999.0000,9,-999.0000,9,-999.0000,9,-999.0000,9,-999.0000,9,     -999.0,     -999.0,9,     -999.0,9,     -999.0,9,     -999.0,9,     -999.0,9,     -999.0,9, -999.00,9,   1.1998,-999.0000,-999.000
325020060213,       P16N,      61,          2,          6,          6,2,20060320,       0953,         39,       -152,       5782,  4051.3,   1.4818,  34.6857,2,  34.6852,2,    140.6,2,   140.2,2,  163.60,2,   37.30,2,    0.00,2,    2.56,2,   0.023,3,  -0.001,3,-999.000,5,  2340.0,2,  2430.4,2,   -999.0,9,  -999.00,   7.5649,2,    25.00,   0.001,2,   0.006,    1.947,2,  16.920,2, -999.00,9,  -999.0,9,    -9.0,   8.366,2,   0.012,   36.85,2,   40.98,2, 4051.30,-999.0000,9,-999.0000,9,-999.0000,9,-999.0000,9,-999.0000,9,-999.0000,9,     -999.0,     -999.0,9,     -999.0,9,     -999.0,9,     -999.0,9,     -999.0,9,     -999.0,9, -999.00,9,   1.1578,    0.001,   0.190
325020060213,       P16N,      61,          2,          5,          5,2,20060320,       0953,         39,       -152,       5782,  4550.2,   1.5195,  34.6885,2,  34.6867,2,    144.1,2,   142.3,2,  164.70,2,   37.00,2,    0.00,2,    2.55,2,-999.000,9,-999.000,9,-999.000,9,  2338.2,2,  2432.9,2,   -999.0,9,  -999.00,   7.5765,2,    25.00,-999.000,9,-999.000,-999.0000,9,-999.000,9, -999.00,9,  -999.0,9,    -9.0,-999.000,9,-999.000,   36.39,2,   40.29,2, 4550.20,-999.0000,9,-999.0000,9,-999.0000,9,-999.0000,9,-999.0000,9,-999.0000,9,     -999.0,     -999.0,9,     -999.0,9,     -999.0,9,     -999.0,9,     -999.0,9,     -999.0,9, -999.00,9,   1.1382,-999.0000,-999.000
325020060213,       P16N,      61,          2,          4,          4,2,20060320,       0953,         39,       -152,       5782,  5050.6,   1.5662,  34.6896,2,  34.6897,2,    147.5,2,   137.8,4,  159.60,6,   36.70,6,    0.00,6,    2.52,6,   0.000,2,   0.000,2,-999.000,5,  2333.8,2,  2432.4,2,   -999.0,9,  -999.00,   7.5782,2,    25.00,-999.000,9,-999.000,-999.0000,9,-999.000,9, -999.00,9,  -999.0,9,    -9.0,-999.000,9,-999.000,   36.67,2,   39.91,2, 5050.60,-999.0000,9,-999.0000,9,-999.0000,9,-999.0000,9,-999.0000,9,-999.0000,9,     -999.0,     -999.0,9,     -999.0,9,     -999.0,9,     -999.0,9,     -999.0,9,     -999.0,9, -999.00,9,   1.1236,-999.0000,-999.000
325020060213,       P16N,      61,          2,          3,          3,2,20060320,       0953,         39,       -152,       5782,  5400.3,   1.6015,  34.6904,2,  34.6897,2,    150.3,2,   130.4,4,  156.30,6,   36.40,6,    0.00,6,    2.50,6,-999.000,9,-999.000,9,-999.000,9,  2331.5,2,  2431.4,2,   -999.0,9,  -999.00,   7.5817,2,    25.00,-999.000,9,-999.000,-999.0000,9,-999.000,9, -999.00,9,  -999.0,9,    -9.0,-999.000,9,-999.000,   36.39,2,   39.96,2, 5400.30,-999.0000,9,-999.0000,9,-999.0000,9,-999.0000,9,-999.0000,9,-999.0000,9,     -999.0,     -999.0,9,     -999.0,9,     -999.0,9,     -999.0,9,     -999.0,9,     -999.0,9, -999.00,9,   1.1139,-999.0000,-999.000
325020060213,       P16N,      61,          2,          2,          2,2,20060320,       0953,         39,       -152,       5782,  5700.2,   1.6375,  34.6905,2,  34.6901,2,    151.0,2,   149.1,2,  154.60,6,   36.40,6,    0.00,6,    2.50,6,   0.028,3,   0.000,3,-999.000,5,  2331.2,2,  2430.8,2,   -999.0,9,  -999.00,   7.5816,2,    25.00,   0.001,2,   0.004,    1.923,2,  16.064,2, -999.00,9,  -999.0,9,    -9.0,   8.252,2,   0.012,   36.28,2,   39.99,2, 5700.20,-999.0000,9,-999.0000,9,-999.0000,9,-999.0000,9,-999.0000,9,-999.0000,9,     -999.0,     -999.0,9,     -999.0,9,     -999.0,9,     -999.0,9,     -999.0,9,     -999.0,9, -999.00,9,   1.1100,    0.001,   0.195
325020060213,       P16N,      61,          2,          1,          1,2,20060320,       0953,         39,       -152,       5782,  5946.6,   1.6714,  34.6905,2,  34.6903,2,    151.3,2,   147.0,3,  154.50,6,   36.40,6,    0.00,6,    2.49,6,   0.014,3,   0.004,2,-999.000,5,  2331.2,6,  2429.8,2,   -999.0,9,  -999.00,   7.5821,2,    25.00,   0.001,2,   0.005,    1.977,2,  14.643,2, -999.00,9,  -999.0,9,    -9.0,   8.522,2,   0.014,   36.09,2,   40.31,2, 5946.60,-999.0000,9,-999.0000,9,-999.0000,9,-999.0000,9,-999.0000,9,-999.0000,9,     -999.0,     -999.0,9,     -999.0,9,     -999.0,9,     -999.0,9,     -999.0,9,     -999.0,9, -999.00,9,   1.1100,    0.002,   0.275