BOTTLE,20170720CCHSIOCBG
EXPOCODE,SECT_ID,STNNBR,CASTNO,SAMPNO,BTLNBR,BTLNBR_FLAG_W,DATE,TIME,LATITUDE,LONGITUDE,DEPTH,CTDPRS,CTDTMP,CTDSAL,CTDSAL_FLAG_W,SALNTY,SALNTY_FLAG_W,CTDOXY,CTDOXY_FLAG_W,OXYGEN,OXYGEN_FLAG_W,SILCAT,SILCAT_FLAG_W,NITRAT,NITRAT_FLAG_W,NITRIT,NITRIT_FLAG_W,PHSPHT,PHSPHT_FLAG_W,CFC-11,CFC-11_FLAG_W,CFC-12,CFC-12_FLAG_W,CFC113,CFC113_FLAG_W,TCARBN,TCARBN_FLAG_W,ALKALI,ALKALI_FLAG_W,FCO2,FCO2_FLAG_W,FCO2TMP,PH_TOT,PH_TOT_FLAG_W,PH_TMP,TRITUM,TRITUM_FLAG_W,TRITER,HELIUM,HELIUM_FLAG_W,DELHE3,DELHE3_FLAG_W,DELC13,DELC13_FLAG_W,DELC14,DELC14_FLAG_W,C14ERR,NEON,NEON_FLAG_W,NEONER,DOC,DOC_FLAG_W,TDN,TDN_FLAG_W,CTDRAW,CDOM325,CDOM325_FLAG_W,CDOM340,CDOM340_FLAG_W,CDOM380,CDOM380_FLAG_W,CDOM412,CDOM412_FLAG_W,CDOMSL,CDOMSL_FLAG_W,CDOMSN,CDOMSN_FLAG_W,DCNS,ARABI,ARABI_FLAG_W,FUCO,FUCO_FLAG_W,GALA,GALA_FLAG_W,GLUC,GLUC_FLAG_W,MAN,MAN_FLAG_W,RHAM,RHAM_FLAG_W,BRDU,BRDU_FLAG_W,THETA,HELIER,DELHER
,,,,,,,,,,,METERS,DBAR,ITS-90,PSS-78,,PSS-78,,UMOL/KG,,UMOL/KG,,UMOL/KG,,UMOL/KG,,UMOL/KG,,UMOL/KG,,PMOL/KG,,PMOL/KG,,PMOL/KG,,UMOL/KG,,UMOL/KG,,UATM,,DEG C,,,DEG C,TU,,TU,NMOL/KG,,PERCNT,,/MILLE,,/MILLE,,/MILLE,NMOL/KG,,NMOL/KG,UMOL/KG,,UMOL/KG,,DBAR,1/M,,1/M,,1/M,,1/M,,1/NM,,1/NM,,NMOL/KG,NMOL/KG,,NMOL/KG,,NMOL/KG,,NMOL/KG,,NMOL/KG,,NMOL/KG,,PMOL/L/H,,DEG C,NMOL/KG,PERCNT
325020060213,       P16N,      24,          2,         35,         35,2,20060222,       2011,          2,       -151,       4360,     5.4,  26.6380,  34.9016,2,-999.0000,5,    202.1,2,   203.3,2,    1.40,2,    3.20,2,    0.30,2,    0.38,2,   1.723,2,   1.062,2,-999.000,5,  1999.9,6,  2293.0,2,   -999.0,9,  -999.00,   8.0385,2,    25.00,-999.000,9,-999.000,   1.6981,2,   -1.84,2, -999.00,5,    63.1,2,     3.5,   6.723,2,   0.020,   62.26,2,    8.09,2,    5.40,-999.0000,9,-999.0000,9,-999.0000,9,-999.0000,9,-999.0000,9,-999.0000,9,     -999.0,     -999.0,9,     -999.0,9,     -999.0,9,     -999.0,9,     -999.0,9,     -999.0,9, -999.00,9,  26.6368,   0.0051,    0.14
325020060213,       P16N,      24,          2,         34,         34,2,20060222,       2011,          2,       -151,       4360,    15.3,  26.4637,  34.9004,2,  34.8999,2,    202.6,2,   203.2,2,    1.40,2,    3.30,2,    0.30,2,    0.38,2,   1.734,2,   1.078,2,-999.000,5,  1999.3,2,  2294.3,2,   -999.0,9,  -999.00,   8.0362,2,    25.00,   0.405,2,   0.005,   1.7012,2,   -1.64,2, -999.00,9,  -999.0,9,    -9.0,   6.715,2,   0.020,   63.09,2,    8.34,2,   15.30,   0.0460,2,   0.0350,2,   0.0160,2,   0.0140,2,   0.0187,2,   0.0187,2,     -999.0,     -999.0,9,     -999.0,9,     -999.0,9,     -999.0,9,     -999.0,9,     -999.0,9,    0.67,2,  26.4602,   0.0051,    0.14
325020060213,       P16N,      24,          2,         33,         33,2,20060222,       2011,          2,       -151,       4360,    35.0,  26.4008,  34.9008,2,  34.9028,2,    202.7,2,   203.2,2,    1.50,2,    3.40,2,    0.30,2,    0.39,2,-999.000,9,-999.000,9,-999.000,9,  1999.9,2,  2293.8,2,   -999.0,9,  -999.00,   8.0313,2,    25.00,   0.414,2,   0.005,   1.7835,2,   -1.23,2, -999.00,5,    64.0,2,     3.3,   6.987,2,   0.021,   63.36,2,    8.41,2,   35.00,-999.0000,9,-999.0000,9,-999.0000,9,-999.0000,9,-999.0000,9,-999.0000,9,     -999.0,     -999.0,9,     -999.0,9,     -999.0,9,     -999.0,9,     -999.0,9,     -999.0,9,    4.08,2,  26.3929,   0.0054,    0.14
325020060213,       P16N,      24,          2,         32,         32,2,20060222,       2011,          2,       -151,       4360,    60.9,  24.6120,  34.9957,2,  35.0095,2,    183.7,2,   187.8,2,    2.90,2,    6.20,2,    0.80,2,    0.60,2,   1.879,2,   1.115,2,-999.000,5,  2039.4,2,  2302.7,2,   -999.0,9,  -999.00,   7.9712,2,    25.00,   0.384,2,   0.005,   1.7115,2,   -1.62,2, -999.00,5,    57.5,2,     4.2,   6.792,2,   0.020,   60.33,2,   11.07,2,   60.90,-999.0000,9,-999.0000,9,-999.0000,9,-999.0000,9,-999.0000,9,-999.0000,9,     -999.0,     -999.0,9,     -999.0,9,     -999.0,9,     -999.0,9,     -999.0,9,     -999.0,9,    1.73,2,  24.5990,   0.0051,    0.14
325020060213,       P16N,      24,          2,         31,         31,2,20060222,       2011,          2,       -151,       4360,    75.0,  24.3664,  35.0667,2,  35.0709,2,    181.9,2,   182.6,2,    3.20,2,    6.80,2,    1.40,2,    0.65,2,   1.821,2,   1.099,2,-999.000,5,  2049.4,2,  2306.2,2,   -999.0,9,  -999.00,   7.9579,2,    25.00,   0.560,2,   0.003,   1.7045,2,   -1.54,2, -999.00,5,    51.7,2,     3.7,   6.824,2,   0.020,   55.86,2,   12.27,2,   75.00,-999.0000,9,-999.0000,9,-999.0000,9,-999.0000,9,-999.0000,9,-999.0000,9,     -999.0,     -999.0,9,     -999.0,9,     -999.0,9,     -999.0,9,     -999.0,9,     -999.0,9,    2.55,2,  24.3504,   0.0051,    0.14
325020060213,       P16N,      24,          2,         30,         30,2,20060222,       2011,          2,       -151,       4360,   110.4,  16.4964,  34.7592,2,  34.7622,2,    103.6,2,   106.0,2,   14.50,2,   18.90,2,    0.00,2,    1.30,2,   1.704,6,   0.952,6,-999.000,5,  2138.0,2,  2293.4,2,   -999.0,9,  -999.00,-999.0000,9,  -999.00,   0.576,2,   0.003,   1.7660,2,    3.77,2, -999.00,5,    31.3,2,     3.3,   7.301,2,   0.022,   50.75,2,   22.97,2,  110.40,   0.1120,2,   0.0840,2,   0.0460,2,   0.0380,2,   0.0121,2,   0.0140,2,     -999.0,     -999.0,9,     -999.0,9,     -999.0,9,     -999.0,9,     -999.0,9,     -999.0,9,    0.30,2,  16.4786,   0.0053,    0.14
325020060213,       P16N,      24,          2,         29,         29,2,20060222,       2011,          2,       -151,       4360,   134.9,  13.7220,  34.7692,2,  34.7709,2,     87.4,2,    87.4,2,   18.70,2,   23.30,2,    0.00,2,    1.57,2,   1.460,2,   0.791,2,-999.000,5,  2170.3,2,  2295.5,2,   -999.0,9,  -999.00,-999.0000,9,  -999.00,   0.436,2,   0.003,   1.7670,2,    4.80,2, -999.00,5,     0.1,2,     3.2,   7.323,2,   0.022,   48.58,2,   27.77,2,  134.90,-999.0000,9,-999.0000,9,-999.0000,9,-999.0000,9,-999.0000,9,-999.0000,9,     -999.0,     -999.0,9,     -999.0,9,     -999.0,9,     -999.0,9,     -999.0,9,     -999.0,9,    0.17,2,  13.7028,   0.0053,    0.14
325020060213,       P16N,      24,          2,         28,         28,2,20060222,       2011,          2,       -151,       4360,   175.4,  12.7119,  34.8890,2,  34.8889,2,     39.1,2,    38.9,2,   21.70,6,   29.90,6,    0.00,6,    1.99,6,   0.952,2,   0.513,2,-999.000,5,  2217.7,2,  2303.8,6,   -999.0,9,  -999.00,   7.5468,2,    25.00,   0.309,2,   0.002,   1.7762,2,    4.79,2, -999.00,5,     4.4,2,     2.9,   7.433,2,   0.022,   46.92,2,   33.93,2,  175.40,-999.0000,9,-999.0000,9,-999.0000,9,-999.0000,9,-999.0000,9,-999.0000,9,     -999.0,     -999.0,9,     -999.0,9,     -999.0,9,     -999.0,9,     -999.0,9,     -999.0,9,    0.02,2,  12.6882,   0.0053,    0.14
325020060213,       P16N,      24,          2,         27,         27,2,20060222,       2011,          2,       -151,       4360,   225.0,  11.9502,  34.8426,2,  34.8434,2,     64.1,2,    62.7,2,   22.20,2,   28.50,2,    0.00,2,    1.90,2,   0.915,2,   0.496,2,-999.000,5,  2212.5,2,  2302.8,2,   -999.0,9,  -999.00,   7.5876,2,    25.00,   0.264,2,   0.002,-999.0000,9,-999.000,9, -999.00,5,    -8.7,2,     3.4,-999.000,9,-999.000,   45.47,2,   32.13,2,  225.00,   0.1210,2,   0.0930,2,   0.0540,2,   0.0450,2,   0.0110,2,   0.0124,2,     -999.0,     -999.0,9,     -999.0,9,     -999.0,9,     -999.0,9,     -999.0,9,     -999.0,9,    0.00,3,  11.9209,-999.0000,-999.000
325020060213,       P16N,      24,          2,         26,         26,2,20060222,       2011,          2,       -151,       4360,   276.3,  11.5533,  34.8210,2,  34.8232,2,     57.4,2,    56.3,2,   23.80,6,   29.70,6,    0.00,6,    1.99,6,   0.800,2,   0.430,2,-999.000,5,  2218.0,2,  2305.0,2,   -999.0,9,  -999.00,   7.5628,2,    25.00,   0.234,2,   0.002,   1.7934,2,    5.32,2, -999.00,5,   -17.6,2,     2.9,   7.475,2,   0.022,   44.70,2,   33.37,2,  276.30,-999.0000,9,-999.0000,9,-999.0000,9,-999.0000,9,-999.0000,9,-999.0000,9,     -999.0,     -999.0,9,     -999.0,9,     -999.0,9,     -999.0,9,     -999.0,9,     -999.0,9, -999.00,9,  11.5181,   0.0054,    0.14
325020060213,       P16N,      24,          2,         25,         25,2,20060222,       2011,          2,       -151,       4360,   324.2,  10.8091,  34.7591,2,  34.7622,2,     85.0,2,    85.7,2,   24.20,4,   28.00,6,    0.00,6,    1.87,3,   0.837,2,   0.450,2,-999.000,5,  2204.7,2,  2305.5,2,   -999.0,9,  -999.00,   7.6000,2,    25.00,   0.213,2,   0.004,   1.7855,2,    5.43,2, -999.00,5,   -26.5,2,     3.1,   7.501,2,   0.023,   44.02,2,   32.51,2,  324.20,   0.1110,2,   0.0830,2,   0.0480,2,   0.0390,2,   0.0115,2,   0.0132,2,    417.633,    29.6355,2,    17.1996,2,    63.8581,2,    204.346,2,    78.6918,2,    23.9024,2, -999.00,9,  10.7695,   0.0054,    0.14
325020060213,       P16N,      24,          2,         24,         24,2,20060222,       2011,          2,       -151,       4360,   375.2,  10.3509,  34.7318,2,  34.7288,2,     59.7,2,    58.9,2,   27.90,6,   31.60,6,    0.00,6,    2.10,6,   0.573,2,   0.305,2,-999.000,5,  2227.6,2,  2305.0,2,   -999.0,9,  -999.00,   7.5396,2,    25.00,   0.182,2,   0.002,   1.8080,2,    6.12,2, -999.00,5,   -37.1,2,     3.1,   7.589,2,   0.023,   42.68,2,   35.62,2,  375.20,-999.0000,9,-999.0000,9,-999.0000,9,-999.0000,9,-999.0000,9,-999.0000,9,     -999.0,     -999.0,9,     -999.0,9,     -999.0,9,     -999.0,9,     -999.0,9,     -999.0,9, -999.00,9,  10.3062,   0.0054,    0.14
325020060213,       P16N,      24,          2,         23,         23,2,20060222,       2011,          2,       -151,       4360,   424.5,   9.5051,  34.6787,2,  34.6791,2,     50.7,2,    49.0,2,   32.30,2,   34.10,2,    0.00,2,    2.27,2,   0.357,2,   0.203,2,-999.000,5,  2242.7,6,  2306.7,2,   -999.0,9,  -999.00,   7.4986,2,    25.00,   0.140,2,   0.002,   1.8080,2,    6.55,2, -999.00,5,   -72.0,2,     3.2,   7.608,2,   0.023,   41.87,2,   38.60,2,  424.50,   0.1310,2,   0.0990,2,   0.0590,2,   0.0480,2,   0.0110,2,   0.0123,2,     -999.0,     -999.0,9,     -999.0,9,     -999.0,9,     -999.0,9,     -999.0,9,     -999.0,9, -999.00,9,   9.4570,   0.0054,    0.14
325020060213,       P16N,      24,          2,         22,         22,2,20060222,       2011,          2,       -151,       4360,   475.1,   8.7699,  34.6446,2,  34.6500,2,     43.4,2,    35.9,2,   37.80,2,   36.50,2,    0.00,2,    2.49,2,   0.180,6,   0.101,6,-999.000,5,  2255.2,2,  2309.9,2,   -999.0,9,  -999.00,   7.4370,2,    25.00,   0.092,2,   0.002,   1.8445,2,    6.77,2, -999.00,5,   -88.1,2,     3.2,   7.723,2,   0.023,   41.37,2,   40.46,2,  475.10,   0.1400,2,   0.1050,2,   0.0620,2,   0.0510,2,   0.0111,2,   0.0123,2,     -999.0,     -999.0,9,     -999.0,9,     -999.0,9,     -999.0,9,     -999.0,9,     -999.0,9, -999.00,9,   8.7185,   0.0055,    0.14
325020060213,       P16N,      24,          2,         21,         21,2,20060222,       2011,          2,       -151,       4360,   550.6,   7.4859,  34.5950,2,  34.5942,2,     42.8,2,    41.7,2,   46.20,2,   38.90,2,    0.00,2,    2.67,2,   0.069,2,   0.038,2,-999.000,5,  2272.2,2,  2317.9,2,   -999.0,9,  -999.00,   7.4531,2,    25.00,   0.044,2,   0.001,   1.8319,2,    8.08,2, -999.00,5,  -117.4,2,     3.3,   7.732,2,   0.023,   40.98,2,   42.83,2,  550.60,   0.1370,2,   0.1020,2,   0.0600,2,   0.0480,2,   0.0115,2,   0.0130,3,     -999.0,     -999.0,9,     -999.0,9,     -999.0,9,     -999.0,9,     -999.0,9,     -999.0,9, -999.00,9,   7.4313,   0.0055,    0.14
325020060213,       P16N,      24,          2,         20,         20,2,20060222,       2011,          2,       -151,       4360,   650.3,   6.6087,  34.5639,2,  34.5638,2,     64.9,2,    63.9,2,   52.70,2,   38.50,2,    0.00,2,    2.64,2,   0.057,2,   0.031,2,-999.000,5,  2269.8,2,  2324.3,2,   -999.0,9,  -999.00,   7.4662,2,    25.00,   0.021,2,   0.001,   1.8835,2,    9.90,2, -999.00,5,  -128.3,2,     3.0,   7.905,2,   0.024,   40.54,2,   42.48,2,  650.30,-999.0000,9,-999.0000,9,-999.0000,9,-999.0000,9,-999.0000,9,-999.0000,9,     -999.0,     -999.0,9,     -999.0,9,     -999.0,9,     -999.0,9,     -999.0,9,     -999.0,9, -999.00,9,   6.5482,   0.0057,    0.14
325020060213,       P16N,      24,          2,         19,         19,2,20060222,       2011,          2,       -151,       4360,   750.6,   5.6302,  34.5492,2,  34.5499,2,     78.4,2,    77.2,2,   63.30,2,   39.00,2,    0.00,2,    2.68,2,-999.000,9,-999.000,9,-999.000,9,  2276.7,2,  2335.6,2,   -999.0,9,  -999.00,   7.4743,2,    25.00,-999.000,9,-999.000,-999.0000,9,-999.000,9, -999.00,5,  -140.8,2,     2.5,-999.000,9,-999.000,   39.86,2,   42.64,2,  750.60,   0.1200,2,   0.0860,2,   0.0470,2,   0.0350,2,   0.0135,2,   0.0155,2,     -999.0,     -999.0,9,     -999.0,9,     -999.0,9,     -999.0,9,     -999.0,9,     -999.0,9, -999.00,9,   5.5654,-999.0000,-999.000
325020060213,       P16N,      24,          2,         18,         18,2,20060222,       2011,          2,       -151,       4360,   800.6,   5.3398,  34.5487,2,  34.5511,2,     80.9,2,    80.5,2,   68.10,2,   39.10,2,    0.00,2,    2.69,2,   0.017,2,   0.011,2,-999.000,5,  2282.3,2,  2340.2,2,   -999.0,9,  -999.00,   7.4765,2,    25.00,-999.000,9,-999.000,-999.0000,9,-999.000,9, -999.00,5,  -110.9,4,     3.9,-999.000,9,-999.000,   39.15,2,   42.74,2,  800.60,   0.1210,2,   0.0870,2,   0.0470,2,   0.0360,2,   0.0135,2,   0.0156,2,     -999.0,     -999.0,9,     -999.0,9,     -999.0,9,     -999.0,9,     -999.0,9,     -999.0,9, -999.00,9,   5.2721,-999.0000,-999.000
325020060213,       P16N,      24,          2,         17,         17,2,20060222,       2011,          2,       -151,       4360,   850.6,   5.2094,  34.5504,2,  34.5501,2,     79.8,2,    78.9,2,   69.90,2,   39.40,2,    0.00,2,    2.71,2,-999.000,9,-999.000,9,-999.000,9,  2284.3,2,  2343.5,6,   -999.0,9,  -999.00,   7.4769,2,    25.00,-999.000,9,-999.000,-999.0000,9,-999.000,9, -999.00,9,  -999.0,9,    -9.0,-999.000,9,-999.000,   39.09,2,   43.75,2,  850.60,   0.1230,2,   0.0880,2,   0.0480,2,   0.0360,2,   0.0134,2,   0.0156,2,     -999.0,     -999.0,9,     -999.0,9,     -999.0,9,     -999.0,9,     -999.0,9,     -999.0,9, -999.00,9,   5.1380,-999.0000,-999.000
325020060213,       P16N,      24,          2,         16,         16,2,20060222,       2011,          2,       -151,       4360,  1100.2,   4.1778,  34.5688,2,  34.5721,2,     81.6,2,    81.2,2,   92.70,2,   40.10,2,    0.00,2,    2.79,2,   0.008,2,   0.003,2,-999.000,5,  2308.8,2,  2369.3,2,   -999.0,9,  -999.00,   7.4730,2,    25.00,-999.000,9,-999.000,-999.0000,9,-999.000,9, -999.00,5,  -183.6,2,     2.8,-999.000,9,-999.000,   38.32,2,   43.80,2, 1100.20,   0.1290,2,   0.0920,2,   0.0480,2,   0.0350,2,   0.0145,2,   0.0166,2,     -999.0,     -999.0,9,     -999.0,9,     -999.0,9,     -999.0,9,     -999.0,9,     -999.0,9, -999.00,9,   4.0921,-999.0000,-999.000
325020060213,       P16N,      24,          2,         15,         15,2,20060222,       2011,          2,       -151,       4360,  1300.8,   3.5921,  34.5873,2,  34.5878,2,     83.2,2,    82.7,2,  106.60,2,   40.30,2,    0.00,2,    2.83,2,-999.000,9,-999.000,9,-999.000,9,  2323.6,2,  2384.7,2,   -999.0,9,  -999.00,   7.4744,2,    25.00,-999.000,9,-999.000,-999.0000,9,-999.000,9, -999.00,5,  -206.1,2,     2.2,-999.000,9,-999.000,   37.90,2,   44.61,2, 1300.80,   0.1320,2,   0.0930,2,   0.0500,2,   0.0350,2,   0.0146,2,   0.0167,2,     -999.0,     -999.0,9,     -999.0,9,     -999.0,9,     -999.0,9,     -999.0,9,     -999.0,9, -999.00,9,   3.4946,-999.0000,-999.000
325020060213,       P16N,      24,          2,         14,         14,2,20060222,       2011,          2,       -151,       4360,  1500.8,   3.0431,  34.6080,2,  34.5709,4,     88.8,2,    81.4,3,   92.80,6,   40.00,6,    0.00,6,    2.79,6,-999.000,9,-999.000,9,-999.000,9,  2309.2,4,  2366.9,3,   -999.0,9,  -999.00,   7.4708,2,    25.00,-999.000,9,-999.000,-999.0000,9,-999.000,9, -999.00,5,  -191.1,4,     2.3,-999.000,9,-999.000,   38.12,2,   43.93,2, 1500.80,   0.1300,2,   0.0910,2,   0.0480,2,   0.0340,2,   0.0148,2,   0.0170,2,     -999.0,     -999.0,9,     -999.0,9,     -999.0,9,     -999.0,9,     -999.0,9,     -999.0,9, -999.00,9,   2.9347,-999.0000,-999.000
325020060213,       P16N,      24,          2,         13,         13,2,20060222,       2011,          2,       -151,       4360,  1701.3,   2.6365,  34.6275,2,  34.6273,2,     94.3,2,    94.2,2,  130.60,2,   39.90,2,    0.00,2,    2.80,2,-999.000,9,-999.000,9,-999.000,9,  2342.6,2,  2407.7,2,   -999.0,9,  -999.00,   7.4916,2,    25.00,-999.000,9,-999.000,-999.0000,9,-999.000,9, -999.00,5,  -231.9,4,     2.2,-999.000,9,-999.000,   37.36,2,   44.23,2, 1701.30,   0.1350,2,   0.0930,2,   0.0470,2,   0.0320,2,   0.0162,2,   0.0183,2,     -999.0,     -999.0,9,     -999.0,9,     -999.0,9,     -999.0,9,     -999.0,9,     -999.0,9, -999.00,9,   2.5161,-999.0000,-999.000
325020060213,       P16N,      24,          2,         12,         12,2,20060222,       2011,          2,       -151,       4360,  1900.1,   2.3878,  34.6399,2,  34.6399,2,     99.9,2,    99.9,2,  136.60,2,   39.60,2,    0.00,2,    2.77,2,   0.004,3,   0.001,2,-999.000,5,  2345.9,2,  2414.5,2,   -999.0,9,  -999.00,   7.5002,2,    25.00,-999.000,9,-999.000,-999.0000,9,-999.000,9, -999.00,5,  -229.9,2,     2.2,-999.000,9,-999.000,   36.91,2,   43.19,2, 1900.10,   0.1290,2,   0.0890,2,   0.0440,2,   0.0290,2,   0.0177,2,   0.0197,2,     -999.0,     -999.0,9,     -999.0,9,     -999.0,9,     -999.0,9,     -999.0,9,     -999.0,9, -999.00,9,   2.2540,-999.0000,-999.000
325020060213,       P16N,      24,          2,         11,         11,2,20060222,       2011,          2,       -151,       4360,  2100.7,   2.1170,  34.6535,2,  34.6529,2,    108.5,2,   107.9,2,  142.50,2,   39.10,2,    0.00,2,    2.72,2,-999.000,9,-999.000,9,-999.000,9,  2347.9,2,  2424.0,2,   -999.0,9,  -999.00,   7.5189,2,    25.00,-999.000,9,-999.000,-999.0000,9,-999.000,9, -999.00,5,  -223.7,2,     2.6,-999.000,9,-999.000,   37.51,2,   43.25,2, 2100.70,   0.1280,2,   0.0870,2,   0.0420,2,   0.0270,2,   0.0186,2,   0.0203,2,     -999.0,     -999.0,9,     -999.0,9,     -999.0,9,     -999.0,9,     -999.0,9,     -999.0,9, -999.00,9,   1.9701,-999.0000,-999.000
325020060213,       P16N,      24,          2,         10,         10,2,20060222,       2011,          2,       -151,       4360,  2301.2,   1.9039,  34.6654,2,  34.6660,2,    116.4,2,   116.2,2,  146.60,2,   38.50,2,    0.00,2,    2.67,2,-999.000,9,-999.000,9,-999.000,9,  2348.8,2,  2429.6,2,   -999.0,9,  -999.00,   7.5318,2,    25.00,-999.000,9,-999.000,-999.0000,9,-999.000,9, -999.00,5,  -229.6,2,     2.2,-999.000,9,-999.000,   37.63,2,   42.65,2, 2301.20,   0.1260,2,   0.0850,2,   0.0400,2,   0.0250,2,   0.0197,2,   0.0215,2,     -999.0,     -999.0,9,     -999.0,9,     -999.0,9,     -999.0,9,     -999.0,9,     -999.0,9, -999.00,9,   1.7431,-999.0000,-999.000
325020060213,       P16N,      24,          2,          9,          9,2,20060222,       2011,          2,       -151,       4360,  2500.3,   1.8319,  34.6704,2,  34.6696,2,    119.1,2,   118.9,2,  149.20,2,   38.20,2,    0.00,2,    2.66,2,-999.000,9,-999.000,9,-999.000,9,  2349.4,2,  2431.7,2,   -999.0,9,  -999.00,   7.5380,2,    25.00,-999.000,9,-999.000,-999.0000,9,-999.000,9, -999.00,5,  -227.1,2,     2.6,-999.000,9,-999.000,   37.59,2,   41.92,2, 2500.30,   0.1270,2,   0.0860,2,   0.0410,2,   0.0240,2,   0.0195,2,   0.0212,2,     -999.0,     -999.0,9,     -999.0,9,     -999.0,9,     -999.0,9,     -999.0,9,     -999.0,9, -999.00,9,   1.6547,-999.0000,-999.000