BOTTLE,20170720CCHSIOCBG
EXPOCODE,SECT_ID,STNNBR,CASTNO,SAMPNO,BTLNBR,BTLNBR_FLAG_W,DATE,TIME,LATITUDE,LONGITUDE,DEPTH,CTDPRS,CTDTMP,CTDSAL,CTDSAL_FLAG_W,SALNTY,SALNTY_FLAG_W,CTDOXY,CTDOXY_FLAG_W,OXYGEN,OXYGEN_FLAG_W,SILCAT,SILCAT_FLAG_W,NITRAT,NITRAT_FLAG_W,NITRIT,NITRIT_FLAG_W,PHSPHT,PHSPHT_FLAG_W,CFC-11,CFC-11_FLAG_W,CFC-12,CFC-12_FLAG_W,CFC113,CFC113_FLAG_W,TCARBN,TCARBN_FLAG_W,ALKALI,ALKALI_FLAG_W,FCO2,FCO2_FLAG_W,FCO2TMP,PH_TOT,PH_TOT_FLAG_W,PH_TMP,TRITUM,TRITUM_FLAG_W,TRITER,HELIUM,HELIUM_FLAG_W,DELHE3,DELHE3_FLAG_W,DELC13,DELC13_FLAG_W,DELC14,DELC14_FLAG_W,C14ERR,NEON,NEON_FLAG_W,NEONER,DOC,DOC_FLAG_W,TDN,TDN_FLAG_W,CTDRAW,CDOM325,CDOM325_FLAG_W,CDOM340,CDOM340_FLAG_W,CDOM380,CDOM380_FLAG_W,CDOM412,CDOM412_FLAG_W,CDOMSL,CDOMSL_FLAG_W,CDOMSN,CDOMSN_FLAG_W,DCNS,ARABI,ARABI_FLAG_W,FUCO,FUCO_FLAG_W,GALA,GALA_FLAG_W,GLUC,GLUC_FLAG_W,MAN,MAN_FLAG_W,RHAM,RHAM_FLAG_W,BRDU,BRDU_FLAG_W,THETA,HELIER,DELHER
,,,,,,,,,,,METERS,DBAR,ITS-90,PSS-78,,PSS-78,,UMOL/KG,,UMOL/KG,,UMOL/KG,,UMOL/KG,,UMOL/KG,,UMOL/KG,,PMOL/KG,,PMOL/KG,,PMOL/KG,,UMOL/KG,,UMOL/KG,,UATM,,DEG C,,,DEG C,TU,,TU,NMOL/KG,,PERCNT,,/MILLE,,/MILLE,,/MILLE,NMOL/KG,,NMOL/KG,UMOL/KG,,UMOL/KG,,DBAR,1/M,,1/M,,1/M,,1/M,,1/NM,,1/NM,,NMOL/KG,NMOL/KG,,NMOL/KG,,NMOL/KG,,NMOL/KG,,NMOL/KG,,NMOL/KG,,PMOL/L/H,,DEG C,NMOL/KG,PERCNT
325020060213,       P16N,      27,          1,         35,         35,2,20060224,       0651,          5,       -151,       5032,     5.1,  27.1364,  34.8712,2,  34.8698,2,    203.6,2,   202.9,2,    0.70,2,    2.00,2,    0.10,2,    0.29,2,   1.661,2,   1.029,2,-999.000,5,  1986.2,6,  2292.7,2,   -999.0,9,  -999.00,   8.0663,2,    25.00,   0.582,2,   0.003,   1.6905,2,   -1.83,2, -999.00,5,    36.3,2,     3.5,   6.660,2,   0.020,   64.02,2,    6.20,2,    5.10,-999.0000,9,-999.0000,9,-999.0000,9,-999.0000,9,-999.0000,9,-999.0000,9,     -999.0,     -999.0,9,     -999.0,9,     -999.0,9,     -999.0,9,     -999.0,9,     -999.0,9, -999.00,9,  27.1352,   0.0051,    0.14
325020060213,       P16N,      27,          1,         34,         34,2,20060224,       0651,          5,       -151,       5032,    24.9,  27.1203,  34.8710,2,  34.8692,2,    204.5,2,   203.0,2,    0.70,2,    2.00,2,    0.10,2,    0.29,2,-999.000,9,-999.000,9,-999.000,9,  1991.4,2,  2291.8,2,   -999.0,9,  -999.00,   8.0601,2,    25.00,   0.606,2,   0.003,   1.7026,2,   -1.47,2, -999.00,9,  -999.0,9,    -9.0,   6.683,2,   0.020,   63.31,2,    6.23,2,   24.90,-999.0000,9,-999.0000,9,-999.0000,9,-999.0000,9,-999.0000,9,-999.0000,9,     -999.0,     -999.0,9,     -999.0,9,     -999.0,9,     -999.0,9,     -999.0,9,     -999.0,9, -999.00,9,  27.1145,   0.0051,    0.14
325020060213,       P16N,      27,          1,         33,         33,2,20060224,       0651,          5,       -151,       5032,    50.0,  27.0307,  34.8701,2,  34.8698,2,    202.6,2,   202.3,2,    0.80,2,    2.10,2,    0.10,2,    0.30,2,   1.674,2,   1.028,2,-999.000,5,  1991.5,2,  2293.6,2,   -999.0,9,  -999.00,   8.0650,2,    25.00,   0.590,2,   0.003,   1.6976,2,   -1.62,2, -999.00,5,    57.7,2,     3.5,   6.676,2,   0.020,   64.53,2,    6.09,2,   50.00,-999.0000,9,-999.0000,9,-999.0000,9,-999.0000,9,-999.0000,9,-999.0000,9,     -999.0,     -999.0,9,     -999.0,9,     -999.0,9,     -999.0,9,     -999.0,9,     -999.0,9, -999.00,9,  27.0193,   0.0051,    0.14
325020060213,       P16N,      27,          1,         32,         32,2,20060224,       0651,          5,       -151,       5032,    75.7,  26.8659,  34.8730,2,  34.8775,2,    198.6,2,   195.8,2,    1.10,2,    2.60,2,    0.30,2,    0.35,2,   1.683,2,   1.027,2,-999.000,5,  2000.9,2,  2292.4,2,   -999.0,9,  -999.00,   8.0478,2,    25.00,   0.622,2,   0.003,   1.6998,2,   -1.80,2, -999.00,5,    66.4,2,     3.4,   6.682,2,   0.020,   61.65,2,    7.60,2,   75.70,-999.0000,9,-999.0000,9,-999.0000,9,-999.0000,9,-999.0000,9,-999.0000,9,     -999.0,     -999.0,9,     -999.0,9,     -999.0,9,     -999.0,9,     -999.0,9,     -999.0,9, -999.00,9,  26.8486,   0.0051,    0.14
325020060213,       P16N,      27,          1,         31,         31,2,20060224,       0651,          5,       -151,       5032,    99.7,  23.4123,  34.8851,2,  34.8875,2,    142.4,2,   140.0,2,    4.50,2,    9.00,2,    0.20,2,    0.69,2,   1.841,2,   1.103,2,-999.000,5,  2063.1,2,  2291.6,2,   -999.0,9,  -999.00,-999.0000,9,  -999.00,   0.632,2,   0.003,   1.6944,2,    0.20,2, -999.00,5,    59.0,2,     2.5,   6.875,2,   0.021,   54.22,2,   12.81,2,   99.70,-999.0000,9,-999.0000,9,-999.0000,9,-999.0000,9,-999.0000,9,-999.0000,9,     -999.0,     -999.0,9,     -999.0,9,     -999.0,9,     -999.0,9,     -999.0,9,     -999.0,9, -999.00,9,  23.3917,   0.0051,    0.14
325020060213,       P16N,      27,          1,         30,         30,2,20060224,       0651,          5,       -151,       5032,   124.8,  17.1362,  34.7137,2,  34.7107,2,    107.9,2,   109.7,2,   10.90,2,   15.80,2,    0.00,2,    1.13,2,   1.981,2,   1.065,2,-999.000,5,  2127.7,2,  2287.4,2,   -999.0,9,  -999.00,   7.7718,2,    25.00,   0.744,2,   0.004,-999.0000,9,-999.000,9, -999.00,5,    45.2,2,     2.9,-999.000,9,-999.000,   49.98,2,   19.57,2,  124.80,-999.0000,9,-999.0000,9,-999.0000,9,-999.0000,9,-999.0000,9,-999.0000,9,     -999.0,     -999.0,9,     -999.0,9,     -999.0,9,     -999.0,9,     -999.0,9,     -999.0,9, -999.00,9,  17.1155,-999.0000,-999.000
325020060213,       P16N,      27,          1,         29,         29,2,20060224,       0651,          5,       -151,       5032,   149.8,  13.2385,  34.6274,2,  34.6268,2,     74.2,2,    73.7,2,   20.70,2,   24.80,2,    0.00,2,    1.71,2,   1.376,2,   0.751,2,-999.000,5,  2186.5,2,  2290.8,2,   -999.0,9,  -999.00,   7.6164,2,    25.00,   0.587,2,   0.003,   1.7809,2,    6.53,2, -999.00,5,    -0.7,2,     3.2,   7.432,2,   0.022,   47.91,2,   28.63,2,  149.80,-999.0000,9,-999.0000,9,-999.0000,9,-999.0000,9,-999.0000,9,-999.0000,9,     -999.0,     -999.0,9,     -999.0,9,     -999.0,9,     -999.0,9,     -999.0,9,     -999.0,9, -999.00,9,  13.2177,   0.0053,    0.14
325020060213,       P16N,      27,          1,         28,         28,2,20060224,       0651,          5,       -151,       5032,   200.3,  10.6248,  34.6349,2,  34.6341,2,     75.0,2,    75.7,2,   28.30,2,   29.00,2,    0.00,2,    1.96,2,   0.859,6,   0.448,6,-999.000,5,  2210.2,2,  2302.9,6,   -999.0,9,  -999.00,-999.0000,9,  -999.00,   0.363,2,   0.003,   1.7992,2,    7.35,2, -999.00,5,   -32.5,2,     3.1,   7.587,2,   0.023,   46.38,2,   33.31,2,  200.30,-999.0000,9,-999.0000,9,-999.0000,9,-999.0000,9,-999.0000,9,-999.0000,9,     -999.0,     -999.0,9,     -999.0,9,     -999.0,9,     -999.0,9,     -999.0,9,     -999.0,9, -999.00,9,  10.6007,   0.0054,    0.14
325020060213,       P16N,      27,          1,         27,         27,2,20060224,       0651,          5,       -151,       5032,   248.6,   9.9677,  34.6808,2,  34.6795,2,     84.1,2,    83.4,2,   28.30,2,   29.80,2,    0.00,2,    1.99,2,   0.682,2,   0.366,2,-999.000,5,  2214.1,3,  2306.1,2,   -999.0,9,  -999.00,-999.0000,9,  -999.00,   0.231,2,   0.002,   1.7990,2,    6.43,2, -999.00,5,   -43.3,2,     3.1,   7.603,2,   0.023,   45.09,2,   33.36,2,  248.60,-999.0000,9,-999.0000,9,-999.0000,9,-999.0000,9,-999.0000,9,-999.0000,9,     -999.0,     -999.0,9,     -999.0,9,     -999.0,9,     -999.0,9,     -999.0,9,     -999.0,9, -999.00,9,   9.9390,   0.0054,    0.14
325020060213,       P16N,      27,          1,         26,         26,2,20060224,       0651,          5,       -151,       5032,   300.2,   9.5223,  34.6745,2,  34.6752,2,     65.5,2,    63.3,2,   30.90,2,   32.60,2,    0.00,2,    2.18,2,-999.000,9,-999.000,9,-999.000,9,  2230.8,2,  2305.3,2,   -999.0,9,  -999.00,   7.5270,2,    25.00,   0.166,2,   0.002,-999.0000,9,-999.000,9, -999.00,5,   -59.1,2,     2.9,-999.000,9,-999.000,   44.02,2,   36.11,2,  300.20,-999.0000,9,-999.0000,9,-999.0000,9,-999.0000,9,-999.0000,9,-999.0000,9,     -999.0,     -999.0,9,     -999.0,9,     -999.0,9,     -999.0,9,     -999.0,9,     -999.0,9, -999.00,9,   9.4884,-999.0000,-999.000
325020060213,       P16N,      27,          1,         25,         25,2,20060224,       0651,          5,       -151,       5032,   350.2,   9.1853,  34.6598,2,  34.6573,2,     57.2,2,    55.9,2,   32.80,2,   33.80,2,    0.00,2,    2.26,2,   0.340,2,   0.183,2,-999.000,5,  2239.4,2,  2306.6,2,   -999.0,9,  -999.00,   7.5012,2,    25.00,   0.140,2,   0.002,   1.8094,2,    6.66,2, -999.00,5,   -72.5,2,     2.9,   7.686,2,   0.023,   43.43,2,   38.09,2,  350.20,-999.0000,9,-999.0000,9,-999.0000,9,-999.0000,9,-999.0000,9,-999.0000,9,     -999.0,     -999.0,9,     -999.0,9,     -999.0,9,     -999.0,9,     -999.0,9,     -999.0,9, -999.00,9,   9.1466,   0.0054,    0.14
325020060213,       P16N,      27,          1,         24,         24,2,20060224,       0651,          5,       -151,       5032,   399.8,   8.6496,  34.6378,2,  34.6396,2,     42.9,2,    40.6,2,   37.40,2,   36.30,2,    0.00,2,    2.46,2,   0.170,2,   0.094,2,-999.000,5,  2261.4,2,  2309.5,2,   -999.0,9,  -999.00,   7.4544,2,    25.00,   0.063,2,   0.005,   1.8055,2,    7.09,2, -999.00,5,   -94.3,2,     3.0,   7.625,2,   0.023,   43.66,2,   40.29,2,  399.80,-999.0000,9,-999.0000,9,-999.0000,9,-999.0000,9,-999.0000,9,-999.0000,9,     -999.0,     -999.0,9,     -999.0,9,     -999.0,9,     -999.0,9,     -999.0,9,     -999.0,9, -999.00,9,   8.6069,   0.0054,    0.14
325020060213,       P16N,      27,          1,         23,         23,2,20060224,       0651,          5,       -151,       5032,   450.1,   8.1980,  34.6220,2,  34.6217,2,     27.8,2,    27.4,2,   41.90,2,   38.20,2,    0.00,2,    2.63,2,   0.082,2,   0.046,2,-999.000,5,  2275.1,2,  2315.5,2,   -999.0,9,  -999.00,   7.4161,2,    25.00,-999.000,9,-999.000,   1.8191,2,    7.19,2, -999.00,5,  -106.2,2,     2.9,   7.701,2,   0.023,   41.98,2,   42.56,2,  450.10,-999.0000,9,-999.0000,9,-999.0000,9,-999.0000,9,-999.0000,9,-999.0000,9,     -999.0,     -999.0,9,     -999.0,9,     -999.0,9,     -999.0,9,     -999.0,9,     -999.0,9, -999.00,9,   8.1513,   0.0055,    0.14
325020060213,       P16N,      27,          1,         22,         22,2,20060224,       0651,          5,       -151,       5032,   500.3,   7.6391,  34.5966,2,  34.5946,2,     32.6,2,    32.6,2,   46.50,2,   38.90,2,    0.00,2,    2.70,2,   0.051,2,   0.029,2,-999.000,5,  2283.3,2,  2319.0,2,   -999.0,9,  -999.00,   7.4185,2,    25.00,   0.026,2,   0.005,   1.8359,2,    8.32,2, -999.00,5,  -115.1,2,     3.1,   7.786,2,   0.023,   41.22,2,   42.77,2,  500.30,-999.0000,9,-999.0000,9,-999.0000,9,-999.0000,9,-999.0000,9,-999.0000,9,     -999.0,     -999.0,9,     -999.0,9,     -999.0,9,     -999.0,9,     -999.0,9,     -999.0,9, -999.00,9,   7.5891,   0.0055,    0.14
325020060213,       P16N,      27,          1,         21,         21,2,20060224,       0651,          5,       -151,       5032,   600.1,   6.7158,  34.5670,2,  34.5669,2,     37.3,2,    36.3,2,   55.40,2,   40.30,2,    0.00,2,    2.81,2,   0.019,2,   0.008,2,-999.000,5,  2291.5,2,  2327.0,2,   -999.0,9,  -999.00,   7.4037,2,    25.00,   0.016,2,   0.005,   1.8344,2,    9.69,2, -999.00,5,  -138.3,2,     2.5,   7.786,2,   0.023,   39.80,2,   44.70,2,  600.10,-999.0000,9,-999.0000,9,-999.0000,9,-999.0000,9,-999.0000,9,-999.0000,9,     -999.0,     -999.0,9,     -999.0,9,     -999.0,9,     -999.0,9,     -999.0,9,     -999.0,9, -999.00,9,   6.6596,   0.0055,    0.14
325020060213,       P16N,      27,          1,         20,         20,2,20060224,       0651,          5,       -151,       5032,   699.8,   5.8720,  34.5513,2,  34.5587,2,     50.2,2,    51.2,2,   65.20,2,   40.50,2,    0.00,2,    2.81,2,   0.013,2,   0.005,2,-999.000,5,  2300.0,2,  2335.1,2,   -999.0,9,  -999.00,   7.4307,2,    25.00,-999.000,9,-999.000,   1.8592,2,   12.06,2, -999.00,5,  -153.6,2,     2.8,   7.884,2,   0.024,   39.19,2,   44.71,2,  699.80,-999.0000,9,-999.0000,9,-999.0000,9,-999.0000,9,-999.0000,9,-999.0000,9,     -999.0,     -999.0,9,     -999.0,9,     -999.0,9,     -999.0,9,     -999.0,9,     -999.0,9, -999.00,9,   5.8105,   0.0056,    0.14
325020060213,       P16N,      27,          1,         19,         19,2,20060224,       0651,          5,       -151,       5032,   799.1,   5.2984,  34.5509,2,  34.5489,2,     63.5,2,    63.9,2,   72.10,2,   40.30,2,    0.00,2,    2.80,2,   0.010,2,   0.005,2,-999.000,5,  2297.6,2,  2354.4,3,   -999.0,9,  -999.00,   7.4502,2,    25.00,   0.023,2,   0.005,   1.8630,2,   14.01,2, -999.00,5,  -162.9,2,     2.5,   7.938,2,   0.024,   38.18,2,   44.29,2,  799.10,-999.0000,9,-999.0000,9,-999.0000,9,-999.0000,9,-999.0000,9,-999.0000,9,     -999.0,     -999.0,9,     -999.0,9,     -999.0,9,     -999.0,9,     -999.0,9,     -999.0,9, -999.00,9,   5.2311,   0.0056,    0.14
325020060213,       P16N,      27,          1,         18,         18,2,20060224,       0651,          5,       -151,       5032,   901.3,   4.8857,  34.5563,2,  34.5562,2,     63.6,2,    62.9,2,   80.60,2,   40.80,2,    0.00,2,    2.85,2,   0.005,6,   0.004,6,-999.000,5,  2307.9,2,  2345.0,2,   -999.0,9,  -999.00,   7.4403,2,    25.00,   0.029,3,   0.005,   1.9140,2,   16.16,2, -999.00,9,  -999.0,9,    -9.0,   8.079,2,   0.024,   37.59,2,   45.03,2,  901.30,-999.0000,9,-999.0000,9,-999.0000,9,-999.0000,9,-999.0000,9,-999.0000,9,     -999.0,     -999.0,9,     -999.0,9,     -999.0,9,     -999.0,9,     -999.0,9,     -999.0,9, -999.00,9,   4.8120,   0.0057,    0.14
325020060213,       P16N,      27,          1,         17,         17,2,20060224,       0651,          5,       -151,       5032,  1000.7,   4.5052,  34.5641,2,  34.5644,2,     63.5,2,    63.7,2,   88.80,2,   41.10,2,    0.00,2,    2.89,2,   0.004,2,   0.002,2,-999.000,5,  2317.2,2,  2362.6,6,   -999.0,9,  -999.00,   7.4408,2,    25.00,-999.000,9,-999.000,-999.0000,9,-999.000,9, -999.00,9,  -999.0,9,    -9.0,-999.000,9,-999.000,   38.20,2,   44.69,2, 1000.70,-999.0000,9,-999.0000,9,-999.0000,9,-999.0000,9,-999.0000,9,-999.0000,9,     -999.0,     -999.0,9,     -999.0,9,     -999.0,9,     -999.0,9,     -999.0,9,     -999.0,9, -999.00,9,   4.4255,-999.0000,-999.000
325020060213,       P16N,      27,          1,         16,         16,2,20060224,       0651,          5,       -151,       5032,  1200.2,   3.8156,  34.5820,2,  34.5817,2,     72.2,2,    71.8,2,  103.40,2,   40.80,2,    0.00,2,    2.88,2,-999.000,9,-999.000,9,-999.000,9,  2327.5,2,  2380.1,2,   -999.0,9,  -999.00,   7.4638,2,    25.00,   0.033,3,   0.005,   1.9164,2,   19.00,2, -999.00,9,  -999.0,9,    -9.0,   8.096,2,   0.024,   37.63,2,   44.09,2, 1200.20,-999.0000,9,-999.0000,9,-999.0000,9,-999.0000,9,-999.0000,9,-999.0000,9,     -999.0,     -999.0,9,     -999.0,9,     -999.0,9,     -999.0,9,     -999.0,9,     -999.0,9, -999.00,9,   3.7246,   0.0057,    0.14
325020060213,       P16N,      27,          1,         15,         15,2,20060224,       0651,          5,       -151,       5032,  1398.8,   3.2653,  34.6016,2,  34.6031,2,     74.7,2,    74.7,2,  117.50,2,   41.00,2,    0.00,2,    2.90,2,   0.003,2,   0.001,2,-999.000,5,  2341.0,2,  2396.0,2,   -999.0,9,  -999.00,   7.4578,2,    25.00,-999.000,9,-999.000,-999.0000,9,-999.000,9, -999.00,9,  -999.0,9,    -9.0,-999.000,9,-999.000,   38.20,2,   45.25,2, 1398.80,-999.0000,9,-999.0000,9,-999.0000,9,-999.0000,9,-999.0000,9,-999.0000,9,     -999.0,     -999.0,9,     -999.0,9,     -999.0,9,     -999.0,9,     -999.0,9,     -999.0,9, -999.00,9,   3.1629,-999.0000,-999.000
325020060213,       P16N,      27,          1,         14,         14,2,20060224,       0651,          5,       -151,       5032,  1600.0,   2.8560,  34.6169,2,  34.6179,2,     84.3,2,    84.5,2,  126.50,2,   40.40,2,    0.00,2,    2.86,2,-999.000,9,-999.000,9,-999.000,9,  2344.0,2,  2403.3,2,   -999.0,9,  -999.00,   7.4743,2,    25.00,-999.000,9,-999.000,-999.0000,9,-999.000,9, -999.00,9,  -999.0,9,    -9.0,-999.000,9,-999.000,   37.71,2,   43.93,2, 1600.00,-999.0000,9,-999.0000,9,-999.0000,9,-999.0000,9,-999.0000,9,-999.0000,9,     -999.0,     -999.0,9,     -999.0,9,     -999.0,9,     -999.0,9,     -999.0,9,     -999.0,9, -999.00,9,   2.7414,-999.0000,-999.000
325020060213,       P16N,      27,          1,         13,         13,2,20060224,       0651,          5,       -151,       5032,  1799.6,   2.5282,  34.6308,2,  34.6281,2,     93.6,2,    93.1,2,  133.60,2,   39.80,2,    0.00,2,    2.81,2,   0.001,2,   0.000,2,-999.000,5,  2347.1,2,  2411.0,2,   -999.0,9,  -999.00,   7.4815,2,    25.00,-999.000,9,-999.000,-999.0000,9,-999.000,9, -999.00,9,  -999.0,9,    -9.0,-999.000,9,-999.000,   36.63,2,   43.65,2, 1799.60,-999.0000,9,-999.0000,9,-999.0000,9,-999.0000,9,-999.0000,9,-999.0000,9,     -999.0,     -999.0,9,     -999.0,9,     -999.0,9,     -999.0,9,     -999.0,9,     -999.0,9, -999.00,9,   2.4010,-999.0000,-999.000
325020060213,       P16N,      27,          1,         12,         12,2,20060224,       0651,          5,       -151,       5032,  2001.9,   2.3001,  34.6426,2,  34.6422,2,     99.9,2,    99.1,2,  139.30,2,   39.40,2,    0.00,2,    2.77,2,-999.000,9,-999.000,9,-999.000,9,  2350.0,2,  2417.5,2,   -999.0,9,  -999.00,   7.4898,2,    25.00,-999.000,9,-999.000,-999.0000,9,-999.000,9, -999.00,9,  -999.0,9,    -9.0,-999.000,9,-999.000,   36.85,2,   42.80,2, 2001.90,-999.0000,9,-999.0000,9,-999.0000,9,-999.0000,9,-999.0000,9,-999.0000,9,     -999.0,     -999.0,9,     -999.0,9,     -999.0,9,     -999.0,9,     -999.0,9,     -999.0,9, -999.00,9,   2.1589,-999.0000,-999.000
325020060213,       P16N,      27,          1,         11,         11,2,20060224,       0651,          5,       -151,       5032,  2250.5,   2.0272,  34.6598,2,  34.6568,2,    108.8,2,   108.0,2,  145.90,2,   38.80,2,    0.00,2,    2.72,2,   0.004,2,   0.001,2,-999.000,5,  2352.5,2,  2428.2,2,   -999.0,9,  -999.00,   7.5184,2,    25.00,-999.000,9,-999.000,-999.0000,9,-999.000,9, -999.00,9,  -999.0,9,    -9.0,-999.000,9,-999.000,   36.50,2,   43.12,2, 2250.50,-999.0000,9,-999.0000,9,-999.0000,9,-999.0000,9,-999.0000,9,-999.0000,9,     -999.0,     -999.0,9,     -999.0,9,     -999.0,9,     -999.0,9,     -999.0,9,     -999.0,9, -999.00,9,   1.8687,-999.0000,-999.000
325020060213,       P16N,      27,          1,         10,         10,2,20060224,       0651,          5,       -151,       5032,  2500.5,   1.9069,  34.6669,2,  34.6690,2,    113.4,2,   112.5,2,  149.10,2,   38.60,2,    0.00,2,    2.69,2,-999.000,9,-999.000,9,-999.000,9,  2352.6,2,  2432.2,2,   -999.0,9,  -999.00,   7.5294,2,    25.00,-999.000,9,-999.000,-999.0000,9,-999.000,9, -999.00,9,  -999.0,9,    -9.0,-999.000,9,-999.000,   36.98,2,   42.35,2, 2500.50,-999.0000,9,-999.0000,9,-999.0000,9,-999.0000,9,-999.0000,9,-999.0000,9,     -999.0,     -999.0,9,     -999.0,9,     -999.0,9,     -999.0,9,     -999.0,9,     -999.0,9, -999.00,9,   1.7282,-999.0000,-999.000
325020060213,       P16N,      27,          1,          9,          9,2,20060224,       0651,          5,       -151,       5032,  2750.3,   1.8265,  34.6722,2,  34.6706,2,    117.2,2,   116.9,2,  150.90,2,   38.30,2,    0.00,2,    2.67,2,  -0.001,2,   0.001,2,-999.000,5,  2352.6,2,  2433.3,2,   -999.0,9,  -999.00,   7.5401,2,    25.00,-999.000,9,-999.000,-999.0000,9,-999.000,9, -999.00,9,  -999.0,9,    -9.0,-999.000,9,-999.000,   36.41,2,   41.74,2, 2750.30,-999.0000,9,-999.0000,9,-999.0000,9,-999.0000,9,-999.0000,9,-999.0000,9,     -999.0,     -999.0,9,     -999.0,9,     -999.0,9,     -999.0,9,     -999.0,9,     -999.0,9, -999.00,9,   1.6264,-999.0000,-999.000