BOTTLE,20170720CCHSIOCBG
EXPOCODE,SECT_ID,STNNBR,CASTNO,SAMPNO,BTLNBR,BTLNBR_FLAG_W,DATE,TIME,LATITUDE,LONGITUDE,DEPTH,CTDPRS,CTDTMP,CTDSAL,CTDSAL_FLAG_W,SALNTY,SALNTY_FLAG_W,CTDOXY,CTDOXY_FLAG_W,OXYGEN,OXYGEN_FLAG_W,SILCAT,SILCAT_FLAG_W,NITRAT,NITRAT_FLAG_W,NITRIT,NITRIT_FLAG_W,PHSPHT,PHSPHT_FLAG_W,CFC-11,CFC-11_FLAG_W,CFC-12,CFC-12_FLAG_W,CFC113,CFC113_FLAG_W,TCARBN,TCARBN_FLAG_W,ALKALI,ALKALI_FLAG_W,FCO2,FCO2_FLAG_W,FCO2TMP,PH_TOT,PH_TOT_FLAG_W,PH_TMP,TRITUM,TRITUM_FLAG_W,TRITER,HELIUM,HELIUM_FLAG_W,DELHE3,DELHE3_FLAG_W,DELC13,DELC13_FLAG_W,DELC14,DELC14_FLAG_W,C14ERR,NEON,NEON_FLAG_W,NEONER,DOC,DOC_FLAG_W,TDN,TDN_FLAG_W,CTDRAW,CDOM325,CDOM325_FLAG_W,CDOM340,CDOM340_FLAG_W,CDOM380,CDOM380_FLAG_W,CDOM412,CDOM412_FLAG_W,CDOMSL,CDOMSL_FLAG_W,CDOMSN,CDOMSN_FLAG_W,DCNS,ARABI,ARABI_FLAG_W,FUCO,FUCO_FLAG_W,GALA,GALA_FLAG_W,GLUC,GLUC_FLAG_W,MAN,MAN_FLAG_W,RHAM,RHAM_FLAG_W,BRDU,BRDU_FLAG_W,THETA,HELIER,DELHER
,,,,,,,,,,,METERS,DBAR,ITS-90,PSS-78,,PSS-78,,UMOL/KG,,UMOL/KG,,UMOL/KG,,UMOL/KG,,UMOL/KG,,UMOL/KG,,PMOL/KG,,PMOL/KG,,PMOL/KG,,UMOL/KG,,UMOL/KG,,UATM,,DEG C,,,DEG C,TU,,TU,NMOL/KG,,PERCNT,,/MILLE,,/MILLE,,/MILLE,NMOL/KG,,NMOL/KG,UMOL/KG,,UMOL/KG,,DBAR,1/M,,1/M,,1/M,,1/M,,1/NM,,1/NM,,NMOL/KG,NMOL/KG,,NMOL/KG,,NMOL/KG,,NMOL/KG,,NMOL/KG,,NMOL/KG,,PMOL/L/H,,DEG C,NMOL/KG,PERCNT
325020060213,       P16N,      33,          1,         35,         35,2,20060226,       1600,    11.0003,  -152.0007,       5395,     5.0,  26.3492,  34.5581,2,  34.5622,2,    205.4,2,   204.5,2,    0.30,2,    0.00,2,    0.00,2,    0.15,2,   1.729,2,   1.069,2,-999.000,5,  1956.3,2,  2272.5,2,   -999.0,9,  -999.00,   8.0847,2,    25.00,   0.676,2,   0.004,   1.7207,2,   -1.39,2, -999.00,5,    58.9,2,     3.9,   6.753,2,   0.020,   67.37,2,    3.72,2,    5.00,-999.0000,9,-999.0000,9,-999.0000,9,-999.0000,9,-999.0000,9,-999.0000,9,     -999.0,     -999.0,9,     -999.0,9,     -999.0,9,     -999.0,9,     -999.0,9,     -999.0,9, -999.00,9,  26.3481,   0.0052,    0.14
325020060213,       P16N,      33,          1,         34,         34,2,20060226,       1600,    11.0003,  -152.0007,       5395,    25.1,  26.3547,  34.5608,2,  34.5618,2,    205.2,2,   204.3,2,    0.30,2,    0.00,2,    0.00,2,    0.15,2,-999.000,9,-999.000,9,-999.000,9,  1958.1,2,  2274.8,2,   -999.0,9,  -999.00,   8.0839,2,    25.00,   0.635,2,   0.004,   1.7172,2,   -1.54,2, -999.00,9,  -999.0,9,    -9.0,   6.777,2,   0.020,   66.35,2,    3.84,2,   25.10,-999.0000,9,-999.0000,9,-999.0000,9,-999.0000,9,-999.0000,9,-999.0000,9,     -999.0,     -999.0,9,     -999.0,9,     -999.0,9,     -999.0,9,     -999.0,9,     -999.0,9, -999.00,9,  26.3490,   0.0052,    0.14
325020060213,       P16N,      33,          1,         33,         33,2,20060226,       1600,    11.0003,  -152.0007,       5395,    51.4,  26.3562,  34.6775,2,  34.6981,2,    205.3,2,   204.9,2,    0.50,2,    0.10,2,    0.00,2,    0.19,2,   1.723,2,   1.069,2,-999.000,5,  1969.1,2,  2279.9,2,   -999.0,9,  -999.00,   8.0718,2,    25.00,   0.688,2,   0.003,   1.7131,2,   -1.47,2, -999.00,5,    55.5,2,     3.5,   6.757,2,   0.020,   63.63,2,    3.77,2,   51.40,-999.0000,9,-999.0000,9,-999.0000,9,-999.0000,9,-999.0000,9,-999.0000,9,     -999.0,     -999.0,9,     -999.0,9,     -999.0,9,     -999.0,9,     -999.0,9,     -999.0,9, -999.00,9,  26.3446,   0.0051,    0.14
325020060213,       P16N,      33,          1,         32,         32,2,20060226,       1600,    11.0003,  -152.0007,       5395,    75.4,  20.7316,  34.6177,2,  34.5651,2,    197.9,2,   186.7,2,    3.00,2,    2.70,2,    0.10,2,    0.46,2,   2.271,2,   1.325,2,-999.000,5,  2060.8,2,  2289.6,2,   -999.0,9,  -999.00,   7.9214,2,    25.00,   0.923,2,   0.004,   1.7454,2,    0.01,2, -999.00,5,    43.0,2,     3.4,   7.138,2,   0.021,   60.87,2,    6.63,2,   75.40,-999.0000,9,-999.0000,9,-999.0000,9,-999.0000,9,-999.0000,9,-999.0000,9,     -999.0,     -999.0,9,     -999.0,9,     -999.0,9,     -999.0,9,     -999.0,9,     -999.0,9, -999.00,9,  20.7174,   0.0052,    0.14
325020060213,       P16N,      33,          1,         31,         31,2,20060226,       1600,    11.0003,  -152.0007,       5395,   100.5,  14.1541,  34.4955,2,  34.5351,2,     50.5,2,    33.7,2,   19.00,2,   26.00,2,    0.70,2,    2.05,2,   1.488,2,   0.816,2,-999.000,5,  2216.3,2,  2280.0,2,   -999.0,9,  -999.00,   7.5075,2,    25.00,   0.555,2,   0.003,   1.7792,2,    6.42,2, -999.00,5,     7.9,2,     3.7,   7.427,2,   0.022,   53.15,2,   30.43,2,  100.50,-999.0000,9,-999.0000,9,-999.0000,9,-999.0000,9,-999.0000,9,-999.0000,9,     -999.0,     -999.0,9,     -999.0,9,     -999.0,9,     -999.0,9,     -999.0,9,     -999.0,9, -999.00,9,  14.1395,   0.0053,    0.14
325020060213,       P16N,      33,          1,         30,         30,2,20060226,       1600,    11.0003,  -152.0007,       5395,   125.7,  12.5294,  34.7050,2,  34.7045,2,      4.1,2,     5.7,2,   25.90,2,   31.60,2,    0.00,2,    2.36,2,   0.758,2,   0.412,2,-999.000,5,  2250.0,2,  2291.9,2,   -999.0,9,  -999.00,   7.4435,2,    25.00,   0.386,2,   0.003,   1.7691,2,    7.63,2, -999.00,5,   -19.7,2,     4.2,   7.447,2,   0.022,   51.54,2,   35.42,2,  125.70,-999.0000,9,-999.0000,9,-999.0000,9,-999.0000,9,-999.0000,9,-999.0000,9,     -999.0,     -999.0,9,     -999.0,9,     -999.0,9,     -999.0,9,     -999.0,9,     -999.0,9, -999.00,9,  12.5126,   0.0053,    0.14
325020060213,       P16N,      33,          1,         29,         29,2,20060226,       1600,    11.0003,  -152.0007,       5395,   151.7,  11.6937,  34.7004,2,  34.7005,2,      7.6,2,     9.2,2,   27.00,2,   33.60,2,    0.00,2,    2.33,2,   0.590,2,   0.325,2,-999.000,5,  2248.4,6,  2295.3,2,   -999.0,9,  -999.00,   7.4425,2,    25.00,   0.347,2,   0.002,   1.7752,2,    7.70,2, -999.00,5,   -31.3,2,     3.4,   7.461,2,   0.022,   49.04,2,   38.17,2,  151.70,-999.0000,9,-999.0000,9,-999.0000,9,-999.0000,9,-999.0000,9,-999.0000,9,     -999.0,     -999.0,9,     -999.0,9,     -999.0,9,     -999.0,9,     -999.0,9,     -999.0,9, -999.00,9,  11.6743,   0.0053,    0.14
325020060213,       P16N,      33,          1,         28,         28,2,20060226,       1600,    11.0003,  -152.0007,       5395,   201.8,  10.9262,  34.7105,2,  34.7094,2,     14.8,2,    16.5,2,   28.90,2,   34.20,2,    0.00,2,    2.30,2,   0.422,2,   0.232,2,-999.000,5,  2252.5,2,  2301.1,6,   -999.0,9,  -999.00,   7.4466,2,    25.00,   0.275,2,   0.002,   1.8020,2,    7.62,2, -999.00,5,   -43.8,2,     3.5,   7.518,2,   0.023,   46.98,2,   38.07,2,  201.80,-999.0000,9,-999.0000,9,-999.0000,9,-999.0000,9,-999.0000,9,-999.0000,9,     -999.0,     -999.0,9,     -999.0,9,     -999.0,9,     -999.0,9,     -999.0,9,     -999.0,9, -999.00,9,  10.9015,   0.0054,    0.14
325020060213,       P16N,      33,          1,         27,         27,2,20060226,       1600,    11.0003,  -152.0007,       5395,   250.4,  10.4335,  34.6991,2,  34.6974,2,     20.7,2,    18.0,2,   30.60,2,   34.50,2,    0.00,2,    2.33,2,   0.322,6,   0.179,6,-999.000,5,  2255.8,2,  2303.6,2,   -999.0,9,  -999.00,   7.4394,2,    25.00,   0.216,2,   0.002,   1.7825,2,    7.17,2, -999.00,5,   -60.1,2,     3.1,   7.520,2,   0.023,   45.42,2,   38.92,2,  250.40,-999.0000,9,-999.0000,9,-999.0000,9,-999.0000,9,-999.0000,9,-999.0000,9,     -999.0,     -999.0,9,     -999.0,9,     -999.0,9,     -999.0,9,     -999.0,9,     -999.0,9, -999.00,9,  10.4037,   0.0053,    0.14
325020060213,       P16N,      33,          1,         26,         26,2,20060226,       1600,    11.0003,  -152.0007,       5395,   300.9,   9.9958,  34.6844,2,  34.6844,2,     16.4,2,    17.8,2,   32.60,2,   35.40,2,    0.00,2,    2.39,2,   0.228,2,   0.130,2,-999.000,5,  2262.5,2,  2302.6,2,   -999.0,9,  -999.00,   7.4299,2,    25.00,   0.163,2,   0.002,   1.7923,2,    6.62,2, -999.00,5,   -72.2,2,     3.2,   7.545,2,   0.023,   44.69,2,   39.19,2,  300.90,-999.0000,9,-999.0000,9,-999.0000,9,-999.0000,9,-999.0000,9,-999.0000,9,     -999.0,     -999.0,9,     -999.0,9,     -999.0,9,     -999.0,9,     -999.0,9,     -999.0,9, -999.00,9,   9.9609,   0.0054,    0.14
325020060213,       P16N,      33,          1,         25,         25,2,20060226,       1600,    11.0003,  -152.0007,       5395,   350.5,   9.6005,  34.6673,2,  34.6675,2,     22.7,2,    22.7,2,   34.00,2,   35.60,2,    0.00,2,    2.41,2,   0.189,2,   0.109,2,-999.000,5,  2258.3,2,  2302.6,2,   -999.0,9,  -999.00,   7.4279,2,    25.00,   0.139,2,   0.002,   1.7941,2,    6.61,2, -999.00,5,   -78.6,2,     2.8,   7.562,2,   0.023,   43.80,2,   39.49,2,  350.50,-999.0000,9,-999.0000,9,-999.0000,9,-999.0000,9,-999.0000,9,-999.0000,9,     -999.0,     -999.0,9,     -999.0,9,     -999.0,9,     -999.0,9,     -999.0,9,     -999.0,9, -999.00,9,   9.5607,   0.0054,    0.14
325020060213,       P16N,      33,          1,         24,         24,2,20060226,       1600,    11.0003,  -152.0007,       5395,   401.4,   9.2651,  34.6507,2,  34.6473,2,     20.7,2,    20.8,2,   36.30,2,   36.20,2,    0.00,2,    2.47,2,   0.202,2,   0.081,2,-999.000,5,  2264.0,2,  2304.5,2,   -999.0,9,  -999.00,   7.4267,2,    25.00,   0.114,2,   0.002,   1.8074,2,    6.64,2, -999.00,5,   -88.8,2,     2.5,   7.598,2,   0.023,   43.16,2,   39.94,2,  401.40,-999.0000,9,-999.0000,9,-999.0000,9,-999.0000,9,-999.0000,9,-999.0000,9,     -999.0,     -999.0,9,     -999.0,9,     -999.0,9,     -999.0,9,     -999.0,9,     -999.0,9, -999.00,9,   9.2204,   0.0054,    0.14
325020060213,       P16N,      33,          1,         23,         23,2,20060226,       1600,    11.0003,  -152.0007,       5395,   450.8,   8.8302,  34.6258,2,  34.6236,2,     15.5,2,    16.4,2,   40.00,2,   37.10,2,    0.00,2,    2.58,2,   0.071,2,   0.043,2,-999.000,5,  2267.7,2,  2311.4,2,   -999.0,9,  -999.00,   7.4067,2,    25.00,   0.091,2,   0.002,   1.8044,2,    6.42,2, -999.00,5,   -98.4,2,     3.0,   7.613,2,   0.023,   42.67,2,   41.40,2,  450.80,-999.0000,9,-999.0000,9,-999.0000,9,-999.0000,9,-999.0000,9,-999.0000,9,     -999.0,     -999.0,9,     -999.0,9,     -999.0,9,     -999.0,9,     -999.0,9,     -999.0,9, -999.00,9,   8.7813,   0.0054,    0.14
325020060213,       P16N,      33,          1,         22,         22,2,20060226,       1600,    11.0003,  -152.0007,       5395,   501.0,   8.3915,  34.6023,2,  34.6007,2,     13.5,2,    15.3,2,   44.10,2,   37.70,2,    0.00,2,    2.66,2,   0.042,2,   0.025,2,-999.000,5,  2277.9,2,  2314.6,2,   -999.0,9,  -999.00,-999.0000,9,  -999.00,   0.068,2,   0.001,   1.8194,2,    7.22,2, -999.00,5,  -112.0,2,     2.4,   7.679,2,   0.023,   40.98,2,   41.86,2,  501.00,-999.0000,9,-999.0000,9,-999.0000,9,-999.0000,9,-999.0000,9,-999.0000,9,     -999.0,     -999.0,9,     -999.0,9,     -999.0,9,     -999.0,9,     -999.0,9,     -999.0,9, -999.00,9,   8.3387,   0.0055,    0.14
325020060213,       P16N,      33,          1,         21,         21,2,20060226,       1600,    11.0003,  -152.0007,       5395,   601.7,   7.6353,  34.5657,2,  34.5628,2,     14.3,2,    16.2,2,   51.70,2,   38.80,2,    0.00,2,    2.79,2,   0.018,2,   0.012,2,-999.000,5,  2327.9,3,  2321.1,2,   -999.0,9,  -999.00,   7.3794,2,    25.00,   0.047,2,   0.001,   1.8185,2,    8.14,2, -999.00,5,  -127.0,2,     3.0,   7.667,2,   0.023,   40.58,2,   42.43,2,  601.70,-999.0000,9,-999.0000,9,-999.0000,9,-999.0000,9,-999.0000,9,-999.0000,9,     -999.0,     -999.0,9,     -999.0,9,     -999.0,9,     -999.0,9,     -999.0,9,     -999.0,9, -999.00,9,   7.5748,   0.0055,    0.14
325020060213,       P16N,      33,          1,         20,         20,2,20060226,       1600,    11.0003,  -152.0007,       5395,   700.3,   6.7276,  34.5394,2,  34.5363,2,     15.8,2,    15.8,2,   62.20,2,   40.50,2,    0.00,2,    2.90,2,   0.007,6,   0.004,6,-999.000,5,  2299.3,3,  2326.4,2,   -999.0,9,  -999.00,-999.0000,9,  -999.00,   0.014,2,   0.001,   1.8450,2,   10.40,2, -999.00,5,  -148.2,2,     3.1,   7.801,2,   0.023,   40.20,2,   44.35,2,  700.30,-999.0000,9,-999.0000,9,-999.0000,9,-999.0000,9,-999.0000,9,-999.0000,9,     -999.0,     -999.0,9,     -999.0,9,     -999.0,9,     -999.0,9,     -999.0,9,     -999.0,9, -999.00,9,   6.6616,   0.0055,    0.14
325020060213,       P16N,      33,          1,         19,         19,2,20060226,       1600,    11.0003,  -152.0007,       5395,   801.1,   5.8771,  34.5286,2,  34.5274,2,     20.5,2,    20.1,2,   73.00,2,   42.00,2,    0.00,2,    2.98,2,   0.001,2,   0.002,2,-999.000,5,  2311.6,3,  2338.4,2,   -999.0,9,  -999.00,   7.3669,2,    25.00,   0.038,2,   0.001,   1.8413,2,   12.78,2, -999.00,5,  -159.7,2,     2.4,   7.790,2,   0.023,   39.76,2,   46.00,2,  801.10,-999.0000,9,-999.0000,9,-999.0000,9,-999.0000,9,-999.0000,9,-999.0000,9,     -999.0,     -999.0,9,     -999.0,9,     -999.0,9,     -999.0,9,     -999.0,9,     -999.0,9, -999.00,9,   5.8061,   0.0055,    0.14
325020060213,       P16N,      33,          1,         18,         18,2,20060226,       1600,    11.0003,  -152.0007,       5395,   900.3,   5.3134,  34.5395,2,  34.5373,2,     31.7,2,    30.1,2,   80.60,2,   42.60,2,    0.00,2,    2.98,2,   0.002,2,   0.001,2,-999.000,5,  2319.4,2,  2347.7,2,   -999.0,9,  -999.00,-999.0000,9,  -999.00,   0.042,2,   0.002,   1.8928,2,   14.92,2, -999.00,9,  -999.0,9,    -9.0,   7.972,2,   0.024,   39.76,2,   46.87,2,  900.30,-999.0000,9,-999.0000,9,-999.0000,9,-999.0000,9,-999.0000,9,-999.0000,9,     -999.0,     -999.0,9,     -999.0,9,     -999.0,9,     -999.0,9,     -999.0,9,     -999.0,9, -999.00,9,   5.2368,   0.0057,    0.14
325020060213,       P16N,      33,          1,         17,         17,2,20060226,       1600,    11.0003,  -152.0007,       5395,  1001.8,   4.7840,  34.5490,2,  34.5477,2,     38.2,2,    39.2,2,   88.50,2,   42.70,2,    0.00,2,    3.00,2,-999.000,9,-999.000,9,-999.000,9,  2317.7,2,  2362.3,6,   -999.0,9,  -999.00,-999.0000,9,  -999.00,   0.031,2,   0.001,   1.8847,2,   17.01,2, -999.00,5,  -185.2,2,     3.3,   7.934,2,   0.024,   38.92,2,   46.43,2, 1001.80,-999.0000,9,-999.0000,9,-999.0000,9,-999.0000,9,-999.0000,9,-999.0000,9,     -999.0,     -999.0,9,     -999.0,9,     -999.0,9,     -999.0,9,     -999.0,9,     -999.0,9, -999.00,9,   4.7021,   0.0057,    0.14
325020060213,       P16N,      33,          1,         16,         16,2,20060226,       1600,    11.0003,  -152.0007,       5395,  1200.2,   4.1148,  34.5684,2,  34.5671,2,     56.5,2,    55.8,2,  100.50,2,   41.70,2,    0.00,2,    2.93,2,   0.007,2,   0.002,2,-999.000,5,  2326.5,2,  2376.5,2,   -999.0,9,  -999.00,   7.4170,2,    25.00,   0.019,2,   0.001,   1.9038,2,   18.76,2, -999.00,5,  -204.0,2,     2.6,   8.000,2,   0.024,   38.33,2,   46.03,2, 1200.20,-999.0000,9,-999.0000,9,-999.0000,9,-999.0000,9,-999.0000,9,-999.0000,9,     -999.0,     -999.0,9,     -999.0,9,     -999.0,9,     -999.0,9,     -999.0,9,     -999.0,9, -999.00,9,   4.0210,   0.0057,    0.14
325020060213,       P16N,      33,          1,         15,         15,2,20060226,       1600,    11.0003,  -152.0007,       5395,  1399.8,   3.5182,  34.5864,2,  34.5870,2,     63.8,2,    64.9,2,  113.60,2,   41.60,2,    0.00,2,    2.92,2,-999.000,9,-999.000,9,-999.000,9,  2338.3,2,  2390.1,2,   -999.0,9,  -999.00,   7.4354,2,    25.00,-999.000,9,-999.000,-999.0000,9,-999.000,9, -999.00,5,  -211.2,2,     3.1,-999.000,9,-999.000,   38.21,2,   45.36,2, 1399.80,-999.0000,9,-999.0000,9,-999.0000,9,-999.0000,9,-999.0000,9,-999.0000,9,     -999.0,     -999.0,9,     -999.0,9,     -999.0,9,     -999.0,9,     -999.0,9,     -999.0,9, -999.00,9,   3.4130,-999.0000,-999.000
325020060213,       P16N,      33,          1,         14,         14,2,20060226,       1600,    11.0003,  -152.0007,       5395,  1600.6,   3.0424,  34.6028,2,  34.6015,2,     70.9,2,    71.1,2,  125.30,2,   41.20,2,    0.00,2,    2.89,2,-999.000,9,-999.000,9,-999.000,9,  2342.9,2,  2396.4,2,   -999.0,9,  -999.00,   7.4446,2,    25.00,-999.000,9,-999.000,-999.0000,9,-999.000,9, -999.00,5,  -230.4,2,     2.6,-999.000,9,-999.000,   37.33,2,   45.28,2, 1600.60,-999.0000,9,-999.0000,9,-999.0000,9,-999.0000,9,-999.0000,9,-999.0000,9,     -999.0,     -999.0,9,     -999.0,9,     -999.0,9,     -999.0,9,     -999.0,9,     -999.0,9, -999.00,9,   2.9255,-999.0000,-999.000
325020060213,       P16N,      33,          1,         13,         13,2,20060226,       1600,    11.0003,  -152.0007,       5395,  1801.1,   2.5613,  34.6224,2,  34.6212,2,     82.9,2,    82.9,2,  136.20,2,   40.50,2,    0.00,2,    2.83,2,-999.000,9,-999.000,9,-999.000,9,  2354.5,2,  2407.1,2,   -999.0,9,  -999.00,   7.4611,2,    25.00,-999.000,9,-999.000,-999.0000,9,-999.000,9, -999.00,5,  -240.6,2,     2.5,-999.000,9,-999.000,   37.91,2,   44.64,2, 1801.10,-999.0000,9,-999.0000,9,-999.0000,9,-999.0000,9,-999.0000,9,-999.0000,9,     -999.0,     -999.0,9,     -999.0,9,     -999.0,9,     -999.0,9,     -999.0,9,     -999.0,9, -999.00,9,   2.4335,-999.0000,-999.000
325020060213,       P16N,      33,          1,         12,         12,2,20060226,       1600,    11.0003,  -152.0007,       5395,  1999.4,   2.2858,  34.6357,2,  34.6347,2,     92.3,2,    93.1,2,  142.30,2,   39.90,2,    0.00,2,    2.77,2,   0.007,2,   0.003,2,-999.000,5,  2350.4,2,  2414.5,2,   -999.0,9,  -999.00,   7.4781,2,    25.00,-999.000,9,-999.000,-999.0000,9,-999.000,9, -999.00,5,  -238.4,2,     2.4,-999.000,9,-999.000,   37.40,2,   44.21,2, 1999.40,-999.0000,9,-999.0000,9,-999.0000,9,-999.0000,9,-999.0000,9,-999.0000,9,     -999.0,     -999.0,9,     -999.0,9,     -999.0,9,     -999.0,9,     -999.0,9,     -999.0,9, -999.00,9,   2.1450,-999.0000,-999.000
325020060213,       P16N,      33,          1,         11,         11,2,20060226,       1600,    11.0003,  -152.0007,       5395,  2251.6,   2.0208,  34.6520,2,  34.6514,2,    101.9,2,   101.8,2,  148.20,2,   39.30,2,    0.00,2,    2.72,2,-999.000,9,-999.000,9,-999.000,9,  2351.4,2,  2427.6,2,   -999.0,9,  -999.00,   7.5127,2,    25.00,-999.000,9,-999.000,-999.0000,9,-999.000,9, -999.00,5,  -248.6,2,     2.6,-999.000,9,-999.000,   36.00,2,   43.08,2, 2251.60,-999.0000,9,-999.0000,9,-999.0000,9,-999.0000,9,-999.0000,9,-999.0000,9,     -999.0,     -999.0,9,     -999.0,9,     -999.0,9,     -999.0,9,     -999.0,9,     -999.0,9, -999.00,9,   1.8623,-999.0000,-999.000
325020060213,       P16N,      33,          1,         10,         10,2,20060226,       1600,    11.0003,  -152.0007,       5395,  2500.7,   1.8648,  34.6631,2,  34.6621,2,    109.0,2,   109.0,2,  151.50,2,   38.80,2,    0.00,2,    2.66,2,   0.004,2,   0.000,2,-999.000,5,  2350.8,2,  2431.4,2,   -999.0,9,  -999.00,   7.5183,2,    25.00,-999.000,9,-999.000,-999.0000,9,-999.000,9, -999.00,5,  -240.7,2,     2.6,-999.000,9,-999.000,   37.51,2,   43.14,2, 2500.70,-999.0000,9,-999.0000,9,-999.0000,9,-999.0000,9,-999.0000,9,-999.0000,9,     -999.0,     -999.0,9,     -999.0,9,     -999.0,9,     -999.0,9,     -999.0,9,     -999.0,9, -999.00,9,   1.6869,-999.0000,-999.000
325020060213,       P16N,      33,          1,          9,          9,2,20060226,       1600,    11.0003,  -152.0007,       5395,  2749.6,   1.7603,  34.6718,2,  34.6697,2,    115.7,2,   115.5,2,  153.70,2,   38.40,2,    0.00,2,    2.64,2,-999.000,9,-999.000,9,-999.000,9,  2351.5,2,  2434.9,2,   -999.0,9,  -999.00,   7.5211,2,    25.00,-999.000,9,-999.000,-999.0000,9,-999.000,9, -999.00,5,  -234.0,2,     2.4,-999.000,9,-999.000,   36.45,2,   42.31,2, 2749.60,-999.0000,9,-999.0000,9,-999.0000,9,-999.0000,9,-999.0000,9,-999.0000,9,     -999.0,     -999.0,9,     -999.0,9,     -999.0,9,     -999.0,9,     -999.0,9,     -999.0,9, -999.00,9,   1.5616,-999.0000,-999.000