BOTTLE,20170720CCHSIOCBG
EXPOCODE,SECT_ID,STNNBR,CASTNO,SAMPNO,BTLNBR,BTLNBR_FLAG_W,DATE,TIME,LATITUDE,LONGITUDE,DEPTH,CTDPRS,CTDTMP,CTDSAL,CTDSAL_FLAG_W,SALNTY,SALNTY_FLAG_W,CTDOXY,CTDOXY_FLAG_W,OXYGEN,OXYGEN_FLAG_W,SILCAT,SILCAT_FLAG_W,NITRAT,NITRAT_FLAG_W,NITRIT,NITRIT_FLAG_W,PHSPHT,PHSPHT_FLAG_W,CFC-11,CFC-11_FLAG_W,CFC-12,CFC-12_FLAG_W,CFC113,CFC113_FLAG_W,TCARBN,TCARBN_FLAG_W,ALKALI,ALKALI_FLAG_W,FCO2,FCO2_FLAG_W,FCO2TMP,PH_TOT,PH_TOT_FLAG_W,PH_TMP,TRITUM,TRITUM_FLAG_W,TRITER,HELIUM,HELIUM_FLAG_W,DELHE3,DELHE3_FLAG_W,DELC13,DELC13_FLAG_W,DELC14,DELC14_FLAG_W,C14ERR,NEON,NEON_FLAG_W,NEONER,DOC,DOC_FLAG_W,TDN,TDN_FLAG_W,CTDRAW,CDOM325,CDOM325_FLAG_W,CDOM340,CDOM340_FLAG_W,CDOM380,CDOM380_FLAG_W,CDOM412,CDOM412_FLAG_W,CDOMSL,CDOMSL_FLAG_W,CDOMSN,CDOMSN_FLAG_W,DCNS,ARABI,ARABI_FLAG_W,FUCO,FUCO_FLAG_W,GALA,GALA_FLAG_W,GLUC,GLUC_FLAG_W,MAN,MAN_FLAG_W,RHAM,RHAM_FLAG_W,BRDU,BRDU_FLAG_W,THETA,HELIER,DELHER
,,,,,,,,,,,METERS,DBAR,ITS-90,PSS-78,,PSS-78,,UMOL/KG,,UMOL/KG,,UMOL/KG,,UMOL/KG,,UMOL/KG,,UMOL/KG,,PMOL/KG,,PMOL/KG,,PMOL/KG,,UMOL/KG,,UMOL/KG,,UATM,,DEG C,,,DEG C,TU,,TU,NMOL/KG,,PERCNT,,/MILLE,,/MILLE,,/MILLE,NMOL/KG,,NMOL/KG,UMOL/KG,,UMOL/KG,,DBAR,1/M,,1/M,,1/M,,1/M,,1/NM,,1/NM,,NMOL/KG,NMOL/KG,,NMOL/KG,,NMOL/KG,,NMOL/KG,,NMOL/KG,,NMOL/KG,,PMOL/L/H,,DEG C,NMOL/KG,PERCNT
325020060213,       P16N,      31,          2,         35,         35,2,20060225,       2133,          9,    -151.66,       5168,     5.0,  26.8727,  34.5991,2,-999.0000,5,    204.2,2,   203.3,2,    0.00,2,    0.00,2,    0.00,2,    0.15,2,   1.671,2,   1.050,2,-999.000,5,  1956.3,6,  2270.6,2,    280.8,2,    20.00,-999.0000,9,  -999.00,-999.000,9,-999.000,-999.0000,9,-999.000,9, -999.00,5,    57.0,2,     3.3,-999.000,9,-999.000,   67.78,2,    4.36,2,    5.00,   0.0540,2,   0.0380,2,   0.0190,2,   0.0190,2,   0.0216,2,   0.0224,2,     -999.0,     -999.0,9,     -999.0,9,     -999.0,9,     -999.0,9,     -999.0,9,     -999.0,9, -999.00,9,  26.8716,-999.0000,-999.000
325020060213,       P16N,      31,          2,         34,         34,2,20060225,       2133,          9,    -151.66,       5168,    25.1,  26.7675,  34.5913,2,  34.5928,2,    204.2,2,   204.0,2,    0.10,2,    0.00,2,    0.00,2,    0.15,2,-999.000,9,-999.000,9,-999.000,9,  1958.4,2,  2270.4,2,    279.7,2,    20.00,   8.0943,2,    25.00,   0.619,2,   0.003,   1.7088,2,   -1.56,2, -999.00,9,  -999.0,9,    -9.0,   6.722,2,   0.020,   65.76,2,    3.99,2,   25.10,-999.0000,9,-999.0000,9,-999.0000,9,-999.0000,9,-999.0000,9,-999.0000,9,     -999.0,     -999.0,9,     -999.0,9,     -999.0,9,     -999.0,9,     -999.0,9,     -999.0,9,    4.71,2,  26.7618,   0.0051,    0.14
325020060213,       P16N,      31,          2,         33,         33,2,20060225,       2133,          9,    -151.66,       5168,    50.1,  26.6055,  34.5953,2,  34.5995,2,    202.4,2,   203.3,2,    0.20,2,    0.10,2,    0.00,2,    0.17,2,   1.695,6,   1.058,6,-999.000,5,  1955.6,2,  2269.8,2,    280.7,2,    20.00,   8.0933,2,    25.00,   0.681,2,   0.004,   1.7015,2,   -1.64,2, -999.00,5,    57.7,2,     3.0,   6.753,2,   0.020,   66.36,2,    4.84,2,   50.10,   0.0510,2,   0.0360,2,   0.0180,2,   0.0190,2,   0.0227,2,   0.0235,2,     -999.0,     -999.0,9,     -999.0,9,     -999.0,9,     -999.0,9,     -999.0,9,     -999.0,9,    4.94,2,  26.5942,   0.0051,    0.14
325020060213,       P16N,      31,          2,         32,         32,2,20060225,       2133,          9,    -151.66,       5168,    74.6,  19.2200,  34.6541,2,  34.6368,2,    183.1,2,   184.4,2,    3.00,2,    3.00,2,    0.10,2,    0.43,2,-999.000,9,-999.000,9,-999.000,9,  2064.7,2,  2287.8,2,    464.9,6,    20.00,   7.9086,2,    25.00,   0.937,2,   0.004,   1.7462,2,    0.00,2, -999.00,5,    62.0,2,     3.6,   7.147,2,   0.021,   60.92,2,    7.37,2,   74.60,   0.1480,2,   0.1090,2,   0.0570,2,   0.0470,2,   0.0123,3,   0.0144,3,     -999.0,     -999.0,9,     -999.0,9,     -999.0,9,     -999.0,9,     -999.0,9,     -999.0,9,    3.59,2,  19.2066,   0.0052,    0.14
325020060213,       P16N,      31,          2,         31,         31,2,20060225,       2133,          9,    -151.66,       5168,   100.0,  13.2849,  34.4360,2,  34.4145,2,     81.4,2,    77.2,2,   16.70,2,   22.00,2,    0.50,2,    1.75,2,   1.966,2,   1.063,2,-999.000,5,  2179.6,2,  2271.3,2,   1067.1,2,    20.00,-999.0000,9,  -999.00,   0.675,2,   0.003,   1.7864,2,    5.26,2, -999.00,5,    24.9,2,     2.4,   7.439,2,   0.022,   52.98,2,   26.84,2,  100.00,   0.1740,2,   0.1300,2,   0.0730,2,   0.0610,2,   0.0119,3,   0.0131,3,     -999.0,     -999.0,9,     -999.0,9,     -999.0,9,     -999.0,9,     -999.0,9,     -999.0,9,    0.45,2,  13.2711,   0.0054,    0.14
325020060213,       P16N,      31,          2,         30,         30,2,20060225,       2133,          9,    -151.66,       5168,   125.6,  12.2573,  34.7143,2,  34.7164,2,      4.9,2,     4.3,2,   26.10,2,   32.00,2,    0.00,2,    2.47,2,   0.722,2,   0.397,2,-999.000,5,  2249.9,2,  2293.5,2,   1599.0,2,    20.00,   7.4491,2,    25.00,   0.355,3,   0.003,   1.7734,2,    7.65,2, -999.00,5,   -21.4,2,     2.8,   7.463,2,   0.022,   49.98,2,   36.26,2,  125.60,   0.1820,2,   0.1360,2,   0.0800,2,   0.0690,2,   0.0114,3,   0.0121,3,     -999.0,     -999.0,9,     -999.0,9,     -999.0,9,     -999.0,9,     -999.0,9,     -999.0,9,    0.96,2,  12.2407,   0.0053,    0.14
325020060213,       P16N,      31,          2,         29,         29,2,20060225,       2133,          9,    -151.66,       5168,   149.2,  11.6860,  34.7174,2,-999.0000,5,      7.9,2,     6.9,2,   27.00,2,   34.00,2,    0.00,2,    2.44,2,   0.580,2,   0.312,2,-999.000,5,  2250.4,2,  2293.3,2,   1585.7,6,    20.00,   7.4480,2,    25.00,-999.000,9,-999.000,-999.0000,9,-999.000,9, -999.00,5,   -28.9,2,     3.2,-999.000,9,-999.000,   48.79,2,   38.33,2,  149.20,   0.1630,2,   0.1210,2,   0.0710,2,   0.0610,2,   0.0112,3,   0.0123,3,     -999.0,     -999.0,9,     -999.0,9,     -999.0,9,     -999.0,9,     -999.0,9,     -999.0,9, -999.00,9,  11.6670,-999.0000,-999.000
325020060213,       P16N,      31,          2,         28,         28,2,20060225,       2133,          9,    -151.66,       5168,   199.4,  10.9284,  34.7242,2,  34.7209,2,      8.6,2,     8.4,2,   29.00,2,   34.80,2,    0.00,2,    2.45,2,   0.367,2,   0.210,2,-999.000,5,  2257.5,2,  2297.9,6,   1612.9,2,    20.00,-999.0000,9,  -999.00,   0.213,2,   0.002,   1.7884,2,    7.24,2, -999.00,5,   -50.1,2,     2.7,   7.499,2,   0.022,   46.98,2,   38.73,2,  199.40,   0.1640,2,   0.1220,2,   0.0740,2,   0.0630,2,   0.0109,3,   0.0117,3,     -999.0,     -999.0,9,     -999.0,9,     -999.0,9,     -999.0,9,     -999.0,9,     -999.0,9,    1.41,2,  10.9040,   0.0054,    0.14
325020060213,       P16N,      31,          2,         27,         27,2,20060225,       2133,          9,    -151.66,       5168,   247.0,  10.4586,  34.7058,2,  34.7044,2,     16.4,2,    17.3,2,   30.20,2,   34.70,2,    0.00,2,    2.43,2,   0.338,2,   0.189,2,-999.000,5,  2254.4,2,  2298.2,2,   1568.1,2,    20.00,   7.4519,2,    25.00,   0.156,2,   0.005,   1.7939,2,    7.01,2, -999.00,5,   -59.1,2,     3.1,   7.497,2,   0.022,   45.22,2,   38.40,2,  247.00,   0.1620,2,   0.1210,2,   0.0740,2,   0.0630,2,   0.0109,3,   0.0117,3,     -999.0,     -999.0,9,     -999.0,9,     -999.0,9,     -999.0,9,     -999.0,9,     -999.0,9, -999.00,9,  10.4292,   0.0054,    0.14
325020060213,       P16N,      31,          2,         26,         26,2,20060225,       2133,          9,    -151.66,       5168,   299.8,  10.0534,  34.6927,2,  34.6910,2,      7.4,2,    14.1,2,   32.50,2,   35.50,2,    0.00,2,    2.51,2,   0.229,2,   0.128,2,-999.000,5,  2264.8,2,  2301.6,2,   1661.4,2,    20.00,   7.4248,2,    25.00,   0.115,2,   0.004,   1.7968,2,    6.62,2, -999.00,5,   -67.3,2,     2.5,   7.531,2,   0.023,   44.75,2,   39.87,2,  299.80,   0.1630,2,   0.1200,2,   0.0720,2,   0.0610,2,   0.0111,3,   0.0121,3,     -999.0,     -999.0,9,     -999.0,9,     -999.0,9,     -999.0,9,     -999.0,9,     -999.0,9, -999.00,9,  10.0184,   0.0054,    0.14
325020060213,       P16N,      31,          2,         25,         25,2,20060225,       2133,          9,    -151.66,       5168,   350.0,   9.7132,  34.6739,2,  34.6719,2,      5.0,2,     4.2,2,   35.30,2,   36.30,2,    0.00,2,    2.63,2,   0.112,2,   0.068,2,-999.000,5,  2271.8,2,  2303.8,2,   1779.8,2,    20.00,   7.3951,2,    25.00,   0.081,2,   0.005,   1.8051,2,    6.29,2, -999.00,5,   -84.4,2,     3.0,   7.588,2,   0.023,   42.16,2,   40.12,2,  350.00,   0.1680,2,   0.1250,2,   0.0750,2,   0.0620,2,   0.0113,3,   0.0123,3,    342.113,    20.6137,2,    46.9552,2,    77.7701,2,     78.439,2,     76.506,2,    41.8293,2, -999.00,9,   9.6732,   0.0054,    0.14
325020060213,       P16N,      31,          2,         24,         24,2,20060225,       2133,          9,    -151.66,       5168,   399.3,   9.1175,  34.6396,2,  34.6381,2,      3.4,2,     3.3,2,   39.90,2,   36.60,2,    0.00,2,    2.75,2,   0.051,2,   0.033,2,-999.000,5,  2281.3,6,  2307.5,2,   1848.8,2,    20.00,-999.0000,9,  -999.00,   0.045,2,   0.004,   1.8077,2,    6.17,2, -999.00,5,   -98.9,2,     2.5,   7.610,2,   0.023,   43.00,2,   41.13,2,  399.30,   0.1710,2,   0.1260,2,   0.0760,2,   0.0630,2,   0.0114,3,   0.0124,3,     -999.0,     -999.0,9,     -999.0,9,     -999.0,9,     -999.0,9,     -999.0,9,     -999.0,9, -999.00,9,   9.0735,   0.0054,    0.14
325020060213,       P16N,      31,          2,         23,         23,2,20060225,       2133,          9,    -151.66,       5168,   449.7,   8.4415,  34.6000,2,  34.5988,2,      4.5,2,     4.2,2,   45.70,2,   37.50,2,    0.00,2,    2.87,2,   0.022,6,   0.015,6,-999.000,5,  2289.5,2,  2309.6,2,   1898.1,2,    20.00,   7.3791,2,    25.00,   0.019,2,   0.003,   1.7943,2,    6.53,2, -999.00,5,  -115.6,2,     2.7,   7.652,2,   0.023,   42.16,2,   41.27,2,  449.70,   0.1750,2,   0.1290,2,   0.0770,2,   0.0630,2,   0.0117,3,   0.0126,3,     -999.0,     -999.0,9,     -999.0,9,     -999.0,9,     -999.0,9,     -999.0,9,     -999.0,9, -999.00,9,   8.3940,   0.0054,    0.14
325020060213,       P16N,      31,          2,         22,         22,2,20060225,       2133,          9,    -151.66,       5168,   499.8,   7.7498,  34.5686,2,  34.5674,2,      4.3,2,     4.2,2,   52.50,2,   38.50,2,    0.00,2,    2.99,2,   0.009,2,   0.007,2,-999.000,5,  2299.5,2,  2318.0,2,   1959.8,2,    20.00,   7.3720,2,    25.00,   0.032,2,   0.002,   1.8244,2,    7.82,2, -999.00,5,  -124.8,2,     2.4,   7.727,2,   0.023,   41.25,2,   43.12,2,  499.80,   0.1740,2,   0.1280,2,   0.0760,2,   0.0610,2,   0.0119,3,   0.0129,3,     -999.0,     -999.0,9,     -999.0,9,     -999.0,9,     -999.0,9,     -999.0,9,     -999.0,9, -999.00,9,   7.6995,   0.0055,    0.14
325020060213,       P16N,      31,          2,         21,         21,2,20060225,       2133,          9,    -151.66,       5168,   600.1,   6.7029,  34.5404,2,  34.5403,2,     17.6,2,    18.2,2,   61.60,2,   40.70,2,    0.00,2,    3.01,2,   0.012,2,   0.007,2,-999.000,5,  2302.2,2,  2326.7,2,   1898.5,2,    20.00,   7.3666,2,    25.00,   0.020,2,   0.004,   1.8424,2,    9.96,2, -999.00,5,  -146.1,2,     2.9,   7.781,2,   0.023,   40.50,2,   44.48,2,  600.10,   0.1600,2,   0.1140,2,   0.0630,2,   0.0470,2,   0.0133,3,   0.0152,3,     -999.0,     -999.0,9,     -999.0,9,     -999.0,9,     -999.0,9,     -999.0,9,     -999.0,9, -999.00,9,   6.6468,   0.0055,    0.14
325020060213,       P16N,      31,          2,         20,         20,2,20060225,       2133,          9,    -151.66,       5168,   699.0,   5.9382,  34.5371,2,  34.5354,2,     22.7,2,    23.0,2,   70.80,2,   42.30,2,    0.00,2,    3.08,2,-999.000,9,-999.000,9,-999.000,9,  2313.0,2,  2336.4,2,   1911.9,2,    20.00,   7.3753,2,    25.00,-999.000,9,-999.000,   1.8492,2,   12.04,2, -999.00,5,  -160.2,2,     3.3,   7.838,2,   0.024,   39.67,2,   46.21,2,  699.00,   0.1560,2,   0.1110,2,   0.0610,2,   0.0450,2,   0.0136,3,   0.0155,3,     -999.0,     -999.0,9,     -999.0,9,     -999.0,9,     -999.0,9,     -999.0,9,     -999.0,9, -999.00,9,   5.8764,   0.0055,    0.14
325020060213,       P16N,      31,          2,         19,         19,2,20060225,       2133,          9,    -151.66,       5168,   799.4,   5.3311,  34.5427,2,  34.5411,2,     41.7,2,    41.6,2,   77.80,2,   42.00,2,    0.00,2,    3.02,2,-999.000,9,-999.000,9,-999.000,9,  2312.9,2,  2344.5,2,   1777.3,2,    20.00,   7.4072,2,    25.00,   0.027,2,   0.001,   1.8571,2,   14.25,2, -999.00,5,  -165.0,2,     2.9,   7.849,2,   0.024,   39.74,2,   46.10,2,  799.40,   0.1440,2,   0.1000,2,   0.0530,2,   0.0360,2,   0.0153,2,   0.0175,2,     -999.0,     -999.0,9,     -999.0,9,     -999.0,9,     -999.0,9,     -999.0,9,     -999.0,9, -999.00,9,   5.2636,   0.0056,    0.14
325020060213,       P16N,      31,          2,         18,         18,2,20060225,       2133,          9,    -151.66,       5168,   900.7,   4.8822,  34.5530,2,  34.5515,2,     49.3,2,    48.8,2,   84.70,2,   42.10,2,    0.00,2,    3.02,2,   0.004,2,   0.002,2,-999.000,5,  2317.2,2,  2353.5,2,   1741.6,2,    20.00,   7.4223,2,    25.00,   0.012,2,   0.001,   1.8898,2,   15.90,2, -999.00,9,  -999.0,9,    -9.0,   7.968,2,   0.024,   38.67,2,   46.60,2,  900.70,-999.0000,9,-999.0000,9,-999.0000,9,-999.0000,9,-999.0000,9,-999.0000,9,     -999.0,     -999.0,9,     -999.0,9,     -999.0,9,     -999.0,9,     -999.0,9,     -999.0,9, -999.00,9,   4.8086,   0.0057,    0.14
325020060213,       P16N,      31,          2,         17,         17,2,20060225,       2133,          9,    -151.66,       5168,  1000.0,   4.5591,  34.5617,2,  34.5609,2,     50.4,2,    51.6,2,   90.60,2,   42.50,2,    0.00,2,    3.06,2,-999.000,9,-999.000,9,-999.000,9,  2322.2,2,  2360.5,6,   1756.2,2,    20.00,   7.4221,2,    25.00,   0.007,2,   0.001,   1.8880,2,   17.23,2, -999.00,9,  -999.0,9,    -9.0,   7.969,2,   0.024,   37.81,2,   46.32,2, 1000.00,   0.1450,2,   0.1000,2,   0.0520,2,   0.0350,2,   0.0158,2,   0.0180,2,     -999.0,     -999.0,9,     -999.0,9,     -999.0,9,     -999.0,9,     -999.0,9,     -999.0,9, -999.00,9,   4.4790,   0.0057,    0.14
325020060213,       P16N,      31,          2,         16,         16,2,20060225,       2133,          9,    -151.66,       5168,  1200.4,   3.8004,  34.5816,2,  34.5809,2,     60.1,2,    61.2,2,  107.70,2,   42.10,2,    0.00,2,    3.05,2,-999.000,9,-999.000,9,-999.000,9,  2336.1,2,  2379.4,2,   1709.1,2,    20.00,   7.4321,2,    25.00,   0.022,2,   0.001,   1.9307,2,   19.83,2, -999.00,9,  -999.0,9,    -9.0,   8.140,2,   0.024,   37.75,2,   46.43,2, 1200.40,   0.1430,2,   0.0980,2,   0.0490,2,   0.0310,2,   0.0174,2,   0.0194,2,     -999.0,     -999.0,9,     -999.0,9,     -999.0,9,     -999.0,9,     -999.0,9,     -999.0,9, -999.00,9,   3.7095,   0.0058,    0.14
325020060213,       P16N,      31,          2,         15,         15,2,20060225,       2133,          9,    -151.66,       5168,  1400.1,   3.2549,  34.5995,2,  34.5982,2,     69.7,2,    70.9,2,  119.70,2,   41.60,2,    0.00,2,    3.02,2,   0.005,2,   0.007,3,-999.000,5,  2343.8,2,  1924.6,4,   1669.1,2,    20.00,   7.4778,2,    25.00,-999.000,9,-999.000,-999.0000,9,-999.000,9, -999.00,9,  -999.0,9,    -9.0,-999.000,9,-999.000,   37.23,2,   45.71,2, 1400.10,-999.0000,9,-999.0000,9,-999.0000,9,-999.0000,9,-999.0000,9,-999.0000,9,     -999.0,     -999.0,9,     -999.0,9,     -999.0,9,     -999.0,9,     -999.0,9,     -999.0,9, -999.00,9,   3.1525,-999.0000,-999.000
325020060213,       P16N,      31,          2,         14,         14,2,20060225,       2133,          9,    -151.66,       5168,  1601.3,   2.8800,  34.6121,2,  34.6110,2,     80.3,2,    81.0,2,  127.80,2,   40.90,2,    0.00,2,    2.95,2,-999.000,9,-999.000,9,-999.000,9,  2345.9,2,  2399.8,2,   1591.9,2,    20.00,   7.4636,2,    25.00,-999.000,9,-999.000,-999.0000,9,-999.000,9, -999.00,9,  -999.0,9,    -9.0,-999.000,9,-999.000,   36.47,2,   44.34,2, 1601.30,   0.1360,2,   0.0930,2,   0.0450,2,   0.0260,2,   0.0190,2,   0.0207,2,     -999.0,     -999.0,9,     -999.0,9,     -999.0,9,     -999.0,9,     -999.0,9,     -999.0,9, -999.00,9,   2.7650,-999.0000,-999.000
325020060213,       P16N,      31,          2,         13,         13,2,20060225,       2133,          9,    -151.66,       5168,  1801.1,   2.4557,  34.6304,2,  34.6286,2,     90.4,2,    90.7,2,  137.50,2,   40.20,2,    0.00,2,    2.89,2,-999.000,9,-999.000,9,-999.000,9,  2348.5,2,  2409.8,2,   1530.1,2,    20.00,   7.4814,2,    25.00,-999.000,9,-999.000,-999.0000,9,-999.000,9, -999.00,9,  -999.0,9,    -9.0,-999.000,9,-999.000,   36.88,2,   43.66,2, 1801.10,-999.0000,9,-999.0000,9,-999.0000,9,-999.0000,9,-999.0000,9,-999.0000,9,     -999.0,     -999.0,9,     -999.0,9,     -999.0,9,     -999.0,9,     -999.0,9,     -999.0,9, -999.00,9,   2.3294,-999.0000,-999.000
325020060213,       P16N,      31,          2,         12,         12,2,20060225,       2133,          9,    -151.66,       5168,  2000.2,   2.1901,  34.6453,2,  34.6426,2,     97.2,2,    98.9,2,  144.10,2,   39.80,2,    0.00,2,    2.85,2,-999.000,9,-999.000,9,-999.000,9,  2353.1,2,  2418.0,2,   1478.0,2,    20.00,   7.5015,2,    25.00,-999.000,9,-999.000,-999.0000,9,-999.000,9, -999.00,9,  -999.0,9,    -9.0,-999.000,9,-999.000,   36.20,2,   43.21,2, 2000.20,   0.1290,2,   0.0870,2,   0.0400,2,   0.0220,2,   0.0206,2,   0.0224,2,     -999.0,     -999.0,9,     -999.0,9,     -999.0,9,     -999.0,9,     -999.0,9,     -999.0,9, -999.00,9,   2.0507,-999.0000,-999.000
325020060213,       P16N,      31,          2,         11,         11,2,20060225,       2133,          9,    -151.66,       5168,  2249.9,   1.9882,  34.6588,2,  34.6563,2,    104.4,2,   105.8,2,  149.10,2,   39.30,2,    0.00,2,    2.81,2,  -0.001,2,  -0.001,2,-999.000,5,  2355.4,2,  2424.2,2,   1432.8,2,    20.00,   7.5148,2,    25.00,-999.000,9,-999.000,-999.0000,9,-999.000,9, -999.00,9,  -999.0,9,    -9.0,-999.000,9,-999.000,   36.59,2,   42.96,2, 2249.90,-999.0000,9,-999.0000,9,-999.0000,9,-999.0000,9,-999.0000,9,-999.0000,9,     -999.0,     -999.0,9,     -999.0,9,     -999.0,9,     -999.0,9,     -999.0,9,     -999.0,9, -999.00,9,   1.8305,-999.0000,-999.000
325020060213,       P16N,      31,          2,         10,         10,2,20060225,       2133,          9,    -151.66,       5168,  2500.1,   1.8547,  34.6678,2,  34.6656,2,    111.7,2,  -999.0,5,  151.40,2,   38.80,2,    0.00,2,    2.77,2,-999.000,9,-999.000,9,-999.000,9,  2353.4,2,  2428.2,2,   1379.2,2,    20.00,   7.5242,2,    25.00,-999.000,9,-999.000,-999.0000,9,-999.000,9, -999.00,9,  -999.0,9,    -9.0,-999.000,9,-999.000,   36.78,2,   42.31,2, 2500.10,   0.1230,2,   0.0820,2,   0.0360,2,   0.0170,2,   0.0223,2,   0.0239,2,     -999.0,     -999.0,9,     -999.0,9,     -999.0,9,     -999.0,9,     -999.0,9,     -999.0,9, -999.00,9,   1.6771,-999.0000,-999.000
325020060213,       P16N,      31,          2,          9,          9,2,20060225,       2133,          9,    -151.66,       5168,  2750.0,   1.7588,  34.6738,2,  34.6734,2,    117.0,2,   118.1,2,  153.40,2,   38.40,2,    0.00,2,    2.74,2,-999.000,9,-999.000,9,-999.000,9,  2358.3,2,  2430.9,2,   1321.7,2,    20.00,   7.5379,2,    25.00,-999.000,9,-999.000,-999.0000,9,-999.000,9, -999.00,9,  -999.0,9,    -9.0,-999.000,9,-999.000,   36.74,2,   41.91,2, 2750.00,-999.0000,9,-999.0000,9,-999.0000,9,-999.0000,9,-999.0000,9,-999.0000,9,     -999.0,     -999.0,9,     -999.0,9,     -999.0,9,     -999.0,9,     -999.0,9,     -999.0,9, -999.00,9,   1.5601,-999.0000,-999.000