BOTTLE,20170720CCHSIOCBG
EXPOCODE,SECT_ID,STNNBR,CASTNO,SAMPNO,BTLNBR,BTLNBR_FLAG_W,DATE,TIME,LATITUDE,LONGITUDE,DEPTH,CTDPRS,CTDTMP,CTDSAL,CTDSAL_FLAG_W,SALNTY,SALNTY_FLAG_W,CTDOXY,CTDOXY_FLAG_W,OXYGEN,OXYGEN_FLAG_W,SILCAT,SILCAT_FLAG_W,NITRAT,NITRAT_FLAG_W,NITRIT,NITRIT_FLAG_W,PHSPHT,PHSPHT_FLAG_W,CFC-11,CFC-11_FLAG_W,CFC-12,CFC-12_FLAG_W,CFC113,CFC113_FLAG_W,TCARBN,TCARBN_FLAG_W,ALKALI,ALKALI_FLAG_W,FCO2,FCO2_FLAG_W,FCO2TMP,PH_TOT,PH_TOT_FLAG_W,PH_TMP,TRITUM,TRITUM_FLAG_W,TRITER,HELIUM,HELIUM_FLAG_W,DELHE3,DELHE3_FLAG_W,DELC13,DELC13_FLAG_W,DELC14,DELC14_FLAG_W,C14ERR,NEON,NEON_FLAG_W,NEONER,DOC,DOC_FLAG_W,TDN,TDN_FLAG_W,CTDRAW,CDOM325,CDOM325_FLAG_W,CDOM340,CDOM340_FLAG_W,CDOM380,CDOM380_FLAG_W,CDOM412,CDOM412_FLAG_W,CDOMSL,CDOMSL_FLAG_W,CDOMSN,CDOMSN_FLAG_W,DCNS,ARABI,ARABI_FLAG_W,FUCO,FUCO_FLAG_W,GALA,GALA_FLAG_W,GLUC,GLUC_FLAG_W,MAN,MAN_FLAG_W,RHAM,RHAM_FLAG_W,BRDU,BRDU_FLAG_W,THETA,HELIER,DELHER
,,,,,,,,,,,METERS,DBAR,ITS-90,PSS-78,,PSS-78,,UMOL/KG,,UMOL/KG,,UMOL/KG,,UMOL/KG,,UMOL/KG,,UMOL/KG,,PMOL/KG,,PMOL/KG,,PMOL/KG,,UMOL/KG,,UMOL/KG,,UATM,,DEG C,,,DEG C,TU,,TU,NMOL/KG,,PERCNT,,/MILLE,,/MILLE,,/MILLE,NMOL/KG,,NMOL/KG,UMOL/KG,,UMOL/KG,,DBAR,1/M,,1/M,,1/M,,1/M,,1/NM,,1/NM,,NMOL/KG,NMOL/KG,,NMOL/KG,,NMOL/KG,,NMOL/KG,,NMOL/KG,,NMOL/KG,,PMOL/L/H,,DEG C,NMOL/KG,PERCNT
325020060213,       P16N,      10,          1,         35,         35,2,20060218,       0301,    -7.9998,  -151.0002,       4629,     5.3,  28.8890,  35.8965,2,  35.8935,2,    198.0,2,   198.1,2,    0.10,2,    0.20,2,    0.00,2,    0.23,2,   1.553,2,   0.979,2,-999.000,5,  2014.0,6,  2367.6,2,    260.7,2,    20.00,   8.1250,2,    25.00,-999.000,9,-999.000,-999.0000,9,-999.000,9, -999.00,9,  -999.0,9,    -9.0,-999.000,9,-999.000,   69.58,2,    4.49,2,    5.30,-999.0000,9,-999.0000,9,-999.0000,9,-999.0000,9,-999.0000,9,-999.0000,9,     -999.0,     -999.0,9,     -999.0,9,     -999.0,9,     -999.0,9,     -999.0,9,     -999.0,9, -999.00,9,  28.8877,-999.0000,-999.000
325020060213,       P16N,      10,          1,         34,         34,2,20060218,       0301,    -7.9998,  -151.0002,       4629,    14.7,  28.8880,  35.8967,2,  35.8910,2,    198.6,2,   198.5,2,    0.10,2,    0.20,2,    0.00,2,    0.23,2,   1.555,2,   0.977,2,-999.000,5,  2013.6,2,  2361.4,2,    260.2,2,    20.00,   8.1225,2,    25.00,-999.000,9,-999.000,-999.0000,9,-999.000,9, -999.00,9,  -999.0,9,    -9.0,-999.000,9,-999.000,   68.49,2,    4.48,2,   14.70,-999.0000,9,-999.0000,9,-999.0000,9,-999.0000,9,-999.0000,9,-999.0000,9,     -999.0,     -999.0,9,     -999.0,9,     -999.0,9,     -999.0,9,     -999.0,9,     -999.0,9, -999.00,9,  28.8844,-999.0000,-999.000
325020060213,       P16N,      10,          1,         33,         33,2,20060218,       0301,    -7.9998,  -151.0002,       4629,    34.1,  28.8249,  35.8921,2,  35.8848,2,    198.4,2,   198.9,2,    0.10,2,    0.20,2,    0.00,2,    0.24,2,-999.000,9,-999.000,9,-999.000,9,  2014.0,2,  2360.7,2,    261.2,6,    20.00,   8.1287,2,    25.00,-999.000,9,-999.000,-999.0000,9,-999.000,9, -999.00,9,  -999.0,9,    -9.0,-999.000,9,-999.000,   70.68,2,    4.42,2,   34.10,-999.0000,9,-999.0000,9,-999.0000,9,-999.0000,9,-999.0000,9,-999.0000,9,     -999.0,     -999.0,9,     -999.0,9,     -999.0,9,     -999.0,9,     -999.0,9,     -999.0,9, -999.00,9,  28.8167,-999.0000,-999.000
325020060213,       P16N,      10,          1,         32,         32,2,20060218,       0301,    -7.9998,  -151.0002,       4629,    59.8,  28.8024,  35.8869,2,  35.8823,2,    198.4,2,   198.3,2,    0.10,2,    0.30,2,    0.00,2,    0.24,2,   1.543,2,   0.972,2,-999.000,5,  2015.6,2,  2360.4,2,    263.1,2,    20.00,   8.1207,2,    25.00,-999.000,9,-999.000,-999.0000,9,-999.000,9, -999.00,9,  -999.0,9,    -9.0,-999.000,9,-999.000,   66.78,2,    4.95,2,   59.80,-999.0000,9,-999.0000,9,-999.0000,9,-999.0000,9,-999.0000,9,-999.0000,9,     -999.0,     -999.0,9,     -999.0,9,     -999.0,9,     -999.0,9,     -999.0,9,     -999.0,9, -999.00,9,  28.7879,-999.0000,-999.000
325020060213,       P16N,      10,          1,         31,         31,2,20060218,       0301,    -7.9998,  -151.0002,       4629,    84.3,  28.5648,  35.9000,2,  35.8939,2,    197.7,2,   197.8,2,    0.20,2,    0.50,2,    0.00,2,    0.26,2,-999.000,9,-999.000,9,-999.000,9,  2019.3,2,  2365.5,2,    266.6,2,    20.00,   8.1170,2,    25.00,-999.000,9,-999.000,-999.0000,9,-999.000,9, -999.00,9,  -999.0,9,    -9.0,-999.000,9,-999.000,   67.11,2,    4.83,2,   84.30,-999.0000,9,-999.0000,9,-999.0000,9,-999.0000,9,-999.0000,9,-999.0000,9,     -999.0,     -999.0,9,     -999.0,9,     -999.0,9,     -999.0,9,     -999.0,9,     -999.0,9, -999.00,9,  28.5446,-999.0000,-999.000
325020060213,       P16N,      10,          1,         30,         30,2,20060218,       0301,    -7.9998,  -151.0002,       4629,   110.2,  27.8124,  36.1980,2,  36.1909,2,    179.6,2,   178.0,2,    0.40,2,    0.40,2,    0.80,2,    0.34,2,   1.562,2,   0.982,2,-999.000,5,  2049.1,2,  2385.6,2,    288.3,2,    20.00,   8.0934,2,    25.00,-999.000,9,-999.000,-999.0000,9,-999.000,9, -999.00,9,  -999.0,9,    -9.0,-999.000,9,-999.000,   62.67,2,    5.57,2,  110.20,-999.0000,9,-999.0000,9,-999.0000,9,-999.0000,9,-999.0000,9,-999.0000,9,     -999.0,     -999.0,9,     -999.0,9,     -999.0,9,     -999.0,9,     -999.0,9,     -999.0,9, -999.00,9,  27.7865,-999.0000,-999.000
325020060213,       P16N,      10,          1,         29,         29,2,20060218,       0301,    -7.9998,  -151.0002,       4629,   134.0,  26.6354,  36.3625,2,  36.3612,2,    161.7,2,   163.2,2,    0.50,2,    2.70,2,    0.40,2,    0.46,2,-999.000,9,-999.000,9,-999.000,9,  2084.7,2,  2395.0,2,    326.5,2,    20.00,   8.0531,2,    25.00,-999.000,9,-999.000,-999.0000,9,-999.000,9, -999.00,9,  -999.0,9,    -9.0,-999.000,9,-999.000,   56.30,2,    7.57,2,  134.00,-999.0000,9,-999.0000,9,-999.0000,9,-999.0000,9,-999.0000,9,-999.0000,9,     -999.0,     -999.0,9,     -999.0,9,     -999.0,9,     -999.0,9,     -999.0,9,     -999.0,9, -999.00,9,  26.6048,-999.0000,-999.000
325020060213,       P16N,      10,          1,         28,         28,2,20060218,       0301,    -7.9998,  -151.0002,       4629,   175.6,  21.5585,  35.9812,2,  35.9619,2,    160.1,2,   161.1,2,    0.70,2,    5.30,2,    0.00,2,    0.62,2,   2.112,6,   1.262,6,-999.000,5,  2125.9,2,  2370.3,6,    433.5,2,    20.00,   7.9475,2,    25.00,-999.000,9,-999.000,-999.0000,9,-999.000,9, -999.00,9,  -999.0,9,    -9.0,-999.000,9,-999.000,   48.86,2,    9.99,2,  175.60,-999.0000,9,-999.0000,9,-999.0000,9,-999.0000,9,-999.0000,9,-999.0000,9,     -999.0,     -999.0,9,     -999.0,9,     -999.0,9,     -999.0,9,     -999.0,9,     -999.0,9, -999.00,9,  21.5241,-999.0000,-999.000
325020060213,       P16N,      10,          1,         27,         27,2,20060218,       0301,    -7.9998,  -151.0002,       4629,   225.8,  17.9045,  35.4362,2,  35.4533,2,    138.5,2,   139.9,2,    2.80,2,    9.90,2,    0.00,2,    0.95,2,   2.194,2,   1.249,2,-999.000,5,  2146.0,2,  2336.2,2,    554.6,2,    20.00,   7.8517,2,    25.00,-999.000,9,-999.000,-999.0000,9,-999.000,9, -999.00,9,  -999.0,9,    -9.0,-999.000,9,-999.000,   45.81,2,   14.20,2,  225.80,-999.0000,9,-999.0000,9,-999.0000,9,-999.0000,9,-999.0000,9,-999.0000,9,     -999.0,     -999.0,9,     -999.0,9,     -999.0,9,     -999.0,9,     -999.0,9,     -999.0,9, -999.00,9,  17.8657,-999.0000,-999.000
325020060213,       P16N,      10,          1,         26,         26,2,20060218,       0301,    -7.9998,  -151.0002,       4629,   274.9,  12.6293,  34.8664,2,  34.8617,2,     70.7,2,    69.1,2,   13.80,2,   23.80,2,    0.00,2,    1.90,2,   1.237,2,   0.676,2,-999.000,5,  2217.7,3,  2303.9,2,   1049.6,2,    20.00,   7.6047,2,    25.00,-999.000,9,-999.000,-999.0000,9,-999.000,9, -999.00,9,  -999.0,9,    -9.0,-999.000,9,-999.000,   43.57,2,   28.19,2,  274.90,-999.0000,9,-999.0000,9,-999.0000,9,-999.0000,9,-999.0000,9,-999.0000,9,     -999.0,     -999.0,9,     -999.0,9,     -999.0,9,     -999.0,9,     -999.0,9,     -999.0,9, -999.00,9,  12.5921,-999.0000,-999.000
325020060213,       P16N,      10,          1,         25,         25,2,20060218,       0301,    -7.9998,  -151.0002,       4629,   325.3,  10.5667,  34.7683,2,  34.7579,2,     62.0,2,    63.8,2,   21.80,2,   30.40,2,    0.00,2,    2.16,2,   0.521,2,   0.286,2,-999.000,5,  2236.7,3,  2306.2,2,   1211.2,2,    20.00,   7.5599,2,    25.00,-999.000,9,-999.000,-999.0000,9,-999.000,9, -999.00,9,  -999.0,9,    -9.0,-999.000,9,-999.000,   43.05,2,   34.10,2,  325.30,-999.0000,9,-999.0000,9,-999.0000,9,-999.0000,9,-999.0000,9,-999.0000,9,     -999.0,     -999.0,9,     -999.0,9,     -999.0,9,     -999.0,9,     -999.0,9,     -999.0,9, -999.00,9,  10.5275,-999.0000,-999.000
325020060213,       P16N,      10,          1,         24,         24,2,20060218,       0301,    -7.9998,  -151.0002,       4629,   374.4,   9.5900,  34.7170,2,  34.7107,2,     77.5,2,    78.2,2,   24.10,2,   31.40,2,    0.00,2,    2.16,2,   0.380,2,   0.216,2,-999.000,5,  2234.9,3,  2306.5,2,   1186.8,2,    20.00,   7.5587,2,    25.00,-999.000,9,-999.000,-999.0000,9,-999.000,9, -999.00,9,  -999.0,9,    -9.0,-999.000,9,-999.000,   43.11,2,   35.83,2,  374.40,-999.0000,9,-999.0000,9,-999.0000,9,-999.0000,9,-999.0000,9,-999.0000,9,     -999.0,     -999.0,9,     -999.0,9,     -999.0,9,     -999.0,9,     -999.0,9,     -999.0,9, -999.00,9,   9.5475,-999.0000,-999.000
325020060213,       P16N,      10,          1,         23,         23,2,20060218,       0301,    -7.9998,  -151.0002,       4629,   425.3,   8.7350,  34.6619,2,  34.6468,2,     89.6,2,    88.5,2,   26.90,2,   32.30,2,    0.00,2,    2.19,2,   0.313,2,   0.170,2,-999.000,5,  2222.1,6,  2306.6,2,   1177.2,2,    20.00,   7.5601,2,    25.00,-999.000,9,-999.000,-999.0000,9,-999.000,9, -999.00,9,  -999.0,9,    -9.0,-999.000,9,-999.000,   42.78,2,   35.65,2,  425.30,-999.0000,9,-999.0000,9,-999.0000,9,-999.0000,9,-999.0000,9,-999.0000,9,     -999.0,     -999.0,9,     -999.0,9,     -999.0,9,     -999.0,9,     -999.0,9,     -999.0,9, -999.00,9,   8.6892,-999.0000,-999.000
325020060213,       P16N,      10,          1,         22,         22,2,20060218,       0301,    -7.9998,  -151.0002,       4629,   475.3,   8.0781,  34.6225,2,  34.6238,2,     90.3,2,    90.3,2,   30.60,2,   33.70,2,    0.00,2,    2.26,2,   0.197,2,   0.112,2,-999.000,5,  2241.1,2,  2304.7,2,   1218.3,2,    20.00,-999.0000,9,  -999.00,-999.000,9,-999.000,-999.0000,9,-999.000,9, -999.00,9,  -999.0,9,    -9.0,-999.000,9,-999.000,   42.76,2,   37.38,2,  475.30,-999.0000,9,-999.0000,9,-999.0000,9,-999.0000,9,-999.0000,9,-999.0000,9,     -999.0,     -999.0,9,     -999.0,9,     -999.0,9,     -999.0,9,     -999.0,9,     -999.0,9, -999.00,9,   8.0291,-999.0000,-999.000
325020060213,       P16N,      10,          1,         21,         21,2,20060218,       0301,    -7.9998,  -151.0002,       4629,   548.8,   7.3931,  34.5854,2,  34.5820,2,     93.6,2,    93.3,2,   35.00,2,   35.00,2,    0.00,2,    2.35,2,   0.131,2,   0.076,2,-999.000,5,  2245.6,2,  2307.8,2,   1258.2,6,    20.00,   7.5335,2,    25.00,-999.000,9,-999.000,-999.0000,9,-999.000,9, -999.00,9,  -999.0,9,    -9.0,-999.000,9,-999.000,   40.93,2,   39.11,2,  548.80,-999.0000,9,-999.0000,9,-999.0000,9,-999.0000,9,-999.0000,9,-999.0000,9,     -999.0,     -999.0,9,     -999.0,9,     -999.0,9,     -999.0,9,     -999.0,9,     -999.0,9, -999.00,9,   7.3391,-999.0000,-999.000
325020060213,       P16N,      10,          1,         20,         20,2,20060218,       0301,    -7.9998,  -151.0002,       4629,   649.7,   6.5477,  34.5541,2,  34.5573,2,     87.5,2,    86.8,2,   43.40,2,   37.60,2,    0.00,2,    2.54,2,   0.103,3,   0.026,2,-999.000,5,  2263.3,2,  2314.7,2,   1358.6,2,    20.00,   7.5069,2,    25.00,-999.000,9,-999.000,-999.0000,9,-999.000,9, -999.00,9,  -999.0,9,    -9.0,-999.000,9,-999.000,   40.22,2,   42.07,2,  649.70,-999.0000,9,-999.0000,9,-999.0000,9,-999.0000,9,-999.0000,9,-999.0000,9,     -999.0,     -999.0,9,     -999.0,9,     -999.0,9,     -999.0,9,     -999.0,9,     -999.0,9, -999.00,9,   6.4875,-999.0000,-999.000
325020060213,       P16N,      10,          1,         19,         19,2,20060218,       0301,    -7.9998,  -151.0002,       4629,   750.0,   5.7144,  34.5386,2,  34.5388,2,     84.6,2,    85.1,2,   54.00,2,   39.30,2,    0.00,2,    2.67,2,   0.015,6,   0.007,6,-999.000,5,  2277.7,2,  2323.9,2,   1432.0,2,    20.00,   7.4924,2,    25.00,-999.000,9,-999.000,-999.0000,9,-999.000,9, -999.00,9,  -999.0,9,    -9.0,-999.000,9,-999.000,   39.59,2,   43.46,2,  750.00,-999.0000,9,-999.0000,9,-999.0000,9,-999.0000,9,-999.0000,9,-999.0000,9,     -999.0,     -999.0,9,     -999.0,9,     -999.0,9,     -999.0,9,     -999.0,9,     -999.0,9, -999.00,9,   5.6491,-999.0000,-999.000
325020060213,       P16N,      10,          1,         18,         18,2,20060218,       0301,    -7.9998,  -151.0002,       4629,   849.9,   5.2248,  34.5347,2,  34.5347,2,     88.2,2,    88.8,2,   61.60,2,   39.60,2,    0.00,2,    2.70,2,   0.003,2,   0.005,2,-999.000,5,  2284.4,2,  2335.3,2,   1428.2,2,    20.00,   7.4893,2,    25.00,-999.000,9,-999.000,-999.0000,9,-999.000,9, -999.00,9,  -999.0,9,    -9.0,-999.000,9,-999.000,   38.80,2,   43.28,2,  849.90,-999.0000,9,-999.0000,9,-999.0000,9,-999.0000,9,-999.0000,9,-999.0000,9,     -999.0,     -999.0,9,     -999.0,9,     -999.0,9,     -999.0,9,     -999.0,9,     -999.0,9, -999.00,9,   5.1535,-999.0000,-999.000
325020060213,       P16N,      10,          1,         17,         17,2,20060218,       0301,    -7.9998,  -151.0002,       4629,   950.4,   4.6613,  34.5381,2,  34.5388,2,     95.2,2,    95.4,2,   70.50,2,   39.60,2,    0.00,2,    2.72,2,   0.002,2,   0.002,2,-999.000,5,  2291.1,3,  2343.6,6,   1393.0,2,    20.00,   7.4990,2,    25.00,-999.000,9,-999.000,-999.0000,9,-999.000,9, -999.00,9,  -999.0,9,    -9.0,-999.000,9,-999.000,   37.92,2,   43.56,2,  950.40,-999.0000,9,-999.0000,9,-999.0000,9,-999.0000,9,-999.0000,9,-999.0000,9,     -999.0,     -999.0,9,     -999.0,9,     -999.0,9,     -999.0,9,     -999.0,9,     -999.0,9, -999.00,9,   4.5848,-999.0000,-999.000
325020060213,       P16N,      10,          1,         16,         16,2,20060218,       0301,    -7.9998,  -151.0002,       4629,  1099.0,   4.1326,  34.5487,2,  34.5465,2,    103.9,2,   104.3,2,   80.10,2,   39.10,2,    0.00,2,    2.70,2,   0.002,2,   0.002,2,-999.000,5,  2297.6,2,  2356.2,2,   1366.7,2,    20.00,   7.5086,2,    25.00,-999.000,9,-999.000,-999.0000,9,-999.000,9, -999.00,9,  -999.0,9,    -9.0,-999.000,9,-999.000,   37.86,2,   42.24,2, 1099.00,-999.0000,9,-999.0000,9,-999.0000,9,-999.0000,9,-999.0000,9,-999.0000,9,     -999.0,     -999.0,9,     -999.0,9,     -999.0,9,     -999.0,9,     -999.0,9,     -999.0,9, -999.00,9,   4.0475,-999.0000,-999.000
325020060213,       P16N,      10,          1,         15,         15,2,20060218,       0301,    -7.9998,  -151.0002,       4629,  1299.5,   3.3753,  34.5764,2,  34.5755,2,    111.9,2,   112.8,2,   97.00,2,   38.80,2,    0.00,2,    2.69,2,-999.000,9,-999.000,9,-999.000,9,  2301.9,2,  2375.1,2,   1337.5,2,    20.00,   7.5204,2,    25.00,-999.000,9,-999.000,-999.0000,9,-999.000,9, -999.00,9,  -999.0,9,    -9.0,-999.000,9,-999.000,   36.89,2,   42.02,2, 1299.50,-999.0000,9,-999.0000,9,-999.0000,9,-999.0000,9,-999.0000,9,-999.0000,9,     -999.0,     -999.0,9,     -999.0,9,     -999.0,9,     -999.0,9,     -999.0,9,     -999.0,9, -999.00,9,   3.2801,-999.0000,-999.000
325020060213,       P16N,      10,          1,         14,         14,2,20060218,       0301,    -7.9998,  -151.0002,       4629,  1500.4,   2.8894,  34.6035,2,  34.6020,2,    112.5,2,   113.1,2,  110.40,2,   39.00,2,    0.00,2,    2.72,2,   0.000,2,   0.002,2,-999.000,5,  2315.6,2,  2389.0,2,   1344.7,2,    20.00,   7.5190,2,    25.00,-999.000,9,-999.000,-999.0000,9,-999.000,9, -999.00,9,  -999.0,9,    -9.0,-999.000,9,-999.000,   37.33,2,   43.02,2, 1500.40,-999.0000,9,-999.0000,9,-999.0000,9,-999.0000,9,-999.0000,9,-999.0000,9,     -999.0,     -999.0,9,     -999.0,9,     -999.0,9,     -999.0,9,     -999.0,9,     -999.0,9, -999.00,9,   2.7828,-999.0000,-999.000
325020060213,       P16N,      10,          1,         13,         13,2,20060218,       0301,    -7.9998,  -151.0002,       4629,  1700.7,   2.5969,  34.6199,2,  34.6166,2,    116.9,2,   117.5,2,  117.50,2,   38.80,2,    0.00,2,    2.71,2,-999.000,9,-999.000,9,-999.000,9,  2320.1,2,  2397.3,2,   1325.4,2,    20.00,   7.5282,2,    25.00,-999.000,9,-999.000,-999.0000,9,-999.000,9, -999.00,9,  -999.0,9,    -9.0,-999.000,9,-999.000,   37.65,2,   42.57,2, 1700.70,-999.0000,9,-999.0000,9,-999.0000,9,-999.0000,9,-999.0000,9,-999.0000,9,     -999.0,     -999.0,9,     -999.0,9,     -999.0,9,     -999.0,9,     -999.0,9,     -999.0,9, -999.00,9,   2.4771,-999.0000,-999.000
325020060213,       P16N,      10,          1,         12,         12,2,20060218,       0301,    -7.9998,  -151.0002,       4629,  1901.3,   2.2791,  34.6391,2,  34.6399,2,    125.1,2,   125.7,2,  124.80,2,   38.40,2,    0.00,2,    2.66,2,-999.000,9,-999.000,9,-999.000,9,  2321.9,2,  2405.4,2,   1280.2,2,    20.00,   7.5428,2,    25.00,-999.000,9,-999.000,-999.0000,9,-999.000,9, -999.00,9,  -999.0,9,    -9.0,-999.000,9,-999.000,   36.38,2,   42.14,2, 1901.30,-999.0000,9,-999.0000,9,-999.0000,9,-999.0000,9,-999.0000,9,-999.0000,9,     -999.0,     -999.0,9,     -999.0,9,     -999.0,9,     -999.0,9,     -999.0,9,     -999.0,9, -999.00,9,   2.1468,-999.0000,-999.000
325020060213,       P16N,      10,          1,         11,         11,2,20060218,       0301,    -7.9998,  -151.0002,       4629,  2123.5,   2.0451,  34.6547,2,  34.6580,2,    133.7,2,   134.7,2,  128.00,2,   37.70,2,    0.00,2,    2.62,2,-999.000,9,-999.000,9,-999.000,9,  2320.6,2,  2406.8,2,   1229.6,2,    20.00,   7.5575,2,    25.00,-999.000,9,-999.000,-999.0000,9,-999.000,9, -999.00,9,  -999.0,9,    -9.0,-999.000,9,-999.000,   36.02,2,   41.58,2, 2123.50,-999.0000,9,-999.0000,9,-999.0000,9,-999.0000,9,-999.0000,9,-999.0000,9,     -999.0,     -999.0,9,     -999.0,9,     -999.0,9,     -999.0,9,     -999.0,9,     -999.0,9, -999.00,9,   1.8973,-999.0000,-999.000
325020060213,       P16N,      10,          1,         10,         10,2,20060218,       0301,    -7.9998,  -151.0002,       4629,  2374.3,   1.9329,  34.6642,2,  34.6665,2,    136.4,2,   135.9,2,  131.80,2,   37.70,2,    0.00,2,    2.61,2,  -0.004,6,   0.001,6,-999.000,5,  2325.3,2,  2411.8,2,   1211.7,2,    20.00,   7.5616,2,    25.00,-999.000,9,-999.000,-999.0000,9,-999.000,9, -999.00,9,  -999.0,9,    -9.0,-999.000,9,-999.000,   35.97,2,   40.96,2, 2374.30,-999.0000,9,-999.0000,9,-999.0000,9,-999.0000,9,-999.0000,9,-999.0000,9,     -999.0,     -999.0,9,     -999.0,9,     -999.0,9,     -999.0,9,     -999.0,9,     -999.0,9, -999.00,9,   1.7651,-999.0000,-999.000
325020060213,       P16N,      10,          1,          9,          9,2,20060218,       0301,    -7.9998,  -151.0002,       4629,  2624.5,   1.7983,  34.6747,2,  34.6767,2,    140.1,2,   139.6,2,  136.30,2,   37.20,2,    0.00,2,    2.59,2,-999.000,9,-999.000,9,-999.000,9,  2328.0,2,  2416.9,2,   1194.8,2,    20.00,   7.5686,2,    25.00,-999.000,9,-999.000,-999.0000,9,-999.000,9, -999.00,9,  -999.0,9,    -9.0,-999.000,9,-999.000,   36.02,2,   41.53,2, 2624.50,-999.0000,9,-999.0000,9,-999.0000,9,-999.0000,9,-999.0000,9,-999.0000,9,     -999.0,     -999.0,9,     -999.0,9,     -999.0,9,     -999.0,9,     -999.0,9,     -999.0,9, -999.00,9,   1.6104,-999.0000,-999.000