BOTTLE,20170720CCHSIOCBG
EXPOCODE,SECT_ID,STNNBR,CASTNO,SAMPNO,BTLNBR,BTLNBR_FLAG_W,DATE,TIME,LATITUDE,LONGITUDE,DEPTH,CTDPRS,CTDTMP,CTDSAL,CTDSAL_FLAG_W,SALNTY,SALNTY_FLAG_W,CTDOXY,CTDOXY_FLAG_W,OXYGEN,OXYGEN_FLAG_W,SILCAT,SILCAT_FLAG_W,NITRAT,NITRAT_FLAG_W,NITRIT,NITRIT_FLAG_W,PHSPHT,PHSPHT_FLAG_W,CFC-11,CFC-11_FLAG_W,CFC-12,CFC-12_FLAG_W,CFC113,CFC113_FLAG_W,TCARBN,TCARBN_FLAG_W,ALKALI,ALKALI_FLAG_W,FCO2,FCO2_FLAG_W,FCO2TMP,PH_TOT,PH_TOT_FLAG_W,PH_TMP,TRITUM,TRITUM_FLAG_W,TRITER,HELIUM,HELIUM_FLAG_W,DELHE3,DELHE3_FLAG_W,DELC13,DELC13_FLAG_W,DELC14,DELC14_FLAG_W,C14ERR,NEON,NEON_FLAG_W,NEONER,DOC,DOC_FLAG_W,TDN,TDN_FLAG_W,CTDRAW,CDOM325,CDOM325_FLAG_W,CDOM340,CDOM340_FLAG_W,CDOM380,CDOM380_FLAG_W,CDOM412,CDOM412_FLAG_W,CDOMSL,CDOMSL_FLAG_W,CDOMSN,CDOMSN_FLAG_W,DCNS,ARABI,ARABI_FLAG_W,FUCO,FUCO_FLAG_W,GALA,GALA_FLAG_W,GLUC,GLUC_FLAG_W,MAN,MAN_FLAG_W,RHAM,RHAM_FLAG_W,BRDU,BRDU_FLAG_W,THETA,HELIER,DELHER
,,,,,,,,,,,METERS,DBAR,ITS-90,PSS-78,,PSS-78,,UMOL/KG,,UMOL/KG,,UMOL/KG,,UMOL/KG,,UMOL/KG,,UMOL/KG,,PMOL/KG,,PMOL/KG,,PMOL/KG,,UMOL/KG,,UMOL/KG,,UATM,,DEG C,,,DEG C,TU,,TU,NMOL/KG,,PERCNT,,/MILLE,,/MILLE,,/MILLE,NMOL/KG,,NMOL/KG,UMOL/KG,,UMOL/KG,,DBAR,1/M,,1/M,,1/M,,1/M,,1/NM,,1/NM,,NMOL/KG,NMOL/KG,,NMOL/KG,,NMOL/KG,,NMOL/KG,,NMOL/KG,,NMOL/KG,,PMOL/L/H,,DEG C,NMOL/KG,PERCNT
325020060213,       P16N,      15,          1,         35,         35,2,20060220,       0310,    -2.9997,  -151.0005,       4747,     5.5,  26.3865,  35.2821,2,  35.2798,2,    206.7,2,   206.8,2,    2.20,2,    6.20,2,    0.20,2,    0.61,2,   1.731,2,   1.085,2,-999.000,5,  2045.5,6,  2321.7,2,   -999.0,9,  -999.00,   7.9982,2,    25.00,   0.486,2,   0.003,   1.6997,2,   -1.40,2, -999.00,5,    61.5,2,     3.6,   6.718,2,   0.020,   59.89,2,    9.96,2,    5.50,-999.0000,9,-999.0000,9,-999.0000,9,-999.0000,9,-999.0000,9,-999.0000,9,     -999.0,     -999.0,9,     -999.0,9,     -999.0,9,     -999.0,9,     -999.0,9,     -999.0,9, -999.00,9,  26.3852,   0.0051,    0.14
325020060213,       P16N,      15,          1,         34,         34,2,20060220,       0310,    -2.9997,  -151.0005,       4747,    25.3,  26.2811,  35.2789,2,  35.2783,2,    206.5,2,   207.2,2,    2.20,2,    6.30,2,    0.20,2,    0.61,2,   1.749,2,   1.091,2,-999.000,5,  2044.7,2,  2323.5,2,   -999.0,9,  -999.00,-999.0000,9,  -999.00,   0.466,2,   0.003,   1.7048,2,   -1.70,2, -999.00,9,  -999.0,9,    -9.0,   6.728,2,   0.020,   60.94,2,   10.19,2,   25.30,-999.0000,9,-999.0000,9,-999.0000,9,-999.0000,9,-999.0000,9,-999.0000,9,     -999.0,     -999.0,9,     -999.0,9,     -999.0,9,     -999.0,9,     -999.0,9,     -999.0,9, -999.00,9,  26.2754,   0.0051,    0.14
325020060213,       P16N,      15,          1,         33,         33,2,20060220,       0310,    -2.9997,  -151.0005,       4747,    50.6,  26.0589,  35.2861,2,  35.2854,2,    206.9,2,   207.6,2,    2.30,2,    6.30,2,    0.20,2,    0.62,2,   1.761,2,   1.097,2,-999.000,5,  2046.5,2,  1595.2,4,   -999.0,9,  -999.00,   7.9816,2,    25.00,   0.475,2,   0.003,   1.7107,2,   -1.57,2, -999.00,5,    52.4,2,     3.5,   6.717,2,   0.020,   60.79,2,   10.35,2,   50.60,-999.0000,9,-999.0000,9,-999.0000,9,-999.0000,9,-999.0000,9,-999.0000,9,     -999.0,     -999.0,9,     -999.0,9,     -999.0,9,     -999.0,9,     -999.0,9,     -999.0,9, -999.00,9,  26.0476,   0.0051,    0.14
325020060213,       P16N,      15,          1,         32,         32,2,20060220,       0310,    -2.9997,  -151.0005,       4747,    75.1,  25.8142,  35.2842,2,  35.2824,2,    207.0,2,   206.0,2,    2.60,2,    6.40,2,    0.20,2,    0.63,2,   1.774,6,   1.104,6,-999.000,5,  2049.6,2,  2321.4,2,   -999.0,9,  -999.00,   7.9828,2,    25.00,   0.480,2,   0.003,   1.7101,2,   -1.48,2, -999.00,5,    49.7,2,     3.5,   6.719,2,   0.020,   57.38,2,   10.65,2,   75.10,-999.0000,9,-999.0000,9,-999.0000,9,-999.0000,9,-999.0000,9,-999.0000,9,     -999.0,     -999.0,9,     -999.0,9,     -999.0,9,     -999.0,9,     -999.0,9,     -999.0,9, -999.00,9,  25.7975,   0.0051,    0.14
325020060213,       P16N,      15,          1,         31,         31,2,20060220,       0310,    -2.9997,  -151.0005,       4747,    98.8,  24.7579,  35.2732,2,  35.2832,2,    195.2,2,   196.3,2,    2.80,2,    6.80,2,    0.30,2,    0.72,2,   1.844,2,   1.122,2,-999.000,5,  2064.3,2,  2321.7,2,   -999.0,9,  -999.00,   7.9608,2,    25.00,   0.424,2,   0.005,-999.0000,9,-999.000,9, -999.00,5,    55.8,2,     3.5,-999.000,9,-999.000,   57.06,2,   10.79,2,   98.80,-999.0000,9,-999.0000,9,-999.0000,9,-999.0000,9,-999.0000,9,-999.0000,9,     -999.0,     -999.0,9,     -999.0,9,     -999.0,9,     -999.0,9,     -999.0,9,     -999.0,9, -999.00,9,  24.7366,-999.0000,-999.000
325020060213,       P16N,      15,          1,         30,         30,2,20060220,       0310,    -2.9997,  -151.0005,       4747,   125.5,  23.1389,  35.9570,2,  35.9594,2,    158.9,2,   160.3,2,    1.70,2,    4.70,2,    1.60,2,    0.71,2,   1.919,2,   1.182,2,-999.000,5,  2108.1,2,  2368.4,2,   -999.0,9,  -999.00,   7.9563,2,    25.00,   0.467,2,   0.003,   1.6667,2,   -1.54,2, -999.00,5,    64.9,2,     3.5,   6.747,2,   0.020,   55.85,2,   10.68,2,  125.50,-999.0000,9,-999.0000,9,-999.0000,9,-999.0000,9,-999.0000,9,-999.0000,9,     -999.0,     -999.0,9,     -999.0,9,     -999.0,9,     -999.0,9,     -999.0,9,     -999.0,9, -999.00,9,  23.1130,   0.0050,    0.14
325020060213,       P16N,      15,          1,         29,         29,2,20060220,       0310,    -2.9997,  -151.0005,       4747,   149.9,  21.1495,  35.8473,2,  35.8394,2,    143.3,2,   140.6,2,    2.40,2,    8.50,2,    0.40,2,    0.87,2,   2.005,2,   1.196,2,-999.000,5,  2128.9,2,  2360.7,2,   -999.0,9,  -999.00,-999.0000,9,  -999.00,   0.426,2,   0.003,   1.7282,2,   -0.99,2, -999.00,5,    64.8,2,     3.6,   6.959,2,   0.021,   53.85,2,   13.24,2,  149.90,-999.0000,9,-999.0000,9,-999.0000,9,-999.0000,9,-999.0000,9,-999.0000,9,     -999.0,     -999.0,9,     -999.0,9,     -999.0,9,     -999.0,9,     -999.0,9,     -999.0,9, -999.00,9,  21.1205,   0.0052,    0.14
325020060213,       P16N,      15,          1,         28,         28,2,20060220,       0310,    -2.9997,  -151.0005,       4747,   200.6,  13.7537,  35.0610,2,  35.0548,2,     82.4,2,    84.8,2,   13.80,2,   23.00,2,    0.00,2,    1.69,2,   1.254,2,   0.699,2,-999.000,5,  2191.1,2,  2313.3,6,   -999.0,9,  -999.00,   7.6696,2,    25.00,   0.267,2,   0.002,   1.7776,2,    2.90,2, -999.00,5,    14.6,2,     2.8,   7.341,2,   0.022,   51.71,2,   27.06,2,  200.60,-999.0000,9,-999.0000,9,-999.0000,9,-999.0000,9,-999.0000,9,-999.0000,9,     -999.0,     -999.0,9,     -999.0,9,     -999.0,9,     -999.0,9,     -999.0,9,     -999.0,9, -999.00,9,  13.7251,   0.0053,    0.14
325020060213,       P16N,      15,          1,         27,         27,2,20060220,       0310,    -2.9997,  -151.0005,       4747,   250.4,  12.3674,  34.9354,2,  34.9357,2,     95.9,2,    96.2,2,   16.40,2,   24.20,2,    0.00,2,    1.72,2,   1.097,2,   0.606,2,-999.000,5,  2191.2,2,  2308.8,2,   -999.0,9,  -999.00,   7.6593,2,    25.00,   0.270,2,   0.002,   1.7821,2,    3.62,2, -999.00,5,     1.8,2,     3.1,   7.430,2,   0.022,   50.34,2,   28.10,2,  250.40,-999.0000,9,-999.0000,9,-999.0000,9,-999.0000,9,-999.0000,9,-999.0000,9,     -999.0,     -999.0,9,     -999.0,9,     -999.0,9,     -999.0,9,     -999.0,9,     -999.0,9, -999.00,9,  12.3340,   0.0053,    0.14
325020060213,       P16N,      15,          1,         26,         26,2,20060220,       0310,    -2.9997,  -151.0005,       4747,   300.3,  11.0189,  34.8219,2,  34.8277,2,     82.7,2,    81.0,2,   20.70,2,   28.00,2,    0.00,2,    1.94,2,   0.760,6,   0.413,6,-999.000,5,  2209.9,2,  2305.7,2,   -999.0,9,  -999.00,   7.5983,2,    25.00,   0.210,2,   0.002,   1.7919,2,    4.07,2, -999.00,5,   -18.1,2,     3.3,   7.488,2,   0.022,   45.13,2,   32.02,2,  300.30,-999.0000,9,-999.0000,9,-999.0000,9,-999.0000,9,-999.0000,9,-999.0000,9,     -999.0,     -999.0,9,     -999.0,9,     -999.0,9,     -999.0,9,     -999.0,9,     -999.0,9, -999.00,9,  10.9817,   0.0054,    0.14
325020060213,       P16N,      15,          1,         25,         25,2,20060220,       0310,    -2.9997,  -151.0005,       4747,   349.5,   9.6538,  34.7277,2,  34.7236,2,     22.1,2,    24.4,2,   32.50,2,   36.20,2,    0.00,2,    2.52,2,   0.200,2,   0.115,2,-999.000,5,  2262.5,3,  2305.1,2,   -999.0,9,  -999.00,   7.4406,2,    25.00,   0.089,2,   0.001,   1.7936,2,    5.22,2, -999.00,5,   -75.4,2,     3.1,   7.573,2,   0.023,   43.74,2,   39.81,2,  349.50,-999.0000,9,-999.0000,9,-999.0000,9,-999.0000,9,-999.0000,9,-999.0000,9,     -999.0,     -999.0,9,     -999.0,9,     -999.0,9,     -999.0,9,     -999.0,9,     -999.0,9, -999.00,9,   9.6139,   0.0054,    0.14
325020060213,       P16N,      15,          1,         24,         24,2,20060220,       0310,    -2.9997,  -151.0005,       4747,   399.3,   8.7881,  34.6777,2,  34.6772,2,     10.1,2,    11.1,2,   38.30,2,   39.80,2,    0.00,2,    2.72,2,   0.077,2,   0.048,2,-999.000,5,  2279.3,3,  2306.8,2,   -999.0,9,  -999.00,   7.4146,2,    25.00,   0.047,2,   0.001,   1.8065,2,    5.71,2, -999.00,5,   -89.9,2,     3.1,   7.620,2,   0.023,   42.29,2,   43.89,2,  399.30,-999.0000,9,-999.0000,9,-999.0000,9,-999.0000,9,-999.0000,9,-999.0000,9,     -999.0,     -999.0,9,     -999.0,9,     -999.0,9,     -999.0,9,     -999.0,9,     -999.0,9, -999.00,9,   8.7450,   0.0054,    0.14
325020060213,       P16N,      15,          1,         23,         23,2,20060220,       0310,    -2.9997,  -151.0005,       4747,   449.2,   7.9630,  34.6310,2,  34.6353,2,     34.2,2,    30.1,2,   40.00,2,   40.10,2,    0.00,2,    2.68,2,   0.059,2,   0.035,2,-999.000,5,  2270.0,6,  2308.9,2,   -999.0,9,  -999.00,   7.3922,2,    25.00,   0.042,2,   0.001,   1.8218,2,    6.70,2, -999.00,5,   -95.9,2,     2.9,   7.662,2,   0.023,   41.61,2,   43.73,2,  449.20,-999.0000,9,-999.0000,9,-999.0000,9,-999.0000,9,-999.0000,9,-999.0000,9,     -999.0,     -999.0,9,     -999.0,9,     -999.0,9,     -999.0,9,     -999.0,9,     -999.0,9, -999.00,9,   7.9172,   0.0055,    0.14
325020060213,       P16N,      15,          1,         22,         22,2,20060220,       0310,    -2.9997,  -151.0005,       4747,   498.5,   7.3285,  34.6007,2,  34.6010,2,     40.9,2,    41.6,2,   44.50,2,   40.50,2,    0.00,2,    2.72,2,   0.039,2,   0.021,2,-999.000,5,  2273.6,2,  2312.8,2,   -999.0,9,  -999.00,   7.4255,2,    25.00,   0.028,2,   0.001,   1.8290,2,    7.56,2, -999.00,5,  -122.5,2,     2.6,   7.714,2,   0.023,   40.81,2,   44.01,2,  498.50,-999.0000,9,-999.0000,9,-999.0000,9,-999.0000,9,-999.0000,9,-999.0000,9,     -999.0,     -999.0,9,     -999.0,9,     -999.0,9,     -999.0,9,     -999.0,9,     -999.0,9, -999.00,9,   7.2799,   0.0055,    0.14
325020060213,       P16N,      15,          1,         21,         21,2,20060220,       0310,    -2.9997,  -151.0005,       4747,   599.6,   6.4702,  34.5680,2,  34.5698,2,     50.1,2,    57.5,2,   51.10,2,   40.50,2,    0.00,2,    2.75,2,   0.070,3,   0.015,2,-999.000,5,  2273.8,2,  2320.1,2,   -999.0,9,  -999.00,   7.4558,2,    25.00,   0.014,2,   0.001,   1.8300,2,    9.57,2, -999.00,5,  -129.1,2,     2.9,   7.797,2,   0.023,   40.12,2,   44.29,2,  599.60,-999.0000,9,-999.0000,9,-999.0000,9,-999.0000,9,-999.0000,9,-999.0000,9,     -999.0,     -999.0,9,     -999.0,9,     -999.0,9,     -999.0,9,     -999.0,9,     -999.0,9, -999.00,9,   6.4152,   0.0055,    0.14
325020060213,       P16N,      15,          1,         20,         20,2,20060220,       0310,    -2.9997,  -151.0005,       4747,   700.9,   5.7858,  34.5520,2,  34.5537,2,     73.2,2,    74.2,2,   58.80,2,   39.90,2,    0.00,2,    2.72,2,   0.019,2,   0.012,2,-999.000,5,  2275.3,2,  2329.1,2,   -999.0,9,  -999.00,   7.4626,2,    25.00,   0.025,2,   0.001,   1.8571,2,   11.97,2, -999.00,5,  -140.7,2,     2.7,   7.830,2,   0.023,   40.57,2,   43.70,2,  700.90,-999.0000,9,-999.0000,9,-999.0000,9,-999.0000,9,-999.0000,9,-999.0000,9,     -999.0,     -999.0,9,     -999.0,9,     -999.0,9,     -999.0,9,     -999.0,9,     -999.0,9, -999.00,9,   5.7246,   0.0056,    0.14
325020060213,       P16N,      15,          1,         19,         19,2,20060220,       0310,    -2.9997,  -151.0005,       4747,   799.1,   5.4049,  34.5499,2,  34.5504,2,     74.3,2,    74.8,2,   65.60,2,   40.30,2,    0.00,2,    2.77,2,   0.008,2,   0.006,2,-999.000,5,  2283.3,2,  2335.4,2,   -999.0,9,  -999.00,   7.4629,2,    25.00,-999.000,9,-999.000,-999.0000,9,-999.000,9, -999.00,5,  -146.7,2,     2.5,-999.000,9,-999.000,   40.20,2,   44.07,2,  799.10,-999.0000,9,-999.0000,9,-999.0000,9,-999.0000,9,-999.0000,9,-999.0000,9,     -999.0,     -999.0,9,     -999.0,9,     -999.0,9,     -999.0,9,     -999.0,9,     -999.0,9, -999.00,9,   5.3369,-999.0000,-999.000
325020060213,       P16N,      15,          1,         18,         18,2,20060220,       0310,    -2.9997,  -151.0005,       4747,   899.9,   4.8818,  34.5517,2,  34.5512,2,     79.6,2,    80.2,2,   73.90,2,   40.30,2,    0.00,2,    2.78,2,-999.000,9,-999.000,9,-999.000,9,  2288.2,2,  2344.5,2,   -999.0,9,  -999.00,   7.4722,2,    25.00,-999.000,9,-999.000,-999.0000,9,-999.000,9, -999.00,9,  -999.0,9,    -9.0,-999.000,9,-999.000,   40.45,2,   44.26,2,  899.90,-999.0000,9,-999.0000,9,-999.0000,9,-999.0000,9,-999.0000,9,-999.0000,9,     -999.0,     -999.0,9,     -999.0,9,     -999.0,9,     -999.0,9,     -999.0,9,     -999.0,9, -999.00,9,   4.8082,-999.0000,-999.000
325020060213,       P16N,      15,          1,         17,         17,2,20060220,       0310,    -2.9997,  -151.0005,       4747,   999.5,   4.5162,  34.5565,2,  34.5598,2,     85.1,2,    85.6,2,   80.70,2,   40.10,2,    0.00,2,    2.79,2,   0.002,2,   0.004,2,-999.000,5,  2294.7,2,  2353.8,6,   -999.0,9,  -999.00,   7.4775,2,    25.00,-999.000,9,-999.000,-999.0000,9,-999.000,9, -999.00,9,  -999.0,9,    -9.0,-999.000,9,-999.000,   38.62,2,   43.55,2,  999.50,-999.0000,9,-999.0000,9,-999.0000,9,-999.0000,9,-999.0000,9,-999.0000,9,     -999.0,     -999.0,9,     -999.0,9,     -999.0,9,     -999.0,9,     -999.0,9,     -999.0,9, -999.00,9,   4.4365,-999.0000,-999.000
325020060213,       P16N,      15,          1,         16,         16,2,20060220,       0310,    -2.9997,  -151.0005,       4747,  1201.0,   3.7870,  34.5762,2,  34.5769,2,     90.8,2,    91.2,2,   97.70,2,   40.10,2,    0.00,2,    2.80,2,-999.000,9,-999.000,9,-999.000,9,  2311.0,2,  2372.1,2,   -999.0,9,  -999.00,   7.4816,2,    25.00,-999.000,9,-999.000,-999.0000,9,-999.000,9, -999.00,9,  -999.0,9,    -9.0,-999.000,9,-999.000,   39.28,2,   43.38,2, 1201.00,-999.0000,9,-999.0000,9,-999.0000,9,-999.0000,9,-999.0000,9,-999.0000,9,     -999.0,     -999.0,9,     -999.0,9,     -999.0,9,     -999.0,9,     -999.0,9,     -999.0,9, -999.00,9,   3.6961,-999.0000,-999.000
325020060213,       P16N,      15,          1,         15,         15,2,20060220,       0310,    -2.9997,  -151.0005,       4747,  1399.2,   3.2856,  34.5921,2,  34.5915,2,    100.1,2,   100.4,2,  107.20,2,   39.60,2,    0.00,2,    2.78,2,  -0.001,2,   0.000,2,-999.000,5,  2317.8,2,  2383.1,2,   -999.0,9,  -999.00,   7.4981,2,    25.00,-999.000,9,-999.000,-999.0000,9,-999.000,9, -999.00,9,  -999.0,9,    -9.0,-999.000,9,-999.000,   38.59,2,   43.10,2, 1399.20,-999.0000,9,-999.0000,9,-999.0000,9,-999.0000,9,-999.0000,9,-999.0000,9,     -999.0,     -999.0,9,     -999.0,9,     -999.0,9,     -999.0,9,     -999.0,9,     -999.0,9, -999.00,9,   3.1830,-999.0000,-999.000
325020060213,       P16N,      15,          1,         14,         14,2,20060220,       0310,    -2.9997,  -151.0005,       4747,  1601.5,   2.8433,  34.6127,2,  34.6131,2,    103.4,2,   104.1,2,  118.70,2,   39.40,2,    0.00,2,    2.77,2,-999.000,9,-999.000,9,-999.000,9,  2328.5,2,  2395.0,2,   -999.0,9,  -999.00,   7.5198,2,    25.00,-999.000,9,-999.000,-999.0000,9,-999.000,9, -999.00,9,  -999.0,9,    -9.0,-999.000,9,-999.000,   37.61,2,   43.30,2, 1601.50,-999.0000,9,-999.0000,9,-999.0000,9,-999.0000,9,-999.0000,9,-999.0000,9,     -999.0,     -999.0,9,     -999.0,9,     -999.0,9,     -999.0,9,     -999.0,9,     -999.0,9, -999.00,9,   2.7287,-999.0000,-999.000
325020060213,       P16N,      15,          1,         13,         13,2,20060220,       0310,    -2.9997,  -151.0005,       4747,  1799.8,   2.5075,  34.6326,2,  34.6326,2,    103.4,2,   104.7,2,  130.30,2,   39.60,2,    0.00,2,    2.79,2,   0.002,2,   0.004,2,-999.000,5,  2340.0,2,  2407.7,2,   -999.0,9,  -999.00,-999.0000,9,  -999.00,-999.000,9,-999.000,-999.0000,9,-999.000,9, -999.00,9,  -999.0,9,    -9.0,-999.000,9,-999.000,   37.98,2,   43.34,2, 1799.80,-999.0000,9,-999.0000,9,-999.0000,9,-999.0000,9,-999.0000,9,-999.0000,9,     -999.0,     -999.0,9,     -999.0,9,     -999.0,9,     -999.0,9,     -999.0,9,     -999.0,9, -999.00,9,   2.3806,-999.0000,-999.000
325020060213,       P16N,      15,          1,         12,         12,2,20060220,       0310,    -2.9997,  -151.0005,       4747,  2000.4,   2.2776,  34.6448,2,  34.6444,2,    109.2,2,   110.3,2,  135.00,2,   39.20,2,    0.00,2,    2.75,2,-999.000,9,-999.000,9,-999.000,9,  2341.7,2,  2413.6,2,   -999.0,9,  -999.00,-999.0000,9,  -999.00,-999.000,9,-999.000,-999.0000,9,-999.000,9, -999.00,9,  -999.0,9,    -9.0,-999.000,9,-999.000,   37.15,2,   42.54,2, 2000.40,-999.0000,9,-999.0000,9,-999.0000,9,-999.0000,9,-999.0000,9,-999.0000,9,     -999.0,     -999.0,9,     -999.0,9,     -999.0,9,     -999.0,9,     -999.0,9,     -999.0,9, -999.00,9,   2.1368,-999.0000,-999.000
325020060213,       P16N,      15,          1,         11,         11,2,20060220,       0310,    -2.9997,  -151.0005,       4747,  2251.1,   2.1002,  34.6547,2,  34.6528,2,    116.2,2,   117.4,2,  138.10,2,   38.70,2,    0.00,2,    2.72,2,  -0.006,2,   0.001,2,-999.000,5,  2341.5,2,  2417.5,2,   -999.0,9,  -999.00,-999.0000,9,  -999.00,-999.000,9,-999.000,-999.0000,9,-999.000,9, -999.00,9,  -999.0,9,    -9.0,-999.000,9,-999.000,   36.83,2,   42.34,2, 2251.10,-999.0000,9,-999.0000,9,-999.0000,9,-999.0000,9,-999.0000,9,-999.0000,9,     -999.0,     -999.0,9,     -999.0,9,     -999.0,9,     -999.0,9,     -999.0,9,     -999.0,9, -999.00,9,   1.9405,-999.0000,-999.000
325020060213,       P16N,      15,          1,         10,         10,2,20060220,       0310,    -2.9997,  -151.0005,       4747,  2500.2,   1.8974,  34.6658,2,  34.6664,2,    124.8,2,   125.5,2,  140.90,2,   38.20,2,    0.00,2,    2.67,2,-999.000,9,-999.000,9,-999.000,9,  2338.8,2,  2420.6,2,   -999.0,9,  -999.00,-999.0000,9,  -999.00,-999.000,9,-999.000,-999.0000,9,-999.000,9, -999.00,9,  -999.0,9,    -9.0,-999.000,9,-999.000,   37.20,2,   41.89,2, 2500.20,-999.0000,9,-999.0000,9,-999.0000,9,-999.0000,9,-999.0000,9,-999.0000,9,     -999.0,     -999.0,9,     -999.0,9,     -999.0,9,     -999.0,9,     -999.0,9,     -999.0,9, -999.00,9,   1.7190,-999.0000,-999.000
325020060213,       P16N,      15,          1,          9,          9,2,20060220,       0310,    -2.9997,  -151.0005,       4747,  2748.8,   1.7954,  34.6720,2,  34.6707,2,    130.1,2,   131.0,2,  142.60,2,   37.70,2,    0.00,2,    2.64,2,  -0.003,2,   0.000,2,-999.000,5,  2337.2,2,  2422.2,2,   -999.0,9,  -999.00,-999.0000,9,  -999.00,-999.000,9,-999.000,-999.0000,9,-999.000,9, -999.00,9,  -999.0,9,    -9.0,-999.000,9,-999.000,   36.79,2,   41.75,2, 2748.80,-999.0000,9,-999.0000,9,-999.0000,9,-999.0000,9,-999.0000,9,-999.0000,9,     -999.0,     -999.0,9,     -999.0,9,     -999.0,9,     -999.0,9,     -999.0,9,     -999.0,9, -999.00,9,   1.5960,-999.0000,-999.000