BOTTLE,20170720CCHSIOCBG
EXPOCODE,SECT_ID,STNNBR,CASTNO,SAMPNO,BTLNBR,BTLNBR_FLAG_W,DATE,TIME,LATITUDE,LONGITUDE,DEPTH,CTDPRS,CTDTMP,CTDSAL,CTDSAL_FLAG_W,SALNTY,SALNTY_FLAG_W,CTDOXY,CTDOXY_FLAG_W,OXYGEN,OXYGEN_FLAG_W,SILCAT,SILCAT_FLAG_W,NITRAT,NITRAT_FLAG_W,NITRIT,NITRIT_FLAG_W,PHSPHT,PHSPHT_FLAG_W,CFC-11,CFC-11_FLAG_W,CFC-12,CFC-12_FLAG_W,CFC113,CFC113_FLAG_W,TCARBN,TCARBN_FLAG_W,ALKALI,ALKALI_FLAG_W,FCO2,FCO2_FLAG_W,FCO2TMP,PH_TOT,PH_TOT_FLAG_W,PH_TMP,TRITUM,TRITUM_FLAG_W,TRITER,HELIUM,HELIUM_FLAG_W,DELHE3,DELHE3_FLAG_W,DELC13,DELC13_FLAG_W,DELC14,DELC14_FLAG_W,C14ERR,NEON,NEON_FLAG_W,NEONER,DOC,DOC_FLAG_W,TDN,TDN_FLAG_W,CTDRAW,CDOM325,CDOM325_FLAG_W,CDOM340,CDOM340_FLAG_W,CDOM380,CDOM380_FLAG_W,CDOM412,CDOM412_FLAG_W,CDOMSL,CDOMSL_FLAG_W,CDOMSN,CDOMSN_FLAG_W,DCNS,ARABI,ARABI_FLAG_W,FUCO,FUCO_FLAG_W,GALA,GALA_FLAG_W,GLUC,GLUC_FLAG_W,MAN,MAN_FLAG_W,RHAM,RHAM_FLAG_W,BRDU,BRDU_FLAG_W,THETA,HELIER,DELHER
,,,,,,,,,,,METERS,DBAR,ITS-90,PSS-78,,PSS-78,,UMOL/KG,,UMOL/KG,,UMOL/KG,,UMOL/KG,,UMOL/KG,,UMOL/KG,,PMOL/KG,,PMOL/KG,,PMOL/KG,,UMOL/KG,,UMOL/KG,,UATM,,DEG C,,,DEG C,TU,,TU,NMOL/KG,,PERCNT,,/MILLE,,/MILLE,,/MILLE,NMOL/KG,,NMOL/KG,UMOL/KG,,UMOL/KG,,DBAR,1/M,,1/M,,1/M,,1/M,,1/NM,,1/NM,,NMOL/KG,NMOL/KG,,NMOL/KG,,NMOL/KG,,NMOL/KG,,NMOL/KG,,NMOL/KG,,PMOL/L/H,,DEG C,NMOL/KG,PERCNT
325020060213,       P16N,      51,          1,          9,          9,2,20060315,       2012,         29,       -152,       5508,  3000.7,   1.5664,  34.6685,2,  34.6684,2,    119.8,2,   120.0,2,  162.80,2,   38.20,2,    0.00,2,    2.68,2,-999.000,9,-999.000,9,-999.000,9,  2351.4,2,  2424.6,2,   -999.0,9,  -999.00,   7.5325,2,    25.00,-999.000,9,-999.000,-999.0000,9,-999.000,9, -999.00,9,  -999.0,9,    -9.0,-999.000,9,-999.000,   36.68,2,   42.06,2, 3000.70,   0.1290,2,   0.0880,2,   0.0450,2,   0.0310,2,   0.0167,2,   0.0188,2,     -999.0,     -999.0,9,     -999.0,9,     -999.0,9,     -999.0,9,     -999.0,9,     -999.0,9, -999.00,9,   1.3481,-999.0000,-999.000
325020060213,       P16N,      51,          1,          8,          8,2,20060315,       2012,         29,       -152,       5508,  3249.5,   1.5293,  34.6749,2,  34.6747,2,    127.8,2,   127.7,2,  161.10,2,   38.00,2,    0.00,2,    2.63,2,-999.000,9,-999.000,9,-999.000,9,  2346.8,2,  2424.7,2,   -999.0,9,  -999.00,   7.5405,2,    25.00,-999.000,9,-999.000,-999.0000,9,-999.000,9, -999.00,9,  -999.0,9,    -9.0,-999.000,9,-999.000,   37.22,2,   41.94,2, 3249.50,   0.1220,2,   0.0820,2,   0.0410,2,   0.0280,2,   0.0181,2,   0.0202,2,     -999.0,     -999.0,9,     -999.0,9,     -999.0,9,     -999.0,9,     -999.0,9,     -999.0,9, -999.00,9,   1.2877,-999.0000,-999.000
325020060213,       P16N,      51,          1,          7,          7,2,20060315,       2012,         29,       -152,       5508,  3650.3,   1.4913,  34.6824,2,  34.6812,2,    138.2,2,   137.9,2,  158.10,6,   36.70,2,    0.00,6,    2.56,6,-999.000,9,-999.000,9,-999.000,9,  2339.9,2,  2428.6,6,   -999.0,9,  -999.00,   7.5586,2,    25.00,-999.000,9,-999.000,-999.0000,9,-999.000,9, -999.00,9,  -999.0,9,    -9.0,-999.000,9,-999.000,   37.37,2,   40.12,2, 3650.30,   0.1200,2,   0.0800,2,   0.0390,2,   0.0260,2,   0.0188,2,   0.0208,2,     -999.0,     -999.0,9,     -999.0,9,     -999.0,9,     -999.0,9,     -999.0,9,     -999.0,9, -999.00,9,   1.2099,-999.0000,-999.000
325020060213,       P16N,      51,          1,          6,          6,2,20060315,       2012,         29,       -152,       5508,  4047.2,   1.4816,  34.6869,2,-999.0000,5,    145.4,2,   145.3,2,  154.00,2,   36.70,2,    0.00,2,    2.54,2,-999.000,9,-999.000,9,-999.000,9,  2333.2,2,  2427.1,2,   -999.0,9,  -999.00,   7.5708,2,    25.00,-999.000,9,-999.000,-999.0000,9,-999.000,9, -999.00,9,  -999.0,9,    -9.0,-999.000,9,-999.000,   35.14,2,   40.35,2, 4047.20,   0.1150,2,   0.0770,2,   0.0370,2,   0.0250,2,   0.0196,2,   0.0216,2,     -999.0,     -999.0,9,     -999.0,9,     -999.0,9,     -999.0,9,     -999.0,9,     -999.0,9, -999.00,9,   1.1580,-999.0000,-999.000
325020060213,       P16N,      51,          1,          5,          5,2,20060315,       2012,         29,       -152,       5508,  4549.8,   1.4939,  34.6908,2,  34.6920,2,    152.6,2,   152.5,2,  149.70,2,   36.10,2,    0.00,2,    2.50,2,-999.000,9,-999.000,9,-999.000,9,  2327.4,2,  2420.8,2,   -999.0,9,  -999.00,   7.5836,2,    25.00,-999.000,9,-999.000,-999.0000,9,-999.000,9, -999.00,9,  -999.0,9,    -9.0,-999.000,9,-999.000,   38.32,2,   39.65,2, 4549.80,   0.1230,2,   0.0830,2,   0.0400,2,   0.0270,2,   0.0186,2,   0.0206,2,     -999.0,     -999.0,9,     -999.0,9,     -999.0,9,     -999.0,9,     -999.0,9,     -999.0,9, -999.00,9,   1.1133,-999.0000,-999.000
325020060213,       P16N,      51,          1,          4,          4,2,20060315,       2012,         29,       -152,       5508,  5051.1,   1.5105,  34.6939,2,  34.6964,2,    159.7,2,   160.0,2,  144.10,6,   35.30,6,    0.00,6,    2.44,6,-999.000,9,-999.000,9,-999.000,9,  2319.2,2,  2414.5,2,   -999.0,9,  -999.00,   7.5908,2,    25.00,-999.000,9,-999.000,-999.0000,9,-999.000,9, -999.00,9,  -999.0,9,    -9.0,-999.000,9,-999.000,   36.70,2,   38.87,2, 5051.10,   0.1150,2,   0.0770,2,   0.0370,2,   0.0250,2,   0.0198,2,   0.0217,2,     -999.0,     -999.0,9,     -999.0,9,     -999.0,9,     -999.0,9,     -999.0,9,     -999.0,9, -999.00,9,   1.0696,-999.0000,-999.000
325020060213,       P16N,      51,          1,          3,          3,2,20060315,       2012,         29,       -152,       5508,  5400.2,   1.5376,  34.6952,2,  34.6975,2,    163.0,2,   162.9,2,  141.70,6,   35.20,2,    0.00,6,    2.42,6,-999.000,9,-999.000,9,-999.000,9,  2315.4,2,  2412.9,2,   -999.0,9,  -999.00,   7.5940,2,    25.00,-999.000,9,-999.000,-999.0000,9,-999.000,9, -999.00,9,  -999.0,9,    -9.0,-999.000,9,-999.000,   36.59,2,   38.82,2, 5400.20,   0.1140,2,   0.0760,2,   0.0360,2,   0.0240,2,   0.0198,2,   0.0217,2,     -999.0,     -999.0,9,     -999.0,9,     -999.0,9,     -999.0,9,     -999.0,9,     -999.0,9, -999.00,9,   1.0524,-999.0000,-999.000
325020060213,       P16N,      51,          1,          2,          2,2,20060315,       2012,         29,       -152,       5508,  5600.4,   1.5602,  34.6955,2,  34.6975,2,    163.5,2,   163.4,2,  141.20,6,   35.10,2,    0.00,6,    2.42,6,-999.000,9,-999.000,9,-999.000,9,  2314.6,2,  2411.7,2,   -999.0,9,  -999.00,   7.5933,2,    25.00,-999.000,9,-999.000,-999.0000,9,-999.000,9, -999.00,9,  -999.0,9,    -9.0,-999.000,9,-999.000,   38.07,2,   38.30,2, 5600.40,   0.1130,2,   0.0740,2,   0.0350,2,   0.0240,2,   0.0202,2,   0.0222,2,     -999.0,     -999.0,9,     -999.0,9,     -999.0,9,     -999.0,9,     -999.0,9,     -999.0,9, -999.00,9,   1.0484,-999.0000,-999.000
325020060213,       P16N,      51,          1,          1,          1,4,20060315,       2012,         29,       -152,       5508,  5729.1,   1.5777,  34.6954,2,  34.6586,4,    163.4,2,   106.9,4,  165.50,4,   38.90,4,    0.00,4,    2.74,4,   0.018,3,   0.004,2,-999.000,9,  2357.4,3,  2425.5,2,   -999.0,9,  -999.00,   7.5023,3,    25.00,-999.000,9,-999.000,    1.939,2,  20.674,2, -999.00,9,  -999.0,9,    -9.0,   8.342,2,   0.010,   36.67,2,   43.03,2, 5729.10,-999.0000,9,-999.0000,9,-999.0000,9,-999.0000,9,-999.0000,9,-999.0000,9,     -999.0,     -999.0,9,     -999.0,9,     -999.0,9,     -999.0,9,     -999.0,9,     -999.0,9, -999.00,9,   1.0486,    0.000,   0.192