BOTTLE,20170720CCHSIOCBG
EXPOCODE,SECT_ID,STNNBR,CASTNO,SAMPNO,BTLNBR,BTLNBR_FLAG_W,DATE,TIME,LATITUDE,LONGITUDE,DEPTH,CTDPRS,CTDTMP,CTDSAL,CTDSAL_FLAG_W,SALNTY,SALNTY_FLAG_W,CTDOXY,CTDOXY_FLAG_W,OXYGEN,OXYGEN_FLAG_W,SILCAT,SILCAT_FLAG_W,NITRAT,NITRAT_FLAG_W,NITRIT,NITRIT_FLAG_W,PHSPHT,PHSPHT_FLAG_W,CFC-11,CFC-11_FLAG_W,CFC-12,CFC-12_FLAG_W,CFC113,CFC113_FLAG_W,TCARBN,TCARBN_FLAG_W,ALKALI,ALKALI_FLAG_W,FCO2,FCO2_FLAG_W,FCO2TMP,PH_TOT,PH_TOT_FLAG_W,PH_TMP,TRITUM,TRITUM_FLAG_W,TRITER,HELIUM,HELIUM_FLAG_W,DELHE3,DELHE3_FLAG_W,DELC13,DELC13_FLAG_W,DELC14,DELC14_FLAG_W,C14ERR,NEON,NEON_FLAG_W,NEONER,DOC,DOC_FLAG_W,TDN,TDN_FLAG_W,CTDRAW,CDOM325,CDOM325_FLAG_W,CDOM340,CDOM340_FLAG_W,CDOM380,CDOM380_FLAG_W,CDOM412,CDOM412_FLAG_W,CDOMSL,CDOMSL_FLAG_W,CDOMSN,CDOMSN_FLAG_W,DCNS,ARABI,ARABI_FLAG_W,FUCO,FUCO_FLAG_W,GALA,GALA_FLAG_W,GLUC,GLUC_FLAG_W,MAN,MAN_FLAG_W,RHAM,RHAM_FLAG_W,BRDU,BRDU_FLAG_W,THETA,HELIER,DELHER
,,,,,,,,,,,METERS,DBAR,ITS-90,PSS-78,,PSS-78,,UMOL/KG,,UMOL/KG,,UMOL/KG,,UMOL/KG,,UMOL/KG,,UMOL/KG,,PMOL/KG,,PMOL/KG,,PMOL/KG,,UMOL/KG,,UMOL/KG,,UATM,,DEG C,,,DEG C,TU,,TU,NMOL/KG,,PERCNT,,/MILLE,,/MILLE,,/MILLE,NMOL/KG,,NMOL/KG,UMOL/KG,,UMOL/KG,,DBAR,1/M,,1/M,,1/M,,1/M,,1/NM,,1/NM,,NMOL/KG,NMOL/KG,,NMOL/KG,,NMOL/KG,,NMOL/KG,,NMOL/KG,,NMOL/KG,,PMOL/L/H,,DEG C,NMOL/KG,PERCNT
325020060213,       P16N,      75,          1,          9,          9,9,20060327,       2018,         54,  -152.2202,       4393,  2398.8,   1.7067,  34.6303,2,-999.0000,9,     84.5,2,  -999.0,9, -999.00,9, -999.00,9, -999.00,9, -999.00,9,-999.000,9,-999.000,9,-999.000,9,  -999.0,9,  -999.0,9,   -999.0,9,  -999.00,-999.0000,9,  -999.00,-999.000,9,-999.000,-999.0000,9,-999.000,9, -999.00,9,  -999.0,9,    -9.0,-999.000,9,-999.000, -999.00,9, -999.00,9, 2398.80,-999.0000,9,-999.0000,9,-999.0000,9,-999.0000,9,-999.0000,9,-999.0000,9,     -999.0,     -999.0,9,     -999.0,9,     -999.0,9,     -999.0,9,     -999.0,9,     -999.0,9, -999.00,9,   1.5410,-999.0000,-999.000
325020060213,       P16N,      75,          1,          8,          8,2,20060327,       2018,         54,  -152.2202,       4393,  2599.7,   1.6403,  34.6430,2,  34.6448,2,     95.4,2,    95.3,2,  169.00,2,   39.00,2,    0.00,2,    2.90,2,  -0.004,2,   0.003,2,-999.000,5,  2364.1,6,  2422.0,2,   1543.0,2,    20.00,   7.4722,2,    25.00,-999.000,9,-999.000,-999.0000,9,-999.000,9, -999.00,9,  -999.0,9,    -9.0,-999.000,9,-999.000,   36.44,2,   43.33,2, 2599.70,   0.1440,2,   0.1000,2,   0.0570,2,   0.0450,2,   0.0120,3,   0.0141,3,     -999.0,     -999.0,9,     -999.0,9,     -999.0,9,     -999.0,9,     -999.0,9,     -999.0,9, -999.00,9,   1.4579,-999.0000,-999.000
325020060213,       P16N,      75,          1,          7,          7,2,20060327,       2018,         54,  -152.2202,       4393,  2999.8,   1.5500,  34.6611,2,  34.6683,4,    113.7,2,   113.9,2,  165.60,2,   37.90,2,    0.00,2,    2.74,2,-999.000,9,-999.000,9,-999.000,9,  2352.8,2,  2423.8,6,   1420.4,6,    20.00,   7.5063,2,    25.00,-999.000,9,-999.000,-999.0000,9,-999.000,9, -999.00,9,  -999.0,9,    -9.0,-999.000,9,-999.000,   36.80,2,   41.89,2, 2999.80,   0.1390,2,   0.0960,2,   0.0540,2,   0.0430,2,   0.0118,3,   0.0142,3,     -999.0,     -999.0,9,     -999.0,9,     -999.0,9,     -999.0,9,     -999.0,9,     -999.0,9, -999.00,9,   1.3322,-999.0000,-999.000
325020060213,       P16N,      75,          1,          6,          6,2,20060327,       2018,         54,  -152.2202,       4393,  3299.6,   1.4993,  34.6717,2,  34.6734,2,    126.0,2,   126.2,2,  164.20,2,   36.80,2,    0.00,2,    2.70,2,   0.000,2,   0.003,2,-999.000,5,  2346.0,2,  2424.3,2,   1330.7,2,    20.00,   7.5312,2,    25.00,-999.000,9,-999.000,-999.0000,9,-999.000,9, -999.00,9,  -999.0,9,    -9.0,-999.000,9,-999.000,   36.94,2,   40.07,2, 3299.60,   0.1350,2,   0.0940,2,   0.0530,2,   0.0420,2,   0.0117,3,   0.0141,3,     -999.0,     -999.0,9,     -999.0,9,     -999.0,9,     -999.0,9,     -999.0,9,     -999.0,9, -999.00,9,   1.2534,-999.0000,-999.000
325020060213,       P16N,      75,          1,          5,          5,2,20060327,       2018,         54,  -152.2202,       4393,  3699.5,   1.4727,  34.6807,2,  34.6833,2,    136.6,2,   137.1,2,  163.10,6,   36.40,6,    0.00,6,    2.64,6,-999.000,9,-999.000,9,-999.000,9,  2339.0,2,  2431.7,2,   1251.2,2,    20.00,   7.5513,2,    25.00,-999.000,9,-999.000,-999.0000,9,-999.000,9, -999.00,9,  -999.0,9,    -9.0,-999.000,9,-999.000,   37.64,2,   39.46,2, 3699.50,   0.1350,2,   0.0930,2,   0.0520,2,   0.0410,2,   0.0118,3,   0.0143,3,     -999.0,     -999.0,9,     -999.0,9,     -999.0,9,     -999.0,9,     -999.0,9,     -999.0,9, -999.00,9,   1.1866,-999.0000,-999.000
325020060213,       P16N,      75,          1,          3,          3,9,20060327,       2018,         54,  -152.2202,       4393,  4096.3,   1.4814,  34.6853,2,-999.0000,9,    142.1,2,  -999.0,9, -999.00,9, -999.00,9, -999.00,9, -999.00,9,-999.000,9,-999.000,9,-999.000,9,  -999.0,9,  -999.0,9,   -999.0,9,  -999.00,-999.0000,9,  -999.00,-999.000,9,-999.000,-999.0000,9,-999.000,9, -999.00,9,  -999.0,9,    -9.0,-999.000,9,-999.000, -999.00,9,   38.88,9, 4096.30,-999.0000,9,-999.0000,9,-999.0000,9,-999.0000,9,-999.0000,9,-999.0000,9,     -999.0,     -999.0,9,     -999.0,9,     -999.0,9,     -999.0,9,     -999.0,9,     -999.0,9, -999.00,9,   1.1525,-999.0000,-999.000
325020060213,       P16N,      75,          1,          4,          4,2,20060327,       2018,         54,  -152.2202,       4393,  4096.6,   1.4813,  34.6853,2,  34.6906,4,    142.1,2,   142.2,2,  163.10,6,   35.80,6,    0.00,6,    2.61,6,-999.000,9,-999.000,9,-999.000,9,  2335.5,2,  2430.8,2,   1226.7,2,    20.00,   7.5631,2,    25.00,-999.000,9,-999.000,-999.0000,9,-999.000,9, -999.00,9,  -999.0,9,    -9.0,-999.000,9,-999.000,   38.00,2, -999.00,2, 4096.60,   0.1340,2,   0.0920,2,   0.0520,2,   0.0420,2,   0.0115,3,   0.0139,3,     -999.0,     -999.0,9,     -999.0,9,     -999.0,9,     -999.0,9,     -999.0,9,     -999.0,9, -999.00,9,   1.1523,-999.0000,-999.000
325020060213,       P16N,      75,          1,          2,          2,2,20060327,       2018,         54,  -152.2202,       4393,  4399.5,   1.4966,  34.6874,2,  34.6925,4,    145.5,2,   145.9,2,  161.60,6,   35.70,6,    0.00,6,    2.59,6,  -0.001,2,   0.006,2,-999.000,5,  2333.0,6,  2429.5,2,   1209.0,2,    20.00,   7.5671,2,    25.00,   0.001,2,   0.004,-999.0000,9,-999.000,9, -999.00,9,  -999.0,9,    -9.0,-999.000,9,-999.000,   37.92,2,   39.16,2, 4399.50,   0.1330,2,   0.0920,2,   0.0520,2,   0.0420,2,   0.0112,3,   0.0136,3,     -999.0,     -999.0,9,     -999.0,9,     -999.0,9,     -999.0,9,     -999.0,9,     -999.0,9, -999.00,9,   1.1333,-999.0000,-999.000
325020060213,       P16N,      75,          1,          1,          1,2,20060327,       2018,         54,  -152.2202,       4393,  4506.9,   1.4940,  34.6888,2,  34.6926,3,    148.4,2,   148.1,2,  159.20,4,   35.20,4,    0.00,4,    2.55,4,  -0.007,2,   0.000,2,-999.000,5,  2330.3,6,  2428.4,2,   1199.1,2,    20.00,   7.5703,2,    25.00,   0.001,2,   0.004,    1.942,2,  17.385,2, -999.00,9,  -999.0,9,    -9.0,   8.394,2,   0.020,   37.34,2,   38.39,2, 4506.90,   0.1340,2,   0.0920,2,   0.0530,2,   0.0430,2,   0.0110,3,   0.0135,3,     -999.0,     -999.0,9,     -999.0,9,     -999.0,9,     -999.0,9,     -999.0,9,     -999.0,9, -999.00,9,   1.1185,    0.001,   0.193