BOTTLE,20170720CCHSIOCBG
EXPOCODE,SECT_ID,STNNBR,CASTNO,SAMPNO,BTLNBR,BTLNBR_FLAG_W,DATE,TIME,LATITUDE,LONGITUDE,DEPTH,CTDPRS,CTDTMP,CTDSAL,CTDSAL_FLAG_W,SALNTY,SALNTY_FLAG_W,CTDOXY,CTDOXY_FLAG_W,OXYGEN,OXYGEN_FLAG_W,SILCAT,SILCAT_FLAG_W,NITRAT,NITRAT_FLAG_W,NITRIT,NITRIT_FLAG_W,PHSPHT,PHSPHT_FLAG_W,CFC-11,CFC-11_FLAG_W,CFC-12,CFC-12_FLAG_W,CFC113,CFC113_FLAG_W,TCARBN,TCARBN_FLAG_W,ALKALI,ALKALI_FLAG_W,FCO2,FCO2_FLAG_W,FCO2TMP,PH_TOT,PH_TOT_FLAG_W,PH_TMP,TRITUM,TRITUM_FLAG_W,TRITER,HELIUM,HELIUM_FLAG_W,DELHE3,DELHE3_FLAG_W,DELC13,DELC13_FLAG_W,DELC14,DELC14_FLAG_W,C14ERR,NEON,NEON_FLAG_W,NEONER,DOC,DOC_FLAG_W,TDN,TDN_FLAG_W,CTDRAW,CDOM325,CDOM325_FLAG_W,CDOM340,CDOM340_FLAG_W,CDOM380,CDOM380_FLAG_W,CDOM412,CDOM412_FLAG_W,CDOMSL,CDOMSL_FLAG_W,CDOMSN,CDOMSN_FLAG_W,DCNS,ARABI,ARABI_FLAG_W,FUCO,FUCO_FLAG_W,GALA,GALA_FLAG_W,GLUC,GLUC_FLAG_W,MAN,MAN_FLAG_W,RHAM,RHAM_FLAG_W,BRDU,BRDU_FLAG_W,THETA,HELIER,DELHER
,,,,,,,,,,,METERS,DBAR,ITS-90,PSS-78,,PSS-78,,UMOL/KG,,UMOL/KG,,UMOL/KG,,UMOL/KG,,UMOL/KG,,UMOL/KG,,PMOL/KG,,PMOL/KG,,PMOL/KG,,UMOL/KG,,UMOL/KG,,UATM,,DEG C,,,DEG C,TU,,TU,NMOL/KG,,PERCNT,,/MILLE,,/MILLE,,/MILLE,NMOL/KG,,NMOL/KG,UMOL/KG,,UMOL/KG,,DBAR,1/M,,1/M,,1/M,,1/M,,1/NM,,1/NM,,NMOL/KG,NMOL/KG,,NMOL/KG,,NMOL/KG,,NMOL/KG,,NMOL/KG,,NMOL/KG,,PMOL/L/H,,DEG C,NMOL/KG,PERCNT
325020060213,       P16N,      17,          1,          8,          8,4,20060220,       1858,       -1.5,       -151,       4817,  3000.2,   1.6635,  34.6778,2,  34.6122,4,    137.2,2,    95.0,4,  120.70,4,   39.80,4,    0.00,4,    2.83,4,-999.000,9,-999.000,9,-999.000,9,  -999.0,9,  -999.0,5,   -999.0,9,  -999.00,-999.0000,9,  -999.00,-999.000,9,-999.000,-999.0000,9,-999.000,9, -999.00,9,  -999.0,9,    -9.0,-999.000,9,-999.000,   37.47,2,   43.47,2, 3000.20,-999.0000,9,-999.0000,9,-999.0000,9,-999.0000,9,-999.0000,9,-999.0000,9,     -999.0,     -999.0,9,     -999.0,9,     -999.0,9,     -999.0,9,     -999.0,9,     -999.0,9, -999.00,9,   1.4430,-999.0000,-999.000
325020060213,       P16N,      17,          1,          7,          7,2,20060220,       1858,       -1.5,       -151,       4817,  3250.5,   1.5938,  34.6829,2,  34.6825,2,    144.8,2,   144.8,2,  142.30,2,   36.80,2,    0.00,2,    2.58,2,-999.000,9,-999.000,9,-999.000,9,  -999.0,9,  -999.0,5,   -999.0,9,  -999.00,-999.0000,9,  -999.00,-999.000,9,-999.000,-999.0000,9,-999.000,9, -999.00,9,  -999.0,9,    -9.0,-999.000,9,-999.000,   37.44,2,   40.78,2, 3250.50,-999.0000,9,-999.0000,9,-999.0000,9,-999.0000,9,-999.0000,9,-999.0000,9,     -999.0,     -999.0,9,     -999.0,9,     -999.0,9,     -999.0,9,     -999.0,9,     -999.0,9, -999.00,9,   1.3505,-999.0000,-999.000
325020060213,       P16N,      17,          1,          6,          6,2,20060220,       1858,       -1.5,       -151,       4817,  3650.7,   1.4635,  34.6934,2,  34.6926,2,    154.6,2,   153.6,2,  144.20,2,   36.20,2,    0.00,2,    2.52,2,-999.000,9,-999.000,9,-999.000,9,  -999.0,9,  -999.0,5,   -999.0,9,  -999.00,-999.0000,9,  -999.00,-999.000,9,-999.000,-999.0000,9,-999.000,9, -999.00,9,  -999.0,9,    -9.0,-999.000,9,-999.000,   37.41,2,   40.26,2, 3650.70,-999.0000,9,-999.0000,9,-999.0000,9,-999.0000,9,-999.0000,9,-999.0000,9,     -999.0,     -999.0,9,     -999.0,9,     -999.0,9,     -999.0,9,     -999.0,9,     -999.0,9, -999.00,9,   1.1827,-999.0000,-999.000
325020060213,       P16N,      17,          1,          5,          5,2,20060220,       1858,       -1.5,       -151,       4817,  4051.0,   1.4152,  34.6982,2,  34.6977,2,    162.4,2,   161.1,2,  142.30,6,   35.70,6,    0.00,6,    2.48,6,-999.000,9,-999.000,9,-999.000,9,  -999.0,9,  -999.0,5,   -999.0,9,  -999.00,-999.0000,9,  -999.00,-999.000,9,-999.000,-999.0000,9,-999.000,9, -999.00,9,  -999.0,9,    -9.0,-999.000,9,-999.000,   37.61,2,   39.52,2, 4051.00,-999.0000,9,-999.0000,9,-999.0000,9,-999.0000,9,-999.0000,9,-999.0000,9,     -999.0,     -999.0,9,     -999.0,9,     -999.0,9,     -999.0,9,     -999.0,9,     -999.0,9, -999.00,9,   1.0931,-999.0000,-999.000
325020060213,       P16N,      17,          1,          4,          4,2,20060220,       1858,       -1.5,       -151,       4817,  4550.8,   1.3393,  34.7046,2,  34.7050,2,    181.2,2,   180.1,2,  129.70,6,   34.40,6,    0.00,6,    2.38,6,-999.000,9,-999.000,9,-999.000,9,  -999.0,9,  -999.0,5,   -999.0,9,  -999.00,-999.0000,9,  -999.00,-999.000,9,-999.000,-999.0000,9,-999.000,9, -999.00,9,  -999.0,9,    -9.0,-999.000,9,-999.000,   38.85,2,   37.64,2, 4550.80,-999.0000,9,-999.0000,9,-999.0000,9,-999.0000,9,-999.0000,9,-999.0000,9,     -999.0,     -999.0,9,     -999.0,9,     -999.0,9,     -999.0,9,     -999.0,9,     -999.0,9, -999.00,9,   0.9634,-999.0000,-999.000
325020060213,       P16N,      17,          1,          3,          3,2,20060220,       1858,       -1.5,       -151,       4817,  4750.6,   1.3290,  34.7058,2,  34.7048,2,    184.7,2,   183.2,2,  127.50,6,   34.00,6,    0.00,6,    2.35,6,-999.000,9,-999.000,9,-999.000,9,  -999.0,9,  -999.0,5,   -999.0,9,  -999.00,-999.0000,9,  -999.00,-999.000,9,-999.000,-999.0000,9,-999.000,9, -999.00,9,  -999.0,9,    -9.0,-999.000,9,-999.000,   38.92,2,   37.76,2, 4750.60,-999.0000,9,-999.0000,9,-999.0000,9,-999.0000,9,-999.0000,9,-999.0000,9,     -999.0,     -999.0,9,     -999.0,9,     -999.0,9,     -999.0,9,     -999.0,9,     -999.0,9, -999.00,9,   0.9302,-999.0000,-999.000
325020060213,       P16N,      17,          1,          1,          1,2,20060220,       1858,       -1.5,       -151,       4817,  4932.6,   1.3408,  34.7062,2,  34.7060,2,    186.5,2,   184.5,2,  127.10,2,   33.90,2,    0.00,2,    2.35,2,-999.000,9,-999.000,9,-999.000,9,  -999.0,9,  2396.5,2,   -999.0,9,  -999.00,   7.6258,2,    25.00,-999.000,9,-999.000,-999.0000,9,-999.000,9, -999.00,9,  -999.0,9,    -9.0,-999.000,9,-999.000,   38.49,2,   37.47,2, 4932.60,-999.0000,9,-999.0000,9,-999.0000,9,-999.0000,9,-999.0000,9,-999.0000,9,     -999.0,     -999.0,9,     -999.0,9,     -999.0,9,     -999.0,9,     -999.0,9,     -999.0,9, -999.00,9,   0.9200,-999.0000,-999.000