BOTTLE,20170720CCHSIOCBG
EXPOCODE,SECT_ID,STNNBR,CASTNO,SAMPNO,BTLNBR,BTLNBR_FLAG_W,DATE,TIME,LATITUDE,LONGITUDE,DEPTH,CTDPRS,CTDTMP,CTDSAL,CTDSAL_FLAG_W,SALNTY,SALNTY_FLAG_W,CTDOXY,CTDOXY_FLAG_W,OXYGEN,OXYGEN_FLAG_W,SILCAT,SILCAT_FLAG_W,NITRAT,NITRAT_FLAG_W,NITRIT,NITRIT_FLAG_W,PHSPHT,PHSPHT_FLAG_W,CFC-11,CFC-11_FLAG_W,CFC-12,CFC-12_FLAG_W,CFC113,CFC113_FLAG_W,TCARBN,TCARBN_FLAG_W,ALKALI,ALKALI_FLAG_W,FCO2,FCO2_FLAG_W,FCO2TMP,PH_TOT,PH_TOT_FLAG_W,PH_TMP,TRITUM,TRITUM_FLAG_W,TRITER,HELIUM,HELIUM_FLAG_W,DELHE3,DELHE3_FLAG_W,DELC13,DELC13_FLAG_W,DELC14,DELC14_FLAG_W,C14ERR,NEON,NEON_FLAG_W,NEONER,DOC,DOC_FLAG_W,TDN,TDN_FLAG_W,CTDRAW,CDOM325,CDOM325_FLAG_W,CDOM340,CDOM340_FLAG_W,CDOM380,CDOM380_FLAG_W,CDOM412,CDOM412_FLAG_W,CDOMSL,CDOMSL_FLAG_W,CDOMSN,CDOMSN_FLAG_W,DCNS,ARABI,ARABI_FLAG_W,FUCO,FUCO_FLAG_W,GALA,GALA_FLAG_W,GLUC,GLUC_FLAG_W,MAN,MAN_FLAG_W,RHAM,RHAM_FLAG_W,BRDU,BRDU_FLAG_W,THETA,HELIER,DELHER
,,,,,,,,,,,METERS,DBAR,ITS-90,PSS-78,,PSS-78,,UMOL/KG,,UMOL/KG,,UMOL/KG,,UMOL/KG,,UMOL/KG,,UMOL/KG,,PMOL/KG,,PMOL/KG,,PMOL/KG,,UMOL/KG,,UMOL/KG,,UATM,,DEG C,,,DEG C,TU,,TU,NMOL/KG,,PERCNT,,/MILLE,,/MILLE,,/MILLE,NMOL/KG,,NMOL/KG,UMOL/KG,,UMOL/KG,,DBAR,1/M,,1/M,,1/M,,1/M,,1/NM,,1/NM,,NMOL/KG,NMOL/KG,,NMOL/KG,,NMOL/KG,,NMOL/KG,,NMOL/KG,,NMOL/KG,,PMOL/L/H,,DEG C,NMOL/KG,PERCNT
325020060213,       P16N,      38,          1,          8,          8,2,20060228,       1840,         16,       -152,       5469,  2876.3,   1.6722,  34.6729,2,  34.6726,2,    119.7,2,   122.1,2,  155.60,6,   38.20,6,    0.00,6,    2.64,6,-999.000,9,-999.000,9,-999.000,9,  2351.1,3,  2433.5,2,   -999.0,9,  -999.00,   7.5358,2,    25.00,-999.000,9,-999.000,-999.0000,9,-999.000,9, -999.00,9,  -999.0,9,    -9.0,-999.000,9,-999.000,   37.85,2,   41.55,2, 2876.30,-999.0000,9,-999.0000,9,-999.0000,9,-999.0000,9,-999.0000,9,-999.0000,9,     -999.0,     -999.0,9,     -999.0,9,     -999.0,9,     -999.0,9,     -999.0,9,     -999.0,9, -999.00,9,   1.4634,-999.0000,-999.000
325020060213,       P16N,      38,          1,          7,          7,2,20060228,       1840,         16,       -152,       5469,  3123.4,   1.5982,  34.6774,2,  34.6766,2,    125.6,2,   125.7,2,  157.20,6,   37.80,6,    0.00,6,    2.62,6,   0.005,2,   0.002,2,-999.000,5,  2349.6,3,  2433.5,2,   -999.0,9,  -999.00,   7.5445,2,    25.00,-999.000,9,-999.000,-999.0000,9,-999.000,9, -999.00,9,  -999.0,9,    -9.0,-999.000,9,-999.000,   37.52,2,   41.03,2, 3123.40,   0.1200,2,   0.0780,2,   0.0340,2,   0.0170,2,   0.0228,2,   0.0248,2,     -999.0,     -999.0,9,     -999.0,9,     -999.0,9,     -999.0,9,     -999.0,9,     -999.0,9, -999.00,9,   1.3673,-999.0000,-999.000
325020060213,       P16N,      38,          1,          6,          6,2,20060228,       1840,         16,       -152,       5469,  3450.1,   1.5427,  34.6831,2,-999.0000,5,    133.5,2,   135.3,2,  157.00,6,   37.30,6,    0.00,6,    2.59,6,-999.000,9,-999.000,9,-999.000,9,  2343.1,3,  2433.8,6,   -999.0,9,  -999.00,-999.0000,9,  -999.00,-999.000,9,-999.000,-999.0000,9,-999.000,9, -999.00,9,  -999.0,9,    -9.0,-999.000,9,-999.000,   37.24,2,   40.40,2, 3450.10,-999.0000,9,-999.0000,9,-999.0000,9,-999.0000,9,-999.0000,9,-999.0000,9,     -999.0,     -999.0,9,     -999.0,9,     -999.0,9,     -999.0,9,     -999.0,9,     -999.0,9, -999.00,9,   1.2806,-999.0000,-999.000
325020060213,       P16N,      38,          1,          5,          5,2,20060228,       1840,         16,       -152,       5469,  3850.6,   1.4657,  34.6903,2,  34.6890,2,    148.3,2,   148.4,2,  149.50,6,   36.30,6,    0.00,6,    2.50,6,-999.000,1,-999.000,1,-999.000,9,  2327.1,2,  2425.8,2,   -999.0,9,  -999.00,   7.5786,2,    25.00,-999.000,9,-999.000,-999.0000,9,-999.000,9, -999.00,9,  -999.0,9,    -9.0,-999.000,9,-999.000,   37.94,2,   40.21,2, 3850.60,   0.1080,2,   0.0690,2,   0.0280,2,   0.0110,2,   0.0256,2,   0.0273,2,     -999.0,     -999.0,9,     -999.0,9,     -999.0,9,     -999.0,9,     -999.0,9,     -999.0,9, -999.00,9,   1.1639,-999.0000,-999.000
325020060213,       P16N,      38,          1,          4,          4,2,20060228,       1840,         16,       -152,       5469,  4300.3,   1.4185,  34.6958,2,  34.6951,2,    160.9,2,   161.8,2,  141.90,6,   35.40,6,    0.00,6,    2.43,6,   0.003,2,   0.001,2,-999.000,5,  2317.2,3,  2417.2,2,   -999.0,9,  -999.00,   7.5947,2,    25.00,-999.000,9,-999.000,-999.0000,9,-999.000,9, -999.00,9,  -999.0,9,    -9.0,-999.000,9,-999.000,   37.51,2,   39.16,2, 4300.30,-999.0000,9,-999.0000,9,-999.0000,9,-999.0000,9,-999.0000,9,-999.0000,9,     -999.0,     -999.0,9,     -999.0,9,     -999.0,9,     -999.0,9,     -999.0,9,     -999.0,9, -999.00,9,   1.0687,-999.0000,-999.000
325020060213,       P16N,      38,          1,          3,          3,2,20060228,       1840,         16,       -152,       5469,  4783.0,   1.4116,  34.6992,2,  34.6992,2,    169.6,2,   169.5,2,  137.10,6,   34.90,6,    0.00,6,    2.39,6,-999.000,1,-999.000,1,-999.000,9,  2309.2,3,  2401.4,3,   -999.0,9,  -999.00,   7.6022,2,    25.00,-999.000,9,-999.000,-999.0000,9,-999.000,9, -999.00,9,  -999.0,9,    -9.0,-999.000,9,-999.000,   37.20,2,   38.49,2, 4783.00,   0.1040,2,   0.0650,2,   0.0230,2,   0.0070,3,   0.0285,2,   0.0299,2,     -999.0,     -999.0,9,     -999.0,9,     -999.0,9,     -999.0,9,     -999.0,9,     -999.0,9, -999.00,9,   1.0063,-999.0000,-999.000
325020060213,       P16N,      38,          1,          1,          1,2,20060228,       1840,         16,       -152,       5469,  5336.3,   1.4509,  34.7008,2,  34.7002,2,    174.1,2,   168.2,4,  137.20,6,   34.90,6,    0.00,6,    2.40,6,   0.000,2,   0.000,2,-999.000,5,  2308.3,6,  2410.9,2,   -999.0,9,  -999.00,   7.5955,2,    25.00,-999.000,9,-999.000,-999.0000,9,-999.000,9, -999.00,9,  -999.0,9,    -9.0,-999.000,9,-999.000,   38.23,2,   38.64,2, 5336.30,-999.0000,9,-999.0000,9,-999.0000,9,-999.0000,9,-999.0000,9,-999.0000,9,     -999.0,     -999.0,9,     -999.0,9,     -999.0,9,     -999.0,9,     -999.0,9,     -999.0,9, -999.00,9,   0.9768,-999.0000,-999.000