BOTTLE,20170720CCHSIOCBG
EXPOCODE,SECT_ID,STNNBR,CASTNO,SAMPNO,BTLNBR,BTLNBR_FLAG_W,DATE,TIME,LATITUDE,LONGITUDE,DEPTH,CTDPRS,CTDTMP,CTDSAL,CTDSAL_FLAG_W,SALNTY,SALNTY_FLAG_W,CTDOXY,CTDOXY_FLAG_W,OXYGEN,OXYGEN_FLAG_W,SILCAT,SILCAT_FLAG_W,NITRAT,NITRAT_FLAG_W,NITRIT,NITRIT_FLAG_W,PHSPHT,PHSPHT_FLAG_W,CFC-11,CFC-11_FLAG_W,CFC-12,CFC-12_FLAG_W,CFC113,CFC113_FLAG_W,TCARBN,TCARBN_FLAG_W,ALKALI,ALKALI_FLAG_W,FCO2,FCO2_FLAG_W,FCO2TMP,PH_TOT,PH_TOT_FLAG_W,PH_TMP,TRITUM,TRITUM_FLAG_W,TRITER,HELIUM,HELIUM_FLAG_W,DELHE3,DELHE3_FLAG_W,DELC13,DELC13_FLAG_W,DELC14,DELC14_FLAG_W,C14ERR,NEON,NEON_FLAG_W,NEONER,DOC,DOC_FLAG_W,TDN,TDN_FLAG_W,CTDRAW,CDOM325,CDOM325_FLAG_W,CDOM340,CDOM340_FLAG_W,CDOM380,CDOM380_FLAG_W,CDOM412,CDOM412_FLAG_W,CDOMSL,CDOMSL_FLAG_W,CDOMSN,CDOMSN_FLAG_W,DCNS,ARABI,ARABI_FLAG_W,FUCO,FUCO_FLAG_W,GALA,GALA_FLAG_W,GLUC,GLUC_FLAG_W,MAN,MAN_FLAG_W,RHAM,RHAM_FLAG_W,BRDU,BRDU_FLAG_W,THETA,HELIER,DELHER
,,,,,,,,,,,METERS,DBAR,ITS-90,PSS-78,,PSS-78,,UMOL/KG,,UMOL/KG,,UMOL/KG,,UMOL/KG,,UMOL/KG,,UMOL/KG,,PMOL/KG,,PMOL/KG,,PMOL/KG,,UMOL/KG,,UMOL/KG,,UATM,,DEG C,,,DEG C,TU,,TU,NMOL/KG,,PERCNT,,/MILLE,,/MILLE,,/MILLE,NMOL/KG,,NMOL/KG,UMOL/KG,,UMOL/KG,,DBAR,1/M,,1/M,,1/M,,1/M,,1/NM,,1/NM,,NMOL/KG,NMOL/KG,,NMOL/KG,,NMOL/KG,,NMOL/KG,,NMOL/KG,,NMOL/KG,,PMOL/L/H,,DEG C,NMOL/KG,PERCNT
325020060213,       P16N,      74,          2,          9,          9,2,20060327,       1007,         53,       -152,       4446,  2495.2,   1.6952,  34.6340,2,  34.6353,2,     85.1,2,    85.1,2,  168.10,2,   39.40,2,    0.00,2,    2.83,2,-999.000,9,-999.000,9,-999.000,9,  2369.5,2,  2422.9,2,   -999.0,9,  -999.00,   7.4520,2,    25.00,-999.000,9,-999.000,-999.0000,9,-999.000,9, -999.00,9,  -999.0,9,    -9.0,-999.000,9,-999.000,   36.63,2,   43.59,2, 2495.20,-999.0000,9,-999.0000,9,-999.0000,9,-999.0000,9,-999.0000,9,-999.0000,9,     -999.0,     -999.0,9,     -999.0,9,     -999.0,9,     -999.0,9,     -999.0,9,     -999.0,9, -999.00,9,   1.5211,-999.0000,-999.000
325020060213,       P16N,      74,          2,          8,          8,2,20060327,       1007,         53,       -152,       4446,  2701.3,   1.6353,  34.6452,2,  34.6461,2,     96.7,2,    96.7,2,  166.90,2,   38.40,2,    0.00,2,    2.77,2,   0.001,2,   0.004,2,-999.000,5,  2361.8,2,  2425.5,2,   -999.0,9,  -999.00,   7.4754,2,    25.00,-999.000,9,-999.000,-999.0000,9,-999.000,9, -999.00,9,  -999.0,9,    -9.0,-999.000,9,-999.000,   36.25,2,   41.66,2, 2701.30,-999.0000,9,-999.0000,9,-999.0000,9,-999.0000,9,-999.0000,9,-999.0000,9,     -999.0,     -999.0,9,     -999.0,9,     -999.0,9,     -999.0,9,     -999.0,9,     -999.0,9, -999.00,9,   1.4437,-999.0000,-999.000
325020060213,       P16N,      74,          2,          7,          7,2,20060327,       1007,         53,       -152,       4446,  2900.6,   1.5907,  34.6543,2,  34.6583,3,    105.7,2,   105.9,2,  166.20,6,   38.10,6,    0.00,6,    2.71,6,-999.000,9,-999.000,9,-999.000,9,  2355.8,2,  2423.9,6,   -999.0,9,  -999.00,   7.4913,2,    25.00,-999.000,9,-999.000,-999.0000,9,-999.000,9, -999.00,9,  -999.0,9,    -9.0,-999.000,9,-999.000,   36.97,2,   41.50,2, 2900.60,-999.0000,9,-999.0000,9,-999.0000,9,-999.0000,9,-999.0000,9,-999.0000,9,     -999.0,     -999.0,9,     -999.0,9,     -999.0,9,     -999.0,9,     -999.0,9,     -999.0,9, -999.00,9,   1.3815,-999.0000,-999.000
325020060213,       P16N,      74,          2,          6,          6,2,20060327,       1007,         53,       -152,       4446,  3150.7,   1.5363,  34.6650,2,  34.6673,2,    117.6,2,   118.0,2,  163.90,2,   36.90,2,    0.00,2,    2.67,2,-999.000,9,-999.000,9,-999.000,9,  2348.6,2,  2424.7,2,   -999.0,9,  -999.00,   7.5215,3,    25.00,-999.000,9,-999.000,-999.0000,9,-999.000,9, -999.00,9,  -999.0,9,    -9.0,-999.000,9,-999.000,   36.01,2,   40.20,2, 3150.70,-999.0000,9,-999.0000,9,-999.0000,9,-999.0000,9,-999.0000,9,-999.0000,9,     -999.0,     -999.0,9,     -999.0,9,     -999.0,9,     -999.0,9,     -999.0,9,     -999.0,9, -999.00,9,   1.3043,-999.0000,-999.000
325020060213,       P16N,      74,          2,          5,          5,2,20060327,       1007,         53,       -152,       4446,  3450.3,   1.4947,  34.6744,2,  34.6752,2,    128.8,2,   129.3,2,  162.60,6,   36.40,6,    0.00,6,    2.60,6,-999.000,9,-999.000,9,-999.000,9,  2341.4,2,  2426.9,2,   -999.0,9,  -999.00,   7.5369,2,    25.00,-999.000,9,-999.000,-999.0000,9,-999.000,9, -999.00,9,  -999.0,9,    -9.0,-999.000,9,-999.000,   36.45,2,   39.43,2, 3450.30,-999.0000,9,-999.0000,9,-999.0000,9,-999.0000,9,-999.0000,9,-999.0000,9,     -999.0,     -999.0,9,     -999.0,9,     -999.0,9,     -999.0,9,     -999.0,9,     -999.0,9, -999.00,9,   1.2337,-999.0000,-999.000
325020060213,       P16N,      74,          2,          4,          4,2,20060327,       1007,         53,       -152,       4446,  3750.6,   1.4833,  34.6801,2,  34.6808,2,    135.6,2,   135.7,2,  161.90,6,   36.10,6,    0.00,6,    2.57,6,   0.013,3,   0.001,2,-999.000,5,  2338.1,2,  2427.4,2,   -999.0,9,  -999.00,   7.5508,2,    25.00,-999.000,9,-999.000,-999.0000,9,-999.000,9, -999.00,9,  -999.0,9,    -9.0,-999.000,9,-999.000,   36.51,2,   39.92,2, 3750.60,-999.0000,9,-999.0000,9,-999.0000,9,-999.0000,9,-999.0000,9,-999.0000,9,     -999.0,     -999.0,9,     -999.0,9,     -999.0,9,     -999.0,9,     -999.0,9,     -999.0,9, -999.00,9,   1.1916,-999.0000,-999.000
325020060213,       P16N,      74,          2,          3,          3,9,20060327,       1007,         53,       -152,       4446,  4048.9,   1.4847,  34.6842,2,-999.0000,9,    140.6,2,  -999.0,9, -999.00,9, -999.00,9, -999.00,9, -999.00,9,-999.000,9,-999.000,9,-999.000,9,  -999.0,9,  -999.0,9,   -999.0,9,  -999.00,-999.0000,9,  -999.00,-999.000,9,-999.000,-999.0000,9,-999.000,9, -999.00,9,  -999.0,9,    -9.0,-999.000,9,-999.000, -999.00,9, -999.00,9, 4048.90,-999.0000,9,-999.0000,9,-999.0000,9,-999.0000,9,-999.0000,9,-999.0000,9,     -999.0,     -999.0,9,     -999.0,9,     -999.0,9,     -999.0,9,     -999.0,9,     -999.0,9, -999.00,9,   1.1609,-999.0000,-999.000
325020060213,       P16N,      74,          2,          2,          2,2,20060327,       1007,         53,       -152,       4446,  4350.5,   1.4979,  34.6869,2,  34.6918,3,    144.1,2,   145.5,2,  161.10,6,   35.10,6,    0.00,6,    2.53,6,   0.002,2,  -0.001,2,-999.000,5,  2332.9,2,  2428.3,2,   -999.0,9,  -999.00,   7.5677,2,    25.00,-999.000,9,-999.000,-999.0000,9,-999.000,9, -999.00,9,  -999.0,9,    -9.0,-999.000,9,-999.000,   37.11,2,   38.30,2, 4350.50,-999.0000,9,-999.0000,9,-999.0000,9,-999.0000,9,-999.0000,9,-999.0000,9,     -999.0,     -999.0,9,     -999.0,9,     -999.0,9,     -999.0,9,     -999.0,9,     -999.0,9, -999.00,9,   1.1401,-999.0000,-999.000
325020060213,       P16N,      74,          2,          1,          1,2,20060327,       1007,         53,       -152,       4446,  4540.4,   1.5019,  34.6886,2,  34.6901,2,    147.5,2,   148.4,2,  158.70,4,   35.10,4,    0.00,4,    2.51,4,   0.003,2,   0.004,2,-999.000,5,  2329.3,6,  2427.7,2,   -999.0,9,  -999.00,   7.5708,2,    25.00,-999.000,9,-999.000,-999.0000,9,-999.000,9, -999.00,9,  -999.0,9,    -9.0,-999.000,9,-999.000,   36.48,2,   38.05,2, 4540.40,-999.0000,9,-999.0000,9,-999.0000,9,-999.0000,9,-999.0000,9,-999.0000,9,     -999.0,     -999.0,9,     -999.0,9,     -999.0,9,     -999.0,9,     -999.0,9,     -999.0,9, -999.00,9,   1.1222,-999.0000,-999.000