BOTTLE,20170720CCHSIOCBG
EXPOCODE,SECT_ID,STNNBR,CASTNO,SAMPNO,BTLNBR,BTLNBR_FLAG_W,DATE,TIME,LATITUDE,LONGITUDE,DEPTH,CTDPRS,CTDTMP,CTDSAL,CTDSAL_FLAG_W,SALNTY,SALNTY_FLAG_W,CTDOXY,CTDOXY_FLAG_W,OXYGEN,OXYGEN_FLAG_W,SILCAT,SILCAT_FLAG_W,NITRAT,NITRAT_FLAG_W,NITRIT,NITRIT_FLAG_W,PHSPHT,PHSPHT_FLAG_W,CFC-11,CFC-11_FLAG_W,CFC-12,CFC-12_FLAG_W,CFC113,CFC113_FLAG_W,TCARBN,TCARBN_FLAG_W,ALKALI,ALKALI_FLAG_W,FCO2,FCO2_FLAG_W,FCO2TMP,PH_TOT,PH_TOT_FLAG_W,PH_TMP,TRITUM,TRITUM_FLAG_W,TRITER,HELIUM,HELIUM_FLAG_W,DELHE3,DELHE3_FLAG_W,DELC13,DELC13_FLAG_W,DELC14,DELC14_FLAG_W,C14ERR,NEON,NEON_FLAG_W,NEONER,DOC,DOC_FLAG_W,TDN,TDN_FLAG_W,CTDRAW,CDOM325,CDOM325_FLAG_W,CDOM340,CDOM340_FLAG_W,CDOM380,CDOM380_FLAG_W,CDOM412,CDOM412_FLAG_W,CDOMSL,CDOMSL_FLAG_W,CDOMSN,CDOMSN_FLAG_W,DCNS,ARABI,ARABI_FLAG_W,FUCO,FUCO_FLAG_W,GALA,GALA_FLAG_W,GLUC,GLUC_FLAG_W,MAN,MAN_FLAG_W,RHAM,RHAM_FLAG_W,BRDU,BRDU_FLAG_W,THETA,HELIER,DELHER
,,,,,,,,,,,METERS,DBAR,ITS-90,PSS-78,,PSS-78,,UMOL/KG,,UMOL/KG,,UMOL/KG,,UMOL/KG,,UMOL/KG,,UMOL/KG,,PMOL/KG,,PMOL/KG,,PMOL/KG,,UMOL/KG,,UMOL/KG,,UATM,,DEG C,,,DEG C,TU,,TU,NMOL/KG,,PERCNT,,/MILLE,,/MILLE,,/MILLE,NMOL/KG,,NMOL/KG,UMOL/KG,,UMOL/KG,,DBAR,1/M,,1/M,,1/M,,1/M,,1/NM,,1/NM,,NMOL/KG,NMOL/KG,,NMOL/KG,,NMOL/KG,,NMOL/KG,,NMOL/KG,,NMOL/KG,,PMOL/L/H,,DEG C,NMOL/KG,PERCNT
325020060213,       P16N,      61,          2,         36,         36,2,20060320,       0953,         39,       -152,       5782,     5.5,  11.9370,  33.6552,2,  33.6564,2,    270.9,2,   271.5,2,    1.80,2,    0.80,2,    0.10,2,    0.22,2,   3.206,2,   1.911,2,-999.000,5,  2013.6,6,  2228.8,2,   -999.0,9,  -999.00,   7.9084,2,    25.00,   0.867,2,   0.013,    1.798,2,  -0.870,2, -999.00,9,  -999.0,9,    -9.0,   7.531,2,   0.011,   56.54,2,    5.18,2,    5.50,-999.0000,9,-999.0000,9,-999.0000,9,-999.0000,9,-999.0000,9,-999.0000,9,     -999.0,     -999.0,9,     -999.0,9,     -999.0,9,     -999.0,9,     -999.0,9,     -999.0,9, -999.00,9,  11.9363,    0.001,   0.177
325020060213,       P16N,      61,          2,         35,         35,2,20060320,       0953,         39,       -152,       5782,    24.6,  11.9445,  33.6551,2,  33.6555,2,    268.9,2,   272.6,2,    1.70,2,    0.70,2,    0.10,2,    0.22,2,   3.408,2,   1.972,2,-999.000,5,  2013.1,2,  2227.4,2,   -999.0,9,  -999.00,   7.9090,2,    25.00,   0.839,2,   0.012,    1.841,2,   2.460,3, -999.00,9,  -999.0,9,    -9.0,   7.560,2,   0.009,   56.79,2,    5.10,2,   24.60,-999.0000,9,-999.0000,9,-999.0000,9,-999.0000,9,-999.0000,9,-999.0000,9,     -999.0,     -999.0,9,     -999.0,9,     -999.0,9,     -999.0,9,     -999.0,9,     -999.0,9, -999.00,9,  11.9414,    0.002,   0.292
325020060213,       P16N,      61,          2,         34,         34,2,20060320,       0953,         39,       -152,       5782,    49.9,  11.9533,  33.6582,2,  33.6586,2,    268.2,2,   257.8,2,    1.80,2,    0.80,2,    0.10,2,    0.22,2,   3.382,2,   1.886,2,-999.000,5,  2012.6,2,  2227.5,2,   -999.0,9,  -999.00,   7.9076,2,    25.00,   0.867,2,   0.012,    1.798,2,  -1.460,2, -999.00,9,  -999.0,9,    -9.0,   7.520,2,   0.010,   55.02,2,    5.60,2,   49.90,-999.0000,9,-999.0000,9,-999.0000,9,-999.0000,9,-999.0000,9,-999.0000,9,     -999.0,     -999.0,9,     -999.0,9,     -999.0,9,     -999.0,9,     -999.0,9,     -999.0,9, -999.00,9,  11.9470,    0.001,   0.177
325020060213,       P16N,      61,          2,         33,         33,2,20060320,       0953,         39,       -152,       5782,    76.1,  11.9385,  33.6545,2,  33.6535,2,    267.2,2,   263.6,2,    1.90,2,    0.80,2,    0.10,2,    0.23,2,   3.410,2,   1.960,2,-999.000,5,  2013.4,2,  2228.6,2,   -999.0,9,  -999.00,   7.9022,3,    25.00,   0.837,2,   0.011,-999.0000,9,-999.000,9, -999.00,9,  -999.0,9,    -9.0,-999.000,9,-999.000,   55.76,2,    4.69,2,   76.10,-999.0000,9,-999.0000,9,-999.0000,9,-999.0000,9,-999.0000,9,-999.0000,9,     -999.0,     -999.0,9,     -999.0,9,     -999.0,9,     -999.0,9,     -999.0,9,     -999.0,9, -999.00,9,  11.9288,-999.0000,-999.000
325020060213,       P16N,      61,          2,         32,         32,2,20060320,       0953,         39,       -152,       5782,    99.4,  11.9106,  33.6487,2,  33.6496,2,    268.0,2,   258.8,2,    1.90,2,    0.90,2,    0.10,2,    0.23,2,   3.424,2,   1.964,2,-999.000,5,  2014.0,2,  2227.8,2,   -999.0,9,  -999.00,   7.9086,2,    25.00,   0.880,2,   0.013,    1.799,2,  -0.517,2, -999.00,9,  -999.0,9,    -9.0,   7.593,2,   0.010,   55.53,2,    4.96,2,   99.40,-999.0000,9,-999.0000,9,-999.0000,9,-999.0000,9,-999.0000,9,-999.0000,9,     -999.0,     -999.0,9,     -999.0,9,     -999.0,9,     -999.0,9,     -999.0,9,     -999.0,9, -999.00,9,  11.8979,    0.001,   0.181
325020060213,       P16N,      61,          2,         31,         31,2,20060320,       0953,         39,       -152,       5782,   124.8,  11.7864,  33.6708,2,  33.6711,2,    261.5,2,   259.4,2,    2.50,2,    1.60,2,    0.10,2,    0.29,2,   3.287,2,   1.949,2,-999.000,5,  2019.6,2,  2228.6,2,   -999.0,9,  -999.00,   7.8945,2,    25.00,   0.848,2,   0.012,    1.798,2,  -0.487,2, -999.00,9,  -999.0,9,    -9.0,   7.627,2,   0.009,   53.98,2,    5.39,2,  124.80,-999.0000,9,-999.0000,9,-999.0000,9,-999.0000,9,-999.0000,9,-999.0000,9,     -999.0,     -999.0,9,     -999.0,9,     -999.0,9,     -999.0,9,     -999.0,9,     -999.0,9, -999.00,9,  11.7706,    0.001,   0.190
325020060213,       P16N,      61,          2,         30,         30,2,20060320,       0953,         39,       -152,       5782,   149.9,  11.0453,  34.0046,2,  34.0035,2,    224.6,2,   207.3,3,    8.90,2,   10.30,2,    0.00,2,    0.73,2,   3.527,2,   1.896,2,-999.000,5,  2072.0,2,  2250.7,2,   -999.0,9,  -999.00,   7.8161,2,    25.00,   0.831,2,   0.012,    1.792,2,   0.100,2, -999.00,9,  -999.0,9,    -9.0,   7.624,2,   0.009,   50.63,2,   14.15,2,  149.90,-999.0000,9,-999.0000,9,-999.0000,9,-999.0000,9,-999.0000,9,-999.0000,9,     -999.0,     -999.0,9,     -999.0,9,     -999.0,9,     -999.0,9,     -999.0,9,     -999.0,9, -999.00,9,  11.0271,    0.001,   0.180
325020060213,       P16N,      61,          2,         29,         29,2,20060320,       0953,         39,       -152,       5782,   200.0,  10.1439,  34.1016,2,  34.1017,2,    219.8,2,   216.9,2,   14.90,2,   14.50,2,    0.00,2,    0.99,2,   3.586,2,   1.980,2,-999.000,5,  2098.8,2,  2259.9,6,   -999.0,9,  -999.00,   7.7763,2,    25.00,   0.813,2,   0.012,    1.795,2,   1.655,2, -999.00,9,  -999.0,9,    -9.0,   7.600,2,   0.009,   48.43,2,   19.05,2,  200.00,-999.0000,9,-999.0000,9,-999.0000,9,-999.0000,9,-999.0000,9,-999.0000,9,     -999.0,     -999.0,9,     -999.0,9,     -999.0,9,     -999.0,9,     -999.0,9,     -999.0,9, -999.00,9,  10.1208,    0.001,   0.182
325020060213,       P16N,      61,          2,         28,         28,2,20060320,       0953,         39,       -152,       5782,   250.7,   9.4011,  34.0773,2,  34.0748,2,    215.4,2,   215.9,2,   19.30,2,   16.80,2,    0.00,2,    1.12,2,   3.490,2,   1.934,2,-999.000,5,  2112.1,2,  2263.9,2,   -999.0,9,  -999.00,   7.7492,2,    25.00,   0.757,2,   0.011,    1.771,2,  -0.711,3, -999.00,9,  -999.0,9,    -9.0,   7.671,2,   0.010,   47.37,2,   20.91,2,  250.70,-999.0000,9,-999.0000,9,-999.0000,9,-999.0000,9,-999.0000,9,-999.0000,9,     -999.0,     -999.0,9,     -999.0,9,     -999.0,9,     -999.0,9,     -999.0,9,     -999.0,9, -999.00,9,   9.3734,    0.001,   0.207
325020060213,       P16N,      61,          2,         27,         27,2,20060320,       0953,         39,       -152,       5782,   299.6,   8.7564,  34.0486,2,  34.0480,2,    199.4,2,   193.5,2,   24.90,2,   19.60,2,    0.00,2,    1.30,2,   3.389,2,   1.789,2,-999.000,5,  2131.4,2,  2265.6,2,   -999.0,9,  -999.00,   7.7101,2,    25.00,   0.792,2,   0.012,    1.798,2,   3.679,2, -999.00,9,  -999.0,9,    -9.0,   7.735,2,   0.009,   46.98,2,   23.99,2,  299.60,-999.0000,9,-999.0000,9,-999.0000,9,-999.0000,9,-999.0000,9,-999.0000,9,     -999.0,     -999.0,9,     -999.0,9,     -999.0,9,     -999.0,9,     -999.0,9,     -999.0,9, -999.00,9,   8.7246,    0.000,   0.181
325020060213,       P16N,      61,          2,         26,         26,2,20060320,       0953,         39,       -152,       5782,   349.7,   7.9309,  34.0154,2,  34.0168,2,    183.6,2,   169.7,2,   31.70,2,   22.80,2,    0.00,2,    1.51,2,   3.398,2,   1.703,2,-999.000,5,  2153.7,2,  2271.0,2,   -999.0,9,  -999.00,   7.6593,2,    25.00,   0.746,2,   0.011,    1.828,2,   2.628,2, -999.00,9,  -999.0,9,    -9.0,   7.952,2,   0.010,   46.02,2,   27.10,2,  349.70,-999.0000,9,-999.0000,9,-999.0000,9,-999.0000,9,-999.0000,9,-999.0000,9,     -999.0,     -999.0,9,     -999.0,9,     -999.0,9,     -999.0,9,     -999.0,9,     -999.0,9, -999.00,9,   7.8959,    0.001,   0.212
325020060213,       P16N,      61,          2,         25,         25,2,20060320,       0953,         39,       -152,       5782,   399.9,   7.1703,  33.9876,2,  33.9880,2,    162.6,2,   158.5,2,   39.90,2,   25.90,2,    0.00,2,    1.75,2,   3.090,2,   1.564,2,-999.000,5,  2178.2,2,  2276.3,2,   -999.0,9,  -999.00,   7.6057,2,    25.00,   0.727,2,   0.010,    1.830,2,   8.197,2, -999.00,9,  -999.0,9,    -9.0,   7.895,2,   0.009,   45.02,2,   29.65,2,  399.90,-999.0000,9,-999.0000,9,-999.0000,9,-999.0000,9,-999.0000,9,-999.0000,9,     -999.0,     -999.0,9,     -999.0,9,     -999.0,9,     -999.0,9,     -999.0,9,     -999.0,9, -999.00,9,   7.1324,    0.001,   0.191
325020060213,       P16N,      61,          2,         24,         24,2,20060320,       0953,         39,       -152,       5782,   450.1,   6.3605,  33.9647,2,  33.9677,2,    140.3,2,   135.8,2,   49.80,2,   29.50,2,    0.00,2,    2.00,2,   2.668,2,   1.383,2,-999.000,5,  2204.7,2,  2280.6,2,   -999.0,9,  -999.00,   7.5455,2,    25.00,   0.650,2,   0.010,    1.811,2,   7.465,2, -999.00,9,  -999.0,9,    -9.0,   7.957,2,   0.011,   44.43,2,   33.55,2,  450.10,-999.0000,9,-999.0000,9,-999.0000,9,-999.0000,9,-999.0000,9,-999.0000,9,     -999.0,     -999.0,9,     -999.0,9,     -999.0,9,     -999.0,9,     -999.0,9,     -999.0,9, -999.00,9,   6.3205,    0.001,   0.223
325020060213,       P16N,      61,          2,         23,         23,2,20060320,       0953,         39,       -152,       5782,   499.4,   5.7562,  33.9754,2,  33.9753,2,    116.0,2,   111.5,2,   61.10,2,   33.10,2,    0.00,2,    2.27,2,   2.242,2,   1.130,2,-999.000,5,  2234.0,2,  2292.6,2,   -999.0,9,  -999.00,   7.4806,2,    25.00,   0.618,2,   0.010,    1.818,2,   9.451,2, -999.00,9,  -999.0,9,    -9.0,   7.996,2,   0.010,   43.60,2,   37.44,2,  499.40,-999.0000,9,-999.0000,9,-999.0000,9,-999.0000,9,-999.0000,9,-999.0000,9,     -999.0,     -999.0,9,     -999.0,9,     -999.0,9,     -999.0,9,     -999.0,9,     -999.0,9, -999.00,9,   5.7140,    0.001,   0.227
325020060213,       P16N,      61,          2,         22,         22,2,20060320,       0953,         39,       -152,       5782,   601.0,   4.8076,  34.0180,2,  34.0200,2,     78.9,2,    70.6,2,   79.70,2,   38.00,2,    0.00,2,    2.63,2,   1.506,2,   0.733,2,-999.000,5,  2276.4,2,  -999.0,5,   -999.0,9,  -999.00,   7.3938,2,    25.00,   0.467,2,   0.010,    1.853,2,  15.715,2, -999.00,9,  -999.0,9,    -9.0,   7.990,2,   0.008,   41.45,2,   41.52,2,  601.00,-999.0000,9,-999.0000,9,-999.0000,9,-999.0000,9,-999.0000,9,-999.0000,9,     -999.0,     -999.0,9,     -999.0,9,     -999.0,9,     -999.0,9,     -999.0,9,     -999.0,9, -999.00,9,   4.7607,    0.000,   0.180
325020060213,       P16N,      61,          2,         21,         21,2,20060320,       0953,         39,       -152,       5782,   699.0,   4.2664,  34.1083,2,  34.1095,2,     46.8,2,    46.8,2,   96.30,2,   41.30,2,    0.00,2,    2.86,2,   0.738,2,   0.345,2,-999.000,5,  2312.2,2,  2327.3,2,   -999.0,9,  -999.00,   7.3352,2,    25.00,   0.328,2,   0.007,    1.839,2,  13.440,2, -999.00,9,  -999.0,9,    -9.0,   8.098,2,   0.010,   40.54,2,   44.79,2,  699.00,-999.0000,9,-999.0000,9,-999.0000,9,-999.0000,9,-999.0000,9,-999.0000,9,     -999.0,     -999.0,9,     -999.0,9,     -999.0,9,     -999.0,9,     -999.0,9,     -999.0,9, -999.00,9,   4.2141,    0.001,   0.223
325020060213,       P16N,      61,          2,         20,         20,2,20060320,       0953,         39,       -152,       5782,   800.5,   3.9057,  34.1889,2,  34.1895,2,     26.9,2,    24.5,2,  109.80,2,   43.20,2,    0.00,2,    3.01,2,   0.296,2,   0.136,2,-999.000,5,  2338.9,2,  -999.0,5,   -999.0,9,  -999.00,   7.3049,2,    25.00,   0.189,2,   0.006,-999.0000,9,-999.000,9, -999.00,9,  -999.0,9,    -9.0,-999.000,9,-999.000,   40.16,2,   46.73,2,  800.50,-999.0000,9,-999.0000,9,-999.0000,9,-999.0000,9,-999.0000,9,-999.0000,9,     -999.0,     -999.0,9,     -999.0,9,     -999.0,9,     -999.0,9,     -999.0,9,     -999.0,9, -999.00,9,   3.8474,-999.0000,-999.000
325020060213,       P16N,      61,          2,         19,         19,2,20060320,       0953,         39,       -152,       5782,   899.8,   3.5888,  34.2512,2,  34.2521,2,     16.6,2,    15.6,2,  121.10,2,   44.10,2,    0.00,2,    3.10,2,   0.113,2,   0.051,2,-999.000,5,  2359.0,2,  2352.7,2,   -999.0,9,  -999.00,   7.2922,2,    25.00,   0.090,2,   0.005,    1.910,2,  15.538,2, -999.00,9,  -999.0,9,    -9.0,   8.218,2,   0.009,   39.67,2,   47.90,2,  899.80,-999.0000,9,-999.0000,9,-999.0000,9,-999.0000,9,-999.0000,9,-999.0000,9,     -999.0,     -999.0,9,     -999.0,9,     -999.0,9,     -999.0,9,     -999.0,9,     -999.0,9, -999.00,9,   3.5247,    0.000,   0.181
325020060213,       P16N,      61,          2,         18,         18,2,20060320,       0953,         39,       -152,       5782,  1000.5,   3.3092,  34.3077,2,  34.3074,2,      9.5,2,     8.9,2,  131.20,2,   44.80,2,    0.00,2,    3.15,2,   0.033,2,   0.020,2,-999.000,5,  2371.7,6,  2367.6,6,   -999.0,9,  -999.00,   7.2823,2,    25.00,   0.030,2,   0.005,    2.017,3,  25.272,3, -999.00,9,  -999.0,9,    -9.0,   8.153,2,   0.010,   38.78,2,   48.63,2, 1000.50,-999.0000,9,-999.0000,9,-999.0000,9,-999.0000,9,-999.0000,9,-999.0000,9,     -999.0,     -999.0,9,     -999.0,9,     -999.0,9,     -999.0,9,     -999.0,9,     -999.0,9, -999.00,9,   3.2392,    0.003,   0.356
325020060213,       P16N,      61,          2,         17,         17,2,20060320,       0953,         39,       -152,       5782,  1200.2,   2.9375,  34.4060,2,  34.4035,2,      7.0,2,     6.7,2,  145.70,2,   45.20,2,    0.00,2,    3.19,2,-999.000,9,-999.000,9,-999.000,9,  2390.2,2,  2384.0,2,   -999.0,9,  -999.00,   7.2883,2,    25.00,-999.000,9,-999.000,-999.0000,9,-999.000,9, -999.00,9,  -999.0,9,    -9.0,-999.000,9,-999.000,   38.08,2,   48.71,2, 1200.20,-999.0000,9,-999.0000,9,-999.0000,9,-999.0000,9,-999.0000,9,-999.0000,9,     -999.0,     -999.0,9,     -999.0,9,     -999.0,9,     -999.0,9,     -999.0,9,     -999.0,9, -999.00,9,   2.8549,-999.0000,-999.000
325020060213,       P16N,      61,          2,         16,         16,2,20060320,       0953,         39,       -152,       5782,  1401.2,   2.6530,  34.4765,2,  34.4752,2,     12.0,2,    11.7,2,  154.90,2,   45.10,2,    0.00,2,    3.18,2,-999.000,9,-999.000,9,-999.000,9,  2397.8,2,  2398.7,2,   -999.0,9,  -999.00,   7.3035,2,    25.00,-999.000,9,-999.000,-999.0000,9,-999.000,9, -999.00,9,  -999.0,9,    -9.0,-999.000,9,-999.000,   37.35,2,   49.01,2, 1401.20,-999.0000,9,-999.0000,9,-999.0000,9,-999.0000,9,-999.0000,9,-999.0000,9,     -999.0,     -999.0,9,     -999.0,9,     -999.0,9,     -999.0,9,     -999.0,9,     -999.0,9, -999.00,9,   2.5574,-999.0000,-999.000
325020060213,       P16N,      61,          2,         15,         15,2,20060320,       0953,         39,       -152,       5782,  1600.3,   2.4092,  34.5340,2,  34.5331,2,     26.0,2,    24.8,2,  160.80,2,   44.40,2,    0.00,2,    3.12,2,   0.000,2,   0.000,2,-999.000,5,  2395.8,2,  2409.7,2,   -999.0,9,  -999.00,   7.3368,2,    25.00,   0.001,2,   0.005,    1.937,2,  21.512,2, -999.00,9,  -999.0,9,    -9.0,   8.224,2,   0.014,   36.71,2,   47.69,2, 1600.30,-999.0000,9,-999.0000,9,-999.0000,9,-999.0000,9,-999.0000,9,-999.0000,9,     -999.0,     -999.0,9,     -999.0,9,     -999.0,9,     -999.0,9,     -999.0,9,     -999.0,9, -999.00,9,   2.3003,    0.002,   0.196
325020060213,       P16N,      61,          2,         14,         14,2,20060320,       0953,         39,       -152,       5782,  1799.8,   2.1781,  34.5692,2,  34.5677,2,     38.6,2,    38.8,2,  166.80,2,   43.70,2,    0.00,2,    3.07,2,-999.000,9,-999.000,9,-999.000,9,  2391.4,2,  2416.4,2,   -999.0,9,  -999.00,   7.3654,2,    25.00,-999.000,9,-999.000,-999.0000,9,-999.000,9, -999.00,9,  -999.0,9,    -9.0,-999.000,9,-999.000,   35.93,2,   47.08,2, 1799.80,-999.0000,9,-999.0000,9,-999.0000,9,-999.0000,9,-999.0000,9,-999.0000,9,     -999.0,     -999.0,9,     -999.0,9,     -999.0,9,     -999.0,9,     -999.0,9,     -999.0,9, -999.00,9,   2.0559,-999.0000,-999.000
325020060213,       P16N,      61,          2,         13,         13,2,20060320,       0953,         39,       -152,       5782,  1999.2,   2.0069,  34.5951,2,  34.5887,3,     51.7,2,    48.8,3,  169.90,2,   42.90,2,    0.00,2,    3.02,2,   0.006,3,   0.002,2,-999.000,5,  2390.6,2,  2419.4,2,   -999.0,9,  -999.00,   7.3863,2,    25.00,-999.000,9,-999.000,-999.0000,9,-999.000,9, -999.00,9,  -999.0,9,    -9.0,-999.000,9,-999.000,   35.97,2,   46.63,2, 1999.20,-999.0000,9,-999.0000,9,-999.0000,9,-999.0000,9,-999.0000,9,-999.0000,9,     -999.0,     -999.0,9,     -999.0,9,     -999.0,9,     -999.0,9,     -999.0,9,     -999.0,9, -999.00,9,   1.8706,-999.0000,-999.000
325020060213,       P16N,      61,          2,         12,         12,2,20060320,       0953,         39,       -152,       5782,  2248.7,   1.8335,  34.6204,2,  34.6197,2,     68.7,2,    65.6,3,  172.00,2,   41.90,2,    0.00,2,    2.93,2,-999.000,9,-999.000,9,-999.000,9,  2381.8,2,  2423.4,2,   -999.0,9,  -999.00,   7.4257,2,    25.00,-999.000,9,-999.000,-999.0000,9,-999.000,9, -999.00,9,  -999.0,9,    -9.0,-999.000,9,-999.000,   35.93,2,   45.20,2, 2248.70,-999.0000,9,-999.0000,9,-999.0000,9,-999.0000,9,-999.0000,9,-999.0000,9,     -999.0,     -999.0,9,     -999.0,9,     -999.0,9,     -999.0,9,     -999.0,9,     -999.0,9, -999.00,9,   1.6786,-999.0000,-999.000
325020060213,       P16N,      61,          2,         11,         11,2,20060320,       0953,         39,       -152,       5782,  2499.5,   1.7219,  34.6368,2,  34.6356,2,     83.8,2,    83.5,2,  170.40,2,   41.00,2,    0.00,2,    2.86,2,   0.000,2,   0.002,2,-999.000,5,  2373.1,2,  2423.9,2,   -999.0,9,  -999.00,   7.4542,2,    25.00,-999.000,9,-999.000,-999.0000,9,-999.000,9, -999.00,9,  -999.0,9,    -9.0,-999.000,9,-999.000,   35.89,2,   44.85,2, 2499.50,-999.0000,9,-999.0000,9,-999.0000,9,-999.0000,9,-999.0000,9,-999.0000,9,     -999.0,     -999.0,9,     -999.0,9,     -999.0,9,     -999.0,9,     -999.0,9,     -999.0,9, -999.00,9,   1.5469,-999.0000,-999.000
325020060213,       P16N,      61,          2,         10,         10,2,20060320,       0953,         39,       -152,       5782,  2750.0,   1.6246,  34.6514,2,  34.6506,2,     98.8,2,    98.4,2,  168.90,2,   39.90,2,    0.00,2,    2.78,2,-999.000,9,-999.000,9,-999.000,9,  2363.7,2,  2426.1,2,   -999.0,9,  -999.00,   7.4810,2,    25.00,-999.000,9,-999.000,-999.0000,9,-999.000,9, -999.00,9,  -999.0,9,    -9.0,-999.000,9,-999.000,   35.99,2,   43.23,2, 2750.00,-999.0000,9,-999.0000,9,-999.0000,9,-999.0000,9,-999.0000,9,-999.0000,9,     -999.0,     -999.0,9,     -999.0,9,     -999.0,9,     -999.0,9,     -999.0,9,     -999.0,9, -999.00,9,   1.4287,-999.0000,-999.000