BOTTLE,20170720CCHSIOCBG
EXPOCODE,SECT_ID,STNNBR,CASTNO,SAMPNO,BTLNBR,BTLNBR_FLAG_W,DATE,TIME,LATITUDE,LONGITUDE,DEPTH,CTDPRS,CTDTMP,CTDSAL,CTDSAL_FLAG_W,SALNTY,SALNTY_FLAG_W,CTDOXY,CTDOXY_FLAG_W,OXYGEN,OXYGEN_FLAG_W,SILCAT,SILCAT_FLAG_W,NITRAT,NITRAT_FLAG_W,NITRIT,NITRIT_FLAG_W,PHSPHT,PHSPHT_FLAG_W,CFC-11,CFC-11_FLAG_W,CFC-12,CFC-12_FLAG_W,CFC113,CFC113_FLAG_W,TCARBN,TCARBN_FLAG_W,ALKALI,ALKALI_FLAG_W,FCO2,FCO2_FLAG_W,FCO2TMP,PH_TOT,PH_TOT_FLAG_W,PH_TMP,TRITUM,TRITUM_FLAG_W,TRITER,HELIUM,HELIUM_FLAG_W,DELHE3,DELHE3_FLAG_W,DELC13,DELC13_FLAG_W,DELC14,DELC14_FLAG_W,C14ERR,NEON,NEON_FLAG_W,NEONER,DOC,DOC_FLAG_W,TDN,TDN_FLAG_W,CTDRAW,CDOM325,CDOM325_FLAG_W,CDOM340,CDOM340_FLAG_W,CDOM380,CDOM380_FLAG_W,CDOM412,CDOM412_FLAG_W,CDOMSL,CDOMSL_FLAG_W,CDOMSN,CDOMSN_FLAG_W,DCNS,ARABI,ARABI_FLAG_W,FUCO,FUCO_FLAG_W,GALA,GALA_FLAG_W,GLUC,GLUC_FLAG_W,MAN,MAN_FLAG_W,RHAM,RHAM_FLAG_W,BRDU,BRDU_FLAG_W,THETA,HELIER,DELHER
,,,,,,,,,,,METERS,DBAR,ITS-90,PSS-78,,PSS-78,,UMOL/KG,,UMOL/KG,,UMOL/KG,,UMOL/KG,,UMOL/KG,,UMOL/KG,,PMOL/KG,,PMOL/KG,,PMOL/KG,,UMOL/KG,,UMOL/KG,,UATM,,DEG C,,,DEG C,TU,,TU,NMOL/KG,,PERCNT,,/MILLE,,/MILLE,,/MILLE,NMOL/KG,,NMOL/KG,UMOL/KG,,UMOL/KG,,DBAR,1/M,,1/M,,1/M,,1/M,,1/NM,,1/NM,,NMOL/KG,NMOL/KG,,NMOL/KG,,NMOL/KG,,NMOL/KG,,NMOL/KG,,NMOL/KG,,PMOL/L/H,,DEG C,NMOL/KG,PERCNT
325020060213,       P16N,      84,          1,         15,         15,2,20060330,       0711,    56.2802,  -153.2202,        399,     4.5,   4.4612,  32.2209,2,  32.2280,2,    325.4,2,   324.1,2,   23.30,2,   11.00,2,    0.10,2,    1.23,2,   4.974,2,   2.885,2,-999.000,5,  2037.6,6,  2171.7,2,   -999.0,9,  -999.00,   7.7378,6,    25.00,-999.000,9,-999.000,-999.0000,9,-999.000,9, -999.00,9,  -999.0,9,    -9.0,-999.000,9,-999.000,   54.02,2,   15.06,2,    4.50,-999.0000,9,-999.0000,9,-999.0000,9,-999.0000,9,-999.0000,9,-999.0000,9,     -999.0,     -999.0,9,     -999.0,9,     -999.0,9,     -999.0,9,     -999.0,9,     -999.0,9, -999.00,9,   4.4609,-999.0000,-999.000
325020060213,       P16N,      84,          1,         14,         14,2,20060330,       0711,    56.2802,  -153.2202,        399,    14.6,   4.3375,  32.2446,2,  32.2505,2,    326.2,2,   324.9,2,   23.60,2,   11.30,2,    0.10,2,    1.25,2,-999.000,9,-999.000,9,-999.000,9,  2040.1,2,  2171.3,2,   -999.0,9,  -999.00,   7.7342,2,    25.00,-999.000,9,-999.000,-999.0000,9,-999.000,9, -999.00,9,  -999.0,9,    -9.0,-999.000,9,-999.000,   51.85,2,   15.62,2,   14.60,-999.0000,9,-999.0000,9,-999.0000,9,-999.0000,9,-999.0000,9,-999.0000,9,     -999.0,     -999.0,9,     -999.0,9,     -999.0,9,     -999.0,9,     -999.0,9,     -999.0,9, -999.00,9,   4.3366,-999.0000,-999.000
325020060213,       P16N,      84,          1,         13,         13,2,20060330,       0711,    56.2802,  -153.2202,        399,    34.7,   4.1951,  32.2546,2,  32.2587,2,    326.4,2,   300.2,2,   23.80,2,   11.50,2,    0.10,2,    1.25,2,   5.065,2,   2.875,2,-999.000,5,  2043.5,2,  2173.1,2,   -999.0,9,  -999.00,   7.7285,2,    25.00,-999.000,9,-999.000,-999.0000,9,-999.000,9, -999.00,9,  -999.0,9,    -9.0,-999.000,9,-999.000,   51.24,2,   15.80,2,   34.70,-999.0000,9,-999.0000,9,-999.0000,9,-999.0000,9,-999.0000,9,-999.0000,9,     -999.0,     -999.0,9,     -999.0,9,     -999.0,9,     -999.0,9,     -999.0,9,     -999.0,9, -999.00,9,   4.1928,-999.0000,-999.000
325020060213,       P16N,      84,          1,         12,         12,2,20060330,       0711,    56.2802,  -153.2202,        399,    59.6,   4.0853,  32.2638,2,  32.2685,2,    325.1,2,   315.0,2,   23.80,2,   11.60,2,    0.10,2,    1.28,2,-999.000,9,-999.000,9,-999.000,9,  2044.3,2,  2173.8,2,   -999.0,9,  -999.00,   7.7261,2,    25.00,-999.000,9,-999.000,-999.0000,9,-999.000,9, -999.00,9,  -999.0,9,    -9.0,-999.000,9,-999.000,   50.79,2,   16.28,2,   59.60,-999.0000,9,-999.0000,9,-999.0000,9,-999.0000,9,-999.0000,9,-999.0000,9,     -999.0,     -999.0,9,     -999.0,9,     -999.0,9,     -999.0,9,     -999.0,9,     -999.0,9, -999.00,9,   4.0814,-999.0000,-999.000
325020060213,       P16N,      84,          1,         11,         11,2,20060330,       0711,    56.2802,  -153.2202,        399,    84.6,   4.0403,  32.2680,2,  32.2724,2,    323.9,2,   299.6,2,   24.20,2,   11.70,2,    0.10,2,    1.28,2,   5.089,2,   2.890,2,-999.000,5,  2045.0,2,  2173.1,2,   -999.0,9,  -999.00,   7.7243,2,    25.00,-999.000,9,-999.000,-999.0000,9,-999.000,9, -999.00,9,  -999.0,9,    -9.0,-999.000,9,-999.000,   50.54,2,   16.46,2,   84.60,-999.0000,9,-999.0000,9,-999.0000,9,-999.0000,9,-999.0000,9,-999.0000,9,     -999.0,     -999.0,9,     -999.0,9,     -999.0,9,     -999.0,9,     -999.0,9,     -999.0,9, -999.00,9,   4.0348,-999.0000,-999.000
325020060213,       P16N,      84,          1,         10,         10,2,20060330,       0711,    56.2802,  -153.2202,        399,    94.3,   4.0450,  32.2726,2,  32.2793,2,    323.4,2,   307.3,2,   24.30,2,   11.90,2,    0.10,2,    1.27,2,-999.000,9,-999.000,9,-999.000,9,  2046.3,2,  2174.2,2,   -999.0,9,  -999.00,   7.7218,2,    25.00,-999.000,9,-999.000,-999.0000,9,-999.000,9, -999.00,9,  -999.0,9,    -9.0,-999.000,9,-999.000,   50.48,2,   15.78,2,   94.30,-999.0000,9,-999.0000,9,-999.0000,9,-999.0000,9,-999.0000,9,-999.0000,9,     -999.0,     -999.0,9,     -999.0,9,     -999.0,9,     -999.0,9,     -999.0,9,     -999.0,9, -999.00,9,   4.0388,-999.0000,-999.000
325020060213,       P16N,      84,          1,          9,          9,2,20060330,       0711,    56.2802,  -153.2202,        399,   109.1,   4.0350,  32.2845,2,  32.2895,2,    321.6,2,   316.6,2,   24.60,2,   12.00,2,    0.10,2,    1.30,2,-999.000,9,-999.000,9,-999.000,9,  2048.9,2,  2175.7,2,   -999.0,9,  -999.00,   7.7193,2,    25.00,-999.000,9,-999.000,-999.0000,9,-999.000,9, -999.00,9,  -999.0,9,    -9.0,-999.000,9,-999.000,   50.33,2,   16.55,2,  109.10,-999.0000,9,-999.0000,9,-999.0000,9,-999.0000,9,-999.0000,9,-999.0000,9,     -999.0,     -999.0,9,     -999.0,9,     -999.0,9,     -999.0,9,     -999.0,9,     -999.0,9, -999.00,9,   4.0279,-999.0000,-999.000
325020060213,       P16N,      84,          1,          8,          8,2,20060330,       0711,    56.2802,  -153.2202,        399,   125.2,   4.0698,  32.2962,2,  32.3263,2,    321.0,2,   296.9,2,   25.10,2,   12.60,2,    0.10,2,    1.30,2,   5.021,6,   2.826,6,-999.000,5,  2052.0,2,  2178.2,2,   -999.0,9,  -999.00,   7.7131,6,    25.00,-999.000,9,-999.000,-999.0000,9,-999.000,9, -999.00,9,  -999.0,9,    -9.0,-999.000,9,-999.000,   50.24,2,   17.11,2,  125.20,-999.0000,9,-999.0000,9,-999.0000,9,-999.0000,9,-999.0000,9,-999.0000,9,     -999.0,     -999.0,9,     -999.0,9,     -999.0,9,     -999.0,9,     -999.0,9,     -999.0,9, -999.00,9,   4.0615,-999.0000,-999.000
325020060213,       P16N,      84,          1,          7,          7,2,20060330,       0711,    56.2802,  -153.2202,        399,   134.8,   4.2402,  32.3697,2,  32.4008,2,    307.0,2,   260.4,2,   26.20,2,   13.60,2,    0.10,2,    1.36,2,-999.000,9,-999.000,9,-999.000,9,  2063.6,2,  2180.9,6,   -999.0,9,  -999.00,   7.6942,2,    25.00,-999.000,9,-999.000,-999.0000,9,-999.000,9, -999.00,9,  -999.0,9,    -9.0,-999.000,9,-999.000,   50.44,2,   17.91,2,  134.80,-999.0000,9,-999.0000,9,-999.0000,9,-999.0000,9,-999.0000,9,-999.0000,9,     -999.0,     -999.0,9,     -999.0,9,     -999.0,9,     -999.0,9,     -999.0,9,     -999.0,9, -999.00,9,   4.2311,-999.0000,-999.000
325020060213,       P16N,      84,          1,          6,          6,2,20060330,       0711,    56.2802,  -153.2202,        399,   174.7,   5.6544,  33.4403,2,  33.4508,2,    139.9,2,   141.7,2,   47.60,2,   28.00,2,    0.00,2,    2.08,2,-999.000,9,-999.000,9,-999.000,9,  2193.2,2,  2245.4,2,   -999.0,9,  -999.00,   7.4798,2,    25.00,-999.000,9,-999.000,-999.0000,9,-999.000,9, -999.00,9,  -999.0,9,    -9.0,-999.000,9,-999.000,   49.68,2,   32.62,2,  174.70,-999.0000,9,-999.0000,9,-999.0000,9,-999.0000,9,-999.0000,9,-999.0000,9,     -999.0,     -999.0,9,     -999.0,9,     -999.0,9,     -999.0,9,     -999.0,9,     -999.0,9, -999.00,9,   5.6404,-999.0000,-999.000
325020060213,       P16N,      84,          1,          5,          5,2,20060330,       0711,    56.2802,  -153.2202,        399,   199.2,   5.8254,  33.6762,2,  33.6804,2,    120.5,2,   120.8,2,   51.50,2,   31.10,2,    0.00,2,    2.20,2,   3.191,2,   1.688,2,-999.000,5,  2218.5,2,  2259.7,2,   -999.0,9,  -999.00,   7.4378,2,    25.00,-999.000,9,-999.000,-999.0000,9,-999.000,9, -999.00,9,  -999.0,9,    -9.0,-999.000,9,-999.000,   48.49,2,   35.68,2,  199.20,-999.0000,9,-999.0000,9,-999.0000,9,-999.0000,9,-999.0000,9,-999.0000,9,     -999.0,     -999.0,9,     -999.0,9,     -999.0,9,     -999.0,9,     -999.0,9,     -999.0,9, -999.00,9,   5.8089,-999.0000,-999.000
325020060213,       P16N,      84,          1,          4,          4,2,20060330,       0711,    56.2802,  -153.2202,        399,   275.1,   5.1276,  33.8616,2,  33.8689,2,     78.9,2,    68.9,2,   67.30,2,   37.00,2,    0.00,2,    2.56,2,-999.000,9,-999.000,9,-999.000,9,  2265.6,2,  2281.1,2,   -999.0,9,  -999.00,   7.3494,2,    25.00,-999.000,9,-999.000,-999.0000,9,-999.000,9, -999.00,9,  -999.0,9,    -9.0,-999.000,9,-999.000,   47.15,2,   40.64,2,  275.10,-999.0000,9,-999.0000,9,-999.0000,9,-999.0000,9,-999.0000,9,-999.0000,9,     -999.0,     -999.0,9,     -999.0,9,     -999.0,9,     -999.0,9,     -999.0,9,     -999.0,9, -999.00,9,   5.1062,-999.0000,-999.000
325020060213,       P16N,      84,          1,          3,          3,2,20060330,       0711,    56.2802,  -153.2202,        399,   323.8,   4.8714,  33.9095,2,  33.9154,2,     64.9,2,    58.4,2,   72.60,2,   39.20,2,    0.00,2,    2.67,2,-999.000,9,-999.000,9,-999.000,9,  2281.6,2,  2287.1,2,   -999.0,9,  -999.00,   7.3226,2,    25.00,-999.000,9,-999.000,-999.0000,9,-999.000,9, -999.00,9,  -999.0,9,    -9.0,-999.000,9,-999.000,   45.88,2,   42.97,2,  323.80,-999.0000,9,-999.0000,9,-999.0000,9,-999.0000,9,-999.0000,9,-999.0000,9,     -999.0,     -999.0,9,     -999.0,9,     -999.0,9,     -999.0,9,     -999.0,9,     -999.0,9, -999.00,9,   4.8467,-999.0000,-999.000
325020060213,       P16N,      84,          1,          2,          2,2,20060330,       0711,    56.2802,  -153.2202,        399,   375.2,   4.6933,  33.9358,2,  33.9445,2,     54.1,2,    52.1,2,   77.90,2,   40.40,2,    0.00,2,    2.77,2,   1.968,2,   0.940,2,-999.000,5,  2293.5,2,  2293.0,2,   -999.0,9,  -999.00,   7.2999,2,    25.00,-999.000,9,-999.000,-999.0000,9,-999.000,9, -999.00,9,  -999.0,9,    -9.0,-999.000,9,-999.000,   44.80,2,   44.40,2,  375.20,-999.0000,9,-999.0000,9,-999.0000,9,-999.0000,9,-999.0000,9,-999.0000,9,     -999.0,     -999.0,9,     -999.0,9,     -999.0,9,     -999.0,9,     -999.0,9,     -999.0,9, -999.00,9,   4.6650,-999.0000,-999.000
325020060213,       P16N,      84,          1,          1,          1,2,20060330,       0711,    56.2802,  -153.2202,        399,   394.5,   4.5721,  33.9578,2,  33.9569,2,     48.4,2,    48.4,2,   80.50,6,   40.90,6,    0.00,6,    2.80,6,   1.851,2,   0.919,2,-999.000,5,  2296.9,6,  2295.8,2,   -999.0,9,  -999.00,   7.2942,2,    25.00,-999.000,9,-999.000,-999.0000,9,-999.000,9, -999.00,9,  -999.0,9,    -9.0,-999.000,9,-999.000,   44.12,2,   44.88,2,  394.50,-999.0000,9,-999.0000,9,-999.0000,9,-999.0000,9,-999.0000,9,-999.0000,9,     -999.0,     -999.0,9,     -999.0,9,     -999.0,9,     -999.0,9,     -999.0,9,     -999.0,9, -999.00,9,   4.5427,-999.0000,-999.000