BOTTLE,20170720CCHSIOCBG
EXPOCODE,SECT_ID,STNNBR,CASTNO,SAMPNO,BTLNBR,BTLNBR_FLAG_W,DATE,TIME,LATITUDE,LONGITUDE,DEPTH,CTDPRS,CTDTMP,CTDSAL,CTDSAL_FLAG_W,SALNTY,SALNTY_FLAG_W,CTDOXY,CTDOXY_FLAG_W,OXYGEN,OXYGEN_FLAG_W,SILCAT,SILCAT_FLAG_W,NITRAT,NITRAT_FLAG_W,NITRIT,NITRIT_FLAG_W,PHSPHT,PHSPHT_FLAG_W,CFC-11,CFC-11_FLAG_W,CFC-12,CFC-12_FLAG_W,CFC113,CFC113_FLAG_W,TCARBN,TCARBN_FLAG_W,ALKALI,ALKALI_FLAG_W,FCO2,FCO2_FLAG_W,FCO2TMP,PH_TOT,PH_TOT_FLAG_W,PH_TMP,TRITUM,TRITUM_FLAG_W,TRITER,HELIUM,HELIUM_FLAG_W,DELHE3,DELHE3_FLAG_W,DELC13,DELC13_FLAG_W,DELC14,DELC14_FLAG_W,C14ERR,NEON,NEON_FLAG_W,NEONER,DOC,DOC_FLAG_W,TDN,TDN_FLAG_W,CTDRAW,CDOM325,CDOM325_FLAG_W,CDOM340,CDOM340_FLAG_W,CDOM380,CDOM380_FLAG_W,CDOM412,CDOM412_FLAG_W,CDOMSL,CDOMSL_FLAG_W,CDOMSN,CDOMSN_FLAG_W,DCNS,ARABI,ARABI_FLAG_W,FUCO,FUCO_FLAG_W,GALA,GALA_FLAG_W,GLUC,GLUC_FLAG_W,MAN,MAN_FLAG_W,RHAM,RHAM_FLAG_W,BRDU,BRDU_FLAG_W,THETA,HELIER,DELHER
,,,,,,,,,,,METERS,DBAR,ITS-90,PSS-78,,PSS-78,,UMOL/KG,,UMOL/KG,,UMOL/KG,,UMOL/KG,,UMOL/KG,,UMOL/KG,,PMOL/KG,,PMOL/KG,,PMOL/KG,,UMOL/KG,,UMOL/KG,,UATM,,DEG C,,,DEG C,TU,,TU,NMOL/KG,,PERCNT,,/MILLE,,/MILLE,,/MILLE,NMOL/KG,,NMOL/KG,UMOL/KG,,UMOL/KG,,DBAR,1/M,,1/M,,1/M,,1/M,,1/NM,,1/NM,,NMOL/KG,NMOL/KG,,NMOL/KG,,NMOL/KG,,NMOL/KG,,NMOL/KG,,NMOL/KG,,PMOL/L/H,,DEG C,NMOL/KG,PERCNT
325020060213,       P16N,       7,          2,          8,          8,2,20060216,       2321,   -11.0007,  -151.0008,       5020,  3000.0,   1.6937,  34.6818,2,  34.6773,4,    152.3,2,   152.9,2,  131.80,6,   36.30,6,    0.00,6,    2.52,6,-999.000,9,-999.000,9,-999.000,9,  2316.3,2,  2413.7,2,   1133.5,2,    20.00,-999.0000,9,  -999.00,-999.000,9,-999.000,-999.0000,9,-999.000,9, -999.00,9,  -999.0,9,    -9.0,-999.000,9,-999.000,   36.33,2,   40.95,2, 3000.00,   0.0910,2,   0.0600,2,   0.0260,2,   0.0170,2,   0.0229,2,   0.0246,2,     -999.0,     -999.0,9,     -999.0,9,     -999.0,9,     -999.0,9,     -999.0,9,     -999.0,9, -999.00,9,   1.4726,-999.0000,-999.000
325020060213,       P16N,       7,          2,          7,          7,2,20060216,       2321,   -11.0007,  -151.0008,       5020,  3249.8,   1.6187,  34.6864,2,  34.6800,4,    156.9,2,   157.1,2,  132.20,6,   35.90,6,    0.00,6,    2.50,6,-999.000,9,-999.000,9,-999.000,9,  2313.6,2,  2413.3,2,   1133.1,2,    20.00,   7.5994,2,    25.00,-999.000,9,-999.000,-999.0000,9,-999.000,9, -999.00,9,  -999.0,9,    -9.0,-999.000,9,-999.000,   37.20,2,   40.01,2, 3249.80,   0.1020,2,   0.0680,2,   0.0300,2,   0.0190,2,   0.0225,2,   0.0240,2,     -999.0,     -999.0,9,     -999.0,9,     -999.0,9,     -999.0,9,     -999.0,9,     -999.0,9, -999.00,9,   1.3749,-999.0000,-999.000
325020060213,       P16N,       7,          2,          6,          6,2,20060216,       2321,   -11.0007,  -151.0008,       5020,  3648.6,   1.5207,  34.6924,2,  34.6867,4,    165.0,2,   165.5,2,  130.60,2,   35.40,2,    0.00,2,    2.45,2,-999.000,9,-999.000,9,-999.000,9,  2306.4,2,  2407.5,6,   1095.6,2,    20.00,-999.0000,9,  -999.00,-999.000,9,-999.000,-999.0000,9,-999.000,9, -999.00,9,  -999.0,9,    -9.0,-999.000,9,-999.000,   37.31,2,   39.64,2, 3648.60,   0.0980,2,   0.0650,2,   0.0280,2,   0.0180,2,   0.0228,2,   0.0243,2,     -999.0,     -999.0,9,     -999.0,9,     -999.0,9,     -999.0,9,     -999.0,9,     -999.0,9, -999.00,9,   1.2386,-999.0000,-999.000
325020060213,       P16N,       7,          2,          5,          5,2,20060216,       2321,   -11.0007,  -151.0008,       5020,  4049.3,   1.4049,  34.6995,2,  34.6934,4,    177.6,2,   178.5,2,  125.30,6,   34.40,6,    0.00,6,    2.38,6,-999.000,9,-999.000,9,-999.000,9,  2291.3,2,  2307.7,4,   1088.1,2,    20.00,-999.0000,9,  -999.00,-999.000,9,-999.000,-999.0000,9,-999.000,9, -999.00,9,  -999.0,9,    -9.0,-999.000,9,-999.000,   36.64,2,   38.29,2, 4049.30,   0.1050,2,   0.0710,2,   0.0320,2,   0.0220,2,   0.0215,2,   0.0229,2,     -999.0,     -999.0,9,     -999.0,9,     -999.0,9,     -999.0,9,     -999.0,9,     -999.0,9, -999.00,9,   1.0832,-999.0000,-999.000
325020060213,       P16N,       7,          2,          4,          4,2,20060216,       2321,   -11.0007,  -151.0008,       5020,  4549.6,   1.3109,  34.7063,2,  34.6991,4,    188.4,2,   189.0,2,  121.60,6,   33.70,6,    0.00,6,    2.32,6,  -0.001,2,   0.001,2,-999.000,5,  2279.9,2,  2377.6,2,   1052.3,2,    20.00,-999.0000,9,  -999.00,-999.000,9,-999.000,-999.0000,9,-999.000,9, -999.00,9,  -999.0,9,    -9.0,-999.000,9,-999.000,   37.99,2,   37.86,2, 4549.60,   0.1030,2,   0.0680,2,   0.0300,2,   0.0200,2,   0.0226,2,   0.0243,2,     -999.0,     -999.0,9,     -999.0,9,     -999.0,9,     -999.0,9,     -999.0,9,     -999.0,9, -999.00,9,   0.9360,-999.0000,-999.000
325020060213,       P16N,       7,          2,          3,          3,2,20060216,       2321,   -11.0007,  -151.0008,       5020,  5049.1,   1.3144,  34.7090,2,  34.7034,4,    192.8,2,   193.4,2,  119.50,6,   33.30,6,    0.00,6,    2.29,6,   0.005,2,   0.002,2,-999.000,5,  2274.8,2,  2380.4,2,   1055.9,2,    20.00,   7.5958,2,    25.00,-999.000,9,-999.000,-999.0000,9,-999.000,9, -999.00,9,  -999.0,9,    -9.0,-999.000,9,-999.000,   38.09,2,   36.87,2, 5049.10,   0.0920,2,   0.0580,2,   0.0230,2,   0.0170,2,   0.0246,2,   0.0267,2,     -999.0,     -999.0,9,     -999.0,9,     -999.0,9,     -999.0,9,     -999.0,9,     -999.0,9, -999.00,9,   0.8804,-999.0000,-999.000
325020060213,       P16N,       7,          2,          1,          1,2,20060216,       2321,   -11.0007,  -151.0008,       5020,  5145.5,   1.3248,  34.7091,2,  34.7042,4,    192.5,2,   194.4,2,  119.70,2,   33.40,2,    0.00,2,    2.30,2,   0.006,2,   0.002,2,-999.000,5,  2274.0,6,  2381.5,2,   1035.6,2,    20.00,-999.0000,9,  -999.00,-999.000,9,-999.000,-999.0000,9,-999.000,9, -999.00,9,  -999.0,9,    -9.0,-999.000,9,-999.000,   38.18,2,   37.26,2, 5145.50,   0.0960,2,   0.0620,2,   0.0260,2,   0.0170,2,   0.0240,2,   0.0255,2,     -999.0,     -999.0,9,     -999.0,9,     -999.0,9,     -999.0,9,     -999.0,9,     -999.0,9, -999.00,9,   0.8786,-999.0000,-999.000