BOTTLE,20170720CCHSIOCBG
EXPOCODE,SECT_ID,STNNBR,CASTNO,SAMPNO,BTLNBR,BTLNBR_FLAG_W,DATE,TIME,LATITUDE,LONGITUDE,DEPTH,CTDPRS,CTDTMP,CTDSAL,CTDSAL_FLAG_W,SALNTY,SALNTY_FLAG_W,CTDOXY,CTDOXY_FLAG_W,OXYGEN,OXYGEN_FLAG_W,SILCAT,SILCAT_FLAG_W,NITRAT,NITRAT_FLAG_W,NITRIT,NITRIT_FLAG_W,PHSPHT,PHSPHT_FLAG_W,CFC-11,CFC-11_FLAG_W,CFC-12,CFC-12_FLAG_W,CFC113,CFC113_FLAG_W,TCARBN,TCARBN_FLAG_W,ALKALI,ALKALI_FLAG_W,FCO2,FCO2_FLAG_W,FCO2TMP,PH_TOT,PH_TOT_FLAG_W,PH_TMP,TRITUM,TRITUM_FLAG_W,TRITER,HELIUM,HELIUM_FLAG_W,DELHE3,DELHE3_FLAG_W,DELC13,DELC13_FLAG_W,DELC14,DELC14_FLAG_W,C14ERR,NEON,NEON_FLAG_W,NEONER,DOC,DOC_FLAG_W,TDN,TDN_FLAG_W,CTDRAW,CDOM325,CDOM325_FLAG_W,CDOM340,CDOM340_FLAG_W,CDOM380,CDOM380_FLAG_W,CDOM412,CDOM412_FLAG_W,CDOMSL,CDOMSL_FLAG_W,CDOMSN,CDOMSN_FLAG_W,DCNS,ARABI,ARABI_FLAG_W,FUCO,FUCO_FLAG_W,GALA,GALA_FLAG_W,GLUC,GLUC_FLAG_W,MAN,MAN_FLAG_W,RHAM,RHAM_FLAG_W,BRDU,BRDU_FLAG_W,THETA,HELIER,DELHER
,,,,,,,,,,,METERS,DBAR,ITS-90,PSS-78,,PSS-78,,UMOL/KG,,UMOL/KG,,UMOL/KG,,UMOL/KG,,UMOL/KG,,UMOL/KG,,PMOL/KG,,PMOL/KG,,PMOL/KG,,UMOL/KG,,UMOL/KG,,UATM,,DEG C,,,DEG C,TU,,TU,NMOL/KG,,PERCNT,,/MILLE,,/MILLE,,/MILLE,NMOL/KG,,NMOL/KG,UMOL/KG,,UMOL/KG,,DBAR,1/M,,1/M,,1/M,,1/M,,1/NM,,1/NM,,NMOL/KG,NMOL/KG,,NMOL/KG,,NMOL/KG,,NMOL/KG,,NMOL/KG,,NMOL/KG,,PMOL/L/H,,DEG C,NMOL/KG,PERCNT
325020060213,       P16N,       2,          2,         35,         35,2,20060214,       2114,        -16,       -150,       4226,    10.9,  29.1048,  35.8835,2,  35.8388,4,    195.3,2,   195.1,2,    0.20,2,    0.00,2, -999.00,2,    0.13,2,   1.470,2,   0.944,2,-999.000,5,  1988.8,6,  2345.7,2,    251.3,2,    20.00,   8.1377,2,    25.00,-999.000,9,-999.000,-999.0000,9,-999.000,9, -999.00,9,  -999.0,9,    -9.0,-999.000,9,-999.000,   72.98,2,    3.77,2,   10.90,-999.0000,9,-999.0000,9,-999.0000,9,-999.0000,9,-999.0000,9,-999.0000,9,     -999.0,     -999.0,9,     -999.0,9,     -999.0,9,     -999.0,9,     -999.0,9,     -999.0,9, -999.00,9,  29.1021,-999.0000,-999.000
325020060213,       P16N,       2,          2,         34,         34,2,20060214,       2114,        -16,       -150,       4226,    14.6,  29.0338,  35.8619,2,  35.8596,4,    195.6,2,   195.1,2,    0.20,2,    0.10,2,    0.00,2,    0.13,2,-999.000,9,-999.000,9,-999.000,9,  1989.8,2,  2348.6,2,    249.0,6,    20.00,   8.1396,2,    25.00,-999.000,9,-999.000,-999.0000,9,-999.000,9, -999.00,9,  -999.0,9,    -9.0,-999.000,9,-999.000,   71.59,2, -999.00,2,   14.60,   0.0270,2,   0.0150,2,   0.0000,4,   0.0010,2,-999.0000,9,-999.0000,9,     -999.0,     -999.0,9,     -999.0,9,     -999.0,9,     -999.0,9,     -999.0,9,     -999.0,9, -999.00,9,  29.0303,-999.0000,-999.000
325020060213,       P16N,       2,          2,         33,         33,2,20060214,       2114,        -16,       -150,       4226,    35.5,  28.7103,  35.9540,2,  35.9498,4,    197.7,2,   197.4,2,    0.30,2,    0.10,2,    0.00,2,    0.13,2,-999.000,9,-999.000,9,-999.000,9,  1995.1,2,  2353.5,2,    252.7,2,    20.00,   8.1386,2,    25.00,-999.000,9,-999.000,-999.0000,9,-999.000,9, -999.00,9,  -999.0,9,    -9.0,-999.000,9,-999.000,   71.75,2,    4.72,2,   35.50,-999.0000,9,-999.0000,9,-999.0000,9,-999.0000,9,-999.0000,9,-999.0000,9,     -999.0,     -999.0,9,     -999.0,9,     -999.0,9,     -999.0,9,     -999.0,9,     -999.0,9, -999.00,9,  28.7018,-999.0000,-999.000
325020060213,       P16N,       2,          2,         32,         32,2,20060214,       2114,        -16,       -150,       4226,    60.6,  27.1413,  36.0792,2,  36.0727,4,    205.4,2,   206.0,2,    0.10,2,    0.00,2,    0.00,2,    0.14,2,   1.646,2,   1.033,2,-999.000,5,  2010.3,2,  2361.4,2,    262.5,2,    20.00,   8.1234,2,    25.00,-999.000,9,-999.000,-999.0000,9,-999.000,9, -999.00,9,  -999.0,9,    -9.0,-999.000,9,-999.000,   67.14,2,    4.21,2,   60.60,-999.0000,9,-999.0000,9,-999.0000,9,-999.0000,9,-999.0000,9,-999.0000,9,     -999.0,     -999.0,9,     -999.0,9,     -999.0,9,     -999.0,9,     -999.0,9,     -999.0,9, -999.00,9,  27.1273,-999.0000,-999.000
325020060213,       P16N,       2,          2,         31,         31,2,20060214,       2114,        -16,       -150,       4226,    85.0,  25.9743,  36.0569,2,  36.0447,4,    206.2,2,   205.9,2,    0.30,2,    0.00,2,    0.00,2,    0.15,2,-999.000,9,-999.000,9,-999.000,9,  2017.9,2,  2358.6,2,    274.6,2,    20.00,   8.1103,2,    25.00,-999.000,9,-999.000,-999.0000,9,-999.000,9, -999.00,9,  -999.0,9,    -9.0,-999.000,9,-999.000,   66.10,2,    4.75,2,   85.00,-999.0000,9,-999.0000,9,-999.0000,9,-999.0000,9,-999.0000,9,-999.0000,9,     -999.0,     -999.0,9,     -999.0,9,     -999.0,9,     -999.0,9,     -999.0,9,     -999.0,9, -999.00,9,  25.9553,-999.0000,-999.000
325020060213,       P16N,       2,          2,         30,         30,2,20060214,       2114,        -16,       -150,       4226,   109.9,  25.0754,  36.0595,2,  36.0524,4,    200.3,2,   201.2,2,    0.20,2,    0.10,2,    0.00,2,    0.18,2,-999.000,9,-999.000,9,-999.000,9,  2029.5,2,  2362.5,2,    294.6,2,    20.00,   8.0942,2,    25.00,-999.000,9,-999.000,-999.0000,9,-999.000,9, -999.00,9,  -999.0,9,    -9.0,-999.000,9,-999.000,   61.07,2,    3.98,2,  109.90,   0.0950,2,   0.0670,2,   0.0290,2,   0.0210,2,   0.0218,2,   0.0222,2,     -999.0,     -999.0,9,     -999.0,9,     -999.0,9,     -999.0,9,     -999.0,9,     -999.0,9, -999.00,9,  25.0515,-999.0000,-999.000
325020060213,       P16N,       2,          2,         29,         29,2,20060214,       2114,        -16,       -150,       4226,   136.1,  23.9444,  36.0921,2,  36.0908,4,    181.5,2,   181.5,2, -999.00,1, -999.00,1, -999.00,1, -999.00,1,   1.881,2,   1.141,2,-999.000,5,  2060.5,2,  2365.0,2,    340.0,2,    20.00,   8.0397,2,    25.00,-999.000,9,-999.000,-999.0000,9,-999.000,9, -999.00,9,  -999.0,9,    -9.0,-999.000,9,-999.000,   54.27,2,    5.75,2,  136.10,-999.0000,9,-999.0000,9,-999.0000,9,-999.0000,9,-999.0000,9,-999.0000,9,     -999.0,     -999.0,9,     -999.0,9,     -999.0,9,     -999.0,9,     -999.0,9,     -999.0,9, -999.00,9,  23.9156,-999.0000,-999.000
325020060213,       P16N,       2,          2,         28,         28,2,20060214,       2114,        -16,       -150,       4226,   176.6,  22.2292,  35.9915,2,  35.9712,4,    171.5,2,   172.9,2,    0.50,2,    3.00,2,    0.00,2,    0.41,2,-999.000,9,-999.000,9,-999.000,9,  2081.5,2,  2300.2,4,    383.7,2,    20.00,   8.0009,2,    25.00,-999.000,9,-999.000,-999.0000,9,-999.000,9, -999.00,9,  -999.0,9,    -9.0,-999.000,9,-999.000,   51.54,2,    7.08,2,  176.60,-999.0000,9,-999.0000,9,-999.0000,9,-999.0000,9,-999.0000,9,-999.0000,9,     -999.0,     -999.0,9,     -999.0,9,     -999.0,9,     -999.0,9,     -999.0,9,     -999.0,9, -999.00,9,  22.1938,-999.0000,-999.000
325020060213,       P16N,       2,          2,         27,         27,2,20060214,       2114,        -16,       -150,       4226,   226.4,  20.4056,  35.7588,2,  35.7563,4,    172.6,2,   173.5,2,    0.90,2,    4.10,2,    0.00,2,    0.46,2,   2.262,2,   1.232,2,-999.000,5,  2086.1,2,  2338.7,2,    415.8,2,    20.00,   7.9681,2,    25.00,-999.000,9,-999.000,-999.0000,9,-999.000,9, -999.00,9,  -999.0,9,    -9.0,-999.000,9,-999.000,   49.80,2,    8.12,2,  226.40,-999.0000,9,-999.0000,9,-999.0000,9,-999.0000,9,-999.0000,9,-999.0000,9,     -999.0,     -999.0,9,     -999.0,9,     -999.0,9,     -999.0,9,     -999.0,9,     -999.0,9, -999.00,9,  20.3630,-999.0000,-999.000
325020060213,       P16N,       2,          2,         26,         26,2,20060214,       2114,        -16,       -150,       4226,   276.7,  17.7479,  35.4212,2,  35.4143,4,    174.1,2,   175.0,2,    1.50,2,    6.30,2,    0.00,2,    0.60,2,-999.000,9,-999.000,9,-999.000,9,  2093.6,2,  2321.0,2,    458.1,2,    20.00,   7.9201,2,    25.00,-999.000,9,-999.000,-999.0000,9,-999.000,9, -999.00,9,  -999.0,9,    -9.0,-999.000,9,-999.000,   45.42,2,   10.62,2,  276.70,-999.0000,9,-999.0000,9,-999.0000,9,-999.0000,9,-999.0000,9,-999.0000,9,     -999.0,     -999.0,9,     -999.0,9,     -999.0,9,     -999.0,9,     -999.0,9,     -999.0,9, -999.00,9,  17.7006,-999.0000,-999.000
325020060213,       P16N,       2,          2,         25,         25,2,20060214,       2114,        -16,       -150,       4226,   325.9,  14.6856,  35.0433,2,  35.0257,4,    166.4,2,   166.8,2,    4.00,2,   11.50,2,    0.00,2,    0.93,2,   2.112,2,   1.143,2,-999.000,5,  2114.6,2,  2294.3,2,    569.2,2,    20.00,   7.8362,2,    25.00,-999.000,9,-999.000,-999.0000,9,-999.000,9, -999.00,9,  -999.0,9,    -9.0,-999.000,9,-999.000,   44.63,2,   15.68,2,  325.90,-999.0000,9,-999.0000,9,-999.0000,9,-999.0000,9,-999.0000,9,-999.0000,9,     -999.0,     -999.0,9,     -999.0,9,     -999.0,9,     -999.0,9,     -999.0,9,     -999.0,9, -999.00,9,  14.6368,-999.0000,-999.000
325020060213,       P16N,       2,          2,         24,         24,2,20060214,       2114,        -16,       -150,       4226,   378.3,  12.5531,  34.8170,2,  34.7883,4,    153.5,2,   152.2,2,    7.30,2,   16.70,2,    0.00,2,    1.28,2,-999.000,9,-999.000,9,-999.000,9,  2138.6,2,  2287.9,2,    697.9,2,    20.00,   7.7565,2,    25.00,-999.000,9,-999.000,-999.0000,9,-999.000,9, -999.00,9,  -999.0,9,    -9.0,-999.000,9,-999.000,   42.57,2,   21.23,2,  378.30,-999.0000,9,-999.0000,9,-999.0000,9,-999.0000,9,-999.0000,9,-999.0000,9,     -999.0,     -999.0,9,     -999.0,9,     -999.0,9,     -999.0,9,     -999.0,9,     -999.0,9, -999.00,9,  12.5020,-999.0000,-999.000
325020060213,       P16N,       2,          2,         23,         23,2,20060214,       2114,        -16,       -150,       4226,   428.0,  10.1917,  34.6182,2,  34.5975,4,    142.8,2,   142.2,2,   12.00,2,   22.80,2,    0.00,2,    1.65,2,   1.337,2,   0.713,2,-999.000,5,  2169.9,2,  2282.2,2,    851.3,2,    20.00,   7.6742,2,    25.00,-999.000,9,-999.000,-999.0000,9,-999.000,9, -999.00,9,  -999.0,9,    -9.0,-999.000,9,-999.000,   42.47,2,   27.38,2,  428.00,-999.0000,9,-999.0000,9,-999.0000,9,-999.0000,9,-999.0000,9,-999.0000,9,     -999.0,     -999.0,9,     -999.0,9,     -999.0,9,     -999.0,9,     -999.0,9,     -999.0,9, -999.00,9,  10.1411,-999.0000,-999.000
325020060213,       P16N,       2,          2,         22,         22,4,20060214,       2114,        -16,       -150,       4226,   478.6,   8.8264,  34.5426,2,-999.0000,4,    133.9,2,  -999.0,9,   17.80,2,   27.40,2,    0.00,2,    1.92,2,-999.000,1,-999.000,1,-999.000,9,  2193.2,2,  2283.8,2,    981.5,2,    20.00,   7.6187,2,    25.00,-999.000,9,-999.000,-999.0000,9,-999.000,9, -999.00,9,  -999.0,9,    -9.0,-999.000,9,-999.000,   41.98,2,   31.24,2,  478.60,-999.0000,9,-999.0000,9,-999.0000,9,-999.0000,9,-999.0000,9,-999.0000,9,     -999.0,     -999.0,9,     -999.0,9,     -999.0,9,     -999.0,9,     -999.0,9,     -999.0,9, -999.00,9,   8.7745,-999.0000,-999.000
325020060213,       P16N,       2,          2,         21,         21,2,20060214,       2114,        -16,       -150,       4226,   553.3,   7.0290,  34.4606,2,  34.4557,4,    140.3,2,   139.6,2,   25.10,2,   31.10,2,    0.00,2,    2.11,2,   0.475,2,   0.248,2,-999.000,5,  2206.9,2,  1837.1,4,   1070.4,2,    20.00,   7.5875,2,    25.00,-999.000,9,-999.000,-999.0000,9,-999.000,9, -999.00,9,  -999.0,9,    -9.0,-999.000,9,-999.000,   41.07,2,   35.30,2,  553.30,-999.0000,9,-999.0000,9,-999.0000,9,-999.0000,9,-999.0000,9,-999.0000,9,     -999.0,     -999.0,9,     -999.0,9,     -999.0,9,     -999.0,9,     -999.0,9,     -999.0,9, -999.00,9,   6.9762,-999.0000,-999.000
325020060213,       P16N,       2,          2,         20,         20,2,20060214,       2114,        -16,       -150,       4226,   654.9,   5.9912,  34.4575,2,  34.4493,4,    144.5,2,   143.7,2,   35.40,2,   33.00,2,    0.00,2,    2.22,2,-999.000,9,-999.000,9,-999.000,9,  2220.0,2,  2043.2,4,   1098.1,2,    20.00,   7.5836,2,    25.00,-999.000,9,-999.000,-999.0000,9,-999.000,9, -999.00,9,  -999.0,9,    -9.0,-999.000,9,-999.000,   40.36,2,   37.50,2,  654.90,-999.0000,9,-999.0000,9,-999.0000,9,-999.0000,9,-999.0000,9,-999.0000,9,     -999.0,     -999.0,9,     -999.0,9,     -999.0,9,     -999.0,9,     -999.0,9,     -999.0,9, -999.00,9,   5.9333,-999.0000,-999.000
325020060213,       P16N,       2,          2,         19,         19,2,20060214,       2114,        -16,       -150,       4226,   755.6,   5.3088,  34.4689,2,  34.4650,4,    142.6,2,   141.6,2,   45.70,2,   34.40,2,    0.00,2,    2.32,2,   0.110,2,   0.061,2,-999.000,5,  2229.9,6,  2307.8,2,   1134.3,6,    20.00,   7.5748,2,    25.00,-999.000,9,-999.000,-999.0000,9,-999.000,9, -999.00,9,  -999.0,9,    -9.0,-999.000,9,-999.000,   39.56,2,   38.57,2,  755.60,-999.0000,9,-999.0000,9,-999.0000,9,-999.0000,9,-999.0000,9,-999.0000,9,     -999.0,     -999.0,9,     -999.0,9,     -999.0,9,     -999.0,9,     -999.0,9,     -999.0,9, -999.00,9,   5.2454,-999.0000,-999.000
325020060213,       P16N,       2,          2,         18,         18,2,20060214,       2114,        -16,       -150,       4226,   857.5,   4.7275,  34.4917,2,  34.4831,4,    137.5,2,   136.8,2,   57.30,2,   35.70,2,    0.00,2,    2.41,2,-999.000,9,-999.000,9,-999.000,9,  2247.2,2,  2319.9,2,   1179.8,2,    20.00,   7.5618,2,    25.00,-999.000,9,-999.000,-999.0000,9,-999.000,9, -999.00,9,  -999.0,9,    -9.0,-999.000,9,-999.000,   38.69,2,   39.82,2,  857.50,-999.0000,9,-999.0000,9,-999.0000,9,-999.0000,9,-999.0000,9,-999.0000,9,     -999.0,     -999.0,9,     -999.0,9,     -999.0,9,     -999.0,9,     -999.0,9,     -999.0,9, -999.00,9,   4.6587,-999.0000,-999.000
325020060213,       P16N,       2,          2,         17,         17,2,20060214,       2114,        -16,       -150,       4226,   957.9,   4.2557,  34.5119,2,  34.5065,4,    135.0,2,   134.7,2,   67.10,2,   36.40,2,    0.00,2,    2.47,2,   0.022,2,   0.010,2,-999.000,5,  2258.1,2,  2330.2,6,   1205.0,2,    20.00,   7.5520,2,    25.00,-999.000,9,-999.000,-999.0000,9,-999.000,9, -999.00,9,  -999.0,9,    -9.0,-999.000,9,-999.000,   37.88,2,   40.91,2,  957.90,-999.0000,9,-999.0000,9,-999.0000,9,-999.0000,9,-999.0000,9,-999.0000,9,     -999.0,     -999.0,9,     -999.0,9,     -999.0,9,     -999.0,9,     -999.0,9,     -999.0,9, -999.00,9,   4.1816,-999.0000,-999.000
325020060213,       P16N,       2,          2,         16,         16,2,20060214,       2114,        -16,       -150,       4226,  1109.8,   3.7944,  34.5335,2,  34.5267,4,    134.2,2,   134.0,2,   76.60,2,   36.90,2,    0.00,2,    2.52,2,-999.000,9,-999.000,9,-999.000,9,  2270.2,2,  2340.2,2,   1215.8,2,    20.00,   7.5497,2,    25.00,-999.000,9,-999.000,-999.0000,9,-999.000,9, -999.00,9,  -999.0,9,    -9.0,-999.000,9,-999.000,   37.23,2,   40.30,2, 1109.80,-999.0000,9,-999.0000,9,-999.0000,9,-999.0000,9,-999.0000,9,-999.0000,9,     -999.0,     -999.0,9,     -999.0,9,     -999.0,9,     -999.0,9,     -999.0,9,     -999.0,9, -999.00,9,   3.7112,-999.0000,-999.000
325020060213,       P16N,       2,          2,         15,         15,2,20060214,       2114,        -16,       -150,       4226,  1313.2,   3.1298,  34.5667,2,  34.5659,4,    138.5,2,   139.3,2,   90.40,2,   37.00,2,    0.00,2,    2.53,2,   0.009,2,   0.003,2,-999.000,5,  2283.6,2,  2355.7,2,   1210.7,2,    20.00,   7.5553,2,    25.00,-999.000,9,-999.000,-999.0000,9,-999.000,9, -999.00,9,  -999.0,9,    -9.0,-999.000,9,-999.000,   37.50,2,   41.20,2, 1313.20,-999.0000,9,-999.0000,9,-999.0000,9,-999.0000,9,-999.0000,9,-999.0000,9,     -999.0,     -999.0,9,     -999.0,9,     -999.0,9,     -999.0,9,     -999.0,9,     -999.0,9, -999.00,9,   3.0360,-999.0000,-999.000
325020060213,       P16N,       2,          2,         14,         14,2,20060214,       2114,        -16,       -150,       4226,  1514.6,   2.8236,  34.5844,2,  34.5759,4,    142.0,2,   142.8,2,   97.10,2,   36.80,2,    0.00,2,    2.53,2,-999.000,9,-999.000,9,-999.000,9,  2287.7,2,  2363.0,2,   1194.5,2,    20.00,   7.5618,2,    25.00,-999.000,9,-999.000,-999.0000,9,-999.000,9, -999.00,9,  -999.0,9,    -9.0,-999.000,9,-999.000,   37.13,2,   40.43,2, 1514.60,-999.0000,9,-999.0000,9,-999.0000,9,-999.0000,9,-999.0000,9,-999.0000,9,     -999.0,     -999.0,9,     -999.0,9,     -999.0,9,     -999.0,9,     -999.0,9,     -999.0,9, -999.00,9,   2.7166,-999.0000,-999.000
325020060213,       P16N,       2,          2,         13,         13,2,20060214,       2114,        -16,       -150,       4226,  1718.0,   2.5127,  34.6080,2,  34.6036,4,    144.7,2,   145.2,2,  105.00,2,   36.80,2,    0.00,2,    2.53,2,   0.004,2,   0.002,2,-999.000,5,  2294.0,2,  2371.4,2,   1180.1,2,    20.00,   7.5650,2,    25.00,-999.000,9,-999.000,-999.0000,9,-999.000,9, -999.00,9,  -999.0,9,    -9.0,-999.000,9,-999.000,   35.78,2,   40.58,2, 1718.00,-999.0000,9,-999.0000,9,-999.0000,9,-999.0000,9,-999.0000,9,-999.0000,9,     -999.0,     -999.0,9,     -999.0,9,     -999.0,9,     -999.0,9,     -999.0,9,     -999.0,9, -999.00,9,   2.3926,-999.0000,-999.000
325020060213,       P16N,       2,          2,         12,         12,2,20060214,       2114,        -16,       -150,       4226,  1919.3,   2.2915,  34.6254,2,  34.6206,4,    148.1,2,   148.1,2,  110.70,2,   36.70,2,    0.00,2,    2.53,2,-999.000,9,-999.000,9,-999.000,9,  2298.8,2,  2305.6,4,   1176.2,2,    20.00,   7.5692,2,    25.00,-999.000,9,-999.000,-999.0000,9,-999.000,9, -999.00,9,  -999.0,9,    -9.0,-999.000,9,-999.000,   36.41,2,   40.60,2, 1919.30,-999.0000,9,-999.0000,9,-999.0000,9,-999.0000,9,-999.0000,9,-999.0000,9,     -999.0,     -999.0,9,     -999.0,9,     -999.0,9,     -999.0,9,     -999.0,9,     -999.0,9, -999.00,9,   2.1575,-999.0000,-999.000
325020060213,       P16N,       2,          2,         11,         11,2,20060214,       2114,        -16,       -150,       4226,  2121.5,   2.1214,  34.6400,2,-999.0000,4,    149.8,2,   150.2,2,  115.20,2,   36.70,2,    0.00,2,    2.52,2,-999.000,9,-999.000,9,-999.000,9,  2301.8,2,  2384.8,2,   1165.2,2,    20.00,   7.5717,2,    25.00,-999.000,9,-999.000,-999.0000,9,-999.000,9, -999.00,9,  -999.0,9,    -9.0,-999.000,9,-999.000,   36.65,2,   40.23,2, 2121.50,-999.0000,9,-999.0000,9,-999.0000,9,-999.0000,9,-999.0000,9,-999.0000,9,     -999.0,     -999.0,9,     -999.0,9,     -999.0,9,     -999.0,9,     -999.0,9,     -999.0,9, -999.00,9,   1.9727,-999.0000,-999.000
325020060213,       P16N,       2,          2,         10,         10,2,20060214,       2114,        -16,       -150,       4226,  2321.6,   2.0122,  34.6510,2,  34.6424,4,    150.5,2,   150.6,2,  119.40,2,   36.70,2,    0.00,2,    2.52,2,-999.000,9,-999.000,9,-999.000,9,  2306.0,2,  2386.0,2,   1163.9,6,    20.00,   7.5736,2,    25.00,-999.000,9,-999.000,-999.0000,9,-999.000,9, -999.00,9,  -999.0,9,    -9.0,-999.000,9,-999.000,   36.59,2,   40.72,2, 2321.60,-999.0000,9,-999.0000,9,-999.0000,9,-999.0000,9,-999.0000,9,-999.0000,9,     -999.0,     -999.0,9,     -999.0,9,     -999.0,9,     -999.0,9,     -999.0,9,     -999.0,9, -999.00,9,   1.8477,-999.0000,-999.000
325020060213,       P16N,       2,          2,          9,          9,2,20060214,       2114,        -16,       -150,       4226,  2529.7,   1.8929,  34.6629,2,  34.6591,4,    151.0,2,   151.5,2,  123.60,2,   36.50,2,    0.00,2,    2.53,2,   0.005,2,   0.002,2,-999.000,5,  2310.6,2,  2393.2,2,   1144.3,2,    20.00,   7.5768,2,    25.00,-999.000,9,-999.000,-999.0000,9,-999.000,9, -999.00,9,  -999.0,9,    -9.0,-999.000,9,-999.000,   36.37,2,   40.52,2, 2529.70,-999.0000,9,-999.0000,9,-999.0000,9,-999.0000,9,-999.0000,9,-999.0000,9,     -999.0,     -999.0,9,     -999.0,9,     -999.0,9,     -999.0,9,     -999.0,9,     -999.0,9, -999.00,9,   1.7119,-999.0000,-999.000