BOTTLE,20170720CCHSIOCBG
EXPOCODE,SECT_ID,STNNBR,CASTNO,SAMPNO,BTLNBR,BTLNBR_FLAG_W,DATE,TIME,LATITUDE,LONGITUDE,DEPTH,CTDPRS,CTDTMP,CTDSAL,CTDSAL_FLAG_W,SALNTY,SALNTY_FLAG_W,CTDOXY,CTDOXY_FLAG_W,OXYGEN,OXYGEN_FLAG_W,SILCAT,SILCAT_FLAG_W,NITRAT,NITRAT_FLAG_W,NITRIT,NITRIT_FLAG_W,PHSPHT,PHSPHT_FLAG_W,CFC-11,CFC-11_FLAG_W,CFC-12,CFC-12_FLAG_W,CFC113,CFC113_FLAG_W,TCARBN,TCARBN_FLAG_W,ALKALI,ALKALI_FLAG_W,FCO2,FCO2_FLAG_W,FCO2TMP,PH_TOT,PH_TOT_FLAG_W,PH_TMP,TRITUM,TRITUM_FLAG_W,TRITER,HELIUM,HELIUM_FLAG_W,DELHE3,DELHE3_FLAG_W,DELC13,DELC13_FLAG_W,DELC14,DELC14_FLAG_W,C14ERR,NEON,NEON_FLAG_W,NEONER,DOC,DOC_FLAG_W,TDN,TDN_FLAG_W,CTDRAW,CDOM325,CDOM325_FLAG_W,CDOM340,CDOM340_FLAG_W,CDOM380,CDOM380_FLAG_W,CDOM412,CDOM412_FLAG_W,CDOMSL,CDOMSL_FLAG_W,CDOMSN,CDOMSN_FLAG_W,DCNS,ARABI,ARABI_FLAG_W,FUCO,FUCO_FLAG_W,GALA,GALA_FLAG_W,GLUC,GLUC_FLAG_W,MAN,MAN_FLAG_W,RHAM,RHAM_FLAG_W,BRDU,BRDU_FLAG_W,THETA,HELIER,DELHER
,,,,,,,,,,,METERS,DBAR,ITS-90,PSS-78,,PSS-78,,UMOL/KG,,UMOL/KG,,UMOL/KG,,UMOL/KG,,UMOL/KG,,UMOL/KG,,PMOL/KG,,PMOL/KG,,PMOL/KG,,UMOL/KG,,UMOL/KG,,UATM,,DEG C,,,DEG C,TU,,TU,NMOL/KG,,PERCNT,,/MILLE,,/MILLE,,/MILLE,NMOL/KG,,NMOL/KG,UMOL/KG,,UMOL/KG,,DBAR,1/M,,1/M,,1/M,,1/M,,1/NM,,1/NM,,NMOL/KG,NMOL/KG,,NMOL/KG,,NMOL/KG,,NMOL/KG,,NMOL/KG,,NMOL/KG,,PMOL/L/H,,DEG C,NMOL/KG,PERCNT
325020060213,       P16N,      83,          2,         23,         23,2,20060330,       0313,    56.2198,  -153.1897,       1084,     4.4,   4.4790,  32.1114,2,  32.1144,2,    321.9,2,   320.4,2,   23.40,2,   11.20,2,    0.10,2,    1.26,2,   4.953,2,   2.842,2,-999.000,5,  2034.9,2,  2163.8,2,   -999.0,9,  -999.00,   7.7309,3,    25.00,-999.000,9,-999.000,-999.0000,9,-999.000,9, -999.00,5,     0.3,2,     3.6,-999.000,9,-999.000,   54.12,2,   15.10,2,    4.40,-999.0000,9,-999.0000,9,-999.0000,9,-999.0000,9,-999.0000,9,-999.0000,9,     -999.0,     -999.0,9,     -999.0,9,     -999.0,9,     -999.0,9,     -999.0,9,     -999.0,9, -999.00,9,   4.4787,-999.0000,-999.000
325020060213,       P16N,      83,          2,         22,         22,2,20060330,       0313,    56.2198,  -153.1897,       1084,    10.2,   4.4541,  32.1101,2,  32.1134,2,    322.2,2,   321.2,2,   23.20,2,   11.30,2,    0.10,2,    1.25,2,-999.000,9,-999.000,9,-999.000,9,  2034.0,2,  2163.8,2,   -999.0,9,  -999.00,   7.7312,2,    25.00,-999.000,9,-999.000,-999.0000,9,-999.000,9, -999.00,9,  -999.0,9,    -9.0,-999.000,9,-999.000,   53.17,2,   15.73,2,   10.20,-999.0000,9,-999.0000,9,-999.0000,9,-999.0000,9,-999.0000,9,-999.0000,9,     -999.0,     -999.0,9,     -999.0,9,     -999.0,9,     -999.0,9,     -999.0,9,     -999.0,9, -999.00,9,   4.4534,-999.0000,-999.000
325020060213,       P16N,      83,          2,         21,         21,2,20060330,       0313,    56.2198,  -153.1897,       1084,    24.9,   4.2909,  32.1015,2,  32.1065,2,    322.3,2,   321.0,2,   23.40,2,   11.20,2,    0.10,2,    1.26,2,   5.038,2,   2.846,2,-999.000,5,  2034.8,2,  2162.9,2,   -999.0,9,  -999.00,   7.7258,2,    25.00,-999.000,9,-999.000,-999.0000,9,-999.000,9, -999.00,9,  -999.0,9,    -9.0,-999.000,9,-999.000,   52.53,2,   15.09,2,   24.90,-999.0000,9,-999.0000,9,-999.0000,9,-999.0000,9,-999.0000,9,-999.0000,9,     -999.0,     -999.0,9,     -999.0,9,     -999.0,9,     -999.0,9,     -999.0,9,     -999.0,9, -999.00,9,   4.2893,-999.0000,-999.000
325020060213,       P16N,      83,          2,         20,         20,2,20060330,       0313,    56.2198,  -153.1897,       1084,    49.8,   4.2407,  32.1013,2,  32.1180,2,    320.7,2,   318.0,2,   24.00,2,   11.70,2,    0.10,2,    1.29,2,-999.000,9,-999.000,9,-999.000,9,  2038.1,2,  2165.6,2,   -999.0,9,  -999.00,   7.7190,2,    25.00,-999.000,9,-999.000,-999.0000,9,-999.000,9, -999.00,9,  -999.0,9,    -9.0,-999.000,9,-999.000,   51.80,2,   16.13,2,   49.80,-999.0000,9,-999.0000,9,-999.0000,9,-999.0000,9,-999.0000,9,-999.0000,9,     -999.0,     -999.0,9,     -999.0,9,     -999.0,9,     -999.0,9,     -999.0,9,     -999.0,9, -999.00,9,   4.2374,-999.0000,-999.000
325020060213,       P16N,      83,          2,         19,         19,2,20060330,       0313,    56.2198,  -153.1897,       1084,    74.0,   4.2876,  32.1650,2,  32.1844,2,    313.6,2,   310.9,2,   24.40,2,   12.20,2,    0.10,2,    1.32,2,   4.938,2,   2.773,2,-999.000,5,  2044.9,2,  2168.8,2,   -999.0,9,  -999.00,   7.7136,2,    25.00,-999.000,9,-999.000,-999.0000,9,-999.000,9, -999.00,5,    -6.5,2,     3.1,-999.000,9,-999.000,   51.96,2,   16.72,2,   74.00,-999.0000,9,-999.0000,9,-999.0000,9,-999.0000,9,-999.0000,9,-999.0000,9,     -999.0,     -999.0,9,     -999.0,9,     -999.0,9,     -999.0,9,     -999.0,9,     -999.0,9, -999.00,9,   4.2826,-999.0000,-999.000
325020060213,       P16N,      83,          2,         18,         18,2,20060330,       0313,    56.2198,  -153.1897,       1084,    89.2,   4.6290,  32.2574,2,  32.2781,2,    306.0,2,   303.6,2,   24.30,2,   12.50,2,    0.10,2,    1.34,2,-999.000,9,-999.000,9,-999.000,9,  2049.4,2,  2172.0,2,   -999.0,9,  -999.00,   7.7112,2,    25.00,-999.000,9,-999.000,-999.0000,9,-999.000,9, -999.00,9,  -999.0,9,    -9.0,-999.000,9,-999.000,   51.86,2,   16.96,2,   89.20,-999.0000,9,-999.0000,9,-999.0000,9,-999.0000,9,-999.0000,9,-999.0000,9,     -999.0,     -999.0,9,     -999.0,9,     -999.0,9,     -999.0,9,     -999.0,9,     -999.0,9, -999.00,9,   4.6228,-999.0000,-999.000
325020060213,       P16N,      83,          2,         17,         17,2,20060330,       0313,    56.2198,  -153.1897,       1084,   109.5,   4.7034,  32.4087,2,  32.4197,2,    283.6,2,   285.3,2,   26.90,2,   14.40,2,    0.10,2,    1.43,2,-999.000,9,-999.000,9,-999.000,9,  2066.9,2,  2181.7,6,   -999.0,9,  -999.00,   7.6829,2,    25.00,-999.000,9,-999.000,-999.0000,9,-999.000,9, -999.00,9,  -999.0,9,    -9.0,-999.000,9,-999.000,   50.95,2,   18.42,2,  109.50,-999.0000,9,-999.0000,9,-999.0000,9,-999.0000,9,-999.0000,9,-999.0000,9,     -999.0,     -999.0,9,     -999.0,9,     -999.0,9,     -999.0,9,     -999.0,9,     -999.0,9, -999.00,9,   4.6957,-999.0000,-999.000
325020060213,       P16N,      83,          2,         16,         16,2,20060330,       0313,    56.2198,  -153.1897,       1084,   123.8,   4.7647,  32.5272,2,  32.5388,2,    271.1,2,   273.6,2,   29.10,2,   15.60,2,    0.10,2,    1.51,2,   4.539,2,   2.556,2,-999.000,5,  2079.7,2,  2189.8,2,   -999.0,9,  -999.00,   7.6636,2,    25.00,-999.000,9,-999.000,-999.0000,9,-999.000,9, -999.00,5,    -5.1,2,     3.4,-999.000,9,-999.000,   49.85,2,   19.52,2,  123.80,-999.0000,9,-999.0000,9,-999.0000,9,-999.0000,9,-999.0000,9,-999.0000,9,     -999.0,     -999.0,9,     -999.0,9,     -999.0,9,     -999.0,9,     -999.0,9,     -999.0,9, -999.00,9,   4.7558,-999.0000,-999.000
325020060213,       P16N,      83,          2,         15,         15,2,20060330,       0313,    56.2198,  -153.1897,       1084,   149.6,   4.7326,  32.5912,2,  32.6165,2,    264.9,2,   263.8,2,   31.40,2,   16.90,2,    0.10,2,    1.59,2,   4.440,2,   2.518,2,-999.000,5,  2089.7,2,  2193.5,2,   -999.0,9,  -999.00,   7.6465,2,    25.00,-999.000,9,-999.000,-999.0000,9,-999.000,9, -999.00,5,    -5.4,2,     3.7,-999.000,9,-999.000,   48.95,2,   21.12,2,  149.60,-999.0000,9,-999.0000,9,-999.0000,9,-999.0000,9,-999.0000,9,-999.0000,9,     -999.0,     -999.0,9,     -999.0,9,     -999.0,9,     -999.0,9,     -999.0,9,     -999.0,9, -999.00,9,   4.7218,-999.0000,-999.000
325020060213,       P16N,      83,          2,         14,         14,2,20060330,       0313,    56.2198,  -153.1897,       1084,   173.8,   5.1540,  32.8781,2,  32.9264,2,    222.3,2,   214.9,2,   37.40,2,   21.00,2,    0.10,2,    1.78,2,-999.000,9,-999.000,9,-999.000,9,  2130.2,2,  2215.3,2,   -999.0,9,  -999.00,   7.5851,2,    25.00,-999.000,9,-999.000,-999.0000,9,-999.000,9, -999.00,5,   -17.1,2,     3.4,-999.000,9,-999.000,   46.99,2,   24.97,2,  173.80,-999.0000,9,-999.0000,9,-999.0000,9,-999.0000,9,-999.0000,9,-999.0000,9,     -999.0,     -999.0,9,     -999.0,9,     -999.0,9,     -999.0,9,     -999.0,9,     -999.0,9, -999.00,9,   5.1408,-999.0000,-999.000
325020060213,       P16N,      83,          2,         13,         13,2,20060330,       0313,    56.2198,  -153.1897,       1084,   199.8,   5.9087,  33.4930,2,  33.5263,2,    139.0,2,   141.8,2,   46.80,2,   28.60,2,    0.00,2,    2.15,2,   3.437,2,   1.833,2,-999.000,5,  2194.0,2,  2246.9,2,   -999.0,9,  -999.00,   7.4770,2,    25.00,-999.000,9,-999.000,-999.0000,9,-999.000,9, -999.00,5,   -37.3,2,     2.8,-999.000,9,-999.000,   46.57,2,   32.61,2,  199.80,-999.0000,9,-999.0000,9,-999.0000,9,-999.0000,9,-999.0000,9,-999.0000,9,     -999.0,     -999.0,9,     -999.0,9,     -999.0,9,     -999.0,9,     -999.0,9,     -999.0,9, -999.00,9,   5.8921,-999.0000,-999.000
325020060213,       P16N,      83,          2,         12,         12,2,20060330,       0313,    56.2198,  -153.1897,       1084,   249.2,   5.4062,  33.8054,2,  33.8127,2,     93.2,2,    93.0,2,   61.70,2,   34.80,2,    0.00,2,    2.52,2,-999.000,9,-999.000,9,-999.000,9,  2247.7,2,  2272.1,6,   -999.0,9,  -999.00,   7.3811,2,    25.00,-999.000,9,-999.000,-999.0000,9,-999.000,9, -999.00,5,   -41.1,2,     3.5,-999.000,9,-999.000,   46.08,2,   38.92,2,  249.20,-999.0000,9,-999.0000,9,-999.0000,9,-999.0000,9,-999.0000,9,-999.0000,9,     -999.0,     -999.0,9,     -999.0,9,     -999.0,9,     -999.0,9,     -999.0,9,     -999.0,9, -999.00,9,   5.3863,-999.0000,-999.000
325020060213,       P16N,      83,          2,         11,         11,2,20060330,       0313,    56.2198,  -153.1897,       1084,   299.4,   5.0690,  33.8746,2,  33.8808,2,     73.7,2,    73.7,2,   69.30,2,   37.50,2,    0.00,2,    2.70,2,   2.429,2,   1.215,2,-999.000,5,  2267.9,2,  2280.9,2,   -999.0,9,  -999.00,   7.3425,2,    25.00,-999.000,9,-999.000,-999.0000,9,-999.000,9, -999.00,5,   -63.6,2,     3.1,-999.000,9,-999.000,   45.41,2,   41.78,2,  299.40,-999.0000,9,-999.0000,9,-999.0000,9,-999.0000,9,-999.0000,9,-999.0000,9,     -999.0,     -999.0,9,     -999.0,9,     -999.0,9,     -999.0,9,     -999.0,9,     -999.0,9, -999.00,9,   5.0457,-999.0000,-999.000
325020060213,       P16N,      83,          2,         10,         10,2,20060330,       0313,    56.2198,  -153.1897,       1084,   349.4,   4.7328,  33.8931,2,  33.9053,2,     63.1,2,    64.4,2,   74.10,2,   39.30,2,    0.00,2,    2.82,2,-999.000,9,-999.000,9,-999.000,9,  2281.1,2,  2288.1,2,   -999.0,9,  -999.00,   7.3149,2,    25.00,-999.000,9,-999.000,-999.0000,9,-999.000,9, -999.00,5,   -74.1,2,     2.9,-999.000,9,-999.000,   45.03,2,   42.90,2,  349.40,-999.0000,9,-999.0000,9,-999.0000,9,-999.0000,9,-999.0000,9,-999.0000,9,     -999.0,     -999.0,9,     -999.0,9,     -999.0,9,     -999.0,9,     -999.0,9,     -999.0,9, -999.00,9,   4.7064,-999.0000,-999.000
325020060213,       P16N,      83,          2,          9,          9,2,20060330,       0313,    56.2198,  -153.1897,       1084,   400.0,   4.5415,  33.9545,2,  33.9610,2,     47.5,2,    48.3,2,   81.70,2,   41.00,2,    0.00,2,    2.95,2,   1.823,2,   0.902,2,-999.000,5,  2298.1,2,  2296.2,2,   -999.0,9,  -999.00,   7.2913,2,    25.00,-999.000,9,-999.000,-999.0000,9,-999.000,9, -999.00,5,   -93.5,2,     2.8,-999.000,9,-999.000,   44.46,2,   45.13,2,  400.00,-999.0000,9,-999.0000,9,-999.0000,9,-999.0000,9,-999.0000,9,-999.0000,9,     -999.0,     -999.0,9,     -999.0,9,     -999.0,9,     -999.0,9,     -999.0,9,     -999.0,9, -999.00,9,   4.5117,-999.0000,-999.000
325020060213,       P16N,      83,          2,          8,          8,2,20060330,       0313,    56.2198,  -153.1897,       1084,   450.5,   4.3949,  33.9838,2,  33.9895,2,     39.8,2,    40.1,2,   86.00,2,   42.00,2,    0.00,2,    3.01,2,   1.626,2,   0.796,2,-999.000,5,  2308.2,2,  2302.5,2,   -999.0,9,  -999.00,   7.2807,6,    25.00,-999.000,9,-999.000,-999.0000,9,-999.000,9, -999.00,5,  -102.9,2,     3.0,-999.000,9,-999.000,   44.39,2,   45.50,2,  450.50,-999.0000,9,-999.0000,9,-999.0000,9,-999.0000,9,-999.0000,9,-999.0000,9,     -999.0,     -999.0,9,     -999.0,9,     -999.0,9,     -999.0,9,     -999.0,9,     -999.0,9, -999.00,9,   4.3617,-999.0000,-999.000
325020060213,       P16N,      83,          2,          7,          7,2,20060330,       0313,    56.2198,  -153.1897,       1084,   500.1,   4.3213,  34.0072,2,  34.0142,2,     35.4,2,    34.9,2,   89.50,2,   42.40,2,    0.00,2,    3.05,2,   1.411,2,   0.709,2,-999.000,5,  2313.5,2,  2306.2,2,   -999.0,9,  -999.00,   7.2731,2,    25.00,-999.000,9,-999.000,-999.0000,9,-999.000,9, -999.00,5,  -109.6,2,     2.0,-999.000,9,-999.000,   44.19,2,   46.07,2,  500.10,-999.0000,9,-999.0000,9,-999.0000,9,-999.0000,9,-999.0000,9,-999.0000,9,     -999.0,     -999.0,9,     -999.0,9,     -999.0,9,     -999.0,9,     -999.0,9,     -999.0,9, -999.00,9,   4.2845,-999.0000,-999.000
325020060213,       P16N,      83,          2,          6,          6,2,20060330,       0313,    56.2198,  -153.1897,       1084,   600.1,   4.1113,  34.0624,2,  34.0685,2,     25.7,2,    25.7,2,   97.80,2,   43.50,2,    0.00,2,    3.13,2,   1.066,6,   0.490,6,-999.000,5,  2327.2,2,  2315.5,2,   -999.0,9,  -999.00,   7.2637,2,    25.00,-999.000,9,-999.000,-999.0000,9,-999.000,9, -999.00,5,  -124.7,2,     2.0,-999.000,9,-999.000,   43.33,2,   47.71,2,  600.10,-999.0000,9,-999.0000,9,-999.0000,9,-999.0000,9,-999.0000,9,-999.0000,9,     -999.0,     -999.0,9,     -999.0,9,     -999.0,9,     -999.0,9,     -999.0,9,     -999.0,9, -999.00,9,   4.0677,-999.0000,-999.000
325020060213,       P16N,      83,          2,          5,          5,2,20060330,       0313,    56.2198,  -153.1897,       1084,   700.0,   3.8054,  34.1378,2,  34.1409,2,     18.4,2,    18.4,2,  109.60,6,   44.10,6,    0.00,6,    3.13,6,   0.694,2,   0.295,2,-999.000,5,  2341.9,2,  2330.4,2,   -999.0,9,  -999.00,   7.2616,2,    25.00,-999.000,9,-999.000,-999.0000,9,-999.000,9, -999.00,5,  -145.4,2,     1.8,-999.000,9,-999.000,   42.58,2,   47.85,2,  700.00,-999.0000,9,-999.0000,9,-999.0000,9,-999.0000,9,-999.0000,9,-999.0000,9,     -999.0,     -999.0,9,     -999.0,9,     -999.0,9,     -999.0,9,     -999.0,9,     -999.0,9, -999.00,9,   3.7555,-999.0000,-999.000
325020060213,       P16N,      83,          2,          4,          4,2,20060330,       0313,    56.2198,  -153.1897,       1084,   799.7,   3.6863,  34.1967,2,  34.2019,4,     16.6,2,    16.5,2,  116.50,6,   44.20,6,    0.00,6,    3.15,6,-999.000,9,-999.000,9,-999.000,9,  2348.9,2,  2341.7,6,   -999.0,9,  -999.00,   7.2722,2,    25.00,-999.000,9,-999.000,-999.0000,9,-999.000,9, -999.00,5,  -164.4,2,     3.2,-999.000,9,-999.000,   42.61,2,   48.49,2,  799.70,-999.0000,9,-999.0000,9,-999.0000,9,-999.0000,9,-999.0000,9,-999.0000,9,     -999.0,     -999.0,9,     -999.0,9,     -999.0,9,     -999.0,9,     -999.0,9,     -999.0,9, -999.00,9,   3.6294,-999.0000,-999.000
325020060213,       P16N,      83,          2,          3,          3,2,20060330,       0313,    56.2198,  -153.1897,       1084,   899.3,   3.4507,  34.2567,2,  34.2617,4,     15.4,2,    15.3,2,  125.20,2,   44.20,2,    0.00,2,    3.24,2,-999.000,9,-999.000,9,-999.000,9,  2359.3,2,  2353.0,2,   -999.0,9,  -999.00,   7.2784,2,    25.00,-999.000,9,-999.000,-999.0000,9,-999.000,9, -999.00,5,  -181.1,2,     2.9,-999.000,9,-999.000,   40.36,2,   48.06,2,  899.30,-999.0000,9,-999.0000,9,-999.0000,9,-999.0000,9,-999.0000,9,-999.0000,9,     -999.0,     -999.0,9,     -999.0,9,     -999.0,9,     -999.0,9,     -999.0,9,     -999.0,9, -999.00,9,   3.3875,-999.0000,-999.000
325020060213,       P16N,      83,          2,          2,          2,2,20060330,       0313,    56.2198,  -153.1897,       1084,   999.8,   3.2621,  34.3034,2,  34.3094,4,     15.2,2,    15.2,2,  132.20,6,   44.40,6,    0.00,6,    3.19,6,   0.180,2,   0.070,2,-999.000,5,  2365.4,6,  2362.3,2,   -999.0,9,  -999.00,   7.2827,2,    25.00,-999.000,9,-999.000,-999.0000,9,-999.000,9, -999.00,9,  -999.0,9,    -9.0,-999.000,9,-999.000,   40.26,2,   48.61,2,  999.80,-999.0000,9,-999.0000,9,-999.0000,9,-999.0000,9,-999.0000,9,-999.0000,9,     -999.0,     -999.0,9,     -999.0,9,     -999.0,9,     -999.0,9,     -999.0,9,     -999.0,9, -999.00,9,   3.1925,-999.0000,-999.000
325020060213,       P16N,      83,          2,          1,          1,2,20060330,       0313,    56.2198,  -153.1897,       1084,  1133.7,   2.9011,  34.3817,2,  34.3884,4,     16.0,2,    16.3,2,  144.80,6,   44.50,6,    0.00,6,    3.23,6,   0.079,2,   0.015,2,-999.000,5,  2377.8,6,  2378.8,2,   -999.0,9,  -999.00,   7.2924,2,    25.00,-999.000,9,-999.000,-999.0000,9,-999.000,9, -999.00,9,  -999.0,9,    -9.0,-999.000,9,-999.000,   40.11,2,   48.22,2, 1133.70,-999.0000,9,-999.0000,9,-999.0000,9,-999.0000,9,-999.0000,9,-999.0000,9,     -999.0,     -999.0,9,     -999.0,9,     -999.0,9,     -999.0,9,     -999.0,9,     -999.0,9, -999.00,9,   2.8240,-999.0000,-999.000