BOTTLE,20170720CCHSIOCBG
EXPOCODE,SECT_ID,STNNBR,CASTNO,SAMPNO,BTLNBR,BTLNBR_FLAG_W,DATE,TIME,LATITUDE,LONGITUDE,DEPTH,CTDPRS,CTDTMP,CTDSAL,CTDSAL_FLAG_W,SALNTY,SALNTY_FLAG_W,CTDOXY,CTDOXY_FLAG_W,OXYGEN,OXYGEN_FLAG_W,SILCAT,SILCAT_FLAG_W,NITRAT,NITRAT_FLAG_W,NITRIT,NITRIT_FLAG_W,PHSPHT,PHSPHT_FLAG_W,CFC-11,CFC-11_FLAG_W,CFC-12,CFC-12_FLAG_W,CFC113,CFC113_FLAG_W,TCARBN,TCARBN_FLAG_W,ALKALI,ALKALI_FLAG_W,FCO2,FCO2_FLAG_W,FCO2TMP,PH_TOT,PH_TOT_FLAG_W,PH_TMP,TRITUM,TRITUM_FLAG_W,TRITER,HELIUM,HELIUM_FLAG_W,DELHE3,DELHE3_FLAG_W,DELC13,DELC13_FLAG_W,DELC14,DELC14_FLAG_W,C14ERR,NEON,NEON_FLAG_W,NEONER,DOC,DOC_FLAG_W,TDN,TDN_FLAG_W,CTDRAW,CDOM325,CDOM325_FLAG_W,CDOM340,CDOM340_FLAG_W,CDOM380,CDOM380_FLAG_W,CDOM412,CDOM412_FLAG_W,CDOMSL,CDOMSL_FLAG_W,CDOMSN,CDOMSN_FLAG_W,DCNS,ARABI,ARABI_FLAG_W,FUCO,FUCO_FLAG_W,GALA,GALA_FLAG_W,GLUC,GLUC_FLAG_W,MAN,MAN_FLAG_W,RHAM,RHAM_FLAG_W,BRDU,BRDU_FLAG_W,THETA,HELIER,DELHER
,,,,,,,,,,,METERS,DBAR,ITS-90,PSS-78,,PSS-78,,UMOL/KG,,UMOL/KG,,UMOL/KG,,UMOL/KG,,UMOL/KG,,UMOL/KG,,PMOL/KG,,PMOL/KG,,PMOL/KG,,UMOL/KG,,UMOL/KG,,UATM,,DEG C,,,DEG C,TU,,TU,NMOL/KG,,PERCNT,,/MILLE,,/MILLE,,/MILLE,NMOL/KG,,NMOL/KG,UMOL/KG,,UMOL/KG,,DBAR,1/M,,1/M,,1/M,,1/M,,1/NM,,1/NM,,NMOL/KG,NMOL/KG,,NMOL/KG,,NMOL/KG,,NMOL/KG,,NMOL/KG,,NMOL/KG,,PMOL/L/H,,DEG C,NMOL/KG,PERCNT
325020060213,       P16N,      62,          1,         36,         36,2,20060320,       2018,         40,       -152,       5177,     4.5,  10.5383,  33.2907,2,  33.2912,2,    281.3,2,   281.8,2,    1.10,2,    2.20,2,    0.10,2,    0.39,2,   3.615,2,   2.114,2,-999.000,5,  2016.9,6,  2221.2,2,    494.5,2,    20.00,   7.8892,6,    25.00,-999.000,9,-999.000,-999.0000,9,-999.000,9, -999.00,5,    33.8,2,     3.5,-999.000,9,-999.000,   56.55,2,    6.75,2,    4.50,   0.1000,2,   0.0670,2,   0.0200,2,   0.0060,4,   0.0289,2,   0.0281,2,     -999.0,     -999.0,9,     -999.0,9,     -999.0,9,     -999.0,9,     -999.0,9,     -999.0,9,   10.83,2,  10.5378,-999.0000,-999.000
325020060213,       P16N,      62,          1,         35,         35,2,20060320,       2018,         40,       -152,       5177,    15.5,  10.5636,  33.2983,2,  33.2972,2,    279.9,2,   282.0,2,    1.20,2,    2.20,2,    0.10,2,    0.39,2,   3.522,2,   2.044,2,-999.000,5,  2015.7,2,  2219.6,2,    492.6,2,    20.00,   7.8893,2,    25.00,-999.000,9,-999.000,-999.0000,9,-999.000,9, -999.00,9,  -999.0,9,    -9.0,-999.000,9,-999.000,   54.43,2,    6.57,2,   15.50,   0.0970,2,   0.0650,2,   0.0190,2,   0.0060,3,   0.0289,2,   0.0282,2,     -999.0,     -999.0,9,     -999.0,9,     -999.0,9,     -999.0,9,     -999.0,9,     -999.0,9,   13.44,2,  10.5618,-999.0000,-999.000
325020060213,       P16N,      62,          1,         34,         34,2,20060320,       2018,         40,       -152,       5177,    35.2,  10.8528,  33.3873,2,  33.3830,2,    278.0,2,   145.8,4,    1.30,2,    1.80,2,    0.10,2,    0.35,2,   3.504,2,   2.035,2,-999.000,5,  2015.7,2,  2221.6,2,    485.6,2,    20.00,   7.8945,2,    25.00,-999.000,9,-999.000,-999.0000,9,-999.000,9, -999.00,5,    43.1,2,     3.4,-999.000,9,-999.000,   54.39,2,    6.16,2,   35.20,   0.0990,2,   0.0660,2,   0.0200,2,   0.0070,3,   0.0282,2,   0.0276,2,     -999.0,     -999.0,9,     -999.0,9,     -999.0,9,     -999.0,9,     -999.0,9,     -999.0,9,   10.29,2,  10.8486,-999.0000,-999.000
325020060213,       P16N,      62,          1,         33,         33,2,20060320,       2018,         40,       -152,       5177,    60.0,  11.4431,  33.5747,2,  33.5735,2,    273.9,2,   273.2,2,    1.90,2,    1.10,2,    0.10,2,    0.27,2,   3.372,2,   1.980,2,-999.000,5,  2015.2,2,  2236.5,3,    477.0,2,    20.00,   7.8996,2,    25.00,-999.000,9,-999.000,-999.0000,9,-999.000,9, -999.00,9,  -999.0,9,    -9.0,-999.000,9,-999.000,   54.23,2,    4.95,2,   60.00,   0.0940,2,   0.0630,2,   0.0200,2,   0.0070,3,   0.0281,2,   0.0276,2,     -999.0,     -999.0,9,     -999.0,9,     -999.0,9,     -999.0,9,     -999.0,9,     -999.0,9,    4.65,2,  11.4357,-999.0000,-999.000
325020060213,       P16N,      62,          1,         32,         32,2,20060320,       2018,         40,       -152,       5177,    85.0,  11.6196,  33.6514,2,  33.6531,2,    267.3,2,   270.1,2,    2.40,2,    1.10,2,    0.10,2,    0.26,2,   3.357,2,   1.976,2,-999.000,5,  2017.8,2,  2227.5,2,    476.0,2,    20.00,   7.9008,2,    25.00,-999.000,9,-999.000,-999.0000,9,-999.000,9, -999.00,5,    49.3,2,     3.3,-999.000,9,-999.000,   53.98,2,    5.60,2,   85.00,   0.0900,2,   0.0610,2,   0.0190,2,   0.0070,3,   0.0284,2,   0.0278,2,     -999.0,     -999.0,9,     -999.0,9,     -999.0,9,     -999.0,9,     -999.0,9,     -999.0,9,    3.59,2,  11.6089,-999.0000,-999.000
325020060213,       P16N,      62,          1,         31,         31,2,20060320,       2018,         40,       -152,       5177,   109.7,  11.4450,  33.6547,2,  33.6525,2,    264.3,2,   265.0,2,    2.80,2,    2.00,2,    0.10,2,    0.32,2,   3.352,2,   1.936,2,-999.000,5,  2023.7,2,  2229.2,2,    491.6,2,    20.00,   7.8896,2,    25.00,-999.000,9,-999.000,-999.0000,9,-999.000,9, -999.00,5,    50.8,2,     3.5,-999.000,9,-999.000,   52.93,2,    6.43,2,  109.70,   0.0940,2,   0.0630,2,   0.0210,2,   0.0090,3,   0.0272,2,   0.0270,2,     -999.0,     -999.0,9,     -999.0,9,     -999.0,9,     -999.0,9,     -999.0,9,     -999.0,9,    1.47,2,  11.4313,-999.0000,-999.000
325020060213,       P16N,      62,          1,         30,         30,2,20060320,       2018,         40,       -152,       5177,   135.8,  10.8530,  34.0828,2,  34.0852,2,    224.3,2,   227.6,2,   10.80,2,   11.30,2,    0.00,2,    0.77,2,   3.410,2,   1.929,2,-999.000,5,  2081.5,2,  2255.0,2,    613.2,2,    20.00,   7.8122,2,    25.00,-999.000,9,-999.000,-999.0000,9,-999.000,9, -999.00,5,    51.5,2,     3.1,-999.000,9,-999.000,   51.94,2,   15.47,2,  135.80,   0.0810,2,   0.0530,2,   0.0170,2,   0.0070,3,   0.0294,2,   0.0294,2,     -999.0,     -999.0,9,     -999.0,9,     -999.0,9,     -999.0,9,     -999.0,9,     -999.0,9,    2.00,2,  10.8366,-999.0000,-999.000
325020060213,       P16N,      62,          1,         29,         29,2,20060320,       2018,         40,       -152,       5177,   174.7,  10.2403,  34.1439,2,  34.1448,2,    219.2,2,   220.2,2,   15.30,2,   14.30,2,    0.00,2,    0.95,2,   3.381,2,   1.908,2,-999.000,5,  2100.0,2,  2263.3,6,    659.6,2,    20.00,   7.7827,2,    25.00,-999.000,9,-999.000,-999.0000,9,-999.000,9, -999.00,5,    45.6,2,     3.2,-999.000,9,-999.000,   50.50,2,   18.05,2,  174.70,   0.0830,2,   0.0540,2,   0.0180,2,   0.0080,2,   0.0292,2,   0.0294,2,     -999.0,     -999.0,9,     -999.0,9,     -999.0,9,     -999.0,9,     -999.0,9,     -999.0,9,    2.07,2,  10.2199,-999.0000,-999.000
325020060213,       P16N,      62,          1,         28,         28,2,20060320,       2018,         40,       -152,       5177,   225.3,   9.4433,  34.0983,2,  34.0973,2,    215.4,2,   217.5,2,   19.80,2,   16.50,2,    0.00,2,    1.10,2,   3.442,2,   1.926,2,-999.000,5,  2113.8,2,  2266.2,2,    708.7,2,    20.00,   7.7539,2,    25.00,-999.000,9,-999.000,-999.0000,9,-999.000,9, -999.00,5,    38.7,2,     3.4,-999.000,9,-999.000,   48.58,2,   20.88,2,  225.30,   0.0910,2,   0.0590,2,   0.0210,2,   0.0100,2,   0.0277,2,   0.0281,2,     -999.0,     -999.0,9,     -999.0,9,     -999.0,9,     -999.0,9,     -999.0,9,     -999.0,9, -999.00,9,   9.4183,-999.0000,-999.000
325020060213,       P16N,      62,          1,         27,         27,2,20060320,       2018,         40,       -152,       5177,   274.7,   8.7488,  34.0468,2,  34.0470,2,    211.6,2,   210.9,2,   23.90,2,   18.40,2,    0.00,2,    1.23,2,   3.395,2,   1.879,2,-999.000,5,  2126.3,2,  2267.5,2,    760.5,2,    20.00,   7.7241,2,    25.00,-999.000,9,-999.000,-999.0000,9,-999.000,9, -999.00,5,    37.8,2,     4.0,-999.000,9,-999.000,   46.63,2,   22.32,2,  274.70,   0.1030,2,   0.0680,2,   0.0260,2,   0.0150,3,   0.0255,2,   0.0262,2,     -999.0,     -999.0,9,     -999.0,9,     -999.0,9,     -999.0,9,     -999.0,9,     -999.0,9, -999.00,9,   8.7197,-999.0000,-999.000
325020060213,       P16N,      62,          1,         26,         26,2,20060320,       2018,         40,       -152,       5177,   324.6,   8.0238,  34.0208,2,  34.0193,2,    184.5,2,   186.2,2,   31.20,2,   22.30,2,    0.00,2,    1.47,2,   3.204,2,   1.734,2,-999.000,5,  2152.3,2,  2272.6,2,    888.0,2,    20.00,   7.6649,2,    25.00,-999.000,9,-999.000,-999.0000,9,-999.000,9, -999.00,5,    18.0,2,     3.1,-999.000,9,-999.000,   44.60,2,   26.66,2,  324.60,   0.1150,2,   0.0770,2,   0.0320,2,   0.0190,2,   0.0232,2,   0.0244,2,    441.706,    36.5592,2,     32.159,2,    79.2018,2,    175.876,2,    85.4102,2,       32.5,2, -999.00,9,   7.9911,-999.0000,-999.000
325020060213,       P16N,      62,          1,         25,         25,9,20060320,       2018,         40,       -152,       5177,   375.8,   7.2362,  33.9908,2,-999.0000,9,    163.2,2,  -999.0,9, -999.00,9, -999.00,9, -999.00,9, -999.00,9,-999.000,9,-999.000,9,-999.000,9,  -999.0,9,  -999.0,9,   -999.0,9,  -999.00,-999.0000,9,  -999.00,-999.000,9,-999.000,-999.0000,9,-999.000,9, -999.00,5,  -999.0,5,    -9.0,-999.000,9,-999.000, -999.00,9, -999.00,9,  375.80,-999.0000,9,-999.0000,9,-999.0000,9,-999.0000,9,-999.0000,9,-999.0000,9,     -999.0,     -999.0,9,     -999.0,9,     -999.0,9,     -999.0,9,     -999.0,9,     -999.0,9, -999.00,9,   7.2004,-999.0000,-999.000
325020060213,       P16N,      62,          1,         24,         24,2,20060320,       2018,         40,       -152,       5177,   425.4,   6.6403,  33.9773,2,  33.9805,2,    145.8,2,   147.0,2,   47.10,2,   28.40,2,    0.00,2,    1.91,2,   2.721,2,   1.406,2,-999.000,5,  2197.6,2,  2278.3,2,   1156.0,2,    20.00,   7.5620,2,    25.00,-999.000,9,-999.000,-999.0000,9,-999.000,9, -999.00,5,   -25.7,2,     2.8,-999.000,9,-999.000,   43.56,2,   32.15,2,  425.40,   0.1410,2,   0.0970,2,   0.0440,2,   0.0280,2,   0.0192,2,   0.0212,2,     -999.0,     -999.0,9,     -999.0,9,     -999.0,9,     -999.0,9,     -999.0,9,     -999.0,9, -999.00,9,   6.6016,-999.0000,-999.000
325020060213,       P16N,      62,          1,         23,         23,2,20060320,       2018,         40,       -152,       5177,   474.3,   6.0560,  33.9771,2,  33.9786,2,    126.1,2,   126.9,2,   56.50,2,   31.20,2,    0.00,2,    2.15,2,   2.394,6,   1.213,6,-999.000,5,  2221.5,2,  2288.9,2,   1327.1,2,    20.00,   7.5085,2,    25.00,-999.000,9,-999.000,-999.0000,9,-999.000,9, -999.00,5,   -47.7,2,     3.2,-999.000,9,-999.000,   42.03,2,   35.62,2,  474.30,   0.1490,2,   0.1030,2,   0.0490,2,   0.0320,2,   0.0177,2,   0.0198,2,     -999.0,     -999.0,9,     -999.0,9,     -999.0,9,     -999.0,9,     -999.0,9,     -999.0,9, -999.00,9,   6.0149,-999.0000,-999.000
325020060213,       P16N,      62,          1,         22,         22,2,20060320,       2018,         40,       -152,       5177,   548.2,   5.2633,  33.9965,2,  33.9987,2,     99.0,2,    97.3,2,   71.20,2,   35.50,2,    0.00,2,    2.44,2,   1.832,2,   0.908,2,-999.000,5,  2255.8,2,  2306.8,2,   1619.8,6,    20.00,   7.4367,2,    25.00,-999.000,9,-999.000,-999.0000,9,-999.000,9, -999.00,5,   -78.2,2,     2.6,-999.000,9,-999.000,   41.71,2,   39.23,2,  548.20,   0.1620,2,   0.1130,2,   0.0560,2,   0.0380,2,   0.0162,2,   0.0183,2,     -999.0,     -999.0,9,     -999.0,9,     -999.0,9,     -999.0,9,     -999.0,9,     -999.0,9, -999.00,9,   5.2188,-999.0000,-999.000
325020060213,       P16N,      62,          1,         21,         21,2,20060320,       2018,         40,       -152,       5177,   649.5,   4.5123,  34.0658,2,  34.0650,2,     64.6,2,    65.4,2,   87.90,2,   39.30,2,    0.00,2,    2.71,2,   1.130,2,   0.543,2,-999.000,5,  2293.5,2,  2313.8,2,   1922.3,2,    20.00,   7.3663,2,    25.00,-999.000,9,-999.000,-999.0000,9,-999.000,9, -999.00,5,  -112.3,2,     3.1,-999.000,9,-999.000,   41.22,2,   43.50,2,  649.50,   0.1700,2,   0.1200,2,   0.0610,2,   0.0420,2,   0.0154,2,   0.0175,2,     -999.0,     -999.0,9,     -999.0,9,     -999.0,9,     -999.0,9,     -999.0,9,     -999.0,9, -999.00,9,   4.4628,-999.0000,-999.000
325020060213,       P16N,      62,          1,         20,         20,2,20060320,       2018,         40,       -152,       5177,   748.4,   4.0804,  34.1542,2,  34.1526,2,     40.1,2,    39.7,2,  103.10,2,   41.70,2,    0.00,2,    2.92,2,   0.537,2,   0.247,2,-999.000,5,  2323.7,2,  2334.2,2,   2167.3,2,    20.00,   7.3267,2,    25.00,-999.000,9,-999.000,-999.0000,9,-999.000,9, -999.00,5,  -153.8,2,     2.9,-999.000,9,-999.000,   40.81,2,   45.88,2,  748.40,   0.1760,2,   0.1250,2,   0.0650,2,   0.0460,2,   0.0146,3,   0.0165,4,     -999.0,     -999.0,9,     -999.0,9,     -999.0,9,     -999.0,9,     -999.0,9,     -999.0,9, -999.00,9,   4.0252,-999.0000,-999.000
325020060213,       P16N,      62,          1,         19,         19,2,20060320,       2018,         40,       -152,       5177,   848.9,   3.7055,  34.2305,2,  34.2316,2,     22.4,2,    21.5,2,  116.80,2,   43.40,2,    0.00,2,    3.04,2,   0.177,2,   0.081,2,-999.000,5,  2349.6,2,  2350.5,2,   -999.0,9,  -999.00,   7.2997,2,    25.00,-999.000,9,-999.000,-999.0000,9,-999.000,9, -999.00,5,  -168.3,2,     2.8,-999.000,9,-999.000,   39.90,2,   47.37,2,  848.90,   0.1780,2,   0.1270,2,   0.0680,2,   0.0490,2,   0.0142,3,   0.0160,3,     -999.0,     -999.0,9,     -999.0,9,     -999.0,9,     -999.0,9,     -999.0,9,     -999.0,9, -999.00,9,   3.6446,-999.0000,-999.000
325020060213,       P16N,      62,          1,         18,         18,2,20060320,       2018,         40,       -152,       5177,   949.1,   3.4163,  34.2863,2,  34.2851,2,     12.8,2,    12.6,2,  126.80,2,   44.00,2,    0.00,2,    3.11,2,   0.067,3,   0.023,3,-999.000,5,  2366.3,2,  2362.8,6,   -999.0,9,  -999.00,   7.2885,2,    25.00,-999.000,9,-999.000,-999.0000,9,-999.000,9, -999.00,9,  -999.0,9,    -9.0,-999.000,9,-999.000,   39.15,2,   47.80,2,  949.10,   0.1810,2,   0.1300,2,   0.0700,2,   0.0500,2,   0.0141,3,   0.0157,4,     -999.0,     -999.0,9,     -999.0,9,     -999.0,9,     -999.0,9,     -999.0,9,     -999.0,9, -999.00,9,   3.3495,-999.0000,-999.000
325020060213,       P16N,      62,          1,         17,         17,2,20060320,       2018,         40,       -152,       5177,  1101.2,   3.0404,  34.3655,2,  34.3638,2,      7.3,2,     7.1,2,  140.90,2,   44.70,2,    0.00,2,    3.17,2,   0.011,3,   0.000,2,-999.000,5,  2381.7,6,  2378.4,2,   -999.0,9,  -999.00,   7.2804,2,    25.00,-999.000,9,-999.000,-999.0000,9,-999.000,9, -999.00,9,  -999.0,9,    -9.0,-999.000,9,-999.000,   38.18,2,   48.24,2, 1101.20,   0.1820,2,   0.1300,2,   0.0710,2,   0.0520,2,   0.0137,3,   0.0153,3,     -999.0,     -999.0,9,     -999.0,9,     -999.0,9,     -999.0,9,     -999.0,9,     -999.0,9, -999.00,9,   2.9647,-999.0000,-999.000
325020060213,       P16N,      62,          1,         16,         16,2,20060320,       2018,         40,       -152,       5177,  1300.3,   2.7302,  34.4382,2,  34.4389,2,      7.7,2,     7.9,2,  152.10,2,   45.10,2,    0.00,2,    3.19,2,-999.000,9,-999.000,9,-999.000,9,  2394.0,2,  2393.7,2,   -999.0,9,  -999.00,   7.2896,2,    25.00,-999.000,9,-999.000,-999.0000,9,-999.000,9, -999.00,9,  -999.0,9,    -9.0,-999.000,9,-999.000,   37.56,2,   49.07,2, 1300.30,   0.1840,2,   0.1330,2,   0.0740,2,   0.0550,2,   0.0134,2,   0.0148,3,     -999.0,     -999.0,9,     -999.0,9,     -999.0,9,     -999.0,9,     -999.0,9,     -999.0,9, -999.00,9,   2.6417,-999.0000,-999.000
325020060213,       P16N,      62,          1,         15,         15,2,20060320,       2018,         40,       -152,       5177,  1499.8,   2.4942,  34.4937,2,  34.4927,2,     13.0,2,    13.0,2,  159.70,2,   44.80,2,    0.00,2,    3.17,2,   0.003,3,  -0.003,3,-999.000,5,  2399.7,2,  2402.8,2,   2310.0,2,    20.00,   7.3060,2,    25.00,-999.000,9,-999.000,-999.0000,9,-999.000,9, -999.00,9,  -999.0,9,    -9.0,-999.000,9,-999.000,   36.95,2,   48.07,2, 1499.80,   0.1800,2,   0.1290,2,   0.0710,2,   0.0520,2,   0.0135,4,   0.0151,4,     -999.0,     -999.0,9,     -999.0,9,     -999.0,9,     -999.0,9,     -999.0,9,     -999.0,9, -999.00,9,   2.3924,-999.0000,-999.000
325020060213,       P16N,      62,          1,         14,         14,2,20060320,       2018,         40,       -152,       5177,  1699.0,   2.2898,  34.5439,2,  34.5440,2,     27.4,2,    27.6,2,  164.50,2,   44.10,2,    0.00,2,    3.11,2,-999.000,9,-999.000,9,-999.000,9,  2396.3,2,  2411.4,2,   2156.8,2,    20.00,   7.3392,2,    25.00,-999.000,9,-999.000,-999.0000,9,-999.000,9, -999.00,9,  -999.0,9,    -9.0,-999.000,9,-999.000,   37.11,2,   47.84,2, 1699.00,   0.1720,2,   0.1220,2,   0.0670,2,   0.0490,2,   0.0136,4,   0.0154,4,     -999.0,     -999.0,9,     -999.0,9,     -999.0,9,     -999.0,9,     -999.0,9,     -999.0,9, -999.00,9,   2.1744,-999.0000,-999.000
325020060213,       P16N,      62,          1,         13,         13,2,20060320,       2018,         40,       -152,       5177,  1900.0,   2.0974,  34.5783,2,  34.5615,4,     42.7,2,    35.5,4,  166.60,2,   43.70,2,    0.00,2,    3.08,2,   0.016,3,   0.000,3,-999.000,5,  2393.1,2,  2415.6,2,   2055.2,2,    20.00,   7.3572,2,    25.00,-999.000,9,-999.000,-999.0000,9,-999.000,9, -999.00,9,  -999.0,9,    -9.0,-999.000,9,-999.000,   37.18,2,   47.89,2, 1900.00,   0.1710,2,   0.1220,2,   0.0660,2,   0.0480,2,   0.0137,4,   0.0154,4,     -999.0,     -999.0,9,     -999.0,9,     -999.0,9,     -999.0,9,     -999.0,9,     -999.0,9, -999.00,9,   1.9681,-999.0000,-999.000
325020060213,       P16N,      62,          1,         12,         12,2,20060320,       2018,         40,       -152,       5177,  2123.3,   1.9145,  34.6083,2,  34.6088,2,     59.3,2,    59.8,2,  171.70,2,   42.20,2,    0.00,2,    2.98,2,-999.000,9,-999.000,9,-999.000,9,  2384.9,2,  2425.7,3,   1832.0,2,    20.00,   7.4053,2,    25.00,-999.000,9,-999.000,-999.0000,9,-999.000,9, -999.00,9,  -999.0,9,    -9.0,-999.000,9,-999.000,   37.30,2,   46.07,2, 2123.30,   0.1570,2,   0.1110,2,   0.0590,2,   0.0430,2,   0.0141,4,   0.0162,4,     -999.0,     -999.0,9,     -999.0,9,     -999.0,9,     -999.0,9,     -999.0,9,     -999.0,9, -999.00,9,   1.7691,-999.0000,-999.000
325020060213,       P16N,      62,          1,         11,         11,2,20060320,       2018,         40,       -152,       5177,  2375.1,   1.7861,  34.6274,2,  34.6265,2,     74.7,2,    74.7,2,  171.70,2,   41.40,2,    0.00,2,    2.92,2,-999.000,9,-999.000,9,-999.000,9,  2377.4,2,  2428.9,3,   1707.6,2,    20.00,   7.4361,2,    25.00,-999.000,9,-999.000,-999.0000,9,-999.000,9, -999.00,9,  -999.0,9,    -9.0,-999.000,9,-999.000,   36.80,2,   45.13,2, 2375.10,   0.1490,2,   0.1040,2,   0.0550,2,   0.0390,2,   0.0144,2,   0.0166,3,     -999.0,     -999.0,9,     -999.0,9,     -999.0,9,     -999.0,9,     -999.0,9,     -999.0,9, -999.00,9,   1.6210,-999.0000,-999.000
325020060213,       P16N,      62,          1,         10,         10,2,20060320,       2018,         40,       -152,       5177,  2621.7,   1.6854,  34.6428,2,  34.6424,2,     89.1,2,    89.5,2,  169.70,2,   40.50,2,    0.00,2,    2.84,2,   0.011,3,   0.006,3,-999.000,5,  2368.9,2,  2427.2,2,   1574.0,6,    20.00,   7.4634,2,    25.00,-999.000,9,-999.000,-999.0000,9,-999.000,9, -999.00,9,  -999.0,9,    -9.0,-999.000,9,-999.000,   36.86,2,   44.72,2, 2621.70,   0.1440,2,   0.1000,2,   0.0520,2,   0.0380,2,   0.0145,4,   0.0169,4,     -999.0,     -999.0,9,     -999.0,9,     -999.0,9,     -999.0,9,     -999.0,9,     -999.0,9, -999.00,9,   1.5001,-999.0000,-999.000