BOTTLE,20170720CCHSIOCBG
EXPOCODE,SECT_ID,STNNBR,CASTNO,SAMPNO,BTLNBR,BTLNBR_FLAG_W,DATE,TIME,LATITUDE,LONGITUDE,DEPTH,CTDPRS,CTDTMP,CTDSAL,CTDSAL_FLAG_W,SALNTY,SALNTY_FLAG_W,CTDOXY,CTDOXY_FLAG_W,OXYGEN,OXYGEN_FLAG_W,SILCAT,SILCAT_FLAG_W,NITRAT,NITRAT_FLAG_W,NITRIT,NITRIT_FLAG_W,PHSPHT,PHSPHT_FLAG_W,CFC-11,CFC-11_FLAG_W,CFC-12,CFC-12_FLAG_W,CFC113,CFC113_FLAG_W,TCARBN,TCARBN_FLAG_W,ALKALI,ALKALI_FLAG_W,FCO2,FCO2_FLAG_W,FCO2TMP,PH_TOT,PH_TOT_FLAG_W,PH_TMP,TRITUM,TRITUM_FLAG_W,TRITER,HELIUM,HELIUM_FLAG_W,DELHE3,DELHE3_FLAG_W,DELC13,DELC13_FLAG_W,DELC14,DELC14_FLAG_W,C14ERR,NEON,NEON_FLAG_W,NEONER,DOC,DOC_FLAG_W,TDN,TDN_FLAG_W,CTDRAW,CDOM325,CDOM325_FLAG_W,CDOM340,CDOM340_FLAG_W,CDOM380,CDOM380_FLAG_W,CDOM412,CDOM412_FLAG_W,CDOMSL,CDOMSL_FLAG_W,CDOMSN,CDOMSN_FLAG_W,DCNS,ARABI,ARABI_FLAG_W,FUCO,FUCO_FLAG_W,GALA,GALA_FLAG_W,GLUC,GLUC_FLAG_W,MAN,MAN_FLAG_W,RHAM,RHAM_FLAG_W,BRDU,BRDU_FLAG_W,THETA,HELIER,DELHER
,,,,,,,,,,,METERS,DBAR,ITS-90,PSS-78,,PSS-78,,UMOL/KG,,UMOL/KG,,UMOL/KG,,UMOL/KG,,UMOL/KG,,UMOL/KG,,PMOL/KG,,PMOL/KG,,PMOL/KG,,UMOL/KG,,UMOL/KG,,UATM,,DEG C,,,DEG C,TU,,TU,NMOL/KG,,PERCNT,,/MILLE,,/MILLE,,/MILLE,NMOL/KG,,NMOL/KG,UMOL/KG,,UMOL/KG,,DBAR,1/M,,1/M,,1/M,,1/M,,1/NM,,1/NM,,NMOL/KG,NMOL/KG,,NMOL/KG,,NMOL/KG,,NMOL/KG,,NMOL/KG,,NMOL/KG,,PMOL/L/H,,DEG C,NMOL/KG,PERCNT
325020060213,       P16N,       9,          1,          8,          8,2,20060217,       1802,         -9,  -151.0003,       4079,  2800.9,   1.7427,  34.6788,2,  34.6780,2,    145.8,2,   146.0,2,  134.80,2,   36.50,2,    0.00,2,    2.56,2,-999.000,9,-999.000,9,-999.000,9,  2322.3,2,  2420.4,2,   -999.0,9,  -999.00,   7.5780,2,    25.00,-999.000,9,-999.000,-999.0000,9,-999.000,9, -999.00,9,  -999.0,9,    -9.0,-999.000,9,-999.000,   35.69,2,   40.38,2, 2800.90,   0.0960,2,   0.0600,2,   0.0240,2,   0.0130,2,   0.0257,2,   0.0277,2,     -999.0,     -999.0,9,     -999.0,9,     -999.0,9,     -999.0,9,     -999.0,9,     -999.0,9, -999.00,9,   1.5395,-999.0000,-999.000
325020060213,       P16N,       9,          1,          7,          7,2,20060217,       1802,         -9,  -151.0003,       4079,  3000.5,   1.6697,  34.6833,2,  34.6833,2,    149.9,2,   150.8,2,  134.90,2,   36.20,2,    0.00,2,    2.53,2,-999.000,9,-999.000,9,-999.000,9,  2319.4,2,  2419.9,2,   -999.0,9,  -999.00,-999.0000,9,  -999.00,-999.000,9,-999.000,-999.0000,9,-999.000,9, -999.00,9,  -999.0,9,    -9.0,-999.000,9,-999.000,   35.41,2,   39.28,2, 3000.50,   0.0930,2,   0.0580,2,   0.0220,2,   0.0110,2,   0.0274,2,   0.0291,2,     -999.0,     -999.0,9,     -999.0,9,     -999.0,9,     -999.0,9,     -999.0,9,     -999.0,9, -999.00,9,   1.4491,-999.0000,-999.000
325020060213,       P16N,       9,          1,          6,          6,2,20060217,       1802,         -9,  -151.0003,       4079,  3301.7,   1.5771,  34.6888,2,  34.6893,2,    156.4,2,   157.1,2,  135.00,2,   35.70,2,    0.00,2,    2.50,2,   0.002,2,   0.001,2,-999.000,5,  2315.9,2,  2419.3,6,   -999.0,9,  -999.00,-999.0000,9,  -999.00,-999.000,9,-999.000,-999.0000,9,-999.000,9, -999.00,9,  -999.0,9,    -9.0,-999.000,9,-999.000,   36.10,2,   39.43,2, 3301.70,   0.0910,2,   0.0560,2,   0.0210,2,   0.0110,2,   0.0280,2,   0.0298,2,     -999.0,     -999.0,9,     -999.0,9,     -999.0,9,     -999.0,9,     -999.0,9,     -999.0,9, -999.00,9,   1.3290,-999.0000,-999.000
325020060213,       P16N,       9,          1,          5,          5,2,20060217,       1802,         -9,  -151.0003,       4079,  3600.9,   1.4816,  34.6939,2,  34.6940,2,    165.3,2,   165.3,2,  132.40,6,   34.90,6,    0.00,6,    2.45,6,-999.000,9,-999.000,9,-999.000,9,  2307.1,2,  2413.0,2,   -999.0,9,  -999.00,-999.0000,9,  -999.00,-999.000,9,-999.000,-999.0000,9,-999.000,9, -999.00,9,  -999.0,9,    -9.0,-999.000,9,-999.000,   36.32,2,   38.39,2, 3600.90,   0.1040,2,   0.0680,2,   0.0280,2,   0.0160,2,   0.0239,2,   0.0254,2,     -999.0,     -999.0,9,     -999.0,9,     -999.0,9,     -999.0,9,     -999.0,9,     -999.0,9, -999.00,9,   1.2055,-999.0000,-999.000
325020060213,       P16N,       9,          1,          4,          4,2,20060217,       1802,         -9,  -151.0003,       4079,  3899.8,   1.4479,  34.6967,2,  34.6972,2,    169.8,2,   169.9,2,  131.00,6,   34.70,6,    0.00,6,    2.42,2,-999.000,9,-999.000,9,-999.000,9,  2301.1,2,  2407.6,2,   -999.0,9,  -999.00,   7.5772,2,    25.00,-999.000,9,-999.000,-999.0000,9,-999.000,9, -999.00,9,  -999.0,9,    -9.0,-999.000,9,-999.000,   38.06,2,   38.48,2, 3899.80,   0.0960,2,   0.0600,2,   0.0240,2,   0.0130,2,   0.0259,2,   0.0277,2,     -999.0,     -999.0,9,     -999.0,9,     -999.0,9,     -999.0,9,     -999.0,9,     -999.0,9, -999.00,9,   1.1412,-999.0000,-999.000
325020060213,       P16N,       9,          1,          3,          3,2,20060217,       1802,         -9,  -151.0003,       4079,  4199.5,   1.3916,  34.7006,2,  34.7027,2,    176.2,2,   177.4,2,  127.80,6,   34.10,6,    0.00,6,    2.38,6,   0.004,2,   0.000,2,-999.000,5,  2292.4,2,  2400.4,2,   -999.0,9,  -999.00,-999.0000,9,  -999.00,-999.000,9,-999.000,-999.0000,9,-999.000,9, -999.00,9,  -999.0,9,    -9.0,-999.000,9,-999.000,   38.95,2,   37.83,2, 4199.50,   0.0900,2,   0.0560,2,   0.0210,2,   0.0110,2,   0.0284,2,   0.0302,2,     -999.0,     -999.0,9,     -999.0,9,     -999.0,9,     -999.0,9,     -999.0,9,     -999.0,9, -999.00,9,   1.0538,-999.0000,-999.000
325020060213,       P16N,       9,          1,          1,          1,2,20060217,       1802,         -9,  -151.0003,       4079,  4325.7,   1.3673,  34.7025,2,  34.7024,2,    179.8,2,   182.4,2,  126.00,4,   33.80,4,    0.00,4,    2.36,4,  -0.001,2,   0.000,2,-999.000,5,  2290.7,6,  2396.0,2,   -999.0,9,  -999.00,-999.0000,9,  -999.00,-999.000,9,-999.000,-999.0000,9,-999.000,9, -999.00,9,  -999.0,9,    -9.0,-999.000,9,-999.000,   39.01,2,   37.58,2, 4325.70,   0.0920,2,   0.0570,2,   0.0210,2,   0.0110,2,   0.0277,2,   0.0296,2,     -999.0,     -999.0,9,     -999.0,9,     -999.0,9,     -999.0,9,     -999.0,9,     -999.0,9, -999.00,9,   1.0162,-999.0000,-999.000