BOTTLE,20170720CCHSIOCBG
EXPOCODE,SECT_ID,STNNBR,CASTNO,SAMPNO,BTLNBR,BTLNBR_FLAG_W,DATE,TIME,LATITUDE,LONGITUDE,DEPTH,CTDPRS,CTDTMP,CTDSAL,CTDSAL_FLAG_W,SALNTY,SALNTY_FLAG_W,CTDOXY,CTDOXY_FLAG_W,OXYGEN,OXYGEN_FLAG_W,SILCAT,SILCAT_FLAG_W,NITRAT,NITRAT_FLAG_W,NITRIT,NITRIT_FLAG_W,PHSPHT,PHSPHT_FLAG_W,CFC-11,CFC-11_FLAG_W,CFC-12,CFC-12_FLAG_W,CFC113,CFC113_FLAG_W,TCARBN,TCARBN_FLAG_W,ALKALI,ALKALI_FLAG_W,FCO2,FCO2_FLAG_W,FCO2TMP,PH_TOT,PH_TOT_FLAG_W,PH_TMP,TRITUM,TRITUM_FLAG_W,TRITER,HELIUM,HELIUM_FLAG_W,DELHE3,DELHE3_FLAG_W,DELC13,DELC13_FLAG_W,DELC14,DELC14_FLAG_W,C14ERR,NEON,NEON_FLAG_W,NEONER,DOC,DOC_FLAG_W,TDN,TDN_FLAG_W,CTDRAW,CDOM325,CDOM325_FLAG_W,CDOM340,CDOM340_FLAG_W,CDOM380,CDOM380_FLAG_W,CDOM412,CDOM412_FLAG_W,CDOMSL,CDOMSL_FLAG_W,CDOMSN,CDOMSN_FLAG_W,DCNS,ARABI,ARABI_FLAG_W,FUCO,FUCO_FLAG_W,GALA,GALA_FLAG_W,GLUC,GLUC_FLAG_W,MAN,MAN_FLAG_W,RHAM,RHAM_FLAG_W,BRDU,BRDU_FLAG_W,THETA,HELIER,DELHER
,,,,,,,,,,,METERS,DBAR,ITS-90,PSS-78,,PSS-78,,UMOL/KG,,UMOL/KG,,UMOL/KG,,UMOL/KG,,UMOL/KG,,UMOL/KG,,PMOL/KG,,PMOL/KG,,PMOL/KG,,UMOL/KG,,UMOL/KG,,UATM,,DEG C,,,DEG C,TU,,TU,NMOL/KG,,PERCNT,,/MILLE,,/MILLE,,/MILLE,NMOL/KG,,NMOL/KG,UMOL/KG,,UMOL/KG,,DBAR,1/M,,1/M,,1/M,,1/M,,1/NM,,1/NM,,NMOL/KG,NMOL/KG,,NMOL/KG,,NMOL/KG,,NMOL/KG,,NMOL/KG,,NMOL/KG,,PMOL/L/H,,DEG C,NMOL/KG,PERCNT
325020060213,       P16N,      20,          1,         35,         35,2,20060221,       1716,          0,  -150.9998,       4303,     5.4,  25.4861,  35.3868,2,  35.3857,2,    196.8,2,   197.3,2,    1.60,2,    5.70,2,    0.50,2,    0.57,2,   1.735,2,   1.091,2,-999.000,5,  2047.7,6,  2326.6,2,    365.5,2,    20.00,   8.0067,2,    25.00,   0.585,2,   0.004,   1.7182,2,   -1.51,2, -999.00,5,    65.9,2,     3.4,   6.797,2,   0.020,   61.38,2,   10.01,2,    5.40,-999.0000,9,-999.0000,9,-999.0000,9,-999.0000,9,-999.0000,9,-999.0000,9,     -999.0,     -999.0,9,     -999.0,9,     -999.0,9,     -999.0,9,     -999.0,9,     -999.0,9,    2.27,2,  25.4849,   0.0052,    0.14
325020060213,       P16N,      20,          1,         34,         34,2,20060221,       1716,          0,  -150.9998,       4303,    15.2,  25.4108,  35.3866,2,  35.3731,2,    195.2,2,   195.9,2,    1.70,2,    5.80,2,    0.60,2,    0.57,2,   1.745,2,   1.090,2,-999.000,5,  2048.6,2,  2326.7,2,    369.0,6,    20.00,   7.9979,2,    25.00,   0.486,2,   0.003,   1.7161,2,   -1.58,2, -999.00,9,  -999.0,9,    -9.0,   6.792,2,   0.020,   59.53,2,   10.21,2,   15.20,   0.0530,2,   0.0410,2,   0.0200,2,   0.0160,2,   0.0182,2,   0.0185,2,     -999.0,     -999.0,9,     -999.0,9,     -999.0,9,     -999.0,9,     -999.0,9,     -999.0,9,    1.12,2,  25.4075,   0.0051,    0.14
325020060213,       P16N,      20,          1,         33,         33,2,20060221,       1716,          0,  -150.9998,       4303,    35.1,  25.1714,  35.3795,2,  35.3672,2,    191.6,2,   190.2,2,    1.90,2,    6.20,2,    0.70,2,    0.61,2,   1.757,6,   1.097,6,-999.000,5,  2054.4,2,  2325.4,2,    380.6,2,    20.00,   7.9923,2,    25.00,   0.476,2,   0.003,   1.7162,2,   -1.33,2, -999.00,5,    64.9,2,     3.6,   6.802,2,   0.020,   58.47,2,   11.53,2,   35.10,-999.0000,9,-999.0000,9,-999.0000,9,-999.0000,9,-999.0000,9,-999.0000,9,     -999.0,     -999.0,9,     -999.0,9,     -999.0,9,     -999.0,9,     -999.0,9,     -999.0,9,    1.87,2,  25.1638,   0.0051,    0.14
325020060213,       P16N,      20,          1,         32,         32,2,20060221,       1716,          0,  -150.9998,       4303,    64.6,  23.6897,  35.2787,2,  35.2779,2,    169.6,2,   170.9,2,    2.80,2,    7.90,2,    0.90,2,    0.70,2,   1.819,2,   1.103,2,-999.000,5,  2067.9,2,  2319.8,2,    423.1,2,    20.00,   7.9518,2,    25.00,   0.485,2,   0.003,   1.7160,2,   -1.12,2, -999.00,5,    68.2,2,     4.0,   6.846,2,   0.021,   56.97,2,   12.84,2,   64.60,-999.0000,9,-999.0000,9,-999.0000,9,-999.0000,9,-999.0000,9,-999.0000,9,     -999.0,     -999.0,9,     -999.0,9,     -999.0,9,     -999.0,9,     -999.0,9,     -999.0,9,    1.26,2,  23.6762,   0.0051,    0.14
325020060213,       P16N,      20,          1,         31,         31,2,20060221,       1716,          0,  -150.9998,       4303,    89.3,  21.2159,  35.4130,2,  35.3911,2,    140.1,2,   141.5,2,    4.40,2,   11.10,2,    0.10,2,    0.85,2,   1.917,2,   1.106,2,-999.000,5,  2099.4,2,  2327.1,2,    484.2,2,    20.00,   7.9026,2,    25.00,   0.471,2,   0.003,   1.7295,2,   -0.10,2, -999.00,5,    72.3,2,     3.5,   6.935,2,   0.021,   55.04,2,   14.91,2,   89.30,-999.0000,9,-999.0000,9,-999.0000,9,-999.0000,9,-999.0000,9,-999.0000,9,     -999.0,     -999.0,9,     -999.0,9,     -999.0,9,     -999.0,9,     -999.0,9,     -999.0,9,    0.31,2,  21.1987,   0.0052,    0.14
325020060213,       P16N,      20,          1,         30,         30,2,20060221,       1716,          0,  -150.9998,       4303,   109.3,  18.3864,  35.2309,2,  35.2214,2,    130.3,2,   131.8,2,    6.80,2,   13.20,2,    0.00,2,    0.94,2,   1.857,2,   1.086,2,-999.000,5,  2113.5,2,  2317.5,2,    544.9,2,    20.00,   7.8594,2,    25.00,   0.253,3,   0.005,   1.7460,2,    1.36,2, -999.00,5,    69.7,2,     3.7,   7.087,2,   0.021,   51.93,2,   17.53,2,  109.30,   0.0930,2,   0.0700,2,   0.0380,2,   0.0310,2,   0.0130,2,   0.0150,2,     -999.0,     -999.0,9,     -999.0,9,     -999.0,9,     -999.0,9,     -999.0,9,     -999.0,9,    0.27,2,  18.3674,   0.0052,    0.14
325020060213,       P16N,      20,          1,         29,         29,2,20060221,       1716,          0,  -150.9998,       4303,   129.5,  17.3001,  35.2390,2,  35.2236,2,    131.7,2,   132.5,2,    7.50,2,   14.30,2,    0.00,2,    1.01,2,   1.816,2,   1.044,2,-999.000,5,  2124.1,2,  2317.6,2,    576.5,2,    20.00,   7.8358,2,    25.00,   0.482,2,   0.003,   1.7527,2,    1.41,2, -999.00,5,    61.3,2,     3.5,   7.173,2,   0.022,   49.93,2,   18.06,2,  129.50,-999.0000,9,-999.0000,9,-999.0000,9,-999.0000,9,-999.0000,9,-999.0000,9,     -999.0,     -999.0,9,     -999.0,9,     -999.0,9,     -999.0,9,     -999.0,9,     -999.0,9,    0.19,2,  17.2785,   0.0053,    0.14
325020060213,       P16N,      20,          1,         28,         28,2,20060221,       1716,          0,  -150.9998,       4303,   173.0,  14.3759,  35.0540,2,  35.0405,2,    130.5,2,   130.3,2,   11.70,2,   18.20,2,    0.00,2,    1.27,2,   1.578,2,   0.880,2,-999.000,5,  2148.6,2,  2312.3,6,    679.7,2,    20.00,   7.7656,2,    25.00,   0.367,2,   0.003,   1.7711,2,    2.78,2, -999.00,5,    27.9,2,     2.8,   7.313,2,   0.022,   48.72,2,   22.34,2,  173.00,-999.0000,9,-999.0000,9,-999.0000,9,-999.0000,9,-999.0000,9,-999.0000,9,     -999.0,     -999.0,9,     -999.0,9,     -999.0,9,     -999.0,9,     -999.0,9,     -999.0,9,    0.13,2,  14.3505,   0.0053,    0.14
325020060213,       P16N,      20,          1,         27,         27,2,20060221,       1716,          0,  -150.9998,       4303,   224.6,  12.4949,  34.9105,2,  34.9030,2,    110.2,2,   109.1,2,   17.10,2,   23.30,2,    0.00,2,    1.58,2,   1.209,2,   0.669,2,-999.000,5,  2177.3,2,  2307.0,2,    860.9,6,    20.00,   7.6879,2,    25.00,   0.273,2,   0.003,   1.7882,2,    3.97,2, -999.00,5,     2.4,2,     3.3,   7.448,2,   0.022,   47.29,2,   27.02,2,  224.60,   0.1050,2,   0.0780,2,   0.0430,2,   0.0360,2,   0.0119,2,   0.0139,2,     -999.0,     -999.0,9,     -999.0,9,     -999.0,9,     -999.0,9,     -999.0,9,     -999.0,9, -999.00,9,  12.4648,   0.0054,    0.14
325020060213,       P16N,      20,          1,         26,         26,2,20060221,       1716,          0,  -150.9998,       4303,   275.7,  11.8419,  34.8571,2,  34.8456,2,     75.8,2,    77.9,2,   20.90,2,   27.50,2,    0.00,2,    1.84,2,   0.940,2,   0.511,2,-999.000,5,  2202.3,2,  2306.7,2,   1125.1,3,    20.00,   7.6138,2,    25.00,   0.242,2,   0.002,   1.8092,2,    5.06,2, -999.00,5,   -13.4,2,     3.4,   7.458,2,   0.022,   46.36,2,   31.79,2,  275.70,-999.0000,9,-999.0000,9,-999.0000,9,-999.0000,9,-999.0000,9,-999.0000,9,     -999.0,     -999.0,9,     -999.0,9,     -999.0,9,     -999.0,9,     -999.0,9,     -999.0,9, -999.00,9,  11.8062,   0.0054,    0.14
325020060213,       P16N,      20,          1,         25,         25,2,20060221,       1716,          0,  -150.9998,       4303,   324.8,  11.6794,  34.8381,2,  34.8122,2,     65.5,2,    65.6,2,   22.90,2,   29.10,2,    0.00,2,    1.95,2,   0.834,2,   0.464,2,-999.000,5,  2212.8,2,  2305.5,2,   1258.2,3,    20.00,   7.5796,2,    25.00,-999.000,9,-999.000,-999.0000,9,-999.000,9, -999.00,5,   -14.9,2,     3.0,-999.000,9,-999.000,   45.38,2,   33.11,2,  324.80,   0.1220,2,   0.0900,2,   0.0510,2,   0.0420,2,   0.0117,2,   0.0134,3,     570.52,    37.1361,2,    15.2846,2,     82.439,2,    280.843,2,    97.3171,2,       57.5,2, -999.00,9,  11.6376,-999.0000,-999.000
325020060213,       P16N,      20,          1,         24,         24,2,20060221,       1716,          0,  -150.9998,       4303,   374.8,  10.6598,  34.7679,2,  34.7700,2,     54.8,2,    54.3,2,   26.40,2,   31.90,2,    0.00,2,    2.13,2,   0.585,2,   0.318,2,-999.000,5,  2227.1,2,  2304.7,2,   1379.8,3,    20.00,   7.5360,2,    25.00,   0.174,3,   0.002,   1.7953,2,    5.68,2, -999.00,5,   -42.5,2,     3.2,   7.518,2,   0.023,   44.61,2,   35.95,2,  374.80,-999.0000,9,-999.0000,9,-999.0000,9,-999.0000,9,-999.0000,9,-999.0000,9,     -999.0,     -999.0,9,     -999.0,9,     -999.0,9,     -999.0,9,     -999.0,9,     -999.0,9, -999.00,9,  10.6142,   0.0054,    0.14
325020060213,       P16N,      20,          1,         23,         23,2,20060221,       1716,          0,  -150.9998,       4303,   424.4,   9.5697,  34.7050,2,  34.7020,2,     56.8,2,    56.6,2,   30.20,2,   33.80,2,    0.00,2,    2.26,2,   0.388,6,   0.210,6,-999.000,5,  2237.0,2,  2306.0,2,   -999.0,9,  -999.00,   7.5107,2,    25.00,   0.139,2,   0.002,   1.8010,2,    6.01,2, -999.00,5,   -63.4,2,     3.1,   7.569,2,   0.023,   43.39,2,   37.81,2,  424.40,   0.1300,2,   0.0960,2,   0.0550,2,   0.0450,2,   0.0116,2,   0.0133,3,     -999.0,     -999.0,9,     -999.0,9,     -999.0,9,     -999.0,9,     -999.0,9,     -999.0,9, -999.00,9,   9.5214,   0.0054,    0.14
325020060213,       P16N,      20,          1,         22,         22,2,20060221,       1716,          0,  -150.9998,       4303,   474.9,   8.0397,  34.6187,2,  34.6169,2,     68.1,2,    62.1,2,   38.40,2,   36.60,2,    0.00,2,    2.46,2,   0.182,2,   0.099,2,-999.000,5,  2249.8,2,  2309.6,2,   1536.1,3,    20.00,   7.4866,2,    25.00,   0.069,2,   0.001,   1.8152,2,    7.39,2, -999.00,5,   -91.2,2,     3.1,   7.699,2,   0.023,   42.41,2,   40.78,2,  474.90,   0.1310,2,   0.0950,2,   0.0540,2,   0.0440,2,   0.0117,3,   0.0136,3,     -999.0,     -999.0,9,     -999.0,9,     -999.0,9,     -999.0,9,     -999.0,9,     -999.0,9, -999.00,9,   7.9909,   0.0054,    0.14
325020060213,       P16N,      20,          1,         21,         21,2,20060221,       1716,          0,  -150.9998,       4303,   549.3,   7.5166,  34.6040,2,  34.6026,2,     44.9,2,    45.6,2,   44.50,2,   39.40,2,    0.00,2,    2.67,2,   0.086,2,   0.036,2,-999.000,5,  2268.6,2,  2314.0,2,   1698.5,3,    20.00,   7.4416,2,    25.00,   0.042,3,   0.005,   1.8091,2,    7.84,2, -999.00,5,  -132.8,2,     4.2,   7.665,2,   0.023,   41.55,2,   43.71,2,  549.30,   0.1370,2,   0.0990,2,   0.0570,2,   0.0460,2,   0.0119,3,   0.0137,3,     -999.0,     -999.0,9,     -999.0,9,     -999.0,9,     -999.0,9,     -999.0,9,     -999.0,9, -999.00,9,   7.4621,   0.0054,    0.14
325020060213,       P16N,      20,          1,         20,         20,2,20060221,       1716,          0,  -150.9998,       4303,   650.3,   6.5130,  34.5634,2,  34.5633,2,     67.2,2,    67.3,2,   52.00,2,   38.90,2,    0.00,2,    2.67,2,   0.051,2,   0.029,2,-999.000,5,  2270.0,2,  2323.3,2,   -999.0,9,  -999.00,   7.4695,2,    25.00,   0.040,2,   0.001,   1.8309,2,    9.61,2, -999.00,5,  -122.4,2,     3.0,   7.765,2,   0.023,   40.89,2,   42.53,2,  650.30,   0.1490,2,   0.1080,2,   0.0570,2,   0.0450,2,   0.0130,3,   0.0152,3,     -999.0,     -999.0,9,     -999.0,9,     -999.0,9,     -999.0,9,     -999.0,9,     -999.0,9, -999.00,9,   6.4529,   0.0055,    0.14
325020060213,       P16N,      20,          1,         19,         19,2,20060221,       1716,          0,  -150.9998,       4303,   748.6,   5.9384,  34.5514,2,  34.5498,2,     78.6,2,    78.4,2,   57.60,2,   38.60,2,    0.00,2,    2.67,2,   0.043,2,   0.021,2,-999.000,5,  2270.2,2,  2329.6,2,   1587.8,3,    20.00,   7.4822,2,    25.00,   0.043,2,   0.001,   1.8358,2,   11.48,2, -999.00,5,  -141.0,2,     2.5,   7.797,2,   0.023,   39.63,2,   42.51,2,  748.60,   0.1220,2,   0.0850,2,   0.0450,2,   0.0340,2,   0.0143,2,   0.0167,2,     -999.0,     -999.0,9,     -999.0,9,     -999.0,9,     -999.0,9,     -999.0,9,     -999.0,9, -999.00,9,   5.8720,   0.0055,    0.14
325020060213,       P16N,      20,          1,         18,         18,2,20060221,       1716,          0,  -150.9998,       4303,   850.8,   5.6184,  34.5514,2,  34.5522,2,     74.0,2,    73.5,2,   64.30,2,   39.80,2,    0.00,2,    2.75,2,   0.014,2,   0.010,2,-999.000,5,  2279.8,2,  2335.3,2,   1622.5,3,    20.00,   7.4702,2,    25.00,   0.035,2,   0.001,   1.8536,2,   12.60,2, -999.00,5,  -145.7,2,     2.8,   7.888,2,   0.024,   38.32,2,   43.66,2,  850.80,   0.1310,2,   0.0920,2,   0.0500,2,   0.0370,2,   0.0138,2,   0.0160,2,     -999.0,     -999.0,9,     -999.0,9,     -999.0,9,     -999.0,9,     -999.0,9,     -999.0,9, -999.00,9,   5.5444,   0.0056,    0.14
325020060213,       P16N,      20,          1,         17,         17,2,20060221,       1716,          0,  -150.9998,       4303,   950.2,   4.8448,  34.5542,2,  34.5536,2,     79.8,2,    79.7,2,   77.40,2,   39.90,2,    0.00,2,    2.79,2,   0.009,2,   0.005,2,-999.000,5,  2292.6,2,  2349.7,6,   -999.0,9,  -999.00,-999.0000,9,  -999.00,   0.027,2,   0.001,   1.8678,2,   15.43,2, -999.00,5,  -171.8,2,     2.4,   7.861,2,   0.024,   38.02,2,   43.56,2,  950.20,   0.1310,2,   0.0900,2,   0.0470,2,   0.0350,2,   0.0145,3,   0.0171,3,     -999.0,     -999.0,9,     -999.0,9,     -999.0,9,     -999.0,9,     -999.0,9,     -999.0,9, -999.00,9,   4.7671,   0.0056,    0.14
325020060213,       P16N,      20,          1,         16,         16,2,20060221,       1716,          0,  -150.9998,       4303,  1101.0,   4.2409,  34.5656,2,  34.5646,2,     85.2,2,    84.1,2,   89.60,2,   40.00,2,    0.00,2,    2.81,2,   0.009,2,   0.007,3,-999.000,5,  2291.9,2,  2363.3,2,   1550.6,3,    20.00,   7.4778,2,    25.00,   0.029,2,   0.002,   1.8873,2,   18.24,2, -999.00,5,  -177.3,2,     2.5,   7.969,2,   0.024,   37.23,2,   43.62,2, 1101.00,   0.1340,2,   0.0930,2,   0.0490,2,   0.0340,2,   0.0150,2,   0.0173,2,     -999.0,     -999.0,9,     -999.0,9,     -999.0,9,     -999.0,9,     -999.0,9,     -999.0,9, -999.00,9,   4.1547,   0.0057,    0.14
325020060213,       P16N,      20,          1,         15,         15,2,20060221,       1716,          0,  -150.9998,       4303,  1299.6,   3.7595,  34.5814,2,  34.5804,2,     84.1,2,    84.2,2,  102.00,2,   40.50,2,    0.00,2,    2.86,2,   0.003,2,   0.001,2,-999.000,5,  2317.6,2,  2376.5,2,   1554.4,3,    20.00,   7.4759,2,    25.00,   0.005,2,   0.001,   1.8879,2,   20.40,2, -999.00,5,  -192.9,2,     2.5,   7.978,2,   0.024,   37.98,2,   44.48,2, 1299.60,   0.1400,2,   0.0960,2,   0.0490,2,   0.0350,2,   0.0154,2,   0.0178,2,     -999.0,     -999.0,9,     -999.0,9,     -999.0,9,     -999.0,9,     -999.0,9,     -999.0,9, -999.00,9,   3.6605,   0.0057,    0.14
325020060213,       P16N,      20,          1,         14,         14,4,20060221,       1716,          0,  -150.9998,       4303,  1501.6,   3.2794,  34.5984,2,  34.5523,4,     89.5,2,    79.6,4,   58.50,4,   38.80,4,    0.00,4,    2.67,4,-999.000,9,-999.000,9,-999.000,9,  2270.2,4,  2329.8,4,   -999.0,9,  -999.00,   7.4813,2,    25.00,-999.000,9,-999.000,-999.0000,9,-999.000,9, -999.00,5,  -123.6,4,     2.9,-999.000,9,-999.000,   37.65,2,   42.41,2, 1501.60,   0.1240,2,   0.0840,2,   0.0420,2,   0.0300,2,   0.0167,2,   0.0192,2,     -999.0,     -999.0,9,     -999.0,9,     -999.0,9,     -999.0,9,     -999.0,9,     -999.0,9, -999.00,9,   3.1682,-999.0000,-999.000
325020060213,       P16N,      20,          1,         13,         13,2,20060221,       1716,          0,  -150.9998,       4303,  1700.4,   2.7059,  34.6227,2,  34.6226,2,     97.8,2,    97.5,2,  126.90,2,   40.00,2,    0.00,2,    2.82,2,  -0.003,2,   0.002,2,-999.000,5,  2338.2,2,  2403.7,2,   -999.0,9,  -999.00,   7.4981,2,    25.00,   0.011,2,   0.005,   1.9337,2,   24.36,2, -999.00,5,  -214.2,2,     2.3,   8.118,2,   0.024,   37.36,2,   43.56,2, 1700.40,   0.1330,2,   0.0910,2,   0.0450,2,   0.0300,2,   0.0175,2,   0.0195,2,     -999.0,     -999.0,9,     -999.0,9,     -999.0,9,     -999.0,9,     -999.0,9,     -999.0,9, -999.00,9,   2.5848,   0.0058,    0.14
325020060213,       P16N,      20,          1,         12,         12,2,20060221,       1716,          0,  -150.9998,       4303,  1899.9,   2.4512,  34.6361,2,  34.6366,2,    101.3,2,   102.7,2,  134.00,2,   39.60,2,    0.00,2,    2.81,2,-999.000,9,-999.000,9,-999.000,9,  2342.9,2,  2411.6,2,   -999.0,9,  -999.00,   7.4982,2,    25.00,-999.000,9,-999.000,   1.9496,2,   25.85,2, -999.00,5,  -249.5,3,     2.8,   8.178,2,   0.025,   37.02,2,   43.91,2, 1899.90,   0.1310,2,   0.0890,2,   0.0430,2,   0.0270,2,   0.0186,2,   0.0205,2,     -999.0,     -999.0,9,     -999.0,9,     -999.0,9,     -999.0,9,     -999.0,9,     -999.0,9, -999.00,9,   2.3165,   0.0058,    0.14
325020060213,       P16N,      20,          1,         11,         11,2,20060221,       1716,          0,  -150.9998,       4303,  2100.2,   2.2309,  34.6476,2,  34.6492,2,    108.4,2,   107.8,2,  138.80,2,   39.20,2,    0.00,2,    2.76,2,-999.000,9,-999.000,9,-999.000,9,  2343.8,2,  2417.0,2,   -999.0,9,  -999.00,   7.5165,2,    25.00,-999.000,9,-999.000,-999.0000,9,-999.000,9, -999.00,5,  -228.6,2,     2.3,-999.000,9,-999.000,   36.83,2,   42.73,2, 2100.20,   0.1290,2,   0.0870,2,   0.0410,2,   0.0240,2,   0.0199,2,   0.0216,2,     -999.0,     -999.0,9,     -999.0,9,     -999.0,9,     -999.0,9,     -999.0,9,     -999.0,9, -999.00,9,   2.0822,-999.0000,-999.000
325020060213,       P16N,      20,          1,         10,         10,2,20060221,       1716,          0,  -150.9998,       4303,  2301.2,   1.9762,  34.6604,2,  34.6602,2,    117.7,2,   118.6,2,  142.80,2,   38.70,2,    0.00,2,    2.71,2,-999.000,9,-999.000,9,-999.000,9,  2341.7,2,  2421.3,2,   -999.0,9,  -999.00,   7.5353,2,    25.00,-999.000,9,-999.000,-999.0000,9,-999.000,9, -999.00,5,  -227.1,2,     2.1,-999.000,9,-999.000,   37.66,2,   42.94,2, 2301.20,-999.0000,9,-999.0000,9,-999.0000,9,-999.0000,9,-999.0000,9,-999.0000,9,     -999.0,     -999.0,9,     -999.0,9,     -999.0,9,     -999.0,9,     -999.0,9,     -999.0,9, -999.00,9,   1.8141,-999.0000,-999.000
325020060213,       P16N,      20,          1,          9,          9,9,20060221,       1716,          0,  -150.9998,       4303,  2500.6,   1.8693,  34.6676,2,-999.0000,9,    121.3,2,  -999.0,9, -999.00,9, -999.00,9, -999.00,9, -999.00,9,-999.000,9,-999.000,9,-999.000,9,  -999.0,9,  -999.0,9,   -999.0,9,  -999.00,-999.0000,9,  -999.00,-999.000,9,-999.000,-999.0000,9,-999.000,9, -999.00,9,  -999.0,9,    -9.0,-999.000,9,-999.000, -999.00,9, -999.00,9, 2500.60,-999.0000,9,-999.0000,9,-999.0000,9,-999.0000,9,-999.0000,9,-999.0000,9,     -999.0,     -999.0,9,     -999.0,9,     -999.0,9,     -999.0,9,     -999.0,9,     -999.0,9, -999.00,9,   1.6913,-999.0000,-999.000