BOTTLE,20170720CCHSIOCBG
EXPOCODE,SECT_ID,STNNBR,CASTNO,SAMPNO,BTLNBR,BTLNBR_FLAG_W,DATE,TIME,LATITUDE,LONGITUDE,DEPTH,CTDPRS,CTDTMP,CTDSAL,CTDSAL_FLAG_W,SALNTY,SALNTY_FLAG_W,CTDOXY,CTDOXY_FLAG_W,OXYGEN,OXYGEN_FLAG_W,SILCAT,SILCAT_FLAG_W,NITRAT,NITRAT_FLAG_W,NITRIT,NITRIT_FLAG_W,PHSPHT,PHSPHT_FLAG_W,CFC-11,CFC-11_FLAG_W,CFC-12,CFC-12_FLAG_W,CFC113,CFC113_FLAG_W,TCARBN,TCARBN_FLAG_W,ALKALI,ALKALI_FLAG_W,FCO2,FCO2_FLAG_W,FCO2TMP,PH_TOT,PH_TOT_FLAG_W,PH_TMP,TRITUM,TRITUM_FLAG_W,TRITER,HELIUM,HELIUM_FLAG_W,DELHE3,DELHE3_FLAG_W,DELC13,DELC13_FLAG_W,DELC14,DELC14_FLAG_W,C14ERR,NEON,NEON_FLAG_W,NEONER,DOC,DOC_FLAG_W,TDN,TDN_FLAG_W,CTDRAW,CDOM325,CDOM325_FLAG_W,CDOM340,CDOM340_FLAG_W,CDOM380,CDOM380_FLAG_W,CDOM412,CDOM412_FLAG_W,CDOMSL,CDOMSL_FLAG_W,CDOMSN,CDOMSN_FLAG_W,DCNS,ARABI,ARABI_FLAG_W,FUCO,FUCO_FLAG_W,GALA,GALA_FLAG_W,GLUC,GLUC_FLAG_W,MAN,MAN_FLAG_W,RHAM,RHAM_FLAG_W,BRDU,BRDU_FLAG_W,THETA,HELIER,DELHER
,,,,,,,,,,,METERS,DBAR,ITS-90,PSS-78,,PSS-78,,UMOL/KG,,UMOL/KG,,UMOL/KG,,UMOL/KG,,UMOL/KG,,UMOL/KG,,PMOL/KG,,PMOL/KG,,PMOL/KG,,UMOL/KG,,UMOL/KG,,UATM,,DEG C,,,DEG C,TU,,TU,NMOL/KG,,PERCNT,,/MILLE,,/MILLE,,/MILLE,NMOL/KG,,NMOL/KG,UMOL/KG,,UMOL/KG,,DBAR,1/M,,1/M,,1/M,,1/M,,1/NM,,1/NM,,NMOL/KG,NMOL/KG,,NMOL/KG,,NMOL/KG,,NMOL/KG,,NMOL/KG,,NMOL/KG,,PMOL/L/H,,DEG C,NMOL/KG,PERCNT
325020060213,       P16N,      56,          2,          9,          9,2,20060318,       0002,    33.9997,  -152.0005,       5507,  2874.2,   1.5693,  34.6637,2,  34.6634,2,    111.0,2,   112.0,2,  166.80,2,   38.90,2,    0.00,2,    2.72,2,-999.000,9,-999.000,9,-999.000,9,  2358.9,2,  2428.6,2,   1397.7,2,    20.00,   7.5105,2,    25.00,-999.000,9,-999.000,-999.0000,9,-999.000,9, -999.00,9,  -999.0,9,    -9.0,-999.000,9,-999.000,   37.27,2,   42.49,2, 2874.20,-999.0000,9,-999.0000,9,-999.0000,9,-999.0000,9,-999.0000,9,-999.0000,9,     -999.0,     -999.0,9,     -999.0,9,     -999.0,9,     -999.0,9,     -999.0,9,     -999.0,9, -999.00,9,   1.3630,-999.0000,-999.000
325020060213,       P16N,      56,          2,          8,          8,2,20060318,       0002,    33.9997,  -152.0005,       5507,  3124.8,   1.5228,  34.6709,2,  34.6721,2,    120.7,2,   124.8,3,  163.90,2,   38.30,2,    0.00,2,    2.67,2,   0.006,2,   0.001,2,-999.000,5,  2352.2,2,  2431.4,2,   1324.5,2,    20.00,   7.5295,2,    25.00,-999.000,9,-999.000,-999.0000,9,-999.000,9, -999.00,9,  -999.0,9,    -9.0,-999.000,9,-999.000,   37.80,2,   41.38,2, 3124.80,-999.0000,9,-999.0000,9,-999.0000,9,-999.0000,9,-999.0000,9,-999.0000,9,     -999.0,     -999.0,9,     -999.0,9,     -999.0,9,     -999.0,9,     -999.0,9,     -999.0,9, -999.00,9,   1.2936,-999.0000,-999.000
325020060213,       P16N,      56,          2,          7,          7,2,20060318,       0002,    33.9997,  -152.0005,       5507,  3449.9,   1.4816,  34.6789,2,  34.6800,2,    132.6,2,   133.0,2,  160.30,2,   37.50,2,    0.00,2,    2.61,2,-999.000,9,-999.000,9,-999.000,9,  2343.9,2,  2428.1,6,   1277.0,2,    20.00,   7.5498,6,    25.00,-999.000,9,-999.000,-999.0000,9,-999.000,9, -999.00,9,  -999.0,9,    -9.0,-999.000,9,-999.000,   37.52,2,   40.86,2, 3449.90,-999.0000,9,-999.0000,9,-999.0000,9,-999.0000,9,-999.0000,9,-999.0000,9,     -999.0,     -999.0,9,     -999.0,9,     -999.0,9,     -999.0,9,     -999.0,9,     -999.0,9, -999.00,9,   1.2210,-999.0000,-999.000
325020060213,       P16N,      56,          2,          6,          6,2,20060318,       0002,    33.9997,  -152.0005,       5507,  3849.6,   1.4675,  34.6852,2,  34.6859,2,    141.6,2,   142.2,2,  156.80,2,   36.80,2,    0.00,2,    2.56,2,-999.000,9,-999.000,9,-999.000,9,  2337.1,2,  2425.6,2,   1209.2,2,    20.00,   7.5644,2,    25.00,-999.000,9,-999.000,-999.0000,9,-999.000,9, -999.00,9,  -999.0,9,    -9.0,-999.000,9,-999.000,   36.46,2,   39.73,2, 3849.60,-999.0000,9,-999.0000,9,-999.0000,9,-999.0000,9,-999.0000,9,-999.0000,9,     -999.0,     -999.0,9,     -999.0,9,     -999.0,9,     -999.0,9,     -999.0,9,     -999.0,9, -999.00,9,   1.1657,-999.0000,-999.000
325020060213,       P16N,      56,          2,          5,          5,2,20060318,       0002,    33.9997,  -152.0005,       5507,  4299.7,   1.4822,  34.6891,2,  34.6888,2,    148.1,2,   148.0,2,  154.10,2,   36.60,2,    0.00,2,    2.52,2,   0.015,3,   0.000,2,-999.000,5,  2332.7,2,  2426.5,2,   1190.9,2,    20.00,   7.5782,2,    25.00,-999.000,9,-999.000,-999.0000,9,-999.000,9, -999.00,9,  -999.0,9,    -9.0,-999.000,9,-999.000,   36.80,2,   40.67,2, 4299.70,-999.0000,9,-999.0000,9,-999.0000,9,-999.0000,9,-999.0000,9,-999.0000,9,     -999.0,     -999.0,9,     -999.0,9,     -999.0,9,     -999.0,9,     -999.0,9,     -999.0,9, -999.00,9,   1.1306,-999.0000,-999.000
325020060213,       P16N,      56,          2,          4,          4,2,20060318,       0002,    33.9997,  -152.0005,       5507,  4798.9,   1.5160,  34.6916,2,  34.6916,2,    153.6,2,   153.0,2,  149.70,6,   36.00,6,    0.00,6,    2.49,6,   0.011,3,   0.000,2,-999.000,5,  2327.8,2,  2428.4,2,   1167.5,2,    20.00,   7.5826,2,    25.00,-999.000,9,-999.000,-999.0000,9,-999.000,9, -999.00,9,  -999.0,9,    -9.0,-999.000,9,-999.000,   36.93,2,   39.47,2, 4798.90,-999.0000,9,-999.0000,9,-999.0000,9,-999.0000,9,-999.0000,9,-999.0000,9,     -999.0,     -999.0,9,     -999.0,9,     -999.0,9,     -999.0,9,     -999.0,9,     -999.0,9, -999.00,9,   1.1054,-999.0000,-999.000
325020060213,       P16N,      56,          2,          3,          3,2,20060318,       0002,    33.9997,  -152.0005,       5507,  4999.3,   1.5355,  34.6922,2,  34.6924,2,    154.2,2,   154.3,2,  148.40,6,   36.10,6,    0.00,6,    2.48,6,-999.000,9,-999.000,9,-999.000,9,  2324.4,2,  2427.3,2,   1160.6,2,    20.00,   7.5853,2,    25.00,-999.000,9,-999.000,-999.0000,9,-999.000,9, -999.00,9,  -999.0,9,    -9.0,-999.000,9,-999.000,   36.14,2,   39.82,2, 4999.30,-999.0000,9,-999.0000,9,-999.0000,9,-999.0000,9,-999.0000,9,-999.0000,9,     -999.0,     -999.0,9,     -999.0,9,     -999.0,9,     -999.0,9,     -999.0,9,     -999.0,9, -999.00,9,   1.1001,-999.0000,-999.000
325020060213,       P16N,      56,          2,          2,          2,2,20060318,       0002,    33.9997,  -152.0005,       5507,  5298.9,   1.5687,  34.6927,2,  34.6928,2,    155.5,2,   155.8,2,  147.30,6,   36.00,6,    0.00,6,    2.48,2,-999.000,9,-999.000,9,-999.000,9,  2324.8,2,  2426.2,2,   1158.5,6,    20.00,   7.5846,2,    25.00,-999.000,9,-999.000,-999.0000,9,-999.000,9, -999.00,9,  -999.0,9,    -9.0,-999.000,9,-999.000,   36.09,2,   38.85,2, 5298.90,-999.0000,9,-999.0000,9,-999.0000,9,-999.0000,9,-999.0000,9,-999.0000,9,     -999.0,     -999.0,9,     -999.0,9,     -999.0,9,     -999.0,9,     -999.0,9,     -999.0,9, -999.00,9,   1.0951,-999.0000,-999.000
325020060213,       P16N,      56,          2,          1,          1,2,20060318,       0002,    33.9997,  -152.0005,       5507,  5616.4,   1.6100,  34.6926,2,  34.6928,2,    153.7,2,   155.6,2,  146.80,2,   36.10,2,    0.00,2,    2.47,2,   0.006,2,   0.001,2,-999.000,5,  2324.6,6,  2425.7,2,   1155.5,2,    20.00,   7.5858,2,    25.00,-999.000,9,-999.000,-999.0000,9,-999.000,9, -999.00,9,  -999.0,9,    -9.0,-999.000,9,-999.000,   37.85,2,   39.66,2, 5616.40,-999.0000,9,-999.0000,9,-999.0000,9,-999.0000,9,-999.0000,9,-999.0000,9,     -999.0,     -999.0,9,     -999.0,9,     -999.0,9,     -999.0,9,     -999.0,9,     -999.0,9, -999.00,9,   1.0944,-999.0000,-999.000