BOTTLE,20170720CCHSIOCBG
EXPOCODE,SECT_ID,STNNBR,CASTNO,SAMPNO,BTLNBR,BTLNBR_FLAG_W,DATE,TIME,LATITUDE,LONGITUDE,DEPTH,CTDPRS,CTDTMP,CTDSAL,CTDSAL_FLAG_W,SALNTY,SALNTY_FLAG_W,CTDOXY,CTDOXY_FLAG_W,OXYGEN,OXYGEN_FLAG_W,SILCAT,SILCAT_FLAG_W,NITRAT,NITRAT_FLAG_W,NITRIT,NITRIT_FLAG_W,PHSPHT,PHSPHT_FLAG_W,CFC-11,CFC-11_FLAG_W,CFC-12,CFC-12_FLAG_W,CFC113,CFC113_FLAG_W,TCARBN,TCARBN_FLAG_W,ALKALI,ALKALI_FLAG_W,FCO2,FCO2_FLAG_W,FCO2TMP,PH_TOT,PH_TOT_FLAG_W,PH_TMP,TRITUM,TRITUM_FLAG_W,TRITER,HELIUM,HELIUM_FLAG_W,DELHE3,DELHE3_FLAG_W,DELC13,DELC13_FLAG_W,DELC14,DELC14_FLAG_W,C14ERR,NEON,NEON_FLAG_W,NEONER,DOC,DOC_FLAG_W,TDN,TDN_FLAG_W,CTDRAW,CDOM325,CDOM325_FLAG_W,CDOM340,CDOM340_FLAG_W,CDOM380,CDOM380_FLAG_W,CDOM412,CDOM412_FLAG_W,CDOMSL,CDOMSL_FLAG_W,CDOMSN,CDOMSN_FLAG_W,DCNS,ARABI,ARABI_FLAG_W,FUCO,FUCO_FLAG_W,GALA,GALA_FLAG_W,GLUC,GLUC_FLAG_W,MAN,MAN_FLAG_W,RHAM,RHAM_FLAG_W,BRDU,BRDU_FLAG_W,THETA,HELIER,DELHER
,,,,,,,,,,,METERS,DBAR,ITS-90,PSS-78,,PSS-78,,UMOL/KG,,UMOL/KG,,UMOL/KG,,UMOL/KG,,UMOL/KG,,UMOL/KG,,PMOL/KG,,PMOL/KG,,PMOL/KG,,UMOL/KG,,UMOL/KG,,UATM,,DEG C,,,DEG C,TU,,TU,NMOL/KG,,PERCNT,,/MILLE,,/MILLE,,/MILLE,NMOL/KG,,NMOL/KG,UMOL/KG,,UMOL/KG,,DBAR,1/M,,1/M,,1/M,,1/M,,1/NM,,1/NM,,NMOL/KG,NMOL/KG,,NMOL/KG,,NMOL/KG,,NMOL/KG,,NMOL/KG,,NMOL/KG,,PMOL/L/H,,DEG C,NMOL/KG,PERCNT
325020060213,       P16N,      70,          1,          9,          9,2,20060325,       1628,    49.0002,  -151.9993,       4980,  2875.9,   1.6131,  34.6512,2,  34.6509,2,    101.1,2,   100.3,2,  168.40,2,   38.60,2,    0.00,2,    2.72,2,-999.000,9,-999.000,9,-999.000,9,  2360.3,2,  2421.4,2,   1507.2,6,    20.00,   7.4840,2,    25.00,-999.000,9,-999.000,-999.0000,9,-999.000,9, -999.00,9,  -999.0,9,    -9.0,-999.000,9,-999.000,   38.10,2,   42.21,2, 2875.90,   0.1460,2,   0.1010,2,   0.0550,2,   0.0410,2,   0.0133,3,   0.0157,3,     -999.0,     -999.0,9,     -999.0,9,     -999.0,9,     -999.0,9,     -999.0,9,     -999.0,9, -999.00,9,   1.4058,-999.0000,-999.000
325020060213,       P16N,      70,          1,          8,          8,2,20060325,       1628,    49.0002,  -151.9993,       4980,  3125.1,   1.5571,  34.6623,2,  34.6614,2,    113.5,2,   113.7,2,  166.70,2,   38.00,6,    0.00,6,    2.71,2,-999.000,9,-999.000,9,-999.000,9,  2352.3,2,  2422.7,2,   1414.7,2,    20.00,   7.5079,2,    25.00,-999.000,9,-999.000,-999.0000,9,-999.000,9, -999.00,9,  -999.0,9,    -9.0,-999.000,9,-999.000,   38.13,2,   41.90,2, 3125.10,   0.1400,2,   0.0970,2,   0.0510,2,   0.0390,2,   0.0135,3,   0.0161,3,     -999.0,     -999.0,9,     -999.0,9,     -999.0,9,     -999.0,9,     -999.0,9,     -999.0,9, -999.00,9,   1.3271,-999.0000,-999.000
325020060213,       P16N,      70,          1,          7,          7,2,20060325,       1628,    49.0002,  -151.9993,       4980,  3401.7,   1.5087,  34.6725,2,  34.6703,2,    125.4,2,   126.9,2,  164.70,2,   36.90,2,    0.00,2,    2.63,2,   0.005,2,   0.003,2,-999.000,5,  2345.9,2,  2424.1,6,   1335.0,2,    20.00,   7.5317,2,    25.00,-999.000,9,-999.000,-999.0000,9,-999.000,9, -999.00,9,  -999.0,9,    -9.0,-999.000,9,-999.000,   38.10,2,   40.09,2, 3401.70,   0.1370,2,   0.0940,2,   0.0500,2,   0.0380,2,   0.0136,3,   0.0163,3,     -999.0,     -999.0,9,     -999.0,9,     -999.0,9,     -999.0,9,     -999.0,9,     -999.0,9, -999.00,9,   1.2524,-999.0000,-999.000
325020060213,       P16N,      70,          1,          6,          6,2,20060325,       1628,    49.0002,  -151.9993,       4980,  3800.6,   1.4912,  34.6804,2,  34.6792,2,    134.6,2,   133.8,2,  164.10,2,   36.10,2,    0.00,2,    2.58,2,-999.000,9,-999.000,9,-999.000,9,  2340.8,2,  2425.2,2,   1271.9,2,    20.00,   7.5517,2,    25.00,-999.000,9,-999.000,-999.0000,9,-999.000,9, -999.00,9,  -999.0,9,    -9.0,-999.000,9,-999.000,   37.95,2,   39.28,2, 3800.60,   0.1320,2,   0.0900,2,   0.0470,2,   0.0360,2,   0.0137,3,   0.0165,3,     -999.0,     -999.0,9,     -999.0,9,     -999.0,9,     -999.0,9,     -999.0,9,     -999.0,9, -999.00,9,   1.1940,-999.0000,-999.000
325020060213,       P16N,      70,          1,          5,          5,2,20060325,       1628,    49.0002,  -151.9993,       4980,  4149.6,   1.5005,  34.6846,2,-999.0000,5,    139.2,2,   138.4,2,  165.30,2,   36.10,6,    0.00,6,    2.56,2,-999.000,9,-999.000,9,-999.000,9,  2338.7,2,  2427.2,2,   1236.7,2,    20.00,   7.5631,2,    25.00,-999.000,9,-999.000,-999.0000,9,-999.000,9, -999.00,9,  -999.0,9,    -9.0,-999.000,9,-999.000,   36.39,2,   39.70,2, 4149.60,   0.1330,2,   0.0900,2,   0.0470,2,   0.0360,2,   0.0137,3,   0.0165,3,     -999.0,     -999.0,9,     -999.0,9,     -999.0,9,     -999.0,9,     -999.0,9,     -999.0,9, -999.00,9,   1.1651,-999.0000,-999.000
325020060213,       P16N,      70,          1,          4,          4,2,20060325,       1628,    49.0002,  -151.9993,       4980,  4500.3,   1.5262,  34.6871,2,  34.6869,2,    141.2,2,   142.3,2,  167.50,2,   36.10,6,    0.00,6,    2.55,2,  -0.003,2,   0.003,2,-999.000,5,  2339.4,2,  2429.5,2,   1222.2,2,    20.00,   7.5708,2,    25.00,-999.000,9,-999.000,-999.0000,9,-999.000,9, -999.00,9,  -999.0,9,    -9.0,-999.000,9,-999.000,   37.65,2,   39.77,2, 4500.30,   0.1340,2,   0.0920,2,   0.0490,2,   0.0370,2,   0.0134,3,   0.0162,3,     -999.0,     -999.0,9,     -999.0,9,     -999.0,9,     -999.0,9,     -999.0,9,     -999.0,9, -999.00,9,   1.1504,-999.0000,-999.000
325020060213,       P16N,      70,          1,          3,          3,9,20060325,       1628,    49.0002,  -151.9993,       4980,  4800.4,   1.5546,  34.6881,2,-999.0000,9,    142.5,2,  -999.0,9, -999.00,9, -999.00,9, -999.00,9, -999.00,9,-999.000,9,-999.000,9,-999.000,9,  -999.0,9,  -999.0,9,   -999.0,9,  -999.00,-999.0000,9,  -999.00,-999.000,9,-999.000,-999.0000,9,-999.000,9, -999.00,9,  -999.0,9,    -9.0,-999.000,9,-999.000, -999.00,9, -999.00,9, 4800.40,-999.0000,9,-999.0000,9,-999.0000,9,-999.0000,9,-999.0000,9,-999.0000,9,     -999.0,     -999.0,9,     -999.0,9,     -999.0,9,     -999.0,9,     -999.0,9,     -999.0,9, -999.00,9,   1.1426,-999.0000,-999.000
325020060213,       P16N,      70,          1,          2,          2,2,20060325,       1628,    49.0002,  -151.9993,       4980,  5000.2,   1.5764,  34.6885,2,  34.6876,2,    142.2,2,   142.1,2,  168.20,2,   35.60,6,    0.00,6,    2.54,2,   0.005,2,   0.000,2,-999.000,5,  2338.6,2,  2430.1,2,   1207.8,2,    20.00,   7.5737,2,    25.00,-999.000,9,-999.000,-999.0000,9,-999.000,9, -999.00,9,  -999.0,9,    -9.0,-999.000,9,-999.000,   37.86,2,   39.39,2, 5000.20,   0.1340,2,   0.0910,2,   0.0480,2,   0.0370,2,   0.0135,3,   0.0164,3,     -999.0,     -999.0,9,     -999.0,9,     -999.0,9,     -999.0,9,     -999.0,9,     -999.0,9, -999.00,9,   1.1395,-999.0000,-999.000
325020060213,       P16N,      70,          1,          1,          1,2,20060325,       1628,    49.0002,  -151.9993,       4980,  5109.1,   1.5898,  34.6886,2,  34.6900,2,    142.0,2,   142.0,2,  168.60,2,   35.80,6,    0.00,6,    2.52,2,   0.000,2,   0.013,2,-999.000,5,  2339.1,6,  2429.3,2,   1204.8,2,    20.00,   7.5728,2,    25.00,-999.000,9,-999.000,-999.0000,9,-999.000,9, -999.00,9,  -999.0,9,    -9.0,-999.000,9,-999.000,   37.86,2,   39.10,2, 5109.10,   0.1370,2,   0.0930,2,   0.0500,2,   0.0380,2,   0.0130,3,   0.0158,3,     -999.0,     -999.0,9,     -999.0,9,     -999.0,9,     -999.0,9,     -999.0,9,     -999.0,9, -999.00,9,   1.1391,-999.0000,-999.000