BOTTLE,20170720CCHSIOCBG
EXPOCODE,SECT_ID,STNNBR,CASTNO,SAMPNO,BTLNBR,BTLNBR_FLAG_W,DATE,TIME,LATITUDE,LONGITUDE,DEPTH,CTDPRS,CTDTMP,CTDSAL,CTDSAL_FLAG_W,SALNTY,SALNTY_FLAG_W,CTDOXY,CTDOXY_FLAG_W,OXYGEN,OXYGEN_FLAG_W,SILCAT,SILCAT_FLAG_W,NITRAT,NITRAT_FLAG_W,NITRIT,NITRIT_FLAG_W,PHSPHT,PHSPHT_FLAG_W,CFC-11,CFC-11_FLAG_W,CFC-12,CFC-12_FLAG_W,CFC113,CFC113_FLAG_W,TCARBN,TCARBN_FLAG_W,ALKALI,ALKALI_FLAG_W,FCO2,FCO2_FLAG_W,FCO2TMP,PH_TOT,PH_TOT_FLAG_W,PH_TMP,TRITUM,TRITUM_FLAG_W,TRITER,HELIUM,HELIUM_FLAG_W,DELHE3,DELHE3_FLAG_W,DELC13,DELC13_FLAG_W,DELC14,DELC14_FLAG_W,C14ERR,NEON,NEON_FLAG_W,NEONER,DOC,DOC_FLAG_W,TDN,TDN_FLAG_W,CTDRAW,CDOM325,CDOM325_FLAG_W,CDOM340,CDOM340_FLAG_W,CDOM380,CDOM380_FLAG_W,CDOM412,CDOM412_FLAG_W,CDOMSL,CDOMSL_FLAG_W,CDOMSN,CDOMSN_FLAG_W,DCNS,ARABI,ARABI_FLAG_W,FUCO,FUCO_FLAG_W,GALA,GALA_FLAG_W,GLUC,GLUC_FLAG_W,MAN,MAN_FLAG_W,RHAM,RHAM_FLAG_W,BRDU,BRDU_FLAG_W,THETA,HELIER,DELHER
,,,,,,,,,,,METERS,DBAR,ITS-90,PSS-78,,PSS-78,,UMOL/KG,,UMOL/KG,,UMOL/KG,,UMOL/KG,,UMOL/KG,,UMOL/KG,,PMOL/KG,,PMOL/KG,,PMOL/KG,,UMOL/KG,,UMOL/KG,,UATM,,DEG C,,,DEG C,TU,,TU,NMOL/KG,,PERCNT,,/MILLE,,/MILLE,,/MILLE,NMOL/KG,,NMOL/KG,UMOL/KG,,UMOL/KG,,DBAR,1/M,,1/M,,1/M,,1/M,,1/NM,,1/NM,,NMOL/KG,NMOL/KG,,NMOL/KG,,NMOL/KG,,NMOL/KG,,NMOL/KG,,NMOL/KG,,PMOL/L/H,,DEG C,NMOL/KG,PERCNT
325020060213,       P16N,      67,          1,         36,         36,2,20060324,       1006,         46,  -152.0002,       5230,     5.7,   6.5196,  32.8043,2,  32.8054,2,    304.1,2,   304.7,2,   15.00,2,    9.20,2,    0.10,2,    1.05,2,   4.451,2,   2.506,2,-999.000,5,  2043.2,6,  2208.8,2,   -999.0,9,  -999.00,   7.8065,6,    25.00,   0.862,2,   0.026,    1.836,2,  -1.247,2, -999.00,9,  -999.0,9,    -9.0,   7.939,2,   0.019,   54.77,2,   13.13,2,    5.70,-999.0000,9,-999.0000,9,-999.0000,9,-999.0000,9,-999.0000,9,-999.0000,9,     -999.0,     -999.0,9,     -999.0,9,     -999.0,9,     -999.0,9,     -999.0,9,     -999.0,9, -999.00,9,   6.5191,    0.001,   0.183
325020060213,       P16N,      67,          1,         35,         35,2,20060324,       1006,         46,  -152.0002,       5230,    25.0,   6.5234,  32.8038,2,  32.8054,2,    305.1,2,   304.8,2,   15.00,2,    9.30,2,    0.10,2,    1.05,2,   4.513,2,   2.560,2,-999.000,5,  2044.0,2,  2208.9,2,   -999.0,9,  -999.00,   7.8072,2,    25.00,   0.776,2,   0.021,    1.811,2,  -1.555,2, -999.00,9,  -999.0,9,    -9.0,   7.985,2,   0.007,   55.44,2,   13.65,2,   25.00,-999.0000,9,-999.0000,9,-999.0000,9,-999.0000,9,-999.0000,9,-999.0000,9,     -999.0,     -999.0,9,     -999.0,9,     -999.0,9,     -999.0,9,     -999.0,9,     -999.0,9, -999.00,9,   6.5213,    0.000,   0.175
325020060213,       P16N,      67,          1,         34,         34,2,20060324,       1006,         46,  -152.0002,       5230,    50.7,   6.5307,  32.8068,2,  32.8071,2,    301.8,2,   304.5,2,   15.00,2,    9.20,2,    0.10,2,    1.05,2,   4.506,2,   2.567,2,-999.000,5,  2043.6,2,  2206.3,2,   -999.0,9,  -999.00,   7.8064,2,    25.00,   0.836,2,   0.022,    1.831,2,  -0.889,2, -999.00,9,  -999.0,9,    -9.0,   8.025,2,   0.013,   55.49,2,   14.12,2,   50.70,-999.0000,9,-999.0000,9,-999.0000,9,-999.0000,9,-999.0000,9,-999.0000,9,     -999.0,     -999.0,9,     -999.0,9,     -999.0,9,     -999.0,9,     -999.0,9,     -999.0,9, -999.00,9,   6.5264,    0.002,   0.174
325020060213,       P16N,      67,          1,         33,         33,2,20060324,       1006,         46,  -152.0002,       5230,    76.5,   6.5119,  32.8146,2,  32.8143,2,    302.7,2,   302.8,2,   15.00,2,    9.40,2,    0.10,2,    1.06,2,   4.473,2,   2.576,2,-999.000,5,  2044.8,2,  2205.6,2,   -999.0,9,  -999.00,   7.8024,2,    25.00,-999.000,9,-999.000,    1.848,2,  -1.493,2, -999.00,9,  -999.0,9,    -9.0,   7.985,2,   0.018,   54.02,2,   13.34,2,   76.50,-999.0000,9,-999.0000,9,-999.0000,9,-999.0000,9,-999.0000,9,-999.0000,9,     -999.0,     -999.0,9,     -999.0,9,     -999.0,9,     -999.0,9,     -999.0,9,     -999.0,9, -999.00,9,   6.5054,    0.001,   0.181
325020060213,       P16N,      67,          1,         32,         32,2,20060324,       1006,         46,  -152.0002,       5230,   101.3,   6.5210,  32.8262,2,  32.8406,2,    302.8,2,   303.4,2,   15.20,2,    9.70,2,    0.10,2,    1.06,2,   4.485,2,   2.510,2,-999.000,5,  2045.9,2,  2210.6,2,   -999.0,9,  -999.00,   7.8039,2,    25.00,-999.000,9,-999.000,-999.0000,9,-999.000,9, -999.00,9,  -999.0,9,    -9.0,-999.000,9,-999.000,   53.94,2,   13.91,2,  101.30,-999.0000,9,-999.0000,9,-999.0000,9,-999.0000,9,-999.0000,9,-999.0000,9,     -999.0,     -999.0,9,     -999.0,9,     -999.0,9,     -999.0,9,     -999.0,9,     -999.0,9, -999.00,9,   6.5123,-999.0000,-999.000
325020060213,       P16N,      67,          1,         31,         31,2,20060324,       1006,         46,  -152.0002,       5230,   125.3,   6.8031,  33.4182,2,  33.4169,2,    262.0,2,   261.7,2,   20.60,2,   14.60,2,    0.00,2,    1.22,2,   4.323,2,   2.377,2,-999.000,5,  2096.1,2,  2238.6,2,   -999.0,9,  -999.00,   7.7378,2,    25.00,   0.755,2,   0.018,    1.812,2,  -0.337,2, -999.00,9,  -999.0,9,    -9.0,   7.839,2,   0.018,   53.86,2,   18.98,2,  125.30,-999.0000,9,-999.0000,9,-999.0000,9,-999.0000,9,-999.0000,9,-999.0000,9,     -999.0,     -999.0,9,     -999.0,9,     -999.0,9,     -999.0,9,     -999.0,9,     -999.0,9, -999.00,9,   6.7919,    0.001,   0.177
325020060213,       P16N,      67,          1,         30,         30,2,20060324,       1006,         46,  -152.0002,       5230,   151.3,   6.7951,  33.7542,2,  33.7566,2,    238.0,2,   237.3,2,   26.60,2,   17.60,2,    0.00,2,    1.34,2,   4.085,2,   2.239,2,-999.000,5,  2126.7,2,  2257.9,2,   -999.0,9,  -999.00,   7.6984,2,    25.00,   0.873,2,   0.029,    1.798,2,   1.098,2, -999.00,9,  -999.0,9,    -9.0,   7.880,2,   0.007,   53.63,2,   21.11,2,  151.30,-999.0000,9,-999.0000,9,-999.0000,9,-999.0000,9,-999.0000,9,-999.0000,9,     -999.0,     -999.0,9,     -999.0,9,     -999.0,9,     -999.0,9,     -999.0,9,     -999.0,9, -999.00,9,   6.7815,    0.001,   0.182
325020060213,       P16N,      67,          1,         29,         29,2,20060324,       1006,         46,  -152.0002,       5230,   201.4,   6.1967,  33.8160,2,  33.8196,2,    212.0,2,   211.3,3,   36.20,2,   21.70,2,    0.00,2,    1.59,2,   3.837,2,   2.068,2,-999.000,5,  2159.1,2,  2268.0,6,   -999.0,9,  -999.00,   7.6373,2,    25.00,   0.744,2,   0.026,    1.830,2,   3.652,2, -999.00,9,  -999.0,9,    -9.0,   7.912,2,   0.016,   52.30,2,   25.82,2,  201.40,-999.0000,9,-999.0000,9,-999.0000,9,-999.0000,9,-999.0000,9,-999.0000,9,     -999.0,     -999.0,9,     -999.0,9,     -999.0,9,     -999.0,9,     -999.0,9,     -999.0,9, -999.00,9,   6.1795,    0.001,   0.221
325020060213,       P16N,      67,          1,         28,         28,2,20060324,       1006,         46,  -152.0002,       5230,   250.7,   5.4429,  33.8151,2,  33.8139,2,    176.4,2,   177.0,2,   47.80,2,   26.50,2,    0.00,2,    1.92,2,   3.510,2,   1.854,2,-999.000,5,  2193.6,2,  2274.8,2,   -999.0,9,  -999.00,   7.5525,2,    25.00,-999.000,9,-999.000,-999.0000,9,-999.000,9, -999.00,9,  -999.0,9,    -9.0,-999.000,9,-999.000,   50.88,2,   30.69,2,  250.70,-999.0000,9,-999.0000,9,-999.0000,9,-999.0000,9,-999.0000,9,-999.0000,9,     -999.0,     -999.0,9,     -999.0,9,     -999.0,9,     -999.0,9,     -999.0,9,     -999.0,9, -999.00,9,   5.4228,-999.0000,-999.000
325020060213,       P16N,      67,          1,         27,         27,2,20060324,       1006,         46,  -152.0002,       5230,   301.6,   4.9579,  33.8451,2,  33.8409,2,    138.8,2,   138.4,2,   59.40,2,   30.90,2,    0.00,2,    2.22,2,   3.067,2,   1.576,2,-999.000,5,  2227.3,2,  2280.3,2,   -999.0,9,  -999.00,   7.4716,2,    25.00,   0.649,2,   0.017,-999.0000,9,-999.000,9, -999.00,9,  -999.0,9,    -9.0,-999.000,9,-999.000,   49.29,2,   35.10,2,  301.60,-999.0000,9,-999.0000,9,-999.0000,9,-999.0000,9,-999.0000,9,-999.0000,9,     -999.0,     -999.0,9,     -999.0,9,     -999.0,9,     -999.0,9,     -999.0,9,     -999.0,9, -999.00,9,   4.9348,-999.0000,-999.000
325020060213,       P16N,      67,          1,         26,         26,2,20060324,       1006,         46,  -152.0002,       5230,   350.0,   4.7166,  33.8901,2,  33.8895,2,    107.4,2,   111.1,2,   68.50,2,   34.30,2,    0.00,2,    2.41,2,   2.626,2,   1.344,2,-999.000,5,  2252.9,2,  2287.7,2,   -999.0,9,  -999.00,   7.4171,2,    25.00,-999.000,9,-999.000,-999.0000,9,-999.000,9, -999.00,9,  -999.0,9,    -9.0,-999.000,9,-999.000,   46.71,2,   37.58,2,  350.00,-999.0000,9,-999.0000,9,-999.0000,9,-999.0000,9,-999.0000,9,-999.0000,9,     -999.0,     -999.0,9,     -999.0,9,     -999.0,9,     -999.0,9,     -999.0,9,     -999.0,9, -999.00,9,   4.6903,-999.0000,-999.000
325020060213,       P16N,      67,          1,         25,         25,2,20060324,       1006,         46,  -152.0002,       5230,   400.8,   4.4636,  33.9663,2,  33.9666,2,     74.1,2,    74.0,2,   81.20,2,   38.00,2,    0.00,2,    2.68,2,   2.002,2,   1.001,2,-999.000,5,  2283.7,2,  2301.0,2,   -999.0,9,  -999.00,   7.3516,2,    25.00,-999.000,9,-999.000,    1.841,2,  13.214,2, -999.00,9,  -999.0,9,    -9.0,   8.096,2,   0.006,   43.62,2,   42.60,2,  400.80,-999.0000,9,-999.0000,9,-999.0000,9,-999.0000,9,-999.0000,9,-999.0000,9,     -999.0,     -999.0,9,     -999.0,9,     -999.0,9,     -999.0,9,     -999.0,9,     -999.0,9, -999.00,9,   4.4340,    0.001,   0.193
325020060213,       P16N,      67,          1,         24,         24,2,20060324,       1006,         46,  -152.0002,       5230,   449.8,   4.3148,  34.0182,2,  34.0191,2,     59.3,2,    58.7,2,   88.70,2,   39.70,2,    0.00,2,    2.80,2,   1.609,2,   0.802,2,-999.000,5,  2299.4,2,  2308.6,2,   -999.0,9,  -999.00,   7.3287,2,    25.00,-999.000,9,-999.000,    1.869,2,  14.552,2, -999.00,9,  -999.0,9,    -9.0,   8.049,2,   0.018,   42.59,2,   43.64,2,  449.80,-999.0000,9,-999.0000,9,-999.0000,9,-999.0000,9,-999.0000,9,-999.0000,9,     -999.0,     -999.0,9,     -999.0,9,     -999.0,9,     -999.0,9,     -999.0,9,     -999.0,9, -999.00,9,   4.2819,    0.001,   0.192
325020060213,       P16N,      67,          1,         23,         23,2,20060324,       1006,         46,  -152.0002,       5230,   500.6,   4.1218,  34.0569,2,  34.0567,2,     46.8,2,    47.6,2,   95.10,2,   40.70,2,    0.00,2,    2.88,2,   1.344,2,   0.665,2,-999.000,5,  2313.8,2,  2316.1,2,   -999.0,9,  -999.00,   7.3093,2,    25.00,-999.000,9,-999.000,    1.845,2,  15.317,2, -999.00,9,  -999.0,9,    -9.0,   8.057,2,   0.007,   41.10,2,   44.60,2,  500.60,-999.0000,9,-999.0000,9,-999.0000,9,-999.0000,9,-999.0000,9,-999.0000,9,     -999.0,     -999.0,9,     -999.0,9,     -999.0,9,     -999.0,9,     -999.0,9,     -999.0,9, -999.00,9,   4.0858,    0.001,   0.192
325020060213,       P16N,      67,          1,         22,         22,2,20060324,       1006,         46,  -152.0002,       5230,   602.1,   3.7667,  34.1400,2,  34.1433,2,     31.8,2,    31.9,2,  108.70,2,   42.40,2,    0.00,2,    2.99,2,   0.826,2,   0.401,2,-999.000,5,  2335.6,2,  2332.5,2,   -999.0,9,  -999.00,   7.2944,2,    25.00,-999.000,9,-999.000,    1.859,2,  16.280,2, -999.00,9,  -999.0,9,    -9.0,   8.153,2,   0.006,   40.28,2,   45.93,2,  602.10,-999.0000,9,-999.0000,9,-999.0000,9,-999.0000,9,-999.0000,9,-999.0000,9,     -999.0,     -999.0,9,     -999.0,9,     -999.0,9,     -999.0,9,     -999.0,9,     -999.0,9, -999.00,9,   3.7244,    0.001,   0.192
325020060213,       P16N,      67,          1,         21,         21,2,20060324,       1006,         46,  -152.0002,       5230,   699.4,   3.5274,  34.2076,2,  34.2084,2,     24.7,2,    24.8,2,  118.70,2,   42.90,2,    0.00,2,    3.04,2,   0.501,2,   0.249,2,-999.000,5,  2349.3,2,  2348.1,2,   -999.0,9,  -999.00,   7.2870,2,    25.00,-999.000,9,-999.000,    1.888,2,  16.360,2, -999.00,9,  -999.0,9,    -9.0,   8.222,2,   0.006,   39.30,2,   46.90,2,  699.40,-999.0000,9,-999.0000,9,-999.0000,9,-999.0000,9,-999.0000,9,-999.0000,9,     -999.0,     -999.0,9,     -999.0,9,     -999.0,9,     -999.0,9,     -999.0,9,     -999.0,9, -999.00,9,   3.4790,    0.001,   0.190
325020060213,       P16N,      67,          1,         20,         20,2,20060324,       1006,         46,  -152.0002,       5230,   800.2,   3.3555,  34.2691,2,  34.2696,2,     23.2,2,    23.4,2,  126.00,2,   43.00,2,    0.00,2,    3.07,2,   0.305,2,   0.141,2,-999.000,5,  2359.0,2,  2358.8,2,   -999.0,9,  -999.00,   7.2954,2,    25.00,-999.000,9,-999.000,    1.859,2,  16.368,2, -999.00,9,  -999.0,9,    -9.0,   8.117,2,   0.007,   38.72,2,   46.74,2,  800.20,-999.0000,9,-999.0000,9,-999.0000,9,-999.0000,9,-999.0000,9,-999.0000,9,     -999.0,     -999.0,9,     -999.0,9,     -999.0,9,     -999.0,9,     -999.0,9,     -999.0,9, -999.00,9,   3.3006,    0.001,   0.183
325020060213,       P16N,      67,          1,         19,         19,2,20060324,       1006,         46,  -152.0002,       5230,   900.0,   3.2006,  34.3162,2,  34.3171,2,     22.7,2,    23.1,2,  131.80,2,   42.90,2,    0.00,2,    3.09,2,   0.178,2,   0.076,2,-999.000,5,  2365.8,2,  2365.0,2,   -999.0,9,  -999.00,   7.3052,2,    25.00,-999.000,9,-999.000,    1.876,2,  17.024,2, -999.00,9,  -999.0,9,    -9.0,   8.136,2,   0.008,   37.98,2,   47.43,2,  900.00,-999.0000,9,-999.0000,9,-999.0000,9,-999.0000,9,-999.0000,9,-999.0000,9,     -999.0,     -999.0,9,     -999.0,9,     -999.0,9,     -999.0,9,     -999.0,9,     -999.0,9, -999.00,9,   3.1391,    0.001,   0.188
325020060213,       P16N,      67,          1,         18,         18,2,20060324,       1006,         46,  -152.0002,       5230,  1000.1,   3.0326,  34.3580,2,  34.3608,2,     19.9,2,    20.0,2,  137.60,2,   43.40,2,    0.00,2,    3.11,2,   0.094,2,   0.048,2,-999.000,5,  2375.0,2,  2376.1,6,   -999.0,9,  -999.00,   7.3058,2,    25.00,-999.000,9,-999.000,    1.877,2,  16.574,2, -999.00,9,  -999.0,9,    -9.0,   8.182,2,   0.006,   37.66,2,   47.49,2, 1000.10,-999.0000,9,-999.0000,9,-999.0000,9,-999.0000,9,-999.0000,9,-999.0000,9,     -999.0,     -999.0,9,     -999.0,9,     -999.0,9,     -999.0,9,     -999.0,9,     -999.0,9, -999.00,9,   2.9647,    0.001,   0.190
325020060213,       P16N,      67,          1,         17,         17,2,20060324,       1006,         46,  -152.0002,       5230,  1199.5,   2.6902,  34.4282,2,  34.4285,2,     15.7,2,    16.3,2,  150.10,2,   44.20,2,    0.00,2,    3.16,2,   0.015,2,   0.012,2,-999.000,5,  2387.9,6,  2387.6,2,   -999.0,9,  -999.00,   7.3035,2,    25.00,-999.000,9,-999.000,    1.904,2,  16.597,2, -999.00,9,  -999.0,9,    -9.0,   8.279,2,   0.006,   37.76,2,   48.20,2, 1199.50,-999.0000,9,-999.0000,9,-999.0000,9,-999.0000,9,-999.0000,9,-999.0000,9,     -999.0,     -999.0,9,     -999.0,9,     -999.0,9,     -999.0,9,     -999.0,9,     -999.0,9, -999.00,9,   2.6100,    0.001,   0.185
325020060213,       P16N,      67,          1,         16,         16,2,20060324,       1006,         46,  -152.0002,       5230,  1398.7,   2.4539,  34.4788,2,  34.4784,2,     17.9,2,    18.0,2,  157.90,2,   44.20,2,    0.00,2,    3.15,2,-999.000,9,-999.000,9,-999.000,9,  2395.6,2,  2401.3,2,   -999.0,9,  -999.00,   7.3132,2,    25.00,-999.000,9,-999.000,-999.0000,9,-999.000,9, -999.00,9,  -999.0,9,    -9.0,-999.000,9,-999.000,   37.72,2,   47.70,2, 1398.70,-999.0000,9,-999.0000,9,-999.0000,9,-999.0000,9,-999.0000,9,-999.0000,9,     -999.0,     -999.0,9,     -999.0,9,     -999.0,9,     -999.0,9,     -999.0,9,     -999.0,9, -999.00,9,   2.3605,-999.0000,-999.000
325020060213,       P16N,      67,          1,         15,         15,2,20060324,       1006,         46,  -152.0002,       5230,  1599.8,   2.2698,  34.5211,2,  34.5202,2,     21.3,2,    21.5,2,  163.80,2,   44.10,2,    0.00,2,    3.14,2,  -0.001,2,   0.003,2,-999.000,5,  2398.6,2,  2409.8,2,   -999.0,9,  -999.00,   7.3247,2,    25.00,-999.000,9,-999.000,    1.945,2,  18.653,2, -999.00,9,  -999.0,9,    -9.0,   8.346,2,   0.019,   37.85,2,   47.57,2, 1599.80,-999.0000,9,-999.0000,9,-999.0000,9,-999.0000,9,-999.0000,9,-999.0000,9,     -999.0,     -999.0,9,     -999.0,9,     -999.0,9,     -999.0,9,     -999.0,9,     -999.0,9, -999.00,9,   2.1627,    0.001,   0.191
325020060213,       P16N,      67,          1,         14,         14,2,20060324,       1006,         46,  -152.0002,       5230,  1800.3,   2.1050,  34.5567,2,  34.5544,2,     32.2,2,    30.7,2,  167.90,6,   43.50,6,    0.00,2,    3.11,2,-999.000,9,-999.000,9,-999.000,9,  2397.3,2,  2416.1,2,   -999.0,9,  -999.00,   7.3495,2,    25.00,-999.000,9,-999.000,-999.0000,9,-999.000,9, -999.00,9,  -999.0,9,    -9.0,-999.000,9,-999.000,   37.85,2,   47.58,2, 1800.30,-999.0000,9,-999.0000,9,-999.0000,9,-999.0000,9,-999.0000,9,-999.0000,9,     -999.0,     -999.0,9,     -999.0,9,     -999.0,9,     -999.0,9,     -999.0,9,     -999.0,9, -999.00,9,   1.9838,-999.0000,-999.000
325020060213,       P16N,      67,          1,         13,         13,4,20060324,       1006,         46,  -152.0002,       5230,  1995.8,   1.9664,  34.5862,2,  34.4542,4,     45.7,2,    16.5,4,  154.00,4,   44.20,4,    0.00,4,    3.15,4,   0.011,3,   0.006,6,-999.000,5,  2390.9,2,  2392.6,3,   -999.0,9,  -999.00,   7.3100,3,    25.00,-999.000,9,-999.000,    1.919,2,  17.297,2, -999.00,9,  -999.0,9,    -9.0,   8.301,2,   0.006,   37.67,2,   47.71,2, 1995.80,-999.0000,9,-999.0000,9,-999.0000,9,-999.0000,9,-999.0000,9,-999.0000,9,     -999.0,     -999.0,9,     -999.0,9,     -999.0,9,     -999.0,9,     -999.0,9,     -999.0,9, -999.00,9,   1.8310,    0.001,   0.188
325020060213,       P16N,      67,          1,         12,         12,2,20060324,       1006,         46,  -152.0002,       5230,  2249.0,   1.8318,  34.6128,2,  34.6129,2,     62.0,2,    57.3,3,  172.20,6,   41.60,6,    0.00,2,    2.98,2,-999.000,9,-999.000,9,-999.000,9,  2385.0,2,  2419.9,2,   -999.0,9,  -999.00,   7.4104,2,    25.00,-999.000,9,-999.000,-999.0000,9,-999.000,9, -999.00,9,  -999.0,9,    -9.0,-999.000,9,-999.000,   37.55,2,   45.10,2, 2249.00,-999.0000,9,-999.0000,9,-999.0000,9,-999.0000,9,-999.0000,9,-999.0000,9,     -999.0,     -999.0,9,     -999.0,9,     -999.0,9,     -999.0,9,     -999.0,9,     -999.0,9, -999.00,9,   1.6769,-999.0000,-999.000
325020060213,       P16N,      67,          1,         11,         11,2,20060324,       1006,         46,  -152.0002,       5230,  2499.9,   1.7300,  34.6311,2,  34.6302,2,     77.8,2,    68.8,4,  170.40,2,   40.50,2,    0.00,2,    2.91,2,   0.009,2,  -0.001,2,-999.000,5,  2375.4,2,  2422.0,2,   -999.0,9,  -999.00,   7.4412,2,    25.00,-999.000,9,-999.000,-999.0000,9,-999.000,9, -999.00,9,  -999.0,9,    -9.0,-999.000,9,-999.000,   37.21,2,   44.16,2, 2499.90,-999.0000,9,-999.0000,9,-999.0000,9,-999.0000,9,-999.0000,9,-999.0000,9,     -999.0,     -999.0,9,     -999.0,9,     -999.0,9,     -999.0,9,     -999.0,9,     -999.0,9, -999.00,9,   1.5548,-999.0000,-999.000
325020060213,       P16N,      67,          1,         10,         10,2,20060324,       1006,         46,  -152.0002,       5230,  2748.6,   1.6497,  34.6458,2,  34.6441,2,     93.2,2,    83.9,4,  168.30,2,   39.40,2,    0.00,2,    2.83,2,-999.000,9,-999.000,9,-999.000,9,  2366.2,2,  2425.5,2,   -999.0,9,  -999.00,   7.4699,2,    25.00,-999.000,9,-999.000,-999.0000,9,-999.000,9, -999.00,9,  -999.0,9,    -9.0,-999.000,9,-999.000,   37.12,2,   43.54,2, 2748.60,-999.0000,9,-999.0000,9,-999.0000,9,-999.0000,9,-999.0000,9,-999.0000,9,     -999.0,     -999.0,9,     -999.0,9,     -999.0,9,     -999.0,9,     -999.0,9,     -999.0,9, -999.00,9,   1.4535,-999.0000,-999.000