BOTTLE,20170720CCHSIOCBG
EXPOCODE,SECT_ID,STNNBR,CASTNO,SAMPNO,BTLNBR,BTLNBR_FLAG_W,DATE,TIME,LATITUDE,LONGITUDE,DEPTH,CTDPRS,CTDTMP,CTDSAL,CTDSAL_FLAG_W,SALNTY,SALNTY_FLAG_W,CTDOXY,CTDOXY_FLAG_W,OXYGEN,OXYGEN_FLAG_W,SILCAT,SILCAT_FLAG_W,NITRAT,NITRAT_FLAG_W,NITRIT,NITRIT_FLAG_W,PHSPHT,PHSPHT_FLAG_W,CFC-11,CFC-11_FLAG_W,CFC-12,CFC-12_FLAG_W,CFC113,CFC113_FLAG_W,TCARBN,TCARBN_FLAG_W,ALKALI,ALKALI_FLAG_W,FCO2,FCO2_FLAG_W,FCO2TMP,PH_TOT,PH_TOT_FLAG_W,PH_TMP,TRITUM,TRITUM_FLAG_W,TRITER,HELIUM,HELIUM_FLAG_W,DELHE3,DELHE3_FLAG_W,DELC13,DELC13_FLAG_W,DELC14,DELC14_FLAG_W,C14ERR,NEON,NEON_FLAG_W,NEONER,DOC,DOC_FLAG_W,TDN,TDN_FLAG_W,CTDRAW,CDOM325,CDOM325_FLAG_W,CDOM340,CDOM340_FLAG_W,CDOM380,CDOM380_FLAG_W,CDOM412,CDOM412_FLAG_W,CDOMSL,CDOMSL_FLAG_W,CDOMSN,CDOMSN_FLAG_W,DCNS,ARABI,ARABI_FLAG_W,FUCO,FUCO_FLAG_W,GALA,GALA_FLAG_W,GLUC,GLUC_FLAG_W,MAN,MAN_FLAG_W,RHAM,RHAM_FLAG_W,BRDU,BRDU_FLAG_W,THETA,HELIER,DELHER
,,,,,,,,,,,METERS,DBAR,ITS-90,PSS-78,,PSS-78,,UMOL/KG,,UMOL/KG,,UMOL/KG,,UMOL/KG,,UMOL/KG,,UMOL/KG,,PMOL/KG,,PMOL/KG,,PMOL/KG,,UMOL/KG,,UMOL/KG,,UATM,,DEG C,,,DEG C,TU,,TU,NMOL/KG,,PERCNT,,/MILLE,,/MILLE,,/MILLE,NMOL/KG,,NMOL/KG,UMOL/KG,,UMOL/KG,,DBAR,1/M,,1/M,,1/M,,1/M,,1/NM,,1/NM,,NMOL/KG,NMOL/KG,,NMOL/KG,,NMOL/KG,,NMOL/KG,,NMOL/KG,,NMOL/KG,,PMOL/L/H,,DEG C,NMOL/KG,PERCNT
325020060213,       P16N,      57,          2,          9,          9,2,20060318,       1040,         35,       -152,       5652,  3000.6,   1.5626,  34.6648,2,  34.6634,2,    114.0,2,   114.5,2,  164.60,2,   38.40,2,    0.00,2,    2.70,2,   0.000,2,   0.001,6,-999.000,5,  2355.7,2,  2434.8,2,   -999.0,9,  -999.00,   7.5155,2,    25.00,-999.000,9,-999.000,-999.0000,9,-999.000,9, -999.00,9,  -999.0,9,    -9.0,-999.000,9,-999.000,   38.08,2,   41.88,2, 3000.60,-999.0000,9,-999.0000,9,-999.0000,9,-999.0000,9,-999.0000,9,-999.0000,9,     -999.0,     -999.0,9,     -999.0,9,     -999.0,9,     -999.0,9,     -999.0,9,     -999.0,9, -999.00,9,   1.3444,-999.0000,-999.000
325020060213,       P16N,      57,          2,          8,          8,2,20060318,       1040,         35,       -152,       5652,  3248.9,   1.5176,  34.6722,2,  34.6685,3,    124.4,2,   124.3,2,  161.60,6,   37.50,2,    0.00,6,    2.65,6,-999.000,9,-999.000,9,-999.000,9,  2347.3,2,  2436.0,2,   -999.0,9,  -999.00,   7.5337,2,    25.00,-999.000,9,-999.000,-999.0000,9,-999.000,9, -999.00,9,  -999.0,9,    -9.0,-999.000,9,-999.000,   37.64,2,   40.64,2, 3248.90,-999.0000,9,-999.0000,9,-999.0000,9,-999.0000,9,-999.0000,9,-999.0000,9,     -999.0,     -999.0,9,     -999.0,9,     -999.0,9,     -999.0,9,     -999.0,9,     -999.0,9, -999.00,9,   1.2763,-999.0000,-999.000
325020060213,       P16N,      57,          2,          7,          7,2,20060318,       1040,         35,       -152,       5652,  3650.0,   1.4807,  34.6809,2,  34.6795,2,    136.3,2,   136.1,2,  158.40,2,   37.10,2,    0.00,2,    2.59,2,-999.000,9,-999.000,9,-999.000,9,  2339.8,2,  2426.8,6,   -999.0,9,  -999.00,   7.5541,6,    25.00,-999.000,9,-999.000,-999.0000,9,-999.000,9, -999.00,9,  -999.0,9,    -9.0,-999.000,9,-999.000,   37.20,2,   40.36,2, 3650.00,-999.0000,9,-999.0000,9,-999.0000,9,-999.0000,9,-999.0000,9,-999.0000,9,     -999.0,     -999.0,9,     -999.0,9,     -999.0,9,     -999.0,9,     -999.0,9,     -999.0,9, -999.00,9,   1.1996,-999.0000,-999.000
325020060213,       P16N,      57,          2,          6,          6,2,20060318,       1040,         35,       -152,       5652,  4049.5,   1.4817,  34.6856,2,  34.6841,2,    143.3,2,   142.9,2,  156.20,2,   36.80,2,    0.00,2,    2.55,2,   0.003,2,   0.001,2,-999.000,5,  2335.0,2,  2428.8,2,   -999.0,9,  -999.00,   7.5678,2,    25.00,-999.000,9,-999.000,    1.955,2,  15.909,2, -999.00,9,  -999.0,9,    -9.0,   8.233,2,   0.034,   36.69,2,   40.33,2, 4049.50,-999.0000,9,-999.0000,9,-999.0000,9,-999.0000,9,-999.0000,9,-999.0000,9,     -999.0,     -999.0,9,     -999.0,9,     -999.0,9,     -999.0,9,     -999.0,9,     -999.0,9, -999.00,9,   1.1579,    0.003,   0.396
325020060213,       P16N,      57,          2,          5,          5,2,20060318,       1040,         35,       -152,       5652,  4547.7,   1.5056,  34.6892,2,  34.6916,2,    148.3,2,   147.9,2,  154.90,2,   36.30,2,    0.00,2,    2.52,2,-999.000,9,-999.000,9,-999.000,9,  2331.2,2,  2427.5,2,   -999.0,9,  -999.00,   7.5794,2,    25.00,-999.000,9,-999.000,-999.0000,9,-999.000,9, -999.00,9,  -999.0,9,    -9.0,-999.000,9,-999.000,   37.53,2,   39.55,2, 4547.70,-999.0000,9,-999.0000,9,-999.0000,9,-999.0000,9,-999.0000,9,-999.0000,9,     -999.0,     -999.0,9,     -999.0,9,     -999.0,9,     -999.0,9,     -999.0,9,     -999.0,9, -999.00,9,   1.1249,-999.0000,-999.000
325020060213,       P16N,      57,          2,          4,          4,2,20060318,       1040,         35,       -152,       5652,  5049.2,   1.5445,  34.6915,2,  34.6900,2,    153.3,2,   152.3,2,  149.70,6,   36.00,6,    0.00,6,    2.49,6,   0.000,2,  -0.001,2,-999.000,5,  2327.3,2,  2433.4,2,   -999.0,9,  -999.00,   7.5841,2,    25.00,-999.000,9,-999.000,-999.0000,9,-999.000,9, -999.00,9,  -999.0,9,    -9.0,-999.000,9,-999.000,   36.74,2,   39.67,2, 5049.20,-999.0000,9,-999.0000,9,-999.0000,9,-999.0000,9,-999.0000,9,-999.0000,9,     -999.0,     -999.0,9,     -999.0,9,     -999.0,9,     -999.0,9,     -999.0,9,     -999.0,9, -999.00,9,   1.1028,-999.0000,-999.000
325020060213,       P16N,      57,          2,          3,          3,2,20060318,       1040,         35,       -152,       5652,  5351.1,   1.5756,  34.6924,2,  34.6918,2,    155.6,2,   154.5,2,  147.40,6,   35.90,6,    0.00,6,    2.47,6,-999.000,9,-999.000,9,-999.000,9,  2325.8,2,  2432.9,2,   -999.0,9,  -999.00,   7.5878,2,    25.00,-999.000,9,-999.000,-999.0000,9,-999.000,9, -999.00,9,  -999.0,9,    -9.0,-999.000,9,-999.000,   37.06,2,   39.55,2, 5351.10,-999.0000,9,-999.0000,9,-999.0000,9,-999.0000,9,-999.0000,9,-999.0000,9,     -999.0,     -999.0,9,     -999.0,9,     -999.0,9,     -999.0,9,     -999.0,9,     -999.0,9, -999.00,9,   1.0952,-999.0000,-999.000
325020060213,       P16N,      57,          2,          2,          2,2,20060318,       1040,         35,       -152,       5652,  5598.7,   1.6064,  34.6926,2,  34.6924,2,    155.7,2,   149.2,4,  146.70,6,   35.70,6,    0.00,6,    2.47,6,   0.015,3,   0.003,2,-999.000,5,  2326.3,2,  2432.9,2,   -999.0,9,  -999.00,   7.5866,2,    25.00,-999.000,9,-999.000,-999.0000,9,-999.000,9, -999.00,9,  -999.0,9,    -9.0,-999.000,9,-999.000,   37.20,2,   39.60,2, 5598.70,-999.0000,9,-999.0000,9,-999.0000,9,-999.0000,9,-999.0000,9,-999.0000,9,     -999.0,     -999.0,9,     -999.0,9,     -999.0,9,     -999.0,9,     -999.0,9,     -999.0,9, -999.00,9,   1.0933,-999.0000,-999.000
325020060213,       P16N,      57,          2,          1,          1,2,20060318,       1040,         35,       -152,       5652,  5806.5,   1.6331,  34.6927,2,  34.6918,2,    156.4,2,   155.8,2,  146.20,6,   35.70,6,    0.00,6,    2.47,6,   0.007,2,   0.005,2,-999.000,5,  2325.0,6,  2432.2,2,   -999.0,9,  -999.00,   7.5883,2,    25.00,-999.000,9,-999.000,    1.925,2,  14.926,2, -999.00,9,  -999.0,9,    -9.0,   8.050,2,   0.072,   37.02,2,   38.85,2, 5806.50,-999.0000,9,-999.0000,9,-999.0000,9,-999.0000,9,-999.0000,9,-999.0000,9,     -999.0,     -999.0,9,     -999.0,9,     -999.0,9,     -999.0,9,     -999.0,9,     -999.0,9, -999.00,9,   1.0918,    0.006,   0.134