BOTTLE,20170720CCHSIOCBG
EXPOCODE,SECT_ID,STNNBR,CASTNO,SAMPNO,BTLNBR,BTLNBR_FLAG_W,DATE,TIME,LATITUDE,LONGITUDE,DEPTH,CTDPRS,CTDTMP,CTDSAL,CTDSAL_FLAG_W,SALNTY,SALNTY_FLAG_W,CTDOXY,CTDOXY_FLAG_W,OXYGEN,OXYGEN_FLAG_W,SILCAT,SILCAT_FLAG_W,NITRAT,NITRAT_FLAG_W,NITRIT,NITRIT_FLAG_W,PHSPHT,PHSPHT_FLAG_W,CFC-11,CFC-11_FLAG_W,CFC-12,CFC-12_FLAG_W,CFC113,CFC113_FLAG_W,TCARBN,TCARBN_FLAG_W,ALKALI,ALKALI_FLAG_W,FCO2,FCO2_FLAG_W,FCO2TMP,PH_TOT,PH_TOT_FLAG_W,PH_TMP,TRITUM,TRITUM_FLAG_W,TRITER,HELIUM,HELIUM_FLAG_W,DELHE3,DELHE3_FLAG_W,DELC13,DELC13_FLAG_W,DELC14,DELC14_FLAG_W,C14ERR,NEON,NEON_FLAG_W,NEONER,DOC,DOC_FLAG_W,TDN,TDN_FLAG_W,CTDRAW,CDOM325,CDOM325_FLAG_W,CDOM340,CDOM340_FLAG_W,CDOM380,CDOM380_FLAG_W,CDOM412,CDOM412_FLAG_W,CDOMSL,CDOMSL_FLAG_W,CDOMSN,CDOMSN_FLAG_W,DCNS,ARABI,ARABI_FLAG_W,FUCO,FUCO_FLAG_W,GALA,GALA_FLAG_W,GLUC,GLUC_FLAG_W,MAN,MAN_FLAG_W,RHAM,RHAM_FLAG_W,BRDU,BRDU_FLAG_W,THETA,HELIER,DELHER
,,,,,,,,,,,METERS,DBAR,ITS-90,PSS-78,,PSS-78,,UMOL/KG,,UMOL/KG,,UMOL/KG,,UMOL/KG,,UMOL/KG,,UMOL/KG,,PMOL/KG,,PMOL/KG,,PMOL/KG,,UMOL/KG,,UMOL/KG,,UATM,,DEG C,,,DEG C,TU,,TU,NMOL/KG,,PERCNT,,/MILLE,,/MILLE,,/MILLE,NMOL/KG,,NMOL/KG,UMOL/KG,,UMOL/KG,,DBAR,1/M,,1/M,,1/M,,1/M,,1/NM,,1/NM,,NMOL/KG,NMOL/KG,,NMOL/KG,,NMOL/KG,,NMOL/KG,,NMOL/KG,,NMOL/KG,,PMOL/L/H,,DEG C,NMOL/KG,PERCNT
325020060213,       P16N,      71,          1,         36,         36,2,20060326,       0248,         50,  -151.9995,       4908,     4.9,   4.5437,  32.6481,2,  32.6528,2,    316.4,2,   317.1,2,   26.10,2,   13.50,2,    0.10,2,    1.37,2,   4.972,2,   2.728,2,-999.000,5,  2060.0,6,  2199.9,2,   -999.0,9,  -999.00,   7.7513,6,    25.00,-999.000,9,-999.000,    2.368,4,  -0.401,4, -999.00,9,  -999.0,9,    -9.0,   8.309,2,   0.057,   55.72,2,   18.34,2,    4.90,-999.0000,9,-999.0000,9,-999.0000,9,-999.0000,9,-999.0000,9,-999.0000,9,     -999.0,     -999.0,9,     -999.0,9,     -999.0,9,     -999.0,9,     -999.0,9,     -999.0,9, -999.00,9,   4.5434,    0.004,   0.094
325020060213,       P16N,      71,          1,         35,         35,2,20060326,       0248,         50,  -151.9995,       4908,    24.8,   4.5059,  32.6524,2,  32.6569,2,    315.1,2,   316.6,2,   26.60,2,   13.80,2,    0.10,2,    1.38,2,   4.970,2,   2.726,2,-999.000,5,  2061.1,2,  2200.8,2,   -999.0,9,  -999.00,   7.7473,2,    25.00,-999.000,9,-999.000,-999.0000,9,-999.000,9, -999.00,9,  -999.0,9,    -9.0,-999.000,9,-999.000,   56.72,2,   18.12,2,   24.80,-999.0000,9,-999.0000,9,-999.0000,9,-999.0000,9,-999.0000,9,-999.0000,9,     -999.0,     -999.0,9,     -999.0,9,     -999.0,9,     -999.0,9,     -999.0,9,     -999.0,9, -999.00,9,   4.5041,-999.0000,-999.000
325020060213,       P16N,      71,          1,         34,         34,2,20060326,       0248,         50,  -151.9995,       4908,    49.8,   4.4547,  32.6573,2,  32.6592,2,    313.9,2,   315.3,2,   26.70,2,   13.80,2,    0.10,2,    1.39,2,   4.994,2,   2.737,2,-999.000,5,  2064.2,2,  2200.0,2,   -999.0,9,  -999.00,   7.7444,2,    25.00,-999.000,9,-999.000,-999.0000,9,-999.000,9, -999.00,9,  -999.0,9,    -9.0,-999.000,9,-999.000,   56.90,2,   17.86,2,   49.80,-999.0000,9,-999.0000,9,-999.0000,9,-999.0000,9,-999.0000,9,-999.0000,9,     -999.0,     -999.0,9,     -999.0,9,     -999.0,9,     -999.0,9,     -999.0,9,     -999.0,9, -999.00,9,   4.4513,-999.0000,-999.000
325020060213,       P16N,      71,          1,         33,         33,2,20060326,       0248,         50,  -151.9995,       4908,    75.0,   4.4441,  32.6581,2,  32.6661,2,    314.8,2,   315.0,2,   26.70,2,   14.00,2,    0.10,2,    1.39,2,   4.961,2,   2.733,2,-999.000,5,  2063.4,2,  2201.0,2,   -999.0,9,  -999.00,   7.7431,2,    25.00,-999.000,9,-999.000,    1.825,2,  -1.570,2, -999.00,9,  -999.0,9,    -9.0,   8.183,2,   0.018,   55.78,2,   18.21,2,   75.00,-999.0000,9,-999.0000,9,-999.0000,9,-999.0000,9,-999.0000,9,-999.0000,9,     -999.0,     -999.0,9,     -999.0,9,     -999.0,9,     -999.0,9,     -999.0,9,     -999.0,9, -999.00,9,   4.4389,    0.001,   0.176
325020060213,       P16N,      71,          1,         32,         32,2,20060326,       0248,         50,  -151.9995,       4908,    99.2,   4.4322,  32.6599,2,  32.6805,2,    315.6,2,   310.6,2,   27.30,2,   14.10,2,    0.10,2,    1.39,2,   4.961,2,   2.707,2,-999.000,5,  2068.3,2,  2201.2,2,   -999.0,9,  -999.00,   7.7375,2,    25.00,-999.000,9,-999.000,-999.0000,9,-999.000,9, -999.00,9,  -999.0,9,    -9.0,-999.000,9,-999.000,   53.35,2,   18.38,2,   99.20,-999.0000,9,-999.0000,9,-999.0000,9,-999.0000,9,-999.0000,9,-999.0000,9,     -999.0,     -999.0,9,     -999.0,9,     -999.0,9,     -999.0,9,     -999.0,9,     -999.0,9, -999.00,9,   4.4253,-999.0000,-999.000
325020060213,       P16N,      71,          1,         31,         31,2,20060326,       0248,         50,  -151.9995,       4908,   125.0,   4.1574,  33.5225,2,  33.5238,2,    166.1,2,   186.9,2,   51.40,2,   28.70,2,    0.00,2,    2.11,2,   4.039,2,   2.109,2,-999.000,5,  2195.7,2,  2255.1,2,   -999.0,9,  -999.00,   7.5047,2,    25.00,-999.000,9,-999.000,-999.0000,9,-999.000,9, -999.00,9,  -999.0,9,    -9.0,-999.000,9,-999.000,   50.70,2,   32.61,2,  125.00,-999.0000,9,-999.0000,9,-999.0000,9,-999.0000,9,-999.0000,9,-999.0000,9,     -999.0,     -999.0,9,     -999.0,9,     -999.0,9,     -999.0,9,     -999.0,9,     -999.0,9, -999.00,9,   4.1489,-999.0000,-999.000
325020060213,       P16N,      71,          1,         30,         30,2,20060326,       0248,         50,  -151.9995,       4908,   149.2,   4.0975,  33.6888,2,  33.6917,2,    147.7,2,   146.1,2,   60.70,2,   32.20,2,    0.00,2,    2.31,2,   3.569,2,   1.823,2,-999.000,5,  2229.7,6,  2268.1,6,   -999.0,9,  -999.00,   7.4382,2,    25.00,-999.000,9,-999.000,    1.822,2,   5.817,2, -999.00,9,  -999.0,9,    -9.0,   7.948,2,   0.030,   49.90,2,   36.31,2,  149.20,-999.0000,9,-999.0000,9,-999.0000,9,-999.0000,9,-999.0000,9,-999.0000,9,     -999.0,     -999.0,9,     -999.0,9,     -999.0,9,     -999.0,9,     -999.0,9,     -999.0,9, -999.00,9,   4.0873,    0.004,   0.258
325020060213,       P16N,      71,          1,         29,         29,9,20060326,       0248,         50,  -151.9995,       4908,   200.1,   4.0265,  33.7969,2,-999.0000,9,    103.1,2,  -999.0,9, -999.00,9, -999.00,9, -999.00,9, -999.00,9,-999.000,9,-999.000,9,-999.000,9,  -999.0,9,  -999.0,9,   -999.0,9,  -999.00,-999.0000,9,  -999.00,-999.000,9,-999.000,-999.0000,9,-999.000,9, -999.00,9,  -999.0,9,    -9.0,-999.000,9,-999.000, -999.00,9, -999.00,9,  200.10,-999.0000,9,-999.0000,9,-999.0000,9,-999.0000,9,-999.0000,9,-999.0000,9,     -999.0,     -999.0,9,     -999.0,9,     -999.0,9,     -999.0,9,     -999.0,9,     -999.0,9, -999.00,9,   4.0128,-999.0000,-999.000
325020060213,       P16N,      71,          1,         28,         28,2,20060326,       0248,         50,  -151.9995,       4908,   249.1,   4.0148,  33.8895,2,  33.8901,2,     67.6,2,    67.4,2,   82.80,2,   39.50,2,    0.00,2,    2.75,2,   2.309,2,   1.141,2,-999.000,5,  2292.5,2,  2293.4,2,   -999.0,9,  -999.00,   7.3070,2,    25.00,-999.000,9,-999.000,    1.852,2,  11.765,2, -999.00,9,  -999.0,9,    -9.0,   8.529,3,   0.051,   48.16,2,   43.93,2,  249.10,-999.0000,9,-999.0000,9,-999.0000,9,-999.0000,9,-999.0000,9,-999.0000,9,     -999.0,     -999.0,9,     -999.0,9,     -999.0,9,     -999.0,9,     -999.0,9,     -999.0,9, -999.00,9,   3.9976,    0.003,   0.189
325020060213,       P16N,      71,          1,         27,         27,2,20060326,       0248,         50,  -151.9995,       4908,   300.8,   4.0018,  33.9616,2,  33.9608,2,     46.4,2,    45.9,2,   90.20,2,   41.50,2,    0.00,2,    2.86,2,   1.852,2,   0.908,2,-999.000,5,  2311.3,2,  2302.9,2,   -999.0,9,  -999.00,   7.2774,2,    25.00,-999.000,9,-999.000,    1.839,2,  13.062,2, -999.00,9,  -999.0,9,    -9.0,   8.005,2,   0.012,   47.16,2,   45.19,2,  300.80,-999.0000,9,-999.0000,9,-999.0000,9,-999.0000,9,-999.0000,9,-999.0000,9,     -999.0,     -999.0,9,     -999.0,9,     -999.0,9,     -999.0,9,     -999.0,9,     -999.0,9, -999.00,9,   3.9809,    0.001,   0.187
325020060213,       P16N,      71,          1,         26,         26,2,20060326,       0248,         50,  -151.9995,       4908,   351.3,   3.9030,  34.0391,2,  34.0416,2,     30.1,2,    32.7,2,   99.20,2,   42.60,2,    0.00,2,    2.96,2,   1.357,2,   0.644,2,-999.000,5,  2326.1,2,  2309.4,2,   -999.0,9,  -999.00,   7.2688,2,    25.00,-999.000,9,-999.000,    1.837,2,  15.099,2, -999.00,9,  -999.0,9,    -9.0,   8.069,2,   0.008,   46.37,2,   46.64,2,  351.30,-999.0000,9,-999.0000,9,-999.0000,9,-999.0000,9,-999.0000,9,-999.0000,9,     -999.0,     -999.0,9,     -999.0,9,     -999.0,9,     -999.0,9,     -999.0,9,     -999.0,9, -999.00,9,   3.8787,    0.001,   0.186
325020060213,       P16N,      71,          1,         25,         25,2,20060326,       0248,         50,  -151.9995,       4908,   399.6,   3.8173,  34.0734,2,  34.0727,2,     23.2,2,    26.5,2,  104.00,2,   43.10,2,    0.00,2,    3.00,2,   1.134,2,   0.544,2,-999.000,5,  2333.0,2,  2321.3,2,   -999.0,9,  -999.00,   7.2661,2,    25.00,-999.000,9,-999.000,    1.872,2,  16.621,2, -999.00,9,  -999.0,9,    -9.0,   8.087,2,   0.018,   45.34,2,   47.57,2,  399.60,-999.0000,9,-999.0000,9,-999.0000,9,-999.0000,9,-999.0000,9,-999.0000,9,     -999.0,     -999.0,9,     -999.0,9,     -999.0,9,     -999.0,9,     -999.0,9,     -999.0,9, -999.00,9,   3.7897,    0.001,   0.195
325020060213,       P16N,      71,          1,         24,         24,2,20060326,       0248,         50,  -151.9995,       4908,   448.9,   3.7103,  34.1155,2,  34.1148,2,     21.1,2,    20.7,2,  109.60,2,   43.50,2,    0.00,2,    3.04,2,   0.870,2,   0.409,2,-999.000,5,  2341.2,2,  2327.5,2,   -999.0,9,  -999.00,   7.2615,2,    25.00,-999.000,9,-999.000,    1.866,2,  16.441,2, -999.00,9,  -999.0,9,    -9.0,   1.452,4,   0.010,   44.32,2,   47.95,2,  448.90,-999.0000,9,-999.0000,9,-999.0000,9,-999.0000,9,-999.0000,9,-999.0000,9,     -999.0,     -999.0,9,     -999.0,9,     -999.0,9,     -999.0,9,     -999.0,9,     -999.0,9, -999.00,9,   3.6796,    0.003,   0.097
325020060213,       P16N,      71,          1,         23,         23,2,20060326,       0248,         50,  -151.9995,       4908,   482.1,   3.6625,  34.1368,2,  34.1361,2,     19.2,2,    19.3,2,  112.30,2,   43.70,2,    0.00,2,    3.05,2,   0.767,6,   0.366,6,-999.000,5,  2344.4,2,  2331.6,2,   -999.0,9,  -999.00,   7.2597,2,    25.00,-999.000,9,-999.000,    1.865,2,  16.530,2, -999.00,9,  -999.0,9,    -9.0,   7.945,2,   0.055,   42.93,2,   48.20,2,  482.10,-999.0000,9,-999.0000,9,-999.0000,9,-999.0000,9,-999.0000,9,-999.0000,9,     -999.0,     -999.0,9,     -999.0,9,     -999.0,9,     -999.0,9,     -999.0,9,     -999.0,9, -999.00,9,   3.6295,    0.003,   0.097
325020060213,       P16N,      71,          1,         22,         22,3,20060326,       0248,         50,  -151.9995,       4908,   600.0,   3.4592,  34.2100,2,  34.2125,2,     19.0,2,    18.1,2,  121.40,2,   43.40,2,    0.00,2,    3.06,2,   0.475,2,   0.227,2,-999.000,5,  2354.9,2,  2343.8,2,   -999.0,9,  -999.00,   7.2744,2,    25.00,-999.000,9,-999.000,-999.0000,9,-999.000,9, -999.00,9,  -999.0,9,    -9.0,-999.000,9,-999.000,   41.96,2,   47.40,2,  600.00,-999.0000,9,-999.0000,9,-999.0000,9,-999.0000,9,-999.0000,9,-999.0000,9,     -999.0,     -999.0,9,     -999.0,9,     -999.0,9,     -999.0,9,     -999.0,9,     -999.0,9, -999.00,9,   3.4185,-999.0000,-999.000
325020060213,       P16N,      71,          1,         21,         21,2,20060326,       0248,         50,  -151.9995,       4908,   700.2,   3.2866,  34.2690,2,  34.2719,2,     19.0,2,    18.8,2,  128.80,2,   43.60,2,    0.00,2,    3.08,2,   0.297,2,   0.141,2,-999.000,5,  2359.5,2,  2354.9,2,   -999.0,9,  -999.00,   7.2860,2,    25.00,-999.000,9,-999.000,    1.885,2,  16.632,2, -999.00,9,  -999.0,9,    -9.0,   8.306,2,   0.036,   40.95,2,   47.78,2,  700.20,-999.0000,9,-999.0000,9,-999.0000,9,-999.0000,9,-999.0000,9,-999.0000,9,     -999.0,     -999.0,9,     -999.0,9,     -999.0,9,     -999.0,9,     -999.0,9,     -999.0,9, -999.00,9,   3.2394,    0.002,   0.185
325020060213,       P16N,      71,          1,         20,         20,2,20060326,       0248,         50,  -151.9995,       4908,   799.5,   3.1160,  34.3173,2,  34.3160,2,     19.7,2,    19.2,2,  134.90,2,   43.30,2,    0.00,2,    3.08,2,   0.201,2,   0.097,2,-999.000,5,  2366.1,2,  2365.2,2,   -999.0,9,  -999.00,   7.2932,2,    25.00,-999.000,9,-999.000,-999.0000,9,-999.000,9, -999.00,9,  -999.0,9,    -9.0,-999.000,9,-999.000,   40.33,2,   47.02,2,  799.50,-999.0000,9,-999.0000,9,-999.0000,9,-999.0000,9,-999.0000,9,-999.0000,9,     -999.0,     -999.0,9,     -999.0,9,     -999.0,9,     -999.0,9,     -999.0,9,     -999.0,9, -999.00,9,   3.0625,-999.0000,-999.000
325020060213,       P16N,      71,          1,         19,         19,2,20060326,       0248,         50,  -151.9995,       4908,   900.9,   2.9882,  34.3550,2,  34.3544,2,     19.8,2,    19.9,2,  139.50,2,   43.50,2,    0.00,2,    3.10,2,   0.108,2,   0.056,2,-999.000,5,  2374.3,2,  2372.4,2,   -999.0,9,  -999.00,   7.3026,2,    25.00,-999.000,9,-999.000,    1.887,2,  16.923,2, -999.00,9,  -999.0,9,    -9.0,   8.130,2,   0.008,   39.36,2,   47.40,2,  900.90,-999.0000,9,-999.0000,9,-999.0000,9,-999.0000,9,-999.0000,9,-999.0000,9,     -999.0,     -999.0,9,     -999.0,9,     -999.0,9,     -999.0,9,     -999.0,9,     -999.0,9, -999.00,9,   2.9280,    0.001,   0.184
325020060213,       P16N,      71,          1,         18,         18,2,20060326,       0248,         50,  -151.9995,       4908,   999.3,   2.8515,  34.3893,2,  34.3891,2,     18.8,2,    18.9,2,  144.30,2,   43.80,2,    0.00,2,    3.11,2,   0.058,2,   0.032,2,-999.000,5,  2378.9,6,  2379.2,6,   -999.0,9,  -999.00,   7.3038,6,    25.00,-999.000,9,-999.000,    1.884,2,  16.879,2, -999.00,9,  -999.0,9,    -9.0,   8.198,2,   0.007,   38.67,2,   48.18,2,  999.30,-999.0000,9,-999.0000,9,-999.0000,9,-999.0000,9,-999.0000,9,-999.0000,9,     -999.0,     -999.0,9,     -999.0,9,     -999.0,9,     -999.0,9,     -999.0,9,     -999.0,9, -999.00,9,   2.7850,    0.001,   0.216
325020060213,       P16N,      71,          1,         17,         17,2,20060326,       0248,         50,  -151.9995,       4908,  1201.5,   2.5815,  34.4475,2,  34.4465,2,     19.8,2,    20.1,2,  153.70,2,   43.90,2,    0.00,2,    3.13,2,   0.024,2,   0.009,2,-999.000,5,  2387.9,2,  2389.6,2,   -999.0,9,  -999.00,   7.3094,2,    25.00,-999.000,9,-999.000,    1.914,2,  17.101,2, -999.00,9,  -999.0,9,    -9.0,   8.291,2,   0.007,   38.21,2,   47.33,2, 1201.50,-999.0000,9,-999.0000,9,-999.0000,9,-999.0000,9,-999.0000,9,-999.0000,9,     -999.0,     -999.0,9,     -999.0,9,     -999.0,9,     -999.0,9,     -999.0,9,     -999.0,9, -999.00,9,   2.5021,    0.001,   0.189
325020060213,       P16N,      71,          1,         16,         16,2,20060326,       0248,         50,  -151.9995,       4908,  1399.9,   2.3573,  34.4970,2,  34.4973,2,     22.3,2,    22.6,2,  160.80,6,   44.20,6,    0.00,6,    3.11,6,   0.001,2,   0.001,2,-999.000,5,  2395.3,2,  2400.0,2,   -999.0,9,  -999.00,   7.3194,2,    25.00,-999.000,9,-999.000,    1.936,2,  19.015,2, -999.00,9,  -999.0,9,    -9.0,   8.265,2,   0.012,   37.73,2,   48.37,2, 1399.90,-999.0000,9,-999.0000,9,-999.0000,9,-999.0000,9,-999.0000,9,-999.0000,9,     -999.0,     -999.0,9,     -999.0,9,     -999.0,9,     -999.0,9,     -999.0,9,     -999.0,9, -999.00,9,   2.2649,    0.002,   0.206
325020060213,       P16N,      71,          1,         15,         15,2,20060326,       0248,         50,  -151.9995,       4908,  1600.8,   2.1968,  34.5329,2,  34.5322,2,     29.3,2,    29.4,2,  165.10,6,   43.70,6,    0.00,6,    3.06,2,-999.000,9,-999.000,9,-999.000,9,  2395.4,2,  2406.4,2,   -999.0,9,  -999.00,   7.3371,2,    25.00,-999.000,9,-999.000,-999.0000,9,-999.000,9, -999.00,9,  -999.0,9,    -9.0,-999.000,9,-999.000,   37.67,2,   46.99,2, 1600.80,-999.0000,9,-999.0000,9,-999.0000,9,-999.0000,9,-999.0000,9,-999.0000,9,     -999.0,     -999.0,9,     -999.0,9,     -999.0,9,     -999.0,9,     -999.0,9,     -999.0,9, -999.00,9,   2.0905,-999.0000,-999.000
325020060213,       P16N,      71,          1,         14,         14,2,20060326,       0248,         50,  -151.9995,       4908,  1800.2,   2.0542,  34.5640,2,  34.5630,2,     40.0,2,    40.3,2,  168.30,6,   43.20,6,    0.00,6,    3.02,2,-999.000,9,-999.000,9,-999.000,9,  2391.3,2,  2412.2,2,   -999.0,9,  -999.00,   7.3612,2,    25.00,-999.000,9,-999.000,-999.0000,9,-999.000,9, -999.00,9,  -999.0,9,    -9.0,-999.000,9,-999.000,   37.40,2,   46.99,2, 1800.20,-999.0000,9,-999.0000,9,-999.0000,9,-999.0000,9,-999.0000,9,-999.0000,9,     -999.0,     -999.0,9,     -999.0,9,     -999.0,9,     -999.0,9,     -999.0,9,     -999.0,9, -999.00,9,   1.9337,-999.0000,-999.000
325020060213,       P16N,      71,          1,         13,         13,2,20060326,       0248,         50,  -151.9995,       4908,  2000.0,   1.9294,  34.5900,2,  34.5887,2,     53.2,2,    52.7,2,  169.90,6,   42.10,6,    0.00,6,    2.97,2,  -0.002,2,   0.003,2,-999.000,5,  2386.4,2,  2415.0,2,   -999.0,9,  -999.00,   7.3894,4,    25.00,-999.000,9,-999.000,    1.946,2,  18.913,2, -999.00,9,  -999.0,9,    -9.0,   8.364,2,   0.008,   36.93,2,   45.57,2, 2000.00,-999.0000,9,-999.0000,9,-999.0000,9,-999.0000,9,-999.0000,9,-999.0000,9,     -999.0,     -999.0,9,     -999.0,9,     -999.0,9,     -999.0,9,     -999.0,9,     -999.0,9, -999.00,9,   1.7942,    0.001,   0.179
325020060213,       P16N,      71,          1,         12,         12,2,20060326,       0248,         50,  -151.9995,       4908,  2200.7,   1.8320,  34.6097,2,  34.6081,2,     64.6,2,    65.0,2,  170.80,6,   41.40,6,    0.00,6,    2.94,2,-999.000,9,-999.000,9,-999.000,9,  2380.5,2,  2417.9,2,   -999.0,9,  -999.00,   7.4101,2,    25.00,-999.000,9,-999.000,-999.0000,9,-999.000,9, -999.00,9,  -999.0,9,    -9.0,-999.000,9,-999.000,   36.61,2,   44.91,2, 2200.70,-999.0000,9,-999.0000,9,-999.0000,9,-999.0000,9,-999.0000,9,-999.0000,9,     -999.0,     -999.0,9,     -999.0,9,     -999.0,9,     -999.0,9,     -999.0,9,     -999.0,9, -999.00,9,   1.6813,-999.0000,-999.000
325020060213,       P16N,      71,          1,         11,         11,2,20060326,       0248,         50,  -151.9995,       4908,  2399.2,   1.7416,  34.6264,2,  34.6255,2,     77.4,2,    76.8,2,  170.30,6,   40.50,6,    0.00,6,    2.88,2,-999.000,9,-999.000,9,-999.000,9,  2373.8,2,  2417.2,2,   -999.0,9,  -999.00,   7.4372,2,    25.00,-999.000,9,-999.000,-999.0000,9,-999.000,9, -999.00,9,  -999.0,9,    -9.0,-999.000,9,-999.000,   36.33,2,   43.94,2, 2399.20,-999.0000,9,-999.0000,9,-999.0000,9,-999.0000,9,-999.0000,9,-999.0000,9,     -999.0,     -999.0,9,     -999.0,9,     -999.0,9,     -999.0,9,     -999.0,9,     -999.0,9, -999.00,9,   1.5752,-999.0000,-999.000
325020060213,       P16N,      71,          1,         10,         10,2,20060326,       0248,         50,  -151.9995,       4908,  2600.0,   1.6806,  34.6381,2,  34.6396,2,     87.7,2,    87.3,2,  169.60,6,   39.80,6,    0.00,6,    2.82,2,-999.000,9,-999.000,9,-999.000,9,  2368.6,2,  2414.1,3,   -999.0,9,  -999.00,   7.4578,2,    25.00,-999.000,9,-999.000,-999.0000,9,-999.000,9, -999.00,9,  -999.0,9,    -9.0,-999.000,9,-999.000,   36.83,2,   43.40,2, 2600.00,-999.0000,9,-999.0000,9,-999.0000,9,-999.0000,9,-999.0000,9,-999.0000,9,     -999.0,     -999.0,9,     -999.0,9,     -999.0,9,     -999.0,9,     -999.0,9,     -999.0,9, -999.00,9,   1.4974,-999.0000,-999.000