BOTTLE,20170720CCHSIOCBG
EXPOCODE,SECT_ID,STNNBR,CASTNO,SAMPNO,BTLNBR,BTLNBR_FLAG_W,DATE,TIME,LATITUDE,LONGITUDE,DEPTH,CTDPRS,CTDTMP,CTDSAL,CTDSAL_FLAG_W,SALNTY,SALNTY_FLAG_W,CTDOXY,CTDOXY_FLAG_W,OXYGEN,OXYGEN_FLAG_W,SILCAT,SILCAT_FLAG_W,NITRAT,NITRAT_FLAG_W,NITRIT,NITRIT_FLAG_W,PHSPHT,PHSPHT_FLAG_W,CFC-11,CFC-11_FLAG_W,CFC-12,CFC-12_FLAG_W,CFC113,CFC113_FLAG_W,TCARBN,TCARBN_FLAG_W,ALKALI,ALKALI_FLAG_W,FCO2,FCO2_FLAG_W,FCO2TMP,PH_TOT,PH_TOT_FLAG_W,PH_TMP,TRITUM,TRITUM_FLAG_W,TRITER,HELIUM,HELIUM_FLAG_W,DELHE3,DELHE3_FLAG_W,DELC13,DELC13_FLAG_W,DELC14,DELC14_FLAG_W,C14ERR,NEON,NEON_FLAG_W,NEONER,DOC,DOC_FLAG_W,TDN,TDN_FLAG_W,CTDRAW,CDOM325,CDOM325_FLAG_W,CDOM340,CDOM340_FLAG_W,CDOM380,CDOM380_FLAG_W,CDOM412,CDOM412_FLAG_W,CDOMSL,CDOMSL_FLAG_W,CDOMSN,CDOMSN_FLAG_W,DCNS,ARABI,ARABI_FLAG_W,FUCO,FUCO_FLAG_W,GALA,GALA_FLAG_W,GLUC,GLUC_FLAG_W,MAN,MAN_FLAG_W,RHAM,RHAM_FLAG_W,BRDU,BRDU_FLAG_W,THETA,HELIER,DELHER
,,,,,,,,,,,METERS,DBAR,ITS-90,PSS-78,,PSS-78,,UMOL/KG,,UMOL/KG,,UMOL/KG,,UMOL/KG,,UMOL/KG,,UMOL/KG,,PMOL/KG,,PMOL/KG,,PMOL/KG,,UMOL/KG,,UMOL/KG,,UATM,,DEG C,,,DEG C,TU,,TU,NMOL/KG,,PERCNT,,/MILLE,,/MILLE,,/MILLE,NMOL/KG,,NMOL/KG,UMOL/KG,,UMOL/KG,,DBAR,1/M,,1/M,,1/M,,1/M,,1/NM,,1/NM,,NMOL/KG,NMOL/KG,,NMOL/KG,,NMOL/KG,,NMOL/KG,,NMOL/KG,,NMOL/KG,,PMOL/L/H,,DEG C,NMOL/KG,PERCNT
325020060213,       P16N,      57,          2,         36,         36,2,20060318,       1040,         35,       -152,       5652,     5.4,  14.4989,  34.1396,2,  34.1387,2,    258.4,2,   258.8,2,    2.60,2,    1.30,2,    0.00,2,    0.20,2,   2.958,2,   1.755,2,-999.000,5,  2011.6,6,  2248.7,2,   -999.0,9,  -999.00,   7.9485,6,    25.00,   0.846,2,   0.010,-999.0000,9,-999.000,9, -999.00,9,  -999.0,9,    -9.0,-999.000,9,-999.000,   60.65,2,    5.77,2,    5.40,-999.0000,9,-999.0000,9,-999.0000,9,-999.0000,9,-999.0000,9,-999.0000,9,     -999.0,     -999.0,9,     -999.0,9,     -999.0,9,     -999.0,9,     -999.0,9,     -999.0,9, -999.00,9,  14.4981,-999.0000,-999.000
325020060213,       P16N,      57,          2,         35,         35,2,20060318,       1040,         35,       -152,       5652,    25.7,  14.4813,  34.1413,2,  34.1411,2,    258.3,2,   259.4,2,    2.30,2,    0.00,2,    0.00,2,    0.14,2,   2.942,2,   1.750,2,-999.000,5,  2012.3,2,  2248.5,2,   -999.0,9,  -999.00,   7.9493,2,    25.00,   0.868,2,   0.014,    1.759,2,  -1.630,2, -999.00,9,  -999.0,9,    -9.0,   7.442,2,   0.006,   59.84,2,    4.20,2,   25.70,-999.0000,9,-999.0000,9,-999.0000,9,-999.0000,9,-999.0000,9,-999.0000,9,     -999.0,     -999.0,9,     -999.0,9,     -999.0,9,     -999.0,9,     -999.0,9,     -999.0,9, -999.00,9,  14.4775,    0.000,   0.185
325020060213,       P16N,      57,          2,         34,         34,2,20060318,       1040,         35,       -152,       5652,    50.6,  13.8605,  34.1238,2,  34.1278,2,    254.4,2,   257.9,2,    2.60,2,    0.30,2,    0.10,2,    0.18,2,   2.996,2,   1.771,2,-999.000,5,  2013.5,2,  2247.7,2,   -999.0,9,  -999.00,   7.9408,2,    25.00,   0.825,2,   0.013,    1.779,2,  -1.323,2, -999.00,9,  -999.0,9,    -9.0,   7.491,2,   0.008,   59.33,2,    4.15,2,   50.60,-999.0000,9,-999.0000,9,-999.0000,9,-999.0000,9,-999.0000,9,-999.0000,9,     -999.0,     -999.0,9,     -999.0,9,     -999.0,9,     -999.0,9,     -999.0,9,     -999.0,9, -999.00,9,  13.8533,    0.000,   0.158
325020060213,       P16N,      57,          2,         33,         33,2,20060318,       1040,         35,       -152,       5652,    75.0,  13.5527,  34.0662,2,  34.0661,2,    254.5,2,   258.1,2,    2.40,2,    0.30,2,    0.10,2,    0.19,2,   2.989,2,   1.762,2,-999.000,5,  2014.9,2,  2247.9,2,   -999.0,9,  -999.00,   7.9352,2,    25.00,   0.822,2,   0.019,    1.873,3,   5.663,4, -999.00,9,  -999.0,9,    -9.0,   7.421,2,   0.009,   57.72,2,    4.01,2,   75.00,-999.0000,9,-999.0000,9,-999.0000,9,-999.0000,9,-999.0000,9,-999.0000,9,     -999.0,     -999.0,9,     -999.0,9,     -999.0,9,     -999.0,9,     -999.0,9,     -999.0,9, -999.00,9,  13.5422,    0.003,   0.312
325020060213,       P16N,      57,          2,         32,         32,2,20060318,       1040,         35,       -152,       5652,   100.2,  13.6277,  34.0973,2,  34.0981,2,    256.6,2,   255.4,2,    2.60,2,    0.50,2,    0.10,2,    0.20,2,   3.019,2,   1.758,2,-999.000,5,  2017.9,2,  2255.0,2,   -999.0,9,  -999.00,   7.9337,2,    25.00,   0.816,2,   0.012,    1.775,2,  -0.872,2, -999.00,9,  -999.0,9,    -9.0,   7.480,2,   0.015,   55.49,2,    5.02,2,  100.20,-999.0000,9,-999.0000,9,-999.0000,9,-999.0000,9,-999.0000,9,-999.0000,9,     -999.0,     -999.0,9,     -999.0,9,     -999.0,9,     -999.0,9,     -999.0,9,     -999.0,9, -999.00,9,  13.6137,    0.001,   0.188
325020060213,       P16N,      57,          2,         31,         31,2,20060318,       1040,         35,       -152,       5652,   125.3,  12.7400,  34.1370,2,  34.1295,3,    226.1,2,   236.4,2,    5.30,2,    5.40,2,    0.10,2,    0.46,2,   3.101,2,   1.788,2,-999.000,5,  2044.4,2,  2258.9,2,   -999.0,9,  -999.00,   7.8780,2,    25.00,   0.888,2,   0.015,    1.762,2,  -0.933,2, -999.00,9,  -999.0,9,    -9.0,   7.463,2,   0.017,   53.84,2,    9.79,2,  125.30,-999.0000,9,-999.0000,9,-999.0000,9,-999.0000,9,-999.0000,9,-999.0000,9,     -999.0,     -999.0,9,     -999.0,9,     -999.0,9,     -999.0,9,     -999.0,9,     -999.0,9, -999.00,9,  12.7231,    0.001,   0.185
325020060213,       P16N,      57,          2,         30,         30,2,20060318,       1040,         35,       -152,       5652,   150.1,  12.0389,  34.2330,2,  34.2332,2,    228.3,2,   228.9,2,    8.10,2,    8.50,2,    0.00,2,    0.63,2,   3.203,2,   1.822,2,-999.000,5,  2068.1,2,  2269.3,2,   -999.0,9,  -999.00,   7.8471,2,    25.00,-999.000,9,-999.000,    1.758,2,  -0.647,2, -999.00,9,  -999.0,9,    -9.0,   7.440,2,   0.012,   51.50,2,   12.76,2,  150.10,-999.0000,9,-999.0000,9,-999.0000,9,-999.0000,9,-999.0000,9,-999.0000,9,     -999.0,     -999.0,9,     -999.0,9,     -999.0,9,     -999.0,9,     -999.0,9,     -999.0,9, -999.00,9,  12.0195,    0.001,   0.181
325020060213,       P16N,      57,          2,         29,         29,2,20060318,       1040,         35,       -152,       5652,   200.5,  11.2809,  34.2311,2,  34.2281,2,    222.1,2,   219.9,2,   12.00,2,   12.10,2,    0.00,2,    0.83,2,   3.307,2,   1.859,2,-999.000,5,  2087.1,2,  2272.7,6,   -999.0,9,  -999.00,   7.8141,2,    25.00,   0.783,2,   0.012,    1.754,2,   0.278,2, -999.00,9,  -999.0,9,    -9.0,   7.536,2,   0.005,   50.55,2,   16.20,2,  200.50,-999.0000,9,-999.0000,9,-999.0000,9,-999.0000,9,-999.0000,9,-999.0000,9,     -999.0,     -999.0,9,     -999.0,9,     -999.0,9,     -999.0,9,     -999.0,9,     -999.0,9, -999.00,9,  11.2560,    0.001,   0.181
325020060213,       P16N,      57,          2,         28,         28,2,20060318,       1040,         35,       -152,       5652,   250.2,  10.4931,  34.1819,2,  34.1824,2,    220.2,2,   219.2,2,   14.90,2,   13.50,2,    0.00,2,    0.95,2,   3.321,2,   1.839,2,-999.000,5,  2097.5,2,  2273.0,2,   -999.0,9,  -999.00,   7.7948,3,    25.00,   0.772,2,   0.012,    1.804,2,   0.388,2, -999.00,9,  -999.0,9,    -9.0,   7.439,2,   0.031,   49.74,2,   17.92,2,  250.20,-999.0000,9,-999.0000,9,-999.0000,9,-999.0000,9,-999.0000,9,-999.0000,9,     -999.0,     -999.0,9,     -999.0,9,     -999.0,9,     -999.0,9,     -999.0,9,     -999.0,9, -999.00,9,  10.4634,    0.003,   0.397
325020060213,       P16N,      57,          2,         27,         27,2,20060318,       1040,         35,       -152,       5652,   300.1,   9.7697,  34.1308,2,  34.1340,2,    215.5,2,   215.8,2,   18.20,2,   15.40,2,    0.00,2,    1.07,2,   3.397,2,   1.847,2,-999.000,5,  2109.4,2,  2265.1,2,   -999.0,9,  -999.00,   7.7665,2,    25.00,-999.000,9,-999.000,    1.741,2,   0.802,2, -999.00,9,  -999.0,9,    -9.0,   7.299,4,   0.031,   48.78,2,   19.91,2,  300.10,-999.0000,9,-999.0000,9,-999.0000,9,-999.0000,9,-999.0000,9,-999.0000,9,     -999.0,     -999.0,9,     -999.0,9,     -999.0,9,     -999.0,9,     -999.0,9,     -999.0,9, -999.00,9,   9.7356,    0.003,   0.397
325020060213,       P16N,      57,          2,         26,         26,2,20060318,       1040,         35,       -152,       5652,   349.1,   9.1500,  34.0992,2,  34.1001,2,    200.9,2,   201.3,2,   23.10,2,   18.20,2,    0.00,2,    1.24,2,   3.252,2,   1.756,2,-999.000,5,  2126.2,2,  2266.9,2,   -999.0,9,  -999.00,   7.7282,2,    25.00,-999.000,9,-999.000,    1.784,2,   5.306,2, -999.00,9,  -999.0,9,    -9.0,   7.467,3,   0.031,   47.53,2,   21.99,2,  349.10,-999.0000,9,-999.0000,9,-999.0000,9,-999.0000,9,-999.0000,9,-999.0000,9,     -999.0,     -999.0,9,     -999.0,9,     -999.0,9,     -999.0,9,     -999.0,9,     -999.0,9, -999.00,9,   9.1118,    0.003,   0.397
325020060213,       P16N,      57,          2,         25,         25,2,20060318,       1040,         35,       -152,       5652,   400.5,   8.0785,  34.0377,2,  34.0396,2,    180.2,2,   178.9,2,   31.70,2,   22.40,2,    0.00,2,    1.53,2,   3.066,2,   1.618,2,-999.000,5,  2157.1,2,  2272.7,2,   -999.0,9,  -999.00,   7.6609,2,    25.00,-999.000,9,-999.000,-999.0000,9,-999.000,9, -999.00,9,  -999.0,9,    -9.0,-999.000,9,-999.000,   46.72,2,   26.57,2,  400.50,-999.0000,9,-999.0000,9,-999.0000,9,-999.0000,9,-999.0000,9,-999.0000,9,     -999.0,     -999.0,9,     -999.0,9,     -999.0,9,     -999.0,9,     -999.0,9,     -999.0,9, -999.00,9,   8.0378,-999.0000,-999.000
325020060213,       P16N,      57,          2,         24,         24,2,20060318,       1040,         35,       -152,       5652,   449.3,   7.2526,  34.0069,2,  34.0094,2,    155.2,2,   155.6,2,   40.20,2,   25.80,2,    0.00,2,    1.79,2,   2.843,2,   1.454,2,-999.000,5,  2182.4,2,  2275.9,2,   -999.0,9,  -999.00,   7.5983,2,    25.00,-999.000,9,-999.000,    1.806,2,   8.054,2, -999.00,9,  -999.0,9,    -9.0,   7.860,2,   0.006,   45.37,2,   30.44,2,  449.30,-999.0000,9,-999.0000,9,-999.0000,9,-999.0000,9,-999.0000,9,-999.0000,9,     -999.0,     -999.0,9,     -999.0,9,     -999.0,9,     -999.0,9,     -999.0,9,     -999.0,9, -999.00,9,   7.2095,    0.001,   0.186
325020060213,       P16N,      57,          2,         23,         23,2,20060318,       1040,         35,       -152,       5652,   500.6,   6.7018,  33.9952,2,  33.9936,2,    129.7,2,   135.2,2,   48.50,2,   29.20,2,    0.00,2,    2.02,2,   2.524,2,   1.269,2,-999.000,5,  2206.3,2,  2282.0,2,   -999.0,9,  -999.00,   7.5419,2,    25.00,-999.000,9,-999.000,-999.0000,9,-999.000,9, -999.00,9,  -999.0,9,    -9.0,-999.000,9,-999.000,   44.18,2,   32.92,2,  500.60,-999.0000,9,-999.0000,9,-999.0000,9,-999.0000,9,-999.0000,9,-999.0000,9,     -999.0,     -999.0,9,     -999.0,9,     -999.0,9,     -999.0,9,     -999.0,9,     -999.0,9, -999.00,9,   6.6558,-999.0000,-999.000
325020060213,       P16N,      57,          2,         22,         22,2,20060318,       1040,         35,       -152,       5652,   601.0,   5.1799,  34.0058,2,  34.0050,2,     93.8,2,    93.4,2,   71.40,2,   35.50,2,    0.00,2,    2.50,2,   1.566,2,   0.754,2,-999.000,5,  2261.4,2,  2301.1,2,   -999.0,9,  -999.00,   7.4313,2,    25.00,-999.000,9,-999.000,    1.846,2,  14.677,2, -999.00,9,  -999.0,9,    -9.0,   8.013,2,   0.030,   43.19,2,   39.20,2,  601.00,-999.0000,9,-999.0000,9,-999.0000,9,-999.0000,9,-999.0000,9,-999.0000,9,     -999.0,     -999.0,9,     -999.0,9,     -999.0,9,     -999.0,9,     -999.0,9,     -999.0,9, -999.00,9,   5.1312,    0.004,   0.262
325020060213,       P16N,      57,          2,         21,         21,2,20060318,       1040,         35,       -152,       5652,   700.7,   4.3816,  34.1029,2,  34.1026,2,     49.1,2,    48.9,2,   92.70,2,   40.60,2,    0.00,2,    2.85,2,   0.560,2,   0.276,2,-999.000,5,  2310.1,2,  2332.0,2,   -999.0,9,  -999.00,   7.3444,2,    25.00,-999.000,9,-999.000,-999.0000,9,-999.000,9, -999.00,9,  -999.0,9,    -9.0,-999.000,9,-999.000,   42.39,2,   44.43,2,  700.70,-999.0000,9,-999.0000,9,-999.0000,9,-999.0000,9,-999.0000,9,-999.0000,9,     -999.0,     -999.0,9,     -999.0,9,     -999.0,9,     -999.0,9,     -999.0,9,     -999.0,9, -999.00,9,   4.3286,-999.0000,-999.000
325020060213,       P16N,      57,          2,         20,         20,2,20060318,       1040,         35,       -152,       5652,   799.9,   3.9347,  34.1881,2,  34.1861,2,     23.4,2,    23.3,2,  107.70,2,   42.90,2,    0.00,2,    3.03,2,   0.169,2,   0.073,2,-999.000,5,  2340.9,2,  2347.4,2,   -999.0,9,  -999.00,   7.2969,2,    25.00,-999.000,9,-999.000,    1.855,2,  15.005,2, -999.00,9,  -999.0,9,    -9.0,   1.381,4,   0.006,   41.23,2,   47.12,2,  799.90,-999.0000,9,-999.0000,9,-999.0000,9,-999.0000,9,-999.0000,9,-999.0000,9,     -999.0,     -999.0,9,     -999.0,9,     -999.0,9,     -999.0,9,     -999.0,9,     -999.0,9, -999.00,9,   3.8762,    0.003,   0.266
325020060213,       P16N,      57,          2,         19,         19,2,20060318,       1040,         35,       -152,       5652,   900.0,   3.6202,  34.2588,2,  34.2545,2,     11.9,2,    11.4,2,  119.80,2,   43.40,2,    0.00,2,    3.13,2,   0.042,2,   0.021,2,-999.000,5,  2361.5,6,  2353.8,2,   -999.0,9,  -999.00,   7.2861,2,    25.00,-999.000,9,-999.000,    1.871,2,  13.570,2, -999.00,9,  -999.0,9,    -9.0,   7.938,2,   0.034,   40.18,2,   47.75,2,  900.00,-999.0000,9,-999.0000,9,-999.0000,9,-999.0000,9,-999.0000,9,-999.0000,9,     -999.0,     -999.0,9,     -999.0,9,     -999.0,9,     -999.0,9,     -999.0,9,     -999.0,9, -999.00,9,   3.5558,    0.003,   0.267
325020060213,       P16N,      57,          2,         18,         18,2,20060318,       1040,         35,       -152,       5652,   999.2,   3.4042,  34.3252,2,  34.3310,2,      7.1,2,     6.9,2,  128.60,2,   44.60,2,    0.00,2,    3.18,2,   0.021,3,   0.005,2,-999.000,5,  2373.7,2,  2369.8,6,   -999.0,9,  -999.00,   7.2819,2,    25.00,-999.000,9,-999.000,    1.866,2,  14.909,2, -999.00,9,  -999.0,9,    -9.0,   7.773,3,   0.032,   39.65,2,   48.17,2,  999.20,-999.0000,9,-999.0000,9,-999.0000,9,-999.0000,9,-999.0000,9,-999.0000,9,     -999.0,     -999.0,9,     -999.0,9,     -999.0,9,     -999.0,9,     -999.0,9,     -999.0,9, -999.00,9,   3.3336,    0.003,   0.396
325020060213,       P16N,      57,          2,         17,         17,2,20060318,       1040,         35,       -152,       5652,  1199.7,   3.0517,  34.4494,2,  34.4492,2,     12.3,2,    12.3,2,  140.50,2,   44.00,2,    0.00,2,    3.18,2,   0.006,2,   0.002,2,-999.000,5,  2385.6,2,  2387.5,2,   -999.0,9,  -999.00,   7.3036,2,    25.00,-999.000,9,-999.000,-999.0000,9,-999.000,9, -999.00,9,  -999.0,9,    -9.0,-999.000,9,-999.000,   39.15,2,   47.31,2, 1199.70,-999.0000,9,-999.0000,9,-999.0000,9,-999.0000,9,-999.0000,9,-999.0000,9,     -999.0,     -999.0,9,     -999.0,9,     -999.0,9,     -999.0,9,     -999.0,9,     -999.0,9, -999.00,9,   2.9680,-999.0000,-999.000
325020060213,       P16N,      57,          2,         16,         16,2,20060318,       1040,         35,       -152,       5652,  1399.5,   2.7385,  34.5124,2,  34.5107,2,     24.1,2,    24.4,2,  148.90,2,   43.80,2,    0.00,2,    3.15,2,-999.000,9,-999.000,9,-999.000,9,  2387.8,2,  2404.0,2,   -999.0,9,  -999.00,   7.3333,2,    25.00,-999.000,9,-999.000,-999.0000,9,-999.000,9, -999.00,9,  -999.0,9,    -9.0,-999.000,9,-999.000,   38.49,2,   48.01,2, 1399.50,-999.0000,9,-999.0000,9,-999.0000,9,-999.0000,9,-999.0000,9,-999.0000,9,     -999.0,     -999.0,9,     -999.0,9,     -999.0,9,     -999.0,9,     -999.0,9,     -999.0,9, -999.00,9,   2.6420,-999.0000,-999.000
325020060213,       P16N,      57,          2,         15,         15,2,20060318,       1040,         35,       -152,       5652,  1598.8,   2.4265,  34.5561,2,  34.5541,2,     38.5,2,    38.7,2,  157.00,2,   43.00,2,    0.00,2,    3.08,2,   0.007,2,   0.001,2,-999.000,5,  2387.2,2,  2415.8,2,   -999.0,9,  -999.00,   7.3658,2,    25.00,-999.000,9,-999.000,-999.0000,9,-999.000,9, -999.00,9,  -999.0,9,    -9.0,-999.000,9,-999.000,   38.63,2,   46.50,2, 1598.80,-999.0000,9,-999.0000,9,-999.0000,9,-999.0000,9,-999.0000,9,-999.0000,9,     -999.0,     -999.0,9,     -999.0,9,     -999.0,9,     -999.0,9,     -999.0,9,     -999.0,9, -999.00,9,   2.3174,-999.0000,-999.000
325020060213,       P16N,      57,          2,         14,         14,2,20060318,       1040,         35,       -152,       5652,  1901.5,   2.0588,  34.6011,2,  34.5995,2,     56.6,2,    59.6,2,  165.50,2,   41.90,2,    0.00,2,    2.98,2,-999.000,9,-999.000,9,-999.000,9,  2383.0,2,  2428.1,2,   -999.0,9,  -999.00,   7.4104,2,    25.00,-999.000,9,-999.000,-999.0000,9,-999.000,9, -999.00,9,  -999.0,9,    -9.0,-999.000,9,-999.000,   38.56,2,   45.92,2, 1901.50,-999.0000,9,-999.0000,9,-999.0000,9,-999.0000,9,-999.0000,9,-999.0000,9,     -999.0,     -999.0,9,     -999.0,9,     -999.0,9,     -999.0,9,     -999.0,9,     -999.0,9, -999.00,9,   1.9298,-999.0000,-999.000
325020060213,       P16N,      57,          2,         13,         13,2,20060318,       1040,         35,       -152,       5652,  2199.4,   1.8378,  34.6281,2,  34.6268,2,     74.0,2,    77.1,2,  169.20,2,   40.80,2,    0.00,2,    2.89,2,   0.014,3,   0.002,2,-999.000,5,  2377.9,2,  2425.5,2,   -999.0,9,  -999.00,   7.4473,2,    25.00,-999.000,9,-999.000,    1.924,2,  22.381,2, -999.00,9,  -999.0,9,    -9.0,   8.023,2,   0.034,   37.89,2,   44.56,2, 2199.40,-999.0000,9,-999.0000,9,-999.0000,9,-999.0000,9,-999.0000,9,-999.0000,9,     -999.0,     -999.0,9,     -999.0,9,     -999.0,9,     -999.0,9,     -999.0,9,     -999.0,9, -999.00,9,   1.6871,    0.004,   0.267
325020060213,       P16N,      57,          2,         12,         12,2,20060318,       1040,         35,       -152,       5652,  2249.3,   1.8150,  34.6309,2,  34.6294,2,     78.8,2,    78.9,2,  169.00,2,   40.70,2,    0.00,2,    2.88,2,-999.000,9,-999.000,9,-999.000,9,  2376.9,2,  2425.8,2,   -999.0,9,  -999.00,   7.4495,2,    25.00,-999.000,9,-999.000,-999.0000,9,-999.000,9, -999.00,9,  -999.0,9,    -9.0,-999.000,9,-999.000,   38.30,2,   44.73,2, 2249.30,-999.0000,9,-999.0000,9,-999.0000,9,-999.0000,9,-999.0000,9,-999.0000,9,     -999.0,     -999.0,9,     -999.0,9,     -999.0,9,     -999.0,9,     -999.0,9,     -999.0,9, -999.00,9,   1.6604,-999.0000,-999.000
325020060213,       P16N,      57,          2,         11,         11,2,20060318,       1040,         35,       -152,       5652,  2499.6,   1.6977,  34.6456,2,  34.6449,2,     89.5,2,    92.3,2,  168.50,2,   39.90,2,    0.00,2,    2.82,2,-999.000,9,-999.000,9,-999.000,9,  2369.4,2,  2426.7,2,   -999.0,9,  -999.00,   7.4763,2,    25.00,-999.000,9,-999.000,-999.0000,9,-999.000,9, -999.00,9,  -999.0,9,    -9.0,-999.000,9,-999.000,   37.77,2,   43.98,2, 2499.60,-999.0000,9,-999.0000,9,-999.0000,9,-999.0000,9,-999.0000,9,-999.0000,9,     -999.0,     -999.0,9,     -999.0,9,     -999.0,9,     -999.0,9,     -999.0,9,     -999.0,9, -999.00,9,   1.5231,-999.0000,-999.000
325020060213,       P16N,      57,          2,         10,         10,2,20060318,       1040,         35,       -152,       5652,  2749.6,   1.6162,  34.6564,2,  34.6553,2,    103.8,2,   104.4,2,  166.30,2,   38.20,3,    0.00,2,    2.76,2,-999.000,9,-999.000,9,-999.000,9,  2361.7,2,  2435.1,2,   -999.0,9,  -999.00,   7.4953,2,    25.00,-999.000,9,-999.000,-999.0000,9,-999.000,9, -999.00,9,  -999.0,9,    -9.0,-999.000,9,-999.000,   38.15,2,   41.65,2, 2749.60,-999.0000,9,-999.0000,9,-999.0000,9,-999.0000,9,-999.0000,9,-999.0000,9,     -999.0,     -999.0,9,     -999.0,9,     -999.0,9,     -999.0,9,     -999.0,9,     -999.0,9, -999.00,9,   1.4205,-999.0000,-999.000