BOTTLE,20170720CCHSIOCBG
EXPOCODE,SECT_ID,STNNBR,CASTNO,SAMPNO,BTLNBR,BTLNBR_FLAG_W,DATE,TIME,LATITUDE,LONGITUDE,DEPTH,CTDPRS,CTDTMP,CTDSAL,CTDSAL_FLAG_W,SALNTY,SALNTY_FLAG_W,CTDOXY,CTDOXY_FLAG_W,OXYGEN,OXYGEN_FLAG_W,SILCAT,SILCAT_FLAG_W,NITRAT,NITRAT_FLAG_W,NITRIT,NITRIT_FLAG_W,PHSPHT,PHSPHT_FLAG_W,CFC-11,CFC-11_FLAG_W,CFC-12,CFC-12_FLAG_W,CFC113,CFC113_FLAG_W,TCARBN,TCARBN_FLAG_W,ALKALI,ALKALI_FLAG_W,FCO2,FCO2_FLAG_W,FCO2TMP,PH_TOT,PH_TOT_FLAG_W,PH_TMP,TRITUM,TRITUM_FLAG_W,TRITER,HELIUM,HELIUM_FLAG_W,DELHE3,DELHE3_FLAG_W,DELC13,DELC13_FLAG_W,DELC14,DELC14_FLAG_W,C14ERR,NEON,NEON_FLAG_W,NEONER,DOC,DOC_FLAG_W,TDN,TDN_FLAG_W,CTDRAW,CDOM325,CDOM325_FLAG_W,CDOM340,CDOM340_FLAG_W,CDOM380,CDOM380_FLAG_W,CDOM412,CDOM412_FLAG_W,CDOMSL,CDOMSL_FLAG_W,CDOMSN,CDOMSN_FLAG_W,DCNS,ARABI,ARABI_FLAG_W,FUCO,FUCO_FLAG_W,GALA,GALA_FLAG_W,GLUC,GLUC_FLAG_W,MAN,MAN_FLAG_W,RHAM,RHAM_FLAG_W,BRDU,BRDU_FLAG_W,THETA,HELIER,DELHER
,,,,,,,,,,,METERS,DBAR,ITS-90,PSS-78,,PSS-78,,UMOL/KG,,UMOL/KG,,UMOL/KG,,UMOL/KG,,UMOL/KG,,UMOL/KG,,PMOL/KG,,PMOL/KG,,PMOL/KG,,UMOL/KG,,UMOL/KG,,UATM,,DEG C,,,DEG C,TU,,TU,NMOL/KG,,PERCNT,,/MILLE,,/MILLE,,/MILLE,NMOL/KG,,NMOL/KG,UMOL/KG,,UMOL/KG,,DBAR,1/M,,1/M,,1/M,,1/M,,1/NM,,1/NM,,NMOL/KG,NMOL/KG,,NMOL/KG,,NMOL/KG,,NMOL/KG,,NMOL/KG,,NMOL/KG,,PMOL/L/H,,DEG C,NMOL/KG,PERCNT
325020060213,       P16N,      53,          1,         36,         36,2,20060316,       1644,    30.9997,  -152.0003,       5301,     4.6,  18.1077,  34.9399,2,  34.9403,2,    234.0,2,   237.0,2,    1.70,2,    0.00,2,    0.00,2,    0.03,2,   2.423,2,   1.464,2,-999.000,9,  2021.1,6,  2296.7,2,    360.5,2,    20.00,   8.0062,6,    25.00,-999.000,9,-999.000,-999.0000,9,-999.000,9, -999.00,9,  -999.0,9,    -9.0,-999.000,9,-999.000,   63.59,2,    3.98,2,    4.60,   0.0470,3,   0.0290,3,   0.0050,4,   0.0010,4,   0.0333,3,   0.0336,3,     -999.0,     -999.0,9,     -999.0,9,     -999.0,9,     -999.0,9,     -999.0,9,     -999.0,9,   46.79,2,  18.1069,-999.0000,-999.000
325020060213,       P16N,      53,          1,         35,         35,2,20060316,       1644,    30.9997,  -152.0003,       5301,    24.4,  17.9661,  34.9136,2,  34.9074,2,    234.7,2,   237.5,2,    1.80,2,    0.00,2,    0.00,2,    0.04,2,   2.476,2,   1.517,2,-999.000,9,  2019.3,2,  2294.2,2,    360.8,2,    20.00,   8.0044,2,    25.00,-999.000,9,-999.000,-999.0000,9,-999.000,9, -999.00,9,  -999.0,9,    -9.0,-999.000,9,-999.000,   63.28,2,    4.07,2,   24.40,   0.0530,2,   0.0330,2,   0.0080,2,   0.0050,2,   0.0309,2,   0.0311,2,     -999.0,     -999.0,9,     -999.0,9,     -999.0,9,     -999.0,9,     -999.0,9,     -999.0,9,   31.89,2,  17.9620,-999.0000,-999.000
325020060213,       P16N,      53,          1,         34,         34,2,20060316,       1644,    30.9997,  -152.0003,       5301,    51.2,  17.0555,  34.7228,2,  34.7256,2,    237.0,2,   241.9,2,    2.30,2,    0.00,2,    0.00,2,    0.06,2,   2.520,2,   1.536,2,-999.000,9,  2016.2,2,  2282.4,2,    373.7,2,    20.00,   7.9911,2,    25.00,-999.000,9,-999.000,    1.749,2,  -0.841,2, -999.00,9,  -999.0,9,    -9.0,   7.255,2,   0.011,   60.58,2,    3.78,2,   51.20,   0.0710,2,   0.0450,2,   0.0140,2,   0.0070,2,   0.0290,2,   0.0294,2,     -999.0,     -999.0,9,     -999.0,9,     -999.0,9,     -999.0,9,     -999.0,9,     -999.0,9,   29.18,2,  17.0471,    0.001,   0.177
325020060213,       P16N,      53,          1,         33,         33,2,20060316,       1644,    30.9997,  -152.0003,       5301,    74.9,  16.8272,  34.6956,2,  34.7019,2,    238.4,2,   241.1,2,    2.30,2,    0.10,2,    0.00,2,    0.06,2,   2.556,2,   1.585,2,-999.000,9,  2015.6,2,  2282.5,2,    375.2,2,    20.00,   7.9895,2,    25.00,-999.000,9,-999.000,    1.761,2,  -1.098,2, -999.00,9,  -999.0,9,    -9.0,   7.240,2,   0.017,   60.35,2,    3.93,2,   74.90,   0.0640,2,   0.0410,2,   0.0120,2,   0.0070,2,   0.0299,2,   0.0301,2,     -999.0,     -999.0,9,     -999.0,9,     -999.0,9,     -999.0,9,     -999.0,9,     -999.0,9,   12.36,2,  16.8150,    0.001,   0.178
325020060213,       P16N,      53,          1,         32,         32,2,20060316,       1644,    30.9997,  -152.0003,       5301,    99.2,  14.6570,  34.4294,2,  34.4138,2,    217.7,2,   223.3,2,    4.50,2,    4.40,2,    0.10,2,    0.36,2,-999.000,9,-999.000,9,-999.000,9,  2045.2,2,  2264.1,2,    474.6,2,    20.00,   7.9044,2,    25.00,-999.000,9,-999.000,-999.0000,9,-999.000,9, -999.00,9,  -999.0,9,    -9.0,-999.000,9,-999.000,   56.69,2,    8.26,2,   99.20,   0.0970,2,   0.0680,2,   0.0280,2,   0.0210,2,   0.0228,2,   0.0232,2,     -999.0,     -999.0,9,     -999.0,9,     -999.0,9,     -999.0,9,     -999.0,9,     -999.0,9,    2.31,2,  14.6424,-999.0000,-999.000
325020060213,       P16N,      53,          1,         31,         31,2,20060316,       1644,    30.9997,  -152.0003,       5301,   125.4,  13.4541,  34.3516,2,  34.3518,2,    221.3,2,   222.5,2,    6.00,2,    6.90,2,    0.00,2,    0.49,2,   3.023,2,   1.738,2,-999.000,9,  2056.9,2,  2261.5,2,    512.3,6,    20.00,   7.8742,2,    25.00,-999.000,9,-999.000,    1.746,2,  -0.753,2, -999.00,9,  -999.0,9,    -9.0,   7.417,2,   0.005,   54.64,2,   11.42,2,  125.40,   0.1130,2,   0.0770,2,   0.0380,2,   0.0290,2,   0.0165,2,   0.0191,2,     -999.0,     -999.0,9,     -999.0,9,     -999.0,9,     -999.0,9,     -999.0,9,     -999.0,9,    0.62,2,  13.4366,    0.001,   0.185
325020060213,       P16N,      53,          1,         30,         30,2,20060316,       1644,    30.9997,  -152.0003,       5301,   149.2,  12.9392,  34.3297,2,  34.3303,2,    221.5,2,   222.1,2,    7.10,2,    8.20,2,    0.00,2,    0.57,2,   3.122,2,   1.778,2,-999.000,9,  2063.1,2,  2260.5,2,    529.6,2,    20.00,   7.8638,2,    25.00,-999.000,9,-999.000,    1.749,2,  -0.463,2, -999.00,9,  -999.0,9,    -9.0,   7.461,2,   0.005,   53.39,2,   12.79,2,  149.20,   0.0770,2,   0.0500,2,   0.0190,2,   0.0140,2,   0.0267,2,   0.0275,2,     -999.0,     -999.0,9,     -999.0,9,     -999.0,9,     -999.0,9,     -999.0,9,     -999.0,9,    0.22,2,  12.9189,    0.001,   0.182
325020060213,       P16N,      53,          1,         29,         29,2,20060316,       1644,    30.9997,  -152.0003,       5301,   200.8,  12.0100,  34.2612,2,  34.2667,2,    220.1,2,   219.8,2,    9.20,2,   10.30,2,    0.00,2,    0.69,2,   3.184,2,   1.808,2,-999.000,9,  2074.1,2,  2260.6,6,    569.6,2,    20.00,   7.8377,2,    25.00,-999.000,9,-999.000,    1.760,2,  -0.149,2, -999.00,9,  -999.0,9,    -9.0,   7.502,2,   0.007,   51.77,2,   14.88,2,  200.80,   0.0780,2,   0.0510,2,   0.0200,2,   0.0140,2,   0.0261,2,   0.0271,2,     -999.0,     -999.0,9,     -999.0,9,     -999.0,9,     -999.0,9,     -999.0,9,     -999.0,9,    0.85,2,  11.9840,    0.001,   0.180
325020060213,       P16N,      53,          1,         28,         28,2,20060316,       1644,    30.9997,  -152.0003,       5301,   250.7,  11.1795,  34.2116,2,  34.2129,2,    219.9,2,   220.0,2,   12.10,2,   12.40,2,    0.00,2,    0.83,2,   3.273,2,   1.832,2,-999.000,9,  2085.5,2,  2262.1,2,    608.9,2,    20.00,   7.8120,2,    25.00,-999.000,9,-999.000,    1.792,2,   0.460,2, -999.00,9,  -999.0,9,    -9.0,   7.611,2,   0.007,   50.45,2,   16.80,2,  250.70,   0.0830,2,   0.0540,2,   0.0210,2,   0.0150,2,   0.0255,2,   0.0270,2,     -999.0,     -999.0,9,     -999.0,9,     -999.0,9,     -999.0,9,     -999.0,9,     -999.0,9, -999.00,9,  11.1485,    0.001,   0.169
325020060213,       P16N,      53,          1,         27,         27,2,20060316,       1644,    30.9997,  -152.0003,       5301,   300.4,  10.4980,  34.1700,2,  34.1700,2,    217.4,2,   217.6,2,   15.00,2,   14.00,2,    0.00,2,    0.94,2,   3.309,6,   1.833,6,-999.000,5,  2095.8,2,  2263.2,2,    645.2,2,    20.00,   7.7903,2,    25.00,-999.000,9,-999.000,    1.763,2,   0.982,2, -999.00,9,  -999.0,9,    -9.0,   7.524,2,   0.029,   48.54,2,   18.52,2,  300.40,   0.0850,2,   0.0550,2,   0.0220,2,   0.0160,2,   0.0255,2,   0.0269,2,     -999.0,     -999.0,9,     -999.0,9,     -999.0,9,     -999.0,9,     -999.0,9,     -999.0,9, -999.00,9,  10.4623,    0.004,   0.259
325020060213,       P16N,      53,          1,         26,         26,2,20060316,       1644,    30.9997,  -152.0003,       5301,   350.5,   9.8828,  34.1346,2,  34.1343,2,    209.7,2,   210.5,2,   18.50,2,   15.90,2,    0.00,2,    1.08,2,   3.344,2,   1.870,2,-999.000,9,  2101.7,2,  2265.4,2,    688.5,2,    20.00,   7.7621,2,    25.00,-999.000,9,-999.000,    1.773,2,   2.649,2, -999.00,9,  -999.0,9,    -9.0,   7.540,2,   0.033,   46.59,2,   20.03,2,  350.50,   0.0960,2,   0.0640,2,   0.0270,2,   0.0200,2,   0.0230,2,   0.0243,2,    463.773,    46.5775,2,    54.1936,2,     79.489,2,    136.585,2,    104.549,2,    42.3781,2, -999.00,9,   9.8425,    0.003,   0.336
325020060213,       P16N,      53,          1,         25,         25,2,20060316,       1644,    30.9997,  -152.0003,       5301,   399.9,   9.1534,  34.1036,2,  34.1028,2,    194.0,2,   192.6,2,   24.40,2,   19.20,2,    0.00,2,    1.29,2,   3.171,2,   1.686,2,-999.000,9,  2137.1,2,  2268.8,2,    786.4,2,    20.00,   7.7124,2,    25.00,-999.000,9,-999.000,    1.782,2,   4.870,2, -999.00,9,  -999.0,9,    -9.0,   7.502,2,   0.067,   45.53,2,   22.92,2,  399.90,   0.1050,2,   0.0690,2,   0.0300,2,   0.0220,2,   0.0224,2,   0.0238,2,     -999.0,     -999.0,9,     -999.0,9,     -999.0,9,     -999.0,9,     -999.0,9,     -999.0,9, -999.00,9,   9.1095,    0.006,   0.139
325020060213,       P16N,      53,          1,         24,         24,2,20060316,       1644,    30.9997,  -152.0003,       5301,   449.5,   8.1321,  34.0547,2,  34.0562,2,    169.4,2,   170.4,2,   32.50,2,   23.20,2,    0.00,2,    1.55,2,   2.971,2,   1.538,2,-999.000,9,  2159.1,2,  2271.3,2,    934.3,2,    20.00,   7.6486,2,    25.00,-999.000,9,-999.000,    1.787,2,   7.255,2, -999.00,9,  -999.0,9,    -9.0,   7.704,2,   0.068,   44.26,2,   26.90,2,  449.50,   0.1200,2,   0.0830,2,   0.0380,2,   0.0260,2,   0.0196,2,   0.0213,2,     -999.0,     -999.0,9,     -999.0,9,     -999.0,9,     -999.0,9,     -999.0,9,     -999.0,9, -999.00,9,   8.0861,    0.006,   0.139
325020060213,       P16N,      53,          1,         23,         23,2,20060316,       1644,    30.9997,  -152.0003,       5301,   500.4,   7.2488,  34.0155,2,  34.0167,2,    147.0,2,   147.8,2,   41.80,2,   27.00,2,    0.00,2,    1.82,2,   2.664,2,   1.357,2,-999.000,9,  2187.3,2,  2276.2,2,   1104.7,6,    20.00,   7.5824,2,    25.00,-999.000,9,-999.000,    1.796,2,   8.881,2, -999.00,9,  -999.0,9,    -9.0,   7.656,2,   0.032,   43.46,2,   31.59,2,  500.40,   0.1340,2,   0.0930,2,   0.0450,2,   0.0310,2,   0.0170,2,   0.0192,2,     -999.0,     -999.0,9,     -999.0,9,     -999.0,9,     -999.0,9,     -999.0,9,     -999.0,9, -999.00,9,   7.2007,    0.003,   0.397
325020060213,       P16N,      53,          1,         22,         22,2,20060316,       1644,    30.9997,  -152.0003,       5301,   599.0,   5.6231,  33.9988,2,  33.9993,2,    104.0,2,   103.2,2,   63.70,6,   33.60,2,    0.00,6,    2.35,6,   1.694,2,   0.830,2,-999.000,9,  2244.4,2,  2294.5,2,   1518.6,2,    20.00,   7.4601,2,    25.00,-999.000,9,-999.000,    1.824,2,  14.828,2, -999.00,9,  -999.0,9,    -9.0,   7.950,2,   0.007,   42.46,2,   37.94,2,  599.00,   0.1560,2,   0.1090,2,   0.0560,2,   0.0390,2,   0.0154,2,   0.0175,2,     -999.0,     -999.0,9,     -999.0,9,     -999.0,9,     -999.0,9,     -999.0,9,     -999.0,9, -999.00,9,   5.5726,    0.001,   0.201
325020060213,       P16N,      53,          1,         21,         21,2,20060316,       1644,    30.9997,  -152.0003,       5301,   700.1,   4.6531,  34.0749,2,  34.0795,2,     56.3,2,    53.3,2,   85.90,2,   39.60,2,    0.00,2,    2.77,2,   0.586,2,   0.283,2,-999.000,9,  2301.4,2,  2316.9,2,   2011.5,2,    20.00,   7.3509,2,    25.00,-999.000,9,-999.000,    1.852,2,  18.250,2, -999.00,9,  -999.0,9,    -9.0,   7.911,2,   0.019,   41.50,2,   43.36,2,  700.10,   0.1670,2,   0.1190,2,   0.0630,2,   0.0450,2,   0.0142,2,   0.0161,3,     -999.0,     -999.0,9,     -999.0,9,     -999.0,9,     -999.0,9,     -999.0,9,     -999.0,9, -999.00,9,   4.5987,    0.001,   0.207
325020060213,       P16N,      53,          1,         20,         20,2,20060316,       1644,    30.9997,  -152.0003,       5301,   798.9,   4.1493,  34.1772,2,-999.0000,5,     24.2,2,    23.6,2,  102.40,2,   42.60,2,    0.00,2,    2.99,2,   0.148,2,   0.068,2,-999.000,9,  2337.3,2,  2335.3,2,   -999.0,9,  -999.00,   7.2994,2,    25.00,-999.000,9,-999.000,-999.0000,9,-999.000,9, -999.00,9,  -999.0,9,    -9.0,-999.000,9,-999.000,   40.54,2,   46.35,2,  798.90,   0.1820,2,   0.1310,2,   0.0720,2,   0.0530,2,   0.0136,2,   0.0151,3,     -999.0,     -999.0,9,     -999.0,9,     -999.0,9,     -999.0,9,     -999.0,9,     -999.0,9, -999.00,9,   4.0896,-999.0000,-999.000
325020060213,       P16N,      53,          1,         19,         19,2,20060316,       1644,    30.9997,  -152.0003,       5301,   900.1,   3.7674,  34.2669,2,  34.2684,2,     11.4,2,    10.6,2,  116.40,2,   43.80,2,    0.00,2,    3.11,2,   0.025,2,   0.009,2,-999.000,9,  2359.3,6,  2352.6,2,   -999.0,9,  -999.00,   7.2816,2,    25.00,-999.000,9,-999.000,-999.0000,9,-999.000,9, -999.00,9,  -999.0,9,    -9.0,-999.000,9,-999.000,   40.27,2,   47.46,2,  900.10,-999.0000,9,-999.0000,9,-999.0000,9,-999.0000,9,-999.0000,9,-999.0000,9,     -999.0,     -999.0,9,     -999.0,9,     -999.0,9,     -999.0,9,     -999.0,9,     -999.0,9, -999.00,9,   3.7019,-999.0000,-999.000
325020060213,       P16N,      53,          1,         18,         18,2,20060316,       1644,    30.9997,  -152.0003,       5301,  1000.3,   3.5410,  34.3587,2,  34.3606,2,      8.9,2,     8.9,2,  125.50,2,   44.00,2,    0.00,2,    3.15,2,   0.007,2,   0.009,2,-999.000,9,  2372.3,2,  2368.4,6,   -999.0,9,  -999.00,   7.2940,2,    25.00,-999.000,9,-999.000,-999.0000,9,-999.000,9, -999.00,9,  -999.0,9,    -9.0,-999.000,9,-999.000,   39.84,2,   47.51,2, 1000.30,   0.1770,2,   0.1280,2,   0.0720,2,   0.0530,2,   0.0132,2,   0.0146,3,     -999.0,     -999.0,9,     -999.0,9,     -999.0,9,     -999.0,9,     -999.0,9,     -999.0,9, -999.00,9,   3.4691,-999.0000,-999.000
325020060213,       P16N,      53,          1,         17,         17,2,20060316,       1644,    30.9997,  -152.0003,       5301,  1200.3,   3.0705,  34.4743,2,  34.4743,2,     19.2,2,    20.0,2,  138.90,2,   44.10,2,    0.00,2,    3.13,2,-999.000,9,-999.000,9,-999.000,9,  -999.0,9,  2389.7,2,   2212.2,2,    20.00,   7.3213,2,    25.00,-999.000,9,-999.000,-999.0000,9,-999.000,9, -999.00,9,  -999.0,9,    -9.0,-999.000,9,-999.000,   38.42,2,   47.83,2, 1200.30,   0.1700,2,   0.1230,2,   0.0690,2,   0.0500,2,   0.0132,2,   0.0148,3,     -999.0,     -999.0,9,     -999.0,9,     -999.0,9,     -999.0,9,     -999.0,9,     -999.0,9, -999.00,9,   2.9865,-999.0000,-999.000
325020060213,       P16N,      53,          1,         16,         16,2,20060316,       1644,    30.9997,  -152.0003,       5301,  1400.0,   2.7620,  34.5323,2,  34.5317,2,     36.0,2,    35.2,2,  145.50,2,   42.90,2,    0.00,2,    3.07,2,   0.008,2,   0.000,2,-999.000,9,  2382.0,2,  2399.6,2,   2029.0,6,    20.00,   7.3600,2,    25.00,-999.000,9,-999.000,-999.0000,9,-999.000,9, -999.00,9,  -999.0,9,    -9.0,-999.000,9,-999.000,   37.64,2,   46.99,2, 1400.00,   0.1640,2,   0.1180,2,   0.0650,2,   0.0470,2,   0.0135,2,   0.0153,3,     -999.0,     -999.0,9,     -999.0,9,     -999.0,9,     -999.0,9,     -999.0,9,     -999.0,9, -999.00,9,   2.6651,-999.0000,-999.000
325020060213,       P16N,      53,          1,         15,         15,2,20060316,       1644,    30.9997,  -152.0003,       5301,  1599.6,   2.4629,  34.5699,2,  34.5706,2,     53.8,2,    53.6,2,  150.50,2,   42.10,2,    0.00,2,    2.97,2,-999.000,9,-999.000,9,-999.000,9,  2378.0,2,  2407.8,2,   1855.3,2,    20.00,   7.3975,3,    25.00,-999.000,9,-999.000,-999.0000,9,-999.000,9, -999.00,9,  -999.0,9,    -9.0,-999.000,9,-999.000,   36.94,2,   45.93,2, 1599.60,   0.1490,2,   0.1050,2,   0.0570,2,   0.0410,2,   0.0138,2,   0.0158,3,     -999.0,     -999.0,9,     -999.0,9,     -999.0,9,     -999.0,9,     -999.0,9,     -999.0,9, -999.00,9,   2.3533,-999.0000,-999.000
325020060213,       P16N,      53,          1,         14,         14,2,20060316,       1644,    30.9997,  -152.0003,       5301,  1799.8,   2.1940,  34.5996,2,  34.6007,2,     69.2,2,    69.4,2,  156.00,2,   41.00,2,    0.00,2,    2.91,2,   0.026,3,   0.004,2,-999.000,9,  2373.4,2,  2416.3,2,   1729.6,2,    20.00,   7.4324,2,    25.00,-999.000,9,-999.000,-999.0000,9,-999.000,9, -999.00,9,  -999.0,9,    -9.0,-999.000,9,-999.000,   37.21,2,   44.43,2, 1799.80,   0.1450,2,   0.1010,2,   0.0540,2,   0.0390,2,   0.0143,2,   0.0165,3,     -999.0,     -999.0,9,     -999.0,9,     -999.0,9,     -999.0,9,     -999.0,9,     -999.0,9, -999.00,9,   2.0715,-999.0000,-999.000
325020060213,       P16N,      53,          1,         13,         13,9,20060316,       1644,    30.9997,  -152.0003,       5301,  1998.8,   1.9946,  34.6173,2,-999.0000,9,     75.2,2,  -999.0,9, -999.00,9, -999.00,9, -999.00,9, -999.00,9,-999.000,9,-999.000,9,-999.000,9,  -999.0,9,  -999.0,9,   -999.0,9,  -999.00,-999.0000,9,  -999.00,-999.000,9,-999.000,-999.0000,9,-999.000,9, -999.00,9,  -999.0,9,    -9.0,-999.000,9,-999.000, -999.00,9, -999.00,9, 1998.80,-999.0000,9,-999.0000,9,-999.0000,9,-999.0000,9,-999.0000,9,-999.0000,9,     -999.0,     -999.0,9,     -999.0,9,     -999.0,9,     -999.0,9,     -999.0,9,     -999.0,9, -999.00,9,   1.8584,-999.0000,-999.000
325020060213,       P16N,      53,          1,         12,         12,2,20060316,       1644,    30.9997,  -152.0003,       5301,  1999.4,   1.9936,  34.6175,2,  34.6171,2,     75.3,2,    76.5,2,  162.20,2,   40.70,2,    0.00,2,    2.87,2,   0.007,3,  -0.001,2,-999.000,9,  2374.0,2,  2421.9,2,   1681.3,2,    20.00,   7.4449,2,    25.00,-999.000,9,-999.000,    1.902,2,  22.134,2, -999.00,9,  -999.0,9,    -9.0,   7.844,3,   0.033,   36.44,2,   44.21,2, 1999.40,   0.1480,2,   0.1060,2,   0.0550,2,   0.0350,2,   0.0162,2,   0.0177,2,     -999.0,     -999.0,9,     -999.0,9,     -999.0,9,     -999.0,9,     -999.0,9,     -999.0,9, -999.00,9,   1.8573,    0.003,   0.396
325020060213,       P16N,      53,          1,         11,         11,2,20060316,       1644,    30.9997,  -152.0003,       5301,  2250.3,   1.8216,  34.6359,2,  34.6352,2,     86.9,2,    86.5,2,  166.30,2,   39.90,2,    0.00,2,    2.83,2,-999.000,9,-999.000,9,-999.000,9,  2372.5,2,  2426.7,2,   1581.2,6,    20.00,   7.4659,2,    25.00,-999.000,9,-999.000,-999.0000,9,-999.000,9, -999.00,9,  -999.0,9,    -9.0,-999.000,9,-999.000,   35.93,2,   43.28,2, 2250.30,   0.1410,2,   0.1000,2,   0.0520,2,   0.0320,2,   0.0165,2,   0.0181,2,     -999.0,     -999.0,9,     -999.0,9,     -999.0,9,     -999.0,9,     -999.0,9,     -999.0,9, -999.00,9,   1.6667,-999.0000,-999.000
325020060213,       P16N,      53,          1,         10,         10,2,20060316,       1644,    30.9997,  -152.0003,       5301,  2499.8,   1.6891,  34.6497,2,  34.6484,2,     97.1,2,    96.7,2,  168.50,2,   39.40,2,    0.00,2,    2.78,2,  -0.004,2,   0.000,2,-999.000,9,  2367.4,2,  2430.4,2,   1500.3,2,    20.00,   7.4844,6,    25.00,-999.000,9,-999.000,-999.0000,9,-999.000,9, -999.00,9,  -999.0,9,    -9.0,-999.000,9,-999.000,   36.65,2,   43.37,2, 2499.80,   0.1360,2,   0.0950,2,   0.0480,2,   0.0290,2,   0.0173,2,   0.0190,2,     -999.0,     -999.0,9,     -999.0,9,     -999.0,9,     -999.0,9,     -999.0,9,     -999.0,9, -999.00,9,   1.5147,-999.0000,-999.000