BOTTLE,20170720CCHSIOCBG
EXPOCODE,SECT_ID,STNNBR,CASTNO,SAMPNO,BTLNBR,BTLNBR_FLAG_W,DATE,TIME,LATITUDE,LONGITUDE,DEPTH,CTDPRS,CTDTMP,CTDSAL,CTDSAL_FLAG_W,SALNTY,SALNTY_FLAG_W,CTDOXY,CTDOXY_FLAG_W,OXYGEN,OXYGEN_FLAG_W,SILCAT,SILCAT_FLAG_W,NITRAT,NITRAT_FLAG_W,NITRIT,NITRIT_FLAG_W,PHSPHT,PHSPHT_FLAG_W,CFC-11,CFC-11_FLAG_W,CFC-12,CFC-12_FLAG_W,CFC113,CFC113_FLAG_W,TCARBN,TCARBN_FLAG_W,ALKALI,ALKALI_FLAG_W,FCO2,FCO2_FLAG_W,FCO2TMP,PH_TOT,PH_TOT_FLAG_W,PH_TMP,TRITUM,TRITUM_FLAG_W,TRITER,HELIUM,HELIUM_FLAG_W,DELHE3,DELHE3_FLAG_W,DELC13,DELC13_FLAG_W,DELC14,DELC14_FLAG_W,C14ERR,NEON,NEON_FLAG_W,NEONER,DOC,DOC_FLAG_W,TDN,TDN_FLAG_W,CTDRAW,CDOM325,CDOM325_FLAG_W,CDOM340,CDOM340_FLAG_W,CDOM380,CDOM380_FLAG_W,CDOM412,CDOM412_FLAG_W,CDOMSL,CDOMSL_FLAG_W,CDOMSN,CDOMSN_FLAG_W,DCNS,ARABI,ARABI_FLAG_W,FUCO,FUCO_FLAG_W,GALA,GALA_FLAG_W,GLUC,GLUC_FLAG_W,MAN,MAN_FLAG_W,RHAM,RHAM_FLAG_W,BRDU,BRDU_FLAG_W,THETA,HELIER,DELHER
,,,,,,,,,,,METERS,DBAR,ITS-90,PSS-78,,PSS-78,,UMOL/KG,,UMOL/KG,,UMOL/KG,,UMOL/KG,,UMOL/KG,,UMOL/KG,,PMOL/KG,,PMOL/KG,,PMOL/KG,,UMOL/KG,,UMOL/KG,,UATM,,DEG C,,,DEG C,TU,,TU,NMOL/KG,,PERCNT,,/MILLE,,/MILLE,,/MILLE,NMOL/KG,,NMOL/KG,UMOL/KG,,UMOL/KG,,DBAR,1/M,,1/M,,1/M,,1/M,,1/NM,,1/NM,,NMOL/KG,NMOL/KG,,NMOL/KG,,NMOL/KG,,NMOL/KG,,NMOL/KG,,NMOL/KG,,PMOL/L/H,,DEG C,NMOL/KG,PERCNT
325020060213,       P16N,      80,          1,          9,          9,2,20060329,       1203,    55.8502,  -153.0302,       3429,  2092.2,   1.9012,  34.5926,2,  34.5947,2,     59.7,2,    59.9,2,  169.30,2,   41.80,2,    0.00,2,    3.02,2,-999.000,9,-999.000,9,-999.000,9,  2383.5,2,  2418.2,2,   1854.1,2,    20.00,   7.4002,2,    25.00,-999.000,9,-999.000,-999.0000,9,-999.000,9, -999.00,9,  -999.0,9,    -9.0,-999.000,9,-999.000,   38.37,2,   45.93,2, 2092.20,-999.0000,9,-999.0000,9,-999.0000,9,-999.0000,9,-999.0000,9,-999.0000,9,     -999.0,     -999.0,9,     -999.0,9,     -999.0,9,     -999.0,9,     -999.0,9,     -999.0,9, -999.00,9,   1.7587,-999.0000,-999.000
325020060213,       P16N,      80,          1,          8,          8,2,20060329,       1203,    55.8502,  -153.0302,       3429,  2299.5,   1.8125,  34.6108,2,  34.6144,3,     70.7,2,    70.5,2,  170.50,2,   41.20,2,    0.00,2,    2.98,2,   0.005,2,   0.001,2,-999.000,5,  2376.1,2,  2420.3,2,   1751.3,6,    20.00,   7.4232,2,    25.00,-999.000,9,-999.000,-999.0000,9,-999.000,9, -999.00,9,  -999.0,9,    -9.0,-999.000,9,-999.000,   37.94,2,   44.55,2, 2299.50,-999.0000,9,-999.0000,9,-999.0000,9,-999.0000,9,-999.0000,9,-999.0000,9,     -999.0,     -999.0,9,     -999.0,9,     -999.0,9,     -999.0,9,     -999.0,9,     -999.0,9, -999.00,9,   1.6536,-999.0000,-999.000
325020060213,       P16N,      80,          1,          7,          7,2,20060329,       1203,    55.8502,  -153.0302,       3429,  2488.9,   1.7253,  34.6278,2,  34.6293,2,     81.7,2,    81.9,2,  171.00,2,   40.20,2,    0.00,2,    2.92,2,-999.000,9,-999.000,9,-999.000,9,  2373.0,2,  2423.3,6,   1639.9,2,    20.00,   7.4469,2,    25.00,-999.000,9,-999.000,-999.0000,9,-999.000,9, -999.00,9,  -999.0,9,    -9.0,-999.000,9,-999.000,   37.40,2,   43.61,2, 2488.90,-999.0000,9,-999.0000,9,-999.0000,9,-999.0000,9,-999.0000,9,-999.0000,9,     -999.0,     -999.0,9,     -999.0,9,     -999.0,9,     -999.0,9,     -999.0,9,     -999.0,9, -999.00,9,   1.5512,-999.0000,-999.000
325020060213,       P16N,      80,          1,          6,          6,2,20060329,       1203,    55.8502,  -153.0302,       3429,  2700.0,   1.6791,  34.6382,2,  34.6398,2,     90.4,2,    90.3,2,  170.80,2,   39.70,2,    0.00,2,    2.88,2,-999.000,9,-999.000,9,-999.000,9,  2368.3,2,  2423.7,2,   1566.7,2,    20.00,   7.4627,2,    25.00,-999.000,9,-999.000,-999.0000,9,-999.000,9, -999.00,9,  -999.0,9,    -9.0,-999.000,9,-999.000,   36.79,2,   43.07,2, 2700.00,-999.0000,9,-999.0000,9,-999.0000,9,-999.0000,9,-999.0000,9,-999.0000,9,     -999.0,     -999.0,9,     -999.0,9,     -999.0,9,     -999.0,9,     -999.0,9,     -999.0,9, -999.00,9,   1.4868,-999.0000,-999.000
325020060213,       P16N,      80,          1,          5,          5,2,20060329,       1203,    55.8502,  -153.0302,       3429,  2894.5,   1.6453,  34.6460,2,  34.6480,2,     97.6,2,    96.6,2,  170.10,2,   39.20,2,    0.00,2,    2.85,2,   0.009,2,   0.000,2,-999.000,5,  2363.6,2,  2425.5,2,   1517.9,2,    20.00,   7.4774,2,    25.00,-999.000,9,-999.000,-999.0000,9,-999.000,9, -999.00,9,  -999.0,9,    -9.0,-999.000,9,-999.000,   37.07,2,   42.95,2, 2894.50,-999.0000,9,-999.0000,9,-999.0000,9,-999.0000,9,-999.0000,9,-999.0000,9,     -999.0,     -999.0,9,     -999.0,9,     -999.0,9,     -999.0,9,     -999.0,9,     -999.0,9, -999.00,9,   1.4355,-999.0000,-999.000
325020060213,       P16N,      80,          1,          3,          3,2,20060329,       1203,    55.8502,  -153.0302,       3429,  3049.9,   1.6160,  34.6524,2,  34.6542,2,    103.9,2,   103.8,2,  169.40,6,   38.90,6,    0.00,6,    2.80,6,-999.000,9,-999.000,9,-999.000,9,  -999.0,9,  -999.0,9,   -999.0,9,  -999.00,   7.4914,2,    25.00,-999.000,9,-999.000,-999.0000,9,-999.000,9, -999.00,9,  -999.0,9,    -9.0,-999.000,9,-999.000,   37.24,2,   42.46,2, 3049.90,-999.0000,9,-999.0000,9,-999.0000,9,-999.0000,9,-999.0000,9,-999.0000,9,     -999.0,     -999.0,9,     -999.0,9,     -999.0,9,     -999.0,9,     -999.0,9,     -999.0,9, -999.00,9,   1.3919,-999.0000,-999.000
325020060213,       P16N,      80,          1,          4,          4,2,20060329,       1203,    55.8502,  -153.0302,       3429,  3050.2,   1.6161,  34.6524,2,  34.6542,2,    103.9,2,   103.8,2,  169.50,6,   38.90,6,    0.00,6,    2.80,6,-999.000,9,-999.000,9,-999.000,9,  2359.5,2,  2426.0,2,   1461.4,2,    20.00,   7.4910,2,    25.00,-999.000,9,-999.000,-999.0000,9,-999.000,9, -999.00,9,  -999.0,9,    -9.0,-999.000,9,-999.000,   37.22,2,   42.22,2, 3050.20,-999.0000,9,-999.0000,9,-999.0000,9,-999.0000,9,-999.0000,9,-999.0000,9,     -999.0,     -999.0,9,     -999.0,9,     -999.0,9,     -999.0,9,     -999.0,9,     -999.0,9, -999.00,9,   1.3920,-999.0000,-999.000
325020060213,       P16N,      80,          1,          2,          2,2,20060329,       1203,    55.8502,  -153.0302,       3429,  3201.6,   1.5892,  34.6582,2,  34.6619,3,    110.1,2,   110.0,2,  168.00,6,   38.30,6,    0.00,6,    2.76,6,-999.000,9,-999.000,9,-999.000,9,  2356.0,2,  2423.9,2,   1414.3,2,    20.00,   7.5028,2,    25.00,-999.000,9,-999.000,-999.0000,9,-999.000,9, -999.00,9,  -999.0,9,    -9.0,-999.000,9,-999.000,   37.65,2,   41.94,2, 3201.60,-999.0000,9,-999.0000,9,-999.0000,9,-999.0000,9,-999.0000,9,-999.0000,9,     -999.0,     -999.0,9,     -999.0,9,     -999.0,9,     -999.0,9,     -999.0,9,     -999.0,9, -999.00,9,   1.3510,-999.0000,-999.000
325020060213,       P16N,      80,          1,          1,          1,2,20060329,       1203,    55.8502,  -153.0302,       3429,  3322.0,   1.5493,  34.6649,2,  34.6680,3,    118.0,2,   118.9,2,  166.20,6,   37.70,6,    0.00,6,    2.74,6,  -0.004,2,   0.000,2,-999.000,5,  2350.6,6,  2424.9,2,   1347.6,2,    20.00,   7.5183,2,    25.00,-999.000,9,-999.000,-999.0000,9,-999.000,9, -999.00,9,  -999.0,9,    -9.0,-999.000,9,-999.000,   37.13,2,   41.49,2, 3322.00,-999.0000,9,-999.0000,9,-999.0000,9,-999.0000,9,-999.0000,9,-999.0000,9,     -999.0,     -999.0,9,     -999.0,9,     -999.0,9,     -999.0,9,     -999.0,9,     -999.0,9, -999.00,9,   1.3000,-999.0000,-999.000