BOTTLE,20170720CCHSIOCBG
EXPOCODE,SECT_ID,STNNBR,CASTNO,SAMPNO,BTLNBR,BTLNBR_FLAG_W,DATE,TIME,LATITUDE,LONGITUDE,DEPTH,CTDPRS,CTDTMP,CTDSAL,CTDSAL_FLAG_W,SALNTY,SALNTY_FLAG_W,CTDOXY,CTDOXY_FLAG_W,OXYGEN,OXYGEN_FLAG_W,SILCAT,SILCAT_FLAG_W,NITRAT,NITRAT_FLAG_W,NITRIT,NITRIT_FLAG_W,PHSPHT,PHSPHT_FLAG_W,CFC-11,CFC-11_FLAG_W,CFC-12,CFC-12_FLAG_W,CFC113,CFC113_FLAG_W,TCARBN,TCARBN_FLAG_W,ALKALI,ALKALI_FLAG_W,FCO2,FCO2_FLAG_W,FCO2TMP,PH_TOT,PH_TOT_FLAG_W,PH_TMP,TRITUM,TRITUM_FLAG_W,TRITER,HELIUM,HELIUM_FLAG_W,DELHE3,DELHE3_FLAG_W,DELC13,DELC13_FLAG_W,DELC14,DELC14_FLAG_W,C14ERR,NEON,NEON_FLAG_W,NEONER,DOC,DOC_FLAG_W,TDN,TDN_FLAG_W,CTDRAW,CDOM325,CDOM325_FLAG_W,CDOM340,CDOM340_FLAG_W,CDOM380,CDOM380_FLAG_W,CDOM412,CDOM412_FLAG_W,CDOMSL,CDOMSL_FLAG_W,CDOMSN,CDOMSN_FLAG_W,DCNS,ARABI,ARABI_FLAG_W,FUCO,FUCO_FLAG_W,GALA,GALA_FLAG_W,GLUC,GLUC_FLAG_W,MAN,MAN_FLAG_W,RHAM,RHAM_FLAG_W,BRDU,BRDU_FLAG_W,THETA,HELIER,DELHER
,,,,,,,,,,,METERS,DBAR,ITS-90,PSS-78,,PSS-78,,UMOL/KG,,UMOL/KG,,UMOL/KG,,UMOL/KG,,UMOL/KG,,UMOL/KG,,PMOL/KG,,PMOL/KG,,PMOL/KG,,UMOL/KG,,UMOL/KG,,UATM,,DEG C,,,DEG C,TU,,TU,NMOL/KG,,PERCNT,,/MILLE,,/MILLE,,/MILLE,NMOL/KG,,NMOL/KG,UMOL/KG,,UMOL/KG,,DBAR,1/M,,1/M,,1/M,,1/M,,1/NM,,1/NM,,NMOL/KG,NMOL/KG,,NMOL/KG,,NMOL/KG,,NMOL/KG,,NMOL/KG,,NMOL/KG,,PMOL/L/H,,DEG C,NMOL/KG,PERCNT
325020060213,       P16N,      32,          2,          8,          8,2,20060226,       0708,         10,    -151.94,       5132,  2875.1,   1.7275,  34.6756,2,  34.6757,2,    118.9,2,   118.8,2,  154.40,2,   37.90,2,    0.00,2,    2.66,2,-999.000,9,-999.000,9,-999.000,9,  2353.0,2,  2434.1,2,   -999.0,9,  -999.00,   7.5310,2,    25.00,-999.000,9,-999.000,-999.0000,9,-999.000,9, -999.00,9,  -999.0,9,    -9.0,-999.000,9,-999.000,   37.07,2,   41.78,2, 2875.10,-999.0000,9,-999.0000,9,-999.0000,9,-999.0000,9,-999.0000,9,-999.0000,9,     -999.0,     -999.0,9,     -999.0,9,     -999.0,9,     -999.0,9,     -999.0,9,     -999.0,9, -999.00,9,   1.5176,-999.0000,-999.000
325020060213,       P16N,      32,          2,          7,          7,2,20060226,       0708,         10,    -151.94,       5132,  3125.1,   1.6472,  34.6798,2,  34.6781,2,    125.3,2,   126.1,2,  155.40,2,   37.60,2,    0.00,2,    2.62,2,   0.003,2,   0.000,2,-999.000,5,  2349.5,2,  2433.8,2,   -999.0,9,  -999.00,   7.5421,2,    25.00,-999.000,9,-999.000,-999.0000,9,-999.000,9, -999.00,9,  -999.0,9,    -9.0,-999.000,9,-999.000,   37.92,2,   41.30,2, 3125.10,-999.0000,9,-999.0000,9,-999.0000,9,-999.0000,9,-999.0000,9,-999.0000,9,     -999.0,     -999.0,9,     -999.0,9,     -999.0,9,     -999.0,9,     -999.0,9,     -999.0,9, -999.00,9,   1.4150,-999.0000,-999.000
325020060213,       P16N,      32,          2,          6,          6,2,20060226,       0708,         10,    -151.94,       5132,  3448.3,   1.5555,  34.6850,2,  34.6832,2,    134.6,2,   137.9,2,  154.80,2,   37.00,2,    0.00,2,    2.58,2,-999.000,9,-999.000,9,-999.000,9,  2342.8,2,  2432.7,6,   -999.0,9,  -999.00,   7.5597,2,    25.00,-999.000,9,-999.000,-999.0000,9,-999.000,9, -999.00,9,  -999.0,9,    -9.0,-999.000,9,-999.000,   38.28,2,   40.52,2, 3448.30,-999.0000,9,-999.0000,9,-999.0000,9,-999.0000,9,-999.0000,9,-999.0000,9,     -999.0,     -999.0,9,     -999.0,9,     -999.0,9,     -999.0,9,     -999.0,9,     -999.0,9, -999.00,9,   1.2932,-999.0000,-999.000
325020060213,       P16N,      32,          2,          5,          5,2,20060226,       0708,         10,    -151.94,       5132,  3849.9,   1.4386,  34.6929,2,  34.6904,2,    153.1,2,   153.1,2,  145.90,6,   35.70,6,    0.00,6,    2.48,6,  -0.002,2,   0.000,2,-999.000,5,  2324.9,2,  2428.2,2,   -999.0,9,  -999.00,   7.5838,2,    25.00,-999.000,9,-999.000,-999.0000,9,-999.000,9, -999.00,9,  -999.0,9,    -9.0,-999.000,9,-999.000,   38.87,2,   39.15,2, 3849.90,-999.0000,9,-999.0000,9,-999.0000,9,-999.0000,9,-999.0000,9,-999.0000,9,     -999.0,     -999.0,9,     -999.0,9,     -999.0,9,     -999.0,9,     -999.0,9,     -999.0,9, -999.00,9,   1.1375,-999.0000,-999.000
325020060213,       P16N,      32,          2,          4,          4,2,20060226,       0708,         10,    -151.94,       5132,  4299.6,   1.3680,  34.6992,2,  34.6971,2,    167.8,2,   168.2,2,  137.10,6,   34.70,6,    0.00,6,    2.40,6,-999.000,9,-999.000,9,-999.000,9,  2308.4,2,  2416.1,2,   -999.0,9,  -999.00,   7.5975,2,    25.00,-999.000,9,-999.000,-999.0000,9,-999.000,9, -999.00,9,  -999.0,9,    -9.0,-999.000,9,-999.000,   39.68,2,   38.44,2, 4299.60,-999.0000,9,-999.0000,9,-999.0000,9,-999.0000,9,-999.0000,9,-999.0000,9,     -999.0,     -999.0,9,     -999.0,9,     -999.0,9,     -999.0,9,     -999.0,9,     -999.0,9, -999.00,9,   1.0198,-999.0000,-999.000
325020060213,       P16N,      32,          2,          3,          3,2,20060226,       0708,         10,    -151.94,       5132,  4799.1,   1.3830,  34.7012,2,  34.6993,2,    174.6,2,   173.2,2,  133.60,6,   34.30,6,    0.00,6,    2.36,6,   0.046,4,   0.008,4,-999.000,5,  2302.4,2,  2410.2,2,   -999.0,9,  -999.00,   7.5976,2,    25.00,-999.000,9,-999.000,-999.0000,9,-999.000,9, -999.00,9,  -999.0,9,    -9.0,-999.000,9,-999.000,   39.62,2,   37.55,2, 4799.10,-999.0000,9,-999.0000,9,-999.0000,9,-999.0000,9,-999.0000,9,-999.0000,9,     -999.0,     -999.0,9,     -999.0,9,     -999.0,9,     -999.0,9,     -999.0,9,     -999.0,9, -999.00,9,   0.9767,-999.0000,-999.000
325020060213,       P16N,      32,          2,          1,          1,2,20060226,       0708,         10,    -151.94,       5132,  5294.2,   1.4371,  34.7015,2,  34.7001,2,    175.8,2,   174.6,2,  133.30,2,   34.20,2,    0.00,2,    2.36,2,   0.000,2,   0.001,2,-999.000,5,  2301.4,6,  2408.8,2,   -999.0,9,  -999.00,   7.6015,2,    25.00,-999.000,9,-999.000,-999.0000,9,-999.000,9, -999.00,9,  -999.0,9,    -9.0,-999.000,9,-999.000,   39.33,2,   37.44,2, 5294.20,-999.0000,9,-999.0000,9,-999.0000,9,-999.0000,9,-999.0000,9,-999.0000,9,     -999.0,     -999.0,9,     -999.0,9,     -999.0,9,     -999.0,9,     -999.0,9,     -999.0,9, -999.00,9,   0.9687,-999.0000,-999.000