BOTTLE,20170720CCHSIOCBG
EXPOCODE,SECT_ID,STNNBR,CASTNO,SAMPNO,BTLNBR,BTLNBR_FLAG_W,DATE,TIME,LATITUDE,LONGITUDE,DEPTH,CTDPRS,CTDTMP,CTDSAL,CTDSAL_FLAG_W,SALNTY,SALNTY_FLAG_W,CTDOXY,CTDOXY_FLAG_W,OXYGEN,OXYGEN_FLAG_W,SILCAT,SILCAT_FLAG_W,NITRAT,NITRAT_FLAG_W,NITRIT,NITRIT_FLAG_W,PHSPHT,PHSPHT_FLAG_W,CFC-11,CFC-11_FLAG_W,CFC-12,CFC-12_FLAG_W,CFC113,CFC113_FLAG_W,TCARBN,TCARBN_FLAG_W,ALKALI,ALKALI_FLAG_W,FCO2,FCO2_FLAG_W,FCO2TMP,PH_TOT,PH_TOT_FLAG_W,PH_TMP,TRITUM,TRITUM_FLAG_W,TRITER,HELIUM,HELIUM_FLAG_W,DELHE3,DELHE3_FLAG_W,DELC13,DELC13_FLAG_W,DELC14,DELC14_FLAG_W,C14ERR,NEON,NEON_FLAG_W,NEONER,DOC,DOC_FLAG_W,TDN,TDN_FLAG_W,CTDRAW,CDOM325,CDOM325_FLAG_W,CDOM340,CDOM340_FLAG_W,CDOM380,CDOM380_FLAG_W,CDOM412,CDOM412_FLAG_W,CDOMSL,CDOMSL_FLAG_W,CDOMSN,CDOMSN_FLAG_W,DCNS,ARABI,ARABI_FLAG_W,FUCO,FUCO_FLAG_W,GALA,GALA_FLAG_W,GLUC,GLUC_FLAG_W,MAN,MAN_FLAG_W,RHAM,RHAM_FLAG_W,BRDU,BRDU_FLAG_W,THETA,HELIER,DELHER
,,,,,,,,,,,METERS,DBAR,ITS-90,PSS-78,,PSS-78,,UMOL/KG,,UMOL/KG,,UMOL/KG,,UMOL/KG,,UMOL/KG,,UMOL/KG,,PMOL/KG,,PMOL/KG,,PMOL/KG,,UMOL/KG,,UMOL/KG,,UATM,,DEG C,,,DEG C,TU,,TU,NMOL/KG,,PERCNT,,/MILLE,,/MILLE,,/MILLE,NMOL/KG,,NMOL/KG,UMOL/KG,,UMOL/KG,,DBAR,1/M,,1/M,,1/M,,1/M,,1/NM,,1/NM,,NMOL/KG,NMOL/KG,,NMOL/KG,,NMOL/KG,,NMOL/KG,,NMOL/KG,,NMOL/KG,,PMOL/L/H,,DEG C,NMOL/KG,PERCNT
325020060213,       P16N,      80,          1,         36,         36,2,20060329,       1203,    55.8502,  -153.0302,       3429,     6.5,   4.6570,  32.4326,2,  32.4361,2,    316.1,2,   317.1,2,   21.20,6,   11.40,6,    0.10,6,    1.22,6,   4.780,2,   2.714,2,-999.000,5,  2047.1,6,  2183.0,2,    711.2,6,    20.00,   7.7422,6,    25.00,-999.000,9,-999.000,-999.0000,9,-999.000,9, -999.00,5,    -2.2,2,     3.3,-999.000,9,-999.000,   55.54,2,   16.20,2,    6.50,-999.0000,9,-999.0000,9,-999.0000,9,-999.0000,9,-999.0000,9,-999.0000,9,     -999.0,     -999.0,9,     -999.0,9,     -999.0,9,     -999.0,9,     -999.0,9,     -999.0,9, -999.00,9,   4.6565,-999.0000,-999.000
325020060213,       P16N,      80,          1,         35,         35,2,20060329,       1203,    55.8502,  -153.0302,       3429,    15.7,   4.5611,  32.4727,2,  32.4759,2,    316.6,2,   315.9,2,   20.20,6,   11.20,6,    0.10,2,    1.22,6,   4.809,2,   2.728,2,-999.000,5,  2051.7,2,  2186.0,2,    716.6,2,    20.00,   7.7400,3,    25.00,-999.000,9,-999.000,-999.0000,9,-999.000,9, -999.00,9,  -999.0,9,    -9.0,-999.000,9,-999.000,   54.65,2,   15.79,2,   15.70,-999.0000,9,-999.0000,9,-999.0000,9,-999.0000,9,-999.0000,9,-999.0000,9,     -999.0,     -999.0,9,     -999.0,9,     -999.0,9,     -999.0,9,     -999.0,9,     -999.0,9, -999.00,9,   4.5600,-999.0000,-999.000
325020060213,       P16N,      80,          1,         34,         34,2,20060329,       1203,    55.8502,  -153.0302,       3429,    35.6,   4.6138,  32.5318,2,  32.5321,2,    315.4,2,   307.1,2,   22.20,6,   12.80,6,    0.10,6,    1.28,6,   4.778,2,   2.642,2,-999.000,5,  2060.8,2,  2189.8,2,    751.0,2,    20.00,   7.7251,3,    25.00,-999.000,9,-999.000,-999.0000,9,-999.000,9, -999.00,9,  -999.0,9,    -9.0,-999.000,9,-999.000,   52.72,2,   16.79,2,   35.60,-999.0000,9,-999.0000,9,-999.0000,9,-999.0000,9,-999.0000,9,-999.0000,9,     -999.0,     -999.0,9,     -999.0,9,     -999.0,9,     -999.0,9,     -999.0,9,     -999.0,9, -999.00,9,   4.6113,-999.0000,-999.000
325020060213,       P16N,      80,          1,         33,         33,2,20060329,       1203,    55.8502,  -153.0302,       3429,    60.6,   4.1557,  32.5649,2,  32.5695,2,    317.2,2,   317.3,2, -999.00,1, -999.00,1, -999.00,1, -999.00,1,   4.959,2,   2.787,2,-999.000,5,  2059.2,2,  2191.5,2,    750.6,2,    20.00,   7.7323,2,    25.00,-999.000,9,-999.000,-999.0000,9,-999.000,9, -999.00,5,     4.7,2,     2.9,-999.000,9,-999.000,   52.66,2,   15.87,2,   60.60,-999.0000,9,-999.0000,9,-999.0000,9,-999.0000,9,-999.0000,9,-999.0000,9,     -999.0,     -999.0,9,     -999.0,9,     -999.0,9,     -999.0,9,     -999.0,9,     -999.0,9, -999.00,9,   4.1517,-999.0000,-999.000
325020060213,       P16N,      80,          1,         32,         32,2,20060329,       1203,    55.8502,  -153.0302,       3429,    84.7,   5.4404,  33.0700,2,  33.0410,2,    238.2,2,   208.0,2, -999.00,1, -999.00,1, -999.00,1, -999.00,1,   3.900,2,   2.131,2,-999.000,5,  2136.4,2,  2222.8,2,   1109.0,2,    20.00,   7.5762,2,    25.00,-999.000,9,-999.000,-999.0000,9,-999.000,9, -999.00,9,  -999.0,9,    -9.0,-999.000,9,-999.000,   51.38,2,   22.94,2,   84.70,-999.0000,9,-999.0000,9,-999.0000,9,-999.0000,9,-999.0000,9,-999.0000,9,     -999.0,     -999.0,9,     -999.0,9,     -999.0,9,     -999.0,9,     -999.0,9,     -999.0,9, -999.00,9,   5.4338,-999.0000,-999.000
325020060213,       P16N,      80,          1,         31,         31,2,20060329,       1203,    55.8502,  -153.0302,       3429,    95.5,   5.0647,  33.1769,2,  33.1787,2,    206.4,2,   207.5,2,   33.00,6,   24.20,6,    0.00,6,    1.83,6,   4.065,2,   2.231,2,-999.000,5,  2151.0,2,  2229.9,2,   1153.0,2,    20.00,   7.5630,2,    25.00,-999.000,9,-999.000,-999.0000,9,-999.000,9, -999.00,5,   -16.1,2,     3.9,-999.000,9,-999.000,   49.76,2,   28.72,2,   95.50,-999.0000,9,-999.0000,9,-999.0000,9,-999.0000,9,-999.0000,9,-999.0000,9,     -999.0,     -999.0,9,     -999.0,9,     -999.0,9,     -999.0,9,     -999.0,9,     -999.0,9, -999.00,9,   5.0576,-999.0000,-999.000
325020060213,       P16N,      80,          1,         29,         29,9,20060329,       1203,    55.8502,  -153.0302,       3429,   111.4,   5.1906,  33.5423,2,-999.0000,9,    141.6,2,  -999.0,9, -999.00,9, -999.00,9, -999.00,9, -999.00,9,-999.000,9,-999.000,9,-999.000,9,  -999.0,9,  -999.0,9,   -999.0,9,  -999.00,-999.0000,9,  -999.00,-999.000,9,-999.000,-999.0000,9,-999.000,9, -999.00,9,  -999.0,9,    -9.0,-999.000,9,-999.000,   49.31,2,   33.87,2,  111.40,-999.0000,9,-999.0000,9,-999.0000,9,-999.0000,9,-999.0000,9,-999.0000,9,     -999.0,     -999.0,9,     -999.0,9,     -999.0,9,     -999.0,9,     -999.0,9,     -999.0,9, -999.00,9,   5.1821,-999.0000,-999.000
325020060213,       P16N,      80,          1,         30,         30,2,20060329,       1203,    55.8502,  -153.0302,       3429,   111.5,   5.1916,  33.5421,2,  33.5382,2,    141.7,2,   149.9,2,   50.00,2,   30.10,2,    0.00,2,    2.14,2,   3.576,2,   1.902,2,-999.000,5,  2205.9,2,  2253.8,6,   1473.7,2,    20.00,   7.4658,2,    25.00,-999.000,9,-999.000,-999.0000,9,-999.000,9, -999.00,5,   -26.4,2,     3.2,-999.000,9,-999.000, -999.00,9, -999.00,9,  111.50,-999.0000,9,-999.0000,9,-999.0000,9,-999.0000,9,-999.0000,9,-999.0000,9,     -999.0,     -999.0,9,     -999.0,9,     -999.0,9,     -999.0,9,     -999.0,9,     -999.0,9, -999.00,9,   5.1830,-999.0000,-999.000
325020060213,       P16N,      80,          1,         28,         28,2,20060329,       1203,    55.8502,  -153.0302,       3429,   134.1,   5.1446,  33.6961,2,  33.7105,2,    120.4,2,   118.6,2,   55.90,6,   33.50,6,    0.00,6,    2.31,6,   3.203,2,   1.690,2,-999.000,5,  2232.3,2,  2267.9,2,   1695.8,2,    20.00,   7.4108,2,    25.00,-999.000,9,-999.000,-999.0000,9,-999.000,9, -999.00,5,   -36.8,2,     3.1,-999.000,9,-999.000,   48.40,2,   37.67,2,  134.10,-999.0000,9,-999.0000,9,-999.0000,9,-999.0000,9,-999.0000,9,-999.0000,9,     -999.0,     -999.0,9,     -999.0,9,     -999.0,9,     -999.0,9,     -999.0,9,     -999.0,9, -999.00,9,   5.1343,-999.0000,-999.000
325020060213,       P16N,      80,          1,         27,         27,2,20060329,       1203,    55.8502,  -153.0302,       3429,   175.8,   4.8920,  33.8457,2,  33.8477,2,     82.4,2,    82.1,2,   65.80,2,   37.40,2,    0.00,2,    2.58,2,   2.648,2,   1.358,2,-999.000,5,  2265.4,2,  2279.9,2,   -999.0,9,  -999.00,   7.3468,2,    25.00,-999.000,9,-999.000,-999.0000,9,-999.000,9, -999.00,5,   -58.4,2,     3.2,-999.000,9,-999.000,   47.94,2,   41.35,2,  175.80,-999.0000,9,-999.0000,9,-999.0000,9,-999.0000,9,-999.0000,9,-999.0000,9,     -999.0,     -999.0,9,     -999.0,9,     -999.0,9,     -999.0,9,     -999.0,9,     -999.0,9, -999.00,9,   4.8787,-999.0000,-999.000
325020060213,       P16N,      80,          1,         26,         26,2,20060329,       1203,    55.8502,  -153.0302,       3429,   225.4,   4.4210,  33.8696,2,  33.8720,2,     62.6,2,    65.2,2,   75.30,2,   40.00,2,    0.00,2,    2.74,2,   2.397,2,   1.214,2,-999.000,5,  2287.2,2,  2288.6,2,   -999.0,9,  -999.00,   7.2999,2,    25.00,-999.000,9,-999.000,-999.0000,9,-999.000,9, -999.00,5,   -70.0,2,     3.1,-999.000,9,-999.000,   47.02,2,   43.77,2,  225.40,-999.0000,9,-999.0000,9,-999.0000,9,-999.0000,9,-999.0000,9,-999.0000,9,     -999.0,     -999.0,9,     -999.0,9,     -999.0,9,     -999.0,9,     -999.0,9,     -999.0,9, -999.00,9,   4.4048,-999.0000,-999.000
325020060213,       P16N,      80,          1,         25,         25,9,20060329,       1203,    55.8502,  -153.0302,       3429,   275.7,   4.3793,  33.9380,2,-999.0000,9,     46.4,2,  -999.0,9, -999.00,9, -999.00,9, -999.00,9, -999.00,9,-999.000,9,-999.000,9,-999.000,9,  -999.0,9,  -999.0,9,   -999.0,9,  -999.00,-999.0000,9,  -999.00,-999.000,9,-999.000,-999.0000,9,-999.000,9, -999.00,9,  -999.0,9,    -9.0,-999.000,9,-999.000, -999.00,9, -999.00,9,  275.70,-999.0000,9,-999.0000,9,-999.0000,9,-999.0000,9,-999.0000,9,-999.0000,9,     -999.0,     -999.0,9,     -999.0,9,     -999.0,9,     -999.0,9,     -999.0,9,     -999.0,9, -999.00,9,   4.3594,-999.0000,-999.000
325020060213,       P16N,      80,          1,         24,         24,2,20060329,       1203,    55.8502,  -153.0302,       3429,   325.9,   4.2402,  33.9881,2,  33.9903,2,     35.1,2,    35.8,2,   88.40,2,   42.90,2,    0.00,2,    2.94,2,   1.492,2,   0.744,2,-999.000,5,  2317.1,2,  2305.3,2,   -999.0,9,  -999.00,   7.2641,2,    25.00,-999.000,9,-999.000,-999.0000,9,-999.000,9, -999.00,5,   -94.8,2,     3.1,-999.000,9,-999.000,   45.87,2,   46.19,2,  325.90,-999.0000,9,-999.0000,9,-999.0000,9,-999.0000,9,-999.0000,9,-999.0000,9,     -999.0,     -999.0,9,     -999.0,9,     -999.0,9,     -999.0,9,     -999.0,9,     -999.0,9, -999.00,9,   4.2169,-999.0000,-999.000
325020060213,       P16N,      80,          1,         23,         23,2,20060329,       1203,    55.8502,  -153.0302,       3429,   375.9,   4.0651,  34.0286,2,  34.0305,2,     27.9,2,    25.9,2,   95.20,2,   43.80,2,    0.00,2,    3.01,2,   1.263,2,   0.624,2,-999.000,5,  2325.2,2,  2313.5,2,   -999.0,9,  -999.00,   7.2520,2,    25.00,-999.000,9,-999.000,-999.0000,9,-999.000,9, -999.00,5,  -108.3,2,     3.1,-999.000,9,-999.000,   44.26,2,   48.27,2,  375.90,-999.0000,9,-999.0000,9,-999.0000,9,-999.0000,9,-999.0000,9,-999.0000,9,     -999.0,     -999.0,9,     -999.0,9,     -999.0,9,     -999.0,9,     -999.0,9,     -999.0,9, -999.00,9,   4.0386,-999.0000,-999.000
325020060213,       P16N,      80,          1,         22,         22,2,20060329,       1203,    55.8502,  -153.0302,       3429,   426.0,   4.0603,  34.0735,2,  34.0750,2,     22.9,2,    25.3,2,   98.70,2,   43.60,2,    0.00,2,    3.01,2,-999.000,9,-999.000,9,-999.000,9,  -999.0,9,  -999.0,9,   -999.0,9,  -999.00,   7.2641,2,    25.00,-999.000,9,-999.000,-999.0000,9,-999.000,9, -999.00,9,  -999.0,9,    -9.0,-999.000,9,-999.000, -999.00,9, -999.00,9,  426.00,-999.0000,9,-999.0000,9,-999.0000,9,-999.0000,9,-999.0000,9,-999.0000,9,     -999.0,     -999.0,9,     -999.0,9,     -999.0,9,     -999.0,9,     -999.0,9,     -999.0,9, -999.00,9,   4.0301,-999.0000,-999.000
325020060213,       P16N,      80,          1,         21,         21,2,20060329,       1203,    55.8502,  -153.0302,       3429,   473.5,   3.9879,  34.1049,2,  34.1064,2,     21.9,2,    21.9,2,  102.40,2,   43.80,2,    0.00,2,    3.03,2,   0.824,2,   0.380,2,-999.000,5,  2336.0,2,  2325.8,2,   -999.0,9,  -999.00,   7.2653,2,    25.00,-999.000,9,-999.000,-999.0000,9,-999.000,9, -999.00,5,  -126.2,2,     3.0,-999.000,9,-999.000,   43.12,2,   47.98,2,  473.50,-999.0000,9,-999.0000,9,-999.0000,9,-999.0000,9,-999.0000,9,-999.0000,9,     -999.0,     -999.0,9,     -999.0,9,     -999.0,9,     -999.0,9,     -999.0,9,     -999.0,9, -999.00,9,   3.9543,-999.0000,-999.000
325020060213,       P16N,      80,          1,         20,         20,2,20060329,       1203,    55.8502,  -153.0302,       3429,   552.0,   3.7499,  34.1461,2,  34.1488,2,     18.1,2,    17.6,2,  110.80,2,   44.10,2,    0.00,2,    3.08,2,   0.637,6,   0.290,6,-999.000,5,  2346.7,2,  2335.6,2,   -999.0,9,  -999.00,   7.2626,2,    25.00,-999.000,9,-999.000,-999.0000,9,-999.000,9, -999.00,5,  -145.0,2,     2.9,-999.000,9,-999.000,   42.15,2,   48.10,2,  552.00,-999.0000,9,-999.0000,9,-999.0000,9,-999.0000,9,-999.0000,9,-999.0000,9,     -999.0,     -999.0,9,     -999.0,9,     -999.0,9,     -999.0,9,     -999.0,9,     -999.0,9, -999.00,9,   3.7114,-999.0000,-999.000
325020060213,       P16N,      80,          1,         19,         19,2,20060329,       1203,    55.8502,  -153.0302,       3429,   651.0,   3.5818,  34.2222,2,  34.2253,2,     15.8,2,    15.6,2,  119.50,2,   44.20,2,    0.00,2,    3.11,2,   0.355,2,   0.169,2,-999.000,5,  2354.9,2,  2347.7,2,   -999.0,9,  -999.00,   7.2776,2,    25.00,-999.000,9,-999.000,-999.0000,9,-999.000,9, -999.00,5,  -163.9,2,     2.9,-999.000,9,-999.000,   41.49,2,   48.23,2,  651.00,-999.0000,9,-999.0000,9,-999.0000,9,-999.0000,9,-999.0000,9,-999.0000,9,     -999.0,     -999.0,9,     -999.0,9,     -999.0,9,     -999.0,9,     -999.0,9,     -999.0,9, -999.00,9,   3.5367,-999.0000,-999.000
325020060213,       P16N,      80,          1,         18,         18,2,20060329,       1203,    55.8502,  -153.0302,       3429,   750.8,   3.3531,  34.2678,2,  34.2694,2,     15.1,2,    15.0,2,  127.40,2,   44.30,2,    0.00,2,    3.12,2,   0.249,2,   0.106,2,-999.000,5,  2364.6,6,  2358.1,6,   -999.0,9,  -999.00,   7.2795,6,    25.00,-999.000,9,-999.000,-999.0000,9,-999.000,9, -999.00,5,  -179.9,2,     2.7,-999.000,9,-999.000,   41.43,2,   47.97,2,  750.80,-999.0000,9,-999.0000,9,-999.0000,9,-999.0000,9,-999.0000,9,-999.0000,9,     -999.0,     -999.0,9,     -999.0,9,     -999.0,9,     -999.0,9,     -999.0,9,     -999.0,9, -999.00,9,   3.3018,-999.0000,-999.000
325020060213,       P16N,      80,          1,         17,         17,2,20060329,       1203,    55.8502,  -153.0302,       3429,   850.8,   3.2032,  34.3151,2,  34.3179,2,     15.0,2,    14.2,2,  133.40,2,   44.40,2,    0.00,2,    3.14,2,   0.129,2,   0.064,2,-999.000,5,  2370.2,2,  2367.1,2,   -999.0,9,  -999.00,   7.2862,2,    25.00,-999.000,9,-999.000,-999.0000,9,-999.000,9, -999.00,5,  -189.4,2,     2.6,-999.000,9,-999.000,   40.40,2,   48.76,2,  850.80,-999.0000,9,-999.0000,9,-999.0000,9,-999.0000,9,-999.0000,9,-999.0000,9,     -999.0,     -999.0,9,     -999.0,9,     -999.0,9,     -999.0,9,     -999.0,9,     -999.0,9, -999.00,9,   3.1454,-999.0000,-999.000
325020060213,       P16N,      80,          1,         16,         16,2,20060329,       1203,    55.8502,  -153.0302,       3429,   949.9,   3.0519,  34.3483,2,  34.3509,2,     15.0,2,    14.5,2,  138.40,2,   44.30,2,    0.00,2,    3.15,2,   0.097,2,   0.039,2,-999.000,5,  2375.0,2,  2373.1,2,   -999.0,9,  -999.00,   7.2886,2,    25.00,-999.000,9,-999.000,-999.0000,9,-999.000,9, -999.00,9,  -999.0,9,    -9.0,-999.000,9,-999.000,   40.59,2,   48.21,2,  949.90,-999.0000,9,-999.0000,9,-999.0000,9,-999.0000,9,-999.0000,9,-999.0000,9,     -999.0,     -999.0,9,     -999.0,9,     -999.0,9,     -999.0,9,     -999.0,9,     -999.0,9, -999.00,9,   2.9877,-999.0000,-999.000
325020060213,       P16N,      80,          1,         15,         15,2,20060329,       1203,    55.8502,  -153.0302,       3429,  1100.7,   2.8184,  34.3988,2,  34.4021,2,     15.7,2,    15.2,2,  146.50,2,   44.60,2,    0.00,2,    3.17,2,   0.056,2,   0.022,2,-999.000,5,  2383.4,2,  2382.3,2,   -999.0,9,  -999.00,   7.2991,2,    25.00,-999.000,9,-999.000,-999.0000,9,-999.000,9, -999.00,9,  -999.0,9,    -9.0,-999.000,9,-999.000,   39.63,2,   48.11,2, 1100.70,-999.0000,9,-999.0000,9,-999.0000,9,-999.0000,9,-999.0000,9,-999.0000,9,     -999.0,     -999.0,9,     -999.0,9,     -999.0,9,     -999.0,9,     -999.0,9,     -999.0,9, -999.00,9,   2.7445,-999.0000,-999.000
325020060213,       P16N,      80,          1,         14,         14,2,20060329,       1203,    55.8502,  -153.0302,       3429,  1301.7,   2.5415,  34.4562,2,  34.4595,2,     20.2,2,    20.0,2,  155.10,2,   44.40,2,    0.00,2,    3.16,2,   0.012,2,   0.003,2,-999.000,5,  2388.6,2,  2394.3,2,   2296.7,2,    20.00,   7.3115,2,    25.00,-999.000,9,-999.000,-999.0000,9,-999.000,9, -999.00,9,  -999.0,9,    -9.0,-999.000,9,-999.000,   38.82,2,   47.69,2, 1301.70,-999.0000,9,-999.0000,9,-999.0000,9,-999.0000,9,-999.0000,9,-999.0000,9,     -999.0,     -999.0,9,     -999.0,9,     -999.0,9,     -999.0,9,     -999.0,9,     -999.0,9, -999.00,9,   2.4548,-999.0000,-999.000
325020060213,       P16N,      80,          1,         13,         13,2,20060329,       1203,    55.8502,  -153.0302,       3429,  1302.1,   2.5413,  34.4563,2,  34.4569,2,     20.2,2,    20.0,2,  155.10,2,   44.30,2,    0.00,2,    3.17,2,-999.000,9,-999.000,9,-999.000,9,  -999.0,9,  -999.0,9,   -999.0,9,  -999.00,   7.3119,2,    25.00,-999.000,9,-999.000,-999.0000,9,-999.000,9, -999.00,9,  -999.0,9,    -9.0,-999.000,9,-999.000,   38.28,2,   48.33,2, 1302.10,-999.0000,9,-999.0000,9,-999.0000,9,-999.0000,9,-999.0000,9,-999.0000,9,     -999.0,     -999.0,9,     -999.0,9,     -999.0,9,     -999.0,9,     -999.0,9,     -999.0,9, -999.00,9,   2.4546,-999.0000,-999.000
325020060213,       P16N,      80,          1,         12,         12,2,20060329,       1203,    55.8502,  -153.0302,       3429,  1500.5,   2.3337,  34.5000,2,  34.5035,3,     27.7,2,    27.8,2,  155.00,2,   44.40,2,    0.00,2,    3.16,2,   0.023,3,   0.005,2,-999.000,5,  2390.5,2,  2402.7,2,   2199.5,2,    20.00,   7.3291,2,    25.00,-999.000,9,-999.000,-999.0000,9,-999.000,9, -999.00,9,  -999.0,9,    -9.0,-999.000,9,-999.000,   37.77,2,   48.19,2, 1500.50,-999.0000,9,-999.0000,9,-999.0000,9,-999.0000,9,-999.0000,9,-999.0000,9,     -999.0,     -999.0,9,     -999.0,9,     -999.0,9,     -999.0,9,     -999.0,9,     -999.0,9, -999.00,9,   2.2337,-999.0000,-999.000
325020060213,       P16N,      80,          1,         11,         11,2,20060329,       1203,    55.8502,  -153.0302,       3429,  1700.7,   2.1594,  34.5382,2,  34.5401,2,     37.3,2,    37.3,2,  164.80,2,   43.30,2,    0.00,2,    3.11,2,  -0.003,2,   0.002,2,-999.000,5,  2391.1,2,  2407.6,2,   2085.9,6,    20.00,   7.3536,2,    25.00,-999.000,9,-999.000,-999.0000,9,-999.000,9, -999.00,9,  -999.0,9,    -9.0,-999.000,9,-999.000,   38.19,2,   46.80,2, 1700.70,-999.0000,9,-999.0000,9,-999.0000,9,-999.0000,9,-999.0000,9,-999.0000,9,     -999.0,     -999.0,9,     -999.0,9,     -999.0,9,     -999.0,9,     -999.0,9,     -999.0,9, -999.00,9,   2.0455,-999.0000,-999.000
325020060213,       P16N,      80,          1,         10,         10,2,20060329,       1203,    55.8502,  -153.0302,       3429,  1899.0,   2.0048,  34.5709,2,  34.5752,3,     49.8,2,    49.5,2,  167.50,2,   42.50,2,    0.00,2,    3.07,2,-999.000,9,-999.000,9,-999.000,9,  2387.3,2,  2413.2,2,   1959.8,2,    20.00,   7.3765,2,    25.00,-999.000,9,-999.000,-999.0000,9,-999.000,9, -999.00,9,  -999.0,9,    -9.0,-999.000,9,-999.000,   38.38,2,   45.80,2, 1899.00,-999.0000,9,-999.0000,9,-999.0000,9,-999.0000,9,-999.0000,9,-999.0000,9,     -999.0,     -999.0,9,     -999.0,9,     -999.0,9,     -999.0,9,     -999.0,9,     -999.0,9, -999.00,9,   1.8769,-999.0000,-999.000