BOTTLE,20170720CCHSIOCBG
EXPOCODE,SECT_ID,STNNBR,CASTNO,SAMPNO,BTLNBR,BTLNBR_FLAG_W,DATE,TIME,LATITUDE,LONGITUDE,DEPTH,CTDPRS,CTDTMP,CTDSAL,CTDSAL_FLAG_W,SALNTY,SALNTY_FLAG_W,CTDOXY,CTDOXY_FLAG_W,OXYGEN,OXYGEN_FLAG_W,SILCAT,SILCAT_FLAG_W,NITRAT,NITRAT_FLAG_W,NITRIT,NITRIT_FLAG_W,PHSPHT,PHSPHT_FLAG_W,CFC-11,CFC-11_FLAG_W,CFC-12,CFC-12_FLAG_W,CFC113,CFC113_FLAG_W,TCARBN,TCARBN_FLAG_W,ALKALI,ALKALI_FLAG_W,FCO2,FCO2_FLAG_W,FCO2TMP,PH_TOT,PH_TOT_FLAG_W,PH_TMP,TRITUM,TRITUM_FLAG_W,TRITER,HELIUM,HELIUM_FLAG_W,DELHE3,DELHE3_FLAG_W,DELC13,DELC13_FLAG_W,DELC14,DELC14_FLAG_W,C14ERR,NEON,NEON_FLAG_W,NEONER,DOC,DOC_FLAG_W,TDN,TDN_FLAG_W,CTDRAW,CDOM325,CDOM325_FLAG_W,CDOM340,CDOM340_FLAG_W,CDOM380,CDOM380_FLAG_W,CDOM412,CDOM412_FLAG_W,CDOMSL,CDOMSL_FLAG_W,CDOMSN,CDOMSN_FLAG_W,DCNS,ARABI,ARABI_FLAG_W,FUCO,FUCO_FLAG_W,GALA,GALA_FLAG_W,GLUC,GLUC_FLAG_W,MAN,MAN_FLAG_W,RHAM,RHAM_FLAG_W,BRDU,BRDU_FLAG_W,THETA,HELIER,DELHER
,,,,,,,,,,,METERS,DBAR,ITS-90,PSS-78,,PSS-78,,UMOL/KG,,UMOL/KG,,UMOL/KG,,UMOL/KG,,UMOL/KG,,UMOL/KG,,PMOL/KG,,PMOL/KG,,PMOL/KG,,UMOL/KG,,UMOL/KG,,UATM,,DEG C,,,DEG C,TU,,TU,NMOL/KG,,PERCNT,,/MILLE,,/MILLE,,/MILLE,NMOL/KG,,NMOL/KG,UMOL/KG,,UMOL/KG,,DBAR,1/M,,1/M,,1/M,,1/M,,1/NM,,1/NM,,NMOL/KG,NMOL/KG,,NMOL/KG,,NMOL/KG,,NMOL/KG,,NMOL/KG,,NMOL/KG,,PMOL/L/H,,DEG C,NMOL/KG,PERCNT
325020060213,       P16N,      18,          1,         35,         35,2,20060221,       0239,         -1,       -151,       4688,     5.7,  25.9198,  35.2958,2,  35.2958,2,    205.7,2,   205.6,2,    2.00,2,    6.00,2,    0.00,2,    0.57,2,   1.759,2,   1.093,2,-999.000,5,  2042.9,6,  2322.3,2,    361.0,2,    20.00,   8.0047,2,    25.00,-999.000,9,-999.000,   1.7086,2,   -1.53,2, -999.00,5,    59.0,2,     3.7,   6.743,2,   0.020, -999.00,9, -999.00,9,    5.70,-999.0000,9,-999.0000,9,-999.0000,9,-999.0000,9,-999.0000,9,-999.0000,9,     -999.0,     -999.0,9,     -999.0,9,     -999.0,9,     -999.0,9,     -999.0,9,     -999.0,9, -999.00,9,  25.9185,   0.0051,    0.14
325020060213,       P16N,      18,          1,         34,         34,2,20060221,       0239,         -1,       -151,       4688,    14.7,  25.8410,  35.2935,2,  35.2923,2,    205.4,2,   205.8,2,    2.00,2,    6.00,2,    0.00,2,    0.57,2,   1.769,2,   1.095,2,-999.000,5,  2040.8,2,  2322.3,2,    360.6,2,    20.00,   8.0061,2,    25.00,   0.468,2,   0.003,   1.7195,2,   -1.25,2, -999.00,9,  -999.0,9,    -9.0,   6.762,2,   0.020,   60.66,2,   10.33,2,   14.70,-999.0000,9,-999.0000,9,-999.0000,9,-999.0000,9,-999.0000,9,-999.0000,9,     -999.0,     -999.0,9,     -999.0,9,     -999.0,9,     -999.0,9,     -999.0,9,     -999.0,9, -999.00,9,  25.8377,   0.0052,    0.14
325020060213,       P16N,      18,          1,         33,         33,2,20060221,       0239,         -1,       -151,       4688,    34.8,  25.7066,  35.2945,2,  35.2954,2,    205.0,2,   205.1,2,    2.10,2,    6.10,2,    0.00,2,    0.57,2,   1.771,2,   1.093,2,-999.000,5,  2047.2,2,  2322.3,2,    363.2,2,    20.00,   8.0085,2,    25.00,   0.544,2,   0.003,   1.7118,2,   -1.46,2, -999.00,5,    63.0,2,     3.1,   6.740,2,   0.020,   59.72,2,   10.54,2,   34.80,-999.0000,9,-999.0000,9,-999.0000,9,-999.0000,9,-999.0000,9,-999.0000,9,     -999.0,     -999.0,9,     -999.0,9,     -999.0,9,     -999.0,9,     -999.0,9,     -999.0,9, -999.00,9,  25.6989,   0.0051,    0.14
325020060213,       P16N,      18,          1,         32,         32,2,20060221,       0239,         -1,       -151,       4688,    59.1,  25.0972,  35.2437,2,  35.2513,2,    204.7,2,   203.2,2,    2.50,2,    7.20,2,    0.00,2,    0.64,2,   1.851,2,   1.124,2,-999.000,5,  2055.5,2,  2319.3,2,    389.2,2,    20.00,   7.9748,2,    25.00,   0.461,2,   0.003,   1.7164,2,   -1.51,2, -999.00,5,    54.8,2,     3.1,   6.808,2,   0.020,   58.24,2,   11.06,2,   59.10,-999.0000,9,-999.0000,9,-999.0000,9,-999.0000,9,-999.0000,9,-999.0000,9,     -999.0,     -999.0,9,     -999.0,9,     -999.0,9,     -999.0,9,     -999.0,9,     -999.0,9, -999.00,9,  25.0844,   0.0051,    0.14
325020060213,       P16N,      18,          1,         31,         31,2,20060221,       0239,         -1,       -151,       4688,    86.2,  24.7339,  35.7729,2,  35.7630,2,    172.2,2,   173.6,2,    1.80,2,    5.30,2,    1.50,2,    0.68,2,   1.795,2,   1.109,2,-999.000,5,  2084.0,2,  2353.6,2,    388.4,2,    20.00,   7.9834,2,    25.00,   0.427,2,   0.004,   1.6887,2,   -1.51,2, -999.00,5,    51.6,2,     4.0,   6.754,2,   0.020,   57.33,2,   11.29,2,   86.20,-999.0000,9,-999.0000,9,-999.0000,9,-999.0000,9,-999.0000,9,-999.0000,9,     -999.0,     -999.0,9,     -999.0,9,     -999.0,9,     -999.0,9,     -999.0,9,     -999.0,9, -999.00,9,  24.7153,   0.0051,    0.14
325020060213,       P16N,      18,          1,         30,         30,2,20060221,       0239,         -1,       -151,       4688,   110.8,  20.9121,  35.6019,2,  35.6098,2,    131.1,2,   128.9,2,    3.80,2,   11.40,2,    1.20,2,    1.04,2,   1.912,2,   1.135,2,-999.000,5,  2135.0,3,  2343.3,2,    531.9,2,    20.00,   7.8664,2,    25.00,   0.368,2,   0.003,   1.7361,2,   -0.48,2, -999.00,5,    52.5,2,     3.6,   7.010,2,   0.021,   51.27,2,   16.54,2,  110.80,-999.0000,9,-999.0000,9,-999.0000,9,-999.0000,9,-999.0000,9,-999.0000,9,     -999.0,     -999.0,9,     -999.0,9,     -999.0,9,     -999.0,9,     -999.0,9,     -999.0,9, -999.00,9,  20.8909,   0.0052,    0.14
325020060213,       P16N,      18,          1,         29,         29,2,20060221,       0239,         -1,       -151,       4688,   134.3,  17.8082,  35.4643,2,  35.4681,2,    102.6,2,   103.0,2,    6.90,2,   16.70,2,    0.00,2,    1.30,2,   1.742,2,   0.997,2,-999.000,5,  2164.2,2,  2334.7,2,    655.0,2,    20.00,   7.7880,2,    25.00,   0.306,2,   0.003,   1.7440,2,    0.70,2, -999.00,5,    51.1,2,     3.6,   7.110,2,   0.021,   48.82,2,   20.81,2,  134.30,-999.0000,9,-999.0000,9,-999.0000,9,-999.0000,9,-999.0000,9,-999.0000,9,     -999.0,     -999.0,9,     -999.0,9,     -999.0,9,     -999.0,9,     -999.0,9,     -999.0,9, -999.00,9,  17.7853,   0.0052,    0.14
325020060213,       P16N,      18,          1,         28,         28,2,20060221,       0239,         -1,       -151,       4688,   175.6,  14.8836,  35.1862,2,-999.0000,5,    100.2,2,   102.2,2,   10.50,2,   20.10,2,    0.00,2,    1.47,2,   1.489,2,   0.823,2,-999.000,5,  2172.2,2,  2319.8,6,    742.3,2,    20.00,   7.7297,2,    25.00,-999.000,9,-999.000,   1.7756,2,    1.96,2, -999.00,5,    33.7,2,     3.1,   7.277,2,   0.022,   47.78,2,   23.97,2,  175.60,-999.0000,9,-999.0000,9,-999.0000,9,-999.0000,9,-999.0000,9,-999.0000,9,     -999.0,     -999.0,9,     -999.0,9,     -999.0,9,     -999.0,9,     -999.0,9,     -999.0,9, -999.00,9,  14.8572,   0.0053,    0.14
325020060213,       P16N,      18,          1,         27,         27,2,20060221,       0239,         -1,       -151,       4688,   224.2,  12.2833,  34.8954,2,-999.0000,5,     71.3,2,    70.3,2,   20.00,2,   27.40,2,    0.00,2,    1.86,2,   0.978,6,   0.534,6,-999.000,5,  2204.3,2,  2304.6,2,   1034.3,6,    20.00,   7.6082,2,    25.00,-999.000,9,-999.000,   1.7853,2,    4.54,2, -999.00,5,     2.2,2,     3.2,   7.406,2,   0.022,   46.28,2,   31.65,2,  224.20,-999.0000,9,-999.0000,9,-999.0000,9,-999.0000,9,-999.0000,9,-999.0000,9,     -999.0,     -999.0,9,     -999.0,9,     -999.0,9,     -999.0,9,     -999.0,9,     -999.0,9, -999.00,9,  12.2536,   0.0054,    0.14
325020060213,       P16N,      18,          1,         26,         26,2,20060221,       0239,         -1,       -151,       4688,   275.8,  11.9024,  34.8640,2,  34.8629,2,     51.1,2,    50.4,2,   22.50,2,   30.20,2,    0.00,2,    2.03,2,   0.803,2,   0.432,2,-999.000,5,  2221.3,2,  2304.1,2,   1191.8,2,    20.00,   7.5613,2,    25.00,   0.237,2,   0.002,   1.7741,2,    4.68,2, -999.00,5,   -13.1,2,     3.3,   7.423,2,   0.022,   45.66,2,   34.79,2,  275.80,-999.0000,9,-999.0000,9,-999.0000,9,-999.0000,9,-999.0000,9,-999.0000,9,     -999.0,     -999.0,9,     -999.0,9,     -999.0,9,     -999.0,9,     -999.0,9,     -999.0,9, -999.00,9,  11.8666,   0.0053,    0.14
325020060213,       P16N,      18,          1,         25,         25,2,20060221,       0239,         -1,       -151,       4688,   325.0,  11.3772,  34.8368,2,  34.8356,2,     64.1,2,    63.8,2,   22.50,2,   29.40,2,    0.00,2,    2.02,2,   0.752,2,   0.408,2,-999.000,5,  2214.8,6,  2304.6,2,   1154.2,2,    20.00,   7.4853,2,    25.00,   0.159,3,   0.005,   1.7844,2,    4.59,2, -999.00,5,   -18.4,2,     4.2,   7.491,2,   0.022,   45.28,2,   33.62,2,  325.00,-999.0000,9,-999.0000,9,-999.0000,9,-999.0000,9,-999.0000,9,-999.0000,9,     -999.0,     -999.0,9,     -999.0,9,     -999.0,9,     -999.0,9,     -999.0,9,     -999.0,9, -999.00,9,  11.3361,   0.0054,    0.14
325020060213,       P16N,      18,          1,         24,         24,2,20060221,       0239,         -1,       -151,       4688,   374.8,  10.7973,  34.7996,2,  34.7988,2,     79.4,2,    79.4,2,   22.20,2,   29.00,2,    0.00,2,    1.96,2,   0.720,2,   0.392,2,-999.000,5,  2206.9,3,  2304.8,2,   1139.1,2,    20.00,-999.0000,9,  -999.00,   0.172,2,   0.002,   1.7952,2,    4.44,2, -999.00,5,   -26.4,2,     3.3,   7.527,2,   0.023,   44.47,2,   33.20,2,  374.80,-999.0000,9,-999.0000,9,-999.0000,9,-999.0000,9,-999.0000,9,-999.0000,9,     -999.0,     -999.0,9,     -999.0,9,     -999.0,9,     -999.0,9,     -999.0,9,     -999.0,9, -999.00,9,  10.7513,   0.0054,    0.14
325020060213,       P16N,      18,          1,         23,         23,2,20060221,       0239,         -1,       -151,       4688,   449.0,   8.6431,  34.6614,2,  34.6601,2,     50.0,2,    52.2,2,   33.70,2,   36.20,6,    0.00,6,    2.45,2,   0.203,2,   0.114,2,-999.000,5,  2249.6,2,  2306.4,2,   -999.0,9,  -999.00,   7.4796,2,    25.00,   0.078,2,   0.002,   1.8135,2,    5.76,2, -999.00,5,   -87.8,2,     2.8,   7.639,2,   0.023,   43.51,2,   40.01,2,  449.00,-999.0000,9,-999.0000,9,-999.0000,9,-999.0000,9,-999.0000,9,-999.0000,9,     -999.0,     -999.0,9,     -999.0,9,     -999.0,9,     -999.0,9,     -999.0,9,     -999.0,9, -999.00,9,   8.5950,   0.0054,    0.14
325020060213,       P16N,      18,          1,         22,         22,2,20060221,       0239,         -1,       -151,       4688,   474.8,   7.7987,  34.6150,2,  34.6119,2,     66.9,2,    66.1,2,   37.20,6,   36.60,6,    0.00,6,    2.49,6,   0.157,2,   0.087,2,-999.000,5,  2250.6,2,  2310.1,2,   1416.4,2,    20.00,   7.4801,2,    25.00,   0.058,2,   0.001,   1.8567,2,    6.65,2, -999.00,5,   -91.8,2,     2.9,   7.861,2,   0.024,   42.70,2,   40.67,2,  474.80,-999.0000,9,-999.0000,9,-999.0000,9,-999.0000,9,-999.0000,9,-999.0000,9,     -999.0,     -999.0,9,     -999.0,9,     -999.0,9,     -999.0,9,     -999.0,9,     -999.0,9, -999.00,9,   7.7508,   0.0056,    0.14
325020060213,       P16N,      18,          1,         21,         21,2,20060221,       0239,         -1,       -151,       4688,   550.2,   7.2109,  34.5905,2,  34.5888,2,     54.3,2,    51.7,2,   45.70,2,   39.20,2,    0.00,2,    2.73,2,   0.071,2,   0.039,2,-999.000,5,  2269.1,2,  2314.4,2,   1573.3,2,    20.00,   7.4501,2,    25.00,-999.000,9,-999.000,   1.8382,2,    8.35,2, -999.00,5,  -110.7,2,     2.6,   7.727,2,   0.023,   41.20,2,   43.29,2,  550.20,-999.0000,9,-999.0000,9,-999.0000,9,-999.0000,9,-999.0000,9,-999.0000,9,     -999.0,     -999.0,9,     -999.0,9,     -999.0,9,     -999.0,9,     -999.0,9,     -999.0,9, -999.00,9,   7.1575,   0.0055,    0.14
325020060213,       P16N,      18,          1,         20,         20,2,20060221,       0239,         -1,       -151,       4688,   649.8,   6.4415,  34.5619,2,  34.5624,2,     70.4,2,    71.4,2,   51.70,2,   38.70,2,    0.00,2,    2.70,2,   0.053,6,   0.032,6,-999.000,5,  2266.7,2,  2322.1,2,   1479.9,2,    20.00,   7.4780,2,    25.00,   0.036,2,   0.001,   1.8965,2,    9.93,2, -999.00,5,  -127.3,2,     2.7,   7.921,2,   0.024,   40.59,2,   42.68,2,  649.80,-999.0000,9,-999.0000,9,-999.0000,9,-999.0000,9,-999.0000,9,-999.0000,9,     -999.0,     -999.0,9,     -999.0,9,     -999.0,9,     -999.0,9,     -999.0,9,     -999.0,9, -999.00,9,   6.3818,   0.0057,    0.14
325020060213,       P16N,      18,          1,         19,         19,2,20060221,       0239,         -1,       -151,       4688,   750.2,   5.6562,  34.5494,2,  34.5489,2,     78.3,2,    78.1,2,   62.60,2,   39.20,2,    0.00,2,    2.76,2,   0.023,2,   0.014,2,-999.000,5,  2275.0,2,  2333.3,2,   -999.0,9,  -999.00,   7.4731,2,    25.00,-999.000,9,-999.000,-999.0000,9,-999.000,9, -999.00,5,  -152.2,2,     2.9,-999.000,9,-999.000,   39.92,2,   43.77,2,  750.20,-999.0000,9,-999.0000,9,-999.0000,9,-999.0000,9,-999.0000,9,-999.0000,9,     -999.0,     -999.0,9,     -999.0,9,     -999.0,9,     -999.0,9,     -999.0,9,     -999.0,9, -999.00,9,   5.5912,-999.0000,-999.000
325020060213,       P16N,      18,          1,         18,         18,2,20060221,       0239,         -1,       -151,       4688,   849.7,   5.2412,  34.5504,2,  34.5505,2,     77.8,2,    77.4,2,   70.10,2,   39.80,2,    0.00,2,    2.81,2,-999.000,9,-999.000,9,-999.000,9,  2281.0,2,  2341.0,2,   1494.6,2,    20.00,   7.4751,2,    25.00,-999.000,9,-999.000,-999.0000,9,-999.000,9, -999.00,5,  -158.8,2,     2.8,-999.000,9,-999.000,   39.24,2,   43.56,2,  849.70,-999.0000,9,-999.0000,9,-999.0000,9,-999.0000,9,-999.0000,9,-999.0000,9,     -999.0,     -999.0,9,     -999.0,9,     -999.0,9,     -999.0,9,     -999.0,9,     -999.0,9, -999.00,9,   5.1697,-999.0000,-999.000
325020060213,       P16N,      18,          1,         17,         17,2,20060221,       0239,         -1,       -151,       4688,   951.2,   4.8654,  34.5530,2,  34.5536,2,     82.5,2,    82.4,2,   76.30,2,   39.70,2,    0.00,2,    2.82,2,   0.012,2,   0.006,2,-999.000,5,  2279.5,3,  2348.7,6,   1478.0,2,    20.00,   7.4819,2,    25.00,-999.000,9,-999.000,-999.0000,9,-999.000,9, -999.00,9,  -999.0,9,    -9.0,-999.000,9,-999.000,   38.70,2,   44.13,2,  951.20,-999.0000,9,-999.0000,9,-999.0000,9,-999.0000,9,-999.0000,9,-999.0000,9,     -999.0,     -999.0,9,     -999.0,9,     -999.0,9,     -999.0,9,     -999.0,9,     -999.0,9, -999.00,9,   4.7873,-999.0000,-999.000
325020060213,       P16N,      18,          1,         16,         16,2,20060221,       0239,         -1,       -151,       4688,  1101.2,   4.1659,  34.5646,2,  34.5646,2,     90.5,2,    90.2,2,   89.00,2,   39.70,2,    0.00,2,    2.82,2,-999.000,9,-999.000,9,-999.000,9,  2294.3,2,  2362.8,2,   -999.0,9,  -999.00,   7.4926,2,    25.00,-999.000,9,-999.000,-999.0000,9,-999.000,9, -999.00,5,  -150.9,4,     2.9,-999.000,9,-999.000,   38.15,2,   43.36,2, 1101.20,-999.0000,9,-999.0000,9,-999.0000,9,-999.0000,9,-999.0000,9,-999.0000,9,     -999.0,     -999.0,9,     -999.0,9,     -999.0,9,     -999.0,9,     -999.0,9,     -999.0,9, -999.00,9,   4.0802,-999.0000,-999.000
325020060213,       P16N,      18,          1,         15,         15,2,20060221,       0239,         -1,       -151,       4688,  1300.5,   3.5321,  34.5884,2,  34.5884,2,     87.1,2,    86.9,2,  106.60,2,   40.20,2,    0.00,2,    2.90,2,   0.060,4,   0.001,2,-999.000,5,  2322.4,2,  2381.6,2,   1490.3,2,    20.00,   7.4811,2,    25.00,-999.000,9,-999.000,-999.0000,9,-999.000,9, -999.00,5,  -197.0,2,     2.7,-999.000,9,-999.000,   38.87,2,   44.00,2, 1300.50,-999.0000,9,-999.0000,9,-999.0000,9,-999.0000,9,-999.0000,9,-999.0000,9,     -999.0,     -999.0,9,     -999.0,9,     -999.0,9,     -999.0,9,     -999.0,9,     -999.0,9, -999.00,9,   3.4352,-999.0000,-999.000
325020060213,       P16N,      18,          1,         14,         14,2,20060221,       0239,         -1,       -151,       4688,  1499.5,   3.0253,  34.6090,2,  34.6090,2,     91.1,2,    91.1,2,  119.70,2,   40.30,2,    0.00,2,    2.90,2,-999.000,9,-999.000,9,-999.000,9,  2335.2,3,  2394.3,2,   1472.3,6,    20.00,   7.4908,2,    25.00,-999.000,9,-999.000,-999.0000,9,-999.000,9, -999.00,5,  -214.5,2,     2.6,-999.000,9,-999.000,   39.59,2,   43.40,2, 1499.50,-999.0000,9,-999.0000,9,-999.0000,9,-999.0000,9,-999.0000,9,-999.0000,9,     -999.0,     -999.0,9,     -999.0,9,     -999.0,9,     -999.0,9,     -999.0,9,     -999.0,9, -999.00,9,   2.9171,-999.0000,-999.000
325020060213,       P16N,      18,          1,         13,         13,2,20060221,       0239,         -1,       -151,       4688,  1700.0,   2.7550,  34.6194,2,  34.6193,2,     99.6,2,    99.2,2,  124.80,2,   39.80,2,    0.00,2,    2.85,2,  -0.001,6,   0.000,6,-999.000,5,  2338.2,2,  2400.5,2,   -999.0,9,  -999.00,-999.0000,9,  -999.00,-999.000,9,-999.000,-999.0000,9,-999.000,9, -999.00,5,  -220.9,2,     2.1,-999.000,9,-999.000,   39.14,2,   44.09,2, 1700.00,-999.0000,9,-999.0000,9,-999.0000,9,-999.0000,9,-999.0000,9,-999.0000,9,     -999.0,     -999.0,9,     -999.0,9,     -999.0,9,     -999.0,9,     -999.0,9,     -999.0,9, -999.00,9,   2.6333,-999.0000,-999.000
325020060213,       P16N,      18,          1,         12,         12,2,20060221,       0239,         -1,       -151,       4688,  1898.9,   2.3808,  34.6393,2,  34.6405,2,    103.7,2,   103.6,2,  135.00,2,   39.60,2,    0.00,2,    2.84,2,-999.000,9,-999.000,9,-999.000,9,  2345.1,2,  2411.9,2,   1399.6,2,    20.00,   7.5078,2,    25.00,-999.000,9,-999.000,-999.0000,9,-999.000,9, -999.00,5,  -234.8,2,     2.7,-999.000,9,-999.000,   38.75,2,   43.51,2, 1898.90,-999.0000,9,-999.0000,9,-999.0000,9,-999.0000,9,-999.0000,9,-999.0000,9,     -999.0,     -999.0,9,     -999.0,9,     -999.0,9,     -999.0,9,     -999.0,9,     -999.0,9, -999.00,9,   2.2472,-999.0000,-999.000
325020060213,       P16N,      18,          1,         11,         11,2,20060221,       0239,         -1,       -151,       4688,  2124.3,   2.1044,  34.6537,2,  34.6534,2,    112.7,2,   112.4,2,  140.50,2,   39.00,2,    0.00,2,    2.79,2,   0.000,2,   0.000,2,-999.000,5,  2346.1,2,  2419.3,2,   -999.0,9,  -999.00,   7.5248,2,    25.00,-999.000,9,-999.000,-999.0000,9,-999.000,9, -999.00,5,  -229.2,2,     2.6,-999.000,9,-999.000,   37.28,2,   42.36,2, 2124.30,-999.0000,9,-999.0000,9,-999.0000,9,-999.0000,9,-999.0000,9,-999.0000,9,     -999.0,     -999.0,9,     -999.0,9,     -999.0,9,     -999.0,9,     -999.0,9,     -999.0,9, -999.00,9,   1.9556,-999.0000,-999.000
325020060213,       P16N,      18,          1,         10,         10,2,20060221,       0239,         -1,       -151,       4688,  2375.9,   1.9250,  34.6635,2,  34.6635,2,    120.5,2,   120.0,2,  143.60,2,   38.50,2,    0.00,2,    2.75,2,-999.000,9,-999.000,9,-999.000,9,  2343.3,2,  2423.1,2,   1310.5,2,    20.00,   7.5403,2,    25.00,-999.000,9,-999.000,-999.0000,9,-999.000,9, -999.00,5,  -233.0,2,     2.8,-999.000,9,-999.000,   37.96,2,   42.28,2, 2375.90,-999.0000,9,-999.0000,9,-999.0000,9,-999.0000,9,-999.0000,9,-999.0000,9,     -999.0,     -999.0,9,     -999.0,9,     -999.0,9,     -999.0,9,     -999.0,9,     -999.0,9, -999.00,9,   1.7572,-999.0000,-999.000
325020060213,       P16N,      18,          1,          9,          9,2,20060221,       0239,         -1,       -151,       4688,  2625.4,   1.8085,  34.6710,2,  34.6707,2,    125.0,2,   124.6,2,  146.50,2,   38.30,2,    0.00,2,    2.72,2,  -0.001,2,   0.002,2,-999.000,5,  2347.1,3,  2425.5,2,   1282.9,2,    20.00,   7.5425,2,    25.00,-999.000,9,-999.000,-999.0000,9,-999.000,9, -999.00,5,  -229.9,2,     2.9,-999.000,9,-999.000,   37.97,2,   41.94,2, 2625.40,-999.0000,9,-999.0000,9,-999.0000,9,-999.0000,9,-999.0000,9,-999.0000,9,     -999.0,     -999.0,9,     -999.0,9,     -999.0,9,     -999.0,9,     -999.0,9,     -999.0,9, -999.00,9,   1.6203,-999.0000,-999.000