BOTTLE,20170720CCHSIOCBG
EXPOCODE,SECT_ID,STNNBR,CASTNO,SAMPNO,BTLNBR,BTLNBR_FLAG_W,DATE,TIME,LATITUDE,LONGITUDE,DEPTH,CTDPRS,CTDTMP,CTDSAL,CTDSAL_FLAG_W,SALNTY,SALNTY_FLAG_W,CTDOXY,CTDOXY_FLAG_W,OXYGEN,OXYGEN_FLAG_W,SILCAT,SILCAT_FLAG_W,NITRAT,NITRAT_FLAG_W,NITRIT,NITRIT_FLAG_W,PHSPHT,PHSPHT_FLAG_W,CFC-11,CFC-11_FLAG_W,CFC-12,CFC-12_FLAG_W,CFC113,CFC113_FLAG_W,TCARBN,TCARBN_FLAG_W,ALKALI,ALKALI_FLAG_W,FCO2,FCO2_FLAG_W,FCO2TMP,PH_TOT,PH_TOT_FLAG_W,PH_TMP,TRITUM,TRITUM_FLAG_W,TRITER,HELIUM,HELIUM_FLAG_W,DELHE3,DELHE3_FLAG_W,DELC13,DELC13_FLAG_W,DELC14,DELC14_FLAG_W,C14ERR,NEON,NEON_FLAG_W,NEONER,DOC,DOC_FLAG_W,TDN,TDN_FLAG_W,CTDRAW,CDOM325,CDOM325_FLAG_W,CDOM340,CDOM340_FLAG_W,CDOM380,CDOM380_FLAG_W,CDOM412,CDOM412_FLAG_W,CDOMSL,CDOMSL_FLAG_W,CDOMSN,CDOMSN_FLAG_W,DCNS,ARABI,ARABI_FLAG_W,FUCO,FUCO_FLAG_W,GALA,GALA_FLAG_W,GLUC,GLUC_FLAG_W,MAN,MAN_FLAG_W,RHAM,RHAM_FLAG_W,BRDU,BRDU_FLAG_W,THETA,HELIER,DELHER
,,,,,,,,,,,METERS,DBAR,ITS-90,PSS-78,,PSS-78,,UMOL/KG,,UMOL/KG,,UMOL/KG,,UMOL/KG,,UMOL/KG,,UMOL/KG,,PMOL/KG,,PMOL/KG,,PMOL/KG,,UMOL/KG,,UMOL/KG,,UATM,,DEG C,,,DEG C,TU,,TU,NMOL/KG,,PERCNT,,/MILLE,,/MILLE,,/MILLE,NMOL/KG,,NMOL/KG,UMOL/KG,,UMOL/KG,,DBAR,1/M,,1/M,,1/M,,1/M,,1/NM,,1/NM,,NMOL/KG,NMOL/KG,,NMOL/KG,,NMOL/KG,,NMOL/KG,,NMOL/KG,,NMOL/KG,,PMOL/L/H,,DEG C,NMOL/KG,PERCNT
325020060213,       P16N,      46,          2,          9,          9,2,20060313,       1347,         24,  -152.0002,       5526,  2875.6,   1.6079,  34.6659,2,  34.6649,2,    116.5,2,   118.2,2,  161.30,2,   38.10,2,    0.00,2,    2.67,2,-999.000,9,-999.000,9,-999.000,9,  2350.9,2,  2428.1,2,   -999.0,9,  -999.00,   7.5245,2,    25.00,-999.000,9,-999.000,-999.0000,9,-999.000,9, -999.00,5,  -233.1,2,     2.6,-999.000,9,-999.000,   35.76,2,   42.06,2, 2875.60,-999.0000,9,-999.0000,9,-999.0000,9,-999.0000,9,-999.0000,9,-999.0000,9,     -999.0,     -999.0,9,     -999.0,9,     -999.0,9,     -999.0,9,     -999.0,9,     -999.0,9, -999.00,9,   1.4006,-999.0000,-999.000
325020060213,       P16N,      46,          2,          8,          8,2,20060313,       1347,         24,  -152.0002,       5526,  3125.0,   1.5478,  34.6736,2,  34.6723,2,    124.7,2,   125.1,2,  161.10,2,   37.80,2,    0.00,2,    2.63,2,-999.000,9,-999.000,9,-999.000,9,  2349.0,2,  2429.8,2,   -999.0,9,  -999.00,   7.5381,2,    25.00,-999.000,9,-999.000,-999.0000,9,-999.000,9, -999.00,5,  -245.5,2,     2.1,-999.000,9,-999.000,   37.24,2,   41.52,2, 3125.00,-999.0000,9,-999.0000,9,-999.0000,9,-999.0000,9,-999.0000,9,-999.0000,9,     -999.0,     -999.0,9,     -999.0,9,     -999.0,9,     -999.0,9,     -999.0,9,     -999.0,9, -999.00,9,   1.3179,-999.0000,-999.000
325020060213,       P16N,      46,          2,          7,          7,2,20060313,       1347,         24,  -152.0002,       5526,  3450.5,   1.5055,  34.6804,2,  34.6800,2,    133.2,2,   133.5,2,  158.70,2,   37.20,2,    0.00,2,    2.58,2,-999.000,9,-999.000,9,-999.000,9,  2342.9,2,  2427.7,6,   -999.0,9,  -999.00,   7.5539,2,    25.00,-999.000,9,-999.000,-999.0000,9,-999.000,9, -999.00,5,  -234.5,2,     2.4,-999.000,9,-999.000,   37.11,2,   40.93,2, 3450.50,-999.0000,9,-999.0000,9,-999.0000,9,-999.0000,9,-999.0000,9,-999.0000,9,     -999.0,     -999.0,9,     -999.0,9,     -999.0,9,     -999.0,9,     -999.0,9,     -999.0,9, -999.00,9,   1.2443,-999.0000,-999.000
325020060213,       P16N,      46,          2,          6,          6,2,20060313,       1347,         24,  -152.0002,       5526,  3850.7,   1.4819,  34.6857,2,  34.6853,2,    141.7,2,   142.5,2,  155.20,2,   36.40,2,    0.00,2,    2.53,2,   0.000,2,   0.000,2,-999.000,9,  2335.8,2,  2426.5,2,   -999.0,9,  -999.00,   7.5688,2,    25.00,-999.000,9,-999.000,-999.0000,9,-999.000,9, -999.00,5,  -234.1,2,     2.5,-999.000,9,-999.000,   37.45,2,   40.00,2, 3850.70,-999.0000,9,-999.0000,9,-999.0000,9,-999.0000,9,-999.0000,9,-999.0000,9,     -999.0,     -999.0,9,     -999.0,9,     -999.0,9,     -999.0,9,     -999.0,9,     -999.0,9, -999.00,9,   1.1796,-999.0000,-999.000
325020060213,       P16N,      46,          2,          5,          5,2,20060313,       1347,         24,  -152.0002,       5526,  4301.8,   1.4762,  34.6903,2,  34.6889,2,    150.6,2,   151.7,2,  149.60,2,   35.80,2,    0.00,2,    2.48,2,-999.000,9,-999.000,9,-999.000,9,  2329.1,2,  2421.8,2,   -999.0,9,  -999.00,   7.5816,2,    25.00,-999.000,9,-999.000,-999.0000,9,-999.000,9, -999.00,5,  -230.2,2,     2.1,-999.000,9,-999.000,   37.25,2,   39.39,2, 4301.80,-999.0000,9,-999.0000,9,-999.0000,9,-999.0000,9,-999.0000,9,-999.0000,9,     -999.0,     -999.0,9,     -999.0,9,     -999.0,9,     -999.0,9,     -999.0,9,     -999.0,9, -999.00,9,   1.1245,-999.0000,-999.000
325020060213,       P16N,      46,          2,          4,          4,2,20060313,       1347,         24,  -152.0002,       5526,  4800.5,   1.4702,  34.6947,2,  34.6946,2,    160.8,2,   160.4,2,  141.90,6,   35.20,6,    0.00,6,    2.42,6,-999.000,9,-999.000,9,-999.000,9,  2318.2,2,  2416.4,2,   -999.0,9,  -999.00,   7.5918,2,    25.00,-999.000,9,-999.000,-999.0000,9,-999.000,9, -999.00,5,  -214.4,2,     2.2,-999.000,9,-999.000,   38.20,2,   38.46,2, 4800.50,-999.0000,9,-999.0000,9,-999.0000,9,-999.0000,9,-999.0000,9,-999.0000,9,     -999.0,     -999.0,9,     -999.0,9,     -999.0,9,     -999.0,9,     -999.0,9,     -999.0,9, -999.00,9,   1.0609,-999.0000,-999.000
325020060213,       P16N,      46,          2,          3,          3,2,20060313,       1347,         24,  -152.0002,       5526,  5300.6,   1.5010,  34.6968,2,  34.6973,2,    165.5,2,   166.0,2,  138.20,6,   34.90,6,    0.00,6,    2.39,6,-999.000,9,-999.000,9,-999.000,9,  2312.6,2,  2412.1,2,   -999.0,9,  -999.00,   7.5965,2,    25.00,-999.000,9,-999.000,-999.0000,9,-999.000,9, -999.00,5,  -208.0,2,     2.7,-999.000,9,-999.000,   38.31,2,   38.61,2, 5300.60,-999.0000,9,-999.0000,9,-999.0000,9,-999.0000,9,-999.0000,9,-999.0000,9,     -999.0,     -999.0,9,     -999.0,9,     -999.0,9,     -999.0,9,     -999.0,9,     -999.0,9, -999.00,9,   1.0295,-999.0000,-999.000
325020060213,       P16N,      46,          2,          2,          2,2,20060313,       1347,         24,  -152.0002,       5526,  5499.5,   1.5244,  34.6969,2,  34.6987,2,    165.9,2,   166.0,2,  137.90,6,   34.70,6,    0.00,6,    2.39,6,   0.001,2,   0.003,2,-999.000,9,  2312.3,2,  2412.3,2,   -999.0,9,  -999.00,   7.5968,3,    25.00,-999.000,9,-999.000,-999.0000,9,-999.000,9, -999.00,5,  -198.2,2,     2.4,-999.000,9,-999.000,   38.39,2,   38.57,2, 5499.50,-999.0000,9,-999.0000,9,-999.0000,9,-999.0000,9,-999.0000,9,-999.0000,9,     -999.0,     -999.0,9,     -999.0,9,     -999.0,9,     -999.0,9,     -999.0,9,     -999.0,9, -999.00,9,   1.0269,-999.0000,-999.000
325020060213,       P16N,      46,          2,          1,          1,2,20060313,       1347,         24,  -152.0002,       5526,  5699.6,   1.5510,  34.6969,2,  34.6991,2,    166.1,2,   166.2,2,  137.70,2,   35.00,2,    0.00,2,    2.40,2,  -0.003,2,   0.005,2,-999.000,9,  2312.0,6,  2412.9,2,   -999.0,9,  -999.00,   7.5970,2,    25.00,-999.000,9,-999.000,-999.0000,9,-999.000,9, -999.00,5,  -201.8,2,     2.6,-999.000,9,-999.000,   38.06,2,   38.95,2, 5699.60,-999.0000,9,-999.0000,9,-999.0000,9,-999.0000,9,-999.0000,9,-999.0000,9,     -999.0,     -999.0,9,     -999.0,9,     -999.0,9,     -999.0,9,     -999.0,9,     -999.0,9, -999.00,9,   1.0267,-999.0000,-999.000