BOTTLE,20170720CCHSIOCBG
EXPOCODE,SECT_ID,STNNBR,CASTNO,SAMPNO,BTLNBR,BTLNBR_FLAG_W,DATE,TIME,LATITUDE,LONGITUDE,DEPTH,CTDPRS,CTDTMP,CTDSAL,CTDSAL_FLAG_W,SALNTY,SALNTY_FLAG_W,CTDOXY,CTDOXY_FLAG_W,OXYGEN,OXYGEN_FLAG_W,SILCAT,SILCAT_FLAG_W,NITRAT,NITRAT_FLAG_W,NITRIT,NITRIT_FLAG_W,PHSPHT,PHSPHT_FLAG_W,CFC-11,CFC-11_FLAG_W,CFC-12,CFC-12_FLAG_W,CFC113,CFC113_FLAG_W,TCARBN,TCARBN_FLAG_W,ALKALI,ALKALI_FLAG_W,FCO2,FCO2_FLAG_W,FCO2TMP,PH_TOT,PH_TOT_FLAG_W,PH_TMP,TRITUM,TRITUM_FLAG_W,TRITER,HELIUM,HELIUM_FLAG_W,DELHE3,DELHE3_FLAG_W,DELC13,DELC13_FLAG_W,DELC14,DELC14_FLAG_W,C14ERR,NEON,NEON_FLAG_W,NEONER,DOC,DOC_FLAG_W,TDN,TDN_FLAG_W,CTDRAW,CDOM325,CDOM325_FLAG_W,CDOM340,CDOM340_FLAG_W,CDOM380,CDOM380_FLAG_W,CDOM412,CDOM412_FLAG_W,CDOMSL,CDOMSL_FLAG_W,CDOMSN,CDOMSN_FLAG_W,DCNS,ARABI,ARABI_FLAG_W,FUCO,FUCO_FLAG_W,GALA,GALA_FLAG_W,GLUC,GLUC_FLAG_W,MAN,MAN_FLAG_W,RHAM,RHAM_FLAG_W,BRDU,BRDU_FLAG_W,THETA,HELIER,DELHER
,,,,,,,,,,,METERS,DBAR,ITS-90,PSS-78,,PSS-78,,UMOL/KG,,UMOL/KG,,UMOL/KG,,UMOL/KG,,UMOL/KG,,UMOL/KG,,PMOL/KG,,PMOL/KG,,PMOL/KG,,UMOL/KG,,UMOL/KG,,UATM,,DEG C,,,DEG C,TU,,TU,NMOL/KG,,PERCNT,,/MILLE,,/MILLE,,/MILLE,NMOL/KG,,NMOL/KG,UMOL/KG,,UMOL/KG,,DBAR,1/M,,1/M,,1/M,,1/M,,1/NM,,1/NM,,NMOL/KG,NMOL/KG,,NMOL/KG,,NMOL/KG,,NMOL/KG,,NMOL/KG,,NMOL/KG,,PMOL/L/H,,DEG C,NMOL/KG,PERCNT
325020060213,       P16N,      66,          1,          9,          9,2,20060323,       2116,    44.9998,  -151.9997,       5282,  2870.8,   1.6096,  34.6528,2,  34.6574,3,    100.6,2,   101.1,2,  168.20,2,   39.10,2,    0.00,2,    2.81,2,  -0.002,2,   0.004,2,-999.000,5,  2362.3,2,  2422.1,2,   -999.0,9,  -999.00,   7.4818,3,    25.00,-999.000,9,-999.000,-999.0000,9,-999.000,9, -999.00,9,  -999.0,9,    -9.0,-999.000,9,-999.000,   36.96,2,   43.33,2, 2870.80,   0.1360,2,   0.0930,2,   0.0480,2,   0.0360,2,   0.0144,3,   0.0171,3,     -999.0,     -999.0,9,     -999.0,9,     -999.0,9,     -999.0,9,     -999.0,9,     -999.0,9, -999.00,9,   1.4028,-999.0000,-999.000
325020060213,       P16N,      66,          1,          8,          8,2,20060323,       2116,    44.9998,  -151.9997,       5282,  3124.9,   1.5575,  34.6628,2,  34.6623,2,    112.3,2,   113.6,2,  166.00,2,   38.30,2,    0.00,2,    2.75,2,-999.000,9,-999.000,9,-999.000,9,  2353.2,2,  2422.6,2,   -999.0,9,  -999.00,   7.5078,6,    25.00,-999.000,9,-999.000,-999.0000,9,-999.000,9, -999.00,9,  -999.0,9,    -9.0,-999.000,9,-999.000,   36.43,2,   41.85,2, 3124.90,   0.1310,2,   0.0890,2,   0.0460,2,   0.0340,2,   0.0148,3,   0.0175,3,     -999.0,     -999.0,9,     -999.0,9,     -999.0,9,     -999.0,9,     -999.0,9,     -999.0,9, -999.00,9,   1.3275,-999.0000,-999.000
325020060213,       P16N,      66,          1,          7,          7,2,20060323,       2116,    44.9998,  -151.9997,       5282,  3448.7,   1.5090,  34.6730,2,  34.6729,2,    126.4,2,   126.7,2,  163.00,2,   37.40,2,    0.00,2,    2.68,2,-999.000,9,-999.000,9,-999.000,9,  2345.0,2,  2425.6,6,   -999.0,9,  -999.00,   7.5313,2,    25.00,-999.000,9,-999.000,-999.0000,9,-999.000,9, -999.00,9,  -999.0,9,    -9.0,-999.000,9,-999.000,   36.04,2,   40.83,2, 3448.70,   0.1290,2,   0.0860,2,   0.0440,2,   0.0330,2,   0.0152,3,   0.0180,3,     -999.0,     -999.0,9,     -999.0,9,     -999.0,9,     -999.0,9,     -999.0,9,     -999.0,9, -999.00,9,   1.2479,-999.0000,-999.000
325020060213,       P16N,      66,          1,          6,          6,2,20060323,       2116,    44.9998,  -151.9997,       5282,  3850.0,   1.4815,  34.6815,2,  34.6807,2,    137.7,2,   138.0,2,  161.30,2,   36.60,2,    0.00,2,    2.62,2,  -0.011,3,  -0.002,2,-999.000,5,  2339.2,2,  2422.6,3,   -999.0,9,  -999.00,   7.5547,2,    25.00,-999.000,9,-999.000,-999.0000,9,-999.000,9, -999.00,9,  -999.0,9,    -9.0,-999.000,9,-999.000,   37.23,2,   40.20,2, 3850.00,   0.1260,2,   0.0850,2,   0.0430,2,   0.0310,3,   0.0158,3,   0.0184,3,     -999.0,     -999.0,9,     -999.0,9,     -999.0,9,     -999.0,9,     -999.0,9,     -999.0,9, -999.00,9,   1.1793,-999.0000,-999.000
325020060213,       P16N,      66,          1,          5,          5,2,20060323,       2116,    44.9998,  -151.9997,       5282,  4301.6,   1.4943,  34.6869,2,  34.6856,2,    143.3,2,   143.3,2,  163.40,2,   36.30,2,    0.00,2,    2.60,2,-999.000,9,-999.000,9,-999.000,9,  2336.8,2,  -999.0,5,   -999.0,9,  -999.00,   7.5678,2,    25.00,-999.000,9,-999.000,-999.0000,9,-999.000,9, -999.00,9,  -999.0,9,    -9.0,-999.000,9,-999.000,   37.48,2,   39.40,2, 4301.60,   0.1240,2,   0.0830,2,   0.0410,2,   0.0300,2,   0.0169,2,   0.0194,2,     -999.0,     -999.0,9,     -999.0,9,     -999.0,9,     -999.0,9,     -999.0,9,     -999.0,9, -999.00,9,   1.1421,-999.0000,-999.000
325020060213,       P16N,      66,          1,          4,          4,2,20060323,       2116,    44.9998,  -151.9997,       5282,  4799.3,   1.5421,  34.6890,2,  34.6905,2,    145.1,2,   144.7,2,  166.00,6,   36.30,6,    0.00,6,    2.58,2,  -0.003,2,   0.004,2,-999.000,5,  2338.6,2,  2429.8,2,   -999.0,9,  -999.00,   7.5741,2,    25.00,-999.000,9,-999.000,-999.0000,9,-999.000,9, -999.00,9,  -999.0,9,    -9.0,-999.000,9,-999.000,   37.79,2,   39.96,2, 4799.30,   0.1260,2,   0.0840,2,   0.0420,2,   0.0300,2,   0.0167,2,   0.0192,2,     -999.0,     -999.0,9,     -999.0,9,     -999.0,9,     -999.0,9,     -999.0,9,     -999.0,9, -999.00,9,   1.1306,-999.0000,-999.000
325020060213,       P16N,      66,          1,          3,          3,2,20060323,       2116,    44.9998,  -151.9997,       5282,  5000.3,   1.5654,  34.6892,2,  34.6889,2,    145.4,2,   144.1,2,  165.90,6,   36.30,6,    0.00,6,    2.60,2,-999.000,9,-999.000,9,-999.000,9,  2338.1,2,  2429.5,2,   -999.0,9,  -999.00,   7.5741,2,    25.00,-999.000,9,-999.000,-999.0000,9,-999.000,9, -999.00,9,  -999.0,9,    -9.0,-999.000,9,-999.000,   37.60,2,   39.47,2, 5000.30,   0.1270,2,   0.0840,2,   0.0420,2,   0.0310,2,   0.0156,3,   0.0186,3,     -999.0,     -999.0,9,     -999.0,9,     -999.0,9,     -999.0,9,     -999.0,9,     -999.0,9, -999.00,9,   1.1289,-999.0000,-999.000
325020060213,       P16N,      66,          1,          2,          2,2,20060323,       2116,    44.9998,  -151.9997,       5282,  5199.5,   1.5887,  34.6894,2,  34.6891,2,    145.9,2,   145.5,2,  166.30,6,   36.20,6,    0.00,6,    2.59,2,-999.000,9,-999.000,9,-999.000,9,  2336.6,2,  2428.6,2,   -999.0,9,  -999.00,   7.5737,2,    25.00,-999.000,9,-999.000,-999.0000,9,-999.000,9, -999.00,9,  -999.0,9,    -9.0,-999.000,9,-999.000,   37.65,2,   39.87,2, 5199.50,-999.0000,9,-999.0000,9,-999.0000,9,-999.0000,9,-999.0000,9,-999.0000,9,     -999.0,     -999.0,9,     -999.0,9,     -999.0,9,     -999.0,9,     -999.0,9,     -999.0,9, -999.00,9,   1.1268,-999.0000,-999.000
325020060213,       P16N,      66,          1,          1,          1,2,20060323,       2116,    44.9998,  -151.9997,       5282,  5426.7,   1.6153,  34.6895,2,  34.6899,2,    146.7,2,   146.0,2,  166.20,6,   36.20,6,    0.00,6,    2.58,2,   0.000,2,  -0.001,2,-999.000,5,  2335.9,6,  2427.7,2,   -999.0,9,  -999.00,   7.5749,2,    25.00,-999.000,9,-999.000,-999.0000,9,-999.000,9, -999.00,9,  -999.0,9,    -9.0,-999.000,9,-999.000,   38.63,2,   39.32,2, 5426.70,   0.1270,2,   0.0840,2,   0.0420,2,   0.0310,2,   0.0150,3,   0.0182,3,     -999.0,     -999.0,9,     -999.0,9,     -999.0,9,     -999.0,9,     -999.0,9,     -999.0,9, -999.00,9,   1.1239,-999.0000,-999.000