BOTTLE,20170720CCHSIOCBG
EXPOCODE,SECT_ID,STNNBR,CASTNO,SAMPNO,BTLNBR,BTLNBR_FLAG_W,DATE,TIME,LATITUDE,LONGITUDE,DEPTH,CTDPRS,CTDTMP,CTDSAL,CTDSAL_FLAG_W,SALNTY,SALNTY_FLAG_W,CTDOXY,CTDOXY_FLAG_W,OXYGEN,OXYGEN_FLAG_W,SILCAT,SILCAT_FLAG_W,NITRAT,NITRAT_FLAG_W,NITRIT,NITRIT_FLAG_W,PHSPHT,PHSPHT_FLAG_W,CFC-11,CFC-11_FLAG_W,CFC-12,CFC-12_FLAG_W,CFC113,CFC113_FLAG_W,TCARBN,TCARBN_FLAG_W,ALKALI,ALKALI_FLAG_W,FCO2,FCO2_FLAG_W,FCO2TMP,PH_TOT,PH_TOT_FLAG_W,PH_TMP,TRITUM,TRITUM_FLAG_W,TRITER,HELIUM,HELIUM_FLAG_W,DELHE3,DELHE3_FLAG_W,DELC13,DELC13_FLAG_W,DELC14,DELC14_FLAG_W,C14ERR,NEON,NEON_FLAG_W,NEONER,DOC,DOC_FLAG_W,TDN,TDN_FLAG_W,CTDRAW,CDOM325,CDOM325_FLAG_W,CDOM340,CDOM340_FLAG_W,CDOM380,CDOM380_FLAG_W,CDOM412,CDOM412_FLAG_W,CDOMSL,CDOMSL_FLAG_W,CDOMSN,CDOMSN_FLAG_W,DCNS,ARABI,ARABI_FLAG_W,FUCO,FUCO_FLAG_W,GALA,GALA_FLAG_W,GLUC,GLUC_FLAG_W,MAN,MAN_FLAG_W,RHAM,RHAM_FLAG_W,BRDU,BRDU_FLAG_W,THETA,HELIER,DELHER
,,,,,,,,,,,METERS,DBAR,ITS-90,PSS-78,,PSS-78,,UMOL/KG,,UMOL/KG,,UMOL/KG,,UMOL/KG,,UMOL/KG,,UMOL/KG,,PMOL/KG,,PMOL/KG,,PMOL/KG,,UMOL/KG,,UMOL/KG,,UATM,,DEG C,,,DEG C,TU,,TU,NMOL/KG,,PERCNT,,/MILLE,,/MILLE,,/MILLE,NMOL/KG,,NMOL/KG,UMOL/KG,,UMOL/KG,,DBAR,1/M,,1/M,,1/M,,1/M,,1/NM,,1/NM,,NMOL/KG,NMOL/KG,,NMOL/KG,,NMOL/KG,,NMOL/KG,,NMOL/KG,,NMOL/KG,,PMOL/L/H,,DEG C,NMOL/KG,PERCNT
325020060213,       P16N,      51,          1,         36,         36,2,20060315,       2012,         29,       -152,       5508,     5.1,  20.0195,  35.2815,2,  35.2818,2,    328.0,2,   226.0,2,    0.80,2,    0.00,2,    0.00,2,    0.02,2,   2.162,2,   1.371,2,-999.000,9,  2023.9,6,  2314.5,3,   -999.0,9,  -999.00,   8.0326,6,    25.00,-999.000,9,-999.000,    1.729,2,  -0.997,2, -999.00,9,  -999.0,9,    -9.0,   7.161,2,   0.012,   64.50,2,    4.25,2,    5.10,   0.0370,2,   0.0200,2,  -0.0030,4,  -0.0070,4,   0.0360,2,   0.0359,2,     -999.0,     -999.0,9,     -999.0,9,     -999.0,9,     -999.0,9,     -999.0,9,     -999.0,9,    2.41,2,  20.0186,    0.002,   0.169
325020060213,       P16N,      51,          1,         35,         35,2,20060315,       2012,         29,       -152,       5508,    25.3,  19.9102,  35.2814,2,  35.2832,2,    337.9,2,   226.2,2,    0.80,2,    0.00,2,    0.00,2,    0.02,2,-999.000,9,-999.000,9,-999.000,9,  2023.8,2,  2319.2,2,   -999.0,9,  -999.00,   8.0338,2,    25.00,-999.000,9,-999.000,-999.0000,9,-999.000,9, -999.00,9,  -999.0,9,    -9.0,-999.000,9,-999.000,   63.11,2,    4.26,2,   25.30,   0.0390,2,   0.0220,2,  -0.0010,4,  -0.0060,4,   0.0355,2,   0.0354,2,     -999.0,     -999.0,9,     -999.0,9,     -999.0,9,     -999.0,9,     -999.0,9,     -999.0,9,    2.53,2,  19.9055,-999.0000,-999.000
325020060213,       P16N,      51,          1,         34,         34,2,20060315,       2012,         29,       -152,       5508,    50.4,  19.9024,  35.2809,2,  35.2828,2,    333.5,2,   226.5,2,    0.70,2,    0.10,2,    0.00,2,    0.02,2,   2.176,2,   1.360,2,-999.000,9,  2023.6,2,  2318.8,2,   -999.0,9,  -999.00,   8.0317,2,    25.00,-999.000,9,-999.000,    1.749,2,  -1.043,2, -999.00,9,  -999.0,9,    -9.0,   7.082,2,   0.008,   63.77,2,    3.66,2,   50.40,   0.0370,2,   0.0200,2,  -0.0030,4,  -0.0070,4,   0.0376,2,   0.0375,2,     -999.0,     -999.0,9,     -999.0,9,     -999.0,9,     -999.0,9,     -999.0,9,     -999.0,9,    0.84,2,  19.8932,    0.001,   0.195
325020060213,       P16N,      51,          1,         33,         33,2,20060315,       2012,         29,       -152,       5508,    64.8,  19.8973,  35.2791,2,  35.2792,2,    225.1,2,   225.8,2,    0.80,2,    0.10,2,    0.00,2,    0.02,2,-999.000,9,-999.000,9,-999.000,9,  2023.7,2,  2315.2,2,   -999.0,9,  -999.00,   8.0312,2,    25.00,-999.000,9,-999.000,-999.0000,9,-999.000,9, -999.00,9,  -999.0,9,    -9.0,-999.000,9,-999.000,   64.38,2,    4.15,2,   64.80,   0.0390,2,   0.0220,2,  -0.0010,4,  -0.0060,4,   0.0355,2,   0.0354,2,     -999.0,     -999.0,9,     -999.0,9,     -999.0,9,     -999.0,9,     -999.0,9,     -999.0,9,    0.87,2,  19.8854,-999.0000,-999.000
325020060213,       P16N,      51,          1,         32,         32,2,20060315,       2012,         29,       -152,       5508,   100.1,  19.3473,  35.2006,2,  35.2000,2,    225.5,2,   226.9,2,    1.00,2,    0.00,2,    0.00,2,    0.03,2,   2.274,2,   1.377,2,-999.000,9,  2024.9,2,  2309.7,2,   -999.0,9,  -999.00,   8.0242,2,    25.00,-999.000,9,-999.000,-999.0000,9,-999.000,9, -999.00,9,  -999.0,9,    -9.0,-999.000,9,-999.000,   61.32,2,    3.74,2,  100.10,   0.0470,2,   0.0290,2,   0.0030,3,  -0.0020,4,   0.0319,2,   0.0316,2,     -999.0,     -999.0,9,     -999.0,9,     -999.0,9,     -999.0,9,     -999.0,9,     -999.0,9,    0.75,2,  19.3292,-999.0000,-999.000
325020060213,       P16N,      51,          1,         31,         31,2,20060315,       2012,         29,       -152,       5508,   125.0,  19.1695,  35.1697,2,  35.1701,2,    226.2,2,   227.7,2,    1.20,2,    0.10,2,    0.00,2,    0.04,2,-999.000,9,-999.000,9,-999.000,9,  2024.2,2,  2312.1,2,   -999.0,9,  -999.00,   8.0203,2,    25.00,-999.000,9,-999.000,-999.0000,9,-999.000,9, -999.00,9,  -999.0,9,    -9.0,-999.000,9,-999.000,   60.70,2,    4.06,2,  125.00,   0.0460,2,   0.0270,2,   0.0030,3,  -0.0020,4,   0.0334,2,   0.0332,2,     -999.0,     -999.0,9,     -999.0,9,     -999.0,9,     -999.0,9,     -999.0,9,     -999.0,9,    0.04,2,  19.1470,-999.0000,-999.000
325020060213,       P16N,      51,          1,         30,         30,2,20060315,       2012,         29,       -152,       5508,   150.3,  19.0008,  35.1397,2,-999.0000,5,    228.9,2,   228.3,2,    1.20,2,    0.10,2,    0.00,2,    0.04,2,   2.270,2,   1.432,2,-999.000,9,  2023.3,2,  2308.3,2,   -999.0,9,  -999.00,   8.0191,2,    25.00,-999.000,9,-999.000,    1.797,2,  -1.120,2, -999.00,9,  -999.0,9,    -9.0,   7.299,2,   0.012,   58.39,2,    4.75,2,  150.30,   0.0460,2,   0.0270,2,   0.0020,3,  -0.0030,4,   0.0338,2,   0.0335,2,     -999.0,     -999.0,9,     -999.0,9,     -999.0,9,     -999.0,9,     -999.0,9,     -999.0,9,    0.05,2,  18.9740,    0.001,   0.202
325020060213,       P16N,      51,          1,         29,         29,2,20060315,       2012,         29,       -152,       5508,   200.8,  15.1114,  34.4987,2,  34.4832,2,    212.8,2,   210.2,2,    4.40,2,    5.00,2,    0.00,2,    0.41,2,-999.000,9,-999.000,9,-999.000,9,  2052.5,2,  2267.4,6,   -999.0,9,  -999.00,   7.8988,2,    25.00,-999.000,9,-999.000,-999.0000,9,-999.000,9, -999.00,9,  -999.0,9,    -9.0,-999.000,9,-999.000,   51.41,2,    9.46,2,  200.80,   0.0850,2,   0.0590,2,   0.0220,2,   0.0130,2,   0.0252,2,   0.0250,2,     -999.0,     -999.0,9,     -999.0,9,     -999.0,9,     -999.0,9,     -999.0,9,     -999.0,9,    0.05,2,  15.0810,-999.0000,-999.000
325020060213,       P16N,      51,          1,         28,         28,2,20060315,       2012,         29,       -152,       5508,   249.8,  13.3284,  34.3099,2,  34.2958,2,    217.3,2,   217.5,2,    6.60,2,    7.50,2,    0.00,2,    0.57,2,   3.070,2,   1.787,2,-999.000,9,  2062.0,2,  2255.4,2,   -999.0,9,  -999.00,   7.8623,2,    25.00,-999.000,9,-999.000,-999.0000,9,-999.000,9, -999.00,9,  -999.0,9,    -9.0,-999.000,9,-999.000,   46.71,2,   11.32,2,  249.80,   0.0780,2,   0.0520,2,   0.0190,2,   0.0110,2,   0.0270,2,   0.0270,2,     -999.0,     -999.0,9,     -999.0,9,     -999.0,9,     -999.0,9,     -999.0,9,     -999.0,9, -999.00,9,  13.2936,-999.0000,-999.000
325020060213,       P16N,      51,          1,         27,         27,2,20060315,       2012,         29,       -152,       5508,   299.2,  11.8964,  34.2253,2,  34.2313,2,    217.1,2,   216.3,2,    9.90,2,   10.50,2,    0.00,2,    0.75,2,   3.249,2,   1.816,2,-999.000,9,  2076.9,2,  2255.3,2,   -999.0,9,  -999.00,   7.8283,2,    25.00,-999.000,9,-999.000,    1.787,2,   0.590,2, -999.00,9,  -999.0,9,    -9.0,   7.539,2,   0.012,   46.17,2,   14.71,2,  299.20,   0.0750,2,   0.0490,2,   0.0160,2,   0.0080,2,   0.0289,2,   0.0290,2,     -999.0,     -999.0,9,     -999.0,9,     -999.0,9,     -999.0,9,     -999.0,9,     -999.0,9, -999.00,9,  11.8577,    0.002,   0.184
325020060213,       P16N,      51,          1,         26,         26,2,20060315,       2012,         29,       -152,       5508,   350.1,  10.5088,  34.1245,2,  34.1246,2,    213.2,2,   213.2,2,   14.60,2,   13.90,2,    0.00,2,    0.97,2,   3.374,2,   1.869,2,-999.000,9,  2097.2,2,  2255.0,2,   -999.0,9,  -999.00,   7.7815,2,    25.00,-999.000,9,-999.000,    1.764,2,   0.998,2, -999.00,9,  -999.0,9,    -9.0,   7.447,2,   0.031,   45.09,2,   17.93,2,  350.10,   0.0850,2,   0.0560,2,   0.0210,2,   0.0110,2,   0.0269,2,   0.0273,2,    785.065,     36.769,2,     67.978,2,    94.1464,2,    403.772,3,    140.692,2,    41.7073,2, -999.00,9,  10.4670,    0.003,   0.397
325020060213,       P16N,      51,          1,         25,         25,2,20060315,       2012,         29,       -152,       5508,   400.2,   9.6159,  34.1119,2,  34.1099,2,    198.9,2,   198.6,2,   20.80,2,   17.40,2,    0.00,2,    1.19,2,   3.330,2,   1.770,2,-999.000,9,  2121.0,2,  2264.3,2,   -999.0,9,  -999.00,   7.7339,2,    25.00,-999.000,9,-999.000,    1.793,2,   4.592,2, -999.00,9,  -999.0,9,    -9.0,   7.647,2,   0.008,   44.27,2,   21.41,2,  400.20,   0.0950,2,   0.0630,2,   0.0250,2,   0.0140,2,   0.0253,2,   0.0261,2,     -999.0,     -999.0,9,     -999.0,9,     -999.0,9,     -999.0,9,     -999.0,9,     -999.0,9, -999.00,9,   9.5707,    0.001,   0.194
325020060213,       P16N,      51,          1,         24,         24,2,20060315,       2012,         29,       -152,       5508,   449.9,   8.6591,  34.0809,2,  34.0797,2,    179.2,2,   177.6,2,   28.90,2,   21.40,2,    0.00,2,    1.46,2,   3.060,2,   1.600,2,-999.000,9,  2148.3,2,  2270.2,2,   -999.0,9,  -999.00,   7.6732,2,    25.00,-999.000,9,-999.000,    1.818,2,   6.515,2, -999.00,9,  -999.0,9,    -9.0,   7.830,2,   0.009,   43.41,2,   25.19,2,  449.90,   0.1130,2,   0.0770,2,   0.0330,2,   0.0210,2,   0.0221,2,   0.0233,2,     -999.0,     -999.0,9,     -999.0,9,     -999.0,9,     -999.0,9,     -999.0,9,     -999.0,9, -999.00,9,   8.6112,    0.000,   0.177
325020060213,       P16N,      51,          1,         23,         23,2,20060315,       2012,         29,       -152,       5508,   500.2,   7.4911,  34.0319,2,  34.0366,2,    146.6,2,   148.6,2,   39.90,6,   26.30,2,    0.00,6,    1.80,6,-999.000,9,-999.000,9,-999.000,9,  2183.1,2,  2274.7,2,   -999.0,9,  -999.00,   7.5893,2,    25.00,-999.000,9,-999.000,-999.0000,9,-999.000,9, -999.00,9,  -999.0,9,    -9.0,-999.000,9,-999.000,   42.50,2,   30.98,2,  500.20,   0.1310,2,   0.0900,2,   0.0420,2,   0.0270,2,   0.0190,2,   0.0208,2,     -999.0,     -999.0,9,     -999.0,9,     -999.0,9,     -999.0,9,     -999.0,9,     -999.0,9, -999.00,9,   7.4422,-999.0000,-999.000
325020060213,       P16N,      51,          1,         22,         22,2,20060315,       2012,         29,       -152,       5508,   598.7,   5.8607,  34.0037,2,  34.0061,2,    109.9,2,   106.0,2,   61.40,2,   33.70,2,    0.00,2,    2.33,2,   1.726,2,   0.830,2,-999.000,9,  2239.7,2,  2288.4,2,   -999.0,9,  -999.00,   7.4685,3,    25.00,-999.000,9,-999.000,    1.846,2,  16.218,2, -999.00,9,  -999.0,9,    -9.0,   7.972,2,   0.014,   41.51,2,   38.11,2,  598.70,   0.1550,2,   0.1090,2,   0.0540,2,   0.0370,2,   0.0161,2,   0.0182,2,     -999.0,     -999.0,9,     -999.0,9,     -999.0,9,     -999.0,9,     -999.0,9,     -999.0,9, -999.00,9,   5.8091,    0.001,   0.196
325020060213,       P16N,      51,          1,         21,         21,2,20060315,       2012,         29,       -152,       5508,   699.7,   4.7906,  34.0892,2,  34.0885,2,     54.0,2,    49.8,2,   84.50,2,   40.30,2,    0.00,2,    2.81,2,-999.000,9,-999.000,9,-999.000,9,  2299.6,2,  2309.7,2,   -999.0,9,  -999.00,   7.3457,2,    25.00,-999.000,9,-999.000,-999.0000,9,-999.000,9, -999.00,9,  -999.0,9,    -9.0,-999.000,9,-999.000,   40.62,2,   44.21,2,  699.70,   0.1730,2,   0.1230,2,   0.0640,2,   0.0460,2,   0.0147,2,   0.0165,2,     -999.0,     -999.0,9,     -999.0,9,     -999.0,9,     -999.0,9,     -999.0,9,     -999.0,9, -999.00,9,   4.7355,-999.0000,-999.000
325020060213,       P16N,      51,          1,         20,         20,2,20060315,       2012,         29,       -152,       5508,   800.9,   4.3042,  34.1975,2,  34.1997,2,     22.8,2,    21.6,2,  101.80,6,   42.80,2,    0.00,6,    3.00,6,   0.124,2,   0.069,2,-999.000,9,  2336.1,6,  2334.1,2,   -999.0,9,  -999.00,   7.3031,2,    25.00,-999.000,9,-999.000,    1.889,2,  16.439,2, -999.00,9,  -999.0,9,    -9.0,   8.048,2,   0.008,   39.68,2,   46.77,2,  800.90,   0.1790,2,   0.1280,2,   0.0690,2,   0.0500,2,   0.0139,2,   0.0156,3,     -999.0,     -999.0,9,     -999.0,9,     -999.0,9,     -999.0,9,     -999.0,9,     -999.0,9, -999.00,9,   4.2433,    0.001,   0.206
325020060213,       P16N,      51,          1,         19,         19,2,20060315,       2012,         29,       -152,       5508,   899.5,   3.9322,  34.3092,2,  34.3091,2,     13.1,2,    12.5,2,  114.60,6,   44.10,6,    0.00,6,    3.10,6,-999.000,9,-999.000,9,-999.000,9,  2357.4,2,  2353.8,2,   -999.0,9,  -999.00,   7.2943,2,    25.00,-999.000,9,-999.000,-999.0000,9,-999.000,9, -999.00,9,  -999.0,9,    -9.0,-999.000,9,-999.000,   39.00,2,   48.17,2,  899.50,   0.1800,2,   0.1300,2,   0.0720,2,   0.0530,2,   0.0134,3,   0.0149,3,     -999.0,     -999.0,9,     -999.0,9,     -999.0,9,     -999.0,9,     -999.0,9,     -999.0,9, -999.00,9,   3.8656,-999.0000,-999.000
325020060213,       P16N,      51,          1,         18,         18,2,20060315,       2012,         29,       -152,       5508,   999.3,   3.7094,  34.3896,2,  34.3945,2,     15.4,2,    15.7,2,  121.70,2,   44.20,2,    0.00,2,    3.15,2,   0.005,2,   0.000,2,-999.000,9,  2365.8,2,  2366.1,6,   -999.0,9,  -999.00,   7.3162,2,    25.00,-999.000,9,-999.000,    1.904,2,  16.386,2, -999.00,9,  -999.0,9,    -9.0,   8.101,2,   0.009,   38.27,2,   48.12,2,  999.30,   0.1790,2,   0.1290,2,   0.0720,2,   0.0530,2,   0.0132,3,   0.0148,3,     -999.0,     -999.0,9,     -999.0,9,     -999.0,9,     -999.0,9,     -999.0,9,     -999.0,9, -999.00,9,   3.6362,    0.000,   0.182
325020060213,       P16N,      51,          1,         17,         17,2,20060315,       2012,         29,       -152,       5508,  1201.0,   3.2268,  34.4924,2,  34.4940,2,     33.0,2,    33.3,2,  131.80,2,   43.80,2,    0.00,2,    3.08,2,-999.000,9,-999.000,9,-999.000,9,  2369.8,2,  2380.1,2,   -999.0,9,  -999.00,   7.3558,2,    25.00,-999.000,9,-999.000,-999.0000,9,-999.000,9, -999.00,9,  -999.0,9,    -9.0,-999.000,9,-999.000,   36.95,2,   47.41,2, 1201.00,   0.1650,2,   0.1170,2,   0.0650,2,   0.0480,2,   0.0134,3,   0.0152,3,     -999.0,     -999.0,9,     -999.0,9,     -999.0,9,     -999.0,9,     -999.0,9,     -999.0,9, -999.00,9,   3.1413,-999.0000,-999.000
325020060213,       P16N,      51,          1,         16,         16,2,20060315,       2012,         29,       -152,       5508,  1401.0,   2.8550,  34.5384,2,  34.5400,2,     48.3,2,    47.4,2,  139.70,2,   43.00,2,    0.00,2,    3.02,2,   0.024,3,   0.012,2,-999.000,9,  2369.3,2,  2394.1,2,   -999.0,9,  -999.00,   7.3878,2,    25.00,-999.000,9,-999.000,    1.952,2,  20.634,2, -999.00,9,  -999.0,9,    -9.0,   8.302,2,   0.011,   36.89,2,   47.13,2, 1401.00,   0.1580,2,   0.1120,2,   0.0610,2,   0.0440,2,   0.0137,2,   0.0156,3,     -999.0,     -999.0,9,     -999.0,9,     -999.0,9,     -999.0,9,     -999.0,9,     -999.0,9, -999.00,9,   2.7570,    0.001,   0.211
325020060213,       P16N,      51,          1,         15,         15,2,20060315,       2012,         29,       -152,       5508,  1599.7,   2.5195,  34.5724,2,  34.5735,2,     60.4,2,    60.3,2,  147.30,2,   41.90,2,    0.00,2,    2.97,2,-999.000,9,-999.000,9,-999.000,9,  2369.8,2,  2403.1,2,   -999.0,9,  -999.00,   7.4122,2,    25.00,-999.000,9,-999.000,-999.0000,9,-999.000,9, -999.00,9,  -999.0,9,    -9.0,-999.000,9,-999.000,   36.35,2,   45.63,2, 1599.70,   0.1510,2,   0.1060,2,   0.0570,2,   0.0410,2,   0.0140,3,   0.0162,3,     -999.0,     -999.0,9,     -999.0,9,     -999.0,9,     -999.0,9,     -999.0,9,     -999.0,9, -999.00,9,   2.4091,-999.0000,-999.000
325020060213,       P16N,      51,          1,         14,         14,2,20060315,       2012,         29,       -152,       5508,  1799.1,   2.2456,  34.5982,2,  34.5993,2,     70.5,2,    71.2,2,  153.90,2,   41.60,2,    0.00,2,    2.92,2,   0.010,3,   0.001,2,-999.000,9,  2369.5,2,  2413.0,2,   -999.0,9,  -999.00,   7.4365,2,    25.00,-999.000,9,-999.000,    1.961,2,  22.306,2, -999.00,9,  -999.0,9,    -9.0,   8.258,2,   0.013,   35.85,2,   45.33,2, 1799.10,   0.1480,2,   0.1030,2,   0.0550,2,   0.0390,2,   0.0144,2,   0.0166,3,     -999.0,     -999.0,9,     -999.0,9,     -999.0,9,     -999.0,9,     -999.0,9,     -999.0,9, -999.00,9,   2.1224,    0.001,   0.202
325020060213,       P16N,      51,          1,         13,         13,9,20060315,       2012,         29,       -152,       5508,  2000.7,   2.0348,  34.6176,2,-999.0000,9,     78.8,2,  -999.0,9, -999.00,9, -999.00,9, -999.00,9, -999.00,9,-999.000,9,-999.000,9,-999.000,9,  -999.0,9,  -999.0,9,   -999.0,9,  -999.00,-999.0000,9,  -999.00,-999.000,9,-999.000,-999.0000,9,-999.000,9, -999.00,9,  -999.0,9,    -9.0,-999.000,9,-999.000, -999.00,9, -999.00,9, 2000.70,-999.0000,9,-999.0000,9,-999.0000,9,-999.0000,9,-999.0000,9,-999.0000,9,     -999.0,     -999.0,9,     -999.0,9,     -999.0,9,     -999.0,9,     -999.0,9,     -999.0,9, -999.00,9,   1.8979,-999.0000,-999.000
325020060213,       P16N,      51,          1,         12,         12,2,20060315,       2012,         29,       -152,       5508,  2249.7,   1.8473,  34.6351,2,  34.6352,2,     88.4,2,    88.1,2,  164.90,2,   40.20,3,    0.00,2,    2.84,2,-999.000,9,-999.000,9,-999.000,9,  2361.2,3,  2424.3,2,   -999.0,9,  -999.00,   7.4670,2,    25.00,-999.000,9,-999.000,-999.0000,9,-999.000,9, -999.00,9,  -999.0,9,    -9.0,-999.000,9,-999.000,   38.14,2,   44.03,2, 2249.70,   0.1420,2,   0.0980,2,   0.0510,2,   0.0360,2,   0.0149,2,   0.0173,2,     -999.0,     -999.0,9,     -999.0,9,     -999.0,9,     -999.0,9,     -999.0,9,     -999.0,9, -999.00,9,   1.6921,-999.0000,-999.000
325020060213,       P16N,      51,          1,         11,         11,2,20060315,       2012,         29,       -152,       5508,  2500.8,   1.7245,  34.6485,2,  34.6488,2,     99.1,2,    99.1,2,  166.00,2,   39.70,2,    0.00,2,    2.79,2,-999.000,9,-999.000,9,-999.000,9,  2369.6,2,  2427.8,2,   -999.0,9,  -999.00,   7.4906,2,    25.00,-999.000,9,-999.000,-999.0000,9,-999.000,9, -999.00,9,  -999.0,9,    -9.0,-999.000,9,-999.000,   36.54,2,   43.49,2, 2500.80,   0.1360,2,   0.0930,2,   0.0480,2,   0.0330,2,   0.0160,2,   0.0182,2,     -999.0,     -999.0,9,     -999.0,9,     -999.0,9,     -999.0,9,     -999.0,9,     -999.0,9, -999.00,9,   1.5493,-999.0000,-999.000
325020060213,       P16N,      51,          1,         10,         10,2,20060315,       2012,         29,       -152,       5508,  3000.5,   1.5670,  34.6685,2,  34.6688,2,    119.7,2,   119.9,2,  163.00,2,   38.30,3,    0.00,2,    2.68,2,-999.000,9,-999.000,9,-999.000,9,  2352.2,2,  2424.3,2,   -999.0,9,  -999.00,   7.5269,6,    25.00,-999.000,9,-999.000,-999.0000,9,-999.000,9, -999.00,9,  -999.0,9,    -9.0,-999.000,9,-999.000,   37.64,2,   41.55,2, 3000.50,   0.1290,2,   0.0880,2,   0.0440,2,   0.0300,2,   0.0167,2,   0.0189,2,     -999.0,     -999.0,9,     -999.0,9,     -999.0,9,     -999.0,9,     -999.0,9,     -999.0,9, -999.00,9,   1.3488,-999.0000,-999.000