BOTTLE,20170720CCHSIOCBG
EXPOCODE,SECT_ID,STNNBR,CASTNO,SAMPNO,BTLNBR,BTLNBR_FLAG_W,DATE,TIME,LATITUDE,LONGITUDE,DEPTH,CTDPRS,CTDTMP,CTDSAL,CTDSAL_FLAG_W,SALNTY,SALNTY_FLAG_W,CTDOXY,CTDOXY_FLAG_W,OXYGEN,OXYGEN_FLAG_W,SILCAT,SILCAT_FLAG_W,NITRAT,NITRAT_FLAG_W,NITRIT,NITRIT_FLAG_W,PHSPHT,PHSPHT_FLAG_W,CFC-11,CFC-11_FLAG_W,CFC-12,CFC-12_FLAG_W,CFC113,CFC113_FLAG_W,TCARBN,TCARBN_FLAG_W,ALKALI,ALKALI_FLAG_W,FCO2,FCO2_FLAG_W,FCO2TMP,PH_TOT,PH_TOT_FLAG_W,PH_TMP,TRITUM,TRITUM_FLAG_W,TRITER,HELIUM,HELIUM_FLAG_W,DELHE3,DELHE3_FLAG_W,DELC13,DELC13_FLAG_W,DELC14,DELC14_FLAG_W,C14ERR,NEON,NEON_FLAG_W,NEONER,DOC,DOC_FLAG_W,TDN,TDN_FLAG_W,CTDRAW,CDOM325,CDOM325_FLAG_W,CDOM340,CDOM340_FLAG_W,CDOM380,CDOM380_FLAG_W,CDOM412,CDOM412_FLAG_W,CDOMSL,CDOMSL_FLAG_W,CDOMSN,CDOMSN_FLAG_W,DCNS,ARABI,ARABI_FLAG_W,FUCO,FUCO_FLAG_W,GALA,GALA_FLAG_W,GLUC,GLUC_FLAG_W,MAN,MAN_FLAG_W,RHAM,RHAM_FLAG_W,BRDU,BRDU_FLAG_W,THETA,HELIER,DELHER
,,,,,,,,,,,METERS,DBAR,ITS-90,PSS-78,,PSS-78,,UMOL/KG,,UMOL/KG,,UMOL/KG,,UMOL/KG,,UMOL/KG,,UMOL/KG,,PMOL/KG,,PMOL/KG,,PMOL/KG,,UMOL/KG,,UMOL/KG,,UATM,,DEG C,,,DEG C,TU,,TU,NMOL/KG,,PERCNT,,/MILLE,,/MILLE,,/MILLE,NMOL/KG,,NMOL/KG,UMOL/KG,,UMOL/KG,,DBAR,1/M,,1/M,,1/M,,1/M,,1/NM,,1/NM,,NMOL/KG,NMOL/KG,,NMOL/KG,,NMOL/KG,,NMOL/KG,,NMOL/KG,,NMOL/KG,,PMOL/L/H,,DEG C,NMOL/KG,PERCNT
325020060213,       P16N,      76,          2,          9,          9,2,20060328,       0637,         55,  -152.6597,       4199,  2299.2,   1.7563,  34.6212,2,  34.6236,2,     77.2,2,    77.4,2,  168.90,2,   40.00,2,    0.00,2,    2.92,2,   0.001,2,   0.002,2,-999.000,5,  2373.1,2,  2417.8,2,   -999.0,9,  -999.00,   7.4357,2,    25.00,-999.000,9,-999.000,-999.0000,9,-999.000,9, -999.00,5,  -239.6,2,     2.7,-999.000,9,-999.000,   37.55,2,   43.25,2, 2299.20,-999.0000,9,-999.0000,9,-999.0000,9,-999.0000,9,-999.0000,9,-999.0000,9,     -999.0,     -999.0,9,     -999.0,9,     -999.0,9,     -999.0,9,     -999.0,9,     -999.0,9, -999.00,9,   1.5984,-999.0000,-999.000
325020060213,       P16N,      76,          2,          8,          8,2,20060328,       0637,         55,  -152.6597,       4199,  2499.6,   1.6954,  34.6335,2,  34.6368,2,     86.6,2,    86.7,2,  168.40,2,   39.30,2,    0.00,2,    2.88,2,-999.000,9,-999.000,9,-999.000,9,  2367.3,2,  2421.4,2,   -999.0,9,  -999.00,   7.4552,2,    25.00,-999.000,9,-999.000,-999.0000,9,-999.000,9, -999.00,5,  -236.7,2,     2.9,-999.000,9,-999.000,   36.95,2,   42.77,2, 2499.60,-999.0000,9,-999.0000,9,-999.0000,9,-999.0000,9,-999.0000,9,-999.0000,9,     -999.0,     -999.0,9,     -999.0,9,     -999.0,9,     -999.0,9,     -999.0,9,     -999.0,9, -999.00,9,   1.5209,-999.0000,-999.000
325020060213,       P16N,      76,          2,          7,          7,2,20060328,       0637,         55,  -152.6597,       4199,  2698.8,   1.6329,  34.6456,2,  34.6510,3,     97.6,2,    97.4,2,  167.50,2,   38.40,2,    0.00,2,    2.82,2,-999.000,9,-999.000,9,-999.000,9,  2360.4,2,  2423.8,6,   -999.0,9,  -999.00,   7.4753,4,    25.00,-999.000,9,-999.000,-999.0000,9,-999.000,9, -999.00,5,  -232.9,2,     2.9,-999.000,9,-999.000,   37.22,2,   41.85,2, 2698.80,-999.0000,9,-999.0000,9,-999.0000,9,-999.0000,9,-999.0000,9,-999.0000,9,     -999.0,     -999.0,9,     -999.0,9,     -999.0,9,     -999.0,9,     -999.0,9,     -999.0,9, -999.00,9,   1.4415,-999.0000,-999.000
325020060213,       P16N,      76,          2,          6,          6,2,20060328,       0637,         55,  -152.6597,       4199,  2900.0,   1.5779,  34.6560,2,  34.6572,2,    107.9,2,   107.9,2,  166.20,2,   37.80,2,    0.00,2,    2.76,2,-999.000,9,-999.000,9,-999.000,9,  2355.0,2,  2425.5,2,   -999.0,9,  -999.00,   7.4954,2,    25.00,-999.000,9,-999.000,-999.0000,9,-999.000,9, -999.00,5,  -231.5,2,     2.9,-999.000,9,-999.000,   36.80,2,   41.36,2, 2900.00,-999.0000,9,-999.0000,9,-999.0000,9,-999.0000,9,-999.0000,9,-999.0000,9,     -999.0,     -999.0,9,     -999.0,9,     -999.0,9,     -999.0,9,     -999.0,9,     -999.0,9, -999.00,9,   1.3690,-999.0000,-999.000
325020060213,       P16N,      76,          2,          5,          5,2,20060328,       0637,         55,  -152.6597,       4199,  3149.3,   1.5348,  34.6651,2,  34.6666,2,    118.1,2,   118.4,2,  164.90,2,   36.90,2,    0.00,2,    2.71,2,-999.000,9,-999.000,9,-999.000,9,  2348.4,2,  2424.6,2,   -999.0,9,  -999.00,   7.5158,2,    25.00,-999.000,9,-999.000,-999.0000,9,-999.000,9, -999.00,5,  -233.7,2,     2.7,-999.000,9,-999.000,   36.82,2,   40.34,2, 3149.30,-999.0000,9,-999.0000,9,-999.0000,9,-999.0000,9,-999.0000,9,-999.0000,9,     -999.0,     -999.0,9,     -999.0,9,     -999.0,9,     -999.0,9,     -999.0,9,     -999.0,9, -999.00,9,   1.3029,-999.0000,-999.000
325020060213,       P16N,      76,          2,          4,          4,2,20060328,       0637,         55,  -152.6597,       4199,  3429.5,   1.5027,  34.6732,2,  34.6757,2,    127.7,2,   127.6,2,  163.90,6,   36.60,6,    0.00,6,    2.67,6,   0.000,2,  -0.001,2,-999.000,5,  2341.7,2,  2426.4,2,   -999.0,9,  -999.00,   7.5352,2,    25.00,-999.000,9,-999.000,-999.0000,9,-999.000,9, -999.00,5,  -229.6,2,     2.9,-999.000,9,-999.000,   35.85,2,   39.77,2, 3429.50,-999.0000,9,-999.0000,9,-999.0000,9,-999.0000,9,-999.0000,9,-999.0000,9,     -999.0,     -999.0,9,     -999.0,9,     -999.0,9,     -999.0,9,     -999.0,9,     -999.0,9, -999.00,9,   1.2437,-999.0000,-999.000
325020060213,       P16N,      76,          2,          3,          3,2,20060328,       0637,         55,  -152.6597,       4199,  3749.5,   1.4908,  34.6792,2,  34.6808,2,    134.7,2,   134.3,2,  163.10,6,   36.10,6,    0.00,6,    2.62,6,-999.000,9,-999.000,9,-999.000,9,  2338.6,2,  2427.1,2,   -999.0,9,  -999.00,   7.5484,2,    25.00,-999.000,9,-999.000,-999.0000,9,-999.000,9, -999.00,5,  -216.1,2,     3.0,-999.000,9,-999.000,   36.39,2,   40.08,2, 3749.50,-999.0000,9,-999.0000,9,-999.0000,9,-999.0000,9,-999.0000,9,-999.0000,9,     -999.0,     -999.0,9,     -999.0,9,     -999.0,9,     -999.0,9,     -999.0,9,     -999.0,9, -999.00,9,   1.1991,-999.0000,-999.000
325020060213,       P16N,      76,          2,          2,          2,2,20060328,       0637,         55,  -152.6597,       4199,  4027.5,   1.4978,  34.6822,2,  34.6854,3,    138.7,2,   138.4,2,  162.40,6,   35.90,6,    0.00,6,    2.62,6,   0.001,2,   0.005,2,-999.000,5,  2335.9,2,  2428.4,2,   -999.0,9,  -999.00,   7.5538,2,    25.00,-999.000,9,-999.000,-999.0000,9,-999.000,9, -999.00,5,  -225.9,2,     2.8,-999.000,9,-999.000,   36.18,2,   39.03,2, 4027.50,-999.0000,9,-999.0000,9,-999.0000,9,-999.0000,9,-999.0000,9,-999.0000,9,     -999.0,     -999.0,9,     -999.0,9,     -999.0,9,     -999.0,9,     -999.0,9,     -999.0,9, -999.00,9,   1.1760,-999.0000,-999.000
325020060213,       P16N,      76,          2,          1,          1,2,20060328,       0637,         55,  -152.6597,       4199,  4264.7,   1.4815,  34.6871,2,  34.6906,3,    145.8,2,   145.8,2,  159.30,6,   35.30,6,    0.00,6,    2.56,6,   0.000,2,   0.000,2,-999.000,5,  2330.4,6,  2425.0,2,   -999.0,9,  -999.00,   7.5672,2,    25.00,-999.000,9,-999.000,-999.0000,9,-999.000,9, -999.00,5,  -222.9,2,     2.9,-999.000,9,-999.000,   36.01,2,   38.90,2, 4264.70,-999.0000,9,-999.0000,9,-999.0000,9,-999.0000,9,-999.0000,9,-999.0000,9,     -999.0,     -999.0,9,     -999.0,9,     -999.0,9,     -999.0,9,     -999.0,9,     -999.0,9, -999.00,9,   1.1338,-999.0000,-999.000