BOTTLE,20170720CCHSIOCBG
EXPOCODE,SECT_ID,STNNBR,CASTNO,SAMPNO,BTLNBR,BTLNBR_FLAG_W,DATE,TIME,LATITUDE,LONGITUDE,DEPTH,CTDPRS,CTDTMP,CTDSAL,CTDSAL_FLAG_W,SALNTY,SALNTY_FLAG_W,CTDOXY,CTDOXY_FLAG_W,OXYGEN,OXYGEN_FLAG_W,SILCAT,SILCAT_FLAG_W,NITRAT,NITRAT_FLAG_W,NITRIT,NITRIT_FLAG_W,PHSPHT,PHSPHT_FLAG_W,CFC-11,CFC-11_FLAG_W,CFC-12,CFC-12_FLAG_W,CFC113,CFC113_FLAG_W,TCARBN,TCARBN_FLAG_W,ALKALI,ALKALI_FLAG_W,FCO2,FCO2_FLAG_W,FCO2TMP,PH_TOT,PH_TOT_FLAG_W,PH_TMP,TRITUM,TRITUM_FLAG_W,TRITER,HELIUM,HELIUM_FLAG_W,DELHE3,DELHE3_FLAG_W,DELC13,DELC13_FLAG_W,DELC14,DELC14_FLAG_W,C14ERR,NEON,NEON_FLAG_W,NEONER,DOC,DOC_FLAG_W,TDN,TDN_FLAG_W,CTDRAW,CDOM325,CDOM325_FLAG_W,CDOM340,CDOM340_FLAG_W,CDOM380,CDOM380_FLAG_W,CDOM412,CDOM412_FLAG_W,CDOMSL,CDOMSL_FLAG_W,CDOMSN,CDOMSN_FLAG_W,DCNS,ARABI,ARABI_FLAG_W,FUCO,FUCO_FLAG_W,GALA,GALA_FLAG_W,GLUC,GLUC_FLAG_W,MAN,MAN_FLAG_W,RHAM,RHAM_FLAG_W,BRDU,BRDU_FLAG_W,THETA,HELIER,DELHER
,,,,,,,,,,,METERS,DBAR,ITS-90,PSS-78,,PSS-78,,UMOL/KG,,UMOL/KG,,UMOL/KG,,UMOL/KG,,UMOL/KG,,UMOL/KG,,PMOL/KG,,PMOL/KG,,PMOL/KG,,UMOL/KG,,UMOL/KG,,UATM,,DEG C,,,DEG C,TU,,TU,NMOL/KG,,PERCNT,,/MILLE,,/MILLE,,/MILLE,NMOL/KG,,NMOL/KG,UMOL/KG,,UMOL/KG,,DBAR,1/M,,1/M,,1/M,,1/M,,1/NM,,1/NM,,NMOL/KG,NMOL/KG,,NMOL/KG,,NMOL/KG,,NMOL/KG,,NMOL/KG,,NMOL/KG,,PMOL/L/H,,DEG C,NMOL/KG,PERCNT
325020060213,       P16N,      45,          3,         36,         36,2,20060313,       0058,         23,       -152,       5397,     4.7,  22.6431,  35.0863,2,  35.0866,2,    216.3,2,   216.6,2,    0.00,2,    0.00,2,    0.00,2,    0.05,2,   1.983,2,   1.235,2,-999.000,5,  1998.0,6,  2308.3,2,   -999.0,9,  -999.00,   8.0683,6,    25.00,-999.000,9,-999.000,    1.722,2,  -2.939,4, -999.00,9,  -999.0,9,    -9.0,   7.016,2,   0.009,   67.07,2,    4.45,2,    4.70,   0.0330,2,   0.0180,2,  -0.0010,4,  -0.0070,4,   0.0351,2,   0.0351,2,     -999.0,     -999.0,9,     -999.0,9,     -999.0,9,     -999.0,9,     -999.0,9,     -999.0,9,    2.15,2,  22.6422,    0.002,   0.204
325020060213,       P16N,      45,          3,         35,         35,9,20060313,       0058,         23,       -152,       5397,    24.9,  22.5043,  35.1501,2,-999.0000,9,    216.7,2,  -999.0,9, -999.00,9, -999.00,9, -999.00,9, -999.00,9,-999.000,9,-999.000,9,-999.000,9,  -999.0,9,  -999.0,9,   -999.0,9,  -999.00,-999.0000,9,  -999.00,-999.000,9,-999.000,-999.0000,9,-999.000,9, -999.00,9,  -999.0,9,    -9.0,-999.000,9,-999.000, -999.00,9, -999.00,9,   24.90,-999.0000,9,-999.0000,9,-999.0000,9,-999.0000,9,-999.0000,9,-999.0000,9,     -999.0,     -999.0,9,     -999.0,9,     -999.0,9,     -999.0,9,     -999.0,9,     -999.0,9,    1.87,2,  22.4994,-999.0000,-999.000
325020060213,       P16N,      45,          3,         34,         34,2,20060313,       0058,         23,       -152,       5397,    49.9,  22.0154,  35.3339,2,  35.3339,2,    218.1,2,   217.2,2,    0.20,2,    0.00,2,    0.00,2,    0.02,2,   2.037,2,   1.252,2,-999.000,5,  2011.5,2,  2322.3,2,   -999.0,9,  -999.00,   8.0596,2,    25.00,-999.000,9,-999.000,-999.0000,9,-999.000,9, -999.00,9,  -999.0,9,    -9.0,-999.000,9,-999.000,   66.07,2,    4.10,2,   49.90,   0.0380,2,   0.0210,2,   0.0010,3,  -0.0060,4,   0.0365,2,   0.0364,2,     -999.0,     -999.0,9,     -999.0,9,     -999.0,9,     -999.0,9,     -999.0,9,     -999.0,9,    2.07,2,  22.0055,-999.0000,-999.000
325020060213,       P16N,      45,          3,         33,         33,2,20060313,       0058,         23,       -152,       5397,    74.7,  21.9701,  35.3351,2,  35.3367,2,    215.3,2,   216.9,2,    0.30,2,    0.00,2,    0.00,2,    0.03,2,   2.018,2,   1.253,2,-999.000,5,  2012.8,2,  2323.2,2,   -999.0,9,  -999.00,   8.0575,2,    25.00,-999.000,9,-999.000,    1.735,2,  -0.956,2, -999.00,9,  -999.0,9,    -9.0,   7.024,2,   0.007,   64.79,2,    4.57,2,   74.70,   0.0330,2,   0.0170,3,  -0.0020,4,  -0.0070,4,   0.0393,2,   0.0392,2,     -999.0,     -999.0,9,     -999.0,9,     -999.0,9,     -999.0,9,     -999.0,9,     -999.0,9,    2.81,2,  21.9553,    0.000,   0.165
325020060213,       P16N,      45,          3,         32,         32,2,20060313,       0058,         23,       -152,       5397,   100.4,  21.9256,  35.3386,2,  35.3377,2,    214.4,2,   217.4,2,    0.20,2,    0.00,2,    0.00,2,    0.03,2,   2.021,2,   1.233,2,-999.000,5,  2012.6,2,  2323.5,2,   -999.0,9,  -999.00,   8.0615,2,    25.00,-999.000,9,-999.000,-999.0000,9,-999.000,9, -999.00,9,  -999.0,9,    -9.0,-999.000,9,-999.000,   62.02,2,    3.85,2,  100.40,   0.0340,2,   0.0180,2,  -0.0020,4,  -0.0070,4,   0.0387,2,   0.0387,2,     -999.0,     -999.0,9,     -999.0,9,     -999.0,9,     -999.0,9,     -999.0,9,     -999.0,9,    0.67,2,  21.9058,-999.0000,-999.000
325020060213,       P16N,      45,          3,         31,         31,2,20060313,       0058,         23,       -152,       5397,   124.9,  21.4321,  35.2921,2,  35.2892,2,    209.5,2,   209.8,2,    0.50,2,    0.30,2,    0.10,2,    0.06,2,   2.104,6,   1.277,6,-999.000,5,  2022.9,2,  2318.2,2,   -999.0,9,  -999.00,   8.0340,2,    25.00,-999.000,9,-999.000,-999.0000,9,-999.000,9, -999.00,9,  -999.0,9,    -9.0,-999.000,9,-999.000,   59.76,2,    4.73,2,  124.90,   0.0580,2,   0.0370,2,   0.0070,3,   0.0000,4,   0.0311,2,   0.0308,2,     -999.0,     -999.0,9,     -999.0,9,     -999.0,9,     -999.0,9,     -999.0,9,     -999.0,9,    0.58,2,  21.4078,-999.0000,-999.000
325020060213,       P16N,      45,          3,         30,         30,2,20060313,       0058,         23,       -152,       5397,   150.4,  19.8446,  35.0706,2,  35.0354,2,    199.2,2,   201.0,2,    1.30,2,    1.70,2,    0.00,2,    0.17,2,   2.330,2,   1.389,2,-999.000,5,  2040.0,2,  2300.6,2,   -999.0,9,  -999.00,   7.9840,2,    25.00,-999.000,9,-999.000,    1.752,2,  -0.357,2, -999.00,9,  -999.0,9,    -9.0,   7.115,2,   0.010,   53.28,2,    5.84,2,  150.40,   0.0790,2,   0.0540,2,   0.0180,2,   0.0080,3,   0.0275,2,   0.0272,2,     -999.0,     -999.0,9,     -999.0,9,     -999.0,9,     -999.0,9,     -999.0,9,     -999.0,9,    0.20,2,  19.8169,    0.001,   0.184
325020060213,       P16N,      45,          3,         29,         29,2,20060313,       0058,         23,       -152,       5397,   200.3,  16.7362,  34.6816,2,  34.6851,2,    207.6,2,   205.9,2,    3.00,2,    3.40,2,    0.00,2,    0.28,2,   2.694,2,   1.552,2,-999.000,5,  2047.1,2,  2277.3,6,   -999.0,9,  -999.00,   7.9345,2,    25.00,-999.000,9,-999.000,    2.021,4,   0.486,3, -999.00,9,  -999.0,9,    -9.0,   8.170,4,   0.019,   52.60,2,    7.99,2,  200.30,   0.1070,2,   0.0790,2,   0.0370,2,   0.0230,2,   0.0185,2,   0.0193,2,     -999.0,     -999.0,9,     -999.0,9,     -999.0,9,     -999.0,9,     -999.0,9,     -999.0,9,    0.14,2,  16.7036,    0.001,   0.179
325020060213,       P16N,      45,          3,         28,         28,2,20060313,       0058,         23,       -152,       5397,   251.5,  13.7845,  34.3690,2,  34.3748,2,    208.1,2,   208.3,2,    6.30,2,    7.90,2,    0.00,2,    0.56,2,   3.017,2,   1.705,2,-999.000,5,  2063.3,2,  2262.5,2,   -999.0,9,  -999.00,   7.8712,2,    25.00,-999.000,9,-999.000,    1.798,2,   0.728,2, -999.00,9,  -999.0,9,    -9.0,   7.587,2,   0.013,   49.11,2,   11.95,2,  251.50,   0.0880,2,   0.0610,2,   0.0260,2,   0.0150,2,   0.0234,2,   0.0238,2,     -999.0,     -999.0,9,     -999.0,9,     -999.0,9,     -999.0,9,     -999.0,9,     -999.0,9, -999.00,9,  13.7486,    0.001,   0.188
325020060213,       P16N,      45,          3,         27,         27,2,20060313,       0058,         23,       -152,       5397,   300.9,  12.4346,  34.2904,2,  34.2927,2,    211.8,2,   211.1,2,    9.50,2,   10.80,2,    0.00,2,    0.73,2,   3.177,2,   1.752,2,-999.000,5,  2076.2,2,  2261.5,2,   -999.0,9,  -999.00,   7.8381,2,    25.00,-999.000,9,-999.000,-999.0000,9,-999.000,9, -999.00,9,  -999.0,9,    -9.0,-999.000,9,-999.000,   47.34,2,   14.67,2,  300.90,   0.0750,2,   0.0500,2,   0.0170,2,   0.0080,2,   0.0282,2,   0.0283,2,     -999.0,     -999.0,9,     -999.0,9,     -999.0,9,     -999.0,9,     -999.0,9,     -999.0,9, -999.00,9,  12.3946,-999.0000,-999.000
325020060213,       P16N,      45,          3,         26,         26,2,20060313,       0058,         23,       -152,       5397,   349.8,  11.2588,  34.2313,2,  34.2332,2,    214.7,2,   212.3,2, -999.00,1, -999.00,1, -999.00,1, -999.00,1,   3.309,2,   1.770,2,-999.000,5,  2090.6,2,  2261.3,2,   -999.0,9,  -999.00,   7.8079,2,    25.00,   0.790,2,   0.011,    1.785,2,   2.035,2, -999.00,9,  -999.0,9,    -9.0,   7.680,2,   0.012,   46.45,2,   17.59,2,  349.80,   0.0820,2,   0.0550,2,   0.0220,2,   0.0110,2,   0.0249,2,   0.0255,2,     -999.0,     -999.0,9,     -999.0,9,     -999.0,9,     -999.0,9,     -999.0,9,     -999.0,9, -999.00,9,  11.2151,    0.001,   0.176
325020060213,       P16N,      45,          3,         25,         25,2,20060313,       0058,         23,       -152,       5397,   400.3,  10.1355,  34.1488,2,  34.1491,2,    196.9,2,   195.2,2,   18.50,2,   17.00,2,    0.00,2,    1.14,2,   3.301,2,   1.731,2,-999.000,5,  2114.7,2,  2260.2,2,   -999.0,9,  -999.00,   7.7486,2,    25.00,   0.637,2,   0.009,    1.832,2,   3.801,2, -999.00,9,  -999.0,9,    -9.0,   7.834,2,   0.012,   45.72,2,   21.73,2,  400.30,   0.0990,2,   0.0680,2,   0.0290,2,   0.0170,2,   0.0228,2,   0.0237,2,     -999.0,     -999.0,9,     -999.0,9,     -999.0,9,     -999.0,9,     -999.0,9,     -999.0,9, -999.00,9,  10.0887,    0.001,   0.188
325020060213,       P16N,      45,          3,         24,         24,2,20060313,       0058,         23,       -152,       5397,   450.8,   8.6088,  34.0843,2,  34.0857,2,    167.4,2,   165.9,2,   29.50,2,   22.90,2,    0.00,2,    1.55,2,   2.962,2,   1.479,2,-999.000,5,  2156.5,2,  2265.7,2,   -999.0,9,  -999.00,   7.6559,2,    25.00,   0.797,2,   0.012,-999.0000,9,-999.000,9, -999.00,9,  -999.0,9,    -9.0,-999.000,9,-999.000,   45.01,2,   27.01,2,  450.80,   0.1300,2,   0.0910,2,   0.0440,2,   0.0280,2,   0.0181,2,   0.0197,2,     -999.0,     -999.0,9,     -999.0,9,     -999.0,9,     -999.0,9,     -999.0,9,     -999.0,9, -999.00,9,   8.5610,-999.0000,-999.000
325020060213,       P16N,      45,          3,         23,         23,2,20060313,       0058,         23,       -152,       5397,   500.7,   7.5616,  34.0455,2,  34.0471,2,    142.3,2,   142.2,2,   39.50,2,   27.20,2,    0.00,2,    1.85,2,   2.483,2,   1.224,2,-999.000,5,  2186.9,2,  2272.0,2,   -999.0,9,  -999.00,   7.5847,2,    25.00,-999.000,9,-999.000,    1.804,2,   8.547,2, -999.00,9,  -999.0,9,    -9.0,   7.883,2,   0.010,   44.20,2,   31.42,2,  500.70,   0.1300,2,   0.0900,2,   0.0420,2,   0.0270,2,   0.0190,2,   0.0208,2,     -999.0,     -999.0,9,     -999.0,9,     -999.0,9,     -999.0,9,     -999.0,9,     -999.0,9, -999.00,9,   7.5123,    0.001,   0.215
325020060213,       P16N,      45,          3,         22,         22,2,20060313,       0058,         23,       -152,       5397,   599.8,   5.7809,  34.0487,2,  34.0504,2,     79.1,2,    78.8,2,   64.90,2,   36.00,2,    0.00,2,    2.52,2,   1.087,2,   0.536,2,-999.000,5,  2260.8,2,  2295.5,2,   -999.0,9,  -999.00,   7.4180,2,    25.00,   0.739,2,   0.012,    1.829,2,  13.967,2, -999.00,9,  -999.0,9,    -9.0,   8.038,2,   0.010,   43.20,2,   40.35,2,  599.80,   0.1790,2,   0.1310,2,   0.0700,2,   0.0480,2,   0.0146,2,   0.0159,2,     -999.0,     -999.0,9,     -999.0,9,     -999.0,9,     -999.0,9,     -999.0,9,     -999.0,9, -999.00,9,   5.7296,    0.002,   0.230
325020060213,       P16N,      45,          3,         21,         21,2,20060313,       0058,         23,       -152,       5397,   699.9,   4.8576,  34.1788,2,  34.1773,2,     30.7,2,    29.7,2,   88.40,6,   41.30,3,    0.00,6,    2.96,6,   0.195,2,   0.128,2,-999.000,5,  2318.1,2,  2321.3,2,   -999.0,9,  -999.00,   7.3203,2,    25.00,-999.000,9,-999.000,    1.853,2,  15.224,2, -999.00,9,  -999.0,9,    -9.0,   8.048,2,   0.008,   41.93,2,   45.23,2,  699.90,   0.1780,2,   0.1280,2,   0.0700,2,   0.0500,2,   0.0139,2,   0.0155,2,     -999.0,     -999.0,9,     -999.0,9,     -999.0,9,     -999.0,9,     -999.0,9,     -999.0,9, -999.00,9,   4.8020,    0.000,   0.184
325020060213,       P16N,      45,          3,         20,         20,2,20060313,       0058,         23,       -152,       5397,   799.8,   4.4741,  34.2957,2,  34.2948,2,     19.9,2,    19.7,2,  100.20,2,   42.80,2,    0.00,2,    3.09,2,   0.049,2,   0.048,2,-999.000,5,  2337.8,6,  2341.8,2,   -999.0,9,  -999.00,   7.3165,2,    25.00,   0.001,2,   0.004,    1.869,2,  11.259,3, -999.00,9,  -999.0,9,    -9.0,   8.147,2,   0.012,   41.14,2,   47.25,2,  799.80,   0.1850,2,   0.1340,2,   0.0740,2,   0.0530,2,   0.0136,2,   0.0151,2,     -999.0,     -999.0,9,     -999.0,9,     -999.0,9,     -999.0,9,     -999.0,9,     -999.0,9, -999.00,9,   4.4122,    0.003,   0.222
325020060213,       P16N,      45,          3,         19,         19,2,20060313,       0058,         23,       -152,       5397,   901.3,   4.2406,  34.3819,2,  34.3807,2,     26.0,2,    24.0,2,  106.10,2,   43.10,2,    0.00,2,    3.08,2,   0.011,2,   0.007,2,-999.000,5,  2345.8,2,  2352.5,2,   -999.0,9,  -999.00,   7.3376,2,    25.00,   0.006,2,   0.004,    1.901,2,  16.846,2, -999.00,9,  -999.0,9,    -9.0,   8.124,2,   0.008,   40.07,2,   46.88,2,  901.30,   0.1890,2,   0.1390,2,   0.0820,2,   0.0580,2,   0.0130,2,   0.0139,2,     -999.0,     -999.0,9,     -999.0,9,     -999.0,9,     -999.0,9,     -999.0,9,     -999.0,9, -999.00,9,   4.1716,    0.001,   0.195
325020060213,       P16N,      45,          3,         18,         18,2,20060313,       0058,         23,       -152,       5397,  1000.5,   3.9731,  34.4350,2,  34.4386,2,     33.5,2,    31.9,2,  111.60,2,   42.80,2,    0.00,2,    3.09,2,   0.015,3,   0.029,3,-999.000,5,  2350.6,2,  2362.7,6,   -999.0,9,  -999.00,   7.3599,3,    25.00,   0.002,2,   0.005,    1.929,2,  23.319,2, -999.00,9,  -999.0,9,    -9.0,   8.084,2,   0.010,   39.44,2,   46.25,2, 1000.50,   0.1670,2,   0.1190,2,   0.0650,2,   0.0470,2,   0.0135,2,   0.0153,3,     -999.0,     -999.0,9,     -999.0,9,     -999.0,9,     -999.0,9,     -999.0,9,     -999.0,9, -999.00,9,   3.8977,    0.003,   0.328
325020060213,       P16N,      45,          3,         17,         17,2,20060313,       0058,         23,       -152,       5397,  1200.0,   3.4910,  34.5226,2,  34.5229,2,     52.4,2,    52.3,2,  120.20,2,   42.10,2,    0.00,2,    2.98,2,   0.026,3,   0.001,2,-999.000,5,  2352.9,2,  2379.4,2,   -999.0,9,  -999.00,   7.4054,2,    25.00,   0.005,2,   0.004,-999.0000,9,-999.000,9, -999.00,9,  -999.0,9,    -9.0,-999.000,9,-999.000,   38.82,2,   45.88,2, 1200.00,   0.1500,2,   0.1050,2,   0.0560,2,   0.0390,2,   0.0145,2,   0.0165,2,     -999.0,     -999.0,9,     -999.0,9,     -999.0,9,     -999.0,9,     -999.0,9,     -999.0,9, -999.00,9,   3.4031,-999.0000,-999.000
325020060213,       P16N,      45,          3,         16,         16,2,20060313,       0058,         23,       -152,       5397,  1402.1,   3.1121,  34.5539,2,  34.5557,2,     60.4,2,    60.5,2,  128.40,2,   41.60,2,    0.00,2,    2.97,2,-999.000,9,-999.000,9,-999.000,9,  2355.2,2,  2391.3,2,   -999.0,9,  -999.00,   7.4221,2,    25.00,-999.000,9,-999.000,-999.0000,9,-999.000,9, -999.00,9,  -999.0,9,    -9.0,-999.000,9,-999.000,   38.48,2,   45.53,2, 1402.10,   0.1560,2,   0.1100,2,   0.0600,2,   0.0430,2,   0.0138,2,   0.0158,3,     -999.0,     -999.0,9,     -999.0,9,     -999.0,9,     -999.0,9,     -999.0,9,     -999.0,9, -999.00,9,   3.0112,-999.0000,-999.000
325020060213,       P16N,      45,          3,         15,         15,2,20060313,       0058,         23,       -152,       5397,  1599.0,   2.7103,  34.5784,2,  34.5775,2,     69.9,2,    69.9,2,  137.80,2,   40.80,3,    0.00,2,    2.93,2,-999.000,9,-999.000,9,-999.000,9,  2359.3,2,  2401.1,2,   -999.0,9,  -999.00,   7.4365,2,    25.00,-999.000,9,-999.000,-999.0000,9,-999.000,9, -999.00,9,  -999.0,9,    -9.0,-999.000,9,-999.000,   38.09,2,   44.20,2, 1599.00,   0.1460,2,   0.1010,2,   0.0550,2,   0.0380,2,   0.0146,2,   0.0167,2,     -999.0,     -999.0,9,     -999.0,9,     -999.0,9,     -999.0,9,     -999.0,9,     -999.0,9, -999.00,9,   2.5977,-999.0000,-999.000
325020060213,       P16N,      45,          3,         14,         14,2,20060313,       0058,         23,       -152,       5397,  1800.2,   2.3986,  34.6027,2,  34.6025,2,     79.5,2,    79.5,2,  143.70,2,   40.80,2,    0.00,2,    2.89,2,  -0.005,2,   0.028,3,-999.000,5,  2360.1,2,  2408.9,2,   -999.0,9,  -999.00,   7.4564,2,    25.00,   0.001,2,   0.003,    1.985,2,  21.597,2, -999.00,9,  -999.0,9,    -9.0,   8.414,2,   0.009,   37.61,2,   44.90,2, 1800.20,   0.1460,2,   0.1020,2,   0.0530,2,   0.0370,2,   0.0148,2,   0.0170,2,     -999.0,     -999.0,9,     -999.0,9,     -999.0,9,     -999.0,9,     -999.0,9,     -999.0,9, -999.00,9,   2.2732,    0.001,   0.194
325020060213,       P16N,      45,          3,         13,         13,4,20060313,       0058,         23,       -152,       5397,  2001.7,   2.1591,  34.6191,2,  34.4148,4,     86.6,2,    27.7,4,  109.60,4,   42.80,4,    0.00,4,    3.08,4,-999.000,9,-999.000,9,-999.000,9,  2347.8,3,  2358.7,3,   -999.0,9,  -999.00,   7.3467,4,    25.00,-999.000,9,-999.000,-999.0000,9,-999.000,9, -999.00,9,  -999.0,9,    -9.0,-999.000,9,-999.000,   38.03,2,   46.99,2, 2001.70,-999.0000,9,-999.0000,9,-999.0000,9,-999.0000,9,-999.0000,9,-999.0000,9,     -999.0,     -999.0,9,     -999.0,9,     -999.0,9,     -999.0,9,     -999.0,9,     -999.0,9, -999.00,9,   2.0202,-999.0000,-999.000
325020060213,       P16N,      45,          3,         12,         12,2,20060313,       0058,         23,       -152,       5397,  2252.4,   1.9505,  34.6338,2,  34.6356,2,     93.7,2,    93.8,2,  156.30,2,   39.90,2,    0.00,2,    2.82,2,-999.000,9,-999.000,9,-999.000,9,  2362.1,2,  2417.1,2,   -999.0,9,  -999.00,   7.4803,2,    25.00,-999.000,9,-999.000,-999.0000,9,-999.000,9, -999.00,9,  -999.0,9,    -9.0,-999.000,9,-999.000,   37.33,2,   44.07,2, 2252.40,   0.1420,2,   0.0990,2,   0.0520,2,   0.0360,2,   0.0151,2,   0.0172,2,     -999.0,     -999.0,9,     -999.0,9,     -999.0,9,     -999.0,9,     -999.0,9,     -999.0,9, -999.00,9,   1.7932,-999.0000,-999.000
325020060213,       P16N,      45,          3,         11,         11,2,20060313,       0058,         23,       -152,       5397,  2500.0,   1.7756,  34.6458,2,  34.6462,2,    101.8,2,   101.2,2,  161.00,2,   39.40,2,    0.00,2,    2.78,2,-999.000,9,-999.000,9,-999.000,9,  2360.4,2,  2421.1,2,   -999.0,9,  -999.00,   7.4942,2,    25.00,-999.000,9,-999.000,-999.0000,9,-999.000,9, -999.00,9,  -999.0,9,    -9.0,-999.000,9,-999.000,   37.59,2,   43.28,2, 2500.00,   0.1390,2,   0.0970,2,   0.0520,2,   0.0350,2,   0.0151,2,   0.0171,2,     -999.0,     -999.0,9,     -999.0,9,     -999.0,9,     -999.0,9,     -999.0,9,     -999.0,9, -999.00,9,   1.5995,-999.0000,-999.000
325020060213,       P16N,      45,          3,         10,         10,2,20060313,       0058,         23,       -152,       5397,  2751.1,   1.6559,  34.6576,2,  34.6582,2,    113.2,2,   111.8,2,  160.90,2,   38.00,3,    0.00,2,    2.74,2,   0.003,2,   0.028,3,-999.000,5,  2355.3,2,  2421.1,3,   -999.0,9,  -999.00,   7.5113,6,    25.00,   0.001,2,   0.004,    1.994,2,  19.704,2, -999.00,9,  -999.0,9,    -9.0,   8.483,2,   0.009,   37.33,2,   41.54,2, 2751.10,   0.1360,2,   0.0940,2,   0.0500,2,   0.0330,2,   0.0155,2,   0.0175,2,     -999.0,     -999.0,9,     -999.0,9,     -999.0,9,     -999.0,9,     -999.0,9,     -999.0,9, -999.00,9,   1.4592,    0.001,   0.191