BOTTLE,20170720CCHSIOCBG
EXPOCODE,SECT_ID,STNNBR,CASTNO,SAMPNO,BTLNBR,BTLNBR_FLAG_W,DATE,TIME,LATITUDE,LONGITUDE,DEPTH,CTDPRS,CTDTMP,CTDSAL,CTDSAL_FLAG_W,SALNTY,SALNTY_FLAG_W,CTDOXY,CTDOXY_FLAG_W,OXYGEN,OXYGEN_FLAG_W,SILCAT,SILCAT_FLAG_W,NITRAT,NITRAT_FLAG_W,NITRIT,NITRIT_FLAG_W,PHSPHT,PHSPHT_FLAG_W,CFC-11,CFC-11_FLAG_W,CFC-12,CFC-12_FLAG_W,CFC113,CFC113_FLAG_W,TCARBN,TCARBN_FLAG_W,ALKALI,ALKALI_FLAG_W,FCO2,FCO2_FLAG_W,FCO2TMP,PH_TOT,PH_TOT_FLAG_W,PH_TMP,TRITUM,TRITUM_FLAG_W,TRITER,HELIUM,HELIUM_FLAG_W,DELHE3,DELHE3_FLAG_W,DELC13,DELC13_FLAG_W,DELC14,DELC14_FLAG_W,C14ERR,NEON,NEON_FLAG_W,NEONER,DOC,DOC_FLAG_W,TDN,TDN_FLAG_W,CTDRAW,CDOM325,CDOM325_FLAG_W,CDOM340,CDOM340_FLAG_W,CDOM380,CDOM380_FLAG_W,CDOM412,CDOM412_FLAG_W,CDOMSL,CDOMSL_FLAG_W,CDOMSN,CDOMSN_FLAG_W,DCNS,ARABI,ARABI_FLAG_W,FUCO,FUCO_FLAG_W,GALA,GALA_FLAG_W,GLUC,GLUC_FLAG_W,MAN,MAN_FLAG_W,RHAM,RHAM_FLAG_W,BRDU,BRDU_FLAG_W,THETA,HELIER,DELHER
,,,,,,,,,,,METERS,DBAR,ITS-90,PSS-78,,PSS-78,,UMOL/KG,,UMOL/KG,,UMOL/KG,,UMOL/KG,,UMOL/KG,,UMOL/KG,,PMOL/KG,,PMOL/KG,,PMOL/KG,,UMOL/KG,,UMOL/KG,,UATM,,DEG C,,,DEG C,TU,,TU,NMOL/KG,,PERCNT,,/MILLE,,/MILLE,,/MILLE,NMOL/KG,,NMOL/KG,UMOL/KG,,UMOL/KG,,DBAR,1/M,,1/M,,1/M,,1/M,,1/NM,,1/NM,,NMOL/KG,NMOL/KG,,NMOL/KG,,NMOL/KG,,NMOL/KG,,NMOL/KG,,NMOL/KG,,PMOL/L/H,,DEG C,NMOL/KG,PERCNT
325020060213,       P16N,      35,          1,          8,          8,2,20060227,       1120,    12.9998,  -152.0002,       5617,  3001.1,   1.6695,  34.6773,2,  34.6756,2,    122.7,2,   124.2,2,  154.80,2,   38.00,2,    0.00,2,    2.60,2,   0.001,2,   0.001,2,-999.000,5,  2351.2,2,  2434.0,2,   -999.0,9,  -999.00,   7.5555,2,    25.00,-999.000,9,-999.000,-999.0000,9,-999.000,9, -999.00,9,  -999.0,9,    -9.0,-999.000,9,-999.000,   37.58,2,   41.50,2, 3001.10,-999.0000,9,-999.0000,9,-999.0000,9,-999.0000,9,-999.0000,9,-999.0000,9,     -999.0,     -999.0,9,     -999.0,9,     -999.0,9,     -999.0,9,     -999.0,9,     -999.0,9, -999.00,9,   1.4489,-999.0000,-999.000
325020060213,       P16N,      35,          1,          7,          7,2,20060227,       1120,    12.9998,  -152.0002,       5617,  3250.4,   1.6112,  34.6807,2,  34.6786,2,    128.1,2,   127.8,2,  155.70,2,   37.70,2,    0.00,2,    2.57,2,-999.000,1,-999.000,1,-999.000,9,  2347.5,2,  2433.5,2,   -999.0,9,  -999.00,   7.5515,2,    25.00,-999.000,9,-999.000,-999.0000,9,-999.000,9, -999.00,9,  -999.0,9,    -9.0,-999.000,9,-999.000,   37.24,2,   41.49,2, 3250.40,-999.0000,9,-999.0000,9,-999.0000,9,-999.0000,9,-999.0000,9,-999.0000,9,     -999.0,     -999.0,9,     -999.0,9,     -999.0,9,     -999.0,9,     -999.0,9,     -999.0,9, -999.00,9,   1.3675,-999.0000,-999.000
325020060213,       P16N,      35,          1,          6,          6,2,20060227,       1120,    12.9998,  -152.0002,       5617,  3651.2,   1.5358,  34.6859,2,  34.6837,2,    138.5,2,   138.3,2,  154.00,2,   37.00,2,    0.00,2,    2.52,2,   0.003,2,   0.000,2,-999.000,5,  2339.3,2,  2431.4,6,   -999.0,9,  -999.00,   7.5691,2,    25.00,-999.000,9,-999.000,-999.0000,9,-999.000,9, -999.00,9,  -999.0,9,    -9.0,-999.000,9,-999.000,   38.33,2,   40.67,2, 3651.20,-999.0000,9,-999.0000,9,-999.0000,9,-999.0000,9,-999.0000,9,-999.0000,9,     -999.0,     -999.0,9,     -999.0,9,     -999.0,9,     -999.0,9,     -999.0,9,     -999.0,9, -999.00,9,   1.2531,-999.0000,-999.000
325020060213,       P16N,      35,          1,          5,          5,2,20060227,       1120,    12.9998,  -152.0002,       5617,  4051.1,   1.4465,  34.6931,2,  34.6904,2,    154.0,2,   154.0,2,  145.80,6,   35.90,6,    0.00,6,    2.43,6,-999.000,1,-999.000,1,-999.000,9,  2324.5,2,  2424.5,2,   -999.0,9,  -999.00,   7.5725,2,    25.00,-999.000,9,-999.000,-999.0000,9,-999.000,9, -999.00,9,  -999.0,9,    -9.0,-999.000,9,-999.000,   38.57,2,   39.07,2, 4051.10,-999.0000,9,-999.0000,9,-999.0000,9,-999.0000,9,-999.0000,9,-999.0000,9,     -999.0,     -999.0,9,     -999.0,9,     -999.0,9,     -999.0,9,     -999.0,9,     -999.0,9, -999.00,9,   1.1236,-999.0000,-999.000
325020060213,       P16N,      35,          1,          4,          4,2,20060227,       1120,    12.9998,  -152.0002,       5617,  4549.5,   1.3906,  34.6991,2,  34.6973,2,    168.4,2,   168.4,2,  136.50,6,   34.90,6,    0.00,6,    2.35,6,   0.000,2,  -0.001,2,-999.000,5,  2309.0,2,  2411.4,2,   -999.0,9,  -999.00,   7.5964,2,    25.00,-999.000,9,-999.000,-999.0000,9,-999.000,9, -999.00,9,  -999.0,9,    -9.0,-999.000,9,-999.000,   38.80,2,   38.77,2, 4549.50,-999.0000,9,-999.0000,9,-999.0000,9,-999.0000,9,-999.0000,9,-999.0000,9,     -999.0,     -999.0,9,     -999.0,9,     -999.0,9,     -999.0,9,     -999.0,9,     -999.0,9, -999.00,9,   1.0132,-999.0000,-999.000
325020060213,       P16N,      35,          1,          3,          3,2,20060227,       1120,    12.9998,  -152.0002,       5617,  5050.0,   1.3967,  34.7020,2,  34.6997,2,    176.2,2,   175.8,2,  132.20,6,   34.40,6,    0.00,6,    2.31,6,-999.000,1,-999.000,1,-999.000,9,  2299.3,2,  -999.0,5,   -999.0,9,  -999.00,   7.5973,2,    25.00,-999.000,9,-999.000,-999.0000,9,-999.000,9, -999.00,9,  -999.0,9,    -9.0,-999.000,9,-999.000,   38.73,2,   38.09,2, 5050.00,-999.0000,9,-999.0000,9,-999.0000,9,-999.0000,9,-999.0000,9,-999.0000,9,     -999.0,     -999.0,9,     -999.0,9,     -999.0,9,     -999.0,9,     -999.0,9,     -999.0,9, -999.00,9,   0.9598,-999.0000,-999.000
325020060213,       P16N,      35,          1,          1,          1,2,20060227,       1120,    12.9998,  -152.0002,       5617,  5731.9,   1.4767,  34.7023,2,  34.7007,2,    177.7,2,   177.2,2,  131.80,2,   34.40,2,    0.00,2,    2.31,2,   0.000,2,   0.000,2,-999.000,5,  2300.5,2,  2405.2,2,   -999.0,9,  -999.00,   7.5928,2,    25.00,-999.000,9,-999.000,-999.0000,9,-999.000,9, -999.00,5,  -193.9,6,     2.1,-999.000,9,-999.000,   38.20,2,   38.05,2, 5731.90,-999.0000,9,-999.0000,9,-999.0000,9,-999.0000,9,-999.0000,9,-999.0000,9,     -999.0,     -999.0,9,     -999.0,9,     -999.0,9,     -999.0,9,     -999.0,9,     -999.0,9, -999.00,9,   0.9510,-999.0000,-999.000