BOTTLE,20170720CCHSIOCBG
EXPOCODE,SECT_ID,STNNBR,CASTNO,SAMPNO,BTLNBR,BTLNBR_FLAG_W,DATE,TIME,LATITUDE,LONGITUDE,DEPTH,CTDPRS,CTDTMP,CTDSAL,CTDSAL_FLAG_W,SALNTY,SALNTY_FLAG_W,CTDOXY,CTDOXY_FLAG_W,OXYGEN,OXYGEN_FLAG_W,SILCAT,SILCAT_FLAG_W,NITRAT,NITRAT_FLAG_W,NITRIT,NITRIT_FLAG_W,PHSPHT,PHSPHT_FLAG_W,CFC-11,CFC-11_FLAG_W,CFC-12,CFC-12_FLAG_W,CFC113,CFC113_FLAG_W,TCARBN,TCARBN_FLAG_W,ALKALI,ALKALI_FLAG_W,FCO2,FCO2_FLAG_W,FCO2TMP,PH_TOT,PH_TOT_FLAG_W,PH_TMP,TRITUM,TRITUM_FLAG_W,TRITER,HELIUM,HELIUM_FLAG_W,DELHE3,DELHE3_FLAG_W,DELC13,DELC13_FLAG_W,DELC14,DELC14_FLAG_W,C14ERR,NEON,NEON_FLAG_W,NEONER,DOC,DOC_FLAG_W,TDN,TDN_FLAG_W,CTDRAW,CDOM325,CDOM325_FLAG_W,CDOM340,CDOM340_FLAG_W,CDOM380,CDOM380_FLAG_W,CDOM412,CDOM412_FLAG_W,CDOMSL,CDOMSL_FLAG_W,CDOMSN,CDOMSN_FLAG_W,DCNS,ARABI,ARABI_FLAG_W,FUCO,FUCO_FLAG_W,GALA,GALA_FLAG_W,GLUC,GLUC_FLAG_W,MAN,MAN_FLAG_W,RHAM,RHAM_FLAG_W,BRDU,BRDU_FLAG_W,THETA,HELIER,DELHER
,,,,,,,,,,,METERS,DBAR,ITS-90,PSS-78,,PSS-78,,UMOL/KG,,UMOL/KG,,UMOL/KG,,UMOL/KG,,UMOL/KG,,UMOL/KG,,PMOL/KG,,PMOL/KG,,PMOL/KG,,UMOL/KG,,UMOL/KG,,UATM,,DEG C,,,DEG C,TU,,TU,NMOL/KG,,PERCNT,,/MILLE,,/MILLE,,/MILLE,NMOL/KG,,NMOL/KG,UMOL/KG,,UMOL/KG,,DBAR,1/M,,1/M,,1/M,,1/M,,1/NM,,1/NM,,NMOL/KG,NMOL/KG,,NMOL/KG,,NMOL/KG,,NMOL/KG,,NMOL/KG,,NMOL/KG,,PMOL/L/H,,DEG C,NMOL/KG,PERCNT
325020060213,       P16N,       7,          2,         35,         35,2,20060216,       2321,   -11.0007,  -151.0008,       5020,     4.8,  29.3482,  35.9714,2,  35.9680,4,    194.2,2,   193.6,2,    0.00,2,    0.30,2,    0.00,2,    0.19,2,   1.492,2,   0.951,2,-999.000,5,  2000.0,6,  2365.5,2,    253.2,2,    20.00,-999.0000,9,  -999.00,   0.493,2,   0.003,   1.6999,2,   -1.85,2, -999.00,9,  -999.0,9,    -9.0,   6.593,2,   0.020,   72.73,2,    5.47,2,    4.80,-999.0000,9,-999.0000,9,-999.0000,9,-999.0000,9,-999.0000,9,-999.0000,9,     -999.0,     -999.0,9,     -999.0,9,     -999.0,9,     -999.0,9,     -999.0,9,     -999.0,9, -999.00,9,  29.3470,   0.0051,    0.14
325020060213,       P16N,       7,          2,         34,         34,2,20060216,       2321,   -11.0007,  -151.0008,       5020,    24.0,  29.2573,  35.9742,2,  35.9619,4,    193.7,2,   193.9,2,    0.00,2,    0.00,2,    0.00,2,    0.19,2,-999.000,9,-999.000,9,-999.000,9,  2000.1,2,  2366.9,2,    253.5,2,    20.00,   8.1853,2,    25.00,   0.541,2,   0.003,   1.7065,2,   -1.44,2, -999.00,9,  -999.0,9,    -9.0,   6.597,2,   0.020,   72.64,2,    5.00,2,   24.00,   0.0000,4,  -0.0020,4,  -0.0100,4,  -0.0080,4,-999.0000,9,-999.0000,9,     -999.0,     -999.0,9,     -999.0,9,     -999.0,9,     -999.0,9,     -999.0,9,     -999.0,9,    1.12,2,  29.2514,   0.0051,    0.14
325020060213,       P16N,       7,          2,         33,         33,2,20060216,       2321,   -11.0007,  -151.0008,       5020,    50.4,  28.9832,  36.0246,2,  36.0246,4,    196.1,2,   195.6,2,    0.10,2,    0.10,2,    0.00,2,    0.19,2,   1.528,2,   0.965,2,-999.000,5,  2002.3,2,  2370.7,2,    255.5,2,    20.00,-999.0000,9,  -999.00,   0.547,2,   0.003,   1.6978,2,   -1.74,2, -999.00,9,  -999.0,9,    -9.0,   6.616,2,   0.020,   72.34,2,    5.27,2,   50.40,-999.0000,9,-999.0000,9,-999.0000,9,-999.0000,9,-999.0000,9,-999.0000,9,     -999.0,     -999.0,9,     -999.0,9,     -999.0,9,     -999.0,9,     -999.0,9,     -999.0,9,    0.90,2,  28.9710,   0.0051,    0.14
325020060213,       P16N,       7,          2,         32,         32,2,20060216,       2321,   -11.0007,  -151.0008,       5020,    74.2,  28.8238,  36.1672,2,  36.1698,4,    196.4,2,   197.0,2,    0.10,2,    0.00,2,    0.00,2,    0.19,2,-999.000,9,-999.000,9,-999.000,9,  2011.4,2,  2381.5,2,    258.2,6,    20.00,   8.1645,2,    25.00,   0.480,2,   0.003,   1.7106,2,   -1.51,2, -999.00,9,  -999.0,9,    -9.0,   6.630,2,   0.020,   72.45,2,    5.20,2,   74.20,-999.0000,9,-999.0000,9,-999.0000,9,-999.0000,9,-999.0000,9,-999.0000,9,     -999.0,     -999.0,9,     -999.0,9,     -999.0,9,     -999.0,9,     -999.0,9,     -999.0,9,    0.13,2,  28.8059,   0.0051,    0.14
325020060213,       P16N,       7,          2,         31,         31,2,20060216,       2321,   -11.0007,  -151.0008,       5020,    98.8,  27.5850,  36.3599,2,  36.3633,4,    195.5,2,   193.8,2,    0.30,2, -999.00,4,    0.50,2,    0.22,2,   1.600,2,   1.003,2,-999.000,5,  2035.8,2,  2395.7,2,    275.5,2,    20.00,   8.1100,2,    25.00,   0.466,2,   0.003,   1.7158,2,   -1.45,2, -999.00,9,  -999.0,9,    -9.0,   6.688,2,   0.020,   69.62,2,    5.28,2,   98.80,-999.0000,9,-999.0000,9,-999.0000,9,-999.0000,9,-999.0000,9,-999.0000,9,     -999.0,     -999.0,9,     -999.0,9,     -999.0,9,     -999.0,9,     -999.0,9,     -999.0,9,    0.02,2,  27.5619,   0.0051,    0.14
325020060213,       P16N,       7,          2,         30,         30,2,20060216,       2321,   -11.0007,  -151.0008,       5020,   125.6,  26.3137,  36.4512,2,  36.4479,4,    177.5,2,   176.2,2,    0.40,2,    1.10,2,    0.50,2,    0.36,2,-999.000,9,-999.000,9,-999.000,9,  2070.7,2,  2402.1,2,    318.1,2,    20.00,   8.0661,2,    25.00,   0.450,2,   0.003,   1.7149,2,   -1.50,2, -999.00,9,  -999.0,9,    -9.0,   6.716,2,   0.020,   64.99,2,    6.06,2,  125.60,   0.0550,2,   0.0400,2,   0.0120,2,   0.0070,2,   0.0231,2,   0.0231,2,     -999.0,     -999.0,9,     -999.0,9,     -999.0,9,     -999.0,9,     -999.0,9,     -999.0,9,    0.00,4,  26.2853,   0.0051,    0.14
325020060213,       P16N,       7,          2,         29,         29,2,20060216,       2321,   -11.0007,  -151.0008,       5020,   149.5,  24.8462,  36.4142,2,  36.4151,4,    169.1,2,   170.9,2,    0.30,6,    2.30,6,    0.20,6,    0.42,6,   1.829,2,   1.109,6,-999.000,5,  2088.0,2,  2400.6,2,    346.6,2,    20.00,   8.0296,2,    25.00,   0.461,2,   0.003,   1.7210,2,   -1.37,2, -999.00,9,  -999.0,9,    -9.0,   6.768,2,   0.020,   61.02,2,    6.97,2,  149.50,   0.1040,2,   0.0790,2,   0.0270,2,   0.0180,2,   0.0255,2,   0.0237,2,     -999.0,     -999.0,9,     -999.0,9,     -999.0,9,     -999.0,9,     -999.0,9,     -999.0,9,    0.03,2,  24.8138,   0.0052,    0.14
325020060213,       P16N,       7,          2,         28,         28,2,20060216,       2321,   -11.0007,  -151.0008,       5020,   199.7,  21.2038,  35.9337,2,  35.9366,4,    161.2,2,   162.4,2,    0.90,6,    5.60,6,    0.00,6,    0.61,6,   2.087,2,   1.253,2,-999.000,5,  2112.0,2,  2371.1,6,    432.8,2,    20.00,   7.9547,2,    25.00,   0.413,2,   0.002,   1.7288,2,   -1.32,2, -999.00,9,  -999.0,9,    -9.0,   7.016,2,   0.021,   52.93,2,   10.73,2,  199.70,-999.0000,9,-999.0000,9,-999.0000,9,-999.0000,9,-999.0000,9,-999.0000,9,     -999.0,     -999.0,9,     -999.0,9,     -999.0,9,     -999.0,9,     -999.0,9,     -999.0,9,    0.01,2,  21.1651,   0.0052,    0.14
325020060213,       P16N,       7,          2,         27,         27,2,20060216,       2321,   -11.0007,  -151.0008,       5020,   248.4,  17.8186,  35.4185,2,  35.3908,4,    151.9,2,   151.5,2,    2.40,6,    9.30,6,    0.00,6,    0.86,6,   2.230,2,   1.255,2,-999.000,5,  2122.2,2,  2334.7,2,    527.5,2,    20.00,   7.8693,2,    25.00,   0.339,2,   0.003,   1.7463,2,   -0.45,2, -999.00,9,  -999.0,9,    -9.0,   7.191,2,   0.022,   49.32,2,   14.10,2,  248.40,   0.1350,2,   0.1090,2,   0.0340,2,   0.0190,2,   0.0257,2,   0.0230,2,     -999.0,     -999.0,9,     -999.0,9,     -999.0,9,     -999.0,9,     -999.0,9,     -999.0,9, -999.00,9,  17.7761,   0.0052,    0.14
325020060213,       P16N,       7,          2,         26,         26,2,20060216,       2321,   -11.0007,  -151.0008,       5020,   299.5,  13.3833,  34.9059,2,  34.8753,4,    117.2,2,   110.6,2,    9.50,2,   18.90,2,    0.00,2,    1.52,2,   1.608,2,   0.870,2,-999.000,5,  2168.0,2,  2305.3,2,    815.0,2,    20.00,   7.7016,2,    25.00,-999.000,9,-999.000,   1.7725,2,    1.35,2, -999.00,9,  -999.0,9,    -9.0,   7.441,2,   0.022,   46.89,2,   23.67,2,  299.50,-999.0000,9,-999.0000,9,-999.0000,9,-999.0000,9,-999.0000,9,-999.0000,9,     -999.0,     -999.0,9,     -999.0,9,     -999.0,9,     -999.0,9,     -999.0,9,     -999.0,9, -999.00,9,  13.3412,   0.0053,    0.14
325020060213,       P16N,       7,          2,         25,         25,2,20060216,       2321,   -11.0007,  -151.0008,       5020,   349.7,  10.8090,  34.7139,2,  34.7131,4,     81.5,2,    82.4,2,   16.80,2,   26.40,2,    0.00,2,    2.00,2,   0.838,2,   0.452,2,-999.000,5,  2205.5,2,  2298.4,2,   1084.9,2,    20.00,   7.5644,2,    25.00,   0.125,2,   0.002,   1.7910,2,    2.79,2, -999.00,9,  -999.0,9,    -9.0,   7.511,2,   0.023,   44.25,2,   31.07,2,  349.70,   0.1200,2,   0.0900,2,   0.0400,2,   0.0310,2,   0.0168,2,   0.0190,2,    338.787,    27.8521,2,    35.5626,2,    49.1057,2,    147.642,2,    51.1855,2,     27.439,2, -999.00,9,  10.7662,   0.0054,    0.14
325020060213,       P16N,       7,          2,         24,         24,2,20060216,       2321,   -11.0007,  -151.0008,       5020,   400.3,   9.4960,  34.6667,2,  34.6630,4,     89.1,2,    90.2,2,   22.10,2,   29.70,2,    0.00,2,    2.11,2,   0.430,2,   0.232,2,-999.000,5,  2213.1,2,  2301.1,2,   1135.5,2,    20.00,   7.5683,2,    25.00,   0.097,2,   0.001,   1.7970,2,    3.85,2, -999.00,9,  -999.0,9,    -9.0,   7.628,2,   0.023,   43.11,2,   33.96,2,  400.30,-999.0000,9,-999.0000,9,-999.0000,9,-999.0000,9,-999.0000,9,-999.0000,9,     -999.0,     -999.0,9,     -999.0,9,     -999.0,9,     -999.0,9,     -999.0,9,     -999.0,9, -999.00,9,   9.4508,   0.0054,    0.14
325020060213,       P16N,       7,          2,         23,         23,2,20060216,       2321,   -11.0007,  -151.0008,       5020,   450.9,   8.6137,  34.6316,2,  34.6272,4,    101.9,2,   102.2,2,   25.10,2,   30.90,2,    0.00,2,    2.12,2,   0.297,2,   0.182,2,-999.000,5,  2214.0,6,  2302.5,2,   1111.0,2,    20.00,   7.5752,2,    25.00,   0.069,2,   0.002,   1.8109,2,    4.92,2, -999.00,9,  -999.0,9,    -9.0,   7.728,2,   0.023,   41.26,2,   35.31,2,  450.90,   0.0900,2,   0.0640,2,   0.0320,2,   0.0260,2,   0.0183,2,   0.0193,2,     -999.0,     -999.0,9,     -999.0,9,     -999.0,9,     -999.0,9,     -999.0,9,     -999.0,9, -999.00,9,   8.5655,   0.0054,    0.14
325020060213,       P16N,       7,          2,         22,         22,2,20060216,       2321,   -11.0007,  -151.0008,       5020,   500.2,   7.8826,  34.5963,2,  34.5933,4,    107.7,2,   108.0,2,   28.90,2,   32.10,2,    0.00,2,    2.18,2,   0.216,2,   0.122,2,-999.000,5,  2217.0,2,  2306.2,2,   1133.5,2,    20.00,   7.5763,2,    25.00,   0.042,2,   0.002,   1.8271,2,    5.64,2, -999.00,9,  -999.0,9,    -9.0,   7.633,2,   0.023,   40.75,2,   36.67,2,  500.20,   0.0880,2,   0.0620,2,   0.0310,2,   0.0250,2,   0.0189,2,   0.0201,2,     -999.0,     -999.0,9,     -999.0,9,     -999.0,9,     -999.0,9,     -999.0,9,     -999.0,9, -999.00,9,   7.8317,   0.0055,    0.14
325020060213,       P16N,       7,          2,         21,         21,2,20060216,       2321,   -11.0007,  -151.0008,       5020,   600.7,   6.8778,  34.5532,2,  34.5455,4,    101.6,2,   104.6,2,   36.90,2,   34.80,2,    0.00,2,    2.35,2,   0.093,2,   0.055,2,-999.000,5,  2231.4,2,  2311.0,2,   1230.7,2,    20.00,   7.5462,2,    25.00,   0.042,2,   0.002,   1.8226,2,    7.44,2, -999.00,9,  -999.0,9,    -9.0,   7.820,2,   0.023,   39.81,2,   39.86,2,  600.70,   0.0900,2,   0.0630,2,   0.0310,2,   0.0250,2,   0.0191,2,   0.0204,2,     -999.0,     -999.0,9,     -999.0,9,     -999.0,9,     -999.0,9,     -999.0,9,     -999.0,9, -999.00,9,   6.8208,   0.0055,    0.14
325020060213,       P16N,       7,          2,         20,         20,2,20060216,       2321,   -11.0007,  -151.0008,       5020,   699.3,   6.0370,  34.5171,2,  34.5114,4,    116.6,2,   116.7,2,   43.00,2,   35.30,2,    0.00,2,    2.39,2,   0.061,2,   0.034,2,-999.000,5,  2236.4,2,  2316.2,2,   1204.3,6,    20.00,-999.0000,9,  -999.00,   0.029,2,   0.002,   1.8398,2,   10.06,2, -999.00,9,  -999.0,9,    -9.0,   7.779,2,   0.023,   39.28,2,   39.83,2,  699.30,   0.0930,2,   0.0660,2,   0.0340,2,   0.0260,2,   0.0179,2,   0.0190,2,     -999.0,     -999.0,9,     -999.0,9,     -999.0,9,     -999.0,9,     -999.0,9,     -999.0,9, -999.00,9,   5.9747,   0.0055,    0.14
325020060213,       P16N,       7,          2,         19,         19,2,20060216,       2321,   -11.0007,  -151.0008,       5020,   800.2,   5.4171,  34.5221,2,  34.5159,4,     99.6,2,    98.2,2,   54.30,2,   38.10,2,    0.00,2,    2.61,2,   0.013,2,   0.008,2,-999.000,5,  2260.9,2,  2327.0,2,   1358.3,2,    20.00,   7.5070,2,    25.00,   0.018,2,   0.002,   1.8597,2,   12.42,2, -999.00,9,  -999.0,9,    -9.0,   7.801,2,   0.023,   39.23,2,   42.97,2,  800.20,   0.0980,2,   0.0680,2,   0.0350,2,   0.0270,2,   0.0181,2,   0.0195,2,     -999.0,     -999.0,9,     -999.0,9,     -999.0,9,     -999.0,9,     -999.0,9,     -999.0,9, -999.00,9,   5.3490,   0.0056,    0.14
325020060213,       P16N,       7,          2,         18,         18,2,20060216,       2321,   -11.0007,  -151.0008,       5020,   899.2,   4.8641,  34.5236,2,  34.5157,4,    102.1,2,   101.9,2,   62.80,2,   38.60,2,    0.00,2,    2.65,2,   0.004,6,   0.004,6,-999.000,5,  2270.0,2,  2345.9,3,   1360.2,2,    20.00,   7.5031,2,    25.00,   0.021,2,   0.001,   1.8917,2,   13.89,2, -999.00,9,  -999.0,9,    -9.0,   7.848,2,   0.024,   38.72,2,   43.12,2,  899.20,   0.0960,2,   0.0660,2,   0.0330,2,   0.0250,2,   0.0192,2,   0.0206,2,     -999.0,     -999.0,9,     -999.0,9,     -999.0,9,     -999.0,9,     -999.0,9,     -999.0,9, -999.00,9,   4.7907,   0.0057,    0.14
325020060213,       P16N,       7,          2,         17,         17,2,20060216,       2321,   -11.0007,  -151.0008,       5020,   998.8,   4.3593,  34.5315,2,  34.5293,4,    108.0,2,   108.3,2,   71.40,2,   38.60,2,    0.00,2,    2.65,2,   0.003,2,   0.003,2,-999.000,5,  2275.2,2,  2343.7,2,   1339.5,2,    20.00,   7.5151,2,    25.00,   0.022,2,   0.002,   1.8784,2,   16.47,2, -999.00,9,  -999.0,9,    -9.0,   7.940,2,   0.024,   38.92,2,   42.86,2,  998.80,   0.0960,2,   0.0660,2,   0.0330,2,   0.0250,2,   0.0192,2,   0.0207,2,     -999.0,     -999.0,9,     -999.0,9,     -999.0,9,     -999.0,9,     -999.0,9,     -999.0,9, -999.00,9,   4.2809,   0.0056,    0.14
325020060213,       P16N,       7,          2,         16,         16,2,20060216,       2321,   -11.0007,  -151.0008,       5020,  1199.9,   3.7854,  34.5515,2,  34.5454,4,    114.7,2,   114.2,2,   83.00,6,   38.30,6,    0.00,6,    2.65,6,   0.004,2,   0.002,2,-999.000,5,  2285.6,2,  2356.5,2,   1321.3,2,    20.00,   7.5183,2,    25.00,   0.018,2,   0.001,   1.9277,2,   18.81,2, -999.00,9,  -999.0,9,    -9.0,   8.128,2,   0.024,   38.59,2,   42.35,2, 1199.90,   0.1020,2,   0.0700,2,   0.0350,2,   0.0260,2,   0.0188,2,   0.0204,2,     -999.0,     -999.0,9,     -999.0,9,     -999.0,9,     -999.0,9,     -999.0,9,     -999.0,9, -999.00,9,   3.6947,   0.0058,    0.14
325020060213,       P16N,       7,          2,         15,         15,2,20060216,       2321,   -11.0007,  -151.0008,       5020,  1399.1,   3.2056,  34.5790,2,  34.5778,4,    122.7,2,   122.7,2,   96.10,6,   37.70,6,    0.00,6,    2.64,6,-999.000,9,-999.000,9,-999.000,9,  2295.7,2,  2372.1,2,   1286.0,6,    20.00,   7.5354,2,    25.00,-999.000,9,-999.000,-999.0000,9,-999.000,9, -999.00,9,  -999.0,9,    -9.0,-999.000,9,-999.000,   38.23,2,   41.99,2, 1399.10,   0.0950,2,   0.0650,2,   0.0320,2,   0.0230,2,   0.0198,2,   0.0213,2,     -999.0,     -999.0,9,     -999.0,9,     -999.0,9,     -999.0,9,     -999.0,9,     -999.0,9, -999.00,9,   3.1039,-999.0000,-999.000
325020060213,       P16N,       7,          2,         14,         14,4,20060216,       2321,   -11.0007,  -151.0008,       5020,  1598.7,   2.7493,  34.6015,2,  36.4189,4,    131.4,2,   172.2,4,    1.70,4,    2.20,4,    0.30,4,    0.42,4,-999.000,9,-999.000,9,-999.000,9,  2086.5,4,  2402.7,3,    337.8,4,    20.00,-999.0000,9,  -999.00,-999.000,9,-999.000,-999.0000,9,-999.000,9, -999.00,9,  -999.0,9,    -9.0,-999.000,9,-999.000,   37.97,2,    6.98,2, 1598.70,-999.0000,9,-999.0000,9,-999.0000,9,-999.0000,9,-999.0000,9,-999.0000,9,     -999.0,     -999.0,9,     -999.0,9,     -999.0,9,     -999.0,9,     -999.0,9,     -999.0,9, -999.00,9,   2.6362,-999.0000,-999.000
325020060213,       P16N,       7,          2,         13,         13,2,20060216,       2321,   -11.0007,  -151.0008,       5020,  1800.0,   2.4161,  34.6226,2,  34.6189,4,    137.4,2,   137.3,2,  111.90,2,   37.00,2,    0.00,2,    2.58,2,-999.000,9,-999.000,9,-999.000,9,  2304.7,2,  2388.7,2,   1230.1,2,    20.00,   7.5567,2,    25.00,-999.000,9,-999.000,-999.0000,9,-999.000,9, -999.00,9,  -999.0,9,    -9.0,-999.000,9,-999.000,   37.66,2,   41.18,2, 1800.00,   0.0940,2,   0.0630,2,   0.0290,2,   0.0210,2,   0.0213,2,   0.0228,2,     -999.0,     -999.0,9,     -999.0,9,     -999.0,9,     -999.0,9,     -999.0,9,     -999.0,9, -999.00,9,   2.2905,-999.0000,-999.000
325020060213,       P16N,       7,          2,         12,         12,2,20060216,       2321,   -11.0007,  -151.0008,       5020,  2000.7,   2.1710,  34.6408,2,  34.6271,4,    141.6,2,   141.8,2,  117.80,2,   36.80,2,    0.00,2,    2.57,2,-999.000,9,-999.000,9,-999.000,9,  2309.1,2,  2395.8,2,   1214.9,2,    20.00,   7.5626,2,    25.00,-999.000,9,-999.000,-999.0000,9,-999.000,9, -999.00,9,  -999.0,9,    -9.0,-999.000,9,-999.000,   37.37,2,   41.19,2, 2000.70,   0.0880,2,   0.0580,2,   0.0270,2,   0.0180,2,   0.0221,2,   0.0238,2,     -999.0,     -999.0,9,     -999.0,9,     -999.0,9,     -999.0,9,     -999.0,9,     -999.0,9, -999.00,9,   2.0319,-999.0000,-999.000
325020060213,       P16N,       7,          2,         11,         11,2,20060216,       2321,   -11.0007,  -151.0008,       5020,  2248.4,   1.9837,  34.6563,2,  34.6503,4,    145.7,2,   145.6,2,  122.10,2,   36.50,2,    0.00,2,    2.54,2,-999.000,9,-999.000,9,-999.000,9,  2311.3,2,  2403.3,2,   1188.3,6,    20.00,   7.5724,2,    25.00,-999.000,9,-999.000,-999.0000,9,-999.000,9, -999.00,9,  -999.0,9,    -9.0,-999.000,9,-999.000,   36.59,2,   40.74,2, 2248.40,   0.0890,2,   0.0590,2,   0.0270,2,   0.0170,2,   0.0224,2,   0.0242,2,     -999.0,     -999.0,9,     -999.0,9,     -999.0,9,     -999.0,9,     -999.0,9,     -999.0,9, -999.00,9,   1.8261,-999.0000,-999.000
325020060213,       P16N,       7,          2,         10,         10,2,20060216,       2321,   -11.0007,  -151.0008,       5020,  2499.9,   1.8535,  34.6691,2,  34.6651,4,    145.6,2,   146.0,2,  128.30,2,   36.50,2,    0.00,2,    2.55,2,-999.000,9,-999.000,9,-999.000,9,  2317.4,2,  2411.5,2,   1156.6,2,    20.00,   7.5766,2,    25.00,-999.000,9,-999.000,-999.0000,9,-999.000,9, -999.00,9,  -999.0,9,    -9.0,-999.000,9,-999.000,   36.75,2,   40.80,2, 2499.90,-999.0000,9,-999.0000,9,-999.0000,9,-999.0000,9,-999.0000,9,-999.0000,9,     -999.0,     -999.0,9,     -999.0,9,     -999.0,9,     -999.0,9,     -999.0,9,     -999.0,9, -999.00,9,   1.6759,-999.0000,-999.000
325020060213,       P16N,       7,          2,          9,          9,2,20060216,       2321,   -11.0007,  -151.0008,       5020,  2749.6,   1.7567,  34.6772,2,  34.6737,4,    148.6,2,   149.2,2,  130.70,6,   36.10,6,    0.00,6,    2.53,6,-999.000,9,-999.000,9,-999.000,9,  2319.1,2,  2416.4,2,   1160.4,2,    20.00,   7.5841,2,    25.00,-999.000,9,-999.000,-999.0000,9,-999.000,9, -999.00,9,  -999.0,9,    -9.0,-999.000,9,-999.000,   37.47,2,   39.94,2, 2749.60,   0.0990,2,   0.0660,2,   0.0290,2,   0.0190,2,   0.0219,2,   0.0234,2,     -999.0,     -999.0,9,     -999.0,9,     -999.0,9,     -999.0,9,     -999.0,9,     -999.0,9, -999.00,9,   1.5580,-999.0000,-999.000