BOTTLE,20170720CCHSIOCBG
EXPOCODE,SECT_ID,STNNBR,CASTNO,SAMPNO,BTLNBR,BTLNBR_FLAG_W,DATE,TIME,LATITUDE,LONGITUDE,DEPTH,CTDPRS,CTDTMP,CTDSAL,CTDSAL_FLAG_W,SALNTY,SALNTY_FLAG_W,CTDOXY,CTDOXY_FLAG_W,OXYGEN,OXYGEN_FLAG_W,SILCAT,SILCAT_FLAG_W,NITRAT,NITRAT_FLAG_W,NITRIT,NITRIT_FLAG_W,PHSPHT,PHSPHT_FLAG_W,CFC-11,CFC-11_FLAG_W,CFC-12,CFC-12_FLAG_W,CFC113,CFC113_FLAG_W,TCARBN,TCARBN_FLAG_W,ALKALI,ALKALI_FLAG_W,FCO2,FCO2_FLAG_W,FCO2TMP,PH_TOT,PH_TOT_FLAG_W,PH_TMP,TRITUM,TRITUM_FLAG_W,TRITER,HELIUM,HELIUM_FLAG_W,DELHE3,DELHE3_FLAG_W,DELC13,DELC13_FLAG_W,DELC14,DELC14_FLAG_W,C14ERR,NEON,NEON_FLAG_W,NEONER,DOC,DOC_FLAG_W,TDN,TDN_FLAG_W,CTDRAW,CDOM325,CDOM325_FLAG_W,CDOM340,CDOM340_FLAG_W,CDOM380,CDOM380_FLAG_W,CDOM412,CDOM412_FLAG_W,CDOMSL,CDOMSL_FLAG_W,CDOMSN,CDOMSN_FLAG_W,DCNS,ARABI,ARABI_FLAG_W,FUCO,FUCO_FLAG_W,GALA,GALA_FLAG_W,GLUC,GLUC_FLAG_W,MAN,MAN_FLAG_W,RHAM,RHAM_FLAG_W,BRDU,BRDU_FLAG_W,THETA,HELIER,DELHER
,,,,,,,,,,,METERS,DBAR,ITS-90,PSS-78,,PSS-78,,UMOL/KG,,UMOL/KG,,UMOL/KG,,UMOL/KG,,UMOL/KG,,UMOL/KG,,PMOL/KG,,PMOL/KG,,PMOL/KG,,UMOL/KG,,UMOL/KG,,UATM,,DEG C,,,DEG C,TU,,TU,NMOL/KG,,PERCNT,,/MILLE,,/MILLE,,/MILLE,NMOL/KG,,NMOL/KG,UMOL/KG,,UMOL/KG,,DBAR,1/M,,1/M,,1/M,,1/M,,1/NM,,1/NM,,NMOL/KG,NMOL/KG,,NMOL/KG,,NMOL/KG,,NMOL/KG,,NMOL/KG,,NMOL/KG,,PMOL/L/H,,DEG C,NMOL/KG,PERCNT
325020060213,       P16N,      16,          1,         35,         35,2,20060220,       1155,         -2,       -151,       4712,     5.7,  25.9132,  35.2302,2,  35.2298,2,    207.0,2,   207.6,2,    2.30,2,    6.50,2,    0.20,2,    0.60,2,   1.790,2,   1.102,2,-999.000,5,  2044.6,6,  2317.0,2,    376.4,2,    20.00,   7.9934,2,    25.00,-999.000,9,-999.000,-999.0000,9,-999.000,9, -999.00,5,    71.7,2,     3.0,-999.000,9,-999.000,   62.39,2,   10.58,2,    5.70,-999.0000,9,-999.0000,9,-999.0000,9,-999.0000,9,-999.0000,9,-999.0000,9,     -999.0,     -999.0,9,     -999.0,9,     -999.0,9,     -999.0,9,     -999.0,9,     -999.0,9, -999.00,9,  25.9119,-999.0000,-999.000
325020060213,       P16N,      16,          1,         34,         34,2,20060220,       1155,         -2,       -151,       4712,    15.0,  25.9113,  35.2301,2,  35.2296,2,    207.2,2,   208.3,2,    2.30,2,    6.50,2,    0.20,2,    0.60,2,-999.000,9,-999.000,9,-999.000,9,  2041.4,2,  2317.2,2,    377.8,6,    20.00,   7.9910,2,    25.00,-999.000,9,-999.000,-999.0000,9,-999.000,9, -999.00,9,  -999.0,9,    -9.0,-999.000,9,-999.000,   60.34,2,   10.93,2,   15.00,-999.0000,9,-999.0000,9,-999.0000,9,-999.0000,9,-999.0000,9,-999.0000,9,     -999.0,     -999.0,9,     -999.0,9,     -999.0,9,     -999.0,9,     -999.0,9,     -999.0,9, -999.00,9,  25.9080,-999.0000,-999.000
325020060213,       P16N,      16,          1,         33,         33,2,20060220,       1155,         -2,       -151,       4712,    35.4,  25.8609,  35.2280,2,  35.2283,2,    207.8,2,   208.0,2,    2.40,2,    6.50,2,    0.20,2,    0.60,2,   1.809,2,   1.101,2,-999.000,5,  2043.9,2,  2318.0,2,    377.1,2,    20.00,   7.9929,2,    25.00,-999.000,9,-999.000,-999.0000,9,-999.000,9, -999.00,5,    70.1,2,     3.7,-999.000,9,-999.000,   59.71,2,   10.94,2,   35.40,-999.0000,9,-999.0000,9,-999.0000,9,-999.0000,9,-999.0000,9,-999.0000,9,     -999.0,     -999.0,9,     -999.0,9,     -999.0,9,     -999.0,9,     -999.0,9,     -999.0,9, -999.00,9,  25.8531,-999.0000,-999.000
325020060213,       P16N,      16,          1,         32,         32,2,20060220,       1155,         -2,       -151,       4712,    59.6,  25.5984,  35.2478,2,  35.2436,2,    207.6,2,   206.5,2,    2.60,2,    6.60,2,    0.20,2,    0.62,2,-999.000,9,-999.000,9,-999.000,9,  2047.1,2,  2320.1,2,    383.1,2,    20.00,   7.9883,2,    25.00,-999.000,9,-999.000,-999.0000,9,-999.000,9, -999.00,5,    65.2,2,     3.5,-999.000,9,-999.000,   59.24,2,   10.85,2,   59.60,-999.0000,9,-999.0000,9,-999.0000,9,-999.0000,9,-999.0000,9,-999.0000,9,     -999.0,     -999.0,9,     -999.0,9,     -999.0,9,     -999.0,9,     -999.0,9,     -999.0,9, -999.00,9,  25.5853,-999.0000,-999.000
325020060213,       P16N,      16,          1,         31,         31,2,20060220,       1155,         -2,       -151,       4712,    86.0,  25.1466,  35.2330,2,  35.2344,2,    204.2,2,   204.8,2,    2.80,2,    6.80,2,    0.20,2,    0.64,2,   1.828,2,   1.118,2,-999.000,5,  2050.6,2,  2319.3,2,    393.3,2,    20.00,   7.9746,2,    25.00,-999.000,9,-999.000,-999.0000,9,-999.000,9, -999.00,5,    60.9,2,     3.0,-999.000,9,-999.000,   56.91,2,   11.24,2,   86.00,-999.0000,9,-999.0000,9,-999.0000,9,-999.0000,9,-999.0000,9,-999.0000,9,     -999.0,     -999.0,9,     -999.0,9,     -999.0,9,     -999.0,9,     -999.0,9,     -999.0,9, -999.00,9,  25.1279,-999.0000,-999.000
325020060213,       P16N,      16,          1,         30,         30,2,20060220,       1155,         -2,       -151,       4712,   110.2,  23.7235,  35.6762,2,  35.7137,2,    168.3,2,   172.6,2,    2.20,2,    5.60,2,    1.20,2,    0.71,2,-999.000,9,-999.000,9,-999.000,9,  2088.4,2,  2352.5,2,    414.4,2,    20.00,   7.9594,2,    25.00,-999.000,9,-999.000,-999.0000,9,-999.000,9, -999.00,5,    64.8,2,     3.5,-999.000,9,-999.000,   54.96,2,   11.48,2,  110.20,-999.0000,9,-999.0000,9,-999.0000,9,-999.0000,9,-999.0000,9,-999.0000,9,     -999.0,     -999.0,9,     -999.0,9,     -999.0,9,     -999.0,9,     -999.0,9,     -999.0,9, -999.00,9,  23.7004,-999.0000,-999.000
325020060213,       P16N,      16,          1,         29,         29,2,20060220,       1155,         -2,       -151,       4712,   134.3,  18.5190,  35.4918,2,  35.4877,2,    104.0,2,   108.4,2,    5.60,2,   14.70,2,    0.20,2,    1.23,2,   1.932,6,   1.120,6,-999.000,5,  2154.7,2,  2337.7,2,    635.3,2,    20.00,   7.8030,2,    25.00,-999.000,9,-999.000,-999.0000,9,-999.000,9, -999.00,5,    67.0,2,     3.5,-999.000,9,-999.000,   51.37,2,   18.58,2,  134.30,-999.0000,9,-999.0000,9,-999.0000,9,-999.0000,9,-999.0000,9,-999.0000,9,     -999.0,     -999.0,9,     -999.0,9,     -999.0,9,     -999.0,9,     -999.0,9,     -999.0,9, -999.00,9,  18.4955,-999.0000,-999.000
325020060213,       P16N,      16,          1,         28,         28,2,20060220,       1155,         -2,       -151,       4712,   174.1,  13.0841,  34.9448,2,  34.9448,2,     21.6,2,    21.5,2,   20.30,2,   31.50,2,    0.00,2,    2.12,2,   0.979,2,   0.526,2,-999.000,5,  2228.9,4,  2302.5,6,   1294.1,2,    20.00,   7.5306,2,    25.00,-999.000,9,-999.000,-999.0000,9,-999.000,9, -999.00,5,     8.9,2,     3.4,-999.000,9,-999.000,   45.27,2,   35.31,2,  174.10,-999.0000,9,-999.0000,9,-999.0000,9,-999.0000,9,-999.0000,9,-999.0000,9,     -999.0,     -999.0,9,     -999.0,9,     -999.0,9,     -999.0,9,     -999.0,9,     -999.0,9, -999.00,9,  13.0601,-999.0000,-999.000
325020060213,       P16N,      16,          1,         27,         27,2,20060220,       1155,         -2,       -151,       4712,   225.5,  12.4230,  34.8973,2,  34.8988,2,     21.2,2,    21.6,2,   22.80,2,   31.90,2,    0.00,2,    2.17,2,   0.762,2,   0.416,2,-999.000,5,  2233.7,4,  2301.8,2,   1349.6,2,    20.00,   7.5075,2,    25.00,-999.000,9,-999.000,-999.0000,9,-999.000,9, -999.00,5,    -1.4,2,     3.4,-999.000,9,-999.000,   44.72,2,   35.74,2,  225.50,-999.0000,9,-999.0000,9,-999.0000,9,-999.0000,9,-999.0000,9,-999.0000,9,     -999.0,     -999.0,9,     -999.0,9,     -999.0,9,     -999.0,9,     -999.0,9,     -999.0,9, -999.00,9,  12.3929,-999.0000,-999.000
325020060213,       P16N,      16,          1,         26,         26,2,20060220,       1155,         -2,       -151,       4712,   276.3,  12.0159,  34.8756,2,  34.8716,2,     63.1,2,    49.4,2,   22.20,2,   29.80,2,    0.00,2,    2.03,2,   0.814,2,   0.432,2,-999.000,5,  2219.7,2,  2305.9,2,   1189.1,6,    20.00,   7.5573,2,    25.00,-999.000,9,-999.000,-999.0000,9,-999.000,9, -999.00,5,   -10.4,2,     3.4,-999.000,9,-999.000,   44.19,2,   33.53,2,  276.30,-999.0000,9,-999.0000,9,-999.0000,9,-999.0000,9,-999.0000,9,-999.0000,9,     -999.0,     -999.0,9,     -999.0,9,     -999.0,9,     -999.0,9,     -999.0,9,     -999.0,9, -999.00,9,  11.9798,-999.0000,-999.000
325020060213,       P16N,      16,          1,         25,         25,2,20060220,       1155,         -2,       -151,       4712,   324.8,  11.5734,  34.8489,2,  34.8471,2,     42.7,2,    42.4,2,   23.80,2,   30.90,2,    0.00,2,    2.13,2,   0.666,2,   0.360,2,-999.000,5,  2227.9,2,  2305.4,2,   1274.9,2,    20.00,   7.5287,2,    25.00,-999.000,9,-999.000,-999.0000,9,-999.000,9, -999.00,5,   -20.7,2,     2.7,-999.000,9,-999.000,   42.95,2,   35.06,2,  324.80,-999.0000,9,-999.0000,9,-999.0000,9,-999.0000,9,-999.0000,9,-999.0000,9,     -999.0,     -999.0,9,     -999.0,9,     -999.0,9,     -999.0,9,     -999.0,9,     -999.0,9, -999.00,9,  11.5319,-999.0000,-999.000
325020060213,       P16N,      16,          1,         24,         24,2,20060220,       1155,         -2,       -151,       4712,   375.8,  10.5460,  34.7824,2,  34.7824,2,     23.2,2,    22.6,2,   29.40,2,   34.20,2,    0.00,2,    2.40,2,   0.340,2,   0.192,2,-999.000,5,  2249.8,2,  2306.2,2,   1532.9,2,    20.00,   7.4579,2,    25.00,-999.000,9,-999.000,-999.0000,9,-999.000,9, -999.00,5,   -50.8,2,     3.2,-999.000,9,-999.000,   41.48,2,   38.54,2,  375.80,-999.0000,9,-999.0000,9,-999.0000,9,-999.0000,9,-999.0000,9,-999.0000,9,     -999.0,     -999.0,9,     -999.0,9,     -999.0,9,     -999.0,9,     -999.0,9,     -999.0,9, -999.00,9,  10.5006,-999.0000,-999.000
325020060213,       P16N,      16,          1,         23,         23,2,20060220,       1155,         -2,       -151,       4712,   425.3,   9.1807,  34.6997,2,  34.6989,2,      8.5,2,     9.1,2,   36.80,2,   38.80,2,    0.00,2,    2.67,2,   0.101,2,   0.057,2,-999.000,5,  2275.1,6,  2306.1,2,   -999.0,9,  -999.00,   7.3955,2,    25.00,-999.000,9,-999.000,-999.0000,9,-999.000,9, -999.00,5,   -88.1,2,     2.7,-999.000,9,-999.000,   40.84,2,   43.06,2,  425.30,-999.0000,9,-999.0000,9,-999.0000,9,-999.0000,9,-999.0000,9,-999.0000,9,     -999.0,     -999.0,9,     -999.0,9,     -999.0,9,     -999.0,9,     -999.0,9,     -999.0,9, -999.00,9,   9.1335,-999.0000,-999.000
325020060213,       P16N,      16,          1,         22,         22,2,20060220,       1155,         -2,       -151,       4712,   476.2,   8.3089,  34.6506,2,  34.6487,2,     17.3,2,    18.1,2,   40.10,2,   40.30,2,    0.00,2,    2.72,2,   0.139,3,   0.033,3,-999.000,5,  2271.4,2,  2307.9,2,   1775.8,2,    20.00,   7.3956,2,    25.00,-999.000,9,-999.000,-999.0000,9,-999.000,9, -999.00,5,   -99.9,2,     3.0,-999.000,9,-999.000,   40.33,2,   44.86,2,  476.20,-999.0000,9,-999.0000,9,-999.0000,9,-999.0000,9,-999.0000,9,-999.0000,9,     -999.0,     -999.0,9,     -999.0,9,     -999.0,9,     -999.0,9,     -999.0,9,     -999.0,9, -999.00,9,   8.2590,-999.0000,-999.000
325020060213,       P16N,      16,          1,         21,         21,2,20060220,       1155,         -2,       -151,       4712,   551.6,   7.0478,  34.5801,2,  34.5802,2,     69.9,2,    71.1,2,   43.20,2,   37.80,2,    0.00,2,    2.55,2,   0.101,6,   0.054,6,-999.000,5,  2250.9,3,  2314.2,2,   1436.0,2,    20.00,   7.4812,2,    25.00,-999.000,9,-999.000,-999.0000,9,-999.000,9, -999.00,5,  -111.8,2,     3.0,-999.000,9,-999.000,   40.07,2,   41.74,2,  551.60,-999.0000,9,-999.0000,9,-999.0000,9,-999.0000,9,-999.0000,9,-999.0000,9,     -999.0,     -999.0,9,     -999.0,9,     -999.0,9,     -999.0,9,     -999.0,9,     -999.0,9, -999.00,9,   6.9950,-999.0000,-999.000
325020060213,       P16N,      16,          1,         20,         20,2,20060220,       1155,         -2,       -151,       4712,   650.3,   6.3682,  34.5520,2,  34.5545,2,     89.9,2,    90.4,2,   48.60,2,   37.10,2,    0.00,2,    2.52,2,   0.109,2,   0.053,2,-999.000,5,  2249.8,3,  2322.5,2,   1353.0,2,    20.00,   7.5099,2,    25.00,-999.000,9,-999.000,-999.0000,9,-999.000,9, -999.00,5,  -111.5,2,     3.4,-999.000,9,-999.000,   39.99,2,   41.33,2,  650.30,-999.0000,9,-999.0000,9,-999.0000,9,-999.0000,9,-999.0000,9,-999.0000,9,     -999.0,     -999.0,9,     -999.0,9,     -999.0,9,     -999.0,9,     -999.0,9,     -999.0,9, -999.00,9,   6.3089,-999.0000,-999.000
325020060213,       P16N,      16,          1,         19,         19,2,20060220,       1155,         -2,       -151,       4712,   749.6,   5.6411,  34.5489,2,  34.5494,2,     81.8,2,    80.6,2,   61.90,2,   39.10,2,    0.00,2,    2.68,2,   0.030,2,   0.015,2,-999.000,5,  2270.4,2,  2335.5,2,   -999.0,9,  -999.00,   7.4781,2,    25.00,-999.000,9,-999.000,-999.0000,9,-999.000,9, -999.00,5,  -142.6,2,     2.3,-999.000,9,-999.000,   39.57,2,   42.96,2,  749.60,-999.0000,9,-999.0000,9,-999.0000,9,-999.0000,9,-999.0000,9,-999.0000,9,     -999.0,     -999.0,9,     -999.0,9,     -999.0,9,     -999.0,9,     -999.0,9,     -999.0,9, -999.00,9,   5.5763,-999.0000,-999.000
325020060213,       P16N,      16,          1,         18,         18,2,20060220,       1155,         -2,       -151,       4712,   849.7,   5.1860,  34.5478,2,  34.5482,2,     86.2,2,    84.4,2,   69.50,2,   39.30,2,    0.00,2,    2.70,2,-999.000,9,-999.000,9,-999.000,9,  2280.4,2,  2344.8,2,   1450.5,2,    20.00,   7.4851,2,    25.00,-999.000,9,-999.000,-999.0000,9,-999.000,9, -999.00,9,  -999.0,9,    -9.0,-999.000,9,-999.000,   38.65,2,   43.56,2,  849.70,-999.0000,9,-999.0000,9,-999.0000,9,-999.0000,9,-999.0000,9,-999.0000,9,     -999.0,     -999.0,9,     -999.0,9,     -999.0,9,     -999.0,9,     -999.0,9,     -999.0,9, -999.00,9,   5.1148,-999.0000,-999.000
325020060213,       P16N,      16,          1,         17,         17,2,20060220,       1155,         -2,       -151,       4712,   949.7,   4.9701,  34.5528,2,  34.5535,2,     80.1,2,    80.6,2,   74.70,2,   40.00,2,    0.00,2,    2.76,2,   0.005,2,   0.005,2,-999.000,5,  2287.3,2,  2347.2,6,   1494.9,2,    20.00,   7.4824,2,    25.00,-999.000,9,-999.000,-999.0000,9,-999.000,9, -999.00,9,  -999.0,9,    -9.0,-999.000,9,-999.000,   38.39,2,   43.96,2,  949.70,-999.0000,9,-999.0000,9,-999.0000,9,-999.0000,9,-999.0000,9,-999.0000,9,     -999.0,     -999.0,9,     -999.0,9,     -999.0,9,     -999.0,9,     -999.0,9,     -999.0,9, -999.00,9,   4.8915,-999.0000,-999.000
325020060213,       P16N,      16,          1,         16,         16,2,20060220,       1155,         -2,       -151,       4712,  1100.4,   4.2311,  34.5620,2,  34.5608,2,     89.7,2,    89.5,2,   86.80,2,   39.80,2,    0.00,2,    2.77,2,-999.000,9,-999.000,9,-999.000,9,  2298.0,2,  2360.7,2,   -999.0,9,  -999.00,   7.4784,2,    25.00,-999.000,9,-999.000,-999.0000,9,-999.000,9, -999.00,9,  -999.0,9,    -9.0,-999.000,9,-999.000,   38.34,2,   43.67,2, 1100.40,-999.0000,9,-999.0000,9,-999.0000,9,-999.0000,9,-999.0000,9,-999.0000,9,     -999.0,     -999.0,9,     -999.0,9,     -999.0,9,     -999.0,9,     -999.0,9,     -999.0,9, -999.00,9,   4.1450,-999.0000,-999.000
325020060213,       P16N,      16,          1,         15,         15,2,20060220,       1155,         -2,       -151,       4712,  1300.2,   3.4161,  34.5884,2,  34.5867,2,     95.6,2,    95.7,2,  105.60,2,   39.80,2,    0.00,2,    2.79,2,   0.005,2,   0.002,2,-999.000,5,  2313.5,2,  2381.1,2,   1436.5,2,    20.00,   7.4951,2,    25.00,-999.000,9,-999.000,-999.0000,9,-999.000,9, -999.00,9,  -999.0,9,    -9.0,-999.000,9,-999.000,   36.92,2,   43.96,2, 1300.20,-999.0000,9,-999.0000,9,-999.0000,9,-999.0000,9,-999.0000,9,-999.0000,9,     -999.0,     -999.0,9,     -999.0,9,     -999.0,9,     -999.0,9,     -999.0,9,     -999.0,9, -999.00,9,   3.3205,-999.0000,-999.000
325020060213,       P16N,      16,          1,         14,         14,2,20060220,       1155,         -2,       -151,       4712,  1500.0,   2.9366,  34.6076,2,  34.6084,2,    103.5,2,   103.2,2,  116.40,2,   39.50,2,    0.00,2,    2.76,2,-999.000,9,-999.000,9,-999.000,9,  2320.9,2,  2396.1,2,   1397.4,2,    20.00,   7.5040,2,    25.00,-999.000,9,-999.000,-999.0000,9,-999.000,9, -999.00,9,  -999.0,9,    -9.0,-999.000,9,-999.000,   37.06,2,   43.12,2, 1500.00,-999.0000,9,-999.0000,9,-999.0000,9,-999.0000,9,-999.0000,9,-999.0000,9,     -999.0,     -999.0,9,     -999.0,9,     -999.0,9,     -999.0,9,     -999.0,9,     -999.0,9, -999.00,9,   2.8294,-999.0000,-999.000
325020060213,       P16N,      16,          1,         13,         13,2,20060220,       1155,         -2,       -151,       4712,  1699.6,   2.6644,  34.6215,2,  34.6200,2,    106.3,2,   106.1,2,  123.50,2,   39.30,2,    0.00,2,    2.75,2,   0.000,2,  -0.001,2,-999.000,5,  2327.7,2,  2405.4,2,   -999.0,9,  -999.00,   7.5085,2,    25.00,-999.000,9,-999.000,-999.0000,9,-999.000,9, -999.00,9,  -999.0,9,    -9.0,-999.000,9,-999.000,   37.14,2,   42.91,2, 1699.60,-999.0000,9,-999.0000,9,-999.0000,9,-999.0000,9,-999.0000,9,-999.0000,9,     -999.0,     -999.0,9,     -999.0,9,     -999.0,9,     -999.0,9,     -999.0,9,     -999.0,9, -999.00,9,   2.5438,-999.0000,-999.000
325020060213,       P16N,      16,          1,         12,         12,2,20060220,       1155,         -2,       -151,       4712,  1900.0,   2.3984,  34.6395,2,  34.6377,2,    104.5,2,   104.6,2,  133.90,2,   39.50,2,    0.00,2,    2.78,2,   0.000,2,  -0.001,2,-999.000,5,  2338.0,2,  2422.7,3,   1393.0,2,    20.00,   7.5083,2,    25.00,-999.000,9,-999.000,-999.0000,9,-999.000,9, -999.00,9,  -999.0,9,    -9.0,-999.000,9,-999.000,   37.75,2,   43.01,2, 1900.00,-999.0000,9,-999.0000,9,-999.0000,9,-999.0000,9,-999.0000,9,-999.0000,9,     -999.0,     -999.0,9,     -999.0,9,     -999.0,9,     -999.0,9,     -999.0,9,     -999.0,9, -999.00,9,   2.2645,-999.0000,-999.000
325020060213,       P16N,      16,          1,         11,         11,2,20060220,       1155,         -2,       -151,       4712,  2124.8,   2.1201,  34.6540,2,  34.6534,2,    111.5,2,   111.9,2,  140.20,2,   39.20,2,    0.00,2,    2.74,2,  -0.001,2,   0.000,2,-999.000,5,  2339.3,2,  2419.6,2,   -999.0,9,  -999.00,   7.5229,2,    25.00,-999.000,9,-999.000,-999.0000,9,-999.000,9, -999.00,9,  -999.0,9,    -9.0,-999.000,9,-999.000,   37.97,2,   43.03,2, 2124.80,-999.0000,9,-999.0000,9,-999.0000,9,-999.0000,9,-999.0000,9,-999.0000,9,     -999.0,     -999.0,9,     -999.0,9,     -999.0,9,     -999.0,9,     -999.0,9,     -999.0,9, -999.00,9,   1.9710,-999.0000,-999.000
325020060213,       P16N,      16,          1,         10,         10,2,20060220,       1155,         -2,       -151,       4712,  2375.1,   1.9790,  34.6609,2,  34.6636,2,    117.7,2,   117.9,2,  142.60,2,   38.70,2,    0.00,2,    2.71,2,-999.000,9,-999.000,9,-999.000,9,  2339.5,2,  2421.3,2,   1316.7,2,    20.00,   7.5318,2,    25.00,-999.000,9,-999.000,-999.0000,9,-999.000,9, -999.00,9,  -999.0,9,    -9.0,-999.000,9,-999.000,   36.87,2,   42.77,2, 2375.10,-999.0000,9,-999.0000,9,-999.0000,9,-999.0000,9,-999.0000,9,-999.0000,9,     -999.0,     -999.0,9,     -999.0,9,     -999.0,9,     -999.0,9,     -999.0,9,     -999.0,9, -999.00,9,   1.8103,-999.0000,-999.000
325020060213,       P16N,      16,          1,          9,          9,2,20060220,       1155,         -2,       -151,       4712,  2625.1,   1.8617,  34.6672,2,  34.6658,2,    126.2,2,   126.7,2,  141.90,2,   38.10,2,    0.00,2,    2.65,2,-999.000,9,-999.000,9,-999.000,9,  2333.6,2,  2420.4,2,   1275.7,2,    20.00,   7.5431,2,    25.00,-999.000,9,-999.000,-999.0000,9,-999.000,9, -999.00,9,  -999.0,9,    -9.0,-999.000,9,-999.000,   36.86,2,   42.01,2, 2625.10,-999.0000,9,-999.0000,9,-999.0000,9,-999.0000,9,-999.0000,9,-999.0000,9,     -999.0,     -999.0,9,     -999.0,9,     -999.0,9,     -999.0,9,     -999.0,9,     -999.0,9, -999.00,9,   1.6725,-999.0000,-999.000