BOTTLE,20170720CCHSIOCBG
EXPOCODE,SECT_ID,STNNBR,CASTNO,SAMPNO,BTLNBR,BTLNBR_FLAG_W,DATE,TIME,LATITUDE,LONGITUDE,DEPTH,CTDPRS,CTDTMP,CTDSAL,CTDSAL_FLAG_W,SALNTY,SALNTY_FLAG_W,CTDOXY,CTDOXY_FLAG_W,OXYGEN,OXYGEN_FLAG_W,SILCAT,SILCAT_FLAG_W,NITRAT,NITRAT_FLAG_W,NITRIT,NITRIT_FLAG_W,PHSPHT,PHSPHT_FLAG_W,CFC-11,CFC-11_FLAG_W,CFC-12,CFC-12_FLAG_W,CFC113,CFC113_FLAG_W,TCARBN,TCARBN_FLAG_W,ALKALI,ALKALI_FLAG_W,FCO2,FCO2_FLAG_W,FCO2TMP,PH_TOT,PH_TOT_FLAG_W,PH_TMP,TRITUM,TRITUM_FLAG_W,TRITER,HELIUM,HELIUM_FLAG_W,DELHE3,DELHE3_FLAG_W,DELC13,DELC13_FLAG_W,DELC14,DELC14_FLAG_W,C14ERR,NEON,NEON_FLAG_W,NEONER,DOC,DOC_FLAG_W,TDN,TDN_FLAG_W,CTDRAW,CDOM325,CDOM325_FLAG_W,CDOM340,CDOM340_FLAG_W,CDOM380,CDOM380_FLAG_W,CDOM412,CDOM412_FLAG_W,CDOMSL,CDOMSL_FLAG_W,CDOMSN,CDOMSN_FLAG_W,DCNS,ARABI,ARABI_FLAG_W,FUCO,FUCO_FLAG_W,GALA,GALA_FLAG_W,GLUC,GLUC_FLAG_W,MAN,MAN_FLAG_W,RHAM,RHAM_FLAG_W,BRDU,BRDU_FLAG_W,THETA,HELIER,DELHER
,,,,,,,,,,,METERS,DBAR,ITS-90,PSS-78,,PSS-78,,UMOL/KG,,UMOL/KG,,UMOL/KG,,UMOL/KG,,UMOL/KG,,UMOL/KG,,PMOL/KG,,PMOL/KG,,PMOL/KG,,UMOL/KG,,UMOL/KG,,UATM,,DEG C,,,DEG C,TU,,TU,NMOL/KG,,PERCNT,,/MILLE,,/MILLE,,/MILLE,NMOL/KG,,NMOL/KG,UMOL/KG,,UMOL/KG,,DBAR,1/M,,1/M,,1/M,,1/M,,1/NM,,1/NM,,NMOL/KG,NMOL/KG,,NMOL/KG,,NMOL/KG,,NMOL/KG,,NMOL/KG,,NMOL/KG,,PMOL/L/H,,DEG C,NMOL/KG,PERCNT
325020060213,       P16N,      68,          1,          9,          9,2,20060324,       1938,         47,  -152.0002,       5073,  2874.2,   1.6239,  34.6509,2,  34.6510,2,     99.7,2,    98.7,2,  169.30,2,   39.60,2,    0.00,2,    2.79,3,-999.000,9,-999.000,9,-999.000,9,  2363.1,2,  2427.9,2,   1523.6,2,    20.00,   7.4778,2,    25.00,-999.000,9,-999.000,-999.0000,9,-999.000,9, -999.00,5,  -238.0,2,     2.4,-999.000,9,-999.000,   37.12,2,   43.86,2, 2874.20,   0.1360,2,   0.0930,2,   0.0490,2,   0.0350,2,   0.0145,3,   0.0171,3,     -999.0,     -999.0,9,     -999.0,9,     -999.0,9,     -999.0,9,     -999.0,9,     -999.0,9, -999.00,9,   1.4164,-999.0000,-999.000
325020060213,       P16N,      68,          1,          8,          8,2,20060324,       1938,         47,  -152.0002,       5073,  3123.6,   1.5619,  34.6619,2,  34.6610,2,    112.5,2,   112.1,2,  167.70,2,   38.50,2,    0.00,2,    2.72,3,-999.000,9,-999.000,9,-999.000,9,  2354.4,2,  2430.0,2,   1432.5,6,    20.00,   7.5052,6,    25.00,-999.000,9,-999.000,-999.0000,9,-999.000,9, -999.00,5,  -238.5,2,     2.6,-999.000,9,-999.000,   36.89,2,   42.86,2, 3123.60,   0.1400,2,   0.0970,2,   0.0520,2,   0.0390,2,   0.0133,3,   0.0158,3,     -999.0,     -999.0,9,     -999.0,9,     -999.0,9,     -999.0,9,     -999.0,9,     -999.0,9, -999.00,9,   1.3319,-999.0000,-999.000
325020060213,       P16N,      68,          1,          7,          7,2,20060324,       1938,         47,  -152.0002,       5073,  3448.7,   1.5135,  34.6726,2,  34.6735,2,    126.5,2,   125.6,2,  164.00,2,   37.60,2,    0.00,2,    2.66,3,   0.001,2,   0.000,2,-999.000,5,  2345.7,2,  2424.4,6,   1328.4,2,    20.00,   7.5295,3,    25.00,-999.000,9,-999.000,-999.0000,9,-999.000,9, -999.00,5,  -237.4,2,     2.3,-999.000,9,-999.000,   36.72,2,   41.13,2, 3448.70,   0.1310,3,   0.0880,3,   0.0460,3,   0.0340,3,   0.0143,4,   0.0172,4,     -999.0,     -999.0,9,     -999.0,9,     -999.0,9,     -999.0,9,     -999.0,9,     -999.0,9, -999.00,9,   1.2523,-999.0000,-999.000
325020060213,       P16N,      68,          1,          6,          6,2,20060324,       1938,         47,  -152.0002,       5073,  3850.1,   1.4915,  34.6810,2,  34.6834,3,    136.7,2,   135.5,2,  163.70,2,   36.80,2,    0.00,2,    2.61,3,-999.000,9,-999.000,9,-999.000,9,  2339.8,2,  2426.0,2,   1250.1,2,    20.00,   7.5522,2,    25.00,-999.000,9,-999.000,-999.0000,9,-999.000,9, -999.00,5,  -231.5,2,     2.6,-999.000,9,-999.000,   37.20,2,   39.92,2, 3850.10,   0.1290,2,   0.0870,2,   0.0450,2,   0.0340,2,   0.0142,3,   0.0170,3,     -999.0,     -999.0,9,     -999.0,9,     -999.0,9,     -999.0,9,     -999.0,9,     -999.0,9, -999.00,9,   1.1890,-999.0000,-999.000
325020060213,       P16N,      68,          1,          5,          5,2,20060324,       1938,         47,  -152.0002,       5073,  4199.1,   1.5001,  34.6852,2,  34.6848,2,    140.8,2,   140.1,2,  164.80,2,   36.60,2,    0.00,2,    2.59,3,  -0.004,2,   0.003,2,-999.000,5,  2338.5,2,  2428.1,2,   1239.5,6,    20.00,   7.5636,2,    25.00,-999.000,9,-999.000,-999.0000,9,-999.000,9, -999.00,5,  -221.4,2,     2.7,-999.000,9,-999.000,   37.11,2,   39.81,2, 4199.10,   0.1270,2,   0.0850,2,   0.0430,2,   0.0320,2,   0.0150,3,   0.0179,3,     -999.0,     -999.0,9,     -999.0,9,     -999.0,9,     -999.0,9,     -999.0,9,     -999.0,9, -999.00,9,   1.1592,-999.0000,-999.000
325020060213,       P16N,      68,          1,          4,          4,2,20060324,       1938,         47,  -152.0002,       5073,  4498.3,   1.5228,  34.6873,2,  34.6893,2,    142.6,2,   141.7,2,  167.20,6,   36.50,6,    0.00,2,    2.59,3,   0.005,2,   0.000,2,-999.000,5,  2339.1,2,  2434.9,2,   1229.1,2,    20.00,   7.5691,2,    25.00,-999.000,9,-999.000,-999.0000,9,-999.000,9, -999.00,5,  -221.7,2,     2.2,-999.000,9,-999.000,   36.50,2,   40.40,2, 4498.30,   0.1290,2,   0.0860,2,   0.0440,2,   0.0330,2,   0.0147,3,   0.0177,3,     -999.0,     -999.0,9,     -999.0,9,     -999.0,9,     -999.0,9,     -999.0,9,     -999.0,9, -999.00,9,   1.1473,-999.0000,-999.000
325020060213,       P16N,      68,          1,          3,          3,2,20060324,       1938,         47,  -152.0002,       5073,  4799.7,   1.5485,  34.6886,2,  34.6869,2,    143.3,2,   143.4,2,  167.20,6,   36.30,6,    0.00,2,    2.57,3,-999.000,9,-999.000,9,-999.000,9,  2337.1,2,  2435.8,2,   1219.0,2,    20.00,   7.5733,2,    25.00,-999.000,9,-999.000,-999.0000,9,-999.000,9, -999.00,5,  -226.7,2,     2.6,-999.000,9,-999.000,   37.27,2,   39.53,2, 4799.70,   0.1290,2,   0.0870,2,   0.0440,2,   0.0330,2,   0.0145,3,   0.0175,3,     -999.0,     -999.0,9,     -999.0,9,     -999.0,9,     -999.0,9,     -999.0,9,     -999.0,9, -999.00,9,   1.1368,-999.0000,-999.000
325020060213,       P16N,      68,          1,          2,          2,2,20060324,       1938,         47,  -152.0002,       5073,  5001.4,   1.5681,  34.6891,2,  34.6912,2,    144.4,2,   144.2,2,  167.40,6,   36.40,6,    0.00,2,    2.57,3,-999.000,9,-999.000,9,-999.000,9,  2336.4,2,  2431.8,2,   1203.8,2,    20.00,   7.5734,2,    25.00,-999.000,9,-999.000,-999.0000,9,-999.000,9, -999.00,5,  -218.2,2,     2.7,-999.000,9,-999.000,   37.41,2,   40.12,2, 5001.40,   0.1320,2,   0.0890,2,   0.0450,2,   0.0340,2,   0.0139,3,   0.0171,3,     -999.0,     -999.0,9,     -999.0,9,     -999.0,9,     -999.0,9,     -999.0,9,     -999.0,9, -999.00,9,   1.1313,-999.0000,-999.000
325020060213,       P16N,      68,          1,          1,          1,2,20060324,       1938,         47,  -152.0002,       5073,  5216.7,   1.5915,  34.6894,2,  34.6926,3,    144.5,2,   144.7,2,  167.20,6,   36.20,6,    0.00,2,    2.57,3,   0.004,2,   0.002,2,-999.000,5,  2335.7,6,  -999.0,5,   1204.8,2,    20.00,   7.5735,2,    25.00,-999.000,9,-999.000,-999.0000,9,-999.000,9, -999.00,5,  -216.8,2,     2.3,-999.000,9,-999.000,   37.47,2,   41.93,2, 5216.70,   0.1340,2,   0.0900,2,   0.0460,2,   0.0350,2,   0.0137,3,   0.0169,3,     -999.0,     -999.0,9,     -999.0,9,     -999.0,9,     -999.0,9,     -999.0,9,     -999.0,9, -999.00,9,   1.1275,-999.0000,-999.000