BOTTLE,20170720CCHSIOCBG
EXPOCODE,SECT_ID,STNNBR,CASTNO,SAMPNO,BTLNBR,BTLNBR_FLAG_W,DATE,TIME,LATITUDE,LONGITUDE,DEPTH,CTDPRS,CTDTMP,CTDSAL,CTDSAL_FLAG_W,SALNTY,SALNTY_FLAG_W,CTDOXY,CTDOXY_FLAG_W,OXYGEN,OXYGEN_FLAG_W,SILCAT,SILCAT_FLAG_W,NITRAT,NITRAT_FLAG_W,NITRIT,NITRIT_FLAG_W,PHSPHT,PHSPHT_FLAG_W,CFC-11,CFC-11_FLAG_W,CFC-12,CFC-12_FLAG_W,CFC113,CFC113_FLAG_W,TCARBN,TCARBN_FLAG_W,ALKALI,ALKALI_FLAG_W,FCO2,FCO2_FLAG_W,FCO2TMP,PH_TOT,PH_TOT_FLAG_W,PH_TMP,TRITUM,TRITUM_FLAG_W,TRITER,HELIUM,HELIUM_FLAG_W,DELHE3,DELHE3_FLAG_W,DELC13,DELC13_FLAG_W,DELC14,DELC14_FLAG_W,C14ERR,NEON,NEON_FLAG_W,NEONER,DOC,DOC_FLAG_W,TDN,TDN_FLAG_W,CTDRAW,CDOM325,CDOM325_FLAG_W,CDOM340,CDOM340_FLAG_W,CDOM380,CDOM380_FLAG_W,CDOM412,CDOM412_FLAG_W,CDOMSL,CDOMSL_FLAG_W,CDOMSN,CDOMSN_FLAG_W,DCNS,ARABI,ARABI_FLAG_W,FUCO,FUCO_FLAG_W,GALA,GALA_FLAG_W,GLUC,GLUC_FLAG_W,MAN,MAN_FLAG_W,RHAM,RHAM_FLAG_W,BRDU,BRDU_FLAG_W,THETA,HELIER,DELHER
,,,,,,,,,,,METERS,DBAR,ITS-90,PSS-78,,PSS-78,,UMOL/KG,,UMOL/KG,,UMOL/KG,,UMOL/KG,,UMOL/KG,,UMOL/KG,,PMOL/KG,,PMOL/KG,,PMOL/KG,,UMOL/KG,,UMOL/KG,,UATM,,DEG C,,,DEG C,TU,,TU,NMOL/KG,,PERCNT,,/MILLE,,/MILLE,,/MILLE,NMOL/KG,,NMOL/KG,UMOL/KG,,UMOL/KG,,DBAR,1/M,,1/M,,1/M,,1/M,,1/NM,,1/NM,,NMOL/KG,NMOL/KG,,NMOL/KG,,NMOL/KG,,NMOL/KG,,NMOL/KG,,NMOL/KG,,PMOL/L/H,,DEG C,NMOL/KG,PERCNT
325020060213,       P16N,      34,          2,          8,          8,2,20060227,       0114,     12.003,  -151.9985,       5438,  2874.5,   1.7320,  34.6741,2,  34.6656,4,    119.1,2,   112.0,4,  152.40,2,   38.60,2,    0.00,2,    2.64,2,   0.006,2,   0.000,2,-999.000,5,  2360.5,3,  2431.2,2,   1370.4,3,    20.00,   7.5155,2,    25.00,-999.000,9,-999.000,-999.0000,9,-999.000,9, -999.00,9,  -999.0,9,    -9.0,-999.000,9,-999.000,   38.46,2,   42.63,2, 2874.50,-999.0000,9,-999.0000,9,-999.0000,9,-999.0000,9,-999.0000,9,-999.0000,9,     -999.0,     -999.0,9,     -999.0,9,     -999.0,9,     -999.0,9,     -999.0,9,     -999.0,9, -999.00,9,   1.5222,-999.0000,-999.000
325020060213,       P16N,      34,          2,          7,          7,2,20060227,       0114,     12.003,  -151.9985,       5438,  3124.7,   1.6582,  34.6788,2,  34.6784,2,    124.8,2,   124.2,2,  155.30,2,   37.90,2,    0.00,2,    2.55,2,-999.000,9,-999.000,9,-999.000,9,  2355.3,2,  2433.9,2,   1290.2,6,    20.00,   7.5478,2,    25.00,-999.000,9,-999.000,-999.0000,9,-999.000,9, -999.00,9,  -999.0,9,    -9.0,-999.000,9,-999.000,   38.38,2,   41.72,2, 3124.70,   0.1200,2,   0.0800,2,   0.0350,2,   0.0170,2,   0.0221,2,   0.0238,2,     -999.0,     -999.0,9,     -999.0,9,     -999.0,9,     -999.0,9,     -999.0,9,     -999.0,9, -999.00,9,   1.4258,-999.0000,-999.000
325020060213,       P16N,      34,          2,          6,          6,2,20060227,       0114,     12.003,  -151.9985,       5438,  3449.2,   1.5753,  34.6833,2,  34.6821,2,    131.7,2,   132.2,2,  156.70,2,   37.40,2,    0.00,2,    2.52,2,-999.000,9,-999.000,9,-999.000,9,  2350.3,2,  2434.2,6,   1254.2,2,    20.00,   7.5527,2,    25.00,-999.000,9,-999.000,-999.0000,9,-999.000,9, -999.00,9,  -999.0,9,    -9.0,-999.000,9,-999.000,   38.72,2,   40.87,2, 3449.20,-999.0000,9,-999.0000,9,-999.0000,9,-999.0000,9,-999.0000,9,-999.0000,9,     -999.0,     -999.0,9,     -999.0,9,     -999.0,9,     -999.0,9,     -999.0,9,     -999.0,9, -999.00,9,   1.3125,-999.0000,-999.000
325020060213,       P16N,      34,          2,          5,          5,2,20060227,       0114,     12.003,  -151.9985,       5438,  3849.0,   1.4701,  34.6907,2,  34.6888,2,    148.4,2,   148.1,2,  149.10,6,   36.30,6,    0.00,6,    2.46,6,-999.000,9,-999.000,9,-999.000,9,  2335.9,2,  2428.8,2,   1175.9,2,    20.00,   7.5697,2,    25.00,-999.000,9,-999.000,-999.0000,9,-999.000,9, -999.00,9,  -999.0,9,    -9.0,-999.000,9,-999.000,   37.74,2,   39.53,2, 3849.00,   0.1060,2,   0.0690,2,   0.0270,2,   0.0100,3,   0.0259,2,   0.0273,2,     -999.0,     -999.0,9,     -999.0,9,     -999.0,9,     -999.0,9,     -999.0,9,     -999.0,9, -999.00,9,   1.1683,-999.0000,-999.000
325020060213,       P16N,      34,          2,          4,          4,2,20060227,       0114,     12.003,  -151.9985,       5438,  4299.3,   1.3890,  34.6977,2,  34.6965,2,    165.0,2,   164.8,2,  139.20,6,   35.10,6,    0.00,6,    2.37,6,-999.000,9,-999.000,9,-999.000,9,  2317.4,2,  2415.9,2,   1119.6,2,    20.00,   7.5955,2,    25.00,-999.000,9,-999.000,-999.0000,9,-999.000,9, -999.00,9,  -999.0,9,    -9.0,-999.000,9,-999.000,   37.73,2,   38.52,2, 4299.30,-999.0000,9,-999.0000,9,-999.0000,9,-999.0000,9,-999.0000,9,-999.0000,9,     -999.0,     -999.0,9,     -999.0,9,     -999.0,9,     -999.0,9,     -999.0,9,     -999.0,9, -999.00,9,   1.0402,-999.0000,-999.000
325020060213,       P16N,      34,          2,          3,          3,2,20060227,       0114,     12.003,  -151.9985,       5438,  4797.1,   1.3668,  34.7020,2,  34.7040,2,    175.7,2,   175.2,2,  132.80,6,   34.40,6,    0.00,6,    2.31,6,-999.000,9,-999.000,9,-999.000,9,  2304.7,2,  2405.6,2,   1088.5,2,    20.00,   7.6028,2,    25.00,-999.000,9,-999.000,-999.0000,9,-999.000,9, -999.00,9,  -999.0,9,    -9.0,-999.000,9,-999.000,   39.46,2,   38.42,2, 4797.10,-999.0000,9,-999.0000,9,-999.0000,9,-999.0000,9,-999.0000,9,-999.0000,9,     -999.0,     -999.0,9,     -999.0,9,     -999.0,9,     -999.0,9,     -999.0,9,     -999.0,9, -999.00,9,   0.9612,-999.0000,-999.000
325020060213,       P16N,      34,          2,          1,          1,2,20060227,       0114,     12.003,  -151.9985,       5438,  5379.6,   1.4302,  34.7023,2,  34.7014,2,    177.4,2,   176.5,2,  131.60,6,   34.30,6,    0.00,6,    2.30,6,   0.002,2,   0.000,2,-999.000,5,  2300.7,6,  2403.7,2,   1084.7,2,    20.00,   7.6049,2,    25.00,-999.000,9,-999.000,-999.0000,9,-999.000,9, -999.00,9,  -999.0,9,    -9.0,-999.000,9,-999.000,   40.20,2,   37.71,2, 5379.60,-999.0000,9,-999.0000,9,-999.0000,9,-999.0000,9,-999.0000,9,-999.0000,9,     -999.0,     -999.0,9,     -999.0,9,     -999.0,9,     -999.0,9,     -999.0,9,     -999.0,9, -999.00,9,   0.9513,-999.0000,-999.000