BOTTLE,20170720CCHSIOCBG
EXPOCODE,SECT_ID,STNNBR,CASTNO,SAMPNO,BTLNBR,BTLNBR_FLAG_W,DATE,TIME,LATITUDE,LONGITUDE,DEPTH,CTDPRS,CTDTMP,CTDSAL,CTDSAL_FLAG_W,SALNTY,SALNTY_FLAG_W,CTDOXY,CTDOXY_FLAG_W,OXYGEN,OXYGEN_FLAG_W,SILCAT,SILCAT_FLAG_W,NITRAT,NITRAT_FLAG_W,NITRIT,NITRIT_FLAG_W,PHSPHT,PHSPHT_FLAG_W,CFC-11,CFC-11_FLAG_W,CFC-12,CFC-12_FLAG_W,CFC113,CFC113_FLAG_W,TCARBN,TCARBN_FLAG_W,ALKALI,ALKALI_FLAG_W,FCO2,FCO2_FLAG_W,FCO2TMP,PH_TOT,PH_TOT_FLAG_W,PH_TMP,TRITUM,TRITUM_FLAG_W,TRITER,HELIUM,HELIUM_FLAG_W,DELHE3,DELHE3_FLAG_W,DELC13,DELC13_FLAG_W,DELC14,DELC14_FLAG_W,C14ERR,NEON,NEON_FLAG_W,NEONER,DOC,DOC_FLAG_W,TDN,TDN_FLAG_W,CTDRAW,CDOM325,CDOM325_FLAG_W,CDOM340,CDOM340_FLAG_W,CDOM380,CDOM380_FLAG_W,CDOM412,CDOM412_FLAG_W,CDOMSL,CDOMSL_FLAG_W,CDOMSN,CDOMSN_FLAG_W,DCNS,ARABI,ARABI_FLAG_W,FUCO,FUCO_FLAG_W,GALA,GALA_FLAG_W,GLUC,GLUC_FLAG_W,MAN,MAN_FLAG_W,RHAM,RHAM_FLAG_W,BRDU,BRDU_FLAG_W,THETA,HELIER,DELHER
,,,,,,,,,,,METERS,DBAR,ITS-90,PSS-78,,PSS-78,,UMOL/KG,,UMOL/KG,,UMOL/KG,,UMOL/KG,,UMOL/KG,,UMOL/KG,,PMOL/KG,,PMOL/KG,,PMOL/KG,,UMOL/KG,,UMOL/KG,,UATM,,DEG C,,,DEG C,TU,,TU,NMOL/KG,,PERCNT,,/MILLE,,/MILLE,,/MILLE,NMOL/KG,,NMOL/KG,UMOL/KG,,UMOL/KG,,DBAR,1/M,,1/M,,1/M,,1/M,,1/NM,,1/NM,,NMOL/KG,NMOL/KG,,NMOL/KG,,NMOL/KG,,NMOL/KG,,NMOL/KG,,NMOL/KG,,PMOL/L/H,,DEG C,NMOL/KG,PERCNT
325020060213,       P16N,      40,          1,          8,          8,2,20060301,       1646,    18.0003,  -152.0003,       5079,  3001.4,   1.6408,  34.6708,2,  34.6715,2,    122.1,2,   123.4,2,  156.60,2,   38.00,2,    0.00,2,    2.63,2,-999.000,9,-999.000,9,-999.000,9,  2348.7,2,  2430.7,2,   1311.0,6,    20.00,   7.5360,2,    25.00,-999.000,9,-999.000,-999.0000,9,-999.000,9, -999.00,9,  -999.0,9,    -9.0,-999.000,9,-999.000,   37.50,2,   41.69,2, 3001.40,-999.0000,9,-999.0000,9,-999.0000,9,-999.0000,9,-999.0000,9,-999.0000,9,     -999.0,     -999.0,9,     -999.0,9,     -999.0,9,     -999.0,9,     -999.0,9,     -999.0,9, -999.00,9,   1.4208,-999.0000,-999.000
325020060213,       P16N,      40,          1,          7,          7,2,20060301,       1646,    18.0003,  -152.0003,       5079,  3252.4,   1.5553,  34.6776,2,  34.6770,2,    129.9,2,   130.4,2,  157.20,2,   37.50,2,    0.00,2,    2.60,2,-999.000,9,-999.000,9,-999.000,9,  2340.1,3,  2431.4,2,   1275.5,2,    20.00,   7.5501,2,    25.00,-999.000,9,-999.000,-999.0000,9,-999.000,9, -999.00,9,  -999.0,9,    -9.0,-999.000,9,-999.000,   38.36,2,   41.53,2, 3252.40,   0.1150,2,   0.0770,2,   0.0340,2,   0.0170,2,   0.0223,2,   0.0241,2,     -999.0,     -999.0,9,     -999.0,9,     -999.0,9,     -999.0,9,     -999.0,9,     -999.0,9, -999.00,9,   1.3128,-999.0000,-999.000
325020060213,       P16N,      40,          1,          6,          6,2,20060301,       1646,    18.0003,  -152.0003,       5079,  3650.2,   1.4955,  34.6833,2,  34.6837,2,    139.4,2,   139.8,2,  155.30,2,   36.90,2,    0.00,2,    2.55,2,-999.000,1,-999.000,1,-999.000,9,  2352.3,3,  2428.8,6,   1228.4,2,    20.00,   7.5623,2,    25.00,-999.000,9,-999.000,-999.0000,9,-999.000,9, -999.00,9,  -999.0,9,    -9.0,-999.000,9,-999.000,   37.72,2,   40.76,2, 3650.20,-999.0000,9,-999.0000,9,-999.0000,9,-999.0000,9,-999.0000,9,-999.0000,9,     -999.0,     -999.0,9,     -999.0,9,     -999.0,9,     -999.0,9,     -999.0,9,     -999.0,9, -999.00,9,   1.2140,-999.0000,-999.000
325020060213,       P16N,      40,          1,          5,          5,2,20060301,       1646,    18.0003,  -152.0003,       5079,  4049.5,   1.4588,  34.6888,2,  34.6889,2,    149.5,2,   149.3,2,  150.70,6,   36.10,6,    0.00,6,    2.50,6,-999.000,9,-999.000,9,-999.000,9,  2332.6,3,  2427.3,2,   1187.3,6,    20.00,   7.5721,2,    25.00,-999.000,9,-999.000,-999.0000,9,-999.000,9, -999.00,9,  -999.0,9,    -9.0,-999.000,9,-999.000,   37.54,2,   39.90,2, 4049.50,   0.1100,2,   0.0720,2,   0.0310,2,   0.0150,2,   0.0238,2,   0.0255,2,     -999.0,     -999.0,9,     -999.0,9,     -999.0,9,     -999.0,9,     -999.0,9,     -999.0,9, -999.00,9,   1.1356,-999.0000,-999.000
325020060213,       P16N,      40,          1,          4,          4,2,20060301,       1646,    18.0003,  -152.0003,       5079,  4549.0,   1.4540,  34.6937,2,  34.6947,2,    159.4,2,   159.5,2,  143.90,6,   35.40,6,    0.00,6,    2.44,6,-999.000,1,-999.000,1,-999.000,9,  2315.0,2,  2421.9,2,   1146.6,2,    20.00,   7.5890,2,    25.00,-999.000,9,-999.000,-999.0000,9,-999.000,9, -999.00,9,  -999.0,9,    -9.0,-999.000,9,-999.000,   37.54,2,   38.90,2, 4549.00,-999.0000,9,-999.0000,9,-999.0000,9,-999.0000,9,-999.0000,9,-999.0000,9,     -999.0,     -999.0,9,     -999.0,9,     -999.0,9,     -999.0,9,     -999.0,9,     -999.0,9, -999.00,9,   1.0748,-999.0000,-999.000
325020060213,       P16N,      40,          1,          3,          3,2,20060301,       1646,    18.0003,  -152.0003,       5079,  5051.4,   1.4412,  34.6986,2,  34.6971,2,    170.2,2,   169.2,2,  136.50,6,   34.70,6,    0.00,6,    2.38,6,-999.000,1,-999.000,1,-999.000,9,  2306.1,2,  2413.7,2,   1109.0,2,    20.00,   7.5946,2,    25.00,-999.000,9,-999.000,-999.0000,9,-999.000,9, -999.00,9,  -999.0,9,    -9.0,-999.000,9,-999.000,   38.85,2,   37.98,2, 5051.40,   0.1120,2,   0.0730,2,   0.0310,2,   0.0140,2,   0.0236,2,   0.0255,2,     -999.0,     -999.0,9,     -999.0,9,     -999.0,9,     -999.0,9,     -999.0,9,     -999.0,9, -999.00,9,   1.0026,-999.0000,-999.000
325020060213,       P16N,      40,          1,          1,          1,2,20060301,       1646,    18.0003,  -152.0003,       5079,  5205.2,   1.4469,  34.6992,2,  34.6991,2,    172.5,2,   171.3,2,  135.50,6,   34.40,6,    0.00,6,    2.35,6,-999.000,1,-999.000,1,-999.000,9,  2307.4,2,  2412.4,2,   1100.4,2,    20.00,   7.5998,2,    25.00,-999.000,9,-999.000,-999.0000,9,-999.000,9, -999.00,9,  -999.0,9,    -9.0,-999.000,9,-999.000,   39.15,2,   37.83,2, 5205.20,-999.0000,9,-999.0000,9,-999.0000,9,-999.0000,9,-999.0000,9,-999.0000,9,     -999.0,     -999.0,9,     -999.0,9,     -999.0,9,     -999.0,9,     -999.0,9,     -999.0,9, -999.00,9,   0.9893,-999.0000,-999.000