BOTTLE,20170720CCHSIOCBG
EXPOCODE,SECT_ID,STNNBR,CASTNO,SAMPNO,BTLNBR,BTLNBR_FLAG_W,DATE,TIME,LATITUDE,LONGITUDE,DEPTH,CTDPRS,CTDTMP,CTDSAL,CTDSAL_FLAG_W,SALNTY,SALNTY_FLAG_W,CTDOXY,CTDOXY_FLAG_W,OXYGEN,OXYGEN_FLAG_W,SILCAT,SILCAT_FLAG_W,NITRAT,NITRAT_FLAG_W,NITRIT,NITRIT_FLAG_W,PHSPHT,PHSPHT_FLAG_W,CFC-11,CFC-11_FLAG_W,CFC-12,CFC-12_FLAG_W,CFC113,CFC113_FLAG_W,TCARBN,TCARBN_FLAG_W,ALKALI,ALKALI_FLAG_W,FCO2,FCO2_FLAG_W,FCO2TMP,PH_TOT,PH_TOT_FLAG_W,PH_TMP,TRITUM,TRITUM_FLAG_W,TRITER,HELIUM,HELIUM_FLAG_W,DELHE3,DELHE3_FLAG_W,DELC13,DELC13_FLAG_W,DELC14,DELC14_FLAG_W,C14ERR,NEON,NEON_FLAG_W,NEONER,DOC,DOC_FLAG_W,TDN,TDN_FLAG_W,CTDRAW,CDOM325,CDOM325_FLAG_W,CDOM340,CDOM340_FLAG_W,CDOM380,CDOM380_FLAG_W,CDOM412,CDOM412_FLAG_W,CDOMSL,CDOMSL_FLAG_W,CDOMSN,CDOMSN_FLAG_W,DCNS,ARABI,ARABI_FLAG_W,FUCO,FUCO_FLAG_W,GALA,GALA_FLAG_W,GLUC,GLUC_FLAG_W,MAN,MAN_FLAG_W,RHAM,RHAM_FLAG_W,BRDU,BRDU_FLAG_W,THETA,HELIER,DELHER
,,,,,,,,,,,METERS,DBAR,ITS-90,PSS-78,,PSS-78,,UMOL/KG,,UMOL/KG,,UMOL/KG,,UMOL/KG,,UMOL/KG,,UMOL/KG,,PMOL/KG,,PMOL/KG,,PMOL/KG,,UMOL/KG,,UMOL/KG,,UATM,,DEG C,,,DEG C,TU,,TU,NMOL/KG,,PERCNT,,/MILLE,,/MILLE,,/MILLE,NMOL/KG,,NMOL/KG,UMOL/KG,,UMOL/KG,,DBAR,1/M,,1/M,,1/M,,1/M,,1/NM,,1/NM,,NMOL/KG,NMOL/KG,,NMOL/KG,,NMOL/KG,,NMOL/KG,,NMOL/KG,,NMOL/KG,,PMOL/L/H,,DEG C,NMOL/KG,PERCNT
325020060213,       P16N,       4,          1,         35,         35,2,20060215,       1800,   -14.0002,       -151,       4286,     5.4,  29.2607,  36.1234,2,  36.1197,4,    193.2,2,   194.1,2,    0.10,2,    0.10,2,    0.00,2,    0.18,2,   1.503,2,   0.963,2,-999.000,5,  2010.1,6,  2370.4,2,    253.1,2,    20.00,   8.1359,2,    25.00,-999.000,9,-999.000,-999.0000,9,-999.000,9, -999.00,9,  -999.0,9,    -9.0,-999.000,9,-999.000,   73.46,2,    4.79,2,    5.40,-999.0000,9,-999.0000,9,-999.0000,9,-999.0000,9,-999.0000,9,-999.0000,9,     -999.0,     -999.0,9,     -999.0,9,     -999.0,9,     -999.0,9,     -999.0,9,     -999.0,9,    0.10,2,  29.2594,-999.0000,-999.000
325020060213,       P16N,       4,          1,         34,         34,2,20060215,       1800,   -14.0002,       -151,       4286,    15.2,  29.2449,  36.1247,2,  36.1128,4,    194.0,2,   193.8,2,    0.10,2,    0.10,2,    0.00,2,    0.18,2,   1.525,2,   0.957,2,-999.000,5,  2010.0,2,  2376.9,2,    253.2,2,    20.00,   8.1326,2,    25.00,-999.000,9,-999.000,-999.0000,9,-999.000,9, -999.00,9,  -999.0,9,    -9.0,-999.000,9,-999.000,   72.89,2,    4.40,2,   15.20,   0.0350,2,   0.0180,2,   0.0000,4,   0.0010,3,   0.0417,2,   0.0416,2,     -999.0,     -999.0,9,     -999.0,9,     -999.0,9,     -999.0,9,     -999.0,9,     -999.0,9,    0.15,2,  29.2412,-999.0000,-999.000
325020060213,       P16N,       4,          1,         33,         33,2,20060215,       1800,   -14.0002,       -151,       4286,    35.0,  29.1145,  36.1207,2,  36.1185,4,    194.9,2,   194.8,2,    0.10,2,    0.10,2,    0.00,2,    0.18,2,-999.000,9,-999.000,9,-999.000,9,  2009.5,2,  2375.9,2,    253.2,2,    20.00,-999.0000,9,  -999.00,-999.000,9,-999.000,-999.0000,9,-999.000,9, -999.00,9,  -999.0,9,    -9.0,-999.000,9,-999.000,   72.70,2,    4.60,2,   35.00,-999.0000,9,-999.0000,9,-999.0000,9,-999.0000,9,-999.0000,9,-999.0000,9,     -999.0,     -999.0,9,     -999.0,9,     -999.0,9,     -999.0,9,     -999.0,9,     -999.0,9,    0.28,2,  29.1060,-999.0000,-999.000
325020060213,       P16N,       4,          1,         32,         32,2,20060215,       1800,   -14.0002,       -151,       4286,    60.0,  28.9182,  36.1572,2,  36.1545,4,    196.5,2,   196.9,2,    0.20,2,    0.10,2,    0.00,2,    0.17,2,   1.558,2,   0.969,2,-999.000,5,  2011.7,2,  2378.0,2,   -999.0,9,  -999.00,   8.1325,2,    25.00,-999.000,9,-999.000,-999.0000,9,-999.000,9, -999.00,9,  -999.0,9,    -9.0,-999.000,9,-999.000,   72.36,2,    4.80,2,   60.00,-999.0000,9,-999.0000,9,-999.0000,9,-999.0000,9,-999.0000,9,-999.0000,9,     -999.0,     -999.0,9,     -999.0,9,     -999.0,9,     -999.0,9,     -999.0,9,     -999.0,9,    0.27,2,  28.9037,-999.0000,-999.000
325020060213,       P16N,       4,          1,         31,         31,2,20060215,       1800,   -14.0002,       -151,       4286,    85.5,  28.4782,  36.2020,2,  36.2087,4,    200.8,2,   200.8,2,    0.20,2,    0.10,2,    0.00,2,    0.18,2,-999.000,9,-999.000,9,-999.000,9,  2016.2,2,  2382.5,2,    257.1,2,    20.00,   8.1314,2,    25.00,-999.000,9,-999.000,-999.0000,9,-999.000,9, -999.00,9,  -999.0,9,    -9.0,-999.000,9,-999.000,   70.52,2,    4.41,2,   85.50,-999.0000,9,-999.0000,9,-999.0000,9,-999.0000,9,-999.0000,9,-999.0000,9,     -999.0,     -999.0,9,     -999.0,9,     -999.0,9,     -999.0,9,     -999.0,9,     -999.0,9,    0.05,2,  28.4577,-999.0000,-999.000
325020060213,       P16N,       4,          1,         30,         30,2,20060215,       1800,   -14.0002,       -151,       4286,   109.9,  27.7229,  36.2649,2,  36.2671,4,    200.2,2,   200.1,2,    0.20,2,    0.10,2,    0.00,2,    0.19,2,   1.604,2,   1.023,2,-999.000,5,  2024.4,2,  2387.6,2,    263.7,6,    20.00,   8.1248,2,    25.00,-999.000,9,-999.000,-999.0000,9,-999.000,9, -999.00,9,  -999.0,9,    -9.0,-999.000,9,-999.000,   68.23,2,    4.37,2,  109.90,-999.0000,9,-999.0000,9,-999.0000,9,-999.0000,9,-999.0000,9,-999.0000,9,     -999.0,     -999.0,9,     -999.0,9,     -999.0,9,     -999.0,9,     -999.0,9,     -999.0,9,    0.05,2,  27.6971,-999.0000,-999.000
325020060213,       P16N,       4,          1,         29,         29,2,20060215,       1800,   -14.0002,       -151,       4286,   135.3,  26.3068,  36.3480,2,  36.3463,4,    192.1,2,   191.6,2,    0.20,2,    0.10,2,    0.00,2,    0.23,2,   1.736,2,   1.072,2,-999.000,5,  2051.9,2,  2392.4,2,    292.7,2,    20.00,   8.0874,2,    25.00,-999.000,9,-999.000,-999.0000,9,-999.000,9, -999.00,9,  -999.0,9,    -9.0,-999.000,9,-999.000,   63.01,2,    4.36,2,  135.30,-999.0000,9,-999.0000,9,-999.0000,9,-999.0000,9,-999.0000,9,-999.0000,9,     -999.0,     -999.0,9,     -999.0,9,     -999.0,9,     -999.0,9,     -999.0,9,     -999.0,9,    0.17,2,  26.2762,-999.0000,-999.000
325020060213,       P16N,       4,          1,         28,         28,2,20060215,       1800,   -14.0002,       -151,       4286,   175.0,  24.2971,  36.3097,2,  36.2964,4,    177.3,2,   177.2,2,    0.40,2,    1.30,2,    0.30,2,    0.36,2,   1.867,2,   1.157,2,-999.000,5,  2083.0,2,  2375.6,6,   -999.0,9,  -999.00,   8.0346,2,    25.00,-999.000,9,-999.000,-999.0000,9,-999.000,9, -999.00,9,  -999.0,9,    -9.0,-999.000,9,-999.000,   60.08,2,    6.03,2,  175.00,-999.0000,9,-999.0000,9,-999.0000,9,-999.0000,9,-999.0000,9,-999.0000,9,     -999.0,     -999.0,9,     -999.0,9,     -999.0,9,     -999.0,9,     -999.0,9,     -999.0,9,    0.02,2,  24.2597,-999.0000,-999.000
325020060213,       P16N,       4,          1,         27,         27,2,20060215,       1800,   -14.0002,       -151,       4286,   223.4,  21.5971,  35.9872,2,  35.9437,4,    169.8,2,   169.8,2,    0.60,2,    4.30,2,    0.00,2,    0.51,2,   2.116,2,   1.260,2,-999.000,5,  2102.9,2,  2363.6,2,    412.7,2,    20.00,   7.9621,2,    25.00,-999.000,9,-999.000,-999.0000,9,-999.000,9, -999.00,9,  -999.0,9,    -9.0,-999.000,9,-999.000,   53.15,2,    8.03,2,  223.40,   0.1040,2,   0.0710,2,   0.0260,2,   0.0180,2,   0.0253,2,   0.0255,2,     -999.0,     -999.0,9,     -999.0,9,     -999.0,9,     -999.0,9,     -999.0,9,     -999.0,9, -999.00,9,  21.5532,-999.0000,-999.000
325020060213,       P16N,       4,          1,         26,         26,2,20060215,       1800,   -14.0002,       -151,       4286,   223.5,  21.5041,  35.9616,2,  35.9380,4,    169.9,2,   169.8,2,    0.70,2,    4.30,2,    0.00,2,    0.52,2,   2.110,2,   1.267,2,-999.000,5,  2102.0,2,  2352.4,2,    412.1,2,    20.00,   7.9666,2,    25.00,-999.000,9,-999.000,-999.0000,9,-999.000,9, -999.00,9,  -999.0,9,    -9.0,-999.000,9,-999.000,   51.75,2,    8.93,2,  223.50,-999.0000,9,-999.0000,9,-999.0000,9,-999.0000,9,-999.0000,9,-999.0000,9,     -999.0,     -999.0,9,     -999.0,9,     -999.0,9,     -999.0,9,     -999.0,9,     -999.0,9, -999.00,9,  21.4603,-999.0000,-999.000
325020060213,       P16N,       4,          1,         25,         25,2,20060215,       1800,   -14.0002,       -151,       4286,   275.3,  18.4322,  35.4941,2,  35.4717,4,    163.8,2,   163.7,2,    1.70,2,    7.10,2,    0.00,2,    0.70,2,   2.267,6,   1.299,6,-999.000,5,  2113.3,2,  2341.6,2,    488.6,2,    20.00,   7.9010,2,    25.00,-999.000,9,-999.000,-999.0000,9,-999.000,9, -999.00,9,  -999.0,9,    -9.0,-999.000,9,-999.000,   48.67,2,   11.15,2,  275.30,-999.0000,9,-999.0000,9,-999.0000,9,-999.0000,9,-999.0000,9,-999.0000,9,     -999.0,     -999.0,9,     -999.0,9,     -999.0,9,     -999.0,9,     -999.0,9,     -999.0,9, -999.00,9,  18.3839,-999.0000,-999.000
325020060213,       P16N,       4,          1,         24,         24,2,20060215,       1800,   -14.0002,       -151,       4286,   326.2,  15.3176,  35.1006,2,  35.0911,4,    148.3,2,   148.5,2,    4.50,2,   12.00,2,    0.00,2,    1.03,2,   2.100,2,   1.165,2,-999.000,5,  2131.2,2,  2315.2,2,    600.9,2,    20.00,   7.8191,2,    25.00,-999.000,9,-999.000,-999.0000,9,-999.000,9, -999.00,9,  -999.0,9,    -9.0,-999.000,9,-999.000,   47.24,2,   16.58,2,  326.20,-999.0000,9,-999.0000,9,-999.0000,9,-999.0000,9,-999.0000,9,-999.0000,9,     -999.0,     -999.0,9,     -999.0,9,     -999.0,9,     -999.0,9,     -999.0,9,     -999.0,9, -999.00,9,  15.2672,-999.0000,-999.000
325020060213,       P16N,       4,          1,         23,         23,2,20060215,       1800,   -14.0002,       -151,       4286,   374.6,  12.6583,  34.8267,2,  34.8155,4,    134.1,2,   131.8,2,    8.90,2,   18.00,2,    0.00,2,    1.41,2,   1.680,2,   0.887,2,-999.000,5,  2157.0,2,  2300.1,2,    763.3,2,    20.00,   7.7280,2,    25.00,-999.000,9,-999.000,-999.0000,9,-999.000,9, -999.00,9,  -999.0,9,    -9.0,-999.000,9,-999.000,   46.36,2,   21.70,2,  374.60,   0.1150,2,   0.0770,2,   0.0340,2,   0.0250,2,   0.0217,2,   0.0229,2,     -999.0,     -999.0,9,     -999.0,9,     -999.0,9,     -999.0,9,     -999.0,9,     -999.0,9, -999.00,9,  12.6074,-999.0000,-999.000
325020060213,       P16N,       4,          1,         22,         22,2,20060215,       1800,   -14.0002,       -151,       4286,   425.5,  10.2503,  34.6354,2,  34.6162,4,    119.6,2,   117.0,2,   15.90,2,   25.10,2,    0.00,2,    1.84,2,   1.006,2,   0.536,2,-999.000,5,  2188.7,6,  2294.7,2,    971.2,2,    20.00,-999.0000,9,  -999.00,-999.000,9,-999.000,-999.0000,9,-999.000,9, -999.00,9,  -999.0,9,    -9.0,-999.000,9,-999.000,   44.58,2,   29.82,2,  425.50,-999.0000,9,-999.0000,9,-999.0000,9,-999.0000,9,-999.0000,9,-999.0000,9,     -999.0,     -999.0,9,     -999.0,9,     -999.0,9,     -999.0,9,     -999.0,9,     -999.0,9, -999.00,9,  10.1998,-999.0000,-999.000
325020060213,       P16N,       4,          1,         21,         21,2,20060215,       1800,   -14.0002,       -151,       4286,   476.2,   8.5512,  34.5493,2,  34.5437,4,    122.6,2,   122.5,2,   21.30,2,   28.60,2,    0.00,2,    2.00,2,   0.592,2,   0.314,2,-999.000,5,  2200.0,2,  2296.4,2,   1042.8,2,    20.00,-999.0000,9,  -999.00,-999.000,9,-999.000,-999.0000,9,-999.000,9, -999.00,9,  -999.0,9,    -9.0,-999.000,9,-999.000,   44.02,2,   33.16,2,  476.20,   0.1080,2,   0.0740,2,   0.0350,2,   0.0250,2,   0.0199,2,   0.0210,2,     -999.0,     -999.0,9,     -999.0,9,     -999.0,9,     -999.0,9,     -999.0,9,     -999.0,9, -999.00,9,   8.5005,-999.0000,-999.000
325020060213,       P16N,       4,          1,         20,         20,2,20060215,       1800,   -14.0002,       -151,       4286,   650.5,   6.2419,  34.4680,2,  34.4638,4,    150.8,2,   151.5,2,   32.00,2,   31.40,2,    0.00,2,    2.12,2,   0.206,2,   0.117,2,-999.000,5,  2210.0,2,  2304.7,2,   -999.0,9,  -999.00,   7.6055,2,    25.00,-999.000,9,-999.000,-999.0000,9,-999.000,9, -999.00,9,  -999.0,9,    -9.0,-999.000,9,-999.000,   42.58,2,   35.72,2,  650.50,-999.0000,9,-999.0000,9,-999.0000,9,-999.0000,9,-999.0000,9,-999.0000,9,     -999.0,     -999.0,9,     -999.0,9,     -999.0,9,     -999.0,9,     -999.0,9,     -999.0,9, -999.00,9,   6.1832,-999.0000,-999.000
325020060213,       P16N,       4,          1,         19,         19,2,20060215,       1800,   -14.0002,       -151,       4286,   749.8,   5.2671,  34.4658,2,  34.4605,4,    147.5,2,   147.3,2,   44.90,2,   33.50,2,    0.00,2,    2.27,2,   0.076,2,   0.046,2,-999.000,5,  2227.8,2,  2316.7,2,   1101.8,6,    20.00,   7.5863,2,    25.00,-999.000,9,-999.000,-999.0000,9,-999.000,9, -999.00,9,  -999.0,9,    -9.0,-999.000,9,-999.000,   41.07,2,   37.71,2,  749.80,   0.0860,2,   0.0550,2,   0.0230,2,   0.0150,2,   0.0253,2,   0.0271,2,     -999.0,     -999.0,9,     -999.0,9,     -999.0,9,     -999.0,9,     -999.0,9,     -999.0,9, -999.00,9,   5.2045,-999.0000,-999.000
325020060213,       P16N,       4,          1,         18,         18,2,20060215,       1800,   -14.0002,       -151,       4286,   851.2,   4.6987,  34.4889,2,  34.4848,4,    139.8,2,   139.7,2,   56.70,2,   35.00,2,    0.00,2,    2.39,2,   0.042,2,   0.019,2,-999.000,5,  2243.8,2,  2329.0,2,   1166.2,2,    20.00,   7.5686,2,    25.00,-999.000,9,-999.000,-999.0000,9,-999.000,9, -999.00,9,  -999.0,9,    -9.0,-999.000,9,-999.000,   40.16,2,   39.62,2,  851.20,   0.0910,2,   0.0590,2,   0.0250,2,   0.0170,2,   0.0240,2,   0.0258,2,     -999.0,     -999.0,9,     -999.0,9,     -999.0,9,     -999.0,9,     -999.0,9,     -999.0,9, -999.00,9,   4.6307,-999.0000,-999.000
325020060213,       P16N,       4,          1,         17,         17,2,20060215,       1800,   -14.0002,       -151,       4286,   950.1,   4.3052,  34.5070,2,  34.5031,4,    135.4,2,   135.3,2,   65.60,2,   35.80,2,    0.00,2,    2.45,2,   0.019,2,   0.011,2,-999.000,5,  2255.3,2,  2338.2,2,   -999.0,9,  -999.00,   7.5582,2,    25.00,-999.000,9,-999.000,-999.0000,9,-999.000,9, -999.00,9,  -999.0,9,    -9.0,-999.000,9,-999.000,   39.54,2,   40.19,2,  950.10,-999.0000,9,-999.0000,9,-999.0000,9,-999.0000,9,-999.0000,9,-999.0000,9,     -999.0,     -999.0,9,     -999.0,9,     -999.0,9,     -999.0,9,     -999.0,9,     -999.0,9, -999.00,9,   4.2315,-999.0000,-999.000
325020060213,       P16N,       4,          1,         16,         16,2,20060215,       1800,   -14.0002,       -151,       4286,  1099.7,   3.8276,  34.5343,2,  34.5239,4,    130.3,2,   130.3,2,   77.40,2,   36.80,2,    0.00,2,    2.53,2,   0.010,3,   0.005,2,-999.000,5,  2273.0,2,  2347.3,2,   1237.9,2,    20.00,   7.5502,2,    25.00,-999.000,9,-999.000,-999.0000,9,-999.000,9, -999.00,9,  -999.0,9,    -9.0,-999.000,9,-999.000,   38.80,2,   40.07,2, 1099.70,-999.0000,9,-999.0000,9,-999.0000,9,-999.0000,9,-999.0000,9,-999.0000,9,     -999.0,     -999.0,9,     -999.0,9,     -999.0,9,     -999.0,9,     -999.0,9,     -999.0,9, -999.00,9,   3.7450,-999.0000,-999.000
325020060213,       P16N,       4,          1,         15,         15,2,20060215,       1800,   -14.0002,       -151,       4286,  1300.0,   3.3137,  34.5603,2,  34.5478,4,    133.9,2,   133.9,2,   87.90,2,   36.80,2,    0.00,2,    2.55,2,   0.001,6,   0.002,6,-999.000,5,  2280.1,2,  2367.4,2,   1232.5,2,    20.00,   7.5510,2,    25.00,-999.000,9,-999.000,-999.0000,9,-999.000,9, -999.00,9,  -999.0,9,    -9.0,-999.000,9,-999.000,   37.91,2,   40.66,2, 1300.00,   0.1200,2,   0.0830,2,   0.0410,2,   0.0300,2,   0.0168,2,   0.0188,2,     -999.0,     -999.0,9,     -999.0,9,     -999.0,9,     -999.0,9,     -999.0,9,     -999.0,9, -999.00,9,   3.2191,-999.0000,-999.000
325020060213,       P16N,       4,          1,         14,         14,2,20060215,       1800,   -14.0002,       -151,       4286,  1501.5,   2.9335,  34.5820,2,  34.5769,4,    138.7,2,   139.0,2,   95.60,2,   36.50,2,    0.00,2,    2.54,2,-999.000,9,-999.000,9,-999.000,9,  2285.7,2,  2370.9,2,   -999.0,9,  -999.00,   7.5579,2,    25.00,-999.000,9,-999.000,-999.0000,9,-999.000,9, -999.00,9,  -999.0,9,    -9.0,-999.000,9,-999.000,   36.84,2,   39.85,2, 1501.50,   0.0990,2,   0.0640,2,   0.0290,2,   0.0190,2,   0.0227,2,   0.0246,2,     -999.0,     -999.0,9,     -999.0,9,     -999.0,9,     -999.0,9,     -999.0,9,     -999.0,9, -999.00,9,   2.8262,-999.0000,-999.000
325020060213,       P16N,       4,          1,         13,         13,2,20060215,       1800,   -14.0002,       -151,       4286,  1700.5,   2.6375,  34.6017,2,  34.5926,4,    142.2,2,   142.0,2,  102.50,2,   36.40,2,    0.00,2,    2.54,2,-999.000,9,-999.000,9,-999.000,9,  2291.8,2,  2378.2,2,   1201.8,2,    20.00,   7.5617,2,    25.00,-999.000,9,-999.000,-999.0000,9,-999.000,9, -999.00,9,  -999.0,9,    -9.0,-999.000,9,-999.000,   37.23,2,   40.36,2, 1700.50,   0.0930,2,   0.0590,2,   0.0240,2,   0.0140,2,   0.0250,2,   0.0269,2,     -999.0,     -999.0,9,     -999.0,9,     -999.0,9,     -999.0,9,     -999.0,9,     -999.0,9, -999.00,9,   2.5173,-999.0000,-999.000
325020060213,       P16N,       4,          1,         12,         12,2,20060215,       1800,   -14.0002,       -151,       4286,  1900.4,   2.3856,  34.6204,2,  34.6018,4,    145.7,2,   145.3,2,  108.70,2,   36.30,2,    0.00,2,    2.52,2,-999.000,9,-999.000,9,-999.000,9,  2295.4,2,  2385.4,2,   1178.9,2,    20.00,   7.5675,2,    25.00,-999.000,9,-999.000,-999.0000,9,-999.000,9, -999.00,9,  -999.0,9,    -9.0,-999.000,9,-999.000,   37.62,2,   40.50,2, 1900.40,   0.0930,2,   0.0590,2,   0.0240,2,   0.0140,2,   0.0253,2,   0.0270,2,     -999.0,     -999.0,9,     -999.0,9,     -999.0,9,     -999.0,9,     -999.0,9,     -999.0,9, -999.00,9,   2.2519,-999.0000,-999.000
325020060213,       P16N,       4,          1,         11,         11,2,20060215,       1800,   -14.0002,       -151,       4286,  2100.3,   2.1715,  34.6376,2,  34.6266,4,    148.3,2,   147.8,2,  114.50,2,   36.10,2,    0.00,2,    2.52,2,   0.001,2,   0.000,2,-999.000,5,  2301.3,2,  2391.0,2,   -999.0,9,  -999.00,   7.5722,2,    25.00,-999.000,9,-999.000,-999.0000,9,-999.000,9, -999.00,9,  -999.0,9,    -9.0,-999.000,9,-999.000,   37.92,2,   39.65,2, 2100.30,   0.0990,2,   0.0650,2,   0.0270,2,   0.0170,2,   0.0238,2,   0.0253,2,     -999.0,     -999.0,9,     -999.0,9,     -999.0,9,     -999.0,9,     -999.0,9,     -999.0,9, -999.00,9,   2.0238,-999.0000,-999.000
325020060213,       P16N,       4,          1,         10,         10,2,20060215,       1800,   -14.0002,       -151,       4286,  2300.2,   2.0294,  34.6511,2,  34.6280,4,    148.8,2,   148.5,2,  119.50,2,   36.10,2,    0.00,2,    2.52,2,-999.000,9,-999.000,9,-999.000,9,  2305.6,2,  2397.9,2,   1176.4,6,    20.00,   7.5747,2,    25.00,-999.000,9,-999.000,-999.0000,9,-999.000,9, -999.00,9,  -999.0,9,    -9.0,-999.000,9,-999.000,   36.89,2,   39.92,2, 2300.20,-999.0000,9,-999.0000,9,-999.0000,9,-999.0000,9,-999.0000,9,-999.0000,9,     -999.0,     -999.0,9,     -999.0,9,     -999.0,9,     -999.0,9,     -999.0,9,     -999.0,9, -999.00,9,   1.8665,-999.0000,-999.000
325020060213,       P16N,       4,          1,          9,          9,2,20060215,       1800,   -14.0002,       -151,       4286,  2500.4,   1.9414,  34.6609,2,  34.6468,4,    148.8,2,   148.4,2,  123.30,2,   36.30,2,    0.00,2,    2.52,2,-999.000,9,-999.000,9,-999.000,9,  2309.3,2,  2401.9,2,   1169.0,2,    20.00,   7.5742,2,    25.00,-999.000,9,-999.000,-999.0000,9,-999.000,9, -999.00,9,  -999.0,9,    -9.0,-999.000,9,-999.000,   36.74,2,   40.14,2, 2500.40,   0.1100,2,   0.0740,2,   0.0320,2,   0.0190,2,   0.0223,2,   0.0233,2,     -999.0,     -999.0,9,     -999.0,9,     -999.0,9,     -999.0,9,     -999.0,9,     -999.0,9, -999.00,9,   1.7622,-999.0000,-999.000