BOTTLE,20170720CCHSIOCBG
EXPOCODE,SECT_ID,STNNBR,CASTNO,SAMPNO,BTLNBR,BTLNBR_FLAG_W,DATE,TIME,LATITUDE,LONGITUDE,DEPTH,CTDPRS,CTDTMP,CTDSAL,CTDSAL_FLAG_W,SALNTY,SALNTY_FLAG_W,CTDOXY,CTDOXY_FLAG_W,OXYGEN,OXYGEN_FLAG_W,SILCAT,SILCAT_FLAG_W,NITRAT,NITRAT_FLAG_W,NITRIT,NITRIT_FLAG_W,PHSPHT,PHSPHT_FLAG_W,CFC-11,CFC-11_FLAG_W,CFC-12,CFC-12_FLAG_W,CFC113,CFC113_FLAG_W,TCARBN,TCARBN_FLAG_W,ALKALI,ALKALI_FLAG_W,FCO2,FCO2_FLAG_W,FCO2TMP,PH_TOT,PH_TOT_FLAG_W,PH_TMP,TRITUM,TRITUM_FLAG_W,TRITER,HELIUM,HELIUM_FLAG_W,DELHE3,DELHE3_FLAG_W,DELC13,DELC13_FLAG_W,DELC14,DELC14_FLAG_W,C14ERR,NEON,NEON_FLAG_W,NEONER,DOC,DOC_FLAG_W,TDN,TDN_FLAG_W,CTDRAW,CDOM325,CDOM325_FLAG_W,CDOM340,CDOM340_FLAG_W,CDOM380,CDOM380_FLAG_W,CDOM412,CDOM412_FLAG_W,CDOMSL,CDOMSL_FLAG_W,CDOMSN,CDOMSN_FLAG_W,DCNS,ARABI,ARABI_FLAG_W,FUCO,FUCO_FLAG_W,GALA,GALA_FLAG_W,GLUC,GLUC_FLAG_W,MAN,MAN_FLAG_W,RHAM,RHAM_FLAG_W,BRDU,BRDU_FLAG_W,THETA,HELIER,DELHER
,,,,,,,,,,,METERS,DBAR,ITS-90,PSS-78,,PSS-78,,UMOL/KG,,UMOL/KG,,UMOL/KG,,UMOL/KG,,UMOL/KG,,UMOL/KG,,PMOL/KG,,PMOL/KG,,PMOL/KG,,UMOL/KG,,UMOL/KG,,UATM,,DEG C,,,DEG C,TU,,TU,NMOL/KG,,PERCNT,,/MILLE,,/MILLE,,/MILLE,NMOL/KG,,NMOL/KG,UMOL/KG,,UMOL/KG,,DBAR,1/M,,1/M,,1/M,,1/M,,1/NM,,1/NM,,NMOL/KG,NMOL/KG,,NMOL/KG,,NMOL/KG,,NMOL/KG,,NMOL/KG,,NMOL/KG,,PMOL/L/H,,DEG C,NMOL/KG,PERCNT
325020060213,       P16N,      41,          1,         35,         35,2,20060302,       0301,         19,  -152.0003,       5084,     5.0,  23.8398,  34.4910,2,  34.5015,2,    212.8,2,   215.1,2,    0.10,2,    0.00,2,    0.00,2,    0.11,2,   1.856,2,   1.166,2,-999.000,5,  1964.1,6,  2271.5,2,   -999.0,9,  -999.00,   8.0783,2,    25.00,-999.000,9,-999.000,   1.7419,2,   -1.24,2, -999.00,5,    60.4,2,     2.3,   6.942,2,   0.021,   69.89,2,    3.84,2,    5.00,-999.0000,9,-999.0000,9,-999.0000,9,-999.0000,9,-999.0000,9,-999.0000,9,     -999.0,     -999.0,9,     -999.0,9,     -999.0,9,     -999.0,9,     -999.0,9,     -999.0,9, -999.00,9,  23.8388,   0.0052,    0.14
325020060213,       P16N,      41,          1,         34,         34,2,20060302,       0301,         19,  -152.0003,       5084,    24.7,  23.8338,  34.5337,2,  34.5294,2,    213.7,2,   215.6,2,    0.30,2,    0.00,2,    0.00,2,    0.10,2,   1.856,2,   1.166,2,-999.000,5,  1967.5,2,  2275.5,2,   -999.0,9,  -999.00,   8.0793,2,    25.00,   0.465,2,   0.005,   1.7354,2,   -1.36,2, -999.00,9,  -999.0,9,    -9.0,   6.932,2,   0.021,   71.12,2,    4.05,2,   24.70,-999.0000,9,-999.0000,9,-999.0000,9,-999.0000,9,-999.0000,9,-999.0000,9,     -999.0,     -999.0,9,     -999.0,9,     -999.0,9,     -999.0,9,     -999.0,9,     -999.0,9, -999.00,9,  23.8287,   0.0052,    0.14
325020060213,       P16N,      41,          1,         33,         33,2,20060302,       0301,         19,  -152.0003,       5084,    50.5,  23.9707,  34.8481,2,  34.8436,2,    214.2,2,   217.2,2,    0.10,2,    0.00,2,    0.00,2,    0.07,2,   1.874,2,   1.152,2,-999.000,5,  1983.0,2,  2296.0,2,   -999.0,9,  -999.00,   8.0769,2,    25.00,-999.000,9,-999.000,   1.7342,2,   -1.38,2, -999.00,5,    60.8,2,     2.5,   6.938,2,   0.021,   70.14,2,    4.68,2,   50.50,-999.0000,9,-999.0000,9,-999.0000,9,-999.0000,9,-999.0000,9,-999.0000,9,     -999.0,     -999.0,9,     -999.0,9,     -999.0,9,     -999.0,9,     -999.0,9,     -999.0,9, -999.00,9,  23.9601,   0.0052,    0.14
325020060213,       P16N,      41,          1,         32,         32,2,20060302,       0301,         19,  -152.0003,       5084,    74.8,  23.7770,  34.9108,2,  34.9115,2,    215.5,2,   215.4,2,    0.20,2,    0.00,2,    0.00,2,    0.07,2,   1.859,2,   1.165,2,-999.000,5,  1985.8,2,  2301.7,2,   -999.0,9,  -999.00,   8.0650,2,    25.00,   0.741,2,   0.003,   1.7307,2,   -1.45,2, -999.00,5,    64.6,2,     3.0,   6.931,2,   0.021,   68.53,2,    4.96,2,   74.80,-999.0000,9,-999.0000,9,-999.0000,9,-999.0000,9,-999.0000,9,-999.0000,9,     -999.0,     -999.0,9,     -999.0,9,     -999.0,9,     -999.0,9,     -999.0,9,     -999.0,9, -999.00,9,  23.7614,   0.0052,    0.14
325020060213,       P16N,      41,          1,         31,         31,2,20060302,       0301,         19,  -152.0003,       5084,   101.4,  23.6232,  35.0872,2,  35.1044,2,    212.2,2,   216.8,2,    0.30,2,    0.00,2,    0.00,2,    0.05,2,   1.915,6,   1.179,6,-999.000,5,  2004.9,2,  2313.7,2,   -999.0,9,  -999.00,   8.0553,2,    25.00,   0.737,2,   0.004,   1.7506,2,   -1.03,2, -999.00,5,    63.5,2,     2.6,   6.969,2,   0.021,   65.16,2,    4.70,2,  101.40,-999.0000,9,-999.0000,9,-999.0000,9,-999.0000,9,-999.0000,9,-999.0000,9,     -999.0,     -999.0,9,     -999.0,9,     -999.0,9,     -999.0,9,     -999.0,9,     -999.0,9, -999.00,9,  23.6021,   0.0053,    0.14
325020060213,       P16N,      41,          1,         30,         30,2,20060302,       0301,         19,  -152.0003,       5084,   124.6,  22.6619,  35.1475,2,  35.1450,2,    209.5,2,   210.7,2,    0.50,2,    0.10,2,    0.00,2,    0.07,2,-999.000,9,-999.000,9,-999.000,9,  2024.6,2,  -999.0,5,   -999.0,9,  -999.00,   8.0366,2,    25.00,   0.787,2,   0.004,   1.7393,2,   -1.16,2, -999.00,5,    61.5,2,     3.8,   6.966,2,   0.021,   61.03,2,    4.01,2,  124.60,-999.0000,9,-999.0000,9,-999.0000,9,-999.0000,9,-999.0000,9,-999.0000,9,     -999.0,     -999.0,9,     -999.0,9,     -999.0,9,     -999.0,9,     -999.0,9,     -999.0,9, -999.00,9,  22.6367,   0.0052,    0.14
325020060213,       P16N,      41,          1,         29,         29,2,20060302,       0301,         19,  -152.0003,       5084,   149.8,  20.8185,  35.0922,2,  35.0948,2,    193.9,2,   196.3,2,    1.00,2,    1.40,2,    0.00,2,    0.16,2,   2.188,2,   1.319,2,-999.000,5,  2044.8,2,  2313.5,2,   -999.0,9,  -999.00,   7.9834,2,    25.00,   0.823,2,   0.004,   1.7317,2,   -1.39,2, -999.00,5,    74.5,2,     3.7,   7.044,2,   0.021,   56.65,2,    5.09,2,  149.80,-999.0000,9,-999.0000,9,-999.0000,9,-999.0000,9,-999.0000,9,-999.0000,9,     -999.0,     -999.0,9,     -999.0,9,     -999.0,9,     -999.0,9,     -999.0,9,     -999.0,9, -999.00,9,  20.7900,   0.0052,    0.14
325020060213,       P16N,      41,          1,         28,         28,2,20060302,       0301,         19,  -152.0003,       5084,   200.3,  17.2216,  34.6338,2,  34.6403,2,    192.5,2,   193.1,2,    3.10,2,    4.20,2,    0.00,2,    0.35,2,   2.545,2,   1.500,2,-999.000,5,  2058.8,2,  2285.0,6,   -999.0,9,  -999.00,   7.8796,2,    25.00,-999.000,9,-999.000,   1.7604,2,   -0.50,2, -999.00,5,    77.4,2,     4.6,   7.242,2,   0.022,   51.07,2,    8.02,2,  200.30,-999.0000,9,-999.0000,9,-999.0000,9,-999.0000,9,-999.0000,9,-999.0000,9,     -999.0,     -999.0,9,     -999.0,9,     -999.0,9,     -999.0,9,     -999.0,9,     -999.0,9, -999.00,9,  17.1883,   0.0053,    0.14
325020060213,       P16N,      41,          1,         27,         27,2,20060302,       0301,         19,  -152.0003,       5084,   250.6,  13.0909,  34.1921,2,  34.1975,2,    193.5,2,   194.4,2,    8.00,2,    9.80,2,    0.00,2,    0.72,2,   3.025,2,   1.697,2,-999.000,5,  2079.8,2,  2261.0,2,   -999.0,9,  -999.00,   7.8142,2,    25.00,   0.849,2,   0.004,   1.7792,2,    0.88,2, -999.00,5,    63.2,2,     3.6,   7.426,2,   0.022,   47.75,2,   14.03,2,  250.60,-999.0000,9,-999.0000,9,-999.0000,9,-999.0000,9,-999.0000,9,-999.0000,9,     -999.0,     -999.0,9,     -999.0,9,     -999.0,9,     -999.0,9,     -999.0,9,     -999.0,9, -999.00,9,  13.0565,   0.0053,    0.14
325020060213,       P16N,      41,          1,         26,         26,2,20060302,       0301,         19,  -152.0003,       5084,   300.6,  10.5903,  34.1152,2,  34.1191,2,    184.5,2,   184.2,2,   16.10,2,   16.20,2,    0.00,2,    1.13,2,   3.148,2,   1.688,2,-999.000,5,  2116.7,2,  2260.1,2,   -999.0,9,  -999.00,   7.7136,2,    25.00,   0.764,2,   0.012,   1.7932,2,    3.24,2, -999.00,5,    48.4,2,     3.1,   7.419,2,   0.022,   46.44,2,   20.71,2,  300.60,-999.0000,9,-999.0000,9,-999.0000,9,-999.0000,9,-999.0000,9,-999.0000,9,     -999.0,     -999.0,9,     -999.0,9,     -999.0,9,     -999.0,9,     -999.0,9,     -999.0,9, -999.00,9,  10.5543,   0.0054,    0.14
325020060213,       P16N,      41,          1,         25,         25,2,20060302,       0301,         19,  -152.0003,       5084,   350.8,   9.3072,  34.1585,2,  34.1644,2,    128.8,2,   128.6,2,   28.20,2,   24.20,2,    0.00,2,    1.73,2,   2.385,2,   1.211,2,-999.000,5,  2177.3,2,  2272.2,2,   -999.0,9,  -999.00,   7.5877,2,    25.00,   0.831,2,   0.003,   2.0093,2,    7.90,2, -999.00,5,     7.1,2,     2.8,   8.406,2,   0.025,   45.13,2,   28.71,2,  350.80,-999.0000,9,-999.0000,9,-999.0000,9,-999.0000,9,-999.0000,9,-999.0000,9,     -999.0,     -999.0,9,     -999.0,9,     -999.0,9,     -999.0,9,     -999.0,9,     -999.0,9, -999.00,9,   9.2684,   0.0060,    0.14
325020060213,       P16N,      41,          1,         24,         24,2,20060302,       0301,         19,  -152.0003,       5084,   400.7,   8.3266,  34.2018,2,  34.2020,2,     88.5,2,    85.2,2,   39.40,2,   29.60,2,    0.00,2,    2.17,2,   1.476,2,   0.728,2,-999.000,5,  2223.2,2,  2282.7,2,   -999.0,9,  -999.00,   7.4727,2,    25.00,   0.644,2,   0.003,   1.8115,2,   12.01,2, -999.00,5,   -27.1,2,     3.3,   7.718,2,   0.023,   44.54,2,   33.28,2,  400.70,-999.0000,9,-999.0000,9,-999.0000,9,-999.0000,9,-999.0000,9,-999.0000,9,     -999.0,     -999.0,9,     -999.0,9,     -999.0,9,     -999.0,9,     -999.0,9,     -999.0,9, -999.00,9,   8.2850,   0.0054,    0.14
325020060213,       P16N,      41,          1,         23,         23,2,20060302,       0301,         19,  -152.0003,       5084,   449.9,   7.4071,  34.2379,2,  34.2375,2,     58.2,2,    55.1,2,   51.00,2,   33.90,2,    0.00,2,    2.49,2,   0.738,2,   0.366,2,-999.000,5,  2257.6,2,  2300.1,2,   -999.0,9,  -999.00,   7.4077,2,    25.00,   0.445,2,   0.003,   1.8253,2,   13.78,2, -999.00,5,   -72.7,2,     3.1,   7.760,2,   0.023,   44.29,2,   37.27,2,  449.90,-999.0000,9,-999.0000,9,-999.0000,9,-999.0000,9,-999.0000,9,-999.0000,9,     -999.0,     -999.0,9,     -999.0,9,     -999.0,9,     -999.0,9,     -999.0,9,     -999.0,9, -999.00,9,   7.3633,   0.0055,    0.14
325020060213,       P16N,      41,          1,         22,         22,2,20060302,       0301,         19,  -152.0003,       5084,   501.1,   7.0240,  34.3029,2,  34.3031,2,     38.7,2,    39.5,2,   57.60,2,   36.30,2,    0.00,2,    2.64,2,   0.360,2,   0.184,2,-999.000,5,  2276.3,6,  2309.0,2,   -999.0,9,  -999.00,   7.3903,2,    25.00,-999.000,9,-999.000,   1.8315,2,   12.29,2, -999.00,5,  -100.8,2,     2.5,   7.730,2,   0.023,   43.38,2,   40.51,2,  501.10,-999.0000,9,-999.0000,9,-999.0000,9,-999.0000,9,-999.0000,9,-999.0000,9,     -999.0,     -999.0,9,     -999.0,9,     -999.0,9,     -999.0,9,     -999.0,9,     -999.0,9, -999.00,9,   6.9765,   0.0055,    0.14
325020060213,       P16N,      41,          1,         21,         21,2,20060302,       0301,         19,  -152.0003,       5084,   599.2,   6.0583,  34.3546,2,  34.3600,2,     31.9,2,    32.2,2,   71.50,2,   39.40,2,    0.00,2,    2.83,2,   0.108,2,   0.060,2,-999.000,5,  2298.3,2,  2327.8,2,   -999.0,9,  -999.00,   7.3729,2,    25.00,   0.097,2,   0.004,   1.8371,2,   12.36,2, -999.00,5,  -138.9,2,     2.7,   7.872,2,   0.024,   42.51,2,   43.68,2,  599.20,-999.0000,9,-999.0000,9,-999.0000,9,-999.0000,9,-999.0000,9,-999.0000,9,     -999.0,     -999.0,9,     -999.0,9,     -999.0,9,     -999.0,9,     -999.0,9,     -999.0,9, -999.00,9,   6.0054,   0.0055,    0.14
325020060213,       P16N,      41,          1,         20,         20,2,20060302,       0301,         19,  -152.0003,       5084,   699.7,   5.6124,  34.4302,2,  34.4291,2,     31.7,2,    31.4,2,   78.50,2,   40.60,2,    0.00,2,    2.92,2,   0.026,6,   0.017,6,-999.000,5,  2311.4,2,  2337.6,2,   -999.0,9,  -999.00,   7.3761,2,    25.00,-999.000,9,-999.000,-999.0000,9,-999.000,9, -999.00,5,  -156.7,2,     2.5,-999.000,9,-999.000,   41.77,2,   44.75,2,  699.70,-999.0000,9,-999.0000,9,-999.0000,9,-999.0000,9,-999.0000,9,-999.0000,9,     -999.0,     -999.0,9,     -999.0,9,     -999.0,9,     -999.0,9,     -999.0,9,     -999.0,9, -999.00,9,   5.5525,-999.0000,-999.000
325020060213,       P16N,      41,          1,         19,         19,2,20060302,       0301,         19,  -152.0003,       5084,   799.9,   5.0521,  34.4575,2,  34.4574,2,     34.2,2,    41.2,2,   88.20,2,   41.40,2,    0.00,2,    2.96,2,-999.000,9,-999.000,9,-999.000,9,  2320.6,2,  2350.6,2,   -999.0,9,  -999.00,   7.3707,2,    25.00,   0.029,2,   0.001,   1.8595,2,   15.40,2, -999.00,5,  -172.3,2,     2.4,   7.901,2,   0.024,   40.89,2,   45.73,2,  799.90,-999.0000,9,-999.0000,9,-999.0000,9,-999.0000,9,-999.0000,9,-999.0000,9,     -999.0,     -999.0,9,     -999.0,9,     -999.0,9,     -999.0,9,     -999.0,9,     -999.0,9, -999.00,9,   4.9864,   0.0056,    0.14
325020060213,       P16N,      41,          1,         18,         18,2,20060302,       0301,         19,  -152.0003,       5084,   899.5,   4.6493,  34.4900,2,  34.4935,2,     34.8,2,    34.5,2,   96.20,2,   42.30,2,    0.00,2,    3.02,2,   0.005,2,   0.004,2,-999.000,5,  2334.0,2,  2360.6,2,   -999.0,9,  -999.00,-999.0000,9,  -999.00,   0.025,2,   0.001,   1.9016,2,   18.31,2, -999.00,9,  -999.0,9,    -9.0,   8.054,2,   0.024,   40.22,2,   46.27,2,  899.50,-999.0000,9,-999.0000,9,-999.0000,9,-999.0000,9,-999.0000,9,-999.0000,9,     -999.0,     -999.0,9,     -999.0,9,     -999.0,9,     -999.0,9,     -999.0,9,     -999.0,9, -999.00,9,   4.5775,   0.0057,    0.14
325020060213,       P16N,      41,          1,         17,         17,2,20060302,       0301,         19,  -152.0003,       5084,  1000.3,   4.2639,  34.5108,2,  34.5106,2,     43.1,2,    40.4,2,  103.60,2,   42.40,2,    0.00,2,    3.02,2,-999.000,9,-999.000,9,-999.000,9,  2340.2,2,  2371.2,6,   -999.0,9,  -999.00,-999.0000,9,  -999.00,-999.000,9,-999.000,   1.8891,2,   24.46,2, -999.00,9,  -999.0,9,    -9.0,   8.007,2,   0.024,   39.34,2,   46.10,2, 1000.30,-999.0000,9,-999.0000,9,-999.0000,9,-999.0000,9,-999.0000,9,-999.0000,9,     -999.0,     -999.0,9,     -999.0,9,     -999.0,9,     -999.0,9,     -999.0,9,     -999.0,9, -999.00,9,   4.1862,   0.0057,    0.14
325020060213,       P16N,      41,          1,         16,         16,2,20060302,       0301,         19,  -152.0003,       5084,  1200.4,   3.7352,  34.5427,2,  34.5446,2,     51.1,2,    51.6,2,  114.00,2,   41.90,2,    0.00,2,    2.98,2,   0.001,2,   0.003,2,-999.000,5,  2349.1,2,  2385.5,2,   -999.0,9,  -999.00,-999.0000,9,  -999.00,-999.000,9,-999.000,-999.0000,9,-999.000,9, -999.00,9,  -999.0,9,    -9.0,-999.000,9,-999.000,   38.63,2,   45.71,2, 1200.40,-999.0000,9,-999.0000,9,-999.0000,9,-999.0000,9,-999.0000,9,-999.0000,9,     -999.0,     -999.0,9,     -999.0,9,     -999.0,9,     -999.0,9,     -999.0,9,     -999.0,9, -999.00,9,   3.6450,-999.0000,-999.000
325020060213,       P16N,      41,          1,         15,         15,2,20060302,       0301,         19,  -152.0003,       5084,  1399.9,   3.2152,  34.5679,2,  34.5698,2,     58.6,2,    59.2,2,  126.10,2,   41.90,2,    0.00,2,    2.98,2,-999.000,9,-999.000,9,-999.000,9,  2356.4,2,  2399.7,2,   -999.0,9,  -999.00,-999.0000,9,  -999.00,-999.000,9,-999.000,-999.0000,9,-999.000,9, -999.00,9,  -999.0,9,    -9.0,-999.000,9,-999.000,   37.97,2,   46.18,2, 1399.90,-999.0000,9,-999.0000,9,-999.0000,9,-999.0000,9,-999.0000,9,-999.0000,9,     -999.0,     -999.0,9,     -999.0,9,     -999.0,9,     -999.0,9,     -999.0,9,     -999.0,9, -999.00,9,   3.1134,-999.0000,-999.000
325020060213,       P16N,      41,          1,         14,         14,2,20060302,       0301,         19,  -152.0003,       5084,  1600.0,   2.7672,  34.5910,2,  34.5922,2,     68.9,2,    68.6,2,  136.40,2,   41.40,2,    0.00,2,    2.95,2,-999.000,9,-999.000,9,-999.000,9,  2359.7,2,  2405.5,2,   -999.0,9,  -999.00,-999.0000,9,  -999.00,-999.000,9,-999.000,-999.0000,9,-999.000,9, -999.00,9,  -999.0,9,    -9.0,-999.000,9,-999.000,   37.52,2,   44.80,2, 1600.00,-999.0000,9,-999.0000,9,-999.0000,9,-999.0000,9,-999.0000,9,-999.0000,9,     -999.0,     -999.0,9,     -999.0,9,     -999.0,9,     -999.0,9,     -999.0,9,     -999.0,9, -999.00,9,   2.6537,-999.0000,-999.000
325020060213,       P16N,      41,          1,         13,         13,2,20060302,       0301,         19,  -152.0003,       5084,  1800.0,   2.4193,  34.6098,2,  34.6128,2,     80.2,2,    80.6,2,  143.70,6,   40.60,6,    0.00,6,    2.88,6,-999.000,9,-999.000,9,-999.000,9,  2360.1,2,  2412.8,2,   -999.0,9,  -999.00,   7.4442,2,    25.00,-999.000,9,-999.000,-999.0000,9,-999.000,9, -999.00,9,  -999.0,9,    -9.0,-999.000,9,-999.000,   37.08,2,   44.34,2, 1800.00,-999.0000,9,-999.0000,9,-999.0000,9,-999.0000,9,-999.0000,9,-999.0000,9,     -999.0,     -999.0,9,     -999.0,9,     -999.0,9,     -999.0,9,     -999.0,9,     -999.0,9, -999.00,9,   2.2936,-999.0000,-999.000
325020060213,       P16N,      41,          1,         12,         12,2,20060302,       0301,         19,  -152.0003,       5084,  1995.2,   2.1830,  34.6259,2,  34.6270,2,     90.0,2,    90.7,2,  148.30,2,   40.10,2,    0.00,2,    2.83,2,-999.000,9,-999.000,9,-999.000,9,  2358.1,2,  2418.6,2,   -999.0,9,  -999.00,   7.4625,2,    25.00,-999.000,9,-999.000,-999.0000,9,-999.000,9, -999.00,9,  -999.0,9,    -9.0,-999.000,9,-999.000,   37.30,2,   43.92,2, 1995.20,-999.0000,9,-999.0000,9,-999.0000,9,-999.0000,9,-999.0000,9,-999.0000,9,     -999.0,     -999.0,9,     -999.0,9,     -999.0,9,     -999.0,9,     -999.0,9,     -999.0,9, -999.00,9,   2.0442,-999.0000,-999.000
325020060213,       P16N,      41,          1,         11,         11,2,20060302,       0301,         19,  -152.0003,       5084,  2249.3,   1.9875,  34.6395,2,  34.6416,2,     99.4,2,    99.4,2,  151.80,2,   39.50,2,    0.00,2,    2.78,2,-999.000,9,-999.000,9,-999.000,9,  2355.8,2,  2426.8,2,   -999.0,9,  -999.00,   7.4958,2,    25.00,-999.000,9,-999.000,-999.0000,9,-999.000,9, -999.00,9,  -999.0,9,    -9.0,-999.000,9,-999.000,   36.83,2,   43.73,2, 2249.30,-999.0000,9,-999.0000,9,-999.0000,9,-999.0000,9,-999.0000,9,-999.0000,9,     -999.0,     -999.0,9,     -999.0,9,     -999.0,9,     -999.0,9,     -999.0,9,     -999.0,9, -999.00,9,   1.8298,-999.0000,-999.000
325020060213,       P16N,      41,          1,         10,         10,2,20060302,       0301,         19,  -152.0003,       5084,  2497.8,   1.8165,  34.6535,2,  34.6534,2,    109.0,2,   110.5,2,  154.30,2,   38.90,2,    0.00,2,    2.73,2,-999.000,9,-999.000,9,-999.000,9,  2353.7,2,  2429.7,2,   -999.0,9,  -999.00,   7.5201,2,    25.00,-999.000,9,-999.000,-999.0000,9,-999.000,9, -999.00,9,  -999.0,9,    -9.0,-999.000,9,-999.000,   36.69,2,   42.41,2, 2497.80,-999.0000,9,-999.0000,9,-999.0000,9,-999.0000,9,-999.0000,9,-999.0000,9,     -999.0,     -999.0,9,     -999.0,9,     -999.0,9,     -999.0,9,     -999.0,9,     -999.0,9, -999.00,9,   1.6399,-999.0000,-999.000
325020060213,       P16N,      41,          1,          9,          9,2,20060302,       0301,         19,  -152.0003,       5084,  2750.8,   1.7070,  34.6638,2,  34.6654,2,    116.4,2,   116.5,2,  155.90,2,   38.40,2,    0.00,2,    2.69,2,-999.000,9,-999.000,9,-999.000,9,  2352.5,2,  2431.3,2,   -999.0,9,  -999.00,   7.5121,2,    25.00,-999.000,9,-999.000,-999.0000,9,-999.000,9, -999.00,9,  -999.0,9,    -9.0,-999.000,9,-999.000,   37.54,2,   42.71,2, 2750.80,-999.0000,9,-999.0000,9,-999.0000,9,-999.0000,9,-999.0000,9,-999.0000,9,     -999.0,     -999.0,9,     -999.0,9,     -999.0,9,     -999.0,9,     -999.0,9,     -999.0,9, -999.00,9,   1.5093,-999.0000,-999.000