BOTTLE,20170720CCHSIOCBG
EXPOCODE,SECT_ID,STNNBR,CASTNO,SAMPNO,BTLNBR,BTLNBR_FLAG_W,DATE,TIME,LATITUDE,LONGITUDE,DEPTH,CTDPRS,CTDTMP,CTDSAL,CTDSAL_FLAG_W,SALNTY,SALNTY_FLAG_W,CTDOXY,CTDOXY_FLAG_W,OXYGEN,OXYGEN_FLAG_W,SILCAT,SILCAT_FLAG_W,NITRAT,NITRAT_FLAG_W,NITRIT,NITRIT_FLAG_W,PHSPHT,PHSPHT_FLAG_W,CFC-11,CFC-11_FLAG_W,CFC-12,CFC-12_FLAG_W,CFC113,CFC113_FLAG_W,TCARBN,TCARBN_FLAG_W,ALKALI,ALKALI_FLAG_W,FCO2,FCO2_FLAG_W,FCO2TMP,PH_TOT,PH_TOT_FLAG_W,PH_TMP,TRITUM,TRITUM_FLAG_W,TRITER,HELIUM,HELIUM_FLAG_W,DELHE3,DELHE3_FLAG_W,DELC13,DELC13_FLAG_W,DELC14,DELC14_FLAG_W,C14ERR,NEON,NEON_FLAG_W,NEONER,DOC,DOC_FLAG_W,TDN,TDN_FLAG_W,CTDRAW,CDOM325,CDOM325_FLAG_W,CDOM340,CDOM340_FLAG_W,CDOM380,CDOM380_FLAG_W,CDOM412,CDOM412_FLAG_W,CDOMSL,CDOMSL_FLAG_W,CDOMSN,CDOMSN_FLAG_W,DCNS,ARABI,ARABI_FLAG_W,FUCO,FUCO_FLAG_W,GALA,GALA_FLAG_W,GLUC,GLUC_FLAG_W,MAN,MAN_FLAG_W,RHAM,RHAM_FLAG_W,BRDU,BRDU_FLAG_W,THETA,HELIER,DELHER
,,,,,,,,,,,METERS,DBAR,ITS-90,PSS-78,,PSS-78,,UMOL/KG,,UMOL/KG,,UMOL/KG,,UMOL/KG,,UMOL/KG,,UMOL/KG,,PMOL/KG,,PMOL/KG,,PMOL/KG,,UMOL/KG,,UMOL/KG,,UATM,,DEG C,,,DEG C,TU,,TU,NMOL/KG,,PERCNT,,/MILLE,,/MILLE,,/MILLE,NMOL/KG,,NMOL/KG,UMOL/KG,,UMOL/KG,,DBAR,1/M,,1/M,,1/M,,1/M,,1/NM,,1/NM,,NMOL/KG,NMOL/KG,,NMOL/KG,,NMOL/KG,,NMOL/KG,,NMOL/KG,,NMOL/KG,,PMOL/L/H,,DEG C,NMOL/KG,PERCNT
325020060213,       P16N,      75,          1,         36,         36,2,20060327,       2018,         54,  -152.2202,       4393,     5.1,   3.3960,  32.8329,2,  32.8356,2,    323.0,2,   321.3,2,   31.50,2,   16.70,2,    0.20,2,    1.58,2,   5.203,2,   2.841,2,-999.000,5,  2091.5,6,  2214.9,2,    824.3,2,    20.00,   7.6896,6,    25.00,-999.000,9,-999.000,    1.807,2,  -1.720,2, -999.00,9,  -999.0,9,    -9.0,   7.938,2,   0.033,   55.41,2,   20.65,2,    5.10,   0.1410,2,   0.0960,2,   0.0360,2,   0.0140,3,   0.0021,4,   0.0258,4,     -999.0,     -999.0,9,     -999.0,9,     -999.0,9,     -999.0,9,     -999.0,9,     -999.0,9,    9.09,2,   3.3957,    0.003,   0.269
325020060213,       P16N,      75,          1,         35,         35,2,20060327,       2018,         54,  -152.2202,       4393,    24.8,   3.3745,  32.8342,2,  32.8380,2,    323.9,2,   321.7,2,   31.50,2,   16.70,2,    0.20,2,    1.59,2,   5.304,2,   2.934,2,-999.000,5,  2091.7,2,  2216.3,2,    822.8,2,    20.00,   7.6888,2,    25.00,   0.831,2,   0.022,    1.806,2,  -1.782,2, -999.00,9,  -999.0,9,    -9.0,   7.894,2,   0.033,   54.39,2,   21.29,2,   24.80,   0.1460,2,   0.1010,2,   0.0400,2,   0.0190,2,   0.0024,4,   0.0244,4,     -999.0,     -999.0,9,     -999.0,9,     -999.0,9,     -999.0,9,     -999.0,9,     -999.0,9,    7.68,2,   3.3730,    0.003,   0.397
325020060213,       P16N,      75,          1,         34,         34,9,20060327,       2018,         54,  -152.2202,       4393,    50.0,   3.3481,  32.8516,2,-999.0000,9,    322.3,2,  -999.0,9, -999.00,9, -999.00,9, -999.00,9, -999.00,9,-999.000,9,-999.000,9,-999.000,9,  -999.0,9,  -999.0,9,   -999.0,9,  -999.00,-999.0000,9,  -999.00,-999.000,9,-999.000,-999.0000,9,-999.000,9, -999.00,9,  -999.0,9,    -9.0,-999.000,9,-999.000, -999.00,9, -999.00,9,   50.00,-999.0000,9,-999.0000,9,-999.0000,9,-999.0000,9,-999.0000,9,-999.0000,9,     -999.0,     -999.0,9,     -999.0,9,     -999.0,9,     -999.0,9,     -999.0,9,     -999.0,9,    2.27,2,   3.3451,-999.0000,-999.000
325020060213,       P16N,      75,          1,         33,         33,2,20060327,       2018,         54,  -152.2202,       4393,    75.1,   3.5650,  33.0430,2,  33.0948,2,    258.1,2,   252.2,2,   41.50,2,   23.50,2,    0.20,2,    1.89,2,   4.578,2,   2.459,2,-999.000,5,  2143.9,2,  2227.8,2,   1100.7,6,    20.00,   7.5804,2,    25.00,   0.784,2,   0.023,    1.828,2,   3.153,2, -999.00,9,  -999.0,9,    -9.0,   7.962,2,   0.034,   53.02,2,   28.11,2,   75.10,   0.1540,2,   0.1070,2,   0.0470,2,   0.0240,2,   0.0029,4,   0.0220,4,     -999.0,     -999.0,9,     -999.0,9,     -999.0,9,     -999.0,9,     -999.0,9,     -999.0,9,    0.34,2,   3.5603,    0.003,   0.269
325020060213,       P16N,      75,          1,         32,         32,2,20060327,       2018,         54,  -152.2202,       4393,   100.1,   4.3476,  33.7652,2,  33.7818,2,     65.3,2,    67.9,2,   72.90,2,   40.30,2,    0.00,2,    2.75,2,   2.712,2,   1.342,2,-999.000,5,  2283.5,2,  2279.5,2,   2330.1,2,    20.00,   7.2889,2,    25.00,   0.576,2,   0.019,    1.818,2,  10.717,2, -999.00,9,  -999.0,9,    -9.0,   7.884,2,   0.013,   49.18,2,   43.65,2,  100.10,   0.1900,2,   0.1360,2,   0.0680,2,   0.0410,2,   0.0043,3,   0.0185,3,     -999.0,     -999.0,9,     -999.0,9,     -999.0,9,     -999.0,9,     -999.0,9,     -999.0,9,    0.12,2,   4.3405,    0.003,   0.208
325020060213,       P16N,      75,          1,         31,         31,2,20060327,       2018,         54,  -152.2202,       4393,   124.8,   4.2159,  33.8377,2,  33.8452,2,     51.5,2,    50.6,2,   77.90,2,   42.30,2,    0.00,2,    2.86,2,   2.432,2,   1.207,2,-999.000,5,  2299.1,2,  2285.4,3,   2415.5,3,    20.00,   7.2613,2,    25.00,   0.551,2,   0.019,    1.826,2,  12.033,2, -999.00,9,  -999.0,9,    -9.0,   7.916,2,   0.033,   48.23,2,   46.15,2,  124.80,   0.2030,2,   0.1460,2,   0.0740,2,   0.0470,2,   0.0051,3,   0.0180,3,     -999.0,     -999.0,9,     -999.0,9,     -999.0,9,     -999.0,9,     -999.0,9,     -999.0,9,    0.25,2,   4.2073,    0.003,   0.269
325020060213,       P16N,      75,          1,         30,         30,2,20060327,       2018,         54,  -152.2202,       4393,   149.9,   4.1090,  33.8993,2,  33.9024,2,     34.4,2,    33.8,2,   84.80,2,   43.80,2,    0.00,2,    2.96,2,   2.068,2,   1.015,2,-999.000,5,  2313.8,2,  2294.9,2,   2636.5,3,    20.00,   7.2353,2,    25.00,   0.507,2,   0.019,    1.834,2,  11.402,2, -999.00,9,  -999.0,9,    -9.0,   8.125,2,   0.011,   47.07,2,   47.38,2,  149.90,   0.1930,2,   0.1390,2,   0.0720,2,   0.0470,2,   0.0067,3,   0.0175,3,     -999.0,     -999.0,9,     -999.0,9,     -999.0,9,     -999.0,9,     -999.0,9,     -999.0,9,    0.20,2,   4.0986,    0.001,   0.220
325020060213,       P16N,      75,          1,         29,         29,2,20060327,       2018,         54,  -152.2202,       4393,   174.8,   4.0507,  33.9308,2,  33.9324,2,     26.9,2,    27.1,2,   88.30,2,   44.50,2,    0.00,2,    3.01,2,   1.868,2,   0.897,2,-999.000,5,  2322.1,2,  2301.1,6,   2728.2,2,    20.00,   7.2293,2,    25.00,   0.525,2,   0.020,    1.847,2,  13.627,2, -999.00,9,  -999.0,9,    -9.0,   7.959,2,   0.034,   46.41,2,   48.47,2,  174.80,   0.1970,2,   0.1420,2,   0.0750,2,   0.0500,2,   0.0091,3,   0.0169,3,     -999.0,     -999.0,9,     -999.0,9,     -999.0,9,     -999.0,9,     -999.0,9,     -999.0,9,   -0.10,4,   4.0387,    0.003,   0.268
325020060213,       P16N,      75,          1,         28,         28,2,20060327,       2018,         54,  -152.2202,       4393,   200.3,   4.0092,  33.9581,2,  33.9581,2,     21.7,2,    22.2,2,   91.20,2,   44.80,2,    0.00,2,    3.04,2,   1.693,2,   0.820,2,-999.000,5,  2326.8,2,  2307.5,2,   2805.7,2,    20.00,   7.2228,2,    25.00,-999.000,9,-999.000,    1.829,2,  14.464,2, -999.00,9,  -999.0,9,    -9.0,   7.796,2,   0.013,   45.91,2,   48.66,2,  200.30,   0.1950,2,   0.1400,2,   0.0740,2,   0.0500,2,   0.0156,2,   0.0168,2,     -999.0,     -999.0,9,     -999.0,9,     -999.0,9,     -999.0,9,     -999.0,9,     -999.0,9, -999.00,9,   3.9954,    0.003,   0.206
325020060213,       P16N,      75,          1,         27,         27,2,20060327,       2018,         54,  -152.2202,       4393,   250.0,   3.9762,  34.0045,2,  34.0087,2,     17.6,2,    17.7,2,   96.00,2,   44.90,2,    0.00,2,    3.08,2,   1.392,2,   0.671,2,-999.000,5,  2333.2,2,  2289.9,3,   -999.0,9,  -999.00,   7.2264,2,    25.00,   0.423,2,   0.007,    1.853,2,  14.119,2, -999.00,9,  -999.0,9,    -9.0,   7.898,2,   0.033,   45.35,2,   49.37,2,  250.00,   0.1950,2,   0.1410,2,   0.0750,2,   0.0510,2,   0.0154,2,   0.0166,2,     -999.0,     -999.0,9,     -999.0,9,     -999.0,9,     -999.0,9,     -999.0,9,     -999.0,9, -999.00,9,   3.9589,    0.003,   0.266
325020060213,       P16N,      75,          1,         26,         26,2,20060327,       2018,         54,  -152.2202,       4393,   299.9,   3.9185,  34.0445,2,  34.0520,2,     16.9,2,    17.0,2,  100.50,2,   44.90,2,    0.00,2,    3.08,2,   1.116,2,   0.545,2,-999.000,5,  2337.7,2,  2316.6,2,   -999.0,9,  -999.00,   7.2352,2,    25.00,   0.371,2,   0.007,    1.869,2,  16.866,2, -999.00,9,  -999.0,9,    -9.0,   8.044,2,   0.008,   44.79,2,   48.62,2,  299.90,   0.1980,2,   0.1430,2,   0.0770,2,   0.0520,2,   0.0152,2,   0.0164,2,     -999.0,     -999.0,9,     -999.0,9,     -999.0,9,     -999.0,9,     -999.0,9,     -999.0,9, -999.00,9,   3.8978,    0.001,   0.192
325020060213,       P16N,      75,          1,         25,         25,2,20060327,       2018,         54,  -152.2202,       4393,   349.8,   3.8405,  34.0878,2,  34.0924,2,     16.4,2,    16.8,2,  105.20,2,   44.70,2,    0.00,2,    3.08,2,   0.890,6,   0.428,6,-999.000,5,  2341.4,2,  2323.7,2,   -999.0,9,  -999.00,   7.2477,2,    25.00,   0.329,2,   0.006,    1.876,2,  17.124,2, -999.00,9,  -999.0,9,    -9.0,   8.103,2,   0.009,   43.48,2,   48.79,2,  349.80,   0.1950,2,   0.1420,2,   0.0770,2,   0.0530,2,   0.0149,2,   0.0160,2,    338.654,    29.2218,2,     52.269,2,    62.0488,2,     91.796,2,    77.0081,2,      26.31,2, -999.00,9,   3.8165,    0.001,   0.190
325020060213,       P16N,      75,          1,         24,         24,2,20060327,       2018,         54,  -152.2202,       4393,   400.1,   3.7521,  34.1348,2,  34.1357,2,     15.6,2,    15.6,2,  110.40,2,   44.70,2,    0.00,2,    3.09,2,   0.687,2,   0.331,2,-999.000,5,  2346.3,2,  2331.5,2,   -999.0,9,  -999.00,   7.2533,2,    25.00,   0.276,2,   0.006,    1.858,2,  12.263,3, -999.00,9,  -999.0,9,    -9.0,   8.197,2,   0.011,   43.00,2,   48.60,2,  400.10,   0.1880,2,   0.1360,2,   0.0740,2,   0.0510,2,   0.0147,2,   0.0159,2,     -999.0,     -999.0,9,     -999.0,9,     -999.0,9,     -999.0,9,     -999.0,9,     -999.0,9, -999.00,9,   3.7246,    0.002,   0.221
325020060213,       P16N,      75,          1,         23,         23,2,20060327,       2018,         54,  -152.2202,       4393,   449.9,   3.6717,  34.1664,2,  34.1716,2,     14.8,2,    14.9,2,  114.30,2,   44.40,2,    0.00,2,    3.10,2,   0.545,2,   0.264,2,-999.000,5,  2351.1,2,  2342.4,2,   -999.0,9,  -999.00,   7.2579,2,    25.00,   0.238,2,   0.005,    1.858,2,  16.297,2, -999.00,9,  -999.0,9,    -9.0,   7.918,2,   0.013,   42.46,2,   48.68,2,  449.90,   0.1850,2,   0.1340,2,   0.0740,2,   0.0520,2,   0.0145,2,   0.0157,2,     -999.0,     -999.0,9,     -999.0,9,     -999.0,9,     -999.0,9,     -999.0,9,     -999.0,9, -999.00,9,   3.6409,    0.003,   0.206
325020060213,       P16N,      75,          1,         22,         22,2,20060327,       2018,         54,  -152.2202,       4393,   499.9,   3.5790,  34.2057,2,  34.2058,2,     14.2,2,    14.3,2,  118.80,2,   44.50,2,    0.00,2,    3.12,2,   0.412,2,   0.194,2,-999.000,5,  2355.6,6,  2349.2,2,   -999.0,9,  -999.00,   7.2675,2,    25.00,   0.194,2,   0.005,-999.0000,9,-999.000,9, -999.00,9,  -999.0,9,    -9.0,-999.000,9,-999.000,   40.79,2,   48.36,2,  499.90,   0.1820,2,   0.1310,2,   0.0730,2,   0.0510,2,   0.0143,2,   0.0155,2,     -999.0,     -999.0,9,     -999.0,9,     -999.0,9,     -999.0,9,     -999.0,9,     -999.0,9, -999.00,9,   3.5450,-999.0000,-999.000
325020060213,       P16N,      75,          1,         21,         21,2,20060327,       2018,         54,  -152.2202,       4393,   599.2,   3.4223,  34.2530,2,  34.2550,2,     13.8,2,    14.0,2,  124.90,2,   44.40,2,    0.00,2,    3.14,2,   0.276,2,   0.130,2,-999.000,5,  2361.6,2,  2353.2,2,   -999.0,9,  -999.00,   7.2721,2,    25.00,-999.000,9,-999.000,    1.837,2,  15.460,2, -999.00,9,  -999.0,9,    -9.0,   7.840,2,   0.033,   39.69,2,   48.74,2,  599.20,   0.1810,2,   0.1310,2,   0.0730,2,   0.0520,2,   0.0139,2,   0.0153,2,     -999.0,     -999.0,9,     -999.0,9,     -999.0,9,     -999.0,9,     -999.0,9,     -999.0,9, -999.00,9,   3.3818,    0.003,   0.396
325020060213,       P16N,      75,          1,         20,         20,2,20060327,       2018,         54,  -152.2202,       4393,   699.4,   3.2339,  34.3022,2,  34.3063,2,     13.8,2,    14.1,2,  133.00,2,   44.50,2,    0.00,2,    3.16,2,   0.161,2,   0.071,2,-999.000,5,  2370.3,2,  2364.0,2,   -999.0,9,  -999.00,   7.2800,2,    25.00,   0.095,2,   0.005,    1.911,2,  16.457,2, -999.00,9,  -999.0,9,    -9.0,   8.211,2,   0.008,   38.93,2,   48.57,2,  699.40,   0.1840,2,   0.1330,2,   0.0730,2,   0.0530,2,   0.0140,2,   0.0154,2,     -999.0,     -999.0,9,     -999.0,9,     -999.0,9,     -999.0,9,     -999.0,9,     -999.0,9, -999.00,9,   3.1870,    0.000,   0.181
325020060213,       P16N,      75,          1,         19,         19,2,20060327,       2018,         54,  -152.2202,       4393,   800.1,   3.0369,  34.3479,2,  34.3496,2,     14.3,2,    14.6,2,  138.90,2,   44.50,2,    0.00,2,    3.17,2,   0.117,2,   0.053,2,-999.000,5,  2377.0,2,  2371.9,2,   -999.0,9,  -999.00,   7.2878,2,    25.00,   0.067,2,   0.005,    1.913,2,  17.043,2, -999.00,9,  -999.0,9,    -9.0,   8.147,2,   0.020,   38.00,2,   48.23,2,  800.10,   0.1760,2,   0.1270,2,   0.0710,2,   0.0520,2,   0.0135,2,   0.0149,2,     -999.0,     -999.0,9,     -999.0,9,     -999.0,9,     -999.0,9,     -999.0,9,     -999.0,9, -999.00,9,   2.9838,    0.001,   0.191
325020060213,       P16N,      75,          1,         18,         18,2,20060327,       2018,         54,  -152.2202,       4393,   899.2,   2.8654,  34.3836,2,  34.3854,2,     16.0,2,    16.3,2,  144.90,2,   44.20,2,    0.00,2,    3.17,2,   0.072,2,   0.037,2,-999.000,5,  2380.1,2,  2383.7,6,   -999.0,9,  -999.00,   7.2942,6,    25.00,   0.056,2,   0.004,    1.888,2,  18.062,2, -999.00,9,  -999.0,9,    -9.0,   8.218,2,   0.014,   37.26,2,   48.40,2,  899.20,   0.1730,2,   0.1240,2,   0.0700,2,   0.0510,2,   0.0134,2,   0.0149,2,     -999.0,     -999.0,9,     -999.0,9,     -999.0,9,     -999.0,9,     -999.0,9,     -999.0,9, -999.00,9,   2.8062,    0.001,   0.200
325020060213,       P16N,      75,          1,         17,         17,2,20060327,       2018,         54,  -152.2202,       4393,   999.5,   2.7467,  34.4090,2,  34.4107,2,     17.0,2,    17.5,2,  148.50,2,   44.60,2,    0.00,2,    3.18,2,   0.046,2,   0.028,2,-999.000,5,  2382.6,2,  2388.6,2,   -999.0,9,  -999.00,   7.2980,2,    25.00,   0.028,2,   0.005,    1.918,2,  17.271,2, -999.00,9,  -999.0,9,    -9.0,   8.354,2,   0.035,   36.37,2,   49.06,2,  999.50,   0.1770,2,   0.1280,2,   0.0730,2,   0.0540,2,   0.0131,2,   0.0144,3,     -999.0,     -999.0,9,     -999.0,9,     -999.0,9,     -999.0,9,     -999.0,9,     -999.0,9, -999.00,9,   2.6810,    0.001,   0.187
325020060213,       P16N,      75,          1,         16,         16,2,20060327,       2018,         54,  -152.2202,       4393,  1183.6,   2.4997,  34.4608,2,  34.4643,2,     22.1,2,    22.3,2,  156.20,2,   44.10,2,    0.00,2,    3.17,2,   0.027,2,   0.017,2,-999.000,5,  2388.5,2,  2398.5,2,   -999.0,9,  -999.00,   7.3127,2,    25.00,   0.004,2,   0.004,-999.0000,9,-999.000,9, -999.00,9,  -999.0,9,    -9.0,-999.000,9,-999.000,   36.50,2,   48.17,2, 1183.60,   0.1740,2,   0.1250,2,   0.0720,2,   0.0550,2,   0.0125,3,   0.0139,3,     -999.0,     -999.0,9,     -999.0,9,     -999.0,9,     -999.0,9,     -999.0,9,     -999.0,9, -999.00,9,   2.4224,-999.0000,-999.000
325020060213,       P16N,      75,          1,         15,         15,3,20060327,       2018,         54,  -152.2202,       4393,  1399.4,   2.2670,  34.5111,2,  34.5131,2,     31.5,2,    32.4,2,  162.40,2,   43.40,2,    0.00,2,    3.15,2,   0.009,2,   0.002,2,-999.000,5,  2389.9,2,  2402.3,2,   -999.0,9,  -999.00,   7.3379,2,    25.00,-999.000,9,-999.000,-999.0000,9,-999.000,9, -999.00,9,  -999.0,9,    -9.0,-999.000,9,-999.000,   36.27,2,   47.24,2, 1399.40,   0.1710,2,   0.1220,2,   0.0710,2,   0.0540,2,   0.0122,3,   0.0137,3,     -999.0,     -999.0,9,     -999.0,9,     -999.0,9,     -999.0,9,     -999.0,9,     -999.0,9, -999.00,9,   2.1756,-999.0000,-999.000
325020060213,       P16N,      75,          1,         14,         14,2,20060327,       2018,         54,  -152.2202,       4393,  1599.4,   2.0972,  34.5488,2,  34.5506,2,     42.0,2,    42.4,2,  165.90,2,   42.90,2,    0.00,2,    3.12,2,-999.000,9,-999.000,9,-999.000,9,  2388.1,3,  2408.0,2,   2045.5,3,    20.00,   7.3622,2,    25.00,-999.000,9,-999.000,-999.0000,9,-999.000,9, -999.00,9,  -999.0,9,    -9.0,-999.000,9,-999.000,   36.19,2,   46.59,2, 1599.40,   0.1720,2,   0.1230,2,   0.0700,2,   0.0540,2,   0.0124,3,   0.0140,3,     -999.0,     -999.0,9,     -999.0,9,     -999.0,9,     -999.0,9,     -999.0,9,     -999.0,9, -999.00,9,   1.9921,-999.0000,-999.000
325020060213,       P16N,      75,          1,         12,         12,2,20060327,       2018,         54,  -152.2202,       4393,  1798.6,   1.9536,  34.5795,2,  34.5819,2,     53.5,2,    54.3,2,  168.10,2,   42.20,2,    0.00,2,    3.07,2,   0.001,2,   0.001,2,-999.000,5,  2384.7,2,  2418.4,2,   1901.3,2,    20.00,   7.3856,2,    25.00,   0.001,2,   0.004,    1.901,2,  16.769,2, -999.00,9,  -999.0,9,    -9.0,   8.076,2,   0.037,   36.37,2,   48.11,2, 1798.60,   0.1630,2,   0.1150,2,   0.0660,2,   0.0510,2,   0.0121,3,   0.0139,3,     -999.0,     -999.0,9,     -999.0,9,     -999.0,9,     -999.0,9,     -999.0,9,     -999.0,9, -999.00,9,   1.8346,    0.003,   0.721
325020060213,       P16N,      75,          1,         13,         13,4,20060327,       2018,         54,  -152.2202,       4393,  1798.7,   1.9545,  34.5794,2,  34.2921,4,     53.4,2,    14.2,4,  130.20,4,   44.40,4,    0.00,4,    3.16,4,-999.000,9,-999.000,9,-999.000,9,  2367.5,3,  2359.9,3,   2519.1,4,    20.00,   7.2796,3,    25.00,-999.000,9,-999.000,-999.0000,9,-999.000,9, -999.00,9,  -999.0,9,    -9.0,-999.000,9,-999.000,   36.55,2,   45.62,2, 1798.70,-999.0000,9,-999.0000,9,-999.0000,9,-999.0000,9,-999.0000,9,-999.0000,9,     -999.0,     -999.0,9,     -999.0,9,     -999.0,9,     -999.0,9,     -999.0,9,     -999.0,9, -999.00,9,   1.8355,-999.0000,-999.000
325020060213,       P16N,      75,          1,         11,         11,2,20060327,       2018,         54,  -152.2202,       4393,  1993.0,   1.8584,  34.5996,2,  34.6020,2,     63.3,2,    63.7,2,  169.60,2,   41.60,2,    0.00,2,    3.03,2,-999.000,9,-999.000,9,-999.000,9,  2379.8,2,  2421.7,2,   1814.9,2,    20.00,   7.4085,2,    25.00,-999.000,9,-999.000,-999.0000,9,-999.000,9, -999.00,9,  -999.0,9,    -9.0,-999.000,9,-999.000,   36.83,2,   45.16,2, 1993.00,   0.1680,2,   0.1200,2,   0.0680,2,   0.0530,2,   0.0121,3,   0.0138,3,     -999.0,     -999.0,9,     -999.0,9,     -999.0,9,     -999.0,9,     -999.0,9,     -999.0,9, -999.00,9,   1.7248,-999.0000,-999.000
325020060213,       P16N,      75,          1,         10,         10,2,20060327,       2018,         54,  -152.2202,       4393,  2199.7,   1.7711,  34.6173,2,  34.6212,3,     74.6,2,    75.2,2,  169.80,2,   40.70,2,    0.00,2,    2.99,2,-999.000,9,-999.000,9,-999.000,9,  2374.8,2,  2422.4,2,   1716.4,6,    20.00,   7.4287,2,    25.00,-999.000,9,-999.000,-999.0000,9,-999.000,9, -999.00,9,  -999.0,9,    -9.0,-999.000,9,-999.000,   36.63,2,   44.79,2, 2199.70,   0.1510,2,   0.1070,2,   0.0610,2,   0.0480,2,   0.0120,3,   0.0139,3,     -999.0,     -999.0,9,     -999.0,9,     -999.0,9,     -999.0,9,     -999.0,9,     -999.0,9, -999.00,9,   1.6215,-999.0000,-999.000