BOTTLE,20170720CCHSIOCBG
EXPOCODE,SECT_ID,STNNBR,CASTNO,SAMPNO,BTLNBR,BTLNBR_FLAG_W,DATE,TIME,LATITUDE,LONGITUDE,DEPTH,CTDPRS,CTDTMP,CTDSAL,CTDSAL_FLAG_W,SALNTY,SALNTY_FLAG_W,CTDOXY,CTDOXY_FLAG_W,OXYGEN,OXYGEN_FLAG_W,SILCAT,SILCAT_FLAG_W,NITRAT,NITRAT_FLAG_W,NITRIT,NITRIT_FLAG_W,PHSPHT,PHSPHT_FLAG_W,CFC-11,CFC-11_FLAG_W,CFC-12,CFC-12_FLAG_W,CFC113,CFC113_FLAG_W,TCARBN,TCARBN_FLAG_W,ALKALI,ALKALI_FLAG_W,FCO2,FCO2_FLAG_W,FCO2TMP,PH_TOT,PH_TOT_FLAG_W,PH_TMP,TRITUM,TRITUM_FLAG_W,TRITER,HELIUM,HELIUM_FLAG_W,DELHE3,DELHE3_FLAG_W,DELC13,DELC13_FLAG_W,DELC14,DELC14_FLAG_W,C14ERR,NEON,NEON_FLAG_W,NEONER,DOC,DOC_FLAG_W,TDN,TDN_FLAG_W,CTDRAW,CDOM325,CDOM325_FLAG_W,CDOM340,CDOM340_FLAG_W,CDOM380,CDOM380_FLAG_W,CDOM412,CDOM412_FLAG_W,CDOMSL,CDOMSL_FLAG_W,CDOMSN,CDOMSN_FLAG_W,DCNS,ARABI,ARABI_FLAG_W,FUCO,FUCO_FLAG_W,GALA,GALA_FLAG_W,GLUC,GLUC_FLAG_W,MAN,MAN_FLAG_W,RHAM,RHAM_FLAG_W,BRDU,BRDU_FLAG_W,THETA,HELIER,DELHER
,,,,,,,,,,,METERS,DBAR,ITS-90,PSS-78,,PSS-78,,UMOL/KG,,UMOL/KG,,UMOL/KG,,UMOL/KG,,UMOL/KG,,UMOL/KG,,PMOL/KG,,PMOL/KG,,PMOL/KG,,UMOL/KG,,UMOL/KG,,UATM,,DEG C,,,DEG C,TU,,TU,NMOL/KG,,PERCNT,,/MILLE,,/MILLE,,/MILLE,NMOL/KG,,NMOL/KG,UMOL/KG,,UMOL/KG,,DBAR,1/M,,1/M,,1/M,,1/M,,1/NM,,1/NM,,NMOL/KG,NMOL/KG,,NMOL/KG,,NMOL/KG,,NMOL/KG,,NMOL/KG,,NMOL/KG,,PMOL/L/H,,DEG C,NMOL/KG,PERCNT
325020060213,       P16N,      60,          2,          9,          9,2,20060319,       2302,    37.9997,  -152.0005,       4930,  2874.4,   1.5755,  34.6597,2,  34.6604,2,    109.9,2,   110.4,2,  164.90,2,   39.10,2,    0.00,2,    2.71,2,   0.017,3,  -0.003,2,-999.000,5,  2355.5,2,  2427.5,2,   -999.0,9,  -999.00,   7.5022,2,    25.00,-999.000,9,-999.000,-999.0000,9,-999.000,9, -999.00,9,  -999.0,9,    -9.0,-999.000,9,-999.000,   36.06,2,   43.02,2, 2874.40,   0.1340,2,   0.0910,2,   0.0470,2,   0.0350,2,   0.0146,3,   0.0174,3,     -999.0,     -999.0,9,     -999.0,9,     -999.0,9,     -999.0,9,     -999.0,9,     -999.0,9, -999.00,9,   1.3690,-999.0000,-999.000
325020060213,       P16N,      60,          2,          8,          8,2,20060319,       2302,    37.9997,  -152.0005,       4930,  3116.0,   1.5259,  34.6684,2,  34.6690,2,    120.6,2,   121.3,2,  163.00,2,   38.20,2,    0.00,2,    2.66,2,-999.000,9,-999.000,9,-999.000,9,  2348.4,2,  2426.1,2,   -999.0,9,  -999.00,   7.5242,2,    25.00,-999.000,9,-999.000,-999.0000,9,-999.000,9, -999.00,9,  -999.0,9,    -9.0,-999.000,9,-999.000,   36.26,2,   41.86,2, 3116.00,   0.1290,2,   0.0870,2,   0.0450,2,   0.0330,2,   0.0151,3,   0.0179,3,     -999.0,     -999.0,9,     -999.0,9,     -999.0,9,     -999.0,9,     -999.0,9,     -999.0,9, -999.00,9,   1.2974,-999.0000,-999.000
325020060213,       P16N,      60,          2,          7,          7,2,20060319,       2302,    37.9997,  -152.0005,       4930,  3448.2,   1.4888,  34.6766,2,  34.6814,3,    131.4,2,   132.1,2,  160.00,2,   37.80,2,    0.00,2,    2.61,2,  -0.001,2,   0.003,2,-999.000,5,  2341.4,2,  2426.4,6,   -999.0,9,  -999.00,   7.5457,6,    25.00,-999.000,9,-999.000,-999.0000,9,-999.000,9, -999.00,9,  -999.0,9,    -9.0,-999.000,9,-999.000,   36.42,2,   40.67,2, 3448.20,   0.1250,2,   0.0830,2,   0.0410,2,   0.0300,2,   0.0168,2,   0.0193,2,     -999.0,     -999.0,9,     -999.0,9,     -999.0,9,     -999.0,9,     -999.0,9,     -999.0,9, -999.00,9,   1.2283,-999.0000,-999.000
325020060213,       P16N,      60,          2,          6,          6,2,20060319,       2302,    37.9997,  -152.0005,       4930,  3847.4,   1.4723,  34.6838,2,  34.6850,2,    139.8,2,   140.2,2,  159.60,2,   36.80,2,    0.00,2,    2.57,2,-999.000,9,-999.000,9,-999.000,9,  2336.8,2,  2429.6,2,   -999.0,9,  -999.00,   7.5614,2,    25.00,-999.000,9,-999.000,-999.0000,9,-999.000,9, -999.00,9,  -999.0,9,    -9.0,-999.000,9,-999.000,   36.06,2,   39.85,2, 3847.40,   0.1120,2,   0.0750,2,   0.0350,2,   0.0210,2,   0.0205,2,   0.0224,2,     -999.0,     -999.0,9,     -999.0,9,     -999.0,9,     -999.0,9,     -999.0,9,     -999.0,9, -999.00,9,   1.1706,-999.0000,-999.000
325020060213,       P16N,      60,          2,          5,          5,2,20060319,       2302,    37.9997,  -152.0005,       4930,  4299.6,   1.4905,  34.6878,2,  34.6873,2,    143.9,2,   144.4,2,  160.60,2,   36.90,2,    0.00,2,    2.55,2,-999.000,9,-999.000,9,-999.000,9,  2334.7,2,  2431.2,2,   -999.0,9,  -999.00,   7.5734,2,    25.00,-999.000,9,-999.000,-999.0000,9,-999.000,9, -999.00,9,  -999.0,9,    -9.0,-999.000,9,-999.000,   37.60,2,   40.95,2, 4299.60,   0.1240,2,   0.0820,2,   0.0400,2,   0.0290,2,   0.0177,2,   0.0200,2,     -999.0,     -999.0,9,     -999.0,9,     -999.0,9,     -999.0,9,     -999.0,9,     -999.0,9, -999.00,9,   1.1386,-999.0000,-999.000
325020060213,       P16N,      60,          2,          4,          4,2,20060319,       2302,    37.9997,  -152.0005,       4930,  4400.7,   1.4972,  34.6884,2,  34.6889,2,    144.9,2,   145.3,2,  160.00,6,   36.80,6,    0.00,6,    2.53,6,   0.007,3,  -0.002,2,-999.000,5,  2334.0,2,  2430.0,2,   -999.0,9,  -999.00,   7.5742,2,    25.00,-999.000,9,-999.000,-999.0000,9,-999.000,9, -999.00,9,  -999.0,9,    -9.0,-999.000,9,-999.000,   37.28,2,   40.54,2, 4400.70,   0.1210,2,   0.0800,2,   0.0400,2,   0.0290,2,   0.0181,2,   0.0203,2,     -999.0,     -999.0,9,     -999.0,9,     -999.0,9,     -999.0,9,     -999.0,9,     -999.0,9, -999.00,9,   1.1337,-999.0000,-999.000
325020060213,       P16N,      60,          2,          3,          3,2,20060319,       2302,    37.9997,  -152.0005,       4930,  4599.3,   1.5108,  34.6894,2,  34.6903,2,    146.9,2,   147.1,2,  158.20,6,   36.40,6,    0.00,6,    2.52,6,-999.000,9,-999.000,9,-999.000,9,  2333.0,2,  2429.9,2,   -999.0,9,  -999.00,   7.5772,2,    25.00,-999.000,9,-999.000,-999.0000,9,-999.000,9, -999.00,9,  -999.0,9,    -9.0,-999.000,9,-999.000,   37.44,2,   40.41,2, 4599.30,   0.1220,2,   0.0800,2,   0.0400,2,   0.0290,2,   0.0181,2,   0.0203,2,     -999.0,     -999.0,9,     -999.0,9,     -999.0,9,     -999.0,9,     -999.0,9,     -999.0,9, -999.00,9,   1.1240,-999.0000,-999.000
325020060213,       P16N,      60,          2,          2,          2,2,20060319,       2302,    37.9997,  -152.0005,       4930,  4798.7,   1.5268,  34.6902,2,  34.6906,2,    149.2,2,   149.7,2,  155.80,6,   36.60,6,    0.00,6,    2.50,6,  -0.001,2,  -0.003,2,-999.000,5,  2330.6,2,  2430.4,2,   -999.0,9,  -999.00,   7.5790,2,    25.00,-999.000,9,-999.000,-999.0000,9,-999.000,9, -999.00,9,  -999.0,9,    -9.0,-999.000,9,-999.000,   36.89,2,   40.23,2, 4798.70,   0.1210,2,   0.0790,2,   0.0390,2,   0.0290,2,   0.0186,2,   0.0207,2,     -999.0,     -999.0,9,     -999.0,9,     -999.0,9,     -999.0,9,     -999.0,9,     -999.0,9, -999.00,9,   1.1159,-999.0000,-999.000
325020060213,       P16N,      60,          2,          1,          1,2,20060319,       2302,    37.9997,  -152.0005,       4930,  5049.2,   1.5532,  34.6907,2,  34.7001,4,    150.9,2,   150.7,2,  154.00,2,   36.20,2,    0.00,2,    2.50,2,   0.004,2,   0.001,2,-999.000,5,  2330.2,6,  2431.8,2,   -999.0,9,  -999.00,   7.5816,2,    25.00,-999.000,9,-999.000,-999.0000,9,-999.000,9, -999.00,9,  -999.0,9,    -9.0,-999.000,9,-999.000,   37.23,2,   39.49,2, 5049.20,   0.1250,2,   0.0840,2,   0.0400,2,   0.0300,2,   0.0178,2,   0.0199,2,     -999.0,     -999.0,9,     -999.0,9,     -999.0,9,     -999.0,9,     -999.0,9,     -999.0,9, -999.00,9,   1.1112,-999.0000,-999.000