BOTTLE,20170720CCHSIOCBG
EXPOCODE,SECT_ID,STNNBR,CASTNO,SAMPNO,BTLNBR,BTLNBR_FLAG_W,DATE,TIME,LATITUDE,LONGITUDE,DEPTH,CTDPRS,CTDTMP,CTDSAL,CTDSAL_FLAG_W,SALNTY,SALNTY_FLAG_W,CTDOXY,CTDOXY_FLAG_W,OXYGEN,OXYGEN_FLAG_W,SILCAT,SILCAT_FLAG_W,NITRAT,NITRAT_FLAG_W,NITRIT,NITRIT_FLAG_W,PHSPHT,PHSPHT_FLAG_W,CFC-11,CFC-11_FLAG_W,CFC-12,CFC-12_FLAG_W,CFC113,CFC113_FLAG_W,TCARBN,TCARBN_FLAG_W,ALKALI,ALKALI_FLAG_W,FCO2,FCO2_FLAG_W,FCO2TMP,PH_TOT,PH_TOT_FLAG_W,PH_TMP,TRITUM,TRITUM_FLAG_W,TRITER,HELIUM,HELIUM_FLAG_W,DELHE3,DELHE3_FLAG_W,DELC13,DELC13_FLAG_W,DELC14,DELC14_FLAG_W,C14ERR,NEON,NEON_FLAG_W,NEONER,DOC,DOC_FLAG_W,TDN,TDN_FLAG_W,CTDRAW,CDOM325,CDOM325_FLAG_W,CDOM340,CDOM340_FLAG_W,CDOM380,CDOM380_FLAG_W,CDOM412,CDOM412_FLAG_W,CDOMSL,CDOMSL_FLAG_W,CDOMSN,CDOMSN_FLAG_W,DCNS,ARABI,ARABI_FLAG_W,FUCO,FUCO_FLAG_W,GALA,GALA_FLAG_W,GLUC,GLUC_FLAG_W,MAN,MAN_FLAG_W,RHAM,RHAM_FLAG_W,BRDU,BRDU_FLAG_W,THETA,HELIER,DELHER
,,,,,,,,,,,METERS,DBAR,ITS-90,PSS-78,,PSS-78,,UMOL/KG,,UMOL/KG,,UMOL/KG,,UMOL/KG,,UMOL/KG,,UMOL/KG,,PMOL/KG,,PMOL/KG,,PMOL/KG,,UMOL/KG,,UMOL/KG,,UATM,,DEG C,,,DEG C,TU,,TU,NMOL/KG,,PERCNT,,/MILLE,,/MILLE,,/MILLE,NMOL/KG,,NMOL/KG,UMOL/KG,,UMOL/KG,,DBAR,1/M,,1/M,,1/M,,1/M,,1/NM,,1/NM,,NMOL/KG,NMOL/KG,,NMOL/KG,,NMOL/KG,,NMOL/KG,,NMOL/KG,,NMOL/KG,,PMOL/L/H,,DEG C,NMOL/KG,PERCNT
325020060213,       P16N,      59,          2,         36,         36,2,20060319,       1048,    36.9998,       -152,       5530,     5.7,  12.8907,  33.8377,2,  33.8404,2,    262.6,2,   264.3,2,    2.60,2,    0.20,2,    0.10,2,    0.19,2,   3.186,2,   1.876,2,-999.000,5,  2013.9,6,  2238.3,2,    452.9,2,    20.00,   7.9211,6,    25.00,   0.826,2,   0.023,    1.768,2,  -1.680,2, -999.00,9,  -999.0,9,    -9.0,   7.322,2,   0.012,   60.85,2,    4.39,2,    5.70,-999.0000,9,-999.0000,9,-999.0000,9,-999.0000,9,-999.0000,9,-999.0000,9,     -999.0,     -999.0,9,     -999.0,9,     -999.0,9,     -999.0,9,     -999.0,9,     -999.0,9, -999.00,9,  12.8899,    0.003,   0.211
325020060213,       P16N,      59,          2,         35,         35,2,20060319,       1048,    36.9998,       -152,       5530,    24.7,  12.8985,  33.8371,2,  33.8394,2,    263.1,2,   264.8,2,    2.50,2,    0.20,2,    0.00,2,    0.19,2,   3.174,2,   1.865,2,-999.000,5,  2014.7,2,  2237.5,2,    478.0,2,    20.00,   7.9204,2,    25.00,-999.000,9,-999.000,    1.807,2,  -0.534,2, -999.00,9,  -999.0,9,    -9.0,   7.627,2,   0.009,   60.04,2,    3.91,2,   24.70,-999.0000,9,-999.0000,9,-999.0000,9,-999.0000,9,-999.0000,9,-999.0000,9,     -999.0,     -999.0,9,     -999.0,9,     -999.0,9,     -999.0,9,     -999.0,9,     -999.0,9, -999.00,9,  12.8952,    0.001,   0.185
325020060213,       P16N,      59,          2,         34,         34,2,20060319,       1048,    36.9998,       -152,       5530,    50.6,  12.8979,  33.8366,2,  33.8372,2,    264.1,2,   264.5,2,    2.50,2,    0.20,2,    0.10,2,    0.19,2,   3.158,2,   1.868,2,-999.000,5,  2011.7,2,  2233.5,2,    476.0,2,    20.00,   7.9209,2,    25.00,   0.842,2,   0.014,    1.737,2,  -2.156,3, -999.00,9,  -999.0,9,    -9.0,   7.453,2,   0.010,   60.18,2,    5.09,2,   50.60,-999.0000,9,-999.0000,9,-999.0000,9,-999.0000,9,-999.0000,9,-999.0000,9,     -999.0,     -999.0,9,     -999.0,9,     -999.0,9,     -999.0,9,     -999.0,9,     -999.0,9, -999.00,9,  12.8911,    0.004,   0.212
325020060213,       P16N,      59,          2,         33,         33,2,20060319,       1048,    36.9998,       -152,       5530,    76.1,  12.8648,  33.8358,2,  33.8389,2,    264.9,2,   127.6,4,    2.50,2,    0.30,2,    0.10,2,    0.19,2,   3.126,2,   1.858,2,-999.000,5,  2012.5,2,  2234.0,2,    462.4,2,    20.00,   7.9196,2,    25.00,   0.814,2,   0.017,    1.785,2,  -1.104,2, -999.00,9,  -999.0,9,    -9.0,   7.531,2,   0.008,   56.85,2,    5.01,2,   76.10,-999.0000,9,-999.0000,9,-999.0000,9,-999.0000,9,-999.0000,9,-999.0000,9,     -999.0,     -999.0,9,     -999.0,9,     -999.0,9,     -999.0,9,     -999.0,9,     -999.0,9, -999.00,9,  12.8545,    0.000,   0.160
325020060213,       P16N,      59,          2,         32,         32,2,20060319,       1048,    36.9998,       -152,       5530,   100.5,  12.6944,  33.8414,2,  33.8444,2,    261.7,2,   261.6,2,    2.50,2,    0.50,2,    0.10,2,    0.22,2,   3.125,2,   1.847,2,-999.000,5,  2015.8,2,  2237.8,2,    488.7,2,    20.00,   7.9162,2,    25.00,   0.864,2,   0.012,    1.820,2,  -3.238,4, -999.00,9,  -999.0,9,    -9.0,   7.785,2,   0.011,   54.69,2,    4.70,2,  100.50,-999.0000,9,-999.0000,9,-999.0000,9,-999.0000,9,-999.0000,9,-999.0000,9,     -999.0,     -999.0,9,     -999.0,9,     -999.0,9,     -999.0,9,     -999.0,9,     -999.0,9, -999.00,9,  12.6810,    0.003,   0.203
325020060213,       P16N,      59,          2,         31,         31,2,20060319,       1048,    36.9998,       -152,       5530,   126.5,  11.6542,  34.0739,2,  34.0779,2,    229.1,2,   231.9,2,    8.10,2,    8.20,2,    0.00,2,    0.62,2,   3.360,2,   1.920,2,-999.000,5,  2065.5,2,  2254.9,2,    564.6,2,    20.00,   7.8390,2,    25.00,-999.000,9,-999.000,    1.762,2,  -2.283,3, -999.00,9,  -999.0,9,    -9.0,   7.551,2,   0.010,   51.15,2,   12.92,2,  126.50,-999.0000,9,-999.0000,9,-999.0000,9,-999.0000,9,-999.0000,9,-999.0000,9,     -999.0,     -999.0,9,     -999.0,9,     -999.0,9,     -999.0,9,     -999.0,9,     -999.0,9, -999.00,9,  11.6382,    0.003,   0.212
325020060213,       P16N,      59,          2,         30,         30,2,20060319,       1048,    36.9998,       -152,       5530,   150.4,  11.1899,  34.1656,2,  34.1682,2,    225.5,2,   226.0,2,   10.60,2,   10.80,2,    0.00,2,    0.76,2,   3.341,2,   1.897,2,-999.000,5,  2079.3,2,  2262.8,2,    598.4,2,    20.00,   7.8195,2,    25.00,-999.000,9,-999.000,-999.0000,9,-999.000,9, -999.00,9,  -999.0,9,    -9.0,-999.000,9,-999.000,   50.52,2,   14.98,2,  150.40,-999.0000,9,-999.0000,9,-999.0000,9,-999.0000,9,-999.0000,9,-999.0000,9,     -999.0,     -999.0,9,     -999.0,9,     -999.0,9,     -999.0,9,     -999.0,9,     -999.0,9, -999.00,9,  11.1714,-999.0000,-999.000
325020060213,       P16N,      59,          2,         29,         29,2,20060319,       1048,    36.9998,       -152,       5530,   202.3,  10.3804,  34.1655,2,  34.1664,2,    220.3,2,   219.9,2,   15.20,2,   13.50,2,    0.00,2,    0.95,2,   3.383,2,   1.887,2,-999.000,5,  2096.8,2,  2264.9,6,    651.6,2,    20.00,   7.7879,2,    25.00,   0.751,2,   0.011,    1.763,2,  -0.858,2, -999.00,9,  -999.0,9,    -9.0,   7.656,2,   0.010,   48.98,2,   18.15,2,  202.30,-999.0000,9,-999.0000,9,-999.0000,9,-999.0000,9,-999.0000,9,-999.0000,9,     -999.0,     -999.0,9,     -999.0,9,     -999.0,9,     -999.0,9,     -999.0,9,     -999.0,9, -999.00,9,  10.3566,    0.003,   0.205
325020060213,       P16N,      59,          2,         28,         28,2,20060319,       1048,    36.9998,       -152,       5530,   249.9,   9.8380,  34.1360,2,  34.1378,2,    217.3,2,   217.2,2,   18.20,2,   15.30,2,    0.00,2,    1.04,2,   3.428,2,   1.882,2,-999.000,5,  2107.1,2,  2266.7,2,    685.3,2,    20.00,   7.7697,2,    25.00,-999.000,9,-999.000,-999.0000,9,-999.000,9, -999.00,9,  -999.0,9,    -9.0,-999.000,9,-999.000,   48.20,2,   19.85,2,  249.90,-999.0000,9,-999.0000,9,-999.0000,9,-999.0000,9,-999.0000,9,-999.0000,9,     -999.0,     -999.0,9,     -999.0,9,     -999.0,9,     -999.0,9,     -999.0,9,     -999.0,9, -999.00,9,   9.8096,-999.0000,-999.000
325020060213,       P16N,      59,          2,         27,         27,2,20060319,       1048,    36.9998,       -152,       5530,   300.9,   8.9399,  34.0688,2,  34.0694,2,    206.9,2,   207.8,2,   23.50,2,   18.00,2,    0.00,2,    1.23,2,   3.345,2,   1.840,2,-999.000,5,  2125.6,2,  2265.8,2,    762.5,2,    20.00,   7.7283,2,    25.00,   0.748,2,   0.011,    1.795,2,   2.916,2, -999.00,9,  -999.0,9,    -9.0,   7.709,2,   0.008,   46.76,2,   21.86,2,  300.90,-999.0000,9,-999.0000,9,-999.0000,9,-999.0000,9,-999.0000,9,-999.0000,9,     -999.0,     -999.0,9,     -999.0,9,     -999.0,9,     -999.0,9,     -999.0,9,     -999.0,9, -999.00,9,   8.9075,    0.000,   0.173
325020060213,       P16N,      59,          2,         26,         26,2,20060319,       1048,    36.9998,       -152,       5530,   349.9,   8.0956,  34.0284,2,  34.0302,2,    185.7,2,   185.5,2,   31.00,2,   21.80,2,    0.00,2,    1.48,2,   3.258,2,   1.734,2,-999.000,5,  2152.8,2,  2270.0,2,    889.8,2,    20.00,   7.6679,2,    25.00,-999.000,9,-999.000,    1.812,2,   5.850,2, -999.00,9,  -999.0,9,    -9.0,   7.799,2,   0.008,   44.93,2,   25.94,2,  349.90,-999.0000,9,-999.0000,9,-999.0000,9,-999.0000,9,-999.0000,9,-999.0000,9,     -999.0,     -999.0,9,     -999.0,9,     -999.0,9,     -999.0,9,     -999.0,9,     -999.0,9, -999.00,9,   8.0601,    0.000,   0.185
325020060213,       P16N,      59,          2,         25,         25,2,20060319,       1048,    36.9998,       -152,       5530,   401.1,   7.1431,  33.9895,2,  33.9890,2,    160.3,2,   160.9,2,   40.60,2,   25.70,2,    0.00,2,    1.76,2,   2.954,2,   1.539,2,-999.000,5,  2182.4,2,  2276.3,2,   1061.8,2,    20.00,   7.5999,2,    25.00,-999.000,9,-999.000,    1.812,2,   8.018,2, -999.00,9,  -999.0,9,    -9.0,   7.650,2,   0.013,   43.94,2,   29.66,2,  401.10,-999.0000,9,-999.0000,9,-999.0000,9,-999.0000,9,-999.0000,9,-999.0000,9,     -999.0,     -999.0,9,     -999.0,9,     -999.0,9,     -999.0,9,     -999.0,9,     -999.0,9, -999.00,9,   7.1051,    0.003,   0.209
325020060213,       P16N,      59,          2,         24,         24,2,20060319,       1048,    36.9998,       -152,       5530,   450.0,   6.4675,  33.9805,2,  33.9849,2,    136.9,2,   137.3,2,   50.00,2,   29.50,2,    0.00,2,    2.00,2,   2.623,2,   1.320,2,-999.000,5,  2209.0,2,  2283.1,2,   1229.9,2,    20.00,   7.5403,2,    25.00,-999.000,9,-999.000,    1.811,2,   9.797,2, -999.00,9,  -999.0,9,    -9.0,   7.745,2,   0.033,   42.60,2,   33.62,2,  450.00,-999.0000,9,-999.0000,9,-999.0000,9,-999.0000,9,-999.0000,9,-999.0000,9,     -999.0,     -999.0,9,     -999.0,9,     -999.0,9,     -999.0,9,     -999.0,9,     -999.0,9, -999.00,9,   6.4271,    0.003,   0.268
325020060213,       P16N,      59,          2,         23,         23,2,20060319,       1048,    36.9998,       -152,       5530,   499.9,   5.8234,  33.9838,2,  33.9874,2,    116.9,2,   116.4,2,   60.20,2,   32.40,2,    0.00,2,    2.25,2,   2.208,2,   1.093,2,-999.000,5,  2234.2,2,  2291.4,2,   1422.8,6,    20.00,   7.4840,2,    25.00,-999.000,9,-999.000,    1.842,2,  12.845,2, -999.00,9,  -999.0,9,    -9.0,   7.950,2,   0.009,   41.71,2,   36.01,2,  499.90,-999.0000,9,-999.0000,9,-999.0000,9,-999.0000,9,-999.0000,9,-999.0000,9,     -999.0,     -999.0,9,     -999.0,9,     -999.0,9,     -999.0,9,     -999.0,9,     -999.0,9, -999.00,9,   5.7809,    0.000,   0.196
325020060213,       P16N,      59,          2,         22,         22,2,20060319,       1048,    36.9998,       -152,       5530,   601.6,   4.8523,  34.0228,2,  34.0271,2,     84.3,2,    81.9,2,   78.10,2,   36.90,2,    0.00,2,    2.58,2,   1.490,2,   0.724,2,-999.000,5,  2275.8,2,  2307.0,2,   1776.3,2,    20.00,   7.4029,2,    25.00,-999.000,9,-999.000,-999.0000,9,-999.000,9, -999.00,9,  -999.0,9,    -9.0,-999.000,9,-999.000,   40.98,2,   40.50,2,  601.60,-999.0000,9,-999.0000,9,-999.0000,9,-999.0000,9,-999.0000,9,-999.0000,9,     -999.0,     -999.0,9,     -999.0,9,     -999.0,9,     -999.0,9,     -999.0,9,     -999.0,9, -999.00,9,   4.8051,-999.0000,-999.000
325020060213,       P16N,      59,          2,         21,         21,2,20060319,       1048,    36.9998,       -152,       5530,   697.9,   4.3412,  34.0986,2,  34.1007,2,     53.7,2,    53.1,2,   92.70,2,   39.70,2,    0.00,2,    2.79,2,   0.818,2,   0.394,2,-999.000,5,  2308.5,2,  2325.6,2,   2063.7,2,    20.00,   7.3436,2,    25.00,-999.000,9,-999.000,    1.846,2,  16.819,2, -999.00,9,  -999.0,9,    -9.0,   7.813,2,   0.013,   40.35,2,   43.84,2,  697.90,-999.0000,9,-999.0000,9,-999.0000,9,-999.0000,9,-999.0000,9,-999.0000,9,     -999.0,     -999.0,9,     -999.0,9,     -999.0,9,     -999.0,9,     -999.0,9,     -999.0,9, -999.00,9,   4.2886,    0.003,   0.206
325020060213,       P16N,      59,          2,         20,         20,2,20060319,       1048,    36.9998,       -152,       5530,   800.3,   3.9400,  34.1834,2,  34.1862,2,     30.0,2,    29.8,2,  107.90,2,   42.20,2,    0.00,2,    2.96,2,   0.322,2,   0.145,2,-999.000,5,  2336.5,2,  2343.8,2,   -999.0,9,  -999.00,   7.3099,2,    25.00,-999.000,9,-999.000,    1.856,2,  16.823,2, -999.00,9,  -999.0,9,    -9.0,   8.110,2,   0.007,   39.28,2,   46.40,2,  800.30,-999.0000,9,-999.0000,9,-999.0000,9,-999.0000,9,-999.0000,9,-999.0000,9,     -999.0,     -999.0,9,     -999.0,9,     -999.0,9,     -999.0,9,     -999.0,9,     -999.0,9, -999.00,9,   3.8814,    0.001,   0.185
325020060213,       P16N,      59,          2,         19,         19,2,20060319,       1048,    36.9998,       -152,       5530,   899.9,   3.5891,  34.2518,2,  34.2540,2,     16.0,2,    15.1,2,  119.90,2,   43.60,2,    0.00,2,    3.07,2,   0.078,2,   0.037,2,-999.000,5,  2357.6,2,  2354.0,2,   -999.0,9,  -999.00,   7.2897,2,    25.00,-999.000,9,-999.000,-999.0000,9,-999.000,9, -999.00,9,  -999.0,9,    -9.0,-999.000,9,-999.000,   39.47,2,   47.92,2,  899.90,-999.0000,9,-999.0000,9,-999.0000,9,-999.0000,9,-999.0000,9,-999.0000,9,     -999.0,     -999.0,9,     -999.0,9,     -999.0,9,     -999.0,9,     -999.0,9,     -999.0,9, -999.00,9,   3.5249,-999.0000,-999.000
325020060213,       P16N,      59,          2,         18,         18,2,20060319,       1048,    36.9998,       -152,       5530,  1001.0,   3.3353,  34.3042,2,  34.3048,2,      8.9,2,     9.0,2,  129.20,2,   43.90,2,    0.00,2,    3.12,2,   0.039,2,   0.014,2,-999.000,5,  2372.2,6,  2368.1,6,   -999.0,9,  -999.00,   7.2832,2,    25.00,-999.000,9,-999.000,-999.0000,9,-999.000,9, -999.00,9,  -999.0,9,    -9.0,-999.000,9,-999.000,   38.99,2,   48.09,2, 1001.00,-999.0000,9,-999.0000,9,-999.0000,9,-999.0000,9,-999.0000,9,-999.0000,9,     -999.0,     -999.0,9,     -999.0,9,     -999.0,9,     -999.0,9,     -999.0,9,     -999.0,9, -999.00,9,   3.2651,-999.0000,-999.000
325020060213,       P16N,      59,          2,         17,         17,2,20060319,       1048,    36.9998,       -152,       5530,  1199.9,   2.9375,  34.4042,2,  34.4062,2,      6.9,2,     6.9,2,  144.30,2,   44.60,2,    0.00,2,    3.15,2,   0.004,2,   0.004,2,-999.000,5,  2389.2,2,  2384.7,2,   -999.0,9,  -999.00,   7.2857,2,    25.00,-999.000,9,-999.000,-999.0000,9,-999.000,9, -999.00,9,  -999.0,9,    -9.0,-999.000,9,-999.000,   38.21,2,   48.69,2, 1199.90,-999.0000,9,-999.0000,9,-999.0000,9,-999.0000,9,-999.0000,9,-999.0000,9,     -999.0,     -999.0,9,     -999.0,9,     -999.0,9,     -999.0,9,     -999.0,9,     -999.0,9, -999.00,9,   2.8550,-999.0000,-999.000
325020060213,       P16N,      59,          2,         16,         16,2,20060319,       1048,    36.9998,       -152,       5530,  1400.1,   2.6570,  34.4821,2,  34.4813,2,     13.3,2,    13.7,2,  153.20,2,   44.50,2,    0.00,2,    3.13,2,-999.000,9,-999.000,9,-999.000,9,  2395.5,2,  2402.6,2,   2318.8,2,    20.00,   7.3087,2,    25.00,-999.000,9,-999.000,-999.0000,9,-999.000,9, -999.00,9,  -999.0,9,    -9.0,-999.000,9,-999.000,   37.62,2,   48.12,2, 1400.10,-999.0000,9,-999.0000,9,-999.0000,9,-999.0000,9,-999.0000,9,-999.0000,9,     -999.0,     -999.0,9,     -999.0,9,     -999.0,9,     -999.0,9,     -999.0,9,     -999.0,9, -999.00,9,   2.5614,-999.0000,-999.000
325020060213,       P16N,      59,          2,         15,         15,2,20060319,       1048,    36.9998,       -152,       5530,  1599.9,   2.4038,  34.5399,2,  34.5410,2,     28.6,2,    28.5,2,  159.00,2,   43.70,2,    0.00,2,    3.07,2,   0.006,2,   0.001,2,-999.000,5,  2393.8,2,  2413.4,2,   2138.7,2,    20.00,   7.3398,2,    25.00,-999.000,9,-999.000,-999.0000,9,-999.000,9, -999.00,9,  -999.0,9,    -9.0,-999.000,9,-999.000,   37.68,2,   47.50,2, 1599.90,-999.0000,9,-999.0000,9,-999.0000,9,-999.0000,9,-999.0000,9,-999.0000,9,     -999.0,     -999.0,9,     -999.0,9,     -999.0,9,     -999.0,9,     -999.0,9,     -999.0,9, -999.00,9,   2.2950,-999.0000,-999.000
325020060213,       P16N,      59,          2,         14,         14,2,20060319,       1048,    36.9998,       -152,       5530,  1804.3,   2.1915,  34.5781,2,  34.5771,2,     50.5,2,    46.8,2,  163.10,2,   41.80,2,    0.00,2,    3.01,2,-999.000,9,-999.000,9,-999.000,9,  2387.5,2,  2419.5,2,   1937.5,6,    20.00,   7.3837,2,    25.00,-999.000,9,-999.000,-999.0000,9,-999.000,9, -999.00,9,  -999.0,9,    -9.0,-999.000,9,-999.000,   37.72,2,   45.77,2, 1804.30,-999.0000,9,-999.0000,9,-999.0000,9,-999.0000,9,-999.0000,9,-999.0000,9,     -999.0,     -999.0,9,     -999.0,9,     -999.0,9,     -999.0,9,     -999.0,9,     -999.0,9, -999.00,9,   2.0687,-999.0000,-999.000
325020060213,       P16N,      59,          2,         13,         13,2,20060319,       1048,    36.9998,       -152,       5530,  1996.2,   2.0209,  34.6028,2,  34.6022,2,     60.0,2,    59.5,2,  166.70,2,   41.50,2,    0.00,2,    2.95,2,   0.003,6,   0.004,6,-999.000,5,  2384.8,2,  2421.1,2,   1826.2,2,    20.00,   7.4113,2,    25.00,-999.000,9,-999.000,-999.0000,9,-999.000,9, -999.00,9,  -999.0,9,    -9.0,-999.000,9,-999.000,   37.76,2,   45.32,2, 1996.20,-999.0000,9,-999.0000,9,-999.0000,9,-999.0000,9,-999.0000,9,-999.0000,9,     -999.0,     -999.0,9,     -999.0,9,     -999.0,9,     -999.0,9,     -999.0,9,     -999.0,9, -999.00,9,   1.8846,-999.0000,-999.000
325020060213,       P16N,      59,          2,         12,         12,2,20060319,       1048,    36.9998,       -152,       5530,  2250.8,   1.8156,  34.6272,2,  34.6260,2,     75.5,2,    75.7,2,  169.30,2,   40.80,2,    0.00,2,    2.87,2,-999.000,9,-999.000,9,-999.000,9,  2377.9,2,  2426.5,2,   1693.2,2,    20.00,   7.4423,2,    25.00,-999.000,9,-999.000,-999.0000,9,-999.000,9, -999.00,9,  -999.0,9,    -9.0,-999.000,9,-999.000,   37.47,2,   44.94,2, 2250.80,-999.0000,9,-999.0000,9,-999.0000,9,-999.0000,9,-999.0000,9,-999.0000,9,     -999.0,     -999.0,9,     -999.0,9,     -999.0,9,     -999.0,9,     -999.0,9,     -999.0,9, -999.00,9,   1.6608,-999.0000,-999.000
325020060213,       P16N,      59,          2,         11,         11,2,20060319,       1048,    36.9998,       -152,       5530,  2499.4,   1.6892,  34.6428,2,  34.6446,2,     89.7,2,    89.5,2,  167.90,2,   39.90,2,    0.00,2,    2.79,2,   0.019,3,   0.000,2,-999.000,5,  2368.0,2,  2424.8,2,   1567.4,6,    20.00,   7.4683,2,    25.00,-999.000,9,-999.000,    1.926,2,  19.683,2, -999.00,9,  -999.0,9,    -9.0,   8.245,2,   0.057,   37.21,2,   43.56,2, 2499.40,-999.0000,9,-999.0000,9,-999.0000,9,-999.0000,9,-999.0000,9,-999.0000,9,     -999.0,     -999.0,9,     -999.0,9,     -999.0,9,     -999.0,9,     -999.0,9,     -999.0,9, -999.00,9,   1.5148,    0.003,   0.094
325020060213,       P16N,      59,          2,         10,         10,2,20060319,       1048,    36.9998,       -152,       5530,  2751.2,   1.5905,  34.6568,2,  34.6558,2,    105.5,2,   106.3,2,  164.70,2,   38.70,2,    0.00,2,    2.71,2,-999.000,9,-999.000,9,-999.000,9,  2359.1,2,  2428.9,2,   1450.5,2,    20.00,   7.4975,2,    25.00,-999.000,9,-999.000,-999.0000,9,-999.000,9, -999.00,9,  -999.0,9,    -9.0,-999.000,9,-999.000,   37.63,2,   42.40,2, 2751.20,-999.0000,9,-999.0000,9,-999.0000,9,-999.0000,9,-999.0000,9,-999.0000,9,     -999.0,     -999.0,9,     -999.0,9,     -999.0,9,     -999.0,9,     -999.0,9,     -999.0,9, -999.00,9,   1.3952,-999.0000,-999.000