BOTTLE,20170720CCHSIOCBG
EXPOCODE,SECT_ID,STNNBR,CASTNO,SAMPNO,BTLNBR,BTLNBR_FLAG_W,DATE,TIME,LATITUDE,LONGITUDE,DEPTH,CTDPRS,CTDTMP,CTDSAL,CTDSAL_FLAG_W,SALNTY,SALNTY_FLAG_W,CTDOXY,CTDOXY_FLAG_W,OXYGEN,OXYGEN_FLAG_W,SILCAT,SILCAT_FLAG_W,NITRAT,NITRAT_FLAG_W,NITRIT,NITRIT_FLAG_W,PHSPHT,PHSPHT_FLAG_W,CFC-11,CFC-11_FLAG_W,CFC-12,CFC-12_FLAG_W,CFC113,CFC113_FLAG_W,TCARBN,TCARBN_FLAG_W,ALKALI,ALKALI_FLAG_W,FCO2,FCO2_FLAG_W,FCO2TMP,PH_TOT,PH_TOT_FLAG_W,PH_TMP,TRITUM,TRITUM_FLAG_W,TRITER,HELIUM,HELIUM_FLAG_W,DELHE3,DELHE3_FLAG_W,DELC13,DELC13_FLAG_W,DELC14,DELC14_FLAG_W,C14ERR,NEON,NEON_FLAG_W,NEONER,DOC,DOC_FLAG_W,TDN,TDN_FLAG_W,CTDRAW,CDOM325,CDOM325_FLAG_W,CDOM340,CDOM340_FLAG_W,CDOM380,CDOM380_FLAG_W,CDOM412,CDOM412_FLAG_W,CDOMSL,CDOMSL_FLAG_W,CDOMSN,CDOMSN_FLAG_W,DCNS,ARABI,ARABI_FLAG_W,FUCO,FUCO_FLAG_W,GALA,GALA_FLAG_W,GLUC,GLUC_FLAG_W,MAN,MAN_FLAG_W,RHAM,RHAM_FLAG_W,BRDU,BRDU_FLAG_W,THETA,HELIER,DELHER
,,,,,,,,,,,METERS,DBAR,ITS-90,PSS-78,,PSS-78,,UMOL/KG,,UMOL/KG,,UMOL/KG,,UMOL/KG,,UMOL/KG,,UMOL/KG,,PMOL/KG,,PMOL/KG,,PMOL/KG,,UMOL/KG,,UMOL/KG,,UATM,,DEG C,,,DEG C,TU,,TU,NMOL/KG,,PERCNT,,/MILLE,,/MILLE,,/MILLE,NMOL/KG,,NMOL/KG,UMOL/KG,,UMOL/KG,,DBAR,1/M,,1/M,,1/M,,1/M,,1/NM,,1/NM,,NMOL/KG,NMOL/KG,,NMOL/KG,,NMOL/KG,,NMOL/KG,,NMOL/KG,,NMOL/KG,,PMOL/L/H,,DEG C,NMOL/KG,PERCNT
325020060213,       P16N,      24,          2,          8,          8,2,20060222,       2011,          2,       -151,       4360,  2700.5,   1.7671,  34.6735,2,  34.6739,2,    125.1,2,   125.6,2,  147.50,2,   37.90,2,    0.00,2,    2.62,2,  -0.001,2,  -0.001,2,-999.000,5,  2345.4,2,  2429.0,2,   -999.0,9,  -999.00,   7.5481,2,    25.00,-999.000,9,-999.000,-999.0000,9,-999.000,9, -999.00,5,  -228.3,2,     2.6,-999.000,9,-999.000,   37.68,2,   41.22,2, 2700.50,   0.1190,2,   0.0780,2,   0.0350,2,   0.0200,2,   0.0216,2,   0.0233,2,     -999.0,     -999.0,9,     -999.0,9,     -999.0,9,     -999.0,9,     -999.0,9,     -999.0,9, -999.00,9,   1.5728,-999.0000,-999.000
325020060213,       P16N,      24,          2,          7,          7,2,20060222,       2011,          2,       -151,       4360,  2900.2,   1.7012,  34.6772,2,  34.6786,2,    131.6,2,   131.9,2,  146.80,2,   37.50,2,    0.00,2,    2.60,2,-999.000,9,-999.000,9,-999.000,9,  2344.7,2,  2428.0,2,   -999.0,9,  -999.00,   7.5551,2,    25.00,-999.000,9,-999.000,-999.0000,9,-999.000,9, -999.00,5,  -238.2,4,     2.2,-999.000,9,-999.000,   38.08,2,   41.49,2, 2900.20,   0.1160,2,   0.0760,2,   0.0330,2,   0.0180,2,   0.0227,2,   0.0245,2,     -999.0,     -999.0,9,     -999.0,9,     -999.0,9,     -999.0,9,     -999.0,9,     -999.0,9, -999.00,9,   1.4895,-999.0000,-999.000
325020060213,       P16N,      24,          2,          6,          6,2,20060222,       2011,          2,       -151,       4360,  3151.6,   1.6513,  34.6805,2,  34.6828,2,    136.6,2,   136.6,2,  146.40,2,   37.50,2,    0.00,2,    2.60,2,-999.000,9,-999.000,9,-999.000,9,  2339.0,2,  2427.5,6,   -999.0,9,  -999.00,   7.5739,2,    25.00,-999.000,9,-999.000,-999.0000,9,-999.000,9, -999.00,5,  -226.4,2,     2.6,-999.000,9,-999.000,   37.44,2,   40.85,2, 3151.60,   0.1140,2,   0.0740,2,   0.0310,2,   0.0170,2,   0.0233,2,   0.0251,2,     -999.0,     -999.0,9,     -999.0,9,     -999.0,9,     -999.0,9,     -999.0,9,     -999.0,9, -999.00,9,   1.4164,-999.0000,-999.000
325020060213,       P16N,      24,          2,          5,          5,2,20060222,       2011,          2,       -151,       4360,  3449.6,   1.5538,  34.6869,2,  34.6873,2,    143.9,2,   143.8,2,  145.90,6,   37.20,6,    0.00,6,    2.57,6,-999.000,9,-999.000,9,-999.000,9,  2333.9,2,  2430.6,2,   -999.0,9,  -999.00,   7.5727,2,    25.00,-999.000,9,-999.000,-999.0000,9,-999.000,9, -999.00,5,  -213.4,2,     2.5,-999.000,9,-999.000,   38.72,2,   40.77,2, 3449.60,   0.1110,2,   0.0720,2,   0.0290,2,   0.0150,2,   0.0241,2,   0.0257,2,     -999.0,     -999.0,9,     -999.0,9,     -999.0,9,     -999.0,9,     -999.0,9,     -999.0,9, -999.00,9,   1.2914,-999.0000,-999.000
325020060213,       P16N,      24,          2,          4,          4,2,20060222,       2011,          2,       -151,       4360,  3751.1,   1.4269,  34.6958,2,  34.6965,2,    156.0,2,   156.1,2,  145.20,6,   36.00,6,    0.00,6,    2.46,6,   0.012,3,   0.000,2,-999.000,5,  2328.0,2,  2433.1,2,   -999.0,9,  -999.00,   7.6059,2,    25.00,-999.000,9,-999.000,-999.0000,9,-999.000,9, -999.00,5,  -211.8,2,     2.6,-999.000,9,-999.000,   39.43,2,   39.84,2, 3751.10,   0.1040,2,   0.0650,2,   0.0250,2,   0.0110,2,   0.0263,2,   0.0282,2,     -999.0,     -999.0,9,     -999.0,9,     -999.0,9,     -999.0,9,     -999.0,9,     -999.0,9, -999.00,9,   1.1365,-999.0000,-999.000
325020060213,       P16N,      24,          2,          3,          3,2,20060222,       2011,          2,       -151,       4360,  4051.3,   1.4145,  34.6977,2,  34.6973,2,    160.4,2,   160.1,2,  143.00,6,   35.70,6,    0.00,6,    2.44,6,-999.000,9,-999.000,9,-999.000,9,  2323.7,2,  2429.9,2,   -999.0,9,  -999.00,   7.6051,2,    25.00,-999.000,9,-999.000,-999.0000,9,-999.000,9, -999.00,5,  -207.0,2,     2.7,-999.000,9,-999.000,   39.71,2,   39.42,2, 4051.30,   0.1020,2,   0.0640,2,   0.0240,2,   0.0100,2,   0.0265,2,   0.0285,2,     -999.0,     -999.0,9,     -999.0,9,     -999.0,9,     -999.0,9,     -999.0,9,     -999.0,9, -999.00,9,   1.0924,-999.0000,-999.000
325020060213,       P16N,      24,          2,          1,          1,2,20060222,       2011,          2,       -151,       4360,  4461.7,   1.3886,  34.7005,2,  34.7022,2,    168.3,2,   168.1,2,  137.90,2,   35.00,2,    0.00,2,    2.39,2,  -0.001,2,   0.000,2,-999.000,5,  2313.4,6,  2421.0,2,   -999.0,9,  -999.00,   7.6087,2,    25.00,-999.000,9,-999.000,-999.0000,9,-999.000,9, -999.00,5,  -199.8,2,     3.3,-999.000,9,-999.000,   39.27,2,   38.66,2, 4461.70,   0.1030,2,   0.0620,2,   0.0220,2,   0.0080,2,   0.0286,2,   0.0310,2,     -999.0,     -999.0,9,     -999.0,9,     -999.0,9,     -999.0,9,     -999.0,9,     -999.0,9, -999.00,9,   1.0213,-999.0000,-999.000