BOTTLE,20170720CCHSIOCBG
EXPOCODE,SECT_ID,STNNBR,CASTNO,SAMPNO,BTLNBR,BTLNBR_FLAG_W,DATE,TIME,LATITUDE,LONGITUDE,DEPTH,CTDPRS,CTDTMP,CTDSAL,CTDSAL_FLAG_W,SALNTY,SALNTY_FLAG_W,CTDOXY,CTDOXY_FLAG_W,OXYGEN,OXYGEN_FLAG_W,SILCAT,SILCAT_FLAG_W,NITRAT,NITRAT_FLAG_W,NITRIT,NITRIT_FLAG_W,PHSPHT,PHSPHT_FLAG_W,CFC-11,CFC-11_FLAG_W,CFC-12,CFC-12_FLAG_W,CFC113,CFC113_FLAG_W,TCARBN,TCARBN_FLAG_W,ALKALI,ALKALI_FLAG_W,FCO2,FCO2_FLAG_W,FCO2TMP,PH_TOT,PH_TOT_FLAG_W,PH_TMP,TRITUM,TRITUM_FLAG_W,TRITER,HELIUM,HELIUM_FLAG_W,DELHE3,DELHE3_FLAG_W,DELC13,DELC13_FLAG_W,DELC14,DELC14_FLAG_W,C14ERR,NEON,NEON_FLAG_W,NEONER,DOC,DOC_FLAG_W,TDN,TDN_FLAG_W,CTDRAW,CDOM325,CDOM325_FLAG_W,CDOM340,CDOM340_FLAG_W,CDOM380,CDOM380_FLAG_W,CDOM412,CDOM412_FLAG_W,CDOMSL,CDOMSL_FLAG_W,CDOMSN,CDOMSN_FLAG_W,DCNS,ARABI,ARABI_FLAG_W,FUCO,FUCO_FLAG_W,GALA,GALA_FLAG_W,GLUC,GLUC_FLAG_W,MAN,MAN_FLAG_W,RHAM,RHAM_FLAG_W,BRDU,BRDU_FLAG_W,THETA,HELIER,DELHER
,,,,,,,,,,,METERS,DBAR,ITS-90,PSS-78,,PSS-78,,UMOL/KG,,UMOL/KG,,UMOL/KG,,UMOL/KG,,UMOL/KG,,UMOL/KG,,PMOL/KG,,PMOL/KG,,PMOL/KG,,UMOL/KG,,UMOL/KG,,UATM,,DEG C,,,DEG C,TU,,TU,NMOL/KG,,PERCNT,,/MILLE,,/MILLE,,/MILLE,NMOL/KG,,NMOL/KG,UMOL/KG,,UMOL/KG,,DBAR,1/M,,1/M,,1/M,,1/M,,1/NM,,1/NM,,NMOL/KG,NMOL/KG,,NMOL/KG,,NMOL/KG,,NMOL/KG,,NMOL/KG,,NMOL/KG,,PMOL/L/H,,DEG C,NMOL/KG,PERCNT
325020060213,       P16N,      19,          2,         35,         35,2,20060221,       1055,    -0.5002,  -150.9997,       4287,     4.9,  25.6835,  35.3195,2,  35.3177,2,    200.8,2,   201.8,2,    1.80,2,    5.30,2,    0.40,2,    0.56,2,   1.777,2,   1.085,2,-999.000,5,  2032.6,6,  2322.8,2,   -999.0,9,  -999.00,   8.0087,2,    25.00,-999.000,9,-999.000,-999.0000,9,-999.000,9, -999.00,9,  -999.0,9,    -9.0,-999.000,9,-999.000,   61.01,2,   10.01,2,    4.90,-999.0000,9,-999.0000,9,-999.0000,9,-999.0000,9,-999.0000,9,-999.0000,9,     -999.0,     -999.0,9,     -999.0,9,     -999.0,9,     -999.0,9,     -999.0,9,     -999.0,9, -999.00,9,  25.6824,-999.0000,-999.000
325020060213,       P16N,      19,          2,         34,         34,2,20060221,       1055,    -0.5002,  -150.9997,       4287,    22.3,  25.6619,  35.3303,2,  35.3301,2,    201.3,2,   200.9,2,    1.80,2,    5.40,2,    0.50,2,    0.57,2,-999.000,9,-999.000,9,-999.000,9,  -999.0,9,  -999.0,9,   -999.0,9,  -999.00,-999.0000,9,  -999.00,-999.000,9,-999.000,-999.0000,9,-999.000,9, -999.00,9,  -999.0,9,    -9.0,-999.000,9,-999.000,   60.57,2,   10.07,2,   22.30,-999.0000,9,-999.0000,9,-999.0000,9,-999.0000,9,-999.0000,9,-999.0000,9,     -999.0,     -999.0,9,     -999.0,9,     -999.0,9,     -999.0,9,     -999.0,9,     -999.0,9, -999.00,9,  25.6570,-999.0000,-999.000
325020060213,       P16N,      19,          2,         33,         33,2,20060221,       1055,    -0.5002,  -150.9997,       4287,    50.9,  25.2396,  35.3803,2,  35.3810,2,    194.4,2,   191.8,2,    1.90,2,    6.00,2,    0.60,2,    0.61,2,   1.781,2,   1.076,2,-999.000,5,  2044.0,2,  2325.9,2,   -999.0,9,  -999.00,   7.9940,2,    25.00,-999.000,9,-999.000,-999.0000,9,-999.000,9, -999.00,9,  -999.0,9,    -9.0,-999.000,9,-999.000,   60.58,2,   10.14,2,   50.90,-999.0000,9,-999.0000,9,-999.0000,9,-999.0000,9,-999.0000,9,-999.0000,9,     -999.0,     -999.0,9,     -999.0,9,     -999.0,9,     -999.0,9,     -999.0,9,     -999.0,9, -999.00,9,  25.2285,-999.0000,-999.000
325020060213,       P16N,      19,          2,         32,         32,2,20060221,       1055,    -0.5002,  -150.9997,       4287,    80.0,  23.9149,  35.4191,2,  35.4210,2,    166.6,2,   170.1,2,    2.50,2,    7.80,2,    0.80,2,    0.73,2,   1.825,2,   1.107,2,-999.000,5,  -999.0,9,  -999.0,9,   -999.0,9,  -999.00,-999.0000,9,  -999.00,-999.000,9,-999.000,-999.0000,9,-999.000,9, -999.00,9,  -999.0,9,    -9.0,-999.000,9,-999.000,   60.02,2,   12.82,2,   80.00,-999.0000,9,-999.0000,9,-999.0000,9,-999.0000,9,-999.0000,9,-999.0000,9,     -999.0,     -999.0,9,     -999.0,9,     -999.0,9,     -999.0,9,     -999.0,9,     -999.0,9, -999.00,9,  23.8980,-999.0000,-999.000
325020060213,       P16N,      19,          2,         31,         31,2,20060221,       1055,    -0.5002,  -150.9997,       4287,   102.2,  22.2701,  35.6333,2,  35.6181,2,    136.5,2,   139.5,2,    3.10,2,   10.80,2,    0.10,2,    0.90,2,-999.000,9,-999.000,9,-999.000,9,  2100.3,2,  2341.7,2,   -999.0,9,  -999.00,   7.9920,2,    25.00,-999.000,9,-999.000,-999.0000,9,-999.000,9, -999.00,9,  -999.0,9,    -9.0,-999.000,9,-999.000,   58.85,2,   14.94,2,  102.20,-999.0000,9,-999.0000,9,-999.0000,9,-999.0000,9,-999.0000,9,-999.0000,9,     -999.0,     -999.0,9,     -999.0,9,     -999.0,9,     -999.0,9,     -999.0,9,     -999.0,9, -999.00,9,  22.2497,-999.0000,-999.000
325020060213,       P16N,      19,          2,         30,         30,2,20060221,       1055,    -0.5002,  -150.9997,       4287,   124.8,  18.3848,  35.4135,2,  35.4163,2,    119.6,2,   122.4,2,    5.70,2,   14.10,2,    0.00,2,    1.06,2,   1.834,2,   1.035,2,-999.000,5,  -999.0,9,  -999.0,9,   -999.0,9,  -999.00,-999.0000,9,  -999.00,-999.000,9,-999.000,-999.0000,9,-999.000,9, -999.00,9,  -999.0,9,    -9.0,-999.000,9,-999.000,   54.77,2,   18.13,2,  124.80,-999.0000,9,-999.0000,9,-999.0000,9,-999.0000,9,-999.0000,9,-999.0000,9,     -999.0,     -999.0,9,     -999.0,9,     -999.0,9,     -999.0,9,     -999.0,9,     -999.0,9, -999.00,9,  18.3630,-999.0000,-999.000
325020060213,       P16N,      19,          2,         29,         29,2,20060221,       1055,    -0.5002,  -150.9997,       4287,   149.1,  15.3879,  35.1699,2,  35.1704,2,    126.3,2,   125.4,2,    9.20,2,   17.10,2,    0.00,2,    1.24,2,-999.000,9,-999.000,9,-999.000,9,  2140.5,2,  2317.9,2,   -999.0,9,  -999.00,   7.9138,2,    25.00,-999.000,9,-999.000,-999.0000,9,-999.000,9, -999.00,9,  -999.0,9,    -9.0,-999.000,9,-999.000,   50.15,2,   21.63,2,  149.10,-999.0000,9,-999.0000,9,-999.0000,9,-999.0000,9,-999.0000,9,-999.0000,9,     -999.0,     -999.0,9,     -999.0,9,     -999.0,9,     -999.0,9,     -999.0,9,     -999.0,9, -999.00,9,  15.3649,-999.0000,-999.000
325020060213,       P16N,      19,          2,         28,         28,2,20060221,       1055,    -0.5002,  -150.9997,       4287,   200.0,  12.9372,  34.9705,2,  34.9700,2,    119.1,2,   118.0,2,   14.30,2,   21.40,2,    0.00,2,    1.50,2,   1.353,2,   0.718,2,-999.000,5,  -999.0,9,  -999.0,9,   -999.0,9,  -999.00,-999.0000,9,  -999.00,-999.000,9,-999.000,-999.0000,9,-999.000,9, -999.00,9,  -999.0,9,    -9.0,-999.000,9,-999.000,   48.54,2,   25.31,2,  200.00,-999.0000,9,-999.0000,9,-999.0000,9,-999.0000,9,-999.0000,9,-999.0000,9,     -999.0,     -999.0,9,     -999.0,9,     -999.0,9,     -999.0,9,     -999.0,9,     -999.0,9, -999.00,9,  12.9098,-999.0000,-999.000
325020060213,       P16N,      19,          2,         27,         27,2,20060221,       1055,    -0.5002,  -150.9997,       4287,   250.5,  12.1599,  34.8808,2,  34.8819,2,     97.2,2,    96.5,2,   18.50,2,   25.00,2,    0.00,2,    1.71,2,   1.128,2,   0.595,2,-999.000,5,  2181.8,2,  2305.9,2,   -999.0,9,  -999.00,   7.6587,2,    25.00,-999.000,9,-999.000,-999.0000,9,-999.000,9, -999.00,9,  -999.0,9,    -9.0,-999.000,9,-999.000,   47.64,2,   28.98,2,  250.50,-999.0000,9,-999.0000,9,-999.0000,9,-999.0000,9,-999.0000,9,-999.0000,9,     -999.0,     -999.0,9,     -999.0,9,     -999.0,9,     -999.0,9,     -999.0,9,     -999.0,9, -999.00,9,  12.1269,-999.0000,-999.000
325020060213,       P16N,      19,          2,         26,         26,2,20060221,       1055,    -0.5002,  -150.9997,       4287,   300.7,  11.3878,  34.8250,2,  34.8229,2,     58.9,2,    60.1,2,   23.30,2,   29.90,2,    0.00,2,    2.03,2,   0.820,2,   0.413,2,-999.000,5,  2213.8,2,  2304.4,2,   -999.0,9,  -999.00,   7.5671,2,    25.00,-999.000,9,-999.000,-999.0000,9,-999.000,9, -999.00,9,  -999.0,9,    -9.0,-999.000,9,-999.000,   46.69,2,   34.10,2,  300.70,-999.0000,9,-999.0000,9,-999.0000,9,-999.0000,9,-999.0000,9,-999.0000,9,     -999.0,     -999.0,9,     -999.0,9,     -999.0,9,     -999.0,9,     -999.0,9,     -999.0,9, -999.00,9,  11.3498,-999.0000,-999.000
325020060213,       P16N,      19,          2,         25,         25,2,20060221,       1055,    -0.5002,  -150.9997,       4287,   350.0,  10.8983,  34.8056,2,  34.8043,2,     76.4,2,    77.6,2,   22.20,2,   29.00,2,    0.00,2,    1.97,2,   0.746,2,   0.392,2,-999.000,5,  2205.3,3,  2305.4,2,   -999.0,9,  -999.00,   7.5865,2,    25.00,-999.000,9,-999.000,-999.0000,9,-999.000,9, -999.00,9,  -999.0,9,    -9.0,-999.000,9,-999.000,   45.37,2,   33.45,2,  350.00,-999.0000,9,-999.0000,9,-999.0000,9,-999.0000,9,-999.0000,9,-999.0000,9,     -999.0,     -999.0,9,     -999.0,9,     -999.0,9,     -999.0,9,     -999.0,9,     -999.0,9, -999.00,9,  10.8551,-999.0000,-999.000
325020060213,       P16N,      19,          2,         24,         24,2,20060221,       1055,    -0.5002,  -150.9997,       4287,   400.5,   9.1230,  34.6863,2,  34.6820,2,     65.3,2,    65.3,2,   30.70,2,   34.10,2,    0.00,2,    2.30,2,   0.332,2,   0.176,2,-999.000,5,  -999.0,9,  -999.0,9,   -999.0,9,  -999.00,-999.0000,9,  -999.00,-999.000,9,-999.000,-999.0000,9,-999.000,9, -999.00,9,  -999.0,9,    -9.0,-999.000,9,-999.000,   44.55,2,   38.24,2,  400.50,-999.0000,9,-999.0000,9,-999.0000,9,-999.0000,9,-999.0000,9,-999.0000,9,     -999.0,     -999.0,9,     -999.0,9,     -999.0,9,     -999.0,9,     -999.0,9,     -999.0,9, -999.00,9,   9.0788,-999.0000,-999.000
325020060213,       P16N,      19,          2,         23,         23,2,20060221,       1055,    -0.5002,  -150.9997,       4287,   449.1,   8.1183,  34.6209,2,  34.6205,2,     74.0,2,    73.5,2,   36.20,2,   35.00,2,    0.00,2,    2.37,2,   0.252,2,   0.139,2,-999.000,5,  -999.0,9,  2309.3,2,   -999.0,9,  -999.00,   7.5127,2,    25.00,-999.000,9,-999.000,-999.0000,9,-999.000,9, -999.00,9,  -999.0,9,    -9.0,-999.000,9,-999.000,   43.41,2,   39.08,2,  449.10,-999.0000,9,-999.0000,9,-999.0000,9,-999.0000,9,-999.0000,9,-999.0000,9,     -999.0,     -999.0,9,     -999.0,9,     -999.0,9,     -999.0,9,     -999.0,9,     -999.0,9, -999.00,9,   8.0720,-999.0000,-999.000
325020060213,       P16N,      19,          2,         22,         22,2,20060221,       1055,    -0.5002,  -150.9997,       4287,   500.5,   7.5165,  34.5978,2,  34.5964,2,     68.0,2,    66.1,2,   41.30,2,   37.00,2,    0.00,2,    2.53,2,   0.140,2,   0.077,2,-999.000,5,  -999.0,9,  -999.0,9,   -999.0,9,  -999.00,-999.0000,9,  -999.00,-999.000,9,-999.000,-999.0000,9,-999.000,9, -999.00,9,  -999.0,9,    -9.0,-999.000,9,-999.000,   42.11,2,   40.60,2,  500.50,-999.0000,9,-999.0000,9,-999.0000,9,-999.0000,9,-999.0000,9,-999.0000,9,     -999.0,     -999.0,9,     -999.0,9,     -999.0,9,     -999.0,9,     -999.0,9,     -999.0,9, -999.00,9,   7.4670,-999.0000,-999.000
325020060213,       P16N,      19,          2,         21,         21,2,20060221,       1055,    -0.5002,  -150.9997,       4287,   601.0,   6.5800,  34.5673,2,  34.5658,2,     65.4,2,    65.6,2,   51.10,2,   38.80,2,    0.00,2,    2.68,2,-999.000,9,-999.000,9,-999.000,9,  -999.0,9,  2321.2,2,   -999.0,9,  -999.00,   7.4671,2,    25.00,-999.000,9,-999.000,-999.0000,9,-999.000,9, -999.00,9,  -999.0,9,    -9.0,-999.000,9,-999.000,   41.71,2,   42.46,2,  601.00,-999.0000,9,-999.0000,9,-999.0000,9,-999.0000,9,-999.0000,9,-999.0000,9,     -999.0,     -999.0,9,     -999.0,9,     -999.0,9,     -999.0,9,     -999.0,9,     -999.0,9, -999.00,9,   6.5243,-999.0000,-999.000
325020060213,       P16N,      19,          2,         20,         20,2,20060221,       1055,    -0.5002,  -150.9997,       4287,   700.0,   6.1688,  34.5551,2,  34.5554,2,     76.8,2,    77.2,2,   54.30,2,   38.40,2,    0.00,2,    2.66,2,   0.049,2,   0.029,2,-999.000,5,  -999.0,9,  -999.0,9,   -999.0,9,  -999.00,-999.0000,9,  -999.00,-999.000,9,-999.000,-999.0000,9,-999.000,9, -999.00,9,  -999.0,9,    -9.0,-999.000,9,-999.000,   40.49,2,   41.86,2,  700.00,-999.0000,9,-999.0000,9,-999.0000,9,-999.0000,9,-999.0000,9,-999.0000,9,     -999.0,     -999.0,9,     -999.0,9,     -999.0,9,     -999.0,9,     -999.0,9,     -999.0,9, -999.00,9,   6.1057,-999.0000,-999.000
325020060213,       P16N,      19,          2,         19,         19,2,20060221,       1055,    -0.5002,  -150.9997,       4287,   800.7,   5.6180,  34.5511,2,  34.5505,2,     75.1,2,    75.9,2,   63.40,2,   39.50,2,    0.00,2,    2.74,2,-999.000,9,-999.000,9,-999.000,9,  -999.0,9,  2333.3,2,   -999.0,9,  -999.00,   7.4703,2,    25.00,-999.000,9,-999.000,-999.0000,9,-999.000,9, -999.00,9,  -999.0,9,    -9.0,-999.000,9,-999.000,   39.50,2,   43.18,2,  800.70,-999.0000,9,-999.0000,9,-999.0000,9,-999.0000,9,-999.0000,9,-999.0000,9,     -999.0,     -999.0,9,     -999.0,9,     -999.0,9,     -999.0,9,     -999.0,9,     -999.0,9, -999.00,9,   5.5486,-999.0000,-999.000
325020060213,       P16N,      19,          2,         18,         18,2,20060221,       1055,    -0.5002,  -150.9997,       4287,   900.0,   5.0759,  34.5520,2,  34.5513,2,     78.5,2,    78.4,2,   72.60,2,   39.80,2,    0.00,2,    2.78,2,-999.000,9,-999.000,9,-999.000,9,  -999.0,9,  -999.0,9,   -999.0,9,  -999.00,-999.0000,9,  -999.00,-999.000,9,-999.000,-999.0000,9,-999.000,9, -999.00,9,  -999.0,9,    -9.0,-999.000,9,-999.000,   38.60,2,   44.09,2,  900.00,-999.0000,9,-999.0000,9,-999.0000,9,-999.0000,9,-999.0000,9,-999.0000,9,     -999.0,     -999.0,9,     -999.0,9,     -999.0,9,     -999.0,9,     -999.0,9,     -999.0,9, -999.00,9,   5.0009,-999.0000,-999.000
325020060213,       P16N,      19,          2,         17,         17,2,20060221,       1055,    -0.5002,  -150.9997,       4287,  1000.3,   4.6991,  34.5558,2,  34.5562,2,     83.1,2,    82.3,2,   79.60,2,   39.80,2,    0.00,2,    2.79,2,   0.004,2,   0.003,2,-999.000,5,  -999.0,9,  2351.5,2,   -999.0,9,  -999.00,   7.4763,2,    25.00,-999.000,9,-999.000,-999.0000,9,-999.000,9, -999.00,9,  -999.0,9,    -9.0,-999.000,9,-999.000,   38.18,2,   43.48,2, 1000.30,-999.0000,9,-999.0000,9,-999.0000,9,-999.0000,9,-999.0000,9,-999.0000,9,     -999.0,     -999.0,9,     -999.0,9,     -999.0,9,     -999.0,9,     -999.0,9,     -999.0,9, -999.00,9,   4.6180,-999.0000,-999.000
325020060213,       P16N,      19,          2,         16,         16,2,20060221,       1055,    -0.5002,  -150.9997,       4287,  1199.7,   3.8356,  34.5769,2,  34.5782,2,     88.0,2,    87.1,2,   98.70,2,   40.00,2,    0.00,2,    2.85,2,   0.004,2,   0.001,2,-999.000,5,  -999.0,9,  -999.0,9,   -999.0,9,  -999.00,-999.0000,9,  -999.00,-999.000,9,-999.000,-999.0000,9,-999.000,9, -999.00,9,  -999.0,9,    -9.0,-999.000,9,-999.000,   37.84,2,   43.43,2, 1199.70,-999.0000,9,-999.0000,9,-999.0000,9,-999.0000,9,-999.0000,9,-999.0000,9,     -999.0,     -999.0,9,     -999.0,9,     -999.0,9,     -999.0,9,     -999.0,9,     -999.0,9, -999.00,9,   3.7444,-999.0000,-999.000
325020060213,       P16N,      19,          2,         15,         15,2,20060221,       1055,    -0.5002,  -150.9997,       4287,  1400.9,   3.3298,  34.5955,2,  34.5959,2,     90.7,2,    91.1,2,  111.00,2,   40.10,2,    0.00,2,    2.84,2,-999.000,9,-999.000,9,-999.000,9,  -999.0,9,  2385.8,2,   -999.0,9,  -999.00,   7.4864,2,    25.00,-999.000,9,-999.000,-999.0000,9,-999.000,9, -999.00,9,  -999.0,9,    -9.0,-999.000,9,-999.000,   37.76,2,   43.86,2, 1400.90,-999.0000,9,-999.0000,9,-999.0000,9,-999.0000,9,-999.0000,9,-999.0000,9,     -999.0,     -999.0,9,     -999.0,9,     -999.0,9,     -999.0,9,     -999.0,9,     -999.0,9, -999.00,9,   3.2266,-999.0000,-999.000
325020060213,       P16N,      19,          2,         14,         14,2,20060221,       1055,    -0.5002,  -150.9997,       4287,  1599.6,   3.0000,  34.6101,2,  34.6107,2,     92.3,2,    92.1,2,  120.40,2,   40.20,2,    0.00,2,    2.85,2,-999.000,9,-999.000,9,-999.000,9,  -999.0,9,  -999.0,9,   -999.0,9,  -999.00,-999.0000,9,  -999.00,-999.000,9,-999.000,-999.0000,9,-999.000,9, -999.00,9,  -999.0,9,    -9.0,-999.000,9,-999.000,   37.53,2,   43.86,2, 1599.60,-999.0000,9,-999.0000,9,-999.0000,9,-999.0000,9,-999.0000,9,-999.0000,9,     -999.0,     -999.0,9,     -999.0,9,     -999.0,9,     -999.0,9,     -999.0,9,     -999.0,9, -999.00,9,   2.8837,-999.0000,-999.000
325020060213,       P16N,      19,          2,         13,         13,2,20060221,       1055,    -0.5002,  -150.9997,       4287,  1800.1,   2.6564,  34.6248,2,  34.6236,2,    100.4,2,   101.6,2,  127.30,2,   39.70,2,    0.00,2,    2.82,2,-999.000,9,-999.000,9,-999.000,9,  -999.0,9,  2404.9,2,   -999.0,9,  -999.00,   7.5015,2,    25.00,-999.000,9,-999.000,-999.0000,9,-999.000,9, -999.00,9,  -999.0,9,    -9.0,-999.000,9,-999.000,   37.54,2,   43.85,2, 1800.10,-999.0000,9,-999.0000,9,-999.0000,9,-999.0000,9,-999.0000,9,-999.0000,9,     -999.0,     -999.0,9,     -999.0,9,     -999.0,9,     -999.0,9,     -999.0,9,     -999.0,9, -999.00,9,   2.5275,-999.0000,-999.000
325020060213,       P16N,      19,          2,         12,         12,2,20060221,       1055,    -0.5002,  -150.9997,       4287,  1998.9,   2.3016,  34.6438,2,  34.6431,2,    105.9,2,   105.5,2,  137.00,2,   39.40,2,    0.00,2,    2.80,2,-999.000,9,-999.000,9,-999.000,9,  -999.0,9,  -999.0,9,   -999.0,9,  -999.00,-999.0000,9,  -999.00,-999.000,9,-999.000,-999.0000,9,-999.000,9, -999.00,9,  -999.0,9,    -9.0,-999.000,9,-999.000,   37.32,2,   42.79,2, 1998.90,-999.0000,9,-999.0000,9,-999.0000,9,-999.0000,9,-999.0000,9,-999.0000,9,     -999.0,     -999.0,9,     -999.0,9,     -999.0,9,     -999.0,9,     -999.0,9,     -999.0,9, -999.00,9,   2.1606,-999.0000,-999.000
325020060213,       P16N,      19,          2,         11,         11,2,20060221,       1055,    -0.5002,  -150.9997,       4287,  2199.8,   2.0661,  34.6555,2,  34.6543,2,    113.0,2,   113.2,2,  141.40,2,   38.90,2,    0.00,2,    2.74,2,-999.000,9,-999.000,9,-999.000,9,  -999.0,9,  2420.5,2,   -999.0,9,  -999.00,   7.5270,2,    25.00,-999.000,9,-999.000,-999.0000,9,-999.000,9, -999.00,9,  -999.0,9,    -9.0,-999.000,9,-999.000,   37.46,2,   42.26,2, 2199.80,-999.0000,9,-999.0000,9,-999.0000,9,-999.0000,9,-999.0000,9,-999.0000,9,     -999.0,     -999.0,9,     -999.0,9,     -999.0,9,     -999.0,9,     -999.0,9,     -999.0,9, -999.00,9,   1.9114,-999.0000,-999.000
325020060213,       P16N,      19,          2,         10,         10,2,20060221,       1055,    -0.5002,  -150.9997,       4287,  2401.4,   1.9582,  34.6623,2,  34.6642,2,    118.2,2,   118.0,2,  143.80,2,   38.70,2,    0.00,2,    2.72,2,-999.000,9,-999.000,9,-999.000,9,  -999.0,9,  -999.0,9,   -999.0,9,  -999.00,-999.0000,9,  -999.00,-999.000,9,-999.000,-999.0000,9,-999.000,9, -999.00,9,  -999.0,9,    -9.0,-999.000,9,-999.000,   38.23,2,   42.73,2, 2401.40,-999.0000,9,-999.0000,9,-999.0000,9,-999.0000,9,-999.0000,9,-999.0000,9,     -999.0,     -999.0,9,     -999.0,9,     -999.0,9,     -999.0,9,     -999.0,9,     -999.0,9, -999.00,9,   1.7875,-999.0000,-999.000
325020060213,       P16N,      19,          2,          9,          9,2,20060221,       1055,    -0.5002,  -150.9997,       4287,  2601.1,   1.8591,  34.6685,2,  34.6671,2,    122.8,2,   123.1,2,  145.70,2,   38.20,2,    0.00,2,    2.69,2,-999.000,9,-999.000,9,-999.000,9,  -999.0,9,  2426.9,2,   -999.0,9,  -999.00,   7.5433,2,    25.00,-999.000,9,-999.000,-999.0000,9,-999.000,9, -999.00,9,  -999.0,9,    -9.0,-999.000,9,-999.000,   37.74,2,   41.72,2, 2601.10,-999.0000,9,-999.0000,9,-999.0000,9,-999.0000,9,-999.0000,9,-999.0000,9,     -999.0,     -999.0,9,     -999.0,9,     -999.0,9,     -999.0,9,     -999.0,9,     -999.0,9, -999.00,9,   1.6722,-999.0000,-999.000