BOTTLE,20170720CCHSIOCBG
EXPOCODE,SECT_ID,STNNBR,CASTNO,SAMPNO,BTLNBR,BTLNBR_FLAG_W,DATE,TIME,LATITUDE,LONGITUDE,DEPTH,CTDPRS,CTDTMP,CTDSAL,CTDSAL_FLAG_W,SALNTY,SALNTY_FLAG_W,CTDOXY,CTDOXY_FLAG_W,OXYGEN,OXYGEN_FLAG_W,SILCAT,SILCAT_FLAG_W,NITRAT,NITRAT_FLAG_W,NITRIT,NITRIT_FLAG_W,PHSPHT,PHSPHT_FLAG_W,CFC-11,CFC-11_FLAG_W,CFC-12,CFC-12_FLAG_W,CFC113,CFC113_FLAG_W,TCARBN,TCARBN_FLAG_W,ALKALI,ALKALI_FLAG_W,FCO2,FCO2_FLAG_W,FCO2TMP,PH_TOT,PH_TOT_FLAG_W,PH_TMP,TRITUM,TRITUM_FLAG_W,TRITER,HELIUM,HELIUM_FLAG_W,DELHE3,DELHE3_FLAG_W,DELC13,DELC13_FLAG_W,DELC14,DELC14_FLAG_W,C14ERR,NEON,NEON_FLAG_W,NEONER,DOC,DOC_FLAG_W,TDN,TDN_FLAG_W,CTDRAW,CDOM325,CDOM325_FLAG_W,CDOM340,CDOM340_FLAG_W,CDOM380,CDOM380_FLAG_W,CDOM412,CDOM412_FLAG_W,CDOMSL,CDOMSL_FLAG_W,CDOMSN,CDOMSN_FLAG_W,DCNS,ARABI,ARABI_FLAG_W,FUCO,FUCO_FLAG_W,GALA,GALA_FLAG_W,GLUC,GLUC_FLAG_W,MAN,MAN_FLAG_W,RHAM,RHAM_FLAG_W,BRDU,BRDU_FLAG_W,THETA,HELIER,DELHER
,,,,,,,,,,,METERS,DBAR,ITS-90,PSS-78,,PSS-78,,UMOL/KG,,UMOL/KG,,UMOL/KG,,UMOL/KG,,UMOL/KG,,UMOL/KG,,PMOL/KG,,PMOL/KG,,PMOL/KG,,UMOL/KG,,UMOL/KG,,UATM,,DEG C,,,DEG C,TU,,TU,NMOL/KG,,PERCNT,,/MILLE,,/MILLE,,/MILLE,NMOL/KG,,NMOL/KG,UMOL/KG,,UMOL/KG,,DBAR,1/M,,1/M,,1/M,,1/M,,1/NM,,1/NM,,NMOL/KG,NMOL/KG,,NMOL/KG,,NMOL/KG,,NMOL/KG,,NMOL/KG,,NMOL/KG,,PMOL/L/H,,DEG C,NMOL/KG,PERCNT
325020060213,       P16N,       6,          1,          8,          8,2,20060216,       1321,   -12.0003,  -151.0008,       4852,  2876.8,   1.7450,  34.6787,2,  34.6764,4,    151.4,2,   151.1,2,  130.80,2,   36.50,2,    0.00,2,    2.53,2,-999.000,9,-999.000,9,-999.000,9,  2315.4,2,  2414.5,2,   -999.0,9,  -999.00,   7.5881,2,    25.00,-999.000,9,-999.000,-999.0000,9,-999.000,9, -999.00,5,  -218.1,2,     2.6,-999.000,9,-999.000,   36.67,2,   39.99,2, 2876.80,-999.0000,9,-999.0000,9,-999.0000,9,-999.0000,9,-999.0000,9,-999.0000,9,     -999.0,     -999.0,9,     -999.0,9,     -999.0,9,     -999.0,9,     -999.0,9,     -999.0,9, -999.00,9,   1.5346,-999.0000,-999.000
325020060213,       P16N,       6,          1,          7,          7,2,20060216,       1321,   -12.0003,  -151.0008,       4852,  3125.5,   1.6794,  34.6831,2,  34.6807,4,    155.5,2,   154.8,2,  131.40,2,   36.40,2,    0.00,2,    2.51,2,-999.000,9,-999.000,9,-999.000,9,  2313.1,2,  2414.2,2,   -999.0,9,  -999.00,   7.5905,2,    25.00,-999.000,9,-999.000,-999.0000,9,-999.000,9, -999.00,5,  -221.3,2,     2.1,-999.000,9,-999.000,   36.78,2,   39.97,2, 3125.50,-999.0000,9,-999.0000,9,-999.0000,9,-999.0000,9,-999.0000,9,-999.0000,9,     -999.0,     -999.0,9,     -999.0,9,     -999.0,9,     -999.0,9,     -999.0,9,     -999.0,9, -999.00,9,   1.4464,-999.0000,-999.000
325020060213,       P16N,       6,          1,          6,          6,2,20060216,       1321,   -12.0003,  -151.0008,       4852,  3450.4,   1.5633,  34.6891,2,  34.6860,4,    165.2,2,   165.7,2,  128.00,2,   35.50,2,    0.00,2,    2.45,2,-999.000,9,-999.000,9,-999.000,9,  2303.0,2,  2405.0,6,   -999.0,9,  -999.00,   7.5957,2,    25.00,-999.000,9,-999.000,-999.0000,9,-999.000,9, -999.00,5,  -209.0,2,     2.6,-999.000,9,-999.000,   36.65,2,   39.41,2, 3450.40,-999.0000,9,-999.0000,9,-999.0000,9,-999.0000,9,-999.0000,9,-999.0000,9,     -999.0,     -999.0,9,     -999.0,9,     -999.0,9,     -999.0,9,     -999.0,9,     -999.0,9, -999.00,9,   1.3006,-999.0000,-999.000
325020060213,       P16N,       6,          1,          5,          5,2,20060216,       1321,   -12.0003,  -151.0008,       4852,  3849.9,   1.4713,  34.6953,2,  34.6905,4,    174.4,2,   174.8,2,  124.80,6,   34.90,2,    0.00,6,    2.40,6,   0.001,2,   0.000,2,-999.000,5,  2293.5,2,  2397.1,2,   -999.0,9,  -999.00,   7.6017,2,    25.00,-999.000,9,-999.000,-999.0000,9,-999.000,9, -999.00,5,  -208.2,2,     2.6,-999.000,9,-999.000,   36.75,2,   38.68,2, 3849.90,-999.0000,9,-999.0000,9,-999.0000,9,-999.0000,9,-999.0000,9,-999.0000,9,     -999.0,     -999.0,9,     -999.0,9,     -999.0,9,     -999.0,9,     -999.0,9,     -999.0,9, -999.00,9,   1.1693,-999.0000,-999.000
325020060213,       P16N,       6,          1,          4,          4,2,20060216,       1321,   -12.0003,  -151.0008,       4852,  4299.6,   1.3695,  34.7024,2,  34.6994,4,    184.1,2,   184.6,2,  122.30,6,   34.30,2,    0.00,6,    2.35,6,-999.000,9,-999.000,9,-999.000,9,  2283.6,2,  2389.6,2,   -999.0,9,  -999.00,   7.6071,2,    25.00,-999.000,9,-999.000,-999.0000,9,-999.000,9, -999.00,5,  -187.7,2,     2.7,-999.000,9,-999.000,   37.71,2,   38.37,2, 4299.60,-999.0000,9,-999.0000,9,-999.0000,9,-999.0000,9,-999.0000,9,-999.0000,9,     -999.0,     -999.0,9,     -999.0,9,     -999.0,9,     -999.0,9,     -999.0,9,     -999.0,9, -999.00,9,   1.0212,-999.0000,-999.000
325020060213,       P16N,       6,          1,          3,          3,2,20060216,       1321,   -12.0003,  -151.0008,       4852,  4801.1,   1.3098,  34.7077,2,  34.7037,4,    192.3,2,   191.0,2,  120.40,6,   33.70,2,    0.00,6,    2.31,6,   0.000,2,   0.000,6,-999.000,5,  2274.6,2,  2382.0,2,   -999.0,9,  -999.00,   7.6108,2,    25.00,-999.000,9,-999.000,-999.0000,9,-999.000,9, -999.00,5,  -176.3,2,     2.5,-999.000,9,-999.000,   37.60,2,   37.70,2, 4801.10,-999.0000,9,-999.0000,9,-999.0000,9,-999.0000,9,-999.0000,9,-999.0000,9,     -999.0,     -999.0,9,     -999.0,9,     -999.0,9,     -999.0,9,     -999.0,9,     -999.0,9, -999.00,9,   0.9056,-999.0000,-999.000
325020060213,       P16N,       6,          1,          1,          1,2,20060216,       1321,   -12.0003,  -151.0008,       4852,  4965.1,   1.2954,  34.7090,2,  34.7086,4,    193.4,2,   193.8,2,  119.90,6,   33.50,2,    0.00,6,    2.30,6,   0.003,2,   0.001,2,-999.000,5,  2274.0,6,  2378.8,2,   -999.0,9,  -999.00,   7.6107,2,    25.00,-999.000,9,-999.000,-999.0000,9,-999.000,9, -999.00,5,  -177.8,2,     2.7,-999.000,9,-999.000,   38.19,2,   37.18,2, 4965.10,-999.0000,9,-999.0000,9,-999.0000,9,-999.0000,9,-999.0000,9,-999.0000,9,     -999.0,     -999.0,9,     -999.0,9,     -999.0,9,     -999.0,9,     -999.0,9,     -999.0,9, -999.00,9,   0.8721,-999.0000,-999.000