BOTTLE,20170720CCHSIOCBG
EXPOCODE,SECT_ID,STNNBR,CASTNO,SAMPNO,BTLNBR,BTLNBR_FLAG_W,DATE,TIME,LATITUDE,LONGITUDE,DEPTH,CTDPRS,CTDTMP,CTDSAL,CTDSAL_FLAG_W,SALNTY,SALNTY_FLAG_W,CTDOXY,CTDOXY_FLAG_W,OXYGEN,OXYGEN_FLAG_W,SILCAT,SILCAT_FLAG_W,NITRAT,NITRAT_FLAG_W,NITRIT,NITRIT_FLAG_W,PHSPHT,PHSPHT_FLAG_W,CFC-11,CFC-11_FLAG_W,CFC-12,CFC-12_FLAG_W,CFC113,CFC113_FLAG_W,TCARBN,TCARBN_FLAG_W,ALKALI,ALKALI_FLAG_W,FCO2,FCO2_FLAG_W,FCO2TMP,PH_TOT,PH_TOT_FLAG_W,PH_TMP,TRITUM,TRITUM_FLAG_W,TRITER,HELIUM,HELIUM_FLAG_W,DELHE3,DELHE3_FLAG_W,DELC13,DELC13_FLAG_W,DELC14,DELC14_FLAG_W,C14ERR,NEON,NEON_FLAG_W,NEONER,DOC,DOC_FLAG_W,TDN,TDN_FLAG_W,CTDRAW,CDOM325,CDOM325_FLAG_W,CDOM340,CDOM340_FLAG_W,CDOM380,CDOM380_FLAG_W,CDOM412,CDOM412_FLAG_W,CDOMSL,CDOMSL_FLAG_W,CDOMSN,CDOMSN_FLAG_W,DCNS,ARABI,ARABI_FLAG_W,FUCO,FUCO_FLAG_W,GALA,GALA_FLAG_W,GLUC,GLUC_FLAG_W,MAN,MAN_FLAG_W,RHAM,RHAM_FLAG_W,BRDU,BRDU_FLAG_W,THETA,HELIER,DELHER
,,,,,,,,,,,METERS,DBAR,ITS-90,PSS-78,,PSS-78,,UMOL/KG,,UMOL/KG,,UMOL/KG,,UMOL/KG,,UMOL/KG,,UMOL/KG,,PMOL/KG,,PMOL/KG,,PMOL/KG,,UMOL/KG,,UMOL/KG,,UATM,,DEG C,,,DEG C,TU,,TU,NMOL/KG,,PERCNT,,/MILLE,,/MILLE,,/MILLE,NMOL/KG,,NMOL/KG,UMOL/KG,,UMOL/KG,,DBAR,1/M,,1/M,,1/M,,1/M,,1/NM,,1/NM,,NMOL/KG,NMOL/KG,,NMOL/KG,,NMOL/KG,,NMOL/KG,,NMOL/KG,,NMOL/KG,,PMOL/L/H,,DEG C,NMOL/KG,PERCNT
325020060213,       P16N,      64,          1,          9,          9,2,20060321,       2008,    41.9997,  -151.9987,       5035,  2875.1,   1.5874,  34.6571,2,  34.6573,2,    102.2,2,   103.6,2,  170.30,2,   39.70,2,    0.00,2,    2.81,2,   0.002,2,   0.006,2,-999.000,5,  2359.4,2,  2426.2,2,   -999.0,9,  -999.00,   7.4887,2,    25.00,-999.000,9,-999.000,-999.0000,9,-999.000,9, -999.00,5,  -246.5,2,     1.7,-999.000,9,-999.000,   36.85,2,   43.52,2, 2875.10,   0.1330,2,   0.0900,2,   0.0470,2,   0.0350,2,   0.0144,4,   0.0172,4,     -999.0,     -999.0,9,     -999.0,9,     -999.0,9,     -999.0,9,     -999.0,9,     -999.0,9, -999.00,9,   1.3806,-999.0000,-999.000
325020060213,       P16N,      64,          1,          8,          8,2,20060321,       2008,    41.9997,  -151.9987,       5035,  3125.2,   1.5295,  34.6672,2,  34.6663,2,    113.1,2,   117.6,3,  168.60,2,   39.00,2,    0.00,2,    2.73,2,-999.000,9,-999.000,9,-999.000,9,  2351.2,2,  2427.9,2,   -999.0,9,  -999.00,   7.5164,6,    25.00,-999.000,9,-999.000,-999.0000,9,-999.000,9, -999.00,5,  -236.8,2,     1.7,-999.000,9,-999.000,   36.20,2,   42.02,2, 3125.20,   0.1310,2,   0.0890,2,   0.0460,2,   0.0350,2,   0.0140,4,   0.0168,4,     -999.0,     -999.0,9,     -999.0,9,     -999.0,9,     -999.0,9,     -999.0,9,     -999.0,9, -999.00,9,   1.3001,-999.0000,-999.000
325020060213,       P16N,      64,          1,          7,          7,2,20060321,       2008,    41.9997,  -151.9987,       5035,  3449.4,   1.4885,  34.6768,2,  34.6774,2,    126.8,2,   127.3,2,  167.70,2,   38.10,2,    0.00,2,    2.68,2,   0.008,3,  -0.001,2,-999.000,5,  2345.5,2,  2427.7,6,   -999.0,9,  -999.00,   7.5385,2,    25.00,-999.000,9,-999.000,-999.0000,9,-999.000,9, -999.00,5,  -229.5,2,     2.0,-999.000,9,-999.000,   36.21,2,   41.53,2, 3449.40,   0.1280,2,   0.0860,2,   0.0440,2,   0.0330,2,   0.0146,3,   0.0177,3,     -999.0,     -999.0,9,     -999.0,9,     -999.0,9,     -999.0,9,     -999.0,9,     -999.0,9, -999.00,9,   1.2278,-999.0000,-999.000
325020060213,       P16N,      64,          1,          6,          6,2,20060321,       2008,    41.9997,  -151.9987,       5035,  3849.0,   1.4827,  34.6833,2,  34.6813,2,    134.8,2,   134.5,2,  168.70,2,   37.70,2,    0.00,2,    2.66,2,-999.000,9,-999.000,9,-999.000,9,  2341.5,2,  2430.6,2,   -999.0,9,  -999.00,   7.5559,2,    25.00,-999.000,9,-999.000,-999.0000,9,-999.000,9, -999.00,5,  -217.8,2,     1.6,-999.000,9,-999.000,   36.39,2,   40.97,2, 3849.00,   0.1250,2,   0.0830,2,   0.0420,2,   0.0320,2,   0.0151,3,   0.0181,3,     -999.0,     -999.0,9,     -999.0,9,     -999.0,9,     -999.0,9,     -999.0,9,     -999.0,9, -999.00,9,   1.1806,-999.0000,-999.000
325020060213,       P16N,      64,          1,          5,          5,2,20060321,       2008,    41.9997,  -151.9987,       5035,  4201.0,   1.4981,  34.6864,2,  34.6862,2,    139.6,2,   138.7,2,  168.60,2,   37.40,2,    0.00,2,    2.63,2,   0.004,2,   0.000,2,-999.000,5,  2339.8,2,  2432.0,2,   -999.0,9,  -999.00,   7.5658,2,    25.00,-999.000,9,-999.000,-999.0000,9,-999.000,9, -999.00,5,  -213.5,2,     1.7,-999.000,9,-999.000,   36.93,2,   40.51,2, 4201.00,   0.1260,2,   0.0840,2,   0.0430,2,   0.0320,2,   0.0147,3,   0.0178,3,     -999.0,     -999.0,9,     -999.0,9,     -999.0,9,     -999.0,9,     -999.0,9,     -999.0,9, -999.00,9,   1.1571,-999.0000,-999.000
325020060213,       P16N,      64,          1,          4,          4,2,20060321,       2008,    41.9997,  -151.9987,       5035,  4499.7,   1.5223,  34.6882,2,  34.6890,2,    141.4,2,   140.1,2,  169.50,6,   37.30,2,    0.00,6,    2.62,6,-999.000,9,-999.000,9,-999.000,9,  2339.2,2,  2434.3,2,   -999.0,9,  -999.00,   7.5709,2,    25.00,-999.000,9,-999.000,-999.0000,9,-999.000,9, -999.00,5,  -218.6,2,     1.9,-999.000,9,-999.000,   37.33,2,   40.57,2, 4499.70,   0.1260,2,   0.0840,2,   0.0420,2,   0.0320,2,   0.0147,3,   0.0179,3,     -999.0,     -999.0,9,     -999.0,9,     -999.0,9,     -999.0,9,     -999.0,9,     -999.0,9, -999.00,9,   1.1466,-999.0000,-999.000
325020060213,       P16N,      64,          1,          3,          3,2,20060321,       2008,    41.9997,  -151.9987,       5035,  4800.4,   1.5558,  34.6889,2,  34.6892,2,    141.6,2,   140.1,2,  170.70,6,   37.20,6,    0.00,6,    2.61,6,   0.006,2,  -0.001,2,-999.000,5,  2340.8,2,  2436.1,2,   -999.0,9,  -999.00,   7.5722,2,    25.00,-999.000,9,-999.000,-999.0000,9,-999.000,9, -999.00,5,  -200.3,2,     3.7,-999.000,9,-999.000,   37.33,2,   40.14,2, 4800.40,   0.1280,2,   0.0860,2,   0.0440,2,   0.0330,2,   0.0143,3,   0.0174,3,     -999.0,     -999.0,9,     -999.0,9,     -999.0,9,     -999.0,9,     -999.0,9,     -999.0,9, -999.00,9,   1.1438,-999.0000,-999.000
325020060213,       P16N,      64,          1,          2,          2,2,20060321,       2008,    41.9997,  -151.9987,       5035,  5002.4,   1.5802,  34.6889,2,  34.6908,2,    141.4,2,   140.2,2,  170.80,6,   37.30,6,    0.00,6,    2.62,6,-999.000,9,-999.000,9,-999.000,9,  2340.6,2,  2437.8,2,   -999.0,9,  -999.00,   7.5703,2,    25.00,-999.000,9,-999.000,-999.0000,9,-999.000,9, -999.00,5,  -212.2,2,     1.9,-999.000,9,-999.000,   37.32,2,   40.27,2, 5002.40,   0.1290,2,   0.0860,2,   0.0440,2,   0.0340,2,   0.0135,3,   0.0168,3,     -999.0,     -999.0,9,     -999.0,9,     -999.0,9,     -999.0,9,     -999.0,9,     -999.0,9, -999.00,9,   1.1429,-999.0000,-999.000
325020060213,       P16N,      64,          1,          1,          1,2,20060321,       2008,    41.9997,  -151.9987,       5035,  5164.8,   1.5998,  34.6889,2,  34.6896,2,    141.7,2,   140.5,2,  170.40,2,   37.10,2,    0.00,2,    2.62,2,   0.006,2,   0.000,2,-999.000,5,  2339.9,6,  2434.6,2,   -999.0,9,  -999.00,   7.5718,2,    25.00,-999.000,9,-999.000,-999.0000,9,-999.000,9, -999.00,5,  -230.5,2,     2.1,-999.000,9,-999.000,   37.98,2,   40.72,2, 5164.80,   0.1290,2,   0.0860,2,   0.0440,2,   0.0340,2,   0.0138,3,   0.0171,3,     -999.0,     -999.0,9,     -999.0,9,     -999.0,9,     -999.0,9,     -999.0,9,     -999.0,9, -999.00,9,   1.1419,-999.0000,-999.000