BOTTLE,20170720CCHSIOCBG
EXPOCODE,SECT_ID,STNNBR,CASTNO,SAMPNO,BTLNBR,BTLNBR_FLAG_W,DATE,TIME,LATITUDE,LONGITUDE,DEPTH,CTDPRS,CTDTMP,CTDSAL,CTDSAL_FLAG_W,SALNTY,SALNTY_FLAG_W,CTDOXY,CTDOXY_FLAG_W,OXYGEN,OXYGEN_FLAG_W,SILCAT,SILCAT_FLAG_W,NITRAT,NITRAT_FLAG_W,NITRIT,NITRIT_FLAG_W,PHSPHT,PHSPHT_FLAG_W,CFC-11,CFC-11_FLAG_W,CFC-12,CFC-12_FLAG_W,CFC113,CFC113_FLAG_W,TCARBN,TCARBN_FLAG_W,ALKALI,ALKALI_FLAG_W,FCO2,FCO2_FLAG_W,FCO2TMP,PH_TOT,PH_TOT_FLAG_W,PH_TMP,TRITUM,TRITUM_FLAG_W,TRITER,HELIUM,HELIUM_FLAG_W,DELHE3,DELHE3_FLAG_W,DELC13,DELC13_FLAG_W,DELC14,DELC14_FLAG_W,C14ERR,NEON,NEON_FLAG_W,NEONER,DOC,DOC_FLAG_W,TDN,TDN_FLAG_W,CTDRAW,CDOM325,CDOM325_FLAG_W,CDOM340,CDOM340_FLAG_W,CDOM380,CDOM380_FLAG_W,CDOM412,CDOM412_FLAG_W,CDOMSL,CDOMSL_FLAG_W,CDOMSN,CDOMSN_FLAG_W,DCNS,ARABI,ARABI_FLAG_W,FUCO,FUCO_FLAG_W,GALA,GALA_FLAG_W,GLUC,GLUC_FLAG_W,MAN,MAN_FLAG_W,RHAM,RHAM_FLAG_W,BRDU,BRDU_FLAG_W,THETA,HELIER,DELHER
,,,,,,,,,,,METERS,DBAR,ITS-90,PSS-78,,PSS-78,,UMOL/KG,,UMOL/KG,,UMOL/KG,,UMOL/KG,,UMOL/KG,,UMOL/KG,,PMOL/KG,,PMOL/KG,,PMOL/KG,,UMOL/KG,,UMOL/KG,,UATM,,DEG C,,,DEG C,TU,,TU,NMOL/KG,,PERCNT,,/MILLE,,/MILLE,,/MILLE,NMOL/KG,,NMOL/KG,UMOL/KG,,UMOL/KG,,DBAR,1/M,,1/M,,1/M,,1/M,,1/NM,,1/NM,,NMOL/KG,NMOL/KG,,NMOL/KG,,NMOL/KG,,NMOL/KG,,NMOL/KG,,NMOL/KG,,PMOL/L/H,,DEG C,NMOL/KG,PERCNT
325020060213,       P16N,       5,          2,         35,         35,2,20060216,       0417,   -12.9998,  -150.9985,       4596,     5.2,  29.4827,  36.1540,2,  36.1502,4,    193.1,2,   192.9,2,    0.00,2,    0.00,2,    0.00,2,    0.19,2,   1.523,2,   0.944,2,-999.000,5,  2009.3,6,  2378.7,2,   -999.0,9,  -999.00,   8.1315,2,    25.00,-999.000,9,-999.000,-999.0000,9,-999.000,9, -999.00,9,  -999.0,9,    -9.0,-999.000,9,-999.000,   73.95,2,    4.53,2,    5.20,-999.0000,9,-999.0000,9,-999.0000,9,-999.0000,9,-999.0000,9,-999.0000,9,     -999.0,     -999.0,9,     -999.0,9,     -999.0,9,     -999.0,9,     -999.0,9,     -999.0,9, -999.00,9,  29.4814,-999.0000,-999.000
325020060213,       P16N,       5,          2,         34,         34,2,20060216,       0417,   -12.9998,  -150.9985,       4596,    24.8,  29.3550,  36.1550,2,  36.1508,4,    194.3,2,   193.1,2,    0.00,2,    0.00,2,    0.00,2,    0.19,2,   1.524,2,   0.945,2,-999.000,5,  2011.1,2,  2378.5,2,   -999.0,9,  -999.00,   8.1344,2,    25.00,   0.491,2,   0.003,   1.7123,2,   -1.21,2, -999.00,9,  -999.0,9,    -9.0,   6.581,2,   0.020,   73.29,2,    4.77,2,   24.80,-999.0000,9,-999.0000,9,-999.0000,9,-999.0000,9,-999.0000,9,-999.0000,9,     -999.0,     -999.0,9,     -999.0,9,     -999.0,9,     -999.0,9,     -999.0,9,     -999.0,9, -999.00,9,  29.3490,   0.0051,    0.14
325020060213,       P16N,       5,          2,         33,         33,2,20060216,       0417,   -12.9998,  -150.9985,       4596,    50.2,  29.1289,  36.1198,2,  36.1237,4,    196.2,2,   194.3,2,    0.00,2,    0.10,2,    0.00,2,    0.19,2,-999.000,9,-999.000,9,-999.000,9,  2009.9,2,  2374.6,2,   -999.0,9,  -999.00,   8.1252,2,    25.00,   0.471,2,   0.003,   1.7069,2,   -1.32,2, -999.00,9,  -999.0,9,    -9.0,   6.588,2,   0.020,   72.00,2,    4.91,2,   50.20,-999.0000,9,-999.0000,9,-999.0000,9,-999.0000,9,-999.0000,9,-999.0000,9,     -999.0,     -999.0,9,     -999.0,9,     -999.0,9,     -999.0,9,     -999.0,9,     -999.0,9, -999.00,9,  29.1167,   0.0051,    0.14
325020060213,       P16N,       5,          2,         32,         32,2,20060216,       0417,   -12.9998,  -150.9985,       4596,    74.3,  28.9586,  36.1835,2,  36.1914,4,    196.4,2,   196.1,2,    0.00,2,    0.00,2,    0.00,2,    0.19,2,   1.508,2,   0.992,2,-999.000,5,  2011.9,2,  2380.8,2,   -999.0,9,  -999.00,   8.1319,2,    25.00,   0.470,2,   0.004,   1.6939,2,   -1.51,2, -999.00,9,  -999.0,9,    -9.0,   6.628,2,   0.020,   70.86,2,    4.93,2,   74.30,-999.0000,9,-999.0000,9,-999.0000,9,-999.0000,9,-999.0000,9,-999.0000,9,     -999.0,     -999.0,9,     -999.0,9,     -999.0,9,     -999.0,9,     -999.0,9,     -999.0,9, -999.00,9,  28.9406,   0.0051,    0.14
325020060213,       P16N,       5,          2,         31,         31,2,20060216,       0417,   -12.9998,  -150.9985,       4596,    99.9,  27.7953,  36.3507,2,  36.3525,4,    202.9,2,   199.8,2,    0.20,2,    0.10,2,    0.00,2,    0.19,2,-999.000,9,-999.000,9,-999.000,9,  2028.8,2,  2396.0,2,   -999.0,9,  -999.00,   8.1233,2,    25.00,   0.466,2,   0.004,   1.6990,2,   -1.67,2, -999.00,9,  -999.0,9,    -9.0,   6.656,2,   0.020,   69.54,2,    4.65,2,   99.90,-999.0000,9,-999.0000,9,-999.0000,9,-999.0000,9,-999.0000,9,-999.0000,9,     -999.0,     -999.0,9,     -999.0,9,     -999.0,9,     -999.0,9,     -999.0,9,     -999.0,9, -999.00,9,  27.7718,   0.0051,    0.14
325020060213,       P16N,       5,          2,         30,         30,2,20060216,       0417,   -12.9998,  -150.9985,       4596,   124.5,  26.8098,  36.4177,2,  36.4111,4,    196.5,2,   192.9,2,    0.20,2,    0.10,2,    0.10,2,    0.24,2,-999.000,1,-999.000,1,-999.000,9,  2047.9,2,  2396.2,2,   -999.0,9,  -999.00,   8.1009,2,    25.00,   0.514,2,   0.003,-999.0000,9,-999.000,9, -999.00,9,  -999.0,9,    -9.0,-999.000,9,-999.000,   67.95,2,    4.47,2,  124.50,-999.0000,9,-999.0000,9,-999.0000,9,-999.0000,9,-999.0000,9,-999.0000,9,     -999.0,     -999.0,9,     -999.0,9,     -999.0,9,     -999.0,9,     -999.0,9,     -999.0,9, -999.00,9,  26.7812,-999.0000,-999.000
325020060213,       P16N,       5,          2,         29,         29,2,20060216,       0417,   -12.9998,  -150.9985,       4596,   150.0,  25.4918,  36.4014,2,  36.4004,4,    187.7,2,   187.1,2,    0.10,2,    0.20,2,    0.10,2,    0.27,2,   1.797,2,   1.090,2,-999.000,5,  2063.6,2,  2395.2,2,   -999.0,9,  -999.00,   8.0765,2,    25.00,   0.452,2,   0.004,   1.7175,2,   -1.39,2, -999.00,9,  -999.0,9,    -9.0,   6.769,2,   0.020,   65.20,2,    4.48,2,  150.00,-999.0000,9,-999.0000,9,-999.0000,9,-999.0000,9,-999.0000,9,-999.0000,9,     -999.0,     -999.0,9,     -999.0,9,     -999.0,9,     -999.0,9,     -999.0,9,     -999.0,9, -999.00,9,  25.4587,   0.0052,    0.14
325020060213,       P16N,       5,          2,         28,         28,2,20060216,       0417,   -12.9998,  -150.9985,       4596,   200.1,  22.2393,  36.0758,2,  36.0365,4,    171.2,2,   170.5,2,    0.40,2,    3.90,2,    0.00,2,    0.51,2,   2.075,6,   1.236,6,-999.000,5,  2102.5,2,  2376.3,6,   -999.0,9,  -999.00,   7.9764,2,    25.00,   0.404,2,   0.003,   1.7365,2,   -1.23,2, -999.00,9,  -999.0,9,    -9.0,   6.944,2,   0.021,   55.57,2,    7.96,2,  200.10,-999.0000,9,-999.0000,9,-999.0000,9,-999.0000,9,-999.0000,9,-999.0000,9,     -999.0,     -999.0,9,     -999.0,9,     -999.0,9,     -999.0,9,     -999.0,9,     -999.0,9, -999.00,9,  22.1992,   0.0052,    0.14
325020060213,       P16N,       5,          2,         27,         27,2,20060216,       0417,   -12.9998,  -150.9985,       4596,   249.7,  19.3983,  35.6232,2,  35.6235,4,    167.5,2,   166.5,2,    1.10,2,    6.20,2,    0.00,2,    0.66,2,   2.260,2,   1.306,2,-999.000,5,  2112.3,2,  2348.3,2,   -999.0,9,  -999.00,   7.9219,2,    25.00,   0.403,2,   0.003,   1.7350,2,   -0.99,2, -999.00,9,  -999.0,9,    -9.0,   7.027,2,   0.021,   49.56,2,   10.17,2,  249.70,-999.0000,9,-999.0000,9,-999.0000,9,-999.0000,9,-999.0000,9,-999.0000,9,     -999.0,     -999.0,9,     -999.0,9,     -999.0,9,     -999.0,9,     -999.0,9,     -999.0,9, -999.00,9,  19.3529,   0.0052,    0.14
325020060213,       P16N,       5,          2,         26,         26,2,20060216,       0417,   -12.9998,  -150.9985,       4596,   300.3,  16.6630,  35.2312,2,  35.2270,4,    153.8,2,   151.9,2,    2.90,2,    9.90,2,    0.00,2,    0.92,2,   2.262,2,   1.277,2,-999.000,5,  2125.5,2,  2322.5,2,   -999.0,9,  -999.00,   7.8485,2,    25.00,   0.332,2,   0.003,   1.7484,2,   -0.23,2, -999.00,9,  -999.0,9,    -9.0,   7.161,2,   0.021,   47.21,2,   14.05,2,  300.30,-999.0000,9,-999.0000,9,-999.0000,9,-999.0000,9,-999.0000,9,-999.0000,9,     -999.0,     -999.0,9,     -999.0,9,     -999.0,9,     -999.0,9,     -999.0,9,     -999.0,9, -999.00,9,  16.6139,   0.0052,    0.14
325020060213,       P16N,       5,          2,         25,         25,2,20060216,       0417,   -12.9998,  -150.9985,       4596,   349.9,  13.0523,  34.8331,2,  34.8254,4,    122.8,2,   116.7,2,    8.50,2,   18.20,2,    0.00,2,    1.48,2,   1.788,2,   0.940,2,-999.000,5,  2164.4,2,  2298.5,2,   -999.0,9,  -999.00,   7.7082,2,    25.00,   0.256,2,   0.002,   1.7666,2,    1.05,2, -999.00,9,  -999.0,9,    -9.0,   7.359,2,   0.022,   44.43,2,   22.61,2,  349.90,-999.0000,9,-999.0000,9,-999.0000,9,-999.0000,9,-999.0000,9,-999.0000,9,     -999.0,     -999.0,9,     -999.0,9,     -999.0,9,     -999.0,9,     -999.0,9,     -999.0,9, -999.00,9,  13.0039,   0.0053,    0.14
325020060213,       P16N,       5,          2,         24,         24,2,20060216,       0417,   -12.9998,  -150.9985,       4596,   401.1,   9.5109,  34.6029,2,  34.6006,4,     91.7,2,    90.0,2,   19.60,2,   29.00,2,    0.00,2,    2.11,2,   0.634,2,   0.325,2,-999.000,5,  2214.0,2,  2294.3,2,   -999.0,9,  -999.00,   7.5608,2,    25.00,   0.086,2,   0.002,   1.7963,2,    2.89,2, -999.00,9,  -999.0,9,    -9.0,   7.576,2,   0.023,   42.38,2,   33.15,2,  401.10,-999.0000,9,-999.0000,9,-999.0000,9,-999.0000,9,-999.0000,9,-999.0000,9,     -999.0,     -999.0,9,     -999.0,9,     -999.0,9,     -999.0,9,     -999.0,9,     -999.0,9, -999.00,9,   9.4655,   0.0054,    0.14
325020060213,       P16N,       5,          2,         23,         23,2,20060216,       0417,   -12.9998,  -150.9985,       4596,   448.7,   8.2896,  34.5636,2,  34.5596,4,    101.7,2,   101.7,2,   24.10,2,   31.20,2,    0.00,2,    2.18,2,   0.330,2,   0.177,2,-999.000,5,  2215.7,3,  2297.0,2,   -999.0,9,  -999.00,   7.5599,2,    25.00,   0.061,2,   0.002,   1.8052,2,    4.46,2, -999.00,9,  -999.0,9,    -9.0,   7.594,2,   0.023,   41.89,2,   35.53,2,  448.70,-999.0000,9,-999.0000,9,-999.0000,9,-999.0000,9,-999.0000,9,-999.0000,9,     -999.0,     -999.0,9,     -999.0,9,     -999.0,9,     -999.0,9,     -999.0,9,     -999.0,9, -999.00,9,   8.2428,   0.0054,    0.14
325020060213,       P16N,       5,          2,         22,         22,2,20060216,       0417,   -12.9998,  -150.9985,       4596,   499.3,   7.6999,  34.5475,2,  34.5445,4,    109.4,2,   109.4,2,   27.40,2,   32.10,2,    0.00,2,    2.21,2,   0.221,2,   0.115,2,-999.000,5,  2217.0,2,  2299.5,2,   -999.0,9,  -999.00,   7.5630,2,    25.00,-999.000,9,-999.000,   1.8123,2,    5.61,2, -999.00,9,  -999.0,9,    -9.0,   7.686,2,   0.023,   42.34,2,   36.72,2,  499.30,-999.0000,9,-999.0000,9,-999.0000,9,-999.0000,9,-999.0000,9,-999.0000,9,     -999.0,     -999.0,9,     -999.0,9,     -999.0,9,     -999.0,9,     -999.0,9,     -999.0,9, -999.00,9,   7.6499,   0.0054,    0.14
325020060213,       P16N,       5,          2,         21,         21,2,20060216,       0417,   -12.9998,  -150.9985,       4596,   600.1,   6.5401,  34.5227,2,  34.5199,4,    116.9,2,   115.5,2,   36.50,2,   34.30,2,    0.00,2,    2.31,2,   0.084,2,   0.047,2,-999.000,5,  2227.6,6,  2307.5,2,   -999.0,9,  -999.00,   7.5544,2,    25.00,   0.029,2,   0.002,   1.8369,2,    8.21,2, -999.00,9,  -999.0,9,    -9.0,   7.768,2,   0.023,   39.32,2,   38.47,2,  600.10,-999.0000,9,-999.0000,9,-999.0000,9,-999.0000,9,-999.0000,9,-999.0000,9,     -999.0,     -999.0,9,     -999.0,9,     -999.0,9,     -999.0,9,     -999.0,9,     -999.0,9, -999.00,9,   6.4848,   0.0055,    0.14
325020060213,       P16N,       5,          2,         20,         20,2,20060216,       0417,   -12.9998,  -150.9985,       4596,   699.8,   5.9636,  34.5142,2,  34.5115,4,    113.3,2,   111.9,2,   43.60,2,   36.00,2,    0.00,2,    2.43,2,   0.146,4,   0.024,2,-999.000,5,  2239.5,2,  2314.3,2,   -999.0,9,  -999.00,   7.5386,2,    25.00,   0.031,2,   0.002,   1.8281,2,   10.33,2, -999.00,9,  -999.0,9,    -9.0,   7.771,2,   0.023,   39.25,2,   40.06,2,  699.80,-999.0000,9,-999.0000,9,-999.0000,9,-999.0000,9,-999.0000,9,-999.0000,9,     -999.0,     -999.0,9,     -999.0,9,     -999.0,9,     -999.0,9,     -999.0,9,     -999.0,9, -999.00,9,   5.9017,   0.0055,    0.14
325020060213,       P16N,       5,          2,         19,         19,2,20060216,       0417,   -12.9998,  -150.9985,       4596,   798.7,   5.3275,  34.5107,2,  34.5068,4,    111.7,2,   111.4,2,   52.30,2,   37.10,2,    0.00,2,    2.52,2,   0.025,2,   0.013,2,-999.000,5,  2249.8,2,  2322.4,2,   -999.0,9,  -999.00,   7.5320,2,    25.00,   0.029,2,   0.002,   1.8592,2,   13.02,2, -999.00,9,  -999.0,9,    -9.0,   7.924,2,   0.024,   39.32,2,   40.86,2,  798.70,-999.0000,9,-999.0000,9,-999.0000,9,-999.0000,9,-999.0000,9,-999.0000,9,     -999.0,     -999.0,9,     -999.0,9,     -999.0,9,     -999.0,9,     -999.0,9,     -999.0,9, -999.00,9,   5.2601,   0.0056,    0.14
325020060213,       P16N,       5,          2,         18,         18,2,20060216,       0417,   -12.9998,  -150.9985,       4596,   899.8,   4.8986,  34.5168,2,  34.5125,4,    108.1,2,   106.9,2,   60.20,2,   38.40,2,    0.00,2,    2.61,2,   0.006,6,   0.003,6,-999.000,5,  2262.5,2,  2330.2,2,   -999.0,9,  -999.00,   7.5133,2,    25.00,   0.016,2,   0.005,   1.8700,2,   13.83,2, -999.00,9,  -999.0,9,    -9.0,   7.924,2,   0.024,   39.29,2,   42.26,2,  899.80,-999.0000,9,-999.0000,9,-999.0000,9,-999.0000,9,-999.0000,9,-999.0000,9,     -999.0,     -999.0,9,     -999.0,9,     -999.0,9,     -999.0,9,     -999.0,9,     -999.0,9, -999.00,9,   4.8250,   0.0056,    0.14
325020060213,       P16N,       5,          2,         17,         17,2,20060216,       0417,   -12.9998,  -150.9985,       4596,  1000.3,   4.5924,  34.5221,2,  34.5154,4,    109.5,2,   108.3,2,   66.00,2,   38.30,2,    0.00,2,    2.63,2,   0.002,2,   0.002,2,-999.000,5,  2268.2,2,  2335.9,2,   -999.0,9,  -999.00,   7.5178,2,    25.00,   0.014,2,   0.005,   1.9840,2,   14.89,2, -999.00,9,  -999.0,9,    -9.0,   8.369,2,   0.025,   37.28,2,   42.65,2, 1000.30,-999.0000,9,-999.0000,9,-999.0000,9,-999.0000,9,-999.0000,9,-999.0000,9,     -999.0,     -999.0,9,     -999.0,9,     -999.0,9,     -999.0,9,     -999.0,9,     -999.0,9, -999.00,9,   4.5121,   0.0060,    0.14
325020060213,       P16N,       5,          2,         16,         16,2,20060216,       0417,   -12.9998,  -150.9985,       4596,  1199.1,   3.8039,  34.5495,2,  34.5416,4,    114.1,2,   113.5,2,   82.00,2,   38.30,2,    0.00,2,    2.66,2,-999.000,9,-999.000,9,-999.000,9,  2284.3,2,  2355.4,6,   -999.0,9,  -999.00,   7.5215,2,    25.00,-999.000,9,-999.000,   1.8768,2,   19.15,2, -999.00,9,  -999.0,9,    -9.0,   7.976,2,   0.024,   36.67,2,   42.04,2, 1199.10,-999.0000,9,-999.0000,9,-999.0000,9,-999.0000,9,-999.0000,9,-999.0000,9,     -999.0,     -999.0,9,     -999.0,9,     -999.0,9,     -999.0,9,     -999.0,9,     -999.0,9, -999.00,9,   3.7131,   0.0056,    0.14
325020060213,       P16N,       5,          2,         15,         15,2,20060216,       0417,   -12.9998,  -150.9985,       4596,  1399.2,   3.3321,  34.5688,2,  34.5652,4,    122.6,2,   121.7,2,   90.30,2,   37.90,2,    0.00,2,    2.63,2,   0.005,2,   0.002,2,-999.000,5,  2288.7,2,  2363.9,2,   -999.0,9,  -999.00,   7.5355,2,    25.00,   0.019,2,   0.005,   1.9341,2,   20.22,2, -999.00,9,  -999.0,9,    -9.0,   8.187,2,   0.025,   37.50,2,   41.38,2, 1399.20,-999.0000,9,-999.0000,9,-999.0000,9,-999.0000,9,-999.0000,9,-999.0000,9,     -999.0,     -999.0,9,     -999.0,9,     -999.0,9,     -999.0,9,     -999.0,9,     -999.0,9, -999.00,9,   3.2291,   0.0058,    0.14
325020060213,       P16N,       5,          2,         14,         14,2,20060216,       0417,   -12.9998,  -150.9985,       4596,  1600.2,   2.7945,  34.5926,2,  34.5893,4,    138.6,2,   138.0,2,   98.70,2,   36.90,2,    0.00,2,    2.55,2,   0.008,2,   0.001,2,-999.000,5,  2288.7,2,  2373.1,2,   -999.0,9,  -999.00,   7.5598,2,    25.00,-999.000,9,-999.000,-999.0000,9,-999.000,9, -999.00,9,  -999.0,9,    -9.0,-999.000,9,-999.000,   36.84,2,   40.55,2, 1600.20,-999.0000,9,-999.0000,9,-999.0000,9,-999.0000,9,-999.0000,9,-999.0000,9,     -999.0,     -999.0,9,     -999.0,9,     -999.0,9,     -999.0,9,     -999.0,9,     -999.0,9, -999.00,9,   2.6807,-999.0000,-999.000
325020060213,       P16N,       5,          2,         13,         13,2,20060216,       0417,   -12.9998,  -150.9985,       4596,  1799.5,   2.4693,  34.6141,2,  34.6115,4,    142.9,2,   142.5,2,  106.40,2,   36.60,2,    0.00,2,    2.54,2,   0.000,2,   0.000,2,-999.000,5,  2294.0,2,  2380.8,2,   -999.0,9,  -999.00,   7.5645,2,    25.00,-999.000,9,-999.000,-999.0000,9,-999.000,9, -999.00,9,  -999.0,9,    -9.0,-999.000,9,-999.000,   37.02,2,   40.44,2, 1799.50,-999.0000,9,-999.0000,9,-999.0000,9,-999.0000,9,-999.0000,9,-999.0000,9,     -999.0,     -999.0,9,     -999.0,9,     -999.0,9,     -999.0,9,     -999.0,9,     -999.0,9, -999.00,9,   2.3429,-999.0000,-999.000
325020060213,       P16N,       5,          2,         12,         12,2,20060216,       0417,   -12.9998,  -150.9985,       4596,  2000.7,   2.2458,  34.6320,2,  34.6257,4,    145.8,2,   144.7,2,  112.40,2,   36.50,2,    0.00,2,    2.54,2,-999.000,9,-999.000,9,-999.000,9,  2299.7,2,  2387.6,2,   -999.0,9,  -999.00,   7.5698,2,    25.00,-999.000,9,-999.000,-999.0000,9,-999.000,9, -999.00,9,  -999.0,9,    -9.0,-999.000,9,-999.000,   36.35,2,   40.59,2, 2000.70,-999.0000,9,-999.0000,9,-999.0000,9,-999.0000,9,-999.0000,9,-999.0000,9,     -999.0,     -999.0,9,     -999.0,9,     -999.0,9,     -999.0,9,     -999.0,9,     -999.0,9, -999.00,9,   2.1056,-999.0000,-999.000
325020060213,       P16N,       5,          2,         11,         11,2,20060216,       0417,   -12.9998,  -150.9985,       4596,  2248.9,   2.0424,  34.6506,2,  34.6426,4,    148.2,2,   146.9,2,  118.50,2,   36.50,2,    0.00,2,    2.53,2,   0.000,2,   0.001,2,-999.000,5,  2305.0,2,  2387.5,2,   -999.0,9,  -999.00,   7.5767,2,    25.00,-999.000,9,-999.000,-999.0000,9,-999.000,9, -999.00,9,  -999.0,9,    -9.0,-999.000,9,-999.000,   36.40,2,   40.59,2, 2248.90,-999.0000,9,-999.0000,9,-999.0000,9,-999.0000,9,-999.0000,9,-999.0000,9,     -999.0,     -999.0,9,     -999.0,9,     -999.0,9,     -999.0,9,     -999.0,9,     -999.0,9, -999.00,9,   1.8839,-999.0000,-999.000
325020060213,       P16N,       5,          2,         10,         10,2,20060216,       0417,   -12.9998,  -150.9985,       4596,  2501.5,   1.9042,  34.6637,2,  34.6579,4,    150.5,2,   148.9,2,  123.40,2,   36.30,2,    0.00,2,    2.53,2,-999.000,9,-999.000,9,-999.000,9,  2307.7,2,  2360.3,4,   -999.0,9,  -999.00,   7.5838,2,    25.00,-999.000,9,-999.000,-999.0000,9,-999.000,9, -999.00,9,  -999.0,9,    -9.0,-999.000,9,-999.000,   37.45,2,   39.66,2, 2501.50,-999.0000,9,-999.0000,9,-999.0000,9,-999.0000,9,-999.0000,9,-999.0000,9,     -999.0,     -999.0,9,     -999.0,9,     -999.0,9,     -999.0,9,     -999.0,9,     -999.0,9, -999.00,9,   1.7256,-999.0000,-999.000
325020060213,       P16N,       5,          2,          9,          9,2,20060216,       0417,   -12.9998,  -150.9985,       4596,  2750.1,   1.8198,  34.6730,2,  34.6672,4,    150.7,2,   149.5,2,  127.20,2,   36.30,2,    0.00,2,    2.53,2,   0.001,2,  -0.001,2,-999.000,5,  2312.4,2,  2389.2,3,   -999.0,9,  -999.00,   7.5815,2,    25.00,-999.000,9,-999.000,-999.0000,9,-999.000,9, -999.00,9,  -999.0,9,    -9.0,-999.000,9,-999.000,   35.98,2,   39.40,2, 2750.10,-999.0000,9,-999.0000,9,-999.0000,9,-999.0000,9,-999.0000,9,-999.0000,9,     -999.0,     -999.0,9,     -999.0,9,     -999.0,9,     -999.0,9,     -999.0,9,     -999.0,9, -999.00,9,   1.6198,-999.0000,-999.000