BOTTLE,20170720CCHSIOCBG
EXPOCODE,SECT_ID,STNNBR,CASTNO,SAMPNO,BTLNBR,BTLNBR_FLAG_W,DATE,TIME,LATITUDE,LONGITUDE,DEPTH,CTDPRS,CTDTMP,CTDSAL,CTDSAL_FLAG_W,SALNTY,SALNTY_FLAG_W,CTDOXY,CTDOXY_FLAG_W,OXYGEN,OXYGEN_FLAG_W,SILCAT,SILCAT_FLAG_W,NITRAT,NITRAT_FLAG_W,NITRIT,NITRIT_FLAG_W,PHSPHT,PHSPHT_FLAG_W,CFC-11,CFC-11_FLAG_W,CFC-12,CFC-12_FLAG_W,CFC113,CFC113_FLAG_W,TCARBN,TCARBN_FLAG_W,ALKALI,ALKALI_FLAG_W,FCO2,FCO2_FLAG_W,FCO2TMP,PH_TOT,PH_TOT_FLAG_W,PH_TMP,TRITUM,TRITUM_FLAG_W,TRITER,HELIUM,HELIUM_FLAG_W,DELHE3,DELHE3_FLAG_W,DELC13,DELC13_FLAG_W,DELC14,DELC14_FLAG_W,C14ERR,NEON,NEON_FLAG_W,NEONER,DOC,DOC_FLAG_W,TDN,TDN_FLAG_W,CTDRAW,CDOM325,CDOM325_FLAG_W,CDOM340,CDOM340_FLAG_W,CDOM380,CDOM380_FLAG_W,CDOM412,CDOM412_FLAG_W,CDOMSL,CDOMSL_FLAG_W,CDOMSN,CDOMSN_FLAG_W,DCNS,ARABI,ARABI_FLAG_W,FUCO,FUCO_FLAG_W,GALA,GALA_FLAG_W,GLUC,GLUC_FLAG_W,MAN,MAN_FLAG_W,RHAM,RHAM_FLAG_W,BRDU,BRDU_FLAG_W,THETA,HELIER,DELHER
,,,,,,,,,,,METERS,DBAR,ITS-90,PSS-78,,PSS-78,,UMOL/KG,,UMOL/KG,,UMOL/KG,,UMOL/KG,,UMOL/KG,,UMOL/KG,,PMOL/KG,,PMOL/KG,,PMOL/KG,,UMOL/KG,,UMOL/KG,,UATM,,DEG C,,,DEG C,TU,,TU,NMOL/KG,,PERCNT,,/MILLE,,/MILLE,,/MILLE,NMOL/KG,,NMOL/KG,UMOL/KG,,UMOL/KG,,DBAR,1/M,,1/M,,1/M,,1/M,,1/NM,,1/NM,,NMOL/KG,NMOL/KG,,NMOL/KG,,NMOL/KG,,NMOL/KG,,NMOL/KG,,NMOL/KG,,PMOL/L/H,,DEG C,NMOL/KG,PERCNT
325020060213,       P16N,      59,          2,          9,          9,2,20060319,       1048,    36.9998,       -152,       5530,  2998.6,   1.5373,  34.6659,2,  34.6664,2,    116.9,2,   117.2,2,  162.00,2,   38.10,2,    0.00,2,    2.65,2,  -0.005,2,   0.006,2,-999.000,5,  2351.8,2,  2427.4,2,   1360.8,2,    20.00,   7.5193,2,    25.00,-999.000,9,-999.000,    2.071,3,  17.754,3, -999.00,9,  -999.0,9,    -9.0,   8.443,2,   0.058,   37.54,2,   41.80,2, 2998.60,-999.0000,9,-999.0000,9,-999.0000,9,-999.0000,9,-999.0000,9,-999.0000,9,     -999.0,     -999.0,9,     -999.0,9,     -999.0,9,     -999.0,9,     -999.0,9,     -999.0,9, -999.00,9,   1.3198,    0.004,   0.092
325020060213,       P16N,      59,          2,          8,          8,2,20060319,       1048,    36.9998,       -152,       5530,  3249.4,   1.4997,  34.6734,2,  34.6719,2,    126.4,2,   126.4,2,  159.90,2,   37.40,2,    0.00,2,    2.61,2,-999.000,9,-999.000,9,-999.000,9,  2346.3,2,  2431.0,2,   1322.2,2,    20.00,   7.5362,2,    25.00,-999.000,9,-999.000,-999.0000,9,-999.000,9, -999.00,9,  -999.0,9,    -9.0,-999.000,9,-999.000,   36.90,2,   40.56,2, 3249.40,-999.0000,9,-999.0000,9,-999.0000,9,-999.0000,9,-999.0000,9,-999.0000,9,     -999.0,     -999.0,9,     -999.0,9,     -999.0,9,     -999.0,9,     -999.0,9,     -999.0,9, -999.00,9,   1.2587,-999.0000,-999.000
325020060213,       P16N,      59,          2,          7,          7,2,20060319,       1048,    36.9998,       -152,       5530,  3609.1,   1.4748,  34.6806,2,  34.6803,2,    135.7,2,   135.8,2,  158.90,2,   36.80,2,    0.00,2,    2.57,2,-999.000,9,-999.000,9,-999.000,9,  2341.2,2,  2426.2,6,   1266.7,2,    20.00,   7.5532,6,    25.00,-999.000,9,-999.000,-999.0000,9,-999.000,9, -999.00,9,  -999.0,9,    -9.0,-999.000,9,-999.000,   36.87,2,   39.92,2, 3609.10,-999.0000,9,-999.0000,9,-999.0000,9,-999.0000,9,-999.0000,9,-999.0000,9,     -999.0,     -999.0,9,     -999.0,9,     -999.0,9,     -999.0,9,     -999.0,9,     -999.0,9, -999.00,9,   1.1981,-999.0000,-999.000
325020060213,       P16N,      59,          2,          6,          6,2,20060319,       1048,    36.9998,       -152,       5530,  4024.4,   1.4735,  34.6862,2,  34.6882,2,    142.3,2,   142.9,2,  157.80,2,   36.30,2,    0.00,2,    2.53,2,   0.010,2,  -0.001,2,-999.000,5,  2336.1,2,  2427.7,2,   1220.7,2,    20.00,   7.5688,2,    25.00,-999.000,9,-999.000,    1.973,2,  15.273,3, -999.00,9,  -999.0,9,    -9.0,   8.411,2,   0.058,   36.85,2,   39.44,2, 4024.40,-999.0000,9,-999.0000,9,-999.0000,9,-999.0000,9,-999.0000,9,-999.0000,9,     -999.0,     -999.0,9,     -999.0,9,     -999.0,9,     -999.0,9,     -999.0,9,     -999.0,9, -999.00,9,   1.1526,    0.003,   0.095
325020060213,       P16N,      59,          2,          5,          5,2,20060319,       1048,    36.9998,       -152,       5530,  4549.8,   1.5057,  34.6893,2,  34.6880,2,    147.6,2,   147.3,2,  155.00,2,   36.10,2,    0.00,2,    2.50,2,-999.000,9,-999.000,9,-999.000,9,  2332.7,2,  2427.3,2,   1197.1,2,    20.00,   7.5793,3,    25.00,-999.000,9,-999.000,-999.0000,9,-999.000,9, -999.00,9,  -999.0,9,    -9.0,-999.000,9,-999.000,   37.44,2,   39.72,2, 4549.80,-999.0000,9,-999.0000,9,-999.0000,9,-999.0000,9,-999.0000,9,-999.0000,9,     -999.0,     -999.0,9,     -999.0,9,     -999.0,9,     -999.0,9,     -999.0,9,     -999.0,9, -999.00,9,   1.1248,-999.0000,-999.000
325020060213,       P16N,      59,          2,          4,          4,2,20060319,       1048,    36.9998,       -152,       5530,  5048.7,   1.5475,  34.6911,2,  34.6942,3,    152.2,2,   151.5,2,  151.10,6,   35.80,6,    0.00,6,    2.47,6,   0.003,2,   0.006,2,-999.000,5,  2328.8,2,  2429.6,2,   1175.4,2,    20.00,   7.5834,2,    25.00,-999.000,9,-999.000,-999.0000,9,-999.000,9, -999.00,9,  -999.0,9,    -9.0,-999.000,9,-999.000,   37.72,2,   39.42,2, 5048.70,-999.0000,9,-999.0000,9,-999.0000,9,-999.0000,9,-999.0000,9,-999.0000,9,     -999.0,     -999.0,9,     -999.0,9,     -999.0,9,     -999.0,9,     -999.0,9,     -999.0,9, -999.00,9,   1.1057,-999.0000,-999.000
325020060213,       P16N,      59,          2,          3,          3,2,20060319,       1048,    36.9998,       -152,       5530,  5249.8,   1.5677,  34.6917,2,  34.6940,2,    154.1,2,   153.1,2,  149.00,6,   35.80,6,    0.00,6,    2.46,6,-999.000,9,-999.000,9,-999.000,9,  2327.5,2,  2430.3,2,   1167.8,2,    20.00,   7.5865,2,    25.00,-999.000,9,-999.000,-999.0000,9,-999.000,9, -999.00,9,  -999.0,9,    -9.0,-999.000,9,-999.000,   38.05,2,   39.54,2, 5249.80,-999.0000,9,-999.0000,9,-999.0000,9,-999.0000,9,-999.0000,9,-999.0000,9,     -999.0,     -999.0,9,     -999.0,9,     -999.0,9,     -999.0,9,     -999.0,9,     -999.0,9, -999.00,9,   1.1003,-999.0000,-999.000
325020060213,       P16N,      59,          2,          2,          2,2,20060319,       1048,    36.9998,       -152,       5530,  5451.9,   1.5909,  34.6922,2,  34.6905,2,    155.2,2,   154.0,2,  148.00,6,   35.60,2,    0.00,6,    2.45,6,-999.000,9,-999.000,9,-999.000,9,  2327.6,2,  2430.0,2,   1158.6,2,    20.00,   7.5858,2,    25.00,-999.000,9,-999.000,-999.0000,9,-999.000,9, -999.00,9,  -999.0,9,    -9.0,-999.000,9,-999.000,   38.24,2,   39.45,2, 5451.90,-999.0000,9,-999.0000,9,-999.0000,9,-999.0000,9,-999.0000,9,-999.0000,9,     -999.0,     -999.0,9,     -999.0,9,     -999.0,9,     -999.0,9,     -999.0,9,     -999.0,9, -999.00,9,   1.0971,-999.0000,-999.000
325020060213,       P16N,      59,          2,          1,          1,2,20060319,       1048,    36.9998,       -152,       5530,  5680.1,   1.6204,  34.6921,2,  34.6926,2,    155.1,2,   154.1,2,  147.50,6,   35.60,2,    0.00,6,    2.46,2,   0.004,2,   0.003,2,-999.000,5,  2327.0,6,  2430.1,2,   1155.6,2,    20.00,   7.5871,2,    25.00,-999.000,9,-999.000,    2.112,4,  14.945,4, -999.00,9,  -999.0,9,    -9.0,   8.871,3,   0.019,   37.34,2,   38.84,2, 5680.10,-999.0000,9,-999.0000,9,-999.0000,9,-999.0000,9,-999.0000,9,-999.0000,9,     -999.0,     -999.0,9,     -999.0,9,     -999.0,9,     -999.0,9,     -999.0,9,     -999.0,9, -999.00,9,   1.0961,    0.001,   0.188