BOTTLE,20170720CCHSIOCBG
EXPOCODE,SECT_ID,STNNBR,CASTNO,SAMPNO,BTLNBR,BTLNBR_FLAG_W,DATE,TIME,LATITUDE,LONGITUDE,DEPTH,CTDPRS,CTDTMP,CTDSAL,CTDSAL_FLAG_W,SALNTY,SALNTY_FLAG_W,CTDOXY,CTDOXY_FLAG_W,OXYGEN,OXYGEN_FLAG_W,SILCAT,SILCAT_FLAG_W,NITRAT,NITRAT_FLAG_W,NITRIT,NITRIT_FLAG_W,PHSPHT,PHSPHT_FLAG_W,CFC-11,CFC-11_FLAG_W,CFC-12,CFC-12_FLAG_W,CFC113,CFC113_FLAG_W,TCARBN,TCARBN_FLAG_W,ALKALI,ALKALI_FLAG_W,FCO2,FCO2_FLAG_W,FCO2TMP,PH_TOT,PH_TOT_FLAG_W,PH_TMP,TRITUM,TRITUM_FLAG_W,TRITER,HELIUM,HELIUM_FLAG_W,DELHE3,DELHE3_FLAG_W,DELC13,DELC13_FLAG_W,DELC14,DELC14_FLAG_W,C14ERR,NEON,NEON_FLAG_W,NEONER,DOC,DOC_FLAG_W,TDN,TDN_FLAG_W,CTDRAW,CDOM325,CDOM325_FLAG_W,CDOM340,CDOM340_FLAG_W,CDOM380,CDOM380_FLAG_W,CDOM412,CDOM412_FLAG_W,CDOMSL,CDOMSL_FLAG_W,CDOMSN,CDOMSN_FLAG_W,DCNS,ARABI,ARABI_FLAG_W,FUCO,FUCO_FLAG_W,GALA,GALA_FLAG_W,GLUC,GLUC_FLAG_W,MAN,MAN_FLAG_W,RHAM,RHAM_FLAG_W,BRDU,BRDU_FLAG_W,THETA,HELIER,DELHER
,,,,,,,,,,,METERS,DBAR,ITS-90,PSS-78,,PSS-78,,UMOL/KG,,UMOL/KG,,UMOL/KG,,UMOL/KG,,UMOL/KG,,UMOL/KG,,PMOL/KG,,PMOL/KG,,PMOL/KG,,UMOL/KG,,UMOL/KG,,UATM,,DEG C,,,DEG C,TU,,TU,NMOL/KG,,PERCNT,,/MILLE,,/MILLE,,/MILLE,NMOL/KG,,NMOL/KG,UMOL/KG,,UMOL/KG,,DBAR,1/M,,1/M,,1/M,,1/M,,1/NM,,1/NM,,NMOL/KG,NMOL/KG,,NMOL/KG,,NMOL/KG,,NMOL/KG,,NMOL/KG,,NMOL/KG,,PMOL/L/H,,DEG C,NMOL/KG,PERCNT
325020060213,       P16N,      69,          1,          9,          9,2,20060325,       0612,    48.0017,  -151.9987,       4896,  2800.0,   1.6312,  34.6480,2,  34.6474,2,     97.1,2,    96.0,2,  168.70,2,   39.20,2,    0.00,2,    2.80,2,-999.000,9,-999.000,9,-999.000,9,  2365.1,2,  2426.7,2,   -999.0,9,  -999.00,   7.4742,2,    25.00,-999.000,9,-999.000,-999.0000,9,-999.000,9, -999.00,9,  -999.0,9,    -9.0,-999.000,9,-999.000,   38.26,2,   43.02,2, 2800.00,-999.0000,9,-999.0000,9,-999.0000,9,-999.0000,9,-999.0000,9,-999.0000,9,     -999.0,     -999.0,9,     -999.0,9,     -999.0,9,     -999.0,9,     -999.0,9,     -999.0,9, -999.00,9,   1.4305,-999.0000,-999.000
325020060213,       P16N,      69,          1,          8,          8,2,20060325,       0612,    48.0017,  -151.9987,       4896,  2999.0,   1.5799,  34.6578,2,  34.6599,2,    107.6,2,   106.5,2,  167.00,2,   38.50,2,    0.00,2,    2.76,2,  -0.003,2,   0.007,2,-999.000,5,  2358.4,2,  2424.9,2,   -999.0,9,  -999.00,   7.4968,6,    25.00,-999.000,9,-999.000,-999.0000,9,-999.000,9, -999.00,9,  -999.0,9,    -9.0,-999.000,9,-999.000,   37.73,2,   42.41,2, 2999.00,-999.0000,9,-999.0000,9,-999.0000,9,-999.0000,9,-999.0000,9,-999.0000,9,     -999.0,     -999.0,9,     -999.0,9,     -999.0,9,     -999.0,9,     -999.0,9,     -999.0,9, -999.00,9,   1.3616,-999.0000,-999.000
325020060213,       P16N,      69,          1,          7,          7,2,20060325,       0612,    48.0017,  -151.9987,       4896,  3301.6,   1.5194,  34.6699,2,  34.6682,2,    121.9,2,   120.9,2,  164.10,2,   37.50,2,    0.00,2,    2.69,2,-999.000,9,-999.000,9,-999.000,9,  2349.3,2,  2426.6,6,   -999.0,9,  -999.00,   7.5240,2,    25.00,-999.000,9,-999.000,-999.0000,9,-999.000,9, -999.00,9,  -999.0,9,    -9.0,-999.000,9,-999.000,   38.70,2,   40.90,2, 3301.60,-999.0000,9,-999.0000,9,-999.0000,9,-999.0000,9,-999.0000,9,-999.0000,9,     -999.0,     -999.0,9,     -999.0,9,     -999.0,9,     -999.0,9,     -999.0,9,     -999.0,9, -999.00,9,   1.2728,-999.0000,-999.000
325020060213,       P16N,      69,          1,          6,          6,2,20060325,       0612,    48.0017,  -151.9987,       4896,  3597.8,   1.4908,  34.6773,2,  34.6791,2,    132.3,2,   131.1,2,  161.20,2,   36.70,2,    0.00,2,    2.62,2,-999.000,9,-999.000,9,-999.000,9,  2342.5,2,  2426.4,2,   -999.0,9,  -999.00,   7.5436,2,    25.00,-999.000,9,-999.000,-999.0000,9,-999.000,9, -999.00,9,  -999.0,9,    -9.0,-999.000,9,-999.000,   37.07,2,   39.94,2, 3597.80,-999.0000,9,-999.0000,9,-999.0000,9,-999.0000,9,-999.0000,9,-999.0000,9,     -999.0,     -999.0,9,     -999.0,9,     -999.0,9,     -999.0,9,     -999.0,9,     -999.0,9, -999.00,9,   1.2149,-999.0000,-999.000
325020060213,       P16N,      69,          1,          5,          5,2,20060325,       0612,    48.0017,  -151.9987,       4896,  3897.9,   1.4812,  34.6828,2,  34.6797,2,    138.8,2,   137.4,2,  161.40,2,   36.30,2,    0.00,2,    2.60,2,   0.001,2,   0.002,2,-999.000,5,  2338.6,2,  2427.8,2,   -999.0,9,  -999.00,   7.5577,2,    25.00,-999.000,9,-999.000,-999.0000,9,-999.000,9, -999.00,9,  -999.0,9,    -9.0,-999.000,9,-999.000,   37.50,2,   40.18,2, 3897.90,-999.0000,9,-999.0000,9,-999.0000,9,-999.0000,9,-999.0000,9,-999.0000,9,     -999.0,     -999.0,9,     -999.0,9,     -999.0,9,     -999.0,9,     -999.0,9,     -999.0,9, -999.00,9,   1.1738,-999.0000,-999.000
325020060213,       P16N,      69,          1,          4,          4,2,20060325,       0612,    48.0017,  -151.9987,       4896,  4199.4,   1.4919,  34.6864,2,  34.6840,2,    141.9,2,   140.5,2,  163.80,6,   36.20,6,    0.00,2,    2.57,6,-999.000,9,-999.000,9,-999.000,9,  2340.5,2,  2433.3,2,   -999.0,9,  -999.00,   7.5735,3,    25.00,-999.000,9,-999.000,-999.0000,9,-999.000,9, -999.00,9,  -999.0,9,    -9.0,-999.000,9,-999.000,   37.65,2,   39.39,2, 4199.40,-999.0000,9,-999.0000,9,-999.0000,9,-999.0000,9,-999.0000,9,-999.0000,9,     -999.0,     -999.0,9,     -999.0,9,     -999.0,9,     -999.0,9,     -999.0,9,     -999.0,9, -999.00,9,   1.1513,-999.0000,-999.000
325020060213,       P16N,      69,          1,          3,          3,2,20060325,       0612,    48.0017,  -151.9987,       4896,  4499.7,   1.5116,  34.6884,2,  34.6864,2,    143.7,2,   142.8,2,  164.70,6,   36.00,6,    0.00,2,    2.56,6,-999.000,9,-999.000,9,-999.000,9,  2339.0,2,  2431.6,2,   -999.0,9,  -999.00,   7.5727,2,    25.00,-999.000,9,-999.000,-999.0000,9,-999.000,9, -999.00,9,  -999.0,9,    -9.0,-999.000,9,-999.000,   37.72,2,   39.42,2, 4499.70,-999.0000,9,-999.0000,9,-999.0000,9,-999.0000,9,-999.0000,9,-999.0000,9,     -999.0,     -999.0,9,     -999.0,9,     -999.0,9,     -999.0,9,     -999.0,9,     -999.0,9, -999.00,9,   1.1363,-999.0000,-999.000
325020060213,       P16N,      69,          1,          2,          2,2,20060325,       0612,    48.0017,  -151.9987,       4896,  4699.0,   1.5321,  34.6889,2,  34.6881,2,    144.3,2,   148.7,4,  164.80,6,   36.00,6,    0.00,2,    2.56,6,   0.002,2,  -0.001,2,-999.000,5,  2340.8,2,  2432.3,2,   -999.0,9,  -999.00,   7.5779,3,    25.00,   0.006,2,   0.015,    1.923,2,  15.725,2, -999.00,9,  -999.0,9,    -9.0,   8.312,2,   0.008,   37.48,2,   39.83,2, 4699.00,-999.0000,9,-999.0000,9,-999.0000,9,-999.0000,9,-999.0000,9,-999.0000,9,     -999.0,     -999.0,9,     -999.0,9,     -999.0,9,     -999.0,9,     -999.0,9,     -999.0,9, -999.00,9,   1.1329,    0.001,   0.181
325020060213,       P16N,      69,          1,          1,          1,2,20060325,       0612,    48.0017,  -151.9987,       4896,  4948.2,   1.5616,  34.6889,2,  34.6883,2,    143.8,2,   143.7,2,  165.80,4,   36.10,4,    0.00,4,    2.58,4,   0.004,2,   0.005,2,-999.000,5,  2338.4,6,  2431.7,2,   -999.0,9,  -999.00,   7.5735,2,    25.00,-999.000,9,-999.000,    1.918,2,  16.621,2, -999.00,9,  -999.0,9,    -9.0,   8.308,2,   0.019,   37.62,2,   39.31,2, 4948.20,-999.0000,9,-999.0000,9,-999.0000,9,-999.0000,9,-999.0000,9,-999.0000,9,     -999.0,     -999.0,9,     -999.0,9,     -999.0,9,     -999.0,9,     -999.0,9,     -999.0,9, -999.00,9,   1.1316,    0.001,   0.184