BOTTLE,20170720CCHSIOCBG
EXPOCODE,SECT_ID,STNNBR,CASTNO,SAMPNO,BTLNBR,BTLNBR_FLAG_W,DATE,TIME,LATITUDE,LONGITUDE,DEPTH,CTDPRS,CTDTMP,CTDSAL,CTDSAL_FLAG_W,SALNTY,SALNTY_FLAG_W,CTDOXY,CTDOXY_FLAG_W,OXYGEN,OXYGEN_FLAG_W,SILCAT,SILCAT_FLAG_W,NITRAT,NITRAT_FLAG_W,NITRIT,NITRIT_FLAG_W,PHSPHT,PHSPHT_FLAG_W,CFC-11,CFC-11_FLAG_W,CFC-12,CFC-12_FLAG_W,CFC113,CFC113_FLAG_W,TCARBN,TCARBN_FLAG_W,ALKALI,ALKALI_FLAG_W,FCO2,FCO2_FLAG_W,FCO2TMP,PH_TOT,PH_TOT_FLAG_W,PH_TMP,TRITUM,TRITUM_FLAG_W,TRITER,HELIUM,HELIUM_FLAG_W,DELHE3,DELHE3_FLAG_W,DELC13,DELC13_FLAG_W,DELC14,DELC14_FLAG_W,C14ERR,NEON,NEON_FLAG_W,NEONER,DOC,DOC_FLAG_W,TDN,TDN_FLAG_W,CTDRAW,CDOM325,CDOM325_FLAG_W,CDOM340,CDOM340_FLAG_W,CDOM380,CDOM380_FLAG_W,CDOM412,CDOM412_FLAG_W,CDOMSL,CDOMSL_FLAG_W,CDOMSN,CDOMSN_FLAG_W,DCNS,ARABI,ARABI_FLAG_W,FUCO,FUCO_FLAG_W,GALA,GALA_FLAG_W,GLUC,GLUC_FLAG_W,MAN,MAN_FLAG_W,RHAM,RHAM_FLAG_W,BRDU,BRDU_FLAG_W,THETA,HELIER,DELHER
,,,,,,,,,,,METERS,DBAR,ITS-90,PSS-78,,PSS-78,,UMOL/KG,,UMOL/KG,,UMOL/KG,,UMOL/KG,,UMOL/KG,,UMOL/KG,,PMOL/KG,,PMOL/KG,,PMOL/KG,,UMOL/KG,,UMOL/KG,,UATM,,DEG C,,,DEG C,TU,,TU,NMOL/KG,,PERCNT,,/MILLE,,/MILLE,,/MILLE,NMOL/KG,,NMOL/KG,UMOL/KG,,UMOL/KG,,DBAR,1/M,,1/M,,1/M,,1/M,,1/NM,,1/NM,,NMOL/KG,NMOL/KG,,NMOL/KG,,NMOL/KG,,NMOL/KG,,NMOL/KG,,NMOL/KG,,PMOL/L/H,,DEG C,NMOL/KG,PERCNT
325020060213,       P16N,      49,          1,          9,          9,2,20060314,       2114,         27,       -152,       5347,  3000.8,   1.5573,  34.6698,2,  34.6701,2,    121.4,2,   121.4,2,  162.60,2,   37.90,2,    0.00,2,    2.66,2,   0.000,2,   0.005,2,-999.000,9,  2347.8,2,  2434.3,2,   -999.0,9,  -999.00,   7.5288,2,    25.00,-999.000,9,-999.000,-999.0000,9,-999.000,9, -999.00,9,  -999.0,9,    -9.0,-999.000,9,-999.000,   35.42,2,   41.56,2, 3000.80,   0.1230,2,   0.0810,2,   0.0400,2,   0.0290,2,   0.0177,2,   0.0200,2,     -999.0,     -999.0,9,     -999.0,9,     -999.0,9,     -999.0,9,     -999.0,9,     -999.0,9, -999.00,9,   1.3392,-999.0000,-999.000
325020060213,       P16N,      49,          1,          8,          8,2,20060314,       2114,         27,       -152,       5347,  3251.1,   1.5155,  34.6765,2,  34.6770,2,    129.5,2,   129.6,2,  160.60,2,   37.50,2,    0.00,2,    2.62,2,-999.000,9,-999.000,9,-999.000,9,  2342.3,2,  2438.9,3,   -999.0,9,  -999.00,   7.5446,2,    25.00,-999.000,9,-999.000,-999.0000,9,-999.000,9, -999.00,9,  -999.0,9,    -9.0,-999.000,9,-999.000,   36.87,2,   41.03,2, 3251.10,-999.0000,9,-999.0000,9,-999.0000,9,-999.0000,9,-999.0000,9,-999.0000,9,     -999.0,     -999.0,9,     -999.0,9,     -999.0,9,     -999.0,9,     -999.0,9,     -999.0,9, -999.00,9,   1.2740,-999.0000,-999.000
325020060213,       P16N,      49,          1,          7,          7,2,20060314,       2114,         27,       -152,       5347,  3649.4,   1.4839,  34.6833,2,  34.6853,2,    138.6,2,   139.0,2,  157.30,2,   36.80,2,    0.00,2,    2.57,2,-999.000,9,-999.000,9,-999.000,9,  2337.2,2,  2426.6,6,   -999.0,9,  -999.00,   7.5599,2,    25.00,-999.000,9,-999.000,-999.0000,9,-999.000,9, -999.00,9,  -999.0,9,    -9.0,-999.000,9,-999.000,   36.80,2,   40.33,2, 3649.40,-999.0000,9,-999.0000,9,-999.0000,9,-999.0000,9,-999.0000,9,-999.0000,9,     -999.0,     -999.0,9,     -999.0,9,     -999.0,9,     -999.0,9,     -999.0,9,     -999.0,9, -999.00,9,   1.2027,-999.0000,-999.000
325020060213,       P16N,      49,          1,          6,          6,2,20060314,       2114,         27,       -152,       5347,  4049.5,   1.4787,  34.6874,2,  34.6870,2,    145.9,2,   146.0,2,  153.40,2,   36.40,2,    0.00,2,    2.53,2,   0.001,2,   0.005,2,-999.000,9,  2332.9,2,  2423.7,2,   -999.0,9,  -999.00,   7.5724,2,    25.00,-999.000,9,-999.000,    1.955,2,  15.406,2, -999.00,9,  -999.0,9,    -9.0,   8.179,2,   0.014,   37.35,2,   40.11,2, 4049.50,   0.1100,2,   0.0710,2,   0.0330,2,   0.0230,2,   0.0211,2,   0.0232,2,     -999.0,     -999.0,9,     -999.0,9,     -999.0,9,     -999.0,9,     -999.0,9,     -999.0,9, -999.00,9,   1.1550,    0.003,   0.206
325020060213,       P16N,      49,          1,          5,          5,2,20060314,       2114,         27,       -152,       5347,  4549.6,   1.4837,  34.6915,2,  34.6920,2,    154.0,2,   154.0,2,  148.10,2,   35.70,2,    0.00,2,    2.48,2,-999.000,9,-999.000,9,-999.000,9,  2324.9,2,  2422.0,2,   -999.0,9,  -999.00,   7.5833,2,    25.00,-999.000,9,-999.000,-999.0000,9,-999.000,9, -999.00,9,  -999.0,9,    -9.0,-999.000,9,-999.000,   37.26,2,   38.98,2, 4549.60,-999.0000,9,-999.0000,9,-999.0000,9,-999.0000,9,-999.0000,9,-999.0000,9,     -999.0,     -999.0,9,     -999.0,9,     -999.0,9,     -999.0,9,     -999.0,9,     -999.0,9, -999.00,9,   1.1035,-999.0000,-999.000
325020060213,       P16N,      49,          1,          4,          4,2,20060314,       2114,         27,       -152,       5347,  5047.6,   1.4957,  34.6951,2,  34.6953,2,    161.9,2,   162.1,2,  141.90,6,   35.20,6,    0.00,6,    2.43,6,-999.000,9,-999.000,9,-999.000,9,  2314.8,2,  2420.7,2,   -999.0,9,  -999.00,   7.5925,2,    25.00,-999.000,9,-999.000,-999.0000,9,-999.000,9, -999.00,9,  -999.0,9,    -9.0,-999.000,9,-999.000,   37.73,2,   39.14,2, 5047.60,   0.1110,2,   0.0710,2,   0.0330,2,   0.0230,2,   0.0215,2,   0.0235,2,     -999.0,     -999.0,9,     -999.0,9,     -999.0,9,     -999.0,9,     -999.0,9,     -999.0,9, -999.00,9,   1.0557,-999.0000,-999.000
325020060213,       P16N,      49,          1,          3,          3,2,20060314,       2114,         27,       -152,       5347,  5250.8,   1.5125,  34.6958,2,  34.6961,2,    164.0,2,   163.5,2,  140.70,6,   35.00,6,    0.00,6,    2.42,6,   0.004,2,   0.004,2,-999.000,9,  2314.1,6,  2418.1,2,   -999.0,9,  -999.00,   7.5946,2,    25.00,-999.000,9,-999.000,-999.0000,9,-999.000,9, -999.00,9,  -999.0,9,    -9.0,-999.000,9,-999.000,   39.13,2,   38.36,2, 5250.80,-999.0000,9,-999.0000,9,-999.0000,9,-999.0000,9,-999.0000,9,-999.0000,9,     -999.0,     -999.0,9,     -999.0,9,     -999.0,9,     -999.0,9,     -999.0,9,     -999.0,9, -999.00,9,   1.0469,-999.0000,-999.000
325020060213,       P16N,      49,          1,          2,          2,2,20060314,       2114,         27,       -152,       5347,  5349.1,   1.5244,  34.6956,2,  34.6961,2,    163.5,2,   163.4,2,  140.70,6,   35.10,6,    0.00,6,    2.41,6,   0.009,2,   0.011,2,-999.000,5,  2315.2,6,  2418.7,2,   -999.0,9,  -999.00,   7.5942,2,    25.00,-999.000,9,-999.000,    3.829,4,   8.484,3, -999.00,9,  -999.0,9,    -9.0,  14.946,4,   0.037,   38.83,2,   39.13,2, 5349.10,-999.0000,9,-999.0000,9,-999.0000,9,-999.0000,9,-999.0000,9,-999.0000,9,     -999.0,     -999.0,9,     -999.0,9,     -999.0,9,     -999.0,9,     -999.0,9,     -999.0,9, -999.00,9,   1.0461,    0.004,   0.175
325020060213,       P16N,      49,          1,          1,          1,4,20060314,       2114,         27,       -152,       5347,  5462.0,   1.5387,  34.6957,2,  34.5920,4,    163.9,2,    70.2,4,  148.90,4,   41.10,4,    0.00,4,    2.92,4,   0.005,2,  -0.001,2,-999.000,9,  2367.4,3,  2416.3,2,   -999.0,9,  -999.00,   7.4313,3,    25.00,-999.000,9,-999.000,-999.0000,9,-999.000,9, -999.00,9,  -999.0,9,    -9.0,-999.000,9,-999.000,   38.38,2,   44.80,2, 5462.00,-999.0000,9,-999.0000,9,-999.0000,9,-999.0000,9,-999.0000,9,-999.0000,9,     -999.0,     -999.0,9,     -999.0,9,     -999.0,9,     -999.0,9,     -999.0,9,     -999.0,9, -999.00,9,   1.0455,-999.0000,-999.000