BOTTLE,20170720CCHSIOCBG
EXPOCODE,SECT_ID,STNNBR,CASTNO,SAMPNO,BTLNBR,BTLNBR_FLAG_W,DATE,TIME,LATITUDE,LONGITUDE,DEPTH,CTDPRS,CTDTMP,CTDSAL,CTDSAL_FLAG_W,SALNTY,SALNTY_FLAG_W,CTDOXY,CTDOXY_FLAG_W,OXYGEN,OXYGEN_FLAG_W,SILCAT,SILCAT_FLAG_W,NITRAT,NITRAT_FLAG_W,NITRIT,NITRIT_FLAG_W,PHSPHT,PHSPHT_FLAG_W,CFC-11,CFC-11_FLAG_W,CFC-12,CFC-12_FLAG_W,CFC113,CFC113_FLAG_W,TCARBN,TCARBN_FLAG_W,ALKALI,ALKALI_FLAG_W,FCO2,FCO2_FLAG_W,FCO2TMP,PH_TOT,PH_TOT_FLAG_W,PH_TMP,TRITUM,TRITUM_FLAG_W,TRITER,HELIUM,HELIUM_FLAG_W,DELHE3,DELHE3_FLAG_W,DELC13,DELC13_FLAG_W,DELC14,DELC14_FLAG_W,C14ERR,NEON,NEON_FLAG_W,NEONER,DOC,DOC_FLAG_W,TDN,TDN_FLAG_W,CTDRAW,CDOM325,CDOM325_FLAG_W,CDOM340,CDOM340_FLAG_W,CDOM380,CDOM380_FLAG_W,CDOM412,CDOM412_FLAG_W,CDOMSL,CDOMSL_FLAG_W,CDOMSN,CDOMSN_FLAG_W,DCNS,ARABI,ARABI_FLAG_W,FUCO,FUCO_FLAG_W,GALA,GALA_FLAG_W,GLUC,GLUC_FLAG_W,MAN,MAN_FLAG_W,RHAM,RHAM_FLAG_W,BRDU,BRDU_FLAG_W,THETA,HELIER,DELHER
,,,,,,,,,,,METERS,DBAR,ITS-90,PSS-78,,PSS-78,,UMOL/KG,,UMOL/KG,,UMOL/KG,,UMOL/KG,,UMOL/KG,,UMOL/KG,,PMOL/KG,,PMOL/KG,,PMOL/KG,,UMOL/KG,,UMOL/KG,,UATM,,DEG C,,,DEG C,TU,,TU,NMOL/KG,,PERCNT,,/MILLE,,/MILLE,,/MILLE,NMOL/KG,,NMOL/KG,UMOL/KG,,UMOL/KG,,DBAR,1/M,,1/M,,1/M,,1/M,,1/NM,,1/NM,,NMOL/KG,NMOL/KG,,NMOL/KG,,NMOL/KG,,NMOL/KG,,NMOL/KG,,NMOL/KG,,PMOL/L/H,,DEG C,NMOL/KG,PERCNT
325020060213,       P16N,      36,          3,          8,          8,2,20060227,       2152,         14,       -152,       5639,  2875.1,   1.7144,  34.6740,2,  34.6728,2,    118.9,2,   149.4,4,  154.80,2,   38.30,2,    0.00,2,    2.66,2,   0.006,2,   0.002,2,-999.000,5,  2354.2,2,  2433.5,2,   -999.0,9,  -999.00,   7.5445,2,    25.00,-999.000,9,-999.000,-999.0000,9,-999.000,9, -999.00,5,  -241.6,2,     2.6,-999.000,9,-999.000,   38.49,2,   42.50,2, 2875.10,-999.0000,9,-999.0000,9,-999.0000,9,-999.0000,9,-999.0000,9,-999.0000,9,     -999.0,     -999.0,9,     -999.0,9,     -999.0,9,     -999.0,9,     -999.0,9,     -999.0,9, -999.00,9,   1.5049,-999.0000,-999.000
325020060213,       P16N,      36,          3,          7,          7,2,20060227,       2152,         14,       -152,       5639,  3124.8,   1.6505,  34.6785,2,  34.6789,2,    124.7,2,   153.3,4,  155.60,2,   37.90,2,    0.00,2,    2.63,2,-999.000,9,-999.000,9,-999.000,9,  2351.3,2,  2432.6,2,   -999.0,9,  -999.00,   7.5484,2,    25.00,-999.000,9,-999.000,-999.0000,9,-999.000,9, -999.00,5,  -230.2,2,     2.1,-999.000,9,-999.000,   37.93,2,   41.22,2, 3124.80,   0.1200,2,   0.0780,2,   0.0330,2,   0.0170,2,   0.0230,2,   0.0247,2,     -999.0,     -999.0,9,     -999.0,9,     -999.0,9,     -999.0,9,     -999.0,9,     -999.0,9, -999.00,9,   1.4182,-999.0000,-999.000
325020060213,       P16N,      36,          3,          6,          6,2,20060227,       2152,         14,       -152,       5639,  3447.9,   1.5871,  34.6827,2,  34.6816,2,    132.0,2,   156.5,4,  156.20,2,   37.50,2,    0.00,2,    2.60,2,-999.000,1,-999.000,1,-999.000,9,  2347.3,2,  2435.1,6,   -999.0,9,  -999.00,-999.0000,9,  -999.00,-999.000,9,-999.000,-999.0000,9,-999.000,9, -999.00,5,  -233.7,2,     2.4,-999.000,9,-999.000,   38.55,2,   41.02,2, 3447.90,-999.0000,9,-999.0000,9,-999.0000,9,-999.0000,9,-999.0000,9,-999.0000,9,     -999.0,     -999.0,9,     -999.0,9,     -999.0,9,     -999.0,9,     -999.0,9,     -999.0,9, -999.00,9,   1.3241,-999.0000,-999.000
325020060213,       P16N,      36,          3,          5,          5,2,20060227,       2152,         14,       -152,       5639,  3849.9,   1.4981,  34.6890,2,  34.6885,2,    145.7,2,   162.9,4,  151.30,6,   36.60,6,    0.00,6,    2.53,6,  -0.003,2,   0.000,2,-999.000,5,  2335.9,2,  2423.1,2,   -999.0,9,  -999.00,   7.5708,2,    25.00,-999.000,9,-999.000,-999.0000,9,-999.000,9, -999.00,5,  -224.0,2,     2.6,-999.000,9,-999.000,   38.38,2,   40.16,2, 3849.90,   0.1080,2,   0.0680,2,   0.0270,2,   0.0120,2,   0.0251,2,   0.0269,2,     -999.0,     -999.0,9,     -999.0,9,     -999.0,9,     -999.0,9,     -999.0,9,     -999.0,9, -999.00,9,   1.1954,-999.0000,-999.000
325020060213,       P16N,      36,          3,          4,          4,2,20060227,       2152,         14,       -152,       5639,  4297.4,   1.4315,  34.6955,2,  34.6958,2,    160.5,2,   174.7,4,  142.50,6,   35.60,6,    0.00,6,    2.44,6,-999.000,1,-999.000,1,-999.000,9,  2319.7,2,  2418.1,2,   -999.0,9,  -999.00,   7.6029,2,    25.00,-999.000,9,-999.000,-999.0000,9,-999.000,9, -999.00,5,  -218.7,2,     2.7,-999.000,9,-999.000,   38.05,2,   38.80,2, 4297.40,-999.0000,9,-999.0000,9,-999.0000,9,-999.0000,9,-999.0000,9,-999.0000,9,     -999.0,     -999.0,9,     -999.0,9,     -999.0,9,     -999.0,9,     -999.0,9,     -999.0,9, -999.00,9,   1.0816,-999.0000,-999.000
325020060213,       P16N,      36,          3,          3,          3,2,20060227,       2152,         14,       -152,       5639,  4799.2,   1.4024,  34.7000,2,  34.7011,2,    171.4,2,   171.2,4,  135.40,6,   34.80,6,    0.00,6,    2.38,6,-999.000,1,-999.000,1,-999.000,9,  2307.0,2,  2404.2,2,   -999.0,9,  -999.00,   7.6110,2,    25.00,-999.000,9,-999.000,-999.0000,9,-999.000,9, -999.00,5,  -194.5,2,     2.8,-999.000,9,-999.000,   39.04,2,   38.49,2, 4799.20,   0.1020,2,   0.0620,2,   0.0220,2,   0.0070,2,   0.0283,2,   0.0304,2,     -999.0,     -999.0,9,     -999.0,9,     -999.0,9,     -999.0,9,     -999.0,9,     -999.0,9, -999.00,9,   0.9955,-999.0000,-999.000
325020060213,       P16N,      36,          3,          1,          1,2,20060227,       2152,         14,       -152,       5639,  5793.1,   1.4915,  34.7019,2,  34.7015,2,    176.9,2,   177.1,4,  132.40,6,   34.50,6,    0.00,6,    2.35,6,   0.001,2,   0.001,2,-999.000,5,  2301.2,6,  2403.8,2,   -999.0,9,  -999.00,   7.6191,2,    25.00,-999.000,9,-999.000,-999.0000,9,-999.000,9, -999.00,5,  -199.6,2,     2.2,-999.000,9,-999.000,   38.55,2,   37.86,2, 5793.10,-999.0000,9,-999.0000,9,-999.0000,9,-999.0000,9,-999.0000,9,-999.0000,9,     -999.0,     -999.0,9,     -999.0,9,     -999.0,9,     -999.0,9,     -999.0,9,     -999.0,9, -999.00,9,   0.9573,-999.0000,-999.000