BOTTLE,20170720CCHSIOCBG
EXPOCODE,SECT_ID,STNNBR,CASTNO,SAMPNO,BTLNBR,BTLNBR_FLAG_W,DATE,TIME,LATITUDE,LONGITUDE,DEPTH,CTDPRS,CTDTMP,CTDSAL,CTDSAL_FLAG_W,SALNTY,SALNTY_FLAG_W,CTDOXY,CTDOXY_FLAG_W,OXYGEN,OXYGEN_FLAG_W,SILCAT,SILCAT_FLAG_W,NITRAT,NITRAT_FLAG_W,NITRIT,NITRIT_FLAG_W,PHSPHT,PHSPHT_FLAG_W,CFC-11,CFC-11_FLAG_W,CFC-12,CFC-12_FLAG_W,CFC113,CFC113_FLAG_W,TCARBN,TCARBN_FLAG_W,ALKALI,ALKALI_FLAG_W,FCO2,FCO2_FLAG_W,FCO2TMP,PH_TOT,PH_TOT_FLAG_W,PH_TMP,TRITUM,TRITUM_FLAG_W,TRITER,HELIUM,HELIUM_FLAG_W,DELHE3,DELHE3_FLAG_W,DELC13,DELC13_FLAG_W,DELC14,DELC14_FLAG_W,C14ERR,NEON,NEON_FLAG_W,NEONER,DOC,DOC_FLAG_W,TDN,TDN_FLAG_W,CTDRAW,CDOM325,CDOM325_FLAG_W,CDOM340,CDOM340_FLAG_W,CDOM380,CDOM380_FLAG_W,CDOM412,CDOM412_FLAG_W,CDOMSL,CDOMSL_FLAG_W,CDOMSN,CDOMSN_FLAG_W,DCNS,ARABI,ARABI_FLAG_W,FUCO,FUCO_FLAG_W,GALA,GALA_FLAG_W,GLUC,GLUC_FLAG_W,MAN,MAN_FLAG_W,RHAM,RHAM_FLAG_W,BRDU,BRDU_FLAG_W,THETA,HELIER,DELHER
,,,,,,,,,,,METERS,DBAR,ITS-90,PSS-78,,PSS-78,,UMOL/KG,,UMOL/KG,,UMOL/KG,,UMOL/KG,,UMOL/KG,,UMOL/KG,,PMOL/KG,,PMOL/KG,,PMOL/KG,,UMOL/KG,,UMOL/KG,,UATM,,DEG C,,,DEG C,TU,,TU,NMOL/KG,,PERCNT,,/MILLE,,/MILLE,,/MILLE,NMOL/KG,,NMOL/KG,UMOL/KG,,UMOL/KG,,DBAR,1/M,,1/M,,1/M,,1/M,,1/NM,,1/NM,,NMOL/KG,NMOL/KG,,NMOL/KG,,NMOL/KG,,NMOL/KG,,NMOL/KG,,NMOL/KG,,PMOL/L/H,,DEG C,NMOL/KG,PERCNT
325020060213,       P16N,      17,          1,         35,         35,2,20060220,       1858,       -1.5,       -151,       4817,     5.0,  25.8191,  35.2280,2,  35.2294,2,    208.4,2,   208.1,2,    2.30,2,    6.70,2,    0.20,2,    0.62,2,   1.780,2,   1.099,2,-999.000,5,  2051.6,6,  2318.7,2,   -999.0,9,  -999.00,   7.9856,2,    25.00,-999.000,9,-999.000,-999.0000,9,-999.000,9, -999.00,9,  -999.0,9,    -9.0,-999.000,9,-999.000,   60.70,2,   10.81,2,    5.00,-999.0000,9,-999.0000,9,-999.0000,9,-999.0000,9,-999.0000,9,-999.0000,9,     -999.0,     -999.0,9,     -999.0,9,     -999.0,9,     -999.0,9,     -999.0,9,     -999.0,9,    0.24,2,  25.8180,-999.0000,-999.000
325020060213,       P16N,      17,          1,         34,         34,2,20060220,       1858,       -1.5,       -151,       4817,    24.8,  25.6915,  35.2259,2,  35.2257,2,    208.3,2,   208.3,2,    2.40,2,    6.70,2,    0.20,2,    0.62,2,-999.000,9,-999.000,9,-999.000,9,  -999.0,9,  -999.0,5,   -999.0,9,  -999.00,-999.0000,9,  -999.00,-999.000,9,-999.000,-999.0000,9,-999.000,9, -999.00,9,  -999.0,9,    -9.0,-999.000,9,-999.000,   60.54,2,   11.47,2,   24.80,   0.0460,2,   0.0260,2,   0.0030,3,   0.0000,4,   0.0358,2,   0.0355,2,     -999.0,     -999.0,9,     -999.0,9,     -999.0,9,     -999.0,9,     -999.0,9,     -999.0,9,    0.52,2,  25.6860,-999.0000,-999.000
325020060213,       P16N,      17,          1,         33,         33,2,20060220,       1858,       -1.5,       -151,       4817,    49.8,  25.5523,  35.2222,2,-999.0000,5,    206.6,2,   208.1,2,    2.40,2,    6.70,2,    0.20,2,    0.62,2,   1.802,2,   1.101,2,-999.000,5,  -999.0,9,  -999.0,5,   -999.0,9,  -999.00,-999.0000,9,  -999.00,-999.000,9,-999.000,-999.0000,9,-999.000,9, -999.00,9,  -999.0,9,    -9.0,-999.000,9,-999.000,   58.87,2,   11.37,2,   49.80,-999.0000,9,-999.0000,9,-999.0000,9,-999.0000,9,-999.0000,9,-999.0000,9,     -999.0,     -999.0,9,     -999.0,9,     -999.0,9,     -999.0,9,     -999.0,9,     -999.0,9,    0.66,2,  25.5414,-999.0000,-999.000
325020060213,       P16N,      17,          1,         32,         32,2,20060220,       1858,       -1.5,       -151,       4817,    75.7,  25.1069,  35.2229,2,  35.2241,2,    205.5,2,   205.5,2,    2.60,2,    7.00,2,    0.20,2,    0.65,2,-999.000,9,-999.000,9,-999.000,9,  -999.0,9,  -999.0,5,   -999.0,9,  -999.00,-999.0000,9,  -999.00,-999.000,9,-999.000,-999.0000,9,-999.000,9, -999.00,9,  -999.0,9,    -9.0,-999.000,9,-999.000,   58.71,2,   11.31,2,   75.70,-999.0000,9,-999.0000,9,-999.0000,9,-999.0000,9,-999.0000,9,-999.0000,9,     -999.0,     -999.0,9,     -999.0,9,     -999.0,9,     -999.0,9,     -999.0,9,     -999.0,9,    0.64,2,  25.0904,-999.0000,-999.000
325020060213,       P16N,      17,          1,         31,         31,2,20060220,       1858,       -1.5,       -151,       4817,   100.2,  24.6522,  35.5545,2,  35.6017,2,    185.3,2,   184.9,2,    2.00,2,    5.50,2,    1.00,2,    0.66,2,   1.840,2,   1.129,2,-999.000,5,  -999.0,9,  -999.0,5,   -999.0,9,  -999.00,-999.0000,9,  -999.00,-999.000,9,-999.000,-999.0000,9,-999.000,9, -999.00,9,  -999.0,9,    -9.0,-999.000,9,-999.000,   58.47,2,   10.50,2,  100.20,-999.0000,9,-999.0000,9,-999.0000,9,-999.0000,9,-999.0000,9,-999.0000,9,     -999.0,     -999.0,9,     -999.0,9,     -999.0,9,     -999.0,9,     -999.0,9,     -999.0,9,    0.34,2,  24.6307,-999.0000,-999.000
325020060213,       P16N,      17,          1,         30,         30,2,20060220,       1858,       -1.5,       -151,       4817,   125.0,  19.9904,  35.6683,2,  35.6609,2,    125.4,2,   126.0,2,    3.70,2,   11.40,2,    0.60,2,    1.03,2,   1.952,2,   1.161,2,-999.000,5,  -999.0,9,  -999.0,5,   -999.0,9,  -999.00,-999.0000,9,  -999.00,-999.000,9,-999.000,-999.0000,9,-999.000,9, -999.00,9,  -999.0,9,    -9.0,-999.000,9,-999.000,   54.59,2,   15.68,2,  125.00,   0.0950,2,   0.0640,2,   0.0240,2,   0.0160,2,   0.0257,2,   0.0258,2,     -999.0,     -999.0,9,     -999.0,9,     -999.0,9,     -999.0,9,     -999.0,9,     -999.0,9,    0.46,2,  19.9673,-999.0000,-999.000
325020060213,       P16N,      17,          1,         29,         29,2,20060220,       1858,       -1.5,       -151,       4817,   150.4,  15.5491,  35.1898,2,  35.2082,2,     72.0,2,    67.4,2,   10.90,2,   22.10,2,    0.00,2,    1.65,2,   1.581,2,   0.895,2,-999.000,5,  -999.0,9,  -999.0,5,   -999.0,9,  -999.00,-999.0000,9,  -999.00,-999.000,9,-999.000,-999.0000,9,-999.000,9, -999.00,9,  -999.0,9,    -9.0,-999.000,9,-999.000,   48.03,2,   26.20,2,  150.40,-999.0000,9,-999.0000,9,-999.0000,9,-999.0000,9,-999.0000,9,-999.0000,9,     -999.0,     -999.0,9,     -999.0,9,     -999.0,9,     -999.0,9,     -999.0,9,     -999.0,9,    0.30,2,  15.5258,-999.0000,-999.000
325020060213,       P16N,      17,          1,         28,         28,2,20060220,       1858,       -1.5,       -151,       4817,   200.7,  12.6675,  34.9223,2,  34.9237,2,     41.1,2,    40.7,2,   20.30,2,   29.70,2,    0.00,2,    2.03,2,   0.925,2,   0.504,2,-999.000,5,  -999.0,9,  -999.0,5,   -999.0,9,  -999.00,-999.0000,9,  -999.00,-999.000,9,-999.000,-999.0000,9,-999.000,9, -999.00,9,  -999.0,9,    -9.0,-999.000,9,-999.000,   46.16,2,   33.52,2,  200.70,-999.0000,9,-999.0000,9,-999.0000,9,-999.0000,9,-999.0000,9,-999.0000,9,     -999.0,     -999.0,9,     -999.0,9,     -999.0,9,     -999.0,9,     -999.0,9,     -999.0,9,    0.54,2,  12.6404,-999.0000,-999.000
325020060213,       P16N,      17,          1,         27,         27,2,20060220,       1858,       -1.5,       -151,       4817,   250.4,  12.1469,  34.8792,2,  34.8803,2,     30.8,2,    30.8,2,   22.90,2,   31.30,2,    0.00,2,    2.15,2,   0.728,2,   0.398,2,-999.000,5,  -999.0,9,  2302.8,2,   -999.0,9,  -999.00,   7.5219,2,    25.00,-999.000,9,-999.000,-999.0000,9,-999.000,9, -999.00,9,  -999.0,9,    -9.0,-999.000,9,-999.000,   45.45,2,   35.37,2,  250.40,   0.1290,2,   0.0920,2,   0.0480,2,   0.0370,2,   0.0140,2,   0.0163,2,     -999.0,     -999.0,9,     -999.0,9,     -999.0,9,     -999.0,9,     -999.0,9,     -999.0,9, -999.00,9,  12.1139,-999.0000,-999.000
325020060213,       P16N,      17,          1,         26,         26,2,20060220,       1858,       -1.5,       -151,       4817,   300.9,  11.6692,  34.8551,2,  34.8520,2,     64.4,2,    62.9,2,   21.70,2,   29.00,2,    0.00,2,    1.98,2,   0.813,2,   0.440,2,-999.000,5,  -999.0,9,  -999.0,5,   -999.0,9,  -999.00,-999.0000,9,  -999.00,-999.000,9,-999.000,-999.0000,9,-999.000,9, -999.00,9,  -999.0,9,    -9.0,-999.000,9,-999.000,   44.73,2,   32.73,2,  300.90,-999.0000,9,-999.0000,9,-999.0000,9,-999.0000,9,-999.0000,9,-999.0000,9,     -999.0,     -999.0,9,     -999.0,9,     -999.0,9,     -999.0,9,     -999.0,9,     -999.0,9, -999.00,9,  11.6305,-999.0000,-999.000
325020060213,       P16N,      17,          1,         25,         25,2,20060220,       1858,       -1.5,       -151,       4817,   352.2,  10.7752,  34.7981,2,  34.8003,2,     29.9,2,    31.2,2,   27.20,2,   32.40,2,    0.00,2,    2.32,2,   0.441,2,   0.240,2,-999.000,5,  -999.0,9,  -999.0,5,   -999.0,9,  -999.00,-999.0000,9,  -999.00,-999.000,9,-999.000,-999.0000,9,-999.000,9, -999.00,9,  -999.0,9,    -9.0,-999.000,9,-999.000,   42.76,2,   36.35,2,  352.20,   0.1290,2,   0.0930,2,   0.0490,2,   0.0370,2,   0.0138,2,   0.0160,2,    354.433,    23.7084,2,    44.5633,2,    56.1673,2,     128.65,2,    72.8985,2,    28.4451,2, -999.00,9,  10.7321,-999.0000,-999.000
325020060213,       P16N,      17,          1,         24,         24,2,20060220,       1858,       -1.5,       -151,       4817,   400.7,   9.4699,  34.7169,2,  34.7144,2,      8.2,2,     9.5,2,   35.40,2,   37.40,2,    0.00,2,    2.65,2,-999.000,9,-999.000,9,-999.000,9,  -999.0,9,  -999.0,5,   -999.0,9,  -999.00,-999.0000,9,  -999.00,-999.000,9,-999.000,-999.0000,9,-999.000,9, -999.00,9,  -999.0,9,    -9.0,-999.000,9,-999.000,   41.95,2,   41.18,2,  400.70,-999.0000,9,-999.0000,9,-999.0000,9,-999.0000,9,-999.0000,9,-999.0000,9,     -999.0,     -999.0,9,     -999.0,9,     -999.0,9,     -999.0,9,     -999.0,9,     -999.0,9, -999.00,9,   9.4247,-999.0000,-999.000
325020060213,       P16N,      17,          1,         23,         23,2,20060220,       1858,       -1.5,       -151,       4817,   450.2,   8.4755,  34.6585,2,  34.6566,2,     20.3,2,    23.2,2,   37.80,2,   39.20,2,    0.00,2,    2.67,2,   0.084,2,   0.047,2,-999.000,5,  -999.0,9,  -999.0,5,   -999.0,9,  -999.00,-999.0000,9,  -999.00,-999.000,9,-999.000,-999.0000,9,-999.000,9, -999.00,9,  -999.0,9,    -9.0,-999.000,9,-999.000,   40.98,2,   43.75,2,  450.20,-999.0000,9,-999.0000,9,-999.0000,9,-999.0000,9,-999.0000,9,-999.0000,9,     -999.0,     -999.0,9,     -999.0,9,     -999.0,9,     -999.0,9,     -999.0,9,     -999.0,9, -999.00,9,   8.4278,-999.0000,-999.000
325020060213,       P16N,      17,          1,         22,         22,2,20060220,       1858,       -1.5,       -151,       4817,   499.7,   7.2577,  34.5855,2,  34.5843,2,     78.5,2,    79.1,2,   40.70,2,   36.30,2,    0.00,2,    2.47,2,-999.000,9,-999.000,9,-999.000,9,  -999.0,9,  2312.6,2,   -999.0,9,  -999.00,   7.5071,2,    25.00,-999.000,9,-999.000,-999.0000,9,-999.000,9, -999.00,9,  -999.0,9,    -9.0,-999.000,9,-999.000,   40.16,2,   40.37,2,  499.70,   0.1040,2,   0.0720,2,   0.0370,2,   0.0250,2,   0.0176,2,   0.0193,2,     -999.0,     -999.0,9,     -999.0,9,     -999.0,9,     -999.0,9,     -999.0,9,     -999.0,9, -999.00,9,   7.2092,-999.0000,-999.000
325020060213,       P16N,      17,          1,         21,         21,2,20060220,       1858,       -1.5,       -151,       4817,   599.5,   6.7521,  34.5730,2,  34.5722,2,     62.0,2,    61.9,2,   49.30,2,   38.80,2,    0.00,2,    2.67,2,   0.058,2,   0.033,2,-999.000,5,  -999.0,9,  -999.0,5,   -999.0,9,  -999.00,-999.0000,9,  -999.00,-999.000,9,-999.000,-999.0000,9,-999.000,9, -999.00,9,  -999.0,9,    -9.0,-999.000,9,-999.000,   39.31,2,   43.30,2,  599.50,   0.1180,2,   0.0840,2,   0.0460,2,   0.0330,2,   0.0141,2,   0.0160,2,     -999.0,     -999.0,9,     -999.0,9,     -999.0,9,     -999.0,9,     -999.0,9,     -999.0,9, -999.00,9,   6.6958,-999.0000,-999.000
325020060213,       P16N,      17,          1,         20,         20,2,20060220,       1858,       -1.5,       -151,       4817,   701.8,   5.6784,  34.5504,2,  34.5490,2,     77.1,2,    76.6,2,   61.60,2,   39.10,2,    0.00,2,    2.71,2,-999.000,9,-999.000,9,-999.000,9,  -999.0,9,  -999.0,5,   -999.0,9,  -999.00,-999.0000,9,  -999.00,-999.000,9,-999.000,-999.0000,9,-999.000,9, -999.00,9,  -999.0,9,    -9.0,-999.000,9,-999.000,   38.55,2,   43.33,2,  701.80,-999.0000,9,-999.0000,9,-999.0000,9,-999.0000,9,-999.0000,9,-999.0000,9,     -999.0,     -999.0,9,     -999.0,9,     -999.0,9,     -999.0,9,     -999.0,9,     -999.0,9, -999.00,9,   5.6177,-999.0000,-999.000
325020060213,       P16N,      17,          1,         19,         19,2,20060220,       1858,       -1.5,       -151,       4817,   800.9,   5.3181,  34.5504,2,  34.5492,2,     77.7,2,    77.3,2,   68.10,2,   39.50,2,    0.00,2,    2.75,2,-999.000,9,-999.000,9,-999.000,9,  -999.0,9,  -999.0,5,   -999.0,9,  -999.00,-999.0000,9,  -999.00,-999.000,9,-999.000,-999.0000,9,-999.000,9, -999.00,9,  -999.0,9,    -9.0,-999.000,9,-999.000,   37.93,2,   43.96,2,  800.90,   0.1110,2,   0.0770,2,   0.0400,2,   0.0270,2,   0.0172,2,   0.0186,2,     -999.0,     -999.0,9,     -999.0,9,     -999.0,9,     -999.0,9,     -999.0,9,     -999.0,9, -999.00,9,   5.2505,-999.0000,-999.000
325020060213,       P16N,      17,          1,         18,         18,2,20060220,       1858,       -1.5,       -151,       4817,   900.5,   5.0590,  34.5518,2,  34.5514,2,     79.4,2,    79.2,2,   72.80,2,   39.60,2,    0.00,2,    2.77,2,   0.010,2,   0.009,2,-999.000,5,  -999.0,9,  -999.0,5,   -999.0,9,  -999.00,-999.0000,9,  -999.00,-999.000,9,-999.000,-999.0000,9,-999.000,9, -999.00,9,  -999.0,9,    -9.0,-999.000,9,-999.000,   37.37,2,   44.10,2,  900.50,   0.1120,2,   0.0800,2,   0.0420,2,   0.0290,2,   0.0162,2,   0.0176,2,     -999.0,     -999.0,9,     -999.0,9,     -999.0,9,     -999.0,9,     -999.0,9,     -999.0,9, -999.00,9,   4.9842,-999.0000,-999.000
325020060213,       P16N,      17,          1,         17,         17,2,20060220,       1858,       -1.5,       -151,       4817,   999.5,   4.8340,  34.5533,2,  34.5520,2,     82.3,2,    82.9,2,   76.60,2,   39.50,2,    0.00,2,    2.77,2,-999.000,9,-999.000,9,-999.000,9,  -999.0,9,  -999.0,5,   -999.0,9,  -999.00,-999.0000,9,  -999.00,-999.000,9,-999.000,-999.0000,9,-999.000,9, -999.00,9,  -999.0,9,    -9.0,-999.000,9,-999.000,   36.89,2,   43.50,2,  999.50,-999.0000,9,-999.0000,9,-999.0000,9,-999.0000,9,-999.0000,9,-999.0000,9,     -999.0,     -999.0,9,     -999.0,9,     -999.0,9,     -999.0,9,     -999.0,9,     -999.0,9, -999.00,9,   4.7519,-999.0000,-999.000
325020060213,       P16N,      17,          1,         16,         16,2,20060220,       1858,       -1.5,       -151,       4817,  1200.9,   3.8437,  34.5732,2,  34.5728,2,     92.3,2,    92.0,2,   95.20,2,   39.70,2,    0.00,2,    2.79,2,-999.000,9,-999.000,9,-999.000,9,  -999.0,9,  -999.0,5,   -999.0,9,  -999.00,-999.0000,9,  -999.00,-999.000,9,-999.000,-999.0000,9,-999.000,9, -999.00,9,  -999.0,9,    -9.0,-999.000,9,-999.000,   36.80,2,   43.71,2, 1200.90,-999.0000,9,-999.0000,9,-999.0000,9,-999.0000,9,-999.0000,9,-999.0000,9,     -999.0,     -999.0,9,     -999.0,9,     -999.0,9,     -999.0,9,     -999.0,9,     -999.0,9, -999.00,9,   3.7523,-999.0000,-999.000
325020060213,       P16N,      17,          1,         15,         15,2,20060220,       1858,       -1.5,       -151,       4817,  1401.3,   3.3535,  34.5912,2,  34.5901,2,     98.4,2,    98.1,2,  106.70,2,   39.40,2,    0.00,2,    2.78,2,-999.000,9,-999.000,9,-999.000,9,  -999.0,9,  -999.0,5,   -999.0,9,  -999.00,-999.0000,9,  -999.00,-999.000,9,-999.000,-999.0000,9,-999.000,9, -999.00,9,  -999.0,9,    -9.0,-999.000,9,-999.000,   37.09,2,   43.76,2, 1401.30,-999.0000,9,-999.0000,9,-999.0000,9,-999.0000,9,-999.0000,9,-999.0000,9,     -999.0,     -999.0,9,     -999.0,9,     -999.0,9,     -999.0,9,     -999.0,9,     -999.0,9, -999.00,9,   3.2500,-999.0000,-999.000
325020060213,       P16N,      17,          1,         14,         14,2,20060220,       1858,       -1.5,       -151,       4817,  1601.2,   2.8759,  34.6141,2,  34.6149,2,     96.5,2,    96.7,2,  121.60,2,   39.80,2,    0.00,2,    2.82,2,-999.000,9,-999.000,9,-999.000,9,  -999.0,9,  -999.0,5,   -999.0,9,  -999.00,-999.0000,9,  -999.00,-999.000,9,-999.000,-999.0000,9,-999.000,9, -999.00,9,  -999.0,9,    -9.0,-999.000,9,-999.000,   37.65,2,   44.08,2, 1601.20,-999.0000,9,-999.0000,9,-999.0000,9,-999.0000,9,-999.0000,9,-999.0000,9,     -999.0,     -999.0,9,     -999.0,9,     -999.0,9,     -999.0,9,     -999.0,9,     -999.0,9, -999.00,9,   2.7610,-999.0000,-999.000
325020060213,       P16N,      17,          1,         13,         13,2,20060220,       1858,       -1.5,       -151,       4817,  1801.4,   2.5928,  34.6262,2,  34.6255,2,    105.1,2,   104.6,2,  126.80,2,   39.40,2,    0.00,2,    2.78,2,-999.000,9,-999.000,9,-999.000,9,  -999.0,9,  -999.0,5,   -999.0,9,  -999.00,-999.0000,9,  -999.00,-999.000,9,-999.000,-999.0000,9,-999.000,9, -999.00,9,  -999.0,9,    -9.0,-999.000,9,-999.000,   37.51,2,   43.37,2, 1801.40,-999.0000,9,-999.0000,9,-999.0000,9,-999.0000,9,-999.0000,9,-999.0000,9,     -999.0,     -999.0,9,     -999.0,9,     -999.0,9,     -999.0,9,     -999.0,9,     -999.0,9, -999.00,9,   2.4646,-999.0000,-999.000
325020060213,       P16N,      17,          1,         12,         12,2,20060220,       1858,       -1.5,       -151,       4817,  2000.1,   2.2569,  34.6470,2,  34.6463,2,    107.2,2,   107.0,2,  138.00,2,   39.20,2,    0.00,2,    2.78,2,-999.000,9,-999.000,9,-999.000,9,  -999.0,9,  2416.8,2,   -999.0,9,  -999.00,   7.5208,2,    25.00,-999.000,9,-999.000,-999.0000,9,-999.000,9, -999.00,9,  -999.0,9,    -9.0,-999.000,9,-999.000,   37.28,2,   42.67,2, 2000.10,-999.0000,9,-999.0000,9,-999.0000,9,-999.0000,9,-999.0000,9,-999.0000,9,     -999.0,     -999.0,9,     -999.0,9,     -999.0,9,     -999.0,9,     -999.0,9,     -999.0,9, -999.00,9,   2.1165,-999.0000,-999.000
325020060213,       P16N,      17,          1,         11,         11,2,20060220,       1858,       -1.5,       -151,       4817,  2250.6,   2.0349,  34.6576,2,  34.6566,2,    116.7,2,   116.8,2,  140.30,2,   38.60,2,    0.00,2,    2.72,2,-999.000,9,-999.000,9,-999.000,9,  -999.0,9,  -999.0,5,   -999.0,9,  -999.00,-999.0000,9,  -999.00,-999.000,9,-999.000,-999.0000,9,-999.000,9, -999.00,9,  -999.0,9,    -9.0,-999.000,9,-999.000,   36.62,2,   42.76,2, 2250.60,-999.0000,9,-999.0000,9,-999.0000,9,-999.0000,9,-999.0000,9,-999.0000,9,     -999.0,     -999.0,9,     -999.0,9,     -999.0,9,     -999.0,9,     -999.0,9,     -999.0,9, -999.00,9,   1.8763,-999.0000,-999.000
325020060213,       P16N,      17,          1,         10,         10,2,20060220,       1858,       -1.5,       -151,       4817,  2501.2,   1.9158,  34.6638,2,  34.6626,2,    124.5,2,   123.8,2,  140.80,2,   38.00,2,    0.00,2,    2.68,2,-999.000,9,-999.000,9,-999.000,9,  -999.0,9,  -999.0,5,   -999.0,9,  -999.00,-999.0000,9,  -999.00,-999.000,9,-999.000,-999.0000,9,-999.000,9, -999.00,9,  -999.0,9,    -9.0,-999.000,9,-999.000,   37.62,2,   42.33,2, 2501.20,-999.0000,9,-999.0000,9,-999.0000,9,-999.0000,9,-999.0000,9,-999.0000,9,     -999.0,     -999.0,9,     -999.0,9,     -999.0,9,     -999.0,9,     -999.0,9,     -999.0,9, -999.00,9,   1.7370,-999.0000,-999.000
325020060213,       P16N,      17,          1,          9,          9,2,20060220,       1858,       -1.5,       -151,       4817,  2751.6,   1.7576,  34.6726,2,  34.6725,2,    130.2,2,   131.0,2,  144.30,2,   37.60,2,    0.00,2,    2.65,2,-999.000,9,-999.000,9,-999.000,9,  -999.0,9,  -999.0,5,   -999.0,9,  -999.00,-999.0000,9,  -999.00,-999.000,9,-999.000,-999.0000,9,-999.000,9, -999.00,9,  -999.0,9,    -9.0,-999.000,9,-999.000,   37.27,2,   41.51,2, 2751.60,-999.0000,9,-999.0000,9,-999.0000,9,-999.0000,9,-999.0000,9,-999.0000,9,     -999.0,     -999.0,9,     -999.0,9,     -999.0,9,     -999.0,9,     -999.0,9,     -999.0,9, -999.00,9,   1.5588,-999.0000,-999.000