BOTTLE,20170720CCHSIOCBG
EXPOCODE,SECT_ID,STNNBR,CASTNO,SAMPNO,BTLNBR,BTLNBR_FLAG_W,DATE,TIME,LATITUDE,LONGITUDE,DEPTH,CTDPRS,CTDTMP,CTDSAL,CTDSAL_FLAG_W,SALNTY,SALNTY_FLAG_W,CTDOXY,CTDOXY_FLAG_W,OXYGEN,OXYGEN_FLAG_W,SILCAT,SILCAT_FLAG_W,NITRAT,NITRAT_FLAG_W,NITRIT,NITRIT_FLAG_W,PHSPHT,PHSPHT_FLAG_W,CFC-11,CFC-11_FLAG_W,CFC-12,CFC-12_FLAG_W,CFC113,CFC113_FLAG_W,TCARBN,TCARBN_FLAG_W,ALKALI,ALKALI_FLAG_W,FCO2,FCO2_FLAG_W,FCO2TMP,PH_TOT,PH_TOT_FLAG_W,PH_TMP,TRITUM,TRITUM_FLAG_W,TRITER,HELIUM,HELIUM_FLAG_W,DELHE3,DELHE3_FLAG_W,DELC13,DELC13_FLAG_W,DELC14,DELC14_FLAG_W,C14ERR,NEON,NEON_FLAG_W,NEONER,DOC,DOC_FLAG_W,TDN,TDN_FLAG_W,CTDRAW,CDOM325,CDOM325_FLAG_W,CDOM340,CDOM340_FLAG_W,CDOM380,CDOM380_FLAG_W,CDOM412,CDOM412_FLAG_W,CDOMSL,CDOMSL_FLAG_W,CDOMSN,CDOMSN_FLAG_W,DCNS,ARABI,ARABI_FLAG_W,FUCO,FUCO_FLAG_W,GALA,GALA_FLAG_W,GLUC,GLUC_FLAG_W,MAN,MAN_FLAG_W,RHAM,RHAM_FLAG_W,BRDU,BRDU_FLAG_W,THETA,HELIER,DELHER
,,,,,,,,,,,METERS,DBAR,ITS-90,PSS-78,,PSS-78,,UMOL/KG,,UMOL/KG,,UMOL/KG,,UMOL/KG,,UMOL/KG,,UMOL/KG,,PMOL/KG,,PMOL/KG,,PMOL/KG,,UMOL/KG,,UMOL/KG,,UATM,,DEG C,,,DEG C,TU,,TU,NMOL/KG,,PERCNT,,/MILLE,,/MILLE,,/MILLE,NMOL/KG,,NMOL/KG,UMOL/KG,,UMOL/KG,,DBAR,1/M,,1/M,,1/M,,1/M,,1/NM,,1/NM,,NMOL/KG,NMOL/KG,,NMOL/KG,,NMOL/KG,,NMOL/KG,,NMOL/KG,,NMOL/KG,,PMOL/L/H,,DEG C,NMOL/KG,PERCNT
325020060213,       P16N,      11,          1,          8,          8,4,20060218,       1250,    -7.0002,  -151.0007,       5130,  3001.4,   1.6829,  34.6812,2,  35.3346,4,    144.4,2,   123.5,4,    5.50,4,   12.80,4,    0.00,4,    1.16,4,   2.119,4,   1.201,4,-999.000,5,  2152.8,4,  2335.6,4,   -999.0,9,  -999.00,-999.0000,9,  -999.00,-999.000,9,-999.000,-999.0000,9,-999.000,9, -999.00,5,    73.7,4,     3.0,-999.000,9,-999.000,   36.34,2,   16.48,2, 3001.40,-999.0000,9,-999.0000,9,-999.0000,9,-999.0000,9,-999.0000,9,-999.0000,9,     -999.0,     -999.0,9,     -999.0,9,     -999.0,9,     -999.0,9,     -999.0,9,     -999.0,9, -999.00,9,   1.4619,-999.0000,-999.000
325020060213,       P16N,      11,          1,          7,          7,2,20060218,       1250,    -7.0002,  -151.0007,       5130,  3251.3,   1.6255,  34.6849,2,  34.6848,2,    150.0,2,   149.8,2,  138.60,2,   36.40,2,    0.00,2,    2.53,2,-999.000,9,-999.000,9,-999.000,9,  2324.1,2,  2424.6,2,   -999.0,9,  -999.00,   7.5842,2,    25.00,-999.000,9,-999.000,-999.0000,9,-999.000,9, -999.00,5,  -226.2,2,     3.3,-999.000,9,-999.000,   37.84,2,   39.62,2, 3251.30,-999.0000,9,-999.0000,9,-999.0000,9,-999.0000,9,-999.0000,9,-999.0000,9,     -999.0,     -999.0,9,     -999.0,9,     -999.0,9,     -999.0,9,     -999.0,9,     -999.0,9, -999.00,9,   1.3814,-999.0000,-999.000
325020060213,       P16N,      11,          1,          6,          6,2,20060218,       1250,    -7.0002,  -151.0007,       5130,  3651.4,   1.5177,  34.6920,2,  34.6946,2,    159.6,2,   159.7,2,  136.70,2,   35.70,2,    0.00,2,    2.48,2,-999.000,9,-999.000,9,-999.000,9,  2320.3,2,  2422.1,6,   -999.0,9,  -999.00,   7.6043,2,    25.00,-999.000,9,-999.000,-999.0000,9,-999.000,9, -999.00,5,  -214.5,2,     2.4,-999.000,9,-999.000,   37.07,2,   39.56,2, 3651.40,-999.0000,9,-999.0000,9,-999.0000,9,-999.0000,9,-999.0000,9,-999.0000,9,     -999.0,     -999.0,9,     -999.0,9,     -999.0,9,     -999.0,9,     -999.0,9,     -999.0,9, -999.00,9,   1.2354,-999.0000,-999.000
325020060213,       P16N,      11,          1,          5,          5,2,20060218,       1250,    -7.0002,  -151.0007,       5130,  4050.0,   1.3960,  34.6997,2,  34.7013,2,    173.4,2,   173.4,2,  130.90,6,   34.60,6,    0.00,6,    2.40,6,-999.000,9,-999.000,9,-999.000,9,  2301.9,3,  2405.6,2,   -999.0,9,  -999.00,   7.6049,2,    25.00,-999.000,9,-999.000,-999.0000,9,-999.000,9, -999.00,5,  -205.8,2,     3.0,-999.000,9,-999.000,   39.20,2,   38.30,2, 4050.00,-999.0000,9,-999.0000,9,-999.0000,9,-999.0000,9,-999.0000,9,-999.0000,9,     -999.0,     -999.0,9,     -999.0,9,     -999.0,9,     -999.0,9,     -999.0,9,     -999.0,9, -999.00,9,   1.0745,-999.0000,-999.000
325020060213,       P16N,      11,          1,          4,          4,2,20060218,       1250,    -7.0002,  -151.0007,       5130,  4548.7,   1.3515,  34.7044,2,  34.7050,2,    182.4,2,   182.5,2,  126.10,6,   33.90,6,    0.00,6,    2.34,6,  -0.002,2,   0.000,2,-999.000,5,  2289.7,2,  2395.1,2,   -999.0,9,  -999.00,   7.6139,2,    25.00,-999.000,9,-999.000,-999.0000,9,-999.000,9, -999.00,5,  -190.8,2,     3.0,-999.000,9,-999.000,   38.47,2,   37.19,2, 4548.70,-999.0000,9,-999.0000,9,-999.0000,9,-999.0000,9,-999.0000,9,-999.0000,9,     -999.0,     -999.0,9,     -999.0,9,     -999.0,9,     -999.0,9,     -999.0,9,     -999.0,9, -999.00,9,   0.9754,-999.0000,-999.000
325020060213,       P16N,      11,          1,          3,          3,2,20060218,       1250,    -7.0002,  -151.0007,       5130,  5049.5,   1.3540,  34.7067,2,  34.7085,2,    187.5,2,   188.1,2,  123.90,6,   33.50,6,    0.00,6,    2.31,6,-999.000,9,-999.000,9,-999.000,9,  2284.1,3,  2389.6,2,   -999.0,9,  -999.00,   7.6121,2,    25.00,-999.000,9,-999.000,-999.0000,9,-999.000,9, -999.00,5,  -177.5,2,     2.6,-999.000,9,-999.000,   39.81,2,   36.74,2, 5049.50,-999.0000,9,-999.0000,9,-999.0000,9,-999.0000,9,-999.0000,9,-999.0000,9,     -999.0,     -999.0,9,     -999.0,9,     -999.0,9,     -999.0,9,     -999.0,9,     -999.0,9, -999.00,9,   0.9186,-999.0000,-999.000
325020060213,       P16N,      11,          1,          1,          1,2,20060218,       1250,    -7.0002,  -151.0007,       5130,  5241.3,   1.3709,  34.7069,2,  34.7097,2,    188.6,2,   188.6,2,  123.80,2,   33.50,2,    0.00,2,    2.31,2,  -0.002,2,  -0.001,2,-999.000,5,  2279.4,2,  2384.5,2,   -999.0,9,  -999.00,   7.6116,2,    25.00,-999.000,9,-999.000,-999.0000,9,-999.000,9, -999.00,5,  -175.0,2,     3.1,-999.000,9,-999.000,   38.75,2,   36.50,2, 5241.30,-999.0000,9,-999.0000,9,-999.0000,9,-999.0000,9,-999.0000,9,-999.0000,9,     -999.0,     -999.0,9,     -999.0,9,     -999.0,9,     -999.0,9,     -999.0,9,     -999.0,9, -999.00,9,   0.9114,-999.0000,-999.000