BOTTLE,20170720CCHSIOCBG
EXPOCODE,SECT_ID,STNNBR,CASTNO,SAMPNO,BTLNBR,BTLNBR_FLAG_W,DATE,TIME,LATITUDE,LONGITUDE,DEPTH,CTDPRS,CTDTMP,CTDSAL,CTDSAL_FLAG_W,SALNTY,SALNTY_FLAG_W,CTDOXY,CTDOXY_FLAG_W,OXYGEN,OXYGEN_FLAG_W,SILCAT,SILCAT_FLAG_W,NITRAT,NITRAT_FLAG_W,NITRIT,NITRIT_FLAG_W,PHSPHT,PHSPHT_FLAG_W,CFC-11,CFC-11_FLAG_W,CFC-12,CFC-12_FLAG_W,CFC113,CFC113_FLAG_W,TCARBN,TCARBN_FLAG_W,ALKALI,ALKALI_FLAG_W,FCO2,FCO2_FLAG_W,FCO2TMP,PH_TOT,PH_TOT_FLAG_W,PH_TMP,TRITUM,TRITUM_FLAG_W,TRITER,HELIUM,HELIUM_FLAG_W,DELHE3,DELHE3_FLAG_W,DELC13,DELC13_FLAG_W,DELC14,DELC14_FLAG_W,C14ERR,NEON,NEON_FLAG_W,NEONER,DOC,DOC_FLAG_W,TDN,TDN_FLAG_W,CTDRAW,CDOM325,CDOM325_FLAG_W,CDOM340,CDOM340_FLAG_W,CDOM380,CDOM380_FLAG_W,CDOM412,CDOM412_FLAG_W,CDOMSL,CDOMSL_FLAG_W,CDOMSN,CDOMSN_FLAG_W,DCNS,ARABI,ARABI_FLAG_W,FUCO,FUCO_FLAG_W,GALA,GALA_FLAG_W,GLUC,GLUC_FLAG_W,MAN,MAN_FLAG_W,RHAM,RHAM_FLAG_W,BRDU,BRDU_FLAG_W,THETA,HELIER,DELHER
,,,,,,,,,,,METERS,DBAR,ITS-90,PSS-78,,PSS-78,,UMOL/KG,,UMOL/KG,,UMOL/KG,,UMOL/KG,,UMOL/KG,,UMOL/KG,,PMOL/KG,,PMOL/KG,,PMOL/KG,,UMOL/KG,,UMOL/KG,,UATM,,DEG C,,,DEG C,TU,,TU,NMOL/KG,,PERCNT,,/MILLE,,/MILLE,,/MILLE,NMOL/KG,,NMOL/KG,UMOL/KG,,UMOL/KG,,DBAR,1/M,,1/M,,1/M,,1/M,,1/NM,,1/NM,,NMOL/KG,NMOL/KG,,NMOL/KG,,NMOL/KG,,NMOL/KG,,NMOL/KG,,NMOL/KG,,PMOL/L/H,,DEG C,NMOL/KG,PERCNT
325020060213,       P16N,      76,          2,         36,         36,2,20060328,       0637,         55,  -152.6597,       4199,     5.7,   3.3888,  32.8290,2,  32.8311,2,    325.5,2,   324.3,2,   29.90,2,   16.60,2,    0.20,2,    1.52,2,   5.275,2,   2.890,2,-999.000,5,  2088.7,6,  2211.1,2,   -999.0,9,  -999.00,   7.6976,6,    25.00,-999.000,9,-999.000,-999.0000,9,-999.000,9, -999.00,5,   -17.3,2,     3.0,-999.000,9,-999.000,   55.70,2,   20.60,2,    5.70,-999.0000,9,-999.0000,9,-999.0000,9,-999.0000,9,-999.0000,9,-999.0000,9,     -999.0,     -999.0,9,     -999.0,9,     -999.0,9,     -999.0,9,     -999.0,9,     -999.0,9, -999.00,9,   3.3885,-999.0000,-999.000
325020060213,       P16N,      76,          2,         35,         35,2,20060328,       0637,         55,  -152.6597,       4199,    14.9,   3.3149,  32.8292,2,  32.8306,2,    326.0,2,   324.2,2,   29.80,2,   16.50,2,    0.20,2,    1.52,2,   5.286,2,   2.877,2,-999.000,5,  2087.8,2,  2213.2,2,   -999.0,9,  -999.00,   7.6985,2,    25.00,-999.000,9,-999.000,-999.0000,9,-999.000,9, -999.00,9,  -999.0,9,    -9.0,-999.000,9,-999.000,   56.31,2,   20.69,2,   14.90,-999.0000,9,-999.0000,9,-999.0000,9,-999.0000,9,-999.0000,9,-999.0000,9,     -999.0,     -999.0,9,     -999.0,9,     -999.0,9,     -999.0,9,     -999.0,9,     -999.0,9, -999.00,9,   3.3140,-999.0000,-999.000
325020060213,       P16N,      76,          2,         34,         34,2,20060328,       0637,         55,  -152.6597,       4199,    35.0,   3.2729,  32.8354,2,  32.8410,2,    326.6,2,  -999.0,5,   30.10,2,   16.60,2,    0.20,2,    1.54,2,   5.299,2,   2.896,2,-999.000,5,  2089.7,2,  2210.8,2,   -999.0,9,  -999.00,   7.6945,2,    25.00,-999.000,9,-999.000,-999.0000,9,-999.000,9, -999.00,5,   -19.3,2,     3.3,-999.000,9,-999.000,   56.01,2,   20.88,2,   35.00,-999.0000,9,-999.0000,9,-999.0000,9,-999.0000,9,-999.0000,9,-999.0000,9,     -999.0,     -999.0,9,     -999.0,9,     -999.0,9,     -999.0,9,     -999.0,9,     -999.0,9, -999.00,9,   3.2708,-999.0000,-999.000
325020060213,       P16N,      76,          2,         33,         33,2,20060328,       0637,         55,  -152.6597,       4199,    59.6,   3.1758,  32.9013,2,  32.9067,2,    315.6,2,   318.8,2,   32.10,2,   18.00,2,    0.20,2,    1.60,2,   5.278,2,   2.868,2,-999.000,5,  2098.7,2,  2218.3,2,   -999.0,9,  -999.00,   7.6775,2,    25.00,-999.000,9,-999.000,-999.0000,9,-999.000,9, -999.00,9,  -999.0,9,    -9.0,-999.000,9,-999.000,   53.22,2,   22.38,2,   59.60,-999.0000,9,-999.0000,9,-999.0000,9,-999.0000,9,-999.0000,9,-999.0000,9,     -999.0,     -999.0,9,     -999.0,9,     -999.0,9,     -999.0,9,     -999.0,9,     -999.0,9, -999.00,9,   3.1723,-999.0000,-999.000
325020060213,       P16N,      76,          2,         32,         32,2,20060328,       0637,         55,  -152.6597,       4199,    84.7,   3.1454,  32.9449,2,  32.9615,2,    311.2,2,   309.0,2,   33.90,2,   19.20,2,    0.20,2,    1.66,2,   5.146,2,   2.847,2,-999.000,5,  2109.6,2,  2218.7,2,   -999.0,9,  -999.00,   7.6584,2,    25.00,-999.000,9,-999.000,-999.0000,9,-999.000,9, -999.00,5,   -23.8,2,     3.5,-999.000,9,-999.000,   51.33,2,   23.68,2,   84.70,-999.0000,9,-999.0000,9,-999.0000,9,-999.0000,9,-999.0000,9,-999.0000,9,     -999.0,     -999.0,9,     -999.0,9,     -999.0,9,     -999.0,9,     -999.0,9,     -999.0,9, -999.00,9,   3.1404,-999.0000,-999.000
325020060213,       P16N,      76,          2,         31,         31,2,20060328,       0637,         55,  -152.6597,       4199,   109.7,   4.4419,  33.5425,2,  33.5353,2,    129.9,2,   137.9,2,   56.30,2,   32.80,2,    0.00,2,    2.33,2,   3.442,2,   1.773,2,-999.000,5,  2222.4,2,  2256.8,2,   -999.0,9,  -999.00,   7.4177,2,    25.00,-999.000,9,-999.000,-999.0000,9,-999.000,9, -999.00,5,   -49.6,2,     3.1,-999.000,9,-999.000,   50.57,2,   36.91,2,  109.70,-999.0000,9,-999.0000,9,-999.0000,9,-999.0000,9,-999.0000,9,-999.0000,9,     -999.0,     -999.0,9,     -999.0,9,     -999.0,9,     -999.0,9,     -999.0,9,     -999.0,9, -999.00,9,   4.4342,-999.0000,-999.000
325020060213,       P16N,      76,          2,         30,         30,2,20060328,       0637,         55,  -152.6597,       4199,   119.8,   4.6612,  33.6983,2,  33.7026,2,     99.3,2,    92.7,2,   63.80,2,   36.50,2,    0.00,2,    2.53,2,   2.982,2,   1.497,2,-999.000,5,  2254.5,2,  2269.6,2,   -999.0,9,  -999.00,   7.3431,2,    25.00,-999.000,9,-999.000,-999.0000,9,-999.000,9, -999.00,9,  -999.0,9,    -9.0,-999.000,9,-999.000,   49.24,2,   40.57,2,  119.80,-999.0000,9,-999.0000,9,-999.0000,9,-999.0000,9,-999.0000,9,-999.0000,9,     -999.0,     -999.0,9,     -999.0,9,     -999.0,9,     -999.0,9,     -999.0,9,     -999.0,9, -999.00,9,   4.6524,-999.0000,-999.000
325020060213,       P16N,      76,          2,         29,         29,2,20060328,       0637,         55,  -152.6597,       4199,   135.7,   4.5362,  33.7718,2,  33.7705,2,     71.5,2,    74.8,2,   69.40,2,   38.60,2,    0.00,2,    2.66,2,   2.757,2,   1.390,2,-999.000,5,  2273.7,2,  2277.2,6,   -999.0,9,  -999.00,   7.3132,2,    25.00,-999.000,9,-999.000,-999.0000,9,-999.000,9, -999.00,5,   -63.3,2,     3.2,-999.000,9,-999.000,   47.35,2,   42.52,2,  135.70,-999.0000,9,-999.0000,9,-999.0000,9,-999.0000,9,-999.0000,9,-999.0000,9,     -999.0,     -999.0,9,     -999.0,9,     -999.0,9,     -999.0,9,     -999.0,9,     -999.0,9, -999.00,9,   4.5264,-999.0000,-999.000
325020060213,       P16N,      76,          2,         28,         28,2,20060328,       0637,         55,  -152.6597,       4199,   175.2,   4.3553,  33.8511,2,  33.8600,2,     51.8,2,    51.0,2,   76.80,2,   41.30,2,    0.00,2,    2.82,2,   2.369,2,   1.166,2,-999.000,5,  2295.5,2,  2288.5,2,   -999.0,9,  -999.00,   7.2685,2,    25.00,-999.000,9,-999.000,-999.0000,9,-999.000,9, -999.00,5,   -77.4,2,     3.2,-999.000,9,-999.000,   45.99,2,   45.20,2,  175.20,-999.0000,9,-999.0000,9,-999.0000,9,-999.0000,9,-999.0000,9,-999.0000,9,     -999.0,     -999.0,9,     -999.0,9,     -999.0,9,     -999.0,9,     -999.0,9,     -999.0,9, -999.00,9,   4.3428,-999.0000,-999.000
325020060213,       P16N,      76,          2,         27,         27,2,20060328,       0637,         55,  -152.6597,       4199,   200.2,   4.2302,  33.8954,2,  33.8988,2,     39.6,2,    39.8,2,   81.50,2,   42.30,2,    0.00,2,    2.88,2,   2.115,2,   1.032,2,-999.000,5,  2307.0,2,  2292.7,2,   -999.0,9,  -999.00,   7.2504,2,    25.00,-999.000,9,-999.000,-999.0000,9,-999.000,9, -999.00,5,   -87.7,2,     3.1,-999.000,9,-999.000,   45.67,2,   45.89,2,  200.20,-999.0000,9,-999.0000,9,-999.0000,9,-999.0000,9,-999.0000,9,-999.0000,9,     -999.0,     -999.0,9,     -999.0,9,     -999.0,9,     -999.0,9,     -999.0,9,     -999.0,9, -999.00,9,   4.2161,-999.0000,-999.000
325020060213,       P16N,      76,          2,         26,         26,2,20060328,       0637,         55,  -152.6597,       4199,   224.2,   4.1738,  33.9289,2,  33.9298,2,     32.7,2,    32.2,2,   84.90,2,   43.20,2,    0.00,2,    2.94,2,   1.897,2,   0.928,2,-999.000,5,  2314.1,2,  2298.8,2,   -999.0,9,  -999.00,   7.2396,2,    25.00,-999.000,9,-999.000,-999.0000,9,-999.000,9, -999.00,5,   -95.8,2,     3.3,-999.000,9,-999.000,   45.43,2,   46.34,2,  224.20,-999.0000,9,-999.0000,9,-999.0000,9,-999.0000,9,-999.0000,9,-999.0000,9,     -999.0,     -999.0,9,     -999.0,9,     -999.0,9,     -999.0,9,     -999.0,9,     -999.0,9, -999.00,9,   4.1581,-999.0000,-999.000
325020060213,       P16N,      76,          2,         25,         25,2,20060328,       0637,         55,  -152.6597,       4199,   274.6,   4.0611,  33.9881,2,  33.9905,2,     23.1,2,    22.8,2,   92.20,2,   44.00,2,    0.00,2,    3.01,2,   1.486,2,   0.719,2,-999.000,5,  2324.6,2,  2308.1,2,   -999.0,9,  -999.00,   7.2361,2,    25.00,-999.000,9,-999.000,-999.0000,9,-999.000,9, -999.00,5,  -112.1,2,     2.7,-999.000,9,-999.000,   44.00,2,   48.43,2,  274.60,-999.0000,9,-999.0000,9,-999.0000,9,-999.0000,9,-999.0000,9,-999.0000,9,     -999.0,     -999.0,9,     -999.0,9,     -999.0,9,     -999.0,9,     -999.0,9,     -999.0,9, -999.00,9,   4.0419,-999.0000,-999.000
325020060213,       P16N,      76,          2,         24,         24,2,20060328,       0637,         55,  -152.6597,       4199,   324.2,   3.9949,  34.0301,2,  34.0331,2,     20.7,2,    20.4,2,   96.60,2,   43.90,2,    0.00,2,    3.03,2,   1.230,2,   0.593,2,-999.000,5,  2329.6,2,  2313.2,2,   -999.0,9,  -999.00,   7.2391,2,    25.00,-999.000,9,-999.000,-999.0000,9,-999.000,9, -999.00,5,  -117.4,2,     3.1,-999.000,9,-999.000,   42.58,2,   47.16,2,  324.20,-999.0000,9,-999.0000,9,-999.0000,9,-999.0000,9,-999.0000,9,-999.0000,9,     -999.0,     -999.0,9,     -999.0,9,     -999.0,9,     -999.0,9,     -999.0,9,     -999.0,9, -999.00,9,   3.9723,-999.0000,-999.000
325020060213,       P16N,      76,          2,         23,         23,2,20060328,       0637,         55,  -152.6597,       4199,   374.2,   3.9232,  34.0760,2,  34.0765,2,     18.7,2,    18.6,2,  101.30,2,   43.80,2,    0.00,2,    3.05,2,   0.964,2,   0.469,2,-999.000,5,  2335.0,2,  2320.2,2,   -999.0,9,  -999.00,   7.2463,2,    25.00,-999.000,9,-999.000,-999.0000,9,-999.000,9, -999.00,5,  -140.4,2,     2.8,-999.000,9,-999.000,   42.00,2,   48.04,2,  374.20,-999.0000,9,-999.0000,9,-999.0000,9,-999.0000,9,-999.0000,9,-999.0000,9,     -999.0,     -999.0,9,     -999.0,9,     -999.0,9,     -999.0,9,     -999.0,9,     -999.0,9, -999.00,9,   3.8972,-999.0000,-999.000
325020060213,       P16N,      76,          2,         22,         22,2,20060328,       0637,         55,  -152.6597,       4199,   423.7,   3.8311,  34.1221,2,  34.1230,2,     16.8,2,    16.9,2,  106.80,2,   43.70,2,    0.00,2,    3.06,2,   0.730,2,   0.347,2,-999.000,5,  2340.5,2,  2328.7,2,   -999.0,9,  -999.00,   7.2551,2,    25.00,-999.000,9,-999.000,-999.0000,9,-999.000,9, -999.00,5,  -138.8,2,     2.6,-999.000,9,-999.000,   41.76,2,   47.09,2,  423.70,-999.0000,9,-999.0000,9,-999.0000,9,-999.0000,9,-999.0000,9,-999.0000,9,     -999.0,     -999.0,9,     -999.0,9,     -999.0,9,     -999.0,9,     -999.0,9,     -999.0,9, -999.00,9,   3.8017,-999.0000,-999.000
325020060213,       P16N,      76,          2,         21,         21,2,20060328,       0637,         55,  -152.6597,       4199,   472.1,   3.7320,  34.1632,2,  34.1703,2,     15.4,2,    18.0,2,  112.00,2,   43.70,2,    0.00,2,    3.07,2,   0.542,2,   0.254,2,-999.000,5,  2347.9,2,  2338.0,2,   -999.0,9,  -999.00,   7.2612,2,    25.00,-999.000,9,-999.000,-999.0000,9,-999.000,9, -999.00,5,  -150.0,2,     2.9,-999.000,9,-999.000,   41.02,2,   47.42,2,  472.10,-999.0000,9,-999.0000,9,-999.0000,9,-999.0000,9,-999.0000,9,-999.0000,9,     -999.0,     -999.0,9,     -999.0,9,     -999.0,9,     -999.0,9,     -999.0,9,     -999.0,9, -999.00,9,   3.6995,-999.0000,-999.000
325020060213,       P16N,      76,          2,         20,         20,2,20060328,       0637,         55,  -152.6597,       4199,   549.2,   3.6077,  34.2042,2,  34.2101,2,     14.3,2,    15.9,2,  117.80,2,   43.70,2,    0.00,2,    3.09,2,   0.395,6,   0.181,6,-999.000,5,  2353.1,6,  2347.3,2,   -999.0,9,  -999.00,   7.2671,2,    25.00,-999.000,9,-999.000,-999.0000,9,-999.000,9, -999.00,5,  -161.7,2,     2.3,-999.000,9,-999.000,   40.52,2,   47.17,2,  549.20,-999.0000,9,-999.0000,9,-999.0000,9,-999.0000,9,-999.0000,9,-999.0000,9,     -999.0,     -999.0,9,     -999.0,9,     -999.0,9,     -999.0,9,     -999.0,9,     -999.0,9, -999.00,9,   3.5700,-999.0000,-999.000
325020060213,       P16N,      76,          2,         19,         19,2,20060328,       0637,         55,  -152.6597,       4199,   648.9,   3.4190,  34.2584,2,  34.2621,2,     13.7,2,    14.7,2,  125.20,2,   43.70,2,    0.00,2,    3.12,2,   0.257,2,   0.119,2,-999.000,5,  2361.5,2,  2355.2,2,   -999.0,9,  -999.00,   7.2777,2,    25.00,-999.000,9,-999.000,-999.0000,9,-999.000,9, -999.00,5,  -176.4,2,     2.3,-999.000,9,-999.000,   39.96,2,   47.78,2,  648.90,-999.0000,9,-999.0000,9,-999.0000,9,-999.0000,9,-999.0000,9,-999.0000,9,     -999.0,     -999.0,9,     -999.0,9,     -999.0,9,     -999.0,9,     -999.0,9,     -999.0,9, -999.00,9,   3.3749,-999.0000,-999.000
325020060213,       P16N,      76,          2,         18,         18,2,20060328,       0637,         55,  -152.6597,       4199,   750.1,   3.1955,  34.3138,2,  34.3173,2,     14.0,2,    14.4,2,  133.00,2,   43.80,2,    0.00,2,    3.13,2,   0.139,2,   0.067,2,-999.000,5,  2369.1,2,  2367.3,6,   -999.0,9,  -999.00,   7.2822,6,    25.00,-999.000,9,-999.000,-999.0000,9,-999.000,9, -999.00,9,  -999.0,9,    -9.0,-999.000,9,-999.000,   39.51,2,   47.08,2,  750.10,-999.0000,9,-999.0000,9,-999.0000,9,-999.0000,9,-999.0000,9,-999.0000,9,     -999.0,     -999.0,9,     -999.0,9,     -999.0,9,     -999.0,9,     -999.0,9,     -999.0,9, -999.00,9,   3.1452,-999.0000,-999.000
325020060213,       P16N,      76,          2,         17,         17,2,20060328,       0637,         55,  -152.6597,       4199,   849.1,   3.0305,  34.3516,2,  34.3509,2,     14.3,2,    16.8,2,  138.50,2,   43.70,2,    0.00,2,    3.15,2,   0.101,2,   0.047,2,-999.000,5,  2374.8,2,  2372.3,2,   -999.0,9,  -999.00,   7.2876,2,    25.00,-999.000,9,-999.000,-999.0000,9,-999.000,9, -999.00,5,  -195.5,2,     2.7,-999.000,9,-999.000,   39.06,2,   47.08,2,  849.10,-999.0000,9,-999.0000,9,-999.0000,9,-999.0000,9,-999.0000,9,-999.0000,9,     -999.0,     -999.0,9,     -999.0,9,     -999.0,9,     -999.0,9,     -999.0,9,     -999.0,9, -999.00,9,   2.9738,-999.0000,-999.000
325020060213,       P16N,      76,          2,         16,         16,2,20060328,       0637,         55,  -152.6597,       4199,   949.5,   2.8955,  34.3790,2,  34.3825,2,     15.5,2,    15.9,2,  143.10,2,   43.90,2,    0.00,2,    3.15,2,   0.069,2,   0.035,2,-999.000,5,  2378.3,2,  2377.8,2,   -999.0,9,  -999.00,   7.2964,3,    25.00,-999.000,9,-999.000,-999.0000,9,-999.000,9, -999.00,5,  -209.8,2,     2.3,-999.000,9,-999.000,   39.18,2,   47.43,2,  949.50,-999.0000,9,-999.0000,9,-999.0000,9,-999.0000,9,-999.0000,9,-999.0000,9,     -999.0,     -999.0,9,     -999.0,9,     -999.0,9,     -999.0,9,     -999.0,9,     -999.0,9, -999.00,9,   2.8323,-999.0000,-999.000
325020060213,       P16N,      76,          2,         15,         15,2,20060328,       0637,         55,  -152.6597,       4199,  1099.6,   2.6716,  34.4260,2,  34.4309,2,     18.4,2,    19.9,2,  150.40,2,   43.60,2,    0.00,2,    3.15,2,   0.046,2,   0.024,2,-999.000,5,  2383.6,2,  2390.1,3,   -999.0,9,  -999.00,   7.3039,2,    25.00,-999.000,9,-999.000,-999.0000,9,-999.000,9, -999.00,5,  -204.8,2,     2.7,-999.000,9,-999.000,   39.06,2,   47.48,2, 1099.60,-999.0000,9,-999.0000,9,-999.0000,9,-999.0000,9,-999.0000,9,-999.0000,9,     -999.0,     -999.0,9,     -999.0,9,     -999.0,9,     -999.0,9,     -999.0,9,     -999.0,9, -999.00,9,   2.5991,-999.0000,-999.000
325020060213,       P16N,      76,          2,         14,         14,2,20060328,       0637,         55,  -152.6597,       4199,  1299.2,   2.4340,  34.4760,2,  34.4816,2,     24.0,2,    24.8,2,  157.80,2,   43.40,2,    0.00,2,    3.14,2,-999.000,9,-999.000,9,-999.000,9,  2388.3,2,  -999.0,9,   -999.0,9,  -999.00,   7.3202,2,    25.00,-999.000,9,-999.000,-999.0000,9,-999.000,9, -999.00,5,  -214.3,2,     2.6,-999.000,9,-999.000,   38.91,2,   47.16,2, 1299.20,-999.0000,9,-999.0000,9,-999.0000,9,-999.0000,9,-999.0000,9,-999.0000,9,     -999.0,     -999.0,9,     -999.0,9,     -999.0,9,     -999.0,9,     -999.0,9,     -999.0,9, -999.00,9,   2.3485,-999.0000,-999.000
325020060213,       P16N,      76,          2,         13,         13,2,20060328,       0637,         55,  -152.6597,       4199,  1499.5,   2.2271,  34.5214,2,  34.5227,2,     33.2,2,    33.5,2,  162.40,2,   42.90,2,    0.00,2,    3.10,2,-999.000,9,-999.000,9,-999.000,9,  2388.1,2,  2404.9,2,   -999.0,9,  -999.00,   7.3435,2,    25.00,-999.000,9,-999.000,-999.0000,9,-999.000,9, -999.00,5,  -221.6,2,     3.1,-999.000,9,-999.000,   38.34,2,   46.15,2, 1499.50,-999.0000,9,-999.0000,9,-999.0000,9,-999.0000,9,-999.0000,9,-999.0000,9,     -999.0,     -999.0,9,     -999.0,9,     -999.0,9,     -999.0,9,     -999.0,9,     -999.0,9, -999.00,9,   2.1283,-999.0000,-999.000
325020060213,       P16N,      76,          2,         12,         12,2,20060328,       0637,         55,  -152.6597,       4199,  1699.4,   2.0599,  34.5582,2,  34.5594,2,     44.6,2,    44.6,2,  166.00,2,   42.10,2,    0.00,2,    3.06,2,-999.000,9,-999.000,9,-999.000,9,  2387.0,2,  2410.5,2,   -999.0,9,  -999.00,   7.3646,2,    25.00,-999.000,9,-999.000,-999.0000,9,-999.000,9, -999.00,5,  -227.3,2,     2.2,-999.000,9,-999.000,   38.01,2,   46.13,2, 1699.40,-999.0000,9,-999.0000,9,-999.0000,9,-999.0000,9,-999.0000,9,-999.0000,9,     -999.0,     -999.0,9,     -999.0,9,     -999.0,9,     -999.0,9,     -999.0,9,     -999.0,9, -999.00,9,   1.9474,-999.0000,-999.000
325020060213,       P16N,      76,          2,         11,         11,2,20060328,       0637,         55,  -152.6597,       4199,  1898.9,   1.9357,  34.5842,2,  34.5864,2,     55.8,2,    55.8,2,  167.80,2,   41.50,2,    0.00,2,    3.01,2,-999.000,9,-999.000,9,-999.000,9,  2382.5,2,  2414.3,2,   -999.0,9,  -999.00,   7.3921,2,    25.00,-999.000,9,-999.000,-999.0000,9,-999.000,9, -999.00,5,  -220.2,3,     2.3,-999.000,9,-999.000,   38.49,2,   44.88,2, 1898.90,-999.0000,9,-999.0000,9,-999.0000,9,-999.0000,9,-999.0000,9,-999.0000,9,     -999.0,     -999.0,9,     -999.0,9,     -999.0,9,     -999.0,9,     -999.0,9,     -999.0,9, -999.00,9,   1.8088,-999.0000,-999.000
325020060213,       P16N,      76,          2,         10,         10,2,20060328,       0637,         55,  -152.6597,       4199,  2099.9,   1.8411,  34.6041,2,  34.6065,2,     66.1,2,    66.4,2,  168.60,2,   40.60,2,    0.00,2,    2.97,2,-999.000,9,-999.000,9,-999.000,9,  2378.0,2,  2419.2,2,   -999.0,9,  -999.00,   7.4103,2,    25.00,-999.000,9,-999.000,-999.0000,9,-999.000,9, -999.00,5,  -234.0,2,     2.6,-999.000,9,-999.000,   37.95,2,   44.90,2, 2099.90,-999.0000,9,-999.0000,9,-999.0000,9,-999.0000,9,-999.0000,9,-999.0000,9,     -999.0,     -999.0,9,     -999.0,9,     -999.0,9,     -999.0,9,     -999.0,9,     -999.0,9, -999.00,9,   1.6988,-999.0000,-999.000