BOTTLE,20170720CCHSIOCBG
EXPOCODE,SECT_ID,STNNBR,CASTNO,SAMPNO,BTLNBR,BTLNBR_FLAG_W,DATE,TIME,LATITUDE,LONGITUDE,DEPTH,CTDPRS,CTDTMP,CTDSAL,CTDSAL_FLAG_W,SALNTY,SALNTY_FLAG_W,CTDOXY,CTDOXY_FLAG_W,OXYGEN,OXYGEN_FLAG_W,SILCAT,SILCAT_FLAG_W,NITRAT,NITRAT_FLAG_W,NITRIT,NITRIT_FLAG_W,PHSPHT,PHSPHT_FLAG_W,CFC-11,CFC-11_FLAG_W,CFC-12,CFC-12_FLAG_W,CFC113,CFC113_FLAG_W,TCARBN,TCARBN_FLAG_W,ALKALI,ALKALI_FLAG_W,FCO2,FCO2_FLAG_W,FCO2TMP,PH_TOT,PH_TOT_FLAG_W,PH_TMP,TRITUM,TRITUM_FLAG_W,TRITER,HELIUM,HELIUM_FLAG_W,DELHE3,DELHE3_FLAG_W,DELC13,DELC13_FLAG_W,DELC14,DELC14_FLAG_W,C14ERR,NEON,NEON_FLAG_W,NEONER,DOC,DOC_FLAG_W,TDN,TDN_FLAG_W,CTDRAW,CDOM325,CDOM325_FLAG_W,CDOM340,CDOM340_FLAG_W,CDOM380,CDOM380_FLAG_W,CDOM412,CDOM412_FLAG_W,CDOMSL,CDOMSL_FLAG_W,CDOMSN,CDOMSN_FLAG_W,DCNS,ARABI,ARABI_FLAG_W,FUCO,FUCO_FLAG_W,GALA,GALA_FLAG_W,GLUC,GLUC_FLAG_W,MAN,MAN_FLAG_W,RHAM,RHAM_FLAG_W,BRDU,BRDU_FLAG_W,THETA,HELIER,DELHER
,,,,,,,,,,,METERS,DBAR,ITS-90,PSS-78,,PSS-78,,UMOL/KG,,UMOL/KG,,UMOL/KG,,UMOL/KG,,UMOL/KG,,UMOL/KG,,PMOL/KG,,PMOL/KG,,PMOL/KG,,UMOL/KG,,UMOL/KG,,UATM,,DEG C,,,DEG C,TU,,TU,NMOL/KG,,PERCNT,,/MILLE,,/MILLE,,/MILLE,NMOL/KG,,NMOL/KG,UMOL/KG,,UMOL/KG,,DBAR,1/M,,1/M,,1/M,,1/M,,1/NM,,1/NM,,NMOL/KG,NMOL/KG,,NMOL/KG,,NMOL/KG,,NMOL/KG,,NMOL/KG,,NMOL/KG,,PMOL/L/H,,DEG C,NMOL/KG,PERCNT
325020060213,       P16N,      29,          2,         35,         35,2,20060225,       0159,     7.0005,  -151.3288,       5362,     5.1,  27.2384,  34.8364,2,  34.8418,2,    203.6,2,   203.5,2,    0.30,2,    0.90,2,    0.10,2,    0.22,2,   1.656,2,   1.034,2,-999.000,5,  1975.2,6,  2290.8,2,   -999.0,9,  -999.00,   8.0691,2,    25.00,   0.582,2,   0.003,   1.7203,2,   -1.24,2, -999.00,5,    60.0,2,     2.0,   6.722,2,   0.020,   65.13,2,    5.47,2,    5.10,   0.0580,2,   0.0420,2,   0.0220,2,   0.0210,2,   0.0210,2,   0.0213,2,     -999.0,     -999.0,9,     -999.0,9,     -999.0,9,     -999.0,9,     -999.0,9,     -999.0,9,    4.83,2,  27.2372,   0.0052,    0.14
325020060213,       P16N,      29,          2,         34,         34,2,20060225,       0159,     7.0005,  -151.3288,       5362,    25.0,  27.1701,  34.8867,2,  34.8853,2,    203.6,2,   204.3,2,    0.50,2,    1.30,2,    0.10,2,    0.24,2,   1.642,2,   1.035,2,-999.000,5,  1980.5,2,  2295.4,2,   -999.0,9,  -999.00,   8.0447,2,    25.00,   0.582,2,   0.003,   1.7306,2,   -1.03,2, -999.00,9,  -999.0,9,    -9.0,   6.686,2,   0.020,   65.33,2,    5.21,2,   25.00,   0.0590,2,   0.0430,2,   0.0240,2,   0.0220,2,   0.0186,2,   0.0193,2,     -999.0,     -999.0,9,     -999.0,9,     -999.0,9,     -999.0,9,     -999.0,9,     -999.0,9,    3.19,2,  27.1644,   0.0052,    0.14
325020060213,       P16N,      29,          2,         33,         33,2,20060225,       0159,     7.0005,  -151.3288,       5362,    49.6,  27.1373,  34.8913,2,  34.8914,2,    201.7,2,   202.7,2,    0.60,2,    1.50,2,    0.10,2,    0.27,2,   1.662,2,   1.038,2,-999.000,5,  1983.7,2,  2295.0,2,   -999.0,9,  -999.00,   8.0646,2,    25.00,   0.600,2,   0.003,   1.7161,2,   -1.21,2, -999.00,5,    55.5,2,     2.1,   6.698,2,   0.020,   65.67,2,    6.14,2,   49.60,   0.0560,2,   0.0410,2,   0.0230,2,   0.0210,2,   0.0195,2,   0.0202,2,     -999.0,     -999.0,9,     -999.0,9,     -999.0,9,     -999.0,9,     -999.0,9,     -999.0,9,    1.56,2,  27.1259,   0.0051,    0.14
325020060213,       P16N,      29,          2,         32,         32,2,20060225,       0159,     7.0005,  -151.3288,       5362,    75.5,  26.2392,  34.8177,2,  34.8073,2,    194.2,2,   191.1,2,    1.40,2,    1.60,2,    0.30,2,    0.31,2,   1.807,2,   1.111,2,-999.000,5,  2003.4,2,  2292.9,2,   -999.0,9,  -999.00,   8.0192,2,    25.00,-999.000,9,-999.000,-999.0000,9,-999.000,9, -999.00,5,    56.7,2,     2.3,-999.000,9,-999.000,   61.28,2,    6.53,2,   75.50,   0.0980,2,   0.0720,2,   0.0380,2,   0.0310,2,   0.0134,2,   0.0156,2,     -999.0,     -999.0,9,     -999.0,9,     -999.0,9,     -999.0,9,     -999.0,9,     -999.0,9,    3.06,2,  26.2222,-999.0000,-999.000
325020060213,       P16N,      29,          2,         31,         31,2,20060225,       0159,     7.0005,  -151.3288,       5362,    99.2,  19.0453,  34.6475,2,  34.6463,2,    178.3,2,   178.1,2,    3.30,2,    3.30,2,    0.20,2,    0.47,2,-999.000,9,-999.000,9,-999.000,9,  2069.5,2,  2291.4,2,   -999.0,9,  -999.00,   7.8983,2,    25.00,   0.808,2,   0.003,   1.7663,2,    0.33,2, -999.00,5,    56.6,2,     2.1,   7.179,2,   0.022,   54.30,2,    7.30,2,   99.20,   0.1470,2,   0.1090,2,   0.0570,2,   0.0450,2,   0.0130,3,   0.0150,3,     -999.0,     -999.0,9,     -999.0,9,     -999.0,9,     -999.0,9,     -999.0,9,     -999.0,9,    2.09,2,  19.0276,   0.0053,    0.14
325020060213,       P16N,      29,          2,         29,         29,2,20060225,       0159,     7.0005,  -151.3288,       5362,   124.8,  13.8040,  34.5131,2,  34.5108,2,     78.8,2,    80.6,2,   16.60,2,   22.00,2,    0.00,2,    1.60,2,   1.803,2,   0.987,2,-999.000,5,  2172.7,2,  2307.3,3,   -999.0,9,  -999.00,   7.6256,2,    25.00,   0.630,2,   0.003,   1.7764,2,    5.15,2, -999.00,5,    13.7,2,     3.5,   7.400,2,   0.022,   49.80,2,   26.49,2,  124.80,   0.1590,2,   0.1170,2,   0.0650,2,   0.0530,2,   0.0121,3,   0.0138,3,     -999.0,     -999.0,9,     -999.0,9,     -999.0,9,     -999.0,9,     -999.0,9,     -999.0,9,    0.81,2,  13.7863,   0.0053,    0.14
325020060213,       P16N,      29,          2,         30,         30,2,20060225,       0159,     7.0005,  -151.3288,       5362,   124.9,  13.8277,  34.5116,2,  34.5084,2,     79.1,2,    81.6,2,   16.40,2,   21.80,2,    0.00,2,    1.59,2,   1.838,2,   0.992,2,-999.000,5,  2172.2,2,  2278.8,2,   -999.0,9,  -999.00,   7.6324,2,    25.00,   0.640,2,   0.003,   1.7738,2,    5.18,2, -999.00,5,    18.4,2,     2.5,   7.369,2,   0.022,   49.70,2,   25.85,2,  124.90,   0.1600,2,   0.1180,2,   0.0650,2,   0.0540,2,   0.0122,3,   0.0138,3,     -999.0,     -999.0,9,     -999.0,9,     -999.0,9,     -999.0,9,     -999.0,9,     -999.0,9,    0.64,2,  13.8099,   0.0053,    0.14
325020060213,       P16N,      29,          2,         28,         28,2,20060225,       0159,     7.0005,  -151.3288,       5362,   199.5,  10.6576,  34.7045,2,  34.7043,2,     25.6,2,    24.2,2,   29.80,2,   34.30,2,    0.00,2,    2.30,2,   0.426,2,   0.237,2,-999.000,5,  2246.8,2,  2304.6,6,   -999.0,9,  -999.00,   7.4592,2,    25.00,-999.000,9,-999.000,-999.0000,9,-999.000,9, -999.00,5,   -43.4,2,     2.6,-999.000,9,-999.000,   48.75,2,   38.47,2,  199.50,   0.1580,2,   0.1180,2,   0.0710,2,   0.0590,2,   0.0110,3,   0.0121,3,     -999.0,     -999.0,9,     -999.0,9,     -999.0,9,     -999.0,9,     -999.0,9,     -999.0,9,    0.22,2,  10.6335,-999.0000,-999.000
325020060213,       P16N,      29,          2,         27,         27,2,20060225,       0159,     7.0005,  -151.3288,       5362,   249.6,  10.1659,  34.7001,2,  34.6970,2,     33.5,2,    33.8,2,   30.70,2,   34.30,2,    0.00,2,    2.28,2,   0.386,6,   0.214,6,-999.000,5,  2244.2,2,  2281.7,3,   -999.0,9,  -999.00,   7.4731,2,    25.00,   0.192,2,   0.002,   1.7962,2,    6.86,2, -999.00,5,   -58.6,2,     2.5,   7.522,2,   0.023,   48.33,2,   38.58,2,  249.60,   0.1510,2,   0.1110,2,   0.0660,2,   0.0550,2,   0.0112,3,   0.0125,3,     -999.0,     -999.0,9,     -999.0,9,     -999.0,9,     -999.0,9,     -999.0,9,     -999.0,9, -999.00,9,  10.1367,   0.0054,    0.14
325020060213,       P16N,      29,          2,         26,         26,2,20060225,       0159,     7.0005,  -151.3288,       5362,   300.1,   9.7432,  34.6838,2,  34.6811,2,     25.6,2,    24.9,2,   33.20,2,   35.90,2,    0.00,2,    2.40,2,-999.000,9,-999.000,9,-999.000,9,  2256.1,2,  2305.6,2,   -999.0,9,  -999.00,   7.4407,2,    25.00,   0.140,2,   0.002,   1.7999,2,    6.60,2, -999.00,5,   -71.5,2,     2.2,   7.570,2,   0.023,   47.37,2,   40.26,2,  300.10,   0.1550,2,   0.1140,2,   0.0670,2,   0.0560,2,   0.0113,3,   0.0126,3,     -999.0,     -999.0,9,     -999.0,9,     -999.0,9,     -999.0,9,     -999.0,9,     -999.0,9, -999.00,9,   9.7089,   0.0054,    0.14
325020060213,       P16N,      29,          2,         25,         25,2,20060225,       0159,     7.0005,  -151.3288,       5362,   350.6,   9.3329,  34.6661,2,  34.6644,2,     12.7,2,    10.9,2,   37.00,2,   37.50,2,    0.00,2,    2.59,2,   0.101,2,   0.060,2,-999.000,5,  2271.4,2,  2308.1,2,   -999.0,9,  -999.00,   7.3997,2,    25.00,   0.098,2,   0.002,   1.7961,2,    6.27,2, -999.00,5,   -90.0,2,     2.6,   7.615,2,   0.023,   45.72,2,   41.53,2,  350.60,   0.1630,2,   0.1200,2,   0.0710,2,   0.0580,2,   0.0115,3,   0.0126,3,    334.117,    30.8419,2,    38.2061,2,    72.2881,2,    109.594,2,    46.6931,2,    36.4939,2, -999.00,9,   9.2937,   0.0054,    0.14
325020060213,       P16N,      29,          2,         24,         24,2,20060225,       0159,     7.0005,  -151.3288,       5362,   401.0,   8.9654,  34.6485,2,  34.6456,2,      6.6,2,     6.6,2,   40.30,2,   38.00,2,    0.00,2,    2.68,2,   0.051,6,   0.031,6,-999.000,5,  2282.1,2,  2310.9,2,   -999.0,9,  -999.00,   7.3884,2,    25.00,   0.061,2,   0.002,   1.8047,2,    6.42,2, -999.00,5,  -109.2,2,     2.3,   7.586,2,   0.023,   45.31,2,   42.18,2,  401.00,   0.1680,2,   0.1230,2,   0.0740,2,   0.0600,2,   0.0116,3,   0.0126,3,     -999.0,     -999.0,9,     -999.0,9,     -999.0,9,     -999.0,9,     -999.0,9,     -999.0,9, -999.00,9,   8.9217,   0.0054,    0.14
325020060213,       P16N,      29,          2,         23,         23,2,20060225,       0159,     7.0005,  -151.3288,       5362,   449.0,   8.5281,  34.6276,2,  34.6262,2,      6.7,2,     8.0,2,   43.90,2,   38.60,2,    0.00,2,    2.77,2,   0.027,2,   0.018,2,-999.000,5,  2287.2,6,  2316.9,2,   -999.0,9,  -999.00,   7.3835,2,    25.00,   0.026,2,   0.002,   1.8199,2,    7.03,2, -999.00,5,  -115.0,2,     2.4,   7.650,2,   0.023,   44.26,2,   42.28,2,  449.00,   0.1650,2,   0.1210,2,   0.0710,2,   0.0570,2,   0.0119,3,   0.0131,3,     -999.0,     -999.0,9,     -999.0,9,     -999.0,9,     -999.0,9,     -999.0,9,     -999.0,9, -999.00,9,   8.4804,   0.0055,    0.14
325020060213,       P16N,      29,          2,         22,         22,2,20060225,       0159,     7.0005,  -151.3288,       5362,   499.3,   7.9808,  34.5979,2,  34.5963,2,     10.5,2,    12.3,2,   48.00,2,   39.00,2,    0.00,2,    2.80,2,-999.000,9,-999.000,9,-999.000,9,  2289.1,2,  2320.3,2,   -999.0,9,  -999.00,   7.3775,2,    25.00,-999.000,9,-999.000,   1.8325,2,    7.31,2, -999.00,5,  -123.4,2,     2.1,   7.733,2,   0.023,   43.10,2,   42.87,2,  499.30,   0.1610,2,   0.1160,2,   0.0670,2,   0.0520,2,   0.0124,3,   0.0140,3,     -999.0,     -999.0,9,     -999.0,9,     -999.0,9,     -999.0,9,     -999.0,9,     -999.0,9, -999.00,9,   7.9296,   0.0055,    0.14
325020060213,       P16N,      29,          2,         21,         21,2,20060225,       0159,     7.0005,  -151.3288,       5362,   600.9,   6.8365,  34.5679,2,  34.5665,2,     16.0,2,    14.8,2,   58.70,2,   41.80,2,    0.00,2,    2.97,2,   0.008,2,   0.006,2,-999.000,5,  2304.8,2,  2330.1,2,   -999.0,9,  -999.00,   7.3377,2,    25.00,   0.024,2,   0.002,   1.8334,2,    9.99,2, -999.00,5,  -143.1,2,     3.3,   7.749,2,   0.023,   42.87,2,   46.13,2,  600.90,   0.1580,2,   0.1130,2,   0.0620,2,   0.0460,2,   0.0134,3,   0.0153,3,     -999.0,     -999.0,9,     -999.0,9,     -999.0,9,     -999.0,9,     -999.0,9,     -999.0,9, -999.00,9,   6.7797,   0.0055,    0.14
325020060213,       P16N,      29,          2,         20,         20,2,20060225,       0159,     7.0005,  -151.3288,       5362,   699.6,   6.1402,  34.5588,2,  34.5590,2,     19.2,2,    19.8,2,   65.80,2,   43.40,2,    0.00,2,    3.03,2,-999.000,9,-999.000,9,-999.000,9,  2312.6,2,  2334.5,2,   -999.0,9,  -999.00,   7.3626,2,    25.00,   0.032,2,   0.001,   1.8465,2,   11.49,2, -999.00,5,  -158.8,2,     2.2,   7.815,2,   0.023,   42.19,2,   47.57,2,  699.60,   0.1550,2,   0.1090,2,   0.0590,2,   0.0430,2,   0.0140,3,   0.0161,3,     -999.0,     -999.0,9,     -999.0,9,     -999.0,9,     -999.0,9,     -999.0,9,     -999.0,9, -999.00,9,   6.0773,   0.0055,    0.14
325020060213,       P16N,      29,          2,         19,         19,2,20060225,       0159,     7.0005,  -151.3288,       5362,   800.7,   5.4054,  34.5552,2,  34.5545,2,     30.5,2,    31.4,2,   76.20,2,   43.70,2,    0.00,2,    3.04,2,   0.000,2,  -0.001,2,-999.000,5,  2319.3,2,  2345.3,2,   -999.0,9,  -999.00,   7.3889,2,    25.00,-999.000,9,-999.000,   1.8608,2,   14.18,2, -999.00,5,  -178.0,2,     2.9,   7.855,2,   0.024,   40.66,2,   47.83,2,  800.70,   0.1550,2,   0.1090,2,   0.0580,2,   0.0410,2,   0.0145,2,   0.0167,3,     -999.0,     -999.0,9,     -999.0,9,     -999.0,9,     -999.0,9,     -999.0,9,     -999.0,9, -999.00,9,   5.3373,   0.0056,    0.14
325020060213,       P16N,      29,          2,         18,         18,2,20060225,       0159,     7.0005,  -151.3288,       5362,   901.4,   4.9197,  34.5594,2,  34.5588,2,     38.7,2,    38.5,2,   84.40,2,   43.60,2,    0.00,2,    3.04,2,   0.001,2,   0.002,2,-999.000,5,  2325.5,2,  2354.2,2,   -999.0,9,  -999.00,   7.3950,2,    25.00,   0.031,2,   0.002,   1.8991,2,   15.98,2, -999.00,9,  -999.0,9,    -9.0,   7.994,2,   0.024,   39.99,2,   47.54,2,  901.40,-999.0000,9,-999.0000,9,-999.0000,9,-999.0000,9,-999.0000,9,-999.0000,9,     -999.0,     -999.0,9,     -999.0,9,     -999.0,9,     -999.0,9,     -999.0,9,     -999.0,9, -999.00,9,   4.8458,   0.0057,    0.14
325020060213,       P16N,      29,          2,         17,         17,2,20060225,       0159,     7.0005,  -151.3288,       5362,  1000.2,   4.5048,  34.5666,2,  34.5657,2,     45.9,2,    45.2,2,   93.00,2,   43.30,2,    0.00,2,    3.04,2,  -0.001,2,   0.000,2,-999.000,5,  2329.9,2,  2366.6,6,   -999.0,9,  -999.00,   7.4034,2,    25.00,   0.018,2,   0.001,   1.9048,2,   18.03,2, -999.00,5,  -187.6,2,     2.4,   7.969,2,   0.024,   38.93,2,   47.63,2, 1000.20,   0.1470,2,   0.1010,2,   0.0520,2,   0.0340,2,   0.0163,2,   0.0183,2,     -999.0,     -999.0,9,     -999.0,9,     -999.0,9,     -999.0,9,     -999.0,9,     -999.0,9, -999.00,9,   4.4252,   0.0057,    0.14
325020060213,       P16N,      29,          2,         16,         16,2,20060225,       0159,     7.0005,  -151.3288,       5362,  1200.8,   3.8506,  34.5835,2,  34.5824,2,     52.0,2,    52.4,2,  107.80,2,   43.10,2,    0.00,2,    3.05,2,-999.000,9,-999.000,9,-999.000,9,  2344.0,2,  2383.4,2,   -999.0,9,  -999.00,   7.4101,2,    25.00,   0.007,2,   0.001,   1.9556,2,   20.44,2, -999.00,5,  -193.1,2,     2.6,   8.159,2,   0.024,   38.04,2,   47.01,2, 1200.80,   0.1530,2,   0.1070,2,   0.0550,2,   0.0360,2,   0.0162,2,   0.0181,2,     -999.0,     -999.0,9,     -999.0,9,     -999.0,9,     -999.0,9,     -999.0,9,     -999.0,9, -999.00,9,   3.7592,   0.0059,    0.14
325020060213,       P16N,      29,          2,         15,         15,2,20060225,       0159,     7.0005,  -151.3288,       5362,  1399.9,   3.2307,  34.6029,2,  34.6034,2,     67.0,2,    67.1,2,  121.10,2,   42.10,2,    0.00,2,    2.97,2,   0.001,2,   0.001,2,-999.000,5,  2348.2,2,  2397.6,2,   -999.0,9,  -999.00,   7.4379,2,    25.00,-999.000,9,-999.000,-999.0000,9,-999.000,9, -999.00,5,  -217.6,2,     2.6,-999.000,9,-999.000,   37.93,2,   45.89,2, 1399.90,-999.0000,9,-999.0000,9,-999.0000,9,-999.0000,9,-999.0000,9,-999.0000,9,     -999.0,     -999.0,9,     -999.0,9,     -999.0,9,     -999.0,9,     -999.0,9,     -999.0,9, -999.00,9,   3.1286,-999.0000,-999.000
325020060213,       P16N,      29,          2,         14,         14,2,20060225,       0159,     7.0005,  -151.3288,       5362,  1599.5,   2.8066,  34.6182,2,  34.6174,2,     80.0,2,    79.7,2,  130.10,2,   41.20,2,    0.00,2,    2.89,2,-999.000,9,-999.000,9,-999.000,9,  2350.9,2,  2404.6,2,   -999.0,9,  -999.00,   7.4633,2,    25.00,-999.000,9,-999.000,-999.0000,9,-999.000,9, -999.00,5,  -223.7,2,     2.4,-999.000,9,-999.000,   36.70,2,   44.73,2, 1599.50,   0.1400,2,   0.0960,2,   0.0460,2,   0.0270,2,   0.0190,2,   0.0207,2,     -999.0,     -999.0,9,     -999.0,9,     -999.0,9,     -999.0,9,     -999.0,9,     -999.0,9, -999.00,9,   2.6926,-999.0000,-999.000
325020060213,       P16N,      29,          2,         13,         13,2,20060225,       0159,     7.0005,  -151.3288,       5362,  1799.3,   2.4607,  34.6331,2,  34.6312,2,     90.7,2,    90.8,2,  137.50,2,   40.50,2,    0.00,2,    2.83,2,   0.000,2,   0.000,2,-999.000,5,  2353.3,2,  2412.2,2,   -999.0,9,  -999.00,   7.4768,2,    25.00,-999.000,9,-999.000,-999.0000,9,-999.000,9, -999.00,5,  -227.5,2,     2.6,-999.000,9,-999.000,   37.55,2,   44.14,2, 1799.30,-999.0000,9,-999.0000,9,-999.0000,9,-999.0000,9,-999.0000,9,-999.0000,9,     -999.0,     -999.0,9,     -999.0,9,     -999.0,9,     -999.0,9,     -999.0,9,     -999.0,9, -999.00,9,   2.3345,-999.0000,-999.000
325020060213,       P16N,      29,          2,         12,         12,2,20060225,       0159,     7.0005,  -151.3288,       5362,  1999.4,   2.2059,  34.6469,2,  34.6467,2,    100.1,2,   100.4,2,  142.70,2,   39.80,2,    0.00,2,    2.78,2,-999.000,9,-999.000,9,-999.000,9,  2352.3,2,  2419.5,2,   -999.0,9,  -999.00,-999.0000,9,  -999.00,-999.000,9,-999.000,-999.0000,9,-999.000,9, -999.00,5,  -232.8,2,     2.7,-999.000,9,-999.000,   37.72,2,   43.86,2, 1999.40,   0.1230,2,   0.0810,2,   0.0350,2,   0.0170,2,   0.0226,2,   0.0242,2,     -999.0,     -999.0,9,     -999.0,9,     -999.0,9,     -999.0,9,     -999.0,9,     -999.0,9, -999.00,9,   2.0663,-999.0000,-999.000
325020060213,       P16N,      29,          2,         11,         11,2,20060225,       0159,     7.0005,  -151.3288,       5362,  2249.2,   1.9978,  34.6592,2,  34.6589,2,    104.5,2,   104.3,2,  149.50,2,   39.60,2,    0.00,2,    2.75,2,-999.000,9,-999.000,9,-999.000,9,  2355.8,2,  2431.4,2,   -999.0,9,  -999.00,   7.5105,2,    25.00,-999.000,9,-999.000,-999.0000,9,-999.000,9, -999.00,5,  -237.8,2,     2.5,-999.000,9,-999.000,   37.78,2,   43.85,2, 2249.20,-999.0000,9,-999.0000,9,-999.0000,9,-999.0000,9,-999.0000,9,-999.0000,9,     -999.0,     -999.0,9,     -999.0,9,     -999.0,9,     -999.0,9,     -999.0,9,     -999.0,9, -999.00,9,   1.8400,-999.0000,-999.000
325020060213,       P16N,      29,          2,         10,         10,2,20060225,       0159,     7.0005,  -151.3288,       5362,  2500.4,   1.8657,  34.6689,2,  34.6671,2,    114.2,2,   113.9,2,  150.90,2,   38.90,2,    0.00,2,    2.69,2,   0.001,2,   0.001,2,-999.000,5,  2352.5,2,  2434.1,2,   -999.0,9,  -999.00,   7.5332,2,    25.00,-999.000,9,-999.000,-999.0000,9,-999.000,9, -999.00,5,  -237.1,2,     2.8,-999.000,9,-999.000,   37.34,2,   42.93,2, 2500.40,   0.1210,2,   0.0790,2,   0.0330,2,   0.0140,2,   0.0236,2,   0.0250,2,     -999.0,     -999.0,9,     -999.0,9,     -999.0,9,     -999.0,9,     -999.0,9,     -999.0,9, -999.00,9,   1.6879,-999.0000,-999.000
325020060213,       P16N,      29,          2,          9,          9,2,20060225,       0159,     7.0005,  -151.3288,       5362,  2749.8,   1.7896,  34.6740,2,  34.6731,2,    118.1,2,   117.5,2,  152.80,2,   38.50,2,    0.00,2,    2.67,2,-999.000,9,-999.000,9,-999.000,9,  2352.5,2,  2436.8,2,   -999.0,9,  -999.00,   7.5602,2,    25.00,-999.000,9,-999.000,-999.0000,9,-999.000,9, -999.00,5,  -236.5,2,     2.3,-999.000,9,-999.000,   37.41,2,   42.67,2, 2749.80,-999.0000,9,-999.0000,9,-999.0000,9,-999.0000,9,-999.0000,9,-999.0000,9,     -999.0,     -999.0,9,     -999.0,9,     -999.0,9,     -999.0,9,     -999.0,9,     -999.0,9, -999.00,9,   1.5903,-999.0000,-999.000