BOTTLE,20170720CCHSIOCBG
EXPOCODE,SECT_ID,STNNBR,CASTNO,SAMPNO,BTLNBR,BTLNBR_FLAG_W,DATE,TIME,LATITUDE,LONGITUDE,DEPTH,CTDPRS,CTDTMP,CTDSAL,CTDSAL_FLAG_W,SALNTY,SALNTY_FLAG_W,CTDOXY,CTDOXY_FLAG_W,OXYGEN,OXYGEN_FLAG_W,SILCAT,SILCAT_FLAG_W,NITRAT,NITRAT_FLAG_W,NITRIT,NITRIT_FLAG_W,PHSPHT,PHSPHT_FLAG_W,CFC-11,CFC-11_FLAG_W,CFC-12,CFC-12_FLAG_W,CFC113,CFC113_FLAG_W,TCARBN,TCARBN_FLAG_W,ALKALI,ALKALI_FLAG_W,FCO2,FCO2_FLAG_W,FCO2TMP,PH_TOT,PH_TOT_FLAG_W,PH_TMP,TRITUM,TRITUM_FLAG_W,TRITER,HELIUM,HELIUM_FLAG_W,DELHE3,DELHE3_FLAG_W,DELC13,DELC13_FLAG_W,DELC14,DELC14_FLAG_W,C14ERR,NEON,NEON_FLAG_W,NEONER,DOC,DOC_FLAG_W,TDN,TDN_FLAG_W,CTDRAW,CDOM325,CDOM325_FLAG_W,CDOM340,CDOM340_FLAG_W,CDOM380,CDOM380_FLAG_W,CDOM412,CDOM412_FLAG_W,CDOMSL,CDOMSL_FLAG_W,CDOMSN,CDOMSN_FLAG_W,DCNS,ARABI,ARABI_FLAG_W,FUCO,FUCO_FLAG_W,GALA,GALA_FLAG_W,GLUC,GLUC_FLAG_W,MAN,MAN_FLAG_W,RHAM,RHAM_FLAG_W,BRDU,BRDU_FLAG_W,THETA,HELIER,DELHER
,,,,,,,,,,,METERS,DBAR,ITS-90,PSS-78,,PSS-78,,UMOL/KG,,UMOL/KG,,UMOL/KG,,UMOL/KG,,UMOL/KG,,UMOL/KG,,PMOL/KG,,PMOL/KG,,PMOL/KG,,UMOL/KG,,UMOL/KG,,UATM,,DEG C,,,DEG C,TU,,TU,NMOL/KG,,PERCNT,,/MILLE,,/MILLE,,/MILLE,NMOL/KG,,NMOL/KG,UMOL/KG,,UMOL/KG,,DBAR,1/M,,1/M,,1/M,,1/M,,1/NM,,1/NM,,NMOL/KG,NMOL/KG,,NMOL/KG,,NMOL/KG,,NMOL/KG,,NMOL/KG,,NMOL/KG,,PMOL/L/H,,DEG C,NMOL/KG,PERCNT
325020060213,       P16N,      53,          1,          9,          9,2,20060316,       1644,    30.9997,  -152.0003,       5301,  2749.5,   1.6048,  34.6606,2,  34.6601,2,    108.8,2,   109.3,2,  166.70,2,   38.50,2,    0.00,2,    2.72,2,-999.000,9,-999.000,9,-999.000,9,  2361.0,2,  2430.5,2,   1416.9,2,    20.00,   7.5062,2,    25.00,-999.000,9,-999.000,-999.0000,9,-999.000,9, -999.00,9,  -999.0,9,    -9.0,-999.000,9,-999.000,   35.89,2,   42.28,2, 2749.50,   0.1280,2,   0.0890,2,   0.0440,2,   0.0260,2,   0.0182,2,   0.0199,2,     -999.0,     -999.0,9,     -999.0,9,     -999.0,9,     -999.0,9,     -999.0,9,     -999.0,9, -999.00,9,   1.4093,-999.0000,-999.000
325020060213,       P16N,      53,          1,          8,          8,2,20060316,       1644,    30.9997,  -152.0003,       5301,  2999.9,   1.5453,  34.6680,2,  34.6682,2,    116.9,2,   118.3,2,  165.70,2,   38.10,2,    0.00,2,    2.67,2,   0.000,2,  -0.001,2,-999.000,9,  2354.8,2,  2430.7,2,   1356.9,2,    20.00,   7.5232,2,    25.00,-999.000,9,-999.000,    1.952,2,  16.959,2, -999.00,9,  -999.0,9,    -9.0,   8.108,2,   0.034,   36.21,2,   41.47,2, 2999.90,   0.1250,2,   0.0870,2,   0.0430,2,   0.0260,2,   0.0184,2,   0.0202,2,     -999.0,     -999.0,9,     -999.0,9,     -999.0,9,     -999.0,9,     -999.0,9,     -999.0,9, -999.00,9,   1.3276,    0.004,   0.265
325020060213,       P16N,      53,          1,          7,          7,2,20060316,       1644,    30.9997,  -152.0003,       5301,  3248.7,   1.5029,  34.6745,2,  34.6751,2,    126.6,2,   126.5,2,  162.20,2,   37.50,2,    0.00,2,    2.62,2,-999.000,9,-999.000,9,-999.000,9,  2349.1,2,  2429.5,6,   1307.6,2,    20.00,   7.5376,2,    25.00,-999.000,9,-999.000,-999.0000,9,-999.000,9, -999.00,9,  -999.0,9,    -9.0,-999.000,9,-999.000,   36.59,2,   41.39,2, 3248.70,   0.1210,2,   0.0830,2,   0.0400,2,   0.0240,2,   0.0191,2,   0.0209,2,     -999.0,     -999.0,9,     -999.0,9,     -999.0,9,     -999.0,9,     -999.0,9,     -999.0,9, -999.00,9,   1.2620,-999.0000,-999.000
325020060213,       P16N,      53,          1,          6,          6,2,20060316,       1644,    30.9997,  -152.0003,       5301,  3647.2,   1.4708,  34.6824,2,  34.6818,2,    137.5,2,   137.0,2,  159.00,2,   36.70,2,    0.00,2,    2.56,2,   0.002,2,  -0.001,2,-999.000,9,  2341.2,2,  2427.3,2,   1248.5,2,    20.00,   7.5579,2,    25.00,   0.013,2,   0.015,    1.897,2,  16.200,2, -999.00,9,  -999.0,9,    -9.0,   8.165,2,   0.031,   36.68,2,   39.86,2, 3647.20,   0.1170,2,   0.0800,2,   0.0380,2,   0.0220,2,   0.0197,2,   0.0215,2,     -999.0,     -999.0,9,     -999.0,9,     -999.0,9,     -999.0,9,     -999.0,9,     -999.0,9, -999.00,9,   1.1903,    0.004,   0.261
325020060213,       P16N,      53,          1,          5,          5,2,20060316,       1644,    30.9997,  -152.0003,       5301,  4048.9,   1.4689,  34.6874,2,  34.6890,2,    145.3,2,   144.9,2,  155.30,2,   36.40,2,    0.00,2,    2.52,2,-999.000,9,-999.000,9,-999.000,9,  2334.8,2,  2426.3,2,   1203.3,2,    20.00,   7.5721,2,    25.00,-999.000,9,-999.000,-999.0000,9,-999.000,9, -999.00,9,  -999.0,9,    -9.0,-999.000,9,-999.000,   37.33,2,   39.72,2, 4048.90,   0.1100,2,   0.0740,2,   0.0340,2,   0.0190,2,   0.0214,2,   0.0231,2,     -999.0,     -999.0,9,     -999.0,9,     -999.0,9,     -999.0,9,     -999.0,9,     -999.0,9, -999.00,9,   1.1455,-999.0000,-999.000
325020060213,       P16N,      53,          1,          4,          4,2,20060316,       1644,    30.9997,  -152.0003,       5301,  4549.8,   1.4948,  34.6907,2,  34.6908,2,    151.6,2,   151.4,2,  150.50,6,   35.90,6,    0.00,6,    2.48,6,   0.010,2,   0.006,2,-999.000,9,  2330.3,2,  2426.2,2,   1167.8,2,    20.00,   7.5811,2,    25.00,   0.016,2,   0.015,    1.940,2,  16.017,2, -999.00,9,  -999.0,9,    -9.0,   8.104,2,   0.034,   37.82,2,   39.12,2, 4549.80,   0.1080,2,   0.0720,2,   0.0320,2,   0.0180,2,   0.0221,2,   0.0237,2,     -999.0,     -999.0,9,     -999.0,9,     -999.0,9,     -999.0,9,     -999.0,9,     -999.0,9, -999.00,9,   1.1142,    0.004,   0.265
325020060213,       P16N,      53,          1,          3,          3,2,20060316,       1644,    30.9997,  -152.0003,       5301,  5049.6,   1.5403,  34.6923,2,  34.6940,2,    155.1,2,   155.4,2,  147.00,6,   35.60,6,    0.00,6,    2.45,6,-999.000,9,-999.000,9,-999.000,9,  2325.7,2,  2425.9,2,   1155.7,2,    20.00,   7.5867,2,    25.00,-999.000,9,-999.000,-999.0000,9,-999.000,9, -999.00,9,  -999.0,9,    -9.0,-999.000,9,-999.000,   37.60,2,   39.55,2, 5049.60,   0.1070,2,   0.0700,2,   0.0310,2,   0.0170,2,   0.0226,2,   0.0243,2,     -999.0,     -999.0,9,     -999.0,9,     -999.0,9,     -999.0,9,     -999.0,9,     -999.0,9, -999.00,9,   1.0986,-999.0000,-999.000
325020060213,       P16N,      53,          1,          2,          2,2,20060316,       1644,    30.9997,  -152.0003,       5301,  5249.9,   1.5586,  34.6927,2,  34.6921,2,    156.7,2,   156.4,2,  145.80,6,   35.40,2,    0.00,6,    2.44,6,   0.010,2,   0.000,2,-999.000,9,  2325.3,6,  2424.3,2,   1149.1,2,    20.00,   7.5862,2,    25.00,-999.000,9,-999.000,    2.142,4,  13.715,3, -999.00,9,  -999.0,9,    -9.0,   3.907,4,   0.008,   38.34,2,   38.39,2, 5249.90,   0.1070,2,   0.0700,2,   0.0320,2,   0.0180,2,   0.0224,2,   0.0241,2,     -999.0,     -999.0,9,     -999.0,9,     -999.0,9,     -999.0,9,     -999.0,9,     -999.0,9, -999.00,9,   1.0915,    0.003,   0.354
325020060213,       P16N,      53,          1,          1,          1,2,20060316,       1644,    30.9997,  -152.0003,       5301,  5444.2,   1.5784,  34.6929,2,  34.6927,2,    157.6,2,   157.6,2,  145.20,2,   35.40,2,    0.00,2,    2.44,2,   0.006,2,   0.001,2,-999.000,9,  2322.9,2,  2412.2,2,   1144.4,2,    20.00,   7.5875,2,    25.00,   0.001,2,   0.014,    1.901,2,  14.783,2, -999.00,9,  -999.0,9,    -9.0,   7.938,3,   0.033,   38.11,2,   38.70,2, 5444.20,   0.1110,2,   0.0740,2,   0.0330,2,   0.0190,2,   0.0220,2,   0.0235,2,     -999.0,     -999.0,9,     -999.0,9,     -999.0,9,     -999.0,9,     -999.0,9,     -999.0,9, -999.00,9,   1.0861,    0.003,   0.396