BOTTLE,20170720CCHSIOCBG
EXPOCODE,SECT_ID,STNNBR,CASTNO,SAMPNO,BTLNBR,BTLNBR_FLAG_W,DATE,TIME,LATITUDE,LONGITUDE,DEPTH,CTDPRS,CTDTMP,CTDSAL,CTDSAL_FLAG_W,SALNTY,SALNTY_FLAG_W,CTDOXY,CTDOXY_FLAG_W,OXYGEN,OXYGEN_FLAG_W,SILCAT,SILCAT_FLAG_W,NITRAT,NITRAT_FLAG_W,NITRIT,NITRIT_FLAG_W,PHSPHT,PHSPHT_FLAG_W,CFC-11,CFC-11_FLAG_W,CFC-12,CFC-12_FLAG_W,CFC113,CFC113_FLAG_W,TCARBN,TCARBN_FLAG_W,ALKALI,ALKALI_FLAG_W,FCO2,FCO2_FLAG_W,FCO2TMP,PH_TOT,PH_TOT_FLAG_W,PH_TMP,TRITUM,TRITUM_FLAG_W,TRITER,HELIUM,HELIUM_FLAG_W,DELHE3,DELHE3_FLAG_W,DELC13,DELC13_FLAG_W,DELC14,DELC14_FLAG_W,C14ERR,NEON,NEON_FLAG_W,NEONER,DOC,DOC_FLAG_W,TDN,TDN_FLAG_W,CTDRAW,CDOM325,CDOM325_FLAG_W,CDOM340,CDOM340_FLAG_W,CDOM380,CDOM380_FLAG_W,CDOM412,CDOM412_FLAG_W,CDOMSL,CDOMSL_FLAG_W,CDOMSN,CDOMSN_FLAG_W,DCNS,ARABI,ARABI_FLAG_W,FUCO,FUCO_FLAG_W,GALA,GALA_FLAG_W,GLUC,GLUC_FLAG_W,MAN,MAN_FLAG_W,RHAM,RHAM_FLAG_W,BRDU,BRDU_FLAG_W,THETA,HELIER,DELHER
,,,,,,,,,,,METERS,DBAR,ITS-90,PSS-78,,PSS-78,,UMOL/KG,,UMOL/KG,,UMOL/KG,,UMOL/KG,,UMOL/KG,,UMOL/KG,,PMOL/KG,,PMOL/KG,,PMOL/KG,,UMOL/KG,,UMOL/KG,,UATM,,DEG C,,,DEG C,TU,,TU,NMOL/KG,,PERCNT,,/MILLE,,/MILLE,,/MILLE,NMOL/KG,,NMOL/KG,UMOL/KG,,UMOL/KG,,DBAR,1/M,,1/M,,1/M,,1/M,,1/NM,,1/NM,,NMOL/KG,NMOL/KG,,NMOL/KG,,NMOL/KG,,NMOL/KG,,NMOL/KG,,NMOL/KG,,PMOL/L/H,,DEG C,NMOL/KG,PERCNT
325020060213,       P16N,      58,          1,         36,         36,2,20060318,       2107,         36,  -152.0002,       5510,     5.2,  13.6762,  33.9935,2,  33.9989,2,    261.8,2,   261.8,2,    2.50,2,    0.10,2,    0.00,2,    0.17,2,   3.031,6,   1.803,6,-999.000,5,  2013.2,6,  2242.4,2,   -999.0,9,  -999.00,   7.9341,6,    25.00,-999.000,9,-999.000,-999.0000,9,-999.000,9, -999.00,5,    48.7,2,     3.2,-999.000,9,-999.000,   60.50,2,    3.88,2,    5.20,   0.0780,2,   0.0540,2,   0.0160,2,   0.0040,3,   0.0018,3,   0.0270,3,     -999.0,     -999.0,9,     -999.0,9,     -999.0,9,     -999.0,9,     -999.0,9,     -999.0,9,    4.19,2,  13.6755,-999.0000,-999.000
325020060213,       P16N,      58,          1,         35,         35,2,20060318,       2107,         36,  -152.0002,       5510,    15.2,  13.6826,  34.0086,2,  34.0066,2,    261.1,2,   262.2,2,    2.60,2,    0.10,2,    0.00,2,    0.18,2,-999.000,9,-999.000,9,-999.000,9,  2015.6,2,  2241.6,2,   -999.0,9,  -999.00,   7.9338,2,    25.00,-999.000,9,-999.000,-999.0000,9,-999.000,9, -999.00,9,  -999.0,9,    -9.0,-999.000,9,-999.000,   59.52,2,    4.11,2,   15.20,   0.0770,2,   0.0530,2,   0.0150,2,   0.0030,3,   0.0287,2,   0.0273,2,     -999.0,     -999.0,9,     -999.0,9,     -999.0,9,     -999.0,9,     -999.0,9,     -999.0,9,   11.85,2,  13.6804,-999.0000,-999.000
325020060213,       P16N,      58,          1,         34,         34,2,20060318,       2107,         36,  -152.0002,       5510,    34.0,  13.6835,  34.0153,2,  34.0149,2,    261.6,2,   261.8,2,    2.50,2,    0.10,2,    0.00,2,    0.18,2,   3.081,2,   1.817,2,-999.000,5,  2017.7,2,  2242.7,2,   -999.0,9,  -999.00,   7.9344,2,    25.00,-999.000,9,-999.000,-999.0000,9,-999.000,9, -999.00,5,    52.6,2,     4.5,-999.000,9,-999.000,   58.89,2,    4.51,2,   34.00,   0.0800,2,   0.0550,2,   0.0170,2,   0.0050,3,   0.0286,2,   0.0272,2,     -999.0,     -999.0,9,     -999.0,9,     -999.0,9,     -999.0,9,     -999.0,9,     -999.0,9,   18.37,2,  13.6787,-999.0000,-999.000
325020060213,       P16N,      58,          1,         33,         33,2,20060318,       2107,         36,  -152.0002,       5510,    59.5,  13.5072,  34.0660,2,  34.0650,2,    257.7,2,   257.9,2,    2.60,2,    0.30,2,    0.10,2,    0.19,2,   3.021,2,   1.787,2,-999.000,5,  2017.8,2,  2252.4,2,   -999.0,9,  -999.00,   7.9339,2,    25.00,-999.000,9,-999.000,-999.0000,9,-999.000,9, -999.00,9,  -999.0,9,    -9.0,-999.000,9,-999.000,   57.00,2,    4.84,2,   59.50,   0.0900,2,   0.0640,2,   0.0230,2,   0.0100,4,   0.0261,2,   0.0253,2,     -999.0,     -999.0,9,     -999.0,9,     -999.0,9,     -999.0,9,     -999.0,9,     -999.0,9,   11.90,2,  13.4989,-999.0000,-999.000
325020060213,       P16N,      58,          1,         32,         32,2,20060318,       2107,         36,  -152.0002,       5510,    85.1,  13.1891,  34.0006,2,  34.0006,2,    258.7,2,   260.3,2,    2.70,2,    0.40,2,    0.10,2,    0.20,2,   3.022,2,   1.802,2,-999.000,5,  2016.9,2,  2242.0,2,   -999.0,9,  -999.00,   7.9292,2,    25.00,-999.000,9,-999.000,-999.0000,9,-999.000,9, -999.00,5,    52.9,2,     3.5,-999.000,9,-999.000,   55.89,2,    5.00,2,   85.10,   0.0910,2,   0.0640,2,   0.0230,2,   0.0100,3,   0.0264,2,   0.0255,2,     -999.0,     -999.0,9,     -999.0,9,     -999.0,9,     -999.0,9,     -999.0,9,     -999.0,9,   15.36,2,  13.1775,-999.0000,-999.000
325020060213,       P16N,      58,          1,         31,         31,2,20060318,       2107,         36,  -152.0002,       5510,   109.3,  12.4995,  34.2170,2,  34.2082,2,    220.2,2,   229.1,2,    6.70,2,    6.90,2,    0.10,2,    0.55,2,   3.118,2,   1.809,2,-999.000,5,  2059.1,2,  2255.7,2,   -999.0,9,  -999.00,   7.8611,2,    25.00,-999.000,9,-999.000,-999.0000,9,-999.000,9, -999.00,5,    56.7,2,     3.5,-999.000,9,-999.000,   54.03,2,   11.25,2,  109.30,   0.0850,2,   0.0590,2,   0.0230,2,   0.0120,2,   0.0261,2,   0.0256,2,     -999.0,     -999.0,9,     -999.0,9,     -999.0,9,     -999.0,9,     -999.0,9,     -999.0,9,   10.78,2,  12.4851,-999.0000,-999.000
325020060213,       P16N,      58,          1,         30,         30,2,20060318,       2107,         36,  -152.0002,       5510,   135.2,  12.0471,  34.2545,2,  34.2542,2,    227.4,2,   228.6,2,    8.50,2,    8.90,2,    0.00,2,    0.64,2,   3.217,2,   1.840,2,-999.000,5,  2070.2,2,  2260.3,2,   -999.0,9,  -999.00,   7.8492,2,    25.00,-999.000,9,-999.000,-999.0000,9,-999.000,9, -999.00,9,  -999.0,9,    -9.0,-999.000,9,-999.000,   52.11,2,   13.54,2,  135.20,   0.0770,2,   0.0520,2,   0.0180,2,   0.0080,3,   0.0273,2,   0.0268,2,     -999.0,     -999.0,9,     -999.0,9,     -999.0,9,     -999.0,9,     -999.0,9,     -999.0,9,    5.22,2,  12.0296,-999.0000,-999.000
325020060213,       P16N,      58,          1,         29,         29,2,20060318,       2107,         36,  -152.0002,       5510,   175.8,  11.5607,  34.2537,2,  34.2562,2,    224.8,2,   222.1,2,   14.00,2,   13.00,2,    0.00,2,    0.90,2,   3.210,2,   1.832,2,-999.000,5,  2081.9,2,  2272.5,6,   -999.0,9,  -999.00,   7.8263,2,    25.00,-999.000,9,-999.000,-999.0000,9,-999.000,9, -999.00,5,    50.0,2,     3.2,-999.000,9,-999.000,   49.93,2,   16.74,2,  175.80,   0.0720,2,   0.0470,2,   0.0160,2,   0.0060,3,   0.0289,2,   0.0286,2,     -999.0,     -999.0,9,     -999.0,9,     -999.0,9,     -999.0,9,     -999.0,9,     -999.0,9,    1.68,2,  11.5385,-999.0000,-999.000
325020060213,       P16N,      58,          1,         28,         28,2,20060318,       2107,         36,  -152.0002,       5510,   224.9,  10.8545,  34.2140,2,  34.2104,2,    220.0,2,   220.3,2,   11.30,2,   11.10,2,    0.00,2,    0.77,2,   3.268,2,   1.834,2,-999.000,5,  2093.9,2,  2271.4,2,   -999.0,9,  -999.00,   7.8022,2,    25.00,-999.000,9,-999.000,-999.0000,9,-999.000,9, -999.00,5,    43.1,2,     3.5,-999.000,9,-999.000,   48.98,2,   15.15,2,  224.90,   0.0790,2,   0.0530,2,   0.0190,2,   0.0080,3,   0.0277,2,   0.0275,2,     -999.0,     -999.0,9,     -999.0,9,     -999.0,9,     -999.0,9,     -999.0,9,     -999.0,9, -999.00,9,  10.8272,-999.0000,-999.000
325020060213,       P16N,      58,          1,         27,         27,2,20060318,       2107,         36,  -152.0002,       5510,   274.9,   9.9274,  34.1425,2,  34.1438,2,    216.8,2,   217.1,2,   18.00,2,   15.10,2,    0.00,2,    1.05,2,   3.313,2,   1.844,2,-999.000,5,  2106.3,2,  2269.1,2,   -999.0,9,  -999.00,   7.7711,2,    25.00,-999.000,9,-999.000,-999.0000,9,-999.000,9, -999.00,5,    35.5,2,     3.1,-999.000,9,-999.000,   48.11,2,   18.95,2,  274.90,   0.0870,2,   0.0580,2,   0.0220,2,   0.0110,2,   0.0270,2,   0.0270,2,     -999.0,     -999.0,9,     -999.0,9,     -999.0,9,     -999.0,9,     -999.0,9,     -999.0,9, -999.00,9,   9.8958,-999.0000,-999.000
325020060213,       P16N,      58,          1,         26,         26,2,20060318,       2107,         36,  -152.0002,       5510,   325.5,   9.1212,  34.0919,2,  34.0931,2,    203.8,2,   204.0,2,   23.20,2,   18.10,2,    0.00,2,    1.24,2,   3.304,2,   1.805,2,-999.000,5,  2125.5,2,  2271.3,2,   -999.0,9,  -999.00,   7.7299,2,    25.00,-999.000,9,-999.000,-999.0000,9,-999.000,9, -999.00,5,    23.1,2,     3.5,-999.000,9,-999.000,   47.44,2,   21.75,2,  325.50,   0.1020,2,   0.0700,2,   0.0290,2,   0.0160,2,   0.0232,2,   0.0240,2,    367.382,    34.8282,2,    29.7742,2,    77.9158,2,    108.426,2,    80.3104,2,    36.1281,2, -999.00,9,   9.0857,-999.0000,-999.000
325020060213,       P16N,      58,          1,         25,         25,2,20060318,       2107,         36,  -152.0002,       5510,   375.1,   8.2600,  34.0490,2,  34.0499,2,    181.8,2,   182.4,2,   30.70,2,   21.90,2,    0.00,2,    1.49,2,   3.121,2,   1.670,2,-999.000,5,  2151.7,2,  2271.1,2,   -999.0,9,  -999.00,   7.6720,2,    25.00,-999.000,9,-999.000,-999.0000,9,-999.000,9, -999.00,5,    -1.1,2,     3.4,-999.000,9,-999.000,   46.51,2,   26.17,2,  375.10,   0.1210,2,   0.0840,2,   0.0390,2,   0.0240,2,   0.0195,2,   0.0210,2,     -999.0,     -999.0,9,     -999.0,9,     -999.0,9,     -999.0,9,     -999.0,9,     -999.0,9, -999.00,9,   8.2214,-999.0000,-999.000
325020060213,       P16N,      58,          1,         24,         24,2,20060318,       2107,         36,  -152.0002,       5510,   424.6,   7.4194,  34.0109,2,  34.0086,2,    160.6,2,   159.2,2,   39.80,2,   25.70,2,    0.00,2,    1.76,2,   2.853,2,   1.489,2,-999.000,5,  2179.8,2,  2275.2,2,   -999.0,9,  -999.00,   7.6044,2,    25.00,-999.000,9,-999.000,-999.0000,9,-999.000,9, -999.00,5,    -8.8,2,     3.3,-999.000,9,-999.000,   45.63,2,   29.52,2,  424.60,   0.1320,2,   0.0920,2,   0.0430,2,   0.0280,2,   0.0183,2,   0.0202,2,     -999.0,     -999.0,9,     -999.0,9,     -999.0,9,     -999.0,9,     -999.0,9,     -999.0,9, -999.00,9,   7.3783,-999.0000,-999.000
325020060213,       P16N,      58,          1,         23,         23,2,20060318,       2107,         36,  -152.0002,       5510,   475.3,   6.7274,  33.9940,2,  33.9961,2,    136.1,2,   137.3,2,   48.60,2,   29.00,2,    0.00,2,    2.00,2,   2.572,2,   1.291,2,-999.000,5,  2204.2,2,  2281.5,2,   -999.0,9,  -999.00,   7.5461,2,    25.00,-999.000,9,-999.000,-999.0000,9,-999.000,9, -999.00,5,   -20.4,2,     3.8,-999.000,9,-999.000,   44.80,2,   33.48,2,  475.30,   0.1420,2,   0.1000,2,   0.0480,2,   0.0310,2,   0.0173,2,   0.0192,2,     -999.0,     -999.0,9,     -999.0,9,     -999.0,9,     -999.0,9,     -999.0,9,     -999.0,9, -999.00,9,   6.6837,-999.0000,-999.000
325020060213,       P16N,      58,          1,         22,         22,2,20060318,       2107,         36,  -152.0002,       5510,   548.7,   5.5990,  33.9980,2,  33.9978,2,    109.5,2,   110.5,2,   64.90,2,   33.50,2,    0.00,2,    2.35,2,   1.944,2,   0.949,2,-999.000,5,  2241.2,2,  2301.9,2,   -999.0,9,  -999.00,   7.4724,2,    25.00,-999.000,9,-999.000,-999.0000,9,-999.000,9, -999.00,5,   -60.8,2,     2.6,-999.000,9,-999.000,   43.88,2,   38.03,2,  548.70,   0.1550,2,   0.1100,2,   0.0540,2,   0.0360,2,   0.0164,2,   0.0182,2,     -999.0,     -999.0,9,     -999.0,9,     -999.0,9,     -999.0,9,     -999.0,9,     -999.0,9, -999.00,9,   5.5530,-999.0000,-999.000
325020060213,       P16N,      58,          1,         21,         21,2,20060318,       2107,         36,  -152.0002,       5510,   650.4,   4.6640,  34.0513,2,  34.0535,2,     72.0,2,    71.4,2,   84.40,2,   38.50,2,    0.00,2,    2.70,2,   1.172,2,   0.567,2,-999.000,5,  2285.9,2,  2320.6,2,   -999.0,9,  -999.00,   7.3809,2,    25.00,-999.000,9,-999.000,-999.0000,9,-999.000,9, -999.00,5,  -106.6,2,     3.0,-999.000,9,-999.000,   43.07,2,   42.08,2,  650.40,   0.1680,2,   0.1200,2,   0.0620,2,   0.0430,3,   0.0152,3,   0.0170,3,     -999.0,     -999.0,9,     -999.0,9,     -999.0,9,     -999.0,9,     -999.0,9,     -999.0,9, -999.00,9,   4.6137,-999.0000,-999.000
325020060213,       P16N,      58,          1,         20,         20,2,20060318,       2107,         36,  -152.0002,       5510,   750.8,   4.1622,  34.1402,2,  34.1417,2,     43.0,2,    41.8,2,  101.00,2,   41.40,2,    0.00,2,    2.91,2,   0.499,2,   0.251,2,-999.000,5,  2320.5,2,  -999.0,9,   -999.0,9,  -999.00,   7.3292,2,    25.00,-999.000,9,-999.000,-999.0000,9,-999.000,9, -999.00,5,  -138.3,2,     2.9,-999.000,9,-999.000,   42.15,2,   44.83,2,  750.80,   0.1760,2,   0.1260,2,   0.0670,2,   0.0480,2,   0.0145,2,   0.0161,2,     -999.0,     -999.0,9,     -999.0,9,     -999.0,9,     -999.0,9,     -999.0,9,     -999.0,9, -999.00,9,   4.1064,-999.0000,-999.000
325020060213,       P16N,      58,          1,         19,         19,2,20060318,       2107,         36,  -152.0002,       5510,   849.0,   3.7473,  34.2219,2,  34.2188,2,     22.2,2,    22.9,2,  114.90,2,   43.10,2,    0.00,2,    3.05,2,   0.154,2,   0.082,2,-999.000,5,  2347.5,2,  2346.1,2,   -999.0,9,  -999.00,   7.3030,2,    25.00,-999.000,9,-999.000,-999.0000,9,-999.000,9, -999.00,5,  -169.0,2,     4.1,-999.000,9,-999.000,   41.20,2,   47.10,2,  849.00,   0.1780,2,   0.1280,2,   0.0690,2,   0.0500,2,   0.0141,2,   0.0156,2,     -999.0,     -999.0,9,     -999.0,9,     -999.0,9,     -999.0,9,     -999.0,9,     -999.0,9, -999.00,9,   3.6861,-999.0000,-999.000
325020060213,       P16N,      58,          1,         18,         18,2,20060318,       2107,         36,  -152.0002,       5510,   949.4,   3.4034,  34.2924,2,  34.2915,2,      9.6,2,     9.5,2,  127.90,6,    0.00,2,    0.00,6,    3.16,6,   0.036,2,   0.015,2,-999.000,5,  2368.7,2,  -999.0,9,   -999.0,9,  -999.00,   7.2823,2,    25.00,-999.000,9,-999.000,-999.0000,9,-999.000,9, -999.00,9,  -999.0,9,    -9.0,-999.000,9,-999.000,   40.18,2,   47.33,2,  949.40,   0.1820,2,   0.1310,2,   0.0730,2,   0.0540,2,   0.0135,2,   0.0150,3,     -999.0,     -999.0,9,     -999.0,9,     -999.0,9,     -999.0,9,     -999.0,9,     -999.0,9, -999.00,9,   3.3367,-999.0000,-999.000
325020060213,       P16N,      58,          1,         17,         17,2,20060318,       2107,         36,  -152.0002,       5510,  1101.1,   3.0836,  34.3688,2,  34.3678,2,      6.2,2,     6.0,2,  140.10,6,   45.00,2,    0.00,6,    3.19,6,   0.006,2,   0.006,2,-999.000,5,  2382.4,6,  2377.1,2,   -999.0,9,  -999.00,   7.2806,2,    25.00,-999.000,9,-999.000,-999.0000,9,-999.000,9, -999.00,5,  -208.0,2,     2.8,-999.000,9,-999.000,   39.15,2,   48.54,2, 1101.10,   0.1830,2,   0.1330,2,   0.0750,2,   0.0550,3,   0.0133,3,   0.0146,4,     -999.0,     -999.0,9,     -999.0,9,     -999.0,9,     -999.0,9,     -999.0,9,     -999.0,9, -999.00,9,   3.0075,-999.0000,-999.000
325020060213,       P16N,      58,          1,         16,         16,2,20060318,       2107,         36,  -152.0002,       5510,  1299.8,   2.7767,  34.4573,2,  34.4572,2,      9.9,2,    10.5,2,  150.90,2,   44.70,2,    0.00,2,    3.19,2,-999.000,9,-999.000,9,-999.000,9,  2393.9,2,  2399.4,2,   -999.0,9,  -999.00,   7.2973,2,    25.00,-999.000,9,-999.000,-999.0000,9,-999.000,9, -999.00,5,  -216.9,2,     2.7,-999.000,9,-999.000,   38.45,2,   48.47,2, 1299.80,   0.1750,2,   0.1250,2,   0.0690,2,   0.0500,2,   0.0136,3,   0.0152,4,     -999.0,     -999.0,9,     -999.0,9,     -999.0,9,     -999.0,9,     -999.0,9,     -999.0,9, -999.00,9,   2.6877,-999.0000,-999.000
325020060213,       P16N,      58,          1,         15,         15,2,20060318,       2107,         36,  -152.0002,       5510,  1500.4,   2.4853,  34.5268,2,  34.5264,2,     24.0,2,    24.5,2,  158.10,2,   44.30,2,    0.00,2,    3.14,2,  -0.005,2,   0.000,2,-999.000,5,  2393.2,2,  2411.8,2,   -999.0,9,  -999.00,   7.3308,2,    25.00,-999.000,9,-999.000,-999.0000,9,-999.000,9, -999.00,5,  -233.9,2,     2.3,-999.000,9,-999.000,   38.16,2,   48.39,2, 1500.40,   0.1690,2,   0.1210,2,   0.0670,2,   0.0480,2,   0.0135,2,   0.0152,3,     -999.0,     -999.0,9,     -999.0,9,     -999.0,9,     -999.0,9,     -999.0,9,     -999.0,9, -999.00,9,   2.3835,-999.0000,-999.000
325020060213,       P16N,      58,          1,         14,         14,2,20060318,       2107,         36,  -152.0002,       5510,  1699.8,   2.2552,  34.5732,2,  34.5730,2,     43.6,2,    45.0,2,  162.60,2,   42.90,2,    0.00,2,    3.05,2,-999.000,9,-999.000,9,-999.000,9,  2387.2,2,  2419.3,2,   -999.0,9,  -999.00,   7.3798,2,    25.00,-999.000,9,-999.000,-999.0000,9,-999.000,9, -999.00,5,  -251.1,2,     2.7,-999.000,9,-999.000,   37.90,2,   46.99,2, 1699.80,   0.1600,2,   0.1130,2,   0.0610,2,   0.0450,2,   0.0136,4,   0.0157,4,     -999.0,     -999.0,9,     -999.0,9,     -999.0,9,     -999.0,9,     -999.0,9,     -999.0,9, -999.00,9,   2.1401,-999.0000,-999.000
325020060213,       P16N,      58,          1,         13,         13,2,20060318,       2107,         36,  -152.0002,       5510,  1900.1,   2.0484,  34.6014,2,  34.6029,2,     59.2,2,    59.9,2,  167.50,2,   42.10,2,    0.00,2,    2.99,2,   0.001,2,  -0.002,2,-999.000,5,  2383.3,2,  2419.6,2,   -999.0,9,  -999.00,   7.4173,2,    25.00,-999.000,9,-999.000,-999.0000,9,-999.000,9, -999.00,5,  -249.0,2,     2.7,-999.000,9,-999.000,   37.09,2,   45.46,2, 1900.10,   0.1550,2,   0.1080,2,   0.0580,2,   0.0420,2,   0.0139,3,   0.0160,3,     -999.0,     -999.0,9,     -999.0,9,     -999.0,9,     -999.0,9,     -999.0,9,     -999.0,9, -999.00,9,   1.9197,-999.0000,-999.000
325020060213,       P16N,      58,          1,         12,         12,2,20060318,       2107,         36,  -152.0002,       5510,  2123.4,   1.8720,  34.6231,2,  34.6240,2,     72.9,2,    73.8,2,  170.20,2,   41.10,2,    0.00,2,    2.92,2,-999.000,9,-999.000,9,-999.000,9,  2377.7,2,  2424.7,2,   -999.0,9,  -999.00,   7.4361,2,    25.00,-999.000,9,-999.000,-999.0000,9,-999.000,9, -999.00,5,  -254.6,2,     2.2,-999.000,9,-999.000,   37.04,2,   45.13,2, 2123.40,   0.1500,2,   0.1040,2,   0.0560,2,   0.0400,2,   0.0141,4,   0.0163,4,     -999.0,     -999.0,9,     -999.0,9,     -999.0,9,     -999.0,9,     -999.0,9,     -999.0,9, -999.00,9,   1.7272,-999.0000,-999.000
325020060213,       P16N,      58,          1,         11,         11,2,20060318,       2107,         36,  -152.0002,       5510,  2375.5,   1.7429,  34.6387,2,  34.6394,2,     85.1,2,    85.7,2,  170.60,2,   40.60,2,    0.00,2,    2.86,2,   0.001,2,   0.002,2,-999.000,5,  2372.0,2,  2426.1,2,   -999.0,9,  -999.00,   7.4617,2,    25.00,-999.000,9,-999.000,-999.0000,9,-999.000,9, -999.00,5,  -262.1,2,     2.8,-999.000,9,-999.000,   37.13,2,   44.16,2, 2375.50,   0.1410,2,   0.0970,2,   0.0510,2,   0.0360,3,   0.0146,4,   0.0170,4,     -999.0,     -999.0,9,     -999.0,9,     -999.0,9,     -999.0,9,     -999.0,9,     -999.0,9, -999.00,9,   1.5785,-999.0000,-999.000
325020060213,       P16N,      58,          1,         10,         10,2,20060318,       2107,         36,  -152.0002,       5510,  2624.0,   1.6467,  34.6506,2,  34.6512,2,     97.6,2,    98.2,2,  168.60,2,   39.70,2,    0.00,2,    2.79,2,-999.000,9,-999.000,9,-999.000,9,  2364.3,2,  2429.8,2,   -999.0,9,  -999.00,   7.4822,2,    25.00,-999.000,9,-999.000,-999.0000,9,-999.000,9, -999.00,5,  -268.1,2,     3.0,-999.000,9,-999.000,   37.07,2,   43.84,2, 2624.00,   0.1340,2,   0.0910,2,   0.0470,2,   0.0340,2,   0.0153,2,   0.0178,2,     -999.0,     -999.0,9,     -999.0,9,     -999.0,9,     -999.0,9,     -999.0,9,     -999.0,9, -999.00,9,   1.4619,-999.0000,-999.000