BOTTLE,20170720CCHSIOCBG
EXPOCODE,SECT_ID,STNNBR,CASTNO,SAMPNO,BTLNBR,BTLNBR_FLAG_W,DATE,TIME,LATITUDE,LONGITUDE,DEPTH,CTDPRS,CTDTMP,CTDSAL,CTDSAL_FLAG_W,SALNTY,SALNTY_FLAG_W,CTDOXY,CTDOXY_FLAG_W,OXYGEN,OXYGEN_FLAG_W,SILCAT,SILCAT_FLAG_W,NITRAT,NITRAT_FLAG_W,NITRIT,NITRIT_FLAG_W,PHSPHT,PHSPHT_FLAG_W,CFC-11,CFC-11_FLAG_W,CFC-12,CFC-12_FLAG_W,CFC113,CFC113_FLAG_W,TCARBN,TCARBN_FLAG_W,ALKALI,ALKALI_FLAG_W,FCO2,FCO2_FLAG_W,FCO2TMP,PH_TOT,PH_TOT_FLAG_W,PH_TMP,TRITUM,TRITUM_FLAG_W,TRITER,HELIUM,HELIUM_FLAG_W,DELHE3,DELHE3_FLAG_W,DELC13,DELC13_FLAG_W,DELC14,DELC14_FLAG_W,C14ERR,NEON,NEON_FLAG_W,NEONER,DOC,DOC_FLAG_W,TDN,TDN_FLAG_W,CTDRAW,CDOM325,CDOM325_FLAG_W,CDOM340,CDOM340_FLAG_W,CDOM380,CDOM380_FLAG_W,CDOM412,CDOM412_FLAG_W,CDOMSL,CDOMSL_FLAG_W,CDOMSN,CDOMSN_FLAG_W,DCNS,ARABI,ARABI_FLAG_W,FUCO,FUCO_FLAG_W,GALA,GALA_FLAG_W,GLUC,GLUC_FLAG_W,MAN,MAN_FLAG_W,RHAM,RHAM_FLAG_W,BRDU,BRDU_FLAG_W,THETA,HELIER,DELHER
,,,,,,,,,,,METERS,DBAR,ITS-90,PSS-78,,PSS-78,,UMOL/KG,,UMOL/KG,,UMOL/KG,,UMOL/KG,,UMOL/KG,,UMOL/KG,,PMOL/KG,,PMOL/KG,,PMOL/KG,,UMOL/KG,,UMOL/KG,,UATM,,DEG C,,,DEG C,TU,,TU,NMOL/KG,,PERCNT,,/MILLE,,/MILLE,,/MILLE,NMOL/KG,,NMOL/KG,UMOL/KG,,UMOL/KG,,DBAR,1/M,,1/M,,1/M,,1/M,,1/NM,,1/NM,,NMOL/KG,NMOL/KG,,NMOL/KG,,NMOL/KG,,NMOL/KG,,NMOL/KG,,NMOL/KG,,PMOL/L/H,,DEG C,NMOL/KG,PERCNT
325020060213,       P16N,      14,          1,         35,         35,2,20060219,       1702,    -4.0002,  -151.0005,       4644,     5.1,  26.3055,  35.2936,2,  35.2944,2,    205.9,2,   206.2,2,    1.60,2,    6.80,2,    0.20,2,    0.61,2,   1.756,2,   1.085,2,-999.000,5,  2040.3,2,  -999.0,5,   -999.0,9,  -999.00,   7.9943,2,    25.00,-999.000,9,-999.000,-999.0000,9,-999.000,9, -999.00,9,  -999.0,9,    -9.0,-999.000,9,-999.000,   63.84,2,   10.87,2,    5.10,-999.0000,9,-999.0000,9,-999.0000,9,-999.0000,9,-999.0000,9,-999.0000,9,     -999.0,     -999.0,9,     -999.0,9,     -999.0,9,     -999.0,9,     -999.0,9,     -999.0,9,    1.54,2,  26.3044,-999.0000,-999.000
325020060213,       P16N,      14,          1,         34,         34,2,20060219,       1702,    -4.0002,  -151.0005,       4644,    15.3,  26.2878,  35.2931,2,  35.2924,2,    206.2,2,   206.2,2,    1.60,2,    6.80,2,    0.20,2,    0.61,2,   1.748,2,   1.086,2,-999.000,5,  2043.3,6,  -999.0,5,   -999.0,9,  -999.00,   7.9904,2,    25.00,-999.000,9,-999.000,-999.0000,9,-999.000,9, -999.00,9,  -999.0,9,    -9.0,-999.000,9,-999.000,   63.81,2,   11.15,2,   15.30,   0.0530,2,   0.0350,2,   0.0130,2,   0.0110,2,   0.0286,2,   0.0284,2,     -999.0,     -999.0,9,     -999.0,9,     -999.0,9,     -999.0,9,     -999.0,9,     -999.0,9,    2.95,2,  26.2843,-999.0000,-999.000
325020060213,       P16N,      14,          1,         33,         33,9,20060219,       1702,    -4.0002,  -151.0005,       4644,    35.6,  26.2632,  35.2900,2,-999.0000,9,    206.8,2,  -999.0,9, -999.00,9, -999.00,9, -999.00,9, -999.00,9,-999.000,9,-999.000,9,-999.000,9,  -999.0,9,  -999.0,9,   -999.0,9,  -999.00,-999.0000,9,  -999.00,-999.000,9,-999.000,-999.0000,9,-999.000,9, -999.00,9,  -999.0,9,    -9.0,-999.000,9,-999.000, -999.00,9, -999.00,9,   35.60,-999.0000,9,-999.0000,9,-999.0000,9,-999.0000,9,-999.0000,9,-999.0000,9,     -999.0,     -999.0,9,     -999.0,9,     -999.0,9,     -999.0,9,     -999.0,9,     -999.0,9, -999.00,9,  26.2552,-999.0000,-999.000
325020060213,       P16N,      14,          1,         32,         32,2,20060219,       1702,    -4.0002,  -151.0005,       4644,    61.2,  26.1892,  35.2824,2,  35.2815,2,    205.1,2,   206.1,2,    1.60,2,    6.80,2,    0.20,2,    0.61,2,   1.764,2,   1.094,2,-999.000,5,  2041.9,2,  2356.3,2,   -999.0,9,  -999.00,   7.9920,2,    25.00,-999.000,9,-999.000,-999.0000,9,-999.000,9, -999.00,9,  -999.0,9,    -9.0,-999.000,9,-999.000,   62.65,2,   11.25,2,   61.20,-999.0000,9,-999.0000,9,-999.0000,9,-999.0000,9,-999.0000,9,-999.0000,9,     -999.0,     -999.0,9,     -999.0,9,     -999.0,9,     -999.0,9,     -999.0,9,     -999.0,9,    0.52,2,  26.1755,-999.0000,-999.000
325020060213,       P16N,      14,          1,         31,         31,2,20060219,       1702,    -4.0002,  -151.0005,       4644,    85.7,  25.8209,  35.2459,2,  35.2429,2,    201.5,2,   201.8,2,    1.70,2,    5.80,2,    0.20,2,    0.57,2,   1.775,2,   1.094,2,-999.000,5,  2037.3,2,  2318.7,3,   -999.0,9,  -999.00,   8.0037,2,    25.00,-999.000,9,-999.000,-999.0000,9,-999.000,9, -999.00,9,  -999.0,9,    -9.0,-999.000,9,-999.000,   62.73,2,   10.44,2,   85.70,-999.0000,9,-999.0000,9,-999.0000,9,-999.0000,9,-999.0000,9,-999.0000,9,     -999.0,     -999.0,9,     -999.0,9,     -999.0,9,     -999.0,9,     -999.0,9,     -999.0,9,    1.01,2,  25.8019,-999.0000,-999.000
325020060213,       P16N,      14,          1,         30,         30,2,20060219,       1702,    -4.0002,  -151.0005,       4644,   111.0,  26.0552,  35.7377,2,  35.7887,2,    184.1,2,   184.6,2,    1.60,2,    3.70,2,    1.00,2,    0.55,2,   1.709,2,   1.058,2,-999.000,5,  2052.6,2,  2321.2,3,   -999.0,9,  -999.00,   8.0389,2,    25.00,-999.000,9,-999.000,-999.0000,9,-999.000,9, -999.00,9,  -999.0,9,    -9.0,-999.000,9,-999.000,   62.65,2,    8.93,2,  111.00,   0.0660,2,   0.0470,2,   0.0180,2,   0.0130,2,   0.0227,2,   0.0231,2,     -999.0,     -999.0,9,     -999.0,9,     -999.0,9,     -999.0,9,     -999.0,9,     -999.0,9,    3.51,3,  26.0304,-999.0000,-999.000
325020060213,       P16N,      14,          1,         29,         29,2,20060219,       1702,    -4.0002,  -151.0005,       4644,   136.5,  24.6670,  36.2484,2,  36.2967,2,    158.4,2,   162.0,2,    1.10,2,    3.20,2,    1.70,2,    0.56,2,   1.803,2,   1.118,2,-999.000,5,  2089.4,2,  -999.0,5,   -999.0,9,  -999.00,   8.0044,2,    25.00,-999.000,9,-999.000,-999.0000,9,-999.000,9, -999.00,9,  -999.0,9,    -9.0,-999.000,9,-999.000,   60.49,2,    9.35,2,  136.50,-999.0000,9,-999.0000,9,-999.0000,9,-999.0000,9,-999.0000,9,-999.0000,9,     -999.0,     -999.0,9,     -999.0,9,     -999.0,9,     -999.0,9,     -999.0,9,     -999.0,9,    1.61,3,  24.6375,-999.0000,-999.000
325020060213,       P16N,      14,          1,         28,         28,2,20060219,       1702,    -4.0002,  -151.0005,       4644,   175.7,  17.8661,  35.4312,2,  35.4382,2,    101.1,2,   103.5,2,    6.10,2,   15.60,2,    0.00,2,    1.28,2,   1.945,2,   1.128,2,-999.000,5,  2158.4,2,  2333.3,6,   -999.0,9,  -999.00,   7.7838,2,    25.00,-999.000,9,-999.000,-999.0000,9,-999.000,9, -999.00,9,  -999.0,9,    -9.0,-999.000,9,-999.000,   56.88,2,   20.19,2,  175.70,-999.0000,9,-999.0000,9,-999.0000,9,-999.0000,9,-999.0000,9,-999.0000,9,     -999.0,     -999.0,9,     -999.0,9,     -999.0,9,     -999.0,9,     -999.0,9,     -999.0,9,    9.98,3,  17.8360,-999.0000,-999.000
325020060213,       P16N,      14,          1,         27,         27,2,20060219,       1702,    -4.0002,  -151.0005,       4644,   225.2,  13.2255,  34.9907,2,  34.9988,2,     59.7,2,    60.1,2,   15.60,2,   25.40,2,    0.00,2,    1.89,2,-999.000,1,-999.000,1,-999.000,9,  2204.7,2,  -999.0,5,   -999.0,9,  -999.00,   7.6062,2,    25.00,-999.000,9,-999.000,-999.0000,9,-999.000,9, -999.00,9,  -999.0,9,    -9.0,-999.000,9,-999.000,   47.92,2,   29.76,2,  225.20,   0.1180,2,   0.0850,2,   0.0430,2,   0.0330,2,   0.0148,2,   0.0172,2,     -999.0,     -999.0,9,     -999.0,9,     -999.0,9,     -999.0,9,     -999.0,9,     -999.0,9, -999.00,9,  13.1941,-999.0000,-999.000
325020060213,       P16N,      14,          1,         26,         26,2,20060219,       1702,    -4.0002,  -151.0005,       4644,   275.0,  10.9211,  34.8238,2,  34.8233,2,     78.4,2,    81.0,2,   21.00,2,   28.50,2,    0.00,2,    1.96,2,   0.700,6,   0.375,6,-999.000,5,  2208.2,2,  2304.7,2,   -999.0,9,  -999.00,   7.6703,2,    25.00,-999.000,9,-999.000,-999.0000,9,-999.000,9, -999.00,9,  -999.0,9,    -9.0,-999.000,9,-999.000,   44.18,2,   32.90,2,  275.00,-999.0000,9,-999.0000,9,-999.0000,9,-999.0000,9,-999.0000,9,-999.0000,9,     -999.0,     -999.0,9,     -999.0,9,     -999.0,9,     -999.0,9,     -999.0,9,     -999.0,9, -999.00,9,  10.8873,-999.0000,-999.000
325020060213,       P16N,      14,          1,         25,         25,2,20060219,       1702,    -4.0002,  -151.0005,       4644,   326.2,  10.1024,  34.7590,2,  34.7614,2,     71.6,2,    68.4,2,   25.50,2,   31.40,2,    0.00,2,    2.14,2,   0.477,2,   0.265,2,-999.000,5,  2222.8,6,  2304.5,2,   -999.0,9,  -999.00,   7.5530,2,    25.00,-999.000,9,-999.000,-999.0000,9,-999.000,9, -999.00,9,  -999.0,9,    -9.0,-999.000,9,-999.000,   43.25,2,   35.08,2,  326.20,   0.1300,2,   0.0940,2,   0.0510,2,   0.0380,2,   0.0135,2,   0.0154,2,    305.562,    20.6137,2,    45.1298,2,     65.784,2,    91.3171,2,    65.8877,2,    16.8293,2, -999.00,9,  10.0642,-999.0000,-999.000
325020060213,       P16N,      14,          1,         24,         24,2,20060219,       1702,    -4.0002,  -151.0005,       4644,   374.5,   9.3306,  34.7075,2,  34.7049,2,     20.8,2,    24.2,2,   34.90,2,   37.00,2,    0.00,2,    2.57,2,   0.161,2,   0.094,2,-999.000,5,  2261.4,2,  -999.0,5,   -999.0,9,  -999.00,   7.4289,2,    25.00,-999.000,9,-999.000,-999.0000,9,-999.000,9, -999.00,9,  -999.0,9,    -9.0,-999.000,9,-999.000,   42.44,2,   40.97,2,  374.50,-999.0000,9,-999.0000,9,-999.0000,9,-999.0000,9,-999.0000,9,-999.0000,9,     -999.0,     -999.0,9,     -999.0,9,     -999.0,9,     -999.0,9,     -999.0,9,     -999.0,9, -999.00,9,   9.2887,-999.0000,-999.000
325020060213,       P16N,      14,          1,         23,         23,2,20060219,       1702,    -4.0002,  -151.0005,       4644,   425.2,   8.4449,  34.6553,2,  34.6544,2,     27.5,2,    34.6,2,   37.80,2,   38.50,2,    0.00,2,    2.60,2,   0.149,2,   0.065,2,-999.000,5,  2262.1,2,  -999.0,5,   -999.0,9,  -999.00,   7.4347,2,    25.00,-999.000,9,-999.000,-999.0000,9,-999.000,9, -999.00,9,  -999.0,9,    -9.0,-999.000,9,-999.000,   41.63,2,   43.02,2,  425.20,   0.1380,2,   0.1000,2,   0.0560,2,   0.0440,2,   0.0124,3,   0.0143,3,     -999.0,     -999.0,9,     -999.0,9,     -999.0,9,     -999.0,9,     -999.0,9,     -999.0,9, -999.00,9,   8.4000,-999.0000,-999.000
325020060213,       P16N,      14,          1,         22,         22,2,20060219,       1702,    -4.0002,  -151.0005,       4644,   474.9,   7.9590,  34.6317,2,  34.6318,2,     26.4,2,    26.9,2,   42.60,2,   40.50,2,    0.00,2,    2.73,2,   0.053,6,   0.030,6,-999.000,5,  2274.6,2,  -999.0,5,   -999.0,9,  -999.00,   7.4080,2,    25.00,-999.000,9,-999.000,-999.0000,9,-999.000,9, -999.00,9,  -999.0,9,    -9.0,-999.000,9,-999.000,   40.81,2,   44.63,2,  474.90,   0.1410,2,   0.1000,2,   0.0560,2,   0.0430,2,   0.0128,3,   0.0147,3,     -999.0,     -999.0,9,     -999.0,9,     -999.0,9,     -999.0,9,     -999.0,9,     -999.0,9, -999.00,9,   7.9105,-999.0000,-999.000
325020060213,       P16N,      14,          1,         21,         21,2,20060219,       1702,    -4.0002,  -151.0005,       4644,   550.6,   7.3782,  34.6040,2,  34.6027,2,     36.1,2,    36.6,2,   46.60,2,   40.80,2,    0.00,2,    2.76,2,   0.038,2,   0.020,2,-999.000,5,  2276.9,3,  -999.0,5,   -999.0,9,  -999.00,   7.4139,2,    25.00,-999.000,9,-999.000,-999.0000,9,-999.000,9, -999.00,9,  -999.0,9,    -9.0,-999.000,9,-999.000,   40.00,2,   44.89,2,  550.60,   0.1400,2,   0.1000,2,   0.0560,2,   0.0430,2,   0.0128,3,   0.0148,3,     -999.0,     -999.0,9,     -999.0,9,     -999.0,9,     -999.0,9,     -999.0,9,     -999.0,9, -999.00,9,   7.3240,-999.0000,-999.000
325020060213,       P16N,      14,          1,         20,         20,2,20060219,       1702,    -4.0002,  -151.0005,       4644,   651.9,   6.3903,  34.5657,2,  34.5663,2,     59.5,2,    59.9,2,   53.80,2,   40.20,2,    0.00,2,    2.74,2,   0.026,2,   0.013,2,-999.000,5,  2274.9,2,  2321.1,2,   -999.0,9,  -999.00,   7.4567,2,    25.00,-999.000,9,-999.000,-999.0000,9,-999.000,9, -999.00,9,  -999.0,9,    -9.0,-999.000,9,-999.000,   39.86,2,   43.98,2,  651.90,-999.0000,9,-999.0000,9,-999.0000,9,-999.0000,9,-999.0000,9,-999.0000,9,     -999.0,     -999.0,9,     -999.0,9,     -999.0,9,     -999.0,9,     -999.0,9,     -999.0,9, -999.00,9,   6.3306,-999.0000,-999.000
325020060213,       P16N,      14,          1,         19,         19,2,20060219,       1702,    -4.0002,  -151.0005,       4644,   749.7,   5.7955,  34.5517,2,  34.5514,2,     71.0,2,    71.2,2,   60.20,2,   40.10,2,    0.00,2,    2.74,2,   0.014,2,   0.009,2,-999.000,5,  2277.5,2,  2328.3,2,   -999.0,9,  -999.00,   7.4595,2,    25.00,-999.000,9,-999.000,-999.0000,9,-999.000,9, -999.00,9,  -999.0,9,    -9.0,-999.000,9,-999.000,   39.19,2,   44.10,2,  749.70,   0.1270,2,   0.0870,2,   0.0460,2,   0.0330,2,   0.0149,2,   0.0173,2,     -999.0,     -999.0,9,     -999.0,9,     -999.0,9,     -999.0,9,     -999.0,9,     -999.0,9, -999.00,9,   5.7298,-999.0000,-999.000
325020060213,       P16N,      14,          1,         18,         18,2,20060219,       1702,    -4.0002,  -151.0005,       4644,   850.5,   5.2624,  34.5482,2,  34.5494,2,     78.2,2,    78.6,2,   68.20,2,   39.90,2,    0.00,2,    2.76,2,-999.000,9,-999.000,9,-999.000,9,  2283.3,2,  2337.1,2,   -999.0,9,  -999.00,   7.4764,2,    25.00,-999.000,9,-999.000,-999.0000,9,-999.000,9, -999.00,9,  -999.0,9,    -9.0,-999.000,9,-999.000,   38.54,2,   44.02,2,  850.50,   0.1330,2,   0.0930,2,   0.0500,2,   0.0360,2,   0.0144,2,   0.0165,2,     -999.0,     -999.0,9,     -999.0,9,     -999.0,9,     -999.0,9,     -999.0,9,     -999.0,9, -999.00,9,   5.1907,-999.0000,-999.000
325020060213,       P16N,      14,          1,         17,         17,2,20060219,       1702,    -4.0002,  -151.0005,       4644,   951.2,   4.7558,  34.5442,2,  34.5437,2,     93.8,2,    94.1,2,   73.30,2,   39.10,2,    0.00,2,    2.70,2,   0.012,2,   0.008,2,-999.000,5,  2282.2,2,  -999.0,5,   -999.0,9,  -999.00,   7.4967,2,    25.00,-999.000,9,-999.000,-999.0000,9,-999.000,9, -999.00,9,  -999.0,9,    -9.0,-999.000,9,-999.000,   38.01,2,   43.23,2,  951.20,-999.0000,9,-999.0000,9,-999.0000,9,-999.0000,9,-999.0000,9,-999.0000,9,     -999.0,     -999.0,9,     -999.0,9,     -999.0,9,     -999.0,9,     -999.0,9,     -999.0,9, -999.00,9,   4.6786,-999.0000,-999.000
325020060213,       P16N,      14,          1,         16,         16,2,20060219,       1702,    -4.0002,  -151.0005,       4644,  1100.5,   4.1526,  34.5597,2,  34.5609,2,     91.7,2,    98.5,2,   87.10,2,   39.10,2,    0.00,2,    2.72,2,-999.000,9,-999.000,9,-999.000,9,  2295.9,2,  -999.0,5,   -999.0,9,  -999.00,   7.5016,2,    25.00,-999.000,9,-999.000,-999.0000,9,-999.000,9, -999.00,9,  -999.0,9,    -9.0,-999.000,9,-999.000,   37.74,2,   42.88,2, 1100.50,-999.0000,9,-999.0000,9,-999.0000,9,-999.0000,9,-999.0000,9,-999.0000,9,     -999.0,     -999.0,9,     -999.0,9,     -999.0,9,     -999.0,9,     -999.0,9,     -999.0,9, -999.00,9,   4.0671,-999.0000,-999.000
325020060213,       P16N,      14,          1,         15,         15,4,20060219,       1702,    -4.0002,  -151.0005,       4644,  1300.6,   3.4654,  34.5828,2,  34.5523,4,    103.1,2,    73.6,4,   62.70,4,   40.10,4,    0.00,4,    2.75,4,-999.000,9,-999.000,9,-999.000,9,  2279.1,4,  -999.0,5,   -999.0,9,  -999.00,-999.0000,9,  -999.00,-999.000,9,-999.000,-999.0000,9,-999.000,9, -999.00,9,  -999.0,9,    -9.0,-999.000,9,-999.000,   36.93,2,   43.57,2, 1300.60,   0.1250,2,   0.0870,2,   0.0460,2,   0.0320,2,   0.0157,2,   0.0176,2,     -999.0,     -999.0,9,     -999.0,9,     -999.0,9,     -999.0,9,     -999.0,9,     -999.0,9, -999.00,9,   3.3692,-999.0000,-999.000
325020060213,       P16N,      14,          1,         14,         14,2,20060219,       1702,    -4.0002,  -151.0005,       4644,  1500.5,   2.9824,  34.6030,2,  34.6020,2,    108.5,2,   108.4,2,  113.80,3,   39.00,2,    0.00,2,    2.73,2,  -0.005,2,   0.000,2,-999.000,5,  2319.1,2,  2388.2,2,   -999.0,9,  -999.00,   7.5146,2,    25.00,-999.000,9,-999.000,-999.0000,9,-999.000,9, -999.00,9,  -999.0,9,    -9.0,-999.000,9,-999.000,   37.59,2,   42.44,2, 1500.50,   0.1200,2,   0.0810,2,   0.0400,2,   0.0260,2,   0.0189,2,   0.0207,2,     -999.0,     -999.0,9,     -999.0,9,     -999.0,9,     -999.0,9,     -999.0,9,     -999.0,9, -999.00,9,   2.8747,-999.0000,-999.000
325020060213,       P16N,      14,          1,         13,         13,2,20060219,       1702,    -4.0002,  -151.0005,       4644,  1700.1,   2.6328,  34.6230,2,  34.6237,2,    108.1,2,   107.6,2,  125.00,2,   39.30,2,    0.00,2,    2.76,2,-999.000,9,-999.000,9,-999.000,9,  2329.7,2,  2399.4,3,   -999.0,9,  -999.00,   7.5120,2,    25.00,-999.000,9,-999.000,-999.0000,9,-999.000,9, -999.00,9,  -999.0,9,    -9.0,-999.000,9,-999.000,   37.09,2,   43.10,2, 1700.10,   0.1270,2,   0.0870,2,   0.0440,2,   0.0290,2,   0.0175,2,   0.0194,2,     -999.0,     -999.0,9,     -999.0,9,     -999.0,9,     -999.0,9,     -999.0,9,     -999.0,9, -999.00,9,   2.5126,-999.0000,-999.000
325020060213,       P16N,      14,          1,         12,         12,2,20060219,       1702,    -4.0002,  -151.0005,       4644,  1902.8,   2.3554,  34.6401,2,  34.6398,2,    108.6,2,   109.1,2,  134.20,2,   39.30,2,    0.00,2,    2.76,2,-999.000,9,-999.000,9,-999.000,9,  2336.7,2,  2410.5,2,   -999.0,9,  -999.00,   7.5158,2,    25.00,-999.000,9,-999.000,-999.0000,9,-999.000,9, -999.00,9,  -999.0,9,    -9.0,-999.000,9,-999.000,   37.20,2,   42.60,2, 1902.80,   0.1300,2,   0.0890,2,   0.0440,2,   0.0290,2,   0.0178,2,   0.0196,2,     -999.0,     -999.0,9,     -999.0,9,     -999.0,9,     -999.0,9,     -999.0,9,     -999.0,9, -999.00,9,   2.2218,-999.0000,-999.000
325020060213,       P16N,      14,          1,         11,         11,2,20060219,       1702,    -4.0002,  -151.0005,       4644,  2124.9,   2.1438,  34.6525,2,  34.6536,2,    113.7,2,   114.7,2,  139.00,2,   39.00,2,    0.00,2,    2.74,2,   0.004,2,   0.004,2,-999.000,5,  2338.7,2,  -999.0,5,   -999.0,9,  -999.00,   7.5247,2,    25.00,-999.000,9,-999.000,-999.0000,9,-999.000,9, -999.00,9,  -999.0,9,    -9.0,-999.000,9,-999.000,   37.66,2,   43.21,2, 2124.90,   0.1230,2,   0.0820,2,   0.0380,2,   0.0230,2,   0.0203,2,   0.0220,2,     -999.0,     -999.0,9,     -999.0,9,     -999.0,9,     -999.0,9,     -999.0,9,     -999.0,9, -999.00,9,   1.9944,-999.0000,-999.000
325020060213,       P16N,      14,          1,         10,         10,2,20060219,       1702,    -4.0002,  -151.0005,       4644,  2347.0,   1.9845,  34.6612,2,  34.6618,2,    120.0,2,   120.7,2,  141.10,2,   38.50,2,    0.00,2,    2.69,2,-999.000,1,-999.000,1,-999.000,9,  2338.2,2,  -999.0,5,   -999.0,9,  -999.00,   7.5454,2,    25.00,-999.000,9,-999.000,-999.0000,9,-999.000,9, -999.00,9,  -999.0,9,    -9.0,-999.000,9,-999.000,   37.07,2,   42.85,2, 2347.00,-999.0000,9,-999.0000,9,-999.0000,9,-999.0000,9,-999.0000,9,-999.0000,9,     -999.0,     -999.0,9,     -999.0,9,     -999.0,9,     -999.0,9,     -999.0,9,     -999.0,9, -999.00,9,   1.8183,-999.0000,-999.000
325020060213,       P16N,      14,          1,          9,          9,2,20060219,       1702,    -4.0002,  -151.0005,       4644,  2625.3,   1.8394,  34.6696,2,  34.6630,4,    128.5,2,   120.8,3,  141.70,2,   38.50,2,    0.00,2,    2.69,2,-999.000,9,-999.000,9,-999.000,9,  2338.6,2,  -999.0,5,   -999.0,9,  -999.00,   7.5345,2,    25.00,-999.000,9,-999.000,-999.0000,9,-999.000,9, -999.00,9,  -999.0,9,    -9.0,-999.000,9,-999.000,   37.01,2,   42.45,2, 2625.30,   0.1220,2,   0.0820,2,   0.0390,2,   0.0230,2,   0.0201,2,   0.0218,2,     -999.0,     -999.0,9,     -999.0,9,     -999.0,9,     -999.0,9,     -999.0,9,     -999.0,9, -999.00,9,   1.6507,-999.0000,-999.000