BOTTLE,20170720CCHSIOCBG
EXPOCODE,SECT_ID,STNNBR,CASTNO,SAMPNO,BTLNBR,BTLNBR_FLAG_W,DATE,TIME,LATITUDE,LONGITUDE,DEPTH,CTDPRS,CTDTMP,CTDSAL,CTDSAL_FLAG_W,SALNTY,SALNTY_FLAG_W,CTDOXY,CTDOXY_FLAG_W,OXYGEN,OXYGEN_FLAG_W,SILCAT,SILCAT_FLAG_W,NITRAT,NITRAT_FLAG_W,NITRIT,NITRIT_FLAG_W,PHSPHT,PHSPHT_FLAG_W,CFC-11,CFC-11_FLAG_W,CFC-12,CFC-12_FLAG_W,CFC113,CFC113_FLAG_W,TCARBN,TCARBN_FLAG_W,ALKALI,ALKALI_FLAG_W,FCO2,FCO2_FLAG_W,FCO2TMP,PH_TOT,PH_TOT_FLAG_W,PH_TMP,TRITUM,TRITUM_FLAG_W,TRITER,HELIUM,HELIUM_FLAG_W,DELHE3,DELHE3_FLAG_W,DELC13,DELC13_FLAG_W,DELC14,DELC14_FLAG_W,C14ERR,NEON,NEON_FLAG_W,NEONER,DOC,DOC_FLAG_W,TDN,TDN_FLAG_W,CTDRAW,CDOM325,CDOM325_FLAG_W,CDOM340,CDOM340_FLAG_W,CDOM380,CDOM380_FLAG_W,CDOM412,CDOM412_FLAG_W,CDOMSL,CDOMSL_FLAG_W,CDOMSN,CDOMSN_FLAG_W,DCNS,ARABI,ARABI_FLAG_W,FUCO,FUCO_FLAG_W,GALA,GALA_FLAG_W,GLUC,GLUC_FLAG_W,MAN,MAN_FLAG_W,RHAM,RHAM_FLAG_W,BRDU,BRDU_FLAG_W,THETA,HELIER,DELHER
,,,,,,,,,,,METERS,DBAR,ITS-90,PSS-78,,PSS-78,,UMOL/KG,,UMOL/KG,,UMOL/KG,,UMOL/KG,,UMOL/KG,,UMOL/KG,,PMOL/KG,,PMOL/KG,,PMOL/KG,,UMOL/KG,,UMOL/KG,,UATM,,DEG C,,,DEG C,TU,,TU,NMOL/KG,,PERCNT,,/MILLE,,/MILLE,,/MILLE,NMOL/KG,,NMOL/KG,UMOL/KG,,UMOL/KG,,DBAR,1/M,,1/M,,1/M,,1/M,,1/NM,,1/NM,,NMOL/KG,NMOL/KG,,NMOL/KG,,NMOL/KG,,NMOL/KG,,NMOL/KG,,NMOL/KG,,PMOL/L/H,,DEG C,NMOL/KG,PERCNT
325020060213,       P16N,      44,          1,          9,          9,2,20060312,       1330,    22.0003,  -152.0003,       5156,  2876.5,   1.6259,  34.6651,2,  34.6638,2,    116.4,2,   116.8,2,  160.40,2,   38.40,2,    0.00,2,    2.70,2,-999.000,9,-999.000,9,-999.000,9,  2353.6,2,  2432.1,2,   1362.2,2,    20.00,   7.5234,2,    25.00,-999.000,9,-999.000,-999.0000,9,-999.000,9, -999.00,9,  -999.0,9,    -9.0,-999.000,9,-999.000,   36.77,2,   41.70,2, 2876.50,-999.0000,9,-999.0000,9,-999.0000,9,-999.0000,9,-999.0000,9,-999.0000,9,     -999.0,     -999.0,9,     -999.0,9,     -999.0,9,     -999.0,9,     -999.0,9,     -999.0,9, -999.00,9,   1.4182,-999.0000,-999.000
325020060213,       P16N,      44,          1,          8,          8,2,20060312,       1330,    22.0003,  -152.0003,       5156,  3126.4,   1.5591,  34.6731,2,  34.6719,2,    124.1,2,   124.6,2,  159.80,2,   37.70,2,    0.00,2,    2.66,2,   0.002,2,   0.000,2,-999.000,5,  2350.3,2,  2434.8,2,   1311.2,2,    20.00,   7.5380,2,    25.00,-999.000,9,-999.000,-999.0000,9,-999.000,9, -999.00,9,  -999.0,9,    -9.0,-999.000,9,-999.000,   35.94,2,   41.53,2, 3126.40,-999.0000,9,-999.0000,9,-999.0000,9,-999.0000,9,-999.0000,9,-999.0000,9,     -999.0,     -999.0,9,     -999.0,9,     -999.0,9,     -999.0,9,     -999.0,9,     -999.0,9, -999.00,9,   1.3288,-999.0000,-999.000
325020060213,       P16N,      44,          1,          7,          7,2,20060312,       1330,    22.0003,  -152.0003,       5156,  3450.4,   1.5138,  34.6788,2,  34.6786,2,    132.2,2,   133.8,2,  158.00,2,   37.20,2,    0.00,2,    2.61,2,-999.000,9,-999.000,9,-999.000,9,  2343.3,2,  2427.5,6,   1272.9,2,    20.00,   7.5513,3,    25.00,-999.000,9,-999.000,-999.0000,9,-999.000,9, -999.00,9,  -999.0,9,    -9.0,-999.000,9,-999.000,   35.49,2,   40.90,2, 3450.40,-999.0000,9,-999.0000,9,-999.0000,9,-999.0000,9,-999.0000,9,-999.0000,9,     -999.0,     -999.0,9,     -999.0,9,     -999.0,9,     -999.0,9,     -999.0,9,     -999.0,9, -999.00,9,   1.2524,-999.0000,-999.000
325020060213,       P16N,      44,          1,          6,          6,2,20060312,       1330,    22.0003,  -152.0003,       5156,  3849.9,   1.4722,  34.6861,2,  34.6875,2,    143.1,2,   143.3,2,  154.00,2,   36.40,2,    0.00,2,    2.55,2,-999.000,9,-999.000,9,-999.000,9,  2336.0,2,  2425.6,2,   1218.3,2,    20.00,   7.5687,2,    25.00,-999.000,9,-999.000,-999.0000,9,-999.000,9, -999.00,9,  -999.0,9,    -9.0,-999.000,9,-999.000,   35.73,2,   39.99,2, 3849.90,-999.0000,9,-999.0000,9,-999.0000,9,-999.0000,9,-999.0000,9,-999.0000,9,     -999.0,     -999.0,9,     -999.0,9,     -999.0,9,     -999.0,9,     -999.0,9,     -999.0,9, -999.00,9,   1.1702,-999.0000,-999.000
325020060213,       P16N,      44,          1,          5,          5,2,20060312,       1330,    22.0003,  -152.0003,       5156,  4300.5,   1.4715,  34.6904,2,  34.6905,2,    150.6,2,   151.0,2,  149.70,2,   36.20,2,    0.00,2,    2.51,2,   0.005,2,   0.008,2,-999.000,5,  2328.9,2,  2422.6,2,   1179.5,2,    20.00,   7.5794,2,    25.00,-999.000,9,-999.000,-999.0000,9,-999.000,9, -999.00,9,  -999.0,9,    -9.0,-999.000,9,-999.000,   36.61,2,   39.30,2, 4300.50,-999.0000,9,-999.0000,9,-999.0000,9,-999.0000,9,-999.0000,9,-999.0000,9,     -999.0,     -999.0,9,     -999.0,9,     -999.0,9,     -999.0,9,     -999.0,9,     -999.0,9, -999.00,9,   1.1201,-999.0000,-999.000
325020060213,       P16N,      44,          1,          4,          4,2,20060312,       1330,    22.0003,  -152.0003,       5156,  4797.5,   1.4723,  34.6945,2,  34.6937,2,    160.1,2,   159.4,2,  142.70,6,   35.10,6,    0.00,6,    2.43,6,-999.000,9,-999.000,9,-999.000,9,  2319.0,2,  2422.6,2,   1146.7,6,    20.00,   7.5878,2,    25.00,-999.000,9,-999.000,-999.0000,9,-999.000,9, -999.00,9,  -999.0,9,    -9.0,-999.000,9,-999.000,   36.90,2,   38.20,2, 4797.50,-999.0000,9,-999.0000,9,-999.0000,9,-999.0000,9,-999.0000,9,-999.0000,9,     -999.0,     -999.0,9,     -999.0,9,     -999.0,9,     -999.0,9,     -999.0,9,     -999.0,9, -999.00,9,   1.0633,-999.0000,-999.000
325020060213,       P16N,      44,          1,          3,          3,2,20060312,       1330,    22.0003,  -152.0003,       5156,  5000.1,   1.4852,  34.6953,2,  34.6945,2,    162.4,2,   162.1,2,  141.20,6,   35.20,6,    0.00,6,    2.44,6,   0.008,2,   0.004,2,-999.000,5,  2317.2,2,  2420.9,2,   1140.4,2,    20.00,   7.5923,2,    25.00,-999.000,9,-999.000,-999.0000,9,-999.000,9, -999.00,9,  -999.0,9,    -9.0,-999.000,9,-999.000,   37.06,2,   38.71,2, 5000.10,-999.0000,9,-999.0000,9,-999.0000,9,-999.0000,9,-999.0000,9,-999.0000,9,     -999.0,     -999.0,9,     -999.0,9,     -999.0,9,     -999.0,9,     -999.0,9,     -999.0,9, -999.00,9,   1.0514,-999.0000,-999.000
325020060213,       P16N,      44,          1,          2,          2,2,20060312,       1330,    22.0003,  -152.0003,       5156,  5174.4,   1.5011,  34.6957,2,  34.6977,2,    162.8,2,   163.6,2,  140.50,6,   35.20,6,    0.00,6,    2.43,6,-999.000,9,-999.000,9,-999.000,9,  2315.2,2,  2424.1,2,   1124.9,2,    20.00,   7.5940,2,    25.00,-999.000,9,-999.000,-999.0000,9,-999.000,9, -999.00,9,  -999.0,9,    -9.0,-999.000,9,-999.000,   38.67,2,   38.55,2, 5174.40,-999.0000,9,-999.0000,9,-999.0000,9,-999.0000,9,-999.0000,9,-999.0000,9,     -999.0,     -999.0,9,     -999.0,9,     -999.0,9,     -999.0,9,     -999.0,9,     -999.0,9, -999.00,9,   1.0454,-999.0000,-999.000
325020060213,       P16N,      44,          1,          1,          1,2,20060312,       1330,    22.0003,  -152.0003,       5156,  5251.3,   1.5086,  34.6959,2,  34.6960,2,    163.8,2,   164.1,2,  140.50,2,   35.10,2,    0.00,2,    2.43,2,   0.002,2,   0.009,2,-999.000,5,  2315.8,2,  2422.6,2,   1128.8,2,    20.00,   7.5939,3,    25.00,-999.000,9,-999.000,-999.0000,9,-999.000,9, -999.00,9,  -999.0,9,    -9.0,-999.000,9,-999.000,   38.55,2,   40.25,2, 5251.30,-999.0000,9,-999.0000,9,-999.0000,9,-999.0000,9,-999.0000,9,-999.0000,9,     -999.0,     -999.0,9,     -999.0,9,     -999.0,9,     -999.0,9,     -999.0,9,     -999.0,9, -999.00,9,   1.0430,-999.0000,-999.000