BOTTLE,20170720CCHSIOCBG
EXPOCODE,SECT_ID,STNNBR,CASTNO,SAMPNO,BTLNBR,BTLNBR_FLAG_W,DATE,TIME,LATITUDE,LONGITUDE,DEPTH,CTDPRS,CTDTMP,CTDSAL,CTDSAL_FLAG_W,SALNTY,SALNTY_FLAG_W,CTDOXY,CTDOXY_FLAG_W,OXYGEN,OXYGEN_FLAG_W,SILCAT,SILCAT_FLAG_W,NITRAT,NITRAT_FLAG_W,NITRIT,NITRIT_FLAG_W,PHSPHT,PHSPHT_FLAG_W,CFC-11,CFC-11_FLAG_W,CFC-12,CFC-12_FLAG_W,CFC113,CFC113_FLAG_W,TCARBN,TCARBN_FLAG_W,ALKALI,ALKALI_FLAG_W,FCO2,FCO2_FLAG_W,FCO2TMP,PH_TOT,PH_TOT_FLAG_W,PH_TMP,TRITUM,TRITUM_FLAG_W,TRITER,HELIUM,HELIUM_FLAG_W,DELHE3,DELHE3_FLAG_W,DELC13,DELC13_FLAG_W,DELC14,DELC14_FLAG_W,C14ERR,NEON,NEON_FLAG_W,NEONER,DOC,DOC_FLAG_W,TDN,TDN_FLAG_W,CTDRAW,CDOM325,CDOM325_FLAG_W,CDOM340,CDOM340_FLAG_W,CDOM380,CDOM380_FLAG_W,CDOM412,CDOM412_FLAG_W,CDOMSL,CDOMSL_FLAG_W,CDOMSN,CDOMSN_FLAG_W,DCNS,ARABI,ARABI_FLAG_W,FUCO,FUCO_FLAG_W,GALA,GALA_FLAG_W,GLUC,GLUC_FLAG_W,MAN,MAN_FLAG_W,RHAM,RHAM_FLAG_W,BRDU,BRDU_FLAG_W,THETA,HELIER,DELHER
,,,,,,,,,,,METERS,DBAR,ITS-90,PSS-78,,PSS-78,,UMOL/KG,,UMOL/KG,,UMOL/KG,,UMOL/KG,,UMOL/KG,,UMOL/KG,,PMOL/KG,,PMOL/KG,,PMOL/KG,,UMOL/KG,,UMOL/KG,,UATM,,DEG C,,,DEG C,TU,,TU,NMOL/KG,,PERCNT,,/MILLE,,/MILLE,,/MILLE,NMOL/KG,,NMOL/KG,UMOL/KG,,UMOL/KG,,DBAR,1/M,,1/M,,1/M,,1/M,,1/NM,,1/NM,,NMOL/KG,NMOL/KG,,NMOL/KG,,NMOL/KG,,NMOL/KG,,NMOL/KG,,NMOL/KG,,PMOL/L/H,,DEG C,NMOL/KG,PERCNT
325020060213,       P16N,      60,          2,         36,         36,2,20060319,       2302,    37.9997,  -152.0005,       4930,     4.9,  13.0154,  33.8845,2,  33.8866,2,    264.0,2,   264.2,2,    2.60,2,    0.20,2,    0.00,2,    0.18,2,   3.109,2,   1.847,2,-999.000,5,  2013.5,6,  2237.1,2,   -999.0,9,  -999.00,   7.9234,6,    25.00,-999.000,9,-999.000,-999.0000,9,-999.000,9, -999.00,5,    58.4,2,     3.2,-999.000,9,-999.000,   57.72,2,    4.61,2,    4.90,   0.0790,2,   0.0540,2,   0.0170,2,   0.0040,3,   0.0013,3,   0.0271,3,     -999.0,     -999.0,9,     -999.0,9,     -999.0,9,     -999.0,9,     -999.0,9,     -999.0,9,  178.94,3,  13.0148,-999.0000,-999.000
325020060213,       P16N,      60,          2,         35,         35,2,20060319,       2302,    37.9997,  -152.0005,       4930,    15.0,  13.0122,  33.8838,2,  33.8850,2,    264.3,2,   264.8,2,    2.70,2,    0.10,2,    0.00,2,    0.18,2,   3.095,2,   1.840,2,-999.000,5,  2013.3,2,  2234.4,2,   -999.0,9,  -999.00,   7.9239,2,    25.00,-999.000,9,-999.000,-999.0000,9,-999.000,9, -999.00,9,  -999.0,9,    -9.0,-999.000,9,-999.000,   57.24,2,    3.68,2,   15.00,   0.0840,2,   0.0580,2,   0.0180,2,   0.0050,3,   0.0017,3,   0.0274,3,     -999.0,     -999.0,9,     -999.0,9,     -999.0,9,     -999.0,9,     -999.0,9,     -999.0,9,  101.36,3,  13.0102,-999.0000,-999.000
325020060213,       P16N,      60,          2,         34,         34,2,20060319,       2302,    37.9997,  -152.0005,       4930,    34.6,  12.9618,  33.8834,2,  33.8848,2,    264.8,2,   264.2,2,    2.70,2,    0.20,2,    0.00,2,    0.18,2,-999.000,9,-999.000,9,-999.000,9,  2012.4,2,  2236.7,2,   -999.0,9,  -999.00,   7.9248,2,    25.00,-999.000,9,-999.000,-999.0000,9,-999.000,9, -999.00,5,    51.1,2,     3.3,-999.000,9,-999.000,   57.54,2,    3.84,2,   34.60,   0.0800,2,   0.0560,2,   0.0170,2,   0.0050,3,   0.0019,3,   0.0268,3,     -999.0,     -999.0,9,     -999.0,9,     -999.0,9,     -999.0,9,     -999.0,9,     -999.0,9,  117.58,3,  12.9572,-999.0000,-999.000
325020060213,       P16N,      60,          2,         33,         33,2,20060319,       2302,    37.9997,  -152.0005,       4930,    60.2,  12.9661,  33.8873,2,  33.8895,2,    265.0,2,   263.1,2,    2.60,2,    0.20,2,    0.00,2,    0.18,2,   3.070,2,   1.831,2,-999.000,5,  2013.2,2,  2237.0,2,   -999.0,9,  -999.00,   7.9244,2,    25.00,-999.000,9,-999.000,-999.0000,9,-999.000,9, -999.00,9,  -999.0,9,    -9.0,-999.000,9,-999.000,   57.30,2,    4.04,2,   60.20,   0.0860,2,   0.0590,2,   0.0200,2,   0.0060,3,   0.0026,3,   0.0272,2,     -999.0,     -999.0,9,     -999.0,9,     -999.0,9,     -999.0,9,     -999.0,9,     -999.0,9,  111.69,3,  12.9580,-999.0000,-999.000
325020060213,       P16N,      60,          2,         32,         32,2,20060319,       2302,    37.9997,  -152.0005,       4930,    84.8,  12.9688,  33.8879,2,  33.8911,2,    263.4,2,   263.2,2,    2.60,2,    0.20,2,    0.00,2,    0.18,2,   3.110,2,   1.833,2,-999.000,5,  2013.6,2,  2237.4,2,   -999.0,9,  -999.00,   7.9253,2,    25.00,-999.000,9,-999.000,-999.0000,9,-999.000,9, -999.00,5,    54.4,2,     3.0,-999.000,9,-999.000,   56.34,2,    4.15,2,   84.80,   0.1410,2,   0.1070,2,   0.0490,2,   0.0240,2,   0.0193,2,   0.0192,2,     -999.0,     -999.0,9,     -999.0,9,     -999.0,9,     -999.0,9,     -999.0,9,     -999.0,9,  131.71,3,  12.9573,-999.0000,-999.000
325020060213,       P16N,      60,          2,         31,         31,2,20060319,       2302,    37.9997,  -152.0005,       4930,   109.8,  13.0843,  33.9323,2,  33.9348,2,    260.6,2,   260.3,2,    2.70,2,    0.30,2,    0.10,2,    0.19,2,   3.063,2,   1.815,2,-999.000,5,  2015.3,2,  2239.1,2,   -999.0,9,  -999.00,   7.9230,2,    25.00,-999.000,9,-999.000,-999.0000,9,-999.000,9, -999.00,5,    54.3,2,     3.0,-999.000,9,-999.000,   55.42,2,    4.01,2,  109.80,   0.0850,2,   0.0590,2,   0.0210,2,   0.0090,3,   0.0272,2,   0.0263,2,     -999.0,     -999.0,9,     -999.0,9,     -999.0,9,     -999.0,9,     -999.0,9,     -999.0,9,   74.99,3,  13.0694,-999.0000,-999.000
325020060213,       P16N,      60,          2,         30,         30,2,20060319,       2302,    37.9997,  -152.0005,       4930,   134.0,  11.9058,  34.0505,2,  34.0964,2,    224.7,2,   233.7,2,    7.70,2,    7.90,2,    0.00,2,    0.62,2,   3.301,2,   1.892,2,-999.000,5,  2064.2,2,  2252.0,2,   -999.0,9,  -999.00,   7.8465,2,    25.00,-999.000,9,-999.000,-999.0000,9,-999.000,9, -999.00,5,    47.5,2,     4.0,-999.000,9,-999.000,   51.30,2,   12.41,2,  134.00,   0.0840,2,   0.0580,2,   0.0210,2,   0.0100,3,   0.0273,2,   0.0266,2,     -999.0,     -999.0,9,     -999.0,9,     -999.0,9,     -999.0,9,     -999.0,9,     -999.0,9,  186.12,3,  11.8886,-999.0000,-999.000
325020060213,       P16N,      60,          2,         29,         29,2,20060319,       2302,    37.9997,  -152.0005,       4930,   175.3,  10.8496,  34.1349,2,  34.1364,2,    222.5,2,   222.6,2,   11.90,2,   12.40,2,    0.00,2,    0.86,2,   3.384,2,   1.924,2,-999.000,5,  2089.2,2,  2258.1,6,   -999.0,9,  -999.00,   7.7996,2,    25.00,-999.000,9,-999.000,-999.0000,9,-999.000,9, -999.00,5,    52.6,2,     3.7,-999.000,9,-999.000,   48.54,2,   17.00,2,  175.30,   0.0830,2,   0.0560,2,   0.0200,2,   0.0090,3,   0.0280,2,   0.0275,2,     -999.0,     -999.0,9,     -999.0,9,     -999.0,9,     -999.0,9,     -999.0,9,     -999.0,9,    2.52,3,  10.8284,-999.0000,-999.000
325020060213,       P16N,      60,          2,         28,         28,2,20060319,       2302,    37.9997,  -152.0005,       4930,   224.1,   9.9706,  34.1102,2,  34.1131,2,    219.8,2,   220.5,2,   16.00,2,   14.70,2,    0.00,2,    1.00,2,-999.000,9,-999.000,9,-999.000,9,  2101.6,2,  2260.4,2,   -999.0,9,  -999.00,   7.7738,2,    25.00,-999.000,9,-999.000,-999.0000,9,-999.000,9, -999.00,5,    49.7,2,     3.5,-999.000,9,-999.000,   47.89,2,   18.84,2,  224.10,   0.0840,2,   0.0560,2,   0.0210,2,   0.0090,3,   0.0277,2,   0.0274,2,     -999.0,     -999.0,9,     -999.0,9,     -999.0,9,     -999.0,9,     -999.0,9,     -999.0,9, -999.00,9,   9.9449,-999.0000,-999.000
325020060213,       P16N,      60,          2,         27,         27,2,20060319,       2302,    37.9997,  -152.0005,       4930,   275.0,   9.2954,  34.0777,2,  34.0787,2,    213.1,2,   214.4,2,   20.20,2,   16.70,2,    0.00,2,    1.14,2,   3.448,2,   1.921,2,-999.000,5,  2114.3,2,  2263.1,2,   -999.0,9,  -999.00,   7.7453,2,    25.00,-999.000,9,-999.000,-999.0000,9,-999.000,9, -999.00,5,    36.3,2,     3.4,-999.000,9,-999.000,   47.44,2,   21.11,2,  275.00,   0.0930,2,   0.0630,2,   0.0240,2,   0.0120,2,   0.0265,2,   0.0267,2,     -999.0,     -999.0,9,     -999.0,9,     -999.0,9,     -999.0,9,     -999.0,9,     -999.0,9, -999.00,9,   9.2652,-999.0000,-999.000
325020060213,       P16N,      60,          2,         26,         26,2,20060319,       2302,    37.9997,  -152.0005,       4930,   324.9,   8.5990,  34.0506,2,  34.0525,2,    196.0,2,   198.5,2,   26.00,2,   19.60,2,    0.00,2,    1.34,2,   3.271,2,   1.785,2,-999.000,5,  2134.7,2,  2268.1,2,   -999.0,9,  -999.00,   7.7027,2,    25.00,-999.000,9,-999.000,-999.0000,9,-999.000,9, -999.00,5,    28.1,2,     3.5,-999.000,9,-999.000,   47.18,2,   23.67,2,  324.90,   0.1100,2,   0.0760,2,   0.0320,2,   0.0180,2,   0.0227,2,   0.0237,2,    777.893,    33.8316,2,    20.5962,2,    57.5388,2,    520.577,3,    116.142,2,    29.2073,2, -999.00,9,   8.5649,-999.0000,-999.000
325020060213,       P16N,      60,          2,         25,         25,9,20060319,       2302,    37.9997,  -152.0005,       4930,   374.1,   7.7621,  34.0132,2,-999.0000,9,    177.6,2,  -999.0,9, -999.00,9, -999.00,9, -999.00,9, -999.00,9,-999.000,9,-999.000,9,-999.000,9,  -999.0,9,  -999.0,9,   -999.0,9,  -999.00,-999.0000,9,  -999.00,-999.000,9,-999.000,-999.0000,9,-999.000,9, -999.00,9,  -999.0,9,    -9.0,-999.000,9,-999.000, -999.00,9, -999.00,9,  374.10,-999.0000,9,-999.0000,9,-999.0000,9,-999.0000,9,-999.0000,9,-999.0000,9,     -999.0,     -999.0,9,     -999.0,9,     -999.0,9,     -999.0,9,     -999.0,9,     -999.0,9, -999.00,9,   7.7250,-999.0000,-999.000
325020060213,       P16N,      60,          2,         24,         24,2,20060319,       2302,    37.9997,  -152.0005,       4930,   423.0,   7.0050,  33.9908,2,  33.9910,2,    155.8,2,   156.1,2,   42.60,6,   26.70,2,    0.00,6,    1.82,6,   2.821,2,   1.451,2,-999.000,5,  2186.5,2,  2279.2,2,   -999.0,9,  -999.00,   7.5882,2,    25.00,-999.000,9,-999.000,-999.0000,9,-999.000,9, -999.00,5,   -24.4,2,     3.3,-999.000,9,-999.000,   45.20,2,   31.03,2,  423.00,   0.1360,2,   0.0950,2,   0.0440,2,   0.0270,2,   0.0190,2,   0.0208,2,     -999.0,     -999.0,9,     -999.0,9,     -999.0,9,     -999.0,9,     -999.0,9,     -999.0,9, -999.00,9,   6.9654,-999.0000,-999.000
325020060213,       P16N,      60,          2,         23,         23,2,20060319,       2302,    37.9997,  -152.0005,       4930,   472.7,   6.1565,  33.9865,2,  33.9878,2,    127.5,2,   129.2,2,   54.70,2,   30.90,2,    0.00,2,    2.13,2,   2.365,2,   1.183,2,-999.000,5,  2218.3,2,  2288.8,2,   -999.0,9,  -999.00,   7.5170,2,    25.00,-999.000,9,-999.000,-999.0000,9,-999.000,9, -999.00,5,   -39.2,2,     2.9,-999.000,9,-999.000,   43.86,2,   35.58,2,  472.70,   0.1470,2,   0.1030,2,   0.0500,2,   0.0310,2,   0.0176,2,   0.0195,2,     -999.0,     -999.0,9,     -999.0,9,     -999.0,9,     -999.0,9,     -999.0,9,     -999.0,9, -999.00,9,   6.1151,-999.0000,-999.000
325020060213,       P16N,      60,          2,         22,         22,2,20060319,       2302,    37.9997,  -152.0005,       4930,   549.1,   5.2495,  33.9987,2,  34.0029,2,     97.7,2,    97.7,2,   70.30,2,   35.30,2,    0.00,2,    2.47,2,   1.803,2,   0.880,2,-999.000,5,  2256.0,2,  2299.0,2,   -999.0,9,  -999.00,   7.4385,2,    25.00,-999.000,9,-999.000,-999.0000,9,-999.000,9, -999.00,5,   -73.2,2,     2.9,-999.000,9,-999.000,   43.62,2,   39.04,2,  549.10,   0.1600,2,   0.1130,2,   0.0570,2,   0.0380,2,   0.0161,2,   0.0180,2,     -999.0,     -999.0,9,     -999.0,9,     -999.0,9,     -999.0,9,     -999.0,9,     -999.0,9, -999.00,9,   5.2049,-999.0000,-999.000
325020060213,       P16N,      60,          2,         21,         21,2,20060319,       2302,    37.9997,  -152.0005,       4930,   649.6,   4.5036,  34.0663,2,  34.0674,2,     63.9,2,    64.5,2,   87.50,2,   39.40,2,    0.00,2,    2.75,2,   1.054,2,   0.503,2,-999.000,5,  2295.7,2,  2314.6,2,   -999.0,9,  -999.00,   7.3633,2,    25.00,-999.000,9,-999.000,-999.0000,9,-999.000,9, -999.00,5,  -111.7,2,     3.0,-999.000,9,-999.000,   43.67,2,   43.83,2,  649.60,   0.1690,2,   0.1200,2,   0.0620,2,   0.0420,2,   0.0155,2,   0.0173,2,     -999.0,     -999.0,9,     -999.0,9,     -999.0,9,     -999.0,9,     -999.0,9,     -999.0,9, -999.00,9,   4.4541,-999.0000,-999.000
325020060213,       P16N,      60,          2,         20,         20,2,20060319,       2302,    37.9997,  -152.0005,       4930,   749.9,   4.0989,  34.1481,2,  34.1519,2,     36.2,2,    37.7,2,  101.60,2,   42.00,2,    0.00,2,    2.93,2,   0.454,2,   0.220,2,-999.000,5,  2325.8,2,  2331.5,2,   -999.0,9,  -999.00,   7.3177,2,    25.00,-999.000,9,-999.000,-999.0000,9,-999.000,9, -999.00,5,  -145.1,2,     2.6,-999.000,9,-999.000,   42.87,2,   46.38,2,  749.90,   0.1870,2,   0.1350,2,   0.0710,2,   0.0500,2,   0.0147,2,   0.0163,2,     -999.0,     -999.0,9,     -999.0,9,     -999.0,9,     -999.0,9,     -999.0,9,     -999.0,9, -999.00,9,   4.0434,-999.0000,-999.000
325020060213,       P16N,      60,          2,         19,         19,2,20060319,       2302,    37.9997,  -152.0005,       4930,   850.0,   3.7930,  34.2093,2,  34.2115,2,     22.1,2,    22.5,2,  113.40,2,   43.30,2,    0.00,2,    3.04,2,   0.170,2,   0.087,2,-999.000,5,  2345.4,2,  2345.9,2,   -999.0,9,  -999.00,   7.2983,2,    25.00,-999.000,9,-999.000,-999.0000,9,-999.000,9, -999.00,5,  -165.4,2,     2.5,-999.000,9,-999.000,   41.72,2,   47.74,2,  850.00,   0.1800,2,   0.1300,2,   0.0700,2,   0.0500,2,   0.0142,2,   0.0157,2,     -999.0,     -999.0,9,     -999.0,9,     -999.0,9,     -999.0,9,     -999.0,9,     -999.0,9, -999.00,9,   3.7315,-999.0000,-999.000
325020060213,       P16N,      60,          2,         18,         18,2,20060319,       2302,    37.9997,  -152.0005,       4930,   949.0,   3.4873,  34.2722,2,  34.2730,2,     11.7,2,    13.0,2,  124.30,2,   44.40,2,    0.00,2,    3.12,2,   0.049,6,   0.025,6,-999.000,5,  2362.0,6,  2358.2,6,   -999.0,9,  -999.00,   7.2846,2,    25.00,-999.000,9,-999.000,-999.0000,9,-999.000,9, -999.00,9,  -999.0,9,    -9.0,-999.000,9,-999.000,   40.69,2,   47.99,2,  949.00,   0.1810,2,   0.1300,2,   0.0710,2,   0.0510,2,   0.0138,2,   0.0154,3,     -999.0,     -999.0,9,     -999.0,9,     -999.0,9,     -999.0,9,     -999.0,9,     -999.0,9, -999.00,9,   3.4200,-999.0000,-999.000
325020060213,       P16N,      60,          2,         17,         17,2,20060319,       2302,    37.9997,  -152.0005,       4930,  1100.5,   3.1108,  34.3587,2,  34.3596,2,      6.6,2,     7.7,2,  138.40,6,   44.80,6,    0.00,6,    3.17,6,   0.006,2,   0.007,2,-999.000,5,  2381.1,2,  2376.1,2,   -999.0,9,  -999.00,   7.2781,2,    25.00,-999.000,9,-999.000,-999.0000,9,-999.000,9, -999.00,9,  -999.0,9,    -9.0,-999.000,9,-999.000,   39.38,2,   48.31,2, 1100.50,   0.1840,2,   0.1320,2,   0.0730,2,   0.0540,2,   0.0134,3,   0.0149,3,     -999.0,     -999.0,9,     -999.0,9,     -999.0,9,     -999.0,9,     -999.0,9,     -999.0,9, -999.00,9,   3.0345,-999.0000,-999.000
325020060213,       P16N,      60,          2,         16,         16,2,20060319,       2302,    37.9997,  -152.0005,       4930,  1301.1,   2.8121,  34.4395,2,  34.4387,2,      8.5,2,     9.3,2,  149.60,2,   45.10,2,    0.00,2,    3.18,2,  -0.001,2,  -0.001,2,-999.000,5,  2391.0,2,  2392.6,2,   -999.0,9,  -999.00,   7.2912,2,    25.00,-999.000,9,-999.000,-999.0000,9,-999.000,9, -999.00,9,  -999.0,9,    -9.0,-999.000,9,-999.000,   38.03,2,   48.95,2, 1301.10,   0.1820,2,   0.1310,2,   0.0740,2,   0.0550,2,   0.0130,3,   0.0145,3,     -999.0,     -999.0,9,     -999.0,9,     -999.0,9,     -999.0,9,     -999.0,9,     -999.0,9, -999.00,9,   2.7227,-999.0000,-999.000
325020060213,       P16N,      60,          2,         15,         15,2,20060319,       2302,    37.9997,  -152.0005,       4930,  1500.1,   2.5104,  34.5114,2,  34.5115,2,     19.7,2,    20.1,2,  158.00,2,   44.80,2,    0.00,2,    3.13,2,-999.000,9,-999.000,9,-999.000,9,  2394.7,2,  2403.3,2,   -999.0,9,  -999.00,   7.3192,2,    25.00,-999.000,9,-999.000,-999.0000,9,-999.000,9, -999.00,9,  -999.0,9,    -9.0,-999.000,9,-999.000,   37.19,2,   48.30,2, 1500.10,   0.1740,2,   0.1240,2,   0.0690,2,   0.0510,2,   0.0131,3,   0.0148,3,     -999.0,     -999.0,9,     -999.0,9,     -999.0,9,     -999.0,9,     -999.0,9,     -999.0,9, -999.00,9,   2.4083,-999.0000,-999.000
325020060213,       P16N,      60,          2,         14,         14,2,20060319,       2302,    37.9997,  -152.0005,       4930,  1700.7,   2.2715,  34.5612,2,  34.5637,2,     37.8,2,    38.5,2,  163.40,2,   43.60,2,    0.00,2,    3.07,2,  -0.006,2,   0.003,2,-999.000,5,  2390.8,2,  2412.6,2,   -999.0,9,  -999.00,   7.3629,2,    25.00,-999.000,9,-999.000,-999.0000,9,-999.000,9, -999.00,9,  -999.0,9,    -9.0,-999.000,9,-999.000,   37.35,2,   47.41,2, 1700.70,   0.1670,2,   0.1190,2,   0.0650,2,   0.0480,2,   0.0132,3,   0.0151,3,     -999.0,     -999.0,9,     -999.0,9,     -999.0,9,     -999.0,9,     -999.0,9,     -999.0,9, -999.00,9,   2.1562,-999.0000,-999.000
325020060213,       P16N,      60,          2,         13,         13,2,20060319,       2302,    37.9997,  -152.0005,       4930,  1901.1,   2.0552,  34.5923,2,  34.5914,2,     51.5,2,    52.3,2,  168.10,2,   42.70,2,    0.00,2,    3.01,2,-999.000,9,-999.000,9,-999.000,9,  2387.0,2,  2418.2,2,   -999.0,9,  -999.00,   7.3933,2,    25.00,-999.000,9,-999.000,-999.0000,9,-999.000,9, -999.00,9,  -999.0,9,    -9.0,-999.000,9,-999.000,   36.63,2,   46.38,2, 1901.10,   0.1600,2,   0.1130,2,   0.0610,2,   0.0450,2,   0.0134,3,   0.0155,3,     -999.0,     -999.0,9,     -999.0,9,     -999.0,9,     -999.0,9,     -999.0,9,     -999.0,9, -999.00,9,   1.9263,-999.0000,-999.000
325020060213,       P16N,      60,          2,         12,         12,2,20060319,       2302,    37.9997,  -152.0005,       4930,  2124.6,   1.8686,  34.6157,2,  34.6164,2,     65.4,2,    65.6,2,  171.50,2,   42.00,2,    0.00,2,    2.95,2,-999.000,9,-999.000,9,-999.000,9,  2381.8,2,  2422.7,2,   -999.0,9,  -999.00,   7.4178,2,    25.00,-999.000,9,-999.000,-999.0000,9,-999.000,9, -999.00,9,  -999.0,9,    -9.0,-999.000,9,-999.000,   36.73,2,   45.30,2, 2124.60,   0.1510,2,   0.1050,2,   0.0560,2,   0.0410,2,   0.0138,3,   0.0161,3,     -999.0,     -999.0,9,     -999.0,9,     -999.0,9,     -999.0,9,     -999.0,9,     -999.0,9, -999.00,9,   1.7238,-999.0000,-999.000
325020060213,       P16N,      60,          2,         11,         11,2,20060319,       2302,    37.9997,  -152.0005,       4930,  2373.7,   1.7512,  34.6331,2,  34.6331,2,     80.2,2,    80.1,2,  170.40,2,   40.90,2,    0.00,2,    2.86,2,  -0.003,2,   0.002,2,-999.000,5,  2373.8,2,  2425.0,2,   -999.0,9,  -999.00,   7.4491,2,    25.00,-999.000,9,-999.000,-999.0000,9,-999.000,9, -999.00,9,  -999.0,9,    -9.0,-999.000,9,-999.000,   36.23,2,   44.65,2, 2373.70,   0.1500,2,   0.1040,2,   0.0560,2,   0.0420,2,   0.0134,3,   0.0159,3,     -999.0,     -999.0,9,     -999.0,9,     -999.0,9,     -999.0,9,     -999.0,9,     -999.0,9, -999.00,9,   1.5868,-999.0000,-999.000
325020060213,       P16N,      60,          2,         10,         10,2,20060319,       2302,    37.9997,  -152.0005,       4930,  2620.6,   1.6544,  34.6474,2,  34.6464,2,     95.3,2,    96.3,2,  168.20,2,   40.10,2,    0.00,2,    2.79,2,-999.000,9,-999.000,9,-999.000,9,  2363.5,2,  2427.3,2,   -999.0,9,  -999.00,   7.4752,2,    25.00,-999.000,9,-999.000,-999.0000,9,-999.000,9, -999.00,9,  -999.0,9,    -9.0,-999.000,9,-999.000,   36.42,2,   43.95,2, 2620.60,   0.1380,2,   0.0940,2,   0.0490,2,   0.0360,2,   0.0143,3,   0.0170,3,     -999.0,     -999.0,9,     -999.0,9,     -999.0,9,     -999.0,9,     -999.0,9,     -999.0,9, -999.00,9,   1.4698,-999.0000,-999.000