BOTTLE,20170720CCHSIOCBG
EXPOCODE,SECT_ID,STNNBR,CASTNO,SAMPNO,BTLNBR,BTLNBR_FLAG_W,DATE,TIME,LATITUDE,LONGITUDE,DEPTH,CTDPRS,CTDTMP,CTDSAL,CTDSAL_FLAG_W,SALNTY,SALNTY_FLAG_W,CTDOXY,CTDOXY_FLAG_W,OXYGEN,OXYGEN_FLAG_W,SILCAT,SILCAT_FLAG_W,NITRAT,NITRAT_FLAG_W,NITRIT,NITRIT_FLAG_W,PHSPHT,PHSPHT_FLAG_W,CFC-11,CFC-11_FLAG_W,CFC-12,CFC-12_FLAG_W,CFC113,CFC113_FLAG_W,TCARBN,TCARBN_FLAG_W,ALKALI,ALKALI_FLAG_W,FCO2,FCO2_FLAG_W,FCO2TMP,PH_TOT,PH_TOT_FLAG_W,PH_TMP,TRITUM,TRITUM_FLAG_W,TRITER,HELIUM,HELIUM_FLAG_W,DELHE3,DELHE3_FLAG_W,DELC13,DELC13_FLAG_W,DELC14,DELC14_FLAG_W,C14ERR,NEON,NEON_FLAG_W,NEONER,DOC,DOC_FLAG_W,TDN,TDN_FLAG_W,CTDRAW,CDOM325,CDOM325_FLAG_W,CDOM340,CDOM340_FLAG_W,CDOM380,CDOM380_FLAG_W,CDOM412,CDOM412_FLAG_W,CDOMSL,CDOMSL_FLAG_W,CDOMSN,CDOMSN_FLAG_W,DCNS,ARABI,ARABI_FLAG_W,FUCO,FUCO_FLAG_W,GALA,GALA_FLAG_W,GLUC,GLUC_FLAG_W,MAN,MAN_FLAG_W,RHAM,RHAM_FLAG_W,BRDU,BRDU_FLAG_W,THETA,HELIER,DELHER
,,,,,,,,,,,METERS,DBAR,ITS-90,PSS-78,,PSS-78,,UMOL/KG,,UMOL/KG,,UMOL/KG,,UMOL/KG,,UMOL/KG,,UMOL/KG,,PMOL/KG,,PMOL/KG,,PMOL/KG,,UMOL/KG,,UMOL/KG,,UATM,,DEG C,,,DEG C,TU,,TU,NMOL/KG,,PERCNT,,/MILLE,,/MILLE,,/MILLE,NMOL/KG,,NMOL/KG,UMOL/KG,,UMOL/KG,,DBAR,1/M,,1/M,,1/M,,1/M,,1/NM,,1/NM,,NMOL/KG,NMOL/KG,,NMOL/KG,,NMOL/KG,,NMOL/KG,,NMOL/KG,,NMOL/KG,,PMOL/L/H,,DEG C,NMOL/KG,PERCNT
325020060213,       P16N,      50,          1,          9,          9,2,20060315,       0828,    28.0002,  -152.0002,       5467,  2876.3,   1.5793,  34.6655,2,  34.6669,2,    115.6,2,   116.1,2,  164.00,2,   37.70,2,    0.00,2,    2.66,2,-999.000,9,-999.000,9,-999.000,9,  2354.4,2,  2428.0,2,   -999.0,5,  -999.00,   7.5199,2,    25.00,-999.000,9,-999.000,-999.0000,9,-999.000,9, -999.00,5,  -239.8,2,     2.1,-999.000,9,-999.000,   36.31,2,   41.73,2, 2876.30,-999.0000,9,-999.0000,9,-999.0000,9,-999.0000,9,-999.0000,9,-999.0000,9,     -999.0,     -999.0,9,     -999.0,9,     -999.0,9,     -999.0,9,     -999.0,9,     -999.0,9, -999.00,9,   1.3725,-999.0000,-999.000
325020060213,       P16N,      50,          1,          8,          8,2,20060315,       0828,    28.0002,  -152.0002,       5467,  3123.8,   1.5302,  34.6726,2,  34.6722,2,    124.5,2,   124.4,2,  161.90,2,   37.20,2,    0.00,2,    2.61,2,-999.000,9,-999.000,9,-999.000,9,  2348.3,2,  2425.0,2,   -999.0,5,  -999.00,   7.5361,2,    25.00,-999.000,9,-999.000,-999.0000,9,-999.000,9, -999.00,5,  -239.3,2,     2.6,-999.000,9,-999.000,   36.58,2,   40.79,2, 3123.80,-999.0000,9,-999.0000,9,-999.0000,9,-999.0000,9,-999.0000,9,-999.0000,9,     -999.0,     -999.0,9,     -999.0,9,     -999.0,9,     -999.0,9,     -999.0,9,     -999.0,9, -999.00,9,   1.3008,-999.0000,-999.000
325020060213,       P16N,      50,          1,          7,          7,2,20060315,       0828,    28.0002,  -152.0002,       5467,  3449.2,   1.4964,  34.6798,2,  34.6804,2,    133.8,2,   133.9,2,  158.80,2,   36.50,2,    0.00,2,    2.56,2,  -0.003,2,   0.019,3,-999.000,9,  2342.0,2,  2428.3,6,   -999.0,5,  -999.00,   7.5543,2,    25.00,-999.000,9,-999.000,-999.0000,9,-999.000,9, -999.00,5,  -249.9,2,     2.6,-999.000,9,-999.000,   36.37,2,   40.26,2, 3449.20,-999.0000,9,-999.0000,9,-999.0000,9,-999.0000,9,-999.0000,9,-999.0000,9,     -999.0,     -999.0,9,     -999.0,9,     -999.0,9,     -999.0,9,     -999.0,9,     -999.0,9, -999.00,9,   1.2355,-999.0000,-999.000
325020060213,       P16N,      50,          1,          6,          6,2,20060315,       0828,    28.0002,  -152.0002,       5467,  3849.6,   1.4798,  34.6853,2,  34.6865,2,    142.1,2,   142.3,2,  154.90,2,   36.20,2,    0.00,2,    2.52,2,-999.000,9,-999.000,9,-999.000,9,  2335.9,2,  2427.8,2,   -999.0,5,  -999.00,   7.5665,2,    25.00,-999.000,9,-999.000,-999.0000,9,-999.000,9, -999.00,5,  -239.7,2,     2.0,-999.000,9,-999.000,   36.80,2,   40.22,2, 3849.60,-999.0000,9,-999.0000,9,-999.0000,9,-999.0000,9,-999.0000,9,-999.0000,9,     -999.0,     -999.0,9,     -999.0,9,     -999.0,9,     -999.0,9,     -999.0,9,     -999.0,9, -999.00,9,   1.1776,-999.0000,-999.000
325020060213,       P16N,      50,          1,          5,          5,2,20060315,       0828,    28.0002,  -152.0002,       5467,  4299.0,   1.4889,  34.6888,2,  34.6893,2,    148.6,2,   148.5,2,  151.90,2,   35.80,2,    0.00,2,    2.48,2,   0.036,3,   0.006,2,-999.000,9,  2330.5,2,  2425.9,2,   -999.0,5,  -999.00,   7.5784,2,    25.00,-999.000,9,-999.000,-999.0000,9,-999.000,9, -999.00,5,  -999.0,5,    -9.0,-999.000,9,-999.000,   35.72,2,   39.39,2, 4299.00,-999.0000,9,-999.0000,9,-999.0000,9,-999.0000,9,-999.0000,9,-999.0000,9,     -999.0,     -999.0,9,     -999.0,9,     -999.0,9,     -999.0,9,     -999.0,9,     -999.0,9, -999.00,9,   1.1372,-999.0000,-999.000
325020060213,       P16N,      50,          1,          4,          4,2,20060315,       0828,    28.0002,  -152.0002,       5467,  4800.4,   1.4959,  34.6926,2,  34.6940,2,    157.0,2,   157.0,2,  145.50,6,   35.10,6,    0.00,6,    2.44,6,-999.000,9,-999.000,9,-999.000,9,  2321.9,2,  2417.4,2,   -999.0,5,  -999.00,   7.5868,2,    25.00,-999.000,9,-999.000,-999.0000,9,-999.000,9, -999.00,5,  -211.5,2,     2.6,-999.000,9,-999.000,   36.59,2,   38.30,2, 4800.40,-999.0000,9,-999.0000,9,-999.0000,9,-999.0000,9,-999.0000,9,-999.0000,9,     -999.0,     -999.0,9,     -999.0,9,     -999.0,9,     -999.0,9,     -999.0,9,     -999.0,9, -999.00,9,   1.0858,-999.0000,-999.000
325020060213,       P16N,      50,          1,          3,          3,2,20060315,       0828,    28.0002,  -152.0002,       5467,  4999.6,   1.5003,  34.6942,2,  34.6938,2,    160.2,2,   160.0,2,  142.80,6,   34.90,6,    0.00,6,    2.42,6,-999.000,9,-999.000,9,-999.000,9,  2318.3,2,  2412.4,2,   -999.0,5,  -999.00,   7.5906,2,    25.00,-999.000,9,-999.000,-999.0000,9,-999.000,9, -999.00,5,  -220.1,2,     2.4,-999.000,9,-999.000,   37.46,2,   38.54,2, 4999.60,-999.0000,9,-999.0000,9,-999.0000,9,-999.0000,9,-999.0000,9,-999.0000,9,     -999.0,     -999.0,9,     -999.0,9,     -999.0,9,     -999.0,9,     -999.0,9,     -999.0,9, -999.00,9,   1.0661,-999.0000,-999.000
325020060213,       P16N,      50,          1,          2,          2,2,20060315,       0828,    28.0002,  -152.0002,       5467,  5300.0,   1.5228,  34.6954,2,  34.6956,2,    163.1,2,   162.8,2,  140.90,6,   34.80,6,    0.00,6,    2.41,6,   0.001,2,  -0.001,2,-999.000,9,  2315.2,2,  2412.4,2,   -999.0,5,  -999.00,   7.5924,2,    25.00,-999.000,9,-999.000,-999.0000,9,-999.000,9, -999.00,5,  -207.5,2,     2.2,-999.000,9,-999.000,   37.11,2,   38.40,2, 5300.00,-999.0000,9,-999.0000,9,-999.0000,9,-999.0000,9,-999.0000,9,-999.0000,9,     -999.0,     -999.0,9,     -999.0,9,     -999.0,9,     -999.0,9,     -999.0,9,     -999.0,9, -999.00,9,   1.0507,-999.0000,-999.000
325020060213,       P16N,      50,          1,          1,          1,2,20060315,       0828,    28.0002,  -152.0002,       5467,  5615.4,   1.5589,  34.6955,2,  34.6973,2,    163.8,2,   163.7,2,  140.20,4,   34.70,4,    0.00,4,    2.40,4,   0.009,2,   0.010,2,-999.000,5,  2313.6,2,  2413.1,2,   -999.0,5,  -999.00,   7.5935,2,    25.00,-999.000,9,-999.000,-999.0000,9,-999.000,9, -999.00,5,  -209.7,2,     2.4,-999.000,9,-999.000,   36.15,2,   38.67,2, 5615.40,-999.0000,9,-999.0000,9,-999.0000,9,-999.0000,9,-999.0000,9,-999.0000,9,     -999.0,     -999.0,9,     -999.0,9,     -999.0,9,     -999.0,9,     -999.0,9,     -999.0,9, -999.00,9,   1.0453,-999.0000,-999.000