BOTTLE,20170720CCHSIOCBG
EXPOCODE,SECT_ID,STNNBR,CASTNO,SAMPNO,BTLNBR,BTLNBR_FLAG_W,DATE,TIME,LATITUDE,LONGITUDE,DEPTH,CTDPRS,CTDTMP,CTDSAL,CTDSAL_FLAG_W,SALNTY,SALNTY_FLAG_W,CTDOXY,CTDOXY_FLAG_W,OXYGEN,OXYGEN_FLAG_W,SILCAT,SILCAT_FLAG_W,NITRAT,NITRAT_FLAG_W,NITRIT,NITRIT_FLAG_W,PHSPHT,PHSPHT_FLAG_W,CFC-11,CFC-11_FLAG_W,CFC-12,CFC-12_FLAG_W,CFC113,CFC113_FLAG_W,TCARBN,TCARBN_FLAG_W,ALKALI,ALKALI_FLAG_W,FCO2,FCO2_FLAG_W,FCO2TMP,PH_TOT,PH_TOT_FLAG_W,PH_TMP,TRITUM,TRITUM_FLAG_W,TRITER,HELIUM,HELIUM_FLAG_W,DELHE3,DELHE3_FLAG_W,DELC13,DELC13_FLAG_W,DELC14,DELC14_FLAG_W,C14ERR,NEON,NEON_FLAG_W,NEONER,DOC,DOC_FLAG_W,TDN,TDN_FLAG_W,CTDRAW,CDOM325,CDOM325_FLAG_W,CDOM340,CDOM340_FLAG_W,CDOM380,CDOM380_FLAG_W,CDOM412,CDOM412_FLAG_W,CDOMSL,CDOMSL_FLAG_W,CDOMSN,CDOMSN_FLAG_W,DCNS,ARABI,ARABI_FLAG_W,FUCO,FUCO_FLAG_W,GALA,GALA_FLAG_W,GLUC,GLUC_FLAG_W,MAN,MAN_FLAG_W,RHAM,RHAM_FLAG_W,BRDU,BRDU_FLAG_W,THETA,HELIER,DELHER
,,,,,,,,,,,METERS,DBAR,ITS-90,PSS-78,,PSS-78,,UMOL/KG,,UMOL/KG,,UMOL/KG,,UMOL/KG,,UMOL/KG,,UMOL/KG,,PMOL/KG,,PMOL/KG,,PMOL/KG,,UMOL/KG,,UMOL/KG,,UATM,,DEG C,,,DEG C,TU,,TU,NMOL/KG,,PERCNT,,/MILLE,,/MILLE,,/MILLE,NMOL/KG,,NMOL/KG,UMOL/KG,,UMOL/KG,,DBAR,1/M,,1/M,,1/M,,1/M,,1/NM,,1/NM,,NMOL/KG,NMOL/KG,,NMOL/KG,,NMOL/KG,,NMOL/KG,,NMOL/KG,,NMOL/KG,,PMOL/L/H,,DEG C,NMOL/KG,PERCNT
325020060213,       P16N,      63,          1,         36,         36,2,20060321,       0837,         41,       -152,       4995,     4.8,   9.6212,  33.0405,2,  33.0409,2,    287.1,2,   284.9,2,    0.60,2,    3.70,2,    0.20,2,    0.55,2,   3.786,2,   2.189,2,-999.000,5,  2016.9,6,  2208.5,2,   -999.0,9,  -999.00,   7.8748,6,    25.00,-999.000,9,-999.000,-999.0000,9,-999.000,9, -999.00,9,  -999.0,9,    -9.0,-999.000,9,-999.000,   57.08,2,    8.38,2,    4.80,-999.0000,9,-999.0000,9,-999.0000,9,-999.0000,9,-999.0000,9,-999.0000,9,     -999.0,     -999.0,9,     -999.0,9,     -999.0,9,     -999.0,9,     -999.0,9,     -999.0,9, -999.00,9,   9.6207,-999.0000,-999.000
325020060213,       P16N,      63,          1,         35,         35,2,20060321,       0837,         41,       -152,       4995,    26.7,   9.6239,  33.0381,2,  33.0403,2,    287.9,2,   286.3,2,    0.60,2,    3.70,2,    0.20,2,    0.55,2,   3.801,2,   2.208,2,-999.000,5,  2017.3,2,  2207.0,2,   -999.0,9,  -999.00,   7.8738,2,    25.00,-999.000,9,-999.000,-999.0000,9,-999.000,9, -999.00,9,  -999.0,9,    -9.0,-999.000,9,-999.000,   54.11,2,    7.81,2,   26.70,-999.0000,9,-999.0000,9,-999.0000,9,-999.0000,9,-999.0000,9,-999.0000,9,     -999.0,     -999.0,9,     -999.0,9,     -999.0,9,     -999.0,9,     -999.0,9,     -999.0,9, -999.00,9,   9.6210,-999.0000,-999.000
325020060213,       P16N,      63,          1,         34,         34,2,20060321,       0837,         41,       -152,       4995,    51.7,   9.6311,  33.0411,2,  33.0408,2,    288.8,2,   284.8,2,    0.60,2,    3.70,2,    0.20,2,    0.55,2,   3.795,2,   2.181,2,-999.000,5,  2016.9,2,  2205.3,2,   -999.0,9,  -999.00,   7.8748,3,    25.00,-999.000,9,-999.000,-999.0000,9,-999.000,9, -999.00,9,  -999.0,9,    -9.0,-999.000,9,-999.000,   53.05,2,    8.39,2,   51.70,-999.0000,9,-999.0000,9,-999.0000,9,-999.0000,9,-999.0000,9,-999.0000,9,     -999.0,     -999.0,9,     -999.0,9,     -999.0,9,     -999.0,9,     -999.0,9,     -999.0,9, -999.00,9,   9.6254,-999.0000,-999.000
325020060213,       P16N,      63,          1,         33,         33,9,20060321,       0837,         41,       -152,       4995,    74.3,   9.6303,  33.0408,2,-999.0000,9,    285.7,2,  -999.0,9, -999.00,9, -999.00,9, -999.00,9, -999.00,9,-999.000,9,-999.000,9,-999.000,9,  -999.0,9,  -999.0,9,   -999.0,9,  -999.00,-999.0000,9,  -999.00,-999.000,9,-999.000,-999.0000,9,-999.000,9, -999.00,9,  -999.0,9,    -9.0,-999.000,9,-999.000, -999.00,9, -999.00,9,   74.30,-999.0000,9,-999.0000,9,-999.0000,9,-999.0000,9,-999.0000,9,-999.0000,9,     -999.0,     -999.0,9,     -999.0,9,     -999.0,9,     -999.0,9,     -999.0,9,     -999.0,9, -999.00,9,   9.6221,-999.0000,-999.000
325020060213,       P16N,      63,          1,         32,         32,2,20060321,       0837,         41,       -152,       4995,   101.9,   9.6966,  33.1881,2,  33.2131,2,    271.8,2,   272.0,2,    3.50,2,    5.10,2,    0.20,2,    0.61,2,   3.745,2,   2.176,2,-999.000,5,  2030.1,2,  2212.4,2,   -999.0,9,  -999.00,   7.8558,2,    25.00,-999.000,9,-999.000,-999.0000,9,-999.000,9, -999.00,9,  -999.0,9,    -9.0,-999.000,9,-999.000,   52.38,2,    9.64,2,  101.90,-999.0000,9,-999.0000,9,-999.0000,9,-999.0000,9,-999.0000,9,-999.0000,9,     -999.0,     -999.0,9,     -999.0,9,     -999.0,9,     -999.0,9,     -999.0,9,     -999.0,9, -999.00,9,   9.6853,-999.0000,-999.000
325020060213,       P16N,      63,          1,         31,         31,2,20060321,       0837,         41,       -152,       4995,   126.7,   9.6736,  33.5988,2,  33.5990,2,    251.8,2,   220.0,4,    9.70,2,    9.60,2,    0.10,2,    0.79,2,   3.722,2,   2.117,2,-999.000,5,  2061.3,2,  2228.4,2,   -999.0,9,  -999.00,   7.8129,2,    25.00,-999.000,9,-999.000,-999.0000,9,-999.000,9, -999.00,9,  -999.0,9,    -9.0,-999.000,9,-999.000,   51.53,2,   13.86,2,  126.70,-999.0000,9,-999.0000,9,-999.0000,9,-999.0000,9,-999.0000,9,-999.0000,9,     -999.0,     -999.0,9,     -999.0,9,     -999.0,9,     -999.0,9,     -999.0,9,     -999.0,9, -999.00,9,   9.6596,-999.0000,-999.000
325020060213,       P16N,      63,          1,         30,         30,2,20060321,       0837,         41,       -152,       4995,   149.5,   9.5261,  33.8671,2,  33.8720,2,    242.1,2,   237.8,2,   13.70,2,   12.50,2,    0.00,2,    0.91,2,   3.705,2,   2.098,2,-999.000,5,  2084.1,2,  2243.6,2,   -999.0,9,  -999.00,   7.7885,2,    25.00,-999.000,9,-999.000,-999.0000,9,-999.000,9, -999.00,9,  -999.0,9,    -9.0,-999.000,9,-999.000,   47.62,2,   17.24,2,  149.50,-999.0000,9,-999.0000,9,-999.0000,9,-999.0000,9,-999.0000,9,-999.0000,9,     -999.0,     -999.0,9,     -999.0,9,     -999.0,9,     -999.0,9,     -999.0,9,     -999.0,9, -999.00,9,   9.5095,-999.0000,-999.000
325020060213,       P16N,      63,          1,         29,         29,2,20060321,       0837,         41,       -152,       4995,   202.0,   9.0680,  34.0198,2,  34.0168,2,    228.4,2,   225.0,2,   19.70,2,   16.20,2,    0.00,2,    1.10,2,   3.673,2,   2.068,2,-999.000,5,  2109.7,2,  2257.9,6,   -999.0,9,  -999.00,   7.7532,2,    25.00,-999.000,9,-999.000,-999.0000,9,-999.000,9, -999.00,9,  -999.0,9,    -9.0,-999.000,9,-999.000,   47.15,2,   19.91,2,  202.00,-999.0000,9,-999.0000,9,-999.0000,9,-999.0000,9,-999.0000,9,-999.0000,9,     -999.0,     -999.0,9,     -999.0,9,     -999.0,9,     -999.0,9,     -999.0,9,     -999.0,9, -999.00,9,   9.0462,-999.0000,-999.000
325020060213,       P16N,      63,          1,         28,         28,2,20060321,       0837,         41,       -152,       4995,   250.7,   8.2886,  33.9857,2,  33.9876,2,    218.0,2,   217.7,2,   24.40,2,   18.30,2,    0.00,2,    1.26,2,   3.610,2,   1.995,2,-999.000,5,  2123.4,2,  2261.7,2,   -999.0,9,  -999.00,   7.7225,2,    25.00,-999.000,9,-999.000,-999.0000,9,-999.000,9, -999.00,9,  -999.0,9,    -9.0,-999.000,9,-999.000,   46.29,2,   22.41,2,  250.70,-999.0000,9,-999.0000,9,-999.0000,9,-999.0000,9,-999.0000,9,-999.0000,9,     -999.0,     -999.0,9,     -999.0,9,     -999.0,9,     -999.0,9,     -999.0,9,     -999.0,9, -999.00,9,   8.2629,-999.0000,-999.000
325020060213,       P16N,      63,          1,         27,         27,2,20060321,       0837,         41,       -152,       4995,   303.0,   7.6766,  33.9766,2,  33.9773,2,    194.5,2,   196.2,2,   31.30,2,   21.70,2,    0.00,2,    1.46,2,   3.410,2,   1.851,2,-999.000,5,  2148.2,2,  2267.1,2,   -999.0,9,  -999.00,   7.6703,2,    25.00,-999.000,9,-999.000,-999.0000,9,-999.000,9, -999.00,9,  -999.0,9,    -9.0,-999.000,9,-999.000,   45.63,2,   25.53,2,  303.00,-999.0000,9,-999.0000,9,-999.0000,9,-999.0000,9,-999.0000,9,-999.0000,9,     -999.0,     -999.0,9,     -999.0,9,     -999.0,9,     -999.0,9,     -999.0,9,     -999.0,9, -999.00,9,   7.6470,-999.0000,-999.000
325020060213,       P16N,      63,          1,         26,         26,2,20060321,       0837,         41,       -152,       4995,   350.1,   7.0899,  33.9702,2,  33.9679,2,    175.4,2,   173.1,2,   39.20,2,   25.10,2,    0.00,2,    1.71,2,   3.181,2,   1.678,2,-999.000,5,  2174.1,2,  2272.5,2,   -999.0,9,  -999.00,   7.6157,2,    25.00,-999.000,9,-999.000,-999.0000,9,-999.000,9, -999.00,9,  -999.0,9,    -9.0,-999.000,9,-999.000,   44.90,2,   29.21,2,  350.10,-999.0000,9,-999.0000,9,-999.0000,9,-999.0000,9,-999.0000,9,-999.0000,9,     -999.0,     -999.0,9,     -999.0,9,     -999.0,9,     -999.0,9,     -999.0,9,     -999.0,9, -999.00,9,   7.0570,-999.0000,-999.000
325020060213,       P16N,      63,          1,         25,         25,2,20060321,       0837,         41,       -152,       4995,   400.8,   6.2778,  33.9412,2,  33.9419,2,    156.9,2,   155.0,2,   48.20,2,   28.20,2,    0.00,2,    1.93,2,   2.949,2,   1.553,2,-999.000,5,  2197.4,2,  2275.8,2,   -999.0,9,  -999.00,   7.5630,3,    25.00,-999.000,9,-999.000,-999.0000,9,-999.000,9, -999.00,9,  -999.0,9,    -9.0,-999.000,9,-999.000,   44.71,2,   32.47,2,  400.80,-999.0000,9,-999.0000,9,-999.0000,9,-999.0000,9,-999.0000,9,-999.0000,9,     -999.0,     -999.0,9,     -999.0,9,     -999.0,9,     -999.0,9,     -999.0,9,     -999.0,9, -999.00,9,   6.2426,-999.0000,-999.000
325020060213,       P16N,      63,          1,         24,         24,2,20060321,       0837,         41,       -152,       4995,   450.6,   5.9700,  33.9611,2,  33.9592,2,    132.2,2,   132.8,2,   55.80,2,   30.70,2,    0.00,2,    2.13,2,   2.615,2,   1.341,2,-999.000,5,  2217.9,2,  2281.4,2,   -999.0,9,  -999.00,   7.5164,2,    25.00,-999.000,9,-999.000,-999.0000,9,-999.000,9, -999.00,9,  -999.0,9,    -9.0,-999.000,9,-999.000,   44.06,2,   34.56,2,  450.60,-999.0000,9,-999.0000,9,-999.0000,9,-999.0000,9,-999.0000,9,-999.0000,9,     -999.0,     -999.0,9,     -999.0,9,     -999.0,9,     -999.0,9,     -999.0,9,     -999.0,9, -999.00,9,   5.9313,-999.0000,-999.000
325020060213,       P16N,      63,          1,         23,         23,2,20060321,       0837,         41,       -152,       4995,   500.5,   5.4583,  33.9872,2,  33.9839,2,    107.2,2,   107.6,2,   66.60,2,   33.90,2,    0.00,2,    2.36,2,   2.121,2,   1.052,2,-999.000,5,  2244.4,2,  2289.1,2,   -999.0,9,  -999.00,   7.4613,2,    25.00,-999.000,9,-999.000,-999.0000,9,-999.000,9, -999.00,9,  -999.0,9,    -9.0,-999.000,9,-999.000,   43.50,2,   37.53,2,  500.50,-999.0000,9,-999.0000,9,-999.0000,9,-999.0000,9,-999.0000,9,-999.0000,9,     -999.0,     -999.0,9,     -999.0,9,     -999.0,9,     -999.0,9,     -999.0,9,     -999.0,9, -999.00,9,   5.4171,-999.0000,-999.000
325020060213,       P16N,      63,          1,         22,         22,2,20060321,       0837,         41,       -152,       4995,   599.2,   4.6246,  34.0520,2,  34.0515,2,     72.4,2,    76.8,2,   86.00,2,   38.50,2,    0.00,2,    2.70,2,   1.336,2,   0.662,2,-999.000,5,  2287.1,2,  2308.1,2,   -999.0,9,  -999.00,   7.3836,2,    25.00,-999.000,9,-999.000,-999.0000,9,-999.000,9, -999.00,9,  -999.0,9,    -9.0,-999.000,9,-999.000,   42.52,2,   42.19,2,  599.20,-999.0000,9,-999.0000,9,-999.0000,9,-999.0000,9,-999.0000,9,-999.0000,9,     -999.0,     -999.0,9,     -999.0,9,     -999.0,9,     -999.0,9,     -999.0,9,     -999.0,9, -999.00,9,   4.5786,-999.0000,-999.000
325020060213,       P16N,      63,          1,         21,         21,2,20060321,       0837,         41,       -152,       4995,   698.6,   4.1861,  34.1241,2,  34.1221,2,     47.6,2,    48.0,2,   99.40,2,   40.90,2,    0.00,2,    2.88,2,   0.807,2,   0.388,2,-999.000,5,  2314.8,2,  2324.9,2,   -999.0,9,  -999.00,   7.3357,2,    25.00,-999.000,9,-999.000,-999.0000,9,-999.000,9, -999.00,9,  -999.0,9,    -9.0,-999.000,9,-999.000,   41.48,2,   44.58,2,  698.60,-999.0000,9,-999.0000,9,-999.0000,9,-999.0000,9,-999.0000,9,-999.0000,9,     -999.0,     -999.0,9,     -999.0,9,     -999.0,9,     -999.0,9,     -999.0,9,     -999.0,9, -999.00,9,   4.1342,-999.0000,-999.000
325020060213,       P16N,      63,          1,         20,         20,2,20060321,       0837,         41,       -152,       4995,   800.6,   3.8456,  34.2043,2,  34.2031,2,     33.5,2,    32.3,2,  113.00,2,   42.30,2,    0.00,2,    2.98,2,   0.393,2,   0.168,2,-999.000,5,  2337.5,2,  2340.3,2,   -999.0,9,  -999.00,   7.3159,2,    25.00,-999.000,9,-999.000,-999.0000,9,-999.000,9, -999.00,9,  -999.0,9,    -9.0,-999.000,9,-999.000,   40.98,2,   46.56,2,  800.60,-999.0000,9,-999.0000,9,-999.0000,9,-999.0000,9,-999.0000,9,-999.0000,9,     -999.0,     -999.0,9,     -999.0,9,     -999.0,9,     -999.0,9,     -999.0,9,     -999.0,9, -999.00,9,   3.7876,-999.0000,-999.000
325020060213,       P16N,      63,          1,         19,         19,2,20060321,       0837,         41,       -152,       4995,   900.3,   3.5369,  34.2660,2,  34.2644,2,     21.4,2,    20.9,2,  123.70,2,   43.40,2,    0.00,2,    3.07,2,   0.172,2,   0.072,2,-999.000,5,  2355.8,2,  2351.9,2,   -999.0,9,  -999.00,   7.3006,2,    25.00,-999.000,9,-999.000,-999.0000,9,-999.000,9, -999.00,9,  -999.0,9,    -9.0,-999.000,9,-999.000,   39.70,2,   47.19,2,  900.30,-999.0000,9,-999.0000,9,-999.0000,9,-999.0000,9,-999.0000,9,-999.0000,9,     -999.0,     -999.0,9,     -999.0,9,     -999.0,9,     -999.0,9,     -999.0,9,     -999.0,9, -999.00,9,   3.4730,-999.0000,-999.000
325020060213,       P16N,      63,          1,         18,         18,2,20060321,       0837,         41,       -152,       4995,  1000.3,   3.2819,  34.3149,2,  34.3144,2,     15.4,2,    14.7,2,  132.40,2,   44.20,2,    0.00,2,    3.13,2,   0.066,3,   0.025,6,-999.000,5,  2368.4,2,  2363.4,6,   -999.0,9,  -999.00,   7.2969,2,    25.00,-999.000,9,-999.000,-999.0000,9,-999.000,9, -999.00,9,  -999.0,9,    -9.0,-999.000,9,-999.000,   39.40,2,   47.75,2, 1000.30,-999.0000,9,-999.0000,9,-999.0000,9,-999.0000,9,-999.0000,9,-999.0000,9,     -999.0,     -999.0,9,     -999.0,9,     -999.0,9,     -999.0,9,     -999.0,9,     -999.0,9, -999.00,9,   3.2121,-999.0000,-999.000
325020060213,       P16N,      63,          1,         17,         17,2,20060321,       0837,         41,       -152,       4995,  1200.2,   2.8568,  34.3996,2,  34.3967,2,      9.0,2,     8.8,2,  147.00,2,   44.70,2,    0.00,2,    3.19,2,-999.000,9,-999.000,9,-999.000,9,  2387.5,6,  -999.0,5,   -999.0,9,  -999.00,   7.2889,2,    25.00,-999.000,9,-999.000,-999.0000,9,-999.000,9, -999.00,9,  -999.0,9,    -9.0,-999.000,9,-999.000,   38.67,2,   48.78,2, 1200.20,-999.0000,9,-999.0000,9,-999.0000,9,-999.0000,9,-999.0000,9,-999.0000,9,     -999.0,     -999.0,9,     -999.0,9,     -999.0,9,     -999.0,9,     -999.0,9,     -999.0,9, -999.00,9,   2.7750,-999.0000,-999.000
325020060213,       P16N,      63,          1,         16,         16,2,20060321,       0837,         41,       -152,       4995,  1399.0,   2.5697,  34.4645,2,  34.4631,2,     10.3,2,    10.1,2,  157.10,2,   44.80,2,    0.00,2,    3.19,2,   0.000,2,  -0.001,2,-999.000,5,  2397.0,2,  2394.3,2,   -999.0,9,  -999.00,   7.2959,2,    25.00,-999.000,9,-999.000,-999.0000,9,-999.000,9, -999.00,9,  -999.0,9,    -9.0,-999.000,9,-999.000,   37.86,2,   48.13,2, 1399.00,-999.0000,9,-999.0000,9,-999.0000,9,-999.0000,9,-999.0000,9,-999.0000,9,     -999.0,     -999.0,9,     -999.0,9,     -999.0,9,     -999.0,9,     -999.0,9,     -999.0,9, -999.00,9,   2.4751,-999.0000,-999.000
325020060213,       P16N,      63,          1,         15,         15,2,20060321,       0837,         41,       -152,       4995,  1599.7,   2.3194,  34.5176,2,  34.5152,2,     19.3,2,    19.0,2,  164.20,2,   44.40,2,    0.00,2,    3.15,2,-999.000,9,-999.000,9,-999.000,9,  2398.9,2,  2403.5,2,   -999.0,9,  -999.00,   7.3193,2,    25.00,-999.000,9,-999.000,-999.0000,9,-999.000,9, -999.00,9,  -999.0,9,    -9.0,-999.000,9,-999.000,   38.19,2,   48.21,2, 1599.70,-999.0000,9,-999.0000,9,-999.0000,9,-999.0000,9,-999.0000,9,-999.0000,9,     -999.0,     -999.0,9,     -999.0,9,     -999.0,9,     -999.0,9,     -999.0,9,     -999.0,9, -999.00,9,   2.2117,-999.0000,-999.000
325020060213,       P16N,      63,          1,         14,         14,2,20060321,       0837,         41,       -152,       4995,  1798.8,   2.1187,  34.5591,2,  34.5580,2,     34.1,2,    33.7,2,  168.90,2,   43.50,2,    0.00,2,    3.09,2,-999.000,9,-999.000,9,-999.000,9,  2395.0,2,  2411.5,2,   -999.0,9,  -999.00,   7.3510,2,    25.00,-999.000,9,-999.000,-999.0000,9,-999.000,9, -999.00,9,  -999.0,9,    -9.0,-999.000,9,-999.000,   37.55,2,   47.10,2, 1798.80,-999.0000,9,-999.0000,9,-999.0000,9,-999.0000,9,-999.0000,9,-999.0000,9,     -999.0,     -999.0,9,     -999.0,9,     -999.0,9,     -999.0,9,     -999.0,9,     -999.0,9, -999.00,9,   1.9975,-999.0000,-999.000
325020060213,       P16N,      63,          1,         13,         13,2,20060321,       0837,         41,       -152,       4995,  1999.0,   1.9652,  34.5919,2,  34.5920,2,     50.1,2,    50.7,2,  172.20,2,   42.60,2,    0.00,2,    3.02,2,   0.023,3,   0.000,2,-999.000,5,  2390.1,2,  2414.8,2,   -999.0,9,  -999.00,   7.3870,2,    25.00,-999.000,9,-999.000,-999.0000,9,-999.000,9, -999.00,9,  -999.0,9,    -9.0,-999.000,9,-999.000,   37.51,2,   46.24,2, 1999.00,-999.0000,9,-999.0000,9,-999.0000,9,-999.0000,9,-999.0000,9,-999.0000,9,     -999.0,     -999.0,9,     -999.0,9,     -999.0,9,     -999.0,9,     -999.0,9,     -999.0,9, -999.00,9,   1.8295,-999.0000,-999.000
325020060213,       P16N,      63,          1,         12,         12,2,20060321,       0837,         41,       -152,       4995,  2199.8,   1.8579,  34.6125,2,  34.6149,2,     61.9,2,    61.7,2,  173.90,2,   41.90,2,    0.00,2,    2.97,2,-999.000,9,-999.000,9,-999.000,9,  2384.4,2,  2417.8,2,   -999.0,9,  -999.00,   7.4103,2,    25.00,-999.000,9,-999.000,-999.0000,9,-999.000,9, -999.00,9,  -999.0,9,    -9.0,-999.000,9,-999.000,   37.51,2,   46.04,2, 2199.80,-999.0000,9,-999.0000,9,-999.0000,9,-999.0000,9,-999.0000,9,-999.0000,9,     -999.0,     -999.0,9,     -999.0,9,     -999.0,9,     -999.0,9,     -999.0,9,     -999.0,9, -999.00,9,   1.7068,-999.0000,-999.000
325020060213,       P16N,      63,          1,         11,         11,2,20060321,       0837,         41,       -152,       4995,  2396.8,   1.7608,  34.6292,2,  34.6273,2,     74.4,2,    74.1,2,  173.90,2,   41.30,2,    0.00,2,    2.92,2,-999.000,9,-999.000,9,-999.000,9,  2379.3,2,  2419.7,2,   -999.0,9,  -999.00,   7.4364,2,    25.00,-999.000,9,-999.000,-999.0000,9,-999.000,9, -999.00,9,  -999.0,9,    -9.0,-999.000,9,-999.000,   37.43,2,   44.71,2, 2396.80,-999.0000,9,-999.0000,9,-999.0000,9,-999.0000,9,-999.0000,9,-999.0000,9,     -999.0,     -999.0,9,     -999.0,9,     -999.0,9,     -999.0,9,     -999.0,9,     -999.0,9, -999.00,9,   1.5943,-999.0000,-999.000
325020060213,       P16N,      63,          1,         10,         10,2,20060321,       0837,         41,       -152,       4995,  2599.4,   1.6757,  34.6427,2,  34.6403,2,     87.0,2,    86.7,2,  172.70,2,   40.30,2,    0.00,2,    2.86,2,-999.000,9,-999.000,9,-999.000,9,  2370.7,2,  2422.6,2,   -999.0,9,  -999.00,   7.4593,2,    25.00,-999.000,9,-999.000,-999.0000,9,-999.000,9, -999.00,9,  -999.0,9,    -9.0,-999.000,9,-999.000,   36.73,2,   43.76,2, 2599.40,-999.0000,9,-999.0000,9,-999.0000,9,-999.0000,9,-999.0000,9,-999.0000,9,     -999.0,     -999.0,9,     -999.0,9,     -999.0,9,     -999.0,9,     -999.0,9,     -999.0,9, -999.00,9,   1.4926,-999.0000,-999.000