BOTTLE,20170720CCHSIOCBG
EXPOCODE,SECT_ID,STNNBR,CASTNO,SAMPNO,BTLNBR,BTLNBR_FLAG_W,DATE,TIME,LATITUDE,LONGITUDE,DEPTH,CTDPRS,CTDTMP,CTDSAL,CTDSAL_FLAG_W,SALNTY,SALNTY_FLAG_W,CTDOXY,CTDOXY_FLAG_W,OXYGEN,OXYGEN_FLAG_W,SILCAT,SILCAT_FLAG_W,NITRAT,NITRAT_FLAG_W,NITRIT,NITRIT_FLAG_W,PHSPHT,PHSPHT_FLAG_W,CFC-11,CFC-11_FLAG_W,CFC-12,CFC-12_FLAG_W,CFC113,CFC113_FLAG_W,TCARBN,TCARBN_FLAG_W,ALKALI,ALKALI_FLAG_W,FCO2,FCO2_FLAG_W,FCO2TMP,PH_TOT,PH_TOT_FLAG_W,PH_TMP,TRITUM,TRITUM_FLAG_W,TRITER,HELIUM,HELIUM_FLAG_W,DELHE3,DELHE3_FLAG_W,DELC13,DELC13_FLAG_W,DELC14,DELC14_FLAG_W,C14ERR,NEON,NEON_FLAG_W,NEONER,DOC,DOC_FLAG_W,TDN,TDN_FLAG_W,CTDRAW,CDOM325,CDOM325_FLAG_W,CDOM340,CDOM340_FLAG_W,CDOM380,CDOM380_FLAG_W,CDOM412,CDOM412_FLAG_W,CDOMSL,CDOMSL_FLAG_W,CDOMSN,CDOMSN_FLAG_W,DCNS,ARABI,ARABI_FLAG_W,FUCO,FUCO_FLAG_W,GALA,GALA_FLAG_W,GLUC,GLUC_FLAG_W,MAN,MAN_FLAG_W,RHAM,RHAM_FLAG_W,BRDU,BRDU_FLAG_W,THETA,HELIER,DELHER
,,,,,,,,,,,METERS,DBAR,ITS-90,PSS-78,,PSS-78,,UMOL/KG,,UMOL/KG,,UMOL/KG,,UMOL/KG,,UMOL/KG,,UMOL/KG,,PMOL/KG,,PMOL/KG,,PMOL/KG,,UMOL/KG,,UMOL/KG,,UATM,,DEG C,,,DEG C,TU,,TU,NMOL/KG,,PERCNT,,/MILLE,,/MILLE,,/MILLE,NMOL/KG,,NMOL/KG,UMOL/KG,,UMOL/KG,,DBAR,1/M,,1/M,,1/M,,1/M,,1/NM,,1/NM,,NMOL/KG,NMOL/KG,,NMOL/KG,,NMOL/KG,,NMOL/KG,,NMOL/KG,,NMOL/KG,,PMOL/L/H,,DEG C,NMOL/KG,PERCNT
325020060213,       P16N,      62,          1,          9,          9,2,20060320,       2018,         40,       -152,       5177,  2873.0,   1.6090,  34.6550,2,  34.6553,2,    103.2,2,   103.4,2,  166.80,6,   39.30,6,    0.00,6,    2.77,6,-999.000,9,-999.000,9,-999.000,9,  2359.9,2,  2427.0,2,   1474.7,2,    20.00,   7.4893,2,    25.00,-999.000,9,-999.000,-999.0000,9,-999.000,9, -999.00,9,  -999.0,9,    -9.0,-999.000,9,-999.000,   36.77,2,   42.98,2, 2873.00,   0.1380,2,   0.0950,2,   0.0490,2,   0.0350,2,   0.0151,2,   0.0175,2,     -999.0,     -999.0,9,     -999.0,9,     -999.0,9,     -999.0,9,     -999.0,9,     -999.0,9, -999.00,9,   1.4019,-999.0000,-999.000
325020060213,       P16N,      62,          1,          8,          8,2,20060320,       2018,         40,       -152,       5177,  3123.0,   1.5486,  34.6653,2,  34.6648,2,    115.0,2,   115.5,2,  164.60,2,   38.60,2,    0.00,2,    2.73,2,-999.000,9,-999.000,9,-999.000,9,  2351.7,2,  2429.0,2,   1393.1,2,    20.00,   7.5137,6,    25.00,-999.000,9,-999.000,-999.0000,9,-999.000,9, -999.00,9,  -999.0,9,    -9.0,-999.000,9,-999.000,   36.75,2,   41.77,2, 3123.00,   0.1350,2,   0.0930,2,   0.0480,2,   0.0340,2,   0.0151,2,   0.0176,2,     -999.0,     -999.0,9,     -999.0,9,     -999.0,9,     -999.0,9,     -999.0,9,     -999.0,9, -999.00,9,   1.3189,-999.0000,-999.000
325020060213,       P16N,      62,          1,          7,          7,2,20060320,       2018,         40,       -152,       5177,  3448.9,   1.5043,  34.6749,2,  34.6771,2,    126.1,2,   126.3,2,  165.40,6,   38.00,6,    0.00,6,    2.65,6,   0.017,3,  -0.001,3,-999.000,5,  2346.7,2,  2428.5,2,   1310.8,6,    20.00,   7.5341,2,    25.00,-999.000,9,-999.000,-999.0000,9,-999.000,9, -999.00,9,  -999.0,9,    -9.0,-999.000,9,-999.000,   37.04,2,   41.84,2, 3448.90,   0.1340,2,   0.0920,2,   0.0470,2,   0.0340,3,   0.0154,3,   0.0179,3,     -999.0,     -999.0,9,     -999.0,9,     -999.0,9,     -999.0,9,     -999.0,9,     -999.0,9, -999.00,9,   1.2433,-999.0000,-999.000
325020060213,       P16N,      62,          1,          6,          6,2,20060320,       2018,         40,       -152,       5177,  3850.3,   1.4937,  34.6822,2,  34.6812,2,    134.1,2,   133.6,2,  167.60,2,   37.30,2,    0.00,2,    2.63,2,-999.000,9,-999.000,9,-999.000,9,  2343.3,2,  2432.0,2,   1270.6,2,    20.00,   7.5530,2,    25.00,-999.000,9,-999.000,-999.0000,9,-999.000,9, -999.00,9,  -999.0,9,    -9.0,-999.000,9,-999.000,   36.95,2,   40.16,2, 3850.30,   0.1300,2,   0.0880,2,   0.0450,2,   0.0320,2,   0.0161,2,   0.0186,2,     -999.0,     -999.0,9,     -999.0,9,     -999.0,9,     -999.0,9,     -999.0,9,     -999.0,9, -999.00,9,   1.1911,-999.0000,-999.000
325020060213,       P16N,      62,          1,          5,          5,2,20060320,       2018,         40,       -152,       5177,  4300.5,   1.5088,  34.6869,2,  34.6856,2,    139.8,2,   139.2,2,  168.20,2,   37.20,2,    0.00,2,    2.60,2,-999.000,9,-999.000,9,-999.000,9,  2341.7,2,  2433.8,2,   1233.9,2,    20.00,   7.5677,2,    25.00,-999.000,9,-999.000,-999.0000,9,-999.000,9, -999.00,9,  -999.0,9,    -9.0,-999.000,9,-999.000,   37.10,2,   40.44,2, 4300.50,   0.1310,2,   0.0890,2,   0.0450,2,   0.0320,3,   0.0158,3,   0.0184,3,     -999.0,     -999.0,9,     -999.0,9,     -999.0,9,     -999.0,9,     -999.0,9,     -999.0,9, -999.00,9,   1.1563,-999.0000,-999.000
325020060213,       P16N,      62,          1,          4,          4,2,20060320,       2018,         40,       -152,       5177,  4699.2,   1.5408,  34.6888,2,  34.6911,2,    142.7,2,   141.9,2,  167.00,6,   37.00,6,    0.00,6,    2.59,6,   0.019,3,  -0.001,3,-999.000,5,  2339.4,2,  2436.0,2,   1210.6,2,    20.00,   7.5728,2,    25.00,-999.000,9,-999.000,-999.0000,9,-999.000,9, -999.00,9,  -999.0,9,    -9.0,-999.000,9,-999.000,   36.65,2,   40.65,2, 4699.20,   0.1340,2,   0.0920,2,   0.0470,2,   0.0340,3,   0.0153,3,   0.0178,3,     -999.0,     -999.0,9,     -999.0,9,     -999.0,9,     -999.0,9,     -999.0,9,     -999.0,9, -999.00,9,   1.1413,-999.0000,-999.000
325020060213,       P16N,      62,          1,          3,          3,2,20060320,       2018,         40,       -152,       5177,  4949.7,   1.5619,  34.6893,2,  34.6883,2,    145.4,2,   144.9,2,  163.10,6,   36.90,6,    0.00,6,    2.57,6,-999.000,9,-999.000,9,-999.000,9,  2337.7,2,  2434.4,2,   1200.9,2,    20.00,   7.5765,2,    25.00,-999.000,9,-999.000,-999.0000,9,-999.000,9, -999.00,9,  -999.0,9,    -9.0,-999.000,9,-999.000,   36.46,2,   40.53,2, 4949.70,   0.1330,2,   0.0910,2,   0.0460,2,   0.0330,2,   0.0154,2,   0.0180,2,     -999.0,     -999.0,9,     -999.0,9,     -999.0,9,     -999.0,9,     -999.0,9,     -999.0,9, -999.00,9,   1.1317,-999.0000,-999.000
325020060213,       P16N,      62,          1,          2,          2,2,20060320,       2018,         40,       -152,       5177,  5151.5,   1.5821,  34.6897,2,  34.6905,2,    146.7,2,   145.8,2,  161.10,6,   36.70,6,    0.00,6,    2.56,6,-999.000,9,-999.000,9,-999.000,9,  2335.4,2,  2433.3,2,   1188.0,2,    20.00,   7.5778,2,    25.00,-999.000,9,-999.000,-999.0000,9,-999.000,9, -999.00,9,  -999.0,9,    -9.0,-999.000,9,-999.000,   36.93,2,   40.19,2, 5151.50,   0.1310,2,   0.0890,2,   0.0460,2,   0.0330,2,   0.0152,2,   0.0178,2,     -999.0,     -999.0,9,     -999.0,9,     -999.0,9,     -999.0,9,     -999.0,9,     -999.0,9, -999.00,9,   1.1264,-999.0000,-999.000
325020060213,       P16N,      62,          1,          1,          1,2,20060320,       2018,         40,       -152,       5177,  5322.8,   1.6003,  34.6899,2,  34.6893,2,    148.3,2,   146.3,2,  159.60,6,   36.70,6,    0.00,6,    2.55,6,   0.016,3,   0.000,3,-999.000,5,  2334.1,6,  2432.6,2,   1168.8,2,    20.00,   7.5780,2,    25.00,-999.000,9,-999.000,-999.0000,9,-999.000,9, -999.00,9,  -999.0,9,    -9.0,-999.000,9,-999.000,   37.00,2,   39.93,2, 5322.80,   0.1310,2,   0.0890,2,   0.0460,2,   0.0330,2,   0.0151,3,   0.0178,3,     -999.0,     -999.0,9,     -999.0,9,     -999.0,9,     -999.0,9,     -999.0,9,     -999.0,9, -999.00,9,   1.1227,-999.0000,-999.000