BOTTLE,20170720CCHSIOCBG
EXPOCODE,SECT_ID,STNNBR,CASTNO,SAMPNO,BTLNBR,BTLNBR_FLAG_W,DATE,TIME,LATITUDE,LONGITUDE,DEPTH,CTDPRS,CTDTMP,CTDSAL,CTDSAL_FLAG_W,SALNTY,SALNTY_FLAG_W,CTDOXY,CTDOXY_FLAG_W,OXYGEN,OXYGEN_FLAG_W,SILCAT,SILCAT_FLAG_W,NITRAT,NITRAT_FLAG_W,NITRIT,NITRIT_FLAG_W,PHSPHT,PHSPHT_FLAG_W,CFC-11,CFC-11_FLAG_W,CFC-12,CFC-12_FLAG_W,CFC113,CFC113_FLAG_W,TCARBN,TCARBN_FLAG_W,ALKALI,ALKALI_FLAG_W,FCO2,FCO2_FLAG_W,FCO2TMP,PH_TOT,PH_TOT_FLAG_W,PH_TMP,TRITUM,TRITUM_FLAG_W,TRITER,HELIUM,HELIUM_FLAG_W,DELHE3,DELHE3_FLAG_W,DELC13,DELC13_FLAG_W,DELC14,DELC14_FLAG_W,C14ERR,NEON,NEON_FLAG_W,NEONER,DOC,DOC_FLAG_W,TDN,TDN_FLAG_W,CTDRAW,CDOM325,CDOM325_FLAG_W,CDOM340,CDOM340_FLAG_W,CDOM380,CDOM380_FLAG_W,CDOM412,CDOM412_FLAG_W,CDOMSL,CDOMSL_FLAG_W,CDOMSN,CDOMSN_FLAG_W,DCNS,ARABI,ARABI_FLAG_W,FUCO,FUCO_FLAG_W,GALA,GALA_FLAG_W,GLUC,GLUC_FLAG_W,MAN,MAN_FLAG_W,RHAM,RHAM_FLAG_W,BRDU,BRDU_FLAG_W,THETA,HELIER,DELHER
,,,,,,,,,,,METERS,DBAR,ITS-90,PSS-78,,PSS-78,,UMOL/KG,,UMOL/KG,,UMOL/KG,,UMOL/KG,,UMOL/KG,,UMOL/KG,,PMOL/KG,,PMOL/KG,,PMOL/KG,,UMOL/KG,,UMOL/KG,,UATM,,DEG C,,,DEG C,TU,,TU,NMOL/KG,,PERCNT,,/MILLE,,/MILLE,,/MILLE,NMOL/KG,,NMOL/KG,UMOL/KG,,UMOL/KG,,DBAR,1/M,,1/M,,1/M,,1/M,,1/NM,,1/NM,,NMOL/KG,NMOL/KG,,NMOL/KG,,NMOL/KG,,NMOL/KG,,NMOL/KG,,NMOL/KG,,PMOL/L/H,,DEG C,NMOL/KG,PERCNT
325020060213,       P16N,      27,          1,          8,          8,2,20060224,       0651,          5,       -151,       5032,  3000.4,   1.7226,  34.6779,2,  34.6778,2,    124.8,2,   125.1,2,  150.90,2,   37.70,2,    0.00,2,    2.63,2,-999.000,9,-999.000,9,-999.000,9,  2348.9,2,  2433.0,2,   -999.0,9,  -999.00,   7.5484,2,    25.00,-999.000,9,-999.000,-999.0000,9,-999.000,9, -999.00,9,  -999.0,9,    -9.0,-999.000,9,-999.000,   37.33,2,   40.96,2, 3000.40,-999.0000,9,-999.0000,9,-999.0000,9,-999.0000,9,-999.0000,9,-999.0000,9,     -999.0,     -999.0,9,     -999.0,9,     -999.0,9,     -999.0,9,     -999.0,9,     -999.0,9, -999.00,9,   1.5008,-999.0000,-999.000
325020060213,       P16N,      27,          1,          7,          7,2,20060224,       0651,          5,       -151,       5032,  3249.7,   1.6268,  34.6831,2,  34.6810,2,    133.1,2,   133.3,2,  150.30,2,   37.30,2,    0.00,2,    2.59,2,   0.000,2,   0.001,2,-999.000,5,  2342.3,2,  2432.7,2,   -999.0,9,  -999.00,   7.5606,2,    25.00,-999.000,9,-999.000,-999.0000,9,-999.000,9, -999.00,9,  -999.0,9,    -9.0,-999.000,9,-999.000,   38.93,2,   40.88,2, 3249.70,-999.0000,9,-999.0000,9,-999.0000,9,-999.0000,9,-999.0000,9,-999.0000,9,     -999.0,     -999.0,9,     -999.0,9,     -999.0,9,     -999.0,9,     -999.0,9,     -999.0,9, -999.00,9,   1.3828,-999.0000,-999.000
325020060213,       P16N,      27,          1,          6,          6,2,20060224,       0651,          5,       -151,       5032,  3650.0,   1.4855,  34.6915,2,  34.6922,2,    149.9,2,   149.7,2,  145.40,2,   36.10,2,    0.00,2,    2.50,2,-999.000,9,-999.000,9,-999.000,9,  2329.5,2,  2429.5,6,   -999.0,9,  -999.00,   7.5864,2,    25.00,-999.000,9,-999.000,-999.0000,9,-999.000,9, -999.00,9,  -999.0,9,    -9.0,-999.000,9,-999.000,   39.01,2,   39.76,2, 3650.00,-999.0000,9,-999.0000,9,-999.0000,9,-999.0000,9,-999.0000,9,-999.0000,9,     -999.0,     -999.0,9,     -999.0,9,     -999.0,9,     -999.0,9,     -999.0,9,     -999.0,9, -999.00,9,   1.2042,-999.0000,-999.000
325020060213,       P16N,      27,          1,          5,          5,2,20060224,       0651,          5,       -151,       5032,  4050.0,   1.3899,  34.6981,2,  34.6957,2,    163.0,2,   163.4,2,  139.60,6,   35.20,6,    0.00,6,    2.43,6,  -0.001,2,   0.000,2,-999.000,5,  2316.7,2,  2423.2,2,   -999.0,9,  -999.00,   7.5960,2,    25.00,-999.000,9,-999.000,-999.0000,9,-999.000,9, -999.00,9,  -999.0,9,    -9.0,-999.000,9,-999.000,   39.01,2,   38.48,2, 4050.00,-999.0000,9,-999.0000,9,-999.0000,9,-999.0000,9,-999.0000,9,-999.0000,9,     -999.0,     -999.0,9,     -999.0,9,     -999.0,9,     -999.0,9,     -999.0,9,     -999.0,9, -999.00,9,   1.0686,-999.0000,-999.000
325020060213,       P16N,      27,          1,          4,          4,2,20060224,       0651,          5,       -151,       5032,  4549.2,   1.3818,  34.7009,2,  34.6985,2,    170.5,2,   170.1,2,  136.10,6,   34.80,6,    0.00,6,    2.38,6,-999.000,9,-999.000,9,-999.000,9,  2309.4,2,  2417.9,2,   -999.0,9,  -999.00,   7.6063,2,    25.00,-999.000,9,-999.000,-999.0000,9,-999.000,9, -999.00,9,  -999.0,9,    -9.0,-999.000,9,-999.000,   39.07,2,   38.53,2, 4549.20,-999.0000,9,-999.0000,9,-999.0000,9,-999.0000,9,-999.0000,9,-999.0000,9,     -999.0,     -999.0,9,     -999.0,9,     -999.0,9,     -999.0,9,     -999.0,9,     -999.0,9, -999.00,9,   1.0048,-999.0000,-999.000
325020060213,       P16N,      27,          1,          3,          3,2,20060224,       0651,          5,       -151,       5032,  4850.6,   1.4141,  34.7010,2,  34.6997,2,    170.6,2,   170.2,2,  135.70,6,   34.70,6,    0.00,6,    2.38,6,  -0.001,2,   0.000,6,-999.000,5,  2307.1,2,  2417.3,2,   -999.0,9,  -999.00,   7.6083,2,    25.00,-999.000,9,-999.000,-999.0000,9,-999.000,9, -999.00,9,  -999.0,9,    -9.0,-999.000,9,-999.000,   37.39,2,   38.33,2, 4850.60,-999.0000,9,-999.0000,9,-999.0000,9,-999.0000,9,-999.0000,9,-999.0000,9,     -999.0,     -999.0,9,     -999.0,9,     -999.0,9,     -999.0,9,     -999.0,9,     -999.0,9, -999.00,9,   1.0006,-999.0000,-999.000
325020060213,       P16N,      27,          1,          1,          1,2,20060224,       0651,          5,       -151,       5032,  5155.9,   1.4507,  34.7008,2,  34.6989,2,    170.5,2,   170.5,2,  135.60,2,   34.80,2,    0.00,2,    2.39,2,   0.000,2,   0.000,2,-999.000,5,  2310.1,6,  2415.2,2,   -999.0,9,  -999.00,   7.6136,2,    25.00,-999.000,9,-999.000,-999.0000,9,-999.000,9, -999.00,9,  -999.0,9,    -9.0,-999.000,9,-999.000,   39.67,2,   38.59,2, 5155.90,-999.0000,9,-999.0000,9,-999.0000,9,-999.0000,9,-999.0000,9,-999.0000,9,     -999.0,     -999.0,9,     -999.0,9,     -999.0,9,     -999.0,9,     -999.0,9,     -999.0,9, -999.00,9,   0.9990,-999.0000,-999.000