BOTTLE,20170720CCHSIOCBG
EXPOCODE,SECT_ID,STNNBR,CASTNO,SAMPNO,BTLNBR,BTLNBR_FLAG_W,DATE,TIME,LATITUDE,LONGITUDE,DEPTH,CTDPRS,CTDTMP,CTDSAL,CTDSAL_FLAG_W,SALNTY,SALNTY_FLAG_W,CTDOXY,CTDOXY_FLAG_W,OXYGEN,OXYGEN_FLAG_W,SILCAT,SILCAT_FLAG_W,NITRAT,NITRAT_FLAG_W,NITRIT,NITRIT_FLAG_W,PHSPHT,PHSPHT_FLAG_W,CFC-11,CFC-11_FLAG_W,CFC-12,CFC-12_FLAG_W,CFC113,CFC113_FLAG_W,TCARBN,TCARBN_FLAG_W,ALKALI,ALKALI_FLAG_W,FCO2,FCO2_FLAG_W,FCO2TMP,PH_TOT,PH_TOT_FLAG_W,PH_TMP,TRITUM,TRITUM_FLAG_W,TRITER,HELIUM,HELIUM_FLAG_W,DELHE3,DELHE3_FLAG_W,DELC13,DELC13_FLAG_W,DELC14,DELC14_FLAG_W,C14ERR,NEON,NEON_FLAG_W,NEONER,DOC,DOC_FLAG_W,TDN,TDN_FLAG_W,CTDRAW,CDOM325,CDOM325_FLAG_W,CDOM340,CDOM340_FLAG_W,CDOM380,CDOM380_FLAG_W,CDOM412,CDOM412_FLAG_W,CDOMSL,CDOMSL_FLAG_W,CDOMSN,CDOMSN_FLAG_W,DCNS,ARABI,ARABI_FLAG_W,FUCO,FUCO_FLAG_W,GALA,GALA_FLAG_W,GLUC,GLUC_FLAG_W,MAN,MAN_FLAG_W,RHAM,RHAM_FLAG_W,BRDU,BRDU_FLAG_W,THETA,HELIER,DELHER
,,,,,,,,,,,METERS,DBAR,ITS-90,PSS-78,,PSS-78,,UMOL/KG,,UMOL/KG,,UMOL/KG,,UMOL/KG,,UMOL/KG,,UMOL/KG,,PMOL/KG,,PMOL/KG,,PMOL/KG,,UMOL/KG,,UMOL/KG,,UATM,,DEG C,,,DEG C,TU,,TU,NMOL/KG,,PERCNT,,/MILLE,,/MILLE,,/MILLE,NMOL/KG,,NMOL/KG,UMOL/KG,,UMOL/KG,,DBAR,1/M,,1/M,,1/M,,1/M,,1/NM,,1/NM,,NMOL/KG,NMOL/KG,,NMOL/KG,,NMOL/KG,,NMOL/KG,,NMOL/KG,,NMOL/KG,,PMOL/L/H,,DEG C,NMOL/KG,PERCNT
325020060213,       P16N,      42,          1,          8,          8,2,20060302,       1213,    20.0002,  -152.0003,       5092,  2876.3,   1.6662,  34.6674,2,  34.6692,2,    119.0,2,   122.8,2,  157.30,2,   38.30,2,    0.00,2,    2.67,2,-999.000,9,-999.000,9,-999.000,9,  2350.6,2,  2429.9,2,   -999.0,9,  -999.00,   7.5256,2,    25.00,-999.000,9,-999.000,-999.0000,9,-999.000,9, -999.00,9,  -999.0,9,    -9.0,-999.000,9,-999.000,   37.34,2,   42.48,2, 2876.30,-999.0000,9,-999.0000,9,-999.0000,9,-999.0000,9,-999.0000,9,-999.0000,9,     -999.0,     -999.0,9,     -999.0,9,     -999.0,9,     -999.0,9,     -999.0,9,     -999.0,9, -999.00,9,   1.4576,-999.0000,-999.000
325020060213,       P16N,      42,          1,          7,          7,2,20060302,       1213,    20.0002,  -152.0003,       5092,  3125.5,   1.5983,  34.6742,2,  34.6820,4,    125.9,2,   125.8,2,  157.80,2,   37.90,2,    0.00,2,    2.64,2,-999.000,9,-999.000,9,-999.000,9,  2346.5,2,  2431.4,2,   -999.0,9,  -999.00,   7.5379,2,    25.00,-999.000,9,-999.000,-999.0000,9,-999.000,9, -999.00,9,  -999.0,9,    -9.0,-999.000,9,-999.000,   36.46,2,   41.40,2, 3125.50,-999.0000,9,-999.0000,9,-999.0000,9,-999.0000,9,-999.0000,9,-999.0000,9,     -999.0,     -999.0,9,     -999.0,9,     -999.0,9,     -999.0,9,     -999.0,9,     -999.0,9, -999.00,9,   1.3672,-999.0000,-999.000
325020060213,       P16N,      42,          1,          6,          6,2,20060302,       1213,    20.0002,  -152.0003,       5092,  3450.0,   1.5383,  34.6800,2,  34.6804,2,    133.2,2,   135.6,2,  157.70,2,   37.50,2,    0.00,2,    2.60,2,-999.000,9,-999.000,9,-999.000,9,  2341.3,2,  2430.5,6,   -999.0,9,  -999.00,   7.5503,2,    25.00,-999.000,9,-999.000,-999.0000,9,-999.000,9, -999.00,9,  -999.0,9,    -9.0,-999.000,9,-999.000,   35.14,2,   40.79,2, 3450.00,-999.0000,9,-999.0000,9,-999.0000,9,-999.0000,9,-999.0000,9,-999.0000,9,     -999.0,     -999.0,9,     -999.0,9,     -999.0,9,     -999.0,9,     -999.0,9,     -999.0,9, -999.00,9,   1.2763,-999.0000,-999.000
325020060213,       P16N,      42,          1,          5,          5,2,20060302,       1213,    20.0002,  -152.0003,       5092,  3850.1,   1.4834,  34.6862,2,  34.6863,2,    143.8,2,   144.6,2,  154.20,6,   36.70,6,    0.00,6,    2.55,6,-999.000,9,-999.000,9,-999.000,9,  2333.3,2,  2431.6,2,   -999.0,9,  -999.00,   7.5598,2,    25.00,-999.000,9,-999.000,-999.0000,9,-999.000,9, -999.00,9,  -999.0,9,    -9.0,-999.000,9,-999.000,   35.76,2,   39.95,2, 3850.10,-999.0000,9,-999.0000,9,-999.0000,9,-999.0000,9,-999.0000,9,-999.0000,9,     -999.0,     -999.0,9,     -999.0,9,     -999.0,9,     -999.0,9,     -999.0,9,     -999.0,9, -999.00,9,   1.1811,-999.0000,-999.000
325020060213,       P16N,      42,          1,          4,          4,2,20060302,       1213,    20.0002,  -152.0003,       5092,  4299.1,   1.4566,  34.6916,2,  34.6944,2,    154.6,2,   154.6,2,  147.90,6,   36.00,6,    0.00,6,    2.48,6,-999.000,9,-999.000,9,-999.000,9,  2323.3,2,  2427.1,2,   -999.0,9,  -999.00,   7.5843,2,    25.00,-999.000,9,-999.000,-999.0000,9,-999.000,9, -999.00,9,  -999.0,9,    -9.0,-999.000,9,-999.000,   36.97,2,   39.50,2, 4299.10,-999.0000,9,-999.0000,9,-999.0000,9,-999.0000,9,-999.0000,9,-999.0000,9,     -999.0,     -999.0,9,     -999.0,9,     -999.0,9,     -999.0,9,     -999.0,9,     -999.0,9, -999.00,9,   1.1058,-999.0000,-999.000
325020060213,       P16N,      42,          1,          3,          3,2,20060302,       1213,    20.0002,  -152.0003,       5092,  4800.0,   1.4486,  34.6961,2,  34.6965,2,    165.2,2,   164.2,2,  140.80,6,   35.30,6,    0.00,6,    2.42,6,-999.000,9,-999.000,9,-999.000,9,  2313.3,2,  2418.9,2,   -999.0,9,  -999.00,   7.5940,2,    25.00,-999.000,9,-999.000,-999.0000,9,-999.000,9, -999.00,9,  -999.0,9,    -9.0,-999.000,9,-999.000,   37.46,2,   39.35,2, 4800.00,-999.0000,9,-999.0000,9,-999.0000,9,-999.0000,9,-999.0000,9,-999.0000,9,     -999.0,     -999.0,9,     -999.0,9,     -999.0,9,     -999.0,9,     -999.0,9,     -999.0,9, -999.00,9,   1.0400,-999.0000,-999.000
325020060213,       P16N,      42,          1,          1,          1,2,20060302,       1213,    20.0002,  -152.0003,       5092,  5228.1,   1.4661,  34.6985,2,  34.6879,4,    170.9,2,   151.4,4,  150.70,4,   36.30,4,    0.00,4,    2.51,4,-999.000,9,-999.000,9,-999.000,9,  2329.0,3,  2429.7,4,   -999.0,9,  -999.00,   7.5813,2,    25.00,-999.000,9,-999.000,-999.0000,9,-999.000,9, -999.00,9,  -999.0,9,    -9.0,-999.000,9,-999.000,   37.15,2,   39.69,2, 5228.10,-999.0000,9,-999.0000,9,-999.0000,9,-999.0000,9,-999.0000,9,-999.0000,9,     -999.0,     -999.0,9,     -999.0,9,     -999.0,9,     -999.0,9,     -999.0,9,     -999.0,9, -999.00,9,   1.0049,-999.0000,-999.000