BOTTLE,20170720CCHSIOCBG
EXPOCODE,SECT_ID,STNNBR,CASTNO,SAMPNO,BTLNBR,BTLNBR_FLAG_W,DATE,TIME,LATITUDE,LONGITUDE,DEPTH,CTDPRS,CTDTMP,CTDSAL,CTDSAL_FLAG_W,SALNTY,SALNTY_FLAG_W,CTDOXY,CTDOXY_FLAG_W,OXYGEN,OXYGEN_FLAG_W,SILCAT,SILCAT_FLAG_W,NITRAT,NITRAT_FLAG_W,NITRIT,NITRIT_FLAG_W,PHSPHT,PHSPHT_FLAG_W,CFC-11,CFC-11_FLAG_W,CFC-12,CFC-12_FLAG_W,CFC113,CFC113_FLAG_W,TCARBN,TCARBN_FLAG_W,ALKALI,ALKALI_FLAG_W,FCO2,FCO2_FLAG_W,FCO2TMP,PH_TOT,PH_TOT_FLAG_W,PH_TMP,TRITUM,TRITUM_FLAG_W,TRITER,HELIUM,HELIUM_FLAG_W,DELHE3,DELHE3_FLAG_W,DELC13,DELC13_FLAG_W,DELC14,DELC14_FLAG_W,C14ERR,NEON,NEON_FLAG_W,NEONER,DOC,DOC_FLAG_W,TDN,TDN_FLAG_W,CTDRAW,CDOM325,CDOM325_FLAG_W,CDOM340,CDOM340_FLAG_W,CDOM380,CDOM380_FLAG_W,CDOM412,CDOM412_FLAG_W,CDOMSL,CDOMSL_FLAG_W,CDOMSN,CDOMSN_FLAG_W,DCNS,ARABI,ARABI_FLAG_W,FUCO,FUCO_FLAG_W,GALA,GALA_FLAG_W,GLUC,GLUC_FLAG_W,MAN,MAN_FLAG_W,RHAM,RHAM_FLAG_W,BRDU,BRDU_FLAG_W,THETA,HELIER,DELHER
,,,,,,,,,,,METERS,DBAR,ITS-90,PSS-78,,PSS-78,,UMOL/KG,,UMOL/KG,,UMOL/KG,,UMOL/KG,,UMOL/KG,,UMOL/KG,,PMOL/KG,,PMOL/KG,,PMOL/KG,,UMOL/KG,,UMOL/KG,,UATM,,DEG C,,,DEG C,TU,,TU,NMOL/KG,,PERCNT,,/MILLE,,/MILLE,,/MILLE,NMOL/KG,,NMOL/KG,UMOL/KG,,UMOL/KG,,DBAR,1/M,,1/M,,1/M,,1/M,,1/NM,,1/NM,,NMOL/KG,NMOL/KG,,NMOL/KG,,NMOL/KG,,NMOL/KG,,NMOL/KG,,NMOL/KG,,PMOL/L/H,,DEG C,NMOL/KG,PERCNT
325020060213,       P16N,       1,          2,         15,         15,2,20060214,       1218,   -17.0002,  -149.9995,       1935,  1201.3,   3.3137,  34.5429,2,  34.5325,4,    144.5,2,   143.0,2,   83.80,2,   36.30,6,    0.00,6,    2.49,6,   0.014,2,   0.008,2,-999.000,5,  2268.2,2,  2356.1,2,   -999.0,9,  -999.00,   7.5620,2,    25.00,   0.005,2,   0.003,   1.9047,2,   20.13,2, -999.00,5,  -175.3,2,     2.9,   8.112,2,   0.024,   36.70,2,   40.36,2, 1201.30,   0.0980,2,   0.0610,2,   0.0260,2,   0.0160,2,   0.0255,2,   0.0277,2,     -999.0,     -999.0,9,     -999.0,9,     -999.0,9,     -999.0,9,     -999.0,9,     -999.0,9, -999.00,9,   3.2273,   0.0057,    0.14
325020060213,       P16N,       1,          2,         14,         14,2,20060214,       1218,   -17.0002,  -149.9995,       1935,  1401.3,   2.8978,  34.5737,2,  34.5634,4,    145.0,2,   144.0,2,   94.50,2,   36.60,6,    0.00,6,    2.51,6,   0.010,2,   0.000,2,-999.000,5,  2278.4,2,  2367.7,2,   -999.0,9,  -999.00,   7.5669,2,    25.00,   0.010,2,   0.003,   1.9093,2,   22.74,2, -999.00,5,  -192.7,2,     2.6,   8.101,2,   0.024,   36.38,2,   40.80,2, 1401.30,   0.0980,2,   0.0610,2,   0.0260,2,   0.0150,2,   0.0253,2,   0.0276,2,     -999.0,     -999.0,9,     -999.0,9,     -999.0,9,     -999.0,9,     -999.0,9,     -999.0,9, -999.00,9,   2.7992,   0.0057,    0.14
325020060213,       P16N,       1,          2,         13,         13,2,20060214,       1218,   -17.0002,  -149.9995,       1935,  1600.0,   2.6070,  34.5964,2,  34.5814,4,    146.8,2,   145.7,2,  102.00,2,   36.50,6,    0.00,6,    2.51,6,-999.000,9,-999.000,9,-999.000,9,  2286.8,2,  2376.3,2,   -999.0,9,  -999.00,   7.5631,2,    25.00,   0.007,2,   0.003,   1.9725,2,   24.15,2, -999.00,5,  -200.8,2,     2.7,   8.343,2,   0.025,   37.37,2,   40.63,2, 1600.00,   0.0980,2,   0.0620,2,   0.0270,2,   0.0150,2,   0.0236,2,   0.0258,2,     -999.0,     -999.0,9,     -999.0,9,     -999.0,9,     -999.0,9,     -999.0,9,     -999.0,9, -999.00,9,   2.4955,   0.0059,    0.14
325020060213,       P16N,       1,          2,         12,         12,2,20060214,       1218,   -17.0002,  -149.9995,       1935,  1800.5,   2.3709,  34.6175,2,  34.6026,4,    148.0,2,   147.2,2,  109.10,2,   36.50,6,    0.00,6,    2.52,6,   0.009,2,   0.002,2,-999.000,5,  2294.8,2,  2384.1,2,   -999.0,9,  -999.00,   7.5683,2,    25.00,   0.001,2,   0.002,   1.9547,2,   25.30,2, -999.00,5,  -207.3,2,     2.5,   8.230,2,   0.025,   36.30,2,   40.22,2, 1800.50,   0.1020,2,   0.0660,2,   0.0290,2,   0.0170,2,   0.0227,2,   0.0246,2,     -999.0,     -999.0,9,     -999.0,9,     -999.0,9,     -999.0,9,     -999.0,9,     -999.0,9, -999.00,9,   2.2458,   0.0059,    0.14
325020060213,       P16N,       1,          2,         11,         11,2,20060214,       1218,   -17.0002,  -149.9995,       1935,  1999.0,   2.1484,  34.6366,2,  34.6168,4,    150.3,2,   149.6,2,  115.00,2,   36.30,6,    0.00,6,    2.52,6,-999.000,9,-999.000,9,-999.000,9,  2300.6,2,  2391.3,2,   -999.0,9,  -999.00,   7.5748,2,    25.00,   0.004,2,   0.002,   1.9861,2,   25.36,2, -999.00,5,  -208.3,2,     2.7,   8.371,2,   0.025,   37.20,2,   40.54,2, 1999.00,   0.0990,2,   0.0630,2,   0.0260,2,   0.0140,2,   0.0250,2,   0.0269,2,     -999.0,     -999.0,9,     -999.0,9,     -999.0,9,     -999.0,9,     -999.0,9,     -999.0,9, -999.00,9,   2.0098,   0.0060,    0.14
325020060213,       P16N,       1,          2,         10,         10,4,20060214,       1218,   -17.0002,  -149.9995,       1935,  2199.8,   2.0385,  34.6461,2,-999.0000,9,    152.4,2,  -999.0,5, -999.00,1, -999.00,1, -999.00,1, -999.00,1,-999.000,9,-999.000,9,-999.000,9,  -999.0,9,  -999.0,5,   -999.0,9,  -999.00,-999.0000,9,  -999.00,-999.000,9,-999.000,-999.0000,9,-999.000,9, -999.00,9,  -999.0,9,    -9.0,-999.000,9,-999.000, -999.00,9, -999.00,9, 2199.80,-999.0000,9,-999.0000,9,-999.0000,9,-999.0000,9,-999.0000,9,-999.0000,9,     -999.0,     -999.0,9,     -999.0,9,     -999.0,9,     -999.0,9,     -999.0,9,     -999.0,9, -999.00,9,   1.8843,-999.0000,-999.000
325020060213,       P16N,       1,          2,          9,          9,2,20060214,       1218,   -17.0002,  -149.9995,       1935,  2398.8,   1.9097,  34.6563,2,  34.6378,4,    155.1,2,   155.9,2,  120.60,2,   36.00,6,    0.00,6,    2.50,6,   0.011,2,   0.001,2,-999.000,5,  2303.4,2,  2395.3,2,   -999.0,9,  -999.00,   7.5804,2,    25.00,-999.000,9,-999.000,-999.0000,9,-999.000,9, -999.00,5,  -218.1,2,     2.8,-999.000,9,-999.000,   36.66,2,   39.94,2, 2398.80,   0.0980,2,   0.0610,2,   0.0260,2,   0.0140,2,   0.0247,2,   0.0269,2,     -999.0,     -999.0,9,     -999.0,9,     -999.0,9,     -999.0,9,     -999.0,9,     -999.0,9, -999.00,9,   1.7402,-999.0000,-999.000
325020060213,       P16N,       1,          2,          8,          8,2,20060214,       1218,   -17.0002,  -149.9995,       1935,  2600.8,   1.8064,  34.6660,2,  34.6588,4,    157.9,2,   157.7,2,  122.80,2,   35.90,6,    0.00,6,    2.49,6,   0.005,2,   0.002,2,-999.000,5,  2305.7,2,  2396.4,2,   -999.0,9,  -999.00,   7.5953,2,    25.00,-999.000,9,-999.000,-999.0000,9,-999.000,9, -999.00,5,  -214.7,2,     2.3,-999.000,9,-999.000,   37.27,2,   40.04,2, 2600.80,   0.1000,2,   0.0630,2,   0.0260,2,   0.0140,2,   0.0256,2,   0.0276,2,     -999.0,     -999.0,9,     -999.0,9,     -999.0,9,     -999.0,9,     -999.0,9,     -999.0,9, -999.00,9,   1.6205,-999.0000,-999.000
325020060213,       P16N,       1,          2,          7,          7,2,20060214,       1218,   -17.0002,  -149.9995,       1935,  2799.3,   1.7424,  34.6715,2,  34.6618,4,    161.0,2,   160.6,2,  123.70,2,   35.80,6,    0.00,6,    2.48,6,-999.000,9,-999.000,9,-999.000,9,  2307.0,2,  2397.5,2,   -999.0,9,  -999.00,   7.5856,2,    25.00,-999.000,9,-999.000,-999.0000,9,-999.000,9, -999.00,5,  -216.6,2,     2.5,-999.000,9,-999.000,   36.85,2,   39.14,2, 2799.30,   0.1000,2,   0.0630,2,   0.0250,2,   0.0140,2,   0.0257,2,   0.0277,2,     -999.0,     -999.0,9,     -999.0,9,     -999.0,9,     -999.0,9,     -999.0,9,     -999.0,9, -999.00,9,   1.5394,-999.0000,-999.000
325020060213,       P16N,       1,          2,          6,          6,2,20060214,       1218,   -17.0002,  -149.9995,       1935,  3000.0,   1.6792,  34.6770,2,  34.6523,4,    163.5,2,   163.6,2,  124.30,2,   35.50,6,    0.00,6,    2.46,6,   0.009,2,   0.001,2,-999.000,5,  -999.0,5,  2395.1,2,   -999.0,9,  -999.00,   7.6003,2,    25.00,-999.000,9,-999.000,-999.0000,9,-999.000,9, -999.00,5,  -204.9,2,     2.7,-999.000,9,-999.000,   38.01,2,   39.34,2, 3000.00,   0.1030,2,   0.0670,2,   0.0310,2,   0.0150,2,   0.0215,2,   0.0235,2,     -999.0,     -999.0,9,     -999.0,9,     -999.0,9,     -999.0,9,     -999.0,9,     -999.0,9, -999.00,9,   1.4585,-999.0000,-999.000
325020060213,       P16N,       1,          2,          5,          5,2,20060214,       1218,   -17.0002,  -149.9995,       1935,  3300.3,   1.5727,  34.6855,2,  34.6751,4,    168.7,2,   169.5,2,  124.60,2,   35.20,6,    0.00,6,    2.44,6,-999.000,9,-999.000,9,-999.000,9,  2301.2,2,  2394.0,6,   -999.0,9,  -999.00,   7.5977,2,    25.00,-999.000,9,-999.000,-999.0000,9,-999.000,9, -999.00,5,  -200.8,2,     2.8,-999.000,9,-999.000,   36.58,2,   38.58,2, 3300.30,   0.1050,2,   0.0670,2,   0.0290,2,   0.0150,2,   0.0232,2,   0.0251,2,     -999.0,     -999.0,9,     -999.0,9,     -999.0,9,     -999.0,9,     -999.0,9,     -999.0,9, -999.00,9,   1.3250,-999.0000,-999.000
325020060213,       P16N,       1,          2,          4,          4,2,20060214,       1218,   -17.0002,  -149.9995,       1935,  3600.6,   1.5252,  34.6903,2,-999.0000,4,    172.6,2,   173.1,2,  123.90,6,   34.80,6,    0.00,6,    2.42,6,   0.007,2,   0.000,2,-999.000,5,  2295.4,2,  2392.3,2,   -999.0,9,  -999.00,   7.6038,2,    25.00,-999.000,9,-999.000,-999.0000,9,-999.000,9, -999.00,5,  -198.6,2,     2.8,-999.000,9,-999.000,   38.29,2,   37.96,2, 3600.60,-999.0000,9,-999.0000,9,-999.0000,9,-999.0000,9,-999.0000,9,-999.0000,9,     -999.0,     -999.0,9,     -999.0,9,     -999.0,9,     -999.0,9,     -999.0,9,     -999.0,9, -999.00,9,   1.2480,-999.0000,-999.000
325020060213,       P16N,       1,          2,          3,          3,2,20060214,       1218,   -17.0002,  -149.9995,       1935,  3700.0,   1.5100,  34.6919,2,  34.6724,4,    173.6,2,   174.6,2,  123.70,6,   34.80,6,    0.00,6,    2.40,6,   0.006,2,   0.000,2,-999.000,5,  1979.2,4,  2391.7,2,   -999.0,9,  -999.00,   7.6036,2,    25.00,-999.000,9,-999.000,-999.0000,9,-999.000,9, -999.00,5,  -193.0,2,     2.5,-999.000,9,-999.000,   37.11,2,   38.06,2, 3700.00,   0.1020,2,   0.0640,2,   0.0260,2,   0.0140,2,   0.0255,2,   0.0274,2,     -999.0,     -999.0,9,     -999.0,9,     -999.0,9,     -999.0,9,     -999.0,9,     -999.0,9, -999.00,9,   1.2228,-999.0000,-999.000
325020060213,       P16N,       1,          2,          1,          1,2,20060214,       1218,   -17.0002,  -149.9995,       1935,  3802.4,   1.4995,  34.6932,2,  34.6828,4,    175.3,2,   175.8,2,  123.40,6,   34.70,6,    0.00,6,    2.40,6,   0.004,2,   0.000,2,-999.000,5,  2291.0,2,  2391.4,2,   -999.0,9,  -999.00,   7.6041,2,    25.00,-999.000,9,-999.000,-999.0000,9,-999.000,9, -999.00,5,  -195.9,2,     2.8,-999.000,9,-999.000,   38.33,2,   37.94,2, 3802.40,   0.1060,2,   0.0690,2,   0.0300,2,   0.0160,2,   0.0229,2,   0.0248,2,     -999.0,     -999.0,9,     -999.0,9,     -999.0,9,     -999.0,9,     -999.0,9,     -999.0,9, -999.00,9,   1.2018,-999.0000,-999.000