BOTTLE,20170720CCHSIOCBG
EXPOCODE,SECT_ID,STNNBR,CASTNO,SAMPNO,BTLNBR,BTLNBR_FLAG_W,DATE,TIME,LATITUDE,LONGITUDE,DEPTH,CTDPRS,CTDTMP,CTDSAL,CTDSAL_FLAG_W,SALNTY,SALNTY_FLAG_W,CTDOXY,CTDOXY_FLAG_W,OXYGEN,OXYGEN_FLAG_W,SILCAT,SILCAT_FLAG_W,NITRAT,NITRAT_FLAG_W,NITRIT,NITRIT_FLAG_W,PHSPHT,PHSPHT_FLAG_W,CFC-11,CFC-11_FLAG_W,CFC-12,CFC-12_FLAG_W,CFC113,CFC113_FLAG_W,TCARBN,TCARBN_FLAG_W,ALKALI,ALKALI_FLAG_W,FCO2,FCO2_FLAG_W,FCO2TMP,PH_TOT,PH_TOT_FLAG_W,PH_TMP,TRITUM,TRITUM_FLAG_W,TRITER,HELIUM,HELIUM_FLAG_W,DELHE3,DELHE3_FLAG_W,DELC13,DELC13_FLAG_W,DELC14,DELC14_FLAG_W,C14ERR,NEON,NEON_FLAG_W,NEONER,DOC,DOC_FLAG_W,TDN,TDN_FLAG_W,CTDRAW,CDOM325,CDOM325_FLAG_W,CDOM340,CDOM340_FLAG_W,CDOM380,CDOM380_FLAG_W,CDOM412,CDOM412_FLAG_W,CDOMSL,CDOMSL_FLAG_W,CDOMSN,CDOMSN_FLAG_W,DCNS,ARABI,ARABI_FLAG_W,FUCO,FUCO_FLAG_W,GALA,GALA_FLAG_W,GLUC,GLUC_FLAG_W,MAN,MAN_FLAG_W,RHAM,RHAM_FLAG_W,BRDU,BRDU_FLAG_W,THETA,HELIER,DELHER
,,,,,,,,,,,METERS,DBAR,ITS-90,PSS-78,,PSS-78,,UMOL/KG,,UMOL/KG,,UMOL/KG,,UMOL/KG,,UMOL/KG,,UMOL/KG,,PMOL/KG,,PMOL/KG,,PMOL/KG,,UMOL/KG,,UMOL/KG,,UATM,,DEG C,,,DEG C,TU,,TU,NMOL/KG,,PERCNT,,/MILLE,,/MILLE,,/MILLE,NMOL/KG,,NMOL/KG,UMOL/KG,,UMOL/KG,,DBAR,1/M,,1/M,,1/M,,1/M,,1/NM,,1/NM,,NMOL/KG,NMOL/KG,,NMOL/KG,,NMOL/KG,,NMOL/KG,,NMOL/KG,,NMOL/KG,,PMOL/L/H,,DEG C,NMOL/KG,PERCNT
325020060213,       P16N,      13,          1,         35,         35,2,20060219,       0801,         -5,       -151,       4987,     5.0,  27.2033,  35.4715,2,  35.4701,2,    202.2,2,   203.0,2,    0.30,2,    4.50,2,    0.10,2,    0.48,2,   1.675,2,   1.032,2,-999.000,5,  2030.6,6,  2333.0,2,    328.4,2,    20.00,   8.0453,2,    25.00,   0.498,2,   0.003,   1.7104,2,   -1.44,2, -999.00,5,    58.1,2,     3.6,   6.710,2,   0.020,   65.90,2,    8.98,2,    5.00,-999.0000,9,-999.0000,9,-999.0000,9,-999.0000,9,-999.0000,9,-999.0000,9,     -999.0,     -999.0,9,     -999.0,9,     -999.0,9,     -999.0,9,     -999.0,9,     -999.0,9, -999.00,9,  27.2021,   0.0051,    0.14
325020060213,       P16N,      13,          1,         34,         34,2,20060219,       0801,         -5,       -151,       4987,    25.0,  27.1808,  35.4708,2,  35.4689,2,    202.2,2,   203.3,2,    0.40,2,    4.60,2,    0.10,2,    0.49,2,   1.691,2,   1.032,2,-999.000,5,  2028.4,2,  2332.3,2,    329.4,2,    20.00,   8.0256,2,    25.00,   0.494,2,   0.003,   1.7044,2,   -1.53,2, -999.00,9,  -999.0,9,    -9.0,   6.693,2,   0.020,   65.82,2,    9.09,2,   25.00,-999.0000,9,-999.0000,9,-999.0000,9,-999.0000,9,-999.0000,9,-999.0000,9,     -999.0,     -999.0,9,     -999.0,9,     -999.0,9,     -999.0,9,     -999.0,9,     -999.0,9, -999.00,9,  27.1750,   0.0051,    0.14
325020060213,       P16N,      13,          1,         33,         33,2,20060219,       0801,         -5,       -151,       4987,    49.8,  27.1197,  35.4593,2,  35.4594,2,    202.4,2,   203.2,2,    0.40,2,    4.60,2,    0.10,2,    0.50,2,-999.000,9,-999.000,9,-999.000,9,  2029.0,2,  2332.2,2,    330.0,6,    20.00,   8.0413,2,    25.00,   0.493,2,   0.003,   1.7075,2,   -1.48,2, -999.00,5,    53.6,2,     2.3,   6.696,2,   0.020,   64.78,2,    9.71,2,   49.80,-999.0000,9,-999.0000,9,-999.0000,9,-999.0000,9,-999.0000,9,-999.0000,9,     -999.0,     -999.0,9,     -999.0,9,     -999.0,9,     -999.0,9,     -999.0,9,     -999.0,9, -999.00,9,  27.1083,   0.0051,    0.14
325020060213,       P16N,      13,          1,         32,         32,2,20060219,       0801,         -5,       -151,       4987,    75.5,  26.8815,  35.4443,2,  35.4468,2,    202.2,2,   202.3,2,    0.40,2,    4.80,2,    0.10,2,    0.52,2,   1.694,2,   1.040,2,-999.000,5,  2031.8,2,  2333.8,2,    337.2,2,    20.00,-999.0000,9,  -999.00,   0.510,2,   0.003,   1.7045,2,   -1.58,2, -999.00,5,    69.6,2,     3.6,   6.684,2,   0.020,   64.33,2,    8.75,2,   75.50,-999.0000,9,-999.0000,9,-999.0000,9,-999.0000,9,-999.0000,9,-999.0000,9,     -999.0,     -999.0,9,     -999.0,9,     -999.0,9,     -999.0,9,     -999.0,9,     -999.0,9, -999.00,9,  26.8642,   0.0051,    0.14
325020060213,       P16N,      13,          1,         31,         31,2,20060219,       0801,         -5,       -151,       4987,   100.5,  26.7297,  35.4309,2,  35.4458,2,    199.9,2,   200.1,2,    0.50,2,    4.70,2,    0.20,2,    0.53,2,-999.000,9,-999.000,9,-999.000,9,  2033.2,2,  2333.3,2,    340.9,2,    20.00,   8.0327,2,    25.00,   0.514,2,   0.003,   1.7089,2,   -1.47,2, -999.00,5,    64.8,2,     3.9,   6.689,2,   0.020,   64.74,2,    9.26,2,  100.50,-999.0000,9,-999.0000,9,-999.0000,9,-999.0000,9,-999.0000,9,-999.0000,9,     -999.0,     -999.0,9,     -999.0,9,     -999.0,9,     -999.0,9,     -999.0,9,     -999.0,9, -999.00,9,  26.7067,   0.0051,    0.14
325020060213,       P16N,      13,          1,         30,         30,2,20060219,       0801,         -5,       -151,       4987,   125.4,  26.0863,  36.0890,2,  36.0962,2,    165.9,2,   170.1,2,    0.10,2,    3.40,2,    1.60,2,    0.55,2,   1.706,2,   1.057,2,-999.000,5,  2068.2,2,  2375.1,2,    349.8,2,    20.00,   8.0288,2,    25.00,   0.472,2,   0.003,   1.7165,2,   -1.28,2, -999.00,5,    63.1,2,     3.6,   6.757,2,   0.020,   63.44,2,    9.43,2,  125.40,-999.0000,9,-999.0000,9,-999.0000,9,-999.0000,9,-999.0000,9,-999.0000,9,     -999.0,     -999.0,9,     -999.0,9,     -999.0,9,     -999.0,9,     -999.0,9,     -999.0,9, -999.00,9,  26.0581,   0.0051,    0.14
325020060213,       P16N,      13,          1,         29,         29,2,20060219,       0801,         -5,       -151,       4987,   149.9,  23.5595,  36.1270,2,  36.1338,2,    152.9,2,   156.3,2,    0.30,2,    5.40,2,    0.80,2,    0.66,2,-999.000,9,-999.000,9,-999.000,9,  2103.7,2,  2379.4,2,    407.8,2,    20.00,   8.0223,2,    25.00,   0.440,2,   0.003,   1.7161,2,   -1.31,2, -999.00,5,    64.9,2,     3.6,   6.857,2,   0.021,   60.86,2,   10.15,2,  149.90,-999.0000,9,-999.0000,9,-999.0000,9,-999.0000,9,-999.0000,9,-999.0000,9,     -999.0,     -999.0,9,     -999.0,9,     -999.0,9,     -999.0,9,     -999.0,9,     -999.0,9, -999.00,9,  23.5282,   0.0051,    0.14
325020060213,       P16N,      13,          1,         28,         28,2,20060219,       0801,         -5,       -151,       4987,   200.0,  16.2122,  35.2518,2,  35.2430,2,     90.1,2,    90.4,2,    6.60,2,   17.70,2,    0.00,2,    1.46,2,-999.000,9,-999.000,9,-999.000,9,  2171.6,2,  2323.5,6,    769.3,2,    20.00,-999.0000,9,  -999.00,   0.310,2,   0.002,-999.0000,9,-999.000,9, -999.00,5,    53.9,2,     4.6,-999.000,9,-999.000,   49.89,2,   21.74,2,  200.00,-999.0000,9,-999.0000,9,-999.0000,9,-999.0000,9,-999.0000,9,-999.0000,9,     -999.0,     -999.0,9,     -999.0,9,     -999.0,9,     -999.0,9,     -999.0,9,     -999.0,9, -999.00,9,  16.1802,-999.0000,-999.000
325020060213,       P16N,      13,          1,         27,         27,2,20060219,       0801,         -5,       -151,       4987,   250.0,  12.2477,  34.9038,2,  34.9013,2,     38.6,2,    31.9,2,   19.90,2,   29.90,2,    0.00,2,    2.19,2,   0.728,6,   0.396,6,-999.000,5,  2231.9,6,  2305.0,2,   1291.1,6,    20.00,   7.5223,2,    25.00,   0.179,2,   0.002,   1.7803,2,    3.93,2, -999.00,5,   -12.5,2,     3.3,   7.364,2,   0.022,   46.70,2,   33.63,2,  250.00,-999.0000,9,-999.0000,9,-999.0000,9,-999.0000,9,-999.0000,9,-999.0000,9,     -999.0,     -999.0,9,     -999.0,9,     -999.0,9,     -999.0,9,     -999.0,9,     -999.0,9, -999.00,9,  12.2147,   0.0053,    0.14
325020060213,       P16N,      13,          1,         26,         26,2,20060219,       0801,         -5,       -151,       4987,   299.5,  10.8536,  34.8135,2,  34.8112,2,     48.5,2,    47.3,2,   23.90,2,   31.60,2,    0.00,2,    2.21,2,   0.482,2,   0.268,2,-999.000,5,  2231.2,2,  2306.0,2,   1301.7,2,    20.00,   7.5197,2,    25.00,   0.140,3,   0.002,   1.7790,2,    4.48,2, -999.00,5,   -41.1,2,     2.6,   7.474,2,   0.022,   45.93,2,   36.20,2,  299.50,-999.0000,9,-999.0000,9,-999.0000,9,-999.0000,9,-999.0000,9,-999.0000,9,     -999.0,     -999.0,9,     -999.0,9,     -999.0,9,     -999.0,9,     -999.0,9,     -999.0,9, -999.00,9,  10.8169,   0.0053,    0.14
325020060213,       P16N,      13,          1,         25,         25,2,20060219,       0801,         -5,       -151,       4987,   350.5,   9.9657,  34.7497,2,  34.7487,2,     49.0,2,    47.1,2,   27.70,2,   33.40,2,    0.00,2,    2.31,2,   0.348,2,   0.191,2,-999.000,5,  2238.7,2,  2305.9,2,   1371.7,2,    20.00,   7.4965,2,    25.00,-999.000,9,-999.000,-999.0000,9,-999.000,9, -999.00,5,   -53.1,2,     3.2,-999.000,9,-999.000,   45.28,2,   37.08,2,  350.50,-999.0000,9,-999.0000,9,-999.0000,9,-999.0000,9,-999.0000,9,-999.0000,9,     -999.0,     -999.0,9,     -999.0,9,     -999.0,9,     -999.0,9,     -999.0,9,     -999.0,9, -999.00,9,   9.9250,-999.0000,-999.000
325020060213,       P16N,      13,          1,         24,         24,2,20060219,       0801,         -5,       -151,       4987,   400.7,   9.3248,  34.7054,2,  34.7039,2,     60.8,2,    56.5,2,   29.10,2,   34.10,2,    0.00,2,    2.33,2,   0.346,2,   0.159,2,-999.000,5,  2243.4,2,  2305.9,2,   1362.1,2,    20.00,   7.4957,2,    25.00,   0.091,2,   0.002,   1.7992,2,    4.89,2, -999.00,5,   -62.0,2,     4.0,   7.590,2,   0.023,   44.36,2,   37.90,2,  400.70,-999.0000,9,-999.0000,9,-999.0000,9,-999.0000,9,-999.0000,9,-999.0000,9,     -999.0,     -999.0,9,     -999.0,9,     -999.0,9,     -999.0,9,     -999.0,9,     -999.0,9, -999.00,9,   9.2799,   0.0054,    0.14
325020060213,       P16N,      13,          1,         23,         23,2,20060219,       0801,         -5,       -151,       4987,   449.3,   8.4502,  34.6460,2,  34.6457,2,     89.9,2,    85.4,2,   29.80,2,   33.40,2,    0.00,2,    2.24,2,   0.303,2,   0.165,2,-999.000,5,  2231.9,2,  2305.1,2,   1231.4,6,    20.00,-999.0000,9,  -999.00,-999.000,9,-999.000,-999.0000,9,-999.000,9, -999.00,5,   -67.8,2,     3.1,-999.000,9,-999.000,   43.41,2,   37.44,2,  449.30,-999.0000,9,-999.0000,9,-999.0000,9,-999.0000,9,-999.0000,9,-999.0000,9,     -999.0,     -999.0,9,     -999.0,9,     -999.0,9,     -999.0,9,     -999.0,9,     -999.0,9, -999.00,9,   8.4027,-999.0000,-999.000
325020060213,       P16N,      13,          1,         22,         22,2,20060219,       0801,         -5,       -151,       4987,   499.3,   7.9352,  34.6201,2,  34.6190,2,     74.4,2,    75.0,2,   34.30,2,   35.70,2,    0.00,2,    2.40,2,   0.193,2,   0.106,2,-999.000,5,  2243.7,2,  2307.8,2,   1347.8,2,    20.00,-999.0000,9,  -999.00,   0.054,2,   0.001,   1.8156,2,    6.35,2, -999.00,5,   -89.1,2,     3.4,   7.689,2,   0.023,   42.15,2,   40.11,2,  499.30,-999.0000,9,-999.0000,9,-999.0000,9,-999.0000,9,-999.0000,9,-999.0000,9,     -999.0,     -999.0,9,     -999.0,9,     -999.0,9,     -999.0,9,     -999.0,9,     -999.0,9, -999.00,9,   7.8842,   0.0054,    0.14
325020060213,       P16N,      13,          1,         21,         21,2,20060219,       0801,         -5,       -151,       4987,   600.6,   7.0171,  34.5817,2,  34.5805,2,     66.8,2,    65.8,2,   43.50,2,   38.50,2,    0.00,2,    2.61,2,   0.061,2,   0.039,2,-999.000,5,  2261.7,2,  2314.3,2,   1479.4,2,    20.00,   7.4633,2,    25.00,   0.028,2,   0.001,   1.8247,2,    8.06,2, -999.00,5,  -105.1,2,     2.8,   7.737,2,   0.023,   41.64,2,   42.10,2,  600.60,-999.0000,9,-999.0000,9,-999.0000,9,-999.0000,9,-999.0000,9,-999.0000,9,     -999.0,     -999.0,9,     -999.0,9,     -999.0,9,     -999.0,9,     -999.0,9,     -999.0,9, -999.00,9,   6.9595,   0.0055,    0.14
325020060213,       P16N,      13,          1,         20,         20,2,20060219,       0801,         -5,       -151,       4987,   701.3,   6.3676,  34.5589,2,  34.5601,2,     72.5,2,    72.8,2,   49.70,2,   39.00,2,    0.00,2,    2.66,2,   0.028,2,   0.020,2,-999.000,5,  2266.6,2,  2320.8,2,   1468.6,2,    20.00,   7.4691,2,    25.00,   0.015,2,   0.001,   1.8386,2,    9.38,2, -999.00,5,  -124.0,2,     2.9,   7.791,2,   0.023,   40.92,2,   42.73,2,  701.30,-999.0000,9,-999.0000,9,-999.0000,9,-999.0000,9,-999.0000,9,-999.0000,9,     -999.0,     -999.0,9,     -999.0,9,     -999.0,9,     -999.0,9,     -999.0,9,     -999.0,9, -999.00,9,   6.3034,   0.0055,    0.14
325020060213,       P16N,      13,          1,         19,         19,2,20060219,       0801,         -5,       -151,       4987,   800.8,   5.6009,  34.5442,2,  34.5436,2,     80.9,2,    81.2,2,   59.30,2,   39.50,2,    0.00,2,    2.71,2,   0.016,6,   0.011,6,-999.000,5,  2274.6,2,  2330.0,2,   1456.1,2,    20.00,   7.4668,2,    25.00,-999.000,9,-999.000,   1.8439,2,   11.91,2, -999.00,5,  -139.2,2,     2.8,   7.817,2,   0.023,   40.32,2,   43.63,2,  800.80,-999.0000,9,-999.0000,9,-999.0000,9,-999.0000,9,-999.0000,9,-999.0000,9,     -999.0,     -999.0,9,     -999.0,9,     -999.0,9,     -999.0,9,     -999.0,9,     -999.0,9, -999.00,9,   5.5316,   0.0055,    0.14
325020060213,       P16N,      13,          1,         18,         18,2,20060219,       0801,         -5,       -151,       4987,   902.1,   5.0207,  34.5433,2,  34.5440,2,     87.0,2,    86.3,2,   68.60,2,   39.70,2,    0.00,2,    2.73,2,   0.011,2,   0.007,2,-999.000,5,  2282.8,2,  2340.9,2,   1451.1,2,    20.00,   7.4831,2,    25.00,   0.000,2,   0.001,   1.8823,2,   13.85,2, -999.00,9,  -999.0,9,    -9.0,   7.958,2,   0.024,   39.70,2,   43.71,2,  902.10,-999.0000,9,-999.0000,9,-999.0000,9,-999.0000,9,-999.0000,9,-999.0000,9,     -999.0,     -999.0,9,     -999.0,9,     -999.0,9,     -999.0,9,     -999.0,9,     -999.0,9, -999.00,9,   4.9460,   0.0056,    0.14
325020060213,       P16N,      13,          1,         17,         17,2,20060219,       0801,         -5,       -151,       4987,  1001.0,   4.5267,  34.5498,2,  34.5513,2,     87.1,2,    87.0,2,   78.00,2,   39.90,2,    0.00,2,    2.79,2,  -0.002,2,   0.004,2,-999.000,5,  2292.5,2,  2349.5,6,   1466.9,2,    20.00,   7.4808,2,    25.00,   0.004,2,   0.001,   1.8849,2,   16.07,2, -999.00,9,  -999.0,9,    -9.0,   7.936,2,   0.024,   39.28,2,   44.22,2, 1001.00,-999.0000,9,-999.0000,9,-999.0000,9,-999.0000,9,-999.0000,9,-999.0000,9,     -999.0,     -999.0,9,     -999.0,9,     -999.0,9,     -999.0,9,     -999.0,9,     -999.0,9, -999.00,9,   4.4468,   0.0057,    0.14
325020060213,       P16N,      13,          1,         16,         16,2,20060219,       0801,         -5,       -151,       4987,  1200.0,   3.7781,  34.5702,2,  34.5717,2,     95.6,2,    95.4,2,   94.50,2,   39.70,2,    0.00,2,    2.79,2,-999.000,9,-999.000,9,-999.000,9,  2306.2,2,  2368.5,2,   1435.0,2,    20.00,   7.4879,2,    25.00,   0.020,2,   0.001,   1.9511,2,   19.64,2, -999.00,9,  -999.0,9,    -9.0,   8.203,2,   0.025,   38.86,2,   43.98,2, 1200.00,-999.0000,9,-999.0000,9,-999.0000,9,-999.0000,9,-999.0000,9,-999.0000,9,     -999.0,     -999.0,9,     -999.0,9,     -999.0,9,     -999.0,9,     -999.0,9,     -999.0,9, -999.00,9,   3.6874,   0.0059,    0.14
325020060213,       P16N,      13,          1,         15,         15,2,20060219,       0801,         -5,       -151,       4987,  1400.5,   3.1220,  34.5966,2,  34.5972,2,    103.3,2,   103.7,2,  109.90,2,   39.30,2,    0.00,2,    2.77,2,-999.000,9,-999.000,9,-999.000,9,  2318.8,2,  2385.5,2,   1395.8,2,    20.00,   7.5042,2,    25.00,-999.000,9,-999.000,-999.0000,9,-999.000,9, -999.00,9,  -999.0,9,    -9.0,-999.000,9,-999.000,   37.93,2,   42.44,2, 1400.50,-999.0000,9,-999.0000,9,-999.0000,9,-999.0000,9,-999.0000,9,-999.0000,9,     -999.0,     -999.0,9,     -999.0,9,     -999.0,9,     -999.0,9,     -999.0,9,     -999.0,9, -999.00,9,   3.0210,-999.0000,-999.000
325020060213,       P16N,      13,          1,         14,         14,2,20060219,       0801,         -5,       -151,       4987,  1600.9,   2.6996,  34.6176,2,  34.6175,2,    109.5,2,   110.2,2,  120.50,2,   38.80,2,    0.00,2,    2.74,2,-999.000,9,-999.000,9,-999.000,9,  2325.5,2,  2398.5,2,   1361.8,2,    20.00,   7.5136,2,    25.00,-999.000,9,-999.000,-999.0000,9,-999.000,9, -999.00,9,  -999.0,9,    -9.0,-999.000,9,-999.000,   38.71,2,   42.39,2, 1600.90,-999.0000,9,-999.0000,9,-999.0000,9,-999.0000,9,-999.0000,9,-999.0000,9,     -999.0,     -999.0,9,     -999.0,9,     -999.0,9,     -999.0,9,     -999.0,9,     -999.0,9, -999.00,9,   2.5868,-999.0000,-999.000
325020060213,       P16N,      13,          1,         13,         13,2,20060219,       0801,         -5,       -151,       4987,  1801.2,   2.4454,  34.6327,2,  34.6316,2,    112.5,2,   113.1,2,  127.50,2,   38.80,2,    0.00,2,    2.73,2,  -0.002,2,   0.001,2,-999.000,5,  2331.9,2,  2405.9,2,   1343.1,2,    20.00,   7.5181,2,    25.00,-999.000,9,-999.000,-999.0000,9,-999.000,9, -999.00,9,  -999.0,9,    -9.0,-999.000,9,-999.000,   37.79,2,   42.18,2, 1801.20,-999.0000,9,-999.0000,9,-999.0000,9,-999.0000,9,-999.0000,9,-999.0000,9,     -999.0,     -999.0,9,     -999.0,9,     -999.0,9,     -999.0,9,     -999.0,9,     -999.0,9, -999.00,9,   2.3192,-999.0000,-999.000
325020060213,       P16N,      13,          1,         12,         12,2,20060219,       0801,         -5,       -151,       4987,  2001.8,   2.2144,  34.6459,2,  34.6456,2,    118.6,2,   119.7,2,  132.40,2,   38.40,2,    0.00,2,    2.70,2,-999.000,9,-999.000,9,-999.000,9,  2332.3,2,  2412.0,2,   1313.3,2,    20.00,   7.5249,2,    25.00,-999.000,9,-999.000,-999.0000,9,-999.000,9, -999.00,9,  -999.0,9,    -9.0,-999.000,9,-999.000,   36.69,2,   41.54,2, 2001.80,-999.0000,9,-999.0000,9,-999.0000,9,-999.0000,9,-999.0000,9,-999.0000,9,     -999.0,     -999.0,9,     -999.0,9,     -999.0,9,     -999.0,9,     -999.0,9,     -999.0,9, -999.00,9,   2.0745,-999.0000,-999.000
325020060213,       P16N,      13,          1,         11,         11,2,20060219,       0801,         -5,       -151,       4987,  2251.1,   2.0379,  34.6569,2,  34.6576,2,    123.4,2,   123.8,2,  136.50,2,   38.10,2,    0.00,2,    2.68,2,-999.000,9,-999.000,9,-999.000,9,  2334.0,2,  2416.1,2,   1285.0,2,    20.00,-999.0000,9,  -999.00,-999.000,9,-999.000,-999.0000,9,-999.000,9, -999.00,9,  -999.0,9,    -9.0,-999.000,9,-999.000,   37.29,2,   41.98,2, 2251.10,-999.0000,9,-999.0000,9,-999.0000,9,-999.0000,9,-999.0000,9,-999.0000,9,     -999.0,     -999.0,9,     -999.0,9,     -999.0,9,     -999.0,9,     -999.0,9,     -999.0,9, -999.00,9,   1.8793,-999.0000,-999.000
325020060213,       P16N,      13,          1,         10,         10,2,20060219,       0801,         -5,       -151,       4987,  2500.7,   1.9014,  34.6657,2,  34.6678,2,    128.5,2,   129.1,2,  139.00,2,   37.80,2,    0.00,2,    2.65,2,-999.000,9,-999.000,9,-999.000,9,  2333.8,2,  2418.8,2,   1255.8,2,    20.00,   7.5687,2,    25.00,-999.000,9,-999.000,-999.0000,9,-999.000,9, -999.00,9,  -999.0,9,    -9.0,-999.000,9,-999.000,   36.36,2,   41.06,2, 2500.70,-999.0000,9,-999.0000,9,-999.0000,9,-999.0000,9,-999.0000,9,-999.0000,9,     -999.0,     -999.0,9,     -999.0,9,     -999.0,9,     -999.0,9,     -999.0,9,     -999.0,9, -999.00,9,   1.7228,-999.0000,-999.000
325020060213,       P16N,      13,          1,          9,          9,2,20060219,       0801,         -5,       -151,       4987,  2747.0,   1.7969,  34.6729,2,  34.6723,2,    136.0,2,   137.0,2,  138.60,2,   37.30,2,    0.00,2,    2.61,2,   0.002,2,   0.001,2,-999.000,5,  2328.6,2,  2419.8,2,   1220.6,6,    20.00,   7.5635,2,    25.00,-999.000,9,-999.000,-999.0000,9,-999.000,9, -999.00,9,  -999.0,9,    -9.0,-999.000,9,-999.000,   38.10,2,   40.83,2, 2747.00,-999.0000,9,-999.0000,9,-999.0000,9,-999.0000,9,-999.0000,9,-999.0000,9,     -999.0,     -999.0,9,     -999.0,9,     -999.0,9,     -999.0,9,     -999.0,9,     -999.0,9, -999.00,9,   1.5977,-999.0000,-999.000