BOTTLE,20170720CCHSIOCBG
EXPOCODE,SECT_ID,STNNBR,CASTNO,SAMPNO,BTLNBR,BTLNBR_FLAG_W,DATE,TIME,LATITUDE,LONGITUDE,DEPTH,CTDPRS,CTDTMP,CTDSAL,CTDSAL_FLAG_W,SALNTY,SALNTY_FLAG_W,CTDOXY,CTDOXY_FLAG_W,OXYGEN,OXYGEN_FLAG_W,SILCAT,SILCAT_FLAG_W,NITRAT,NITRAT_FLAG_W,NITRIT,NITRIT_FLAG_W,PHSPHT,PHSPHT_FLAG_W,CFC-11,CFC-11_FLAG_W,CFC-12,CFC-12_FLAG_W,CFC113,CFC113_FLAG_W,TCARBN,TCARBN_FLAG_W,ALKALI,ALKALI_FLAG_W,FCO2,FCO2_FLAG_W,FCO2TMP,PH_TOT,PH_TOT_FLAG_W,PH_TMP,TRITUM,TRITUM_FLAG_W,TRITER,HELIUM,HELIUM_FLAG_W,DELHE3,DELHE3_FLAG_W,DELC13,DELC13_FLAG_W,DELC14,DELC14_FLAG_W,C14ERR,NEON,NEON_FLAG_W,NEONER,DOC,DOC_FLAG_W,TDN,TDN_FLAG_W,CTDRAW,CDOM325,CDOM325_FLAG_W,CDOM340,CDOM340_FLAG_W,CDOM380,CDOM380_FLAG_W,CDOM412,CDOM412_FLAG_W,CDOMSL,CDOMSL_FLAG_W,CDOMSN,CDOMSN_FLAG_W,DCNS,ARABI,ARABI_FLAG_W,FUCO,FUCO_FLAG_W,GALA,GALA_FLAG_W,GLUC,GLUC_FLAG_W,MAN,MAN_FLAG_W,RHAM,RHAM_FLAG_W,BRDU,BRDU_FLAG_W,THETA,HELIER,DELHER
,,,,,,,,,,,METERS,DBAR,ITS-90,PSS-78,,PSS-78,,UMOL/KG,,UMOL/KG,,UMOL/KG,,UMOL/KG,,UMOL/KG,,UMOL/KG,,PMOL/KG,,PMOL/KG,,PMOL/KG,,UMOL/KG,,UMOL/KG,,UATM,,DEG C,,,DEG C,TU,,TU,NMOL/KG,,PERCNT,,/MILLE,,/MILLE,,/MILLE,NMOL/KG,,NMOL/KG,UMOL/KG,,UMOL/KG,,DBAR,1/M,,1/M,,1/M,,1/M,,1/NM,,1/NM,,NMOL/KG,NMOL/KG,,NMOL/KG,,NMOL/KG,,NMOL/KG,,NMOL/KG,,NMOL/KG,,PMOL/L/H,,DEG C,NMOL/KG,PERCNT
325020060213,       P16N,       8,          2,          8,          8,2,20060217,       0923,        -10,       -151,       4664,  2873.6,   1.7424,  34.6787,2,  34.6765,2,    147.1,2,   148.1,2,  133.90,2,   36.70,2,    0.00,2,    2.52,2,-999.000,9,-999.000,9,-999.000,9,  2322.1,2,  2417.5,2,   -999.0,9,  -999.00,   7.5792,2,    25.00,-999.000,9,-999.000,-999.0000,9,-999.000,9, -999.00,9,  -999.0,9,    -9.0,-999.000,9,-999.000,   36.54,2,   39.76,2, 2873.60,-999.0000,9,-999.0000,9,-999.0000,9,-999.0000,9,-999.0000,9,-999.0000,9,     -999.0,     -999.0,9,     -999.0,9,     -999.0,9,     -999.0,9,     -999.0,9,     -999.0,9, -999.00,9,   1.5323,-999.0000,-999.000
325020060213,       P16N,       8,          2,          7,          7,2,20060217,       0923,        -10,       -151,       4664,  3123.8,   1.6623,  34.6840,2,  34.6816,2,    151.7,2,   152.9,2,  134.70,2,   36.60,2,    0.00,2,    2.50,2,-999.000,9,-999.000,9,-999.000,9,  2319.6,2,  -999.0,5,   -999.0,9,  -999.00,   7.5965,2,    25.00,-999.000,9,-999.000,-999.0000,9,-999.000,9, -999.00,9,  -999.0,9,    -9.0,-999.000,9,-999.000,   36.75,2,   40.03,2, 3123.80,-999.0000,9,-999.0000,9,-999.0000,9,-999.0000,9,-999.0000,9,-999.0000,9,     -999.0,     -999.0,9,     -999.0,9,     -999.0,9,     -999.0,9,     -999.0,9,     -999.0,9, -999.00,9,   1.4299,-999.0000,-999.000
325020060213,       P16N,       8,          2,          6,          6,2,20060217,       0923,        -10,       -151,       4664,  3450.3,   1.5666,  34.6898,2,  34.6885,2,    158.7,2,   160.0,2,  133.90,2,   36.10,2,    0.00,2,    2.46,2,-999.000,9,-999.000,9,-999.000,9,  2314.0,2,  2415.2,6,   -999.0,9,  -999.00,   7.5996,2,    25.00,-999.000,9,-999.000,-999.0000,9,-999.000,9, -999.00,9,  -999.0,9,    -9.0,-999.000,9,-999.000,   37.02,2,   39.33,2, 3450.30,-999.0000,9,-999.0000,9,-999.0000,9,-999.0000,9,-999.0000,9,-999.0000,9,     -999.0,     -999.0,9,     -999.0,9,     -999.0,9,     -999.0,9,     -999.0,9,     -999.0,9, -999.00,9,   1.3038,-999.0000,-999.000
325020060213,       P16N,       8,          2,          5,          5,2,20060217,       0923,        -10,       -151,       4664,  3851.1,   1.4268,  34.6975,2,  34.7001,2,    171.6,2,   172.8,2,  129.40,6,   35.00,6,    0.00,6,    2.39,6,-999.000,1,-999.000,1,-999.000,9,  2299.0,2,  2402.7,2,   -999.0,9,  -999.00,   7.5981,2,    25.00,-999.000,9,-999.000,-999.0000,9,-999.000,9, -999.00,9,  -999.0,9,    -9.0,-999.000,9,-999.000,   37.33,2,   38.67,2, 3851.10,-999.0000,9,-999.0000,9,-999.0000,9,-999.0000,9,-999.0000,9,-999.0000,9,     -999.0,     -999.0,9,     -999.0,9,     -999.0,9,     -999.0,9,     -999.0,9,     -999.0,9, -999.00,9,   1.1258,-999.0000,-999.000
325020060213,       P16N,       8,          2,          4,          4,2,20060217,       0923,        -10,       -151,       4664,  4300.7,   1.3615,  34.7029,2,  34.7011,2,    180.9,2,   181.7,2,  126.00,6,   34.30,6,    0.00,6,    2.34,6,-999.000,9,-999.000,9,-999.000,9,  2288.7,2,  2394.9,2,   -999.0,9,  -999.00,   7.6039,2,    25.00,-999.000,9,-999.000,-999.0000,9,-999.000,9, -999.00,9,  -999.0,9,    -9.0,-999.000,9,-999.000,   37.66,2,   38.17,2, 4300.70,-999.0000,9,-999.0000,9,-999.0000,9,-999.0000,9,-999.0000,9,-999.0000,9,     -999.0,     -999.0,9,     -999.0,9,     -999.0,9,     -999.0,9,     -999.0,9,     -999.0,9, -999.00,9,   1.0133,-999.0000,-999.000
325020060213,       P16N,       8,          2,          3,          3,2,20060217,       0923,        -10,       -151,       4664,  4498.4,   1.3258,  34.7053,2,  34.7058,2,    185.6,2,   186.5,2,  123.80,6,   33.80,6,    0.00,6,    2.31,6,   0.003,2,  -0.001,2,-999.000,5,  2281.8,2,  2388.2,2,   -999.0,9,  -999.00,   7.6175,2,    25.00,-999.000,9,-999.000,-999.0000,9,-999.000,9, -999.00,9,  -999.0,9,    -9.0,-999.000,9,-999.000,   38.24,2,   37.13,2, 4498.40,-999.0000,9,-999.0000,9,-999.0000,9,-999.0000,9,-999.0000,9,-999.0000,9,     -999.0,     -999.0,9,     -999.0,9,     -999.0,9,     -999.0,9,     -999.0,9,     -999.0,9, -999.00,9,   0.9563,-999.0000,-999.000
325020060213,       P16N,       8,          2,          1,          1,2,20060217,       0923,        -10,       -151,       4664,  4759.2,   1.3135,  34.7073,2,  34.7093,2,    189.9,2,   190.2,2,  122.00,6,   33.60,6,    0.00,6,    2.28,6,  -0.001,2,  -0.001,2,-999.000,5,  2278.4,6,  2384.1,2,   -999.0,9,  -999.00,-999.0000,9,  -999.00,-999.000,9,-999.000,-999.0000,9,-999.000,9, -999.00,9,  -999.0,9,    -9.0,-999.000,9,-999.000,   38.39,2,   37.51,2, 4759.20,-999.0000,9,-999.0000,9,-999.0000,9,-999.0000,9,-999.0000,9,-999.0000,9,     -999.0,     -999.0,9,     -999.0,9,     -999.0,9,     -999.0,9,     -999.0,9,     -999.0,9, -999.00,9,   0.9141,-999.0000,-999.000