BOTTLE,20170720CCHSIOCBG
EXPOCODE,SECT_ID,STNNBR,CASTNO,SAMPNO,BTLNBR,BTLNBR_FLAG_W,DATE,TIME,LATITUDE,LONGITUDE,DEPTH,CTDPRS,CTDTMP,CTDSAL,CTDSAL_FLAG_W,SALNTY,SALNTY_FLAG_W,CTDOXY,CTDOXY_FLAG_W,OXYGEN,OXYGEN_FLAG_W,SILCAT,SILCAT_FLAG_W,NITRAT,NITRAT_FLAG_W,NITRIT,NITRIT_FLAG_W,PHSPHT,PHSPHT_FLAG_W,CFC-11,CFC-11_FLAG_W,CFC-12,CFC-12_FLAG_W,CFC113,CFC113_FLAG_W,TCARBN,TCARBN_FLAG_W,ALKALI,ALKALI_FLAG_W,FCO2,FCO2_FLAG_W,FCO2TMP,PH_TOT,PH_TOT_FLAG_W,PH_TMP,TRITUM,TRITUM_FLAG_W,TRITER,HELIUM,HELIUM_FLAG_W,DELHE3,DELHE3_FLAG_W,DELC13,DELC13_FLAG_W,DELC14,DELC14_FLAG_W,C14ERR,NEON,NEON_FLAG_W,NEONER,DOC,DOC_FLAG_W,TDN,TDN_FLAG_W,CTDRAW,CDOM325,CDOM325_FLAG_W,CDOM340,CDOM340_FLAG_W,CDOM380,CDOM380_FLAG_W,CDOM412,CDOM412_FLAG_W,CDOMSL,CDOMSL_FLAG_W,CDOMSN,CDOMSN_FLAG_W,DCNS,ARABI,ARABI_FLAG_W,FUCO,FUCO_FLAG_W,GALA,GALA_FLAG_W,GLUC,GLUC_FLAG_W,MAN,MAN_FLAG_W,RHAM,RHAM_FLAG_W,BRDU,BRDU_FLAG_W,THETA,HELIER,DELHER
,,,,,,,,,,,METERS,DBAR,ITS-90,PSS-78,,PSS-78,,UMOL/KG,,UMOL/KG,,UMOL/KG,,UMOL/KG,,UMOL/KG,,UMOL/KG,,PMOL/KG,,PMOL/KG,,PMOL/KG,,UMOL/KG,,UMOL/KG,,UATM,,DEG C,,,DEG C,TU,,TU,NMOL/KG,,PERCNT,,/MILLE,,/MILLE,,/MILLE,NMOL/KG,,NMOL/KG,UMOL/KG,,UMOL/KG,,DBAR,1/M,,1/M,,1/M,,1/M,,1/NM,,1/NM,,NMOL/KG,NMOL/KG,,NMOL/KG,,NMOL/KG,,NMOL/KG,,NMOL/KG,,NMOL/KG,,PMOL/L/H,,DEG C,NMOL/KG,PERCNT
325020060213,       P16N,      22,          2,          8,          8,2,20060222,       0809,          1,       -151,       3758,  2700.9,   1.8209,  34.6709,2,  34.6703,2,    124.0,2,   125.0,2,  146.60,2,   38.40,2,    0.00,2,    2.64,2,-999.000,9,-999.000,9,-999.000,9,  2343.4,2,  2428.0,2,   -999.0,9,  -999.00,   7.5440,2,    25.00,-999.000,9,-999.000,-999.0000,9,-999.000,9, -999.00,9,  -999.0,9,    -9.0,-999.000,9,-999.000,   36.89,2,   42.60,2, 2700.90,-999.0000,9,-999.0000,9,-999.0000,9,-999.0000,9,-999.0000,9,-999.0000,9,     -999.0,     -999.0,9,     -999.0,9,     -999.0,9,     -999.0,9,     -999.0,9,     -999.0,9, -999.00,9,   1.6255,-999.0000,-999.000
325020060213,       P16N,      22,          2,          7,          7,2,20060222,       0809,          1,       -151,       3758,  2898.6,   1.7005,  34.6770,2,  34.6768,2,    132.7,2,   132.4,2,  146.00,2,   37.70,2,    0.00,2,    2.60,2,-999.000,9,-999.000,9,-999.000,9,  2337.2,2,  2426.6,2,   1245.8,2,    20.00,   7.5479,2,    25.00,-999.000,9,-999.000,-999.0000,9,-999.000,9, -999.00,9,  -999.0,9,    -9.0,-999.000,9,-999.000,   38.39,2,   41.69,2, 2898.60,-999.0000,9,-999.0000,9,-999.0000,9,-999.0000,9,-999.0000,9,-999.0000,9,     -999.0,     -999.0,9,     -999.0,9,     -999.0,9,     -999.0,9,     -999.0,9,     -999.0,9, -999.00,9,   1.4890,-999.0000,-999.000
325020060213,       P16N,      22,          2,          6,          6,2,20060222,       0809,          1,       -151,       3758,  3149.6,   1.6781,  34.6788,2,  34.6780,2,    135.5,2,   135.4,2,  145.50,2,   37.50,2,    0.00,2,    2.58,2,-999.000,9,-999.000,9,-999.000,9,  2326.8,3,  2426.3,6,   1225.4,6,    20.00,   7.5517,2,    25.00,-999.000,9,-999.000,-999.0000,9,-999.000,9, -999.00,9,  -999.0,9,    -9.0,-999.000,9,-999.000,   38.41,2,   41.49,2, 3149.60,-999.0000,9,-999.0000,9,-999.0000,9,-999.0000,9,-999.0000,9,-999.0000,9,     -999.0,     -999.0,9,     -999.0,9,     -999.0,9,     -999.0,9,     -999.0,9,     -999.0,9, -999.00,9,   1.4428,-999.0000,-999.000
325020060213,       P16N,      22,          2,          5,          5,2,20060222,       0809,          1,       -151,       3758,  3299.9,   1.6335,  34.6819,2,  34.6816,2,    138.9,2,   138.3,2,  145.40,6,   37.20,6,    0.00,6,    2.57,6,-999.000,9,-999.000,9,-999.000,9,  2332.2,2,  2427.3,2,   1216.2,2,    20.00,   7.5627,2,    25.00,-999.000,9,-999.000,-999.0000,9,-999.000,9, -999.00,9,  -999.0,9,    -9.0,-999.000,9,-999.000,   38.64,2,   41.28,2, 3299.90,-999.0000,9,-999.0000,9,-999.0000,9,-999.0000,9,-999.0000,9,-999.0000,9,     -999.0,     -999.0,9,     -999.0,9,     -999.0,9,     -999.0,9,     -999.0,9,     -999.0,9, -999.00,9,   1.3843,-999.0000,-999.000
325020060213,       P16N,      22,          2,          4,          4,2,20060222,       0809,          1,       -151,       3758,  3450.7,   1.4958,  34.6901,2,  34.6896,2,    149.9,2,   149.5,2,  144.30,6,   36.50,6,    0.00,6,    2.50,6,-999.000,9,-999.000,9,-999.000,9,  2326.4,2,  2427.5,2,   -999.0,9,  -999.00,   7.5852,2,    25.00,-999.000,9,-999.000,-999.0000,9,-999.000,9, -999.00,9,  -999.0,9,    -9.0,-999.000,9,-999.000,   38.35,2,   40.42,2, 3450.70,-999.0000,9,-999.0000,9,-999.0000,9,-999.0000,9,-999.0000,9,-999.0000,9,     -999.0,     -999.0,9,     -999.0,9,     -999.0,9,     -999.0,9,     -999.0,9,     -999.0,9, -999.00,9,   1.2347,-999.0000,-999.000
325020060213,       P16N,      22,          2,          3,          3,2,20060222,       0809,          1,       -151,       3758,  3650.8,   1.4526,  34.6935,2,  34.6928,2,    154.4,2,   153.7,2,  144.50,6,   36.40,6,    0.00,6,    2.48,6,-999.000,9,-999.000,9,-999.000,9,  2325.9,2,  2429.2,2,   1131.3,2,    20.00,   7.5935,2,    25.00,-999.000,9,-999.000,-999.0000,9,-999.000,9, -999.00,9,  -999.0,9,    -9.0,-999.000,9,-999.000,   38.23,2,   40.12,2, 3650.80,-999.0000,9,-999.0000,9,-999.0000,9,-999.0000,9,-999.0000,9,-999.0000,9,     -999.0,     -999.0,9,     -999.0,9,     -999.0,9,     -999.0,9,     -999.0,9,     -999.0,9, -999.00,9,   1.1721,-999.0000,-999.000
325020060213,       P16N,      22,          2,          1,          1,2,20060222,       0809,          1,       -151,       3758,  3823.8,   1.4145,  34.6966,2,  34.6949,2,    158.8,2,   158.7,2,  143.50,6,   36.10,6,    0.00,6,    2.46,6,-999.000,9,-999.000,9,-999.000,9,  2322.7,6,  2428.7,2,   1095.5,2,    20.00,   7.5995,2,    25.00,-999.000,9,-999.000,-999.0000,9,-999.000,9, -999.00,9,  -999.0,9,    -9.0,-999.000,9,-999.000,   38.63,2,   40.11,2, 3823.80,-999.0000,9,-999.0000,9,-999.0000,9,-999.0000,9,-999.0000,9,-999.0000,9,     -999.0,     -999.0,9,     -999.0,9,     -999.0,9,     -999.0,9,     -999.0,9,     -999.0,9, -999.00,9,   1.1168,-999.0000,-999.000