BOTTLE,20170720CCHSIOCBG
EXPOCODE,SECT_ID,STNNBR,CASTNO,SAMPNO,BTLNBR,BTLNBR_FLAG_W,DATE,TIME,LATITUDE,LONGITUDE,DEPTH,CTDPRS,CTDTMP,CTDSAL,CTDSAL_FLAG_W,SALNTY,SALNTY_FLAG_W,CTDOXY,CTDOXY_FLAG_W,OXYGEN,OXYGEN_FLAG_W,SILCAT,SILCAT_FLAG_W,NITRAT,NITRAT_FLAG_W,NITRIT,NITRIT_FLAG_W,PHSPHT,PHSPHT_FLAG_W,CFC-11,CFC-11_FLAG_W,CFC-12,CFC-12_FLAG_W,CFC113,CFC113_FLAG_W,TCARBN,TCARBN_FLAG_W,ALKALI,ALKALI_FLAG_W,FCO2,FCO2_FLAG_W,FCO2TMP,PH_TOT,PH_TOT_FLAG_W,PH_TMP,TRITUM,TRITUM_FLAG_W,TRITER,HELIUM,HELIUM_FLAG_W,DELHE3,DELHE3_FLAG_W,DELC13,DELC13_FLAG_W,DELC14,DELC14_FLAG_W,C14ERR,NEON,NEON_FLAG_W,NEONER,DOC,DOC_FLAG_W,TDN,TDN_FLAG_W,CTDRAW,CDOM325,CDOM325_FLAG_W,CDOM340,CDOM340_FLAG_W,CDOM380,CDOM380_FLAG_W,CDOM412,CDOM412_FLAG_W,CDOMSL,CDOMSL_FLAG_W,CDOMSN,CDOMSN_FLAG_W,DCNS,ARABI,ARABI_FLAG_W,FUCO,FUCO_FLAG_W,GALA,GALA_FLAG_W,GLUC,GLUC_FLAG_W,MAN,MAN_FLAG_W,RHAM,RHAM_FLAG_W,BRDU,BRDU_FLAG_W,THETA,HELIER,DELHER
,,,,,,,,,,,METERS,DBAR,ITS-90,PSS-78,,PSS-78,,UMOL/KG,,UMOL/KG,,UMOL/KG,,UMOL/KG,,UMOL/KG,,UMOL/KG,,PMOL/KG,,PMOL/KG,,PMOL/KG,,UMOL/KG,,UMOL/KG,,UATM,,DEG C,,,DEG C,TU,,TU,NMOL/KG,,PERCNT,,/MILLE,,/MILLE,,/MILLE,NMOL/KG,,NMOL/KG,UMOL/KG,,UMOL/KG,,DBAR,1/M,,1/M,,1/M,,1/M,,1/NM,,1/NM,,NMOL/KG,NMOL/KG,,NMOL/KG,,NMOL/KG,,NMOL/KG,,NMOL/KG,,NMOL/KG,,PMOL/L/H,,DEG C,NMOL/KG,PERCNT
325020060213,       P16N,      22,          2,         35,         35,2,20060222,       0809,          1,       -151,       3758,     4.4,  25.3021,  35.1287,2,  35.1278,2,    201.8,2,   201.9,2,    2.20,2,    5.70,2,    0.30,2,    0.53,2,   1.807,2,   1.105,2,-999.000,5,  2036.8,6,  2310.7,2,    364.0,2,    20.00,   8.0008,2,    25.00,   0.476,2,   0.005,   1.6630,2,   -1.78,2, -999.00,5,    63.0,2,     3.0,   6.720,2,   0.020,   61.86,2,    9.59,2,    4.40,-999.0000,9,-999.0000,9,-999.0000,9,-999.0000,9,-999.0000,9,-999.0000,9,     -999.0,     -999.0,9,     -999.0,9,     -999.0,9,     -999.0,9,     -999.0,9,     -999.0,9, -999.00,9,  25.3012,   0.0050,    0.14
325020060213,       P16N,      22,          2,         34,         34,2,20060222,       0809,          1,       -151,       3758,    14.6,  25.3050,  35.1278,2,  35.1272,2,    202.1,2,   201.6,2,    2.20,2,    5.70,2,    0.30,2,    0.53,2,-999.000,9,-999.000,9,-999.000,9,  2039.1,2,  2310.4,2,    364.2,2,    20.00,   7.9747,2,    25.00,   0.513,2,   0.003,   1.6921,2,   -1.14,2, -999.00,9,  -999.0,9,    -9.0,   6.756,2,   0.020,   61.64,2,   10.51,2,   14.60,-999.0000,9,-999.0000,9,-999.0000,9,-999.0000,9,-999.0000,9,-999.0000,9,     -999.0,     -999.0,9,     -999.0,9,     -999.0,9,     -999.0,9,     -999.0,9,     -999.0,9, -999.00,9,  25.3018,   0.0051,    0.14
325020060213,       P16N,      22,          2,         33,         33,2,20060222,       0809,          1,       -151,       3758,    35.2,  24.8622,  35.0809,2,  35.0827,2,    194.2,2,   194.7,2,    2.40,2,    6.10,2,    0.70,2,    0.57,2,   1.827,2,   1.105,2,-999.000,5,  2041.0,2,  2303.5,2,   -999.0,9,  -999.00,   7.9849,2,    25.00,   0.544,2,   0.004,   1.6550,2,   -1.41,2, -999.00,5,    65.6,2,     3.9,   6.724,2,   0.020,   61.72,2,   10.63,2,   35.20,-999.0000,9,-999.0000,9,-999.0000,9,-999.0000,9,-999.0000,9,-999.0000,9,     -999.0,     -999.0,9,     -999.0,9,     -999.0,9,     -999.0,9,     -999.0,9,     -999.0,9, -999.00,9,  24.8546,   0.0050,    0.14
325020060213,       P16N,      22,          2,         32,         32,2,20060222,       0809,          1,       -151,       3758,    61.3,  24.1609,  35.0505,2,  35.0506,2,    181.1,2,   181.8,2,    3.20,2,    7.30,2,    1.10,2,    0.66,2,   1.826,2,   1.105,2,-999.000,5,  2054.0,2,  2303.5,2,    406.9,2,    20.00,   7.9472,2,    25.00,   0.544,2,   0.004,-999.0000,9,-999.000,9, -999.00,5,    60.1,2,     3.8,-999.000,9,-999.000,   57.91,2,   12.67,2,   61.30,-999.0000,9,-999.0000,9,-999.0000,9,-999.0000,9,-999.0000,9,-999.0000,9,     -999.0,     -999.0,9,     -999.0,9,     -999.0,9,     -999.0,9,     -999.0,9,     -999.0,9, -999.00,9,  24.1479,-999.0000,-999.000
325020060213,       P16N,      22,          2,         31,         31,2,20060222,       0809,          1,       -151,       3758,    91.2,  21.6194,  34.9622,2,  34.9562,2,    139.4,2,   144.8,2,    6.20,2,   11.90,2,    0.40,2,    0.88,2,   1.876,2,   1.079,2,-999.000,5,  2085.4,2,  2297.6,2,    492.2,2,    20.00,   7.8663,2,    25.00,   0.575,2,   0.003,   1.7025,2,    0.53,2, -999.00,5,    57.0,2,     3.0,   6.901,2,   0.021,   53.50,2,   16.62,2,   91.20,-999.0000,9,-999.0000,9,-999.0000,9,-999.0000,9,-999.0000,9,-999.0000,9,     -999.0,     -999.0,9,     -999.0,9,     -999.0,9,     -999.0,9,     -999.0,9,     -999.0,9, -999.00,9,  21.6017,   0.0051,    0.14
325020060213,       P16N,      22,          2,         30,         30,2,20060222,       0809,          1,       -151,       3758,   108.1,  17.4777,  34.7922,2,  34.7882,2,    120.5,2,   123.7,2,   11.10,2,   15.00,2,    0.00,2,    1.01,2,   1.984,6,   1.099,6,-999.000,5,  2112.1,2,  2290.9,2,    601.9,2,    20.00,   7.8150,2,    25.00,   0.631,2,   0.003,   1.7485,2,    3.01,2, -999.00,5,    51.0,2,     3.7,   7.178,2,   0.022,   52.41,2,   19.40,2,  108.10,-999.0000,9,-999.0000,9,-999.0000,9,-999.0000,9,-999.0000,9,-999.0000,9,     -999.0,     -999.0,9,     -999.0,9,     -999.0,9,     -999.0,9,     -999.0,9,     -999.0,9, -999.00,9,  17.4595,   0.0052,    0.14
325020060213,       P16N,      22,          2,         29,         29,2,20060222,       0809,          1,       -151,       3758,   134.9,  14.4290,  34.7028,2,  34.7025,2,    115.1,2,   118.0,2,   16.80,2,   19.30,2,    0.00,2,    1.31,2,   1.781,2,   0.961,2,-999.000,5,  2143.8,2,  2290.1,2,    722.2,2,    20.00,   7.7399,2,    25.00,   0.562,2,   0.003,-999.0000,9,-999.000,9, -999.00,5,    39.7,2,     3.2,-999.000,9,-999.000,   51.41,2,   23.13,2,  134.90,-999.0000,9,-999.0000,9,-999.0000,9,-999.0000,9,-999.0000,9,-999.0000,9,     -999.0,     -999.0,9,     -999.0,9,     -999.0,9,     -999.0,9,     -999.0,9,     -999.0,9, -999.00,9,  14.4092,-999.0000,-999.000
325020060213,       P16N,      22,          2,         28,         28,2,20060222,       0809,          1,       -151,       3758,   174.0,  12.7076,  34.8910,2,  34.8897,2,    114.0,2,   114.4,2,   17.00,2,   22.50,2,    0.00,2,    1.50,2,   1.350,2,   0.716,2,-999.000,5,  2170.3,2,  2304.5,6,    799.7,2,    20.00,   7.6878,2,    25.00,   0.326,2,   0.003,   1.7737,2,    4.13,2, -999.00,5,    14.1,2,     3.3,   7.407,2,   0.022,   49.45,2,   26.69,2,  174.00,-999.0000,9,-999.0000,9,-999.0000,9,-999.0000,9,-999.0000,9,-999.0000,9,     -999.0,     -999.0,9,     -999.0,9,     -999.0,9,     -999.0,9,     -999.0,9,     -999.0,9, -999.00,9,  12.6841,   0.0053,    0.14
325020060213,       P16N,      22,          2,         27,         27,2,20060222,       0809,          1,       -151,       3758,   223.8,  12.1889,  34.8572,2,  34.8567,2,     80.2,2,    79.7,2,   20.40,2,   26.70,2,    0.00,2,    1.78,2,   1.053,2,   0.560,2,-999.000,5,  2197.3,2,  2303.0,2,    975.5,6,    20.00,   7.6068,2,    25.00,   0.273,2,   0.002,   1.7927,2,    4.74,2, -999.00,5,     5.2,2,     3.2,   7.446,2,   0.022,   47.73,2,   30.99,2,  223.80,-999.0000,9,-999.0000,9,-999.0000,9,-999.0000,9,-999.0000,9,-999.0000,9,     -999.0,     -999.0,9,     -999.0,9,     -999.0,9,     -999.0,9,     -999.0,9,     -999.0,9, -999.00,9,  12.1594,   0.0054,    0.14
325020060213,       P16N,      22,          2,         26,         26,2,20060222,       0809,          1,       -151,       3758,   274.3,  11.6691,  34.8251,2,  34.8231,2,     39.4,2,    37.9,2,   24.90,2,   31.70,2,    0.00,2,    2.10,2,   0.714,2,   0.383,2,-999.000,5,  2230.2,3,  2303.2,2,   1261.3,2,    20.00,   7.5232,2,    25.00,   0.239,2,   0.002,   1.8043,2,    5.76,2, -999.00,5,   -16.7,2,     3.2,   7.468,2,   0.022,   46.45,2,   35.92,2,  274.30,-999.0000,9,-999.0000,9,-999.0000,9,-999.0000,9,-999.0000,9,-999.0000,9,     -999.0,     -999.0,9,     -999.0,9,     -999.0,9,     -999.0,9,     -999.0,9,     -999.0,9, -999.00,9,  11.6339,   0.0054,    0.14
325020060213,       P16N,      22,          2,         25,         25,2,20060222,       0809,          1,       -151,       3758,   325.3,  10.8951,  34.7695,2,  34.7619,2,     57.3,2,    58.4,2,   26.10,2,   31.10,2,    0.00,2,    2.05,2,   0.675,2,   0.355,2,-999.000,5,  2225.1,2,  2303.5,2,   1219.2,2,    20.00,   7.5426,2,    25.00,   0.219,2,   0.002,   1.7764,2,    5.55,2, -999.00,5,   -25.0,2,     2.7,   7.504,2,   0.023,   45.24,2,   35.68,2,  325.30,-999.0000,9,-999.0000,9,-999.0000,9,-999.0000,9,-999.0000,9,-999.0000,9,     -999.0,     -999.0,9,     -999.0,9,     -999.0,9,     -999.0,9,     -999.0,9,     -999.0,9, -999.00,9,  10.8551,   0.0053,    0.14
325020060213,       P16N,      22,          2,         24,         24,2,20060222,       0809,          1,       -151,       3758,   375.1,   9.8840,  34.6999,2,  34.6973,2,     58.6,2,    59.7,2,   29.70,2,   32.80,2,    0.00,2,    2.17,2,-999.000,9,-999.000,9,-999.000,9,  2233.7,2,  2304.5,2,   1293.1,2,    20.00,-999.0000,9,  -999.00,   0.172,2,   0.002,   1.8018,2,    6.28,2, -999.00,5,   -41.2,2,     3.3,   7.592,2,   0.023,   44.30,2,   36.96,2,  375.10,-999.0000,9,-999.0000,9,-999.0000,9,-999.0000,9,-999.0000,9,-999.0000,9,     -999.0,     -999.0,9,     -999.0,9,     -999.0,9,     -999.0,9,     -999.0,9,     -999.0,9, -999.00,9,   9.8406,   0.0054,    0.14
325020060213,       P16N,      22,          2,         23,         23,2,20060222,       0809,          1,       -151,       3758,   424.2,   8.8442,  34.6473,2,  34.6462,2,     48.2,2,    47.3,2,   35.60,2,   35.70,2,    0.00,2,    2.39,2,   0.238,2,   0.130,2,-999.000,5,  2251.9,2,  2306.7,2,   1461.1,2,    20.00,   7.4707,2,    25.00,   0.097,2,   0.002,   1.8023,2,    6.89,2, -999.00,5,   -71.5,2,     2.6,   7.615,2,   0.023,   43.57,2,   39.81,2,  424.20,-999.0000,9,-999.0000,9,-999.0000,9,-999.0000,9,-999.0000,9,-999.0000,9,     -999.0,     -999.0,9,     -999.0,9,     -999.0,9,     -999.0,9,     -999.0,9,     -999.0,9, -999.00,9,   8.7982,   0.0054,    0.14
325020060213,       P16N,      22,          2,         22,         22,2,20060222,       0809,          1,       -151,       3758,   475.3,   8.0904,  34.6186,2,  34.6183,2,     32.8,2,    33.6,2,   42.40,2,   38.50,2,    0.00,2,    2.64,2,   0.143,2,   0.052,2,-999.000,5,  2269.6,6,  2312.8,2,   1645.1,2,    20.00,   7.4250,2,    25.00,   0.063,2,   0.002,   1.8583,2,    7.52,2, -999.00,5,   -97.9,2,     2.9,   7.824,2,   0.023,   42.33,2,   42.17,2,  475.30,-999.0000,9,-999.0000,9,-999.0000,9,-999.0000,9,-999.0000,9,-999.0000,9,     -999.0,     -999.0,9,     -999.0,9,     -999.0,9,     -999.0,9,     -999.0,9,     -999.0,9, -999.00,9,   8.0413,   0.0056,    0.14
325020060213,       P16N,      22,          2,         21,         21,2,20060222,       0809,          1,       -151,       3758,   550.2,   7.2670,  34.5928,2,  34.5906,2,     49.3,2,    49.9,2,   45.90,2,   39.10,2,    0.00,2,    2.64,2,   0.062,2,   0.036,2,-999.000,5,  2268.3,2,  2314.3,2,   -999.0,9,  -999.00,   7.4321,2,    25.00,   0.062,2,   0.002,   1.8327,2,    8.61,2, -999.00,5,  -109.8,2,     2.6,   7.755,2,   0.023,   40.83,2,   43.18,2,  550.20,-999.0000,9,-999.0000,9,-999.0000,9,-999.0000,9,-999.0000,9,-999.0000,9,     -999.0,     -999.0,9,     -999.0,9,     -999.0,9,     -999.0,9,     -999.0,9,     -999.0,9, -999.00,9,   7.2134,   0.0055,    0.14
325020060213,       P16N,      22,          2,         20,         20,2,20060222,       0809,          1,       -151,       3758,   650.2,   6.6579,  34.5684,2,  34.5667,2,     64.3,2,    65.3,2,   50.40,2,   38.80,2,    0.00,2,    2.63,2,   0.052,2,   0.031,2,-999.000,5,  2266.8,2,  2321.2,2,   1503.9,2,    20.00,   7.4594,2,    25.00,   0.042,2,   0.001,   1.8480,2,    9.47,2, -999.00,5,  -133.1,2,     3.1,   7.824,2,   0.023,   40.02,2,   42.99,2,  650.20,-999.0000,9,-999.0000,9,-999.0000,9,-999.0000,9,-999.0000,9,-999.0000,9,     -999.0,     -999.0,9,     -999.0,9,     -999.0,9,     -999.0,9,     -999.0,9,     -999.0,9, -999.00,9,   6.5972,   0.0055,    0.14
325020060213,       P16N,      22,          2,         19,         19,2,20060222,       0809,          1,       -151,       3758,   749.9,   5.7217,  34.5519,2,  34.5511,2,     72.8,2,    75.1,2,   62.00,2,   39.50,2,    0.00,2,    2.70,2,   0.019,6,   0.012,6,-999.000,5,  2278.0,2,  2333.1,2,   1502.9,6,    20.00,   7.4282,2,    25.00,-999.000,9,-999.000,-999.0000,9,-999.000,9, -999.00,5,  -148.1,2,     2.5,-999.000,9,-999.000,   39.46,2,   44.08,2,  749.90,-999.0000,9,-999.0000,9,-999.0000,9,-999.0000,9,-999.0000,9,-999.0000,9,     -999.0,     -999.0,9,     -999.0,9,     -999.0,9,     -999.0,9,     -999.0,9,     -999.0,9, -999.00,9,   5.6563,-999.0000,-999.000
325020060213,       P16N,      22,          2,         18,         18,2,20060222,       0809,          1,       -151,       3758,   850.4,   5.1702,  34.5512,2,  34.5510,2,     77.6,2,    77.6,2,   70.60,2,   39.70,2,    0.00,2,    2.73,2,   0.011,2,   0.005,2,-999.000,5,  2286.8,2,  2342.6,2,   1496.9,2,    20.00,   7.4698,2,    25.00,-999.000,9,-999.000,-999.0000,9,-999.000,9, -999.00,9,  -999.0,9,    -9.0,-999.000,9,-999.000,   39.31,2,   43.55,2,  850.40,-999.0000,9,-999.0000,9,-999.0000,9,-999.0000,9,-999.0000,9,-999.0000,9,     -999.0,     -999.0,9,     -999.0,9,     -999.0,9,     -999.0,9,     -999.0,9,     -999.0,9, -999.00,9,   5.0991,-999.0000,-999.000
325020060213,       P16N,      22,          2,         17,         17,2,20060222,       0809,          1,       -151,       3758,   949.8,   4.8396,  34.5539,2,  34.5531,2,     80.7,2,    80.6,2,   76.90,2,   39.80,2,    0.00,2,    2.74,2,   0.012,2,   0.005,2,-999.000,5,  2290.1,2,  2348.9,6,   -999.0,9,  -999.00,   7.4726,2,    25.00,-999.000,9,-999.000,-999.0000,9,-999.000,9, -999.00,9,  -999.0,9,    -9.0,-999.000,9,-999.000,   38.45,2,   44.31,2,  949.80,-999.0000,9,-999.0000,9,-999.0000,9,-999.0000,9,-999.0000,9,-999.0000,9,     -999.0,     -999.0,9,     -999.0,9,     -999.0,9,     -999.0,9,     -999.0,9,     -999.0,9, -999.00,9,   4.7619,-999.0000,-999.000
325020060213,       P16N,      22,          2,         16,         16,2,20060222,       0809,          1,       -151,       3758,  1101.0,   4.4606,  34.5598,2,  34.5598,2,     85.0,2,    84.9,2,   84.10,2,   39.70,2,    0.00,2,    2.75,2,   0.006,3,   0.006,3,-999.000,5,  2295.4,2,  2356.9,2,   1474.9,2,    20.00,-999.0000,9,  -999.00,-999.000,9,-999.000,-999.0000,9,-999.000,9, -999.00,9,  -999.0,9,    -9.0,-999.000,9,-999.000,   38.16,2,   43.02,2, 1101.00,-999.0000,9,-999.0000,9,-999.0000,9,-999.0000,9,-999.0000,9,-999.0000,9,     -999.0,     -999.0,9,     -999.0,9,     -999.0,9,     -999.0,9,     -999.0,9,     -999.0,9, -999.00,9,   4.3725,-999.0000,-999.000
325020060213,       P16N,      22,          2,         15,         15,2,20060222,       0809,          1,       -151,       3758,  1300.1,   3.7456,  34.5817,2,  34.5822,2,     83.9,2,    83.1,2,  102.40,2,   40.50,2,    0.00,2,    2.83,2,-999.000,9,-999.000,9,-999.000,9,  2317.4,2,  2376.4,2,   1513.4,2,    20.00,   7.4721,2,    25.00,-999.000,9,-999.000,-999.0000,9,-999.000,9, -999.00,9,  -999.0,9,    -9.0,-999.000,9,-999.000,   37.71,2,   44.52,2, 1300.10,-999.0000,9,-999.0000,9,-999.0000,9,-999.0000,9,-999.0000,9,-999.0000,9,     -999.0,     -999.0,9,     -999.0,9,     -999.0,9,     -999.0,9,     -999.0,9,     -999.0,9, -999.00,9,   3.6467,-999.0000,-999.000
325020060213,       P16N,      22,          2,         14,         14,2,20060222,       0809,          1,       -151,       3758,  1498.5,   3.2115,  34.6009,2,  34.6005,2,     87.5,2,    90.0,2,  115.00,2,   40.90,2,    0.00,2,    2.87,2,-999.000,9,-999.000,9,-999.000,9,  2327.8,2,  2390.4,2,   -999.0,9,  -999.00,-999.0000,9,  -999.00,-999.000,9,-999.000,-999.0000,9,-999.000,9, -999.00,9,  -999.0,9,    -9.0,-999.000,9,-999.000,   37.28,2,   44.90,2, 1498.50,-999.0000,9,-999.0000,9,-999.0000,9,-999.0000,9,-999.0000,9,-999.0000,9,     -999.0,     -999.0,9,     -999.0,9,     -999.0,9,     -999.0,9,     -999.0,9,     -999.0,9, -999.00,9,   3.1013,-999.0000,-999.000
325020060213,       P16N,      22,          2,         13,         13,2,20060222,       0809,          1,       -151,       3758,  1700.8,   2.7160,  34.6219,2,  34.6210,2,     97.2,2,    98.0,2,  126.20,2,   39.70,2,    0.00,2,    2.79,2,-999.000,9,-999.000,9,-999.000,9,  2336.2,2,  2402.8,2,   1440.1,2,    20.00,   7.4836,2,    25.00,-999.000,9,-999.000,-999.0000,9,-999.000,9, -999.00,9,  -999.0,9,    -9.0,-999.000,9,-999.000,   36.50,2,   43.62,2, 1700.80,-999.0000,9,-999.0000,9,-999.0000,9,-999.0000,9,-999.0000,9,-999.0000,9,     -999.0,     -999.0,9,     -999.0,9,     -999.0,9,     -999.0,9,     -999.0,9,     -999.0,9, -999.00,9,   2.5947,-999.0000,-999.000
325020060213,       P16N,      22,          2,         12,         12,2,20060222,       0809,          1,       -151,       3758,  1900.2,   2.3825,  34.6392,2,  34.6380,2,    102.6,2,   102.9,2,  135.10,2,   39.40,2,    0.00,2,    2.76,2,-999.000,9,-999.000,9,-999.000,9,  2342.2,2,  2413.1,2,   1404.0,2,    20.00,   7.4944,2,    25.00,-999.000,9,-999.000,-999.0000,9,-999.000,9, -999.00,9,  -999.0,9,    -9.0,-999.000,9,-999.000,   36.72,2,   43.13,2, 1900.20,-999.0000,9,-999.0000,9,-999.0000,9,-999.0000,9,-999.0000,9,-999.0000,9,     -999.0,     -999.0,9,     -999.0,9,     -999.0,9,     -999.0,9,     -999.0,9,     -999.0,9, -999.00,9,   2.2488,-999.0000,-999.000
325020060213,       P16N,      22,          2,         11,         11,2,20060222,       0809,          1,       -151,       3758,  2100.5,   2.1232,  34.6523,2,  34.6514,2,    111.2,2,   111.1,2,  140.10,2,   39.00,2,    0.00,2,    2.71,2,-999.000,9,-999.000,9,-999.000,9,  2344.3,2,  2418.4,2,   -999.0,9,  -999.00,   7.5175,2,    25.00,-999.000,9,-999.000,-999.0000,9,-999.000,9, -999.00,9,  -999.0,9,    -9.0,-999.000,9,-999.000,   36.95,2,   42.54,2, 2100.50,-999.0000,9,-999.0000,9,-999.0000,9,-999.0000,9,-999.0000,9,-999.0000,9,     -999.0,     -999.0,9,     -999.0,9,     -999.0,9,     -999.0,9,     -999.0,9,     -999.0,9, -999.00,9,   1.9763,-999.0000,-999.000
325020060213,       P16N,      22,          2,         10,         10,2,20060222,       0809,          1,       -151,       3758,  2300.8,   2.0242,  34.6578,2,  34.6585,2,    115.1,2,   115.1,2,  141.90,2,   38.80,2,    0.00,2,    2.69,2,-999.000,9,-999.000,9,-999.000,9,  2343.2,2,  2420.8,2,   1334.3,2,    20.00,   7.5337,2,    25.00,-999.000,9,-999.000,-999.0000,9,-999.000,9, -999.00,9,  -999.0,9,    -9.0,-999.000,9,-999.000,   37.81,2,   42.43,2, 2300.80,-999.0000,9,-999.0000,9,-999.0000,9,-999.0000,9,-999.0000,9,-999.0000,9,     -999.0,     -999.0,9,     -999.0,9,     -999.0,9,     -999.0,9,     -999.0,9,     -999.0,9, -999.00,9,   1.8614,-999.0000,-999.000
325020060213,       P16N,      22,          2,          9,          9,2,20060222,       0809,          1,       -151,       3758,  2499.5,   1.9055,  34.6655,2,  34.6640,2,    119.9,2,   121.0,2,  144.80,2,   38.50,2,    0.00,2,    2.67,2,-999.000,9,-999.000,9,-999.000,9,  2345.0,2,  2423.7,2,   1306.8,2,    20.00,-999.0000,9,  -999.00,-999.000,9,-999.000,-999.0000,9,-999.000,9, -999.00,9,  -999.0,9,    -9.0,-999.000,9,-999.000,   36.76,2,   42.43,2, 2499.50,-999.0000,9,-999.0000,9,-999.0000,9,-999.0000,9,-999.0000,9,-999.0000,9,     -999.0,     -999.0,9,     -999.0,9,     -999.0,9,     -999.0,9,     -999.0,9,     -999.0,9, -999.00,9,   1.7270,-999.0000,-999.000