BOTTLE,20170720CCHSIOCBG
EXPOCODE,SECT_ID,STNNBR,CASTNO,SAMPNO,BTLNBR,BTLNBR_FLAG_W,DATE,TIME,LATITUDE,LONGITUDE,DEPTH,CTDPRS,CTDTMP,CTDSAL,CTDSAL_FLAG_W,SALNTY,SALNTY_FLAG_W,CTDOXY,CTDOXY_FLAG_W,OXYGEN,OXYGEN_FLAG_W,SILCAT,SILCAT_FLAG_W,NITRAT,NITRAT_FLAG_W,NITRIT,NITRIT_FLAG_W,PHSPHT,PHSPHT_FLAG_W,CFC-11,CFC-11_FLAG_W,CFC-12,CFC-12_FLAG_W,CFC113,CFC113_FLAG_W,TCARBN,TCARBN_FLAG_W,ALKALI,ALKALI_FLAG_W,FCO2,FCO2_FLAG_W,FCO2TMP,PH_TOT,PH_TOT_FLAG_W,PH_TMP,TRITUM,TRITUM_FLAG_W,TRITER,HELIUM,HELIUM_FLAG_W,DELHE3,DELHE3_FLAG_W,DELC13,DELC13_FLAG_W,DELC14,DELC14_FLAG_W,C14ERR,NEON,NEON_FLAG_W,NEONER,DOC,DOC_FLAG_W,TDN,TDN_FLAG_W,CTDRAW,CDOM325,CDOM325_FLAG_W,CDOM340,CDOM340_FLAG_W,CDOM380,CDOM380_FLAG_W,CDOM412,CDOM412_FLAG_W,CDOMSL,CDOMSL_FLAG_W,CDOMSN,CDOMSN_FLAG_W,DCNS,ARABI,ARABI_FLAG_W,FUCO,FUCO_FLAG_W,GALA,GALA_FLAG_W,GLUC,GLUC_FLAG_W,MAN,MAN_FLAG_W,RHAM,RHAM_FLAG_W,BRDU,BRDU_FLAG_W,THETA,HELIER,DELHER
,,,,,,,,,,,METERS,DBAR,ITS-90,PSS-78,,PSS-78,,UMOL/KG,,UMOL/KG,,UMOL/KG,,UMOL/KG,,UMOL/KG,,UMOL/KG,,PMOL/KG,,PMOL/KG,,PMOL/KG,,UMOL/KG,,UMOL/KG,,UATM,,DEG C,,,DEG C,TU,,TU,NMOL/KG,,PERCNT,,/MILLE,,/MILLE,,/MILLE,NMOL/KG,,NMOL/KG,UMOL/KG,,UMOL/KG,,DBAR,1/M,,1/M,,1/M,,1/M,,1/NM,,1/NM,,NMOL/KG,NMOL/KG,,NMOL/KG,,NMOL/KG,,NMOL/KG,,NMOL/KG,,NMOL/KG,,PMOL/L/H,,DEG C,NMOL/KG,PERCNT
325020060213,       P16N,      49,          1,         36,         36,2,20060314,       2114,         27,       -152,       5347,     5.8,  20.9257,  35.3518,2,  35.3506,2,    222.4,2,   222.0,2,    0.40,2,    0.00,2,    0.00,2,    0.01,2,   2.081,2,   1.287,2,-999.000,9,  2017.0,6,  2324.6,2,   -999.0,9,  -999.00,   8.0499,6,    25.00,-999.000,9,-999.000,    1.249,4,  -1.768,3, -999.00,9,  -999.0,9,    -9.0,   4.920,4,   0.006,   68.62,2,    3.83,2,    5.80,   0.0400,2,   0.0260,2,   0.0040,3,  -0.0030,4,   0.0256,2,   0.0255,2,     -999.0,     -999.0,9,     -999.0,9,     -999.0,9,     -999.0,9,     -999.0,9,     -999.0,9,    5.80,2,  20.9246,    0.001,   0.188
325020060213,       P16N,      49,          1,         35,         35,2,20060314,       2114,         27,       -152,       5347,    25.1,  20.9278,  35.3514,2,  35.3522,2,    223.0,2,   222.0,2,    0.40,2,    0.00,2,    0.00,2,    0.01,2,   2.092,2,   1.285,2,-999.000,9,  2017.5,2,  2324.8,2,   -999.0,9,  -999.00,   8.0508,2,    25.00,   0.723,2,   0.012,    1.719,2,  -0.581,2, -999.00,9,  -999.0,9,    -9.0,   6.921,2,   0.032,   68.13,2,    4.17,2,   25.10,   0.0380,2,   0.0230,2,   0.0020,3,  -0.0040,4,   0.0273,2,   0.0273,2,     -999.0,     -999.0,9,     -999.0,9,     -999.0,9,     -999.0,9,     -999.0,9,     -999.0,9,    9.58,2,  20.9230,    0.003,   0.722
325020060213,       P16N,      49,          1,         34,         34,2,20060314,       2114,         27,       -152,       5347,    49.3,  20.9290,  35.3513,2,  35.3504,2,    223.7,2,   221.8,2,    0.50,2,    0.00,2,    0.00,2,    0.01,2,   2.092,2,   1.275,2,-999.000,9,  2017.7,2,  2330.4,2,   -999.0,9,  -999.00,   8.0483,2,    25.00,   0.708,2,   0.011,-999.0000,9,-999.000,9, -999.00,9,  -999.0,9,    -9.0,-999.000,9,-999.000,   67.71,2,    3.61,2,   49.30,   0.0400,2,   0.0240,2,   0.0030,3,  -0.0030,4,   0.0283,2,   0.0282,2,     -999.0,     -999.0,9,     -999.0,9,     -999.0,9,     -999.0,9,     -999.0,9,     -999.0,9,    8.11,2,  20.9196,-999.0000,-999.000
325020060213,       P16N,      49,          1,         33,         33,2,20060314,       2114,         27,       -152,       5347,    74.2,  20.8724,  35.3478,2,  35.3479,2,    222.2,2,   222.1,2,    0.50,2,    0.00,2,    0.00,2,    0.02,2,   2.086,2,   1.289,2,-999.000,9,  2018.0,2,  2330.6,2,   -999.0,9,  -999.00,   8.0468,2,    25.00,   0.726,2,   0.012,    1.708,2,  -1.382,2, -999.00,9,  -999.0,9,    -9.0,   6.872,2,   0.032,   66.01,2,    3.53,2,   74.20,   0.0410,2,   0.0250,2,   0.0030,3,  -0.0020,4,   0.0298,2,   0.0296,2,     -999.0,     -999.0,9,     -999.0,9,     -999.0,9,     -999.0,9,     -999.0,9,     -999.0,9,   13.08,2,  20.8583,    0.003,   0.722
325020060213,       P16N,      49,          1,         32,         32,2,20060314,       2114,         27,       -152,       5347,   100.0,  20.6612,  35.3441,2,  35.3432,2,    223.8,2,   223.0,2,    0.60,2,    0.00,2,    0.00,2,    0.01,2,   2.109,2,   1.303,2,-999.000,9,  2020.9,2,  2330.2,2,   -999.0,9,  -999.00,   8.0459,2,    25.00,   0.721,2,   0.012,    1.712,2,  -1.936,2, -999.00,9,  -999.0,9,    -9.0,   6.889,2,   0.032,   61.92,2,    4.08,2,  100.00,   0.0440,2,   0.0270,2,   0.0050,2,  -0.0010,4,   0.0299,2,   0.0297,2,     -999.0,     -999.0,9,     -999.0,9,     -999.0,9,     -999.0,9,     -999.0,9,     -999.0,9,    5.12,2,  20.6422,    0.003,   0.722
325020060213,       P16N,      49,          1,         31,         31,2,20060314,       2114,         27,       -152,       5347,   125.7,  20.5972,  35.3361,2,  35.3369,2,    224.4,2,   222.2,2,    0.50,2,    0.10,2,    0.00,2,    0.02,2,   2.129,2,   1.301,2,-999.000,9,  2020.6,2,  2323.3,2,   -999.0,9,  -999.00,   8.0422,2,    25.00,   0.747,2,   0.013,    1.723,2,  -2.379,3, -999.00,9,  -999.0,9,    -9.0,   7.025,2,   0.009,   60.30,2,    3.81,2,  125.70,   0.0420,2,   0.0250,2,   0.0040,2,  -0.0010,4,   0.0314,2,   0.0313,2,     -999.0,     -999.0,9,     -999.0,9,     -999.0,9,     -999.0,9,     -999.0,9,     -999.0,9,    1.61,2,  20.5735,    0.001,   0.212
325020060213,       P16N,      49,          1,         30,         30,2,20060314,       2114,         27,       -152,       5347,   149.5,  20.2709,  35.2711,2,  35.2764,2,    220.0,2,   220.3,2,    0.70,2,    0.20,2,    0.10,2,    0.03,2,   2.139,2,   1.311,2,-999.000,9,  2021.3,2,  2318.0,2,   -999.0,9,  -999.00,   8.0345,2,    25.00,   0.738,2,   0.011,    1.745,2,  -1.817,2, -999.00,9,  -999.0,9,    -9.0,   7.115,2,   0.008,   58.63,2,    4.00,2,  149.50,   0.0480,2,   0.0300,2,   0.0070,2,   0.0010,3,   0.0297,2,   0.0293,2,     -999.0,     -999.0,9,     -999.0,9,     -999.0,9,     -999.0,9,     -999.0,9,     -999.0,9,    3.49,3,  20.2430,    0.000,   0.177
325020060213,       P16N,      49,          1,         29,         29,2,20060314,       2114,         27,       -152,       5347,   199.8,  16.4861,  34.6412,2,  34.6314,2,    209.3,2,   209.9,2,    3.20,2,    3.30,2,    0.00,2,    0.28,2,   2.655,2,   1.544,2,-999.000,9,  2044.0,2,  2282.5,6,   -999.0,9,  -999.00,   7.9302,2,    25.00,   0.773,2,   0.014,    1.773,2,  -0.196,2, -999.00,9,  -999.0,9,    -9.0,   7.345,2,   0.009,   50.67,2,    7.68,2,  199.80,   0.0890,2,   0.0620,2,   0.0260,2,   0.0170,2,   0.0236,2,   0.0237,2,     -999.0,     -999.0,9,     -999.0,9,     -999.0,9,     -999.0,9,     -999.0,9,     -999.0,9,    0.14,2,  16.4539,    0.001,   0.178
325020060213,       P16N,      49,          1,         28,         28,2,20060314,       2114,         27,       -152,       5347,   249.6,  13.8407,  34.3791,2,  34.3761,2,    210.9,2,   209.8,2,    6.40,2,    7.70,2,    0.00,2,    0.55,2,   2.968,2,   1.684,2,-999.000,9,  2061.9,2,  2263.9,2,   -999.0,9,  -999.00,   7.8701,2,    25.00,   0.793,2,   0.014,    1.760,2,  -0.450,2, -999.00,9,  -999.0,9,    -9.0,   7.294,2,   0.034,   48.10,2,   12.45,2,  249.60,   0.0800,2,   0.0550,2,   0.0220,2,   0.0140,2,   0.0252,2,   0.0251,2,     -999.0,     -999.0,9,     -999.0,9,     -999.0,9,     -999.0,9,     -999.0,9,     -999.0,9, -999.00,9,  13.8051,    0.003,   0.722
325020060213,       P16N,      49,          1,         27,         27,2,20060314,       2114,         27,       -152,       5347,   300.5,  11.9377,  34.2524,2,  34.2588,2,    217.0,2,   213.8,2,   10.30,2,   11.30,2,    0.00,2,    0.76,2,   3.174,6,   1.768,6,-999.000,5,  2077.8,2,  2266.9,2,   -999.0,9,  -999.00,   7.8276,2,    25.00,   0.703,2,   0.012,    1.752,2,  -1.061,2, -999.00,9,  -999.0,9,    -9.0,   7.513,2,   0.010,   46.51,2,   15.14,2,  300.50,   0.0780,2,   0.0530,2,   0.0210,2,   0.0120,2,   0.0263,2,   0.0264,2,     -999.0,     -999.0,9,     -999.0,9,     -999.0,9,     -999.0,9,     -999.0,9,     -999.0,9, -999.00,9,  11.8988,    0.003,   0.218
325020060213,       P16N,      49,          1,         26,         26,2,20060314,       2114,         27,       -152,       5347,   349.6,  11.0325,  34.2013,2,  34.1961,2,    211.1,2,   210.7,2,   13.60,2,   13.70,2,    0.00,2,    0.92,2,   3.239,2,   1.773,2,-999.000,9,  2093.4,2,  2268.3,2,   -999.0,9,  -999.00,   7.7956,2,    25.00,   0.784,2,   0.012,    1.978,3,   1.452,2, -999.00,9,  -999.0,9,    -9.0,   8.062,3,   0.040,   46.48,2,   18.19,2,  349.60,   0.0860,2,   0.0580,2,   0.0240,2,   0.0150,2,   0.0250,2,   0.0255,2,    506.219,    47.3643,2,    64.0756,2,    103.229,2,    146.862,2,    85.6949,2,    58.9939,2, -999.00,9,  10.9894,    0.004,   0.516
325020060213,       P16N,      49,          1,         25,         25,2,20060314,       2114,         27,       -152,       5347,   400.2,   9.7692,  34.1391,2,  34.1383,2,    198.7,2,   196.6,2,   20.20,2,   17.60,2,    0.00,2,    1.17,2,   3.208,2,   1.702,2,-999.000,9,  2121.1,2,  2263.9,2,   -999.0,9,  -999.00,   7.7386,2,    25.00,   0.802,2,   0.012,    1.772,2,   4.613,2, -999.00,9,  -999.0,9,    -9.0,   7.527,2,   0.032,   45.57,2,   21.40,2,  400.20,   0.0970,2,   0.0650,2,   0.0280,2,   0.0180,2,   0.0233,2,   0.0243,2,     -999.0,     -999.0,9,     -999.0,9,     -999.0,9,     -999.0,9,     -999.0,9,     -999.0,9, -999.00,9,   9.7234,    0.003,   0.269
325020060213,       P16N,      49,          1,         24,         24,2,20060314,       2114,         27,       -152,       5347,   444.9,   8.8693,  34.0966,2,  34.0969,2,    182.2,2,   180.1,2,   26.90,2,   21.00,2,    0.00,2,    1.41,2,   3.021,2,   1.577,2,-999.000,9,  2144.8,2,  2268.7,2,   -999.0,9,  -999.00,   7.6867,2,    25.00,   0.766,2,   0.012,    1.784,2,   5.042,2, -999.00,9,  -999.0,9,    -9.0,   7.598,2,   0.033,   44.66,2,   25.02,2,  444.90,   0.1090,2,   0.0740,2,   0.0330,2,   0.0220,2,   0.0215,2,   0.0229,2,     -999.0,     -999.0,9,     -999.0,9,     -999.0,9,     -999.0,9,     -999.0,9,     -999.0,9, -999.00,9,   8.8213,    0.003,   0.334
325020060213,       P16N,      49,          1,         23,         23,2,20060314,       2114,         27,       -152,       5347,   499.0,   7.7847,  34.0501,2,  34.0501,2,    155.0,2,   154.7,2,   37.00,2,   25.40,2,    0.00,2,    1.72,2,   2.647,2,   1.343,2,-999.000,9,  2176.4,2,  2274.2,2,   -999.0,9,  -999.00,   7.6120,2,    25.00,   0.744,2,   0.014,    1.800,2,   9.045,2, -999.00,9,  -999.0,9,    -9.0,   7.680,2,   0.036,   43.76,2,   29.13,2,  499.00,   0.1260,2,   0.0870,2,   0.0410,2,   0.0280,2,   0.0180,2,   0.0201,2,     -999.0,     -999.0,9,     -999.0,9,     -999.0,9,     -999.0,9,     -999.0,9,     -999.0,9, -999.00,9,   7.7347,    0.003,   0.721
325020060213,       P16N,      49,          1,         22,         22,2,20060314,       2114,         27,       -152,       5347,   598.9,   5.6588,  34.0235,2,  34.0248,2,     94.2,2,    93.4,2,   64.80,2,   34.80,2,    0.00,2,    2.41,2,   1.359,2,   0.672,2,-999.000,9,  2251.7,2,  2300.7,2,   -999.0,9,  -999.00,   7.4448,2,    25.00,   0.552,2,   0.012,-999.0000,9,-999.000,9, -999.00,9,  -999.0,9,    -9.0,-999.000,9,-999.000,   43.39,2,   38.74,2,  598.90,   0.1560,2,   0.1100,2,   0.0560,2,   0.0400,2,   0.0149,2,   0.0171,3,     -999.0,     -999.0,9,     -999.0,9,     -999.0,9,     -999.0,9,     -999.0,9,     -999.0,9, -999.00,9,   5.6081,-999.0000,-999.000
325020060213,       P16N,      49,          1,         21,         21,2,20060314,       2114,         27,       -152,       5347,   700.0,   4.7482,  34.0949,2,  34.0917,2,     53.4,2,    53.1,2,   84.80,2,   39.40,2,    0.00,2,    2.78,2,   0.542,2,   0.278,2,-999.000,9,  2296.4,2,  2321.2,2,   -999.0,9,  -999.00,   7.3552,2,    25.00,-999.000,9,-999.000,-999.0000,9,-999.000,9, -999.00,9,  -999.0,9,    -9.0,-999.000,9,-999.000,   42.28,2,   43.39,2,  700.00,   0.1850,2,   0.1330,2,   0.0730,2,   0.0550,2,   0.0131,3,   0.0147,3,     -999.0,     -999.0,9,     -999.0,9,     -999.0,9,     -999.0,9,     -999.0,9,     -999.0,9, -999.00,9,   4.6933,-999.0000,-999.000
325020060213,       P16N,      49,          1,         20,         20,2,20060314,       2114,         27,       -152,       5347,   799.5,   4.2177,  34.2027,2,  34.2058,2,     24.1,2,    23.9,2,  103.00,2,   42.30,2,    0.00,2,    3.02,2,   0.108,2,   0.060,2,-999.000,9,  2334.4,6,  2342.5,2,   -999.0,9,  -999.00,   7.3044,2,    25.00,-999.000,9,-999.000,    1.847,2,  14.239,2, -999.00,9,  -999.0,9,    -9.0,   7.887,2,   0.034,   41.10,2,   46.79,2,  799.50,   0.1790,2,   0.1280,2,   0.0700,2,   0.0530,2,   0.0130,3,   0.0148,3,     -999.0,     -999.0,9,     -999.0,9,     -999.0,9,     -999.0,9,     -999.0,9,     -999.0,9, -999.00,9,   4.1574,    0.003,   0.334
325020060213,       P16N,      49,          1,         19,         19,2,20060314,       2114,         27,       -152,       5347,   901.1,   3.9311,  34.3241,2,  34.3242,2,     21.0,2,    21.0,2,  112.90,2,   43.00,2,    0.00,2,    3.08,2,   0.032,2,   0.017,2,-999.000,9,  2351.5,2,  2357.1,2,   -999.0,9,  -999.00,   7.3136,2,    25.00,-999.000,9,-999.000,    1.859,2,  13.961,2, -999.00,9,  -999.0,9,    -9.0,   7.912,2,   0.035,   39.61,2,   46.74,2,  901.10,-999.0000,9,-999.0000,9,-999.0000,9,-999.0000,9,-999.0000,9,-999.0000,9,     -999.0,     -999.0,9,     -999.0,9,     -999.0,9,     -999.0,9,     -999.0,9,     -999.0,9, -999.00,9,   3.8644,    0.003,   0.334
325020060213,       P16N,      49,          1,         18,         18,2,20060314,       2114,         27,       -152,       5347,   999.3,   3.7738,  34.4058,2,  34.4043,2,     27.4,2,    27.3,2,  116.90,2,   42.80,2,    0.00,2,    3.07,2,   0.011,2,   0.011,2,-999.000,9,  2353.7,2,  2370.3,6,   -999.0,9,  -999.00,   7.3422,2,    25.00,-999.000,9,-999.000,    1.860,2,  17.165,2, -999.00,9,  -999.0,9,    -9.0,   7.861,2,   0.033,   37.86,2,   46.91,2,  999.30,   0.1700,2,   0.1210,2,   0.0680,2,   0.0520,2,   0.0126,3,   0.0144,3,     -999.0,     -999.0,9,     -999.0,9,     -999.0,9,     -999.0,9,     -999.0,9,     -999.0,9, -999.00,9,   3.7001,    0.003,   0.268
325020060213,       P16N,      49,          1,         17,         17,2,20060314,       2114,         27,       -152,       5347,  1200.7,   3.3032,  34.5010,2,  34.5009,2,     45.5,2,    45.6,2,  126.60,2,   42.10,2,    0.00,2,    3.01,2,   0.019,2,   0.008,2,-999.000,5,  2356.2,2,  2384.4,2,   -999.0,9,  -999.00,   7.3823,2,    25.00,-999.000,9,-999.000,    1.875,2,  18.795,2, -999.00,9,  -999.0,9,    -9.0,   7.980,2,   0.035,   37.57,2,   45.96,2, 1200.70,-999.0000,9,-999.0000,9,-999.0000,9,-999.0000,9,-999.0000,9,-999.0000,9,     -999.0,     -999.0,9,     -999.0,9,     -999.0,9,     -999.0,9,     -999.0,9,     -999.0,9, -999.00,9,   3.2170,    0.003,   0.334
325020060213,       P16N,      49,          1,         16,         16,2,20060314,       2114,         27,       -152,       5347,  1400.4,   2.8836,  34.5488,2,  34.5508,2,     57.8,2,    58.3,2,  136.00,2,   41.60,2,    0.00,2,    2.96,2,   0.010,2,   0.010,2,-999.000,9,  2362.0,2,  2401.4,2,   -999.0,9,  -999.00,   7.4105,2,    25.00,-999.000,9,-999.000,    1.915,2,  21.773,2, -999.00,9,  -999.0,9,    -9.0,   8.184,2,   0.013,   37.27,2,   45.55,2, 1400.40,   0.1480,2,   0.1020,2,   0.0550,2,   0.0410,2,   0.0134,3,   0.0158,3,     -999.0,     -999.0,9,     -999.0,9,     -999.0,9,     -999.0,9,     -999.0,9,     -999.0,9, -999.00,9,   2.7853,    0.002,   0.212
325020060213,       P16N,      49,          1,         15,         15,2,20060314,       2114,         27,       -152,       5347,  1599.7,   2.5383,  34.5779,2,  34.5783,2,     65.7,2,    66.0,2,  144.70,2,   41.20,2,    0.00,2,    2.93,2,-999.000,9,-999.000,9,-999.000,9,  2366.3,2,  2411.9,2,   -999.0,9,  -999.00,   7.4231,2,    25.00,-999.000,9,-999.000,-999.0000,9,-999.000,9, -999.00,9,  -999.0,9,    -9.0,-999.000,9,-999.000,   37.36,2,   45.07,2, 1599.70,-999.0000,9,-999.0000,9,-999.0000,9,-999.0000,9,-999.0000,9,-999.0000,9,     -999.0,     -999.0,9,     -999.0,9,     -999.0,9,     -999.0,9,     -999.0,9,     -999.0,9, -999.00,9,   2.4277,-999.0000,-999.000
325020060213,       P16N,      49,          1,         14,         14,2,20060314,       2114,         27,       -152,       5347,  1798.7,   2.2610,  34.6019,2,  34.6027,2,     71.0,2,    73.5,2,  152.60,2,   41.00,2,    0.00,2,    2.90,2,-999.000,9,-999.000,9,-999.000,9,  2367.5,2,  2421.7,2,   -999.0,9,  -999.00,   7.4437,2,    25.00,-999.000,9,-999.000,-999.0000,9,-999.000,9, -999.00,9,  -999.0,9,    -9.0,-999.000,9,-999.000,   37.17,2,   45.01,2, 1798.70,   0.1490,2,   0.1030,2,   0.0560,2,   0.0420,2,   0.0132,3,   0.0156,3,     -999.0,     -999.0,9,     -999.0,9,     -999.0,9,     -999.0,9,     -999.0,9,     -999.0,9, -999.00,9,   2.1376,-999.0000,-999.000
325020060213,       P16N,      49,          1,         13,         13,2,20060314,       2114,         27,       -152,       5347,  1999.6,   2.0388,  34.6205,2,  34.6180,2,     82.2,2,    80.6,2,  157.10,6,   40.50,2,    0.00,6,    2.86,6,  -0.004,2,   0.005,2,-999.000,9,  2366.9,2,  2417.7,2,   -999.0,9,  -999.00,   7.4565,2,    25.00,-999.000,9,-999.000,-999.0000,9,-999.000,9, -999.00,9,  -999.0,9,    -9.0,-999.000,9,-999.000,   37.35,2,   43.98,2, 1999.60,-999.0000,9,-999.0000,9,-999.0000,9,-999.0000,9,-999.0000,9,-999.0000,9,     -999.0,     -999.0,9,     -999.0,9,     -999.0,9,     -999.0,9,     -999.0,9,     -999.0,9, -999.00,9,   1.9018,-999.0000,-999.000
325020060213,       P16N,      49,          1,         12,         12,2,20060314,       2114,         27,       -152,       5347,  2249.6,   1.8375,  34.6379,2,  34.6398,2,     91.0,2,    91.8,2,  163.60,2,   39.70,2,    0.00,2,    2.81,2,-999.000,9,-999.000,9,-999.000,9,  2362.8,2,  2423.9,2,   -999.0,9,  -999.00,   7.4741,2,    25.00,-999.000,9,-999.000,-999.0000,9,-999.000,9, -999.00,9,  -999.0,9,    -9.0,-999.000,9,-999.000,   37.59,2,   43.08,2, 2249.60,   0.1380,2,   0.0940,2,   0.0490,2,   0.0360,2,   0.0141,3,   0.0169,3,     -999.0,     -999.0,9,     -999.0,9,     -999.0,9,     -999.0,9,     -999.0,9,     -999.0,9, -999.00,9,   1.6824,-999.0000,-999.000
325020060213,       P16N,      49,          1,         11,         11,2,20060314,       2114,         27,       -152,       5347,  2500.1,   1.7062,  34.6523,2,  34.6524,2,    103.5,2,   103.7,2,  164.00,2,   39.10,2,    0.00,2,    2.76,2,-999.000,9,-999.000,9,-999.000,9,  2356.4,2,  2425.2,2,   -999.0,9,  -999.00,   7.4990,2,    25.00,-999.000,9,-999.000,-999.0000,9,-999.000,9, -999.00,9,  -999.0,9,    -9.0,-999.000,9,-999.000,   35.68,2,   42.95,2, 2500.10,-999.0000,9,-999.0000,9,-999.0000,9,-999.0000,9,-999.0000,9,-999.0000,9,     -999.0,     -999.0,9,     -999.0,9,     -999.0,9,     -999.0,9,     -999.0,9,     -999.0,9, -999.00,9,   1.5314,-999.0000,-999.000
325020060213,       P16N,      49,          1,         10,         10,2,20060314,       2114,         27,       -152,       5347,  2749.8,   1.6247,  34.6613,2,  34.6607,2,    112.0,2,   112.0,2,  164.20,2,   38.50,2,    0.00,2,    2.71,2,-999.000,9,-999.000,9,-999.000,9,  2353.7,2,  2432.6,2,   -999.0,9,  -999.00,   7.5136,6,    25.00,-999.000,9,-999.000,-999.0000,9,-999.000,9, -999.00,9,  -999.0,9,    -9.0,-999.000,9,-999.000,   36.70,2,   41.90,2, 2749.80,-999.0000,9,-999.0000,9,-999.0000,9,-999.0000,9,-999.0000,9,-999.0000,9,     -999.0,     -999.0,9,     -999.0,9,     -999.0,9,     -999.0,9,     -999.0,9,     -999.0,9, -999.00,9,   1.4288,-999.0000,-999.000