BOTTLE,20170720CCHSIOCBG
EXPOCODE,SECT_ID,STNNBR,CASTNO,SAMPNO,BTLNBR,BTLNBR_FLAG_W,DATE,TIME,LATITUDE,LONGITUDE,DEPTH,CTDPRS,CTDTMP,CTDSAL,CTDSAL_FLAG_W,SALNTY,SALNTY_FLAG_W,CTDOXY,CTDOXY_FLAG_W,OXYGEN,OXYGEN_FLAG_W,SILCAT,SILCAT_FLAG_W,NITRAT,NITRAT_FLAG_W,NITRIT,NITRIT_FLAG_W,PHSPHT,PHSPHT_FLAG_W,CFC-11,CFC-11_FLAG_W,CFC-12,CFC-12_FLAG_W,CFC113,CFC113_FLAG_W,TCARBN,TCARBN_FLAG_W,ALKALI,ALKALI_FLAG_W,FCO2,FCO2_FLAG_W,FCO2TMP,PH_TOT,PH_TOT_FLAG_W,PH_TMP,TRITUM,TRITUM_FLAG_W,TRITER,HELIUM,HELIUM_FLAG_W,DELHE3,DELHE3_FLAG_W,DELC13,DELC13_FLAG_W,DELC14,DELC14_FLAG_W,C14ERR,NEON,NEON_FLAG_W,NEONER,DOC,DOC_FLAG_W,TDN,TDN_FLAG_W,CTDRAW,CDOM325,CDOM325_FLAG_W,CDOM340,CDOM340_FLAG_W,CDOM380,CDOM380_FLAG_W,CDOM412,CDOM412_FLAG_W,CDOMSL,CDOMSL_FLAG_W,CDOMSN,CDOMSN_FLAG_W,DCNS,ARABI,ARABI_FLAG_W,FUCO,FUCO_FLAG_W,GALA,GALA_FLAG_W,GLUC,GLUC_FLAG_W,MAN,MAN_FLAG_W,RHAM,RHAM_FLAG_W,BRDU,BRDU_FLAG_W,THETA,HELIER,DELHER
,,,,,,,,,,,METERS,DBAR,ITS-90,PSS-78,,PSS-78,,UMOL/KG,,UMOL/KG,,UMOL/KG,,UMOL/KG,,UMOL/KG,,UMOL/KG,,PMOL/KG,,PMOL/KG,,PMOL/KG,,UMOL/KG,,UMOL/KG,,UATM,,DEG C,,,DEG C,TU,,TU,NMOL/KG,,PERCNT,,/MILLE,,/MILLE,,/MILLE,NMOL/KG,,NMOL/KG,UMOL/KG,,UMOL/KG,,DBAR,1/M,,1/M,,1/M,,1/M,,1/NM,,1/NM,,NMOL/KG,NMOL/KG,,NMOL/KG,,NMOL/KG,,NMOL/KG,,NMOL/KG,,NMOL/KG,,PMOL/L/H,,DEG C,NMOL/KG,PERCNT
325020060213,       P16N,      32,          2,         35,         35,2,20060226,       0708,         10,    -151.94,       5132,     5.8,  26.8060,  34.6352,2,  34.6348,2,    203.1,2,   202.7,2,    0.10,2,    0.00,2,    0.00,2,    0.15,2,   1.673,2,   1.055,2,-999.000,5,  1954.9,6,  2277.1,2,   -999.0,9,  -999.00,   8.0932,2,    25.00,-999.000,9,-999.000,-999.0000,9,-999.000,9, -999.00,9,  -999.0,9,    -9.0,-999.000,9,-999.000,   66.91,2,    4.92,2,    5.80,-999.0000,9,-999.0000,9,-999.0000,9,-999.0000,9,-999.0000,9,-999.0000,9,     -999.0,     -999.0,9,     -999.0,9,     -999.0,9,     -999.0,9,     -999.0,9,     -999.0,9, -999.00,9,  26.8047,-999.0000,-999.000
325020060213,       P16N,      32,          2,         34,         34,2,20060226,       0708,         10,    -151.94,       5132,    15.2,  26.8079,  34.6349,2,  34.6350,2,    203.3,2,   202.9,2,    0.10,2,    0.00,2,    0.00,2,    0.15,2,   1.668,2,   1.056,2,-999.000,5,  1957.3,2,  2276.3,2,   -999.0,9,  -999.00,   8.0865,2,    25.00,-999.000,9,-999.000,-999.0000,9,-999.000,9, -999.00,9,  -999.0,9,    -9.0,-999.000,9,-999.000,   65.62,2,    4.36,2,   15.20,-999.0000,9,-999.0000,9,-999.0000,9,-999.0000,9,-999.0000,9,-999.0000,9,     -999.0,     -999.0,9,     -999.0,9,     -999.0,9,     -999.0,9,     -999.0,9,     -999.0,9, -999.00,9,  26.8044,-999.0000,-999.000
325020060213,       P16N,      32,          2,         33,         33,2,20060226,       0708,         10,    -151.94,       5132,    35.5,  26.6263,  34.6256,2,  34.6209,2,    203.9,2,   203.1,2,    0.30,2,    0.10,2,    0.00,2,    0.16,2,-999.000,9,-999.000,9,-999.000,9,  1960.4,2,  2276.3,2,   -999.0,9,  -999.00,   8.0945,2,    25.00,-999.000,9,-999.000,-999.0000,9,-999.000,9, -999.00,9,  -999.0,9,    -9.0,-999.000,9,-999.000,   67.68,2,    4.26,2,   35.50,-999.0000,9,-999.0000,9,-999.0000,9,-999.0000,9,-999.0000,9,-999.0000,9,     -999.0,     -999.0,9,     -999.0,9,     -999.0,9,     -999.0,9,     -999.0,9,     -999.0,9, -999.00,9,  26.6183,-999.0000,-999.000
325020060213,       P16N,      32,          2,         32,         32,2,20060226,       0708,         10,    -151.94,       5132,    60.3,  20.4314,  34.5503,2,  34.5502,2,    194.0,2,   196.2,2,    2.30,2,    1.50,2,    0.10,2,    0.37,2,   2.256,6,   1.336,6,-999.000,5,  2048.4,2,  -999.0,5,   -999.0,9,  -999.00,   7.9381,2,    25.00,-999.000,9,-999.000,-999.0000,9,-999.000,9, -999.00,9,  -999.0,9,    -9.0,-999.000,9,-999.000,   61.81,2,    5.67,2,   60.30,-999.0000,9,-999.0000,9,-999.0000,9,-999.0000,9,-999.0000,9,-999.0000,9,     -999.0,     -999.0,9,     -999.0,9,     -999.0,9,     -999.0,9,     -999.0,9,     -999.0,9, -999.00,9,  20.4201,-999.0000,-999.000
325020060213,       P16N,      32,          2,         31,         31,2,20060226,       0708,         10,    -151.94,       5132,    85.5,  15.2472,  34.3490,2,  34.3601,2,    130.6,2,   121.9,2,   10.10,6,   14.60,6,    0.50,6,    1.21,6,   2.360,2,   1.301,2,-999.000,5,  2134.4,2,  2271.4,2,   -999.0,9,  -999.00,   7.7119,2,    25.00,-999.000,9,-999.000,-999.0000,9,-999.000,9, -999.00,9,  -999.0,9,    -9.0,-999.000,9,-999.000,   54.56,2,   19.15,2,   85.50,-999.0000,9,-999.0000,9,-999.0000,9,-999.0000,9,-999.0000,9,-999.0000,9,     -999.0,     -999.0,9,     -999.0,9,     -999.0,9,     -999.0,9,     -999.0,9,     -999.0,9, -999.00,9,  15.2342,-999.0000,-999.000
325020060213,       P16N,      32,          2,         30,         30,2,20060226,       0708,         10,    -151.94,       5132,   109.9,  12.5845,  34.6621,2,  34.6635,2,     18.9,2,    17.5,2,   24.40,6,   31.40,6,    0.00,6,    2.26,6,   0.917,2,   0.503,2,-999.000,5,  2236.4,2,  2291.3,2,   -999.0,9,  -999.00,   7.4697,2,    25.00,-999.000,9,-999.000,-999.0000,9,-999.000,9, -999.00,9,  -999.0,9,    -9.0,-999.000,9,-999.000,   52.96,2,   34.85,2,  109.90,-999.0000,9,-999.0000,9,-999.0000,9,-999.0000,9,-999.0000,9,-999.0000,9,     -999.0,     -999.0,9,     -999.0,9,     -999.0,9,     -999.0,9,     -999.0,9,     -999.0,9, -999.00,9,  12.5698,-999.0000,-999.000
325020060213,       P16N,      32,          2,         29,         29,2,20060226,       0708,         10,    -151.94,       5132,   135.4,  11.8503,  34.7093,2,  34.7097,2,     11.5,2,    10.4,2,   26.60,2,   33.30,2,    0.00,2,    2.35,2,   0.635,2,   0.347,2,-999.000,5,  2250.2,2,  2296.6,2,   -999.0,9,  -999.00,   7.4481,2,    25.00,-999.000,9,-999.000,-999.0000,9,-999.000,9, -999.00,9,  -999.0,9,    -9.0,-999.000,9,-999.000,   51.39,2,   37.25,2,  135.40,-999.0000,9,-999.0000,9,-999.0000,9,-999.0000,9,-999.0000,9,-999.0000,9,     -999.0,     -999.0,9,     -999.0,9,     -999.0,9,     -999.0,9,     -999.0,9,     -999.0,9, -999.00,9,  11.8329,-999.0000,-999.000
325020060213,       P16N,      32,          2,         28,         28,2,20060226,       0708,         10,    -151.94,       5132,   175.6,  11.2146,  34.7155,2,  34.7144,2,     17.5,2,    20.4,2,   27.80,2,   33.50,2,    0.00,2,    2.30,2,   0.533,2,   0.303,2,-999.000,5,  2249.1,3,  2234.4,4,   -999.0,9,  -999.00,   7.4572,2,    25.00,-999.000,9,-999.000,-999.0000,9,-999.000,9, -999.00,9,  -999.0,9,    -9.0,-999.000,9,-999.000,   49.44,2,   37.66,2,  175.60,-999.0000,9,-999.0000,9,-999.0000,9,-999.0000,9,-999.0000,9,-999.0000,9,     -999.0,     -999.0,9,     -999.0,9,     -999.0,9,     -999.0,9,     -999.0,9,     -999.0,9, -999.00,9,  11.1928,-999.0000,-999.000
325020060213,       P16N,      32,          2,         27,         27,2,20060226,       0708,         10,    -151.94,       5132,   225.1,  10.6779,  34.7118,2,  34.7099,2,     25.0,2,    25.5,2,   29.10,2,   33.60,2,    0.00,2,    2.28,2,   0.442,2,   0.248,2,-999.000,5,  2248.1,3,  1900.2,4,   -999.0,9,  -999.00,   7.4587,2,    25.00,-999.000,9,-999.000,-999.0000,9,-999.000,9, -999.00,9,  -999.0,9,    -9.0,-999.000,9,-999.000,   47.92,2,   37.53,2,  225.10,-999.0000,9,-999.0000,9,-999.0000,9,-999.0000,9,-999.0000,9,-999.0000,9,     -999.0,     -999.0,9,     -999.0,9,     -999.0,9,     -999.0,9,     -999.0,9,     -999.0,9, -999.00,9,  10.6507,-999.0000,-999.000
325020060213,       P16N,      32,          2,         26,         26,2,20060226,       0708,         10,    -151.94,       5132,   275.6,  10.3146,  34.7023,2,  34.7015,2,     21.6,2,    21.4,2,   30.60,2,   34.60,2,    0.00,2,    2.35,2,   0.327,2,   0.183,2,-999.000,5,  2254.4,2,  2303.7,2,   -999.0,9,  -999.00,   7.4462,2,    25.00,-999.000,9,-999.000,-999.0000,9,-999.000,9, -999.00,9,  -999.0,9,    -9.0,-999.000,9,-999.000,   46.95,2,   38.74,2,  275.60,-999.0000,9,-999.0000,9,-999.0000,9,-999.0000,9,-999.0000,9,-999.0000,9,     -999.0,     -999.0,9,     -999.0,9,     -999.0,9,     -999.0,9,     -999.0,9,     -999.0,9, -999.00,9,  10.2819,-999.0000,-999.000
325020060213,       P16N,      32,          2,         25,         25,2,20060226,       0708,         10,    -151.94,       5132,   325.3,   9.9414,  34.6887,2,  34.6861,2,     13.8,2,    12.3,2,   32.80,2,   35.60,2,    0.00,2,    2.46,2,   0.202,6,   0.116,6,-999.000,5,  2264.7,2,  2303.6,2,   -999.0,9,  -999.00,-999.0000,9,  -999.00,-999.000,9,-999.000,-999.0000,9,-999.000,9, -999.00,9,  -999.0,9,    -9.0,-999.000,9,-999.000,   46.07,2,   39.27,2,  325.30,-999.0000,9,-999.0000,9,-999.0000,9,-999.0000,9,-999.0000,9,-999.0000,9,    354.801,    33.7267,2,    19.0786,2,    62.3947,2,     133.57,2,    78.2262,2,    27.8049,2, -999.00,9,   9.9037,-999.0000,-999.000
325020060213,       P16N,      32,          2,         24,         24,2,20060226,       0708,         10,    -151.94,       5132,   375.2,   9.5170,  34.6630,2,  34.6604,2,      3.5,2,     3.8,2,   36.90,2,   36.00,2,    0.00,2,    2.61,2,   0.080,2,   0.050,2,-999.000,5,  2278.9,6,  2307.6,2,   -999.0,9,  -999.00,   7.3794,2,    25.00,-999.000,9,-999.000,-999.0000,9,-999.000,9, -999.00,9,  -999.0,9,    -9.0,-999.000,9,-999.000,   45.05,2,   39.74,2,  375.20,-999.0000,9,-999.0000,9,-999.0000,9,-999.0000,9,-999.0000,9,-999.0000,9,     -999.0,     -999.0,9,     -999.0,9,     -999.0,9,     -999.0,9,     -999.0,9,     -999.0,9, -999.00,9,   9.4746,-999.0000,-999.000
325020060213,       P16N,      32,          2,         23,         23,2,20060226,       0708,         10,    -151.94,       5132,   426.1,   9.1032,  34.6416,2,  34.6413,2,      2.9,2,     3.0,2,   40.10,2,   36.10,2,    0.00,2,    2.69,2,   0.042,2,   0.028,2,-999.000,5,  2283.8,2,  2311.0,2,   -999.0,9,  -999.00,   7.3730,2,    25.00,-999.000,9,-999.000,-999.0000,9,-999.000,9, -999.00,9,  -999.0,9,    -9.0,-999.000,9,-999.000,   44.02,2,   40.05,2,  426.10,-999.0000,9,-999.0000,9,-999.0000,9,-999.0000,9,-999.0000,9,-999.0000,9,     -999.0,     -999.0,9,     -999.0,9,     -999.0,9,     -999.0,9,     -999.0,9,     -999.0,9, -999.00,9,   9.0562,-999.0000,-999.000
325020060213,       P16N,      32,          2,         22,         22,2,20060226,       0708,         10,    -151.94,       5132,   475.0,   8.4933,  34.6059,2,  34.6020,2,      2.7,2,     2.9,2,   46.00,2,   36.80,2,    0.00,2,    2.81,2,   0.017,2,   0.012,2,-999.000,5,  2291.7,2,  2315.7,2,   -999.0,9,  -999.00,   7.3835,2,    25.00,-999.000,9,-999.000,-999.0000,9,-999.000,9, -999.00,9,  -999.0,9,    -9.0,-999.000,9,-999.000,   43.62,2,   40.78,2,  475.00,-999.0000,9,-999.0000,9,-999.0000,9,-999.0000,9,-999.0000,9,-999.0000,9,     -999.0,     -999.0,9,     -999.0,9,     -999.0,9,     -999.0,9,     -999.0,9,     -999.0,9, -999.00,9,   8.4429,-999.0000,-999.000
325020060213,       P16N,      32,          2,         21,         21,2,20060226,       0708,         10,    -151.94,       5132,   550.5,   7.7306,  34.5730,2,  34.5712,2,      7.7,2,     7.4,2,   51.80,2,   38.50,2,    0.00,2,    2.88,2,   0.010,6,   0.007,6,-999.000,5,  2297.0,2,  2324.1,2,   -999.0,9,  -999.00,   7.3655,2,    25.00,-999.000,9,-999.000,-999.0000,9,-999.000,9, -999.00,9,  -999.0,9,    -9.0,-999.000,9,-999.000,   42.80,2,   42.54,2,  550.50,-999.0000,9,-999.0000,9,-999.0000,9,-999.0000,9,-999.0000,9,-999.0000,9,     -999.0,     -999.0,9,     -999.0,9,     -999.0,9,     -999.0,9,     -999.0,9,     -999.0,9, -999.00,9,   7.6750,-999.0000,-999.000
325020060213,       P16N,      32,          2,         20,         20,2,20060226,       0708,         10,    -151.94,       5132,   650.5,   6.6010,  34.5376,2,  34.5352,2,     10.6,2,    11.9,2,   65.40,2,   40.90,2,    0.00,2,    3.02,2,   0.003,2,   0.003,2,-999.000,5,  2313.0,2,  2333.4,2,   -999.0,9,  -999.00,   7.4035,2,    25.00,-999.000,9,-999.000,-999.0000,9,-999.000,9, -999.00,9,  -999.0,9,    -9.0,-999.000,9,-999.000,   41.72,2,   45.18,2,  650.50,-999.0000,9,-999.0000,9,-999.0000,9,-999.0000,9,-999.0000,9,-999.0000,9,     -999.0,     -999.0,9,     -999.0,9,     -999.0,9,     -999.0,9,     -999.0,9,     -999.0,9, -999.00,9,   6.5405,-999.0000,-999.000
325020060213,       P16N,      32,          2,         19,         19,2,20060226,       0708,         10,    -151.94,       5132,   750.1,   5.7744,  34.5350,2,  34.5352,2,     24.2,2,    24.9,2,   73.40,2,   42.10,2,    0.00,2,    3.00,2,   0.004,2,   0.002,2,-999.000,5,  2315.2,2,  2342.0,2,   -999.0,9,  -999.00,   7.3755,2,    25.00,-999.000,9,-999.000,-999.0000,9,-999.000,9, -999.00,9,  -999.0,9,    -9.0,-999.000,9,-999.000,   40.72,2,   46.57,2,  750.10,-999.0000,9,-999.0000,9,-999.0000,9,-999.0000,9,-999.0000,9,-999.0000,9,     -999.0,     -999.0,9,     -999.0,9,     -999.0,9,     -999.0,9,     -999.0,9,     -999.0,9, -999.00,9,   5.7088,-999.0000,-999.000
325020060213,       P16N,      32,          2,         18,         18,2,20060226,       0708,         10,    -151.94,       5132,   850.2,   5.1913,  34.5375,2,  34.5368,2,     22.9,2,    23.5,2,   83.30,2,   43.20,2,    0.00,2,    3.08,2,-999.000,9,-999.000,9,-999.000,9,  2329.7,3,  2351.2,2,   -999.0,9,  -999.00,   7.3526,2,    25.00,-999.000,9,-999.000,-999.0000,9,-999.000,9, -999.00,9,  -999.0,9,    -9.0,-999.000,9,-999.000,   39.70,2,   47.36,2,  850.20,-999.0000,9,-999.0000,9,-999.0000,9,-999.0000,9,-999.0000,9,-999.0000,9,     -999.0,     -999.0,9,     -999.0,9,     -999.0,9,     -999.0,9,     -999.0,9,     -999.0,9, -999.00,9,   5.1201,-999.0000,-999.000
325020060213,       P16N,      32,          2,         17,         17,2,20060226,       0708,         10,    -151.94,       5132,   950.9,   4.7509,  34.5537,2,  34.5531,2,     38.8,2,    38.9,2,   88.90,2,   42.70,2,    0.00,2,    3.03,2,-999.000,9,-999.000,9,-999.000,9,  2326.4,3,  2362.9,2,   -999.0,9,  -999.00,   7.3871,2,    25.00,-999.000,9,-999.000,-999.0000,9,-999.000,9, -999.00,9,  -999.0,9,    -9.0,-999.000,9,-999.000,   38.80,2,   46.53,2,  950.90,-999.0000,9,-999.0000,9,-999.0000,9,-999.0000,9,-999.0000,9,-999.0000,9,     -999.0,     -999.0,9,     -999.0,9,     -999.0,9,     -999.0,9,     -999.0,9,     -999.0,9, -999.00,9,   4.6737,-999.0000,-999.000
325020060213,       P16N,      32,          2,         16,         16,2,20060226,       0708,         10,    -151.94,       5132,  1100.8,   4.2550,  34.5657,2,  34.5653,2,     52.0,2,    52.5,2,   97.90,2,   41.90,2,    0.00,2,    2.99,2,   0.017,3,   0.006,3,-999.000,5,  2329.4,2,  2373.4,2,   -999.0,9,  -999.00,   7.4026,2,    25.00,-999.000,9,-999.000,-999.0000,9,-999.000,9, -999.00,9,  -999.0,9,    -9.0,-999.000,9,-999.000,   38.33,2,   46.03,2, 1100.80,-999.0000,9,-999.0000,9,-999.0000,9,-999.0000,9,-999.0000,9,-999.0000,9,     -999.0,     -999.0,9,     -999.0,9,     -999.0,9,     -999.0,9,     -999.0,9,     -999.0,9, -999.00,9,   4.1687,-999.0000,-999.000
325020060213,       P16N,      32,          2,         15,         15,2,20060226,       0708,         10,    -151.94,       5132,  1300.5,   3.6619,  34.5823,2,  34.5822,2,     64.7,2,    63.7,2,  110.80,2,   41.30,2,    0.00,2,    2.95,2,-999.000,9,-999.000,9,-999.000,9,  2337.4,2,  2389.0,2,   -999.0,9,  -999.00,   7.4289,2,    25.00,-999.000,9,-999.000,-999.0000,9,-999.000,9, -999.00,9,  -999.0,9,    -9.0,-999.000,9,-999.000,   37.76,2,   45.23,2, 1300.50,-999.0000,9,-999.0000,9,-999.0000,9,-999.0000,9,-999.0000,9,-999.0000,9,     -999.0,     -999.0,9,     -999.0,9,     -999.0,9,     -999.0,9,     -999.0,9,     -999.0,9, -999.00,9,   3.5638,-999.0000,-999.000
325020060213,       P16N,      32,          2,         14,         14,2,20060226,       0708,         10,    -151.94,       5132,  1500.5,   3.1279,  34.6005,2,  34.5991,2,     71.0,2,    71.8,2,  122.80,2,   41.10,2,    0.00,2,    2.93,2,-999.000,9,-999.000,9,-999.000,9,  2346.6,2,  2396.5,2,   -999.0,9,  -999.00,   7.4388,2,    25.00,-999.000,9,-999.000,-999.0000,9,-999.000,9, -999.00,9,  -999.0,9,    -9.0,-999.000,9,-999.000,   37.76,2,   45.21,2, 1500.50,-999.0000,9,-999.0000,9,-999.0000,9,-999.0000,9,-999.0000,9,-999.0000,9,     -999.0,     -999.0,9,     -999.0,9,     -999.0,9,     -999.0,9,     -999.0,9,     -999.0,9, -999.00,9,   3.0185,-999.0000,-999.000
325020060213,       P16N,      32,          2,         13,         13,2,20060226,       0708,         10,    -151.94,       5132,  1700.1,   2.6989,  34.6181,2,  34.6176,2,     81.3,2,    81.4,2,  132.80,2,   40.50,2,    0.00,2,    2.87,2,   0.000,2,   0.000,2,-999.000,5,  2353.5,2,  2406.1,2,   -999.0,9,  -999.00,   7.4672,2,    25.00,-999.000,9,-999.000,-999.0000,9,-999.000,9, -999.00,9,  -999.0,9,    -9.0,-999.000,9,-999.000,   37.95,2,   44.10,2, 1700.10,-999.0000,9,-999.0000,9,-999.0000,9,-999.0000,9,-999.0000,9,-999.0000,9,     -999.0,     -999.0,9,     -999.0,9,     -999.0,9,     -999.0,9,     -999.0,9,     -999.0,9, -999.00,9,   2.5778,-999.0000,-999.000
325020060213,       P16N,      32,          2,         12,         12,2,20060226,       0708,         10,    -151.94,       5132,  1900.1,   2.3852,  34.6348,2,  34.6356,2,     84.8,2,    85.1,2,  141.70,2,   40.40,2,    0.00,2,    2.86,2,-999.000,9,-999.000,9,-999.000,9,  2359.6,2,  2416.5,2,   -999.0,9,  -999.00,   7.4532,2,    25.00,-999.000,9,-999.000,-999.0000,9,-999.000,9, -999.00,9,  -999.0,9,    -9.0,-999.000,9,-999.000,   37.12,2,   43.81,2, 1900.10,-999.0000,9,-999.0000,9,-999.0000,9,-999.0000,9,-999.0000,9,-999.0000,9,     -999.0,     -999.0,9,     -999.0,9,     -999.0,9,     -999.0,9,     -999.0,9,     -999.0,9, -999.00,9,   2.2515,-999.0000,-999.000
325020060213,       P16N,      32,          2,         11,         11,2,20060226,       0708,         10,    -151.94,       5132,  2125.0,   2.1067,  34.6501,2,  34.6476,2,     95.6,2,    96.3,2,  148.00,2,   39.70,2,    0.00,2,    2.79,2,-999.000,9,-999.000,9,-999.000,9,  2360.4,2,  2428.0,2,   -999.0,9,  -999.00,   7.4847,2,    25.00,-999.000,9,-999.000,-999.0000,9,-999.000,9, -999.00,9,  -999.0,9,    -9.0,-999.000,9,-999.000,   36.96,2,   43.62,2, 2125.00,-999.0000,9,-999.0000,9,-999.0000,9,-999.0000,9,-999.0000,9,-999.0000,9,     -999.0,     -999.0,9,     -999.0,9,     -999.0,9,     -999.0,9,     -999.0,9,     -999.0,9, -999.00,9,   1.9579,-999.0000,-999.000
325020060213,       P16N,      32,          2,         10,         10,2,20060226,       0708,         10,    -151.94,       5132,  2374.7,   1.9200,  34.6630,2,  34.6616,2,    106.7,2,   107.5,2,  151.10,2,   38.70,2,    0.00,2,    2.73,2,   0.003,2,   0.000,2,-999.000,5,  2357.8,2,  2433.2,2,   -999.0,9,  -999.00,   7.5065,2,    25.00,-999.000,9,-999.000,-999.0000,9,-999.000,9, -999.00,9,  -999.0,9,    -9.0,-999.000,9,-999.000,   37.51,2,   42.49,2, 2374.70,-999.0000,9,-999.0000,9,-999.0000,9,-999.0000,9,-999.0000,9,-999.0000,9,     -999.0,     -999.0,9,     -999.0,9,     -999.0,9,     -999.0,9,     -999.0,9,     -999.0,9, -999.00,9,   1.7525,-999.0000,-999.000
325020060213,       P16N,      32,          2,          9,          9,2,20060226,       0708,         10,    -151.94,       5132,  2625.4,   1.8101,  34.6685,2,  34.6667,2,    113.6,2,   114.2,2,  152.50,2,   38.30,2,    0.00,2,    2.69,2,-999.000,9,-999.000,9,-999.000,9,  2355.3,2,  2434.6,2,   -999.0,9,  -999.00,   7.5116,2,    25.00,-999.000,9,-999.000,-999.0000,9,-999.000,9, -999.00,9,  -999.0,9,    -9.0,-999.000,9,-999.000,   38.22,2,   42.50,2, 2625.40,-999.0000,9,-999.0000,9,-999.0000,9,-999.0000,9,-999.0000,9,-999.0000,9,     -999.0,     -999.0,9,     -999.0,9,     -999.0,9,     -999.0,9,     -999.0,9,     -999.0,9, -999.00,9,   1.6219,-999.0000,-999.000