BOTTLE,20170720CCHSIOCBG
EXPOCODE,SECT_ID,STNNBR,CASTNO,SAMPNO,BTLNBR,BTLNBR_FLAG_W,DATE,TIME,LATITUDE,LONGITUDE,DEPTH,CTDPRS,CTDTMP,CTDSAL,CTDSAL_FLAG_W,SALNTY,SALNTY_FLAG_W,CTDOXY,CTDOXY_FLAG_W,OXYGEN,OXYGEN_FLAG_W,SILCAT,SILCAT_FLAG_W,NITRAT,NITRAT_FLAG_W,NITRIT,NITRIT_FLAG_W,PHSPHT,PHSPHT_FLAG_W,CFC-11,CFC-11_FLAG_W,CFC-12,CFC-12_FLAG_W,CFC113,CFC113_FLAG_W,TCARBN,TCARBN_FLAG_W,ALKALI,ALKALI_FLAG_W,FCO2,FCO2_FLAG_W,FCO2TMP,PH_TOT,PH_TOT_FLAG_W,PH_TMP,TRITUM,TRITUM_FLAG_W,TRITER,HELIUM,HELIUM_FLAG_W,DELHE3,DELHE3_FLAG_W,DELC13,DELC13_FLAG_W,DELC14,DELC14_FLAG_W,C14ERR,NEON,NEON_FLAG_W,NEONER,DOC,DOC_FLAG_W,TDN,TDN_FLAG_W,CTDRAW,CDOM325,CDOM325_FLAG_W,CDOM340,CDOM340_FLAG_W,CDOM380,CDOM380_FLAG_W,CDOM412,CDOM412_FLAG_W,CDOMSL,CDOMSL_FLAG_W,CDOMSN,CDOMSN_FLAG_W,DCNS,ARABI,ARABI_FLAG_W,FUCO,FUCO_FLAG_W,GALA,GALA_FLAG_W,GLUC,GLUC_FLAG_W,MAN,MAN_FLAG_W,RHAM,RHAM_FLAG_W,BRDU,BRDU_FLAG_W,THETA,HELIER,DELHER
,,,,,,,,,,,METERS,DBAR,ITS-90,PSS-78,,PSS-78,,UMOL/KG,,UMOL/KG,,UMOL/KG,,UMOL/KG,,UMOL/KG,,UMOL/KG,,PMOL/KG,,PMOL/KG,,PMOL/KG,,UMOL/KG,,UMOL/KG,,UATM,,DEG C,,,DEG C,TU,,TU,NMOL/KG,,PERCNT,,/MILLE,,/MILLE,,/MILLE,NMOL/KG,,NMOL/KG,UMOL/KG,,UMOL/KG,,DBAR,1/M,,1/M,,1/M,,1/M,,1/NM,,1/NM,,NMOL/KG,NMOL/KG,,NMOL/KG,,NMOL/KG,,NMOL/KG,,NMOL/KG,,NMOL/KG,,PMOL/L/H,,DEG C,NMOL/KG,PERCNT
325020060213,       P16N,      14,          1,          8,          8,2,20060219,       1702,    -4.0002,  -151.0005,       4644,  2874.2,   1.7320,  34.6760,2,  34.6769,2,    138.4,2,   138.9,2,  141.30,2,   37.30,2,    0.00,2,    2.60,2,  -0.001,2,  -0.001,2,-999.000,5,  2328.8,2,  2420.1,2,   -999.0,9,  -999.00,   7.5672,2,    25.00,-999.000,9,-999.000,-999.0000,9,-999.000,9, -999.00,9,  -999.0,9,    -9.0,-999.000,9,-999.000,   36.93,2,   40.78,2, 2874.20,   0.1080,2,   0.0690,2,   0.0310,2,   0.0170,2,   0.0225,2,   0.0244,2,     -999.0,     -999.0,9,     -999.0,9,     -999.0,9,     -999.0,9,     -999.0,9,     -999.0,9, -999.00,9,   1.5221,-999.0000,-999.000
325020060213,       P16N,      14,          1,          7,          7,2,20060219,       1702,    -4.0002,  -151.0005,       4644,  3123.4,   1.6416,  34.6816,2,  34.6798,2,    144.8,2,   145.1,2,  141.60,2,   36.90,2,    0.00,2,    2.56,2,-999.000,1,-999.000,1,-999.000,9,  2325.9,2,  2420.4,2,   -999.0,9,  -999.00,   7.5784,2,    25.00,-999.000,9,-999.000,-999.0000,9,-999.000,9, -999.00,9,  -999.0,9,    -9.0,-999.000,9,-999.000,   38.04,2,   40.56,2, 3123.40,   0.1070,2,   0.0690,2,   0.0290,2,   0.0160,2,   0.0236,2,   0.0255,2,     -999.0,     -999.0,9,     -999.0,9,     -999.0,9,     -999.0,9,     -999.0,9,     -999.0,9, -999.00,9,   1.4098,-999.0000,-999.000
325020060213,       P16N,      14,          1,          6,          6,2,20060219,       1702,    -4.0002,  -151.0005,       4644,  3451.3,   1.5517,  34.6880,2,  34.6888,2,    152.5,2,   152.7,2,  140.20,2,   36.30,2,    0.00,2,    2.52,2,-999.000,9,-999.000,9,-999.000,9,  2319.2,2,  2419.1,6,   -999.0,9,  -999.00,   7.5880,2,    25.00,-999.000,9,-999.000,-999.0000,9,-999.000,9, -999.00,9,  -999.0,9,    -9.0,-999.000,9,-999.000,   37.92,2,   40.17,2, 3451.30,   0.1060,2,   0.0680,2,   0.0310,2,   0.0150,2,   0.0221,2,   0.0240,2,     -999.0,     -999.0,9,     -999.0,9,     -999.0,9,     -999.0,9,     -999.0,9,     -999.0,9, -999.00,9,   1.2892,-999.0000,-999.000
325020060213,       P16N,      14,          1,          5,          5,2,20060219,       1702,    -4.0002,  -151.0005,       4644,  3850.5,   1.4723,  34.6945,2,  34.6953,2,    161.3,2,   162.0,2,  137.60,6,   35.70,6,    0.00,6,    2.47,6,  -0.001,2,   0.001,2,-999.000,5,  2313.0,2,  -999.0,5,   -999.0,9,  -999.00,   7.5913,2,    25.00,-999.000,9,-999.000,-999.0000,9,-999.000,9, -999.00,9,  -999.0,9,    -9.0,-999.000,9,-999.000,   39.37,2,   39.67,2, 3850.50,   0.1010,2,   0.0630,2,   0.0250,2,   0.0120,2,   0.0257,2,   0.0275,2,     -999.0,     -999.0,9,     -999.0,9,     -999.0,9,     -999.0,9,     -999.0,9,     -999.0,9, -999.00,9,   1.1703,-999.0000,-999.000
325020060213,       P16N,      14,          1,          4,          4,2,20060219,       1702,    -4.0002,  -151.0005,       4644,  4301.0,   1.3468,  34.7030,2,  34.7021,2,    178.4,2,   178.2,2,  130.00,6,   34.50,6,    0.00,6,    2.37,6,-999.000,1,-999.000,1,-999.000,9,  2294.4,2,  -999.0,5,   -999.0,9,  -999.00,   7.6086,2,    25.00,-999.000,9,-999.000,-999.0000,9,-999.000,9, -999.00,9,  -999.0,9,    -9.0,-999.000,9,-999.000,   39.71,2,   38.45,2, 4301.00,   0.0950,2,   0.0580,2,   0.0220,2,   0.0090,2,   0.0275,2,   0.0294,2,     -999.0,     -999.0,9,     -999.0,9,     -999.0,9,     -999.0,9,     -999.0,9,     -999.0,9, -999.00,9,   0.9990,-999.0000,-999.000
325020060213,       P16N,      14,          1,          3,          3,2,20060219,       1702,    -4.0002,  -151.0005,       4644,  4499.9,   1.3472,  34.7040,2,  34.7102,4,    181.6,2,   180.8,2,  128.70,6,   34.40,6,    0.00,6,    2.36,6,-999.000,9,-999.000,9,-999.000,9,  2291.2,2,  -999.0,5,   -999.0,9,  -999.00,   7.6097,2,    25.00,-999.000,9,-999.000,-999.0000,9,-999.000,9, -999.00,9,  -999.0,9,    -9.0,-999.000,9,-999.000,   38.80,2,   38.50,2, 4499.90,   0.0960,2,   0.0600,2,   0.0230,2,   0.0100,2,   0.0268,2,   0.0288,2,     -999.0,     -999.0,9,     -999.0,9,     -999.0,9,     -999.0,9,     -999.0,9,     -999.0,9, -999.00,9,   0.9769,-999.0000,-999.000
325020060213,       P16N,      14,          1,          1,          1,2,20060219,       1702,    -4.0002,  -151.0005,       4644,  4705.9,   1.3612,  34.7044,2,  34.7052,2,    182.4,2,   182.1,2,  128.60,2,   34.40,2,    0.00,2,    2.35,2,   0.002,2,   0.000,2,-999.000,5,  2292.1,6,  -999.0,5,   -999.0,9,  -999.00,   7.6192,2,    25.00,-999.000,9,-999.000,-999.0000,9,-999.000,9, -999.00,9,  -999.0,9,    -9.0,-999.000,9,-999.000,   39.80,2,   37.89,2, 4705.90,   0.0970,2,   0.0590,2,   0.0220,2,   0.0090,2,   0.0276,2,   0.0297,2,     -999.0,     -999.0,9,     -999.0,9,     -999.0,9,     -999.0,9,     -999.0,9,     -999.0,9, -999.00,9,   0.9665,-999.0000,-999.000