BOTTLE,20170720CCHSIOCBG
EXPOCODE,SECT_ID,STNNBR,CASTNO,SAMPNO,BTLNBR,BTLNBR_FLAG_W,DATE,TIME,LATITUDE,LONGITUDE,DEPTH,CTDPRS,CTDTMP,CTDSAL,CTDSAL_FLAG_W,SALNTY,SALNTY_FLAG_W,CTDOXY,CTDOXY_FLAG_W,OXYGEN,OXYGEN_FLAG_W,SILCAT,SILCAT_FLAG_W,NITRAT,NITRAT_FLAG_W,NITRIT,NITRIT_FLAG_W,PHSPHT,PHSPHT_FLAG_W,CFC-11,CFC-11_FLAG_W,CFC-12,CFC-12_FLAG_W,CFC113,CFC113_FLAG_W,TCARBN,TCARBN_FLAG_W,ALKALI,ALKALI_FLAG_W,FCO2,FCO2_FLAG_W,FCO2TMP,PH_TOT,PH_TOT_FLAG_W,PH_TMP,TRITUM,TRITUM_FLAG_W,TRITER,HELIUM,HELIUM_FLAG_W,DELHE3,DELHE3_FLAG_W,DELC13,DELC13_FLAG_W,DELC14,DELC14_FLAG_W,C14ERR,NEON,NEON_FLAG_W,NEONER,DOC,DOC_FLAG_W,TDN,TDN_FLAG_W,CTDRAW,CDOM325,CDOM325_FLAG_W,CDOM340,CDOM340_FLAG_W,CDOM380,CDOM380_FLAG_W,CDOM412,CDOM412_FLAG_W,CDOMSL,CDOMSL_FLAG_W,CDOMSN,CDOMSN_FLAG_W,DCNS,ARABI,ARABI_FLAG_W,FUCO,FUCO_FLAG_W,GALA,GALA_FLAG_W,GLUC,GLUC_FLAG_W,MAN,MAN_FLAG_W,RHAM,RHAM_FLAG_W,BRDU,BRDU_FLAG_W,THETA,HELIER,DELHER
,,,,,,,,,,,METERS,DBAR,ITS-90,PSS-78,,PSS-78,,UMOL/KG,,UMOL/KG,,UMOL/KG,,UMOL/KG,,UMOL/KG,,UMOL/KG,,PMOL/KG,,PMOL/KG,,PMOL/KG,,UMOL/KG,,UMOL/KG,,UATM,,DEG C,,,DEG C,TU,,TU,NMOL/KG,,PERCNT,,/MILLE,,/MILLE,,/MILLE,NMOL/KG,,NMOL/KG,UMOL/KG,,UMOL/KG,,DBAR,1/M,,1/M,,1/M,,1/M,,1/NM,,1/NM,,NMOL/KG,NMOL/KG,,NMOL/KG,,NMOL/KG,,NMOL/KG,,NMOL/KG,,NMOL/KG,,PMOL/L/H,,DEG C,NMOL/KG,PERCNT
325020060213,       P16N,      72,          1,          9,          9,9,20060326,       1159,    50.9998,  -151.9998,       4951,  2624.8,   1.6737,  34.6393,2,-999.0000,9,     88.8,2,  -999.0,9, -999.00,9, -999.00,9, -999.00,9, -999.00,9,-999.000,9,-999.000,9,-999.000,9,  -999.0,9,  -999.0,9,   -999.0,9,  -999.00,-999.0000,9,  -999.00,-999.000,9,-999.000,-999.0000,9,-999.000,9, -999.00,9,  -999.0,9,    -9.0,-999.000,9,-999.000, -999.00,9, -999.00,9, 2624.80,-999.0000,9,-999.0000,9,-999.0000,9,-999.0000,9,-999.0000,9,-999.0000,9,     -999.0,     -999.0,9,     -999.0,9,     -999.0,9,     -999.0,9,     -999.0,9,     -999.0,9, -999.00,9,   1.4883,-999.0000,-999.000
325020060213,       P16N,      72,          1,          8,          8,2,20060326,       1159,    50.9998,  -151.9998,       4951,  2874.9,   1.6073,  34.6522,2,  34.6530,2,    101.9,2,   101.6,2,  167.00,2,   38.70,2,    0.00,2,    2.79,2,-999.000,9,-999.000,9,-999.000,9,  2359.4,6,  2428.4,2,   -999.0,9,  -999.00,   7.4855,2,    25.00,-999.000,9,-999.000,-999.0000,9,-999.000,9, -999.00,5,  -240.4,2,     2.5,-999.000,9,-999.000,   36.46,2,   42.30,2, 2874.90,   0.1390,2,   0.0960,2,   0.0500,2,   0.0360,2,   0.0145,3,   0.0171,3,     -999.0,     -999.0,9,     -999.0,9,     -999.0,9,     -999.0,9,     -999.0,9,     -999.0,9, -999.00,9,   1.4001,-999.0000,-999.000
325020060213,       P16N,      72,          1,          7,          7,2,20060326,       1159,    50.9998,  -151.9998,       4951,  3121.0,   1.5575,  34.6623,2,  34.6638,2,    113.4,2,   112.8,2,  165.10,2,   37.80,2,    0.00,2,    2.72,2,-999.000,9,-999.000,9,-999.000,9,  2352.4,2,  2424.5,6,   -999.0,9,  -999.00,   7.5080,2,    25.00,-999.000,9,-999.000,-999.0000,9,-999.000,9, -999.00,5,  -240.1,2,     2.5,-999.000,9,-999.000,   36.85,2,   41.35,2, 3121.00,   0.1370,2,   0.0940,2,   0.0480,2,   0.0350,2,   0.0147,3,   0.0173,3,     -999.0,     -999.0,9,     -999.0,9,     -999.0,9,     -999.0,9,     -999.0,9,     -999.0,9, -999.00,9,   1.3279,-999.0000,-999.000
325020060213,       P16N,      72,          1,          6,          6,2,20060326,       1159,    50.9998,  -151.9998,       4951,  3449.8,   1.5133,  34.6723,2,  34.6741,2,    125.6,2,   124.9,2,  163.00,2,   36.80,2,    0.00,2,    2.67,2,   0.004,2,   0.001,2,-999.000,5,  2344.7,2,  2424.4,2,   -999.0,9,  -999.00,   7.5307,2,    25.00,-999.000,9,-999.000,-999.0000,9,-999.000,9, -999.00,5,  -235.0,2,     2.8,-999.000,9,-999.000,   37.11,2,   40.59,2, 3449.80,   0.1390,2,   0.0960,2,   0.0510,2,   0.0380,2,   0.0139,3,   0.0164,3,     -999.0,     -999.0,9,     -999.0,9,     -999.0,9,     -999.0,9,     -999.0,9,     -999.0,9, -999.00,9,   1.2520,-999.0000,-999.000
325020060213,       P16N,      72,          1,          5,          5,2,20060326,       1159,    50.9998,  -151.9998,       4951,  3849.9,   1.4950,  34.6802,2,  34.6804,2,    135.5,2,   134.8,2,  161.80,2,   36.20,2,    0.00,2,    2.62,2,-999.000,9,-999.000,9,-999.000,9,  2338.9,2,  2425.6,2,   -999.0,9,  -999.00,   7.5533,2,    25.00,-999.000,9,-999.000,-999.0000,9,-999.000,9, -999.00,5,  -222.5,2,     2.5,-999.000,9,-999.000,   37.51,2,   39.32,2, 3849.90,   0.1320,2,   0.0890,2,   0.0460,2,   0.0340,2,   0.0149,3,   0.0177,3,     -999.0,     -999.0,9,     -999.0,9,     -999.0,9,     -999.0,9,     -999.0,9,     -999.0,9, -999.00,9,   1.1924,-999.0000,-999.000
325020060213,       P16N,      72,          1,          4,          4,2,20060326,       1159,    50.9998,  -151.9998,       4951,  4300.0,   1.5110,  34.6851,2,  34.6860,2,    140.5,2,   139.7,2,  163.50,6,   36.00,6,    0.00,6,    2.56,6,   0.001,2,   0.001,2,-999.000,5,  2337.4,2,  2434.4,2,   -999.0,9,  -999.00,   7.5647,2,    25.00,-999.000,9,-999.000,-999.0000,9,-999.000,9, -999.00,5,  -221.1,2,     2.7,-999.000,9,-999.000,   37.46,2,   40.07,2, 4300.00,   0.1300,2,   0.0880,2,   0.0450,2,   0.0330,2,   0.0152,2,   0.0179,3,     -999.0,     -999.0,9,     -999.0,9,     -999.0,9,     -999.0,9,     -999.0,9,     -999.0,9, -999.00,9,   1.1586,-999.0000,-999.000
325020060213,       P16N,      72,          1,          3,          3,4,20060326,       1159,    50.9998,  -151.9998,       4951,  4700.1,   1.5471,  34.6873,2,  33.8594,4,    141.5,2,    62.6,4,   81.40,4,   40.20,4,    0.00,4,    2.79,4,-999.000,9,-999.000,9,-999.000,9,  2293.6,3,  2294.6,3,   -999.0,9,  -999.00,   7.2881,3,    25.00,-999.000,9,-999.000,-999.0000,9,-999.000,9, -999.00,5,   -90.0,4,     3.2,-999.000,9,-999.000,   37.68,2,   43.63,2, 4700.10,-999.0000,9,-999.0000,9,-999.0000,9,-999.0000,9,-999.0000,9,-999.0000,9,     -999.0,     -999.0,9,     -999.0,9,     -999.0,9,     -999.0,9,     -999.0,9,     -999.0,9, -999.00,9,   1.1473,-999.0000,-999.000
325020060213,       P16N,      72,          1,          2,          2,2,20060326,       1159,    50.9998,  -151.9998,       4951,  4901.6,   1.5695,  34.6880,2,  34.6886,2,    141.5,2,   141.3,2,  168.00,6,   36.00,6,    0.00,6,    2.56,6,-999.000,9,-999.000,9,-999.000,9,  2338.0,2,  2438.1,2,   -999.0,9,  -999.00,   7.5716,2,    25.00,-999.000,9,-999.000,-999.0000,9,-999.000,9, -999.00,5,  -220.1,2,     2.6,-999.000,9,-999.000,   37.61,2,   39.26,2, 4901.60,   0.1330,2,   0.0900,2,   0.0460,2,   0.0340,2,   0.0147,3,   0.0175,3,     -999.0,     -999.0,9,     -999.0,9,     -999.0,9,     -999.0,9,     -999.0,9,     -999.0,9, -999.00,9,   1.1449,-999.0000,-999.000
325020060213,       P16N,      72,          1,          1,          1,2,20060326,       1159,    50.9998,  -151.9998,       4951,  5079.5,   1.5912,  34.6883,2,  34.6902,2,    141.2,2,   141.6,2,  169.30,6,   35.90,6,    0.00,6,    2.56,6,   0.002,2,   0.006,2,-999.000,5,  2338.1,6,  2438.7,2,   -999.0,9,  -999.00,   7.5721,2,    25.00,-999.000,9,-999.000,-999.0000,9,-999.000,9, -999.00,5,  -224.3,2,     2.7,-999.000,9,-999.000,   36.89,2,   39.20,2, 5079.50,   0.1400,2,   0.0960,2,   0.0510,2,   0.0390,2,   0.0131,3,   0.0159,3,     -999.0,     -999.0,9,     -999.0,9,     -999.0,9,     -999.0,9,     -999.0,9,     -999.0,9, -999.00,9,   1.1441,-999.0000,-999.000