BOTTLE,20170720CCHSIOCBG
EXPOCODE,SECT_ID,STNNBR,CASTNO,SAMPNO,BTLNBR,BTLNBR_FLAG_W,DATE,TIME,LATITUDE,LONGITUDE,DEPTH,CTDPRS,CTDTMP,CTDSAL,CTDSAL_FLAG_W,SALNTY,SALNTY_FLAG_W,CTDOXY,CTDOXY_FLAG_W,OXYGEN,OXYGEN_FLAG_W,SILCAT,SILCAT_FLAG_W,NITRAT,NITRAT_FLAG_W,NITRIT,NITRIT_FLAG_W,PHSPHT,PHSPHT_FLAG_W,CFC-11,CFC-11_FLAG_W,CFC-12,CFC-12_FLAG_W,CFC113,CFC113_FLAG_W,TCARBN,TCARBN_FLAG_W,ALKALI,ALKALI_FLAG_W,FCO2,FCO2_FLAG_W,FCO2TMP,PH_TOT,PH_TOT_FLAG_W,PH_TMP,TRITUM,TRITUM_FLAG_W,TRITER,HELIUM,HELIUM_FLAG_W,DELHE3,DELHE3_FLAG_W,DELC13,DELC13_FLAG_W,DELC14,DELC14_FLAG_W,C14ERR,NEON,NEON_FLAG_W,NEONER,DOC,DOC_FLAG_W,TDN,TDN_FLAG_W,CTDRAW,CDOM325,CDOM325_FLAG_W,CDOM340,CDOM340_FLAG_W,CDOM380,CDOM380_FLAG_W,CDOM412,CDOM412_FLAG_W,CDOMSL,CDOMSL_FLAG_W,CDOMSN,CDOMSN_FLAG_W,DCNS,ARABI,ARABI_FLAG_W,FUCO,FUCO_FLAG_W,GALA,GALA_FLAG_W,GLUC,GLUC_FLAG_W,MAN,MAN_FLAG_W,RHAM,RHAM_FLAG_W,BRDU,BRDU_FLAG_W,THETA,HELIER,DELHER
,,,,,,,,,,,METERS,DBAR,ITS-90,PSS-78,,PSS-78,,UMOL/KG,,UMOL/KG,,UMOL/KG,,UMOL/KG,,UMOL/KG,,UMOL/KG,,PMOL/KG,,PMOL/KG,,PMOL/KG,,UMOL/KG,,UMOL/KG,,UATM,,DEG C,,,DEG C,TU,,TU,NMOL/KG,,PERCNT,,/MILLE,,/MILLE,,/MILLE,NMOL/KG,,NMOL/KG,UMOL/KG,,UMOL/KG,,DBAR,1/M,,1/M,,1/M,,1/M,,1/NM,,1/NM,,NMOL/KG,NMOL/KG,,NMOL/KG,,NMOL/KG,,NMOL/KG,,NMOL/KG,,NMOL/KG,,PMOL/L/H,,DEG C,NMOL/KG,PERCNT
325020060213,       P16N,      35,          1,         35,         35,2,20060227,       1120,    12.9998,  -152.0002,       5617,     5.1,  25.7802,  34.1443,2,  34.1431,2,    207.3,2,   249.3,4,    0.30,2,    0.00,2,    0.00,2,    0.12,2,   1.759,2,   1.099,2,-999.000,5,  1937.3,6,  2243.6,2,   -999.0,9,  -999.00,   8.0878,2,    25.00,   0.636,2,   0.003,   1.7163,2,   -1.44,2, -999.00,9,  -999.0,9,    -9.0,   6.794,2,   0.020,   68.96,2,    4.58,2,    5.10,-999.0000,9,-999.0000,9,-999.0000,9,-999.0000,9,-999.0000,9,-999.0000,9,     -999.0,     -999.0,9,     -999.0,9,     -999.0,9,     -999.0,9,     -999.0,9,     -999.0,9, -999.00,9,  25.7791,   0.0051,    0.14
325020060213,       P16N,      35,          1,         34,         34,2,20060227,       1120,    12.9998,  -152.0002,       5617,    24.6,  25.7538,  34.2622,2,  34.2684,2,    208.8,2,   247.5,4,    0.30,2,    0.00,2,    0.00,2,    0.13,2,   1.740,2,   1.096,2,-999.000,5,  1940.0,2,  2251.3,2,   -999.0,9,  -999.00,-999.0000,9,  -999.00,   0.647,2,   0.004,   1.7200,2,   -1.63,2, -999.00,9,  -999.0,9,    -9.0,   6.790,2,   0.020,   68.40,2,    3.85,2,   24.60,-999.0000,9,-999.0000,9,-999.0000,9,-999.0000,9,-999.0000,9,-999.0000,9,     -999.0,     -999.0,9,     -999.0,9,     -999.0,9,     -999.0,9,     -999.0,9,     -999.0,9, -999.00,9,  25.7483,   0.0052,    0.14
325020060213,       P16N,      35,          1,         33,         33,2,20060227,       1120,    12.9998,  -152.0002,       5617,    50.9,  25.5277,  34.3313,2,  34.3298,2,    208.9,2,   243.0,4,    0.40,2,    0.00,2,    0.00,2,    0.12,2,   1.781,2,   1.103,2,-999.000,5,  1944.4,2,  2254.3,2,   -999.0,9,  -999.00,   8.0842,2,    25.00,   0.644,2,   0.003,   1.7478,2,   -0.78,2, -999.00,9,  -999.0,9,    -9.0,   6.825,2,   0.020,   65.79,2,    4.69,2,   50.90,-999.0000,9,-999.0000,9,-999.0000,9,-999.0000,9,-999.0000,9,-999.0000,9,     -999.0,     -999.0,9,     -999.0,9,     -999.0,9,     -999.0,9,     -999.0,9,     -999.0,9, -999.00,9,  25.5166,   0.0052,    0.14
325020060213,       P16N,      35,          1,         32,         32,2,20060227,       1120,    12.9998,  -152.0002,       5617,    74.4,  23.7754,  34.7713,2,  34.7418,2,    215.0,2,   239.6,4,    0.50,2,    0.00,2,    0.00,2,    0.13,2,   1.977,6,   1.213,6,-999.000,5,  1996.7,2,  2296.1,2,   -999.0,9,  -999.00,   8.0480,2,    25.00,   0.738,2,   0.004,   1.7430,2,   -1.06,2, -999.00,9,  -999.0,9,    -9.0,   6.900,2,   0.021,   61.92,2,    4.83,2,   74.40,-999.0000,9,-999.0000,9,-999.0000,9,-999.0000,9,-999.0000,9,-999.0000,9,     -999.0,     -999.0,9,     -999.0,9,     -999.0,9,     -999.0,9,     -999.0,9,     -999.0,9, -999.00,9,  23.7599,   0.0052,    0.14
325020060213,       P16N,      35,          1,         31,         31,2,20060227,       1120,    12.9998,  -152.0002,       5617,   100.7,  21.3596,  35.0244,2,  35.0292,2,    206.0,2,   217.1,4,    0.80,2,    0.20,2,    0.00,2,    0.13,2,-999.000,9,-999.000,9,-999.000,9,  2036.7,2,  2313.1,2,   -999.0,9,  -999.00,   7.9990,2,    25.00,   0.808,2,   0.004,   1.7294,2,   -1.10,2, -999.00,9,  -999.0,9,    -9.0,   6.972,2,   0.021,   59.02,2,    4.83,2,  100.70,-999.0000,9,-999.0000,9,-999.0000,9,-999.0000,9,-999.0000,9,-999.0000,9,     -999.0,     -999.0,9,     -999.0,9,     -999.0,9,     -999.0,9,     -999.0,9,     -999.0,9, -999.00,9,  21.3402,   0.0052,    0.14
325020060213,       P16N,      35,          1,         30,         30,2,20060227,       1120,    12.9998,  -152.0002,       5617,   124.5,  19.1529,  34.8710,2,  34.8283,2,    192.7,2,   193.3,2,    2.00,2,    2.70,2,    0.00,2,    0.26,2,   2.412,2,   1.420,2,-999.000,5,  2051.9,2,  2295.9,2,   -999.0,9,  -999.00,   7.9494,2,    25.00,   0.821,2,   0.004,   1.7490,2,   -0.65,2, -999.00,5,    64.8,6,     3.3,   7.099,2,   0.021,   53.60,2,    6.47,2,  124.50,-999.0000,9,-999.0000,9,-999.0000,9,-999.0000,9,-999.0000,9,-999.0000,9,     -999.0,     -999.0,9,     -999.0,9,     -999.0,9,     -999.0,9,     -999.0,9,     -999.0,9, -999.00,9,  19.1306,   0.0052,    0.14
325020060213,       P16N,      35,          1,         29,         29,2,20060227,       1120,    12.9998,  -152.0002,       5617,   150.6,  16.5227,  34.5304,2,  34.5369,2,    191.6,2,   189.9,2,    3.70,2,    5.10,2,    0.00,2,    0.43,2,   2.629,2,   1.518,2,-999.000,5,  2061.5,2,  2271.8,2,   -999.0,9,  -999.00,   7.8829,2,    25.00,   0.844,2,   0.004,   1.7594,2,   -0.24,2, -999.00,9,  -999.0,9,    -9.0,   7.245,2,   0.022,   52.41,2,    9.45,2,  150.60,-999.0000,9,-999.0000,9,-999.0000,9,-999.0000,9,-999.0000,9,-999.0000,9,     -999.0,     -999.0,9,     -999.0,9,     -999.0,9,     -999.0,9,     -999.0,9,     -999.0,9, -999.00,9,  16.4985,   0.0053,    0.14
325020060213,       P16N,      35,          1,         28,         28,2,20060227,       1120,    12.9998,  -152.0002,       5617,   200.9,  11.8661,  34.2534,2,  34.2525,2,    124.5,2,   120.4,2,   17.00,2,   19.90,2,    0.00,2,    1.49,2,   2.436,2,   1.315,2,-999.000,5,  2155.2,2,  2264.3,6,   -999.0,9,  -999.00,   7.6402,2,    25.00,-999.000,9,-999.000,   1.7939,2,    5.02,2, -999.00,9,  -999.0,9,    -9.0,   7.515,2,   0.023,   46.96,2,   24.39,2,  200.90,-999.0000,9,-999.0000,9,-999.0000,9,-999.0000,9,-999.0000,9,-999.0000,9,     -999.0,     -999.0,9,     -999.0,9,     -999.0,9,     -999.0,9,     -999.0,9,     -999.0,9, -999.00,9,  11.8403,   0.0054,    0.14
325020060213,       P16N,      35,          1,         27,         27,2,20060227,       1120,    12.9998,  -152.0002,       5617,   250.9,   9.8258,  34.2684,2,  34.2683,2,    106.2,2,    98.1,2,   28.70,2,   26.00,2,    0.00,2,    1.89,2,   1.867,2,   0.960,2,-999.000,5,  2191.9,2,  2274.5,2,   -999.0,9,  -999.00,   7.5488,2,    25.00,   0.673,2,   0.003,   1.8016,2,    9.42,2, -999.00,5,    -4.3,6,     4.1,   7.623,2,   0.023,   45.21,2,   29.94,2,  250.90,-999.0000,9,-999.0000,9,-999.0000,9,-999.0000,9,-999.0000,9,-999.0000,9,     -999.0,     -999.0,9,     -999.0,9,     -999.0,9,     -999.0,9,     -999.0,9,     -999.0,9, -999.00,9,   9.7972,   0.0054,    0.14
325020060213,       P16N,      35,          1,         26,         26,2,20060227,       1120,    12.9998,  -152.0002,       5617,   300.7,   9.2278,  34.4216,2,  34.4219,2,     42.4,2,    39.0,2,   37.10,2,   31.80,2,    0.00,2,    2.38,2,   0.694,2,   0.351,2,-999.000,5,  2250.0,6,  2293.5,2,   -999.0,9,  -999.00,   7.4325,2,    25.00,   0.384,2,   0.002,   1.7962,2,   10.64,2, -999.00,9,  -999.0,9,    -9.0,   7.604,2,   0.023,   44.67,2,   35.43,2,  300.70,-999.0000,9,-999.0000,9,-999.0000,9,-999.0000,9,-999.0000,9,-999.0000,9,     -999.0,     -999.0,9,     -999.0,9,     -999.0,9,     -999.0,9,     -999.0,9,     -999.0,9, -999.00,9,   9.1946,   0.0054,    0.14
325020060213,       P16N,      35,          1,         25,         25,2,20060227,       1120,    12.9998,  -152.0002,       5617,   349.4,   8.6273,  34.4396,2,  34.4396,2,     28.2,2,    27.6,2,   42.30,2,   33.90,2,    0.00,2,    2.52,2,   0.367,2,   0.190,2,-999.000,5,  2259.5,2,  2299.5,2,   -999.0,9,  -999.00,   7.4031,2,    25.00,   0.293,2,   0.002,   1.8095,2,   10.16,2, -999.00,9,  -999.0,9,    -9.0,   7.673,2,   0.023,   43.60,2,   38.49,2,  349.40,-999.0000,9,-999.0000,9,-999.0000,9,-999.0000,9,-999.0000,9,-999.0000,9,     -999.0,     -999.0,9,     -999.0,9,     -999.0,9,     -999.0,9,     -999.0,9,     -999.0,9, -999.00,9,   8.5903,   0.0054,    0.14
325020060213,       P16N,      35,          1,         24,         24,2,20060227,       1120,    12.9998,  -152.0002,       5617,   399.6,   8.0617,  34.4607,2,  34.4624,2,     24.2,2,    24.5,2,   47.80,2,   36.10,2,    0.00,2,    2.62,2,   0.168,6,   0.089,6,-999.000,5,  2272.7,2,  2306.9,2,   -999.0,9,  -999.00,   7.4073,2,    25.00,   0.159,2,   0.002,   1.8095,2,    9.19,2, -999.00,9,  -999.0,9,    -9.0,   7.725,2,   0.023,   42.77,2,   39.74,2,  399.60,-999.0000,9,-999.0000,9,-999.0000,9,-999.0000,9,-999.0000,9,-999.0000,9,     -999.0,     -999.0,9,     -999.0,9,     -999.0,9,     -999.0,9,     -999.0,9,     -999.0,9, -999.00,9,   8.0208,   0.0054,    0.14
325020060213,       P16N,      35,          1,         23,         23,2,20060227,       1120,    12.9998,  -152.0002,       5617,   449.7,   7.6092,  34.4859,2,  34.4863,2,     25.6,2,    25.2,2,   52.10,2,   37.40,2,    0.00,2,    2.67,2,-999.000,9,-999.000,9,-999.000,9,  2280.9,2,  2311.4,2,   -999.0,9,  -999.00,   7.3981,2,    25.00,   0.109,2,   0.002,   1.8255,2,    9.45,2, -999.00,5,  -116.3,6,     3.0,   7.696,2,   0.023,   42.17,2,   41.52,2,  449.70,-999.0000,9,-999.0000,9,-999.0000,9,-999.0000,9,-999.0000,9,-999.0000,9,     -999.0,     -999.0,9,     -999.0,9,     -999.0,9,     -999.0,9,     -999.0,9,     -999.0,9, -999.00,9,   7.5646,   0.0055,    0.14
325020060213,       P16N,      35,          1,         22,         22,2,20060227,       1120,    12.9998,  -152.0002,       5617,   499.0,   7.1996,  34.4876,2,  34.4857,2,     26.8,2,    27.1,2,   55.80,2,   38.00,2,    0.00,2,    2.71,2,   0.059,2,   0.032,2,-999.000,5,  2284.4,2,  2316.8,2,   -999.0,9,  -999.00,-999.0000,9,  -999.00,   0.073,2,   0.001,   1.8246,2,    9.46,2, -999.00,9,  -999.0,9,    -9.0,   7.754,2,   0.023,   41.63,2,   41.91,2,  499.00,-999.0000,9,-999.0000,9,-999.0000,9,-999.0000,9,-999.0000,9,-999.0000,9,     -999.0,     -999.0,9,     -999.0,9,     -999.0,9,     -999.0,9,     -999.0,9,     -999.0,9, -999.00,9,   7.1515,   0.0055,    0.14
325020060213,       P16N,      35,          1,         21,         21,2,20060227,       1120,    12.9998,  -152.0002,       5617,   600.4,   6.4129,  34.4907,2,  34.4887,2,     26.7,2,    26.3,2,   65.40,2,   39.80,2,    0.00,2,    2.84,2,   0.020,2,   0.011,2,-999.000,5,  2299.2,2,  2328.0,2,   -999.0,9,  -999.00,   7.3851,2,    25.00,   0.037,2,   0.001,   1.8362,2,   10.79,2, -999.00,9,  -999.0,9,    -9.0,   7.819,2,   0.023,   41.17,2,   43.65,2,  600.40,-999.0000,9,-999.0000,9,-999.0000,9,-999.0000,9,-999.0000,9,-999.0000,9,     -999.0,     -999.0,9,     -999.0,9,     -999.0,9,     -999.0,9,     -999.0,9,     -999.0,9, -999.00,9,   6.3582,   0.0055,    0.14
325020060213,       P16N,      35,          1,         20,         20,2,20060227,       1120,    12.9998,  -152.0002,       5617,   698.7,   5.7543,  34.4993,2,-999.0000,5,     34.8,2,    35.4,2,   74.10,2,   40.70,2,    0.00,2,    2.87,2,   0.013,2,   0.008,2,-999.000,5,  2306.0,2,  2339.6,2,   -999.0,9,  -999.00,   7.3977,2,    25.00,   0.014,2,   0.001,   1.8474,2,   12.77,2, -999.00,9,  -999.0,9,    -9.0,   7.867,2,   0.024,   40.43,2,   44.30,2,  698.70,-999.0000,9,-999.0000,9,-999.0000,9,-999.0000,9,-999.0000,9,-999.0000,9,     -999.0,     -999.0,9,     -999.0,9,     -999.0,9,     -999.0,9,     -999.0,9,     -999.0,9, -999.00,9,   5.6936,   0.0055,    0.14
325020060213,       P16N,      35,          1,         19,         19,2,20060227,       1120,    12.9998,  -152.0002,       5617,   799.4,   5.2683,  34.5125,2,  34.5113,2,     32.4,2,    32.6,2,   82.10,2,   41.90,2,    0.00,2,    2.95,2,   0.003,6,   0.003,6,-999.000,5,  2319.8,2,  2349.3,2,   -999.0,9,  -999.00,   7.3856,2,    25.00,   0.016,2,   0.001,   1.8556,2,   14.67,2, -999.00,9,  -999.0,9,    -9.0,   7.817,2,   0.023,   40.36,2,   45.56,2,  799.40,-999.0000,9,-999.0000,9,-999.0000,9,-999.0000,9,-999.0000,9,-999.0000,9,     -999.0,     -999.0,9,     -999.0,9,     -999.0,9,     -999.0,9,     -999.0,9,     -999.0,9, -999.00,9,   5.2012,   0.0056,    0.14
325020060213,       P16N,      35,          1,         18,         18,2,20060227,       1120,    12.9998,  -152.0002,       5617,   899.3,   4.8183,  34.5254,2,  34.5264,2,     31.1,2,    31.1,2,   90.50,2,   42.90,2,    0.00,2,    3.02,2,   0.004,2,   0.002,2,-999.000,5,  2330.9,2,  2358.2,2,   -999.0,9,  -999.00,   7.3802,2,    25.00,   0.005,2,   0.001,   1.8974,2,   17.24,2, -999.00,5,  -184.6,6,     2.1,   7.973,2,   0.024,   40.20,2,   47.32,2,  899.30,-999.0000,9,-999.0000,9,-999.0000,9,-999.0000,9,-999.0000,9,-999.0000,9,     -999.0,     -999.0,9,     -999.0,9,     -999.0,9,     -999.0,9,     -999.0,9,     -999.0,9, -999.00,9,   4.7452,   0.0057,    0.14
325020060213,       P16N,      35,          1,         17,         17,2,20060227,       1120,    12.9998,  -152.0002,       5617,   999.0,   4.3708,  34.5371,2,  34.5376,2,     38.1,2,    38.7,2,   99.20,2,   42.70,2,    0.00,2,    3.02,2,   0.004,2,   0.002,2,-999.000,5,  2335.2,2,  2367.8,6,   -999.0,9,  -999.00,   7.3851,2,    25.00,   0.022,2,   0.001,   1.8782,2,   20.34,2, -999.00,9,  -999.0,9,    -9.0,   7.937,2,   0.024,   39.17,2,   46.51,2,  999.00,-999.0000,9,-999.0000,9,-999.0000,9,-999.0000,9,-999.0000,9,-999.0000,9,     -999.0,     -999.0,9,     -999.0,9,     -999.0,9,     -999.0,9,     -999.0,9,     -999.0,9, -999.00,9,   4.2924,   0.0056,    0.14
325020060213,       P16N,      35,          1,         16,         16,2,20060227,       1120,    12.9998,  -152.0002,       5617,  1200.6,   3.6354,  34.5672,2,  34.5661,2,     52.1,2,    52.1,2,  113.50,2,   42.20,2,    0.00,2,    2.97,2,-999.000,9,-999.000,9,-999.000,9,  2346.6,2,  2384.2,2,   -999.0,9,  -999.00,   7.4091,2,    25.00,-999.000,9,-999.000,   1.9123,2,   21.69,2, -999.00,9,  -999.0,9,    -9.0,   8.056,2,   0.024,   37.85,2,   45.68,2, 1200.60,-999.0000,9,-999.0000,9,-999.0000,9,-999.0000,9,-999.0000,9,-999.0000,9,     -999.0,     -999.0,9,     -999.0,9,     -999.0,9,     -999.0,9,     -999.0,9,     -999.0,9, -999.00,9,   3.5460,   0.0057,    0.14
325020060213,       P16N,      35,          1,         15,         15,2,20060227,       1120,    12.9998,  -152.0002,       5617,  1400.0,   3.0676,  34.5914,2,  34.5901,2,     66.8,2,    67.3,2,  125.80,2,   41.40,2,    0.00,2,    2.90,2,   0.006,2,   0.004,2,-999.000,5,  2350.9,2,  2397.3,2,   -999.0,9,  -999.00,   7.4405,2,    25.00,-999.000,9,-999.000,-999.0000,9,-999.000,9, -999.00,9,  -999.0,9,    -9.0,-999.000,9,-999.000,   36.85,2,   45.56,2, 1400.00,-999.0000,9,-999.0000,9,-999.0000,9,-999.0000,9,-999.0000,9,-999.0000,9,     -999.0,     -999.0,9,     -999.0,9,     -999.0,9,     -999.0,9,     -999.0,9,     -999.0,9, -999.00,9,   2.9673,-999.0000,-999.000
325020060213,       P16N,      35,          1,         14,         14,2,20060227,       1120,    12.9998,  -152.0002,       5617,  1599.3,   2.6234,  34.6128,2,  34.6107,2,     79.8,2,    81.0,2,  135.10,2,   40.70,2,    0.00,2,    2.83,2,-999.000,9,-999.000,9,-999.000,9,  2354.0,2,  2408.2,2,   -999.0,9,  -999.00,   7.4583,2,    25.00,-999.000,9,-999.000,-999.0000,9,-999.000,9, -999.00,9,  -999.0,9,    -9.0,-999.000,9,-999.000,   37.05,2,   44.39,2, 1599.30,-999.0000,9,-999.0000,9,-999.0000,9,-999.0000,9,-999.0000,9,-999.0000,9,     -999.0,     -999.0,9,     -999.0,9,     -999.0,9,     -999.0,9,     -999.0,9,     -999.0,9, -999.00,9,   2.5117,-999.0000,-999.000
325020060213,       P16N,      35,          1,         13,         13,2,20060227,       1120,    12.9998,  -152.0002,       5617,  1799.0,   2.3023,  34.6286,2,  34.6253,2,     89.8,2,    89.8,2,  142.10,2,   40.10,2,    0.00,2,    2.78,2,   0.001,2,   0.001,2,-999.000,5,  2354.5,2,  2415.1,2,   -999.0,9,  -999.00,   7.4772,2,    25.00,-999.000,9,-999.000,-999.0000,9,-999.000,9, -999.00,9,  -999.0,9,    -9.0,-999.000,9,-999.000,   37.77,2,   44.39,2, 1799.00,-999.0000,9,-999.0000,9,-999.0000,9,-999.0000,9,-999.0000,9,-999.0000,9,     -999.0,     -999.0,9,     -999.0,9,     -999.0,9,     -999.0,9,     -999.0,9,     -999.0,9, -999.00,9,   2.1782,-999.0000,-999.000
325020060213,       P16N,      35,          1,         12,         12,2,20060227,       1120,    12.9998,  -152.0002,       5617,  2000.4,   2.0768,  34.6441,2,  34.6428,2,     98.7,2,    99.1,2,  146.70,2,   39.60,2,    0.00,2,    2.73,2,-999.000,9,-999.000,9,-999.000,9,  2355.5,2,  2433.2,3,   -999.0,9,  -999.00,   7.4881,2,    25.00,-999.000,9,-999.000,-999.0000,9,-999.000,9, -999.00,9,  -999.0,9,    -9.0,-999.000,9,-999.000,   36.80,2,   42.99,2, 2000.40,-999.0000,9,-999.0000,9,-999.0000,9,-999.0000,9,-999.0000,9,-999.0000,9,     -999.0,     -999.0,9,     -999.0,9,     -999.0,9,     -999.0,9,     -999.0,9,     -999.0,9, -999.00,9,   1.9391,-999.0000,-999.000
325020060213,       P16N,      35,          1,         11,         11,2,20060227,       1120,    12.9998,  -152.0002,       5617,  2250.8,   1.9192,  34.6572,2,  34.6538,2,    106.4,2,   106.1,2,  149.60,2,   39.10,2,    0.00,2,    2.69,2,  -0.001,2,   0.000,2,-999.000,5,  2355.2,2,  2426.8,2,   -999.0,9,  -999.00,   7.5011,2,    25.00,-999.000,9,-999.000,-999.0000,9,-999.000,9, -999.00,9,  -999.0,9,    -9.0,-999.000,9,-999.000,   37.24,2,   42.83,2, 2250.80,-999.0000,9,-999.0000,9,-999.0000,9,-999.0000,9,-999.0000,9,-999.0000,9,     -999.0,     -999.0,9,     -999.0,9,     -999.0,9,     -999.0,9,     -999.0,9,     -999.0,9, -999.00,9,   1.7626,-999.0000,-999.000
325020060213,       P16N,      35,          1,         10,         10,2,20060227,       1120,    12.9998,  -152.0002,       5617,  2501.1,   1.8107,  34.6661,2,  34.6640,2,    112.0,2,   112.0,2,  152.40,2,   38.60,2,    0.00,2,    2.65,2,-999.000,9,-999.000,9,-999.000,9,  2355.2,2,  2431.1,2,   -999.0,9,  -999.00,   7.5178,2,    25.00,-999.000,9,-999.000,-999.0000,9,-999.000,9, -999.00,9,  -999.0,9,    -9.0,-999.000,9,-999.000,   37.08,2,   42.35,2, 2501.10,-999.0000,9,-999.0000,9,-999.0000,9,-999.0000,9,-999.0000,9,-999.0000,9,     -999.0,     -999.0,9,     -999.0,9,     -999.0,9,     -999.0,9,     -999.0,9,     -999.0,9, -999.00,9,   1.6338,-999.0000,-999.000
325020060213,       P16N,      35,          1,          9,          9,2,20060227,       1120,    12.9998,  -152.0002,       5617,  2751.6,   1.7360,  34.6729,2,  34.6713,2,    117.5,2,   118.4,2,  153.70,2,   38.30,2,    0.00,2,    2.63,2,  -0.001,2,   0.000,2,-999.000,5,  2354.3,2,  2433.7,2,   -999.0,9,  -999.00,   7.5198,2,    25.00,-999.000,9,-999.000,-999.0000,9,-999.000,9, -999.00,9,  -999.0,9,    -9.0,-999.000,9,-999.000,   37.81,2,   41.97,2, 2751.60,-999.0000,9,-999.0000,9,-999.0000,9,-999.0000,9,-999.0000,9,-999.0000,9,     -999.0,     -999.0,9,     -999.0,9,     -999.0,9,     -999.0,9,     -999.0,9,     -999.0,9, -999.00,9,   1.5376,-999.0000,-999.000