BOTTLE,20170720CCHSIOCBG
EXPOCODE,SECT_ID,STNNBR,CASTNO,SAMPNO,BTLNBR,BTLNBR_FLAG_W,DATE,TIME,LATITUDE,LONGITUDE,DEPTH,CTDPRS,CTDTMP,CTDSAL,CTDSAL_FLAG_W,SALNTY,SALNTY_FLAG_W,CTDOXY,CTDOXY_FLAG_W,OXYGEN,OXYGEN_FLAG_W,SILCAT,SILCAT_FLAG_W,NITRAT,NITRAT_FLAG_W,NITRIT,NITRIT_FLAG_W,PHSPHT,PHSPHT_FLAG_W,CFC-11,CFC-11_FLAG_W,CFC-12,CFC-12_FLAG_W,CFC113,CFC113_FLAG_W,TCARBN,TCARBN_FLAG_W,ALKALI,ALKALI_FLAG_W,FCO2,FCO2_FLAG_W,FCO2TMP,PH_TOT,PH_TOT_FLAG_W,PH_TMP,TRITUM,TRITUM_FLAG_W,TRITER,HELIUM,HELIUM_FLAG_W,DELHE3,DELHE3_FLAG_W,DELC13,DELC13_FLAG_W,DELC14,DELC14_FLAG_W,C14ERR,NEON,NEON_FLAG_W,NEONER,DOC,DOC_FLAG_W,TDN,TDN_FLAG_W,CTDRAW,CDOM325,CDOM325_FLAG_W,CDOM340,CDOM340_FLAG_W,CDOM380,CDOM380_FLAG_W,CDOM412,CDOM412_FLAG_W,CDOMSL,CDOMSL_FLAG_W,CDOMSN,CDOMSN_FLAG_W,DCNS,ARABI,ARABI_FLAG_W,FUCO,FUCO_FLAG_W,GALA,GALA_FLAG_W,GLUC,GLUC_FLAG_W,MAN,MAN_FLAG_W,RHAM,RHAM_FLAG_W,BRDU,BRDU_FLAG_W,THETA,HELIER,DELHER
,,,,,,,,,,,METERS,DBAR,ITS-90,PSS-78,,PSS-78,,UMOL/KG,,UMOL/KG,,UMOL/KG,,UMOL/KG,,UMOL/KG,,UMOL/KG,,PMOL/KG,,PMOL/KG,,PMOL/KG,,UMOL/KG,,UMOL/KG,,UATM,,DEG C,,,DEG C,TU,,TU,NMOL/KG,,PERCNT,,/MILLE,,/MILLE,,/MILLE,NMOL/KG,,NMOL/KG,UMOL/KG,,UMOL/KG,,DBAR,1/M,,1/M,,1/M,,1/M,,1/NM,,1/NM,,NMOL/KG,NMOL/KG,,NMOL/KG,,NMOL/KG,,NMOL/KG,,NMOL/KG,,NMOL/KG,,PMOL/L/H,,DEG C,NMOL/KG,PERCNT
325020060213,       P16N,       6,          1,         35,         35,2,20060216,       1321,   -12.0003,  -151.0008,       4852,     5.3,  29.2485,  36.0357,2,  36.0325,4,    193.4,2,   193.2,2,    0.00,2,    0.10,2,    0.00,2,    0.19,2,   1.493,2,   0.943,2,-999.000,5,  2002.1,6,  2364.2,2,   -999.0,9,  -999.00,-999.0000,9,  -999.00,-999.000,9,-999.000,-999.0000,9,-999.000,9, -999.00,5,    64.5,2,     3.7,-999.000,9,-999.000,   73.08,2,    4.87,2,    5.30,-999.0000,9,-999.0000,9,-999.0000,9,-999.0000,9,-999.0000,9,-999.0000,9,     -999.0,     -999.0,9,     -999.0,9,     -999.0,9,     -999.0,9,     -999.0,9,     -999.0,9, -999.00,9,  29.2472,-999.0000,-999.000
325020060213,       P16N,       6,          1,         34,         34,2,20060216,       1321,   -12.0003,  -151.0008,       4852,    14.7,  29.2514,  36.0375,2,  36.0331,4,    193.7,2,   193.1,2,    0.00,2,    0.10,2,    0.00,2,    0.19,2,-999.000,9,-999.000,9,-999.000,9,  2001.6,2,  2368.2,2,   -999.0,9,  -999.00,   8.1628,2,    25.00,-999.000,9,-999.000,-999.0000,9,-999.000,9, -999.00,5,    64.3,2,     2.9,-999.000,9,-999.000,   73.11,2,    4.08,2,   14.70,-999.0000,9,-999.0000,9,-999.0000,9,-999.0000,9,-999.0000,9,-999.0000,9,     -999.0,     -999.0,9,     -999.0,9,     -999.0,9,     -999.0,9,     -999.0,9,     -999.0,9, -999.00,9,  29.2478,-999.0000,-999.000
325020060213,       P16N,       6,          1,         33,         33,2,20060216,       1321,   -12.0003,  -151.0008,       4852,    35.4,  29.1402,  36.0517,2,  36.0463,4,    195.3,2,   194.1,2,    0.10,2,    0.10,2,    0.00,2,    0.19,2,   1.519,6,   0.950,6,-999.000,5,  2003.5,2,  2372.0,2,   -999.0,9,  -999.00,   8.1154,2,    25.00,-999.000,9,-999.000,-999.0000,9,-999.000,9, -999.00,9,  -999.0,9,    -9.0,-999.000,9,-999.000,   72.38,2,    4.16,2,   35.40,-999.0000,9,-999.0000,9,-999.0000,9,-999.0000,9,-999.0000,9,-999.0000,9,     -999.0,     -999.0,9,     -999.0,9,     -999.0,9,     -999.0,9,     -999.0,9,     -999.0,9, -999.00,9,  29.1316,-999.0000,-999.000
325020060213,       P16N,       6,          1,         32,         32,2,20060216,       1321,   -12.0003,  -151.0008,       4852,    60.8,  28.8701,  36.1131,2,  36.1236,4,    197.3,2,   197.0,2,    0.10,2,    0.20,2,    0.00,2,    0.19,2,-999.000,9,-999.000,9,-999.000,9,  2006.4,2,  2375.7,2,   -999.0,9,  -999.00,   8.1532,2,    25.00,-999.000,9,-999.000,-999.0000,9,-999.000,9, -999.00,5,    62.8,2,     3.3,-999.000,9,-999.000,   71.59,2,    4.96,2,   60.80,-999.0000,9,-999.0000,9,-999.0000,9,-999.0000,9,-999.0000,9,-999.0000,9,     -999.0,     -999.0,9,     -999.0,9,     -999.0,9,     -999.0,9,     -999.0,9,     -999.0,9, -999.00,9,  28.8554,-999.0000,-999.000
325020060213,       P16N,       6,          1,         31,         31,2,20060216,       1321,   -12.0003,  -151.0008,       4852,    84.7,  27.9768,  36.2956,2,  36.2904,4,    200.2,2,   199.5,2,    0.20,2,    0.10,2,    0.00,2,    0.19,2,   1.620,2,   1.000,2,-999.000,5,  2020.6,2,  2387.3,2,   -999.0,9,  -999.00,-999.0000,9,  -999.00,-999.000,9,-999.000,-999.0000,9,-999.000,9, -999.00,5,    66.2,2,     2.9,-999.000,9,-999.000,   70.17,2,    4.66,2,   84.70,-999.0000,9,-999.0000,9,-999.0000,9,-999.0000,9,-999.0000,9,-999.0000,9,     -999.0,     -999.0,9,     -999.0,9,     -999.0,9,     -999.0,9,     -999.0,9,     -999.0,9, -999.00,9,  27.9568,-999.0000,-999.000
325020060213,       P16N,       6,          1,         30,         30,2,20060216,       1321,   -12.0003,  -151.0008,       4852,   111.7,  26.9750,  36.3549,2,  36.3555,4,    193.3,2,   192.5,2,    0.20,2,    0.10,2,    0.00,2,    0.22,2,-999.000,9,-999.000,9,-999.000,9,  2040.5,2,  2390.4,2,   -999.0,9,  -999.00,-999.0000,9,  -999.00,-999.000,9,-999.000,-999.0000,9,-999.000,9, -999.00,5,    68.0,2,     2.9,-999.000,9,-999.000,   67.60,2,    4.77,2,  111.70,-999.0000,9,-999.0000,9,-999.0000,9,-999.0000,9,-999.0000,9,-999.0000,9,     -999.0,     -999.0,9,     -999.0,9,     -999.0,9,     -999.0,9,     -999.0,9,     -999.0,9, -999.00,9,  26.9493,-999.0000,-999.000
325020060213,       P16N,       6,          1,         29,         29,2,20060216,       1321,   -12.0003,  -151.0008,       4852,   134.7,  25.5828,  36.4101,2,  36.4070,4,    182.6,2,   180.9,2,    0.20,2,    0.70,2,    0.40,2,    0.32,2,   1.771,2,   1.088,2,-999.000,5,  2070.0,2,  2399.6,2,   -999.0,9,  -999.00,-999.0000,9,  -999.00,-999.000,9,-999.000,-999.0000,9,-999.000,9, -999.00,5,    75.6,2,     3.9,-999.000,9,-999.000,   63.47,2,    5.37,2,  134.70,-999.0000,9,-999.0000,9,-999.0000,9,-999.0000,9,-999.0000,9,-999.0000,9,     -999.0,     -999.0,9,     -999.0,9,     -999.0,9,     -999.0,9,     -999.0,9,     -999.0,9, -999.00,9,  25.5529,-999.0000,-999.000
325020060213,       P16N,       6,          1,         28,         28,2,20060216,       1321,   -12.0003,  -151.0008,       4852,   175.2,  23.5775,  36.2701,2,  36.2608,4,    172.2,2,   172.0,2,    0.30,2,    2.90,2,    0.00,2,    0.44,2,-999.000,9,-999.000,9,-999.000,9,  2094.2,2,  2387.9,6,   -999.0,9,  -999.00,   8.0072,2,    25.00,-999.000,9,-999.000,-999.0000,9,-999.000,9, -999.00,5,    89.4,2,     3.5,-999.000,9,-999.000,   58.43,2,    6.61,2,  175.20,-999.0000,9,-999.0000,9,-999.0000,9,-999.0000,9,-999.0000,9,-999.0000,9,     -999.0,     -999.0,9,     -999.0,9,     -999.0,9,     -999.0,9,     -999.0,9,     -999.0,9, -999.00,9,  23.5409,-999.0000,-999.000
325020060213,       P16N,       6,          1,         27,         27,2,20060216,       1321,   -12.0003,  -151.0008,       4852,   225.1,  21.0504,  35.8911,2,  35.8444,4,    169.6,2,   169.8,2,    0.50,2,    5.00,2,    0.00,2,    0.57,2,   2.206,2,   1.284,2,-999.000,5,  2106.2,2,  2364.9,2,   -999.0,9,  -999.00,   7.9527,2,    25.00,-999.000,9,-999.000,-999.0000,9,-999.000,9, -999.00,5,    89.2,2,     4.1,-999.000,9,-999.000,   53.72,2,    9.12,2,  225.10,-999.0000,9,-999.0000,9,-999.0000,9,-999.0000,9,-999.0000,9,-999.0000,9,     -999.0,     -999.0,9,     -999.0,9,     -999.0,9,     -999.0,9,     -999.0,9,     -999.0,9, -999.00,9,  21.0070,-999.0000,-999.000
325020060213,       P16N,       6,          1,         26,         26,2,20060216,       1321,   -12.0003,  -151.0008,       4852,   275.1,  16.6167,  35.2408,2,  35.2283,4,    154.6,2,   153.4,2,    2.80,2,    9.90,2,    0.00,2,    0.90,2,-999.000,9,-999.000,9,-999.000,9,  2120.6,2,  2321.5,2,   -999.0,9,  -999.00,   7.8577,2,    25.00,-999.000,9,-999.000,-999.0000,9,-999.000,9, -999.00,5,    87.2,2,     3.0,-999.000,9,-999.000,   49.49,2,   13.95,2,  275.10,-999.0000,9,-999.0000,9,-999.0000,9,-999.0000,9,-999.0000,9,-999.0000,9,     -999.0,     -999.0,9,     -999.0,9,     -999.0,9,     -999.0,9,     -999.0,9,     -999.0,9, -999.00,9,  16.5718,-999.0000,-999.000
325020060213,       P16N,       6,          1,         25,         25,2,20060216,       1321,   -12.0003,  -151.0008,       4852,   324.9,  12.9787,  34.8287,2,  34.8570,4,    121.6,2,   124.8,2,    7.70,2,   17.30,2,    0.00,2,    1.39,2,   1.862,2,   0.985,2,-999.000,5,  2154.7,2,  2299.1,2,   -999.0,9,  -999.00,   7.6956,2,    25.00,-999.000,9,-999.000,-999.0000,9,-999.000,9, -999.00,5,    48.4,2,     3.1,-999.000,9,-999.000,   46.94,2,   21.25,2,  324.90,-999.0000,9,-999.0000,9,-999.0000,9,-999.0000,9,-999.0000,9,-999.0000,9,     -999.0,     -999.0,9,     -999.0,9,     -999.0,9,     -999.0,9,     -999.0,9,     -999.0,9, -999.00,9,  12.9339,-999.0000,-999.000
325020060213,       P16N,       6,          1,         24,         24,2,20060216,       1321,   -12.0003,  -151.0008,       4852,   373.6,  10.4692,  34.6719,2,  34.6706,4,    107.1,2,   106.7,2,   15.70,2,   25.80,2,    0.00,2,    1.87,2,   1.068,2,   0.505,2,-999.000,5,  2192.4,2,  2294.1,2,   -999.0,9,  -999.00,   7.6251,2,    25.00,-999.000,9,-999.000,-999.0000,9,-999.000,9, -999.00,5,    -7.3,2,     3.4,-999.000,9,-999.000,   45.31,2,   29.85,2,  373.60,-999.0000,9,-999.0000,9,-999.0000,9,-999.0000,9,-999.0000,9,-999.0000,9,     -999.0,     -999.0,9,     -999.0,9,     -999.0,9,     -999.0,9,     -999.0,9,     -999.0,9, -999.00,9,  10.4244,-999.0000,-999.000
325020060213,       P16N,       6,          1,         23,         23,2,20060216,       1321,   -12.0003,  -151.0008,       4852,   425.4,   9.3727,  34.6366,2,  34.6346,4,    104.4,2,   103.9,2,   20.50,2,   29.10,2,    0.00,2,    2.02,2,   0.525,2,   0.285,2,-999.000,5,  2202.9,2,  2296.9,2,   -999.0,9,  -999.00,   7.5962,2,    25.00,-999.000,9,-999.000,-999.0000,9,-999.000,9, -999.00,5,   -36.3,2,     3.3,-999.000,9,-999.000,   45.71,2,   33.24,2,  425.40,-999.0000,9,-999.0000,9,-999.0000,9,-999.0000,9,-999.0000,9,-999.0000,9,     -999.0,     -999.0,9,     -999.0,9,     -999.0,9,     -999.0,9,     -999.0,9,     -999.0,9, -999.00,9,   9.3249,-999.0000,-999.000
325020060213,       P16N,       6,          1,         22,         22,2,20060216,       1321,   -12.0003,  -151.0008,       4852,   474.4,   8.1315,  34.5736,2,  34.5735,4,    118.6,2,   119.0,2,   25.90,2,   31.00,2,    0.00,2,    2.09,2,   0.308,2,   0.168,2,-999.000,5,  2206.8,2,  2301.2,2,   -999.0,9,  -999.00,   7.5915,2,    25.00,-999.000,9,-999.000,-999.0000,9,-999.000,9, -999.00,5,   -67.6,2,     2.9,-999.000,9,-999.000,   43.95,2,   35.41,2,  474.40,-999.0000,9,-999.0000,9,-999.0000,9,-999.0000,9,-999.0000,9,-999.0000,9,     -999.0,     -999.0,9,     -999.0,9,     -999.0,9,     -999.0,9,     -999.0,9,     -999.0,9, -999.00,9,   8.0825,-999.0000,-999.000
325020060213,       P16N,       6,          1,         21,         21,2,20060216,       1321,   -12.0003,  -151.0008,       4852,   549.8,   6.7882,  34.5132,2,  34.5113,4,    131.7,2,   130.8,2,   32.10,2,   33.10,2,    0.00,2,    2.19,2,   0.155,2,   0.089,2,-999.000,5,  2213.3,2,  2305.7,2,   -999.0,9,  -999.00,   7.5881,2,    25.00,-999.000,9,-999.000,-999.0000,9,-999.000,9, -999.00,5,  -102.9,2,     3.4,-999.000,9,-999.000,   41.41,2,   37.47,2,  549.80,-999.0000,9,-999.0000,9,-999.0000,9,-999.0000,9,-999.0000,9,-999.0000,9,     -999.0,     -999.0,9,     -999.0,9,     -999.0,9,     -999.0,9,     -999.0,9,     -999.0,9, -999.00,9,   6.7366,-999.0000,-999.000
325020060213,       P16N,       6,          1,         20,         20,2,20060216,       1321,   -12.0003,  -151.0008,       4852,   650.4,   5.9935,  34.5068,2,  34.5020,4,    127.6,2,   122.1,2,   42.40,2,   35.70,2,    0.00,2,    2.36,2,   0.061,2,   0.037,2,-999.000,5,  2232.2,6,  2315.7,2,   -999.0,9,  -999.00,   7.5542,2,    25.00,-999.000,9,-999.000,-999.0000,9,-999.000,9, -999.00,5,  -120.1,2,     3.0,-999.000,9,-999.000,   41.44,2,   39.89,2,  650.40,-999.0000,9,-999.0000,9,-999.0000,9,-999.0000,9,-999.0000,9,-999.0000,9,     -999.0,     -999.0,9,     -999.0,9,     -999.0,9,     -999.0,9,     -999.0,9,     -999.0,9, -999.00,9,   5.9360,-999.0000,-999.000
325020060213,       P16N,       6,          1,         19,         19,2,20060216,       1321,   -12.0003,  -151.0008,       4852,   751.9,   5.4725,  34.5110,2,  34.5100,4,    110.1,2,   111.7,2,   51.00,2,   37.60,2,    0.00,2,    2.51,2,   0.022,6,   0.014,6,-999.000,5,  2248.0,2,  2320.4,2,   -999.0,9,  -999.00,   7.5285,2,    25.00,-999.000,9,-999.000,-999.0000,9,-999.000,9, -999.00,5,  -142.6,2,     2.5,-999.000,9,-999.000,   40.55,2,   41.32,2,  751.90,-999.0000,9,-999.0000,9,-999.0000,9,-999.0000,9,-999.0000,9,-999.0000,9,     -999.0,     -999.0,9,     -999.0,9,     -999.0,9,     -999.0,9,     -999.0,9,     -999.0,9, -999.00,9,   5.4085,-999.0000,-999.000
325020060213,       P16N,       6,          1,         18,         18,2,20060216,       1321,   -12.0003,  -151.0008,       4852,   851.4,   5.0095,  34.5148,2,  34.5124,4,    110.5,2,   109.3,2,   59.50,2,   38.50,2,    0.00,2,    2.60,2,-999.000,9,-999.000,9,-999.000,9,  2260.3,2,  2328.7,2,   -999.0,9,  -999.00,   7.5212,2,    25.00,-999.000,9,-999.000,-999.0000,9,-999.000,9, -999.00,5,  -148.1,2,     2.8,-999.000,9,-999.000,   39.88,2,   42.49,2,  851.40,-999.0000,9,-999.0000,9,-999.0000,9,-999.0000,9,-999.0000,9,-999.0000,9,     -999.0,     -999.0,9,     -999.0,9,     -999.0,9,     -999.0,9,     -999.0,9,     -999.0,9, -999.00,9,   4.9394,-999.0000,-999.000
325020060213,       P16N,       6,          1,         17,         17,4,20060216,       1321,   -12.0003,  -151.0008,       4852,   951.0,   4.6274,  34.5225,2,  36.2555,4,    108.9,2,   204.0,4,    0.40,4,    0.20,4,    0.00,4,    0.19,4,-999.000,9,-999.000,9,-999.000,9,  2022.9,4,  2391.7,3,   -999.0,9,  -999.00,-999.0000,9,  -999.00,-999.000,9,-999.000,-999.0000,9,-999.000,9, -999.00,9,  -999.0,9,    -9.0,-999.000,9,-999.000,   38.58,2, -999.00,2,  951.00,-999.0000,9,-999.0000,9,-999.0000,9,-999.0000,9,-999.0000,9,-999.0000,9,     -999.0,     -999.0,9,     -999.0,9,     -999.0,9,     -999.0,9,     -999.0,9,     -999.0,9, -999.00,9,   4.5512,-999.0000,-999.000
325020060213,       P16N,       6,          1,         16,         16,2,20060216,       1321,   -12.0003,  -151.0008,       4852,  1100.7,   4.1158,  34.5369,2,  34.5355,4,    110.6,2,   109.8,2,   76.50,2,   39.40,2,    0.00,2,    2.66,2,   0.003,2,   0.002,2,-999.000,5,  2281.6,2,  2349.6,2,   -999.0,9,  -999.00,   7.5164,2,    25.00,-999.000,9,-999.000,-999.0000,9,-999.000,9, -999.00,5,  -178.6,2,     2.5,-999.000,9,-999.000,   38.50,2,   43.66,2, 1100.70,-999.0000,9,-999.0000,9,-999.0000,9,-999.0000,9,-999.0000,9,-999.0000,9,     -999.0,     -999.0,9,     -999.0,9,     -999.0,9,     -999.0,9,     -999.0,9,     -999.0,9, -999.00,9,   4.0306,-999.0000,-999.000
325020060213,       P16N,       6,          1,         15,         15,2,20060216,       1321,   -12.0003,  -151.0008,       4852,  1301.0,   3.4450,  34.5675,2,  34.5630,4,    116.1,2,   115.5,2,   91.90,2,   39.30,2,    0.00,2,    2.67,2,-999.000,9,-999.000,9,-999.000,9,  2295.6,2,  2366.9,2,   -999.0,9,  -999.00,   7.5240,2,    25.00,-999.000,9,-999.000,-999.0000,9,-999.000,9, -999.00,5,  -201.6,2,     2.7,-999.000,9,-999.000,   38.32,2,   42.79,2, 1301.00,-999.0000,9,-999.0000,9,-999.0000,9,-999.0000,9,-999.0000,9,-999.0000,9,     -999.0,     -999.0,9,     -999.0,9,     -999.0,9,     -999.0,9,     -999.0,9,     -999.0,9, -999.00,9,   3.3491,-999.0000,-999.000
325020060213,       P16N,       6,          1,         14,         14,2,20060216,       1321,   -12.0003,  -151.0008,       4852,  1500.1,   3.0005,  34.5885,2,  34.5856,4,    123.8,2,   124.8,2,  101.00,2,   38.60,2,    0.00,2,    2.64,2,-999.000,9,-999.000,9,-999.000,9,  2300.5,2,  2375.8,2,   -999.0,9,  -999.00,   7.5366,2,    25.00,-999.000,9,-999.000,-999.0000,9,-999.000,9, -999.00,5,  -213.4,2,     2.2,-999.000,9,-999.000,   37.91,2,   42.79,2, 1500.10,-999.0000,9,-999.0000,9,-999.0000,9,-999.0000,9,-999.0000,9,-999.0000,9,     -999.0,     -999.0,9,     -999.0,9,     -999.0,9,     -999.0,9,     -999.0,9,     -999.0,9, -999.00,9,   2.8926,-999.0000,-999.000
325020060213,       P16N,       6,          1,         13,         13,4,20060216,       1321,   -12.0003,  -151.0008,       4852,  1701.3,   2.6091,  34.6103,2,  34.6478,4,    132.6,2,   105.5,4,   17.40,4,   26.80,4,    0.00,4,    1.92,4,-999.000,9,-999.000,9,-999.000,9,  2198.9,4,  2295.4,4,   -999.0,9,  -999.00,-999.0000,9,  -999.00,-999.000,9,-999.000,-999.0000,9,-999.000,9, -999.00,5,   -14.5,3,     2.7,-999.000,9,-999.000,   37.85,2,   30.83,2, 1701.30,-999.0000,9,-999.0000,9,-999.0000,9,-999.0000,9,-999.0000,9,-999.0000,9,     -999.0,     -999.0,9,     -999.0,9,     -999.0,9,     -999.0,9,     -999.0,9,     -999.0,9, -999.00,9,   2.4891,-999.0000,-999.000
325020060213,       P16N,       6,          1,         12,         12,2,20060216,       1321,   -12.0003,  -151.0008,       4852,  1901.3,   2.3104,  34.6295,2,  34.6268,4,    139.6,2,   139.5,2,  114.50,2,   37.60,2,    0.00,2,    2.58,2,   0.002,2,   0.000,2,-999.000,5,  2306.3,2,  2391.6,2,   -999.0,9,  -999.00,   7.5597,2,    25.00,-999.000,9,-999.000,-999.0000,9,-999.000,9, -999.00,5,  -219.5,2,     2.6,-999.000,9,-999.000,   37.74,2,   41.28,2, 1901.30,-999.0000,9,-999.0000,9,-999.0000,9,-999.0000,9,-999.0000,9,-999.0000,9,     -999.0,     -999.0,9,     -999.0,9,     -999.0,9,     -999.0,9,     -999.0,9,     -999.0,9, -999.00,9,   2.1777,-999.0000,-999.000
325020060213,       P16N,       6,          1,         11,         11,2,20060216,       1321,   -12.0003,  -151.0008,       4852,  2124.0,   2.1043,  34.6451,2,  34.6441,4,    144.1,2,   144.3,2,  118.90,2,   37.20,2,    0.00,2,    2.55,2,-999.000,9,-999.000,9,-999.000,9,  2307.3,2,  2389.1,2,   -999.0,9,  -999.00,   7.5704,2,    25.00,-999.000,9,-999.000,-999.0000,9,-999.000,9, -999.00,5,  -217.0,2,     2.6,-999.000,9,-999.000,   36.93,2,   40.72,2, 2124.00,-999.0000,9,-999.0000,9,-999.0000,9,-999.0000,9,-999.0000,9,-999.0000,9,     -999.0,     -999.0,9,     -999.0,9,     -999.0,9,     -999.0,9,     -999.0,9,     -999.0,9, -999.00,9,   1.9556,-999.0000,-999.000
325020060213,       P16N,       6,          1,         10,         10,2,20060216,       1321,   -12.0003,  -151.0008,       4852,  2375.5,   1.9233,  34.6621,2,  34.6611,4,    145.7,2,   145.4,2,  125.60,2,   37.30,2,    0.00,2,    2.55,2,-999.000,9,-999.000,9,-999.000,9,  2313.2,2,  2399.9,2,   -999.0,9,  -999.00,   7.5756,2,    25.00,-999.000,9,-999.000,-999.0000,9,-999.000,9, -999.00,5,  -216.6,2,     2.7,-999.000,9,-999.000,   36.63,2,   41.33,2, 2375.50,-999.0000,9,-999.0000,9,-999.0000,9,-999.0000,9,-999.0000,9,-999.0000,9,     -999.0,     -999.0,9,     -999.0,9,     -999.0,9,     -999.0,9,     -999.0,9,     -999.0,9, -999.00,9,   1.7556,-999.0000,-999.000
325020060213,       P16N,       6,          1,          9,          9,2,20060216,       1321,   -12.0003,  -151.0008,       4852,  2625.9,   1.8196,  34.6725,2,  34.6670,4,    148.4,2,   147.9,2,  129.20,2,   37.10,2,    0.00,2,    2.54,2,   0.000,2,   0.000,2,-999.000,5,  2317.3,2,  2412.4,2,   -999.0,9,  -999.00,   7.5780,2,    25.00,-999.000,9,-999.000,-999.0000,9,-999.000,9, -999.00,5,  -220.0,2,     2.1,-999.000,9,-999.000,   36.77,2,   40.36,2, 2625.90,-999.0000,9,-999.0000,9,-999.0000,9,-999.0000,9,-999.0000,9,-999.0000,9,     -999.0,     -999.0,9,     -999.0,9,     -999.0,9,     -999.0,9,     -999.0,9,     -999.0,9, -999.00,9,   1.6312,-999.0000,-999.000