BOTTLE,20170720CCHSIOCBG
EXPOCODE,SECT_ID,STNNBR,CASTNO,SAMPNO,BTLNBR,BTLNBR_FLAG_W,DATE,TIME,LATITUDE,LONGITUDE,DEPTH,CTDPRS,CTDTMP,CTDSAL,CTDSAL_FLAG_W,SALNTY,SALNTY_FLAG_W,CTDOXY,CTDOXY_FLAG_W,OXYGEN,OXYGEN_FLAG_W,SILCAT,SILCAT_FLAG_W,NITRAT,NITRAT_FLAG_W,NITRIT,NITRIT_FLAG_W,PHSPHT,PHSPHT_FLAG_W,CFC-11,CFC-11_FLAG_W,CFC-12,CFC-12_FLAG_W,CFC113,CFC113_FLAG_W,TCARBN,TCARBN_FLAG_W,ALKALI,ALKALI_FLAG_W,FCO2,FCO2_FLAG_W,FCO2TMP,PH_TOT,PH_TOT_FLAG_W,PH_TMP,TRITUM,TRITUM_FLAG_W,TRITER,HELIUM,HELIUM_FLAG_W,DELHE3,DELHE3_FLAG_W,DELC13,DELC13_FLAG_W,DELC14,DELC14_FLAG_W,C14ERR,NEON,NEON_FLAG_W,NEONER,DOC,DOC_FLAG_W,TDN,TDN_FLAG_W,CTDRAW,CDOM325,CDOM325_FLAG_W,CDOM340,CDOM340_FLAG_W,CDOM380,CDOM380_FLAG_W,CDOM412,CDOM412_FLAG_W,CDOMSL,CDOMSL_FLAG_W,CDOMSN,CDOMSN_FLAG_W,DCNS,ARABI,ARABI_FLAG_W,FUCO,FUCO_FLAG_W,GALA,GALA_FLAG_W,GLUC,GLUC_FLAG_W,MAN,MAN_FLAG_W,RHAM,RHAM_FLAG_W,BRDU,BRDU_FLAG_W,THETA,HELIER,DELHER
,,,,,,,,,,,METERS,DBAR,ITS-90,PSS-78,,PSS-78,,UMOL/KG,,UMOL/KG,,UMOL/KG,,UMOL/KG,,UMOL/KG,,UMOL/KG,,PMOL/KG,,PMOL/KG,,PMOL/KG,,UMOL/KG,,UMOL/KG,,UATM,,DEG C,,,DEG C,TU,,TU,NMOL/KG,,PERCNT,,/MILLE,,/MILLE,,/MILLE,NMOL/KG,,NMOL/KG,UMOL/KG,,UMOL/KG,,DBAR,1/M,,1/M,,1/M,,1/M,,1/NM,,1/NM,,NMOL/KG,NMOL/KG,,NMOL/KG,,NMOL/KG,,NMOL/KG,,NMOL/KG,,NMOL/KG,,PMOL/L/H,,DEG C,NMOL/KG,PERCNT
325020060213,       P16N,      30,          2,         35,         35,2,20060225,       1212,     8.0002,  -151.5002,       5102,     5.2,  27.0576,  34.8071,2,  34.8074,2,    203.2,2,   203.3,2,    0.20,2,    0.50,2,    0.00,2,    0.19,2,   1.675,2,   1.036,2,-999.000,5,  1970.5,6,  2357.5,3,   -999.0,9,  -999.00,   8.0780,2,    25.00,-999.000,9,-999.000,-999.0000,9,-999.000,9, -999.00,9,  -999.0,9,    -9.0,-999.000,9,-999.000,   65.84,2,    5.32,2,    5.20,-999.0000,9,-999.0000,9,-999.0000,9,-999.0000,9,-999.0000,9,-999.0000,9,     -999.0,     -999.0,9,     -999.0,9,     -999.0,9,     -999.0,9,     -999.0,9,     -999.0,9, -999.00,9,  27.0565,-999.0000,-999.000
325020060213,       P16N,      30,          2,         34,         34,2,20060225,       1212,     8.0002,  -151.5002,       5102,    15.2,  27.0615,  34.8066,2,  34.8064,2,    203.4,2,   203.1,2,    0.20,2,    0.50,2,    0.00,2,    0.19,2,-999.000,9,-999.000,9,-999.000,9,  1971.1,2,  2283.7,2,   -999.0,9,  -999.00,   8.0820,2,    25.00,-999.000,9,-999.000,-999.0000,9,-999.000,9, -999.00,9,  -999.0,9,    -9.0,-999.000,9,-999.000,   64.63,2,    4.89,2,   15.20,-999.0000,9,-999.0000,9,-999.0000,9,-999.0000,9,-999.0000,9,-999.0000,9,     -999.0,     -999.0,9,     -999.0,9,     -999.0,9,     -999.0,9,     -999.0,9,     -999.0,9, -999.00,9,  27.0580,-999.0000,-999.000
325020060213,       P16N,      30,          2,         33,         33,2,20060225,       1212,     8.0002,  -151.5002,       5102,    34.9,  27.0664,  34.8069,2,  34.8125,2,    204.5,2,   203.1,2,    0.20,2,    0.60,2,    0.00,2,    0.20,2,   1.652,6,   1.027,6,-999.000,5,  1971.2,2,  2288.3,2,   -999.0,9,  -999.00,   8.0844,2,    25.00,-999.000,9,-999.000,-999.0000,9,-999.000,9, -999.00,9,  -999.0,9,    -9.0,-999.000,9,-999.000,   64.87,2,    5.15,2,   34.90,-999.0000,9,-999.0000,9,-999.0000,9,-999.0000,9,-999.0000,9,-999.0000,9,     -999.0,     -999.0,9,     -999.0,9,     -999.0,9,     -999.0,9,     -999.0,9,     -999.0,9, -999.00,9,  27.0584,-999.0000,-999.000
325020060213,       P16N,      30,          2,         32,         32,2,20060225,       1212,     8.0002,  -151.5002,       5102,    60.6,  26.4237,  34.7759,2,  34.7828,2,    202.2,2,   204.8,2,    0.70,2,    0.70,2,    0.10,2,    0.23,2,-999.000,9,-999.000,9,-999.000,9,  1999.7,2,  2292.3,2,   -999.0,9,  -999.00,   8.0445,2,    25.00,-999.000,9,-999.000,-999.0000,9,-999.000,9, -999.00,9,  -999.0,9,    -9.0,-999.000,9,-999.000,   62.99,2,    5.43,2,   60.60,-999.0000,9,-999.0000,9,-999.0000,9,-999.0000,9,-999.0000,9,-999.0000,9,     -999.0,     -999.0,9,     -999.0,9,     -999.0,9,     -999.0,9,     -999.0,9,     -999.0,9, -999.00,9,  26.4100,-999.0000,-999.000
325020060213,       P16N,      30,          2,         31,         31,2,20060225,       1212,     8.0002,  -151.5002,       5102,    86.5,  18.1538,  34.6237,2,  34.6022,2,    178.0,2,   176.4,2,    3.60,2,    4.50,2,    0.30,2,    0.52,2,   2.458,2,   1.393,2,-999.000,5,  2073.5,2,  2284.8,2,   -999.0,9,  -999.00,   7.8838,2,    25.00,-999.000,9,-999.000,-999.0000,9,-999.000,9, -999.00,9,  -999.0,9,    -9.0,-999.000,9,-999.000,   56.63,2,    9.03,2,   86.50,-999.0000,9,-999.0000,9,-999.0000,9,-999.0000,9,-999.0000,9,-999.0000,9,     -999.0,     -999.0,9,     -999.0,9,     -999.0,9,     -999.0,9,     -999.0,9,     -999.0,9, -999.00,9,  18.1389,-999.0000,-999.000
325020060213,       P16N,      30,          2,         30,         30,2,20060225,       1212,     8.0002,  -151.5002,       5102,   111.6,  13.3157,  34.5187,2,  34.5021,2,     72.2,2,    68.0,2,   18.50,2,   23.90,2,    0.10,2,    1.78,2,   1.710,2,   0.925,2,-999.000,5,  1618.3,4,  2275.7,2,   -999.0,9,  -999.00,   7.5857,2,    25.00,-999.000,9,-999.000,-999.0000,9,-999.000,9, -999.00,9,  -999.0,9,    -9.0,-999.000,9,-999.000,   52.54,2,   28.34,2,  111.60,-999.0000,9,-999.0000,9,-999.0000,9,-999.0000,9,-999.0000,9,-999.0000,9,     -999.0,     -999.0,9,     -999.0,9,     -999.0,9,     -999.0,9,     -999.0,9,     -999.0,9, -999.00,9,  13.3002,-999.0000,-999.000
325020060213,       P16N,      30,          2,         29,         29,2,20060225,       1212,     8.0002,  -151.5002,       5102,   135.8,  11.8970,  34.6333,2,  34.6413,2,     17.8,2,    18.2,2,   26.60,2,   31.90,2,    0.00,2,    2.33,2,   0.814,2,   0.436,2,-999.000,5,  2241.1,2,  2291.4,2,   -999.0,9,  -999.00,   7.4550,2,    25.00,-999.000,9,-999.000,-999.0000,9,-999.000,9, -999.00,9,  -999.0,9,    -9.0,-999.000,9,-999.000,   48.76,2,   35.67,2,  135.80,-999.0000,9,-999.0000,9,-999.0000,9,-999.0000,9,-999.0000,9,-999.0000,9,     -999.0,     -999.0,9,     -999.0,9,     -999.0,9,     -999.0,9,     -999.0,9,     -999.0,9, -999.00,9,  11.8795,-999.0000,-999.000
325020060213,       P16N,      30,          2,         28,         28,2,20060225,       1212,     8.0002,  -151.5002,       5102,   174.9,  10.9671,  34.7001,2,  34.6997,2,     11.7,2,    12.1,2,   29.60,2,   34.50,2,    0.00,2,    2.39,2,   0.401,2,   0.221,2,-999.000,5,  2252.1,2,  2297.7,2,   -999.0,9,  -999.00,-999.0000,9,  -999.00,-999.000,9,-999.000,-999.0000,9,-999.000,9, -999.00,9,  -999.0,9,    -9.0,-999.000,9,-999.000,   46.10,2,   38.71,2,  174.90,-999.0000,9,-999.0000,9,-999.0000,9,-999.0000,9,-999.0000,9,-999.0000,9,     -999.0,     -999.0,9,     -999.0,9,     -999.0,9,     -999.0,9,     -999.0,9,     -999.0,9, -999.00,9,  10.9457,-999.0000,-999.000
325020060213,       P16N,      30,          2,         27,         27,2,20060225,       1212,     8.0002,  -151.5002,       5102,   226.7,  10.3079,  34.6916,2,  34.6895,2,     20.0,2,    19.2,2,   31.30,2,   34.80,2,    0.00,2,    2.38,2,   0.305,2,   0.166,2,-999.000,5,  2256.6,2,  2301.2,2,   -999.0,9,  -999.00,   7.4550,2,    25.00,-999.000,9,-999.000,-999.0000,9,-999.000,9, -999.00,9,  -999.0,9,    -9.0,-999.000,9,-999.000,   45.44,2,   38.61,2,  226.70,-999.0000,9,-999.0000,9,-999.0000,9,-999.0000,9,-999.0000,9,-999.0000,9,     -999.0,     -999.0,9,     -999.0,9,     -999.0,9,     -999.0,9,     -999.0,9,     -999.0,9, -999.00,9,  10.2812,-999.0000,-999.000
325020060213,       P16N,      30,          2,         26,         26,2,20060225,       1212,     8.0002,  -151.5002,       5102,   275.9,   9.8736,  34.6778,2,  34.6769,2,     39.8,2,    39.4,2,   31.80,2,   34.00,2,    0.00,2,    2.30,2,   0.351,2,   0.196,2,-999.000,5,  2244.1,2,  2303.4,2,   -999.0,9,  -999.00,   7.4811,2,    25.00,-999.000,9,-999.000,-999.0000,9,-999.000,9, -999.00,9,  -999.0,9,    -9.0,-999.000,9,-999.000,   44.23,2,   38.20,2,  275.90,-999.0000,9,-999.0000,9,-999.0000,9,-999.0000,9,-999.0000,9,-999.0000,9,     -999.0,     -999.0,9,     -999.0,9,     -999.0,9,     -999.0,9,     -999.0,9,     -999.0,9, -999.00,9,   9.8418,-999.0000,-999.000
325020060213,       P16N,      30,          2,         25,         25,2,20060225,       1212,     8.0002,  -151.5002,       5102,   325.9,   9.5202,  34.6648,2,  34.6649,2,     32.6,2,    32.6,2,   33.80,2,   35.20,2,    0.00,2,    2.39,2,   0.247,6,   0.133,6,-999.000,5,  2254.5,2,  2304.5,2,   -999.0,9,  -999.00,   7.4581,2,    25.00,-999.000,9,-999.000,-999.0000,9,-999.000,9, -999.00,9,  -999.0,9,    -9.0,-999.000,9,-999.000,   43.63,2,   39.33,2,  325.90,-999.0000,9,-999.0000,9,-999.0000,9,-999.0000,9,-999.0000,9,-999.0000,9,     -999.0,     -999.0,9,     -999.0,9,     -999.0,9,     -999.0,9,     -999.0,9,     -999.0,9, -999.00,9,   9.4835,-999.0000,-999.000
325020060213,       P16N,      30,          2,         24,         24,2,20060225,       1212,     8.0002,  -151.5002,       5102,   374.5,   9.2149,  34.6538,2,  34.6531,2,     34.0,2,    34.0,2,   35.30,2,   35.60,2,    0.00,2,    2.43,2,   0.207,2,   0.111,2,-999.000,5,  2256.1,2,  2303.5,2,   -999.0,9,  -999.00,   7.4567,2,    25.00,-999.000,9,-999.000,-999.0000,9,-999.000,9, -999.00,9,  -999.0,9,    -9.0,-999.000,9,-999.000,   43.09,2,   40.01,2,  374.50,-999.0000,9,-999.0000,9,-999.0000,9,-999.0000,9,-999.0000,9,-999.0000,9,     -999.0,     -999.0,9,     -999.0,9,     -999.0,9,     -999.0,9,     -999.0,9,     -999.0,9, -999.00,9,   9.1733,-999.0000,-999.000
325020060213,       P16N,      30,          2,         23,         23,2,20060225,       1212,     8.0002,  -151.5002,       5102,   425.3,   8.8310,  34.6343,2,  34.6301,2,     25.7,2,    22.5,2,   39.70,2,   37.00,2,    0.00,2,    2.59,2,   0.102,2,   0.063,2,-999.000,5,  2270.9,2,  2307.6,2,   -999.0,9,  -999.00,   7.4214,2,    25.00,-999.000,9,-999.000,-999.0000,9,-999.000,9, -999.00,9,  -999.0,9,    -9.0,-999.000,9,-999.000,   42.37,2,   40.84,2,  425.30,-999.0000,9,-999.0000,9,-999.0000,9,-999.0000,9,-999.0000,9,-999.0000,9,     -999.0,     -999.0,9,     -999.0,9,     -999.0,9,     -999.0,9,     -999.0,9,     -999.0,9, -999.00,9,   8.7849,-999.0000,-999.000
325020060213,       P16N,      30,          2,         22,         22,2,20060225,       1212,     8.0002,  -151.5002,       5102,   475.4,   8.4234,  34.6136,2,  34.6099,2,     18.2,2,    20.6,2,   43.40,2,   37.80,2,    0.00,2,    2.67,2,   0.061,2,   0.037,2,-999.000,5,  2278.0,6,  2310.4,2,   -999.0,9,  -999.00,-999.0000,9,  -999.00,-999.000,9,-999.000,-999.0000,9,-999.000,9, -999.00,9,  -999.0,9,    -9.0,-999.000,9,-999.000,   41.72,2,   41.97,2,  475.40,-999.0000,9,-999.0000,9,-999.0000,9,-999.0000,9,-999.0000,9,-999.0000,9,     -999.0,     -999.0,9,     -999.0,9,     -999.0,9,     -999.0,9,     -999.0,9,     -999.0,9, -999.00,9,   8.3732,-999.0000,-999.000
325020060213,       P16N,      30,          2,         21,         21,4,20060225,       1212,     8.0002,  -151.5002,       5102,   550.4,   7.4365,  34.5646,2,-999.0000,9,     18.1,2,  -999.0,9, -999.00,9, -999.00,9, -999.00,9, -999.00,9,-999.000,9,-999.000,9,-999.000,9,  -999.0,9,  -999.0,9,   -999.0,9,  -999.00,-999.0000,9,  -999.00,-999.000,9,-999.000,-999.0000,9,-999.000,9, -999.00,9,  -999.0,9,    -9.0,-999.000,9,-999.000, -999.00,9, -999.00,9,  550.40,-999.0000,9,-999.0000,9,-999.0000,9,-999.0000,9,-999.0000,9,-999.0000,9,     -999.0,     -999.0,9,     -999.0,9,     -999.0,9,     -999.0,9,     -999.0,9,     -999.0,9, -999.00,9,   7.3822,-999.0000,-999.000
325020060213,       P16N,      30,          2,         20,         20,2,20060225,       1212,     8.0002,  -151.5002,       5102,   650.1,   6.4841,  34.5448,2,  34.5443,2,     24.3,2,    23.8,2,   63.30,2,   41.30,2,    0.00,2,    2.94,2,   0.008,2,   0.004,2,-999.000,5,  2303.5,2,  2329.6,2,   -999.0,9,  -999.00,   7.3798,2,    25.00,-999.000,9,-999.000,-999.0000,9,-999.000,9, -999.00,9,  -999.0,9,    -9.0,-999.000,9,-999.000,   40.82,2,   45.51,2,  650.10,-999.0000,9,-999.0000,9,-999.0000,9,-999.0000,9,-999.0000,9,-999.0000,9,     -999.0,     -999.0,9,     -999.0,9,     -999.0,9,     -999.0,9,     -999.0,9,     -999.0,9, -999.00,9,   6.4242,-999.0000,-999.000
325020060213,       P16N,      30,          2,         19,         19,2,20060225,       1212,     8.0002,  -151.5002,       5102,   751.2,   5.6982,  34.5457,2,  34.5447,2,     34.4,2,    34.8,2,   72.40,2,   42.30,2,    0.00,2,    2.97,2,   0.073,3,   0.005,2,-999.000,5,  2311.9,2,  2338.6,2,   -999.0,9,  -999.00,   7.4013,2,    25.00,-999.000,9,-999.000,-999.0000,9,-999.000,9, -999.00,9,  -999.0,9,    -9.0,-999.000,9,-999.000,   40.31,2,   46.07,2,  751.20,-999.0000,9,-999.0000,9,-999.0000,9,-999.0000,9,-999.0000,9,-999.0000,9,     -999.0,     -999.0,9,     -999.0,9,     -999.0,9,     -999.0,9,     -999.0,9,     -999.0,9, -999.00,9,   5.6329,-999.0000,-999.000
325020060213,       P16N,      30,          2,         18,         18,2,20060225,       1212,     8.0002,  -151.5002,       5102,   849.3,   5.1717,  34.5499,2,  34.5492,2,     41.4,2,    41.6,2,   80.20,2,   42.50,2,    0.00,2,    2.98,2,   0.003,2,   0.001,2,-999.000,5,  2317.8,2,  2348.8,2,   -999.0,9,  -999.00,   7.4072,2,    25.00,-999.000,9,-999.000,-999.0000,9,-999.000,9, -999.00,9,  -999.0,9,    -9.0,-999.000,9,-999.000,   39.97,2,   46.18,2,  849.30,-999.0000,9,-999.0000,9,-999.0000,9,-999.0000,9,-999.0000,9,-999.0000,9,     -999.0,     -999.0,9,     -999.0,9,     -999.0,9,     -999.0,9,     -999.0,9,     -999.0,9, -999.00,9,   5.1007,-999.0000,-999.000
325020060213,       P16N,      30,          2,         17,         17,2,20060225,       1212,     8.0002,  -151.5002,       5102,   951.7,   4.6998,  34.5624,2,  34.5614,2,     40.6,2,    37.7,2,   89.70,2,   43.70,2,    0.00,2,    3.08,2,   0.013,3,   0.003,2,-999.000,5,  2331.0,2,  -999.0,9,   -999.0,9,  -999.00,   7.3925,2,    25.00,-999.000,9,-999.000,-999.0000,9,-999.000,9, -999.00,9,  -999.0,9,    -9.0,-999.000,9,-999.000,   38.84,2,   47.82,2,  951.70,-999.0000,9,-999.0000,9,-999.0000,9,-999.0000,9,-999.0000,9,-999.0000,9,     -999.0,     -999.0,9,     -999.0,9,     -999.0,9,     -999.0,9,     -999.0,9,     -999.0,9, -999.00,9,   4.6229,-999.0000,-999.000
325020060213,       P16N,      30,          2,         16,         16,2,20060225,       1212,     8.0002,  -151.5002,       5102,  1101.6,   4.1413,  34.5727,2,  34.5732,2,     53.2,2,    53.5,2,  100.50,2,   42.60,2,    0.00,2,    3.02,2,   0.008,2,   0.002,2,-999.000,5,  2335.3,2,  2371.8,2,   -999.0,9,  -999.00,   7.4178,2,    25.00,-999.000,9,-999.000,-999.0000,9,-999.000,9, -999.00,9,  -999.0,9,    -9.0,-999.000,9,-999.000,   38.54,2,   45.89,2, 1101.60,-999.0000,9,-999.0000,9,-999.0000,9,-999.0000,9,-999.0000,9,-999.0000,9,     -999.0,     -999.0,9,     -999.0,9,     -999.0,9,     -999.0,9,     -999.0,9,     -999.0,9, -999.00,9,   4.0558,-999.0000,-999.000
325020060213,       P16N,      30,          2,         15,         15,2,20060225,       1212,     8.0002,  -151.5002,       5102,  1300.9,   3.4954,  34.5943,2,  34.5930,2,     60.1,2,    60.1,2,  115.40,2,   42.40,2,    0.00,2,    3.02,2,-999.000,9,-999.000,9,-999.000,9,  2347.7,2,  -999.0,9,   -999.0,9,  -999.00,   7.4291,2,    25.00,-999.000,9,-999.000,-999.0000,9,-999.000,9, -999.00,9,  -999.0,9,    -9.0,-999.000,9,-999.000,   38.46,2,   46.44,2, 1300.90,-999.0000,9,-999.0000,9,-999.0000,9,-999.0000,9,-999.0000,9,-999.0000,9,     -999.0,     -999.0,9,     -999.0,9,     -999.0,9,     -999.0,9,     -999.0,9,     -999.0,9, -999.00,9,   3.3989,-999.0000,-999.000
325020060213,       P16N,      30,          2,         14,         14,2,20060225,       1212,     8.0002,  -151.5002,       5102,  1499.9,   3.0657,  34.6091,2,  34.6117,2,     70.8,2,    71.4,2,  125.00,2,   41.70,2,    0.00,2,    2.95,2,-999.000,9,-999.000,9,-999.000,9,  2351.3,2,  2398.1,2,   -999.0,9,  -999.00,   7.4496,2,    25.00,-999.000,9,-999.000,-999.0000,9,-999.000,9, -999.00,9,  -999.0,9,    -9.0,-999.000,9,-999.000,   38.76,2,   45.04,2, 1499.90,-999.0000,9,-999.0000,9,-999.0000,9,-999.0000,9,-999.0000,9,-999.0000,9,     -999.0,     -999.0,9,     -999.0,9,     -999.0,9,     -999.0,9,     -999.0,9,     -999.0,9, -999.00,9,   2.9570,-999.0000,-999.000
325020060213,       P16N,      30,          2,         13,         13,2,20060225,       1212,     8.0002,  -151.5002,       5102,  1700.7,   2.6449,  34.6251,2,  34.6258,2,     84.6,2,    86.6,2,  133.40,2,   40.70,2,    0.00,2,    2.89,2,  -0.002,2,   0.000,2,-999.000,5,  2352.6,2,  2407.9,2,   -999.0,9,  -999.00,   7.4718,2,    25.00,-999.000,9,-999.000,-999.0000,9,-999.000,9, -999.00,9,  -999.0,9,    -9.0,-999.000,9,-999.000,   38.46,2,   44.55,2, 1700.70,-999.0000,9,-999.0000,9,-999.0000,9,-999.0000,9,-999.0000,9,-999.0000,9,     -999.0,     -999.0,9,     -999.0,9,     -999.0,9,     -999.0,9,     -999.0,9,     -999.0,9, -999.00,9,   2.5245,-999.0000,-999.000
325020060213,       P16N,      30,          2,         12,         12,2,20060225,       1212,     8.0002,  -151.5002,       5102,  1901.7,   2.3353,  34.6396,2,  34.6392,2,     96.4,2,    97.1,2,  139.30,2,   40.00,2,    0.00,2,    2.81,2,-999.000,9,-999.000,9,-999.000,9,  2351.6,2,  2415.7,2,   -999.0,9,  -999.00,   7.4959,2,    25.00,-999.000,9,-999.000,-999.0000,9,-999.000,9, -999.00,9,  -999.0,9,    -9.0,-999.000,9,-999.000,   38.05,2,   44.22,2, 1901.70,-999.0000,9,-999.0000,9,-999.0000,9,-999.0000,9,-999.0000,9,-999.0000,9,     -999.0,     -999.0,9,     -999.0,9,     -999.0,9,     -999.0,9,     -999.0,9,     -999.0,9, -999.00,9,   2.2021,-999.0000,-999.000
325020060213,       P16N,      30,          2,         11,         11,2,20060225,       1212,     8.0002,  -151.5002,       5102,  2124.4,   2.1064,  34.6513,2,  34.6508,2,    100.2,2,    99.5,2,  146.30,2,   39.80,2,    0.00,2,    2.80,2,-999.000,9,-999.000,9,-999.000,9,  2355.4,2,  2423.2,2,   -999.0,9,  -999.00,   7.5005,2,    25.00,-999.000,9,-999.000,-999.0000,9,-999.000,9, -999.00,9,  -999.0,9,    -9.0,-999.000,9,-999.000,   38.96,2,   43.48,2, 2124.40,-999.0000,9,-999.0000,9,-999.0000,9,-999.0000,9,-999.0000,9,-999.0000,9,     -999.0,     -999.0,9,     -999.0,9,     -999.0,9,     -999.0,9,     -999.0,9,     -999.0,9, -999.00,9,   1.9576,-999.0000,-999.000
325020060213,       P16N,      30,          2,         10,         10,2,20060225,       1212,     8.0002,  -151.5002,       5102,  2373.9,   1.9076,  34.6651,2,  34.6645,2,    108.7,2,   107.8,2,  151.40,2,   39.10,2,    0.00,2,    2.74,2,   0.000,2,  -0.001,2,-999.000,5,  2356.1,2,  2430.2,2,   -999.0,9,  -999.00,   7.5188,2,    25.00,-999.000,9,-999.000,-999.0000,9,-999.000,9, -999.00,9,  -999.0,9,    -9.0,-999.000,9,-999.000,   38.43,2,   42.72,2, 2373.90,-999.0000,9,-999.0000,9,-999.0000,9,-999.0000,9,-999.0000,9,-999.0000,9,     -999.0,     -999.0,9,     -999.0,9,     -999.0,9,     -999.0,9,     -999.0,9,     -999.0,9, -999.00,9,   1.7403,-999.0000,-999.000
325020060213,       P16N,      30,          2,          9,          9,2,20060225,       1212,     8.0002,  -151.5002,       5102,  2627.4,   1.8351,  34.6713,2,  34.6702,2,    112.5,2,   112.0,2,  153.10,2,   38.80,2,    0.00,2,    2.72,2,-999.000,9,-999.000,9,-999.000,9,  2356.9,2,  2431.6,2,   -999.0,9,  -999.00,   7.5204,2,    25.00,-999.000,9,-999.000,-999.0000,9,-999.000,9, -999.00,9,  -999.0,9,    -9.0,-999.000,9,-999.000,   37.48,2,   42.74,2, 2627.40,-999.0000,9,-999.0000,9,-999.0000,9,-999.0000,9,-999.0000,9,-999.0000,9,     -999.0,     -999.0,9,     -999.0,9,     -999.0,9,     -999.0,9,     -999.0,9,     -999.0,9, -999.00,9,   1.6462,-999.0000,-999.000