BOTTLE,20170720CCHSIOCBG
EXPOCODE,SECT_ID,STNNBR,CASTNO,SAMPNO,BTLNBR,BTLNBR_FLAG_W,DATE,TIME,LATITUDE,LONGITUDE,DEPTH,CTDPRS,CTDTMP,CTDSAL,CTDSAL_FLAG_W,SALNTY,SALNTY_FLAG_W,CTDOXY,CTDOXY_FLAG_W,OXYGEN,OXYGEN_FLAG_W,SILCAT,SILCAT_FLAG_W,NITRAT,NITRAT_FLAG_W,NITRIT,NITRIT_FLAG_W,PHSPHT,PHSPHT_FLAG_W,CFC-11,CFC-11_FLAG_W,CFC-12,CFC-12_FLAG_W,CFC113,CFC113_FLAG_W,TCARBN,TCARBN_FLAG_W,ALKALI,ALKALI_FLAG_W,FCO2,FCO2_FLAG_W,FCO2TMP,PH_TOT,PH_TOT_FLAG_W,PH_TMP,TRITUM,TRITUM_FLAG_W,TRITER,HELIUM,HELIUM_FLAG_W,DELHE3,DELHE3_FLAG_W,DELC13,DELC13_FLAG_W,DELC14,DELC14_FLAG_W,C14ERR,NEON,NEON_FLAG_W,NEONER,DOC,DOC_FLAG_W,TDN,TDN_FLAG_W,CTDRAW,CDOM325,CDOM325_FLAG_W,CDOM340,CDOM340_FLAG_W,CDOM380,CDOM380_FLAG_W,CDOM412,CDOM412_FLAG_W,CDOMSL,CDOMSL_FLAG_W,CDOMSN,CDOMSN_FLAG_W,DCNS,ARABI,ARABI_FLAG_W,FUCO,FUCO_FLAG_W,GALA,GALA_FLAG_W,GLUC,GLUC_FLAG_W,MAN,MAN_FLAG_W,RHAM,RHAM_FLAG_W,BRDU,BRDU_FLAG_W,THETA,HELIER,DELHER
,,,,,,,,,,,METERS,DBAR,ITS-90,PSS-78,,PSS-78,,UMOL/KG,,UMOL/KG,,UMOL/KG,,UMOL/KG,,UMOL/KG,,UMOL/KG,,PMOL/KG,,PMOL/KG,,PMOL/KG,,UMOL/KG,,UMOL/KG,,UATM,,DEG C,,,DEG C,TU,,TU,NMOL/KG,,PERCNT,,/MILLE,,/MILLE,,/MILLE,NMOL/KG,,NMOL/KG,UMOL/KG,,UMOL/KG,,DBAR,1/M,,1/M,,1/M,,1/M,,1/NM,,1/NM,,NMOL/KG,NMOL/KG,,NMOL/KG,,NMOL/KG,,NMOL/KG,,NMOL/KG,,NMOL/KG,,PMOL/L/H,,DEG C,NMOL/KG,PERCNT
325020060213,       P16N,      25,          2,         35,         35,2,20060223,       1154,          3,       -151,       5059,     5.2,  26.8922,  34.9070,2,  34.9055,4,    203.0,2,   202.9,2,    0.90,2,    2.40,2,    0.20,2, -999.00,5,   1.684,2,   1.054,2,-999.000,5,  1991.6,6,  2292.4,2,    311.8,2,    20.00,   8.0559,2,    25.00,-999.000,9,-999.000,-999.0000,9,-999.000,9, -999.00,5,    68.2,2,     3.3,-999.000,9,-999.000,   62.34,2,    6.92,2,    5.20,-999.0000,9,-999.0000,9,-999.0000,9,-999.0000,9,-999.0000,9,-999.0000,9,     -999.0,     -999.0,9,     -999.0,9,     -999.0,9,     -999.0,9,     -999.0,9,     -999.0,9, -999.00,9,  26.8910,-999.0000,-999.000
325020060213,       P16N,      25,          2,         34,         34,2,20060223,       1154,          3,       -151,       5059,    24.9,  26.8749,  34.9056,2,  34.9024,4,    203.6,2,   202.7,2,    1.00,2,    2.60,2,    0.20,2, -999.00,5,   1.671,2,   1.056,2,-999.000,5,  1993.2,2,  2292.7,2,    314.0,2,    20.00,   8.0557,2,    25.00,-999.000,9,-999.000,-999.0000,9,-999.000,9, -999.00,9,  -999.0,9,    -9.0,-999.000,9,-999.000,   62.91,2,    7.21,2,   24.90,-999.0000,9,-999.0000,9,-999.0000,9,-999.0000,9,-999.0000,9,-999.0000,9,     -999.0,     -999.0,9,     -999.0,9,     -999.0,9,     -999.0,9,     -999.0,9,     -999.0,9, -999.00,9,  26.8692,-999.0000,-999.000
325020060213,       P16N,      25,          2,         33,         33,2,20060223,       1154,          3,       -151,       5059,    50.4,  26.0865,  34.9026,2,  34.9149,4,    199.0,2,   197.7,2,    1.80,2,    4.10,2,    0.50,2, -999.00,5,   1.740,2,   1.083,2,-999.000,5,  2012.6,2,  2293.5,2,    347.9,2,    20.00,   8.0182,2,    25.00,-999.000,9,-999.000,-999.0000,9,-999.000,9, -999.00,5,    72.1,2,     3.7,-999.000,9,-999.000,   61.02,2,    9.17,2,   50.40,-999.0000,9,-999.0000,9,-999.0000,9,-999.0000,9,-999.0000,9,-999.0000,9,     -999.0,     -999.0,9,     -999.0,9,     -999.0,9,     -999.0,9,     -999.0,9,     -999.0,9, -999.00,9,  26.0753,-999.0000,-999.000
325020060213,       P16N,      25,          2,         32,         32,2,20060223,       1154,          3,       -151,       5059,    75.4,  24.3634,  35.0336,2,  35.0214,4,    181.1,2,   176.8,2,    3.30,2,    7.30,2,    1.10,2, -999.00,5,   1.816,2,   1.098,2,-999.000,5,  2052.4,2,  2303.4,2,    417.1,2,    20.00,   7.9521,2,    25.00,-999.000,9,-999.000,-999.0000,9,-999.000,9, -999.00,5,    62.4,2,     3.7,-999.000,9,-999.000,   57.23,2,   12.23,2,   75.40,-999.0000,9,-999.0000,9,-999.0000,9,-999.0000,9,-999.0000,9,-999.0000,9,     -999.0,     -999.0,9,     -999.0,9,     -999.0,9,     -999.0,9,     -999.0,9,     -999.0,9, -999.00,9,  24.3474,-999.0000,-999.000
325020060213,       P16N,      25,          2,         31,         31,2,20060223,       1154,          3,       -151,       5059,   102.0,  20.6462,  34.8491,2,  34.8490,4,    132.0,2,   130.9,2,    7.30,2,   13.60,2,    0.00,2, -999.00,5,   1.841,2,   1.070,2,-999.000,5,  2097.0,2,  2292.8,2,    558.8,6,    20.00,   7.8417,2,    25.00,-999.000,9,-999.000,-999.0000,9,-999.000,9, -999.00,5,    47.8,2,     3.4,-999.000,9,-999.000,   53.41,2,   17.37,2,  102.00,-999.0000,9,-999.0000,9,-999.0000,9,-999.0000,9,-999.0000,9,-999.0000,9,     -999.0,     -999.0,9,     -999.0,9,     -999.0,9,     -999.0,9,     -999.0,9,     -999.0,9, -999.00,9,  20.6270,-999.0000,-999.000
325020060213,       P16N,      25,          2,         30,         30,2,20060223,       1154,          3,       -151,       5059,   126.0,  15.6884,  34.7032,2,  34.7041,4,    102.9,2,   101.6,2,   15.40,2,   19.30,2,    0.00,2, -999.00,5,   1.729,2,   0.958,2,-999.000,5,  2145.1,2,  2291.1,2,    758.7,2,    20.00,   7.7304,2,    25.00,-999.000,9,-999.000,-999.0000,9,-999.000,9, -999.00,5,    38.1,2,     3.7,-999.000,9,-999.000,   48.36,2,   23.63,2,  126.00,-999.0000,9,-999.0000,9,-999.0000,9,-999.0000,9,-999.0000,9,-999.0000,9,     -999.0,     -999.0,9,     -999.0,9,     -999.0,9,     -999.0,9,     -999.0,9,     -999.0,9, -999.00,9,  15.6689,-999.0000,-999.000
325020060213,       P16N,      25,          2,         29,         29,2,20060223,       1154,          3,       -151,       5059,   150.5,  12.7261,  34.7733,2,  34.7697,4,     92.0,2,    89.8,2,   20.30,2,   24.60,2,    0.00,2, -999.00,5,   1.332,2,   0.683,2,-999.000,5,  2182.3,2,  2299.1,2,    923.8,2,    20.00,   7.6552,2,    25.00,-999.000,9,-999.000,-999.0000,9,-999.000,9, -999.00,5,    12.5,2,     3.1,-999.000,9,-999.000,   47.89,2,   28.64,2,  150.50,-999.0000,9,-999.0000,9,-999.0000,9,-999.0000,9,-999.0000,9,-999.0000,9,     -999.0,     -999.0,9,     -999.0,9,     -999.0,9,     -999.0,9,     -999.0,9,     -999.0,9, -999.00,9,  12.7058,-999.0000,-999.000
325020060213,       P16N,      25,          2,         28,         28,2,20060223,       1154,          3,       -151,       5059,   203.6,  11.9359,  34.8402,2,  34.8391,4,     65.8,2,    58.2,2,   22.60,2,   29.00,2,    0.00,2, -999.00,5,   0.879,6,   0.471,6,-999.000,5,  2214.4,2,  2303.9,6,   1131.2,2,    20.00,   7.5761,2,    25.00,-999.000,9,-999.000,-999.0000,9,-999.000,9, -999.00,5,   -12.2,2,     2.8,-999.000,9,-999.000,   47.05,2,   32.70,2,  203.60,-999.0000,9,-999.0000,9,-999.0000,9,-999.0000,9,-999.0000,9,-999.0000,9,     -999.0,     -999.0,9,     -999.0,9,     -999.0,9,     -999.0,9,     -999.0,9,     -999.0,9, -999.00,9,  11.9095,-999.0000,-999.000
325020060213,       P16N,      25,          2,         27,         27,2,20060223,       1154,          3,       -151,       5059,   250.6,  11.5233,  34.8115,2,  34.8078,4,     66.5,2,    68.9,2,   23.20,2,   28.70,2,    0.00,2, -999.00,5,   0.855,2,   0.469,2,-999.000,5,  2210.7,2,  2304.9,2,   1107.7,6,    20.00,   7.5853,2,    25.00,-999.000,9,-999.000,-999.0000,9,-999.000,9, -999.00,5,   -15.9,2,     2.9,-999.000,9,-999.000,   45.17,2,   33.20,2,  250.60,-999.0000,9,-999.0000,9,-999.0000,9,-999.0000,9,-999.0000,9,-999.0000,9,     -999.0,     -999.0,9,     -999.0,9,     -999.0,9,     -999.0,9,     -999.0,9,     -999.0,9, -999.00,9,  11.4915,-999.0000,-999.000
325020060213,       P16N,      25,          2,         26,         26,2,20060223,       1154,          3,       -151,       5059,   300.6,  10.6828,  34.7318,2,  34.7288,4,    100.4,2,   103.1,2,   24.30,2,   26.60,2,    0.00,2, -999.00,5,   0.949,2,   0.508,2,-999.000,5,  2195.1,3,  2306.2,2,    977.5,2,    20.00,   7.6360,2,    25.00,-999.000,9,-999.000,-999.0000,9,-999.000,9, -999.00,5,   -17.1,2,     4.4,-999.000,9,-999.000,   44.34,2,   31.13,2,  300.60,-999.0000,9,-999.0000,9,-999.0000,9,-999.0000,9,-999.0000,9,-999.0000,9,     -999.0,     -999.0,9,     -999.0,9,     -999.0,9,     -999.0,9,     -999.0,9,     -999.0,9, -999.00,9,  10.6463,-999.0000,-999.000
325020060213,       P16N,      25,          2,         25,         25,2,20060223,       1154,          3,       -151,       5059,   349.9,   9.8075,  34.6790,2,  34.6763,4,     77.8,2,    78.2,2,   29.20,2,   30.60,2,    0.00,2, -999.00,5,   0.610,2,   0.329,2,-999.000,5,  2219.9,2,  2305.2,2,   1175.3,2,    20.00,   7.5620,2,    25.00,-999.000,9,-999.000,-999.0000,9,-999.000,9, -999.00,5,   -39.4,2,     4.5,-999.000,9,-999.000,   43.68,2,   34.17,2,  349.90,-999.0000,9,-999.0000,9,-999.0000,9,-999.0000,9,-999.0000,9,-999.0000,9,     -999.0,     -999.0,9,     -999.0,9,     -999.0,9,     -999.0,9,     -999.0,9,     -999.0,9, -999.00,9,   9.7673,-999.0000,-999.000
325020060213,       P16N,      25,          2,         24,         24,2,20060223,       1154,          3,       -151,       5059,   400.4,   9.1861,  34.6583,2,  34.6543,4,     56.3,2,    56.2,2,   33.40,2,   34.10,2,    0.00,2, -999.00,5,   0.332,2,   0.181,2,-999.000,5,  2242.2,2,  2306.9,2,   1378.2,2,    20.00,   7.5003,2,    25.00,-999.000,9,-999.000,-999.0000,9,-999.000,9, -999.00,5,   -74.1,2,     5.1,-999.000,9,-999.000,   43.41,2,   38.19,2,  400.40,-999.0000,9,-999.0000,9,-999.0000,9,-999.0000,9,-999.0000,9,-999.0000,9,     -999.0,     -999.0,9,     -999.0,9,     -999.0,9,     -999.0,9,     -999.0,9,     -999.0,9, -999.00,9,   9.1417,-999.0000,-999.000
325020060213,       P16N,      25,          2,         23,         23,2,20060223,       1154,          3,       -151,       5059,   450.4,   8.5618,  34.6344,2,  34.6299,4,     41.1,2,    43.1,2,   38.10,2,   36.40,2,    0.00,2, -999.00,5,   0.177,2,   0.097,2,-999.000,5,  2256.2,2,  2310.0,2,   1528.7,2,    20.00,   7.4633,2,    25.00,-999.000,9,-999.000,-999.0000,9,-999.000,9, -999.00,5,   -83.7,2,     4.7,-999.000,9,-999.000,   42.63,2,   40.33,2,  450.40,-999.0000,9,-999.0000,9,-999.0000,9,-999.0000,9,-999.0000,9,-999.0000,9,     -999.0,     -999.0,9,     -999.0,9,     -999.0,9,     -999.0,9,     -999.0,9,     -999.0,9, -999.00,9,   8.5138,-999.0000,-999.000
325020060213,       P16N,      25,          2,         22,         22,2,20060223,       1154,          3,       -151,       5059,   499.6,   7.7614,  34.6044,2,  34.6039,4,     28.4,2,    26.1,2,   46.00,2,   39.30,2,    0.00,2, -999.00,5,   0.048,6,   0.027,6,-999.000,5,  2278.9,6,  2316.3,2,   1740.8,2,    20.00,   7.4115,2,    25.00,-999.000,9,-999.000,-999.0000,9,-999.000,9, -999.00,5,  -108.7,2,     4.3,-999.000,9,-999.000,   42.51,2,   43.29,2,  499.60,-999.0000,9,-999.0000,9,-999.0000,9,-999.0000,9,-999.0000,9,-999.0000,9,     -999.0,     -999.0,9,     -999.0,9,     -999.0,9,     -999.0,9,     -999.0,9,     -999.0,9, -999.00,9,   7.7110,-999.0000,-999.000
325020060213,       P16N,      25,          2,         21,         21,2,20060223,       1154,          3,       -151,       5059,   601.1,   6.6702,  34.5677,2,  34.5654,4,     45.8,2,    45.2,2,   54.20,2,   40.00,2,    0.00,2, -999.00,5,   0.028,2,   0.018,2,-999.000,5,  2280.5,2,  2324.7,2,   1657.3,2,    20.00,   7.4325,2,    25.00,-999.000,9,-999.000,-999.0000,9,-999.000,9, -999.00,5,  -133.5,2,     4.1,-999.000,9,-999.000,   41.85,2,   43.89,2,  601.10,-999.0000,9,-999.0000,9,-999.0000,9,-999.0000,9,-999.0000,9,-999.0000,9,     -999.0,     -999.0,9,     -999.0,9,     -999.0,9,     -999.0,9,     -999.0,9,     -999.0,9, -999.00,9,   6.6141,-999.0000,-999.000
325020060213,       P16N,      25,          2,         20,         20,2,20060223,       1154,          3,       -151,       5059,   700.7,   5.9234,  34.5560,2,  34.5525,4,     59.1,2,    59.3,2,   61.70,2,   40.30,2,    0.00,2, -999.00,5,   0.009,2,   0.008,2,-999.000,5,  2284.4,2,  2331.8,2,   1600.8,2,    20.00,   7.4546,2,    25.00,-999.000,9,-999.000,-999.0000,9,-999.000,9, -999.00,5,  -141.8,2,     3.4,-999.000,9,-999.000,   41.50,2,   44.65,2,  700.70,-999.0000,9,-999.0000,9,-999.0000,9,-999.0000,9,-999.0000,9,-999.0000,9,     -999.0,     -999.0,9,     -999.0,9,     -999.0,9,     -999.0,9,     -999.0,9,     -999.0,9, -999.00,9,   5.8615,-999.0000,-999.000
325020060213,       P16N,      25,          2,         19,         19,2,20060223,       1154,          3,       -151,       5059,   800.5,   5.4972,  34.5531,2,  34.5509,4,     65.2,2,    63.7,2,   67.80,2,   40.40,2,    0.00,2, -999.00,5,   0.011,2,   0.005,2,-999.000,5,  2290.4,2,  2338.8,2,   1587.6,2,    20.00,   7.4458,2,    25.00,-999.000,9,-999.000,-999.0000,9,-999.000,9, -999.00,5,  -145.7,2,     2.9,-999.000,9,-999.000,   40.44,2,   43.87,2,  800.50,-999.0000,9,-999.0000,9,-999.0000,9,-999.0000,9,-999.0000,9,-999.0000,9,     -999.0,     -999.0,9,     -999.0,9,     -999.0,9,     -999.0,9,     -999.0,9,     -999.0,9, -999.00,9,   5.4285,-999.0000,-999.000
325020060213,       P16N,      25,          2,         18,         18,2,20060223,       1154,          3,       -151,       5059,   902.0,   5.0036,  34.5543,2,  34.5381,4,     69.7,2,    68.4,2,   76.40,2,   40.40,2,    0.00,2, -999.00,5,   0.003,2,   0.003,2,-999.000,5,  2294.1,2,  2346.2,2,   1570.3,2,    20.00,   7.4532,2,    25.00,-999.000,9,-999.000,-999.0000,9,-999.000,9, -999.00,9,  -999.0,9,    -9.0,-999.000,9,-999.000,   39.69,2,   44.75,2,  902.00,-999.0000,9,-999.0000,9,-999.0000,9,-999.0000,9,-999.0000,9,-999.0000,9,     -999.0,     -999.0,9,     -999.0,9,     -999.0,9,     -999.0,9,     -999.0,9,     -999.0,9, -999.00,9,   4.9290,-999.0000,-999.000
325020060213,       P16N,      25,          2,         17,         17,2,20060223,       1154,          3,       -151,       5059,  1000.7,   4.5684,  34.5615,2,  34.5597,4,     71.1,2,    71.0,2,   86.40,2,   40.60,2,    0.00,2, -999.00,5,   0.000,6,   0.002,6,-999.000,5,  2304.6,2,  2360.3,6,   1575.6,2,    20.00,   7.4553,2,    25.00,-999.000,9,-999.000,-999.0000,9,-999.000,9, -999.00,9,  -999.0,9,    -9.0,-999.000,9,-999.000,   38.39,2,   44.81,2, 1000.70,-999.0000,9,-999.0000,9,-999.0000,9,-999.0000,9,-999.0000,9,-999.0000,9,     -999.0,     -999.0,9,     -999.0,9,     -999.0,9,     -999.0,9,     -999.0,9,     -999.0,9, -999.00,9,   4.4883,-999.0000,-999.000
325020060213,       P16N,      25,          2,         16,         16,2,20060223,       1154,          3,       -151,       5059,  1199.7,   3.9511,  34.5776,2,  34.5744,4,     75.1,2,    74.0,2,   99.60,2,   40.80,2,    0.00,2, -999.00,5,-999.000,9,-999.000,9,-999.000,9,  2320.0,2,  2375.7,2,   1570.9,2,    20.00,   7.4598,2,    25.00,-999.000,9,-999.000,-999.0000,9,-999.000,9, -999.00,9,  -999.0,9,    -9.0,-999.000,9,-999.000,   37.02,2,   44.79,2, 1199.70,-999.0000,9,-999.0000,9,-999.0000,9,-999.0000,9,-999.0000,9,-999.0000,9,     -999.0,     -999.0,9,     -999.0,9,     -999.0,9,     -999.0,9,     -999.0,9,     -999.0,9, -999.00,9,   3.8588,-999.0000,-999.000
325020060213,       P16N,      25,          2,         15,         15,2,20060223,       1154,          3,       -151,       5059,  1401.1,   3.3184,  34.5977,2,  34.5938,4,     84.0,2,    83.6,2,  113.70,2,   40.40,2,    0.00,2, -999.00,5,  -0.001,2,   0.002,2,-999.000,5,  2330.6,2,  2390.7,2,   1522.3,2,    20.00,   7.4728,2,    25.00,-999.000,9,-999.000,-999.0000,9,-999.000,9, -999.00,9,  -999.0,9,    -9.0,-999.000,9,-999.000,   38.26,2,   44.26,2, 1401.10,-999.0000,9,-999.0000,9,-999.0000,9,-999.0000,9,-999.0000,9,-999.0000,9,     -999.0,     -999.0,9,     -999.0,9,     -999.0,9,     -999.0,9,     -999.0,9,     -999.0,9, -999.00,9,   3.2152,-999.0000,-999.000
325020060213,       P16N,      25,          2,         14,         14,2,20060223,       1154,          3,       -151,       5059,  1601.9,   2.8953,  34.6149,2,  34.6123,4,     90.0,2,    90.4,2,  123.80,2,   40.10,2,    0.00,2, -999.00,5,-999.000,9,-999.000,9,-999.000,9,  2339.7,2,  2400.7,2,   1493.7,6,    20.00,   7.4834,2,    25.00,-999.000,9,-999.000,-999.0000,9,-999.000,9, -999.00,9,  -999.0,9,    -9.0,-999.000,9,-999.000,   37.56,2,   44.09,2, 1601.90,-999.0000,9,-999.0000,9,-999.0000,9,-999.0000,9,-999.0000,9,-999.0000,9,     -999.0,     -999.0,9,     -999.0,9,     -999.0,9,     -999.0,9,     -999.0,9,     -999.0,9, -999.00,9,   2.7801,-999.0000,-999.000
325020060213,       P16N,      25,          2,         13,         13,9,20060223,       1154,          3,       -151,       5059,  1799.3,   2.5976,  34.6286,2,-999.0000,9,     96.6,2,  -999.0,9, -999.00,9, -999.00,9, -999.00,9, -999.00,9,-999.000,9,-999.000,9,-999.000,9,  -999.0,9,  -999.0,9,   -999.0,9,  -999.00,-999.0000,9,  -999.00,-999.000,9,-999.000,-999.0000,9,-999.000,9, -999.00,9,  -999.0,9,    -9.0,-999.000,9,-999.000, -999.00,9, -999.00,9, 1799.30,-999.0000,9,-999.0000,9,-999.0000,9,-999.0000,9,-999.0000,9,-999.0000,9,     -999.0,     -999.0,9,     -999.0,9,     -999.0,9,     -999.0,9,     -999.0,9,     -999.0,9, -999.00,9,   2.4695,-999.0000,-999.000
325020060213,       P16N,      25,          2,         12,         12,2,20060223,       1154,          3,       -151,       5059,  1999.0,   2.3758,  34.6406,2,  34.6384,4,    100.4,2,    99.8,2,  137.20,2,   39.60,2,    0.00,2, -999.00,5,  -0.004,2,   0.000,2,-999.000,5,  2347.9,2,  2415.6,2,   1432.8,2,    20.00,   7.5006,2,    25.00,-999.000,9,-999.000,-999.0000,9,-999.000,9, -999.00,9,  -999.0,9,    -9.0,-999.000,9,-999.000,   37.01,2,   43.46,2, 1999.00,-999.0000,9,-999.0000,9,-999.0000,9,-999.0000,9,-999.0000,9,-999.0000,9,     -999.0,     -999.0,9,     -999.0,9,     -999.0,9,     -999.0,9,     -999.0,9,     -999.0,9, -999.00,9,   2.2338,-999.0000,-999.000
325020060213,       P16N,      25,          2,         11,         11,2,20060223,       1154,          3,       -151,       5059,  2248.9,   2.0760,  34.6565,2,  34.6533,4,    109.6,2,   108.0,2,  144.00,2,   38.90,2,    0.00,2, -999.00,5,-999.000,9,-999.000,9,-999.000,9,  2349.8,2,  2425.4,2,   1376.6,2,    20.00,   7.5189,2,    25.00,-999.000,9,-999.000,-999.0000,9,-999.000,9, -999.00,9,  -999.0,9,    -9.0,-999.000,9,-999.000,   36.90,2,   42.73,2, 2248.90,-999.0000,9,-999.0000,9,-999.0000,9,-999.0000,9,-999.0000,9,-999.0000,9,     -999.0,     -999.0,9,     -999.0,9,     -999.0,9,     -999.0,9,     -999.0,9,     -999.0,9, -999.00,9,   1.9169,-999.0000,-999.000
325020060213,       P16N,      25,          2,         10,         10,2,20060223,       1154,          3,       -151,       5059,  2499.8,   1.8552,  34.6697,2,  34.6676,4,    117.4,2,   116.5,2,  149.30,2,   38.40,2,    0.00,2, -999.00,5,-999.000,9,-999.000,9,-999.000,9,  2352.0,2,  2432.5,2,   1318.9,2,    20.00,   7.5420,2,    25.00,-999.000,9,-999.000,-999.0000,9,-999.000,9, -999.00,9,  -999.0,9,    -9.0,-999.000,9,-999.000,   36.10,2,   41.92,2, 2499.80,-999.0000,9,-999.0000,9,-999.0000,9,-999.0000,9,-999.0000,9,-999.0000,9,     -999.0,     -999.0,9,     -999.0,9,     -999.0,9,     -999.0,9,     -999.0,9,     -999.0,9, -999.00,9,   1.6776,-999.0000,-999.000
325020060213,       P16N,      25,          2,          9,          9,2,20060223,       1154,          3,       -151,       5059,  2749.7,   1.7799,  34.6740,2,  34.6715,4,    122.4,2,   122.3,2,  149.30,2,   38.10,2,    0.00,2, -999.00,5,   0.003,3,   0.001,2,-999.000,5,  2351.4,2,  2431.4,2,   1289.9,2,    20.00,   7.5399,2,    25.00,-999.000,9,-999.000,-999.0000,9,-999.000,9, -999.00,9,  -999.0,9,    -9.0,-999.000,9,-999.000,   36.24,2,   41.51,2, 2749.70,-999.0000,9,-999.0000,9,-999.0000,9,-999.0000,9,-999.0000,9,-999.0000,9,     -999.0,     -999.0,9,     -999.0,9,     -999.0,9,     -999.0,9,     -999.0,9,     -999.0,9, -999.00,9,   1.5808,-999.0000,-999.000