BOTTLE,20170720CCHSIOCBG
EXPOCODE,SECT_ID,STNNBR,CASTNO,SAMPNO,BTLNBR,BTLNBR_FLAG_W,DATE,TIME,LATITUDE,LONGITUDE,DEPTH,CTDPRS,CTDTMP,CTDSAL,CTDSAL_FLAG_W,SALNTY,SALNTY_FLAG_W,CTDOXY,CTDOXY_FLAG_W,OXYGEN,OXYGEN_FLAG_W,SILCAT,SILCAT_FLAG_W,NITRAT,NITRAT_FLAG_W,NITRIT,NITRIT_FLAG_W,PHSPHT,PHSPHT_FLAG_W,CFC-11,CFC-11_FLAG_W,CFC-12,CFC-12_FLAG_W,CFC113,CFC113_FLAG_W,TCARBN,TCARBN_FLAG_W,ALKALI,ALKALI_FLAG_W,FCO2,FCO2_FLAG_W,FCO2TMP,PH_TOT,PH_TOT_FLAG_W,PH_TMP,TRITUM,TRITUM_FLAG_W,TRITER,HELIUM,HELIUM_FLAG_W,DELHE3,DELHE3_FLAG_W,DELC13,DELC13_FLAG_W,DELC14,DELC14_FLAG_W,C14ERR,NEON,NEON_FLAG_W,NEONER,DOC,DOC_FLAG_W,TDN,TDN_FLAG_W,CTDRAW,CDOM325,CDOM325_FLAG_W,CDOM340,CDOM340_FLAG_W,CDOM380,CDOM380_FLAG_W,CDOM412,CDOM412_FLAG_W,CDOMSL,CDOMSL_FLAG_W,CDOMSN,CDOMSN_FLAG_W,DCNS,ARABI,ARABI_FLAG_W,FUCO,FUCO_FLAG_W,GALA,GALA_FLAG_W,GLUC,GLUC_FLAG_W,MAN,MAN_FLAG_W,RHAM,RHAM_FLAG_W,BRDU,BRDU_FLAG_W,THETA,HELIER,DELHER
,,,,,,,,,,,METERS,DBAR,ITS-90,PSS-78,,PSS-78,,UMOL/KG,,UMOL/KG,,UMOL/KG,,UMOL/KG,,UMOL/KG,,UMOL/KG,,PMOL/KG,,PMOL/KG,,PMOL/KG,,UMOL/KG,,UMOL/KG,,UATM,,DEG C,,,DEG C,TU,,TU,NMOL/KG,,PERCNT,,/MILLE,,/MILLE,,/MILLE,NMOL/KG,,NMOL/KG,UMOL/KG,,UMOL/KG,,DBAR,1/M,,1/M,,1/M,,1/M,,1/NM,,1/NM,,NMOL/KG,NMOL/KG,,NMOL/KG,,NMOL/KG,,NMOL/KG,,NMOL/KG,,NMOL/KG,,PMOL/L/H,,DEG C,NMOL/KG,PERCNT
325020060213,       P16N,      66,          1,         36,         36,2,20060323,       2116,    44.9998,  -151.9997,       5282,     4.5,   7.1108,  32.9315,2,  32.9344,2,    298.7,2,   299.9,2,   12.10,2,    8.60,2,    0.10,2,    0.94,2,   4.231,2,   2.382,2,-999.000,5,  2043.8,6,  2212.1,2,   -999.0,9,  -999.00,   7.8162,6,    25.00,-999.000,9,-999.000,-999.0000,9,-999.000,9, -999.00,5,     2.5,2,     2.6,-999.000,9,-999.000,   56.59,2,   12.37,2,    4.50,   0.1230,2,   0.0870,2,   0.0360,2,   0.0180,2,   0.0018,4,   0.0235,4,     -999.0,     -999.0,9,     -999.0,9,     -999.0,9,     -999.0,9,     -999.0,9,     -999.0,9,    3.52,2,   7.1104,-999.0000,-999.000
325020060213,       P16N,      66,          1,         35,         35,2,20060323,       2116,    44.9998,  -151.9997,       5282,    15.0,   7.1085,  32.9315,2,  32.9336,2,    299.1,2,   299.9,2,   12.10,2,    8.60,2,    0.10,2,    0.94,2,   4.272,2,   2.430,2,-999.000,5,  2042.8,2,  2210.6,2,   -999.0,9,  -999.00,   7.8158,3,    25.00,-999.000,9,-999.000,-999.0000,9,-999.000,9, -999.00,9,  -999.0,9,    -9.0,-999.000,9,-999.000,   56.91,2,   12.79,2,   15.00,   0.1200,2,   0.0830,2,   0.0340,2,   0.0170,2,   0.0019,4,   0.0242,4,     -999.0,     -999.0,9,     -999.0,9,     -999.0,9,     -999.0,9,     -999.0,9,     -999.0,9,    0.26,2,   7.1071,-999.0000,-999.000
325020060213,       P16N,      66,          1,         34,         34,2,20060323,       2116,    44.9998,  -151.9997,       5282,    34.6,   7.0975,  32.9304,2,  32.9314,2,    299.9,2,   299.9,2,   12.10,2,    8.70,2,    0.10,2,    0.94,2,   4.235,2,   2.398,2,-999.000,5,  2042.8,2,  2210.7,2,   -999.0,9,  -999.00,   7.8154,2,    25.00,-999.000,9,-999.000,-999.0000,9,-999.000,9, -999.00,5,    10.4,2,     2.8,-999.000,9,-999.000,   55.27,2,   13.29,2,   34.60,   0.1230,2,   0.0850,2,   0.0350,2,   0.0180,2,   0.0023,4,   0.0239,4,     -999.0,     -999.0,9,     -999.0,9,     -999.0,9,     -999.0,9,     -999.0,9,     -999.0,9,    0.32,2,   7.0944,-999.0000,-999.000
325020060213,       P16N,      66,          1,         33,         33,2,20060323,       2116,    44.9998,  -151.9997,       5282,    60.3,   7.0875,  32.9298,2,  32.9318,2,    298.0,2,   299.5,2,   12.20,2,    8.70,2,    0.10,2,    0.95,2,   4.249,2,   2.402,2,-999.000,5,  2042.7,2,  2208.8,2,   -999.0,9,  -999.00,   7.8139,2,    25.00,-999.000,9,-999.000,-999.0000,9,-999.000,9, -999.00,9,  -999.0,9,    -9.0,-999.000,9,-999.000,   53.53,2,   12.40,2,   60.30,   0.1200,2,   0.0830,2,   0.0330,2,   0.0170,3,   0.0235,2,   0.0246,2,     -999.0,     -999.0,9,     -999.0,9,     -999.0,9,     -999.0,9,     -999.0,9,     -999.0,9,    0.18,2,   7.0821,-999.0000,-999.000
325020060213,       P16N,      66,          1,         32,         32,2,20060323,       2116,    44.9998,  -151.9997,       5282,    85.2,   7.0874,  32.9295,2,  32.9302,2,    298.8,2,   299.8,2,   12.30,2,    8.70,2,    0.10,2,    0.95,2,   4.269,6,   2.419,6,-999.000,5,  2042.8,2,  2211.7,2,   -999.0,9,  -999.00,   7.8162,2,    25.00,-999.000,9,-999.000,-999.0000,9,-999.000,9, -999.00,5,    18.0,2,     3.4,-999.000,9,-999.000,   53.26,2,   13.22,2,   85.20,   0.1210,2,   0.0830,2,   0.0330,2,   0.0170,2,   0.0238,2,   0.0247,2,     -999.0,     -999.0,9,     -999.0,9,     -999.0,9,     -999.0,9,     -999.0,9,     -999.0,9,    0.25,2,   7.0797,-999.0000,-999.000
325020060213,       P16N,      66,          1,         31,         31,2,20060323,       2116,    44.9998,  -151.9997,       5282,   109.9,   7.0872,  32.9296,2,  32.9390,2,    298.8,2,   298.9,2,   12.40,2,    8.90,2,    0.10,2,    0.95,2,   4.320,2,   2.443,2,-999.000,5,  2043.4,2,  2211.9,2,   -999.0,9,  -999.00,   7.8109,2,    25.00,-999.000,9,-999.000,-999.0000,9,-999.000,9, -999.00,5,     6.4,2,     2.7,-999.000,9,-999.000,   52.77,2,   13.84,2,  109.90,   0.1210,2,   0.0830,2,   0.0330,2,   0.0180,3,   0.0236,2,   0.0245,2,     -999.0,     -999.0,9,     -999.0,9,     -999.0,9,     -999.0,9,     -999.0,9,     -999.0,9,    0.43,2,   7.0773,-999.0000,-999.000
325020060213,       P16N,      66,          1,         30,         30,2,20060323,       2116,    44.9998,  -151.9997,       5282,   134.9,   7.5040,  33.4599,2,  33.5095,2,    263.3,2,   258.2,2,   18.90,2,   14.10,2,    0.00,2,    1.13,2,   4.085,2,   2.289,2,-999.000,5,  2090.3,2,  2238.5,2,   -999.0,9,  -999.00,   7.7518,2,    25.00,-999.000,9,-999.000,-999.0000,9,-999.000,9, -999.00,5,    10.4,2,     2.4,-999.000,9,-999.000,   52.15,2,   18.50,2,  134.90,   0.1190,2,   0.0830,2,   0.0360,2,   0.0210,2,   0.0209,2,   0.0225,2,     -999.0,     -999.0,9,     -999.0,9,     -999.0,9,     -999.0,9,     -999.0,9,     -999.0,9,    0.75,2,   7.4912,-999.0000,-999.000
325020060213,       P16N,      66,          1,         29,         29,2,20060323,       2116,    44.9998,  -151.9997,       5282,   175.4,   7.3407,  33.8390,2,  33.8381,2,    232.2,2,   233.6,2,   25.40,2,   17.50,2,    0.00,2,    1.28,2,   3.860,2,   2.134,2,-999.000,5,  2123.6,2,  2255.1,6,   -999.0,9,  -999.00,   7.7112,2,    25.00,-999.000,9,-999.000,-999.0000,9,-999.000,9, -999.00,5,     5.0,2,     3.3,-999.000,9,-999.000,   50.64,2,   21.32,2,  175.40,   0.1200,2,   0.0830,2,   0.0370,2,   0.0230,2,   0.0202,2,   0.0220,2,     -999.0,     -999.0,9,     -999.0,9,     -999.0,9,     -999.0,9,     -999.0,9,     -999.0,9,    0.14,2,   7.3241,-999.0000,-999.000
325020060213,       P16N,      66,          1,         28,         28,2,20060323,       2116,    44.9998,  -151.9997,       5282,   225.7,   6.7278,  33.8656,2,  33.8717,2,    206.2,2,   204.5,2,   34.70,2,   21.40,2,    0.00,2,    1.54,2,   3.610,2,   1.959,2,-999.000,5,  2153.6,2,  2263.6,2,   -999.0,9,  -999.00,   7.6491,2,    25.00,-999.000,9,-999.000,-999.0000,9,-999.000,9, -999.00,5,    -0.6,2,     3.3,-999.000,9,-999.000,   49.29,2,   25.93,2,  225.70,   0.1390,2,   0.0980,2,   0.0460,2,   0.0290,2,   0.0178,2,   0.0198,2,     -999.0,     -999.0,9,     -999.0,9,     -999.0,9,     -999.0,9,     -999.0,9,     -999.0,9, -999.00,9,   6.7074,-999.0000,-999.000
325020060213,       P16N,      66,          1,         27,         27,2,20060323,       2116,    44.9998,  -151.9997,       5282,   275.1,   6.1020,  33.8889,2,  33.8909,2,    173.3,2,   174.6,2,   45.40,2,   25.70,2,    0.00,2,    1.84,2,   3.287,2,   1.728,2,-999.000,5,  2186.2,2,  2272.6,2,   -999.0,9,  -999.00,   7.5791,2,    25.00,-999.000,9,-999.000,-999.0000,9,-999.000,9, -999.00,5,   -26.3,2,     2.6,-999.000,9,-999.000,   47.49,2,   29.50,2,  275.10,   0.1530,2,   0.1090,2,   0.0530,2,   0.0350,3,   0.0167,3,   0.0186,3,     -999.0,     -999.0,9,     -999.0,9,     -999.0,9,     -999.0,9,     -999.0,9,     -999.0,9, -999.00,9,   6.0785,-999.0000,-999.000
325020060213,       P16N,      66,          1,         26,         26,2,20060323,       2116,    44.9998,  -151.9997,       5282,   325.3,   5.5377,  33.8901,2,  33.8913,2,    150.0,2,   148.0,2,   54.70,2,   29.40,2,    0.00,2,    2.08,2,   2.950,2,   1.536,2,-999.000,5,  2212.4,2,  2278.4,2,   -999.0,9,  -999.00,   7.5155,2,    25.00,-999.000,9,-999.000,-999.0000,9,-999.000,9, -999.00,5,   -47.3,2,     2.5,-999.000,9,-999.000,   45.42,2,   33.67,2,  325.30,   0.1620,2,   0.1160,2,   0.0580,2,   0.0390,3,   0.0161,3,   0.0179,3,     -999.0,     -999.0,9,     -999.0,9,     -999.0,9,     -999.0,9,     -999.0,9,     -999.0,9, -999.00,9,   5.5111,-999.0000,-999.000
325020060213,       P16N,      66,          1,         25,         25,9,20060323,       2116,    44.9998,  -151.9997,       5282,   374.7,   5.1201,  33.9255,2,-999.0000,9,    114.1,2,  -999.0,9, -999.00,9, -999.00,9, -999.00,9, -999.00,9,-999.000,9,-999.000,9,-999.000,9,  -999.0,9,  -999.0,9,   -999.0,9,  -999.00,-999.0000,9,  -999.00,-999.000,9,-999.000,-999.0000,9,-999.000,9, -999.00,9,  -999.0,9,    -9.0,-999.000,9,-999.000, -999.00,9, -999.00,9,  374.70,-999.0000,9,-999.0000,9,-999.0000,9,-999.0000,9,-999.0000,9,-999.0000,9,     -999.0,     -999.0,9,     -999.0,9,     -999.0,9,     -999.0,9,     -999.0,9,     -999.0,9, -999.00,9,   5.0906,-999.0000,-999.000
325020060213,       P16N,      66,          1,         24,         24,2,20060323,       2116,    44.9998,  -151.9997,       5282,   423.4,   4.8134,  33.9700,2,  33.9715,2,     89.6,2,    90.9,2,   74.80,2,   36.00,2,    0.00,2,    2.52,2,   2.068,2,   1.074,2,-999.000,5,  2267.9,2,  2297.9,2,   -999.0,9,  -999.00,   7.3996,2,    25.00,-999.000,9,-999.000,-999.0000,9,-999.000,9, -999.00,5,   -85.4,2,     3.8,-999.000,9,-999.000,   43.33,2,   39.35,2,  423.40,   0.1820,2,   0.1320,2,   0.0700,2,   0.0480,3,   0.0151,3,   0.0165,3,     -999.0,     -999.0,9,     -999.0,9,     -999.0,9,     -999.0,9,     -999.0,9,     -999.0,9, -999.00,9,   4.7809,-999.0000,-999.000
325020060213,       P16N,      66,          1,         23,         23,2,20060323,       2116,    44.9998,  -151.9997,       5282,   474.2,   4.6220,  34.0145,2,  34.0195,2,     74.2,2,    73.9,2,   82.60,2,   37.80,2,    0.00,2,    2.68,2,   1.712,2,   0.848,2,-999.000,5,  2284.8,2,  2307.2,2,   -999.0,9,  -999.00,   7.3686,2,    25.00,-999.000,9,-999.000,-999.0000,9,-999.000,9, -999.00,5,  -104.0,2,     2.5,-999.000,9,-999.000,   42.53,2,   41.30,2,  474.20,   0.1800,2,   0.1300,2,   0.0690,2,   0.0480,3,   0.0149,3,   0.0164,3,     -999.0,     -999.0,9,     -999.0,9,     -999.0,9,     -999.0,9,     -999.0,9,     -999.0,9, -999.00,9,   4.5861,-999.0000,-999.000
325020060213,       P16N,      66,          1,         22,         22,2,20060323,       2116,    44.9998,  -151.9997,       5282,   548.3,   4.2881,  34.0801,2,  34.0810,2,     54.6,2,    54.8,2,   94.00,2,   39.90,2,    0.00,2,    2.83,2,   1.216,2,   0.600,2,-999.000,5,  2307.9,2,  2319.8,2,   -999.0,9,  -999.00,   7.3372,2,    25.00,-999.000,9,-999.000,-999.0000,9,-999.000,9, -999.00,5,  -124.8,2,     2.4,-999.000,9,-999.000, -999.00,9, -999.00,9,  548.30,   0.1840,2,   0.1330,2,   0.0720,2,   0.0510,2,   0.0145,3,   0.0159,3,     -999.0,     -999.0,9,     -999.0,9,     -999.0,9,     -999.0,9,     -999.0,9,     -999.0,9, -999.00,9,   4.2476,-999.0000,-999.000
325020060213,       P16N,      66,          1,         21,         21,2,20060323,       2116,    44.9998,  -151.9997,       5282,   650.6,   3.8281,  34.1463,2,  34.1486,2,     34.9,2,    35.3,2,  108.20,2,   42.00,2,    0.00,2,    3.00,2,   0.799,2,   0.383,2,-999.000,5,  2332.2,2,  2332.3,2,   -999.0,9,  -999.00,   7.2985,2,    25.00,-999.000,9,-999.000,-999.0000,9,-999.000,9, -999.00,5,  -149.4,2,     2.8,-999.000,9,-999.000,   40.97,2,   45.79,2,  650.60,   0.1910,2,   0.1380,2,   0.0760,2,   0.0540,2,   0.0142,2,   0.0154,2,     -999.0,     -999.0,9,     -999.0,9,     -999.0,9,     -999.0,9,     -999.0,9,     -999.0,9, -999.00,9,   3.7819,-999.0000,-999.000
325020060213,       P16N,      66,          1,         20,         20,2,20060323,       2116,    44.9998,  -151.9997,       5282,   750.0,   3.6097,  34.2158,2,-999.0000,5,     28.8,2,    29.0,2,  117.40,2,   42.50,2,    0.00,2,    3.05,2,   0.473,2,   0.225,2,-999.000,5,  2345.0,2,  2343.5,2,   -999.0,9,  -999.00,   7.2988,2,    25.00,-999.000,9,-999.000,-999.0000,9,-999.000,9, -999.00,5,  -167.8,2,     2.3,-999.000,9,-999.000,   40.14,2,   46.80,2,  750.00,   0.1870,2,   0.1350,2,   0.0740,2,   0.0530,3,   0.0141,3,   0.0154,3,     -999.0,     -999.0,9,     -999.0,9,     -999.0,9,     -999.0,9,     -999.0,9,     -999.0,9, -999.00,9,   3.5571,-999.0000,-999.000
325020060213,       P16N,      66,          1,         19,         19,2,20060323,       2116,    44.9998,  -151.9997,       5282,   851.0,   3.4008,  34.2753,2,  34.2761,2,     24.5,2,    24.4,2,  125.90,2,   43.00,2,    0.00,2,    3.08,2,   0.263,2,   0.121,2,-999.000,5,  2355.7,2,  2358.4,2,   -999.0,9,  -999.00,   7.3021,2,    25.00,-999.000,9,-999.000,-999.0000,9,-999.000,9, -999.00,5,  -182.1,2,     2.7,-999.000,9,-999.000,   39.42,2,   46.94,2,  851.00,   0.1880,2,   0.1370,2,   0.0770,2,   0.0560,2,   0.0136,2,   0.0147,2,     -999.0,     -999.0,9,     -999.0,9,     -999.0,9,     -999.0,9,     -999.0,9,     -999.0,9, -999.00,9,   3.3416,-999.0000,-999.000
325020060213,       P16N,      66,          1,         18,         18,2,20060323,       2116,    44.9998,  -151.9997,       5282,   947.4,   3.2023,  34.3276,2,  34.3276,2,     19.4,2,    19.5,2,  133.20,2,   43.60,2,    0.00,2,    3.14,2,   0.089,2,   0.046,2,-999.000,5,  2367.0,2,  2367.4,6,   -999.0,9,  -999.00,   7.2999,2,    25.00,-999.000,9,-999.000,-999.0000,9,-999.000,9, -999.00,9,  -999.0,9,    -9.0,-999.000,9,-999.000,   38.10,2,   47.17,2,  947.40,   0.1840,2,   0.1330,2,   0.0740,2,   0.0540,2,   0.0135,2,   0.0149,3,     -999.0,     -999.0,9,     -999.0,9,     -999.0,9,     -999.0,9,     -999.0,9,     -999.0,9, -999.00,9,   3.1372,-999.0000,-999.000
325020060213,       P16N,      66,          1,         17,         17,2,20060323,       2116,    44.9998,  -151.9997,       5282,  1100.1,   2.9253,  34.3826,2,  34.3838,2,     13.6,2,    13.3,2,  143.40,2,   44.20,2,    0.00,2,    3.19,2,   0.027,2,   0.015,2,-999.000,5,  2381.1,6,  2381.9,2,   -999.0,9,  -999.00,   7.2947,2,    25.00,-999.000,9,-999.000,-999.0000,9,-999.000,9, -999.00,9,  -999.0,9,    -9.0,-999.000,9,-999.000,   37.00,2,   47.80,2, 1100.10,   0.1860,2,   0.1340,2,   0.0760,2,   0.0570,2,   0.0131,4,   0.0144,4,     -999.0,     -999.0,9,     -999.0,9,     -999.0,9,     -999.0,9,     -999.0,9,     -999.0,9, -999.00,9,   2.8506,-999.0000,-999.000
325020060213,       P16N,      66,          1,         16,         16,2,20060323,       2116,    44.9998,  -151.9997,       5282,  1299.7,   2.6087,  34.4486,2,  34.4485,2,     12.7,2,    14.3,2,  154.30,2,   44.40,2,    0.00,2,    3.20,2,-999.000,9,-999.000,9,-999.000,9,  2391.0,2,  2391.3,2,   -999.0,9,  -999.00,   7.2989,2,    25.00,-999.000,9,-999.000,-999.0000,9,-999.000,9, -999.00,9,  -999.0,9,    -9.0,-999.000,9,-999.000,   37.15,2,   47.81,2, 1299.70,   0.1820,2,   0.1310,2,   0.0740,2,   0.0550,2,   0.0131,4,   0.0145,4,     -999.0,     -999.0,9,     -999.0,9,     -999.0,9,     -999.0,9,     -999.0,9,     -999.0,9, -999.00,9,   2.5215,-999.0000,-999.000
325020060213,       P16N,      66,          1,         15,         15,2,20060323,       2116,    44.9998,  -151.9997,       5282,  1500.1,   2.3848,  34.4944,2,  34.4962,2,     19.1,2,    19.7,2,  161.30,2,   44.20,2,    0.00,2,    3.18,2,  -0.009,2,   0.002,2,-999.000,5,  2395.2,2,  2399.0,2,   -999.0,9,  -999.00,   7.3159,2,    25.00,-999.000,9,-999.000,-999.0000,9,-999.000,9, -999.00,9,  -999.0,9,    -9.0,-999.000,9,-999.000,   38.06,2,   47.98,2, 1500.10,   0.1790,2,   0.1290,2,   0.0720,2,   0.0540,2,   0.0130,4,   0.0145,4,     -999.0,     -999.0,9,     -999.0,9,     -999.0,9,     -999.0,9,     -999.0,9,     -999.0,9, -999.00,9,   2.2843,-999.0000,-999.000
325020060213,       P16N,      66,          1,         14,         14,2,20060323,       2116,    44.9998,  -151.9997,       5282,  1698.9,   2.2009,  34.5348,2,  34.5376,2,     27.2,2,    27.9,2,  166.10,2,   43.90,2,    0.00,2,    3.14,2,-999.000,9,-999.000,9,-999.000,9,  2396.1,2,  2406.6,2,   -999.0,9,  -999.00,   7.3345,2,    25.00,-999.000,9,-999.000,-999.0000,9,-999.000,9, -999.00,9,  -999.0,9,    -9.0,-999.000,9,-999.000,   37.42,2,   47.49,2, 1698.90,   0.1750,2,   0.1250,2,   0.0690,2,   0.0520,2,   0.0131,3,   0.0148,3,     -999.0,     -999.0,9,     -999.0,9,     -999.0,9,     -999.0,9,     -999.0,9,     -999.0,9, -999.00,9,   2.0867,-999.0000,-999.000
325020060213,       P16N,      66,          1,         13,         13,4,20060323,       2116,    44.9998,  -151.9997,       5282,  1899.5,   2.0529,  34.5684,2,  34.5480,4,     37.6,2,    30.3,4,  167.80,4,   43.80,4,    0.00,4,    3.13,4,  -0.003,2,   0.002,2,-999.000,5,  2396.8,2,  2411.5,2,   -999.0,9,  -999.00,   7.3401,3,    25.00,-999.000,9,-999.000,-999.0000,9,-999.000,9, -999.00,9,  -999.0,9,    -9.0,-999.000,9,-999.000,   37.28,2,   47.46,2, 1899.50,   0.1730,2,   0.1230,2,   0.0690,2,   0.0520,2,   0.0129,3,   0.0146,3,     -999.0,     -999.0,9,     -999.0,9,     -999.0,9,     -999.0,9,     -999.0,9,     -999.0,9, -999.00,9,   1.9242,-999.0000,-999.000
325020060213,       P16N,      66,          1,         12,         12,2,20060323,       2116,    44.9998,  -151.9997,       5282,  2125.7,   1.9168,  34.5966,2,  34.5983,2,     51.5,2,    52.6,2,  172.20,2,   42.30,2,    0.00,2,    3.05,2,-999.000,9,-999.000,9,-999.000,9,  2389.0,2,  2419.6,2,   -999.0,9,  -999.00,   7.3876,2,    25.00,-999.000,9,-999.000,-999.0000,9,-999.000,9, -999.00,9,  -999.0,9,    -9.0,-999.000,9,-999.000,   36.33,2,   45.76,2, 2125.70,   0.1620,2,   0.1140,2,   0.0620,2,   0.0460,2,   0.0133,3,   0.0154,3,     -999.0,     -999.0,9,     -999.0,9,     -999.0,9,     -999.0,9,     -999.0,9,     -999.0,9, -999.00,9,   1.7711,-999.0000,-999.000
325020060213,       P16N,      66,          1,         11,         11,2,20060323,       2116,    44.9998,  -151.9997,       5282,  2372.8,   1.7978,  34.6198,2,  34.6199,2,     67.9,2,    68.4,2,  173.10,2,   41.20,2,    0.00,2,    2.99,2,   0.010,3,   0.002,2,-999.000,5,  2382.2,2,  2422.5,2,   -999.0,9,  -999.00,   7.4201,2,    25.00,-999.000,9,-999.000,-999.0000,9,-999.000,9, -999.00,9,  -999.0,9,    -9.0,-999.000,9,-999.000,   37.20,2,   45.47,2, 2372.80,   0.1520,2,   0.1060,2,   0.0580,2,   0.0430,2,   0.0134,3,   0.0156,3,     -999.0,     -999.0,9,     -999.0,9,     -999.0,9,     -999.0,9,     -999.0,9,     -999.0,9, -999.00,9,   1.6327,-999.0000,-999.000
325020060213,       P16N,      66,          1,         10,         10,2,20060323,       2116,    44.9998,  -151.9997,       5282,  2623.7,   1.6896,  34.6386,2,  34.6391,2,     85.3,2,    85.8,2,  170.70,2,   40.10,2,    0.00,2,    2.91,2,-999.000,9,-999.000,9,-999.000,9,  2371.0,2,  2420.0,2,   -999.0,9,  -999.00,   7.4542,2,    25.00,-999.000,9,-999.000,-999.0000,9,-999.000,9, -999.00,9,  -999.0,9,    -9.0,-999.000,9,-999.000,   37.20,2,   44.12,2, 2623.70,   0.1460,2,   0.1010,2,   0.0540,2,   0.0400,2,   0.0137,3,   0.0162,3,     -999.0,     -999.0,9,     -999.0,9,     -999.0,9,     -999.0,9,     -999.0,9,     -999.0,9, -999.00,9,   1.5040,-999.0000,-999.000