BOTTLE,20170720CCHSIOCBG
EXPOCODE,SECT_ID,STNNBR,CASTNO,SAMPNO,BTLNBR,BTLNBR_FLAG_W,DATE,TIME,LATITUDE,LONGITUDE,DEPTH,CTDPRS,CTDTMP,CTDSAL,CTDSAL_FLAG_W,SALNTY,SALNTY_FLAG_W,CTDOXY,CTDOXY_FLAG_W,OXYGEN,OXYGEN_FLAG_W,SILCAT,SILCAT_FLAG_W,NITRAT,NITRAT_FLAG_W,NITRIT,NITRIT_FLAG_W,PHSPHT,PHSPHT_FLAG_W,CFC-11,CFC-11_FLAG_W,CFC-12,CFC-12_FLAG_W,CFC113,CFC113_FLAG_W,TCARBN,TCARBN_FLAG_W,ALKALI,ALKALI_FLAG_W,FCO2,FCO2_FLAG_W,FCO2TMP,PH_TOT,PH_TOT_FLAG_W,PH_TMP,TRITUM,TRITUM_FLAG_W,TRITER,HELIUM,HELIUM_FLAG_W,DELHE3,DELHE3_FLAG_W,DELC13,DELC13_FLAG_W,DELC14,DELC14_FLAG_W,C14ERR,NEON,NEON_FLAG_W,NEONER,DOC,DOC_FLAG_W,TDN,TDN_FLAG_W,CTDRAW,CDOM325,CDOM325_FLAG_W,CDOM340,CDOM340_FLAG_W,CDOM380,CDOM380_FLAG_W,CDOM412,CDOM412_FLAG_W,CDOMSL,CDOMSL_FLAG_W,CDOMSN,CDOMSN_FLAG_W,DCNS,ARABI,ARABI_FLAG_W,FUCO,FUCO_FLAG_W,GALA,GALA_FLAG_W,GLUC,GLUC_FLAG_W,MAN,MAN_FLAG_W,RHAM,RHAM_FLAG_W,BRDU,BRDU_FLAG_W,THETA,HELIER,DELHER
,,,,,,,,,,,METERS,DBAR,ITS-90,PSS-78,,PSS-78,,UMOL/KG,,UMOL/KG,,UMOL/KG,,UMOL/KG,,UMOL/KG,,UMOL/KG,,PMOL/KG,,PMOL/KG,,PMOL/KG,,UMOL/KG,,UMOL/KG,,UATM,,DEG C,,,DEG C,TU,,TU,NMOL/KG,,PERCNT,,/MILLE,,/MILLE,,/MILLE,NMOL/KG,,NMOL/KG,UMOL/KG,,UMOL/KG,,DBAR,1/M,,1/M,,1/M,,1/M,,1/NM,,1/NM,,NMOL/KG,NMOL/KG,,NMOL/KG,,NMOL/KG,,NMOL/KG,,NMOL/KG,,NMOL/KG,,PMOL/L/H,,DEG C,NMOL/KG,PERCNT
325020060213,       P16N,      68,          1,         36,         36,2,20060324,       1938,         47,  -152.0002,       5073,     5.2,   6.2579,  32.7687,2,  32.7709,2,    306.6,2,   306.1,2,   16.40,2,    9.60,2,    0.10,2,    1.03,3,   4.641,2,   2.587,2,-999.000,5,  2044.7,6,  2203.9,2,    617.4,2,    20.00,   7.8003,6,    25.00,-999.000,9,-999.000,-999.0000,9,-999.000,9, -999.00,5,     4.9,2,     3.0,-999.000,9,-999.000,   52.33,2,   14.02,2,    5.20,   0.1300,2,   0.0900,2,   0.0360,2,   0.0180,2,   0.0027,3,   0.0243,3,     -999.0,     -999.0,9,     -999.0,9,     -999.0,9,     -999.0,9,     -999.0,9,     -999.0,9,    3.03,2,   6.2575,-999.0000,-999.000
325020060213,       P16N,      68,          1,         35,         35,2,20060324,       1938,         47,  -152.0002,       5073,    15.2,   6.2556,  32.7681,2,  32.7701,2,    307.0,2,   306.8,2,   16.30,2,    9.60,2,    0.10,2,    1.04,3,   4.565,2,   2.566,2,-999.000,5,  2044.9,2,  2202.9,2,    620.1,2,    20.00,   7.8006,2,    25.00,-999.000,9,-999.000,-999.0000,9,-999.000,9, -999.00,9,  -999.0,9,    -9.0,-999.000,9,-999.000,   52.59,2,   13.68,2,   15.20,   0.1300,2,   0.0900,2,   0.0360,2,   0.0180,2,   0.0032,3,   0.0245,3,     -999.0,     -999.0,9,     -999.0,9,     -999.0,9,     -999.0,9,     -999.0,9,     -999.0,9,    3.78,2,   6.2543,-999.0000,-999.000
325020060213,       P16N,      68,          1,         34,         34,2,20060324,       1938,         47,  -152.0002,       5073,    34.5,   6.2105,  32.7682,2,  32.7689,2,    307.8,2,   306.3,2,   16.40,2,    9.70,2,    0.10,2,    1.02,3,   4.579,2,   2.585,2,-999.000,5,  2044.6,2,  2203.4,2,    618.8,2,    20.00,   7.8019,2,    25.00,-999.000,9,-999.000,-999.0000,9,-999.000,9, -999.00,5,     4.1,2,     3.2,-999.000,9,-999.000,   53.22,2,   14.33,2,   34.50,   0.1310,2,   0.0900,2,   0.0360,2,   0.0180,2,   0.0040,3,   0.0245,3,     -999.0,     -999.0,9,     -999.0,9,     -999.0,9,     -999.0,9,     -999.0,9,     -999.0,9,    4.12,2,   6.2076,-999.0000,-999.000
325020060213,       P16N,      68,          1,         33,         33,2,20060324,       1938,         47,  -152.0002,       5073,    60.4,   6.2093,  32.7684,2,  32.7697,2,    305.9,2,   305.8,2,   16.40,2,    9.60,2,    0.10,2,    1.03,3,   4.634,2,   2.588,2,-999.000,5,  2045.2,2,  2208.0,2,    622.3,2,    20.00,   7.7994,2,    25.00,-999.000,9,-999.000,-999.0000,9,-999.000,9, -999.00,9,  -999.0,9,    -9.0,-999.000,9,-999.000,   53.15,2,   13.95,2,   60.40,   0.1290,2,   0.0880,2,   0.0350,2,   0.0180,2,   0.0055,3,   0.0248,2,     -999.0,     -999.0,9,     -999.0,9,     -999.0,9,     -999.0,9,     -999.0,9,     -999.0,9,    4.23,2,   6.2043,-999.0000,-999.000
325020060213,       P16N,      68,          1,         32,         32,2,20060324,       1938,         47,  -152.0002,       5073,    85.0,   6.2190,  32.7750,2,  32.7767,2,    305.0,2,   305.3,2,   16.50,2,    9.80,2,    0.10,2,    1.04,3,   4.545,2,   2.547,2,-999.000,5,  2046.1,2,  2210.0,2,    624.1,2,    20.00,   7.7999,2,    25.00,-999.000,9,-999.000,-999.0000,9,-999.000,9, -999.00,5,     6.2,2,     3.3,-999.000,9,-999.000,   52.54,2,   13.67,2,   85.00,   0.1340,2,   0.0920,2,   0.0380,2,   0.0200,2,   0.0227,2,   0.0240,2,     -999.0,     -999.0,9,     -999.0,9,     -999.0,9,     -999.0,9,     -999.0,9,     -999.0,9,    3.29,2,   6.2119,-999.0000,-999.000
325020060213,       P16N,      68,          1,         31,         31,2,20060324,       1938,         47,  -152.0002,       5073,   110.3,   6.2520,  32.8044,2,  32.8062,2,    302.0,2,   302.1,2,   16.80,2,   10.20,2,    0.10,2,    1.06,3,   4.515,2,   2.536,2,-999.000,5,  2049.2,2,  2210.5,2,    632.6,2,    20.00,   7.7930,2,    25.00,-999.000,9,-999.000,-999.0000,9,-999.000,9, -999.00,5,    11.2,2,     3.4,-999.000,9,-999.000,   51.59,2,   14.66,2,  110.30,   0.1340,2,   0.0920,2,   0.0390,2,   0.0210,2,   0.0221,2,   0.0235,2,     -999.0,     -999.0,9,     -999.0,9,     -999.0,9,     -999.0,9,     -999.0,9,     -999.0,9,    2.75,2,   6.2428,-999.0000,-999.000
325020060213,       P16N,      68,          1,         30,         30,2,20060324,       1938,         47,  -152.0002,       5073,   132.5,   6.4155,  33.2365,2,  33.2553,2,    265.8,2,   266.1,2,   21.50,2,   14.90,2,    0.10,2,    1.21,3,   4.480,2,   2.457,2,-999.000,5,  2092.4,2,  2234.1,2,    746.5,2,    20.00,   7.7337,2,    25.00,-999.000,9,-999.000,-999.0000,9,-999.000,9, -999.00,9,  -999.0,9,    -9.0,-999.000,9,-999.000,   50.72,2,   19.21,2,  132.50,   0.1310,2,   0.0900,2,   0.0380,2,   0.0220,2,   0.0215,2,   0.0230,2,     -999.0,     -999.0,9,     -999.0,9,     -999.0,9,     -999.0,9,     -999.0,9,     -999.0,9,    2.43,2,   6.4041,-999.0000,-999.000
325020060213,       P16N,      68,          1,         29,         29,2,20060324,       1938,         47,  -152.0002,       5073,   175.2,   5.8440,  33.7569,2,  33.7582,2,    208.6,2,   214.2,2,   36.50,2,   22.00,2,    0.00,2,    1.56,3,   3.952,2,   2.126,2,-999.000,5,  2158.3,2,  -999.0,9,    986.0,2,    20.00,   7.6291,2,    25.00,-999.000,9,-999.000,-999.0000,9,-999.000,9, -999.00,5,     1.7,2,     3.0,-999.000,9,-999.000,   48.10,2,   26.31,2,  175.20,   0.1430,2,   0.1000,2,   0.0460,2,   0.0280,2,   0.0188,2,   0.0207,2,     -999.0,     -999.0,9,     -999.0,9,     -999.0,9,     -999.0,9,     -999.0,9,     -999.0,9,    0.41,2,   5.8296,-999.0000,-999.000
325020060213,       P16N,      68,          1,         28,         28,2,20060324,       1938,         47,  -152.0002,       5073,   223.8,   5.3311,  33.8021,2,  33.8083,2,    174.7,2,   171.2,2,   50.10,6,   27.50,6,    0.00,6,    1.89,3,   3.546,2,   1.847,2,-999.000,5,  2198.7,2,  2276.1,2,   1248.7,2,    20.00,   7.5375,2,    25.00,-999.000,9,-999.000,-999.0000,9,-999.000,9, -999.00,5,   -29.0,2,     3.2,-999.000,9,-999.000,   47.31,2,   31.54,2,  223.80,   0.1640,2,   0.1160,2,   0.0570,2,   0.0370,2,   0.0169,2,   0.0187,2,     -999.0,     -999.0,9,     -999.0,9,     -999.0,9,     -999.0,9,     -999.0,9,     -999.0,9, -999.00,9,   5.3134,-999.0000,-999.000
325020060213,       P16N,      68,          1,         27,         27,2,20060324,       1938,         47,  -152.0002,       5073,   275.9,   4.9739,  33.8623,2,  33.8609,2,    130.8,2,   133.4,2,   60.70,2,   31.70,2,    0.00,2,    2.20,3,   2.959,2,   1.544,2,-999.000,5,  2230.0,2,  2282.1,2,   1500.1,2,    20.00,   7.4650,2,    25.00,-999.000,9,-999.000,-999.0000,9,-999.000,9, -999.00,5,   -40.2,2,     3.2,-999.000,9,-999.000,   45.24,2,   35.41,2,  275.90,   0.1730,2,   0.1240,2,   0.0620,2,   0.0410,2,   0.0162,2,   0.0180,2,     -999.0,     -999.0,9,     -999.0,9,     -999.0,9,     -999.0,9,     -999.0,9,     -999.0,9, -999.00,9,   4.9527,-999.0000,-999.000
325020060213,       P16N,      68,          1,         26,         26,2,20060324,       1938,         47,  -152.0002,       5073,   325.6,   4.7878,  33.9232,2,  33.9238,2,    100.3,2,   100.0,2,   71.10,2,   35.30,2,    0.00,2,    2.43,3,   2.400,2,   1.208,2,-999.000,5,  2258.1,2,  2291.9,2,   1745.4,2,    20.00,   7.4064,2,    25.00,-999.000,9,-999.000,-999.0000,9,-999.000,9, -999.00,5,   -64.6,2,     3.1,-999.000,9,-999.000,   44.33,2,   39.65,2,  325.60,   0.1810,2,   0.1300,2,   0.0670,2,   0.0460,2,   0.0154,2,   0.0170,2,    436.598,    30.7317,2,    68.3518,2,      74.58,2,    146.541,2,    74.5366,2,    41.8568,2, -999.00,9,   4.7631,-999.0000,-999.000
325020060213,       P16N,      68,          1,         25,         25,9,20060324,       1938,         47,  -152.0002,       5073,   372.4,   4.5999,  33.9689,2,-999.0000,9,     76.6,2,  -999.0,9, -999.00,9, -999.00,9, -999.00,9, -999.00,9,-999.000,9,-999.000,9,-999.000,9,  -999.0,9,  -999.0,9,   -999.0,9,  -999.00,-999.0000,9,  -999.00,-999.000,9,-999.000,-999.0000,9,-999.000,9, -999.00,9,  -999.0,9,    -9.0,-999.000,9,-999.000, -999.00,9, -999.00,9,  372.40,-999.0000,9,-999.0000,9,-999.0000,9,-999.0000,9,-999.0000,9,-999.0000,9,     -999.0,     -999.0,9,     -999.0,9,     -999.0,9,     -999.0,9,     -999.0,9,     -999.0,9, -999.00,9,   4.5720,-999.0000,-999.000
325020060213,       P16N,      68,          1,         24,         24,2,20060324,       1938,         47,  -152.0002,       5073,   424.3,   4.4141,  34.0149,2,  34.0184,2,     64.1,2,    63.1,2,   86.80,2,   39.50,2,    0.00,2,    2.71,3,   1.658,2,   0.819,2,-999.000,5,  2293.9,2,  2308.3,2,   2067.7,6,    20.00,   7.3395,2,    25.00,-999.000,9,-999.000,-999.0000,9,-999.000,9, -999.00,5,   -92.8,2,     3.0,-999.000,9,-999.000,   43.73,2,   43.99,2,  424.30,   0.1850,2,   0.1330,2,   0.0690,2,   0.0480,2,   0.0152,2,   0.0168,2,     -999.0,     -999.0,9,     -999.0,9,     -999.0,9,     -999.0,9,     -999.0,9,     -999.0,9, -999.00,9,   4.3828,-999.0000,-999.000
325020060213,       P16N,      68,          1,         23,         23,2,20060324,       1938,         47,  -152.0002,       5073,   472.6,   4.1782,  34.0484,2,  34.0501,2,     50.7,2,    50.3,2,   86.80,2,   39.50,2,    0.00,2,    2.70,3,   1.394,2,   0.680,2,-999.000,5,  2308.0,2,  2314.3,2,   2200.7,2,    20.00,   7.3141,2,    25.00,-999.000,9,-999.000,-999.0000,9,-999.000,9, -999.00,5,  -105.6,2,     2.4,-999.000,9,-999.000,   43.26,2,   44.92,2,  472.60,   0.1860,2,   0.1330,2,   0.0700,2,   0.0490,2,   0.0150,2,   0.0165,2,     -999.0,     -999.0,9,     -999.0,9,     -999.0,9,     -999.0,9,     -999.0,9,     -999.0,9, -999.00,9,   4.1440,-999.0000,-999.000
325020060213,       P16N,      68,          1,         22,         22,2,20060324,       1938,         47,  -152.0002,       5073,   548.7,   3.8609,  34.1077,2,  34.1125,2,     36.3,2,    35.3,2,   93.80,2,   40.80,2,    0.00,2,    2.81,3,   0.981,2,   0.474,2,-999.000,5,  2327.3,2,  2326.2,2,   2352.0,2,    20.00,   7.2943,2,    25.00,-999.000,9,-999.000,-999.0000,9,-999.000,9, -999.00,5,  -131.4,2,     3.0,-999.000,9,-999.000,   42.22,2,   44.62,2,  548.70,   0.1900,2,   0.1360,2,   0.0730,2,   0.0510,2,   0.0147,2,   0.0162,2,     -999.0,     -999.0,9,     -999.0,9,     -999.0,9,     -999.0,9,     -999.0,9,     -999.0,9, -999.00,9,   3.8222,-999.0000,-999.000
325020060213,       P16N,      68,          1,         21,         21,2,20060324,       1938,         47,  -152.0002,       5073,   648.0,   3.6044,  34.1749,2,  34.1762,2,     26.1,2,    25.9,2,  115.50,2,   43.30,2,    0.00,2,    3.01,3,   0.631,6,   0.312,6,-999.000,5,  2343.1,2,  2343.5,2,   2411.3,2,    20.00,   7.2827,2,    25.00,-999.000,9,-999.000,-999.0000,9,-999.000,9, -999.00,5,  -145.9,2,     3.5,-999.000,9,-999.000,   41.37,2,   47.65,2,  648.00,   0.1890,2,   0.1360,2,   0.0740,2,   0.0530,2,   0.0143,2,   0.0157,2,     -999.0,     -999.0,9,     -999.0,9,     -999.0,9,     -999.0,9,     -999.0,9,     -999.0,9, -999.00,9,   3.5594,-999.0000,-999.000
325020060213,       P16N,      68,          1,         20,         20,2,20060324,       1938,         47,  -152.0002,       5073,   749.1,   3.4523,  34.2472,2,  34.2479,2,     25.5,2,    25.1,2,  123.00,2,   43.50,2,    0.00,2,    3.02,3,   0.365,2,   0.159,2,-999.000,5,  2351.5,2,  2355.8,2,   -999.0,9,  -999.00,   7.2965,2,    25.00,-999.000,9,-999.000,-999.0000,9,-999.000,9, -999.00,5,  -161.9,2,     2.8,-999.000,9,-999.000,   40.54,2,   47.44,2,  749.10,   0.1850,2,   0.1330,2,   0.0720,2,   0.0520,2,   0.0141,2,   0.0156,2,     -999.0,     -999.0,9,     -999.0,9,     -999.0,9,     -999.0,9,     -999.0,9,     -999.0,9, -999.00,9,   3.4006,-999.0000,-999.000
325020060213,       P16N,      68,          1,         19,         19,2,20060324,       1938,         47,  -152.0002,       5073,   849.4,   3.2748,  34.3013,2,  34.3044,2,     22.6,2,    22.3,2,  130.10,2,   43.60,2,    0.00,2,    3.05,3,   0.184,2,   0.089,2,-999.000,5,  2362.8,2,  2361.8,2,   -999.0,9,  -999.00,   7.2998,2,    25.00,-999.000,9,-999.000,-999.0000,9,-999.000,9, -999.00,5,  -180.5,2,     2.9,-999.000,9,-999.000,   39.66,2,   48.05,2,  849.40,   0.1820,2,   0.1310,2,   0.0720,2,   0.0520,2,   0.0139,2,   0.0154,2,     -999.0,     -999.0,9,     -999.0,9,     -999.0,9,     -999.0,9,     -999.0,9,     -999.0,9, -999.00,9,   3.2166,-999.0000,-999.000
325020060213,       P16N,      68,          1,         18,         18,2,20060324,       1938,         47,  -152.0002,       5073,   948.6,   3.1090,  34.3418,2,  34.3452,2,     19.8,2,    19.6,2,  135.90,2,   44.00,2,    0.00,2,    3.08,3,   0.109,2,   0.047,2,-999.000,5,  2369.2,6,  2372.5,6,   -999.0,9,  -999.00,   7.3024,2,    25.00,-999.000,9,-999.000,-999.0000,9,-999.000,9, -999.00,9,  -999.0,9,    -9.0,-999.000,9,-999.000,   38.76,2,   47.85,2,  948.60,   0.1770,2,   0.1260,2,   0.0690,2,   0.0490,2,   0.0140,2,   0.0156,3,     -999.0,     -999.0,9,     -999.0,9,     -999.0,9,     -999.0,9,     -999.0,9,     -999.0,9, -999.00,9,   3.0444,-999.0000,-999.000
325020060213,       P16N,      68,          1,         17,         17,2,20060324,       1938,         47,  -152.0002,       5073,  1100.1,   2.8504,  34.3976,2,  34.4000,2,     15.0,2,    14.7,2,  145.40,2,   44.60,2,    0.00,2,    3.14,3,   0.026,2,   0.018,2,-999.000,5,  2383.1,2,  2382.1,2,   -999.0,9,  -999.00,   7.2985,2,    25.00,-999.000,9,-999.000,-999.0000,9,-999.000,9, -999.00,5,  -999.0,5,    -9.0,-999.000,9,-999.000,   37.88,2,   48.60,2, 1100.10,   0.1790,2,   0.1280,2,   0.0710,2,   0.0510,2,   0.0136,2,   0.0152,3,     -999.0,     -999.0,9,     -999.0,9,     -999.0,9,     -999.0,9,     -999.0,9,     -999.0,9, -999.00,9,   2.7763,-999.0000,-999.000
325020060213,       P16N,      68,          1,         16,         16,2,20060324,       1938,         47,  -152.0002,       5073,  1300.7,   2.6014,  34.4497,2,  34.4489,2,     14.0,2,    13.9,2,  154.90,6,   44.50,6,    0.00,6,    3.11,3,   0.004,2,   0.006,2,-999.000,5,  2392.2,2,  2397.7,2,   -999.0,9,  -999.00,   7.3010,2,    25.00,-999.000,9,-999.000,-999.0000,9,-999.000,9, -999.00,5,  -216.0,2,     2.4,-999.000,9,-999.000,   36.57,2,   48.26,2, 1300.70,   0.1810,2,   0.1300,2,   0.0720,2,   0.0520,2,   0.0135,2,   0.0151,3,     -999.0,     -999.0,9,     -999.0,9,     -999.0,9,     -999.0,9,     -999.0,9,     -999.0,9, -999.00,9,   2.5142,-999.0000,-999.000
325020060213,       P16N,      68,          1,         15,         15,2,20060324,       1938,         47,  -152.0002,       5073,  1498.0,   2.3825,  34.4953,2,  34.4964,2,     19.2,2,    18.7,2,  161.80,2,   44.70,2,    0.00,2,    3.13,3,-999.000,9,-999.000,9,-999.000,9,  2395.3,2,  2405.4,2,   -999.0,9,  -999.00,   7.3141,2,    25.00,-999.000,9,-999.000,-999.0000,9,-999.000,9, -999.00,5,  -226.5,2,     2.6,-999.000,9,-999.000,   36.28,2,   48.91,2, 1498.00,   0.1750,2,   0.1250,2,   0.0690,2,   0.0510,2,   0.0133,3,   0.0150,3,     -999.0,     -999.0,9,     -999.0,9,     -999.0,9,     -999.0,9,     -999.0,9,     -999.0,9, -999.00,9,   2.2821,-999.0000,-999.000
325020060213,       P16N,      68,          1,         14,         14,2,20060324,       1938,         47,  -152.0002,       5073,  1700.9,   2.1904,  34.5378,2,  34.5404,2,     27.4,2,    26.9,2,  166.70,2,   44.30,2,    0.00,2,    3.11,3,  -0.005,2,   0.003,2,-999.000,5,  2396.6,2,  2414.7,2,   2197.5,2,    20.00,   7.3355,2,    25.00,-999.000,9,-999.000,-999.0000,9,-999.000,9, -999.00,5,  -235.0,2,     2.1,-999.000,9,-999.000,   36.40,2,   47.93,2, 1700.90,   0.1720,2,   0.1220,2,   0.0670,2,   0.0490,2,   0.0133,3,   0.0152,3,     -999.0,     -999.0,9,     -999.0,9,     -999.0,9,     -999.0,9,     -999.0,9,     -999.0,9, -999.00,9,   2.0761,-999.0000,-999.000
325020060213,       P16N,      68,          1,         13,         13,2,20060324,       1938,         47,  -152.0002,       5073,  1899.3,   2.0394,  34.5701,2,  34.5698,2,     40.1,2,    39.2,2,  170.20,2,   43.60,2,    0.00,2,    3.06,3,-999.000,9,-999.000,9,-999.000,9,  2393.3,2,  2416.4,2,   2041.8,2,    20.00,   7.3602,2,    25.00,-999.000,9,-999.000,-999.0000,9,-999.000,9, -999.00,5,  -240.3,2,     2.2,-999.000,9,-999.000,   36.63,2,   47.56,2, 1899.30,   0.1660,2,   0.1170,2,   0.0650,2,   0.0480,2,   0.0132,3,   0.0152,3,     -999.0,     -999.0,9,     -999.0,9,     -999.0,9,     -999.0,9,     -999.0,9,     -999.0,9, -999.00,9,   1.9109,-999.0000,-999.000
325020060213,       P16N,      68,          1,         12,         12,2,20060324,       1938,         47,  -152.0002,       5073,  2122.9,   1.9052,  34.5979,2,  34.5987,2,     54.7,2,    53.6,2,  172.00,2,   42.50,2,    0.00,2,    2.99,3,  -0.005,2,   0.002,2,-999.000,5,  2387.2,2,  2418.4,2,   1892.3,2,    20.00,   7.3891,2,    25.00,-999.000,9,-999.000,-999.0000,9,-999.000,9, -999.00,5,  -240.9,2,     2.5,-999.000,9,-999.000,   35.91,2,   45.68,2, 2122.90,   0.1580,2,   0.1110,2,   0.0600,2,   0.0430,2,   0.0136,3,   0.0158,3,     -999.0,     -999.0,9,     -999.0,9,     -999.0,9,     -999.0,9,     -999.0,9,     -999.0,9, -999.00,9,   1.7600,-999.0000,-999.000
325020060213,       P16N,      68,          1,         11,         11,2,20060324,       1938,         47,  -152.0002,       5073,  2374.0,   1.7929,  34.6198,2,  34.6197,2,     69.7,2,    69.1,2,  173.00,2,   41.50,2,    0.00,2,    2.93,3,-999.000,9,-999.000,9,-999.000,9,  2380.8,2,  2421.9,2,   1764.6,6,    20.00,   7.4211,2,    25.00,-999.000,9,-999.000,-999.0000,9,-999.000,9, -999.00,5,  -242.8,2,     3.1,-999.000,9,-999.000,   36.30,2,   44.86,2, 2374.00,   0.1500,2,   0.1040,2,   0.0560,2,   0.0410,2,   0.0138,3,   0.0162,3,     -999.0,     -999.0,9,     -999.0,9,     -999.0,9,     -999.0,9,     -999.0,9,     -999.0,9, -999.00,9,   1.6278,-999.0000,-999.000
325020060213,       P16N,      68,          1,         10,         10,2,20060324,       1938,         47,  -152.0002,       5073,  2623.2,   1.6981,  34.6372,2,  34.6376,2,     85.2,2,    84.1,2,  171.60,2,   40.30,2,    0.00,2,    2.86,3,   0.019,3,   0.004,2,-999.000,5,  2371.5,2,  2427.0,2,   1634.8,2,    20.00,   7.4512,2,    25.00,-999.000,9,-999.000,-999.0000,9,-999.000,9, -999.00,5,  -238.9,2,     2.3,-999.000,9,-999.000,   36.28,2,   43.62,2, 2623.20,   0.1450,2,   0.1000,2,   0.0530,2,   0.0390,2,   0.0140,3,   0.0165,3,     -999.0,     -999.0,9,     -999.0,9,     -999.0,9,     -999.0,9,     -999.0,9,     -999.0,9, -999.00,9,   1.5124,-999.0000,-999.000