BOTTLE,20170720CCHSIOCBG
EXPOCODE,SECT_ID,STNNBR,CASTNO,SAMPNO,BTLNBR,BTLNBR_FLAG_W,DATE,TIME,LATITUDE,LONGITUDE,DEPTH,CTDPRS,CTDTMP,CTDSAL,CTDSAL_FLAG_W,SALNTY,SALNTY_FLAG_W,CTDOXY,CTDOXY_FLAG_W,OXYGEN,OXYGEN_FLAG_W,SILCAT,SILCAT_FLAG_W,NITRAT,NITRAT_FLAG_W,NITRIT,NITRIT_FLAG_W,PHSPHT,PHSPHT_FLAG_W,CFC-11,CFC-11_FLAG_W,CFC-12,CFC-12_FLAG_W,CFC113,CFC113_FLAG_W,TCARBN,TCARBN_FLAG_W,ALKALI,ALKALI_FLAG_W,FCO2,FCO2_FLAG_W,FCO2TMP,PH_TOT,PH_TOT_FLAG_W,PH_TMP,TRITUM,TRITUM_FLAG_W,TRITER,HELIUM,HELIUM_FLAG_W,DELHE3,DELHE3_FLAG_W,DELC13,DELC13_FLAG_W,DELC14,DELC14_FLAG_W,C14ERR,NEON,NEON_FLAG_W,NEONER,DOC,DOC_FLAG_W,TDN,TDN_FLAG_W,CTDRAW,CDOM325,CDOM325_FLAG_W,CDOM340,CDOM340_FLAG_W,CDOM380,CDOM380_FLAG_W,CDOM412,CDOM412_FLAG_W,CDOMSL,CDOMSL_FLAG_W,CDOMSN,CDOMSN_FLAG_W,DCNS,ARABI,ARABI_FLAG_W,FUCO,FUCO_FLAG_W,GALA,GALA_FLAG_W,GLUC,GLUC_FLAG_W,MAN,MAN_FLAG_W,RHAM,RHAM_FLAG_W,BRDU,BRDU_FLAG_W,THETA,HELIER,DELHER
,,,,,,,,,,,METERS,DBAR,ITS-90,PSS-78,,PSS-78,,UMOL/KG,,UMOL/KG,,UMOL/KG,,UMOL/KG,,UMOL/KG,,UMOL/KG,,PMOL/KG,,PMOL/KG,,PMOL/KG,,UMOL/KG,,UMOL/KG,,UATM,,DEG C,,,DEG C,TU,,TU,NMOL/KG,,PERCNT,,/MILLE,,/MILLE,,/MILLE,NMOL/KG,,NMOL/KG,UMOL/KG,,UMOL/KG,,DBAR,1/M,,1/M,,1/M,,1/M,,1/NM,,1/NM,,NMOL/KG,NMOL/KG,,NMOL/KG,,NMOL/KG,,NMOL/KG,,NMOL/KG,,NMOL/KG,,PMOL/L/H,,DEG C,NMOL/KG,PERCNT
325020060213,       P16N,      42,          1,         35,         35,2,20060302,       1213,    20.0002,  -152.0003,       5092,     6.1,  23.5220,  34.8765,2,  34.8770,2,    214.3,2,   213.8,2,    0.00,2,    0.00,2,    0.00,2,    0.05,2,   1.869,2,   1.156,2,-999.000,5,  1980.8,2,  2296.3,2,   -999.0,9,  -999.00,   8.0808,2,    25.00,-999.000,9,-999.000,-999.0000,9,-999.000,9, -999.00,9,  -999.0,9,    -9.0,-999.000,9,-999.000,   72.03,2,    3.89,2,    6.10,-999.0000,9,-999.0000,9,-999.0000,9,-999.0000,9,-999.0000,9,-999.0000,9,     -999.0,     -999.0,9,     -999.0,9,     -999.0,9,     -999.0,9,     -999.0,9,     -999.0,9, -999.00,9,  23.5207,-999.0000,-999.000
325020060213,       P16N,      42,          1,         34,         34,2,20060302,       1213,    20.0002,  -152.0003,       5092,    15.2,  23.5174,  34.8768,2,  34.8782,2,    211.9,2,   213.9,2,    0.10,2,    0.00,2,    0.00,2,    0.06,2,-999.000,9,-999.000,9,-999.000,9,  1983.3,2,  2294.8,2,   -999.0,9,  -999.00,   8.0805,2,    25.00,-999.000,9,-999.000,-999.0000,9,-999.000,9, -999.00,9,  -999.0,9,    -9.0,-999.000,9,-999.000,   70.71,2,    4.37,2,   15.20,-999.0000,9,-999.0000,9,-999.0000,9,-999.0000,9,-999.0000,9,-999.0000,9,     -999.0,     -999.0,9,     -999.0,9,     -999.0,9,     -999.0,9,     -999.0,9,     -999.0,9, -999.00,9,  23.5142,-999.0000,-999.000
325020060213,       P16N,      42,          1,         33,         33,2,20060302,       1213,    20.0002,  -152.0003,       5092,    35.4,  23.5270,  34.8766,2,  34.8776,2,    212.5,2,   213.7,2,    0.00,2,    0.00,2,    0.00,2,    0.06,2,   1.859,6,   1.162,6,-999.000,5,  1980.9,2,  2294.8,2,   -999.0,9,  -999.00,   8.0752,2,    25.00,-999.000,9,-999.000,-999.0000,9,-999.000,9, -999.00,9,  -999.0,9,    -9.0,-999.000,9,-999.000,   72.53,2,    4.81,2,   35.40,-999.0000,9,-999.0000,9,-999.0000,9,-999.0000,9,-999.0000,9,-999.0000,9,     -999.0,     -999.0,9,     -999.0,9,     -999.0,9,     -999.0,9,     -999.0,9,     -999.0,9, -999.00,9,  23.5197,-999.0000,-999.000
325020060213,       P16N,      42,          1,         32,         32,2,20060302,       1213,    20.0002,  -152.0003,       5092,    58.9,  23.5292,  34.8782,2,  34.8918,2,    213.2,2,   213.5,2,    0.10,2,    0.00,2,    0.00,2,    0.07,2,-999.000,9,-999.000,9,-999.000,9,  1985.6,2,  2295.4,2,   -999.0,9,  -999.00,   8.0751,2,    25.00,-999.000,9,-999.000,-999.0000,9,-999.000,9, -999.00,9,  -999.0,9,    -9.0,-999.000,9,-999.000,   72.60,2,    4.60,2,   58.90,-999.0000,9,-999.0000,9,-999.0000,9,-999.0000,9,-999.0000,9,-999.0000,9,     -999.0,     -999.0,9,     -999.0,9,     -999.0,9,     -999.0,9,     -999.0,9,     -999.0,9, -999.00,9,  23.5169,-999.0000,-999.000
325020060213,       P16N,      42,          1,         31,         31,2,20060302,       1213,    20.0002,  -152.0003,       5092,    85.3,  23.1718,  35.1919,2,  35.1997,2,    212.2,2,   213.8,2,    0.20,2,    0.00,2,    0.00,2,    0.02,2,   1.893,2,   1.176,2,-999.000,5,  2001.6,2,  2313.8,2,   -999.0,9,  -999.00,   8.0595,2,    25.00,-999.000,9,-999.000,-999.0000,9,-999.000,9, -999.00,9,  -999.0,9,    -9.0,-999.000,9,-999.000,   67.89,2,    4.18,2,   85.30,-999.0000,9,-999.0000,9,-999.0000,9,-999.0000,9,-999.0000,9,-999.0000,9,     -999.0,     -999.0,9,     -999.0,9,     -999.0,9,     -999.0,9,     -999.0,9,     -999.0,9, -999.00,9,  23.1543,-999.0000,-999.000
325020060213,       P16N,      42,          1,         30,         30,2,20060302,       1213,    20.0002,  -152.0003,       5092,   109.8,  22.7636,  35.2431,2,  35.2448,2,    213.8,2,   214.2,2,    0.20,2,    0.00,2,    0.00,2,    0.02,2,   1.928,2,   1.188,2,-999.000,5,  2005.2,2,  2316.0,2,   -999.0,9,  -999.00,   8.0638,2,    25.00,-999.000,9,-999.000,-999.0000,9,-999.000,9, -999.00,9,  -999.0,9,    -9.0,-999.000,9,-999.000,   64.50,2,    4.95,2,  109.80,-999.0000,9,-999.0000,9,-999.0000,9,-999.0000,9,-999.0000,9,-999.0000,9,     -999.0,     -999.0,9,     -999.0,9,     -999.0,9,     -999.0,9,     -999.0,9,     -999.0,9, -999.00,9,  22.7413,-999.0000,-999.000
325020060213,       P16N,      42,          1,         29,         29,2,20060302,       1213,    20.0002,  -152.0003,       5092,   135.3,  22.6697,  35.2588,2,  35.2369,2,    211.7,2,   208.9,2,    0.40,2,    0.20,2,    0.00,2,    0.04,2,   1.968,2,   1.203,2,-999.000,5,  2014.8,2,  2316.6,2,   -999.0,9,  -999.00,   8.0440,2,    25.00,-999.000,9,-999.000,-999.0000,9,-999.000,9, -999.00,9,  -999.0,9,    -9.0,-999.000,9,-999.000,   55.63,2,    4.61,2,  135.30,-999.0000,9,-999.0000,9,-999.0000,9,-999.0000,9,-999.0000,9,-999.0000,9,     -999.0,     -999.0,9,     -999.0,9,     -999.0,9,     -999.0,9,     -999.0,9,     -999.0,9, -999.00,9,  22.6423,-999.0000,-999.000
325020060213,       P16N,      42,          1,         28,         28,2,20060302,       1213,    20.0002,  -152.0003,       5092,   174.3,  18.8466,  34.8781,2,  34.8676,2,    193.9,2,   194.0,2,    2.00,2,    2.80,2,    0.00,2,    0.23,2,   2.393,2,   1.414,2,-999.000,5,  2048.4,2,  2292.6,6,   -999.0,9,  -999.00,   7.9266,2,    25.00,-999.000,9,-999.000,-999.0000,9,-999.000,9, -999.00,9,  -999.0,9,    -9.0,-999.000,9,-999.000,   51.00,2,    7.02,2,  174.30,-999.0000,9,-999.0000,9,-999.0000,9,-999.0000,9,-999.0000,9,-999.0000,9,     -999.0,     -999.0,9,     -999.0,9,     -999.0,9,     -999.0,9,     -999.0,9,     -999.0,9, -999.00,9,  18.8157,-999.0000,-999.000
325020060213,       P16N,      42,          1,         27,         27,2,20060302,       1213,    20.0002,  -152.0003,       5092,   224.8,  15.5855,  34.4935,2,  34.5306,2,    203.2,2,   200.9,2,    4.20,2,    5.40,2,    0.00,2,    0.39,2,   2.745,2,   1.577,2,-999.000,5,  2054.2,2,  2272.9,2,   -999.0,9,  -999.00,   7.8931,2,    25.00,-999.000,9,-999.000,-999.0000,9,-999.000,9, -999.00,9,  -999.0,9,    -9.0,-999.000,9,-999.000,   49.56,2,    9.92,2,  224.80,-999.0000,9,-999.0000,9,-999.0000,9,-999.0000,9,-999.0000,9,-999.0000,9,     -999.0,     -999.0,9,     -999.0,9,     -999.0,9,     -999.0,9,     -999.0,9,     -999.0,9, -999.00,9,  15.5507,-999.0000,-999.000
325020060213,       P16N,      42,          1,         26,         26,2,20060302,       1213,    20.0002,  -152.0003,       5092,   276.1,  11.6695,  34.1054,2,  34.1074,2,    187.2,2,   181.9,2,   12.10,2,   13.90,2,    0.00,2,    1.00,2,   3.113,2,   1.684,2,-999.000,5,  2100.9,2,  2250.5,2,   -999.0,9,  -999.00,   7.7540,2,    25.00,-999.000,9,-999.000,-999.0000,9,-999.000,9, -999.00,9,  -999.0,9,    -9.0,-999.000,9,-999.000,   47.11,2,   18.09,2,  276.10,-999.0000,9,-999.0000,9,-999.0000,9,-999.0000,9,-999.0000,9,-999.0000,9,     -999.0,     -999.0,9,     -999.0,9,     -999.0,9,     -999.0,9,     -999.0,9,     -999.0,9, -999.00,9,  11.6344,-999.0000,-999.000
325020060213,       P16N,      42,          1,         25,         25,2,20060302,       1213,    20.0002,  -152.0003,       5092,   325.2,  10.1560,  34.1184,2,  34.1201,2,    174.3,2,   172.7,2,   19.50,2,   18.80,2,    0.00,2,    1.30,2,   3.017,2,   1.586,2,-999.000,5,  2130.8,2,  2256.8,2,   -999.0,9,  -999.00,   7.6889,2,    25.00,-999.000,9,-999.000,-999.0000,9,-999.000,9, -999.00,9,  -999.0,9,    -9.0,-999.000,9,-999.000,   45.06,2,   22.74,2,  325.20,-999.0000,9,-999.0000,9,-999.0000,9,-999.0000,9,-999.0000,9,-999.0000,9,     -999.0,     -999.0,9,     -999.0,9,     -999.0,9,     -999.0,9,     -999.0,9,     -999.0,9, -999.00,9,  10.1180,-999.0000,-999.000
325020060213,       P16N,      42,          1,         24,         24,2,20060302,       1213,    20.0002,  -152.0003,       5092,   375.9,   8.6534,  34.1093,2,  34.1162,2,    134.4,2,   132.8,2,   32.10,2,   25.60,2,    0.00,2,    1.78,2,   2.371,6,   1.183,6,-999.000,5,  2180.5,2,  2266.5,2,   -999.0,9,  -999.00,   7.5744,2,    25.00,-999.000,9,-999.000,-999.0000,9,-999.000,9, -999.00,9,  -999.0,9,    -9.0,-999.000,9,-999.000,   45.20,2,   29.56,2,  375.90,-999.0000,9,-999.0000,9,-999.0000,9,-999.0000,9,-999.0000,9,-999.0000,9,     -999.0,     -999.0,9,     -999.0,9,     -999.0,9,     -999.0,9,     -999.0,9,     -999.0,9, -999.00,9,   8.6136,-999.0000,-999.000
325020060213,       P16N,      42,          1,         23,         23,2,20060302,       1213,    20.0002,  -152.0003,       5092,   425.1,   7.6116,  34.1204,2,  34.1227,2,     96.3,2,    93.4,2,   43.60,2,   30.60,2,    0.00,2,    2.17,2,   1.582,2,   0.763,2,-999.000,5,  -999.0,5,  2273.1,2,   -999.0,9,  -999.00,   7.4821,2,    25.00,-999.000,9,-999.000,-999.0000,9,-999.000,9, -999.00,9,  -999.0,9,    -9.0,-999.000,9,-999.000,   44.96,2,   34.31,2,  425.10,-999.0000,9,-999.0000,9,-999.0000,9,-999.0000,9,-999.0000,9,-999.0000,9,     -999.0,     -999.0,9,     -999.0,9,     -999.0,9,     -999.0,9,     -999.0,9,     -999.0,9, -999.00,9,   7.5698,-999.0000,-999.000
325020060213,       P16N,      42,          1,         22,         22,2,20060302,       1213,    20.0002,  -152.0003,       5092,   474.2,   6.8579,  34.1686,2,  34.1721,2,     62.4,2,    60.0,2,   56.30,2,   34.90,2,    0.00,2,    2.52,2,   0.754,2,   0.368,2,-999.000,5,  2260.4,6,  2297.7,2,   -999.0,9,  -999.00,   7.4074,2,    25.00,-999.000,9,-999.000,-999.0000,9,-999.000,9, -999.00,9,  -999.0,9,    -9.0,-999.000,9,-999.000,   42.16,2,   39.14,2,  474.20,-999.0000,9,-999.0000,9,-999.0000,9,-999.0000,9,-999.0000,9,-999.0000,9,     -999.0,     -999.0,9,     -999.0,9,     -999.0,9,     -999.0,9,     -999.0,9,     -999.0,9, -999.00,9,   6.8137,-999.0000,-999.000
325020060213,       P16N,      42,          1,         21,         21,2,20060302,       1213,    20.0002,  -152.0003,       5092,   550.9,   6.2073,  34.2882,2,  34.2915,2,     32.7,2,    33.9,2,   68.30,2,   38.60,2,    0.00,2,    2.79,2,   0.196,2,   0.104,2,-999.000,5,  2292.7,2,  2318.0,2,   -999.0,9,  -999.00,   7.3627,2,    25.00,-999.000,9,-999.000,-999.0000,9,-999.000,9, -999.00,9,  -999.0,9,    -9.0,-999.000,9,-999.000,   41.02,2,   42.66,2,  550.90,-999.0000,9,-999.0000,9,-999.0000,9,-999.0000,9,-999.0000,9,-999.0000,9,     -999.0,     -999.0,9,     -999.0,9,     -999.0,9,     -999.0,9,     -999.0,9,     -999.0,9, -999.00,9,   6.1582,-999.0000,-999.000
325020060213,       P16N,      42,          1,         20,         20,2,20060302,       1213,    20.0002,  -152.0003,       5092,   649.7,   5.5701,  34.3914,2,  34.4004,2,     28.8,2,    27.1,2,   79.30,2,   40.70,2,    0.00,2,    2.93,2,   0.053,2,   0.024,2,-999.000,5,  2311.7,2,  2329.3,2,   -999.0,9,  -999.00,   7.3451,2,    25.00,-999.000,9,-999.000,-999.0000,9,-999.000,9, -999.00,9,  -999.0,9,    -9.0,-999.000,9,-999.000,   41.47,2,   44.63,2,  649.70,-999.0000,9,-999.0000,9,-999.0000,9,-999.0000,9,-999.0000,9,-999.0000,9,     -999.0,     -999.0,9,     -999.0,9,     -999.0,9,     -999.0,9,     -999.0,9,     -999.0,9, -999.00,9,   5.5149,-999.0000,-999.000
325020060213,       P16N,      42,          1,         19,         19,2,20060302,       1213,    20.0002,  -152.0003,       5092,   750.4,   5.1655,  34.4478,2,  34.4495,2,     29.0,2,    28.2,2,   86.30,2,   41.70,2,    0.00,2,    2.98,2,   0.015,2,   0.008,2,-999.000,5,  2320.8,2,  2342.0,2,   -999.0,9,  -999.00,   7.3569,2,    25.00,-999.000,9,-999.000,-999.0000,9,-999.000,9, -999.00,9,  -999.0,9,    -9.0,-999.000,9,-999.000,   40.56,2,   45.69,2,  750.40,-999.0000,9,-999.0000,9,-999.0000,9,-999.0000,9,-999.0000,9,-999.0000,9,     -999.0,     -999.0,9,     -999.0,9,     -999.0,9,     -999.0,9,     -999.0,9,     -999.0,9, -999.00,9,   5.1035,-999.0000,-999.000
325020060213,       P16N,      42,          1,         18,         18,2,20060302,       1213,    20.0002,  -152.0003,       5092,   850.2,   4.7475,  34.4736,2,  34.4741,2,     33.3,2,    33.4,2,   93.80,2,   42.20,2,    0.00,2,    3.01,2,   0.006,2,   0.003,2,-999.000,5,  2330.2,2,  2351.4,2,   -999.0,9,  -999.00,   7.3734,2,    25.00,-999.000,9,-999.000,-999.0000,9,-999.000,9, -999.00,9,  -999.0,9,    -9.0,-999.000,9,-999.000,   39.85,2,   46.66,2,  850.20,-999.0000,9,-999.0000,9,-999.0000,9,-999.0000,9,-999.0000,9,-999.0000,9,     -999.0,     -999.0,9,     -999.0,9,     -999.0,9,     -999.0,9,     -999.0,9,     -999.0,9, -999.00,9,   4.6793,-999.0000,-999.000
325020060213,       P16N,      42,          1,         17,         17,2,20060302,       1213,    20.0002,  -152.0003,       5092,   951.2,   4.4310,  34.4966,2,  34.5010,2,     41.4,2,    42.5,2,   99.70,2,   42.00,2,    0.00,2,    2.98,2,   0.005,2,   0.001,2,-999.000,5,  2335.2,2,  -999.0,5,   -999.0,9,  -999.00,   7.3917,2,    25.00,-999.000,9,-999.000,-999.0000,9,-999.000,9, -999.00,9,  -999.0,9,    -9.0,-999.000,9,-999.000,   39.20,2,   46.34,2,  951.20,-999.0000,9,-999.0000,9,-999.0000,9,-999.0000,9,-999.0000,9,-999.0000,9,     -999.0,     -999.0,9,     -999.0,9,     -999.0,9,     -999.0,9,     -999.0,9,     -999.0,9, -999.00,9,   4.3562,-999.0000,-999.000
325020060213,       P16N,      42,          1,         16,         16,2,20060302,       1213,    20.0002,  -152.0003,       5092,  1100.0,   4.0043,  34.5223,2,  34.5228,2,     43.4,2,    44.9,2,  109.00,2,   42.50,2,    0.00,2,    3.02,2,-999.000,9,-999.000,9,-999.000,9,  2344.4,2,  2376.7,2,   -999.0,9,  -999.00,   7.3835,2,    25.00,-999.000,9,-999.000,-999.0000,9,-999.000,9, -999.00,9,  -999.0,9,    -9.0,-999.000,9,-999.000,   38.37,2,   46.62,2, 1100.00,-999.0000,9,-999.0000,9,-999.0000,9,-999.0000,9,-999.0000,9,-999.0000,9,     -999.0,     -999.0,9,     -999.0,9,     -999.0,9,     -999.0,9,     -999.0,9,     -999.0,9, -999.00,9,   3.9202,-999.0000,-999.000
325020060213,       P16N,      42,          1,         15,         15,2,20060302,       1213,    20.0002,  -152.0003,       5092,  1299.2,   3.4651,  34.5531,2,  34.5547,2,     50.4,2,    51.6,2,  120.90,2,   42.40,2,    0.00,2,    3.02,2,-999.000,9,-999.000,9,-999.000,9,  2354.0,2,  2391.7,2,   -999.0,9,  -999.00,   7.3994,2,    25.00,-999.000,9,-999.000,-999.0000,9,-999.000,9, -999.00,9,  -999.0,9,    -9.0,-999.000,9,-999.000,   37.52,2,   46.18,2, 1299.20,-999.0000,9,-999.0000,9,-999.0000,9,-999.0000,9,-999.0000,9,-999.0000,9,     -999.0,     -999.0,9,     -999.0,9,     -999.0,9,     -999.0,9,     -999.0,9,     -999.0,9, -999.00,9,   3.3691,-999.0000,-999.000
325020060213,       P16N,      42,          1,         14,         14,2,20060302,       1213,    20.0002,  -152.0003,       5092,  1500.9,   2.9753,  34.5788,2,  34.5812,2,     60.3,2,    62.5,2,  132.30,2,   41.80,2,    0.00,2,    2.97,2,  -0.001,2,   0.000,2,-999.000,5,  2359.6,2,  2399.6,2,   -999.0,9,  -999.00,   7.4223,2,    25.00,-999.000,9,-999.000,-999.0000,9,-999.000,9, -999.00,9,  -999.0,9,    -9.0,-999.000,9,-999.000,   37.85,2,   45.95,2, 1500.90,-999.0000,9,-999.0000,9,-999.0000,9,-999.0000,9,-999.0000,9,-999.0000,9,     -999.0,     -999.0,9,     -999.0,9,     -999.0,9,     -999.0,9,     -999.0,9,     -999.0,9, -999.00,9,   2.8677,-999.0000,-999.000
325020060213,       P16N,      42,          1,         13,         13,2,20060302,       1213,    20.0002,  -152.0003,       5092,  1700.5,   2.6149,  34.5974,2,  34.5988,2,     72.3,2,    71.6,2,  140.30,2,   41.10,2,    0.00,2,    2.92,2,-999.000,9,-999.000,9,-999.000,9,  2360.3,2,  2407.7,2,   -999.0,9,  -999.00,   7.4406,2,    25.00,-999.000,9,-999.000,-999.0000,9,-999.000,9, -999.00,9,  -999.0,9,    -9.0,-999.000,9,-999.000,   37.46,2,   44.86,2, 1700.50,-999.0000,9,-999.0000,9,-999.0000,9,-999.0000,9,-999.0000,9,-999.0000,9,     -999.0,     -999.0,9,     -999.0,9,     -999.0,9,     -999.0,9,     -999.0,9,     -999.0,9, -999.00,9,   2.4950,-999.0000,-999.000
325020060213,       P16N,      42,          1,         12,         12,2,20060302,       1213,    20.0002,  -152.0003,       5092,  1900.3,   2.2961,  34.6169,2,  34.6126,3,     83.5,2,    86.3,2,  147.00,2,   40.50,2,    0.00,2,    2.86,2,-999.000,9,-999.000,9,-999.000,9,  2359.9,2,  2414.8,2,   -999.0,9,  -999.00,   7.4500,2,    25.00,-999.000,9,-999.000,-999.0000,9,-999.000,9, -999.00,9,  -999.0,9,    -9.0,-999.000,9,-999.000,   36.32,2,   44.56,2, 1900.30,-999.0000,9,-999.0000,9,-999.0000,9,-999.0000,9,-999.0000,9,-999.0000,9,     -999.0,     -999.0,9,     -999.0,9,     -999.0,9,     -999.0,9,     -999.0,9,     -999.0,9, -999.00,9,   2.1637,-999.0000,-999.000
325020060213,       P16N,      42,          1,         11,         11,2,20060302,       1213,    20.0002,  -152.0003,       5092,  2123.4,   2.0548,  34.6336,2,  34.6346,2,     94.4,2,    94.1,2,  151.50,2,   39.90,2,    0.00,2,    2.80,2,   0.000,2,   0.000,2,-999.000,5,  2357.0,2,  2423.9,2,   -999.0,9,  -999.00,   7.4818,2,    25.00,-999.000,9,-999.000,-999.0000,9,-999.000,9, -999.00,9,  -999.0,9,    -9.0,-999.000,9,-999.000,   37.41,2,   43.29,2, 2123.40,-999.0000,9,-999.0000,9,-999.0000,9,-999.0000,9,-999.0000,9,-999.0000,9,     -999.0,     -999.0,9,     -999.0,9,     -999.0,9,     -999.0,9,     -999.0,9,     -999.0,9, -999.00,9,   1.9070,-999.0000,-999.000
325020060213,       P16N,      42,          1,         10,         10,2,20060302,       1213,    20.0002,  -152.0003,       5092,  2375.8,   1.8891,  34.6471,2,  34.6466,2,    104.1,2,   104.6,2,  154.10,2,   39.20,2,    0.00,2,    2.75,2,-999.000,9,-999.000,9,-999.000,9,  2354.1,2,  2428.7,2,   -999.0,9,  -999.00,   7.4972,2,    25.00,-999.000,9,-999.000,-999.0000,9,-999.000,9, -999.00,9,  -999.0,9,    -9.0,-999.000,9,-999.000,   36.51,2,   43.01,2, 2375.80,-999.0000,9,-999.0000,9,-999.0000,9,-999.0000,9,-999.0000,9,-999.0000,9,     -999.0,     -999.0,9,     -999.0,9,     -999.0,9,     -999.0,9,     -999.0,9,     -999.0,9, -999.00,9,   1.7220,-999.0000,-999.000
325020060213,       P16N,      42,          1,          9,          9,2,20060302,       1213,    20.0002,  -152.0003,       5092,  2623.6,   1.7542,  34.6582,2,  34.6588,2,    111.9,2,   112.2,2,  156.30,2,   38.80,2,    0.00,2,    2.70,2,-999.000,9,-999.000,9,-999.000,9,  2352.5,2,  2431.1,2,   -999.0,9,  -999.00,   7.5085,2,    25.00,-999.000,9,-999.000,-999.0000,9,-999.000,9, -999.00,9,  -999.0,9,    -9.0,-999.000,9,-999.000,   37.33,2,   42.32,2, 2623.60,-999.0000,9,-999.0000,9,-999.0000,9,-999.0000,9,-999.0000,9,-999.0000,9,     -999.0,     -999.0,9,     -999.0,9,     -999.0,9,     -999.0,9,     -999.0,9,     -999.0,9, -999.00,9,   1.5673,-999.0000,-999.000