BOTTLE,20170720CCHSIOCBG
EXPOCODE,SECT_ID,STNNBR,CASTNO,SAMPNO,BTLNBR,BTLNBR_FLAG_W,DATE,TIME,LATITUDE,LONGITUDE,DEPTH,CTDPRS,CTDTMP,CTDSAL,CTDSAL_FLAG_W,SALNTY,SALNTY_FLAG_W,CTDOXY,CTDOXY_FLAG_W,OXYGEN,OXYGEN_FLAG_W,SILCAT,SILCAT_FLAG_W,NITRAT,NITRAT_FLAG_W,NITRIT,NITRIT_FLAG_W,PHSPHT,PHSPHT_FLAG_W,CFC-11,CFC-11_FLAG_W,CFC-12,CFC-12_FLAG_W,CFC113,CFC113_FLAG_W,TCARBN,TCARBN_FLAG_W,ALKALI,ALKALI_FLAG_W,FCO2,FCO2_FLAG_W,FCO2TMP,PH_TOT,PH_TOT_FLAG_W,PH_TMP,TRITUM,TRITUM_FLAG_W,TRITER,HELIUM,HELIUM_FLAG_W,DELHE3,DELHE3_FLAG_W,DELC13,DELC13_FLAG_W,DELC14,DELC14_FLAG_W,C14ERR,NEON,NEON_FLAG_W,NEONER,DOC,DOC_FLAG_W,TDN,TDN_FLAG_W,CTDRAW,CDOM325,CDOM325_FLAG_W,CDOM340,CDOM340_FLAG_W,CDOM380,CDOM380_FLAG_W,CDOM412,CDOM412_FLAG_W,CDOMSL,CDOMSL_FLAG_W,CDOMSN,CDOMSN_FLAG_W,DCNS,ARABI,ARABI_FLAG_W,FUCO,FUCO_FLAG_W,GALA,GALA_FLAG_W,GLUC,GLUC_FLAG_W,MAN,MAN_FLAG_W,RHAM,RHAM_FLAG_W,BRDU,BRDU_FLAG_W,THETA,HELIER,DELHER
,,,,,,,,,,,METERS,DBAR,ITS-90,PSS-78,,PSS-78,,UMOL/KG,,UMOL/KG,,UMOL/KG,,UMOL/KG,,UMOL/KG,,UMOL/KG,,PMOL/KG,,PMOL/KG,,PMOL/KG,,UMOL/KG,,UMOL/KG,,UATM,,DEG C,,,DEG C,TU,,TU,NMOL/KG,,PERCNT,,/MILLE,,/MILLE,,/MILLE,NMOL/KG,,NMOL/KG,UMOL/KG,,UMOL/KG,,DBAR,1/M,,1/M,,1/M,,1/M,,1/NM,,1/NM,,NMOL/KG,NMOL/KG,,NMOL/KG,,NMOL/KG,,NMOL/KG,,NMOL/KG,,NMOL/KG,,PMOL/L/H,,DEG C,NMOL/KG,PERCNT
325020060213,       P16N,      21,          2,         35,         35,2,20060222,       0030,        0.5,  -151.0012,       3292,     4.3,  25.4681,  35.3220,2,  35.3228,2,    198.9,2,   199.8,2,    2.10,2,    5.80,2,    0.40,2,    0.55,2,-999.000,9,-999.000,9,-999.000,9,  2047.1,6,  2321.7,2,   -999.0,9,  -999.00,   8.0066,2,    25.00,-999.000,9,-999.000,-999.0000,9,-999.000,9, -999.00,9,  -999.0,9,    -9.0,-999.000,9,-999.000,   61.79,2,   10.60,2,    4.30,-999.0000,9,-999.0000,9,-999.0000,9,-999.0000,9,-999.0000,9,-999.0000,9,     -999.0,     -999.0,9,     -999.0,9,     -999.0,9,     -999.0,9,     -999.0,9,     -999.0,9, -999.00,9,  25.4671,-999.0000,-999.000
325020060213,       P16N,      21,          2,         34,         34,2,20060222,       0030,        0.5,  -151.0012,       3292,    51.6,  24.4714,  35.1838,2,-999.0000,9,    186.2,2,   185.8,2,    2.90,2,    6.90,2,    0.50,2,    0.60,2,-999.000,9,-999.000,9,-999.000,9,  -999.0,9,  -999.0,9,   -999.0,9,  -999.00,-999.0000,9,  -999.00,-999.000,9,-999.000,-999.0000,9,-999.000,9, -999.00,9,  -999.0,9,    -9.0,-999.000,9,-999.000,   61.17,2,   11.77,2,   51.60,   0.0650,2,   0.0470,2,   0.0220,2,   0.0180,2,   0.0194,2,   0.0201,2,     -999.0,     -999.0,9,     -999.0,9,     -999.0,9,     -999.0,9,     -999.0,9,     -999.0,9, -999.00,9,  24.4604,-999.0000,-999.000
325020060213,       P16N,      21,          2,         33,         33,2,20060222,       0030,        0.5,  -151.0012,       3292,    51.7,  24.4467,  35.1811,2,  35.1792,2,    185.9,2,   185.5,2,    3.00,2,    6.90,2,    0.50,2,    0.61,2,-999.000,9,-999.000,9,-999.000,9,  2047.7,2,  2310.8,2,   -999.0,9,  -999.00,   7.9763,2,    25.00,-999.000,9,-999.000,-999.0000,9,-999.000,9, -999.00,9,  -999.0,9,    -9.0,-999.000,9,-999.000,   61.04,2,   11.18,2,   51.70,-999.0000,9,-999.0000,9,-999.0000,9,-999.0000,9,-999.0000,9,-999.0000,9,     -999.0,     -999.0,9,     -999.0,9,     -999.0,9,     -999.0,9,     -999.0,9,     -999.0,9, -999.00,9,  24.4357,-999.0000,-999.000
325020060213,       P16N,      21,          2,         32,         32,2,20060222,       0030,        0.5,  -151.0012,       3292,    80.0,  23.3060,  35.0467,2,  35.0514,2,    165.3,2,   170.8,2,    4.00,2,    8.30,2,    0.60,2,    0.68,2,-999.000,9,-999.000,9,-999.000,9,  -999.0,9,  -999.0,9,   -999.0,9,  -999.00,-999.0000,9,  -999.00,-999.000,9,-999.000,-999.0000,9,-999.000,9, -999.00,9,  -999.0,9,    -9.0,-999.000,9,-999.000,   58.22,2,   13.09,2,   80.00,-999.0000,9,-999.0000,9,-999.0000,9,-999.0000,9,-999.0000,9,-999.0000,9,     -999.0,     -999.0,9,     -999.0,9,     -999.0,9,     -999.0,9,     -999.0,9,     -999.0,9, -999.00,9,  23.2896,-999.0000,-999.000
325020060213,       P16N,      21,          2,         31,         31,2,20060222,       0030,        0.5,  -151.0012,       3292,   100.7,  20.3033,  35.1336,2,  35.1512,2,    133.6,2,   133.5,2,    6.40,2,   12.00,2,    0.00,2,    0.84,2,-999.000,9,-999.000,9,-999.000,9,  2093.8,2,  2311.2,2,   -999.0,9,  -999.00,   7.8824,2,    25.00,-999.000,9,-999.000,-999.0000,9,-999.000,9, -999.00,9,  -999.0,9,    -9.0,-999.000,9,-999.000,   56.10,2,   16.21,2,  100.70,-999.0000,9,-999.0000,9,-999.0000,9,-999.0000,9,-999.0000,9,-999.0000,9,     -999.0,     -999.0,9,     -999.0,9,     -999.0,9,     -999.0,9,     -999.0,9,     -999.0,9, -999.00,9,  20.2845,-999.0000,-999.000
325020060213,       P16N,      21,          2,         30,         30,2,20060222,       0030,        0.5,  -151.0012,       3292,   119.3,  17.3331,  35.0521,2,  35.0535,2,    132.8,2,   133.9,2,    9.60,2,   14.30,2,    0.00,2,    0.98,2,-999.000,9,-999.000,9,-999.000,9,  -999.0,9,  -999.0,9,   -999.0,9,  -999.00,-999.0000,9,  -999.00,-999.000,9,-999.000,-999.0000,9,-999.000,9, -999.00,9,  -999.0,9,    -9.0,-999.000,9,-999.000,   54.47,2,   18.29,2,  119.30,   0.0880,2,   0.0650,2,   0.0330,2,   0.0260,2,   0.0179,2,   0.0186,2,     -999.0,     -999.0,9,     -999.0,9,     -999.0,9,     -999.0,9,     -999.0,9,     -999.0,9, -999.00,9,  17.3132,-999.0000,-999.000
325020060213,       P16N,      21,          2,         29,         29,2,20060222,       0030,        0.5,  -151.0012,       3292,   149.1,  14.1773,  35.0063,2,  35.0059,2,    132.9,2,   132.5,2,   12.60,2,   18.10,2,    0.00,2,    1.24,2,-999.000,9,-999.000,9,-999.000,9,  2143.8,2,  2312.1,2,   -999.0,9,  -999.00,   7.7742,2,    25.00,-999.000,9,-999.000,-999.0000,9,-999.000,9, -999.00,9,  -999.0,9,    -9.0,-999.000,9,-999.000,   52.63,2,   21.97,2,  149.10,-999.0000,9,-999.0000,9,-999.0000,9,-999.0000,9,-999.0000,9,-999.0000,9,     -999.0,     -999.0,9,     -999.0,9,     -999.0,9,     -999.0,9,     -999.0,9,     -999.0,9, -999.00,9,  14.1556,-999.0000,-999.000
325020060213,       P16N,      21,          2,         28,         28,2,20060222,       0030,        0.5,  -151.0012,       3292,   174.9,  13.0088,  34.9414,2,  34.9406,2,    125.2,2,   125.0,2,   14.90,2,   20.70,2,    0.00,2,    1.40,2,-999.000,9,-999.000,9,-999.000,9,  -999.0,9,  -999.0,9,   -999.0,9,  -999.00,-999.0000,9,  -999.00,-999.000,9,-999.000,-999.0000,9,-999.000,9, -999.00,9,  -999.0,9,    -9.0,-999.000,9,-999.000,   51.51,2,   25.28,2,  174.90,-999.0000,9,-999.0000,9,-999.0000,9,-999.0000,9,-999.0000,9,-999.0000,9,     -999.0,     -999.0,9,     -999.0,9,     -999.0,9,     -999.0,9,     -999.0,9,     -999.0,9, -999.00,9,  12.9848,-999.0000,-999.000
325020060213,       P16N,      21,          2,         27,         27,2,20060222,       0030,        0.5,  -151.0012,       3292,   200.8,  12.5479,  34.8993,2,  34.8997,2,    108.4,2,   107.1,2,   17.30,2,   23.20,2,    0.00,2,    1.55,2,-999.000,9,-999.000,9,-999.000,9,  -999.0,9,  2306.8,2,   -999.0,9,  -999.00,   7.6867,2,    25.00,-999.000,9,-999.000,-999.0000,9,-999.000,9, -999.00,9,  -999.0,9,    -9.0,-999.000,9,-999.000,   50.28,2,   27.38,2,  200.80,   0.0990,2,   0.0730,2,   0.0390,2,   0.0310,2,   0.0134,2,   0.0153,2,     -999.0,     -999.0,9,     -999.0,9,     -999.0,9,     -999.0,9,     -999.0,9,     -999.0,9, -999.00,9,  12.5209,-999.0000,-999.000
325020060213,       P16N,      21,          2,         26,         26,2,20060222,       0030,        0.5,  -151.0012,       3292,   225.7,  12.3477,  34.8817,2,  34.8806,2,     97.0,2,    94.3,2,   19.00,2,   24.80,2,    0.00,2,    1.67,2,-999.000,9,-999.000,9,-999.000,9,  -999.0,9,  -999.0,9,   -999.0,9,  -999.00,-999.0000,9,  -999.00,-999.000,9,-999.000,-999.0000,9,-999.000,9, -999.00,9,  -999.0,9,    -9.0,-999.000,9,-999.000,   48.89,2,   28.59,2,  225.70,-999.0000,9,-999.0000,9,-999.0000,9,-999.0000,9,-999.0000,9,-999.0000,9,     -999.0,     -999.0,9,     -999.0,9,     -999.0,9,     -999.0,9,     -999.0,9,     -999.0,9, -999.00,9,  12.3177,-999.0000,-999.000
325020060213,       P16N,      21,          2,         25,         25,2,20060222,       0030,        0.5,  -151.0012,       3292,   250.4,  12.0872,  34.8676,2,  34.8668,2,     80.4,2,    80.5,2,   20.30,2,   26.60,2,    0.00,2,    1.78,2,-999.000,9,-999.000,9,-999.000,9,  2197.2,2,  2305.8,2,   -999.0,9,  -999.00,-999.0000,9,  -999.00,-999.000,9,-999.000,-999.0000,9,-999.000,9, -999.00,9,  -999.0,9,    -9.0,-999.000,9,-999.000,   47.63,2,   30.64,2,  250.40,   0.1140,2,   0.0830,2,   0.0450,2,   0.0360,2,   0.0129,2,   0.0149,2,     -999.0,     -999.0,9,     -999.0,9,     -999.0,9,     -999.0,9,     -999.0,9,     -999.0,9, -999.00,9,  12.0543,-999.0000,-999.000
325020060213,       P16N,      21,          2,         24,         24,2,20060222,       0030,        0.5,  -151.0012,       3292,   301.9,  11.8712,  34.8534,2,  34.8483,2,     72.6,2,    68.4,2,   21.90,2,   28.20,2,    0.00,2,    1.88,2,-999.000,9,-999.000,9,-999.000,9,  2208.1,2,  2306.4,2,   -999.0,9,  -999.00,   7.5852,2,    25.00,-999.000,9,-999.000,-999.0000,9,-999.000,9, -999.00,9,  -999.0,9,    -9.0,-999.000,9,-999.000,   46.06,2,   32.12,2,  301.90,-999.0000,9,-999.0000,9,-999.0000,9,-999.0000,9,-999.0000,9,-999.0000,9,     -999.0,     -999.0,9,     -999.0,9,     -999.0,9,     -999.0,9,     -999.0,9,     -999.0,9, -999.00,9,  11.8319,-999.0000,-999.000
325020060213,       P16N,      21,          2,         23,         23,2,20060222,       0030,        0.5,  -151.0012,       3292,   350.4,  10.4142,  34.7470,2,  34.7480,2,     55.0,2,    54.0,2,   27.60,2,   32.10,2,    0.00,2,    2.13,2,-999.000,9,-999.000,9,-999.000,9,  2230.5,2,  2304.5,2,   -999.0,9,  -999.00,   7.5184,2,    25.00,-999.000,9,-999.000,-999.0000,9,-999.000,9, -999.00,9,  -999.0,9,    -9.0,-999.000,9,-999.000,   45.24,2,   35.83,2,  350.40,   0.1240,2,   0.0910,2,   0.0510,2,   0.0400,2,   0.0124,2,   0.0142,2,     -999.0,     -999.0,9,     -999.0,9,     -999.0,9,     -999.0,9,     -999.0,9,     -999.0,9, -999.00,9,  10.3723,-999.0000,-999.000
325020060213,       P16N,      21,          2,         22,         22,2,20060222,       0030,        0.5,  -151.0012,       3292,   399.7,   9.2335,  34.6741,2,  34.6730,2,     50.4,2,    50.9,2,   32.90,2,   34.50,2,    0.00,2,    2.31,2,-999.000,9,-999.000,9,-999.000,9,  -999.0,9,  -999.0,5,   -999.0,9,  -999.00,-999.0000,9,  -999.00,-999.000,9,-999.000,-999.0000,9,-999.000,9, -999.00,9,  -999.0,9,    -9.0,-999.000,9,-999.000,   43.93,2,   38.50,2,  399.70,   0.1270,2,   0.0930,2,   0.0520,2,   0.0400,2,   0.0127,2,   0.0146,2,     -999.0,     -999.0,9,     -999.0,9,     -999.0,9,     -999.0,9,     -999.0,9,     -999.0,9, -999.00,9,   9.1891,-999.0000,-999.000
325020060213,       P16N,      21,          2,         21,         21,2,20060222,       0030,        0.5,  -151.0012,       3292,   448.2,   8.6995,  34.6516,2,  34.6494,2,     67.6,2,    66.8,2,   33.50,2,   34.30,2,    0.00,2,    2.29,2,-999.000,9,-999.000,9,-999.000,9,  -999.0,9,  2307.1,2,   -999.0,9,  -999.00,   7.5073,2,    25.00,-999.000,9,-999.000,-999.0000,9,-999.000,9, -999.00,9,  -999.0,9,    -9.0,-999.000,9,-999.000,   43.20,2,   38.42,2,  448.20,   0.1220,2,   0.0880,2,   0.0480,2,   0.0370,2,   0.0132,2,   0.0153,2,     -999.0,     -999.0,9,     -999.0,9,     -999.0,9,     -999.0,9,     -999.0,9,     -999.0,9, -999.00,9,   8.6513,-999.0000,-999.000
325020060213,       P16N,      21,          2,         20,         20,2,20060222,       0030,        0.5,  -151.0012,       3292,   500.4,   7.8860,  34.6161,2,  34.6146,2,     50.6,2,    50.0,2,   40.60,2,   37.70,2,    0.00,2,    2.54,2,-999.000,9,-999.000,9,-999.000,9,  -999.0,9,  -999.0,5,   -999.0,9,  -999.00,-999.0000,9,  -999.00,-999.000,9,-999.000,-999.0000,9,-999.000,9, -999.00,9,  -999.0,9,    -9.0,-999.000,9,-999.000,   42.71,2,   42.17,2,  500.40,-999.0000,9,-999.0000,9,-999.0000,9,-999.0000,9,-999.0000,9,-999.0000,9,     -999.0,     -999.0,9,     -999.0,9,     -999.0,9,     -999.0,9,     -999.0,9,     -999.0,9, -999.00,9,   7.8351,-999.0000,-999.000
325020060213,       P16N,      21,          2,         19,         19,2,20060222,       0030,        0.5,  -151.0012,       3292,   549.9,   7.5264,  34.6019,2,  34.6018,2,     46.6,2,    47.0,2,   44.10,2,   38.60,2,    0.00,2,    2.62,2,-999.000,9,-999.000,9,-999.000,9,  -999.0,9,  2313.5,2,   -999.0,9,  -999.00,   7.4289,2,    25.00,-999.000,9,-999.000,-999.0000,9,-999.000,9, -999.00,9,  -999.0,9,    -9.0,-999.000,9,-999.000,   41.59,2,   42.86,2,  549.90,   0.1340,2,   0.0960,2,   0.0530,2,   0.0390,2,   0.0135,2,   0.0154,2,     -999.0,     -999.0,9,     -999.0,9,     -999.0,9,     -999.0,9,     -999.0,9,     -999.0,9, -999.00,9,   7.4717,-999.0000,-999.000
325020060213,       P16N,      21,          2,         18,         18,2,20060222,       0030,        0.5,  -151.0012,       3292,   599.6,   6.8643,  34.5777,2,  34.5785,2,     58.5,2,    57.2,2,   49.20,2,   39.10,2,    0.00,2,    2.67,2,-999.000,9,-999.000,9,-999.000,9,  -999.0,9,  -999.0,5,   -999.0,9,  -999.00,-999.0000,9,  -999.00,-999.000,9,-999.000,-999.0000,9,-999.000,9, -999.00,9,  -999.0,9,    -9.0,-999.000,9,-999.000,   40.33,2,   43.07,2,  599.60,   0.1320,2,   0.0910,2,   0.0480,2,   0.0340,2,   0.0152,2,   0.0175,2,     -999.0,     -999.0,9,     -999.0,9,     -999.0,9,     -999.0,9,     -999.0,9,     -999.0,9, -999.00,9,   6.8075,-999.0000,-999.000
325020060213,       P16N,      21,          2,         17,         17,2,20060222,       0030,        0.5,  -151.0012,       3292,   699.9,   5.9827,  34.5522,2,  34.5508,2,     77.4,2,    77.1,2,   56.80,2,   38.50,2,    0.00,2,    2.63,2,-999.000,9,-999.000,9,-999.000,9,  -999.0,9,  2327.9,2,   -999.0,9,  -999.00,   7.4795,2,    25.00,-999.000,9,-999.000,-999.0000,9,-999.000,9, -999.00,9,  -999.0,9,    -9.0,-999.000,9,-999.000,   40.13,2,   42.36,2,  699.90,-999.0000,9,-999.0000,9,-999.0000,9,-999.0000,9,-999.0000,9,-999.0000,9,     -999.0,     -999.0,9,     -999.0,9,     -999.0,9,     -999.0,9,     -999.0,9,     -999.0,9, -999.00,9,   5.9206,-999.0000,-999.000
325020060213,       P16N,      21,          2,         16,         16,2,20060222,       0030,        0.5,  -151.0012,       3292,   799.9,   5.5776,  34.5516,2,  34.5514,2,     73.4,2,    73.3,2,   64.00,2,   39.50,2,    0.00,2,    2.72,2,-999.000,9,-999.000,9,-999.000,9,  -999.0,9,  -999.0,5,   -999.0,9,  -999.00,-999.0000,9,  -999.00,-999.000,9,-999.000,-999.0000,9,-999.000,9, -999.00,9,  -999.0,9,    -9.0,-999.000,9,-999.000,   39.63,2,   44.07,2,  799.90,-999.0000,9,-999.0000,9,-999.0000,9,-999.0000,9,-999.0000,9,-999.0000,9,     -999.0,     -999.0,9,     -999.0,9,     -999.0,9,     -999.0,9,     -999.0,9,     -999.0,9, -999.00,9,   5.5085,-999.0000,-999.000
325020060213,       P16N,      21,          2,         15,         15,2,20060222,       0030,        0.5,  -151.0012,       3292,   899.2,   4.8644,  34.5543,2,  34.5543,2,     78.9,2,    78.5,2,   76.20,2,   39.90,2,    0.00,2,    2.77,2,-999.000,9,-999.000,9,-999.000,9,  -999.0,9,  2349.5,2,   -999.0,9,  -999.00,   7.4690,2,    25.00,-999.000,9,-999.000,-999.0000,9,-999.000,9, -999.00,9,  -999.0,9,    -9.0,-999.000,9,-999.000,   39.24,2,   44.03,2,  899.20,-999.0000,9,-999.0000,9,-999.0000,9,-999.0000,9,-999.0000,9,-999.0000,9,     -999.0,     -999.0,9,     -999.0,9,     -999.0,9,     -999.0,9,     -999.0,9,     -999.0,9, -999.00,9,   4.7910,-999.0000,-999.000
325020060213,       P16N,      21,          2,         14,         14,2,20060222,       0030,        0.5,  -151.0012,       3292,   998.9,   4.4559,  34.5596,2,  34.5594,2,     85.9,2,    86.0,2,   83.90,2,   39.50,2,    0.00,2,    2.75,2,-999.000,9,-999.000,9,-999.000,9,  -999.0,9,  -999.0,5,   -999.0,9,  -999.00,-999.0000,9,  -999.00,-999.000,9,-999.000,-999.0000,9,-999.000,9, -999.00,9,  -999.0,9,    -9.0,-999.000,9,-999.000,   38.72,2,   43.42,2,  998.90,-999.0000,9,-999.0000,9,-999.0000,9,-999.0000,9,-999.0000,9,-999.0000,9,     -999.0,     -999.0,9,     -999.0,9,     -999.0,9,     -999.0,9,     -999.0,9,     -999.0,9, -999.00,9,   4.3768,-999.0000,-999.000
325020060213,       P16N,      21,          2,         13,         13,2,20060222,       0030,        0.5,  -151.0012,       3292,  1099.3,   4.3033,  34.5644,2,  34.5641,2,     83.7,2,    83.6,2,   88.10,2,   39.70,2,    0.00,2,    2.78,2,-999.000,9,-999.000,9,-999.000,9,  -999.0,9,  2363.2,2,   -999.0,9,  -999.00,   7.4696,2,    25.00,-999.000,9,-999.000,-999.0000,9,-999.000,9, -999.00,9,  -999.0,9,    -9.0,-999.000,9,-999.000,   37.84,2,   43.80,2, 1099.30,-999.0000,9,-999.0000,9,-999.0000,9,-999.0000,9,-999.0000,9,-999.0000,9,     -999.0,     -999.0,9,     -999.0,9,     -999.0,9,     -999.0,9,     -999.0,9,     -999.0,9, -999.00,9,   4.2167,-999.0000,-999.000
325020060213,       P16N,      21,          2,         12,         12,2,20060222,       0030,        0.5,  -151.0012,       3292,  1199.1,   3.8566,  34.5780,2,  34.5783,2,     83.1,2,    83.0,2,   98.80,2,   40.20,2,    0.00,2,    2.83,2,-999.000,9,-999.000,9,-999.000,9,  -999.0,9,  -999.0,5,   -999.0,9,  -999.00,-999.0000,9,  -999.00,-999.000,9,-999.000,-999.0000,9,-999.000,9, -999.00,9,  -999.0,9,    -9.0,-999.000,9,-999.000,   36.77,2,   44.14,2, 1199.10,-999.0000,9,-999.0000,9,-999.0000,9,-999.0000,9,-999.0000,9,-999.0000,9,     -999.0,     -999.0,9,     -999.0,9,     -999.0,9,     -999.0,9,     -999.0,9,     -999.0,9, -999.00,9,   3.7653,-999.0000,-999.000
325020060213,       P16N,      21,          2,         11,         11,2,20060222,       0030,        0.5,  -151.0012,       3292,  1400.1,   3.4616,  34.5912,2,  34.5910,2,     87.1,2,    87.3,2,  108.20,2,   39.90,2,    0.00,2,    2.82,2,-999.000,9,-999.000,9,-999.000,9,  -999.0,9,  2384.2,2,   -999.0,9,  -999.00,   7.4794,2,    25.00,-999.000,9,-999.000,-999.0000,9,-999.000,9, -999.00,9,  -999.0,9,    -9.0,-999.000,9,-999.000,   36.38,2,   44.16,2, 1400.10,-999.0000,9,-999.0000,9,-999.0000,9,-999.0000,9,-999.0000,9,-999.0000,9,     -999.0,     -999.0,9,     -999.0,9,     -999.0,9,     -999.0,9,     -999.0,9,     -999.0,9, -999.00,9,   3.3570,-999.0000,-999.000
325020060213,       P16N,      21,          2,         10,         10,2,20060222,       0030,        0.5,  -151.0012,       3292,  1600.1,   3.0060,  34.6098,2,  34.6097,2,     92.1,2,    92.0,2,  119.10,2,   40.00,2,    0.00,2,    2.82,2,-999.000,9,-999.000,9,-999.000,9,  -999.0,9,  -999.0,9,   -999.0,9,  -999.00,-999.0000,9,  -999.00,-999.000,9,-999.000,-999.0000,9,-999.000,9, -999.00,9,  -999.0,9,    -9.0,-999.000,9,-999.000,   37.00,2,   43.76,2, 1600.10,-999.0000,9,-999.0000,9,-999.0000,9,-999.0000,9,-999.0000,9,-999.0000,9,     -999.0,     -999.0,9,     -999.0,9,     -999.0,9,     -999.0,9,     -999.0,9,     -999.0,9, -999.00,9,   2.8896,-999.0000,-999.000
325020060213,       P16N,      21,          2,          9,          9,2,20060222,       0030,        0.5,  -151.0012,       3292,  1799.6,   2.6220,  34.6273,2,  34.6266,2,     99.2,2,    99.8,2,  128.20,2,   39.50,2,    0.00,2,    2.78,2,-999.000,9,-999.000,9,-999.000,9,  -999.0,9,  2407.5,2,   -999.0,9,  -999.00,   7.4889,2,    25.00,-999.000,9,-999.000,-999.0000,9,-999.000,9, -999.00,9,  -999.0,9,    -9.0,-999.000,9,-999.000,   36.41,2,   43.40,2, 1799.60,-999.0000,9,-999.0000,9,-999.0000,9,-999.0000,9,-999.0000,9,-999.0000,9,     -999.0,     -999.0,9,     -999.0,9,     -999.0,9,     -999.0,9,     -999.0,9,     -999.0,9, -999.00,9,   2.4935,-999.0000,-999.000