BOTTLE,20170720CCHSIOCBG
EXPOCODE,SECT_ID,STNNBR,CASTNO,SAMPNO,BTLNBR,BTLNBR_FLAG_W,DATE,TIME,LATITUDE,LONGITUDE,DEPTH,CTDPRS,CTDTMP,CTDSAL,CTDSAL_FLAG_W,SALNTY,SALNTY_FLAG_W,CTDOXY,CTDOXY_FLAG_W,OXYGEN,OXYGEN_FLAG_W,SILCAT,SILCAT_FLAG_W,NITRAT,NITRAT_FLAG_W,NITRIT,NITRIT_FLAG_W,PHSPHT,PHSPHT_FLAG_W,CFC-11,CFC-11_FLAG_W,CFC-12,CFC-12_FLAG_W,CFC113,CFC113_FLAG_W,TCARBN,TCARBN_FLAG_W,ALKALI,ALKALI_FLAG_W,FCO2,FCO2_FLAG_W,FCO2TMP,PH_TOT,PH_TOT_FLAG_W,PH_TMP,TRITUM,TRITUM_FLAG_W,TRITER,HELIUM,HELIUM_FLAG_W,DELHE3,DELHE3_FLAG_W,DELC13,DELC13_FLAG_W,DELC14,DELC14_FLAG_W,C14ERR,NEON,NEON_FLAG_W,NEONER,DOC,DOC_FLAG_W,TDN,TDN_FLAG_W,CTDRAW,CDOM325,CDOM325_FLAG_W,CDOM340,CDOM340_FLAG_W,CDOM380,CDOM380_FLAG_W,CDOM412,CDOM412_FLAG_W,CDOMSL,CDOMSL_FLAG_W,CDOMSN,CDOMSN_FLAG_W,DCNS,ARABI,ARABI_FLAG_W,FUCO,FUCO_FLAG_W,GALA,GALA_FLAG_W,GLUC,GLUC_FLAG_W,MAN,MAN_FLAG_W,RHAM,RHAM_FLAG_W,BRDU,BRDU_FLAG_W,THETA,HELIER,DELHER
,,,,,,,,,,,METERS,DBAR,ITS-90,PSS-78,,PSS-78,,UMOL/KG,,UMOL/KG,,UMOL/KG,,UMOL/KG,,UMOL/KG,,UMOL/KG,,PMOL/KG,,PMOL/KG,,PMOL/KG,,UMOL/KG,,UMOL/KG,,UATM,,DEG C,,,DEG C,TU,,TU,NMOL/KG,,PERCNT,,/MILLE,,/MILLE,,/MILLE,NMOL/KG,,NMOL/KG,UMOL/KG,,UMOL/KG,,DBAR,1/M,,1/M,,1/M,,1/M,,1/NM,,1/NM,,NMOL/KG,NMOL/KG,,NMOL/KG,,NMOL/KG,,NMOL/KG,,NMOL/KG,,NMOL/KG,,PMOL/L/H,,DEG C,NMOL/KG,PERCNT
325020060213,       P16N,      12,          2,         35,         35,2,20060218,       2201,         -6,       -151,       5030,     5.1,  28.0760,  35.7673,2,  35.7702,2,    198.9,2,   199.6,2,    0.40,2,    2.60,2,    0.00,2,    0.38,2,   1.595,2,   0.986,2,-999.000,5,  2021.5,6,  2354.4,2,   -999.0,9,  -999.00,   8.0813,2,    25.00,-999.000,9,-999.000,-999.0000,9,-999.000,9, -999.00,9,  -999.0,9,    -9.0,-999.000,9,-999.000,   70.28,2,    7.25,2,    5.10,-999.0000,9,-999.0000,9,-999.0000,9,-999.0000,9,-999.0000,9,-999.0000,9,     -999.0,     -999.0,9,     -999.0,9,     -999.0,9,     -999.0,9,     -999.0,9,     -999.0,9,    0.80,2,  28.0748,-999.0000,-999.000
325020060213,       P16N,      12,          2,         34,         34,2,20060218,       2201,         -6,       -151,       5030,    14.2,  27.9983,  35.7638,2,  35.7613,2,    199.2,2,   199.8,2,    0.50,2,    2.60,2,    0.00,2,    0.38,2,-999.000,9,-999.000,9,-999.000,9,  2019.2,2,  2354.0,2,   -999.0,9,  -999.00,   8.0836,2,    25.00,-999.000,9,-999.000,-999.0000,9,-999.000,9, -999.00,9,  -999.0,9,    -9.0,-999.000,9,-999.000,   68.35,2,    7.33,2,   14.20,   0.0730,3,   0.0520,2,   0.0230,2,   0.0180,2,   0.0235,3,   0.0234,3,     -999.0,     -999.0,9,     -999.0,9,     -999.0,9,     -999.0,9,     -999.0,9,     -999.0,9,    1.54,2,  27.9949,-999.0000,-999.000
325020060213,       P16N,      12,          2,         33,         33,2,20060218,       2201,         -6,       -151,       5030,    34.6,  27.9668,  35.7594,2,  35.7552,2,    198.4,2,   199.8,2,    0.50,2,    2.70,2,    0.00,2,    0.39,2,   1.598,2,   0.996,2,-999.000,5,  2020.8,2,  2353.0,2,   -999.0,9,  -999.00,   8.0812,2,    25.00,-999.000,9,-999.000,-999.0000,9,-999.000,9, -999.00,9,  -999.0,9,    -9.0,-999.000,9,-999.000,   68.33,2,    7.43,2,   34.60,-999.0000,9,-999.0000,9,-999.0000,9,-999.0000,9,-999.0000,9,-999.0000,9,     -999.0,     -999.0,9,     -999.0,9,     -999.0,9,     -999.0,9,     -999.0,9,     -999.0,9,    2.60,2,  27.9587,-999.0000,-999.000
325020060213,       P16N,      12,          2,         32,         32,2,20060218,       2201,         -6,       -151,       5030,    59.5,  27.5525,  35.6675,2,  35.6671,2,    194.7,2,   197.1,2,    0.70,2,    3.50,2,    0.00,2,    0.46,2,-999.000,9,-999.000,9,-999.000,9,  2028.0,2,  2346.3,2,   -999.0,9,  -999.00,   8.0616,2,    25.00,-999.000,9,-999.000,-999.0000,9,-999.000,9, -999.00,9,  -999.0,9,    -9.0,-999.000,9,-999.000,   64.89,2,    7.44,2,   59.50,-999.0000,9,-999.0000,9,-999.0000,9,-999.0000,9,-999.0000,9,-999.0000,9,     -999.0,     -999.0,9,     -999.0,9,     -999.0,9,     -999.0,9,     -999.0,9,     -999.0,9,    0.32,2,  27.5387,-999.0000,-999.000
325020060213,       P16N,      12,          2,         31,         31,2,20060218,       2201,         -6,       -151,       5030,    83.8,  27.5652,  35.8031,2,  35.7967,2,    189.3,2,   188.9,2,    0.60,2,    3.00,2,    0.00,2,    0.45,2,   1.635,2,   1.005,2,-999.000,5,  2033.6,2,  2355.1,2,   -999.0,9,  -999.00,   8.0643,2,    25.00,-999.000,9,-999.000,-999.0000,9,-999.000,9, -999.00,9,  -999.0,9,    -9.0,-999.000,9,-999.000,   67.13,2,    7.16,2,   83.80,-999.0000,9,-999.0000,9,-999.0000,9,-999.0000,9,-999.0000,9,-999.0000,9,     -999.0,     -999.0,9,     -999.0,9,     -999.0,9,     -999.0,9,     -999.0,9,     -999.0,9,    0.12,2,  27.5457,-999.0000,-999.000
325020060213,       P16N,      12,          2,         30,         30,2,20060218,       2201,         -6,       -151,       5030,   108.9,  26.2880,  36.3594,2,  36.3565,2,    158.5,2,   159.7,2,    0.50,2,    3.90,2,    0.00,2,    0.50,2,-999.000,9,-999.000,9,-999.000,9,  2079.7,2,  2390.7,2,   -999.0,9,  -999.00,   8.0405,2,    25.00,-999.000,9,-999.000,-999.0000,9,-999.000,9, -999.00,9,  -999.0,9,    -9.0,-999.000,9,-999.000,   62.54,2,    7.70,2,  108.90,   0.1200,2,   0.0890,2,   0.0440,2,   0.0330,2,   0.0146,2,   0.0167,2,     -999.0,     -999.0,9,     -999.0,9,     -999.0,9,     -999.0,9,     -999.0,9,     -999.0,9,    0.59,2,  26.2634,-999.0000,-999.000
325020060213,       P16N,      12,          2,         29,         29,2,20060218,       2201,         -6,       -151,       5030,   134.3,  23.7046,  36.2048,2,  36.1827,2,    154.6,2,   155.1,2,    0.80,2,    5.90,2,    0.00,2,    0.66,2,   1.935,2,   1.176,2,-999.000,5,  2113.4,2,  2384.3,2,   -999.0,9,  -999.00,   7.9775,2,    25.00,-999.000,9,-999.000,-999.0000,9,-999.000,9, -999.00,9,  -999.0,9,    -9.0,-999.000,9,-999.000,   59.84,2,    9.70,2,  134.30,-999.0000,9,-999.0000,9,-999.0000,9,-999.0000,9,-999.0000,9,-999.0000,9,     -999.0,     -999.0,9,     -999.0,9,     -999.0,9,     -999.0,9,     -999.0,9,     -999.0,9,    0.24,2,  23.6765,-999.0000,-999.000
325020060213,       P16N,      12,          2,         28,         28,2,20060218,       2201,         -6,       -151,       5030,   174.3,  17.7242,  35.4194,2,  35.3980,2,    119.6,2,   117.1,2,    4.50,2,   13.40,2,    0.00,2,    1.19,2,   2.041,2,   1.180,2,-999.000,5,  2156.4,2,  2333.6,6,   -999.0,9,  -999.00,   7.8001,2,    25.00,-999.000,9,-999.000,-999.0000,9,-999.000,9, -999.00,9,  -999.0,9,    -9.0,-999.000,9,-999.000,   53.12,2,   18.01,2,  174.30,-999.0000,9,-999.0000,9,-999.0000,9,-999.0000,9,-999.0000,9,-999.0000,9,     -999.0,     -999.0,9,     -999.0,9,     -999.0,9,     -999.0,9,     -999.0,9,     -999.0,9,    0.01,2,  17.6945,-999.0000,-999.000
325020060213,       P16N,      12,          2,         27,         27,2,20060218,       2201,         -6,       -151,       5030,   224.1,  13.8339,  35.0370,2,  35.0186,2,     68.2,2,    65.0,2,   14.00,2,   24.40,2,    0.00,2,    1.84,2,   1.261,2,   0.693,2,-999.000,5,  2204.7,2,  2310.8,2,   -999.0,9,  -999.00,   7.6202,2,    25.00,-999.000,9,-999.000,-999.0000,9,-999.000,9, -999.00,9,  -999.0,9,    -9.0,-999.000,9,-999.000,   48.16,2,   28.68,2,  224.10,   0.1300,2,   0.0940,2,   0.0480,2,   0.0370,2,   0.0139,3,   0.0162,3,     -999.0,     -999.0,9,     -999.0,9,     -999.0,9,     -999.0,9,     -999.0,9,     -999.0,9, -999.00,9,  13.8018,-999.0000,-999.000
325020060213,       P16N,      12,          2,         26,         26,2,20060218,       2201,         -6,       -151,       5030,   274.2,  11.5214,  34.8629,2,  34.8584,2,     53.5,2,    53.0,2,   21.00,2,   29.90,2,    0.00,2,    2.10,2,   0.654,6,   0.360,6,-999.000,5,  2224.9,2,  2305.1,2,   -999.0,9,  -999.00,-999.0000,9,  -999.00,-999.000,9,-999.000,-999.0000,9,-999.000,9, -999.00,9,  -999.0,9,    -9.0,-999.000,9,-999.000,   44.41,2,   33.91,2,  274.20,-999.0000,9,-999.0000,9,-999.0000,9,-999.0000,9,-999.0000,9,-999.0000,9,     -999.0,     -999.0,9,     -999.0,9,     -999.0,9,     -999.0,9,     -999.0,9,     -999.0,9, -999.00,9,  11.4866,-999.0000,-999.000
325020060213,       P16N,      12,          2,         25,         25,2,20060218,       2201,         -6,       -151,       5030,   324.8,  10.3467,  34.7762,2,  34.7723,2,     76.3,2,    73.1,2,   23.40,2,   30.40,2,    0.00,2,    2.08,2,   0.552,2,   0.305,2,-999.000,5,  2218.9,2,  2303.5,2,   -999.0,9,  -999.00,   7.5629,2,    25.00,-999.000,9,-999.000,-999.0000,9,-999.000,9, -999.00,9,  -999.0,9,    -9.0,-999.000,9,-999.000,   44.25,2,   34.77,2,  324.80,   0.1210,2,   0.0860,2,   0.0440,2,   0.0340,2,   0.0145,2,   0.0169,2,    399.177,    36.8739,2,     9.6477,3,    60.3991,2,    221.375,3,    50.8204,2,     20.061,2, -999.00,9,  10.3080,-999.0000,-999.000
325020060213,       P16N,      12,          2,         24,         24,2,20060218,       2201,         -6,       -151,       5030,   374.7,   9.7523,  34.7348,2,  34.7316,2,     69.8,2,    68.3,2,   25.90,2,   32.10,2,    0.00,2,    2.20,2,   0.416,2,   0.225,2,-999.000,5,  2228.3,2,  2303.3,2,   -999.0,9,  -999.00,   7.5333,2,    25.00,-999.000,9,-999.000,-999.0000,9,-999.000,9, -999.00,9,  -999.0,9,    -9.0,-999.000,9,-999.000,   43.57,2,   36.37,2,  374.70,-999.0000,9,-999.0000,9,-999.0000,9,-999.0000,9,-999.0000,9,-999.0000,9,     -999.0,     -999.0,9,     -999.0,9,     -999.0,9,     -999.0,9,     -999.0,9,     -999.0,9, -999.00,9,   9.7093,-999.0000,-999.000
325020060213,       P16N,      12,          2,         23,         23,2,20060218,       2201,         -6,       -151,       5030,   425.0,   9.0682,  34.6876,2,  34.6830,2,     73.9,2,    70.1,2,   28.30,2,   33.50,2,    0.00,2,    2.27,2,   0.306,2,   0.170,2,-999.000,5,  2231.4,6,  2306.0,2,   -999.0,9,  -999.00,   7.5214,2,    25.00,-999.000,9,-999.000,-999.0000,9,-999.000,9, -999.00,9,  -999.0,9,    -9.0,-999.000,9,-999.000,   43.17,2,   37.99,2,  425.00,   0.1360,2,   0.0980,2,   0.0530,2,   0.0410,2,   0.0128,3,   0.0149,3,     -999.0,     -999.0,9,     -999.0,9,     -999.0,9,     -999.0,9,     -999.0,9,     -999.0,9, -999.00,9,   9.0214,-999.0000,-999.000
325020060213,       P16N,      12,          2,         22,         22,2,20060218,       2201,         -6,       -151,       5030,   474.3,   8.5088,  34.6551,2,  34.6531,2,     52.9,2,    52.7,2,   33.00,2,   36.50,2,    0.00,2,    2.47,2,   0.151,2,   0.089,2,-999.000,5,  2250.8,2,  2306.9,2,   -999.0,9,  -999.00,-999.0000,9,  -999.00,-999.000,9,-999.000,-999.0000,9,-999.000,9, -999.00,9,  -999.0,9,    -9.0,-999.000,9,-999.000,   42.46,2,   40.38,2,  474.30,   0.1420,2,   0.1020,2,   0.0550,2,   0.0420,2,   0.0132,3,   0.0153,3,     -999.0,     -999.0,9,     -999.0,9,     -999.0,9,     -999.0,9,     -999.0,9,     -999.0,9, -999.00,9,   8.4584,-999.0000,-999.000
325020060213,       P16N,      12,          2,         21,         21,2,20060218,       2201,         -6,       -151,       5030,   549.0,   7.4676,  34.5993,2,  34.5977,2,     64.5,2,    64.0,2,   38.00,2,   37.70,2,    0.00,2,    2.55,2,   0.067,2,   0.038,2,-999.000,5,  2254.3,2,  2310.6,2,   -999.0,9,  -999.00,   7.4646,2,    25.00,-999.000,9,-999.000,-999.0000,9,-999.000,9, -999.00,9,  -999.0,9,    -9.0,-999.000,9,-999.000,   40.90,2,   41.09,2,  549.00,   0.1390,2,   0.0990,2,   0.0540,2,   0.0410,2,   0.0132,3,   0.0153,3,     -999.0,     -999.0,9,     -999.0,9,     -999.0,9,     -999.0,9,     -999.0,9,     -999.0,9, -999.00,9,   7.4132,-999.0000,-999.000
325020060213,       P16N,      12,          2,         20,         20,2,20060218,       2201,         -6,       -151,       5030,   648.3,   6.2925,  34.5613,2,  34.5614,2,     58.4,2,    58.1,2,   51.40,2,   41.00,2,    0.00,2,    2.78,2,   0.016,2,   0.009,2,-999.000,5,  2275.7,2,  2319.4,2,   -999.0,9,  -999.00,   7.4386,2,    25.00,-999.000,9,-999.000,-999.0000,9,-999.000,9, -999.00,9,  -999.0,9,    -9.0,-999.000,9,-999.000,   38.80,2,   45.37,2,  648.30,-999.0000,9,-999.0000,9,-999.0000,9,-999.0000,9,-999.0000,9,-999.0000,9,     -999.0,     -999.0,9,     -999.0,9,     -999.0,9,     -999.0,9,     -999.0,9,     -999.0,9, -999.00,9,   6.2337,-999.0000,-999.000
325020060213,       P16N,      12,          2,         19,         19,2,20060218,       2201,         -6,       -151,       5030,   748.5,   5.5754,  34.5487,2,  34.5470,2,     63.0,2,    63.1,2,   61.50,2,   41.70,2,    0.00,2,    2.85,2,   0.002,2,   0.003,2,-999.000,5,  2285.4,3,  2329.0,2,   -999.0,9,  -999.00,   7.4383,2,    25.00,-999.000,9,-999.000,-999.0000,9,-999.000,9, -999.00,9,  -999.0,9,    -9.0,-999.000,9,-999.000,   39.28,2,   45.11,2,  748.50,   0.1380,2,   0.0960,2,   0.0500,2,   0.0360,2,   0.0146,2,   0.0169,2,     -999.0,     -999.0,9,     -999.0,9,     -999.0,9,     -999.0,9,     -999.0,9,     -999.0,9, -999.00,9,   5.5111,-999.0000,-999.000
325020060213,       P16N,      12,          2,         18,         18,2,20060218,       2201,         -6,       -151,       5030,   850.0,   5.1100,  34.5453,2,  34.5449,2,     74.8,2,    75.2,2,   67.70,2,   40.60,2,    0.00,2,    2.81,2,-999.000,9,-999.000,9,-999.000,9,  2287.0,2,  2336.6,2,   -999.0,9,  -999.00,   7.4585,2,    25.00,-999.000,9,-999.000,-999.0000,9,-999.000,9, -999.00,9,  -999.0,9,    -9.0,-999.000,9,-999.000,   38.82,2,   44.40,2,  850.00,   0.1420,2,   0.1000,2,   0.0540,2,   0.0390,2,   0.0138,2,   0.0159,3,     -999.0,     -999.0,9,     -999.0,9,     -999.0,9,     -999.0,9,     -999.0,9,     -999.0,9, -999.00,9,   5.0393,-999.0000,-999.000
325020060213,       P16N,      12,          2,         17,         17,2,20060218,       2201,         -6,       -151,       5030,   949.3,   4.6354,  34.5474,2,  34.5476,2,     86.2,2,    86.9,2,   75.40,6,   40.10,6,    0.00,6,    2.78,6,   0.006,2,   0.003,2,-999.000,5,  2289.2,2,  2348.9,6,   -999.0,9,  -999.00,   7.4850,2,    25.00,-999.000,9,-999.000,-999.0000,9,-999.000,9, -999.00,9,  -999.0,9,    -9.0,-999.000,9,-999.000,   38.50,2,   43.82,2,  949.30,   0.1290,2,   0.0890,2,   0.0450,2,   0.0320,2,   0.0162,2,   0.0184,2,     -999.0,     -999.0,9,     -999.0,9,     -999.0,9,     -999.0,9,     -999.0,9,     -999.0,9, -999.00,9,   4.5593,-999.0000,-999.000
325020060213,       P16N,      12,          2,         16,         16,2,20060218,       2201,         -6,       -151,       5030,  1099.9,   4.0961,  34.5590,2,  34.5598,2,     94.8,2,    94.9,2,   85.90,6,   39.60,6,    0.00,6,    2.77,2,-999.000,9,-999.000,9,-999.000,9,  2297.2,2,  2359.9,2,   -999.0,9,  -999.00,   7.4915,2,    25.00,-999.000,9,-999.000,-999.0000,9,-999.000,9, -999.00,9,  -999.0,9,    -9.0,-999.000,9,-999.000,   37.97,2,   43.11,2, 1099.90,   0.1340,2,   0.0940,2,   0.0490,2,   0.0350,2,   0.0148,2,   0.0170,2,     -999.0,     -999.0,9,     -999.0,9,     -999.0,9,     -999.0,9,     -999.0,9,     -999.0,9, -999.00,9,   4.0111,-999.0000,-999.000
325020060213,       P16N,      12,          2,         15,         15,2,20060218,       2201,         -6,       -151,       5030,  1298.7,   3.6110,  34.5755,2,  34.5733,2,     98.7,2,    99.6,2,   97.10,2,   39.50,2,    0.00,2,    2.77,2,   0.006,2,   0.003,2,-999.000,5,  2306.4,2,  2372.4,2,   -999.0,9,  -999.00,   7.4953,2,    25.00,-999.000,9,-999.000,-999.0000,9,-999.000,9, -999.00,9,  -999.0,9,    -9.0,-999.000,9,-999.000,   37.50,2,   43.13,2, 1298.70,   0.1410,2,   0.0990,2,   0.0520,2,   0.0370,2,   0.0147,2,   0.0168,2,     -999.0,     -999.0,9,     -999.0,9,     -999.0,9,     -999.0,9,     -999.0,9,     -999.0,9, -999.00,9,   3.5135,-999.0000,-999.000
325020060213,       P16N,      12,          2,         14,         14,2,20060218,       2201,         -6,       -151,       5030,  1499.3,   3.1007,  34.5979,2,  34.5961,2,    102.8,2,   103.5,2,  109.80,2,   39.40,2,    0.00,2,    2.77,2,-999.000,9,-999.000,9,-999.000,9,  2317.6,2,  2386.0,2,   -999.0,9,  -999.00,   7.5014,2,    25.00,-999.000,9,-999.000,-999.0000,9,-999.000,9, -999.00,9,  -999.0,9,    -9.0,-999.000,9,-999.000,   37.36,2,   43.62,2, 1499.30,   0.1450,2,   0.1020,2,   0.0540,2,   0.0380,2,   0.0146,2,   0.0166,2,     -999.0,     -999.0,9,     -999.0,9,     -999.0,9,     -999.0,9,     -999.0,9,     -999.0,9, -999.00,9,   2.9917,-999.0000,-999.000
325020060213,       P16N,      12,          2,         13,         13,2,20060218,       2201,         -6,       -151,       5030,  1701.5,   2.7163,  34.6136,2,  34.6088,2,    113.4,2,   117.0,2,  115.70,2,   38.40,2,    0.00,2,    2.70,2,-999.000,9,-999.000,9,-999.000,9,  2318.7,2,  2391.2,2,   -999.0,9,  -999.00,   7.5248,2,    25.00,-999.000,9,-999.000,-999.0000,9,-999.000,9, -999.00,9,  -999.0,9,    -9.0,-999.000,9,-999.000,   37.28,2,   41.81,2, 1701.50,   0.1280,2,   0.0880,2,   0.0450,2,   0.0300,2,   0.0167,2,   0.0187,2,     -999.0,     -999.0,9,     -999.0,9,     -999.0,9,     -999.0,9,     -999.0,9,     -999.0,9, -999.00,9,   2.5949,-999.0000,-999.000
325020060213,       P16N,      12,          2,         12,         12,2,20060218,       2201,         -6,       -151,       5030,  1898.9,   2.4111,  34.6307,2,  34.6307,2,    120.4,2,   123.8,2,  122.10,2,   38.10,2,    0.00,2,    2.66,2,-999.000,9,-999.000,9,-999.000,9,  2322.4,2,  2398.9,2,   -999.0,9,  -999.00,   7.5374,2,    25.00,-999.000,9,-999.000,-999.0000,9,-999.000,9, -999.00,9,  -999.0,9,    -9.0,-999.000,9,-999.000,   36.51,2,   41.93,2, 1898.90,   0.1210,2,   0.0820,2,   0.0390,2,   0.0260,2,   0.0191,2,   0.0209,2,     -999.0,     -999.0,9,     -999.0,9,     -999.0,9,     -999.0,9,     -999.0,9,     -999.0,9, -999.00,9,   2.2771,-999.0000,-999.000
325020060213,       P16N,      12,          2,         11,         11,2,20060218,       2201,         -6,       -151,       5030,  2125.1,   2.1347,  34.6496,2,  34.6464,2,    125.7,2,   127.0,2,  129.80,6,   37.90,6,    0.00,6,    2.65,6,-999.000,9,-999.000,9,-999.000,9,  2328.2,2,  2410.3,2,   -999.0,9,  -999.00,   7.5435,2,    25.00,-999.000,9,-999.000,-999.0000,9,-999.000,9, -999.00,9,  -999.0,9,    -9.0,-999.000,9,-999.000,   36.46,2,   41.35,2, 2125.10,   0.1290,2,   0.0880,2,   0.0440,2,   0.0290,2,   0.0178,2,   0.0197,2,     -999.0,     -999.0,9,     -999.0,9,     -999.0,9,     -999.0,9,     -999.0,9,     -999.0,9, -999.00,9,   1.9855,-999.0000,-999.000
325020060213,       P16N,      12,          2,         10,         10,2,20060218,       2201,         -6,       -151,       5030,  2374.6,   1.9508,  34.6630,2,  34.6611,2,    129.7,2,   130.8,2,  135.10,6,   37.60,6,    0.00,6,    2.64,2,-999.000,9,-999.000,9,-999.000,9,  2332.1,2,  2416.2,2,   -999.0,9,  -999.00,   7.5501,2,    25.00,-999.000,9,-999.000,-999.0000,9,-999.000,9, -999.00,9,  -999.0,9,    -9.0,-999.000,9,-999.000,   36.97,2,   40.86,2, 2374.60,-999.0000,9,-999.0000,9,-999.0000,9,-999.0000,9,-999.0000,9,-999.0000,9,     -999.0,     -999.0,9,     -999.0,9,     -999.0,9,     -999.0,9,     -999.0,9,     -999.0,9, -999.00,9,   1.7827,-999.0000,-999.000
325020060213,       P16N,      12,          2,          9,          9,2,20060218,       2201,         -6,       -151,       5030,  2623.7,   1.8161,  34.6733,2,  34.6707,2,    134.8,2,   135.7,2,  138.30,2,   37.30,2,    0.00,2,    2.61,2,-999.000,9,-999.000,9,-999.000,9,  2333.3,2,  2420.8,2,   -999.0,9,  -999.00,   7.5572,2,    25.00,-999.000,9,-999.000,-999.0000,9,-999.000,9, -999.00,9,  -999.0,9,    -9.0,-999.000,9,-999.000,   36.32,2,   40.84,2, 2623.70,   0.1170,2,   0.0780,2,   0.0360,2,   0.0220,2,   0.0210,2,   0.0228,2,     -999.0,     -999.0,9,     -999.0,9,     -999.0,9,     -999.0,9,     -999.0,9,     -999.0,9, -999.00,9,   1.6279,-999.0000,-999.000