BOTTLE,20170720CCHSIOCBG
EXPOCODE,SECT_ID,STNNBR,CASTNO,SAMPNO,BTLNBR,BTLNBR_FLAG_W,DATE,TIME,LATITUDE,LONGITUDE,DEPTH,CTDPRS,CTDTMP,CTDSAL,CTDSAL_FLAG_W,SALNTY,SALNTY_FLAG_W,CTDOXY,CTDOXY_FLAG_W,OXYGEN,OXYGEN_FLAG_W,SILCAT,SILCAT_FLAG_W,NITRAT,NITRAT_FLAG_W,NITRIT,NITRIT_FLAG_W,PHSPHT,PHSPHT_FLAG_W,CFC-11,CFC-11_FLAG_W,CFC-12,CFC-12_FLAG_W,CFC113,CFC113_FLAG_W,TCARBN,TCARBN_FLAG_W,ALKALI,ALKALI_FLAG_W,FCO2,FCO2_FLAG_W,FCO2TMP,PH_TOT,PH_TOT_FLAG_W,PH_TMP,TRITUM,TRITUM_FLAG_W,TRITER,HELIUM,HELIUM_FLAG_W,DELHE3,DELHE3_FLAG_W,DELC13,DELC13_FLAG_W,DELC14,DELC14_FLAG_W,C14ERR,NEON,NEON_FLAG_W,NEONER,DOC,DOC_FLAG_W,TDN,TDN_FLAG_W,CTDRAW,CDOM325,CDOM325_FLAG_W,CDOM340,CDOM340_FLAG_W,CDOM380,CDOM380_FLAG_W,CDOM412,CDOM412_FLAG_W,CDOMSL,CDOMSL_FLAG_W,CDOMSN,CDOMSN_FLAG_W,DCNS,ARABI,ARABI_FLAG_W,FUCO,FUCO_FLAG_W,GALA,GALA_FLAG_W,GLUC,GLUC_FLAG_W,MAN,MAN_FLAG_W,RHAM,RHAM_FLAG_W,BRDU,BRDU_FLAG_W,THETA,HELIER,DELHER
,,,,,,,,,,,METERS,DBAR,ITS-90,PSS-78,,PSS-78,,UMOL/KG,,UMOL/KG,,UMOL/KG,,UMOL/KG,,UMOL/KG,,UMOL/KG,,PMOL/KG,,PMOL/KG,,PMOL/KG,,UMOL/KG,,UMOL/KG,,UATM,,DEG C,,,DEG C,TU,,TU,NMOL/KG,,PERCNT,,/MILLE,,/MILLE,,/MILLE,NMOL/KG,,NMOL/KG,UMOL/KG,,UMOL/KG,,DBAR,1/M,,1/M,,1/M,,1/M,,1/NM,,1/NM,,NMOL/KG,NMOL/KG,,NMOL/KG,,NMOL/KG,,NMOL/KG,,NMOL/KG,,NMOL/KG,,PMOL/L/H,,DEG C,NMOL/KG,PERCNT
325020060213,       P16N,      25,          2,          8,          8,2,20060223,       1154,          3,       -151,       5059,  3001.4,   1.7179,  34.6777,2,  34.6747,4,    126.8,2,   126.7,2,  149.50,2,   37.80,2,    0.00,2, -999.00,5,-999.000,9,-999.000,9,-999.000,9,  2346.6,2,  2431.4,2,   1263.5,2,    20.00,   7.5552,2,    25.00,-999.000,9,-999.000,-999.0000,9,-999.000,9, -999.00,9,  -999.0,9,    -9.0,-999.000,9,-999.000,   36.14,2,   41.13,2, 3001.40,-999.0000,9,-999.0000,9,-999.0000,9,-999.0000,9,-999.0000,9,-999.0000,9,     -999.0,     -999.0,9,     -999.0,9,     -999.0,9,     -999.0,9,     -999.0,9,     -999.0,9, -999.00,9,   1.4962,-999.0000,-999.000
325020060213,       P16N,      25,          2,          7,          7,2,20060223,       1154,          3,       -151,       5059,  3249.7,   1.6101,  34.6836,2,  34.6807,4,    136.2,2,   136.6,2,  148.30,2,   37.20,2,    0.00,2, -999.00,5,-999.000,9,-999.000,9,-999.000,9,  2340.8,2,  2430.6,2,   1220.8,6,    20.00,   7.5646,2,    25.00,-999.000,9,-999.000,-999.0000,9,-999.000,9, -999.00,9,  -999.0,9,    -9.0,-999.000,9,-999.000,   35.98,2,   40.71,2, 3249.70,-999.0000,9,-999.0000,9,-999.0000,9,-999.0000,9,-999.0000,9,-999.0000,9,     -999.0,     -999.0,9,     -999.0,9,     -999.0,9,     -999.0,9,     -999.0,9,     -999.0,9, -999.00,9,   1.3665,-999.0000,-999.000
325020060213,       P16N,      25,          2,          6,          6,2,20060223,       1154,          3,       -151,       5059,  3650.4,   1.4698,  34.6930,2,  34.6894,4,    150.9,2,   151.6,2,  146.10,2,   36.30,2,    0.00,2, -999.00,5,   0.003,3,   0.001,2,-999.000,5,  2330.4,2,  2431.3,6,   1142.8,2,    20.00,   7.5925,2,    25.00,-999.000,9,-999.000,-999.0000,9,-999.000,9, -999.00,9,  -999.0,9,    -9.0,-999.000,9,-999.000,   37.19,2,   40.39,2, 3650.40,-999.0000,9,-999.0000,9,-999.0000,9,-999.0000,9,-999.0000,9,-999.0000,9,     -999.0,     -999.0,9,     -999.0,9,     -999.0,9,     -999.0,9,     -999.0,9,     -999.0,9, -999.00,9,   1.1888,-999.0000,-999.000
325020060213,       P16N,      25,          2,          5,          5,2,20060223,       1154,          3,       -151,       5059,  4049.1,   1.4149,  34.6973,2,  34.6939,4,    160.4,2,   160.4,2,  141.40,6,   35.60,6,    0.00,6, -999.00,5,-999.000,9,-999.000,9,-999.000,9,  2322.6,2,  2427.1,2,   1109.3,2,    20.00,   7.6008,2,    25.00,-999.000,9,-999.000,-999.0000,9,-999.000,9, -999.00,9,  -999.0,9,    -9.0,-999.000,9,-999.000,   39.02,2,   38.99,2, 4049.10,-999.0000,9,-999.0000,9,-999.0000,9,-999.0000,9,-999.0000,9,-999.0000,9,     -999.0,     -999.0,9,     -999.0,9,     -999.0,9,     -999.0,9,     -999.0,9,     -999.0,9, -999.00,9,   1.0930,-999.0000,-999.000
325020060213,       P16N,      25,          2,          4,          4,2,20060223,       1154,          3,       -151,       5059,  4548.4,   1.3830,  34.7013,2,  34.6976,4,    170.9,2,   170.1,2,  136.30,6,   34.90,6,    0.00,6, -999.00,5,-999.000,9,-999.000,9,-999.000,9,  2310.6,2,  2418.0,2,   1087.6,2,    20.00,   7.6087,2,    25.00,-999.000,9,-999.000,-999.0000,9,-999.000,9, -999.00,9,  -999.0,9,    -9.0,-999.000,9,-999.000,   39.26,2,   38.59,2, 4548.40,-999.0000,9,-999.0000,9,-999.0000,9,-999.0000,9,-999.0000,9,-999.0000,9,     -999.0,     -999.0,9,     -999.0,9,     -999.0,9,     -999.0,9,     -999.0,9,     -999.0,9, -999.00,9,   1.0060,-999.0000,-999.000
325020060213,       P16N,      25,          2,          3,          3,2,20060223,       1154,          3,       -151,       5059,  5000.5,   1.4294,  34.7017,2,  34.6978,4,    171.7,2,   171.6,2,  135.70,6,   34.80,6,    0.00,6, -999.00,5,   0.000,2,   0.002,2,-999.000,5,  2308.5,2,  2418.7,2,   1083.9,2,    20.00,   7.6118,2,    25.00,-999.000,9,-999.000,-999.0000,9,-999.000,9, -999.00,9,  -999.0,9,    -9.0,-999.000,9,-999.000,   39.20,2,   38.42,2, 5000.50,-999.0000,9,-999.0000,9,-999.0000,9,-999.0000,9,-999.0000,9,-999.0000,9,     -999.0,     -999.0,9,     -999.0,9,     -999.0,9,     -999.0,9,     -999.0,9,     -999.0,9, -999.00,9,   0.9974,-999.0000,-999.000
325020060213,       P16N,      25,          2,          1,          1,2,20060223,       1154,          3,       -151,       5059,  5182.0,   1.4526,  34.7017,2,  34.6978,4,    171.7,2,   171.4,2,  135.80,2,   34.90,2,    0.00,2, -999.00,5,   0.001,2,  -0.001,2,-999.000,5,  2308.7,6,  2417.4,2,   1083.1,2,    20.00,   7.6125,2,    25.00,-999.000,9,-999.000,-999.0000,9,-999.000,9, -999.00,9,  -999.0,9,    -9.0,-999.000,9,-999.000,   39.67,2,   38.61,2, 5182.00,-999.0000,9,-999.0000,9,-999.0000,9,-999.0000,9,-999.0000,9,-999.0000,9,     -999.0,     -999.0,9,     -999.0,9,     -999.0,9,     -999.0,9,     -999.0,9,     -999.0,9, -999.00,9,   0.9976,-999.0000,-999.000