BOTTLE,20170720CCHSIOCBG
EXPOCODE,SECT_ID,STNNBR,CASTNO,SAMPNO,BTLNBR,BTLNBR_FLAG_W,DATE,TIME,LATITUDE,LONGITUDE,DEPTH,CTDPRS,CTDTMP,CTDSAL,CTDSAL_FLAG_W,SALNTY,SALNTY_FLAG_W,CTDOXY,CTDOXY_FLAG_W,OXYGEN,OXYGEN_FLAG_W,SILCAT,SILCAT_FLAG_W,NITRAT,NITRAT_FLAG_W,NITRIT,NITRIT_FLAG_W,PHSPHT,PHSPHT_FLAG_W,CFC-11,CFC-11_FLAG_W,CFC-12,CFC-12_FLAG_W,CFC113,CFC113_FLAG_W,TCARBN,TCARBN_FLAG_W,ALKALI,ALKALI_FLAG_W,FCO2,FCO2_FLAG_W,FCO2TMP,PH_TOT,PH_TOT_FLAG_W,PH_TMP,TRITUM,TRITUM_FLAG_W,TRITER,HELIUM,HELIUM_FLAG_W,DELHE3,DELHE3_FLAG_W,DELC13,DELC13_FLAG_W,DELC14,DELC14_FLAG_W,C14ERR,NEON,NEON_FLAG_W,NEONER,DOC,DOC_FLAG_W,TDN,TDN_FLAG_W,CTDRAW,CDOM325,CDOM325_FLAG_W,CDOM340,CDOM340_FLAG_W,CDOM380,CDOM380_FLAG_W,CDOM412,CDOM412_FLAG_W,CDOMSL,CDOMSL_FLAG_W,CDOMSN,CDOMSN_FLAG_W,DCNS,ARABI,ARABI_FLAG_W,FUCO,FUCO_FLAG_W,GALA,GALA_FLAG_W,GLUC,GLUC_FLAG_W,MAN,MAN_FLAG_W,RHAM,RHAM_FLAG_W,BRDU,BRDU_FLAG_W,THETA,HELIER,DELHER
,,,,,,,,,,,METERS,DBAR,ITS-90,PSS-78,,PSS-78,,UMOL/KG,,UMOL/KG,,UMOL/KG,,UMOL/KG,,UMOL/KG,,UMOL/KG,,PMOL/KG,,PMOL/KG,,PMOL/KG,,UMOL/KG,,UMOL/KG,,UATM,,DEG C,,,DEG C,TU,,TU,NMOL/KG,,PERCNT,,/MILLE,,/MILLE,,/MILLE,NMOL/KG,,NMOL/KG,UMOL/KG,,UMOL/KG,,DBAR,1/M,,1/M,,1/M,,1/M,,1/NM,,1/NM,,NMOL/KG,NMOL/KG,,NMOL/KG,,NMOL/KG,,NMOL/KG,,NMOL/KG,,NMOL/KG,,PMOL/L/H,,DEG C,NMOL/KG,PERCNT
325020060213,       P16N,      15,          1,          8,          8,4,20060220,       0310,    -2.9997,  -151.0005,       4747,  3000.4,   1.6572,  34.6793,2,  34.5633,4,    140.0,2,    64.7,4,   54.60,4,   40.20,4,    0.00,4,    2.73,4,-999.000,9,-999.000,9,-999.000,9,  2272.3,4,  2324.0,4,   -999.0,9,  -999.00,-999.0000,9,  -999.00,-999.000,9,-999.000,-999.0000,9,-999.000,9, -999.00,9,  -999.0,9,    -9.0,-999.000,9,-999.000,   36.99,2,   43.43,2, 3000.40,-999.0000,9,-999.0000,9,-999.0000,9,-999.0000,9,-999.0000,9,-999.0000,9,     -999.0,     -999.0,9,     -999.0,9,     -999.0,9,     -999.0,9,     -999.0,9,     -999.0,9, -999.00,9,   1.4369,-999.0000,-999.000
325020060213,       P16N,      15,          1,          7,          7,2,20060220,       0310,    -2.9997,  -151.0005,       4747,  3251.1,   1.5947,  34.6834,2,  34.6816,2,    144.0,2,   144.9,2,  142.70,2,   37.00,2,    0.00,2,    2.58,2,  -0.005,2,   0.000,2,-999.000,5,  2329.0,2,  2422.5,2,   -999.0,9,  -999.00,-999.0000,9,  -999.00,-999.000,9,-999.000,-999.0000,9,-999.000,9, -999.00,9,  -999.0,9,    -9.0,-999.000,9,-999.000,   37.20,2,   40.39,2, 3251.10,-999.0000,9,-999.0000,9,-999.0000,9,-999.0000,9,-999.0000,9,-999.0000,9,     -999.0,     -999.0,9,     -999.0,9,     -999.0,9,     -999.0,9,     -999.0,9,     -999.0,9, -999.00,9,   1.3513,-999.0000,-999.000
325020060213,       P16N,      15,          1,          6,          6,2,20060220,       0310,    -2.9997,  -151.0005,       4747,  3650.0,   1.4936,  34.6919,2,  34.6906,2,    152.6,2,   153.1,2,  143.30,2,   36.50,2,    0.00,2,    2.53,2,-999.000,9,-999.000,9,-999.000,9,  2324.5,2,  2425.0,6,   -999.0,9,  -999.00,-999.0000,9,  -999.00,-999.000,9,-999.000,-999.0000,9,-999.000,9, -999.00,9,  -999.0,9,    -9.0,-999.000,9,-999.000,   38.85,2,   40.10,2, 3650.00,-999.0000,9,-999.0000,9,-999.0000,9,-999.0000,9,-999.0000,9,-999.0000,9,     -999.0,     -999.0,9,     -999.0,9,     -999.0,9,     -999.0,9,     -999.0,9,     -999.0,9, -999.00,9,   1.2121,-999.0000,-999.000
325020060213,       P16N,      15,          1,          5,          5,2,20060220,       0310,    -2.9997,  -151.0005,       4747,  4028.5,   1.4083,  34.6985,2,  34.6973,2,    165.3,2,   165.8,2,  137.60,6,   35.40,6,    0.00,6,    2.46,6,  -0.003,2,   0.000,2,-999.000,5,  2310.8,2,  2417.2,2,   -999.0,9,  -999.00,-999.0000,9,  -999.00,-999.000,9,-999.000,-999.0000,9,-999.000,9, -999.00,9,  -999.0,9,    -9.0,-999.000,9,-999.000,   38.72,2,   39.18,2, 4028.50,-999.0000,9,-999.0000,9,-999.0000,9,-999.0000,9,-999.0000,9,-999.0000,9,     -999.0,     -999.0,9,     -999.0,9,     -999.0,9,     -999.0,9,     -999.0,9,     -999.0,9, -999.00,9,   1.0888,-999.0000,-999.000
325020060213,       P16N,      15,          1,          4,          4,2,20060220,       0310,    -2.9997,  -151.0005,       4747,  4200.2,   1.3747,  34.7010,2,  34.7002,2,    172.0,2,   171.9,2,  133.90,6,   34.80,6,    0.00,6,    2.43,6,-999.000,9,-999.000,9,-999.000,9,  2302.7,2,  2409.8,2,   -999.0,9,  -999.00,-999.0000,9,  -999.00,-999.000,9,-999.000,-999.0000,9,-999.000,9, -999.00,9,  -999.0,9,    -9.0,-999.000,9,-999.000,   38.89,2,   38.86,2, 4200.20,-999.0000,9,-999.0000,9,-999.0000,9,-999.0000,9,-999.0000,9,-999.0000,9,     -999.0,     -999.0,9,     -999.0,9,     -999.0,9,     -999.0,9,     -999.0,9,     -999.0,9, -999.00,9,   1.0374,-999.0000,-999.000
325020060213,       P16N,      15,          1,          3,          3,2,20060220,       0310,    -2.9997,  -151.0005,       4747,  4549.7,   1.3390,  34.7048,2,  34.7030,2,    182.3,2,   181.6,2,  128.10,6,   34.10,6,    0.00,6,    2.37,6,-999.000,9,-999.000,9,-999.000,9,  2290.5,2,  2399.6,2,   -999.0,9,  -999.00,-999.0000,9,  -999.00,-999.000,9,-999.000,-999.0000,9,-999.000,9, -999.00,9,  -999.0,9,    -9.0,-999.000,9,-999.000,   38.88,2,   37.89,2, 4549.70,-999.0000,9,-999.0000,9,-999.0000,9,-999.0000,9,-999.0000,9,-999.0000,9,     -999.0,     -999.0,9,     -999.0,9,     -999.0,9,     -999.0,9,     -999.0,9,     -999.0,9, -999.00,9,   0.9632,-999.0000,-999.000
325020060213,       P16N,      15,          1,          1,          1,2,20060220,       0310,    -2.9997,  -151.0005,       4747,  4842.3,   1.3653,  34.7050,2,  34.7069,2,    183.1,2,   182.5,2,  127.60,2,   34.10,2,    0.00,2,    2.36,2,  -0.001,2,   0.001,2,-999.000,5,  2291.0,6,  2397.5,2,   -999.0,9,  -999.00,-999.0000,9,  -999.00,-999.000,9,-999.000,-999.0000,9,-999.000,9, -999.00,9,  -999.0,9,    -9.0,-999.000,9,-999.000,   38.92,2,   37.70,2, 4842.30,-999.0000,9,-999.0000,9,-999.0000,9,-999.0000,9,-999.0000,9,-999.0000,9,     -999.0,     -999.0,9,     -999.0,9,     -999.0,9,     -999.0,9,     -999.0,9,     -999.0,9, -999.00,9,   0.9544,-999.0000,-999.000