BOTTLE,20170720CCHSIOCBG
EXPOCODE,SECT_ID,STNNBR,CASTNO,SAMPNO,BTLNBR,BTLNBR_FLAG_W,DATE,TIME,LATITUDE,LONGITUDE,DEPTH,CTDPRS,CTDTMP,CTDSAL,CTDSAL_FLAG_W,SALNTY,SALNTY_FLAG_W,CTDOXY,CTDOXY_FLAG_W,OXYGEN,OXYGEN_FLAG_W,SILCAT,SILCAT_FLAG_W,NITRAT,NITRAT_FLAG_W,NITRIT,NITRIT_FLAG_W,PHSPHT,PHSPHT_FLAG_W,CFC-11,CFC-11_FLAG_W,CFC-12,CFC-12_FLAG_W,CFC113,CFC113_FLAG_W,TCARBN,TCARBN_FLAG_W,ALKALI,ALKALI_FLAG_W,FCO2,FCO2_FLAG_W,FCO2TMP,PH_TOT,PH_TOT_FLAG_W,PH_TMP,TRITUM,TRITUM_FLAG_W,TRITER,HELIUM,HELIUM_FLAG_W,DELHE3,DELHE3_FLAG_W,DELC13,DELC13_FLAG_W,DELC14,DELC14_FLAG_W,C14ERR,NEON,NEON_FLAG_W,NEONER,DOC,DOC_FLAG_W,TDN,TDN_FLAG_W,CTDRAW,CDOM325,CDOM325_FLAG_W,CDOM340,CDOM340_FLAG_W,CDOM380,CDOM380_FLAG_W,CDOM412,CDOM412_FLAG_W,CDOMSL,CDOMSL_FLAG_W,CDOMSN,CDOMSN_FLAG_W,DCNS,ARABI,ARABI_FLAG_W,FUCO,FUCO_FLAG_W,GALA,GALA_FLAG_W,GLUC,GLUC_FLAG_W,MAN,MAN_FLAG_W,RHAM,RHAM_FLAG_W,BRDU,BRDU_FLAG_W,THETA,HELIER,DELHER
,,,,,,,,,,,METERS,DBAR,ITS-90,PSS-78,,PSS-78,,UMOL/KG,,UMOL/KG,,UMOL/KG,,UMOL/KG,,UMOL/KG,,UMOL/KG,,PMOL/KG,,PMOL/KG,,PMOL/KG,,UMOL/KG,,UMOL/KG,,UATM,,DEG C,,,DEG C,TU,,TU,NMOL/KG,,PERCNT,,/MILLE,,/MILLE,,/MILLE,NMOL/KG,,NMOL/KG,UMOL/KG,,UMOL/KG,,DBAR,1/M,,1/M,,1/M,,1/M,,1/NM,,1/NM,,NMOL/KG,NMOL/KG,,NMOL/KG,,NMOL/KG,,NMOL/KG,,NMOL/KG,,NMOL/KG,,PMOL/L/H,,DEG C,NMOL/KG,PERCNT
325020060213,       P16N,      31,          2,          8,          8,2,20060225,       2133,          9,    -151.66,       5168,  3000.0,   1.6796,  34.6786,2,  34.6771,2,    124.3,2,   124.4,2,  153.30,2,   38.00,2,    0.00,2,    2.70,2,-999.000,9,-999.000,9,-999.000,9,  2346.2,2,  2431.1,2,   1284.1,6,    20.00,   7.5527,2,    25.00,-999.000,9,-999.000,-999.0000,9,-999.000,9, -999.00,9,  -999.0,9,    -9.0,-999.000,9,-999.000,   36.85,2,   41.83,2, 3000.00,-999.0000,9,-999.0000,9,-999.0000,9,-999.0000,9,-999.0000,9,-999.0000,9,     -999.0,     -999.0,9,     -999.0,9,     -999.0,9,     -999.0,9,     -999.0,9,     -999.0,9, -999.00,9,   1.4589,-999.0000,-999.000
325020060213,       P16N,      31,          2,          7,          7,2,20060225,       2133,          9,    -151.66,       5168,  3250.3,   1.5832,  34.6838,2,  34.6824,2,    133.6,2,   133.9,2,  152.40,2,   37.40,2,    0.00,2,    2.65,2,  -0.001,2,   0.000,2,-999.000,5,  2343.4,2,  2430.2,2,   1240.4,2,    20.00,   7.5614,2,    25.00,-999.000,9,-999.000,-999.0000,9,-999.000,9, -999.00,9,  -999.0,9,    -9.0,-999.000,9,-999.000,   36.89,2,   40.98,2, 3250.30,   0.1320,2,   0.0890,2,   0.0360,2,   0.0150,2,   0.0235,2,   0.0247,2,     -999.0,     -999.0,9,     -999.0,9,     -999.0,9,     -999.0,9,     -999.0,9,     -999.0,9, -999.00,9,   1.3401,-999.0000,-999.000
325020060213,       P16N,      31,          2,          6,          6,2,20060225,       2133,          9,    -151.66,       5168,  3650.5,   1.4767,  34.6909,2,  34.6897,2,    148.3,2,   149.7,2,  147.40,2,   36.50,2,    0.00,2,    2.57,2,-999.000,9,-999.000,9,-999.000,9,  2326.8,2,  2425.8,6,   1173.0,2,    20.00,   7.5816,2,    25.00,-999.000,9,-999.000,-999.0000,9,-999.000,9, -999.00,9,  -999.0,9,    -9.0,-999.000,9,-999.000,   38.10,2,   40.17,2, 3650.50,-999.0000,9,-999.0000,9,-999.0000,9,-999.0000,9,-999.0000,9,-999.0000,9,     -999.0,     -999.0,9,     -999.0,9,     -999.0,9,     -999.0,9,     -999.0,9,     -999.0,9, -999.00,9,   1.1956,-999.0000,-999.000
325020060213,       P16N,      31,          2,          5,          5,2,20060225,       2133,          9,    -151.66,       5168,  4049.9,   1.3872,  34.6974,2,  34.6958,2,    163.2,2,   163.7,2,  139.70,6,   35.40,6,    0.00,6,    2.49,6,-999.000,9,-999.000,9,-999.000,9,  2310.3,2,  2413.6,2,   1122.0,2,    20.00,   7.5947,2,    25.00,-999.000,9,-999.000,-999.0000,9,-999.000,9, -999.00,9,  -999.0,9,    -9.0,-999.000,9,-999.000,   38.56,2,   38.52,2, 4049.90,   0.0960,2,   0.0590,2,   0.0190,2,   0.0030,3,   0.0310,2,   0.0318,2,     -999.0,     -999.0,9,     -999.0,9,     -999.0,9,     -999.0,9,     -999.0,9,     -999.0,9, -999.00,9,   1.0660,-999.0000,-999.000
325020060213,       P16N,      31,          2,          4,          4,2,20060225,       2133,          9,    -151.66,       5168,  4550.8,   1.3707,  34.7009,2,  34.6997,2,    171.5,2,   172.5,2,  135.30,6,   34.70,6,    0.00,6,    2.44,6,-999.000,9,-999.000,9,-999.000,9,  2305.6,2,  2324.3,4,   1093.9,6,    20.00,   7.6082,2,    25.00,-999.000,9,-999.000,-999.0000,9,-999.000,9, -999.00,9,  -999.0,9,    -9.0,-999.000,9,-999.000,   38.67,2,   38.46,2, 4550.80,-999.0000,9,-999.0000,9,-999.0000,9,-999.0000,9,-999.0000,9,-999.0000,9,     -999.0,     -999.0,9,     -999.0,9,     -999.0,9,     -999.0,9,     -999.0,9,     -999.0,9, -999.00,9,   0.9938,-999.0000,-999.000
325020060213,       P16N,      31,          2,          3,          3,2,20060225,       2133,          9,    -151.66,       5168,  5051.1,   1.4224,  34.7010,2,  34.7003,2,    172.9,2,   172.4,2,  134.50,6,   34.60,6,    0.00,6,    2.43,6,   0.001,2,   0.001,2,-999.000,5,  2304.2,2,  2404.7,2,   1096.6,2,    20.00,   7.6035,2,    25.00,-999.000,9,-999.000,-999.0000,9,-999.000,9, -999.00,9,  -999.0,9,    -9.0,-999.000,9,-999.000,   38.99,2,   37.94,2, 5051.10,   0.0980,2,   0.0590,2,   0.0190,2,   0.0020,3,   0.0315,2,   0.0327,2,     -999.0,     -999.0,9,     -999.0,9,     -999.0,9,     -999.0,9,     -999.0,9,     -999.0,9, -999.00,9,   0.9845,-999.0000,-999.000
325020060213,       P16N,      31,          2,          1,          1,2,20060225,       2133,          9,    -151.66,       5168,  5299.0,   1.4527,  34.7009,2,  34.6999,2,    173.0,2,   172.6,2,  134.60,2,   34.60,2,    0.00,2,    2.43,2,   0.001,2,   0.002,2,-999.000,5,  2304.3,6,  -999.0,5,   1092.7,2,    20.00,   7.6177,2,    25.00,-999.000,9,-999.000,-999.0000,9,-999.000,9, -999.00,9,  -999.0,9,    -9.0,-999.000,9,-999.000,   38.71,2,   38.10,2, 5299.00,-999.0000,9,-999.0000,9,-999.0000,9,-999.0000,9,-999.0000,9,-999.0000,9,     -999.0,     -999.0,9,     -999.0,9,     -999.0,9,     -999.0,9,     -999.0,9,     -999.0,9, -999.00,9,   0.9832,-999.0000,-999.000