BOTTLE,20170720CCHSIOCBG
EXPOCODE,SECT_ID,STNNBR,CASTNO,SAMPNO,BTLNBR,BTLNBR_FLAG_W,DATE,TIME,LATITUDE,LONGITUDE,DEPTH,CTDPRS,CTDTMP,CTDSAL,CTDSAL_FLAG_W,SALNTY,SALNTY_FLAG_W,CTDOXY,CTDOXY_FLAG_W,OXYGEN,OXYGEN_FLAG_W,SILCAT,SILCAT_FLAG_W,NITRAT,NITRAT_FLAG_W,NITRIT,NITRIT_FLAG_W,PHSPHT,PHSPHT_FLAG_W,CFC-11,CFC-11_FLAG_W,CFC-12,CFC-12_FLAG_W,CFC113,CFC113_FLAG_W,TCARBN,TCARBN_FLAG_W,ALKALI,ALKALI_FLAG_W,FCO2,FCO2_FLAG_W,FCO2TMP,PH_TOT,PH_TOT_FLAG_W,PH_TMP,TRITUM,TRITUM_FLAG_W,TRITER,HELIUM,HELIUM_FLAG_W,DELHE3,DELHE3_FLAG_W,DELC13,DELC13_FLAG_W,DELC14,DELC14_FLAG_W,C14ERR,NEON,NEON_FLAG_W,NEONER,DOC,DOC_FLAG_W,TDN,TDN_FLAG_W,CTDRAW,CDOM325,CDOM325_FLAG_W,CDOM340,CDOM340_FLAG_W,CDOM380,CDOM380_FLAG_W,CDOM412,CDOM412_FLAG_W,CDOMSL,CDOMSL_FLAG_W,CDOMSN,CDOMSN_FLAG_W,DCNS,ARABI,ARABI_FLAG_W,FUCO,FUCO_FLAG_W,GALA,GALA_FLAG_W,GLUC,GLUC_FLAG_W,MAN,MAN_FLAG_W,RHAM,RHAM_FLAG_W,BRDU,BRDU_FLAG_W,THETA,HELIER,DELHER
,,,,,,,,,,,METERS,DBAR,ITS-90,PSS-78,,PSS-78,,UMOL/KG,,UMOL/KG,,UMOL/KG,,UMOL/KG,,UMOL/KG,,UMOL/KG,,PMOL/KG,,PMOL/KG,,PMOL/KG,,UMOL/KG,,UMOL/KG,,UATM,,DEG C,,,DEG C,TU,,TU,NMOL/KG,,PERCNT,,/MILLE,,/MILLE,,/MILLE,NMOL/KG,,NMOL/KG,UMOL/KG,,UMOL/KG,,DBAR,1/M,,1/M,,1/M,,1/M,,1/NM,,1/NM,,NMOL/KG,NMOL/KG,,NMOL/KG,,NMOL/KG,,NMOL/KG,,NMOL/KG,,NMOL/KG,,PMOL/L/H,,DEG C,NMOL/KG,PERCNT
325020060213,       P16N,       4,          1,          8,          8,2,20060215,       1800,   -14.0002,       -151,       4286,  2700.6,   1.8651,  34.6686,2,  34.6574,4,    149.5,2,   149.9,2,  126.80,2,   36.20,2,    0.00,2,    2.52,2,   0.001,2,   0.001,2,-999.000,5,  2313.5,2,  2407.1,2,   -999.0,9,  -999.00,   7.5824,2,    25.00,-999.000,9,-999.000,-999.0000,9,-999.000,9, -999.00,9,  -999.0,9,    -9.0,-999.000,9,-999.000,   36.66,2,   39.57,2, 2700.60,   0.1010,2,   0.0660,2,   0.0280,2,   0.0160,2,   0.0231,2,   0.0245,2,     -999.0,     -999.0,9,     -999.0,9,     -999.0,9,     -999.0,9,     -999.0,9,     -999.0,9, -999.00,9,   1.6689,-999.0000,-999.000
325020060213,       P16N,       4,          1,          7,          7,2,20060215,       1800,   -14.0002,       -151,       4286,  2899.8,   1.7943,  34.6745,2,  34.6663,4,    152.1,2,   152.1,2,  128.30,2,   36.00,2,    0.00,2,    2.51,2,-999.000,9,-999.000,9,-999.000,9,  2313.6,2,  2407.5,2,   1126.8,2,    20.00,   7.5861,2,    25.00,-999.000,9,-999.000,-999.0000,9,-999.000,9, -999.00,9,  -999.0,9,    -9.0,-999.000,9,-999.000,   35.59,2,   39.79,2, 2899.80,   0.1020,2,   0.0670,2,   0.0280,2,   0.0160,2,   0.0233,2,   0.0248,2,     -999.0,     -999.0,9,     -999.0,9,     -999.0,9,     -999.0,9,     -999.0,9,     -999.0,9, -999.00,9,   1.5807,-999.0000,-999.000
325020060213,       P16N,       4,          1,          6,          6,2,20060215,       1800,   -14.0002,       -151,       4286,  3151.7,   1.6868,  34.6803,2,  34.6598,4,    159.9,2,   159.7,2,  126.90,2,   35.60,2,    0.00,2,    2.47,2,-999.000,9,-999.000,9,-999.000,9,  2307.3,2,  2403.4,6,   1128.1,2,    20.00,   7.5891,2,    25.00,-999.000,9,-999.000,-999.0000,9,-999.000,9, -999.00,9,  -999.0,9,    -9.0,-999.000,9,-999.000,   35.84,2,   39.12,2, 3151.70,   0.0980,2,   0.0640,2,   0.0260,2,   0.0140,2,   0.0250,2,   0.0264,2,     -999.0,     -999.0,9,     -999.0,9,     -999.0,9,     -999.0,9,     -999.0,9,     -999.0,9, -999.00,9,   1.4511,-999.0000,-999.000
325020060213,       P16N,       4,          1,          5,          5,2,20060215,       1800,   -14.0002,       -151,       4286,  3450.0,   1.5725,  34.6878,2,  34.6795,4,    168.2,2,   167.9,2,  125.20,6,   35.00,6,    0.00,6,    2.43,6,   0.000,2,   0.000,2,-999.000,5,  2300.6,2,  2399.2,2,   -999.0,9,  -999.00,   7.5921,2,    25.00,-999.000,9,-999.000,-999.0000,9,-999.000,9, -999.00,9,  -999.0,9,    -9.0,-999.000,9,-999.000,   38.83,2,   38.32,2, 3450.00,   0.0940,2,   0.0610,2,   0.0230,2,   0.0130,2,   0.0260,2,   0.0271,2,     -999.0,     -999.0,9,     -999.0,9,     -999.0,9,     -999.0,9,     -999.0,9,     -999.0,9, -999.00,9,   1.3097,-999.0000,-999.000
325020060213,       P16N,       4,          1,          4,          4,2,20060215,       1800,   -14.0002,       -151,       4286,  3751.4,   1.4967,  34.6936,2,  34.6724,4,    175.2,2,   174.8,2,  123.40,6,   34.50,6,    0.00,6,    2.39,6,-999.000,9,-999.000,9,-999.000,9,  2292.9,2,  2395.5,2,   1073.5,2,    20.00,   7.5994,2,    25.00,-999.000,9,-999.000,-999.0000,9,-999.000,9, -999.00,9,  -999.0,9,    -9.0,-999.000,9,-999.000,   38.78,2,   38.21,2, 3751.40,   0.0930,2,   0.0610,2,   0.0230,2,   0.0130,2,   0.0258,2,   0.0269,2,     -999.0,     -999.0,9,     -999.0,9,     -999.0,9,     -999.0,9,     -999.0,9,     -999.0,9, -999.00,9,   1.2045,-999.0000,-999.000
325020060213,       P16N,       4,          1,          3,          3,2,20060215,       1800,   -14.0002,       -151,       4286,  4052.1,   1.4000,  34.7000,2,  34.6901,4,    183.0,2,   182.6,2,  121.70,6,   33.90,6,    0.00,6,    2.36,6,-999.000,9,-999.000,9,-999.000,9,  2285.8,2,  2389.4,2,   1073.3,2,    20.00,   7.6059,2,    25.00,-999.000,9,-999.000,-999.0000,9,-999.000,9, -999.00,9,  -999.0,9,    -9.0,-999.000,9,-999.000,   39.15,2,   36.94,2, 4052.10,   0.0870,2,   0.0560,2,   0.0210,2,   0.0110,2,   0.0267,2,   0.0280,2,     -999.0,     -999.0,9,     -999.0,9,     -999.0,9,     -999.0,9,     -999.0,9,     -999.0,9, -999.00,9,   1.0781,-999.0000,-999.000
325020060213,       P16N,       4,          1,          1,          1,2,20060215,       1800,   -14.0002,       -151,       4286,  4384.9,   1.3358,  34.7046,2,  34.6973,4,    189.4,2,   187.9,2,  121.10,6,   33.60,6,    0.00,6,    2.33,6,  -0.003,2,   0.000,2,-999.000,5,  2281.6,6,  2386.7,2,   1053.4,2,    20.00,   7.6076,2,    25.00,-999.000,9,-999.000,-999.0000,9,-999.000,9, -999.00,9,  -999.0,9,    -9.0,-999.000,9,-999.000,   38.28,2,   36.96,2, 4384.90,   0.0890,2,   0.0570,2,   0.0220,2,   0.0120,2,   0.0259,2,   0.0273,2,     -999.0,     -999.0,9,     -999.0,9,     -999.0,9,     -999.0,9,     -999.0,9,     -999.0,9, -999.00,9,   0.9789,-999.0000,-999.000