BOTTLE,20170720CCHSIOCBG
EXPOCODE,SECT_ID,STNNBR,CASTNO,SAMPNO,BTLNBR,BTLNBR_FLAG_W,DATE,TIME,LATITUDE,LONGITUDE,DEPTH,CTDPRS,CTDTMP,CTDSAL,CTDSAL_FLAG_W,SALNTY,SALNTY_FLAG_W,CTDOXY,CTDOXY_FLAG_W,OXYGEN,OXYGEN_FLAG_W,SILCAT,SILCAT_FLAG_W,NITRAT,NITRAT_FLAG_W,NITRIT,NITRIT_FLAG_W,PHSPHT,PHSPHT_FLAG_W,CFC-11,CFC-11_FLAG_W,CFC-12,CFC-12_FLAG_W,CFC113,CFC113_FLAG_W,TCARBN,TCARBN_FLAG_W,ALKALI,ALKALI_FLAG_W,FCO2,FCO2_FLAG_W,FCO2TMP,PH_TOT,PH_TOT_FLAG_W,PH_TMP,TRITUM,TRITUM_FLAG_W,TRITER,HELIUM,HELIUM_FLAG_W,DELHE3,DELHE3_FLAG_W,DELC13,DELC13_FLAG_W,DELC14,DELC14_FLAG_W,C14ERR,NEON,NEON_FLAG_W,NEONER,DOC,DOC_FLAG_W,TDN,TDN_FLAG_W,CTDRAW,CDOM325,CDOM325_FLAG_W,CDOM340,CDOM340_FLAG_W,CDOM380,CDOM380_FLAG_W,CDOM412,CDOM412_FLAG_W,CDOMSL,CDOMSL_FLAG_W,CDOMSN,CDOMSN_FLAG_W,DCNS,ARABI,ARABI_FLAG_W,FUCO,FUCO_FLAG_W,GALA,GALA_FLAG_W,GLUC,GLUC_FLAG_W,MAN,MAN_FLAG_W,RHAM,RHAM_FLAG_W,BRDU,BRDU_FLAG_W,THETA,HELIER,DELHER
,,,,,,,,,,,METERS,DBAR,ITS-90,PSS-78,,PSS-78,,UMOL/KG,,UMOL/KG,,UMOL/KG,,UMOL/KG,,UMOL/KG,,UMOL/KG,,PMOL/KG,,PMOL/KG,,PMOL/KG,,UMOL/KG,,UMOL/KG,,UATM,,DEG C,,,DEG C,TU,,TU,NMOL/KG,,PERCNT,,/MILLE,,/MILLE,,/MILLE,NMOL/KG,,NMOL/KG,UMOL/KG,,UMOL/KG,,DBAR,1/M,,1/M,,1/M,,1/M,,1/NM,,1/NM,,NMOL/KG,NMOL/KG,,NMOL/KG,,NMOL/KG,,NMOL/KG,,NMOL/KG,,NMOL/KG,,PMOL/L/H,,DEG C,NMOL/KG,PERCNT
325020060213,       P16N,      29,          2,          8,          8,2,20060225,       0159,     7.0005,  -151.3288,       5362,  3000.6,   1.6828,  34.6796,2,  34.6780,2,    126.6,2,   125.9,2,  152.50,2,   38.10,2,    0.00,2,    2.63,2,-999.000,9,-999.000,9,-999.000,9,  2347.0,2,  2435.1,2,   -999.0,9,  -999.00,   7.5542,2,    25.00,-999.000,9,-999.000,-999.0000,9,-999.000,9, -999.00,5,  -231.2,2,     2.5,-999.000,9,-999.000,   37.82,2,   42.18,2, 3000.60,-999.0000,9,-999.0000,9,-999.0000,9,-999.0000,9,-999.0000,9,-999.0000,9,     -999.0,     -999.0,9,     -999.0,9,     -999.0,9,     -999.0,9,     -999.0,9,     -999.0,9, -999.00,9,   1.4619,-999.0000,-999.000
325020060213,       P16N,      29,          2,          7,          7,2,20060225,       0159,     7.0005,  -151.3288,       5362,  3249.4,   1.5669,  34.6856,2,  34.6843,2,    138.5,2,   139.1,2,  149.40,2,   37.30,2,    0.00,2,    2.57,2,   0.000,2,   0.001,2,-999.000,5,  2337.5,2,  2431.3,2,   -999.0,9,  -999.00,   7.5655,2,    25.00,-999.000,9,-999.000,-999.0000,9,-999.000,9, -999.00,5,  -227.4,2,     2.3,-999.000,9,-999.000,   37.42,2,   40.61,2, 3249.40,   0.1060,2,   0.0670,2,   0.0240,2,   0.0060,3,   0.0277,2,   0.0291,2,     -999.0,     -999.0,9,     -999.0,9,     -999.0,9,     -999.0,9,     -999.0,9,     -999.0,9, -999.00,9,   1.3243,-999.0000,-999.000
325020060213,       P16N,      29,          2,          6,          6,2,20060225,       0159,     7.0005,  -151.3288,       5362,  3650.7,   1.4931,  34.6913,2,  34.6890,2,    149.1,2,   149.0,2,  146.20,2,   36.60,2,    0.00,2,    2.51,2,-999.000,9,-999.000,9,-999.000,9,  2329.1,2,  2428.6,6,   -999.0,9,  -999.00,   7.5829,2,    25.00,-999.000,9,-999.000,-999.0000,9,-999.000,9, -999.00,5,  -220.9,2,     2.9,-999.000,9,-999.000,   36.89,2,   40.61,2, 3650.70,-999.0000,9,-999.0000,9,-999.0000,9,-999.0000,9,-999.0000,9,-999.0000,9,     -999.0,     -999.0,9,     -999.0,9,     -999.0,9,     -999.0,9,     -999.0,9,     -999.0,9, -999.00,9,   1.2116,-999.0000,-999.000
325020060213,       P16N,      29,          2,          5,          5,2,20060225,       0159,     7.0005,  -151.3288,       5362,  4050.2,   1.4274,  34.6967,2,  34.6941,2,    159.6,2,   159.4,2,  142.00,6,   35.80,6,    0.00,6,    2.45,6,-999.000,9,-999.000,9,-999.000,9,  2319.7,2,  2427.6,2,   -999.0,9,  -999.00,-999.0000,9,  -999.00,-999.000,9,-999.000,-999.0000,9,-999.000,9, -999.00,5,  -207.1,2,     2.7,-999.000,9,-999.000,   37.57,2,   39.83,2, 4050.20,   0.0940,2,   0.0570,2,   0.0170,2,   0.0010,3,   0.0318,2,   0.0329,2,     -999.0,     -999.0,9,     -999.0,9,     -999.0,9,     -999.0,9,     -999.0,9,     -999.0,9, -999.00,9,   1.1050,-999.0000,-999.000
325020060213,       P16N,      29,          2,          4,          4,2,20060225,       0159,     7.0005,  -151.3288,       5362,  4549.5,   1.3859,  34.7004,2,  34.6996,2,    169.7,2,   170.0,2,  136.80,6,   35.10,6,    0.00,6,    2.39,6,-999.000,9,-999.000,9,-999.000,9,  2308.0,2,  2418.1,2,   -999.0,9,  -999.00,   7.6000,2,    25.00,-999.000,9,-999.000,-999.0000,9,-999.000,9, -999.00,5,  -207.5,2,     3.0,-999.000,9,-999.000,   38.30,2,   39.06,2, 4549.50,-999.0000,9,-999.0000,9,-999.0000,9,-999.0000,9,-999.0000,9,-999.0000,9,     -999.0,     -999.0,9,     -999.0,9,     -999.0,9,     -999.0,9,     -999.0,9,     -999.0,9, -999.00,9,   1.0087,-999.0000,-999.000
325020060213,       P16N,      29,          2,          3,          3,2,20060225,       0159,     7.0005,  -151.3288,       5362,  5050.5,   1.4285,  34.7010,2,  34.7008,2,    172.1,2,   172.0,2,  135.40,6,   34.90,6,    0.00,6,    2.38,6,  -0.001,2,   0.000,2,-999.000,5,  2305.2,2,  2414.4,2,   -999.0,9,  -999.00,   7.6072,2,    25.00,-999.000,9,-999.000,-999.0000,9,-999.000,9, -999.00,5,  -197.0,2,     2.5,-999.000,9,-999.000,   39.00,2,   38.23,2, 5050.50,   0.0940,2,   0.0540,2,   0.0140,2,  -0.0020,4,   0.0344,2,   0.0359,2,     -999.0,     -999.0,9,     -999.0,9,     -999.0,9,     -999.0,9,     -999.0,9,     -999.0,9, -999.00,9,   0.9905,-999.0000,-999.000
325020060213,       P16N,      29,          2,          1,          1,2,20060225,       0159,     7.0005,  -151.3288,       5362,  5452.1,   1.4789,  34.7010,2,  34.7009,2,    172.4,2,   171.9,2,  135.40,2,   34.90,2,    0.00,2,    2.38,2,  -0.001,2,   0.000,2,-999.000,5,  2306.8,6,  2413.6,2,   -999.0,9,  -999.00,   7.6001,2,    25.00,-999.000,9,-999.000,-999.0000,9,-999.000,9, -999.00,5,  -201.7,2,     2.2,-999.000,9,-999.000,   39.98,2,   38.22,2, 5452.10,-999.0000,9,-999.0000,9,-999.0000,9,-999.0000,9,-999.0000,9,-999.0000,9,     -999.0,     -999.0,9,     -999.0,9,     -999.0,9,     -999.0,9,     -999.0,9,     -999.0,9, -999.00,9,   0.9891,-999.0000,-999.000