BOTTLE,20170720CCHSIOCBG
EXPOCODE,SECT_ID,STNNBR,CASTNO,SAMPNO,BTLNBR,BTLNBR_FLAG_W,DATE,TIME,LATITUDE,LONGITUDE,DEPTH,CTDPRS,CTDTMP,CTDSAL,CTDSAL_FLAG_W,SALNTY,SALNTY_FLAG_W,CTDOXY,CTDOXY_FLAG_W,OXYGEN,OXYGEN_FLAG_W,SILCAT,SILCAT_FLAG_W,NITRAT,NITRAT_FLAG_W,NITRIT,NITRIT_FLAG_W,PHSPHT,PHSPHT_FLAG_W,CFC-11,CFC-11_FLAG_W,CFC-12,CFC-12_FLAG_W,CFC113,CFC113_FLAG_W,TCARBN,TCARBN_FLAG_W,ALKALI,ALKALI_FLAG_W,FCO2,FCO2_FLAG_W,FCO2TMP,PH_TOT,PH_TOT_FLAG_W,PH_TMP,TRITUM,TRITUM_FLAG_W,TRITER,HELIUM,HELIUM_FLAG_W,DELHE3,DELHE3_FLAG_W,DELC13,DELC13_FLAG_W,DELC14,DELC14_FLAG_W,C14ERR,NEON,NEON_FLAG_W,NEONER,DOC,DOC_FLAG_W,TDN,TDN_FLAG_W,CTDRAW,CDOM325,CDOM325_FLAG_W,CDOM340,CDOM340_FLAG_W,CDOM380,CDOM380_FLAG_W,CDOM412,CDOM412_FLAG_W,CDOMSL,CDOMSL_FLAG_W,CDOMSN,CDOMSN_FLAG_W,DCNS,ARABI,ARABI_FLAG_W,FUCO,FUCO_FLAG_W,GALA,GALA_FLAG_W,GLUC,GLUC_FLAG_W,MAN,MAN_FLAG_W,RHAM,RHAM_FLAG_W,BRDU,BRDU_FLAG_W,THETA,HELIER,DELHER
,,,,,,,,,,,METERS,DBAR,ITS-90,PSS-78,,PSS-78,,UMOL/KG,,UMOL/KG,,UMOL/KG,,UMOL/KG,,UMOL/KG,,UMOL/KG,,PMOL/KG,,PMOL/KG,,PMOL/KG,,UMOL/KG,,UMOL/KG,,UATM,,DEG C,,,DEG C,TU,,TU,NMOL/KG,,PERCNT,,/MILLE,,/MILLE,,/MILLE,NMOL/KG,,NMOL/KG,UMOL/KG,,UMOL/KG,,DBAR,1/M,,1/M,,1/M,,1/M,,1/NM,,1/NM,,NMOL/KG,NMOL/KG,,NMOL/KG,,NMOL/KG,,NMOL/KG,,NMOL/KG,,NMOL/KG,,PMOL/L/H,,DEG C,NMOL/KG,PERCNT
325020060213,       P16N,      11,          1,         35,         35,2,20060218,       1250,    -7.0002,  -151.0007,       5130,     6.0,  28.5441,  35.9019,2,  35.9016,2,    198.1,2,   197.3,2,    0.00,2,    0.40,2,    0.00,2,    0.24,2,   1.546,2,   0.974,2,-999.000,5,  2006.2,2,  2363.8,2,   -999.0,9,  -999.00,   8.1214,2,    25.00,   0.502,2,   0.003,   1.6938,2,   -1.73,2, -999.00,5,    66.0,2,     3.3,   6.606,2,   0.020,   71.22,2,    4.22,2,    6.00,-999.0000,9,-999.0000,9,-999.0000,9,-999.0000,9,-999.0000,9,-999.0000,9,     -999.0,     -999.0,9,     -999.0,9,     -999.0,9,     -999.0,9,     -999.0,9,     -999.0,9, -999.00,9,  28.5427,   0.0051,    0.14
325020060213,       P16N,      11,          1,         34,         34,2,20060218,       1250,    -7.0002,  -151.0007,       5130,    25.1,  28.5531,  35.9017,2,  35.9024,2,    196.4,2,   197.5,2,    0.00,2,    0.40,2,    0.00,2,    0.24,2,   1.520,2,   0.977,2,-999.000,5,  2007.9,2,  2362.7,2,   -999.0,9,  -999.00,   8.1175,2,    25.00,   0.499,2,   0.003,   1.6906,2,   -1.84,2, -999.00,5,    62.7,2,     3.3,   6.605,2,   0.020,   71.82,2,    4.91,2,   25.10,-999.0000,9,-999.0000,9,-999.0000,9,-999.0000,9,-999.0000,9,-999.0000,9,     -999.0,     -999.0,9,     -999.0,9,     -999.0,9,     -999.0,9,     -999.0,9,     -999.0,9, -999.00,9,  28.5471,   0.0051,    0.14
325020060213,       P16N,      11,          1,         33,         33,2,20060218,       1250,    -7.0002,  -151.0007,       5130,    50.8,  28.5551,  35.9017,2,  35.9004,2,    196.9,2,   197.4,2,    0.00,2,    0.40,2,    0.00,2,    0.25,2,   1.553,2,   0.974,2,-999.000,5,  2007.1,2,  2363.1,2,   -999.0,9,  -999.00,   8.1196,2,    25.00,   0.498,2,   0.003,   1.7074,2,   -1.41,2, -999.00,5,    64.4,2,     3.3,   6.590,2,   0.020,   71.39,2,    4.70,2,   50.80,-999.0000,9,-999.0000,9,-999.0000,9,-999.0000,9,-999.0000,9,-999.0000,9,     -999.0,     -999.0,9,     -999.0,9,     -999.0,9,     -999.0,9,     -999.0,9,     -999.0,9, -999.00,9,  28.5430,   0.0051,    0.14
325020060213,       P16N,      11,          1,         32,         32,2,20060218,       1250,    -7.0002,  -151.0007,       5130,    75.1,  28.4864,  35.9156,2,  35.9168,2,    194.8,2,   195.2,2,    0.10,2,    0.40,2,    0.00,2,    0.26,2,   1.531,2,   0.970,2,-999.000,5,  2009.3,2,  2368.1,2,   -999.0,9,  -999.00,   8.1164,2,    25.00,   0.521,2,   0.003,   1.6914,2,   -1.69,2, -999.00,9,  -999.0,9,    -9.0,   6.613,2,   0.020,   68.18,2,    4.79,2,   75.10,-999.0000,9,-999.0000,9,-999.0000,9,-999.0000,9,-999.0000,9,-999.0000,9,     -999.0,     -999.0,9,     -999.0,9,     -999.0,9,     -999.0,9,     -999.0,9,     -999.0,9, -999.00,9,  28.4685,   0.0051,    0.14
325020060213,       P16N,      11,          1,         31,         31,2,20060218,       1250,    -7.0002,  -151.0007,       5130,   100.3,  27.8381,  36.2294,2,  36.1917,2,    178.9,2,   180.6,2,    0.30,2,    0.30,2,    0.30,2,    0.31,2,   1.599,2,   0.994,2,-999.000,5,  2034.3,2,  2386.6,2,   -999.0,9,  -999.00,   8.0994,2,    25.00,   0.455,2,   0.003,   1.7109,2,   -1.15,2, -999.00,5,    57.6,2,     3.7,   6.679,2,   0.020,   66.16,2,    5.54,2,  100.30,-999.0000,9,-999.0000,9,-999.0000,9,-999.0000,9,-999.0000,9,-999.0000,9,     -999.0,     -999.0,9,     -999.0,9,     -999.0,9,     -999.0,9,     -999.0,9,     -999.0,9, -999.00,9,  27.8145,   0.0051,    0.14
325020060213,       P16N,      11,          1,         30,         30,2,20060218,       1250,    -7.0002,  -151.0007,       5130,   126.2,  26.2861,  36.4044,2,  36.4138,2,    161.0,2,   160.9,2,    0.40,2,    2.90,2,    0.40,2,    0.46,2,   1.727,2,   1.068,2,-999.000,5,  2080.4,2,  2398.3,2,   -999.0,9,  -999.00,   8.0407,2,    25.00,   0.449,3,   0.004,   1.7016,2,   -1.54,2, -999.00,5,    62.5,2,     3.0,   6.725,2,   0.020,   58.93,2,    7.12,2,  126.20,-999.0000,9,-999.0000,9,-999.0000,9,-999.0000,9,-999.0000,9,-999.0000,9,     -999.0,     -999.0,9,     -999.0,9,     -999.0,9,     -999.0,9,     -999.0,9,     -999.0,9, -999.00,9,  26.2576,   0.0051,    0.14
325020060213,       P16N,      11,          1,         29,         29,2,20060218,       1250,    -7.0002,  -151.0007,       5130,   151.3,  24.5581,  36.3785,2,  36.3790,2,    159.0,2,   159.4,2,    0.40,2,    3.90,2,    0.00,2,    0.52,2,   1.856,2,   1.161,2,-999.000,5,  2099.9,2,  2346.4,4,   -999.0,9,  -999.00,   8.0051,2,    25.00,   0.451,3,   0.003,   1.7147,2,   -1.38,2, -999.00,5,    67.2,2,     3.6,   6.792,2,   0.020,   55.55,2,    7.79,2,  151.30,-999.0000,9,-999.0000,9,-999.0000,9,-999.0000,9,-999.0000,9,-999.0000,9,     -999.0,     -999.0,9,     -999.0,9,     -999.0,9,     -999.0,9,     -999.0,9,     -999.0,9, -999.00,9,  24.5256,   0.0051,    0.14
325020060213,       P16N,      11,          1,         28,         28,2,20060218,       1250,    -7.0002,  -151.0007,       5130,   199.1,  19.2964,  35.6093,2,  35.6206,2,    137.1,2,   139.3,2,    2.20,2,    9.40,2,    0.00,2,    0.92,2,   2.175,6,   1.262,6,-999.000,5,  2133.5,2,  2347.5,4,   -999.0,9,  -999.00,   7.8692,2,    25.00,   0.321,2,   0.003,   1.7402,2,   -0.81,2, -999.00,5,    73.8,2,     3.5,   7.065,2,   0.021,   51.49,2,   13.92,2,  199.10,-999.0000,9,-999.0000,9,-999.0000,9,-999.0000,9,-999.0000,9,-999.0000,9,     -999.0,     -999.0,9,     -999.0,9,     -999.0,9,     -999.0,9,     -999.0,9,     -999.0,9, -999.00,9,  19.2603,   0.0052,    0.14
325020060213,       P16N,      11,          1,         27,         27,9,20060218,       1250,    -7.0002,  -151.0007,       5130,   249.5,  12.3415,  34.8573,2,-999.0000,9,     63.9,2,  -999.0,9, -999.00,9, -999.00,9, -999.00,9, -999.00,9,-999.000,9,-999.000,9,-999.000,9,  -999.0,9,  -999.0,9,   -999.0,9,  -999.00,-999.0000,9,  -999.00,-999.000,9,-999.000,-999.0000,9,-999.000,9, -999.00,9,  -999.0,9,    -9.0,-999.000,9,-999.000, -999.00,9, -999.00,9,  249.50,-999.0000,9,-999.0000,9,-999.0000,9,-999.0000,9,-999.0000,9,-999.0000,9,     -999.0,     -999.0,9,     -999.0,9,     -999.0,9,     -999.0,9,     -999.0,9,     -999.0,9, -999.00,9,  12.3083,-999.0000,-999.000
325020060213,       P16N,      11,          1,         26,         26,9,20060218,       1250,    -7.0002,  -151.0007,       5130,   300.7,  10.0496,  34.7456,2,-999.0000,9,     81.4,2,  -999.0,9, -999.00,9, -999.00,9, -999.00,9, -999.00,9,-999.000,9,-999.000,9,-999.000,9,  -999.0,9,  -999.0,9,   -999.0,9,  -999.00,-999.0000,9,  -999.00,-999.000,9,-999.000,-999.0000,9,-999.000,9, -999.00,9,  -999.0,9,    -9.0,-999.000,9,-999.000, -999.00,9, -999.00,9,  300.70,-999.0000,9,-999.0000,9,-999.0000,9,-999.0000,9,-999.0000,9,-999.0000,9,     -999.0,     -999.0,9,     -999.0,9,     -999.0,9,     -999.0,9,     -999.0,9,     -999.0,9, -999.00,9,  10.0145,-999.0000,-999.000
325020060213,       P16N,      11,          1,         25,         25,2,20060218,       1250,    -7.0002,  -151.0007,       5130,   349.8,   9.0667,  34.6849,2,  34.6908,2,     94.4,2,    94.0,2,   25.10,2,   30.70,2,    0.00,2,    2.10,2,   0.402,6,   0.221,6,-999.000,5,  2213.5,6,  2308.4,2,   -999.0,9,  -999.00,   7.5759,2,    25.00,   0.104,2,   0.002,   1.7821,2,    3.76,2, -999.00,5,   -59.0,2,     3.4,   7.495,2,   0.022,   47.32,2,   35.26,2,  349.80,-999.0000,9,-999.0000,9,-999.0000,9,-999.0000,9,-999.0000,9,-999.0000,9,     -999.0,     -999.0,9,     -999.0,9,     -999.0,9,     -999.0,9,     -999.0,9,     -999.0,9, -999.00,9,   9.0284,   0.0053,    0.14
325020060213,       P16N,      11,          1,         24,         24,2,20060218,       1250,    -7.0002,  -151.0007,       5130,   400.5,   8.4434,  34.6440,2,  34.6447,2,    101.3,2,   101.3,2,   27.70,2,   31.50,2,    0.00,2,    2.14,2,   0.331,2,   0.182,2,-999.000,5,  2215.4,2,  2308.5,2,   -999.0,9,  -999.00,   7.5728,2,    25.00,   0.093,2,   0.002,   1.7961,2,    5.05,2, -999.00,5,   -69.7,2,     2.9,   7.628,2,   0.023,   44.55,2,   35.09,2,  400.50,-999.0000,9,-999.0000,9,-999.0000,9,-999.0000,9,-999.0000,9,-999.0000,9,     -999.0,     -999.0,9,     -999.0,9,     -999.0,9,     -999.0,9,     -999.0,9,     -999.0,9, -999.00,9,   8.4013,   0.0054,    0.14
325020060213,       P16N,      11,          1,         23,         23,2,20060218,       1250,    -7.0002,  -151.0007,       5130,   449.6,   8.0626,  34.6207,2,  34.6211,2,     96.8,2,    96.6,2,   30.20,2,   32.80,2,    0.00,2,    2.22,2,   0.220,2,   0.127,2,-999.000,5,  2220.8,2,  2308.7,2,   -999.0,9,  -999.00,   7.5549,2,    25.00,   0.063,2,   0.002,   1.8126,2,    5.48,2, -999.00,5,   -84.0,2,     3.1,   7.691,2,   0.023,   43.53,2,   36.98,2,  449.60,-999.0000,9,-999.0000,9,-999.0000,9,-999.0000,9,-999.0000,9,-999.0000,9,     -999.0,     -999.0,9,     -999.0,9,     -999.0,9,     -999.0,9,     -999.0,9,     -999.0,9, -999.00,9,   8.0164,   0.0054,    0.14
325020060213,       P16N,      11,          1,         22,         22,2,20060218,       1250,    -7.0002,  -151.0007,       5130,   500.4,   7.5101,  34.5920,2,  34.5934,2,     93.9,2,    93.7,2,   34.30,2,   34.40,2,    0.00,2,    2.32,2,   0.142,2,   0.085,2,-999.000,5,  2229.4,2,  2308.2,2,   -999.0,9,  -999.00,-999.0000,9,  -999.00,   0.042,2,   0.005,   1.8157,2,    6.05,2, -999.00,5,   -92.4,2,     2.6,   7.707,2,   0.023,   42.25,2,   38.86,2,  500.40,-999.0000,9,-999.0000,9,-999.0000,9,-999.0000,9,-999.0000,9,-999.0000,9,     -999.0,     -999.0,9,     -999.0,9,     -999.0,9,     -999.0,9,     -999.0,9,     -999.0,9, -999.00,9,   7.4606,   0.0054,    0.14
325020060213,       P16N,      11,          1,         21,         21,2,20060218,       1250,    -7.0002,  -151.0007,       5130,   601.1,   6.7285,  34.5607,2,  34.5612,2,     89.0,2,    89.8,2,   42.10,2,   36.40,2,    0.00,2,    2.47,2,   0.219,4,   0.043,2,-999.000,5,  2243.1,2,  2314.6,2,   -999.0,9,  -999.00,   7.5125,2,    25.00,   0.020,2,   0.005,   1.8173,2,    7.65,2, -999.00,5,  -114.1,2,     3.1,   7.742,2,   0.023,   41.08,2,   40.39,2,  601.10,-999.0000,9,-999.0000,9,-999.0000,9,-999.0000,9,-999.0000,9,-999.0000,9,     -999.0,     -999.0,9,     -999.0,9,     -999.0,9,     -999.0,9,     -999.0,9,     -999.0,9, -999.00,9,   6.6721,   0.0055,    0.14
325020060213,       P16N,      11,          1,         20,         20,2,20060218,       1250,    -7.0002,  -151.0007,       5130,   701.1,   5.8997,  34.5478,2,  34.5516,2,     76.0,2,    76.6,2,   54.30,2,   39.40,2,    0.00,2,    2.69,2,   0.013,2,   0.008,2,-999.000,5,  2265.5,2,  2324.9,2,   -999.0,9,  -999.00,   7.4745,2,    25.00,-999.000,9,-999.000,   1.8385,2,   10.45,2, -999.00,5,  -138.7,2,     2.6,   7.851,2,   0.024,   39.95,2,   43.28,2,  701.10,-999.0000,9,-999.0000,9,-999.0000,9,-999.0000,9,-999.0000,9,-999.0000,9,     -999.0,     -999.0,9,     -999.0,9,     -999.0,9,     -999.0,9,     -999.0,9,     -999.0,9, -999.00,9,   5.8379,   0.0055,    0.14
325020060213,       P16N,      11,          1,         19,         19,2,20060218,       1250,    -7.0002,  -151.0007,       5130,   800.0,   5.2682,  34.5425,2,  34.5451,2,     80.5,2,    81.4,2,   63.70,2,   39.80,2,    0.00,2,    2.74,2,   0.005,2,   0.003,2,-999.000,5,  2274.6,2,  2337.6,2,   -999.0,9,  -999.00,   7.4715,2,    25.00,-999.000,9,-999.000,   1.8550,2,   12.91,2, -999.00,5,  -145.8,2,     3.0,   7.854,2,   0.024,   39.24,2,   44.17,2,  800.00,-999.0000,9,-999.0000,9,-999.0000,9,-999.0000,9,-999.0000,9,-999.0000,9,     -999.0,     -999.0,9,     -999.0,9,     -999.0,9,     -999.0,9,     -999.0,9,     -999.0,9, -999.00,9,   5.2010,   0.0056,    0.14
325020060213,       P16N,      11,          1,         18,         18,2,20060218,       1250,    -7.0002,  -151.0007,       5130,   901.4,   4.7972,  34.5449,2,  34.5463,2,     87.2,2,    87.1,2,   72.70,2,   39.60,2,    0.00,2,    2.69,2,   0.005,6,   0.004,6,-999.000,5,  2289.0,2,  2346.5,2,   -999.0,9,  -999.00,   7.4826,2,    25.00,   0.018,2,   0.001,   1.9262,2,   14.72,2, -999.00,5,  -160.7,2,     2.3,   8.120,2,   0.024,   38.28,2,   43.56,2,  901.40,-999.0000,9,-999.0000,9,-999.0000,9,-999.0000,9,-999.0000,9,-999.0000,9,     -999.0,     -999.0,9,     -999.0,9,     -999.0,9,     -999.0,9,     -999.0,9,     -999.0,9, -999.00,9,   4.7241,   0.0058,    0.14
325020060213,       P16N,      11,          1,         17,         17,2,20060218,       1250,    -7.0002,  -151.0007,       5130,  1000.0,   4.4583,  34.5475,2,  34.5492,2,     95.9,2,    96.0,2,   77.40,2,   39.00,2,    0.00,2,    2.72,2,   0.009,2,   0.004,2,-999.000,5,  2289.6,2,  2351.7,6,   -999.0,9,  -999.00,   7.4995,2,    25.00,   0.032,2,   0.002,   1.8744,2,   16.82,2, -999.00,5,  -163.7,2,     2.7,   7.954,2,   0.024,   37.73,2,   42.71,2, 1000.00,-999.0000,9,-999.0000,9,-999.0000,9,-999.0000,9,-999.0000,9,-999.0000,9,     -999.0,     -999.0,9,     -999.0,9,     -999.0,9,     -999.0,9,     -999.0,9,     -999.0,9, -999.00,9,   4.3791,   0.0056,    0.14
325020060213,       P16N,      11,          1,         16,         16,2,20060218,       1250,    -7.0002,  -151.0007,       5130,  1200.4,   3.8044,  34.5648,2,  34.5669,2,    104.3,2,   104.9,2,   90.40,2,   38.60,2,    0.00,2,    2.70,2,   0.006,2,   0.002,2,-999.000,5,  2298.3,2,  2364.5,2,   -999.0,9,  -999.00,   7.5086,2,    25.00,   0.020,2,   0.001,   1.9862,2,   19.26,2, -999.00,5,  -176.6,2,     3.0,   8.249,2,   0.025,   36.03,2,   42.43,2, 1200.40,-999.0000,9,-999.0000,9,-999.0000,9,-999.0000,9,-999.0000,9,-999.0000,9,     -999.0,     -999.0,9,     -999.0,9,     -999.0,9,     -999.0,9,     -999.0,9,     -999.0,9, -999.00,9,   3.7135,   0.0060,    0.14
325020060213,       P16N,      11,          1,         15,         15,2,20060218,       1250,    -7.0002,  -151.0007,       5130,  1400.5,   3.1862,  34.5869,2,  34.5873,2,    116.1,2,   116.8,2,  102.30,2,   38.00,2,    0.00,2,    2.66,2,-999.000,9,-999.000,9,-999.000,9,  2305.1,2,  2378.3,2,   -999.0,9,  -999.00,   7.5271,2,    25.00,-999.000,9,-999.000,-999.0000,9,-999.000,9, -999.00,5,  -189.7,2,     2.8,-999.000,9,-999.000,   35.92,2,   41.83,2, 1400.50,-999.0000,9,-999.0000,9,-999.0000,9,-999.0000,9,-999.0000,9,-999.0000,9,     -999.0,     -999.0,9,     -999.0,9,     -999.0,9,     -999.0,9,     -999.0,9,     -999.0,9, -999.00,9,   3.0846,-999.0000,-999.000
325020060213,       P16N,      11,          1,         14,         14,2,20060218,       1250,    -7.0002,  -151.0007,       5130,  1601.7,   2.7361,  34.6099,2,  34.6142,2,    121.1,2,   121.5,2,  112.60,2,   37.90,2,    0.00,2,    2.65,2,-999.000,9,-999.000,9,-999.000,9,  2313.7,2,  2389.3,2,   -999.0,9,  -999.00,   7.5328,2,    25.00,-999.000,9,-999.000,-999.0000,9,-999.000,9, -999.00,5,  -205.6,2,     2.4,-999.000,9,-999.000,   35.39,2,   41.29,2, 1601.70,-999.0000,9,-999.0000,9,-999.0000,9,-999.0000,9,-999.0000,9,-999.0000,9,     -999.0,     -999.0,9,     -999.0,9,     -999.0,9,     -999.0,9,     -999.0,9,     -999.0,9, -999.00,9,   2.6228,-999.0000,-999.000
325020060213,       P16N,      11,          1,         13,         13,2,20060218,       1250,    -7.0002,  -151.0007,       5130,  1801.1,   2.4044,  34.6305,2,  34.6136,4,    124.4,2,   121.2,2,  112.30,3,   37.80,2,    0.00,2,    2.65,2,-999.000,9,-999.000,9,-999.000,9,  2313.6,2,  2390.4,2,   -999.0,9,  -999.00,   7.5359,2,    25.00,-999.000,9,-999.000,-999.0000,9,-999.000,9, -999.00,5,  -207.0,2,     2.9,-999.000,9,-999.000,   36.91,2,   41.27,2, 1801.10,-999.0000,9,-999.0000,9,-999.0000,9,-999.0000,9,-999.0000,9,-999.0000,9,     -999.0,     -999.0,9,     -999.0,9,     -999.0,9,     -999.0,9,     -999.0,9,     -999.0,9, -999.00,9,   2.2788,-999.0000,-999.000
325020060213,       P16N,      11,          1,         12,         12,2,20060218,       1250,    -7.0002,  -151.0007,       5130,  2000.0,   2.2319,  34.6421,2,  34.6462,2,    127.5,2,   127.2,2,  126.10,2,   37.70,2,    0.00,2,    2.63,2,   0.001,2,   0.001,2,-999.000,5,  2324.5,2,  2407.2,2,   -999.0,9,  -999.00,   7.5434,2,    25.00,-999.000,9,-999.000,-999.0000,9,-999.000,9, -999.00,5,  -209.3,2,     2.4,-999.000,9,-999.000,   37.43,2,   40.77,2, 2000.00,-999.0000,9,-999.0000,9,-999.0000,9,-999.0000,9,-999.0000,9,-999.0000,9,     -999.0,     -999.0,9,     -999.0,9,     -999.0,9,     -999.0,9,     -999.0,9,     -999.0,9, -999.00,9,   2.0919,-999.0000,-999.000
325020060213,       P16N,      11,          1,         11,         11,2,20060218,       1250,    -7.0002,  -151.0007,       5130,  2249.8,   2.0220,  34.6577,2,  34.6590,2,    127.3,2,   127.8,2,  133.80,2,   37.70,2,    0.00,2,    2.60,2,-999.000,9,-999.000,9,-999.000,9,  2332.0,2,  2417.5,2,   -999.0,9,  -999.00,   7.5482,2,    25.00,-999.000,9,-999.000,-999.0000,9,-999.000,9, -999.00,5,  -226.1,2,     2.9,-999.000,9,-999.000,   37.11,2,   40.78,2, 2249.80,-999.0000,9,-999.0000,9,-999.0000,9,-999.0000,9,-999.0000,9,-999.0000,9,     -999.0,     -999.0,9,     -999.0,9,     -999.0,9,     -999.0,9,     -999.0,9,     -999.0,9, -999.00,9,   1.8637,-999.0000,-999.000
325020060213,       P16N,      11,          1,         10,         10,2,20060218,       1250,    -7.0002,  -151.0007,       5130,  2501.3,   1.8818,  34.6686,2,  34.6710,2,    132.4,2,   132.1,2,  137.30,2,   37.40,2,    0.00,2,    2.62,2,-999.000,9,-999.000,9,-999.000,9,  2331.7,2,  2422.4,2,   -999.0,9,  -999.00,   7.5590,2,    25.00,-999.000,9,-999.000,-999.0000,9,-999.000,9, -999.00,5,  -220.6,2,     2.9,-999.000,9,-999.000,   36.44,2,   40.88,2, 2501.30,-999.0000,9,-999.0000,9,-999.0000,9,-999.0000,9,-999.0000,9,-999.0000,9,     -999.0,     -999.0,9,     -999.0,9,     -999.0,9,     -999.0,9,     -999.0,9,     -999.0,9, -999.00,9,   1.7035,-999.0000,-999.000
325020060213,       P16N,      11,          1,          9,          9,2,20060218,       1250,    -7.0002,  -151.0007,       5130,  2750.8,   1.7804,  34.6759,2,  34.6722,2,    137.2,2,   133.2,3,  137.50,2,   37.50,2,    0.00,2,    2.62,2,-999.000,9,-999.000,9,-999.000,9,  2332.7,2,  2422.6,2,   -999.0,9,  -999.00,   7.5539,2,    25.00,-999.000,9,-999.000,-999.0000,9,-999.000,9, -999.00,5,  -226.5,2,     2.8,-999.000,9,-999.000,   36.24,2,   40.79,2, 2750.80,-999.0000,9,-999.0000,9,-999.0000,9,-999.0000,9,-999.0000,9,-999.0000,9,     -999.0,     -999.0,9,     -999.0,9,     -999.0,9,     -999.0,9,     -999.0,9,     -999.0,9, -999.00,9,   1.5812,-999.0000,-999.000