BOTTLE,20170720CCHSIOCBG
EXPOCODE,SECT_ID,STNNBR,CASTNO,SAMPNO,BTLNBR,BTLNBR_FLAG_W,DATE,TIME,LATITUDE,LONGITUDE,DEPTH,CTDPRS,CTDTMP,CTDSAL,CTDSAL_FLAG_W,SALNTY,SALNTY_FLAG_W,CTDOXY,CTDOXY_FLAG_W,OXYGEN,OXYGEN_FLAG_W,SILCAT,SILCAT_FLAG_W,NITRAT,NITRAT_FLAG_W,NITRIT,NITRIT_FLAG_W,PHSPHT,PHSPHT_FLAG_W,CFC-11,CFC-11_FLAG_W,CFC-12,CFC-12_FLAG_W,CFC113,CFC113_FLAG_W,TCARBN,TCARBN_FLAG_W,ALKALI,ALKALI_FLAG_W,FCO2,FCO2_FLAG_W,FCO2TMP,PH_TOT,PH_TOT_FLAG_W,PH_TMP,TRITUM,TRITUM_FLAG_W,TRITER,HELIUM,HELIUM_FLAG_W,DELHE3,DELHE3_FLAG_W,DELC13,DELC13_FLAG_W,DELC14,DELC14_FLAG_W,C14ERR,NEON,NEON_FLAG_W,NEONER,DOC,DOC_FLAG_W,TDN,TDN_FLAG_W,CTDRAW,CDOM325,CDOM325_FLAG_W,CDOM340,CDOM340_FLAG_W,CDOM380,CDOM380_FLAG_W,CDOM412,CDOM412_FLAG_W,CDOMSL,CDOMSL_FLAG_W,CDOMSN,CDOMSN_FLAG_W,DCNS,ARABI,ARABI_FLAG_W,FUCO,FUCO_FLAG_W,GALA,GALA_FLAG_W,GLUC,GLUC_FLAG_W,MAN,MAN_FLAG_W,RHAM,RHAM_FLAG_W,BRDU,BRDU_FLAG_W,THETA,HELIER,DELHER
,,,,,,,,,,,METERS,DBAR,ITS-90,PSS-78,,PSS-78,,UMOL/KG,,UMOL/KG,,UMOL/KG,,UMOL/KG,,UMOL/KG,,UMOL/KG,,PMOL/KG,,PMOL/KG,,PMOL/KG,,UMOL/KG,,UMOL/KG,,UATM,,DEG C,,,DEG C,TU,,TU,NMOL/KG,,PERCNT,,/MILLE,,/MILLE,,/MILLE,NMOL/KG,,NMOL/KG,UMOL/KG,,UMOL/KG,,DBAR,1/M,,1/M,,1/M,,1/M,,1/NM,,1/NM,,NMOL/KG,NMOL/KG,,NMOL/KG,,NMOL/KG,,NMOL/KG,,NMOL/KG,,NMOL/KG,,PMOL/L/H,,DEG C,NMOL/KG,PERCNT
325020060213,       P16N,      20,          1,          8,          8,4,20060221,       1716,          0,  -150.9998,       4303,  2700.2,   1.8023,  34.6717,2,  34.6347,4,    126.4,2,   102.0,4,  133.20,4,   39.60,4,    0.00,4,    2.80,4,-999.000,1,-999.000,1,-999.000,9,  2338.4,4,  2411.2,3,   -999.0,9,  -999.00,-999.0000,9,  -999.00,-999.000,9,-999.000,-999.0000,9,-999.000,9, -999.00,5,  -236.8,2,     2.7,-999.000,9,-999.000,   36.58,2,   43.15,2, 2700.20,   0.1300,2,   0.0870,2,   0.0420,2,   0.0250,2,   0.0195,2,   0.0213,2,     -999.0,     -999.0,9,     -999.0,9,     -999.0,9,     -999.0,9,     -999.0,9,     -999.0,9, -999.00,9,   1.6073,-999.0000,-999.000
325020060213,       P16N,      20,          1,          7,          7,2,20060221,       1716,          0,  -150.9998,       4303,  2900.5,   1.7120,  34.6765,2,  34.6777,2,    132.9,2,   132.0,2,  146.00,2,   37.80,2,    0.00,2,    2.62,2,-999.000,9,-999.000,9,-999.000,9,  2335.5,2,  2426.9,2,   -999.0,9,  -999.00,   7.5577,2,    25.00,-999.000,9,-999.000,-999.0000,9,-999.000,9, -999.00,5,  -228.7,2,     2.6,-999.000,9,-999.000,   37.71,2,   40.92,2, 2900.50,   0.1150,2,   0.0740,2,   0.0320,2,   0.0170,2,   0.0230,2,   0.0247,2,     -999.0,     -999.0,9,     -999.0,9,     -999.0,9,     -999.0,9,     -999.0,9,     -999.0,9, -999.00,9,   1.5001,-999.0000,-999.000
325020060213,       P16N,      20,          1,          6,          6,2,20060221,       1716,          0,  -150.9998,       4303,  3149.2,   1.6364,  34.6811,2,  34.6809,2,    138.6,2,   137.9,2,  145.70,2,   37.30,2,    0.00,2,    2.60,2,-999.000,9,-999.000,9,-999.000,9,  2331.3,2,  2427.0,6,   -999.0,9,  -999.00,   7.5681,2,    25.00,-999.000,9,-999.000,-999.0000,9,-999.000,9, -999.00,5,  -226.3,2,     2.8,-999.000,9,-999.000,   37.01,2,   40.84,2, 3149.20,   0.1090,2,   0.0700,2,   0.0290,2,   0.0140,2,   0.0240,2,   0.0258,2,     -999.0,     -999.0,9,     -999.0,9,     -999.0,9,     -999.0,9,     -999.0,9,     -999.0,9, -999.00,9,   1.4021,-999.0000,-999.000
325020060213,       P16N,      20,          1,          5,          5,2,20060221,       1716,          0,  -150.9998,       4303,  3449.6,   1.5602,  34.6865,2,  34.6860,2,    146.9,2,   145.4,2,  144.70,6,   36.80,6,    0.00,6,    2.56,6,  -0.002,2,   0.001,2,-999.000,5,  2321.4,2,  2425.8,2,   -999.0,9,  -999.00,   7.5786,2,    25.00,-999.000,9,-999.000,-999.0000,9,-999.000,9, -999.00,5,  -218.0,2,     2.6,-999.000,9,-999.000,   38.24,2,   40.00,2, 3449.60,   0.1070,2,   0.0680,2,   0.0270,2,   0.0120,2,   0.0251,2,   0.0269,2,     -999.0,     -999.0,9,     -999.0,9,     -999.0,9,     -999.0,9,     -999.0,9,     -999.0,9, -999.00,9,   1.2977,-999.0000,-999.000
325020060213,       P16N,      20,          1,          4,          4,2,20060221,       1716,          0,  -150.9998,       4303,  3750.1,   1.4564,  34.6941,2,  34.6949,2,    155.7,2,   154.8,2,  144.60,6,   36.30,6,    0.00,6,    2.50,6,-999.000,9,-999.000,9,-999.000,9,  2320.3,2,  2429.1,2,   -999.0,9,  -999.00,   7.5977,2,    25.00,-999.000,9,-999.000,-999.0000,9,-999.000,9, -999.00,5,  -208.8,2,     2.2,-999.000,9,-999.000,   38.51,2,   40.37,2, 3750.10,   0.1020,2,   0.0630,2,   0.0230,2,   0.0090,2,   0.0272,2,   0.0290,2,     -999.0,     -999.0,9,     -999.0,9,     -999.0,9,     -999.0,9,     -999.0,9,     -999.0,9, -999.00,9,   1.1654,-999.0000,-999.000
325020060213,       P16N,      20,          1,          3,          3,2,20060221,       1716,          0,  -150.9998,       4303,  4050.2,   1.3946,  34.6987,2,  34.6996,2,    164.7,2,   163.4,2,  141.40,6,   35.80,6,    0.00,6,    2.51,6,-999.000,9,-999.000,9,-999.000,9,  2312.4,2,  2424.1,2,   -999.0,9,  -999.00,   7.6088,2,    25.00,-999.000,9,-999.000,-999.0000,9,-999.000,9, -999.00,5,  -207.1,2,     2.8,-999.000,9,-999.000,   37.25,2,   39.00,2, 4050.20,   0.1000,2,   0.0620,2,   0.0220,2,   0.0070,2,   0.0274,2,   0.0293,2,     -999.0,     -999.0,9,     -999.0,9,     -999.0,9,     -999.0,9,     -999.0,9,     -999.0,9, -999.00,9,   1.0731,-999.0000,-999.000
325020060213,       P16N,      20,          1,          1,          1,2,20060221,       1716,          0,  -150.9998,       4303,  4401.0,   1.3897,  34.7009,2,-999.0000,5,    170.8,2,   168.9,2,  138.00,6,   35.30,6,    0.00,6,    2.43,6,-999.000,1,-999.000,1,-999.000,9,  2302.4,2,  2417.3,2,   -999.0,9,  -999.00,-999.0000,9,  -999.00,-999.000,9,-999.000,-999.0000,9,-999.000,9, -999.00,5,  -190.3,2,     2.5,-999.000,9,-999.000,   38.43,2,   39.30,2, 4401.00,   0.1020,2,   0.0610,2,   0.0230,2,   0.0060,3,   0.0272,2,   0.0297,2,     -999.0,     -999.0,9,     -999.0,9,     -999.0,9,     -999.0,9,     -999.0,9,     -999.0,9, -999.00,9,   1.0294,-999.0000,-999.000