BOTTLE,20170720CCHSIOCBG
EXPOCODE,SECT_ID,STNNBR,CASTNO,SAMPNO,BTLNBR,BTLNBR_FLAG_W,DATE,TIME,LATITUDE,LONGITUDE,DEPTH,CTDPRS,CTDTMP,CTDSAL,CTDSAL_FLAG_W,SALNTY,SALNTY_FLAG_W,CTDOXY,CTDOXY_FLAG_W,OXYGEN,OXYGEN_FLAG_W,SILCAT,SILCAT_FLAG_W,NITRAT,NITRAT_FLAG_W,NITRIT,NITRIT_FLAG_W,PHSPHT,PHSPHT_FLAG_W,CFC-11,CFC-11_FLAG_W,CFC-12,CFC-12_FLAG_W,CFC113,CFC113_FLAG_W,TCARBN,TCARBN_FLAG_W,ALKALI,ALKALI_FLAG_W,FCO2,FCO2_FLAG_W,FCO2TMP,PH_TOT,PH_TOT_FLAG_W,PH_TMP,TRITUM,TRITUM_FLAG_W,TRITER,HELIUM,HELIUM_FLAG_W,DELHE3,DELHE3_FLAG_W,DELC13,DELC13_FLAG_W,DELC14,DELC14_FLAG_W,C14ERR,NEON,NEON_FLAG_W,NEONER,DOC,DOC_FLAG_W,TDN,TDN_FLAG_W,CTDRAW,CDOM325,CDOM325_FLAG_W,CDOM340,CDOM340_FLAG_W,CDOM380,CDOM380_FLAG_W,CDOM412,CDOM412_FLAG_W,CDOMSL,CDOMSL_FLAG_W,CDOMSN,CDOMSN_FLAG_W,DCNS,ARABI,ARABI_FLAG_W,FUCO,FUCO_FLAG_W,GALA,GALA_FLAG_W,GLUC,GLUC_FLAG_W,MAN,MAN_FLAG_W,RHAM,RHAM_FLAG_W,BRDU,BRDU_FLAG_W,THETA,HELIER,DELHER
,,,,,,,,,,,METERS,DBAR,ITS-90,PSS-78,,PSS-78,,UMOL/KG,,UMOL/KG,,UMOL/KG,,UMOL/KG,,UMOL/KG,,UMOL/KG,,PMOL/KG,,PMOL/KG,,PMOL/KG,,UMOL/KG,,UMOL/KG,,UATM,,DEG C,,,DEG C,TU,,TU,NMOL/KG,,PERCNT,,/MILLE,,/MILLE,,/MILLE,NMOL/KG,,NMOL/KG,UMOL/KG,,UMOL/KG,,DBAR,1/M,,1/M,,1/M,,1/M,,1/NM,,1/NM,,NMOL/KG,NMOL/KG,,NMOL/KG,,NMOL/KG,,NMOL/KG,,NMOL/KG,,NMOL/KG,,PMOL/L/H,,DEG C,NMOL/KG,PERCNT
325020060213,       P16N,      26,          1,          8,          8,2,20060223,       2051,          4,       -151,       5047,  2875.5,   1.7823,  34.6747,2,  34.6745,2,    121.3,2,   120.8,2,  149.90,2,   38.10,2,    0.00,2,    2.65,2,-999.000,9,-999.000,9,-999.000,9,  2349.4,2,  2438.9,3,   -999.0,9,  -999.00,   7.5437,2,    25.00,-999.000,9,-999.000,-999.0000,9,-999.000,9, -999.00,9,  -999.0,9,    -9.0,-999.000,9,-999.000,   37.19,2,   41.59,2, 2875.50,   0.1200,2,   0.0800,2,   0.0360,2,   0.0200,2,   0.0212,2,   0.0229,2,     -999.0,     -999.0,9,     -999.0,9,     -999.0,9,     -999.0,9,     -999.0,9,     -999.0,9, -999.00,9,   1.5713,-999.0000,-999.000
325020060213,       P16N,      26,          1,          7,          7,2,20060223,       2051,          4,       -151,       5047,  3125.1,   1.6629,  34.6810,2,  34.6834,2,    129.2,2,   129.2,2,  150.60,2,   37.70,2,    0.00,2,    2.62,2,-999.000,9,-999.000,9,-999.000,9,  2344.9,2,  2435.4,2,   -999.0,9,  -999.00,   7.5592,2,    25.00,-999.000,9,-999.000,-999.0000,9,-999.000,9, -999.00,5,  -231.4,6,     5.4,-999.000,9,-999.000,   38.74,2,   41.66,2, 3125.10,   0.1150,2,   0.0760,2,   0.0330,2,   0.0170,2,   0.0224,2,   0.0241,2,     -999.0,     -999.0,9,     -999.0,9,     -999.0,9,     -999.0,9,     -999.0,9,     -999.0,9, -999.00,9,   1.4303,-999.0000,-999.000
325020060213,       P16N,      26,          1,          6,          6,2,20060223,       2051,          4,       -151,       5047,  3448.5,   1.5147,  34.6892,2,  34.6897,2,    144.2,2,   144.4,2,  147.20,2,   36.70,2,    0.00,2,    2.53,2,-999.000,9,-999.000,9,-999.000,9,  2333.3,2,  2428.8,6,   -999.0,9,  -999.00,   7.5829,2,    25.00,-999.000,9,-999.000,-999.0000,9,-999.000,9, -999.00,9,  -999.0,9,    -9.0,-999.000,9,-999.000,   38.85,2,   40.26,2, 3448.50,-999.0000,9,-999.0000,9,-999.0000,9,-999.0000,9,-999.0000,9,-999.0000,9,     -999.0,     -999.0,9,     -999.0,9,     -999.0,9,     -999.0,9,     -999.0,9,     -999.0,9, -999.00,9,   1.2534,-999.0000,-999.000
325020060213,       P16N,      26,          1,          5,          5,2,20060223,       2051,          4,       -151,       5047,  3849.3,   1.4498,  34.6947,2,  34.6954,2,    154.6,2,   154.6,2,  144.10,6,   36.00,6,    0.00,6,    2.47,6,-999.000,9,-999.000,9,-999.000,9,  2325.9,2,  2431.5,2,   -999.0,9,  -999.00,   7.5916,2,    25.00,-999.000,9,-999.000,-999.0000,9,-999.000,9, -999.00,9,  -999.0,9,    -9.0,-999.000,9,-999.000,   38.49,2,   39.53,2, 3849.30,   0.1040,2,   0.0670,2,   0.0270,2,   0.0120,2,   0.0256,2,   0.0271,2,     -999.0,     -999.0,9,     -999.0,9,     -999.0,9,     -999.0,9,     -999.0,9,     -999.0,9, -999.00,9,   1.1484,-999.0000,-999.000
325020060213,       P16N,      26,          1,          4,          4,2,20060223,       2051,          4,       -151,       5047,  4300.5,   1.3806,  34.6999,2,  34.7041,3,    166.6,2,  -621.9,4,  137.60,6,   35.10,6,    0.00,6,    2.40,6,-999.000,9,-999.000,9,-999.000,9,  2312.1,2,  2420.6,2,   -999.0,9,  -999.00,   7.6049,2,    25.00,-999.000,9,-999.000,-999.0000,9,-999.000,9, -999.00,9,  -999.0,9,    -9.0,-999.000,9,-999.000,   38.86,2,   39.04,2, 4300.50,-999.0000,9,-999.0000,9,-999.0000,9,-999.0000,9,-999.0000,9,-999.0000,9,     -999.0,     -999.0,9,     -999.0,9,     -999.0,9,     -999.0,9,     -999.0,9,     -999.0,9, -999.00,9,   1.0319,-999.0000,-999.000
325020060213,       P16N,      26,          1,          3,          3,2,20060223,       2051,          4,       -151,       5047,  4801.0,   1.4075,  34.7011,2,  34.7029,2,    170.8,2,   170.4,2,  135.80,6,   34.90,6,    0.00,6,    2.39,6,   0.000,2,   0.002,2,-999.000,5,  2307.6,2,  2416.6,2,   -999.0,9,  -999.00,   7.6082,2,    25.00,-999.000,9,-999.000,-999.0000,9,-999.000,9, -999.00,9,  -999.0,9,    -9.0,-999.000,9,-999.000,   38.50,2,   38.13,2, 4801.00,   0.0990,2,   0.0620,2,   0.0230,2,   0.0090,3,   0.0273,2,   0.0288,2,     -999.0,     -999.0,9,     -999.0,9,     -999.0,9,     -999.0,9,     -999.0,9,     -999.0,9, -999.00,9,   1.0002,-999.0000,-999.000
325020060213,       P16N,      26,          1,          1,          1,2,20060223,       2051,          4,       -151,       5047,  5169.3,   1.4489,  34.7015,2,  34.7057,3,    171.9,2,   171.4,2,  135.10,6,   34.80,6,    0.00,6,    2.38,6,  -0.002,2,   0.000,2,-999.000,5,  2307.3,6,  2417.2,2,   -999.0,9,  -999.00,   7.6061,2,    25.00,-999.000,9,-999.000,-999.0000,9,-999.000,9, -999.00,9,  -999.0,9,    -9.0,-999.000,9,-999.000,   38.15,2,   37.98,2, 5169.30,-999.0000,9,-999.0000,9,-999.0000,9,-999.0000,9,-999.0000,9,-999.0000,9,     -999.0,     -999.0,9,     -999.0,9,     -999.0,9,     -999.0,9,     -999.0,9,     -999.0,9, -999.00,9,   0.9955,-999.0000,-999.000