BOTTLE,20170720CCHSIOCBG
EXPOCODE,SECT_ID,STNNBR,CASTNO,SAMPNO,BTLNBR,BTLNBR_FLAG_W,DATE,TIME,LATITUDE,LONGITUDE,DEPTH,CTDPRS,CTDTMP,CTDSAL,CTDSAL_FLAG_W,SALNTY,SALNTY_FLAG_W,CTDOXY,CTDOXY_FLAG_W,OXYGEN,OXYGEN_FLAG_W,SILCAT,SILCAT_FLAG_W,NITRAT,NITRAT_FLAG_W,NITRIT,NITRIT_FLAG_W,PHSPHT,PHSPHT_FLAG_W,CFC-11,CFC-11_FLAG_W,CFC-12,CFC-12_FLAG_W,CFC113,CFC113_FLAG_W,TCARBN,TCARBN_FLAG_W,ALKALI,ALKALI_FLAG_W,FCO2,FCO2_FLAG_W,FCO2TMP,PH_TOT,PH_TOT_FLAG_W,PH_TMP,TRITUM,TRITUM_FLAG_W,TRITER,HELIUM,HELIUM_FLAG_W,DELHE3,DELHE3_FLAG_W,DELC13,DELC13_FLAG_W,DELC14,DELC14_FLAG_W,C14ERR,NEON,NEON_FLAG_W,NEONER,DOC,DOC_FLAG_W,TDN,TDN_FLAG_W,CTDRAW,CDOM325,CDOM325_FLAG_W,CDOM340,CDOM340_FLAG_W,CDOM380,CDOM380_FLAG_W,CDOM412,CDOM412_FLAG_W,CDOMSL,CDOMSL_FLAG_W,CDOMSN,CDOMSN_FLAG_W,DCNS,ARABI,ARABI_FLAG_W,FUCO,FUCO_FLAG_W,GALA,GALA_FLAG_W,GLUC,GLUC_FLAG_W,MAN,MAN_FLAG_W,RHAM,RHAM_FLAG_W,BRDU,BRDU_FLAG_W,THETA,HELIER,DELHER
,,,,,,,,,,,METERS,DBAR,ITS-90,PSS-78,,PSS-78,,UMOL/KG,,UMOL/KG,,UMOL/KG,,UMOL/KG,,UMOL/KG,,UMOL/KG,,PMOL/KG,,PMOL/KG,,PMOL/KG,,UMOL/KG,,UMOL/KG,,UATM,,DEG C,,,DEG C,TU,,TU,NMOL/KG,,PERCNT,,/MILLE,,/MILLE,,/MILLE,NMOL/KG,,NMOL/KG,UMOL/KG,,UMOL/KG,,DBAR,1/M,,1/M,,1/M,,1/M,,1/NM,,1/NM,,NMOL/KG,NMOL/KG,,NMOL/KG,,NMOL/KG,,NMOL/KG,,NMOL/KG,,NMOL/KG,,PMOL/L/H,,DEG C,NMOL/KG,PERCNT
325020060213,       P16N,      46,          2,         36,         36,2,20060313,       1347,         24,  -152.0002,       5526,     5.1,  22.0243,  35.3473,2,  35.3476,2,    218.6,2,   217.2,2,    0.00,2,    0.00,2,    0.00,2,    0.01,2,   2.037,2,   1.238,2,-999.000,9,  2015.8,2,  2324.5,2,   -999.0,9,  -999.00,   8.0593,6,    25.00,-999.000,9,-999.000,-999.0000,9,-999.000,9, -999.00,5,    73.7,2,     3.6,-999.000,9,-999.000,   68.18,2,    4.55,2,    5.10,-999.0000,9,-999.0000,9,-999.0000,9,-999.0000,9,-999.0000,9,-999.0000,9,     -999.0,     -999.0,9,     -999.0,9,     -999.0,9,     -999.0,9,     -999.0,9,     -999.0,9, -999.00,9,  22.0233,-999.0000,-999.000
325020060213,       P16N,      46,          2,         35,         35,2,20060313,       1347,         24,  -152.0002,       5526,    14.9,  22.0230,  35.3471,2,  35.3467,2,    218.2,2,   217.3,2,    0.10,2,    0.00,2,    0.00,2,    0.00,2,-999.000,9,-999.000,9,-999.000,9,  2014.1,6,  2323.2,2,   -999.0,9,  -999.00,   8.0618,2,    25.00,-999.000,9,-999.000,-999.0000,9,-999.000,9, -999.00,9,  -999.0,9,    -9.0,-999.000,9,-999.000,   69.02,2,    4.01,2,   14.90,-999.0000,9,-999.0000,9,-999.0000,9,-999.0000,9,-999.0000,9,-999.0000,9,     -999.0,     -999.0,9,     -999.0,9,     -999.0,9,     -999.0,9,     -999.0,9,     -999.0,9, -999.00,9,  22.0201,-999.0000,-999.000
325020060213,       P16N,      46,          2,         34,         34,2,20060313,       1347,         24,  -152.0002,       5526,    35.5,  22.0305,  35.3465,2,  35.3467,2,    218.3,2,   217.4,2,    0.10,2,    0.00,2,    0.00,2,    0.01,2,   1.989,2,   1.232,2,-999.000,9,  2013.5,2,  2326.5,2,   -999.0,9,  -999.00,   8.0601,2,    25.00,-999.000,9,-999.000,-999.0000,9,-999.000,9, -999.00,5,    76.1,2,     3.8,-999.000,9,-999.000,   66.50,2,    4.16,2,   35.50,-999.0000,9,-999.0000,9,-999.0000,9,-999.0000,9,-999.0000,9,-999.0000,9,     -999.0,     -999.0,9,     -999.0,9,     -999.0,9,     -999.0,9,     -999.0,9,     -999.0,9, -999.00,9,  22.0235,-999.0000,-999.000
325020060213,       P16N,      46,          2,         33,         33,2,20060313,       1347,         24,  -152.0002,       5526,    60.2,  22.0389,  35.3461,2,  35.3461,2,    218.1,2,   216.8,2,    0.20,2,    0.00,2,    0.00,2,    0.01,2,   2.003,2,   1.230,2,-999.000,9,  2014.9,2,  2325.2,2,   -999.0,9,  -999.00,   8.0601,2,    25.00,-999.000,9,-999.000,-999.0000,9,-999.000,9, -999.00,5,    72.3,2,     3.5,-999.000,9,-999.000,   69.02,2,    4.77,2,   60.20,-999.0000,9,-999.0000,9,-999.0000,9,-999.0000,9,-999.0000,9,-999.0000,9,     -999.0,     -999.0,9,     -999.0,9,     -999.0,9,     -999.0,9,     -999.0,9,     -999.0,9, -999.00,9,  22.0270,-999.0000,-999.000
325020060213,       P16N,      46,          2,         32,         32,2,20060313,       1347,         24,  -152.0002,       5526,    85.3,  22.0449,  35.3464,2,  35.3455,2,    215.8,2,   216.8,2,    0.20,2,    0.00,2,    0.00,2,    0.01,2,   2.023,2,   1.232,2,-999.000,9,  2014.7,2,  2325.5,2,   -999.0,9,  -999.00,   8.0608,2,    25.00,-999.000,9,-999.000,-999.0000,9,-999.000,9, -999.00,5,    80.6,2,     3.3,-999.000,9,-999.000,   66.50,2,    4.55,2,   85.30,-999.0000,9,-999.0000,9,-999.0000,9,-999.0000,9,-999.0000,9,-999.0000,9,     -999.0,     -999.0,9,     -999.0,9,     -999.0,9,     -999.0,9,     -999.0,9,     -999.0,9, -999.00,9,  22.0279,-999.0000,-999.000
325020060213,       P16N,      46,          2,         31,         31,2,20060313,       1347,         24,  -152.0002,       5526,   110.6,  22.0419,  35.3458,2,  35.3459,2,    215.8,2,   216.5,2,    0.20,2,    0.00,2,    0.00,2,    0.01,2,   2.004,2,   1.229,2,-999.000,5,  2014.9,2,  2324.5,2,   -999.0,9,  -999.00,   8.0596,2,    25.00,-999.000,9,-999.000,-999.0000,9,-999.000,9, -999.00,5,    68.2,2,     3.0,-999.000,9,-999.000,   63.15,2,    4.22,2,  110.60,-999.0000,9,-999.0000,9,-999.0000,9,-999.0000,9,-999.0000,9,-999.0000,9,     -999.0,     -999.0,9,     -999.0,9,     -999.0,9,     -999.0,9,     -999.0,9,     -999.0,9, -999.00,9,  22.0199,-999.0000,-999.000
325020060213,       P16N,      46,          2,         30,         30,2,20060313,       1347,         24,  -152.0002,       5526,   135.0,  21.9871,  35.3418,2,  35.3414,2,    214.6,2,   215.2,2,    0.40,2,    0.00,2,    0.00,2,    0.02,2,   2.018,6,   1.232,6,-999.000,5,  2016.5,2,  2323.2,2,   -999.0,9,  -999.00,   8.0579,2,    25.00,-999.000,9,-999.000,-999.0000,9,-999.000,9, -999.00,9,  -999.0,9,    -9.0,-999.000,9,-999.000,   56.98,2,    4.39,2,  135.00,-999.0000,9,-999.0000,9,-999.0000,9,-999.0000,9,-999.0000,9,-999.0000,9,     -999.0,     -999.0,9,     -999.0,9,     -999.0,9,     -999.0,9,     -999.0,9,     -999.0,9, -999.00,9,  21.9603,-999.0000,-999.000
325020060213,       P16N,      46,          2,         29,         29,2,20060313,       1347,         24,  -152.0002,       5526,   175.5,  20.1819,  35.1069,2,  35.1156,2,    197.3,2,   203.0,2,    1.00,2,    1.10,2,    0.00,2,    0.11,2,   2.240,2,   1.341,2,-999.000,9,  2036.3,2,  2308.2,6,   -999.0,9,  -999.00,   7.9979,2,    25.00,-999.000,9,-999.000,-999.0000,9,-999.000,9, -999.00,5,    79.9,2,     3.6,-999.000,9,-999.000,   54.93,2,    5.51,2,  175.50,-999.0000,9,-999.0000,9,-999.0000,9,-999.0000,9,-999.0000,9,-999.0000,9,     -999.0,     -999.0,9,     -999.0,9,     -999.0,9,     -999.0,9,     -999.0,9,     -999.0,9, -999.00,9,  20.1493,-999.0000,-999.000
325020060213,       P16N,      46,          2,         28,         28,2,20060313,       1347,         24,  -152.0002,       5526,   224.2,  17.0930,  34.7263,2,  34.7341,2,    204.8,2,   204.7,2,    2.80,2,    3.10,2,    0.00,2,    0.25,2,   2.592,2,   1.498,2,-999.000,9,  2041.8,2,  2282.7,2,   -999.0,9,  -999.00,   7.9400,2,    25.00,-999.000,9,-999.000,-999.0000,9,-999.000,9, -999.00,5,    75.5,2,     3.0,-999.000,9,-999.000,   53.73,2,    6.58,2,  224.20,-999.0000,9,-999.0000,9,-999.0000,9,-999.0000,9,-999.0000,9,-999.0000,9,     -999.0,     -999.0,9,     -999.0,9,     -999.0,9,     -999.0,9,     -999.0,9,     -999.0,9, -999.00,9,  17.0559,-999.0000,-999.000
325020060213,       P16N,      46,          2,         27,         27,2,20060313,       1347,         24,  -152.0002,       5526,   275.4,  14.8117,  34.4762,2,  34.4799,2,    208.4,2,   206.1,2,    4.90,2,    6.30,2,    0.00,2,    0.45,2,   2.887,2,   1.619,2,-999.000,9,  2057.9,2,  2267.3,2,   -999.0,9,  -999.00,   7.8925,2,    25.00,-999.000,9,-999.000,-999.0000,9,-999.000,9, -999.00,5,    72.7,2,     2.9,-999.000,9,-999.000,   52.29,2,   10.35,2,  275.40,-999.0000,9,-999.0000,9,-999.0000,9,-999.0000,9,-999.0000,9,-999.0000,9,     -999.0,     -999.0,9,     -999.0,9,     -999.0,9,     -999.0,9,     -999.0,9,     -999.0,9, -999.00,9,  14.7704,-999.0000,-999.000
325020060213,       P16N,      46,          2,         26,         26,2,20060313,       1347,         24,  -152.0002,       5526,   324.5,  12.7193,  34.3131,2,  34.3188,2,    210.3,2,   210.3,2,    8.90,2,   10.00,2,    0.00,2,    0.67,2,   3.163,6,   1.725,6,-999.000,5,  2074.2,2,  2262.2,2,   -999.0,9,  -999.00,-999.0000,5,  -999.00,-999.000,9,-999.000,-999.0000,9,-999.000,9, -999.00,5,    68.9,2,     3.6,-999.000,9,-999.000,   51.16,2,   14.47,2,  324.50,-999.0000,9,-999.0000,9,-999.0000,9,-999.0000,9,-999.0000,9,-999.0000,9,     -999.0,     -999.0,9,     -999.0,9,     -999.0,9,     -999.0,9,     -999.0,9,     -999.0,9, -999.00,9,  12.6754,-999.0000,-999.000
325020060213,       P16N,      46,          2,         25,         25,2,20060313,       1347,         24,  -152.0002,       5526,   374.9,  11.1061,  34.1957,2,  34.1984,2,    209.2,2,   208.4,2,   13.10,2,   13.40,2,    0.00,2,    0.90,2,   3.338,2,   1.800,2,-999.000,9,  2093.1,2,  2260.1,2,   -999.0,9,  -999.00,   7.7977,2,    25.00,-999.000,9,-999.000,-999.0000,9,-999.000,9, -999.00,5,    64.3,2,     3.4,-999.000,9,-999.000,   49.80,2,   17.38,2,  374.90,-999.0000,9,-999.0000,9,-999.0000,9,-999.0000,9,-999.0000,9,-999.0000,9,     -999.0,     -999.0,9,     -999.0,9,     -999.0,9,     -999.0,9,     -999.0,9,     -999.0,9, -999.00,9,  11.0596,-999.0000,-999.000
325020060213,       P16N,      46,          2,         24,         24,2,20060313,       1347,         24,  -152.0002,       5526,   425.6,   9.9954,  34.1376,2,  34.1400,2,    197.1,2,   197.0,2,   18.10,2,   16.70,2,    0.00,2,    1.11,2,   3.306,2,   1.727,2,-999.000,9,  2114.6,2,  2262.1,2,   -999.0,9,  -999.00,   7.7491,2,    25.00,-999.000,9,-999.000,-999.0000,9,-999.000,9, -999.00,5,    52.6,2,     3.8,-999.000,9,-999.000,   47.76,2,   21.13,2,  425.60,-999.0000,9,-999.0000,9,-999.0000,9,-999.0000,9,-999.0000,9,-999.0000,9,     -999.0,     -999.0,9,     -999.0,9,     -999.0,9,     -999.0,9,     -999.0,9,     -999.0,9, -999.00,9,   9.9460,-999.0000,-999.000
325020060213,       P16N,      46,          2,         23,         23,2,20060313,       1347,         24,  -152.0002,       5526,   475.4,   9.0016,  34.0939,2,  34.0963,2,    175.2,2,   175.2,2,   25.50,2,   20.70,2,    0.00,2,    1.41,2,   3.074,2,   1.571,2,-999.000,9,  2143.7,2,  2265.2,2,   -999.0,9,  -999.00,   7.6826,2,    25.00,-999.000,9,-999.000,-999.0000,9,-999.000,9, -999.00,9,  -999.0,9,    -9.0,-999.000,9,-999.000,   46.03,2,   24.82,2,  475.40,-999.0000,9,-999.0000,9,-999.0000,9,-999.0000,9,-999.0000,9,-999.0000,9,     -999.0,     -999.0,9,     -999.0,9,     -999.0,9,     -999.0,9,     -999.0,9,     -999.0,9, -999.00,9,   8.9498,-999.0000,-999.000
325020060213,       P16N,      46,          2,         22,         22,2,20060313,       1347,         24,  -152.0002,       5526,   549.2,   7.0863,  34.0322,2,  34.0344,2,    128.7,2,   127.4,2,   44.70,2,   28.90,2,    0.00,2,    1.98,2,   2.123,2,   1.035,2,-999.000,5,  2204.5,2,  2278.1,2,   -999.0,9,  -999.00,   7.5422,2,    25.00,-999.000,9,-999.000,-999.0000,9,-999.000,9, -999.00,5,   -24.0,2,     3.0,-999.000,9,-999.000,   44.48,2,   32.59,2,  549.20,-999.0000,9,-999.0000,9,-999.0000,9,-999.0000,9,-999.0000,9,-999.0000,9,     -999.0,     -999.0,9,     -999.0,9,     -999.0,9,     -999.0,9,     -999.0,9,     -999.0,9, -999.00,9,   7.0340,-999.0000,-999.000
325020060213,       P16N,      46,          2,         21,         21,2,20060313,       1347,         24,  -152.0002,       5526,   649.9,   5.4991,  34.0951,2,  34.0992,2,     55.8,2,    52.8,2,   72.70,2,   37.80,2,    0.00,2,    2.70,2,   0.584,2,   0.451,2,-999.000,9,  2285.2,2,  2304.3,2,   -999.0,9,  -999.00,   7.3639,3,    25.00,-999.000,9,-999.000,-999.0000,9,-999.000,9, -999.00,5,  -101.4,2,     3.7,-999.000,9,-999.000,   43.36,2,   42.00,2,  649.90,-999.0000,9,-999.0000,9,-999.0000,9,-999.0000,9,-999.0000,9,-999.0000,9,     -999.0,     -999.0,9,     -999.0,9,     -999.0,9,     -999.0,9,     -999.0,9,     -999.0,9, -999.00,9,   5.4446,-999.0000,-999.000
325020060213,       P16N,      46,          2,         20,         20,2,20060313,       1347,         24,  -152.0002,       5526,   748.9,   4.7249,  34.2230,2,  34.2280,2,     23.3,2,    23.3,2,   92.60,2,   41.60,2,    0.00,2,    2.99,2,   0.094,2,   0.059,2,-999.000,9,  2326.6,2,  2330.5,2,   -999.0,9,  -999.00,   7.3171,2,    25.00,-999.000,9,-999.000,-999.0000,9,-999.000,9, -999.00,5,  -152.9,2,     2.9,-999.000,9,-999.000,   42.51,2,   46.00,2,  748.90,-999.0000,9,-999.0000,9,-999.0000,9,-999.0000,9,-999.0000,9,-999.0000,9,     -999.0,     -999.0,9,     -999.0,9,     -999.0,9,     -999.0,9,     -999.0,9,     -999.0,9, -999.00,9,   4.6658,-999.0000,-999.000
325020060213,       P16N,      46,          2,         19,         19,2,20060313,       1347,         24,  -152.0002,       5526,   850.6,   4.3617,  34.3426,2,  34.3428,2,     21.3,2,    20.6,2,  102.60,2,   42.20,2,    0.00,2,    3.06,2,   0.031,2,   0.009,2,-999.000,9,  2343.1,6,  2348.2,2,   -999.0,9,  -999.00,   7.3272,2,    25.00,-999.000,9,-999.000,-999.0000,9,-999.000,9, -999.00,5,  -180.5,2,     2.7,-999.000,9,-999.000,   40.33,2,   46.45,2,  850.60,-999.0000,9,-999.0000,9,-999.0000,9,-999.0000,9,-999.0000,9,-999.0000,9,     -999.0,     -999.0,9,     -999.0,9,     -999.0,9,     -999.0,9,     -999.0,9,     -999.0,9, -999.00,9,   4.2962,-999.0000,-999.000
325020060213,       P16N,      46,          2,         18,         18,2,20060313,       1347,         24,  -152.0002,       5526,   949.5,   4.1016,  34.4314,2,  34.4335,2,     30.6,2,    32.1,2,  107.90,2,   42.20,2,    0.00,2,    3.04,2,   0.010,2,   0.008,2,-999.000,9,  2345.0,2,  2362.8,6,   -999.0,9,  -999.00,   7.3581,3,    25.00,-999.000,9,-999.000,-999.0000,9,-999.000,9, -999.00,9,  -999.0,9,    -9.0,-999.000,9,-999.000,   39.44,2,   46.48,2,  949.50,-999.0000,9,-999.0000,9,-999.0000,9,-999.0000,9,-999.0000,9,-999.0000,9,     -999.0,     -999.0,9,     -999.0,9,     -999.0,9,     -999.0,9,     -999.0,9,     -999.0,9, -999.00,9,   4.0295,-999.0000,-999.000
325020060213,       P16N,      46,          2,         17,         17,2,20060313,       1347,         24,  -152.0002,       5526,  1100.2,   3.7172,  34.4952,2,  34.4973,2,     43.2,2,    42.8,2,  115.40,2,   41.70,2,    0.00,2,    2.99,2,   0.015,4,   0.102,4,-999.000,5,  2361.1,2,  2375.3,2,   -999.0,9,  -999.00,   7.3861,2,    25.00,-999.000,9,-999.000,-999.0000,9,-999.000,9, -999.00,5,  -207.0,2,     2.7,-999.000,9,-999.000,   38.79,2,   44.97,2, 1100.20,-999.0000,9,-999.0000,9,-999.0000,9,-999.0000,9,-999.0000,9,-999.0000,9,     -999.0,     -999.0,9,     -999.0,9,     -999.0,9,     -999.0,9,     -999.0,9,     -999.0,9, -999.00,9,   3.6355,-999.0000,-999.000
325020060213,       P16N,      46,          2,         16,         16,2,20060313,       1347,         24,  -152.0002,       5526,  1298.8,   3.2871,  34.5397,2,  34.5405,2,     54.4,2,    55.6,2,  124.40,2,   41.30,2,    0.00,2,    2.96,2,  -0.005,2,   0.006,2,-999.000,5,  2351.5,2,  2388.8,2,   -999.0,9,  -999.00,   7.4102,2,    25.00,-999.000,9,-999.000,-999.0000,9,-999.000,9, -999.00,5,  -222.8,2,     2.1,-999.000,9,-999.000,   37.92,2,   44.82,2, 1298.80,-999.0000,9,-999.0000,9,-999.0000,9,-999.0000,9,-999.0000,9,-999.0000,9,     -999.0,     -999.0,9,     -999.0,9,     -999.0,9,     -999.0,9,     -999.0,9,     -999.0,9, -999.00,9,   3.1930,-999.0000,-999.000
325020060213,       P16N,      46,          2,         15,         15,2,20060313,       1347,         24,  -152.0002,       5526,  1499.9,   2.8471,  34.5701,2,  34.5715,2,     64.0,2,    64.5,2,  134.60,2,   41.10,2,    0.00,2,    2.92,2,   0.004,2,   0.001,2,-999.000,9,  2357.9,2,  2399.5,2,   -999.0,9,  -999.00,   7.4264,2,    25.00,-999.000,9,-999.000,-999.0000,9,-999.000,9, -999.00,5,  -228.8,2,     2.7,-999.000,9,-999.000,   37.00,2,   44.84,2, 1499.90,-999.0000,9,-999.0000,9,-999.0000,9,-999.0000,9,-999.0000,9,-999.0000,9,     -999.0,     -999.0,9,     -999.0,9,     -999.0,9,     -999.0,9,     -999.0,9,     -999.0,9, -999.00,9,   2.7411,-999.0000,-999.000
325020060213,       P16N,      46,          2,         14,         14,2,20060313,       1347,         24,  -152.0002,       5526,  1698.5,   2.5402,  34.5899,2,  34.5908,2,     72.1,2,    72.6,2,  141.40,2,   40.70,2,    0.00,2,    2.89,2,  -0.004,2,   0.051,3,-999.000,9,  2359.0,2,  2407.9,2,   -999.0,9,  -999.00,   7.4403,2,    25.00,-999.000,9,-999.000,-999.0000,9,-999.000,9, -999.00,5,  -230.0,2,     2.6,-999.000,9,-999.000,   36.93,2,   44.44,2, 1698.50,-999.0000,9,-999.0000,9,-999.0000,9,-999.0000,9,-999.0000,9,-999.0000,9,     -999.0,     -999.0,9,     -999.0,9,     -999.0,9,     -999.0,9,     -999.0,9,     -999.0,9, -999.00,9,   2.4214,-999.0000,-999.000
325020060213,       P16N,      46,          2,         13,         13,2,20060313,       1347,         24,  -152.0002,       5526,  1899.8,   2.2553,  34.6103,2,  34.6096,2,     81.6,2,    81.3,2,  147.90,2,   40.10,2,    0.00,2,    2.84,2,-999.000,9,-999.000,9,-999.000,9,  2358.7,2,  2411.9,2,   -999.0,9,  -999.00,   7.4593,2,    25.00,-999.000,9,-999.000,-999.0000,9,-999.000,9, -999.00,5,  -232.6,2,     2.2,-999.000,9,-999.000,   36.64,2,   44.23,2, 1899.80,-999.0000,9,-999.0000,9,-999.0000,9,-999.0000,9,-999.0000,9,-999.0000,9,     -999.0,     -999.0,9,     -999.0,9,     -999.0,9,     -999.0,9,     -999.0,9,     -999.0,9, -999.00,9,   2.1236,-999.0000,-999.000
325020060213,       P16N,      46,          2,         12,         12,2,20060313,       1347,         24,  -152.0002,       5526,  2126.3,   2.0357,  34.6266,2,  34.6275,2,     90.3,2,    90.8,2,  153.20,2,   39.50,2,    0.00,2,    2.80,2,-999.000,9,-999.000,9,-999.000,9,  2360.0,2,  2416.8,2,   -999.0,9,  -999.00,   7.4748,2,    25.00,-999.000,9,-999.000,-999.0000,9,-999.000,9, -999.00,5,  -234.3,2,     2.2,-999.000,9,-999.000,   36.31,2,   43.40,2, 2126.30,-999.0000,9,-999.0000,9,-999.0000,9,-999.0000,9,-999.0000,9,-999.0000,9,     -999.0,     -999.0,9,     -999.0,9,     -999.0,9,     -999.0,9,     -999.0,9,     -999.0,9, -999.00,9,   1.8880,-999.0000,-999.000
325020060213,       P16N,      46,          2,         11,         11,2,20060313,       1347,         24,  -152.0002,       5526,  2375.6,   1.8231,  34.6444,2,  34.6430,2,    100.4,2,   100.5,2,  158.10,2,   39.00,2,    0.00,2,    2.76,2,-999.000,9,-999.000,9,-999.000,9,  2359.0,2,  2421.8,2,   -999.0,9,  -999.00,   7.4928,2,    25.00,-999.000,9,-999.000,-999.0000,9,-999.000,9, -999.00,5,  -238.1,2,     2.7,-999.000,9,-999.000,   36.52,2,   42.41,2, 2375.60,-999.0000,9,-999.0000,9,-999.0000,9,-999.0000,9,-999.0000,9,-999.0000,9,     -999.0,     -999.0,9,     -999.0,9,     -999.0,9,     -999.0,9,     -999.0,9,     -999.0,9, -999.00,9,   1.6573,-999.0000,-999.000
325020060213,       P16N,      46,          2,         10,         10,2,20060313,       1347,         24,  -152.0002,       5526,  2625.7,   1.7010,  34.6561,2,  34.6576,2,    108.9,2,   108.8,2,  160.00,2,   38.70,2,    0.00,2,    2.72,2,   0.005,2,  -0.002,2,-999.000,9,  2354.8,2,  2426.8,2,   -999.0,9,  -999.00,   7.5111,6,    25.00,-999.000,9,-999.000,-999.0000,9,-999.000,9, -999.00,5,  -241.4,2,     2.4,-999.000,9,-999.000,   35.82,2,   42.56,2, 2625.70,-999.0000,9,-999.0000,9,-999.0000,9,-999.0000,9,-999.0000,9,-999.0000,9,     -999.0,     -999.0,9,     -999.0,9,     -999.0,9,     -999.0,9,     -999.0,9,     -999.0,9, -999.00,9,   1.5150,-999.0000,-999.000