BOTTLE,20170720CCHSIOCBG
EXPOCODE,SECT_ID,STNNBR,CASTNO,SAMPNO,BTLNBR,BTLNBR_FLAG_W,DATE,TIME,LATITUDE,LONGITUDE,DEPTH,CTDPRS,CTDTMP,CTDSAL,CTDSAL_FLAG_W,SALNTY,SALNTY_FLAG_W,CTDOXY,CTDOXY_FLAG_W,OXYGEN,OXYGEN_FLAG_W,SILCAT,SILCAT_FLAG_W,NITRAT,NITRAT_FLAG_W,NITRIT,NITRIT_FLAG_W,PHSPHT,PHSPHT_FLAG_W,CFC-11,CFC-11_FLAG_W,CFC-12,CFC-12_FLAG_W,CFC113,CFC113_FLAG_W,TCARBN,TCARBN_FLAG_W,ALKALI,ALKALI_FLAG_W,FCO2,FCO2_FLAG_W,FCO2TMP,PH_TOT,PH_TOT_FLAG_W,PH_TMP,TRITUM,TRITUM_FLAG_W,TRITER,HELIUM,HELIUM_FLAG_W,DELHE3,DELHE3_FLAG_W,DELC13,DELC13_FLAG_W,DELC14,DELC14_FLAG_W,C14ERR,NEON,NEON_FLAG_W,NEONER,DOC,DOC_FLAG_W,TDN,TDN_FLAG_W,CTDRAW,CDOM325,CDOM325_FLAG_W,CDOM340,CDOM340_FLAG_W,CDOM380,CDOM380_FLAG_W,CDOM412,CDOM412_FLAG_W,CDOMSL,CDOMSL_FLAG_W,CDOMSN,CDOMSN_FLAG_W,DCNS,ARABI,ARABI_FLAG_W,FUCO,FUCO_FLAG_W,GALA,GALA_FLAG_W,GLUC,GLUC_FLAG_W,MAN,MAN_FLAG_W,RHAM,RHAM_FLAG_W,BRDU,BRDU_FLAG_W,THETA,HELIER,DELHER
,,,,,,,,,,,METERS,DBAR,ITS-90,PSS-78,,PSS-78,,UMOL/KG,,UMOL/KG,,UMOL/KG,,UMOL/KG,,UMOL/KG,,UMOL/KG,,PMOL/KG,,PMOL/KG,,PMOL/KG,,UMOL/KG,,UMOL/KG,,UATM,,DEG C,,,DEG C,TU,,TU,NMOL/KG,,PERCNT,,/MILLE,,/MILLE,,/MILLE,NMOL/KG,,NMOL/KG,UMOL/KG,,UMOL/KG,,DBAR,1/M,,1/M,,1/M,,1/M,,1/NM,,1/NM,,NMOL/KG,NMOL/KG,,NMOL/KG,,NMOL/KG,,NMOL/KG,,NMOL/KG,,NMOL/KG,,PMOL/L/H,,DEG C,NMOL/KG,PERCNT
325020060213,       P16N,      74,          2,         36,         36,2,20060327,       1007,         53,       -152,       4446,     6.8,   3.4533,  32.8491,2,  32.8529,2,    318.0,2,   319.4,2,   31.40,2,   16.90,2,    0.20,2,    1.57,2,   5.228,2,   2.825,2,-999.000,5,  2093.9,6,  2212.7,2,   -999.0,9,  -999.00,   7.6845,6,    25.00,-999.000,9,-999.000,-999.0000,9,-999.000,9, -999.00,5,   -23.3,2,     3.6,-999.000,9,-999.000,   56.11,2,   21.74,2,    6.80,-999.0000,9,-999.0000,9,-999.0000,9,-999.0000,9,-999.0000,9,-999.0000,9,     -999.0,     -999.0,9,     -999.0,9,     -999.0,9,     -999.0,9,     -999.0,9,     -999.0,9, -999.00,9,   3.4529,-999.0000,-999.000
325020060213,       P16N,      74,          2,         35,         35,2,20060327,       1007,         53,       -152,       4446,    16.3,   3.4520,  32.8495,2,  32.8543,2,    317.7,2,   319.3,2,   31.40,2,   16.80,2,    0.20,2,    1.57,2,   5.217,2,   2.817,2,-999.000,5,  2092.9,2,  2212.1,2,   -999.0,9,  -999.00,   7.6836,2,    25.00,-999.000,9,-999.000,-999.0000,9,-999.000,9, -999.00,9,  -999.0,9,    -9.0,-999.000,9,-999.000,   55.87,2,   20.90,2,   16.30,-999.0000,9,-999.0000,9,-999.0000,9,-999.0000,9,-999.0000,9,-999.0000,9,     -999.0,     -999.0,9,     -999.0,9,     -999.0,9,     -999.0,9,     -999.0,9,     -999.0,9, -999.00,9,   3.4510,-999.0000,-999.000
325020060213,       P16N,      74,          2,         34,         34,2,20060327,       1007,         53,       -152,       4446,    35.8,   3.4474,  32.8515,2,  32.8566,2,    313.0,2,   317.9,2,   31.40,2,   16.90,2,    0.20,2,    1.58,2,   5.219,2,   2.828,2,-999.000,5,  2092.6,2,  2212.1,2,   -999.0,9,  -999.00,   7.6836,2,    25.00,-999.000,9,-999.000,-999.0000,9,-999.000,9, -999.00,5,   -22.2,2,     2.7,-999.000,9,-999.000,   55.74,2,   21.59,2,   35.80,-999.0000,9,-999.0000,9,-999.0000,9,-999.0000,9,-999.0000,9,-999.0000,9,     -999.0,     -999.0,9,     -999.0,9,     -999.0,9,     -999.0,9,     -999.0,9,     -999.0,9, -999.00,9,   3.4452,-999.0000,-999.000
325020060213,       P16N,      74,          2,         33,         33,2,20060327,       1007,         53,       -152,       4446,    62.1,   3.4420,  32.8579,2,  32.8611,2,    313.5,2,   318.8,2,   31.60,2,   17.00,2,    0.20,2,    1.58,2,   5.259,2,   2.839,2,-999.000,5,  2093.2,2,  2212.5,2,   -999.0,9,  -999.00,   7.6831,2,    25.00,-999.000,9,-999.000,-999.0000,9,-999.000,9, -999.00,9,  -999.0,9,    -9.0,-999.000,9,-999.000,   51.27,2,   21.88,2,   62.10,-999.0000,9,-999.0000,9,-999.0000,9,-999.0000,9,-999.0000,9,-999.0000,9,     -999.0,     -999.0,9,     -999.0,9,     -999.0,9,     -999.0,9,     -999.0,9,     -999.0,9, -999.00,9,   3.4382,-999.0000,-999.000
325020060213,       P16N,      74,          2,         32,         32,2,20060327,       1007,         53,       -152,       4446,    86.6,   3.6343,  33.0016,2,  33.1194,2,    291.7,2,   243.1,2,   42.50,2,   23.80,2,    0.10,2,    1.90,2,   4.472,2,   2.394,2,-999.000,5,  2148.6,2,  2230.1,2,   -999.0,9,  -999.00,   7.5691,2,    25.00,-999.000,9,-999.000,-999.0000,9,-999.000,9, -999.00,5,   -36.0,2,     2.6,-999.000,9,-999.000,   48.82,2,   28.13,2,   86.60,-999.0000,9,-999.0000,9,-999.0000,9,-999.0000,9,-999.0000,9,-999.0000,9,     -999.0,     -999.0,9,     -999.0,9,     -999.0,9,     -999.0,9,     -999.0,9,     -999.0,9, -999.00,9,   3.6288,-999.0000,-999.000
325020060213,       P16N,      74,          2,         31,         31,2,20060327,       1007,         53,       -152,       4446,   111.5,   4.5656,  33.7427,2,  33.7627,2,     72.9,2,    74.9,2,   69.50,6,   38.90,6,    0.00,6,    2.64,6,   2.776,2,   1.379,2,-999.000,5,  2270.9,2,  2276.6,2,   -999.0,9,  -999.00,   7.3081,2,    25.00,-999.000,9,-999.000,-999.0000,9,-999.000,9, -999.00,5,   -62.4,2,     3.0,-999.000,9,-999.000,   47.27,2,   43.00,2,  111.50,-999.0000,9,-999.0000,9,-999.0000,9,-999.0000,9,-999.0000,9,-999.0000,9,     -999.0,     -999.0,9,     -999.0,9,     -999.0,9,     -999.0,9,     -999.0,9,     -999.0,9, -999.00,9,   4.5575,-999.0000,-999.000
325020060213,       P16N,      74,          2,         30,         30,2,20060327,       1007,         53,       -152,       4446,   135.7,   4.3391,  33.8357,2,  33.8484,2,     54.2,2,    52.8,2,   76.40,2,   41.00,2,    0.00,2,    2.79,2,   2.424,2,   1.202,2,-999.000,5,  2292.8,2,  2288.2,2,   -999.0,9,  -999.00,   7.2699,2,    25.00,-999.000,9,-999.000,-999.0000,9,-999.000,9, -999.00,5,   -67.6,2,     3.3,-999.000,9,-999.000,   46.32,2,   45.58,2,  135.70,-999.0000,9,-999.0000,9,-999.0000,9,-999.0000,9,-999.0000,9,-999.0000,9,     -999.0,     -999.0,9,     -999.0,9,     -999.0,9,     -999.0,9,     -999.0,9,     -999.0,9, -999.00,9,   4.3296,-999.0000,-999.000
325020060213,       P16N,      74,          2,         29,         29,2,20060327,       1007,         53,       -152,       4446,   175.5,   4.1338,  33.9005,2,  33.8987,2,     33.6,2,    35.7,2,   83.20,2,   43.10,2,    0.00,2,    2.90,2,   2.086,2,   1.025,2,-999.000,5,  2309.9,2,  2294.2,6,   -999.0,9,  -999.00,   7.2388,2,    25.00,-999.000,9,-999.000,-999.0000,9,-999.000,9, -999.00,5,   -85.8,2,     3.2,-999.000,9,-999.000,   44.98,2,   47.25,2,  175.50,-999.0000,9,-999.0000,9,-999.0000,9,-999.0000,9,-999.0000,9,-999.0000,9,     -999.0,     -999.0,9,     -999.0,9,     -999.0,9,     -999.0,9,     -999.0,9,     -999.0,9, -999.00,9,   4.1216,-999.0000,-999.000
325020060213,       P16N,      74,          2,         28,         28,2,20060327,       1007,         53,       -152,       4446,   201.1,   4.0749,  33.9387,2,  33.9408,2,     24.9,2,    25.1,2,   87.70,2,   43.90,2,    0.00,2,    2.96,2,   1.825,2,   0.877,2,-999.000,5,  2320.3,2,  2301.0,2,   -999.0,9,  -999.00,   7.2273,2,    25.00,-999.000,9,-999.000,-999.0000,9,-999.000,9, -999.00,5,   -98.3,2,     3.0,-999.000,9,-999.000,   44.56,2,   47.60,2,  201.10,-999.0000,9,-999.0000,9,-999.0000,9,-999.0000,9,-999.0000,9,-999.0000,9,     -999.0,     -999.0,9,     -999.0,9,     -999.0,9,     -999.0,9,     -999.0,9,     -999.0,9, -999.00,9,   4.0610,-999.0000,-999.000
325020060213,       P16N,      74,          2,         27,         27,2,20060327,       1007,         53,       -152,       4446,   225.9,   4.0253,  33.9676,2,  33.9713,2,     20.3,2,    19.7,2,   91.30,2,   44.30,2,    0.00,2,    3.00,2,   1.614,2,   0.788,2,-999.000,5,  2325.5,2,  2307.3,2,   -999.0,9,  -999.00,   7.2206,2,    25.00,-999.000,9,-999.000,-999.0000,9,-999.000,9, -999.00,5,  -108.1,2,     2.9,-999.000,9,-999.000,   43.51,2,   47.94,2,  225.90,-999.0000,9,-999.0000,9,-999.0000,9,-999.0000,9,-999.0000,9,-999.0000,9,     -999.0,     -999.0,9,     -999.0,9,     -999.0,9,     -999.0,9,     -999.0,9,     -999.0,9, -999.00,9,   4.0097,-999.0000,-999.000
325020060213,       P16N,      74,          2,         26,         26,2,20060327,       1007,         53,       -152,       4446,   277.7,   3.9281,  34.0388,2,  34.0407,2,     16.5,2,    16.5,2,   98.60,2,   44.30,2,    0.00,3,    3.02,2,   1.188,2,   0.572,2,-999.000,5,  2333.0,2,  2317.5,2,   -999.0,9,  -999.00,   7.2320,2,    25.00,-999.000,9,-999.000,-999.0000,9,-999.000,9, -999.00,5,  -116.9,2,     3.0,-999.000,9,-999.000,   42.75,2,   48.47,2,  277.70,-999.0000,9,-999.0000,9,-999.0000,9,-999.0000,9,-999.0000,9,-999.0000,9,     -999.0,     -999.0,9,     -999.0,9,     -999.0,9,     -999.0,9,     -999.0,9,     -999.0,9, -999.00,9,   3.9090,-999.0000,-999.000
325020060213,       P16N,      74,          2,         25,         25,2,20060327,       1007,         53,       -152,       4446,   324.9,   3.8558,  34.0802,2,  34.0844,2,     16.2,2,    16.4,2,  103.30,2,   43.90,2,    0.00,3,    3.02,2,   0.958,2,   0.446,2,-999.000,5,  2336.8,2,  2326.0,2,   -999.0,9,  -999.00,   7.2460,2,    25.00,-999.000,9,-999.000,-999.0000,9,-999.000,9, -999.00,5,  -129.4,2,     2.4,-999.000,9,-999.000,   42.43,2,   48.15,2,  324.90,-999.0000,9,-999.0000,9,-999.0000,9,-999.0000,9,-999.0000,9,-999.0000,9,     -999.0,     -999.0,9,     -999.0,9,     -999.0,9,     -999.0,9,     -999.0,9,     -999.0,9, -999.00,9,   3.8335,-999.0000,-999.000
325020060213,       P16N,      74,          2,         24,         24,2,20060327,       1007,         53,       -152,       4446,   376.4,   3.8003,  34.1086,2,  34.1112,2,     16.1,2,    16.0,2,  106.40,2,   44.00,2,    0.00,3,    3.02,2,   0.804,2,   0.391,2,-999.000,5,  2340.1,2,  2327.6,2,   -999.0,9,  -999.00,   7.2492,2,    25.00,-999.000,9,-999.000,-999.0000,9,-999.000,9, -999.00,5,  -141.0,3,     2.4,-999.000,9,-999.000,   41.53,2,   47.84,2,  376.40,-999.0000,9,-999.0000,9,-999.0000,9,-999.0000,9,-999.0000,9,-999.0000,9,     -999.0,     -999.0,9,     -999.0,9,     -999.0,9,     -999.0,9,     -999.0,9,     -999.0,9, -999.00,9,   3.7744,-999.0000,-999.000
325020060213,       P16N,      74,          2,         23,         23,2,20060327,       1007,         53,       -152,       4446,   426.0,   3.7196,  34.1442,2,  34.1445,2,     15.1,2,    15.2,2,  110.70,6,   44.60,2,    0.00,3,    3.01,6,   0.653,2,   0.308,2,-999.000,5,  2344.9,2,  2333.9,2,   -999.0,9,  -999.00,   7.2537,2,    25.00,-999.000,9,-999.000,-999.0000,9,-999.000,9, -999.00,5,  -147.6,2,     2.6,-999.000,9,-999.000,   40.94,2,   48.49,2,  426.00,-999.0000,9,-999.0000,9,-999.0000,9,-999.0000,9,-999.0000,9,-999.0000,9,     -999.0,     -999.0,9,     -999.0,9,     -999.0,9,     -999.0,9,     -999.0,9,     -999.0,9, -999.00,9,   3.6904,-999.0000,-999.000
325020060213,       P16N,      74,          2,         22,         22,3,20060327,       1007,         53,       -152,       4446,   468.9,   3.6535,  34.1699,2,  34.1720,2,     14.6,2,    14.5,2,  114.10,2,   44.10,2,    0.00,3,    3.04,2,   0.541,2,   0.265,2,-999.000,5,  2348.4,6,  2338.7,2,   -999.0,9,  -999.00,   7.2618,2,    25.00,-999.000,9,-999.000,-999.0000,9,-999.000,9, -999.00,5,  -152.8,2,     2.4,-999.000,9,-999.000,   40.12,2,   48.38,2,  468.90,-999.0000,9,-999.0000,9,-999.0000,9,-999.0000,9,-999.0000,9,-999.0000,9,     -999.0,     -999.0,9,     -999.0,9,     -999.0,9,     -999.0,9,     -999.0,9,     -999.0,9, -999.00,9,   3.6214,-999.0000,-999.000
325020060213,       P16N,      74,          2,         21,         21,2,20060327,       1007,         53,       -152,       4446,   551.0,   3.4901,  34.2205,2,  34.2255,2,     14.0,2,    13.7,2,  120.90,2,   43.70,2,    0.00,2,    3.04,2,   0.379,6,   0.186,6,-999.000,5,  2358.1,2,  2348.9,2,   -999.0,9,  -999.00,   7.2667,2,    25.00,-999.000,9,-999.000,-999.0000,9,-999.000,9, -999.00,5,  -165.2,2,     2.5,-999.000,9,-999.000,   39.99,2,   47.43,2,  551.00,-999.0000,9,-999.0000,9,-999.0000,9,-999.0000,9,-999.0000,9,-999.0000,9,     -999.0,     -999.0,9,     -999.0,9,     -999.0,9,     -999.0,9,     -999.0,9,     -999.0,9, -999.00,9,   3.4528,-999.0000,-999.000
325020060213,       P16N,      74,          2,         20,         20,2,20060327,       1007,         53,       -152,       4446,   650.2,   3.2582,  34.2739,2,  34.2802,2,     14.5,2,    14.5,2,  129.50,2,   43.80,2,    0.00,2,    3.06,2,   0.269,2,   0.126,2,-999.000,5,  2364.7,2,  2358.7,2,   -999.0,9,  -999.00,   7.2774,2,    25.00,-999.000,9,-999.000,-999.0000,9,-999.000,9, -999.00,5,  -187.9,2,     3.5,-999.000,9,-999.000,   39.93,2,   47.65,2,  650.20,-999.0000,9,-999.0000,9,-999.0000,9,-999.0000,9,-999.0000,9,-999.0000,9,     -999.0,     -999.0,9,     -999.0,9,     -999.0,9,     -999.0,9,     -999.0,9,     -999.0,9, -999.00,9,   3.2148,-999.0000,-999.000
325020060213,       P16N,      74,          2,         19,         19,2,20060327,       1007,         53,       -152,       4446,   750.8,   3.0615,  34.3238,2,  34.3247,2,     16.8,2,    17.0,2,  135.90,2,   43.60,2,    0.00,2,    3.07,2,   0.178,2,   0.090,2,-999.000,5,  2369.4,2,  2368.0,2,   -999.0,9,  -999.00,   7.2890,2,    25.00,-999.000,9,-999.000,-999.0000,9,-999.000,9, -999.00,5,  -194.9,2,     2.7,-999.000,9,-999.000,   39.66,2,   47.84,2,  750.80,-999.0000,9,-999.0000,9,-999.0000,9,-999.0000,9,-999.0000,9,-999.0000,9,     -999.0,     -999.0,9,     -999.0,9,     -999.0,9,     -999.0,9,     -999.0,9,     -999.0,9, -999.00,9,   3.0118,-999.0000,-999.000
325020060213,       P16N,      74,          2,         18,         18,2,20060327,       1007,         53,       -152,       4446,   849.5,   2.9079,  34.3631,2,  34.3653,2,     19.0,2,    18.9,2,  141.30,2,   43.50,2,    0.00,2,    3.07,2,   0.125,2,   0.062,2,-999.000,5,  2374.6,2,  2377.5,6,   -999.0,9,  -999.00,   7.2975,6,    25.00,-999.000,9,-999.000,-999.0000,9,-999.000,9, -999.00,9,  -999.0,9,    -9.0,-999.000,9,-999.000,   38.15,2,   47.39,2,  849.50,-999.0000,9,-999.0000,9,-999.0000,9,-999.0000,9,-999.0000,9,-999.0000,9,     -999.0,     -999.0,9,     -999.0,9,     -999.0,9,     -999.0,9,     -999.0,9,     -999.0,9, -999.00,9,   2.8521,-999.0000,-999.000
325020060213,       P16N,      74,          2,         17,         17,2,20060327,       1007,         53,       -152,       4446,   949.2,   2.7525,  34.4013,2,  34.4032,2,     21.0,2,    21.3,2,  145.90,2,   43.40,2,    0.00,2,    3.06,2,   0.081,2,   0.053,2,-999.000,5,  2377.6,2,  2384.1,2,   -999.0,9,  -999.00,   7.3064,2,    25.00,-999.000,9,-999.000,-999.0000,9,-999.000,9, -999.00,9,  -999.0,9,    -9.0,-999.000,9,-999.000,   36.92,2,   47.10,2,  949.20,-999.0000,9,-999.0000,9,-999.0000,9,-999.0000,9,-999.0000,9,-999.0000,9,     -999.0,     -999.0,9,     -999.0,9,     -999.0,9,     -999.0,9,     -999.0,9,     -999.0,9, -999.00,9,   2.6904,-999.0000,-999.000
325020060213,       P16N,      74,          2,         16,         16,2,20060327,       1007,         53,       -152,       4446,  1099.4,   2.5856,  34.4398,2,  34.4427,2,     23.7,2,    23.3,2,  151.70,2,   43.10,2,    0.00,2,    3.06,2,   0.052,2,   0.025,2,-999.000,5,  2382.6,2,  2392.1,2,   -999.0,9,  -999.00,   7.3150,2,    25.00,-999.000,9,-999.000,-999.0000,9,-999.000,9, -999.00,9,  -999.0,9,    -9.0,-999.000,9,-999.000,   36.34,2,   47.07,2, 1099.40,-999.0000,9,-999.0000,9,-999.0000,9,-999.0000,9,-999.0000,9,-999.0000,9,     -999.0,     -999.0,9,     -999.0,9,     -999.0,9,     -999.0,9,     -999.0,9,     -999.0,9, -999.00,9,   2.5138,-999.0000,-999.000
325020060213,       P16N,      74,          2,         15,         15,2,20060327,       1007,         53,       -152,       4446,  1299.7,   2.3762,  34.4873,2,  34.4896,2,     27.7,2,    27.6,2,  157.90,2,   43.30,2,    0.00,2,    3.07,2,   0.023,3,   0.008,2,-999.000,5,  2387.3,2,  2403.0,2,   -999.0,9,  -999.00,   7.3295,2,    25.00,-999.000,9,-999.000,-999.0000,9,-999.000,9, -999.00,9,  -999.0,9,    -9.0,-999.000,9,-999.000,   36.21,2,   47.32,2, 1299.70,-999.0000,9,-999.0000,9,-999.0000,9,-999.0000,9,-999.0000,9,-999.0000,9,     -999.0,     -999.0,9,     -999.0,9,     -999.0,9,     -999.0,9,     -999.0,9,     -999.0,9, -999.00,9,   2.2912,-999.0000,-999.000
325020060213,       P16N,      74,          2,         14,         14,2,20060327,       1007,         53,       -152,       4446,  1497.0,   2.2131,  34.5252,2,  34.5267,2,     34.1,2,    34.2,2,  162.20,2,   42.80,2,    0.00,2,    3.04,2,-999.000,9,-999.000,9,-999.000,9,  2388.9,2,  2410.0,2,   -999.0,9,  -999.00,   7.3461,2,    25.00,-999.000,9,-999.000,-999.0000,9,-999.000,9, -999.00,9,  -999.0,9,    -9.0,-999.000,9,-999.000,   36.55,2,   46.73,2, 1497.00,-999.0000,9,-999.0000,9,-999.0000,9,-999.0000,9,-999.0000,9,-999.0000,9,     -999.0,     -999.0,9,     -999.0,9,     -999.0,9,     -999.0,9,     -999.0,9,     -999.0,9, -999.00,9,   2.1147,-999.0000,-999.000
325020060213,       P16N,      74,          2,         13,         13,4,20060327,       1007,         53,       -152,       4446,  1700.8,   2.0692,  34.5570,2,  34.4136,4,     45.5,2,    21.2,4,  147.10,4,   43.80,4,    0.00,4,    3.06,4,-999.000,9,-999.000,9,-999.000,9,  2379.9,4,  2383.3,4,   -999.0,9,  -999.00,   7.3081,4,    25.00,-999.000,9,-999.000,-999.0000,9,-999.000,9, -999.00,9,  -999.0,9,    -9.0,-999.000,9,-999.000,   36.16,2,   47.31,2, 1700.80,-999.0000,9,-999.0000,9,-999.0000,9,-999.0000,9,-999.0000,9,-999.0000,9,     -999.0,     -999.0,9,     -999.0,9,     -999.0,9,     -999.0,9,     -999.0,9,     -999.0,9, -999.00,9,   1.9565,-999.0000,-999.000
325020060213,       P16N,      74,          2,         12,         12,2,20060327,       1007,         53,       -152,       4446,  1900.0,   1.9656,  34.5804,2,  34.5825,2,     53.6,2,    53.5,2,  166.50,2,   41.40,2,    0.00,2,    2.97,2,-999.000,9,-999.000,9,-999.000,9,  2383.3,2,  2414.8,2,   -999.0,9,  -999.00,   7.3867,2,    25.00,-999.000,9,-999.000,-999.0000,9,-999.000,9, -999.00,9,  -999.0,9,    -9.0,-999.000,9,-999.000,   36.57,2,   45.44,2, 1900.00,-999.0000,9,-999.0000,9,-999.0000,9,-999.0000,9,-999.0000,9,-999.0000,9,     -999.0,     -999.0,9,     -999.0,9,     -999.0,9,     -999.0,9,     -999.0,9,     -999.0,9, -999.00,9,   1.8381,-999.0000,-999.000
325020060213,       P16N,      74,          2,         11,         11,2,20060327,       1007,         53,       -152,       4446,  2100.9,   1.8610,  34.6018,2,  34.6043,2,     64.4,2,    64.1,2,  167.80,2,   40.90,2,    0.00,2,    2.92,2,-999.000,9,-999.000,9,-999.000,9,  2378.8,2,  2417.1,2,   -999.0,9,  -999.00,   7.4087,2,    25.00,-999.000,9,-999.000,-999.0000,9,-999.000,9, -999.00,9,  -999.0,9,    -9.0,-999.000,9,-999.000,   35.81,2,   44.53,2, 2100.90,-999.0000,9,-999.0000,9,-999.0000,9,-999.0000,9,-999.0000,9,-999.0000,9,     -999.0,     -999.0,9,     -999.0,9,     -999.0,9,     -999.0,9,     -999.0,9,     -999.0,9, -999.00,9,   1.7184,-999.0000,-999.000
325020060213,       P16N,      74,          2,         10,         10,2,20060327,       1007,         53,       -152,       4446,  2301.1,   1.7661,  34.6204,2,  34.6233,2,     75.0,2,    74.6,2,  168.70,6,   40.80,2,    0.00,6,    2.86,6,-999.000,9,-999.000,9,-999.000,9,  2374.7,2,  2422.4,2,   -999.0,9,  -999.00,   7.4303,2,    25.00,-999.000,9,-999.000,-999.0000,9,-999.000,9, -999.00,9,  -999.0,9,    -9.0,-999.000,9,-999.000,   35.90,2,   44.83,2, 2301.10,-999.0000,9,-999.0000,9,-999.0000,9,-999.0000,9,-999.0000,9,-999.0000,9,     -999.0,     -999.0,9,     -999.0,9,     -999.0,9,     -999.0,9,     -999.0,9,     -999.0,9, -999.00,9,   1.6078,-999.0000,-999.000