BOTTLE,20170720CCHSIOCBG
EXPOCODE,SECT_ID,STNNBR,CASTNO,SAMPNO,BTLNBR,BTLNBR_FLAG_W,DATE,TIME,LATITUDE,LONGITUDE,DEPTH,CTDPRS,CTDTMP,CTDSAL,CTDSAL_FLAG_W,SALNTY,SALNTY_FLAG_W,CTDOXY,CTDOXY_FLAG_W,OXYGEN,OXYGEN_FLAG_W,SILCAT,SILCAT_FLAG_W,NITRAT,NITRAT_FLAG_W,NITRIT,NITRIT_FLAG_W,PHSPHT,PHSPHT_FLAG_W,CFC-11,CFC-11_FLAG_W,CFC-12,CFC-12_FLAG_W,CFC113,CFC113_FLAG_W,TCARBN,TCARBN_FLAG_W,ALKALI,ALKALI_FLAG_W,FCO2,FCO2_FLAG_W,FCO2TMP,PH_TOT,PH_TOT_FLAG_W,PH_TMP,TRITUM,TRITUM_FLAG_W,TRITER,HELIUM,HELIUM_FLAG_W,DELHE3,DELHE3_FLAG_W,DELC13,DELC13_FLAG_W,DELC14,DELC14_FLAG_W,C14ERR,NEON,NEON_FLAG_W,NEONER,DOC,DOC_FLAG_W,TDN,TDN_FLAG_W,CTDRAW,CDOM325,CDOM325_FLAG_W,CDOM340,CDOM340_FLAG_W,CDOM380,CDOM380_FLAG_W,CDOM412,CDOM412_FLAG_W,CDOMSL,CDOMSL_FLAG_W,CDOMSN,CDOMSN_FLAG_W,DCNS,ARABI,ARABI_FLAG_W,FUCO,FUCO_FLAG_W,GALA,GALA_FLAG_W,GLUC,GLUC_FLAG_W,MAN,MAN_FLAG_W,RHAM,RHAM_FLAG_W,BRDU,BRDU_FLAG_W,THETA,HELIER,DELHER
,,,,,,,,,,,METERS,DBAR,ITS-90,PSS-78,,PSS-78,,UMOL/KG,,UMOL/KG,,UMOL/KG,,UMOL/KG,,UMOL/KG,,UMOL/KG,,PMOL/KG,,PMOL/KG,,PMOL/KG,,UMOL/KG,,UMOL/KG,,UATM,,DEG C,,,DEG C,TU,,TU,NMOL/KG,,PERCNT,,/MILLE,,/MILLE,,/MILLE,NMOL/KG,,NMOL/KG,UMOL/KG,,UMOL/KG,,DBAR,1/M,,1/M,,1/M,,1/M,,1/NM,,1/NM,,NMOL/KG,NMOL/KG,,NMOL/KG,,NMOL/KG,,NMOL/KG,,NMOL/KG,,NMOL/KG,,PMOL/L/H,,DEG C,NMOL/KG,PERCNT
325020060213,       P16N,      43,          1,          8,          8,9,20060302,       2110,         21,       -152,       5186,  3000.1,   1.5977,  34.6686,2,-999.0000,9,    121.7,2,  -999.0,9, -999.00,9, -999.00,9, -999.00,9, -999.00,9,-999.000,9,-999.000,9,-999.000,9,  -999.0,9,  -999.0,9,   -999.0,9,  -999.00,-999.0000,9,  -999.00,-999.000,9,-999.000,-999.0000,9,-999.000,9, -999.00,5,  -249.2,2,     2.7,-999.000,9,-999.000, -999.00,9, -999.00,9, 3000.10,-999.0000,9,-999.0000,9,-999.0000,9,-999.0000,9,-999.0000,9,-999.0000,9,     -999.0,     -999.0,9,     -999.0,9,     -999.0,9,     -999.0,9,     -999.0,9,     -999.0,9, -999.00,9,   1.3788,-999.0000,-999.000
325020060213,       P16N,      43,          1,          7,          7,2,20060302,       2110,         21,       -152,       5186,  3249.5,   1.5441,  34.6749,2,  34.6771,2,    129.2,2,   128.7,2,  159.80,2,   37.80,2,    0.00,2,    2.62,2,-999.000,1,-999.000,1,-999.000,9,  2345.7,2,  2431.6,2,   1219.7,4,    20.00,   7.5428,2,    25.00,-999.000,9,-999.000,-999.0000,9,-999.000,9, -999.00,5,  -240.9,2,     2.7,-999.000,9,-999.000,   36.45,2,   40.60,2, 3249.50,   0.1110,2,   0.0730,2,   0.0310,2,   0.0160,2,   0.0232,2,   0.0249,2,     -999.0,     -999.0,9,     -999.0,9,     -999.0,9,     -999.0,9,     -999.0,9,     -999.0,9, -999.00,9,   1.3021,-999.0000,-999.000
325020060213,       P16N,      43,          1,          6,          6,2,20060302,       2110,         21,       -152,       5186,  3650.7,   1.4815,  34.6832,2,  34.6856,2,    140.5,2,   140.2,2,  156.70,2,   37.10,2,    0.00,2,    2.56,2,-999.000,1,-999.000,1,-999.000,9,  2338.7,2,  2430.5,6,   1088.2,4,    20.00,   7.5538,2,    25.00,-999.000,9,-999.000,-999.0000,9,-999.000,9, -999.00,5,  -235.4,2,     2.7,-999.000,9,-999.000,   38.52,2,   40.85,2, 3650.70,-999.0000,9,-999.0000,9,-999.0000,9,-999.0000,9,-999.0000,9,-999.0000,9,     -999.0,     -999.0,9,     -999.0,9,     -999.0,9,     -999.0,9,     -999.0,9,     -999.0,9, -999.00,9,   1.2002,-999.0000,-999.000
325020060213,       P16N,      43,          1,          5,          5,2,20060302,       2110,         21,       -152,       5186,  4049.9,   1.4548,  34.6889,2,  34.6929,3,    150.1,2,   149.8,2,  151.40,6,   36.30,6,    0.00,6,    2.51,6,-999.000,1,-999.000,1,-999.000,9,  2329.7,2,  2433.9,2,    852.1,4,    20.00,   7.5647,2,    25.00,-999.000,9,-999.000,-999.0000,9,-999.000,9, -999.00,5,  -231.5,2,     3.0,-999.000,9,-999.000,   38.85,2,   40.19,2, 4049.90,   0.1070,2,   0.0690,2,   0.0280,2,   0.0130,2,   0.0254,2,   0.0271,2,     -999.0,     -999.0,9,     -999.0,9,     -999.0,9,     -999.0,9,     -999.0,9,     -999.0,9, -999.00,9,   1.1318,-999.0000,-999.000
325020060213,       P16N,      43,          1,          4,          4,2,20060302,       2110,         21,       -152,       5186,  4550.1,   1.4679,  34.6925,2,  34.6931,2,    157.1,2,   156.6,2,  147.20,6,   35.90,6,    0.00,6,    2.46,6,-999.000,1,-999.000,1,-999.000,9,  2323.6,2,  2431.9,2,    830.4,4,    20.00,   7.5832,2,    25.00,-999.000,9,-999.000,-999.0000,9,-999.000,9, -999.00,5,  -213.2,2,     2.7,-999.000,9,-999.000,   40.11,2,   39.88,2, 4550.10,-999.0000,9,-999.0000,9,-999.0000,9,-999.0000,9,-999.0000,9,-999.0000,9,     -999.0,     -999.0,9,     -999.0,9,     -999.0,9,     -999.0,9,     -999.0,9,     -999.0,9, -999.00,9,   1.0881,-999.0000,-999.000
325020060213,       P16N,      43,          1,          3,          3,2,20060302,       2110,         21,       -152,       5186,  5050.5,   1.4943,  34.6950,2,  34.6984,3,    163.5,2,   162.1,2,  142.60,6,   35.40,6,    0.00,6,    2.42,6,-999.000,1,-999.000,1,-999.000,9,  2317.3,2,  2428.7,2,    848.5,4,    20.00,   7.5934,2,    25.00,-999.000,9,-999.000,-999.0000,9,-999.000,9, -999.00,5,  -216.2,2,     2.7,-999.000,9,-999.000,   39.80,2,   38.92,2, 5050.50,   0.1100,2,   0.0700,2,   0.0280,2,   0.0120,2,   0.0260,2,   0.0278,2,     -999.0,     -999.0,9,     -999.0,9,     -999.0,9,     -999.0,9,     -999.0,9,     -999.0,9, -999.00,9,   1.0541,-999.0000,-999.000
325020060213,       P16N,      43,          1,          1,          1,2,20060302,       2110,         21,       -152,       5186,  5231.6,   1.5101,  34.6955,2,  34.6983,3,    164.6,2,   163.2,2,  142.00,2,   35.30,2,    0.00,2,    2.42,2,-999.000,1,-999.000,1,-999.000,9,  2315.4,6,  2427.5,2,    872.7,4,    20.00,   7.5914,2,    25.00,-999.000,9,-999.000,-999.0000,9,-999.000,9, -999.00,5,  -209.1,2,     2.3,-999.000,9,-999.000,   40.20,2,   38.79,2, 5231.60,-999.0000,9,-999.0000,9,-999.0000,9,-999.0000,9,-999.0000,9,-999.0000,9,     -999.0,     -999.0,9,     -999.0,9,     -999.0,9,     -999.0,9,     -999.0,9,     -999.0,9, -999.00,9,   1.0470,-999.0000,-999.000