BOTTLE,20170720CCHSIOCBG
EXPOCODE,SECT_ID,STNNBR,CASTNO,SAMPNO,BTLNBR,BTLNBR_FLAG_W,DATE,TIME,LATITUDE,LONGITUDE,DEPTH,CTDPRS,CTDTMP,CTDSAL,CTDSAL_FLAG_W,SALNTY,SALNTY_FLAG_W,CTDOXY,CTDOXY_FLAG_W,OXYGEN,OXYGEN_FLAG_W,SILCAT,SILCAT_FLAG_W,NITRAT,NITRAT_FLAG_W,NITRIT,NITRIT_FLAG_W,PHSPHT,PHSPHT_FLAG_W,CFC-11,CFC-11_FLAG_W,CFC-12,CFC-12_FLAG_W,CFC113,CFC113_FLAG_W,TCARBN,TCARBN_FLAG_W,ALKALI,ALKALI_FLAG_W,FCO2,FCO2_FLAG_W,FCO2TMP,PH_TOT,PH_TOT_FLAG_W,PH_TMP,TRITUM,TRITUM_FLAG_W,TRITER,HELIUM,HELIUM_FLAG_W,DELHE3,DELHE3_FLAG_W,DELC13,DELC13_FLAG_W,DELC14,DELC14_FLAG_W,C14ERR,NEON,NEON_FLAG_W,NEONER,DOC,DOC_FLAG_W,TDN,TDN_FLAG_W,CTDRAW,CDOM325,CDOM325_FLAG_W,CDOM340,CDOM340_FLAG_W,CDOM380,CDOM380_FLAG_W,CDOM412,CDOM412_FLAG_W,CDOMSL,CDOMSL_FLAG_W,CDOMSN,CDOMSN_FLAG_W,DCNS,ARABI,ARABI_FLAG_W,FUCO,FUCO_FLAG_W,GALA,GALA_FLAG_W,GLUC,GLUC_FLAG_W,MAN,MAN_FLAG_W,RHAM,RHAM_FLAG_W,BRDU,BRDU_FLAG_W,THETA,HELIER,DELHER
,,,,,,,,,,,METERS,DBAR,ITS-90,PSS-78,,PSS-78,,UMOL/KG,,UMOL/KG,,UMOL/KG,,UMOL/KG,,UMOL/KG,,UMOL/KG,,PMOL/KG,,PMOL/KG,,PMOL/KG,,UMOL/KG,,UMOL/KG,,UATM,,DEG C,,,DEG C,TU,,TU,NMOL/KG,,PERCNT,,/MILLE,,/MILLE,,/MILLE,NMOL/KG,,NMOL/KG,UMOL/KG,,UMOL/KG,,DBAR,1/M,,1/M,,1/M,,1/M,,1/NM,,1/NM,,NMOL/KG,NMOL/KG,,NMOL/KG,,NMOL/KG,,NMOL/KG,,NMOL/KG,,NMOL/KG,,PMOL/L/H,,DEG C,NMOL/KG,PERCNT
325020060213,       P16N,      48,          1,          9,          9,2,20060314,       1131,    26.0002,  -152.0003,       5292,  2873.9,   1.5998,  34.6665,2,  34.6652,2,    119.2,2,   118.8,2,  160.90,2,   38.20,2,    0.00,2,    2.69,2,-999.000,9,-999.000,9,-999.000,9,  2350.8,2,  2428.1,2,   -999.0,9,  -999.00,   7.5251,2,    25.00,-999.000,9,-999.000,-999.0000,9,-999.000,9, -999.00,9,  -999.0,9,    -9.0,-999.000,9,-999.000,   36.25,2,   41.82,2, 2873.90,-999.0000,9,-999.0000,9,-999.0000,9,-999.0000,9,-999.0000,9,-999.0000,9,     -999.0,     -999.0,9,     -999.0,9,     -999.0,9,     -999.0,9,     -999.0,9,     -999.0,9, -999.00,9,   1.3928,-999.0000,-999.000
325020060213,       P16N,      48,          1,          8,          8,2,20060314,       1131,    26.0002,  -152.0003,       5292,  3090.3,   1.5501,  34.6724,2,  34.6727,2,    125.6,2,   125.3,2,  160.30,2,   37.70,2,    0.00,2,    2.65,2,   0.002,2,   0.005,2,-999.000,9,  2346.9,2,  2427.7,2,   -999.0,9,  -999.00,   7.5371,2,    25.00,-999.000,9,-999.000,-999.0000,9,-999.000,9, -999.00,9,  -999.0,9,    -9.0,-999.000,9,-999.000,   37.49,2,   40.95,2, 3090.30,-999.0000,9,-999.0000,9,-999.0000,9,-999.0000,9,-999.0000,9,-999.0000,9,     -999.0,     -999.0,9,     -999.0,9,     -999.0,9,     -999.0,9,     -999.0,9,     -999.0,9, -999.00,9,   1.3236,-999.0000,-999.000
325020060213,       P16N,      48,          1,          7,          7,2,20060314,       1131,    26.0002,  -152.0003,       5292,  3451.2,   1.5032,  34.6798,2,  34.6800,2,    134.2,2,   134.0,2,  158.30,6,   37.20,6,    0.00,6,    2.60,6,-999.000,9,-999.000,9,-999.000,9,  2340.7,2,  2429.1,6,   -999.0,9,  -999.00,   7.5523,2,    25.00,-999.000,9,-999.000,-999.0000,9,-999.000,9, -999.00,9,  -999.0,9,    -9.0,-999.000,9,-999.000,   37.59,2,   41.27,2, 3451.20,-999.0000,9,-999.0000,9,-999.0000,9,-999.0000,9,-999.0000,9,-999.0000,9,     -999.0,     -999.0,9,     -999.0,9,     -999.0,9,     -999.0,9,     -999.0,9,     -999.0,9, -999.00,9,   1.2420,-999.0000,-999.000
325020060213,       P16N,      48,          1,          6,          6,2,20060314,       1131,    26.0002,  -152.0003,       5292,  3849.8,   1.4756,  34.6856,2,  34.6855,2,    142.7,2,   143.4,2,  154.70,6,   36.40,2,    0.00,6,    2.55,6,-999.000,9,-999.000,9,-999.000,9,  2333.4,2,  2426.9,2,   -999.0,9,  -999.00,   7.5675,2,    25.00,-999.000,9,-999.000,-999.0000,9,-999.000,9, -999.00,9,  -999.0,9,    -9.0,-999.000,9,-999.000,   38.16,2,   40.59,2, 3849.80,-999.0000,9,-999.0000,9,-999.0000,9,-999.0000,9,-999.0000,9,-999.0000,9,     -999.0,     -999.0,9,     -999.0,9,     -999.0,9,     -999.0,9,     -999.0,9,     -999.0,9, -999.00,9,   1.1736,-999.0000,-999.000
325020060213,       P16N,      48,          1,          5,          5,2,20060314,       1131,    26.0002,  -152.0003,       5292,  4299.4,   1.4731,  34.6901,2,  34.6908,2,    150.9,2,   151.1,2,  149.90,2,   36.10,2,    0.00,2,    2.51,2,-999.000,9,-999.000,9,-999.000,9,  2327.0,2,  2423.8,2,   -999.0,9,  -999.00,   7.5813,2,    25.00,-999.000,9,-999.000,-999.0000,9,-999.000,9, -999.00,9,  -999.0,9,    -9.0,-999.000,9,-999.000,   38.49,2,   39.29,2, 4299.40,-999.0000,9,-999.0000,9,-999.0000,9,-999.0000,9,-999.0000,9,-999.0000,9,     -999.0,     -999.0,9,     -999.0,9,     -999.0,9,     -999.0,9,     -999.0,9,     -999.0,9, -999.00,9,   1.1217,-999.0000,-999.000
325020060213,       P16N,      48,          1,          4,          4,2,20060314,       1131,    26.0002,  -152.0003,       5292,  4800.5,   1.4739,  34.6945,2,  34.6945,2,    160.0,2,   160.4,2,  142.90,6,   35.30,2,    0.00,6,    2.45,6,  -0.006,2,   0.002,2,-999.000,9,  2317.2,2,  2417.8,2,   -999.0,9,  -999.00,   7.5918,2,    25.00,-999.000,9,-999.000,-999.0000,9,-999.000,9, -999.00,9,  -999.0,9,    -9.0,-999.000,9,-999.000,   38.57,2,   38.84,2, 4800.50,-999.0000,9,-999.0000,9,-999.0000,9,-999.0000,9,-999.0000,9,-999.0000,9,     -999.0,     -999.0,9,     -999.0,9,     -999.0,9,     -999.0,9,     -999.0,9,     -999.0,9, -999.00,9,   1.0645,-999.0000,-999.000
325020060213,       P16N,      48,          1,          3,          3,2,20060314,       1131,    26.0002,  -152.0003,       5292,  5149.1,   1.4975,  34.6957,2,  34.6961,2,    163.5,2,   163.9,2,  140.60,6,   35.00,2,    0.00,6,    2.42,6,-999.000,9,-999.000,9,-999.000,9,  2313.9,2,  2414.5,2,   -999.0,9,  -999.00,   7.5932,2,    25.00,-999.000,9,-999.000,-999.0000,9,-999.000,9, -999.00,9,  -999.0,9,    -9.0,-999.000,9,-999.000,   38.25,2,   38.68,2, 5149.10,-999.0000,9,-999.0000,9,-999.0000,9,-999.0000,9,-999.0000,9,-999.0000,9,     -999.0,     -999.0,9,     -999.0,9,     -999.0,9,     -999.0,9,     -999.0,9,     -999.0,9, -999.00,9,   1.0451,-999.0000,-999.000
325020060213,       P16N,      48,          1,          2,          2,2,20060314,       1131,    26.0002,  -152.0003,       5292,  5351.1,   1.5176,  34.6962,2,  34.6965,2,    163.9,2,   164.6,2,  139.70,6,   34.90,6,    0.00,6,    2.42,6,   0.003,2,   0.008,2,-999.000,9,  2311.9,2,  2414.6,2,   -999.0,9,  -999.00,   7.5958,2,    25.00,-999.000,9,-999.000,-999.0000,9,-999.000,9, -999.00,9,  -999.0,9,    -9.0,-999.000,9,-999.000,   38.10,2,   38.27,2, 5351.10,-999.0000,9,-999.0000,9,-999.0000,9,-999.0000,9,-999.0000,9,-999.0000,9,     -999.0,     -999.0,9,     -999.0,9,     -999.0,9,     -999.0,9,     -999.0,9,     -999.0,9, -999.00,9,   1.0393,-999.0000,-999.000
325020060213,       P16N,      48,          1,          1,          1,2,20060314,       1131,    26.0002,  -152.0003,       5292,  5447.2,   1.5293,  34.6961,2,  34.6995,3,    164.2,2,   164.5,2,  139.60,2,   35.20,2,    0.00,2,    2.42,2,   0.005,2,   0.008,2,-999.000,9,  2311.8,2,  2414.3,2,   -999.0,9,  -999.00,   7.5954,2,    25.00,-999.000,9,-999.000,-999.0000,9,-999.000,9, -999.00,9,  -999.0,9,    -9.0,-999.000,9,-999.000,   38.28,2,   38.78,2, 5447.20,-999.0000,9,-999.0000,9,-999.0000,9,-999.0000,9,-999.0000,9,-999.0000,9,     -999.0,     -999.0,9,     -999.0,9,     -999.0,9,     -999.0,9,     -999.0,9,     -999.0,9, -999.00,9,   1.0384,-999.0000,-999.000