BOTTLE,20170720CCHSIOCBG
EXPOCODE,SECT_ID,STNNBR,CASTNO,SAMPNO,BTLNBR,BTLNBR_FLAG_W,DATE,TIME,LATITUDE,LONGITUDE,DEPTH,CTDPRS,CTDTMP,CTDSAL,CTDSAL_FLAG_W,SALNTY,SALNTY_FLAG_W,CTDOXY,CTDOXY_FLAG_W,OXYGEN,OXYGEN_FLAG_W,SILCAT,SILCAT_FLAG_W,NITRAT,NITRAT_FLAG_W,NITRIT,NITRIT_FLAG_W,PHSPHT,PHSPHT_FLAG_W,CFC-11,CFC-11_FLAG_W,CFC-12,CFC-12_FLAG_W,CFC113,CFC113_FLAG_W,TCARBN,TCARBN_FLAG_W,ALKALI,ALKALI_FLAG_W,FCO2,FCO2_FLAG_W,FCO2TMP,PH_TOT,PH_TOT_FLAG_W,PH_TMP,TRITUM,TRITUM_FLAG_W,TRITER,HELIUM,HELIUM_FLAG_W,DELHE3,DELHE3_FLAG_W,DELC13,DELC13_FLAG_W,DELC14,DELC14_FLAG_W,C14ERR,NEON,NEON_FLAG_W,NEONER,DOC,DOC_FLAG_W,TDN,TDN_FLAG_W,CTDRAW,CDOM325,CDOM325_FLAG_W,CDOM340,CDOM340_FLAG_W,CDOM380,CDOM380_FLAG_W,CDOM412,CDOM412_FLAG_W,CDOMSL,CDOMSL_FLAG_W,CDOMSN,CDOMSN_FLAG_W,DCNS,ARABI,ARABI_FLAG_W,FUCO,FUCO_FLAG_W,GALA,GALA_FLAG_W,GLUC,GLUC_FLAG_W,MAN,MAN_FLAG_W,RHAM,RHAM_FLAG_W,BRDU,BRDU_FLAG_W,THETA,HELIER,DELHER
,,,,,,,,,,,METERS,DBAR,ITS-90,PSS-78,,PSS-78,,UMOL/KG,,UMOL/KG,,UMOL/KG,,UMOL/KG,,UMOL/KG,,UMOL/KG,,PMOL/KG,,PMOL/KG,,PMOL/KG,,UMOL/KG,,UMOL/KG,,UATM,,DEG C,,,DEG C,TU,,TU,NMOL/KG,,PERCNT,,/MILLE,,/MILLE,,/MILLE,NMOL/KG,,NMOL/KG,UMOL/KG,,UMOL/KG,,DBAR,1/M,,1/M,,1/M,,1/M,,1/NM,,1/NM,,NMOL/KG,NMOL/KG,,NMOL/KG,,NMOL/KG,,NMOL/KG,,NMOL/KG,,NMOL/KG,,PMOL/L/H,,DEG C,NMOL/KG,PERCNT
325020060213,       P16N,      81,          1,         33,         33,2,20060329,       1645,    55.9197,  -153.0598,       2422,     5.3,   4.4997,  32.1530,2,  32.1574,2,    314.6,2,  -999.0,5,   22.60,2,   11.60,2,    0.10,2,    1.25,2,-999.000,9,-999.000,9,-999.000,9,  2037.4,6,  2166.9,2,   -999.0,9,  -999.00,   7.7309,6,    25.00,-999.000,9,-999.000,-999.0000,9,-999.000,9, -999.00,9,  -999.0,9,    -9.0,-999.000,9,-999.000, -999.00,9, -999.00,9,    5.30,-999.0000,9,-999.0000,9,-999.0000,9,-999.0000,9,-999.0000,9,-999.0000,9,     -999.0,     -999.0,9,     -999.0,9,     -999.0,9,     -999.0,9,     -999.0,9,     -999.0,9, -999.00,9,   4.4993,-999.0000,-999.000
325020060213,       P16N,      81,          1,         32,         32,2,20060329,       1645,    55.9197,  -153.0598,       2422,    25.7,   4.5489,  32.1680,2,  32.1702,2,    315.3,2,   317.7,2,   22.70,2,   11.70,2,    0.10,2,    1.25,2,-999.000,9,-999.000,9,-999.000,9,  2039.1,2,  2168.5,2,   -999.0,9,  -999.00,   7.7276,2,    25.00,-999.000,9,-999.000,-999.0000,9,-999.000,9, -999.00,9,  -999.0,9,    -9.0,-999.000,9,-999.000, -999.00,9, -999.00,9,   25.70,-999.0000,9,-999.0000,9,-999.0000,9,-999.0000,9,-999.0000,9,-999.0000,9,     -999.0,     -999.0,9,     -999.0,9,     -999.0,9,     -999.0,9,     -999.0,9,     -999.0,9, -999.00,9,   4.5472,-999.0000,-999.000
325020060213,       P16N,      81,          1,         31,         31,2,20060329,       1645,    55.9197,  -153.0598,       2422,    50.0,   4.4952,  32.1788,2,  32.1815,2,    309.8,2,   307.0,2,   23.20,2,   12.20,2,    0.10,2,    1.28,2,-999.000,9,-999.000,9,-999.000,9,  2043.2,2,  2169.2,2,   -999.0,9,  -999.00,   7.7173,2,    25.00,-999.000,9,-999.000,-999.0000,9,-999.000,9, -999.00,9,  -999.0,9,    -9.0,-999.000,9,-999.000, -999.00,9, -999.00,9,   50.00,-999.0000,9,-999.0000,9,-999.0000,9,-999.0000,9,-999.0000,9,-999.0000,9,     -999.0,     -999.0,9,     -999.0,9,     -999.0,9,     -999.0,9,     -999.0,9,     -999.0,9, -999.00,9,   4.4918,-999.0000,-999.000
325020060213,       P16N,      81,          1,         30,         30,2,20060329,       1645,    55.9197,  -153.0598,       2422,    75.4,   4.6223,  32.3498,2,  32.3556,2,    298.4,2,   297.7,2,   23.30,2,   12.80,2,    0.10,2,    1.32,2,-999.000,9,-999.000,9,-999.000,9,  2054.4,2,  2178.9,2,   -999.0,9,  -999.00,   7.7109,2,    25.00,-999.000,9,-999.000,-999.0000,9,-999.000,9, -999.00,9,  -999.0,9,    -9.0,-999.000,9,-999.000, -999.00,9, -999.00,9,   75.40,-999.0000,9,-999.0000,9,-999.0000,9,-999.0000,9,-999.0000,9,-999.0000,9,     -999.0,     -999.0,9,     -999.0,9,     -999.0,9,     -999.0,9,     -999.0,9,     -999.0,9, -999.00,9,   4.6170,-999.0000,-999.000
325020060213,       P16N,      81,          1,         29,         29,2,20060329,       1645,    55.9197,  -153.0598,       2422,    75.5,   4.6229,  32.3507,2,  32.3640,2,    298.4,2,   297.3,2,   23.20,2,   12.90,2,    0.20,2,    1.33,2,-999.000,9,-999.000,9,-999.000,9,  -999.0,9,  -999.0,9,   -999.0,9,  -999.00,   7.7113,2,    25.00,-999.000,9,-999.000,-999.0000,9,-999.000,9, -999.00,9,  -999.0,9,    -9.0,-999.000,9,-999.000, -999.00,9, -999.00,9,   75.50,-999.0000,9,-999.0000,9,-999.0000,9,-999.0000,9,-999.0000,9,-999.0000,9,     -999.0,     -999.0,9,     -999.0,9,     -999.0,9,     -999.0,9,     -999.0,9,     -999.0,9, -999.00,9,   4.6176,-999.0000,-999.000
325020060213,       P16N,      81,          1,         28,         28,2,20060329,       1645,    55.9197,  -153.0598,       2422,    84.3,   4.5816,  32.4143,2,  32.4204,2,    303.5,2,   289.6,2,   22.10,2,   12.20,2,    0.20,2,    1.30,2,-999.000,9,-999.000,9,-999.000,9,  2055.4,2,  2181.1,2,   -999.0,9,  -999.00,   7.7166,2,    25.00,-999.000,9,-999.000,-999.0000,9,-999.000,9, -999.00,9,  -999.0,9,    -9.0,-999.000,9,-999.000, -999.00,9, -999.00,9,   84.30,-999.0000,9,-999.0000,9,-999.0000,9,-999.0000,9,-999.0000,9,-999.0000,9,     -999.0,     -999.0,9,     -999.0,9,     -999.0,9,     -999.0,9,     -999.0,9,     -999.0,9, -999.00,9,   4.5758,-999.0000,-999.000
325020060213,       P16N,      81,          1,         27,         27,2,20060329,       1645,    55.9197,  -153.0598,       2422,    90.7,   4.5543,  32.4650,2,  32.4643,2,    298.9,2,   282.8,2,   23.20,2,   12.80,2,    0.20,2,    1.33,2,-999.000,9,-999.000,9,-999.000,9,  2060.7,2,  2185.7,2,   -999.0,9,  -999.00,   7.7068,2,    25.00,-999.000,9,-999.000,-999.0000,9,-999.000,9, -999.00,9,  -999.0,9,    -9.0,-999.000,9,-999.000, -999.00,9, -999.00,9,   90.70,-999.0000,9,-999.0000,9,-999.0000,9,-999.0000,9,-999.0000,9,-999.0000,9,     -999.0,     -999.0,9,     -999.0,9,     -999.0,9,     -999.0,9,     -999.0,9,     -999.0,9, -999.00,9,   4.5480,-999.0000,-999.000
325020060213,       P16N,      81,          1,         26,         26,2,20060329,       1645,    55.9197,  -153.0598,       2422,   100.8,   4.8988,  32.6753,2,  32.6836,2,    259.6,2,   263.6,2,   27.80,2,   16.40,2,    0.10,2,    1.51,2,-999.000,9,-999.000,9,-999.000,9,  2088.7,2,  2199.4,2,   -999.0,9,  -999.00,   7.6617,2,    25.00,-999.000,9,-999.000,-999.0000,9,-999.000,9, -999.00,9,  -999.0,9,    -9.0,-999.000,9,-999.000, -999.00,9, -999.00,9,  100.80,-999.0000,9,-999.0000,9,-999.0000,9,-999.0000,9,-999.0000,9,-999.0000,9,     -999.0,     -999.0,9,     -999.0,9,     -999.0,9,     -999.0,9,     -999.0,9,     -999.0,9, -999.00,9,   4.8915,-999.0000,-999.000
325020060213,       P16N,      81,          1,         25,         25,2,20060329,       1645,    55.9197,  -153.0598,       2422,   100.8,   4.8986,  32.6735,2,  32.6589,2,    260.0,2,   263.9,2,   27.40,2,   16.10,2,    0.10,2,    1.48,2,-999.000,9,-999.000,9,-999.000,9,  -999.0,9,  -999.0,9,   -999.0,9,  -999.00,   7.6679,2,    25.00,-999.000,9,-999.000,-999.0000,9,-999.000,9, -999.00,9,  -999.0,9,    -9.0,-999.000,9,-999.000, -999.00,9, -999.00,9,  100.80,-999.0000,9,-999.0000,9,-999.0000,9,-999.0000,9,-999.0000,9,-999.0000,9,     -999.0,     -999.0,9,     -999.0,9,     -999.0,9,     -999.0,9,     -999.0,9,     -999.0,9, -999.00,9,   4.8912,-999.0000,-999.000
325020060213,       P16N,      81,          1,         24,         24,2,20060329,       1645,    55.9197,  -153.0598,       2422,   175.2,   5.8516,  33.6990,2,  33.7028,2,    117.2,2,   111.2,2,   51.30,2,   31.30,2,    0.00,2,    2.21,2,-999.000,9,-999.000,9,-999.000,9,  2219.2,2,  2260.9,2,   -999.0,9,  -999.00,   7.4357,2,    25.00,-999.000,9,-999.000,-999.0000,9,-999.000,9, -999.00,9,  -999.0,9,    -9.0,-999.000,9,-999.000, -999.00,9, -999.00,9,  175.20,-999.0000,9,-999.0000,9,-999.0000,9,-999.0000,9,-999.0000,9,-999.0000,9,     -999.0,     -999.0,9,     -999.0,9,     -999.0,9,     -999.0,9,     -999.0,9,     -999.0,9, -999.00,9,   5.8371,-999.0000,-999.000
325020060213,       P16N,      81,          1,         23,         23,2,20060329,       1645,    55.9197,  -153.0598,       2422,   201.4,   5.6407,  33.7811,2,  33.7868,2,    105.8,2,    99.8,2,   55.80,2,   33.20,2,    0.00,2,    2.31,2,-999.000,9,-999.000,9,-999.000,9,  2235.0,2,  2264.8,2,   -999.0,9,  -999.00,   7.4082,2,    25.00,-999.000,9,-999.000,-999.0000,9,-999.000,9, -999.00,9,  -999.0,9,    -9.0,-999.000,9,-999.000, -999.00,9, -999.00,9,  201.40,-999.0000,9,-999.0000,9,-999.0000,9,-999.0000,9,-999.0000,9,-999.0000,9,     -999.0,     -999.0,9,     -999.0,9,     -999.0,9,     -999.0,9,     -999.0,9,     -999.0,9, -999.00,9,   5.6243,-999.0000,-999.000
325020060213,       P16N,      81,          1,         21,         21,2,20060329,       1645,    55.9197,  -153.0598,       2422,   250.9,   4.8728,  33.8457,2,  33.8447,2,     82.2,2,    79.2,2,   67.80,2,   37.40,2,    0.00,2,    2.57,2,-999.000,9,-999.000,9,-999.000,9,  -999.0,9,  -999.0,9,   -999.0,9,  -999.00,   7.3399,2,    25.00,-999.000,9,-999.000,-999.0000,9,-999.000,9, -999.00,9,  -999.0,9,    -9.0,-999.000,9,-999.000, -999.00,9, -999.00,9,  250.90,-999.0000,9,-999.0000,9,-999.0000,9,-999.0000,9,-999.0000,9,-999.0000,9,     -999.0,     -999.0,9,     -999.0,9,     -999.0,9,     -999.0,9,     -999.0,9,     -999.0,9, -999.00,9,   4.8538,-999.0000,-999.000
325020060213,       P16N,      81,          1,         22,         22,2,20060329,       1645,    55.9197,  -153.0598,       2422,   251.0,   4.8662,  33.8456,2,  33.8476,2,     82.4,2,    76.9,2,   67.50,2,   37.50,2,    0.00,2,    2.57,2,-999.000,9,-999.000,9,-999.000,9,  2266.7,6,  2280.1,6,   -999.0,9,  -999.00,   7.3431,2,    25.00,-999.000,9,-999.000,-999.0000,9,-999.000,9, -999.00,9,  -999.0,9,    -9.0,-999.000,9,-999.000, -999.00,9, -999.00,9,  251.00,-999.0000,9,-999.0000,9,-999.0000,9,-999.0000,9,-999.0000,9,-999.0000,9,     -999.0,     -999.0,9,     -999.0,9,     -999.0,9,     -999.0,9,     -999.0,9,     -999.0,9, -999.00,9,   4.8472,-999.0000,-999.000
325020060213,       P16N,      81,          1,         20,         20,2,20060329,       1645,    55.9197,  -153.0598,       2422,   301.1,   4.5268,  33.8956,2,  33.8977,2,     59.4,2,    56.0,2,   75.90,2,   40.20,2,    0.00,2,    2.74,2,-999.000,9,-999.000,9,-999.000,9,  -999.0,9,  -999.0,9,   -999.0,9,  -999.00,   7.2972,2,    25.00,-999.000,9,-999.000,-999.0000,9,-999.000,9, -999.00,9,  -999.0,9,    -9.0,-999.000,9,-999.000, -999.00,9, -999.00,9,  301.10,-999.0000,9,-999.0000,9,-999.0000,9,-999.0000,9,-999.0000,9,-999.0000,9,     -999.0,     -999.0,9,     -999.0,9,     -999.0,9,     -999.0,9,     -999.0,9,     -999.0,9, -999.00,9,   4.5047,-999.0000,-999.000
325020060213,       P16N,      81,          1,         19,         19,2,20060329,       1645,    55.9197,  -153.0598,       2422,   351.2,   4.4022,  33.9376,2,  33.9432,2,     46.9,2,    46.4,2,   81.60,2,   41.40,2,    0.00,2,    2.82,2,-999.000,9,-999.000,9,-999.000,9,  -999.0,9,  -999.0,9,   -999.0,9,  -999.00,   7.2821,2,    25.00,-999.000,9,-999.000,-999.0000,9,-999.000,9, -999.00,9,  -999.0,9,    -9.0,-999.000,9,-999.000, -999.00,9, -999.00,9,  351.20,-999.0000,9,-999.0000,9,-999.0000,9,-999.0000,9,-999.0000,9,-999.0000,9,     -999.0,     -999.0,9,     -999.0,9,     -999.0,9,     -999.0,9,     -999.0,9,     -999.0,9, -999.00,9,   4.3766,-999.0000,-999.000
325020060213,       P16N,      81,          1,         18,         18,2,20060329,       1645,    55.9197,  -153.0598,       2422,   399.8,   4.2704,  34.0071,2,  34.0115,2,     31.4,2,    33.3,2,   89.80,2,   42.80,2,    0.00,2,    2.93,2,-999.000,9,-999.000,9,-999.000,9,  -999.0,9,  -999.0,9,   -999.0,9,  -999.00,   7.2695,6,    25.00,-999.000,9,-999.000,-999.0000,9,-999.000,9, -999.00,9,  -999.0,9,    -9.0,-999.000,9,-999.000, -999.00,9, -999.00,9,  399.80,-999.0000,9,-999.0000,9,-999.0000,9,-999.0000,9,-999.0000,9,-999.0000,9,     -999.0,     -999.0,9,     -999.0,9,     -999.0,9,     -999.0,9,     -999.0,9,     -999.0,9, -999.00,9,   4.2414,-999.0000,-999.000
325020060213,       P16N,      81,          1,         17,         17,2,20060329,       1645,    55.9197,  -153.0598,       2422,   451.2,   4.0397,  34.0467,2,  34.0527,2,     24.5,2,    24.7,2,   97.50,2,   43.60,2,    0.00,2,    3.01,2,-999.000,9,-999.000,9,-999.000,9,  -999.0,9,  -999.0,9,   -999.0,9,  -999.00,   7.2595,2,    25.00,-999.000,9,-999.000,-999.0000,9,-999.000,9, -999.00,9,  -999.0,9,    -9.0,-999.000,9,-999.000, -999.00,9, -999.00,9,  451.20,-999.0000,9,-999.0000,9,-999.0000,9,-999.0000,9,-999.0000,9,-999.0000,9,     -999.0,     -999.0,9,     -999.0,9,     -999.0,9,     -999.0,9,     -999.0,9,     -999.0,9, -999.00,9,   4.0076,-999.0000,-999.000
325020060213,       P16N,      81,          1,         16,         16,2,20060329,       1645,    55.9197,  -153.0598,       2422,   500.3,   4.0212,  34.0877,2,  34.0948,2,     23.9,2,    23.2,2,  100.80,2,   43.50,2,    0.00,2,    3.01,2,-999.000,9,-999.000,9,-999.000,9,  -999.0,9,  -999.0,9,   -999.0,9,  -999.00,   7.2638,2,    25.00,-999.000,9,-999.000,-999.0000,9,-999.000,9, -999.00,9,  -999.0,9,    -9.0,-999.000,9,-999.000, -999.00,9, -999.00,9,  500.30,-999.0000,9,-999.0000,9,-999.0000,9,-999.0000,9,-999.0000,9,-999.0000,9,     -999.0,     -999.0,9,     -999.0,9,     -999.0,9,     -999.0,9,     -999.0,9,     -999.0,9, -999.00,9,   3.9855,-999.0000,-999.000
325020060213,       P16N,      81,          1,         15,         15,2,20060329,       1645,    55.9197,  -153.0598,       2422,   601.0,   3.7922,  34.1351,2,  34.1393,2,     18.4,2,    18.5,2,  109.20,2,   44.10,2,    0.00,2,    3.05,2,-999.000,9,-999.000,9,-999.000,9,  -999.0,9,  -999.0,9,   -999.0,9,  -999.00,   7.2619,2,    25.00,-999.000,9,-999.000,-999.0000,9,-999.000,9, -999.00,9,  -999.0,9,    -9.0,-999.000,9,-999.000, -999.00,9, -999.00,9,  601.00,-999.0000,9,-999.0000,9,-999.0000,9,-999.0000,9,-999.0000,9,-999.0000,9,     -999.0,     -999.0,9,     -999.0,9,     -999.0,9,     -999.0,9,     -999.0,9,     -999.0,9, -999.00,9,   3.7499,-999.0000,-999.000
325020060213,       P16N,      81,          1,         14,         14,2,20060329,       1645,    55.9197,  -153.0598,       2422,   699.9,   3.6027,  34.2156,2,  34.2191,2,     15.8,2,    15.6,2,  118.70,2,   43.90,2,    0.00,2,    3.09,2,-999.000,9,-999.000,9,-999.000,9,  -999.0,9,  -999.0,9,   -999.0,9,  -999.00,   7.2739,2,    25.00,-999.000,9,-999.000,-999.0000,9,-999.000,9, -999.00,9,  -999.0,9,    -9.0,-999.000,9,-999.000, -999.00,9, -999.00,9,  699.90,-999.0000,9,-999.0000,9,-999.0000,9,-999.0000,9,-999.0000,9,-999.0000,9,     -999.0,     -999.0,9,     -999.0,9,     -999.0,9,     -999.0,9,     -999.0,9,     -999.0,9, -999.00,9,   3.5538,-999.0000,-999.000
325020060213,       P16N,      81,          1,         13,         13,2,20060329,       1645,    55.9197,  -153.0598,       2422,   700.3,   3.6020,  34.2157,2,  34.2175,2,     15.8,2,    16.0,2,  118.70,2,   44.00,2,    0.00,2,    3.09,2,-999.000,9,-999.000,9,-999.000,9,  -999.0,9,  -999.0,9,   -999.0,9,  -999.00,-999.0000,9,  -999.00,-999.000,9,-999.000,-999.0000,9,-999.000,9, -999.00,9,  -999.0,9,    -9.0,-999.000,9,-999.000, -999.00,9, -999.00,9,  700.30,-999.0000,9,-999.0000,9,-999.0000,9,-999.0000,9,-999.0000,9,-999.0000,9,     -999.0,     -999.0,9,     -999.0,9,     -999.0,9,     -999.0,9,     -999.0,9,     -999.0,9, -999.00,9,   3.5532,-999.0000,-999.000
325020060213,       P16N,      81,          1,         12,         12,2,20060329,       1645,    55.9197,  -153.0598,       2422,   800.4,   3.3507,  34.2760,2,  34.2795,2,     15.5,2,    15.9,2,  127.70,2,   44.00,2,    0.00,2,    3.11,2,-999.000,9,-999.000,9,-999.000,9,  -999.0,9,  -999.0,9,   -999.0,9,  -999.00,-999.0000,9,  -999.00,-999.000,9,-999.000,-999.0000,9,-999.000,9, -999.00,9,  -999.0,9,    -9.0,-999.000,9,-999.000, -999.00,9, -999.00,9,  800.40,-999.0000,9,-999.0000,9,-999.0000,9,-999.0000,9,-999.0000,9,-999.0000,9,     -999.0,     -999.0,9,     -999.0,9,     -999.0,9,     -999.0,9,     -999.0,9,     -999.0,9, -999.00,9,   3.2957,-999.0000,-999.000
325020060213,       P16N,      81,          1,         11,         11,2,20060329,       1645,    55.9197,  -153.0598,       2422,   900.2,   3.2070,  34.3163,2,  34.3203,3,     14.9,2,    15.0,2,  133.20,2,   44.20,2,    0.00,2,    3.12,2,-999.000,9,-999.000,9,-999.000,9,  -999.0,9,  -999.0,9,   -999.0,9,  -999.00,-999.0000,9,  -999.00,-999.000,9,-999.000,-999.0000,9,-999.000,9, -999.00,9,  -999.0,9,    -9.0,-999.000,9,-999.000, -999.00,9, -999.00,9,  900.20,-999.0000,9,-999.0000,9,-999.0000,9,-999.0000,9,-999.0000,9,-999.0000,9,     -999.0,     -999.0,9,     -999.0,9,     -999.0,9,     -999.0,9,     -999.0,9,     -999.0,9, -999.00,9,   3.1454,-999.0000,-999.000
325020060213,       P16N,      81,          1,         10,         10,2,20060329,       1645,    55.9197,  -153.0598,       2422,  1000.7,   3.0108,  34.3568,2,  34.3625,3,     15.4,2,    15.8,2,  139.90,2,   44.10,2,    0.00,2,    3.14,2,-999.000,9,-999.000,9,-999.000,9,  -999.0,9,  -999.0,9,   -999.0,9,  -999.00,-999.0000,9,  -999.00,-999.000,9,-999.000,-999.0000,9,-999.000,9, -999.00,9,  -999.0,9,    -9.0,-999.000,9,-999.000, -999.00,9, -999.00,9, 1000.70,-999.0000,9,-999.0000,9,-999.0000,9,-999.0000,9,-999.0000,9,-999.0000,9,     -999.0,     -999.0,9,     -999.0,9,     -999.0,9,     -999.0,9,     -999.0,9,     -999.0,9, -999.00,9,   2.9430,-999.0000,-999.000
325020060213,       P16N,      81,          1,          9,          9,2,20060329,       1645,    55.9197,  -153.0598,       2422,  1200.6,   2.6965,  34.4242,2,  34.4282,3,     17.0,2,    17.1,2,  150.30,2,   44.30,2,    0.00,2,    3.15,2,-999.000,9,-999.000,9,-999.000,9,  -999.0,9,  -999.0,9,   -999.0,9,  -999.00,-999.0000,9,  -999.00,-999.000,9,-999.000,-999.0000,9,-999.000,9, -999.00,9,  -999.0,9,    -9.0,-999.000,9,-999.000, -999.00,9, -999.00,9, 1200.60,-999.0000,9,-999.0000,9,-999.0000,9,-999.0000,9,-999.0000,9,-999.0000,9,     -999.0,     -999.0,9,     -999.0,9,     -999.0,9,     -999.0,9,     -999.0,9,     -999.0,9, -999.00,9,   2.6161,-999.0000,-999.000
325020060213,       P16N,      81,          1,          8,          8,2,20060329,       1645,    55.9197,  -153.0598,       2422,  1400.5,   2.4065,  34.4527,2,  34.4928,4,     22.1,2,    24.2,2,  158.70,2,   43.90,2,    0.00,2,    3.13,2,-999.000,9,-999.000,9,-999.000,9,  -999.0,9,  -999.0,9,   -999.0,9,  -999.00,-999.0000,9,  -999.00,-999.000,9,-999.000,-999.0000,9,-999.000,9, -999.00,9,  -999.0,9,    -9.0,-999.000,9,-999.000, -999.00,9, -999.00,9, 1400.50,-999.0000,9,-999.0000,9,-999.0000,9,-999.0000,9,-999.0000,9,-999.0000,9,     -999.0,     -999.0,9,     -999.0,9,     -999.0,9,     -999.0,9,     -999.0,9,     -999.0,9, -999.00,9,   2.3136,-999.0000,-999.000
325020060213,       P16N,      81,          1,          7,          7,2,20060329,       1645,    55.9197,  -153.0598,       2422,  1599.7,   2.2474,  34.4805,2,  34.5215,2,     31.5,2,    32.6,2,  162.60,2,   43.50,2,    0.00,2,    3.12,2,-999.000,9,-999.000,9,-999.000,9,  -999.0,9,  -999.0,9,   -999.0,9,  -999.00,-999.0000,9,  -999.00,-999.000,9,-999.000,-999.0000,9,-999.000,9, -999.00,9,  -999.0,9,    -9.0,-999.000,9,-999.000, -999.00,9, -999.00,9, 1599.70,-999.0000,9,-999.0000,9,-999.0000,9,-999.0000,9,-999.0000,9,-999.0000,9,     -999.0,     -999.0,9,     -999.0,9,     -999.0,9,     -999.0,9,     -999.0,9,     -999.0,9, -999.00,9,   2.1405,-999.0000,-999.000