BOTTLE,20170720CCHSIOCBG
EXPOCODE,SECT_ID,STNNBR,CASTNO,SAMPNO,BTLNBR,BTLNBR_FLAG_W,DATE,TIME,LATITUDE,LONGITUDE,DEPTH,CTDPRS,CTDTMP,CTDSAL,CTDSAL_FLAG_W,SALNTY,SALNTY_FLAG_W,CTDOXY,CTDOXY_FLAG_W,OXYGEN,OXYGEN_FLAG_W,SILCAT,SILCAT_FLAG_W,NITRAT,NITRAT_FLAG_W,NITRIT,NITRIT_FLAG_W,PHSPHT,PHSPHT_FLAG_W,CFC-11,CFC-11_FLAG_W,CFC-12,CFC-12_FLAG_W,CFC113,CFC113_FLAG_W,TCARBN,TCARBN_FLAG_W,ALKALI,ALKALI_FLAG_W,FCO2,FCO2_FLAG_W,FCO2TMP,PH_TOT,PH_TOT_FLAG_W,PH_TMP,TRITUM,TRITUM_FLAG_W,TRITER,HELIUM,HELIUM_FLAG_W,DELHE3,DELHE3_FLAG_W,DELC13,DELC13_FLAG_W,DELC14,DELC14_FLAG_W,C14ERR,NEON,NEON_FLAG_W,NEONER,DOC,DOC_FLAG_W,TDN,TDN_FLAG_W,CTDRAW,CDOM325,CDOM325_FLAG_W,CDOM340,CDOM340_FLAG_W,CDOM380,CDOM380_FLAG_W,CDOM412,CDOM412_FLAG_W,CDOMSL,CDOMSL_FLAG_W,CDOMSN,CDOMSN_FLAG_W,DCNS,ARABI,ARABI_FLAG_W,FUCO,FUCO_FLAG_W,GALA,GALA_FLAG_W,GLUC,GLUC_FLAG_W,MAN,MAN_FLAG_W,RHAM,RHAM_FLAG_W,BRDU,BRDU_FLAG_W,THETA,HELIER,DELHER
,,,,,,,,,,,METERS,DBAR,ITS-90,PSS-78,,PSS-78,,UMOL/KG,,UMOL/KG,,UMOL/KG,,UMOL/KG,,UMOL/KG,,UMOL/KG,,PMOL/KG,,PMOL/KG,,PMOL/KG,,UMOL/KG,,UMOL/KG,,UATM,,DEG C,,,DEG C,TU,,TU,NMOL/KG,,PERCNT,,/MILLE,,/MILLE,,/MILLE,NMOL/KG,,NMOL/KG,UMOL/KG,,UMOL/KG,,DBAR,1/M,,1/M,,1/M,,1/M,,1/NM,,1/NM,,NMOL/KG,NMOL/KG,,NMOL/KG,,NMOL/KG,,NMOL/KG,,NMOL/KG,,NMOL/KG,,PMOL/L/H,,DEG C,NMOL/KG,PERCNT
325020060213,       P16N,      64,          1,         36,         36,2,20060321,       2008,    41.9997,  -151.9987,       5035,     5.2,   9.1744,  33.0523,2,  33.0549,2,    288.0,2,   286.5,2,    2.80,2,    4.70,2,    0.20,2,    0.61,2,   3.878,2,   2.222,2,-999.000,5,  2022.5,6,  2211.0,2,   -999.0,9,  -999.00,   7.8636,6,    25.00,-999.000,9,-999.000,-999.0000,9,-999.000,9, -999.00,5,    17.7,2,     3.0,-999.000,9,-999.000,   56.35,2,    9.28,2,    5.20,   0.1020,2,   0.0710,2,   0.0250,2,   0.0090,3,   0.0015,4,   0.0269,4,     -999.0,     -999.0,9,     -999.0,9,     -999.0,9,     -999.0,9,     -999.0,9,     -999.0,9,    8.81,2,   9.1739,-999.0000,-999.000
325020060213,       P16N,      64,          1,         35,         35,2,20060321,       2008,    41.9997,  -151.9987,       5035,    14.9,   9.1641,  33.0530,2,  33.0557,2,    287.9,2,   287.0,2,    2.80,2,    4.70,2,    0.20,2,    0.61,2,   3.822,2,   2.200,2,-999.000,5,  2022.8,2,  2211.5,2,   -999.0,9,  -999.00,   7.8626,3,    25.00,-999.000,9,-999.000,-999.0000,9,-999.000,9, -999.00,9,  -999.0,9,    -9.0,-999.000,9,-999.000,   57.17,2,    9.66,2,   14.90,   0.1050,2,   0.0740,2,   0.0260,2,   0.0100,3,   0.0018,4,   0.0262,4,     -999.0,     -999.0,9,     -999.0,9,     -999.0,9,     -999.0,9,     -999.0,9,     -999.0,9,    2.37,2,   9.1625,-999.0000,-999.000
325020060213,       P16N,      64,          1,         34,         34,2,20060321,       2008,    41.9997,  -151.9987,       5035,    35.2,   9.1720,  33.0526,2,  33.0534,2,    287.6,2,   286.5,2,    2.70,2,    4.70,2,    0.20,2,    0.61,2,   3.830,2,   2.205,2,-999.000,5,  2023.6,2,  2184.2,3,   -999.0,9,  -999.00,   7.8636,2,    25.00,-999.000,9,-999.000,-999.0000,9,-999.000,9, -999.00,5,    29.3,2,     3.4,-999.000,9,-999.000,   56.73,2,    8.66,2,   35.20,   0.1050,2,   0.0740,2,   0.0260,2,   0.0110,3,   0.0020,4,   0.0265,4,     -999.0,     -999.0,9,     -999.0,9,     -999.0,9,     -999.0,9,     -999.0,9,     -999.0,9,    3.02,2,   9.1682,-999.0000,-999.000
325020060213,       P16N,      64,          1,         33,         33,9,20060321,       2008,    41.9997,  -151.9987,       5035,    61.6,   9.2065,  33.0843,2,-999.0000,9,    283.5,2,  -999.0,9, -999.00,9, -999.00,9, -999.00,9, -999.00,9,-999.000,9,-999.000,9,-999.000,9,  -999.0,9,  -999.0,9,   -999.0,9,  -999.00,-999.0000,9,  -999.00,-999.000,9,-999.000,-999.0000,9,-999.000,9, -999.00,9,  -999.0,9,    -9.0,-999.000,9,-999.000, -999.00,9, -999.00,9,   61.60,-999.0000,9,-999.0000,9,-999.0000,9,-999.0000,9,-999.0000,9,-999.0000,9,     -999.0,     -999.0,9,     -999.0,9,     -999.0,9,     -999.0,9,     -999.0,9,     -999.0,9,    2.86,2,   9.1999,-999.0000,-999.000
325020060213,       P16N,      64,          1,         32,         32,2,20060321,       2008,    41.9997,  -151.9987,       5035,    84.5,   9.1023,  33.0887,2,-999.0000,5,    283.0,2,   287.2,2,    3.40,2,    5.10,2,    0.20,2,    0.63,2,   3.869,2,   2.214,2,-999.000,5,  2025.7,2,  2213.2,2,   -999.0,9,  -999.00,   7.8620,2,    25.00,-999.000,9,-999.000,-999.0000,9,-999.000,9, -999.00,5,    16.7,2,     2.8,-999.000,9,-999.000,   53.99,2,    9.45,2,   84.50,   0.1050,2,   0.0730,2,   0.0260,2,   0.0110,3,   0.0023,4,   0.0264,4,     -999.0,     -999.0,9,     -999.0,9,     -999.0,9,     -999.0,9,     -999.0,9,     -999.0,9,    0.95,2,   9.0934,-999.0000,-999.000
325020060213,       P16N,      64,          1,         31,         31,2,20060321,       2008,    41.9997,  -151.9987,       5035,   109.5,   9.0254,  33.1191,2,  33.1152,2,    275.4,2,  -999.0,5,    4.20,2,    5.40,2,    0.20,2,    0.64,2,   3.904,2,   2.228,2,-999.000,5,  2028.5,2,  2215.4,2,   -999.0,9,  -999.00,   7.8566,2,    25.00,-999.000,9,-999.000,-999.0000,9,-999.000,9, -999.00,5,    23.1,2,     2.9,-999.000,9,-999.000,   54.29,2,   10.10,2,  109.50,   0.1040,2,   0.0720,2,   0.0270,2,   0.0120,3,   0.0028,4,   0.0263,4,     -999.0,     -999.0,9,     -999.0,9,     -999.0,9,     -999.0,9,     -999.0,9,     -999.0,9,    0.45,2,   9.0139,-999.0000,-999.000
325020060213,       P16N,      64,          1,         30,         30,2,20060321,       2008,    41.9997,  -151.9987,       5035,   133.8,   9.0796,  33.2641,2,  33.3356,2,    267.3,2,   270.6,2,    9.10,2,    8.40,2,    0.10,2,    0.77,2,   3.801,2,   2.167,2,-999.000,5,  2048.6,2,  2223.5,2,   -999.0,9,  -999.00,   7.8269,2,    25.00,-999.000,9,-999.000,-999.0000,9,-999.000,9, -999.00,9,  -999.0,9,    -9.0,-999.000,9,-999.000,   54.62,2,   13.26,2,  133.80,   0.1030,2,   0.0710,2,   0.0270,2,   0.0130,3,   0.0037,3,   0.0260,2,     -999.0,     -999.0,9,     -999.0,9,     -999.0,9,     -999.0,9,     -999.0,9,     -999.0,9,    0.31,2,   9.0654,-999.0000,-999.000
325020060213,       P16N,      64,          1,         29,         29,2,20060321,       2008,    41.9997,  -151.9987,       5035,   176.0,   8.8707,  33.8549,2,  33.8528,2,    241.3,2,   242.7,2,   17.40,2,   14.10,2,    0.00,2,    1.01,2,   3.798,6,   2.215,6,-999.000,5,  2092.9,2,  2250.1,6,   -999.0,9,  -999.00,   7.7728,2,    25.00,-999.000,9,-999.000,-999.0000,9,-999.000,9, -999.00,5,    31.0,2,     3.5,-999.000,9,-999.000,   52.78,2,   18.18,2,  176.00,   0.0990,2,   0.0690,2,   0.0290,2,   0.0160,2,   0.0244,2,   0.0249,2,     -999.0,     -999.0,9,     -999.0,9,     -999.0,9,     -999.0,9,     -999.0,9,     -999.0,9,    0.10,2,   8.8521,-999.0000,-999.000
325020060213,       P16N,      64,          1,         28,         28,2,20060321,       2008,    41.9997,  -151.9987,       5035,   224.7,   8.6364,  33.9575,2,  33.9556,2,    232.2,2,   234.0,2,   20.80,2,   16.00,2,    0.00,2,    1.11,2,   3.727,2,   2.086,2,-999.000,5,  2107.3,2,  2257.8,2,   -999.0,9,  -999.00,   7.7519,2,    25.00,-999.000,9,-999.000,-999.0000,9,-999.000,9, -999.00,5,    26.6,2,     3.0,-999.000,9,-999.000,   49.92,2,   20.01,2,  224.70,   0.1050,2,   0.0730,2,   0.0310,2,   0.0180,2,   0.0228,2,   0.0237,2,     -999.0,     -999.0,9,     -999.0,9,     -999.0,9,     -999.0,9,     -999.0,9,     -999.0,9, -999.00,9,   8.6129,-999.0000,-999.000
325020060213,       P16N,      64,          1,         27,         27,2,20060321,       2008,    41.9997,  -151.9987,       5035,   276.4,   7.9659,  33.9498,2,  33.9523,2,    218.3,2,   218.5,2,   26.30,2,   18.70,2,    0.00,2,    1.29,2,   3.663,2,   1.993,2,-999.000,5,  2126.7,2,  2261.4,2,   -999.0,9,  -999.00,   7.7111,2,    25.00,-999.000,9,-999.000,-999.0000,9,-999.000,9, -999.00,5,    14.4,2,     3.4,-999.000,9,-999.000,   49.04,2,   23.13,2,  276.40,   0.1170,2,   0.0820,2,   0.0370,2,   0.0230,2,   0.0202,2,   0.0218,2,     -999.0,     -999.0,9,     -999.0,9,     -999.0,9,     -999.0,9,     -999.0,9,     -999.0,9, -999.00,9,   7.9382,-999.0000,-999.000
325020060213,       P16N,      64,          1,         26,         26,2,20060321,       2008,    41.9997,  -151.9987,       5035,   326.3,   7.2388,  33.9473,2,  33.9486,2,    193.7,2,   191.6,2,   35.30,2,   23.00,2,    0.00,2,    1.56,2,   3.417,2,   1.820,2,-999.000,5,  2155.9,2,  2268.5,2,   -999.0,9,  -999.00,   7.6490,2,    25.00,-999.000,9,-999.000,-999.0000,9,-999.000,9, -999.00,5,    -6.5,2,     2.7,-999.000,9,-999.000,   47.55,2,   26.68,2,  326.30,   0.1320,2,   0.0940,2,   0.0440,2,   0.0280,2,   0.0181,2,   0.0200,2,    455.766,    36.2707,2,    38.8076,2,    79.5122,2,     176.94,2,    87.4058,2,    36.8293,2, -999.00,9,   7.2079,-999.0000,-999.000
325020060213,       P16N,      64,          1,         25,         25,2,20060321,       2008,    41.9997,  -151.9987,       5035,   376.5,   6.4895,  33.9343,2,  33.9381,2,    167.1,2,   172.8,2,   43.20,2,   26.30,2,    0.00,2,    1.79,2,   3.176,2,   1.669,2,-999.000,5,  2179.3,2,  2273.4,2,   -999.0,9,  -999.00,   7.5947,2,    25.00,-999.000,9,-999.000,-999.0000,9,-999.000,9, -999.00,5,   -27.8,2,     3.3,-999.000,9,-999.000,   46.61,2,   30.42,2,  376.50,   0.1420,2,   0.1000,2,   0.0480,2,   0.0310,3,   0.0174,3,   0.0194,3,     -999.0,     -999.0,9,     -999.0,9,     -999.0,9,     -999.0,9,     -999.0,9,     -999.0,9, -999.00,9,   6.4558,-999.0000,-999.000
325020060213,       P16N,      64,          1,         24,         24,2,20060321,       2008,    41.9997,  -151.9987,       5035,   424.1,   5.8722,  33.9482,2,  33.9496,2,    132.3,2,   135.4,2,   56.90,2,   31.20,2,    0.00,2,    2.14,2,   2.625,2,   1.355,2,-999.000,5,  2216.9,2,  2283.0,2,   -999.0,9,  -999.00,   7.5098,2,    25.00,-999.000,9,-999.000,-999.0000,9,-999.000,9, -999.00,5,   -45.3,2,     3.6,-999.000,9,-999.000,   45.79,2,   35.58,2,  424.10,   0.1570,2,   0.1120,2,   0.0550,2,   0.0370,2,   0.0163,2,   0.0182,2,     -999.0,     -999.0,9,     -999.0,9,     -999.0,9,     -999.0,9,     -999.0,9,     -999.0,9, -999.00,9,   5.8361,-999.0000,-999.000
325020060213,       P16N,      64,          1,         23,         23,2,20060321,       2008,    41.9997,  -151.9987,       5035,   475.1,   5.4719,  33.9745,2,  33.9741,2,    110.7,2,   109.8,2,   65.90,2,   34.10,2,    0.00,2,    2.35,2,   2.272,2,   1.128,2,-999.000,5,  2240.8,2,  2290.6,2,   -999.0,9,  -999.00,   7.4570,2,    25.00,-999.000,9,-999.000,-999.0000,9,-999.000,9, -999.00,5,   -75.9,2,     2.0,-999.000,9,-999.000,   44.59,2,   38.75,2,  475.10,   0.1610,2,   0.1150,2,   0.0580,2,   0.0390,3,   0.0158,3,   0.0177,3,     -999.0,     -999.0,9,     -999.0,9,     -999.0,9,     -999.0,9,     -999.0,9,     -999.0,9, -999.00,9,   5.4328,-999.0000,-999.000
325020060213,       P16N,      64,          1,         22,         22,2,20060321,       2008,    41.9997,  -151.9987,       5035,   550.5,   4.8329,  34.0189,2,  34.0186,2,     80.8,2,    82.0,2,   80.30,2,   37.70,2,    0.00,2,    2.62,2,   1.654,2,   0.821,2,-999.000,5,  2272.8,2,  2305.1,2,   -999.0,9,  -999.00,   7.3980,2,    25.00,-999.000,9,-999.000,-999.0000,9,-999.000,9, -999.00,5,   -97.8,2,     2.0,-999.000,9,-999.000,   43.85,2,   41.48,2,  550.50,   0.1710,2,   0.1220,2,   0.0640,2,   0.0440,2,   0.0152,2,   0.0169,2,     -999.0,     -999.0,9,     -999.0,9,     -999.0,9,     -999.0,9,     -999.0,9,     -999.0,9, -999.00,9,   4.7900,-999.0000,-999.000
325020060213,       P16N,      64,          1,         21,         21,2,20060321,       2008,    41.9997,  -151.9987,       5035,   650.3,   4.3348,  34.0936,2,  34.0962,2,     57.2,2,    55.9,2,   94.80,2,   40.50,2,    0.00,2,    2.82,2,   0.995,2,   0.482,2,-999.000,5,  2303.4,2,  2321.9,2,   -999.0,9,  -999.00,   7.3471,2,    25.00,-999.000,9,-999.000,-999.0000,9,-999.000,9, -999.00,5,  -130.7,2,     2.6,-999.000,9,-999.000,   43.22,2,   44.95,2,  650.30,   0.1750,2,   0.1260,2,   0.0670,2,   0.0470,2,   0.0146,2,   0.0162,2,     -999.0,     -999.0,9,     -999.0,9,     -999.0,9,     -999.0,9,     -999.0,9,     -999.0,9, -999.00,9,   4.2861,-999.0000,-999.000
325020060213,       P16N,      64,          1,         20,         20,2,20060321,       2008,    41.9997,  -151.9987,       5035,   750.3,   3.9953,  34.1696,2,  34.1709,2,     39.2,2,    40.9,2,  107.20,2,   42.20,2,    0.00,2,    2.95,2,   0.542,2,   0.263,2,-999.000,5,  2327.6,2,  2336.7,2,   -999.0,9,  -999.00,   7.3224,2,    25.00,-999.000,9,-999.000,-999.0000,9,-999.000,9, -999.00,5,  -153.6,2,     2.4,-999.000,9,-999.000,   42.46,2,   46.58,2,  750.30,   0.1800,2,   0.1290,2,   0.0700,2,   0.0500,2,   0.0142,2,   0.0157,2,     -999.0,     -999.0,9,     -999.0,9,     -999.0,9,     -999.0,9,     -999.0,9,     -999.0,9, -999.00,9,   3.9404,-999.0000,-999.000
325020060213,       P16N,      64,          1,         19,         19,2,20060321,       2008,    41.9997,  -151.9987,       5035,   847.8,   3.7055,  34.2345,2,  34.2333,2,     28.1,2,    28.5,2,  117.40,2,   43.30,2,    0.00,2,    3.03,2,   0.300,2,   0.140,2,-999.000,5,  2343.0,2,  2348.0,2,   -999.0,9,  -999.00,   7.3103,2,    25.00,-999.000,9,-999.000,-999.0000,9,-999.000,9, -999.00,5,  -170.4,2,     1.9,-999.000,9,-999.000,   40.63,2,   47.23,2,  847.80,-999.0000,9,-999.0000,9,-999.0000,9,-999.0000,9,-999.0000,9,-999.0000,9,     -999.0,     -999.0,9,     -999.0,9,     -999.0,9,     -999.0,9,     -999.0,9,     -999.0,9, -999.00,9,   3.6446,-999.0000,-999.000
325020060213,       P16N,      64,          1,         18,         18,2,20060321,       2008,    41.9997,  -151.9987,       5035,   949.4,   3.3700,  34.2979,2,  34.2985,2,     18.6,2,    22.3,2,  129.30,2,   44.20,2,    0.00,2,    3.11,2,   0.126,2,   0.058,2,-999.000,5,  2360.8,2,  2362.4,6,   -999.0,9,  -999.00,   7.3002,2,    25.00,-999.000,9,-999.000,-999.0000,9,-999.000,9, -999.00,9,  -999.0,9,    -9.0,-999.000,9,-999.000,   39.85,2,   48.22,2,  949.40,   0.1770,2,   0.1270,2,   0.0690,2,   0.0500,2,   0.0139,2,   0.0155,3,     -999.0,     -999.0,9,     -999.0,9,     -999.0,9,     -999.0,9,     -999.0,9,     -999.0,9, -999.00,9,   3.3035,-999.0000,-999.000
325020060213,       P16N,      64,          1,         17,         17,2,20060321,       2008,    41.9997,  -151.9987,       5035,  1099.0,   3.0336,  34.3627,2,  34.3624,2,     10.9,2,    11.0,2,  141.50,2,   45.20,2,    0.00,2,    3.18,2,   0.021,2,   0.019,2,-999.000,5,  2377.4,6,  2376.1,2,   -999.0,9,  -999.00,   7.2874,2,    25.00,-999.000,9,-999.000,-999.0000,9,-999.000,9, -999.00,5,  -208.9,2,     1.7,-999.000,9,-999.000,   38.08,2,   49.17,2, 1099.00,   0.1810,2,   0.1300,2,   0.0720,2,   0.0540,2,   0.0133,4,   0.0148,4,     -999.0,     -999.0,9,     -999.0,9,     -999.0,9,     -999.0,9,     -999.0,9,     -999.0,9, -999.00,9,   2.9581,-999.0000,-999.000
325020060213,       P16N,      64,          1,         16,         16,2,20060321,       2008,    41.9997,  -151.9987,       5035,  1298.8,   2.7077,  34.4325,2,  34.4337,2,      9.0,2,     8.9,2,  153.70,2,   45.60,2,    0.00,2,    3.21,2,   0.005,2,  -0.001,2,-999.000,5,  2391.9,2,  2392.2,2,   -999.0,9,  -999.00,   7.2914,2,    25.00,-999.000,9,-999.000,-999.0000,9,-999.000,9, -999.00,5,  -208.4,2,     2.1,-999.000,9,-999.000,   36.89,2,   48.97,2, 1298.80,   0.1810,2,   0.1300,2,   0.0720,2,   0.0540,2,   0.0131,3,   0.0146,3,     -999.0,     -999.0,9,     -999.0,9,     -999.0,9,     -999.0,9,     -999.0,9,     -999.0,9, -999.00,9,   2.6196,-999.0000,-999.000
325020060213,       P16N,      64,          1,         15,         15,2,20060321,       2008,    41.9997,  -151.9987,       5035,  1698.1,   2.2524,  34.5327,2,  34.5321,2,     22.9,2,    23.4,2,  167.10,2,   45.00,2,    0.00,2,    3.16,2,-999.000,9,-999.000,9,-999.000,9,  2398.4,2,  2409.2,2,   -999.0,9,  -999.00,   7.3289,2,    25.00,-999.000,9,-999.000,-999.0000,9,-999.000,9, -999.00,5,  -238.1,2,     3.0,-999.000,9,-999.000,   36.46,2,   48.61,2, 1698.10,   0.1730,2,   0.1240,2,   0.0690,2,   0.0510,2,   0.0131,4,   0.0148,4,     -999.0,     -999.0,9,     -999.0,9,     -999.0,9,     -999.0,9,     -999.0,9,     -999.0,9, -999.00,9,   2.1376,-999.0000,-999.000
325020060213,       P16N,      64,          1,         14,         14,2,20060321,       2008,    41.9997,  -151.9987,       5035,  1698.7,   2.2512,  34.5327,2,  34.5315,2,     22.9,2,    27.1,2,  167.50,2,   44.90,2,    0.00,2,    3.15,2,  -0.001,2,  -0.001,2,-999.000,5,  2395.3,2,  2409.2,2,   -999.0,9,  -999.00,   7.3271,2,    25.00,-999.000,9,-999.000,-999.0000,9,-999.000,9, -999.00,5,  -234.1,2,     2.2,-999.000,9,-999.000,   36.39,2,   49.07,2, 1698.70,-999.0000,9,-999.0000,9,-999.0000,9,-999.0000,9,-999.0000,9,-999.0000,9,     -999.0,     -999.0,9,     -999.0,9,     -999.0,9,     -999.0,9,     -999.0,9,     -999.0,9, -999.00,9,   2.1363,-999.0000,-999.000
325020060213,       P16N,      64,          1,         13,         13,4,20060321,       2008,    41.9997,  -151.9987,       5035,  1901.3,   2.0582,  34.5753,2,  34.5219,4,     40.6,2,    19.8,4,  166.20,2,   45.20,2,    0.00,2,    3.17,2,-999.000,9,-999.000,9,-999.000,9,  2398.8,2,  2404.8,3,   -999.0,9,  -999.00,   7.3181,4,    25.00,-999.000,9,-999.000,-999.0000,9,-999.000,9, -999.00,5,  -231.0,2,     2.4,-999.000,9,-999.000,   36.79,2,   49.06,2, 1901.30,   0.1760,2,   0.1260,2,   0.0710,2,   0.0530,2,   0.0128,3,   0.0145,3,     -999.0,     -999.0,9,     -999.0,9,     -999.0,9,     -999.0,9,     -999.0,9,     -999.0,9, -999.00,9,   1.9293,-999.0000,-999.000
325020060213,       P16N,      64,          1,         12,         12,2,20060321,       2008,    41.9997,  -151.9987,       5035,  2123.4,   1.9080,  34.6043,2,  34.6044,2,     56.8,2,    58.8,2,  174.20,2,   42.80,2,    0.00,2,    3.03,2,-999.000,9,-999.000,9,-999.000,9,  2385.8,2,  2420.7,2,   -999.0,9,  -999.00,   7.3997,2,    25.00,-999.000,9,-999.000,-999.0000,9,-999.000,9, -999.00,5,  -243.4,2,     2.2,-999.000,9,-999.000,   36.84,2,   46.61,2, 2123.40,   0.1580,2,   0.1110,2,   0.0600,2,   0.0450,2,   0.0134,3,   0.0155,3,     -999.0,     -999.0,9,     -999.0,9,     -999.0,9,     -999.0,9,     -999.0,9,     -999.0,9, -999.00,9,   1.7627,-999.0000,-999.000
325020060213,       P16N,      64,          1,         11,         11,2,20060321,       2008,    41.9997,  -151.9987,       5035,  2373.8,   1.7884,  34.6261,2,  34.6264,2,     71.4,2,    71.4,2,  174.70,2,   41.90,2,    0.00,2,    2.96,2,   0.006,2,   0.000,2,-999.000,5,  2377.9,2,  2423.0,2,   -999.0,9,  -999.00,   7.4301,2,    25.00,-999.000,9,-999.000,-999.0000,9,-999.000,9, -999.00,5,  -252.2,2,     1.9,-999.000,9,-999.000,   36.72,2,   45.95,2, 2373.80,   0.1490,2,   0.1040,2,   0.0560,2,   0.0410,2,   0.0135,3,   0.0158,3,     -999.0,     -999.0,9,     -999.0,9,     -999.0,9,     -999.0,9,     -999.0,9,     -999.0,9, -999.00,9,   1.6234,-999.0000,-999.000
325020060213,       P16N,      64,          1,         10,         10,2,20060321,       2008,    41.9997,  -151.9987,       5035,  2626.9,   1.6607,  34.6452,2,  34.6471,2,     88.8,2,    92.7,3,  172.80,2,   40.80,2,    0.00,2,    2.88,2,-999.000,9,-999.000,9,-999.000,9,  2368.8,2,  2426.5,2,   -999.0,9,  -999.00,   7.4624,2,    25.00,-999.000,9,-999.000,-999.0000,9,-999.000,9, -999.00,5,  -248.4,2,     2.9,-999.000,9,-999.000,   37.00,2,   44.58,2, 2626.90,   0.1390,2,   0.0960,2,   0.0500,2,   0.0370,2,   0.0140,3,   0.0166,3,     -999.0,     -999.0,9,     -999.0,9,     -999.0,9,     -999.0,9,     -999.0,9,     -999.0,9, -999.00,9,   1.4754,-999.0000,-999.000