BOTTLE,20170720CCHSIOCBG
EXPOCODE,SECT_ID,STNNBR,CASTNO,SAMPNO,BTLNBR,BTLNBR_FLAG_W,DATE,TIME,LATITUDE,LONGITUDE,DEPTH,CTDPRS,CTDTMP,CTDSAL,CTDSAL_FLAG_W,SALNTY,SALNTY_FLAG_W,CTDOXY,CTDOXY_FLAG_W,OXYGEN,OXYGEN_FLAG_W,SILCAT,SILCAT_FLAG_W,NITRAT,NITRAT_FLAG_W,NITRIT,NITRIT_FLAG_W,PHSPHT,PHSPHT_FLAG_W,CFC-11,CFC-11_FLAG_W,CFC-12,CFC-12_FLAG_W,CFC113,CFC113_FLAG_W,TCARBN,TCARBN_FLAG_W,ALKALI,ALKALI_FLAG_W,FCO2,FCO2_FLAG_W,FCO2TMP,PH_TOT,PH_TOT_FLAG_W,PH_TMP,TRITUM,TRITUM_FLAG_W,TRITER,HELIUM,HELIUM_FLAG_W,DELHE3,DELHE3_FLAG_W,DELC13,DELC13_FLAG_W,DELC14,DELC14_FLAG_W,C14ERR,NEON,NEON_FLAG_W,NEONER,DOC,DOC_FLAG_W,TDN,TDN_FLAG_W,CTDRAW,CDOM325,CDOM325_FLAG_W,CDOM340,CDOM340_FLAG_W,CDOM380,CDOM380_FLAG_W,CDOM412,CDOM412_FLAG_W,CDOMSL,CDOMSL_FLAG_W,CDOMSN,CDOMSN_FLAG_W,DCNS,ARABI,ARABI_FLAG_W,FUCO,FUCO_FLAG_W,GALA,GALA_FLAG_W,GLUC,GLUC_FLAG_W,MAN,MAN_FLAG_W,RHAM,RHAM_FLAG_W,BRDU,BRDU_FLAG_W,THETA,HELIER,DELHER
,,,,,,,,,,,METERS,DBAR,ITS-90,PSS-78,,PSS-78,,UMOL/KG,,UMOL/KG,,UMOL/KG,,UMOL/KG,,UMOL/KG,,UMOL/KG,,PMOL/KG,,PMOL/KG,,PMOL/KG,,UMOL/KG,,UMOL/KG,,UATM,,DEG C,,,DEG C,TU,,TU,NMOL/KG,,PERCNT,,/MILLE,,/MILLE,,/MILLE,NMOL/KG,,NMOL/KG,UMOL/KG,,UMOL/KG,,DBAR,1/M,,1/M,,1/M,,1/M,,1/NM,,1/NM,,NMOL/KG,NMOL/KG,,NMOL/KG,,NMOL/KG,,NMOL/KG,,NMOL/KG,,NMOL/KG,,PMOL/L/H,,DEG C,NMOL/KG,PERCNT
325020060213,       P16N,      54,          1,          9,          9,2,20060317,       0327,    31.9998,  -152.0003,       5194,  3200.7,   1.5068,  34.6739,2,  34.6731,2,    125.6,2,   124.9,2,  163.70,2,   37.90,2,    0.00,2,    2.64,2,   0.012,2,   0.000,2,-999.000,5,  2349.0,2,  2429.4,2,   -999.0,9,  -999.00,   7.5354,2,    25.00,-999.000,9,-999.000,-999.0000,9,-999.000,9, -999.00,5,  -236.2,2,     2.5,-999.000,9,-999.000,   36.20,2,   41.00,2, 3200.70,-999.0000,9,-999.0000,9,-999.0000,9,-999.0000,9,-999.0000,9,-999.0000,9,     -999.0,     -999.0,9,     -999.0,9,     -999.0,9,     -999.0,9,     -999.0,9,     -999.0,9, -999.00,9,   1.2705,-999.0000,-999.000
325020060213,       P16N,      54,          1,          8,          8,2,20060317,       0327,    31.9998,  -152.0003,       5194,  3498.8,   1.4762,  34.6804,2,  34.6812,2,    135.0,2,   134.4,2,  159.90,2,   36.80,2,    0.00,2,    2.59,2,-999.000,9,-999.000,9,-999.000,9,  2341.5,2,  2428.7,2,   -999.0,9,  -999.00,   7.5536,2,    25.00,-999.000,9,-999.000,-999.0000,9,-999.000,9, -999.00,5,  -239.8,2,     2.4,-999.000,9,-999.000,   36.14,2,   40.64,2, 3498.80,-999.0000,9,-999.0000,9,-999.0000,9,-999.0000,9,-999.0000,9,-999.0000,9,     -999.0,     -999.0,9,     -999.0,9,     -999.0,9,     -999.0,9,     -999.0,9,     -999.0,9, -999.00,9,   1.2108,-999.0000,-999.000
325020060213,       P16N,      54,          1,          7,          7,2,20060317,       0327,    31.9998,  -152.0003,       5194,  3800.5,   1.4655,  34.6849,2,  34.6856,2,    141.5,2,   141.3,2,  158.00,2,   36.80,2,    0.00,2,    2.56,2,-999.000,9,-999.000,9,-999.000,9,  2337.8,2,  2426.0,6,   -999.0,9,  -999.00,   7.5636,2,    25.00,-999.000,9,-999.000,-999.0000,9,-999.000,9, -999.00,5,  -235.3,2,     2.7,-999.000,9,-999.000,   37.64,2,   40.21,2, 3800.50,-999.0000,9,-999.0000,9,-999.0000,9,-999.0000,9,-999.0000,9,-999.0000,9,     -999.0,     -999.0,9,     -999.0,9,     -999.0,9,     -999.0,9,     -999.0,9,     -999.0,9, -999.00,9,   1.1690,-999.0000,-999.000
325020060213,       P16N,      54,          1,          6,          6,2,20060317,       0327,    31.9998,  -152.0003,       5194,  4100.5,   1.4694,  34.6880,2,  34.6883,2,    146.4,2,   145.8,2,  155.50,2,   36.30,2,    0.00,2,    2.53,2,  -0.005,2,  -0.001,2,-999.000,5,  2333.9,2,  2425.9,2,   -999.0,9,  -999.00,   7.5728,2,    25.00,-999.000,9,-999.000,-999.0000,9,-999.000,9, -999.00,5,  -234.8,2,     2.8,-999.000,9,-999.000,   38.18,2,   39.83,2, 4100.50,-999.0000,9,-999.0000,9,-999.0000,9,-999.0000,9,-999.0000,9,-999.0000,9,     -999.0,     -999.0,9,     -999.0,9,     -999.0,9,     -999.0,9,     -999.0,9,     -999.0,9, -999.00,9,   1.1403,-999.0000,-999.000
325020060213,       P16N,      54,          1,          5,          5,2,20060317,       0327,    31.9998,  -152.0003,       5194,  4400.0,   1.4827,  34.6901,2,  34.6915,2,    150.2,2,   149.9,2,  152.90,2,   36.20,2,    0.00,2,    2.50,2,-999.000,9,-999.000,9,-999.000,9,  2331.5,2,  2424.8,2,   -999.0,9,  -999.00,   7.5800,2,    25.00,-999.000,9,-999.000,-999.0000,9,-999.000,9, -999.00,5,  -234.0,2,     2.5,-999.000,9,-999.000,   37.68,2,   39.89,2, 4400.00,-999.0000,9,-999.0000,9,-999.0000,9,-999.0000,9,-999.0000,9,-999.0000,9,     -999.0,     -999.0,9,     -999.0,9,     -999.0,9,     -999.0,9,     -999.0,9,     -999.0,9, -999.00,9,   1.1197,-999.0000,-999.000
325020060213,       P16N,      54,          1,          4,          4,2,20060317,       0327,    31.9998,  -152.0003,       5194,  4700.6,   1.5042,  34.6916,2,  34.6915,2,    153.9,2,   153.2,2,  149.50,6,   36.10,6,    0.00,6,    2.48,6,   0.008,2,   0.001,2,-999.000,5,  2328.5,2,  2426.1,2,   -999.0,9,  -999.00,   7.5840,2,    25.00,-999.000,9,-999.000,-999.0000,9,-999.000,9, -999.00,5,  -227.0,2,     2.8,-999.000,9,-999.000,   36.59,2,   39.24,2, 4700.60,-999.0000,9,-999.0000,9,-999.0000,9,-999.0000,9,-999.0000,9,-999.0000,9,     -999.0,     -999.0,9,     -999.0,9,     -999.0,9,     -999.0,9,     -999.0,9,     -999.0,9, -999.00,9,   1.1056,-999.0000,-999.000
325020060213,       P16N,      54,          1,          3,          3,2,20060317,       0327,    31.9998,  -152.0003,       5194,  5000.5,   1.5346,  34.6925,2,  34.6931,2,    154.9,2,   155.1,2,  147.90,6,   35.80,6,    0.00,6,    2.47,6,-999.000,9,-999.000,9,-999.000,9,  2325.9,2,  2425.2,2,   -999.0,9,  -999.00,   7.5871,2,    25.00,-999.000,9,-999.000,-999.0000,9,-999.000,9, -999.00,5,  -219.3,2,     3.1,-999.000,9,-999.000,   37.50,2,   39.42,2, 5000.50,-999.0000,9,-999.0000,9,-999.0000,9,-999.0000,9,-999.0000,9,-999.0000,9,     -999.0,     -999.0,9,     -999.0,9,     -999.0,9,     -999.0,9,     -999.0,9,     -999.0,9, -999.00,9,   1.0991,-999.0000,-999.000
325020060213,       P16N,      54,          1,          2,          2,2,20060317,       0327,    31.9998,  -152.0003,       5194,  5201.8,   1.5592,  34.6926,2,  34.6935,2,    155.4,2,   155.2,2,  147.40,6,   35.70,6,    0.00,6,    2.47,6,   0.009,2,   0.002,2,-999.000,5,  2325.0,2,  2424.8,2,   -999.0,9,  -999.00,   7.5867,2,    25.00,-999.000,9,-999.000,-999.0000,9,-999.000,9, -999.00,5,  -213.2,2,     2.4,-999.000,9,-999.000,   37.26,2,   39.20,2, 5201.80,-999.0000,9,-999.0000,9,-999.0000,9,-999.0000,9,-999.0000,9,-999.0000,9,     -999.0,     -999.0,9,     -999.0,9,     -999.0,9,     -999.0,9,     -999.0,9,     -999.0,9, -999.00,9,   1.0980,-999.0000,-999.000
325020060213,       P16N,      54,          1,          1,          1,2,20060317,       0327,    31.9998,  -152.0003,       5194,  5352.9,   1.5791,  34.6924,2,  34.6934,2,    155.6,2,   155.5,2,  147.50,6,   35.80,6,    0.00,6,    2.47,2,   0.002,2,  -0.001,2,-999.000,5,  2324.8,6,  2421.7,2,   -999.0,9,  -999.00,   7.5861,2,    25.00,-999.000,9,-999.000,-999.0000,9,-999.000,9, -999.00,5,  -218.5,2,     2.2,-999.000,9,-999.000,   38.10,2,   39.09,2, 5352.90,-999.0000,9,-999.0000,9,-999.0000,9,-999.0000,9,-999.0000,9,-999.0000,9,     -999.0,     -999.0,9,     -999.0,9,     -999.0,9,     -999.0,9,     -999.0,9,     -999.0,9, -999.00,9,   1.0983,-999.0000,-999.000