BOTTLE,20170720CCHSIOCBG
EXPOCODE,SECT_ID,STNNBR,CASTNO,SAMPNO,BTLNBR,BTLNBR_FLAG_W,DATE,TIME,LATITUDE,LONGITUDE,DEPTH,CTDPRS,CTDTMP,CTDSAL,CTDSAL_FLAG_W,SALNTY,SALNTY_FLAG_W,CTDOXY,CTDOXY_FLAG_W,OXYGEN,OXYGEN_FLAG_W,SILCAT,SILCAT_FLAG_W,NITRAT,NITRAT_FLAG_W,NITRIT,NITRIT_FLAG_W,PHSPHT,PHSPHT_FLAG_W,CFC-11,CFC-11_FLAG_W,CFC-12,CFC-12_FLAG_W,CFC113,CFC113_FLAG_W,TCARBN,TCARBN_FLAG_W,ALKALI,ALKALI_FLAG_W,FCO2,FCO2_FLAG_W,FCO2TMP,PH_TOT,PH_TOT_FLAG_W,PH_TMP,TRITUM,TRITUM_FLAG_W,TRITER,HELIUM,HELIUM_FLAG_W,DELHE3,DELHE3_FLAG_W,DELC13,DELC13_FLAG_W,DELC14,DELC14_FLAG_W,C14ERR,NEON,NEON_FLAG_W,NEONER,DOC,DOC_FLAG_W,TDN,TDN_FLAG_W,CTDRAW,CDOM325,CDOM325_FLAG_W,CDOM340,CDOM340_FLAG_W,CDOM380,CDOM380_FLAG_W,CDOM412,CDOM412_FLAG_W,CDOMSL,CDOMSL_FLAG_W,CDOMSN,CDOMSN_FLAG_W,DCNS,ARABI,ARABI_FLAG_W,FUCO,FUCO_FLAG_W,GALA,GALA_FLAG_W,GLUC,GLUC_FLAG_W,MAN,MAN_FLAG_W,RHAM,RHAM_FLAG_W,BRDU,BRDU_FLAG_W,THETA,HELIER,DELHER
,,,,,,,,,,,METERS,DBAR,ITS-90,PSS-78,,PSS-78,,UMOL/KG,,UMOL/KG,,UMOL/KG,,UMOL/KG,,UMOL/KG,,UMOL/KG,,PMOL/KG,,PMOL/KG,,PMOL/KG,,UMOL/KG,,UMOL/KG,,UATM,,DEG C,,,DEG C,TU,,TU,NMOL/KG,,PERCNT,,/MILLE,,/MILLE,,/MILLE,NMOL/KG,,NMOL/KG,UMOL/KG,,UMOL/KG,,DBAR,1/M,,1/M,,1/M,,1/M,,1/NM,,1/NM,,NMOL/KG,NMOL/KG,,NMOL/KG,,NMOL/KG,,NMOL/KG,,NMOL/KG,,NMOL/KG,,PMOL/L/H,,DEG C,NMOL/KG,PERCNT
325020060213,       P16N,      41,          1,          8,          8,2,20060302,       0301,         19,  -152.0003,       5084,  3000.2,   1.6274,  34.6706,2,  34.6711,2,    122.5,2,   123.9,2,  156.80,2,   38.00,2,    0.00,2,    2.66,2,-999.000,9,-999.000,9,-999.000,9,  2348.3,2,  2431.0,2,   -999.0,9,  -999.00,   7.5258,2,    25.00,-999.000,9,-999.000,-999.0000,9,-999.000,9, -999.00,9,  -999.0,9,    -9.0,-999.000,9,-999.000,   36.85,2,   41.88,2, 3000.20,-999.0000,9,-999.0000,9,-999.0000,9,-999.0000,9,-999.0000,9,-999.0000,9,     -999.0,     -999.0,9,     -999.0,9,     -999.0,9,     -999.0,9,     -999.0,9,     -999.0,9, -999.00,9,   1.4078,-999.0000,-999.000
325020060213,       P16N,      41,          1,          7,          7,2,20060302,       0301,         19,  -152.0003,       5084,  3249.9,   1.5840,  34.6762,2,  34.6778,2,    128.2,2,   129.7,2,  157.60,2,   37.70,2,    0.00,2,    2.63,2,-999.000,9,-999.000,9,-999.000,9,  2346.2,2,  2432.5,2,   -999.0,9,  -999.00,   7.5367,2,    25.00,-999.000,9,-999.000,-999.0000,9,-999.000,9, -999.00,9,  -999.0,9,    -9.0,-999.000,9,-999.000,   37.28,2,   41.39,2, 3249.90,-999.0000,9,-999.0000,9,-999.0000,9,-999.0000,9,-999.0000,9,-999.0000,9,     -999.0,     -999.0,9,     -999.0,9,     -999.0,9,     -999.0,9,     -999.0,9,     -999.0,9, -999.00,9,   1.3410,-999.0000,-999.000
325020060213,       P16N,      41,          1,          6,          6,2,20060302,       0301,         19,  -152.0003,       5084,  3652.2,   1.5218,  34.6821,2,  34.6823,2,    137.4,2,   137.7,2,  156.20,6,   37.00,6,    0.00,6,    2.59,6,-999.000,9,-999.000,9,-999.000,9,  2340.9,2,  2430.5,6,   -999.0,9,  -999.00,   7.5569,2,    25.00,-999.000,9,-999.000,-999.0000,9,-999.000,9, -999.00,9,  -999.0,9,    -9.0,-999.000,9,-999.000,   36.78,2,   40.54,2, 3652.20,-999.0000,9,-999.0000,9,-999.0000,9,-999.0000,9,-999.0000,9,-999.0000,9,     -999.0,     -999.0,9,     -999.0,9,     -999.0,9,     -999.0,9,     -999.0,9,     -999.0,9, -999.00,9,   1.2394,-999.0000,-999.000
325020060213,       P16N,      41,          1,          5,          5,2,20060302,       0301,         19,  -152.0003,       5084,  4051.2,   1.4721,  34.6885,2,  34.6892,2,    148.7,2,   149.6,2,  150.90,6,   36.30,6,    0.00,6,    2.52,6,-999.000,1,-999.000,1,-999.000,9,  2330.2,2,  2429.0,2,   -999.0,9,  -999.00,   7.5520,2,    25.00,-999.000,9,-999.000,-999.0000,9,-999.000,9, -999.00,9,  -999.0,9,    -9.0,-999.000,9,-999.000,   36.96,2,   39.60,2, 4051.20,-999.0000,9,-999.0000,9,-999.0000,9,-999.0000,9,-999.0000,9,-999.0000,9,     -999.0,     -999.0,9,     -999.0,9,     -999.0,9,     -999.0,9,     -999.0,9,     -999.0,9, -999.00,9,   1.1484,-999.0000,-999.000
325020060213,       P16N,      41,          1,          4,          4,2,20060302,       0301,         19,  -152.0003,       5084,  4549.7,   1.4636,  34.6929,2,  34.6924,2,    158.2,2,   158.1,2,  145.40,6,   35.60,6,    0.00,6,    2.46,6,-999.000,1,-999.000,1,-999.000,9,  2321.1,2,  2425.0,2,   -999.0,9,  -999.00,   7.5870,2,    25.00,-999.000,9,-999.000,-999.0000,9,-999.000,9, -999.00,9,  -999.0,9,    -9.0,-999.000,9,-999.000,   36.14,2,   39.52,2, 4549.70,-999.0000,9,-999.0000,9,-999.0000,9,-999.0000,9,-999.0000,9,-999.0000,9,     -999.0,     -999.0,9,     -999.0,9,     -999.0,9,     -999.0,9,     -999.0,9,     -999.0,9, -999.00,9,   1.0839,-999.0000,-999.000
325020060213,       P16N,      41,          1,          3,          3,2,20060302,       0301,         19,  -152.0003,       5084,  5050.7,   1.4525,  34.6977,2,  34.6991,2,    169.0,2,   168.8,2,  137.90,6,   34.90,6,    0.00,6,    2.40,6,-999.000,1,-999.000,1,-999.000,9,  2309.0,2,  2416.2,2,   -999.0,9,  -999.00,   7.5954,2,    25.00,-999.000,9,-999.000,-999.0000,9,-999.000,9, -999.00,9,  -999.0,9,    -9.0,-999.000,9,-999.000,   37.49,2,   38.00,2, 5050.70,-999.0000,9,-999.0000,9,-999.0000,9,-999.0000,9,-999.0000,9,-999.0000,9,     -999.0,     -999.0,9,     -999.0,9,     -999.0,9,     -999.0,9,     -999.0,9,     -999.0,9, -999.00,9,   1.0136,-999.0000,-999.000
325020060213,       P16N,      41,          1,          1,          1,2,20060302,       0301,         19,  -152.0003,       5084,  5239.7,   1.4676,  34.6982,2,  34.6991,2,    171.2,2,   169.8,2,  137.10,2,   34.90,2,    0.00,2,    2.39,2,-999.000,1,-999.000,1,-999.000,9,  2308.4,6,  -999.0,5,   -999.0,9,  -999.00,   7.6002,2,    25.00,-999.000,9,-999.000,-999.0000,9,-999.000,9, -999.00,9,  -999.0,9,    -9.0,-999.000,9,-999.000,   37.98,2,   38.84,2, 5239.70,-999.0000,9,-999.0000,9,-999.0000,9,-999.0000,9,-999.0000,9,-999.0000,9,     -999.0,     -999.0,9,     -999.0,9,     -999.0,9,     -999.0,9,     -999.0,9,     -999.0,9, -999.00,9,   1.0049,-999.0000,-999.000