BOTTLE,20170720CCHSIOCBG
EXPOCODE,SECT_ID,STNNBR,CASTNO,SAMPNO,BTLNBR,BTLNBR_FLAG_W,DATE,TIME,LATITUDE,LONGITUDE,DEPTH,CTDPRS,CTDTMP,CTDSAL,CTDSAL_FLAG_W,SALNTY,SALNTY_FLAG_W,CTDOXY,CTDOXY_FLAG_W,OXYGEN,OXYGEN_FLAG_W,SILCAT,SILCAT_FLAG_W,NITRAT,NITRAT_FLAG_W,NITRIT,NITRIT_FLAG_W,PHSPHT,PHSPHT_FLAG_W,CFC-11,CFC-11_FLAG_W,CFC-12,CFC-12_FLAG_W,CFC113,CFC113_FLAG_W,TCARBN,TCARBN_FLAG_W,ALKALI,ALKALI_FLAG_W,FCO2,FCO2_FLAG_W,FCO2TMP,PH_TOT,PH_TOT_FLAG_W,PH_TMP,TRITUM,TRITUM_FLAG_W,TRITER,HELIUM,HELIUM_FLAG_W,DELHE3,DELHE3_FLAG_W,DELC13,DELC13_FLAG_W,DELC14,DELC14_FLAG_W,C14ERR,NEON,NEON_FLAG_W,NEONER,DOC,DOC_FLAG_W,TDN,TDN_FLAG_W,CTDRAW,CDOM325,CDOM325_FLAG_W,CDOM340,CDOM340_FLAG_W,CDOM380,CDOM380_FLAG_W,CDOM412,CDOM412_FLAG_W,CDOMSL,CDOMSL_FLAG_W,CDOMSN,CDOMSN_FLAG_W,DCNS,ARABI,ARABI_FLAG_W,FUCO,FUCO_FLAG_W,GALA,GALA_FLAG_W,GLUC,GLUC_FLAG_W,MAN,MAN_FLAG_W,RHAM,RHAM_FLAG_W,BRDU,BRDU_FLAG_W,THETA,HELIER,DELHER
,,,,,,,,,,,METERS,DBAR,ITS-90,PSS-78,,PSS-78,,UMOL/KG,,UMOL/KG,,UMOL/KG,,UMOL/KG,,UMOL/KG,,UMOL/KG,,PMOL/KG,,PMOL/KG,,PMOL/KG,,UMOL/KG,,UMOL/KG,,UATM,,DEG C,,,DEG C,TU,,TU,NMOL/KG,,PERCNT,,/MILLE,,/MILLE,,/MILLE,NMOL/KG,,NMOL/KG,UMOL/KG,,UMOL/KG,,DBAR,1/M,,1/M,,1/M,,1/M,,1/NM,,1/NM,,NMOL/KG,NMOL/KG,,NMOL/KG,,NMOL/KG,,NMOL/KG,,NMOL/KG,,NMOL/KG,,PMOL/L/H,,DEG C,NMOL/KG,PERCNT
325020060213,       P16N,      12,          2,          8,          8,2,20060218,       2201,         -6,       -151,       5030,  2875.6,   1.7479,  34.6786,2,  34.6770,2,    137.4,2,   138.1,2,  140.60,2,   37.20,2,    0.00,2,    2.60,2,-999.000,9,-999.000,9,-999.000,9,  2333.4,2,  2422.7,2,   -999.0,9,  -999.00,   7.5686,2,    25.00,-999.000,9,-999.000,-999.0000,9,-999.000,9, -999.00,9,  -999.0,9,    -9.0,-999.000,9,-999.000,   36.31,2,   40.95,2, 2875.60,   0.1020,2,   0.0640,2,   0.0260,2,   0.0130,2,   0.0252,2,   0.0270,2,     -999.0,     -999.0,9,     -999.0,9,     -999.0,9,     -999.0,9,     -999.0,9,     -999.0,9, -999.00,9,   1.5376,-999.0000,-999.000
325020060213,       P16N,      12,          2,          7,          7,2,20060218,       2201,         -6,       -151,       5030,  3124.7,   1.6294,  34.6847,2,  34.6835,2,    147.2,2,   148.6,2,  137.00,6,   36.60,6,    0.00,6,    2.55,6,-999.000,9,-999.000,9,-999.000,9,  2326.3,2,  2420.7,2,   -999.0,9,  -999.00,   7.5827,2,    25.00,-999.000,9,-999.000,-999.0000,9,-999.000,9, -999.00,9,  -999.0,9,    -9.0,-999.000,9,-999.000,   37.97,2,   39.84,2, 3124.70,   0.1130,2,   0.0740,2,   0.0330,2,   0.0200,2,   0.0217,2,   0.0235,2,     -999.0,     -999.0,9,     -999.0,9,     -999.0,9,     -999.0,9,     -999.0,9,     -999.0,9, -999.00,9,   1.3977,-999.0000,-999.000
325020060213,       P16N,      12,          2,          6,          6,2,20060218,       2201,         -6,       -151,       5030,  3450.2,   1.5544,  34.6895,2,  34.6850,3,    154.7,2,   155.7,2,  136.90,6,   36.20,6,    0.00,6,    2.51,6,-999.000,9,-999.000,9,-999.000,9,  2321.1,2,  2418.7,6,   -999.0,9,  -999.00,   7.5892,2,    25.00,-999.000,9,-999.000,-999.0000,9,-999.000,9, -999.00,9,  -999.0,9,    -9.0,-999.000,9,-999.000,   38.91,2,   40.23,2, 3450.20,   0.1060,2,   0.0690,2,   0.0290,2,   0.0160,2,   0.0241,2,   0.0257,2,     -999.0,     -999.0,9,     -999.0,9,     -999.0,9,     -999.0,9,     -999.0,9,     -999.0,9, -999.00,9,   1.2920,-999.0000,-999.000
325020060213,       P16N,      12,          2,          5,          5,2,20060218,       2201,         -6,       -151,       5030,  3848.9,   1.4704,  34.6952,2,  34.6913,3,    163.7,2,   164.5,2,  135.60,6,   35.70,6,    0.00,6,    2.47,6,-999.000,9,-999.000,9,-999.000,9,  2313.1,2,  2417.5,2,   -999.0,9,  -999.00,   7.5993,2,    25.00,-999.000,9,-999.000,-999.0000,9,-999.000,9, -999.00,9,  -999.0,9,    -9.0,-999.000,9,-999.000,   39.47,2,   39.36,2, 3848.90,   0.1120,2,   0.0740,2,   0.0310,2,   0.0170,2,   0.0231,2,   0.0244,2,     -999.0,     -999.0,9,     -999.0,9,     -999.0,9,     -999.0,9,     -999.0,9,     -999.0,9, -999.00,9,   1.1685,-999.0000,-999.000
325020060213,       P16N,      12,          2,          4,          4,2,20060218,       2201,         -6,       -151,       5030,  4300.9,   1.3734,  34.7022,2,  34.6995,3,    176.7,2,   177.4,2,  128.70,6,   34.60,6,    0.00,6,    2.39,6,-999.000,9,-999.000,9,-999.000,9,  2297.3,2,  2402.9,2,   -999.0,9,  -999.00,   7.6042,2,    25.00,-999.000,9,-999.000,-999.0000,9,-999.000,9, -999.00,9,  -999.0,9,    -9.0,-999.000,9,-999.000,   38.53,2,   38.21,2, 4300.90,   0.0960,2,   0.0610,2,   0.0220,2,   0.0100,2,   0.0269,2,   0.0285,2,     -999.0,     -999.0,9,     -999.0,9,     -999.0,9,     -999.0,9,     -999.0,9,     -999.0,9, -999.00,9,   1.0249,-999.0000,-999.000
325020060213,       P16N,      12,          2,          3,          3,2,20060218,       2201,         -6,       -151,       5030,  4800.4,   1.3185,  34.7070,2,  34.7048,3,    188.1,2,   188.1,2,  123.60,6,   33.80,6,    0.00,6,    2.33,6,-999.000,9,-999.000,9,-999.000,9,  2283.3,2,  2389.7,2,   -999.0,9,  -999.00,   7.6104,2,    25.00,-999.000,9,-999.000,-999.0000,9,-999.000,9, -999.00,9,  -999.0,9,    -9.0,-999.000,9,-999.000,   38.92,2,   36.86,2, 4800.40,   0.1020,2,   0.0660,2,   0.0260,2,   0.0140,2,   0.0250,2,   0.0266,2,     -999.0,     -999.0,9,     -999.0,9,     -999.0,9,     -999.0,9,     -999.0,9,     -999.0,9, -999.00,9,   0.9142,-999.0000,-999.000
325020060213,       P16N,      12,          2,          1,          1,2,20060218,       2201,         -6,       -151,       5030,  5156.2,   1.3547,  34.7072,2,  34.7040,3,    188.9,2,   189.0,2,  123.30,6,   33.80,6,    0.00,6,    2.32,6,-999.000,9,-999.000,9,-999.000,9,  2282.0,6,  2388.6,2,   -999.0,9,  -999.00,   7.6102,2,    25.00,-999.000,9,-999.000,-999.0000,9,-999.000,9, -999.00,9,  -999.0,9,    -9.0,-999.000,9,-999.000,   38.78,2,   37.42,2, 5156.20,   0.0980,2,   0.0610,2,   0.0230,2,   0.0110,2,   0.0266,2,   0.0284,2,     -999.0,     -999.0,9,     -999.0,9,     -999.0,9,     -999.0,9,     -999.0,9,     -999.0,9, -999.00,9,   0.9063,-999.0000,-999.000