BOTTLE,20170720CCHSIOCBG
EXPOCODE,SECT_ID,STNNBR,CASTNO,SAMPNO,BTLNBR,BTLNBR_FLAG_W,DATE,TIME,LATITUDE,LONGITUDE,DEPTH,CTDPRS,CTDTMP,CTDSAL,CTDSAL_FLAG_W,SALNTY,SALNTY_FLAG_W,CTDOXY,CTDOXY_FLAG_W,OXYGEN,OXYGEN_FLAG_W,SILCAT,SILCAT_FLAG_W,NITRAT,NITRAT_FLAG_W,NITRIT,NITRIT_FLAG_W,PHSPHT,PHSPHT_FLAG_W,CFC-11,CFC-11_FLAG_W,CFC-12,CFC-12_FLAG_W,CFC113,CFC113_FLAG_W,TCARBN,TCARBN_FLAG_W,ALKALI,ALKALI_FLAG_W,FCO2,FCO2_FLAG_W,FCO2TMP,PH_TOT,PH_TOT_FLAG_W,PH_TMP,TRITUM,TRITUM_FLAG_W,TRITER,HELIUM,HELIUM_FLAG_W,DELHE3,DELHE3_FLAG_W,DELC13,DELC13_FLAG_W,DELC14,DELC14_FLAG_W,C14ERR,NEON,NEON_FLAG_W,NEONER,DOC,DOC_FLAG_W,TDN,TDN_FLAG_W,CTDRAW,CDOM325,CDOM325_FLAG_W,CDOM340,CDOM340_FLAG_W,CDOM380,CDOM380_FLAG_W,CDOM412,CDOM412_FLAG_W,CDOMSL,CDOMSL_FLAG_W,CDOMSN,CDOMSN_FLAG_W,DCNS,ARABI,ARABI_FLAG_W,FUCO,FUCO_FLAG_W,GALA,GALA_FLAG_W,GLUC,GLUC_FLAG_W,MAN,MAN_FLAG_W,RHAM,RHAM_FLAG_W,BRDU,BRDU_FLAG_W,THETA,HELIER,DELHER
,,,,,,,,,,,METERS,DBAR,ITS-90,PSS-78,,PSS-78,,UMOL/KG,,UMOL/KG,,UMOL/KG,,UMOL/KG,,UMOL/KG,,UMOL/KG,,PMOL/KG,,PMOL/KG,,PMOL/KG,,UMOL/KG,,UMOL/KG,,UATM,,DEG C,,,DEG C,TU,,TU,NMOL/KG,,PERCNT,,/MILLE,,/MILLE,,/MILLE,NMOL/KG,,NMOL/KG,UMOL/KG,,UMOL/KG,,DBAR,1/M,,1/M,,1/M,,1/M,,1/NM,,1/NM,,NMOL/KG,NMOL/KG,,NMOL/KG,,NMOL/KG,,NMOL/KG,,NMOL/KG,,NMOL/KG,,PMOL/L/H,,DEG C,NMOL/KG,PERCNT
325020060213,       P16N,      43,          1,         35,         35,9,20060302,       2110,         21,       -152,       5186,     4.9,  22.9771,  35.0890,2,-999.0000,9,    216.2,2,  -999.0,9, -999.00,9, -999.00,9, -999.00,9, -999.00,9,-999.000,9,-999.000,9,-999.000,9,  -999.0,9,  -999.0,9,   -999.0,9,  -999.00,-999.0000,9,  -999.00,-999.000,9,-999.000,-999.0000,9,-999.000,9, -999.00,5,    69.0,2,     3.3,-999.000,9,-999.000, -999.00,9, -999.00,9,    4.90,-999.0000,9,-999.0000,9,-999.0000,9,-999.0000,9,-999.0000,9,-999.0000,9,     -999.0,     -999.0,9,     -999.0,9,     -999.0,9,     -999.0,9,     -999.0,9,     -999.0,9, -999.00,9,  22.9761,-999.0000,-999.000
325020060213,       P16N,      43,          1,         34,         34,2,20060302,       2110,         21,       -152,       5186,    25.1,  22.9179,  35.1362,2,  35.1382,2,    216.7,2,   216.5,2,    0.10,2,    0.00,2,    0.00,2,    0.03,2,   1.931,2,   1.179,2,-999.000,5,  2001.5,2,  2316.7,2,    299.9,2,    20.00,   8.0665,2,    25.00,-999.000,9,-999.000,   1.7307,2,   -1.42,2, -999.00,9,  -999.0,9,    -9.0,   6.900,2,   0.021,   71.71,2,    3.90,2,   25.10,   0.0220,3,   0.0100,3,  -0.0030,4,   0.0000,4,-999.0000,9,-999.0000,9,     -999.0,     -999.0,9,     -999.0,9,     -999.0,9,     -999.0,9,     -999.0,9,     -999.0,9,    2.81,2,  22.9128,   0.0052,    0.14
325020060213,       P16N,      43,          1,         33,         33,2,20060302,       2110,         21,       -152,       5186,    49.7,  22.6063,  35.2790,2,  35.2822,2,    213.0,2,   213.1,2,    0.20,2,    0.00,2,    0.00,2,    0.02,2,   1.952,6,   1.194,6,-999.000,5,  2013.9,6,  2324.6,2,    309.2,2,    20.00,   8.0521,2,    25.00,   0.709,2,   0.004,   1.7253,2,   -1.48,2, -999.00,5,    72.2,2,     3.5,   6.917,2,   0.021,   69.78,2,    4.12,2,   49.70,   0.0460,2,   0.0260,2,   0.0060,2,   0.0050,2,   0.0395,2,   0.0395,2,     -999.0,     -999.0,9,     -999.0,9,     -999.0,9,     -999.0,9,     -999.0,9,     -999.0,9,    3.56,2,  22.5963,   0.0052,    0.14
325020060213,       P16N,      43,          1,         32,         32,2,20060302,       2110,         21,       -152,       5186,    74.8,  22.3663,  35.2785,2,  35.2734,2,    211.7,2,   211.5,2,    0.30,2,    0.10,2,    0.00,2,    0.03,2,   1.968,2,   1.205,2,-999.000,5,  2018.1,2,  2323.7,2,    315.5,2,    20.00,   8.0466,2,    25.00,   0.768,2,   0.004,   1.7301,2,   -1.47,2, -999.00,5,    65.0,2,     3.6,   6.927,2,   0.021,   66.38,2,    4.21,2,   74.80,   0.0590,2,   0.0350,2,   0.0100,2,   0.0080,2,   0.0342,2,   0.0347,2,     -999.0,     -999.0,9,     -999.0,9,     -999.0,9,     -999.0,9,     -999.0,9,     -999.0,9,    3.56,2,  22.3514,   0.0052,    0.14
325020060213,       P16N,      43,          1,         31,         31,2,20060302,       2110,         21,       -152,       5186,    99.6,  21.1155,  35.1182,2,  35.1204,2,    198.5,2,   197.8,2,    0.70,2,    0.90,2,    0.00,2,    0.13,2,   2.144,2,   1.284,2,-999.000,5,  2044.1,2,  2314.9,2,    353.3,2,    20.00,   7.9923,2,    25.00,-999.000,9,-999.000,   1.7399,2,   -1.11,2, -999.00,5,    76.9,2,     2.2,   6.999,2,   0.021,   62.73,2,    4.92,2,   99.60,   0.0820,2,   0.0540,2,   0.0200,2,   0.0150,2,   0.0269,2,   0.0274,2,     -999.0,     -999.0,9,     -999.0,9,     -999.0,9,     -999.0,9,     -999.0,9,     -999.0,9,    0.64,2,  21.0964,   0.0052,    0.14
325020060213,       P16N,      43,          1,         30,         30,2,20060302,       2110,         21,       -152,       5186,   124.6,  20.1098,  35.0453,2,  35.0448,2,    196.6,2,   196.9,2,    1.20,2,    1.70,2,    0.00,2,    0.16,2,   2.239,2,   1.337,2,-999.000,5,  2047.2,2,  2306.5,2,    383.3,2,    20.00,   7.9793,2,    25.00,   0.812,2,   0.004,   1.7381,2,   -1.19,2, -999.00,5,    85.0,2,     3.0,   7.046,2,   0.021,   58.15,2,    6.06,2,  124.60,   0.0840,2,   0.0560,2,   0.0220,2,   0.0170,2,   0.0259,2,   0.0263,2,     -999.0,     -999.0,9,     -999.0,9,     -999.0,9,     -999.0,9,     -999.0,9,     -999.0,9,    0.78,2,  20.0867,   0.0052,    0.14
325020060213,       P16N,      43,          1,         29,         29,2,20060302,       2110,         21,       -152,       5186,   149.8,  19.1198,  34.9335,2,  34.9012,2,    193.6,2,   195.1,2,    1.90,2,    2.60,2,    0.00,2,    0.22,2,   2.380,2,   1.402,2,-999.000,5,  2052.2,2,  2296.8,2,    422.2,2,    20.00,   7.9530,2,    25.00,-999.000,9,-999.000,   1.7536,2,   -0.82,2, -999.00,5,    92.9,2,     4.9,   7.105,2,   0.021,   52.41,2,    6.67,2,  149.80,   0.0820,2,   0.0550,2,   0.0210,2,   0.0160,2,   0.0256,2,   0.0261,2,     -999.0,     -999.0,9,     -999.0,9,     -999.0,9,     -999.0,9,     -999.0,9,     -999.0,9,    2.14,3,  19.0930,   0.0053,    0.14
325020060213,       P16N,      43,          1,         28,         28,2,20060302,       2110,         21,       -152,       5186,   198.8,  16.4328,  34.6486,2,  34.6397,2,    203.9,2,   204.5,2,    3.60,2,    4.30,2,    0.00,2,    0.32,2,   2.688,2,   1.531,2,-999.000,5,  2053.5,2,  2281.6,6,    458.1,2,    20.00,   7.9142,2,    25.00,   0.853,2,   0.004,   1.7604,2,   -0.54,2, -999.00,5,    78.5,2,     2.7,   7.221,2,   0.022,   49.39,2,    9.02,2,  198.80,   0.0810,2,   0.0550,2,   0.0220,2,   0.0170,2,   0.0247,2,   0.0253,2,     -999.0,     -999.0,9,     -999.0,9,     -999.0,9,     -999.0,9,     -999.0,9,     -999.0,9,    0.18,2,  16.4008,   0.0053,    0.14
325020060213,       P16N,      43,          1,         27,         27,2,20060302,       2110,         21,       -152,       5186,   250.3,  13.9726,  34.3639,2,  34.3680,2,    208.3,2,   207.6,2,    6.40,2,    7.80,2,    0.00,2,    0.54,2,   2.948,2,   1.665,2,-999.000,5,  2068.3,2,  2266.0,2,    537.7,2,    20.00,   7.8648,2,    25.00,   0.841,2,   0.004,   1.7935,2,    0.35,2, -999.00,5,    73.3,2,     4.5,   7.439,2,   0.022,   47.12,2,   12.23,2,  250.30,   0.0790,2,   0.0530,2,   0.0210,2,   0.0160,2,   0.0254,2,   0.0260,2,     -999.0,     -999.0,9,     -999.0,9,     -999.0,9,     -999.0,9,     -999.0,9,     -999.0,9, -999.00,9,  13.9366,   0.0054,    0.14
325020060213,       P16N,      43,          1,         26,         26,2,20060302,       2110,         21,       -152,       5186,   299.7,  11.0247,  34.1238,2,  34.1264,2,    191.1,2,   188.5,2,   14.50,2,   15.30,2,    0.00,2,    1.05,2,   3.174,6,   1.687,6,-999.000,5,  2113.3,2,  2266.3,2,    715.7,2,    20.00,   7.7502,2,    25.00,-999.000,9,-999.000,   1.7800,2,    2.50,2, -999.00,5,    49.6,2,     2.5,   7.569,2,   0.023,   46.91,2,   19.28,2,  299.70,   0.0950,2,   0.0630,2,   0.0270,2,   0.0190,2,   0.0240,2,   0.0251,2,     -999.0,     -999.0,9,     -999.0,9,     -999.0,9,     -999.0,9,     -999.0,9,     -999.0,9, -999.00,9,  10.9879,   0.0053,    0.14
325020060213,       P16N,      43,          1,         25,         25,2,20060302,       2110,         21,       -152,       5186,   349.4,   9.6844,  34.1091,2,  34.1144,2,    176.0,2,   174.9,2,   22.00,2,   19.60,2,    0.00,2,    1.34,2,   3.072,2,   1.569,2,-999.000,5,  2139.3,2,  2270.6,2,    837.6,6,    20.00,   7.6892,2,    25.00,-999.000,9,-999.000,   1.7866,2,    5.06,2, -999.00,5,    36.3,2,     2.3,   7.629,2,   0.023,   46.06,2,   23.91,2,  349.40,   0.1030,2,   0.0690,2,   0.0310,2,   0.0210,2,   0.0222,2,   0.0235,2,    416.316,    40.2833,2,    30.8582,2,    68.8249,2,    137.162,2,    105.987,2,    33.2012,2, -999.00,9,   9.6448,   0.0054,    0.14
325020060213,       P16N,      43,          1,         24,         24,2,20060302,       2110,         21,       -152,       5186,   400.2,   8.3098,  34.0836,2,  34.0872,2,    142.1,2,   140.5,2,   33.10,2,   25.40,2,    0.00,2,    1.74,2,   2.492,2,   1.242,2,-999.000,5,  2179.9,2,  2282.1,2,   1069.0,2,    20.00,   7.6024,2,    25.00,   0.806,2,   0.004,   1.8437,2,    9.56,2, -999.00,5,     8.0,2,     2.6,   7.871,2,   0.024,   45.24,2,   29.17,2,  400.20,   0.1280,2,   0.0880,2,   0.0420,2,   0.0300,2,   0.0173,2,   0.0199,2,     -999.0,     -999.0,9,     -999.0,9,     -999.0,9,     -999.0,9,     -999.0,9,     -999.0,9, -999.00,9,   8.2684,   0.0055,    0.14
325020060213,       P16N,      43,          1,         23,         23,2,20060302,       2110,         21,       -152,       5186,   449.2,   7.3621,  34.1424,2,  34.1423,2,     85.1,2,    80.1,2,   47.40,2,   32.00,2,    0.00,2,    2.29,2,   1.234,2,   0.599,2,-999.000,5,  2237.8,2,  2301.9,2,   1520.6,2,    20.00,   7.4618,2,    25.00,   0.623,2,   0.003,   1.8338,2,   14.28,2, -999.00,5,   -50.1,2,     2.3,   7.823,2,   0.023,   44.61,2,   35.79,2,  449.20,   0.1490,2,   0.1050,2,   0.0540,2,   0.0390,2,   0.0147,2,   0.0170,3,     -999.0,     -999.0,9,     -999.0,9,     -999.0,9,     -999.0,9,     -999.0,9,     -999.0,9, -999.00,9,   7.3187,   0.0055,    0.14
325020060213,       P16N,      43,          1,         22,         22,2,20060302,       2110,         21,       -152,       5186,   500.0,   6.7539,  34.1690,2,  34.1725,2,     58.7,2,    58.4,2,   56.80,2,   35.10,2,    0.00,2,    2.52,2,   0.725,6,   0.363,6,-999.000,5,  2261.9,2,  2316.7,2,   1731.5,2,    20.00,   7.4100,2,    25.00,   0.507,2,   0.003,   1.8213,2,   14.30,2, -999.00,5,   -82.4,2,     2.2,   7.874,2,   0.024,   44.11,2,   38.85,2,  500.00,   0.1550,2,   0.1100,2,   0.0570,2,   0.0410,2,   0.0146,2,   0.0167,2,     -999.0,     -999.0,9,     -999.0,9,     -999.0,9,     -999.0,9,     -999.0,9,     -999.0,9, -999.00,9,   6.7076,   0.0055,    0.14
325020060213,       P16N,      43,          1,         21,         21,2,20060302,       2110,         21,       -152,       5186,   600.5,   6.0727,  34.2688,2,  34.2692,2,     33.8,2,    32.7,2,   69.60,2,   38.70,2,    0.00,2,    2.80,2,   0.221,2,   0.115,2,-999.000,5,  2292.7,6,  2297.4,3,   1966.3,2,    20.00,   7.3593,2,    25.00,   0.240,2,   0.002,   1.8287,2,   12.82,2, -999.00,5,  -122.7,2,     2.1,   7.883,2,   0.024,   43.73,2,   42.38,2,  600.50,   0.1590,2,   0.1130,2,   0.0600,2,   0.0440,2,   0.0141,2,   0.0161,3,     -999.0,     -999.0,9,     -999.0,9,     -999.0,9,     -999.0,9,     -999.0,9,     -999.0,9, -999.00,9,   6.0197,   0.0055,    0.14
325020060213,       P16N,      43,          1,         20,         20,2,20060302,       2110,         21,       -152,       5186,   699.5,   5.4296,  34.3367,2,  34.3381,2,     28.4,2,    27.3,2,   81.50,2,   40.60,2,    0.00,2,    2.93,2,   0.080,2,   0.047,2,-999.000,5,  2313.3,2,  2334.2,2,   2015.1,2,    20.00,   7.3501,2,    25.00,   0.105,2,   0.002,   1.9000,2,   12.65,2, -999.00,5,  -147.0,2,     2.4,   8.133,2,   0.024,   42.71,2,   44.83,2,  699.50,   0.1600,2,   0.1130,2,   0.0610,2,   0.0440,2,   0.0141,2,   0.0160,3,     -999.0,     -999.0,9,     -999.0,9,     -999.0,9,     -999.0,9,     -999.0,9,     -999.0,9, -999.00,9,   5.3707,   0.0057,    0.14
325020060213,       P16N,      43,          1,         19,         19,2,20060302,       2110,         21,       -152,       5186,   800.2,   4.9837,  34.4219,2,  34.4231,2,     30.9,2,    29.1,2,   90.00,2,   41.70,2,    0.00,2,    2.98,2,   0.024,2,   0.010,2,-999.000,5,  2324.5,2,  2356.4,2,   1968.3,2,    20.00,   7.3658,2,    25.00,-999.000,9,-999.000,   1.8562,2,   15.27,2, -999.00,5,  -161.6,2,     2.9,   7.909,2,   0.024,   41.13,2,   46.03,2,  800.20,   0.1550,2,   0.1090,2,   0.0580,2,   0.0410,2,   0.0146,2,   0.0166,2,     -999.0,     -999.0,9,     -999.0,9,     -999.0,9,     -999.0,9,     -999.0,9,     -999.0,9, -999.00,9,   4.9184,   0.0056,    0.14
325020060213,       P16N,      43,          1,         18,         18,2,20060302,       2110,         21,       -152,       5186,   900.2,   4.6061,  34.4784,2,  34.4803,2,     36.3,2,   107.6,4,   97.00,2,   42.10,2,    0.00,2,    2.99,2,   0.001,2,   0.006,2,-999.000,5,  2331.5,2,  2368.4,2,   1901.7,6,    20.00,   7.3847,2,    25.00,   0.036,2,   0.001,   1.8759,2,   19.06,2, -999.00,9,  -999.0,9,    -9.0,   7.967,2,   0.024,   39.53,2,   46.07,2,  900.20,-999.0000,9,-999.0000,9,-999.0000,9,-999.0000,9,-999.0000,9,-999.0000,9,     -999.0,     -999.0,9,     -999.0,9,     -999.0,9,     -999.0,9,     -999.0,9,     -999.0,9, -999.00,9,   4.5345,   0.0056,    0.14
325020060213,       P16N,      43,          1,         17,         17,2,20060302,       2110,         21,       -152,       5186,   998.8,   4.1942,  34.5023,2,  34.5058,2,     38.7,2,    38.1,2,  105.40,2,   42.50,2,    0.00,2,    3.02,2,   0.000,2,   0.003,2,-999.000,5,  2339.7,2,  2378.9,6,   1897.1,2,    20.00,   7.3869,2,    25.00,   0.025,2,   0.001,   1.8826,2,   25.08,2, -999.00,5,  -184.9,2,     2.6,   7.945,2,   0.024,   38.27,2,   46.81,2,  998.80,   0.1510,2,   0.1060,2,   0.0560,2,   0.0390,2,   0.0148,2,   0.0168,2,     -999.0,     -999.0,9,     -999.0,9,     -999.0,9,     -999.0,9,     -999.0,9,     -999.0,9, -999.00,9,   4.1172,   0.0056,    0.14
325020060213,       P16N,      43,          1,         16,         16,2,20060302,       2110,         21,       -152,       5186,  1199.4,   3.6547,  34.5336,2,  34.5384,2,     47.1,2,    46.4,2,  117.30,2,   42.30,2,    0.00,2,    3.01,2,   0.004,2,   0.001,2,-999.000,5,  2348.9,2,  2384.9,2,   1848.8,2,    20.00,-999.0000,9,  -999.00,-999.000,9,-999.000,   1.8963,2,   27.42,2, -999.00,5,  -195.9,2,     2.5,   8.055,2,   0.024,   37.15,2,   45.51,2, 1199.40,   0.1450,2,   0.1020,2,   0.0530,2,   0.0350,2,   0.0158,2,   0.0177,2,     -999.0,     -999.0,9,     -999.0,9,     -999.0,9,     -999.0,9,     -999.0,9,     -999.0,9, -999.00,9,   3.5653,   0.0057,    0.14
325020060213,       P16N,      43,          1,         15,         15,2,20060302,       2110,         21,       -152,       5186,  1399.3,   3.1553,  34.5631,2,  34.5665,2,     57.1,2,    56.7,2,  128.30,2,   42.00,2,    0.00,2,    2.98,2,  -0.009,2,  -0.001,2,-999.000,5,  2353.7,2,  2396.7,2,   1770.7,2,    20.00,-999.0000,9,  -999.00,-999.000,9,-999.000,   1.7619,2,   22.86,2, -999.00,5,  -212.7,2,     2.6,   7.508,2,   0.023,   37.23,2,   45.30,2, 1399.30,-999.0000,9,-999.0000,9,-999.0000,9,-999.0000,9,-999.0000,9,-999.0000,9,     -999.0,     -999.0,9,     -999.0,9,     -999.0,9,     -999.0,9,     -999.0,9,     -999.0,9, -999.00,9,   3.0542,   0.0053,    0.14
325020060213,       P16N,      43,          1,         14,         14,2,20060302,       2110,         21,       -152,       5186,  1599.3,   2.7957,  34.5842,2,  34.5880,2,     67.3,2,    66.2,2,  136.50,2,   41.50,2,    0.00,2,    2.93,2,  -0.007,2,   0.000,2,-999.000,5,  2357.6,2,  2405.9,2,   1702.2,2,    20.00,   7.4322,2,    25.00,   0.017,2,   0.001,   1.9264,2,   22.51,2, -999.00,5,  -225.9,2,     2.8,   7.935,2,   0.024,   36.91,2,   45.16,2, 1599.30,   0.1380,2,   0.0960,2,   0.0480,2,   0.0310,2,   0.0168,2,   0.0189,2,     -999.0,     -999.0,9,     -999.0,9,     -999.0,9,     -999.0,9,     -999.0,9,     -999.0,9, -999.00,9,   2.6820,   0.0058,    0.14
325020060213,       P16N,      43,          1,         13,         13,2,20060302,       2110,         21,       -152,       5186,  1800.5,   2.4116,  34.6070,2,  34.6082,2,     78.5,2,    78.4,2,  144.80,2,   40.80,2,    0.00,2,    2.88,2,-999.000,9,-999.000,9,-999.000,9,  2359.2,2,  2421.7,3,   1624.5,2,    20.00,   7.4463,2,    25.00,-999.000,9,-999.000,   1.8985,2,   21.96,2, -999.00,5,  -228.7,2,     2.8,   8.005,2,   0.024,   36.16,2,   44.69,2, 1800.50,-999.0000,9,-999.0000,9,-999.0000,9,-999.0000,9,-999.0000,9,-999.0000,9,     -999.0,     -999.0,9,     -999.0,9,     -999.0,9,     -999.0,9,     -999.0,9,     -999.0,9, -999.00,9,   2.2860,   0.0057,    0.14
325020060213,       P16N,      43,          1,         12,         12,2,20060302,       2110,         21,       -152,       5186,  2001.2,   2.1479,  34.6246,2,  34.6279,2,     89.3,2,    89.1,2,  150.20,2,   40.20,2,    0.00,2,    2.82,2,   0.003,2,   0.001,2,-999.000,5,  2358.5,2,  2427.3,3,   1548.8,2,    20.00,   7.4606,2,    25.00,   0.014,2,   0.001,   1.9624,2,   21.32,2, -999.00,5,  -237.5,2,     2.3,   8.282,2,   0.025,   36.78,2,   43.38,2, 2001.20,   0.1260,2,   0.0860,2,   0.0410,2,   0.0240,2,   0.0193,2,   0.0212,2,     -999.0,     -999.0,9,     -999.0,9,     -999.0,9,     -999.0,9,     -999.0,9,     -999.0,9, -999.00,9,   2.0091,   0.0059,    0.14
325020060213,       P16N,      43,          1,         11,         11,2,20060302,       2110,         21,       -152,       5186,  2249.0,   1.9490,  34.6392,2,  34.6433,2,     98.9,2,    98.7,2,  154.10,2,   39.60,2,    0.00,2,    2.77,2,-999.000,9,-999.000,9,-999.000,9,  2356.8,2,  2432.1,3,   1478.6,2,    20.00,   7.4874,2,    25.00,-999.000,9,-999.000,-999.0000,9,-999.000,9, -999.00,5,  -249.7,2,     2.3,-999.000,9,-999.000,   36.67,2,   43.77,2, 2249.00,-999.0000,9,-999.0000,9,-999.0000,9,-999.0000,9,-999.0000,9,-999.0000,9,     -999.0,     -999.0,9,     -999.0,9,     -999.0,9,     -999.0,9,     -999.0,9,     -999.0,9, -999.00,9,   1.7921,-999.0000,-999.000
325020060213,       P16N,      43,          1,         10,         10,2,20060302,       2110,         21,       -152,       5186,  2499.9,   1.7977,  34.6512,2,  34.6547,2,    107.5,2,  -999.0,5,  156.80,2,   39.10,2,    0.00,2,    2.72,2,   0.000,2,   0.006,3,-999.000,5,  2354.7,2,  2427.4,2,   1426.5,2,    20.00,   7.5011,2,    25.00,-999.000,9,-999.000,-999.0000,9,-999.000,9, -999.00,5,  -246.8,2,     2.5,-999.000,9,-999.000,   36.46,2,   43.30,2, 2499.90,   0.1190,2,   0.0790,2,   0.0370,2,   0.0200,2,   0.0208,2,   0.0228,2,     -999.0,     -999.0,9,     -999.0,9,     -999.0,9,     -999.0,9,     -999.0,9,     -999.0,9, -999.00,9,   1.6211,-999.0000,-999.000
325020060213,       P16N,      43,          1,          9,          9,2,20060302,       2110,         21,       -152,       5186,  2750.2,   1.6835,  34.6611,2,  34.6639,2,    115.2,2,   114.8,2,  158.60,2,   38.70,2,    0.00,2,    2.69,2,-999.000,9,-999.000,9,-999.000,9,  2352.8,2,  2429.9,2,   1385.1,6,    20.00,   7.5162,2,    25.00,-999.000,9,-999.000,-999.0000,9,-999.000,9, -999.00,5,  -241.9,2,     2.4,-999.000,9,-999.000,   38.54,2,   42.57,2, 2750.20,-999.0000,9,-999.0000,9,-999.0000,9,-999.0000,9,-999.0000,9,-999.0000,9,     -999.0,     -999.0,9,     -999.0,9,     -999.0,9,     -999.0,9,     -999.0,9,     -999.0,9, -999.00,9,   1.4864,-999.0000,-999.000