BOTTLE,20170720CCHSIOCBG
EXPOCODE,SECT_ID,STNNBR,CASTNO,SAMPNO,BTLNBR,BTLNBR_FLAG_W,DATE,TIME,LATITUDE,LONGITUDE,DEPTH,CTDPRS,CTDTMP,CTDSAL,CTDSAL_FLAG_W,SALNTY,SALNTY_FLAG_W,CTDOXY,CTDOXY_FLAG_W,OXYGEN,OXYGEN_FLAG_W,SILCAT,SILCAT_FLAG_W,NITRAT,NITRAT_FLAG_W,NITRIT,NITRIT_FLAG_W,PHSPHT,PHSPHT_FLAG_W,CFC-11,CFC-11_FLAG_W,CFC-12,CFC-12_FLAG_W,CFC113,CFC113_FLAG_W,TCARBN,TCARBN_FLAG_W,ALKALI,ALKALI_FLAG_W,FCO2,FCO2_FLAG_W,FCO2TMP,PH_TOT,PH_TOT_FLAG_W,PH_TMP,TRITUM,TRITUM_FLAG_W,TRITER,HELIUM,HELIUM_FLAG_W,DELHE3,DELHE3_FLAG_W,DELC13,DELC13_FLAG_W,DELC14,DELC14_FLAG_W,C14ERR,NEON,NEON_FLAG_W,NEONER,DOC,DOC_FLAG_W,TDN,TDN_FLAG_W,CTDRAW,CDOM325,CDOM325_FLAG_W,CDOM340,CDOM340_FLAG_W,CDOM380,CDOM380_FLAG_W,CDOM412,CDOM412_FLAG_W,CDOMSL,CDOMSL_FLAG_W,CDOMSN,CDOMSN_FLAG_W,DCNS,ARABI,ARABI_FLAG_W,FUCO,FUCO_FLAG_W,GALA,GALA_FLAG_W,GLUC,GLUC_FLAG_W,MAN,MAN_FLAG_W,RHAM,RHAM_FLAG_W,BRDU,BRDU_FLAG_W,THETA,HELIER,DELHER
,,,,,,,,,,,METERS,DBAR,ITS-90,PSS-78,,PSS-78,,UMOL/KG,,UMOL/KG,,UMOL/KG,,UMOL/KG,,UMOL/KG,,UMOL/KG,,PMOL/KG,,PMOL/KG,,PMOL/KG,,UMOL/KG,,UMOL/KG,,UATM,,DEG C,,,DEG C,TU,,TU,NMOL/KG,,PERCNT,,/MILLE,,/MILLE,,/MILLE,NMOL/KG,,NMOL/KG,UMOL/KG,,UMOL/KG,,DBAR,1/M,,1/M,,1/M,,1/M,,1/NM,,1/NM,,NMOL/KG,NMOL/KG,,NMOL/KG,,NMOL/KG,,NMOL/KG,,NMOL/KG,,NMOL/KG,,PMOL/L/H,,DEG C,NMOL/KG,PERCNT
325020060213,       P16N,      26,          1,         35,         35,2,20060223,       2051,          4,       -151,       5047,     5.5,  27.2488,  34.8963,2,  34.8960,2,    205.6,2,   203.6,2,    0.70,2,    2.00,2,    0.10,2,    0.30,2,   1.665,2,   1.045,2,-999.000,5,  1986.2,6,  2292.9,2,   -999.0,9,  -999.00,-999.0000,9,  -999.00,-999.000,9,-999.000,-999.0000,9,-999.000,9, -999.00,9,  -999.0,9,    -9.0,-999.000,9,-999.000,   64.34,2,    6.62,2,    5.50,   0.0560,2,   0.0420,2,   0.0160,2,   0.0170,2,   0.0226,2,   0.0218,2,     -999.0,     -999.0,9,     -999.0,9,     -999.0,9,     -999.0,9,     -999.0,9,     -999.0,9,    1.88,2,  27.2475,-999.0000,-999.000
325020060213,       P16N,      26,          1,         34,         34,2,20060223,       2051,          4,       -151,       5047,    15.5,  27.0432,  34.8934,2,  34.8931,2,    205.8,2,   204.3,2,    0.80,2,    2.00,2,    0.10,2,    0.30,2,-999.000,9,-999.000,9,-999.000,9,  1986.6,2,  2294.1,2,   -999.0,9,  -999.00,   8.0599,2,    25.00,-999.000,9,-999.000,-999.0000,9,-999.000,9, -999.00,9,  -999.0,9,    -9.0,-999.000,9,-999.000,   62.29,2,    5.98,2,   15.50,   0.0460,2,   0.0330,2,   0.0150,2,   0.0160,2,   0.0219,2,   0.0221,2,     -999.0,     -999.0,9,     -999.0,9,     -999.0,9,     -999.0,9,     -999.0,9,     -999.0,9,    2.00,2,  27.0396,-999.0000,-999.000
325020060213,       P16N,      26,          1,         33,         33,2,20060223,       2051,          4,       -151,       5047,    35.3,  27.0066,  34.8940,2,  34.8933,2,    204.5,2,   204.2,2,    0.80,2,    2.10,2,    0.10,2,    0.31,2,   1.670,6,   1.047,6,-999.000,5,  1987.7,2,  2293.1,2,   -999.0,9,  -999.00,   8.0611,2,    25.00,-999.000,9,-999.000,-999.0000,9,-999.000,9, -999.00,9,  -999.0,9,    -9.0,-999.000,9,-999.000,   60.82,2,    5.98,2,   35.30,   0.0410,2,   0.0290,2,   0.0150,2,   0.0150,2,   0.0251,2,   0.0258,2,     -999.0,     -999.0,9,     -999.0,9,     -999.0,9,     -999.0,9,     -999.0,9,     -999.0,9,    2.13,2,  26.9985,-999.0000,-999.000
325020060213,       P16N,      26,          1,         32,         32,2,20060223,       2051,          4,       -151,       5047,    60.1,  26.7897,  34.8939,2,  34.8933,2,    203.9,2,   203.6,2,    1.10,2,    2.60,2,    0.20,2,    0.34,2,   1.699,2,   1.062,2,-999.000,5,  1994.1,2,  2297.0,2,   -999.0,9,  -999.00,   8.0503,2,    25.00,-999.000,9,-999.000,-999.0000,9,-999.000,9, -999.00,5,    61.6,2,     3.4,-999.000,9,-999.000,   60.89,2,    7.30,2,   60.10,   0.0430,2,   0.0310,2,   0.0160,2,   0.0160,2,   0.0224,2,   0.0232,2,     -999.0,     -999.0,9,     -999.0,9,     -999.0,9,     -999.0,9,     -999.0,9,     -999.0,9,    0.80,2,  26.7760,-999.0000,-999.000
325020060213,       P16N,      26,          1,         31,         31,2,20060223,       2051,          4,       -151,       5047,    84.8,  26.5057,  34.8730,2,  34.8790,2,    201.1,2,   197.6,2,    1.60,2,    3.30,2,    0.40,2,    0.41,2,   1.714,2,   1.065,2,-999.000,5,  2004.1,2,  2295.4,2,   -999.0,9,  -999.00,   8.0300,2,    25.00,-999.000,9,-999.000,-999.0000,9,-999.000,9, -999.00,9,  -999.0,9,    -9.0,-999.000,9,-999.000,   58.75,2,    8.20,2,   84.80,   0.0540,2,   0.0400,2,   0.0210,2,   0.0200,2,   0.0181,2,   0.0190,2,     -999.0,     -999.0,9,     -999.0,9,     -999.0,9,     -999.0,9,     -999.0,9,     -999.0,9,    1.06,2,  26.4865,-999.0000,-999.000
325020060213,       P16N,      26,          1,         30,         30,2,20060223,       2051,          4,       -151,       5047,   110.2,  21.5502,  34.8626,2,  34.8517,2,    137.2,2,   136.8,2,    6.20,2,   11.00,2,    0.10,2,    0.82,2,   1.911,2,   1.119,2,-999.000,5,  2083.2,2,  2293.5,2,   -999.0,9,  -999.00,   7.8829,2,    25.00,-999.000,9,-999.000,-999.0000,9,-999.000,9, -999.00,9,  -999.0,9,    -9.0,-999.000,9,-999.000,   53.05,2,   15.62,2,  110.20,   0.1130,2,   0.0830,2,   0.0440,2,   0.0370,2,   0.0122,3,   0.0145,3,     -999.0,     -999.0,9,     -999.0,9,     -999.0,9,     -999.0,9,     -999.0,9,     -999.0,9,    0.91,2,  21.5287,-999.0000,-999.000
325020060213,       P16N,      26,          1,         29,         29,2,20060223,       2051,          4,       -151,       5047,   134.2,  15.8279,  34.6652,2,  34.6541,2,     98.8,2,    86.4,2,   16.60,2,   21.30,2,    0.00,2,    1.48,2,   1.635,2,   0.901,2,-999.000,5,  2164.5,2,  2287.4,2,   -999.0,9,  -999.00,-999.0000,9,  -999.00,-999.000,9,-999.000,-999.0000,9,-999.000,9, -999.00,9,  -999.0,9,    -9.0,-999.000,9,-999.000,   51.43,2,   25.48,2,  134.20,   0.1310,2,   0.0970,2,   0.0550,2,   0.0460,2,   0.0113,3,   0.0131,3,     -999.0,     -999.0,9,     -999.0,9,     -999.0,9,     -999.0,9,     -999.0,9,     -999.0,9,    0.34,2,  15.8069,-999.0000,-999.000
325020060213,       P16N,      26,          1,         28,         28,2,20060223,       2051,          4,       -151,       5047,   174.8,  11.4695,  34.6344,2,  34.6408,2,     56.9,2,    52.8,2,   27.00,2,   29.90,2,    0.00,2,    2.05,2,   0.863,2,   0.468,2,-999.000,5,  2220.2,2,  2296.3,3,   -999.0,9,  -999.00,   7.6784,2,    25.00,-999.000,9,-999.000,-999.0000,9,-999.000,9, -999.00,9,  -999.0,9,    -9.0,-999.000,9,-999.000,   50.09,2,   33.55,2,  174.80,   0.1410,2,   0.1050,2,   0.0610,2,   0.0520,2,   0.0110,3,   0.0124,3,     -999.0,     -999.0,9,     -999.0,9,     -999.0,9,     -999.0,9,     -999.0,9,     -999.0,9,    0.19,2,  11.4475,-999.0000,-999.000
325020060213,       P16N,      26,          1,         27,         27,2,20060223,       2051,          4,       -151,       5047,   225.2,  10.0632,  34.6738,2,  34.6738,2,     59.8,2,    61.1,2,   29.70,2,   31.60,2,    0.00,2,    2.12,2,   0.556,2,   0.305,2,-999.000,5,  2229.6,2,  2303.5,2,   -999.0,9,  -999.00,   7.5328,2,    25.00,-999.000,9,-999.000,-999.0000,9,-999.000,9, -999.00,9,  -999.0,9,    -9.0,-999.000,9,-999.000,   49.15,2,   36.00,2,  225.20,   0.1330,2,   0.0990,2,   0.0580,2,   0.0490,2,   0.0107,3,   0.0122,3,     -999.0,     -999.0,9,     -999.0,9,     -999.0,9,     -999.0,9,     -999.0,9,     -999.0,9, -999.00,9,  10.0370,-999.0000,-999.000
325020060213,       P16N,      26,          1,         26,         26,2,20060223,       2051,          4,       -151,       5047,   275.1,   9.6243,  34.6711,2,  34.6707,2,     63.5,2,    58.8,2,   31.00,2,   32.80,2,    0.00,2,    2.19,2,   0.434,2,   0.235,2,-999.000,5,  2235.5,2,  2307.4,2,   -999.0,9,  -999.00,   7.5214,2,    25.00,-999.000,9,-999.000,-999.0000,9,-999.000,9, -999.00,9,  -999.0,9,    -9.0,-999.000,9,-999.000,   48.50,2,   37.37,2,  275.10,   0.1330,2,   0.0970,2,   0.0570,2,   0.0470,2,   0.0111,3,   0.0128,3,     -999.0,     -999.0,9,     -999.0,9,     -999.0,9,     -999.0,9,     -999.0,9,     -999.0,9, -999.00,9,   9.5931,-999.0000,-999.000
325020060213,       P16N,      26,          1,         25,         25,2,20060223,       2051,          4,       -151,       5047,   324.8,   9.1441,  34.6579,2,  34.6591,2,     56.3,2,    52.4,2,   33.50,2,   34.30,2,    0.00,2,    2.30,2,   0.307,2,   0.168,2,-999.000,5,  2244.7,2,  2308.1,2,   -999.0,9,  -999.00,   7.4951,2,    25.00,-999.000,9,-999.000,-999.0000,9,-999.000,9, -999.00,9,  -999.0,9,    -9.0,-999.000,9,-999.000,   47.53,2,   38.19,2,  324.80,   0.1280,2,   0.0930,2,   0.0530,2,   0.0430,2,   0.0116,3,   0.0135,3,    272.852,    25.5966,2,    16.3686,2,    63.5033,2,     95.255,2,    49.9335,2,    22.1951,2, -999.00,9,   9.1083,-999.0000,-999.000
325020060213,       P16N,      26,          1,         24,         24,2,20060223,       2051,          4,       -151,       5047,   376.0,   8.6689,  34.6364,2,  34.6375,2,     48.0,2,    48.3,2,   36.50,2,   35.70,2,    0.00,2,    2.41,2,   0.209,2,   0.118,2,-999.000,5,  2252.8,2,  2310.3,2,   -999.0,9,  -999.00,   7.4772,2,    25.00,-999.000,9,-999.000,-999.0000,9,-999.000,9, -999.00,9,  -999.0,9,    -9.0,-999.000,9,-999.000,   45.09,2,   39.78,2,  376.00,-999.0000,9,-999.0000,9,-999.0000,9,-999.0000,9,-999.0000,9,-999.0000,9,     -999.0,     -999.0,9,     -999.0,9,     -999.0,9,     -999.0,9,     -999.0,9,     -999.0,9, -999.00,9,   8.6287,-999.0000,-999.000
325020060213,       P16N,      26,          1,         23,         23,2,20060223,       2051,          4,       -151,       5047,   424.5,   8.2710,  34.6192,2,  34.6203,2,     35.7,2,    38.2,2,   40.60,2,   37.10,2,    0.00,2,    2.56,2,   0.121,6,   0.069,6,-999.000,5,  2265.8,2,  2312.8,2,   -999.0,9,  -999.00,   7.4462,2,    25.00,-999.000,9,-999.000,-999.0000,9,-999.000,9, -999.00,9,  -999.0,9,    -9.0,-999.000,9,-999.000,   44.68,2,   40.95,2,  424.50,   0.1380,2,   0.1010,2,   0.0590,2,   0.0480,2,   0.0114,3,   0.0130,3,     -999.0,     -999.0,9,     -999.0,9,     -999.0,9,     -999.0,9,     -999.0,9,     -999.0,9, -999.00,9,   8.2268,-999.0000,-999.000
325020060213,       P16N,      26,          1,         22,         22,2,20060223,       2051,          4,       -151,       5047,   475.5,   7.7619,  34.6022,2,  34.6026,2,     33.1,2,    32.2,2,   45.20,2,   38.70,2,    0.00,2,    2.68,2,   0.062,2,   0.036,2,-999.000,5,  2276.4,6,  2316.8,2,   -999.0,9,  -999.00,-999.0000,9,  -999.00,-999.000,9,-999.000,-999.0000,9,-999.000,9, -999.00,9,  -999.0,9,    -9.0,-999.000,9,-999.000,   43.70,2,   42.73,2,  475.50,   0.1410,2,   0.1020,2,   0.0590,2,   0.0470,2,   0.0117,3,   0.0133,3,     -999.0,     -999.0,9,     -999.0,9,     -999.0,9,     -999.0,9,     -999.0,9,     -999.0,9, -999.00,9,   7.7141,-999.0000,-999.000
325020060213,       P16N,      26,          1,         21,         21,2,20060223,       2051,          4,       -151,       5047,   550.1,   6.9501,  34.5769,2,  34.5759,2,     43.1,2,    42.5,2,   50.70,2,   39.70,2,    0.00,2,    2.75,2,   0.036,2,   0.020,2,-999.000,5,  2279.7,2,  2321.1,2,   -999.0,9,  -999.00,   7.4312,2,    25.00,-999.000,9,-999.000,-999.0000,9,-999.000,9, -999.00,9,  -999.0,9,    -9.0,-999.000,9,-999.000,   42.75,2,   43.94,2,  550.10,-999.0000,9,-999.0000,9,-999.0000,9,-999.0000,9,-999.0000,9,-999.0000,9,     -999.0,     -999.0,9,     -999.0,9,     -999.0,9,     -999.0,9,     -999.0,9,     -999.0,9, -999.00,9,   6.8978,-999.0000,-999.000
325020060213,       P16N,      26,          1,         20,         20,2,20060223,       2051,          4,       -151,       5047,   650.1,   6.1858,  34.5564,2,  34.5565,2,     59.7,2,    58.5,2,   57.80,2,   39.70,2,    0.00,2,    2.74,2,   0.025,2,   0.018,2,-999.000,5,  2280.4,2,  2329.6,2,   -999.0,9,  -999.00,-999.0000,9,  -999.00,-999.000,9,-999.000,-999.0000,9,-999.000,9, -999.00,9,  -999.0,9,    -9.0,-999.000,9,-999.000,   42.19,2,   43.43,2,  650.10,   0.1310,2,   0.0920,2,   0.0510,2,   0.0390,2,   0.0130,3,   0.0153,3,     -999.0,     -999.0,9,     -999.0,9,     -999.0,9,     -999.0,9,     -999.0,9,     -999.0,9, -999.00,9,   6.1274,-999.0000,-999.000
325020060213,       P16N,      26,          1,         19,         19,2,20060223,       2051,          4,       -151,       5047,   749.6,   5.6279,  34.5526,2,  34.5530,2,     62.6,2,    62.3,2,   65.60,2,   40.40,2,    0.00,2,    2.79,2,   0.011,2,   0.007,2,-999.000,5,  2288.7,2,  2338.0,2,   -999.0,9,  -999.00,   7.4468,2,    25.00,-999.000,9,-999.000,-999.0000,9,-999.000,9, -999.00,9,  -999.0,9,    -9.0,-999.000,9,-999.000,   41.51,2,   44.47,2,  749.60,   0.1290,2,   0.0900,2,   0.0480,2,   0.0360,2,   0.0140,2,   0.0163,2,     -999.0,     -999.0,9,     -999.0,9,     -999.0,9,     -999.0,9,     -999.0,9,     -999.0,9, -999.00,9,   5.5632,-999.0000,-999.000
325020060213,       P16N,      26,          1,         18,         18,2,20060223,       2051,          4,       -151,       5047,   849.5,   5.0863,  34.5536,2,  34.5552,2,     66.8,2,    65.8,2,   74.80,2,   40.50,2,    0.00,2,    2.81,2,-999.000,9,-999.000,9,-999.000,9,  2299.2,2,  2348.3,2,   -999.0,9,  -999.00,   7.4515,2,    25.00,-999.000,9,-999.000,-999.0000,9,-999.000,9, -999.00,9,  -999.0,9,    -9.0,-999.000,9,-999.000,   41.18,2,   44.69,2,  849.50,   0.1340,2,   0.0930,2,   0.0500,2,   0.0370,2,   0.0140,2,   0.0163,2,     -999.0,     -999.0,9,     -999.0,9,     -999.0,9,     -999.0,9,     -999.0,9,     -999.0,9, -999.00,9,   5.0158,-999.0000,-999.000
325020060213,       P16N,      26,          1,         17,         17,2,20060223,       2051,          4,       -151,       5047,   949.0,   4.6176,  34.5605,2,  34.5617,2,     69.6,2,    69.2,2,   84.50,2,   40.60,2,    0.00,2,    2.85,2,   0.006,2,   0.003,2,-999.000,5,  2308.0,2,  2359.2,6,   -999.0,9,  -999.00,   7.4609,2,    25.00,-999.000,9,-999.000,-999.0000,9,-999.000,9, -999.00,9,  -999.0,9,    -9.0,-999.000,9,-999.000,   39.59,2,   43.98,2,  949.00,   0.1350,2,   0.0950,2,   0.0510,2,   0.0360,2,   0.0143,2,   0.0165,2,     -999.0,     -999.0,9,     -999.0,9,     -999.0,9,     -999.0,9,     -999.0,9,     -999.0,9, -999.00,9,   4.5416,-999.0000,-999.000
325020060213,       P16N,      26,          1,         16,         16,2,20060223,       2051,          4,       -151,       5047,  1100.9,   4.0242,  34.5751,2,  34.5763,2,     73.6,2,    72.4,2,   97.90,2,   40.70,2,    0.00,2,    2.87,2,-999.000,9,-999.000,9,-999.000,9,  2321.0,2,  2374.1,2,   -999.0,9,  -999.00,   7.4573,2,    25.00,-999.000,9,-999.000,-999.0000,9,-999.000,9, -999.00,9,  -999.0,9,    -9.0,-999.000,9,-999.000,   38.66,2,   44.73,2, 1100.90,-999.0000,9,-999.0000,9,-999.0000,9,-999.0000,9,-999.0000,9,-999.0000,9,     -999.0,     -999.0,9,     -999.0,9,     -999.0,9,     -999.0,9,     -999.0,9,     -999.0,9, -999.00,9,   3.9398,-999.0000,-999.000
325020060213,       P16N,      26,          1,         15,         15,2,20060223,       2051,          4,       -151,       5047,  1299.3,   3.4554,  34.5939,2,  34.5951,2,     76.1,2,    76.9,2,  111.50,2,   40.70,2,    0.00,2,    2.88,2,-999.000,9,-999.000,9,-999.000,9,  2333.9,2,  2389.5,2,   -999.0,9,  -999.00,   7.4642,2,    25.00,-999.000,9,-999.000,-999.0000,9,-999.000,9, -999.00,9,  -999.0,9,    -9.0,-999.000,9,-999.000,   37.96,2,   43.85,2, 1299.30,-999.0000,9,-999.0000,9,-999.0000,9,-999.0000,9,-999.0000,9,-999.0000,9,     -999.0,     -999.0,9,     -999.0,9,     -999.0,9,     -999.0,9,     -999.0,9,     -999.0,9, -999.00,9,   3.3594,-999.0000,-999.000
325020060213,       P16N,      26,          1,         14,         14,2,20060223,       2051,          4,       -151,       5047,  1499.9,   3.0456,  34.6092,2,  34.6113,2,     80.3,2,    79.8,2,  122.30,2,   40.70,2,    0.00,2,    2.89,2,-999.000,9,-999.000,9,-999.000,9,  2343.1,2,  2400.2,2,   -999.0,9,  -999.00,   7.4634,2,    25.00,-999.000,9,-999.000,-999.0000,9,-999.000,9, -999.00,9,  -999.0,9,    -9.0,-999.000,9,-999.000,   37.26,2,   44.60,2, 1499.90,   0.1400,2,   0.0970,2,   0.0500,2,   0.0340,2,   0.0158,2,   0.0178,2,     -999.0,     -999.0,9,     -999.0,9,     -999.0,9,     -999.0,9,     -999.0,9,     -999.0,9, -999.00,9,   2.9371,-999.0000,-999.000
325020060213,       P16N,      26,          1,         13,         13,2,20060223,       2051,          4,       -151,       5047,  1701.3,   2.6818,  34.6262,2,  34.6272,2,     88.0,2,    87.6,2,  131.20,2,   40.30,2,    0.00,2,    2.85,2,-999.000,9,-999.000,9,-999.000,9,  2349.1,2,  2410.2,2,   -999.0,9,  -999.00,   7.4800,2,    25.00,-999.000,9,-999.000,-999.0000,9,-999.000,9, -999.00,9,  -999.0,9,    -9.0,-999.000,9,-999.000,   37.48,2,   44.26,2, 1701.30,-999.0000,9,-999.0000,9,-999.0000,9,-999.0000,9,-999.0000,9,-999.0000,9,     -999.0,     -999.0,9,     -999.0,9,     -999.0,9,     -999.0,9,     -999.0,9,     -999.0,9, -999.00,9,   2.5609,-999.0000,-999.000
325020060213,       P16N,      26,          1,         12,         12,2,20060223,       2051,          4,       -151,       5047,  1898.5,   2.4092,  34.6387,2,  34.6398,2,     96.5,2,    95.8,2,  136.60,2,   39.70,2,    0.00,2,    2.80,2,-999.000,9,-999.000,9,-999.000,9,  2349.6,2,  2417.0,2,   -999.0,9,  -999.00,   7.4934,2,    25.00,-999.000,9,-999.000,-999.0000,9,-999.000,9, -999.00,9,  -999.0,9,    -9.0,-999.000,9,-999.000,   37.15,2,   42.83,2, 1898.50,   0.1350,2,   0.0930,2,   0.0470,2,   0.0300,2,   0.0171,2,   0.0191,2,     -999.0,     -999.0,9,     -999.0,9,     -999.0,9,     -999.0,9,     -999.0,9,     -999.0,9, -999.00,9,   2.2752,-999.0000,-999.000
325020060213,       P16N,      26,          1,         11,         11,2,20060223,       2051,          4,       -151,       5047,  2124.6,   2.1497,  34.6527,2,  34.6542,2,    104.0,2,   103.5,2,  143.20,2,   39.30,2,    0.00,2,    2.76,2,-999.000,9,-999.000,9,-999.000,9,  2351.4,2,  2425.5,2,   -999.0,9,  -999.00,   7.5083,2,    25.00,-999.000,9,-999.000,-999.0000,9,-999.000,9, -999.00,9,  -999.0,9,    -9.0,-999.000,9,-999.000,   38.25,2,   42.96,2, 2124.60,-999.0000,9,-999.0000,9,-999.0000,9,-999.0000,9,-999.0000,9,-999.0000,9,     -999.0,     -999.0,9,     -999.0,9,     -999.0,9,     -999.0,9,     -999.0,9,     -999.0,9, -999.00,9,   2.0002,-999.0000,-999.000
325020060213,       P16N,      26,          1,         10,         10,2,20060223,       2051,          4,       -151,       5047,  2374.5,   1.9223,  34.6658,2,  34.6652,2,    112.8,2,   112.8,2,  148.10,2,   38.70,2,    0.00,2,    2.71,2,-999.000,9,-999.000,9,-999.000,9,  2352.8,2,  2432.0,2,   -999.0,9,  -999.00,   7.5285,2,    25.00,-999.000,9,-999.000,-999.0000,9,-999.000,9, -999.00,9,  -999.0,9,    -9.0,-999.000,9,-999.000,   37.50,2,   42.75,2, 2374.50,   0.1250,2,   0.0840,2,   0.0400,2,   0.0230,2,   0.0200,2,   0.0217,2,     -999.0,     -999.0,9,     -999.0,9,     -999.0,9,     -999.0,9,     -999.0,9,     -999.0,9, -999.00,9,   1.7547,-999.0000,-999.000
325020060213,       P16N,      26,          1,          9,          9,2,20060223,       2051,          4,       -151,       5047,  2625.7,   1.8284,  34.6719,2,  34.6723,2,    117.7,2,   117.4,2,  150.00,2,   38.30,2,    0.00,2,    2.67,2,-999.000,9,-999.000,9,-999.000,9,  2351.5,2,  2434.9,2,   -999.0,9,  -999.00,-999.0000,9,  -999.00,-999.000,9,-999.000,-999.0000,9,-999.000,9, -999.00,9,  -999.0,9,    -9.0,-999.000,9,-999.000,   37.27,2,   41.96,2, 2625.70,-999.0000,9,-999.0000,9,-999.0000,9,-999.0000,9,-999.0000,9,-999.0000,9,     -999.0,     -999.0,9,     -999.0,9,     -999.0,9,     -999.0,9,     -999.0,9,     -999.0,9, -999.00,9,   1.6398,-999.0000,-999.000