BOTTLE,20170720CCHSIOCBG
EXPOCODE,SECT_ID,STNNBR,CASTNO,SAMPNO,BTLNBR,BTLNBR_FLAG_W,DATE,TIME,LATITUDE,LONGITUDE,DEPTH,CTDPRS,CTDTMP,CTDSAL,CTDSAL_FLAG_W,SALNTY,SALNTY_FLAG_W,CTDOXY,CTDOXY_FLAG_W,OXYGEN,OXYGEN_FLAG_W,SILCAT,SILCAT_FLAG_W,NITRAT,NITRAT_FLAG_W,NITRIT,NITRIT_FLAG_W,PHSPHT,PHSPHT_FLAG_W,CFC-11,CFC-11_FLAG_W,CFC-12,CFC-12_FLAG_W,CFC113,CFC113_FLAG_W,TCARBN,TCARBN_FLAG_W,ALKALI,ALKALI_FLAG_W,FCO2,FCO2_FLAG_W,FCO2TMP,PH_TOT,PH_TOT_FLAG_W,PH_TMP,TRITUM,TRITUM_FLAG_W,TRITER,HELIUM,HELIUM_FLAG_W,DELHE3,DELHE3_FLAG_W,DELC13,DELC13_FLAG_W,DELC14,DELC14_FLAG_W,C14ERR,NEON,NEON_FLAG_W,NEONER,DOC,DOC_FLAG_W,TDN,TDN_FLAG_W,CTDRAW,CDOM325,CDOM325_FLAG_W,CDOM340,CDOM340_FLAG_W,CDOM380,CDOM380_FLAG_W,CDOM412,CDOM412_FLAG_W,CDOMSL,CDOMSL_FLAG_W,CDOMSN,CDOMSN_FLAG_W,DCNS,ARABI,ARABI_FLAG_W,FUCO,FUCO_FLAG_W,GALA,GALA_FLAG_W,GLUC,GLUC_FLAG_W,MAN,MAN_FLAG_W,RHAM,RHAM_FLAG_W,BRDU,BRDU_FLAG_W,THETA,HELIER,DELHER
,,,,,,,,,,,METERS,DBAR,ITS-90,PSS-78,,PSS-78,,UMOL/KG,,UMOL/KG,,UMOL/KG,,UMOL/KG,,UMOL/KG,,UMOL/KG,,PMOL/KG,,PMOL/KG,,PMOL/KG,,UMOL/KG,,UMOL/KG,,UATM,,DEG C,,,DEG C,TU,,TU,NMOL/KG,,PERCNT,,/MILLE,,/MILLE,,/MILLE,NMOL/KG,,NMOL/KG,UMOL/KG,,UMOL/KG,,DBAR,1/M,,1/M,,1/M,,1/M,,1/NM,,1/NM,,NMOL/KG,NMOL/KG,,NMOL/KG,,NMOL/KG,,NMOL/KG,,NMOL/KG,,NMOL/KG,,PMOL/L/H,,DEG C,NMOL/KG,PERCNT
325020060213,       P16N,      55,          2,         36,         36,2,20060317,       1342,    32.9997,       -152,       5373,     5.4,  17.5652,  34.8748,2,  34.8751,2,    239.9,2,   240.1,2,    1.90,2,    0.00,2,    0.00,2,    0.04,2,   2.481,2,   1.504,2,-999.000,5,  2021.6,6,  2294.2,2,   -999.0,9,  -999.00,   7.9994,6,    25.00,-999.000,9,-999.000,    1.752,2,  -1.026,2, -999.00,9,  -999.0,9,    -9.0,   7.259,2,   0.025,   62.33,2,    4.26,2,    5.40,   0.0380,2,   0.0180,3,  -0.0060,4,  -0.0140,4,   0.0394,2,   0.0392,2,     -999.0,     -999.0,9,     -999.0,9,     -999.0,9,     -999.0,9,     -999.0,9,     -999.0,9,    0.83,2,  17.5643,    0.001,   0.164
325020060213,       P16N,      55,          2,         35,         35,2,20060317,       1342,    32.9997,       -152,       5373,    25.3,  17.3100,  34.8562,2,  34.8552,2,    241.9,2,   241.0,2,    2.00,2,    0.00,2,    0.00,2,    0.04,2,   2.463,2,   1.511,2,-999.000,5,  2020.8,2,  2292.5,2,   -999.0,9,  -999.00,   7.9984,2,    25.00,-999.000,9,-999.000,-999.0000,9,-999.000,9, -999.00,9,  -999.0,9,    -9.0,-999.000,9,-999.000,   60.71,2,    4.41,2,   25.30,   0.0410,2,   0.0210,3,  -0.0050,4,  -0.0130,4,   0.0385,2,   0.0383,2,     -999.0,     -999.0,9,     -999.0,9,     -999.0,9,     -999.0,9,     -999.0,9,     -999.0,9,    5.81,2,  17.3058,-999.0000,-999.000
325020060213,       P16N,      55,          2,         34,         34,2,20060317,       1342,    32.9997,       -152,       5373,    50.6,  16.5674,  34.6859,2,  34.6796,2,    247.4,2,   245.0,2,    2.40,2,    0.00,2,    0.00,2,    0.06,2,   2.581,6,   1.572,6,-999.000,5,  2018.0,2,  2281.5,2,   -999.0,9,  -999.00,   7.9842,3,    25.00,-999.000,9,-999.000,-999.0000,9,-999.000,9, -999.00,9,  -999.0,9,    -9.0,-999.000,9,-999.000,   59.07,2,    4.77,2,   50.60,   0.0500,2,   0.0280,2,   0.0000,4,  -0.0090,4,   0.0364,2,   0.0360,2,     -999.0,     -999.0,9,     -999.0,9,     -999.0,9,     -999.0,9,     -999.0,9,     -999.0,9,    5.97,2,  16.5592,-999.0000,-999.000
325020060213,       P16N,      55,          2,         33,         33,2,20060317,       1342,    32.9997,       -152,       5373,    74.7,  15.9805,  34.5625,2,  34.5694,2,    246.4,2,   244.9,2,    2.60,2,    0.10,2,    0.00,2,    0.09,2,   2.650,2,   1.599,2,-999.000,5,  2011.0,2,  2277.6,2,   -999.0,9,  -999.00,   7.9768,2,    25.00,-999.000,9,-999.000,-999.0000,9,-999.000,9, -999.00,9,  -999.0,9,    -9.0,-999.000,9,-999.000,   58.50,2,    4.32,2,   74.70,   0.0660,2,   0.0410,2,   0.0080,3,  -0.0030,4,   0.0321,2,   0.0315,2,     -999.0,     -999.0,9,     -999.0,9,     -999.0,9,     -999.0,9,     -999.0,9,     -999.0,9,    8.99,2,  15.9688,-999.0000,-999.000
325020060213,       P16N,      55,          2,         32,         32,2,20060317,       1342,    32.9997,       -152,       5373,   100.3,  15.6522,  34.4899,2,  34.4759,2,    243.7,2,   243.9,2,    3.00,2,    0.50,2,    0.10,2,    0.13,2,   2.701,2,   1.627,2,-999.000,5,  2018.7,2,  2269.0,2,   -999.0,9,  -999.00,   7.9637,2,    25.00,-999.000,9,-999.000,-999.0000,9,-999.000,9, -999.00,9,  -999.0,9,    -9.0,-999.000,9,-999.000,   56.81,2,    4.45,2,  100.30,   0.0700,2,   0.0450,2,   0.0100,2,   0.0000,4,   0.0308,2,   0.0300,2,     -999.0,     -999.0,9,     -999.0,9,     -999.0,9,     -999.0,9,     -999.0,9,     -999.0,9,    5.97,2,  15.6367,-999.0000,-999.000
325020060213,       P16N,      55,          2,         31,         31,2,20060317,       1342,    32.9997,       -152,       5373,   125.2,  13.8139,  34.3477,2,  34.3401,2,    222.9,2,   215.2,2,    5.50,2,    6.00,2,    0.00,2,    0.45,2,   2.993,2,   1.733,2,-999.000,5,  2053.0,2,  2261.0,2,   -999.0,9,  -999.00,   7.8818,2,    25.00,-999.000,9,-999.000,-999.0000,9,-999.000,9, -999.00,9,  -999.0,9,    -9.0,-999.000,9,-999.000,   55.01,2,   10.75,2,  125.20,   0.0780,2,   0.0510,2,   0.0160,2,   0.0060,3,   0.0291,2,   0.0288,2,     -999.0,     -999.0,9,     -999.0,9,     -999.0,9,     -999.0,9,     -999.0,9,     -999.0,9,    1.71,2,  13.7961,-999.0000,-999.000
325020060213,       P16N,      55,          2,         30,         30,2,20060317,       1342,    32.9997,       -152,       5373,   150.4,  12.8049,  34.2492,2,  34.2532,2,    220.4,2,   220.7,2,    6.60,2,    7.90,2,    0.00,2,    0.57,2,   3.098,2,   1.795,2,-999.000,5,  2062.6,2,  2257.0,2,   -999.0,9,  -999.00,   7.8569,2,    25.00,-999.000,9,-999.000,    4.039,4,  -0.462,3, -999.00,9,  -999.0,9,    -9.0,  16.860,4,   0.065,   53.37,2,   12.19,2,  150.40,   0.0750,2,   0.0480,2,   0.0140,2,   0.0040,3,   0.0305,2,   0.0301,2,     -999.0,     -999.0,9,     -999.0,9,     -999.0,9,     -999.0,9,     -999.0,9,     -999.0,9,    0.88,2,  12.7846,    0.009,   0.261
325020060213,       P16N,      55,          2,         29,         29,2,20060317,       1342,    32.9997,       -152,       5373,   200.7,  11.9233,  34.2455,2,  34.2440,2,    220.0,2,   219.7,2,    9.20,2,   10.50,2,    0.00,2,    0.71,2,   3.202,2,   1.822,2,-999.000,5,  2076.0,2,  2264.5,6,   -999.0,9,  -999.00,   7.8335,2,    25.00,-999.000,9,-999.000,-999.0000,9,-999.000,9, -999.00,9,  -999.0,9,    -9.0,-999.000,9,-999.000,   51.34,2,   14.75,2,  200.70,   0.0700,2,   0.0440,2,   0.0120,2,   0.0030,3,   0.0314,2,   0.0313,2,     -999.0,     -999.0,9,     -999.0,9,     -999.0,9,     -999.0,9,     -999.0,9,     -999.0,9,    1.07,2,  11.8974,-999.0000,-999.000
325020060213,       P16N,      55,          2,         28,         28,2,20060317,       1342,    32.9997,       -152,       5373,   250.4,  11.0882,  34.2019,2,  34.2014,2,    219.9,2,   219.7,2,   12.30,2,   12.60,2,    0.00,2,    0.85,2,   3.280,2,   1.851,2,-999.000,5,  2088.7,2,  2265.2,2,   -999.0,9,  -999.00,   7.8091,2,    25.00,   0.798,2,   0.015,    1.744,2,  -0.278,2, -999.00,9,  -999.0,9,    -9.0,   7.378,3,   0.028,   49.89,2,   16.74,2,  250.40,   0.0720,2,   0.0450,2,   0.0120,2,   0.0020,3,   0.0317,2,   0.0317,2,     -999.0,     -999.0,9,     -999.0,9,     -999.0,9,     -999.0,9,     -999.0,9,     -999.0,9, -999.00,9,  11.0574,    0.004,   0.260
325020060213,       P16N,      55,          2,         27,         27,2,20060317,       1342,    32.9997,       -152,       5373,   300.5,  10.3521,  34.1531,2,  34.1524,2,    218.1,2,   218.0,2,   15.40,2,   14.20,2,    0.00,2,    0.97,2,   3.348,2,   1.846,2,-999.000,5,  2097.9,2,  2266.0,2,   -999.0,9,  -999.00,   7.7847,2,    25.00,-999.000,9,-999.000,    1.796,2,   0.595,2, -999.00,9,  -999.0,9,    -9.0,   7.619,2,   0.029,   48.52,2,   18.49,2,  300.50,   0.0770,2,   0.0480,2,   0.0140,2,   0.0040,3,   0.0307,2,   0.0308,2,     -999.0,     -999.0,9,     -999.0,9,     -999.0,9,     -999.0,9,     -999.0,9,     -999.0,9, -999.00,9,  10.3166,    0.004,   0.259
325020060213,       P16N,      55,          2,         26,         26,2,20060317,       1342,    32.9997,       -152,       5373,   349.4,   9.6017,  34.1253,2,  34.1259,2,    206.2,2,   206.1,2,   20.50,2,   17.00,2,    0.00,2,    1.14,2,   3.264,2,   1.791,2,-999.000,5,  2116.8,2,  2271.3,2,   -999.0,9,  -999.00,   7.7479,2,    25.00,   0.843,2,   0.020,-999.0000,9,-999.000,9, -999.00,9,  -999.0,9,    -9.0,-999.000,9,-999.000,   46.65,2,   21.24,2,  349.40,   0.0890,2,   0.0580,2,   0.0200,2,   0.0090,2,   0.0275,2,   0.0280,2,     502.91,    46.1054,2,    60.6137,2,    100.163,2,    159.805,2,    86.3755,2,    49.8476,2, -999.00,9,   9.5623,-999.0000,-999.000
325020060213,       P16N,      55,          2,         25,         25,2,20060317,       1342,    32.9997,       -152,       5373,   400.7,   8.5820,  34.0706,2,  34.0675,2,    185.3,2,   184.8,2,   29.20,2,   21.30,2,    0.00,2,    1.44,2,   3.101,2,   1.654,2,-999.000,5,  2146.4,2,  2275.1,2,   -999.0,9,  -999.00,   7.6816,2,    25.00,   0.760,2,   0.011,    1.783,2,   5.323,2, -999.00,9,  -999.0,9,    -9.0,   7.512,3,   0.067,   45.37,2,   25.10,2,  400.70,   0.1130,2,   0.0760,2,   0.0320,2,   0.0180,2,   0.0229,2,   0.0240,2,     -999.0,     -999.0,9,     -999.0,9,     -999.0,9,     -999.0,9,     -999.0,9,     -999.0,9, -999.00,9,   8.5398,    0.006,   0.139
325020060213,       P16N,      55,          2,         24,         24,2,20060317,       1342,    32.9997,       -152,       5373,   450.4,   7.6992,  34.0335,2,  34.0320,2,    161.7,2,   161.2,2,   37.60,2,   24.90,2,    0.00,2,    1.69,2,   2.832,2,   1.472,2,-999.000,5,  2173.5,2,  2275.8,2,   -999.0,9,  -999.00,   7.6176,2,    25.00,   0.727,2,   0.012,-999.0000,9,-999.000,9, -999.00,9,  -999.0,9,    -9.0,-999.000,9,-999.000,   43.90,2,   28.87,2,  450.40,   0.1260,2,   0.0860,2,   0.0370,2,   0.0220,2,   0.0215,2,   0.0228,2,     -999.0,     -999.0,9,     -999.0,9,     -999.0,9,     -999.0,9,     -999.0,9,     -999.0,9, -999.00,9,   7.6545,-999.0000,-999.000
325020060213,       P16N,      55,          2,         23,         23,2,20060317,       1342,    32.9997,       -152,       5373,   500.6,   6.7596,  34.0014,2,  34.0030,2,    134.4,2,   135.1,2,   47.90,2,   29.00,2,    0.00,2,    1.99,2,   2.466,2,   1.246,2,-999.000,5,  2204.2,2,  2281.9,2,   -999.0,9,  -999.00,   7.5451,2,    25.00,   0.689,2,   0.012,    1.797,2,  11.270,2, -999.00,9,  -999.0,9,    -9.0,   7.752,2,   0.030,   42.76,2,   33.44,2,  500.60,   0.1390,2,   0.0960,2,   0.0440,2,   0.0280,2,   0.0188,2,   0.0206,2,     -999.0,     -999.0,9,     -999.0,9,     -999.0,9,     -999.0,9,     -999.0,9,     -999.0,9, -999.00,9,   6.7133,    0.004,   0.257
325020060213,       P16N,      55,          2,         22,         22,2,20060317,       1342,    32.9997,       -152,       5373,   600.1,   5.2567,  34.0022,2,  34.0044,2,     93.3,2,    93.3,2,   69.50,2,   35.40,2,    0.00,2,    2.47,2,   1.560,2,   0.760,2,-999.000,5,  2258.3,2,  2298.7,2,   -999.0,9,  -999.00,   7.4321,2,    25.00,   0.548,2,   0.010,    1.831,2,  15.336,2, -999.00,9,  -999.0,9,    -9.0,   7.719,3,   0.069,   41.55,2,   39.73,2,  600.10,   0.1580,2,   0.1110,2,   0.0550,2,   0.0360,2,   0.0165,2,   0.0185,2,     -999.0,     -999.0,9,     -999.0,9,     -999.0,9,     -999.0,9,     -999.0,9,     -999.0,9, -999.00,9,   5.2077,    0.006,   0.135
325020060213,       P16N,      55,          2,         21,         21,2,20060317,       1342,    32.9997,       -152,       5373,   700.3,   4.5382,  34.0780,2,  34.0794,2,     55.0,2,    54.9,2,   88.30,2,   39.70,2,    0.00,2,    2.78,2,   0.681,2,   0.325,2,-999.000,5,  2301.2,2,  2321.1,2,   -999.0,9,  -999.00,   7.3534,2,    25.00,   0.364,2,   0.014,    1.837,2,  16.677,2, -999.00,9,  -999.0,9,    -9.0,   7.906,2,   0.031,   39.87,2,   44.18,2,  700.30,   0.1690,2,   0.1200,2,   0.0620,2,   0.0430,2,   0.0152,2,   0.0171,2,     -999.0,     -999.0,9,     -999.0,9,     -999.0,9,     -999.0,9,     -999.0,9,     -999.0,9, -999.00,9,   4.4844,    0.004,   0.256
325020060213,       P16N,      55,          2,         20,         20,2,20060317,       1342,    32.9997,       -152,       5373,   800.9,   4.0339,  34.1781,2,  34.1798,2,     24.0,2,    23.9,2,  105.80,2,   42.60,2,    0.00,2,    3.01,2,   0.137,2,   0.078,2,-999.000,5,  2338.0,2,  2340.3,2,   -999.0,9,  -999.00,   7.2987,2,    25.00,-999.000,9,-999.000,-999.0000,9,-999.000,9, -999.00,9,  -999.0,9,    -9.0,-999.000,9,-999.000,   38.75,2,   47.20,2,  800.90,   0.1780,2,   0.1270,2,   0.0670,2,   0.0470,2,   0.0145,2,   0.0163,2,     -999.0,     -999.0,9,     -999.0,9,     -999.0,9,     -999.0,9,     -999.0,9,     -999.0,9, -999.00,9,   3.9747,-999.0000,-999.000
325020060213,       P16N,      55,          2,         19,         19,2,20060317,       1342,    32.9997,       -152,       5373,   901.8,   3.7198,  34.2666,2,  34.2661,2,     10.9,2,    10.5,2,  117.60,2,   43.80,2,    0.00,2,    3.12,2,   0.024,2,   0.014,2,-999.000,5,  2359.7,6,  2352.9,2,   -999.0,9,  -999.00,   7.2847,2,    25.00,   0.023,2,   0.006,    1.869,2,  14.318,2, -999.00,9,  -999.0,9,    -9.0,   8.309,2,   0.043,   37.77,2,   48.10,2,  901.80,   0.1810,2,   0.1300,2,   0.0710,2,   0.0520,2,   0.0137,2,   0.0153,3,     -999.0,     -999.0,9,     -999.0,9,     -999.0,9,     -999.0,9,     -999.0,9,     -999.0,9, -999.00,9,   3.6546,    0.002,   0.178
325020060213,       P16N,      55,          2,         18,         18,2,20060317,       1342,    32.9997,       -152,       5373,  1000.7,   3.4474,  34.3390,2,  34.3408,2,      7.4,2,     7.2,2,  128.20,2,   44.30,2,    0.00,2,    3.15,2,   0.010,2,   0.000,2,-999.000,5,  2372.8,2,  2388.8,4,   -999.0,9,  -999.00,   7.2866,2,    25.00,-999.000,9,-999.000,-999.0000,9,-999.000,9, -999.00,9,  -999.0,9,    -9.0,-999.000,9,-999.000,   37.39,2,   47.78,2, 1000.70,   0.1820,2,   0.1310,2,   0.0730,2,   0.0550,2,   0.0132,3,   0.0146,3,     -999.0,     -999.0,9,     -999.0,9,     -999.0,9,     -999.0,9,     -999.0,9,     -999.0,9, -999.00,9,   3.3763,-999.0000,-999.000
325020060213,       P16N,      55,          2,         17,         17,2,20060317,       1342,    32.9997,       -152,       5373,  1199.7,   3.1564,  34.4645,2,  34.4639,2,     17.3,2,    17.9,2,  137.00,2,   43.90,2,    0.00,2,    3.14,2,  -0.001,2,   0.001,2,-999.000,5,  2380.4,2,  2386.1,2,   -999.0,9,  -999.00,   7.3195,2,    25.00,-999.000,9,-999.000,-999.0000,9,-999.000,9, -999.00,9,  -999.0,9,    -9.0,-999.000,9,-999.000,   37.20,2,   47.39,2, 1199.70,   0.1750,2,   0.1270,2,   0.0710,2,   0.0530,2,   0.0132,2,   0.0147,3,     -999.0,     -999.0,9,     -999.0,9,     -999.0,9,     -999.0,9,     -999.0,9,     -999.0,9, -999.00,9,   3.0717,-999.0000,-999.000
325020060213,       P16N,      55,          2,         16,         16,2,20060317,       1342,    32.9997,       -152,       5373,  1400.0,   2.8070,  34.5213,2,  34.5210,2,     30.6,2,    30.7,2,  145.80,2,   43.30,2,    0.00,2,    3.09,2,-999.000,9,-999.000,9,-999.000,9,  2382.8,2,  2402.1,2,   -999.0,9,  -999.00,   7.3509,2,    25.00,-999.000,9,-999.000,-999.0000,9,-999.000,9, -999.00,9,  -999.0,9,    -9.0,-999.000,9,-999.000,   37.06,2,   47.26,2, 1400.00,   0.1680,2,   0.1200,2,   0.0660,2,   0.0480,2,   0.0136,2,   0.0153,3,     -999.0,     -999.0,9,     -999.0,9,     -999.0,9,     -999.0,9,     -999.0,9,     -999.0,9, -999.00,9,   2.7096,-999.0000,-999.000
325020060213,       P16N,      55,          2,         15,         15,2,20060317,       1342,    32.9997,       -152,       5373,  1599.9,   2.4568,  34.5579,2,  34.5579,2,     40.5,2,    40.6,2,  155.90,2,   42.80,2,    0.00,2,    3.05,2,   0.011,2,   0.004,2,-999.000,5,  2385.1,2,  2413.0,2,   -999.0,9,  -999.00,   7.3679,2,    25.00,   0.001,2,   0.008,    1.915,2,  21.824,2, -999.00,9,  -999.0,9,    -9.0,   8.388,2,   0.041,   36.46,2,   46.69,2, 1599.90,   0.1610,2,   0.1140,2,   0.0620,2,   0.0450,2,   0.0138,2,   0.0158,3,     -999.0,     -999.0,9,     -999.0,9,     -999.0,9,     -999.0,9,     -999.0,9,     -999.0,9, -999.00,9,   2.3472,    0.002,   0.195
325020060213,       P16N,      55,          2,         14,         14,2,20060317,       1342,    32.9997,       -152,       5373,  1801.2,   2.1904,  34.5898,2,  34.5895,2,     55.7,2,    55.1,2,  161.90,2,   41.90,2,    0.00,2,    2.98,2,-999.000,9,-999.000,9,-999.000,9,  2382.7,2,  2420.3,2,   -999.0,9,  -999.00,   7.4025,2,    25.00,-999.000,9,-999.000,-999.0000,9,-999.000,9, -999.00,9,  -999.0,9,    -9.0,-999.000,9,-999.000,   36.60,2,   45.63,2, 1801.20,   0.1650,2,   0.1170,2,   0.0640,2,   0.0460,2,   0.0137,2,   0.0155,3,     -999.0,     -999.0,9,     -999.0,9,     -999.0,9,     -999.0,9,     -999.0,9,     -999.0,9, -999.00,9,   2.0678,-999.0000,-999.000
325020060213,       P16N,      55,          2,         13,         13,2,20060317,       1342,    32.9997,       -152,       5373,  2000.7,   1.9736,  34.6134,2,  34.6121,2,     68.1,2,    67.4,2,  167.30,2,   41.20,2,    0.00,2,    2.92,2,   0.001,2,   0.003,2,-999.000,5,  2381.0,2,  2421.4,2,   -999.0,9,  -999.00,   7.4285,2,    25.00,-999.000,9,-999.000,-999.0000,9,-999.000,9, -999.00,9,  -999.0,9,    -9.0,-999.000,9,-999.000,   36.29,2,   45.06,2, 2000.70,   0.1520,2,   0.1070,2,   0.0570,2,   0.0400,2,   0.0144,2,   0.0165,2,     -999.0,     -999.0,9,     -999.0,9,     -999.0,9,     -999.0,9,     -999.0,9,     -999.0,9, -999.00,9,   1.8375,-999.0000,-999.000
325020060213,       P16N,      55,          2,         12,         12,2,20060317,       1342,    32.9997,       -152,       5373,  2249.9,   1.8010,  34.6344,2,  34.6341,2,     82.8,2,    82.5,2,  169.40,2,   40.40,2,    0.00,2,    2.84,2,-999.000,9,-999.000,9,-999.000,9,  2374.9,2,  2426.0,2,   -999.0,9,  -999.00,   7.4561,2,    25.00,-999.000,9,-999.000,-999.0000,9,-999.000,9, -999.00,9,  -999.0,9,    -9.0,-999.000,9,-999.000,   36.73,2,   43.99,2, 2249.90,   0.1490,2,   0.1040,2,   0.0550,2,   0.0380,2,   0.0147,2,   0.0169,2,     -999.0,     -999.0,9,     -999.0,9,     -999.0,9,     -999.0,9,     -999.0,9,     -999.0,9, -999.00,9,   1.6465,-999.0000,-999.000
325020060213,       P16N,      55,          2,         11,         11,2,20060317,       1342,    32.9997,       -152,       5373,  2500.7,   1.6815,  34.6497,2,  34.6487,2,     96.3,2,    95.7,2,  169.60,2,   39.50,2,    0.00,2,    2.78,2,-999.000,9,-999.000,9,-999.000,9,  2367.7,2,  2427.8,2,   -999.0,9,  -999.00,   7.4836,2,    25.00,-999.000,9,-999.000,-999.0000,9,-999.000,9, -999.00,9,  -999.0,9,    -9.0,-999.000,9,-999.000,   36.98,2,   43.47,2, 2500.70,   0.1400,2,   0.0970,2,   0.0500,2,   0.0350,2,   0.0154,2,   0.0176,2,     -999.0,     -999.0,9,     -999.0,9,     -999.0,9,     -999.0,9,     -999.0,9,     -999.0,9, -999.00,9,   1.5071,-999.0000,-999.000
325020060213,       P16N,      55,          2,         10,         10,2,20060317,       1342,    32.9997,       -152,       5373,  2748.4,   1.5942,  34.6602,2,  34.6598,2,    107.7,2,   107.3,2,  167.80,2,   38.80,2,    0.00,2,    2.72,2,   0.014,3,   0.001,2,-999.000,5,  2359.9,2,  2432.7,2,   -999.0,9,  -999.00,   7.5062,6,    25.00,   0.001,2,   0.004,-999.0000,9,-999.000,9, -999.00,9,  -999.0,9,    -9.0,-999.000,9,-999.000,   36.12,2,   42.90,2, 2748.40,   0.1330,2,   0.0910,2,   0.0460,2,   0.0320,2,   0.0163,2,   0.0185,2,     -999.0,     -999.0,9,     -999.0,9,     -999.0,9,     -999.0,9,     -999.0,9,     -999.0,9, -999.00,9,   1.3990,-999.0000,-999.000