BOTTLE,20020809WHPSIObren
EXPOCODE,SECT_ID,STNNBR,CASTNO,SAMPNO,BTLNBR,BTLNBR_FLAG_W,DATE,TIME,LATITUDE,LONGITUDE,DEPTH,CTDPRS,CTDTMP,CTDSAL,CTDSAL_FLAG_W,SALNTY,SALNTY_FLAG_W,CTDOXY,CTDOXY_FLAG_W,OXYGEN,OXYGEN_FLAG_W,SILCAT,SILCAT_FLAG_W,NO2+NO3,NO2+NO3_FLAG_W,PHSPHT,PHSPHT_FLAG_W,CTDRAW,REVTMP,REVPRS,THETA
,,,,,,,,,,,,DBAR,ITS-90,PSS-78,,PSS-78,,UMOL/KG,,UMOL/KG,,UMOL/KG,,UMOL/KG,,UMOL/KG,,,DEG C,DBAR,ITS-90
     33KI112_1,  PRS2,     2,  8,     12,     12,2,20000301,0851, 22.7563,-157.9840, 4719,      4.9,  23.4309,  35.1701,2,  35.1688,2,    213.8,1,   -999.0,9,  -999.00,9,  -999.00,9,  -999.00,9,      6,-999.000,  -999.0, 23.4298
     33KI112_1,  PRS2,     2,  8,     11,     11,2,20000301,0851, 22.7563,-157.9840, 4719,      4.9,  23.4300,  35.1700,2,  35.1704,2,    213.7,1,   -999.0,9,  -999.00,9,  -999.00,9,  -999.00,9,      6,-999.000,  -999.0, 23.4290
     33KI112_1,  PRS2,     2,  8,     10,     32,2,20000301,0851, 22.7563,-157.9840, 4719,      4.9,  23.4299,  35.1702,2,  35.1697,2,    213.7,1,   -999.0,9,  -999.00,9,  -999.00,9,  -999.00,9,      5,-999.000,  -999.0, 23.4289
     33KI112_1,  PRS2,     2,  8,      9,      3,2,20000301,0851, 22.7563,-157.9840, 4719,     49.3,  23.2096,  35.2021,2,  35.2004,2,    215.1,1,   -999.0,9,  -999.00,9,  -999.00,9,  -999.00,9,     49,-999.000,  -999.0, 23.1995
     33KI112_1,  PRS2,     2,  8,      8,     29,2,20000301,0851, 22.7563,-157.9840, 4719,     99.5,  22.2905,  35.2817,2,  35.2814,2,    212.1,1,   -999.0,9,  -999.00,9,  -999.00,9,  -999.00,9,    100,-999.000,  -999.0, 22.2707
     33KI112_1,  PRS2,     2,  8,      7,     28,2,20000301,0851, 22.7563,-157.9840, 4719,    149.8,  21.1859,  35.3296,2,  35.3263,2,    206.3,1,   -999.0,9,  -999.00,9,  -999.00,9,  -999.00,9,    150,-999.000,  -999.0, 21.1570
     33KI112_1,  PRS2,     2,  8,      6,      7,2,20000301,0851, 22.7563,-157.9840, 4719,    299.8,  13.7882,  34.3767,2,  34.3782,2,    199.3,1,   -999.0,9,  -999.00,9,  -999.00,9,  -999.00,9,    300,-999.000,  -999.0, 13.7454
     33KI112_1,  PRS2,     2,  8,      5,     38,2,20000301,0851, 22.7563,-157.9840, 4719,    498.9,   7.6073,  34.0347,2,  34.0366,2,    150.7,1,   -999.0,9,  -999.00,9,  -999.00,9,  -999.00,9,    499,-999.000,  -999.0,  7.5581
     33KI112_1,  PRS2,     2,  8,      4,     36,2,20000301,0851, 22.7563,-157.9840, 4719,    599.2,   5.6232,  34.0514,2,  34.0509,2,     83.9,1,   -999.0,9,  -999.00,9,  -999.00,9,  -999.00,9,    601,-999.000,  -999.0,  5.5726
     33KI112_1,  PRS2,     2,  8,      1,     33,2,20000301,0851, 22.7563,-157.9840, 4719,   1020.2,   4.0600,  34.4761,2,  34.4739,2,     42.4,1,   -999.0,9,  -999.00,9,  -999.00,9,  -999.00,9,   1020,-999.000,  -999.0,  3.9822
     33KI112_1,  PRS2,     2,  8,      2,     34,2,20000301,0851, 22.7563,-157.9840, 4719,   1020.5,   4.0596,  34.4759,2,  34.4789,2,     42.5,1,   -999.0,9,  -999.00,9,  -999.00,9,  -999.00,9,   1020,-999.000,  -999.0,  3.9818
     33KI112_1,  PRS2,     2,  8,      3,     35,2,20000301,0851, 22.7563,-157.9840, 4719,   1020.8,   4.0594,  34.4759,2,  34.4741,2,     42.5,1,   -999.0,9,  -999.00,9,  -999.00,9,  -999.00,9,   1020,-999.000,  -999.0,  3.9816
     33KI112_1,  PRS2,     2,  9,      4,     36,2,20000301,1220, 22.7498,-158.0110, 4728,      4.8,  23.4839,  35.2096,2,  35.2095,2,    214.2,1,   -999.0,9,  -999.00,9,  -999.00,9,  -999.00,9,      6,-999.000,  -999.0, 23.4829
     33KI112_1,  PRS2,     2,  9,      3,     35,2,20000301,1220, 22.7498,-158.0110, 4728,     89.6,  22.9016,  35.3571,2,  35.3555,2,    212.9,1,   -999.0,9,  -999.00,9,  -999.00,9,  -999.00,9,     91,-999.000,  -999.0, 22.8833
     33KI112_1,  PRS2,     2,  9,      2,     34,2,20000301,1220, 22.7498,-158.0110, 4728,    541.0,   7.0747,  34.0312,2,  34.0681,4,    137.9,1,   -999.0,9,  -999.00,9,  -999.00,9,  -999.00,9,    541,-999.000,  -999.0,  7.0233
     33KI112_1,  PRS2,     2,  9,      1,     33,2,20000301,1220, 22.7498,-158.0110, 4728,   1020.0,   4.0760,  34.4806,2,  34.4792,2,     43.7,1,   -999.0,9,  -999.00,9,  -999.00,9,  -999.00,9,   1021,-999.000,  -999.0,  3.9981
     33KI112_1,  PRS2,     2, 10,      9,      3,2,20000301,1456, 22.7627,-157.9885, 4711,      4.7,  23.4568,  35.2081,2,  35.2068,2,    213.7,1,   -999.0,9,  -999.00,9,  -999.00,9,  -999.00,9,      5,-999.000,  -999.0, 23.4558
     33KI112_1,  PRS2,     2, 10,      8,     29,2,20000301,1456, 22.7627,-157.9885, 4711,     24.0,  23.4586,  35.2071,2,  35.2064,2,    213.6,1,   -999.0,9,  -999.00,9,  -999.00,9,  -999.00,9,     24,-999.000,  -999.0, 23.4536
     33KI112_1,  PRS2,     2, 10,      7,     28,2,20000301,1456, 22.7627,-157.9885, 4711,     24.0,  23.4585,  35.2068,2,  35.2082,2,    213.6,1,   -999.0,9,  -999.00,9,  -999.00,9,  -999.00,9,     25,-999.000,  -999.0, 23.4535
     33KI112_1,  PRS2,     2, 10,      6,      7,2,20000301,1456, 22.7627,-157.9885, 4711,     44.6,  23.4444,  35.2067,2,  35.2075,2,    213.8,1,   -999.0,9,  -999.00,9,  -999.00,9,  -999.00,9,     45,-999.000,  -999.0, 23.4351
     33KI112_1,  PRS2,     2, 10,      5,     38,2,20000301,1456, 22.7627,-157.9885, 4711,     44.7,  23.4440,  35.2064,2,  35.2085,2,    213.8,1,   -999.0,9,  -999.00,9,  -999.00,9,  -999.00,9,     45,-999.000,  -999.0, 23.4348
     33KI112_1,  PRS2,     2, 10,      3,     35,2,20000301,1456, 22.7627,-157.9885, 4711,    174.8,  20.1846,  35.2078,2,  35.2075,2,    198.4,1,   -999.0,9,  -999.00,9,  -999.00,9,  -999.00,9,    177,-999.000,  -999.0, 20.1521
     33KI112_1,  PRS2,     2, 10,      4,     36,2,20000301,1456, 22.7627,-157.9885, 4711,    175.5,  20.1871,  35.2078,2,  35.2092,2,    198.2,1,   -999.0,9,  -999.00,9,  -999.00,9,  -999.00,9,    176,-999.000,  -999.0, 20.1544
     33KI112_1,  PRS2,     2, 10,      2,     34,2,20000301,1456, 22.7627,-157.9885, 4711,    800.7,   4.8578,  34.3655,2,  34.3902,4,     31.5,1,   -999.0,9,  -999.00,9,  -999.00,9,  -999.00,9,    802,-999.000,  -999.0,  4.7933
     33KI112_1,  PRS2,     2, 10,      1,     33,2,20000301,1456, 22.7627,-157.9885, 4711,   1020.4,   4.1437,  34.4758,2,  34.4753,2,     42.6,1,   -999.0,9,  -999.00,9,  -999.00,9,  -999.00,9,   1022,-999.000,  -999.0,  4.0652
     33KI112_1,  PRS2,     2, 11,     20,     20,2,20000301,1756, 22.7675,-157.9603, 4700,      4.7,  23.3293,  35.1666,2,  35.1646,2,    214.0,1,   -999.0,9,  -999.00,9,  -999.00,9,  -999.00,9,      5,-999.000,  -999.0, 23.3283
     33KI112_1,  PRS2,     2, 11,     19,     19,2,20000301,1756, 22.7675,-157.9603, 4700,      4.7,  23.3294,  35.1666,2,  35.1664,2,    214.0,1,   -999.0,9,  -999.00,9,  -999.00,9,  -999.00,9,      6,-999.000,  -999.0, 23.3285
     33KI112_1,  PRS2,     2, 11,     18,     18,2,20000301,1756, 22.7675,-157.9603, 4700,     14.4,  23.3297,  35.1667,2,  35.1656,2,    214.0,1,   -999.0,9,  -999.00,9,  -999.00,9,  -999.00,9,     15,-999.000,  -999.0, 23.3267
     33KI112_1,  PRS2,     2, 11,     17,     17,2,20000301,1756, 22.7675,-157.9603, 4700,     24.3,  23.3243,  35.1691,2,  35.1679,2,    214.1,1,   -999.0,9,  -999.00,9,  -999.00,9,  -999.00,9,     25,-999.000,  -999.0, 23.3193
     33KI112_1,  PRS2,     2, 11,     16,     16,2,20000301,1756, 22.7675,-157.9603, 4700,     24.3,  23.3240,  35.1692,2,  35.1686,2,    214.1,1,   -999.0,9,  -999.00,9,  -999.00,9,  -999.00,9,     25,-999.000,  -999.0, 23.3189
     33KI112_1,  PRS2,     2, 11,     13,     13,2,20000301,1756, 22.7675,-157.9603, 4700,     44.3,  23.0087,  35.2970,2,  35.3173,4,    213.6,1,   -999.0,9,  -999.00,9,  -999.00,9,  -999.00,9,     45,-999.000,  -999.0, 22.9996
     33KI112_1,  PRS2,     2, 11,     15,     15,2,20000301,1756, 22.7675,-157.9603, 4700,     44.4,  23.0084,  35.2959,2,  35.2909,2,    213.6,1,   -999.0,9,  -999.00,9,  -999.00,9,  -999.00,9,     45,-999.000,  -999.0, 22.9993
     33KI112_1,  PRS2,     2, 11,     14,     14,3,20000301,1756, 22.7675,-157.9603, 4700,     44.4,  23.0084,  35.2961,2,  35.2919,2,    213.6,1,   -999.0,9,  -999.00,9,  -999.00,9,  -999.00,9,     45,-999.000,  -999.0, 22.9993
     33KI112_1,  PRS2,     2, 11,     12,     12,2,20000301,1756, 22.7675,-157.9603, 4700,     74.8,  22.8186,  35.3618,2,  35.3612,2,    215.1,1,   -999.0,9,  -999.00,9,  -999.00,9,  -999.00,9,     76,-999.000,  -999.0, 22.8034
     33KI112_1,  PRS2,     2, 11,     11,     11,3,20000301,1756, 22.7675,-157.9603, 4700,     75.1,  22.8148,  35.3616,2,  35.3616,2,    215.0,1,   -999.0,9,  -999.00,9,  -999.00,9,  -999.00,9,     76,-999.000,  -999.0, 22.7995
     33KI112_1,  PRS2,     2, 11,     10,     32,2,20000301,1756, 22.7675,-157.9603, 4700,     75.1,  22.8138,  35.3616,2,  35.3620,2,    215.0,1,   -999.0,9,  -999.00,9,  -999.00,9,  -999.00,9,     76,-999.000,  -999.0, 22.7985
     33KI112_1,  PRS2,     2, 11,      9,      3,2,20000301,1756, 22.7675,-157.9603, 4700,    101.0,  22.5595,  35.3623,2,  35.3610,2,    211.6,1,   -999.0,9,  -999.00,9,  -999.00,9,  -999.00,9,    102,-999.000,  -999.0, 22.5392
     33KI112_1,  PRS2,     2, 11,      8,     29,2,20000301,1756, 22.7675,-157.9603, 4700,    124.4,  22.0292,  35.3972,2,  35.3979,2,    209.1,1,   -999.0,9,  -999.00,9,  -999.00,9,  -999.00,9,    125,-999.000,  -999.0, 22.0045
     33KI112_1,  PRS2,     2, 11,      7,     28,2,20000301,1756, 22.7675,-157.9603, 4700,    124.5,  22.0262,  35.3987,2,  35.3886,2,    209.1,1,   -999.0,9,  -999.00,9,  -999.00,9,  -999.00,9,    125,-999.000,  -999.0, 22.0015
     33KI112_1,  PRS2,     2, 11,      6,      7,2,20000301,1756, 22.7675,-157.9603, 4700,    149.4,  20.7027,  35.2481,2,  35.2492,2,    201.4,1,   -999.0,9,  -999.00,9,  -999.00,9,  -999.00,9,    150,-999.000,  -999.0, 20.6744
     33KI112_1,  PRS2,     2, 11,      4,     36,2,20000301,1756, 22.7675,-157.9603, 4700,    176.3,  19.8973,  35.1710,2,  35.1733,2,    198.3,1,   -999.0,9,  -999.00,9,  -999.00,9,  -999.00,9,    177,-999.000,  -999.0, 19.8648
     33KI112_1,  PRS2,     2, 11,      5,     38,2,20000301,1756, 22.7675,-157.9603, 4700,    176.6,  19.8738,  35.1675,2,  35.1840,2,    198.5,1,   -999.0,9,  -999.00,9,  -999.00,9,  -999.00,9,    177,-999.000,  -999.0, 19.8413
     33KI112_1,  PRS2,     2, 11,      3,     35,3,20000301,1756, 22.7675,-157.9603, 4700,    225.0,  17.8123,  34.8960,2,  34.9019,2,    198.4,1,   -999.0,9,  -999.00,9,  -999.00,9,  -999.00,9,    225,-999.000,  -999.0, 17.7740
     33KI112_1,  PRS2,     2, 11,      2,     34,2,20000301,1756, 22.7675,-157.9603, 4700,    799.5,   4.6833,  34.3475,2,  34.3600,4,     31.9,1,   -999.0,9,  -999.00,9,  -999.00,9,  -999.00,9,    800,-999.000,  -999.0,  4.6200
     33KI112_1,  PRS2,     2, 11,      1,     33,2,20000301,1756, 22.7675,-157.9603, 4700,   1018.8,   3.9652,  34.4750,2,  34.4741,2,     41.8,1,   -999.0,9,  -999.00,9,  -999.00,9,  -999.00,9,   1020,-999.000,  -999.0,  3.8883
     33KI112_1,  PRS2,     2, 12,      5,     38,2,20000301,2059, 22.7587,-157.9603, 4704,      4.5,  23.3818,  35.1752,2,  35.1755,2,    213.6,1,   -999.0,9,  -999.00,9,  -999.00,9,  -999.00,9,      5,-999.000,  -999.0, 23.3808
     33KI112_1,  PRS2,     2, 12,      4,     36,2,20000301,2059, 22.7587,-157.9603, 4704,    100.4,  22.5665,  35.3806,2,  35.3803,2,    211.6,1,   -999.0,9,  -999.00,9,  -999.00,9,  -999.00,9,    101,-999.000,  -999.0, 22.5463
     33KI112_1,  PRS2,     2, 12,      3,     35,2,20000301,2059, 22.7587,-157.9603, 4704,    524.8,   6.9135,  34.0292,2,  34.0284,2,    132.6,1,   -999.0,9,  -999.00,9,  -999.00,9,  -999.00,9,    526,-999.000,  -999.0,  6.8643
     33KI112_1,  PRS2,     2, 12,      2,     34,2,20000301,2059, 22.7587,-157.9603, 4704,    824.0,   4.6306,  34.3441,2,  34.3428,2,     30.9,1,   -999.0,9,  -999.00,9,  -999.00,9,  -999.00,9,    824,-999.000,  -999.0,  4.5656
     33KI112_1,  PRS2,     2, 12,      1,     33,2,20000301,2059, 22.7587,-157.9603, 4704,   1019.9,   3.9901,  34.4731,2,  34.4709,2,     41.4,1,   -999.0,9,  -999.00,9,  -999.00,9,  -999.00,9,   1021,-999.000,  -999.0,  3.9129
     33KI112_1,  PRS2,     2, 13,     13,     13,2,20000301,2355, 22.7405,-157.9800, 4718,      4.1,  23.5508,  35.2178,2,  35.2520,4,    215.3,1,   -999.0,9,  -999.00,9,  -999.00,9,  -999.00,9,      4,-999.000,  -999.0, 23.5500
     33KI112_1,  PRS2,     2, 13,     12,     12,2,20000301,2355, 22.7405,-157.9800, 4718,     24.8,  23.4780,  35.2166,2,  35.2189,2,    215.6,1,   -999.0,9,  -999.00,9,  -999.00,9,  -999.00,9,     25,-999.000,  -999.0, 23.4728
     33KI112_1,  PRS2,     2, 13,     11,     11,2,20000301,2355, 22.7405,-157.9800, 4718,     45.0,  23.1802,  35.2489,2,  35.2432,2,    215.9,1,   -999.0,9,  -999.00,9,  -999.00,9,  -999.00,9,     45,-999.000,  -999.0, 23.1710
     33KI112_1,  PRS2,     2, 13,     10,     32,2,20000301,2355, 22.7405,-157.9800, 4718,     75.2,  22.8692,  35.3618,2,  35.3604,2,    217.6,1,   -999.0,9,  -999.00,9,  -999.00,9,  -999.00,9,     76,-999.000,  -999.0, 22.8539
     33KI112_1,  PRS2,     2, 13,      9,      3,2,20000301,2355, 22.7405,-157.9800, 4718,     98.8,  22.5043,  35.3782,2,  35.3720,2,    213.2,1,   -999.0,9,  -999.00,9,  -999.00,9,  -999.00,9,     99,-999.000,  -999.0, 22.4844
     33KI112_1,  PRS2,     2, 13,      8,     29,2,20000301,2355, 22.7405,-157.9800, 4718,    125.5,  21.6002,  35.3376,2,  35.3337,2,    203.7,1,   -999.0,9,  -999.00,9,  -999.00,9,  -999.00,9,    126,-999.000,  -999.0, 21.5756
     33KI112_1,  PRS2,     2, 13,      7,     28,2,20000301,2355, 22.7405,-157.9800, 4718,    150.6,  20.7347,  35.2478,2,  35.2494,2,    203.9,1,   -999.0,9,  -999.00,9,  -999.00,9,  -999.00,9,    152,-999.000,  -999.0, 20.7061
     33KI112_1,  PRS2,     2, 13,      6,      7,2,20000301,2355, 22.7405,-157.9800, 4718,    176.0,  19.9295,  35.1743,2,  35.1766,2,    198.9,1,   -999.0,9,  -999.00,9,  -999.00,9,  -999.00,9,    177,-999.000,  -999.0, 19.8970
     33KI112_1,  PRS2,     2, 13,      5,     38,2,20000301,2355, 22.7405,-157.9800, 4718,    250.6,  16.5939,  34.7209,2,  34.7333,2,    199.8,1,   -999.0,9,  -999.00,9,  -999.00,9,  -999.00,9,    252,-999.000,  -999.0, 16.5532
     33KI112_1,  PRS2,     2, 13,      4,     36,2,20000301,2355, 22.7405,-157.9800, 4718,    497.7,   7.6711,  34.0383,2,  34.0379,2,    151.0,1,   -999.0,9,  -999.00,9,  -999.00,9,  -999.00,9,    498,-999.000,  -999.0,  7.6217
     33KI112_1,  PRS2,     2, 13,      3,     35,2,20000301,2355, 22.7405,-157.9800, 4718,    747.8,   4.9376,  34.3034,2,  34.3042,2,     34.8,1,   -999.0,9,  -999.00,9,  -999.00,9,  -999.00,9,    749,-999.000,  -999.0,  4.8773
     33KI112_1,  PRS2,     2, 13,      2,     34,2,20000301,2355, 22.7405,-157.9800, 4718,    801.1,   4.6563,  34.3266,2,  34.3417,4,     31.1,1,   -999.0,9,  -999.00,9,  -999.00,9,  -999.00,9,    802,-999.000,  -999.0,  4.5930
     33KI112_1,  PRS2,     2, 13,      1,     33,2,20000301,2355, 22.7405,-157.9800, 4718,   1020.0,   4.0540,  34.4793,2,  34.4788,2,     43.4,1,   -999.0,9,  -999.00,9,  -999.00,9,  -999.00,9,   1020,-999.000,  -999.0,  3.9763
     33KI112_1,  PRS2,     2, 14,     15,     15,2,20000302,0250, 22.7293,-157.9735, 4727,      5.0,  23.5282,  35.2172,2,  35.2162,2,    215.7,1,   -999.0,9,  -999.00,9,  -999.00,9,  -999.00,9,      5,-999.000,  -999.0, 23.5272
     33KI112_1,  PRS2,     2, 14,     14,     14,2,20000302,0250, 22.7293,-157.9735, 4727,     24.9,  23.4499,  35.2128,2,  35.2108,2,    215.3,1,   -999.0,9,  -999.00,9,  -999.00,9,  -999.00,9,     25,-999.000,  -999.0, 23.4448
     33KI112_1,  PRS2,     2, 14,     13,     13,2,20000302,0250, 22.7293,-157.9735, 4727,     49.3,  23.1528,  35.2289,2,  35.2559,3,    216.4,1,   -999.0,9,  -999.00,9,  -999.00,9,  -999.00,9,     51,-999.000,  -999.0, 23.1427
     33KI112_1,  PRS2,     2, 14,     12,     12,2,20000302,0250, 22.7293,-157.9735, 4727,     75.6,  22.8015,  35.3603,2,  35.3599,2,    217.6,1,   -999.0,9,  -999.00,9,  -999.00,9,  -999.00,9,     76,-999.000,  -999.0, 22.7862
     33KI112_1,  PRS2,     2, 14,     11,     11,2,20000302,0250, 22.7293,-157.9735, 4727,     99.8,  22.4683,  35.3642,2,  35.3945,4,    212.3,1,   -999.0,9,  -999.00,9,  -999.00,9,  -999.00,9,    100,-999.000,  -999.0, 22.4482
     33KI112_1,  PRS2,     2, 14,     10,     32,2,20000302,0250, 22.7293,-157.9735, 4727,    123.7,  22.1535,  35.3768,2,  35.3778,2,    210.5,1,   -999.0,9,  -999.00,9,  -999.00,9,  -999.00,9,    125,-999.000,  -999.0, 22.1289
     33KI112_1,  PRS2,     2, 14,      9,      3,2,20000302,0250, 22.7293,-157.9735, 4727,    148.5,  21.0196,  35.2825,2,  35.2829,2,    202.2,1,   -999.0,9,  -999.00,9,  -999.00,9,  -999.00,9,    149,-999.000,  -999.0, 20.9912
     33KI112_1,  PRS2,     2, 14,      8,     29,2,20000302,0250, 22.7293,-157.9735, 4727,    174.3,  19.9183,  35.1735,2,  35.1724,2,    199.0,1,   -999.0,9,  -999.00,9,  -999.00,9,  -999.00,9,    176,-999.000,  -999.0, 19.8861
     33KI112_1,  PRS2,     2, 14,      7,     28,2,20000302,0250, 22.7293,-157.9735, 4727,    200.0,  19.0403,  35.0661,2,  35.0684,2,    200.8,1,   -999.0,9,  -999.00,9,  -999.00,9,  -999.00,9,    201,-999.000,  -999.0, 19.0045
     33KI112_1,  PRS2,     2, 14,      6,      7,2,20000302,0250, 22.7293,-157.9735, 4727,    250.4,  15.9065,  34.6287,2,  34.6293,2,    198.5,1,   -999.0,9,  -999.00,9,  -999.00,9,  -999.00,9,    250,-999.000,  -999.0, 15.8671
     33KI112_1,  PRS2,     2, 14,      5,     38,2,20000302,0250, 22.7293,-157.9735, 4727,    349.5,  11.9998,  34.2732,2,  34.2732,2,    214.0,1,   -999.0,9,  -999.00,9,  -999.00,9,  -999.00,9,    352,-999.000,  -999.0, 11.9542
     33KI112_1,  PRS2,     2, 14,      4,     36,2,20000302,0250, 22.7293,-157.9735, 4727,    500.0,   7.7529,  34.0434,2,  34.0418,2,    149.8,1,   -999.0,9,  -999.00,9,  -999.00,9,  -999.00,9,    500,-999.000,  -999.0,  7.7029
     33KI112_1,  PRS2,     2, 14,      3,     35,2,20000302,0250, 22.7293,-157.9735, 4727,    725.0,   5.3333,  34.2449,2,  34.2454,2,     40.9,1,   -999.0,9,  -999.00,9,  -999.00,9,  -999.00,9,    726,-999.000,  -999.0,  5.2728
     33KI112_1,  PRS2,     2, 14,      2,     34,2,20000302,0250, 22.7293,-157.9735, 4727,    850.1,   4.7731,  34.3765,2,  34.3977,4,     33.4,1,   -999.0,9,  -999.00,9,  -999.00,9,  -999.00,9,    851,-999.000,  -999.0,  4.7049
     33KI112_1,  PRS2,     2, 14,      1,     33,2,20000302,0250, 22.7293,-157.9735, 4727,   1020.4,   4.0788,  34.4712,2,  34.4721,2,     41.6,1,   -999.0,9,  -999.00,9,  -999.00,9,  -999.00,9,   1021,-999.000,  -999.0,  4.0009