BOTTLE,20020809WHPSIObren
EXPOCODE,SECT_ID,STNNBR,CASTNO,SAMPNO,BTLNBR,BTLNBR_FLAG_W,DATE,TIME,LATITUDE,LONGITUDE,DEPTH,CTDPRS,CTDTMP,CTDSAL,CTDSAL_FLAG_W,SALNTY,SALNTY_FLAG_W,CTDOXY,CTDOXY_FLAG_W,OXYGEN,OXYGEN_FLAG_W,SILCAT,SILCAT_FLAG_W,NO2+NO3,NO2+NO3_FLAG_W,PHSPHT,PHSPHT_FLAG_W,CTDRAW,REVTMP,REVPRS,THETA
,,,,,,,,,,,,DBAR,ITS-90,PSS-78,,PSS-78,,UMOL/KG,,UMOL/KG,,UMOL/KG,,UMOL/KG,,UMOL/KG,,,DEG C,DBAR,ITS-90
     33KI112_1,  PRS2,     2, 15,     15,     15,2,20000302,0550, 22.7468,-157.9982, 4722,      5.1,  23.5031,  35.2105,2,  35.2087,2,    228.6,1,   -999.0,9,  -999.00,9,  -999.00,9,  -999.00,9,      6,-999.000,  -999.0, 23.5020
     33KI112_1,  PRS2,     2, 15,     16,     16,2,20000302,0550, 22.7468,-157.9982, 4722,      5.2,  23.5031,  35.2104,2,  35.2085,2,    225.1,1,   -999.0,9,  -999.00,9,  -999.00,9,  -999.00,9,      5,-999.000,  -999.0, 23.5020
     33KI112_1,  PRS2,     2, 15,     14,     14,2,20000302,0550, 22.7468,-157.9982, 4722,     24.4,  23.5044,  35.2111,2,  35.2104,2,    214.7,1,   -999.0,9,  -999.00,9,  -999.00,9,  -999.00,9,     26,-999.000,  -999.0, 23.4993
     33KI112_1,  PRS2,     2, 15,     13,     13,2,20000302,0550, 22.7468,-157.9982, 4722,     24.7,  23.5045,  35.2111,2,  35.2093,2,    214.7,1,   -999.0,9,  -999.00,9,  -999.00,9,  -999.00,9,     25,-999.000,  -999.0, 23.4994
     33KI112_1,  PRS2,     2, 15,     12,     12,2,20000302,0550, 22.7468,-157.9982, 4722,     44.0,  23.0763,  35.2537,2,  35.2465,2,    215.4,1,   -999.0,9,  -999.00,9,  -999.00,9,  -999.00,9,     44,-999.000,  -999.0, 23.0673
     33KI112_1,  PRS2,     2, 15,     11,     11,2,20000302,0550, 22.7468,-157.9982, 4722,     49.2,  22.9663,  35.3479,2,  35.3462,2,    216.8,1,   -999.0,9,  -999.00,9,  -999.00,9,  -999.00,9,     50,-999.000,  -999.0, 22.9562
     33KI112_1,  PRS2,     2, 15,     10,     32,2,20000302,0550, 22.7468,-157.9982, 4722,     74.8,  22.6471,  35.3596,2,  35.3586,2,    214.0,1,   -999.0,9,  -999.00,9,  -999.00,9,  -999.00,9,     75,-999.000,  -999.0, 22.6320
     33KI112_1,  PRS2,     2, 15,      9,      3,2,20000302,0550, 22.7468,-157.9982, 4722,    100.6,  22.4349,  35.4268,2,  35.4257,2,    217.4,1,   -999.0,9,  -999.00,9,  -999.00,9,  -999.00,9,    101,-999.000,  -999.0, 22.4147
     33KI112_1,  PRS2,     2, 15,      8,     29,2,20000302,0550, 22.7468,-157.9982, 4722,    100.6,  22.4357,  35.4263,2,  35.4282,2,    217.9,1,   -999.0,9,  -999.00,9,  -999.00,9,  -999.00,9,    101,-999.000,  -999.0, 22.4155
     33KI112_1,  PRS2,     2, 15,      7,     28,2,20000302,0550, 22.7468,-157.9982, 4722,    124.9,  21.5222,  35.3156,2,  35.3231,2,    205.0,1,   -999.0,9,  -999.00,9,  -999.00,9,  -999.00,9,    125,-999.000,  -999.0, 21.4978
     33KI112_1,  PRS2,     2, 15,      5,     38,2,20000302,0550, 22.7468,-157.9982, 4722,    149.6,  20.6129,  35.2343,2,  35.2371,2,    198.8,1,   -999.0,9,  -999.00,9,  -999.00,9,  -999.00,9,    150,-999.000,  -999.0, 20.5846
     33KI112_1,  PRS2,     2, 15,      6,      7,2,20000302,0550, 22.7468,-157.9982, 4722,    149.8,  20.6125,  35.2340,2,  35.2400,2,    198.7,1,   -999.0,9,  -999.00,9,  -999.00,9,  -999.00,9,    150,-999.000,  -999.0, 20.5842
     33KI112_1,  PRS2,     2, 15,      3,     35,2,20000302,0550, 22.7468,-157.9982, 4722,    175.7,  19.4517,  35.1142,2,  35.1179,2,    197.4,1,   -999.0,9,  -999.00,9,  -999.00,9,  -999.00,9,    176,-999.000,  -999.0, 19.4198
     33KI112_1,  PRS2,     2, 15,      4,     36,2,20000302,0550, 22.7468,-157.9982, 4722,    176.2,  19.4465,  35.1134,2,  35.1208,2,    197.3,1,   -999.0,9,  -999.00,9,  -999.00,9,  -999.00,9,    176,-999.000,  -999.0, 19.4146
     33KI112_1,  PRS2,     2, 15,      2,     34,2,20000302,0550, 22.7468,-157.9982, 4722,    799.1,   4.7946,  34.3343,2,  34.3260,2,     33.1,1,   -999.0,9,  -999.00,9,  -999.00,9,  -999.00,9,    800,-999.000,  -999.0,  4.7307
     33KI112_1,  PRS2,     2, 15,      1,     33,2,20000302,0550, 22.7468,-157.9982, 4722,   1019.5,   4.0383,  34.4701,2,  34.4716,2,     39.5,1,   -999.0,9,  -999.00,9,  -999.00,9,  -999.00,9,   1021,-999.000,  -999.0,  3.9608
     33KI112_1,  PRS2,     2, 16,     22,     22,2,20000302,0853, 22.7373,-157.9852, 4722,      5.2,  23.4243,  35.2172,2,  35.2172,2,    214.9,2,    214.9,2,  -999.00,9,  -999.00,9,  -999.00,9,      5,-999.000,  -999.0, 23.4233
     33KI112_1,  PRS2,     2, 16,     21,     21,2,20000302,0853, 22.7373,-157.9852, 4722,     99.2,  22.5902,  35.4091,2,  35.4087,2,    216.3,2,    217.4,2,  -999.00,9,  -999.00,9,  -999.00,9,    100,-999.000,  -999.0, 22.5702
     33KI112_1,  PRS2,     2, 16,     20,     20,3,20000302,0853, 22.7373,-157.9852, 4722,    497.7,   7.2534,  34.0410,2,  34.0635,4,    135.1,3,    132.5,2,  -999.00,9,  -999.00,9,  -999.00,9,    497,-999.000,  -999.0,  7.2056
     33KI112_1,  PRS2,     2, 16,     19,     19,3,20000302,0853, 22.7373,-157.9852, 4722,    750.1,   4.9767,  34.3050,2,  34.3047,2,     35.6,2,     34.5,2,  -999.00,9,  -999.00,9,  -999.00,9,    751,-999.000,  -999.0,  4.9160
     33KI112_1,  PRS2,     2, 16,     18,     18,2,20000302,0853, 22.7373,-157.9852, 4722,    998.2,   4.0256,  34.4695,2,  34.4681,2,     39.4,2,     40.5,2,  -999.00,9,  -999.00,9,  -999.00,9,   1000,-999.000,  -999.0,  3.9500
     33KI112_1,  PRS2,     2, 16,     16,     16,2,20000302,0853, 22.7373,-157.9852, 4722,   2001.8,   2.1478,  34.6179,2,  34.6165,2,     87.6,2,     89.3,2,  -999.00,9,  -999.00,9,  -999.00,9,   2001,-999.000,  -999.0,  2.0091
     33KI112_1,  PRS2,     2, 16,     17,     17,2,20000302,0853, 22.7373,-157.9852, 4722,   2002.0,   2.1476,  34.6180,2,  34.6177,2,     87.5,2,   -999.0,5,  -999.00,9,  -999.00,9,  -999.00,9,   2003,-999.000,  -999.0,  2.0088
     33KI112_1,  PRS2,     2, 16,     15,     15,2,20000302,0853, 22.7373,-157.9852, 4722,   2500.7,   1.7397,  34.6500,2,  34.6494,2,    105.5,2,   -999.0,5,  -999.00,9,  -999.00,9,  -999.00,9,   2502,-999.000,  -999.0,  1.5642
     33KI112_1,  PRS2,     2, 16,     14,     14,2,20000302,0853, 22.7373,-157.9852, 4722,   2994.5,   1.5596,  34.6691,2,  34.6681,2,    122.9,2,   -999.0,5,  -999.00,9,  -999.00,9,  -999.00,9,   2996,-999.000,  -999.0,  1.3420
     33KI112_1,  PRS2,     2, 16,     13,     13,2,20000302,0853, 22.7373,-157.9852, 4722,   2997.0,   1.5593,  34.6691,2,  34.6678,2,    122.9,2,    124.8,3,  -999.00,9,  -999.00,9,  -999.00,9,   2998,-999.000,  -999.0,  1.3415
     33KI112_1,  PRS2,     2, 16,     10,     32,2,20000302,0853, 22.7373,-157.9852, 4722,   3497.3,   1.4751,  34.6799,2,  34.6801,2,    136.6,2,   -999.0,5,  -999.00,9,  -999.00,9,  -999.00,9,   3499,-999.000,  -999.0,  1.2099
     33KI112_1,  PRS2,     2, 16,      9,      3,2,20000302,0853, 22.7373,-157.9852, 4722,   3497.5,   1.4749,  34.6799,2,  34.6796,2,    136.6,2,   -999.0,5,  -999.00,9,  -999.00,9,  -999.00,9,   3499,-999.000,  -999.0,  1.2096
     33KI112_1,  PRS2,     2, 16,     12,     12,2,20000302,0853, 22.7373,-157.9852, 4722,   3497.6,   1.4749,  34.6799,2,  34.6802,2,    136.6,2,   -999.0,5,  -999.00,9,  -999.00,9,  -999.00,9,   3498,-999.000,  -999.0,  1.2096
     33KI112_1,  PRS2,     2, 16,     11,     11,2,20000302,0853, 22.7373,-157.9852, 4722,   3497.6,   1.4751,  34.6798,2,  34.6819,2,    136.6,2,   -999.0,5,  -999.00,9,  -999.00,9,  -999.00,9,   3498,-999.000,  -999.0,  1.2098
     33KI112_1,  PRS2,     2, 16,      6,      7,2,20000302,0853, 22.7373,-157.9852, 4722,   3497.6,   1.4747,  34.6799,2,  34.6797,2,    136.6,2,   -999.0,5,  -999.00,9,  -999.00,9,  -999.00,9,   3499,-999.000,  -999.0,  1.2094
     33KI112_1,  PRS2,     2, 16,      8,     29,2,20000302,0853, 22.7373,-157.9852, 4722,   3497.8,   1.4749,  34.6799,2,  34.6794,2,    136.6,2,   -999.0,5,  -999.00,9,  -999.00,9,  -999.00,9,   3498,-999.000,  -999.0,  1.2096
     33KI112_1,  PRS2,     2, 16,      7,     28,2,20000302,0853, 22.7373,-157.9852, 4722,   3498.0,   1.4749,  34.6799,2,  34.6792,2,    136.6,2,   -999.0,5,  -999.00,9,  -999.00,9,  -999.00,9,   3498,-999.000,  -999.0,  1.2096
     33KI112_1,  PRS2,     2, 16,      5,     38,2,20000302,0853, 22.7373,-157.9852, 4722,   3498.0,   1.4746,  34.6799,2,  34.6794,2,    136.7,2,   -999.0,5,  -999.00,9,  -999.00,9,  -999.00,9,   3499,-999.000,  -999.0,  1.2093
     33KI112_1,  PRS2,     2, 16,      4,     36,2,20000302,0853, 22.7373,-157.9852, 4722,   3498.4,   1.4745,  34.6800,2,  34.6799,2,    137.0,2,   -999.0,5,  -999.00,9,  -999.00,9,  -999.00,9,   3498,-999.000,  -999.0,  1.2092
     33KI112_1,  PRS2,     2, 16,      3,     35,2,20000302,0853, 22.7373,-157.9852, 4722,   3498.5,   1.4745,  34.6800,2,  34.6790,2,    137.1,2,   -999.0,5,  -999.00,9,  -999.00,9,  -999.00,9,   3498,-999.000,  -999.0,  1.2092
     33KI112_1,  PRS2,     2, 16,      2,     34,2,20000302,0853, 22.7373,-157.9852, 4722,   3999.7,   1.4603,  34.6855,2,  34.6864,2,    146.5,2,    147.5,2,  -999.00,9,  -999.00,9,  -999.00,9,   3999,-999.000,  -999.0,  1.1425
     33KI112_1,  PRS2,     2, 16,      1,     33,2,20000302,0853, 22.7373,-157.9852, 4722,   4801.9,   1.5079,  34.6899,2,  34.6904,2,    156.0,2,    154.7,2,  -999.00,9,  -999.00,9,  -999.00,9,   4802,-999.000,  -999.0,  1.0972