BOTTLE,20020809WHPSIObren
#code : jjward hyd_to_exchange.pl 
#original files copied from HTML directory: 20020809
#original HYD file: /whpo/11/HOTS/BOTTLE/hot112/hot112.sea   Fri Aug  9 09:51:27 2002
#original SUM file: /whpo/11/HOTS/BOTTLE/hot112/hot112.sum   Fri Aug  9 13:30:31 2002
EXPOCODE,SECT_ID,STNNBR,CASTNO,SAMPNO,BTLNBR,BTLNBR_FLAG_W,DATE,TIME,LATITUDE,LONGITUDE,DEPTH,CTDPRS,CTDTMP,CTDSAL,CTDSAL_FLAG_W,SALNTY,SALNTY_FLAG_W,CTDOXY,CTDOXY_FLAG_W,OXYGEN,OXYGEN_FLAG_W,SILCAT,SILCAT_FLAG_W,NO2+NO3,NO2+NO3_FLAG_W,PHSPHT,PHSPHT_FLAG_W,CTDRAW,REVTMP,REVPRS,THETA
,,,,,,,,,,,,DBAR,ITS-90,PSS-78,,PSS-78,,UMOL/KG,,UMOL/KG,,UMOL/KG,,UMOL/KG,,UMOL/KG,,,DEG C,DBAR,ITS-90
     33KI112_1,  PRS2,     1,  1,     23,     30,2,20000228,2314, 21.3452,-158.2667, 1426,      5.0,  24.2948,  35.1781,2,  35.1781,2,    210.7,2,    211.8,2,     1.11,2,     0.01,2,     0.12,2,      5,-999.000,  -999.0, 24.2937
     33KI112_1,  PRS2,     1,  1,     24,     31,4,20000228,2314, 21.3452,-158.2667, 1426,      5.1,  24.2943,  35.1780,2,-999.0000,5,    210.7,2,   -999.0,5,  -999.00,5,  -999.00,5,  -999.00,5,      6,-999.000,  -999.0, 24.2933
     33KI112_1,  PRS2,     1,  1,     22,     22,2,20000228,2314, 21.3452,-158.2667, 1426,     24.2,  24.2454,  35.1753,2,  35.0394,4,    212.1,3,    212.4,2,     1.26,2,     0.01,2,     0.16,2,     24,-999.000,  -999.0, 24.2403
     33KI112_1,  PRS2,     1,  1,     21,     21,2,20000228,2314, 21.3452,-158.2667, 1426,     44.7,  24.1561,  35.1633,2,  35.1785,4,    212.5,3,    212.5,2,     1.25,2,     0.00,2,     0.14,2,     45,-999.000,  -999.0, 24.1466
     33KI112_1,  PRS2,     1,  1,     20,     20,2,20000228,2314, 21.3452,-158.2667, 1426,     59.3,  24.1366,  35.1670,2,  35.1644,2,    212.5,2,    212.5,2,     1.27,2,    -0.01,2,     0.13,2,     59,-999.000,  -999.0, 24.1241
     33KI112_1,  PRS2,     1,  1,     19,     19,3,20000228,2314, 21.3452,-158.2667, 1426,     75.0,  24.0406,  35.2238,2,  35.1664,4,    213.0,3,    212.8,2,     1.32,2,    -0.01,2,     0.15,2,     75,-999.000,  -999.0, 24.0248
     33KI112_1,  PRS2,     1,  1,     18,     18,2,20000228,2314, 21.3452,-158.2667, 1426,     94.4,  23.6197,  35.2629,2,  35.2622,2,    212.8,2,    212.1,2,     1.33,2,    -0.01,2,     0.13,2,     94,-999.000,  -999.0, 23.6001
     33KI112_1,  PRS2,     1,  1,     17,     17,2,20000228,2314, 21.3452,-158.2667, 1426,    104.4,  23.2518,  35.2907,2,  35.2918,2,    212.9,2,    212.2,2,     1.40,2,     0.00,2,     0.12,2,    105,-999.000,  -999.0, 23.2303
     33KI112_1,  PRS2,     1,  1,     16,     16,2,20000228,2314, 21.3452,-158.2667, 1426,    113.9,  22.9092,  35.3830,2,  35.3840,2,    214.4,2,    214.1,2,     1.39,2,     0.00,2,     0.14,2,    114,-999.000,  -999.0, 22.8860
     33KI112_1,  PRS2,     1,  1,     15,     15,3,20000228,2314, 21.3452,-158.2667, 1426,    124.5,  22.7227,  35.4176,2,  35.4154,2,    214.6,2,    214.3,2,     1.49,2,     0.01,2,     0.10,2,    125,-999.000,  -999.0, 22.6975
     33KI112_1,  PRS2,     1,  1,     14,     14,2,20000228,2314, 21.3452,-158.2667, 1426,    150.1,  21.4688,  35.2200,2,  35.2379,2,    201.7,2,    203.3,2,     1.90,2,     1.11,2,     0.20,2,    150,-999.000,  -999.0, 21.4396
     33KI112_1,  PRS2,     1,  1,     13,     13,2,20000228,2314, 21.3452,-158.2667, 1426,    175.1,  20.0802,  35.1105,2,  35.1222,2,    195.5,2,    196.1,2,     2.54,2,     2.47,2,     0.42,3,    175,-999.000,  -999.0, 20.0477
     33KI112_1,  PRS2,     1,  1,     12,     12,2,20000228,2314, 21.3452,-158.2667, 1426,    200.1,  19.0404,  35.0091,2,  35.0140,2,    193.4,2,    191.1,2,     3.37,2,     3.13,2,     0.38,2,    200,-999.000,  -999.0, 19.0046
     33KI112_1,  PRS2,     1,  1,     11,     11,3,20000228,2314, 21.3452,-158.2667, 1426,    225.3,  18.2665,  34.9323,2,  34.9477,2,    195.8,2,    195.4,2,     3.49,2,     3.31,2,     0.40,2,    226,-999.000,  -999.0, 18.2274
     33KI112_1,  PRS2,     1,  1,     10,     32,2,20000228,2314, 21.3452,-158.2667, 1426,    250.1,  16.6183,  34.7316,2,  34.7363,2,    197.6,2,    196.6,2,     4.96,2,     4.85,2,     0.47,2,    250,-999.000,  -999.0, 16.5777
     33KI112_1,  PRS2,     1,  1,      9,      3,2,20000228,2314, 21.3452,-158.2667, 1426,    276.0,  15.5093,  34.5997,2,  34.6065,2,    196.6,2,    197.9,2,  -999.00,5,  -999.00,5,  -999.00,5,    276,-999.000,  -999.0, 15.4666
     33KI112_1,  PRS2,     1,  1,      8,     29,2,20000228,2314, 21.3452,-158.2667, 1426,    301.1,  13.4672,  34.3913,2,  34.3942,2,    196.2,2,    197.9,2,     9.32,2,     9.14,2,     0.75,2,    301,-999.000,  -999.0, 13.4249
     33KI112_1,  PRS2,     1,  1,      7,     28,2,20000228,2314, 21.3452,-158.2667, 1426,    400.9,   8.8715,  34.1132,2,  34.1186,2,    154.2,2,    154.4,2,    30.73,2,    21.98,2,     1.61,2,    401,-999.000,  -999.0,  8.8283
     33KI112_1,  PRS2,     1,  1,      6,      7,2,20000228,2314, 21.3452,-158.2667, 1426,    499.0,   7.1095,  34.0856,2,  34.0868,2,    111.1,2,    109.4,2,    49.45,2,    29.71,2,     2.18,2,    499,-999.000,  -999.0,  7.0620
     33KI112_1,  PRS2,     1,  1,      5,     38,2,20000228,2314, 21.3452,-158.2667, 1426,    599.0,   6.2137,  34.1860,2,  34.1878,2,     68.1,2,     67.6,2,  -999.00,5,  -999.00,5,  -999.00,5,    599,-999.000,  -999.0,  6.1603
     33KI112_1,  PRS2,     1,  1,      4,     36,3,20000228,2314, 21.3452,-158.2667, 1426,    698.9,   5.4816,  34.2964,2,  34.2971,2,     38.0,2,     35.9,2,    81.27,2,    39.24,2,     2.90,2,    699,-999.000,  -999.0,  5.4226
     33KI112_1,  PRS2,     1,  1,      3,     35,2,20000228,2314, 21.3452,-158.2667, 1426,    800.9,   5.0384,  34.3936,2,  34.3931,2,     34.4,2,     35.0,2,  -999.00,5,  -999.00,5,  -999.00,5,    801,-999.000,  -999.0,  4.9727
     33KI112_1,  PRS2,     1,  1,      2,     34,3,20000228,2314, 21.3452,-158.2667, 1426,    899.5,   4.7084,  34.4427,2,  34.4657,4,     37.0,3,     41.8,2,  -999.00,5,  -999.00,5,  -999.00,5,    900,-999.000,  -999.0,  4.6362
     33KI112_1,  PRS2,     1,  1,      1,     33,2,20000228,2314, 21.3452,-158.2667, 1426,   1020.1,   4.3135,  34.4859,2,  34.4859,2,     42.6,2,     45.1,2,   103.58,2,    40.77,2,     2.99,2,   1020,-999.000,  -999.0,  4.2337
     33KI112_1,  PRS2,     2,  1,     24,     31,2,20000229,1257, 22.7482,-158.0013, 4722,      5.0,  23.4576,  35.1765,2,  35.1781,2,    215.5,2,    214.4,2,     2.73,3,     0.01,2,     0.12,2,      5,-999.000,  -999.0, 23.4566
     33KI112_1,  PRS2,     2,  1,     23,     30,2,20000229,1257, 22.7482,-158.0013, 4722,    551.6,   6.4608,  34.0236,2,  34.0236,2,    117.7,2,    114.0,2,    53.36,2,    30.09,2,     2.09,2,    553,-999.000,  -999.0,  6.4109
     33KI112_1,  PRS2,     2,  1,     22,     22,2,20000229,1257, 22.7482,-158.0013, 4722,    799.0,   4.8458,  34.3577,2,  34.3561,2,     34.3,2,     34.6,2,    93.61,2,    39.98,2,     2.91,2,    799,-999.000,  -999.0,  4.7815
     33KI112_1,  PRS2,     2,  1,     21,     21,2,20000229,1257, 22.7482,-158.0013, 4722,   1000.7,   4.1194,  34.4525,2,  34.4544,2,     40.0,2,     39.8,2,   108.80,2,    41.04,2,     2.93,3,   1001,-999.000,  -999.0,  4.0428
     33KI112_1,  PRS2,     2,  1,     20,     20,2,20000229,1257, 22.7482,-158.0013, 4722,   1198.6,   3.6460,  34.5240,2,  34.5230,2,     49.6,2,     49.6,2,   117.39,2,    40.95,2,     2.98,2,   1200,-999.000,  -999.0,  3.5567
     33KI112_1,  PRS2,     2,  1,     19,     19,2,20000229,1257, 22.7482,-158.0013, 4722,   1400.7,   3.0543,  34.5551,2,  34.5567,2,     60.8,2,     61.7,2,   130.63,2,    40.77,2,     2.93,2,   1400,-999.000,  -999.0,  2.9542
     33KI112_1,  PRS2,     2,  1,     18,     18,2,20000229,1257, 22.7482,-158.0013, 4722,   1602.1,   2.7052,  34.5798,2,  34.5787,2,     70.3,2,     70.5,2,   139.12,2,    40.47,2,     2.90,2,   1602,-999.000,  -999.0,  2.5923
     33KI112_1,  PRS2,     2,  1,     17,     17,2,20000229,1257, 22.7482,-158.0013, 4722,   1802.0,   2.3896,  34.6003,2,  34.5992,2,     78.4,2,     79.2,2,   145.43,2,    40.01,2,     2.85,2,   1802,-999.000,  -999.0,  2.2642
     33KI112_1,  PRS2,     2,  1,     16,     16,2,20000229,1257, 22.7482,-158.0013, 4722,   2000.7,   2.1776,  34.6157,2,  34.6152,2,     86.3,2,     86.9,2,   150.51,2,    39.66,2,     2.82,2,   2000,-999.000,  -999.0,  2.0385
     33KI112_1,  PRS2,     2,  1,     15,     15,2,20000229,1257, 22.7482,-158.0013, 4722,   2199.5,   1.9661,  34.6310,2,  34.6305,2,     95.0,2,     96.1,2,   154.59,2,    38.52,2,     2.76,2,   2199,-999.000,  -999.0,  1.8132
     33KI112_1,  PRS2,     2,  1,     14,     14,2,20000229,1257, 22.7482,-158.0013, 4722,   2402.4,   1.8111,  34.6435,2,  34.6427,2,    101.9,2,    102.4,2,   158.62,2,    38.22,2,     2.75,2,   2402,-999.000,  -999.0,  1.6430
     33KI112_1,  PRS2,     2,  1,     13,     13,2,20000229,1257, 22.7482,-158.0013, 4722,   2602.1,   1.7096,  34.6535,2,  34.6528,2,    109.9,2,    110.7,2,   159.01,2,    37.71,2,     2.70,2,   2604,-999.000,  -999.0,  1.5256
     33KI112_1,  PRS2,     2,  1,     12,     12,2,20000229,1257, 22.7482,-158.0013, 4722,   2799.8,   1.6181,  34.6621,2,  34.6614,2,    117.1,2,    117.8,2,   160.12,2,    37.49,2,     2.67,2,   2799,-999.000,  -999.0,  1.4176
     33KI112_1,  PRS2,     2,  1,     11,     11,2,20000229,1257, 22.7482,-158.0013, 4722,   2999.9,   1.5683,  34.6685,2,  34.6671,2,    123.7,2,    123.9,2,   159.49,2,    37.16,2,     2.63,2,   3000,-999.000,  -999.0,  1.3500
     33KI112_1,  PRS2,     2,  1,     10,     32,2,20000229,1257, 22.7482,-158.0013, 4722,   3198.0,   1.5332,  34.6728,2,  34.6722,2,    129.1,2,    129.2,2,   158.02,2,    36.95,2,     2.61,2,   3199,-999.000,  -999.0,  1.2965
     33KI112_1,  PRS2,     2,  1,      9,      3,2,20000229,1257, 22.7482,-158.0013, 4722,   3399.4,   1.5052,  34.6769,2,  34.6789,2,    134.3,2,    133.7,2,   158.89,2,    36.84,2,     2.58,2,   3400,-999.000,  -999.0,  1.2492
     33KI112_1,  PRS2,     2,  1,      8,     29,2,20000229,1257, 22.7482,-158.0013, 4722,   3601.0,   1.4858,  34.6802,2,  34.6797,2,    138.6,2,    139.1,2,   156.65,2,    36.37,2,     2.55,2,   3598,-999.000,  -999.0,  1.2097
     33KI112_1,  PRS2,     2,  1,      7,     28,2,20000229,1257, 22.7482,-158.0013, 4722,   3798.9,   1.4743,  34.6828,2,  34.6837,2,    143.1,2,    143.1,2,   155.46,2,    36.21,2,     2.52,2,   3799,-999.000,  -999.0,  1.1777
     33KI112_1,  PRS2,     2,  1,      6,      7,2,20000229,1257, 22.7482,-158.0013, 4722,   3997.2,   1.4688,  34.6848,2,  34.6851,2,    147.3,2,    146.4,2,   153.49,2,    36.08,2,     2.52,2,   3997,-999.000,  -999.0,  1.1511
     33KI112_1,  PRS2,     2,  1,      5,     38,2,20000229,1257, 22.7482,-158.0013, 4722,   4199.7,   1.4707,  34.6866,2,  34.6878,2,    149.1,2,    149.6,2,   151.11,2,    35.79,2,     2.46,2,   4199,-999.000,  -999.0,  1.1307
     33KI112_1,  PRS2,     2,  1,      4,     36,2,20000229,1257, 22.7482,-158.0013, 4722,   4399.6,   1.4799,  34.6877,2,  34.6892,2,    151.6,2,    151.4,2,   150.21,2,    35.77,2,     2.47,2,   4401,-999.000,  -999.0,  1.1171
     33KI112_1,  PRS2,     2,  1,      3,     35,2,20000229,1257, 22.7482,-158.0013, 4722,   4499.0,   1.4871,  34.6879,2,  34.6886,2,    152.6,2,    152.4,2,   150.30,2,    35.73,2,     2.47,2,   4498,-999.000,  -999.0,  1.1127
     33KI112_1,  PRS2,     2,  1,      2,     34,2,20000229,1257, 22.7482,-158.0013, 4722,   4598.7,   1.4946,  34.6884,2,  34.6890,2,    153.4,2,    152.9,2,   149.53,2,    35.48,2,     2.47,2,   4600,-999.000,  -999.0,  1.1084
     33KI112_1,  PRS2,     2,  1,      1,     33,2,20000229,1257, 22.7482,-158.0013, 4722,   4806.1,   1.5084,  34.6891,2,  34.6910,2,    155.1,2,    154.8,2,   148.10,2,    35.48,2,     2.46,2,   4808,-999.000,  -999.0,  1.0972
     33KI112_1,  PRS2,     2,  2,     24,     31,2,20000229,1758, 22.7472,-158.0030, 4723,      4.7,  23.4712,  35.1806,2,  35.1791,2,    214.6,2,    214.5,2,     1.24,2,     0.02,2,     0.17,3,      5,-999.000,  -999.0, 23.4702
     33KI112_1,  PRS2,     2,  2,     23,     30,2,20000229,1758, 22.7472,-158.0030, 4723,     49.3,  23.4769,  35.1812,2,  35.1901,2,    215.1,2,    214.5,2,     1.22,2,     0.04,2,     0.18,3,     50,-999.000,  -999.0, 23.4667
     33KI112_1,  PRS2,     2,  2,     22,     22,2,20000229,1758, 22.7472,-158.0030, 4723,     97.8,  23.0295,  35.3493,2,  35.3439,2,    214.9,2,    213.7,2,     1.25,2,     0.05,2,     0.15,2,    100,-999.000,  -999.0, 23.0095
     33KI112_1,  PRS2,     2,  2,     21,     21,2,20000229,1758, 22.7472,-158.0030, 4723,    149.1,  20.9714,  35.2054,2,  35.2063,2,    201.2,2,    202.5,2,     2.17,2,     0.75,2,     0.20,2,    150,-999.000,  -999.0, 20.9428
     33KI112_1,  PRS2,     2,  2,     20,     20,2,20000229,1758, 22.7472,-158.0030, 4723,    178.9,  20.0849,  35.1622,2,  35.1665,2,    199.7,2,    199.3,2,     3.51,3,     1.54,2,     0.21,2,    179,-999.000,  -999.0, 20.0517
     33KI112_1,  PRS2,     2,  2,     19,     19,2,20000229,1758, 22.7472,-158.0030, 4723,    226.6,  17.8596,  34.9058,2,  34.9105,2,    198.5,2,    199.5,2,     3.16,2,     3.03,2,     0.31,2,    227,-999.000,  -999.0, 17.8209
     33KI112_1,  PRS2,     2,  2,     18,     18,2,20000229,1758, 22.7472,-158.0030, 4723,    267.4,  15.4637,  34.5884,2,  34.6127,3,    198.8,3,    200.9,2,     5.25,2,     5.17,2,     0.45,2,    269,-999.000,  -999.0, 15.4224
     33KI112_1,  PRS2,     2,  2,     17,     17,2,20000229,1758, 22.7472,-158.0030, 4723,    301.5,  13.8313,  34.3760,2,  34.3765,2,    201.4,2,    200.6,2,     7.25,2,     7.59,2,     0.64,2,    303,-999.000,  -999.0, 13.7881
     33KI112_1,  PRS2,     2,  2,     16,     16,3,20000229,1758, 22.7472,-158.0030, 4723,    338.0,  11.7227,  34.2068,2,  34.2834,4,    195.9,3,   -999.0,5,  -999.00,5,  -999.00,5,  -999.00,5,    339,-999.000,  -999.0, 11.6794
     33KI112_1,  PRS2,     2,  2,     15,     15,2,20000229,1758, 22.7472,-158.0030, 4723,    386.5,   9.9834,  34.1085,2,  34.1105,2,    192.7,2,    191.1,2,    18.71,2,    16.55,2,     1.16,2,    387,-999.000,  -999.0,  9.9387
     33KI112_1,  PRS2,     2,  2,     14,     14,2,20000229,1758, 22.7472,-158.0030, 4723,    438.9,   8.5851,  34.0713,2,  34.0716,2,    169.9,2,    173.7,2,    28.93,2,    21.30,2,     1.48,2,    440,-999.000,  -999.0,  8.5387
     33KI112_1,  PRS2,     2,  2,     13,     13,2,20000229,1758, 22.7472,-158.0030, 4723,    474.6,   7.9358,  34.0500,2,  34.0522,2,    162.4,2,    160.2,2,    35.35,2,    23.88,2,     1.70,2,    475,-999.000,  -999.0,  7.8878
     33KI112_1,  PRS2,     2,  2,     12,     12,2,20000229,1758, 22.7472,-158.0030, 4723,    507.4,   7.1394,  34.0328,2,  34.0333,2,    139.2,2,    137.4,2,    45.04,2,    27.55,2,     1.97,2,    510,-999.000,  -999.0,  7.0910
     33KI112_1,  PRS2,     2,  2,     11,     11,2,20000229,1758, 22.7472,-158.0030, 4723,    543.8,   6.4840,  34.0261,2,  34.0270,2,    114.0,2,    113.9,2,    53.63,2,    30.50,2,     2.26,2,    546,-999.000,  -999.0,  6.4347
     33KI112_1,  PRS2,     2,  2,     10,     32,2,20000229,1758, 22.7472,-158.0030, 4723,    580.4,   5.7953,  34.0445,2,  34.0438,2,     88.5,2,     88.9,2,    65.95,2,    34.04,2,     2.51,2,    581,-999.000,  -999.0,  5.7456
     33KI112_1,  PRS2,     2,  2,      9,      3,2,20000229,1758, 22.7472,-158.0030, 4723,    629.1,   5.8652,  34.1923,2,  34.1951,2,     53.1,2,     49.9,2,    72.43,2,    36.80,2,     2.76,2,    629,-999.000,  -999.0,  5.8106
     33KI112_1,  PRS2,     2,  2,      8,     29,2,20000229,1758, 22.7472,-158.0030, 4723,    685.8,   5.4125,  34.2646,2,  34.2611,2,     38.7,2,     37.1,2,    81.18,2,    39.03,2,     2.90,2,    686,-999.000,  -999.0,  5.3550
     33KI112_1,  PRS2,     2,  2,      7,     28,2,20000229,1758, 22.7472,-158.0030, 4723,    729.9,   5.1757,  34.3052,2,  34.3034,2,     35.7,2,     33.7,2,    86.53,2,    39.86,2,     2.97,2,    731,-999.000,  -999.0,  5.1156
     33KI112_1,  PRS2,     2,  2,      6,      7,2,20000229,1758, 22.7472,-158.0030, 4723,    774.3,   4.9016,  34.3296,2,  34.3292,2,     34.6,2,     33.9,2,    92.06,2,    40.35,2,     2.99,2,    776,-999.000,  -999.0,  4.8392
     33KI112_1,  PRS2,     2,  2,      5,     38,2,20000229,1758, 22.7472,-158.0030, 4723,    824.3,   4.8209,  34.3848,2,  34.3856,2,     33.1,2,     33.5,2,    94.00,2,    40.78,2,     3.00,2,    824,-999.000,  -999.0,  4.7546
     33KI112_1,  PRS2,     2,  2,      4,     36,2,20000229,1758, 22.7472,-158.0030, 4723,    867.3,   4.5908,  34.4124,2,  34.4117,2,     36.8,2,     36.7,2,    98.01,2,    40.78,2,     3.00,2,    868,-999.000,  -999.0,  4.5222
     33KI112_1,  PRS2,     2,  2,      3,     35,2,20000229,1758, 22.7472,-158.0030, 4723,    924.3,   4.4644,  34.4269,2,  34.4257,2,     38.0,2,     36.8,2,   101.25,2,    41.03,2,     3.00,2,    925,-999.000,  -999.0,  4.3918
     33KI112_1,  PRS2,     2,  2,      2,     34,2,20000229,1758, 22.7472,-158.0030, 4723,    974.2,   4.2569,  34.4504,2,  34.4484,2,     39.2,2,     39.4,2,   105.13,2,    41.09,2,     3.00,2,    975,-999.000,  -999.0,  4.1816
     33KI112_1,  PRS2,     2,  2,      1,     33,2,20000229,1758, 22.7472,-158.0030, 4723,   1018.6,   4.1228,  34.4722,2,  34.4695,2,     41.7,2,     41.5,2,   107.67,2,    41.50,2,     3.02,2,   1017,-999.000,  -999.0,  4.0447