BOTTLE,20020809WHPSIObren
EXPOCODE,SECT_ID,STNNBR,CASTNO,SAMPNO,BTLNBR,BTLNBR_FLAG_W,DATE,TIME,LATITUDE,LONGITUDE,DEPTH,CTDPRS,CTDTMP,CTDSAL,CTDSAL_FLAG_W,SALNTY,SALNTY_FLAG_W,CTDOXY,CTDOXY_FLAG_W,OXYGEN,OXYGEN_FLAG_W,SILCAT,SILCAT_FLAG_W,NO2+NO3,NO2+NO3_FLAG_W,PHSPHT,PHSPHT_FLAG_W,CTDRAW,REVTMP,REVPRS,THETA
,,,,,,,,,,,,DBAR,ITS-90,PSS-78,,PSS-78,,UMOL/KG,,UMOL/KG,,UMOL/KG,,UMOL/KG,,UMOL/KG,,,DEG C,DBAR,ITS-90
     33KI112_1,  PRS2,     2,  4,     19,     19,2,20000229,2123, 22.7585,-158.0103, 4723,      4.5,  23.5509,  35.1904,2,  35.1886,2,    212.0,1,   -999.0,9,  -999.00,9,  -999.00,9,  -999.00,9,      5,-999.000,  -999.0, 23.5500
     33KI112_1,  PRS2,     2,  4,     18,     18,2,20000229,2123, 22.7585,-158.0103, 4723,      4.5,  23.5477,  35.1905,2,  35.1897,2,    212.0,1,   -999.0,9,  -999.00,9,  -999.00,9,  -999.00,9,      4,-999.000,  -999.0, 23.5468
     33KI112_1,  PRS2,     2,  4,     17,     17,2,20000229,2123, 22.7585,-158.0103, 4723,     25.3,  23.4740,  35.1861,2,  35.1838,2,    213.9,1,   -999.0,9,  -999.00,9,  -999.00,9,  -999.00,9,     25,-999.000,  -999.0, 23.4687
     33KI112_1,  PRS2,     2,  4,     16,     16,2,20000229,2123, 22.7585,-158.0103, 4723,     25.5,  23.4739,  35.1859,2,  35.1891,2,    213.9,1,   -999.0,9,  -999.00,9,  -999.00,9,  -999.00,9,     25,-999.000,  -999.0, 23.4686
     33KI112_1,  PRS2,     2,  4,     15,     15,2,20000229,2123, 22.7585,-158.0103, 4723,     44.6,  23.4288,  35.1758,2,  35.1759,2,    214.3,1,   -999.0,9,  -999.00,9,  -999.00,9,  -999.00,9,     45,-999.000,  -999.0, 23.4196
     33KI112_1,  PRS2,     2,  4,     14,     14,2,20000229,2123, 22.7585,-158.0103, 4723,     76.0,  22.9972,  35.2788,2,  35.2724,2,    214.6,1,   -999.0,9,  -999.00,9,  -999.00,9,  -999.00,9,     77,-999.000,  -999.0, 22.9817
     33KI112_1,  PRS2,     2,  4,     13,     13,2,20000229,2123, 22.7585,-158.0103, 4723,     76.2,  22.9929,  35.2748,2,  35.2730,2,    214.6,1,   -999.0,9,  -999.00,9,  -999.00,9,  -999.00,9,     76,-999.000,  -999.0, 22.9773
     33KI112_1,  PRS2,     2,  4,     12,     12,2,20000229,2123, 22.7585,-158.0103, 4723,     98.8,  22.9067,  35.3586,2,  35.3619,2,    213.5,1,   -999.0,9,  -999.00,9,  -999.00,9,  -999.00,9,     99,-999.000,  -999.0, 22.8865
     33KI112_1,  PRS2,     2,  4,     10,     32,2,20000229,2123, 22.7585,-158.0103, 4723,    124.2,  21.6641,  35.2370,2,  35.2384,2,    205.3,1,   -999.0,9,  -999.00,9,  -999.00,9,  -999.00,9,    126,-999.000,  -999.0, 21.6398
     33KI112_1,  PRS2,     2,  4,     11,     11,2,20000229,2123, 22.7585,-158.0103, 4723,    124.4,  21.6792,  35.2391,2,  35.2418,2,    205.8,1,   -999.0,9,  -999.00,9,  -999.00,9,  -999.00,9,    125,-999.000,  -999.0, 21.6548
     33KI112_1,  PRS2,     2,  4,      9,      3,2,20000229,2123, 22.7585,-158.0103, 4723,    149.8,  21.1523,  35.2550,2,  35.2352,3,    204.7,1,   -999.0,9,  -999.00,9,  -999.00,9,  -999.00,9,    150,-999.000,  -999.0, 21.1235
     33KI112_1,  PRS2,     2,  4,      6,      7,2,20000229,2123, 22.7585,-158.0103, 4723,    175.3,  20.3015,  35.2001,2,  35.2050,2,    196.5,1,   -999.0,9,  -999.00,9,  -999.00,9,  -999.00,9,    176,-999.000,  -999.0, 20.2687
     33KI112_1,  PRS2,     2,  4,      7,     28,2,20000229,2123, 22.7585,-158.0103, 4723,    175.4,  20.2985,  35.2005,2,  35.2104,2,    196.6,1,   -999.0,9,  -999.00,9,  -999.00,9,  -999.00,9,    175,-999.000,  -999.0, 20.2657
     33KI112_1,  PRS2,     2,  4,      8,     29,2,20000229,2123, 22.7585,-158.0103, 4723,    175.5,  20.2945,  35.1991,2,  35.2095,2,    196.9,1,   -999.0,9,  -999.00,9,  -999.00,9,  -999.00,9,    176,-999.000,  -999.0, 20.2617
     33KI112_1,  PRS2,     2,  4,      5,     38,2,20000229,2123, 22.7585,-158.0103, 4723,    226.4,  18.2703,  34.9832,2,  34.9897,2,    199.2,1,   -999.0,9,  -999.00,9,  -999.00,9,  -999.00,9,    227,-999.000,  -999.0, 18.2310
     33KI112_1,  PRS2,     2,  4,      4,     36,2,20000229,2123, 22.7585,-158.0103, 4723,    250.4,  16.9471,  34.7850,2,  34.7907,2,    200.9,1,   -999.0,9,  -999.00,9,  -999.00,9,  -999.00,9,    252,-999.000,  -999.0, 16.9059
     33KI112_1,  PRS2,     2,  4,      3,     35,2,20000229,2123, 22.7585,-158.0103, 4723,    499.2,   7.0692,  34.0312,2,  34.0304,2,    132.5,1,   -999.0,9,  -999.00,9,  -999.00,9,  -999.00,9,    501,-999.000,  -999.0,  7.0219
     33KI112_1,  PRS2,     2,  4,      2,     34,2,20000229,2123, 22.7585,-158.0103, 4723,    749.9,   5.0522,  34.3111,2,  34.3167,2,     34.6,1,   -999.0,9,  -999.00,9,  -999.00,9,  -999.00,9,    749,-999.000,  -999.0,  4.9910
     33KI112_1,  PRS2,     2,  4,      1,     33,2,20000229,2123, 22.7585,-158.0103, 4723,   1018.4,   3.9959,  34.4776,2,  34.4766,2,     42.4,1,   -999.0,9,  -999.00,9,  -999.00,9,  -999.00,9,   1020,-999.000,  -999.0,  3.9188
     33KI112_1,  PRS2,     2,  5,     19,     19,2,20000229,2357, 22.7672,-157.9747, 4710,      4.5,  23.5032,  35.1558,2,  35.1546,2,    215.0,1,   -999.0,9,  -999.00,9,  -999.00,9,  -999.00,9,      5,-999.000,  -999.0, 23.5023
     33KI112_1,  PRS2,     2,  5,     18,     18,2,20000229,2357, 22.7672,-157.9747, 4710,      4.5,  23.5031,  35.1558,2,  35.1565,2,    215.0,1,   -999.0,9,  -999.00,9,  -999.00,9,  -999.00,9,      5,-999.000,  -999.0, 23.5022
     33KI112_1,  PRS2,     2,  5,     17,     17,2,20000229,2357, 22.7672,-157.9747, 4710,     24.4,  23.3968,  35.1616,2,  35.1605,2,    215.6,1,   -999.0,9,  -999.00,9,  -999.00,9,  -999.00,9,     25,-999.000,  -999.0, 23.3917
     33KI112_1,  PRS2,     2,  5,     16,     16,2,20000229,2357, 22.7672,-157.9747, 4710,     24.4,  23.3965,  35.1614,2,  35.1614,2,    215.6,1,   -999.0,9,  -999.00,9,  -999.00,9,  -999.00,9,     25,-999.000,  -999.0, 23.3915
     33KI112_1,  PRS2,     2,  5,     15,     15,2,20000229,2357, 22.7672,-157.9747, 4710,     44.5,  23.4003,  35.1668,2,  35.1665,2,    215.8,1,   -999.0,9,  -999.00,9,  -999.00,9,  -999.00,9,     45,-999.000,  -999.0, 23.3911
     33KI112_1,  PRS2,     2,  5,     14,     14,2,20000229,2357, 22.7672,-157.9747, 4710,     74.7,  22.9932,  35.3239,2,  35.3461,4,    216.8,1,   -999.0,9,  -999.00,9,  -999.00,9,  -999.00,9,     75,-999.000,  -999.0, 22.9779
     33KI112_1,  PRS2,     2,  5,     13,     13,2,20000229,2357, 22.7672,-157.9747, 4710,     74.7,  22.9954,  35.3245,2,  35.3253,2,    216.7,1,   -999.0,9,  -999.00,9,  -999.00,9,  -999.00,9,     75,-999.000,  -999.0, 22.9801
     33KI112_1,  PRS2,     2,  5,     12,     12,2,20000229,2357, 22.7672,-157.9747, 4710,     99.3,  22.5041,  35.3033,2,  35.2994,2,    212.8,1,   -999.0,9,  -999.00,9,  -999.00,9,  -999.00,9,     99,-999.000,  -999.0, 22.4841
     33KI112_1,  PRS2,     2,  5,     11,     11,2,20000229,2357, 22.7672,-157.9747, 4710,    124.1,  21.7048,  35.2378,2,  35.2374,2,    208.6,1,   -999.0,9,  -999.00,9,  -999.00,9,  -999.00,9,    125,-999.000,  -999.0, 21.6804
     33KI112_1,  PRS2,     2,  5,     10,     32,2,20000229,2357, 22.7672,-157.9747, 4710,    124.1,  21.7053,  35.2392,2,  35.2484,2,    208.6,1,   -999.0,9,  -999.00,9,  -999.00,9,  -999.00,9,    124,-999.000,  -999.0, 21.6810
     33KI112_1,  PRS2,     2,  5,      9,      3,2,20000229,2357, 22.7672,-157.9747, 4710,    150.2,  21.5274,  35.4046,2,  35.4080,2,    211.0,1,   -999.0,9,  -999.00,9,  -999.00,9,  -999.00,9,    151,-999.000,  -999.0, 21.4981
     33KI112_1,  PRS2,     2,  5,      6,      7,2,20000229,2357, 22.7672,-157.9747, 4710,    174.5,  20.1622,  35.1926,2,  35.2021,2,    195.2,1,   -999.0,9,  -999.00,9,  -999.00,9,  -999.00,9,    174,-999.000,  -999.0, 20.1297
     33KI112_1,  PRS2,     2,  5,      7,     28,2,20000229,2357, 22.7672,-157.9747, 4710,    174.8,  20.1431,  35.1902,2,  35.1979,2,    195.6,1,   -999.0,9,  -999.00,9,  -999.00,9,  -999.00,9,    175,-999.000,  -999.0, 20.1106
     33KI112_1,  PRS2,     2,  5,      8,     29,2,20000229,2357, 22.7672,-157.9747, 4710,    175.1,  20.1337,  35.1931,2,  35.1955,2,    195.9,1,   -999.0,9,  -999.00,9,  -999.00,9,  -999.00,9,    175,-999.000,  -999.0, 20.1012
     33KI112_1,  PRS2,     2,  5,      5,     38,2,20000229,2357, 22.7672,-157.9747, 4710,    224.9,  18.2057,  34.9630,2,  34.9587,2,    199.2,1,   -999.0,9,  -999.00,9,  -999.00,9,  -999.00,9,    225,-999.000,  -999.0, 18.1667
     33KI112_1,  PRS2,     2,  5,      4,     36,2,20000229,2357, 22.7672,-157.9747, 4710,    250.8,  16.9628,  34.7830,2,  34.7942,2,    201.3,1,   -999.0,9,  -999.00,9,  -999.00,9,  -999.00,9,    250,-999.000,  -999.0, 16.9215
     33KI112_1,  PRS2,     2,  5,      3,     35,2,20000229,2357, 22.7672,-157.9747, 4710,    499.4,   7.3593,  34.0338,2,  34.0344,2,    145.2,1,   -999.0,9,  -999.00,9,  -999.00,9,  -999.00,9,    500,-999.000,  -999.0,  7.3109
     33KI112_1,  PRS2,     2,  5,      2,     34,2,20000229,2357, 22.7672,-157.9747, 4710,    750.2,   4.9972,  34.3184,2,  34.3250,3,     34.5,1,   -999.0,9,  -999.00,9,  -999.00,9,  -999.00,9,    750,-999.000,  -999.0,  4.9363
     33KI112_1,  PRS2,     2,  5,      1,     33,2,20000229,2357, 22.7672,-157.9747, 4710,   1020.1,   4.0001,  34.4712,2,  34.4710,2,     41.4,1,   -999.0,9,  -999.00,9,  -999.00,9,  -999.00,9,   1019,-999.000,  -999.0,  3.9229
     33KI112_1,  PRS2,     2,  6,     17,     17,2,20000301,0257, 22.7495,-158.0007, 4723,      4.5,  23.6081,  35.2002,2,  35.2007,2,    214.3,2,    214.5,2,  -999.00,5,  -999.00,5,  -999.00,5,      5,-999.000,  -999.0, 23.6071
     33KI112_1,  PRS2,     2,  6,     16,     16,2,20000301,0257, 22.7495,-158.0007, 4723,    101.9,  22.1504,  35.2685,2,  35.2828,3,    209.4,3,    212.4,2,  -999.00,5,  -999.00,5,  -999.00,5,    102,-999.000,  -999.0, 22.1302
     33KI112_1,  PRS2,     2,  6,     15,     15,2,20000301,0257, 22.7495,-158.0007, 4723,    208.6,  18.0904,  34.9493,2,  34.9528,2,    199.8,2,    200.0,2,     4.38,3,     2.78,2,     0.32,2,    209,-999.000,  -999.0, 18.0544
     33KI112_1,  PRS2,     2,  6,     14,     14,3,20000301,0257, 22.7495,-158.0007, 4723,    222.9,  17.4239,  34.8456,2,  34.8475,2,    199.6,2,    199.6,2,     3.54,2,     3.38,2,     0.30,2,    224,-999.000,  -999.0, 17.3865
     33KI112_1,  PRS2,     2,  6,     13,     13,2,20000301,0257, 22.7495,-158.0007, 4723,    234.0,  16.9543,  34.7767,2,  34.7745,2,    199.8,2,    199.7,2,     3.89,2,     3.78,2,     0.34,2,    235,-999.000,  -999.0, 16.9158
     33KI112_1,  PRS2,     2,  6,     12,     12,2,20000301,0257, 22.7495,-158.0007, 4723,    249.4,  15.5418,  34.5850,2,  34.5912,2,    199.2,2,    200.1,2,     5.59,2,     5.21,2,     0.44,2,    250,-999.000,  -999.0, 15.5032
     33KI112_1,  PRS2,     2,  6,     11,     11,2,20000301,0257, 22.7495,-158.0007, 4723,    274.4,  14.5622,  34.4948,2,  34.4977,2,    201.8,2,    203.9,2,     6.53,2,     6.58,2,     0.53,2,    275,-999.000,  -999.0, 14.5215
     33KI112_1,  PRS2,     2,  6,     10,     32,2,20000301,0257, 22.7495,-158.0007, 4723,    299.7,  13.0102,  34.3115,2,  34.3177,2,    203.9,2,    202.9,2,     8.59,2,     8.87,2,     0.67,2,    299,-999.000,  -999.0, 12.9691
     33KI112_1,  PRS2,     2,  6,      9,      3,2,20000301,0257, 22.7495,-158.0007, 4723,    324.8,  12.1223,  34.2392,2,  34.2405,2,    203.0,2,    200.9,2,    10.84,2,    10.99,2,     0.81,2,    325,-999.000,  -999.0, 12.0798
     33KI112_1,  PRS2,     2,  6,      8,     29,3,20000301,0257, 22.7495,-158.0007, 4723,    350.3,  11.0403,  34.1663,2,  34.3528,4,    194.4,3,    196.3,2,    12.35,2,    10.97,3,     0.81,3,    350,-999.000,  -999.0, 10.9971
     33KI112_1,  PRS2,     2,  6,      7,     28,2,20000301,0257, 22.7495,-158.0007, 4723,    397.9,   9.7912,  34.0986,2,  34.0990,2,    189.7,2,    189.4,2,    20.53,2,    17.20,2,     1.28,2,    400,-999.000,  -999.0,  9.7457
     33KI112_1,  PRS2,     2,  6,      6,      7,2,20000301,0257, 22.7495,-158.0007, 4723,    499.5,   7.7374,  34.0405,2,  34.0424,2,    154.5,2,    155.6,2,  -999.00,5,  -999.00,5,  -999.00,5,    500,-999.000,  -999.0,  7.6875
     33KI112_1,  PRS2,     2,  6,      5,     38,2,20000301,0257, 22.7495,-158.0007, 4723,    600.2,   6.0030,  34.0695,2,  34.0648,2,     89.2,2,     83.2,2,    64.06,2,    33.83,2,     2.44,2,    600,-999.000,  -999.0,  5.9505
     33KI112_1,  PRS2,     2,  6,      4,     36,2,20000301,0257, 22.7495,-158.0007, 4723,    699.4,   5.1913,  34.2165,2,  34.2174,2,     38.8,2,     36.6,2,    84.65,2,    39.20,2,     2.88,2,    700,-999.000,  -999.0,  5.1339
     33KI112_1,  PRS2,     2,  6,      3,     35,2,20000301,0257, 22.7495,-158.0007, 4723,    799.5,   4.9676,  34.3455,2,  34.3458,2,     36.1,2,     35.1,2,    91.11,2,    40.17,2,     2.96,2,    800,-999.000,  -999.0,  4.9025
     33KI112_1,  PRS2,     2,  6,      2,     34,2,20000301,0257, 22.7495,-158.0007, 4723,    898.7,   4.4843,  34.4100,2,  34.4118,2,     35.9,2,     35.6,2,   100.95,2,    41.11,2,     3.02,2,    900,-999.000,  -999.0,  4.4138
     33KI112_1,  PRS2,     2,  6,      1,     33,2,20000301,0257, 22.7495,-158.0007, 4723,   1020.1,   4.1253,  34.4667,2,  34.4671,2,     40.2,2,     40.5,2,   108.27,2,    41.37,2,     3.02,2,   1020,-999.000,  -999.0,  4.0471
     33KI112_1,  PRS2,     2,  7,     23,     30,2,20000301,0552, 22.7548,-158.0077, 4728,      4.5,  23.5216,  35.1971,2,  35.2054,2,    214.1,2,   -999.0,5,  -999.00,5,  -999.00,5,  -999.00,5,      5,-999.000,  -999.0, 23.5206
     33KI112_1,  PRS2,     2,  7,     22,     22,2,20000301,0552, 22.7548,-158.0077, 4728,      4.5,  23.5217,  35.1972,2,  35.1957,2,    214.1,2,    215.1,2,     1.26,2,     0.00,2,     0.12,2,      5,-999.000,  -999.0, 23.5208
     33KI112_1,  PRS2,     2,  7,     21,     21,2,20000301,0552, 22.7548,-158.0077, 4728,     15.3,  23.5192,  35.1970,2,  35.1952,2,    214.2,2,   -999.0,5,     1.47,2,     0.01,2,     0.13,2,     16,-999.000,  -999.0, 23.5161
     33KI112_1,  PRS2,     2,  7,     20,     20,2,20000301,0552, 22.7548,-158.0077, 4728,     25.0,  23.5185,  35.1983,2,  35.2093,3,    214.3,3,   -999.0,5,  -999.00,5,  -999.00,5,  -999.00,5,     25,-999.000,  -999.0, 23.5133
     33KI112_1,  PRS2,     2,  7,     19,     19,2,20000301,0552, 22.7548,-158.0077, 4728,     25.1,  23.5209,  35.1975,2,  35.1961,2,    214.3,2,    214.5,2,     1.26,2,     0.03,2,     0.12,2,     25,-999.000,  -999.0, 23.5157
     33KI112_1,  PRS2,     2,  7,     18,     18,2,20000301,0552, 22.7548,-158.0077, 4728,     34.3,  23.5067,  35.2037,2,  35.2023,2,    214.7,2,    214.9,2,     1.68,2,     0.00,2,     0.11,2,     34,-999.000,  -999.0, 23.4996
     33KI112_1,  PRS2,     2,  7,     17,     17,2,20000301,0552, 22.7548,-158.0077, 4728,     45.7,  23.4934,  35.2058,2,  35.2041,2,    214.8,2,   -999.0,5,     1.64,2,     0.00,2,     0.13,2,     46,-999.000,  -999.0, 23.4839
     33KI112_1,  PRS2,     2,  7,     16,     16,2,20000301,0552, 22.7548,-158.0077, 4728,     59.4,  23.2913,  35.2029,2,  35.2106,2,    214.8,2,    215.4,2,     1.36,2,     0.01,2,     0.19,3,     60,-999.000,  -999.0, 23.2791
     33KI112_1,  PRS2,     2,  7,     15,     15,2,20000301,0552, 22.7548,-158.0077, 4728,     75.6,  22.9693,  35.3281,2,  35.3267,2,    213.2,2,   -999.0,5,     1.27,2,     0.00,2,     0.10,2,     76,-999.000,  -999.0, 22.9539
     33KI112_1,  PRS2,     2,  7,     14,     14,2,20000301,0552, 22.7548,-158.0077, 4728,     83.3,  22.8069,  35.3476,2,  35.3647,4,    212.8,3,    213.0,2,     1.24,2,    -0.01,2,     0.08,2,     82,-999.000,  -999.0, 22.7900
     33KI112_1,  PRS2,     2,  7,     13,     13,2,20000301,0552, 22.7548,-158.0077, 4728,     95.3,  22.1094,  35.2715,2,  35.2703,2,    209.3,2,    210.6,2,     1.46,2,     0.08,2,     0.11,2,     96,-999.000,  -999.0, 22.0905
     33KI112_1,  PRS2,     2,  7,     12,     12,2,20000301,0552, 22.7548,-158.0077, 4728,    105.5,  21.8314,  35.2426,2,  35.2586,4,    208.4,3,    209.4,2,     1.55,2,     0.17,2,     0.13,2,    106,-999.000,  -999.0, 21.8106
     33KI112_1,  PRS2,     2,  7,     11,     11,2,20000301,0552, 22.7548,-158.0077, 4728,    113.8,  21.6449,  35.2244,2,  35.2271,2,    208.1,2,    208.8,2,     2.59,3,     0.21,2,     0.14,2,    113,-999.000,  -999.0, 21.6226
     33KI112_1,  PRS2,     2,  7,     10,     32,2,20000301,0552, 22.7548,-158.0077, 4728,    124.0,  21.3604,  35.2178,2,  35.2237,2,    206.8,2,   -999.0,5,     1.58,2,     0.36,2,     0.20,2,    124,-999.000,  -999.0, 21.3364
     33KI112_1,  PRS2,     2,  7,      9,      3,2,20000301,0552, 22.7548,-158.0077, 4728,    135.0,  21.2090,  35.2873,2,  35.2882,2,    205.6,2,    205.3,2,     1.59,2,     0.55,2,     0.15,2,    137,-999.000,  -999.0, 21.1830
     33KI112_1,  PRS2,     2,  7,      8,     29,2,20000301,0552, 22.7548,-158.0077, 4728,    148.6,  20.9475,  35.3038,2,  35.3053,2,    205.5,2,    203.9,2,     1.71,2,     0.87,2,     0.15,2,    149,-999.000,  -999.0, 20.9191
     33KI112_1,  PRS2,     2,  7,      7,     28,2,20000301,0552, 22.7548,-158.0077, 4728,    159.4,  20.4171,  35.2108,2,  35.2151,2,    197.3,2,   -999.0,5,  -999.00,5,  -999.00,5,  -999.00,5,    158,-999.000,  -999.0, 20.3872
     33KI112_1,  PRS2,     2,  7,      6,      7,2,20000301,0552, 22.7548,-158.0077, 4728,    174.5,  19.9655,  35.1843,2,  35.1888,2,    199.2,2,    198.9,2,     2.06,2,     1.64,2,     0.23,2,    174,-999.000,  -999.0, 19.9332
     33KI112_1,  PRS2,     2,  7,      5,     38,2,20000301,0552, 22.7548,-158.0077, 4728,    186.0,  19.7209,  35.1759,2,  35.1800,2,    201.3,2,    200.2,2,  -999.00,5,  -999.00,5,  -999.00,5,    187,-999.000,  -999.0, 19.6868
     33KI112_1,  PRS2,     2,  7,      4,     36,2,20000301,0552, 22.7548,-158.0077, 4728,    200.9,  19.1731,  35.0968,2,  35.1103,2,    199.9,2,    199.1,2,     2.98,2,     2.14,2,     0.23,2,    201,-999.000,  -999.0, 19.1370
     33KI112_1,  PRS2,     2,  7,      3,     35,2,20000301,0552, 22.7548,-158.0077, 4728,    500.0,   7.5078,  34.0396,2,  34.0443,2,    151.1,2,    119.4,3,  -999.00,5,  -999.00,5,  -999.00,5,    500,-999.000,  -999.0,  7.4587
     33KI112_1,  PRS2,     2,  7,      2,     34,2,20000301,0552, 22.7548,-158.0077, 4728,    749.6,   5.0960,  34.3033,2,  34.3270,4,     34.4,3,     37.5,2,  -999.00,5,  -999.00,5,  -999.00,5,    752,-999.000,  -999.0,  5.0346
     33KI112_1,  PRS2,     2,  7,      1,     33,2,20000301,0552, 22.7548,-158.0077, 4728,   1019.2,   4.1182,  34.4758,2,  34.4739,2,     42.7,2,     42.7,2,  -999.00,5,  -999.00,5,  -999.00,5,   1020,-999.000,  -999.0,  4.0400