BOTTLE,20170320PRINUNIVRMK
EXPOCODE,SECT_ID,STNNBR,CASTNO,SAMPNO,BTLNBR,BTLNBR_FLAG_W,DATE,TIME,LATITUDE,LONGITUDE,DEPTH,CTDPRS,CTDTMP,CTDSAL,CTDSAL_FLAG_W,SALNTY,SALNTY_FLAG_W,CTDOXY,CTDOXY_FLAG_W,OXYGEN,OXYGEN_FLAG_W,SILCAT,SILCAT_FLAG_W,NITRAT,NITRAT_FLAG_W,NITRIT,NITRIT_FLAG_W,PHSPHT,PHSPHT_FLAG_W,CFC-11,CFC-11_FLAG_W,CFC-12,CFC-12_FLAG_W,CFC113,CFC113_FLAG_W,SF6,SF6_FLAG_W,THETA,SBE35,SBE35_FLAG_W
,,,,,,,,,,,METERS,DBAR,ITS-90,PSS-78,,PSS-78,,UMOL/KG,,UMOL/KG,,UMOL/KG,,UMOL/KG,,UMOL/KG,,UMOL/KG,,PMOL/KG,,PMOL/KG,,PMOL/KG,,FMOL/KG,,DEG C,ITS-90,
  316N20111106,  GT11,    13,  2,     13,     99,2,20111125,1943, 28.6441, -53.2258, 5454,      1.2,  25.2396,  36.8963,2,  36.9064,2,   -999.0,9,   -999.0,9,  -999.00,9,  -999.00,9,  -999.00,9,  -999.00,9, -999.000,9, -999.000,9, -999.000,9,     -999,9,  25.2393,-999.0000,9
  316N20111106,  GT11,    13,  2,     12,     12,2,20111125,1943, 28.6441, -53.2258, 5454,     45.5,  25.1845,  36.8959,2,  36.9074,2,    204.9,2,    205.6,2,     0.29,2,     0.00,2,     0.00,2,     0.00,2,    1.721,2,    1.721,3,    0.146,2,     1.15,2,  25.1745,  25.1828,2
  316N20111106,  GT11,    13,  2,     11,     11,2,20111125,1943, 28.6441, -53.2258, 5454,    100.3,  20.6064,  36.8225,2,  36.8194,2,    217.6,2,    216.7,2,     0.10,2,     0.00,2,     0.03,2,     0.00,2,    2.166,2,    2.166,3,    0.161,2,      1.3,2,  20.5873,  20.6081,2
  316N20111106,  GT11,    13,  2,     10,     10,2,20111125,1943, 28.6441, -53.2258, 5454,    135.8,  19.5650,  36.7193,2,  36.7182,2,    199.7,2,    200.6,2,     0.29,2,     0.60,2,     0.01,2,     0.00,2,    2.236,2,    2.236,3,    0.110,2,     1.25,2,  19.5401,  19.5661,2
  316N20111106,  GT11,    13,  2,      9,      9,2,20111125,1943, 28.6441, -53.2258, 5454,    186.3,  18.4191,  36.5885,2,  36.5854,2,    195.5,2,    196.3,2,     0.68,2,     3.33,2,     0.00,2,     0.12,2,    2.323,2,    2.323,3,    0.034,2,     1.28,2,  18.3863,  18.4253,2
  316N20111106,  GT11,    13,  2,      8,      8,2,20111125,1943, 28.6441, -53.2258, 5454,    235.9,  17.9294,  36.5256,2,  36.5245,2,    201.1,2,    201.4,2,     0.88,2,     4.18,2,     0.00,2,     0.19,2,    2.363,2,    2.363,3,    0.044,2,     1.24,2,  17.8886,  17.9281,2
  316N20111106,  GT11,    13,  2,      7,      7,2,20111125,1943, 28.6441, -53.2258, 5454,    286.1,  17.5859,  36.4806,2,  36.4780,2,    200.4,2,    201.5,2,     1.07,2,     4.81,2,     0.00,2,     0.23,2,    2.397,2,    2.397,3,    0.027,2,     1.23,2,  17.5370,  17.5864,2
  316N20111106,  GT11,    13,  2,      6,      6,2,20111125,1943, 28.6441, -53.2258, 5454,    351.3,  17.1521,  36.4109,2,  36.4094,2,    201.5,2,    201.5,2,     1.27,2,     5.49,2,     0.00,2,     0.27,2,    2.423,2,    2.423,3,    0.036,2,     1.25,2,  17.0930,  17.1532,2
  316N20111106,  GT11,    13,  2,      5,     15,2,20111125,1943, 28.6441, -53.2258, 5454,    424.1,  16.3619,  36.2638,2,  36.2641,2,    196.6,2,    196.2,2,     1.85,2,     7.13,2,     0.00,2,     0.39,2,    2.459,2,    2.459,3,    0.020,2,     1.18,2,  16.2927,  16.3654,2
  316N20111106,  GT11,    13,  2,      4,      4,2,20111125,1943, 28.6441, -53.2258, 5454,    535.4,  14.5587,  35.9584,2,  35.9640,2,    183.3,2,    183.1,2,     3.41,2,    10.99,2,     0.00,2,     0.64,2,    2.486,2,    2.486,3,    0.025,2,     0.99,2,  14.4777,  14.5540,2
  316N20111106,  GT11,    13,  2,      3,      3,2,20111125,1943, 28.6441, -53.2258, 5454,    669.6,  12.2281,  35.6274,2,  35.6284,2,    166.3,2,    166.6,2,     6.63,2,    16.50,2,     0.00,2,     1.01,2,    2.080,2,    2.080,3,    0.024,2,     0.69,2,  12.1374,  12.2277,2
  316N20111106,  GT11,    13,  2,      2,      2,2,20111125,1943, 28.6441, -53.2258, 5454,    853.9,   8.7319,  35.2238,2,  35.2214,2,    152.2,2,    151.9,2,    13.95,2,    23.61,2,     0.00,2,     1.52,2,    0.899,2,    0.899,3,    0.010,2,     0.22,2,   8.6370,   8.7316,2
  316N20111106,  GT11,    13,  2,      1,      1,2,20111125,1943, 28.6441, -53.2258, 5454,   1008.0,   7.0433,  35.1165,2,  35.1133,2,    168.7,2,    170.1,2,    16.00,2,    23.65,2,     0.00,2,     1.57,2,    0.608,2,    0.608,3,    0.010,2,     0.17,2,   6.9429,   7.0441,2
  316N20111106,  GT11,    14,  2,     12,     12,2,20111126,1531, 27.5831, -49.6330, 4884,     40.5,  25.3570,  36.9124,2,  36.9120,2,    204.9,2,    205.3,2,     0.39,2,     0.00,2,     0.00,2,     0.00,2,    1.706,2,    1.065,2,    0.153,2,     1.15,2,  25.3481,  25.3577,2
  316N20111106,  GT11,    14,  2,     11,     11,2,20111126,1531, 27.5831, -49.6330, 4884,     70.0,  23.4370,  37.0248,2,  37.0287,2,    231.7,2,    231.9,2,     0.19,2,     0.00,2,     0.00,2,     0.00,2,    2.002,2,    1.242,2,    0.165,2,     1.27,2,  23.4224,  23.4591,3
  316N20111106,  GT11,    14,  2,     10,     10,2,20111126,1531, 27.5831, -49.6330, 4884,     99.9,  21.8822,  37.0416,2,  37.0341,2,    216.4,2,    213.8,2,     0.10,2,     0.01,2,     0.02,2,     0.00,2,    2.052,2,    1.274,2,    0.154,2,     1.28,2,  21.8623,  21.8933,3
  316N20111106,  GT11,    14,  2,      9,      9,2,20111126,1531, 27.5831, -49.6330, 4884,    114.8,  21.1657,  36.9478,2,  36.9453,2,    209.0,2,    209.5,2,     0.10,2,     0.01,2,     0.10,2,     0.05,2,    2.088,2,    1.285,2,    0.154,2,      1.3,2,  21.1434,  21.1719,2
  316N20111106,  GT11,    14,  2,      8,      8,2,20111126,1531, 27.5831, -49.6330, 4884,    134.9,  20.3057,  36.8306,2,  36.8324,2,    206.6,2,    206.2,2,     0.10,2,     0.14,2,     0.07,2,     0.00,2,    2.143,2,    1.309,2,    0.142,2,     1.31,2,  20.2803,  20.3003,2
  316N20111106,  GT11,    14,  2,      7,      7,2,20111126,1531, 27.5831, -49.6330, 4884,    185.5,  18.9106,  36.6765,2,  36.6689,2,    189.5,2,    190.1,2,     0.58,2,     2.72,2,     0.00,2,     0.07,2,    2.268,2,    1.372,2,    0.056,2,     1.23,2,  18.8773,  18.9103,2
  316N20111106,  GT11,    14,  2,      6,      6,2,20111126,1531, 27.5831, -49.6330, 4884,    235.8,  18.1431,  36.5708,2,  36.5714,2,    193.3,2,    193.3,2,     0.78,2,     4.26,2,     0.00,2,     0.18,2,    2.327,2,    1.395,2,    0.040,2,     1.16,2,  18.1019,  18.1416,2
  316N20111106,  GT11,    14,  2,      5,     15,2,20111126,1531, 27.5831, -49.6330, 4884,    287.7,  17.6682,  36.4913,2,  36.4931,2,    197.9,2,    198.3,2,     0.97,2,     4.91,2,     0.00,2,     0.22,2,    2.382,2,    1.411,2,    0.028,2,      1.2,2,  17.6188,  17.6688,2
  316N20111106,  GT11,    14,  2,      4,      4,2,20111126,1531, 27.5831, -49.6330, 4884,    432.8,  16.0569,  36.2071,2,  36.2088,2,    191.4,2,    189.3,2,     2.14,2,     8.28,2,     0.00,2,     0.45,2,    2.450,2,    1.426,2,    0.036,2,     1.13,2,  15.9872,  16.0568,2
  316N20111106,  GT11,    14,  2,      3,      3,2,20111126,1531, 27.5831, -49.6330, 4884,    653.7,  12.0871,  35.5897,2,  35.5867,2,    162.9,2,    162.1,2,     7.22,2,    17.41,2,     0.00,2,     1.06,2,    1.955,2,    1.056,2,    0.022,2,     0.67,2,  11.9993,  12.0881,2
  316N20111106,  GT11,    14,  2,      2,      2,2,20111126,1531, 27.5831, -49.6330, 4884,    781.4,   9.3581,  35.2758,2,  35.2771,2,    153.2,2,    153.4,2,    12.10,2,    22.51,2,     0.00,2,     1.43,2,    1.184,2,    0.604,2,    0.014,2,     0.32,2,   9.2680,   9.3552,2
  316N20111106,  GT11,    14,  2,      1,      1,2,20111126,1531, 27.5831, -49.6330, 4884,   1210.8,   5.9021,  35.1312,2,  35.1297,2,    207.7,2,    208.2,2,    14.44,2,    20.86,2,     0.00,2,     1.41,2,    0.856,2,    0.415,2,    0.017,2,     0.19,2,   5.7900,   5.9030,2
  316N20111106,  GT11,    14,  4,     13,     99,2,20111126,2238, 27.5831, -49.6330, 4884,      1.0,  25.5047,  36.9948,2,  36.9973,2,   -999.0,9,   -999.0,9,  -999.00,9,  -999.00,9,  -999.00,9,  -999.00,9, -999.000,9, -999.000,9, -999.000,9,     -999,9,  25.5045,-999.0000,9
  316N20111106,  GT11,    14,  4,     12,     12,2,20111126,2238, 27.5831, -49.6330, 4884,     19.8,  25.4760,  36.9925,2,  36.9917,2,    205.1,2,    205.2,2,     0.29,2,     0.01,2,     0.00,2,     0.00,2, -999.000,9, -999.000,9, -999.000,9,     -999,9,  25.4716,  25.4754,2
  316N20111106,  GT11,    14,  4,     11,     11,2,20111126,2238, 27.5831, -49.6330, 4884,     39.9,  25.4635,  36.9987,2,  37.0020,2,    205.3,2,    205.4,2,     0.29,2,     0.00,2,     0.00,2,     0.00,2, -999.000,9, -999.000,9, -999.000,9,     -999,9,  25.4547,  25.4648,2
  316N20111106,  GT11,    14,  4,     10,     10,2,20111126,2238, 27.5831, -49.6330, 4884,     70.3,  22.8816,  37.0082,2,  37.0099,2,    230.1,2,    230.1,2,     0.10,2,     0.00,2,     0.00,2,     0.00,2, -999.000,9, -999.000,9, -999.000,9,     -999,9,  22.8672,  22.8832,2
  316N20111106,  GT11,    14,  4,      9,      9,2,20111126,2238, 27.5831, -49.6330, 4884,     95.1,  21.7541,  37.0261,2,  37.0232,2,    212.4,2,    213.0,2,     0.10,2,     0.00,2,     0.03,2,     0.00,2, -999.000,9, -999.000,9, -999.000,9,     -999,9,  21.7353,  21.7563,2
  316N20111106,  GT11,    14,  4,      8,      8,2,20111126,2238, 27.5831, -49.6330, 4884,    114.8,  20.9341,  36.9155,2,  36.9099,2,    209.0,2,    208.6,2,     0.00,2,     0.00,2,     0.10,2,     0.00,2, -999.000,9, -999.000,9, -999.000,9,     -999,9,  20.9120,  20.9273,2
  316N20111106,  GT11,    14,  4,      7,      7,2,20111126,2238, 27.5831, -49.6330, 4884,    135.6,  20.1596,  36.8092,2,  36.8106,2,    205.5,2,    206.0,2,     0.10,2,     0.15,2,     0.06,2,     0.00,2, -999.000,9, -999.000,9, -999.000,9,     -999,9,  20.1342,  20.1600,2
  316N20111106,  GT11,    14,  4,      6,      6,2,20111126,2238, 27.5831, -49.6330, 4884,    186.3,  18.9250,  36.6735,2,  36.6753,2,    191.0,2,    190.5,2,     0.49,2,     2.45,2,     0.00,2,     0.06,2, -999.000,9, -999.000,9, -999.000,9,     -999,9,  18.8915,  18.9202,2
  316N20111106,  GT11,    14,  4,      5,     15,2,20111126,2238, 27.5831, -49.6330, 4884,    236.9,  18.2178,  36.5831,2,  36.5833,2,    191.1,2,    191.8,2,     0.78,2,     4.22,2,     0.00,2,     0.17,2, -999.000,9, -999.000,9, -999.000,9,     -999,9,  18.1763,  18.2199,2
  316N20111106,  GT11,    14,  4,      4,      4,2,20111126,2238, 27.5831, -49.6330, 4884,    287.9,  17.5476,  36.4730,2,  36.4747,2,    197.6,2,    197.5,2,     1.07,2,     5.14,2,     0.00,2,     0.23,2, -999.000,9, -999.000,9, -999.000,9,     -999,9,  17.4984,  17.5465,2
  316N20111106,  GT11,    14,  4,      3,      3,2,20111126,2238, 27.5831, -49.6330, 4884,    432.0,  16.1433,  36.2235,2,  36.2335,4,    190.0,2,    190.0,2,     2.05,2,     7.98,2,     0.00,2,     0.43,2, -999.000,9, -999.000,9, -999.000,9,     -999,9,  16.0734,  16.1486,2
  316N20111106,  GT11,    14,  4,      2,      2,2,20111126,2238, 27.5831, -49.6330, 4884,    554.4,  14.0395,  35.8665,2,  35.8634,2,    174.5,2,    174.5,2,     4.39,2,    12.91,2,     0.00,2,     0.76,2, -999.000,9, -999.000,9, -999.000,9,     -999,9,  13.9576,  14.0377,2
  316N20111106,  GT11,    14,  4,      1,      1,2,20111126,2238, 27.5831, -49.6330, 4884,    778.3,   9.9266,  35.3421,2,  35.3416,2,    153.2,2,    153.3,2,    11.02,2,    21.49,2,     0.00,2,     1.37,2, -999.000,9, -999.000,9, -999.000,9,     -999,9,   9.8337,   9.9283,2
  316N20111106,  GT11,    14,  6,     12,     12,2,20111126,0428, 27.5831, -49.6330, 4884,    975.0,   7.0308,  35.1220,2,  35.1222,2,    168.9,2,    171.9,2,    15.61,2,    23.73,2,     0.00,2,     1.54,2,    0.680,3,    0.325,2,    0.017,2,     0.18,2,   6.9340,   7.0317,2
  316N20111106,  GT11,    14,  6,     11,     11,2,20111126,0428, 27.5831, -49.6330, 4884,   1463.9,   5.2324,  35.1390,2,  35.1402,2,    226.8,2,    226.6,2,    14.34,2,    19.30,2,     0.00,2,     1.27,2,    0.820,2,    0.399,2,    0.029,2,     0.19,2,   5.1016,   5.2325,2
  316N20111106,  GT11,    14,  6,     10,     10,2,20111126,0428, 27.5831, -49.6330, 4884,   1815.2,   4.0722,  35.0494,2,  35.0488,2,    244.9,2,    245.4,2,    17.95,2,    18.75,2,     0.00,2,     1.25,2,    0.648,2,    0.308,2,    0.018,2,     0.15,2,   3.9213,   4.0711,2
  316N20111106,  GT11,    14,  6,      9,      9,2,20111126,0428, 27.5831, -49.6330, 4884,   2121.2,   3.5666,  35.0037,2,  35.0061,2,    249.7,2,    249.5,2,    21.37,2,    18.93,2,     0.00,2,     1.27,2,    0.521,2,    0.245,2,    0.014,2,      0.1,2,   3.3937,   3.5666,2
  316N20111106,  GT11,    14,  6,      8,      8,2,20111126,0428, 27.5831, -49.6330, 4884,   2426.5,   3.2194,  34.9734,2,  34.9746,2,    250.9,2,    250.7,2,    25.57,2,    19.27,2,     0.00,2,     1.30,2,    0.364,2,    0.174,2,    0.011,2,     0.09,2,   3.0226,   3.2196,2
  316N20111106,  GT11,    14,  6,      7,      7,2,20111126,0428, 27.5831, -49.6330, 4884,   2734.2,   2.9924,  34.9533,2,  34.9549,2,    251.0,2,    252.0,2,    29.08,2,    19.59,2,     0.00,2,     1.33,2,    0.265,2,    0.130,2,    0.009,2,     0.08,2,   2.7691,   2.9930,2
  316N20111106,  GT11,    14,  6,      6,      6,2,20111126,0428, 27.5831, -49.6330, 4884,   3040.7,   2.7763,  34.9345,2,  34.9344,2,    251.4,2,    251.4,2,    32.79,2,    19.96,2,     0.00,2,     1.36,2,    0.138,2,    0.066,2,    0.005,2,        0,2,   2.5261,   2.7765,2
  316N20111106,  GT11,    14,  6,      5,     15,2,20111126,0428, 27.5831, -49.6330, 4884,   3448.5,   2.5274,  34.9129,2,  34.9132,2,    253.0,2,    253.6,2,    36.30,2,    20.14,2,     0.00,2,     1.39,2,    0.064,2,    0.035,2,    0.003,2,        0,2,   2.2398,   2.5276,2
  316N20111106,  GT11,    14,  6,      4,      4,2,20111126,0428, 27.5831, -49.6330, 4884,   3857.3,   2.3397,  34.8948,2,  34.8953,2,    254.6,2,    255.5,2,    39.33,2,    20.41,2,     0.00,2,     1.41,2,    0.062,2,    0.036,2,    0.002,2,        0,2,   2.0120,   2.3397,2
  316N20111106,  GT11,    14,  6,      3,      3,2,20111126,0428, 27.5831, -49.6330, 4884,   4059.6,   2.2638,  34.8865,2,  34.8868,2,    254.9,2,    254.8,2,    40.99,2,    20.56,2,     0.00,2,     1.42,2,    0.070,2,    0.044,2,    0.003,2,        0,2,   1.9154,   2.2639,2
  316N20111106,  GT11,    14,  6,      2,      2,2,20111126,0428, 27.5831, -49.6330, 4884,   4166.3,   2.2644,  34.8854,2,  34.8870,2,    254.8,2,    255.3,2,    41.48,2,    20.63,2,     0.00,2,     1.42,2,    0.073,2,    0.040,2,    0.002,2,        0,2,   1.9037,   2.2637,2
  316N20111106,  GT11,    14,  6,      1,      1,2,20111126,0428, 27.5831, -49.6330, 4884,   4293.4,   2.2398,  34.8820,2,  34.8823,2,    255.0,2,    255.5,2,    42.16,2,    20.68,2,     0.00,2,     1.43,2,    0.071,2,    0.041,2,    0.002,2,        0,2,   1.8650,   2.2399,2
  316N20111106,  GT11,    15,  2,     13,     99,2,20111128,0607, 26.8571, -47.2301, 4244,      0.7,  25.2471,  37.0754,2,  37.0829,2,   -999.0,9,   -999.0,9,  -999.00,9,  -999.00,9,  -999.00,9,  -999.00,9, -999.000,9, -999.000,9, -999.000,9,     -999,9,  25.2469,-999.0000,9
  316N20111106,  GT11,    15,  2,     12,     12,2,20111128,0607, 26.8571, -47.2301, 4244,     51.3,  25.2596,  37.0744,2,  37.0740,2,    204.8,2,    205.3,2,     0.19,2,     0.00,2,     0.00,2,     0.00,2,    1.733,2,    1.068,2,    0.152,2,     1.23,2,  25.2483,  25.2604,2
  316N20111106,  GT11,    15,  2,     11,     11,2,20111128,0607, 26.8571, -47.2301, 4244,     95.9,  21.8409,  36.9411,2,  36.9431,2,    210.6,2,    211.7,2,     0.10,2,     0.00,2,     0.04,2,     0.00,2,    2.072,2,    1.257,2,    0.149,2,      1.3,2,  21.8219,  21.8393,2
  316N20111106,  GT11,    15,  2,     10,     10,2,20111128,0607, 26.8571, -47.2301, 4244,    137.3,  20.1866,  36.8148,2,  36.8191,2,    207.8,2,    206.8,2,     0.10,2,     0.28,2,     0.02,2,     0.00,2,    2.180,2,    1.309,2,    0.152,2,     1.36,2,  20.1608,  20.1877,2
  316N20111106,  GT11,    15,  2,      9,      9,2,20111128,0607, 26.8571, -47.2301, 4244,    186.1,  18.9299,  36.6570,2,  36.6499,2,    192.1,2,    193.3,2,     0.39,2,     2.32,2,     0.00,2,     0.05,2,    2.292,2,    1.367,2,    0.053,2,     1.34,2,  18.8965,  18.8994,2
  316N20111106,  GT11,    15,  2,      8,      8,2,20111128,0607, 26.8571, -47.2301, 4244,    236.5,  18.1941,  36.5632,2,  36.5620,2,    197.8,2,    198.0,2,     0.78,2,     3.91,2,     0.00,2,     0.16,2,    2.387,2,    1.398,2,    0.036,2,     1.32,2,  18.1527,  18.1968,2
  316N20111106,  GT11,    15,  2,      7,      7,2,20111128,0607, 26.8571, -47.2301, 4244,    287.2,  17.7457,  36.5030,2,  36.5038,2,    199.2,2,    199.5,2,     0.88,2,     4.66,2,     0.00,2,     0.21,2,    2.398,2,    1.406,2,    0.041,2,     1.25,2,  17.6963,  17.7458,2
  316N20111106,  GT11,    15,  2,      6,      6,2,20111128,0607, 26.8571, -47.2301, 4244,    352.6,  17.3221,  36.4373,2,  36.4370,2,    201.2,2,    201.3,2,     1.17,2,     5.23,2,     0.00,2,     0.25,2,    2.416,2,    1.409,2,    0.045,2,     1.27,2,  17.2623,  17.3227,2
  316N20111106,  GT11,    15,  2,      5,     15,2,20111128,0607, 26.8571, -47.2301, 4244,    424.1,  16.4769,  36.2838,2,  36.2921,2,    191.3,2,    191.8,2,     1.85,2,     7.26,2,     0.00,2,     0.39,2,    2.457,2,    1.422,2,    0.039,2,     1.15,2,  16.4073,  16.4919,2
  316N20111106,  GT11,    15,  2,      4,      4,2,20111128,0607, 26.8571, -47.2301, 4244,    533.3,  14.2685,  35.9042,2,  35.9074,2,    176.1,2,    175.8,2,     4.00,2,    12.29,2,     0.00,2,     0.73,2,    2.395,2,    1.346,2,    0.032,2,     0.98,2,  14.1890,  14.2789,2
  316N20111106,  GT11,    15,  2,      3,      3,2,20111128,0607, 26.8571, -47.2301, 4244,    667.9,  11.5169,  35.5204,2,  35.5283,2,    157.0,2,    155.5,2,     8.10,2,    18.70,2,     0.00,2,     1.16,2,    1.795,2,    0.932,2,    0.020,2,     0.59,2,  11.4299,  11.5139,2
  316N20111106,  GT11,    15,  2,      2,      2,2,20111128,0607, 26.8571, -47.2301, 4244,    805.5,   8.9221,  35.2154,2,  35.2215,2,    148.4,2,    149.1,2,    13.46,2,    23.65,2,     0.00,2,     1.53,2,    0.959,2,    0.474,2,    0.011,2,     0.26,2,   8.8317,   8.9355,2
  316N20111106,  GT11,    15,  2,      1,      1,2,20111128,0607, 26.8571, -47.2301, 4244,   1008.3,   6.8467,  35.1050,2,  35.1026,2,    174.6,2,    174.4,2,    16.10,2,    23.59,2,     0.00,2,     1.59,2,    0.671,2,    0.320,2,    0.009,2,     0.16,2,   6.7477,   6.8428,2