BOTTLE,20170320PRINUNIVRMK
EXPOCODE,SECT_ID,STNNBR,CASTNO,SAMPNO,BTLNBR,BTLNBR_FLAG_W,DATE,TIME,LATITUDE,LONGITUDE,DEPTH,CTDPRS,CTDTMP,CTDSAL,CTDSAL_FLAG_W,SALNTY,SALNTY_FLAG_W,CTDOXY,CTDOXY_FLAG_W,OXYGEN,OXYGEN_FLAG_W,SILCAT,SILCAT_FLAG_W,NITRAT,NITRAT_FLAG_W,NITRIT,NITRIT_FLAG_W,PHSPHT,PHSPHT_FLAG_W,CFC-11,CFC-11_FLAG_W,CFC-12,CFC-12_FLAG_W,CFC113,CFC113_FLAG_W,SF6,SF6_FLAG_W,THETA,SBE35,SBE35_FLAG_W
,,,,,,,,,,,METERS,DBAR,ITS-90,PSS-78,,PSS-78,,UMOL/KG,,UMOL/KG,,UMOL/KG,,UMOL/KG,,UMOL/KG,,UMOL/KG,,PMOL/KG,,PMOL/KG,,PMOL/KG,,FMOL/KG,,DEG C,ITS-90,
  316N20111106,  GT11,    10,  8,     12,     12,2,20111119,0215, 31.7565, -64.1786, 4637,     40.9,  24.0219,  36.6026,2,  36.6007,2,    209.2,2,    209.4,2,     0.39,2,     0.00,2,     0.00,2,     0.00,2, -999.000,9, -999.000,9, -999.000,9,     -999,9,  24.0132,  24.0206,2
  316N20111106,  GT11,    10,  8,     11,     11,2,20111119,0215, 31.7565, -64.1786, 4637,     75.6,  24.0349,  36.6604,2,  36.6618,2,    208.6,2,    209.6,2,     0.19,2,     0.00,2,     0.00,2,     0.00,2, -999.000,9, -999.000,9, -999.000,9,     -999,9,  24.0189,  24.0355,2
  316N20111106,  GT11,    10,  8,     10,     10,2,20111119,0215, 31.7565, -64.1786, 4637,     90.7,  21.3320,  36.6940,2,  36.6945,2,    226.5,2,    225.5,2,     0.00,2,     0.00,2,     0.01,2,     0.00,2, -999.000,9, -999.000,9, -999.000,9,     -999,9,  21.3143,  21.3314,2
  316N20111106,  GT11,    10,  8,      9,      9,2,20111119,0215, 31.7565, -64.1786, 4637,    111.1,  19.8595,  36.6890,2,  36.6879,2,    210.4,2,    210.4,2,     0.19,2,     0.12,2,     0.15,2,     0.00,2, -999.000,9, -999.000,9, -999.000,9,     -999,9,  19.8389,  19.8735,2
  316N20111106,  GT11,    10,  8,      8,      8,2,20111119,0215, 31.7565, -64.1786, 4637,    186.6,  18.4258,  36.5987,2,  36.5987,2,    200.0,2,    200.5,2,     0.49,2,     3.17,2,     0.00,2,     0.10,2, -999.000,9, -999.000,9, -999.000,9,     -999,9,  18.3929,  18.4272,2
  316N20111106,  GT11,    10,  8,      7,      7,2,20111119,0215, 31.7565, -64.1786, 4637,    287.1,  17.9605,  36.5595,2,  36.5628,2,    206.8,2,    206.5,2,     0.78,2,     3.89,2,     0.00,2,     0.15,2, -999.000,9, -999.000,9, -999.000,9,     -999,9,  17.9107,  17.9605,2
  316N20111106,  GT11,    10,  8,      6,      6,2,20111119,0215, 31.7565, -64.1786, 4637,    504.6,  16.7199,  36.3323,2,  36.3332,2,    201.3,2,    200.9,2,     1.56,2,     6.41,2,     0.00,2,     0.31,2, -999.000,9, -999.000,9, -999.000,9,     -999,9,  16.6361,  16.7196,2
  316N20111106,  GT11,    10,  8,      5,     15,2,20111119,0215, 31.7565, -64.1786, 4637,    803.8,  10.1937,  35.3095,2,  35.3120,2,    143.2,2,    143.2,2,    11.41,2,    22.53,2,     0.00,2,     1.40,2, -999.000,9, -999.000,9, -999.000,9,     -999,9,  10.0961,  10.1945,2
  316N20111106,  GT11,    10,  8,      4,      4,2,20111119,0215, 31.7565, -64.1786, 4637,    978.6,   6.9400,  35.1067,2,  35.1100,2,    185.5,2,    185.7,2,    13.27,2,    21.74,2,     0.00,2,     1.41,2, -999.000,9, -999.000,9, -999.000,9,     -999,9,   6.8435,   6.9379,2
  316N20111106,  GT11,    10,  8,      3,      3,2,20111119,0215, 31.7565, -64.1786, 4637,   1512.3,   4.2945,  34.9873,2,  34.9896,2,    257.2,2,    257.3,2,    11.51,2,    17.68,2,     0.00,2,     1.16,2, -999.000,9, -999.000,9, -999.000,9,     -999,9,   4.1698,   4.2944,2
  316N20111106,  GT11,    10,  8,      2,      2,2,20111119,0215, 31.7565, -64.1786, 4637,   2124.7,   3.5040,  34.9615,2,  34.9616,2,    263.6,2,    263.7,2,    15.32,2,    17.72,2,     0.00,2,     1.19,2, -999.000,9, -999.000,9, -999.000,9,     -999,9,   3.3319,   3.5040,2
  316N20111106,  GT11,    10,  8,      1,      1,2,20111119,0215, 31.7565, -64.1786, 4637,   2125.0,   3.5040,  34.9616,2,  34.9614,2,    263.6,2,    263.7,2,    15.42,2,    17.79,2,     0.00,2,     1.20,2, -999.000,9, -999.000,9, -999.000,9,     -999,9,   3.3319,   3.5044,2
  316N20111106,  GT11,    10, 10,     12,     12,2,20111119,0614, 31.7565, -64.1786, 4637,   2123.5,   3.5275,  34.9657,2,  34.9654,2,    264.1,2,    263.1,2,    16.00,2,    17.85,2,     0.00,2,     1.19,2, -999.000,9, -999.000,9, -999.000,9,     -999,9,   3.3551,   3.5274,2
  316N20111106,  GT11,    10, 10,     11,     11,2,20111119,0614, 31.7565, -64.1786, 4637,   2123.9,   3.5277,  34.9656,2,  34.9660,2,    264.1,2,    263.3,2,    16.00,2,    17.79,2,     0.00,2,     1.18,2, -999.000,9, -999.000,9, -999.000,9,     -999,9,   3.3553,   3.5272,2
  316N20111106,  GT11,    10, 10,     10,     10,2,20111119,0614, 31.7565, -64.1786, 4637,   2327.4,   3.3404,  34.9610,2,  34.9603,2,    262.2,2,    262.2,2,    18.25,2,    18.02,2,     0.00,2,     1.24,2, -999.000,9, -999.000,9, -999.000,9,     -999,9,   3.1513,   3.3402,2
  316N20111106,  GT11,    10, 10,      9,      9,2,20111119,0614, 31.7565, -64.1786, 4637,   3041.0,   2.6126,  34.9212,2,  34.9272,3,    266.3,2,    266.8,2,    23.62,2,    17.99,2,     0.00,2,     1.24,2, -999.000,9, -999.000,9, -999.000,9,     -999,9,   2.3660,   2.6129,2
  316N20111106,  GT11,    10, 10,      8,      8,2,20111119,0614, 31.7565, -64.1786, 4637,   3654.7,   2.2665,  34.8956,2,  34.8953,2,    266.1,2,    266.6,2,    29.77,2,    18.43,2,     0.00,2,     1.27,2, -999.000,9, -999.000,9, -999.000,9,     -999,9,   1.9632,   2.2662,2
  316N20111106,  GT11,    10, 10,      7,      7,2,20111119,0614, 31.7565, -64.1786, 4637,   4266.4,   2.1878,  34.8822,2,  34.8829,2,    261.7,2,    262.2,2,    36.30,2,    19.38,2,     0.00,2,     1.35,2, -999.000,9, -999.000,9, -999.000,9,     -999,9,   1.8177,   2.1879,2
  316N20111106,  GT11,    10, 10,      6,      6,2,20111119,0614, 31.7565, -64.1786, 4637,   4515.2,   2.2097,  34.8811,2,  34.8808,2,    262.2,2,    261.8,2,    36.69,2,    19.42,2,     0.00,2,     1.35,2, -999.000,9, -999.000,9, -999.000,9,     -999,9,   1.8095,   2.2097,2
  316N20111106,  GT11,    10, 10,      5,     15,2,20111119,0614, 31.7565, -64.1786, 4637,   4546.4,   2.2127,  34.8810,2,  34.8810,2,    262.2,2,    261.5,2,    36.40,2,    19.46,2,     0.00,2,     1.36,2, -999.000,9, -999.000,9, -999.000,9,     -999,9,   1.8087,   2.2127,2
  316N20111106,  GT11,    10, 10,      4,      4,2,20111119,0614, 31.7565, -64.1786, 4637,   4578.6,   2.2158,  34.8809,2,  34.8796,2,    262.1,2,    261.9,2,    36.79,2,    19.49,2,     0.00,2,     1.35,2, -999.000,9, -999.000,9, -999.000,9,     -999,9,   1.8078,   2.2159,2
  316N20111106,  GT11,    10, 10,      3,      3,2,20111119,0614, 31.7565, -64.1786, 4637,   4597.2,   2.2178,  34.8808,2,  34.8806,2,    262.2,2,    261.7,2,    36.89,2,    19.48,2,     0.00,2,     1.36,2, -999.000,9, -999.000,9, -999.000,9,     -999,9,   1.8075,   2.2178,2
  316N20111106,  GT11,    10, 10,      2,      2,2,20111119,0614, 31.7565, -64.1786, 4637,   4617.8,   2.2204,  34.8807,2,  34.8812,2,    261.6,2,    262.0,2,    36.99,2,    19.49,2,     0.00,2,     1.37,2, -999.000,9, -999.000,9, -999.000,9,     -999,9,   1.8075,   2.2204,2
  316N20111106,  GT11,    10, 10,      1,      1,2,20111119,0614, 31.7565, -64.1786, 4637,   4637.8,   2.2230,  34.8808,2,  34.8800,2,    261.6,2,    262.0,2,    37.18,2,    19.51,2,     0.00,2,     1.35,2, -999.000,9, -999.000,9, -999.000,9,     -999,9,   1.8076,   2.2231,2
  316N20111106,  GT11,    10, 12,     12,     12,2,20111119,1122, 31.7565, -64.1786, 4637,     40.8,  23.9885,  36.5577,2,  36.5565,2,    208.9,2,    209.1,2,     0.39,2,     0.01,2,     0.00,2,     0.01,2, -999.000,9, -999.000,9, -999.000,9,     -999,9,  23.9799,  23.9879,2
  316N20111106,  GT11,    10, 12,     11,     11,2,20111119,1122, 31.7565, -64.1786, 4637,     74.5,  23.5947,  36.6467,2,  36.6313,2,    209.2,2,    209.9,2,     0.19,2,     0.00,2,     0.01,2,     0.00,2, -999.000,9, -999.000,9, -999.000,9,     -999,9,  23.5791,  23.5286,3
  316N20111106,  GT11,    10, 12,     10,     10,2,20111119,1122, 31.7565, -64.1786, 4637,     91.0,  20.7377,  36.6813,2,  36.6799,2,    218.2,2,    218.2,2,     0.19,2,     0.00,2,     0.12,2,     0.00,2, -999.000,9, -999.000,9, -999.000,9,     -999,9,  20.7203,  20.7488,2
  316N20111106,  GT11,    10, 12,      9,      9,2,20111119,1122, 31.7565, -64.1786, 4637,    114.3,  19.7397,  36.6613,2,  36.6638,2,    210.5,2,    210.4,2,     0.19,2,     0.16,2,     0.18,2,     0.00,2, -999.000,9, -999.000,9, -999.000,9,     -999,9,  19.7186,  19.7383,2
  316N20111106,  GT11,    10, 12,      8,      8,2,20111119,1122, 31.7565, -64.1786, 4637,    289.7,  17.9713,  36.5679,2,  36.5676,2,    211.9,2,    209.1,2,     0.78,2,     3.71,2,     0.00,2,     0.17,2, -999.000,9, -999.000,9, -999.000,9,     -999,9,  17.9210,  17.9714,2
  316N20111106,  GT11,    10, 12,      7,      7,2,20111119,1122, 31.7565, -64.1786, 4637,    502.3,  16.6609,  36.3166,2,  36.3204,2,    199.8,2,    199.3,2,     1.66,2,     6.78,2,     0.00,2,     0.35,2, -999.000,9, -999.000,9, -999.000,9,     -999,9,  16.5777,  16.6607,2
  316N20111106,  GT11,    10, 12,      6,      6,2,20111119,1122, 31.7565, -64.1786, 4637,    756.1,  11.2289,  35.4288,2,  35.4376,2,    143.9,2,    143.9,2,    10.15,2,    20.90,2,     0.00,2,     1.30,2, -999.000,9, -999.000,9, -999.000,9,     -999,9,  11.1316,  11.2311,2
  316N20111106,  GT11,    10, 12,      5,     15,2,20111119,1122, 31.7565, -64.1786, 4637,    958.2,   7.0708,  35.1105,2,  35.1105,2,    180.4,2,    182.8,2,    13.56,2,    21.94,2,     0.00,2,     1.43,2, -999.000,9, -999.000,9, -999.000,9,     -999,9,   6.9755,   7.0705,2
  316N20111106,  GT11,    10, 12,      4,      4,2,20111119,1122, 31.7565, -64.1786, 4637,   1212.1,   5.0790,  35.0299,2,  35.0301,2,    238.6,2,    238.9,2,    11.42,2,    18.43,2,     0.00,2,     1.22,2, -999.000,9, -999.000,9, -999.000,9,     -999,9,   4.9744,   5.0790,2
  316N20111106,  GT11,    10, 12,      3,      3,2,20111119,1122, 31.7565, -64.1786, 4637,   1513.6,   4.2663,  34.9858,2,  34.9868,2,    257.5,2,    257.3,2,    11.51,2,    17.72,2,     0.00,2,     1.18,2, -999.000,9, -999.000,9, -999.000,9,     -999,9,   4.1418,   4.2672,2
  316N20111106,  GT11,    10, 12,      2,      2,2,20111119,1122, 31.7565, -64.1786, 4637,   1821.4,   3.7671,  34.9613,2,  34.9616,2,    264.1,2,    264.4,2,    12.88,2,    17.58,2,     0.00,2,     1.18,2, -999.000,9, -999.000,9, -999.000,9,     -999,9,   3.6200,   3.7677,2
  316N20111106,  GT11,    10, 12,      1,      1,2,20111119,1122, 31.7565, -64.1786, 4637,   2124.6,   3.5200,  34.9649,2,  34.9663,2,    263.2,2,    263.0,2,    15.71,2,    17.84,2,     0.00,2,     1.20,2, -999.000,9, -999.000,9, -999.000,9,     -999,9,   3.3476,   3.5182,2
  316N20111106,  GT11,    11,  2,     13,     99,2,20111122,0904, 30.8235, -60.7869, 5237,      1.0,  24.5652,  36.5835,2,  36.5936,2,   -999.0,9,   -999.0,9,  -999.00,9,  -999.00,9,  -999.00,9,  -999.00,9, -999.000,9, -999.000,9, -999.000,9,     -999,9,  24.5650,-999.0000,9
  316N20111106,  GT11,    11,  2,     12,     12,2,20111122,0904, 30.8235, -60.7869, 5237,     59.3,  24.6686,  36.6552,2,  36.6554,2,    207.7,2,    207.7,2,     0.29,2,     0.00,2,     0.00,2,     0.00,2,    1.775,2,    1.106,2,    0.164,2,     1.22,2,  24.6558,  24.6724,2
  316N20111106,  GT11,    11,  2,     11,     11,2,20111122,0904, 30.8235, -60.7869, 5237,     93.2,  21.1197,  36.8052,2,  36.8058,2,    213.0,2,    213.0,2,     0.19,2,     0.01,2,     0.03,2,     0.00,2,    2.107,2,    1.292,2,    0.149,2,     1.29,2,  21.1016,  21.1196,2
  316N20111106,  GT11,    11,  2,     10,     10,2,20111122,0904, 30.8235, -60.7869, 5237,    135.1,  19.5007,  36.7027,2,  36.7016,2,    195.1,2,    195.1,2,     0.29,2,     1.29,2,     0.00,2,     0.01,2,    2.222,2,    1.350,2,    0.095,2,     1.31,2,  19.4759,  19.5007,2
  316N20111106,  GT11,    11,  2,      9,      9,2,20111122,0904, 30.8235, -60.7869, 5237,    186.8,  18.6046,  36.6247,2,  36.6243,2,    202.0,2,    202.2,2,     0.58,2,     2.96,2,     0.00,2,     0.10,2,    2.299,2,    1.386,2,    0.068,2,      1.3,2,  18.5714,  18.6048,2
  316N20111106,  GT11,    11,  2,      8,      8,2,20111122,0904, 30.8235, -60.7869, 5237,    238.2,  18.2872,  36.5899,2,  36.5886,2,    202.3,2,    201.9,2,     0.78,2,     3.67,2,     0.00,2,     0.15,2,    2.324,2,    1.397,2,    0.051,2,     1.26,2,  18.2454,  18.2870,2
  316N20111106,  GT11,    11,  2,      7,      7,2,20111122,0904, 30.8235, -60.7869, 5237,    288.8,  18.0864,  36.5753,2,  36.5745,2,    207.9,2,    206.9,2,     0.97,2,     3.77,2,     0.00,2,     0.17,2,    2.340,2,    1.400,2,    0.071,2,     1.31,2,  18.0360,  18.0863,2
  316N20111106,  GT11,    11,  2,      6,      6,2,20111122,0904, 30.8235, -60.7869, 5237,    347.3,  17.8459,  36.5339,2,  36.5367,2,    203.9,2,    205.2,2,     0.97,2,     4.24,2,     0.00,2,     0.19,2,    2.363,2,    1.437,2,    0.071,2,     1.31,2,  17.7858,  17.8448,2
  316N20111106,  GT11,    11,  2,      5,     15,2,20111122,0904, 30.8235, -60.7869, 5237,    419.4,  17.3530,  36.4386,2,  36.4402,2,    197.2,2,    197.6,2,     1.56,2,     5.75,2,     0.00,2,     0.29,2,    2.387,2,    1.407,2,    0.038,2,     1.17,2,  17.2817,  17.3529,2
  316N20111106,  GT11,    11,  2,      4,      4,2,20111122,0904, 30.8235, -60.7869, 5237,    532.2,  15.8176,  36.1495,2,  36.1533,2,    181.8,2,    181.2,2,     2.92,2,     9.68,2,     0.00,2,     0.55,2,    2.410,2,    1.386,2,    0.041,2,     1.01,2,  15.7325,  15.8158,2
  316N20111106,  GT11,    11,  2,      3,      3,2,20111122,0904, 30.8235, -60.7869, 5237,    669.4,  13.1078,  35.7113,2,  35.7150,2,    160.8,2,    159.6,2,     6.34,2,    16.11,2,     0.00,2,     0.99,2,    2.099,2,    1.134,2,    0.028,2,     0.79,2,  13.0130,  13.1075,2
  316N20111106,  GT11,    11,  2,      2,      2,2,20111122,0904, 30.8235, -60.7869, 5237,    800.0,   9.9295,  35.3122,2,  35.3127,2,    147.6,2,    148.2,2,    11.41,2,    22.34,2,     0.00,2,     1.42,2,    1.346,2,    0.680,2,    0.022,2,     0.49,2,   9.8339,   9.9249,2
  316N20111106,  GT11,    11,  2,      1,      1,2,20111122,0904, 30.8235, -60.7869, 5237,   1007.8,   6.6792,  35.0936,2,  35.0915,2,    181.7,2,    182.8,2,    15.03,2,    22.78,2,     0.00,2,     1.52,2,    0.985,2,    0.476,2,    0.017,2,     0.22,2,   6.5815,   6.6787,2
  316N20111106,  GT11,    12,  2,     12,     12,2,20111123,0717, 29.7000, -56.8170, 5726,      9.6,  24.8539,  36.9791,2,  36.9781,2,    207.3,2,    207.6,2,     0.19,2,     0.00,2,     0.00,2,     0.00,2,    1.762,2,    1.099,2,    0.158,2,     1.19,2,  24.8518,  24.8543,2
  316N20111106,  GT11,    12,  2,     11,     11,2,20111123,0717, 29.7000, -56.8170, 5726,     40.3,  24.8467,  36.9771,2,  36.9793,2,    207.9,2,    208.0,2,     0.19,2,     0.00,2,     0.00,2,     0.00,2,    1.764,2,    1.100,2,    0.157,2,     1.17,2,  24.8379,  24.8486,2
  316N20111106,  GT11,    12,  2,     10,     10,2,20111123,0717, 29.7000, -56.8170, 5726,    102.0,  19.8369,  36.7102,2,  36.7167,2,    213.9,2,    213.4,2,     0.19,2,     0.00,2,     0.03,2,     0.00,2,    2.200,2,    1.341,2,    0.142,2,      1.2,2,  19.8180,  19.7765,3
  316N20111106,  GT11,    12,  2,      9,      9,2,20111123,0717, 29.7000, -56.8170, 5726,    186.4,  18.2682,  36.5757,2,  36.5763,2,    198.4,2,    199.6,2,     0.78,2,     3.71,2,     0.00,2,     0.16,2,    2.326,2,    1.403,2,    0.056,2,     1.26,2,  18.2355,  18.2667,2
  316N20111106,  GT11,    12,  2,      8,      8,2,20111123,0717, 29.7000, -56.8170, 5726,    235.8,  18.0408,  36.5539,2,  36.5541,2,    204.6,2,    204.1,2,     0.88,2,     3.86,2,     0.00,2,     0.17,2,    2.344,2,    1.406,2,    0.057,2,     1.29,2,  17.9998,  18.0417,2
  316N20111106,  GT11,    12,  2,      7,      7,2,20111123,0717, 29.7000, -56.8170, 5726,    285.2,  17.8772,  36.5363,2,  36.5357,2,    205.5,2,    205.4,2,     0.88,2,     4.13,2,     0.00,2,     0.19,2,    2.351,2,    1.412,2,    0.060,2,     1.26,2,  17.8279,  17.8765,2
  316N20111106,  GT11,    12,  2,      6,      6,2,20111123,0717, 29.7000, -56.8170, 5726,    425.3,  16.9352,  36.3660,2,  36.3661,2,    197.3,2,    197.2,2,     1.66,2,     6.37,2,     0.00,2,     0.33,2,    2.415,2,    1.438,2,    0.045,2,     1.18,2,  16.8641,  16.9342,2
  316N20111106,  GT11,    12,  2,      5,     15,2,20111123,0717, 29.7000, -56.8170, 5726,    752.9,  10.7222,  35.4097,2,  35.4153,2,    154.2,2,    154.2,2,     9.85,2,    20.12,2,     0.00,2,     1.26,2,    1.663,2,    0.872,2,    0.034,2,     0.57,2,  10.6281,  10.7216,2
  316N20111106,  GT11,    12,  2,      4,      4,2,20111123,0717, 29.7000, -56.8170, 5726,   1006.5,   6.8623,  35.1247,2,  35.1270,2,    180.3,2,    184.9,2,    14.25,2,    21.96,2,     0.00,2,     1.44,2,    1.122,2,    0.561,2,    0.027,2,     0.27,2,   6.7634,   6.8625,2
  316N20111106,  GT11,    12,  2,      3,      3,2,20111123,0717, 29.7000, -56.8170, 5726,   1210.7,   5.7217,  35.1148,2,  35.1163,2,    215.6,2,    218.1,2,    13.17,2,    19.68,2,     0.00,2,     1.34,2,    1.312,2,    0.654,2,    0.041,2,     0.34,2,   5.6113,   5.7216,2
  316N20111106,  GT11,    12,  2,      2,      2,2,20111123,0717, 29.7000, -56.8170, 5726,   1516.2,   4.6287,  35.0513,2,  35.0518,2,    247.6,2,    247.8,2,    12.59,2,    17.96,2,     0.00,2,     1.21,2,    1.838,2,    0.915,2,    0.088,2,      0.4,2,   4.4997,   4.6284,2
  316N20111106,  GT11,    12,  2,      1,      1,2,20111123,0717, 29.7000, -56.8170, 5726,   1819.1,   4.1648,  35.0377,2,  35.0378,2,    251.0,2,    251.0,2,    15.32,2,    18.14,2,     0.00,2,     1.23,2,    1.153,2,    0.551,2,    0.041,2,     0.22,2,   4.0124,   4.1646,2