BOTTLE,20170320PRINUNIVRMK
EXPOCODE,SECT_ID,STNNBR,CASTNO,SAMPNO,BTLNBR,BTLNBR_FLAG_W,DATE,TIME,LATITUDE,LONGITUDE,DEPTH,CTDPRS,CTDTMP,CTDSAL,CTDSAL_FLAG_W,SALNTY,SALNTY_FLAG_W,CTDOXY,CTDOXY_FLAG_W,OXYGEN,OXYGEN_FLAG_W,SILCAT,SILCAT_FLAG_W,NITRAT,NITRAT_FLAG_W,NITRIT,NITRIT_FLAG_W,PHSPHT,PHSPHT_FLAG_W,CFC-11,CFC-11_FLAG_W,CFC-12,CFC-12_FLAG_W,CFC113,CFC113_FLAG_W,SF6,SF6_FLAG_W,THETA,SBE35,SBE35_FLAG_W
,,,,,,,,,,,METERS,DBAR,ITS-90,PSS-78,,PSS-78,,UMOL/KG,,UMOL/KG,,UMOL/KG,,UMOL/KG,,UMOL/KG,,UMOL/KG,,PMOL/KG,,PMOL/KG,,PMOL/KG,,FMOL/KG,,DEG C,ITS-90,
  316N20111106,  GT11,    16,  2,     12,     12,2,20111129,0143, 26.1369, -44.8262, 3810,    974.5,   6.9398,  35.0427,2,  35.0427,2,    155.7,2,    154.8,2,    17.86,2,    26.13,2,     0.00,2,     1.74,2,    0.396,2,    0.191,2,    0.011,2,     0.11,2,   6.8438,   6.9392,2
  316N20111106,  GT11,    16,  2,     11,     11,2,20111129,0143, 26.1369, -44.8262, 3810,   1210.1,   5.6712,  35.0334,2,  35.0336,2,    192.6,2,    193.8,2,    16.69,2,    22.81,2,     0.00,2,     1.53,2,    0.465,2,    0.225,2,    0.013,2,     0.12,2,   5.5614,   5.6724,2
  316N20111106,  GT11,    16,  2,     10,     10,2,20111129,0143, 26.1369, -44.8262, 3810,   1513.6,   4.9892,  35.0945,2,  35.0950,2,    233.0,2,    231.9,2,    14.05,2,    19.06,2,     0.00,2,     1.29,2,    0.911,2,    0.456,2,    0.024,2,     0.17,2,   4.8562,   4.9891,2
  316N20111106,  GT11,    16,  2,      9,      9,2,20111129,0143, 26.1369, -44.8262, 3810,   1819.4,   4.2381,  35.0633,2,  35.0635,2,    247.2,2,    246.0,2,    16.30,2,    18.33,2,     0.00,2,     1.24,2,    0.953,2,    0.470,2,    0.027,2,     0.18,2,   4.0846,   4.2394,2
  316N20111106,  GT11,    16,  2,      8,      8,2,20111129,0143, 26.1369, -44.8262, 3810,   2124.6,   3.5919,  35.0023,2,  35.0021,2,    250.9,2,    250.2,2,    20.69,2,    18.62,2,     0.00,2,     1.27,2,    0.695,2,    0.336,2,    0.019,2,     0.11,2,   3.4183,   3.5915,2
  316N20111106,  GT11,    16,  2,      7,      7,2,20111129,0143, 26.1369, -44.8262, 3810,   2735.8,   3.0376,  34.9539,2,  34.9543,2,    251.8,2,    252.6,2,    27.42,2,    19.29,2,     0.00,2,     1.32,2,    0.441,2,    0.211,2,    0.013,2,      0.1,2,   2.8133,   3.0378,2
  316N20111106,  GT11,    16,  2,      6,      6,2,20111129,0143, 26.1369, -44.8262, 3810,   3039.1,   2.8820,  34.9408,2,  34.9411,2,    250.5,2,    250.4,2,    31.33,2,    19.77,2,     0.00,2,     1.36,2,    0.293,2,    0.139,2,    0.009,2,     0.08,2,   2.6296,   2.8823,2
  316N20111106,  GT11,    16,  2,      5,     15,2,20111129,0143, 26.1369, -44.8262, 3810,   3241.4,   2.7007,  34.9252,2,  34.9251,2,    249.7,2,    250.3,2,    35.91,2,    20.16,2,     0.00,2,     1.38,2,    0.156,2,    0.078,2,    0.004,2,     0.02,2,   2.4311,   2.7008,2
  316N20111106,  GT11,    16,  2,      4,      4,2,20111129,0143, 26.1369, -44.8262, 3810,   3344.1,   2.6870,  34.9234,2,  34.9234,2,    249.9,2,    250.3,2,    36.11,2,    20.15,2,     0.00,2,     1.39,2,    0.152,2,    0.070,2,    0.003,2,     0.01,2,   2.4068,   2.6873,2
  316N20111106,  GT11,    16,  2,      3,      3,2,20111129,0143, 26.1369, -44.8262, 3810,   3446.7,   2.6945,  34.9237,2,  34.9235,2,    250.1,2,    250.3,2,    35.82,2,    20.14,2,     0.00,2,     1.39,2,    0.145,2,    0.068,2,    0.003,2,     0.01,2,   2.4030,   2.6947,2
  316N20111106,  GT11,    16,  2,      2,      2,2,20111129,0143, 26.1369, -44.8262, 3810,   3553.1,   2.6767,  34.9220,2,  34.9228,2,    251.0,2,    250.5,2,    35.52,2,    20.04,2,     0.00,2,     1.40,2,    0.143,2,    0.067,2,    0.003,2,        0,2,   2.3739,   2.6770,2
  316N20111106,  GT11,    16,  2,      1,      1,2,20111129,0143, 26.1369, -44.8262, 3810,   3674.4,   2.6760,  34.9208,2,  34.9204,2,    250.9,2,    250.9,2,    35.72,2,    20.11,2,     0.00,2,     1.39,2,    0.138,2,    0.062,2,    0.002,2,        0,2,   2.3598,   2.6759,2
  316N20111106,  GT11,    16,  4,     12,     12,2,20111129,1334, 26.1369, -44.8262, 3810,   2119.8,   3.5610,  34.9977,2,  34.9978,2,    251.8,2,    252.7,2,    20.30,2,    18.55,2,     0.00,2,     1.26,2, -999.000,9, -999.000,9, -999.000,9,     -999,9,   3.3884,   3.5614,2
  316N20111106,  GT11,    16,  4,     11,     11,2,20111129,1334, 26.1369, -44.8262, 3810,   2120.2,   3.5614,  34.9978,2,  34.9982,2,    251.8,2,    252.4,2,    20.49,2,    18.55,2,     0.00,2,     1.28,2, -999.000,9, -999.000,9, -999.000,9,     -999,9,   3.3887,   3.5611,2
  316N20111106,  GT11,    16,  4,     10,     10,2,20111129,1334, 26.1369, -44.8262, 3810,   3034.7,   2.8616,  34.9391,2,  34.9388,2,    250.5,2,    250.4,2,    32.01,2,    19.83,2,     0.00,2,     1.36,2, -999.000,9, -999.000,9, -999.000,9,     -999,9,   2.6102,   2.8619,2
  316N20111106,  GT11,    16,  4,      9,      9,2,20111129,1334, 26.1369, -44.8262, 3810,   3035.1,   2.8602,  34.9391,2,  34.9400,2,    250.5,2,    250.5,2,    31.81,2,    19.82,2,     0.00,2,     1.35,2, -999.000,9, -999.000,9, -999.000,9,     -999,9,   2.6087,   2.8603,2
  316N20111106,  GT11,    16,  4,      7,      7,2,20111129,1334, 26.1369, -44.8262, 3810,   3287.3,   2.7051,  34.9258,2,  34.9252,2,    249.6,2,    249.8,2,    35.82,2,    20.29,2,     0.00,2,     1.39,2, -999.000,9, -999.000,9, -999.000,9,     -999,9,   2.4305,   2.7054,2
  316N20111106,  GT11,    16,  4,      8,      8,2,20111129,1334, 26.1369, -44.8262, 3810,   3287.7,   2.7054,  34.9258,2,  34.9252,2,    249.6,2,    249.6,2,    35.82,2,    20.23,2,     0.00,2,     1.39,2, -999.000,9, -999.000,9, -999.000,9,     -999,9,   2.4308,   2.7057,2
  316N20111106,  GT11,    16,  4,      6,      6,2,20111129,1334, 26.1369, -44.8262, 3810,   3368.0,   2.6772,  34.9231,2,  34.9250,2,    249.9,2,    249.9,2,    36.30,2,    20.31,2,     0.00,2,     1.40,2, -999.000,9, -999.000,9, -999.000,9,     -999,9,   2.3946,   2.6775,2
  316N20111106,  GT11,    16,  4,      5,     15,2,20111129,1334, 26.1369, -44.8262, 3810,   3368.1,   2.6781,  34.9232,2,  34.9235,2,    249.9,2,    250.3,2,    36.21,2,    20.26,2,     0.00,2,     1.40,2, -999.000,9, -999.000,9, -999.000,9,     -999,9,   2.3955,   2.6781,2
  316N20111106,  GT11,    16,  4,      4,      4,2,20111129,1334, 26.1369, -44.8262, 3810,   3547.3,   2.6750,  34.9219,2,  34.9219,2,    250.2,2,    250.2,2,    36.01,2,    20.27,2,     0.00,2,     1.40,2, -999.000,9, -999.000,9, -999.000,9,     -999,9,   2.3729,   2.6752,2
  316N20111106,  GT11,    16,  4,      3,      3,2,20111129,1334, 26.1369, -44.8262, 3810,   3547.4,   2.6751,  34.9220,2,  34.9223,2,    250.2,2,    250.4,2,    36.01,2,    20.26,2,     0.00,2,     1.39,2, -999.000,9, -999.000,9, -999.000,9,     -999,9,   2.3730,   2.6754,2
  316N20111106,  GT11,    16,  4,      1,      1,2,20111129,1334, 26.1369, -44.8262, 3810,   3676.0,   2.6761,  34.9207,2,  34.9211,2,    250.4,2,    250.6,2,    36.40,2,    20.23,2,     0.00,2,     1.40,2, -999.000,9, -999.000,9, -999.000,9,     -999,9,   2.3597,   2.6760,2
  316N20111106,  GT11,    16,  4,      2,      2,2,20111129,1334, 26.1369, -44.8262, 3810,   3676.1,   2.6771,  34.9207,2,  34.9205,2,    250.4,2,    250.9,2,    36.21,2,    20.20,2,     0.00,2,     1.39,2, -999.000,9, -999.000,9, -999.000,9,     -999,9,   2.3607,   2.6762,2
  316N20111106,  GT11,    16,  6,     13,     99,2,20111129,2125, 26.1369, -44.8262, 3810,      1.1,  25.1579,  37.3901,2,  37.4010,2,   -999.0,9,   -999.0,9,  -999.00,9,  -999.00,9,  -999.00,9,  -999.00,9, -999.000,9, -999.000,9, -999.000,9,     -999,9,  25.1577,-999.0000,9
  316N20111106,  GT11,    16,  6,     12,     12,2,20111129,2125, 26.1369, -44.8262, 3810,     40.5,  25.1503,  37.3860,2,  37.3821,2,    205.8,2,    205.9,2,     0.39,2,     0.06,2,     0.00,2,     0.01,2, -999.000,9, -999.000,9, -999.000,9,     -999,9,  25.1414,  25.1483,2
  316N20111106,  GT11,    16,  6,     11,     11,2,20111129,2125, 26.1369, -44.8262, 3810,     65.2,  24.9256,  37.3654,2,  37.3777,2,    206.6,2,    207.0,2,     0.19,2,     0.00,2,     0.00,2,     0.00,2, -999.000,9, -999.000,9, -999.000,9,     -999,9,  24.9114,  24.9147,2
  316N20111106,  GT11,    16,  6,     10,     10,2,20111129,2125, 26.1369, -44.8262, 3810,     89.6,  22.5819,  37.1788,2,  37.1797,2,    218.6,2,    218.7,2,     0.00,2,     0.00,2,     0.00,2,     0.00,2, -999.000,9, -999.000,9, -999.000,9,     -999,9,  22.5637,  22.5781,2
  316N20111106,  GT11,    16,  6,      9,      9,2,20111129,2125, 26.1369, -44.8262, 3810,    114.1,  21.6238,  37.0675,2,  37.0718,2,    212.1,2,    212.4,2,     0.10,2,     0.01,2,     0.05,2,     0.00,2, -999.000,9, -999.000,9, -999.000,9,     -999,9,  21.6013,  21.6239,2
  316N20111106,  GT11,    16,  6,      8,      8,2,20111129,2125, 26.1369, -44.8262, 3810,    136.5,  20.7865,  36.9781,2,  36.9771,2,    202.5,2,    201.0,2,     0.10,2,     0.34,2,     0.02,2,     0.00,2, -999.000,9, -999.000,9, -999.000,9,     -999,9,  20.7603,  20.7844,2
  316N20111106,  GT11,    16,  6,      7,      7,2,20111129,2125, 26.1369, -44.8262, 3810,    151.1,  20.2717,  36.9111,2,  36.9034,2,    196.3,2,    193.8,2,     0.19,2,     0.84,2,     0.00,2,     0.00,2, -999.000,9, -999.000,9, -999.000,9,     -999,9,  20.2432,  20.2742,2
  316N20111106,  GT11,    16,  6,      6,      6,2,20111129,2125, 26.1369, -44.8262, 3810,    186.0,  18.9554,  36.7179,2,  36.7221,2,    184.6,2,    184.7,2,     0.49,2,     3.05,2,     0.00,2,     0.10,2, -999.000,9, -999.000,9, -999.000,9,     -999,9,  18.9219,  18.9631,2
  316N20111106,  GT11,    16,  6,      5,     15,2,20111129,2125, 26.1369, -44.8262, 3810,    235.3,  17.9675,  36.5548,2,  36.5551,2,    190.1,2,    190.3,2,     0.88,2,     4.82,2,     0.00,2,     0.21,2, -999.000,9, -999.000,9, -999.000,9,     -999,9,  17.9267,  17.9703,2
  316N20111106,  GT11,    16,  6,      4,      4,2,20111129,2125, 26.1369, -44.8262, 3810,    286.2,  17.2930,  36.4356,2,  36.4372,2,    194.4,2,    194.5,2,     1.17,2,     5.66,2,     0.00,2,     0.28,2, -999.000,9, -999.000,9, -999.000,9,     -999,9,  17.2446,  17.2924,2
  316N20111106,  GT11,    16,  6,      3,      3,2,20111129,2125, 26.1369, -44.8262, 3810,    350.1,  16.4959,  36.2923,2,  36.2940,2,    196.1,2,    196.3,2,     1.56,2,     6.77,2,     0.00,2,     0.36,2, -999.000,9, -999.000,9, -999.000,9,     -999,9,  16.4385,  16.4961,2
  316N20111106,  GT11,    16,  6,      2,      2,2,20111129,2125, 26.1369, -44.8262, 3810,    422.8,  15.3536,  36.0968,2,  36.1035,2,    181.9,2,    181.9,2,     2.63,2,     9.77,2,     0.00,2,     0.55,2, -999.000,9, -999.000,9, -999.000,9,     -999,9,  15.2875,  15.3551,2
  316N20111106,  GT11,    16,  6,      1,      1,2,20111129,2125, 26.1369, -44.8262, 3810,    604.5,  12.2246,  35.6190,2,  35.6186,2,    160.3,2,    160.4,2,     6.93,2,    17.09,2,     0.00,2,     1.03,2, -999.000,9, -999.000,9, -999.000,9,     -999,9,  12.1430,  12.2256,2
  316N20111106,  GT11,    16,  8,     12,     12,2,20111129,0410, 26.1369, -44.8262, 3810,     40.0,  25.1372,  37.3948,2,  37.3927,2,    205.3,2,    205.8,2,     0.19,2,     0.00,2,     0.00,2,     0.00,2,    1.714,2,    1.093,2,    0.143,2,     1.17,2,  25.1284,  25.1371,2
  316N20111106,  GT11,    16,  8,     11,     11,2,20111129,0410, 26.1369, -44.8262, 3810,     61.1,  25.1395,  37.3935,2,  37.3933,2,    205.9,2,    205.9,2,     0.10,2,     0.00,2,     0.00,2,     0.00,2,    1.680,2,    1.079,2,    0.147,2,     1.12,2,  25.1261,  25.1395,2
  316N20111106,  GT11,    16,  8,     10,     10,2,20111129,0410, 26.1369, -44.8262, 3810,     90.4,  23.1569,  37.2318,2,  37.2270,2,    221.0,2,    221.2,2,     0.00,2,     0.00,2,     0.00,2,     0.00,2,    1.952,2,    1.228,2,    0.162,2,     1.26,2,  23.1382,  23.1715,2
  316N20111106,  GT11,    16,  8,      9,      9,2,20111129,0410, 26.1369, -44.8262, 3810,    111.4,  21.9954,  37.1068,2,  37.1052,2,    214.4,2,    215.1,2,     0.00,2,     0.01,2,     0.00,2,     0.00,2,    2.021,2,    1.264,2,    0.146,2,     1.23,2,  21.9732,  21.9905,2
  316N20111106,  GT11,    16,  8,      8,      8,2,20111129,0410, 26.1369, -44.8262, 3810,    136.5,  20.6815,  36.9725,2,  36.9638,2,    198.1,2,    197.0,2,     0.00,2,     0.52,2,     0.01,2,     0.00,2,    2.100,2,    1.312,2,    0.130,2,     1.27,2,  20.6554,  20.6742,2
  316N20111106,  GT11,    16,  8,      7,      7,2,20111129,0410, 26.1369, -44.8262, 3810,    186.9,  18.9791,  36.7193,2,  36.7155,2,    184.8,2,    185.6,2,     0.39,2,     3.06,2,     0.00,2,     0.10,2,    2.240,2,    1.374,2,    0.060,2,     1.22,2,  18.9454,  18.9758,2
  316N20111106,  GT11,    16,  8,      6,      6,2,20111129,0410, 26.1369, -44.8262, 3810,    236.3,  17.9475,  36.5534,2,  36.5462,2,    190.1,2,    190.1,2,     0.97,2,     4.98,2,     0.00,2,     0.23,2,    2.353,2,    1.455,2,    0.029,2,     1.22,2,  17.9065,  17.9475,2
  316N20111106,  GT11,    16,  8,      5,     15,2,20111129,0410, 26.1369, -44.8262, 3810,    286.7,  17.2605,  36.4298,2,  36.4295,2,    194.7,2,    195.4,2,     1.07,2,     5.66,2,     0.00,2,     0.27,2,    2.380,2,    1.438,2,    0.034,2,     1.24,2,  17.2121,  17.2567,2
  316N20111106,  GT11,    16,  8,      4,      4,2,20111129,0410, 26.1369, -44.8262, 3810,    327.8,  16.6771,  36.3250,2,  36.3370,2,    198.1,2,    197.9,2,     1.27,2,     6.34,2,     0.00,2,     0.33,2,    2.410,2,    1.440,2,    0.037,2,     1.25,2,  16.6230,  16.6970,2
  316N20111106,  GT11,    16,  8,      3,      3,2,20111129,0410, 26.1369, -44.8262, 3810,    423.3,  15.3345,  36.0926,2,  36.0938,2,    180.0,2,    181.1,2,     2.63,2,     9.96,2,     0.00,2,     0.56,2,    2.449,2,    1.439,2,    0.030,2,     1.01,2,  15.2684,  15.3350,2
  316N20111106,  GT11,    16,  8,      2,      2,2,20111129,0410, 26.1369, -44.8262, 3810,    604.3,  12.2208,  35.6204,2,  35.6261,2,    161.2,2,    160.2,2,     6.54,2,    17.05,2,     0.00,2,     1.03,2,    1.968,2,    1.122,2,    0.026,2,      0.6,2,  12.1392,  12.2167,2
  316N20111106,  GT11,    16,  8,      1,      1,2,20111129,0410, 26.1369, -44.8262, 3810,    808.0,   8.9283,  35.2223,2,  35.2223,2,    144.6,2,    145.1,2,    13.76,2,    24.24,2,     0.00,2,     1.54,2,    0.848,2,    0.430,2,    0.014,2,     0.19,2,   8.8376,   8.9350,2
  316N20111106,  GT11,    16, 10,     11,     11,2,20111129,0727, 26.1369, -44.8262, 3810,      5.0,  25.1109,  37.3925,2,  37.3907,2,    205.9,2,    206.2,2,     0.19,2,     0.00,2,     0.00,2,     0.00,2, -999.000,9, -999.000,9, -999.000,9,     -999,9,  25.1098,  25.1118,2
  316N20111106,  GT11,    16, 10,     12,     12,2,20111129,0727, 26.1369, -44.8262, 3810,      5.1,  25.1116,  37.3926,2,-999.0000,9,    205.9,2,    206.0,2,  -999.00,9,  -999.00,9,  -999.00,9,  -999.00,9, -999.000,9, -999.000,9, -999.000,9,     -999,9,  25.1105,  25.1117,2
  316N20111106,  GT11,    16, 10,     10,     10,2,20111129,0727, 26.1369, -44.8262, 3810,     19.5,  25.1190,  37.3922,2,  37.3903,2,    205.9,2,    206.2,2,     0.19,2,     0.00,2,     0.00,2,     0.00,2, -999.000,9, -999.000,9, -999.000,9,     -999,9,  25.1147,  25.1192,2
  316N20111106,  GT11,    16, 10,      9,      9,2,20111129,0727, 26.1369, -44.8262, 3810,     39.5,  25.1162,  37.3916,2,  37.3907,2,    205.7,2,    206.0,2,     0.10,2,     0.00,2,     0.00,2,     0.00,2, -999.000,9, -999.000,9, -999.000,9,     -999,9,  25.1075,  25.1175,2
  316N20111106,  GT11,    16, 10,      8,      8,2,20111129,0727, 26.1369, -44.8262, 3810,     90.1,  22.1747,  37.1286,2,  37.1261,2,    216.3,2,    216.2,2,     0.00,2,     0.00,2,     0.00,2,     0.00,2, -999.000,9, -999.000,9, -999.000,9,     -999,9,  22.1566,  22.1792,2
  316N20111106,  GT11,    16, 10,      7,      7,2,20111129,0727, 26.1369, -44.8262, 3810,    114.6,  21.0311,  37.0092,2,  37.0087,2,    202.9,2,    203.9,2,     0.19,2,     0.20,2,     0.04,2,     0.00,2, -999.000,9, -999.000,9, -999.000,9,     -999,9,  21.0089,  21.0303,2
  316N20111106,  GT11,    16, 10,      6,      6,2,20111129,0727, 26.1369, -44.8262, 3810,    135.7,  20.3568,  36.9206,2,  36.9211,2,    197.1,2,    196.7,2,     0.19,2,     0.63,2,     0.01,2,     0.00,2, -999.000,9, -999.000,9, -999.000,9,     -999,9,  20.3311,  20.3585,2
  316N20111106,  GT11,    16, 10,      5,     15,2,20111129,0727, 26.1369, -44.8262, 3810,    185.3,  18.8163,  36.6978,2,  36.6999,2,    184.9,2,    185.0,2,     0.78,2,     3.41,2,     0.00,2,     0.12,2, -999.000,9, -999.000,9, -999.000,9,     -999,9,  18.7831,  18.8150,2
  316N20111106,  GT11,    16, 10,      4,      4,2,20111129,0727, 26.1369, -44.8262, 3810,    235.0,  17.9094,  36.5472,2,  36.5444,2,    189.7,2,    189.7,2,     0.97,2,     5.04,2,     0.00,2,     0.22,2, -999.000,9, -999.000,9, -999.000,9,     -999,9,  17.8687,  17.9053,2
  316N20111106,  GT11,    16, 10,      3,      3,2,20111129,0727, 26.1369, -44.8262, 3810,    421.9,  15.3745,  36.0993,2,  36.1029,2,    183.9,2,    181.9,2,     2.73,2,     9.83,2,     0.00,2,     0.56,2, -999.000,9, -999.000,9, -999.000,9,     -999,9,  15.3085,  15.3774,2
  316N20111106,  GT11,    16, 10,      2,      2,2,20111129,0727, 26.1369, -44.8262, 3810,    603.4,  12.2912,  35.6377,2,  35.6374,2,    160.3,2,    160.5,2,     6.73,2,    17.07,2,     0.00,2,     1.01,2, -999.000,9, -999.000,9, -999.000,9,     -999,9,  12.2094,  12.2908,2
  316N20111106,  GT11,    16, 10,      1,      1,2,20111129,0727, 26.1369, -44.8262, 3810,    807.5,   8.8557,  35.2133,2,  35.2101,2,    145.3,2,    145.4,2,    14.15,2,    24.38,2,     0.00,2,     1.55,2, -999.000,9, -999.000,9, -999.000,9,     -999,9,   8.7655,   8.8605,2