BOTTLE,20170320PRINUNIVRMK
EXPOCODE,SECT_ID,STNNBR,CASTNO,SAMPNO,BTLNBR,BTLNBR_FLAG_W,DATE,TIME,LATITUDE,LONGITUDE,DEPTH,CTDPRS,CTDTMP,CTDSAL,CTDSAL_FLAG_W,SALNTY,SALNTY_FLAG_W,CTDOXY,CTDOXY_FLAG_W,OXYGEN,OXYGEN_FLAG_W,SILCAT,SILCAT_FLAG_W,NITRAT,NITRAT_FLAG_W,NITRIT,NITRIT_FLAG_W,PHSPHT,PHSPHT_FLAG_W,CFC-11,CFC-11_FLAG_W,CFC-12,CFC-12_FLAG_W,CFC113,CFC113_FLAG_W,SF6,SF6_FLAG_W,THETA,SBE35,SBE35_FLAG_W
,,,,,,,,,,,METERS,DBAR,ITS-90,PSS-78,,PSS-78,,UMOL/KG,,UMOL/KG,,UMOL/KG,,UMOL/KG,,UMOL/KG,,UMOL/KG,,PMOL/KG,,PMOL/KG,,PMOL/KG,,FMOL/KG,,DEG C,ITS-90,
  316N20111106,  GT11,     8,  4,     13,     99,2,20111116,2234, 35.4159, -66.5468, 4990,      1.0,  23.0684,  36.3497,2,  36.3570,2,   -999.0,9,   -999.0,9,  -999.00,9,  -999.00,9,  -999.00,9,  -999.00,9, -999.000,9, -999.000,9, -999.000,9,     -999,9,  23.0682,-999.0000,9
  316N20111106,  GT11,     8,  4,     12,     12,2,20111116,2234, 35.4159, -66.5468, 4990,     15.3,  23.0667,  36.3492,2,  36.3483,2,    211.3,2,    210.8,2,     0.58,2,     0.00,2,     0.00,2,     0.01,2, -999.000,9, -999.000,9, -999.000,9,     -999,9,  23.0636,  23.0675,2
  316N20111106,  GT11,     8,  4,     11,     11,2,20111116,2234, 35.4159, -66.5468, 4990,     32.6,  22.9544,  36.3467,2,  36.3467,2,    210.4,2,    211.0,2,     0.68,2,     0.00,2,     0.01,2,     0.01,2, -999.000,9, -999.000,9, -999.000,9,     -999,9,  22.9477,  22.9576,2
  316N20111106,  GT11,     8,  4,     10,     10,2,20111116,2234, 35.4159, -66.5468, 4990,     64.5,  22.8387,  36.3397,2,  36.3390,2,    210.4,2,    211.3,2,     0.68,2,     0.00,2,     0.03,2,     0.05,2, -999.000,9, -999.000,9, -999.000,9,     -999,9,  22.8255,  22.8398,2
  316N20111106,  GT11,     8,  4,      9,      9,2,20111116,2234, 35.4159, -66.5468, 4990,     91.0,  22.7995,  36.3349,2,  36.3352,2,    210.7,2,    210.6,2,     0.49,2,     0.01,2,     0.06,2,     0.00,2, -999.000,9, -999.000,9, -999.000,9,     -999,9,  22.7809,  22.7988,2
  316N20111106,  GT11,     8,  4,      8,      8,2,20111116,2234, 35.4159, -66.5468, 4990,    110.6,  22.7490,  36.7182,2,  36.7090,2,    203.1,2,    186.9,2,     0.68,2,     1.44,2,     0.04,2,     0.05,2, -999.000,9, -999.000,9, -999.000,9,     -999,9,  22.7264,  22.7485,2
  316N20111106,  GT11,     8,  4,      7,      7,2,20111116,2234, 35.4159, -66.5468, 4990,    134.9,  20.5886,  36.7428,2,  36.7429,2,    188.3,2,    187.6,2,     0.58,2,     2.24,2,     0.00,2,     0.08,2, -999.000,9, -999.000,9, -999.000,9,     -999,9,  20.5629,  20.5862,2
  316N20111106,  GT11,     8,  4,      6,      6,2,20111116,2234, 35.4159, -66.5468, 4990,    183.4,  18.9699,  36.6268,2,  36.6285,2,    184.2,2,    185.0,2,     0.88,2,     3.86,2,     0.00,2,     0.15,2, -999.000,9, -999.000,9, -999.000,9,     -999,9,  18.9369,  18.9683,2
  316N20111106,  GT11,     8,  4,      5,      5,2,20111116,2234, 35.4159, -66.5468, 4990,    283.8,  18.1724,  36.5945,2,  36.5947,2,    208.6,2,    207.4,2,     0.78,2,     3.39,2,     0.00,2,     0.13,2, -999.000,9, -999.000,9, -999.000,9,     -999,9,  18.1227,  18.1726,2
  316N20111106,  GT11,     8,  4,      4,      4,2,20111116,2234, 35.4159, -66.5468, 4990,    422.6,  17.6962,  36.5261,2,  36.5317,2,    211.2,2,    211.0,2,     1.07,2,     3.94,2,     0.00,2,     0.17,2, -999.000,9, -999.000,9, -999.000,9,     -999,9,  17.6234,  17.6959,2
  316N20111106,  GT11,     8,  4,      3,      3,2,20111116,2234, 35.4159, -66.5468, 4990,    553.2,  16.0129,  36.1827,2,  36.1907,2,    187.4,2,    186.8,2,     2.73,2,     8.76,2,     0.00,2,     0.47,2, -999.000,9, -999.000,9, -999.000,9,     -999,9,  15.9236,  16.0143,2
  316N20111106,  GT11,     8,  4,      2,      2,2,20111116,2234, 35.4159, -66.5468, 4990,    808.0,  10.4937,  35.3445,2,  35.3460,2,    145.1,2,    145.0,2,    11.22,2,    21.81,2,     0.00,2,     1.36,2, -999.000,9, -999.000,9, -999.000,9,     -999,9,  10.3938,  10.4933,2
  316N20111106,  GT11,     8,  4,      1,      1,2,20111116,2234, 35.4159, -66.5468, 4990,   1009.5,   6.5076,  35.0735,2,  35.0711,2,    196.0,2,    196.3,2,    13.47,2,    20.96,2,     0.00,2,     1.38,2, -999.000,9, -999.000,9, -999.000,9,     -999,9,   6.4111,   6.5075,2
  316N20111106,  GT11,     8,  6,     12,     12,2,20111116,0636, 35.4159, -66.5468, 4990,   1517.1,   4.3215,  34.9843,2,  34.9849,2,    256.6,2,    256.6,2,    11.32,2,    17.68,2,     0.00,2,     1.14,2,    2.561,2,    1.309,2, -999.000,1,      0.7,2,   4.1960,   4.3214,2
  316N20111106,  GT11,     8,  6,     11,     11,2,20111116,0636, 35.4159, -66.5468, 4990,   1819.9,   3.9700,  34.9702,2,  34.9707,2,    262.2,2,    261.7,2,    12.20,2,    17.49,2,     0.00,2,     1.14,2,    2.166,2,    1.079,2, -999.000,1,     0.47,2,   3.8203,   3.9700,2
  316N20111106,  GT11,     8,  6,     10,     10,2,20111116,0636, 35.4159, -66.5468, 4990,   2124.7,   3.6515,  34.9591,2,  34.9595,2,    264.8,2,    264.9,2,    13.95,2,    17.50,2,     0.00,2,     1.15,2,    1.742,2,    0.844,2, -999.000,1,     0.36,2,   3.4771,   3.6518,2
  316N20111106,  GT11,     8,  6,      9,      9,2,20111116,0636, 35.4159, -66.5468, 4990,   2430.3,   3.2927,  34.9485,2,  34.9492,2,    265.6,2,    265.6,2,    16.79,2,    17.64,2,     0.00,2,     1.17,2,    1.248,2,    0.601,2, -999.000,1,     0.24,2,   3.0943,   3.2925,2
  316N20111106,  GT11,     8,  6,      8,      8,2,20111116,0636, 35.4159, -66.5468, 4990,   2734.2,   3.0987,  34.9451,2,  34.9475,4,    263.9,2,    264.1,2,    19.42,2,    17.87,2,     0.00,2,     1.20,2,    0.887,2,    0.427,2, -999.000,1,     0.17,2,   2.8734,   3.0987,2
  316N20111106,  GT11,     8,  6,      7,      7,3,20111116,0636, 35.4159, -66.5468, 4990,   3040.8,   2.8271,  34.9311,2,  34.9935,4,    265.6,2,    262.8,4,    19.62,4,    17.43,4,     0.00,4,     1.17,4, -999.000,9, -999.000,9, -999.000,9,     -999,9,   2.5758,   2.8256,2
  316N20111106,  GT11,     8,  6,      6,      6,2,20111116,0636, 35.4159, -66.5468, 4990,   3350.2,   2.5381,  34.9141,2,  34.9140,2,    267.8,2,    268.5,2,    23.32,2,    17.71,2,     0.00,2,     1.21,2,    0.873,2,    0.425,2, -999.000,1,     0.18,2,   2.2608,   2.5382,2
  316N20111106,  GT11,     8,  6,      5,      5,2,20111116,0636, 35.4159, -66.5468, 4990,   3661.9,   2.3971,  34.9045,2,  34.9040,2,    268.3,2,    268.9,2,    25.67,2,    17.85,2,     0.00,2,     1.24,2,    0.845,2,    0.405,2, -999.000,1,     0.15,2,   2.0896,   2.3975,2
  316N20111106,  GT11,     8,  6,      4,      4,2,20111116,0636, 35.4159, -66.5468, 4990,   3963.4,   2.3105,  34.8966,2,  34.8985,4,    267.5,2,    267.5,2,    28.20,2,    18.15,2,     0.00,2,     1.30,3,    0.841,2,    0.404,2, -999.000,1,     0.15,2,   1.9716,   2.3114,2
  316N20111106,  GT11,     8,  6,      3,      3,2,20111116,0636, 35.4159, -66.5468, 4990,   4321.4,   2.2744,  34.8905,2,  34.8902,2,    265.4,2,    265.0,2,    31.13,2,    18.58,2,     0.00,2,     1.29,2,    0.763,2,    0.366,2, -999.000,1,     0.15,2,   1.8952,   2.2743,2
  316N20111106,  GT11,     8,  6,      2,      2,2,20111116,0636, 35.4159, -66.5468, 4990,   4655.5,   2.2537,  34.8844,2,  34.8845,2,    263.2,2,    262.6,2,    34.55,2,    19.12,2,     0.00,2,     1.33,2,    0.682,2,    0.336,2, -999.000,1,     0.14,2,   1.8352,   2.2537,2
  316N20111106,  GT11,     8,  6,      1,      1,4,20111116,0636, 35.4159, -66.5468, 4990,   4990.6,   2.2210,  34.8756,2,  34.9845,4,    257.5,2,    256.6,4,    11.71,4,    17.62,4,     0.00,4,     1.19,4,    2.549,3,    1.307,3, -999.000,1,     0.68,4,   1.7622,   2.2208,2
  316N20111106,  GT11,    10,  2,     12,     12,2,20111119,2026, 31.7565, -64.1786, 4637,     42.3,  24.1340,  36.5460,2,  36.5381,2,    209.1,2,    208.6,2,     0.19,2,     0.01,2,     0.00,2,     0.00,2,    1.791,2,    1.115,2,    0.183,2,     1.24,2,  24.1250,  24.1343,2
  316N20111106,  GT11,    10,  2,     11,     11,2,20111119,2026, 31.7565, -64.1786, 4637,     76.4,  24.1885,  36.6033,2,  36.5902,2,    209.1,2,    208.7,2,     0.10,2,     0.00,2,     0.00,2,     0.00,2,    1.786,2,    1.103,2,    0.159,2,     1.25,2,  24.1722,  24.1856,2
  316N20111106,  GT11,    10,  2,     10,     10,2,20111119,2026, 31.7565, -64.1786, 4637,     89.9,  22.1160,  36.6641,2,  36.6632,2,    219.8,2,    219.5,2,     0.00,2,     0.07,2,     0.03,2,     0.00,2,    2.055,2,    1.252,2,    0.162,2,     1.27,2,  22.0980,  22.1148,2
  316N20111106,  GT11,    10,  2,      9,      9,2,20111119,2026, 31.7565, -64.1786, 4637,    110.7,  20.5519,  36.7218,2,  36.7199,2,    189.7,2,    190.2,2,     0.49,2,     2.09,2,     0.02,2,     0.10,2,    2.126,2,    1.282,2,    0.084,2,     1.27,2,  20.5309,  20.5475,2
  316N20111106,  GT11,    10,  2,      8,      8,2,20111119,2026, 31.7565, -64.1786, 4637,    184.0,  18.4814,  36.5911,2,  36.5916,2,    203.9,2,    202.1,2,     0.49,2,     2.14,2,     0.00,2,     0.05,2,    2.287,2,    1.369,2,    0.116,2,     1.35,2,  18.4489,  18.4816,2
  316N20111106,  GT11,    10,  2,      7,      7,2,20111119,2026, 31.7565, -64.1786, 4637,    235.5,  18.2458,  36.5914,2,  36.5892,2,    205.4,2,    204.6,2,     0.78,2,     3.45,2,     0.00,2,     0.14,2,    2.276,2,    1.367,2,    0.062,2,     1.31,2,  18.2045,  18.2458,2
  316N20111106,  GT11,    10,  2,      6,      6,2,20111119,2026, 31.7565, -64.1786, 4637,    284.1,  18.0716,  36.5761,2,  36.5765,2,    206.4,2,    206.9,2,     0.88,2,     3.61,2,     0.00,2,     0.15,2,    2.340,2,    1.421,2,    0.088,2,     1.33,2,  18.0221,  18.0760,2
  316N20111106,  GT11,    10,  2,      5,      5,2,20111119,2026, 31.7565, -64.1786, 4637,    418.3,  17.5092,  36.4808,2,  36.4808,2,    203.6,2,    203.7,2,     1.17,2,     4.88,2,     0.00,2,     0.22,2,    2.378,2,    1.427,2,    0.066,2,     1.29,2,  17.4376,  17.5091,2
  316N20111106,  GT11,    10,  2,      4,      4,2,20111119,2026, 31.7565, -64.1786, 4637,    502.1,  16.7374,  36.3218,2,  36.3224,2,    193.6,2,    190.3,2,     2.05,2,     7.36,2,     0.00,2,     0.39,2,    2.380,2,    1.403,2,    0.057,2,     1.16,2,  16.6540,  16.7312,2
  316N20111106,  GT11,    10,  2,      3,      3,2,20111119,2026, 31.7565, -64.1786, 4637,    805.6,  10.5304,  35.3563,2,  35.3562,2,    146.8,2,    146.8,2,    11.32,2,    21.61,2,     0.00,2,     1.35,2,    1.562,2,    0.812,2,    0.031,2,     0.62,2,  10.4306,  10.5304,2
  316N20111106,  GT11,    10,  2,      2,      2,2,20111119,2026, 31.7565, -64.1786, 4637,    980.1,   6.7651,  35.0819,2,  35.0835,2,    190.1,2,    190.3,2,    13.47,2,    21.22,2,     0.00,2,     1.39,2,    1.717,2,    0.877,2,    0.069,2,     0.54,2,   6.6697,   6.7505,3
  316N20111106,  GT11,    10,  2,      1,      1,2,20111119,2026, 31.7565, -64.1786, 4637,   1212.0,   5.0820,  35.0326,2,  35.0294,2,    238.8,2,    238.8,2,    11.81,2,    18.35,2,     0.00,2,     1.22,2,    2.443,2,    1.251,2,    0.128,2,     0.69,2,   4.9774,   5.0798,2
  316N20111106,  GT11,    10,  4,     12,     12,2,20111119,0506, 31.7565, -64.1786, 4637,   1514.2,   4.2359,  34.9847,2,  34.9870,2,    257.7,2,    258.3,2,    12.00,2,    17.52,2,     0.00,2,     1.16,2,    2.432,2,    1.224,2,    0.139,2,      0.6,2,   4.1117,   4.2362,2
  316N20111106,  GT11,    10,  4,     11,     11,2,20111119,0506, 31.7565, -64.1786, 4637,   1820.9,   3.8523,  34.9763,2,  34.9766,2,    262.3,2,    261.8,2,    13.47,2,    17.48,2,     0.00,2,     1.15,2,    1.816,2,    0.869,2,    0.093,2,     0.36,2,   3.7041,   3.8542,2
  316N20111106,  GT11,    10,  4,     10,     10,2,20111119,0506, 31.7565, -64.1786, 4637,   2126.8,   3.6125,  34.9798,2,  34.9795,2,    260.4,2,    260.5,2,    16.49,2,    17.84,2,     0.00,2,     1.19,2,    1.123,2,    0.533,2,    0.049,2,      0.2,2,   3.4384,   3.6123,2
  316N20111106,  GT11,    10,  4,      9,      9,2,20111119,0506, 31.7565, -64.1786, 4637,   2326.4,   3.4085,  34.9717,2,  34.9721,2,    260.1,2,    259.4,2,    18.93,2,    18.05,2,     0.02,3,     1.21,2,    0.792,2,    0.371,2,    0.032,2,     0.14,2,   3.2183,   3.4084,2
  316N20111106,  GT11,    10,  4,      8,      8,2,20111119,0506, 31.7565, -64.1786, 4637,   2735.1,   2.9379,  34.9374,2,  34.9400,2,    265.1,2,    265.4,2,    20.20,2,    17.71,2,     0.00,2,     1.20,2,    0.908,2,    0.430,2,    0.036,2,     0.19,2,   2.7157,   2.9390,2
  316N20111106,  GT11,    10,  4,      7,      7,2,20111119,0506, 31.7565, -64.1786, 4637,   3043.6,   2.6293,  34.9218,2,  34.9223,2,    266.6,2,    266.9,2,    23.13,2,    17.82,2,     0.00,2,     1.22,2,    0.735,2,    0.346,2,    0.031,2,     0.14,2,   2.3821,   2.6302,2
  316N20111106,  GT11,    10,  4,      6,      6,2,20111119,0506, 31.7565, -64.1786, 4637,   3347.2,   2.4240,  34.9086,2,  34.9085,2,    267.5,2,    267.9,2,    25.57,2,    17.88,2,     0.00,2,     1.22,2,    0.761,2,    0.359,2,    0.031,2,     0.15,2,   2.1498,   2.4245,2
  316N20111106,  GT11,    10,  4,      5,      5,3,20111119,0506, 31.7565, -64.1786, 4637,   3653.4,   2.2761,  34.8959,2,  34.8957,2,    266.4,2,    266.5,2,    29.18,2,    18.23,2,     0.00,2,     1.25,2,    0.871,2,    0.415,2,    0.046,2,     0.18,2,   1.9727,   2.2763,2
  316N20111106,  GT11,    10,  4,      4,      4,2,20111119,0506, 31.7565, -64.1786, 4637,   3962.0,   2.2053,  34.8875,2,  34.8871,2,    264.6,2,    265.0,2,    32.79,2,    18.71,2,     0.00,2,     1.29,2,    0.874,2,    0.414,2,    0.048,2,      0.2,2,   1.8696,   2.2052,2
  316N20111106,  GT11,    10,  4,      3,      3,2,20111119,0506, 31.7565, -64.1786, 4637,   4266.0,   2.1990,  34.8833,2,  34.8841,2,    262.8,2,    262.8,2,    35.33,2,    19.10,2,     0.00,2,     1.32,2,    0.757,2, -999.000,9,    0.041,2,     0.19,2,   1.8286,   2.1989,2
  316N20111106,  GT11,    10,  4,      2,      2,2,20111119,0506, 31.7565, -64.1786, 4637,   4514.2,   2.2100,  34.8812,2,  34.8812,2,    262.0,2,    261.2,2,    36.89,2,    19.35,2,     0.00,2,     1.34,2,    0.681,2,    0.339,2,    0.039,2,     0.18,2,   1.8099,   2.2100,2
  316N20111106,  GT11,    10,  4,      1,      1,2,20111119,0506, 31.7565, -64.1786, 4637,   4620.7,   2.2197,  34.8807,2,  34.8822,2,    261.0,2,    261.3,2,    37.18,2,    19.42,2,     0.00,2,     1.36,2,    0.670,2,    0.343,2,    0.036,2,     0.17,2,   1.8065,   2.2196,2
  316N20111106,  GT11,    10,  6,     13,     99,2,20111119,1155, 31.7565, -64.1786, 4637,      0.8,  23.9574,  36.5484,2,  36.5458,2,   -999.0,9,   -999.0,9,  -999.00,9,  -999.00,9,  -999.00,9,  -999.00,9, -999.000,9, -999.000,9, -999.000,9,     -999,9,  23.9572,-999.0000,9
  316N20111106,  GT11,    10,  6,     12,     12,2,20111119,1155, 31.7565, -64.1786, 4637,     20.7,  24.0246,  36.5930,2,  36.5620,2,    208.7,2,    208.8,2,     0.39,2,     0.01,2,     0.00,2,     0.03,2, -999.000,9, -999.000,9, -999.000,9,     -999,9,  24.0202,  24.0222,2
  316N20111106,  GT11,    10,  6,     11,     11,2,20111119,1155, 31.7565, -64.1786, 4637,     40.9,  24.0846,  36.6374,2,  36.6340,2,    208.5,2,    209.3,2,     0.29,2,     0.00,2,     0.00,2,     0.00,2, -999.000,9, -999.000,9, -999.000,9,     -999,9,  24.0759,  24.0810,2
  316N20111106,  GT11,    10,  6,     10,     10,2,20111119,1155, 31.7565, -64.1786, 4637,     74.9,  24.0562,  36.6471,2,  36.6467,2,    209.9,2,    209.7,2,     0.19,2,     0.00,2,     0.00,2,     0.00,2, -999.000,9, -999.000,9, -999.000,9,     -999,9,  24.0403,  24.0561,2
  316N20111106,  GT11,    10,  6,      9,      9,2,20111119,1155, 31.7565, -64.1786, 4637,     89.6,  22.5685,  36.6903,2,  36.6877,2,    216.4,2,    219.8,2,     0.00,2,     0.00,2,     0.00,2,     0.00,2, -999.000,9, -999.000,9, -999.000,9,     -999,9,  22.5503,  22.6304,3
  316N20111106,  GT11,    10,  6,      8,      8,2,20111119,1155, 31.7565, -64.1786, 4637,    111.2,  20.3991,  36.6901,2,  36.6857,2,    217.7,2,    213.5,2,     0.10,2,     0.06,2,     0.14,2,     0.00,2, -999.000,9, -999.000,9, -999.000,9,     -999,9,  20.3781,  20.4028,2
  316N20111106,  GT11,    10,  6,      7,      7,2,20111119,1155, 31.7565, -64.1786, 4637,    149.8,  18.9582,  36.6337,2,  36.6308,2,    198.1,2,    198.6,2,     0.49,2,     2.11,2,     0.01,2,     0.06,2, -999.000,9, -999.000,9, -999.000,9,     -999,9,  18.9313,  18.9575,2
  316N20111106,  GT11,    10,  6,      6,      6,2,20111119,1155, 31.7565, -64.1786, 4637,    186.1,  18.3929,  36.5877,2,  36.5866,2,    200.1,2,    199.3,2,     0.58,2,     3.16,2,     0.00,2,     0.10,2, -999.000,9, -999.000,9, -999.000,9,     -999,9,  18.3601,  18.3930,2
  316N20111106,  GT11,    10,  6,      5,     15,2,20111119,1155, 31.7565, -64.1786, 4637,    234.0,  18.1170,  36.5710,2,  36.5704,2,    205.7,2,    205.9,2,     0.78,2,     3.64,2,     0.00,2,     0.17,2, -999.000,9, -999.000,9, -999.000,9,     -999,9,  18.0762,  18.1173,2
  316N20111106,  GT11,    10,  6,      4,      4,2,20111119,1155, 31.7565, -64.1786, 4637,    340.8,  17.8124,  36.5432,2,  36.5422,2,    209.4,2,    209.5,2,     0.88,2,     3.92,2,     0.00,2,     0.17,2, -999.000,9, -999.000,9, -999.000,9,     -999,9,  17.7535,  17.8122,2
  316N20111106,  GT11,    10,  6,      3,      3,2,20111119,1155, 31.7565, -64.1786, 4637,    425.4,  17.5082,  36.4907,2,  36.4913,2,    209.7,2,    209.5,2,     1.07,2,     4.41,2,     0.00,2,     0.19,2, -999.000,9, -999.000,9, -999.000,9,     -999,9,  17.4354,  17.5084,2
  316N20111106,  GT11,    10,  6,      2,      2,2,20111119,1155, 31.7565, -64.1786, 4637,    605.8,  15.0725,  36.0104,2,  36.0115,2,    170.6,2,    170.3,2,     4.00,2,    11.95,2,     0.00,2,     0.68,2, -999.000,9, -999.000,9, -999.000,9,     -999,9,  14.9786,  15.0700,2
  316N20111106,  GT11,    10,  6,      1,      1,2,20111119,1155, 31.7565, -64.1786, 4637,    804.4,  10.3205,  35.3238,2,  35.3216,2,    141.9,2,    142.1,2,    12.10,2,    22.49,2,     0.00,2,     1.40,2, -999.000,9, -999.000,9, -999.000,9,     -999,9,  10.2221,  10.3212,2