BOTTLE,20170320PRINUNIVRMK
EXPOCODE,SECT_ID,STNNBR,CASTNO,SAMPNO,BTLNBR,BTLNBR_FLAG_W,DATE,TIME,LATITUDE,LONGITUDE,DEPTH,CTDPRS,CTDTMP,CTDSAL,CTDSAL_FLAG_W,SALNTY,SALNTY_FLAG_W,CTDOXY,CTDOXY_FLAG_W,OXYGEN,OXYGEN_FLAG_W,SILCAT,SILCAT_FLAG_W,NITRAT,NITRAT_FLAG_W,NITRIT,NITRIT_FLAG_W,PHSPHT,PHSPHT_FLAG_W,CFC-11,CFC-11_FLAG_W,CFC-12,CFC-12_FLAG_W,CFC113,CFC113_FLAG_W,SF6,SF6_FLAG_W,THETA,SBE35,SBE35_FLAG_W
,,,,,,,,,,,METERS,DBAR,ITS-90,PSS-78,,PSS-78,,UMOL/KG,,UMOL/KG,,UMOL/KG,,UMOL/KG,,UMOL/KG,,UMOL/KG,,PMOL/KG,,PMOL/KG,,PMOL/KG,,FMOL/KG,,DEG C,ITS-90,
  316N20111106,  GT11,     3,  5,     12,     12,2,20111110,0913, 38.6741, -69.1102, 3317,    972.9,   4.7859,  35.0021,2,  35.0006,2,    245.4,2,    245.0,2,    11.71,2,    17.94,2,     0.00,2,     1.19,2,    2.652,2,    1.343,2, -999.000,5,     0.68,2,   4.7058,   4.7860,2
  316N20111106,  GT11,     3,  5,     11,     11,2,20111110,0913, 38.6741, -69.1102, 3317,   1088.6,   4.5211,  34.9920,2,  34.9913,2,    250.5,2,    251.7,2,    11.51,2,    17.57,2,     0.00,2,     1.17,2,    2.692,2,    1.354,2, -999.000,5,     0.77,2,   4.4328,   4.5210,2
  316N20111106,  GT11,     3,  5,     10,     10,2,20111110,0913, 38.6741, -69.1102, 3317,   1214.2,   4.2781,  34.9755,2,  34.9756,2,    258.5,2,    257.4,2,    11.42,2,    17.50,2,     0.00,2,     1.16,2,    2.731,2,    1.384,2, -999.000,5,     0.82,2,   4.1808,   4.2798,2
  316N20111106,  GT11,     3,  5,      9,      9,2,20111110,0913, 38.6741, -69.1102, 3317,   1363.1,   4.0754,  34.9652,2,  34.9646,2,    261.7,2,    261.1,2,    11.71,2,    17.40,2,     0.00,2,     1.17,2,    2.625,2,    1.302,2, -999.000,5,     0.71,2,   3.9668,   4.0757,2
  316N20111106,  GT11,     3,  5,      8,      8,2,20111110,0913, 38.6741, -69.1102, 3317,   1517.5,   3.9490,  34.9653,2,  34.9646,2,    261.7,2,    262.0,2,    12.20,2,    17.48,2,     0.00,2,     1.22,2,    2.313,2,    1.119,2, -999.000,5,     0.53,2,   3.8278,   3.9490,2
  316N20111106,  GT11,     3,  5,      7,      7,2,20111110,0913, 38.6741, -69.1102, 3317,   1826.5,   3.6176,  34.9494,2,  34.9474,2,    266.2,2,    266.2,2,    13.27,2,    17.36,2,     0.00,2,     1.18,2,    1.979,2,    0.951,2, -999.000,5,      0.4,2,   3.4721,   3.6180,2
  316N20111106,  GT11,     3,  5,      6,      6,2,20111110,0913, 38.6741, -69.1102, 3317,   2124.3,   3.3995,  34.9450,2,  34.9437,2,    266.9,2,    267.1,2,    14.74,2,    17.32,2,     0.00,2,     1.18,2,    1.662,2,    0.790,2, -999.000,5,     0.26,2,   3.2292,   3.3996,2
  316N20111106,  GT11,     3,  5,      5,      5,2,20111110,0913, 38.6741, -69.1102, 3317,   2435.3,   3.1052,  34.9405,2,  34.9397,2,    266.1,2,    266.7,2,    17.47,2,    17.40,2,     0.00,2,     1.19,2,    1.260,2,    0.600,2, -999.000,5,     0.26,2,   2.9097,   3.1047,2
  316N20111106,  GT11,     3,  5,      4,      4,2,20111110,0913, 38.6741, -69.1102, 3317,   2735.4,   2.8163,  34.9277,2,  34.9277,2,    267.9,2,    268.2,2,    19.32,2,    17.32,2,     0.00,2,     1.19,2,    1.270,2,    0.610,2, -999.000,5,     0.28,2,   2.5965,   2.8162,2
  316N20111106,  GT11,     3,  5,      3,      3,2,20111110,0913, 38.6741, -69.1102, 3317,   2941.8,   2.6188,  34.9164,2,  34.9181,2,    270.5,2,    271.0,2,    19.71,2,    17.04,2,     0.00,2,     1.18,2,    1.556,2,    0.749,2, -999.000,5,     0.34,2,   2.3823,   2.6182,2
  316N20111106,  GT11,     3,  5,      2,      2,2,20111110,0913, 38.6741, -69.1102, 3317,   3157.6,   2.4075,  34.9051,2,  34.9049,2,    272.2,2,    273.0,2,    20.79,2,    16.90,2,     0.00,2,     1.18,2,    1.772,2,    0.865,2, -999.000,5,     0.39,2,   2.1536,   2.4079,2
  316N20111106,  GT11,     3,  5,      1,      1,2,20111110,0913, 38.6741, -69.1102, 3317,   3317.5,   2.2216,  34.8936,2,  34.9096,3,    272.7,2,    272.3,2,    20.30,2,    16.97,2,     0.00,2,     1.17,2,    1.694,2,    0.813,2, -999.000,5,     0.34,2,   1.9554,   2.2215,2
  316N20111106,  GT11,     3,  6,     13,     99,2,20111110,1411, 38.6741, -69.1102, 3317,      0.8,  24.3002,  36.0158,2,  36.0200,2,   -999.0,9,   -999.0,9,  -999.00,9,  -999.00,9,  -999.00,9,  -999.00,9, -999.000,9, -999.000,9, -999.000,9,     -999,9,  24.3000,-999.0000,9
  316N20111106,  GT11,     3,  6,     12,     12,2,20111110,1411, 38.6741, -69.1102, 3317,     28.7,  24.3406,  36.0272,2,  36.0204,2,    203.8,2,    204.9,2,     0.88,2,     0.06,2,     0.03,2,     0.01,2, -999.000,9, -999.000,9, -999.000,9,     -999,9,  24.3345,  24.3401,2
  316N20111106,  GT11,     3,  6,     11,     11,2,20111110,1411, 38.6741, -69.1102, 3317,     45.6,  24.5654,  36.2132,2,  36.2314,2,    194.6,2,    196.2,2,     0.88,2,     0.25,2,     0.13,2,     0.02,2, -999.000,9, -999.000,9, -999.000,9,     -999,9,  24.5556,  24.5682,2
  316N20111106,  GT11,     3,  6,     10,     10,2,20111110,1411, 38.6741, -69.1102, 3317,     62.0,  24.5962,  36.4371,2,  36.4316,2,    182.4,2,    179.1,2,     0.88,2,     1.17,2,     0.06,2,     0.06,2, -999.000,9, -999.000,9, -999.000,9,     -999,9,  24.5828,  24.5978,2
  316N20111106,  GT11,     3,  6,      9,      9,2,20111110,1411, 38.6741, -69.1102, 3317,     85.9,  21.8127,  36.5335,2,  36.4977,3,    167.7,2,    187.3,3,     1.85,2,     3.92,2,     0.02,2,     0.22,2, -999.000,9, -999.000,9, -999.000,9,     -999,9,  21.7957,  21.8181,2
  316N20111106,  GT11,     3,  6,      8,      8,2,20111110,1411, 38.6741, -69.1102, 3317,    112.6,  20.5694,  36.7205,2,  36.7227,2,    150.9,2,    150.4,2,     1.75,2,     6.13,2,     0.00,2,     0.30,2, -999.000,9, -999.000,9, -999.000,9,     -999,9,  20.5480,  20.5712,2
  316N20111106,  GT11,     3,  6,      7,      7,2,20111110,1411, 38.6741, -69.1102, 3317,    136.4,  19.5848,  36.7010,2,  36.7015,2,    169.5,2,    180.0,2,     0.97,2,     3.47,2,     0.00,2,     0.18,2, -999.000,9, -999.000,9, -999.000,9,     -999,9,  19.5597,  19.5842,2
  316N20111106,  GT11,     3,  6,      6,      6,2,20111110,1411, 38.6741, -69.1102, 3317,    150.8,  19.1813,  36.6611,2,  36.6618,2,    179.7,2,    179.4,2,     1.07,2,     4.04,2,     0.00,2,     0.18,2, -999.000,9, -999.000,9, -999.000,9,     -999,9,  19.1540,  19.1794,2
  316N20111106,  GT11,     3,  6,      5,      5,2,20111110,1411, 38.6741, -69.1102, 3317,    186.5,  18.5732,  36.6048,2,  36.6063,2,    189.0,2,    189.5,2,     1.07,2,     4.02,2,     0.00,2,     0.18,2, -999.000,9, -999.000,9, -999.000,9,     -999,9,  18.5401,  18.5751,2
  316N20111106,  GT11,     3,  6,      4,      4,2,20111110,1411, 38.6741, -69.1102, 3317,    232.6,  17.9876,  36.5184,2,  36.5213,2,    186.4,2,    185.1,2,     1.36,2,     5.52,2,     0.00,2,     0.27,2, -999.000,9, -999.000,9, -999.000,9,     -999,9,  17.9472,  17.9918,2
  316N20111106,  GT11,     3,  6,      3,      3,2,20111110,1411, 38.6741, -69.1102, 3317,    290.1,  17.3730,  36.4226,2,  36.4276,2,    185.0,2,    186.2,2,     1.75,2,     6.53,2,     0.00,2,     0.33,2, -999.000,9, -999.000,9, -999.000,9,     -999,9,  17.3238,  17.3762,2
  316N20111106,  GT11,     3,  6,      2,      2,2,20111110,1411, 38.6741, -69.1102, 3317,    542.8,  10.1804,  35.2725,2,  35.2683,2,    128.8,2,    129.4,2,    13.27,2,    24.33,2,     0.00,2,     1.52,2, -999.000,9, -999.000,9, -999.000,9,     -999,9,  10.1154,  10.1802,2
  316N20111106,  GT11,     3,  6,      1,      1,2,20111110,1411, 38.6741, -69.1102, 3317,    668.1,   7.8558,  35.1262,2,  35.1223,2,    162.1,2,    162.7,2,    13.95,2,    23.19,2,     0.00,2,     1.49,2, -999.000,9, -999.000,9, -999.000,9,     -999,9,   7.7867,   7.8623,2
  316N20111106,  GT11,     4,  1,     12,     12,2,20111112,1539, 38.3245, -68.8725, 3845,     39.9,  23.5359,  36.1259,2,  36.1246,2,    208.0,2,    207.8,2,     0.39,2,     0.00,2,     0.00,2,     0.01,2,    1.852,2,    1.128,2, -999.000,5,     1.21,2,  23.5276,  23.5362,2
  316N20111106,  GT11,     4,  1,     11,     11,2,20111112,1539, 38.3245, -68.8725, 3845,     66.3,  23.5447,  36.1283,2,  36.1274,2,    207.7,2,    207.7,2,     0.39,2,     0.00,2,     0.00,2,     0.00,2,    1.856,2,    1.129,2, -999.000,5,     1.27,2,  23.5309,  23.5459,2
  316N20111106,  GT11,     4,  1,     10,     10,2,20111112,1539, 38.3245, -68.8725, 3845,     91.6,  23.5707,  36.1381,2,  36.1355,2,    207.8,2,    207.6,2,     0.29,2,     0.00,2,     0.00,2,     0.00,2,    1.856,2,    1.125,2, -999.000,5,     1.36,2,  23.5516,  23.5693,2
  316N20111106,  GT11,     4,  1,      9,      9,2,20111112,1539, 38.3245, -68.8725, 3845,    112.0,  23.7450,  36.3612,2,  36.3601,2,    205.8,2,    205.6,2,     0.19,2,     0.02,2,     0.03,2,     0.00,2,    1.847,2,    1.122,2, -999.000,5,     1.21,2,  23.7215,  23.7434,2
  316N20111106,  GT11,     4,  1,      8,      8,2,20111112,1539, 38.3245, -68.8725, 3845,    136.3,  22.7248,  36.7501,2,  36.7446,2,    192.3,2,    189.2,2,     0.19,2,     1.25,2,     0.02,2,     0.04,2,    1.992,2,    1.205,2, -999.000,5,     1.22,2,  22.6970,  22.7248,2
  316N20111106,  GT11,     4,  1,      7,      7,2,20111112,1539, 38.3245, -68.8725, 3845,    185.7,  20.1582,  36.6931,2,  36.6968,2,    185.9,2,    185.7,2,     0.49,2,     2.72,2,     0.00,2,     0.11,2,    2.166,2,    1.286,2, -999.000,5,     1.21,2,  20.1233,  20.1319,3
  316N20111106,  GT11,     4,  1,      6,      6,2,20111112,1539, 38.3245, -68.8725, 3845,    238.8,  18.7954,  36.6168,2,  36.6142,2,    193.1,2,    193.1,2,     0.58,2,     3.36,2,     0.00,2,     0.12,2,    2.267,2,    1.344,2, -999.000,5,     1.22,2,  18.7527,  18.7958,2
  316N20111106,  GT11,     4,  1,      5,      5,2,20111112,1539, 38.3245, -68.8725, 3845,    287.9,  18.3532,  36.5841,2,  36.5828,2,    197.2,2,    197.0,2,     0.68,2,     3.90,2,     0.00,2,     0.16,2,    2.305,2,    1.356,2, -999.000,5,     1.22,2,  18.3025,  18.3530,2
  316N20111106,  GT11,     4,  1,      4,      4,9,20111112,1539, 38.3245, -68.8725, 3845,    425.4,  17.6055,  36.4777,2,-999.0000,9,   -999.0,9,   -999.0,9,  -999.00,9,  -999.00,9,  -999.00,9,  -999.00,9, -999.000,9, -999.000,9, -999.000,9,     -999,9,  17.5325,  17.6054,2
  316N20111106,  GT11,     4,  1,      3,      3,2,20111112,1539, 38.3245, -68.8725, 3845,    554.2,  15.0647,  35.9900,2,  35.9945,2,    155.0,2,    153.5,2,     4.49,2,    13.59,2,     0.00,2,     0.78,2,    2.196,2,    1.214,2, -999.000,5,     0.87,2,  14.9789,  15.0510,3
  316N20111106,  GT11,     4,  1,      2,      2,2,20111112,1539, 38.3245, -68.8725, 3845,    628.0,  13.2195,  35.7175,2,  35.7177,2,    161.0,2,    161.0,2,     6.14,2,    15.67,2,     0.00,2,     0.94,2,    2.114,2,    1.138,2, -999.000,5,     0.87,2,  13.1302,  13.2193,2
  316N20111106,  GT11,     4,  1,      1,      1,2,20111112,1539, 38.3245, -68.8725, 3845,    806.0,   9.2396,  35.2153,2,  35.2138,2,    144.9,2,    144.7,2,    13.37,2,    23.66,2,     0.00,2,     1.50,2,    1.300,2,    0.656,2, -999.000,5,     0.57,2,   9.1473,   9.2527,3
  316N20111106,  GT11,     4,  3,     12,     12,2,20111112,0110, 38.3245, -68.8725, 3845,    973.0,   6.2197,  35.0668,2,  35.0664,2,    204.0,2,    203.3,2,    12.98,2,    20.72,2,     0.00,2,     1.34,2,    1.841,2,    0.938,2, -999.000,5,      0.6,2,   6.1290,   6.2197,2
  316N20111106,  GT11,     4,  3,     11,     11,2,20111112,0110, 38.3245, -68.8725, 3845,   1083.8,   5.2443,  35.0142,2,  35.0129,2,    229.3,2,    231.2,2,    12.20,2,    18.86,2,     0.00,2,     1.23,2,    2.498,2,    1.294,2, -999.000,5,     0.82,2,   5.1505,   5.2446,2
  316N20111106,  GT11,     4,  3,     10,     10,2,20111112,0110, 38.3245, -68.8725, 3845,   1207.7,   4.7441,  34.9896,2,  34.9887,2,    247.6,2,    246.9,2,    11.71,2,    17.99,2,     0.00,2,     1.19,2,    2.815,2,    1.462,2, -999.000,5,     0.92,2,   4.6431,   4.7449,2
  316N20111106,  GT11,     4,  3,      9,      9,2,20111112,0110, 38.3245, -68.8725, 3845,   1509.6,   4.2800,  34.9743,2,  34.9735,2,    257.5,2,    257.6,2,    11.81,2,    17.65,2,     0.00,2,     1.17,2,    2.684,2,    1.364,2, -999.000,5,     0.77,2,   4.1557,   4.2804,2
  316N20111106,  GT11,     4,  3,      8,      8,2,20111112,0110, 38.3245, -68.8725, 3845,   1817.2,   3.9894,  34.9666,2,  34.9664,2,    261.4,2,    261.4,2,    12.49,2,    17.60,2,     0.00,2,     1.18,2,    2.268,2,    1.123,2, -999.000,5,     0.59,2,   3.8397,   3.9895,2
  316N20111106,  GT11,     4,  3,      7,      7,2,20111112,0110, 38.3245, -68.8725, 3845,   2128.7,   3.6855,  34.9525,2,  34.9527,2,    265.9,2,    265.3,2,    13.37,2,    17.52,2,     0.00,2,     1.17,2,    1.953,2,    0.939,2, -999.000,5,     0.47,2,   3.5102,   3.6841,2
  316N20111106,  GT11,     4,  3,      6,      6,2,20111112,0110, 38.3245, -68.8725, 3845,   2433.3,   3.4274,  34.9433,2,  34.9423,2,    267.5,2,    267.3,2,    14.83,2,    17.47,2,     0.00,2,     1.17,2,    1.708,2,    0.827,2, -999.000,5,     0.41,2,   3.2263,   3.4274,2
  316N20111106,  GT11,     4,  3,      5,      5,2,20111112,0110, 38.3245, -68.8725, 3845,   2743.6,   3.2128,  34.9410,2,  34.9409,2,    267.0,2,    266.6,2,    17.08,2,    17.53,2,     0.00,2,     1.18,2,    1.374,2,    0.658,2, -999.000,5,     0.38,2,   2.9842,   3.2128,2
  316N20111106,  GT11,     4,  3,      4,      4,2,20111112,0110, 38.3245, -68.8725, 3845,   3043.6,   2.9951,  34.9320,2,  34.9322,2,    267.5,2,    268.2,2,    18.25,2,    17.36,2,     0.00,2,     1.18,2,    1.401,2,    0.672,2, -999.000,5,     0.38,2,   2.7398,   2.9949,2
  316N20111106,  GT11,     4,  3,      3,      3,2,20111112,0110, 38.3245, -68.8725, 3845,   3351.8,   2.7658,  34.9204,2,  34.9183,2,    270.3,2,    270.8,2,    18.83,2,    17.08,2,     0.00,2,     1.16,2,    1.593,2,    0.774,2, -999.000,5,     0.46,2,   2.4829,   2.7659,2
  316N20111106,  GT11,     4,  3,      2,      2,2,20111112,0110, 38.3245, -68.8725, 3845,   3743.9,   2.1821,  34.8871,2,  34.8941,4,    266.6,2,    266.1,2,    31.52,2,    18.44,2,     0.02,2,     1.34,2,    1.247,2,    0.609,2, -999.000,5,     0.38,2,   1.8713,   2.1821,2
  316N20111106,  GT11,     4,  3,      1,      1,2,20111112,0110, 38.3245, -68.8725, 3845,   3845.2,   2.1677,  34.8847,2,  34.8842,2,    264.3,2,    264.3,2,    33.86,2,    18.82,2,     0.04,2,     1.41,2,    1.085,2,    0.533,2, -999.000,5,     0.34,2,   1.8461,   2.1678,2
  316N20111106,  GT11,     4,  4,     13,     99,2,20111112,0608, 38.3245, -68.8725, 3845,      0.8,  23.6589,  36.2463,2,  36.2545,2,   -999.0,9,   -999.0,9,  -999.00,9,  -999.00,9,  -999.00,9,  -999.00,9, -999.000,9, -999.000,9, -999.000,9,     -999,9,  23.6587,-999.0000,9
  316N20111106,  GT11,     4,  4,     12,     12,2,20111112,0608, 38.3245, -68.8725, 3845,     20.6,  23.6739,  36.2460,2,  36.2442,2,    206.1,2,    206.5,2,     0.29,2,     0.01,2,     0.03,2,     0.00,2, -999.000,9, -999.000,9, -999.000,9,     -999,9,  23.6696,  23.6743,2
  316N20111106,  GT11,     4,  4,     11,     11,2,20111112,0608, 38.3245, -68.8725, 3845,     40.4,  23.6843,  36.2445,2,  36.2430,2,    206.6,2,    206.3,2,     0.29,2,     0.01,2,     0.03,2,     0.00,2, -999.000,9, -999.000,9, -999.000,9,     -999,9,  23.6758,  23.6846,2
  316N20111106,  GT11,     4,  4,     10,     10,2,20111112,0608, 38.3245, -68.8725, 3845,     65.2,  23.6902,  36.2444,2,  36.2426,2,    207.0,2,    206.5,2,     0.29,2,     0.01,2,     0.03,2,     0.00,2, -999.000,9, -999.000,9, -999.000,9,     -999,9,  23.6765,  23.6910,2
  316N20111106,  GT11,     4,  4,      9,      9,2,20111112,0608, 38.3245, -68.8725, 3845,     89.6,  23.7038,  36.2564,2,  36.2551,2,    206.8,2,    206.1,2,     0.29,2,     0.03,2,     0.03,2,     0.00,2, -999.000,9, -999.000,9, -999.000,9,     -999,9,  23.6850,  23.7044,2
  316N20111106,  GT11,     4,  4,      8,      8,2,20111112,0608, 38.3245, -68.8725, 3845,    111.7,  23.6206,  36.5619,2,  36.5656,2,    194.0,2,    194.1,2,     0.19,2,     0.66,2,     0.07,2,     0.00,2, -999.000,9, -999.000,9, -999.000,9,     -999,9,  23.5972,  23.6224,2
  316N20111106,  GT11,     4,  4,      7,      7,2,20111112,0608, 38.3245, -68.8725, 3845,    136.3,  22.0999,  36.7489,2,  36.7475,2,    196.9,2,    197.4,2,     0.10,2,     0.91,2,     0.06,2,     0.02,2, -999.000,9, -999.000,9, -999.000,9,     -999,9,  22.0726,  22.1050,2
  316N20111106,  GT11,     4,  4,      6,      6,2,20111112,0608, 38.3245, -68.8725, 3845,    161.5,  20.9768,  36.7787,2,  36.7741,2,    190.3,2,    189.3,2,     0.19,2,     1.82,2,     0.00,2,     0.04,2, -999.000,9, -999.000,9, -999.000,9,     -999,9,  20.9456,  20.9757,2
  316N20111106,  GT11,     4,  4,      5,      5,2,20111112,0608, 38.3245, -68.8725, 3845,    187.0,  19.9555,  36.7298,2,  36.7292,2,    190.7,2,    191.2,2,     0.19,2,     2.01,2,     0.00,2,     0.05,2, -999.000,9, -999.000,9, -999.000,9,     -999,9,  19.9206,  19.9549,2
  316N20111106,  GT11,     4,  4,      4,      4,2,20111112,0608, 38.3245, -68.8725, 3845,    239.6,  18.8234,  36.6335,2,  36.6333,2,    194.3,2,    193.8,2,     0.39,2,     3.29,2,     0.00,2,     0.10,2, -999.000,9, -999.000,9, -999.000,9,     -999,9,  18.7805,  18.8247,2
  316N20111106,  GT11,     4,  4,      3,      3,2,20111112,0608, 38.3245, -68.8725, 3845,    426.3,  17.4765,  36.4590,2,  36.4607,2,    195.9,2,    195.9,2,     1.17,2,     5.60,2,     0.00,2,     0.24,2, -999.000,9, -999.000,9, -999.000,9,     -999,9,  17.4037,  17.4779,2
  316N20111106,  GT11,     4,  4,      2,      2,2,20111112,0608, 38.3245, -68.8725, 3845,    629.8,  13.6818,  35.7844,2,  35.7881,2,    163.5,2,    160.7,2,     5.46,2,    15.11,2,     0.00,2,     0.87,2, -999.000,9, -999.000,9, -999.000,9,     -999,9,  13.5902,  13.6821,2
  316N20111106,  GT11,     4,  4,      1,      1,2,20111112,0608, 38.3245, -68.8725, 3845,    807.5,   9.3759,  35.2189,2,  35.2137,2,    141.6,2,    141.4,2,    13.56,2,    24.01,2,     0.00,2,     1.53,2, -999.000,9, -999.000,9, -999.000,9,     -999,9,   9.2827,   9.3759,2