BOTTLE,20170320PRINUNIVRMK
EXPOCODE,SECT_ID,STNNBR,CASTNO,SAMPNO,BTLNBR,BTLNBR_FLAG_W,DATE,TIME,LATITUDE,LONGITUDE,DEPTH,CTDPRS,CTDTMP,CTDSAL,CTDSAL_FLAG_W,SALNTY,SALNTY_FLAG_W,CTDOXY,CTDOXY_FLAG_W,OXYGEN,OXYGEN_FLAG_W,SILCAT,SILCAT_FLAG_W,NITRAT,NITRAT_FLAG_W,NITRIT,NITRIT_FLAG_W,PHSPHT,PHSPHT_FLAG_W,CFC-11,CFC-11_FLAG_W,CFC-12,CFC-12_FLAG_W,CFC113,CFC113_FLAG_W,SF6,SF6_FLAG_W,THETA,SBE35,SBE35_FLAG_W
,,,,,,,,,,,METERS,DBAR,ITS-90,PSS-78,,PSS-78,,UMOL/KG,,UMOL/KG,,UMOL/KG,,UMOL/KG,,UMOL/KG,,UMOL/KG,,PMOL/KG,,PMOL/KG,,PMOL/KG,,FMOL/KG,,DEG C,ITS-90,
  316N20111106,  GT11,    16, 11,     12,     12,2,20111129,1012, 26.1369, -44.8262, 3810,     40.7,  25.1098,  37.3925,2,  37.3909,2,    206.1,2,    206.2,2,     0.19,2,     0.00,2,     0.00,2,     0.00,2, -999.000,9, -999.000,9, -999.000,9,     -999,9,  25.1009,  25.1099,2
  316N20111106,  GT11,    16, 11,     11,     11,2,20111129,1012, 26.1369, -44.8262, 3810,     90.9,  22.5913,  37.1783,2,  37.1799,2,    218.0,2,    218.7,2,     0.10,2,     0.00,2,     0.00,2,     0.00,2, -999.000,9, -999.000,9, -999.000,9,     -999,9,  22.5728,  22.5935,2
  316N20111106,  GT11,    16, 11,     10,     10,2,20111129,1012, 26.1369, -44.8262, 3810,    110.7,  21.8380,  37.0952,2,  37.0924,2,    212.2,2,    212.9,2,     0.10,2,     0.00,2,     0.03,2,     0.00,2, -999.000,9, -999.000,9, -999.000,9,     -999,9,  21.8160,  21.8392,2
  316N20111106,  GT11,    16, 11,      9,      9,2,20111129,1012, 26.1369, -44.8262, 3810,    135.5,  20.7740,  36.9746,2,-999.0000,9,   -999.0,9,   -999.0,9,  -999.00,9,  -999.00,9,  -999.00,9,  -999.00,9, -999.000,9, -999.000,9, -999.000,9,     -999,9,  20.7480,  20.7726,2
  316N20111106,  GT11,    16, 11,      8,      8,2,20111129,1012, 26.1369, -44.8262, 3810,    135.6,  20.7628,  36.9738,2,  36.9717,2,    201.8,2,    202.8,2,     0.10,2,     0.31,2,     0.03,2,     0.00,2, -999.000,9, -999.000,9, -999.000,9,     -999,9,  20.7368,  20.7607,2
  316N20111106,  GT11,    16, 11,      7,      7,2,20111129,1012, 26.1369, -44.8262, 3810,    186.4,  18.9924,  36.7231,2,  36.7226,2,    185.2,2,    185.4,2,     0.68,2,     3.01,2,     0.00,2,     0.10,2, -999.000,9, -999.000,9, -999.000,9,     -999,9,  18.9588,  18.9925,2
  316N20111106,  GT11,    16, 11,      6,      6,2,20111129,1012, 26.1369, -44.8262, 3810,    236.8,  17.8918,  36.5445,2,  36.5457,2,    187.8,2,    190.2,2,     1.07,2,     5.00,2,     0.00,2,     0.23,2, -999.000,9, -999.000,9, -999.000,9,     -999,9,  17.8508,  17.8921,2
  316N20111106,  GT11,    16, 11,      5,     15,2,20111129,1012, 26.1369, -44.8262, 3810,    423.3,  15.6522,  36.1432,2,  36.1477,2,    185.3,2,    185.6,2,     2.44,2,     9.05,2,     0.00,2,     0.50,2, -999.000,9, -999.000,9, -999.000,9,     -999,9,  15.5852,  15.6511,2
  316N20111106,  GT11,    16, 11,      4,      4,2,20111129,1012, 26.1369, -44.8262, 3810,    604.3,  11.9646,  35.5858,2,  35.5882,2,    159.0,2,    159.2,2,     7.32,2,    17.74,2,     0.00,2,     1.06,2, -999.000,9, -999.000,9, -999.000,9,     -999,9,  11.8841,  11.9661,2
  316N20111106,  GT11,    16, 11,      3,      3,2,20111129,1012, 26.1369, -44.8262, 3810,    808.6,   8.6204,  35.1847,2,  35.1854,2,    144.8,2,    145.0,2,    14.64,2,    24.79,2,     0.00,2,     1.58,2, -999.000,9, -999.000,9, -999.000,9,     -999,9,   8.5315,   8.6194,2
  316N20111106,  GT11,    16, 11,      2,      2,2,20111129,1012, 26.1369, -44.8262, 3810,   1512.2,   4.9559,  35.0947,2,  35.0932,2,    233.1,2,    233.5,2,    14.15,2,    19.11,2,     0.00,2,     1.26,2, -999.000,9, -999.000,9, -999.000,9,     -999,9,   4.8235,   4.9556,2
  316N20111106,  GT11,    16, 11,      1,      1,2,20111129,1012, 26.1369, -44.8262, 3810,   1512.6,   4.9555,  35.0947,2,  35.0938,2,    233.2,2,    233.3,2,    14.25,2,    19.16,2,     0.00,2,     1.27,2, -999.000,9, -999.000,9, -999.000,9,     -999,9,   4.8230,   4.9558,2
  316N20111106,  GT11,    17,  2,     13,     99,2,20111201,0159, 25.1413, -42.5219, 3939,      1.3,  25.3612,  37.6292,2,  37.6359,2,   -999.0,9,   -999.0,9,  -999.00,9,  -999.00,9,  -999.00,9,  -999.00,9, -999.000,9, -999.000,9, -999.000,9,     -999,9,  25.3609,-999.0000,9
  316N20111106,  GT11,    17,  2,     12,     12,2,20111201,0159, 25.1413, -42.5219, 3939,     50.5,  25.3853,  37.6286,2,  37.6277,2,    204.5,2,    204.7,2,     0.29,2,     0.01,2,     0.00,2,     0.00,2,    1.693,2,    1.077,2,    0.148,2,     1.14,2,  25.3741,  25.3858,2
  316N20111106,  GT11,    17,  2,     11,     11,2,20111201,0159, 25.1413, -42.5219, 3939,    101.0,  25.3416,  37.6285,2,  37.6307,2,    205.5,2,    204.7,2,     0.29,2,     0.00,2,     0.00,2,     0.00,2,    1.686,2,    1.074,2,    0.135,2,     1.16,2,  25.3193,  25.3514,2
  316N20111106,  GT11,    17,  2,     10,     10,2,20111201,0159, 25.1413, -42.5219, 3939,    136.8,  21.7961,  37.1935,2,  37.1932,2,    209.0,2,    208.9,2,     0.00,2,     0.04,2,     0.11,2,     0.00,2,    2.006,2,    1.235,2,    0.152,2,     1.27,2,  21.7689,  21.7964,2
  316N20111106,  GT11,    17,  2,      9,      9,2,20111201,0159, 25.1413, -42.5219, 3939,    186.2,  19.4571,  36.8303,2,  36.8319,2,    174.4,2,    174.1,2,     0.68,2,     4.08,2,     0.00,2,     0.18,2,    2.178,2,    1.322,2,    0.057,2,     1.14,2,  19.4230,  19.4582,2
  316N20111106,  GT11,    17,  2,      8,      8,2,20111201,0159, 25.1413, -42.5219, 3939,    237.4,  18.0886,  36.5860,2,  36.5894,2,    173.5,2,    173.9,2,     1.27,2,     6.29,2,     0.00,2,     0.32,2,    2.289,2,    1.374,2,    0.023,2,     1.12,2,  18.0472,  18.0873,2
  316N20111106,  GT11,    17,  2,      7,      7,2,20111201,0159, 25.1413, -42.5219, 3939,    286.6,  17.0793,  36.4092,2,  36.4168,2,    175.5,2,    173.5,2,     1.66,2,     7.97,2,     0.00,2,     0.43,2,    2.367,2,    1.387,2,    0.019,2,     1.09,2,  17.0313,  17.0788,2
  316N20111106,  GT11,    17,  2,      6,      6,2,20111201,0159, 25.1413, -42.5219, 3939,    352.4,  15.9818,  36.2124,2,  36.2149,2,    183.3,2,    184.8,2,     2.05,2,     8.41,2,     0.00,2,     0.47,2,    2.387,2,    1.442,2,    0.030,2,     1.05,2,  15.9253,  15.9857,2
  316N20111106,  GT11,    17,  2,      5,     15,2,20111201,0159, 25.1413, -42.5219, 3939,    423.6,  14.9433,  36.0417,2,  36.0455,2,    183.0,2,    182.8,2,     2.83,2,    10.17,2,     0.00,2,     0.58,2,    2.524,2,    1.434,2,    0.021,2,     1.02,2,  14.8783,  14.9456,2
  316N20111106,  GT11,    17,  2,      4,      4,2,20111201,0159, 25.1413, -42.5219, 3939,    535.5,  13.3048,  35.7947,2,  35.7967,2,    176.7,2,    176.2,2,     4.39,2,    13.49,2,     0.00,2,     0.79,2,    2.450,2,    1.347,2,    0.030,2,     0.82,2,  13.2285,  13.3065,2
  316N20111106,  GT11,    17,  2,      3,      3,2,20111201,0159, 25.1413, -42.5219, 3939,    670.7,  11.1331,  35.5225,2,  35.5154,2,    162.1,2,    161.4,2,     8.10,2,    18.73,2,     0.00,2,     1.14,2,    1.772,2,    0.932,2,    0.021,2,     0.42,2,  11.0475,  11.1329,2
  316N20111106,  GT11,    17,  2,      2,      2,2,20111201,0159, 25.1413, -42.5219, 3939,    805.8,   9.2311,  35.3215,2,  35.3224,2,    152.5,2,    152.6,2,    12.29,2,    22.62,2,     0.00,2,     1.44,2,    0.965,2,    0.488,2,    0.011,2,     0.21,2,   9.1388,   9.2317,2
  316N20111106,  GT11,    17,  2,      1,      1,2,20111201,0159, 25.1413, -42.5219, 3939,   1008.5,   7.0927,  35.1635,2,  35.1614,2,    167.6,2,    167.8,2,    16.10,2,    24.08,2,     0.00,2,     1.58,2,    0.452,2,    0.218,2,    0.010,2,     0.09,2,   6.9918,   7.0927,2
  316N20111106,  GT11,    18,  2,     12,     12,2,20111201,1752, 24.1497, -40.2179, 4795,     39.3,  25.2419,  37.6286,2,  37.6284,2,    205.9,2,    205.5,2,     0.10,2,     0.00,2,     0.00,2,     0.00,2,    1.715,2,    1.123,2,    0.143,2,     1.19,2,  25.2332,  25.2444,2
  316N20111106,  GT11,    18,  2,     11,     11,2,20111201,1752, 24.1497, -40.2179, 4795,     65.8,  25.2246,  37.6311,2,  37.6314,2,    205.7,2,    205.4,2,     0.10,2,     0.00,2,     0.00,2,     0.00,2,    1.711,2,    1.077,2,    0.141,2,     1.15,2,  25.2101,  25.2243,2
  316N20111106,  GT11,    18,  2,     10,     10,2,20111201,1752, 24.1497, -40.2179, 4795,     75.8,  25.1931,  37.6277,2,  37.6286,2,    205.7,2,    205.7,2,     0.10,2,     0.00,2,     0.00,2,     0.00,2,    1.715,2,    1.076,2,    0.145,2,     1.19,2,  25.1764,  25.1918,2
  316N20111106,  GT11,    18,  2,      9,      9,2,20111201,1752, 24.1497, -40.2179, 4795,    114.9,  22.2303,  37.3042,2,  37.3026,2,    209.2,2,    209.6,2,     0.00,2,     0.04,2,     0.05,2,     0.00,2,    1.988,2,    1.238,2,    0.153,2,     1.31,2,  22.2072,  22.2344,2
  316N20111106,  GT11,    18,  2,      8,      8,2,20111201,1752, 24.1497, -40.2179, 4795,    136.4,  21.7110,  37.2388,2,  37.2348,2,    203.6,2,    203.1,2,     0.00,2,     0.31,2,     0.05,2,     0.00,2,    2.017,2,    1.243,2,    0.146,2,     1.26,2,  21.6840,  21.7132,2
  316N20111106,  GT11,    18,  2,      7,      7,2,20111201,1752, 24.1497, -40.2179, 4795,    185.7,  19.4375,  36.8520,2,  36.8338,3,    195.4,2,    194.1,2,     0.29,2,     2.10,2,     0.00,2,     0.08,2,    2.208,2,    1.344,2,    0.102,2,     1.22,2,  19.4035,  19.4262,3
  316N20111106,  GT11,    18,  2,      6,      6,2,20111201,1752, 24.1497, -40.2179, 4795,    235.1,  18.1294,  36.5987,2,  36.5993,2,    190.7,2,    190.9,2,     0.78,2,     4.21,2,     0.00,2,     0.19,2,    2.340,2,    1.425,2,    0.046,2,     1.35,2,  18.0884,  18.1295,2
  316N20111106,  GT11,    18,  2,      5,     15,2,20111201,1752, 24.1497, -40.2179, 4795,    286.5,  17.3050,  36.4524,2,  36.4573,2,    185.8,2,    188.4,2,     1.27,2,     6.10,2,     0.00,2,     0.32,2,    2.395,2,    1.416,2,    0.029,2,     1.23,2,  17.2565,  17.3011,2
  316N20111106,  GT11,    18,  2,      4,      4,2,20111201,1752, 24.1497, -40.2179, 4795,    352.1,  16.2139,  36.2588,2,  36.2598,2,    180.1,2,    182.3,2,     2.05,2,     8.32,2,     0.00,2,     0.48,2,    2.475,2,    1.461,2,    0.025,2,     1.12,2,  16.1569,  16.2058,2
  316N20111106,  GT11,    18,  2,      3,      3,2,20111201,1752, 24.1497, -40.2179, 4795,    426.3,  14.4047,  35.9576,2,  35.9619,2,    172.0,2,    166.2,2,     3.61,2,    12.68,2,     0.00,2,     0.75,2,    2.458,2,    1.381,2,    0.023,2,     0.94,2,  14.3409,  14.4044,2
  316N20111106,  GT11,    18,  2,      2,      2,2,20111201,1752, 24.1497, -40.2179, 4795,    604.1,  11.6790,  35.5856,2,  35.5859,2,    161.1,2,    160.6,2,     7.12,2,    17.92,2,     0.00,2,     1.11,2,    1.966,2,    1.040,2,    0.021,2,     0.51,2,  11.5997,  11.6786,2
  316N20111106,  GT11,    18,  2,      1,      1,2,20111201,1752, 24.1497, -40.2179, 4795,    804.5,   9.0664,  35.3143,2,  35.3149,2,    149.8,2,    150.1,2,    13.17,2,    23.16,2,     0.00,2,     1.53,2,    0.858,2,    0.438,2,    0.009,2,     0.17,2,   8.9752,   9.0680,2
  316N20111106,  GT11,    18,  4,     12,     12,2,20111201,0149, 24.1497, -40.2179, 4795,    970.8,   7.2654,  35.1537,2,  35.1532,2,    162.0,2,    160.8,2,    16.88,2,    24.87,2,     0.00,2,     1.63,2,    0.414,2,    0.201,2,    0.005,2,     0.11,2,   7.1673,   7.2656,2
  316N20111106,  GT11,    18,  4,     11,     11,2,20111201,0149, 24.1497, -40.2179, 4795,   1160.1,   6.0499,  35.1032,2,  35.1037,2,    188.3,2,    187.1,2,    17.08,2,    23.19,2,     0.00,2,     1.53,2,    0.332,2,    0.156,2,    0.004,2,     0.09,2,   5.9417,   6.0483,2
  316N20111106,  GT11,    18,  4,     10,     10,2,20111201,0149, 24.1497, -40.2179, 4795,   1513.7,   5.0558,  35.1322,2,  35.1331,2,    220.2,2,    220.7,2,    17.08,2,    20.31,2,     0.00,2,     1.36,2,    0.273,2,    0.127,2,    0.004,2,     0.09,2,   4.9220,   5.0565,2
  316N20111106,  GT11,    18,  4,      9,      9,2,20111201,0149, 24.1497, -40.2179, 4795,   1820.1,   4.0520,  35.0354,2,  35.0358,2,    235.7,2,    236.5,2,    20.20,2,    19.97,2,     0.00,2,     1.36,2,    0.154,2,    0.069,2,    0.004,2,     0.08,2,   3.9010,   4.0525,2
  316N20111106,  GT11,    18,  4,      8,      8,2,20111201,0149, 24.1497, -40.2179, 4795,   2120.2,   3.5488,  34.9981,2,  34.9988,2,    241.2,2,    241.0,2,    24.10,2,    20.12,2,     0.00,2,     1.38,2,    0.071,2,    0.033,2,    0.003,2,     0.02,2,   3.3763,   3.5488,2
  316N20111106,  GT11,    18,  4,      7,      7,2,20111201,0149, 24.1497, -40.2179, 4795,   2572.4,   3.0791,  34.9648,2,  34.9659,2,    242.1,2,    241.5,2,    30.35,2,    20.60,2,     0.00,2,     1.42,2,    0.021,2,    0.008,2,    0.000,2,        0,2,   2.8704,   3.0803,2
  316N20111106,  GT11,    18,  4,      6,      6,2,20111201,0149, 24.1497, -40.2179, 4795,   3040.1,   2.7891,  34.9400,2,  34.9399,2,    241.8,2,    241.5,2,    35.42,2,    21.01,2,     0.00,2,     1.45,2,    0.017,2,    0.006,2,    0.000,2,        0,2,   2.5387,   2.7886,2
  316N20111106,  GT11,    18,  4,      5,     15,2,20111201,0149, 24.1497, -40.2179, 4795,   3447.5,   2.5481,  34.9159,2,  34.9163,2,    243.1,2,    242.9,2,    40.21,2,    21.37,2,     0.00,2,     1.48,2,    0.025,2,    0.008,2,    0.000,2,        0,2,   2.2601,   2.5481,2
  316N20111106,  GT11,    18,  4,      4,      4,2,20111201,0149, 24.1497, -40.2179, 4795,   3850.6,   2.4335,  34.9011,2,  34.9014,2,    244.2,2,    244.4,2,    43.04,2,    21.60,2,     0.00,2,     1.50,2,    0.027,2,    0.011,2,    0.000,2,        0,2,   2.1040,   2.4337,2
  316N20111106,  GT11,    18,  4,      3,      3,2,20111201,0149, 24.1497, -40.2179, 4795,   4260.3,   2.3961,  34.8928,2,  34.8935,2,    244.9,2,    245.2,2,    44.79,2,    21.68,2,     0.00,2,     1.50,2,    0.020,2,    0.009,2,    0.000,2,        0,2,   2.0205,   2.3961,2
  316N20111106,  GT11,    18,  4,      2,      2,2,20111201,0149, 24.1497, -40.2179, 4795,   4365.9,   2.3928,  34.8912,2,  34.8919,2,    245.5,2,    245.1,2,    44.99,2,    21.70,2,     0.00,2,     1.50,2,    0.024,2,    0.010,2,    0.000,2,        0,2,   2.0048,   2.3925,2
  316N20111106,  GT11,    18,  4,      1,      1,2,20111201,0149, 24.1497, -40.2179, 4795,   4478.1,   2.4038,  34.8909,2,  34.8911,2,    245.1,2,    245.2,2,    45.18,2,    21.69,2,     0.00,2,     1.52,2,    0.028,2,    0.008,2,    0.000,2,        0,2,   2.0021,   2.4038,2
  316N20111106,  GT11,    18,  6,     13,     99,2,20111201,0833, 24.1497, -40.2179, 4795,      1.1,  25.1631,  37.6265,2,  37.6403,2,   -999.0,9,   -999.0,9,  -999.00,9,  -999.00,9,  -999.00,9,  -999.00,9, -999.000,9, -999.000,9, -999.000,9,     -999,9,  25.1629,-999.0000,9
  316N20111106,  GT11,    18,  6,     12,     12,2,20111201,0833, 24.1497, -40.2179, 4795,     20.1,  25.1821,  37.6255,2,  37.6247,2,    206.6,2,    205.9,2,     0.58,2,     0.00,2,     0.00,2,     0.00,2, -999.000,9, -999.000,9, -999.000,9,     -999,9,  25.1777,  25.1824,2
  316N20111106,  GT11,    18,  6,     11,     11,2,20111201,0833, 24.1497, -40.2179, 4795,     42.9,  25.1830,  37.6250,2,  37.6253,2,    206.1,2,    205.7,2,     0.39,2,     0.00,2,     0.00,2,     0.00,2, -999.000,9, -999.000,9, -999.000,9,     -999,9,  25.1736,  25.1831,2
  316N20111106,  GT11,    18,  6,     10,     10,2,20111201,0833, 24.1497, -40.2179, 4795,     74.8,  25.1559,  37.6198,2,  37.6205,2,    206.6,2,    206.3,2,     0.29,2,     0.00,2,     0.00,2,     0.00,2, -999.000,9, -999.000,9, -999.000,9,     -999,9,  25.1395,  25.1553,2
  316N20111106,  GT11,    18,  6,      9,      9,2,20111201,0833, 24.1497, -40.2179, 4795,     95.1,  23.3499,  37.3955,2,  37.4079,2,    218.7,2,    219.2,2,     0.19,2,     0.00,2,     0.00,2,     0.00,2, -999.000,9, -999.000,9, -999.000,9,     -999,9,  23.3301,  23.3747,3
  316N20111106,  GT11,    18,  6,      8,      8,2,20111201,0833, 24.1497, -40.2179, 4795,    116.8,  21.9638,  37.3062,2,  37.3031,2,    213.3,2,    213.2,2,     0.00,2,     0.00,2,     0.05,2,     0.00,2, -999.000,9, -999.000,9, -999.000,9,     -999,9,  21.9405,  21.9638,2
  316N20111106,  GT11,    18,  6,      7,      7,2,20111201,0833, 24.1497, -40.2179, 4795,    136.0,  21.7430,  37.2673,2,  37.2715,2,    211.2,2,    211.3,2,     0.00,2,     0.03,2,     0.09,2,     0.00,2, -999.000,9, -999.000,9, -999.000,9,     -999,9,  21.7160,  21.7458,2
  316N20111106,  GT11,    18,  6,      6,      6,2,20111201,0833, 24.1497, -40.2179, 4795,    182.4,  20.1563,  37.0049,2,  37.0065,2,    200.5,2,    200.1,2,     0.10,2,     0.98,2,     0.00,2,     0.01,2, -999.000,9, -999.000,9, -999.000,9,     -999,9,  20.1220,  20.1635,2
  316N20111106,  GT11,    18,  6,      5,     15,2,20111201,0833, 24.1497, -40.2179, 4795,    236.5,  18.0684,  36.5874,2,  36.5877,2,    192.0,2,    189.7,2,     0.88,2,     4.43,2,     0.00,2,     0.19,2, -999.000,9, -999.000,9, -999.000,9,     -999,9,  18.0272,  18.0682,2
  316N20111106,  GT11,    18,  6,      4,      4,2,20111201,0833, 24.1497, -40.2179, 4795,    285.2,  17.1133,  36.4196,2,  36.4351,2,    190.1,2,    190.0,2,     1.27,2,     6.04,2,     0.00,2,     0.29,2, -999.000,9, -999.000,9, -999.000,9,     -999,9,  17.0654,  17.1243,2
  316N20111106,  GT11,    18,  6,      3,      3,2,20111201,0833, 24.1497, -40.2179, 4795,    350.1,  15.9518,  36.2153,2,  36.2183,2,    184.3,2,    183.9,2,     2.14,2,     8.52,2,     0.00,2,     0.47,2, -999.000,9, -999.000,9, -999.000,9,     -999,9,  15.8957,  15.9553,2
  316N20111106,  GT11,    18,  6,      2,      2,2,20111201,0833, 24.1497, -40.2179, 4795,    422.4,  14.9852,  36.0498,2,  36.0535,2,    176.2,2,    174.2,2,     2.93,2,    10.93,2,     0.00,2,     0.63,2, -999.000,9, -999.000,9, -999.000,9,     -999,9,  14.9203,  14.9867,2
  316N20111106,  GT11,    18,  6,      1,      1,2,20111201,0833, 24.1497, -40.2179, 4795,    601.9,  12.0099,  35.6284,2,  35.6271,2,    165.4,2,    165.3,2,     6.44,2,    16.77,2,     0.00,2,     1.02,2, -999.000,9, -999.000,9, -999.000,9,     -999,9,  11.9295,  12.0080,2