BOTTLE,20170320PRINUNIVRMK
EXPOCODE,SECT_ID,STNNBR,CASTNO,SAMPNO,BTLNBR,BTLNBR_FLAG_W,DATE,TIME,LATITUDE,LONGITUDE,DEPTH,CTDPRS,CTDTMP,CTDSAL,CTDSAL_FLAG_W,SALNTY,SALNTY_FLAG_W,CTDOXY,CTDOXY_FLAG_W,OXYGEN,OXYGEN_FLAG_W,SILCAT,SILCAT_FLAG_W,NITRAT,NITRAT_FLAG_W,NITRIT,NITRIT_FLAG_W,PHSPHT,PHSPHT_FLAG_W,CFC-11,CFC-11_FLAG_W,CFC-12,CFC-12_FLAG_W,CFC113,CFC113_FLAG_W,SF6,SF6_FLAG_W,THETA,SBE35,SBE35_FLAG_W
,,,,,,,,,,,METERS,DBAR,ITS-90,PSS-78,,PSS-78,,UMOL/KG,,UMOL/KG,,UMOL/KG,,UMOL/KG,,UMOL/KG,,UMOL/KG,,PMOL/KG,,PMOL/KG,,PMOL/KG,,FMOL/KG,,DEG C,ITS-90,
  316N20111106,  GT11,    19,  2,     13,     99,2,20111203,0911, 23.2483, -38.0465, 5697,      1.8,  25.7010,  37.4535,2,  37.4625,2,   -999.0,9,   -999.0,9,  -999.00,9,  -999.00,9,  -999.00,9,  -999.00,9, -999.000,9, -999.000,9, -999.000,9,     -999,9,  25.7006,-999.0000,9
  316N20111106,  GT11,    19,  2,     12,     12,2,20111203,0911, 23.2483, -38.0465, 5697,     60.7,  25.7170,  37.4524,2,  37.4515,2,    203.7,2,    203.5,2,     0.19,2,     0.00,2,     0.00,2,     0.00,2,    1.703,2,    1.115,2,    0.146,2,     1.19,2,  25.7035,  25.7157,2
  316N20111106,  GT11,    19,  2,     11,     11,2,20111203,0911, 23.2483, -38.0465, 5697,    106.4,  23.0798,  37.3810,2,  37.3841,2,    209.3,2,    207.0,2,     0.10,2,     0.00,2,     0.04,2,     0.00,2,    1.933,2,    1.198,2,    0.152,2,     1.23,2,  23.0578,  23.0796,2
  316N20111106,  GT11,    19,  2,     10,     10,2,20111203,0911, 23.2483, -38.0465, 5697,    136.4,  22.2648,  37.2937,2,  37.3026,2,    195.9,2,    196.4,2,     0.00,2,     0.26,2,     0.03,2,     0.00,2,    1.987,2,    1.232,2,    0.152,2,     1.27,2,  22.2373,  22.2659,2
  316N20111106,  GT11,    19,  2,      9,      9,2,20111203,0911, 23.2483, -38.0465, 5697,    185.2,  20.1397,  36.9471,2,  36.9519,2,    179.5,2,    178.5,2,     0.29,2,     2.70,2,     0.00,2,     0.08,2,    2.145,2,    1.308,2,    0.093,2,     1.25,2,  20.1049,  20.1356,2
  316N20111106,  GT11,    19,  2,      8,      8,2,20111203,0911, 23.2483, -38.0465, 5697,    234.4,  18.7344,  36.7027,2,  36.7044,2,    173.2,2,    173.3,2,     0.78,2,     5.27,2,     0.00,2,     0.23,2,    2.264,2,    1.354,2,    0.038,2,     1.17,2,  18.6925,  18.7403,2
  316N20111106,  GT11,    19,  2,      7,      7,2,20111203,0911, 23.2483, -38.0465, 5697,    285.7,  17.4907,  36.4807,2,  36.4812,2,    177.9,2,    178.2,2,     1.27,2,     6.96,2,     0.00,2,     0.34,2,    2.369,2,    1.392,2,    0.020,2,     1.13,2,  17.4420,  17.4910,2
  316N20111106,  GT11,    19,  2,      6,      6,2,20111203,0911, 23.2483, -38.0465, 5697,    350.1,  16.0018,  36.2153,2,  36.2176,2,    166.7,2,    165.3,2,     2.34,2,    10.40,2,     0.00,2,     0.57,2,    2.421,2,    1.394,2,    0.017,2,     1.01,2,  15.9456,  16.0095,2
  316N20111106,  GT11,    19,  2,      5,     15,2,20111203,0911, 23.2483, -38.0465, 5697,    424.1,  14.5538,  35.9682,2,  35.9690,2,    152.1,2,    152.1,2,     3.71,2,    14.08,2,     0.00,2,     0.80,2,    2.381,2,    1.339,2,    0.020,2,     0.86,2,  14.4899,  14.5534,2
  316N20111106,  GT11,    19,  2,      4,      4,2,20111203,0911, 23.2483, -38.0465, 5697,    535.7,  12.9067,  35.7370,2,  35.7398,2,    152.9,2,    152.9,2,     5.27,2,    16.65,2,     0.00,2,     0.97,2,    2.266,2,    1.227,2,    0.020,2,     0.65,2,  12.8319,  12.9156,2
  316N20111106,  GT11,    19,  2,      3,      3,2,20111203,0911, 23.2483, -38.0465, 5697,    605.0,  11.8980,  35.6050,2,  35.6070,2,    151.8,2,    151.9,2,     6.93,2,    18.51,2,     0.00,2,     1.08,2,    1.968,2,    1.045,2,    0.025,2,     0.49,2,  11.8177,  11.9027,2
  316N20111106,  GT11,    19,  2,      2,      2,2,20111203,0911, 23.2483, -38.0465, 5697,    857.1,   8.2731,  35.2013,2,  35.2006,2,    147.9,2,    148.2,2,    15.03,2,    24.92,2,     0.00,2,     1.58,2,    0.619,2,    0.311,2,    0.007,2,     0.17,2,   8.1807,   8.2724,2
  316N20111106,  GT11,    19,  2,      1,      1,2,20111203,0911, 23.2483, -38.0465, 5697,   1008.1,   6.6761,  35.0654,2,  35.0632,2,    160.3,2,    160.1,2,    18.25,2,    26.00,2,     0.00,2,     1.69,2,    0.285,2,    0.134,2,    0.005,2,      0.1,2,   6.5785,   6.6752,2
  316N20111106,  GT11,    20,  2,     12,     12,2,20111203,2346, 22.3330, -35.8670, 5958,     40.3,  25.3238,  37.3945,2,  37.3905,2,    205.8,2,    205.7,2,     0.19,2,     0.00,2,     0.00,2,     0.00,2,    1.715,2,    1.081,2,    0.144,2,     1.19,2,  25.3149,  25.3242,2
  316N20111106,  GT11,    20,  2,     11,     11,2,20111203,2346, 22.3330, -35.8670, 5958,     75.0,  23.9943,  37.4151,2,  37.4169,2,    219.3,2,    217.4,2,     0.00,2,     0.00,2,     0.00,2,     0.00,2,    1.890,2,    1.172,2,    0.140,2,     1.22,2,  23.9784,  23.9865,2
  316N20111106,  GT11,    20,  2,     10,     10,2,20111203,2346, 22.3330, -35.8670, 5958,    100.6,  22.4399,  37.3146,2,  37.2970,2,    211.6,2,    204.9,2,     0.00,2,     0.14,2,     0.01,2,     0.00,2,    1.990,2,    1.229,2,    0.154,2,     1.17,2,  22.4195,  22.4232,3
  316N20111106,  GT11,    20,  2,      9,      9,2,20111203,2346, 22.3330, -35.8670, 5958,    135.4,  20.2694,  36.9640,2,  36.9540,2,    174.4,2,    173.6,2,     0.49,2,     4.00,2,     0.01,2,     0.19,2,    2.118,2,    1.288,2,    0.114,2,     1.24,2,  20.2439,  20.3141,3
  316N20111106,  GT11,    20,  2,      8,      8,2,20111203,2346, 22.3330, -35.8670, 5958,    185.5,  18.1953,  36.5888,2,  36.5884,2,    162.6,2,    159.1,2,     1.36,2,     7.93,2,     0.00,2,     0.42,2,    2.246,2,    1.330,2,    0.041,2,     1.13,2,  18.1629,  18.1950,2
  316N20111106,  GT11,    20,  2,      7,      7,2,20111203,2346, 22.3330, -35.8670, 5958,    236.2,  17.3526,  36.4422,2,  36.4428,2,    159.3,2,    159.6,2,     1.85,2,     9.19,2,     0.00,2,     0.50,2,    2.309,2,    1.367,2,    0.024,2,     1.13,2,  17.3126,  17.3524,2
  316N20111106,  GT11,    20,  2,      6,      6,2,20111203,2346, 22.3330, -35.8670, 5958,    303.6,  16.0566,  36.2282,2,  36.2309,2,    166.2,2,    166.1,2,     2.34,2,    10.20,2,     0.00,2,     0.56,2,    2.413,2,    1.400,2,    0.028,2,     1.09,2,  16.0078,  16.0586,2
  316N20111106,  GT11,    20,  2,      5,     15,2,20111203,2346, 22.3330, -35.8670, 5958,    377.9,  14.8425,  36.0192,2,  36.0252,2,    154.6,2,    155.3,2,     3.41,2,    13.12,2,     0.00,2,     0.74,2,    2.418,2,    1.364,2,    0.019,2,     0.92,2,  14.7849,  14.8469,2
  316N20111106,  GT11,    20,  2,      4,      4,2,20111203,2346, 22.3330, -35.8670, 5958,    504.6,  12.7252,  35.7185,2,  35.7256,2,    159.1,2,    158.3,2,     5.27,2,    16.23,2,     0.00,2,     0.94,2,    2.315,2,    1.252,2,    0.018,2,     0.74,2,  12.6555,  12.7288,2
  316N20111106,  GT11,    20,  2,      3,      3,2,20111203,2346, 22.3330, -35.8670, 5958,    744.2,   9.0170,  35.2575,2,  35.2601,2,    132.3,2,    131.7,2,    14.05,2,    25.57,2,     0.00,2,     1.59,2,    0.727,2,    0.361,2,    0.006,2,      0.2,2,   8.9332,   9.0234,3
  316N20111106,  GT11,    20,  2,      2,      2,2,20111203,2346, 22.3330, -35.8670, 5958,    931.1,   6.8132,  35.0431,2,  35.0409,2,    147.7,2,    148.3,2,    18.83,2,    27.24,2,     0.00,2,     1.76,2,    0.241,2,    0.111,2,    0.005,2,     0.08,2,   6.7226,   6.8177,2
  316N20111106,  GT11,    20,  2,      1,      1,2,20111203,2346, 22.3330, -35.8670, 5958,   1067.5,   6.1432,  35.0018,2,  35.0051,2,    160.4,2,    160.2,2,    19.52,2,    26.72,2,     0.00,2,     1.76,2,    0.197,2,    0.090,2,    0.002,2,     0.07,2,   6.0437,   6.1353,3
  316N20111106,  GT11,    20,  4,     12,     12,2,20111203,0815, 22.3330, -35.8670, 5958,   1210.8,   5.5903,  35.0363,2,  35.0374,2,    182.5,2,    183.8,2,    18.64,2,    24.37,2,     0.00,2,     1.60,2,    0.172,2,    0.078,2,    0.002,2,     0.11,2,   5.4812,   5.5906,2
  316N20111106,  GT11,    20,  4,     11,     11,2,20111203,0815, 22.3330, -35.8670, 5958,   1514.5,   4.7440,  35.0441,2,  35.0439,2,    213.6,2,    214.7,2,    18.44,2,    21.67,2,     0.00,2,     1.43,2,    0.105,2,    0.045,2,    0.003,2,     0.08,2,   4.6138,   4.7432,2
  316N20111106,  GT11,    20,  4,     10,     10,2,20111203,0815, 22.3330, -35.8670, 5958,   1916.5,   3.9475,  35.0198,2,  35.0199,2,    231.8,2,    231.4,2,    21.57,2,    20.69,2,     0.00,2,     1.38,2,    0.031,2,    0.013,2,    0.000,2,        0,2,   3.7887,   3.9484,2
  316N20111106,  GT11,    20,  4,      9,      9,2,20111203,0815, 22.3330, -35.8670, 5958,   2324.6,   3.3682,  34.9858,2,  34.9866,2,    237.9,2,    238.1,2,    26.74,2,    20.54,2,     0.00,2,     1.38,2,    0.016,2,    0.005,2,    0.000,2,        0,2,   3.1788,   3.3683,2
  316N20111106,  GT11,    20,  4,      8,      8,2,20111203,0815, 22.3330, -35.8670, 5958,   2730.5,   2.9838,  34.9573,2,  34.9577,2,    241.0,2,    240.7,2,    31.81,2,    20.70,2,     0.00,2,     1.41,2,    0.020,2,    0.011,2,    0.000,2,        0,2,   2.7611,   2.9839,2
  316N20111106,  GT11,    20,  4,      7,      7,2,20111203,0815, 22.3330, -35.8670, 5958,   3139.0,   2.7042,  34.9328,2,  34.9337,2,    241.6,2,    241.6,2,    36.79,2,    21.04,2,     0.00,2,     1.42,2,    0.022,2,    0.007,2,    0.000,2,        0,2,   2.4453,   2.7065,2
  316N20111106,  GT11,    20,  4,      6,      6,2,20111203,0815, 22.3330, -35.8670, 5958,   3547.7,   2.5191,  34.9130,2,  34.9128,2,    243.1,2,    243.4,2,    40.79,2,    21.33,2,     0.00,2,     1.44,2,    0.024,2,    0.008,2,    0.000,2,        0,2,   2.2209,   2.5193,2
  316N20111106,  GT11,    20,  4,      5,     15,2,20111203,0815, 22.3330, -35.8670, 5958,   4370.5,   2.3897,  34.8922,2,  34.8916,2,    243.0,2,    243.1,2,    45.67,2,    21.84,2,     0.00,2,     1.48,2,    0.025,2,    0.006,2,    0.000,2,        0,2,   2.0013,   2.3897,2
  316N20111106,  GT11,    20,  4,      4,      4,2,20111203,0815, 22.3330, -35.8670, 5958,   4777.2,   2.3948,  34.8875,2,  34.8871,2,    242.9,2,    243.0,2,    46.65,2,    21.92,2,     0.00,2,     1.48,2,    0.024,2,    0.008,2,    0.000,2,        0,2,   1.9568,   2.3949,2
  316N20111106,  GT11,    20,  4,      3,      3,2,20111203,0815, 22.3330, -35.8670, 5958,   5193.2,   2.3996,  34.8820,2,  34.8822,2,    244.1,2,    244.0,2,    47.53,2,    21.93,2,     0.00,2,     1.48,2,    0.034,2,    0.010,2,    0.000,2,        0,2,   1.9089,   2.3997,2
  316N20111106,  GT11,    20,  4,      2,      2,2,20111203,0815, 22.3330, -35.8670, 5958,   5909.5,   2.4655,  34.8781,2,  34.8794,2,    245.5,2,    245.0,2,    48.11,2,    21.90,2,     0.00,2,     1.49,2,    0.042,2,    0.017,2,    0.000,2,        0,2,   1.8769,   2.4654,2
  316N20111106,  GT11,    20,  4,      1,      1,2,20111203,0815, 22.3330, -35.8670, 5958,   5958.6,   2.4721,  34.8781,2,  34.8782,2,    244.5,2,    245.0,2,    48.50,2,    21.91,2,     0.00,2,     1.51,2,    0.046,2,    0.021,2,    0.000,2,        0,2,   1.8765,   2.4721,2
  316N20111106,  GT11,    20,  6,     13,     99,2,20111203,1540, 22.3330, -35.8670, 5958,      1.0,  25.3383,  37.3950,2,  37.4031,2,   -999.0,9,   -999.0,9,  -999.00,9,  -999.00,9,  -999.00,9,  -999.00,9, -999.000,9, -999.000,9, -999.000,9,     -999,9,  25.3381,-999.0000,9
  316N20111106,  GT11,    20,  6,     12,     12,2,20111203,1540, 22.3330, -35.8670, 5958,     40.7,  25.2921,  37.4002,2,  37.3983,2,    206.1,2,    205.8,2,     0.10,2,     0.00,2,     0.00,2,     0.00,2, -999.000,9, -999.000,9, -999.000,9,     -999,9,  25.2831,  25.2932,2
  316N20111106,  GT11,    20,  6,     11,     11,2,20111203,1540, 22.3330, -35.8670, 5958,     75.8,  24.0333,  37.4217,2,  37.4208,2,    216.1,2,    216.3,2,     0.00,2,     0.00,2,     0.00,2,     0.00,2, -999.000,9, -999.000,9, -999.000,9,     -999,9,  24.0172,  24.0326,2
  316N20111106,  GT11,    20,  6,     10,     10,2,20111203,1540, 22.3330, -35.8670, 5958,     99.9,  22.8131,  37.3449,2,  37.3344,2,    212.6,2,    210.4,2,     0.10,2,     0.03,2,     0.00,2,     0.00,2, -999.000,9, -999.000,9, -999.000,9,     -999,9,  22.7926,  22.7773,2
  316N20111106,  GT11,    20,  6,      9,      9,2,20111203,1540, 22.3330, -35.8670, 5958,    120.3,  21.4709,  37.1904,2,  37.1931,2,    192.6,2,    190.9,2,     0.19,2,     0.92,2,     0.04,2,     0.03,2, -999.000,9, -999.000,9, -999.000,9,     -999,9,  21.4473,  21.4699,2
  316N20111106,  GT11,    20,  6,      8,      8,2,20111203,1540, 22.3330, -35.8670, 5958,    134.4,  20.8904,  37.0851,2,  37.0853,2,    182.0,2,    181.7,2,     0.39,2,     2.34,2,     0.02,2,     0.11,2, -999.000,9, -999.000,9, -999.000,9,     -999,9,  20.8645,  20.8956,2
  316N20111106,  GT11,    20,  6,      7,      7,2,20111203,1540, 22.3330, -35.8670, 5958,    186.1,  18.9387,  36.7283,2,  36.7310,2,    165.4,2,    165.5,2,     1.07,2,     6.18,2,     0.01,2,     0.32,2, -999.000,9, -999.000,9, -999.000,9,     -999,9,  18.9052,  18.9402,2
  316N20111106,  GT11,    20,  6,      6,      6,2,20111203,1540, 22.3330, -35.8670, 5958,    235.5,  17.4555,  36.4622,2,  36.4646,2,    160.0,2,    159.2,2,     1.75,2,     8.95,2,     0.00,2,     0.49,2, -999.000,9, -999.000,9, -999.000,9,     -999,9,  17.4155,  17.4577,2
  316N20111106,  GT11,    20,  6,      5,     15,2,20111203,1540, 22.3330, -35.8670, 5958,    301.5,  16.0410,  36.2252,2,  36.2305,2,    160.0,2,    160.5,2,     2.44,2,    10.73,2,     0.00,2,     0.59,2, -999.000,9, -999.000,9, -999.000,9,     -999,9,  15.9926,  16.0548,2
  316N20111106,  GT11,    20,  6,      4,      4,2,20111203,1540, 22.3330, -35.8670, 5958,    378.7,  14.4264,  35.9585,2,  35.9601,2,    155.7,2,    155.7,2,     3.71,2,    13.70,2,     0.00,2,     0.80,2, -999.000,9, -999.000,9, -999.000,9,     -999,9,  14.3698,  14.4293,2
  316N20111106,  GT11,    20,  6,      3,      3,2,20111203,1540, 22.3330, -35.8670, 5958,    504.0,  12.5789,  35.6990,2,  35.7029,2,    155.7,2,    155.6,2,     5.75,2,    16.78,2,     0.00,2,     0.99,2, -999.000,9, -999.000,9, -999.000,9,     -999,9,  12.5098,  12.5765,2
  316N20111106,  GT11,    20,  6,      2,      2,2,20111203,1540, 22.3330, -35.8670, 5958,    739.3,   8.9317,  35.2483,2,  35.2485,2,    132.1,2,    132.6,2,    14.44,2,    25.72,2,     0.00,2,     1.64,2, -999.000,9, -999.000,9, -999.000,9,     -999,9,   8.8490,   8.9338,2
  316N20111106,  GT11,    20,  6,      1,      1,2,20111203,1540, 22.3330, -35.8670, 5958,    739.4,   8.9432,  35.2508,2,  35.2485,2,    132.1,2,    132.0,2,    14.34,2,    25.64,2,     0.00,2,     1.60,2, -999.000,9, -999.000,9, -999.000,9,     -999,9,   8.8604,   8.9430,2
  316N20111106,  GT11,    20,  8,     12,     12,2,20111203,0425, 22.3330, -35.8670, 5958,     39.6,  25.2530,  37.3829,2,  37.3814,2,    205.7,2,    205.7,2,     0.19,2,     0.00,2,     0.00,2,     0.00,2, -999.000,9, -999.000,9, -999.000,9,     -999,9,  25.2443,  25.2526,2
  316N20111106,  GT11,    20,  8,     11,     11,2,20111203,0425, 22.3330, -35.8670, 5958,     74.2,  24.9759,  37.4153,2,  37.4017,2,    207.7,2,    208.3,2,     0.10,2,     0.00,2,     0.00,2,     0.00,2, -999.000,9, -999.000,9, -999.000,9,     -999,9,  24.9597,  24.9471,3
  316N20111106,  GT11,    20,  8,     10,     10,2,20111203,0425, 22.3330, -35.8670, 5958,     99.9,  22.9411,  37.3502,2,  37.3502,2,    213.3,2,    213.6,2,     0.00,2,     0.00,2,     0.00,2,     0.00,2, -999.000,9, -999.000,9, -999.000,9,     -999,9,  22.9205,  22.9413,2
  316N20111106,  GT11,    20,  8,      9,      9,2,20111203,0425, 22.3330, -35.8670, 5958,    134.8,  21.0481,  37.1436,2,  37.1502,2,    190.1,2,    189.5,2,     0.29,2,     1.54,2,     0.01,2,     0.07,2, -999.000,9, -999.000,9, -999.000,9,     -999,9,  21.0220,  21.0497,2
  316N20111106,  GT11,    20,  8,      8,      8,2,20111203,0425, 22.3330, -35.8670, 5958,    186.1,  18.4454,  36.6394,2,  36.6486,2,    163.7,2,    163.8,2,     1.27,2,     6.96,2,     0.00,2,     0.37,2, -999.000,9, -999.000,9, -999.000,9,     -999,9,  18.4126,  18.4365,2
  316N20111106,  GT11,    20,  8,      7,      7,2,20111203,0425, 22.3330, -35.8670, 5958,    236.1,  17.4085,  36.4637,2,  36.4644,2,    164.3,2,    170.8,2,     1.56,2,     7.77,2,     0.00,2,     0.42,2, -999.000,9, -999.000,9, -999.000,9,     -999,9,  17.3684,  17.4080,2
  316N20111106,  GT11,    20,  8,      6,      6,2,20111203,0425, 22.3330, -35.8670, 5958,    378.5,  14.7370,  36.0080,2,  36.0089,2,    159.3,2,    159.6,2,     3.51,2,    12.85,2,     0.00,2,     0.73,2, -999.000,9, -999.000,9, -999.000,9,     -999,9,  14.6796,  14.7274,2
  316N20111106,  GT11,    20,  8,      5,     15,2,20111203,0425, 22.3330, -35.8670, 5958,    379.0,  14.7855,  36.0150,2,  36.0089,2,    159.3,2,    159.4,2,     3.51,2,    12.82,2,     0.00,2,     0.72,2, -999.000,9, -999.000,9, -999.000,9,     -999,9,  14.7279,  14.7703,3
  316N20111106,  GT11,    20,  8,      3,      3,2,20111203,0425, 22.3330, -35.8670, 5958,    739.4,   9.2042,  35.2769,2,  35.2809,2,    131.9,2,    131.7,2,    13.66,2,    25.18,2,     0.00,2,     1.57,2, -999.000,9, -999.000,9, -999.000,9,     -999,9,   9.1200,   9.2090,2
  316N20111106,  GT11,    20,  8,      4,      4,2,20111203,0425, 22.3330, -35.8670, 5958,    739.6,   9.2098,  35.2778,2,  35.2815,2,    131.9,2,    131.9,2,    13.66,2,    25.33,2,     0.00,2,     1.57,2, -999.000,9, -999.000,9, -999.000,9,     -999,9,   9.1255,   9.2101,2
  316N20111106,  GT11,    20,  8,      2,      2,2,20111203,0425, 22.3330, -35.8670, 5958,   1068.5,   6.1807,  35.0194,2,  35.0200,2,    163.2,2,    163.2,2,    19.32,2,    26.27,2,     0.00,2,     1.73,2, -999.000,9, -999.000,9, -999.000,9,     -999,9,   6.0808,   6.1800,2
  316N20111106,  GT11,    20,  8,      1,      1,2,20111203,0425, 22.3330, -35.8670, 5958,   2323.9,   3.3872,  34.9864,2,  34.9867,2,    238.6,2,    238.0,2,    26.74,2,    20.53,2,     0.00,2,     1.39,2, -999.000,9, -999.000,9, -999.000,9,     -999,9,   3.1975,   3.3865,2