BOTTLE,20170320PRINUNIVRMK
EXPOCODE,SECT_ID,STNNBR,CASTNO,SAMPNO,BTLNBR,BTLNBR_FLAG_W,DATE,TIME,LATITUDE,LONGITUDE,DEPTH,CTDPRS,CTDTMP,CTDSAL,CTDSAL_FLAG_W,SALNTY,SALNTY_FLAG_W,CTDOXY,CTDOXY_FLAG_W,OXYGEN,OXYGEN_FLAG_W,SILCAT,SILCAT_FLAG_W,NITRAT,NITRAT_FLAG_W,NITRIT,NITRIT_FLAG_W,PHSPHT,PHSPHT_FLAG_W,CFC-11,CFC-11_FLAG_W,CFC-12,CFC-12_FLAG_W,CFC113,CFC113_FLAG_W,SF6,SF6_FLAG_W,THETA,SBE35,SBE35_FLAG_W
,,,,,,,,,,,METERS,DBAR,ITS-90,PSS-78,,PSS-78,,UMOL/KG,,UMOL/KG,,UMOL/KG,,UMOL/KG,,UMOL/KG,,UMOL/KG,,PMOL/KG,,PMOL/KG,,PMOL/KG,,FMOL/KG,,DEG C,ITS-90,
  316N20111106,  GT11,     5,  2,     13,     99,2,20111113,2103, 38.0789, -68.7180, 3882,      1.3,  23.0690,  36.2854,2,  36.2916,2,   -999.0,9,   -999.0,9,  -999.00,9,  -999.00,9,  -999.00,9,  -999.00,9, -999.000,9, -999.000,9, -999.000,9,     -999,9,  23.0687,-999.0000,9
  316N20111106,  GT11,     5,  2,     12,     12,2,20111113,2103, 38.0789, -68.7180, 3882,     41.2,  23.0935,  36.2894,2,  36.2879,2,    209.7,2,    210.1,2,     0.29,2,     0.00,2,     0.00,2,     0.00,2,    1.860,2,    1.154,2, -999.000,5,     1.32,2,  23.0850,  23.0941,2
  316N20111106,  GT11,     5,  2,     11,     11,2,20111113,2103, 38.0789, -68.7180, 3882,     71.0,  23.0846,  36.2965,2,  36.2944,2,    209.2,2,    209.8,2,     0.19,2,     0.00,2,     0.00,2,     0.00,2,    1.850,2,    1.152,2, -999.000,5,     1.31,2,  23.0700,  23.0850,2
  316N20111106,  GT11,     5,  2,     10,     10,2,20111113,2103, 38.0789, -68.7180, 3882,    111.2,  22.1991,  36.7126,2,  36.7038,2,    204.3,2,    204.3,2,     0.00,2,     0.55,2,     0.13,2,     0.00,2,    2.029,2,    1.258,2, -999.000,5,     1.33,2,  22.1768,  22.1701,3
  316N20111106,  GT11,     5,  2,      9,      9,2,20111113,2103, 38.0789, -68.7180, 3882,    136.2,  20.3707,  36.7146,2,  36.7131,2,    211.0,2,    204.8,2,     0.00,2,     1.08,2,     0.05,2,     0.01,2,    2.173,2,    1.326,2, -999.000,5,     1.31,2,  20.3450,  20.3702,2
  316N20111106,  GT11,     5,  2,      8,      8,2,20111113,2103, 38.0789, -68.7180, 3882,    185.9,  18.9992,  36.6511,2,  36.6490,2,    200.3,2,    200.4,2,     0.19,2,     2.12,2,     0.00,2,     0.05,2,    2.269,2,    1.368,2, -999.000,5,     1.39,2,  18.9657,  19.0009,2
  316N20111106,  GT11,     5,  2,      7,      7,2,20111113,2103, 38.0789, -68.7180, 3882,    240.0,  18.4778,  36.6195,2,  36.6189,2,    204.0,2,    203.1,2,     0.49,2,     3.18,2,     0.00,2,     0.10,2,    2.316,2,    1.410,2, -999.000,5,     1.33,2,  18.4353,  18.4779,2
  316N20111106,  GT11,     5,  2,      6,      6,2,20111113,2103, 38.0789, -68.7180, 3882,    323.2,  18.1485,  36.5873,2,  36.5858,2,    206.0,2,    206.8,2,     0.49,2,     3.51,2,     0.00,2,     0.13,2,    2.329,2,    1.397,2, -999.000,5,     1.31,2,  18.0919,  18.1486,2
  316N20111106,  GT11,     5,  2,      5,      5,2,20111113,2103, 38.0789, -68.7180, 3882,    422.8,  17.6032,  36.4900,2,  36.4915,2,    202.0,2,    200.4,2,     0.97,2,     5.00,2,     0.00,2,     0.21,2,    2.347,2,    1.400,2, -999.000,5,     1.28,2,  17.5306,  17.6027,2
  316N20111106,  GT11,     5,  2,      4,      4,2,20111113,2103, 38.0789, -68.7180, 3882,    555.7,  16.0121,  36.1815,2,  36.1810,2,    180.0,2,    179.6,2,     2.53,2,     9.47,2,     0.00,2,     0.56,2,    2.361,2,    1.353,2, -999.000,5,     1.06,2,  15.9224,  16.0101,2
  316N20111106,  GT11,     5,  2,      3,      3,2,20111113,2103, 38.0789, -68.7180, 3882,    671.7,  13.5884,  35.7713,2,  35.7680,2,    163.3,2,    163.9,2,     5.66,2,    14.89,2,     0.00,2,     0.88,2,    2.168,2,    1.203,2, -999.000,5,     0.96,2,  13.4910,  13.5886,2
  316N20111106,  GT11,     5,  2,      2,      2,2,20111113,2103, 38.0789, -68.7180, 3882,    805.9,   9.8784,  35.2663,2,  35.2685,2,    139.6,2,    139.5,2,    12.68,2,    23.39,2,     0.00,2,     1.48,2,    1.295,2,    0.692,2, -999.000,5,     0.58,2,   9.7824,   9.8698,3
  316N20111106,  GT11,     5,  2,      1,      1,2,20111113,2103, 38.0789, -68.7180, 3882,    976.7,   6.4701,  35.0734,2,  35.0704,2,    195.3,2,    196.1,2,    13.08,2,    20.98,2,     0.00,2,     1.38,2,    1.772,2,    0.911,2, -999.000,5,      0.6,2,   6.3772,   6.4715,2
  316N20111106,  GT11,     6,  3,     12,     12,2,20111114,1210, 37.5585, -68.4577, 4615,   1525.0,   3.9258,  34.9709,2,  34.9715,2,    261.6,2,    262.3,2,    12.39,2,    17.62,2,     0.00,2,     1.19,2,    2.177,2,    1.080,2, -999.000,5,     0.54,2,   3.8041,   3.9263,2
  316N20111106,  GT11,     6,  3,     11,     11,2,20111114,1210, 37.5585, -68.4577, 4615,   1825.0,   3.6453,  34.9574,2,  34.9564,2,    265.1,2,    265.4,2,    13.47,2,    17.45,2,     0.00,2,     1.17,2,    1.844,2,    0.913,2, -999.000,5,     0.42,2,   3.4996,   3.6457,2
  316N20111106,  GT11,     6,  3,     10,     10,2,20111114,1210, 37.5585, -68.4577, 4615,   2125.1,   3.4434,  34.9542,2,  34.9528,2,    265.1,2,    265.9,2,    15.32,2,    17.56,2,     0.00,2,     1.19,2,    1.470,2,    0.726,2, -999.000,5,     0.36,2,   3.2723,   3.4438,2
  316N20111106,  GT11,     6,  3,      9,      9,2,20111114,1210, 37.5585, -68.4577, 4615,   2424.8,   3.1902,  34.9474,2,  34.9477,2,    264.9,2,    265.6,2,    17.66,2,    17.68,2,     0.00,2,     1.20,2,    1.092,2,    0.546,2, -999.000,5,     0.31,2,   2.9942,   3.1924,2
  316N20111106,  GT11,     6,  3,      8,      8,2,20111114,1210, 37.5585, -68.4577, 4615,   2736.7,   2.9052,  34.9359,2,  34.9355,2,    265.5,2,    265.4,2,    20.20,2,    17.74,2,     0.00,2,     1.23,2,    0.932,2,    0.461,2, -999.000,5,      0.3,2,   2.6835,   2.9054,2
  316N20111106,  GT11,     6,  3,      7,      7,2,20111114,1210, 37.5585, -68.4577, 4615,   3042.9,   2.6903,  34.9233,2,  34.9229,2,    265.1,2,    267.4,2,    21.76,2,    17.68,2,     0.00,2,     1.22,2,    0.927,2,    0.459,2, -999.000,5,      0.3,2,   2.4418,   2.6903,2
  316N20111106,  GT11,     6,  3,      6,      6,2,20111114,1210, 37.5585, -68.4577, 4615,   3348.6,   2.4497,  34.9086,2,  34.9117,3,    269.6,2,    269.6,2,    23.32,2,    17.64,2,     0.00,2,     1.23,2,    1.078,2,    0.539,2, -999.000,5,     0.34,2,   2.1747,   2.4499,2
  316N20111106,  GT11,     6,  3,      5,      5,2,20111114,1210, 37.5585, -68.4577, 4615,   3660.0,   2.3062,  34.8980,2,  34.8965,2,    268.7,2,    268.7,2,    26.74,2,    17.96,2,     0.00,2,     1.24,2,    1.064,2,    0.530,2, -999.000,5,     0.34,2,   2.0013,   2.3064,2
  316N20111106,  GT11,     6,  3,      4,      4,2,20111114,1210, 37.5585, -68.4577, 4615,   3868.7,   2.2497,  34.8924,2,  34.8906,2,    267.4,2,    266.6,2,    29.67,2,    18.42,2,     0.00,2,     1.27,2,    0.962,2,    0.485,2, -999.000,5,     0.34,2,   1.9232,   2.2497,2
  316N20111106,  GT11,     6,  3,      3,      3,2,20111114,1210, 37.5585, -68.4577, 4615,   4278.8,   2.2117,  34.8849,2,  34.8839,2,    263.9,2,    263.5,2,    34.06,2,    19.00,2,     0.00,2,     1.31,2,    0.835,2,    0.424,2, -999.000,5,      0.3,2,   1.8394,   2.2118,2
  316N20111106,  GT11,     6,  3,      2,      2,2,20111114,1210, 37.5585, -68.4577, 4615,   4518.2,   2.2073,  34.8812,2,  34.8816,2,    262.2,2,    262.7,2,    36.21,2,    19.32,2,     0.00,2,     1.35,2,    0.759,2,    0.392,2, -999.000,5,      0.3,2,   1.8068,   2.2074,2
  316N20111106,  GT11,     6,  3,      1,      1,2,20111114,1210, 37.5585, -68.4577, 4615,   4615.4,   2.2052,  34.8796,2,  34.8790,2,    261.4,2,    261.4,2,    37.48,2,    19.48,2,     0.00,2,     1.38,2,    0.747,2,    0.379,2, -999.000,1,     0.29,2,   1.7931,   2.2053,2
  316N20111106,  GT11,     6,  6,     12,     12,2,20111114,0654, 37.5585, -68.4577, 4615,     40.1,  23.3951,  35.9972,2,  35.9974,2,    207.7,2,    208.3,2,     0.59,2,     0.00,2,     0.04,2,     0.00,2,    1.800,2,    1.136,2, -999.000,5,     1.27,2,  23.3868,  23.3957,2
  316N20111106,  GT11,     6,  6,     11,     11,2,20111114,0654, 37.5585, -68.4577, 4615,     65.2,  23.4184,  36.0340,2,  36.0353,2,    207.5,2,    208.2,2,     0.59,2,     0.01,2,     0.03,2,     0.00,2,    1.785,2,    1.133,2, -999.000,5,     1.26,2,  23.4049,  23.4195,2
  316N20111106,  GT11,     6,  6,     10,     10,2,20111114,0654, 37.5585, -68.4577, 4615,     90.4,  23.4631,  36.0708,2,  36.0684,2,    208.1,2,    207.9,2,     0.59,2,     0.00,2,     0.03,2,     0.00,2,    1.776,2,    1.128,2, -999.000,5,      1.3,2,  23.4443,  23.4631,2
  316N20111106,  GT11,     6,  6,      9,      9,2,20111114,0654, 37.5585, -68.4577, 4615,    112.1,  23.4579,  36.0840,2,  36.0832,2,    207.4,2,    205.5,2,     0.59,2,     0.16,2,     0.06,2,     0.00,2,    1.788,2,    1.135,2, -999.000,5,     1.27,2,  23.4346,  23.4606,2
  316N20111106,  GT11,     6,  6,      8,      8,2,20111114,0654, 37.5585, -68.4577, 4615,    140.8,  20.5071,  36.1564,2,  36.1004,3,    175.0,2,    176.8,2,     1.75,2,     3.97,2,     0.01,2,     0.23,2,    2.131,2,    1.321,2, -999.000,5,     1.29,2,  20.4805,  20.5065,2
  316N20111106,  GT11,     6,  6,      7,      7,2,20111114,0654, 37.5585, -68.4577, 4615,    161.4,  19.8192,  36.3691,2,  36.4321,3,    166.2,2,    162.5,2,     1.95,2,     5.44,2,     0.00,2,     0.28,2,    2.108,2,    1.295,2, -999.000,5,     1.22,2,  19.7893,  19.8226,2
  316N20111106,  GT11,     6,  6,      6,      6,2,20111114,0654, 37.5585, -68.4577, 4615,    235.0,  16.0726,  36.0499,2,  36.0442,2,    152.3,2,    154.8,2,     4.10,2,    11.47,2,     0.00,2,     0.65,2,    2.196,2,    1.288,2, -999.000,5,     1.07,2,  16.0350,  16.0858,3
  316N20111106,  GT11,     6,  6,      5,      5,2,20111114,0654, 37.5585, -68.4577, 4615,    287.3,  14.7832,  35.9426,2,  35.9426,2,    155.3,2,    155.2,2,     4.97,2,    13.85,2,     0.00,2,     0.83,2,    2.129,2,    1.215,2, -999.000,5,     0.93,2,  14.7397,  14.7851,2
  316N20111106,  GT11,     6,  6,      4,      4,2,20111114,0654, 37.5585, -68.4577, 4615,    478.9,  10.2192,  35.3015,2,  35.3063,2,    135.9,2,    135.2,2,    12.59,2,    23.46,2,     0.00,2,     1.47,2,    1.345,2,    0.735,2, -999.000,5,     0.62,2,  10.1619,  10.2134,2
  316N20111106,  GT11,     6,  6,      3,      3,2,20111114,0654, 37.5585, -68.4577, 4615,    671.3,   6.6884,  35.0756,2,  35.0752,2,    191.0,2,    191.4,2,    13.27,2,    21.33,2,     0.00,2,     1.40,2,    1.737,2,    0.909,2, -999.000,5,     0.62,2,   6.6248,   6.6902,2
  316N20111106,  GT11,     6,  6,      2,      2,2,20111114,0654, 37.5585, -68.4577, 4615,    972.2,   4.9129,  35.0202,2,  35.0213,2,    242.4,2,    242.1,2,    11.51,2,    18.15,2,     0.00,2,     1.20,2,    2.518,2,    1.321,2, -999.000,5,     0.79,2,   4.8319,   4.9141,2
  316N20111106,  GT11,     6,  6,      1,      1,2,20111114,0654, 37.5585, -68.4577, 4615,   1206.7,   4.3918,  34.9862,2,  34.9859,2,    254.8,2,    255.1,2,    11.61,2,    17.67,2,     0.00,2,     1.18,2,    2.619,2,    1.338,2, -999.000,5,     0.79,2,   4.2941,   4.3916,2
  316N20111106,  GT11,     6,  8,     13,     99,2,20111114,1112, 37.5585, -68.4577, 4615,      1.2,  23.2094,  35.7776,2,  35.7953,2,   -999.0,9,   -999.0,9,  -999.00,9,  -999.00,9,  -999.00,9,  -999.00,9, -999.000,9, -999.000,9, -999.000,9,     -999,9,  23.2092,-999.0000,9
  316N20111106,  GT11,     6,  8,     12,     12,2,20111114,1112, 37.5585, -68.4577, 4615,     20.7,  23.2182,  35.7776,2,  35.7767,2,    209.5,2,    209.3,2,     0.59,2,     0.01,2,     0.07,2,     0.01,2, -999.000,9, -999.000,9, -999.000,9,     -999,9,  23.2139,  23.2187,2
  316N20111106,  GT11,     6,  8,     11,     11,2,20111114,1112, 37.5585, -68.4577, 4615,     41.3,  23.2241,  35.7782,2,  35.7777,2,    209.9,2,    209.3,2,     0.59,2,     0.00,2,     0.07,2,     0.00,2, -999.000,9, -999.000,9, -999.000,9,     -999,9,  23.2156,  23.2241,2
  316N20111106,  GT11,     6,  8,     10,     10,2,20111114,1112, 37.5585, -68.4577, 4615,     65.9,  23.2262,  35.7777,2,  35.7773,2,    209.4,2,    209.4,2,     0.68,2,     0.00,2,     0.07,2,     0.00,2, -999.000,9, -999.000,9, -999.000,9,     -999,9,  23.2126,  23.2260,2
  316N20111106,  GT11,     6,  8,      9,      9,2,20111114,1112, 37.5585, -68.4577, 4615,     89.8,  23.6092,  36.0068,2,  36.0099,2,    207.7,2,    203.7,2,     0.59,2,     0.17,2,     0.14,2,     0.00,2, -999.000,9, -999.000,9, -999.000,9,     -999,9,  23.5904,  23.6084,2
  316N20111106,  GT11,     6,  8,      8,      8,2,20111114,1112, 37.5585, -68.4577, 4615,    111.9,  23.3794,  36.0806,2,  36.0852,2,    202.0,2,    203.9,2,     0.59,2,     0.29,2,     0.08,2,     0.03,2, -999.000,9, -999.000,9, -999.000,9,     -999,9,  23.3562,  23.3795,2
  316N20111106,  GT11,     6,  8,      7,      7,2,20111114,1112, 37.5585, -68.4577, 4615,    143.1,  20.0062,  35.7137,2,  35.7180,2,    185.2,2,    185.3,2,     1.85,2,     3.67,2,     0.02,2,     0.25,2, -999.000,9, -999.000,9, -999.000,9,     -999,9,  19.9796,  20.0232,3
  316N20111106,  GT11,     6,  8,      6,      6,2,20111114,1112, 37.5585, -68.4577, 4615,    162.2,  20.3414,  36.4690,2,  36.4583,2,    165.2,2,    164.0,2,     1.75,2,     5.04,2,     0.00,2,     0.25,2, -999.000,9, -999.000,9, -999.000,9,     -999,9,  20.3108,  20.3472,2
  316N20111106,  GT11,     6,  8,      5,      5,2,20111114,1112, 37.5585, -68.4577, 4615,    233.6,  16.6653,  36.1377,2,  36.1370,2,    156.6,2,    157.5,2,     3.51,2,    10.30,2,     0.00,2,     0.58,2, -999.000,9, -999.000,9, -999.000,9,     -999,9,  16.6269,  16.6664,2
  316N20111106,  GT11,     6,  8,      4,      4,2,20111114,1112, 37.5585, -68.4577, 4615,    323.0,  14.6510,  35.9179,2,  35.9185,2,    155.4,2,    154.2,2,     5.27,2,    14.14,2,     0.00,2,     0.84,2, -999.000,9, -999.000,9, -999.000,9,     -999,9,  14.6023,  14.6512,2
  316N20111106,  GT11,     6,  8,      3,      3,2,20111114,1112, 37.5585, -68.4577, 4615,    477.5,  10.8619,  35.3751,2,  35.3755,2,    135.3,2,    135.7,2,    11.71,2,    22.37,2,     0.00,2,     1.40,2, -999.000,9, -999.000,9, -999.000,9,     -999,9,  10.8025,  10.8626,2
  316N20111106,  GT11,     6,  8,      2,      2,2,20111114,1112, 37.5585, -68.4577, 4615,    675.5,   6.7295,  35.0819,2,  35.0818,2,    187.1,2,    189.8,2,    13.27,2,    21.28,2,     0.00,2,     1.40,2, -999.000,9, -999.000,9, -999.000,9,     -999,9,   6.6653,   6.7278,2
  316N20111106,  GT11,     6,  8,      1,      1,2,20111114,1112, 37.5585, -68.4577, 4615,    974.7,   4.8825,  35.0246,2,  35.0241,2,    243.0,2,    243.8,2,    11.42,2,    18.03,2,     0.00,2,     1.20,2, -999.000,9, -999.000,9, -999.000,9,     -999,9,   4.8015,   4.8823,2
  316N20111106,  GT11,     8,  2,     12,     12,2,20111116,1442, 35.4159, -66.5468, 4990,     31.6,  23.0752,  36.3520,2,  36.3511,2,    210.4,2,    210.4,2,     0.39,2,     0.00,2,     0.00,2,     0.01,2,    1.852,2,    1.152,2, -999.000,1,     1.23,2,  23.0687,  23.0743,2
  316N20111106,  GT11,     8,  2,     11,     11,2,20111116,1442, 35.4159, -66.5468, 4990,     68.4,  23.0744,  36.3508,2,  36.3501,2,    210.4,2,    210.2,2,     0.39,2,     0.00,2,     0.00,2,     0.01,2,    1.865,2,    1.154,2, -999.000,1,     1.23,2,  23.0603,  23.0749,2
  316N20111106,  GT11,     8,  2,     10,     10,2,20111116,1442, 35.4159, -66.5468, 4990,    111.8,  21.1438,  36.7399,2,  36.7365,2,    189.1,2,    189.2,2,     0.68,2,     1.88,2,     0.04,2,     0.07,2,    2.078,2,    1.279,2, -999.000,1,     1.22,2,  21.1221,  21.1451,2
  316N20111106,  GT11,     8,  2,      9,      9,2,20111116,1442, 35.4159, -66.5468, 4990,    136.6,  20.0214,  36.7187,2,  36.7201,2,    193.9,2,    192.1,2,     0.58,2,     2.17,2,     0.00,2,     0.07,2,    2.143,2,    1.305,2, -999.000,1,     1.23,2,  19.9959,  20.0322,2
  316N20111106,  GT11,     8,  2,      8,      8,2,20111116,1442, 35.4159, -66.5468, 4990,    187.5,  18.6803,  36.6152,2,  36.6160,2,    192.7,2,    193.7,2,     0.88,2,     3.57,2,     0.00,2,     0.15,2,    2.238,2,    1.355,2, -999.000,1,     1.27,2,  18.6469,  18.6833,2
  316N20111106,  GT11,     8,  2,      7,      7,2,20111116,1442, 35.4159, -66.5468, 4990,    238.9,  18.3215,  36.5940,2,  36.5945,2,    201.4,2,    200.3,2,     0.88,2,     3.68,2,     0.00,2,     0.15,2,    2.288,2,    1.387,2, -999.000,1,     1.27,2,  18.2795,  18.3229,2
  316N20111106,  GT11,     8,  2,      6,      6,2,20111116,1442, 35.4159, -66.5468, 4990,    293.5,  18.1325,  36.5903,2,  36.5971,2,    209.0,2,    208.2,2,     0.97,2,     3.42,2,     0.00,2,     0.14,2,    2.307,2,    1.426,2, -999.000,1,     1.37,2,  18.0812,  18.1328,2
  316N20111106,  GT11,     8,  2,      5,      5,2,20111116,1442, 35.4159, -66.5468, 4990,    423.9,  17.6221,  36.5144,2,  36.5153,2,    210.2,2,    211.8,2,     1.17,2,     4.03,2,     0.00,2,     0.18,2,    2.362,2,    1.434,2, -999.000,1,     1.38,2,  17.5493,  17.6210,2
  316N20111106,  GT11,     8,  2,      4,      4,2,20111116,1442, 35.4159, -66.5468, 4990,    554.1,  15.9854,  36.1739,2,  36.1757,2,    184.4,2,    183.4,2,     2.83,2,     9.19,2,     0.00,2,     0.50,2,    2.353,2,    1.355,2, -999.000,1,     1.09,2,  15.8961,  15.9844,2
  316N20111106,  GT11,     8,  2,      3,      3,2,20111116,1442, 35.4159, -66.5468, 4990,    806.8,  10.4305,  35.3405,2,  35.3423,2,    146.9,2,    146.9,2,    11.22,2,    21.61,2,     0.00,2,     1.36,2,    1.572,2,    0.839,2, -999.000,1,     0.66,2,  10.3311,  10.4304,2
  316N20111106,  GT11,     8,  2,      2,      2,2,20111116,1442, 35.4159, -66.5468, 4990,   1010.4,   6.2112,  35.0612,2,  35.0610,2,    201.9,2,    205.4,2,    12.88,2,    20.21,2,     0.00,2,     1.34,2,    1.961,2,    1.003,2, -999.000,1,     0.64,2,   6.1168,   6.2130,2
  316N20111106,  GT11,     8,  2,      1,      1,2,20111116,1442, 35.4159, -66.5468, 4990,   1210.3,   4.9321,  35.0144,2,  35.0134,2,    242.4,2,    242.2,2,    11.71,2,    18.11,2,     0.00,2,     1.23,2,    2.580,2,    1.335,2, -999.000,1,     0.78,2,   4.8291,   4.9337,2