BOTTLE,20170320PRINUNIVRMK
# 3/20/2017 Initialized README file  
# Data source: http://boyle.mit.edu/~ed/US_GEOTRACES_NAT_2011/ODF_FILES_2011-1227 
# SHIP: R/V Knorr 
# Cruise: GEOTRACES; GT-11; NAT-11 
# Region: North Atlantic 
# EXPOCODE: 316N20111106 
# DATES: 20111106 - 20111211 
# Chief Scientist: E.Boyle 
# 22 stations with multiple Rosettes 
# CTD: Who - ODF; Status - final 
# 	Includes: CTDSAL, CTDOXY 
# Salinty: Who - ODF; Status - final 
# 	Notes: 	 
# Nutrients: Who - ODF; Status - final 
# 	Includes: nitrate, nitrite, silicate, phopshpate, ammonium 
# O2: Who - ODF; Status - final 
# 	Notes: 
# CFC: Who - W.Smethie; Status -final 
# 	Notes:  
# Other: Many other parameters were measured and have been reported at BCO-DMO  
EXPOCODE,SECT_ID,STNNBR,CASTNO,SAMPNO,BTLNBR,BTLNBR_FLAG_W,DATE,TIME,LATITUDE,LONGITUDE,DEPTH,CTDPRS,CTDTMP,CTDSAL,CTDSAL_FLAG_W,SALNTY,SALNTY_FLAG_W,CTDOXY,CTDOXY_FLAG_W,OXYGEN,OXYGEN_FLAG_W,SILCAT,SILCAT_FLAG_W,NITRAT,NITRAT_FLAG_W,NITRIT,NITRIT_FLAG_W,PHSPHT,PHSPHT_FLAG_W,CFC-11,CFC-11_FLAG_W,CFC-12,CFC-12_FLAG_W,CFC113,CFC113_FLAG_W,SF6,SF6_FLAG_W,THETA,SBE35,SBE35_FLAG_W
,,,,,,,,,,,METERS,DBAR,ITS-90,PSS-78,,PSS-78,,UMOL/KG,,UMOL/KG,,UMOL/KG,,UMOL/KG,,UMOL/KG,,UMOL/KG,,PMOL/KG,,PMOL/KG,,PMOL/KG,,FMOL/KG,,DEG C,ITS-90,
  316N20111106,  GT11,     1,  2,     12,     12,2,20111107,0605, 39.7014, -69.8267, 2104,    605.4,   5.3458,  35.0119,2,  35.0120,2,    234.4,2,    227.9,2,    12.02,2,    19.06,2,     0.00,2,     1.25,2,    2.579,2,    1.311,2, -999.000,5,     0.91,2,   5.2950,   5.3457,2
  316N20111106,  GT11,     1,  2,     11,     11,2,20111107,0605, 39.7014, -69.8267, 2104,    670.2,   4.9666,  34.9803,2,  34.9813,2,    243.4,2,    241.2,2,    11.34,2,    18.30,2,     0.00,2,     1.20,2,    2.798,2,    1.543,2, -999.000,5,     1.09,2,   4.9120,   4.9666,2
  316N20111106,  GT11,     1,  2,     10,     10,2,20111107,0605, 39.7014, -69.8267, 2104,    832.5,   4.4770,  34.9586,2,  34.9601,2,    258.7,2,    258.8,2,    10.55,2,    17.41,2,     0.00,2,     1.26,2,    3.356,2,    1.750,2, -999.000,5,     1.24,2,   4.4114,   4.4769,2
  316N20111106,  GT11,     1,  2,      9,      9,2,20111107,0605, 39.7014, -69.8267, 2104,    973.9,   4.4233,  34.9595,2,  34.9599,2,    262.0,2,    258.5,2,    10.85,2,    17.53,2,     0.00,2,     1.14,2,    3.282,2,    1.680,2, -999.000,5,     1.15,2,   4.3459,   4.4229,2
  316N20111106,  GT11,     1,  2,      8,      8,2,20111107,0605, 39.7014, -69.8267, 2104,   1084.1,   4.3755,  34.9755,2,  34.9780,2,    254.9,2,    256.8,2,    11.24,2,    17.64,2,     0.00,2,     1.15,2,    2.690,2,    1.460,2, -999.000,5,     0.93,2,   4.2888,   4.3758,2
  316N20111106,  GT11,     1,  2,      7,      7,2,20111107,0605, 39.7014, -69.8267, 2104,   1209.7,   4.3162,  34.9802,2,  34.9841,2,    256.9,2,    257.7,2,    11.53,2,    17.75,2,     0.00,2,     1.19,2,    2.668,2,    1.340,2, -999.000,5,     0.73,2,   4.2189,   4.3156,2
  316N20111106,  GT11,     1,  2,      6,      6,9,20111107,0605, 39.7014, -69.8267, 2104,   1361.5,   4.1101,  34.9599,2,-999.0000,9,   -999.0,9,   -999.0,9,  -999.00,9,  -999.00,9,  -999.00,9,  -999.00,9, -999.000,9, -999.000,9, -999.000,9,     -999,9,   4.0012,   4.1096,2
  316N20111106,  GT11,     1,  2,      5,      5,2,20111107,0605, 39.7014, -69.8267, 2104,   1518.0,   3.9389,  34.9540,2,  34.9595,2,    264.6,2,    264.1,2,    11.92,2,    17.43,2,     0.00,2,     1.14,2,    2.666,2,    1.320,2, -999.000,5,     0.71,2,   3.8178,   3.9384,2
  316N20111106,  GT11,     1,  2,      4,      4,2,20111107,0605, 39.7014, -69.8267, 2104,   1669.3,   3.8970,  34.9530,2,  34.9545,2,    264.3,2,    264.4,2,    12.12,2,    17.46,2,     0.00,2,     1.16,2,    2.556,2,    1.257,2, -999.000,5,     0.67,2,   3.7625,   3.8965,2
  316N20111106,  GT11,     1,  2,      3,      3,2,20111107,0605, 39.7014, -69.8267, 2104,   1824.7,   3.8053,  34.9517,2,  34.9528,2,    265.0,2,    266.0,2,    12.41,2,    17.53,2,     0.00,2,     1.17,2,    2.341,2,    1.142,2, -999.000,5,     0.55,2,   3.6574,   3.8051,2
  316N20111106,  GT11,     1,  2,      2,      2,2,20111107,0605, 39.7014, -69.8267, 2104,   2024.4,   3.6696,  34.9475,2,  34.9496,2,    266.7,2,    266.3,2,    13.19,2,    17.50,2,     0.00,2,     1.17,2,    2.164,2,    1.041,2, -999.000,5,     0.49,2,   3.5047,   3.6692,2
  316N20111106,  GT11,     1,  2,      1,      1,2,20111107,0605, 39.7014, -69.8267, 2104,   2074.8,   3.6159,  34.9468,2,  34.9479,2,    266.5,2,    266.6,2,    13.58,2,    17.47,2,     0.00,2,     1.36,3,    2.080,2,    1.007,2, -999.000,5,     0.46,2,   3.4469,   3.6153,2
  316N20111106,  GT11,     1,  4,     12,     12,2,20111107,1807, 39.7014, -69.8267, 2104,    833.0,   4.7339,  35.0017,2,  35.0012,2,    246.0,2,    245.8,2,    11.53,2,    18.21,2,     0.00,2,     1.22,2, -999.000,9, -999.000,9, -999.000,9,     -999,9,   4.6665,   4.7331,2
  316N20111106,  GT11,     1,  4,     11,     11,2,20111107,1807, 39.7014, -69.8267, 2104,   1212.1,   4.2905,  34.9797,2,  34.9799,2,    256.6,2,    256.4,2,    11.43,2,    17.68,2,     0.00,2,     1.17,2, -999.000,9, -999.000,9, -999.000,9,     -999,9,   4.1932,   4.2913,2
  316N20111106,  GT11,     1,  4,     10,     10,2,20111107,1807, 39.7014, -69.8267, 2104,   1517.3,   3.8877,  34.9535,2,  34.9541,2,    264.5,2,    263.9,2,    12.02,2,    17.49,2,     0.00,2,     1.19,2, -999.000,9, -999.000,9, -999.000,9,     -999,9,   3.7672,   3.8874,2
  316N20111106,  GT11,     1,  4,      9,      9,2,20111107,1807, 39.7014, -69.8267, 2104,   1820.2,   3.6927,  34.9487,2,  34.9494,2,    265.6,2,    265.6,2,    13.00,2,    17.48,2,     0.00,2,     1.17,2, -999.000,9, -999.000,9, -999.000,9,     -999,9,   3.5468,   3.6920,2
  316N20111106,  GT11,     1,  4,      8,      8,2,20111107,1807, 39.7014, -69.8267, 2104,   2024.0,   3.4724,  34.9424,2,  34.9427,2,    267.1,2,    267.0,2,    14.17,2,    17.38,2,     0.00,2,     1.18,2, -999.000,9, -999.000,9, -999.000,9,     -999,9,   3.3105,   3.4718,2
  316N20111106,  GT11,     1,  4,      7,      7,2,20111107,1807, 39.7014, -69.8267, 2104,   2039.0,   3.3976,  34.9410,2,  34.9479,3,    267.7,2,    267.4,2,    14.46,2,    17.37,2,     0.00,2,     1.23,2, -999.000,9, -999.000,9, -999.000,9,     -999,9,   3.2354,   3.3970,2
  316N20111106,  GT11,     1,  4,      6,      6,2,20111107,1807, 39.7014, -69.8267, 2104,   2056.1,   3.3799,  34.9408,2,  34.9404,2,    267.5,2,    267.3,2,    14.66,2,    17.46,2,     0.00,2,     1.17,2, -999.000,9, -999.000,9, -999.000,9,     -999,9,   3.2164,   3.3790,2
  316N20111106,  GT11,     1,  4,      5,      5,2,20111107,1807, 39.7014, -69.8267, 2104,   2070.7,   3.3646,  34.9405,2,  34.9414,2,    268.2,2,    267.4,2,    14.76,2,    17.44,2,     0.00,2,     1.18,2, -999.000,9, -999.000,9, -999.000,9,     -999,9,   3.1999,   3.3632,2
  316N20111106,  GT11,     1,  4,      4,      4,2,20111107,1807, 39.7014, -69.8267, 2104,   2085.6,   3.3539,  34.9404,2,  34.9402,2,    267.2,2,    267.3,2,    14.85,2,    17.45,2,     0.00,2,     1.17,2, -999.000,9, -999.000,9, -999.000,9,     -999,9,   3.1880,   3.3534,2
  316N20111106,  GT11,     1,  4,      2,      2,2,20111107,1807, 39.7014, -69.8267, 2104,   2094.8,   3.3523,  34.9404,2,  34.9414,2,    267.5,2,    267.2,2,    14.85,2,    17.45,2,     0.00,2,     1.16,2, -999.000,9, -999.000,9, -999.000,9,     -999,9,   3.1855,   3.3516,2
  316N20111106,  GT11,     1,  4,      3,      3,2,20111107,1807, 39.7014, -69.8267, 2104,   2095.2,   3.3525,  34.9404,2,  34.9408,2,    267.5,2,    267.2,2,    14.76,2,    17.43,2,     0.00,2,     1.16,2, -999.000,9, -999.000,9, -999.000,9,     -999,9,   3.1857,   3.3519,2
  316N20111106,  GT11,     1,  4,      1,      1,2,20111107,1807, 39.7014, -69.8267, 2104,   2104.2,   3.3528,  34.9405,2,  34.9417,2,    267.2,2,    267.3,2,    15.15,2,    17.38,2,     0.00,2,     1.20,2, -999.000,9, -999.000,9, -999.000,9,     -999,9,   3.1851,   3.3522,2
  316N20111106,  GT11,     1,  6,     12,     12,2,20111107,2241, 39.7014, -69.8267, 2104,     30.3,  19.6063,  35.0951,2,  35.0919,2,    224.8,2,    224.2,2,     0.88,2,     0.57,2,     0.10,2,     0.09,2, -999.000,9, -999.000,9, -999.000,9,     -999,9,  19.6008,  19.6078,2
  316N20111106,  GT11,     1,  6,     11,     11,2,20111107,2241, 39.7014, -69.8267, 2104,     90.5,  15.8288,  36.0468,2,  36.0388,2,    142.2,2,    142.0,2,     5.08,2,    13.70,2,     0.01,2,     0.79,2, -999.000,9, -999.000,9, -999.000,9,     -999,9,  15.8145,  15.8304,2
  316N20111106,  GT11,     1,  6,     10,     10,2,20111107,2241, 39.7014, -69.8267, 2104,    110.5,  14.9520,  35.9267,2,  35.9391,2,    141.8,2,    142.0,2,     5.76,2,    14.81,2,     0.01,2,     0.86,2, -999.000,9, -999.000,9, -999.000,9,     -999,9,  14.9352,  14.9466,2
  316N20111106,  GT11,     1,  6,      9,      9,2,20111107,2241, 39.7014, -69.8267, 2104,    137.2,  13.7385,  35.7644,2,  35.7704,2,    151.3,2,    150.0,2,     6.45,2,    16.03,2,     0.00,2,     0.96,2, -999.000,9, -999.000,9, -999.000,9,     -999,9,  13.7188,  13.7378,2
  316N20111106,  GT11,     1,  6,      8,      8,2,20111107,2241, 39.7014, -69.8267, 2104,    238.0,  11.0170,  35.4162,2,  35.4226,2,    140.1,2,    142.8,2,    10.35,2,    21.21,2,     0.00,2,     1.31,2, -999.000,9, -999.000,9, -999.000,9,     -999,9,  10.9874,  11.0159,2
  316N20111106,  GT11,     1,  6,      7,      7,2,20111107,2241, 39.7014, -69.8267, 2104,    670.4,   5.0694,  35.0107,2,  35.0111,2,    236.0,2,    236.3,2,    11.53,2,    18.55,2,     0.00,2,     1.21,2, -999.000,9, -999.000,9, -999.000,9,     -999,9,   5.0142,   5.0695,2
  316N20111106,  GT11,     1,  6,      6,      6,2,20111107,2241, 39.7014, -69.8267, 2104,    833.4,   4.6518,  34.9924,2,  34.9930,2,    249.9,2,    248.6,2,    11.14,2,    17.89,2,     0.00,2,     1.18,2, -999.000,9, -999.000,9, -999.000,9,     -999,9,   4.5849,   4.6519,2
  316N20111106,  GT11,     1,  6,      5,      5,2,20111107,2241, 39.7014, -69.8267, 2104,   1214.2,   4.1658,  34.9724,2,  34.9731,2,    258.9,2,    259.0,2,    11.43,2,    17.55,2,     0.00,2,     1.16,2, -999.000,9, -999.000,9, -999.000,9,     -999,9,   4.0695,   4.1664,2
  316N20111106,  GT11,     1,  6,      4,      4,2,20111107,2241, 39.7014, -69.8267, 2104,   1517.8,   3.8842,  34.9539,2,  34.9552,2,    264.5,2,    263.9,2,    11.92,2,    17.44,2,     0.00,2,     1.15,2, -999.000,9, -999.000,9, -999.000,9,     -999,9,   3.7637,   3.8847,2
  316N20111106,  GT11,     1,  6,      3,      3,2,20111107,2241, 39.7014, -69.8267, 2104,   1822.5,   3.6321,  34.9473,2,  34.9498,2,    266.0,2,    266.1,2,    13.09,2,    17.44,2,     0.00,2,     1.15,2, -999.000,9, -999.000,9, -999.000,9,     -999,9,   3.4868,   3.6322,2
  316N20111106,  GT11,     1,  6,      2,      2,2,20111107,2241, 39.7014, -69.8267, 2104,   2023.5,   3.4693,  34.9420,2,  34.9433,2,    267.1,2,    266.5,2,    14.07,2,    17.38,2,     0.00,2,     1.15,2, -999.000,9, -999.000,9, -999.000,9,     -999,9,   3.3075,   3.4692,2
  316N20111106,  GT11,     1,  6,      1,      1,2,20111107,2241, 39.7014, -69.8267, 2104,   2074.9,   3.3932,  34.9409,2,  34.9407,2,   -999.0,9,   -999.0,5,    14.56,2,    17.35,2,     0.00,2,     1.17,2, -999.000,9, -999.000,9, -999.000,9,     -999,9,   3.2277,   3.3928,2
  316N20111106,  GT11,     1,  7,     13,     99,2,20111107,0353, 39.7014, -69.8267, 2104,      1.6,  19.5641,  35.0487,2,  35.0551,2,   -999.0,9,   -999.0,9,  -999.00,9,  -999.00,9,  -999.00,9,  -999.00,9, -999.000,9, -999.000,9, -999.000,9,     -999,9,  19.5638,-999.0000,9
  316N20111106,  GT11,     1,  7,     12,     12,2,20111107,0353, 39.7014, -69.8267, 2104,     31.7,  19.6888,  35.1039,2,  35.0779,3,    224.5,2,    223.9,2,     0.88,2,     0.45,2,     0.09,2,     0.07,2, -999.000,9, -999.000,9, -999.000,9,     -999,9,  19.6830,  19.6921,2
  316N20111106,  GT11,     1,  7,     11,     11,2,20111107,0353, 39.7014, -69.8267, 2104,     59.2,  19.5457,  35.2067,2,  35.1974,2,    220.7,2,    220.3,2,     1.17,2,     1.08,2,     0.15,2,     0.12,2, -999.000,9, -999.000,9, -999.000,9,     -999,9,  19.5349,  19.5602,3
  316N20111106,  GT11,     1,  7,     10,     10,2,20111107,0353, 39.7014, -69.8267, 2104,     91.0,  16.3340,  36.0809,2,  36.0815,2,    146.9,2,    146.3,2,     4.59,2,    12.07,2,     0.00,2,     0.65,2, -999.000,9, -999.000,9, -999.000,9,     -999,9,  16.3193,  16.3358,2
  316N20111106,  GT11,     1,  7,      9,      9,2,20111107,0353, 39.7014, -69.8267, 2104,    112.8,  15.1978,  35.9637,2,  35.9624,2,    142.5,2,    143.1,2,     5.76,2,    14.31,2,     0.00,2,     0.81,2, -999.000,9, -999.000,9, -999.000,9,     -999,9,  15.1805,  15.2020,2
  316N20111106,  GT11,     1,  7,      8,      8,2,20111107,0353, 39.7014, -69.8267, 2104,    137.4,  14.4881,  35.8626,2,  35.8672,2,    146.2,2,    145.6,2,     6.05,2,    15.17,2,     0.00,2,     0.87,2, -999.000,9, -999.000,9, -999.000,9,     -999,9,  14.4677,  14.4879,2
  316N20111106,  GT11,     1,  7,      7,      7,2,20111107,0353, 39.7014, -69.8267, 2104,    187.5,  12.0912,  35.5374,2,  35.5353,2,    141.3,2,    138.5,2,     9.77,2,    20.06,2,     0.00,2,     1.41,2, -999.000,9, -999.000,9, -999.000,9,     -999,9,  12.0665,  12.0900,2
  316N20111106,  GT11,     1,  7,      6,      6,2,20111107,0353, 39.7014, -69.8267, 2104,    236.9,  10.9312,  35.4032,2,  35.3996,2,    142.3,2,    141.6,2,    11.04,2,    21.37,2,     0.00,2,     1.32,2, -999.000,9, -999.000,9, -999.000,9,     -999,9,  10.9019,  10.9322,2
  316N20111106,  GT11,     1,  7,      5,      5,2,20111107,0353, 39.7014, -69.8267, 2104,    286.5,   9.9542,  35.2883,2,  35.2828,2,    140.9,2,    140.5,2,    12.70,2,    23.02,2,     0.00,2,     1.45,2, -999.000,9, -999.000,9, -999.000,9,     -999,9,   9.9208,   9.9843,2
  316N20111106,  GT11,     1,  7,      4,      4,2,20111107,0353, 39.7014, -69.8267, 2104,    327.5,   9.0389,  35.1911,2,  35.1898,2,    144.2,2,    143.6,2,    14.26,2,    24.13,2,     0.00,2,     1.53,2, -999.000,9, -999.000,9, -999.000,9,     -999,9,   9.0028,   9.0389,2
  316N20111106,  GT11,     1,  7,      3,      3,2,20111107,0353, 39.7014, -69.8267, 2104,    425.3,   7.1843,  35.0989,2,  35.0970,2,    178.3,2,    176.9,2,    14.07,2,    22.43,2,     0.00,2,     1.47,2, -999.000,9, -999.000,9, -999.000,9,     -999,9,   7.1431,   7.1844,2
  316N20111106,  GT11,     1,  7,      2,      2,2,20111107,0353, 39.7014, -69.8267, 2104,    480.9,   6.5012,  35.0655,2,  35.0651,2,    193.7,2,    193.6,2,    13.48,2,    21.29,2,     0.00,2,     1.40,2, -999.000,9, -999.000,9, -999.000,9,     -999,9,   6.4570,   6.5024,2
  316N20111106,  GT11,     1,  7,      1,      1,2,20111107,0353, 39.7014, -69.8267, 2104,    672.2,   5.0553,  35.0071,2,  35.0065,2,    238.1,2,    236.9,2,    11.82,2,    18.39,2,     0.00,2,     1.26,2, -999.000,9, -999.000,9, -999.000,9,     -999,9,   5.0000,   5.0556,2
  316N20111106,  GT11,     1,  9,     12,     12,2,20111107,1114, 39.7014, -69.8267, 2104,     30.5,  19.3863,  34.9777,2,  34.9873,2,    226.7,2,    226.3,2,     0.88,2,     0.35,2,     0.06,2,     0.08,2,    2.284,2,    1.314,2, -999.000,5,     1.49,2,  19.3808,  19.3851,2
  316N20111106,  GT11,     1,  9,     11,     11,2,20111107,1114, 39.7014, -69.8267, 2104,     58.3,  18.6372,  35.4322,2,  35.4498,2,    189.6,2,    189.3,2,     2.54,2,     4.81,2,     0.17,2,     0.42,2,    2.310,2,    1.342,2, -999.000,5,     1.33,2,  18.6269,  18.6485,3
  316N20111106,  GT11,     1,  9,     10,     10,2,20111107,1114, 39.7014, -69.8267, 2104,     90.0,  15.8140,  36.0351,2,  36.0262,2,    144.3,2,    144.0,2,     5.18,2,    13.37,2,     0.00,2,     0.93,2,    2.208,2,    1.222,2, -999.000,5,     0.91,2,  15.7998,  15.8222,2
  316N20111106,  GT11,     1,  9,      9,      9,2,20111107,1114, 39.7014, -69.8267, 2104,    110.9,  14.3994,  35.8558,2,  35.8608,2,    144.8,2,    144.8,2,     6.15,2,    15.41,2,     0.00,2,     0.92,2,    2.152,2,    1.160,2, -999.000,5,     0.81,2,  14.3830,  14.4051,2
  316N20111106,  GT11,     1,  9,      8,      8,2,20111107,1114, 39.7014, -69.8267, 2104,    136.7,  13.5257,  35.7337,2,  35.7352,2,    151.2,2,    150.8,2,     6.84,2,    16.29,2,     0.00,2,     1.14,2,    2.143,2,    1.158,2, -999.000,5,     0.79,2,  13.5063,  13.5267,2
  316N20111106,  GT11,     1,  9,      7,      7,2,20111107,1114, 39.7014, -69.8267, 2104,    187.5,  11.8049,  35.4950,2,  35.4964,2,    134.4,2,    134.3,2,    10.35,2,    21.02,2,     0.00,2,     1.33,2,    1.721,2,    0.877,2, -999.000,5,     0.62,2,  11.7806,  11.7950,3
  316N20111106,  GT11,     1,  9,      6,      6,9,20111107,1114, 39.7014, -69.8267, 2104,    238.0,  11.0903,  35.4276,2,-999.0000,9,   -999.0,9,   -999.0,9,  -999.00,9,  -999.00,9,  -999.00,9,  -999.00,9, -999.000,9, -999.000,9, -999.000,9,     -999,9,  11.0606,  11.0889,2
  316N20111106,  GT11,     1,  9,      5,      5,2,20111107,1114, 39.7014, -69.8267, 2104,    288.7,  10.0316,  35.2932,2,  35.2906,2,    141.4,2,    139.8,2,    12.51,2,    23.01,2,     0.00,2,     1.48,2,    1.425,2,    0.695,2, -999.000,5,      0.5,2,   9.9977,  10.0289,2
  316N20111106,  GT11,     1,  9,      4,      4,2,20111107,1114, 39.7014, -69.8267, 2104,    328.1,   8.9891,  35.1824,2,  35.1805,2,    143.0,2,    142.8,2,    14.27,2,    24.34,2,     0.00,2,     1.57,2,    1.273,2,    0.608,2, -999.000,5,     0.37,2,   8.9531,   8.9913,2
  316N20111106,  GT11,     1,  9,      3,      3,2,20111107,1114, 39.7014, -69.8267, 2104,    423.9,   7.6906,  35.1216,2,  35.1194,2,    166.5,2,    166.3,2,    14.07,2,    23.07,2,     0.00,2,     1.49,2,    1.400,2,    0.673,2, -999.000,5,     0.36,2,   7.6480,   7.6849,2
  316N20111106,  GT11,     1,  9,      2,      2,2,20111107,1114, 39.7014, -69.8267, 2104,    479.8,   6.8822,  35.0857,2,  35.0826,2,    184.4,2,    184.4,2,    13.68,2,    21.85,2,     0.00,2,     1.46,2,    1.709,2,    0.840,2, -999.000,5,     0.44,2,   6.8367,   6.8832,2
  316N20111106,  GT11,     1,  9,      1,      1,2,20111107,1114, 39.7014, -69.8267, 2104,    529.6,   6.1590,  35.0535,2,  35.0507,2,    202.8,2,    202.4,2,    13.09,2,    20.68,2,     0.00,2,     1.38,2,    2.091,2,    1.026,2, -999.000,5,     0.52,2,   6.1115,   6.1596,2