BOTTLE,20170320PRINUNIVRMK
EXPOCODE,SECT_ID,STNNBR,CASTNO,SAMPNO,BTLNBR,BTLNBR_FLAG_W,DATE,TIME,LATITUDE,LONGITUDE,DEPTH,CTDPRS,CTDTMP,CTDSAL,CTDSAL_FLAG_W,SALNTY,SALNTY_FLAG_W,CTDOXY,CTDOXY_FLAG_W,OXYGEN,OXYGEN_FLAG_W,SILCAT,SILCAT_FLAG_W,NITRAT,NITRAT_FLAG_W,NITRIT,NITRIT_FLAG_W,PHSPHT,PHSPHT_FLAG_W,CFC-11,CFC-11_FLAG_W,CFC-12,CFC-12_FLAG_W,CFC113,CFC113_FLAG_W,SF6,SF6_FLAG_W,THETA,SBE35,SBE35_FLAG_W
,,,,,,,,,,,METERS,DBAR,ITS-90,PSS-78,,PSS-78,,UMOL/KG,,UMOL/KG,,UMOL/KG,,UMOL/KG,,UMOL/KG,,UMOL/KG,,PMOL/KG,,PMOL/KG,,PMOL/KG,,FMOL/KG,,DEG C,ITS-90,
  316N20111106,  GT11,    22,  6,     13,     99,2,20111207,0229, 19.4330, -29.3830, 5078,      1.0,  24.8096,  37.1743,2,  37.1789,2,   -999.0,9,   -999.0,9,  -999.00,9,  -999.00,9,  -999.00,9,  -999.00,9, -999.000,9, -999.000,9, -999.000,9,     -999,9,  24.8094,-999.0000,9
  316N20111106,  GT11,    22,  6,     12,     12,2,20111207,0229, 19.4330, -29.3830, 5078,     25.0,  24.8143,  37.1738,2,  37.1713,2,    206.0,2,    206.0,2,     0.10,2,     0.00,2,     0.00,2,     0.00,2, -999.000,9, -999.000,9, -999.000,9,     -999,9,  24.8089,  24.8144,2
  316N20111106,  GT11,    22,  6,     11,     11,2,20111207,0229, 19.4330, -29.3830, 5078,     49.7,  24.8170,  37.1730,2,  37.1718,2,    205.9,2,    206.1,2,     0.00,2,     0.00,2,     0.00,2,     0.00,2, -999.000,9, -999.000,9, -999.000,9,     -999,9,  24.8062,  24.8182,2
  316N20111106,  GT11,    22,  6,     10,     10,2,20111207,0229, 19.4330, -29.3830, 5078,     89.4,  21.6425,  36.9839,2,  36.9922,2,    183.2,2,    181.9,2,     0.49,2,     2.03,2,     0.03,2,     0.17,2, -999.000,9, -999.000,9, -999.000,9,     -999,9,  21.6249,  21.6447,2
  316N20111106,  GT11,    22,  6,      9,      9,2,20111207,0229, 19.4330, -29.3830, 5078,    125.7,  18.9611,  36.5591,2,  36.5549,2,    136.0,2,    128.9,2,     2.24,2,    11.07,2,     0.00,2,     0.67,2, -999.000,9, -999.000,9, -999.000,9,     -999,9,  18.9385,  18.9803,2
  316N20111106,  GT11,    22,  6,      8,      8,2,20111207,0229, 19.4330, -29.3830, 5078,    150.2,  17.5928,  36.3258,2,  36.3269,2,    119.4,2,    112.4,2,     3.22,2,    14.56,2,     0.00,2,     0.88,2, -999.000,9, -999.000,9, -999.000,9,     -999,9,  17.5672,  17.5930,2
  316N20111106,  GT11,    22,  6,      7,      7,2,20111207,0229, 19.4330, -29.3830, 5078,    186.3,  15.7237,  36.0361,2,  36.0390,2,    100.2,2,    105.1,2,     4.68,2,    17.74,2,     0.00,2,     1.07,2, -999.000,9, -999.000,9, -999.000,9,     -999,9,  15.6943,  15.7226,2
  316N20111106,  GT11,    22,  6,      6,      6,2,20111207,0229, 19.4330, -29.3830, 5078,    235.6,  15.0006,  35.9993,2,  35.9993,2,    132.0,2,    123.2,2,     4.58,2,    16.39,2,     0.00,2,     0.98,2, -999.000,9, -999.000,9, -999.000,9,     -999,9,  14.9646,  15.0011,2
  316N20111106,  GT11,    22,  6,      5,     15,2,20111207,0229, 19.4330, -29.3830, 5078,    287.1,  14.1131,  35.8767,2,  35.8781,2,    126.7,2,    126.9,2,     5.27,2,    17.28,2,     0.00,2,     1.03,2, -999.000,9, -999.000,9, -999.000,9,     -999,9,  14.0709,  14.1134,2
  316N20111106,  GT11,    22,  6,      4,      4,2,20111207,0229, 19.4330, -29.3830, 5078,    393.6,  12.5498,  35.6615,2,  35.6609,2,    120.7,2,    119.8,2,     7.22,2,    20.78,2,     0.00,2,     1.25,2, -999.000,9, -999.000,9, -999.000,9,     -999,9,  12.4962,  12.5503,2
  316N20111106,  GT11,    22,  6,      3,      3,2,20111207,0229, 19.4330, -29.3830, 5078,    554.4,  10.3333,  35.3719,2,  35.3715,2,    105.4,2,    105.6,2,    12.00,2,    26.36,2,     0.00,2,     1.62,2, -999.000,9, -999.000,9, -999.000,9,     -999,9,  10.2662,  10.3333,2
  316N20111106,  GT11,    22,  6,      2,      2,2,20111207,0229, 19.4330, -29.3830, 5078,    670.7,   8.8165,  35.1989,2,  35.1979,2,    113.3,2,    113.2,2,    15.61,2,    28.03,2,     0.00,2,     1.78,2, -999.000,9, -999.000,9, -999.000,9,     -999,9,   8.7423,   8.8283,2
  316N20111106,  GT11,    22,  6,      1,      1,2,20111207,0229, 19.4330, -29.3830, 5078,    905.4,   6.3440,  34.9410,2,  34.9366,2,    133.7,2,    133.5,2,    21.76,2,    29.94,2,     0.00,2,     1.98,2, -999.000,9, -999.000,9, -999.000,9,     -999,9,   6.2594,   6.3437,2
  316N20111106,  GT11,    23,  2,     13,     99,2,20111209,0530, 18.3884, -26.7639, 4283,      1.1,  24.7397,  36.7531,2,  36.7637,2,   -999.0,9,   -999.0,9,  -999.00,9,  -999.00,9,  -999.00,9,  -999.00,9, -999.000,9, -999.000,9, -999.000,9,     -999,9,  24.7395,-999.0000,9
  316N20111106,  GT11,    23,  2,     12,     12,2,20111209,0530, 18.3884, -26.7639, 4283,     50.6,  24.7821,  36.7690,2,  36.7726,2,    206.7,2,    206.3,2,     0.00,2,     0.00,2,     0.00,2,     0.00,2,    1.785,2,    1.082,2,    0.139,2,     1.19,2,  24.7711,  24.7823,2
  316N20111106,  GT11,    23,  2,     11,     11,2,20111209,0530, 18.3884, -26.7639, 4283,     78.5,  23.9179,  37.1450,2,  37.1258,2,    218.4,2,    218.3,2,     0.10,2,     0.03,2,     0.00,2,     0.00,2,    1.943,2,    1.171,2,    0.155,2,     1.23,2,  23.9013,  23.9453,3
  316N20111106,  GT11,    23,  2,     10,     10,2,20111209,0530, 18.3884, -26.7639, 4283,    127.9,  20.0613,  36.7925,2,  36.7920,2,    163.9,2,    165.2,2,     0.97,2,     6.34,2,     0.02,2,     0.38,2,    2.141,2,    1.264,2,    0.133,2,     1.26,2,  20.0374,  20.0626,2
  316N20111106,  GT11,    23,  2,      9,      9,2,20111209,0530, 18.3884, -26.7639, 4283,    185.4,  17.0042,  36.3052,2,  36.2950,2,    131.5,2,    129.9,2,     3.12,2,    13.47,2,     0.00,2,     0.76,2,    2.245,2,    1.290,2,    0.028,2,     1.07,2,  16.9733,  17.0041,2
  316N20111106,  GT11,    23,  2,      8,      8,2,20111209,0530, 18.3884, -26.7639, 4283,    235.9,  14.8432,  35.9087,2,  35.8890,2,    104.5,2,     96.8,2,     5.75,2,    20.20,2,     0.00,2,     1.17,2,    2.111,2,    1.159,2,    0.018,2,     0.77,2,  14.8074,  14.8497,2
  316N20111106,  GT11,    23,  2,      7,      7,2,20111209,0530, 18.3884, -26.7639, 4283,    283.2,  13.6328,  35.6925,2,  35.6966,2,     82.4,2,     84.2,2,     7.31,2,    23.32,2,     0.00,2,     1.37,2,    1.947,2,    1.048,2,    0.013,2,     0.65,2,  13.5922,  13.6302,2
  316N20111106,  GT11,    23,  2,      6,      6,2,20111209,0530, 18.3884, -26.7639, 4283,    353.5,  12.8821,  35.6439,2,  35.6429,2,     91.8,2,     92.1,2,     7.71,2,    23.42,2,     0.00,2,     1.38,2,    1.858,2,    0.992,2,    0.010,2,     0.56,2,  12.8332,  12.8843,2
  316N20111106,  GT11,    23,  2,      5,     15,2,20111209,0530, 18.3884, -26.7639, 4283,    403.8,  12.0998,  35.5520,2,  35.5460,2,     92.2,2,     92.2,2,     8.97,2,    24.87,2,     0.00,2,     1.47,2,    1.664,2,    0.861,2,    0.010,2,     0.43,2,  12.0461,  12.0913,2
  316N20111106,  GT11,    23,  2,      4,      4,2,20111209,0530, 18.3884, -26.7639, 4283,    477.5,  11.0910,  35.4211,2,  35.4217,2,     88.5,2,     92.0,2,    10.83,2,    26.81,2,     0.00,2,     1.60,2,    1.315,2,    0.663,2,    0.010,2,     0.35,2,  11.0308,  11.0908,2
  316N20111106,  GT11,    23,  2,      3,      3,2,20111209,0530, 18.3884, -26.7639, 4283,    554.2,   9.6421,  35.2258,2,  35.2262,2,     89.9,2,     89.5,2,    14.24,2,    29.76,2,     0.00,2,     1.82,2,    0.789,2,    0.377,2,    0.008,2,      0.2,2,   9.5779,   9.6423,2
  316N20111106,  GT11,    23,  2,      2,      2,2,20111209,0530, 18.3884, -26.7639, 4283,    755.0,   7.4803,  34.9791,2,  34.9791,2,    107.6,2,    108.2,2,    19.71,2,    31.55,2,     0.00,2,     2.02,2,    0.256,2,    0.113,2,    0.003,2,     0.06,2,   7.4041,   7.4805,2
  316N20111106,  GT11,    23,  2,      1,      1,2,20111209,0530, 18.3884, -26.7639, 4283,   1006.2,   6.2458,  34.9702,2,  34.9793,2,    140.5,2,    141.2,2,    19.71,2,    31.54,2,     0.00,2,     2.03,2,    0.106,2,    0.045,2,    0.002,2,     0.01,2,   6.1517,   6.2454,2
  316N20111106,  GT11,    24,  2,     13,     99,2,20111209,2024, 17.4000, -24.5001, 3580,      1.0,  24.7418,  36.8196,2,  36.8306,2,   -999.0,9,   -999.0,9,  -999.00,9,  -999.00,9,  -999.00,9,  -999.00,9, -999.000,9, -999.000,9, -999.000,9,     -999,9,  24.7416,-999.0000,9
  316N20111106,  GT11,    24,  2,     12,     12,2,20111209,2024, 17.4000, -24.5001, 3580,     20.7,  24.7471,  36.8196,2,  36.8184,2,    208.0,2,    208.2,2,     0.29,2,     0.09,2,     0.00,2,     0.03,2, -999.000,9, -999.000,9, -999.000,9,     -999,9,  24.7426,  24.7477,2
  316N20111106,  GT11,    24,  2,     11,     11,2,20111209,2024, 17.4000, -24.5001, 3580,     38.4,  24.7308,  36.8222,2,  36.8242,2,    207.8,2,    207.4,2,     0.19,2,     0.06,2,     0.00,2,     0.02,2, -999.000,9, -999.000,9, -999.000,9,     -999,9,  24.7225,  24.7309,2
  316N20111106,  GT11,    24,  2,     10,     10,2,20111209,2024, 17.4000, -24.5001, 3580,     73.1,  24.5346,  36.8265,2,  36.8264,2,    207.3,2,    207.6,2,     0.29,2,     0.05,2,     0.00,2,     0.02,2, -999.000,9, -999.000,9, -999.000,9,     -999,9,  24.5189,  24.5345,2
  316N20111106,  GT11,    24,  2,      9,      9,2,20111209,2024, 17.4000, -24.5001, 3580,     90.2,  21.0923,  36.7884,2,  36.8045,2,    181.5,2,    181.4,2,     0.78,2,     2.80,2,     0.17,2,     0.27,2, -999.000,9, -999.000,9, -999.000,9,     -999,9,  21.0748,  21.1150,3
  316N20111106,  GT11,    24,  2,      8,      8,2,20111209,2024, 17.4000, -24.5001, 3580,    120.1,  17.8305,  36.2375,2,  36.2439,2,    116.9,2,    117.4,2,     3.80,2,    14.65,2,     0.00,2,     1.00,2, -999.000,9, -999.000,9, -999.000,9,     -999,9,  17.8099,  17.8790,3
  316N20111106,  GT11,    24,  2,      7,      7,2,20111209,2024, 17.4000, -24.5001, 3580,    135.4,  17.8061,  36.4003,2,  36.4005,2,    121.4,2,    128.9,2,     2.92,2,    12.61,2,     0.00,2,     0.76,2, -999.000,9, -999.000,9, -999.000,9,     -999,9,  17.7828,  17.8041,2
  316N20111106,  GT11,    24,  2,      6,      6,2,20111209,2024, 17.4000, -24.5001, 3580,    186.2,  15.9702,  36.1207,2,  36.0843,3,    119.1,2,    116.9,2,     4.39,2,    16.40,2,     0.00,2,     0.98,2, -999.000,9, -999.000,9, -999.000,9,     -999,9,  15.9405,  15.9543,2
  316N20111106,  GT11,    24,  2,      5,     15,2,20111209,2024, 17.4000, -24.5001, 3580,    236.6,  13.7780,  35.6540,2,  35.6454,2,     77.6,2,     76.6,2,     7.51,2,    24.13,2,     0.00,2,     1.45,2, -999.000,9, -999.000,9, -999.000,9,     -999,9,  13.7439,  13.7783,2
  316N20111106,  GT11,    24,  2,      4,      4,2,20111209,2024, 17.4000, -24.5001, 3580,    287.8,  12.7241,  35.5143,2,  35.5105,2,     69.5,2,     70.0,2,     8.97,2,    26.35,2,     0.00,2,     1.58,2, -999.000,9, -999.000,9, -999.000,9,     -999,9,  12.6847,  12.7140,2
  316N20111106,  GT11,    24,  2,      3,      3,2,20111209,2024, 17.4000, -24.5001, 3580,    352.7,  11.8940,  35.4163,2,  35.4146,2,     64.3,2,     64.3,2,    10.54,2,    28.35,2,     0.00,2,     1.70,2, -999.000,9, -999.000,9, -999.000,9,     -999,9,  11.8478,  11.8932,2
  316N20111106,  GT11,    24,  2,      2,      2,2,20111209,2024, 17.4000, -24.5001, 3580,    454.0,  10.8156,  35.3026,2,  35.2955,2,     61.7,2,     62.1,2,    12.59,2,    30.65,2,     0.00,2,     1.84,2, -999.000,9, -999.000,9, -999.000,9,     -999,9,  10.7594,  10.8100,2
  316N20111106,  GT11,    24,  2,      1,      1,2,20111209,2024, 17.4000, -24.5001, 3580,    604.0,   9.0147,  35.0993,2,  35.0982,2,     75.0,2,     75.2,2,    16.59,2,    32.52,2,     0.00,2,     2.03,2, -999.000,9, -999.000,9, -999.000,9,     -999,9,   8.9474,   9.0154,2
  316N20111106,  GT11,    24,  4,     12,     12,2,20111209,0340, 17.4000, -24.5001, 3580,    906.6,   6.6318,  34.9253,2,  34.9250,2,    112.0,2,    111.9,2,    21.96,2,    32.21,2,     0.00,2,     2.10,2,    0.111,2,    0.045,2,    0.003,2,     0.06,2,   6.5451,   6.6318,2
  316N20111106,  GT11,    24,  4,     11,     11,2,20111209,0340, 17.4000, -24.5001, 3580,   1086.6,   5.9777,  34.9586,2,  34.9591,2,    140.3,2,    140.0,2,    21.96,2,    29.44,2,     0.00,2,     1.94,2,    0.102,2,    0.038,2,    0.002,2,     0.06,2,   5.8777,   5.9775,2
  316N20111106,  GT11,    24,  4,     10,     10,2,20111209,0340, 17.4000, -24.5001, 3580,   1276.1,   5.3852,  35.0019,2,  35.0006,2,    165.0,2,    167.2,2,    21.57,2,    26.63,2,     0.00,2,     1.77,2,    0.057,2,    0.023,2,    0.002,2,     0.03,2,   5.2717,   5.3847,2
  316N20111106,  GT11,    24,  4,      9,      9,2,20111209,0340, 17.4000, -24.5001, 3580,   1513.0,   4.6670,  35.0112,2,  35.0114,2,    193.6,2,    193.9,2,    21.96,2,    24.15,2,     0.00,2,     1.62,2,    0.034,2,    0.012,2,    0.003,2,     0.01,2,   4.5379,   4.6655,2
  316N20111106,  GT11,    24,  4,      8,      8,2,20111209,0340, 17.4000, -24.5001, 3580,   1748.3,   4.1462,  34.9981,2,  34.9984,2,    213.2,2,    212.9,2,    22.54,2,    22.63,2,     0.00,2,     1.52,2,    0.031,2,    0.010,2,    0.000,2,        0,2,   4.0009,   4.1465,2
  316N20111106,  GT11,    24,  4,      7,      7,2,20111209,0340, 17.4000, -24.5001, 3580,   1996.6,   3.7082,  34.9836,2,  34.9841,2,    225.8,2,    225.5,2,    24.40,2,    21.73,2,     0.00,2,     1.46,2,    0.031,2,    0.007,2,    0.000,2,        0,2,   3.5453,   3.7100,2
  316N20111106,  GT11,    24,  4,      6,      6,2,20111209,0340, 17.4000, -24.5001, 3580,   2243.9,   3.4063,  34.9703,2,  34.9705,2,    231.7,2,    230.9,2,    27.03,2,    21.39,2,     0.00,2,     1.43,2,    0.024,2,    0.006,2,    0.000,2,        0,2,   3.2242,   3.4061,2
  316N20111106,  GT11,    24,  4,      5,     15,2,20111209,0340, 17.4000, -24.5001, 3580,   2494.5,   3.1148,  34.9542,2,  34.9543,2,    237.4,2,    237.2,2,    29.86,2,    21.11,2,     0.00,2,     1.42,2,    0.025,2,    0.006,2,    0.000,2,        0,2,   2.9132,   3.1149,2
  316N20111106,  GT11,    24,  4,      4,      4,2,20111209,0340, 17.4000, -24.5001, 3580,   2746.7,   2.9509,  34.9455,2,  34.9455,2,    239.8,2,    240.0,2,    31.91,2,    20.99,2,     0.00,2,     1.42,2,    0.021,2,    0.006,2,    0.000,2,        0,2,   2.7272,   2.9507,2
  316N20111106,  GT11,    24,  4,      3,      3,2,20111209,0340, 17.4000, -24.5001, 3580,   2999.3,   2.7796,  34.9336,2,  34.9339,2,    241.1,2,    241.3,2,    34.94,2,    21.11,2,     0.00,2,     1.42,2,    0.022,2,    0.006,2,    0.000,2,        0,2,   2.5336,   2.7796,2
  316N20111106,  GT11,    24,  4,      2,      2,2,20111209,0340, 17.4000, -24.5001, 3580,   3249.8,   2.6368,  34.9231,2,  34.9233,2,    240.9,2,    240.7,2,    38.06,2,    21.39,2,     0.00,2,     1.44,2,    0.026,2,    0.007,2,    0.000,2,        0,2,   2.3678,   2.6369,2
  316N20111106,  GT11,    24,  4,      1,      1,2,20111209,0340, 17.4000, -24.5001, 3580,   3580.4,   2.4833,  34.9076,2,  34.9075,2,    236.7,2,    236.9,2,    43.43,2,    22.27,2,     0.00,2,     1.49,2,    0.035,2,    0.012,2,    0.000,2,        0,2,   2.1825,   2.4832,2
  316N20111106,  GT11,    24,  6,     12,     12,2,20111209,0852, 17.4000, -24.5001, 3580,     38.3,  24.6764,  36.8080,2,  36.8085,2,    207.2,2,    207.1,2,     0.00,2,     0.00,2,     0.00,2,     0.00,2,    1.790,2,    1.096,2,    0.142,2,     1.15,2,  24.6681,  24.6766,2
  316N20111106,  GT11,    24,  6,     11,     11,2,20111209,0852, 17.4000, -24.5001, 3580,     48.4,  24.6776,  36.8065,2,  36.8046,2,    207.0,2,    206.7,2,     0.00,2,     0.03,2,     0.00,2,     0.00,2,    1.858,2,    1.125,2,    0.147,2,     1.18,2,  24.6671,  24.6759,2
  316N20111106,  GT11,    24,  6,     10,     10,2,20111209,0852, 17.4000, -24.5001, 3580,     72.0,  20.1988,  36.4773,2,  36.4844,2,    156.3,2,    154.1,2,     1.75,2,     7.87,2,     0.11,2,     0.50,2,    2.015,2,    1.178,2,    0.113,2,     1.06,2,  20.1853,  20.1955,2
  316N20111106,  GT11,    24,  6,      9,      9,2,20111209,0852, 17.4000, -24.5001, 3580,     89.8,  19.6876,  36.5879,2,  36.5886,2,    140.9,2,    143.0,2,     1.46,2,     9.51,2,     0.03,2,     0.58,2,    2.125,2,    1.258,2,    0.115,2,     1.09,2,  19.6711,  19.6976,2
  316N20111106,  GT11,    24,  6,      8,      8,2,20111209,0852, 17.4000, -24.5001, 3580,    135.8,  16.7679,  36.2720,2,  36.2679,2,    112.7,2,    128.8,2,     3.02,2,    13.66,2,     0.00,2,     0.76,2,    2.269,2,    1.296,2,    0.029,2,     0.98,2,  16.7455,  16.7768,2
  316N20111106,  GT11,    24,  6,      7,      7,2,20111209,0852, 17.4000, -24.5001, 3580,    184.8,  14.2947,  35.7425,2,  35.7414,2,     85.2,2,     81.8,2,     6.44,2,    22.77,2,     0.00,2,     1.33,2,    1.999,2,    1.100,2,    0.018,2,     0.65,2,  14.2674,  14.3060,2
  316N20111106,  GT11,    24,  6,      6,      6,2,20111209,0852, 17.4000, -24.5001, 3580,    236.0,  13.4580,  35.6112,2,  35.6032,2,     74.5,2,     75.2,2,     7.71,2,    24.69,2,     0.00,2,     1.46,2,    1.866,2,    1.001,2,    0.016,2,     0.53,2,  13.4245,  13.4577,2
  316N20111106,  GT11,    24,  6,      5,     15,2,20111209,0852, 17.4000, -24.5001, 3580,    287.7,  12.6670,  35.5093,2,  35.5066,2,     70.5,2,     70.3,2,     8.78,2,    26.41,2,     0.00,2,     1.57,2,    1.692,2,    0.896,2,    0.015,2,     0.48,2,  12.6278,  12.6662,2
  316N20111106,  GT11,    24,  6,      4,      4,2,20111209,0852, 17.4000, -24.5001, 3580,    351.0,  11.7493,  35.3987,2,  35.3977,2,     64.9,2,     64.6,2,    10.24,2,    28.58,2,     0.00,2,     1.70,2,    1.420,2,    0.731,2,    0.012,2,     0.37,2,  11.7036,  11.7488,2
  316N20111106,  GT11,    24,  6,      3,      3,2,20111209,0852, 17.4000, -24.5001, 3580,    433.1,  10.7319,  35.2713,2,  35.2712,2,     61.0,2,     61.1,2,    12.29,2,    30.97,2,     0.00,2,     1.85,2,    1.069,2,    0.529,2,    0.010,2,     0.29,2,  10.6786,  10.7317,2
  316N20111106,  GT11,    24,  6,      2,      2,2,20111209,0852, 17.4000, -24.5001, 3580,    599.3,   8.8651,  35.0810,2,  35.0809,2,     78.2,2,     78.2,2,    16.49,2,    32.52,2,     0.00,2,     2.02,2,    0.540,2,    0.246,2,    0.005,2,     0.14,2,   8.7990,   8.8648,2
  316N20111106,  GT11,    24,  6,      1,      1,2,20111209,0852, 17.4000, -24.5001, 3580,    807.1,   7.0451,  34.9203,2,  34.9183,2,    105.9,2,    105.8,2,    20.88,2,    32.51,2,     0.00,2,     2.11,2,    0.187,2,    0.082,2,    0.003,2,     0.08,2,   6.9660,   7.0449,2