BOTTLE,20170320PRINUNIVRMK
EXPOCODE,SECT_ID,STNNBR,CASTNO,SAMPNO,BTLNBR,BTLNBR_FLAG_W,DATE,TIME,LATITUDE,LONGITUDE,DEPTH,CTDPRS,CTDTMP,CTDSAL,CTDSAL_FLAG_W,SALNTY,SALNTY_FLAG_W,CTDOXY,CTDOXY_FLAG_W,OXYGEN,OXYGEN_FLAG_W,SILCAT,SILCAT_FLAG_W,NITRAT,NITRAT_FLAG_W,NITRIT,NITRIT_FLAG_W,PHSPHT,PHSPHT_FLAG_W,CFC-11,CFC-11_FLAG_W,CFC-12,CFC-12_FLAG_W,CFC113,CFC113_FLAG_W,SF6,SF6_FLAG_W,THETA,SBE35,SBE35_FLAG_W
,,,,,,,,,,,METERS,DBAR,ITS-90,PSS-78,,PSS-78,,UMOL/KG,,UMOL/KG,,UMOL/KG,,UMOL/KG,,UMOL/KG,,UMOL/KG,,PMOL/KG,,PMOL/KG,,PMOL/KG,,FMOL/KG,,DEG C,ITS-90,
  316N20111106,  GT11,     1, 10,     12,     12,2,20111107,1524, 39.7014, -69.8267, 2104,     30.2,  19.5033,  34.9490,2,  34.9494,2,    225.0,2,    225.2,2,     0.88,2,     0.30,2,     0.07,2,     0.09,2, -999.000,9, -999.000,9, -999.000,9,     -999,9,  19.4978,  19.5037,2
  316N20111106,  GT11,     1, 10,     11,     11,2,20111107,1524, 39.7014, -69.8267, 2104,     59.0,  18.3386,  35.6523,2,  35.6869,3,    174.2,2,    173.9,2,     2.83,2,     6.73,2,     0.08,2,     0.48,2, -999.000,9, -999.000,9, -999.000,9,     -999,9,  18.3283,  18.3385,2
  316N20111106,  GT11,     1, 10,     10,     10,2,20111107,1524, 39.7014, -69.8267, 2104,     91.0,  15.5451,  36.0051,2,  36.0009,2,    144.4,2,    143.9,2,     5.37,2,    13.85,2,     0.00,2,     0.85,2, -999.000,9, -999.000,9, -999.000,9,     -999,9,  15.5309,  15.5454,2
  316N20111106,  GT11,     1, 10,      9,      9,2,20111107,1524, 39.7014, -69.8267, 2104,    111.6,  14.5070,  35.8716,2,  35.8807,2,    143.4,2,    143.1,2,     6.05,2,    15.40,2,     0.00,2,     0.92,2, -999.000,9, -999.000,9, -999.000,9,     -999,9,  14.4904,  14.5087,2
  316N20111106,  GT11,     1, 10,      8,      8,2,20111107,1524, 39.7014, -69.8267, 2104,    136.6,  13.4060,  35.7122,2,  35.7103,2,    151.0,2,    149.3,2,     7.13,2,    16.69,2,     0.00,2,     1.03,2, -999.000,9, -999.000,9, -999.000,9,     -999,9,  13.3867,  13.4056,2
  316N20111106,  GT11,     1, 10,      7,      7,2,20111107,1524, 39.7014, -69.8267, 2104,    238.3,  10.6539,  35.3497,2,  35.3441,2,    137.2,2,    135.0,2,    11.92,2,    22.86,2,     0.00,2,     1.47,2, -999.000,9, -999.000,9, -999.000,9,     -999,9,  10.6249,  10.6543,2
  316N20111106,  GT11,     1, 10,      5,      5,2,20111107,1524, 39.7014, -69.8267, 2104,    423.9,   7.3952,  35.1032,2,  35.1054,2,    171.0,2,    172.0,2,    13.88,2,    22.82,2,     0.00,2,     1.49,2, -999.000,9, -999.000,9, -999.000,9,     -999,9,   7.3535,   7.4248,3
  316N20111106,  GT11,     1, 10,      6,      6,2,20111107,1524, 39.7014, -69.8267, 2104,    424.0,   7.4409,  35.1077,2,  35.1044,2,    171.0,2,    172.3,2,    13.97,2,    22.76,2,     0.00,2,     1.50,2, -999.000,9, -999.000,9, -999.000,9,     -999,9,   7.3990,   7.4219,3
  316N20111106,  GT11,     1, 10,      4,      4,2,20111107,1524, 39.7014, -69.8267, 2104,    529.9,   5.9724,  35.0448,2,  35.0437,2,    208.6,2,    207.9,2,    12.61,2,    20.38,2,     0.00,2,     1.34,2, -999.000,9, -999.000,9, -999.000,9,     -999,9,   5.9256,   5.9717,2
  316N20111106,  GT11,     1, 10,      3,      3,2,20111107,1524, 39.7014, -69.8267, 2104,    605.3,   5.5323,  35.0360,2,  35.0357,2,    221.8,2,    221.3,2,    12.21,2,    19.61,2,     0.00,2,     1.29,2, -999.000,9, -999.000,9, -999.000,9,     -999,9,   5.4806,   5.5349,2
  316N20111106,  GT11,     1, 10,      2,      2,2,20111107,1524, 39.7014, -69.8267, 2104,    605.4,   5.5324,  35.0360,2,  35.0349,2,    221.8,2,    221.0,2,    12.31,2,    19.56,2,     0.00,2,     1.28,2, -999.000,9, -999.000,9, -999.000,9,     -999,9,   5.4807,   5.5317,2
  316N20111106,  GT11,     1, 10,      1,      1,2,20111107,1524, 39.7014, -69.8267, 2104,    670.8,   5.0357,  35.0094,2,  35.0070,2,    237.8,2,    237.8,2,    11.73,2,    18.47,2,     0.00,2,     1.23,2, -999.000,9, -999.000,9, -999.000,9,     -999,9,   4.9807,   5.0369,2
  316N20111106,  GT11,     2,  2,     12,     12,2,20111108,2316, 39.3493, -69.5498, 2492,    605.7,   5.1269,  35.0254,2,  35.0241,2,    232.0,2,    233.4,2,    12.00,2,    18.85,2,     0.00,2,     1.27,2,    2.386,2,    1.215,2, -999.000,5,     0.64,2,   5.0771,   5.1269,2
  316N20111106,  GT11,     2,  2,     11,     11,2,20111108,2316, 39.3493, -69.5498, 2492,    665.8,   4.9731,  35.0208,2,  35.0203,2,    238.5,2,    237.9,2,    11.51,2,    18.41,2,     0.00,2,     1.23,2,    2.426,2,    1.227,2, -999.000,5,     0.65,2,   4.9188,   4.9726,2
  316N20111106,  GT11,     2,  2,     10,     10,2,20111108,2316, 39.3493, -69.5498, 2492,    834.3,   4.5225,  34.9970,2,  34.9957,2,    251.0,2,    250.7,2,    11.22,2,    17.77,2,     0.00,2,     1.19,2,    2.631,2,    1.322,2, -999.000,5,     0.72,2,   4.4564,   4.5227,2
  316N20111106,  GT11,     2,  2,      9,      9,2,20111108,2316, 39.3493, -69.5498, 2492,    975.2,   4.2314,  34.9717,2,  34.9707,2,    257.9,2,    258.3,2,    11.03,2,    17.45,2,     0.00,2,     1.18,2,    2.778,2,    1.402,2, -999.000,5,     0.76,2,   4.1553,   4.2314,2
  316N20111106,  GT11,     2,  2,      8,      8,2,20111108,2316, 39.3493, -69.5498, 2492,   1215.2,   4.0018,  34.9652,2,  34.9646,2,    261.5,2,    261.1,2,    11.61,2,    17.45,2,     0.00,2,     1.18,2,    2.496,2,    1.235,2, -999.000,5,     0.58,2,   3.9069,   4.0021,2
  316N20111106,  GT11,     2,  2,      7,      7,2,20111108,2316, 39.3493, -69.5498, 2492,   1366.3,   3.8674,  34.9602,2,  34.9587,2,    262.9,2,    262.9,2,    12.10,2,    17.51,2,     0.00,2,     1.19,2,    2.322,2,    1.123,2, -999.000,5,      0.5,2,   3.7606,   3.8673,2
  316N20111106,  GT11,     2,  2,      6,      6,2,20111108,2316, 39.3493, -69.5498, 2492,   1518.3,   3.7164,  34.9555,2,  34.9552,2,    264.4,2,    264.3,2,    12.78,2,    17.48,2,     0.00,2,     1.18,2,    2.096,2,    0.991,2, -999.000,5,     0.39,2,   3.5978,   3.7162,2
  316N20111106,  GT11,     2,  2,      5,      5,2,20111108,2316, 39.3493, -69.5498, 2492,   1669.7,   3.5799,  34.9486,2,  34.9479,2,    265.5,2,    266.2,2,    13.17,2,    17.41,2,     0.00,2,     1.19,2,    1.985,2,    0.941,2, -999.000,5,     0.36,2,   3.4493,   3.5801,2
  316N20111106,  GT11,     2,  2,      4,      4,2,20111108,2316, 39.3493, -69.5498, 2492,   1822.2,   3.4843,  34.9492,2,  34.9479,2,    266.1,2,    266.1,2,    14.05,2,    17.49,2,     0.00,2,     1.19,2,    1.741,2,    0.812,2, -999.000,5,      0.3,2,   3.3411,   3.4844,2
  316N20111106,  GT11,     2,  2,      3,      3,2,20111108,2316, 39.3493, -69.5498, 2492,   2023.9,   3.3368,  34.9473,2,  34.9457,2,    265.9,2,    265.8,2,    15.42,2,    17.54,2,     0.00,2,     1.19,2,    1.490,2,    0.683,2, -999.000,5,     0.26,2,   3.1769,   3.3365,2
  316N20111106,  GT11,     2,  2,      2,      2,2,20111108,2316, 39.3493, -69.5498, 2492,   2231.0,   3.1684,  34.9417,2,  34.9410,2,    266.2,2,    266.0,2,    16.69,2,    17.52,2,     0.00,2,     1.19,2,    1.450,2,    0.644,2, -999.000,5,     0.25,2,   2.9916,   3.1684,2
  316N20111106,  GT11,     2,  2,      1,      1,2,20111108,2316, 39.3493, -69.5498, 2492,   2492.6,   2.9354,  34.9282,2,  34.9282,2,    269.0,2,    269.4,2,    17.08,2,    17.15,2,     0.00,2,     1.17,2,    1.651,2,    0.769,2, -999.000,5,     -999,5,   2.7374,   2.9347,2
  316N20111106,  GT11,     2,  5,     12,     12,2,20111108,1231, 39.3493, -69.5498, 2492,     36.0,  20.7314,  35.4234,2,  35.4234,2,    222.4,2,    223.2,2,     0.78,2,     0.03,2,     0.01,2,     0.04,2,    2.102,2,    1.266,2, -999.000,5,     1.43,2,  20.7246,  20.7313,2
  316N20111106,  GT11,     2,  5,     11,     11,2,20111108,1231, 39.3493, -69.5498, 2492,     46.5,  19.6458,  35.2084,2,  35.2267,2,    220.7,2,    217.7,2,     1.17,2,     0.92,2,     0.14,2,     0.10,2,    2.215,2,    1.324,2, -999.000,5,     1.48,2,  19.6373,  19.6453,2
  316N20111106,  GT11,     2,  5,     10,     10,2,20111108,1231, 39.3493, -69.5498, 2492,     70.3,  17.2506,  36.0975,2,  36.0933,2,    149.9,2,    151.0,2,     3.80,2,    10.02,2,     0.02,2,     0.56,2,    2.247,2,    1.303,2, -999.000,5,     1.08,2,  17.2388,  17.2487,2
  316N20111106,  GT11,     2,  5,      9,      9,2,20111108,1231, 39.3493, -69.5498, 2492,    100.3,  14.8998,  35.9120,2,  35.9219,2,   -999.0,9,   -999.0,5,     5.75,2,    14.65,2,     0.00,2,     0.86,2,    2.122,2,    1.173,2, -999.000,5,      0.9,2,  14.8846,  14.8992,2
  316N20111106,  GT11,     2,  5,      8,      8,2,20111108,1231, 39.3493, -69.5498, 2492,    135.8,  13.5947,  35.7420,2,  35.7340,2,    147.0,2,    148.7,2,     7.12,2,    16.80,2,     0.00,2,     1.26,2,    2.035,2,    1.105,2, -999.000,5,     0.84,2,  13.5754,  13.5947,2
  316N20111106,  GT11,     2,  5,      7,      7,2,20111108,1231, 39.3493, -69.5498, 2492,    188.0,  11.9343,  35.4986,2,  35.5003,2,    128.2,2,    126.3,2,    10.05,2,    21.24,2,     0.00,2,     1.30,2,    1.673,2,    0.868,2, -999.000,5,     0.62,2,  11.9097,  11.9414,2
  316N20111106,  GT11,     2,  5,      6,      6,2,20111108,1231, 39.3493, -69.5498, 2492,    237.5,  10.5231,  35.3057,2,  35.3112,2,    126.4,2,    126.9,2,    12.68,2,    23.83,2,     0.00,2,     1.49,2,    1.401,2,    0.707,2, -999.000,5,     0.56,2,  10.4945,  10.5082,3
  316N20111106,  GT11,     2,  5,      5,      5,2,20111108,1231, 39.3493, -69.5498, 2492,    285.8,   9.3385,  35.2037,2,  35.2023,2,    132.5,2,    133.9,2,    14.15,2,    24.67,2,     0.00,2,     1.57,2,    1.264,2,    0.643,2, -999.000,5,      0.5,2,   9.3065,   9.3492,2
  316N20111106,  GT11,     2,  5,      4,      4,2,20111108,1231, 39.3493, -69.5498, 2492,    327.2,   8.0418,  35.1279,2,  35.1266,2,    157.3,2,    159.0,2,    14.34,2,    23.57,2,     0.00,2,     1.51,2,    1.383,2,    0.671,2, -999.000,5,     0.45,2,   8.0082,   8.0382,2
  316N20111106,  GT11,     2,  5,      3,      3,2,20111108,1231, 39.3493, -69.5498, 2492,    424.6,   6.3901,  35.0630,2,  35.0611,2,    196.0,2,    195.8,2,    13.17,2,    20.96,2,     0.00,2,     1.38,2,    1.918,2,    0.957,2, -999.000,5,     0.55,2,   6.3516,   6.3889,2
  316N20111106,  GT11,     2,  5,      2,      2,2,20111108,1231, 39.3493, -69.5498, 2492,    479.1,   5.7839,  35.0514,2,  35.0500,2,    213.6,2,    212.9,2,    12.59,2,    19.87,2,     0.00,2,     1.33,2,    2.083,2,    1.055,2, -999.000,5,     0.56,2,   5.7425,   5.7833,2
  316N20111106,  GT11,     2,  5,      1,      1,2,20111108,1231, 39.3493, -69.5498, 2492,    529.7,   5.5032,  35.0413,2,  35.0378,2,    221.6,2,    221.7,2,    12.30,2,    19.21,2,     0.00,2,     1.29,2,    2.262,2,    1.129,2, -999.000,5,     0.59,2,   5.4584,   5.5030,2
  316N20111106,  GT11,     2,  6,     13,     99,2,20111108,1616, 39.3493, -69.5498, 2492,      1.3,  20.9732,  35.4867,2,  35.4963,2,   -999.0,9,   -999.0,9,  -999.00,9,  -999.00,9,  -999.00,9,  -999.00,9, -999.000,9, -999.000,9, -999.000,9,     -999,9,  20.9730,-999.0000,9
  316N20111106,  GT11,     2,  6,     12,     12,2,20111108,1616, 39.3493, -69.5498, 2492,     20.2,  20.9090,  35.4698,2,  35.4753,2,    222.9,2,    222.8,2,     0.78,2,     0.04,2,     0.01,2,     0.04,2, -999.000,9, -999.000,9, -999.000,9,     -999,9,  20.9051,  20.9085,2
  316N20111106,  GT11,     2,  6,     11,     11,2,20111108,1616, 39.3493, -69.5498, 2492,     35.4,  20.7887,  35.4302,2,  35.4331,2,    221.8,2,    221.3,2,     0.68,2,     0.09,2,     0.04,2,     0.03,2, -999.000,9, -999.000,9, -999.000,9,     -999,9,  20.7820,  20.7897,2
  316N20111106,  GT11,     2,  6,     10,     10,2,20111108,1616, 39.3493, -69.5498, 2492,     47.2,  20.4753,  35.3412,2,  35.3821,3,    221.7,2,    220.4,2,     0.68,2,     0.19,2,     0.07,2,     0.03,2, -999.000,9, -999.000,9, -999.000,9,     -999,9,  20.4664,  20.4975,3
  316N20111106,  GT11,     2,  6,      9,      9,2,20111108,1616, 39.3493, -69.5498, 2492,     70.8,  18.2555,  35.4962,2,  35.5018,2,    185.5,2,    185.8,2,     2.63,2,     5.04,2,     0.10,2,     0.32,2, -999.000,9, -999.000,9, -999.000,9,     -999,9,  18.2432,  18.2533,2
  316N20111106,  GT11,     2,  6,      8,      8,2,20111108,1616, 39.3493, -69.5498, 2492,    100.8,  15.7079,  36.0334,2,  36.0077,3,    141.4,2,    141.9,2,     5.27,2,    13.86,2,     0.01,2,     0.79,2, -999.000,9, -999.000,9, -999.000,9,     -999,9,  15.6921,  15.6913,3
  316N20111106,  GT11,     2,  6,      7,      7,2,20111108,1616, 39.3493, -69.5498, 2492,    136.7,  13.7426,  35.7538,2,  35.7516,2,    147.2,2,    147.9,2,     6.63,2,    16.03,2,     0.00,2,     0.96,2, -999.000,9, -999.000,9, -999.000,9,     -999,9,  13.7230,  13.7454,2
  316N20111106,  GT11,     2,  6,      6,      6,2,20111108,1616, 39.3493, -69.5498, 2492,    151.3,  13.1060,  35.6764,2,  35.6825,2,    139.4,2,    138.2,2,     8.00,2,    18.20,2,     0.00,2,     1.11,2, -999.000,9, -999.000,9, -999.000,9,     -999,9,  13.0850,  13.1068,2
  316N20111106,  GT11,     2,  6,      5,      5,2,20111108,1616, 39.3493, -69.5498, 2492,    187.8,  12.1345,  35.5285,2,  35.5363,2,    131.0,2,    129.6,2,     9.75,2,    20.70,2,     0.00,2,     1.27,2, -999.000,9, -999.000,9, -999.000,9,     -999,9,  12.1097,  12.1276,2
  316N20111106,  GT11,     2,  6,      4,      4,2,20111108,1616, 39.3493, -69.5498, 2492,    236.9,  10.8258,  35.3561,2,  35.3529,2,    128.1,2,    129.4,2,    12.00,2,    22.98,2,     0.00,2,     1.43,2, -999.000,9, -999.000,9, -999.000,9,     -999,9,  10.7967,  10.8245,2
  316N20111106,  GT11,     2,  6,      3,      3,2,20111108,1616, 39.3493, -69.5498, 2492,    286.4,   9.6569,  35.2298,2,  35.2242,2,    132.1,2,    132.1,2,    13.95,2,    24.50,2,     0.00,2,     1.55,2, -999.000,9, -999.000,9, -999.000,9,     -999,9,   9.6241,   9.6629,2
  316N20111106,  GT11,     2,  6,      2,      2,2,20111108,1616, 39.3493, -69.5498, 2492,    327.6,   8.5231,  35.1285,2,  35.1261,2,    143.3,2,    142.8,2,    15.12,2,    24.93,2,     0.00,2,     1.62,2, -999.000,9, -999.000,9, -999.000,9,     -999,9,   8.4883,   8.5205,2
  316N20111106,  GT11,     2,  6,      1,      1,2,20111108,1616, 39.3493, -69.5498, 2492,    423.1,   6.9516,  35.0886,2,  35.0849,2,    181.4,2,    181.1,2,    13.66,2,    21.93,2,     0.00,2,     1.44,2, -999.000,9, -999.000,9, -999.000,9,     -999,9,   6.9114,   6.9523,2
  316N20111106,  GT11,     3,  2,     12,     12,2,20111110,1500, 38.6741, -69.1102, 3317,     28.6,  24.5139,  36.1661,2,  36.1639,2,    204.4,2,    204.5,2,     0.68,2,     0.00,2,     0.00,2,     0.00,2,    1.802,2,    1.102,2, -999.000,5,     1.22,2,  24.5078,  24.5166,2
  316N20111106,  GT11,     3,  2,     11,     11,2,20111110,1500, 38.6741, -69.1102, 3317,     61.6,  24.1532,  36.3385,2,  36.3415,2,    202.8,2,    203.1,2,     0.19,2,     0.09,2,     0.01,2,     0.00,2,    1.830,2,    1.119,2, -999.000,5,     1.33,2,  24.1401,  24.1568,2
  316N20111106,  GT11,     3,  2,     10,     10,2,20111110,1500, 38.6741, -69.1102, 3317,     86.9,  23.5865,  36.6794,2,  36.6648,2,    165.7,2,    166.1,2,     0.68,2,     2.28,2,     0.03,2,     0.08,2,    1.922,2,    1.159,2, -999.000,5,     1.19,2,  23.5683,  23.6127,2
  316N20111106,  GT11,     3,  2,      9,      9,2,20111110,1500, 38.6741, -69.1102, 3317,    109.4,  21.6603,  36.7486,2,  36.7642,2,    151.1,2,    151.5,2,     1.07,2,     4.72,2,     0.00,2,     0.20,2,    2.042,2,    1.218,2, -999.000,5,     1.17,2,  21.6387,  21.5797,3
  316N20111106,  GT11,     3,  2,      8,      8,2,20111110,1500, 38.6741, -69.1102, 3317,    136.4,  20.2887,  36.7618,2,  36.7602,2,    161.6,2,    162.8,2,     0.78,2,     4.71,2,     0.00,2,     0.19,2,    2.167,2,    1.299,2, -999.000,5,     1.16,2,  20.2630,  20.2954,2
  316N20111106,  GT11,     3,  2,      7,      7,2,20111110,1500, 38.6741, -69.1102, 3317,    187.7,  18.9458,  36.6422,2,  36.6412,2,    187.8,2,    187.6,2,     0.29,2,     3.63,2,     0.00,2,     0.12,2,    2.270,2,    1.357,2, -999.000,5,     1.22,2,  18.9121,  18.9476,2
  316N20111106,  GT11,     3,  2,      6,      6,2,20111110,1500, 38.6741, -69.1102, 3317,    236.2,  18.2241,  36.5636,2,  36.5653,2,    193.3,2,    192.4,2,     0.68,2,     4.52,2,     0.00,2,     0.19,2,    2.351,2,    1.391,2, -999.000,5,     1.25,2,  18.1827,  18.2189,2
  316N20111106,  GT11,     3,  2,      5,      5,2,20111110,1500, 38.6741, -69.1102, 3317,    290.7,  17.5887,  36.4543,2,  36.4531,2,    185.9,2,    184.9,2,     1.27,2,     6.41,2,     0.00,2,     0.31,2,    2.374,2,    1.361,2, -999.000,5,     1.17,2,  17.5390,  17.5918,2
  316N20111106,  GT11,     3,  2,      4,      4,2,20111110,1500, 38.6741, -69.1102, 3317,    420.8,  15.1360,  36.0234,2,  36.0256,2,    170.1,2,    169.4,2,     3.51,2,    11.76,2,     0.00,2,     0.64,2,    2.318,2,    1.305,2, -999.000,5,     0.98,2,  15.0709,  15.1386,2
  316N20111106,  GT11,     3,  2,      3,      3,2,20111110,1500, 38.6741, -69.1102, 3317,    541.2,   9.9650,  35.2468,2,  35.2505,2,    131.6,2,    131.1,2,    13.27,2,    24.47,2,     0.00,2,     1.51,2,    1.366,2,    0.648,2, -999.000,5,     0.57,2,   9.9010,   9.9768,2
  316N20111106,  GT11,     3,  2,      2,      2,2,20111110,1500, 38.6741, -69.1102, 3317,    674.0,   7.5218,  35.1119,2,  35.1124,2,    171.1,2,    172.0,2,    13.27,2,    22.45,2,     0.00,2,     1.43,2,    1.530,2,    0.762,2, -999.000,5,     0.57,2,   7.4537,   7.5201,2
  316N20111106,  GT11,     3,  2,      1,      1,2,20111110,1500, 38.6741, -69.1102, 3317,    805.1,   5.6963,  35.0399,2,  35.0382,2,    216.6,2,    216.7,2,    12.00,2,    19.62,2,     0.00,2,     1.29,2,    2.220,2,    1.129,2, -999.000,5,     0.74,2,   5.6254,   5.6968,2