BOTTLE,20170320PRINUNIVRMK
EXPOCODE,SECT_ID,STNNBR,CASTNO,SAMPNO,BTLNBR,BTLNBR_FLAG_W,DATE,TIME,LATITUDE,LONGITUDE,DEPTH,CTDPRS,CTDTMP,CTDSAL,CTDSAL_FLAG_W,SALNTY,SALNTY_FLAG_W,CTDOXY,CTDOXY_FLAG_W,OXYGEN,OXYGEN_FLAG_W,SILCAT,SILCAT_FLAG_W,NITRAT,NITRAT_FLAG_W,NITRIT,NITRIT_FLAG_W,PHSPHT,PHSPHT_FLAG_W,CFC-11,CFC-11_FLAG_W,CFC-12,CFC-12_FLAG_W,CFC113,CFC113_FLAG_W,SF6,SF6_FLAG_W,THETA,SBE35,SBE35_FLAG_W
,,,,,,,,,,,METERS,DBAR,ITS-90,PSS-78,,PSS-78,,UMOL/KG,,UMOL/KG,,UMOL/KG,,UMOL/KG,,UMOL/KG,,UMOL/KG,,PMOL/KG,,PMOL/KG,,PMOL/KG,,FMOL/KG,,DEG C,ITS-90,
  316N20111106,  GT11,    20,  9,     12,     12,2,20111203,0900, 22.3330, -35.8670, 5958,   3548.8,   2.5321,  34.9139,2,  34.9134,2,    243.2,2,    243.1,2,    40.89,2,    21.49,2,     0.00,2,     1.45,2, -999.000,9, -999.000,9, -999.000,9,     -999,9,   2.2335,   2.5323,2
  316N20111106,  GT11,    20,  9,     11,     11,2,20111203,0900, 22.3330, -35.8670, 5958,   4776.6,   2.3955,  34.8872,2,  34.8878,2,    243.5,2,    243.5,2,    46.55,2,    21.94,2,     0.00,2,     1.48,2, -999.000,9, -999.000,9, -999.000,9,     -999,9,   1.9576,   2.3953,2
  316N20111106,  GT11,    20,  9,      9,      9,2,20111203,0900, 22.3330, -35.8670, 5958,   5361.0,   2.4058,  34.8800,2,  34.8798,2,    244.7,2,    244.9,2,    47.53,2,    21.99,2,     0.00,2,     1.49,2, -999.000,9, -999.000,9, -999.000,9,     -999,9,   1.8931,   2.4055,2
  316N20111106,  GT11,    20,  9,     10,     10,2,20111203,0900, 22.3330, -35.8670, 5958,   5361.2,   2.4059,  34.8799,2,  34.8802,2,    244.7,2,    244.9,2,    47.63,2,    21.95,2,     0.00,2,     1.49,2, -999.000,9, -999.000,9, -999.000,9,     -999,9,   1.8931,   2.4056,2
  316N20111106,  GT11,    20,  9,      7,      7,2,20111203,0900, 22.3330, -35.8670, 5958,   5411.8,   2.4099,  34.8796,2,  34.8794,2,    245.2,2,    245.8,2,    47.82,2,    22.00,2,     0.00,2,     1.50,2, -999.000,9, -999.000,9, -999.000,9,     -999,9,   1.8903,   2.4095,2
  316N20111106,  GT11,    20,  9,      8,      8,2,20111203,0900, 22.3330, -35.8670, 5958,   5413.0,   2.4100,  34.8796,2,  34.8880,3,    245.2,2,    244.6,2,    47.63,2,    22.01,2,     0.00,2,     1.50,2, -999.000,9, -999.000,9, -999.000,9,     -999,9,   1.8903,   2.4097,2
  316N20111106,  GT11,    20,  9,      5,     15,2,20111203,0900, 22.3330, -35.8670, 5958,   5461.5,   2.4132,  34.8791,2,  34.8794,2,    246.0,2,    245.0,2,    47.92,2,    21.96,2,     0.00,2,     1.50,2, -999.000,9, -999.000,9, -999.000,9,     -999,9,   1.8870,   2.4129,2
  316N20111106,  GT11,    20,  9,      6,      6,2,20111203,0900, 22.3330, -35.8670, 5958,   5461.6,   2.4136,  34.8791,2,  34.8788,2,    246.0,2,    245.1,2,    47.82,2,    21.99,2,     0.00,2,     1.49,2, -999.000,9, -999.000,9, -999.000,9,     -999,9,   1.8874,   2.4131,2
  316N20111106,  GT11,    20,  9,      4,      4,2,20111203,0900, 22.3330, -35.8670, 5958,   5487.4,   2.4158,  34.8791,2,  34.8788,2,    246.0,2,    244.9,2,    48.02,2,    21.99,2,     0.00,2,     1.50,2, -999.000,9, -999.000,9, -999.000,9,     -999,9,   1.8861,   2.4156,2
  316N20111106,  GT11,    20,  9,      2,      2,2,20111203,0900, 22.3330, -35.8670, 5958,   5515.6,   2.4189,  34.8789,2,  34.8791,2,    246.1,2,    245.0,2,    47.82,2,    22.00,2,     0.00,2,     1.50,2, -999.000,9, -999.000,9, -999.000,9,     -999,9,   1.8853,   2.4186,2
  316N20111106,  GT11,    20,  9,      3,      3,2,20111203,0900, 22.3330, -35.8670, 5958,   5516.4,   2.4190,  34.8789,2,  34.8790,2,    245.9,2,    245.2,2,    47.82,2,    21.97,2,     0.00,2,     1.50,2, -999.000,9, -999.000,9, -999.000,9,     -999,9,   1.8853,   2.4188,2
  316N20111106,  GT11,    20,  9,      1,      1,2,20111203,0900, 22.3330, -35.8670, 5958,   5549.2,   2.4234,  34.8788,2,  34.8787,2,    245.1,2,    245.0,2,    48.11,2,    22.01,2,     0.00,2,     1.50,2, -999.000,9, -999.000,9, -999.000,9,     -999,9,   1.8852,   2.4229,2
  316N20111106,  GT11,    20, 11,     12,     12,2,20111203,1647, 22.3330, -35.8670, 5958,     40.9,  25.2910,  37.3889,2,  37.3879,2,    206.3,2,    205.8,2,     0.49,2,     0.07,2,     0.00,2,     0.00,2, -999.000,9, -999.000,9, -999.000,9,     -999,9,  25.2820,  25.2908,2
  316N20111106,  GT11,    20, 11,     11,     11,2,20111203,1647, 22.3330, -35.8670, 5958,     76.5,  24.6103,  37.4269,2,  37.4253,2,    213.7,2,    213.8,2,     0.19,2,     0.02,2,     0.00,2,     0.00,2, -999.000,9, -999.000,9, -999.000,9,     -999,9,  24.5937,  24.6375,3
  316N20111106,  GT11,    20, 11,     10,     10,2,20111203,1647, 22.3330, -35.8670, 5958,    101.6,  22.4225,  37.3233,2,  37.3238,2,    206.7,2,    207.6,2,     0.19,2,     0.02,2,     0.03,2,     0.00,2, -999.000,9, -999.000,9, -999.000,9,     -999,9,  22.4019,  22.4131,2
  316N20111106,  GT11,    20, 11,      9,      9,2,20111203,1647, 22.3330, -35.8670, 5958,    186.7,  18.5561,  36.6660,2,  36.6576,2,    167.3,2,    166.8,2,     1.17,2,     6.54,2,     0.00,2,     0.35,2, -999.000,9, -999.000,9, -999.000,9,     -999,9,  18.5230,  18.5468,3
  316N20111106,  GT11,    20, 11,      8,      8,2,20111203,1647, 22.3330, -35.8670, 5958,    237.6,  17.3619,  36.4591,2,  36.4580,2,    166.3,2,    176.4,2,     1.56,2,     7.20,2,     0.00,2,     0.38,2, -999.000,9, -999.000,9, -999.000,9,     -999,9,  17.3217,  17.3631,2
  316N20111106,  GT11,    20, 11,      7,      7,2,20111203,1647, 22.3330, -35.8670, 5958,    506.0,  12.6080,  35.7022,2,  35.7027,2,    156.5,2,    155.8,2,     5.66,2,    16.87,2,     0.00,2,     0.99,2, -999.000,9, -999.000,9, -999.000,9,     -999,9,  12.5385,  12.6103,2
  316N20111106,  GT11,    20, 11,      6,      6,2,20111203,1647, 22.3330, -35.8670, 5958,   1069.5,   6.0811,  35.0021,2,  35.0011,2,    162.8,2,    163.4,2,    19.71,2,    26.54,2,     0.00,2,     1.74,2, -999.000,9, -999.000,9, -999.000,9,     -999,9,   5.9819,   6.0809,2
  316N20111106,  GT11,    20, 11,      5,     15,2,20111203,1647, 22.3330, -35.8670, 5958,   1211.1,   5.6787,  35.0446,2,  35.0454,2,    183.8,2,    183.5,2,    18.25,2,    24.28,2,     0.00,2,     1.60,2, -999.000,9, -999.000,9, -999.000,9,     -999,9,   5.5688,   5.6777,2
  316N20111106,  GT11,    20, 11,      4,      4,2,20111203,1647, 22.3330, -35.8670, 5958,   2327.6,   3.3987,  34.9873,2,  34.9873,2,    238.3,2,    237.9,2,    26.15,2,    20.55,2,     0.00,2,     1.39,2, -999.000,9, -999.000,9, -999.000,9,     -999,9,   3.2085,   3.3989,2
  316N20111106,  GT11,    20, 11,      3,      3,2,20111203,1647, 22.3330, -35.8670, 5958,   2735.8,   3.0080,  34.9591,2,  34.9594,2,    240.6,2,    240.6,2,    31.13,2,    20.71,2,     0.00,2,     1.41,2, -999.000,9, -999.000,9, -999.000,9,     -999,9,   2.7842,   3.0081,2
  316N20111106,  GT11,    20, 11,      2,      2,2,20111203,1647, 22.3330, -35.8670, 5958,   3548.8,   2.5034,  34.9115,2,  34.9119,2,    243.0,2,    243.1,2,    40.70,2,    21.42,2,     0.00,2,     1.45,2, -999.000,9, -999.000,9, -999.000,9,     -999,9,   2.2055,   2.5040,2
  316N20111106,  GT11,    20, 11,      1,      1,2,20111203,1647, 22.3330, -35.8670, 5958,   4779.9,   2.3908,  34.8867,2,  34.8871,2,    243.3,2,    243.0,2,    46.65,2,    22.01,2,     0.00,2,     1.50,2, -999.000,9, -999.000,9, -999.000,9,     -999,9,   1.9526,   2.3909,2
  316N20111106,  GT11,    21,  2,     13,     99,2,20111206,1522, 20.8839, -32.6247, 5062,      0.9,  25.3682,  37.0771,2,  37.0781,2,   -999.0,9,   -999.0,9,  -999.00,9,  -999.00,9,  -999.00,9,  -999.00,9, -999.000,9, -999.000,9, -999.000,9,     -999,9,  25.3680,-999.0000,9
  316N20111106,  GT11,    21,  2,     12,     12,2,20111206,1522, 20.8839, -32.6247, 5062,     40.3,  25.2204,  37.1145,2,  37.1147,2,    206.6,2,    206.1,2,     0.10,2,     0.00,2,     0.00,2,     0.00,2,    1.775,2,    1.078,2,    0.135,2,     1.14,2,  25.2115,  25.2205,2
  316N20111106,  GT11,    21,  2,     11,     11,2,20111206,1522, 20.8839, -32.6247, 5062,     60.1,  25.0135,  37.2423,2,  37.2393,2,    210.3,2,    210.1,2,     0.00,2,     0.00,2,     0.00,2,     0.00,2,    1.822,2,    1.105,2,    0.139,2,     1.25,2,  25.0004,  25.0287,3
  316N20111106,  GT11,    21,  2,     10,     10,2,20111206,1522, 20.8839, -32.6247, 5062,    100.7,  22.2037,  37.0042,2,  36.9975,2,    190.9,2,    185.2,2,     0.39,2,     1.25,2,     0.09,2,     0.11,2,    2.019,2,    1.219,2,    0.139,2,      1.2,2,  22.1835,  22.2141,2
  316N20111106,  GT11,    21,  2,      9,      9,2,20111206,1522, 20.8839, -32.6247, 5062,    180.1,  17.5211,  36.3515,2,  36.3468,2,    123.6,2,    120.3,2,     3.02,2,    13.80,2,     0.00,2,     0.81,2,    2.198,2,    1.266,2,    0.033,2,     1.02,2,  17.4905,  17.5402,2
  316N20111106,  GT11,    21,  2,      8,      8,2,20111206,1522, 20.8839, -32.6247, 5062,    207.0,  16.3836,  36.1469,2,  36.1495,2,    111.4,2,    111.8,2,     4.19,2,    16.64,2,     0.00,2,     0.98,2,    2.181,2,    1.247,2,    0.024,2,     0.92,2,  16.3500,  16.3897,2
  316N20111106,  GT11,    21,  2,      7,      7,2,20111206,1522, 20.8839, -32.6247, 5062,    288.2,  15.3895,  36.0988,2,  36.0967,2,    142.8,2,    142.2,2,     3.71,2,    13.66,2,     0.00,2,     0.79,2,    2.365,2,    1.340,2,    0.026,2,     0.94,2,  15.3446,  15.3907,2
  316N20111106,  GT11,    21,  2,      6,      6,2,20111206,1522, 20.8839, -32.6247, 5062,    338.0,  14.4767,  35.9511,2,  35.9490,2,    136.8,2,    138.5,2,     4.49,2,    15.47,2,     0.00,2,     0.91,2,    2.362,2,    1.310,2,    0.025,2,     0.87,2,  14.4261,  14.4756,2
  316N20111106,  GT11,    21,  2,      5,     15,2,20111206,1522, 20.8839, -32.6247, 5062,    402.8,  13.4117,  35.7887,2,  35.7891,2,    126.9,2,    129.4,2,     5.85,2,    18.13,2,     0.00,2,     1.06,2,    2.247,2,    1.227,2,    0.022,2,     0.73,2,  13.3543,  13.4168,3
  316N20111106,  GT11,    21,  2,      4,      4,2,20111206,1522, 20.8839, -32.6247, 5062,    503.6,  11.6805,  35.5535,2,  35.5615,2,    118.5,2,    120.3,2,     8.49,2,    22.13,2,     0.00,2,     1.32,2,    1.822,2,    0.937,2,    0.020,2,     0.45,2,  11.6147,  11.6890,2
  316N20111106,  GT11,    21,  2,      3,      3,2,20111206,1522, 20.8839, -32.6247, 5062,    628.1,   9.6561,  35.2889,2,  35.2917,2,    109.1,2,    108.4,2,    13.56,2,    27.04,2,     0.00,2,     1.69,2,    0.886,2,    0.420,2,    0.010,2,     0.17,2,   9.5829,   9.6503,2
  316N20111106,  GT11,    21,  2,      2,      2,2,20111206,1522, 20.8839, -32.6247, 5062,    805.1,   7.4918,  35.0572,2,  35.0579,2,    121.2,2,    122.8,2,    18.83,2,    29.08,2,     0.00,2,     1.88,2,    0.277,2,    0.119,2,    0.006,2,     0.08,2,   7.4101,   7.4897,2
  316N20111106,  GT11,    21,  2,      1,      1,2,20111206,1522, 20.8839, -32.6247, 5062,   1008.3,   6.2610,  35.0175,2,  35.0140,2,    150.0,2,    150.5,2,    20.49,2,    27.49,2,     0.00,2,     1.84,2,    0.127,2,    0.054,2,    0.003,2,     0.01,2,   6.1665,   6.2611,2
  316N20111106,  GT11,    22,  2,     12,     12,2,20111207,1154, 19.4330, -29.3830, 5078,     50.5,  24.8105,  37.1705,2,  37.1694,2,    206.9,2,    206.1,2,     0.29,2,     0.00,2,     0.00,2,     0.00,2,    1.781,2,    1.095,2,    0.146,2,     1.24,2,  24.7995,  24.8112,2
  316N20111106,  GT11,    22,  2,     11,     11,2,20111207,1154, 19.4330, -29.3830, 5078,     75.1,  24.8071,  37.1689,2,  37.1668,2,    205.9,2,    205.9,2,     0.29,2,     0.00,2,     0.00,2,     0.00,2,    1.761,2,    1.090,2,    0.140,2,     1.17,2,  24.7908,  24.8072,2
  316N20111106,  GT11,    22,  2,     10,     10,2,20111207,1154, 19.4330, -29.3830, 5078,     84.8,  23.2345,  37.0930,2,  37.0927,2,    205.3,2,    206.3,2,     0.39,2,     0.04,2,     0.03,2,     0.01,2,    1.945,2,    1.195,2,    0.151,2,      1.3,2,  23.2169,  23.2529,2
  316N20111106,  GT11,    22,  2,      9,      9,2,20111207,1154, 19.4330, -29.3830, 5078,    124.8,  19.5167,  36.6633,2,  36.6630,2,    140.1,2,    139.7,2,     2.05,2,     9.19,2,     0.01,2,     0.56,2,    2.177,2,    1.249,2,    0.089,2,     1.06,2,  19.4938,  19.5145,2
  316N20111106,  GT11,    22,  2,      8,      8,2,20111207,1154, 19.4330, -29.3830, 5078,    185.5,  15.9549,  36.1381,2,  36.1124,3,    117.1,2,    120.1,2,     4.29,2,    15.77,2,     0.00,2,     0.93,2,    2.198,2,    1.056,3,    0.028,2,     0.94,2,  15.9253,  15.9624,2
  316N20111106,  GT11,    22,  2,      7,      7,2,20111207,1154, 19.4330, -29.3830, 5078,    235.1,  15.1755,  36.0310,2,  36.0321,2,    132.3,2,    126.0,2,     5.27,2,    15.85,2,     0.00,2,     0.93,2,    2.253,2,    1.299,2,    0.020,2,     0.92,2,  15.1393,  15.1787,2
  316N20111106,  GT11,    22,  2,      6,      6,2,20111207,1154, 19.4330, -29.3830, 5078,    285.8,  14.3604,  35.9111,2,  35.9176,2,    126.8,2,    126.1,2,     5.56,2,    16.92,2,     0.00,2,     1.01,2,    2.260,2,    1.277,2,    0.018,2,     0.81,2,  14.3179,  14.3570,2
  316N20111106,  GT11,    22,  2,      5,     15,2,20111207,1154, 19.4330, -29.3830, 5078,    392.9,  12.7934,  35.6958,2,  35.6960,2,    123.1,2,    123.1,2,     7.22,2,    19.99,2,     0.00,2,     1.19,2,    2.100,2,    1.142,2,    0.022,2,     0.65,2,  12.7392,  12.7928,2
  316N20111106,  GT11,    22,  2,      4,      4,2,20111207,1154, 19.4330, -29.3830, 5078,    573.7,  10.2558,  35.3572,2,  35.3553,2,    103.1,2,    103.4,2,    12.68,2,    26.73,2,     0.00,2,     1.66,2,    1.110,2,    0.555,2,    0.012,2,     0.26,2,  10.1866,  10.2562,2
  316N20111106,  GT11,    22,  2,      3,      3,2,20111207,1154, 19.4330, -29.3830, 5078,    669.4,   8.9476,  35.2135,2,  35.2633,3,    112.5,2,    112.3,2,    15.42,2,    27.85,2,     0.00,2,     1.78,2,    0.630,2,    0.289,2,    0.005,2,     0.16,2,   8.8729,   8.9493,2
  316N20111106,  GT11,    22,  2,      2,      2,2,20111207,1154, 19.4330, -29.3830, 5078,    907.3,   6.3238,  34.9189,2,  34.9191,2,    131.6,2,    132.6,2,    22.15,2,    30.28,2,     0.00,2,     2.03,2,    0.103,2,    0.045,2,    0.005,2,     0.06,2,   6.2391,   6.3234,2
  316N20111106,  GT11,    22,  2,      1,      1,2,20111207,1154, 19.4330, -29.3830, 5078,   1209.0,   5.5947,  35.0288,2,  35.0277,2,    171.5,2,    171.6,2,    20.39,2,    25.61,2,     0.00,2,     1.74,2,    0.081,2,    0.033,2,    0.002,2,     0.06,2,   5.4858,   5.5936,2
  316N20111106,  GT11,    22,  4,     12,     12,2,20111207,2007, 19.4330, -29.3830, 5078,   1512.3,   4.7012,  35.0403,2,  35.0401,2,    207.4,2,    206.8,2,    20.00,2,    22.45,2,     0.00,2,     1.54,2,    0.056,2,    0.031,2,    0.002,2,     0.02,2,   4.5717,   4.7012,2
  316N20111106,  GT11,    22,  4,     11,     11,2,20111207,2007, 19.4330, -29.3830, 5078,   1818.4,   3.9516,  35.0091,2,  35.0104,2,    227.5,2,    228.0,2,    21.76,2,    20.98,2,     0.00,2,     1.45,2,    0.044,2,    0.011,2,    0.000,2,        0,2,   3.8022,   3.9516,2
  316N20111106,  GT11,    22,  4,     10,     10,2,20111207,2007, 19.4330, -29.3830, 5078,   2122.4,   3.5505,  34.9906,2,  34.9907,2,    236.4,2,    236.6,2,    24.40,2,    20.49,2,     0.00,2,     1.42,2,    0.031,2,    0.009,2,    0.000,2,        0,2,   3.3778,   3.5504,2
  316N20111106,  GT11,    22,  4,      9,      9,2,20111207,2007, 19.4330, -29.3830, 5078,   2426.8,   3.2472,  34.9730,2,  34.9740,2,    239.2,2,    239.1,2,    27.91,2,    20.51,2,     0.00,2,     1.43,2,    0.025,2,    0.006,2,    0.000,2,        0,2,   3.0498,   3.2472,2
  316N20111106,  GT11,    22,  4,      8,      8,2,20111207,2007, 19.4330, -29.3830, 5078,   2732.8,   2.9457,  34.9532,2,  34.9536,2,    240.5,2,    240.4,2,    32.50,2,    20.65,2,     0.00,2,     1.45,2,    0.026,2,    0.007,2,    0.000,2,        0,2,   2.7235,   2.9459,2
  316N20111106,  GT11,    22,  4,      7,      7,2,20111207,2007, 19.4330, -29.3830, 5078,   3038.7,   2.7124,  34.9342,2,  34.9339,2,    241.0,2,    241.3,2,    36.69,2,    20.93,2,     0.00,2,     1.46,2,    0.024,2,    0.007,2,    0.000,2,        0,2,   2.4638,   2.7126,2
  316N20111106,  GT11,    22,  4,      6,      6,2,20111207,2007, 19.4330, -29.3830, 5078,   3345.9,   2.5439,  34.9175,2,  34.9189,2,    241.0,2,    240.9,2,    40.50,2,    21.30,2,     0.00,2,     1.49,2,    0.020,2,    0.008,2,    0.000,2,        0,2,   2.2669,   2.5438,2
  316N20111106,  GT11,    22,  4,      5,     15,2,20111207,2007, 19.4330, -29.3830, 5078,   3652.3,   2.4178,  34.9031,2,  34.9036,2,    242.1,2,    242.4,2,    43.43,2,    21.53,2,     0.00,2,     1.50,2,    0.019,2,    0.007,2,    0.000,2,        0,2,   2.1108,   2.4173,2
  316N20111106,  GT11,    22,  4,      4,      4,2,20111207,2007, 19.4330, -29.3830, 5078,   3957.3,   2.3557,  34.8938,2,  34.8943,2,    242.8,2,    242.7,2,    45.48,2,    21.70,2,     0.00,2,     1.52,2,    0.021,2,    0.007,2,    0.000,2,        0,2,   2.0163,   2.3557,2
  316N20111106,  GT11,    22,  4,      3,      3,2,20111207,2007, 19.4330, -29.3830, 5078,   4266.9,   2.3508,  34.8894,2,  34.8902,2,    242.9,2,    242.5,2,    46.55,2,    21.76,2,     0.00,2,     1.53,2,    0.019,2,    0.007,2,    0.000,2,        0,2,   1.9758,   2.3506,2
  316N20111106,  GT11,    22,  4,      2,      2,2,20111207,2007, 19.4330, -29.3830, 5078,   4676.6,   2.3811,  34.8870,2,  34.8880,2,    242.7,2,    242.7,2,    46.94,2,    21.82,2,     0.00,2,     1.53,2,    0.023,2,    0.007,2,    0.000,2,        0,2,   1.9560,   2.3809,2
  316N20111106,  GT11,    22,  4,      1,      1,2,20111207,2007, 19.4330, -29.3830, 5078,   5078.6,   2.4265,  34.8859,2,  34.8853,2,    242.3,2,    242.6,2,    47.43,2,    21.95,2,     0.00,2,     1.56,2,    0.024,2,    0.008,2,    0.000,2,        0,2,   1.9495,   2.4263,2