BOTTLE,20170320PRINUNIVRMK
EXPOCODE,SECT_ID,STNNBR,CASTNO,SAMPNO,BTLNBR,BTLNBR_FLAG_W,DATE,TIME,LATITUDE,LONGITUDE,DEPTH,CTDPRS,CTDTMP,CTDSAL,CTDSAL_FLAG_W,SALNTY,SALNTY_FLAG_W,CTDOXY,CTDOXY_FLAG_W,OXYGEN,OXYGEN_FLAG_W,SILCAT,SILCAT_FLAG_W,NITRAT,NITRAT_FLAG_W,NITRIT,NITRIT_FLAG_W,PHSPHT,PHSPHT_FLAG_W,CFC-11,CFC-11_FLAG_W,CFC-12,CFC-12_FLAG_W,CFC113,CFC113_FLAG_W,SF6,SF6_FLAG_W,THETA,SBE35,SBE35_FLAG_W
,,,,,,,,,,,METERS,DBAR,ITS-90,PSS-78,,PSS-78,,UMOL/KG,,UMOL/KG,,UMOL/KG,,UMOL/KG,,UMOL/KG,,UMOL/KG,,PMOL/KG,,PMOL/KG,,PMOL/KG,,FMOL/KG,,DEG C,ITS-90,
  316N20111106,  GT11,    12,  4,     12,     12,2,20111123,1603, 29.7000, -56.8170, 5726,   2123.6,   3.7537,  35.0123,2,  35.0116,2,    252.0,2,    251.7,2,    19.03,2,    18.59,2,     0.00,2,     1.25,2,    0.675,2,    0.322,2,    0.024,2,     0.14,2,   3.5776,   3.7537,2
  316N20111106,  GT11,    12,  4,     11,     11,2,20111123,1603, 29.7000, -56.8170, 5726,   2430.2,   3.3696,  34.9833,2,  34.9843,2,    252.0,2,    252.3,2,    22.93,2,    18.85,2,     0.00,2,     1.27,2,    0.337,2,    0.163,2,    0.014,2,     0.09,2,   3.1697,   3.3697,2
  316N20111106,  GT11,    12,  4,     10,     10,2,20111123,1603, 29.7000, -56.8170, 5726,   2737.6,   3.1272,  34.9648,2,  34.9648,2,    251.4,2,    251.6,2,    26.64,2,    19.33,2,     0.00,2,     1.32,2,    0.119,2,    0.063,2,    0.006,2,     0.07,2,   2.9009,   3.1277,2
  316N20111106,  GT11,    12,  4,      9,      9,2,20111123,1603, 29.7000, -56.8170, 5726,   3041.7,   2.9047,  34.9456,2,  34.9459,2,    254.3,2,    254.7,2,    28.01,2,    19.26,2,     0.00,2,     1.33,2,    0.099,2,    0.049,2,    0.005,2,     0.04,2,   2.6515,   2.9044,2
  316N20111106,  GT11,    12,  4,      8,      8,2,20111123,1603, 29.7000, -56.8170, 5726,   3347.7,   2.6748,  34.9274,2,  34.9270,2,    259.0,2,    259.8,2,    28.01,2,    18.89,2,     0.00,2,     1.31,2,    0.162,2,    0.079,2,    0.007,2,     0.04,2,   2.3945,   2.6758,2
  316N20111106,  GT11,    12,  4,      7,      7,2,20111123,1603, 29.7000, -56.8170, 5726,   3651.9,   2.4938,  34.9127,2,  34.9117,2,    261.8,2,    263.0,2,    29.37,2,    18.83,2,     0.00,2,     1.31,2,    0.231,2,    0.111,2,    0.008,2,     0.08,2,   2.1848,   2.4942,2
  316N20111106,  GT11,    12,  4,      6,      6,2,20111123,1603, 29.7000, -56.8170, 5726,   3957.6,   2.3482,  34.8987,2,  34.9018,3,    260.0,2,    260.3,2,    34.25,2,    19.39,2,     0.00,2,     1.35,2,    0.199,2,    0.099,2,    0.007,2,     0.07,2,   2.0089,   2.3487,2
  316N20111106,  GT11,    12,  4,      5,     15,2,20111123,1603, 29.7000, -56.8170, 5726,   4371.0,   2.2505,  34.8855,2,  34.8847,2,    257.8,2,    257.8,2,    39.43,2,    20.11,2,     0.00,2,     1.41,2,    0.154,2,    0.080,2,    0.007,2,     0.02,2,   1.8662,   2.2511,2
  316N20111106,  GT11,    12,  4,      4,      4,2,20111123,1603, 29.7000, -56.8170, 5726,   4777.8,   2.1498,  34.8690,2,  34.8704,2,    253.8,2,    253.5,2,    46.55,2,    21.20,2,     0.00,2,     1.48,2,    0.079,2,    0.047,2,    0.004,2,     0.01,2,   1.7198,   2.1500,2
  316N20111106,  GT11,    12,  4,      3,      3,2,20111123,1603, 29.7000, -56.8170, 5726,   5190.4,   2.0837,  34.8558,2,  34.8617,3,    251.3,2,    250.3,2,    51.53,2,    21.85,2,     0.00,2,     1.53,2,    0.094,2,    0.055,2,    0.005,2,     0.02,2,   1.6044,   2.0839,2
  316N20111106,  GT11,    12,  4,      2,      2,2,20111123,1603, 29.7000, -56.8170, 5726,   5567.1,   2.1162,  34.8532,2,  34.8542,2,    249.7,2,    249.6,2,    52.60,2,    22.02,2,     0.00,2,     1.55,2,    0.076,2,    0.050,2,    0.004,2,     0.01,2,   1.5870,   2.1162,2
  316N20111106,  GT11,    12,  4,      1,      1,2,20111123,1603, 29.7000, -56.8170, 5726,   5724.8,   2.1369,  34.8530,2,  34.8524,2,    250.6,2,    251.2,2,    53.19,2,    22.07,2,     0.00,2,     1.55,2,    0.076,2,    0.045,2,    0.003,2,     0.01,2,   1.5860,   2.1369,2
  316N20111106,  GT11,    12,  6,     13,     99,2,20111123,2342, 29.7000, -56.8170, 5726,      1.1,  24.7377,  36.7485,2,  36.7522,2,   -999.0,9,   -999.0,9,  -999.00,9,  -999.00,9,  -999.00,9,  -999.00,9, -999.000,9, -999.000,9, -999.000,9,     -999,9,  24.7375,-999.0000,9
  316N20111106,  GT11,    12,  6,     12,     12,2,20111123,2342, 29.7000, -56.8170, 5726,     10.3,  24.7407,  36.7483,2,  36.7435,2,    208.7,2,    208.6,2,     0.58,2,     0.00,2,     0.00,2,     0.01,2, -999.000,9, -999.000,9, -999.000,9,     -999,9,  24.7385,  24.7402,2
  316N20111106,  GT11,    12,  6,     11,     11,2,20111123,2342, 29.7000, -56.8170, 5726,     40.8,  24.7364,  36.9108,2,  36.9121,2,    208.6,2,    208.4,2,     0.39,2,     0.00,2,     0.00,2,     0.00,2, -999.000,9, -999.000,9, -999.000,9,     -999,9,  24.7276,  24.7361,2
  316N20111106,  GT11,    12,  6,     10,     10,2,20111123,2342, 29.7000, -56.8170, 5726,     70.6,  21.5474,  36.7979,2,  36.7956,2,    227.1,2,    227.3,2,     0.39,2,     0.00,2,     0.00,2,     0.00,2, -999.000,9, -999.000,9, -999.000,9,     -999,9,  21.5335,  21.5428,2
  316N20111106,  GT11,    12,  6,      9,      9,2,20111123,2342, 29.7000, -56.8170, 5726,    100.5,  19.8070,  36.7335,2,  36.7332,2,    209.2,2,    209.4,2,     0.39,2,     0.02,2,     0.08,2,     0.00,2, -999.000,9, -999.000,9, -999.000,9,     -999,9,  19.7884,  19.8077,2
  316N20111106,  GT11,    12,  6,      8,      8,2,20111123,2342, 29.7000, -56.8170, 5726,    135.9,  18.9389,  36.6373,2,  36.6374,2,    198.7,2,    198.3,2,     0.49,2,     1.21,2,     0.01,2,     0.01,2, -999.000,9, -999.000,9, -999.000,9,     -999,9,  18.9145,  18.9397,2
  316N20111106,  GT11,    12,  6,      7,      7,2,20111123,2342, 29.7000, -56.8170, 5726,    185.7,  18.3252,  36.5847,2,  36.5856,2,    199.8,2,    200.3,2,     0.78,2,     3.55,2,     0.00,2,     0.14,2, -999.000,9, -999.000,9, -999.000,9,     -999,9,  18.2926,  18.3241,2
  316N20111106,  GT11,    12,  6,      6,      6,2,20111123,2342, 29.7000, -56.8170, 5726,    236.4,  18.0861,  36.5598,2,  36.5593,2,    202.7,2,    202.9,2,     0.88,2,     3.88,2,     0.00,2,     0.16,2, -999.000,9, -999.000,9, -999.000,9,     -999,9,  18.0449,  18.0860,2
  316N20111106,  GT11,    12,  6,      5,     15,2,20111123,2342, 29.7000, -56.8170, 5726,    287.4,  17.8635,  36.5337,2,  36.5335,2,    205.3,2,    205.4,2,     0.97,2,     4.10,2,     0.00,2,     0.19,2, -999.000,9, -999.000,9, -999.000,9,     -999,9,  17.8138,  17.8643,2
  316N20111106,  GT11,    12,  6,      4,      4,2,20111123,2342, 29.7000, -56.8170, 5726,    352.1,  17.5102,  36.4751,2,  36.4754,2,    204.6,2,    204.0,2,     1.27,2,     4.76,2,     0.00,2,     0.21,2, -999.000,9, -999.000,9, -999.000,9,     -999,9,  17.4501,  17.5104,2
  316N20111106,  GT11,    12,  6,      3,      3,2,20111123,2342, 29.7000, -56.8170, 5726,    423.8,  16.9923,  36.3800,2,  36.3802,2,    199.2,2,    199.3,2,     1.66,2,     6.07,2,     0.00,2,     0.30,2, -999.000,9, -999.000,9, -999.000,9,     -999,9,  16.9213,  16.9919,2
  316N20111106,  GT11,    12,  6,      2,      2,2,20111123,2342, 29.7000, -56.8170, 5726,    578.7,  14.3707,  35.9161,2,  35.9170,2,    176.0,2,    175.8,2,     4.19,2,    12.32,2,     0.00,2,     0.72,2, -999.000,9, -999.000,9, -999.000,9,     -999,9,  14.2838,  14.3702,2
  316N20111106,  GT11,    12,  6,      1,      1,2,20111123,2342, 29.7000, -56.8170, 5726,    758.0,  10.6816,  35.4071,2,  35.4048,2,    152.8,2,    152.7,2,    10.05,2,    20.44,2,     0.00,2,     1.27,2, -999.000,9, -999.000,9, -999.000,9,     -999,9,  10.5870,  10.6786,2
  316N20111106,  GT11,    12,  8,     12,     12,2,20111123,1130, 29.7000, -56.8170, 5726,      3.2,  24.7382,  36.9456,2,  36.9437,2,    208.3,2,    208.0,2,     0.78,2,     0.00,2,     0.00,2,     0.00,2, -999.000,9, -999.000,9, -999.000,9,     -999,9,  24.7375,  24.7375,2
  316N20111106,  GT11,    12,  8,     11,     11,2,20111123,1130, 29.7000, -56.8170, 5726,     20.5,  24.7442,  36.9413,2,  36.9405,2,    207.5,2,    208.1,2,     0.49,2,     0.00,2,     0.00,2,     0.00,2, -999.000,9, -999.000,9, -999.000,9,     -999,9,  24.7398,  24.7441,2
  316N20111106,  GT11,    12,  8,     10,     10,2,20111123,1130, 29.7000, -56.8170, 5726,     40.9,  24.7315,  36.9362,2,  36.9374,2,    208.1,2,    208.2,2,     0.39,2,     0.00,2,     0.00,2,     0.00,2, -999.000,9, -999.000,9, -999.000,9,     -999,9,  24.7226,  24.7307,2
  316N20111106,  GT11,    12,  8,      9,      9,2,20111123,1130, 29.7000, -56.8170, 5726,    100.8,  19.7928,  36.7263,2,  36.7272,2,    206.0,2,    201.1,2,     0.49,2,     0.25,2,     0.06,2,     0.00,2, -999.000,9, -999.000,9, -999.000,9,     -999,9,  19.7741,  19.7908,2
  316N20111106,  GT11,    12,  8,      8,      8,2,20111123,1130, 29.7000, -56.8170, 5726,    188.2,  18.2671,  36.5766,2,  36.5761,2,    199.5,2,    200.8,2,     0.97,2,     3.67,2,     0.00,2,     0.21,2, -999.000,9, -999.000,9, -999.000,9,     -999,9,  18.2341,  18.2671,2
  316N20111106,  GT11,    12,  8,      7,      7,2,20111123,1130, 29.7000, -56.8170, 5726,    237.2,  18.0026,  36.5461,2,  36.5448,2,    201.9,2,    202.5,2,     1.07,2,     4.05,2,     0.00,2,     0.17,2, -999.000,9, -999.000,9, -999.000,9,     -999,9,  17.9614,  18.0020,2
  316N20111106,  GT11,    12,  8,      6,      6,2,20111123,1130, 29.7000, -56.8170, 5726,    288.6,  17.8133,  36.5269,2,  36.5244,2,    207.3,2,    205.8,2,     1.07,2,     4.12,2,     0.00,2,     0.18,2, -999.000,9, -999.000,9, -999.000,9,     -999,9,  17.7635,  17.8129,2
  316N20111106,  GT11,    12,  8,      5,     15,2,20111123,1130, 29.7000, -56.8170, 5726,    424.4,  16.9192,  36.3660,2,  36.3659,2,    198.0,2,    198.6,2,     1.85,2,     6.21,2,     0.00,2,     0.31,2, -999.000,9, -999.000,9, -999.000,9,     -999,9,  16.8483,  16.9210,2
  316N20111106,  GT11,    12,  8,      4,      4,2,20111123,1130, 29.7000, -56.8170, 5726,    751.6,  10.9166,  35.4322,2,  35.4361,2,   -999.0,9,   -999.0,9,  -999.00,9,  -999.00,9,  -999.00,9,  -999.00,9, -999.000,9, -999.000,9, -999.000,9,     -999,9,  10.8216,  10.9232,2
  316N20111106,  GT11,    12,  8,      3,      3,2,20111123,1130, 29.7000, -56.8170, 5726,    751.7,  10.9150,  35.4313,2,  35.4302,2,    154.9,2,    154.5,2,     9.56,2,    19.95,2,     0.00,2,     1.23,2, -999.000,9, -999.000,9, -999.000,9,     -999,9,  10.8200,  10.9031,2
  316N20111106,  GT11,    12,  8,      2,      2,2,20111123,1130, 29.7000, -56.8170, 5726,   1007.9,   6.8244,  35.1241,2,  35.1244,2,    186.0,2,    186.3,2,    14.15,2,    21.78,2,     0.00,2,     1.42,2, -999.000,9, -999.000,9, -999.000,9,     -999,9,   6.7256,   6.8241,2
  316N20111106,  GT11,    12,  8,      1,      1,2,20111123,1130, 29.7000, -56.8170, 5726,   1513.0,   4.6711,  35.0612,2,  35.0618,2,    246.4,2,    246.6,2,    12.69,2,    18.02,2,     0.00,2,     1.19,2, -999.000,9, -999.000,9, -999.000,9,     -999,9,   4.5419,   4.6729,2
  316N20111106,  GT11,    12, 10,     11,     11,2,20111123,1546, 29.7000, -56.8170, 5726,   2128.1,   3.7440,  35.0116,2,  35.0110,2,    251.9,2,    251.6,2,    18.83,2,    18.76,2,     0.00,2,     1.24,2, -999.000,9, -999.000,9, -999.000,9,     -999,9,   3.5676,   3.7439,2
  316N20111106,  GT11,    12, 10,     12,     12,2,20111123,1546, 29.7000, -56.8170, 5726,   2128.2,   3.7441,  35.0117,2,-999.0000,9,   -999.0,9,   -999.0,9,  -999.00,9,  -999.00,9,  -999.00,9,  -999.00,9, -999.000,9, -999.000,9, -999.000,9,     -999,9,   3.5677,   3.7444,2
  316N20111106,  GT11,    12, 10,     10,     10,2,20111123,1546, 29.7000, -56.8170, 5726,   3042.4,   2.9037,  34.9452,2,  34.9447,2,    254.7,2,    255.0,2,    27.91,2,    19.24,2,     0.00,2,     1.31,2, -999.000,9, -999.000,9, -999.000,9,     -999,9,   2.6505,   2.9038,2
  316N20111106,  GT11,    12, 10,      9,      9,2,20111123,1546, 29.7000, -56.8170, 5726,   3961.1,   2.3465,  34.8982,2,  34.8973,2,    259.7,2,    260.4,2,    34.35,2,    19.37,2,     0.00,2,     1.34,2, -999.000,9, -999.000,9, -999.000,9,     -999,9,   2.0069,   2.3468,2
  316N20111106,  GT11,    12, 10,      7,      7,2,20111123,1546, 29.7000, -56.8170, 5726,   4780.3,   2.1415,  34.8677,2,  34.8670,2,    253.0,2,    253.2,2,    47.14,2,    21.22,2,     0.00,2,     1.47,2, -999.000,9, -999.000,9, -999.000,9,     -999,9,   1.7115,   2.1414,2
  316N20111106,  GT11,    12, 10,      8,      8,2,20111123,1546, 29.7000, -56.8170, 5726,   4780.4,   2.1418,  34.8678,2,  34.8666,2,    253.0,2,    253.5,2,    47.04,2,    21.25,2,     0.00,2,     1.46,2, -999.000,9, -999.000,9, -999.000,9,     -999,9,   1.7117,   2.1417,2
  316N20111106,  GT11,    12, 10,      6,      6,2,20111123,1546, 29.7000, -56.8170, 5726,   5191.7,   2.0820,  34.8551,2,  34.8546,2,    251.1,2,    250.4,2,    52.21,2,    21.94,2,     0.00,2,     1.53,2, -999.000,9, -999.000,9, -999.000,9,     -999,9,   1.6026,   2.0818,2
  316N20111106,  GT11,    12, 10,      5,     15,2,20111123,1546, 29.7000, -56.8170, 5726,   5191.8,   2.0819,  34.8551,2,  34.8548,2,    251.1,2,    250.9,2,    52.51,2,    21.92,2,     0.00,2,     1.52,2, -999.000,9, -999.000,9, -999.000,9,     -999,9,   1.6025,   2.0817,2
  316N20111106,  GT11,    12, 10,      3,      3,2,20111123,1546, 29.7000, -56.8170, 5726,   5583.9,   2.1187,  34.8530,2,  34.8528,2,    249.2,2,    250.1,2,    53.19,2,    22.05,2,     0.00,2,     1.54,2, -999.000,9, -999.000,9, -999.000,9,     -999,9,   1.5872,   2.1185,2
  316N20111106,  GT11,    12, 10,      4,      4,2,20111123,1546, 29.7000, -56.8170, 5726,   5583.9,   2.1188,  34.8530,2,  34.8528,2,    249.2,2,    249.7,2,    52.90,2,    22.01,2,     0.00,2,     1.54,2, -999.000,9, -999.000,9, -999.000,9,     -999,9,   1.5873,   2.1186,2
  316N20111106,  GT11,    12, 10,      1,      1,2,20111123,1546, 29.7000, -56.8170, 5726,   5726.4,   2.1376,  34.8528,2,  34.8524,2,    250.4,2,    250.1,2,    53.09,2,    22.06,2,     0.00,2,     1.54,2, -999.000,9, -999.000,9, -999.000,9,     -999,9,   1.5865,   2.1373,2
  316N20111106,  GT11,    12, 10,      2,      2,2,20111123,1546, 29.7000, -56.8170, 5726,   5726.5,   2.1378,  34.8528,2,  34.8522,2,    250.4,2,    250.4,2,    53.19,2,    22.04,2,     0.00,2,     1.54,2, -999.000,9, -999.000,9, -999.000,9,     -999,9,   1.5866,   2.1377,2
  316N20111106,  GT11,    12, 12,     12,     12,2,20111123,2329, 29.7000, -56.8170, 5726,     41.4,  24.8357,  36.9830,2,  36.9814,2,    207.8,2,    208.1,2,     0.39,2,     0.00,2,     0.00,2,     0.00,2, -999.000,9, -999.000,9, -999.000,9,     -999,9,  24.8267,  24.8345,2
  316N20111106,  GT11,    12, 12,     11,     11,2,20111123,2329, 29.7000, -56.8170, 5726,    100.8,  19.7288,  36.7130,2,  36.7155,2,    207.0,2,    205.3,2,     0.39,2,     0.11,2,     0.07,2,     0.00,2, -999.000,9, -999.000,9, -999.000,9,     -999,9,  19.7102,  19.7218,2
  316N20111106,  GT11,    12, 12,     10,     10,2,20111123,2329, 29.7000, -56.8170, 5726,    186.3,  18.4015,  36.6010,2,  36.6001,2,    200.3,2,    201.8,2,     0.78,2,     3.31,2,     0.00,2,     0.13,2, -999.000,9, -999.000,9, -999.000,9,     -999,9,  18.3687,  18.4017,2
  316N20111106,  GT11,    12, 12,      9,      9,2,20111123,2329, 29.7000, -56.8170, 5726,    236.9,  18.1429,  36.5760,2,  36.5747,2,    205.9,2,    204.3,2,     0.78,2,     3.68,2,     0.00,2,     0.16,2, -999.000,9, -999.000,9, -999.000,9,     -999,9,  18.1015,  18.1442,2
  316N20111106,  GT11,    12, 12,      8,      8,2,20111123,2329, 29.7000, -56.8170, 5726,    287.8,  17.9265,  36.5481,2,  36.5483,2,    203.6,2,    205.8,2,     0.88,2,     3.93,2,     0.00,2,     0.17,2, -999.000,9, -999.000,9, -999.000,9,     -999,9,  17.8766,  17.9272,2
  316N20111106,  GT11,    12, 12,      7,      7,2,20111123,2329, 29.7000, -56.8170, 5726,    421.8,  16.9658,  36.3699,2,  36.3746,2,    198.9,2,    195.5,2,     1.56,2,     6.42,2,     0.00,2,     0.33,2, -999.000,9, -999.000,9, -999.000,9,     -999,9,  16.8952,  16.9654,2
  316N20111106,  GT11,    12, 12,      6,      6,2,20111123,2329, 29.7000, -56.8170, 5726,    755.5,  10.8282,  35.4269,2,  35.4258,2,    157.3,2,    155.4,2,     9.56,2,    19.87,2,     0.00,2,     1.24,2, -999.000,9, -999.000,9, -999.000,9,     -999,9,  10.7331,  10.8306,2
  316N20111106,  GT11,    12, 12,      5,     15,2,20111123,2329, 29.7000, -56.8170, 5726,   1008.0,   6.9561,  35.1229,2,  35.1232,2,    178.5,2,    183.8,2,    13.86,2,    21.91,2,     0.00,2,     1.42,2, -999.000,9, -999.000,9, -999.000,9,     -999,9,   6.8563,   6.9461,2
  316N20111106,  GT11,    12, 12,      4,      4,2,20111123,2329, 29.7000, -56.8170, 5726,   1514.3,   4.6733,  35.0611,2,  35.0639,2,    245.3,2,    245.2,2,    12.69,2,    18.08,2,     0.00,2,     1.20,2, -999.000,9, -999.000,9, -999.000,9,     -999,9,   4.5439,   4.6706,2
  316N20111106,  GT11,    12, 12,      3,      3,2,20111123,2329, 29.7000, -56.8170, 5726,   2123.6,   3.7436,  35.0126,2,  35.0117,2,    251.7,2,    251.1,2,    19.32,2,    18.56,2,     0.00,2,     1.25,2, -999.000,9, -999.000,9, -999.000,9,     -999,9,   3.5677,   3.7446,2
  316N20111106,  GT11,    12, 12,      2,      2,2,20111123,2329, 29.7000, -56.8170, 5726,   3040.7,   2.9073,  34.9456,2,  34.9448,2,    254.1,2,    254.3,2,    28.40,2,    19.40,2,     0.00,2,     1.33,2, -999.000,9, -999.000,9, -999.000,9,     -999,9,   2.6542,   2.9073,2
  316N20111106,  GT11,    12, 12,      1,      1,2,20111123,2329, 29.7000, -56.8170, 5726,   3963.7,   2.3443,  34.8978,2,  34.8966,2,    260.4,2,    260.0,2,    34.84,2,    19.52,2,     0.00,2,     1.34,2, -999.000,9, -999.000,9, -999.000,9,     -999,9,   2.0045,   2.3441,2