BOTTLE,20170314CCHSIORJL
EXPOCODE,SECT_ID,STNNBR,CASTNO,BIONBR,BTLNBR,BTLNBR_FLAG_W,DATE,TIME,LATITUDE,LONGITUDE,DEPTH,CTDPRS,CTDTMP,CTDSAL,CTDSAL_FLAG_W,CTDOXY,CTDOXY_FLAG_W,OXYGEN,OXYGEN_FLAG_W,SILCAT,SILCAT_FLAG_W,NITRAT,NITRAT_FLAG_W,NITRIT,NITRIT_FLAG_W,PHSPHT,PHSPHT_FLAG_W,CFC-12,CFC-12_FLAG_W,SF6,SF6_FLAG_W,TCARBN,TCARBN_FLAG_W,ALKALI,ALKALI_FLAG_W,PH_TOT,PH_TOT_FLAG_W,PH_TMP,TRITUM,TRITUM_FLAG_W,TRITER,HELIUM,HELIUM_FLAG_W,DELHE3,DELHE3_FLAG_W,DELC13,DELC13_FLAG_W,DELC14,DELC14_FLAG_W,C14ERR,NEON,NEON_FLAG_W,DELHER,BARIUM,BARIUM_FLAG_W
,,,,,,,,,,,METERS,DBAR,ITS-90,PSS-78,,UMOL/KG,,UMOL/KG,,UMOL/KG,,UMOL/KG,,UMOL/KG,,UMOL/KG,,PMOL/KG,,FMOL/KG,,UMOL/KG,,UMOL/KG,,,,DEG C,TU,,TU,NMOL/KG,,PERCNT,,/MILLE,,/MILLE,,/MILLE,NMOL/KG,,PERCNT,UM/KG,
06MT20110405,     MedSea,     340,          1,     213217,          1,2,20110425,       1918,    35.9990,    -8.0010,       1780,  1510.3,   8.5119,  35.8215,2,    196.8,2,  -999.0,9, -999.00,9, -999.00,9, -999.00,9, -999.00,9,-999.000,9,-999.000,9,  -999.0,9,  -999.0,9,-999.0000,9,  -999.00,-999.000,9,-999.000,-999.0000,9, -999.00,9, -999.00,9,  -999.0,9,  -999.0,-999.000,9, -999.00,     -999.0,9
06MT20110405,     MedSea,     340,          1,     213218,          2,2,20110425,       1919,    35.9990,    -8.0010,       1780,  1510.4,   8.4698,  35.8215,2,    196.9,2,  -999.0,9, -999.00,9, -999.00,9, -999.00,9, -999.00,9,-999.000,9,-999.000,9,  -999.0,9,  -999.0,9,-999.0000,9,  -999.00,-999.000,9,-999.000,-999.0000,9, -999.00,9, -999.00,9,  -999.0,9,  -999.0,-999.000,9, -999.00,     -999.0,9
06MT20110405,     MedSea,     340,          1,     213219,          3,2,20110425,       1919,    35.9990,    -8.0010,       1780,  1510.5,   8.4812,  35.8215,2,    196.9,2,  -999.0,9, -999.00,9, -999.00,9, -999.00,9, -999.00,9,-999.000,9,-999.000,9,  -999.0,9,  -999.0,9,-999.0000,9,  -999.00,-999.000,9,-999.000,-999.0000,9, -999.00,9, -999.00,9,  -999.0,9,  -999.0,-999.000,9, -999.00,     -999.0,9
06MT20110405,     MedSea,     340,          1,     213220,          4,2,20110425,       1919,    35.9990,    -8.0010,       1780,  1510.1,   8.4993,  35.8215,2,    196.3,2,  -999.0,9, -999.00,9, -999.00,9, -999.00,9, -999.00,9,-999.000,9,-999.000,9,  -999.0,9,  -999.0,9,-999.0000,9,  -999.00,-999.000,9,-999.000,-999.0000,9, -999.00,9, -999.00,9,  -999.0,9,  -999.0,-999.000,9, -999.00,     -999.0,9
06MT20110405,     MedSea,     340,          1,     213221,          5,2,20110425,       1920,    35.9990,    -8.0010,       1780,  1510.5,   8.4971,  35.8215,2,    197.1,2,   196.9,2,   11.47,6,   18.01,6,    0.01,6,    1.10,6,   0.602,2,-999.000,9,  2195.3,2,  2374.9,2,   7.7735,2,    25.00,-999.000,9,-999.000,-999.0000,9, -999.00,9,    0.84,2,   -25.6,2,     0.3,-999.000,9, -999.00,      50.20,2
06MT20110405,     MedSea,     340,          1,     213222,          6,2,20110425,       1920,    35.9990,    -8.0010,       1780,  1510.4,   8.4983,  35.8215,2,    196.6,2,   197.1,2,   11.46,2,   17.98,2,    0.01,2,    1.11,2,   0.605,2,-999.000,9,  -999.0,9,  -999.0,9,   7.7764,2,    25.00,-999.000,9,-999.000,-999.0000,9, -999.00,9,    0.71,2,   -22.9,2,     0.4,-999.000,9, -999.00,      50.40,2
06MT20110405,     MedSea,     340,          1,     213223,          7,2,20110425,       1923,    35.9990,    -8.0010,       1780,  1418.7,   9.7625,  36.0731,2,    187.8,2,   187.9,2,    9.95,2,   17.28,2,    0.01,2,    1.02,2,   0.721,2,-999.000,9,  2199.5,2,  2390.6,2,   7.7888,2,    25.00,-999.000,9,-999.000,-999.0000,9, -999.00,9,    0.68,2,   -12.4,2,     0.4,-999.000,9, -999.00,      49.90,2
06MT20110405,     MedSea,     340,          1,     213224,          8,2,20110425,       1926,    35.9990,    -8.0010,       1780,  1318.1,  10.2373,  36.1256,2,    185.3,2,   185.3,2,    9.49,2,   16.74,2,    0.00,2,    1.00,2,   0.759,2,-999.000,9,  2205.8,2,  2394.2,2,   7.7949,2,    25.00,-999.000,9,-999.000,-999.0000,9, -999.00,9,    0.65,2,   -23.2,2,     0.5,-999.000,9, -999.00,      49.40,2
06MT20110405,     MedSea,     340,          1,     213225,          9,2,20110425,       1929,    35.9990,    -8.0010,       1780,  1216.2,  10.6101,  36.1825,2,    182.6,2,   181.3,2,    9.03,2,   16.53,2,    0.00,2,    0.98,2,   0.814,2,-999.000,9,  2206.9,2,  2397.9,2,   7.7972,2,    25.00,-999.000,9,-999.000,-999.0000,9, -999.00,9,    0.66,2,    -7.6,2,     0.4,-999.000,9, -999.00,      53.90,2
06MT20110405,     MedSea,     340,          1,     213226,         10,2,20110425,       1934,    35.9990,    -8.0010,       1780,  1013.7,  10.7558,  36.1047,2,    178.9,2,   176.8,2,    8.92,2,   17.01,2,    0.00,2,    1.01,2,   0.817,2,-999.000,9,  2202.4,2,  2391.5,2,   7.7909,2,    25.00,-999.000,9,-999.000,-999.0000,9, -999.00,9,    0.60,2,    -7.4,2,     0.3,-999.000,9, -999.00,      48.50,2
06MT20110405,     MedSea,     340,          1,     213227,         11,2,20110425,       1938,    35.9990,    -8.0010,       1780,   810.2,  10.7244,  35.8728,2,    174.4,2,   172.6,2,    8.61,2,   17.85,2,    0.00,2,    1.08,2,   0.850,2,-999.000,9,  2192.1,2,  2372.1,2,   7.7729,2,    25.00,-999.000,9,-999.000,-999.0000,9, -999.00,9,    0.65,2,     2.3,2,     0.4,-999.000,9, -999.00,      50.30,2
06MT20110405,     MedSea,     340,          1,     213228,         12,2,20110425,       1943,    35.9990,    -8.0010,       1780,   607.7,  10.9400,  35.6404,2,    174.2,2,   171.0,2,    7.54,2,   18.57,2,    0.00,2,    1.10,2,   1.054,2,-999.000,9,  2177.1,2,  2349.1,2,   7.7616,2,    25.00,-999.000,9,-999.000,-999.0000,9, -999.00,9,    0.59,2,    16.6,2,     0.4,-999.000,9, -999.00,      45.40,2
06MT20110405,     MedSea,     340,          1,     213229,         13,2,20110425,       1946,    35.9990,    -8.0010,       1780,   506.4,  11.5511,  35.6271,2,    188.2,2,   187.6,2,    5.26,2,   15.75,2,    0.01,2,    0.90,2,   1.366,2,-999.000,9,  2162.0,2,  2342.9,2,   7.7877,2,    25.00,-999.000,9,-999.000,-999.0000,9, -999.00,9,    0.55,2,    35.9,2,     0.6,-999.000,9, -999.00,      39.90,2
06MT20110405,     MedSea,     340,          1,     213230,         14,2,20110425,       1950,    35.9990,    -8.0010,       1780,   405.5,  12.2678,  35.6873,2,    200.3,2,   197.9,2,    3.76,2,   13.28,2,    0.01,2,    0.75,2,   1.522,2,-999.000,9,  2152.5,2,  2345.1,2,   7.8128,2,    25.00,-999.000,9,-999.000,-999.0000,9, -999.00,9,    0.53,2,    52.0,2,     0.5,-999.000,9, -999.00,      38.30,2
06MT20110405,     MedSea,     340,          1,     213231,         15,2,20110425,       1953,    35.9990,    -8.0010,       1780,   305.2,  12.9830,  35.7946,2,    205.0,2,   203.9,2,    2.93,2,   11.24,2,    0.01,2,    0.64,2,-999.000,9,-999.000,9,  2145.5,2,  2351.1,2,   7.8369,2,    25.00,-999.000,9,-999.000,-999.0000,9, -999.00,9,    0.54,2,    51.1,2,     0.3,-999.000,9, -999.00,      42.00,2
06MT20110405,     MedSea,     340,          1,     213232,         16,2,20110425,       1955,    35.9990,    -8.0010,       1780,   253.4,  13.7497,  35.9094,2,    207.9,2,   207.3,2,    2.39,2,    9.78,2,    0.01,2,    0.56,2,-999.000,9,-999.000,9,  2140.1,2,  2356.3,2,   7.8580,2,    25.00,-999.000,9,-999.000,-999.0000,9, -999.00,9,    0.66,3,    63.3,2,     0.4,-999.000,9, -999.00,      40.70,2
06MT20110405,     MedSea,     340,          1,     213233,         17,2,20110425,       1956,    35.9990,    -8.0010,       1780,   203.5,  14.5223,  36.0149,2,    206.6,2,   205.3,2,    1.98,2,    8.47,2,    0.01,2,    0.48,2,-999.000,9,-999.000,9,  2135.6,2,  2363.0,2,   7.8804,2,    25.00,-999.000,9,-999.000,-999.0000,9, -999.00,9,    0.54,2,    51.2,2,     0.4,-999.000,9, -999.00,      42.00,2
06MT20110405,     MedSea,     340,          1,     213234,         18,2,20110425,       1958,    35.9990,    -8.0010,       1780,   153.0,  15.4083,  36.1745,2,    212.4,2,   210.3,2,    1.29,2,    6.10,2,    0.01,2,    0.35,2,-999.000,9,-999.000,9,  2128.5,2,  2373.7,2,   7.9124,2,    25.00,-999.000,9,-999.000,-999.0000,9, -999.00,9,    0.51,2,    57.1,2,     0.4,-999.000,9, -999.00,      45.00,2
06MT20110405,     MedSea,     340,          1,     213235,         19,2,20110425,       2000,    35.9990,    -8.0010,       1780,   103.3,  16.1440,  36.3098,2,    226.9,2,   225.9,2,    0.46,2,    2.53,2,    0.02,2,    0.15,2,-999.000,9,-999.000,9,  2115.2,2,  2383.1,2,   7.9520,2,    25.00,-999.000,9,-999.000,-999.0000,9, -999.00,9,    0.78,2,    59.9,2,     0.3,-999.000,9, -999.00,      40.10,2
06MT20110405,     MedSea,     340,          1,     213236,         20,2,20110425,       2002,    35.9990,    -8.0010,       1780,    77.1,  16.3166,  36.3399,2,    226.2,2,   225.4,2,    0.42,2,    2.37,2,    0.03,2,    0.15,2,-999.000,9,-999.000,9,  2113.2,2,  2384.2,2,   7.9547,2,    25.00,-999.000,9,-999.000,-999.0000,9, -999.00,9,    0.82,2,    59.5,2,     0.3,-999.000,9, -999.00,      41.90,2
06MT20110405,     MedSea,     340,          1,     213237,         21,2,20110425,       2004,    35.9990,    -8.0010,       1780,    52.4,  16.6362,  36.3773,2,    240.6,2,   238.8,2,    0.21,2,    0.58,2,    0.03,2,    0.04,2,-999.000,9,-999.000,9,  2102.4,2,  2387.5,2,   7.9814,2,    25.00,-999.000,9,-999.000,-999.0000,9, -999.00,9,    0.89,2,    66.0,2,     0.3,-999.000,9, -999.00,      41.80,2
06MT20110405,     MedSea,     340,          1,     213238,         22,2,20110425,       2006,    35.9990,    -8.0010,       1780,    27.4,  17.8054,  36.4119,2,    236.1,2,   236.8,2,    0.00,2,   -0.01,2,    0.00,2,    0.04,2,-999.000,9,-999.000,9,  2096.9,2,  2389.6,2,   7.9918,2,    25.00,-999.000,9,-999.000,-999.0000,9, -999.00,9,    1.02,2,    62.4,2,     0.4,-999.000,9, -999.00,      39.60,2
06MT20110405,     MedSea,     340,          1,     213239,         23,2,20110425,       2008,    35.9990,    -8.0010,       1780,     6.3,  18.3331,  36.4247,2,    235.6,2,   235.5,2, -999.00,9, -999.00,9, -999.00,9, -999.00,9,-999.000,9,-999.000,9,  2098.7,2,  2390.3,2,   7.9945,2,    25.00,-999.000,9,-999.000,-999.0000,9, -999.00,9,    1.02,2,    49.0,2,     0.3,-999.000,9, -999.00,      37.80,2
06MT20110405,     MedSea,     340,          1,     213240,         24,2,20110425,       2008,    35.9990,    -8.0010,       1780,     6.4,  18.3457,  36.4244,2,    234.6,2,  -999.0,9, -999.00,9, -999.00,9, -999.00,9, -999.00,9,   1.386,2,-999.000,9,  -999.0,9,  -999.0,9,-999.0000,9,  -999.00,-999.000,9,-999.000,-999.0000,9, -999.00,9, -999.00,9,  -999.0,9,  -999.0,-999.000,9, -999.00,     -999.0,9