BOTTLE,20170314CCHSIORJL
EXPOCODE,SECT_ID,STNNBR,CASTNO,BIONBR,BTLNBR,BTLNBR_FLAG_W,DATE,TIME,LATITUDE,LONGITUDE,DEPTH,CTDPRS,CTDTMP,CTDSAL,CTDSAL_FLAG_W,CTDOXY,CTDOXY_FLAG_W,OXYGEN,OXYGEN_FLAG_W,SILCAT,SILCAT_FLAG_W,NITRAT,NITRAT_FLAG_W,NITRIT,NITRIT_FLAG_W,PHSPHT,PHSPHT_FLAG_W,CFC-12,CFC-12_FLAG_W,SF6,SF6_FLAG_W,TCARBN,TCARBN_FLAG_W,ALKALI,ALKALI_FLAG_W,PH_TOT,PH_TOT_FLAG_W,PH_TMP,TRITUM,TRITUM_FLAG_W,TRITER,HELIUM,HELIUM_FLAG_W,DELHE3,DELHE3_FLAG_W,DELC13,DELC13_FLAG_W,DELC14,DELC14_FLAG_W,C14ERR,NEON,NEON_FLAG_W,DELHER,BARIUM,BARIUM_FLAG_W
,,,,,,,,,,,METERS,DBAR,ITS-90,PSS-78,,UMOL/KG,,UMOL/KG,,UMOL/KG,,UMOL/KG,,UMOL/KG,,UMOL/KG,,PMOL/KG,,FMOL/KG,,UMOL/KG,,UMOL/KG,,,,DEG C,TU,,TU,NMOL/KG,,PERCNT,,/MILLE,,/MILLE,,/MILLE,NMOL/KG,,PERCNT,UM/KG,
06MT20110405,     MedSea,     292,          1,     209734,          1,2,20110409,       1014,    33.9900,    35.1720,       1701,  1679.4,  13.8980,  38.7837,2,    184.4,2,  -999.0,9, -999.00,9, -999.00,9, -999.00,9, -999.00,9,-999.000,9,-999.000,9,  -999.0,9,  -999.0,9,-999.0000,9,  -999.00,-999.000,9,-999.000,-999.0000,9, -999.00,9, -999.00,9,  -999.0,9,  -999.0,-999.000,9, -999.00,     -999.0,9
06MT20110405,     MedSea,     292,          1,     209735,          2,2,20110409,       1015,    33.9900,    35.1720,       1701,  1679.0,  13.8977,  38.7837,2,    184.6,2,  -999.0,9, -999.00,9, -999.00,9, -999.00,9, -999.00,9,-999.000,9,-999.000,9,  -999.0,9,  -999.0,9,-999.0000,9,  -999.00,-999.000,9,-999.000,-999.0000,9, -999.00,9, -999.00,9,  -999.0,9,  -999.0,-999.000,9, -999.00,     -999.0,9
06MT20110405,     MedSea,     292,          1,     209736,          3,2,20110409,       1016,    33.9900,    35.1720,       1701,  1679.9,  13.8980,  38.7836,2,    184.7,2,   108.8,4,    8.17,2,    4.88,2,    0.01,2,    0.18,2,   0.579,2,   0.279,2,  2307.4,2,  2614.3,2,   7.9656,2,    25.00,-999.000,9,-999.000,-999.0000,9, -999.00,9, -999.00,9,  -999.0,9,  -999.0,-999.000,9, -999.00,      78.60,2
06MT20110405,     MedSea,     292,          1,     209737,          4,2,20110409,       1021,    33.9900,    35.1720,       1701,  1523.5,  13.8576,  38.7759,2,    184.0,2,   185.3,2,    8.06,2,    4.90,2,    0.01,2,    0.19,2,   0.520,2,   0.345,2,  2305.9,2,  2613.4,2,   7.9678,2,    25.00,-999.000,9,-999.000,   1.8800,2,    1.90,2, -999.00,9,  -999.0,9,  -999.0,   7.400,2,    0.61,      78.60,2
06MT20110405,     MedSea,     292,          1,     209738,          5,2,20110409,       1029,    33.9900,    35.1720,       1701,  1270.8,  13.7844,  38.7590,2,    181.7,2,   183.2,2,    8.25,2,    5.73,3,    0.00,2,    0.20,2,   0.431,2,   0.414,3,  2304.3,2,  2613.7,2,   7.9649,2,    25.00,-999.000,9,-999.000,   1.9300,2,    1.53,2, -999.00,9,  -999.0,9,  -999.0,   7.550,2,    0.23,      87.30,2
06MT20110405,     MedSea,     292,          1,     209739,          6,2,20110409,       1035,    33.9900,    35.1720,       1701,  1016.3,  13.7355,  38.7487,2,    179.0,2,   179.3,2,    8.48,2,    5.42,2,    0.01,2,    0.25,2,   0.363,2,   0.146,2,  2304.4,2,  2611.6,2,   7.9673,2,    25.00,-999.000,9,-999.000,   1.8700,2,    1.02,2, -999.00,9,  -999.0,9,  -999.0,   7.300,2,    0.37,      82.40,2
06MT20110405,     MedSea,     292,          1,     209740,          7,2,20110409,       1041,    33.9900,    35.1720,       1701,   814.0,  13.7417,  38.7535,2,    176.7,2,   175.5,2,    8.34,2,    5.64,2,    0.01,2,    0.22,2,   0.337,2,   0.145,2,  2305.0,2,  2611.5,2,   7.9644,2,    25.00,-999.000,9,-999.000,   2.0300,2,    1.78,3, -999.00,9,  -999.0,9,  -999.0,   7.850,2,    0.15,      85.00,2
06MT20110405,     MedSea,     292,          1,     209741,          8,2,20110409,       1047,    33.9900,    35.1720,       1701,   610.4,  13.8158,  38.7752,2,    174.1,2,   187.3,4,    7.93,2,    5.90,2,    0.00,2,    0.23,2,   0.421,2,   0.179,2,  2308.2,2,  2612.3,2,   7.9614,2,    25.00,-999.000,9,-999.000,   1.8800,2,    0.73,2, -999.00,9,  -999.0,9,  -999.0,   7.350,2,    0.51,      88.40,2
06MT20110405,     MedSea,     292,          1,     209742,          9,2,20110409,       1050,    33.9900,    35.1720,       1701,   508.9,  13.9528,  38.8067,2,    174.8,2,   174.6,2,    7.42,2,    5.79,2,    0.00,2,    0.23,2,   0.503,2,   0.236,2,  2311.1,2,  2612.3,2,   7.9610,2,    25.00,-999.000,9,-999.000,   1.9000,2,    0.41,2, -999.00,9,  -999.0,9,  -999.0,   7.450,2,    0.15,      74.90,2
06MT20110405,     MedSea,     292,          1,     209743,         10,2,20110409,       1054,    33.9900,    35.1720,       1701,   407.8,  14.2965,  38.8777,2,    178.2,2,  -999.0,9, -999.00,9, -999.00,9, -999.00,9, -999.00,9,-999.000,9,-999.000,9,  -999.0,9,  -999.0,9,-999.0000,9,  -999.00,-999.000,9,-999.000,-999.0000,9, -999.00,9, -999.00,9,  -999.0,9,  -999.0,-999.000,9, -999.00,     -999.0,9
06MT20110405,     MedSea,     292,          1,     209744,         11,2,20110409,       1055,    33.9900,    35.1720,       1701,   407.7,  14.3155,  38.8785,2,    178.0,2,   178.0,2,    6.18,2,    5.45,2,    0.00,2,    0.22,2,   0.690,2,   0.379,2,  2315.0,2,  2615.8,2,   7.9543,2,    25.00,-999.000,9,-999.000,   1.8900,2,    0.65,2, -999.00,9,  -999.0,9,  -999.0,   7.500,2,    0.25,      66.40,2
06MT20110405,     MedSea,     292,          1,     209745,         12,2,20110409,       1058,    33.9900,    35.1720,       1701,   306.6,  15.4371,  39.0726,2,    193.1,2,   192.9,2,    3.39,2,    3.77,2,    0.00,2,    0.13,2,   1.113,2,   0.787,2,  2313.4,2,  2623.7,2,   7.9666,2,    25.00,-999.000,9,-999.000,   1.8400,2,    0.49,2, -999.00,9,  -999.0,9,  -999.0,   7.450,2,    0.41,      68.40,2
06MT20110405,     MedSea,     292,          1,     209746,         13,2,20110409,       1101,    33.9900,    35.1720,       1701,   256.5,  16.2332,  39.1747,2,    201.0,2,   202.5,2,    1.85,2,    2.22,2,    0.01,2,    0.05,2,   1.338,2,   1.037,2,  2309.2,2,  2625.3,2,   7.9795,2,    25.00,-999.000,9,-999.000,-999.0000,9, -999.00,9, -999.00,9,  -999.0,9,  -999.0,-999.000,9, -999.00,      54.50,2
06MT20110405,     MedSea,     292,          1,     209747,         14,2,20110409,       1104,    33.9900,    35.1720,       1701,   205.2,  17.0490,  39.1954,2,    210.0,2,   214.1,2,    0.92,2,    0.69,2,    0.04,2,    0.02,2,-999.000,9,-999.000,9,  2290.7,2,  2622.5,2,   8.0062,2,    25.00,-999.000,9,-999.000,   1.8100,2,   -1.18,2, -999.00,9,  -999.0,9,  -999.0,   7.300,2,    0.14,      54.70,2
06MT20110405,     MedSea,     292,          1,     209748,         15,2,20110409,       1106,    33.9900,    35.1720,       1701,   153.6,  17.5182,  39.1876,2,    217.0,2,   218.5,2,    0.84,2,    0.40,2,    0.07,2,    0.04,2,   1.340,2,   1.295,2,  2281.4,2,  2620.6,2,   8.0117,2,    25.00,-999.000,9,-999.000,   1.8300,2,   -1.27,2, -999.00,9,  -999.0,9,  -999.0,   7.350,2,    0.38,      53.00,2
06MT20110405,     MedSea,     292,          1,     209749,         16,2,20110409,       1109,    33.9900,    35.1720,       1701,   104.4,  17.8960,  39.1462,2,    219.5,2,  -999.0,9, -999.00,9, -999.00,9, -999.00,9, -999.00,9,-999.000,9,-999.000,9,  -999.0,9,  -999.0,9,-999.0000,9,  -999.00,-999.000,9,-999.000,-999.0000,9, -999.00,9, -999.00,9,  -999.0,9,  -999.0,-999.000,9, -999.00,     -999.0,9
06MT20110405,     MedSea,     292,          1,     209750,         17,2,20110409,       1109,    33.9900,    35.1720,       1701,   104.5,  18.0017,  39.1446,2,    219.9,2,   223.4,2,    0.80,2,    0.17,2,    0.10,2,    0.01,2,   1.335,2,   1.256,2,  2271.8,2,  2614.3,2,   8.0248,2,    25.00,-999.000,9,-999.000,-999.0000,9, -999.00,9, -999.00,9,  -999.0,9,  -999.0,-999.000,9, -999.00,      60.30,2
06MT20110405,     MedSea,     292,          1,     209751,         18,2,20110409,       1111,    33.9900,    35.1720,       1701,    79.9,  18.0005,  39.1245,2,    221.1,2,   222.8,2,    0.79,2,    0.19,2,    0.10,2,    0.02,2,   1.188,3,   0.875,3,  2269.3,2,  2612.3,2,   8.0223,2,    25.00,-999.000,9,-999.000,-999.0000,9, -999.00,9, -999.00,9,  -999.0,9,  -999.0,-999.000,9, -999.00,      51.30,2
06MT20110405,     MedSea,     292,          1,     209752,         19,2,20110409,       1113,    33.9900,    35.1720,       1701,    54.3,  17.9156,  39.0343,2,    223.0,2,   224.5,2,    0.77,2,    0.09,2,    0.06,2,    0.01,2,   1.318,2,    1.23,2,  2266.0,2,  2607.0,2,   8.0217,2,    25.00,-999.000,9,-999.000,-999.0000,9, -999.00,9, -999.00,9,  -999.0,9,  -999.0,-999.000,9, -999.00,      54.50,2
06MT20110405,     MedSea,     292,          1,     209753,         20,2,20110409,       1114,    33.9900,    35.1720,       1701,    54.3,  17.9087,  39.0343,2,    223.0,2,  -999.0,9, -999.00,9, -999.00,9, -999.00,9, -999.00,9,-999.000,9,-999.000,9,  -999.0,9,  -999.0,9,-999.0000,9,  -999.00,-999.000,9,-999.000,-999.0000,9, -999.00,9, -999.00,9,  -999.0,9,  -999.0,-999.000,9, -999.00,     -999.0,9
06MT20110405,     MedSea,     292,          1,     209754,         21,2,20110409,       1115,    33.9900,    35.1720,       1701,    28.7,  18.4714,  39.0827,2,    226.3,2,   228.1,2,    0.75,2,   -0.01,2,    0.00,2,    0.00,2,   1.317,2,   1.182,2,  2263.0,2,  2607.5,2,   8.0315,2,    25.00,-999.000,9,-999.000,-999.0000,9, -999.00,9, -999.00,9,  -999.0,9,  -999.0,-999.000,9, -999.00,      52.20,2
06MT20110405,     MedSea,     292,          1,     209755,         22,2,20110409,       1117,    33.9900,    35.1720,       1701,     8.8,  18.6558,  38.9789,2,    228.6,2,   229.2,2,    0.80,2,   -0.01,2,    0.00,2,    0.00,2,   1.331,2,    1.33,2,  2259.4,2,  2605.3,2,   8.0281,2,    25.00,-999.000,9,-999.000,-999.0000,9, -999.00,9, -999.00,9,  -999.0,9,  -999.0,-999.000,9, -999.00,      52.10,2
06MT20110405,     MedSea,     292,          1,     209756,         23,2,20110409,       1118,    33.9900,    35.1720,       1701,     8.9,  18.7451,  38.9792,2,    227.8,2,  -999.0,9, -999.00,9, -999.00,9, -999.00,9, -999.00,9,-999.000,9,-999.000,9,  -999.0,9,  -999.0,9,-999.0000,9,  -999.00,-999.000,9,-999.000,-999.0000,9, -999.00,9, -999.00,9,  -999.0,9,  -999.0,-999.000,9, -999.00,     -999.0,9
06MT20110405,     MedSea,     292,          1,     209757,         24,2,20110409,       1118,    33.9900,    35.1720,       1701,     8.9,  18.7538,  38.9792,2,    228.8,2,  -999.0,9, -999.00,9, -999.00,9, -999.00,9, -999.00,9,-999.000,9,-999.000,9,  -999.0,9,  -999.0,9,-999.0000,9,  -999.00,-999.000,9,-999.000,-999.0000,9, -999.00,9, -999.00,9,  -999.0,9,  -999.0,-999.000,9, -999.00,     -999.0,9