BOTTLE,20170314CCHSIORJL
EXPOCODE,SECT_ID,STNNBR,CASTNO,BIONBR,BTLNBR,BTLNBR_FLAG_W,DATE,TIME,LATITUDE,LONGITUDE,DEPTH,CTDPRS,CTDTMP,CTDSAL,CTDSAL_FLAG_W,CTDOXY,CTDOXY_FLAG_W,OXYGEN,OXYGEN_FLAG_W,SILCAT,SILCAT_FLAG_W,NITRAT,NITRAT_FLAG_W,NITRIT,NITRIT_FLAG_W,PHSPHT,PHSPHT_FLAG_W,CFC-12,CFC-12_FLAG_W,SF6,SF6_FLAG_W,TCARBN,TCARBN_FLAG_W,ALKALI,ALKALI_FLAG_W,PH_TOT,PH_TOT_FLAG_W,PH_TMP,TRITUM,TRITUM_FLAG_W,TRITER,HELIUM,HELIUM_FLAG_W,DELHE3,DELHE3_FLAG_W,DELC13,DELC13_FLAG_W,DELC14,DELC14_FLAG_W,C14ERR,NEON,NEON_FLAG_W,DELHER,BARIUM,BARIUM_FLAG_W
,,,,,,,,,,,METERS,DBAR,ITS-90,PSS-78,,UMOL/KG,,UMOL/KG,,UMOL/KG,,UMOL/KG,,UMOL/KG,,UMOL/KG,,PMOL/KG,,FMOL/KG,,UMOL/KG,,UMOL/KG,,,,DEG C,TU,,TU,NMOL/KG,,PERCNT,,/MILLE,,/MILLE,,/MILLE,NMOL/KG,,PERCNT,UM/KG,
06MT20110405,     MedSea,     342,          1,     213241,          1,2,20110426,       0035,    36.4500,    -8.0000,        867,   856.4,  13.0113,  36.5541,2,    191.9,2,  -999.0,9, -999.00,9, -999.00,9, -999.00,9, -999.00,9,-999.000,9,-999.000,9,  -999.0,9,  -999.0,9,-999.0000,9,  -999.00,-999.000,9,-999.000,-999.0000,9, -999.00,9, -999.00,9,  -999.0,9,  -999.0,-999.000,9, -999.00,     -999.0,9
06MT20110405,     MedSea,     342,          1,     213242,          2,2,20110426,       0035,    36.4500,    -8.0000,        867,   856.6,  13.0087,  36.5541,2,    191.6,2,  -999.0,9, -999.00,9, -999.00,9, -999.00,9, -999.00,9,-999.000,9,-999.000,9,  -999.0,9,  -999.0,9,-999.0000,9,  -999.00,-999.000,9,-999.000,-999.0000,9, -999.00,9, -999.00,9,  -999.0,9,  -999.0,-999.000,9, -999.00,     -999.0,9
06MT20110405,     MedSea,     342,          1,     213243,          3,2,20110426,       0035,    36.4500,    -8.0000,        867,   856.7,  13.0048,  36.5541,2,    191.2,2,  -999.0,9, -999.00,9, -999.00,9, -999.00,9, -999.00,9,-999.000,9,-999.000,9,  -999.0,9,  -999.0,9,-999.0000,9,  -999.00,-999.000,9,-999.000,-999.0000,9, -999.00,9, -999.00,9,  -999.0,9,  -999.0,-999.000,9, -999.00,     -999.0,9
06MT20110405,     MedSea,     342,          1,     213244,          4,2,20110426,       0035,    36.4500,    -8.0000,        867,   856.5,  13.0003,  36.5541,2,    191.0,2,  -999.0,9, -999.00,9, -999.00,9, -999.00,9, -999.00,9,-999.000,9,-999.000,9,  -999.0,9,  -999.0,9,-999.0000,9,  -999.00,-999.000,9,-999.000,-999.0000,9, -999.00,9, -999.00,9,  -999.0,9,  -999.0,-999.000,9, -999.00,     -999.0,9
06MT20110405,     MedSea,     342,          1,     213245,          5,2,20110426,       0036,    36.4500,    -8.0000,        867,   856.4,  12.9986,  36.5541,2,    190.8,2,  -999.0,9, -999.00,9, -999.00,9, -999.00,9, -999.00,9,-999.000,9,-999.000,9,  -999.0,9,  -999.0,9,-999.0000,9,  -999.00,-999.000,9,-999.000,-999.0000,9, -999.00,9, -999.00,9,  -999.0,9,  -999.0,-999.000,9, -999.00,     -999.0,9
06MT20110405,     MedSea,     342,          1,     213246,          6,2,20110426,       0036,    36.4500,    -8.0000,        867,   856.4,  13.0013,  36.5541,2,    191.0,2,  -999.0,9, -999.00,9, -999.00,9, -999.00,9, -999.00,9,-999.000,9,-999.000,9,  -999.0,9,  -999.0,9,-999.0000,9,  -999.00,-999.000,9,-999.000,-999.0000,9, -999.00,9, -999.00,9,  -999.0,9,  -999.0,-999.000,9, -999.00,     -999.0,9
06MT20110405,     MedSea,     342,          1,     213247,          7,2,20110426,       0036,    36.4500,    -8.0000,        867,   856.6,  13.0024,  36.5541,2,    191.2,2,  -999.0,9, -999.00,9, -999.00,9, -999.00,9, -999.00,9,-999.000,9,-999.000,9,  -999.0,9,  -999.0,9,-999.0000,9,  -999.00,-999.000,9,-999.000,-999.0000,9, -999.00,9, -999.00,9,  -999.0,9,  -999.0,-999.000,9, -999.00,     -999.0,9
06MT20110405,     MedSea,     342,          1,     213248,          8,2,20110426,       0036,    36.4500,    -8.0000,        867,   856.4,  13.0058,  36.5541,2,    191.3,2,  -999.0,9, -999.00,9, -999.00,9, -999.00,9, -999.00,9,-999.000,9,-999.000,9,  -999.0,9,  -999.0,9,-999.0000,9,  -999.00,-999.000,9,-999.000,-999.0000,9, -999.00,9, -999.00,9,  -999.0,9,  -999.0,-999.000,9, -999.00,     -999.0,9
06MT20110405,     MedSea,     342,          1,     213249,          9,2,20110426,       0037,    36.4500,    -8.0000,        867,   856.5,  13.0005,  36.5541,2,    191.7,2,  -999.0,9, -999.00,9, -999.00,9, -999.00,9, -999.00,9,   1.331,2,-999.000,9,  -999.0,9,  -999.0,9,-999.0000,9,  -999.00,-999.000,9,-999.000,-999.0000,9, -999.00,9, -999.00,9,  -999.0,9,  -999.0,-999.000,9, -999.00,      58.30,2
06MT20110405,     MedSea,     342,          1,     213250,         10,2,20110426,       0037,    36.4500,    -8.0000,        867,   856.4,  13.0043,  36.5541,2,    191.7,2,   190.7,2,    4.95,2,   11.41,2,    0.02,2,    0.61,2,   1.303,2,-999.000,9,  2206.2,2,  2417.9,2,   7.8482,2,    25.00,-999.000,9,-999.000,-999.0000,9, -999.00,9, -999.00,9,  -999.0,9,  -999.0,-999.000,9, -999.00,      50.20,2
06MT20110405,     MedSea,     342,          1,     213501,         11,2,20110426,       0039,    36.4500,    -8.0000,        867,   806.6,  12.9409,  36.5360,2,    190.7,2,   190.0,2,    4.83,2,   11.59,2,    0.02,2,    0.64,2,   1.279,2,-999.000,9,  2204.0,2,  2413.5,2,   7.8472,2,    25.00,-999.000,9,-999.000,-999.0000,9, -999.00,9, -999.00,9,  -999.0,9,  -999.0,-999.000,9, -999.00,      46.50,2
06MT20110405,     MedSea,     342,          1,     213502,         12,2,20110426,       0048,    36.4500,    -8.0000,        867,   608.2,  11.4825,  35.7986,2,    179.9,2,   178.0,3,    6.48,2,   16.41,2,    0.01,2,    0.95,2,   1.167,2,-999.000,9,  2180.3,2,  2358.1,2,   7.7861,2,    25.00,-999.000,9,-999.000,-999.0000,9, -999.00,9, -999.00,9,  -999.0,9,  -999.0,-999.000,9, -999.00,      44.90,2
06MT20110405,     MedSea,     342,          1,     213503,         13,2,20110426,       0052,    36.4500,    -8.0000,        867,   506.5,  11.5136,  35.6506,2,    187.2,2,   186.6,2,    5.52,2,   15.81,2,    0.01,2,    0.93,2,   1.346,2,-999.000,9,  2169.2,2,  2361.2,2,   7.7876,3,    25.00,-999.000,9,-999.000,-999.0000,9, -999.00,9, -999.00,9,  -999.0,9,  -999.0,-999.000,9, -999.00,      44.20,2
06MT20110405,     MedSea,     342,          1,     213504,         14,2,20110426,       0056,    36.4500,    -8.0000,        867,   405.0,  12.4256,  35.7163,2,    205.6,3,   204.5,3,    3.40,2,   12.24,2,    0.01,2,    0.72,2,   1.524,2,-999.000,9,  2152.7,2,  2343.7,2,   7.8243,2,    25.00,-999.000,9,-999.000,-999.0000,9, -999.00,9, -999.00,9,  -999.0,9,  -999.0,-999.000,9, -999.00,      41.80,2
06MT20110405,     MedSea,     342,          1,     213505,         15,2,20110426,       0100,    36.4500,    -8.0000,        867,   304.7,  13.1283,  35.8169,2,    207.6,2,   206.6,2,    2.91,2,   10.69,2,    0.01,2,    0.63,2,   1.551,2,-999.000,9,  2146.8,2,  2351.1,2,   7.8472,2,    25.00,-999.000,9,-999.000,-999.0000,9, -999.00,9, -999.00,9,  -999.0,9,  -999.0,-999.000,9, -999.00,      40.00,2
06MT20110405,     MedSea,     342,          1,     213506,         16,2,20110426,       0104,    36.4500,    -8.0000,        867,   253.7,  13.7957,  35.9060,2,    207.9,2,   206.3,2,    2.48,2,    9.48,2,    0.01,2,    0.56,2,   1.550,2,-999.000,9,  2142.7,2,  2356.3,2,   7.8653,2,    25.00,-999.000,9,-999.000,-999.0000,9, -999.00,9, -999.00,9,  -999.0,9,  -999.0,-999.000,9, -999.00,      39.80,2
06MT20110405,     MedSea,     342,          1,     213507,         17,2,20110426,       0106,    36.4500,    -8.0000,        867,   203.7,  14.2129,  35.9750,2,    206.6,2,   206.3,2,    2.17,2,    8.62,2,    0.01,2,    0.50,2,-999.000,9,-999.000,9,  2140.3,2,  2360.2,2,   7.8765,2,    25.00,-999.000,9,-999.000,-999.0000,9, -999.00,9, -999.00,9,  -999.0,9,  -999.0,-999.000,9, -999.00,      42.50,2
06MT20110405,     MedSea,     342,          1,     213508,         18,2,20110426,       0109,    36.4500,    -8.0000,        867,   153.6,  15.3199,  36.1498,2,    210.9,2,   208.9,2,    1.62,2,    6.63,2,    0.01,2,    0.40,2,-999.000,9,-999.000,9,  2134.1,2,  2368.8,2,   7.9045,2,    25.00,-999.000,9,-999.000,-999.0000,9, -999.00,9, -999.00,9,  -999.0,9,  -999.0,-999.000,9, -999.00,      41.70,2
06MT20110405,     MedSea,     342,          1,     213509,         19,2,20110426,       0111,    36.4500,    -8.0000,        867,   103.7,  16.1398,  36.3131,2,    220.4,2,   221.6,2,    0.72,2,    2.98,2,    0.03,2,    0.19,2,   1.465,2,-999.000,9,  2120.8,2,  2381.1,2,   7.9489,2,    25.00,-999.000,9,-999.000,-999.0000,9, -999.00,9, -999.00,9,  -999.0,9,  -999.0,-999.000,9, -999.00,      40.00,2
06MT20110405,     MedSea,     342,          1,     213510,         20,2,20110426,       0113,    36.4500,    -8.0000,        867,    77.5,  16.4426,  36.3718,2,    227.4,2,   227.9,2,    0.49,2,    1.66,2,    0.08,2,    0.11,2,-999.000,9,-999.000,9,  2113.1,2,  2382.7,2,   7.9661,2,    25.00,-999.000,9,-999.000,-999.0000,9, -999.00,9, -999.00,9,  -999.0,9,  -999.0,-999.000,9, -999.00,      40.70,2
06MT20110405,     MedSea,     342,          1,     213511,         21,2,20110426,       0115,    36.4500,    -8.0000,        867,    52.4,  16.8166,  36.4053,2,    238.1,2,   237.7,2,    0.36,2,    0.10,2,    0.02,2,    0.02,2,   1.413,2,-999.000,9,  2102.4,2,  2387.7,2,   7.9874,2,    25.00,-999.000,9,-999.000,-999.0000,9, -999.00,9, -999.00,9,  -999.0,9,  -999.0,-999.000,9, -999.00,      40.60,2
06MT20110405,     MedSea,     342,          1,     213512,         22,2,20110426,       0117,    36.4500,    -8.0000,        867,    26.8,  17.6258,  36.4288,2,    236.6,2,   237.2,2,    0.31,2,   -0.01,2,    0.00,2,    0.01,2,-999.000,9,-999.000,9,  2099.2,2,  2388.1,2,   7.9928,2,    25.00,-999.000,9,-999.000,-999.0000,9, -999.00,9, -999.00,9,  -999.0,9,  -999.0,-999.000,9, -999.00,      37.00,2
06MT20110405,     MedSea,     342,          1,     213513,         23,2,20110426,       0121,    36.4500,    -8.0000,        867,     7.7,  18.1931,  36.4304,2,    233.5,2,   236.1,2,    0.30,2,   -0.02,2,    0.00,2,    0.01,2,   1.414,2,-999.000,9,  2101.1,2,  2388.7,2,   7.9917,2,    25.00,-999.000,9,-999.000,-999.0000,9, -999.00,9, -999.00,9,  -999.0,9,  -999.0,-999.000,9, -999.00,      41.10,2
06MT20110405,     MedSea,     342,          1,     213514,         24,2,20110426,       0121,    36.4500,    -8.0000,        867,     7.1,  18.2378,  36.4321,2,    232.5,2,  -999.0,9, -999.00,9, -999.00,9, -999.00,9, -999.00,9,-999.000,9,-999.000,9,  -999.0,9,  -999.0,9,-999.0000,9,  -999.00,-999.000,9,-999.000,-999.0000,9, -999.00,9, -999.00,9,  -999.0,9,  -999.0,-999.000,9, -999.00,     -999.0,9