BOTTLE,20170314CCHSIORJL
EXPOCODE,SECT_ID,STNNBR,CASTNO,BIONBR,BTLNBR,BTLNBR_FLAG_W,DATE,TIME,LATITUDE,LONGITUDE,DEPTH,CTDPRS,CTDTMP,CTDSAL,CTDSAL_FLAG_W,CTDOXY,CTDOXY_FLAG_W,OXYGEN,OXYGEN_FLAG_W,SILCAT,SILCAT_FLAG_W,NITRAT,NITRAT_FLAG_W,NITRIT,NITRIT_FLAG_W,PHSPHT,PHSPHT_FLAG_W,CFC-12,CFC-12_FLAG_W,SF6,SF6_FLAG_W,TCARBN,TCARBN_FLAG_W,ALKALI,ALKALI_FLAG_W,PH_TOT,PH_TOT_FLAG_W,PH_TMP,TRITUM,TRITUM_FLAG_W,TRITER,HELIUM,HELIUM_FLAG_W,DELHE3,DELHE3_FLAG_W,DELC13,DELC13_FLAG_W,DELC14,DELC14_FLAG_W,C14ERR,NEON,NEON_FLAG_W,DELHER,BARIUM,BARIUM_FLAG_W
,,,,,,,,,,,METERS,DBAR,ITS-90,PSS-78,,UMOL/KG,,UMOL/KG,,UMOL/KG,,UMOL/KG,,UMOL/KG,,UMOL/KG,,PMOL/KG,,FMOL/KG,,UMOL/KG,,UMOL/KG,,,,DEG C,TU,,TU,NMOL/KG,,PERCNT,,/MILLE,,/MILLE,,/MILLE,NMOL/KG,,PERCNT,UM/KG,
06MT20110405,     MedSea,     327,          1,     212438,          1,2,20110422,       1605,    38.1000,     3.2000,       2810,  2799.8,  13.3352,  38.4830,2,    197.0,2,  -999.0,9, -999.00,9, -999.00,9, -999.00,9, -999.00,9,-999.000,9,-999.000,9,  -999.0,9,  -999.0,9,-999.0000,9,  -999.00,-999.000,9,-999.000,-999.0000,9, -999.00,9, -999.00,9,  -999.0,9,  -999.0,-999.000,9, -999.00,     -999.0,9
06MT20110405,     MedSea,     327,          1,     212439,          2,2,20110422,       1606,    38.1000,     3.2000,       2810,  2799.1,  13.3353,  38.4829,2,    196.4,2,   198.4,2,    8.11,2,    7.84,2,    0.00,2,    0.39,2,   0.907,2,-999.000,9,  2322.1,2,  2588.3,2,   7.9087,2,    25.00,-999.000,9,-999.000,-999.0000,9, -999.00,9, -999.00,9,  -999.0,9,  -999.0,-999.000,9, -999.00,      72.60,2
06MT20110405,     MedSea,     327,          1,     212440,          3,2,20110422,       1612,    38.1000,     3.2000,       2810,  2543.7,  13.2798,  38.4772,2,    196.0,2,   196.8,2,    8.13,2,    7.82,2,    0.00,2,    0.36,2,   0.856,2,-999.000,9,  2321.0,2,  2588.9,2,   7.9060,2,    25.00,-999.000,9,-999.000,-999.0000,9, -999.00,9, -999.00,9,  -999.0,9,  -999.0,-999.000,9, -999.00,      77.10,2
06MT20110405,     MedSea,     327,          1,     212441,          4,2,20110422,       1624,    38.1000,     3.2000,       2810,  2032.8,  13.2049,  38.4756,2,    195.1,2,   196.3,2,    7.81,2,    7.63,2,    0.02,2,    0.36,2,   0.806,2,-999.000,9,  2319.4,2,  2587.3,2,   7.9094,2,    25.00,-999.000,9,-999.000,-999.0000,9, -999.00,9, -999.00,9,  -999.0,9,  -999.0,-999.000,9, -999.00,      77.80,2
06MT20110405,     MedSea,     327,          1,     212442,          5,2,20110422,       1624,    38.1000,     3.2000,       2810,  2033.1,  13.2046,  38.4756,2,    194.6,2,  -999.0,9, -999.00,9, -999.00,9, -999.00,9, -999.00,9,-999.000,9,-999.000,9,  -999.0,9,  -999.0,9,-999.0000,9,  -999.00,-999.000,9,-999.000,-999.0000,9, -999.00,9, -999.00,9,  -999.0,9,  -999.0,-999.000,9, -999.00,     -999.0,9
06MT20110405,     MedSea,     327,          1,     212443,          6,2,20110422,       1631,    38.1000,     3.2000,       2810,  1777.6,  13.1636,  38.4731,2,    192.9,2,   194.3,2,    7.94,2,    7.85,2,    0.00,2,    0.36,2,   0.773,2,-999.000,9,  2318.8,2,  2588.6,2,   7.9095,2,    25.00,-999.000,9,-999.000,-999.0000,9, -999.00,9, -999.00,9,  -999.0,9,  -999.0,-999.000,9, -999.00,      71.80,2
06MT20110405,     MedSea,     327,          1,     212444,          7,2,20110422,       1638,    38.1000,     3.2000,       2810,  1523.9,  13.1056,  38.4646,2,    192.2,2,   195.0,2,    8.19,2,    7.81,2,    0.02,2,    0.39,2,   0.731,2,-999.000,9,  2318.3,2,  2587.7,2,   7.9075,2,    25.00,-999.000,9,-999.000,-999.0000,9, -999.00,9, -999.00,9,  -999.0,9,  -999.0,-999.000,9, -999.00,      86.80,2
06MT20110405,     MedSea,     327,          1,     212445,          8,2,20110422,       1645,    38.1000,     3.2000,       2810,  1268.8,  13.0852,  38.4689,2,    188.2,2,   188.9,2,    8.27,2,    8.05,2,    0.00,2,    0.39,2,   0.639,2,-999.000,9,  2318.7,2,  2588.5,2,   7.9087,2,    25.00,-999.000,9,-999.000,-999.0000,9, -999.00,9, -999.00,9,  -999.0,9,  -999.0,-999.000,9, -999.00,      79.10,2
06MT20110405,     MedSea,     327,          1,     212446,          9,2,20110422,       1651,    38.1000,     3.2000,       2810,  1015.4,  13.1174,  38.4864,2,    185.6,2,   185.6,2,    8.17,2,    8.11,2,    0.00,2,    0.39,2,-999.000,9,-999.000,9,  -999.0,9,  -999.0,9,-999.0000,9,  -999.00,-999.000,9,-999.000,-999.0000,9, -999.00,9, -999.00,9,  -999.0,9,  -999.0,-999.000,9, -999.00,     -999.0,9
06MT20110405,     MedSea,     327,          1,     212447,         10,2,20110422,       1652,    38.1000,     3.2000,       2810,  1015.4,  13.1188,  38.4864,2,    185.4,2,  -999.0,9, -999.00,9, -999.00,9, -999.00,9, -999.00,9,   0.630,2,-999.000,9,  2319.8,2,  2589.0,2,   7.9069,2,    25.00,-999.000,9,-999.000,-999.0000,9, -999.00,9, -999.00,9,  -999.0,9,  -999.0,-999.000,9, -999.00,      80.30,2
06MT20110405,     MedSea,     327,          1,     212448,         11,2,20110422,       1657,    38.1000,     3.2000,       2810,   812.6,  13.1946,  38.5117,2,    180.8,2,   182.2,2,    7.79,2,    8.16,2,    0.00,2,    0.39,2,   0.662,2,-999.000,9,  2322.4,2,  2591.0,2,   7.9056,2,    25.00,-999.000,9,-999.000,-999.0000,9, -999.00,9, -999.00,9,  -999.0,9,  -999.0,-999.000,9, -999.00,      78.80,2
06MT20110405,     MedSea,     327,          1,     212449,         12,2,20110422,       1702,    38.1000,     3.2000,       2810,   609.1,  13.3124,  38.5420,2,    175.7,2,   175.2,2,    7.07,2,    8.37,2,    0.00,2,    0.39,2,   0.768,2,-999.000,9,  2326.9,2,  2591.9,2,   7.9003,2,    25.00,-999.000,9,-999.000,-999.0000,9, -999.00,9, -999.00,9,  -999.0,9,  -999.0,-999.000,9, -999.00,      69.20,2
06MT20110405,     MedSea,     327,          1,     212450,         13,2,20110422,       1705,    38.1000,     3.2000,       2810,   508.3,  13.2583,  38.5178,2,    179.6,2,   179.3,2,    6.27,2,    8.33,2,    0.00,2,    0.34,2,   0.909,2,-999.000,9,  2327.2,2,  2587.2,2,   7.8946,2,    25.00,-999.000,9,-999.000,-999.0000,9, -999.00,9, -999.00,9,  -999.0,9,  -999.0,-999.000,9, -999.00,      70.40,2
06MT20110405,     MedSea,     327,          1,     212451,         14,2,20110422,       1708,    38.1000,     3.2000,       2810,   407.2,  13.2382,  38.4848,2,    185.5,2,   185.2,2,    5.26,2,    7.85,2,    0.00,2,    0.39,2,   1.071,2,-999.000,9,  2323.5,2,  2584.2,2,   7.8873,2,    25.00,-999.000,9,-999.000,-999.0000,9, -999.00,9, -999.00,9,  -999.0,9,  -999.0,-999.000,9, -999.00,      65.40,2
06MT20110405,     MedSea,     327,          1,     212452,         15,2,20110422,       1709,    38.1000,     3.2000,       2810,   406.6,  13.2315,  38.4836,2,    187.1,2,  -999.0,9, -999.00,9, -999.00,9, -999.00,9, -999.00,9,-999.000,9,-999.000,9,  -999.0,9,  -999.0,9,-999.0000,9,  -999.00,-999.000,9,-999.000,-999.0000,9, -999.00,9, -999.00,9,  -999.0,9,  -999.0,-999.000,9, -999.00,     -999.0,9
06MT20110405,     MedSea,     327,          1,     212453,         16,2,20110422,       1712,    38.1000,     3.2000,       2810,   305.5,  13.2587,  38.3783,2,    185.9,2,   185.4,2,    3.30,2,    7.22,2,    0.00,2,    0.30,2,   1.324,2,-999.000,9,  2320.0,2,  2570.9,2,   7.8821,2,    25.00,-999.000,9,-999.000,-999.0000,9, -999.00,9, -999.00,9,  -999.0,9,  -999.0,-999.000,9, -999.00,      65.20,2
06MT20110405,     MedSea,     327,          1,     212454,         17,2,20110422,       1714,    38.1000,     3.2000,       2810,   255.3,  13.2449,  38.2645,2,    195.2,2,   195.2,2,    2.38,2,    6.06,2,    0.01,2,    0.24,2,   1.444,2,-999.000,9,  2307.8,2,  2561.4,2,   7.8852,2,    25.00,-999.000,9,-999.000,-999.0000,9, -999.00,9, -999.00,9,  -999.0,9,  -999.0,-999.000,9, -999.00,      59.20,2
06MT20110405,     MedSea,     327,          1,     212455,         18,2,20110422,       1716,    38.1000,     3.2000,       2810,   203.8,  13.5656,  38.0756,2,    226.2,2,   227.4,2,    0.96,2,    2.26,2,    0.03,2,    0.06,2,   1.542,2,-999.000,9,  2267.0,2,  2545.7,2,   7.9367,2,    25.00,-999.000,9,-999.000,-999.0000,9, -999.00,9, -999.00,9,  -999.0,9,  -999.0,-999.000,9, -999.00,      58.80,2
06MT20110405,     MedSea,     327,          1,     212456,         19,2,20110422,       1718,    38.1000,     3.2000,       2810,   154.5,  13.6225,  37.9282,2,    242.4,2,   244.2,2,    0.42,2,    0.63,2,    0.16,2,    0.01,2,   1.588,2,-999.000,9,  2240.9,2,  2533.5,2,   7.9622,2,    25.00,-999.000,9,-999.000,-999.0000,9, -999.00,9, -999.00,9,  -999.0,9,  -999.0,-999.000,9, -999.00,      54.60,2
06MT20110405,     MedSea,     327,          1,     212457,         20,2,20110422,       1720,    38.1000,     3.2000,       2810,   103.4,  14.2890,  37.8051,2,    231.1,2,   233.0,2,    0.32,2,    1.14,2,    0.03,2,    0.04,2,   1.536,2,-999.000,9,  2230.5,2,  2521.5,2,   7.9585,2,    25.00,-999.000,9,-999.000,-999.0000,9, -999.00,9, -999.00,9,  -999.0,9,  -999.0,-999.000,9, -999.00,      56.50,2
06MT20110405,     MedSea,     327,          1,     212458,         21,2,20110422,       1721,    38.1000,     3.2000,       2810,    78.5,  14.3805,  37.6417,2,    235.3,2,   235.9,2,    0.24,2,    0.73,2,    0.03,2,    0.02,2,   1.525,2,-999.000,9,  2213.7,2,  2504.6,2,   7.9681,2,    25.00,-999.000,9,-999.000,-999.0000,9, -999.00,9, -999.00,9,  -999.0,9,  -999.0,-999.000,9, -999.00,      54.20,2
06MT20110405,     MedSea,     327,          1,     212459,         22,2,20110422,       1723,    38.1000,     3.2000,       2810,    53.8,  14.5683,  37.4700,2,    247.2,2,   250.6,2,    0.17,2,    0.03,2,    0.01,2,    0.01,2,   1.552,2,-999.000,9,  2195.3,2,  2489.8,2,   7.9766,2,    25.00,-999.000,9,-999.000,-999.0000,9, -999.00,9, -999.00,9,  -999.0,9,  -999.0,-999.000,9, -999.00,      48.00,2
06MT20110405,     MedSea,     327,          1,     212460,         23,2,20110422,       1725,    38.1000,     3.2000,       2810,     8.6,  17.2785,  37.2286,2,    237.5,2,   238.8,2,    0.14,2,    0.00,2,    0.00,2,    0.01,2,   1.428,2,-999.000,9,  2173.2,2,  2465.9,2,   7.9815,2,    25.00,-999.000,9,-999.000,-999.0000,9, -999.00,9, -999.00,9,  -999.0,9,  -999.0,-999.000,9, -999.00,      46.60,2
06MT20110405,     MedSea,     327,          1,     212461,         24,2,20110422,       1726,    38.1000,     3.2000,       2810,     8.7,  17.2831,  37.2281,2,    237.2,2,  -999.0,9, -999.00,9, -999.00,9, -999.00,9, -999.00,9,-999.000,9,-999.000,9,  -999.0,9,  -999.0,9,-999.0000,9,  -999.00,-999.000,9,-999.000,-999.0000,9, -999.00,9, -999.00,9,  -999.0,9,  -999.0,-999.000,9, -999.00,     -999.0,9