BOTTLE,20170314CCHSIORJL
EXPOCODE,SECT_ID,STNNBR,CASTNO,BIONBR,BTLNBR,BTLNBR_FLAG_W,DATE,TIME,LATITUDE,LONGITUDE,DEPTH,CTDPRS,CTDTMP,CTDSAL,CTDSAL_FLAG_W,CTDOXY,CTDOXY_FLAG_W,OXYGEN,OXYGEN_FLAG_W,SILCAT,SILCAT_FLAG_W,NITRAT,NITRAT_FLAG_W,NITRIT,NITRIT_FLAG_W,PHSPHT,PHSPHT_FLAG_W,CFC-12,CFC-12_FLAG_W,SF6,SF6_FLAG_W,TCARBN,TCARBN_FLAG_W,ALKALI,ALKALI_FLAG_W,PH_TOT,PH_TOT_FLAG_W,PH_TMP,TRITUM,TRITUM_FLAG_W,TRITER,HELIUM,HELIUM_FLAG_W,DELHE3,DELHE3_FLAG_W,DELC13,DELC13_FLAG_W,DELC14,DELC14_FLAG_W,C14ERR,NEON,NEON_FLAG_W,DELHER,BARIUM,BARIUM_FLAG_W
,,,,,,,,,,,METERS,DBAR,ITS-90,PSS-78,,UMOL/KG,,UMOL/KG,,UMOL/KG,,UMOL/KG,,UMOL/KG,,UMOL/KG,,PMOL/KG,,FMOL/KG,,UMOL/KG,,UMOL/KG,,,,DEG C,TU,,TU,NMOL/KG,,PERCNT,,/MILLE,,/MILLE,,/MILLE,NMOL/KG,,PERCNT,UM/KG,
06MT20110405,     MedSea,     306,          1,     212024,          1,2,20110415,       0209,    36.5000,    19.0000,       3600,  3480.1,  13.9870,  38.7312,2,    198.4,2,  -999.0,9, -999.00,9, -999.00,9, -999.00,9, -999.00,9,-999.000,9,-999.000,9,  -999.0,9,  -999.0,9,-999.0000,9,  -999.00,-999.000,9,-999.000,-999.0000,9, -999.00,9, -999.00,9,  -999.0,9,  -999.0,-999.000,9, -999.00,     -999.0,9
06MT20110405,     MedSea,     306,          1,     212025,          2,2,20110415,       0209,    36.5000,    19.0000,       3600,  3480.1,  13.9870,  38.7312,2,    198.2,2,   196.6,2,    6.22,2,    4.44,2,    0.00,2,    0.19,2,   0.891,2,     0.5,2,  2315.5,2,  2615.3,2,   7.9670,2,    25.00,-999.000,9,-999.000,-999.0000,9, -999.00,9, -999.00,9,  -999.0,9,  -999.0,-999.000,9, -999.00,      76.50,2
06MT20110405,     MedSea,     306,          1,     212026,          3,2,20110415,       0219,    36.5000,    19.0000,       3600,  3056.9,  13.9058,  38.7241,2,    197.4,2,   195.5,2,    6.46,2,    4.56,2,    0.00,2,    0.18,2,-999.000,9,   0.377,2,  2312.7,2,  2615.7,2,   7.9653,2,    25.00,-999.000,9,-999.000,-999.0000,9, -999.00,9, -999.00,9,  -999.0,9,  -999.0,-999.000,9, -999.00,      69.40,2
06MT20110405,     MedSea,     306,          1,     212027,          4,2,20110415,       0230,    36.5000,    19.0000,       3600,  2544.9,  13.8478,  38.7283,2,    197.3,2,   194.9,2,    6.46,2,    4.59,2,    0.00,2,    0.18,2,   0.739,2,   0.389,2,  2310.9,2,  2615.2,2,   7.9650,2,    25.00,-999.000,9,-999.000,-999.0000,9, -999.00,9, -999.00,9,  -999.0,9,  -999.0,-999.000,9, -999.00,      73.00,2
06MT20110405,     MedSea,     306,          1,     212028,          5,2,20110415,       0242,    36.5000,    19.0000,       3600,  2034.7,  13.8057,  38.7358,2,    195.1,2,   193.2,2,    6.55,2,    4.64,2,    0.00,2,    0.18,2,   0.688,2,   0.394,2,  2310.3,2,  2615.5,2,   7.9632,2,    25.00,-999.000,9,-999.000,-999.0000,9, -999.00,9, -999.00,9,  -999.0,9,  -999.0,-999.000,9, -999.00,      68.80,2
06MT20110405,     MedSea,     306,          1,     212029,          6,2,20110415,       0253,    36.5000,    19.0000,       3600,  1525.3,  13.7717,  38.7408,2,    191.1,2,   189.1,2,    6.80,2,    4.84,2,    0.00,2,    0.19,2,   0.594,2,    0.32,2,  2309.4,2,  2615.2,2,   7.9734,3,    25.00,-999.000,9,-999.000,-999.0000,9, -999.00,9, -999.00,9,  -999.0,9,  -999.0,-999.000,9, -999.00,      72.40,2
06MT20110405,     MedSea,     306,          1,     212030,          7,2,20110415,       0259,    36.5000,    19.0000,       3600,  1269.8,  13.7512,  38.7416,2,    187.8,2,   186.2,2,    7.18,2,    5.02,2,    0.00,2,    0.21,2,   0.522,2,   0.312,2,  2308.2,2,  2614.8,2,   7.9683,2,    25.00,-999.000,9,-999.000,-999.0000,9, -999.00,9, -999.00,9,  -999.0,9,  -999.0,-999.000,9, -999.00,      71.00,2
06MT20110405,     MedSea,     306,          1,     212031,          8,2,20110415,       0305,    36.5000,    19.0000,       3600,  1016.9,  13.7664,  38.7511,2,    184.9,2,   183.8,2,    7.09,2,    5.25,2,    0.00,2,    0.23,2,-999.000,9,-999.000,9,  2309.3,2,  2613.3,2,   7.9613,2,    25.00,-999.000,9,-999.000,-999.0000,9, -999.00,9, -999.00,9,  -999.0,9,  -999.0,-999.000,9, -999.00,      76.80,2
06MT20110405,     MedSea,     306,          1,     212032,          9,2,20110415,       0310,    36.5000,    19.0000,       3600,   814.3,  13.7823,  38.7582,2,    185.0,2,   183.0,2,    6.51,2,    5.51,2,    0.00,2,    0.24,2,   0.613,2,   0.373,2,  2313.6,2,  2615.2,2,   7.9602,2,    25.00,-999.000,9,-999.000,-999.0000,9, -999.00,9, -999.00,9,  -999.0,9,  -999.0,-999.000,9, -999.00,      72.00,2
06MT20110405,     MedSea,     306,          1,     212033,         10,2,20110415,       0315,    36.5000,    19.0000,       3600,   610.8,  13.9427,  38.7968,2,    184.9,2,   202.7,4,    1.83,4,    2.91,4,    0.00,3,    0.10,4,   1.403,3,   1.197,3,  2320.5,3,  2623.9,2,   7.9614,3,    25.00,-999.000,9,-999.000,-999.0000,9, -999.00,9, -999.00,9,  -999.0,9,  -999.0,-999.000,9, -999.00,      56.90,2
06MT20110405,     MedSea,     306,          1,     212034,         11,2,20110415,       0318,    36.5000,    19.0000,       3600,   509.5,  14.0442,  38.8191,2,    186.4,2,   184.7,2,    5.07,2,    5.46,2,    0.00,2,    0.21,2,   0.930,2,   0.615,2,  2321.1,2,  2617.6,2,   7.9534,2,    25.00,-999.000,9,-999.000,-999.0000,9, -999.00,9, -999.00,9,  -999.0,9,  -999.0,-999.000,9, -999.00,      72.30,2
06MT20110405,     MedSea,     306,          1,     212035,         12,2,20110415,       0320,    36.5000,    19.0000,       3600,   408.4,  14.2422,  38.8570,2,    189.3,2,   187.4,2,    4.31,2,    5.14,2,    0.00,2,    0.22,2,   1.089,2,   0.818,2,  2324.1,2,  2620.6,2,   7.9475,2,    25.00,-999.000,9,-999.000,-999.0000,9, -999.00,9, -999.00,9,  -999.0,9,  -999.0,-999.000,9, -999.00,      66.90,2
06MT20110405,     MedSea,     306,          1,     212036,         13,2,20110415,       0324,    36.5000,    19.0000,       3600,   306.7,  14.5886,  38.9174,2,    194.0,2,   192.0,2,    3.34,2,    4.57,2,    0.00,2,    0.21,2,   1.243,2,   0.915,2,  2324.6,2,  2623.8,2,   7.9499,2,    25.00,-999.000,9,-999.000,-999.0000,9, -999.00,9, -999.00,9,  -999.0,9,  -999.0,-999.000,9, -999.00,      59.70,2
06MT20110405,     MedSea,     306,          1,     212037,         14,2,20110415,       0325,    36.5000,    19.0000,       3600,   256.4,  14.9734,  39.0016,2,    199.7,2,   196.9,2,    2.74,2,    3.87,2,    0.00,2,    0.14,2,   1.308,2,    0.86,2,  2323.5,2,  2625.6,2,   7.9567,2,    25.00,-999.000,9,-999.000,-999.0000,9, -999.00,9, -999.00,9,  -999.0,9,  -999.0,-999.000,9, -999.00,      60.20,2
06MT20110405,     MedSea,     306,          1,     212038,         15,2,20110415,       0327,    36.5000,    19.0000,       3600,   205.0,  15.0410,  38.9558,2,    200.6,2,   198.1,2,    2.28,2,    3.56,2,    0.00,2,    0.12,2,   1.436,2,   1.114,2,  2322.4,2,  2624.2,2,   7.9552,2,    25.00,-999.000,9,-999.000,-999.0000,9, -999.00,9, -999.00,9,  -999.0,9,  -999.0,-999.000,9, -999.00,      56.60,2
06MT20110405,     MedSea,     306,          1,     212039,         16,2,20110415,       0329,    36.5000,    19.0000,       3600,   155.1,  15.4682,  39.0178,2,    207.4,2,   204.1,2,    1.72,2,    2.72,2,    0.00,2,    0.09,2,   1.528,2,   1.224,2,  2319.5,2,  2627.3,2,   7.9624,3,    25.00,-999.000,9,-999.000,-999.0000,9, -999.00,9, -999.00,9,  -999.0,9,  -999.0,-999.000,9, -999.00,      55.20,2
06MT20110405,     MedSea,     306,          1,     212040,         17,2,20110415,       0331,    36.5000,    19.0000,       3600,   104.5,  14.7926,  38.6296,2,    215.9,2,   211.4,2,    1.36,2,    2.10,2,    0.02,2,    0.04,2,   1.625,2,   2.225,3,  2309.4,2,  2609.5,2,   7.9543,2,    25.00,-999.000,9,-999.000,-999.0000,9, -999.00,9, -999.00,9,  -999.0,9,  -999.0,-999.000,9, -999.00,      58.10,2
06MT20110405,     MedSea,     306,          1,     212041,         18,2,20110415,       0332,    36.5000,    19.0000,       3600,    78.7,  15.2627,  38.5900,2,    231.2,2,   225.8,2,    0.86,2,    0.74,2,    0.07,2,    0.02,2,   1.446,2,   1.329,2,  2287.8,2,  2600.6,2,   7.9772,2,    25.00,-999.000,9,-999.000,-999.0000,9, -999.00,9, -999.00,9,  -999.0,9,  -999.0,-999.000,9, -999.00,      53.40,2
06MT20110405,     MedSea,     306,          1,     212042,         19,2,20110415,       0334,    36.5000,    19.0000,       3600,    54.1,  15.1044,  38.4211,2,    236.5,2,   237.4,2,    0.84,2,    0.07,2,    0.02,2,    0.02,2,   1.504,2,-999.000,9,  2271.1,2,  2584.6,2,   7.9878,2,    25.00,-999.000,9,-999.000,-999.0000,9, -999.00,9, -999.00,9,  -999.0,9,  -999.0,-999.000,9, -999.00,      55.60,2
06MT20110405,     MedSea,     306,          1,     212043,         20,2,20110415,       0336,    36.5000,    19.0000,       3600,    29.3,  15.9780,  38.3350,2,    244.1,2,   244.9,2,    0.76,2,    0.00,2,    0.00,2,    0.01,2,   1.571,2,   1.487,2,  2264.6,2,  2583.8,2,   7.9934,2,    25.00,-999.000,9,-999.000,-999.0000,9, -999.00,9, -999.00,9,  -999.0,9,  -999.0,-999.000,9, -999.00,      52.70,2
06MT20110405,     MedSea,     306,          1,     212044,         21,2,20110415,       0338,    36.5000,    19.0000,       3600,     9.1,  16.4555,  38.3620,2,    238.8,2,   239.8,2,    0.67,2,    0.00,2,    0.00,2,    0.01,2,-999.000,9,-999.000,9,  2258.4,2,  2574.2,2,   7.9931,2,    25.00,-999.000,9,-999.000,-999.0000,9, -999.00,9, -999.00,9,  -999.0,9,  -999.0,-999.000,9, -999.00,      51.90,2
06MT20110405,     MedSea,     306,          1,     -999.0,         22,2,20110415,       0338,    36.5000,    19.0000,       3600,     9.3,  16.4554,  38.3615,2,    239.2,2,  -999.0,9, -999.00,9, -999.00,9, -999.00,9, -999.00,9,-999.000,9,-999.000,9,  -999.0,9,  -999.0,9,-999.0000,9,  -999.00,-999.000,9,-999.000,-999.0000,9, -999.00,9, -999.00,9,  -999.0,9,  -999.0,-999.000,9, -999.00,     -999.0,9
06MT20110405,     MedSea,     306,          1,     -999.0,         23,2,20110415,       0338,    36.5000,    19.0000,       3600,     9.2,  16.4557,  38.3618,2,    239.1,2,  -999.0,9, -999.00,9, -999.00,9, -999.00,9, -999.00,9,-999.000,9,-999.000,9,  -999.0,9,  -999.0,9,-999.0000,9,  -999.00,-999.000,9,-999.000,-999.0000,9, -999.00,9, -999.00,9,  -999.0,9,  -999.0,-999.000,9, -999.00,     -999.0,9
06MT20110405,     MedSea,     306,          1,     212045,         24,2,20110415,       0339,    36.5000,    19.0000,       3600,     9.1,  16.4566,  38.3620,2,    239.5,2,  -999.0,9, -999.00,9, -999.00,9, -999.00,9, -999.00,9,-999.000,9,-999.000,9,  -999.0,9,  -999.0,9,-999.0000,9,  -999.00,-999.000,9,-999.000,-999.0000,9, -999.00,9, -999.00,9,  -999.0,9,  -999.0,-999.000,9, -999.00,     -999.0,9