BOTTLE,20170314CCHSIORJL
EXPOCODE,SECT_ID,STNNBR,CASTNO,BIONBR,BTLNBR,BTLNBR_FLAG_W,DATE,TIME,LATITUDE,LONGITUDE,DEPTH,CTDPRS,CTDTMP,CTDSAL,CTDSAL_FLAG_W,CTDOXY,CTDOXY_FLAG_W,OXYGEN,OXYGEN_FLAG_W,SILCAT,SILCAT_FLAG_W,NITRAT,NITRAT_FLAG_W,NITRIT,NITRIT_FLAG_W,PHSPHT,PHSPHT_FLAG_W,CFC-12,CFC-12_FLAG_W,SF6,SF6_FLAG_W,TCARBN,TCARBN_FLAG_W,ALKALI,ALKALI_FLAG_W,PH_TOT,PH_TOT_FLAG_W,PH_TMP,TRITUM,TRITUM_FLAG_W,TRITER,HELIUM,HELIUM_FLAG_W,DELHE3,DELHE3_FLAG_W,DELC13,DELC13_FLAG_W,DELC14,DELC14_FLAG_W,C14ERR,NEON,NEON_FLAG_W,DELHER,BARIUM,BARIUM_FLAG_W
,,,,,,,,,,,METERS,DBAR,ITS-90,PSS-78,,UMOL/KG,,UMOL/KG,,UMOL/KG,,UMOL/KG,,UMOL/KG,,UMOL/KG,,PMOL/KG,,FMOL/KG,,UMOL/KG,,UMOL/KG,,,,DEG C,TU,,TU,NMOL/KG,,PERCNT,,/MILLE,,/MILLE,,/MILLE,NMOL/KG,,PERCNT,UM/KG,
06MT20110405,     MedSea,     298,          1,     209855,          1,2,20110412,       0518,    34.5000,    24.3330,       3328,  3318.1,  13.9919,  38.7369,2,    193.1,2,  -999.0,9, -999.00,9, -999.00,9, -999.00,9, -999.00,9,-999.000,9,-999.000,9,  -999.0,9,  -999.0,9,-999.0000,9,  -999.00,-999.000,9,-999.000,-999.0000,9, -999.00,9, -999.00,9,  -999.0,9,  -999.0,-999.000,9, -999.00,     -999.0,9
06MT20110405,     MedSea,     298,          1,     209856,          2,2,20110412,       0519,    34.5000,    24.3330,       3328,  3318.2,  13.9920,  38.7369,2,    193.2,2,   192.5,2,    7.04,2,    4.68,2,    0.01,2,    0.16,2,   0.669,2,   0.191,2,  2309.5,2,  2610.3,2,   7.9693,2,    25.00,-999.000,9,-999.000,   1.9100,2,    3.98,2, -999.00,9,  -999.0,9,  -999.0,   7.450,2,    0.50,      74.50,2
06MT20110405,     MedSea,     298,          1,     209857,          3,2,20110412,       0525,    34.5000,    24.3330,       3328,  3054.8,  13.9463,  38.7369,2,    193.5,2,   193.2,2, -999.00,9, -999.00,9, -999.00,9, -999.00,9,   0.664,2,   0.292,2,  2309.6,2,  2612.2,2,   7.9687,2,    25.00,-999.000,9,-999.000,   1.8900,2,    4.30,2, -999.00,9,  -999.0,9,  -999.0,   7.450,2,    0.52,      69.60,2
06MT20110405,     MedSea,     298,          1,     209858,          4,2,20110412,       0536,    34.5000,    24.3330,       3328,  2543.7,  13.8625,  38.7388,2,    193.2,2,   192.3,2,    6.99,2,    4.65,2,    0.00,2,    0.16,2,   0.644,2,   0.211,2,  2307.8,2,  2608.9,2,   7.9698,2,    25.00,-999.000,9,-999.000,   1.9000,2,    6.07,2, -999.00,9,  -999.0,9,  -999.0,   7.500,2,    0.15,      77.00,2
06MT20110405,     MedSea,     298,          1,     209859,          5,2,20110412,       0547,    34.5000,    24.3330,       3328,  2032.9,  13.8248,  38.7565,2,    191.8,2,   190.4,2,    6.98,2,    4.67,2,    0.00,2,    0.15,2,   0.599,2,   0.268,2,  2307.1,2,  2612.4,2,   7.9643,2,    25.00,-999.000,9,-999.000,   1.8800,2,    4.18,2, -999.00,9,  -999.0,9,  -999.0,   7.400,2,    0.20,      84.40,2
06MT20110405,     MedSea,     298,          1,     209860,          6,2,20110412,       0558,    34.5000,    24.3330,       3328,  1524.0,  13.7793,  38.7595,2,    187.1,2,   188.1,2,    7.39,2,    4.87,2,    0.01,2,    0.17,2,   0.500,2,   0.235,2,  2306.3,2,  2613.1,2,   7.9702,2,    25.00,-999.000,9,-999.000,   1.9000,2,    3.35,2, -999.00,9,  -999.0,9,  -999.0,   7.400,2,    0.51,      73.70,2
06MT20110405,     MedSea,     298,          1,     209861,          7,2,20110412,       0558,    34.5000,    24.3330,       3328,  1523.7,  13.7795,  38.7595,2,    187.6,2,  -999.0,9, -999.00,9, -999.00,9, -999.00,9, -999.00,9,-999.000,9,-999.000,9,  -999.0,9,  -999.0,9,-999.0000,9,  -999.00,-999.000,9,-999.000,-999.0000,9, -999.00,9, -999.00,9,  -999.0,9,  -999.0,-999.000,9, -999.00,     -999.0,9
06MT20110405,     MedSea,     298,          1,     209862,          8,2,20110412,       0604,    34.5000,    24.3330,       3328,  1269.2,  13.8564,  38.7789,2,    185.4,2,   195.8,3,    7.53,2,    4.92,2,    0.01,2,    0.18,2,   0.546,2,   0.299,2,  2307.6,2,  2611.4,2,   7.9725,3,    25.00,-999.000,9,-999.000,   1.9000,2,    1.58,2, -999.00,9,  -999.0,9,  -999.0,   7.450,2,    0.31,      78.30,2
06MT20110405,     MedSea,     298,          1,     209863,          9,2,20110412,       0610,    34.5000,    24.3330,       3328,  1015.1,  13.8915,  38.7955,2,    185.2,2,   186.5,2,    7.27,2,    4.99,2,    0.00,2,    0.19,2,   0.555,2,    0.33,2,  2309.2,2,  2615.0,2,   7.9656,2,    25.00,-999.000,9,-999.000,-999.0000,9, -999.00,9, -999.00,9,  -999.0,9,  -999.0,-999.000,9, -999.00,      74.20,2
06MT20110405,     MedSea,     298,          1,     209864,         10,2,20110412,       0615,    34.5000,    24.3330,       3328,   813.0,  13.9392,  38.8140,2,    184.9,2,   186.2,2,    6.99,2,    5.08,2,    0.00,2,    0.19,2,   0.603,2,   0.305,2,  2310.9,2,  2613.7,2,   7.9650,2,    25.00,-999.000,9,-999.000,   1.8700,2,    1.37,2, -999.00,9,  -999.0,9,  -999.0,   7.350,2,    0.68,      76.20,2
06MT20110405,     MedSea,     298,          1,     209865,         11,2,20110412,       0615,    34.5000,    24.3330,       3328,   812.8,  13.9391,  38.8140,2,    184.4,2,  -999.0,9, -999.00,9, -999.00,9, -999.00,9, -999.00,9,-999.000,9,-999.000,9,  -999.0,9,  -999.0,9,-999.0000,9,  -999.00,-999.000,9,-999.000,-999.0000,9, -999.00,9, -999.00,9,  -999.0,9,  -999.0,-999.000,9, -999.00,     -999.0,9
06MT20110405,     MedSea,     298,          1,     209866,         12,2,20110412,       0620,    34.5000,    24.3330,       3328,   609.6,  14.0449,  38.8445,2,    185.0,2,   185.5,2,    6.49,2,    5.11,2,    0.00,2,    0.20,2,   0.665,2,   0.377,2,  2313.5,2,  2614.7,2,   7.9647,2,    25.00,-999.000,9,-999.000,   1.8700,2,    1.38,2, -999.00,9,  -999.0,9,  -999.0,   7.400,2,    0.15,      65.80,2
06MT20110405,     MedSea,     298,          1,     209867,         13,2,20110412,       0623,    34.5000,    24.3330,       3328,   508.4,  14.1828,  38.8786,2,    187.2,2,   187.9,2,    5.87,2,    5.02,2,    0.01,2,    0.20,2,   0.797,2,   0.534,2,  2316.1,2,  2618.7,2,   7.9621,2,    25.00,-999.000,9,-999.000,   1.8800,2,    1.60,2, -999.00,9,  -999.0,9,  -999.0,   7.500,2,    0.14,      67.90,2
06MT20110405,     MedSea,     298,          1,     209868,         14,2,20110412,       0626,    34.5000,    24.3330,       3328,   406.7,  14.4347,  38.9332,2,    190.6,2,   191.9,2,    4.95,2,    4.62,2,    0.01,2,    0.16,2,   0.929,2,   0.637,2,  2318.3,2,  2621.0,2,   7.9592,2,    25.00,-999.000,9,-999.000,-999.0000,9, -999.00,9, -999.00,9,  -999.0,9,  -999.0,-999.000,9, -999.00,      68.30,2
06MT20110405,     MedSea,     298,          1,     209869,         15,2,20110412,       0628,    34.5000,    24.3330,       3328,   305.8,  14.6645,  38.9777,2,    192.7,2,   192.6,2,    4.28,2,    4.38,2,    0.01,2,    0.14,2,   1.051,2,   0.737,2,  2318.3,2,  2619.9,2,   7.9615,2,    25.00,-999.000,9,-999.000,   1.8300,2,    1.65,2, -999.00,9,  -999.0,9,  -999.0,   7.350,2,    0.11,      64.50,2
06MT20110405,     MedSea,     298,          1,     209870,         16,2,20110412,       0630,    34.5000,    24.3330,       3328,   255.2,  14.8856,  39.0147,2,    194.9,2,   196.1,2,    3.73,2,    4.10,2,    0.00,2,    0.11,2,   1.112,2,   0.789,2,  2318.2,2,  2622.2,2,   7.9626,2,    25.00,-999.000,9,-999.000,   1.8500,2,    0.50,2, -999.00,9,  -999.0,9,  -999.0,   7.450,2,    0.15,      64.00,2
06MT20110405,     MedSea,     298,          1,     209871,         17,2,20110412,       0631,    34.5000,    24.3330,       3328,   255.5,  14.8894,  39.0146,2,    194.3,2,  -999.0,9, -999.00,9, -999.00,9, -999.00,9, -999.00,9,-999.000,9,-999.000,9,  -999.0,9,  -999.0,9,-999.0000,9,  -999.00,-999.000,9,-999.000,-999.0000,9, -999.00,9, -999.00,9,  -999.0,9,  -999.0,-999.000,9, -999.00,     -999.0,9
06MT20110405,     MedSea,     298,          1,     209872,         18,2,20110412,       0632,    34.5000,    24.3330,       3328,   204.7,  15.2382,  39.0655,2,    196.3,2,   197.4,2,    3.04,2,    3.58,2,    0.01,2,    0.09,2,   1.161,2,   0.846,2,  2316.8,2,  2624.6,2,   7.9653,2,    25.00,-999.000,9,-999.000,-999.0000,9, -999.00,9, -999.00,9,  -999.0,9,  -999.0,-999.000,9, -999.00,      58.30,2
06MT20110405,     MedSea,     298,          1,     209873,         19,2,20110412,       0634,    34.5000,    24.3330,       3328,   154.7,  15.5758,  39.1059,2,    199.4,2,   200.7,2,    2.35,2,    2.92,2,    0.01,2,    0.05,2,   1.258,2,    0.96,2,  2315.0,2,  2625.8,2,   7.9700,2,    25.00,-999.000,9,-999.000,-999.0000,9, -999.00,9, -999.00,9,  -999.0,9,  -999.0,-999.000,9, -999.00,      58.20,2
06MT20110405,     MedSea,     298,          1,     209874,         20,2,20110412,       0636,    34.5000,    24.3330,       3328,   104.1,  15.8381,  39.0293,2,    205.0,3,   218.2,3,    1.33,2,    1.60,2,    0.02,2,    0.01,2,   1.332,2,    1.15,2,  2309.6,2,  2619.1,2,   7.9709,2,    25.00,-999.000,9,-999.000,   1.7300,2,   -1.33,2, -999.00,9,  -999.0,9,  -999.0,   7.010,2,    0.49,      55.00,2
06MT20110405,     MedSea,     298,          1,     209875,         21,2,20110412,       0638,    34.5000,    24.3330,       3328,    53.0,  16.0944,  38.7035,2,    233.8,2,   234.8,2,    0.83,2,    0.05,2,    0.00,2,    0.01,2,   1.377,2,   1.211,2,  2267.3,2,  2591.4,2,   8.0012,2,    25.00,-999.000,9,-999.000,   1.7800,2,   -1.00,2, -999.00,9,  -999.0,9,  -999.0,   7.300,2,    0.15,      49.00,2
06MT20110405,     MedSea,     298,          1,     209876,         22,2,20110412,       0640,    34.5000,    24.3330,       3328,    27.5,  16.6049,  38.6766,2,    233.6,2,  -999.0,9, -999.00,9, -999.00,9, -999.00,9, -999.00,9,-999.000,9,-999.000,9,  -999.0,9,  -999.0,9,-999.0000,9,  -999.00,-999.000,9,-999.000,-999.0000,9, -999.00,9, -999.00,9,  -999.0,9,  -999.0,-999.000,9, -999.00,     -999.0,9
06MT20110405,     MedSea,     298,          1,     209877,         23,2,20110412,       0641,    34.5000,    24.3330,       3328,     7.4,  17.1219,  38.5789,2,    232.6,2,   235.7,2,    0.71,2,    0.00,2,    0.00,2,    0.00,2,   1.386,2,   1.267,2,  2250.6,2,  2573.5,2,   8.0007,2,    25.00,-999.000,9,-999.000,-999.0000,9, -999.00,9, -999.00,9,  -999.0,9,  -999.0,-999.000,9, -999.00,      51.40,2
06MT20110405,     MedSea,     298,          1,     209878,         24,2,20110412,       0641,    34.5000,    24.3330,       3328,     7.7,  17.1219,  38.5786,2,    233.4,2,  -999.0,9, -999.00,9, -999.00,9, -999.00,9, -999.00,9,-999.000,9,-999.000,9,  -999.0,9,  -999.0,9,-999.0000,9,  -999.00,-999.000,9,-999.000,-999.0000,9, -999.00,9, -999.00,9,  -999.0,9,  -999.0,-999.000,9, -999.00,     -999.0,9