BOTTLE,20170314CCHSIORJL
EXPOCODE,SECT_ID,STNNBR,CASTNO,BIONBR,BTLNBR,BTLNBR_FLAG_W,DATE,TIME,LATITUDE,LONGITUDE,DEPTH,CTDPRS,CTDTMP,CTDSAL,CTDSAL_FLAG_W,CTDOXY,CTDOXY_FLAG_W,OXYGEN,OXYGEN_FLAG_W,SILCAT,SILCAT_FLAG_W,NITRAT,NITRAT_FLAG_W,NITRIT,NITRIT_FLAG_W,PHSPHT,PHSPHT_FLAG_W,CFC-12,CFC-12_FLAG_W,SF6,SF6_FLAG_W,TCARBN,TCARBN_FLAG_W,ALKALI,ALKALI_FLAG_W,PH_TOT,PH_TOT_FLAG_W,PH_TMP,TRITUM,TRITUM_FLAG_W,TRITER,HELIUM,HELIUM_FLAG_W,DELHE3,DELHE3_FLAG_W,DELC13,DELC13_FLAG_W,DELC14,DELC14_FLAG_W,C14ERR,NEON,NEON_FLAG_W,DELHER,BARIUM,BARIUM_FLAG_W
,,,,,,,,,,,METERS,DBAR,ITS-90,PSS-78,,UMOL/KG,,UMOL/KG,,UMOL/KG,,UMOL/KG,,UMOL/KG,,UMOL/KG,,PMOL/KG,,FMOL/KG,,UMOL/KG,,UMOL/KG,,,,DEG C,TU,,TU,NMOL/KG,,PERCNT,,/MILLE,,/MILLE,,/MILLE,NMOL/KG,,PERCNT,UM/KG,
06MT20110405,     MedSea,     344,          1,     213515,          1,2,20110426,       0451,    36.7500,    -8.0000,        709,   698.6,  13.3432,  36.5010,2,    194.3,2,  -999.0,9, -999.00,9, -999.00,9, -999.00,9, -999.00,9,-999.000,9,-999.000,9,  -999.0,9,  -999.0,9,-999.0000,9,  -999.00,-999.000,9,-999.000,-999.0000,9, -999.00,9, -999.00,9,  -999.0,9,  -999.0,-999.000,9, -999.00,     -999.0,9
06MT20110405,     MedSea,     344,          1,     213516,          2,2,20110426,       0451,    36.7500,    -8.0000,        709,   698.4,  13.3432,  36.5010,2,    194.5,2,  -999.0,9, -999.00,9, -999.00,9, -999.00,9, -999.00,9,-999.000,9,-999.000,9,  -999.0,9,  -999.0,9,-999.0000,9,  -999.00,-999.000,9,-999.000,-999.0000,9, -999.00,9, -999.00,9,  -999.0,9,  -999.0,-999.000,9, -999.00,     -999.0,9
06MT20110405,     MedSea,     344,          1,     213517,          3,2,20110426,       0451,    36.7500,    -8.0000,        709,   698.8,  13.3429,  36.5010,2,    194.5,2,  -999.0,9, -999.00,9, -999.00,9, -999.00,9, -999.00,9,-999.000,9,-999.000,9,  -999.0,9,  -999.0,9,-999.0000,9,  -999.00,-999.000,9,-999.000,-999.0000,9, -999.00,9, -999.00,9,  -999.0,9,  -999.0,-999.000,9, -999.00,     -999.0,9
06MT20110405,     MedSea,     344,          1,     213518,          4,2,20110426,       0451,    36.7500,    -8.0000,        709,   698.6,  13.3430,  36.5010,2,    194.8,2,  -999.0,9, -999.00,9, -999.00,9, -999.00,9, -999.00,9,-999.000,9,-999.000,9,  -999.0,9,  -999.0,9,-999.0000,9,  -999.00,-999.000,9,-999.000,-999.0000,9, -999.00,9, -999.00,9,  -999.0,9,  -999.0,-999.000,9, -999.00,     -999.0,9
06MT20110405,     MedSea,     344,          1,     213519,          5,2,20110426,       0451,    36.7500,    -8.0000,        709,   698.6,  13.3429,  36.5010,2,    194.8,2,  -999.0,9, -999.00,9, -999.00,9, -999.00,9, -999.00,9,-999.000,9,-999.000,9,  -999.0,9,  -999.0,9,-999.0000,9,  -999.00,-999.000,9,-999.000,-999.0000,9, -999.00,9, -999.00,9,  -999.0,9,  -999.0,-999.000,9, -999.00,     -999.0,9
06MT20110405,     MedSea,     344,          1,     213520,          6,2,20110426,       0451,    36.7500,    -8.0000,        709,   698.7,  13.3434,  36.5010,2,    194.9,2,  -999.0,9, -999.00,9, -999.00,9, -999.00,9, -999.00,9,-999.000,9,-999.000,9,  2193.3,6,  2410.0,6,-999.0000,9,  -999.00,-999.000,9,-999.000,-999.0000,9, -999.00,9, -999.00,9,  -999.0,9,  -999.0,-999.000,9, -999.00,     -999.0,9
06MT20110405,     MedSea,     344,          1,     213521,          7,2,20110426,       0451,    36.7500,    -8.0000,        709,   698.5,  13.3432,  36.5010,2,    195.0,2,  -999.0,9, -999.00,9, -999.00,9, -999.00,9, -999.00,9,-999.000,9,-999.000,9,  -999.0,9,  -999.0,9,-999.0000,9,  -999.00,-999.000,9,-999.000,-999.0000,9, -999.00,9, -999.00,9,  -999.0,9,  -999.0,-999.000,9, -999.00,     -999.0,9
06MT20110405,     MedSea,     344,          1,     213522,          8,2,20110426,       0451,    36.7500,    -8.0000,        709,   698.6,  13.3433,  36.5010,2,    194.6,2,  -999.0,9, -999.00,9, -999.00,9, -999.00,9, -999.00,9,-999.000,9,-999.000,9,  -999.0,9,  -999.0,9,-999.0000,9,  -999.00,-999.000,9,-999.000,-999.0000,9, -999.00,9, -999.00,9,  -999.0,9,  -999.0,-999.000,9, -999.00,     -999.0,9
06MT20110405,     MedSea,     344,          1,     213523,          9,2,20110426,       0452,    36.7500,    -8.0000,        709,   698.8,  13.3434,  36.5010,2,    194.6,2,  -999.0,9, -999.00,9, -999.00,9, -999.00,9, -999.00,9,-999.000,9,-999.000,9,  -999.0,9,  -999.0,9,-999.0000,9,  -999.00,-999.000,9,-999.000,-999.0000,9, -999.00,9, -999.00,9,  -999.0,9,  -999.0,-999.000,9, -999.00,     -999.0,9
06MT20110405,     MedSea,     344,          1,     213524,         10,2,20110426,       0452,    36.7500,    -8.0000,        709,   698.4,  13.3431,  36.5010,2,    194.2,2,  -999.0,9, -999.00,9, -999.00,9, -999.00,9, -999.00,9,-999.000,9,-999.000,9,  -999.0,9,  -999.0,9,-999.0000,9,  -999.00,-999.000,9,-999.000,-999.0000,9, -999.00,9, -999.00,9,  -999.0,9,  -999.0,-999.000,9, -999.00,     -999.0,9
06MT20110405,     MedSea,     344,          1,     213525,         11,2,20110426,       0452,    36.7500,    -8.0000,        709,   698.8,  13.3429,  36.5010,2,    194.5,2,   196.3,2,    4.13,2,   10.58,2,    0.02,2,    0.58,2,   1.378,2,-999.000,9,  2192.6,2,  2408.4,2,   7.8583,2,    25.00,-999.000,9,-999.000,-999.0000,9, -999.00,9,    0.63,2,    42.0,2,     0.3,-999.000,9, -999.00,      46.50,2
06MT20110405,     MedSea,     344,          1,     213526,         12,2,20110426,       0454,    36.7500,    -8.0000,        709,   607.7,  13.2053,  36.4494,2,    194.1,2,   196.9,2,    4.02,2,   10.78,2,    0.01,2,    0.62,2,   1.366,2,-999.000,9,  2190.1,2,  2405.3,2,   7.8487,2,    25.00,-999.000,9,-999.000,-999.0000,9, -999.00,9,    0.62,2,    29.8,2,     0.3,-999.000,9, -999.00,      53.70,2
06MT20110405,     MedSea,     344,          1,     213527,         13,2,20110426,       0458,    36.7500,    -8.0000,        709,   506.3,  12.7751,  35.9538,2,    194.5,2,   196.6,2,    4.01,2,   12.32,2,    0.01,2,    0.72,2,   1.412,2,-999.000,9,  2164.3,2,  2364.3,2,   7.8319,2,    25.00,-999.000,9,-999.000,-999.0000,9, -999.00,9,    0.58,2,    42.8,2,     0.3,-999.000,9, -999.00,      41.80,2
06MT20110405,     MedSea,     344,          1,     213528,         14,2,20110426,       0500,    36.7500,    -8.0000,        709,   405.4,  12.7483,  35.8203,2,    198.0,2,   197.1,2,    3.65,2,   12.42,2,    0.01,2,    0.74,2,   1.446,2,-999.000,9,  2157.1,2,  2354.4,2,   7.8270,2,    25.00,-999.000,9,-999.000,-999.0000,9, -999.00,9,    0.57,2,    38.3,2,     0.3,-999.000,9, -999.00,      39.40,2
06MT20110405,     MedSea,     344,          1,     213529,         15,2,20110426,       0503,    36.7500,    -8.0000,        709,   304.4,  13.4971,  35.8766,2,    203.5,2,   202.0,2,    2.79,2,   10.66,2,    0.01,2,    0.64,2,   1.514,2,-999.000,9,  2148.2,2,  2354.7,2,   7.8449,2,    25.00,-999.000,9,-999.000,-999.0000,9, -999.00,9, -999.00,9,  -999.0,9,  -999.0,-999.000,9, -999.00,      39.70,2
06MT20110405,     MedSea,     344,          1,     213530,         16,2,20110426,       0506,    36.7500,    -8.0000,        709,   253.3,  13.9363,  35.9400,2,    204.9,2,   204.8,2,    2.40,2,    9.43,2,    0.01,2,    0.57,2,   1.562,2,-999.000,9,  2143.1,2,  2357.1,2,   7.8730,2,    25.00,-999.000,9,-999.000,-999.0000,9, -999.00,9,    0.61,2,    46.3,2,     0.3,-999.000,9, -999.00,      41.00,2
06MT20110405,     MedSea,     344,          1,     213531,         17,2,20110426,       0507,    36.7500,    -8.0000,        709,   202.9,  14.7048,  36.0574,2,    205.8,2,   204.6,2,    2.03,2,    8.21,2,    0.01,2,    0.48,2,   1.495,2,-999.000,9,  2144.2,2,  2362.9,2,   7.8807,2,    25.00,-999.000,9,-999.000,-999.0000,9, -999.00,9,    0.66,2,    53.6,2,     0.3,-999.000,9, -999.00,      41.50,2
06MT20110405,     MedSea,     344,          1,     213532,         18,2,20110426,       0509,    36.7500,    -8.0000,        709,   152.3,  15.8121,  36.2623,2,    217.3,2,   214.1,2,    1.19,2,    5.08,2,    0.01,2,    0.31,2,   1.424,2,-999.000,9,  2129.7,2,  2375.1,2,   7.9286,2,    25.00,-999.000,9,-999.000,-999.0000,9, -999.00,9,    0.61,2,    56.0,2,     0.3,-999.000,9, -999.00,      40.40,2
06MT20110405,     MedSea,     344,          1,     213533,         19,2,20110426,       0511,    36.7500,    -8.0000,        709,   102.0,  16.3554,  36.3843,2,    228.0,3,   233.2,2,    0.50,2,    1.91,2,    0.03,2,    0.14,2,   1.447,2,-999.000,9,  2118.5,2,  2383.9,2,   7.9596,2,    25.00,-999.000,9,-999.000,-999.0000,9, -999.00,9,    0.88,2,    52.8,2,     0.3,-999.000,9, -999.00,      41.90,2
06MT20110405,     MedSea,     344,          1,     213534,         20,2,20110426,       0513,    36.7500,    -8.0000,        709,    76.6,  16.5400,  36.4031,2,    230.7,2,  -999.0,9,    0.44,2,    1.20,2,    0.16,2,    0.09,2,-999.000,9,-999.000,9,  2115.5,2,  2385.2,2,   7.9665,2,    25.00,-999.000,9,-999.000,-999.0000,9, -999.00,9,    0.87,2,    67.8,2,     0.4,-999.000,9, -999.00,      40.10,2
06MT20110405,     MedSea,     344,          1,     213535,         21,2,20110426,       0515,    36.7500,    -8.0000,        709,    51.6,  17.0792,  36.4243,2,    239.7,3,   243.1,2,    0.37,2,   -0.01,2,    0.01,2,    0.03,2,   1.419,2,-999.000,9,  2105.4,2,  2387.0,2,   7.9882,2,    25.00,-999.000,9,-999.000,-999.0000,9, -999.00,9,    1.09,2,    56.4,2,     0.3,-999.000,9, -999.00,      42.80,2
06MT20110405,     MedSea,     344,          1,     213536,         22,2,20110426,       0516,    36.7500,    -8.0000,        709,    26.9,  17.7028,  36.4292,2,    236.4,2,  -999.0,9,    0.31,2,   -0.01,2,    0.01,2,    0.02,2,-999.000,9,-999.000,9,  2102.8,2,  2386.2,2,   7.9902,2,    25.00,-999.000,9,-999.000,-999.0000,9, -999.00,9,    1.07,2,    52.6,2,     0.3,-999.000,9, -999.00,      38.40,2
06MT20110405,     MedSea,     344,          1,     213537,         23,2,20110426,       0518,    36.7500,    -8.0000,        709,     6.8,  18.1467,  36.4352,2,    234.1,2,   236.6,2,    0.31,2,   -0.02,2,    0.00,2,    0.01,2,   1.404,2,-999.000,9,  2107.8,2,  2387.5,6,   7.9916,2,    25.00,-999.000,9,-999.000,-999.0000,9, -999.00,9,    1.25,2,    59.4,2,     0.3,-999.000,9, -999.00,      38.60,2
06MT20110405,     MedSea,     344,          1,     213538,         24,2,20110426,       0518,    36.7500,    -8.0000,        709,     6.9,  18.1251,  36.4344,2,    234.0,2,  -999.0,9, -999.00,9, -999.00,9, -999.00,9, -999.00,9,-999.000,9,-999.000,9,  -999.0,9,  -999.0,9,-999.0000,9,  -999.00,-999.000,9,-999.000,-999.0000,9, -999.00,9, -999.00,9,  -999.0,9,  -999.0,-999.000,9, -999.00,     -999.0,9