BOTTLE,20170314CCHSIORJL
EXPOCODE,SECT_ID,STNNBR,CASTNO,BIONBR,BTLNBR,BTLNBR_FLAG_W,DATE,TIME,LATITUDE,LONGITUDE,DEPTH,CTDPRS,CTDTMP,CTDSAL,CTDSAL_FLAG_W,CTDOXY,CTDOXY_FLAG_W,OXYGEN,OXYGEN_FLAG_W,SILCAT,SILCAT_FLAG_W,NITRAT,NITRAT_FLAG_W,NITRIT,NITRIT_FLAG_W,PHSPHT,PHSPHT_FLAG_W,CFC-12,CFC-12_FLAG_W,SF6,SF6_FLAG_W,TCARBN,TCARBN_FLAG_W,ALKALI,ALKALI_FLAG_W,PH_TOT,PH_TOT_FLAG_W,PH_TMP,TRITUM,TRITUM_FLAG_W,TRITER,HELIUM,HELIUM_FLAG_W,DELHE3,DELHE3_FLAG_W,DELC13,DELC13_FLAG_W,DELC14,DELC14_FLAG_W,C14ERR,NEON,NEON_FLAG_W,DELHER,BARIUM,BARIUM_FLAG_W
,,,,,,,,,,,METERS,DBAR,ITS-90,PSS-78,,UMOL/KG,,UMOL/KG,,UMOL/KG,,UMOL/KG,,UMOL/KG,,UMOL/KG,,PMOL/KG,,FMOL/KG,,UMOL/KG,,UMOL/KG,,,,DEG C,TU,,TU,NMOL/KG,,PERCNT,,/MILLE,,/MILLE,,/MILLE,NMOL/KG,,PERCNT,UM/KG,
06MT20110405,     MedSea,     302,          1,     209945,          1,2,20110413,       1543,    35.0670,    20.3500,       3012,  2992.8,  13.9153,  38.7246,2,    193.4,2,   192.6,2,    6.72,2,    4.66,2,    0.01,2,    0.18,2,-999.000,9,-999.000,9,  2309.7,2,  2612.8,2,   7.9647,2,    25.00,-999.000,9,-999.000,-999.0000,9, -999.00,9, -999.00,9,  -999.0,9,  -999.0,-999.000,9, -999.00,      69.80,2
06MT20110405,     MedSea,     302,          1,     209946,          2,2,20110413,       1553,    35.0670,    20.3500,       3012,  2546.0,  13.8835,  38.7330,2,    192.8,2,   191.4,2,    6.71,2,    4.75,2,    0.00,2,    0.17,2,   0.629,2,   0.209,2,  2307.6,2,  2615.5,2,   7.9666,2,    25.00,-999.000,9,-999.000,-999.0000,9, -999.00,9, -999.00,9,  -999.0,9,  -999.0,-999.000,9, -999.00,      77.20,2
06MT20110405,     MedSea,     302,          1,     209947,          3,2,20110413,       1604,    35.0670,    20.3500,       3012,  2035.5,  13.8487,  38.7408,2,    190.0,2,   192.4,2,    6.82,2,    4.76,2,    0.01,2,    0.19,2,   0.535,2,   0.177,2,  2307.8,2,  2614.2,2,   7.9677,2,    25.00,-999.000,9,-999.000,-999.0000,9, -999.00,9, -999.00,9,  -999.0,9,  -999.0,-999.000,9, -999.00,      73.80,2
06MT20110405,     MedSea,     302,          1,     209948,          4,2,20110413,       1616,    35.0670,    20.3500,       3012,  1525.4,  13.8064,  38.7430,2,    184.9,2,   184.4,2,    7.27,2,    5.08,2,    0.01,2,    0.21,2,   0.457,2,   0.206,2,  2306.7,2,  2611.8,2,   7.9651,2,    25.00,-999.000,9,-999.000,-999.0000,9, -999.00,9, -999.00,9,  -999.0,9,  -999.0,-999.000,9, -999.00,      70.90,2
06MT20110405,     MedSea,     302,          1,     209949,          5,2,20110413,       1616,    35.0670,    20.3500,       3012,  1525.4,  13.8066,  38.7430,2,    185.2,2,  -999.0,9, -999.00,9, -999.00,9, -999.00,9, -999.00,9,-999.000,9,-999.000,9,  -999.0,9,  -999.0,9,-999.0000,9,  -999.00,-999.000,9,-999.000,-999.0000,9, -999.00,9, -999.00,9,  -999.0,9,  -999.0,-999.000,9, -999.00,     -999.0,9
06MT20110405,     MedSea,     302,          1,     209950,          6,2,20110413,       1617,    35.0670,    20.3500,       3012,  1525.5,  13.8067,  38.7430,2,    185.1,2,  -999.0,9, -999.00,9, -999.00,9, -999.00,9, -999.00,9,-999.000,9,-999.000,9,  -999.0,9,  -999.0,9,-999.0000,9,  -999.00,-999.000,9,-999.000,-999.0000,9, -999.00,9, -999.00,9,  -999.0,9,  -999.0,-999.000,9, -999.00,     -999.0,9
06MT20110405,     MedSea,     302,          1,     209951,          7,2,20110413,       1623,    35.0670,    20.3500,       3012,  1271.5,  13.8219,  38.7537,2,    182.9,2,   182.8,2,    7.15,2,    5.23,2,    0.01,2,    0.21,2,-999.000,9,-999.000,9,  2308.3,2,  2615.4,2,   7.9651,2,    25.00,-999.000,9,-999.000,-999.0000,9, -999.00,9, -999.00,9,  -999.0,9,  -999.0,-999.000,9, -999.00,      75.10,2
06MT20110405,     MedSea,     302,          1,     209952,          8,2,20110413,       1629,    35.0670,    20.3500,       3012,  1017.6,  13.9210,  38.7881,2,    182.2,2,   182.3,2,    6.63,2,    5.30,2,    0.00,2,    0.22,2,   0.575,2,   0.367,2,  2312.1,2,  2615.8,2,   7.9616,2,    25.00,-999.000,9,-999.000,-999.0000,9, -999.00,9, -999.00,9,  -999.0,9,  -999.0,-999.000,9, -999.00,      71.60,2
06MT20110405,     MedSea,     302,          1,     209953,          9,2,20110413,       1634,    35.0670,    20.3500,       3012,   814.1,  14.1560,  38.8499,2,    187.6,2,   186.8,2,    5.61,2,    4.95,2,    0.01,2,    0.20,2,   0.777,2,   0.488,2,  2316.5,2,  2620.1,2,   7.9585,2,    25.00,-999.000,9,-999.000,-999.0000,9, -999.00,9, -999.00,9,  -999.0,9,  -999.0,-999.000,9, -999.00,      64.40,2
06MT20110405,     MedSea,     302,          1,     209954,         10,2,20110413,       1639,    35.0670,    20.3500,       3012,   611.3,  14.5905,  38.9497,2,    195.4,2,   195.4,2,    3.75,2,    4.19,2,    0.01,2,    0.15,2,   1.138,2,   0.798,2,  2323.0,2,  2625.1,2,   7.9581,2,    25.00,-999.000,9,-999.000,-999.0000,9, -999.00,9, -999.00,9,  -999.0,9,  -999.0,-999.000,9, -999.00,      66.40,2
06MT20110405,     MedSea,     302,          1,     209955,         11,2,20110413,       1642,    35.0670,    20.3500,       3012,   509.6,  14.9391,  39.0019,2,    200.0,2,   198.2,2,    2.77,2,    3.63,2,    0.01,2,    0.12,2,   1.270,2,   0.899,2,  2323.5,2,  2629.7,2,   7.9593,2,    25.00,-999.000,9,-999.000,-999.0000,9, -999.00,9, -999.00,9,  -999.0,9,  -999.0,-999.000,9, -999.00,      57.10,2
06MT20110405,     MedSea,     302,          1,     209956,         12,2,20110413,       1644,    35.0670,    20.3500,       3012,   408.8,  15.3678,  39.0518,2,    203.0,2,   202.9,2,    1.99,2,    2.95,2,    0.01,2,    0.08,2,   1.361,2,   1.156,2,  2321.8,2,  2630.9,2,   7.9618,2,    25.00,-999.000,9,-999.000,-999.0000,9, -999.00,9, -999.00,9,  -999.0,9,  -999.0,-999.000,9, -999.00,      74.20,2
06MT20110405,     MedSea,     302,          1,     209957,         13,2,20110413,       1648,    35.0670,    20.3500,       3012,   307.4,  15.9196,  39.1162,2,    213.2,2,   214.1,2,    1.18,2,    1.59,2,    0.01,2,    0.03,2,   1.406,2,   1.262,2,  2317.8,2,  2638.8,2,   7.9817,2,    25.00,-999.000,9,-999.000,-999.0000,9, -999.00,9, -999.00,9,  -999.0,9,  -999.0,-999.000,9, -999.00,      56.20,2
06MT20110405,     MedSea,     302,          1,     209958,         14,2,20110413,       1649,    35.0670,    20.3500,       3012,   256.5,  16.0410,  39.1047,2,    212.8,2,   212.9,2,    1.16,2,    1.44,2,    0.01,2,    0.03,2,   1.402,2,   1.326,2,  2315.5,2,  2634.0,2,   7.9813,2,    25.00,-999.000,9,-999.000,-999.0000,9, -999.00,9, -999.00,9,  -999.0,9,  -999.0,-999.000,9, -999.00,      55.90,2
06MT20110405,     MedSea,     302,          1,     209959,         15,2,20110413,       1652,    35.0670,    20.3500,       3012,   205.8,  15.8876,  38.9731,2,    216.5,2,   217.8,2,    0.82,2,    1.23,2,    0.02,2,    0.02,2,   1.445,2,   1.321,2,  2312.9,2,  2631.6,2,   7.9812,2,    25.00,-999.000,9,-999.000,-999.0000,9, -999.00,9, -999.00,9,  -999.0,9,  -999.0,-999.000,9, -999.00,      53.50,2
06MT20110405,     MedSea,     302,          1,     209960,         16,2,20110413,       1654,    35.0670,    20.3500,       3012,   155.6,  15.9478,  38.9209,2,    229.1,2,   229.6,2,    0.74,2,    0.43,2,    0.14,2,    0.01,2,   1.430,2,    1.39,2,  2296.8,2,  2621.8,2,   8.0001,2,    25.00,-999.000,9,-999.000,-999.0000,9, -999.00,9, -999.00,9,  -999.0,9,  -999.0,-999.000,9, -999.00,      51.70,2
06MT20110405,     MedSea,     302,          1,     209961,         17,2,20110413,       1656,    35.0670,    20.3500,       3012,   105.8,  15.9744,  38.9100,2,    230.5,2,   231.9,2,    0.71,2,    0.21,2,    0.07,2,    0.00,2,   1.440,2,   1.376,2,  2295.5,2,  2623.4,2,   8.0027,2,    25.00,-999.000,9,-999.000,-999.0000,9, -999.00,9, -999.00,9,  -999.0,9,  -999.0,-999.000,9, -999.00,      60.20,2
06MT20110405,     MedSea,     302,          1,     209962,         18,2,20110413,       1658,    35.0670,    20.3500,       3012,    79.9,  16.0278,  38.9077,2,    233.9,2,  -999.0,9, -999.00,9, -999.00,9, -999.00,9, -999.00,9,-999.000,9,-999.000,9,  -999.0,9,  -999.0,9,-999.0000,9,  -999.00,-999.000,9,-999.000,-999.0000,9, -999.00,9, -999.00,9,  -999.0,9,  -999.0,-999.000,9, -999.00,     -999.0,9
06MT20110405,     MedSea,     302,          1,     209963,         19,2,20110413,       1659,    35.0670,    20.3500,       3012,    54.5,  16.1149,  38.9001,2,    237.3,2,   238.0,2,    0.70,2,    0.01,2,    0.00,2,    0.00,2,   1.438,2,   1.386,2,  2289.1,2,  2623.6,2,   8.0088,2,    25.00,-999.000,9,-999.000,-999.0000,9, -999.00,9, -999.00,9,  -999.0,9,  -999.0,-999.000,9, -999.00,      61.90,2
06MT20110405,     MedSea,     302,          1,     209964,         20,2,20110413,       1701,    35.0670,    20.3500,       3012,    29.5,  16.3620,  38.8587,2,    237.6,2,   236.1,2,    0.73,2,    0.00,2,    0.01,2,    0.00,2,-999.000,9,-999.000,9,  2284.0,2,  2618.4,2,   8.0085,2,    25.00,-999.000,9,-999.000,-999.0000,9, -999.00,9, -999.00,9,  -999.0,9,  -999.0,-999.000,9, -999.00,      52.20,2
06MT20110405,     MedSea,     302,          1,     209965,         21,2,20110413,       1703,    35.0670,    20.3500,       3012,     9.3,  17.3352,  38.7571,2,    234.5,2,   236.5,2,    0.76,2,    0.01,2,    0.01,2,    0.00,2,   1.418,2,   1.375,2,  2273.2,2,  2601.0,2,   8.0051,2,    25.00,-999.000,9,-999.000,-999.0000,9, -999.00,9, -999.00,9,  -999.0,9,  -999.0,-999.000,9, -999.00,      50.60,2
06MT20110405,     MedSea,     302,          1,     -999.0,         22,2,20110413,       1703,    35.0670,    20.3500,       3012,     9.3,  17.3914,  38.7571,2,    234.4,2,  -999.0,9, -999.00,9, -999.00,9, -999.00,9, -999.00,9,-999.000,9,-999.000,9,  -999.0,9,  -999.0,9,-999.0000,9,  -999.00,-999.000,9,-999.000,-999.0000,9, -999.00,9, -999.00,9,  -999.0,9,  -999.0,-999.000,9, -999.00,     -999.0,9
06MT20110405,     MedSea,     302,          1,     -999.0,         23,2,20110413,       1703,    35.0670,    20.3500,       3012,     9.2,  17.3862,  38.7502,2,    235.2,2,  -999.0,9, -999.00,9, -999.00,9, -999.00,9, -999.00,9,-999.000,9,-999.000,9,  -999.0,9,  -999.0,9,-999.0000,9,  -999.00,-999.000,9,-999.000,-999.0000,9, -999.00,9, -999.00,9,  -999.0,9,  -999.0,-999.000,9, -999.00,     -999.0,9
06MT20110405,     MedSea,     302,          1,     209966,         24,2,20110413,       1703,    35.0670,    20.3500,       3012,     9.1,  17.3769,  38.7447,2,    233.7,2,  -999.0,9, -999.00,9, -999.00,9, -999.00,9, -999.00,9,-999.000,9,-999.000,9,  -999.0,9,  -999.0,9,-999.0000,9,  -999.00,-999.000,9,-999.000,-999.0000,9, -999.00,9, -999.00,9,  -999.0,9,  -999.0,-999.000,9, -999.00,     -999.0,9