BOTTLE,20170314CCHSIORJL
EXPOCODE,SECT_ID,STNNBR,CASTNO,BIONBR,BTLNBR,BTLNBR_FLAG_W,DATE,TIME,LATITUDE,LONGITUDE,DEPTH,CTDPRS,CTDTMP,CTDSAL,CTDSAL_FLAG_W,CTDOXY,CTDOXY_FLAG_W,OXYGEN,OXYGEN_FLAG_W,SILCAT,SILCAT_FLAG_W,NITRAT,NITRAT_FLAG_W,NITRIT,NITRIT_FLAG_W,PHSPHT,PHSPHT_FLAG_W,CFC-12,CFC-12_FLAG_W,SF6,SF6_FLAG_W,TCARBN,TCARBN_FLAG_W,ALKALI,ALKALI_FLAG_W,PH_TOT,PH_TOT_FLAG_W,PH_TMP,TRITUM,TRITUM_FLAG_W,TRITER,HELIUM,HELIUM_FLAG_W,DELHE3,DELHE3_FLAG_W,DELC13,DELC13_FLAG_W,DELC14,DELC14_FLAG_W,C14ERR,NEON,NEON_FLAG_W,DELHER,BARIUM,BARIUM_FLAG_W
,,,,,,,,,,,METERS,DBAR,ITS-90,PSS-78,,UMOL/KG,,UMOL/KG,,UMOL/KG,,UMOL/KG,,UMOL/KG,,UMOL/KG,,PMOL/KG,,FMOL/KG,,UMOL/KG,,UMOL/KG,,,,DEG C,TU,,TU,NMOL/KG,,PERCNT,,/MILLE,,/MILLE,,/MILLE,NMOL/KG,,PERCNT,UM/KG,
06MT20110405,     MedSea,     300,          1,     209901,          1,2,20110412,       2307,    35.7500,    22.4670,       4590,  4579.6,  14.2250,  38.7389,2,    190.8,2,   191.7,2,    6.73,2,    4.51,2,    0.01,2,    0.19,2,   0.719,2,   0.286,2,  2308.6,2,  2612.9,2,   7.9687,2,    25.00,-999.000,9,-999.000,   1.9200,2,    3.63,2, -999.00,9,  -999.0,9,  -999.0,   7.450,2,    0.41,      87.90,2
06MT20110405,     MedSea,     300,          1,     209902,          2,2,20110412,       2311,    35.7500,    22.4670,       4590,  4483.3,  14.2075,  38.7390,2,    191.4,2,   191.8,2,    6.85,2,    4.53,2,    0.00,2,    0.16,2,   0.720,2,   0.191,2,  2309.1,2,  2613.4,2,   7.9669,2,    25.00,-999.000,9,-999.000,   1.8900,2,    4.31,2, -999.00,9,  -999.0,9,  -999.0,   7.400,2,    0.29,      74.50,2
06MT20110405,     MedSea,     300,          1,     209903,          3,2,20110412,       2322,    35.7500,    22.4670,       4590,  4073.5,  14.1303,  38.7427,2,    194.2,2,   192.8,2,    6.75,2,    4.50,2,    0.02,2,    0.16,2,   0.719,2,   0.287,2,  2308.1,2,  2613.3,2,   7.9662,2,    25.00,-999.000,9,-999.000,   1.9300,2,    4.94,2, -999.00,9,  -999.0,9,  -999.0,   7.600,2,    0.82,      76.50,2
06MT20110405,     MedSea,     300,          1,     209904,          4,2,20110412,       2334,    35.7500,    22.4670,       4590,  3561.6,  14.0399,  38.7382,2,    195.3,2,   191.9,2,    6.75,2,    4.52,2,    0.01,2,    0.16,2,   0.703,2,   0.292,2,  2307.4,2,  2613.2,2,   7.9686,2,    25.00,-999.000,9,-999.000,   1.9000,2,    4.92,2, -999.00,9,  -999.0,9,  -999.0,   7.450,2,    0.29,      73.50,2
06MT20110405,     MedSea,     300,          1,     209905,          5,2,20110412,       2347,    35.7500,    22.4670,       4590,  3051.1,  13.9546,  38.7400,2,    194.9,2,   191.5,2,    6.73,2,    4.53,2,    0.01,2,    0.15,2,   0.679,2,   0.285,2,  2306.9,2,  2612.8,2,   7.9686,2,    25.00,-999.000,9,-999.000,   1.5900,2,    6.36,2, -999.00,9,  -999.0,9,  -999.0,   6.410,2,    0.45,      74.50,2
06MT20110405,     MedSea,     300,          1,     209906,          6,2,20110412,       2359,    35.7500,    22.4670,       4590,  2541.8,  13.8946,  38.7438,2,   -999.0,9,   190.1,2,    6.75,2,    4.52,2,    0.00,2,    0.16,2,-999.000,9,-999.000,9,  2306.4,2,  2612.9,2,   7.9690,2,    25.00,-999.000,9,-999.000,   1.7500,2,    5.26,2, -999.00,9,  -999.0,9,  -999.0,   7.010,2,    0.32,      71.90,2
06MT20110405,     MedSea,     300,          1,     209907,          7,2,20110412,       0012,    35.7500,    22.4670,       4590,  2032.1,  13.8600,  38.7516,2,   -999.0,9,   188.1,2,    6.99,2,    4.66,2,    0.01,2,    0.17,2,   0.624,2,   0.269,2,  2305.7,2,  2614.2,2,   7.9684,2,    25.00,-999.000,9,-999.000,-999.0000,9, -999.00,9, -999.00,9,  -999.0,9,  -999.0,-999.000,9, -999.00,      90.10,2
06MT20110405,     MedSea,     300,          1,     209908,          8,2,20110412,       0025,    35.7500,    22.4670,       4590,  1523.9,  13.8415,  38.7615,2,    186.7,2,   190.1,3,    7.39,2,    4.83,2,    0.01,2,    0.18,2,   0.560,2,   0.276,2,  2306.1,2,  2612.4,2,   7.9683,2,    25.00,-999.000,9,-999.000,-999.0000,9, -999.00,9, -999.00,9,  -999.0,9,  -999.0,-999.000,9, -999.00,      70.30,2
06MT20110405,     MedSea,     300,          1,     209909,          9,2,20110412,       0032,    35.7500,    22.4670,       4590,  1270.5,  13.8090,  38.7861,2,    184.3,2,   182.4,2,    7.30,2,    4.98,2,    0.00,2,    0.20,2,   0.478,2,   0.264,2,  2305.9,2,  2612.9,2,   7.9676,2,    25.00,-999.000,9,-999.000,   1.9100,2,    2.84,2, -999.00,9,  -999.0,9,  -999.0,   7.450,2,    0.34,      80.50,2
06MT20110405,     MedSea,     300,          1,     209910,         10,2,20110412,       0039,    35.7500,    22.4670,       4590,  1017.1,  13.9405,  38.8022,2,    184.6,2,  -999.0,9, -999.00,9, -999.00,9, -999.00,9, -999.00,9,-999.000,9,-999.000,9,  -999.0,9,  -999.0,9,-999.0000,9,  -999.00,-999.000,9,-999.000,-999.0000,9, -999.00,9, -999.00,9,  -999.0,9,  -999.0,-999.000,9, -999.00,     -999.0,9
06MT20110405,     MedSea,     300,          1,     209911,         11,2,20110412,       0045,    35.7500,    22.4670,       4590,   814.8,  14.1258,  38.8541,2,    187.4,2,   184.8,2,    5.89,2,    4.84,2,    0.00,2,    0.18,2,   0.755,2,   0.505,2,  2314.2,2,  2618.8,2,   7.9600,2,    25.00,-999.000,9,-999.000,   1.6900,2,    3.25,2, -999.00,9,  -999.0,9,  -999.0,   6.860,2,    0.15,      77.50,2
06MT20110405,     MedSea,     300,          1,     209912,         12,2,20110412,       0051,    35.7500,    22.4670,       4590,   612.9,  14.8859,  39.0577,2,    206.8,2,   204.1,2,    3.07,2,    3.01,2,    0.00,3,    0.10,2,   1.345,2,    1.13,2,  2325.6,2,  2634.8,2,   7.9718,2,    25.00,-999.000,9,-999.000,   1.8500,2,    0.11,2, -999.00,9,  -999.0,9,  -999.0,   7.450,2,    0.20,      63.10,2
06MT20110405,     MedSea,     300,          1,     209913,         13,2,20110412,       0055,    35.7500,    22.4670,       4590,   511.7,  15.2362,  39.1117,2,    209.7,2,   206.0,2,    2.32,2,    2.72,2,    0.01,3,    0.09,2,-999.000,9,-999.000,9,  2325.1,2,  2635.3,2,   7.9686,2,    25.00,-999.000,9,-999.000,   1.6800,2,   -0.31,2, -999.00,9,  -999.0,9,  -999.0,   6.910,2,    0.40,      55.30,2
06MT20110405,     MedSea,     300,          1,     209914,         14,2,20110412,       0058,    35.7500,    22.4670,       4590,   410.2,  15.3399,  39.1165,2,    208.0,2,   209.6,2,    1.87,2,    2.31,2,    0.02,3,    0.07,2,   1.456,2,   1.249,2,  2325.0,2,  2640.1,2,   7.9712,2,    25.00,-999.000,9,-999.000,   1.8000,2,   -0.87,2, -999.00,9,  -999.0,9,  -999.0,   7.300,2,    0.27,      58.10,2
06MT20110405,     MedSea,     300,          1,     209915,         15,2,20110412,       0103,    35.7500,    22.4670,       4590,   309.3,  15.6796,  39.1047,2,    220.6,2,   220.1,2,    1.25,2,    1.25,2,    0.02,2,    0.03,2,   1.453,2,   1.381,2,  2316.2,2,  2644.0,2,   7.9866,2,    25.00,-999.000,9,-999.000,   1.8400,2,   -1.36,2, -999.00,9,  -999.0,9,  -999.0,   7.500,2,    0.35,      52.80,2
06MT20110405,     MedSea,     300,          1,     209916,         16,2,20110412,       0105,    35.7500,    22.4670,       4590,   258.8,  15.8514,  39.1276,2,    219.6,2,   218.1,2,    1.20,2,    1.25,2,    0.02,2,    0.03,2,   1.440,2,   1.342,2,  2315.1,2,  2641.0,2,   7.9896,2,    25.00,-999.000,9,-999.000,   1.8200,2,   -1.32,2, -999.00,9,  -999.0,9,  -999.0,   7.300,2,    0.80,      53.50,2
06MT20110405,     MedSea,     300,          1,     209917,         17,2,20110412,       0108,    35.7500,    22.4670,       4590,   208.1,  15.8577,  39.0967,2,    226.8,2,  -999.0,9, -999.00,9, -999.00,9, -999.00,9, -999.00,9,-999.000,9,-999.000,9,  -999.0,9,  -999.0,9,-999.0000,9,  -999.00,-999.000,9,-999.000,-999.0000,9, -999.00,9, -999.00,9,  -999.0,9,  -999.0,-999.000,9, -999.00,     -999.0,9
06MT20110405,     MedSea,     300,          1,     209918,         18,2,20110412,       0110,    35.7500,    22.4670,       4590,   156.7,  16.0278,  39.1183,2,    228.9,2,   225.3,2,    0.88,2,    0.51,2,    0.18,2,    0.00,2,   1.444,2,   1.436,2,  2304.8,2,  2639.0,2,   8.0033,2,    25.00,-999.000,9,-999.000,-999.0000,9, -999.00,9, -999.00,9,  -999.0,9,  -999.0,-999.000,9, -999.00,      55.80,2
06MT20110405,     MedSea,     300,          1,     209919,         19,2,20110412,       0113,    35.7500,    22.4670,       4590,   108.2,  16.1117,  39.0611,2,    232.7,2,   232.9,2,    0.85,2,    0.26,2,    0.07,2,    0.00,2,   1.447,2,   1.395,2,  2301.0,3,  2636.6,2,   8.0058,2,    25.00,-999.000,9,-999.000,-999.0000,9, -999.00,9, -999.00,9,  -999.0,9,  -999.0,-999.000,9, -999.00,      61.50,2
06MT20110405,     MedSea,     300,          1,     209920,         20,2,20110412,       0115,    35.7500,    22.4670,       4590,    82.8,  16.0956,  38.9709,2,    235.0,2,   232.9,2,    0.78,2,    0.08,2,    0.03,2,    0.00,2,   1.439,2,    1.46,2,  2301.4,2,  2636.6,2,   8.0064,2,    25.00,-999.000,9,-999.000,-999.0000,9, -999.00,9, -999.00,9,  -999.0,9,  -999.0,-999.000,9, -999.00,      55.10,2
06MT20110405,     MedSea,     300,          1,     209921,         21,2,20110412,       0116,    35.7500,    22.4670,       4590,    57.4,  16.3601,  38.9526,2,    235.5,2,   234.9,2,    0.76,2,    0.01,2,    0.02,2,    0.00,2,   1.447,2,   1.424,2,  2296.3,2,  2632.3,2,   8.0041,2,    25.00,-999.000,9,-999.000,   1.7900,2,   -1.63,2, -999.00,9,  -999.0,9,  -999.0,   7.250,2,    0.52,      51.30,2
06MT20110405,     MedSea,     300,          1,     -999.0,         22,2,20110412,       0120,    35.7500,    22.4670,       4590,    12.8,  16.7982,  38.8773,2,    233.8,2,  -999.0,9, -999.00,9, -999.00,9, -999.00,9, -999.00,9,-999.000,9,-999.000,9,  -999.0,9,  -999.0,9,-999.0000,9,  -999.00,-999.000,9,-999.000,-999.0000,9, -999.00,9, -999.00,9,  -999.0,9,  -999.0,-999.000,9, -999.00,     -999.0,9
06MT20110405,     MedSea,     300,          1,     -999.0,         23,2,20110412,       0120,    35.7500,    22.4670,       4590,    12.8,  16.7969,  38.8773,2,    234.1,2,  -999.0,9, -999.00,9, -999.00,9, -999.00,9, -999.00,9,-999.000,9,-999.000,9,  -999.0,9,  -999.0,9,-999.0000,9,  -999.00,-999.000,9,-999.000,-999.0000,9, -999.00,9, -999.00,9,  -999.0,9,  -999.0,-999.000,9, -999.00,     -999.0,9
06MT20110405,     MedSea,     300,          1,     209922,         24,2,20110412,       0120,    35.7500,    22.4670,       4590,    12.8,  16.7909,  38.8773,2,    233.2,2,  -999.0,9, -999.00,9, -999.00,9, -999.00,9, -999.00,9,-999.000,9,-999.000,9,  -999.0,9,  -999.0,9,-999.0000,9,  -999.00,-999.000,9,-999.000,-999.0000,9, -999.00,9, -999.00,9,  -999.0,9,  -999.0,-999.000,9, -999.00,     -999.0,9