BOTTLE,20170314CCHSIORJL
# Change BEDFORD to BIONBR 
# Change CFC-12, SF6, & BARIUM empty fill values with flag 2 to flag 9
# BOTTLE,20170313PRINUNIVRMK 
# 8/23/2012 Initialized README file   
# Data source: T.Tanhua; data rcd 7/31/2012  
# SHIP: Meteor  
# Cruise: MT84_3  
# Region: Mediterranean Sea  
# EXPOCODE: 06MT20110405  
# DATES: 04/05 - 04/28/2011  
# Chief Scientist:T. Tanhua  
# 56 stations with 24 place Rosette  
# Hydro: Who - D.Hainbucher; Status - final  
# 	Notes: File contains only CTDSAL  
# 	See Tanhua et al. 2013  
# 	Revised 3/9/2017 after additional calibration  
# Nuts: Who - T.Tanhua; Status - final  
# 	Notes:  
# O2: Who - M.Alvarez; Status - final  
# 	Notes:  
# TCO2: Who - M.Alvarez/L.Mintrop; Status - final  
# 	Notes:   
# TA: Who - M.Alvarez; Status - final  
# 	Notes:   
# pH: Who - M.Alvarez; Status - final  
# 	Notes:Total H+ scale at 25C  
# CFC: Who - T.Tanhua; Status - final  
# 	Notes: includes SF6 but no CFC11  
# 	revised flags 3/9/2017  
# C14: Who - R.Key;A.McNichol; Status - final  
# 	Notes:   
# H3/He3: Who - T.Tanhua;E.Fourre; Status - final  
# 	Notes: analyzed by Sueltenfuss  
# Barium: Who - S.Schintu Jacquet; Status - final  
# 	Notes: Data rcd Sep. 17, 2015  
# 	See Jacquet et al. 2016.  
# Radium: Who - V. Rodellas; M. Feldman; Status - not yet completed  
# 	Notes: Extra LV casts, bottles not included here  
# Other: Neodymium (P.Montagna), mercury (E.Stathopoulou). No data in file  
# References:  
# Alvarez, M., Sanleon-Bartolome, H., Tanhua, T., Mintrop, L., Luchetta, A., Cantoni, C., Schroeder, K., and Civitarese, G., 2014. The CO2 system in the Mediterranean Sea: a basin wide perspective, Ocean Sci., 10, 69-92, doi:10.5194/os-10-69-2014.  
# Hainbucher, D., A. Rubino, V. Cardin, T. Tanhua, K. Schröder, M. Bensi, 2014. Hydrographic situation during M84/3 and P414, Ocean Science, 10, 669-682, doi:10.5194/os-10-669-2013.  
# Ovideo, A., P. Ziveri, M. Alvarez, T. Tanhua, 2015. Is coccolithophore distribution in the Mediterranean Sea related to seawater carbonate chemistry? Ocean Sci., 11, 13-33, doi:10.5194/os-11-13-2015.  
# Schneider, A., Tanhua, T., Roether, W., and Steinfeldt, R., 2014. Changes in ventilation of the Mediterranean Sea during the past 25 years, Ocean Sci., 10, 1-16, doi:10.5194/os-10-1-2014.  
# Stoven, T., and  Tanhua, T.: Ventilation of the Mediterranean Sea constrained by multiple transient tracer measurements, Ocean Sci., 10, 439-457, 10.5194/os-10-439-2014, 2014.  
# Tanhua, T., Hainbucher, D., Schroeder, K., Cardin, V., Álvarez, M., and Civitarese, G., 2013. The Mediterranean Sea system: a review and an introduction to the special issue, Ocean Sci., 9, 789-803, doi:10.5194/os-9-789-2013.  
# Tanhua, T.,  Hainbucher, D., Cardin, V., Alvarez, M., Civitarese, G., McNichol, A.P., Key, R.M., 2013. Repeat hydrography in the Mediterranean Sea, data from the Meteor cruise 84/3 in 2011, Earth System Science Data, 5, 289-294, doi:10.5194/essd-5-289-2013.  
# See also the special issue at  
# http://www.ocean-sci.net/special_issue45.html  
# Jacquet S.H.M., C. Monnin, V. Riou, L. Jullion and T. Tanhua, 2016. A high resolution and quasi-zonal transect of dissolved Ba in the Mediterranean Sea. Marine Chemistry, 178, 1-7, http://dx.doi.org/10.1016/j.marchem.2015.12.001.  
EXPOCODE,SECT_ID,STNNBR,CASTNO,BIONBR,BTLNBR,BTLNBR_FLAG_W,DATE,TIME,LATITUDE,LONGITUDE,DEPTH,CTDPRS,CTDTMP,CTDSAL,CTDSAL_FLAG_W,CTDOXY,CTDOXY_FLAG_W,OXYGEN,OXYGEN_FLAG_W,SILCAT,SILCAT_FLAG_W,NITRAT,NITRAT_FLAG_W,NITRIT,NITRIT_FLAG_W,PHSPHT,PHSPHT_FLAG_W,CFC-12,CFC-12_FLAG_W,SF6,SF6_FLAG_W,TCARBN,TCARBN_FLAG_W,ALKALI,ALKALI_FLAG_W,PH_TOT,PH_TOT_FLAG_W,PH_TMP,TRITUM,TRITUM_FLAG_W,TRITER,HELIUM,HELIUM_FLAG_W,DELHE3,DELHE3_FLAG_W,DELC13,DELC13_FLAG_W,DELC14,DELC14_FLAG_W,C14ERR,NEON,NEON_FLAG_W,DELHER,BARIUM,BARIUM_FLAG_W
,,,,,,,,,,,METERS,DBAR,ITS-90,PSS-78,,UMOL/KG,,UMOL/KG,,UMOL/KG,,UMOL/KG,,UMOL/KG,,UMOL/KG,,PMOL/KG,,FMOL/KG,,UMOL/KG,,UMOL/KG,,,,DEG C,TU,,TU,NMOL/KG,,PERCNT,,/MILLE,,/MILLE,,/MILLE,NMOL/KG,,PERCNT,UM/KG,
06MT20110405,     MedSea,     287,          1,     209617,          1,2,20110406,       1128,    37.6670,    25.6000,        819,   808.9,  14.5182,  39.0898,2,    205.8,2,  -999.0,9, -999.00,9, -999.00,9, -999.00,3, -999.00,9,-999.000,9,-999.000,9,  -999.0,9,  -999.0,9,-999.0000,9,  -999.00,-999.000,9,-999.000,-999.0000,9, -999.00,9, -999.00,9,  -999.0,9,  -999.0,-999.000,9, -999.00,     -999.0,9
06MT20110405,     MedSea,     287,          1,     209122,          2,2,20110406,       1128,    37.6670,    25.6000,        819,   808.9,  14.5175,  39.0898,2,    205.2,2,  -999.0,9, -999.00,9, -999.00,9, -999.00,3, -999.00,9,-999.000,9,-999.000,9,  -999.0,9,  -999.0,9,-999.0000,9,  -999.00,-999.000,9,-999.000,-999.0000,9, -999.00,9, -999.00,9,  -999.0,9,  -999.0,-999.000,9, -999.00,     -999.0,9
06MT20110405,     MedSea,     287,          1,     209618,          3,2,20110406,       1128,    37.6670,    25.6000,        819,   808.7,  14.5176,  39.0897,2,    205.9,2,  -999.0,9, -999.00,9, -999.00,9, -999.00,3, -999.00,9,-999.000,9,-999.000,9,  -999.0,9,  -999.0,9,-999.0000,9,  -999.00,-999.000,9,-999.000,   1.8600,2,    0.17,2, -999.00,9,  -999.0,9,  -999.0,   7.600,2,    0.15,     -999.0,9
06MT20110405,     MedSea,     287,          1,     209619,          4,2,20110406,       1128,    37.6670,    25.6000,        819,   808.8,  14.5173,  39.0898,2,    205.4,2,  -999.0,9, -999.00,9, -999.00,9, -999.00,3, -999.00,9,-999.000,9,-999.000,9,  -999.0,9,  -999.0,9,-999.0000,9,  -999.00,-999.000,9,-999.000,-999.0000,9, -999.00,9, -999.00,9,  -999.0,9,  -999.0,-999.000,9, -999.00,     -999.0,9
06MT20110405,     MedSea,     287,          1,     209620,          5,2,20110406,       1132,    37.6670,    25.6000,        819,   708.7,  14.5241,  39.0907,2,    206.5,2,   210.6,2,    2.46,2,    1.09,3,    0.10,3,    0.06,2,   1.515,2,   1.326,2,  -999.0,9,  2644.6,2,   7.9607,2,    25.00,-999.000,9,-999.000,-999.0000,9, -999.00,9, -999.00,9,  -999.0,9,  -999.0,-999.000,9, -999.00,      50.30,2
06MT20110405,     MedSea,     287,          1,     209621,          6,2,20110406,       1135,    37.6670,    25.6000,        819,   608.9,  14.5784,  39.0933,2,    207.8,2,  -999.0,9, -999.00,9, -999.00,9, -999.00,3, -999.00,9,-999.000,9,-999.000,9,  -999.0,9,  -999.0,9,-999.0000,9,  -999.00,-999.000,9,-999.000,   1.8300,2,    0.44,2, -999.00,9,  -999.0,9,  -999.0,   7.500,2,    0.17,     -999.0,9
06MT20110405,     MedSea,     287,          1,     209622,          7,2,20110406,       1139,    37.6670,    25.6000,        819,   507.9,  14.7253,  39.0948,2,    207.8,2,   210.4,2, -999.00,9, -999.00,9, -999.00,3, -999.00,9,-999.000,9,-999.000,9,  -999.0,9,  2647.3,2,   7.9631,2,    25.00,-999.000,9,-999.000,-999.0000,9, -999.00,9, -999.00,9,  -999.0,9,  -999.0,-999.000,9, -999.00,      62.00,2
06MT20110405,     MedSea,     287,          1,     209623,          8,2,20110406,       1139,    37.6670,    25.6000,        819,   508.0,  14.7270,  39.0948,2,    208.6,2,  -999.0,9, -999.00,9, -999.00,9, -999.00,3, -999.00,9,-999.000,9,-999.000,9,  -999.0,9,  -999.0,9,-999.0000,9,  -999.00,-999.000,9,-999.000,-999.0000,9, -999.00,9, -999.00,9,  -999.0,9,  -999.0,-999.000,9, -999.00,     -999.0,9
06MT20110405,     MedSea,     287,          1,     209624,          9,2,20110406,       1145,    37.6670,    25.6000,        819,   356.6,  15.2018,  39.0905,2,    214.2,2,   216.0,2,    1.93,2,    1.90,2,   -0.04,3,    0.08,2,   1.421,2,   1.437,2,  -999.0,9,  2644.6,2,   7.9720,2,    25.00,-999.000,9,-999.000,   1.8200,2,   -0.47,2, -999.00,9,  -999.0,9,  -999.0,   7.400,2,    0.14,      54.10,2
06MT20110405,     MedSea,     287,          1,     209625,         10,2,20110406,       1147,    37.6670,    25.6000,        819,   305.8,  15.3631,  39.0820,2,    218.0,2,  -999.0,9, -999.00,9, -999.00,9, -999.00,3, -999.00,9,-999.000,9,-999.000,9,  -999.0,9,  -999.0,9,-999.0000,9,  -999.00,-999.000,9,-999.000,-999.0000,9, -999.00,9, -999.00,9,  -999.0,9,  -999.0,-999.000,9, -999.00,     -999.0,9
06MT20110405,     MedSea,     287,          1,     209626,         11,2,20110406,       1147,    37.6670,    25.6000,        819,   305.8,  15.3653,  39.0820,2,    219.1,2,  -999.0,9, -999.00,9, -999.00,9, -999.00,3, -999.00,9,   1.410,2,   1.474,2,  -999.0,9,  -999.0,9,-999.0000,9,  -999.00,-999.000,9,-999.000,-999.0000,9, -999.00,9, -999.00,9,  -999.0,9,  -999.0,-999.000,9, -999.00,     -999.0,9
06MT20110405,     MedSea,     287,          1,     209627,         12,2,20110406,       1150,    37.6670,    25.6000,        819,   255.4,  15.4137,  39.0815,2,    222.3,2,   226.6,2,    1.36,2,    1.18,2,   -0.03,3,    0.06,2,   1.410,2,   1.484,2,  -999.0,9,  2645.8,2,   7.9866,2,    25.00,-999.000,9,-999.000,   4.1200,2,   -0.69,3, -999.00,9,  -999.0,9,  -999.0,  15.300,2,    0.14,      55.00,2
06MT20110405,     MedSea,     287,          1,     209628,         13,2,20110406,       1152,    37.6670,    25.6000,        819,   204.8,  15.4634,  39.0867,2,    223.3,2,  -999.0,9,    1.30,2,    1.11,2,   -0.03,3,    0.03,2,-999.000,9,-999.000,9,  -999.0,9,  2646.0,2,   7.9886,2,    25.00,-999.000,9,-999.000,-999.0000,9, -999.00,9, -999.00,9,  -999.0,9,  -999.0,-999.000,9, -999.00,     -999.0,9
06MT20110405,     MedSea,     287,          1,     209629,         14,2,20110406,       1154,    37.6670,    25.6000,        819,   154.2,  15.4965,  39.0912,2,    228.3,2,   230.1,2,    1.18,2,    0.87,2,    0.05,3,    0.06,2,   1.446,2,   1.549,2,  -999.0,9,  2645.0,2,   7.9912,2,    25.00,-999.000,9,-999.000,-999.0000,9, -999.00,9, -999.00,9,  -999.0,9,  -999.0,-999.000,9, -999.00,      51.80,2
06MT20110405,     MedSea,     287,          1,     209630,         15,2,20110406,       1156,    37.6670,    25.6000,        819,   103.5,  15.6199,  39.1072,2,    230.0,2,   232.5,2,    1.06,2,    0.65,2,    0.04,3,    0.02,2,   1.429,2,   1.533,2,  -999.0,9,  2642.3,2,   8.0073,2,    25.00,-999.000,9,-999.000,   1.9700,2,   -0.90,2, -999.00,9,  -999.0,9,  -999.0,   7.890,2,    0.33,      51.60,2
06MT20110405,     MedSea,     287,          1,     209631,         16,2,20110406,       1157,    37.6670,    25.6000,        819,    77.2,  15.6823,  39.1099,2,    235.7,2,   237.8,2,    0.81,2,    0.17,2,   -0.01,3,    0.01,2,-999.000,9,-999.000,9,  -999.0,9,  2640.0,2,   8.0028,2,    25.00,-999.000,9,-999.000,   1.8400,2,   -1.42,2, -999.00,9,  -999.0,9,  -999.0,   7.500,2,    0.30,      55.80,2
06MT20110405,     MedSea,     287,          1,     209633,         17,2,20110406,       1158,    37.6670,    25.6000,        819,    52.7,  15.9434,  39.1190,2,    235.6,2,   233.9,2,    0.83,2,    0.13,2,   -0.01,3,    0.01,2,   1.409,2,    1.54,2,  -999.0,9,  2642.1,3,   8.0094,2,    25.00,-999.000,9,-999.000,   1.8500,2,   -1.74,2, -999.00,9,  -999.0,9,  -999.0,   7.550,2,    0.22,      53.30,2
06MT20110405,     MedSea,     287,          1,     209632,         18,2,20110406,       1200,    37.6670,    25.6000,        819,    26.8,  16.4165,  39.2058,2,    231.7,2,   237.7,2, -999.00,9, -999.00,9, -999.00,3, -999.00,9,-999.000,9,-999.000,9,  -999.0,9,  2632.8,2,   8.0046,2,    25.00,-999.000,9,-999.000,   1.7800,2,   -1.42,2, -999.00,9,  -999.0,9,  -999.0,   7.200,2,    0.30,      62.40,2
06MT20110405,     MedSea,     287,          1,     209634,         19,2,20110406,       1200,    37.6670,    25.6000,        819,    26.8,  16.4149,  39.2058,2,    232.5,2,  -999.0,9, -999.00,9, -999.00,9, -999.00,3, -999.00,9,   1.398,2,   1.411,3,  -999.0,9,  -999.0,9,-999.0000,9,  -999.00,-999.000,9,-999.000,-999.0000,9, -999.00,9, -999.00,9,  -999.0,9,  -999.0,-999.000,9, -999.00,     -999.0,9
06MT20110405,     MedSea,     287,          1,     209635,         20,2,20110406,       1201,    37.6670,    25.6000,        819,    13.0,  16.5908,  39.2203,2,    230.8,2,   233.6,2, -999.00,9, -999.00,9, -999.00,3, -999.00,9,-999.000,9,-999.000,9,  -999.0,9,  2630.8,2,   8.0084,2,    25.00,-999.000,9,-999.000,-999.0000,9, -999.00,9, -999.00,9,  -999.0,9,  -999.0,-999.000,9, -999.00,      56.60,2
06MT20110405,     MedSea,     287,          1,     209636,         21,2,20110406,       1202,    37.6670,    25.6000,        819,     7.4,  16.6003,  39.2219,2,    231.7,2,  -999.0,9, -999.00,9, -999.00,9, -999.00,3, -999.00,9,-999.000,9,-999.000,9,  -999.0,9,  -999.0,9,-999.0000,9,  -999.00,-999.000,9,-999.000,-999.0000,9, -999.00,9, -999.00,9,  -999.0,9,  -999.0,-999.000,9, -999.00,     -999.0,9
06MT20110405,     MedSea,     287,          1,     -999.0,         22,2,20110406,       1202,    37.6670,    25.6000,        819,     7.8,  16.6003,  39.2222,2,    230.4,2,  -999.0,9, -999.00,9, -999.00,9, -999.00,9, -999.00,9,-999.000,9,-999.000,9,  -999.0,9,  -999.0,9,-999.0000,9,  -999.00,-999.000,9,-999.000,-999.0000,9, -999.00,9, -999.00,9,  -999.0,9,  -999.0,-999.000,9, -999.00,     -999.0,9
06MT20110405,     MedSea,     287,          1,     -999.0,         23,2,20110406,       1202,    37.6670,    25.6000,        819,     7.4,  16.6009,  39.2219,2,    231.2,2,  -999.0,9, -999.00,9, -999.00,9, -999.00,9, -999.00,9,-999.000,9,-999.000,9,  -999.0,9,  -999.0,9,-999.0000,9,  -999.00,-999.000,9,-999.000,-999.0000,9, -999.00,9, -999.00,9,  -999.0,9,  -999.0,-999.000,9, -999.00,     -999.0,9
06MT20110405,     MedSea,     287,          1,     209637,         24,2,20110406,       1202,    37.6670,    25.6000,        819,     7.5,  16.6012,  39.2220,2,    230.7,2,  -999.0,9, -999.00,9, -999.00,9, -999.00,3, -999.00,9,-999.000,9,-999.000,9,  -999.0,9,  -999.0,9,-999.0000,9,  -999.00,-999.000,9,-999.000,-999.0000,9, -999.00,9, -999.00,9,  -999.0,9,  -999.0,-999.000,9, -999.00,     -999.0,9