BOTTLE,20170314CCHSIORJL
EXPOCODE,SECT_ID,STNNBR,CASTNO,BIONBR,BTLNBR,BTLNBR_FLAG_W,DATE,TIME,LATITUDE,LONGITUDE,DEPTH,CTDPRS,CTDTMP,CTDSAL,CTDSAL_FLAG_W,CTDOXY,CTDOXY_FLAG_W,OXYGEN,OXYGEN_FLAG_W,SILCAT,SILCAT_FLAG_W,NITRAT,NITRAT_FLAG_W,NITRIT,NITRIT_FLAG_W,PHSPHT,PHSPHT_FLAG_W,CFC-12,CFC-12_FLAG_W,SF6,SF6_FLAG_W,TCARBN,TCARBN_FLAG_W,ALKALI,ALKALI_FLAG_W,PH_TOT,PH_TOT_FLAG_W,PH_TMP,TRITUM,TRITUM_FLAG_W,TRITER,HELIUM,HELIUM_FLAG_W,DELHE3,DELHE3_FLAG_W,DELC13,DELC13_FLAG_W,DELC14,DELC14_FLAG_W,C14ERR,NEON,NEON_FLAG_W,DELHER,BARIUM,BARIUM_FLAG_W
,,,,,,,,,,,METERS,DBAR,ITS-90,PSS-78,,UMOL/KG,,UMOL/KG,,UMOL/KG,,UMOL/KG,,UMOL/KG,,UMOL/KG,,PMOL/KG,,FMOL/KG,,UMOL/KG,,UMOL/KG,,,,DEG C,TU,,TU,NMOL/KG,,PERCNT,,/MILLE,,/MILLE,,/MILLE,NMOL/KG,,PERCNT,UM/KG,
06MT20110405,     MedSea,     319,          1,     212270,          1,2,20110420,       0155,    40.3000,    11.3000,       2908,  2897.6,  13.4649,  38.5018,2,    188.0,2,  -999.0,9, -999.00,9, -999.00,9, -999.00,9, -999.00,9,-999.000,9,-999.000,9,  -999.0,9,  -999.0,9,-999.0000,9,  -999.00,-999.000,9,-999.000,-999.0000,9, -999.00,9, -999.00,9,  -999.0,9,  -999.0,-999.000,9, -999.00,     -999.0,9
06MT20110405,     MedSea,     319,          1,     212271,          2,2,20110420,       0156,    40.3000,    11.3000,       2908,  2897.6,  13.4646,  38.5018,2,    188.2,2,   186.4,2,    8.81,2,    7.58,2,    0.01,2,    0.40,2,   0.582,2,-999.000,9,  2317.5,2,  2589.5,2,   7.9098,2,    25.00,-999.000,9,-999.000,-999.0000,9, -999.00,9, -999.00,9,  -999.0,9,  -999.0,-999.000,9, -999.00,      70.50,2
06MT20110405,     MedSea,     319,          1,     212272,          3,2,20110420,       0159,    40.3000,    11.3000,       2908,  2800.2,  13.4556,  38.5039,2,    187.9,2,   186.1,2,    8.77,2,    7.55,2,    0.00,2,    0.40,2,   0.554,2,-999.000,9,  2317.3,2,  2589.9,2,   7.9101,2,    25.00,-999.000,9,-999.000,-999.0000,9, -999.00,9, -999.00,9,  -999.0,9,  -999.0,-999.000,9, -999.00,      73.60,2
06MT20110405,     MedSea,     319,          1,     212273,          4,2,20110420,       0206,    40.3000,    11.3000,       2908,  2545.1,  13.4533,  38.5146,2,    185.8,2,   186.9,2,    8.67,2,    7.41,2,    0.00,2,    0.39,2,   0.499,2,-999.000,9,  2316.2,2,  2590.4,2,   7.9106,2,    25.00,-999.000,9,-999.000,-999.0000,9, -999.00,9, -999.00,9,  -999.0,9,  -999.0,-999.000,9, -999.00,      71.50,2
06MT20110405,     MedSea,     319,          1,     212274,          5,2,20110420,       0213,    40.3000,    11.3000,       2908,  2289.8,  13.4256,  38.5197,2,    186.6,2,   184.7,2,    8.73,2,    7.36,2,    0.00,2,    0.40,2,   0.496,2,-999.000,9,  2316.3,2,  2591.8,2,   7.9219,2,    25.00,-999.000,9,-999.000,-999.0000,9, -999.00,9, -999.00,9,  -999.0,9,  -999.0,-999.000,9, -999.00,      69.50,2
06MT20110405,     MedSea,     319,          1,     212275,          6,2,20110420,       0219,    40.3000,    11.3000,       2908,  2034.2,  13.4496,  38.5392,2,    185.1,2,   183.9,2,    8.52,2,    7.21,2,    0.00,2,    0.40,2,   0.503,2,-999.000,9,  2316.7,2,  2594.9,2,   7.9232,2,    25.00,-999.000,9,-999.000,-999.0000,9, -999.00,9, -999.00,9,  -999.0,9,  -999.0,-999.000,9, -999.00,      72.90,2
06MT20110405,     MedSea,     319,          1,     212276,          7,2,20110420,       0225,    40.3000,    11.3000,       2908,  1779.3,  13.4153,  38.5415,2,    184.8,2,   183.8,2,    8.47,2,    7.18,2,    0.00,2,    0.39,2,   0.520,2,-999.000,9,  2316.1,2,  2594.1,2,   7.9246,2,    25.00,-999.000,9,-999.000,-999.0000,9, -999.00,9, -999.00,9,  -999.0,9,  -999.0,-999.000,9, -999.00,      74.80,2
06MT20110405,     MedSea,     319,          1,     212277,          8,2,20110420,       0232,    40.3000,    11.3000,       2908,  1524.1,  13.4917,  38.5727,2,    183.3,2,   182.6,2,    8.09,2,    6.97,2,    0.00,2,    0.37,2,   0.560,2,-999.000,9,  2317.5,2,  2597.9,2,   7.9268,2,    25.00,-999.000,9,-999.000,-999.0000,9, -999.00,9, -999.00,9,  -999.0,9,  -999.0,-999.000,9, -999.00,      72.60,2
06MT20110405,     MedSea,     319,          1,     212278,          9,2,20110420,       0238,    40.3000,    11.3000,       2908,  1270.0,  13.5540,  38.6007,2,    182.3,2,   180.6,2,    7.84,2,    6.94,2,    0.00,2,    0.37,2,   0.587,2,-999.000,9,  2316.9,2,  2600.1,2,   7.9288,2,    25.00,-999.000,9,-999.000,-999.0000,9, -999.00,9, -999.00,9,  -999.0,9,  -999.0,-999.000,9, -999.00,      67.20,2
06MT20110405,     MedSea,     319,          1,     212279,         10,2,20110420,       0244,    40.3000,    11.3000,       2908,  1016.2,  13.6839,  38.6442,2,    180.8,2,   179.3,2,    7.25,2,    6.57,2,    0.00,2,    0.35,2,   0.636,2,-999.000,9,  2319.4,2,  2603.7,2,   7.9300,2,    25.00,-999.000,9,-999.000,-999.0000,9, -999.00,9, -999.00,9,  -999.0,9,  -999.0,-999.000,9, -999.00,      69.60,2
06MT20110405,     MedSea,     319,          1,     212280,         11,2,20110420,       0250,    40.3000,    11.3000,       2908,   813.5,  13.7614,  38.6701,2,    179.4,2,   178.3,2,    6.97,2,    6.43,2,    0.00,2,    0.34,2,   0.686,2,-999.000,9,  2321.2,2,  2605.1,2,   7.9315,2,    25.00,-999.000,9,-999.000,-999.0000,9, -999.00,9, -999.00,9,  -999.0,9,  -999.0,-999.000,9, -999.00,      74.20,2
06MT20110405,     MedSea,     319,          1,     212281,         12,2,20110420,       0255,    40.3000,    11.3000,       2908,   609.5,  13.8700,  38.7005,2,    177.0,2,   175.5,2,    6.51,2,    6.38,2,    0.01,2,    0.33,2,   0.772,2,-999.000,9,  2322.8,2,  2607.6,2,   7.9315,2,    25.00,-999.000,9,-999.000,-999.0000,9, -999.00,9, -999.00,9,  -999.0,9,  -999.0,-999.000,9, -999.00,      65.10,2
06MT20110405,     MedSea,     319,          1,     212282,         13,2,20110420,       0258,    40.3000,    11.3000,       2908,   508.8,  13.9278,  38.7141,2,    175.4,2,   173.6,2,    6.11,2,    6.37,2,    0.01,2,    0.34,2,   0.823,2,-999.000,9,  2324.8,2,  2608.3,2,   7.9309,2,    25.00,-999.000,9,-999.000,-999.0000,9, -999.00,9, -999.00,9,  -999.0,9,  -999.0,-999.000,9, -999.00,      65.90,2
06MT20110405,     MedSea,     319,          1,     212283,         14,2,20110420,       0301,    40.3000,    11.3000,       2908,   407.6,  13.9770,  38.7207,2,    173.5,2,   172.0,2,    5.69,2,    6.53,2,    0.00,2,    0.34,2,   0.884,2,-999.000,9,  2326.4,2,  2606.8,2,   7.9284,2,    25.00,-999.000,9,-999.000,-999.0000,9, -999.00,9, -999.00,9,  -999.0,9,  -999.0,-999.000,9, -999.00,      68.70,2
06MT20110405,     MedSea,     319,          1,     212284,         15,2,20110420,       0305,    40.3000,    11.3000,       2908,   305.9,  13.9897,  38.7059,2,    176.0,2,   173.4,2,    5.10,2,    6.40,2,    0.02,2,    0.32,2,   0.987,2,-999.000,9,  2327.2,2,  2604.9,2,   7.9231,2,    25.00,-999.000,9,-999.000,-999.0000,9, -999.00,9, -999.00,9,  -999.0,9,  -999.0,-999.000,9, -999.00,      63.80,2
06MT20110405,     MedSea,     319,          1,     212285,         16,2,20110420,       0307,    40.3000,    11.3000,       2908,   255.2,  13.9838,  38.6950,2,    177.3,2,   173.8,2,    4.93,2,    6.35,2,    0.01,2,    0.32,2,   1.019,2,-999.000,9,  2325.8,2,  2600.7,2,   7.9223,2,    25.00,-999.000,9,-999.000,-999.0000,9, -999.00,9, -999.00,9,  -999.0,9,  -999.0,-999.000,9, -999.00,      61.70,2
06MT20110405,     MedSea,     319,          1,     212286,         17,2,20110420,       0309,    40.3000,    11.3000,       2908,   204.9,  13.9593,  38.6686,2,    180.1,2,   177.5,2,    4.57,2,    6.19,2,    0.01,2,    0.30,2,   1.080,2,-999.000,9,  2324.4,2,  2603.1,2,   7.9197,2,    25.00,-999.000,9,-999.000,-999.0000,9, -999.00,9, -999.00,9,  -999.0,9,  -999.0,-999.000,9, -999.00,      58.70,2
06MT20110405,     MedSea,     319,          1,     212287,         18,2,20110420,       0312,    40.3000,    11.3000,       2908,   154.4,  13.8289,  38.6001,2,    189.5,2,   186.9,2,    3.85,2,    5.74,2,    0.01,2,    0.28,2,   1.179,2,-999.000,9,  2320.3,2,  2593.3,2,   7.9206,2,    25.00,-999.000,9,-999.000,-999.0000,9, -999.00,9, -999.00,9,  -999.0,9,  -999.0,-999.000,9, -999.00,      60.50,2
06MT20110405,     MedSea,     319,          1,     212288,         19,2,20110420,       0315,    40.3000,    11.3000,       2908,   103.2,  13.9368,  38.5771,2,    187.2,2,   185.7,2,    3.48,2,    5.49,2,    0.01,2,    0.26,2,   1.200,2,-999.000,9,  2316.9,2,  2591.6,2,   7.9203,2,    25.00,-999.000,9,-999.000,-999.0000,9, -999.00,9, -999.00,9,  -999.0,9,  -999.0,-999.000,9, -999.00,      60.70,2
06MT20110405,     MedSea,     319,          1,     212289,         20,2,20110420,       0317,    40.3000,    11.3000,       2908,    78.4,  13.8134,  38.5052,2,    197.2,2,   197.3,2,    2.90,2,    4.84,2,    0.01,2,    0.20,2,   1.295,2,-999.000,9,  2309.0,2,  2583.5,2,   7.9248,2,    25.00,-999.000,9,-999.000,-999.0000,9, -999.00,9, -999.00,9,  -999.0,9,  -999.0,-999.000,9, -999.00,      57.10,2
06MT20110405,     MedSea,     319,          1,     212290,         21,2,20110420,       0319,    40.3000,    11.3000,       2908,    53.6,  13.7634,  38.4486,2,    208.7,2,   198.4,2,    2.56,2,    4.35,2,    0.04,2,    0.13,2,   1.285,2,-999.000,9,  2306.1,2,  2580.7,2,   7.9248,2,    25.00,-999.000,9,-999.000,-999.0000,9, -999.00,9, -999.00,9,  -999.0,9,  -999.0,-999.000,9, -999.00,      69.10,2
06MT20110405,     MedSea,     319,          1,     212291,         22,2,20110420,       0321,    40.3000,    11.3000,       2908,    28.2,  15.5340,  38.2196,2,    246.7,2,   224.1,2,    1.79,2,    2.16,2,    0.04,2,    0.06,2,   1.420,2,-999.000,9,  2282.3,2,  2572.1,2,   7.9565,2,    25.00,-999.000,9,-999.000,-999.0000,9, -999.00,9, -999.00,9,  -999.0,9,  -999.0,-999.000,9, -999.00,      52.70,2
06MT20110405,     MedSea,     319,          1,     212292,         23,2,20110420,       0323,    40.3000,    11.3000,       2908,     8.1,  15.8013,  38.2255,2,    245.9,2,   247.3,2,    0.87,2,    0.00,2,    0.01,2,    0.02,2,   1.507,2,-999.000,9,  2249.7,2,  2559.2,2,   7.9870,2,    25.00,-999.000,9,-999.000,-999.0000,9, -999.00,9, -999.00,9,  -999.0,9,  -999.0,-999.000,9, -999.00,      46.50,2
06MT20110405,     MedSea,     319,          1,     212293,         24,2,20110420,       0324,    40.3000,    11.3000,       2908,     8.1,  15.8922,  38.2255,2,    245.5,2,  -999.0,9, -999.00,9, -999.00,9, -999.00,9, -999.00,9,-999.000,9,-999.000,9,  -999.0,9,  -999.0,9,-999.0000,9,  -999.00,-999.000,9,-999.000,-999.0000,9, -999.00,9, -999.00,9,  -999.0,9,  -999.0,-999.000,9, -999.00,     -999.0,9