BOTTLE,20170314CCHSIORJL
EXPOCODE,SECT_ID,STNNBR,CASTNO,BIONBR,BTLNBR,BTLNBR_FLAG_W,DATE,TIME,LATITUDE,LONGITUDE,DEPTH,CTDPRS,CTDTMP,CTDSAL,CTDSAL_FLAG_W,CTDOXY,CTDOXY_FLAG_W,OXYGEN,OXYGEN_FLAG_W,SILCAT,SILCAT_FLAG_W,NITRAT,NITRAT_FLAG_W,NITRIT,NITRIT_FLAG_W,PHSPHT,PHSPHT_FLAG_W,CFC-12,CFC-12_FLAG_W,SF6,SF6_FLAG_W,TCARBN,TCARBN_FLAG_W,ALKALI,ALKALI_FLAG_W,PH_TOT,PH_TOT_FLAG_W,PH_TMP,TRITUM,TRITUM_FLAG_W,TRITER,HELIUM,HELIUM_FLAG_W,DELHE3,DELHE3_FLAG_W,DELC13,DELC13_FLAG_W,DELC14,DELC14_FLAG_W,C14ERR,NEON,NEON_FLAG_W,DELHER,BARIUM,BARIUM_FLAG_W
,,,,,,,,,,,METERS,DBAR,ITS-90,PSS-78,,UMOL/KG,,UMOL/KG,,UMOL/KG,,UMOL/KG,,UMOL/KG,,UMOL/KG,,PMOL/KG,,FMOL/KG,,UMOL/KG,,UMOL/KG,,,,DEG C,TU,,TU,NMOL/KG,,PERCNT,,/MILLE,,/MILLE,,/MILLE,NMOL/KG,,PERCNT,UM/KG,
06MT20110405,     MedSea,     334,          1,     213097,          1,2,20110424,       1942,    36.1000,    -4.4000,       1226,  1215.6,  13.0692,  38.4703,2,    188.0,2,  -999.0,9, -999.00,9, -999.00,9, -999.00,9, -999.00,9,-999.000,9,-999.000,9,  -999.0,9,  -999.0,9,-999.0000,9,  -999.00,-999.000,9,-999.000,-999.0000,9, -999.00,9, -999.00,9,  -999.0,9,  -999.0,-999.000,9, -999.00,     -999.0,9
06MT20110405,     MedSea,     334,          1,     213098,          2,2,20110424,       1943,    36.1000,    -4.4000,       1226,  1215.6,  13.0691,  38.4703,2,    187.5,2,  -999.0,9, -999.00,9, -999.00,9, -999.00,9, -999.00,9,-999.000,9,-999.000,9,  -999.0,9,  -999.0,9,-999.0000,9,  -999.00,-999.000,9,-999.000,-999.0000,9, -999.00,9, -999.00,9,  -999.0,9,  -999.0,-999.000,9, -999.00,     -999.0,9
06MT20110405,     MedSea,     334,          1,     213099,          3,2,20110424,       1943,    36.1000,    -4.4000,       1226,  1215.6,  13.0691,  38.4703,2,    186.7,2,  -999.0,9, -999.00,9, -999.00,9, -999.00,9, -999.00,9,-999.000,9,-999.000,9,  -999.0,9,  -999.0,9,-999.0000,9,  -999.00,-999.000,9,-999.000,-999.0000,9, -999.00,9, -999.00,9,  -999.0,9,  -999.0,-999.000,9, -999.00,     -999.0,9
06MT20110405,     MedSea,     334,          1,     213100,          4,2,20110424,       1943,    36.1000,    -4.4000,       1226,  1215.6,  13.0691,  38.4703,2,    186.5,2,  -999.0,9, -999.00,9, -999.00,9, -999.00,9, -999.00,9,-999.000,9,-999.000,9,  -999.0,9,  -999.0,9,-999.0000,9,  -999.00,-999.000,9,-999.000,-999.0000,9, -999.00,9, -999.00,9,  -999.0,9,  -999.0,-999.000,9, -999.00,     -999.0,9
06MT20110405,     MedSea,     334,          1,     213101,          5,2,20110424,       1943,    36.1000,    -4.4000,       1226,  1215.7,  13.0691,  38.4703,2,    187.6,2,  -999.0,9, -999.00,9, -999.00,9, -999.00,9, -999.00,9,-999.000,9,-999.000,9,  -999.0,9,  -999.0,9,-999.0000,9,  -999.00,-999.000,9,-999.000,-999.0000,9, -999.00,9, -999.00,9,  -999.0,9,  -999.0,-999.000,9, -999.00,     -999.0,9
06MT20110405,     MedSea,     334,          1,     213102,          6,2,20110424,       1944,    36.1000,    -4.4000,       1226,  1215.6,  13.0691,  38.4703,2,    187.4,2,   189.5,2,    9.36,2,    8.97,2,    0.02,2,    0.38,2,   0.760,2,   0.504,2,  2321.1,2,  2586.1,2,   7.9019,2,    25.00,-999.000,9,-999.000,   1.7800,2,    7.49,2,    0.88,2,   -26.6,2,     0.2,   7.280,2, -999.00,      77.30,2
06MT20110405,     MedSea,     334,          1,     213103,          7,2,20110424,       1946,    36.1000,    -4.4000,       1226,  1166.4,  13.0653,  38.4695,2,    186.9,2,   189.7,2,    8.75,2,    9.01,2,    0.01,2,    0.37,2,   0.729,2,    0.41,2,  2319.4,2,  2585.5,2,   7.9045,2,    25.00,-999.000,9,-999.000,   1.7900,2,    7.29,2,    0.87,2,   -28.3,2,     0.2,   7.260,2, -999.00,      86.40,2
06MT20110405,     MedSea,     334,          1,     213104,          8,2,20110424,       1950,    36.1000,    -4.4000,       1226,  1014.3,  13.0698,  38.4743,2,    184.1,2,   187.0,2,    8.43,2,    9.10,2,    0.01,2,    0.38,2,   0.690,2,   0.441,2,  2319.7,2,  2586.1,2,   7.9023,2,    25.00,-999.000,9,-999.000,   1.7900,2,    7.75,2,    0.88,2,   -23.1,2,     0.3,   7.280,2, -999.00,      76.10,2
06MT20110405,     MedSea,     334,          1,     213105,          9,2,20110424,       1954,    36.1000,    -4.4000,       1226,   810.7,  13.1159,  38.4906,2,    180.8,2,   180.9,2,    8.30,2,    9.36,2,    0.01,2,    0.40,2,   0.690,2,   0.362,2,  2322.8,2,  2586.3,2,   7.8984,2,    25.00,-999.000,9,-999.000,   1.8000,2,    7.88,2,    0.88,2,   -30.6,2,     0.4,   7.310,2, -999.00,      74.90,2
06MT20110405,     MedSea,     334,          1,     213106,         10,2,20110424,       1959,    36.1000,    -4.4000,       1226,   607.9,  13.1714,  38.5069,2,    176.8,2,   175.7,2,    7.85,2,    9.62,2,    0.01,2,    0.42,2,   0.780,2,   0.406,2,  2326.3,2,  2589.6,2,   7.8941,2,    25.00,-999.000,9,-999.000,   1.7800,2,    7.33,2,    0.71,2,   -12.4,2,     0.5,   7.280,2, -999.00,      72.20,2
06MT20110405,     MedSea,     334,          1,     213107,         11,2,20110424,       2002,    36.1000,    -4.4000,       1226,   507.2,  13.2189,  38.5126,2,    168.8,2,   168.9,2,    7.64,2,   10.15,2,    0.01,2,    0.44,2,-999.000,9,-999.000,9,  2330.7,2,  2586.3,2,   7.8851,2,    25.00,-999.000,9,-999.000,-999.0000,9, -999.00,9,    0.72,2,    -7.5,2,     0.3,-999.000,9, -999.00,      81.10,2
06MT20110405,     MedSea,     334,          1,     213108,         12,2,20110424,       2004,    36.1000,    -4.4000,       1226,   405.3,  13.2557,  38.5036,2,    163.7,2,   163.1,2,    6.89,2,   10.80,2,    0.01,2,    0.46,2,   0.937,2,   0.555,2,  2336.3,2,  2584.7,2,   7.8705,2,    25.00,-999.000,9,-999.000,   1.7800,2,    6.26,2, -999.00,9,  -999.0,9,  -999.0,   7.240,2, -999.00,      74.90,2
06MT20110405,     MedSea,     334,          1,     213109,         13,2,20110424,       2007,    36.1000,    -4.4000,       1226,   304.1,  13.2224,  38.4474,2,    164.8,2,   161.3,2,    6.05,2,   10.88,2,    0.01,2,    0.44,2,   1.066,2,   0.717,2,  2336.4,2,  2578.6,2,   7.8609,2,    25.00,   0.670,2,   0.020,   1.7800,2,    4.34,2,    0.66,2,    11.2,2,     0.3,   7.280,2, -999.00,      70.40,2
06MT20110405,     MedSea,     334,          1,     213110,         14,2,20110424,       2009,    36.1000,    -4.4000,       1226,   253.4,  13.1560,  38.3698,2,    173.7,2,   170.2,2,    5.35,2,   10.24,2,    0.02,2,    0.45,2,   1.122,2,   0.834,2,  2328.8,2,  2572.1,2,   7.8660,2,    25.00,   0.750,2,   0.050,   1.7600,2,    3.13,2,    0.55,2,    21.1,2,     0.3,   7.220,2, -999.00,      64.20,2
06MT20110405,     MedSea,     334,          1,     213111,         15,2,20110424,       2011,    36.1000,    -4.4000,       1226,   202.6,  13.3961,  38.1525,2,    184.9,2,   180.3,2,    4.13,2,    8.60,2,    0.02,2,    0.35,2,   1.303,2,   1.058,2,  2312.4,2,  2559.1,2,   7.8733,2,    25.00,   0.810,2,   0.020,   1.7500,2,    1.76,2,    0.52,2,    25.6,2,     0.3,   7.230,2, -999.00,      64.80,2
06MT20110405,     MedSea,     334,          1,     213112,         16,2,20110424,       2012,    36.1000,    -4.4000,       1226,   151.3,  14.1473,  37.6657,2,    205.7,2,   205.7,2,    2.73,2,    5.50,2,    0.06,2,    0.23,2,   1.366,2,   1.181,2,  2256.2,2,  2517.6,2,   7.9110,2,    25.00,   0.810,2,   0.030,   1.7500,2,    0.31,2,    0.66,2,    26.7,2,     0.3,   7.190,2, -999.00,      57.50,2
06MT20110405,     MedSea,     334,          1,     213113,         17,2,20110424,       2014,    36.1000,    -4.4000,       1226,   100.7,  15.1368,  36.8221,2,    215.3,2,   216.8,2,    2.08,2,    4.66,2,    0.12,2,    0.22,2,   1.395,2,   1.328,2,  2174.1,2,  2432.5,2,   7.9288,2,    25.00,   0.620,2,   0.070,   1.7500,2,    0.32,2,    0.82,2,    41.4,2,     0.3,   7.200,2, -999.00,      49.40,2
06MT20110405,     MedSea,     334,          1,     213114,         18,2,20110424,       2015,    36.1000,    -4.4000,       1226,   100.7,  15.1359,  36.8221,2,    216.4,2,  -999.0,9, -999.00,9, -999.00,9, -999.00,9, -999.00,9,-999.000,9,-999.000,9,  -999.0,9,  -999.0,9,-999.0000,9,  -999.00,-999.000,9,-999.000,-999.0000,9, -999.00,9, -999.00,9,  -999.0,9,  -999.0,-999.000,9, -999.00,     -999.0,9
06MT20110405,     MedSea,     334,          1,     213115,         19,2,20110424,       2018,    36.1000,    -4.4000,       1226,    50.5,  16.5069,  36.6082,2,    240.2,2,   241.2,2,    0.15,2,    0.27,2,    0.04,2,    0.03,2,   1.456,2,   1.546,2,  2129.1,2,  2412.8,2,   7.9813,2,    25.00,   0.670,2,   0.140,   1.7400,2,   -1.37,2,    1.09,2,    50.3,2,     0.3,   7.130,2, -999.00,      44.20,2
06MT20110405,     MedSea,     334,          1,     213116,         20,2,20110424,       2018,    36.1000,    -4.4000,       1226,    50.8,  16.5062,  36.6095,2,    239.2,2,  -999.0,9, -999.00,9, -999.00,9, -999.00,9, -999.00,9,-999.000,9,-999.000,9,  -999.0,9,  -999.0,9,-999.0000,9,  -999.00,-999.000,9,-999.000,-999.0000,9, -999.00,9, -999.00,9,  -999.0,9,  -999.0,-999.000,9, -999.00,     -999.0,9
06MT20110405,     MedSea,     334,          1,     213117,         21,2,20110424,       2019,    36.1000,    -4.4000,       1226,    26.6,  16.9324,  36.5717,2,    242.7,2,   245.3,2,    0.05,2,    0.00,2,    0.01,2,    0.01,2,-999.000,9,-999.000,9,  2119.9,2,  2408.7,2,   7.9869,2,    25.00,   0.690,2,   0.030,-999.0000,9, -999.00,9,    1.14,2,    48.0,2,     0.4,-999.000,9, -999.00,      46.20,2
06MT20110405,     MedSea,     334,          1,     213118,         22,2,20110424,       2020,    36.1000,    -4.4000,       1226,    26.7,  16.9369,  36.5712,2,    242.6,2,  -999.0,9, -999.00,9, -999.00,9, -999.00,9, -999.00,9,-999.000,9,-999.000,9,  -999.0,9,  -999.0,9,-999.0000,9,  -999.00,-999.000,9,-999.000,-999.0000,9, -999.00,9, -999.00,9,  -999.0,9,  -999.0,-999.000,9, -999.00,     -999.0,9
06MT20110405,     MedSea,     334,          1,     213119,         23,2,20110424,       2021,    36.1000,    -4.4000,       1226,     6.6,  17.5048,  36.5018,2,    239.9,2,  -999.0,9, -999.00,9, -999.00,9, -999.00,9, -999.00,9,-999.000,9,-999.000,9,  -999.0,9,  -999.0,9,-999.0000,9,  -999.00,-999.000,9,-999.000,-999.0000,9, -999.00,9, -999.00,9,  -999.0,9,  -999.0,-999.000,9, -999.00,     -999.0,9
06MT20110405,     MedSea,     334,          1,     213120,         24,2,20110424,       2021,    36.1000,    -4.4000,       1226,     6.7,  17.4180,  36.5007,2,    242.3,2,   242.1,2,    0.11,2,   -0.01,2,    0.01,2,    0.01,2,   1.449,2,   1.584,2,  2115.8,2,  2402.6,2,   7.9864,2,    25.00,   0.690,2,   0.030,   1.7400,2,   -1.91,2,    1.08,2,    56.2,2,     0.3,   7.080,2, -999.00,      41.40,2