BOTTLE,20170314CCHSIORJL
EXPOCODE,SECT_ID,STNNBR,CASTNO,BIONBR,BTLNBR,BTLNBR_FLAG_W,DATE,TIME,LATITUDE,LONGITUDE,DEPTH,CTDPRS,CTDTMP,CTDSAL,CTDSAL_FLAG_W,CTDOXY,CTDOXY_FLAG_W,OXYGEN,OXYGEN_FLAG_W,SILCAT,SILCAT_FLAG_W,NITRAT,NITRAT_FLAG_W,NITRIT,NITRIT_FLAG_W,PHSPHT,PHSPHT_FLAG_W,CFC-12,CFC-12_FLAG_W,SF6,SF6_FLAG_W,TCARBN,TCARBN_FLAG_W,ALKALI,ALKALI_FLAG_W,PH_TOT,PH_TOT_FLAG_W,PH_TMP,TRITUM,TRITUM_FLAG_W,TRITER,HELIUM,HELIUM_FLAG_W,DELHE3,DELHE3_FLAG_W,DELC13,DELC13_FLAG_W,DELC14,DELC14_FLAG_W,C14ERR,NEON,NEON_FLAG_W,DELHER,BARIUM,BARIUM_FLAG_W
,,,,,,,,,,,METERS,DBAR,ITS-90,PSS-78,,UMOL/KG,,UMOL/KG,,UMOL/KG,,UMOL/KG,,UMOL/KG,,UMOL/KG,,PMOL/KG,,FMOL/KG,,UMOL/KG,,UMOL/KG,,,,DEG C,TU,,TU,NMOL/KG,,PERCNT,,/MILLE,,/MILLE,,/MILLE,NMOL/KG,,PERCNT,UM/KG,
06MT20110405,     MedSea,     316,          1,     212222,          1,2,20110419,       1008,    38.6000,    11.5000,       2631,  1650.1,  13.2813,  38.5092,2,    186.0,2,  -999.0,9, -999.00,9, -999.00,9, -999.00,9, -999.00,9,-999.000,9,-999.000,9,  -999.0,9,  -999.0,9,-999.0000,9,  -999.00,-999.000,9,-999.000,-999.0000,9, -999.00,9, -999.00,9,  -999.0,9,  -999.0,-999.000,9, -999.00,     -999.0,9
06MT20110405,     MedSea,     316,          1,     212223,          2,2,20110419,       1009,    38.6000,    11.5000,       2631,  1650.1,  13.2814,  38.5092,2,    186.1,2,  -999.0,9, -999.00,9, -999.00,9, -999.00,9, -999.00,9,-999.000,9,-999.000,9,  -999.0,9,  -999.0,9,-999.0000,9,  -999.00,-999.000,9,-999.000,-999.0000,9, -999.00,9, -999.00,9,  -999.0,9,  -999.0,-999.000,9, -999.00,     -999.0,9
06MT20110405,     MedSea,     316,          1,     212224,          3,2,20110419,       1009,    38.6000,    11.5000,       2631,  1650.1,  13.2814,  38.5092,2,    186.4,2,   186.3,6, -999.00,9, -999.00,9, -999.00,9, -999.00,9,-999.000,9,-999.000,9,  -999.0,9,  -999.0,9,-999.0000,9,  -999.00,-999.000,9,-999.000,-999.0000,9, -999.00,9, -999.00,9,  -999.0,9,  -999.0,-999.000,9, -999.00,     -999.0,9
06MT20110405,     MedSea,     316,          1,     212225,          4,2,20110419,       1010,    38.6000,    11.5000,       2631,  1650.1,  13.2817,  38.5092,2,    186.4,2,   109.7,4,    8.74,2,    7.60,2,    0.03,2,    0.35,2,   0.527,2,-999.000,9,  2319.2,2,  2592.1,2,   7.9175,2,    25.00,-999.000,9,-999.000,   1.8800,2,    8.70,2, -999.00,9,  -999.0,9,  -999.0,   7.600,2,    0.37,     -999.0,9
06MT20110405,     MedSea,     316,          1,     212226,          5,2,20110419,       1014,    38.6000,    11.5000,       2631,  1524.0,  13.2854,  38.5166,2,    186.0,2,   186.5,2,    8.70,2,    7.47,2,    0.04,2,    0.35,2,   0.596,2,-999.000,9,  2318.1,2,  2591.9,2,   7.9194,2,    25.00,-999.000,9,-999.000,   1.8600,2,    8.38,2, -999.00,9,  -999.0,9,  -999.0,   7.500,2,    0.32,     -999.0,9
06MT20110405,     MedSea,     316,          1,     212227,          6,2,20110419,       1021,    38.6000,    11.5000,       2631,  1269.8,  13.3293,  38.5397,2,    184.3,2,   185.1,2,    8.55,2,    7.28,2,    0.04,2,    0.34,2,   0.535,2,-999.000,9,  2317.5,2,  2592.2,2,   7.9230,2,    25.00,-999.000,9,-999.000,   1.9200,2,    8.51,2, -999.00,9,  -999.0,9,  -999.0,   7.700,2,    0.15,     -999.0,9
06MT20110405,     MedSea,     316,          1,     212228,          7,2,20110419,       1027,    38.6000,    11.5000,       2631,  1015.7,  13.4376,  38.5807,2,    181.6,2,   184.4,2,    8.04,2,    7.00,2,    0.04,2,    0.32,2,   0.578,2,-999.000,9,  2318.5,2,  2592.9,2,   7.9233,2,    25.00,-999.000,9,-999.000,   1.8200,2,    6.46,2, -999.00,9,  -999.0,9,  -999.0,   7.350,2,    0.48,     -999.0,9
06MT20110405,     MedSea,     316,          1,     212229,          8,2,20110419,       1027,    38.6000,    11.5000,       2631,  1015.7,  13.4492,  38.5807,2,    182.2,2,  -999.0,9, -999.00,9, -999.00,9, -999.00,9, -999.00,9,-999.000,9,-999.000,9,  -999.0,9,  -999.0,9,-999.0000,9,  -999.00,-999.000,9,-999.000,-999.0000,9, -999.00,9, -999.00,9,  -999.0,9,  -999.0,-999.000,9, -999.00,     -999.0,9
06MT20110405,     MedSea,     316,          1,     212230,          9,2,20110419,       1033,    38.6000,    11.5000,       2631,   812.9,  13.6081,  38.6309,2,    180.0,2,   179.7,2,    7.49,2,    6.64,2,    0.04,2,    0.31,2,   0.637,2,-999.000,9,  2320.0,2,  2600.9,2,   7.9315,2,    25.00,-999.000,9,-999.000,   1.8600,2,    6.39,2, -999.00,9,  -999.0,9,  -999.0,   7.450,2,    0.15,     -999.0,9
06MT20110405,     MedSea,     316,          1,     212231,         10,2,20110419,       1038,    38.6000,    11.5000,       2631,   609.8,  13.7636,  38.6766,2,    178.2,2,   178.4,2,    6.89,2,    6.47,2,    0.04,2,    0.29,2,   0.747,2,-999.000,9,  2323.2,2,  2602.1,2,   7.9307,2,    25.00,-999.000,9,-999.000,   1.8700,2,    9.87,2, -999.00,9,  -999.0,9,  -999.0,   7.500,2,    0.15,     -999.0,9
06MT20110405,     MedSea,     316,          1,     212232,         11,2,20110419,       1041,    38.6000,    11.5000,       2631,   509.0,  13.7645,  38.6722,2,    176.1,2,  -999.0,9, -999.00,9, -999.00,9, -999.00,9, -999.00,9,-999.000,9,-999.000,9,  -999.0,9,  -999.0,9,-999.0000,9,  -999.00,-999.000,9,-999.000,-999.0000,9, -999.00,9, -999.00,9,  -999.0,9,  -999.0,-999.000,9, -999.00,     -999.0,9
06MT20110405,     MedSea,     316,          1,     212233,         12,4,20110419,       1042,    38.6000,    11.5000,       2631,   509.1,  13.7872,  38.6720,2,    176.1,2,   245.1,4,    0.07,4,    0.00,4,    0.04,4,    0.01,4,   1.557,3,-999.000,9,  2176.0,4,  2464.9,4,   7.9772,4,    25.00,-999.000,9,-999.000,   1.8300,4, -999.00,4, -999.00,9,  -999.0,9,  -999.0,   7.450,4,    0.50,     -999.0,9
06MT20110405,     MedSea,     316,          1,     212234,         13,2,20110419,       1045,    38.6000,    11.5000,       2631,   407.8,  13.8496,  38.6836,2,    175.3,2,   174.9,2,    6.24,2,    6.59,2,    0.03,2,    0.30,2,   1.075,3,-999.000,9,  2325.8,2,  2602.8,3,   7.9245,2,    25.00,-999.000,9,-999.000,   1.9400,2,    5.48,2, -999.00,9,  -999.0,9,  -999.0,   7.750,2,    0.14,     -999.0,9
06MT20110405,     MedSea,     316,          1,     212235,         14,2,20110419,       1049,    38.6000,    11.5000,       2631,   305.5,  13.8740,  38.6585,2,    172.7,2,   171.6,2,    5.75,2,    6.84,2,    0.03,2,    0.31,2,   0.938,2,-999.000,9,  2327.7,2,  2598.2,2,   7.9163,2,    25.00,-999.000,9,-999.000,   1.8400,2,    4.45,2, -999.00,9,  -999.0,9,  -999.0,   7.400,2,    0.47,     -999.0,9
06MT20110405,     MedSea,     316,          1,     212236,         15,2,20110419,       1051,    38.6000,    11.5000,       2631,   255.7,  13.9099,  38.6332,2,    173.0,2,   171.6,2,    5.11,2,    6.89,2,    0.03,2,    0.31,2,   1.037,2,-999.000,9,  2328.2,2,  2596.2,2,   7.9107,2,    25.00,-999.000,9,-999.000,   1.8400,2,    3.78,2, -999.00,9,  -999.0,9,  -999.0,   7.400,2,    0.15,     -999.0,9
06MT20110405,     MedSea,     316,          1,     212237,         16,2,20110419,       1053,    38.6000,    11.5000,       2631,   204.5,  14.1757,  38.5984,2,    185.1,2,   181.9,2,    3.77,2,    5.62,2,    0.03,2,    0.24,2,   1.201,2,-999.000,9,  2321.4,2,  2593.7,2,   7.9218,2,    25.00,-999.000,9,-999.000,   1.7800,2,    1.92,2, -999.00,9,  -999.0,9,  -999.0,   7.250,2,    0.51,     -999.0,9
06MT20110405,     MedSea,     316,          1,     212238,         17,2,20110419,       1053,    38.6000,    11.5000,       2631,   204.5,  14.1120,  38.5984,2,    185.3,2,  -999.0,9, -999.00,9, -999.00,9, -999.00,9, -999.00,9,-999.000,9,-999.000,9,  -999.0,9,  -999.0,9,-999.0000,9,  -999.00,-999.000,9,-999.000,-999.0000,9, -999.00,9, -999.00,9,  -999.0,9,  -999.0,-999.000,9, -999.00,     -999.0,9
06MT20110405,     MedSea,     316,          1,     212239,         18,2,20110419,       1055,    38.6000,    11.5000,       2631,   154.5,  14.5115,  38.4926,2,    197.6,2,   194.9,2,    1.16,6,    1.92,6,    0.02,6,    0.08,6,   1.378,2,-999.000,9,  2309.2,2,  2589.9,2,   7.9334,2,    25.00,-999.000,9,-999.000,   1.8300,2,    0.40,2, -999.00,9,  -999.0,9,  -999.0,   7.400,2,    0.19,     -999.0,9
06MT20110405,     MedSea,     316,          1,     212240,         19,2,20110419,       1058,    38.6000,    11.5000,       2631,   104.1,  14.9044,  38.3368,2,    204.3,2,   205.8,2,    1.45,2,    2.70,2,    0.04,2,    0.12,2,   1.451,2,-999.000,9,  2287.1,2,  2571.7,2,   7.9445,2,    25.00,-999.000,9,-999.000,   1.8000,2,    0.45,2, -999.00,9,  -999.0,9,  -999.0,   7.300,2,    0.35,     -999.0,9
06MT20110405,     MedSea,     316,          1,     212241,         20,2,20110419,       1100,    38.6000,    11.5000,       2631,    53.5,  14.7301,  37.9602,2,    227.4,2,   221.8,2,    0.89,2,    1.42,2,    0.06,2,    0.05,2,-999.000,9,-999.000,9,  2257.4,2,  2547.7,2,   7.9562,2,    25.00,-999.000,9,-999.000,   1.8300,2,   -1.21,2, -999.00,9,  -999.0,9,  -999.0,   7.400,2,    0.24,     -999.0,9
06MT20110405,     MedSea,     316,          1,     212242,         21,2,20110419,       1102,    38.6000,    11.5000,       2631,    28.6,  14.8137,  37.5741,2,    249.8,2,   250.3,2,    0.17,2,    0.00,2,    0.01,2,    0.02,2,-999.000,9,-999.000,9,  2204.1,2,  2496.7,2,   7.9794,2,    25.00,-999.000,9,-999.000,-999.0000,9, -999.00,9, -999.00,9,  -999.0,9,  -999.0,-999.000,9, -999.00,     -999.0,9
06MT20110405,     MedSea,     316,          1,     212243,         22,2,20110419,       1103,    38.6000,    11.5000,       2631,    28.6,  14.8157,  37.5741,2,    249.6,2,  -999.0,9, -999.00,9, -999.00,9, -999.00,9, -999.00,9,-999.000,9,-999.000,9,  -999.0,9,  -999.0,9,-999.0000,9,  -999.00,-999.000,9,-999.000,-999.0000,9, -999.00,9, -999.00,9,  -999.0,9,  -999.0,-999.000,9, -999.00,     -999.0,9
06MT20110405,     MedSea,     316,          1,     212244,         23,2,20110419,       1104,    38.6000,    11.5000,       2631,     7.9,  16.1042,  37.2299,2,    245.1,2,   248.0,2,    0.00,2,    0.00,2,    0.00,2,    0.01,2,   1.530,2,-999.000,9,  2176.9,2,  2466.0,2,   7.9806,2,    25.00,-999.000,9,-999.000,-999.0000,9, -999.00,9, -999.00,9,  -999.0,9,  -999.0,-999.000,9, -999.00,     -999.0,9
06MT20110405,     MedSea,     316,          1,     212245,         24,2,20110419,       1104,    38.6000,    11.5000,       2631,     7.9,  16.1596,  37.2299,2,    242.6,2,  -999.0,9, -999.00,9, -999.00,9, -999.00,9, -999.00,9,-999.000,9,-999.000,9,  -999.0,9,  -999.0,9,-999.0000,9,  -999.00,-999.000,9,-999.000,-999.0000,9, -999.00,9, -999.00,9,  -999.0,9,  -999.0,-999.000,9, -999.00,     -999.0,9