BOTTLE,20170314CCHSIORJL
EXPOCODE,SECT_ID,STNNBR,CASTNO,BIONBR,BTLNBR,BTLNBR_FLAG_W,DATE,TIME,LATITUDE,LONGITUDE,DEPTH,CTDPRS,CTDTMP,CTDSAL,CTDSAL_FLAG_W,CTDOXY,CTDOXY_FLAG_W,OXYGEN,OXYGEN_FLAG_W,SILCAT,SILCAT_FLAG_W,NITRAT,NITRAT_FLAG_W,NITRIT,NITRIT_FLAG_W,PHSPHT,PHSPHT_FLAG_W,CFC-12,CFC-12_FLAG_W,SF6,SF6_FLAG_W,TCARBN,TCARBN_FLAG_W,ALKALI,ALKALI_FLAG_W,PH_TOT,PH_TOT_FLAG_W,PH_TMP,TRITUM,TRITUM_FLAG_W,TRITER,HELIUM,HELIUM_FLAG_W,DELHE3,DELHE3_FLAG_W,DELC13,DELC13_FLAG_W,DELC14,DELC14_FLAG_W,C14ERR,NEON,NEON_FLAG_W,DELHER,BARIUM,BARIUM_FLAG_W
,,,,,,,,,,,METERS,DBAR,ITS-90,PSS-78,,UMOL/KG,,UMOL/KG,,UMOL/KG,,UMOL/KG,,UMOL/KG,,UMOL/KG,,PMOL/KG,,FMOL/KG,,UMOL/KG,,UMOL/KG,,,,DEG C,TU,,TU,NMOL/KG,,PERCNT,,/MILLE,,/MILLE,,/MILLE,NMOL/KG,,PERCNT,UM/KG,
06MT20110405,     MedSea,     294,          1,     209782,          1,2,20110410,       1100,    33.7000,    31.0000,       2509,  2499.0,  14.0164,  38.7818,2,    187.5,2,  -999.0,9, -999.00,9, -999.00,9, -999.00,9, -999.00,9,-999.000,9,-999.000,9,  -999.0,9,  -999.0,9,-999.0000,9,  -999.00,-999.000,9,-999.000,-999.0000,9, -999.00,9, -999.00,9,  -999.0,9,  -999.0,-999.000,9, -999.00,     -999.0,9
06MT20110405,     MedSea,     294,          1,     209783,          2,2,20110410,       1100,    33.7000,    31.0000,       2509,  2499.2,  14.0161,  38.7818,2,    188.3,2,   188.2,2,    7.61,2,    4.79,2,    0.00,2,    0.19,2,   0.621,2,   0.209,2,  2309.7,2,  2614.0,2,   7.9677,2,    25.00,-999.000,9,-999.000,-999.0000,9, -999.00,9, -999.00,9,  -999.0,9,  -999.0,-999.000,9, -999.00,      87.70,2
06MT20110405,     MedSea,     294,          1,     209784,          3,2,20110410,       1111,    33.7000,    31.0000,       2509,  2033.5,  13.9527,  38.7844,2,    188.2,2,  -999.0,9, -999.00,9, -999.00,9, -999.00,9, -999.00,9,-999.000,9,-999.000,9,  -999.0,9,  -999.0,9,-999.0000,9,  -999.00,-999.000,9,-999.000,-999.0000,9, -999.00,9, -999.00,9,  -999.0,9,  -999.0,-999.000,9, -999.00,     -999.0,9
06MT20110405,     MedSea,     294,          1,     209785,          4,2,20110410,       1111,    33.7000,    31.0000,       2509,  2033.5,  13.9527,  38.7844,2,    187.8,2,  -999.0,9, -999.00,9, -999.00,9, -999.00,9, -999.00,9,-999.000,9,-999.000,9,  -999.0,9,  -999.0,9,-999.0000,9,  -999.00,-999.000,9,-999.000,-999.0000,9, -999.00,9, -999.00,9,  -999.0,9,  -999.0,-999.000,9, -999.00,     -999.0,9
06MT20110405,     MedSea,     294,          1,     209786,          5,2,20110410,       1112,    33.7000,    31.0000,       2509,  2033.4,  13.9527,  38.7843,2,    187.6,2,   188.4,2,    7.53,2,    4.86,2,    0.00,2,    0.20,2,   0.658,2,   0.213,2,  2308.4,2,  2614.9,2,   7.9684,2,    25.00,-999.000,9,-999.000,-999.0000,9, -999.00,9, -999.00,9,  -999.0,9,  -999.0,-999.000,9, -999.00,      73.60,2
06MT20110405,     MedSea,     294,          1,     209787,          6,2,20110410,       1119,    33.7000,    31.0000,       2509,  1778.7,  13.8954,  38.7749,2,    186.2,2,   186.8,2,    7.69,2,    4.90,2,    0.00,2,    0.21,2,   0.529,2,   0.182,2,  2307.4,2,  2614.1,2,   7.9736,2,    25.00,-999.000,9,-999.000,-999.0000,9, -999.00,9, -999.00,9,  -999.0,9,  -999.0,-999.000,9, -999.00,      78.40,2
06MT20110405,     MedSea,     294,          1,     209788,          7,2,20110410,       1126,    33.7000,    31.0000,       2509,  1524.0,  13.8330,  38.7634,2,    184.5,2,   185.9,2,    7.92,2,    5.07,2,    0.00,2,    0.20,2,-999.000,9,-999.000,9,  2306.2,2,  2613.5,2,   7.9707,2,    25.00,-999.000,9,-999.000,-999.0000,9, -999.00,9, -999.00,9,  -999.0,9,  -999.0,-999.000,9, -999.00,      78.30,2
06MT20110405,     MedSea,     294,          1,     209789,          8,2,20110410,       1133,    33.7000,    31.0000,       2509,  1269.9,  13.7612,  38.7464,2,    181.2,2,   178.5,3,    8.16,2,    5.17,2,    0.00,2,    0.22,2,   0.410,2,   0.178,2,  2306.7,2,  2612.6,2,   7.9685,2,    25.00,-999.000,9,-999.000,-999.0000,9, -999.00,9, -999.00,9,  -999.0,9,  -999.0,-999.000,9, -999.00,      74.90,2
06MT20110405,     MedSea,     294,          1,     209790,          9,2,20110410,       1139,    33.7000,    31.0000,       2509,  1015.7,  13.7320,  38.7447,2,    179.3,2,   182.3,3,    8.21,2,    5.63,2,   -0.01,3,    0.23,2,   0.362,2,   0.131,2,  2306.7,2,  2611.8,2,   7.9672,2,    25.00,-999.000,9,-999.000,-999.0000,9, -999.00,9, -999.00,9,  -999.0,9,  -999.0,-999.000,9, -999.00,      73.90,2
06MT20110405,     MedSea,     294,          1,     209791,         10,2,20110410,       1145,    33.7000,    31.0000,       2509,   812.3,  13.7713,  38.7605,2,    177.0,2,   177.8,2,    8.03,2,    5.82,2,    0.00,2,    0.24,2,   0.395,2,   0.155,2,  2308.8,2,  2612.3,2,   7.9646,2,    25.00,-999.000,9,-999.000,-999.0000,9, -999.00,9, -999.00,9,  -999.0,9,  -999.0,-999.000,9, -999.00,      72.40,2
06MT20110405,     MedSea,     294,          1,     209792,         11,2,20110410,       1152,    33.7000,    31.0000,       2509,   610.1,  13.9215,  38.8018,2,    176.0,2,   176.8,2,    7.31,2,    5.95,2,    0.00,2,    0.25,2,   0.496,2,   0.293,2,  2313.0,2,  2614.7,2,   7.9567,2,    25.00,-999.000,9,-999.000,-999.0000,9, -999.00,9, -999.00,9,  -999.0,9,  -999.0,-999.000,9, -999.00,      74.60,2
06MT20110405,     MedSea,     294,          1,     209793,         12,2,20110410,       1155,    33.7000,    31.0000,       2509,   508.5,  14.1096,  38.8466,2,    178.0,2,   178.5,2,    6.56,2,    5.79,2,    0.00,2,    0.23,2,   0.638,2,   0.359,2,  2315.4,2,  2616.6,2,   7.9573,2,    25.00,-999.000,9,-999.000,-999.0000,9, -999.00,9, -999.00,9,  -999.0,9,  -999.0,-999.000,9, -999.00,      74.90,2
06MT20110405,     MedSea,     294,          1,     209794,         13,2,20110410,       1158,    33.7000,    31.0000,       2509,   407.7,  14.5880,  38.9510,2,    186.3,2,   185.6,2,    4.99,2,    5.18,2,    0.00,2,    0.20,2,   0.906,2,   0.572,2,  2317.3,2,  2619.0,2,   7.9606,2,    25.00,-999.000,9,-999.000,-999.0000,9, -999.00,9, -999.00,9,  -999.0,9,  -999.0,-999.000,9, -999.00,      66.50,2
06MT20110405,     MedSea,     294,          1,     209795,         14,2,20110410,       1202,    33.7000,    31.0000,       2509,   305.9,  15.8777,  39.1464,2,    204.7,2,   201.8,2,    2.26,2,    2.75,2,    0.01,2,    0.07,2,   1.268,2,   1.036,2,  2312.6,2,  2626.2,2,   7.9760,2,    25.00,-999.000,9,-999.000,-999.0000,9, -999.00,9, -999.00,9,  -999.0,9,  -999.0,-999.000,9, -999.00,      62.70,2
06MT20110405,     MedSea,     294,          1,     209796,         15,2,20110410,       1204,    33.7000,    31.0000,       2509,   255.5,  16.3872,  39.1939,2,    213.6,2,   218.1,2,    1.27,2,    1.17,2,    0.07,2,    0.02,2,   1.385,2,   1.265,2,  2302.4,2,  2627.9,2,   7.9899,2,    25.00,-999.000,9,-999.000,-999.0000,9, -999.00,9, -999.00,9,  -999.0,9,  -999.0,-999.000,9, -999.00,      61.60,2
06MT20110405,     MedSea,     294,          1,     209797,         16,2,20110410,       1207,    33.7000,    31.0000,       2509,   204.9,  16.7509,  39.1576,2,    223.4,2,   224.0,2,    0.88,2,    0.45,2,    0.09,2,    0.02,2,   1.387,2,   1.278,2,  2290.6,2,  2622.4,2,   8.0076,2,    25.00,-999.000,9,-999.000,-999.0000,9, -999.00,9, -999.00,9,  -999.0,9,  -999.0,-999.000,9, -999.00,      54.40,2
06MT20110405,     MedSea,     294,          1,     209798,         17,2,20110410,       1209,    33.7000,    31.0000,       2509,   154.2,  17.4686,  39.0502,2,    223.2,2,   226.3,2,    0.71,2,    0.24,2,    0.05,2,    0.00,2,   1.375,2,    1.25,2,  2276.6,2,  2612.0,2,   8.0104,2,    25.00,-999.000,9,-999.000,-999.0000,9, -999.00,9, -999.00,9,  -999.0,9,  -999.0,-999.000,9, -999.00,      61.00,2
06MT20110405,     MedSea,     294,          1,     209799,         18,2,20110410,       1211,    33.7000,    31.0000,       2509,   104.0,  17.7381,  39.0192,2,    221.8,2,   226.3,3,    0.67,2,    0.25,2,    0.09,2,    0.02,2,   1.350,2,   1.171,2,  2269.5,2,  2606.8,2,   8.0160,2,    25.00,-999.000,9,-999.000,-999.0000,9, -999.00,9, -999.00,9,  -999.0,9,  -999.0,-999.000,9, -999.00,      55.30,2
06MT20110405,     MedSea,     294,          1,     209800,         19,2,20110410,       1213,    33.7000,    31.0000,       2509,    79.1,  17.8861,  39.0094,2,    224.7,2,   225.9,2,    0.63,2,    0.11,2,    0.02,2,    0.01,2,   1.354,2,   1.256,2,  2262.9,2,  2605.1,2,   8.0212,2,    25.00,-999.000,9,-999.000,-999.0000,9, -999.00,9, -999.00,9,  -999.0,9,  -999.0,-999.000,9, -999.00,      60.30,2
06MT20110405,     MedSea,     294,          1,     209801,         20,2,20110410,       1215,    33.7000,    31.0000,       2509,    53.7,  18.0214,  39.0220,2,    227.3,2,   224.3,2,    0.63,2,    0.08,2,    0.00,2,    0.01,2,   1.319,2,   1.268,2,  2261.7,2,  2605.1,2,   8.0313,2,    25.00,-999.000,9,-999.000,-999.0000,9, -999.00,9, -999.00,9,  -999.0,9,  -999.0,-999.000,9, -999.00,      64.60,2
06MT20110405,     MedSea,     294,          1,     209802,         21,2,20110410,       1216,    33.7000,    31.0000,       2509,    27.7,  18.1077,  39.0264,2,    227.9,2,  -999.0,9, -999.00,9, -999.00,9, -999.00,9, -999.00,9,-999.000,9,-999.000,9,  -999.0,9,  -999.0,9,-999.0000,9,  -999.00,-999.000,9,-999.000,-999.0000,9, -999.00,9, -999.00,9,  -999.0,9,  -999.0,-999.000,9, -999.00,     -999.0,9
06MT20110405,     MedSea,     294,          1,     209803,         22,2,20110410,       1217,    33.7000,    31.0000,       2509,    27.7,  18.1105,  39.0264,2,    227.7,2,   229.0,2,    0.63,2,    0.07,2,    0.00,2,    0.00,2,   1.337,2,   1.303,2,  2261.7,2,  2606.3,2,   8.0264,2,    25.00,-999.000,9,-999.000,-999.0000,9, -999.00,9, -999.00,9,  -999.0,9,  -999.0,-999.000,9, -999.00,      47.70,2
06MT20110405,     MedSea,     294,          1,     209804,         23,2,20110410,       1218,    33.7000,    31.0000,       2509,     8.1,  18.1492,  39.0273,2,    227.6,2,   228.8,2,    0.63,2,    0.07,2,    0.00,2,    0.00,2,   1.330,2,   1.238,2,  2260.9,2,  2607.3,2,   8.0266,2,    25.00,-999.000,9,-999.000,-999.0000,9, -999.00,9, -999.00,9,  -999.0,9,  -999.0,-999.000,9, -999.00,      54.60,2
06MT20110405,     MedSea,     294,          1,     209805,         24,2,20110410,       1219,    33.7000,    31.0000,       2509,     8.2,  18.1383,  39.0272,2,    227.3,2,  -999.0,9, -999.00,9, -999.00,9, -999.00,9, -999.00,9,-999.000,9,-999.000,9,  -999.0,9,  -999.0,9,-999.0000,9,  -999.00,-999.000,9,-999.000,-999.0000,9, -999.00,9, -999.00,9,  -999.0,9,  -999.0,-999.000,9, -999.00,     -999.0,9