BOTTLE,20170314CCHSIORJL
EXPOCODE,SECT_ID,STNNBR,CASTNO,BIONBR,BTLNBR,BTLNBR_FLAG_W,DATE,TIME,LATITUDE,LONGITUDE,DEPTH,CTDPRS,CTDTMP,CTDSAL,CTDSAL_FLAG_W,CTDOXY,CTDOXY_FLAG_W,OXYGEN,OXYGEN_FLAG_W,SILCAT,SILCAT_FLAG_W,NITRAT,NITRAT_FLAG_W,NITRIT,NITRIT_FLAG_W,PHSPHT,PHSPHT_FLAG_W,CFC-12,CFC-12_FLAG_W,SF6,SF6_FLAG_W,TCARBN,TCARBN_FLAG_W,ALKALI,ALKALI_FLAG_W,PH_TOT,PH_TOT_FLAG_W,PH_TMP,TRITUM,TRITUM_FLAG_W,TRITER,HELIUM,HELIUM_FLAG_W,DELHE3,DELHE3_FLAG_W,DELC13,DELC13_FLAG_W,DELC14,DELC14_FLAG_W,C14ERR,NEON,NEON_FLAG_W,DELHER,BARIUM,BARIUM_FLAG_W
,,,,,,,,,,,METERS,DBAR,ITS-90,PSS-78,,UMOL/KG,,UMOL/KG,,UMOL/KG,,UMOL/KG,,UMOL/KG,,UMOL/KG,,PMOL/KG,,FMOL/KG,,UMOL/KG,,UMOL/KG,,,,DEG C,TU,,TU,NMOL/KG,,PERCNT,,/MILLE,,/MILLE,,/MILLE,NMOL/KG,,PERCNT,UM/KG,
06MT20110405,     MedSea,     303,          1,     209967,          1,2,20110414,       0041,    35.0670,    19.0000,       3774,  3624.0,  14.0136,  38.7292,2,    197.8,2,  -999.0,9, -999.00,9, -999.00,9, -999.00,9, -999.00,9,-999.000,9,-999.000,9,  -999.0,9,  -999.0,9,-999.0000,9,  -999.00,-999.000,9,-999.000,-999.0000,9, -999.00,9, -999.00,9,  -999.0,9,  -999.0,-999.000,9, -999.00,     -999.0,9
06MT20110405,     MedSea,     303,          1,     209968,          2,2,20110414,       0041,    35.0670,    19.0000,       3774,  3623.9,  14.0135,  38.7292,2,    198.1,2,   199.4,2,    6.03,2,    4.42,2,    0.01,2,    0.16,2,   0.756,2,    0.54,2,  2312.2,2,  2613.7,2,   7.9650,2,    25.00,-999.000,9,-999.000,  10.2000,2,  -75.82,4, -999.00,9,  -999.0,9,  -999.0,   7.500,2,    0.15,      92.60,2
06MT20110405,     MedSea,     303,          1,     209969,          3,2,20110414,       0044,    35.0670,    19.0000,       3774,  3567.9,  14.0033,  38.7291,2,    198.4,2,   203.2,3,    5.98,2,    4.44,2,    0.00,2,    0.16,2,   0.867,2,   0.573,2,  2311.9,2,  2613.4,2,   7.9616,2,    25.00,-999.000,9,-999.000,-999.0000,9, -999.00,9, -999.00,9,  -999.0,9,  -999.0,-999.000,9, -999.00,      66.80,2
06MT20110405,     MedSea,     303,          1,     209970,          4,2,20110414,       0058,    35.0670,    19.0000,       3774,  3056.7,  13.8967,  38.7196,2,    196.9,2,   196.6,2,    6.28,2,    4.56,2,    0.00,2,    0.16,2,   0.765,2,   0.376,2,  2309.0,2,  2609.9,2,   7.9634,2,    25.00,-999.000,9,-999.000,   2.3100,2,  -14.11,4, -999.00,9,  -999.0,9,  -999.0,   7.400,2,    0.26,      79.00,2
06MT20110405,     MedSea,     303,          1,     209971,          5,2,20110414,       0108,    35.0670,    19.0000,       3774,  2545.2,  13.8278,  38.7206,2,    196.3,2,   194.8,2,    6.36,2,    4.63,2,    0.00,2,    0.17,2,   0.694,2,   0.328,2,  2308.4,2,  2613.6,2,   7.9670,2,    25.00,-999.000,9,-999.000,   2.8100,2,   -9.57,4, -999.00,9,  -999.0,9,  -999.0,   7.450,2,    0.28,      74.50,2
06MT20110405,     MedSea,     303,          1,     209972,          6,2,20110414,       0120,    35.0670,    19.0000,       3774,  2034.5,  13.7958,  38.7316,2,    193.7,2,   194.9,2,    6.42,2,    4.66,2,    0.00,2,    0.18,2,   0.632,2,   0.342,2,  2307.7,2,  2611.8,2,   7.9660,2,    25.00,-999.000,9,-999.000,-999.0000,9, -999.00,9, -999.00,9,  -999.0,9,  -999.0,-999.000,9, -999.00,      81.40,2
06MT20110405,     MedSea,     303,          1,     209973,          7,2,20110414,       0132,    35.0670,    19.0000,       3774,  1525.0,  13.7652,  38.7380,2,    189.4,2,   189.5,2,    6.81,2,    4.83,2,    0.00,2,    0.19,2,   0.522,2,   0.208,2,  2305.5,2,  2609.7,2,-999.0000,9,  -999.00,-999.000,9,-999.000,   2.1800,2,   -8.93,4, -999.00,9,  -999.0,9,  -999.0,   7.450,2,    0.15,      68.80,2
06MT20110405,     MedSea,     303,          1,     209974,          8,2,20110414,       0139,    35.0670,    19.0000,       3774,  1270.4,  13.7396,  38.7371,2,    186.7,2,   204.1,3,    7.05,2,    5.00,2,    0.00,2,    0.20,2,   0.633,3,   0.367,3,  2306.3,2,  2612.6,2,   7.9659,2,    25.00,-999.000,9,-999.000,   2.0800,2,   -6.92,4, -999.00,9,  -999.0,9,  -999.0,   7.450,2,    0.31,      71.40,2
06MT20110405,     MedSea,     303,          1,     209975,          9,2,20110414,       0144,    35.0670,    19.0000,       3774,  1017.4,  13.7609,  38.7499,2,    183.6,2,   187.3,2,    7.21,2,    5.24,2,    0.00,2,    0.22,2,   0.453,2,   0.226,2,  2307.7,2,  2611.2,2,   7.9643,2,    25.00,-999.000,9,-999.000,   2.1000,2,   -6.62,4, -999.00,9,  -999.0,9,  -999.0,   7.400,2,    0.47,      74.60,2
06MT20110405,     MedSea,     303,          1,     209976,         10,2,20110414,       0149,    35.0670,    19.0000,       3774,   814.3,  13.8763,  38.7865,2,    183.6,2,   182.8,2,    6.70,2,    5.30,2,    0.00,2,    0.21,2,   0.548,2,   0.361,2,  2312.1,2,  2610.5,2,   7.9585,2,    25.00,-999.000,9,-999.000,   2.0900,2,   -6.75,4, -999.00,9,  -999.0,9,  -999.0,   7.500,2,    0.58,      69.60,2
06MT20110405,     MedSea,     303,          1,     209977,         11,2,20110414,       0154,    35.0670,    19.0000,       3774,   610.5,  14.0738,  38.8414,2,    186.8,2,   187.5,2,    5.74,2,    5.05,2,    0.00,2,    0.21,2,   0.752,2,   0.451,2,  2315.8,2,  2615.8,2,   7.9592,2,    25.00,-999.000,9,-999.000,   2.1000,2,   -6.20,4, -999.00,9,  -999.0,9,  -999.0,   7.650,2,    0.19,      64.90,2
06MT20110405,     MedSea,     303,          1,     209978,         12,2,20110414,       0157,    35.0670,    19.0000,       3774,   509.9,  14.3093,  38.8975,2,    191.4,2,   194.0,2,    4.73,2,    4.60,2,    0.00,2,    0.18,2,   0.967,2,    0.69,2,  2319.8,2,  2621.0,2,   7.9577,2,    25.00,-999.000,9,-999.000,   2.0200,2,   -5.41,4, -999.00,9,  -999.0,9,  -999.0,   7.450,2,    0.35,      70.00,2
06MT20110405,     MedSea,     303,          1,     209979,         13,2,20110414,       0200,    35.0670,    19.0000,       3774,   407.7,  14.4908,  38.9285,2,    193.6,2,   196.3,2,    3.99,2,    4.44,2,    0.00,2,    0.16,2,   1.083,2,   0.767,2,  2322.2,2,  2619.8,2,   7.9539,2,    25.00,-999.000,9,-999.000,   1.9700,2,   -3.84,4, -999.00,9,  -999.0,9,  -999.0,   7.500,2,    0.14,      68.30,2
06MT20110405,     MedSea,     303,          1,     209980,         14,2,20110414,       0203,    35.0670,    19.0000,       3774,   307.6,  14.6726,  38.9432,2,    193.5,2,   193.1,2,    3.28,2,    4.39,2,    0.00,2,    0.15,2,   1.210,2,   0.847,2,  2323.0,2,  2623.2,2,   7.9549,2,    25.00,-999.000,9,-999.000,-999.0000,9, -999.00,9, -999.00,9,  -999.0,9,  -999.0,-999.000,9, -999.00,      58.60,2
06MT20110405,     MedSea,     303,          1,     209981,         15,2,20110414,       0205,    35.0670,    19.0000,       3774,   255.9,  15.0651,  39.0123,2,    198.4,2,   196.8,2,    2.68,2,    3.70,2,    0.01,2,    0.11,2,   1.285,2,   0.933,2,  2321.5,2,  2624.3,2,   7.9558,2,    25.00,-999.000,9,-999.000,   1.9300,2,   -3.99,4, -999.00,9,  -999.0,9,  -999.0,   7.350,2,    0.66,      55.10,2
06MT20110405,     MedSea,     303,          1,     209982,         16,2,20110414,       0207,    35.0670,    19.0000,       3774,   205.5,  15.5314,  39.0781,2,    204.7,2,   206.1,2,    1.83,2,    2.70,2,    0.01,2,    0.06,2,   1.352,2,   1.121,2,  2319.8,2,  2627.8,2,   7.9667,3,    25.00,-999.000,9,-999.000,-999.0000,9, -999.00,9, -999.00,9,  -999.0,9,  -999.0,-999.000,9, -999.00,      69.30,2
06MT20110405,     MedSea,     303,          1,     209983,         17,2,20110414,       0209,    35.0670,    19.0000,       3774,   155.5,  15.0429,  38.8400,2,    205.7,2,   205.5,2,    1.57,2,    2.59,2,    0.01,2,    0.04,2,   1.440,2,   1.155,2,  2318.8,2,  2620.5,2,   7.9544,3,    25.00,-999.000,9,-999.000,-999.0000,9, -999.00,9, -999.00,9,  -999.0,9,  -999.0,-999.000,9, -999.00,      63.30,2
06MT20110405,     MedSea,     303,          1,     209984,         18,2,20110414,       0211,    35.0670,    19.0000,       3774,   104.7,  14.8590,  38.5844,2,    216.8,2,  -999.0,9, -999.00,9, -999.00,9, -999.00,9, -999.00,9,-999.000,9,-999.000,9,  -999.0,9,  -999.0,9,-999.0000,9,  -999.00,-999.000,9,-999.000,-999.0000,9, -999.00,9, -999.00,9,  -999.0,9,  -999.0,-999.000,9, -999.00,     -999.0,9
06MT20110405,     MedSea,     303,          1,     209985,         19,2,20110414,       0213,    35.0670,    19.0000,       3774,    79.8,  15.2899,  38.5149,2,    235.8,2,   236.6,2,    0.79,2,    0.18,2,    0.02,2,    0.00,2,   1.474,2,   1.093,2,  2274.5,2,  2589.5,2,   7.9903,2,    25.00,-999.000,9,-999.000,-999.0000,9, -999.00,9, -999.00,9,  -999.0,9,  -999.0,-999.000,9, -999.00,      62.30,2
06MT20110405,     MedSea,     303,          1,     209986,         20,2,20110414,       0215,    35.0670,    19.0000,       3774,    54.3,  15.4896,  38.4497,2,    241.6,2,   242.7,2,    0.74,2,    0.01,2,    0.01,2,    0.00,2,   1.487,2,   1.435,2,  2263.8,2,  2580.3,2,   7.9922,2,    25.00,-999.000,9,-999.000,-999.0000,9, -999.00,9, -999.00,9,  -999.0,9,  -999.0,-999.000,9, -999.00,      50.80,2
06MT20110405,     MedSea,     303,          1,     209987,         21,2,20110414,       0216,    35.0670,    19.0000,       3774,    28.8,  16.3229,  38.3807,2,    241.2,2,   244.4,2,    0.68,2,    0.00,2,    0.00,2,    0.00,2,   1.474,2,    1.41,2,  2254.6,2,  2571.6,2,   7.9926,2,    25.00,-999.000,9,-999.000,-999.0000,9, -999.00,9, -999.00,9,  -999.0,9,  -999.0,-999.000,9, -999.00,      49.90,2
06MT20110405,     MedSea,     303,          1,     -999.0,         22,2,20110414,       0217,    35.0670,    19.0000,       3774,    28.6,  16.3073,  38.3812,2,    241.0,2,  -999.0,9, -999.00,9, -999.00,9, -999.00,9, -999.00,9,-999.000,9,-999.000,9,  -999.0,9,  -999.0,9,-999.0000,9,  -999.00,-999.000,9,-999.000,-999.0000,9, -999.00,9, -999.00,9,  -999.0,9,  -999.0,-999.000,9, -999.00,     -999.0,9
06MT20110405,     MedSea,     303,          1,     -999.0,         23,2,20110414,       0217,    35.0670,    19.0000,       3774,    29.0,  16.2988,  38.3802,2,    241.2,2,  -999.0,9, -999.00,9, -999.00,9, -999.00,9, -999.00,9,-999.000,9,-999.000,9,  -999.0,9,  -999.0,9,-999.0000,9,  -999.00,-999.000,9,-999.000,-999.0000,9, -999.00,9, -999.00,9,  -999.0,9,  -999.0,-999.000,9, -999.00,     -999.0,9
06MT20110405,     MedSea,     303,          1,     209988,         24,2,20110414,       0219,    35.0670,    19.0000,       3774,     9.5,  17.0092,  38.3483,2,    235.6,2,   238.5,2,    0.64,2,    0.00,2,    0.00,2,    0.00,2,   1.428,2,   1.302,2,  2250.8,2,  2565.0,2,   7.9889,2,    25.00,-999.000,9,-999.000,-999.0000,9, -999.00,9, -999.00,9,  -999.0,9,  -999.0,-999.000,9, -999.00,      47.00,2