BOTTLE,20170314CCHSIORJL
EXPOCODE,SECT_ID,STNNBR,CASTNO,BIONBR,BTLNBR,BTLNBR_FLAG_W,DATE,TIME,LATITUDE,LONGITUDE,DEPTH,CTDPRS,CTDTMP,CTDSAL,CTDSAL_FLAG_W,CTDOXY,CTDOXY_FLAG_W,OXYGEN,OXYGEN_FLAG_W,SILCAT,SILCAT_FLAG_W,NITRAT,NITRAT_FLAG_W,NITRIT,NITRIT_FLAG_W,PHSPHT,PHSPHT_FLAG_W,CFC-12,CFC-12_FLAG_W,SF6,SF6_FLAG_W,TCARBN,TCARBN_FLAG_W,ALKALI,ALKALI_FLAG_W,PH_TOT,PH_TOT_FLAG_W,PH_TMP,TRITUM,TRITUM_FLAG_W,TRITER,HELIUM,HELIUM_FLAG_W,DELHE3,DELHE3_FLAG_W,DELC13,DELC13_FLAG_W,DELC14,DELC14_FLAG_W,C14ERR,NEON,NEON_FLAG_W,DELHER,BARIUM,BARIUM_FLAG_W
,,,,,,,,,,,METERS,DBAR,ITS-90,PSS-78,,UMOL/KG,,UMOL/KG,,UMOL/KG,,UMOL/KG,,UMOL/KG,,UMOL/KG,,PMOL/KG,,FMOL/KG,,UMOL/KG,,UMOL/KG,,,,DEG C,TU,,TU,NMOL/KG,,PERCNT,,/MILLE,,/MILLE,,/MILLE,NMOL/KG,,PERCNT,UM/KG,
06MT20110405,     MedSea,     331,          1,     213025,          1,2,20110423,       1805,    37.0500,     0.0000,       2740,  2729.8,  13.3224,  38.4827,2,    197.6,2,  -999.0,9, -999.00,9, -999.00,9, -999.00,3, -999.00,9,-999.000,9,-999.000,9,  -999.0,9,  -999.0,9,-999.0000,9,  -999.00,-999.000,9,-999.000,-999.0000,9, -999.00,9, -999.00,9,  -999.0,9,  -999.0,-999.000,9, -999.00,     -999.0,9
06MT20110405,     MedSea,     331,          1,     213026,          2,2,20110423,       1806,    37.0500,     0.0000,       2740,  2729.8,  13.3224,  38.4827,2,    197.7,2,  -999.0,9, -999.00,9, -999.00,9, -999.00,3, -999.00,9,-999.000,9,-999.000,9,  -999.0,9,  -999.0,9,-999.0000,9,  -999.00,-999.000,9,-999.000,-999.0000,9, -999.00,9, -999.00,9,  -999.0,9,  -999.0,-999.000,9, -999.00,     -999.0,9
06MT20110405,     MedSea,     331,          1,     213027,          3,2,20110423,       1806,    37.0500,     0.0000,       2740,  2729.6,  13.3225,  38.4827,2,    197.7,2,   200.6,2,    7.87,2,    8.62,2,    0.02,3,    0.38,2,   0.888,2,-999.000,9,  2320.0,2,  2587.9,2,   7.9037,2,    25.00,-999.000,9,-999.000,-999.0000,9, -999.00,9, -999.00,9,  -999.0,9,  -999.0,-999.000,9, -999.00,      72.00,2
06MT20110405,     MedSea,     331,          1,     213028,          4,2,20110423,       1811,    37.0500,     0.0000,       2740,  2544.5,  13.2872,  38.4809,2,    197.1,2,   199.2,2,    7.29,2,    8.60,2,    0.04,3,    0.33,2,   0.875,2,-999.000,9,  2319.7,2,  2588.6,2,   7.8801,3,    25.00,-999.000,9,-999.000,-999.0000,9, -999.00,9, -999.00,9,  -999.0,9,  -999.0,-999.000,9, -999.00,      77.30,2
06MT20110405,     MedSea,     331,          1,     213029,          5,2,20110423,       1818,    37.0500,     0.0000,       2740,  2289.3,  13.2370,  38.4770,2,    197.0,2,   198.5,2,    7.92,2,    8.65,2,    0.03,3,    0.35,2,-999.000,9,-999.000,9,  2319.3,2,  2586.6,2,   7.9044,2,    25.00,-999.000,9,-999.000,-999.0000,9, -999.00,9, -999.00,9,  -999.0,9,  -999.0,-999.000,9, -999.00,      72.90,2
06MT20110405,     MedSea,     331,          1,     213030,          6,2,20110423,       1823,    37.0500,     0.0000,       2740,  2033.8,  13.1990,  38.4764,2,    196.2,2,   197.4,2,    7.81,2,    8.65,2,    0.04,3,    0.34,2,   0.819,2,-999.000,9,  2318.2,2,  2585.8,2,   7.9049,2,    25.00,-999.000,9,-999.000,-999.0000,9, -999.00,9, -999.00,9,  -999.0,9,  -999.0,-999.000,9, -999.00,      77.40,2
06MT20110405,     MedSea,     331,          1,     213031,          7,2,20110423,       1829,    37.0500,     0.0000,       2740,  1778.7,  13.1597,  38.4747,2,    195.4,2,   196.9,2,    7.75,2,    8.68,2,    0.03,3,    0.36,2,-999.000,9,-999.000,9,  2318.0,2,  2585.0,2,   7.9059,2,    25.00,-999.000,9,-999.000,-999.0000,9, -999.00,9, -999.00,9,  -999.0,9,  -999.0,-999.000,9, -999.00,      77.40,2
06MT20110405,     MedSea,     331,          1,     213032,          8,2,20110423,       1835,    37.0500,     0.0000,       2740,  1524.3,  13.1158,  38.4703,2,    193.4,2,   195.0,2,    7.89,2,    8.76,2,    0.03,3,    0.36,2,   0.743,2,-999.000,9,  2317.5,2,  2585.7,2,   7.9083,2,    25.00,-999.000,9,-999.000,-999.0000,9, -999.00,9, -999.00,9,  -999.0,9,  -999.0,-999.000,9, -999.00,      76.20,2
06MT20110405,     MedSea,     331,          1,     213033,          9,2,20110423,       1841,    37.0500,     0.0000,       2740,  1270.6,  13.0694,  38.4659,2,    190.5,2,   192.6,2,    8.03,2,    8.86,2,    0.03,3,    0.36,2,   0.694,2,-999.000,9,  2317.3,2,  2587.1,2,   7.9082,2,    25.00,-999.000,9,-999.000,-999.0000,9, -999.00,9, -999.00,9,  -999.0,9,  -999.0,-999.000,9, -999.00,      72.90,2
06MT20110405,     MedSea,     331,          1,     213034,         10,2,20110423,       1846,    37.0500,     0.0000,       2740,  1016.7,  13.0813,  38.4783,2,    187.1,2,   188.2,2,    8.04,2,    8.95,2,    0.00,3,    0.36,2,   0.641,2,-999.000,9,  2318.6,2,  2588.3,2,   7.9075,2,    25.00,-999.000,9,-999.000,-999.0000,9, -999.00,9, -999.00,9,  -999.0,9,  -999.0,-999.000,9, -999.00,      72.90,2
06MT20110405,     MedSea,     331,          1,     213035,         11,2,20110423,       1851,    37.0500,     0.0000,       2740,   813.8,  13.1296,  38.4971,2,    184.3,2,   184.1,2,    7.29,2,    9.05,2,    0.04,3,    0.37,3,   0.640,2,-999.000,9,  2320.2,2,  2587.1,2,   7.9108,2,    25.00,-999.000,9,-999.000,-999.0000,9, -999.00,9, -999.00,9,  -999.0,9,  -999.0,-999.000,9, -999.00,      76.50,2
06MT20110405,     MedSea,     331,          1,     213036,         12,2,20110423,       1856,    37.0500,     0.0000,       2740,   609.6,  13.0978,  38.4928,2,    179.6,2,   179.2,2,    8.29,2,    9.47,2,    0.03,3,    0.40,2,-999.000,9,-999.000,9,  2323.6,2,  2587.4,2,   7.9003,2,    25.00,-999.000,9,-999.000,-999.0000,9, -999.00,9, -999.00,9,  -999.0,9,  -999.0,-999.000,9, -999.00,      74.40,2
06MT20110405,     MedSea,     331,          1,     213037,         13,2,20110423,       1858,    37.0500,     0.0000,       2740,   509.6,  13.2324,  38.5289,2,    177.6,2,   178.6,2,    7.53,2,    9.18,2,    0.01,3,    0.42,2,   0.684,2,-999.000,9,  2324.4,2,  2588.8,2,   7.9028,2,    25.00,-999.000,9,-999.000,-999.0000,9, -999.00,9, -999.00,9,  -999.0,9,  -999.0,-999.000,9, -999.00,      72.20,2
06MT20110405,     MedSea,     331,          1,     213038,         14,2,20110423,       1901,    37.0500,     0.0000,       2740,   407.7,  13.3126,  38.5473,2,    174.2,2,   174.1,2,    6.81,2,    9.43,2,    0.01,3,    0.37,2,-999.000,9,-999.000,9,  2328.2,2,  2589.8,2,   7.8967,2,    25.00,-999.000,9,-999.000,-999.0000,9, -999.00,9, -999.00,9,  -999.0,9,  -999.0,-999.000,9, -999.00,      69.80,2
06MT20110405,     MedSea,     331,          1,     213039,         15,2,20110423,       1904,    37.0500,     0.0000,       2740,   307.4,  13.3701,  38.5475,2,    171.9,2,   171.5,2,    6.11,2,    9.65,2,    0.03,3,    0.38,2,   0.912,2,-999.000,9,  2331.2,2,  2589.2,2,   7.8854,2,    25.00,-999.000,9,-999.000,-999.0000,9, -999.00,9, -999.00,9,  -999.0,9,  -999.0,-999.000,9, -999.00,      66.80,2
06MT20110405,     MedSea,     331,          1,     213040,         16,2,20110423,       1906,    37.0500,     0.0000,       2740,   257.2,  13.3910,  38.5286,2,    174.1,2,   171.9,2,    5.28,2,    9.37,2,    0.01,3,    0.35,2,   1.051,2,-999.000,9,  2330.7,2,  2586.1,2,   7.8860,2,    25.00,-999.000,9,-999.000,-999.0000,9, -999.00,9, -999.00,9,  -999.0,9,  -999.0,-999.000,9, -999.00,      64.80,2
06MT20110405,     MedSea,     331,          1,     213041,         17,2,20110423,       1908,    37.0500,     0.0000,       2740,   205.8,  13.3299,  38.4740,2,    182.7,2,   181.4,2,    4.50,2,    8.66,2,    0.02,3,    0.33,2,   1.164,2,-999.000,9,  2325.3,2,  2581.2,2,   7.8885,2,    25.00,-999.000,9,-999.000,-999.0000,9, -999.00,9, -999.00,9,  -999.0,9,  -999.0,-999.000,9, -999.00,      68.50,2
06MT20110405,     MedSea,     331,          1,     213042,         18,2,20110423,       1910,    37.0500,     0.0000,       2740,   153.8,  13.2688,  38.3781,2,    185.4,2,   182.8,2,    3.50,2,    8.17,2,    0.02,3,    0.29,2,   1.312,2,-999.000,9,  2320.8,2,  2573.0,2,   7.8819,2,    25.00,-999.000,9,-999.000,-999.0000,9, -999.00,9, -999.00,9,  -999.0,9,  -999.0,-999.000,9, -999.00,      67.80,2
06MT20110405,     MedSea,     331,          1,     213043,         19,2,20110423,       1912,    37.0500,     0.0000,       2740,   104.1,  13.0949,  38.2113,2,    213.9,2,   208.4,2,    2.36,2,    5.65,2,    0.03,3,    0.18,2,   1.470,2,-999.000,9,  2300.6,2,  2565.1,2,   7.9044,2,    25.00,-999.000,9,-999.000,-999.0000,9, -999.00,9, -999.00,9,  -999.0,9,  -999.0,-999.000,9, -999.00,      61.60,2
06MT20110405,     MedSea,     331,          1,     213044,         20,2,20110423,       1913,    37.0500,     0.0000,       2740,    77.6,  13.1344,  38.1233,2,    223.5,2,   224.8,2,    1.62,2,    3.63,2,    0.03,3,    0.09,2,-999.000,9,-999.000,9,  2284.1,3,  2558.8,2,   7.9233,2,    25.00,-999.000,9,-999.000,-999.0000,9, -999.00,9, -999.00,9,  -999.0,9,  -999.0,-999.000,9, -999.00,      60.50,2
06MT20110405,     MedSea,     331,          1,     213045,         21,2,20110423,       1915,    37.0500,     0.0000,       2740,    53.5,  13.9558,  38.0838,2,    208.7,2,   207.8,2,    1.34,2,    4.21,2,    0.05,3,    0.12,2,   1.512,2,-999.000,9,  2285.4,3,  2550.0,2,   7.9094,2,    25.00,-999.000,9,-999.000,-999.0000,9, -999.00,9, -999.00,9,  -999.0,9,  -999.0,-999.000,9, -999.00,      55.30,2
06MT20110405,     MedSea,     331,          1,     213046,         22,2,20110423,       1916,    37.0500,     0.0000,       2740,    27.8,  15.0191,  37.6094,2,    248.4,2,   248.5,2,    0.42,2,    0.04,2,    0.00,3,    0.00,2,-999.000,9,-999.000,9,  2211.8,2,  2508.7,2,   7.9763,2,    25.00,-999.000,9,-999.000,-999.0000,9, -999.00,9, -999.00,9,  -999.0,9,  -999.0,-999.000,9, -999.00,      50.10,2
06MT20110405,     MedSea,     331,          1,     213047,         23,2,20110423,       1917,    37.0500,     0.0000,       2740,     7.8,  17.0854,  36.8293,2,    239.2,2,   244.0,2,    0.39,2,   -0.01,2,    0.03,3,    0.03,2,   1.440,2,-999.000,9,  2150.2,2,  2441.4,2,   7.9849,2,    25.00,-999.000,9,-999.000,-999.0000,9, -999.00,9, -999.00,9,  -999.0,9,  -999.0,-999.000,9, -999.00,      45.70,2
06MT20110405,     MedSea,     331,          1,     213048,         24,2,20110423,       1918,    37.0500,     0.0000,       2740,     7.9,  17.1092,  36.8286,2,    237.7,2,  -999.0,9, -999.00,9, -999.00,9, -999.00,3, -999.00,9,-999.000,9,-999.000,9,  -999.0,9,  -999.0,9,-999.0000,9,  -999.00,-999.000,9,-999.000,-999.0000,9, -999.00,9, -999.00,9,  -999.0,9,  -999.0,-999.000,9, -999.00,     -999.0,9