BOTTLE,20170314CCHSIORJL
EXPOCODE,SECT_ID,STNNBR,CASTNO,BIONBR,BTLNBR,BTLNBR_FLAG_W,DATE,TIME,LATITUDE,LONGITUDE,DEPTH,CTDPRS,CTDTMP,CTDSAL,CTDSAL_FLAG_W,CTDOXY,CTDOXY_FLAG_W,OXYGEN,OXYGEN_FLAG_W,SILCAT,SILCAT_FLAG_W,NITRAT,NITRAT_FLAG_W,NITRIT,NITRIT_FLAG_W,PHSPHT,PHSPHT_FLAG_W,CFC-12,CFC-12_FLAG_W,SF6,SF6_FLAG_W,TCARBN,TCARBN_FLAG_W,ALKALI,ALKALI_FLAG_W,PH_TOT,PH_TOT_FLAG_W,PH_TMP,TRITUM,TRITUM_FLAG_W,TRITER,HELIUM,HELIUM_FLAG_W,DELHE3,DELHE3_FLAG_W,DELC13,DELC13_FLAG_W,DELC14,DELC14_FLAG_W,C14ERR,NEON,NEON_FLAG_W,DELHER,BARIUM,BARIUM_FLAG_W
,,,,,,,,,,,METERS,DBAR,ITS-90,PSS-78,,UMOL/KG,,UMOL/KG,,UMOL/KG,,UMOL/KG,,UMOL/KG,,UMOL/KG,,PMOL/KG,,FMOL/KG,,UMOL/KG,,UMOL/KG,,,,DEG C,TU,,TU,NMOL/KG,,PERCNT,,/MILLE,,/MILLE,,/MILLE,NMOL/KG,,PERCNT,UM/KG,
06MT20110405,     MedSea,     309,          1,     212090,          1,2,20110416,       0146,    39.5000,    18.8000,        812,   801.4,  13.6634,  38.7425,2,    189.9,2,  -999.0,9, -999.00,9, -999.00,9, -999.00,9, -999.00,9,-999.000,9,-999.000,9,  -999.0,9,  -999.0,9,-999.0000,9,  -999.00,-999.000,9,-999.000,-999.0000,9, -999.00,9, -999.00,9,  -999.0,9,  -999.0,-999.000,9, -999.00,     -999.0,9
06MT20110405,     MedSea,     309,          1,     212091,          2,2,20110416,       0147,    39.5000,    18.8000,        812,   801.4,  13.6633,  38.7425,2,    190.1,2,  -999.0,9, -999.00,9, -999.00,9, -999.00,9, -999.00,9,-999.000,9,-999.000,9,  -999.0,9,  -999.0,9,-999.0000,9,  -999.00,-999.000,9,-999.000,-999.0000,9, -999.00,9, -999.00,9,  -999.0,9,  -999.0,-999.000,9, -999.00,     -999.0,9
06MT20110405,     MedSea,     309,          1,     212092,          3,2,20110416,       0147,    39.5000,    18.8000,        812,   801.4,  13.6635,  38.7425,2,    190.1,2,  -999.0,9, -999.00,9, -999.00,9, -999.00,9, -999.00,9,-999.000,9,-999.000,9,  -999.0,9,  -999.0,9,-999.0000,9,  -999.00,-999.000,9,-999.000,-999.0000,9, -999.00,9, -999.00,9,  -999.0,9,  -999.0,-999.000,9, -999.00,     -999.0,9
06MT20110405,     MedSea,     309,          1,     212093,          4,2,20110416,       0147,    39.5000,    18.8000,        812,   801.5,  13.6632,  38.7425,2,    189.9,2,   188.3,2,    6.67,3,    5.10,2,    0.01,2,    0.22,2,   0.619,2,   0.369,2,  2310.8,2,  -999.0,9,   7.9606,2,    25.00,-999.000,9,-999.000,-999.0000,9, -999.00,9, -999.00,9,  -999.0,9,  -999.0,-999.000,9, -999.00,      73.80,2
06MT20110405,     MedSea,     309,          1,     212094,          5,2,20110416,       0147,    39.5000,    18.8000,        812,   801.4,  13.6633,  38.7425,2,    190.0,2,  -999.0,9, -999.00,9, -999.00,9, -999.00,9, -999.00,9,-999.000,9,-999.000,9,  -999.0,9,  -999.0,9,-999.0000,9,  -999.00,-999.000,9,-999.000,-999.0000,9, -999.00,9, -999.00,9,  -999.0,9,  -999.0,-999.000,9, -999.00,     -999.0,9
06MT20110405,     MedSea,     309,          1,     212095,          6,2,20110416,       0147,    39.5000,    18.8000,        812,   801.4,  13.6633,  38.7425,2,    190.1,2,  -999.0,9, -999.00,9, -999.00,9, -999.00,9, -999.00,9,-999.000,9,-999.000,9,  -999.0,9,  -999.0,9,-999.0000,9,  -999.00,-999.000,9,-999.000,-999.0000,9, -999.00,9, -999.00,9,  -999.0,9,  -999.0,-999.000,9, -999.00,     -999.0,9
06MT20110405,     MedSea,     309,          1,     212096,          7,2,20110416,       0148,    39.5000,    18.8000,        812,   801.4,  13.6634,  38.7425,2,    190.2,2,  -999.0,9, -999.00,9, -999.00,9, -999.00,9, -999.00,9,-999.000,9,-999.000,9,  -999.0,9,  -999.0,9,-999.0000,9,  -999.00,-999.000,9,-999.000,-999.0000,9, -999.00,9, -999.00,9,  -999.0,9,  -999.0,-999.000,9, -999.00,     -999.0,9
06MT20110405,     MedSea,     309,          1,     212097,          8,2,20110416,       0150,    39.5000,    18.8000,        812,   710.8,  13.6226,  38.7135,2,    206.4,2,   205.9,2,    3.58,2,    4.84,2,    0.01,2,    0.18,2,   1.345,2,   1.066,2,  2326.1,2,  -999.0,9,   7.9351,2,    25.00,-999.000,9,-999.000,-999.0000,9, -999.00,9, -999.00,9,  -999.0,9,  -999.0,-999.000,9, -999.00,      62.50,2
06MT20110405,     MedSea,     309,          1,     212098,          9,2,20110416,       0153,    39.5000,    18.8000,        812,   609.6,  13.7250,  38.7181,2,    204.8,2,   204.6,2,    3.22,2,    4.80,2,    0.01,2,    0.19,2,-999.000,9,-999.000,9,  2326.7,2,  -999.0,9,   7.9364,2,    25.00,-999.000,9,-999.000,-999.0000,9, -999.00,9, -999.00,9,  -999.0,9,  -999.0,-999.000,9, -999.00,      60.80,2
06MT20110405,     MedSea,     309,          1,     212099,         10,2,20110416,       0156,    39.5000,    18.8000,        812,   507.9,  14.0036,  38.7654,2,    201.4,2,   201.3,2,    3.06,2,    4.64,2,    0.01,2,    0.17,2,-999.000,9,-999.000,9,  2327.0,2,  -999.0,9,   7.9430,2,    25.00,-999.000,9,-999.000,-999.0000,9, -999.00,9, -999.00,9,  -999.0,9,  -999.0,-999.000,9, -999.00,      66.80,2
06MT20110405,     MedSea,     309,          1,     212100,         11,2,20110416,       0159,    39.5000,    18.8000,        812,   406.1,  14.7147,  38.9301,2,    198.4,2,   197.4,2,    2.70,2,    4.06,2,    0.00,2,    0.14,2,   1.283,2,   0.966,2,  2323.9,2,  -999.0,9,   7.9532,2,    25.00,-999.000,9,-999.000,-999.0000,9, -999.00,9, -999.00,9,  -999.0,9,  -999.0,-999.000,9, -999.00,      62.70,2
06MT20110405,     MedSea,     309,          1,     212101,         12,2,20110416,       0203,    39.5000,    18.8000,        812,   305.4,  15.1370,  38.9822,2,    204.2,2,   201.3,2,    2.03,2,    3.25,2,    0.01,2,    0.09,2,   1.277,2,   1.096,2,  2322.9,2,  -999.0,9,   7.9583,2,    25.00,-999.000,9,-999.000,-999.0000,9, -999.00,9, -999.00,9,  -999.0,9,  -999.0,-999.000,9, -999.00,      62.70,2
06MT20110405,     MedSea,     309,          1,     212102,         13,2,20110416,       0204,    39.5000,    18.8000,        812,   254.7,  15.4864,  39.0209,2,    208.5,2,   208.5,2,    1.55,2,    2.50,2,    0.01,2,    0.07,2,   1.006,2,   0.925,2,  2320.4,2,  -999.0,9,   7.9655,2,    25.00,-999.000,9,-999.000,-999.0000,9, -999.00,9, -999.00,9,  -999.0,9,  -999.0,-999.000,9, -999.00,      56.60,2
06MT20110405,     MedSea,     309,          1,     212103,         14,2,20110416,       0206,    39.5000,    18.8000,        812,   203.9,  15.7508,  39.0573,2,    210.4,2,  -999.0,9,    1.24,2,    1.97,2,    0.01,2,    0.08,2,-999.000,9,-999.000,9,  -999.0,9,  -999.0,9,-999.0000,9,  -999.00,-999.000,9,-999.000,-999.0000,9, -999.00,9, -999.00,9,  -999.0,9,  -999.0,-999.000,9, -999.00,     -999.0,9
06MT20110405,     MedSea,     309,          1,     212104,         15,2,20110416,       0208,    39.5000,    18.8000,        812,   153.4,  15.6157,  38.8631,2,    227.1,3,   219.3,3,    0.84,2,    0.96,2,    0.05,2,    0.02,2,   1.360,2,    1.36,2,  2305.2,2,  -999.0,9,   7.9833,2,    25.00,-999.000,9,-999.000,-999.0000,9, -999.00,9, -999.00,9,  -999.0,9,  -999.0,-999.000,9, -999.00,      57.90,2
06MT20110405,     MedSea,     309,          1,     212105,         16,2,20110416,       0210,    39.5000,    18.8000,        812,   102.8,  15.6675,  38.7765,2,    234.5,2,   230.9,2,    0.73,2,    0.50,2,    0.09,2,    0.03,2,   1.468,2,   1.443,2,  2289.2,2,  -999.0,9,   7.9958,2,    25.00,-999.000,9,-999.000,-999.0000,9, -999.00,9, -999.00,9,  -999.0,9,  -999.0,-999.000,9, -999.00,      55.50,2
06MT20110405,     MedSea,     309,          1,     212106,         17,2,20110416,       0212,    39.5000,    18.8000,        812,    77.5,  15.9513,  38.7841,2,    237.5,2,   237.3,2,    0.64,2,    0.04,2,    0.02,2,    0.02,2,   1.323,2,   1.331,2,  2282.8,2,  -999.0,9,   8.0033,2,    25.00,-999.000,9,-999.000,-999.0000,9, -999.00,9, -999.00,9,  -999.0,9,  -999.0,-999.000,9, -999.00,      52.20,2
06MT20110405,     MedSea,     309,          1,     212107,         18,2,20110416,       0214,    39.5000,    18.8000,        812,    52.8,  16.0015,  38.7809,2,    238.7,2,   238.9,2,    0.63,2,    0.01,2,    0.00,2,    0.01,2,   1.401,2,   1.439,2,  2282.4,2,  -999.0,9,   8.0013,2,    25.00,-999.000,9,-999.000,-999.0000,9, -999.00,9, -999.00,9,  -999.0,9,  -999.0,-999.000,9, -999.00,      49.40,2
06MT20110405,     MedSea,     309,          1,     212108,         19,2,20110416,       0216,    39.5000,    18.8000,        812,    27.4,  16.0517,  38.7783,2,    239.1,2,   239.0,2,    0.63,2,   -0.01,2,    0.00,2,    0.01,2,   1.441,2,   1.505,2,  2281.6,2,  -999.0,9,   7.9993,2,    25.00,-999.000,9,-999.000,-999.0000,9, -999.00,9, -999.00,9,  -999.0,9,  -999.0,-999.000,9, -999.00,      61.50,2
06MT20110405,     MedSea,     309,          1,     212109,         20,2,20110416,       0218,    39.5000,    18.8000,        812,     7.2,  16.0829,  38.7705,2,    239.6,2,   242.5,2,    0.64,2,   -0.01,2,    0.00,2,    0.00,2,   1.480,2,   1.805,2,  2281.0,2,  -999.0,9,   8.0035,2,    25.00,-999.000,9,-999.000,-999.0000,9, -999.00,9, -999.00,9,  -999.0,9,  -999.0,-999.000,9, -999.00,      55.90,2
06MT20110405,     MedSea,     309,          1,     212110,         21,2,20110416,       0218,    39.5000,    18.8000,        812,     7.3,  16.0824,  38.7703,2,    239.3,2,  -999.0,9, -999.00,9, -999.00,9, -999.00,9, -999.00,9,-999.000,9,-999.000,9,  -999.0,9,  -999.0,9,-999.0000,9,  -999.00,-999.000,9,-999.000,-999.0000,9, -999.00,9, -999.00,9,  -999.0,9,  -999.0,-999.000,9, -999.00,     -999.0,9
06MT20110405,     MedSea,     309,          1,     -999.0,         22,2,20110416,       0219,    39.5000,    18.8000,        812,     7.2,  16.0802,  38.7705,2,    239.2,2,  -999.0,9, -999.00,9, -999.00,9, -999.00,9, -999.00,9,-999.000,9,-999.000,9,  -999.0,9,  -999.0,9,-999.0000,9,  -999.00,-999.000,9,-999.000,-999.0000,9, -999.00,9, -999.00,9,  -999.0,9,  -999.0,-999.000,9, -999.00,     -999.0,9
06MT20110405,     MedSea,     309,          1,     -999.0,         23,2,20110416,       0219,    39.5000,    18.8000,        812,     7.2,  16.0787,  38.7705,2,    238.4,2,  -999.0,9, -999.00,9, -999.00,9, -999.00,9, -999.00,9,-999.000,9,-999.000,9,  -999.0,9,  -999.0,9,-999.0000,9,  -999.00,-999.000,9,-999.000,-999.0000,9, -999.00,9, -999.00,9,  -999.0,9,  -999.0,-999.000,9, -999.00,     -999.0,9
06MT20110405,     MedSea,     309,          1,     212111,         24,2,20110416,       0219,    39.5000,    18.8000,        812,     7.2,  16.0892,  38.7705,2,    240.0,2,  -999.0,9, -999.00,9, -999.00,9, -999.00,9, -999.00,9,-999.000,9,-999.000,9,  -999.0,9,  -999.0,9,-999.0000,9,  -999.00,-999.000,9,-999.000,-999.0000,9, -999.00,9, -999.00,9,  -999.0,9,  -999.0,-999.000,9, -999.00,     -999.0,9
06MT20110405,     MedSea,     310,          1,     212112,          1,2,20110416,       0708,    40.1670,    19.1660,        972,   961.8,  13.4806,  38.7197,2,    206.9,2,  -999.0,9, -999.00,9, -999.00,9, -999.00,9, -999.00,9,-999.000,9,-999.000,9,  -999.0,9,  -999.0,9,-999.0000,9,  -999.00,-999.000,9,-999.000,-999.0000,9, -999.00,9, -999.00,9,  -999.0,9,  -999.0,-999.000,9, -999.00,     -999.0,9
06MT20110405,     MedSea,     310,          1,     212113,          2,2,20110416,       0708,    40.1670,    19.1660,        972,   961.8,  13.4807,  38.7197,2,    206.2,2,  -999.0,9, -999.00,9, -999.00,9, -999.00,9, -999.00,9,-999.000,9,-999.000,9,  2328.4,6,  2614.0,6,-999.0000,9,  -999.00,-999.000,9,-999.000,-999.0000,9, -999.00,9, -999.00,9,  -999.0,9,  -999.0,-999.000,9, -999.00,     -999.0,9
06MT20110405,     MedSea,     310,          1,     212114,          3,2,20110416,       0708,    40.1670,    19.1660,        972,   961.8,  13.4827,  38.7197,2,    206.6,2,   208.3,2,    4.36,3,    4.46,3,    0.01,2,    0.18,2,   1.424,2,    1.19,2,  2329.4,2,  2617.9,2,   7.9362,2,    25.00,-999.000,9,-999.000,-999.0000,9, -999.00,9, -999.00,9,  -999.0,9,  -999.0,-999.000,9, -999.00,      64.70,2
06MT20110405,     MedSea,     310,          1,     212115,          4,2,20110416,       0712,    40.1670,    19.1660,        972,   810.3,  13.8212,  38.7654,2,    189.4,2,   190.6,2,    5.63,2,    5.26,2,    0.00,2,    0.22,2,   0.786,3,   0.523,3,  2315.7,2,  2616.3,2,   7.9580,2,    25.00,-999.000,9,-999.000,   1.8600,2,    2.67,2, -999.00,9,  -999.0,9,  -999.0,   7.400,2,    0.15,      76.00,2
06MT20110405,     MedSea,     310,          1,     212116,          5,2,20110416,       0717,    40.1670,    19.1660,        972,   607.3,  14.0776,  38.8163,2,    195.0,2,   201.8,3,    4.11,2,    5.01,2,    0.00,2,    0.20,2,   0.007,4,       0,4,  2323.2,2,  2620.2,2,   7.9487,2,    25.00,-999.000,9,-999.000,   1.8600,2,    2.09,2, -999.00,9,  -999.0,9,  -999.0,   7.500,2,    0.14,      62.80,2
06MT20110405,     MedSea,     310,          1,     212117,          6,2,20110416,       0720,    40.1670,    19.1660,        972,   506.7,  14.2685,  38.8401,2,    198.4,2,   197.6,2,    3.25,2,    4.56,2,    0.00,2,    0.17,2,   1.247,2,   0.984,2,  2325.3,2,  2622.1,2,   7.9451,2,    25.00,-999.000,9,-999.000,-999.0000,9, -999.00,9, -999.00,9,  -999.0,9,  -999.0,-999.000,9, -999.00,      71.60,2
06MT20110405,     MedSea,     310,          1,     212118,          7,2,20110416,       0722,    40.1670,    19.1660,        972,   405.3,  14.4596,  38.8249,2,    204.4,2,   205.0,2,    2.15,2,    3.53,2,    0.00,2,    0.11,2,   1.427,2,   1.267,2,  2323.7,2,  2621.3,2,   7.9497,2,    25.00,-999.000,9,-999.000,   1.8200,2,   -0.16,2, -999.00,9,  -999.0,9,  -999.0,   7.400,2,    0.15,      61.00,2
06MT20110405,     MedSea,     310,          1,     212119,          8,2,20110416,       0725,    40.1670,    19.1660,        972,   304.5,  15.2745,  38.9703,2,    209.5,2,   211.6,2,    1.52,2,    2.48,2,    0.00,2,    0.06,2,   0.485,3,   0.463,3,  2319.1,2,  2627.0,2,   7.9629,2,    25.00,-999.000,9,-999.000,   1.8400,2,   -0.24,2, -999.00,9,  -999.0,9,  -999.0,   7.450,2,    0.13,      58.60,2
06MT20110405,     MedSea,     310,          1,     212120,          9,2,20110416,       0727,    40.1670,    19.1660,        972,   254.6,  15.4960,  38.9837,2,    213.0,2,   216.8,2,    1.22,2,    1.94,2,    0.01,2,    0.04,2,   1.460,2,   1.362,2,  2316.8,2,  2630.1,2,   7.9689,2,    25.00,-999.000,9,-999.000,-999.0000,9, -999.00,9, -999.00,9,  -999.0,9,  -999.0,-999.000,9, -999.00,      53.20,2
06MT20110405,     MedSea,     310,          1,     212121,         10,2,20110416,       0728,    40.1670,    19.1660,        972,   254.7,  15.4963,  38.9837,2,    212.6,2,  -999.0,9, -999.00,9, -999.00,9, -999.00,9, -999.00,9,-999.000,9,-999.000,9,  -999.0,9,  -999.0,9,-999.0000,9,  -999.00,-999.000,9,-999.000,-999.0000,9, -999.00,9, -999.00,9,  -999.0,9,  -999.0,-999.000,9, -999.00,     -999.0,9
06MT20110405,     MedSea,     310,          1,     212122,         11,2,20110416,       0729,    40.1670,    19.1660,        972,   204.0,  15.6756,  38.9327,2,    218.8,2,   217.1,2,    0.97,2,    1.41,2,    0.02,2,    0.03,2,   1.157,2,   1.158,2,  2310.3,2,  2627.7,2,   7.9760,2,    25.00,-999.000,9,-999.000,   1.7700,2,   -1.91,2, -999.00,9,  -999.0,9,  -999.0,   7.200,2,    0.15,      51.10,2
06MT20110405,     MedSea,     310,          1,     212123,         12,2,20110416,       0731,    40.1670,    19.1660,        972,   153.7,  15.6905,  38.7996,2,    231.0,2,   228.7,2,    0.77,2,    0.66,2,    0.11,2,    0.02,2,-999.000,9,   1.477,2,  2294.2,2,  2619.6,2,   7.9931,2,    25.00,-999.000,9,-999.000,   1.8000,2,   -1.86,2, -999.00,9,  -999.0,9,  -999.0,   7.250,2,    0.29,      51.00,2
06MT20110405,     MedSea,     310,          1,     212124,         13,2,20110416,       0733,    40.1670,    19.1660,        972,   103.5,  15.9291,  38.8166,2,    234.4,2,   235.2,2,    0.61,2,    0.16,2,    0.09,2,    0.00,2,   1.466,2,    1.42,2,  2284.1,2,  2615.8,2,   8.0000,2,    25.00,-999.000,9,-999.000,-999.0000,9, -999.00,9, -999.00,9,  -999.0,9,  -999.0,-999.000,9, -999.00,      49.80,2
06MT20110405,     MedSea,     310,          1,     212125,         14,2,20110416,       0733,    40.1670,    19.1660,        972,   103.5,  15.9297,  38.8166,2,    235.1,2,  -999.0,9, -999.00,9, -999.00,9, -999.00,9, -999.00,9,-999.000,9,-999.000,9,  -999.0,9,  -999.0,9,-999.0000,9,  -999.00,-999.000,9,-999.000,-999.0000,9, -999.00,9, -999.00,9,  -999.0,9,  -999.0,-999.000,9, -999.00,     -999.0,9
06MT20110405,     MedSea,     310,          1,     212126,         15,2,20110416,       0735,    40.1670,    19.1660,        972,    78.2,  15.9341,  38.8121,2,    236.0,2,   237.7,2,    0.61,2,    0.06,2,    0.04,2,    0.01,2,   1.429,2,   1.441,2,  2283.1,2,  2616.0,2,   7.9994,2,    25.00,-999.000,9,-999.000,-999.0000,9, -999.00,9, -999.00,9,  -999.0,9,  -999.0,-999.000,9, -999.00,      58.20,2
06MT20110405,     MedSea,     310,          1,     212127,         16,2,20110416,       0737,    40.1670,    19.1660,        972,    52.8,  15.9355,  38.8058,2,    237.0,2,  -999.0,9, -999.00,9, -999.00,9, -999.00,9, -999.00,9,-999.000,9,-999.000,9,  -999.0,9,  -999.0,9,-999.0000,9,  -999.00,-999.000,9,-999.000,-999.0000,9, -999.00,9, -999.00,9,  -999.0,9,  -999.0,-999.000,9, -999.00,     -999.0,9
06MT20110405,     MedSea,     310,          1,     212128,         17,2,20110416,       0737,    40.1670,    19.1660,        972,    52.8,  15.9350,  38.8058,2,    237.3,2,   239.2,2,    0.62,2,    0.01,2,    0.02,2,    0.01,2,   1.267,2,   1.313,2,  2281.9,2,  2615.7,2,   8.0033,2,    25.00,-999.000,9,-999.000,-999.0000,9, -999.00,9, -999.00,9,  -999.0,9,  -999.0,-999.000,9, -999.00,      57.00,2
06MT20110405,     MedSea,     310,          1,     212129,         18,2,20110416,       0738,    40.1670,    19.1660,        972,    27.2,  15.9331,  38.7995,2,    239.0,2,  -999.0,9, -999.00,9, -999.00,9, -999.00,9, -999.00,9,-999.000,9,-999.000,9,  -999.0,9,  -999.0,9,-999.0000,9,  -999.00,-999.000,9,-999.000,-999.0000,9, -999.00,9, -999.00,9,  -999.0,9,  -999.0,-999.000,9, -999.00,     -999.0,9
06MT20110405,     MedSea,     310,          1,     212130,         19,2,20110416,       0739,    40.1670,    19.1660,        972,    27.3,  15.9341,  38.7996,2,    238.0,2,   242.0,2,    0.62,2,    0.01,2,    0.01,2,    0.00,2,   1.021,2,   1.033,2,  2281.7,2,  2615.1,2,   8.0053,2,    25.00,-999.000,9,-999.000,   1.8000,2,   -1.47,2, -999.00,9,  -999.0,9,  -999.0,   7.300,2,    0.43,      52.40,2
06MT20110405,     MedSea,     310,          1,     212131,         20,2,20110416,       0740,    40.1670,    19.1660,        972,     7.5,  15.9294,  38.7921,2,    239.0,2,  -999.0,9, -999.00,9, -999.00,9, -999.00,9, -999.00,9,-999.000,9,-999.000,9,  -999.0,9,  -999.0,9,-999.0000,9,  -999.00,-999.000,9,-999.000,-999.0000,9, -999.00,9, -999.00,9,  -999.0,9,  -999.0,-999.000,9, -999.00,     -999.0,9
06MT20110405,     MedSea,     310,          1,     212132,         21,2,20110416,       0740,    40.1670,    19.1660,        972,     7.6,  15.9290,  38.7927,2,    237.7,2,   238.6,2,    0.61,2,    0.00,2,    0.01,2,    0.00,2,   1.464,2,   1.436,2,  2281.9,2,  2614.6,2,   8.0057,2,    25.00,-999.000,9,-999.000,   1.8000,2,   -1.24,2, -999.00,9,  -999.0,9,  -999.0,   7.300,2,    0.37,      50.00,2
06MT20110405,     MedSea,     310,          1,     -999.0,         22,2,20110416,       0740,    40.1670,    19.1660,        972,     7.6,  15.9239,  38.7927,2,    237.5,2,  -999.0,9, -999.00,9, -999.00,9, -999.00,9, -999.00,9,-999.000,9,-999.000,9,  -999.0,9,  -999.0,9,-999.0000,9,  -999.00,-999.000,9,-999.000,-999.0000,9, -999.00,9, -999.00,9,  -999.0,9,  -999.0,-999.000,9, -999.00,     -999.0,9
06MT20110405,     MedSea,     310,          1,     -999.0,         23,2,20110416,       0740,    40.1670,    19.1660,        972,     7.6,  15.9272,  38.7927,2,    238.1,2,  -999.0,9, -999.00,9, -999.00,9, -999.00,9, -999.00,9,-999.000,9,-999.000,9,  -999.0,9,  -999.0,9,-999.0000,9,  -999.00,-999.000,9,-999.000,-999.0000,9, -999.00,9, -999.00,9,  -999.0,9,  -999.0,-999.000,9, -999.00,     -999.0,9