BOTTLE,20170314CCHSIORJL
EXPOCODE,SECT_ID,STNNBR,CASTNO,BIONBR,BTLNBR,BTLNBR_FLAG_W,DATE,TIME,LATITUDE,LONGITUDE,DEPTH,CTDPRS,CTDTMP,CTDSAL,CTDSAL_FLAG_W,CTDOXY,CTDOXY_FLAG_W,OXYGEN,OXYGEN_FLAG_W,SILCAT,SILCAT_FLAG_W,NITRAT,NITRAT_FLAG_W,NITRIT,NITRIT_FLAG_W,PHSPHT,PHSPHT_FLAG_W,CFC-12,CFC-12_FLAG_W,SF6,SF6_FLAG_W,TCARBN,TCARBN_FLAG_W,ALKALI,ALKALI_FLAG_W,PH_TOT,PH_TOT_FLAG_W,PH_TMP,TRITUM,TRITUM_FLAG_W,TRITER,HELIUM,HELIUM_FLAG_W,DELHE3,DELHE3_FLAG_W,DELC13,DELC13_FLAG_W,DELC14,DELC14_FLAG_W,C14ERR,NEON,NEON_FLAG_W,DELHER,BARIUM,BARIUM_FLAG_W
,,,,,,,,,,,METERS,DBAR,ITS-90,PSS-78,,UMOL/KG,,UMOL/KG,,UMOL/KG,,UMOL/KG,,UMOL/KG,,UMOL/KG,,PMOL/KG,,FMOL/KG,,UMOL/KG,,UMOL/KG,,,,DEG C,TU,,TU,NMOL/KG,,PERCNT,,/MILLE,,/MILLE,,/MILLE,NMOL/KG,,PERCNT,UM/KG,
06MT20110405,     MedSea,     301,          1,     209923,          1,2,20110413,       0745,    35.2330,    21.4830,       3565,  3554.6,  16.4469, 152.7102,2,    191.3,2,  -999.0,9, -999.00,9, -999.00,9, -999.00,9, -999.00,9,-999.000,9,-999.000,9,  -999.0,9,  -999.0,9,-999.0000,9,  -999.00,-999.000,9,-999.000,-999.0000,9, -999.00,9, -999.00,9,  -999.0,9,  -999.0,-999.000,9, -999.00,     -999.0,9
06MT20110405,     MedSea,     301,          1,     209924,          2,2,20110413,       0746,    35.2330,    21.4830,       3565,  3554.5,  16.4481, 152.7112,2,    190.7,2,  -999.0,9,   73.76,4,    0.00,4,    0.00,2,    1.29,4,-999.000,9,-999.000,9,  -999.0,9,  -999.0,9,-999.0000,9,  -999.00,-999.000,9,-999.000,-999.0000,9, -999.00,9,   -5.07,4,  -979.1,4,     0.1,-999.000,9, -999.00,     153.90,2
06MT20110405,     MedSea,     301,          1,     209925,          3,2,20110413,       0757,    35.2330,    21.4830,       3565,  3055.3,  13.9395,  38.7322,2,    191.4,2,   189.3,2,    6.89,2,    4.37,2,    0.01,2,    0.16,2,   0.715,2,    0.31,2,  2311.8,2,  2614.2,2,   7.9562,2,    25.00,   0.640,2,   0.020,-999.0000,9, -999.00,9,    0.40,3,     3.7,2,     0.3,-999.000,9, -999.00,     -999.0,9
06MT20110405,     MedSea,     301,          1,     209926,          4,2,20110413,       0807,    35.2330,    21.4830,       3565,  2543.4,  13.8634,  38.7315,2,    191.7,2,   190.1,2,    6.83,2,    4.47,2,    0.01,2,    0.16,2,   0.665,2,   0.256,2,  2308.9,2,  2614.1,2,   7.9616,2,    25.00,   0.640,2,   0.020,   1.7400,2,    1.30,4,    1.18,2,    -0.7,2,     0.3,   7.050,2, -999.00,      77.50,2
06MT20110405,     MedSea,     301,          1,     209927,          5,2,20110413,       0819,    35.2330,    21.4830,       3565,  2033.6,  13.8273,  38.7383,2,    190.3,2,   189.0,2,    6.84,2,    4.56,2,    0.02,2,    0.16,2,   0.602,2,   0.207,2,  2307.7,2,  2613.9,2,   7.9678,2,    25.00,   0.590,2,   0.020,-999.0000,9, -999.00,9,    1.18,2,    -4.8,2,     0.4,-999.000,9, -999.00,      79.70,2
06MT20110405,     MedSea,     301,          1,     209928,          6,2,20110413,       0827,    35.2330,    21.4830,       3565,  1715.9,  13.8054,  38.7416,2,    188.0,2,   186.9,2,    7.07,2,    4.72,2,    0.02,2,    0.17,2,   0.541,2,    0.24,2,  2306.9,2,  2614.7,2,   7.9717,2,    25.00,-999.000,9,-999.000,-999.0000,9, -999.00,9,    1.20,2,   -11.4,2,     0.3,-999.000,9, -999.00,      78.80,2
06MT20110405,     MedSea,     301,          1,     209929,          7,2,20110413,       0832,    35.2330,    21.4830,       3565,  1524.1,  13.7856,  38.7402,2,    186.6,2,   185.0,2,    7.24,2,    4.83,2,    0.02,2,    0.18,2,   0.505,2,   0.238,2,  2306.2,2,  2613.4,2,   7.9681,2,    25.00,   0.490,2,   0.010,  13.9000,2,  -78.34,4,    1.25,2,   -19.8,2,     0.3,   8.310,2, -999.00,      79.70,2
06MT20110405,     MedSea,     301,          1,     209930,          8,2,20110413,       0838,    35.2330,    21.4830,       3565,  1269.9,  13.7748,  38.7438,2,    183.2,2,   201.4,4,    7.44,2,    5.04,2,    0.01,2,    0.20,2,   0.682,3,   0.576,3,  2307.4,2,  2613.6,2,   7.9671,2,    25.00,-999.000,9,-999.000,-999.0000,9, -999.00,9,    1.26,2,   -34.6,2,     0.3,-999.000,9, -999.00,      75.90,2
06MT20110405,     MedSea,     301,          1,     209931,          9,2,20110413,       0844,    35.2330,    21.4830,       3565,  1015.7,  13.8111,  38.7604,2,    182.0,2,   180.8,2,    7.23,2,    5.27,2,    0.02,2,    0.21,2,   0.478,2,   0.263,2,  2309.8,2,  2614.9,2,   7.9618,2,    25.00,   0.450,2,   0.010,-999.0000,9, -999.00,9,    1.16,2,   -26.0,2,     0.3,-999.000,9, -999.00,      76.50,2
06MT20110405,     MedSea,     301,          1,     209932,         10,2,20110413,       0849,    35.2330,    21.4830,       3565,   812.5,  13.9422,  38.8009,2,    183.4,2,   181.8,2,    6.55,2,    5.14,2,    0.02,2,    0.20,2,   0.623,2,   0.388,2,  2313.7,2,  2616.7,2,   7.9607,2,    25.00,   0.540,2,   0.010,-999.0000,9, -999.00,9,    1.09,2,    -8.5,2,     0.2,-999.000,9, -999.00,      78.30,2
06MT20110405,     MedSea,     301,          1,     209933,         11,2,20110413,       0854,    35.2330,    21.4830,       3565,   609.6,  14.2928,  38.8909,2,    190.7,2,   190.1,2,    4.86,2,    4.50,2,    0.02,2,    0.16,2,   0.968,2,   0.699,2,  2320.9,2,  2623.9,2,   7.9570,2,    25.00,   0.730,2,   0.020,   8.1700,2,  -73.15,4,    0.95,2,    15.4,2,     0.3,   7.230,2, -999.00,      66.10,2
06MT20110405,     MedSea,     301,          1,     209934,         12,2,20110413,       0857,    35.2330,    21.4830,       3565,   508.2,  14.4909,  38.9376,2,    194.9,2,   195.2,2,    3.99,2,    4.16,2,    0.02,2,    0.15,2,   1.126,2,   0.769,2,  2322.7,2,  2626.1,2,   7.9569,2,    25.00,   0.860,2,   0.020,   7.6100,2,  -71.92,4,    0.96,2,    18.8,2,     0.3,   7.200,2, -999.00,      67.10,2
06MT20110405,     MedSea,     301,          1,     209935,         13,2,20110413,       0900,    35.2330,    21.4830,       3565,   407.0,  14.8446,  39.0167,2,    199.6,2,   198.9,2,    2.93,2,    3.56,2,    0.02,2,    0.11,2,   1.295,2,   1.018,2,  2325.9,2,  2631.7,2,   7.9606,2,    25.00,   0.930,2,   0.030,   7.3200,2,  -71.35,4,    0.84,2,    33.2,2,     0.4,   7.160,2, -999.00,      59.90,2
06MT20110405,     MedSea,     301,          1,     209936,         14,2,20110413,       0903,    35.2330,    21.4830,       3565,   307.0,  15.4777,  39.1036,2,    202.6,2,   201.6,2,    2.13,2,    2.81,2,    0.02,2,    0.07,2,   1.367,2,   1.124,2,  2318.0,3,  2633.4,2,   7.9656,2,    25.00,   1.000,2,   0.020,   6.1100,2,  -67.27,4,    0.79,2,    46.2,2,     0.4,   7.080,2, -999.00,      56.60,2
06MT20110405,     MedSea,     301,          1,     209937,         15,2,20110413,       0905,    35.2330,    21.4830,       3565,   256.1,  15.8217,  39.1332,2,    208.6,2,   207.2,2,    1.61,2,    2.08,2,    0.02,2,    0.04,2,   1.398,2,   1.271,2,  2321.4,3,  2639.8,2,   7.9749,2,    25.00,   1.060,2,   0.020,   6.5200,2,  -68.99,4,    0.82,2,    46.7,2,     0.3,   7.060,2, -999.00,      53.20,2
06MT20110405,     MedSea,     301,          1,     209938,         16,2,20110413,       0907,    35.2330,    21.4830,       3565,   205.2,  16.0095,  39.1456,2,    211.3,2,  -999.0,9, -999.00,9, -999.00,9, -999.00,9, -999.00,9,-999.000,9,-999.000,9,  -999.0,9,  -999.0,9,-999.0000,9,  -999.00,-999.000,9,-999.000,-999.0000,9, -999.00,9,    0.69,4,    51.9,4,     0.3,-999.000,9, -999.00,     -999.0,9
06MT20110405,     MedSea,     301,          1,     209939,         17,2,20110413,       0908,    35.2330,    21.4830,       3565,   205.3,  16.0092,  39.1461,2,    209.9,2,   209.9,2,    1.35,2,    1.68,2,    0.03,2,    0.02,2,   1.439,2,   1.306,2,  2312.3,2,  2638.0,2,   7.9802,2,    25.00,   1.030,2,   0.020,   5.5100,2,  -64.62,4, -999.00,9,  -999.0,9,  -999.0,   7.080,2, -999.00,      52.70,2
06MT20110405,     MedSea,     301,          1,     209940,         18,2,20110413,       0909,    35.2330,    21.4830,       3565,   154.6,  16.1480,  39.1044,2,    206.0,2,   211.3,2,    1.24,2,    1.34,2,    0.03,2,    0.02,2,   1.408,2,   1.288,2,  2305.9,2,  2634.3,2,   7.9868,2,    25.00,   0.910,2,   0.050,   5.1700,2,  -62.73,4,    0.86,2,    42.8,2,     0.3,   7.080,2, -999.00,      51.00,2
06MT20110405,     MedSea,     301,          1,     209941,         19,2,20110413,       0911,    35.2330,    21.4830,       3565,   103.5,  16.1876,  38.9625,2,    218.7,2,   217.2,2,    1.03,2,    0.67,2,    0.07,2,    0.00,2,   1.373,2,   1.284,2,  2290.3,2,  2618.5,2,   7.9874,2,    25.00,   1.010,2,   0.020,   4.7100,2,  -60.10,4,    0.90,2,    48.8,2,     0.3,   7.020,2, -999.00,      53.50,2
06MT20110405,     MedSea,     301,          1,     209942,         20,2,20110413,       0913,    35.2330,    21.4830,       3565,    78.7,  16.0807,  38.8409,2,    229.2,2,   226.1,2, -999.00,9, -999.00,9, -999.00,9, -999.00,9,   1.383,2,   1.306,2,  2277.0,2,  2609.4,2,   7.9957,2,    25.00,-999.000,9,-999.000,-999.0000,9, -999.00,9,    0.95,2,    43.4,2,     0.4,-999.000,9, -999.00,     -999.0,9
06MT20110405,     MedSea,     301,          1,     209943,         21,2,20110413,       0914,    35.2330,    21.4830,       3565,    53.4,  16.5411,  38.8272,2,    233.6,2,   234.1,2,    0.79,2,    0.03,2,    0.02,2,    0.00,2,   1.382,2,   1.265,2,  2266.6,2,  2602.3,2,   7.9976,2,    25.00,   1.050,2,   0.020,   6.3300,2,  -68.67,4,    0.98,2,    54.2,3,     0.3,   7.100,2, -999.00,      50.90,2
06MT20110405,     MedSea,     301,          1,     -999.0,         22,2,20110413,       0915,    35.2330,    21.4830,       3565,    53.5,  16.5617,  38.8278,2,    233.5,2,  -999.0,9, -999.00,9, -999.00,9, -999.00,9, -999.00,9,-999.000,9,-999.000,9,  -999.0,9,  -999.0,9,-999.0000,9,  -999.00,-999.000,9,-999.000,-999.0000,9, -999.00,9, -999.00,9,  -999.0,9,  -999.0,-999.000,9, -999.00,     -999.0,9
06MT20110405,     MedSea,     301,          1,     -999.0,         23,2,20110413,       0915,    35.2330,    21.4830,       3565,    53.5,  16.5609,  38.8278,2,    233.6,2,  -999.0,9, -999.00,9, -999.00,9, -999.00,9, -999.00,9,-999.000,9,-999.000,9,  -999.0,9,  -999.0,9,-999.0000,9,  -999.00,-999.000,9,-999.000,-999.0000,9, -999.00,9, -999.00,9,  -999.0,9,  -999.0,-999.000,9, -999.00,     -999.0,9
06MT20110405,     MedSea,     301,          1,     209944,         24,2,20110413,       0917,    35.2330,    21.4830,       3565,    13.4,  16.8621,  38.7988,2,    232.8,2,   233.7,2,    0.76,2,    0.00,2,    0.01,2,    0.01,2,   1.387,2,   1.339,2,  2264.6,2,  2598.2,2,   8.0041,2,    25.00,   1.050,2,   0.020,   5.0300,2,  -62.92,4,    0.98,2,    35.9,2,     0.3,   7.060,2, -999.00,      52.30,2