BOTTLE,20170314CCHSIORJL
EXPOCODE,SECT_ID,STNNBR,CASTNO,BIONBR,BTLNBR,BTLNBR_FLAG_W,DATE,TIME,LATITUDE,LONGITUDE,DEPTH,CTDPRS,CTDTMP,CTDSAL,CTDSAL_FLAG_W,CTDOXY,CTDOXY_FLAG_W,OXYGEN,OXYGEN_FLAG_W,SILCAT,SILCAT_FLAG_W,NITRAT,NITRAT_FLAG_W,NITRIT,NITRIT_FLAG_W,PHSPHT,PHSPHT_FLAG_W,CFC-12,CFC-12_FLAG_W,SF6,SF6_FLAG_W,TCARBN,TCARBN_FLAG_W,ALKALI,ALKALI_FLAG_W,PH_TOT,PH_TOT_FLAG_W,PH_TMP,TRITUM,TRITUM_FLAG_W,TRITER,HELIUM,HELIUM_FLAG_W,DELHE3,DELHE3_FLAG_W,DELC13,DELC13_FLAG_W,DELC14,DELC14_FLAG_W,C14ERR,NEON,NEON_FLAG_W,DELHER,BARIUM,BARIUM_FLAG_W
,,,,,,,,,,,METERS,DBAR,ITS-90,PSS-78,,UMOL/KG,,UMOL/KG,,UMOL/KG,,UMOL/KG,,UMOL/KG,,UMOL/KG,,PMOL/KG,,FMOL/KG,,UMOL/KG,,UMOL/KG,,,,DEG C,TU,,TU,NMOL/KG,,PERCNT,,/MILLE,,/MILLE,,/MILLE,NMOL/KG,,PERCNT,UM/KG,
06MT20110405,     MedSea,     326,          1,     212414,          1,2,20110422,       0751,    38.4500,     4.5010,       2763,  2753.3,  13.3317,  38.4847,2,    198.1,2,  -999.0,9, -999.00,9, -999.00,9, -999.00,9, -999.00,9,-999.000,9,-999.000,9,  -999.0,9,  -999.0,9,-999.0000,9,  -999.00,-999.000,9,-999.000,-999.0000,9, -999.00,9, -999.00,9,  -999.0,9,  -999.0,-999.000,9, -999.00,     -999.0,9
06MT20110405,     MedSea,     326,          1,     212415,          2,2,20110422,       0751,    38.4500,     4.5010,       2763,  2753.4,  13.3317,  38.4847,2,    198.2,2,  -999.0,9, -999.00,9, -999.00,9, -999.00,9, -999.00,9,-999.000,9,-999.000,9,  -999.0,9,  -999.0,9,-999.0000,9,  -999.00,-999.000,9,-999.000,-999.0000,9, -999.00,9, -999.00,9,  -999.0,9,  -999.0,-999.000,9, -999.00,     -999.0,9
06MT20110405,     MedSea,     326,          1,     212416,          3,2,20110422,       0752,    38.4500,     4.5010,       2763,  2753.2,  13.3317,  38.4846,2,    197.1,2,   198.2,2,    7.82,2,    7.97,2,    0.01,2,    0.38,2,   0.917,2,-999.000,9,  2321.6,2,  2584.5,2,   7.9043,2,    25.00,-999.000,9,-999.000,-999.0000,9, -999.00,9, -999.00,9,  -999.0,9,  -999.0,-999.000,9, -999.00,      75.50,2
06MT20110405,     MedSea,     326,          1,     212417,          4,2,20110422,       0757,    38.4500,     4.5010,       2763,  2543.8,  13.2924,  38.4824,2,    197.6,2,   198.8,2,    7.90,2,    7.92,2,    0.00,2,    0.36,2,   0.879,2,-999.000,9,  2319.4,2,  2586.4,2,   7.9049,2,    25.00,-999.000,9,-999.000,-999.0000,9, -999.00,9, -999.00,9,  -999.0,9,  -999.0,-999.000,9, -999.00,      76.90,2
06MT20110405,     MedSea,     326,          1,     212418,          5,2,20110422,       0803,    38.4500,     4.5010,       2763,  2289.1,  13.2495,  38.4812,2,    197.6,2,   202.3,3,    7.86,2,    8.07,2,    0.01,2,    0.38,2,   0.867,2,-999.000,9,  2318.4,2,  2586.3,2,   7.9045,2,    25.00,-999.000,9,-999.000,-999.0000,9, -999.00,9, -999.00,9,  -999.0,9,  -999.0,-999.000,9, -999.00,      78.70,2
06MT20110405,     MedSea,     326,          1,     212419,          6,2,20110422,       0808,    38.4500,     4.5010,       2763,  2034.1,  13.2107,  38.4810,2,    197.2,2,   198.2,2,    7.80,2,    8.01,2,    0.00,2,    0.37,2,-999.000,9,-999.000,9,  2318.1,2,  2585.8,2,   7.9170,3,    25.00,-999.000,9,-999.000,-999.0000,9, -999.00,9, -999.00,9,  -999.0,9,  -999.0,-999.000,9, -999.00,      72.10,2
06MT20110405,     MedSea,     326,          1,     212420,          7,2,20110422,       0814,    38.4500,     4.5010,       2763,  1779.2,  13.1724,  38.4799,2,    196.2,2,   198.1,2,    7.71,2,    8.02,2,    0.00,2,    0.37,2,   0.841,2,-999.000,9,  2318.0,2,  2587.8,2,   7.9061,2,    25.00,-999.000,9,-999.000,-999.0000,9, -999.00,9, -999.00,9,  -999.0,9,  -999.0,-999.000,9, -999.00,      84.50,2
06MT20110405,     MedSea,     326,          1,     212421,          8,2,20110422,       0820,    38.4500,     4.5010,       2763,  1524.2,  13.1373,  38.4793,2,    195.7,2,  -999.0,9,    7.73,2,    7.95,2,    0.00,2,    0.37,2,   0.818,2,-999.000,9,  2318.2,2,  2587.6,2,   7.9031,2,    25.00,-999.000,9,-999.000,-999.0000,9, -999.00,9, -999.00,9,  -999.0,9,  -999.0,-999.000,9, -999.00,      76.90,2
06MT20110405,     MedSea,     326,          1,     212422,          9,2,20110422,       0826,    38.4500,     4.5010,       2763,  1270.3,  13.0943,  38.4750,2,    192.8,2,   195.3,2,    7.83,2,    8.03,2,    0.00,2,    0.38,2,   0.785,2,-999.000,9,  2317.3,2,  2585.7,2,   7.9065,2,    25.00,-999.000,9,-999.000,-999.0000,9, -999.00,9, -999.00,9,  -999.0,9,  -999.0,-999.000,9, -999.00,      70.80,2
06MT20110405,     MedSea,     326,          1,     212423,         10,2,20110422,       0832,    38.4500,     4.5010,       2763,  1016.4,  13.0635,  38.4737,2,    190.1,2,   190.5,2,    8.10,2,    8.15,2,    0.00,2,    0.39,2,   0.695,2,-999.000,9,  2317.6,2,  2588.6,2,   7.9068,2,    25.00,-999.000,9,-999.000,-999.0000,9, -999.00,9, -999.00,9,  -999.0,9,  -999.0,-999.000,9, -999.00,      78.20,2
06MT20110405,     MedSea,     326,          1,     212424,         11,2,20110422,       0837,    38.4500,     4.5010,       2763,   813.5,  13.1177,  38.4938,2,    185.7,2,   187.4,2,    7.90,2,    8.28,2,    0.00,2,    0.40,2,   0.682,2,-999.000,9,  2318.9,2,  2589.0,2,   7.9065,2,    25.00,-999.000,9,-999.000,-999.0000,9, -999.00,9, -999.00,9,  -999.0,9,  -999.0,-999.000,9, -999.00,      71.40,2
06MT20110405,     MedSea,     326,          1,     212425,         12,2,20110422,       0842,    38.4500,     4.5010,       2763,   610.8,  13.1658,  38.5098,2,    184.0,2,   185.1,2,    7.42,2,    8.24,2,    0.00,2,    0.40,2,   0.776,2,-999.000,9,  2321.1,2,  2588.9,2,   7.9061,2,    25.00,-999.000,9,-999.000,-999.0000,9, -999.00,9, -999.00,9,  -999.0,9,  -999.0,-999.000,9, -999.00,      82.90,2
06MT20110405,     MedSea,     326,          1,     212426,         13,2,20110422,       0845,    38.4500,     4.5010,       2763,   508.9,  13.2422,  38.5294,2,    181.0,2,   180.5,2,    7.06,2,    8.37,2,    0.00,2,    0.43,2,   0.796,2,-999.000,9,  2323.3,2,  2591.5,2,   7.9005,2,    25.00,-999.000,9,-999.000,-999.0000,9, -999.00,9, -999.00,9,  -999.0,9,  -999.0,-999.000,9, -999.00,      71.10,2
06MT20110405,     MedSea,     326,          1,     212427,         14,2,20110422,       0848,    38.4500,     4.5010,       2763,   407.5,  13.3068,  38.5320,2,    179.7,2,   179.7,2,    6.24,2,    8.29,2,    0.00,2,    0.38,2,   0.922,2,-999.000,9,  2324.9,2,  2591.7,2,   7.8938,2,    25.00,-999.000,9,-999.000,-999.0000,9, -999.00,9, -999.00,9,  -999.0,9,  -999.0,-999.000,9, -999.00,      72.20,2
06MT20110405,     MedSea,     326,          1,     212428,         15,2,20110422,       0850,    38.4500,     4.5010,       2763,   305.9,  13.1969,  38.4616,2,    193.8,2,   192.4,2,    4.72,2,    7.52,2,    0.00,2,    0.33,2,   1.157,2,-999.000,9,  2319.6,2,  2583.4,2,   7.8947,2,    25.00,-999.000,9,-999.000,-999.0000,9, -999.00,9, -999.00,9,  -999.0,9,  -999.0,-999.000,9, -999.00,      67.10,2
06MT20110405,     MedSea,     326,          1,     212429,         16,2,20110422,       0852,    38.4500,     4.5010,       2763,   255.6,  13.2031,  38.4151,2,    194.3,2,   194.1,2,    3.93,2,    7.12,2,    0.00,2,    0.30,2,   1.261,2,-999.000,9,  2315.8,2,  2579.3,2,   7.8936,2,    25.00,-999.000,9,-999.000,-999.0000,9, -999.00,9, -999.00,9,  -999.0,9,  -999.0,-999.000,9, -999.00,      64.90,2
06MT20110405,     MedSea,     326,          1,     212430,         17,2,20110422,       0854,    38.4500,     4.5010,       2763,   205.1,  13.1910,  38.3323,2,    203.9,2,  -999.0,9, -999.00,9, -999.00,9, -999.00,9, -999.00,9,-999.000,9,-999.000,9,  -999.0,9,  -999.0,9,-999.0000,9,  -999.00,-999.000,9,-999.000,-999.0000,9, -999.00,9, -999.00,9,  -999.0,9,  -999.0,-999.000,9, -999.00,     -999.0,9
06MT20110405,     MedSea,     326,          1,     212431,         18,2,20110422,       0856,    38.4500,     4.5010,       2763,   155.1,  13.2131,  38.2520,2,    215.0,2,   219.2,2,    2.01,2,    4.44,2,    0.01,2,    0.15,2,   1.469,2,-999.000,9,  2293.1,2,  2563.7,2,   7.9123,2,    25.00,-999.000,9,-999.000,-999.0000,9, -999.00,9, -999.00,9,  -999.0,9,  -999.0,-999.000,9, -999.00,      60.70,2
06MT20110405,     MedSea,     326,          1,     212432,         19,2,20110422,       0858,    38.4500,     4.5010,       2763,   104.4,  13.6178,  38.1356,2,    215.0,2,   217.0,2,    1.32,2,    3.46,2,    0.03,2,    0.11,2,   1.537,2,-999.000,9,  2281.1,2,  2554.7,2,   7.9270,2,    25.00,-999.000,9,-999.000,-999.0000,9, -999.00,9, -999.00,9,  -999.0,9,  -999.0,-999.000,9, -999.00,      61.50,2
06MT20110405,     MedSea,     326,          1,     212433,         20,2,20110422,       0900,    38.4500,     4.5010,       2763,    79.2,  13.9874,  38.0233,2,    213.7,2,   218.6,2,    1.09,2,    2.80,2,    0.07,2,    0.08,2,   1.525,2,-999.000,9,  2268.2,2,  2541.0,2,   7.9264,2,    25.00,-999.000,9,-999.000,-999.0000,9, -999.00,9, -999.00,9,  -999.0,9,  -999.0,-999.000,9, -999.00,      58.10,2
06MT20110405,     MedSea,     326,          1,     212434,         21,2,20110422,       0901,    38.4500,     4.5010,       2763,    54.1,  14.1555,  37.7612,2,    250.8,2,   251.7,2,    0.49,2,    0.05,2,    0.00,2,    0.00,2,   1.560,2,-999.000,9,  2223.8,2,  2524.1,2,   7.9718,2,    25.00,-999.000,9,-999.000,-999.0000,9, -999.00,9, -999.00,9,  -999.0,9,  -999.0,-999.000,9, -999.00,      54.10,2
06MT20110405,     MedSea,     326,          1,     212435,         22,2,20110422,       0903,    38.4500,     4.5010,       2763,    28.5,  15.3945,  37.4795,2,    247.8,2,   250.4,2,    0.36,2,    0.00,2,    0.00,2,    0.00,2,   1.549,2,-999.000,9,  2201.4,2,  2501.0,2,   7.9745,2,    25.00,-999.000,9,-999.000,-999.0000,9, -999.00,9, -999.00,9,  -999.0,9,  -999.0,-999.000,9, -999.00,      52.00,2
06MT20110405,     MedSea,     326,          1,     212436,         23,2,20110422,       0904,    38.4500,     4.5010,       2763,     7.8,  17.2307,  37.1832,2,    236.4,2,   242.3,2,    0.21,2,   -0.02,2,    0.00,2,    0.00,2,   1.423,2,-999.000,9,  2170.6,2,  2467.1,2,   7.9785,2,    25.00,-999.000,9,-999.000,-999.0000,9, -999.00,9, -999.00,9,  -999.0,9,  -999.0,-999.000,9, -999.00,      50.20,2
06MT20110405,     MedSea,     326,          1,     212437,         24,2,20110422,       0905,    38.4500,     4.5010,       2763,     7.8,  17.2302,  37.1832,2,    236.0,2,  -999.0,9, -999.00,9, -999.00,9, -999.00,9, -999.00,9,-999.000,9,-999.000,9,  -999.0,9,  -999.0,9,-999.0000,9,  -999.00,-999.000,9,-999.000,-999.0000,9, -999.00,9, -999.00,9,  -999.0,9,  -999.0,-999.000,9, -999.00,     -999.0,9