BOTTLE,20170314CCHSIORJL
EXPOCODE,SECT_ID,STNNBR,CASTNO,BIONBR,BTLNBR,BTLNBR_FLAG_W,DATE,TIME,LATITUDE,LONGITUDE,DEPTH,CTDPRS,CTDTMP,CTDSAL,CTDSAL_FLAG_W,CTDOXY,CTDOXY_FLAG_W,OXYGEN,OXYGEN_FLAG_W,SILCAT,SILCAT_FLAG_W,NITRAT,NITRAT_FLAG_W,NITRIT,NITRIT_FLAG_W,PHSPHT,PHSPHT_FLAG_W,CFC-12,CFC-12_FLAG_W,SF6,SF6_FLAG_W,TCARBN,TCARBN_FLAG_W,ALKALI,ALKALI_FLAG_W,PH_TOT,PH_TOT_FLAG_W,PH_TMP,TRITUM,TRITUM_FLAG_W,TRITER,HELIUM,HELIUM_FLAG_W,DELHE3,DELHE3_FLAG_W,DELC13,DELC13_FLAG_W,DELC14,DELC14_FLAG_W,C14ERR,NEON,NEON_FLAG_W,DELHER,BARIUM,BARIUM_FLAG_W
,,,,,,,,,,,METERS,DBAR,ITS-90,PSS-78,,UMOL/KG,,UMOL/KG,,UMOL/KG,,UMOL/KG,,UMOL/KG,,UMOL/KG,,PMOL/KG,,FMOL/KG,,UMOL/KG,,UMOL/KG,,,,DEG C,TU,,TU,NMOL/KG,,PERCNT,,/MILLE,,/MILLE,,/MILLE,NMOL/KG,,PERCNT,UM/KG,
06MT20110405,     MedSea,     288,          1,     209638,          1,2,20110407,       0221,    35.6500,    26.2170,       2315,  2304.6,  14.3600,  39.0587,2,    206.6,2,  -999.0,9, -999.00,9, -999.00,9, -999.00,3, -999.00,9,-999.000,9,-999.000,9,  -999.0,9,  -999.0,9,-999.0000,9,  -999.00,-999.000,9,-999.000,-999.0000,9, -999.00,9, -999.00,9,  -999.0,9,  -999.0,-999.000,9, -999.00,     -999.0,9
06MT20110405,     MedSea,     288,          1,     209639,          2,2,20110407,       0221,    35.6500,    26.2170,       2315,  2304.6,  14.3599,  39.0587,2,    206.1,2,   208.8,2,    7.86,2,    3.77,2,   -0.05,3,    0.13,2,   1.632,2,-999.000,9,  2324.1,2,  2631.9,2,   7.9666,2,    25.00,   1.070,2,   0.020,   1.7800,2,    7.04,2,    1.03,2,    47.7,2,     0.3,   7.200,2, -999.00,     155.30,2
06MT20110405,     MedSea,     288,          1,     209640,          3,2,20110407,       0228,    35.6500,    26.2170,       2315,  2034.5,  14.3202,  39.0559,2,    207.4,2,   210.6,2,    6.88,2,    3.68,2,   -0.05,3,    0.12,2,   1.503,2,   0.594,2,  2319.7,2,  2634.0,2,   7.9660,2,    25.00,   1.010,2,   0.020,   1.7800,2,    6.98,2,    1.08,2,    51.1,2,     0.3,   7.230,2, -999.00,      70.10,2
06MT20110405,     MedSea,     288,          1,     209641,          4,2,20110407,       0234,    35.6500,    26.2170,       2315,  1778.8,  14.2926,  39.0491,2,    206.9,2,   209.0,2,    6.44,2,    3.66,2,   -0.05,3,    0.12,2,   1.460,2,   0.617,2,  2321.8,2,  2634.5,2,   7.9643,2,    25.00,   1.040,2,   0.020,   1.7900,2,    6.38,2,    0.89,2,    44.6,2,     0.4,   7.230,2, -999.00,      70.10,2
06MT20110405,     MedSea,     288,          1,     209642,          5,2,20110407,       0240,    35.6500,    26.2170,       2315,  1525.7,  14.2791,  39.0343,2,    204.3,2,   206.6,2,    6.38,2,    3.76,2,   -0.05,3,    0.13,2,   1.532,2,   0.537,2,  2322.8,2,  2631.1,2,   7.9629,2,    25.00,   1.000,2,   0.020,   1.8200,2,    5.37,2,    0.99,2,    47.1,2,     0.3,   7.200,2, -999.00,      70.30,2
06MT20110405,     MedSea,     288,          1,     209643,          6,2,20110407,       0246,    35.6500,    26.2170,       2315,  1270.4,  14.2945,  39.0120,2,    201.2,2,   203.5,2,    6.59,2,    3.89,2,   -0.05,3,    0.13,2,   1.337,2,   0.669,2,  2321.9,2,  2630.2,2,   7.9581,2,    25.00,   0.890,2,   0.020,-999.0000,9, -999.00,9,    0.93,2,    38.8,2,     0.3,-999.000,9, -999.00,      71.00,2
06MT20110405,     MedSea,     288,          1,     209644,          7,2,20110407,       0251,    35.6500,    26.2170,       2315,  1017.1,  14.4726,  39.0162,2,    201.7,2,   204.8,2,    5.35,2,    3.52,2,   -0.05,3,    0.12,2,   1.535,2,   0.764,2,  2322.7,2,  2632.5,2,   7.9617,2,    25.00,-999.000,9,-999.000,   1.7800,2,    1.87,2,    0.63,3,    26.0,2,     0.4,   7.190,2, -999.00,      66.30,2
06MT20110405,     MedSea,     288,          1,     209645,          8,2,20110407,       0251,    35.6500,    26.2170,       2315,  1017.1,  14.4792,  39.0162,2,    202.5,2,  -999.0,9, -999.00,9, -999.00,9, -999.00,3, -999.00,9,-999.000,9,-999.000,9,  -999.0,9,  -999.0,9,-999.0000,9,  -999.00,-999.000,9,-999.000,-999.0000,9, -999.00,9,    0.86,4,    44.3,4,     0.3,-999.000,9, -999.00,     -999.0,9
06MT20110405,     MedSea,     288,          1,     209646,          9,2,20110407,       0256,    35.6500,    26.2170,       2315,   814.4,  14.7317,  39.0591,2,    207.7,2,   210.1,2,    3.41,2,    2.88,2,   -0.05,3,    0.09,2,   1.431,2,   1.165,2,  2325.0,2,  2634.9,2,   7.9628,2,    25.00,   1.000,2,   0.030,   1.7800,2,    0.61,2, -999.00,9,  -999.0,9,  -999.0,   7.120,2, -999.00,      57.20,2
06MT20110405,     MedSea,     288,          1,     209647,         10,2,20110407,       0301,    35.6500,    26.2170,       2315,   610.8,  14.9396,  39.0964,2,    210.6,2,   213.7,2,    2.36,2,    2.51,2,   -0.05,3,    0.09,2,   1.669,3,   1.272,2,  2327.1,2,  2640.9,2,   7.9641,2,    25.00,-999.000,9,-999.000,   1.7700,2,   -0.11,2,    0.78,2,    41.0,2,     0.3,   7.140,2, -999.00,      58.30,2
06MT20110405,     MedSea,     288,          1,     209648,         11,2,20110407,       0304,    35.6500,    26.2170,       2315,   509.6,  15.0518,  39.1091,2,    211.1,2,   214.9,2,    2.09,2,    2.47,2,   -0.05,3,    0.10,2,   1.644,3,   1.298,2,  2326.4,2,  2639.8,2,   7.9719,3,    25.00,   1.050,2,   0.020,   1.7400,2,   -0.70,2,    0.76,2,    46.0,2,     0.3,   7.140,2, -999.00,      58.20,2
06MT20110405,     MedSea,     288,          1,     209649,         12,2,20110407,       0306,    35.6500,    26.2170,       2315,   409.4,  15.1764,  39.1176,2,    209.9,2,   212.6,2,    1.95,2,    2.41,2,   -0.05,3,    0.07,2,   1.644,3,   1.394,2,  2325.1,2,  2636.8,2,   7.9688,2,    25.00,   0.990,2,   0.240,   1.7500,2,    0.31,2,    0.75,2,    45.3,2,     0.3,   7.100,2, -999.00,     -999.0,9
06MT20110405,     MedSea,     288,          1,     209650,         13,2,20110407,       0309,    35.6500,    26.2170,       2315,   306.8,  15.4658,  39.1343,2,    208.6,2,   210.2,2,    1.80,2,    2.33,2,   -0.05,3,    0.07,2,   1.423,2,   1.212,2,  2321.2,2,  2637.5,2,   7.9701,2,    25.00,   1.080,2,   0.030,   1.7500,2,   -0.09,2,    0.78,2,    42.0,2,     0.3,   7.020,2, -999.00,      56.80,2
06MT20110405,     MedSea,     288,          1,     209651,         14,2,20110407,       0311,    35.6500,    26.2170,       2315,   255.8,  15.6993,  39.1479,2,    211.0,2,   211.5,2,    1.56,2,    2.06,2,   -0.05,3,    0.05,2,   1.573,3,   1.204,2,  2319.3,2,  2638.9,2,   7.9723,2,    25.00,   1.100,2,   0.020,   2.0100,2,    0.53,3,    0.79,2,    40.9,2,     0.3,   8.020,2, -999.00,     -999.0,9
06MT20110405,     MedSea,     288,          1,     209652,         15,2,20110407,       0313,    35.6500,    26.2170,       2315,   206.0,  15.9948,  39.1603,2,    208.4,2,   210.0,2,    1.59,2,    1.95,2,   -0.05,3,    0.05,2,   1.370,2,   1.214,2,  2313.9,2,  2633.0,2,   7.9807,2,    25.00,   1.040,2,   0.020,-999.0000,9, -999.00,9,    0.83,2,    44.5,2,     0.4,-999.000,9, -999.00,      55.40,2
06MT20110405,     MedSea,     288,          1,     209653,         16,2,20110407,       0315,    35.6500,    26.2170,       2315,   154.8,  16.2762,  39.1897,2,    223.0,2,   225.7,2,    0.84,2,    0.80,2,    0.07,3,    0.01,2,   1.391,2,   1.414,2,  2299.3,2,  2631.7,2,   7.9990,2,    25.00,   1.140,2,   0.030,   1.7300,2,   -0.83,2,    0.88,2,    43.3,2,     0.3,   7.100,2, -999.00,      58.50,2
06MT20110405,     MedSea,     288,          1,     209654,         17,2,20110407,       0317,    35.6500,    26.2170,       2315,   104.8,  16.3727,  39.1872,2,    225.6,2,  -999.0,9, -999.00,9, -999.00,9, -999.00,3, -999.00,9,-999.000,9,-999.000,9,  -999.0,9,  -999.0,9,-999.0000,9,  -999.00,-999.000,9,-999.000,-999.0000,9, -999.00,9, -999.00,9,  -999.0,9,  -999.0,-999.000,9, -999.00,     -999.0,9
06MT20110405,     MedSea,     288,          1,     209655,         18,2,20110407,       0317,    35.6500,    26.2170,       2315,   104.9,  16.3726,  39.1872,2,    225.3,2,   227.6,2,    0.74,2,    0.63,2,    0.11,3,    0.00,2,   1.385,2,   1.355,2,  2294.3,2,  2628.3,2,   8.0021,2,    25.00,   1.070,2,   0.030,   1.7900,2,    1.66,2,    0.91,2,    42.6,2,     0.4,   7.190,2, -999.00,      53.80,2
06MT20110405,     MedSea,     288,          1,     209656,         19,2,20110407,       0318,    35.6500,    26.2170,       2315,    79.8,  16.4206,  39.1895,2,    226.5,2,   227.2,2,    0.73,2,    0.58,2,    0.13,3,    0.00,2,-999.000,9,-999.000,9,  2292.3,2,  2630.3,2,   8.0076,2,    25.00,   1.030,2,   0.050,-999.0000,9, -999.00,9,    0.94,2,    42.1,2,     0.2,-999.000,9, -999.00,      49.70,2
06MT20110405,     MedSea,     288,          1,     209657,         20,2,20110407,       0320,    35.6500,    26.2170,       2315,    55.0,  16.7390,  39.2087,2,    228.2,2,   229.8,2,    0.65,2,    0.25,2,   -0.01,3,    0.00,2,   1.473,3,   1.338,2,  2285.6,2,  2626.2,2,   8.0154,2,    25.00,   1.080,2,   0.030,   1.7000,2,   -0.98,2,    0.95,2,    44.6,2,     0.4,   6.910,2, -999.00,      52.70,2
06MT20110405,     MedSea,     288,          1,     209658,         21,2,20110407,       0322,    35.6500,    26.2170,       2315,    29.2,  16.8506,  39.2255,2,    230.8,2,  -999.0,9, -999.00,9, -999.00,9, -999.00,3, -999.00,9,-999.000,9,-999.000,9,  -999.0,9,  -999.0,9,-999.0000,9,  -999.00,-999.000,9,-999.000,-999.0000,9, -999.00,9, -999.00,9,  -999.0,9,  -999.0,-999.000,9, -999.00,     -999.0,9
06MT20110405,     MedSea,     288,          1,     209659,         22,2,20110407,       0322,    35.6500,    26.2170,       2315,    29.2,  16.8505,  39.2255,2,    230.3,2,   232.6,2,    0.62,2,    0.17,2,   -0.04,3,    0.00,2,   1.360,2,   1.377,2,  2283.2,2,  2624.0,2,   8.0192,2,    25.00,   1.140,2,   0.030,   1.7300,2,   -1.61,2,    0.97,2,    41.9,2,     0.3,   7.020,2, -999.00,      50.10,2
06MT20110405,     MedSea,     288,          1,     209660,         23,2,20110407,       0323,    35.6500,    26.2170,       2315,     9.0,  16.8479,  39.2256,2,    230.3,2,   232.7,2,    0.88,2,    0.22,2,   -0.02,3,    0.02,2,   1.365,2,   1.408,2,  2283.9,2,  2626.2,2,   8.0183,2,    25.00,-999.000,9,-999.000,-999.0000,9, -999.00,9,    0.95,2,    42.5,2,     0.4,-999.000,9, -999.00,     -999.0,9
06MT20110405,     MedSea,     288,          1,     209661,         24,2,20110407,       0324,    35.6500,    26.2170,       2315,     9.2,  16.8472,  39.2256,2,    230.5,2,  -999.0,9, -999.00,9, -999.00,9, -999.00,3, -999.00,9,-999.000,9,-999.000,9,  -999.0,9,  -999.0,9,-999.0000,9,  -999.00,-999.000,9,-999.000,-999.0000,9, -999.00,9, -999.00,9,  -999.0,9,  -999.0,-999.000,9, -999.00,     -999.0,9