BOTTLE,20170314CCHSIORJL
EXPOCODE,SECT_ID,STNNBR,CASTNO,BIONBR,BTLNBR,BTLNBR_FLAG_W,DATE,TIME,LATITUDE,LONGITUDE,DEPTH,CTDPRS,CTDTMP,CTDSAL,CTDSAL_FLAG_W,CTDOXY,CTDOXY_FLAG_W,OXYGEN,OXYGEN_FLAG_W,SILCAT,SILCAT_FLAG_W,NITRAT,NITRAT_FLAG_W,NITRIT,NITRIT_FLAG_W,PHSPHT,PHSPHT_FLAG_W,CFC-12,CFC-12_FLAG_W,SF6,SF6_FLAG_W,TCARBN,TCARBN_FLAG_W,ALKALI,ALKALI_FLAG_W,PH_TOT,PH_TOT_FLAG_W,PH_TMP,TRITUM,TRITUM_FLAG_W,TRITER,HELIUM,HELIUM_FLAG_W,DELHE3,DELHE3_FLAG_W,DELC13,DELC13_FLAG_W,DELC14,DELC14_FLAG_W,C14ERR,NEON,NEON_FLAG_W,DELHER,BARIUM,BARIUM_FLAG_W
,,,,,,,,,,,METERS,DBAR,ITS-90,PSS-78,,UMOL/KG,,UMOL/KG,,UMOL/KG,,UMOL/KG,,UMOL/KG,,UMOL/KG,,PMOL/KG,,FMOL/KG,,UMOL/KG,,UMOL/KG,,,,DEG C,TU,,TU,NMOL/KG,,PERCNT,,/MILLE,,/MILLE,,/MILLE,NMOL/KG,,PERCNT,UM/KG,
06MT20110405,     MedSea,     322,          1,     212342,          1,2,20110421,       0526,    38.2000,     8.2000,       2684,  2673.6,  13.2994,  38.4764,2,    195.6,2,  -999.0,9, -999.00,9, -999.00,9, -999.00,9, -999.00,9,-999.000,9,-999.000,9,  -999.0,9,  -999.0,9,-999.0000,9,  -999.00,-999.000,9,-999.000,-999.0000,9, -999.00,9, -999.00,9,  -999.0,9,  -999.0,-999.000,9, -999.00,     -999.0,9
06MT20110405,     MedSea,     322,          1,     212343,          2,2,20110421,       0526,    38.2000,     8.2000,       2684,  2673.8,  13.2994,  38.4764,2,    195.3,2,  -999.0,9, -999.00,9, -999.00,9, -999.00,9, -999.00,9,-999.000,9,-999.000,9,  -999.0,9,  -999.0,9,-999.0000,9,  -999.00,-999.000,9,-999.000,-999.0000,9, -999.00,9, -999.00,9,  -999.0,9,  -999.0,-999.000,9, -999.00,     -999.0,9
06MT20110405,     MedSea,     322,          1,     212344,          3,2,20110421,       0527,    38.2000,     8.2000,       2684,  2673.4,  13.2994,  38.4763,2,    196.5,2,   195.3,2,    8.30,2,    7.94,2,    0.01,2,    0.36,2,   0.867,2,-999.000,9,  2320.9,2,  2586.2,2,   7.9056,2,    25.00,   0.540,2,   0.020,   1.7900,2,    5.44,2,    0.82,2,   -10.7,2,     0.3,   7.350,2, -999.00,      77.30,2
06MT20110405,     MedSea,     322,          1,     212345,          4,2,20110421,       0530,    38.2000,     8.2000,       2684,  2546.4,  13.2777,  38.4758,2,    196.5,2,   195.0,2,    8.52,2,    8.00,2,    0.01,2,    0.37,2,   0.864,2,-999.000,9,  2320.8,2,  2586.3,2,   7.9029,2,    25.00,   0.530,2,   0.020,-999.0000,9, -999.00,9,    0.90,2,    -7.1,2,     0.3,-999.000,9, -999.00,      71.90,2
06MT20110405,     MedSea,     322,          1,     212346,          5,2,20110421,       0537,    38.2000,     8.2000,       2684,  2291.0,  13.2353,  38.4750,2,    195.8,2,   195.9,2,    8.23,2,    7.96,2,    0.01,2,    0.38,2,   0.834,2,-999.000,9,  2320.3,2,  2585.7,2,   7.9067,2,    25.00,   0.550,2,   0.010,   5.3900,2,    6.80,3,    0.89,2,   -14.9,2,     0.2,  16.800,2, -999.00,      74.20,2
06MT20110405,     MedSea,     322,          1,     212347,          6,2,20110421,       0543,    38.2000,     8.2000,       2684,  2035.9,  13.1968,  38.4733,2,    195.1,2,   194.7,2,    8.06,2,    7.98,2,    0.00,2,    0.38,2,   0.807,2,-999.000,9,  2319.2,2,  2585.7,2,   7.9062,2,    25.00,   0.530,2,   0.010,-999.0000,9, -999.00,9,    0.92,2,   -13.9,2,     0.2,-999.000,9, -999.00,      72.70,2
06MT20110405,     MedSea,     322,          1,     212348,          7,2,20110421,       0550,    38.2000,     8.2000,       2684,  1780.3,  13.1544,  38.4704,2,    193.6,2,   193.0,2,    8.18,2,    8.06,2,    0.00,2,    0.39,2,-999.000,9,-999.000,9,  2319.6,2,  2586.5,2,   7.9089,2,    25.00,   0.510,2,   0.020,   1.7800,2,    6.24,2,    0.94,2,   -17.6,2,     0.2,   7.310,2, -999.00,      72.60,2
06MT20110405,     MedSea,     322,          1,     212349,          8,2,20110421,       0556,    38.2000,     8.2000,       2684,  1526.2,  13.1079,  38.4658,2,    191.6,2,   192.6,2,    8.30,2,    8.33,2,    0.01,2,    0.42,2,   0.703,2,-999.000,9,  2319.1,2,  2584.9,2,   7.9050,2,    25.00,   0.510,2,   0.020,   4.0200,2,    7.10,3,    0.90,2,   -19.8,2,     0.2,  12.800,2, -999.00,      74.10,2
06MT20110405,     MedSea,     322,          1,     212350,          9,2,20110421,       0604,    38.2000,     8.2000,       2684,  1271.0,  13.0879,  38.4691,2,    188.9,2,   187.5,2,    8.33,2,    8.23,2,    0.00,2,    0.40,2,   0.664,2,-999.000,9,  2319.7,2,  2586.6,2,   7.9066,2,    25.00,   0.490,2,   0.010,   1.7700,2,    8.26,2,    0.90,2,   -20.8,2,     0.3,   7.270,2, -999.00,      85.80,2
06MT20110405,     MedSea,     322,          1,     212351,         10,2,20110421,       0610,    38.2000,     8.2000,       2684,  1018.5,  13.1127,  38.4840,2,    184.9,2,   183.4,2,    8.37,2,    8.37,2,    0.00,2,    0.41,2,   0.646,2,-999.000,9,  2321.5,2,  2587.0,2,   7.9059,2,    25.00,   0.500,2,   0.010,   1.7800,2,    8.72,2,    0.87,2,   -19.3,2,     0.3,   7.310,2, -999.00,      81.00,2
06MT20110405,     MedSea,     322,          1,     212352,         11,2,20110421,       0616,    38.2000,     8.2000,       2684,   814.6,  13.1825,  38.5093,2,    181.1,2,   179.4,2,    8.11,2,    8.46,2,    0.00,2,    0.38,2,   0.657,2,-999.000,9,  2322.9,2,  2588.9,2,   7.9021,2,    25.00,   0.520,2,   0.020,   1.7700,2,    8.54,2,    0.86,2,   -18.5,2,     0.2,   7.280,2, -999.00,      72.20,2
06MT20110405,     MedSea,     322,          1,     212353,         12,2,20110421,       0621,    38.2000,     8.2000,       2684,   611.4,  13.3454,  38.5542,2,    174.7,2,   172.3,2,    7.43,2,    8.53,2,    0.00,2,    0.42,2,   0.739,2,-999.000,9,  2328.2,2,  2591.2,2,   7.9011,2,    25.00,   0.590,2,   0.020,   1.7900,2,    8.25,2,    0.80,2,   -11.3,2,     0.3,   7.260,2, -999.00,      78.30,2
06MT20110405,     MedSea,     322,          1,     212354,         13,2,20110421,       0624,    38.2000,     8.2000,       2684,   510.6,  13.4318,  38.5673,2,    169.8,2,   168.1,2,    6.83,2,    8.80,2,    0.01,2,    0.44,2,   0.814,2,-999.000,9,  2332.4,2,  2593.0,2,   7.8963,2,    25.00,-999.000,9,-999.000,-999.0000,9, -999.00,9,    0.78,2,    -2.6,2,     0.3,-999.000,9, -999.00,      77.90,2
06MT20110405,     MedSea,     322,          1,     212355,         14,2,20110421,       0627,    38.2000,     8.2000,       2684,   408.8,  13.7132,  38.6201,2,    170.8,2,   168.5,2,    5.98,2,    7.97,2,    0.01,2,    0.38,2,-999.000,9,-999.000,9,  2330.6,2,  2595.3,2,   7.9060,2,    25.00,   0.680,2,   0.030,   1.7700,2,    4.53,2,    0.77,2,    13.6,2,     0.3,   7.200,2, -999.00,      68.90,2
06MT20110405,     MedSea,     322,          1,     212356,         15,2,20110421,       0629,    38.2000,     8.2000,       2684,   357.6,  13.9232,  38.6596,2,    172.8,2,   169.8,2,    5.37,2,    7.23,2,    0.01,2,    0.32,2,   0.976,2,-999.000,9,  2329.0,2,  2597.6,2,   7.9086,2,    25.00,   0.750,2,   0.020,-999.0000,9, -999.00,9,    0.75,2,    14.6,2,     0.3,-999.000,9, -999.00,      64.90,2
06MT20110405,     MedSea,     322,          1,     212357,         16,2,20110421,       0632,    38.2000,     8.2000,       2684,   257.8,  13.6595,  38.5113,2,    179.4,2,   176.2,2,    3.89,2,    7.03,2,    0.01,2,    0.31,2,   1.223,2,-999.000,9,  2322.2,2,  2581.6,2,   7.8976,2,    25.00,   0.840,2,   0.020,   1.7700,2,    3.14,2,    0.72,2,    23.7,2,     0.3,   7.330,2, -999.00,      60.80,2
06MT20110405,     MedSea,     322,          1,     212358,         17,2,20110421,       0634,    38.2000,     8.2000,       2684,   206.3,  13.4243,  38.2861,2,    196.3,2,   192.6,2,    2.62,2,    6.08,2,    0.01,2,    0.24,2,   1.426,2,-999.000,9,  2310.2,2,  2563.7,2,   7.8906,2,    25.00,   0.910,2,   0.020,   1.7600,2,    0.45,2,    0.56,2,    30.1,2,     0.3,   7.220,2, -999.00,      54.20,2
06MT20110405,     MedSea,     322,          1,     212359,         18,2,20110421,       0636,    38.2000,     8.2000,       2684,   156.2,  13.7576,  38.0211,2,    229.0,2,   223.3,2,    1.13,2,    2.33,2,    0.02,2,    0.08,2,   1.541,2,-999.000,9,  2267.4,2,  2541.2,2,   7.9352,2,    25.00,   0.940,2,   0.020,   1.7600,2,   -1.11,2,    0.86,2,    41.2,2,     0.3,   7.230,2, -999.00,      53.10,2
06MT20110405,     MedSea,     322,          1,     212360,         19,2,20110421,       0638,    38.2000,     8.2000,       2684,   106.0,  14.3732,  37.4754,2,    240.0,2,   238.9,2,    0.59,2,    0.81,2,    0.06,2,    0.04,2,   1.540,2,-999.000,9,  2206.8,2,  2488.5,2,   7.9636,2,    25.00,   0.870,2,   0.020,   1.7800,2,    4.56,2,    0.80,2,    41.6,2,     0.3,   7.190,2, -999.00,      47.60,2
06MT20110405,     MedSea,     322,          1,     212361,         20,2,20110421,       0640,    38.2000,     8.2000,       2684,    81.0,  14.7992,  37.2535,2,    235.4,2,   234.7,2,    0.53,2,    1.04,2,    0.04,2,    0.05,2,-999.000,9,-999.000,9,  2195.5,2,  2472.8,2,   7.9590,2,    25.00,   0.840,2,   0.020,   1.7700,2,    3.81,2,    0.94,2,    48.6,2,     0.3,   7.160,2, -999.00,      53.60,2
06MT20110405,     MedSea,     322,          1,     212362,         21,2,20110421,       0641,    38.2000,     8.2000,       2684,    54.4,  15.0225,  37.0048,2,    247.4,2,   251.2,2,    0.12,2,    0.00,2,    0.01,2,    0.01,2,   1.516,2,-999.000,9,  2162.2,2,  2448.0,2,   7.9785,2,    25.00,   0.770,2,   0.030,   1.7600,2,    2.95,2,    0.99,2,    47.5,2,     0.3,   7.150,2, -999.00,      43.50,2
06MT20110405,     MedSea,     322,          1,     212363,         22,2,20110421,       0643,    38.2000,     8.2000,       2684,    30.1,  16.2982,  37.0639,2,    242.3,2,   244.2,2,    0.22,2,   -0.02,2,    0.00,2,    0.00,2,   1.502,2,-999.000,9,  2161.4,2,  2451.5,2,   7.9860,2,    25.00,   0.780,2,   0.020,   1.7400,2,   -1.55,2,    1.03,2,    49.7,2,     0.3,   7.150,2, -999.00,      43.10,2
06MT20110405,     MedSea,     322,          1,     212364,         23,2,20110421,       0644,    38.2000,     8.2000,       2684,     8.9,  16.2950,  37.0685,2,    242.1,2,   245.9,2,    0.23,2,    0.00,2,    0.00,2,    0.00,2,   1.468,2,-999.000,9,  2162.8,2,  2453.7,2,   7.9810,2,    25.00,   0.810,2,   0.020,   1.7600,2,   -1.47,2,    1.09,2,    50.2,2,     0.3,   7.160,2, -999.00,      46.60,2
06MT20110405,     MedSea,     322,          1,     212365,         24,2,20110421,       0644,    38.2000,     8.2000,       2684,     9.1,  16.2942,  37.0685,2,    244.3,2,  -999.0,9, -999.00,9, -999.00,9, -999.00,9, -999.00,9,-999.000,9,-999.000,9,  -999.0,9,  -999.0,9,-999.0000,9,  -999.00,-999.000,9,-999.000,-999.0000,9, -999.00,9, -999.00,9,  -999.0,9,  -999.0,-999.000,9, -999.00,     -999.0,9