BOTTLE,20170314CCHSIORJL
EXPOCODE,SECT_ID,STNNBR,CASTNO,BIONBR,BTLNBR,BTLNBR_FLAG_W,DATE,TIME,LATITUDE,LONGITUDE,DEPTH,CTDPRS,CTDTMP,CTDSAL,CTDSAL_FLAG_W,CTDOXY,CTDOXY_FLAG_W,OXYGEN,OXYGEN_FLAG_W,SILCAT,SILCAT_FLAG_W,NITRAT,NITRAT_FLAG_W,NITRIT,NITRIT_FLAG_W,PHSPHT,PHSPHT_FLAG_W,CFC-12,CFC-12_FLAG_W,SF6,SF6_FLAG_W,TCARBN,TCARBN_FLAG_W,ALKALI,ALKALI_FLAG_W,PH_TOT,PH_TOT_FLAG_W,PH_TMP,TRITUM,TRITUM_FLAG_W,TRITER,HELIUM,HELIUM_FLAG_W,DELHE3,DELHE3_FLAG_W,DELC13,DELC13_FLAG_W,DELC14,DELC14_FLAG_W,C14ERR,NEON,NEON_FLAG_W,DELHER,BARIUM,BARIUM_FLAG_W
,,,,,,,,,,,METERS,DBAR,ITS-90,PSS-78,,UMOL/KG,,UMOL/KG,,UMOL/KG,,UMOL/KG,,UMOL/KG,,UMOL/KG,,PMOL/KG,,FMOL/KG,,UMOL/KG,,UMOL/KG,,,,DEG C,TU,,TU,NMOL/KG,,PERCNT,,/MILLE,,/MILLE,,/MILLE,NMOL/KG,,PERCNT,UM/KG,
06MT20110405,     MedSea,     339,          1,     213193,          1,2,20110425,       1342,    35.9000,    -7.0000,        918,   907.3,  11.1254,  36.0867,2,    172.1,2,  -999.0,9, -999.00,9, -999.00,9, -999.00,9, -999.00,9,-999.000,9,-999.000,9,  -999.0,9,  -999.0,9,-999.0000,9,  -999.00,-999.000,9,-999.000,-999.0000,9, -999.00,9, -999.00,9,  -999.0,9,  -999.0,-999.000,9, -999.00,     -999.0,9
06MT20110405,     MedSea,     339,          1,     213194,          2,2,20110425,       1342,    35.9000,    -7.0000,        918,   907.6,  11.1394,  36.0879,2,    172.3,2,  -999.0,9, -999.00,9, -999.00,9, -999.00,9, -999.00,9,-999.000,9,-999.000,9,  -999.0,9,  -999.0,9,-999.0000,9,  -999.00,-999.000,9,-999.000,-999.0000,9, -999.00,9, -999.00,9,  -999.0,9,  -999.0,-999.000,9, -999.00,     -999.0,9
06MT20110405,     MedSea,     339,          1,     213195,          3,2,20110425,       1342,    35.9000,    -7.0000,        918,   907.0,  11.1384,  36.0855,2,    171.8,2,   171.1,2,    8.56,6,   17.32,6,    0.02,6,    1.00,6,   0.903,2,-999.000,9,  2201.6,2,  2385.5,2,   7.7864,3,    25.00,-999.000,9,-999.000,-999.0000,9, -999.00,9, -999.00,9,  -999.0,9,  -999.0,-999.000,9, -999.00,      49.60,2
06MT20110405,     MedSea,     339,          1,     213196,          4,2,20110425,       1346,    35.9000,    -7.0000,        918,   810.3,  10.4266,  35.7512,2,    169.5,2,   168.1,2,    9.53,2,   19.35,2,    0.01,2,    1.16,2,   0.814,2,-999.000,9,  2191.0,2,  2361.6,2,   7.7590,2,    25.00,-999.000,9,-999.000,-999.0000,9, -999.00,9, -999.00,9,  -999.0,9,  -999.0,-999.000,9, -999.00,      49.60,2
06MT20110405,     MedSea,     339,          1,     213197,          5,2,20110425,       1351,    35.9000,    -7.0000,        918,   607.2,  10.9266,  35.6308,2,    172.8,2,   172.0,2,    7.74,2,   18.55,2,    0.01,2,    1.09,2,   1.021,2,-999.000,9,  2178.7,2,  2348.6,2,   7.7617,2,    25.00,-999.000,9,-999.000,-999.0000,9, -999.00,9, -999.00,9,  -999.0,9,  -999.0,-999.000,9, -999.00,      45.70,2
06MT20110405,     MedSea,     339,          1,     213198,          6,2,20110425,       1354,    35.9000,    -7.0000,        918,   507.2,  11.5108,  35.6367,2,    186.7,2,   185.0,2,    5.81,2,   16.15,2,    0.01,2,    0.94,2,   1.282,2,-999.000,9,  2165.7,2,  2344.9,2,   7.7840,2,    25.00,-999.000,9,-999.000,-999.0000,9, -999.00,9, -999.00,9,  -999.0,9,  -999.0,-999.000,9, -999.00,      45.80,2
06MT20110405,     MedSea,     339,          1,     213199,          7,2,20110425,       1358,    35.9000,    -7.0000,        918,   405.3,  12.0997,  35.6773,2,    199.8,2,   198.9,2,    4.05,2,   13.82,2,    0.01,2,    0.82,2,-999.000,9,-999.000,9,  2153.9,2,  2344.2,2,   7.8108,2,    25.00,-999.000,9,-999.000,-999.0000,9, -999.00,9, -999.00,9,  -999.0,9,  -999.0,-999.000,9, -999.00,      41.70,2
06MT20110405,     MedSea,     339,          1,     213200,          8,2,20110425,       1402,    35.9000,    -7.0000,        918,   305.3,  12.9374,  35.7902,2,    205.5,2,   205.0,2,    3.08,2,   11.46,2,    0.01,2,    0.66,2,-999.000,9,-999.000,9,  2146.1,2,  2349.6,2,   7.8390,2,    25.00,-999.000,9,-999.000,-999.0000,9, -999.00,9, -999.00,9,  -999.0,9,  -999.0,-999.000,9, -999.00,      40.60,2
06MT20110405,     MedSea,     339,          1,     213201,          9,2,20110425,       1404,    35.9000,    -7.0000,        918,   254.4,  13.3294,  35.8493,2,    207.0,2,  -999.0,9, -999.00,9, -999.00,9, -999.00,9, -999.00,9,-999.000,9,-999.000,9,  -999.0,9,  -999.0,9,-999.0000,9,  -999.00,-999.000,9,-999.000,-999.0000,9, -999.00,9, -999.00,9,  -999.0,9,  -999.0,-999.000,9, -999.00,     -999.0,9
06MT20110405,     MedSea,     339,          1,     213202,         10,2,20110425,       1405,    35.9000,    -7.0000,        918,   254.4,  13.3339,  35.8493,2,    206.3,2,   207.6,2,    2.68,2,   10.34,2,    0.00,2,    0.58,2,-999.000,9,-999.000,9,  2142.9,2,  2353.2,2,   7.8523,2,    25.00,-999.000,9,-999.000,-999.0000,9, -999.00,9, -999.00,9,  -999.0,9,  -999.0,-999.000,9, -999.00,      40.90,2
06MT20110405,     MedSea,     339,          1,     213203,         11,2,20110425,       1407,    35.9000,    -7.0000,        918,   204.3,  13.8098,  35.9211,2,    204.2,2,  -999.0,9, -999.00,9, -999.00,9, -999.00,9, -999.00,9,-999.000,9,-999.000,9,  -999.0,9,  -999.0,9,-999.0000,9,  -999.00,-999.000,9,-999.000,-999.0000,9, -999.00,9, -999.00,9,  -999.0,9,  -999.0,-999.000,9, -999.00,     -999.0,9
06MT20110405,     MedSea,     339,          1,     213204,         12,2,20110425,       1407,    35.9000,    -7.0000,        918,   204.0,  13.8102,  35.9229,2,    204.7,2,   204.1,2,    2.45,2,    9.94,2,    0.01,2,    0.60,2,-999.000,9,-999.000,9,  2142.3,2,  2357.1,2,   7.8603,2,    25.00,-999.000,9,-999.000,-999.0000,9, -999.00,9, -999.00,9,  -999.0,9,  -999.0,-999.000,9, -999.00,      40.20,2
06MT20110405,     MedSea,     339,          1,     213205,         13,2,20110425,       1409,    35.9000,    -7.0000,        918,   152.2,  14.3421,  35.9922,2,    206.2,2,   206.3,2,    2.10,2,    8.66,2,    0.01,2,    0.50,2,-999.000,9,-999.000,9,  2137.6,2,  2360.0,2,   7.8755,2,    25.00,-999.000,9,-999.000,-999.0000,9, -999.00,9, -999.00,9,  -999.0,9,  -999.0,-999.000,9, -999.00,      42.80,2
06MT20110405,     MedSea,     339,          1,     213206,         14,2,20110425,       1409,    35.9000,    -7.0000,        918,   152.3,  14.3524,  35.9915,2,    207.0,2,  -999.0,9, -999.00,9, -999.00,9, -999.00,9, -999.00,9,-999.000,9,-999.000,9,  -999.0,9,  -999.0,9,-999.0000,9,  -999.00,-999.000,9,-999.000,-999.0000,9, -999.00,9, -999.00,9,  -999.0,9,  -999.0,-999.000,9, -999.00,     -999.0,9
06MT20110405,     MedSea,     339,          1,     213207,         15,2,20110425,       1410,    35.9000,    -7.0000,        918,   101.9,  14.9166,  36.0774,2,    205.7,2,   205.7,2,    1.77,2,    7.74,2,    0.01,2,    0.44,2,-999.000,9,-999.000,9,  2135.1,2,  2363.9,2,   7.8887,2,    25.00,-999.000,9,-999.000,-999.0000,9, -999.00,9, -999.00,9,  -999.0,9,  -999.0,-999.000,9, -999.00,      40.80,2
06MT20110405,     MedSea,     339,          1,     213208,         16,2,20110425,       1411,    35.9000,    -7.0000,        918,   101.5,  14.9229,  36.0839,2,    206.5,2,  -999.0,9, -999.00,9, -999.00,9, -999.00,9, -999.00,9,-999.000,9,-999.000,9,  -999.0,9,  -999.0,9,-999.0000,9,  -999.00,-999.000,9,-999.000,-999.0000,9, -999.00,9, -999.00,9,  -999.0,9,  -999.0,-999.000,9, -999.00,     -999.0,9
06MT20110405,     MedSea,     339,          1,     213209,         17,2,20110425,       1412,    35.9000,    -7.0000,        918,    77.0,  15.5123,  36.1961,2,    211.2,2,   209.3,2,    1.28,2,    5.93,2,    0.02,2,    0.34,2,-999.000,9,-999.000,9,  2128.7,2,  2372.2,2,   7.9115,2,    25.00,-999.000,9,-999.000,-999.0000,9, -999.00,9, -999.00,9,  -999.0,9,  -999.0,-999.000,9, -999.00,      41.90,2
06MT20110405,     MedSea,     339,          1,     213210,         18,2,20110425,       1412,    35.9000,    -7.0000,        918,    77.1,  15.5440,  36.1949,2,    210.8,2,  -999.0,9, -999.00,9, -999.00,9, -999.00,9, -999.00,9,-999.000,9,-999.000,9,  -999.0,9,  -999.0,9,-999.0000,9,  -999.00,-999.000,9,-999.000,-999.0000,9, -999.00,9, -999.00,9,  -999.0,9,  -999.0,-999.000,9, -999.00,     -999.0,9
06MT20110405,     MedSea,     339,          1,     213211,         19,2,20110425,       1414,    35.9000,    -7.0000,        918,    52.1,  16.1927,  36.3130,2,    225.1,2,   222.3,2,    0.66,2,    3.19,2,    0.08,2,    0.20,2,-999.000,9,-999.000,9,  2118.0,2,  2379.6,2,   7.9456,2,    25.00,-999.000,9,-999.000,-999.0000,9, -999.00,9, -999.00,9,  -999.0,9,  -999.0,-999.000,9, -999.00,      43.70,2
06MT20110405,     MedSea,     339,          1,     213212,         20,2,20110425,       1414,    35.9000,    -7.0000,        918,    52.3,  16.1737,  36.3109,2,    225.8,2,  -999.0,9, -999.00,9, -999.00,9, -999.00,9, -999.00,9,-999.000,9,-999.000,9,  -999.0,9,  -999.0,9,-999.0000,9,  -999.00,-999.000,9,-999.000,-999.0000,9, -999.00,9, -999.00,9,  -999.0,9,  -999.0,-999.000,9, -999.00,     -999.0,9
06MT20110405,     MedSea,     339,          1,     213213,         21,2,20110425,       1416,    35.9000,    -7.0000,        918,    27.0,  17.4651,  36.3932,2,    241.1,3,   241.0,3,    0.01,2,    0.39,2,    0.02,2,    0.04,2,-999.000,9,-999.000,9,  2098.0,2,  2385.0,2,   7.9894,2,    25.00,-999.000,9,-999.000,-999.0000,9, -999.00,9, -999.00,9,  -999.0,9,  -999.0,-999.000,9, -999.00,      39.90,2
06MT20110405,     MedSea,     339,          1,     213214,         22,2,20110425,       1416,    35.9000,    -7.0000,        918,    26.8,  17.4714,  36.3941,2,    241.8,2,  -999.0,9, -999.00,9, -999.00,9, -999.00,9, -999.00,9,-999.000,9,-999.000,9,  -999.0,9,  -999.0,9,-999.0000,9,  -999.00,-999.000,9,-999.000,-999.0000,9, -999.00,9, -999.00,9,  -999.0,9,  -999.0,-999.000,9, -999.00,     -999.0,9
06MT20110405,     MedSea,     339,          1,     213215,         23,2,20110425,       1417,    35.9000,    -7.0000,        918,     6.3,  17.9210,  36.4104,2,    236.5,2,   241.1,2,   -0.06,2,    0.00,2,    0.00,2,    0.03,2,   1.399,2,-999.000,9,  2095.1,2,  2386.5,2,   7.9978,2,    25.00,-999.000,9,-999.000,-999.0000,9, -999.00,9, -999.00,9,  -999.0,9,  -999.0,-999.000,9, -999.00,      43.30,2
06MT20110405,     MedSea,     339,          1,     213216,         24,2,20110425,       1418,    35.9000,    -7.0000,        918,     6.6,  17.8313,  36.4082,2,    239.0,2,  -999.0,9, -999.00,9, -999.00,9, -999.00,9, -999.00,9,-999.000,9,-999.000,9,  -999.0,9,  -999.0,9,-999.0000,9,  -999.00,-999.000,9,-999.000,-999.0000,9, -999.00,9, -999.00,9,  -999.0,9,  -999.0,-999.000,9, -999.00,     -999.0,9