BOTTLE,20170314CCHSIORJL
EXPOCODE,SECT_ID,STNNBR,CASTNO,BIONBR,BTLNBR,BTLNBR_FLAG_W,DATE,TIME,LATITUDE,LONGITUDE,DEPTH,CTDPRS,CTDTMP,CTDSAL,CTDSAL_FLAG_W,CTDOXY,CTDOXY_FLAG_W,OXYGEN,OXYGEN_FLAG_W,SILCAT,SILCAT_FLAG_W,NITRAT,NITRAT_FLAG_W,NITRIT,NITRIT_FLAG_W,PHSPHT,PHSPHT_FLAG_W,CFC-12,CFC-12_FLAG_W,SF6,SF6_FLAG_W,TCARBN,TCARBN_FLAG_W,ALKALI,ALKALI_FLAG_W,PH_TOT,PH_TOT_FLAG_W,PH_TMP,TRITUM,TRITUM_FLAG_W,TRITER,HELIUM,HELIUM_FLAG_W,DELHE3,DELHE3_FLAG_W,DELC13,DELC13_FLAG_W,DELC14,DELC14_FLAG_W,C14ERR,NEON,NEON_FLAG_W,DELHER,BARIUM,BARIUM_FLAG_W
,,,,,,,,,,,METERS,DBAR,ITS-90,PSS-78,,UMOL/KG,,UMOL/KG,,UMOL/KG,,UMOL/KG,,UMOL/KG,,UMOL/KG,,PMOL/KG,,FMOL/KG,,UMOL/KG,,UMOL/KG,,,,DEG C,TU,,TU,NMOL/KG,,PERCNT,,/MILLE,,/MILLE,,/MILLE,NMOL/KG,,PERCNT,UM/KG,
06MT20110405,     MedSea,     297,          1,     209830,          1,2,20110411,       1829,    34.3990,    26.0190,       4275,  4264.8,  14.2220,  38.7529,2,    188.8,2,  -999.0,9, -999.00,9, -999.00,9, -999.00,9, -999.00,9,-999.000,9,-999.000,9,  -999.0,9,  -999.0,9,-999.0000,9,  -999.00,-999.000,9,-999.000,-999.0000,9, -999.00,9, -999.00,9,  -999.0,9,  -999.0,-999.000,9, -999.00,     -999.0,9
06MT20110405,     MedSea,     297,          1,     209831,          2,2,20110411,       1829,    34.3990,    26.0190,       4275,  4264.7,  14.2218,  38.7529,2,    189.8,2,   193.1,2,    7.32,2,    4.75,2,    0.00,2,    0.16,2,   0.620,2,   0.198,2,  2307.9,2,  2611.7,3,   7.9690,2,    25.00,-999.000,9,-999.000,-999.0000,9, -999.00,9, -999.00,9,  -999.0,9,  -999.0,-999.000,9, -999.00,      77.90,2
06MT20110405,     MedSea,     297,          1,     209832,          3,2,20110411,       1835,    34.3990,    26.0190,       4275,  4081.3,  14.1879,  38.7528,2,    190.4,2,   193.6,2,    7.25,2,    4.69,2,    0.00,2,    0.17,2,   0.643,2,   0.219,2,  2308.8,2,  2615.3,2,   7.9689,2,    25.00,-999.000,9,-999.000,-999.0000,9, -999.00,9, -999.00,9,  -999.0,9,  -999.0,-999.000,9, -999.00,      75.00,2
06MT20110405,     MedSea,     297,          1,     209833,          4,2,20110411,       1845,    34.3990,    26.0190,       4275,  3568.5,  14.0966,  38.7532,2,    192.3,2,   193.9,2,    7.19,2,    4.67,2,    0.01,2,    0.16,2,   0.624,2,   0.237,2,  2307.4,2,  2614.0,2,   7.9695,2,    25.00,-999.000,9,-999.000,-999.0000,9, -999.00,9, -999.00,9,  -999.0,9,  -999.0,-999.000,9, -999.00,      84.60,2
06MT20110405,     MedSea,     297,          1,     209834,          5,2,20110411,       1856,    34.3990,    26.0190,       4275,  3056.5,  13.9970,  38.7732,2,    192.0,2,   192.9,2,    7.24,2,    4.68,2,    0.00,2,    0.16,2,   0.592,2,   0.246,2,  2307.5,2,  2614.6,2,   7.9698,2,    25.00,-999.000,9,-999.000,-999.0000,9, -999.00,9, -999.00,9,  -999.0,9,  -999.0,-999.000,9, -999.00,      72.40,2
06MT20110405,     MedSea,     297,          1,     209835,          6,2,20110411,       1907,    34.3990,    26.0190,       4275,  2544.5,  13.9614,  38.7873,2,    190.4,2,   191.7,2,    7.39,2,    4.72,2,    0.00,2,    0.18,2,   0.556,2,   0.223,2,  2306.9,2,  2616.3,2,   7.9693,2,    25.00,-999.000,9,-999.000,-999.0000,9, -999.00,9, -999.00,9,  -999.0,9,  -999.0,-999.000,9, -999.00,      90.10,2
06MT20110405,     MedSea,     297,          1,     209836,          7,2,20110411,       1913,    34.3990,    26.0190,       4275,  2289.8,  13.9463,  38.7950,2,    188.5,2,   189.5,2,    7.57,2,    4.75,2,    0.00,2,    0.17,2,   0.548,2,   0.193,2,  2307.1,2,  2617.7,2,   7.9691,2,    25.00,-999.000,9,-999.000,-999.0000,9, -999.00,9, -999.00,9,  -999.0,9,  -999.0,-999.000,9, -999.00,      73.50,2
06MT20110405,     MedSea,     297,          1,     209837,          8,2,20110411,       1919,    34.3990,    26.0190,       4275,  2034.2,  13.9116,  38.7911,2,    187.5,2,   188.6,2,    7.65,2,    4.80,2,    0.01,2,    0.18,2,   0.505,2,    0.23,2,  2306.9,2,  2616.1,2,   7.9702,2,    25.00,-999.000,9,-999.000,-999.0000,9, -999.00,9, -999.00,9,  -999.0,9,  -999.0,-999.000,9, -999.00,      75.90,2
06MT20110405,     MedSea,     297,          1,     209838,          9,2,20110411,       1925,    34.3990,    26.0190,       4275,  1779.4,  13.8846,  38.7775,2,    185.1,2,   186.7,2,    7.86,2,    4.91,2,    0.01,2,    0.19,2,   0.464,2,   0.185,2,  2306.2,2,  2614.8,2,   7.9700,2,    25.00,-999.000,9,-999.000,-999.0000,9, -999.00,9, -999.00,9,  -999.0,9,  -999.0,-999.000,9, -999.00,      78.40,2
06MT20110405,     MedSea,     297,          1,     209839,         10,2,20110411,       1930,    34.3990,    26.0190,       4275,  1524.8,  13.8642,  38.7716,2,    184.7,2,   187.5,2,    7.79,2,    4.97,2,    0.00,2,    0.19,2,   0.457,2,   0.234,2,  2306.6,2,  2614.5,2,   7.9682,2,    25.00,-999.000,9,-999.000,-999.0000,9, -999.00,9, -999.00,9,  -999.0,9,  -999.0,-999.000,9, -999.00,      80.00,2
06MT20110405,     MedSea,     297,          1,     209840,         11,2,20110411,       1936,    34.3990,    26.0190,       4275,  1270.7,  13.8742,  38.7802,2,    183.7,2,   185.0,2,    7.64,2,    5.03,2,    0.00,2,    0.19,2,   0.489,2,   0.251,2,  2308.0,2,  2616.1,2,   7.9675,2,    25.00,-999.000,9,-999.000,-999.0000,9, -999.00,9, -999.00,9,  -999.0,9,  -999.0,-999.000,9, -999.00,      76.90,2
06MT20110405,     MedSea,     297,          1,     209841,         12,2,20110411,       1942,    34.3990,    26.0190,       4275,  1017.4,  13.8723,  38.7875,2,    182.3,2,   185.1,2,    7.50,2,    5.16,2,    0.00,2,    0.21,2,   0.496,2,   0.265,2,  2308.8,2,  2615.9,2,   7.9686,2,    25.00,-999.000,9,-999.000,-999.0000,9, -999.00,9, -999.00,9,  -999.0,9,  -999.0,-999.000,9, -999.00,      77.30,2
06MT20110405,     MedSea,     297,          1,     209842,         13,2,20110411,       1946,    34.3990,    26.0190,       4275,   814.0,  13.8873,  38.7958,2,    180.7,2,   181.2,2,    7.47,2,    5.46,2,    0.01,2,    0.21,2,   0.491,2,   0.328,2,  2310.7,2,  2613.9,2,   7.9624,2,    25.00,-999.000,9,-999.000,-999.0000,9, -999.00,9, -999.00,9,  -999.0,9,  -999.0,-999.000,9, -999.00,      78.20,2
06MT20110405,     MedSea,     297,          1,     209843,         14,2,20110411,       1953,    34.3990,    26.0190,       4275,   509.5,  14.1773,  38.8710,2,    181.8,2,   184.7,2,    5.99,2,    5.25,2,    0.01,2,    0.19,2,   0.750,2,    0.53,2,  2317.1,2,  2619.3,2,   7.9569,2,    25.00,-999.000,9,-999.000,-999.0000,9, -999.00,9, -999.00,9,  -999.0,9,  -999.0,-999.000,9, -999.00,      74.10,2
06MT20110405,     MedSea,     297,          1,     209844,         15,2,20110411,       1956,    34.3990,    26.0190,       4275,   408.7,  14.6309,  38.9749,2,    194.3,2,   194.3,2,    4.43,2,    4.12,2,    0.01,2,    0.14,2,   1.052,3,   0.795,3,  2321.8,2,  2625.2,2,   7.9608,2,    25.00,-999.000,9,-999.000,-999.0000,9, -999.00,9, -999.00,9,  -999.0,9,  -999.0,-999.000,9, -999.00,      65.40,2
06MT20110405,     MedSea,     297,          1,     209845,         16,2,20110411,       1959,    34.3990,    26.0190,       4275,   307.7,  14.8663,  38.9890,2,    187.9,2,   191.5,2,    4.35,2,    4.53,2,    0.00,2,    0.14,2,   0.987,2,   0.764,2,  2318.8,2,  2621.9,2,   7.9591,2,    25.00,-999.000,9,-999.000,-999.0000,9, -999.00,9, -999.00,9,  -999.0,9,  -999.0,-999.000,9, -999.00,      59.80,2
06MT20110405,     MedSea,     297,          1,     209846,         17,2,20110411,       2001,    34.3990,    26.0190,       4275,   256.9,  15.3530,  39.0725,2,    194.9,2,   195.3,2,    3.08,2,    3.57,2,    0.02,2,    0.08,2,   1.156,2,   0.882,2,  2316.8,2,  2623.9,2,   7.9666,2,    25.00,-999.000,9,-999.000,-999.0000,9, -999.00,9, -999.00,9,  -999.0,9,  -999.0,-999.000,9, -999.00,      72.10,2
06MT20110405,     MedSea,     297,          1,     209847,         18,2,20110411,       2003,    34.3990,    26.0190,       4275,   206.1,  15.8170,  39.1404,2,    204.2,2,   203.9,2,    2.06,2,    2.41,2,    0.03,2,    0.05,2,   1.277,2,   1.081,2,  2312.3,2,  2627.0,2,   7.9733,2,    25.00,-999.000,9,-999.000,-999.0000,9, -999.00,9, -999.00,9,  -999.0,9,  -999.0,-999.000,9, -999.00,      60.90,2
06MT20110405,     MedSea,     297,          1,     209848,         19,2,20110411,       2005,    34.3990,    26.0190,       4275,   155.5,  16.1677,  39.1969,2,    217.2,2,   218.6,2,    1.35,2,    1.16,2,    0.14,2,    0.00,2,   1.354,2,   1.231,2,  2303.1,3,  2627.9,2,   7.9887,2,    25.00,-999.000,9,-999.000,-999.0000,9, -999.00,9, -999.00,9,  -999.0,9,  -999.0,-999.000,9, -999.00,      51.60,2
06MT20110405,     MedSea,     297,          1,     209849,         20,2,20110411,       2007,    34.3990,    26.0190,       4275,   105.2,  16.3701,  39.1849,2,    216.3,2,   215.6,2,    1.26,2,    1.06,2,    0.04,2,    0.00,2,   1.345,2,   1.178,2,  2303.2,3,  2629.7,2,   7.9921,2,    25.00,-999.000,9,-999.000,-999.0000,9, -999.00,9, -999.00,9,  -999.0,9,  -999.0,-999.000,9, -999.00,      59.80,2
06MT20110405,     MedSea,     297,          1,     209850,         21,2,20110411,       2011,    34.3990,    26.0190,       4275,    29.5,  16.9387,  39.2233,2,    231.2,2,   235.0,2,    0.99,2,    0.11,2,    0.01,2,    0.00,2,   1.359,2,   1.278,2,  2290.9,2,  2625.5,2,   8.0100,2,    25.00,-999.000,9,-999.000,-999.0000,9, -999.00,9, -999.00,9,  -999.0,9,  -999.0,-999.000,9, -999.00,      50.30,2
06MT20110405,     MedSea,     297,          1,     209851,         22,2,20110411,       2012,    34.3990,    26.0190,       4275,     9.3,  17.2553,  39.2295,2,    230.9,2,   231.5,2,    0.94,2,    0.06,2,    0.01,2,    0.00,2,   1.297,2,    1.21,2,  2289.0,2,  2626.1,2,   8.0106,2,    25.00,-999.000,9,-999.000,-999.0000,9, -999.00,9, -999.00,9,  -999.0,9,  -999.0,-999.000,9, -999.00,      53.30,2
06MT20110405,     MedSea,     297,          1,     209852,         23,2,20110411,       2012,    34.3990,    26.0190,       4275,     9.4,  17.2552,  39.2293,2,    231.5,2,   231.7,2,    0.93,2,    0.07,2,    0.01,2,    0.00,2,   1.326,2,   1.205,2,  2289.6,2,  -999.0,9,   8.0105,2,    25.00,-999.000,9,-999.000,-999.0000,9, -999.00,9, -999.00,9,  -999.0,9,  -999.0,-999.000,9, -999.00,      54.60,2
06MT20110405,     MedSea,     297,          1,     209853,         24,2,20110411,       2013,    34.3990,    26.0190,       4275,     8.1,  17.2695,  39.2295,2,    231.8,2,  -999.0,9, -999.00,9, -999.00,9, -999.00,9, -999.00,9,-999.000,9,-999.000,9,  -999.0,9,  -999.0,9,-999.0000,9,  -999.00,-999.000,9,-999.000,-999.0000,9, -999.00,9, -999.00,9,  -999.0,9,  -999.0,-999.000,9, -999.00,     -999.0,9