BOTTLE,20170314CCHSIORJL
EXPOCODE,SECT_ID,STNNBR,CASTNO,BIONBR,BTLNBR,BTLNBR_FLAG_W,DATE,TIME,LATITUDE,LONGITUDE,DEPTH,CTDPRS,CTDTMP,CTDSAL,CTDSAL_FLAG_W,CTDOXY,CTDOXY_FLAG_W,OXYGEN,OXYGEN_FLAG_W,SILCAT,SILCAT_FLAG_W,NITRAT,NITRAT_FLAG_W,NITRIT,NITRIT_FLAG_W,PHSPHT,PHSPHT_FLAG_W,CFC-12,CFC-12_FLAG_W,SF6,SF6_FLAG_W,TCARBN,TCARBN_FLAG_W,ALKALI,ALKALI_FLAG_W,PH_TOT,PH_TOT_FLAG_W,PH_TMP,TRITUM,TRITUM_FLAG_W,TRITER,HELIUM,HELIUM_FLAG_W,DELHE3,DELHE3_FLAG_W,DELC13,DELC13_FLAG_W,DELC14,DELC14_FLAG_W,C14ERR,NEON,NEON_FLAG_W,DELHER,BARIUM,BARIUM_FLAG_W
,,,,,,,,,,,METERS,DBAR,ITS-90,PSS-78,,UMOL/KG,,UMOL/KG,,UMOL/KG,,UMOL/KG,,UMOL/KG,,UMOL/KG,,PMOL/KG,,FMOL/KG,,UMOL/KG,,UMOL/KG,,,,DEG C,TU,,TU,NMOL/KG,,PERCNT,,/MILLE,,/MILLE,,/MILLE,NMOL/KG,,PERCNT,UM/KG,
06MT20110405,     MedSea,     337,          1,     213145,          1,2,20110425,       0412,    35.9990,    -5.3640,        910,   900.3,  13.0470,  38.4731,2,    184.1,2,  -999.0,9, -999.00,9, -999.00,9, -999.00,9, -999.00,9,-999.000,9,-999.000,9,  -999.0,9,  -999.0,9,-999.0000,9,  -999.00,-999.000,9,-999.000,-999.0000,9, -999.00,9, -999.00,9,  -999.0,9,  -999.0,-999.000,9, -999.00,     -999.0,9
06MT20110405,     MedSea,     337,          1,     213146,          2,2,20110425,       0413,    35.9990,    -5.3640,        910,   899.6,  13.0490,  38.4731,2,    184.6,2,  -999.0,9, -999.00,9, -999.00,9, -999.00,9, -999.00,9,-999.000,9,-999.000,9,  -999.0,9,  -999.0,9,-999.0000,9,  -999.00,-999.000,9,-999.000,-999.0000,9, -999.00,9, -999.00,9,  -999.0,9,  -999.0,-999.000,9, -999.00,     -999.0,9
06MT20110405,     MedSea,     337,          1,     213147,          3,2,20110425,       0413,    35.9990,    -5.3640,        910,   899.7,  13.0471,  38.4731,2,    184.2,2,   187.9,2,    8.68,2,    9.16,2,    0.00,2,    0.40,2,   0.692,2,-999.000,9,  2321.5,2,  2587.3,2,   7.9035,2,    25.00,-999.000,9,-999.000,-999.0000,9, -999.00,9, -999.00,9,  -999.0,9,  -999.0,-999.000,9, -999.00,      74.90,2
06MT20110405,     MedSea,     337,          1,     213148,          4,2,20110425,       0416,    35.9990,    -5.3640,        910,   790.1,  13.1092,  38.4891,2,    179.5,2,   181.9,2,    8.45,2,    9.47,2,   -0.01,2,    0.40,2,   0.711,2,-999.000,9,  2323.5,2,  2587.3,2,   7.8989,2,    25.00,-999.000,9,-999.000,-999.0000,9, -999.00,9, -999.00,9,  -999.0,9,  -999.0,-999.000,9, -999.00,      78.80,2
06MT20110405,     MedSea,     337,          1,     213149,          5,2,20110425,       0422,    35.9990,    -5.3640,        910,   596.1,  13.1635,  38.5054,2,    175.3,2,   177.2,2,    7.94,2,    9.74,2,    0.00,2,    0.42,2,   0.736,2,-999.000,9,  -999.0,9,  2588.1,2,   7.8926,2,    25.00,-999.000,9,-999.000,-999.0000,9, -999.00,9, -999.00,9,  -999.0,9,  -999.0,-999.000,9, -999.00,      77.50,2
06MT20110405,     MedSea,     337,          1,     213150,          6,2,20110425,       0424,    35.9990,    -5.3640,        910,   501.3,  13.1806,  38.5098,2,    172.8,2,  -999.0,9,    7.84,2,   10.01,2,   -0.01,2,    0.44,2,   0.767,2,-999.000,9,  2329.2,2,  2587.1,2,   7.8970,2,    25.00,-999.000,9,-999.000,-999.0000,9, -999.00,9, -999.00,9,  -999.0,9,  -999.0,-999.000,9, -999.00,      71.80,2
06MT20110405,     MedSea,     337,          1,     213151,          7,2,20110425,       0428,    35.9990,    -5.3640,        910,   400.5,  13.2416,  38.5051,2,    164.4,2,   167.9,2,    7.25,2,   10.65,2,    0.00,2,    0.46,2,   0.879,2,-999.000,9,  2334.2,2,  2584.5,2,   7.8784,2,    25.00,-999.000,9,-999.000,-999.0000,9, -999.00,9, -999.00,9,  -999.0,9,  -999.0,-999.000,9, -999.00,      74.50,2
06MT20110405,     MedSea,     337,          1,     213152,          8,2,20110425,       0431,    35.9990,    -5.3640,        910,   300.5,  13.1569,  38.3801,2,    180.4,2,   179.3,2,    5.01,2,    9.43,2,    0.01,2,    0.37,2,   1.203,2,-999.000,9,  2326.9,2,  2576.0,2,   7.8717,2,    25.00,-999.000,9,-999.000,-999.0000,9, -999.00,9, -999.00,9,  -999.0,9,  -999.0,-999.000,9, -999.00,      68.10,2
06MT20110405,     MedSea,     337,          1,     213153,          9,2,20110425,       0433,    35.9990,    -5.3640,        910,   251.6,  13.1842,  38.2804,2,    196.4,2,  -999.0,9, -999.00,9, -999.00,9, -999.00,9, -999.00,9,-999.000,9,-999.000,9,  -999.0,9,  -999.0,9,-999.0000,9,  -999.00,-999.000,9,-999.000,-999.0000,9, -999.00,9, -999.00,9,  -999.0,9,  -999.0,-999.000,9, -999.00,     -999.0,9
06MT20110405,     MedSea,     337,          1,     213154,         10,2,20110425,       0433,    35.9990,    -5.3640,        910,   252.1,  13.1843,  38.2816,2,    196.4,2,  -999.0,9,    3.33,2,    6.94,2,    0.01,2,    0.25,2,   1.383,2,-999.000,9,  2309.1,2,  2565.3,2,   7.8951,2,    25.00,-999.000,9,-999.000,-999.0000,9, -999.00,9, -999.00,9,  -999.0,9,  -999.0,-999.000,9, -999.00,      60.40,2
06MT20110405,     MedSea,     337,          1,     213155,         11,2,20110425,       0435,    35.9990,    -5.3640,        910,   200.7,  13.1824,  38.2516,2,    200.5,2,  -999.0,9, -999.00,9, -999.00,9, -999.00,9, -999.00,9,-999.000,9,-999.000,9,  -999.0,9,  -999.0,9,-999.0000,9,  -999.00,-999.000,9,-999.000,-999.0000,9, -999.00,9, -999.00,9,  -999.0,9,  -999.0,-999.000,9, -999.00,     -999.0,9
06MT20110405,     MedSea,     337,          1,     213156,         12,2,20110425,       0435,    35.9990,    -5.3640,        910,   200.7,  13.1826,  38.2516,2,    199.4,2,   202.0,2,    2.97,2,    6.37,2,    0.01,2,    0.23,2,   1.428,2,-999.000,9,  2303.4,2,  2563.9,2,   7.8954,2,    25.00,-999.000,9,-999.000,-999.0000,9, -999.00,9, -999.00,9,  -999.0,9,  -999.0,-999.000,9, -999.00,      64.90,2
06MT20110405,     MedSea,     337,          1,     213157,         13,2,20110425,       0437,    35.9990,    -5.3640,        910,   149.7,  13.2145,  38.2171,2,    203.7,2,  -999.0,9,    2.68,2,    5.91,2,    0.01,2,    0.21,2,-999.000,9,-999.000,9,  2299.9,2,  2561.1,2,   7.9017,2,    25.00,-999.000,9,-999.000,-999.0000,9, -999.00,9, -999.00,9,  -999.0,9,  -999.0,-999.000,9, -999.00,      58.70,2
06MT20110405,     MedSea,     337,          1,     213158,         14,2,20110425,       0437,    35.9990,    -5.3640,        910,   150.4,  13.2067,  38.2182,2,    204.1,2,  -999.0,9, -999.00,9, -999.00,9, -999.00,9, -999.00,9,-999.000,9,-999.000,9,  -999.0,9,  -999.0,9,-999.0000,9,  -999.00,-999.000,9,-999.000,-999.0000,9, -999.00,9, -999.00,9,  -999.0,9,  -999.0,-999.000,9, -999.00,     -999.0,9
06MT20110405,     MedSea,     337,          1,     213159,         15,2,20110425,       0439,    35.9990,    -5.3640,        910,   102.9,  14.1489,  37.5981,2,    201.1,2,   204.6,2,    3.66,2,    6.50,2,    0.07,2,    0.28,2,   1.288,2,-999.000,9,  2242.3,2,  2498.0,2,   7.9078,2,    25.00,-999.000,9,-999.000,-999.0000,9, -999.00,9, -999.00,9,  -999.0,9,  -999.0,-999.000,9, -999.00,      64.40,2
06MT20110405,     MedSea,     337,          1,     213160,         16,2,20110425,       0439,    35.9990,    -5.3640,        910,   102.9,  14.1542,  37.5981,2,    200.9,2,  -999.0,9, -999.00,9, -999.00,9, -999.00,9, -999.00,9,-999.000,9,-999.000,9,  -999.0,9,  -999.0,9,-999.0000,9,  -999.00,-999.000,9,-999.000,-999.0000,9, -999.00,9, -999.00,9,  -999.0,9,  -999.0,-999.000,9, -999.00,     -999.0,9
06MT20110405,     MedSea,     337,          1,     213161,         17,2,20110425,       0441,    35.9990,    -5.3640,        910,    76.4,  14.5130,  37.2547,2,    205.2,2,  -999.0,9,    3.12,2,    6.07,2,    0.07,2,    0.28,2,   1.317,2,-999.000,9,  2217.3,2,  2471.8,2,   7.9116,2,    25.00,-999.000,9,-999.000,-999.0000,9, -999.00,9, -999.00,9,  -999.0,9,  -999.0,-999.000,9, -999.00,      56.60,2
06MT20110405,     MedSea,     337,          1,     213162,         18,2,20110425,       0441,    35.9990,    -5.3640,        910,    76.6,  14.5121,  37.2576,2,    205.5,2,  -999.0,9, -999.00,9, -999.00,9, -999.00,9, -999.00,9,-999.000,9,-999.000,9,  -999.0,9,  -999.0,9,-999.0000,9,  -999.00,-999.000,9,-999.000,-999.0000,9, -999.00,9, -999.00,9,  -999.0,9,  -999.0,-999.000,9, -999.00,     -999.0,9
06MT20110405,     MedSea,     337,          1,     213163,         19,2,20110425,       0442,    35.9990,    -5.3640,        910,    52.0,  15.3791,  36.6026,2,    215.7,2,   215.3,2,    2.00,2,    4.90,2,    0.06,2,    0.23,2,   1.384,2,-999.000,9,  2171.9,2,  2426.7,2,   7.9248,2,    25.00,-999.000,9,-999.000,-999.0000,9, -999.00,9, -999.00,9,  -999.0,9,  -999.0,-999.000,9, -999.00,      47.40,2
06MT20110405,     MedSea,     337,          1,     213164,         20,2,20110425,       0443,    35.9990,    -5.3640,        910,    52.1,  15.3599,  36.6223,2,    215.1,2,  -999.0,9, -999.00,9, -999.00,9, -999.00,9, -999.00,9,-999.000,9,-999.000,9,  -999.0,9,  -999.0,9,-999.0000,9,  -999.00,-999.000,9,-999.000,-999.0000,9, -999.00,9, -999.00,9,  -999.0,9,  -999.0,-999.000,9, -999.00,     -999.0,9
06MT20110405,     MedSea,     337,          1,     213165,         21,2,20110425,       0444,    35.9990,    -5.3640,        910,    26.9,  16.4712,  36.3112,2,    232.6,2,   233.4,2, -999.00,9, -999.00,9, -999.00,9, -999.00,9,   1.465,2,-999.000,9,  2116.5,2,  2383.9,2,   7.9604,2,    25.00,-999.000,9,-999.000,-999.0000,9, -999.00,9, -999.00,9,  -999.0,9,  -999.0,-999.000,9, -999.00,      43.50,2
06MT20110405,     MedSea,     337,          1,     213166,         22,2,20110425,       0444,    35.9990,    -5.3640,        910,    27.1,  16.5301,  36.3112,2,    232.8,2,  -999.0,9, -999.00,9, -999.00,9, -999.00,9, -999.00,9,-999.000,9,-999.000,9,  -999.0,9,  -999.0,9,-999.0000,9,  -999.00,-999.000,9,-999.000,-999.0000,9, -999.00,9, -999.00,9,  -999.0,9,  -999.0,-999.000,9, -999.00,     -999.0,9
06MT20110405,     MedSea,     337,          1,     213167,         23,2,20110425,       0446,    35.9990,    -5.3640,        910,     7.2,  17.5129,  36.2983,2,    238.5,2,   244.7,2,   -0.11,2,    0.13,2,    0.01,2,    0.03,2,   1.443,2,-999.000,9,  2095.0,2,  2381.5,2,   7.9951,2,    25.00,-999.000,9,-999.000,-999.0000,9, -999.00,9, -999.00,9,  -999.0,9,  -999.0,-999.000,9, -999.00,      40.00,2
06MT20110405,     MedSea,     337,          1,     213168,         24,2,20110425,       0446,    35.9990,    -5.3640,        910,     7.2,  17.5116,  36.2983,2,    238.3,2,  -999.0,9, -999.00,9, -999.00,9, -999.00,9, -999.00,9,-999.000,9,-999.000,9,  -999.0,9,  -999.0,9,-999.0000,9,  -999.00,-999.000,9,-999.000,-999.0000,9, -999.00,9, -999.00,9,  -999.0,9,  -999.0,-999.000,9, -999.00,     -999.0,9