BOTTLE,20170314CCHSIORJL
EXPOCODE,SECT_ID,STNNBR,CASTNO,BIONBR,BTLNBR,BTLNBR_FLAG_W,DATE,TIME,LATITUDE,LONGITUDE,DEPTH,CTDPRS,CTDTMP,CTDSAL,CTDSAL_FLAG_W,CTDOXY,CTDOXY_FLAG_W,OXYGEN,OXYGEN_FLAG_W,SILCAT,SILCAT_FLAG_W,NITRAT,NITRAT_FLAG_W,NITRIT,NITRIT_FLAG_W,PHSPHT,PHSPHT_FLAG_W,CFC-12,CFC-12_FLAG_W,SF6,SF6_FLAG_W,TCARBN,TCARBN_FLAG_W,ALKALI,ALKALI_FLAG_W,PH_TOT,PH_TOT_FLAG_W,PH_TMP,TRITUM,TRITUM_FLAG_W,TRITER,HELIUM,HELIUM_FLAG_W,DELHE3,DELHE3_FLAG_W,DELC13,DELC13_FLAG_W,DELC14,DELC14_FLAG_W,C14ERR,NEON,NEON_FLAG_W,DELHER,BARIUM,BARIUM_FLAG_W
,,,,,,,,,,,METERS,DBAR,ITS-90,PSS-78,,UMOL/KG,,UMOL/KG,,UMOL/KG,,UMOL/KG,,UMOL/KG,,UMOL/KG,,PMOL/KG,,FMOL/KG,,UMOL/KG,,UMOL/KG,,,,DEG C,TU,,TU,NMOL/KG,,PERCNT,,/MILLE,,/MILLE,,/MILLE,NMOL/KG,,PERCNT,UM/KG,
06MT20110405,     MedSea,     313,          1,     212156,          1,2,20110416,       1842,    41.2500,    18.0000,       1171,  1096.4,  13.2269,  38.7275,2,    206.0,2,  -999.0,9, -999.00,9, -999.00,9, -999.00,9, -999.00,9,-999.000,9,-999.000,9,  -999.0,9,  -999.0,9,-999.0000,9,  -999.00,-999.000,9,-999.000,-999.0000,9, -999.00,9, -999.00,9,  -999.0,9,  -999.0,-999.000,9, -999.00,     -999.0,9
06MT20110405,     MedSea,     313,          1,     212157,          2,2,20110416,       1843,    41.2500,    18.0000,       1171,  1096.4,  13.2269,  38.7275,2,    206.2,2,   208.0,2,    6.86,2,    3.90,2,    0.01,2,    0.13,2,   1.586,2,   1.216,2,  2331.1,2,  2621.9,2,   7.9352,2,    25.00,   1.040,2,   0.190,-999.0000,9, -999.00,9,    0.62,2,    40.4,2,     0.3,-999.000,9, -999.00,      67.80,2
06MT20110405,     MedSea,     313,          1,     212158,          3,2,20110416,       1845,    41.2500,    18.0000,       1171,  1012.4,  13.2710,  38.7255,2,    207.4,2,   208.5,2,    6.03,2,    3.89,2,    0.00,2,    0.12,2,   1.562,2,   1.164,2,  2329.0,2,  2618.9,2,   7.9357,2,    25.00,   1.020,2,   0.020,   1.7300,2,    0.82,2,    0.58,2,    40.9,2,     0.3,   7.150,2, -999.00,      66.90,2
06MT20110405,     MedSea,     313,          1,     212159,          4,2,20110416,       1850,    41.2500,    18.0000,       1171,   810.9,  13.4970,  38.7183,2,    207.4,2,  -999.0,9, -999.00,9, -999.00,9, -999.00,9, -999.00,9,-999.000,9,-999.000,9,  -999.0,9,  -999.0,9,-999.0000,9,  -999.00,-999.000,9,-999.000,-999.0000,9, -999.00,9, -999.00,9,  -999.0,9,  -999.0,-999.000,9, -999.00,     -999.0,9
06MT20110405,     MedSea,     313,          1,     212160,          5,2,20110416,       1850,    41.2500,    18.0000,       1171,   810.9,  13.4975,  38.7183,2,    207.2,2,   210.5,2,    4.06,2,    4.13,2,    0.00,2,    0.13,2,   1.464,2,   1.149,2,  2326.4,2,  2614.8,2,   7.9363,2,    25.00,   0.980,2,   0.020,   1.7500,2,    1.11,2,    0.69,2,    35.5,2,     0.3,   7.210,2, -999.00,      61.30,2
06MT20110405,     MedSea,     313,          1,     212161,          6,2,20110416,       1855,    41.2500,    18.0000,       1171,   607.7,  13.6106,  38.7060,2,    208.0,2,  -999.0,9, -999.00,9, -999.00,9, -999.00,9, -999.00,9,-999.000,9,-999.000,9,  -999.0,9,  -999.0,9,-999.0000,9,  -999.00,-999.000,9,-999.000,-999.0000,9, -999.00,9, -999.00,9,  -999.0,9,  -999.0,-999.000,9, -999.00,     -999.0,9
06MT20110405,     MedSea,     313,          1,     212162,          7,2,20110416,       1855,    41.2500,    18.0000,       1171,   607.7,  13.6130,  38.7060,2,    207.9,2,   207.2,2,    3.08,2,    4.43,2,    0.00,2,    0.13,2,   0.391,3,   0.331,3,  2323.2,2,  2611.6,2,   7.9354,2,    25.00,   0.950,2,   0.020,   1.7400,2,   -0.73,2,    0.70,2,    32.6,2,     0.3,   7.190,2, -999.00,      62.70,2
06MT20110405,     MedSea,     313,          1,     212163,          8,2,20110416,       1858,    41.2500,    18.0000,       1171,   506.9,  13.6607,  38.7091,2,    206.7,2,   209.8,2,    3.00,2,    4.56,2,    0.00,2,    0.16,2,   1.363,2,   1.158,2,  2324.4,2,  2612.4,2,   7.9363,2,    25.00,   0.960,2,   0.020,   1.7500,2,    0.63,2,    0.68,2,    32.8,2,     0.3,   7.180,2, -999.00,      63.90,2
06MT20110405,     MedSea,     313,          1,     212164,          9,2,20110416,       1900,    41.2500,    18.0000,       1171,   405.5,  13.7925,  38.7273,2,    203.5,2,  -999.0,9, -999.00,9, -999.00,9, -999.00,9, -999.00,9,-999.000,9,-999.000,9,  -999.0,9,  -999.0,9,-999.0000,9,  -999.00,-999.000,9,-999.000,-999.0000,9, -999.00,9, -999.00,9,  -999.0,9,  -999.0,-999.000,9, -999.00,     -999.0,9
06MT20110405,     MedSea,     313,          1,     212165,         10,2,20110416,       1901,    41.2500,    18.0000,       1171,   405.5,  13.7954,  38.7273,2,    204.2,2,   202.7,2,    1.69,6,    3.22,6,    0.03,6,    0.12,6,   1.310,2,   1.116,2,  2324.3,2,  2615.3,2,   7.9402,2,    25.00,   0.910,2,   0.030,   1.7500,2,   -0.81,2,    0.67,2,    28.5,2,     0.3,   7.170,2, -999.00,      62.30,2
06MT20110405,     MedSea,     313,          1,     212166,         11,2,20110416,       1904,    41.2500,    18.0000,       1171,   304.9,  13.7758,  38.6907,2,    208.4,2,   207.0,2,    2.32,2,    3.88,2,    0.01,2,    0.11,2,   1.149,2,   1.029,2,  2324.5,2,  2615.2,2,   7.9406,2,    25.00,   0.970,2,   0.020,   1.7500,2,    0.59,2,    0.64,2,    27.2,2,     0.3,   7.170,2, -999.00,      57.20,2
06MT20110405,     MedSea,     313,          1,     212167,         12,2,20110416,       1905,    41.2500,    18.0000,       1171,   254.9,  13.7276,  38.6576,2,    213.6,2,   210.5,2,    1.99,2,    3.46,2,    0.01,2,    0.08,2,   1.453,2,   1.302,2,  2322.9,2,  2615.6,2,   7.9420,2,    25.00,   1.000,2,   0.020,   1.7600,2,    0.23,2,    0.66,2,    34.6,2,     0.3,   7.200,2, -999.00,      62.20,2
06MT20110405,     MedSea,     313,          1,     212168,         13,2,20110416,       1907,    41.2500,    18.0000,       1171,   204.5,  13.7217,  38.6392,2,    218.2,2,   221.5,2,    1.55,2,    2.97,2,    0.01,2,    0.06,2,   1.497,2,   1.342,2,  2321.5,2,  2615.4,2,   7.9446,2,    25.00,   1.040,2,   0.020,   1.7500,2,   -0.69,2,    0.63,2,    39.3,2,     0.3,   7.170,2, -999.00,      64.10,2
06MT20110405,     MedSea,     313,          1,     212169,         14,2,20110416,       1909,    41.2500,    18.0000,       1171,   153.9,  13.8022,  38.6277,2,    221.7,2,   224.2,2,    1.22,2,    2.55,2,    0.01,2,    0.04,2,   1.404,2,   1.342,2,  2319.5,2,  2615.2,2,   7.9521,2,    25.00,   1.040,2,   0.020,   1.7500,2,   -2.78,2,    0.64,2,    45.2,2,     0.3,   7.180,2, -999.00,      63.80,2
06MT20110405,     MedSea,     313,          1,     212170,         15,2,20110416,       1911,    41.2500,    18.0000,       1171,   103.9,  13.8138,  38.5969,2,    224.5,2,  -999.0,9, -999.00,9, -999.00,9, -999.00,9, -999.00,9,-999.000,9,-999.000,9,  -999.0,9,  -999.0,9,-999.0000,9,  -999.00,-999.000,9,-999.000,-999.0000,9, -999.00,9, -999.00,9,  -999.0,9,  -999.0,-999.000,9, -999.00,     -999.0,9
06MT20110405,     MedSea,     313,          1,     212171,         16,2,20110416,       1911,    41.2500,    18.0000,       1171,   103.9,  13.8373,  38.5969,2,    224.6,2,   226.7,2,    1.18,2,    2.20,2,    0.01,2,    0.04,2,   1.532,2,   1.426,2,  2316.6,2,  2614.6,2,   7.9509,2,    25.00,   1.000,2,   0.040,-999.0000,9, -999.00,9,    0.67,2,    47.3,2,     0.4,-999.000,9, -999.00,      62.10,2
06MT20110405,     MedSea,     313,          1,     212172,         17,2,20110416,       1913,    41.2500,    18.0000,       1171,    78.5,  13.8670,  38.5626,2,    230.0,2,   227.7,2,    1.13,2,    1.95,2,    0.02,2,    0.03,2,   1.517,2,   1.469,2,  2314.5,2,  2615.8,2,   7.9562,2,    25.00,   1.060,2,   0.030,   1.7400,2,   -1.12,2,    0.66,2,    30.6,2,     0.3,   7.200,2, -999.00,      57.10,2
06MT20110405,     MedSea,     313,          1,     212173,         18,2,20110416,       1914,    41.2500,    18.0000,       1171,    53.3,  14.1138,  38.5833,2,    235.5,2,   231.9,2,    0.92,2,    1.56,2,    0.07,2,    0.02,2,   1.550,2,   1.491,2,  2310.9,2,  2616.8,2,   7.9651,2,    25.00,   1.110,2,   0.030,   2.1500,2,   -0.97,3,    0.66,2,    45.7,2,     0.3,   8.630,2, -999.00,      54.30,2
06MT20110405,     MedSea,     313,          1,     212174,         19,2,20110416,       1916,    41.2500,    18.0000,       1171,    27.9,  14.7076,  38.5229,2,    247.6,2,  -999.0,9, -999.00,9, -999.00,9, -999.00,9, -999.00,9,-999.000,9,-999.000,9,  -999.0,9,  -999.0,9,-999.0000,9,  -999.00,-999.000,9,-999.000,-999.0000,9, -999.00,9, -999.00,9,  -999.0,9,  -999.0,-999.000,9, -999.00,     -999.0,9
06MT20110405,     MedSea,     313,          1,     212175,         20,2,20110416,       1916,    41.2500,    18.0000,       1171,    27.9,  14.7073,  38.5229,2,    247.4,2,   247.0,2,    0.76,2,    0.35,2,    0.04,2,    0.00,2,   1.503,2,   1.489,2,  2299.7,3,  2621.2,2,   7.9814,2,    25.00,   1.130,2,   0.030,   1.7400,2,   -1.85,2,    0.80,2,    36.2,2,     0.3,   7.170,2, -999.00,      54.60,2
06MT20110405,     MedSea,     313,          1,     212176,         21,2,20110416,       1918,    41.2500,    18.0000,       1171,     7.9,  14.7042,  38.5236,2,    248.4,2,   251.1,2,    0.75,2,    0.28,2,    0.03,2,    0.00,2,   1.563,2,   1.624,2,  2300.0,2,  2619.7,2,   7.9872,2,    25.00,   1.120,2,   0.050,   1.7300,2,   -1.58,2,    0.80,2,    41.6,2,     0.4,   7.120,2, -999.00,      53.80,2
06MT20110405,     MedSea,     313,          1,     -999.0,         22,2,20110416,       1918,    41.2500,    18.0000,       1171,     8.0,  14.7051,  38.5236,2,    248.4,2,  -999.0,9, -999.00,9, -999.00,9, -999.00,9, -999.00,9,-999.000,9,-999.000,9,  -999.0,9,  -999.0,9,-999.0000,9,  -999.00,-999.000,9,-999.000,-999.0000,9, -999.00,9, -999.00,9,  -999.0,9,  -999.0,-999.000,9, -999.00,     -999.0,9
06MT20110405,     MedSea,     313,          1,     -999.0,         23,2,20110416,       1918,    41.2500,    18.0000,       1171,     7.9,  14.7027,  38.5236,2,    247.8,2,  -999.0,9, -999.00,9, -999.00,9, -999.00,9, -999.00,9,-999.000,9,-999.000,9,  -999.0,9,  -999.0,9,-999.0000,9,  -999.00,-999.000,9,-999.000,-999.0000,9, -999.00,9, -999.00,9,  -999.0,9,  -999.0,-999.000,9, -999.00,     -999.0,9
06MT20110405,     MedSea,     313,          1,     212177,         24,2,20110416,       1918,    41.2500,    18.0000,       1171,     8.0,  14.7042,  38.5236,2,    248.0,2,  -999.0,9, -999.00,9, -999.00,9, -999.00,9, -999.00,9,-999.000,9,-999.000,9,  -999.0,9,  -999.0,9,-999.0000,9,  -999.00,-999.000,9,-999.000,-999.0000,9, -999.00,9, -999.00,9,  -999.0,9,  -999.0,-999.000,9, -999.00,     -999.0,9