BOTTLE,20170314CCHSIORJL
EXPOCODE,SECT_ID,STNNBR,CASTNO,BIONBR,BTLNBR,BTLNBR_FLAG_W,DATE,TIME,LATITUDE,LONGITUDE,DEPTH,CTDPRS,CTDTMP,CTDSAL,CTDSAL_FLAG_W,CTDOXY,CTDOXY_FLAG_W,OXYGEN,OXYGEN_FLAG_W,SILCAT,SILCAT_FLAG_W,NITRAT,NITRAT_FLAG_W,NITRIT,NITRIT_FLAG_W,PHSPHT,PHSPHT_FLAG_W,CFC-12,CFC-12_FLAG_W,SF6,SF6_FLAG_W,TCARBN,TCARBN_FLAG_W,ALKALI,ALKALI_FLAG_W,PH_TOT,PH_TOT_FLAG_W,PH_TMP,TRITUM,TRITUM_FLAG_W,TRITER,HELIUM,HELIUM_FLAG_W,DELHE3,DELHE3_FLAG_W,DELC13,DELC13_FLAG_W,DELC14,DELC14_FLAG_W,C14ERR,NEON,NEON_FLAG_W,DELHER,BARIUM,BARIUM_FLAG_W
,,,,,,,,,,,METERS,DBAR,ITS-90,PSS-78,,UMOL/KG,,UMOL/KG,,UMOL/KG,,UMOL/KG,,UMOL/KG,,UMOL/KG,,PMOL/KG,,FMOL/KG,,UMOL/KG,,UMOL/KG,,,,DEG C,TU,,TU,NMOL/KG,,PERCNT,,/MILLE,,/MILLE,,/MILLE,NMOL/KG,,PERCNT,UM/KG,
06MT20110405,     MedSea,     314,          1,     212178,          1,2,20110417,       1207,    38.5000,    18.4160,       2903,  2892.9,  13.8995,  38.7326,2,    196.5,2,  -999.0,9, -999.00,9, -999.00,9, -999.00,9, -999.00,9,-999.000,9,-999.000,9,  -999.0,9,  -999.0,9,-999.0000,9,  -999.00,-999.000,9,-999.000,-999.0000,9, -999.00,9, -999.00,9,  -999.0,9,  -999.0,-999.000,9, -999.00,     -999.0,9
06MT20110405,     MedSea,     314,          1,     212179,          2,2,20110417,       1208,    38.5000,    18.4160,       2903,  2893.1,  13.8995,  38.7326,2,    196.2,2,   194.6,2,    7.06,2,    4.58,2,    0.01,2,    0.16,2,   0.741,2,   0.419,2,  2313.8,2,  2615.5,2,   7.9617,2,    25.00,-999.000,9,-999.000,-999.0000,9, -999.00,9, -999.00,9,  -999.0,9,  -999.0,-999.000,9, -999.00,      74.20,2
06MT20110405,     MedSea,     314,          1,     212180,          3,2,20110417,       1212,    38.5000,    18.4160,       2903,  2800.3,  13.8908,  38.7334,2,    197.2,2,   194.1,2,    6.74,2,    4.56,2,    0.02,2,    0.16,2,   0.535,2,   0.323,2,  2311.3,2,  2615.9,2,   7.9635,2,    25.00,-999.000,9,-999.000,-999.0000,9, -999.00,9, -999.00,9,  -999.0,9,  -999.0,-999.000,9, -999.00,      73.70,2
06MT20110405,     MedSea,     314,          1,     212181,          4,2,20110417,       1219,    38.5000,    18.4160,       2903,  2544.4,  13.8622,  38.7356,2,    196.4,2,   195.5,2,    6.67,2,    4.56,2,    0.02,2,    0.16,2,   0.717,2,    0.42,2,  2312.1,2,  2615.1,2,   7.9637,2,    25.00,-999.000,9,-999.000,-999.0000,9, -999.00,9, -999.00,9,  -999.0,9,  -999.0,-999.000,9, -999.00,      74.90,2
06MT20110405,     MedSea,     314,          1,     212182,          5,2,20110417,       1233,    38.5000,    18.4160,       2903,  2033.2,  13.8148,  38.7407,2,    195.3,2,   193.2,2,    6.67,2,    4.63,2,    0.01,2,    0.17,2,   0.684,2,   0.431,2,  2309.1,2,  2614.9,2,   7.9662,2,    25.00,-999.000,9,-999.000,-999.0000,9, -999.00,9, -999.00,9,  -999.0,9,  -999.0,-999.000,9, -999.00,      79.80,2
06MT20110405,     MedSea,     314,          1,     212183,          6,2,20110417,       1240,    38.5000,    18.4160,       2903,  1778.9,  13.8032,  38.7447,2,    193.6,2,   191.0,2,    6.87,2,    4.67,2,    0.01,2,    0.18,2,   0.601,2,   0.283,2,  2307.3,2,  2615.4,2,   7.9681,2,    25.00,-999.000,9,-999.000,-999.0000,9, -999.00,9, -999.00,9,  -999.0,9,  -999.0,-999.000,9, -999.00,      73.30,2
06MT20110405,     MedSea,     314,          1,     212184,          7,2,20110417,       1249,    38.5000,    18.4160,       2903,  1524.1,  13.7847,  38.7455,2,    190.9,2,   188.2,2,    7.17,2,    4.78,2,    0.00,2,    0.18,2,   0.543,2,   0.288,2,  2305.9,2,  2614.8,2,   7.9700,2,    25.00,-999.000,9,-999.000,-999.0000,9, -999.00,9, -999.00,9,  -999.0,9,  -999.0,-999.000,9, -999.00,      74.60,2
06MT20110405,     MedSea,     314,          1,     212185,          8,2,20110417,       1256,    38.5000,    18.4160,       2903,  1267.4,  13.7611,  38.7439,2,    186.5,2,   185.4,2,    5.50,6,    5.69,6,    0.03,6,    0.23,6,   0.474,2,   0.317,2,  2304.7,2,  2613.7,2,   7.9718,2,    25.00,-999.000,9,-999.000,-999.0000,9, -999.00,9, -999.00,9,  -999.0,9,  -999.0,-999.000,9, -999.00,      73.90,2
06MT20110405,     MedSea,     314,          1,     212186,          9,2,20110417,       1303,    38.5000,    18.4160,       2903,  1015.6,  13.7746,  38.7535,2,    183.8,2,   181.9,2,    7.40,2,    5.29,2,    0.01,2,    0.20,2,   0.417,2,   0.247,2,  2307.4,2,  -999.0,9,-999.0000,9,  -999.00,-999.000,9,-999.000,-999.0000,9, -999.00,9, -999.00,9,  -999.0,9,  -999.0,-999.000,9, -999.00,      75.10,2
06MT20110405,     MedSea,     314,          1,     212187,         10,2,20110417,       1309,    38.5000,    18.4160,       2903,   812.9,  13.8141,  38.7686,2,    184.0,2,   181.7,2,    6.97,2,    5.41,2,    0.00,2,    0.21,2,   0.517,2,   0.314,2,  2310.1,2,  2615.2,2,   7.9654,6,    25.00,-999.000,9,-999.000,-999.0000,9, -999.00,9, -999.00,9,  -999.0,9,  -999.0,-999.000,9, -999.00,      69.50,2
06MT20110405,     MedSea,     314,          1,     212188,         11,2,20110417,       1315,    38.5000,    18.4160,       2903,   609.8,  13.9645,  38.8061,2,    186.5,2,   183.7,2,    5.70,2,    5.44,2,    0.00,2,    0.20,2,   0.796,2,   0.555,2,  2316.5,2,  2617.7,2,   7.9545,2,    25.00,-999.000,9,-999.000,-999.0000,9, -999.00,9, -999.00,9,  -999.0,9,  -999.0,-999.000,9, -999.00,      74.30,2
06MT20110405,     MedSea,     314,          1,     212189,         12,2,20110417,       1318,    38.5000,    18.4160,       2903,   508.6,  14.1767,  38.8571,2,    190.7,2,   188.7,2,    4.67,2,    4.97,2,    0.03,2,    0.19,2,   0.885,2,   0.719,2,  2319.1,2,  2620.6,2,   7.9530,2,    25.00,-999.000,9,-999.000,-999.0000,9, -999.00,9, -999.00,9,  -999.0,9,  -999.0,-999.000,9, -999.00,      66.40,2
06MT20110405,     MedSea,     314,          1,     212190,         13,2,20110417,       1321,    38.5000,    18.4160,       2903,   406.3,  14.3945,  38.9022,2,    194.8,2,   192.4,2,    3.69,2,    4.57,2,    0.01,2,    0.17,2,   1.145,2,   0.911,2,  2322.2,2,  2622.8,2,   7.9530,2,    25.00,-999.000,9,-999.000,-999.0000,9, -999.00,9, -999.00,9,  -999.0,9,  -999.0,-999.000,9, -999.00,      67.60,2
06MT20110405,     MedSea,     314,          1,     212191,         14,2,20110417,       1325,    38.5000,    18.4160,       2903,   306.2,  14.6632,  38.9573,2,    199.7,2,   197.3,2,    2.84,2,    3.97,2,    0.02,2,    0.12,2,   1.279,2,   0.951,2,  2323.0,2,  2626.0,2,   7.9548,2,    25.00,-999.000,9,-999.000,-999.0000,9, -999.00,9, -999.00,9,  -999.0,9,  -999.0,-999.000,9, -999.00,      62.70,2
06MT20110405,     MedSea,     314,          1,     212192,         15,2,20110417,       1327,    38.5000,    18.4160,       2903,   255.7,  14.7584,  38.9692,2,    199.2,2,   197.3,2,    2.57,2,    3.86,2,    0.01,2,    0.11,2,   1.284,2,   1.033,2,  2322.4,2,  2626.0,2,   7.9564,2,    25.00,-999.000,9,-999.000,-999.0000,9, -999.00,9, -999.00,9,  -999.0,9,  -999.0,-999.000,9, -999.00,      58.90,2
06MT20110405,     MedSea,     314,          1,     212193,         16,2,20110417,       1329,    38.5000,    18.4160,       2903,   204.4,  14.8608,  38.9720,2,    199.6,2,   196.9,2,    2.27,2,    3.79,2,    0.01,2,    0.11,2,   1.161,3,   0.982,3,  2321.8,2,  2624.1,2,   7.9582,2,    25.00,-999.000,9,-999.000,-999.0000,9, -999.00,9, -999.00,9,  -999.0,9,  -999.0,-999.000,9, -999.00,      56.40,2
06MT20110405,     MedSea,     314,          1,     212194,         17,2,20110417,       1330,    38.5000,    18.4160,       2903,   154.2,  14.6913,  38.8656,2,    200.9,2,   198.6,2,    1.84,2,    3.59,2,    0.02,2,    0.08,2,   1.391,2,   1.141,2,  2321.4,2,  2618.7,2,   7.9509,3,    25.00,-999.000,9,-999.000,-999.0000,9, -999.00,9, -999.00,9,  -999.0,9,  -999.0,-999.000,9, -999.00,      57.50,2
06MT20110405,     MedSea,     314,          1,     212195,         18,2,20110417,       1333,    38.5000,    18.4160,       2903,   104.6,  14.0977,  38.5822,2,    235.7,2,   233.9,2,    0.63,2,    1.47,2,    0.21,2,    0.02,2,   1.556,2,   1.541,2,  2304.1,2,  2604.9,2,   7.9658,2,    25.00,-999.000,9,-999.000,-999.0000,9, -999.00,9, -999.00,9,  -999.0,9,  -999.0,-999.000,9, -999.00,      58.30,2
06MT20110405,     MedSea,     314,          1,     212196,         19,2,20110417,       1335,    38.5000,    18.4160,       2903,    53.7,  14.5717,  38.5890,2,    238.7,2,   236.1,2,    0.51,2,    0.79,2,    0.08,2,    0.00,2,   1.534,2,   1.489,2,  2295.5,2,  2603.1,2,   7.9710,2,    25.00,-999.000,9,-999.000,-999.0000,9, -999.00,9, -999.00,9,  -999.0,9,  -999.0,-999.000,9, -999.00,      54.10,2
06MT20110405,     MedSea,     314,          1,     212197,         20,2,20110417,       1337,    38.5000,    18.4160,       2903,    28.0,  15.2050,  38.5488,2,    241.7,2,   241.9,2,    0.40,2,    0.15,2,    0.01,2,    0.00,2,-999.000,9,-999.000,9,  2283.9,2,  2598.8,2,   7.9847,2,    25.00,-999.000,9,-999.000,-999.0000,9, -999.00,9, -999.00,9,  -999.0,9,  -999.0,-999.000,9, -999.00,      57.30,2
06MT20110405,     MedSea,     314,          1,     212198,         21,2,20110417,       1339,    38.5000,    18.4160,       2903,     8.1,  15.7357,  38.4970,2,    239.6,2,   241.7,2,    0.32,2,   -0.01,2,    0.00,2,    0.00,2,   1.513,2,   1.562,2,  2273.8,2,  2590.6,2,   7.9918,2,    25.00,-999.000,9,-999.000,-999.0000,9, -999.00,9, -999.00,9,  -999.0,9,  -999.0,-999.000,9, -999.00,      51.90,2
06MT20110405,     MedSea,     314,          1,     -999.0,         22,2,20110417,       1339,    38.5000,    18.4160,       2903,     7.5,  15.7370,  38.4974,2,    242.3,2,  -999.0,9, -999.00,9, -999.00,9, -999.00,9, -999.00,9,-999.000,9,-999.000,9,  -999.0,9,  -999.0,9,-999.0000,9,  -999.00,-999.000,9,-999.000,-999.0000,9, -999.00,9, -999.00,9,  -999.0,9,  -999.0,-999.000,9, -999.00,     -999.0,9
06MT20110405,     MedSea,     314,          1,     -999.0,         23,2,20110417,       1340,    38.5000,    18.4160,       2903,     7.6,  15.7372,  38.4973,2,    242.7,2,  -999.0,9, -999.00,9, -999.00,9, -999.00,9, -999.00,9,-999.000,9,-999.000,9,  -999.0,9,  -999.0,9,-999.0000,9,  -999.00,-999.000,9,-999.000,-999.0000,9, -999.00,9, -999.00,9,  -999.0,9,  -999.0,-999.000,9, -999.00,     -999.0,9
06MT20110405,     MedSea,     314,          1,     212199,         24,2,20110417,       1340,    38.5000,    18.4160,       2903,     7.7,  15.7362,  38.4972,2,    242.9,2,  -999.0,9, -999.00,9, -999.00,9, -999.00,9, -999.00,9,-999.000,9,-999.000,9,  -999.0,9,  -999.0,9,-999.0000,9,  -999.00,-999.000,9,-999.000,-999.0000,9, -999.00,9, -999.00,9,  -999.0,9,  -999.0,-999.000,9, -999.00,     -999.0,9