BOTTLE,20170314CCHSIORJL
EXPOCODE,SECT_ID,STNNBR,CASTNO,BIONBR,BTLNBR,BTLNBR_FLAG_W,DATE,TIME,LATITUDE,LONGITUDE,DEPTH,CTDPRS,CTDTMP,CTDSAL,CTDSAL_FLAG_W,CTDOXY,CTDOXY_FLAG_W,OXYGEN,OXYGEN_FLAG_W,SILCAT,SILCAT_FLAG_W,NITRAT,NITRAT_FLAG_W,NITRIT,NITRIT_FLAG_W,PHSPHT,PHSPHT_FLAG_W,CFC-12,CFC-12_FLAG_W,SF6,SF6_FLAG_W,TCARBN,TCARBN_FLAG_W,ALKALI,ALKALI_FLAG_W,PH_TOT,PH_TOT_FLAG_W,PH_TMP,TRITUM,TRITUM_FLAG_W,TRITER,HELIUM,HELIUM_FLAG_W,DELHE3,DELHE3_FLAG_W,DELC13,DELC13_FLAG_W,DELC14,DELC14_FLAG_W,C14ERR,NEON,NEON_FLAG_W,DELHER,BARIUM,BARIUM_FLAG_W
,,,,,,,,,,,METERS,DBAR,ITS-90,PSS-78,,UMOL/KG,,UMOL/KG,,UMOL/KG,,UMOL/KG,,UMOL/KG,,UMOL/KG,,PMOL/KG,,FMOL/KG,,UMOL/KG,,UMOL/KG,,,,DEG C,TU,,TU,NMOL/KG,,PERCNT,,/MILLE,,/MILLE,,/MILLE,NMOL/KG,,PERCNT,UM/KG,
06MT20110405,     MedSea,     321,          1,     212318,          1,2,20110420,       2208,    38.2500,     9.4000,       1562,  1552.4,  13.1178,  38.4721,2,    192.6,2,  -999.0,9, -999.00,9, -999.00,9, -999.00,9, -999.00,9,-999.000,9,-999.000,9,  -999.0,9,  -999.0,9,-999.0000,9,  -999.00,-999.000,9,-999.000,-999.0000,9, -999.00,9, -999.00,9,  -999.0,9,  -999.0,-999.000,9, -999.00,     -999.0,9
06MT20110405,     MedSea,     321,          1,     212319,          2,2,20110420,       2209,    38.2500,     9.4000,       1562,  1552.4,  13.1178,  38.4721,2,    192.4,2,  -999.0,9, -999.00,9, -999.00,9, -999.00,9, -999.00,9,-999.000,9,-999.000,9,  -999.0,9,  -999.0,9,-999.0000,9,  -999.00,-999.000,9,-999.000,-999.0000,9, -999.00,9, -999.00,9,  -999.0,9,  -999.0,-999.000,9, -999.00,     -999.0,9
06MT20110405,     MedSea,     321,          1,     212320,          3,2,20110420,       2209,    38.2500,     9.4000,       1562,  1552.4,  13.1181,  38.4721,2,    192.7,2,   194.0,2,    8.41,2,    8.06,2,    0.00,2,    0.44,2,   0.804,2,-999.000,9,  2319.3,2,  2582.5,2,   7.8991,2,    25.00,-999.000,9,-999.000,-999.0000,9, -999.00,9, -999.00,9,  -999.0,9,  -999.0,-999.000,9, -999.00,      72.80,2
06MT20110405,     MedSea,     321,          1,     212321,          4,2,20110420,       2216,    38.2500,     9.4000,       1562,  1269.5,  13.1513,  38.4885,2,    186.3,2,  -999.0,9, -999.00,9, -999.00,9, -999.00,9, -999.00,9,-999.000,9,-999.000,9,  -999.0,9,  -999.0,9,-999.0000,9,  -999.00,-999.000,9,-999.000,-999.0000,9, -999.00,9, -999.00,9,  -999.0,9,  -999.0,-999.000,9, -999.00,     -999.0,9
06MT20110405,     MedSea,     321,          1,     212322,          5,2,20110420,       2216,    38.2500,     9.4000,       1562,  1269.5,  13.1513,  38.4885,2,    186.4,2,   191.8,2,    8.40,2,    7.98,2,    0.00,2,    0.41,2,   0.642,2,-999.000,9,  2319.1,2,  2586.1,2,   7.9050,2,    25.00,-999.000,9,-999.000,-999.0000,9, -999.00,9, -999.00,9,  -999.0,9,  -999.0,-999.000,9, -999.00,     100.00,2
06MT20110405,     MedSea,     321,          1,     212323,          6,2,20110420,       2222,    38.2500,     9.4000,       1562,  1015.6,  13.4213,  38.5708,2,    182.0,2,  -999.0,9, -999.00,9, -999.00,9, -999.00,9, -999.00,9,-999.000,9,-999.000,9,  -999.0,9,  -999.0,9,-999.0000,9,  -999.00,-999.000,9,-999.000,-999.0000,9, -999.00,9, -999.00,9,  -999.0,9,  -999.0,-999.000,9, -999.00,      91.80,2
06MT20110405,     MedSea,     321,          1,     212324,          7,2,20110420,       2222,    38.2500,     9.4000,       1562,  1015.5,  13.4158,  38.5709,2,    181.4,2,   185.0,2,    8.14,2,    7.23,2,    0.00,2,    0.39,2,   0.594,2,-999.000,9,  2317.8,2,  2594.6,2,   7.9192,2,    25.00,-999.000,9,-999.000,-999.0000,9, -999.00,9, -999.00,9,  -999.0,9,  -999.0,-999.000,9, -999.00,      90.50,2
06MT20110405,     MedSea,     321,          1,     212325,          8,2,20110420,       2228,    38.2500,     9.4000,       1562,   813.0,  13.6408,  38.6394,2,    178.2,2,   181.9,2,    7.45,2,    6.72,2,    0.00,2,    0.36,2,   0.634,2,-999.000,9,  2319.0,2,  2600.5,2,   7.9283,2,    25.00,-999.000,9,-999.000,-999.0000,9, -999.00,9, -999.00,9,  -999.0,9,  -999.0,-999.000,9, -999.00,     -999.0,9
06MT20110405,     MedSea,     321,          1,     212326,          9,2,20110420,       2234,    38.2500,     9.4000,       1562,   610.2,  13.7774,  38.6772,2,    177.2,2,  -999.0,9, -999.00,9, -999.00,9, -999.00,9, -999.00,9,-999.000,9,-999.000,9,  -999.0,9,  -999.0,9,-999.0000,9,  -999.00,-999.000,9,-999.000,-999.0000,9, -999.00,9, -999.00,9,  -999.0,9,  -999.0,-999.000,9, -999.00,     -999.0,9
06MT20110405,     MedSea,     321,          1,     212327,         10,2,20110420,       2234,    38.2500,     9.4000,       1562,   610.3,  13.7835,  38.6771,2,    177.1,2,   177.6,2,    6.79,2,    6.52,2,    0.00,2,    0.35,2,-999.000,9,-999.000,9,  2321.7,2,  2604.2,2,   7.9249,2,    25.00,-999.000,9,-999.000,-999.0000,9, -999.00,9, -999.00,9,  -999.0,9,  -999.0,-999.000,9, -999.00,      80.30,2
06MT20110405,     MedSea,     321,          1,     212328,         11,2,20110420,       2237,    38.2500,     9.4000,       1562,   508.9,  13.8538,  38.6960,2,    175.9,2,   175.3,2,    6.35,2,    6.50,2,    0.00,3,    0.34,2,   0.774,2,-999.000,9,  2323.0,2,  2605.0,2,   7.9334,3,    25.00,-999.000,9,-999.000,-999.0000,9, -999.00,9, -999.00,9,  -999.0,9,  -999.0,-999.000,9, -999.00,      66.60,2
06MT20110405,     MedSea,     321,          1,     212329,         12,2,20110420,       2240,    38.2500,     9.4000,       1562,   407.0,  13.9365,  38.7128,2,    173.3,2,   172.8,2,    5.82,2,    6.58,2,    0.00,2,    0.35,2,   0.856,2,-999.000,9,  2326.1,2,  2605.4,2,   7.9215,2,    25.00,-999.000,9,-999.000,-999.0000,9, -999.00,9, -999.00,9,  -999.0,9,  -999.0,-999.000,9, -999.00,      67.70,2
06MT20110405,     MedSea,     321,          1,     212330,         13,2,20110420,       2244,    38.2500,     9.4000,       1562,   306.3,  14.0004,  38.7099,2,    174.4,2,   174.5,2,    5.22,2,    6.43,2,    0.00,2,    0.32,2,   0.963,2,-999.000,9,  2326.5,2,  2605.2,2,   7.9215,2,    25.00,-999.000,9,-999.000,-999.0000,9, -999.00,9, -999.00,9,  -999.0,9,  -999.0,-999.000,9, -999.00,      61.40,2
06MT20110405,     MedSea,     321,          1,     212331,         14,2,20110420,       2246,    38.2500,     9.4000,       1562,   255.9,  14.0384,  38.7046,2,    175.8,2,  -999.0,9, -999.00,9, -999.00,9, -999.00,9, -999.00,9,-999.000,9,-999.000,9,  -999.0,9,  -999.0,9,-999.0000,9,  -999.00,-999.000,9,-999.000,-999.0000,9, -999.00,9, -999.00,9,  -999.0,9,  -999.0,-999.000,9, -999.00,     -999.0,9
06MT20110405,     MedSea,     321,          1,     212332,         15,2,20110420,       2246,    38.2500,     9.4000,       1562,   255.9,  14.0385,  38.7046,2,    176.5,2,   175.8,2,    4.81,2,    6.36,2,    0.00,2,    0.32,2,   1.001,2,-999.000,9,  2325.2,2,  2603.5,2,   7.9195,2,    25.00,-999.000,9,-999.000,-999.0000,9, -999.00,9, -999.00,9,  -999.0,9,  -999.0,-999.000,9, -999.00,      78.60,2
06MT20110405,     MedSea,     321,          1,     212333,         16,2,20110420,       2248,    38.2500,     9.4000,       1562,   204.6,  14.0446,  38.6566,2,    177.5,2,   177.5,2,    4.41,2,    6.20,2,    0.00,2,    0.29,2,   1.081,2,-999.000,9,  2324.1,2,  2598.3,2,   7.9260,2,    25.00,-999.000,9,-999.000,-999.0000,9, -999.00,9, -999.00,9,  -999.0,9,  -999.0,-999.000,9, -999.00,      73.60,2
06MT20110405,     MedSea,     321,          1,     212334,         17,2,20110420,       2250,    38.2500,     9.4000,       1562,   154.4,  13.7157,  38.4806,2,    183.6,2,   181.5,2,    3.60,2,    6.09,2,    0.01,2,    0.30,2,-999.000,9,-999.000,9,  2319.7,2,  2586.0,2,   7.9135,2,    25.00,-999.000,9,-999.000,-999.0000,9, -999.00,9, -999.00,9,  -999.0,9,  -999.0,-999.000,9, -999.00,      67.50,2
06MT20110405,     MedSea,     321,          1,     212335,         18,2,20110420,       2252,    38.2500,     9.4000,       1562,   103.7,  13.9039,  38.4056,2,    193.7,2,   192.0,2,    2.66,2,    5.19,2,    0.01,2,    0.24,2,   1.329,2,-999.000,9,  2307.9,2,  2573.4,2,   7.9066,2,    25.00,-999.000,9,-999.000,-999.0000,9, -999.00,9, -999.00,9,  -999.0,9,  -999.0,-999.000,9, -999.00,      54.50,2
06MT20110405,     MedSea,     321,          1,     212336,         19,2,20110420,       2254,    38.2500,     9.4000,       1562,    78.8,  13.7759,  38.2449,2,    216.4,2,   210.4,2,    1.64,2,    2.80,2,    0.08,2,    0.04,2,-999.000,9,-999.000,9,  2289.2,2,  2561.4,2,   7.9227,2,    25.00,-999.000,9,-999.000,-999.0000,9, -999.00,9, -999.00,9,  -999.0,9,  -999.0,-999.000,9, -999.00,      58.50,2
06MT20110405,     MedSea,     321,          1,     212337,         20,2,20110420,       2255,    38.2500,     9.4000,       1562,    53.5,  13.7510,  38.0450,2,    233.3,2,   229.4,2,    1.04,2,    1.31,2,    0.10,2,    0.02,2,   1.536,2,-999.000,9,  2267.5,2,  2548.9,2,   7.9395,2,    25.00,-999.000,9,-999.000,-999.0000,9, -999.00,9, -999.00,9,  -999.0,9,  -999.0,-999.000,9, -999.00,      60.70,2
06MT20110405,     MedSea,     321,          1,     212338,         21,2,20110420,       2257,    38.2500,     9.4000,       1562,    27.9,  14.7642,  37.7816,2,    252.4,2,  -999.0,9, -999.00,9, -999.00,9, -999.00,9, -999.00,9,-999.000,9,-999.000,9,  -999.0,9,  -999.0,9,-999.0000,9,  -999.00,-999.000,9,-999.000,-999.0000,9, -999.00,9, -999.00,9,  -999.0,9,  -999.0,-999.000,9, -999.00,     -999.0,9
06MT20110405,     MedSea,     321,          1,     212339,         22,2,20110420,       2258,    38.2500,     9.4000,       1562,    27.9,  14.7579,  37.7816,2,    252.0,2,   252.2,2,    0.54,2,    0.16,2,    0.01,2,   -0.01,2,-999.000,9,-999.000,9,  2224.1,2,  2521.0,2,   7.9751,2,    25.00,-999.000,9,-999.000,-999.0000,9, -999.00,9, -999.00,9,  -999.0,9,  -999.0,-999.000,9, -999.00,      58.40,2
06MT20110405,     MedSea,     321,          1,     212340,         23,2,20110420,       2259,    38.2500,     9.4000,       1562,     8.4,  16.4591,  37.2729,2,    239.8,3,   251.0,3,    0.38,2,    0.07,2,    0.00,2,   -0.01,2,   1.520,2,-999.000,9,  2205.4,2,  2498.7,2,   7.9784,2,    25.00,-999.000,9,-999.000,-999.0000,9, -999.00,9, -999.00,9,  -999.0,9,  -999.0,-999.000,9, -999.00,      50.20,2
06MT20110405,     MedSea,     321,          1,     212341,         24,2,20110420,       2300,    38.2500,     9.4000,       1562,     8.3,  16.4548,  37.2712,2,    240.6,2,  -999.0,9, -999.00,9, -999.00,9, -999.00,9, -999.00,9,-999.000,9,-999.000,9,  -999.0,9,  -999.0,9,-999.0000,9,  -999.00,-999.000,9,-999.000,-999.0000,9, -999.00,9, -999.00,9,  -999.0,9,  -999.0,-999.000,9, -999.00,     -999.0,9