BOTTLE,20170314CCHSIORJL
EXPOCODE,SECT_ID,STNNBR,CASTNO,BIONBR,BTLNBR,BTLNBR_FLAG_W,DATE,TIME,LATITUDE,LONGITUDE,DEPTH,CTDPRS,CTDTMP,CTDSAL,CTDSAL_FLAG_W,CTDOXY,CTDOXY_FLAG_W,OXYGEN,OXYGEN_FLAG_W,SILCAT,SILCAT_FLAG_W,NITRAT,NITRAT_FLAG_W,NITRIT,NITRIT_FLAG_W,PHSPHT,PHSPHT_FLAG_W,CFC-12,CFC-12_FLAG_W,SF6,SF6_FLAG_W,TCARBN,TCARBN_FLAG_W,ALKALI,ALKALI_FLAG_W,PH_TOT,PH_TOT_FLAG_W,PH_TMP,TRITUM,TRITUM_FLAG_W,TRITER,HELIUM,HELIUM_FLAG_W,DELHE3,DELHE3_FLAG_W,DELC13,DELC13_FLAG_W,DELC14,DELC14_FLAG_W,C14ERR,NEON,NEON_FLAG_W,DELHER,BARIUM,BARIUM_FLAG_W
,,,,,,,,,,,METERS,DBAR,ITS-90,PSS-78,,UMOL/KG,,UMOL/KG,,UMOL/KG,,UMOL/KG,,UMOL/KG,,UMOL/KG,,PMOL/KG,,FMOL/KG,,UMOL/KG,,UMOL/KG,,,,DEG C,TU,,TU,NMOL/KG,,PERCNT,,/MILLE,,/MILLE,,/MILLE,NMOL/KG,,PERCNT,UM/KG,
06MT20110405,     MedSea,     289,          1,     209662,          1,2,20110407,       0656,    35.2740,    26.6030,       1156,   811.3,  14.6028,  39.0277,2,    203.4,2,  -999.0,9, -999.00,9, -999.00,9, -999.00,3, -999.00,9,-999.000,9,-999.000,9,  -999.0,9,  -999.0,9,-999.0000,9,  -999.00,-999.000,9,-999.000,-999.0000,9, -999.00,9, -999.00,9,  -999.0,9,  -999.0,-999.000,9, -999.00,     -999.0,9
06MT20110405,     MedSea,     289,          1,     209663,          2,2,20110407,       0656,    35.2740,    26.6030,       1156,   811.3,  14.6027,  39.0277,2,    203.0,2,  -999.0,9, -999.00,9, -999.00,9, -999.00,3, -999.00,9,-999.000,9,-999.000,9,  -999.0,9,  -999.0,9,-999.0000,9,  -999.00,-999.000,9,-999.000,-999.0000,9, -999.00,9, -999.00,9,  -999.0,9,  -999.0,-999.000,9, -999.00,     -999.0,9
06MT20110405,     MedSea,     289,          1,     209664,          3,2,20110407,       0657,    35.2740,    26.6030,       1156,   811.5,  14.6027,  39.0276,2,    203.0,2,  -999.0,9, -999.00,9, -999.00,9, -999.00,3, -999.00,9,-999.000,9,-999.000,9,  -999.0,9,  -999.0,9,-999.0000,9,  -999.00,-999.000,9,-999.000,-999.0000,9, -999.00,9, -999.00,9,  -999.0,9,  -999.0,-999.000,9, -999.00,     -999.0,9
06MT20110405,     MedSea,     289,          1,     209665,          4,2,20110407,       0657,    35.2740,    26.6030,       1156,   811.4,  14.6025,  39.0276,2,    203.1,2,   206.9,2,    4.14,2,    3.27,2,   -0.05,3,    0.11,2,   1.321,2,   1.018,2,  2322.6,2,  2632.6,3,   7.9721,2,    25.00,-999.000,9,-999.000,-999.0000,9, -999.00,9, -999.00,9,  -999.0,9,  -999.0,-999.000,9, -999.00,      70.70,2
06MT20110405,     MedSea,     289,          1,     209666,          5,2,20110407,       0659,    35.2740,    26.6030,       1156,   759.9,  14.6161,  39.0274,2,    203.3,2,   206.8,2,    4.02,2,    3.26,2,   -0.05,3,    0.11,2,   1.317,2,   1.155,2,  2324.7,2,  2633.7,3,   7.9643,2,    25.00,-999.000,9,-999.000,-999.0000,9, -999.00,9, -999.00,9,  -999.0,9,  -999.0,-999.000,9, -999.00,      64.20,2
06MT20110405,     MedSea,     289,          1,     209667,          6,2,20110407,       0702,    35.2740,    26.6030,       1156,   608.9,  14.6861,  39.0234,2,    201.7,2,   204.7,2,    3.79,2,    3.44,2,   -0.05,3,    0.11,2,   1.210,2,   0.976,2,  2322.5,2,  2630.7,3,   7.9708,2,    25.00,-999.000,9,-999.000,-999.0000,9, -999.00,9, -999.00,9,  -999.0,9,  -999.0,-999.000,9, -999.00,      60.50,2
06MT20110405,     MedSea,     289,          1,     209668,          7,2,20110407,       0705,    35.2740,    26.6030,       1156,   506.3,  14.8602,  39.0611,2,    204.6,2,   207.3,2,    3.07,2,    3.13,2,   -0.05,3,    0.09,2,   1.294,2,   1.083,2,  2323.7,2,  2633.4,3,   7.9652,2,    25.00,-999.000,9,-999.000,-999.0000,9, -999.00,9, -999.00,9,  -999.0,9,  -999.0,-999.000,9, -999.00,      61.60,2
06MT20110405,     MedSea,     289,          1,     209669,          8,2,20110407,       0709,    35.2740,    26.6030,       1156,   406.8,  14.8184,  38.9889,2,    188.3,2,  -999.0,9, -999.00,9, -999.00,9, -999.00,3, -999.00,9,-999.000,9,-999.000,9,  -999.0,9,  -999.0,9,-999.0000,9,  -999.00,-999.000,9,-999.000,-999.0000,9, -999.00,9, -999.00,9,  -999.0,9,  -999.0,-999.000,9, -999.00,     -999.0,9
06MT20110405,     MedSea,     289,          1,     209670,          9,2,20110407,       0709,    35.2740,    26.6030,       1156,   406.7,  14.8212,  38.9889,2,    188.8,2,  -999.0,9, -999.00,9, -999.00,9, -999.00,3, -999.00,9,-999.000,9,-999.000,9,  -999.0,9,  -999.0,9,-999.0000,9,  -999.00,-999.000,9,-999.000,-999.0000,9, -999.00,9, -999.00,9,  -999.0,9,  -999.0,-999.000,9, -999.00,     -999.0,9
06MT20110405,     MedSea,     289,          1,     209671,         10,2,20110407,       0709,    35.2740,    26.6030,       1156,   407.1,  14.8213,  38.9889,2,    188.4,2,   192.7,2,    4.56,2,    4.37,2,   -0.05,3,    0.14,2,   0.798,2,   0.642,2,  2314.4,2,  2617.0,3,-999.0000,9,  -999.00,-999.000,9,-999.000,-999.0000,9, -999.00,9, -999.00,9,  -999.0,9,  -999.0,-999.000,9, -999.00,      65.30,2
06MT20110405,     MedSea,     289,          1,     209672,         11,2,20110407,       0709,    35.2740,    26.6030,       1156,   406.7,  14.8216,  38.9889,2,    188.4,2,  -999.0,9, -999.00,9, -999.00,9, -999.00,3, -999.00,9,-999.000,9,-999.000,9,  -999.0,9,  -999.0,9,-999.0000,9,  -999.00,-999.000,9,-999.000,-999.0000,9, -999.00,9, -999.00,9,  -999.0,9,  -999.0,-999.000,9, -999.00,     -999.0,9
06MT20110405,     MedSea,     289,          1,     209673,         12,2,20110407,       0712,    35.2740,    26.6030,       1156,   304.6,  15.5183,  39.0881,2,    197.7,2,   201.2,2,    2.90,2,    3.16,2,   -0.05,3,    0.08,2,   1.152,2,   0.973,2,  2311.5,2,  2620.1,3,-999.0000,9,  -999.00,-999.000,9,-999.000,-999.0000,9, -999.00,9, -999.00,9,  -999.0,9,  -999.0,-999.000,9, -999.00,      60.50,2
06MT20110405,     MedSea,     289,          1,     209674,         13,2,20110407,       0712,    35.2740,    26.6030,       1156,   304.3,  15.5160,  39.0894,2,    197.3,2,  -999.0,9, -999.00,9, -999.00,9, -999.00,3, -999.00,9,-999.000,9,-999.000,9,  -999.0,9,  -999.0,9,-999.0000,9,  -999.00,-999.000,9,-999.000,-999.0000,9, -999.00,9, -999.00,9,  -999.0,9,  -999.0,-999.000,9, -999.00,     -999.0,9
06MT20110405,     MedSea,     289,          1,     209675,         14,2,20110407,       0713,    35.2740,    26.6030,       1156,   254.0,  16.2872,  39.1642,2,    212.5,2,  -999.0,9, -999.00,9, -999.00,9, -999.00,3, -999.00,9,   1.270,2,   1.151,2,  -999.0,9,  -999.0,9,-999.0000,9,  -999.00,-999.000,9,-999.000,-999.0000,9, -999.00,9, -999.00,9,  -999.0,9,  -999.0,-999.000,9, -999.00,     -999.0,9
06MT20110405,     MedSea,     289,          1,     209676,         15,2,20110407,       0713,    35.2740,    26.6030,       1156,   253.8,  16.2945,  39.1659,2,    211.4,2,   219.6,2,    1.47,2,    1.57,2,   -0.01,3,    0.03,2,-999.000,9,-999.000,9,  2298.8,2,  2626.2,3,   7.9849,2,    25.00,-999.000,9,-999.000,-999.0000,9, -999.00,9, -999.00,9,  -999.0,9,  -999.0,-999.000,9, -999.00,      55.00,2
06MT20110405,     MedSea,     289,          1,     209677,         16,2,20110407,       0715,    35.2740,    26.6030,       1156,   203.4,  16.6665,  39.1939,2,    217.0,2,   221.4,2,    0.90,2,    0.80,2,   -0.01,3,    0.01,2,   1.302,2,    1.33,2,  2291.4,2,  2620.2,3,   8.0048,2,    25.00,-999.000,9,-999.000,-999.0000,9, -999.00,9, -999.00,9,  -999.0,9,  -999.0,-999.000,9, -999.00,      57.90,2
06MT20110405,     MedSea,     289,          1,     209678,         17,2,20110407,       0718,    35.2740,    26.6030,       1156,   102.1,  17.4695,  39.2124,2,    219.2,2,  -999.0,9, -999.00,9, -999.00,9, -999.00,3, -999.00,9,-999.000,9,-999.000,9,  -999.0,9,  -999.0,9,-999.0000,9,  -999.00,-999.000,9,-999.000,-999.0000,9, -999.00,9, -999.00,9,  -999.0,9,  -999.0,-999.000,9, -999.00,     -999.0,9
06MT20110405,     MedSea,     289,          1,     209679,         18,2,20110407,       0718,    35.2740,    26.6030,       1156,   102.1,  17.4700,  39.2124,2,    220.5,2,  -999.0,9, -999.00,9, -999.00,9, -999.00,3, -999.00,9,-999.000,9,-999.000,9,  -999.0,9,  -999.0,9,-999.0000,9,  -999.00,-999.000,9,-999.000,-999.0000,9, -999.00,9, -999.00,9,  -999.0,9,  -999.0,-999.000,9, -999.00,     -999.0,9
06MT20110405,     MedSea,     289,          1,     209680,         19,2,20110407,       0720,    35.2740,    26.6030,       1156,    77.1,  17.5783,  39.2237,2,    223.7,2,   226.7,2,    0.55,2,    0.21,2,    0.00,3,    0.00,2,-999.000,9,-999.000,9,  2276.9,2,  2621.9,3,   8.0250,2,    25.00,-999.000,9,-999.000,-999.0000,9, -999.00,9, -999.00,9,  -999.0,9,  -999.0,-999.000,9, -999.00,      53.40,2
06MT20110405,     MedSea,     289,          1,     209681,         20,2,20110407,       0721,    35.2740,    26.6030,       1156,    52.3,  17.5901,  39.2248,2,    225.3,2,   225.6,2, -999.00,9, -999.00,9, -999.00,3, -999.00,9,   1.295,3,   1.341,4,  2274.8,2,  2628.0,3,   8.0315,2,    25.00,-999.000,9,-999.000,-999.0000,9, -999.00,9, -999.00,9,  -999.0,9,  -999.0,-999.000,9, -999.00,     -999.0,9
06MT20110405,     MedSea,     289,          1,     209682,         21,2,20110407,       0723,    35.2740,    26.6030,       1156,    25.8,  17.6383,  39.2294,2,    225.4,2,   229.0,2,    0.55,2,    0.15,2,   -0.02,3,    0.00,2,-999.000,9,-999.000,9,  2277.4,2,  2619.4,3,   8.0218,2,    25.00,-999.000,9,-999.000,-999.0000,9, -999.00,9, -999.00,9,  -999.0,9,  -999.0,-999.000,9, -999.00,      53.50,2
06MT20110405,     MedSea,     289,          1,     209683,         22,2,20110407,       0724,    35.2740,    26.6030,       1156,    12.1,  17.6528,  39.2297,2,    225.7,2,  -999.0,9, -999.00,9, -999.00,9, -999.00,3, -999.00,9,-999.000,9,-999.000,9,  -999.0,9,  -999.0,9,-999.0000,9,  -999.00,-999.000,9,-999.000,-999.0000,9, -999.00,9, -999.00,9,  -999.0,9,  -999.0,-999.000,9, -999.00,     -999.0,9
06MT20110405,     MedSea,     289,          1,     209684,         23,2,20110407,       0724,    35.2740,    26.6030,       1156,    12.3,  17.6532,  39.2296,2,    225.0,2,   230.7,2,    0.54,2,    0.14,2,   -0.02,3,    0.00,2,   1.257,2,   1.311,2,  2274.3,2,  2619.6,3,   8.0297,2,    25.00,-999.000,9,-999.000,-999.0000,9, -999.00,9, -999.00,9,  -999.0,9,  -999.0,-999.000,9, -999.00,      49.40,2
06MT20110405,     MedSea,     289,          1,     209685,         24,2,20110407,       0725,    35.2740,    26.6030,       1156,     6.1,  17.6530,  39.2301,2,    224.6,2,   227.7,2,    0.54,2,    0.14,2,   -0.02,3,    0.01,2,-999.000,9,-999.000,9,  -999.0,9,  -999.0,9,-999.0000,9,  -999.00,-999.000,9,-999.000,-999.0000,9, -999.00,9, -999.00,9,  -999.0,9,  -999.0,-999.000,9, -999.00,     -999.0,9