BOTTLE,20170314CCHSIORJL
EXPOCODE,SECT_ID,STNNBR,CASTNO,BIONBR,BTLNBR,BTLNBR_FLAG_W,DATE,TIME,LATITUDE,LONGITUDE,DEPTH,CTDPRS,CTDTMP,CTDSAL,CTDSAL_FLAG_W,CTDOXY,CTDOXY_FLAG_W,OXYGEN,OXYGEN_FLAG_W,SILCAT,SILCAT_FLAG_W,NITRAT,NITRAT_FLAG_W,NITRIT,NITRIT_FLAG_W,PHSPHT,PHSPHT_FLAG_W,CFC-12,CFC-12_FLAG_W,SF6,SF6_FLAG_W,TCARBN,TCARBN_FLAG_W,ALKALI,ALKALI_FLAG_W,PH_TOT,PH_TOT_FLAG_W,PH_TMP,TRITUM,TRITUM_FLAG_W,TRITER,HELIUM,HELIUM_FLAG_W,DELHE3,DELHE3_FLAG_W,DELC13,DELC13_FLAG_W,DELC14,DELC14_FLAG_W,C14ERR,NEON,NEON_FLAG_W,DELHER,BARIUM,BARIUM_FLAG_W
,,,,,,,,,,,METERS,DBAR,ITS-90,PSS-78,,UMOL/KG,,UMOL/KG,,UMOL/KG,,UMOL/KG,,UMOL/KG,,UMOL/KG,,PMOL/KG,,FMOL/KG,,UMOL/KG,,UMOL/KG,,,,DEG C,TU,,TU,NMOL/KG,,PERCNT,,/MILLE,,/MILLE,,/MILLE,NMOL/KG,,PERCNT,UM/KG,
06MT20110405,     MedSea,     315,          1,     212200,          1,2,20110417,       2235,    37.1300,    18.0000,       3367,  3355.6,  13.9658,  38.7327,2,    197.9,2,  -999.0,9, -999.00,9, -999.00,9, -999.00,9, -999.00,9,-999.000,9,-999.000,9,  -999.0,9,  -999.0,9,-999.0000,9,  -999.00,-999.000,9,-999.000,-999.0000,9, -999.00,9, -999.00,9,  -999.0,9,  -999.0,-999.000,9, -999.00,     -999.0,9
06MT20110405,     MedSea,     315,          1,     212201,          2,2,20110417,       2236,    37.1300,    18.0000,       3367,  3357.3,  13.9660,  38.7324,2,    198.3,2,   197.0,2,    6.40,2,    4.40,2,    0.00,2,    0.14,2,   1.327,3,   0.493,2,  2310.3,2,  2616.6,2,   7.9616,2,    25.00,-999.000,9,-999.000,   1.8900,2,    2.39,2, -999.00,9,  -999.0,9,  -999.0,   7.400,2,    0.17,      76.40,2
06MT20110405,     MedSea,     315,          1,     212202,          3,2,20110417,       2246,    37.1300,    18.0000,       3367,  3055.9,  13.9130,  38.7286,2,    197.8,2,   196.7,2,    6.42,2,    4.47,2,    0.01,2,    0.14,2,   0.768,2,   0.441,2,  2308.4,2,  2615.1,2,   7.9627,2,    25.00,-999.000,9,-999.000,   1.8600,2,    4.33,2, -999.00,9,  -999.0,9,  -999.0,   7.400,2,    0.27,      70.90,2
06MT20110405,     MedSea,     315,          1,     212203,          4,2,20110417,       2258,    37.1300,    18.0000,       3367,  2544.1,  13.8544,  38.7329,2,    197.9,2,   196.3,2,    6.38,2,    4.49,2,    0.02,2,    0.15,2,   0.711,2,   0.393,2,  2308.1,2,  2614.6,2,   7.9662,2,    25.00,-999.000,9,-999.000,   1.8300,2,    4.93,2, -999.00,9,  -999.0,9,  -999.0,   7.300,2,    0.21,      75.70,2
06MT20110405,     MedSea,     315,          1,     212204,          5,2,20110417,       2312,    37.1300,    18.0000,       3367,  2033.4,  13.8097,  38.7390,2,    195.9,2,   194.6,2,    6.39,2,    4.49,2,    0.00,2,    0.14,2,-999.000,9,-999.000,9,  2307.3,2,  2616.2,2,   7.9657,2,    25.00,-999.000,9,-999.000,   1.8700,2,    4.63,2, -999.00,9,  -999.0,9,  -999.0,   7.400,2,    0.35,      73.50,2
06MT20110405,     MedSea,     315,          1,     212205,          6,2,20110417,       2321,    37.1300,    18.0000,       3367,  1778.6,  13.7894,  38.7413,2,    194.0,2,   192.7,2,    6.55,2,    4.57,2,    0.00,2,    0.13,2,   0.636,2,   0.489,2,  2306.4,2,  2615.0,2,   7.9689,2,    25.00,-999.000,9,-999.000,   1.8700,2,    4.57,2, -999.00,9,  -999.0,9,  -999.0,   7.400,2,    0.52,      73.30,2
06MT20110405,     MedSea,     315,          1,     212206,          7,2,20110417,       2329,    37.1300,    18.0000,       3367,  1524.3,  13.7689,  38.7427,2,    191.7,2,   190.4,2,    6.87,2,    4.68,2,    0.00,2,    0.15,2,   0.578,2,    0.35,2,  2306.0,2,  2613.5,2,   7.9686,2,    25.00,-999.000,9,-999.000,-999.0000,9, -999.00,9, -999.00,9,  -999.0,9,  -999.0,-999.000,9, -999.00,      76.50,2
06MT20110405,     MedSea,     315,          1,     212207,          8,2,20110417,       2337,    37.1300,    18.0000,       3367,  1270.2,  13.7476,  38.7428,2,    188.3,2,   187.3,2,    7.18,2,    4.85,2,    0.01,2,    0.15,2,   0.493,2,   0.303,2,  2304.6,2,  2613.6,2,   7.9670,2,    25.00,-999.000,9,-999.000,   1.8900,2,    4.23,2, -999.00,9,  -999.0,9,  -999.0,   7.450,2,    0.37,      73.30,2
06MT20110405,     MedSea,     315,          1,     212208,          9,2,20110417,       2344,    37.1300,    18.0000,       3367,  1016.6,  13.7412,  38.7462,2,    185.1,2,   183.3,2,    7.36,2,    5.12,2,    0.00,2,    0.18,2,   0.454,2,   0.268,2,  2306.0,2,  2612.2,2,   7.9664,2,    25.00,-999.000,9,-999.000,   1.8900,2,    3.37,2, -999.00,9,  -999.0,9,  -999.0,   7.450,2,    0.15,      73.30,2
06MT20110405,     MedSea,     315,          1,     212209,         10,2,20110417,       2352,    37.1300,    18.0000,       3367,   813.5,  13.7921,  38.7632,2,    183.8,2,   182.6,2,    6.88,2,    5.32,2,    0.00,2,    0.19,2,   0.527,2,   0.415,2,  2309.0,2,  2611.2,2,   7.9610,2,    25.00,-999.000,9,-999.000,   1.8400,2,    4.27,2, -999.00,9,  -999.0,9,  -999.0,   7.300,2,    0.14,      74.50,2
06MT20110405,     MedSea,     315,          1,     212210,         11,2,20110417,       2359,    37.1300,    18.0000,       3367,   610.9,  13.9238,  38.7969,2,    184.7,2,   183.6,2,    5.78,2,    5.38,2,    0.00,2,    0.18,2,-999.000,9,-999.000,9,  2316.0,2,  2616.4,2,   7.9545,2,    25.00,-999.000,9,-999.000,   1.8500,2,    4.42,2, -999.00,9,  -999.0,9,  -999.0,   7.400,2,    0.20,      72.00,2
06MT20110405,     MedSea,     315,          1,     212211,         12,2,20110417,       0003,    37.1300,    18.0000,       3367,   508.7,  14.0773,  38.8336,2,    187.4,2,   185.7,2,    5.03,2,    5.18,2,    0.01,2,    0.18,2,   0.887,2,   0.622,2,  2317.8,2,  2618.1,2,   7.9534,2,    25.00,-999.000,9,-999.000,   1.8400,2,    3.20,2, -999.00,9,  -999.0,9,  -999.0,   7.400,2,    0.63,      71.90,2
06MT20110405,     MedSea,     315,          1,     212212,         13,2,20110417,       0008,    37.1300,    18.0000,       3367,   408.2,  14.4204,  38.9140,2,    193.5,2,   192.6,2,    3.93,2,    4.47,2,    0.01,2,    0.15,2,   1.098,2,   0.899,2,  2320.5,2,  2623.5,2,   7.9544,2,    25.00,-999.000,9,-999.000,   1.8400,2,    2.22,2, -999.00,9,  -999.0,9,  -999.0,   7.350,2,    0.15,      66.70,2
06MT20110405,     MedSea,     315,          1,     212213,         14,2,20110417,       0012,    37.1300,    18.0000,       3367,   307.6,  14.6799,  38.9615,2,    197.3,2,   196.4,2,    2.74,2,    3.98,2,    0.02,2,    0.11,2,   1.261,2,   1.071,2,  2321.8,2,  2624.8,2,   7.9564,2,    25.00,-999.000,9,-999.000,   1.8300,2,    1.60,2, -999.00,9,  -999.0,9,  -999.0,   7.400,2,    0.50,      60.90,2
06MT20110405,     MedSea,     315,          1,     212214,         15,2,20110417,       0015,    37.1300,    18.0000,       3367,   256.4,  14.8601,  38.9856,2,    198.0,2,   196.6,2,    2.42,2,    3.79,2,    0.01,2,    0.11,2,   1.256,2,   0.994,2,  2321.8,2,  2624.1,2,   7.9572,2,    25.00,-999.000,9,-999.000,   1.8200,2,    0.83,2, -999.00,9,  -999.0,9,  -999.0,   7.350,2,    0.11,      66.50,2
06MT20110405,     MedSea,     315,          1,     212215,         16,2,20110417,       0018,    37.1300,    18.0000,       3367,   206.2,  14.8357,  38.9475,2,    197.8,2,   195.7,2,    2.02,2,    3.76,2,    0.01,2,    0.08,2,   1.346,2,   1.095,2,  2322.0,2,  2621.7,2,   7.9520,2,    25.00,-999.000,9,-999.000,   1.8100,2,   -1.34,2, -999.00,9,  -999.0,9,  -999.0,   7.300,2,    0.77,      55.10,2
06MT20110405,     MedSea,     315,          1,     212216,         17,2,20110417,       0020,    37.1300,    18.0000,       3367,   154.9,  15.1018,  38.8980,2,    205.2,2,   202.7,2,    1.22,2,    2.72,2,    0.02,2,    0.04,2,   1.403,2,    1.22,2,  2318.3,2,  2621.3,2,   7.9565,2,    25.00,-999.000,9,-999.000,   1.8100,2,   -1.09,2, -999.00,9,  -999.0,9,  -999.0,   7.400,2,    0.14,      58.50,2
06MT20110405,     MedSea,     315,          1,     212217,         18,2,20110417,       0022,    37.1300,    18.0000,       3367,   104.3,  14.5263,  38.4798,2,    229.4,2,   227.3,2,    0.48,2,    1.07,2,    0.08,2,    0.00,2,   1.505,2,   1.544,2,  2290.8,2,  2593.3,2,   7.9669,2,    25.00,-999.000,9,-999.000,   1.8000,2,   -1.43,2, -999.00,9,  -999.0,9,  -999.0,   7.350,2,    0.25,      56.10,2
06MT20110405,     MedSea,     315,          1,     212218,         19,2,20110417,       0025,    37.1300,    18.0000,       3367,    54.2,  14.8247,  38.4305,2,    241.5,2,   242.4,2,    0.26,2,   -0.03,2,    0.01,2,    0.00,2,   1.491,2,   1.555,2,  2267.1,2,  2583.8,2,-999.0000,9,  -999.00,-999.000,9,-999.000,   1.9900,2,   -1.68,3, -999.00,9,  -999.0,9,  -999.0,   7.990,2,    0.11,      50.00,2
06MT20110405,     MedSea,     315,          1,     212219,         20,2,20110417,       0028,    37.1300,    18.0000,       3367,    29.2,  15.9562,  38.4431,2,    241.4,2,   238.7,2,    0.20,2,   -0.01,2,    0.01,2,    0.00,2,   1.453,2,   1.541,2,  2265.4,2,  2582.9,2,   7.9937,2,    25.00,-999.000,9,-999.000,   1.7300,2,   -1.42,2, -999.00,9,  -999.0,9,  -999.0,   7.110,2,    0.19,      61.20,2
06MT20110405,     MedSea,     315,          1,     212220,         21,2,20110417,       0030,    37.1300,    18.0000,       3367,     8.9,  16.1703,  38.4630,2,    241.0,2,   241.5,2,    0.23,2,   -0.02,2,    0.00,2,    0.00,2,   1.487,2,   1.577,2,  2267.6,2,  2583.6,2,-999.0000,9,  -999.00,-999.000,9,-999.000,-999.0000,9, -999.00,9, -999.00,9,  -999.0,9,  -999.0,-999.000,9, -999.00,      52.40,2
06MT20110405,     MedSea,     315,          1,     -999.0,         22,2,20110417,       0031,    37.1300,    18.0000,       3367,     9.1,  16.1668,  38.4630,2,    239.8,2,  -999.0,9, -999.00,9, -999.00,9, -999.00,9, -999.00,9,-999.000,9,-999.000,9,  -999.0,9,  -999.0,9,-999.0000,9,  -999.00,-999.000,9,-999.000,-999.0000,9, -999.00,9, -999.00,9,  -999.0,9,  -999.0,-999.000,9, -999.00,     -999.0,9
06MT20110405,     MedSea,     315,          1,     -999.0,         23,2,20110417,       0031,    37.1300,    18.0000,       3367,     8.9,  16.1742,  38.4630,2,    241.2,2,  -999.0,9, -999.00,9, -999.00,9, -999.00,9, -999.00,9,-999.000,9,-999.000,9,  -999.0,9,  -999.0,9,-999.0000,9,  -999.00,-999.000,9,-999.000,-999.0000,9, -999.00,9, -999.00,9,  -999.0,9,  -999.0,-999.000,9, -999.00,     -999.0,9
06MT20110405,     MedSea,     315,          1,     212221,         24,2,20110417,       0032,    37.1300,    18.0000,       3367,     8.9,  16.1721,  38.4630,2,    241.2,2,  -999.0,9, -999.00,9, -999.00,9, -999.00,9, -999.00,9,-999.000,9,-999.000,9,  -999.0,9,  -999.0,9,-999.0000,9,  -999.00,-999.000,9,-999.000,-999.0000,9, -999.00,9, -999.00,9,  -999.0,9,  -999.0,-999.000,9, -999.00,     -999.0,9