BOTTLE,20170314CCHSIORJL
EXPOCODE,SECT_ID,STNNBR,CASTNO,BIONBR,BTLNBR,BTLNBR_FLAG_W,DATE,TIME,LATITUDE,LONGITUDE,DEPTH,CTDPRS,CTDTMP,CTDSAL,CTDSAL_FLAG_W,CTDOXY,CTDOXY_FLAG_W,OXYGEN,OXYGEN_FLAG_W,SILCAT,SILCAT_FLAG_W,NITRAT,NITRAT_FLAG_W,NITRIT,NITRIT_FLAG_W,PHSPHT,PHSPHT_FLAG_W,CFC-12,CFC-12_FLAG_W,SF6,SF6_FLAG_W,TCARBN,TCARBN_FLAG_W,ALKALI,ALKALI_FLAG_W,PH_TOT,PH_TOT_FLAG_W,PH_TMP,TRITUM,TRITUM_FLAG_W,TRITER,HELIUM,HELIUM_FLAG_W,DELHE3,DELHE3_FLAG_W,DELC13,DELC13_FLAG_W,DELC14,DELC14_FLAG_W,C14ERR,NEON,NEON_FLAG_W,DELHER,BARIUM,BARIUM_FLAG_W
,,,,,,,,,,,METERS,DBAR,ITS-90,PSS-78,,UMOL/KG,,UMOL/KG,,UMOL/KG,,UMOL/KG,,UMOL/KG,,UMOL/KG,,PMOL/KG,,FMOL/KG,,UMOL/KG,,UMOL/KG,,,,DEG C,TU,,TU,NMOL/KG,,PERCNT,,/MILLE,,/MILLE,,/MILLE,NMOL/KG,,PERCNT,UM/KG,
06MT20110405,     MedSea,     333,          1,     213073,          1,2,20110424,       1046,    36.1000,    -2.8000,       1716,  1705.8,  13.1444,  38.4731,2,    191.2,2,  -999.0,9, -999.00,9, -999.00,9, -999.00,9, -999.00,9,-999.000,9,-999.000,9,  -999.0,9,  -999.0,9,-999.0000,9,  -999.00,-999.000,9,-999.000,-999.0000,9, -999.00,9, -999.00,9,  -999.0,9,  -999.0,-999.000,9, -999.00,     -999.0,9
06MT20110405,     MedSea,     333,          1,     213074,          2,2,20110424,       1047,    36.1000,    -2.8000,       1716,  1705.8,  13.1443,  38.4731,2,    191.2,2,  -999.0,9, -999.00,9, -999.00,9, -999.00,9, -999.00,9,-999.000,9,-999.000,9,  -999.0,9,  -999.0,9,-999.0000,9,  -999.00,-999.000,9,-999.000,-999.0000,9, -999.00,9, -999.00,9,  -999.0,9,  -999.0,-999.000,9, -999.00,     -999.0,9
06MT20110405,     MedSea,     333,          1,     213075,          3,2,20110424,       1048,    36.1000,    -2.8000,       1716,  1705.9,  13.1443,  38.4731,2,    191.3,2,   192.6,2,    8.78,2,    8.90,2,    0.00,2,    0.45,2,   0.834,2,-999.000,9,  2321.1,2,  2587.6,2,   7.9017,2,    25.00,-999.000,9,-999.000,   1.8600,2,    4.14,2, -999.00,9,  -999.0,9,  -999.0,   7.550,2,    0.28,      80.30,2
06MT20110405,     MedSea,     333,          1,     213076,          4,2,20110424,       1054,    36.1000,    -2.8000,       1716,  1523.3,  13.1152,  38.4704,2,    190.8,2,   192.1,2,    8.33,2,    8.79,2,    0.00,2,    0.42,2,   0.751,2,-999.000,9,  2319.8,2,  2589.9,2,   7.9059,2,    25.00,-999.000,9,-999.000,-999.0000,9, -999.00,9, -999.00,9,  -999.0,9,  -999.0,-999.000,9, -999.00,      78.70,2
06MT20110405,     MedSea,     333,          1,     213077,          5,2,20110424,       1101,    36.1000,    -2.8000,       1716,  1268.5,  13.0871,  38.4702,2,    188.5,2,   189.1,2,    8.30,2,    8.91,2,    0.01,2,    0.42,2,   0.686,2,-999.000,9,  2319.3,2,  2586.6,2,   7.9082,2,    25.00,-999.000,9,-999.000,   1.8700,2,    7.11,2, -999.00,9,  -999.0,9,  -999.0,   7.550,2,    0.15,      77.10,2
06MT20110405,     MedSea,     333,          1,     213078,          6,2,20110424,       1108,    36.1000,    -2.8000,       1716,  1015.7,  13.1054,  38.4826,2,    184.4,2,   184.8,2,    8.12,2,    9.14,2,   -0.01,3,    0.45,2,   0.653,2,-999.000,9,  2320.3,2,  2588.4,2,   7.9020,2,    25.00,-999.000,9,-999.000,   1.9900,2,    6.56,2, -999.00,9,  -999.0,9,  -999.0,   7.990,2,    0.15,      80.80,2
06MT20110405,     MedSea,     333,          1,     213079,          7,2,20110424,       1114,    36.1000,    -2.8000,       1716,   812.7,  13.1485,  38.4986,2,    180.7,2,  -999.0,9, -999.00,9, -999.00,9, -999.00,9, -999.00,9,-999.000,9,-999.000,9,  -999.0,9,  -999.0,9,-999.0000,9,  -999.00,-999.000,9,-999.000,-999.0000,9, -999.00,9, -999.00,9,  -999.0,9,  -999.0,-999.000,9, -999.00,     -999.0,9
06MT20110405,     MedSea,     333,          1,     213080,          8,2,20110424,       1115,    36.1000,    -2.8000,       1716,   812.7,  13.1500,  38.4986,2,    180.6,2,   183.6,2,    7.98,2,    9.33,2,    0.00,2,    0.45,2,   0.692,2,-999.000,9,  2323.6,2,  2591.2,2,   7.8929,3,    25.00,-999.000,9,-999.000,   1.8500,2,    7.12,2, -999.00,9,  -999.0,9,  -999.0,   7.500,2,    0.51,      79.10,2
06MT20110405,     MedSea,     333,          1,     213081,          9,2,20110424,       1121,    36.1000,    -2.8000,       1716,   609.9,  13.2240,  38.5162,2,    174.7,2,   172.8,2,    7.43,2,    9.99,2,    0.01,2,    0.61,3,   0.757,2,-999.000,9,  2328.5,2,  2587.8,2,   7.8898,2,    25.00,-999.000,9,-999.000,-999.0000,9, -999.00,9, -999.00,9,  -999.0,9,  -999.0,-999.000,9, -999.00,      74.40,2
06MT20110405,     MedSea,     333,          1,     213082,         10,2,20110424,       1125,    36.1000,    -2.8000,       1716,   508.6,  13.2622,  38.5173,2,    173.8,2,   172.8,2,    6.82,2,    9.85,2,    0.00,2,    0.47,2,   0.854,2,-999.000,9,  2330.5,2,  2587.0,2,   7.8862,2,    25.00,-999.000,9,-999.000,   1.8600,2,    4.82,2, -999.00,9,  -999.0,9,  -999.0,   7.550,2,    0.25,      72.20,2
06MT20110405,     MedSea,     333,          1,     213083,         11,2,20110424,       1129,    36.1000,    -2.8000,       1716,   407.4,  13.2527,  38.4817,2,    172.8,2,  -999.0,9, -999.00,9, -999.00,9, -999.00,9, -999.00,9,-999.000,9,-999.000,9,  -999.0,9,  -999.0,9,-999.0000,9,  -999.00,-999.000,9,-999.000,-999.0000,9, -999.00,9, -999.00,9,  -999.0,9,  -999.0,-999.000,9, -999.00,     -999.0,9
06MT20110405,     MedSea,     333,          1,     213084,         12,2,20110424,       1129,    36.1000,    -2.8000,       1716,   407.5,  13.2451,  38.4817,2,    175.0,2,   171.9,2,    5.97,2,    9.78,2,    0.00,2,    0.48,2,   0.992,2,-999.000,9,  2331.5,2,  2584.3,2,   7.8757,2,    25.00,-999.000,9,-999.000,   1.8000,2,    4.76,2, -999.00,9,  -999.0,9,  -999.0,   7.350,2,    0.15,      74.10,2
06MT20110405,     MedSea,     333,          1,     213085,         13,2,20110424,       1134,    36.1000,    -2.8000,       1716,   306.7,  13.1943,  38.3982,2,    185.8,2,   180.9,2,    4.96,2,    8.88,2,    0.00,2,    0.46,2,   1.150,2,-999.000,9,  2324.4,2,  2576.9,2,   7.8800,2,    25.00,-999.000,9,-999.000,-999.0000,9, -999.00,9, -999.00,9,  -999.0,9,  -999.0,-999.000,9, -999.00,      71.10,2
06MT20110405,     MedSea,     333,          1,     213086,         14,2,20110424,       1136,    36.1000,    -2.8000,       1716,   256.1,  13.1534,  38.3071,2,    189.8,2,   188.9,2,    3.62,2,    7.78,2,    0.02,2,    0.33,2,   1.309,2,-999.000,9,  2314.9,2,  2565.5,2,   7.8844,2,    25.00,-999.000,9,-999.000,   1.8200,2,    1.09,2, -999.00,9,  -999.0,9,  -999.0,   7.450,2,    0.40,      65.30,2
06MT20110405,     MedSea,     333,          1,     213087,         15,2,20110424,       1140,    36.1000,    -2.8000,       1716,   205.2,  13.2509,  38.1950,2,    203.8,2,   204.4,2,    2.59,2,    5.89,2,    0.01,2,    0.25,2,   1.392,2,-999.000,9,  2299.1,2,  2558.7,2,   7.9039,2,    25.00,-999.000,9,-999.000,-999.0000,9, -999.00,9, -999.00,9,  -999.0,9,  -999.0,-999.000,9, -999.00,      63.90,2
06MT20110405,     MedSea,     333,          1,     213088,         16,2,20110424,       1142,    36.1000,    -2.8000,       1716,   155.6,  13.7129,  38.0330,2,    221.4,2,   224.2,2,    1.40,2,    3.20,2,    0.05,2,    0.15,2,   1.476,2,-999.000,9,  2267.1,2,  2539.1,2,   7.9286,3,    25.00,-999.000,9,-999.000,   1.8400,2,   -1.71,2, -999.00,9,  -999.0,9,  -999.0,   7.500,2,    0.40,      58.60,2
06MT20110405,     MedSea,     333,          1,     213089,         17,2,20110424,       1145,    36.1000,    -2.8000,       1716,   104.5,  14.7550,  37.1681,2,    211.0,2,  -999.0,9, -999.00,9, -999.00,9, -999.00,9, -999.00,9,-999.000,9,-999.000,9,  -999.0,9,  -999.0,9,-999.0000,9,  -999.00,-999.000,9,-999.000,-999.0000,9, -999.00,9, -999.00,9,  -999.0,9,  -999.0,-999.000,9, -999.00,     -999.0,9
06MT20110405,     MedSea,     333,          1,     213090,         18,2,20110424,       1145,    36.1000,    -2.8000,       1716,   104.5,  14.7586,  37.1681,2,    210.9,2,   210.6,2,    1.87,2,    4.86,2,    0.05,2,    0.29,2,   1.366,2,-999.000,9,  2212.0,2,  2468.5,2,   7.9187,2,    25.00,-999.000,9,-999.000,-999.0000,9, -999.00,9, -999.00,9,  -999.0,9,  -999.0,-999.000,9, -999.00,      55.50,2
06MT20110405,     MedSea,     333,          1,     213091,         19,2,20110424,       1148,    36.1000,    -2.8000,       1716,    54.2,  16.2999,  36.6066,2,    233.8,2,   240.9,2,    0.30,2,    0.82,2,    0.15,2,    0.11,2,   1.379,2,-999.000,9,  2134.2,2,  2415.0,2,   7.9659,2,    25.00,-999.000,9,-999.000,-999.0000,9, -999.00,9, -999.00,9,  -999.0,9,  -999.0,-999.000,9, -999.00,      43.20,2
06MT20110405,     MedSea,     333,          1,     213092,         20,2,20110424,       1151,    36.1000,    -2.8000,       1716,    29.2,  16.7532,  36.5618,2,    242.6,2,  -999.0,9, -999.00,9, -999.00,9, -999.00,9, -999.00,9,-999.000,9,-999.000,9,  -999.0,9,  -999.0,9,-999.0000,9,  -999.00,-999.000,9,-999.000,-999.0000,9, -999.00,9, -999.00,9,  -999.0,9,  -999.0,-999.000,9, -999.00,     -999.0,9
06MT20110405,     MedSea,     333,          1,     213093,         21,2,20110424,       1151,    36.1000,    -2.8000,       1716,    29.2,  16.7543,  36.5618,2,    243.5,2,   244.7,2,    0.08,2,    0.00,2,   -0.01,3,    0.07,2,   1.376,2,-999.000,9,  2121.3,2,  2406.8,2,   7.9871,2,    25.00,-999.000,9,-999.000,-999.0000,9, -999.00,9, -999.00,9,  -999.0,9,  -999.0,-999.000,9, -999.00,      45.90,2
06MT20110405,     MedSea,     333,          1,     213094,         22,2,20110424,       1153,    36.1000,    -2.8000,       1716,     8.4,  17.0169,  36.5367,2,    242.3,2,   246.2,2,    0.13,2,   -0.01,2,   -0.01,3,    0.05,2,   1.400,2,-999.000,9,  2118.8,2,  2407.0,2,   7.9878,2,    25.00,-999.000,9,-999.000,-999.0000,9, -999.00,9, -999.00,9,  -999.0,9,  -999.0,-999.000,9, -999.00,      45.60,2
06MT20110405,     MedSea,     333,          1,     213095,         23,2,20110424,       1153,    36.1000,    -2.8000,       1716,     8.4,  17.0178,  36.5367,2,    242.3,2,  -999.0,9, -999.00,9, -999.00,9, -999.00,9, -999.00,9,-999.000,9,-999.000,9,  -999.0,9,  -999.0,9,-999.0000,9,  -999.00,-999.000,9,-999.000,-999.0000,9, -999.00,9, -999.00,9,  -999.0,9,  -999.0,-999.000,9, -999.00,     -999.0,9
06MT20110405,     MedSea,     333,          1,     213096,         24,2,20110424,       1154,    36.1000,    -2.8000,       1716,     8.5,  17.0147,  36.5373,2,    242.4,2,  -999.0,9, -999.00,9, -999.00,9, -999.00,9, -999.00,9,-999.000,9,-999.000,9,  -999.0,9,  -999.0,9,-999.0000,9,  -999.00,-999.000,9,-999.000,-999.0000,9, -999.00,9, -999.00,9,  -999.0,9,  -999.0,-999.000,9, -999.00,     -999.0,9