BOTTLE,20170314CCHSIORJL
EXPOCODE,SECT_ID,STNNBR,CASTNO,BIONBR,BTLNBR,BTLNBR_FLAG_W,DATE,TIME,LATITUDE,LONGITUDE,DEPTH,CTDPRS,CTDTMP,CTDSAL,CTDSAL_FLAG_W,CTDOXY,CTDOXY_FLAG_W,OXYGEN,OXYGEN_FLAG_W,SILCAT,SILCAT_FLAG_W,NITRAT,NITRAT_FLAG_W,NITRIT,NITRIT_FLAG_W,PHSPHT,PHSPHT_FLAG_W,CFC-12,CFC-12_FLAG_W,SF6,SF6_FLAG_W,TCARBN,TCARBN_FLAG_W,ALKALI,ALKALI_FLAG_W,PH_TOT,PH_TOT_FLAG_W,PH_TMP,TRITUM,TRITUM_FLAG_W,TRITER,HELIUM,HELIUM_FLAG_W,DELHE3,DELHE3_FLAG_W,DELC13,DELC13_FLAG_W,DELC14,DELC14_FLAG_W,C14ERR,NEON,NEON_FLAG_W,DELHER,BARIUM,BARIUM_FLAG_W
,,,,,,,,,,,METERS,DBAR,ITS-90,PSS-78,,UMOL/KG,,UMOL/KG,,UMOL/KG,,UMOL/KG,,UMOL/KG,,UMOL/KG,,PMOL/KG,,FMOL/KG,,UMOL/KG,,UMOL/KG,,,,DEG C,TU,,TU,NMOL/KG,,PERCNT,,/MILLE,,/MILLE,,/MILLE,NMOL/KG,,PERCNT,UM/KG,
06MT20110405,     MedSea,     308,          1,     212068,          1,2,20110415,       1847,    38.5000,    18.9990,       3508,  3498.5,  13.9992,  38.7314,2,    197.3,2,   196.0,2,    6.33,2,    4.56,2,    0.00,2,    0.17,2,-999.000,9,-999.000,9,  -999.0,9,  -999.0,9,-999.0000,9,  -999.00,-999.000,9,-999.000,-999.0000,9, -999.00,9, -999.00,9,  -999.0,9,  -999.0,-999.000,9, -999.00,     -999.0,9
06MT20110405,     MedSea,     308,          1,     212069,          2,2,20110415,       1847,    38.5000,    18.9990,       3508,  3498.5,  13.9991,  38.7314,2,    196.9,2,  -999.0,9, -999.00,9, -999.00,9, -999.00,9, -999.00,9,-999.000,9,-999.000,9,  -999.0,9,  -999.0,9,-999.0000,9,  -999.00,-999.000,9,-999.000,-999.0000,9, -999.00,9, -999.00,9,  -999.0,9,  -999.0,-999.000,9, -999.00,     -999.0,9
06MT20110405,     MedSea,     308,          1,     212070,          3,2,20110415,       1848,    38.5000,    18.9990,       3508,  3498.4,  13.9994,  38.7314,2,    196.5,2,  -999.0,9, -999.00,9, -999.00,9, -999.00,9, -999.00,9,-999.000,9,-999.000,9,  -999.0,9,  -999.0,9,-999.0000,9,  -999.00,-999.000,9,-999.000,-999.0000,9, -999.00,9, -999.00,9,  -999.0,9,  -999.0,-999.000,9, -999.00,     -999.0,9
06MT20110405,     MedSea,     308,          1,     212071,          4,2,20110415,       1857,    38.5000,    18.9990,       3508,  3055.0,  13.9362,  38.7327,2,    196.5,2,  -999.0,9,    6.38,2,    4.58,2,    0.01,2,    0.16,2,-999.000,9,-999.000,9,  -999.0,9,  -999.0,9,-999.0000,9,  -999.00,-999.000,9,-999.000,-999.0000,9, -999.00,9, -999.00,9,  -999.0,9,  -999.0,-999.000,9, -999.00,     -999.0,9
06MT20110405,     MedSea,     308,          1,     212072,          5,2,20110415,       1907,    38.5000,    18.9990,       3508,  2544.2,  13.8674,  38.7352,2,    196.0,2,  -999.0,9,    6.37,2,    4.58,2,    0.00,2,    0.16,2,-999.000,9,-999.000,9,  -999.0,9,  -999.0,9,-999.0000,9,  -999.00,-999.000,9,-999.000,-999.0000,9, -999.00,9, -999.00,9,  -999.0,9,  -999.0,-999.000,9, -999.00,     -999.0,9
06MT20110405,     MedSea,     308,          1,     212073,          6,2,20110415,       1918,    38.5000,    18.9990,       3508,  2033.5,  13.8227,  38.7414,2,    194.5,2,  -999.0,9,    6.46,2,    4.63,2,    0.00,2,    0.17,2,-999.000,9,-999.000,9,  -999.0,9,  -999.0,9,-999.0000,9,  -999.00,-999.000,9,-999.000,-999.0000,9, -999.00,9, -999.00,9,  -999.0,9,  -999.0,-999.000,9, -999.00,     -999.0,9
06MT20110405,     MedSea,     308,          1,     212074,          7,2,20110415,       1928,    38.5000,    18.9990,       3508,  1524.1,  13.7820,  38.7439,2,    190.8,2,  -999.0,9, -999.00,9, -999.00,9, -999.00,9, -999.00,9,-999.000,9,-999.000,9,  -999.0,9,  -999.0,9,-999.0000,9,  -999.00,-999.000,9,-999.000,-999.0000,9, -999.00,9, -999.00,9,  -999.0,9,  -999.0,-999.000,9, -999.00,     -999.0,9
06MT20110405,     MedSea,     308,          1,     212075,          8,2,20110415,       1928,    38.5000,    18.9990,       3508,  1524.1,  13.7820,  38.7439,2,    190.7,2,  -999.0,9,    6.79,2,    4.74,2,    0.00,2,    0.18,2,-999.000,9,-999.000,9,  -999.0,9,  -999.0,9,-999.0000,9,  -999.00,-999.000,9,-999.000,-999.0000,9, -999.00,9, -999.00,9,  -999.0,9,  -999.0,-999.000,9, -999.00,     -999.0,9
06MT20110405,     MedSea,     308,          1,     212076,          9,2,20110415,       1928,    38.5000,    18.9990,       3508,  1524.1,  13.7822,  38.7439,2,    190.7,2,  -999.0,9, -999.00,9, -999.00,9, -999.00,9, -999.00,9,-999.000,9,-999.000,9,  -999.0,9,  -999.0,9,-999.0000,9,  -999.00,-999.000,9,-999.000,-999.0000,9, -999.00,9, -999.00,9,  -999.0,9,  -999.0,-999.000,9, -999.00,     -999.0,9
06MT20110405,     MedSea,     308,          1,     212077,         10,2,20110415,       1929,    38.5000,    18.9990,       3508,  1524.2,  13.7823,  38.7439,2,    190.6,2,  -999.0,9, -999.00,9, -999.00,9, -999.00,9, -999.00,9,-999.000,9,-999.000,9,  -999.0,9,  -999.0,9,-999.0000,9,  -999.00,-999.000,9,-999.000,-999.0000,9, -999.00,9, -999.00,9,  -999.0,9,  -999.0,-999.000,9, -999.00,     -999.0,9
06MT20110405,     MedSea,     308,          1,     212078,         11,2,20110415,       1939,    38.5000,    18.9990,       3508,  1016.3,  13.7535,  38.7479,2,    185.5,2,  -999.0,9,    7.00,2,    5.16,2,    0.00,2,    0.21,2,-999.000,9,-999.000,9,  -999.0,9,  -999.0,9,-999.0000,9,  -999.00,-999.000,9,-999.000,-999.0000,9, -999.00,9, -999.00,9,  -999.0,9,  -999.0,-999.000,9, -999.00,     -999.0,9
06MT20110405,     MedSea,     308,          1,     212079,         12,2,20110415,       1952,    38.5000,    18.9990,       3508,   508.8,  14.1764,  38.8599,2,    191.0,2,  -999.0,9, -999.00,9, -999.00,9, -999.00,9, -999.00,9,-999.000,9,-999.000,9,  -999.0,9,  -999.0,9,-999.0000,9,  -999.00,-999.000,9,-999.000,-999.0000,9, -999.00,9, -999.00,9,  -999.0,9,  -999.0,-999.000,9, -999.00,     -999.0,9
06MT20110405,     MedSea,     308,          1,     212080,         13,2,20110415,       1953,    38.5000,    18.9990,       3508,   508.7,  14.1818,  38.8601,2,    191.3,2,  -999.0,9,    4.83,2,    4.87,2,    0.00,2,    0.18,2,-999.000,9,-999.000,9,  -999.0,9,  -999.0,9,-999.0000,9,  -999.00,-999.000,9,-999.000,-999.0000,9, -999.00,9, -999.00,9,  -999.0,9,  -999.0,-999.000,9, -999.00,     -999.0,9
06MT20110405,     MedSea,     308,          1,     212081,         14,2,20110415,       1959,    38.5000,    18.9990,       3508,   255.5,  14.6692,  38.9349,2,    196.5,2,   200.6,2,    2.89,2,    4.08,2,    0.01,2,    0.14,2,-999.000,9,-999.000,9,  -999.0,9,  -999.0,9,-999.0000,9,  -999.00,-999.000,9,-999.000,-999.0000,9, -999.00,9, -999.00,9,  -999.0,9,  -999.0,-999.000,9, -999.00,     -999.0,9
06MT20110405,     MedSea,     308,          1,     212082,         15,2,20110415,       2002,    38.5000,    18.9990,       3508,   153.4,  14.7669,  38.8548,2,    201.3,2,  -999.0,9,    2.14,2,    3.56,2,    0.01,2,    0.08,2,-999.000,9,-999.000,9,  -999.0,9,  -999.0,9,-999.0000,9,  -999.00,-999.000,9,-999.000,-999.0000,9, -999.00,9, -999.00,9,  -999.0,9,  -999.0,-999.000,9, -999.00,     -999.0,9
06MT20110405,     MedSea,     308,          1,     212083,         16,2,20110415,       2002,    38.5000,    18.9990,       3508,   153.5,  14.7670,  38.8556,2,    201.7,2,  -999.0,9, -999.00,9, -999.00,9, -999.00,9, -999.00,9,-999.000,9,-999.000,9,  -999.0,9,  -999.0,9,-999.0000,9,  -999.00,-999.000,9,-999.000,-999.0000,9, -999.00,9, -999.00,9,  -999.0,9,  -999.0,-999.000,9, -999.00,     -999.0,9
06MT20110405,     MedSea,     308,          1,     212084,         17,2,20110415,       2004,    38.5000,    18.9990,       3508,   103.6,  14.7374,  38.6829,2,    222.0,2,  -999.0,9,    1.43,2,    2.16,2,    0.04,2,    0.01,2,-999.000,9,-999.000,9,  -999.0,9,  -999.0,9,-999.0000,9,  -999.00,-999.000,9,-999.000,-999.0000,9, -999.00,9, -999.00,9,  -999.0,9,  -999.0,-999.000,9, -999.00,     -999.0,9
06MT20110405,     MedSea,     308,          1,     212085,         18,2,20110415,       2007,    38.5000,    18.9990,       3508,    53.3,  14.9492,  38.4501,2,    248.2,2,  -999.0,9,    0.77,6,    0.07,6,    0.01,6,    0.00,6,-999.000,9,-999.000,9,  -999.0,9,  -999.0,9,-999.0000,9,  -999.00,-999.000,9,-999.000,-999.0000,9, -999.00,9, -999.00,9,  -999.0,9,  -999.0,-999.000,9, -999.00,     -999.0,9
06MT20110405,     MedSea,     308,          1,     212086,         19,2,20110415,       2009,    38.5000,    18.9990,       3508,    27.5,  16.0934,  38.5655,2,    241.7,2,  -999.0,9, -999.00,9, -999.00,9, -999.00,9, -999.00,9,-999.000,9,-999.000,9,  -999.0,9,  -999.0,9,-999.0000,9,  -999.00,-999.000,9,-999.000,-999.0000,9, -999.00,9, -999.00,9,  -999.0,9,  -999.0,-999.000,9, -999.00,     -999.0,9
06MT20110405,     MedSea,     308,          1,     212087,         20,2,20110415,       2009,    38.5000,    18.9990,       3508,    27.5,  16.0934,  38.5655,2,    239.9,2,  -999.0,9, -999.00,9, -999.00,9, -999.00,9, -999.00,9,-999.000,9,-999.000,9,  -999.0,9,  -999.0,9,-999.0000,9,  -999.00,-999.000,9,-999.000,-999.0000,9, -999.00,9, -999.00,9,  -999.0,9,  -999.0,-999.000,9, -999.00,     -999.0,9
06MT20110405,     MedSea,     308,          1,     212088,         21,2,20110415,       2011,    38.5000,    18.9990,       3508,     7.8,  16.1595,  38.5697,2,    241.7,2,  -999.0,9, -999.00,9, -999.00,9, -999.00,9, -999.00,9,-999.000,9,-999.000,9,  -999.0,9,  -999.0,9,-999.0000,9,  -999.00,-999.000,9,-999.000,-999.0000,9, -999.00,9, -999.00,9,  -999.0,9,  -999.0,-999.000,9, -999.00,     -999.0,9
06MT20110405,     MedSea,     308,          1,     -999.0,         22,2,20110415,       2011,    38.5000,    18.9990,       3508,     7.9,  16.1573,  38.5696,2,    241.8,2,  -999.0,9, -999.00,9, -999.00,9, -999.00,9, -999.00,9,-999.000,9,-999.000,9,  -999.0,9,  -999.0,9,-999.0000,9,  -999.00,-999.000,9,-999.000,-999.0000,9, -999.00,9, -999.00,9,  -999.0,9,  -999.0,-999.000,9, -999.00,     -999.0,9
06MT20110405,     MedSea,     308,          1,     -999.0,         23,2,20110415,       2011,    38.5000,    18.9990,       3508,     7.8,  16.1555,  38.5697,2,    241.7,2,  -999.0,9, -999.00,9, -999.00,9, -999.00,9, -999.00,9,-999.000,9,-999.000,9,  -999.0,9,  -999.0,9,-999.0000,9,  -999.00,-999.000,9,-999.000,-999.0000,9, -999.00,9, -999.00,9,  -999.0,9,  -999.0,-999.000,9, -999.00,     -999.0,9
06MT20110405,     MedSea,     308,          1,     212089,         24,2,20110415,       2011,    38.5000,    18.9990,       3508,     7.9,  16.1620,  38.5696,2,    241.9,2,   241.5,2,    0.77,2,    0.03,2,    0.00,2,    0.00,2,-999.000,9,-999.000,9,  -999.0,9,  -999.0,9,-999.0000,9,  -999.00,-999.000,9,-999.000,-999.0000,9, -999.00,9, -999.00,9,  -999.0,9,  -999.0,-999.000,9, -999.00,     -999.0,9