BOTTLE,20170314CCHSIORJL
EXPOCODE,SECT_ID,STNNBR,CASTNO,BIONBR,BTLNBR,BTLNBR_FLAG_W,DATE,TIME,LATITUDE,LONGITUDE,DEPTH,CTDPRS,CTDTMP,CTDSAL,CTDSAL_FLAG_W,CTDOXY,CTDOXY_FLAG_W,OXYGEN,OXYGEN_FLAG_W,SILCAT,SILCAT_FLAG_W,NITRAT,NITRAT_FLAG_W,NITRIT,NITRIT_FLAG_W,PHSPHT,PHSPHT_FLAG_W,CFC-12,CFC-12_FLAG_W,SF6,SF6_FLAG_W,TCARBN,TCARBN_FLAG_W,ALKALI,ALKALI_FLAG_W,PH_TOT,PH_TOT_FLAG_W,PH_TMP,TRITUM,TRITUM_FLAG_W,TRITER,HELIUM,HELIUM_FLAG_W,DELHE3,DELHE3_FLAG_W,DELC13,DELC13_FLAG_W,DELC14,DELC14_FLAG_W,C14ERR,NEON,NEON_FLAG_W,DELHER,BARIUM,BARIUM_FLAG_W
,,,,,,,,,,,METERS,DBAR,ITS-90,PSS-78,,UMOL/KG,,UMOL/KG,,UMOL/KG,,UMOL/KG,,UMOL/KG,,UMOL/KG,,PMOL/KG,,FMOL/KG,,UMOL/KG,,UMOL/KG,,,,DEG C,TU,,TU,NMOL/KG,,PERCNT,,/MILLE,,/MILLE,,/MILLE,NMOL/KG,,PERCNT,UM/KG,
06MT20110405,     MedSea,     290,          1,     209686,          1,2,20110407,       1451,    34.3330,    27.5000,       2612,  2602.2,  13.9299,  38.7520,2,    190.9,2,  -999.0,9, -999.00,9, -999.00,9, -999.00,3, -999.00,9,-999.000,9,-999.000,9,  -999.0,9,  -999.0,9,-999.0000,9,  -999.00,-999.000,9,-999.000,-999.0000,9, -999.00,9, -999.00,9,  -999.0,9,  -999.0,-999.000,9, -999.00,     -999.0,9
06MT20110405,     MedSea,     290,          1,     209687,          2,2,20110407,       1451,    34.3330,    27.5000,       2612,  2602.4,  13.9300,  38.7520,2,    191.0,2,   189.6,2,    7.85,2,    4.71,2,   -0.05,3,    0.17,2,   0.607,2,   0.204,2,  2307.9,2,  2613.0,2,   7.9672,2,    25.00,   0.600,2,   0.020,   1.8300,2,    4.56,2,    1.11,2,    -9.8,2,     0.3,   7.240,2, -999.00,      81.90,2
06MT20110405,     MedSea,     290,          1,     209688,          3,2,20110407,       1453,    34.3330,    27.5000,       2612,  2542.9,  13.9238,  38.7529,2,    191.3,2,   190.9,2,    7.83,2,    4.71,2,   -0.05,3,    0.17,2,   0.705,2,   0.172,2,  2304.5,2,  2613.1,2,   7.9676,2,    25.00,   0.610,2,   0.020,-999.0000,9, -999.00,9,    1.12,2,   -14.5,2,     0.3,-999.000,9, -999.00,      76.60,2
06MT20110405,     MedSea,     290,          1,     209689,          4,2,20110407,       1459,    34.3330,    27.5000,       2612,  2288.1,  13.9143,  38.7616,2,    190.3,2,   190.8,2,    7.87,2,    4.73,2,   -0.05,3,    0.17,2,   0.587,2,   0.117,2,  2304.8,2,  2613.0,2,   7.9676,2,    25.00,   0.550,2,   0.020,   1.7200,2,   -1.17,2,    1.12,2,   -14.0,2,     0.2,   7.010,2, -999.00,      74.30,2
06MT20110405,     MedSea,     290,          1,     209690,          5,2,20110407,       1505,    34.3330,    27.5000,       2612,  2033.1,  13.8866,  38.7635,2,    189.7,2,   189.1,2,    7.93,2,    4.75,2,   -0.05,3,    0.17,2,   0.581,2,   0.173,2,  2304.8,2,  2613.2,2,   7.9667,2,    25.00,   0.560,2,   0.010,   1.8400,2,    3.71,2,    1.16,2,   -13.6,2,     0.3,   7.210,2, -999.00,     100.60,2
06MT20110405,     MedSea,     290,          1,     209691,          6,2,20110407,       1511,    34.3330,    27.5000,       2612,  1777.7,  13.8578,  38.7638,2,    188.0,2,   187.3,2,    8.05,2,    4.81,2,   -0.05,3,    0.17,2,   0.409,2,   0.126,2,  2302.6,2,  2612.7,2,   7.9670,2,    25.00,   0.490,2,   0.010,   1.8300,2,    3.93,2,    1.15,2,   -18.0,2,     0.2,   7.210,2, -999.00,      78.90,2
06MT20110405,     MedSea,     290,          1,     209692,          7,2,20110407,       1517,    34.3330,    27.5000,       2612,  1524.3,  13.8132,  38.7576,2,    186.4,2,   187.6,2,    8.17,2,    4.89,2,   -0.05,3,    0.18,2,   0.495,2,   0.167,2,  2301.7,2,  2610.2,3,   7.9621,2,    25.00,   0.400,2,   0.010,   1.8400,2,    2.37,2,    1.16,2,   -23.3,2,     0.3,   7.180,2, -999.00,      75.70,2
06MT20110405,     MedSea,     290,          1,     209693,          8,2,20110407,       1523,    34.3330,    27.5000,       2612,  1269.0,  13.7862,  38.7563,2,    184.2,2,   198.7,3,    8.35,2,    5.04,2,   -0.05,3,    0.19,2,   0.549,2,   0.168,2,  2298.3,2,  2612.9,2,   7.9679,2,    25.00,-999.000,9,-999.000,   1.8300,2,    1.20,2,    1.14,2,   -28.4,2,     0.2,   7.180,2, -999.00,      71.90,2
06MT20110405,     MedSea,     290,          1,     209694,          9,2,20110407,       1528,    34.3330,    27.5000,       2612,  1015.7,  13.7912,  38.7645,2,    182.3,2,   182.6,2,    8.33,2,    5.22,2,   -0.05,3,    0.19,2,   0.475,2,   0.092,2,  2298.0,2,  2611.5,2,   7.9661,2,    25.00,   0.360,2,   0.730,   1.8400,2,    2.07,2,    1.18,2,   -29.0,2,     0.2,   7.190,2, -999.00,      74.50,2
06MT20110405,     MedSea,     290,          1,     209695,         10,2,20110407,       1533,    34.3330,    27.5000,       2612,   812.8,  13.8266,  38.7796,2,    181.0,2,   181.6,2,    8.12,2,    5.35,2,   -0.05,3,    0.20,2,   0.460,2,   0.088,2,  2299.0,2,  2611.6,2,   7.9634,2,    25.00,   0.420,2,   0.010,-999.0000,9, -999.00,9,    1.19,2,   -30.4,2,     0.3,-999.000,9, -999.00,      74.90,2
06MT20110405,     MedSea,     290,          1,     209696,         11,2,20110407,       1539,    34.3330,    27.5000,       2612,   609.4,  13.9198,  38.8088,2,    181.2,2,   181.0,2,    7.65,2,    5.49,2,   -0.05,3,    0.20,2,   0.543,2,   0.203,2,  2301.0,2,  2613.5,2,   7.9603,2,    25.00,   0.480,2,   0.010,   1.8300,2,    2.29,2,    1.17,2,   -26.0,2,     0.2,   7.180,2, -999.00,      76.20,2
06MT20110405,     MedSea,     290,          1,     209697,         12,2,20110407,       1541,    34.3330,    27.5000,       2612,   507.6,  14.0459,  38.8440,2,    181.9,2,   181.5,2,    7.02,2,    5.37,2,   -0.05,3,    0.20,2,-999.000,9,-999.000,9,  2304.6,2,  2614.7,2,   7.9589,2,    25.00,   0.550,2,   0.010,   1.8200,2,    2.07,2,    1.01,2,   -14.6,2,     0.3,   7.190,2, -999.00,      73.00,2
06MT20110405,     MedSea,     290,          1,     209698,         13,2,20110407,       1544,    34.3330,    27.5000,       2612,   406.4,  14.2205,  38.8845,2,    185.7,2,   183.9,2,    6.24,2,    5.14,2,   -0.05,3,    0.19,2,   0.773,2,   0.306,2,  2305.4,2,  2616.9,2,   7.9599,2,    25.00,   0.590,2,   0.010,   1.7700,2,   -0.72,2,    1.00,2,    -6.6,2,     0.2,   7.190,2, -999.00,      73.30,2
06MT20110405,     MedSea,     290,          1,     209699,         14,2,20110407,       1547,    34.3330,    27.5000,       2612,   305.9,  14.5411,  38.9599,2,    189.9,2,   188.4,2,    5.07,2,    4.65,2,   -0.05,3,    0.15,2,   0.964,2,   0.455,2,  2308.3,2,  2622.2,2,   7.9600,2,    25.00,   0.730,2,   0.020,   1.7800,2,    1.85,2,    0.92,2,     8.5,2,     0.3,   7.160,2, -999.00,      62.20,2
06MT20110405,     MedSea,     290,          1,     209700,         15,2,20110407,       1549,    34.3330,    27.5000,       2612,   256.0,  14.7491,  38.9991,2,    192.2,2,   191.6,2,    3.56,2,    3.89,2,   -0.05,3,    0.12,2,   1.063,2,    0.51,2,  2308.6,2,  2624.0,2,   7.9630,2,    25.00,   0.780,2,   0.020,   3.4900,2,    0.84,3,    1.09,2,    20.2,2,     0.2,  13.100,2, -999.00,      64.10,2
06MT20110405,     MedSea,     290,          1,     209701,         16,2,20110407,       1550,    34.3330,    27.5000,       2612,   204.4,  15.1209,  39.0507,2,    195.9,2,   194.5,2,    4.43,2,    4.34,2,   -0.05,3,    0.15,2,   1.158,2,   0.652,2,  2307.8,2,  2623.1,2,   7.9618,2,    25.00,   0.810,2,   0.020,-999.0000,9, -999.00,9,    1.08,2,    22.5,2,     0.3,-999.000,9, -999.00,      59.60,2
06MT20110405,     MedSea,     290,          1,     209702,         17,2,20110407,       1552,    34.3330,    27.5000,       2612,   154.2,  15.4536,  39.0980,2,    199.0,2,  -999.0,9, -999.00,9, -999.00,9, -999.00,3, -999.00,9,-999.000,9,-999.000,9,  -999.0,9,  -999.0,9,-999.0000,9,  -999.00,-999.000,9,-999.000,-999.0000,9, -999.00,9, -999.00,9,  -999.0,9,  -999.0,-999.000,9, -999.00,     -999.0,9
06MT20110405,     MedSea,     290,          1,     209703,         18,2,20110407,       1553,    34.3330,    27.5000,       2612,   103.8,  15.9422,  39.1250,2,    203.9,2,  -999.0,9, -999.00,9, -999.00,9, -999.00,3, -999.00,9,-999.000,9,-999.000,9,  -999.0,9,  -999.0,9,-999.0000,9,  -999.00,-999.000,9,-999.000,-999.0000,9, -999.00,9, -999.00,9,  -999.0,9,  -999.0,-999.000,9, -999.00,     -999.0,9
06MT20110405,     MedSea,     290,          1,     209704,         19,2,20110407,       1555,    34.3330,    27.5000,       2612,    77.9,  16.1272,  39.0717,2,    208.4,2,   207.7,2,    1.20,2,    1.63,2,   -0.05,3,    0.02,2,   1.372,2,   1.017,2,  2298.1,2,  2623.9,2,   7.9799,2,    25.00,   1.010,2,   0.020,   2.1400,2,   -0.61,3,    1.04,2,    40.6,2,     0.3,   8.440,2, -999.00,      55.00,2
06MT20110405,     MedSea,     290,          1,     209705,         20,2,20110407,       1556,    34.3330,    27.5000,       2612,    53.6,  16.7509,  39.1334,2,    220.9,2,   219.0,6, -999.00,9, -999.00,9, -999.00,3, -999.00,9,-999.000,9,-999.000,9,  -999.0,9,  -999.0,9,-999.0000,9,  -999.00,-999.000,9,-999.000,-999.0000,9, -999.00,9, -999.00,9,  -999.0,9,  -999.0,-999.000,9, -999.00,     -999.0,9
06MT20110405,     MedSea,     290,          1,     209706,         21,2,20110407,       1557,    34.3330,    27.5000,       2612,    53.5,  16.8044,  39.1367,2,    222.6,2,  -999.0,9,    0.77,2,    0.50,2,   -0.04,3,    0.00,2,   1.364,2,   0.981,2,  2279.8,2,  2621.3,2,   7.9996,2,    25.00,   1.050,2,   0.020,   1.7200,2,   -0.76,2,    1.11,2,    42.0,2,     0.2,   7.020,2, -999.00,      53.20,2
06MT20110405,     MedSea,     290,          1,     209707,         22,2,20110407,       1558,    34.3330,    27.5000,       2612,    27.0,  16.9778,  39.0486,2,    230.1,2,   229.4,2,    0.60,2,    0.04,2,   -0.05,3,    0.00,2,   1.343,2,   1.278,2,  2268.7,2,  2614.8,2,   8.0111,2,    25.00,-999.000,9,-999.000,   1.7200,2,   -1.21,2,    1.17,2,    48.5,2,     0.3,   7.010,2, -999.00,     -999.0,9
06MT20110405,     MedSea,     290,          1,     209708,         23,2,20110407,       1600,    34.3330,    27.5000,       2612,     7.3,  17.2336,  38.9738,2,    230.8,2,   232.2,2,    0.55,2,    0.00,2,   -0.05,3,    0.00,2,   1.393,2,   1.143,2,  2262.0,2,  2607.7,2,   8.0087,2,    25.00,   1.040,2,   0.020,   1.7100,2,   -1.54,2,    1.21,2,    47.2,2,     0.2,   6.960,2, -999.00,      48.80,2
06MT20110405,     MedSea,     290,          1,     209709,         24,2,20110407,       1600,    34.3330,    27.5000,       2612,     7.4,  17.2467,  38.9758,2,    231.3,2,  -999.0,9, -999.00,9, -999.00,9, -999.00,3, -999.00,9,-999.000,9,-999.000,9,  -999.0,9,  -999.0,9,-999.0000,9,  -999.00,-999.000,9,-999.000,-999.0000,9, -999.00,9, -999.00,9,  -999.0,9,  -999.0,-999.000,9, -999.00,     -999.0,9