BOTTLE,20170314CCHSIORJL
EXPOCODE,SECT_ID,STNNBR,CASTNO,BIONBR,BTLNBR,BTLNBR_FLAG_W,DATE,TIME,LATITUDE,LONGITUDE,DEPTH,CTDPRS,CTDTMP,CTDSAL,CTDSAL_FLAG_W,CTDOXY,CTDOXY_FLAG_W,OXYGEN,OXYGEN_FLAG_W,SILCAT,SILCAT_FLAG_W,NITRAT,NITRAT_FLAG_W,NITRIT,NITRIT_FLAG_W,PHSPHT,PHSPHT_FLAG_W,CFC-12,CFC-12_FLAG_W,SF6,SF6_FLAG_W,TCARBN,TCARBN_FLAG_W,ALKALI,ALKALI_FLAG_W,PH_TOT,PH_TOT_FLAG_W,PH_TMP,TRITUM,TRITUM_FLAG_W,TRITER,HELIUM,HELIUM_FLAG_W,DELHE3,DELHE3_FLAG_W,DELC13,DELC13_FLAG_W,DELC14,DELC14_FLAG_W,C14ERR,NEON,NEON_FLAG_W,DELHER,BARIUM,BARIUM_FLAG_W
,,,,,,,,,,,METERS,DBAR,ITS-90,PSS-78,,UMOL/KG,,UMOL/KG,,UMOL/KG,,UMOL/KG,,UMOL/KG,,UMOL/KG,,PMOL/KG,,FMOL/KG,,UMOL/KG,,UMOL/KG,,,,DEG C,TU,,TU,NMOL/KG,,PERCNT,,/MILLE,,/MILLE,,/MILLE,NMOL/KG,,PERCNT,UM/KG,
06MT20110405,     MedSea,     305,          1,     212002,          1,2,20110414,       1359,    35.6000,    17.2500,       4099,  4088.7,  14.1038,  38.7336,2,    197.5,2,  -999.0,9, -999.00,9, -999.00,9, -999.00,9, -999.00,9,-999.000,9,-999.000,9,  -999.0,9,  -999.0,9,-999.0000,9,  -999.00,-999.000,9,-999.000,-999.0000,9, -999.00,9, -999.00,9,  -999.0,9,  -999.0,-999.000,9, -999.00,     -999.0,9
06MT20110405,     MedSea,     305,          1,     212003,          2,2,20110414,       1400,    35.6000,    17.2500,       4099,  4089.3,  14.1040,  38.7336,2,    197.3,2,   197.7,2,    6.25,2,    4.36,2,    0.01,2,    0.18,2,   0.892,2,   0.509,2,  2312.5,2,  2617.8,2,   7.9664,2,    25.00,   0.730,2,   0.020,   7.7500,2,    3.77,3,    1.05,2,     4.1,2,     2.6,  23.500,2, -999.00,      76.20,2
06MT20110405,     MedSea,     305,          1,     212004,          3,2,20110414,       1411,    35.6000,    17.2500,       4099,  3568.6,  14.0055,  38.7310,2,    199.4,2,   198.2,2,    6.24,2,    4.37,2,    0.00,2,    0.17,2,-999.000,9,-999.000,9,  2311.3,2,  2615.5,2,   7.9649,2,    25.00,   0.720,2,   0.020,-999.0000,9, -999.00,9,    1.07,2,    14.6,2,     2.5,-999.000,9, -999.00,      73.10,2
06MT20110405,     MedSea,     305,          1,     212005,          4,2,20110414,       1423,    35.6000,    17.2500,       4099,  3055.6,  13.9107,  38.7247,2,    197.7,2,   195.6,2,    6.45,2,    4.51,2,    0.00,2,    0.18,2,   0.779,2,   0.459,2,  2310.1,2,  2616.1,2,   7.9653,2,    25.00,   0.690,2,   0.020,   7.6700,2,  -23.40,3,    1.16,2,    -4.3,2,     3.2,  16.800,2, -999.00,      80.40,2
06MT20110405,     MedSea,     305,          1,     212006,          5,2,20110414,       1434,    35.6000,    17.2500,       4099,  2545.4,  13.8557,  38.7303,2,    197.8,2,   199.3,3,    6.40,2,    4.52,2,    0.00,2,    0.18,2,   0.749,2,   0.397,2,  2309.7,2,  2615.0,2,   7.9659,2,    25.00,   0.660,2,   0.020,   1.9500,2,   -2.17,2,    1.17,2,   -13.0,2,     3.1,   7.170,2, -999.00,      74.40,2
06MT20110405,     MedSea,     305,          1,     212007,          6,2,20110414,       1445,    35.6000,    17.2500,       4099,  2034.5,  13.8084,  38.7358,2,    195.4,2,   193.6,2,    6.44,2,    4.59,2,    0.00,2,    0.18,2,   0.725,2,   0.512,2,  2308.8,2,  2614.8,2,   7.9663,2,    25.00,   0.600,2,   0.020,   6.5200,2,    1.42,3,    1.07,2,    -4.6,2,     2.6,  21.100,2, -999.00,      69.90,2
06MT20110405,     MedSea,     305,          1,     212008,          7,2,20110414,       1456,    35.6000,    17.2500,       4099,  1524.8,  13.7691,  38.7398,2,    192.1,2,   190.8,2,    6.63,2,    4.74,2,    0.00,2,    0.19,2,   0.630,2,   0.385,2,  2308.6,2,  2613.1,2,   7.9689,2,    25.00,   0.560,2,   0.010,   1.9000,2,   -1.07,2,    1.11,2,   -15.0,2,     3.2,   7.180,2, -999.00,      74.20,2
06MT20110405,     MedSea,     305,          1,     212009,          8,2,20110414,       1503,    35.6000,    17.2500,       4099,  1269.6,  13.7458,  38.7395,2,    189.0,2,   204.9,4,    6.86,2,    4.91,2,    0.00,2,    0.20,2,   0.618,3,   0.424,3,  2308.5,2,  2614.2,2,   7.9727,3,    25.00,   0.580,2,   0.010,   1.8700,2,    0.96,2,    1.11,2,   -14.6,2,     2.6,   7.230,2, -999.00,      74.50,2
06MT20110405,     MedSea,     305,          1,     212010,          9,2,20110414,       1508,    35.6000,    17.2500,       4099,  1015.7,  13.7369,  38.7424,2,    186.4,2,   184.9,2,    7.00,2,    5.13,2,    0.00,2,    0.20,2,   0.538,2,   0.317,2,  2309.7,2,  2615.5,2,   7.9629,2,    25.00,   0.500,2,   0.010,   1.8800,2,    1.14,2,    1.12,2,   -14.2,2,     3.2,   7.190,2, -999.00,      76.50,2
06MT20110405,     MedSea,     305,          1,     212011,         10,2,20110414,       1513,    35.6000,    17.2500,       4099,   813.0,  13.7787,  38.7563,2,    185.0,2,   182.9,2,    6.69,2,    5.35,2,    0.00,2,    0.24,2,-999.000,9,-999.000,9,  2313.9,2,  2614.4,2,   7.9607,2,    25.00,   0.560,2,   0.210,   1.8500,2,    1.00,2,    1.02,2,   -12.9,2,     2.8,   7.170,2, -999.00,      70.30,2
06MT20110405,     MedSea,     305,          1,     212012,         11,2,20110414,       1518,    35.6000,    17.2500,       4099,   610.2,  13.9928,  38.8122,2,    185.8,2,   184.8,2,    5.77,2,    5.30,2,    0.00,2,    0.22,2,   0.796,2,   0.495,2,  2319.2,2,  2615.6,2,   7.9565,2,    25.00,   0.620,2,   0.040,   1.8500,2,    0.95,2,    0.95,2,     1.4,2,     2.9,   7.190,2, -999.00,      71.50,2
06MT20110405,     MedSea,     305,          1,     212013,         12,2,20110414,       1521,    35.6000,    17.2500,       4099,   508.2,  14.2525,  38.8791,2,    190.7,2,   188.7,2,    4.97,2,    4.83,2,    0.00,2,    0.19,2,   0.957,2,   0.687,2,  2320.8,2,  2620.3,2,   7.9559,2,    25.00,   0.760,2,   0.020,   1.8100,2,    0.73,2,    0.91,2,    15.9,2,     2.8,   7.130,2, -999.00,      72.60,2
06MT20110405,     MedSea,     305,          1,     212014,         13,2,20110414,       1524,    35.6000,    17.2500,       4099,   406.9,  14.5817,  38.9549,2,    197.7,2,   196.6,2,    3.74,2,    4.09,2,    0.01,2,    0.19,2,   1.155,2,   0.883,2,  2323.4,2,  2623.9,2,   7.9599,3,    25.00,-999.000,9,-999.000,-999.0000,9, -999.00,9,    0.83,2,    28.2,2,     2.9,-999.000,9, -999.00,      61.70,2
06MT20110405,     MedSea,     305,          1,     212015,         14,2,20110414,       1527,    35.6000,    17.2500,       4099,   306.1,  14.8145,  38.9742,2,    197.5,2,   195.6,2,    3.04,2,    3.97,2,    0.00,2,    0.15,2,   1.269,2,   1.012,2,  2324.6,2,  2624.1,2,   7.9569,2,    25.00,   0.910,2,   0.020,   1.8000,2,   -0.55,2,    0.79,2,    33.2,2,     2.8,   7.130,2, -999.00,      61.50,2
06MT20110405,     MedSea,     305,          1,     212016,         15,2,20110414,       1529,    35.6000,    17.2500,       4099,   256.2,  15.1253,  39.0265,2,    201.4,2,   200.0,2,    2.48,2,    3.38,2,    0.00,2,    0.12,2,   1.328,2,   1.069,2,  2323.0,2,  2626.9,2,   7.9566,2,    25.00,   0.980,2,   0.020,   5.9400,2,    3.53,3,    0.83,2,    37.4,2,     2.8,  18.500,2, -999.00,      62.50,2
06MT20110405,     MedSea,     305,          1,     212017,         16,2,20110414,       1531,    35.6000,    17.2500,       4099,   205.0,  15.4008,  39.0614,2,    203.2,2,   202.9,2,    1.92,2,    2.76,2,    0.00,2,    0.10,2,   1.374,2,   1.169,2,  2321.4,2,  2627.9,2,   7.9653,2,    25.00,   1.010,2,   0.020,   2.5600,2,   -1.11,3,    0.78,2,    37.9,2,     4.0,   8.800,2, -999.00,      60.60,2
06MT20110405,     MedSea,     305,          1,     212018,         17,2,20110414,       1533,    35.6000,    17.2500,       4099,   154.1,  15.4748,  39.0289,2,    207.3,2,   207.8,2,    1.45,2,    2.07,2,    0.01,2,    0.07,2,   1.423,2,   1.261,2,  2320.4,2,  2629.5,2,   7.9715,2,    25.00,   1.040,2,   0.040,   3.2900,2,   -0.15,3,    0.75,2,    41.8,2,     2.7,  10.700,2, -999.00,      57.90,2
06MT20110405,     MedSea,     305,          1,     212019,         18,2,20110414,       1535,    35.6000,    17.2500,       4099,   104.0,  15.4040,  38.7642,2,    213.0,2,   214.0,2,    1.13,2,    1.31,2,    0.06,2,    0.04,2,   1.477,2,   1.396,2,  2304.5,2,  2606.8,2,   7.9689,2,    25.00,   1.000,2,   0.030,   4.1400,2,    2.06,3,    0.75,2,    43.6,2,     2.8,  13.000,2, -999.00,      54.30,2
06MT20110405,     MedSea,     305,          1,     212020,         19,2,20110414,       1536,    35.6000,    17.2500,       4099,    79.1,  15.6463,  38.6198,2,    232.0,2,   228.1,2,    0.84,2,    0.27,2,    0.03,2,    0.02,2,   1.475,2,   1.475,2,  2283.0,2,  2598.9,2,   7.9877,2,    25.00,   1.080,2,   0.020,   1.7900,2,   -4.44,2,    0.91,2,    38.9,2,     4.3,   7.030,2, -999.00,      55.90,2
06MT20110405,     MedSea,     305,          1,     212021,         20,2,20110414,       1538,    35.6000,    17.2500,       4099,    53.9,  15.8134,  38.5849,2,    236.6,2,   233.3,2,    0.74,2,    0.01,2,    0.00,2,    0.03,2,   1.450,2,   1.467,2,  2271.2,2,  2597.1,2,   7.9993,2,    25.00,   0.940,2,   0.060,   1.7300,2,   -4.42,2,    1.01,2,    37.1,2,     2.8,   6.900,2, -999.00,      54.80,2
06MT20110405,     MedSea,     305,          1,     212022,         21,2,20110414,       1540,    35.6000,    17.2500,       4099,    28.5,  16.4994,  38.3376,2,    241.1,2,   240.3,2,    0.66,2,    0.00,2,    0.00,2,    0.03,2,   1.475,2,   1.505,2,  2250.5,2,  2567.1,2,   7.9993,2,    25.00,   1.000,2,   0.020,   1.8300,2,   -6.79,2,    1.00,2,    39.6,2,     3.1,   7.030,2, -999.00,      53.60,2
06MT20110405,     MedSea,     305,          1,     -999.0,         22,2,20110414,       1540,    35.6000,    17.2500,       4099,    28.9,  16.5351,  38.3362,2,    239.8,2,  -999.0,9, -999.00,9, -999.00,9, -999.00,9, -999.00,9,-999.000,9,-999.000,9,  -999.0,9,  -999.0,9,-999.0000,9,  -999.00,-999.000,9,-999.000,-999.0000,9, -999.00,9, -999.00,9,  -999.0,9,  -999.0,-999.000,9, -999.00,     -999.0,9
06MT20110405,     MedSea,     305,          1,     -999.0,         23,2,20110414,       1540,    35.6000,    17.2500,       4099,    28.5,  16.5410,  38.3376,2,    240.7,2,  -999.0,9, -999.00,9, -999.00,9, -999.00,9, -999.00,9,-999.000,9,-999.000,9,  -999.0,9,  -999.0,9,-999.0000,9,  -999.00,-999.000,9,-999.000,-999.0000,9, -999.00,9, -999.00,9,  -999.0,9,  -999.0,-999.000,9, -999.00,     -999.0,9
06MT20110405,     MedSea,     305,          1,     212023,         24,2,20110414,       1542,    35.6000,    17.2500,       4099,     8.3,  17.0564,  38.3420,2,    237.1,2,   237.0,2,    0.66,2,    0.00,2,    0.00,2,    0.01,2,   1.471,2,   1.512,2,  2246.7,2,  2559.9,2,   7.9954,2,    25.00,-999.000,9,-999.000,   1.9300,2,  -11.77,2,    1.12,2,    44.9,2,     2.9,   7.000,2, -999.00,      50.90,2