BOTTLE,20170314CCHSIORJL
EXPOCODE,SECT_ID,STNNBR,CASTNO,BIONBR,BTLNBR,BTLNBR_FLAG_W,DATE,TIME,LATITUDE,LONGITUDE,DEPTH,CTDPRS,CTDTMP,CTDSAL,CTDSAL_FLAG_W,CTDOXY,CTDOXY_FLAG_W,OXYGEN,OXYGEN_FLAG_W,SILCAT,SILCAT_FLAG_W,NITRAT,NITRAT_FLAG_W,NITRIT,NITRIT_FLAG_W,PHSPHT,PHSPHT_FLAG_W,CFC-12,CFC-12_FLAG_W,SF6,SF6_FLAG_W,TCARBN,TCARBN_FLAG_W,ALKALI,ALKALI_FLAG_W,PH_TOT,PH_TOT_FLAG_W,PH_TMP,TRITUM,TRITUM_FLAG_W,TRITER,HELIUM,HELIUM_FLAG_W,DELHE3,DELHE3_FLAG_W,DELC13,DELC13_FLAG_W,DELC14,DELC14_FLAG_W,C14ERR,NEON,NEON_FLAG_W,DELHER,BARIUM,BARIUM_FLAG_W
,,,,,,,,,,,METERS,DBAR,ITS-90,PSS-78,,UMOL/KG,,UMOL/KG,,UMOL/KG,,UMOL/KG,,UMOL/KG,,UMOL/KG,,PMOL/KG,,FMOL/KG,,UMOL/KG,,UMOL/KG,,,,DEG C,TU,,TU,NMOL/KG,,PERCNT,,/MILLE,,/MILLE,,/MILLE,NMOL/KG,,PERCNT,UM/KG,
06MT20110405,     MedSea,     323,          1,     212366,          1,2,20110421,       1328,    38.5000,     6.9000,       2887,  2876.7,  13.3336,  38.4765,2,    195.7,2,  -999.0,9, -999.00,9, -999.00,9, -999.00,9, -999.00,9,-999.000,9,-999.000,9,  -999.0,9,  -999.0,9,-999.0000,9,  -999.00,-999.000,9,-999.000,-999.0000,9, -999.00,9, -999.00,9,  -999.0,9,  -999.0,-999.000,9, -999.00,     -999.0,9
06MT20110405,     MedSea,     323,          1,     212367,          2,2,20110421,       1329,    38.5000,     6.9000,       2887,  2876.0,  13.3334,  38.4763,2,    196.4,2,   200.6,2,    8.40,2,    7.98,2,    0.00,2,    0.39,2,-999.000,9,-999.000,9,  2323.0,2,  2588.2,2,   7.9081,2,    25.00,   0.540,2,   0.010,   1.7900,2,    5.94,2,    0.95,2,    -9.8,2,     0.3,   7.320,2, -999.00,      82.80,2
06MT20110405,     MedSea,     323,          1,     212368,          3,2,20110421,       1332,    38.5000,     6.9000,       2887,  2800.0,  13.3201,  38.4762,2,    196.5,2,   198.1,2,    8.35,2,    7.94,2,    0.00,2,    0.35,2,   0.813,2,   0.668,2,  2322.0,2,  2588.6,2,   7.9027,2,    25.00,   0.550,2,   0.020,   1.7900,2,    4.42,2,    0.91,2,    -7.9,2,     0.4,   7.300,2, -999.00,      77.60,2
06MT20110405,     MedSea,     323,          1,     212369,          4,2,20110421,       1338,    38.5000,     6.9000,       2887,  2544.9,  13.2763,  38.4755,2,    196.9,2,   197.3,2,    8.29,2,    7.93,2,    0.00,2,    0.36,2,   0.863,2,   0.677,2,  2321.2,2,  2588.6,2,   7.9047,2,    25.00,-999.000,9,-999.000,   1.8400,2,    5.44,2,    0.96,2,    -5.6,2,     0.4,   7.510,2, -999.00,      73.20,2
06MT20110405,     MedSea,     323,          1,     212370,          5,2,20110421,       1345,    38.5000,     6.9000,       2887,  2289.0,  13.2368,  38.4746,2,    196.6,2,   198.2,2,    8.06,2,    7.92,2,    0.00,2,    0.36,2,   0.830,2,   0.693,2,  2319.3,2,  2586.4,2,   7.9047,2,    25.00,   0.520,2,   0.010,   1.8000,2,    6.36,2,    0.97,2,   -15.9,2,     0.5,   7.310,2, -999.00,      71.50,2
06MT20110405,     MedSea,     323,          1,     212371,          6,2,20110421,       1351,    38.5000,     6.9000,       2887,  2033.9,  13.1997,  38.4734,2,    195.4,2,   197.3,2,    7.99,2,    7.94,2,    0.02,2,    0.35,2,   0.790,2,   0.624,2,  2318.8,2,  2586.9,2,   7.9059,2,    25.00,-999.000,9,-999.000,   1.7800,2,    6.53,2,    0.91,2,   -15.8,2,     0.3,   7.330,2, -999.00,      71.90,2
06MT20110405,     MedSea,     323,          1,     212372,          7,2,20110421,       1358,    38.5000,     6.9000,       2887,  1779.4,  13.1549,  38.4695,2,    193.9,2,   194.3,2,    8.14,2,    8.07,2,    0.00,2,    0.37,2,-999.000,9,-999.000,9,  2318.8,2,  2586.2,2,   7.9113,3,    25.00,   0.510,2,   0.020,   1.7800,2,    6.21,2,    0.90,2,   -13.0,2,     0.3,   7.290,2, -999.00,      74.20,2
06MT20110405,     MedSea,     323,          1,     212373,          8,2,20110421,       1405,    38.5000,     6.9000,       2887,  1525.3,  13.1010,  38.4628,2,    191.1,2,   202.6,2,    8.41,2,    8.07,2,    0.00,2,    0.37,2,   0.681,2,   0.424,2,  2318.2,2,  2585.1,2,   7.9032,2,    25.00,   0.480,2,   0.010,   1.7900,2,    7.91,2,    0.91,2,   -23.9,2,     0.3,   7.320,2, -999.00,     -999.0,9
06MT20110405,     MedSea,     323,          1,     212374,          9,2,20110421,       1411,    38.5000,     6.9000,       2887,  1270.4,  13.0928,  38.4703,2,    189.0,2,   191.1,2,    8.28,2,    8.15,2,    0.00,2,    0.37,2,   0.124,4,   0.167,4,  2318.9,2,  2585.3,2,   7.9073,2,    25.00,   0.430,2,   0.020,   1.7900,2,    8.50,2,    0.88,2,   -18.1,2,     0.3,   7.330,2, -999.00,      74.30,2
06MT20110405,     MedSea,     323,          1,     212375,         10,2,20110421,       1417,    38.5000,     6.9000,       2887,  1016.3,  13.1166,  38.4869,2,    185.6,2,   191.0,2,    8.18,2,    8.24,2,    0.00,2,    0.39,2,-999.000,9,-999.000,9,  2320.0,2,  2587.2,2,   7.9082,2,    25.00,-999.000,9,-999.000,   1.7900,2,    6.70,2,    0.89,2,   -20.9,2,     0.3,   7.340,2, -999.00,      71.10,2
06MT20110405,     MedSea,     323,          1,     212376,         11,2,20110421,       1423,    38.5000,     6.9000,       2887,   814.3,  13.1921,  38.5113,2,    181.3,2,   182.1,2,    7.92,2,    8.27,2,    0.00,2,    0.33,3,   0.659,2,   0.372,2,  2321.8,2,  2587.7,2,   7.9080,2,    25.00,   0.500,2,   0.030,   1.8100,2,    8.61,2,    0.67,3,   -18.0,2,     0.3,   7.340,2, -999.00,      75.50,2
06MT20110405,     MedSea,     323,          1,     212377,         12,2,20110421,       1429,    38.5000,     6.9000,       2887,   610.3,  13.2703,  38.5361,2,    176.5,2,   176.9,2,    7.62,2,    8.52,2,    0.00,2,    0.40,2,-999.000,9,-999.000,9,  2325.1,2,  2590.0,2,   7.8984,2,    25.00,   0.540,2,   0.080,   1.8000,2,    7.80,2,    0.84,2,   -11.4,2,     0.3,   7.310,2, -999.00,      71.30,2
06MT20110405,     MedSea,     323,          1,     212378,         13,2,20110421,       1432,    38.5000,     6.9000,       2887,   509.3,  13.3550,  38.5533,2,    172.8,2,   172.2,2,    7.18,2,    8.69,2,    0.00,2,    0.34,3,-999.000,9,-999.000,9,  2328.8,2,  2591.1,2,   7.8999,2,    25.00,   0.580,2,   0.020,   1.8000,2,    7.65,2,    0.76,2,    -8.8,2,     0.3,   7.260,2, -999.00,      75.70,2
06MT20110405,     MedSea,     323,          1,     212379,         14,2,20110421,       1435,    38.5000,     6.9000,       2887,   408.4,  13.3942,  38.5594,2,    168.6,2,   168.9,2,    6.62,2,    8.94,2,    0.00,2,    0.42,2,   0.879,2,   0.604,2,  2331.7,2,  2590.2,2,   7.8884,2,    25.00,   0.620,2,   0.010,-999.0000,9, -999.00,9,    0.53,2,    -3.9,2,     0.3,-999.000,9, -999.00,     -999.0,9
06MT20110405,     MedSea,     323,          1,     212380,         15,2,20110421,       1440,    38.5000,     6.9000,       2887,   306.4,  13.4645,  38.5465,2,    168.5,2,   165.1,2,    5.58,2,    8.90,2,    0.00,2,    0.39,2,   1.054,2,   0.814,2,  2333.1,2,  2587.9,2,   7.8819,2,    25.00,   0.700,2,   0.020,   1.7800,2,    5.19,2,    0.37,2,     1.4,2,     0.3,   7.230,2, -999.00,      69.40,2
06MT20110405,     MedSea,     323,          1,     212381,         16,2,20110421,       1442,    38.5000,     6.9000,       2887,   255.9,  13.4725,  38.5173,2,    171.2,2,   168.5,2,    5.00,2,    8.58,2,    0.00,2,    0.36,2,   1.077,3,   0.828,3,  2331.8,2,  2584.1,2,   7.8827,2,    25.00,   0.700,2,   0.020,-999.0000,9, -999.00,9,    0.66,2,    23.1,2,     0.3,-999.000,9, -999.00,      62.60,2
06MT20110405,     MedSea,     323,          1,     212382,         17,2,20110421,       1444,    38.5000,     6.9000,       2887,   205.7,  13.4521,  38.4479,2,    177.7,2,   175.7,2,    4.00,2,    7.77,2,    0.00,2,    0.33,2,   1.174,2,   0.925,2,  2324.5,2,  2578.8,2,   7.8849,2,    25.00,   0.730,2,   0.030,   1.7800,2,    1.96,2,    0.61,2,    26.2,2,     0.3,   7.280,2, -999.00,      67.70,2
06MT20110405,     MedSea,     323,          1,     212383,         18,2,20110421,       1446,    38.5000,     6.9000,       2887,   154.9,  13.4486,  38.3331,2,    193.6,2,   191.0,2,    2.72,2,    6.21,2,    0.00,2,    0.24,2,-999.000,9,-999.000,9,  2312.0,2,  2567.5,2,   7.8908,2,    25.00,   0.840,2,   0.020,   1.7500,2,   -0.36,2,    0.41,3,    19.9,2,     0.4,   7.230,2, -999.00,      57.80,2
06MT20110405,     MedSea,     323,          1,     212384,         19,2,20110421,       1448,    38.5000,     6.9000,       2887,   105.0,  13.7344,  38.0983,2,    215.4,2,   208.3,2,    1.48,2,    3.88,2,    0.01,2,    0.13,2,   1.464,2,   1.383,2,  2283.6,2,  2549.7,2,   7.9123,2,    25.00,   0.910,2,   0.020,-999.0000,9, -999.00,9,    0.66,2,    38.4,2,     0.3,-999.000,9, -999.00,      53.00,2
06MT20110405,     MedSea,     323,          1,     212385,         20,2,20110421,       1450,    38.5000,     6.9000,       2887,    78.1,  13.8526,  37.8957,2,    248.7,2,   240.9,3,    0.52,2,    0.79,2,    0.04,2,    0.01,2,-999.000,9,-999.000,9,  2242.1,2,  2530.8,2,   7.9561,2,    25.00,-999.000,9,-999.000,   1.7600,2,   -1.43,2,    0.88,2,    38.2,2,     0.3,   7.210,2, -999.00,      54.70,2
06MT20110405,     MedSea,     323,          1,     212386,         21,2,20110421,       1451,    38.5000,     6.9000,       2887,    53.7,  14.1510,  37.7718,2,    240.5,2,   243.4,2,    0.49,2,    0.36,2,    0.03,2,    0.02,2,   1.548,2,   1.522,2,  2229.5,2,  2521.9,2,   7.9665,2,    25.00,-999.000,9,-999.000,   1.7500,2,   -1.42,2,    0.95,2,    33.6,2,     0.4,   7.240,2, -999.00,      54.10,2
06MT20110405,     MedSea,     323,          1,     212387,         22,2,20110421,       1453,    38.5000,     6.9000,       2887,    27.8,  16.2616,  37.6140,2,    240.0,2,   248.7,2,    0.36,2,    0.00,2,    0.00,2,    0.00,2,-999.000,9,-999.000,9,  2209.5,2,  2504.2,2,   7.9736,2,    25.00,   0.890,2,   0.030,   1.7500,2,   -1.44,2,    1.03,2,    36.9,2,     0.3,   7.240,2, -999.00,      52.20,2
06MT20110405,     MedSea,     323,          1,     212388,         23,2,20110421,       1455,    38.5000,     6.9000,       2887,     8.3,  16.8684,  37.2741,2,    237.3,2,   239.4,2,    0.32,2,   -0.01,2,   -0.01,2,    0.02,2,   1.461,3,   1.403,3,  2182.5,2,  2473.7,2,   7.9752,2,    25.00,-999.000,9,-999.000,   1.7300,2,   -1.55,2,    1.00,2,    41.3,2,     0.4,   7.090,2, -999.00,      46.20,2
06MT20110405,     MedSea,     323,          1,     212389,         24,2,20110421,       1455,    38.5000,     6.9000,       2887,     7.4,  16.8690,  37.2731,2,    237.3,2,  -999.0,9, -999.00,9, -999.00,9, -999.00,9, -999.00,9,-999.000,9,-999.000,9,  -999.0,9,  -999.0,9,-999.0000,9,  -999.00,-999.000,9,-999.000,-999.0000,9, -999.00,9, -999.00,9,  -999.0,9,  -999.0,-999.000,9, -999.00,     -999.0,9
06MT20110405,     MedSea,     324,          1,     212390,          1,2,20110421,       2200,    38.6500,     5.6000,       2882,  2870.9,  13.3336,  38.4768,2,    196.3,2,   195.3,2, -999.00,9, -999.00,9, -999.00,9, -999.00,9,   0.874,2,-999.000,9,  -999.0,9,  -999.0,9,-999.0000,9,  -999.00,-999.000,9,-999.000,-999.0000,9, -999.00,9, -999.00,9,  -999.0,9,  -999.0,-999.000,9, -999.00,      74.70,2
06MT20110405,     MedSea,     324,          1,     212391,          2,2,20110421,       2201,    38.6500,     5.6000,       2882,  2871.6,  13.3338,  38.4768,2,    196.5,2,  -999.0,9,    8.15,2,    8.08,2,    0.02,2,    0.35,3,-999.000,9,-999.000,9,  2319.2,2,  2587.2,2,   7.9060,2,    25.00,-999.000,9,-999.000,-999.0000,9, -999.00,9, -999.00,9,  -999.0,9,  -999.0,-999.000,9, -999.00,     -999.0,9
06MT20110405,     MedSea,     324,          1,     212392,          3,2,20110421,       2204,    38.6500,     5.6000,       2882,  2799.9,  13.3212,  38.4766,2,    197.3,2,   195.6,2,    8.12,2,    7.86,2,    0.00,2,    0.40,2,   0.856,2,-999.000,9,  2319.5,2,  2587.4,2,   7.9066,2,    25.00,-999.000,9,-999.000,-999.0000,9, -999.00,9, -999.00,9,  -999.0,9,  -999.0,-999.000,9, -999.00,      75.30,2
06MT20110405,     MedSea,     324,          1,     212393,          4,2,20110421,       2211,    38.6500,     5.6000,       2882,  2544.7,  13.2773,  38.4758,2,    196.8,2,   195.3,2,    8.07,2,    7.90,2,    0.00,2,    0.42,2,   0.865,2,-999.000,9,  2319.4,2,  2588.8,2,   7.9101,2,    25.00,-999.000,9,-999.000,-999.0000,9, -999.00,9, -999.00,9,  -999.0,9,  -999.0,-999.000,9, -999.00,      73.30,2
06MT20110405,     MedSea,     324,          1,     212394,          5,2,20110421,       2218,    38.6500,     5.6000,       2882,  2289.6,  13.2379,  38.4748,2,    197.3,2,   196.5,2,    7.91,2,    7.88,2,    0.00,2,    0.41,2,   0.819,2,-999.000,9,  2317.6,2,  2587.9,2,   7.9079,2,    25.00,-999.000,9,-999.000,-999.0000,9, -999.00,9, -999.00,9,  -999.0,9,  -999.0,-999.000,9, -999.00,      71.10,2
06MT20110405,     MedSea,     324,          1,     212395,          6,2,20110421,       2226,    38.6500,     5.6000,       2882,  2034.2,  13.1999,  38.4735,2,    195.1,2,   194.2,2,    7.88,2,    7.90,2,    0.00,2,    0.42,2,   0.795,2,-999.000,9,  2317.2,2,  2587.9,2,   7.9096,2,    25.00,-999.000,9,-999.000,-999.0000,9, -999.00,9, -999.00,9,  -999.0,9,  -999.0,-999.000,9, -999.00,      74.40,2
06MT20110405,     MedSea,     324,          1,     212396,          7,2,20110421,       2232,    38.6500,     5.6000,       2882,  1779.7,  13.1561,  38.4701,2,    193.3,2,   192.1,2,    8.00,2,    7.98,2,    0.00,2,    0.42,2,   0.751,2,-999.000,9,  2317.3,2,  2586.7,2,   7.9037,2,    25.00,-999.000,9,-999.000,-999.0000,9, -999.00,9, -999.00,9,  -999.0,9,  -999.0,-999.000,9, -999.00,      78.00,2
06MT20110405,     MedSea,     324,          1,     212397,          8,2,20110421,       2240,    38.6500,     5.6000,       2882,  1524.3,  13.1022,  38.4632,2,    191.5,2,   190.7,2,    8.27,2,    8.07,2,    0.00,2,    0.43,2,   0.675,2,-999.000,9,  2317.0,2,  2586.7,2,   7.9097,2,    25.00,-999.000,9,-999.000,-999.0000,9, -999.00,9, -999.00,9,  -999.0,9,  -999.0,-999.000,9, -999.00,      77.80,2
06MT20110405,     MedSea,     324,          1,     212398,          9,2,20110421,       2248,    38.6500,     5.6000,       2882,  1270.8,  13.0902,  38.4701,2,    188.7,2,   187.5,2,    8.17,2,    8.11,2,    0.00,2,    0.44,2,   0.659,2,-999.000,9,  2317.9,2,  2587.1,2,   7.9067,2,    25.00,-999.000,9,-999.000,-999.0000,9, -999.00,9, -999.00,9,  -999.0,9,  -999.0,-999.000,9, -999.00,      75.70,2
06MT20110405,     MedSea,     324,          1,     212399,         10,2,20110421,       2255,    38.6500,     5.6000,       2882,  1017.1,  13.1179,  38.4865,2,    185.6,2,   183.8,2,    8.07,2,    8.20,2,    0.00,2,    0.46,2,   0.634,2,-999.000,9,  2320.3,2,  2587.4,2,   7.9064,2,    25.00,-999.000,9,-999.000,-999.0000,9, -999.00,9, -999.00,9,  -999.0,9,  -999.0,-999.000,9, -999.00,      77.90,2
06MT20110405,     MedSea,     324,          1,     212400,         11,2,20110421,       2302,    38.6500,     5.6000,       2882,   814.7,  13.1821,  38.5083,2,    181.2,2,   180.4,2,    7.84,2,    8.36,2,    0.00,2,    0.41,3,   0.673,2,-999.000,9,  2321.8,2,  2589.4,2,   7.9058,2,    25.00,-999.000,9,-999.000,-999.0000,9, -999.00,9, -999.00,9,  -999.0,9,  -999.0,-999.000,9, -999.00,      75.70,2
06MT20110405,     MedSea,     324,          1,     212401,         12,2,20110421,       2309,    38.6500,     5.6000,       2882,   611.3,  13.2577,  38.5306,2,    176.2,2,   174.2,2,    7.48,2,    8.58,2,    0.00,2,    0.47,2,-999.000,9,-999.000,9,  2325.7,2,  2590.7,2,   7.8940,2,    25.00,-999.000,9,-999.000,-999.0000,9, -999.00,9, -999.00,9,  -999.0,9,  -999.0,-999.000,9, -999.00,      76.70,2
06MT20110405,     MedSea,     324,          1,     212402,         13,2,20110421,       2314,    38.6500,     5.6000,       2882,   510.4,  13.3230,  38.5443,2,    171.8,2,   170.0,2,    7.17,2,    8.86,2,    0.00,2,    0.48,2,   0.770,2,-999.000,9,  2329.3,2,  2590.4,2,   7.8932,2,    25.00,-999.000,9,-999.000,-999.0000,9, -999.00,9, -999.00,9,  -999.0,9,  -999.0,-999.000,9, -999.00,      73.20,2
06MT20110405,     MedSea,     324,          1,     212403,         14,2,20110421,       2317,    38.6500,     5.6000,       2882,   408.6,  13.3678,  38.5474,2,    171.0,2,   167.9,2,    6.48,2,    8.91,2,    0.00,2,    0.48,2,-999.000,9,-999.000,9,  2331.2,2,  2590.3,2,   7.8880,2,    25.00,-999.000,9,-999.000,-999.0000,9, -999.00,9, -999.00,9,  -999.0,9,  -999.0,-999.000,9, -999.00,      68.80,2
06MT20110405,     MedSea,     324,          1,     212404,         15,2,20110421,       2323,    38.6500,     5.6000,       2882,   307.9,  13.3817,  38.5189,2,    167.3,2,   164.3,2,    5.57,2,    9.18,2,    0.01,2,    0.49,2,   1.039,2,-999.000,9,  2334.2,2,  2586.7,2,   7.8763,2,    25.00,-999.000,9,-999.000,-999.0000,9, -999.00,9, -999.00,9,  -999.0,9,  -999.0,-999.000,9, -999.00,      65.70,2
06MT20110405,     MedSea,     324,          1,     212405,         16,2,20110421,       2326,    38.6500,     5.6000,       2882,   256.8,  13.3716,  38.4719,2,    171.9,2,   169.7,2,    4.72,2,    8.58,2,    0.00,2,    0.44,2,   1.175,2,-999.000,9,  2329.9,2,  2579.8,2,   7.8743,2,    25.00,-999.000,9,-999.000,-999.0000,9, -999.00,9, -999.00,9,  -999.0,9,  -999.0,-999.000,9, -999.00,      66.00,2
06MT20110405,     MedSea,     324,          1,     212406,         17,2,20110421,       2329,    38.6500,     5.6000,       2882,   206.0,  13.2715,  38.3531,2,    187.4,2,   184.1,2,    3.22,2,    7.14,2,    0.00,2,    0.35,2,   1.362,2,-999.000,9,  2316.9,2,  2571.1,2,   7.8814,2,    25.00,-999.000,9,-999.000,-999.0000,9, -999.00,9, -999.00,9,  -999.0,9,  -999.0,-999.000,9, -999.00,      64.70,2
06MT20110405,     MedSea,     324,          1,     212407,         18,2,20110421,       2331,    38.6500,     5.6000,       2882,   156.0,  13.4622,  38.2543,2,    199.4,2,   197.2,2,    2.07,2,    5.31,2,    0.01,2,    0.23,2,   1.482,2,-999.000,9,  2301.2,2,  2560.9,2,   7.8967,2,    25.00,-999.000,9,-999.000,-999.0000,9, -999.00,9, -999.00,9,  -999.0,9,  -999.0,-999.000,9, -999.00,      62.90,2
06MT20110405,     MedSea,     324,          1,     212408,         19,2,20110421,       2334,    38.6500,     5.6000,       2882,   105.0,  13.7098,  37.9719,2,    229.7,2,   227.6,2,    0.71,2,    1.93,2,    0.02,2,    0.08,2,   1.520,2,-999.000,9,  2255.4,2,  2537.3,2,   7.9417,2,    25.00,-999.000,9,-999.000,-999.0000,9, -999.00,9, -999.00,9,  -999.0,9,  -999.0,-999.000,9, -999.00,      53.30,2
06MT20110405,     MedSea,     324,          1,     212409,         20,2,20110421,       2336,    38.6500,     5.6000,       2882,    79.9,  14.0354,  37.8311,2,    231.0,2,   230.0,2,    0.58,2,    1.47,2,    0.03,2,    0.07,2,-999.000,9,-999.000,9,  2240.1,2,  2524.8,2,   7.9487,2,    25.00,-999.000,9,-999.000,-999.0000,9, -999.00,9, -999.00,9,  -999.0,9,  -999.0,-999.000,9, -999.00,      54.70,2
06MT20110405,     MedSea,     324,          1,     212410,         21,2,20110421,       2337,    38.6500,     5.6000,       2882,    53.9,  14.4150,  37.6186,2,    229.9,2,   231.6,2,    0.49,2,    1.35,2,    0.16,2,    0.07,2,   1.539,2,-999.000,9,  2227.2,2,  2510.8,2,   7.9528,2,    25.00,-999.000,9,-999.000,-999.0000,9, -999.00,9, -999.00,9,  -999.0,9,  -999.0,-999.000,9, -999.00,      52.50,2
06MT20110405,     MedSea,     324,          1,     212411,         22,2,20110421,       2339,    38.6500,     5.6000,       2882,    29.5,  15.4215,  37.3127,2,    248.4,2,   249.2,2,    0.29,2,    0.00,2,    0.01,2,    0.01,2,-999.000,9,-999.000,9,  2182.3,2,  2476.2,2,   7.9781,2,    25.00,-999.000,9,-999.000,-999.0000,9, -999.00,9, -999.00,9,  -999.0,9,  -999.0,-999.000,9, -999.00,      50.10,2
06MT20110405,     MedSea,     324,          1,     212412,         23,2,20110421,       2341,    38.6500,     5.6000,       2882,     9.7,  17.1007,  36.9566,2,    236.4,2,   238.1,2,    0.29,2,    0.01,2,    0.00,2,    0.03,2,   1.412,2,-999.000,9,  2151.9,2,  2443.1,2,   7.9817,2,    25.00,-999.000,9,-999.000,-999.0000,9, -999.00,9, -999.00,9,  -999.0,9,  -999.0,-999.000,9, -999.00,      44.20,2