BOTTLE,20170314CCHSIORJL
EXPOCODE,SECT_ID,STNNBR,CASTNO,BIONBR,BTLNBR,BTLNBR_FLAG_W,DATE,TIME,LATITUDE,LONGITUDE,DEPTH,CTDPRS,CTDTMP,CTDSAL,CTDSAL_FLAG_W,CTDOXY,CTDOXY_FLAG_W,OXYGEN,OXYGEN_FLAG_W,SILCAT,SILCAT_FLAG_W,NITRAT,NITRAT_FLAG_W,NITRIT,NITRIT_FLAG_W,PHSPHT,PHSPHT_FLAG_W,CFC-12,CFC-12_FLAG_W,SF6,SF6_FLAG_W,TCARBN,TCARBN_FLAG_W,ALKALI,ALKALI_FLAG_W,PH_TOT,PH_TOT_FLAG_W,PH_TMP,TRITUM,TRITUM_FLAG_W,TRITER,HELIUM,HELIUM_FLAG_W,DELHE3,DELHE3_FLAG_W,DELC13,DELC13_FLAG_W,DELC14,DELC14_FLAG_W,C14ERR,NEON,NEON_FLAG_W,DELHER,BARIUM,BARIUM_FLAG_W
,,,,,,,,,,,METERS,DBAR,ITS-90,PSS-78,,UMOL/KG,,UMOL/KG,,UMOL/KG,,UMOL/KG,,UMOL/KG,,UMOL/KG,,PMOL/KG,,FMOL/KG,,UMOL/KG,,UMOL/KG,,,,DEG C,TU,,TU,NMOL/KG,,PERCNT,,/MILLE,,/MILLE,,/MILLE,NMOL/KG,,PERCNT,UM/KG,
06MT20110405,     MedSea,     336,          1,     213121,          1,2,20110425,       0051,    36.0000,    -5.0000,        808,   797.9,  13.0061,  38.4690,2,    174.9,2,  -999.0,9, -999.00,9, -999.00,9, -999.00,9, -999.00,9,-999.000,9,-999.000,9,  -999.0,9,  -999.0,9,-999.0000,9,  -999.00,-999.000,9,-999.000,-999.0000,9, -999.00,9, -999.00,9,  -999.0,9,  -999.0,-999.000,9, -999.00,     -999.0,9
06MT20110405,     MedSea,     336,          1,     213122,          2,2,20110425,       0052,    36.0000,    -5.0000,        808,   798.1,  13.0060,  38.4692,2,    175.4,2,  -999.0,9, -999.00,9, -999.00,9, -999.00,9, -999.00,9,-999.000,9,-999.000,9,  -999.0,9,  -999.0,9,-999.0000,9,  -999.00,-999.000,9,-999.000,-999.0000,9, -999.00,9, -999.00,9,  -999.0,9,  -999.0,-999.000,9, -999.00,     -999.0,9
06MT20110405,     MedSea,     336,          1,     213123,          3,2,20110425,       0052,    36.0000,    -5.0000,        808,   798.0,  13.0060,  38.4691,2,    174.3,2,  -999.0,9, -999.00,9, -999.00,9, -999.00,9, -999.00,9,-999.000,9,-999.000,9,  -999.0,9,  -999.0,9,-999.0000,9,  -999.00,-999.000,9,-999.000,-999.0000,9, -999.00,9, -999.00,9,  -999.0,9,  -999.0,-999.000,9, -999.00,     -999.0,9
06MT20110405,     MedSea,     336,          1,     213124,          4,2,20110425,       0052,    36.0000,    -5.0000,        808,   798.1,  13.0060,  38.4692,2,    175.5,2,  -999.0,9, -999.00,9, -999.00,9, -999.00,9, -999.00,9,-999.000,9,-999.000,9,  -999.0,9,  -999.0,9,-999.0000,9,  -999.00,-999.000,9,-999.000,-999.0000,9, -999.00,9, -999.00,9,  -999.0,9,  -999.0,-999.000,9, -999.00,     -999.0,9
06MT20110405,     MedSea,     336,          1,     213125,          5,2,20110425,       0052,    36.0000,    -5.0000,        808,   798.0,  13.0061,  38.4691,2,    175.9,2,   186.6,2,    9.32,2,    9.04,2,    0.01,2,    0.40,2,   0.761,2,-999.000,9,  2321.8,2,  2588.5,2,   7.8996,2,    25.00,-999.000,9,-999.000,-999.0000,9, -999.00,9, -999.00,9,  -999.0,9,  -999.0,-999.000,9, -999.00,      80.60,2
06MT20110405,     MedSea,     336,          1,     213126,          6,2,20110425,       0056,    36.0000,    -5.0000,        808,   709.6,  13.0228,  38.4738,2,    175.3,2,   185.1,2,    8.59,2,    9.13,2,    0.01,2,    0.42,2,-999.000,9,-999.000,9,  2320.7,2,  2587.4,2,   7.9016,2,    25.00,-999.000,9,-999.000,-999.0000,9, -999.00,9, -999.00,9,  -999.0,9,  -999.0,-999.000,9, -999.00,      77.60,2
06MT20110405,     MedSea,     336,          1,     213127,          7,2,20110425,       0056,    36.0000,    -5.0000,        808,   709.6,  13.0228,  38.4738,2,    175.8,2,  -999.0,9,    8.74,2,    9.08,2,    0.01,2,    0.41,2,   0.697,2,-999.000,9,  2321.0,2,  2588.0,2,   7.9013,2,    25.00,-999.000,9,-999.000,-999.0000,9, -999.00,9, -999.00,9,  -999.0,9,  -999.0,-999.000,9, -999.00,      79.20,2
06MT20110405,     MedSea,     336,          1,     213128,          8,2,20110425,       0101,    36.0000,    -5.0000,        808,   608.1,  13.0510,  38.4826,2,    174.3,2,   181.7,2,    8.30,2,    9.23,2,    0.01,2,    0.42,2,   0.685,2,-999.000,9,  2321.6,2,  2586.4,2,   7.9012,2,    25.00,-999.000,9,-999.000,-999.0000,9, -999.00,9, -999.00,9,  -999.0,9,  -999.0,-999.000,9, -999.00,      79.20,2
06MT20110405,     MedSea,     336,          1,     213129,          9,2,20110425,       0105,    36.0000,    -5.0000,        808,   507.2,  13.1108,  38.4982,2,    172.1,2,  -999.0,9,    8.07,2,    9.54,2,    0.01,2,    0.43,2,   0.714,2,-999.000,9,  2325.2,2,  2588.3,2,   7.8958,2,    25.00,-999.000,9,-999.000,-999.0000,9, -999.00,9, -999.00,9,  -999.0,9,  -999.0,-999.000,9, -999.00,      72.90,2
06MT20110405,     MedSea,     336,          1,     213130,         10,2,20110425,       0108,    36.0000,    -5.0000,        808,   405.7,  13.1658,  38.5082,2,    167.7,2,   173.6,2,    7.75,2,    9.94,2,    0.01,2,    0.45,2,   0.773,2,-999.000,9,  2329.2,2,  2588.9,2,   7.8881,2,    25.00,-999.000,9,-999.000,-999.0000,9, -999.00,9, -999.00,9,  -999.0,9,  -999.0,-999.000,9, -999.00,      74.60,2
06MT20110405,     MedSea,     336,          1,     213131,         11,2,20110425,       0112,    36.0000,    -5.0000,        808,   305.0,  13.1233,  38.4486,2,    166.6,2,   169.9,2,    7.63,2,   10.14,2,    0.01,2,    0.47,2,   0.935,2,-999.000,9,  2331.5,2,  2581.5,2,   7.8761,2,    25.00,-999.000,9,-999.000,-999.0000,9, -999.00,9, -999.00,9,  -999.0,9,  -999.0,-999.000,9, -999.00,      70.50,2
06MT20110405,     MedSea,     336,          1,     213132,         12,2,20110425,       0114,    36.0000,    -5.0000,        808,   253.6,  13.1513,  38.3978,2,    170.1,2,  -999.0,9,    6.48,2,   10.12,2,    0.01,2,    0.44,2,   1.033,2,-999.000,9,  2329.1,2,  2579.6,2,   7.8722,2,    25.00,-999.000,9,-999.000,-999.0000,9, -999.00,9, -999.00,9,  -999.0,9,  -999.0,-999.000,9, -999.00,      69.60,2
06MT20110405,     MedSea,     336,          1,     213133,         13,2,20110425,       0116,    36.0000,    -5.0000,        808,   203.7,  13.2842,  38.2264,2,    181.7,2,   184.1,3,    4.57,2,    8.71,2,    0.01,2,    0.35,2,-999.000,9,-999.000,9,  2316.3,2,  2564.6,2,   7.8761,2,    25.00,-999.000,9,-999.000,-999.0000,9, -999.00,9, -999.00,9,  -999.0,9,  -999.0,-999.000,9, -999.00,      63.00,2
06MT20110405,     MedSea,     336,          1,     213134,         14,2,20110425,       0116,    36.0000,    -5.0000,        808,   203.8,  13.3187,  38.2278,2,    184.7,2,  -999.0,9, -999.00,9, -999.00,9, -999.00,9, -999.00,9,   1.228,3,-999.000,9,  -999.0,9,  -999.0,9,-999.0000,9,  -999.00,-999.000,9,-999.000,-999.0000,9, -999.00,9, -999.00,9,  -999.0,9,  -999.0,-999.000,9, -999.00,     -999.0,9
06MT20110405,     MedSea,     336,          1,     213135,         15,2,20110425,       0118,    36.0000,    -5.0000,        808,   153.0,  13.7039,  37.9637,2,    198.4,2,  -999.0,9,    3.10,2,    6.12,2,    0.03,2,    0.24,2,   1.368,3,-999.000,9,  2278.9,2,  2537.2,2,   7.9035,2,    25.00,-999.000,9,-999.000,-999.0000,9, -999.00,9, -999.00,9,  -999.0,9,  -999.0,-999.000,9, -999.00,      62.20,2
06MT20110405,     MedSea,     336,          1,     213136,         16,2,20110425,       0120,    36.0000,    -5.0000,        808,   102.4,  14.4232,  37.3580,2,    200.9,2,  -999.0,9, -999.00,9, -999.00,9, -999.00,9, -999.00,9,   1.310,2,-999.000,9,  -999.0,9,  -999.0,9,-999.0000,9,  -999.00,-999.000,9,-999.000,-999.0000,9, -999.00,9, -999.00,9,  -999.0,9,  -999.0,-999.000,9, -999.00,     -999.0,9
06MT20110405,     MedSea,     336,          1,     213137,         17,2,20110425,       0121,    36.0000,    -5.0000,        808,   102.5,  14.4281,  37.3660,2,    199.6,2,   204.5,2,    3.21,2,    6.15,2,    0.05,2,    0.29,2,-999.000,9,-999.000,9,  2224.5,2,  2481.2,2,   7.9105,2,    25.00,-999.000,9,-999.000,-999.0000,9, -999.00,9, -999.00,9,  -999.0,9,  -999.0,-999.000,9, -999.00,      59.30,2
06MT20110405,     MedSea,     336,          1,     213138,         18,2,20110425,       0122,    36.0000,    -5.0000,        808,    77.5,  15.5195,  36.7195,2,    220.6,2,  -999.0,9,    1.29,2,    3.43,2,    0.15,2,    0.18,2,-999.000,9,-999.000,9,  2165.4,2,  2430.5,2,   7.9413,2,    25.00,-999.000,9,-999.000,-999.0000,9, -999.00,9, -999.00,9,  -999.0,9,  -999.0,-999.000,9, -999.00,      51.60,2
06MT20110405,     MedSea,     336,          1,     213139,         19,2,20110425,       0124,    36.0000,    -5.0000,        808,    51.9,  16.4709,  36.4433,2,    233.6,2,   237.1,3,    0.37,2,    1.12,2,    0.10,2,    0.06,2,   1.452,2,-999.000,9,  2121.4,2,  2400.2,2,   7.9695,2,    25.00,-999.000,9,-999.000,-999.0000,9, -999.00,9, -999.00,9,  -999.0,9,  -999.0,-999.000,9, -999.00,      45.60,2
06MT20110405,     MedSea,     336,          1,     213140,         20,2,20110425,       0124,    36.0000,    -5.0000,        808,    51.9,  16.4733,  36.4433,2,    232.9,2,  -999.0,9, -999.00,9, -999.00,9, -999.00,9, -999.00,9,-999.000,9,-999.000,9,  -999.0,9,  -999.0,9,-999.0000,9,  -999.00,-999.000,9,-999.000,-999.0000,9, -999.00,9, -999.00,9,  -999.0,9,  -999.0,-999.000,9, -999.00,     -999.0,9
06MT20110405,     MedSea,     336,          1,     213141,         21,2,20110425,       0126,    36.0000,    -5.0000,        808,    26.8,  16.6559,  36.3622,2,    234.3,2,   237.6,2,    0.32,2,    1.12,2,    0.06,2,    0.06,2,-999.000,9,-999.000,9,  2112.9,2,  2393.6,2,   7.9734,2,    25.00,-999.000,9,-999.000,-999.0000,9, -999.00,9, -999.00,9,  -999.0,9,  -999.0,-999.000,9, -999.00,      44.10,2
06MT20110405,     MedSea,     336,          1,     213142,         22,2,20110425,       0126,    36.0000,    -5.0000,        808,    26.9,  16.6619,  36.3623,2,    232.9,2,  -999.0,9, -999.00,9, -999.00,9, -999.00,9, -999.00,9,-999.000,9,-999.000,9,  -999.0,9,  -999.0,9,-999.0000,9,  -999.00,-999.000,9,-999.000,-999.0000,9, -999.00,9, -999.00,9,  -999.0,9,  -999.0,-999.000,9, -999.00,     -999.0,9
06MT20110405,     MedSea,     336,          1,     213143,         23,2,20110425,       0128,    36.0000,    -5.0000,        808,     7.0,  16.8644,  36.3116,2,    231.8,2,   238.0,2,    0.32,2,    1.11,2,    0.06,2,    0.06,2,   1.447,2,-999.000,9,  2110.4,2,  2388.4,2,   7.9744,2,    25.00,-999.000,9,-999.000,-999.0000,9, -999.00,9, -999.00,9,  -999.0,9,  -999.0,-999.000,9, -999.00,      44.50,2
06MT20110405,     MedSea,     336,          1,     213144,         24,2,20110425,       0128,    36.0000,    -5.0000,        808,     7.0,  17.1095,  36.3116,2,    235.0,2,  -999.0,9, -999.00,9, -999.00,9, -999.00,9, -999.00,9,-999.000,9,-999.000,9,  -999.0,9,  -999.0,9,-999.0000,9,  -999.00,-999.000,9,-999.000,-999.0000,9, -999.00,9, -999.00,9,  -999.0,9,  -999.0,-999.000,9, -999.00,     -999.0,9