BOTTLE,20170314CCHSIORJL
EXPOCODE,SECT_ID,STNNBR,CASTNO,BIONBR,BTLNBR,BTLNBR_FLAG_W,DATE,TIME,LATITUDE,LONGITUDE,DEPTH,CTDPRS,CTDTMP,CTDSAL,CTDSAL_FLAG_W,CTDOXY,CTDOXY_FLAG_W,OXYGEN,OXYGEN_FLAG_W,SILCAT,SILCAT_FLAG_W,NITRAT,NITRAT_FLAG_W,NITRIT,NITRIT_FLAG_W,PHSPHT,PHSPHT_FLAG_W,CFC-12,CFC-12_FLAG_W,SF6,SF6_FLAG_W,TCARBN,TCARBN_FLAG_W,ALKALI,ALKALI_FLAG_W,PH_TOT,PH_TOT_FLAG_W,PH_TMP,TRITUM,TRITUM_FLAG_W,TRITER,HELIUM,HELIUM_FLAG_W,DELHE3,DELHE3_FLAG_W,DELC13,DELC13_FLAG_W,DELC14,DELC14_FLAG_W,C14ERR,NEON,NEON_FLAG_W,DELHER,BARIUM,BARIUM_FLAG_W
,,,,,,,,,,,METERS,DBAR,ITS-90,PSS-78,,UMOL/KG,,UMOL/KG,,UMOL/KG,,UMOL/KG,,UMOL/KG,,UMOL/KG,,PMOL/KG,,FMOL/KG,,UMOL/KG,,UMOL/KG,,,,DEG C,TU,,TU,NMOL/KG,,PERCNT,,/MILLE,,/MILLE,,/MILLE,NMOL/KG,,PERCNT,UM/KG,
06MT20110405,     MedSea,     307,          1,     212046,          1,2,20110415,       1209,    37.9000,    19.3000,       3346,  3336.5,  13.9669,  38.7309,2,    196.8,2,  -999.0,9, -999.00,9, -999.00,9, -999.00,9, -999.00,9,-999.000,9,-999.000,9,  -999.0,9,  -999.0,9,-999.0000,9,  -999.00,-999.000,9,-999.000,-999.0000,9, -999.00,9, -999.00,9,  -999.0,9,  -999.0,-999.000,9, -999.00,     -999.0,9
06MT20110405,     MedSea,     307,          1,     212047,          2,2,20110415,       1210,    37.9000,    19.3000,       3346,  3336.5,  13.9668,  38.7309,2,    196.5,2,   196.0,2,    6.60,2,    4.50,2,    0.01,2,    0.15,2,-999.000,9,-999.000,9,  2310.3,2,  2617.6,2,   7.9648,2,    25.00,   0.660,2,   0.020,-999.0000,9, -999.00,9,    1.15,2,     5.4,2,     0.4,-999.000,9, -999.00,      83.70,2
06MT20110405,     MedSea,     307,          1,     212048,          3,2,20110415,       1217,    37.9000,    19.3000,       3346,  3056.4,  13.9201,  38.7307,2,    197.2,2,   196.0,2,    6.56,2,    4.52,2,    0.02,2,    0.16,2,   0.608,2,   0.258,2,  2309.9,2,  2614.9,2,   7.9654,2,    25.00,   0.660,2,   0.040,   1.8600,2,    2.31,2,    1.09,2,    -9.1,2,     0.3,   7.200,2, -999.00,      70.40,2
06MT20110405,     MedSea,     307,          1,     212049,          4,2,20110415,       1233,    37.9000,    19.3000,       3346,  2544.8,  13.8588,  38.7336,2,    195.8,2,   195.2,2,    6.59,2,    4.56,2,    0.01,2,    0.16,2,   0.617,2,   0.286,2,  2308.6,2,  2617.7,2,   7.9670,2,    25.00,   0.610,2,   0.050,   1.8200,2,    2.85,2,    1.15,2,    -1.1,2,     0.3,   7.080,2, -999.00,      76.40,2
06MT20110405,     MedSea,     307,          1,     212050,          5,2,20110415,       1245,    37.9000,    19.3000,       3346,  2033.9,  13.8157,  38.7401,2,    194.9,2,   193.3,2,    6.63,2,    4.60,2,    0.00,2,    0.18,2,   0.633,2,   0.307,2,  2307.0,2,  2614.4,2,   7.9697,2,    25.00,   0.580,2,   0.020,-999.0000,9, -999.00,9,    1.12,2,    -9.6,2,     0.3,-999.000,9, -999.00,      92.10,2
06MT20110405,     MedSea,     307,          1,     212051,          6,2,20110415,       1257,    37.9000,    19.3000,       3346,  1524.8,  13.7823,  38.7448,2,    191.0,2,   189.6,2,    7.06,2,    4.75,2,    0.00,2,    0.18,2,-999.000,9,-999.000,9,  2306.6,2,  2612.7,2,   7.9690,2,    25.00,   0.550,2,   0.010,   1.8200,2,    4.15,2,    1.18,2,   -16.3,2,     0.3,   7.120,2, -999.00,      77.10,2
06MT20110405,     MedSea,     307,          1,     212052,          7,2,20110415,       1304,    37.9000,    19.3000,       3346,  1269.0,  13.7551,  38.7427,2,    188.1,2,   193.7,3,    7.13,2,    4.96,2,    0.00,2,    0.21,2,   0.432,2,   0.235,2,  2306.0,2,  2611.2,2,   7.9681,2,    25.00,   0.480,2,   0.010,   1.8100,2,    2.81,2,    1.16,2,   -21.9,2,     0.3,   7.150,2, -999.00,      75.80,2
06MT20110405,     MedSea,     307,          1,     212053,          8,2,20110415,       1310,    37.9000,    19.3000,       3346,  1016.3,  13.7545,  38.7485,2,    185.4,2,   184.8,2,    7.06,2,    5.19,2,    0.00,2,    0.21,2,   0.492,2,   0.314,2,  2307.1,2,  2613.7,2,   7.9652,2,    25.00,   0.500,2,   0.010,   1.8200,2,    3.43,2,    1.38,3,   -16.9,2,     0.3,   7.200,2, -999.00,      75.40,2
06MT20110405,     MedSea,     307,          1,     212054,          9,2,20110415,       1315,    37.9000,    19.3000,       3346,   813.5,  13.8362,  38.7733,2,    184.5,2,   183.3,2,    6.57,2,    5.32,2,    0.00,2,    0.23,2,   0.576,2,   0.351,2,  2313.4,2,  2615.0,2,   7.9620,2,    25.00,   0.580,2,   0.020,   1.8100,2,    3.90,2,    1.13,2,   -14.8,2,     0.3,   7.160,2, -999.00,      75.10,2
06MT20110405,     MedSea,     307,          1,     212055,         10,2,20110415,       1321,    37.9000,    19.3000,       3346,   610.3,  14.0441,  38.8273,2,    187.9,2,   186.3,2,    5.50,2,    5.30,2,    0.00,2,    0.21,2,   0.677,2,   0.459,2,  2317.3,2,  2616.6,2,   7.9582,2,    25.00,   0.710,2,   0.020,   1.7900,2,    3.28,2,    0.98,2,     2.6,2,     0.3,   7.150,2, -999.00,      69.80,2
06MT20110405,     MedSea,     307,          1,     212056,         11,2,20110415,       1323,    37.9000,    19.3000,       3346,   508.4,  14.1227,  38.8438,2,    189.4,2,   187.3,2,    4.90,2,    5.12,2,    0.01,2,    0.20,2,   0.887,2,    0.59,2,  2320.3,2,  2616.3,2,   7.9541,2,    25.00,   0.790,2,   0.020,   1.7900,2,    3.48,2,    0.99,2,    14.3,2,     0.2,   7.180,2, -999.00,      68.00,2
06MT20110405,     MedSea,     307,          1,     212057,         12,2,20110415,       1327,    37.9000,    19.3000,       3346,   407.4,  14.4001,  38.9060,2,    195.0,2,   192.5,2,    4.08,2,    4.53,2,    0.01,2,    0.17,2,   1.090,2,   0.849,2,  2322.2,2,  2621.4,2,   7.9557,2,    25.00,   0.890,2,   0.210,   1.7700,2,    2.49,2,    0.95,2,    24.5,2,     0.3,   7.120,2, -999.00,      69.10,2
06MT20110405,     MedSea,     307,          1,     212058,         13,2,20110415,       1330,    37.9000,    19.3000,       3346,   306.2,  14.6843,  38.9664,2,    198.3,2,   196.4,2,    3.22,2,    4.03,2,    0.00,2,    0.14,2,   1.232,2,   0.929,2,  2322.7,2,  2623.6,2,   7.9577,2,    25.00,   0.910,2,   0.020,   1.7600,2,    1.83,2,    1.45,3,    31.2,2,     0.2,   7.100,2, -999.00,      64.90,2
06MT20110405,     MedSea,     307,          1,     212059,         14,2,20110415,       1333,    37.9000,    19.3000,       3346,   255.3,  14.8876,  38.9860,2,    198.6,2,   197.4,2,    2.70,2,    3.84,2,    0.00,2,    0.11,2,   1.303,2,   1.056,2,  2322.4,2,  2624.0,2,   7.9564,2,    25.00,   0.930,2,   0.020,   1.7500,2,    1.18,2,    0.78,2,    38.3,2,     0.2,   7.050,2, -999.00,      60.40,2
06MT20110405,     MedSea,     307,          1,     212060,         15,2,20110415,       1335,    37.9000,    19.3000,       3346,   205.1,  15.2612,  39.0313,2,    202.4,2,   202.9,2,    2.07,2,    3.12,2,    0.01,2,    0.08,2,   1.367,2,   1.219,2,  2320.4,2,  2627.8,2,   7.9605,2,    25.00,   0.990,2,   0.220,   1.7400,2,    0.63,2,    0.89,2,    38.1,2,     0.4,   7.070,2, -999.00,      58.30,2
06MT20110405,     MedSea,     307,          1,     212061,         16,2,20110415,       1336,    37.9000,    19.3000,       3346,   154.1,  15.7250,  39.1053,2,    210.3,2,   206.4,2,    1.69,2,    2.51,2,    0.01,2,    0.06,2,   1.377,2,   1.208,2,  2319.2,2,  2627.8,2,   7.9690,3,    25.00,   1.040,2,   0.030,   1.7300,2,   -0.30,2,    0.88,2,    38.5,2,     0.3,   7.040,2, -999.00,      57.50,2
06MT20110405,     MedSea,     307,          1,     212062,         17,2,20110415,       1338,    37.9000,    19.3000,       3346,   104.1,  15.5764,  38.9372,2,    211.1,2,   211.3,2,    1.23,2,    1.81,2,    0.01,2,    0.01,2,-999.000,9,-999.000,9,  2314.2,2,  2622.0,2,   7.9659,2,    25.00,   1.030,2,   0.030,   1.7400,2,   -1.04,2,    0.75,2,    39.4,2,     0.3,   7.020,2, -999.00,      58.40,2
06MT20110405,     MedSea,     307,          1,     212063,         18,2,20110415,       1340,    37.9000,    19.3000,       3346,    78.4,  15.6851,  38.8269,2,    221.7,2,   220.7,2,    0.98,2,    0.90,2,    0.03,2,    0.00,2,   1.427,2,   1.307,2,  2301.6,2,  2618.4,2,   7.9800,2,    25.00,   1.070,2,   0.030,   1.7400,2,   -6.89,2,    0.72,2,    45.4,2,     0.3,   7.040,2, -999.00,      57.10,2
06MT20110405,     MedSea,     307,          1,     212064,         19,2,20110415,       1341,    37.9000,    19.3000,       3346,    53.4,  15.3315,  38.5639,2,    239.1,2,   233.7,2,    0.84,2,    0.22,2,    0.01,2,    0.00,2,   1.472,2,   1.563,2,  2279.8,2,  2601.6,2,   7.9930,2,    25.00,   1.040,2,   0.030,   1.7500,2,   -1.34,2,    0.87,2,    43.0,2,     0.3,   7.120,2, -999.00,      55.20,2
06MT20110405,     MedSea,     307,          1,     212065,         20,2,20110415,       1343,    37.9000,    19.3000,       3346,    27.6,  16.2585,  38.5176,2,    240.8,2,   238.3,2,    0.77,2,    0.05,2,    0.00,2,    0.00,2,-999.000,9,-999.000,9,  2267.0,2,  2589.6,2,   7.9956,2,    25.00,   1.070,2,   0.030,   1.7400,2,   -2.76,2,    0.73,2,    43.5,2,     0.3,   7.120,2, -999.00,      56.60,2
06MT20110405,     MedSea,     307,          1,     212066,         21,2,20110415,       1345,    37.9000,    19.3000,       3346,     8.0,  16.2955,  38.5181,2,    240.8,2,   240.3,2,    0.72,2,   -0.01,2,    0.00,2,    0.00,2,   1.479,2,   1.549,2,  2265.2,2,  2585.0,2,   7.9968,2,    25.00,   1.050,2,   0.020,   1.7300,2,   -1.83,2,    0.91,2,    44.2,2,     0.3,   7.070,2, -999.00,      51.60,2
06MT20110405,     MedSea,     307,          1,     -999.0,         22,2,20110415,       1345,    37.9000,    19.3000,       3346,     8.1,  16.3048,  38.5181,2,    241.5,2,  -999.0,9, -999.00,9, -999.00,9, -999.00,9, -999.00,9,-999.000,9,-999.000,9,  -999.0,9,  -999.0,9,-999.0000,9,  -999.00,-999.000,9,-999.000,-999.0000,9, -999.00,9, -999.00,9,  -999.0,9,  -999.0,-999.000,9, -999.00,     -999.0,9
06MT20110405,     MedSea,     307,          1,     -999.0,         23,2,20110415,       1345,    37.9000,    19.3000,       3346,     8.0,  16.3052,  38.5181,2,    241.0,2,  -999.0,9, -999.00,9, -999.00,9, -999.00,9, -999.00,9,-999.000,9,-999.000,9,  -999.0,9,  -999.0,9,-999.0000,9,  -999.00,-999.000,9,-999.000,-999.0000,9, -999.00,9, -999.00,9,  -999.0,9,  -999.0,-999.000,9, -999.00,     -999.0,9
06MT20110405,     MedSea,     307,          1,     212067,         24,2,20110415,       1346,    37.9000,    19.3000,       3346,     8.1,  16.2984,  38.5181,2,    241.5,2,  -999.0,9, -999.00,9, -999.00,9, -999.00,9, -999.00,9,-999.000,9,-999.000,9,  -999.0,9,  -999.0,9,-999.0000,9,  -999.00,-999.000,9,-999.000,-999.0000,9, -999.00,9, -999.00,9,  -999.0,9,  -999.0,-999.000,9, -999.00,     -999.0,9