BOTTLE,20170314CCHSIORJL
EXPOCODE,SECT_ID,STNNBR,CASTNO,BIONBR,BTLNBR,BTLNBR_FLAG_W,DATE,TIME,LATITUDE,LONGITUDE,DEPTH,CTDPRS,CTDTMP,CTDSAL,CTDSAL_FLAG_W,CTDOXY,CTDOXY_FLAG_W,OXYGEN,OXYGEN_FLAG_W,SILCAT,SILCAT_FLAG_W,NITRAT,NITRAT_FLAG_W,NITRIT,NITRIT_FLAG_W,PHSPHT,PHSPHT_FLAG_W,CFC-12,CFC-12_FLAG_W,SF6,SF6_FLAG_W,TCARBN,TCARBN_FLAG_W,ALKALI,ALKALI_FLAG_W,PH_TOT,PH_TOT_FLAG_W,PH_TMP,TRITUM,TRITUM_FLAG_W,TRITER,HELIUM,HELIUM_FLAG_W,DELHE3,DELHE3_FLAG_W,DELC13,DELC13_FLAG_W,DELC14,DELC14_FLAG_W,C14ERR,NEON,NEON_FLAG_W,DELHER,BARIUM,BARIUM_FLAG_W
,,,,,,,,,,,METERS,DBAR,ITS-90,PSS-78,,UMOL/KG,,UMOL/KG,,UMOL/KG,,UMOL/KG,,UMOL/KG,,UMOL/KG,,PMOL/KG,,FMOL/KG,,UMOL/KG,,UMOL/KG,,,,DEG C,TU,,TU,NMOL/KG,,PERCNT,,/MILLE,,/MILLE,,/MILLE,NMOL/KG,,PERCNT,UM/KG,
06MT20110405,     MedSea,     293,          1,     209758,          1,2,20110409,       1544,    34.0000,    34.4200,       2050,  2039.8,  13.9600,  38.7869,2,    186.2,2,  -999.0,9, -999.00,9, -999.00,9, -999.00,9, -999.00,9,-999.000,9,-999.000,9,  -999.0,9,  -999.0,9,-999.0000,9,  -999.00,-999.000,9,-999.000,-999.0000,9, -999.00,9, -999.00,9,  -999.0,9,  -999.0,-999.000,9, -999.00,     -999.0,9
06MT20110405,     MedSea,     293,          1,     209759,          2,2,20110409,       1544,    34.0000,    34.4200,       2050,  2039.8,  13.9601,  38.7869,2,    186.5,2,  -999.0,9, -999.00,9, -999.00,9, -999.00,9, -999.00,9,-999.000,9,-999.000,9,  -999.0,9,  -999.0,9,-999.0000,9,  -999.00,-999.000,9,-999.000,-999.0000,9, -999.00,9, -999.00,9,  -999.0,9,  -999.0,-999.000,9, -999.00,     -999.0,9
06MT20110405,     MedSea,     293,          1,     209760,          3,2,20110409,       1545,    34.0000,    34.4200,       2050,  2039.8,  13.9601,  38.7869,2,    186.1,2,  -999.0,9, -999.00,9, -999.00,9, -999.00,9, -999.00,9,-999.000,9,-999.000,9,  -999.0,9,  -999.0,9,-999.0000,9,  -999.00,   0.510,2,   0.010,-999.0000,9, -999.00,9, -999.00,9,  -999.0,9,  -999.0,-999.000,9, -999.00,      76.60,2
06MT20110405,     MedSea,     293,          1,     209761,          4,2,20110409,       1546,    34.0000,    34.4200,       2050,  2039.8,  13.9601,  38.7869,2,    186.1,2,   185.3,2,    7.84,6,    4.71,6,    0.00,6,    0.18,6,   0.596,2,   0.248,2,  2309.3,2,  2612.5,2,   7.9622,2,    25.00,   0.520,2,   0.010,   1.8400,2,    3.05,2,    1.35,2,   -13.2,2,     0.3,   7.170,2, -999.00,      79.70,2
06MT20110405,     MedSea,     293,          1,     209762,          5,2,20110409,       1552,    34.0000,    34.4200,       2050,  1778.6,  13.9085,  38.7814,2,    185.7,2,   185.6,2,    7.72,6,    4.73,6,    0.00,6,    0.17,6,-999.000,9,-999.000,9,  2308.1,2,  2612.4,2,   7.9675,2,    25.00,   0.480,2,   0.020,-999.0000,9, -999.00,9,    1.35,2,   -22.5,2,     0.2,-999.000,9, -999.00,      77.00,2
06MT20110405,     MedSea,     293,          1,     209763,          6,2,20110409,       1558,    34.0000,    34.4200,       2050,  1524.0,  13.8425,  38.7687,2,    184.1,2,   184.1,2,    7.89,6,    4.84,6,    0.00,6,    0.18,6,   0.491,2,   0.229,2,  2308.2,2,  2611.6,2,   7.9720,2,    25.00,   0.440,2,   0.010,   1.8300,2,    2.36,2,    1.22,2,   -25.5,2,     0.2,   7.170,2, -999.00,      74.90,2
06MT20110405,     MedSea,     293,          1,     209764,          7,2,20110409,       1605,    34.0000,    34.4200,       2050,  1269.1,  13.7733,  38.7525,2,    181.5,2,   180.3,2,    8.24,6,    5.05,6,    0.00,6,    0.19,6,   0.392,2,   0.163,2,  2306.4,2,  2610.3,2,   7.9694,2,    25.00,   0.360,2,   0.010,   1.8400,2,    2.18,2,    1.22,2,   -35.4,2,     0.4,   7.150,2, -999.00,      79.10,2
06MT20110405,     MedSea,     293,          1,     209765,          8,2,20110409,       1610,    34.0000,    34.4200,       2050,  1016.4,  13.7308,  38.7445,2,    177.6,2,   186.6,3,    8.37,6,    5.30,6,    0.00,3,    0.21,6,   0.330,2,    0.08,2,  2306.3,2,  2610.8,2,   7.9656,2,    25.00,   0.300,2,   0.010,   1.8700,2,    0.87,2,    1.21,2,   -35.9,2,     0.3,   7.200,2, -999.00,      73.10,2
06MT20110405,     MedSea,     293,          1,     209766,          9,2,20110409,       1616,    34.0000,    34.4200,       2050,   812.8,  13.7651,  38.7573,2,    175.9,2,   175.4,2,    8.20,6,    5.58,6,    0.00,6,    0.22,6,   0.340,2,   0.105,2,  2308.6,2,  2610.8,2,   7.9618,2,    25.00,   0.340,2,   0.010,   1.8500,2,    1.33,2,    1.17,2,   -36.5,2,     0.2,   7.210,2, -999.00,     -999.0,9
06MT20110405,     MedSea,     293,          1,     209767,         10,2,20110409,       1621,    34.0000,    34.4200,       2050,   610.1,  13.8912,  38.7915,2,    174.0,2,   172.5,2,    8.19,6,    5.58,6,   -0.01,3,    0.22,6,-999.000,9,-999.000,9,  2313.3,2,  2611.0,2,   7.9575,2,    25.00,   0.380,2,   0.020,-999.0000,9, -999.00,9,    1.07,2,   -22.7,2,     0.2,-999.000,9, -999.00,      79.90,2
06MT20110405,     MedSea,     293,          1,     209768,         11,2,20110409,       1624,    34.0000,    34.4200,       2050,   509.0,  14.0910,  38.8287,2,    176.0,2,   173.5,2,    6.95,6,    5.73,6,    0.00,6,    0.24,6,   0.613,2,   0.313,2,  2314.9,2,  2610.8,2,   7.9680,3,    25.00,-999.000,9,-999.000,   1.8300,2,    1.38,2,    1.15,2,   -18.0,2,     0.3,   7.180,2, -999.00,     -999.0,9
06MT20110405,     MedSea,     293,          1,     209769,         12,2,20110409,       1627,    34.0000,    34.4200,       2050,   406.4,  14.7242,  38.9527,2,    183.6,2,   181.3,2,    6.92,6,    5.71,6,    0.00,6,    0.23,6,   0.886,2,   0.579,2,  2316.5,2,  2616.4,2,   7.9561,2,    25.00,   0.680,2,   0.020,   1.8000,2,    1.87,2,    0.96,2,     9.7,2,     0.3,   7.120,2, -999.00,      69.70,2
06MT20110405,     MedSea,     293,          1,     209770,         13,2,20110409,       1630,    34.0000,    34.4200,       2050,   306.2,  16.2560,  39.1863,2,    201.5,2,   199.1,2,    2.06,6,    2.49,6,    0.00,6,    0.06,6,   1.279,2,   0.937,2,  2310.8,2,  2624.9,2,   7.9766,2,    25.00,   0.900,2,   0.030,   1.7300,2,    0.15,2,    0.88,2,    36.2,2,     0.3,   7.060,2, -999.00,      61.10,2
06MT20110405,     MedSea,     293,          1,     209771,         14,2,20110409,       1632,    34.0000,    34.4200,       2050,   255.1,  16.7804,  39.2419,2,    205.8,2,   205.1,2,    1.05,6,    1.42,6,    0.00,6,    0.02,6,   1.365,2,   1.075,2,  2305.8,2,  2627.8,2,   7.9880,2,    25.00,-999.000,9,-999.000,   1.7700,2,   -0.31,2,    0.87,2,    50.3,2,     0.3,   7.070,2, -999.00,      55.10,2
06MT20110405,     MedSea,     293,          1,     209772,         15,2,20110409,       1634,    34.0000,    34.4200,       2050,   204.2,  17.1793,  39.1783,2,    208.8,2,   208.1,2,    0.81,6,    0.91,6,    0.00,6,    0.00,6,   1.363,2,    1.14,2,  2298.0,2,  2622.6,2,   7.9976,2,    25.00,   1.020,2,   0.020,   1.7300,2,   -0.47,2,    0.90,2,    35.4,2,     0.4,   6.940,2, -999.00,      52.30,2
06MT20110405,     MedSea,     293,          1,     209773,         16,2,20110409,       1637,    34.0000,    34.4200,       2050,   153.9,  17.7551,  39.1545,2,    214.3,2,   214.3,2,    0.70,6,    0.50,6,    0.03,6,    0.00,6,   1.557,3,    1.57,3,  2280.3,2,  2616.1,2,   8.0139,2,    25.00,   1.020,2,   0.020,-999.0000,9, -999.00,9,    0.91,2,    46.8,2,     0.4,-999.000,9, -999.00,      52.10,2
06MT20110405,     MedSea,     293,          1,     209774,         17,2,20110409,       1639,    34.0000,    34.4200,       2050,   103.9,  17.9624,  39.1179,2,    220.3,2,   220.3,2,    0.72,6,    0.21,6,    0.08,6,    0.00,6,   1.326,2,   1.183,2,  2273.1,2,  2614.3,2,   8.0167,2,    25.00,   1.060,2,   0.020,-999.0000,9, -999.00,9,    1.05,2,    40.7,2,     0.4,-999.000,9, -999.00,      55.50,2
06MT20110405,     MedSea,     293,          1,     209775,         18,2,20110409,       1640,    34.0000,    34.4200,       2050,    79.2,  18.2497,  39.1974,2,    224.2,2,   224.2,2,    0.70,6,    0.01,6,    0.01,6,    0.00,6,   1.306,2,   1.137,2,  2270.6,2,  2616.0,2,   8.0262,2,    25.00,   1.070,2,   0.020,   1.7100,2,   -1.76,2,    1.05,2,    38.2,2,     0.4,   6.950,2, -999.00,      57.50,2
06MT20110405,     MedSea,     293,          1,     209776,         19,2,20110409,       1642,    34.0000,    34.4200,       2050,    53.8,  18.2969,  39.1910,2,    225.8,2,   225.8,2,    0.69,6,    0.00,6,    0.00,6,    0.00,6,-999.000,9,-999.000,9,  2269.3,2,  2618.1,3,   8.0280,2,    25.00,   1.030,2,   0.020,-999.0000,9, -999.00,9,    1.11,2,    37.9,2,     0.3,-999.000,9, -999.00,      48.30,2
06MT20110405,     MedSea,     293,          1,     209777,         20,2,20110409,       1643,    34.0000,    34.4200,       2050,    53.9,  18.3262,  39.1907,2,    226.4,2,  -999.0,9, -999.00,9, -999.00,9, -999.00,9, -999.00,9,-999.000,9,-999.000,9,  -999.0,9,  -999.0,9,-999.0000,9,  -999.00,-999.000,9,-999.000,-999.0000,9, -999.00,9, -999.00,9,  -999.0,9,  -999.0,-999.000,9, -999.00,     -999.0,9
06MT20110405,     MedSea,     293,          1,     209778,         21,2,20110409,       1645,    34.0000,    34.4200,       2050,    28.4,  18.6877,  39.1648,2,    225.9,2,   226.6,2,    0.69,6,   -0.01,6,    0.00,6,    0.00,6,   1.307,2,   1.232,2,  2269.4,2,  2615.1,2,   8.0308,2,    25.00,   1.030,2,   0.020,   1.7000,2,   -1.60,2,    1.10,2,    33.6,2,     0.4,   6.930,2, -999.00,      52.70,2
06MT20110405,     MedSea,     293,          1,     209779,         22,2,20110409,       1646,    34.0000,    34.4200,       2050,     8.1,  18.7454,  39.1658,2,    226.2,2,   226.1,2,    0.68,6,   -0.01,6,    0.00,6,    0.00,6,   1.304,2,   1.244,2,  2269.1,2,  2613.6,2,   8.0318,2,    25.00,   1.060,2,   0.030,   1.7100,2,   -1.38,2,    1.12,2,    47.4,2,     0.3,   6.940,2, -999.00,      50.70,2
06MT20110405,     MedSea,     293,          1,     209780,         23,2,20110409,       1647,    34.0000,    34.4200,       2050,     8.3,  18.7454,  39.1657,2,    225.9,2,  -999.0,9, -999.00,9, -999.00,9, -999.00,9, -999.00,9,-999.000,9,-999.000,9,  -999.0,9,  -999.0,9,-999.0000,9,  -999.00,-999.000,9,-999.000,-999.0000,9, -999.00,9, -999.00,9,  -999.0,9,  -999.0,-999.000,9, -999.00,     -999.0,9
06MT20110405,     MedSea,     293,          1,     209781,         24,2,20110409,       1647,    34.0000,    34.4200,       2050,     8.6,  18.7509,  39.1656,2,    226.9,2,  -999.0,9, -999.00,9, -999.00,9, -999.00,9, -999.00,9,-999.000,9,-999.000,9,  -999.0,9,  -999.0,9,-999.0000,9,  -999.00,-999.000,9,-999.000,-999.0000,9, -999.00,9, -999.00,9,  -999.0,9,  -999.0,-999.000,9, -999.00,     -999.0,9