BOTTLE,20170314CCHSIORJL
EXPOCODE,SECT_ID,STNNBR,CASTNO,BIONBR,BTLNBR,BTLNBR_FLAG_W,DATE,TIME,LATITUDE,LONGITUDE,DEPTH,CTDPRS,CTDTMP,CTDSAL,CTDSAL_FLAG_W,CTDOXY,CTDOXY_FLAG_W,OXYGEN,OXYGEN_FLAG_W,SILCAT,SILCAT_FLAG_W,NITRAT,NITRAT_FLAG_W,NITRIT,NITRIT_FLAG_W,PHSPHT,PHSPHT_FLAG_W,CFC-12,CFC-12_FLAG_W,SF6,SF6_FLAG_W,TCARBN,TCARBN_FLAG_W,ALKALI,ALKALI_FLAG_W,PH_TOT,PH_TOT_FLAG_W,PH_TMP,TRITUM,TRITUM_FLAG_W,TRITER,HELIUM,HELIUM_FLAG_W,DELHE3,DELHE3_FLAG_W,DELC13,DELC13_FLAG_W,DELC14,DELC14_FLAG_W,C14ERR,NEON,NEON_FLAG_W,DELHER,BARIUM,BARIUM_FLAG_W
,,,,,,,,,,,METERS,DBAR,ITS-90,PSS-78,,UMOL/KG,,UMOL/KG,,UMOL/KG,,UMOL/KG,,UMOL/KG,,UMOL/KG,,PMOL/KG,,FMOL/KG,,UMOL/KG,,UMOL/KG,,,,DEG C,TU,,TU,NMOL/KG,,PERCNT,,/MILLE,,/MILLE,,/MILLE,NMOL/KG,,PERCNT,UM/KG,
06MT20110405,     MedSea,     332,          1,     213049,          1,2,20110424,       0251,    36.5000,    -1.4000,       2358,  2348.4,  13.2468,  38.4779,2,    195.2,2,  -999.0,9, -999.00,9, -999.00,9, -999.00,9, -999.00,9,-999.000,9,-999.000,9,  -999.0,9,  -999.0,9,-999.0000,9,  -999.00,-999.000,9,-999.000,-999.0000,9, -999.00,9, -999.00,9,  -999.0,9,  -999.0,-999.000,9, -999.00,     -999.0,9
06MT20110405,     MedSea,     332,          1,     213050,          2,2,20110424,       0251,    36.5000,    -1.4000,       2358,  2348.3,  13.2468,  38.4778,2,    195.6,2,   196.9,2,    8.18,2,    8.71,2,    0.00,2,    0.41,2,   0.908,2,-999.000,9,  2321.2,2,  2583.8,2,   7.9080,2,    25.00,-999.000,9,-999.000,-999.0000,9, -999.00,9, -999.00,9,  -999.0,9,  -999.0,-999.000,9, -999.00,      77.80,2
06MT20110405,     MedSea,     332,          1,     213051,          3,2,20110424,       0253,    36.5000,    -1.4000,       2358,  2287.6,  13.2375,  38.4770,2,    195.6,2,   196.1,2,    8.10,2,    8.69,2,    0.00,2,    0.36,2,-999.000,9,-999.000,9,  2321.2,2,  2584.8,2,   7.9016,2,    25.00,-999.000,9,-999.000,-999.0000,9, -999.00,9, -999.00,9,  -999.0,9,  -999.0,-999.000,9, -999.00,      76.20,2
06MT20110405,     MedSea,     332,          1,     213052,          4,2,20110424,       0300,    36.5000,    -1.4000,       2358,  2032.7,  13.1990,  38.4746,2,    194.7,2,   194.8,2,    8.04,2,    8.70,2,    0.00,2,    0.37,2,   0.857,2,-999.000,9,  2319.3,2,  2583.9,2,   7.9043,2,    25.00,-999.000,9,-999.000,-999.0000,9, -999.00,9, -999.00,9,  -999.0,9,  -999.0,-999.000,9, -999.00,      75.60,2
06MT20110405,     MedSea,     332,          1,     213053,          5,2,20110424,       0306,    36.5000,    -1.4000,       2358,  1777.8,  13.1618,  38.4736,2,    194.7,2,   194.9,2,    7.88,2,    8.74,2,   -0.01,3,    0.37,2,-999.000,9,-999.000,9,  2319.0,2,  2584.8,2,   7.9051,2,    25.00,-999.000,9,-999.000,-999.0000,9, -999.00,9, -999.00,9,  -999.0,9,  -999.0,-999.000,9, -999.00,      74.70,2
06MT20110405,     MedSea,     332,          1,     213054,          6,2,20110424,       0313,    36.5000,    -1.4000,       2358,  1523.4,  13.1163,  38.4697,2,    192.3,2,   192.8,2,    8.05,2,    8.80,2,   -0.01,3,    0.37,2,   0.753,2,-999.000,9,  2318.7,2,  2585.2,2,   7.9040,2,    25.00,-999.000,9,-999.000,-999.0000,9, -999.00,9, -999.00,9,  -999.0,9,  -999.0,-999.000,9, -999.00,      78.50,2
06MT20110405,     MedSea,     332,          1,     213055,          7,2,20110424,       0319,    36.5000,    -1.4000,       2358,  1269.1,  13.0820,  38.4688,2,    188.8,2,   190.4,2,    8.14,2,    8.91,2,   -0.01,3,    0.38,2,   0.695,2,-999.000,9,  2318.5,2,  2584.3,2,   7.9047,2,    25.00,-999.000,9,-999.000,-999.0000,9, -999.00,9, -999.00,9,  -999.0,9,  -999.0,-999.000,9, -999.00,      73.70,2
06MT20110405,     MedSea,     332,          1,     213056,          8,2,20110424,       0325,    36.5000,    -1.4000,       2358,  1015.7,  13.0931,  38.4799,2,    186.4,2,  -999.0,9, -999.00,9, -999.00,9, -999.00,9, -999.00,9,-999.000,9,-999.000,9,  -999.0,9,  -999.0,9,-999.0000,9,  -999.00,-999.000,9,-999.000,-999.0000,9, -999.00,9, -999.00,9,  -999.0,9,  -999.0,-999.000,9, -999.00,     -999.0,9
06MT20110405,     MedSea,     332,          1,     213057,          9,2,20110424,       0325,    36.5000,    -1.4000,       2358,  1015.6,  13.0935,  38.4800,2,    186.6,2,  -999.0,9, -999.00,9, -999.00,9, -999.00,9, -999.00,9,-999.000,9,-999.000,9,  -999.0,9,  -999.0,9,-999.0000,9,  -999.00,-999.000,9,-999.000,-999.0000,9, -999.00,9, -999.00,9,  -999.0,9,  -999.0,-999.000,9, -999.00,     -999.0,9
06MT20110405,     MedSea,     332,          1,     213058,         10,2,20110424,       0326,    36.5000,    -1.4000,       2358,  1015.6,  13.0934,  38.4800,2,    186.3,2,   187.4,2,    8.13,2,    9.07,2,    0.00,2,    0.38,2,   0.691,2,-999.000,9,  2320.1,2,  2585.6,2,   7.9041,2,    25.00,-999.000,9,-999.000,-999.0000,9, -999.00,9, -999.00,9,  -999.0,9,  -999.0,-999.000,9, -999.00,      75.30,2
06MT20110405,     MedSea,     332,          1,     213059,         11,2,20110424,       0330,    36.5000,    -1.4000,       2358,   812.3,  13.1128,  38.4915,2,    184.5,2,   184.5,2,    7.89,2,    9.18,2,    0.00,2,    0.39,2,   0.756,2,-999.000,9,  2322.5,2,  2585.4,2,   7.9012,2,    25.00,-999.000,9,-999.000,-999.0000,9, -999.00,9, -999.00,9,  -999.0,9,  -999.0,-999.000,9, -999.00,      72.60,2
06MT20110405,     MedSea,     332,          1,     213060,         12,2,20110424,       0335,    36.5000,    -1.4000,       2358,   609.6,  13.1452,  38.5036,2,    181.5,2,   181.9,2,    7.62,2,    9.33,2,    0.01,2,    0.40,2,-999.000,9,-999.000,9,  2324.6,2,  2587.1,2,   7.8962,2,    25.00,-999.000,9,-999.000,-999.0000,9, -999.00,9, -999.00,9,  -999.0,9,  -999.0,-999.000,9, -999.00,      74.00,2
06MT20110405,     MedSea,     332,          1,     213061,         13,2,20110424,       0338,    36.5000,    -1.4000,       2358,   508.9,  13.1862,  38.5114,2,    180.2,2,   180.2,2,    7.27,2,    9.36,2,    0.00,2,    0.38,2,   0.815,2,-999.000,9,  2326.2,2,  2586.1,2,   7.8935,2,    25.00,-999.000,9,-999.000,-999.0000,9, -999.00,9, -999.00,9,  -999.0,9,  -999.0,-999.000,9, -999.00,      71.10,2
06MT20110405,     MedSea,     332,          1,     213062,         14,2,20110424,       0341,    36.5000,    -1.4000,       2358,   407.1,  13.2238,  38.5138,2,    180.4,2,   179.4,2,    6.72,2,    9.30,2,    0.00,2,    0.44,2,   0.895,2,-999.000,9,  2326.1,2,  2585.9,2,   7.8919,2,    25.00,-999.000,9,-999.000,-999.0000,9, -999.00,9, -999.00,9,  -999.0,9,  -999.0,-999.000,9, -999.00,      70.90,2
06MT20110405,     MedSea,     332,          1,     213063,         15,2,20110424,       0344,    36.5000,    -1.4000,       2358,   306.0,  13.2705,  38.5109,2,    180.4,2,   178.6,2,    5.76,2,    9.12,2,    0.00,2,    0.31,2,   0.985,2,-999.000,9,  2327.5,2,  2583.5,2,   7.8888,2,    25.00,-999.000,9,-999.000,-999.0000,9, -999.00,9, -999.00,9,  -999.0,9,  -999.0,-999.000,9, -999.00,      65.40,2
06MT20110405,     MedSea,     332,          1,     213064,         16,2,20110424,       0346,    36.5000,    -1.4000,       2358,   255.0,  13.2834,  38.4954,2,    183.2,2,   184.4,2,    5.17,2,    8.81,2,    0.00,2,    0.36,2,   1.047,2,-999.000,9,  2325.9,2,  2582.3,2,   7.8883,2,    25.00,-999.000,9,-999.000,-999.0000,9, -999.00,9, -999.00,9,  -999.0,9,  -999.0,-999.000,9, -999.00,      63.80,2
06MT20110405,     MedSea,     332,          1,     213065,         17,2,20110424,       0348,    36.5000,    -1.4000,       2358,   205.3,  13.2722,  38.4627,2,    187.0,2,   185.0,2,    4.57,2,    8.34,2,    0.00,2,    0.33,2,   1.169,2,-999.000,9,  2322.6,2,  2578.1,2,   7.8889,2,    25.00,-999.000,9,-999.000,-999.0000,9, -999.00,9, -999.00,9,  -999.0,9,  -999.0,-999.000,9, -999.00,      65.70,2
06MT20110405,     MedSea,     332,          1,     213066,         18,2,20110424,       0352,    36.5000,    -1.4000,       2358,   103.9,  13.0991,  38.2596,2,    196.1,2,   194.1,2,    3.00,2,    7.18,2,    0.00,2,    0.28,2,   1.412,2,-999.000,9,  2311.0,2,  2562.6,2,   7.8870,2,    25.00,-999.000,9,-999.000,-999.0000,9, -999.00,9, -999.00,9,  -999.0,9,  -999.0,-999.000,9, -999.00,      61.10,2
06MT20110405,     MedSea,     332,          1,     213067,         19,2,20110424,       0353,    36.5000,    -1.4000,       2358,   104.0,  13.0987,  38.2603,2,    196.1,2,   195.6,2,    2.83,2,    7.07,2,    0.00,2,    0.28,2,   1.428,2,-999.000,9,  2309.6,2,  2560.1,2,   7.8854,2,    25.00,-999.000,9,-999.000,-999.0000,9, -999.00,9, -999.00,9,  -999.0,9,  -999.0,-999.000,9, -999.00,      60.40,2
06MT20110405,     MedSea,     332,          1,     213068,         20,2,20110424,       0354,    36.5000,    -1.4000,       2358,    79.0,  13.2223,  38.2040,2,    199.5,2,   197.7,2,    2.46,2,    6.44,2,    0.02,2,    0.25,2,-999.000,9,-999.000,9,  2304.9,2,  2557.4,2,   7.8883,2,    25.00,-999.000,9,-999.000,-999.0000,9, -999.00,9, -999.00,9,  -999.0,9,  -999.0,-999.000,9, -999.00,      63.20,2
06MT20110405,     MedSea,     332,          1,     213069,         21,2,20110424,       0356,    36.5000,    -1.4000,       2358,    54.0,  14.2179,  38.0415,2,    244.2,2,   238.6,2,    0.93,2,    1.07,2,    0.08,2,    0.05,2,   1.509,2,-999.000,9,  2260.9,2,  2542.3,2,   7.9471,2,    25.00,-999.000,9,-999.000,-999.0000,9, -999.00,9, -999.00,9,  -999.0,9,  -999.0,-999.000,9, -999.00,     -999.0,9
06MT20110405,     MedSea,     332,          1,     213070,         22,2,20110424,       0358,    36.5000,    -1.4000,       2358,    28.3,  16.9609,  37.3855,2,    235.8,2,   238.6,2,    0.34,2,    0.08,2,    0.00,2,    0.07,2,-999.000,9,-999.000,9,  2198.9,2,  2489.6,2,   7.9742,2,    25.00,-999.000,9,-999.000,-999.0000,9, -999.00,9, -999.00,9,  -999.0,9,  -999.0,-999.000,9, -999.00,      50.70,2
06MT20110405,     MedSea,     332,          1,     213071,         23,2,20110424,       0400,    36.5000,    -1.4000,       2358,     8.6,  17.2868,  37.3258,2,    235.3,2,   237.7,2,    0.29,2,    0.00,2,   -0.01,3,    0.07,2,   1.423,2,-999.000,9,  2184.8,2,  2476.2,2,   7.9762,2,    25.00,-999.000,9,-999.000,-999.0000,9, -999.00,9, -999.00,9,  -999.0,9,  -999.0,-999.000,9, -999.00,      47.40,2
06MT20110405,     MedSea,     332,          1,     213072,         24,2,20110424,       0400,    36.5000,    -1.4000,       2358,     8.5,  17.2909,  37.3242,2,    233.6,2,  -999.0,9, -999.00,9, -999.00,9, -999.00,9, -999.00,9,-999.000,9,-999.000,9,  -999.0,9,  -999.0,9,-999.0000,9,  -999.00,-999.000,9,-999.000,-999.0000,9, -999.00,9, -999.00,9,  -999.0,9,  -999.0,-999.000,9, -999.00,     -999.0,9