BOTTLE,20170314CCHSIORJL
EXPOCODE,SECT_ID,STNNBR,CASTNO,BIONBR,BTLNBR,BTLNBR_FLAG_W,DATE,TIME,LATITUDE,LONGITUDE,DEPTH,CTDPRS,CTDTMP,CTDSAL,CTDSAL_FLAG_W,CTDOXY,CTDOXY_FLAG_W,OXYGEN,OXYGEN_FLAG_W,SILCAT,SILCAT_FLAG_W,NITRAT,NITRAT_FLAG_W,NITRIT,NITRIT_FLAG_W,PHSPHT,PHSPHT_FLAG_W,CFC-12,CFC-12_FLAG_W,SF6,SF6_FLAG_W,TCARBN,TCARBN_FLAG_W,ALKALI,ALKALI_FLAG_W,PH_TOT,PH_TOT_FLAG_W,PH_TMP,TRITUM,TRITUM_FLAG_W,TRITER,HELIUM,HELIUM_FLAG_W,DELHE3,DELHE3_FLAG_W,DELC13,DELC13_FLAG_W,DELC14,DELC14_FLAG_W,C14ERR,NEON,NEON_FLAG_W,DELHER,BARIUM,BARIUM_FLAG_W
,,,,,,,,,,,METERS,DBAR,ITS-90,PSS-78,,UMOL/KG,,UMOL/KG,,UMOL/KG,,UMOL/KG,,UMOL/KG,,UMOL/KG,,PMOL/KG,,FMOL/KG,,UMOL/KG,,UMOL/KG,,,,DEG C,TU,,TU,NMOL/KG,,PERCNT,,/MILLE,,/MILLE,,/MILLE,NMOL/KG,,PERCNT,UM/KG,
06MT20110405,     MedSea,     299,          1,     209879,          1,2,20110412,       1601,    35.0000,    22.5000,       3490,  3154.6,  13.9537,  38.7359,2,    194.1,2,  -999.0,9, -999.00,9, -999.00,9, -999.00,9, -999.00,9,-999.000,9,-999.000,9,  -999.0,9,  -999.0,9,-999.0000,9,  -999.00,-999.000,9,-999.000,-999.0000,9, -999.00,9, -999.00,9,  -999.0,9,  -999.0,-999.000,9, -999.00,     -999.0,9
06MT20110405,     MedSea,     299,          1,     209880,          2,2,20110412,       1602,    35.0000,    22.5000,       3490,  3154.6,  13.9535,  38.7359,2,    194.3,2,   191.9,2,    6.82,2,    4.50,2,    0.01,2,    0.18,2,-999.000,9,-999.000,9,  2307.9,2,  2612.4,2,   7.9657,2,    25.00,-999.000,9,-999.000,-999.0000,9, -999.00,9, -999.00,9,  -999.0,9,  -999.0,-999.000,9, -999.00,      76.40,2
06MT20110405,     MedSea,     299,          1,     209881,          3,2,20110412,       1605,    35.0000,    22.5000,       3490,  3054.5,  13.9371,  38.7363,2,    193.6,2,   192.9,2,    6.82,2,    4.45,2,    0.01,2,    0.17,2,   0.724,2,   0.257,2,  2307.4,2,  2613.2,2,   7.9667,2,    25.00,-999.000,9,-999.000,-999.0000,9, -999.00,9, -999.00,9,  -999.0,9,  -999.0,-999.000,9, -999.00,      69.70,2
06MT20110405,     MedSea,     299,          1,     209882,          4,2,20110412,       1616,    35.0000,    22.5000,       3490,  2543.8,  13.8620,  38.7384,2,    194.1,2,   191.9,2,    6.86,2,    4.58,2,    0.01,2,    0.17,2,   0.700,2,   0.351,2,  2307.5,2,  2613.9,2,   7.9673,2,    25.00,-999.000,9,-999.000,-999.0000,9, -999.00,9, -999.00,9,  -999.0,9,  -999.0,-999.000,9, -999.00,      73.40,2
06MT20110405,     MedSea,     299,          1,     209883,          5,2,20110412,       1628,    35.0000,    22.5000,       3490,  2033.4,  13.8129,  38.7434,2,    192.2,2,   190.4,2,    6.87,2,    4.55,2,    0.01,2,    0.17,2,   0.481,3,   0.557,4,  2306.4,2,  2613.5,2,   7.9722,3,    25.00,-999.000,9,-999.000,-999.0000,9, -999.00,9, -999.00,9,  -999.0,9,  -999.0,-999.000,9, -999.00,      75.20,2
06MT20110405,     MedSea,     299,          1,     209884,          6,2,20110412,       1639,    35.0000,    22.5000,       3490,  1524.1,  13.7902,  38.7532,2,    188.0,2,   187.1,2,    7.26,2,    4.62,2,    0.01,2,    0.19,2,   0.518,2,   0.197,2,  2305.6,2,  2613.2,2,   7.9684,2,    25.00,-999.000,9,-999.000,-999.0000,9, -999.00,9, -999.00,9,  -999.0,9,  -999.0,-999.000,9, -999.00,      69.30,2
06MT20110405,     MedSea,     299,          1,     209885,          7,2,20110412,       1646,    35.0000,    22.5000,       3490,  1269.5,  13.7720,  38.7545,2,    186.1,2,   183.4,2,    7.42,2,    4.77,2,    0.02,2,    0.19,2,   0.499,2,    0.22,2,  2305.3,2,  2612.8,2,   7.9670,2,    25.00,-999.000,9,-999.000,-999.0000,9, -999.00,9, -999.00,9,  -999.0,9,  -999.0,-999.000,9, -999.00,      74.70,2
06MT20110405,     MedSea,     299,          1,     209886,          8,2,20110412,       1652,    35.0000,    22.5000,       3490,  1015.8,  13.7553,  38.7556,2,    184.4,2,   181.0,2,    7.52,2,    4.95,2,    0.01,2,    0.20,2,   0.467,2,   0.186,2,  2306.2,2,  2613.0,2,   7.9660,2,    25.00,-999.000,9,-999.000,-999.0000,9, -999.00,9, -999.00,9,  -999.0,9,  -999.0,-999.000,9, -999.00,      85.60,2
06MT20110405,     MedSea,     299,          1,     209887,          9,2,20110412,       1657,    35.0000,    22.5000,       3490,   813.2,  13.8647,  38.7911,2,    184.3,2,   183.5,2,    7.08,2,    5.09,2,    0.01,2,    0.20,2,   0.519,3,   0.223,3,  2309.2,2,  2615.0,2,   7.9637,2,    25.00,-999.000,9,-999.000,-999.0000,9, -999.00,9, -999.00,9,  -999.0,9,  -999.0,-999.000,9, -999.00,      77.10,2
06MT20110405,     MedSea,     299,          1,     209888,         10,2,20110412,       1702,    35.0000,    22.5000,       3490,   610.1,  14.0610,  38.8494,2,    187.6,2,  -999.0,9, -999.00,9, -999.00,9, -999.00,9, -999.00,9,-999.000,9,-999.000,9,  -999.0,9,  -999.0,9,-999.0000,9,  -999.00,-999.000,9,-999.000,-999.0000,9, -999.00,9, -999.00,9,  -999.0,9,  -999.0,-999.000,9, -999.00,     -999.0,9
06MT20110405,     MedSea,     299,          1,     209889,         11,2,20110412,       1705,    35.0000,    22.5000,       3490,   508.9,  14.2488,  38.8996,2,    191.0,2,   189.5,2,    5.19,2,    4.33,2,    0.01,2,    0.17,2,   0.883,3,   0.633,3,  2318.4,2,  2623.6,2,   7.9601,2,    25.00,-999.000,9,-999.000,-999.0000,9, -999.00,9, -999.00,9,  -999.0,9,  -999.0,-999.000,9, -999.00,      76.30,2
06MT20110405,     MedSea,     299,          1,     209890,         12,2,20110412,       1708,    35.0000,    22.5000,       3490,   407.8,  14.5388,  38.9646,2,    198.0,2,   195.0,2,    4.09,2,    3.88,2,    0.01,2,    0.17,2,   1.101,2,   0.862,2,  2322.3,2,  2627.8,2,   7.9593,2,    25.00,-999.000,9,-999.000,-999.0000,9, -999.00,9, -999.00,9,  -999.0,9,  -999.0,-999.000,9, -999.00,      59.40,2
06MT20110405,     MedSea,     299,          1,     209891,         13,2,20110412,       1711,    35.0000,    22.5000,       3490,   306.4,  14.7844,  38.9996,2,    194.6,2,   192.3,2,    3.84,2,    4.00,2,    0.01,2,    0.15,2,   1.099,2,   0.867,2,  2319.0,2,  2624.0,3,   7.9606,2,    25.00,-999.000,9,-999.000,-999.0000,9, -999.00,9, -999.00,9,  -999.0,9,  -999.0,-999.000,9, -999.00,      65.50,2
06MT20110405,     MedSea,     299,          1,     209892,         14,2,20110412,       1713,    35.0000,    22.5000,       3490,   255.9,  15.0724,  39.0727,2,    199.7,2,   197.2,2,    3.10,2,    3.46,2,    0.02,2,    0.11,2,   1.219,2,   0.999,2,  2320.2,2,  2626.9,2,   7.9615,2,    25.00,-999.000,9,-999.000,-999.0000,9, -999.00,9, -999.00,9,  -999.0,9,  -999.0,-999.000,9, -999.00,      58.90,2
06MT20110405,     MedSea,     299,          1,     209893,         15,2,20110412,       1715,    35.0000,    22.5000,       3490,   205.2,  15.3191,  39.0958,2,    201.1,2,   197.8,2,    2.61,2,    3.15,2,    0.01,2,    0.09,2,   1.244,2,   1.018,2,  2318.9,2,  2627.7,2,   7.9655,2,    25.00,-999.000,9,-999.000,-999.0000,9, -999.00,9, -999.00,9,  -999.0,9,  -999.0,-999.000,9, -999.00,      54.70,2
06MT20110405,     MedSea,     299,          1,     209894,         16,2,20110412,       1717,    35.0000,    22.5000,       3490,   154.6,  15.6573,  39.1108,2,    201.8,2,   198.9,2,    2.03,2,    2.62,2,    0.02,2,    0.06,2,   1.292,2,   1.094,2,  2315.7,2,  2624.7,2,   7.9670,2,    25.00,-999.000,9,-999.000,-999.0000,9, -999.00,9, -999.00,9,  -999.0,9,  -999.0,-999.000,9, -999.00,      55.80,2
06MT20110405,     MedSea,     299,          1,     209895,         17,2,20110412,       1719,    35.0000,    22.5000,       3490,   104.4,  16.0937,  39.1240,2,    206.0,2,   203.2,2,    1.38,2,    1.63,2,    0.03,2,    0.02,2,   1.333,2,   1.228,2,  2311.1,2,  2625.8,2,   7.9742,2,    25.00,-999.000,9,-999.000,-999.0000,9, -999.00,9, -999.00,9,  -999.0,9,  -999.0,-999.000,9, -999.00,      62.70,2
06MT20110405,     MedSea,     299,          1,     209896,         18,2,20110412,       1721,    35.0000,    22.5000,       3490,    78.8,  15.9000,  38.9584,2,    214.2,2,   210.7,2,    1.21,2,    1.12,2,    0.04,2,    0.02,2,-999.000,9,-999.000,9,  2303.1,2,  2617.8,2,   7.9809,2,    25.00,-999.000,9,-999.000,-999.0000,9, -999.00,9, -999.00,9,  -999.0,9,  -999.0,-999.000,9, -999.00,      53.30,2
06MT20110405,     MedSea,     299,          1,     209897,         19,2,20110412,       1722,    35.0000,    22.5000,       3490,    53.8,  16.3279,  38.7662,2,    235.9,2,   234.6,2,    0.81,2,    0.07,2,    0.01,2,    0.08,2,   1.678,3,   0.774,3,  2273.4,2,  2602.3,2,   7.9979,2,    25.00,-999.000,9,-999.000,-999.0000,9, -999.00,9, -999.00,9,  -999.0,9,  -999.0,-999.000,9, -999.00,      48.50,2
06MT20110405,     MedSea,     299,          1,     209898,         20,2,20110412,       1724,    35.0000,    22.5000,       3490,    28.2,  16.6738,  38.7394,2,    234.4,2,   234.1,2,    0.75,2,    0.01,2,    0.01,2,    0.02,2,-999.000,9,-999.000,9,  2267.4,2,  2593.3,2,   7.9996,2,    25.00,-999.000,9,-999.000,-999.0000,9, -999.00,9, -999.00,9,  -999.0,9,  -999.0,-999.000,9, -999.00,      48.00,2
06MT20110405,     MedSea,     299,          1,     209899,         21,2,20110412,       1725,    35.0000,    22.5000,       3490,     8.3,  16.7936,  38.7409,2,    234.2,2,   233.6,2,    0.71,2,    0.00,2,    0.02,2,    0.00,2,   1.389,2,    1.37,2,  2265.6,2,  2590.5,2,   8.0017,2,    25.00,-999.000,9,-999.000,-999.0000,9, -999.00,9, -999.00,9,  -999.0,9,  -999.0,-999.000,9, -999.00,      52.50,2
06MT20110405,     MedSea,     299,          1,     -999.0,         22,2,20110412,       1726,    35.0000,    22.5000,       3490,     8.3,  16.7880,  38.7409,2,    236.0,2,  -999.0,9, -999.00,9, -999.00,9, -999.00,9, -999.00,9,-999.000,9,-999.000,9,  -999.0,9,  -999.0,9,-999.0000,9,  -999.00,-999.000,9,-999.000,-999.0000,9, -999.00,9, -999.00,9,  -999.0,9,  -999.0,-999.000,9, -999.00,     -999.0,9
06MT20110405,     MedSea,     299,          1,     -999.0,         23,2,20110412,       1726,    35.0000,    22.5000,       3490,     8.3,  16.7875,  38.7409,2,    235.8,2,  -999.0,9, -999.00,9, -999.00,9, -999.00,9, -999.00,9,-999.000,9,-999.000,9,  -999.0,9,  -999.0,9,-999.0000,9,  -999.00,-999.000,9,-999.000,-999.0000,9, -999.00,9, -999.00,9,  -999.0,9,  -999.0,-999.000,9, -999.00,     -999.0,9
06MT20110405,     MedSea,     299,          1,     209900,         24,2,20110412,       1726,    35.0000,    22.5000,       3490,     8.3,  16.7908,  38.7409,2,    235.7,2,  -999.0,9, -999.00,9, -999.00,9, -999.00,9, -999.00,9,-999.000,9,-999.000,9,  -999.0,9,  -999.0,9,-999.0000,9,  -999.00,-999.000,9,-999.000,-999.0000,9, -999.00,9, -999.00,9,  -999.0,9,  -999.0,-999.000,9, -999.00,     -999.0,9