BOTTLE,20170314CCHSIORJL
EXPOCODE,SECT_ID,STNNBR,CASTNO,BIONBR,BTLNBR,BTLNBR_FLAG_W,DATE,TIME,LATITUDE,LONGITUDE,DEPTH,CTDPRS,CTDTMP,CTDSAL,CTDSAL_FLAG_W,CTDOXY,CTDOXY_FLAG_W,OXYGEN,OXYGEN_FLAG_W,SILCAT,SILCAT_FLAG_W,NITRAT,NITRAT_FLAG_W,NITRIT,NITRIT_FLAG_W,PHSPHT,PHSPHT_FLAG_W,CFC-12,CFC-12_FLAG_W,SF6,SF6_FLAG_W,TCARBN,TCARBN_FLAG_W,ALKALI,ALKALI_FLAG_W,PH_TOT,PH_TOT_FLAG_W,PH_TMP,TRITUM,TRITUM_FLAG_W,TRITER,HELIUM,HELIUM_FLAG_W,DELHE3,DELHE3_FLAG_W,DELC13,DELC13_FLAG_W,DELC14,DELC14_FLAG_W,C14ERR,NEON,NEON_FLAG_W,DELHER,BARIUM,BARIUM_FLAG_W
,,,,,,,,,,,METERS,DBAR,ITS-90,PSS-78,,UMOL/KG,,UMOL/KG,,UMOL/KG,,UMOL/KG,,UMOL/KG,,UMOL/KG,,PMOL/KG,,FMOL/KG,,UMOL/KG,,UMOL/KG,,,,DEG C,TU,,TU,NMOL/KG,,PERCNT,,/MILLE,,/MILLE,,/MILLE,NMOL/KG,,PERCNT,UM/KG,
06MT20110405,     MedSea,     317,          1,     212246,          1,2,20110419,       1538,    39.2200,    11.7500,       3280,  3269.9,  13.4875,  38.4914,2,    190.4,2,  -999.0,9, -999.00,9, -999.00,9, -999.00,9, -999.00,9,-999.000,9,-999.000,9,  -999.0,9,  -999.0,9,-999.0000,9,  -999.00,-999.000,9,-999.000,-999.0000,9, -999.00,9, -999.00,9,  -999.0,9,  -999.0,-999.000,9, -999.00,     -999.0,9
06MT20110405,     MedSea,     317,          1,     212247,          2,2,20110419,       1539,    39.2200,    11.7500,       3280,  3270.0,  13.4873,  38.4914,2,    190.8,2,  -999.0,9, -999.00,9, -999.00,9, -999.00,9, -999.00,9,-999.000,9,-999.000,9,  -999.0,9,  -999.0,9,-999.0000,9,  -999.00,-999.000,9,-999.000,-999.0000,9, -999.00,9, -999.00,9,  -999.0,9,  -999.0,-999.000,9, -999.00,     -999.0,9
06MT20110405,     MedSea,     317,          1,     212248,          3,2,20110419,       1539,    39.2200,    11.7500,       3280,  3270.1,  13.4859,  38.4914,2,    190.3,2,   189.3,2,    8.49,2,    7.94,2,    0.00,2,    0.37,2,   0.317,2,   0.215,2,  2319.3,2,  2586.4,2,   7.9133,2,    25.00,   0.470,2,   0.010,   1.7800,2,    7.80,2,    0.94,2,   -17.7,2,     0.3,   7.280,2, -999.00,      66.70,2
06MT20110405,     MedSea,     317,          1,     212249,          4,2,20110419,       1554,    39.2200,    11.7500,       3280,  2544.9,  13.4442,  38.5131,2,    187.7,2,   185.6,2,    8.73,2,    7.64,2,    0.00,2,    0.36,2,   0.506,2,    0.27,2,  2315.8,2,  2586.4,2,   7.9214,2,    25.00,   0.380,2,   0.020,   1.8100,2,   10.83,2,    1.00,2,   -25.4,2,     0.3,   7.310,2, -999.00,      78.70,2
06MT20110405,     MedSea,     317,          1,     212250,          5,2,20110419,       1606,    39.2200,    11.7500,       3280,  2034.2,  13.4143,  38.5292,2,    186.3,2,   185.3,2,    8.74,2,    7.51,2,    0.00,2,    0.35,2,   0.508,2,   0.222,2,  2315.7,2,  2585.1,2,   7.9225,2,    25.00,   0.430,2,   0.020,   1.8000,2,   10.92,2,    1.06,2,   -20.8,2,     0.3,   7.210,2, -999.00,      67.70,2
06MT20110405,     MedSea,     317,          1,     212251,          6,2,20110419,       1612,    39.2200,    11.7500,       3280,  1778.9,  13.4194,  38.5427,2,    185.1,2,   184.4,2,    8.48,2,    7.40,2,    0.00,2,    0.36,2,   0.505,2,    0.32,2,  2316.6,2,  2587.9,2,   7.9253,2,    25.00,   0.450,2,   0.020,   1.8200,2,   10.52,2,    1.03,2,   -23.6,2,     0.3,   7.300,2, -999.00,      71.10,2
06MT20110405,     MedSea,     317,          1,     212252,          7,2,20110419,       1620,    39.2200,    11.7500,       3280,  1524.7,  13.4149,  38.5515,2,    184.7,2,   183.6,2,    8.46,2,    7.34,2,    0.00,3,    0.35,2,-999.000,9,-999.000,9,  2316.4,2,  2591.7,2,   7.9257,2,    25.00,-999.000,9,-999.000,   1.7900,2,   10.19,2,    1.05,2,   -22.6,2,     0.3,   7.270,2, -999.00,      68.00,2
06MT20110405,     MedSea,     317,          1,     212253,          8,2,20110419,       1626,    39.2200,    11.7500,       3280,  1269.8,  13.5117,  38.5898,2,    182.9,2,   181.7,2,    7.97,2,    7.06,2,    0.00,2,    0.34,2,   0.533,2,   0.457,2,  2317.4,2,  2597.8,2,   7.9293,2,    25.00,   0.500,2,   0.020,   1.8000,2,   10.47,2,    1.02,2,   -17.2,2,     0.3,   7.240,2, -999.00,      75.10,2
06MT20110405,     MedSea,     317,          1,     212254,          9,2,20110419,       1632,    39.2200,    11.7500,       3280,  1016.5,  13.6575,  38.6359,2,    180.2,2,   179.2,2,    7.43,2,    6.79,2,    0.00,2,    0.32,2,   0.628,2,   0.631,2,  2318.0,2,  2600.3,2,   7.9312,2,    25.00,   0.540,2,   0.020,-999.0000,9, -999.00,9,    0.99,2,   -11.4,2,     0.3,-999.000,9, -999.00,      71.00,2
06MT20110405,     MedSea,     317,          1,     212255,         10,2,20110419,       1638,    39.2200,    11.7500,       3280,   813.4,  13.7570,  38.6688,2,    180.2,2,  -999.0,9, -999.00,9, -999.00,9, -999.00,9, -999.00,9,-999.000,9,-999.000,9,  -999.0,9,  -999.0,9,-999.0000,9,  -999.00,-999.000,9,-999.000,-999.0000,9, -999.00,9, -999.00,9,  -999.0,9,  -999.0,-999.000,9, -999.00,     -999.0,9
06MT20110405,     MedSea,     317,          1,     212256,         11,2,20110419,       1638,    39.2200,    11.7500,       3280,   813.3,  13.7570,  38.6688,2,    180.5,2,   178.6,2,    6.98,2,    6.56,2,    0.00,2,    0.31,2,   0.673,2,   0.946,2,  2319.6,2,  2602.0,2,   7.9335,2,    25.00,   0.620,2,   0.020,   1.7900,2,    8.24,2,    0.96,2,    -2.3,2,     0.4,   7.230,2, -999.00,      70.60,2
06MT20110405,     MedSea,     317,          1,     212257,         12,2,20110419,       1643,    39.2200,    11.7500,       3280,   610.3,  13.8522,  38.6940,2,    178.1,2,   176.4,2,    6.54,2,    6.55,2,    0.00,2,    0.30,2,-999.000,9,-999.000,9,  2322.5,2,  2601.9,2,   7.9325,2,    25.00,   0.660,2,   0.020,-999.0000,9, -999.00,9,    0.87,2,     4.4,2,     0.4,-999.000,9, -999.00,      68.20,2
06MT20110405,     MedSea,     317,          1,     212258,         13,2,20110419,       1646,    39.2200,    11.7500,       3280,   509.3,  13.9292,  38.7131,2,    177.3,2,   175.5,2,    5.99,2,    6.44,2,    0.00,2,    0.29,2,   0.818,2,   0.847,2,  2323.5,2,  2604.0,2,   7.9323,2,    25.00,   0.700,2,   0.020,-999.0000,9, -999.00,9,    0.87,2,     1.7,2,     0.3,-999.000,9, -999.00,      65.80,2
06MT20110405,     MedSea,     317,          1,     212259,         14,2,20110419,       1648,    39.2200,    11.7500,       3280,   407.4,  14.0151,  38.7244,2,    176.6,2,   175.0,2,    5.53,2,    6.30,2,    0.00,2,    0.29,2,   0.856,2,   0.922,2,  2324.5,2,  2603.3,2,   7.9296,2,    25.00,   0.740,2,   0.020,-999.0000,9, -999.00,9,    0.84,2,    16.6,2,     0.3,-999.000,9, -999.00,      67.80,2
06MT20110405,     MedSea,     317,          1,     212260,         15,2,20110419,       1653,    39.2200,    11.7500,       3280,   306.2,  14.0995,  38.7095,2,    177.9,2,   176.2,2,    4.79,2,    6.03,2,    0.01,2,    0.25,2,   1.013,2,   0.989,2,  2323.1,2,  2602.7,2,   7.9300,2,    25.00,   0.710,2,   0.020,-999.0000,9, -999.00,9,    0.73,2,    17.1,2,     0.4,-999.000,9, -999.00,      63.70,2
06MT20110405,     MedSea,     317,          1,     212261,         16,2,20110419,       1654,    39.2200,    11.7500,       3280,   255.7,  14.0387,  38.6602,2,    180.4,2,   178.5,2,    4.39,2,    6.08,2,    0.00,2,    0.26,2,-999.000,9,-999.000,9,  2322.5,2,  2598.8,2,   7.9261,2,    25.00,   0.830,2,   0.020,-999.0000,9, -999.00,9,    1.35,3,    19.2,2,     0.3,-999.000,9, -999.00,      67.20,2
06MT20110405,     MedSea,     317,          1,     212262,         17,2,20110419,       1656,    39.2200,    11.7500,       3280,   205.3,  14.0193,  38.6026,2,    186.0,2,   183.5,2,    3.70,2,    5.70,2,    0.01,2,    0.25,2,   1.182,2,   1.203,2,  2317.3,2,  2593.9,2,   7.9222,2,    25.00,   0.840,2,   0.020,-999.0000,9, -999.00,9,    0.73,2,    25.0,2,     0.3,-999.000,9, -999.00,      57.90,2
06MT20110405,     MedSea,     317,          1,     212263,         18,2,20110419,       1700,    39.2200,    11.7500,       3280,   104.7,  13.8423,  38.1949,2,    215.4,2,  -999.0,9, -999.00,9, -999.00,9, -999.00,9, -999.00,9,-999.000,9,-999.000,9,  -999.0,9,  -999.0,9,-999.0000,9,  -999.00,-999.000,9,-999.000,-999.0000,9, -999.00,9, -999.00,9,  -999.0,9,  -999.0,-999.000,9, -999.00,      57.90,2
06MT20110405,     MedSea,     317,          1,     212264,         19,2,20110419,       1701,    39.2200,    11.7500,       3280,   104.8,  13.8344,  38.2017,2,    220.0,2,   214.9,2,    1.45,2,    2.61,2,    0.13,2,    0.06,2,   1.515,2,   1.453,2,  2278.3,2,  2549.6,2,   7.9310,2,    25.00,   0.890,2,   0.020,-999.0000,9, -999.00,9,    0.72,2,    40.8,2,     0.3,-999.000,9, -999.00,      53.10,2
06MT20110405,     MedSea,     317,          1,     212265,         20,2,20110419,       1703,    39.2200,    11.7500,       3280,    53.5,  14.4456,  37.8192,2,    241.4,2,   236.4,2,    0.55,2,    0.53,2,    0.04,2,    0.01,2,   1.499,2,   1.523,2,  2237.6,2,  2525.2,2,   7.9627,2,    25.00,   0.900,2,   0.020,   1.7500,2,   -1.81,2,    0.83,2,    38.4,2,     0.2,   7.220,2, -999.00,      51.20,2
06MT20110405,     MedSea,     317,          1,     212266,         21,2,20110419,       1705,    39.2200,    11.7500,       3280,    28.0,  15.3652,  37.5571,2,    248.8,2,   247.5,2,    0.23,2,    0.07,2,    0.00,2,    0.00,2,-999.000,9,-999.000,9,  2207.1,2,  2501.7,2,   7.9774,2,    25.00,-999.000,9,-999.000,   1.7400,2,   -1.91,2,    0.97,2,    43.0,2,     0.3,   7.170,2, -999.00,      42.80,2
06MT20110405,     MedSea,     317,          1,     212267,         22,2,20110419,       1705,    39.2200,    11.7500,       3280,    28.0,  15.3646,  37.5571,2,    248.6,2,  -999.0,9, -999.00,9, -999.00,9, -999.00,9, -999.00,9,-999.000,9,-999.000,9,  -999.0,9,  -999.0,9,-999.0000,9,  -999.00,-999.000,9,-999.000,-999.0000,9, -999.00,9, -999.00,9,  -999.0,9,  -999.0,-999.000,9, -999.00,     -999.0,9
06MT20110405,     MedSea,     317,          1,     212268,         23,2,20110419,       1706,    39.2200,    11.7500,       3280,     7.7,  16.3687,  37.3208,2,    241.8,2,   243.9,2,    0.01,2,    0.00,2,    0.00,2,    0.00,2,   1.542,2,   1.609,2,  2185.1,2,  2475.1,2,   7.9795,2,    25.00,   0.870,2,   0.020,-999.0000,9, -999.00,9,    1.22,2,    39.4,2,     0.4,-999.000,9, -999.00,      44.20,2
06MT20110405,     MedSea,     317,          1,     212269,         24,2,20110419,       1707,    39.2200,    11.7500,       3280,     7.7,  16.3804,  37.3208,2,    243.3,2,  -999.0,9, -999.00,9, -999.00,9, -999.00,9, -999.00,9,-999.000,9,-999.000,9,  -999.0,9,  -999.0,9,-999.0000,9,  -999.00,-999.000,9,-999.000,-999.0000,9, -999.00,9, -999.00,9,  -999.0,9,  -999.0,-999.000,9, -999.00,     -999.0,9