BOTTLE,20170314CCHSIORJL
EXPOCODE,SECT_ID,STNNBR,CASTNO,BIONBR,BTLNBR,BTLNBR_FLAG_W,DATE,TIME,LATITUDE,LONGITUDE,DEPTH,CTDPRS,CTDTMP,CTDSAL,CTDSAL_FLAG_W,CTDOXY,CTDOXY_FLAG_W,OXYGEN,OXYGEN_FLAG_W,SILCAT,SILCAT_FLAG_W,NITRAT,NITRAT_FLAG_W,NITRIT,NITRIT_FLAG_W,PHSPHT,PHSPHT_FLAG_W,CFC-12,CFC-12_FLAG_W,SF6,SF6_FLAG_W,TCARBN,TCARBN_FLAG_W,ALKALI,ALKALI_FLAG_W,PH_TOT,PH_TOT_FLAG_W,PH_TMP,TRITUM,TRITUM_FLAG_W,TRITER,HELIUM,HELIUM_FLAG_W,DELHE3,DELHE3_FLAG_W,DELC13,DELC13_FLAG_W,DELC14,DELC14_FLAG_W,C14ERR,NEON,NEON_FLAG_W,DELHER,BARIUM,BARIUM_FLAG_W
,,,,,,,,,,,METERS,DBAR,ITS-90,PSS-78,,UMOL/KG,,UMOL/KG,,UMOL/KG,,UMOL/KG,,UMOL/KG,,UMOL/KG,,PMOL/KG,,FMOL/KG,,UMOL/KG,,UMOL/KG,,,,DEG C,TU,,TU,NMOL/KG,,PERCNT,,/MILLE,,/MILLE,,/MILLE,NMOL/KG,,PERCNT,UM/KG,
06MT20110405,     MedSea,     296,          1,     209806,          1,2,20110411,       0217,    33.5800,    28.7700,       2968,  2958.3,  14.0705,  38.7745,2,    189.4,2,  -999.0,9, -999.00,9, -999.00,9, -999.00,9, -999.00,9,-999.000,9,-999.000,9,  -999.0,9,  -999.0,9,-999.0000,9,  -999.00,-999.000,9,-999.000,-999.0000,9, -999.00,9, -999.00,9,  -999.0,9,  -999.0,-999.000,9, -999.00,     -999.0,9
06MT20110405,     MedSea,     296,          1,     209807,          2,2,20110411,       0218,    33.5800,    28.7700,       2968,  2957.9,  14.0702,  38.7744,2,    189.4,2,   187.7,2,    7.43,2,    4.84,2,    0.01,2,    0.18,2,   0.731,4,   1.787,4,  2307.4,2,  2612.3,2,   7.9701,2,    25.00,-999.000,9,-999.000,   1.9400,2,    2.79,2, -999.00,9,  -999.0,9,  -999.0,   7.500,2,    0.31,      75.30,2
06MT20110405,     MedSea,     296,          1,     209808,          3,2,20110411,       0227,    33.5800,    28.7700,       2968,  2543.4,  14.0111,  38.7778,2,    189.7,2,   187.8,2,    7.37,2,    4.83,2,    0.01,2,    0.17,2,   0.610,2,   0.302,2,  2307.4,2,  2612.8,2,   7.9667,2,    25.00,-999.000,9,-999.000,   1.9300,2,    2.81,2, -999.00,9,  -999.0,9,  -999.0,   7.450,2,    0.31,      71.80,2
06MT20110405,     MedSea,     296,          1,     209809,          4,2,20110411,       0233,    33.5800,    28.7700,       2968,  2288.5,  13.9793,  38.7804,2,    189.0,2,   188.9,2,    7.34,2,    4.82,2,    0.00,2,    0.18,2,   0.592,2,   0.298,2,  2306.8,2,  2611.3,2,   7.9715,2,    25.00,-999.000,9,-999.000,   1.9600,2,    2.18,2, -999.00,9,  -999.0,9,  -999.0,   7.600,2,    0.22,      78.40,2
06MT20110405,     MedSea,     296,          1,     209810,          5,2,20110411,       0239,    33.5800,    28.7700,       2968,  2033.0,  13.9374,  38.7786,2,    188.6,2,   187.6,2,    7.36,2,    4.86,2,    0.00,2,    0.19,2,   0.183,4,-999.000,4,  2306.4,2,  2612.9,2,   7.9708,2,    25.00,-999.000,9,-999.000,   1.9500,2,    2.63,2, -999.00,9,  -999.0,9,  -999.0,   7.550,2,    0.15,      75.10,2
06MT20110405,     MedSea,     296,          1,     209811,          6,2,20110411,       0246,    33.5800,    28.7700,       2968,  1778.7,  13.8877,  38.7718,2,    187.2,2,   196.4,4,    7.51,2,    4.94,2,    0.00,2,    0.19,2,   0.505,2,   0.171,2,  2305.3,2,  2612.8,2,   7.9678,2,    25.00,-999.000,9,-999.000,   1.9300,2,    3.13,2, -999.00,9,  -999.0,9,  -999.0,   7.550,2,    0.20,      78.70,2
06MT20110405,     MedSea,     296,          1,     209812,          7,2,20110411,       0252,    33.5800,    28.7700,       2968,  1524.5,  13.8239,  38.7600,2,    185.8,2,   184.0,2,    7.82,2,    5.03,2,   -0.01,3,    0.20,2,   0.452,2,   0.273,2,  2304.9,2,  2611.2,2,   7.9709,2,    25.00,-999.000,9,-999.000,   1.8900,2,    2.53,2, -999.00,9,  -999.0,9,  -999.0,   7.400,2,    0.15,      79.50,2
06MT20110405,     MedSea,     296,          1,     209813,          8,2,20110411,       0258,    33.5800,    28.7700,       2968,  1269.5,  13.7670,  38.7496,2,    183.5,2,   203.0,4,    7.83,2,    5.17,2,    0.00,3,    0.21,2,   0.722,4,   0.607,4,  2302.9,2,  2610.4,2,   7.9697,2,    25.00,-999.000,9,-999.000,-999.0000,9, -999.00,9, -999.00,9,  -999.0,9,  -999.0,-999.000,9, -999.00,      83.10,2
06MT20110405,     MedSea,     296,          1,     209814,          9,2,20110411,       0304,    33.5800,    28.7700,       2968,  1016.2,  13.7353,  38.7468,2,    181.0,2,   179.4,2,    8.01,2,    5.40,2,   -0.01,3,    0.22,2,   0.353,2,   0.167,2,  2304.4,2,  2610.4,2,   7.9674,2,    25.00,-999.000,9,-999.000,   1.8900,2,    1.16,2, -999.00,9,  -999.0,9,  -999.0,   7.400,2,    0.39,      80.10,2
06MT20110405,     MedSea,     296,          1,     209815,         10,2,20110411,       0309,    33.5800,    28.7700,       2968,   812.8,  13.7777,  38.7630,2,    179.5,2,   177.2,2,    7.85,2,    5.59,2,   -0.01,3,    0.23,2,   0.382,2,    0.21,2,  2306.3,2,  2609.5,2,   7.9643,2,    25.00,-999.000,9,-999.000,   1.8900,2,    1.07,2, -999.00,9,  -999.0,9,  -999.0,   7.400,2,    0.43,      78.00,2
06MT20110405,     MedSea,     296,          1,     209816,         11,2,20110411,       0315,    33.5800,    28.7700,       2968,   609.0,  13.8650,  38.7893,2,    176.6,2,   174.8,2,    7.35,2,    5.89,2,    0.00,2,    0.23,2,   0.451,2,   0.292,2,  2309.4,2,  2611.1,2,   7.9600,2,    25.00,-999.000,9,-999.000,   1.8800,2,    2.05,2, -999.00,9,  -999.0,9,  -999.0,   7.350,2,    0.15,      70.40,2
06MT20110405,     MedSea,     296,          1,     209817,         12,2,20110411,       0317,    33.5800,    28.7700,       2968,   508.7,  13.9755,  38.8150,2,    177.2,2,   175.4,2,    6.96,2,    5.89,2,   -0.01,3,    0.24,2,   0.534,2,   0.274,2,  2310.1,2,  2612.7,2,   7.9576,2,    25.00,-999.000,9,-999.000,   1.8900,2,    1.93,2, -999.00,9,  -999.0,9,  -999.0,   7.450,2,    0.42,      73.00,2
06MT20110405,     MedSea,     296,          1,     209818,         13,2,20110411,       0320,    33.5800,    28.7700,       2968,   407.0,  14.2316,  38.8792,2,    181.7,2,   179.6,2,    5.86,2,    5.56,2,    0.00,2,    0.22,2,   0.725,2,   0.449,2,  2307.1,3,  2614.2,2,   7.9566,2,    25.00,-999.000,9,-999.000,   1.7200,2,    0.64,2, -999.00,9,  -999.0,9,  -999.0,   6.960,2,    0.15,      76.70,2
06MT20110405,     MedSea,     296,          1,     209819,         14,2,20110411,       0324,    33.5800,    28.7700,       2968,   306.0,  14.8244,  38.9894,2,    192.0,2,   190.1,2,    4.05,2,    4.52,2,    0.00,2,    0.15,2,   1.040,2,   0.704,2,  2315.9,2,  2618.8,2,   7.9605,2,    25.00,-999.000,9,-999.000,   1.8400,2,    0.53,2, -999.00,9,  -999.0,9,  -999.0,   7.400,2,    0.43,      59.40,2
06MT20110405,     MedSea,     296,          1,     209820,         15,2,20110411,       0326,    33.5800,    28.7700,       2968,   255.9,  15.3703,  39.0828,2,    196.8,2,   194.9,2,    3.00,2,    3.65,2,    0.00,2,    0.11,2,   1.178,2,   0.901,2,  2315.7,2,  2621.5,2,   7.9656,2,    25.00,-999.000,9,-999.000,   1.8500,2,    0.08,2, -999.00,9,  -999.0,9,  -999.0,   7.450,2,    0.36,      63.60,2
06MT20110405,     MedSea,     296,          1,     209821,         16,2,20110411,       0328,    33.5800,    28.7700,       2968,   204.6,  15.8543,  39.1181,2,    201.6,2,   200.0,2,    2.06,2,    2.74,2,    0.00,2,    0.06,2,   1.286,2,   0.964,2,  2314.4,2,  2622.2,2,   7.9706,2,    25.00,-999.000,9,-999.000,   1.7900,2,   -0.80,2, -999.00,9,  -999.0,9,  -999.0,   7.250,2,    0.15,      60.30,2
06MT20110405,     MedSea,     296,          1,     209822,         17,2,20110411,       0330,    33.5800,    28.7700,       2968,   153.5,  16.2319,  39.0399,2,    208.6,2,   207.4,2,    1.21,2,    1.51,2,    0.01,2,    0.03,2,   1.381,2,   1.168,2,  2305.5,2,  2619.6,2,   7.9801,2,    25.00,-999.000,9,-999.000,   1.8000,2,   -1.30,2, -999.00,9,  -999.0,9,  -999.0,   7.350,2,    0.19,      55.50,2
06MT20110405,     MedSea,     296,          1,     209823,         18,2,20110411,       0331,    33.5800,    28.7700,       2968,   103.4,  16.7514,  38.9855,2,    216.1,2,   213.6,2,    0.91,2,    0.90,2,    0.02,2,    0.02,2,-999.000,9,-999.000,9,  2293.6,2,  2613.0,2,   7.9910,2,    25.00,-999.000,9,-999.000,   1.7600,2,   -1.21,2, -999.00,9,  -999.0,9,  -999.0,   7.110,2,    0.13,      52.80,2
06MT20110405,     MedSea,     296,          1,     209824,         19,2,20110411,       0333,    33.5800,    28.7700,       2968,    78.2,  17.2206,  38.9478,2,    226.2,2,   224.7,2,    0.69,2,    0.09,2,    0.00,2,    0.01,2,   1.355,2,   1.223,2,  2271.3,2,  2603.8,2,   8.0135,2,    25.00,-999.000,9,-999.000,-999.0000,9, -999.00,9, -999.00,9,  -999.0,9,  -999.0,-999.000,9, -999.00,      53.10,2
06MT20110405,     MedSea,     296,          1,     209825,         20,2,20110411,       0335,    33.5800,    28.7700,       2968,    53.4,  17.3743,  38.8077,2,    230.7,2,  -999.0,9, -999.00,9, -999.00,9, -999.00,9, -999.00,9,-999.000,9,-999.000,9,  -999.0,9,  -999.0,9,-999.0000,9,  -999.00,-999.000,9,-999.000,-999.0000,9, -999.00,9, -999.00,9,  -999.0,9,  -999.0,-999.000,9, -999.00,     -999.0,9
06MT20110405,     MedSea,     296,          1,     209826,         21,2,20110411,       0335,    33.5800,    28.7700,       2968,    53.3,  17.3766,  38.8041,2,    231.1,2,   230.2,2,    0.65,2,    0.06,2,   -0.01,3,    0.00,2,-999.000,9,-999.000,9,  2257.8,2,  2590.4,2,   8.0142,2,    25.00,-999.000,9,-999.000,-999.0000,9, -999.00,9, -999.00,9,  -999.0,9,  -999.0,-999.000,9, -999.00,      59.30,2
06MT20110405,     MedSea,     296,          1,     209827,         22,2,20110411,       0337,    33.5800,    28.7700,       2968,    26.8,  17.4820,  38.7035,2,    230.0,2,   231.3,2,    0.64,2,    0.06,2,   -0.01,3,    0.00,2,   1.366,2,   1.341,2,  2251.1,2,  2579.7,2,   8.0105,2,    25.00,-999.000,9,-999.000,-999.0000,9, -999.00,9, -999.00,9,  -999.0,9,  -999.0,-999.000,9, -999.00,      50.60,2
06MT20110405,     MedSea,     296,          1,     209828,         23,2,20110411,       0338,    33.5800,    28.7700,       2968,     7.4,  17.4778,  38.7028,2,    230.0,2,   231.3,2,    0.64,2,    0.06,2,    0.00,2,    0.01,2,   1.376,2,   1.342,2,  2251.4,2,  2579.3,2,   8.0119,2,    25.00,-999.000,9,-999.000,   1.8000,2,   -1.84,2, -999.00,9,  -999.0,9,  -999.0,   7.250,2,    0.89,      50.40,2
06MT20110405,     MedSea,     296,          1,     209829,         24,2,20110411,       0339,    33.5800,    28.7700,       2968,     7.4,  17.4754,  38.7028,2,    231.1,2,  -999.0,9, -999.00,9, -999.00,9, -999.00,9, -999.00,9,-999.000,9,-999.000,9,  -999.0,9,  -999.0,9,-999.0000,9,  -999.00,-999.000,9,-999.000,-999.0000,9, -999.00,9, -999.00,9,  -999.0,9,  -999.0,-999.000,9, -999.00,     -999.0,9