BOTTLE,20170314CCHSIORJL
EXPOCODE,SECT_ID,STNNBR,CASTNO,BIONBR,BTLNBR,BTLNBR_FLAG_W,DATE,TIME,LATITUDE,LONGITUDE,DEPTH,CTDPRS,CTDTMP,CTDSAL,CTDSAL_FLAG_W,CTDOXY,CTDOXY_FLAG_W,OXYGEN,OXYGEN_FLAG_W,SILCAT,SILCAT_FLAG_W,NITRAT,NITRAT_FLAG_W,NITRIT,NITRIT_FLAG_W,PHSPHT,PHSPHT_FLAG_W,CFC-12,CFC-12_FLAG_W,SF6,SF6_FLAG_W,TCARBN,TCARBN_FLAG_W,ALKALI,ALKALI_FLAG_W,PH_TOT,PH_TOT_FLAG_W,PH_TMP,TRITUM,TRITUM_FLAG_W,TRITER,HELIUM,HELIUM_FLAG_W,DELHE3,DELHE3_FLAG_W,DELC13,DELC13_FLAG_W,DELC14,DELC14_FLAG_W,C14ERR,NEON,NEON_FLAG_W,DELHER,BARIUM,BARIUM_FLAG_W
,,,,,,,,,,,METERS,DBAR,ITS-90,PSS-78,,UMOL/KG,,UMOL/KG,,UMOL/KG,,UMOL/KG,,UMOL/KG,,UMOL/KG,,PMOL/KG,,FMOL/KG,,UMOL/KG,,UMOL/KG,,,,DEG C,TU,,TU,NMOL/KG,,PERCNT,,/MILLE,,/MILLE,,/MILLE,NMOL/KG,,PERCNT,UM/KG,
06MT20110405,     MedSea,     291,          1,     209710,          1,2,20110408,       2128,    34.0670,    33.0000,       2498,  2487.9,  14.0264,  38.7850,2,    187.8,2,  -999.0,9, -999.00,9, -999.00,9, -999.00,3, -999.00,9,-999.000,9,-999.000,9,  -999.0,9,  -999.0,9,-999.0000,9,  -999.00,-999.000,9,-999.000,-999.0000,9, -999.00,9, -999.00,9,  -999.0,9,  -999.0,-999.000,9, -999.00,     -999.0,9
06MT20110405,     MedSea,     291,          1,     209711,          2,2,20110408,       2129,    34.0670,    33.0000,       2498,  2487.9,  14.0260,  38.7850,2,    187.9,2,   186.9,2,    8.58,2,    4.70,2,   -0.05,3,    0.18,2,   0.701,2,   0.215,2,  2297.2,2,  2612.1,2,   7.9656,2,    25.00,-999.000,9,-999.000,-999.0000,9, -999.00,9, -999.00,9,  -999.0,9,  -999.0,-999.000,9, -999.00,     134.60,2
06MT20110405,     MedSea,     291,          1,     209712,          3,2,20110408,       2141,    34.0670,    33.0000,       2498,  2032.7,  13.9495,  38.7824,2,    187.3,2,   186.4,2,    8.51,6,    4.75,6,   -0.06,3,    0.17,6,   0.439,4,   0.136,4,  2306.7,2,  2611.6,2,   7.9681,2,    25.00,-999.000,9,-999.000,-999.0000,9, -999.00,9, -999.00,9,  -999.0,9,  -999.0,-999.000,9, -999.00,      76.00,2
06MT20110405,     MedSea,     291,          1,     209713,          4,2,20110408,       2148,    34.0670,    33.0000,       2498,  1777.7,  13.9037,  38.7786,2,    187.1,2,  -999.0,9,    8.53,2,    4.79,2,   -0.06,3,    0.17,2,   0.596,2,   0.143,2,  2306.4,2,  2611.8,2,   7.9800,2,    25.00,-999.000,9,-999.000,-999.0000,9, -999.00,9, -999.00,9,  -999.0,9,  -999.0,-999.000,9, -999.00,      75.40,2
06MT20110405,     MedSea,     291,          1,     209714,          5,2,20110408,       2155,    34.0670,    33.0000,       2498,  1523.5,  13.8371,  38.7657,2,    184.8,2,   184.1,2,    8.79,2,    4.91,2,   -0.05,3,    0.18,2,   0.536,2,   0.163,2,  2305.3,2,  2609.4,2,   7.9740,2,    25.00,-999.000,9,-999.000,-999.0000,9, -999.00,9, -999.00,9,  -999.0,9,  -999.0,-999.000,9, -999.00,      83.90,2
06MT20110405,     MedSea,     291,          1,     209715,          6,2,20110408,       2202,    34.0670,    33.0000,       2498,  1268.9,  13.7700,  38.7513,2,    183.1,2,   181.8,2,    9.02,2,    5.11,2,   -0.06,3,    0.19,2,   0.457,2,-999.000,9,  2304.0,2,  2609.9,2,   7.9663,2,    25.00,-999.000,9,-999.000,-999.0000,9, -999.00,9, -999.00,9,  -999.0,9,  -999.0,-999.000,9, -999.00,      76.20,2
06MT20110405,     MedSea,     291,          1,     209716,          7,2,20110408,       2208,    34.0670,    33.0000,       2498,  1014.7,  13.7261,  38.7447,2,    180.1,2,   179.2,2,    9.13,2,    5.27,2,   -0.06,3,    0.20,2,   0.400,2,   0.192,2,  2303.4,2,  2609.1,2,   7.9706,2,    25.00,-999.000,9,-999.000,-999.0000,9, -999.00,9, -999.00,9,  -999.0,9,  -999.0,-999.000,9, -999.00,      79.80,2
06MT20110405,     MedSea,     291,          1,     209717,          8,2,20110408,       2215,    34.0670,    33.0000,       2498,   812.3,  13.7434,  38.7549,2,    178.4,2,   176.4,2,    9.02,2,    5.52,2,   -0.06,3,    0.22,2,   0.401,2,   0.138,2,  2306.2,2,  2610.3,2,   7.9680,2,    25.00,-999.000,9,-999.000,-999.0000,9, -999.00,9, -999.00,9,  -999.0,9,  -999.0,-999.000,9, -999.00,      76.50,2
06MT20110405,     MedSea,     291,          1,     209718,          9,2,20110408,       2222,    34.0670,    33.0000,       2498,   609.9,  13.8171,  38.7785,2,    176.4,2,  -999.0,9, -999.00,9, -999.00,9, -999.00,3, -999.00,9,-999.000,9,-999.000,9,  -999.0,9,  -999.0,9,-999.0000,9,  -999.00,-999.000,9,-999.000,-999.0000,9, -999.00,9, -999.00,9,  -999.0,9,  -999.0,-999.000,9, -999.00,     -999.0,9
06MT20110405,     MedSea,     291,          1,     209719,         10,2,20110408,       2226,    34.0670,    33.0000,       2498,   507.8,  13.9319,  38.8096,2,    176.2,2,   174.2,2,    8.04,2,    5.86,2,   -0.06,3,    0.22,2,   0.576,2,   0.272,2,  2311.1,2,  2610.8,2,   7.9582,2,    25.00,-999.000,9,-999.000,-999.0000,9, -999.00,9, -999.00,9,  -999.0,9,  -999.0,-999.000,9, -999.00,      87.00,2
06MT20110405,     MedSea,     291,          1,     209720,         11,2,20110408,       2230,    34.0670,    33.0000,       2498,   406.9,  14.1801,  38.8657,2,    179.2,2,   176.9,2,    6.91,2,    5.58,2,   -0.06,3,    0.21,2,   0.785,2,    0.36,2,  2314.4,2,  2612.9,2,   7.9537,2,    25.00,-999.000,9,-999.000,-999.0000,9, -999.00,9, -999.00,9,  -999.0,9,  -999.0,-999.000,9, -999.00,      71.00,2
06MT20110405,     MedSea,     291,          1,     209721,         12,2,20110408,       2235,    34.0670,    33.0000,       2498,   305.7,  14.7564,  38.9741,2,    188.9,2,   186.5,2,    5.10,2,    4.82,2,   -0.05,3,    0.16,2,   1.115,2,   0.631,2,  2315.8,2,  2617.2,2,   7.9608,2,    25.00,-999.000,9,-999.000,-999.0000,9, -999.00,9, -999.00,9,  -999.0,9,  -999.0,-999.000,9, -999.00,      67.50,2
06MT20110405,     MedSea,     291,          1,     209722,         13,2,20110408,       2238,    34.0670,    33.0000,       2498,   255.0,  15.2509,  39.0711,2,    197.1,2,   194.3,2,    3.51,2,    3.75,2,   -0.05,3,    0.10,2,   1.360,2,   0.945,2,  2314.8,2,  2620.6,2,   7.9648,2,    25.00,-999.000,9,-999.000,-999.0000,9, -999.00,9, -999.00,9,  -999.0,9,  -999.0,-999.000,9, -999.00,      61.20,2
06MT20110405,     MedSea,     291,          1,     209723,         14,2,20110408,       2241,    34.0670,    33.0000,       2498,   204.6,  15.6780,  39.1231,2,    200.1,2,   198.3,2,    2.55,2,    2.98,2,   -0.05,3,    0.06,2,   1.369,2,   1.185,2,  2313.8,2,  2623.0,2,   7.9686,2,    25.00,-999.000,9,-999.000,-999.0000,9, -999.00,9, -999.00,9,  -999.0,9,  -999.0,-999.000,9, -999.00,      62.70,2
06MT20110405,     MedSea,     291,          1,     209724,         15,2,20110408,       2245,    34.0670,    33.0000,       2498,   153.7,  16.3320,  39.1836,2,    207.4,2,   204.9,2,    1.56,2,    1.86,2,   -0.05,3,    0.02,2,   1.597,2,   1.251,2,  2306.7,2,  2623.9,2,   7.9828,2,    25.00,-999.000,9,-999.000,-999.0000,9, -999.00,9, -999.00,9,  -999.0,9,  -999.0,-999.000,9, -999.00,      55.80,2
06MT20110405,     MedSea,     291,          1,     209725,         16,2,20110408,       2247,    34.0670,    33.0000,       2498,   103.4,  16.7550,  39.1868,2,    210.9,2,  -999.0,9, -999.00,9, -999.00,9, -999.00,3, -999.00,9,-999.000,9,-999.000,9,  -999.0,9,  -999.0,9,-999.0000,9,  -999.00,-999.000,9,-999.000,-999.0000,9, -999.00,9, -999.00,9,  -999.0,9,  -999.0,-999.000,9, -999.00,     -999.0,9
06MT20110405,     MedSea,     291,          1,     209726,         17,2,20110408,       2248,    34.0670,    33.0000,       2498,   103.4,  16.8457,  39.1868,2,    214.9,2,   211.7,2,    0.97,2,    0.96,2,   -0.04,3,    0.00,2,   1.358,2,   1.243,2,  2298.0,2,  2623.3,2,   7.9941,2,    25.00,-999.000,9,-999.000,-999.0000,9, -999.00,9, -999.00,9,  -999.0,9,  -999.0,-999.000,9, -999.00,      54.80,2
06MT20110405,     MedSea,     291,          1,     209727,         18,2,20110408,       2249,    34.0670,    33.0000,       2498,    78.3,  17.0628,  39.1373,2,    219.9,2,   214.5,2,    0.79,2,    0.51,2,   -0.04,3,    0.00,2,   1.622,2,   1.325,2,  2291.0,2,  2620.2,2,   7.9968,2,    25.00,-999.000,9,-999.000,-999.0000,9, -999.00,9, -999.00,9,  -999.0,9,  -999.0,-999.000,9, -999.00,      51.30,2
06MT20110405,     MedSea,     291,          1,     209728,         19,2,20110408,       2251,    34.0670,    33.0000,       2498,    53.1,  17.3472,  39.1131,2,    227.7,2,   225.4,2,    0.67,2,    0.07,2,   -0.05,3,    0.00,2,   1.619,2,   1.369,2,  2277.3,2,  2613.7,2,   8.0170,2,    25.00,-999.000,9,-999.000,-999.0000,9, -999.00,9, -999.00,9,  -999.0,9,  -999.0,-999.000,9, -999.00,      54.90,2
06MT20110405,     MedSea,     291,          1,     209729,         20,2,20110408,       2252,    34.0670,    33.0000,       2498,    53.1,  17.3863,  39.1131,2,    228.3,2,  -999.0,9, -999.00,9, -999.00,9, -999.00,3, -999.00,9,-999.000,9,-999.000,9,  -999.0,9,  -999.0,9,-999.0000,9,  -999.00,-999.000,9,-999.000,-999.0000,9, -999.00,9, -999.00,9,  -999.0,9,  -999.0,-999.000,9, -999.00,     -999.0,9
06MT20110405,     MedSea,     291,          1,     209730,         21,2,20110408,       2253,    34.0670,    33.0000,       2498,    27.6,  18.0375,  39.1431,2,    229.6,2,  -999.0,9, -999.00,9, -999.00,9, -999.00,3, -999.00,9,-999.000,9,-999.000,9,  -999.0,9,  -999.0,9,-999.0000,9,  -999.00,-999.000,9,-999.000,-999.0000,9, -999.00,9, -999.00,9,  -999.0,9,  -999.0,-999.000,9, -999.00,     -999.0,9
06MT20110405,     MedSea,     291,          1,     209731,         22,2,20110408,       2254,    34.0670,    33.0000,       2498,    27.6,  18.0375,  39.1431,2,    228.5,2,   232.5,2,    0.62,2,    0.03,2,   -0.05,3,    0.00,2,   1.612,2,   1.436,2,  2272.4,2,  2612.2,2,   8.0235,2,    25.00,-999.000,9,-999.000,-999.0000,9, -999.00,9, -999.00,9,  -999.0,9,  -999.0,-999.000,9, -999.00,      54.60,2
06MT20110405,     MedSea,     291,          1,     209732,         23,2,20110408,       2256,    34.0670,    33.0000,       2498,     7.3,  18.1940,  39.1506,2,    228.0,2,   228.9,2,    0.61,2,    0.00,2,   -0.05,3,    0.00,2,   1.605,2,    1.45,2,  2271.9,2,  2612.6,2,   8.0278,2,    25.00,-999.000,9,-999.000,-999.0000,9, -999.00,9, -999.00,9,  -999.0,9,  -999.0,-999.000,9, -999.00,      49.60,2
06MT20110405,     MedSea,     291,          1,     209733,         24,2,20110408,       2256,    34.0670,    33.0000,       2498,     7.3,  18.1930,  39.1506,2,    228.5,2,  -999.0,9, -999.00,9, -999.00,9, -999.00,3, -999.00,9,-999.000,9,-999.000,9,  -999.0,9,  -999.0,9,-999.0000,9,  -999.00,-999.000,9,-999.000,-999.0000,9, -999.00,9, -999.00,9,  -999.0,9,  -999.0,-999.000,9, -999.00,     -999.0,9