BOTTLE,20170314CCHSIORJL
EXPOCODE,SECT_ID,STNNBR,CASTNO,BIONBR,BTLNBR,BTLNBR_FLAG_W,DATE,TIME,LATITUDE,LONGITUDE,DEPTH,CTDPRS,CTDTMP,CTDSAL,CTDSAL_FLAG_W,CTDOXY,CTDOXY_FLAG_W,OXYGEN,OXYGEN_FLAG_W,SILCAT,SILCAT_FLAG_W,NITRAT,NITRAT_FLAG_W,NITRIT,NITRIT_FLAG_W,PHSPHT,PHSPHT_FLAG_W,CFC-12,CFC-12_FLAG_W,SF6,SF6_FLAG_W,TCARBN,TCARBN_FLAG_W,ALKALI,ALKALI_FLAG_W,PH_TOT,PH_TOT_FLAG_W,PH_TMP,TRITUM,TRITUM_FLAG_W,TRITER,HELIUM,HELIUM_FLAG_W,DELHE3,DELHE3_FLAG_W,DELC13,DELC13_FLAG_W,DELC14,DELC14_FLAG_W,C14ERR,NEON,NEON_FLAG_W,DELHER,BARIUM,BARIUM_FLAG_W
,,,,,,,,,,,METERS,DBAR,ITS-90,PSS-78,,UMOL/KG,,UMOL/KG,,UMOL/KG,,UMOL/KG,,UMOL/KG,,UMOL/KG,,PMOL/KG,,FMOL/KG,,UMOL/KG,,UMOL/KG,,,,DEG C,TU,,TU,NMOL/KG,,PERCNT,,/MILLE,,/MILLE,,/MILLE,NMOL/KG,,PERCNT,UM/KG,
06MT20110405,     MedSea,     338,          1,     213169,          1,2,20110425,       0721,    35.9500,    -5.7540,        316,   305.8,  13.1362,  38.4871,2,    175.1,2,  -999.0,9, -999.00,9, -999.00,9, -999.00,9, -999.00,9,-999.000,9,-999.000,9,  -999.0,9,  -999.0,9,-999.0000,9,  -999.00,-999.000,9,-999.000,-999.0000,9, -999.00,9, -999.00,9,  -999.0,9,  -999.0,-999.000,9, -999.00,     -999.0,9
06MT20110405,     MedSea,     338,          1,     213170,          2,2,20110425,       0721,    35.9500,    -5.7540,        316,   305.7,  13.1360,  38.4871,2,    175.2,2,  -999.0,9, -999.00,9, -999.00,9, -999.00,9, -999.00,9,-999.000,9,-999.000,9,  -999.0,9,  -999.0,9,-999.0000,9,  -999.00,-999.000,9,-999.000,-999.0000,9, -999.00,9, -999.00,9,  -999.0,9,  -999.0,-999.000,9, -999.00,     -999.0,9
06MT20110405,     MedSea,     338,          1,     213171,          3,2,20110425,       0722,    35.9500,    -5.7540,        316,   305.9,  13.1358,  38.4872,2,    175.1,2,  -999.0,9, -999.00,9, -999.00,9, -999.00,9, -999.00,9,-999.000,9,-999.000,9,  -999.0,9,  -999.0,9,-999.0000,9,  -999.00,-999.000,9,-999.000,-999.0000,9, -999.00,9, -999.00,9,  -999.0,9,  -999.0,-999.000,9, -999.00,     -999.0,9
06MT20110405,     MedSea,     338,          1,     213172,          4,2,20110425,       0722,    35.9500,    -5.7540,        316,   305.8,  13.1354,  38.4871,2,    174.6,2,  -999.0,9, -999.00,9, -999.00,9, -999.00,9, -999.00,9,-999.000,9,-999.000,9,  -999.0,9,  -999.0,9,-999.0000,9,  -999.00,-999.000,9,-999.000,-999.0000,9, -999.00,9, -999.00,9,  -999.0,9,  -999.0,-999.000,9, -999.00,     -999.0,9
06MT20110405,     MedSea,     338,          1,     213173,          5,2,20110425,       0722,    35.9500,    -5.7540,        316,   306.0,  13.1357,  38.4873,2,    175.7,2,  -999.0,9, -999.00,9, -999.00,9, -999.00,9, -999.00,9,-999.000,9,-999.000,9,  -999.0,9,  -999.0,9,-999.0000,9,  -999.00,-999.000,9,-999.000,-999.0000,9, -999.00,9, -999.00,9,  -999.0,9,  -999.0,-999.000,9, -999.00,     -999.0,9
06MT20110405,     MedSea,     338,          1,     213174,          6,2,20110425,       0722,    35.9500,    -5.7540,        316,   305.9,  13.1360,  38.4872,2,    175.7,2,  -999.0,9, -999.00,9, -999.00,9, -999.00,9, -999.00,9,-999.000,9,-999.000,9,  -999.0,9,  -999.0,9,-999.0000,9,  -999.00,-999.000,9,-999.000,-999.0000,9, -999.00,9, -999.00,9,  -999.0,9,  -999.0,-999.000,9, -999.00,     -999.0,9
06MT20110405,     MedSea,     338,          1,     213175,          7,2,20110425,       0723,    35.9500,    -5.7540,        316,   305.7,  13.1349,  38.4871,2,    175.7,2,   175.6,2,    7.46,2,    9.79,2,    0.00,2,    0.44,2,   0.859,2,-999.000,9,  2328.9,2,  2585.0,2,   7.8889,2,    25.00,   0.580,2,   0.010,   1.7900,2,    6.37,2,    0.76,2,   -15.2,2,     0.3,   7.320,2, -999.00,      71.90,2
06MT20110405,     MedSea,     338,          1,     213176,          8,2,20110425,       0724,    35.9500,    -5.7540,        316,   276.5,  13.1282,  38.4855,2,    176.0,2,  -999.0,9,    7.55,2,    9.75,2,    0.00,2,    0.42,2,-999.000,9,-999.000,9,  2328.9,2,  2585.6,2,-999.0000,9,  -999.00,-999.000,9,-999.000,-999.0000,9, -999.00,9, -999.00,9,  -999.0,9,  -999.0,-999.000,9, -999.00,      79.10,2
06MT20110405,     MedSea,     338,          1,     213177,          9,2,20110425,       0726,    35.9500,    -5.7540,        316,   252.8,  13.1404,  38.4806,2,    174.6,2,   176.8,2,    7.28,2,    9.76,2,    0.00,2,    0.42,2,   0.869,2,-999.000,9,  2331.2,2,  2584.4,2,   7.8856,2,    25.00,   0.590,2,   0.040,   1.7900,2,    6.15,2,    0.72,2,    -4.9,2,     0.3,   7.230,2, -999.00,      75.00,2
06MT20110405,     MedSea,     338,          1,     213178,         10,2,20110425,       0727,    35.9500,    -5.7540,        316,   226.0,  13.1536,  38.4755,2,    174.4,2,  -999.0,9,    7.08,2,    9.78,2,    0.00,2,    0.42,2,-999.000,9,-999.000,9,  2330.0,2,  2583.9,2,-999.0000,9,  -999.00,-999.000,9,-999.000,-999.0000,9, -999.00,9, -999.00,9,  -999.0,9,  -999.0,-999.000,9, -999.00,      80.30,2
06MT20110405,     MedSea,     338,          1,     213179,         11,2,20110425,       0729,    35.9500,    -5.7540,        316,   199.9,  13.1533,  38.4729,2,    175.1,2,   172.3,2,    7.00,2,    9.79,2,    0.00,2,    0.41,2,   0.916,2,-999.000,9,  2326.4,2,  2583.4,2,   7.8856,2,    25.00,   0.610,2,   0.020,   1.7700,2,    5.81,2,    0.75,2,    -7.7,2,     0.4,   7.250,2, -999.00,      70.70,2
06MT20110405,     MedSea,     338,          1,     213180,         12,2,20110425,       0731,    35.9500,    -5.7540,        316,   175.2,  13.1524,  38.4672,2,    175.6,2,  -999.0,9,    6.83,2,    9.62,2,    0.00,2,    0.41,2,-999.000,9,-999.000,9,  2324.3,2,  2582.6,2,-999.0000,9,  -999.00,-999.000,9,-999.000,-999.0000,9, -999.00,9, -999.00,9,  -999.0,9,  -999.0,-999.000,9, -999.00,      71.00,2
06MT20110405,     MedSea,     338,          1,     213181,         13,2,20110425,       0733,    35.9500,    -5.7540,        316,   153.2,  13.1713,  38.4322,2,    175.7,2,   174.1,2,    5.70,2,    9.55,2,    0.00,2,    0.40,2,   1.088,2,-999.000,9,  2325.2,2,  2578.7,2,   7.8802,2,    25.00,   0.710,2,   0.020,   1.7600,2,    4.10,2,    0.69,2,     8.0,2,     0.4,   7.260,2, -999.00,      66.40,2
06MT20110405,     MedSea,     338,          1,     213182,         14,2,20110425,       0733,    35.9500,    -5.7540,        316,   153.3,  13.1713,  38.4325,2,    176.1,2,  -999.0,9, -999.00,9, -999.00,9, -999.00,9, -999.00,9,-999.000,9,-999.000,9,  -999.0,9,  -999.0,9,-999.0000,9,  -999.00,-999.000,9,-999.000,-999.0000,9, -999.00,9, -999.00,9,  -999.0,9,  -999.0,-999.000,9, -999.00,     -999.0,9
06MT20110405,     MedSea,     338,          1,     213183,         15,2,20110425,       0735,    35.9500,    -5.7540,        316,   100.3,  13.2643,  38.2118,2,    201.9,2,   202.5,2,    3.14,2,    6.22,2,    0.02,2,    0.23,2,   1.409,2,-999.000,9,  2297.9,2,  2562.5,2,   7.9006,2,    25.00,   0.870,2,   0.020,   1.6900,2,    0.63,2,    0.69,2,    21.8,2,     0.3,   7.090,2, -999.00,      65.10,2
06MT20110405,     MedSea,     338,          1,     213184,         16,2,20110425,       0735,    35.9500,    -5.7540,        316,   100.4,  13.2649,  38.2144,2,    202.5,2,  -999.0,9, -999.00,9, -999.00,9, -999.00,9, -999.00,9,-999.000,9,-999.000,9,  -999.0,9,  -999.0,9,-999.0000,9,  -999.00,-999.000,9,-999.000,-999.0000,9, -999.00,9, -999.00,9,  -999.0,9,  -999.0,-999.000,9, -999.00,     -999.0,9
06MT20110405,     MedSea,     338,          1,     213185,         17,2,20110425,       0737,    35.9500,    -5.7540,        316,    75.5,  13.6880,  37.9214,2,    201.3,2,   201.7,2, -999.00,9, -999.00,9, -999.00,9, -999.00,9,   1.414,2,-999.000,9,  2271.4,2,  2534.0,2,   7.9055,2,    25.00,   0.800,2,   0.050,   1.7500,2,    1.50,2,    0.72,2,    20.8,2,     0.3,   7.280,2, -999.00,      60.20,2
06MT20110405,     MedSea,     338,          1,     213186,         18,2,20110425,       0737,    35.9500,    -5.7540,        316,    75.8,  13.6742,  37.9224,2,    201.7,2,  -999.0,9, -999.00,9, -999.00,9, -999.00,9, -999.00,9,-999.000,9,-999.000,9,  -999.0,9,  -999.0,9,-999.0000,9,  -999.00,-999.000,9,-999.000,-999.0000,9, -999.00,9, -999.00,9,  -999.0,9,  -999.0,-999.000,9, -999.00,     -999.0,9
06MT20110405,     MedSea,     338,          1,     213187,         19,2,20110425,       0738,    35.9500,    -5.7540,        316,    52.1,  16.7812,  36.2666,2,    230.3,2,   232.6,2, -999.00,9, -999.00,9, -999.00,9, -999.00,9,   1.448,2,-999.000,9,  2108.7,2,  2381.1,2,   7.9630,2,    25.00,   0.650,2,   0.080,   1.7600,2,   -1.54,2,    0.94,2,    53.0,2,     0.3,   7.110,2, -999.00,      41.20,2
06MT20110405,     MedSea,     338,          1,     213188,         20,2,20110425,       0738,    35.9500,    -5.7540,        316,    52.2,  16.7651,  36.2647,2,    229.2,2,  -999.0,9, -999.00,9, -999.00,9, -999.00,9, -999.00,9,-999.000,9,-999.000,9,  -999.0,9,  -999.0,9,-999.0000,9,  -999.00,-999.000,9,-999.000,-999.0000,9, -999.00,9, -999.00,9,  -999.0,9,  -999.0,-999.000,9, -999.00,     -999.0,9
06MT20110405,     MedSea,     338,          1,     213189,         21,2,20110425,       0740,    35.9500,    -5.7540,        316,    26.6,  17.5343,  36.2962,2,    236.5,2,  -999.0,9,    0.37,2,    1.88,2,    0.09,2,    0.11,2,-999.000,9,-999.000,9,  2097.1,2,  2383.6,2,-999.0000,9,  -999.00,-999.000,9,-999.000,-999.0000,9, -999.00,9,    0.99,2,    38.5,2,     0.4,-999.000,9, -999.00,      47.10,2
06MT20110405,     MedSea,     338,          1,     213190,         22,2,20110425,       0740,    35.9500,    -5.7540,        316,    26.7,  17.5506,  36.2957,2,    237.2,2,  -999.0,9, -999.00,9, -999.00,9, -999.00,9, -999.00,9,-999.000,9,-999.000,9,  -999.0,9,  -999.0,9,-999.0000,9,  -999.00,-999.000,9,-999.000,-999.0000,9, -999.00,9, -999.00,9,  -999.0,9,  -999.0,-999.000,9, -999.00,     -999.0,9
06MT20110405,     MedSea,     338,          1,     213191,         23,2,20110425,       0741,    35.9500,    -5.7540,        316,     5.6,  17.9504,  36.2936,2,    237.6,2,   242.4,2,   -0.12,2,    0.07,2,    0.01,2,    0.02,2,   1.417,2,-999.000,9,  2094.2,2,  2384.3,2,   8.0003,2,    25.00,   0.680,2,   0.030,   1.7300,2,   -1.35,2,    1.12,2,    60.5,2,     0.4,   7.030,2, -999.00,      41.30,2
06MT20110405,     MedSea,     338,          1,     213192,         24,2,20110425,       0742,    35.9500,    -5.7540,        316,     5.6,  17.9493,  36.2936,2,    237.7,2,  -999.0,9, -999.00,9, -999.00,9, -999.00,9, -999.00,9,-999.000,9,-999.000,9,  -999.0,9,  -999.0,9,-999.0000,9,  -999.00,-999.000,9,-999.000,-999.0000,9, -999.00,9, -999.00,9,  -999.0,9,  -999.0,-999.000,9, -999.00,     -999.0,9