BOTTLE,20170314CCHSIORJL
EXPOCODE,SECT_ID,STNNBR,CASTNO,BIONBR,BTLNBR,BTLNBR_FLAG_W,DATE,TIME,LATITUDE,LONGITUDE,DEPTH,CTDPRS,CTDTMP,CTDSAL,CTDSAL_FLAG_W,CTDOXY,CTDOXY_FLAG_W,OXYGEN,OXYGEN_FLAG_W,SILCAT,SILCAT_FLAG_W,NITRAT,NITRAT_FLAG_W,NITRIT,NITRIT_FLAG_W,PHSPHT,PHSPHT_FLAG_W,CFC-12,CFC-12_FLAG_W,SF6,SF6_FLAG_W,TCARBN,TCARBN_FLAG_W,ALKALI,ALKALI_FLAG_W,PH_TOT,PH_TOT_FLAG_W,PH_TMP,TRITUM,TRITUM_FLAG_W,TRITER,HELIUM,HELIUM_FLAG_W,DELHE3,DELHE3_FLAG_W,DELC13,DELC13_FLAG_W,DELC14,DELC14_FLAG_W,C14ERR,NEON,NEON_FLAG_W,DELHER,BARIUM,BARIUM_FLAG_W
,,,,,,,,,,,METERS,DBAR,ITS-90,PSS-78,,UMOL/KG,,UMOL/KG,,UMOL/KG,,UMOL/KG,,UMOL/KG,,UMOL/KG,,PMOL/KG,,FMOL/KG,,UMOL/KG,,UMOL/KG,,,,DEG C,TU,,TU,NMOL/KG,,PERCNT,,/MILLE,,/MILLE,,/MILLE,NMOL/KG,,PERCNT,UM/KG,
06MT20110405,     MedSea,     329,          1,     212462,          1,2,20110423,       0248,    37.9000,     2.0000,       2760,  2750.0,  13.3240,  38.4818,2,    197.1,2,  -999.0,9, -999.00,9, -999.00,9, -999.00,9, -999.00,9,-999.000,9,-999.000,9,  -999.0,9,  -999.0,9,-999.0000,9,  -999.00,-999.000,9,-999.000,-999.0000,9, -999.00,9, -999.00,9,  -999.0,9,  -999.0,-999.000,9, -999.00,     -999.0,9
06MT20110405,     MedSea,     329,          1,     212463,          2,2,20110423,       0248,    37.9000,     2.0000,       2760,  2750.0,  13.3239,  38.4818,2,    197.5,2,  -999.0,9, -999.00,9, -999.00,9, -999.00,9, -999.00,9,-999.000,9,-999.000,9,  -999.0,9,  -999.0,9,-999.0000,9,  -999.00,-999.000,9,-999.000,-999.0000,9, -999.00,9, -999.00,9,  -999.0,9,  -999.0,-999.000,9, -999.00,     -999.0,9
06MT20110405,     MedSea,     329,          1,     212464,          3,2,20110423,       0248,    37.9000,     2.0000,       2760,  2749.4,  13.3240,  38.4818,2,    197.0,2,   199.2,2,    7.97,2,    7.89,2,    0.01,2,    0.36,2,   0.900,2,-999.000,9,  2323.7,2,  2589.5,2,   7.9035,2,    25.00,-999.000,9,-999.000,-999.0000,9, -999.00,9, -999.00,9,  -999.0,9,  -999.0,-999.000,9, -999.00,      72.50,2
06MT20110405,     MedSea,     329,          1,     212465,          4,2,20110423,       0253,    37.9000,     2.0000,       2760,  2542.8,  13.2826,  38.4789,2,    197.5,2,   199.1,2,    8.07,2,    7.89,2,    0.00,2,    0.37,2,   0.860,2,-999.000,9,  2321.9,2,  2585.3,2,   7.9055,2,    25.00,-999.000,9,-999.000,-999.0000,9, -999.00,9, -999.00,9,  -999.0,9,  -999.0,-999.000,9, -999.00,      77.00,2
06MT20110405,     MedSea,     329,          1,     212466,          5,2,20110423,       0259,    37.9000,     2.0000,       2760,  2286.6,  13.2338,  38.4761,2,    196.1,2,   198.9,2,    8.09,2,    7.86,2,    0.00,2,    0.36,2,   0.853,2,-999.000,9,  2321.3,2,  2586.3,2,   7.9052,2,    25.00,-999.000,9,-999.000,-999.0000,9, -999.00,9, -999.00,9,  -999.0,9,  -999.0,-999.000,9, -999.00,      72.90,2
06MT20110405,     MedSea,     329,          1,     212467,          6,2,20110423,       0305,    37.9000,     2.0000,       2760,  2031.8,  13.1987,  38.4755,2,    196.3,2,   197.8,2,    7.88,2,    7.87,2,    0.00,2,    0.37,2,   0.813,2,-999.000,9,  2318.6,2,  2586.5,2,   7.9051,2,    25.00,-999.000,9,-999.000,-999.0000,9, -999.00,9, -999.00,9,  -999.0,9,  -999.0,-999.000,9, -999.00,      73.00,2
06MT20110405,     MedSea,     329,          1,     212468,          7,2,20110423,       0311,    37.9000,     2.0000,       2760,  1777.6,  13.1611,  38.4730,2,    194.1,2,   196.9,2,    7.90,2,    7.91,2,    0.00,2,    0.38,2,   0.769,2,-999.000,9,  2318.0,2,  2585.8,2,   7.9099,2,    25.00,-999.000,9,-999.000,-999.0000,9, -999.00,9, -999.00,9,  -999.0,9,  -999.0,-999.000,9, -999.00,      73.30,2
06MT20110405,     MedSea,     329,          1,     212469,          8,2,20110423,       0318,    37.9000,     2.0000,       2760,  1522.7,  13.1097,  38.4668,2,    191.9,2,   198.1,2,    8.16,2,    8.03,2,    0.00,2,    0.39,2,   0.719,2,-999.000,9,  2317.2,2,  2585.5,2,   7.9073,2,    25.00,-999.000,9,-999.000,-999.0000,9, -999.00,9, -999.00,9,  -999.0,9,  -999.0,-999.000,9, -999.00,      71.30,2
06MT20110405,     MedSea,     329,          1,     212470,          9,2,20110423,       0324,    37.9000,     2.0000,       2760,  1268.1,  13.0723,  38.4658,2,    190.0,2,   192.4,2,    8.20,2,    8.04,2,    0.00,2,    0.39,2,   0.681,2,-999.000,9,  2317.7,2,  2583.6,2,   7.9075,2,    25.00,-999.000,9,-999.000,-999.0000,9, -999.00,9, -999.00,9,  -999.0,9,  -999.0,-999.000,9, -999.00,      73.20,2
06MT20110405,     MedSea,     329,          1,     212471,         10,2,20110423,       0329,    37.9000,     2.0000,       2760,  1014.9,  13.0770,  38.4766,2,    187.4,2,   188.7,2,    8.16,2,    8.17,2,    0.00,2,    0.40,2,   0.674,2,-999.000,9,  2317.3,2,  2588.0,2,   7.9072,2,    25.00,-999.000,9,-999.000,-999.0000,9, -999.00,9, -999.00,9,  -999.0,9,  -999.0,-999.000,9, -999.00,      72.90,2
06MT20110405,     MedSea,     329,          1,     212472,         11,2,20110423,       0335,    37.9000,     2.0000,       2760,   812.4,  13.1079,  38.4914,2,    184.9,2,   184.9,2,    8.03,2,    8.22,2,    0.00,2,    0.39,2,   0.649,2,-999.000,9,  2319.2,2,  2586.9,2,   7.9069,2,    25.00,-999.000,9,-999.000,-999.0000,9, -999.00,9, -999.00,9,  -999.0,9,  -999.0,-999.000,9, -999.00,      78.30,2
06MT20110405,     MedSea,     329,          1,     212473,         12,2,20110423,       0340,    37.9000,     2.0000,       2760,   609.3,  13.2228,  38.5226,2,    178.2,2,   178.4,2,    7.62,2,    8.47,2,    0.00,2,    0.43,2,   0.701,2,-999.000,9,  2322.8,2,  2586.6,2,   7.9020,2,    25.00,-999.000,9,-999.000,-999.0000,9, -999.00,9, -999.00,9,  -999.0,9,  -999.0,-999.000,9, -999.00,      75.50,2
06MT20110405,     MedSea,     329,          1,     212474,         13,2,20110423,       0343,    37.9000,     2.0000,       2760,   508.9,  13.2718,  38.5339,2,    173.7,2,   172.4,2,    7.32,2,    8.76,2,    0.00,2,    0.46,2,   0.751,2,-999.000,9,  2327.1,2,  2587.0,2,   7.8927,2,    25.00,-999.000,9,-999.000,-999.0000,9, -999.00,9, -999.00,9,  -999.0,9,  -999.0,-999.000,9, -999.00,      70.20,2
06MT20110405,     MedSea,     329,          1,     212475,         14,2,20110423,       0346,    37.9000,     2.0000,       2760,   407.5,  13.3046,  38.5379,2,    169.4,2,   171.2,2,    6.98,2,    9.08,2,    0.01,2,    0.46,2,   0.810,2,-999.000,9,  2330.7,2,  2587.1,2,   7.8969,3,    25.00,-999.000,9,-999.000,-999.0000,9, -999.00,9, -999.00,9,  -999.0,9,  -999.0,-999.000,9, -999.00,      75.20,2
06MT20110405,     MedSea,     329,          1,     212476,         15,2,20110423,       0349,    37.9000,     2.0000,       2760,   305.5,  13.3633,  38.5305,2,    170.8,2,   168.3,2,    5.82,2,    8.91,2,    0.01,2,    0.43,2,   0.978,2,-999.000,9,  2332.4,2,  2588.0,2,   7.8815,2,    25.00,-999.000,9,-999.000,-999.0000,9, -999.00,9, -999.00,9,  -999.0,9,  -999.0,-999.000,9, -999.00,      71.50,2
06MT20110405,     MedSea,     329,          1,     212477,         16,2,20110423,       0351,    37.9000,     2.0000,       2760,   255.3,  13.3438,  38.4992,2,    173.3,2,   172.2,2,    5.13,2,    8.65,2,    0.02,2,    0.40,2,   1.070,2,-999.000,9,  2330.7,2,  2583.1,2,   7.8848,2,    25.00,-999.000,9,-999.000,-999.0000,9, -999.00,9, -999.00,9,  -999.0,9,  -999.0,-999.000,9, -999.00,      67.60,2
06MT20110405,     MedSea,     329,          1,     212478,         17,2,20110423,       0353,    37.9000,     2.0000,       2760,   204.3,  13.3000,  38.4499,2,    178.9,2,   177.6,2,    4.38,2,    8.16,2,    0.00,2,    0.38,2,   1.193,2,-999.000,9,  2326.9,2,  2574.9,2,   7.8797,2,    25.00,-999.000,9,-999.000,-999.0000,9, -999.00,9, -999.00,9,  -999.0,9,  -999.0,-999.000,9, -999.00,      65.40,2
06MT20110405,     MedSea,     329,          1,     212479,         18,2,20110423,       0355,    37.9000,     2.0000,       2760,   154.1,  13.1817,  38.3395,2,    191.0,2,   188.3,2,    3.39,2,    7.16,2,    0.01,2,    0.32,2,   1.321,2,-999.000,9,  2317.1,2,  2568.9,2,   7.8924,2,    25.00,-999.000,9,-999.000,-999.0000,9, -999.00,9, -999.00,9,  -999.0,9,  -999.0,-999.000,9, -999.00,      63.70,2
06MT20110405,     MedSea,     329,          1,     212480,         19,2,20110423,       0356,    37.9000,     2.0000,       2760,   103.6,  13.2543,  38.2178,2,    198.4,2,   197.3,2,    2.43,2,    5.87,2,    0.01,2,    0.24,2,   1.462,2,-999.000,9,  2305.0,2,  2557.7,2,   7.8903,2,    25.00,-999.000,9,-999.000,-999.0000,9, -999.00,9, -999.00,9,  -999.0,9,  -999.0,-999.000,9, -999.00,      58.40,2
06MT20110405,     MedSea,     329,          1,     212481,         20,2,20110423,       0358,    37.9000,     2.0000,       2760,    78.3,  13.5463,  38.1678,2,    201.7,2,   205.2,2,    1.81,2,    5.00,2,    0.02,2,    0.18,2,   1.482,2,-999.000,9,  2296.9,2,  2553.4,2,   7.8967,2,    25.00,-999.000,9,-999.000,-999.0000,9, -999.00,9, -999.00,9,  -999.0,9,  -999.0,-999.000,9, -999.00,      57.30,2
06MT20110405,     MedSea,     329,          1,     212482,         21,2,20110423,       0400,    37.9000,     2.0000,       2760,    53.7,  13.8243,  38.0222,2,    211.1,2,   212.3,2,    1.33,2,    3.68,2,    0.08,2,    0.12,2,   1.500,2,-999.000,9,  2279.9,2,  2545.0,2,   7.9139,2,    25.00,-999.000,9,-999.000,-999.0000,9, -999.00,9, -999.00,9,  -999.0,9,  -999.0,-999.000,9, -999.00,      54.40,2
06MT20110405,     MedSea,     329,          1,     212483,         22,2,20110423,       0401,    37.9000,     2.0000,       2760,    27.4,  14.6936,  37.5471,2,    245.6,2,   243.3,2,    0.65,2,    0.51,2,    0.04,2,    0.00,2,   1.516,2,-999.000,9,  2220.2,2,  2509.8,2,   7.9654,2,    25.00,-999.000,9,-999.000,-999.0000,9, -999.00,9, -999.00,9,  -999.0,9,  -999.0,-999.000,9, -999.00,      51.00,2
06MT20110405,     MedSea,     329,          1,     212484,         23,2,20110423,       0402,    37.9000,     2.0000,       2760,     7.7,  17.0290,  37.3724,2,    236.3,2,   239.9,2,    0.26,2,    0.00,2,    0.00,2,    0.00,2,   1.425,2,-999.000,9,  2188.0,2,  2479.4,2,   7.9765,2,    25.00,-999.000,9,-999.000,-999.0000,9, -999.00,9, -999.00,9,  -999.0,9,  -999.0,-999.000,9, -999.00,      52.90,2
06MT20110405,     MedSea,     329,          1,     212485,         24,2,20110423,       0403,    37.9000,     2.0000,       2760,     7.6,  17.0215,  37.3730,2,    235.7,2,  -999.0,9, -999.00,9, -999.00,9, -999.00,9, -999.00,9,-999.000,9,-999.000,9,  -999.0,9,  -999.0,9,-999.0000,9,  -999.00,-999.000,9,-999.000,-999.0000,9, -999.00,9, -999.00,9,  -999.0,9,  -999.0,-999.000,9, -999.00,     -999.0,9