BOTTLE,20150217PRINUNIVRMK
EXPOCODE,SECT_ID,STNNBR,CASTNO,BTLNBR,BTLNBR_FLAG_W,DATE,TIME,LATITUDE,LONGITUDE,DEPTH,CTDPRS,CTDTMP,CTDSAL,CTDSAL_FLAG_W,SALNTY,SALNTY_FLAG_W,OXYGEN,OXYGEN_FLAG_W,SILCAT,SILCAT_FLAG_W,NITRAT,NITRAT_FLAG_W,PHSPHT,PHSPHT_FLAG_W,TCARBN,TCARBN_FLAG_W,ALKALI,ALKALI_FLAG_W,THETA
,,,,,,,,,,METERS,DBAR,ITS-90,PSS-78,,PSS-78,,UMOL/KG,,UMOL/KG,,UMOL/KG,,UMOL/KG,,UMOL/KG,,UMOL/KG,,DEG C
  74DI20080820, AR07W,    57,  1,      1,2,20080906,1803, 59.8215, -40.7628, 2582,   2572.9,   1.4652,  34.8964,2,  34.8977,2,   -999.0,9,  -999.00,9,  -999.00,9,  -999.00,9,   2156.6,2,   -999.0,9,   1.2874
  74DI20080820, AR07W,    57,  1,      2,2,20080906,1803, 59.8215, -40.7628, 2582,   2552.4,   1.4542,  34.8962,2,-999.0000,9,   -999.0,9,  -999.00,9,  -999.00,9,  -999.00,9,   2158.2,2,   -999.0,9,   1.2784
  74DI20080820, AR07W,    57,  1,      3,2,20080906,1803, 59.8215, -40.7628, 2582,   2449.3,   1.6597,  34.8973,2,-999.0000,9,   -999.0,9,  -999.00,9,  -999.00,9,  -999.00,9,   2156.8,2,   -999.0,9,   1.4892
  74DI20080820, AR07W,    57,  1,      4,2,20080906,1803, 59.8215, -40.7628, 2582,   2348.2,   2.1332,  34.9049,2,-999.0000,9,   -999.0,9,  -999.00,9,  -999.00,9,  -999.00,9,   2159.5,2,   -999.0,9,   1.9632
  74DI20080820, AR07W,    57,  1,      5,2,20080906,1803, 59.8215, -40.7628, 2582,   2246.9,   2.5092,  34.9087,2,-999.0000,9,   -999.0,9,  -999.00,9,  -999.00,9,  -999.00,9,   2156.5,2,   -999.0,9,   2.3420
  74DI20080820, AR07W,    57,  1,      6,2,20080906,1803, 59.8215, -40.7628, 2582,   2144.0,   2.7556,  34.9180,2,  34.9207,2,   -999.0,9,  -999.00,9,  -999.00,9,  -999.00,9,   2161.9,2,   -999.0,9,   2.5937
  74DI20080820, AR07W,    57,  1,      7,2,20080906,1803, 59.8215, -40.7628, 2582,   2040.8,   2.9164,  34.9176,2,-999.0000,9,   -999.0,9,  -999.00,9,  -999.00,9,  -999.00,9,   2157.2,2,   -999.0,9,   2.7614
  74DI20080820, AR07W,    57,  1,      8,2,20080906,1803, 59.8215, -40.7628, 2582,   1939.4,   3.0835,  34.9199,2,-999.0000,9,   -999.0,9,  -999.00,9,  -999.00,9,  -999.00,9,   2155.9,2,   -999.0,9,   2.9353
  74DI20080820, AR07W,    57,  1,      9,2,20080906,1803, 59.8215, -40.7628, 2582,   1835.3,   3.2366,  34.9213,2,-999.0000,9,   -999.0,9,  -999.00,9,  -999.00,9,  -999.00,9,   2162.4,2,   -999.0,9,   3.0956
  74DI20080820, AR07W,    57,  1,     10,2,20080906,1803, 59.8215, -40.7628, 2582,   1734.0,   3.3145,  34.9215,2,-999.0000,9,   -999.0,9,  -999.00,9,  -999.00,9,  -999.00,9,   2159.8,2,   -999.0,9,   3.1816
  74DI20080820, AR07W,    57,  1,     11,2,20080906,1803, 59.8215, -40.7628, 2582,   1629.0,   3.4128,  34.9224,2,-999.0000,9,   -999.0,9,  -999.00,9,  -999.00,9,  -999.00,9,   2161.1,2,   -999.0,9,   3.2880
  74DI20080820, AR07W,    57,  1,     12,2,20080906,1803, 59.8215, -40.7628, 2582,   1523.7,   3.5269,  34.9275,2,-999.0000,9,   -999.0,9,  -999.00,9,  -999.00,9,  -999.00,9,   2160.5,2,   -999.0,9,   3.4101
  74DI20080820, AR07W,    57,  1,     13,2,20080906,1803, 59.8215, -40.7628, 2582,   1421.1,   3.6160,  34.9314,2,-999.0000,9,   -999.0,9,  -999.00,9,  -999.00,9,  -999.00,9,   -999.0,9,   -999.0,9,   3.5071
  74DI20080820, AR07W,    57,  1,     14,2,20080906,1803, 59.8215, -40.7628, 2582,   1319.1,   3.6739,  34.9252,2,  34.9266,2,   -999.0,9,  -999.00,9,  -999.00,9,  -999.00,9,   -999.0,9,   -999.0,9,   3.5733
  74DI20080820, AR07W,    57,  1,     15,2,20080906,1803, 59.8215, -40.7628, 2582,   1214.2,   3.7028,  34.9172,2,-999.0000,9,   -999.0,9,  -999.00,9,  -999.00,9,  -999.00,9,   -999.0,9,   -999.0,9,   3.6109
  74DI20080820, AR07W,    57,  1,     16,2,20080906,1803, 59.8215, -40.7628, 2582,   1118.4,   3.6808,  34.9006,2,-999.0000,9,   -999.0,9,  -999.00,9,  -999.00,9,  -999.00,9,   -999.0,9,   -999.0,9,   3.5972
  74DI20080820, AR07W,    57,  1,     17,2,20080906,1803, 59.8215, -40.7628, 2582,   1014.9,   3.7248,  34.8917,2,-999.0000,9,   -999.0,9,  -999.00,9,  -999.00,9,  -999.00,9,   -999.0,9,   -999.0,9,   3.6494
  74DI20080820, AR07W,    57,  1,     18,2,20080906,1803, 59.8215, -40.7628, 2582,    812.3,   3.9456,  34.9009,2,  34.9028,2,   -999.0,9,  -999.00,9,  -999.00,9,  -999.00,9,   -999.0,9,   -999.0,9,   3.8851
  74DI20080820, AR07W,    57,  1,     19,2,20080906,1803, 59.8215, -40.7628, 2582,    613.0,   4.1947,  34.9218,2,-999.0000,9,   -999.0,9,  -999.00,9,  -999.00,9,  -999.00,9,   -999.0,9,   -999.0,9,   4.1487
  74DI20080820, AR07W,    57,  1,     20,2,20080906,1803, 59.8215, -40.7628, 2582,    409.7,   4.6727,  34.9624,2,-999.0000,9,   -999.0,9,  -999.00,9,  -999.00,9,  -999.00,9,   -999.0,9,   -999.0,9,   4.6411
  74DI20080820, AR07W,    57,  1,     21,2,20080906,1803, 59.8215, -40.7628, 2582,    206.3,   5.5370,  35.0315,2,  33.0724,4,   -999.0,9,  -999.00,9,  -999.00,9,  -999.00,9,   -999.0,9,   -999.0,9,   5.5200
  74DI20080820, AR07W,    57,  1,     22,2,20080906,1803, 59.8215, -40.7628, 2582,    102.9,   6.1633,  35.0570,2,-999.0000,9,   -999.0,9,  -999.00,9,  -999.00,9,  -999.00,9,   -999.0,9,   -999.0,9,   6.1544
  74DI20080820, AR07W,    57,  1,     23,2,20080906,1803, 59.8215, -40.7628, 2582,     54.1,   6.8887,  35.0242,2,-999.0000,9,   -999.0,9,  -999.00,9,  -999.00,9,  -999.00,9,   -999.0,9,   -999.0,9,   6.8837
  74DI20080820, AR07W,    57,  1,     24,2,20080906,1803, 59.8215, -40.7628, 2582,     24.4,  10.2270,  34.9418,2,-999.0000,9,   -999.0,9,  -999.00,9,  -999.00,9,  -999.00,9,   -999.0,9,   -999.0,9,  10.2242
  74DI20080820, AR07W,    58,  1,      1,2,20080909,1210, 59.8625, -41.2240, 2028,   2018.3,   2.3630,  34.9057,2,  34.9095,2,    294.9,2,    10.05,2,    14.98,2,     1.11,2,   2156.1,2,   2303.2,2,   2.2185
  74DI20080820, AR07W,    58,  1,      2,2,20080909,1210, 59.8625, -41.2240, 2028,   2018.3,   2.3646,  34.9056,2,-999.0000,9,   -999.0,9,  -999.00,9,  -999.00,9,  -999.00,9,   -999.0,9,   -999.0,9,   2.2201
  74DI20080820, AR07W,    58,  1,      3,2,20080909,1210, 59.8625, -41.2240, 2028,   1933.3,   2.7192,  34.9192,2,-999.0000,9,   -999.0,9,    12.12,2,    15.93,2,     1.17,2,   2157.7,2,   2306.3,2,   2.5768
  74DI20080820, AR07W,    58,  1,      4,2,20080909,1210, 59.8625, -41.2240, 2028,   1832.2,   2.8608,  34.9233,2,  34.9264,2,   -999.0,9,    12.56,2,    16.09,2,     1.17,2,   2156.3,2,   2309.0,2,   2.7253
  74DI20080820, AR07W,    58,  1,      5,2,20080909,1210, 59.8625, -41.2240, 2028,   1731.1,   2.9258,  34.9194,2,-999.0000,9,   -999.0,9,    11.53,2,    15.87,2,     1.17,2,   2155.4,2,   2308.6,2,   2.7983
  74DI20080820, AR07W,    58,  1,      6,2,20080909,1210, 59.8625, -41.2240, 2028,   1628.2,   3.0424,  34.9207,2,-999.0000,9,    286.4,2,    11.42,2,    16.18,2,     1.19,2,   2156.8,2,   2301.3,2,   2.9223
  74DI20080820, AR07W,    58,  1,      7,2,20080909,1210, 59.8625, -41.2240, 2028,   1525.4,   3.1559,  34.9193,2,-999.0000,9,   -999.0,9,    10.67,2,    15.65,2,     1.15,2,   2154.1,2,   2305.8,2,   3.0432
  74DI20080820, AR07W,    58,  1,      8,2,20080909,1210, 59.8625, -41.2240, 2028,   1424.5,   3.2793,  34.9212,2,-999.0000,9,   -999.0,9,    10.59,2,    15.71,2,     1.17,2,   2153.9,2,   2309.7,2,   3.1738
  74DI20080820, AR07W,    58,  1,      9,2,20080909,1210, 59.8625, -41.2240, 2028,   1325.4,   3.4084,  34.9239,2,-999.0000,9,   -999.0,9,    10.38,2,    16.02,2,     1.17,2,   2157.0,2,   2308.2,2,   3.3099
  74DI20080820, AR07W,    58,  1,     10,2,20080909,1210, 59.8625, -41.2240, 2028,   1223.5,   3.5669,  34.9283,2,  34.9333,2,    283.6,2,    10.11,2,    16.00,2,     1.16,2,   2155.1,2,   2308.9,2,   3.4755
  74DI20080820, AR07W,    58,  1,     11,2,20080909,1210, 59.8625, -41.2240, 2028,   1121.6,   3.6693,  34.9296,2,-999.0000,9,   -999.0,9,    10.10,2,    16.17,2,     1.17,2,   2157.7,2,   2306.7,2,   3.5855
  74DI20080820, AR07W,    58,  1,     12,2,20080909,1210, 59.8625, -41.2240, 2028,   1020.2,   3.8119,  34.9303,2,-999.0000,9,   -999.0,9,  -999.00,9,  -999.00,9,  -999.00,9,   -999.0,9,   -999.0,9,   3.7353
  74DI20080820, AR07W,    58,  1,     13,2,20080909,1210, 59.8625, -41.2240, 2028,    918.5,   3.9638,  34.9306,2,-999.0000,9,   -999.0,9,  -999.00,9,  -999.00,9,  -999.00,9,   -999.0,9,   -999.0,9,   3.8945
  74DI20080820, AR07W,    58,  1,     14,2,20080909,1210, 59.8625, -41.2240, 2028,    816.7,   4.2013,  34.9395,2,-999.0000,9,   -999.0,9,     9.42,2,    16.00,2,     1.18,2,   2156.2,2,   2310.5,2,   4.1388
  74DI20080820, AR07W,    58,  1,     15,2,20080909,1210, 59.8625, -41.2240, 2028,    612.7,   4.6351,  34.9601,2,-999.0000,9,   -999.0,9,     8.98,2,    15.88,2,     1.17,2,   2154.9,2,   2311.5,2,   4.5870
  74DI20080820, AR07W,    58,  1,     16,2,20080909,1210, 59.8625, -41.2240, 2028,    409.8,   5.2594,  35.0033,2,-999.0000,9,    284.5,2,     8.43,2,    15.91,2,     1.15,2,   2152.1,2,   2313.1,2,   5.2259
  74DI20080820, AR07W,    58,  1,     17,2,20080909,1210, 59.8625, -41.2240, 2028,    308.0,   5.5777,  35.0296,2,-999.0000,9,   -999.0,9,     8.25,2,    15.87,2,     1.15,2,   2152.3,2,   2311.0,2,   5.5519
  74DI20080820, AR07W,    58,  1,     18,2,20080909,1210, 59.8625, -41.2240, 2028,    206.5,   6.1624,  35.0660,2,  35.0713,2,   -999.0,9,     7.65,2,    15.72,2,     1.13,2,   2150.8,2,   2315.7,2,   6.1443
  74DI20080820, AR07W,    58,  1,     19,2,20080909,1210, 59.8625, -41.2240, 2028,    105.2,   7.1105,  35.0973,2,-999.0000,9,   -999.0,9,     6.10,2,    14.62,2,     1.05,2,   2143.2,2,   2319.1,2,   7.1006
  74DI20080820, AR07W,    58,  1,     20,2,20080909,1210, 59.8625, -41.2240, 2028,     79.8,   7.3696,  35.0846,2,-999.0000,9,   -999.0,9,     5.56,2,    14.13,2,     1.01,2,   2140.0,2,   2318.8,2,   7.3619
  74DI20080820, AR07W,    58,  1,     21,2,20080909,1210, 59.8625, -41.2240, 2028,     54.7,   8.0646,  35.0784,2,-999.0000,9,   -999.0,9,     4.77,2,    12.80,2,     0.94,2,   2131.0,2,   2316.2,2,   8.0591
  74DI20080820, AR07W,    58,  1,     22,2,20080909,1210, 59.8625, -41.2240, 2028,     24.2,   9.5438,  35.0382,2,-999.0000,9,    282.8,2,     3.15,2,     8.51,2,     0.70,2,   -999.0,9,   -999.0,9,   9.5411
  74DI20080820, AR07W,    58,  1,     23,2,20080909,1210, 59.8625, -41.2240, 2028,      9.1,   9.8237,  35.0225,2,-999.0000,9,   -999.0,9,     2.77,2,     7.43,2,     0.62,2,   -999.0,9,   -999.0,9,   9.8227
  74DI20080820, AR07W,    58,  1,     24,2,20080909,1210, 59.8625, -41.2240, 2028,      9.1,   9.8256,  35.0224,2,  35.0253,2,   -999.0,9,     2.77,2,     7.40,2,     0.63,2,   -999.0,9,   -999.0,9,   9.8246
  74DI20080820, AR07W,    59,  1,      1,2,20080909,0825, 59.8930, -41.5293, 1892,   1882.6,   2.3286,  34.9051,2,  34.9093,2,   -999.0,9,     9.85,2,    15.10,2,     1.10,2,   -999.0,9,   -999.0,9,   2.1963
  74DI20080820, AR07W,    59,  1,      2,2,20080909,0825, 59.8930, -41.5293, 1892,   1882.4,   2.3299,  34.9052,2,-999.0000,9,   -999.0,9,  -999.00,9,  -999.00,9,  -999.00,9,   -999.0,9,   -999.0,9,   2.1976
  74DI20080820, AR07W,    59,  1,      3,2,20080909,0825, 59.8930, -41.5293, 1892,   1829.6,   2.3273,  34.9009,2,-999.0000,9,   -999.0,9,     9.87,2,    15.00,2,     1.10,2,   -999.0,9,   -999.0,9,   2.1995
  74DI20080820, AR07W,    59,  1,      4,2,20080909,0825, 59.8930, -41.5293, 1892,   1673.5,   2.7875,  34.9152,2,-999.0000,9,   -999.0,9,    10.85,2,    15.63,2,     1.14,2,   -999.0,9,   -999.0,9,   2.6667
  74DI20080820, AR07W,    59,  1,      5,2,20080909,0825, 59.8930, -41.5293, 1892,   1517.0,   3.1059,  34.9223,2,  34.9252,2,   -999.0,9,    11.10,2,    16.05,2,     1.18,2,   -999.0,9,   -999.0,9,   2.9945
  74DI20080820, AR07W,    59,  1,      6,2,20080909,0825, 59.8930, -41.5293, 1892,   1419.4,   3.2599,  34.9195,2,-999.0000,9,   -999.0,9,    10.69,2,    16.09,2,     1.18,2,   -999.0,9,   -999.0,9,   3.1551
  74DI20080820, AR07W,    59,  1,      7,2,20080909,0825, 59.8930, -41.5293, 1892,   1320.9,   3.4088,  34.9269,2,-999.0000,9,   -999.0,9,    10.62,2,    16.37,2,     1.19,2,   -999.0,9,   -999.0,9,   3.3107
  74DI20080820, AR07W,    59,  1,      8,2,20080909,0825, 59.8930, -41.5293, 1892,   1218.1,   3.5490,  34.9313,2,-999.0000,9,   -999.0,9,    10.60,2,    16.53,2,     1.19,2,   -999.0,9,   -999.0,9,   3.4582
  74DI20080820, AR07W,    59,  1,      9,2,20080909,0825, 59.8930, -41.5293, 1892,   1111.5,   3.6768,  34.9326,2,-999.0000,9,   -999.0,9,    10.40,2,    16.53,2,     1.20,2,   -999.0,9,   -999.0,9,   3.5937
  74DI20080820, AR07W,    59,  1,     10,2,20080909,0825, 59.8930, -41.5293, 1892,   1013.6,   3.7796,  34.9312,2,  34.9343,2,   -999.0,9,    10.23,2,    16.54,2,     1.19,2,   -999.0,9,   -999.0,9,   3.7038
  74DI20080820, AR07W,    59,  1,     11,2,20080909,0825, 59.8930, -41.5293, 1892,    913.9,   3.8612,  34.9305,2,-999.0000,9,   -999.0,9,    10.00,2,    16.31,2,     1.20,2,   -999.0,9,   -999.0,9,   3.7930
  74DI20080820, AR07W,    59,  1,     12,2,20080909,0825, 59.8930, -41.5293, 1892,    807.9,   3.9736,  34.9222,2,-999.0000,9,   -999.0,9,     9.72,2,    16.45,2,     1.20,2,   -999.0,9,   -999.0,9,   3.9132
  74DI20080820, AR07W,    59,  1,     13,2,20080909,0825, 59.8930, -41.5293, 1892,    609.0,   4.5149,  34.9528,2,-999.0000,9,   -999.0,9,     9.14,2,    16.26,2,     1.20,2,   -999.0,9,   -999.0,9,   4.4677
  74DI20080820, AR07W,    59,  1,     14,2,20080909,0825, 59.8930, -41.5293, 1892,    509.6,   4.9342,  34.9819,2,-999.0000,9,   -999.0,9,     8.83,2,    16.15,2,     1.18,2,   -999.0,9,   -999.0,9,   4.8934
  74DI20080820, AR07W,    59,  1,     15,2,20080909,0825, 59.8930, -41.5293, 1892,    408.1,   5.2661,  35.0049,2,-999.0000,9,   -999.0,9,     8.58,2,    16.04,2,     1.17,2,   -999.0,9,   -999.0,9,   5.2327
  74DI20080820, AR07W,    59,  1,     16,2,20080909,0825, 59.8930, -41.5293, 1892,    306.7,   5.8331,  35.0479,2,-999.0000,9,   -999.0,9,     8.10,2,    15.78,2,     1.15,2,   -999.0,9,   -999.0,9,   5.8068
  74DI20080820, AR07W,    59,  1,     17,2,20080909,0825, 59.8930, -41.5293, 1892,    205.2,   6.5728,  35.0954,2,-999.0000,9,   -999.0,9,     7.06,2,    15.56,2,     1.12,2,   -999.0,9,   -999.0,9,   6.5542
  74DI20080820, AR07W,    59,  1,     18,2,20080909,0825, 59.8930, -41.5293, 1892,    154.5,   7.0295,  35.1073,2,  35.1098,2,   -999.0,9,     6.20,2,    14.89,2,     1.06,2,   -999.0,9,   -999.0,9,   7.0150
  74DI20080820, AR07W,    59,  1,     19,2,20080909,0825, 59.8930, -41.5293, 1892,    103.6,   7.7627,  35.0842,2,-999.0000,9,   -999.0,9,     5.10,2,    13.31,2,     0.97,2,   -999.0,9,   -999.0,9,   7.7524
  74DI20080820, AR07W,    59,  1,     20,2,20080909,0825, 59.8930, -41.5293, 1892,     77.9,   8.2625,  35.0740,2,-999.0000,9,   -999.0,9,     4.46,2,    11.98,2,     0.90,2,   -999.0,9,   -999.0,9,   8.2545
  74DI20080820, AR07W,    59,  1,     21,2,20080909,0825, 59.8930, -41.5293, 1892,     52.8,   9.4963,  35.0434,2,-999.0000,9,   -999.0,9,     3.15,2,     8.54,2,     0.69,2,   -999.0,9,   -999.0,9,   9.4904
  74DI20080820, AR07W,    59,  1,     22,2,20080909,0825, 59.8930, -41.5293, 1892,     22.6,   9.5909,  35.0393,2,  35.0416,2,   -999.0,9,     2.98,2,     8.20,2,     0.69,2,   -999.0,9,   -999.0,9,   9.5884
  74DI20080820, AR07W,    59,  1,     23,2,20080909,0825, 59.8930, -41.5293, 1892,      7.5,   9.5873,  35.0391,2,-999.0000,9,   -999.0,9,     3.01,2,     8.10,2,     0.69,2,   -999.0,9,   -999.0,9,   9.5865
  74DI20080820, AR07W,    59,  1,     24,2,20080909,0825, 59.8930, -41.5293, 1892,      7.4,   9.5872,  35.0391,2,-999.0000,9,   -999.0,9,     2.98,2,     8.13,2,     0.67,2,   -999.0,9,   -999.0,9,   9.5864