BOTTLE,20150217PRINUNIVRMK
EXPOCODE,SECT_ID,STNNBR,CASTNO,BTLNBR,BTLNBR_FLAG_W,DATE,TIME,LATITUDE,LONGITUDE,DEPTH,CTDPRS,CTDTMP,CTDSAL,CTDSAL_FLAG_W,SALNTY,SALNTY_FLAG_W,OXYGEN,OXYGEN_FLAG_W,SILCAT,SILCAT_FLAG_W,NITRAT,NITRAT_FLAG_W,PHSPHT,PHSPHT_FLAG_W,TCARBN,TCARBN_FLAG_W,ALKALI,ALKALI_FLAG_W,THETA
,,,,,,,,,,METERS,DBAR,ITS-90,PSS-78,,PSS-78,,UMOL/KG,,UMOL/KG,,UMOL/KG,,UMOL/KG,,UMOL/KG,,UMOL/KG,,DEG C
  74DI20080820, AR07W,    10,  1,      1,2,20080823,1901, 55.1017, -54.1058, 2918,    907.9,   4.1463,  34.9010,2,  34.9028,2,   -999.0,9,  -999.00,9,  -999.00,9,  -999.00,9,   -999.0,9,   -999.0,9,   4.0766
  74DI20080820, AR07W,    10,  1,      2,2,20080823,1901, 55.1017, -54.1058, 2918,    908.1,   4.1462,  34.9010,2,-999.0000,9,   -999.0,9,    10.05,2,    16.20,2,     1.17,2,   -999.0,9,   -999.0,9,   4.0765
  74DI20080820, AR07W,    10,  1,      3,2,20080823,1901, 55.1017, -54.1058, 2918,    808.4,   4.1643,  34.9014,2,-999.0000,9,    288.4,2,  -999.00,9,  -999.00,9,  -999.00,9,   -999.0,9,   -999.0,9,   4.1027
  74DI20080820, AR07W,    10,  1,      4,2,20080823,1901, 55.1017, -54.1058, 2918,    808.4,   4.1645,  34.9014,2,-999.0000,9,   -999.0,9,    10.05,2,    16.20,2,     1.17,2,   -999.0,9,   -999.0,9,   4.1029
  74DI20080820, AR07W,    10,  1,      5,2,20080823,1901, 55.1017, -54.1058, 2918,    707.3,   4.1713,  34.9008,2,-999.0000,9,   -999.0,9,  -999.00,9,  -999.00,9,  -999.00,9,   -999.0,9,   -999.0,9,   4.1179
  74DI20080820, AR07W,    10,  1,      6,2,20080823,1901, 55.1017, -54.1058, 2918,    707.4,   4.1715,  34.9008,2,-999.0000,9,   -999.0,9,     9.95,2,    16.29,2,     1.17,2,   -999.0,9,   -999.0,9,   4.1181
  74DI20080820, AR07W,    10,  1,      7,2,20080823,1901, 55.1017, -54.1058, 2918,    606.2,   4.3933,  34.9092,2,-999.0000,9,    296.5,2,  -999.00,9,  -999.00,9,  -999.00,9,   -999.0,9,   -999.0,9,   4.3470
  74DI20080820, AR07W,    10,  1,      8,2,20080823,1901, 55.1017, -54.1058, 2918,    606.3,   4.3886,  34.9090,2,-999.0000,9,   -999.0,9,     9.07,2,    15.90,2,     1.17,2,   -999.0,9,   -999.0,9,   4.3423
  74DI20080820, AR07W,    10,  1,      9,2,20080823,1901, 55.1017, -54.1058, 2918,    504.7,   4.6726,  34.9185,2,  34.9200,2,   -999.0,9,  -999.00,9,  -999.00,9,  -999.00,9,   -999.0,9,   -999.0,9,   4.6333
  74DI20080820, AR07W,    10,  1,     10,2,20080823,1901, 55.1017, -54.1058, 2918,    504.7,   4.6730,  34.9185,2,-999.0000,9,   -999.0,9,     8.88,2,    16.59,2,     1.17,2,   -999.0,9,   -999.0,9,   4.6337
  74DI20080820, AR07W,    10,  1,     11,2,20080823,1901, 55.1017, -54.1058, 2918,    403.9,   4.8351,  34.9082,2,-999.0000,9,    281.8,2,  -999.00,9,  -999.00,9,  -999.00,9,   -999.0,9,   -999.0,9,   4.8034
  74DI20080820, AR07W,    10,  1,     12,2,20080823,1901, 55.1017, -54.1058, 2918,    403.9,   4.8354,  34.9082,2,-999.0000,9,   -999.0,9,     9.56,2,    15.80,2,     1.17,2,   -999.0,9,   -999.0,9,   4.8037
  74DI20080820, AR07W,    10,  1,     13,2,20080823,1901, 55.1017, -54.1058, 2918,    303.0,   4.8015,  34.8560,2,-999.0000,9,   -999.0,9,  -999.00,9,  -999.00,9,  -999.00,9,   -999.0,9,   -999.0,9,   4.7781
  74DI20080820, AR07W,    10,  1,     14,2,20080823,1901, 55.1017, -54.1058, 2918,    303.1,   4.7995,  34.8556,2,-999.0000,9,   -999.0,9,     8.00,2,    15.61,2,     1.07,2,   -999.0,9,   -999.0,9,   4.7761
  74DI20080820, AR07W,    10,  1,     15,2,20080823,1901, 55.1017, -54.1058, 2918,    201.9,   3.9262,  34.5791,2,  34.5846,2,    295.8,2,  -999.00,9,  -999.00,9,  -999.00,9,   -999.0,9,   -999.0,9,   3.9122
  74DI20080820, AR07W,    10,  1,     16,2,20080823,1901, 55.1017, -54.1058, 2918,    202.0,   3.9418,  34.5832,2,-999.0000,9,   -999.0,9,     7.90,2,    14.15,2,     1.07,2,   -999.0,9,   -999.0,9,   3.9278
  74DI20080820, AR07W,    10,  1,     17,2,20080823,1901, 55.1017, -54.1058, 2918,    101.0,  -0.0717,  33.6168,2,-999.0000,9,   -999.0,9,  -999.00,9,  -999.00,9,  -999.00,9,   -999.0,9,   -999.0,9,  -0.0751
  74DI20080820, AR07W,    10,  1,     18,2,20080823,1901, 55.1017, -54.1058, 2918,    101.3,  -0.0675,  33.6185,2,-999.0000,9,   -999.0,9,     9.95,2,    10.73,2,     0.98,2,   -999.0,9,   -999.0,9,  -0.0709
  74DI20080820, AR07W,    10,  1,     19,2,20080823,1901, 55.1017, -54.1058, 2918,     51.0,   0.0094,  33.2145,2,-999.0000,9,   -999.0,9,  -999.00,9,  -999.00,9,  -999.00,9,   -999.0,9,   -999.0,9,   0.0077
  74DI20080820, AR07W,    10,  1,     20,2,20080823,1901, 55.1017, -54.1058, 2918,     51.1,   0.0107,  33.2133,2,-999.0000,9,   -999.0,9,     7.41,2,     7.41,2,     0.88,2,   -999.0,9,   -999.0,9,   0.0090
  74DI20080820, AR07W,    10,  1,     21,2,20080823,1901, 55.1017, -54.1058, 2918,     25.6,   1.9634,  33.0631,2,-999.0000,9,    354.9,2,  -999.00,9,  -999.00,9,  -999.00,9,   -999.0,9,   -999.0,9,   1.9621
  74DI20080820, AR07W,    10,  1,     22,2,20080823,1901, 55.1017, -54.1058, 2918,     25.5,   1.9784,  33.0636,2,-999.0000,9,   -999.0,9,     2.44,2,     4.98,2,     0.49,2,   -999.0,9,   -999.0,9,   1.9771
  74DI20080820, AR07W,    10,  1,     23,2,20080823,1901, 55.1017, -54.1058, 2918,      3.5,   8.1359,  32.5923,2,  32.5970,2,   -999.0,9,  -999.00,9,  -999.00,9,  -999.00,9,   -999.0,9,   -999.0,9,   8.1356
  74DI20080820, AR07W,    10,  1,     24,2,20080823,1901, 55.1017, -54.1058, 2918,      3.5,   8.1705,  32.5908,2,-999.0000,9,   -999.0,9,     0.49,2,     0.78,2,     0.20,2,   -999.0,9,   -999.0,9,   8.1702
  74DI20080820, AR07W,    11,  1,      1,2,20080823,2113, 55.1848, -54.0413, 2918,   1517.7,   3.5060,  34.9105,2,-999.0000,9,   -999.0,9,  -999.00,9,  -999.00,9,  -999.00,9,   2152.7,2,   -999.0,9,   3.3900
  74DI20080820, AR07W,    11,  1,      2,2,20080823,2113, 55.1848, -54.0413, 2918,   1517.5,   3.5068,  34.9105,2,  34.9127,2,   -999.0,9,    11.01,2,    16.60,2,     1.17,2,   -999.0,9,   -999.0,9,   3.3908
  74DI20080820, AR07W,    11,  1,      3,2,20080823,2113, 55.1848, -54.0413, 2918,   1415.7,   3.6244,  34.9104,2,-999.0000,9,   -999.0,9,  -999.00,9,  -999.00,9,  -999.00,9,   2153.6,2,   -999.0,9,   3.5160
  74DI20080820, AR07W,    11,  1,      4,2,20080823,2113, 55.1848, -54.0413, 2918,   1415.7,   3.6246,  34.9104,2,-999.0000,9,   -999.0,9,     7.02,3,    11.19,4,     0.88,4,   -999.0,9,   -999.0,9,   3.5162
  74DI20080820, AR07W,    11,  1,      5,2,20080823,2113, 55.1848, -54.0413, 2918,   1213.0,   3.7057,  34.8986,2,-999.0000,9,   -999.0,9,  -999.00,9,  -999.00,9,  -999.00,9,   2156.4,2,   -999.0,9,   3.6139
  74DI20080820, AR07W,    11,  1,      6,2,20080823,2113, 55.1848, -54.0413, 2918,   1213.0,   3.7057,  34.8986,2,-999.0000,9,   -999.0,9,    10.21,2,    16.62,2,     1.17,2,   -999.0,9,   -999.0,9,   3.6139
  74DI20080820, AR07W,    11,  1,      7,2,20080823,2113, 55.1848, -54.0413, 2918,   1011.2,   3.7684,  34.8914,2,-999.0000,9,   -999.0,9,  -999.00,9,  -999.00,9,  -999.00,9,   2155.4,2,   -999.0,9,   3.6929
  74DI20080820, AR07W,    11,  1,      8,2,20080823,2113, 55.1848, -54.0413, 2918,   1011.3,   3.7690,  34.8914,2,  34.8932,2,   -999.0,9,     9.85,2,    16.46,2,     1.16,2,   -999.0,9,   -999.0,9,   3.6935
  74DI20080820, AR07W,    11,  1,      9,2,20080823,2113, 55.1848, -54.0413, 2918,    808.9,   3.7727,  34.8693,2,-999.0000,9,   -999.0,9,  -999.00,9,  -999.00,9,  -999.00,9,   2152.5,2,   -999.0,9,   3.7136
  74DI20080820, AR07W,    11,  1,     10,2,20080823,2113, 55.1848, -54.0413, 2918,    808.9,   3.7726,  34.8692,2,-999.0000,9,   -999.0,9,     8.89,2,    15.86,2,     1.13,2,   -999.0,9,   -999.0,9,   3.7135
  74DI20080820, AR07W,    11,  1,     11,2,20080823,2113, 55.1848, -54.0413, 2918,    608.1,   4.0397,  34.8780,2,-999.0000,9,   -999.0,9,  -999.00,9,  -999.00,9,  -999.00,9,   2150.3,2,   -999.0,9,   3.9949
  74DI20080820, AR07W,    11,  1,     12,2,20080823,2113, 55.1848, -54.0413, 2918,    608.1,   4.0396,  34.8780,2,-999.0000,9,   -999.0,9,     8.76,2,    17.18,2,     1.12,2,   -999.0,9,   -999.0,9,   3.9948
  74DI20080820, AR07W,    11,  1,     13,2,20080823,2113, 55.1848, -54.0413, 2918,    405.5,   4.7374,  34.9148,2,-999.0000,9,   -999.0,9,  -999.00,9,  -999.00,9,  -999.00,9,   2150.5,2,   -999.0,9,   4.7059
  74DI20080820, AR07W,    11,  1,     14,2,20080823,2113, 55.1848, -54.0413, 2918,    405.5,   4.7375,  34.9148,2,  34.9169,2,   -999.0,9,     8.88,2,    15.72,2,     1.12,2,   -999.0,9,   -999.0,9,   4.7060
  74DI20080820, AR07W,    11,  1,     15,2,20080823,2113, 55.1848, -54.0413, 2918,    203.3,   4.5444,  34.7736,2,-999.0000,9,   -999.0,9,  -999.00,9,  -999.00,9,  -999.00,9,   2133.8,2,   -999.0,9,   4.5293
  74DI20080820, AR07W,    11,  1,     16,2,20080823,2113, 55.1848, -54.0413, 2918,    203.3,   4.5602,  34.7766,2,-999.0000,9,   -999.0,9,     7.45,2,    14.54,2,     1.06,2,   -999.0,9,   -999.0,9,   4.5451
  74DI20080820, AR07W,    11,  1,     17,2,20080823,2113, 55.1848, -54.0413, 2918,    102.7,   1.3132,  34.0190,2,-999.0000,9,   -999.0,9,  -999.00,9,  -999.00,9,  -999.00,9,   2132.8,2,   -999.0,9,   1.3085
  74DI20080820, AR07W,    11,  1,     18,2,20080823,2113, 55.1848, -54.0413, 2918,    102.7,   1.3118,  34.0191,2,-999.0000,9,   -999.0,9,     9.21,2,    11.90,2,     1.02,2,   -999.0,9,   -999.0,9,   1.3071
  74DI20080820, AR07W,    11,  1,     19,2,20080823,2113, 55.1848, -54.0413, 2918,     52.0,   0.3766,  33.3808,2,-999.0000,9,   -999.0,9,  -999.00,9,  -999.00,9,  -999.00,9,   2093.8,2,   -999.0,9,   0.3747
  74DI20080820, AR07W,    11,  1,     20,2,20080823,2113, 55.1848, -54.0413, 2918,     52.1,   0.3173,  33.3710,2,  33.4182,2,   -999.0,9,     5.26,2,     6.57,2,     0.80,2,   -999.0,9,   -999.0,9,   0.3154
  74DI20080820, AR07W,    11,  1,     21,2,20080823,2113, 55.1848, -54.0413, 2918,     26.7,   3.1226,  33.2474,2,-999.0000,9,   -999.0,9,  -999.00,9,  -999.00,9,  -999.00,9,   2045.6,2,   -999.0,9,   3.1210
  74DI20080820, AR07W,    11,  1,     22,2,20080823,2113, 55.1848, -54.0413, 2918,     26.7,   3.1018,  33.2479,2,-999.0000,9,   -999.0,9,     0.71,2,     0.57,2,     0.29,2,   -999.0,9,   -999.0,9,   3.1002
  74DI20080820, AR07W,    11,  1,     23,2,20080823,2113, 55.1848, -54.0413, 2918,      4.1,   8.6935,  32.7247,2,-999.0000,9,   -999.0,9,  -999.00,9,  -999.00,9,  -999.00,9,   2011.0,2,   -999.0,9,   8.6931
  74DI20080820, AR07W,    11,  1,     24,2,20080823,2113, 55.1848, -54.0413, 2918,      4.1,   8.6885,  32.7239,2,  32.7320,2,   -999.0,9,     0.48,2,     0.19,2,     0.17,2,   -999.0,9,   -999.0,9,   8.6881
  74DI20080820, AR07W,    12,  1,      1,2,20080824,0054, 55.2520, -53.9393, 3047,   2082.5,   3.0428,  34.9119,2,  34.9140,2,    290.6,2,    11.64,2,    15.86,2,     1.15,2,   -999.0,9,   -999.0,9,   2.8821
  74DI20080820, AR07W,    12,  1,      2,2,20080824,0054, 55.2520, -53.9393, 3047,   2082.5,   3.0424,  34.9119,2,-999.0000,9,   -999.0,9,  -999.00,9,  -999.00,9,  -999.00,9,   -999.0,9,   -999.0,9,   2.8817
  74DI20080820, AR07W,    12,  1,      3,2,20080824,0054, 55.2520, -53.9393, 3047,   1922.7,   3.1099,  34.9112,2,-999.0000,9,   -999.0,9,  -999.00,9,  -999.00,9,  -999.00,9,   -999.0,9,   -999.0,9,   2.9628
  74DI20080820, AR07W,    12,  1,      4,2,20080824,0054, 55.2520, -53.9393, 3047,   1922.8,   3.1094,  34.9113,2,-999.0000,9,   -999.0,9,    11.42,2,    15.97,2,     1.15,2,   -999.0,9,   -999.0,9,   2.9623
  74DI20080820, AR07W,    12,  1,      5,2,20080824,0054, 55.2520, -53.9393, 3047,   1720.0,   3.3610,  34.9105,2,-999.0000,9,   -999.0,9,    11.06,2,    16.19,2,     1.16,2,   -999.0,9,   -999.0,9,   3.2288
  74DI20080820, AR07W,    12,  1,      6,2,20080824,0054, 55.2520, -53.9393, 3047,   1517.3,   3.5609,  34.9095,2,-999.0000,9,   -999.0,9,  -999.00,9,  -999.00,9,  -999.00,9,   -999.0,9,   -999.0,9,   3.4443
  74DI20080820, AR07W,    12,  1,      7,2,20080824,0054, 55.2520, -53.9393, 3047,   1517.5,   3.5615,  34.9095,2,  34.9120,2,    287.0,2,    10.83,2,    16.40,2,     1.17,2,   -999.0,9,   -999.0,9,   3.4449
  74DI20080820, AR07W,    12,  1,      8,2,20080824,0054, 55.2520, -53.9393, 3047,   1316.8,   3.4876,  34.8707,2,-999.0000,9,   -999.0,9,     9.60,2,    17.68,3,     1.15,2,   -999.0,9,   -999.0,9,   3.3892
  74DI20080820, AR07W,    12,  1,      9,2,20080824,0054, 55.2520, -53.9393, 3047,   1114.9,   3.4716,  34.8602,2,-999.0000,9,    305.2,2,     9.26,2,    15.89,2,     1.14,2,   -999.0,9,   -999.0,9,   3.3901
  74DI20080820, AR07W,    12,  1,     10,2,20080824,0054, 55.2520, -53.9393, 3047,    912.1,   3.5361,  34.8576,2,-999.0000,9,   -999.0,9,     9.06,2,    15.71,2,     1.13,2,   -999.0,9,   -999.0,9,   3.4704
  74DI20080820, AR07W,    12,  1,     11,2,20080824,0054, 55.2520, -53.9393, 3047,    810.7,   3.6242,  34.8619,2,-999.0000,9,   -999.0,9,     8.95,2,    15.72,2,     1.13,2,   -999.0,9,   -999.0,9,   3.5659
  74DI20080820, AR07W,    12,  1,     12,2,20080824,0054, 55.2520, -53.9393, 3047,    709.6,   3.7670,  34.8687,2,-999.0000,9,   -999.0,9,     8.89,2,    15.68,2,     1.12,2,   -999.0,9,   -999.0,9,   3.7157
  74DI20080820, AR07W,    12,  1,     13,2,20080824,0054, 55.2520, -53.9393, 3047,    606.8,   3.9629,  34.8785,2,  34.8943,2,   -999.0,9,     8.82,2,    15.65,2,     1.12,2,   -999.0,9,   -999.0,9,   3.9186
  74DI20080820, AR07W,    12,  1,     14,2,20080824,0054, 55.2520, -53.9393, 3047,    506.8,   4.2309,  34.8927,2,-999.0000,9,   -999.0,9,     9.02,2,    15.76,2,     1.13,2,   -999.0,9,   -999.0,9,   4.1932
  74DI20080820, AR07W,    12,  1,     15,2,20080824,0054, 55.2520, -53.9393, 3047,    406.0,   4.5641,  34.9084,2,-999.0000,9,   -999.0,9,     8.58,2,    15.64,2,     1.15,2,   -999.0,9,   -999.0,9,   4.5331
  74DI20080820, AR07W,    12,  1,     16,2,20080824,0054, 55.2520, -53.9393, 3047,    304.9,   4.7463,  34.9024,2,-999.0000,9,   -999.0,9,     8.34,2,    15.37,2,     1.11,2,   -999.0,9,   -999.0,9,   4.7228
  74DI20080820, AR07W,    12,  1,     17,2,20080824,0054, 55.2520, -53.9393, 3047,    203.9,   5.1525,  34.9088,2,-999.0000,9,    287.5,2,  -999.00,9,  -999.00,9,  -999.00,9,   -999.0,9,   -999.0,9,   5.1363
  74DI20080820, AR07W,    12,  1,     18,2,20080824,0054, 55.2520, -53.9393, 3047,    204.0,   5.1526,  34.9088,2,-999.0000,9,   -999.0,9,     8.54,2,    15.36,2,     1.10,2,   -999.0,9,   -999.0,9,   5.1364
  74DI20080820, AR07W,    12,  1,     19,2,20080824,0054, 55.2520, -53.9393, 3047,    103.4,   4.2075,  34.6443,2,-999.0000,9,   -999.0,9,     7.78,2,    14.04,2,     1.05,2,   -999.0,9,   -999.0,9,   4.2002
  74DI20080820, AR07W,    12,  1,     20,2,20080824,0054, 55.2520, -53.9393, 3047,     52.6,   1.4981,  33.6556,2,-999.0000,9,   -999.0,9,  -999.00,9,  -999.00,9,  -999.00,9,   -999.0,9,   -999.0,9,   1.4957
  74DI20080820, AR07W,    12,  1,     21,2,20080824,0054, 55.2520, -53.9393, 3047,     52.5,   1.5483,  33.6545,2,-999.0000,9,   -999.0,9,  -999.00,9,  -999.00,9,  -999.00,9,   -999.0,9,   -999.0,9,   1.5458
  74DI20080820, AR07W,    12,  1,     22,2,20080824,0054, 55.2520, -53.9393, 3047,     27.4,   4.3509,  33.5571,2,  33.5279,2,    358.7,2,     3.06,2,     6.07,2,     0.68,2,   -999.0,9,   -999.0,9,   4.3490
  74DI20080820, AR07W,    12,  1,     23,2,20080824,0054, 55.2520, -53.9393, 3047,      5.4,  10.5097,  33.1125,2,-999.0000,9,   -999.0,9,     1.24,2,     1.59,2,     0.34,2,   -999.0,9,   -999.0,9,  10.5091
  74DI20080820, AR07W,    12,  1,     24,2,20080824,0054, 55.2520, -53.9393, 3047,      5.5,  10.4944,  33.1141,2,  33.1254,2,   -999.0,9,     0.46,2,     0.18,2,     0.15,2,   -999.0,9,   -999.0,9,  10.4938
  74DI20080820, AR07W,    13,  1,      1,2,20080825,0942, 55.4272, -53.7907, 3047,   2707.2,   2.3475,  34.9051,2,  34.9067,2,   -999.0,9,    12.40,2,    15.20,2,     1.21,2,   2165.4,2,   2302.8,2,   2.1399
  74DI20080820, AR07W,    13,  1,      2,2,20080825,0942, 55.4272, -53.7907, 3047,   2451.8,   2.5076,  34.9099,2,-999.0000,9,   -999.0,9,    12.59,2,    15.58,2,     1.20,2,   2165.4,2,   2303.3,2,   2.3214
  74DI20080820, AR07W,    13,  1,      3,2,20080825,0942, 55.4272, -53.7907, 3047,   2042.6,   3.0089,  34.9132,2,  34.9186,2,   -999.0,9,    11.68,2,    16.01,2,     1.26,2,   2161.1,2,   2301.1,2,   2.8524
  74DI20080820, AR07W,    13,  1,      4,2,20080825,0942, 55.4272, -53.7907, 3047,   1530.4,   3.4549,  34.9112,2,-999.0000,9,   -999.0,9,    11.00,2,    16.62,2,     1.22,2,   2160.2,2,   2303.6,2,   3.3383
  74DI20080820, AR07W,    13,  1,      5,2,20080825,0942, 55.4272, -53.7907, 3047,   1121.8,   3.6223,  34.8840,2,  34.8868,2,   -999.0,9,     9.80,2,    16.22,2,     1.17,2,   2160.8,2,   -999.0,9,   3.5389
  74DI20080820, AR07W,    13,  1,      6,2,20080825,0942, 55.4272, -53.7907, 3047,    765.4,   3.8917,  34.8982,2,-999.0000,9,   -999.0,9,    10.03,2,    16.37,2,     1.17,2,   2162.5,2,   2295.4,2,   3.8353
  74DI20080820, AR07W,    13,  1,      7,2,20080825,0942, 55.4272, -53.7907, 3047,    510.8,   4.1389,  34.9008,2,  34.9036,2,   -999.0,9,    10.34,2,    16.34,2,     1.19,2,   2165.5,2,   2296.8,2,   4.1012
  74DI20080820, AR07W,    13,  1,      8,2,20080825,0942, 55.4272, -53.7907, 3047,    256.1,   4.6421,  34.8896,2,-999.0000,9,   -999.0,9,     8.34,2,    15.56,2,     1.12,2,   2159.9,2,   2293.3,2,   4.6227
  74DI20080820, AR07W,    13,  1,      9,2,20080825,0942, 55.4272, -53.7907, 3047,    104.4,   3.9817,  34.6858,2,  34.6875,2,   -999.0,9,     6.94,2,    14.29,2,     1.05,2,   2148.7,2,   2283.3,2,   3.9745
  74DI20080820, AR07W,    13,  1,     10,2,20080825,0942, 55.4272, -53.7907, 3047,     53.9,   2.1147,  34.1915,2,-999.0000,9,   -999.0,9,     4.23,2,    10.42,2,     0.90,2,   2130.8,2,   2262.6,2,   2.1119
  74DI20080820, AR07W,    13,  1,     11,2,20080825,0942, 55.4272, -53.7907, 3047,     28.3,   4.1389,  33.8441,2,-999.0000,9,   -999.0,9,     1.09,2,     2.12,2,     0.34,2,   2061.5,2,   2249.0,2,   4.1370
  74DI20080820, AR07W,    13,  1,     12,2,20080825,0942, 55.4272, -53.7907, 3047,     13.1,   9.4397,  33.2379,2,  33.2406,2,   -999.0,9,     0.53,2,     0.24,2,     0.16,2,   2030.9,2,   2191.7,2,   9.4383