BOTTLE,20150217PRINUNIVRMK
EXPOCODE,SECT_ID,STNNBR,CASTNO,BTLNBR,BTLNBR_FLAG_W,DATE,TIME,LATITUDE,LONGITUDE,DEPTH,CTDPRS,CTDTMP,CTDSAL,CTDSAL_FLAG_W,SALNTY,SALNTY_FLAG_W,OXYGEN,OXYGEN_FLAG_W,SILCAT,SILCAT_FLAG_W,NITRAT,NITRAT_FLAG_W,PHSPHT,PHSPHT_FLAG_W,TCARBN,TCARBN_FLAG_W,ALKALI,ALKALI_FLAG_W,THETA
,,,,,,,,,,METERS,DBAR,ITS-90,PSS-78,,PSS-78,,UMOL/KG,,UMOL/KG,,UMOL/KG,,UMOL/KG,,UMOL/KG,,UMOL/KG,,DEG C
  74DI20080820, AR07W,    25,  1,      1,2,20080829,0900, 59.7482, -49.1513, 3263,   3253.5,   1.6674,  34.9023,2,  34.9125,2,   -999.0,9,     9.90,2,    13.84,2,     1.02,2,   2162.9,2,   2304.3,2,   1.4208
  74DI20080820, AR07W,    25,  1,      2,2,20080829,0900, 59.7482, -49.1513, 3263,   3232.8,   1.6710,  34.9020,2,-999.0000,9,   -999.0,9,     9.98,2,    13.95,2,     1.03,2,   2159.4,2,   2304.9,2,   1.4264
  74DI20080820, AR07W,    25,  1,      3,2,20080829,0900, 59.7482, -49.1513, 3263,   3068.3,   1.9478,  34.8979,2,-999.0000,9,   -999.0,9,    10.64,2,    14.14,2,     1.05,2,   2162.2,2,   2304.4,2,   1.7133
  74DI20080820, AR07W,    25,  1,      4,2,20080829,0900, 59.7482, -49.1513, 3263,   2811.8,   2.4226,  34.9059,2,-999.0000,9,   -999.0,9,    14.32,2,    15.59,2,     1.14,2,   2162.9,2,   2307.2,2,   2.2033
  74DI20080820, AR07W,    25,  1,      5,2,20080829,0900, 59.7482, -49.1513, 3263,   2554.9,   2.7445,  34.9167,2,-999.0000,9,   -999.0,9,    13.14,2,    15.67,2,     1.14,2,   2160.9,2,   2307.7,2,   2.5440
  74DI20080820, AR07W,    25,  1,      6,2,20080829,0900, 59.7482, -49.1513, 3263,   2297.2,   2.9458,  34.9133,2,-999.0000,9,   -999.0,9,    12.19,2,    15.66,2,     1.15,2,   2164.5,2,   2306.7,2,   2.7665
  74DI20080820, AR07W,    25,  1,      7,2,20080829,0900, 59.7482, -49.1513, 3263,   2040.1,   3.1313,  34.9096,2,  34.9206,2,   -999.0,9,    11.61,2,    16.04,2,     1.15,2,   2161.6,2,   2304.8,2,   2.9732
  74DI20080820, AR07W,    25,  1,      8,2,20080829,0900, 59.7482, -49.1513, 3263,   1833.3,   3.2874,  34.9086,2,-999.0000,9,   -999.0,9,    11.29,2,    16.28,2,     1.17,2,   2163.6,2,   2302.7,2,   3.1460
  74DI20080820, AR07W,    25,  1,      9,2,20080829,0900, 59.7482, -49.1513, 3263,   1631.9,   3.4674,  34.9114,2,-999.0000,9,   -999.0,9,    11.01,2,    16.29,2,     1.17,2,   2160.9,2,   2304.5,2,   3.3417
  74DI20080820, AR07W,    25,  1,     10,2,20080829,0900, 59.7482, -49.1513, 3263,   1428.8,   3.6271,  34.9111,2,-999.0000,9,   -999.0,9,    10.61,2,    16.47,2,     1.16,2,   2164.2,2,   2306.3,2,   3.5175
  74DI20080820, AR07W,    25,  1,     11,2,20080829,0900, 59.7482, -49.1513, 3263,   1275.2,   3.5186,  34.8733,2,  34.8852,2,   -999.0,9,     9.51,2,    15.62,2,     1.14,2,   2159.7,2,   2302.7,2,   3.4234
  74DI20080820, AR07W,    25,  1,     12,2,20080829,0900, 59.7482, -49.1513, 3263,   1020.5,   3.4998,  34.8581,2,-999.0000,9,   -999.0,9,     9.01,2,    15.60,2,     1.12,2,   2159.9,2,   2299.6,2,   3.4258
  74DI20080820, AR07W,    25,  1,     13,2,20080829,0900, 59.7482, -49.1513, 3263,    817.2,   3.5883,  34.8615,2,-999.0000,9,   -999.0,9,     8.78,2,    15.43,2,     1.12,2,   2155.7,2,   2300.9,2,   3.5297
  74DI20080820, AR07W,    25,  1,     14,2,20080829,0900, 59.7482, -49.1513, 3263,    613.6,   3.7638,  34.8690,2,  34.8781,2,   -999.0,9,     8.78,2,    15.67,2,     1.12,2,   2157.3,2,   2301.2,2,   3.7199
  74DI20080820, AR07W,    25,  1,     15,2,20080829,0900, 59.7482, -49.1513, 3263,    410.5,   4.0936,  34.8899,2,-999.0000,9,   -999.0,9,     8.60,2,    15.62,2,     1.12,2,   2157.8,2,   2305.7,2,   4.0638
  74DI20080820, AR07W,    25,  1,     16,2,20080829,0900, 59.7482, -49.1513, 3263,    308.6,   4.3877,  34.9057,2,-999.0000,9,   -999.0,9,     8.36,2,    15.66,2,     1.12,2,   2158.5,2,   2303.4,2,   4.3648
  74DI20080820, AR07W,    25,  1,     17,2,20080829,0900, 59.7482, -49.1513, 3263,    207.2,   5.1531,  34.9862,2,-999.0000,9,   -999.0,9,     8.13,2,    15.49,2,     1.10,2,   2157.2,2,   2307.5,2,   5.1366
  74DI20080820, AR07W,    25,  1,     18,2,20080829,0900, 59.7482, -49.1513, 3263,    156.4,   5.0039,  34.9384,2,-999.0000,9,   -999.0,9,     7.95,2,    15.32,2,     1.10,2,   2157.3,2,   2304.3,2,   4.9917
  74DI20080820, AR07W,    25,  1,     19,2,20080829,0900, 59.7482, -49.1513, 3263,    105.8,   4.9515,  34.8902,2,-999.0000,9,   -999.0,9,     7.56,2,    15.13,2,     1.08,2,   2146.7,2,   2301.9,2,   4.9434
  74DI20080820, AR07W,    25,  1,     20,2,20080829,0900, 59.7482, -49.1513, 3263,     79.7,   4.6469,  34.7465,2,-999.0000,9,   -999.0,9,     6.67,2,    14.30,2,     1.03,2,   2143.1,2,   2293.2,2,   4.6410
  74DI20080820, AR07W,    25,  1,     21,2,20080829,0900, 59.7482, -49.1513, 3263,     44.8,   5.7256,  34.5790,2,-999.0000,9,   -999.0,9,     3.82,2,     8.69,2,     0.93,2,   2125.5,2,   2294.1,2,   5.7219
  74DI20080820, AR07W,    25,  1,     22,2,20080829,0900, 59.7482, -49.1513, 3263,     34.7,   7.6341,  34.4506,2,-999.0000,9,   -999.0,9,     2.83,2,     6.52,2,     0.68,2,   2101.4,2,   2288.5,2,   7.6307
  74DI20080820, AR07W,    25,  1,     23,2,20080829,0900, 59.7482, -49.1513, 3263,     24.5,   8.3868,  34.3879,2,-999.0000,9,   -999.0,9,     1.26,2,     2.72,2,     0.35,2,   2068.6,2,   2279.6,2,   8.3843
  74DI20080820, AR07W,    25,  1,     24,2,20080829,0900, 59.7482, -49.1513, 3263,      9.2,   8.4212,  34.3873,2,  34.3988,2,   -999.0,9,     0.94,2,     2.23,2,     0.32,2,   2066.3,2,   2279.4,2,   8.4203
  74DI20080820, AR07W,    26,  1,      1,2,20080829,1429, 59.9778, -48.8962, 3057,   3047.9,   1.8960,  34.9017,2,  34.9132,2,    310.4,2,     9.42,2,    13.62,2,     1.02,2,   -999.0,9,   -999.0,9,   1.6646
  74DI20080820, AR07W,    26,  1,      2,2,20080829,1429, 59.9778, -48.8962, 3057,   3047.9,   1.8958,  34.9018,2,-999.0000,9,   -999.0,9,     9.44,2,    13.85,2,     1.02,2,   -999.0,9,   -999.0,9,   1.6644
  74DI20080820, AR07W,    26,  1,      3,2,20080829,1429, 59.9778, -48.8962, 3057,   3048.0,   1.8958,  34.9018,2,-999.0000,9,   -999.0,9,     9.42,2,    13.82,2,     1.02,2,   -999.0,9,   -999.0,9,   1.6644
  74DI20080820, AR07W,    26,  1,      4,2,20080829,1429, 59.9778, -48.8962, 3057,   2799.9,   2.2573,  34.9056,2,-999.0000,9,   -999.0,9,    11.29,2,    14.49,2,     1.07,2,   -999.0,9,   -999.0,9,   2.0425
  74DI20080820, AR07W,    26,  1,      5,2,20080829,1429, 59.9778, -48.8962, 3057,   2542.6,   2.6173,  34.9153,2,-999.0000,9,   -999.0,9,    13.61,2,    15.69,2,     1.14,2,   -999.0,9,   -999.0,9,   2.4204
  74DI20080820, AR07W,    26,  1,      6,2,20080829,1429, 59.9778, -48.8962, 3057,   2281.8,   2.8823,  34.9160,2,-999.0000,9,   -999.0,9,  -999.00,9,  -999.00,9,  -999.00,9,   -999.0,9,   -999.0,9,   2.7055
  74DI20080820, AR07W,    26,  1,      7,2,20080829,1429, 59.9778, -48.8962, 3057,   2030.4,   3.0508,  34.9116,2,  34.9225,2,    283.4,2,    11.80,2,    15.80,2,     1.15,2,   -999.0,9,   -999.0,9,   2.8948
  74DI20080820, AR07W,    26,  1,      8,2,20080829,1429, 59.9778, -48.8962, 3057,   1826.0,   3.1903,  34.9082,2,-999.0000,9,   -999.0,9,    11.27,2,    16.05,2,     1.16,2,   -999.0,9,   -999.0,9,   3.0509
  74DI20080820, AR07W,    26,  1,      9,2,20080829,1429, 59.9778, -48.8962, 3057,   1623.8,   3.3730,  34.9084,2,-999.0000,9,    281.4,2,    11.04,2,    16.29,2,     1.17,2,   -999.0,9,   -999.0,9,   3.2492
  74DI20080820, AR07W,    26,  1,     10,2,20080829,1429, 59.9778, -48.8962, 3057,   1423.7,   3.5339,  34.9076,2,-999.0000,9,   -999.0,9,    10.80,2,    16.20,2,     1.17,2,   -999.0,9,   -999.0,9,   3.4258
  74DI20080820, AR07W,    26,  1,     11,2,20080829,1429, 59.9778, -48.8962, 3057,   1275.7,   3.6354,  34.9050,2,-999.0000,9,   -999.0,9,     9.63,2,    15.78,2,     1.14,2,   -999.0,9,   -999.0,9,   3.5389
  74DI20080820, AR07W,    26,  1,     12,2,20080829,1429, 59.9778, -48.8962, 3057,   1018.0,   3.5961,  34.8742,2,-999.0000,9,   -999.0,9,     9.33,2,    15.98,2,     1.14,2,   -999.0,9,   -999.0,9,   3.5215
  74DI20080820, AR07W,    26,  1,     13,2,20080829,1429, 59.9778, -48.8962, 3057,    815.4,   3.6171,  34.8644,2,-999.0000,9,    317.3,2,     8.84,2,    15.41,2,     1.11,2,   -999.0,9,   -999.0,9,   3.5585
  74DI20080820, AR07W,    26,  1,     14,2,20080829,1429, 59.9778, -48.8962, 3057,    613.1,   3.8158,  34.8761,2,-999.0000,9,   -999.0,9,     8.64,2,    15.31,2,     1.11,2,   -999.0,9,   -999.0,9,   3.7717
  74DI20080820, AR07W,    26,  1,     15,2,20080829,1429, 59.9778, -48.8962, 3057,    409.3,   4.1667,  34.8988,2,  34.9102,2,   -999.0,9,     7.97,2,    15.40,2,     1.11,2,   -999.0,9,   -999.0,9,   4.1368
  74DI20080820, AR07W,    26,  1,     16,2,20080829,1429, 59.9778, -48.8962, 3057,    308.4,   4.3712,  34.9068,2,-999.0000,9,   -999.0,9,     8.44,2,    15.69,2,     1.12,2,   -999.0,9,   -999.0,9,   4.3484
  74DI20080820, AR07W,    26,  1,     17,2,20080829,1429, 59.9778, -48.8962, 3057,    206.6,   4.7518,  34.9320,2,-999.0000,9,    288.9,2,  -999.00,9,  -999.00,9,  -999.00,9,   -999.0,9,   -999.0,9,   4.7360
  74DI20080820, AR07W,    26,  1,     18,2,20080829,1429, 59.9778, -48.8962, 3057,    156.0,   4.8340,  34.9235,2,-999.0000,9,   -999.0,9,     8.12,2,    15.61,2,     1.12,2,   -999.0,9,   -999.0,9,   4.8221
  74DI20080820, AR07W,    26,  1,     19,2,20080829,1429, 59.9778, -48.8962, 3057,    104.7,   4.6367,  34.8304,2,  34.8460,2,   -999.0,9,     7.63,2,    15.23,2,     1.09,2,   -999.0,9,   -999.0,9,   4.6289
  74DI20080820, AR07W,    26,  1,     20,2,20080829,1429, 59.9778, -48.8962, 3057,     80.0,   4.8199,  34.7537,2,-999.0000,9,   -999.0,9,     6.54,2,    13.48,2,     1.05,2,   -999.0,9,   -999.0,9,   4.8139
  74DI20080820, AR07W,    26,  1,     21,2,20080829,1429, 59.9778, -48.8962, 3057,     44.3,   7.9564,  34.7149,2,-999.0000,9,   -999.0,9,     3.11,2,     6.84,2,     0.71,2,   -999.0,9,   -999.0,9,   7.9520
  74DI20080820, AR07W,    26,  1,     22,2,20080829,1429, 59.9778, -48.8962, 3057,     34.3,   8.0420,  34.5750,2,-999.0000,9,   -999.0,9,     2.83,2,     6.41,2,     0.63,2,   -999.0,9,   -999.0,9,   8.0386
  74DI20080820, AR07W,    26,  1,     23,2,20080829,1429, 59.9778, -48.8962, 3057,     24.2,   7.3841,  34.2306,2,-999.0000,9,   -999.0,9,     2.46,2,     5.41,2,     0.58,2,   -999.0,9,   -999.0,9,   7.3818
  74DI20080820, AR07W,    26,  1,     24,2,20080829,1429, 59.9778, -48.8962, 3057,      8.9,   4.3654,  32.8408,2,  32.9438,2,   -999.0,9,     1.97,2,     2.80,2,     0.44,2,   -999.0,9,   -999.0,9,   4.3648
  74DI20080820, AR07W,    27,  1,      1,2,20080829,1911, 60.1758, -48.7098, 2912,   2902.9,   2.1207,  34.9025,2,  32.9543,4,   -999.0,9,     9.86,2,    14.25,2,     1.04,2,   2155.2,2,   2296.1,2,   1.8987
  74DI20080820, AR07W,    27,  1,      2,2,20080829,1911, 60.1758, -48.7098, 2912,   2902.8,   2.1205,  34.9025,2,-999.0000,9,   -999.0,9,  -999.00,9,  -999.00,9,  -999.00,9,   2121.0,3,   -999.0,9,   1.8985
  74DI20080820, AR07W,    27,  1,      3,2,20080829,1911, 60.1758, -48.7098, 2912,   2808.6,   2.1349,  34.9025,2,-999.0000,9,   -999.0,9,     9.92,2,    14.12,2,     1.05,2,   2158.1,2,   2302.8,2,   1.9218
  74DI20080820, AR07W,    27,  1,      4,2,20080829,1911, 60.1758, -48.7098, 2912,   2808.6,   2.1350,  34.9025,2,-999.0000,9,   -999.0,9,     9.93,2,    14.16,2,     1.04,2,   2157.4,2,   2301.3,2,   1.9219
  74DI20080820, AR07W,    27,  1,      5,2,20080829,1911, 60.1758, -48.7098, 2912,   2550.3,   2.5775,  34.9145,2,-999.0000,9,   -999.0,9,    12.63,2,    15.21,2,     1.12,2,   2156.5,2,   2304.6,2,   2.3806
  74DI20080820, AR07W,    27,  1,      6,2,20080829,1911, 60.1758, -48.7098, 2912,   2294.6,   2.8136,  34.9174,2,-999.0000,9,   -999.0,9,    12.60,2,    15.65,2,     1.15,2,   2158.6,2,   2302.6,2,   2.6368
  74DI20080820, AR07W,    27,  1,      7,2,20080829,1911, 60.1758, -48.7098, 2912,   2039.8,   3.0160,  34.9126,2,  32.9660,4,   -999.0,9,    12.05,2,    15.80,2,     1.16,2,   2156.6,2,   2303.3,2,   2.8596
  74DI20080820, AR07W,    27,  1,      8,2,20080829,1911, 60.1758, -48.7098, 2912,   1836.2,   3.2021,  34.9108,2,-999.0000,9,   -999.0,9,    11.37,2,    15.90,2,     1.16,2,   2156.5,2,   2298.4,2,   3.0616
  74DI20080820, AR07W,    27,  1,      9,2,20080829,1911, 60.1758, -48.7098, 2912,   1631.8,   3.3764,  34.9108,2,-999.0000,9,   -999.0,9,    11.22,2,    16.15,2,     1.18,2,   2160.0,2,   2301.7,2,   3.2519
  74DI20080820, AR07W,    27,  1,     10,2,20080829,1911, 60.1758, -48.7098, 2912,   1427.4,   3.5610,  34.9161,2,-999.0000,9,   -999.0,9,    10.96,2,    16.29,2,     1.18,2,   2159.0,2,   2303.6,2,   3.4522
  74DI20080820, AR07W,    27,  1,     11,2,20080829,1911, 60.1758, -48.7098, 2912,   1274.1,   3.6282,  34.9074,2,-999.0000,9,   -999.0,9,    10.61,2,    16.35,2,     1.17,2,   2157.7,2,   2302.9,2,   3.5319
  74DI20080820, AR07W,    27,  1,     12,2,20080829,1911, 60.1758, -48.7098, 2912,   1016.6,   3.6287,  34.8713,2,-999.0000,9,   -999.0,9,     9.21,2,    15.58,2,     1.13,2,   2153.0,2,   2298.8,2,   3.5539
  74DI20080820, AR07W,    27,  1,     13,2,20080829,1911, 60.1758, -48.7098, 2912,    813.4,   3.9950,  34.9034,2,  32.6558,4,   -999.0,9,  -999.00,9,  -999.00,9,  -999.00,9,   -999.0,9,   -999.0,9,   3.9341
  74DI20080820, AR07W,    27,  1,     14,2,20080829,1911, 60.1758, -48.7098, 2912,    611.5,   4.4331,  34.9417,2,-999.0000,9,   -999.0,9,     9.04,2,    15.70,2,     1.14,2,   2156.9,2,   2303.8,2,   4.3861
  74DI20080820, AR07W,    27,  1,     15,2,20080829,1911, 60.1758, -48.7098, 2912,    408.2,   4.9064,  34.9755,2,-999.0000,9,   -999.0,9,     8.58,2,    15.43,2,     1.12,2,   2153.3,2,   2305.7,2,   4.8741
  74DI20080820, AR07W,    27,  1,     16,2,20080829,1911, 60.1758, -48.7098, 2912,    306.4,   5.1973,  34.9908,2,-999.0000,9,   -999.0,9,     8.25,2,    15.20,2,     1.10,2,   2154.1,2,   2306.0,2,   5.1726
  74DI20080820, AR07W,    27,  1,     17,2,20080829,1911, 60.1758, -48.7098, 2912,    205.5,   5.5633,  35.0071,2,-999.0000,9,   -999.0,9,     7.84,2,    15.18,2,     1.09,2,   2158.6,2,   2307.3,2,   5.5463
  74DI20080820, AR07W,    27,  1,     18,2,20080829,1911, 60.1758, -48.7098, 2912,    154.8,   5.8307,  34.9695,2,-999.0000,9,   -999.0,9,     6.98,2,    14.60,2,     1.05,2,   2154.3,2,   2306.7,2,   5.8176
  74DI20080820, AR07W,    27,  1,     19,2,20080829,1911, 60.1758, -48.7098, 2912,    104.2,   6.1090,  34.8929,2,  32.9437,4,   -999.0,9,     5.67,2,    12.95,2,     0.97,2,   2143.3,2,   2304.6,2,   6.1000
  74DI20080820, AR07W,    27,  1,     20,2,20080829,1911, 60.1758, -48.7098, 2912,     79.0,   6.7179,  34.8984,2,-999.0000,9,   -999.0,9,     5.09,2,    12.35,2,     0.93,2,   2136.2,2,   2302.8,2,   6.7107
  74DI20080820, AR07W,    27,  1,     21,2,20080829,1911, 60.1758, -48.7098, 2912,     43.5,   7.8108,  34.4798,2,-999.0000,9,   -999.0,9,     2.95,2,     6.45,2,     0.64,2,   2093.0,2,   2288.0,2,   7.8065
  74DI20080820, AR07W,    27,  1,     22,2,20080829,1911, 60.1758, -48.7098, 2912,     33.3,   7.3372,  34.2034,2,-999.0000,9,   -999.0,9,     2.55,2,     5.33,2,     0.57,2,   2100.1,2,   2275.4,2,   7.3341
  74DI20080820, AR07W,    27,  1,     23,2,20080829,1911, 60.1758, -48.7098, 2912,     23.3,   6.5626,  33.7466,2,-999.0000,9,   -999.0,9,     2.19,2,     4.35,2,     0.50,2,   2063.5,2,   2250.9,2,   6.5606
  74DI20080820, AR07W,    27,  1,     24,2,20080829,1911, 60.1758, -48.7098, 2912,      8.0,   6.6661,  33.7356,2,  31.7971,4,   -999.0,9,     2.01,2,     3.94,2,     0.47,2,   2065.6,2,   2250.1,2,   6.6654