BOTTLE,20150217PRINUNIVRMK
EXPOCODE,SECT_ID,STNNBR,CASTNO,BTLNBR,BTLNBR_FLAG_W,DATE,TIME,LATITUDE,LONGITUDE,DEPTH,CTDPRS,CTDTMP,CTDSAL,CTDSAL_FLAG_W,SALNTY,SALNTY_FLAG_W,OXYGEN,OXYGEN_FLAG_W,SILCAT,SILCAT_FLAG_W,NITRAT,NITRAT_FLAG_W,PHSPHT,PHSPHT_FLAG_W,TCARBN,TCARBN_FLAG_W,ALKALI,ALKALI_FLAG_W,THETA
,,,,,,,,,,METERS,DBAR,ITS-90,PSS-78,,PSS-78,,UMOL/KG,,UMOL/KG,,UMOL/KG,,UMOL/KG,,UMOL/KG,,UMOL/KG,,DEG C
  74DI20080820, AR07W,     4,  1,      1,2,20080823,0156, 53.7967, -55.4392,  202,    192.2,  -0.0166,  33.6557,2,  29.1760,4,   -999.0,9,    10.21,2,    10.44,2,     0.99,2,   -999.0,9,   -999.0,9,  -0.0233
  74DI20080820, AR07W,     4,  1,      2,2,20080823,0156, 53.7967, -55.4392,  202,    192.2,  -0.0153,  33.6561,2,-999.0000,9,    317.9,2,    10.21,2,    10.38,2,     1.00,2,   -999.0,9,   -999.0,9,  -0.0220
  74DI20080820, AR07W,     4,  1,      3,2,20080823,0156, 53.7967, -55.4392,  202,    152.0,  -0.6191,  33.3642,2,-999.0000,9,   -999.0,9,     9.66,2,     9.13,2,     0.99,2,   -999.0,9,   -999.0,9,  -0.6235
  74DI20080820, AR07W,     4,  1,      4,2,20080823,0156, 53.7967, -55.4392,  202,    152.0,  -0.6253,  33.3634,2,-999.0000,9,   -999.0,9,  -999.00,9,  -999.00,9,  -999.00,9,   -999.0,9,   -999.0,9,  -0.6297
  74DI20080820, AR07W,     4,  1,      5,2,20080823,0156, 53.7967, -55.4392,  202,    101.5,  -1.2019,  33.0150,2,  33.0130,2,    333.7,2,     9.12,2,     8.64,2,     1.02,2,   -999.0,9,   -999.0,9,  -1.2042
  74DI20080820, AR07W,     4,  1,      6,2,20080823,0156, 53.7967, -55.4392,  202,    101.5,  -1.1994,  33.0161,2,-999.0000,9,    333.9,2,  -999.00,9,  -999.00,9,  -999.00,9,   -999.0,9,   -999.0,9,  -1.2017
  74DI20080820, AR07W,     4,  1,      7,2,20080823,0156, 53.7967, -55.4392,  202,     50.5,  -1.2663,  32.6709,2,  32.6963,2,   -999.0,9,     4.84,2,     6.12,2,     0.98,2,   -999.0,9,   -999.0,9,  -1.2674
  74DI20080820, AR07W,     4,  1,      8,2,20080823,0156, 53.7967, -55.4392,  202,     50.5,  -1.2649,  32.6733,2,-999.0000,9,   -999.0,9,  -999.00,9,  -999.00,9,  -999.00,9,   -999.0,9,   -999.0,9,  -1.2660
  74DI20080820, AR07W,     4,  1,      9,2,20080823,0156, 53.7967, -55.4392,  202,     25.4,   0.1229,  32.4135,2,-999.0000,9,    412.5,2,     0.76,2,     0.79,2,     0.46,2,   -999.0,9,   -999.0,9,   0.1221
  74DI20080820, AR07W,     4,  1,     10,2,20080823,0156, 53.7967, -55.4392,  202,     25.4,   0.1315,  32.4128,2,-999.0000,9,    410.6,2,     0.77,2,     0.55,2,     0.46,2,   -999.0,9,   -999.0,9,   0.1307
  74DI20080820, AR07W,     4,  1,     11,2,20080823,0156, 53.7967, -55.4392,  202,      2.9,  11.4120,  30.3055,2,-999.0000,9,    294.4,2,     0.54,2,     0.21,2,     0.24,2,   -999.0,9,   -999.0,9,  11.4117
  74DI20080820, AR07W,     4,  1,     12,2,20080823,0156, 53.7967, -55.4392,  202,      2.9,  11.4096,  30.3059,2,  30.3190,2,    293.1,2,  -999.00,9,  -999.00,9,  -999.00,9,   -999.0,9,   -999.0,9,  11.4093
  74DI20080820, AR07W,     4,  1,     13,2,20080823,0156, 53.7967, -55.4392,  202,      2.9,  11.4145,  30.3066,2,-999.0000,9,   -999.0,9,  -999.00,9,  -999.00,9,  -999.00,9,   -999.0,9,   -999.0,9,  11.4142
  74DI20080820, AR07W,     4,  1,     14,2,20080823,0156, 53.7967, -55.4392,  202,      2.9,  11.4181,  30.3069,2,-999.0000,9,   -999.0,9,  -999.00,9,  -999.00,9,  -999.00,9,   -999.0,9,   -999.0,9,  11.4178
  74DI20080820, AR07W,     4,  1,     15,2,20080823,0156, 53.7967, -55.4392,  202,      2.9,  11.4221,  30.3069,2,-999.0000,9,   -999.0,9,  -999.00,9,  -999.00,9,  -999.00,9,   -999.0,9,   -999.0,9,  11.4218
  74DI20080820, AR07W,     4,  1,     16,2,20080823,0156, 53.7967, -55.4392,  202,      2.9,  11.4300,  30.3068,2,-999.0000,9,   -999.0,9,  -999.00,9,  -999.00,9,  -999.00,9,   -999.0,9,   -999.0,9,  11.4297
  74DI20080820, AR07W,     4,  1,     17,2,20080823,0156, 53.7967, -55.4392,  202,      2.9,  11.4324,  30.3068,2,-999.0000,9,   -999.0,9,  -999.00,9,  -999.00,9,  -999.00,9,   -999.0,9,   -999.0,9,  11.4321
  74DI20080820, AR07W,     4,  1,     18,2,20080823,0156, 53.7967, -55.4392,  202,      2.9,  11.4342,  30.3068,2,-999.0000,9,   -999.0,9,  -999.00,9,  -999.00,9,  -999.00,9,   -999.0,9,   -999.0,9,  11.4339
  74DI20080820, AR07W,     4,  1,     19,2,20080823,0156, 53.7967, -55.4392,  202,      2.9,  11.4358,  30.3068,2,-999.0000,9,   -999.0,9,  -999.00,9,  -999.00,9,  -999.00,9,   -999.0,9,   -999.0,9,  11.4355
  74DI20080820, AR07W,     4,  1,     20,2,20080823,0156, 53.7967, -55.4392,  202,      2.9,  11.4383,  30.3068,2,-999.0000,9,   -999.0,9,  -999.00,9,  -999.00,9,  -999.00,9,   -999.0,9,   -999.0,9,  11.4380
  74DI20080820, AR07W,     4,  1,     21,2,20080823,0156, 53.7967, -55.4392,  202,      2.9,  11.4403,  30.3068,2,-999.0000,9,   -999.0,9,  -999.00,9,  -999.00,9,  -999.00,9,   -999.0,9,   -999.0,9,  11.4400
  74DI20080820, AR07W,     4,  1,     22,2,20080823,0156, 53.7967, -55.4392,  202,      2.9,  11.4409,  30.3069,2,-999.0000,9,   -999.0,9,  -999.00,9,  -999.00,9,  -999.00,9,   -999.0,9,   -999.0,9,  11.4406
  74DI20080820, AR07W,     4,  1,     23,2,20080823,0156, 53.7967, -55.4392,  202,      2.9,  11.4430,  30.3069,2,-999.0000,9,   -999.0,9,  -999.00,9,  -999.00,9,  -999.00,9,   -999.0,9,   -999.0,9,  11.4427
  74DI20080820, AR07W,     4,  1,     24,2,20080823,0156, 53.7967, -55.4392,  202,      2.9,  11.4437,  30.3070,2,-999.0000,9,   -999.0,9,  -999.00,9,  -999.00,9,  -999.00,9,   -999.0,9,   -999.0,9,  11.4434
  74DI20080820, AR07W,     5,  1,      1,2,20080823,0504, 53.9868, -55.2452,  182,    137.9,  -0.1426,  33.6088,2,  33.6087,2,    294.2,2,     9.29,2,     9.97,2,     0.96,2,   -999.0,9,   -999.0,9,  -0.1472
  74DI20080820, AR07W,     5,  1,      2,2,20080823,0504, 53.9868, -55.2452,  182,    137.9,  -0.1423,  33.6089,2,-999.0000,9,   -999.0,9,     9.24,2,     9.61,2,     0.96,2,   -999.0,9,   -999.0,9,  -0.1469
  74DI20080820, AR07W,     5,  1,      3,2,20080823,0504, 53.9868, -55.2452,  182,    102.7,  -0.6198,  33.2717,2,  33.2770,2,   -999.0,9,     8.40,2,     8.37,2,     0.96,2,   -999.0,9,   -999.0,9,  -0.6227
  74DI20080820, AR07W,     5,  1,      4,2,20080823,0504, 53.9868, -55.2452,  182,    102.7,  -0.6224,  33.2714,2,-999.0000,9,   -999.0,9,  -999.00,9,  -999.00,9,  -999.00,9,   -999.0,9,   -999.0,9,  -0.6253
  74DI20080820, AR07W,     5,  1,      5,2,20080823,0504, 53.9868, -55.2452,  182,     62.0,  -1.0560,  32.9101,2,-999.0000,9,    310.1,2,     7.26,2,     7.39,2,     1.00,2,   -999.0,9,   -999.0,9,  -1.0574
  74DI20080820, AR07W,     5,  1,      6,2,20080823,0504, 53.9868, -55.2452,  182,     61.9,  -1.0186,  32.9106,2,-999.0000,9,   -999.0,9,  -999.00,9,  -999.00,9,  -999.00,9,   -999.0,9,   -999.0,9,  -1.0201
  74DI20080820, AR07W,     5,  1,      7,2,20080823,0504, 53.9868, -55.2452,  182,     31.5,   0.2664,  32.5247,2,  32.5182,2,    363.9,2,     0.60,2,     0.60,2,     0.49,2,   -999.0,9,   -999.0,9,   0.2653
  74DI20080820, AR07W,     5,  1,      8,2,20080823,0504, 53.9868, -55.2452,  182,     31.5,   0.2503,  32.5259,2,-999.0000,9,   -999.0,9,  -999.00,9,  -999.00,9,  -999.00,9,   -999.0,9,   -999.0,9,   0.2492
  74DI20080820, AR07W,     5,  1,      9,2,20080823,0504, 53.9868, -55.2452,  182,      4.0,  11.0700,  30.7362,2,-999.0000,9,    330.9,2,     0.47,2,     0.51,2,     0.21,2,   -999.0,9,   -999.0,9,  11.0695
  74DI20080820, AR07W,     5,  1,     10,2,20080823,0504, 53.9868, -55.2452,  182,      4.0,  11.1255,  30.7189,2,  30.8764,2,   -999.0,9,     0.48,2,     0.22,2,     0.22,2,   -999.0,9,   -999.0,9,  11.1250
  74DI20080820, AR07W,     5,  1,     11,2,20080823,0504, 53.9868, -55.2452,  182,      4.0,  11.1727,  30.7123,2,-999.0000,9,   -999.0,9,  -999.00,9,  -999.00,9,  -999.00,9,   -999.0,9,   -999.0,9,  11.1722
  74DI20080820, AR07W,     5,  1,     12,2,20080823,0504, 53.9868, -55.2452,  182,      3.9,  11.1576,  30.7139,2,-999.0000,9,   -999.0,9,  -999.00,9,  -999.00,9,  -999.00,9,   -999.0,9,   -999.0,9,  11.1571
  74DI20080820, AR07W,     5,  1,     13,2,20080823,0504, 53.9868, -55.2452,  182,      4.0,  11.1382,  30.7165,2,-999.0000,9,   -999.0,9,  -999.00,9,  -999.00,9,  -999.00,9,   -999.0,9,   -999.0,9,  11.1377
  74DI20080820, AR07W,     5,  1,     14,2,20080823,0504, 53.9868, -55.2452,  182,      4.0,  11.1155,  30.7217,2,-999.0000,9,   -999.0,9,  -999.00,9,  -999.00,9,  -999.00,9,   -999.0,9,   -999.0,9,  11.1150
  74DI20080820, AR07W,     5,  1,     15,2,20080823,0504, 53.9868, -55.2452,  182,      3.9,  11.1140,  30.7233,2,-999.0000,9,   -999.0,9,  -999.00,9,  -999.00,9,  -999.00,9,   -999.0,9,   -999.0,9,  11.1135
  74DI20080820, AR07W,     5,  1,     16,2,20080823,0504, 53.9868, -55.2452,  182,      3.9,  11.1123,  30.7242,2,-999.0000,9,   -999.0,9,  -999.00,9,  -999.00,9,  -999.00,9,   -999.0,9,   -999.0,9,  11.1118
  74DI20080820, AR07W,     5,  1,     17,2,20080823,0504, 53.9868, -55.2452,  182,      3.9,  11.1294,  30.7210,2,-999.0000,9,   -999.0,9,  -999.00,9,  -999.00,9,  -999.00,9,   -999.0,9,   -999.0,9,  11.1289
  74DI20080820, AR07W,     5,  1,     18,2,20080823,0504, 53.9868, -55.2452,  182,      3.9,  11.1357,  30.7193,2,-999.0000,9,   -999.0,9,  -999.00,9,  -999.00,9,  -999.00,9,   -999.0,9,   -999.0,9,  11.1352
  74DI20080820, AR07W,     5,  1,     19,2,20080823,0504, 53.9868, -55.2452,  182,      3.9,  11.1361,  30.7188,2,-999.0000,9,   -999.0,9,  -999.00,9,  -999.00,9,  -999.00,9,   -999.0,9,   -999.0,9,  11.1356
  74DI20080820, AR07W,     5,  1,     20,2,20080823,0504, 53.9868, -55.2452,  182,      3.9,  11.1367,  30.7182,2,-999.0000,9,   -999.0,9,  -999.00,9,  -999.00,9,  -999.00,9,   -999.0,9,   -999.0,9,  11.1362
  74DI20080820, AR07W,     5,  1,     21,2,20080823,0504, 53.9868, -55.2452,  182,      4.0,  11.1426,  30.7168,2,-999.0000,9,   -999.0,9,  -999.00,9,  -999.00,9,  -999.00,9,   -999.0,9,   -999.0,9,  11.1421
  74DI20080820, AR07W,     5,  1,     22,2,20080823,0504, 53.9868, -55.2452,  182,      3.9,  11.1561,  30.7135,2,-999.0000,9,   -999.0,9,  -999.00,9,  -999.00,9,  -999.00,9,   -999.0,9,   -999.0,9,  11.1556
  74DI20080820, AR07W,     5,  1,     23,2,20080823,0504, 53.9868, -55.2452,  182,      3.9,  11.1724,  30.7096,2,-999.0000,9,   -999.0,9,  -999.00,9,  -999.00,9,  -999.00,9,   -999.0,9,   -999.0,9,  11.1719
  74DI20080820, AR07W,     5,  1,     24,2,20080823,0504, 53.9868, -55.2452,  182,      3.9,  11.1757,  30.7086,2,-999.0000,9,   -999.0,9,  -999.00,9,  -999.00,9,  -999.00,9,   -999.0,9,   -999.0,9,  11.1752
  74DI20080820, AR07W,     6,  1,      1,2,20080823,0851, 54.2157, -55.0160,  239,    152.3,  -0.7050,  33.2601,2,-999.0000,9,   -999.0,9,     9.90,2,     9.19,2,     1.03,2,   2126.1,2,   2233.7,2,  -0.7092
  74DI20080820, AR07W,     6,  1,      2,2,20080823,0851, 54.2157, -55.0160,  239,    152.3,  -0.7004,  33.2614,2,  33.2568,2,   -999.0,9,  -999.00,9,  -999.00,9,  -999.00,9,   -999.0,9,   -999.0,9,  -0.7047
  74DI20080820, AR07W,     6,  1,      3,2,20080823,0851, 54.2157, -55.0160,  239,    126.8,  -0.9109,  33.0806,2,-999.0000,9,   -999.0,9,     9.63,2,     8.67,2,     1.03,2,   -999.0,9,   -999.0,9,  -0.9141
  74DI20080820, AR07W,     6,  1,      4,2,20080823,0851, 54.2157, -55.0160,  239,    126.7,  -0.9124,  33.0805,2,-999.0000,9,   -999.0,9,  -999.00,9,  -999.00,9,  -999.00,9,   -999.0,9,   -999.0,9,  -0.9156
  74DI20080820, AR07W,     6,  1,      5,2,20080823,0851, 54.2157, -55.0160,  239,    101.4,  -1.0369,  32.9252,2,  32.9271,2,   -999.0,9,     8.61,2,     8.08,2,     1.04,2,   2132.7,2,   2229.9,2,  -1.0393
  74DI20080820, AR07W,     6,  1,      6,2,20080823,0851, 54.2157, -55.0160,  239,    101.4,  -1.1069,  32.9151,2,-999.0000,9,   -999.0,9,  -999.00,9,  -999.00,9,  -999.00,9,   -999.0,9,   -999.0,9,  -1.1093
  74DI20080820, AR07W,     6,  1,      7,2,20080823,0851, 54.2157, -55.0160,  239,     75.9,  -1.3655,  32.7416,2,-999.0000,9,   -999.0,9,     7.38,2,     7.43,2,     1.03,2,   -999.0,9,   -999.0,9,  -1.3670
  74DI20080820, AR07W,     6,  1,      8,2,20080823,0851, 54.2157, -55.0160,  239,     75.9,  -1.3674,  32.7410,2,-999.0000,9,   -999.0,9,  -999.00,9,  -999.00,9,  -999.00,9,   -999.0,9,   -999.0,9,  -1.3689
  74DI20080820, AR07W,     6,  1,      9,2,20080823,0851, 54.2157, -55.0160,  239,     50.7,  -1.3962,  32.6295,2,-999.0000,9,   -999.0,9,     4.88,2,     7.32,2,     1.02,2,   2128.4,2,   2222.1,2,  -1.3972
  74DI20080820, AR07W,     6,  1,     10,2,20080823,0851, 54.2157, -55.0160,  239,     50.8,  -1.4029,  32.6311,2,  32.6324,2,   -999.0,9,  -999.00,9,  -999.00,9,  -999.00,9,   -999.0,9,   -999.0,9,  -1.4039
  74DI20080820, AR07W,     6,  1,     11,2,20080823,0851, 54.2157, -55.0160,  239,     25.4,  -0.6820,  32.4855,2,-999.0000,9,   -999.0,9,     2.07,2,     2.97,2,     0.74,2,   -999.0,9,   -999.0,9,  -0.6826
  74DI20080820, AR07W,     6,  1,     12,2,20080823,0851, 54.2157, -55.0160,  239,     25.3,  -0.6810,  32.4858,2,-999.0000,9,   -999.0,9,     1.98,2,     2.60,2,     0.69,2,   -999.0,9,   -999.0,9,  -0.6816
  74DI20080820, AR07W,     6,  1,     13,2,20080823,0851, 54.2157, -55.0160,  239,      3.2,   8.1637,  31.1925,2,-999.0000,9,   -999.0,9,  -999.00,9,  -999.00,9,  -999.00,9,   1974.5,2,   -999.0,9,   8.1634
  74DI20080820, AR07W,     6,  1,     14,2,20080823,0851, 54.2157, -55.0160,  239,      3.3,   8.2376,  31.1826,2,-999.0000,9,   -999.0,9,     0.59,2,     0.37,2,     0.30,2,   -999.0,9,   -999.0,9,   8.2373
  74DI20080820, AR07W,     6,  1,     15,2,20080823,0851, 54.2157, -55.0160,  239,      3.3,   8.3017,  31.1735,2,-999.0000,9,   -999.0,9,  -999.00,9,  -999.00,9,  -999.00,9,   -999.0,9,   -999.0,9,   8.3014
  74DI20080820, AR07W,     6,  1,     16,2,20080823,0851, 54.2157, -55.0160,  239,      3.3,   8.3095,  31.1710,2,-999.0000,9,   -999.0,9,  -999.00,9,  -999.00,9,  -999.00,9,   -999.0,9,   -999.0,9,   8.3092
  74DI20080820, AR07W,     6,  1,     17,2,20080823,0851, 54.2157, -55.0160,  239,      3.3,   8.3498,  31.1665,2,-999.0000,9,   -999.0,9,  -999.00,9,  -999.00,9,  -999.00,9,   -999.0,9,   -999.0,9,   8.3495
  74DI20080820, AR07W,     6,  1,     18,2,20080823,0851, 54.2157, -55.0160,  239,      3.3,   8.4132,  31.1595,2,  31.2061,2,   -999.0,9,  -999.00,9,  -999.00,9,  -999.00,9,   -999.0,9,   -999.0,9,   8.4129
  74DI20080820, AR07W,     6,  1,     19,2,20080823,0851, 54.2157, -55.0160,  239,      3.3,   8.4166,  31.1599,2,-999.0000,9,   -999.0,9,  -999.00,9,  -999.00,9,  -999.00,9,   -999.0,9,   -999.0,9,   8.4163
  74DI20080820, AR07W,     6,  1,     20,2,20080823,0851, 54.2157, -55.0160,  239,      3.2,   8.4294,  31.1589,2,-999.0000,9,   -999.0,9,  -999.00,9,  -999.00,9,  -999.00,9,   -999.0,9,   -999.0,9,   8.4291
  74DI20080820, AR07W,     6,  1,     21,2,20080823,0851, 54.2157, -55.0160,  239,      3.3,   8.4378,  31.1578,2,-999.0000,9,   -999.0,9,  -999.00,9,  -999.00,9,  -999.00,9,   -999.0,9,   -999.0,9,   8.4375
  74DI20080820, AR07W,     6,  1,     22,2,20080823,0851, 54.2157, -55.0160,  239,      3.3,   8.4427,  31.1570,2,-999.0000,9,   -999.0,9,  -999.00,9,  -999.00,9,  -999.00,9,   -999.0,9,   -999.0,9,   8.4424
  74DI20080820, AR07W,     6,  1,     23,2,20080823,0851, 54.2157, -55.0160,  239,      3.2,   8.4435,  31.1565,2,-999.0000,9,   -999.0,9,  -999.00,9,  -999.00,9,  -999.00,9,   -999.0,9,   -999.0,9,   8.4432
  74DI20080820, AR07W,     6,  1,     24,2,20080823,0851, 54.2157, -55.0160,  239,      3.3,   8.4439,  31.1561,2,-999.0000,9,   -999.0,9,  -999.00,9,  -999.00,9,  -999.00,9,   -999.0,9,   -999.0,9,   8.4436