BOTTLE,20150217PRINUNIVRMK
EXPOCODE,SECT_ID,STNNBR,CASTNO,BTLNBR,BTLNBR_FLAG_W,DATE,TIME,LATITUDE,LONGITUDE,DEPTH,CTDPRS,CTDTMP,CTDSAL,CTDSAL_FLAG_W,SALNTY,SALNTY_FLAG_W,OXYGEN,OXYGEN_FLAG_W,SILCAT,SILCAT_FLAG_W,NITRAT,NITRAT_FLAG_W,PHSPHT,PHSPHT_FLAG_W,TCARBN,TCARBN_FLAG_W,ALKALI,ALKALI_FLAG_W,THETA
,,,,,,,,,,METERS,DBAR,ITS-90,PSS-78,,PSS-78,,UMOL/KG,,UMOL/KG,,UMOL/KG,,UMOL/KG,,UMOL/KG,,UMOL/KG,,DEG C
  74DI20080820, AR07W,    42,  1,      1,2,20080902,1938, 56.8030, -45.9997, 3386,   3346.3,   2.4162,  34.9059,2,  34.9088,2,    287.2,2,    15.19,2,    16.30,2,     1.16,2,   -999.0,9,   -999.0,9,   2.1423
  74DI20080820, AR07W,    42,  1,      2,2,20080902,1938, 56.8030, -45.9997, 3386,   3346.2,   2.4164,  34.9059,2,-999.0000,9,   -999.0,9,    15.37,2,    16.08,2,     1.16,2,   -999.0,9,   -999.0,9,   2.1425
  74DI20080820, AR07W,    42,  1,      3,2,20080902,1938, 56.8030, -45.9997, 3386,   3274.3,   2.4667,  34.9082,2,-999.0000,9,   -999.0,9,    15.41,2,    16.22,2,     1.16,2,   -999.0,9,   -999.0,9,   2.1992
  74DI20080820, AR07W,    42,  1,      4,2,20080902,1938, 56.8030, -45.9997, 3386,   3171.4,   2.5478,  34.9120,2,-999.0000,9,   -999.0,9,    15.18,2,    15.88,2,     1.15,2,   -999.0,9,   -999.0,9,   2.2892
  74DI20080820, AR07W,    42,  1,      5,2,20080902,1938, 56.8030, -45.9997, 3386,   3068.3,   2.6563,  34.9180,2,  34.9212,2,   -999.0,9,    14.89,2,    16.43,2,     1.17,2,   -999.0,9,   -999.0,9,   2.4060
  74DI20080820, AR07W,    42,  1,      6,2,20080902,1938, 56.8030, -45.9997, 3386,   2965.2,   2.7595,  34.9233,2,-999.0000,9,   -999.0,9,    14.43,2,    16.21,2,     1.16,2,   -999.0,9,   -999.0,9,   2.5176
  74DI20080820, AR07W,    42,  1,      7,2,20080902,1938, 56.8030, -45.9997, 3386,   2862.4,   2.8210,  34.9214,2,-999.0000,9,    284.8,2,    13.71,2,    15.86,2,     1.17,2,   -999.0,9,   -999.0,9,   2.5883
  74DI20080820, AR07W,    42,  1,      8,2,20080902,1938, 56.8030, -45.9997, 3386,   2657.2,   2.9278,  34.9167,2,-999.0000,9,   -999.0,9,    13.13,2,    16.56,2,     1.17,2,   -999.0,9,   -999.0,9,   2.7137
  74DI20080820, AR07W,    42,  1,      9,2,20080902,1938, 56.8030, -45.9997, 3386,   2452.2,   3.0182,  34.9106,2,-999.0000,9,   -999.0,9,    12.67,2,    16.47,2,     1.17,2,   -999.0,9,   -999.0,9,   2.8227
  74DI20080820, AR07W,    42,  1,     10,2,20080902,1938, 56.8030, -45.9997, 3386,   2247.2,   3.1078,  34.9052,2,-999.0000,9,   -999.0,9,    12.04,2,    16.25,2,     1.17,2,   -999.0,9,   -999.0,9,   2.9306
  74DI20080820, AR07W,    42,  1,     11,2,20080902,1938, 56.8030, -45.9997, 3386,   2042.3,   3.2040,  34.8999,2,-999.0000,9,    287.5,2,    11.72,2,    16.67,2,     1.19,2,   -999.0,9,   -999.0,9,   3.0446
  74DI20080820, AR07W,    42,  1,     12,2,20080902,1938, 56.8030, -45.9997, 3386,   1837.5,   3.3465,  34.9002,2,-999.0000,9,   -999.0,9,    11.40,2,    16.87,2,     1.19,2,   -999.0,9,   -999.0,9,   3.2039
  74DI20080820, AR07W,    42,  1,     13,2,20080902,1938, 56.8030, -45.9997, 3386,   1633.0,   3.5137,  34.9024,2,-999.0000,9,   -999.0,9,    11.08,2,    17.26,2,     1.19,2,   -999.0,9,   -999.0,9,   3.3874
  74DI20080820, AR07W,    42,  1,     14,2,20080902,1938, 56.8030, -45.9997, 3386,   1428.5,   3.5673,  34.8892,2,-999.0000,9,   -999.0,9,    10.36,2,    16.82,2,     1.18,2,   -999.0,9,   -999.0,9,   3.4584
  74DI20080820, AR07W,    42,  1,     15,2,20080902,1938, 56.8030, -45.9997, 3386,   1224.1,   3.4840,  34.8633,2,-999.0000,9,   -999.0,9,     9.54,2,    16.39,2,     1.15,2,   -999.0,9,   -999.0,9,   3.3934
  74DI20080820, AR07W,    42,  1,     16,2,20080902,1938, 56.8030, -45.9997, 3386,   1020.1,   3.4574,  34.8513,2,  34.8546,2,    307.1,2,     9.10,2,    16.12,2,     1.14,2,   -999.0,9,   -999.0,9,   3.3837
  74DI20080820, AR07W,    42,  1,     17,2,20080902,1938, 56.8030, -45.9997, 3386,    816.1,   3.4686,  34.8509,2,-999.0000,9,   -999.0,9,  -999.00,9,  -999.00,9,  -999.00,9,   -999.0,9,   -999.0,9,   3.4109
  74DI20080820, AR07W,    42,  1,     18,2,20080902,1938, 56.8030, -45.9997, 3386,    613.1,   3.5023,  34.8514,2,-999.0000,9,   -999.0,9,     8.88,2,    16.03,2,     1.14,2,   -999.0,9,   -999.0,9,   3.4597
  74DI20080820, AR07W,    42,  1,     19,2,20080902,1938, 56.8030, -45.9997, 3386,    409.7,   3.5485,  34.8484,2,-999.0000,9,   -999.0,9,     8.88,2,    16.16,2,     1.14,2,   -999.0,9,   -999.0,9,   3.5206
  74DI20080820, AR07W,    42,  1,     20,2,20080902,1938, 56.8030, -45.9997, 3386,    206.5,   3.6797,  34.8333,2,-999.0000,9,   -999.0,9,     8.73,2,    16.20,2,     1.15,2,   -999.0,9,   -999.0,9,   3.6657
  74DI20080820, AR07W,    42,  1,     21,2,20080902,1938, 56.8030, -45.9997, 3386,    105.0,   4.0526,  34.8002,2,  34.8056,2,    305.0,2,     8.55,2,    16.16,2,     1.17,2,   -999.0,9,   -999.0,9,   4.0453
  74DI20080820, AR07W,    42,  1,     22,2,20080902,1938, 56.8030, -45.9997, 3386,     33.9,   9.5882,  34.6555,2,-999.0000,9,   -999.0,9,     0.87,2,     3.46,2,     0.41,2,   -999.0,9,   -999.0,9,   9.5844
  74DI20080820, AR07W,    42,  1,     23,2,20080902,1938, 56.8030, -45.9997, 3386,     23.8,  10.3187,  34.6361,2,-999.0000,9,   -999.0,9,     0.45,2,     1.94,2,     0.25,2,   -999.0,9,   -999.0,9,  10.3159
  74DI20080820, AR07W,    42,  1,     24,2,20080902,1938, 56.8030, -45.9997, 3386,      8.6,  10.6146,  34.6257,2,  34.6294,2,   -999.0,9,     0.42,2,     1.37,2,     0.21,2,   -999.0,9,   -999.0,9,  10.6136
  74DI20080820, AR07W,    43,  1,      1,2,20080903,0225, 56.8035, -44.9717, 3578,   3568.2,   1.8808,  34.9026,2,  34.9056,2,    326.9,2,    10.18,2,    14.40,2,     1.03,2,   -999.0,9,   -999.0,9,   1.5966
  74DI20080820, AR07W,    43,  1,      2,2,20080903,0225, 56.8035, -44.9717, 3578,   3473.1,   2.1865,  34.9015,2,-999.0000,9,   -999.0,9,    13.17,2,    15.33,2,     1.10,2,   -999.0,9,   -999.0,9,   1.9047
  74DI20080820, AR07W,    43,  1,      3,2,20080903,0225, 56.8035, -44.9717, 3578,   3372.0,   2.3247,  34.9042,2,-999.0000,9,   -999.0,9,  -999.00,9,  -999.00,9,  -999.00,9,   -999.0,9,   -999.0,9,   2.0503
  74DI20080820, AR07W,    43,  1,      4,2,20080903,0225, 56.8035, -44.9717, 3578,   3271.1,   2.4276,  34.9072,2,-999.0000,9,   -999.0,9,    15.18,2,    15.94,2,     1.14,2,   -999.0,9,   -999.0,9,   2.1613
  74DI20080820, AR07W,    43,  1,      5,2,20080903,0225, 56.8035, -44.9717, 3578,   3169.5,   2.5214,  34.9116,2,-999.0000,9,   -999.0,9,    15.64,2,    16.29,2,     1.16,2,   -999.0,9,   -999.0,9,   2.2636
  74DI20080820, AR07W,    43,  1,      6,2,20080903,0225, 56.8035, -44.9717, 3578,   3067.4,   2.6029,  34.9162,2,  34.9192,2,   -999.0,9,    15.00,2,    16.38,2,     1.16,2,   -999.0,9,   -999.0,9,   2.3538
  74DI20080820, AR07W,    43,  1,      7,2,20080903,0225, 56.8035, -44.9717, 3578,   2862.4,   2.7563,  34.9210,2,-999.0000,9,    284.9,2,    14.02,2,    16.35,2,     1.16,2,   -999.0,9,   -999.0,9,   2.5250
  74DI20080820, AR07W,    43,  1,      8,2,20080903,0225, 56.8035, -44.9717, 3578,   2657.2,   2.8700,  34.9190,2,-999.0000,9,   -999.0,9,    13.36,2,    16.01,2,     1.16,2,   -999.0,9,   -999.0,9,   2.6570
  74DI20080820, AR07W,    43,  1,      9,2,20080903,0225, 56.8035, -44.9717, 3578,   2451.6,   2.9773,  34.9123,2,-999.0000,9,   -999.0,9,    12.66,2,    16.37,2,     1.17,2,   -999.0,9,   -999.0,9,   2.7826
  74DI20080820, AR07W,    43,  1,     10,2,20080903,0225, 56.8035, -44.9717, 3578,   2246.2,   3.0794,  34.9075,2,  34.9092,2,   -999.0,9,    12.16,2,    16.47,2,     1.18,2,   -999.0,9,   -999.0,9,   2.9027
  74DI20080820, AR07W,    43,  1,     11,2,20080903,0225, 56.8035, -44.9717, 3578,   2039.7,   3.1651,  34.9028,2,-999.0000,9,   -999.0,9,    11.50,2,    16.93,2,     1.20,2,   -999.0,9,   -999.0,9,   3.0065
  74DI20080820, AR07W,    43,  1,     12,2,20080903,0225, 56.8035, -44.9717, 3578,   1836.0,   3.2814,  34.8995,2,-999.0000,9,   -999.0,9,    11.37,2,    17.00,2,     1.20,2,   -999.0,9,   -999.0,9,   3.1398
  74DI20080820, AR07W,    43,  1,     13,2,20080903,0225, 56.8035, -44.9717, 3578,   1633.7,   3.3873,  34.9001,2,-999.0000,9,    264.0,2,    11.33,2,    17.22,2,     1.20,2,   -999.0,9,   -999.0,9,   3.2625
  74DI20080820, AR07W,    43,  1,     14,2,20080903,0225, 56.8035, -44.9717, 3578,   1225.9,   3.5525,  34.8917,2,-999.0000,9,   -999.0,9,    10.61,2,    16.97,2,     1.18,2,   -999.0,9,   -999.0,9,   3.4611
  74DI20080820, AR07W,    43,  1,     15,2,20080903,0225, 56.8035, -44.9717, 3578,   1021.8,   3.5071,  34.8702,2,-999.0000,9,   -999.0,9,     9.86,2,    16.57,2,     1.19,2,   -999.0,9,   -999.0,9,   3.4329
  74DI20080820, AR07W,    43,  1,     16,2,20080903,0225, 56.8035, -44.9717, 3578,    817.9,   3.4929,  34.8594,2,-999.0000,9,   -999.0,9,     9.31,2,    16.14,2,     1.15,2,   -999.0,9,   -999.0,9,   3.4349
  74DI20080820, AR07W,    43,  1,     17,2,20080903,0225, 56.8035, -44.9717, 3578,    614.6,   3.5167,  34.8583,2,-999.0000,9,   -999.0,9,     9.12,2,    16.28,2,     1.15,2,   -999.0,9,   -999.0,9,   3.4739
  74DI20080820, AR07W,    43,  1,     18,2,20080903,0225, 56.8035, -44.9717, 3578,    410.2,   3.6091,  34.8592,2,-999.0000,9,   -999.0,9,     8.82,2,    16.17,2,     1.14,2,   -999.0,9,   -999.0,9,   3.5809
  74DI20080820, AR07W,    43,  1,     19,2,20080903,0225, 56.8035, -44.9717, 3578,    207.9,   3.8904,  34.8243,2,  34.8288,2,    308.8,2,     8.57,2,    17.67,2,     1.16,2,   -999.0,9,   -999.0,9,   3.8760
  74DI20080820, AR07W,    43,  1,     20,2,20080903,0225, 56.8035, -44.9717, 3578,    107.2,   4.5461,  34.7909,2,-999.0000,9,   -999.0,9,     7.48,2,    14.60,2,     1.12,2,   -999.0,9,   -999.0,9,   4.5382
  74DI20080820, AR07W,    43,  1,     21,2,20080903,0225, 56.8035, -44.9717, 3578,     71.0,   6.0463,  34.7474,2,-999.0000,9,   -999.0,9,     3.51,2,     8.22,2,     0.94,2,   -999.0,9,   -999.0,9,   6.0403
  74DI20080820, AR07W,    43,  1,     22,2,20080903,0225, 56.8035, -44.9717, 3578,     49.8,   8.7721,  34.7032,2,-999.0000,9,   -999.0,9,     1.01,2,     4.40,2,     0.53,2,   -999.0,9,   -999.0,9,   8.7668
  74DI20080820, AR07W,    43,  1,     23,2,20080903,0225, 56.8035, -44.9717, 3578,     19.9,  10.7334,  34.6751,2,  34.6781,2,    284.1,2,     0.42,2,     2.37,2,     0.28,2,   -999.0,9,   -999.0,9,  10.7310
  74DI20080820, AR07W,    43,  1,     24,2,20080903,0225, 56.8035, -44.9717, 3578,      5.2,  10.7623,  34.6488,2,-999.0000,9,   -999.0,9,     0.42,2,     2.48,2,     0.28,2,   -999.0,9,   -999.0,9,  10.7617
  74DI20080820, AR07W,    44,  1,      1,2,20080903,0824, 56.8012, -44.0093, 3469,   3459.7,   2.2211,  34.9051,2,  34.9075,2,    294.7,2,    12.72,2,    15.38,2,     1.10,2,   -999.0,9,   -999.0,9,   1.9399
  74DI20080820, AR07W,    44,  1,      2,2,20080903,0824, 56.8012, -44.0093, 3469,   3459.6,   2.2186,  34.9057,2,-999.0000,9,   -999.0,9,  -999.00,9,  -999.00,9,  -999.00,9,   -999.0,9,   -999.0,9,   1.9375
  74DI20080820, AR07W,    44,  1,      3,2,20080903,0824, 56.8012, -44.0093, 3469,   3377.1,   2.3125,  34.9065,2,-999.0000,9,   -999.0,9,    13.26,2,    15.47,2,     1.11,2,   -999.0,9,   -999.0,9,   2.0378
  74DI20080820, AR07W,    44,  1,      4,2,20080903,0824, 56.8012, -44.0093, 3469,   3274.2,   2.4750,  34.9104,2,-999.0000,9,   -999.0,9,    14.61,2,    15.80,2,     1.14,2,   -999.0,9,   -999.0,9,   2.2073
  74DI20080820, AR07W,    44,  1,      5,2,20080903,0824, 56.8012, -44.0093, 3469,   3171.3,   2.5632,  34.9135,2,-999.0000,9,   -999.0,9,    14.80,2,    16.29,2,     1.15,2,   -999.0,9,   -999.0,9,   2.3042
  74DI20080820, AR07W,    44,  1,      6,2,20080903,0824, 56.8012, -44.0093, 3469,   3068.4,   2.6616,  34.9188,2,-999.0000,9,   -999.0,9,    14.44,2,    16.14,2,     1.15,2,   -999.0,9,   -999.0,9,   2.4111
  74DI20080820, AR07W,    44,  1,      7,2,20080903,0824, 56.8012, -44.0093, 3469,   2862.7,   2.8209,  34.9235,2,-999.0000,9,   -999.0,9,    13.83,2,    16.34,2,     1.16,2,   -999.0,9,   -999.0,9,   2.5882
  74DI20080820, AR07W,    44,  1,      8,2,20080903,0824, 56.8012, -44.0093, 3469,   2657.3,   2.9410,  34.9193,2,  34.9209,2,   -999.0,9,    13.08,2,    16.38,2,     1.16,2,   -999.0,9,   -999.0,9,   2.7266
  74DI20080820, AR07W,    44,  1,      9,2,20080903,0824, 56.8012, -44.0093, 3469,   2452.1,   3.0225,  34.9112,2,-999.0000,9,   -999.0,9,    12.57,2,    16.44,2,     1.16,2,   -999.0,9,   -999.0,9,   2.8269
  74DI20080820, AR07W,    44,  1,     10,2,20080903,0824, 56.8012, -44.0093, 3469,   2246.9,   3.1293,  34.9057,2,-999.0000,9,   -999.0,9,    11.84,2,    16.78,2,     1.17,2,   -999.0,9,   -999.0,9,   2.9517
  74DI20080820, AR07W,    44,  1,     11,2,20080903,0824, 56.8012, -44.0093, 3469,   2042.2,   3.2651,  34.9024,2,-999.0000,9,    286.3,2,    11.35,2,    16.66,2,     1.17,2,   -999.0,9,   -999.0,9,   3.1047
  74DI20080820, AR07W,    44,  1,     12,2,20080903,0824, 56.8012, -44.0093, 3469,   1837.3,   3.4214,  34.9039,2,-999.0000,9,   -999.0,9,    11.19,2,    17.00,2,     1.19,2,   -999.0,9,   -999.0,9,   3.2778
  74DI20080820, AR07W,    44,  1,     13,2,20080903,0824, 56.8012, -44.0093, 3469,   1632.7,   3.5869,  34.9038,2,-999.0000,9,   -999.0,9,    10.78,2,    17.14,2,     1.19,2,   -999.0,9,   -999.0,9,   3.4597
  74DI20080820, AR07W,    44,  1,     14,2,20080903,0824, 56.8012, -44.0093, 3469,   1224.0,   3.4646,  34.8563,2,  34.8584,2,   -999.0,9,     9.12,2,    16.20,2,     1.13,2,   -999.0,9,   -999.0,9,   3.3742
  74DI20080820, AR07W,    44,  1,     15,2,20080903,0824, 56.8012, -44.0093, 3469,   1020.3,   3.4679,  34.8525,2,-999.0000,9,   -999.0,9,     9.09,2,    16.10,2,     1.14,2,   -999.0,9,   -999.0,9,   3.3941
  74DI20080820, AR07W,    44,  1,     16,2,20080903,0824, 56.8012, -44.0093, 3469,    816.6,   3.4744,  34.8493,2,-999.0000,9,   -999.0,9,     8.86,2,    16.18,2,     1.14,2,   -999.0,9,   -999.0,9,   3.4166
  74DI20080820, AR07W,    44,  1,     17,2,20080903,0824, 56.8012, -44.0093, 3469,    613.0,   3.5254,  34.8507,2,  34.8529,2,   -999.0,9,     8.89,2,    16.06,2,     1.14,2,   -999.0,9,   -999.0,9,   3.4827
  74DI20080820, AR07W,    44,  1,     18,2,20080903,0824, 56.8012, -44.0093, 3469,    409.8,   3.6944,  34.8608,2,-999.0000,9,   -999.0,9,     8.89,2,    16.40,2,     1.15,2,   -999.0,9,   -999.0,9,   3.6660
  74DI20080820, AR07W,    44,  1,     19,2,20080903,0824, 56.8012, -44.0093, 3469,    207.4,   3.8927,  34.8499,2,-999.0000,9,   -999.0,9,     8.72,2,    16.29,2,     1.15,2,   -999.0,9,   -999.0,9,   3.8783
  74DI20080820, AR07W,    44,  1,     20,2,20080903,0824, 56.8012, -44.0093, 3469,    105.8,   4.1812,  34.8158,2,-999.0000,9,    305.2,2,     8.62,2,    16.45,2,     1.16,2,   -999.0,9,   -999.0,9,   4.1737
  74DI20080820, AR07W,    44,  1,     21,2,20080903,0824, 56.8012, -44.0093, 3469,     75.3,   4.7844,  34.7839,2,-999.0000,9,   -999.0,9,     7.05,2,    14.11,2,     1.13,2,   -999.0,9,   -999.0,9,   4.7787
  74DI20080820, AR07W,    44,  1,     22,2,20080903,0824, 56.8012, -44.0093, 3469,     55.0,   5.5917,  34.7025,2,  34.7186,2,   -999.0,9,     4.60,2,     9.61,2,     0.97,2,   -999.0,9,   -999.0,9,   5.5872
  74DI20080820, AR07W,    44,  1,     23,2,20080903,0824, 56.8012, -44.0093, 3469,     29.7,   9.8584,  34.6244,2,-999.0000,9,    290.3,2,     1.07,2,     3.52,2,     0.39,2,   -999.0,9,   -999.0,9,   9.8550
  74DI20080820, AR07W,    44,  1,     24,2,20080903,0824, 56.8012, -44.0093, 3469,      9.3,   9.9083,  34.4932,2,-999.0000,9,   -999.0,9,     0.65,2,     1.79,2,     0.27,2,   -999.0,9,   -999.0,9,   9.9072