BOTTLE,20150217PRINUNIVRMK
EXPOCODE,SECT_ID,STNNBR,CASTNO,BTLNBR,BTLNBR_FLAG_W,DATE,TIME,LATITUDE,LONGITUDE,DEPTH,CTDPRS,CTDTMP,CTDSAL,CTDSAL_FLAG_W,SALNTY,SALNTY_FLAG_W,OXYGEN,OXYGEN_FLAG_W,SILCAT,SILCAT_FLAG_W,NITRAT,NITRAT_FLAG_W,PHSPHT,PHSPHT_FLAG_W,TCARBN,TCARBN_FLAG_W,ALKALI,ALKALI_FLAG_W,THETA
,,,,,,,,,,METERS,DBAR,ITS-90,PSS-78,,PSS-78,,UMOL/KG,,UMOL/KG,,UMOL/KG,,UMOL/KG,,UMOL/KG,,UMOL/KG,,DEG C
  74DI20080820, AR07W,    74,  1,      1,2,20080923,0759, 57.4585, -11.0913, 1751,    571.5,   9.3066,  35.3537,2,  35.3587,2,    247.0,2,     6.44,2,    13.86,2,     0.97,2,   -999.0,9,   -999.0,9,   9.2416
  74DI20080820, AR07W,    74,  1,      2,2,20080923,0759, 57.4585, -11.0913, 1751,    571.6,   9.3050,  35.3536,2,-999.0000,9,   -999.0,9,  -999.00,9,  -999.00,9,  -999.00,9,   -999.0,9,   -999.0,9,   9.2400
  74DI20080820, AR07W,    74,  1,      3,2,20080923,0759, 57.4585, -11.0913, 1751,    510.4,   9.5508,  35.3763,2,-999.0000,9,   -999.0,9,     5.80,2,    13.25,2,     0.96,2,   -999.0,9,   -999.0,9,   9.4920
  74DI20080820, AR07W,    74,  1,      4,2,20080923,0759, 57.4585, -11.0913, 1751,    510.4,   9.5522,  35.3765,2,-999.0000,9,   -999.0,9,  -999.00,9,  -999.00,9,  -999.00,9,   -999.0,9,   -999.0,9,   9.4934
  74DI20080820, AR07W,    74,  1,      5,2,20080923,0759, 57.4585, -11.0913, 1751,    409.1,   9.8572,  35.4030,2,  35.4077,2,    252.3,2,     5.29,2,    12.92,2,     0.92,2,   -999.0,9,   -999.0,9,   9.8094
  74DI20080820, AR07W,    74,  1,      6,2,20080923,0759, 57.4585, -11.0913, 1751,    409.0,   9.8570,  35.4029,2,-999.0000,9,   -999.0,9,  -999.00,9,  -999.00,9,  -999.00,9,   -999.0,9,   -999.0,9,   9.8092
  74DI20080820, AR07W,    74,  1,      7,2,20080923,0759, 57.4585, -11.0913, 1751,    307.9,  10.3283,  35.4516,2,-999.0000,9,   -999.0,9,     4.73,2,    11.72,2,     0.84,2,   -999.0,9,   -999.0,9,  10.2914
  74DI20080820, AR07W,    74,  1,      8,2,20080923,0759, 57.4585, -11.0913, 1751,    307.8,  10.3285,  35.4516,2,-999.0000,9,   -999.0,9,  -999.00,9,  -999.00,9,  -999.00,9,   -999.0,9,   -999.0,9,  10.2916
  74DI20080820, AR07W,    74,  1,      9,2,20080923,0759, 57.4585, -11.0913, 1751,    206.9,  10.5585,  35.4411,2,  35.4470,2,   -999.0,9,     4.52,2,    11.99,2,     0.85,2,   -999.0,9,   -999.0,9,  10.5335
  74DI20080820, AR07W,    74,  1,     10,2,20080923,0759, 57.4585, -11.0913, 1751,    206.9,  10.5699,  35.4422,2,-999.0000,9,   -999.0,9,  -999.00,9,  -999.00,9,  -999.00,9,   -999.0,9,   -999.0,9,  10.5449
  74DI20080820, AR07W,    74,  1,     11,2,20080923,0759, 57.4585, -11.0913, 1751,    105.7,  11.8360,  35.4753,2,-999.0000,9,   -999.0,9,  -999.00,9,  -999.00,9,  -999.00,9,   -999.0,9,   -999.0,9,  11.8223
  74DI20080820, AR07W,    74,  1,     12,2,20080923,0759, 57.4585, -11.0913, 1751,    105.5,  11.7558,  35.4793,2,-999.0000,9,    248.1,2,     2.84,2,     9.28,2,     0.68,2,   -999.0,9,   -999.0,9,  11.7422
  74DI20080820, AR07W,    74,  1,     13,2,20080923,0759, 57.4585, -11.0913, 1751,     80.3,  11.8859,  35.4737,2,  35.4780,2,   -999.0,9,     2.71,2,     9.24,2,     0.67,2,   -999.0,9,   -999.0,9,  11.8755
  74DI20080820, AR07W,    74,  1,     14,2,20080923,0759, 57.4585, -11.0913, 1751,     80.4,  11.8278,  35.4763,2,-999.0000,9,   -999.0,9,  -999.00,9,  -999.00,9,  -999.00,9,   -999.0,9,   -999.0,9,  11.8174
  74DI20080820, AR07W,    74,  1,     15,2,20080923,0759, 57.4585, -11.0913, 1751,     55.2,  11.9245,  35.4750,2,-999.0000,9,    249.0,2,     2.71,2,     9.02,2,     0.66,2,   -999.0,9,   -999.0,9,  11.9173
  74DI20080820, AR07W,    74,  1,     16,2,20080923,0759, 57.4585, -11.0913, 1751,     55.1,  11.9312,  35.4753,2,-999.0000,9,   -999.0,9,  -999.00,9,  -999.00,9,  -999.00,9,   -999.0,9,   -999.0,9,  11.9240
  74DI20080820, AR07W,    74,  1,     17,2,20080923,0759, 57.4585, -11.0913, 1751,     24.9,  13.5345,  35.4090,2,-999.0000,9,   -999.0,9,     0.91,2,     2.99,2,     0.31,2,   -999.0,9,   -999.0,9,  13.5310
  74DI20080820, AR07W,    74,  1,     18,2,20080923,0759, 57.4585, -11.0913, 1751,     25.0,  13.5323,  35.4092,2,-999.0000,9,   -999.0,9,  -999.00,9,  -999.00,9,  -999.00,9,   -999.0,9,   -999.0,9,  13.5288
  74DI20080820, AR07W,    74,  1,     19,2,20080923,0759, 57.4585, -11.0913, 1751,      9.4,  13.6362,  35.4071,2,  35.4112,2,    259.8,2,     0.79,2,     2.58,2,     0.28,2,   -999.0,9,   -999.0,9,  13.6349
  74DI20080820, AR07W,    74,  1,     20,2,20080923,0759, 57.4585, -11.0913, 1751,      9.4,  13.6358,  35.4070,2,-999.0000,9,   -999.0,9,  -999.00,9,  -999.00,9,  -999.00,9,   -999.0,9,   -999.0,9,  13.6345
  74DI20080820, AR07W,    74,  1,     21,2,20080923,0759, 57.4585, -11.0913, 1751,      9.4,  13.6362,  35.4070,2,-999.0000,9,   -999.0,9,  -999.00,9,  -999.00,9,  -999.00,9,   -999.0,9,   -999.0,9,  13.6349
  74DI20080820, AR07W,    74,  1,     22,2,20080923,0759, 57.4585, -11.0913, 1751,      9.4,  13.6373,  35.4069,2,-999.0000,9,   -999.0,9,  -999.00,9,  -999.00,9,  -999.00,9,   -999.0,9,   -999.0,9,  13.6360
  74DI20080820, AR07W,    74,  1,     23,2,20080923,0759, 57.4585, -11.0913, 1751,      9.4,  13.6382,  35.4069,2,-999.0000,9,   -999.0,9,  -999.00,9,  -999.00,9,  -999.00,9,   -999.0,9,   -999.0,9,  13.6369
  74DI20080820, AR07W,    74,  1,     24,2,20080923,0759, 57.4585, -11.0913, 1751,      9.4,  13.6381,  35.4069,2,-999.0000,9,   -999.0,9,  -999.00,9,  -999.00,9,  -999.00,9,   -999.0,9,   -999.0,9,  13.6368