BOTTLE,20150217PRINUNIVRMK
EXPOCODE,SECT_ID,STNNBR,CASTNO,BTLNBR,BTLNBR_FLAG_W,DATE,TIME,LATITUDE,LONGITUDE,DEPTH,CTDPRS,CTDTMP,CTDSAL,CTDSAL_FLAG_W,SALNTY,SALNTY_FLAG_W,OXYGEN,OXYGEN_FLAG_W,SILCAT,SILCAT_FLAG_W,NITRAT,NITRAT_FLAG_W,PHSPHT,PHSPHT_FLAG_W,TCARBN,TCARBN_FLAG_W,ALKALI,ALKALI_FLAG_W,THETA
,,,,,,,,,,METERS,DBAR,ITS-90,PSS-78,,PSS-78,,UMOL/KG,,UMOL/KG,,UMOL/KG,,UMOL/KG,,UMOL/KG,,UMOL/KG,,DEG C
  74DI20080820, AR07W,    51,  1,      1,2,20080905,0058, 58.8758, -39.1285, 3149,   3139.4,   1.7321,  34.9031,2,  34.9056,2,    302.5,2,     9.62,2,    14.22,2,     1.02,2,   -999.0,9,   -999.0,9,   1.4954
  74DI20080820, AR07W,    51,  1,      2,2,20080905,0058, 58.8758, -39.1285, 3149,   3139.4,   1.7334,  34.9030,2,-999.0000,9,   -999.0,9,     9.64,2,    14.15,2,     1.02,2,   -999.0,9,   -999.0,9,   1.4967
  74DI20080820, AR07W,    51,  1,      3,2,20080905,0058, 58.8758, -39.1285, 3149,   3063.2,   2.1434,  34.9082,2,-999.0000,9,   -999.0,9,    10.84,2,    14.82,2,     1.06,2,   -999.0,9,   -999.0,9,   1.9050
  74DI20080820, AR07W,    51,  1,      4,2,20080905,0058, 58.8758, -39.1285, 3149,   2960.3,   2.4998,  34.9169,2,-999.0000,9,   -999.0,9,    13.28,2,    15.60,2,     1.13,2,   -999.0,9,   -999.0,9,   2.2639
  74DI20080820, AR07W,    51,  1,      5,2,20080905,0058, 58.8758, -39.1285, 3149,   2856.6,   2.6546,  34.9236,2,-999.0000,9,   -999.0,9,    14.03,2,    16.25,2,     1.16,2,   -999.0,9,   -999.0,9,   2.4259
  74DI20080820, AR07W,    51,  1,      6,2,20080905,0058, 58.8758, -39.1285, 3149,   2648.6,   2.8460,  34.9301,2,-999.0000,9,    282.1,2,    13.95,2,    16.47,2,     1.18,2,   -999.0,9,   -999.0,9,   2.6343
  74DI20080820, AR07W,    51,  1,      7,2,20080905,0058, 58.8758, -39.1285, 3149,   2442.8,   2.9420,  34.9258,2,  34.9284,2,   -999.0,9,    13.39,2,    16.54,2,     1.17,2,   -999.0,9,   -999.0,9,   2.7487
  74DI20080820, AR07W,    51,  1,      8,2,20080905,0058, 58.8758, -39.1285, 3149,   2236.8,   3.0535,  34.9227,2,-999.0000,9,   -999.0,9,    12.81,2,    16.69,2,     1.19,2,   -999.0,9,   -999.0,9,   2.8781
  74DI20080820, AR07W,    51,  1,      9,2,20080905,0058, 58.8758, -39.1285, 3149,   2030.3,   3.2164,  34.9297,2,-999.0000,9,   -999.0,9,    12.15,2,    16.75,2,     1.18,2,   -999.0,9,   -999.0,9,   3.0578
  74DI20080820, AR07W,    51,  1,     10,2,20080905,0058, 58.8758, -39.1285, 3149,   1823.8,   3.2786,  34.9178,2,-999.0000,9,   -999.0,9,    11.75,2,    16.89,2,     1.20,2,   -999.0,9,   -999.0,9,   3.1381
  74DI20080820, AR07W,    51,  1,     11,2,20080905,0058, 58.8758, -39.1285, 3149,   1622.9,   3.3644,  34.9081,2,-999.0000,9,   -999.0,9,    11.50,2,    17.00,2,     1.21,2,   -999.0,9,   -999.0,9,   3.2408
  74DI20080820, AR07W,    51,  1,     12,2,20080905,0058, 58.8758, -39.1285, 3149,   1421.7,   3.5733,  34.9201,2,  34.9231,2,    281.0,2,    11.23,2,    17.04,2,     1.20,2,   -999.0,9,   -999.0,9,   3.4649
  74DI20080820, AR07W,    51,  1,     13,2,20080905,0058, 58.8758, -39.1285, 3149,   1219.3,   3.5907,  34.8944,2,-999.0000,9,   -999.0,9,    10.61,2,    16.93,2,     1.18,2,   -999.0,9,   -999.0,9,   3.4995
  74DI20080820, AR07W,    51,  1,     14,2,20080905,0058, 58.8758, -39.1285, 3149,   1016.8,   3.5728,  34.8724,2,  34.8747,2,   -999.0,9,     9.65,2,    16.47,2,     1.15,2,   -999.0,9,   -999.0,9,   3.4985
  74DI20080820, AR07W,    51,  1,     15,2,20080905,0058, 58.8758, -39.1285, 3149,    814.8,   3.6312,  34.8689,2,-999.0000,9,   -999.0,9,  -999.00,9,  -999.00,9,  -999.00,9,   -999.0,9,   -999.0,9,   3.5725
  74DI20080820, AR07W,    51,  1,     16,2,20080905,0058, 58.8758, -39.1285, 3149,    609.7,   3.7226,  34.8701,2,-999.0000,9,   -999.0,9,     8.97,2,    16.26,2,     1.14,2,   -999.0,9,   -999.0,9,   3.6792
  74DI20080820, AR07W,    51,  1,     17,2,20080905,0058, 58.8758, -39.1285, 3149,    510.4,   3.8443,  34.8792,2,-999.0000,9,    298.6,2,     8.83,2,    16.22,2,     1.14,2,   -999.0,9,   -999.0,9,   3.8079
  74DI20080820, AR07W,    51,  1,     18,2,20080905,0058, 58.8758, -39.1285, 3149,    409.8,   3.9740,  34.8884,2,-999.0000,9,   -999.0,9,     8.82,2,    16.26,2,     1.15,2,   -999.0,9,   -999.0,9,   3.9446
  74DI20080820, AR07W,    51,  1,     19,2,20080905,0058, 58.8758, -39.1285, 3149,    308.2,   4.3209,  34.9233,2,-999.0000,9,   -999.0,9,     8.87,2,    16.40,2,     1.14,2,   -999.0,9,   -999.0,9,   4.2982
  74DI20080820, AR07W,    51,  1,     20,2,20080905,0058, 58.8758, -39.1285, 3149,    207.0,   4.4630,  34.9115,2,-999.0000,9,   -999.0,9,     9.13,2,    16.54,2,     1.16,2,   -999.0,9,   -999.0,9,   4.4477
  74DI20080820, AR07W,    51,  1,     21,2,20080905,0058, 58.8758, -39.1285, 3149,    106.5,   4.8933,  34.9012,2,-999.0000,9,   -999.0,9,     8.88,2,    16.64,2,     1.18,2,   -999.0,9,   -999.0,9,   4.8851
  74DI20080820, AR07W,    51,  1,     22,2,20080905,0058, 58.8758, -39.1285, 3149,     50.7,   5.7720,  34.9033,2,-999.0000,9,   -999.0,9,     7.36,2,    15.71,2,     1.11,2,   -999.0,9,   -999.0,9,   5.7678
  74DI20080820, AR07W,    51,  1,     23,2,20080905,0058, 58.8758, -39.1285, 3149,     19.9,   9.8519,  34.8601,2,-999.0000,9,   -999.0,9,     1.77,2,     6.24,2,     0.55,2,   -999.0,9,   -999.0,9,   9.8496
  74DI20080820, AR07W,    51,  1,     24,2,20080905,0058, 58.8758, -39.1285, 3149,      6.2,   9.8750,  34.8620,2,  34.8644,2,    287.9,2,     1.75,2,     6.27,2,     0.54,2,   -999.0,9,   -999.0,9,   9.8743
  74DI20080820, AR07W,    52,  1,      1,2,20080905,0634, 59.1733, -38.4250, 3131,   3121.1,   1.2645,  34.8964,2,  34.8977,2,    310.8,2,     8.64,2,    13.80,2,     1.00,2,   -999.0,9,   -999.0,9,   1.0403
  74DI20080820, AR07W,    52,  1,      2,2,20080905,0634, 59.1733, -38.4250, 3131,   3121.0,   1.2647,  34.8963,2,-999.0000,9,   -999.0,9,  -999.00,9,  -999.00,9,  -999.00,9,   -999.0,9,   -999.0,9,   1.0405
  74DI20080820, AR07W,    52,  1,      3,2,20080905,0634, 59.1733, -38.4250, 3131,   3066.3,   1.6094,  34.8965,2,-999.0000,9,   -999.0,9,     8.62,2,    14.14,2,     1.01,2,   -999.0,9,   -999.0,9,   1.3827
  74DI20080820, AR07W,    52,  1,      4,2,20080905,0634, 59.1733, -38.4250, 3131,   2963.6,   2.2501,  34.9093,2,-999.0000,9,   -999.0,9,    11.36,2,    15.08,2,     1.08,2,   -999.0,9,   -999.0,9,   2.0193
  74DI20080820, AR07W,    52,  1,      5,2,20080905,0634, 59.1733, -38.4250, 3131,   2653.8,   2.7702,  34.9295,2,-999.0000,9,   -999.0,9,    14.27,2,    16.38,2,     1.16,2,   -999.0,9,   -999.0,9,   2.5594
  74DI20080820, AR07W,    52,  1,      6,2,20080905,0634, 59.1733, -38.4250, 3131,   2653.7,   2.7703,  34.9295,2,-999.0000,9,    284.4,2,    14.34,2,    16.34,2,     1.16,2,   -999.0,9,   -999.0,9,   2.5596
  74DI20080820, AR07W,    52,  1,      7,2,20080905,0634, 59.1733, -38.4250, 3131,   2449.4,   2.9081,  34.9305,2,  34.9317,2,   -999.0,9,    13.77,2,    16.62,2,     1.17,2,   -999.0,9,   -999.0,9,   2.7148
  74DI20080820, AR07W,    52,  1,      8,2,20080905,0634, 59.1733, -38.4250, 3131,   2244.0,   3.0267,  34.9237,2,-999.0000,9,   -999.0,9,    12.75,2,    16.57,2,     1.17,2,   -999.0,9,   -999.0,9,   2.8510
  74DI20080820, AR07W,    52,  1,      9,2,20080905,0634, 59.1733, -38.4250, 3131,   2032.5,   3.1691,  34.9219,2,-999.0000,9,   -999.0,9,    12.04,2,    16.16,2,     1.16,2,   -999.0,9,   -999.0,9,   3.0110
  74DI20080820, AR07W,    52,  1,     10,2,20080905,0634, 59.1733, -38.4250, 3131,   1825.1,   3.2721,  34.9134,2,-999.0000,9,   -999.0,9,  -999.00,9,  -999.00,9,  -999.00,9,   -999.0,9,   -999.0,9,   3.1316
  74DI20080820, AR07W,    52,  1,     11,2,20080905,0634, 59.1733, -38.4250, 3131,   1618.8,   3.4372,  34.9112,2,  34.9129,2,   -999.0,9,    11.15,2,    16.84,2,     1.19,2,   -999.0,9,   -999.0,9,   3.3131
  74DI20080820, AR07W,    52,  1,     12,2,20080905,0634, 59.1733, -38.4250, 3131,   1422.2,   3.5570,  34.9068,2,-999.0000,9,    283.6,2,    10.98,2,    16.77,2,     1.19,2,   -999.0,9,   -999.0,9,   3.4488
  74DI20080820, AR07W,    52,  1,     13,2,20080905,0634, 59.1733, -38.4250, 3131,   1223.1,   3.6023,  34.8836,2,-999.0000,9,   -999.0,9,    10.17,2,    16.56,2,     1.18,2,   -999.0,9,   -999.0,9,   3.5107
  74DI20080820, AR07W,    52,  1,     14,2,20080905,0634, 59.1733, -38.4250, 3131,   1020.7,   3.4939,  34.8535,2,-999.0000,9,   -999.0,9,     9.06,2,    16.04,2,     1.14,2,   -999.0,9,   -999.0,9,   3.4199
  74DI20080820, AR07W,    52,  1,     15,2,20080905,0634, 59.1733, -38.4250, 3131,    816.8,   3.6153,  34.8626,2,-999.0000,9,   -999.0,9,     9.02,2,    16.07,2,     1.14,2,   -999.0,9,   -999.0,9,   3.5566
  74DI20080820, AR07W,    52,  1,     16,2,20080905,0634, 59.1733, -38.4250, 3131,    613.1,   3.8502,  34.8818,2,  34.8839,2,   -999.0,9,     8.88,2,    16.07,2,     1.15,2,   -999.0,9,   -999.0,9,   3.8059
  74DI20080820, AR07W,    52,  1,     17,2,20080905,0634, 59.1733, -38.4250, 3131,    511.9,   3.8908,  34.8807,2,-999.0000,9,    299.8,2,     8.80,2,    16.12,2,     1.14,2,   -999.0,9,   -999.0,9,   3.8541
  74DI20080820, AR07W,    52,  1,     18,2,20080905,0634, 59.1733, -38.4250, 3131,    410.2,   4.0598,  34.8937,2,-999.0000,9,   -999.0,9,     9.08,2,    16.34,2,     1.16,2,   -999.0,9,   -999.0,9,   4.0301
  74DI20080820, AR07W,    52,  1,     19,2,20080905,0634, 59.1733, -38.4250, 3131,    308.4,   4.2016,  34.8969,2,-999.0000,9,   -999.0,9,     8.95,2,    16.37,2,     1.16,2,   -999.0,9,   -999.0,9,   4.1792
  74DI20080820, AR07W,    52,  1,     20,2,20080905,0634, 59.1733, -38.4250, 3131,    207.0,   4.4966,  34.8944,2,-999.0000,9,   -999.0,9,     8.86,2,    16.47,2,     1.16,2,   -999.0,9,   -999.0,9,   4.4812
  74DI20080820, AR07W,    52,  1,     21,2,20080905,0634, 59.1733, -38.4250, 3131,    105.7,   4.8260,  34.8580,2,  34.8620,2,   -999.0,9,     8.35,2,    16.40,2,     1.17,2,   -999.0,9,   -999.0,9,   4.8180
  74DI20080820, AR07W,    52,  1,     22,2,20080905,0634, 59.1733, -38.4250, 3131,     54.9,   8.3049,  34.9040,2,-999.0000,9,   -999.0,9,     4.20,2,    11.51,2,     0.90,2,   -999.0,9,   -999.0,9,   8.2993
  74DI20080820, AR07W,    52,  1,     23,2,20080905,0634, 59.1733, -38.4250, 3131,     24.5,   9.8978,  34.9167,2,-999.0000,9,   -999.0,9,     1.71,2,     6.77,2,     0.58,2,   -999.0,9,   -999.0,9,   9.8950
  74DI20080820, AR07W,    52,  1,     24,2,20080905,0634, 59.1733, -38.4250, 3131,      9.2,   9.9249,  34.9161,2,-999.0000,9,    284.0,2,     1.65,2,     6.67,2,     0.57,2,   -999.0,9,   -999.0,9,   9.9238
  74DI20080820, AR07W,    53,  1,      1,2,20080905,1226, 59.4692, -37.7487, 3167,   3157.2,   1.3698,  34.8964,2,  34.8981,2,   -999.0,9,     8.74,2,    13.71,2,     1.00,2,   2157.8,2,   2315.9,3,   1.1397
  74DI20080820, AR07W,    53,  1,      2,2,20080905,1226, 59.4692, -37.7487, 3167,   3157.0,   1.3699,  34.8964,2,-999.0000,9,   -999.0,9,  -999.00,9,  -999.00,9,  -999.00,9,   2159.4,2,   -999.0,9,   1.1398
  74DI20080820, AR07W,    53,  1,      3,2,20080905,1226, 59.4692, -37.7487, 3167,   3035.9,   1.6790,  34.9000,2,-999.0000,9,   -999.0,9,     8.74,2,    14.02,2,     1.00,2,   2159.4,2,   2304.9,2,   1.4536
  74DI20080820, AR07W,    53,  1,      4,2,20080905,1226, 59.4692, -37.7487, 3167,   2933.7,   2.2426,  34.9078,2,-999.0000,9,   -999.0,9,    10.46,2,    14.86,2,     1.06,2,   2157.3,2,   2306.6,2,   2.0150
  74DI20080820, AR07W,    53,  1,      5,2,20080905,1226, 59.4692, -37.7487, 3167,   2831.6,   2.5544,  34.9105,2,-999.0000,9,   -999.0,9,    10.85,2,    15.12,2,     1.08,2,   2161.2,2,   2306.6,2,   2.3304
  74DI20080820, AR07W,    53,  1,      6,2,20080905,1226, 59.4692, -37.7487, 3167,   2628.7,   2.8936,  34.9260,2,-999.0000,9,   -999.0,9,    13.11,2,    16.14,2,     1.14,2,   2158.4,2,   2309.1,2,   2.6830
  74DI20080820, AR07W,    53,  1,      7,2,20080905,1226, 59.4692, -37.7487, 3167,   2431.1,   3.0397,  34.9258,2,  34.9274,2,   -999.0,9,    12.66,2,    16.30,2,     1.15,2,   2160.3,2,   2309.6,2,   2.8458
  74DI20080820, AR07W,    53,  1,      8,2,20080905,1226, 59.4692, -37.7487, 3167,   2231.3,   3.1504,  34.9221,2,-999.0000,9,   -999.0,9,    11.79,2,    16.31,2,     1.15,2,   2162.3,2,   2307.7,2,   2.9739
  74DI20080820, AR07W,    53,  1,      9,2,20080905,1226, 59.4692, -37.7487, 3167,   2029.7,   3.2710,  34.9192,2,-999.0000,9,   -999.0,9,    11.46,2,    16.49,2,     1.16,2,   2161.8,2,   2307.5,2,   3.1117
  74DI20080820, AR07W,    53,  1,     10,2,20080905,1226, 59.4692, -37.7487, 3167,   1833.7,   3.3801,  34.9172,2,-999.0000,9,   -999.0,9,    11.31,2,    16.76,2,     1.17,2,   2158.5,2,   2306.8,2,   3.2373
  74DI20080820, AR07W,    53,  1,     11,2,20080905,1226, 59.4692, -37.7487, 3167,   1633.1,   3.5347,  34.9234,2,-999.0000,9,   -999.0,9,    11.13,2,    16.94,2,     1.19,2,   2160.1,2,   2307.1,2,   3.4081
  74DI20080820, AR07W,    53,  1,     12,2,20080905,1226, 59.4692, -37.7487, 3167,   1431.1,   3.5954,  34.9102,2,  34.9124,2,   -999.0,9,    11.03,2,    17.17,2,     1.19,2,   2160.3,2,   2306.1,2,   3.4860
  74DI20080820, AR07W,    53,  1,     13,2,20080905,1226, 59.4692, -37.7487, 3167,   1225.9,   3.6305,  34.8981,2,-999.0000,9,   -999.0,9,    10.56,2,    17.08,2,     1.19,2,   2161.3,2,   2305.3,2,   3.5383
  74DI20080820, AR07W,    53,  1,     14,2,20080905,1226, 59.4692, -37.7487, 3167,   1023.2,   3.6593,  34.8879,2,-999.0000,9,   -999.0,9,    10.15,2,    17.09,2,     1.18,2,   2161.6,2,   2305.7,2,   3.5837
  74DI20080820, AR07W,    53,  1,     15,2,20080905,1226, 59.4692, -37.7487, 3167,    819.2,   3.7820,  34.8921,2,-999.0000,9,   -999.0,9,     9.81,2,    16.87,2,     1.17,2,   2161.7,2,   2306.5,2,   3.7220
  74DI20080820, AR07W,    53,  1,     16,2,20080905,1226, 59.4692, -37.7487, 3167,    615.0,   4.1062,  34.9239,2,-999.0000,9,   -999.0,9,     9.44,2,    16.65,2,     1.16,2,   2160.7,2,   2306.5,2,   4.0605
  74DI20080820, AR07W,    53,  1,     17,2,20080905,1226, 59.4692, -37.7487, 3167,    512.8,   4.3307,  34.9450,2,  34.9463,2,   -999.0,9,     9.22,2,    15.90,2,     1.13,2,   2161.5,2,   2306.9,2,   4.2921
  74DI20080820, AR07W,    53,  1,     18,2,20080905,1226, 59.4692, -37.7487, 3167,    412.5,   4.2188,  34.9155,2,-999.0000,9,   -999.0,9,     8.79,2,    15.69,2,     1.12,2,   2160.6,2,   2305.9,2,   4.1884
  74DI20080820, AR07W,    53,  1,     19,2,20080905,1226, 59.4692, -37.7487, 3167,    311.1,   4.3087,  34.9106,2,-999.0000,9,   -999.0,9,     8.62,2,    15.93,2,     1.13,2,   2157.1,2,   2304.5,2,   4.2858
  74DI20080820, AR07W,    53,  1,     20,2,20080905,1226, 59.4692, -37.7487, 3167,    209.1,   4.6585,  34.9024,2,-999.0000,9,   -999.0,9,     8.62,2,    15.69,2,     1.11,2,   2159.7,2,   2303.9,2,   4.6427
  74DI20080820, AR07W,    53,  1,     21,2,20080905,1226, 59.4692, -37.7487, 3167,    107.6,   5.1694,  34.8954,2,-999.0000,9,   -999.0,9,     8.45,2,    16.29,2,     1.14,2,   2157.9,2,   2303.3,2,   5.1609
  74DI20080820, AR07W,    53,  1,     22,2,20080905,1226, 59.4692, -37.7487, 3167,     57.0,   7.3865,  34.8983,2,-999.0000,9,   -999.0,9,     4.90,2,    11.83,2,     0.94,2,   2135.4,2,   2307.8,2,   7.3811
  74DI20080820, AR07W,    53,  1,     23,2,20080905,1226, 59.4692, -37.7487, 3167,     26.5,  10.2442,  34.8960,2,  34.8987,2,   -999.0,9,     1.90,2,     5.69,2,     0.53,2,   2088.6,2,   2307.1,2,  10.2411
  74DI20080820, AR07W,    53,  1,     24,2,20080905,1226, 59.4692, -37.7487, 3167,      8.8,  10.2596,  34.8984,2,-999.0000,9,   -999.0,9,     1.87,2,     5.71,2,     0.54,2,   2085.8,2,   2306.7,2,  10.2586