BOTTLE,20150217PRINUNIVRMK
EXPOCODE,SECT_ID,STNNBR,CASTNO,BTLNBR,BTLNBR_FLAG_W,DATE,TIME,LATITUDE,LONGITUDE,DEPTH,CTDPRS,CTDTMP,CTDSAL,CTDSAL_FLAG_W,SALNTY,SALNTY_FLAG_W,OXYGEN,OXYGEN_FLAG_W,SILCAT,SILCAT_FLAG_W,NITRAT,NITRAT_FLAG_W,PHSPHT,PHSPHT_FLAG_W,TCARBN,TCARBN_FLAG_W,ALKALI,ALKALI_FLAG_W,THETA
,,,,,,,,,,METERS,DBAR,ITS-90,PSS-78,,PSS-78,,UMOL/KG,,UMOL/KG,,UMOL/KG,,UMOL/KG,,UMOL/KG,,UMOL/KG,,DEG C
  74DI20080820, AR07W,    19,  1,      1,2,20080827,0958, 57.3797, -51.7882, 3590,   3580.1,   1.8394,  34.8975,2,  34.8994,2,   -999.0,9,    10.75,2,    14.26,2,     1.20,3,   2160.8,2,   2304.8,2,   1.5551
  74DI20080820, AR07W,    19,  1,      2,2,20080827,0958, 57.3797, -51.7882, 3590,   3580.0,   1.8392,  34.8975,2,-999.0000,9,   -999.0,9,  -999.00,9,  -999.00,9,  -999.00,9,   -999.0,9,   -999.0,9,   1.5549
  74DI20080820, AR07W,    19,  1,      3,2,20080827,0958, 57.3797, -51.7882, 3590,   3325.8,   2.3812,  34.9022,2,-999.0000,9,   -999.0,9,    13.16,2,    15.16,2,     1.25,3,   2156.0,2,   2306.8,2,   2.1103
  74DI20080820, AR07W,    19,  1,      4,2,20080827,0958, 57.3797, -51.7882, 3590,   3325.8,   2.3814,  34.9022,2,-999.0000,9,   -999.0,9,  -999.00,9,  -999.00,9,  -999.00,9,   2155.8,2,   -999.0,9,   2.1105
  74DI20080820, AR07W,    19,  1,      5,2,20080827,0958, 57.3797, -51.7882, 3590,   3070.5,   2.7419,  34.9149,2,  34.9177,2,   -999.0,9,    13.01,2,    15.87,2,     1.30,3,   2158.4,2,   2305.6,2,   2.4895
  74DI20080820, AR07W,    19,  1,      6,2,20080827,0958, 57.3797, -51.7882, 3590,   2813.4,   2.9460,  34.9120,2,-999.0000,9,   -999.0,9,    12.53,2,    15.97,2,     1.30,3,   2155.1,2,   2303.9,2,   2.7158
  74DI20080820, AR07W,    19,  1,      7,2,20080827,0958, 57.3797, -51.7882, 3590,   2557.3,   3.1304,  34.9075,2,-999.0000,9,   -999.0,9,    11.83,2,    16.14,2,     1.16,2,   2156.0,2,   2304.1,2,   2.9225
  74DI20080820, AR07W,    19,  1,      8,2,20080827,0958, 57.3797, -51.7882, 3590,   2300.1,   3.3207,  34.9081,2,-999.0000,9,   -999.0,9,    11.22,2,    16.45,2,     1.16,2,   2155.4,2,   2303.2,2,   3.1348
  74DI20080820, AR07W,    19,  1,      9,2,20080827,0958, 57.3797, -51.7882, 3590,   2042.1,   3.4882,  34.9062,2,-999.0000,9,   -999.0,9,    11.10,2,    16.77,2,     1.18,2,   2155.2,2,   2301.6,2,   3.3245
  74DI20080820, AR07W,    19,  1,     10,2,20080827,0958, 57.3797, -51.7882, 3590,   1787.6,   3.6043,  34.8963,2,  34.7287,3,   -999.0,9,  -999.00,9,  -999.00,9,  -999.00,9,   -999.0,9,   -999.0,9,   3.4628
  74DI20080820, AR07W,    19,  1,     11,2,20080827,0958, 57.3797, -51.7882, 3590,   1530.3,   3.4364,  34.8553,2,-999.0000,9,   -999.0,9,     9.13,2,    15.90,2,     1.13,2,   2152.2,2,   2301.1,2,   3.3202
  74DI20080820, AR07W,    19,  1,     12,2,20080827,0958, 57.3797, -51.7882, 3590,   1275.6,   3.4320,  34.8516,2,-999.0000,9,   -999.0,9,     9.07,2,    15.91,2,     1.13,2,   2155.4,2,   2300.8,2,   3.3377
  74DI20080820, AR07W,    19,  1,     13,2,20080827,0958, 57.3797, -51.7882, 3590,   1021.2,   3.4474,  34.8489,2,-999.0000,9,   -999.0,9,     9.01,2,    15.93,2,     1.13,2,   2153.8,2,   2302.1,2,   3.3737
  74DI20080820, AR07W,    19,  1,     14,2,20080827,0958, 57.3797, -51.7882, 3590,    766.4,   3.4730,  34.8465,2,-999.0000,9,   -999.0,9,  -999.00,9,  -999.00,9,  -999.00,9,   -999.0,9,   -999.0,9,   3.4191
  74DI20080820, AR07W,    19,  1,     15,2,20080827,0958, 57.3797, -51.7882, 3590,    510.7,   3.5446,  34.8424,2,-999.0000,9,   -999.0,9,     8.72,2,    15.79,2,     1.12,2,   2156.3,2,   2299.9,2,   3.5094
  74DI20080820, AR07W,    19,  1,     16,2,20080827,0958, 57.3797, -51.7882, 3590,    305.9,   3.8120,  34.8494,2,  34.8560,2,   -999.0,9,     8.59,2,    15.76,2,     1.11,2,   2152.9,2,   2301.8,2,   3.7907
  74DI20080820, AR07W,    19,  1,     17,2,20080827,0958, 57.3797, -51.7882, 3590,    208.1,   4.1298,  34.8604,2,-999.0000,9,   -999.0,9,     8.49,2,    15.97,2,     1.13,2,   2155.5,2,   2300.9,2,   4.1150
  74DI20080820, AR07W,    19,  1,     18,2,20080827,0958, 57.3797, -51.7882, 3590,    157.6,   4.2655,  34.8517,2,-999.0000,9,   -999.0,9,     8.29,2,    16.03,2,     1.14,2,   2153.0,2,   2300.3,2,   4.2542
  74DI20080820, AR07W,    19,  1,     19,2,20080827,0958, 57.3797, -51.7882, 3590,    107.2,   4.3892,  34.8129,2,-999.0000,9,   -999.0,9,     8.00,2,    15.77,2,     1.12,2,   -999.0,9,   2311.7,3,   4.3814
  74DI20080820, AR07W,    19,  1,     20,2,20080827,0958, 57.3797, -51.7882, 3590,     81.8,   4.5131,  34.7702,2,-999.0000,9,   -999.0,9,     7.20,2,    14.95,2,     1.10,2,   2147.2,2,   2294.6,2,   4.5071
  74DI20080820, AR07W,    19,  1,     21,2,20080827,0958, 57.3797, -51.7882, 3590,     56.5,   4.3892,  34.6393,2,-999.0000,9,   -999.0,9,     4.76,2,     9.61,2,     0.97,2,   2128.6,2,   2295.9,2,   4.3851
  74DI20080820, AR07W,    19,  1,     22,2,20080827,0958, 57.3797, -51.7882, 3590,     31.3,   7.4710,  34.4751,2,-999.0000,9,   -999.0,9,     0.88,2,     2.26,2,     0.35,2,   2072.3,2,   2291.4,2,   7.4680
  74DI20080820, AR07W,    19,  1,     23,2,20080827,0958, 57.3797, -51.7882, 3590,     16.0,  10.2113,  34.1578,2,  34.1903,2,   -999.0,9,     0.46,2,     0.28,2,     0.17,2,   2052.4,2,   2274.6,2,  10.2095
  74DI20080820, AR07W,    19,  1,     24,2,20080827,0958, 57.3797, -51.7882, 3590,      8.6,  10.2403,  34.1478,2,-999.0000,9,   -999.0,9,     0.41,2,     0.10,2,     0.14,2,   2047.7,2,   2270.8,2,  10.2393
  74DI20080820, AR07W,    20,  1,      1,2,20080827,1643, 57.7957, -51.3427, 3677,   3667.8,   1.7368,  34.9018,2,  34.9018,2,    304.9,2,    10.19,2,    14.58,2,     1.11,2,   -999.0,9,   -999.0,9,   1.4458
  74DI20080820, AR07W,    20,  1,      2,2,20080827,1643, 57.7957, -51.3427, 3677,   3585.6,   1.7875,  34.8993,2,-999.0000,9,   -999.0,9,    10.31,2,    14.31,2,     1.11,2,   -999.0,9,   -999.0,9,   1.5039
  74DI20080820, AR07W,    20,  1,      3,2,20080827,1643, 57.7957, -51.3427, 3677,   3482.3,   1.9030,  34.8979,2,-999.0000,9,   -999.0,9,    10.60,2,    14.89,2,     1.10,2,   -999.0,9,   -999.0,9,   1.6273
  74DI20080820, AR07W,    20,  1,      4,2,20080827,1643, 57.7957, -51.3427, 3677,   3328.4,   2.1940,  34.8978,2,-999.0000,9,   -999.0,9,    12.74,2,    14.85,2,     1.17,2,   -999.0,9,   -999.0,9,   1.9273
  74DI20080820, AR07W,    20,  1,      5,2,20080827,1643, 57.7957, -51.3427, 3677,   3071.9,   2.5685,  34.9106,2,-999.0000,9,    285.9,2,    14.07,2,    15.91,2,     1.22,2,   -999.0,9,   -999.0,9,   2.3198
  74DI20080820, AR07W,    20,  1,      6,2,20080827,1643, 57.7957, -51.3427, 3677,   2814.7,   2.8231,  34.9166,2,-999.0000,9,   -999.0,9,    13.37,2,    16.19,2,     1.23,2,   -999.0,9,   -999.0,9,   2.5952
  74DI20080820, AR07W,    20,  1,      7,2,20080827,1643, 57.7957, -51.3427, 3677,   2557.7,   2.9843,  34.9113,2,  34.9095,2,   -999.0,9,    12.47,2,    17.27,2,     1.26,2,   -999.0,9,   -999.0,9,   2.7791
  74DI20080820, AR07W,    20,  1,      8,2,20080827,1643, 57.7957, -51.3427, 3677,   2301.3,   3.1410,  34.9070,2,-999.0000,9,   -999.0,9,    11.89,2,    16.60,2,     1.26,2,   -999.0,9,   -999.0,9,   2.9580
  74DI20080820, AR07W,    20,  1,      9,2,20080827,1643, 57.7957, -51.3427, 3677,   2041.0,   3.3220,  34.9038,2,-999.0000,9,    283.2,2,    11.47,2,    17.22,2,     1.27,2,   -999.0,9,   -999.0,9,   3.1609
  74DI20080820, AR07W,    20,  1,     10,2,20080827,1643, 57.7957, -51.3427, 3677,   1784.4,   3.5240,  34.9099,2,-999.0000,9,   -999.0,9,    11.12,2,    16.59,2,     1.28,2,   -999.0,9,   -999.0,9,   3.3838
  74DI20080820, AR07W,    20,  1,     11,2,20080827,1643, 57.7957, -51.3427, 3677,   1532.5,   3.5633,  34.8845,2,-999.0000,9,   -999.0,9,    10.30,2,    16.76,2,     1.24,2,   -999.0,9,   -999.0,9,   3.4454
  74DI20080820, AR07W,    20,  1,     12,2,20080827,1643, 57.7957, -51.3427, 3677,   1225.2,   3.4500,  34.8555,2,-999.0000,9,   -999.0,9,     9.26,2,    15.91,2,     1.19,2,   -999.0,9,   -999.0,9,   3.3597
  74DI20080820, AR07W,    20,  1,     13,2,20080827,1643, 57.7957, -51.3427, 3677,   1020.4,   3.4639,  34.8524,2,-999.0000,9,    284.4,2,    12.12,3,    16.22,2,     1.18,2,   -999.0,9,   -999.0,9,   3.3902
  74DI20080820, AR07W,    20,  1,     14,2,20080827,1643, 57.7957, -51.3427, 3677,    765.7,   3.5131,  34.8506,2,-999.0000,9,   -999.0,9,     8.80,2,    15.74,2,     1.12,2,   -999.0,9,   -999.0,9,   3.4590
  74DI20080820, AR07W,    20,  1,     15,2,20080827,1643, 57.7957, -51.3427, 3677,    510.3,   3.6555,  34.8557,2,-999.0000,9,    302.2,2,     8.68,2,    15.72,2,     1.13,2,   -999.0,9,   -999.0,9,   3.6199
  74DI20080820, AR07W,    20,  1,     16,2,20080827,1643, 57.7957, -51.3427, 3677,    308.3,   3.8333,  34.8561,2,-999.0000,9,   -999.0,9,     8.54,2,    15.80,2,     1.14,2,   -999.0,9,   -999.0,9,   3.8118
  74DI20080820, AR07W,    20,  1,     17,2,20080827,1643, 57.7957, -51.3427, 3677,    207.2,   4.2604,  34.8935,2,  34.8935,2,   -999.0,9,     8.46,2,    15.84,2,     1.13,2,   -999.0,9,   -999.0,9,   4.2454
  74DI20080820, AR07W,    20,  1,     18,2,20080827,1643, 57.7957, -51.3427, 3677,    157.0,   4.3723,  34.8873,2,-999.0000,9,   -999.0,9,     8.30,2,    16.02,2,     1.12,2,   -999.0,9,   -999.0,9,   4.3609
  74DI20080820, AR07W,    20,  1,     19,2,20080827,1643, 57.7957, -51.3427, 3677,    106.3,   4.2343,  34.8219,2,-999.0000,9,   -999.0,9,     8.04,2,    15.86,2,     1.13,2,   -999.0,9,   -999.0,9,   4.2267
  74DI20080820, AR07W,    20,  1,     20,2,20080827,1643, 57.7957, -51.3427, 3677,     81.0,   4.1171,  34.7401,2,  34.7421,2,   -999.0,9,     7.51,2,    15.34,2,     1.09,2,   -999.0,9,   -999.0,9,   4.1114
  74DI20080820, AR07W,    20,  1,     21,2,20080827,1643, 57.7957, -51.3427, 3677,     55.6,   4.3160,  34.6711,2,-999.0000,9,   -999.0,9,     6.10,2,    11.07,2,     1.01,2,   -999.0,9,   -999.0,9,   4.3120
  74DI20080820, AR07W,    20,  1,     22,2,20080827,1643, 57.7957, -51.3427, 3677,     30.3,   7.8230,  34.4184,2,-999.0000,9,   -999.0,9,     1.40,2,     3.92,2,     0.51,2,   -999.0,9,   -999.0,9,   7.8200
  74DI20080820, AR07W,    20,  1,     23,2,20080827,1643, 57.7957, -51.3427, 3677,     15.2,  10.2203,  34.2844,2,-999.0000,9,   -999.0,9,     0.46,2,     0.31,2,     0.15,2,   -999.0,9,   -999.0,9,  10.2185
  74DI20080820, AR07W,    20,  1,     24,2,20080827,1643, 57.7957, -51.3427, 3677,      8.0,  10.2425,  34.2844,2,  34.2855,2,   -999.0,9,     0.41,2,     0.20,2,     0.12,2,   -999.0,9,   -999.0,9,  10.2416
  74DI20080820, AR07W,    21,  1,      1,2,20080828,0052, 58.2070, -50.9003, 3609,   3599.2,   1.7132,  34.9024,2,  34.9016,2,   -999.0,9,    10.02,2,    14.34,2,     1.12,2,   2155.4,2,   2300.3,2,   1.4300
  74DI20080820, AR07W,    21,  1,      2,2,20080828,0052, 58.2070, -50.9003, 3609,   3540.1,   1.8006,  34.8977,2,  34.8987,2,   -999.0,9,    10.66,2,    14.14,2,     1.12,2,   2154.7,2,   2303.2,2,   1.5214
  74DI20080820, AR07W,    21,  1,      3,2,20080828,0052, 58.2070, -50.9003, 3609,   3483.4,   1.8639,  34.8972,2,-999.0000,9,   -999.0,9,    10.66,2,    14.38,2,     1.13,2,   2155.4,2,   2302.1,2,   1.5891
  74DI20080820, AR07W,    21,  1,      4,2,20080828,0052, 58.2070, -50.9003, 3609,   3326.0,   2.2135,  34.9008,2,-999.0000,9,   -999.0,9,    12.36,2,    15.04,2,     1.16,2,   2156.8,2,   2304.6,2,   1.9466
  74DI20080820, AR07W,    21,  1,      5,2,20080828,0052, 58.2070, -50.9003, 3609,   3069.4,   2.5789,  34.9101,2,-999.0000,9,   -999.0,9,    13.37,2,    16.10,2,     1.22,2,   2153.3,2,   -999.0,9,   2.3302
  74DI20080820, AR07W,    21,  1,      6,2,20080828,0052, 58.2070, -50.9003, 3609,   2810.9,   2.8384,  34.9159,2,-999.0000,9,   -999.0,9,    12.79,2,    15.99,2,     1.20,2,   2155.0,2,   2305.9,2,   2.6106
  74DI20080820, AR07W,    21,  1,      7,2,20080828,0052, 58.2070, -50.9003, 3609,   2553.7,   3.0115,  34.9111,2,-999.0000,9,   -999.0,9,    12.25,2,    16.53,2,     1.22,2,   2151.7,2,   2306.3,2,   2.8061
  74DI20080820, AR07W,    21,  1,      8,2,20080828,0052, 58.2070, -50.9003, 3609,   2296.4,   3.2119,  34.9119,2,-999.0000,9,   -999.0,9,    11.55,2,    16.59,2,     1.24,2,   2149.6,2,   2305.4,2,   3.0282
  74DI20080820, AR07W,    21,  1,      9,2,20080828,0052, 58.2070, -50.9003, 3609,   2044.3,   3.3935,  34.9128,2,-999.0000,9,   -999.0,9,    11.13,2,    16.38,2,     1.22,2,   2154.7,2,   2302.9,2,   3.2310
  74DI20080820, AR07W,    21,  1,     10,2,20080828,0052, 58.2070, -50.9003, 3609,   1788.4,   3.5527,  34.9069,2,-999.0000,9,   -999.0,9,    11.05,2,    16.95,2,     1.19,2,   2151.9,2,   2302.7,2,   3.4118
  74DI20080820, AR07W,    21,  1,     11,2,20080828,0052, 58.2070, -50.9003, 3609,   1532.8,   3.4656,  34.8638,2,-999.0000,9,   -999.0,9,     9.52,2,    16.20,2,     1.14,2,   2150.5,2,   2301.2,2,   3.3488
  74DI20080820, AR07W,    21,  1,     12,2,20080828,0052, 58.2070, -50.9003, 3609,   1277.4,   3.4359,  34.8537,2,  34.8547,2,   -999.0,9,     9.23,2,    16.09,2,     1.13,2,   2151.1,2,   2300.8,2,   3.3414
  74DI20080820, AR07W,    21,  1,     13,2,20080828,0052, 58.2070, -50.9003, 3609,   1022.4,   3.4546,  34.8506,2,-999.0000,9,   -999.0,9,     9.01,2,    16.09,2,     1.13,2,   2148.3,2,   2300.7,2,   3.3808
  74DI20080820, AR07W,    21,  1,     14,2,20080828,0052, 58.2070, -50.9003, 3609,    767.3,   3.4896,  34.8489,2,-999.0000,9,   -999.0,9,     8.82,2,    15.83,2,     1.12,2,   2151.0,2,   2301.2,2,   3.4355
  74DI20080820, AR07W,    21,  1,     15,2,20080828,0052, 58.2070, -50.9003, 3609,    514.0,   3.5619,  34.8419,2,-999.0000,9,   -999.0,9,     8.67,2,    15.76,2,     1.12,2,   2150.7,2,   2302.0,2,   3.5264
  74DI20080820, AR07W,    21,  1,     16,2,20080828,0052, 58.2070, -50.9003, 3609,    310.4,   3.8842,  34.8583,2,-999.0000,9,   -999.0,9,     8.57,2,    15.57,2,     1.10,2,   2155.2,6,   2295.9,2,   3.8624
  74DI20080820, AR07W,    21,  1,     17,2,20080828,0052, 58.2070, -50.9003, 3609,    208.9,   4.1487,  34.8666,2,-999.0000,9,   -999.0,9,     8.55,2,    15.84,2,     1.14,2,   2158.6,2,   2300.3,2,   4.1338
  74DI20080820, AR07W,    21,  1,     18,2,20080828,0052, 58.2070, -50.9003, 3609,    158.4,   4.4233,  34.8773,2,-999.0000,9,   -999.0,9,     8.12,2,    15.67,2,     1.12,2,   2157.3,2,   2299.6,2,   4.4117
  74DI20080820, AR07W,    21,  1,     19,2,20080828,0052, 58.2070, -50.9003, 3609,    107.6,   4.3208,  34.8107,2,-999.0000,9,   -999.0,9,     7.87,2,    15.40,2,     1.10,2,   2153.0,2,   2296.2,2,   4.3131
  74DI20080820, AR07W,    21,  1,     20,2,20080828,0052, 58.2070, -50.9003, 3609,     82.1,   4.2465,  34.7369,2,-999.0000,9,   -999.0,9,     7.29,2,    14.76,2,     1.07,2,   2129.9,2,   2293.7,2,   4.2407
  74DI20080820, AR07W,    21,  1,     21,2,20080828,0052, 58.2070, -50.9003, 3609,     56.6,   4.8130,  34.6145,2,-999.0000,9,   -999.0,9,     4.33,2,     8.72,2,     0.90,2,   2131.4,2,   2293.8,2,   4.8087
  74DI20080820, AR07W,    21,  1,     22,2,20080828,0052, 58.2070, -50.9003, 3609,     31.5,   7.4289,  34.4552,2,-999.0000,9,   -999.0,9,     1.61,2,     3.38,2,     0.41,2,   2086.3,2,   2285.7,2,   7.4259
  74DI20080820, AR07W,    21,  1,     23,2,20080828,0052, 58.2070, -50.9003, 3609,     16.3,   9.1746,  34.1424,2,  34.1914,2,   -999.0,9,     0.70,2,     0.75,2,     0.20,2,   2062.1,2,   2272.6,2,   9.1728
  74DI20080820, AR07W,    21,  1,     24,2,20080828,0052, 58.2070, -50.9003, 3609,      7.2,   9.1774,  34.1410,2,  34.1416,2,   -999.0,9,     0.60,2,     0.42,2,     0.19,2,   2058.2,2,   2269.0,2,   9.1766