BOTTLE,20150217PRINUNIVRMK
EXPOCODE,SECT_ID,STNNBR,CASTNO,BTLNBR,BTLNBR_FLAG_W,DATE,TIME,LATITUDE,LONGITUDE,DEPTH,CTDPRS,CTDTMP,CTDSAL,CTDSAL_FLAG_W,SALNTY,SALNTY_FLAG_W,OXYGEN,OXYGEN_FLAG_W,SILCAT,SILCAT_FLAG_W,NITRAT,NITRAT_FLAG_W,PHSPHT,PHSPHT_FLAG_W,TCARBN,TCARBN_FLAG_W,ALKALI,ALKALI_FLAG_W,THETA
,,,,,,,,,,METERS,DBAR,ITS-90,PSS-78,,PSS-78,,UMOL/KG,,UMOL/KG,,UMOL/KG,,UMOL/KG,,UMOL/KG,,UMOL/KG,,DEG C
  74DI20080820, AR07W,    45,  1,      1,2,20080903,1422, 57.1047, -43.3062, 3491,   3481.0,   1.7572,  34.9027,2,  34.9047,2,    303.6,2,     9.68,2,    14.11,2,     1.06,2,   -999.0,9,   -999.0,9,   1.4853
  74DI20080820, AR07W,    45,  1,      2,2,20080903,1422, 57.1047, -43.3062, 3491,   3481.1,   1.7570,  34.9027,2,-999.0000,9,   -999.0,9,     9.74,2,    14.81,2,     1.07,2,   -999.0,9,   -999.0,9,   1.4851
  74DI20080820, AR07W,    45,  1,      3,2,20080903,1422, 57.1047, -43.3062, 3491,   3378.2,   1.9439,  34.9033,2,-999.0000,9,   -999.0,9,    10.55,2,    15.28,2,     1.12,2,   -999.0,9,   -999.0,9,   1.6780
  74DI20080820, AR07W,    45,  1,      4,2,20080903,1422, 57.1047, -43.3062, 3491,   3274.5,   2.2057,  34.9041,2,-999.0000,9,   -999.0,9,    11.85,2,    15.25,2,     1.13,2,   -999.0,9,   -999.0,9,   1.9443
  74DI20080820, AR07W,    45,  1,      5,2,20080903,1422, 57.1047, -43.3062, 3491,   3171.1,   2.3996,  34.9079,2,-999.0000,9,   -999.0,9,    13.24,2,    16.09,2,     1.16,2,   -999.0,9,   -999.0,9,   2.1444
  74DI20080820, AR07W,    45,  1,      6,2,20080903,1422, 57.1047, -43.3062, 3491,   3068.6,   2.5454,  34.9125,2,  34.9097,2,   -999.0,9,    13.89,2,    16.80,2,     1.20,2,   -999.0,9,   -999.0,9,   2.2975
  74DI20080820, AR07W,    45,  1,      7,2,20080903,1422, 57.1047, -43.3062, 3491,   2864.0,   2.7635,  34.9193,2,-999.0000,9,    286.2,2,    13.61,2,    16.70,2,     1.19,2,   -999.0,9,   -999.0,9,   2.5318
  74DI20080820, AR07W,    45,  1,      8,2,20080903,1422, 57.1047, -43.3062, 3491,   2658.4,   2.8812,  34.9157,2,-999.0000,9,   -999.0,9,    12.93,2,    16.71,2,     1.20,2,   -999.0,9,   -999.0,9,   2.6679
  74DI20080820, AR07W,    45,  1,      9,2,20080903,1422, 57.1047, -43.3062, 3491,   2453.2,   3.0017,  34.9109,2,-999.0000,9,   -999.0,9,    12.51,2,    16.93,2,     1.22,2,   -999.0,9,   -999.0,9,   2.8064
  74DI20080820, AR07W,    45,  1,     10,2,20080903,1422, 57.1047, -43.3062, 3491,   2248.1,   3.1329,  34.9136,2,-999.0000,9,   -999.0,9,    12.39,2,    17.09,2,     1.22,2,   -999.0,9,   -999.0,9,   2.9551
  74DI20080820, AR07W,    45,  1,     11,2,20080903,1422, 57.1047, -43.3062, 3491,   2043.3,   3.1809,  34.9010,2,  34.9036,2,    287.7,2,    12.02,2,    17.17,2,     1.23,2,   -999.0,9,   -999.0,9,   3.0217
  74DI20080820, AR07W,    45,  1,     12,2,20080903,1422, 57.1047, -43.3062, 3491,   1837.1,   3.3542,  34.9102,2,-999.0000,9,   -999.0,9,    11.74,2,    17.48,2,     1.23,2,   -999.0,9,   -999.0,9,   3.2115
  74DI20080820, AR07W,    45,  1,     13,2,20080903,1422, 57.1047, -43.3062, 3491,   1632.5,   3.4698,  34.9080,2,-999.0000,9,   -999.0,9,    11.50,2,    17.97,2,     1.25,2,   -999.0,9,   -999.0,9,   3.3441
  74DI20080820, AR07W,    45,  1,     14,2,20080903,1422, 57.1047, -43.3062, 3491,   1429.4,   3.5709,  34.9021,2,-999.0000,9,   -999.0,9,    11.16,2,    19.25,3,     1.29,2,   -999.0,9,   -999.0,9,   3.4619
  74DI20080820, AR07W,    45,  1,     15,2,20080903,1422, 57.1047, -43.3062, 3491,   1224.8,   3.5856,  34.8821,2,-999.0000,9,   -999.0,9,    10.35,2,    17.54,2,     1.23,2,   -999.0,9,   -999.0,9,   3.4940
  74DI20080820, AR07W,    45,  1,     16,2,20080903,1422, 57.1047, -43.3062, 3491,   1017.2,   3.5341,  34.8604,2,-999.0000,9,   -999.0,9,     9.41,2,    16.81,2,     1.18,2,   -999.0,9,   -999.0,9,   3.4600
  74DI20080820, AR07W,    45,  1,     17,2,20080903,1422, 57.1047, -43.3062, 3491,    809.1,   3.6274,  34.8675,2,-999.0000,9,   -999.0,9,  -999.00,9,  -999.00,9,  -999.00,9,   -999.0,9,   -999.0,9,   3.5692
  74DI20080820, AR07W,    45,  1,     18,2,20080903,1422, 57.1047, -43.3062, 3491,    613.1,   3.7225,  34.8701,2,-999.0000,9,   -999.0,9,     9.27,2,    16.86,2,     1.20,2,   -999.0,9,   -999.0,9,   3.6789
  74DI20080820, AR07W,    45,  1,     19,2,20080903,1422, 57.1047, -43.3062, 3491,    409.7,   3.9635,  34.8854,2,-999.0000,9,    295.5,2,     9.20,2,    17.52,2,     1.22,2,   -999.0,9,   -999.0,9,   3.9342
  74DI20080820, AR07W,    45,  1,     20,2,20080903,1422, 57.1047, -43.3062, 3491,    207.5,   4.2717,  34.8671,2,  34.8696,2,   -999.0,9,     8.55,2,    17.03,2,     1.19,2,   -999.0,9,   -999.0,9,   4.2567
  74DI20080820, AR07W,    45,  1,     21,2,20080903,1422, 57.1047, -43.3062, 3491,    104.6,   4.7051,  34.8347,2,-999.0000,9,    296.8,2,     8.19,2,    16.19,2,     1.18,2,   -999.0,9,   -999.0,9,   4.6973
  74DI20080820, AR07W,    45,  1,     22,2,20080903,1422, 57.1047, -43.3062, 3491,     75.7,   5.3916,  34.8541,2,-999.0000,9,   -999.0,9,     5.93,2,    12.72,2,     0.93,2,   -999.0,9,   -999.0,9,   5.3855
  74DI20080820, AR07W,    45,  1,     23,2,20080903,1422, 57.1047, -43.3062, 3491,     35.3,   9.4173,  34.6721,2,-999.0000,9,   -999.0,9,  -999.00,9,  -999.00,9,  -999.00,9,   -999.0,9,   -999.0,9,   9.4134
  74DI20080820, AR07W,    45,  1,     24,2,20080903,1422, 57.1047, -43.3062, 3491,      9.8,   9.6710,  34.5088,2,  34.5383,2,   -999.0,9,     0.87,2,     2.23,2,     0.31,2,   -999.0,9,   -999.0,9,   9.6699
  74DI20080820, AR07W,    46,  1,      1,2,20080903,1941, 57.3927, -42.6213, 3432,   3422.6,   1.6820,  34.9022,2,-999.0000,9,   -999.0,9,  -999.00,9,  -999.00,9,  -999.00,9,   -999.0,9,   -999.0,9,   1.4180
  74DI20080820, AR07W,    46,  1,      2,2,20080903,1941, 57.3927, -42.6213, 3432,   3422.6,   1.6820,  34.9022,2,  34.9035,2,    304.6,2,     9.55,2,    14.11,2,     1.06,2,   -999.0,9,   -999.0,9,   1.4180
  74DI20080820, AR07W,    46,  1,      3,2,20080903,1941, 57.3927, -42.6213, 3432,   3371.6,   1.7486,  34.9016,2,-999.0000,9,   -999.0,9,     9.11,2,    14.01,2,     1.06,2,   -999.0,9,   -999.0,9,   1.4881
  74DI20080820, AR07W,    46,  1,      4,2,20080903,1941, 57.3927, -42.6213, 3432,   3269.4,   2.1719,  34.9056,2,-999.0000,9,   -999.0,9,    10.79,2,    14.25,2,     1.11,2,   -999.0,9,   -999.0,9,   1.9118
  74DI20080820, AR07W,    46,  1,      5,2,20080903,1941, 57.3927, -42.6213, 3432,   3166.9,   2.3939,  34.9098,2,-999.0000,9,   -999.0,9,    11.69,2,    14.80,2,     1.13,2,   -999.0,9,   -999.0,9,   2.1393
  74DI20080820, AR07W,    46,  1,      6,2,20080903,1941, 57.3927, -42.6213, 3432,   3063.5,   2.5241,  34.9110,2,-999.0000,9,   -999.0,9,    14.82,2,    15.10,2,     1.21,2,   -999.0,9,   -999.0,9,   2.2772
  74DI20080820, AR07W,    46,  1,      7,2,20080903,1941, 57.3927, -42.6213, 3432,   2857.2,   2.7835,  34.9204,2,-999.0000,9,    286.1,2,    13.71,2,    15.53,2,     1.20,2,   -999.0,9,   -999.0,9,   2.5521
  74DI20080820, AR07W,    46,  1,      8,2,20080903,1941, 57.3927, -42.6213, 3432,   2651.1,   2.9394,  34.9136,2,  34.9155,2,   -999.0,9,    13.04,2,    14.79,2,     1.22,2,   -999.0,9,   -999.0,9,   2.7257
  74DI20080820, AR07W,    46,  1,      9,2,20080903,1941, 57.3927, -42.6213, 3432,   2445.7,   3.0829,  34.9115,2,-999.0000,9,   -999.0,9,    12.45,2,    15.10,2,     1.22,2,   -999.0,9,   -999.0,9,   2.8869
  74DI20080820, AR07W,    46,  1,     10,2,20080903,1941, 57.3927, -42.6213, 3432,   2240.4,   3.2133,  34.9065,2,-999.0000,9,   -999.0,9,    11.93,2,    15.34,2,     1.24,2,   -999.0,9,   -999.0,9,   3.0350
  74DI20080820, AR07W,    46,  1,     11,2,20080903,1941, 57.3927, -42.6213, 3432,   2035.1,   3.3343,  34.9021,2,-999.0000,9,   -999.0,9,    11.47,2,    15.52,2,     1.22,2,   -999.0,9,   -999.0,9,   3.1736
  74DI20080820, AR07W,    46,  1,     12,2,20080903,1941, 57.3927, -42.6213, 3432,   1830.4,   3.4833,  34.9044,2,-999.0000,9,   -999.0,9,  -999.00,9,  -999.00,9,  -999.00,9,   -999.0,9,   -999.0,9,   3.3394
  74DI20080820, AR07W,    46,  1,     13,2,20080903,1941, 57.3927, -42.6213, 3432,   1626.5,   3.6292,  34.9052,2,-999.0000,9,   -999.0,9,    10.71,2,    15.83,2,     1.22,2,   -999.0,9,   -999.0,9,   3.5020
  74DI20080820, AR07W,    46,  1,     14,2,20080903,1941, 57.3927, -42.6213, 3432,   1422.9,   3.4829,  34.8627,2,-999.0000,9,   -999.0,9,     9.43,2,    15.26,2,     1.18,2,   -999.0,9,   -999.0,9,   3.3755
  74DI20080820, AR07W,    46,  1,     15,2,20080903,1941, 57.3927, -42.6213, 3432,   1220.3,   3.4746,  34.8530,2,-999.0000,9,   -999.0,9,     9.23,2,    15.61,2,     1.18,2,   -999.0,9,   -999.0,9,   3.3844
  74DI20080820, AR07W,    46,  1,     16,2,20080903,1941, 57.3927, -42.6213, 3432,   1018.2,   3.4962,  34.8522,2,  34.8543,2,   -999.0,9,     8.90,2,    15.97,2,     1.15,2,   -999.0,9,   -999.0,9,   3.4224
  74DI20080820, AR07W,    46,  1,     17,2,20080903,1941, 57.3927, -42.6213, 3432,    815.6,   3.5312,  34.8528,2,-999.0000,9,   -999.0,9,  -999.00,9,  -999.00,9,  -999.00,9,   -999.0,9,   -999.0,9,   3.4731
  74DI20080820, AR07W,    46,  1,     18,2,20080903,1941, 57.3927, -42.6213, 3432,    612.6,   3.6141,  34.8577,2,-999.0000,9,   -999.0,9,     8.83,2,    16.12,2,     1.16,2,   -999.0,9,   -999.0,9,   3.5710
  74DI20080820, AR07W,    46,  1,     19,2,20080903,1941, 57.3927, -42.6213, 3432,    409.1,   3.7935,  34.8663,2,-999.0000,9,   -999.0,9,     8.61,2,    16.10,2,     1.16,2,   -999.0,9,   -999.0,9,   3.7648
  74DI20080820, AR07W,    46,  1,     20,2,20080903,1941, 57.3927, -42.6213, 3432,    206.4,   4.1355,  34.8706,2,  34.8734,2,   -999.0,9,     8.80,2,    16.55,2,     1.19,2,   -999.0,9,   -999.0,9,   4.1208
  74DI20080820, AR07W,    46,  1,     21,2,20080903,1941, 57.3927, -42.6213, 3432,    104.8,   4.3192,  34.8316,2,-999.0000,9,    301.5,2,     8.63,2,    16.13,2,     1.22,2,   -999.0,9,   -999.0,9,   4.3117
  74DI20080820, AR07W,    46,  1,     22,2,20080903,1941, 57.3927, -42.6213, 3432,     74.5,   4.9647,  34.8634,2,-999.0000,9,   -999.0,9,     8.34,2,    15.89,2,     1.20,2,   -999.0,9,   -999.0,9,   4.9590
  74DI20080820, AR07W,    46,  1,     23,2,20080903,1941, 57.3927, -42.6213, 3432,     54.2,   5.6088,  34.7787,2,-999.0000,9,   -999.0,9,     5.58,2,    11.52,2,     1.06,2,   -999.0,9,   -999.0,9,   5.6044
  74DI20080820, AR07W,    46,  1,     24,2,20080903,1941, 57.3927, -42.6213, 3432,      8.6,   9.2277,  34.6556,2,  34.6572,2,   -999.0,9,     1.66,2,     4.97,2,     0.49,2,   -999.0,9,   -999.0,9,   9.2268
  74DI20080820, AR07W,    47,  1,      1,2,20080904,0156, 57.6890, -41.9198, 3367,   3357.9,   1.7599,  34.9036,2,  34.9054,2,    302.2,2,    10.11,2,    14.12,2,     1.05,2,   -999.0,9,   -999.0,9,   1.5006
  74DI20080820, AR07W,    47,  1,      2,2,20080904,0156, 57.6890, -41.9198, 3367,   3357.9,   1.7584,  34.9036,2,-999.0000,9,   -999.0,9,    10.17,2,    14.16,2,     1.08,2,   -999.0,9,   -999.0,9,   1.4991
  74DI20080820, AR07W,    47,  1,      3,2,20080904,0156, 57.6890, -41.9198, 3367,   3275.7,   2.1254,  34.9054,2,-999.0000,9,   -999.0,9,    10.79,2,    16.11,2,     1.10,2,   -999.0,9,   -999.0,9,   1.8658
  74DI20080820, AR07W,    47,  1,      4,2,20080904,0156, 57.6890, -41.9198, 3367,   3172.8,   2.2847,  34.9094,2,-999.0000,9,   -999.0,9,    12.42,2,    15.56,2,     1.14,2,   -999.0,9,   -999.0,9,   2.0320
  74DI20080820, AR07W,    47,  1,      5,2,20080904,0156, 57.6890, -41.9198, 3367,   3069.9,   2.5043,  34.9121,2,-999.0000,9,   -999.0,9,    12.66,2,    15.33,2,     1.15,2,   -999.0,9,   -999.0,9,   2.2572
  74DI20080820, AR07W,    47,  1,      6,2,20080904,0156, 57.6890, -41.9198, 3367,   2864.0,   2.7782,  34.9217,2,-999.0000,9,   -999.0,9,    13.55,2,    15.71,2,     1.19,2,   -999.0,9,   -999.0,9,   2.5462
  74DI20080820, AR07W,    47,  1,      7,2,20080904,0156, 57.6890, -41.9198, 3367,   2658.6,   2.9468,  34.9231,2,  34.9249,2,   -999.0,9,    13.24,2,    15.96,2,     1.21,2,   -999.0,9,   -999.0,9,   2.7322
  74DI20080820, AR07W,    47,  1,      8,2,20080904,0156, 57.6890, -41.9198, 3367,   2452.8,   3.0264,  34.9104,2,-999.0000,9,   -999.0,9,    12.39,2,    15.95,2,     1.20,2,   -999.0,9,   -999.0,9,   2.8307
  74DI20080820, AR07W,    47,  1,      9,2,20080904,0156, 57.6890, -41.9198, 3367,   2246.9,   3.1467,  34.9076,2,-999.0000,9,    286.3,2,    11.89,2,    15.90,2,     1.22,2,   -999.0,9,   -999.0,9,   2.9688
  74DI20080820, AR07W,    47,  1,     10,2,20080904,0156, 57.6890, -41.9198, 3367,   2042.0,   3.2417,  34.8998,2,-999.0000,9,   -999.0,9,    11.72,2,    16.18,2,     1.24,2,   -999.0,9,   -999.0,9,   3.0817
  74DI20080820, AR07W,    47,  1,     11,2,20080904,0156, 57.6890, -41.9198, 3367,   1836.5,   3.3985,  34.9018,2,-999.0000,9,   -999.0,9,  -999.00,9,  -999.00,9,  -999.00,9,   -999.0,9,   -999.0,9,   3.2553
  74DI20080820, AR07W,    47,  1,     12,2,20080904,0156, 57.6890, -41.9198, 3367,   1631.4,   3.5364,  34.9034,2,-999.0000,9,   -999.0,9,    11.16,2,    16.06,2,     1.23,2,   -999.0,9,   -999.0,9,   3.4099
  74DI20080820, AR07W,    47,  1,     13,2,20080904,0156, 57.6890, -41.9198, 3367,   1426.6,   3.5639,  34.8846,2,  34.8871,2,    289.8,2,    10.38,2,    15.25,2,     1.23,2,   -999.0,9,   -999.0,9,   3.4552
  74DI20080820, AR07W,    47,  1,     14,2,20080904,0156, 57.6890, -41.9198, 3367,   1223.4,   3.5066,  34.8622,2,-999.0000,9,   -999.0,9,  -999.00,9,  -999.00,9,  -999.00,9,   -999.0,9,   -999.0,9,   3.4159
  74DI20080820, AR07W,    47,  1,     15,2,20080904,0156, 57.6890, -41.9198, 3367,   1018.2,   3.4586,  34.8492,2,-999.0000,9,   -999.0,9,     9.09,2,    14.52,2,     1.18,2,   -999.0,9,   -999.0,9,   3.3851
  74DI20080820, AR07W,    47,  1,     16,2,20080904,0156, 57.6890, -41.9198, 3367,    815.4,   3.5106,  34.8531,2,-999.0000,9,    303.0,2,     9.01,2,    14.57,2,     1.18,2,   -999.0,9,   -999.0,9,   3.4527
  74DI20080820, AR07W,    47,  1,     17,2,20080904,0156, 57.6890, -41.9198, 3367,    613.3,   3.5469,  34.8527,2,-999.0000,9,   -999.0,9,     9.00,2,    14.32,2,     1.21,2,   -999.0,9,   -999.0,9,   3.5041
  74DI20080820, AR07W,    47,  1,     18,2,20080904,0156, 57.6890, -41.9198, 3367,    411.2,   3.9132,  34.8856,2,-999.0000,9,   -999.0,9,     8.90,2,    14.11,2,     1.18,2,   -999.0,9,   -999.0,9,   3.8839
  74DI20080820, AR07W,    47,  1,     19,2,20080904,0156, 57.6890, -41.9198, 3367,    208.1,   4.2169,  34.8977,2,-999.0000,9,   -999.0,9,     8.73,2,    13.79,2,     1.18,2,   -999.0,9,   -999.0,9,   4.2019
  74DI20080820, AR07W,    47,  1,     20,2,20080904,0156, 57.6890, -41.9198, 3367,    107.0,   4.1905,  34.8105,2,  34.8135,2,   -999.0,9,     8.34,2,    13.62,2,     1.20,2,   -999.0,9,   -999.0,9,   4.1829
  74DI20080820, AR07W,    47,  1,     21,2,20080904,0156, 57.6890, -41.9198, 3367,     71.3,   6.1257,  34.7447,2,-999.0000,9,    300.2,2,     4.43,2,     7.20,2,     0.99,2,   -999.0,9,   -999.0,9,   6.1196
  74DI20080820, AR07W,    47,  1,     22,2,20080904,0156, 57.6890, -41.9198, 3367,     51.3,   8.9644,  34.7147,2,-999.0000,9,   -999.0,9,     1.81,2,     4.75,2,     0.59,2,   -999.0,9,   -999.0,9,   8.9589
  74DI20080820, AR07W,    47,  1,     23,2,20080904,0156, 57.6890, -41.9198, 3367,     20.9,   9.1763,  34.6936,2,-999.0000,9,   -999.0,9,  -999.00,9,  -999.00,9,  -999.00,9,   -999.0,9,   -999.0,9,   9.1740
  74DI20080820, AR07W,    47,  1,     24,2,20080904,0156, 57.6890, -41.9198, 3367,      5.6,   9.3355,  34.6570,2,  34.6653,2,   -999.0,9,     1.37,2,     4.48,2,     0.50,2,   -999.0,9,   -999.0,9,   9.3349