BOTTLE,20150217PRINUNIVRMK
EXPOCODE,SECT_ID,STNNBR,CASTNO,BTLNBR,BTLNBR_FLAG_W,DATE,TIME,LATITUDE,LONGITUDE,DEPTH,CTDPRS,CTDTMP,CTDSAL,CTDSAL_FLAG_W,SALNTY,SALNTY_FLAG_W,OXYGEN,OXYGEN_FLAG_W,SILCAT,SILCAT_FLAG_W,NITRAT,NITRAT_FLAG_W,PHSPHT,PHSPHT_FLAG_W,TCARBN,TCARBN_FLAG_W,ALKALI,ALKALI_FLAG_W,THETA
,,,,,,,,,,METERS,DBAR,ITS-90,PSS-78,,PSS-78,,UMOL/KG,,UMOL/KG,,UMOL/KG,,UMOL/KG,,UMOL/KG,,UMOL/KG,,DEG C
  74DI20080820, AR07W,    31,  1,      1,2,20080830,1157, 60.3742, -48.4723,  545,    535.5,   5.0507,  34.9763,2,  34.9764,2,   -999.0,9,     8.26,2,    15.90,2,     1.10,2,   2158.6,2,   -999.0,9,   5.0073
  74DI20080820, AR07W,    31,  1,      2,2,20080830,1157, 60.3742, -48.4723,  545,    535.5,   5.0631,  34.9768,2,-999.0000,9,   -999.0,9,  -999.00,9,  -999.00,9,  -999.00,9,   -999.0,9,   -999.0,9,   5.0196
  74DI20080820, AR07W,    31,  1,      3,2,20080830,1157, 60.3742, -48.4723,  545,    510.9,   5.1461,  34.9791,2,-999.0000,9,   -999.0,9,     8.17,2,    15.38,2,     1.09,2,   2156.6,2,   2307.1,2,   5.1044
  74DI20080820, AR07W,    31,  1,      4,2,20080830,1157, 60.3742, -48.4723,  545,    511.0,   5.1482,  34.9790,2,-999.0000,9,   -999.0,9,  -999.00,9,  -999.00,9,  -999.00,9,   -999.0,9,   -999.0,9,   5.1065
  74DI20080820, AR07W,    31,  1,      5,2,20080830,1157, 60.3742, -48.4723,  545,    409.3,   5.1233,  34.9643,2,-999.0000,9,   -999.0,9,     8.03,2,    15.69,2,     1.09,2,   2161.1,2,   -999.0,9,   5.0903
  74DI20080820, AR07W,    31,  1,      6,2,20080830,1157, 60.3742, -48.4723,  545,    409.3,   5.1290,  34.9644,2,-999.0000,9,   -999.0,9,  -999.00,9,  -999.00,9,  -999.00,9,   -999.0,9,   -999.0,9,   5.0959
  74DI20080820, AR07W,    31,  1,      7,2,20080830,1157, 60.3742, -48.4723,  545,    307.6,   5.7266,  35.0119,2,  35.0124,2,   -999.0,9,     7.61,2,    15.00,2,     1.06,2,   2156.9,2,   -999.0,9,   5.7005
  74DI20080820, AR07W,    31,  1,      8,2,20080830,1157, 60.3742, -48.4723,  545,    307.6,   5.7278,  35.0119,2,-999.0000,9,   -999.0,9,  -999.00,9,  -999.00,9,  -999.00,9,   -999.0,9,   -999.0,9,   5.7017
  74DI20080820, AR07W,    31,  1,      9,2,20080830,1157, 60.3742, -48.4723,  545,    206.1,   6.1520,  34.9920,2,-999.0000,9,   -999.0,9,     6.54,2,    14.19,2,     1.01,2,   2153.1,2,   2308.1,2,   6.1340
  74DI20080820, AR07W,    31,  1,     10,2,20080830,1157, 60.3742, -48.4723,  545,    206.1,   6.1501,  34.9918,2,-999.0000,9,   -999.0,9,  -999.00,9,  -999.00,9,  -999.00,9,   -999.0,9,   -999.0,9,   6.1321
  74DI20080820, AR07W,    31,  1,     11,2,20080830,1157, 60.3742, -48.4723,  545,    155.3,   5.9846,  34.8390,2,-999.0000,9,   -999.0,9,     5.43,2,    12.60,2,     0.93,2,   2137.3,2,   2301.1,2,   5.9713
  74DI20080820, AR07W,    31,  1,     12,2,20080830,1157, 60.3742, -48.4723,  545,    155.3,   5.9783,  34.8353,2,  34.8374,2,   -999.0,9,  -999.00,9,  -999.00,9,  -999.00,9,   -999.0,9,   -999.0,9,   5.9651
  74DI20080820, AR07W,    31,  1,     13,2,20080830,1157, 60.3742, -48.4723,  545,    104.5,   5.1519,  34.4276,2,-999.0000,9,   -999.0,9,  -999.00,9,  -999.00,9,  -999.00,9,   2113.4,2,   -999.0,9,   5.1438
  74DI20080820, AR07W,    31,  1,     14,2,20080830,1157, 60.3742, -48.4723,  545,    104.5,   5.1476,  34.4257,2,  34.4247,2,   -999.0,9,  -999.00,9,  -999.00,9,  -999.00,9,   -999.0,9,   -999.0,9,   5.1395
  74DI20080820, AR07W,    31,  1,     15,2,20080830,1157, 60.3742, -48.4723,  545,     53.9,   2.4323,  32.6542,2,-999.0000,9,   -999.0,9,     2.39,2,     3.39,2,     0.50,2,   2046.0,2,   2206.5,2,   2.4295
  74DI20080820, AR07W,    31,  1,     16,2,20080830,1157, 60.3742, -48.4723,  545,     53.9,   2.4332,  32.6567,2,-999.0000,9,   -999.0,9,  -999.00,9,  -999.00,9,  -999.00,9,   -999.0,9,   -999.0,9,   2.4304
  74DI20080820, AR07W,    31,  1,     17,2,20080830,1157, 60.3742, -48.4723,  545,     23.4,   2.9321,  32.3176,2,  32.3210,2,   -999.0,9,     1.86,2,     2.04,2,     0.40,2,   2020.7,2,   2184.0,2,   2.9308
  74DI20080820, AR07W,    31,  1,     18,2,20080830,1157, 60.3742, -48.4723,  545,     23.5,   2.9310,  32.3178,2,-999.0000,9,   -999.0,9,  -999.00,9,  -999.00,9,  -999.00,9,   -999.0,9,   -999.0,9,   2.9297
  74DI20080820, AR07W,    31,  1,     19,2,20080830,1157, 60.3742, -48.4723,  545,      8.2,   2.9754,  32.3128,2,-999.0000,9,   -999.0,9,     1.84,2,     2.02,2,     0.40,2,   2019.2,2,   2191.4,2,   2.9749
  74DI20080820, AR07W,    31,  1,     20,2,20080830,1157, 60.3742, -48.4723,  545,      8.1,   2.9747,  32.3129,2,-999.0000,9,   -999.0,9,  -999.00,9,  -999.00,9,  -999.00,9,   -999.0,9,   -999.0,9,   2.9742
  74DI20080820, AR07W,    31,  1,     21,2,20080830,1157, 60.3742, -48.4723,  545,      8.2,   2.9740,  32.3129,2,-999.0000,9,   -999.0,9,  -999.00,9,  -999.00,9,  -999.00,9,   -999.0,9,   -999.0,9,   2.9735
  74DI20080820, AR07W,    31,  1,     22,2,20080830,1157, 60.3742, -48.4723,  545,      8.1,   2.9733,  32.3128,2,-999.0000,9,   -999.0,9,  -999.00,9,  -999.00,9,  -999.00,9,   -999.0,9,   -999.0,9,   2.9728
  74DI20080820, AR07W,    31,  1,     23,2,20080830,1157, 60.3742, -48.4723,  545,      8.0,   2.9721,  32.3126,2,-999.0000,9,   -999.0,9,  -999.00,9,  -999.00,9,  -999.00,9,   -999.0,9,   -999.0,9,   2.9717
  74DI20080820, AR07W,    31,  1,     24,2,20080830,1157, 60.3742, -48.4723,  545,      7.9,   2.9710,  32.3127,2,-999.0000,9,   -999.0,9,  -999.00,9,  -999.00,9,  -999.00,9,   -999.0,9,   -999.0,9,   2.9706
  74DI20080820, AR07W,    32,  1,      1,2,20080830,1419, 60.4438, -48.3757,  155,    145.7,   5.4973,  34.7321,2,  34.7348,2,    296.7,2,  -999.00,9,  -999.00,9,  -999.00,9,   -999.0,9,   -999.0,9,   5.4854
  74DI20080820, AR07W,    32,  1,      2,2,20080830,1419, 60.4438, -48.3757,  155,    145.7,   5.4970,  34.7322,2,-999.0000,9,   -999.0,9,     5.57,2,    12.33,2,     0.92,2,   -999.0,9,   -999.0,9,   5.4852
  74DI20080820, AR07W,    32,  1,      5,2,20080830,1419, 60.4438, -48.3757,  155,    105.8,   5.1998,  34.5965,2,  34.6007,2,    298.1,2,  -999.00,9,  -999.00,9,  -999.00,9,   -999.0,9,   -999.0,9,   5.1915
  74DI20080820, AR07W,    32,  1,      6,2,20080830,1419, 60.4438, -48.3757,  155,    105.8,   5.1953,  34.5944,2,-999.0000,9,   -999.0,9,     4.97,2,    10.90,2,     0.87,2,   -999.0,9,   -999.0,9,   5.1870
  74DI20080820, AR07W,    32,  1,      7,2,20080830,1419, 60.4438, -48.3757,  155,     80.1,   5.1459,  34.5206,2,-999.0000,9,   -999.0,9,  -999.00,9,  -999.00,9,  -999.00,9,   -999.0,9,   -999.0,9,   5.1397
  74DI20080820, AR07W,    32,  1,     10,2,20080830,1419, 60.4438, -48.3757,  155,     80.2,   5.1575,  34.5199,2,-999.0000,9,   -999.0,9,     4.72,2,    10.30,2,     0.84,2,   -999.0,9,   -999.0,9,   5.1513
  74DI20080820, AR07W,    32,  1,     13,2,20080830,1419, 60.4438, -48.3757,  155,     54.8,   6.1624,  34.2917,2,-999.0000,9,   -999.0,9,  -999.00,9,  -999.00,9,  -999.00,9,   -999.0,9,   -999.0,9,   6.1577
  74DI20080820, AR07W,    32,  1,     14,2,20080830,1419, 60.4438, -48.3757,  155,     54.9,   6.1592,  34.2953,2,-999.0000,9,   -999.0,9,     3.29,2,     7.05,2,     0.66,2,   -999.0,9,   -999.0,9,   6.1545
  74DI20080820, AR07W,    32,  1,     17,2,20080830,1419, 60.4438, -48.3757,  155,     24.5,   2.7142,  32.5154,2,-999.0000,9,    341.9,2,  -999.00,9,  -999.00,9,  -999.00,9,   -999.0,9,   -999.0,9,   2.7129
  74DI20080820, AR07W,    32,  1,     18,2,20080830,1419, 60.4438, -48.3757,  155,     24.5,   2.6926,  32.4774,2,-999.0000,9,   -999.0,9,     2.12,2,     2.75,2,     0.47,2,   -999.0,9,   -999.0,9,   2.6913
  74DI20080820, AR07W,    32,  1,     21,2,20080830,1419, 60.4438, -48.3757,  155,      9.3,   3.0153,  32.3467,2,-999.0000,9,   -999.0,9,  -999.00,9,  -999.00,9,  -999.00,9,   -999.0,9,   -999.0,9,   3.0148
  74DI20080820, AR07W,    32,  1,     22,2,20080830,1419, 60.4438, -48.3757,  155,      9.3,   3.0767,  32.3347,2,  32.3512,2,   -999.0,9,     1.82,2,     2.11,2,     0.50,2,   -999.0,9,   -999.0,9,   3.0762
  74DI20080820, AR07W,    33,  1,      1,2,20080830,1748, 60.5652, -48.2232,  108,     98.3,   4.1203,  34.1771,2,  34.1757,2,   -999.0,9,  -999.00,9,  -999.00,9,  -999.00,9,   2109.9,2,   -999.0,9,   4.1135
  74DI20080820, AR07W,    33,  1,      2,2,20080830,1748, 60.5652, -48.2232,  108,     98.3,   4.1112,  34.1810,2,-999.0000,9,   -999.0,9,     4.89,2,     8.76,2,     0.81,2,   -999.0,9,   -999.0,9,   4.1044
  74DI20080820, AR07W,    33,  1,      5,2,20080830,1748, 60.5652, -48.2232,  108,     93.2,   4.0422,  34.1569,2,  33.7977,4,   -999.0,9,  -999.00,9,  -999.00,9,  -999.00,9,   2088.9,2,   -999.0,9,   4.0358
  74DI20080820, AR07W,    33,  1,      6,2,20080830,1748, 60.5652, -48.2232,  108,     93.2,   4.0459,  34.1566,2,-999.0000,9,   -999.0,9,     4.40,2,     7.52,2,     0.74,2,   -999.0,9,   -999.0,9,   4.0395
  74DI20080820, AR07W,    33,  1,      9,2,20080830,1748, 60.5652, -48.2232,  108,     78.1,   4.2613,  34.1055,2,-999.0000,9,   -999.0,9,  -999.00,9,  -999.00,9,  -999.00,9,   -999.0,9,   -999.0,9,   4.2558
  74DI20080820, AR07W,    33,  1,     10,2,20080830,1748, 60.5652, -48.2232,  108,     78.2,   4.2432,  34.0997,2,-999.0000,9,   -999.0,9,     4.39,2,     8.12,2,     0.77,2,   -999.0,9,   -999.0,9,   4.2377
  74DI20080820, AR07W,    33,  1,     13,2,20080830,1748, 60.5652, -48.2232,  108,     53.1,   3.4335,  33.7401,2,-999.0000,9,   -999.0,9,  -999.00,9,  -999.00,9,  -999.00,9,   2093.3,2,   -999.0,9,   3.4302
  74DI20080820, AR07W,    33,  1,     14,2,20080830,1748, 60.5652, -48.2232,  108,     53.1,   3.5153,  33.7303,2,  33.7443,2,   -999.0,9,     3.91,2,     6.55,2,     0.71,2,   -999.0,9,   -999.0,9,   3.5119
  74DI20080820, AR07W,    33,  1,     17,2,20080830,1748, 60.5652, -48.2232,  108,     21.9,   3.1843,  32.1183,2,-999.0000,9,   -999.0,9,  -999.00,9,  -999.00,9,  -999.00,9,   2017.2,2,   -999.0,9,   3.1830
  74DI20080820, AR07W,    33,  1,     18,2,20080830,1748, 60.5652, -48.2232,  108,     21.9,   3.1845,  32.1247,2,-999.0000,9,   -999.0,9,     1.89,2,     2.21,2,     0.44,2,   -999.0,9,   -999.0,9,   3.1832
  74DI20080820, AR07W,    33,  1,     21,2,20080830,1748, 60.5652, -48.2232,  108,      6.7,   3.5065,  31.3034,2,-999.0000,9,   -999.0,9,  -999.00,9,  -999.00,9,  -999.00,9,   1955.3,2,   -999.0,9,   3.5061
  74DI20080820, AR07W,    33,  1,     22,2,20080830,1748, 60.5652, -48.2232,  108,      6.7,   3.5359,  31.2267,2,  31.2836,2,   -999.0,9,     1.09,2,     0.57,2,     0.33,2,   -999.0,9,   -999.0,9,   3.5355
  74DI20080820, AR07W,    34,  1,      1,2,20080830,1900, 60.6070, -48.1747,  108,     98.2,   2.2888,  33.7031,2,-999.0000,9,    323.9,2,  -999.00,9,  -999.00,9,  -999.00,9,   -999.0,9,   -999.0,9,   2.2835
  74DI20080820, AR07W,    34,  1,      2,2,20080830,1900, 60.6070, -48.1747,  108,     98.2,   2.2887,  33.7030,2,  33.7051,2,   -999.0,9,  -999.00,9,  -999.00,9,  -999.00,9,   -999.0,9,   -999.0,9,   2.2834
  74DI20080820, AR07W,    34,  1,      5,2,20080830,1900, 60.6070, -48.1747,  108,     98.3,   2.2883,  33.7028,2,-999.0000,9,    324.5,2,     5.01,2,     7.67,2,     1.96,4,   -999.0,9,   -999.0,9,   2.2830
  74DI20080820, AR07W,    34,  1,      6,2,20080830,1900, 60.6070, -48.1747,  108,     98.3,   2.2883,  33.7028,2,-999.0000,9,   -999.0,9,  -999.00,9,  -999.00,9,  -999.00,9,   -999.0,9,   -999.0,9,   2.2830
  74DI20080820, AR07W,    34,  1,      9,2,20080830,1900, 60.6070, -48.1747,  108,     76.6,   2.0367,  33.6162,2,-999.0000,9,   -999.0,9,     4.76,2,     7.21,2,     0.76,2,   -999.0,9,   -999.0,9,   2.0328
  74DI20080820, AR07W,    34,  1,     10,2,20080830,1900, 60.6070, -48.1747,  108,     76.6,   2.0263,  33.6148,2,  33.6174,2,   -999.0,9,  -999.00,9,  -999.00,9,  -999.00,9,   -999.0,9,   -999.0,9,   2.0224
  74DI20080820, AR07W,    34,  1,     13,2,20080830,1900, 60.6070, -48.1747,  108,     52.5,   2.3323,  33.5419,2,-999.0000,9,   -999.0,9,     4.16,2,     6.57,2,     0.72,2,   -999.0,9,   -999.0,9,   2.3295
  74DI20080820, AR07W,    34,  1,     14,2,20080830,1900, 60.6070, -48.1747,  108,     52.5,   2.3225,  33.5353,2,-999.0000,9,   -999.0,9,  -999.00,9,  -999.00,9,  -999.00,9,   -999.0,9,   -999.0,9,   2.3197
  74DI20080820, AR07W,    34,  1,     17,2,20080830,1900, 60.6070, -48.1747,  108,     22.1,   2.3108,  32.6729,2,-999.0000,9,    344.2,2,     2.44,2,     3.45,2,     0.55,2,   -999.0,9,   -999.0,9,   2.3097
  74DI20080820, AR07W,    34,  1,     18,2,20080830,1900, 60.6070, -48.1747,  108,     22.1,   2.3066,  32.6382,2,-999.0000,9,   -999.0,9,  -999.00,9,  -999.00,9,  -999.00,9,   -999.0,9,   -999.0,9,   2.3055
  74DI20080820, AR07W,    34,  1,     21,2,20080830,1900, 60.6070, -48.1747,  108,      6.9,   3.7449,  31.6564,2,-999.0000,9,   -999.0,9,     0.94,2,     0.67,2,     0.31,2,   -999.0,9,   -999.0,9,   3.7445
  74DI20080820, AR07W,    34,  1,     22,2,20080830,1900, 60.6070, -48.1747,  108,      6.9,   3.8218,  31.5990,2,  31.8338,2,   -999.0,9,  -999.00,9,  -999.00,9,  -999.00,9,   -999.0,9,   -999.0,9,   3.8214
  74DI20080820, AR07W,    35,  1,      1,2,20080831,2044, 58.6452, -50.4097, 3581,   3571.2,   1.7302,  34.9024,2,  34.9034,2,    301.6,2,     9.82,2,    13.89,2,     1.01,2,   -999.0,9,   -999.0,9,   1.4495
  74DI20080820, AR07W,    35,  1,      2,2,20080831,2044, 58.6452, -50.4097, 3581,   3476.4,   1.8314,  34.9012,2,-999.0000,9,   -999.0,9,  -999.00,9,  -999.00,9,  -999.00,9,   -999.0,9,   -999.0,9,   1.5581
  74DI20080820, AR07W,    35,  1,      3,2,20080831,2044, 58.6452, -50.4097, 3581,   3372.4,   2.0502,  34.8963,2,-999.0000,9,   -999.0,9,  -999.00,9,  -999.00,9,  -999.00,9,   -999.0,9,   -999.0,9,   1.7824
  74DI20080820, AR07W,    35,  1,      4,2,20080831,2044, 58.6452, -50.4097, 3581,   3269.1,   2.2701,  34.9019,2,-999.0000,9,   -999.0,9,    13.65,2,    15.09,2,     1.11,2,   -999.0,9,   -999.0,9,   2.0078
  74DI20080820, AR07W,    35,  1,      5,2,20080831,2044, 58.6452, -50.4097, 3581,   3166.4,   2.4027,  34.9052,2,-999.0000,9,   -999.0,9,    15.23,2,    15.63,2,     1.16,2,   -999.0,9,   -999.0,9,   2.1479
  74DI20080820, AR07W,    35,  1,      6,2,20080831,2044, 58.6452, -50.4097, 3581,   3064.8,   2.5082,  34.9097,2,-999.0000,9,   -999.0,9,  -999.00,9,  -999.00,9,  -999.00,9,   -999.0,9,   -999.0,9,   2.2615
  74DI20080820, AR07W,    35,  1,      7,2,20080831,2044, 58.6452, -50.4097, 3581,   2859.9,   2.7249,  34.9193,2,-999.0000,9,   -999.0,9,    13.92,2,    15.91,2,     1.16,2,   -999.0,9,   -999.0,9,   2.4945
  74DI20080820, AR07W,    35,  1,      8,2,20080831,2044, 58.6452, -50.4097, 3581,   2654.2,   2.8827,  34.9163,2,  34.9171,2,   -999.0,9,    12.93,2,    15.90,2,     1.16,2,   -999.0,9,   -999.0,9,   2.6698
  74DI20080820, AR07W,    35,  1,      9,2,20080831,2044, 58.6452, -50.4097, 3581,   2449.4,   3.0159,  34.9113,2,-999.0000,9,    285.5,2,    12.17,2,    15.92,2,     1.16,2,   -999.0,9,   -999.0,9,   2.8207
  74DI20080820, AR07W,    35,  1,     10,2,20080831,2044, 58.6452, -50.4097, 3581,   2243.8,   3.1642,  34.9086,2,-999.0000,9,   -999.0,9,    11.62,2,    16.18,2,     1.17,2,   -999.0,9,   -999.0,9,   2.9863
  74DI20080820, AR07W,    35,  1,     11,2,20080831,2044, 58.6452, -50.4097, 3581,   2040.0,   3.2969,  34.9065,2,-999.0000,9,   -999.0,9,    11.27,2,    16.25,2,     1.18,2,   -999.0,9,   -999.0,9,   3.1363
  74DI20080820, AR07W,    35,  1,     12,2,20080831,2044, 58.6452, -50.4097, 3581,   1836.2,   3.4610,  34.9092,2,-999.0000,9,   -999.0,9,    11.10,2,    16.58,2,     1.19,2,   -999.0,9,   -999.0,9,   3.3169
  74DI20080820, AR07W,    35,  1,     13,2,20080831,2044, 58.6452, -50.4097, 3581,   1634.1,   3.5946,  34.9082,2,  34.9099,2,    281.5,2,    10.86,2,    16.48,2,     1.18,2,   -999.0,9,   -999.0,9,   3.4672
  74DI20080820, AR07W,    35,  1,     14,2,20080831,2044, 58.6452, -50.4097, 3581,   1429.5,   3.5804,  34.8847,2,-999.0000,9,   -999.0,9,    10.00,2,    16.11,2,     1.17,2,   -999.0,9,   -999.0,9,   3.4713
  74DI20080820, AR07W,    35,  1,     15,2,20080831,2044, 58.6452, -50.4097, 3581,   1225.1,   3.5379,  34.8672,2,-999.0000,9,   -999.0,9,     9.40,2,    15.70,2,     1.15,2,   -999.0,9,   -999.0,9,   3.4467
  74DI20080820, AR07W,    35,  1,     16,2,20080831,2044, 58.6452, -50.4097, 3581,   1021.4,   3.5317,  34.8587,2,  34.8605,2,   -999.0,9,     9.04,2,    15.68,2,     1.13,2,   -999.0,9,   -999.0,9,   3.4573
  74DI20080820, AR07W,    35,  1,     17,2,20080831,2044, 58.6452, -50.4097, 3581,    817.2,   3.5828,  34.8584,2,-999.0000,9,   -999.0,9,  -999.00,9,  -999.00,9,  -999.00,9,   -999.0,9,   -999.0,9,   3.5243
  74DI20080820, AR07W,    35,  1,     18,2,20080831,2044, 58.6452, -50.4097, 3581,    614.0,   3.7573,  34.8711,2,-999.0000,9,   -999.0,9,     8.81,2,    15.59,2,     1.13,2,   -999.0,9,   -999.0,9,   3.7134
  74DI20080820, AR07W,    35,  1,     19,2,20080831,2044, 58.6452, -50.4097, 3581,    411.1,   3.9808,  34.8797,2,-999.0000,9,   -999.0,9,     8.53,2,    15.33,2,     1.11,2,   -999.0,9,   -999.0,9,   3.9513
  74DI20080820, AR07W,    35,  1,     20,2,20080831,2044, 58.6452, -50.4097, 3581,    207.8,   4.3383,  34.8859,2,-999.0000,9,   -999.0,9,     8.22,2,    15.40,2,     1.12,2,   -999.0,9,   -999.0,9,   4.3231
  74DI20080820, AR07W,    35,  1,     21,2,20080831,2044, 58.6452, -50.4097, 3581,    106.4,   4.1332,  34.8019,2,-999.0000,9,   -999.0,9,     8.03,2,    15.50,2,     1.13,2,   -999.0,9,   -999.0,9,   4.1257
  74DI20080820, AR07W,    35,  1,     22,2,20080831,2044, 58.6452, -50.4097, 3581,     40.6,   6.3326,  34.4204,2,  34.4313,2,    314.5,2,     1.33,2,     3.48,2,     0.49,2,   -999.0,9,   -999.0,9,   6.3291
  74DI20080820, AR07W,    35,  1,     23,2,20080831,2044, 58.6452, -50.4097, 3581,     30.4,   9.4678,  34.3204,2,-999.0000,9,   -999.0,9,     0.49,2,     0.65,2,     0.19,2,   -999.0,9,   -999.0,9,   9.4644
  74DI20080820, AR07W,    35,  1,     24,2,20080831,2044, 58.6452, -50.4097, 3581,     10.2,   9.7321,  34.3156,2,-999.0000,9,    288.7,2,     0.37,2,     0.30,2,     0.15,2,   -999.0,9,   -999.0,9,   9.7310