BOTTLE,20150217PRINUNIVRMK
EXPOCODE,SECT_ID,STNNBR,CASTNO,BTLNBR,BTLNBR_FLAG_W,DATE,TIME,LATITUDE,LONGITUDE,DEPTH,CTDPRS,CTDTMP,CTDSAL,CTDSAL_FLAG_W,SALNTY,SALNTY_FLAG_W,OXYGEN,OXYGEN_FLAG_W,SILCAT,SILCAT_FLAG_W,NITRAT,NITRAT_FLAG_W,PHSPHT,PHSPHT_FLAG_W,TCARBN,TCARBN_FLAG_W,ALKALI,ALKALI_FLAG_W,THETA
,,,,,,,,,,METERS,DBAR,ITS-90,PSS-78,,PSS-78,,UMOL/KG,,UMOL/KG,,UMOL/KG,,UMOL/KG,,UMOL/KG,,UMOL/KG,,DEG C
  74DI20080820, AR07W,    48,  1,      1,2,20080904,0730, 57.9813, -41.2190, 3274,   3264.6,   1.4861,  34.8974,2,  34.9005,2,    308.4,2,     8.95,2,    14.91,2,     1.05,2,   -999.0,9,   -999.0,9,   1.2427
  74DI20080820, AR07W,    48,  1,      2,2,20080904,0730, 57.9813, -41.2190, 3274,   3264.7,   1.4862,  34.8974,2,-999.0000,9,   -999.0,9,  -999.00,9,  -999.00,9,  -999.00,9,   -999.0,9,   -999.0,9,   1.2428
  74DI20080820, AR07W,    48,  1,      3,2,20080904,0730, 57.9813, -41.2190, 3274,   3159.6,   1.9649,  34.9010,2,-999.0000,9,   -999.0,9,     8.96,2,    14.73,2,     1.03,2,   -999.0,9,   -999.0,9,   1.7209
  74DI20080820, AR07W,    48,  1,      4,2,20080904,0730, 57.9813, -41.2190, 3274,   3049.1,   2.3803,  34.9058,2,-999.0000,9,   -999.0,9,    10.05,2,    14.62,2,     1.06,2,   -999.0,9,   -999.0,9,   2.1381
  74DI20080820, AR07W,    48,  1,      5,2,20080904,0730, 57.9813, -41.2190, 3274,   2840.3,   2.7957,  34.9281,2,-999.0000,9,   -999.0,9,    10.16,2,    16.56,2,     1.19,2,   -999.0,9,   -999.0,9,   2.5657
  74DI20080820, AR07W,    48,  1,      6,2,20080904,0730, 57.9813, -41.2190, 3274,   2637.8,   2.8927,  34.9207,2,-999.0000,9,   -999.0,9,    11.66,2,    14.15,3,     1.00,4,   -999.0,9,   -999.0,9,   2.6812
  74DI20080820, AR07W,    48,  1,      7,2,20080904,0730, 57.9813, -41.2190, 3274,   2436.9,   2.9689,  34.9122,2,-999.0000,9,    285.5,2,    12.89,2,    16.66,2,     1.21,2,   -999.0,9,   -999.0,9,   2.7758
  74DI20080820, AR07W,    48,  1,      8,2,20080904,0730, 57.9813, -41.2190, 3274,   2227.5,   3.1169,  34.9145,2,-999.0000,9,   -999.0,9,    12.28,2,    16.91,2,     1.22,2,   -999.0,9,   -999.0,9,   2.9414
  74DI20080820, AR07W,    48,  1,      9,2,20080904,0730, 57.9813, -41.2190, 3274,   2019.5,   3.2807,  34.9222,2,  34.9256,2,   -999.0,9,    11.97,2,    17.04,2,     1.22,2,   -999.0,9,   -999.0,9,   3.1222
  74DI20080820, AR07W,    48,  1,     10,2,20080904,0730, 57.9813, -41.2190, 3274,   1822.7,   3.3164,  34.9048,2,-999.0000,9,   -999.0,9,    11.52,2,    17.16,2,     1.23,2,   -999.0,9,   -999.0,9,   3.1755
  74DI20080820, AR07W,    48,  1,     11,2,20080904,0730, 57.9813, -41.2190, 3274,   1624.3,   3.4693,  34.9069,2,-999.0000,9,    283.7,2,    11.43,2,    17.53,2,     1.25,2,   -999.0,9,   -999.0,9,   3.3443
  74DI20080820, AR07W,    48,  1,     12,2,20080904,0730, 57.9813, -41.2190, 3274,   1425.2,   3.5812,  34.8995,2,-999.0000,9,   -999.0,9,    10.93,2,    17.01,2,     1.21,2,   -999.0,9,   -999.0,9,   3.4724
  74DI20080820, AR07W,    48,  1,     13,2,20080904,0730, 57.9813, -41.2190, 3274,   1222.4,   3.5047,  34.8683,2,-999.0000,9,   -999.0,9,     9.94,2,    16.78,2,     1.19,2,   -999.0,9,   -999.0,9,   3.4141
  74DI20080820, AR07W,    48,  1,     14,2,20080904,0730, 57.9813, -41.2190, 3274,   1018.9,   3.4872,  34.8556,2,-999.0000,9,   -999.0,9,     8.92,2,    16.28,2,     1.17,2,   -999.0,9,   -999.0,9,   3.4134
  74DI20080820, AR07W,    48,  1,     15,2,20080904,0730, 57.9813, -41.2190, 3274,    815.7,   3.4981,  34.8512,2,-999.0000,9,   -999.0,9,     9.00,2,    16.44,2,     1.18,2,   -999.0,9,   -999.0,9,   3.4402
  74DI20080820, AR07W,    48,  1,     16,2,20080904,0730, 57.9813, -41.2190, 3274,    612.7,   3.5944,  34.8547,2,  34.8580,2,    300.0,2,     8.89,2,    16.30,2,     1.17,2,   -999.0,9,   -999.0,9,   3.5514
  74DI20080820, AR07W,    48,  1,     17,2,20080904,0730, 57.9813, -41.2190, 3274,    409.7,   4.0241,  34.8979,2,-999.0000,9,   -999.0,9,     9.26,2,    17.00,2,     1.20,2,   -999.0,9,   -999.0,9,   3.9946
  74DI20080820, AR07W,    48,  1,     18,2,20080904,0730, 57.9813, -41.2190, 3274,    206.5,   4.1184,  34.8667,2,-999.0000,9,   -999.0,9,     8.92,2,    16.58,2,     1.18,2,   -999.0,9,   -999.0,9,   4.1037
  74DI20080820, AR07W,    48,  1,     19,2,20080904,0730, 57.9813, -41.2190, 3274,    105.0,   4.7824,  34.9030,2,  34.9091,2,   -999.0,9,     8.94,2,    17.02,2,     1.21,2,   -999.0,9,   -999.0,9,   4.7745
  74DI20080820, AR07W,    48,  1,     20,2,20080904,0730, 57.9813, -41.2190, 3274,     74.6,   5.0613,  34.8962,2,-999.0000,9,   -999.0,9,     8.60,2,    16.83,2,     1.21,2,   -999.0,9,   -999.0,9,   5.0555
  74DI20080820, AR07W,    48,  1,     21,2,20080904,0730, 57.9813, -41.2190, 3274,     54.3,   4.9694,  34.7887,2,-999.0000,9,   -999.0,9,     7.00,2,    14.36,2,     1.15,2,   -999.0,9,   -999.0,9,   4.9652
  74DI20080820, AR07W,    48,  1,     22,2,20080904,0730, 57.9813, -41.2190, 3274,     34.2,   8.6541,  34.7700,2,-999.0000,9,   -999.0,9,     2.76,2,     7.57,2,     0.73,2,   -999.0,9,   -999.0,9,   8.6505
  74DI20080820, AR07W,    48,  1,     23,2,20080904,0730, 57.9813, -41.2190, 3274,     23.9,   8.9709,  34.7440,2,-999.0000,9,   -999.0,9,     2.01,2,     6.05,2,     0.61,2,   -999.0,9,   -999.0,9,   8.9683
  74DI20080820, AR07W,    48,  1,     24,2,20080904,0730, 57.9813, -41.2190, 3274,      8.6,   9.2195,  34.6637,2,  34.6682,2,    292.6,2,     1.31,2,     4.40,2,     0.50,2,   -999.0,9,   -999.0,9,   9.2186
  74DI20080820, AR07W,    49,  1,      1,2,20080904,1329, 58.2728, -40.5350, 3213,   3203.8,   1.5619,  34.8998,2,  34.9039,2,    307.4,2,     9.25,2,    13.93,2,     1.00,2,   -999.0,9,   -999.0,9,   1.3228
  74DI20080820, AR07W,    49,  1,      2,2,20080904,1329, 58.2728, -40.5350, 3213,   3203.9,   1.5596,  34.8998,2,-999.0000,9,   -999.0,9,     9.29,2,    14.05,2,     1.00,2,   -999.0,9,   -999.0,9,   1.3205
  74DI20080820, AR07W,    49,  1,      3,2,20080904,1329, 58.2728, -40.5350, 3213,   3165.7,   1.8795,  34.9022,2,-999.0000,9,   -999.0,9,     9.08,2,    14.18,2,     1.01,2,   -999.0,9,   -999.0,9,   1.6368
  74DI20080820, AR07W,    49,  1,      4,2,20080904,1329, 58.2728, -40.5350, 3213,   3064.3,   2.3792,  34.9118,2,  34.9147,2,   -999.0,9,    11.89,2,    15.32,2,     1.09,2,   -999.0,9,   -999.0,9,   2.1354
  74DI20080820, AR07W,    49,  1,      5,2,20080904,1329, 58.2728, -40.5350, 3213,   2860.9,   2.7151,  34.9262,2,-999.0000,9,   -999.0,9,    14.03,2,    16.08,2,     1.15,2,   -999.0,9,   -999.0,9,   2.4847
  74DI20080820, AR07W,    49,  1,      6,2,20080904,1329, 58.2728, -40.5350, 3213,   2656.2,   2.8790,  34.9284,2,-999.0000,9,   -999.0,9,    13.73,2,    16.42,2,     1.16,2,   -999.0,9,   -999.0,9,   2.6659
  74DI20080820, AR07W,    49,  1,      7,2,20080904,1329, 58.2728, -40.5350, 3213,   2451.9,   2.9821,  34.9224,2,-999.0000,9,    284.9,2,    13.10,2,    16.46,2,     1.16,2,   -999.0,9,   -999.0,9,   2.7872
  74DI20080820, AR07W,    49,  1,      8,2,20080904,1329, 58.2728, -40.5350, 3213,   2247.3,   3.1086,  34.9214,2,-999.0000,9,   -999.0,9,    12.40,2,    16.55,2,     1.17,2,   -999.0,9,   -999.0,9,   2.9313
  74DI20080820, AR07W,    49,  1,      9,2,20080904,1329, 58.2728, -40.5350, 3213,   2042.3,   3.2074,  34.9155,2,  34.9186,2,   -999.0,9,    11.85,2,    16.52,2,     1.18,2,   -999.0,9,   -999.0,9,   3.0479
  74DI20080820, AR07W,    49,  1,     10,2,20080904,1329, 58.2728, -40.5350, 3213,   1838.7,   3.2657,  34.9017,2,-999.0000,9,   -999.0,9,    11.61,2,    16.93,2,     1.19,2,   -999.0,9,   -999.0,9,   3.1241
  74DI20080820, AR07W,    49,  1,     11,2,20080904,1329, 58.2728, -40.5350, 3213,   1624.8,   3.4276,  34.9059,2,-999.0000,9,    285.3,2,    11.35,2,    17.26,2,     1.19,2,   -999.0,9,   -999.0,9,   3.3031
  74DI20080820, AR07W,    49,  1,     12,2,20080904,1329, 58.2728, -40.5350, 3213,   1424.6,   3.5645,  34.9050,2,-999.0000,9,   -999.0,9,    11.04,2,    17.06,2,     1.20,2,   -999.0,9,   -999.0,9,   3.4560
  74DI20080820, AR07W,    49,  1,     13,2,20080904,1329, 58.2728, -40.5350, 3213,   1223.8,   3.5586,  34.8821,2,-999.0000,9,   -999.0,9,    10.18,2,    16.75,2,     1.17,2,   -999.0,9,   -999.0,9,   3.4673
  74DI20080820, AR07W,    49,  1,     14,2,20080904,1329, 58.2728, -40.5350, 3213,   1021.6,   3.5123,  34.8607,2,-999.0000,9,   -999.0,9,     9.23,2,    15.98,2,     1.54,4,   -999.0,9,   -999.0,9,   3.4381
  74DI20080820, AR07W,    49,  1,     15,2,20080904,1329, 58.2728, -40.5350, 3213,    817.8,   3.5782,  34.8650,2,-999.0000,9,   -999.0,9,     9.18,2,    16.14,2,     1.15,2,   -999.0,9,   -999.0,9,   3.5196
  74DI20080820, AR07W,    49,  1,     16,2,20080904,1329, 58.2728, -40.5350, 3213,    613.1,   3.5662,  34.8554,2,-999.0000,9,    302.0,2,     8.87,2,    16.04,2,     1.15,2,   -999.0,9,   -999.0,9,   3.5233
  74DI20080820, AR07W,    49,  1,     17,2,20080904,1329, 58.2728, -40.5350, 3213,    410.9,   3.8510,  34.8813,2,-999.0000,9,   -999.0,9,     8.82,2,    16.22,2,     1.13,2,   -999.0,9,   -999.0,9,   3.8220
  74DI20080820, AR07W,    49,  1,     18,2,20080904,1329, 58.2728, -40.5350, 3213,    208.2,   4.0240,  34.8651,2,  34.8682,2,   -999.0,9,     8.61,2,    16.09,2,     1.13,2,   -999.0,9,   -999.0,9,   4.0093
  74DI20080820, AR07W,    49,  1,     19,2,20080904,1329, 58.2728, -40.5350, 3213,    106.8,   4.1432,  34.8205,2,-999.0000,9,   -999.0,9,     8.35,2,    16.28,2,     1.14,2,   -999.0,9,   -999.0,9,   4.1357
  74DI20080820, AR07W,    49,  1,     20,2,20080904,1329, 58.2728, -40.5350, 3213,     76.5,   4.6680,  34.8259,2,-999.0000,9,   -999.0,9,     7.89,2,    15.93,2,     1.12,2,   -999.0,9,   -999.0,9,   4.6623
  74DI20080820, AR07W,    49,  1,     21,2,20080904,1329, 58.2728, -40.5350, 3213,     55.9,   7.4451,  34.8500,2,-999.0000,9,   -999.0,9,     4.52,2,     9.84,2,     0.84,2,   -999.0,9,   -999.0,9,   7.4397
  74DI20080820, AR07W,    49,  1,     22,2,20080904,1329, 58.2728, -40.5350, 3213,     36.0,   8.6042,  34.9190,2,-999.0000,9,   -999.0,9,     3.53,2,     8.26,2,     0.68,2,   -999.0,9,   -999.0,9,   8.6004
  74DI20080820, AR07W,    49,  1,     23,2,20080904,1329, 58.2728, -40.5350, 3213,     25.8,   8.6319,  34.8922,2,-999.0000,9,   -999.0,9,     3.48,2,     8.09,2,     0.67,2,   -999.0,9,   -999.0,9,   8.6292
  74DI20080820, AR07W,    49,  1,     24,2,20080904,1329, 58.2728, -40.5350, 3213,     10.8,   8.7336,  34.8648,2,  34.8680,2,    303.8,2,     3.41,2,     7.93,2,     0.63,2,   -999.0,9,   -999.0,9,   8.7325
  74DI20080820, AR07W,    50,  1,      1,2,20080904,1853, 58.5808, -39.8313, 3149,   3139.8,   1.5257,  34.8972,2,  34.9002,2,    308.6,2,     8.78,2,    13.84,2,     1.00,2,   -999.0,9,   -999.0,9,   1.2937
  74DI20080820, AR07W,    50,  1,      2,2,20080904,1853, 58.5808, -39.8313, 3149,   3139.9,   1.5275,  34.8971,2,-999.0000,9,   -999.0,9,     8.81,2,    13.86,2,     1.00,2,   -999.0,9,   -999.0,9,   1.2954
  74DI20080820, AR07W,    50,  1,      3,2,20080904,1853, 58.5808, -39.8313, 3149,   3139.9,   1.5257,  34.8971,2,-999.0000,9,   -999.0,9,     8.81,2,    13.85,2,     1.00,2,   -999.0,9,   -999.0,9,   1.2937
  74DI20080820, AR07W,    50,  1,      4,2,20080904,1853, 58.5808, -39.8313, 3149,   3067.8,   2.0305,  34.9028,2,  34.9046,2,   -999.0,9,     9.63,2,    14.97,2,     1.03,2,   -999.0,9,   -999.0,9,   1.7942
  74DI20080820, AR07W,    50,  1,      5,2,20080904,1853, 58.5808, -39.8313, 3149,   2861.9,   2.6467,  34.9233,2,-999.0000,9,   -999.0,9,    14.19,2,    16.24,2,     1.15,2,   -999.0,9,   -999.0,9,   2.4177
  74DI20080820, AR07W,    50,  1,      6,2,20080904,1853, 58.5808, -39.8313, 3149,   2655.7,   2.8311,  34.9328,2,-999.0000,9,   -999.0,9,    14.28,2,    16.17,2,     1.16,2,   -999.0,9,   -999.0,9,   2.6190
  74DI20080820, AR07W,    50,  1,      7,2,20080904,1853, 58.5808, -39.8313, 3149,   2449.1,   2.9313,  34.9312,2,-999.0000,9,    283.1,2,    13.63,2,    16.20,2,     1.17,2,   -999.0,9,   -999.0,9,   2.7376
  74DI20080820, AR07W,    50,  1,      8,2,20080904,1853, 58.5808, -39.8313, 3149,   2243.9,   3.0296,  34.9288,2,-999.0000,9,   -999.0,9,    13.03,2,    16.20,2,     1.16,2,   -999.0,9,   -999.0,9,   2.8539
  74DI20080820, AR07W,    50,  1,      9,2,20080904,1853, 58.5808, -39.8313, 3149,   2040.4,   3.1247,  34.9232,2,-999.0000,9,   -999.0,9,    12.37,2,    16.47,2,     1.17,2,   -999.0,9,   -999.0,9,   2.9666
  74DI20080820, AR07W,    50,  1,     10,2,20080904,1853, 58.5808, -39.8313, 3149,   1837.2,   3.2253,  34.9163,2,-999.0000,9,   -999.0,9,    11.80,2,    16.53,2,     1.17,2,   -999.0,9,   -999.0,9,   3.0843
  74DI20080820, AR07W,    50,  1,     11,2,20080904,1853, 58.5808, -39.8313, 3149,   1632.9,   3.3208,  34.9092,2,-999.0000,9,    285.9,2,    11.46,2,    16.75,2,     1.18,2,   -999.0,9,   -999.0,9,   3.1969
  74DI20080820, AR07W,    50,  1,     12,2,20080904,1853, 58.5808, -39.8313, 3149,   1428.4,   3.4605,  34.9075,2,-999.0000,9,   -999.0,9,    11.26,2,    16.92,2,     1.19,2,   -999.0,9,   -999.0,9,   3.3528
  74DI20080820, AR07W,    50,  1,     13,2,20080904,1853, 58.5808, -39.8313, 3149,   1224.4,   3.5877,  34.9021,2,-999.0000,9,   -999.0,9,    10.88,2,    16.96,2,     1.18,2,   -999.0,9,   -999.0,9,   3.4960
  74DI20080820, AR07W,    50,  1,     14,2,20080904,1853, 58.5808, -39.8313, 3149,   1020.5,   3.5947,  34.8788,2,  34.8896,2,   -999.0,9,     9.40,2,    16.51,2,     1.98,4,   -999.0,9,   -999.0,9,   3.5199
  74DI20080820, AR07W,    50,  1,     15,2,20080904,1853, 58.5808, -39.8313, 3149,    816.0,   3.6371,  34.8709,2,-999.0000,9,    296.4,2,     9.34,2,    16.45,2,     1.16,2,   -999.0,9,   -999.0,9,   3.5783
  74DI20080820, AR07W,    50,  1,     16,2,20080904,1853, 58.5808, -39.8313, 3149,    612.4,   3.9294,  34.8976,2,-999.0000,9,   -999.0,9,     9.12,2,    16.32,2,     1.15,2,   -999.0,9,   -999.0,9,   3.8848
  74DI20080820, AR07W,    50,  1,     17,2,20080904,1853, 58.5808, -39.8313, 3149,    408.8,   3.9650,  34.8904,2,-999.0000,9,   -999.0,9,  -999.00,9,  -999.00,9,  -999.00,9,   -999.0,9,   -999.0,9,   3.9358
  74DI20080820, AR07W,    50,  1,     18,2,20080904,1853, 58.5808, -39.8313, 3149,    206.4,   4.5428,  34.9288,2,  34.9357,2,   -999.0,9,     8.83,2,    16.48,2,     1.14,2,   -999.0,9,   -999.0,9,   4.5274
  74DI20080820, AR07W,    50,  1,     19,2,20080904,1853, 58.5808, -39.8313, 3149,    105.0,   4.6328,  34.8895,2,-999.0000,9,   -999.0,9,     8.55,2,    16.20,2,     1.15,2,   -999.0,9,   -999.0,9,   4.6250
  74DI20080820, AR07W,    50,  1,     20,2,20080904,1853, 58.5808, -39.8313, 3149,     74.4,   4.5889,  34.8434,2,-999.0000,9,   -999.0,9,     8.59,2,    16.52,2,     1.17,2,   -999.0,9,   -999.0,9,   4.5834
  74DI20080820, AR07W,    50,  1,     21,2,20080904,1853, 58.5808, -39.8313, 3149,     54.2,   5.2042,  34.8426,2,-999.0000,9,    296.3,2,     7.30,2,    15.20,2,     1.09,2,   -999.0,9,   -999.0,9,   5.1999
  74DI20080820, AR07W,    50,  1,     22,2,20080904,1853, 58.5808, -39.8313, 3149,     33.9,   9.4206,  34.8650,2,-999.0000,9,   -999.0,9,     2.50,2,     7.53,2,     0.65,2,   -999.0,9,   -999.0,9,   9.4168
  74DI20080820, AR07W,    50,  1,     23,2,20080904,1853, 58.5808, -39.8313, 3149,     23.7,   9.6017,  34.8482,2,-999.0000,9,   -999.0,9,     2.20,2,     6.41,2,     0.55,2,   -999.0,9,   -999.0,9,   9.5990
  74DI20080820, AR07W,    50,  1,     24,2,20080904,1853, 58.5808, -39.8313, 3149,      8.6,   9.8640,  34.8484,2,  34.8510,2,   -999.0,9,     1.77,2,     6.07,2,     0.52,2,   -999.0,9,   -999.0,9,   9.8630