BOTTLE,20150217PRINUNIVRMK
EXPOCODE,SECT_ID,STNNBR,CASTNO,BTLNBR,BTLNBR_FLAG_W,DATE,TIME,LATITUDE,LONGITUDE,DEPTH,CTDPRS,CTDTMP,CTDSAL,CTDSAL_FLAG_W,SALNTY,SALNTY_FLAG_W,OXYGEN,OXYGEN_FLAG_W,SILCAT,SILCAT_FLAG_W,NITRAT,NITRAT_FLAG_W,PHSPHT,PHSPHT_FLAG_W,TCARBN,TCARBN_FLAG_W,ALKALI,ALKALI_FLAG_W,THETA
,,,,,,,,,,METERS,DBAR,ITS-90,PSS-78,,PSS-78,,UMOL/KG,,UMOL/KG,,UMOL/KG,,UMOL/KG,,UMOL/KG,,UMOL/KG,,DEG C
  74DI20080820, AR07W,    22,  1,      1,2,20080828,1025, 58.6360, -50.4195, 3572,   3562.6,   1.7029,  34.9027,2,  34.9037,2,    301.0,2,     9.91,2,    13.96,2,     1.10,2,   -999.0,9,   -999.0,9,   1.4238
  74DI20080820, AR07W,    22,  1,      2,2,20080828,1025, 58.6360, -50.4195, 3572,   3521.7,   1.7593,  34.9002,2,-999.0000,9,   -999.0,9,    10.39,2,    14.26,2,     1.12,2,   -999.0,9,   -999.0,9,   1.4831
  74DI20080820, AR07W,    22,  1,      3,2,20080828,1025, 58.6360, -50.4195, 3572,   3479.2,   1.8093,  34.8974,2,-999.0000,9,   -999.0,9,    10.79,2,    14.20,2,     1.12,2,   -999.0,9,   -999.0,9,   1.5363
  74DI20080820, AR07W,    22,  1,      4,2,20080828,1025, 58.6360, -50.4195, 3572,   3326.3,   2.1165,  34.8976,2,  34.8983,2,    294.2,2,    12.00,2,    14.95,2,     1.16,2,   -999.0,9,   -999.0,9,   1.8519
  74DI20080820, AR07W,    22,  1,      5,2,20080828,1025, 58.6360, -50.4195, 3572,   3065.4,   2.5224,  34.9109,2,-999.0000,9,   -999.0,9,    15.40,2,    16.35,2,     1.24,2,   -999.0,9,   -999.0,9,   2.2754
  74DI20080820, AR07W,    22,  1,      6,2,20080828,1025, 58.6360, -50.4195, 3572,   2808.5,   2.7994,  34.9193,2,-999.0000,9,   -999.0,9,    13.61,2,    16.27,2,     1.24,2,   -999.0,9,   -999.0,9,   2.5726
  74DI20080820, AR07W,    22,  1,      7,2,20080828,1025, 58.6360, -50.4195, 3572,   2553.9,   2.9496,  34.9126,2,  34.9138,2,   -999.0,9,    12.46,2,    16.33,2,     1.24,2,   -999.0,9,   -999.0,9,   2.7454
  74DI20080820, AR07W,    22,  1,      8,2,20080828,1025, 58.6360, -50.4195, 3572,   2295.2,   3.1322,  34.9087,2,-999.0000,9,   -999.0,9,    11.80,2,    16.41,2,     1.24,2,   -999.0,9,   -999.0,9,   2.9499
  74DI20080820, AR07W,    22,  1,      9,2,20080828,1025, 58.6360, -50.4195, 3572,   2040.6,   3.2982,  34.9063,2,-999.0000,9,   -999.0,9,    11.28,2,    16.88,2,     1.25,2,   -999.0,9,   -999.0,9,   3.1375
  74DI20080820, AR07W,    22,  1,     10,2,20080828,1025, 58.6360, -50.4195, 3572,   1786.0,   3.4830,  34.9090,2,-999.0000,9,   -999.0,9,    11.09,2,    17.16,2,     1.27,2,   -999.0,9,   -999.0,9,   3.3432
  74DI20080820, AR07W,    22,  1,     11,2,20080828,1025, 58.6360, -50.4195, 3572,   1530.8,   3.6265,  34.9024,2,-999.0000,9,    281.9,2,    10.65,2,    16.81,2,     1.26,2,   -999.0,9,   -999.0,9,   3.5079
  74DI20080820, AR07W,    22,  1,     12,2,20080828,1025, 58.6360, -50.4195, 3572,   1275.6,   3.5258,  34.8675,2,-999.0000,9,    295.0,2,     9.54,2,    16.29,2,     1.16,2,   -999.0,9,   -999.0,9,   3.4305
  74DI20080820, AR07W,    22,  1,     13,2,20080828,1025, 58.6360, -50.4195, 3572,   1019.4,   3.5363,  34.8587,2,  34.8601,2,   -999.0,9,     9.13,2,    15.79,2,     1.16,2,   -999.0,9,   -999.0,9,   3.4621
  74DI20080820, AR07W,    22,  1,     14,2,20080828,1025, 58.6360, -50.4195, 3572,    765.0,   3.6228,  34.8608,2,-999.0000,9,   -999.0,9,     8.90,2,    15.88,2,     1.14,2,   -999.0,9,   -999.0,9,   3.5681
  74DI20080820, AR07W,    22,  1,     15,2,20080828,1025, 58.6360, -50.4195, 3572,    511.2,   3.8307,  34.8705,2,-999.0000,9,   -999.0,9,     8.70,2,    15.99,2,     1.13,2,   -999.0,9,   -999.0,9,   3.7943
  74DI20080820, AR07W,    22,  1,     16,2,20080828,1025, 58.6360, -50.4195, 3572,    307.9,   4.1514,  34.8889,2,-999.0000,9,   -999.0,9,     8.54,2,    15.94,2,     1.13,2,   -999.0,9,   -999.0,9,   4.1292
  74DI20080820, AR07W,    22,  1,     17,2,20080828,1025, 58.6360, -50.4195, 3572,    206.1,   4.2979,  34.8834,2,-999.0000,9,   -999.0,9,     8.32,2,    15.76,2,     1.13,2,   -999.0,9,   -999.0,9,   4.2829
  74DI20080820, AR07W,    22,  1,     18,2,20080828,1025, 58.6360, -50.4195, 3572,    155.5,   4.3127,  34.8623,2,-999.0000,9,   -999.0,9,     8.24,2,    15.82,2,     1.13,2,   -999.0,9,   -999.0,9,   4.3015
  74DI20080820, AR07W,    22,  1,     19,2,20080828,1025, 58.6360, -50.4195, 3572,    104.8,   4.3449,  34.8254,2,-999.0000,9,   -999.0,9,     7.99,2,    15.69,2,     1.12,2,   -999.0,9,   -999.0,9,   4.3373
  74DI20080820, AR07W,    22,  1,     20,2,20080828,1025, 58.6360, -50.4195, 3572,     53.9,   4.3897,  34.6010,2,-999.0000,9,   -999.0,9,     5.72,2,    10.17,2,     1.00,2,   -999.0,9,   -999.0,9,   4.3858
  74DI20080820, AR07W,    22,  1,     21,2,20080828,1025, 58.6360, -50.4195, 3572,     53.9,   4.3984,  34.6005,2,  34.6024,2,   -999.0,9,     5.55,2,     9.77,2,     1.00,2,   -999.0,9,   -999.0,9,   4.3945
  74DI20080820, AR07W,    22,  1,     22,2,20080828,1025, 58.6360, -50.4195, 3572,     33.7,   6.5544,  34.3531,2,-999.0000,9,   -999.0,9,     1.21,2,     3.77,2,     0.48,2,   -999.0,9,   -999.0,9,   6.5514
  74DI20080820, AR07W,    22,  1,     23,2,20080828,1025, 58.6360, -50.4195, 3572,     18.5,   9.5528,  34.2418,2,-999.0000,9,    286.0,2,     0.35,2,     0.17,2,     0.14,2,   -999.0,9,   -999.0,9,   9.5508
  74DI20080820, AR07W,    22,  1,     24,2,20080828,1025, 58.6360, -50.4195, 3572,      8.2,   9.5595,  34.2424,2,-999.0000,9,   -999.0,9,     0.33,2,     0.20,2,     0.14,2,   -999.0,9,   -999.0,9,   9.5586
  74DI20080820, AR07W,    23,  1,      1,2,20080828,1746, 59.0545, -49.9482, 3529,   3519.4,   1.7422,  34.9009,2,  34.9017,2,   -999.0,9,    10.35,2,    14.35,2,     1.66,3,   2168.1,2,   2297.5,2,   1.4667
  74DI20080820, AR07W,    23,  1,      2,2,20080828,1746, 59.0545, -49.9482, 3529,   3519.6,   1.7424,  34.9009,2,-999.0000,9,   -999.0,9,    10.40,2,    14.20,2,     1.59,3,   2166.1,2,   -999.0,9,   1.4668
  74DI20080820, AR07W,    23,  1,      3,2,20080828,1746, 59.0545, -49.9482, 3529,   3478.9,   1.7899,  34.9019,2,-999.0000,9,   -999.0,9,    10.20,2,    14.40,2,     1.52,3,   2166.3,2,   2305.0,2,   1.5174
  74DI20080820, AR07W,    23,  1,      4,2,20080828,1746, 59.0545, -49.9482, 3529,   3326.1,   2.0852,  34.9004,2,-999.0000,9,   -999.0,9,    11.15,2,    14.83,2,     1.50,3,   2163.3,2,   2300.1,2,   1.8213
  74DI20080820, AR07W,    23,  1,      5,2,20080828,1746, 59.0545, -49.9482, 3529,   3068.6,   2.5006,  34.9094,2,-999.0000,9,   -999.0,9,    13.18,2,    15.70,2,     1.51,3,   2158.4,2,   2305.3,2,   2.2537
  74DI20080820, AR07W,    23,  1,      6,2,20080828,1746, 59.0545, -49.9482, 3529,   2809.5,   2.7845,  34.9170,2,-999.0000,9,   -999.0,9,  -999.00,9,  -999.00,9,  -999.00,9,   -999.0,9,   -999.0,9,   2.5580
  74DI20080820, AR07W,    23,  1,      7,2,20080828,1746, 59.0545, -49.9482, 3529,   2553.5,   2.9518,  34.9131,2,-999.0000,9,   -999.0,9,    12.50,2,    16.38,2,     1.45,3,   2158.6,2,   2303.8,2,   2.7476
  74DI20080820, AR07W,    23,  1,      8,2,20080828,1746, 59.0545, -49.9482, 3529,   2296.6,   3.1419,  34.9092,2,-999.0000,9,   -999.0,9,    11.79,2,    16.43,2,     1.40,3,   2159.5,2,   2305.0,2,   2.9593
  74DI20080820, AR07W,    23,  1,      9,2,20080828,1746, 59.0545, -49.9482, 3529,   2036.4,   3.3032,  34.9063,2,-999.0000,9,   -999.0,9,    11.45,2,    16.97,2,     1.38,3,   2158.6,2,   2299.8,2,   3.1428
  74DI20080820, AR07W,    23,  1,     10,2,20080828,1746, 59.0545, -49.9482, 3529,   1780.1,   3.5078,  34.9077,2,-999.0000,9,   -999.0,9,    11.26,2,    16.80,2,     1.34,3,   2160.3,2,   2298.1,2,   3.3682
  74DI20080820, AR07W,    23,  1,     11,2,20080828,1746, 59.0545, -49.9482, 3529,   1528.8,   3.5885,  34.8913,2,  34.8925,2,   -999.0,9,    10.42,2,    17.11,2,     1.18,2,   2159.3,2,   2301.7,2,   3.4706
  74DI20080820, AR07W,    23,  1,     12,2,20080828,1746, 59.0545, -49.9482, 3529,   1273.2,   3.4526,  34.8564,2,-999.0000,9,   -999.0,9,     9.29,2,    16.40,2,     1.14,2,   2154.8,2,   2297.6,2,   3.3582
  74DI20080820, AR07W,    23,  1,     13,2,20080828,1746, 59.0545, -49.9482, 3529,   1019.4,   3.4904,  34.8545,2,-999.0000,9,   -999.0,9,     9.10,2,    16.33,2,     1.13,2,   2157.0,2,   2297.4,2,   3.4165
  74DI20080820, AR07W,    23,  1,     14,2,20080828,1746, 59.0545, -49.9482, 3529,    766.2,   3.5331,  34.8508,2,-999.0000,9,   -999.0,9,     8.83,2,    16.01,2,     1.12,2,   2157.5,2,   2296.9,2,   3.4788
  74DI20080820, AR07W,    23,  1,     15,2,20080828,1746, 59.0545, -49.9482, 3529,    511.3,   3.8547,  34.8760,2,-999.0000,9,   -999.0,9,     8.73,2,    16.15,2,     1.13,2,   2157.3,2,   2298.7,2,   3.8182
  74DI20080820, AR07W,    23,  1,     16,2,20080828,1746, 59.0545, -49.9482, 3529,    308.0,   4.4004,  34.9186,2,  34.9206,2,   -999.0,9,     8.55,2,    16.44,2,     1.12,2,   2155.4,2,   2303.6,2,   4.3775
  74DI20080820, AR07W,    23,  1,     17,2,20080828,1746, 59.0545, -49.9482, 3529,    206.8,   4.7075,  34.9368,2,-999.0000,9,   -999.0,9,     8.35,2,    16.30,2,     1.12,2,   2154.8,2,   2302.0,2,   4.6918
  74DI20080820, AR07W,    23,  1,     18,2,20080828,1746, 59.0545, -49.9482, 3529,    156.1,   4.8158,  34.9320,2,-999.0000,9,   -999.0,9,     8.20,2,    16.37,2,     1.12,2,   2155.1,2,   2302.9,2,   4.8039
  74DI20080820, AR07W,    23,  1,     19,2,20080828,1746, 59.0545, -49.9482, 3529,    105.3,   4.9003,  34.8991,2,  34.9053,2,   -999.0,9,     7.85,2,    15.94,2,     1.10,2,   2154.4,2,   2300.2,2,   4.8922
  74DI20080820, AR07W,    23,  1,     20,2,20080828,1746, 59.0545, -49.9482, 3529,     80.0,   4.7134,  34.8179,2,-999.0000,9,   -999.0,9,     7.52,2,    16.04,2,     1.09,2,   2151.4,2,   2296.3,2,   4.7074
  74DI20080820, AR07W,    23,  1,     21,2,20080828,1746, 59.0545, -49.9482, 3529,     54.5,   5.4799,  34.7393,2,-999.0000,9,   -999.0,9,  -999.00,9,  -999.00,9,  -999.00,9,   2075.2,6,   -999.0,9,   5.4755
  74DI20080820, AR07W,    23,  1,     22,2,20080828,1746, 59.0545, -49.9482, 3529,     34.2,   7.3323,  34.4307,2,-999.0000,9,   -999.0,9,     1.65,2,     4.14,2,     0.50,2,   2086.7,2,   2285.2,2,   7.3291
  74DI20080820, AR07W,    23,  1,     23,2,20080828,1746, 59.0545, -49.9482, 3529,     19.1,   8.7666,  34.2454,2,-999.0000,9,   -999.0,9,     0.82,2,     1.24,2,     0.27,2,   2058.7,2,   2276.6,2,   8.7646
  74DI20080820, AR07W,    23,  1,     24,2,20080828,1746, 59.0545, -49.9482, 3529,      8.9,   8.7746,  34.2452,2,  34.2464,2,   -999.0,9,     0.80,2,     1.16,2,     0.26,2,   2060.2,2,   2276.0,2,   8.7737
  74DI20080820, AR07W,    24,  1,      1,2,20080829,0057, 59.4710, -49.4795, 3440,   3430.2,   1.7093,  34.9024,2,  34.9145,2,    300.9,2,     9.68,2,    14.18,2,     1.70,3,   -999.0,9,   -999.0,9,   1.4438
  74DI20080820, AR07W,    24,  1,      2,2,20080829,0057, 59.4710, -49.4795, 3440,   3415.5,   1.7198,  34.9020,2,-999.0000,9,   -999.0,9,     9.74,2,    14.13,2,     1.00,2,   -999.0,9,   -999.0,9,   1.4556
  74DI20080820, AR07W,    24,  1,      3,2,20080829,0057, 59.4710, -49.4795, 3440,   3066.5,   2.3451,  34.9034,2,-999.0000,9,   -999.0,9,    13.53,2,    15.84,2,     1.10,2,   -999.0,9,   -999.0,9,   2.1019
  74DI20080820, AR07W,    24,  1,      4,2,20080829,0057, 59.4710, -49.4795, 3440,   2810.6,   2.6803,  34.9167,2,-999.0000,9,   -999.0,9,  -999.00,9,  -999.00,9,  -999.00,9,   -999.0,9,   -999.0,9,   2.4558
  74DI20080820, AR07W,    24,  1,      5,2,20080829,0057, 59.4710, -49.4795, 3440,   2553.3,   2.9185,  34.9148,2,-999.0000,9,   -999.0,9,    12.46,2,    16.04,2,     1.13,2,   -999.0,9,   -999.0,9,   2.7149
  74DI20080820, AR07W,    24,  1,      6,2,20080829,0057, 59.4710, -49.4795, 3440,   2297.1,   3.0982,  34.9101,2,-999.0000,9,   -999.0,9,    11.75,2,    16.18,2,     1.14,2,   -999.0,9,   -999.0,9,   2.9163
  74DI20080820, AR07W,    24,  1,      7,2,20080829,0057, 59.4710, -49.4795, 3440,   2039.4,   3.2873,  34.9083,2,-999.0000,9,    283.2,2,    11.29,2,    16.70,2,     1.15,2,   -999.0,9,   -999.0,9,   3.1268
  74DI20080820, AR07W,    24,  1,      8,2,20080829,0057, 59.4710, -49.4795, 3440,   1834.2,   3.4077,  34.9036,2,  34.9158,2,   -999.0,9,    11.34,2,    16.99,2,     1.17,2,   -999.0,9,   -999.0,9,   3.2645
  74DI20080820, AR07W,    24,  1,      9,2,20080829,0057, 59.4710, -49.4795, 3440,   1631.7,   3.5575,  34.9042,2,-999.0000,9,   -999.0,9,    11.06,2,    16.90,2,     1.18,2,   -999.0,9,   -999.0,9,   3.4307
  74DI20080820, AR07W,    24,  1,     10,2,20080829,0057, 59.4710, -49.4795, 3440,   1429.0,   3.4452,  34.8608,2,-999.0000,9,   -999.0,9,     9.43,2,    16.05,2,     1.13,2,   -999.0,9,   -999.0,9,   3.3377
  74DI20080820, AR07W,    24,  1,     11,2,20080829,0057, 59.4710, -49.4795, 3440,   1276.7,   3.4406,  34.8570,2,-999.0000,9,   -999.0,9,  -999.00,9,  -999.00,9,  -999.00,9,   -999.0,9,   -999.0,9,   3.3461
  74DI20080820, AR07W,    24,  1,     12,2,20080829,0057, 59.4710, -49.4795, 3440,   1021.3,   3.4641,  34.8539,2,-999.0000,9,    299.5,2,     9.13,2,    15.89,2,     1.12,2,   -999.0,9,   -999.0,9,   3.3903
  74DI20080820, AR07W,    24,  1,     13,2,20080829,0057, 59.4710, -49.4795, 3440,    817.3,   3.4876,  34.8510,2,-999.0000,9,   -999.0,9,     8.93,2,    15.94,2,     1.13,2,   -999.0,9,   -999.0,9,   3.4297
  74DI20080820, AR07W,    24,  1,     14,2,20080829,0057, 59.4710, -49.4795, 3440,    614.1,   3.5514,  34.8501,2,  34.8625,2,   -999.0,9,     8.86,2,    16.11,2,     1.12,2,   -999.0,9,   -999.0,9,   3.5085
  74DI20080820, AR07W,    24,  1,     15,2,20080829,0057, 59.4710, -49.4795, 3440,    411.3,   3.6712,  34.8483,2,-999.0000,9,   -999.0,9,     8.69,2,    15.75,2,     1.11,2,   -999.0,9,   -999.0,9,   3.6427
  74DI20080820, AR07W,    24,  1,     16,2,20080829,0057, 59.4710, -49.4795, 3440,    309.8,   3.9475,  34.8695,2,-999.0000,9,   -999.0,9,  -999.00,9,  -999.00,9,  -999.00,9,   -999.0,9,   -999.0,9,   3.9256
  74DI20080820, AR07W,    24,  1,     17,2,20080829,0057, 59.4710, -49.4795, 3440,    208.4,   4.1608,  34.8676,2,-999.0000,9,   -999.0,9,  -999.00,9,  -999.00,9,  -999.00,9,   -999.0,9,   -999.0,9,   4.1459
  74DI20080820, AR07W,    24,  1,     18,2,20080829,0057, 59.4710, -49.4795, 3440,    157.7,   4.3470,  34.8666,2,-999.0000,9,   -999.0,9,     8.39,2,    16.33,2,     1.13,2,   -999.0,9,   -999.0,9,   4.3355
  74DI20080820, AR07W,    24,  1,     19,2,20080829,0057, 59.4710, -49.4795, 3440,    107.0,   4.3075,  34.8013,2,-999.0000,9,   -999.0,9,     8.04,2,    16.12,2,     1.12,2,   -999.0,9,   -999.0,9,   4.2998
  74DI20080820, AR07W,    24,  1,     20,2,20080829,0057, 59.4710, -49.4795, 3440,     81.5,   4.4554,  34.7047,2,-999.0000,9,   -999.0,9,     6.15,2,    11.16,2,     1.01,2,   -999.0,9,   -999.0,9,   4.4495
  74DI20080820, AR07W,    24,  1,     21,2,20080829,0057, 59.4710, -49.4795, 3440,     45.9,   8.2349,  34.4036,2,  34.4109,2,   -999.0,9,     1.72,2,     3.58,2,     0.41,2,   -999.0,9,   -999.0,9,   8.2303
  74DI20080820, AR07W,    24,  1,     22,2,20080829,0057, 59.4710, -49.4795, 3440,     36.0,   8.2791,  34.4059,2,-999.0000,9,    297.3,2,     1.69,2,     3.54,2,     0.40,2,   -999.0,9,   -999.0,9,   8.2755
  74DI20080820, AR07W,    24,  1,     23,2,20080829,0057, 59.4710, -49.4795, 3440,     25.9,   8.2831,  34.3803,2,  34.3737,2,   -999.0,9,     1.54,2,     3.00,2,     0.37,2,   -999.0,9,   -999.0,9,   8.2805
  74DI20080820, AR07W,    24,  1,     24,2,20080829,0057, 59.4710, -49.4795, 3440,      6.5,   8.3197,  34.2736,2,-999.0000,9,    297.4,2,     1.16,2,     1.83,2,     0.30,2,   -999.0,9,   -999.0,9,   8.3190