BOTTLE,20150217PRINUNIVRMK
EXPOCODE,SECT_ID,STNNBR,CASTNO,BTLNBR,BTLNBR_FLAG_W,DATE,TIME,LATITUDE,LONGITUDE,DEPTH,CTDPRS,CTDTMP,CTDSAL,CTDSAL_FLAG_W,SALNTY,SALNTY_FLAG_W,OXYGEN,OXYGEN_FLAG_W,SILCAT,SILCAT_FLAG_W,NITRAT,NITRAT_FLAG_W,PHSPHT,PHSPHT_FLAG_W,TCARBN,TCARBN_FLAG_W,ALKALI,ALKALI_FLAG_W,THETA
,,,,,,,,,,METERS,DBAR,ITS-90,PSS-78,,PSS-78,,UMOL/KG,,UMOL/KG,,UMOL/KG,,UMOL/KG,,UMOL/KG,,UMOL/KG,,DEG C
  74DI20080820, AR07W,    71,  1,      1,2,20080922,1120, 57.4655, -11.5224, 2037,   2027.1,   3.1200,  35.0025,2,-999.0000,9,    265.5,2,    21.64,2,    18.11,2,     1.35,3,   -999.0,9,   -999.0,9,   2.9629
  74DI20080820, AR07W,    71,  1,      2,2,20080922,1120, 57.4655, -11.5224, 2037,   2026.3,   3.1199,  34.9966,2,-999.0000,9,   -999.0,9,  -999.00,9,  -999.00,9,  -999.00,9,   -999.0,9,   -999.0,9,   2.9629
  74DI20080820, AR07W,    71,  1,      3,2,20080922,1120, 57.4655, -11.5224, 2037,   1783.0,   3.6084,  34.7786,2,-999.0000,9,   -999.0,9,    13.34,2,    17.44,2,     1.26,2,   -999.0,9,   -999.0,9,   3.4676
  74DI20080820, AR07W,    71,  1,      4,2,20080922,1120, 57.4655, -11.5224, 2037,   1783.0,   3.6088,  34.7932,2,-999.0000,9,   -999.0,9,  -999.00,9,  -999.00,9,  -999.00,9,   -999.0,9,   -999.0,9,   3.4679
  74DI20080820, AR07W,    71,  1,      5,2,20080922,1120, 57.4655, -11.5224, 2037,   1517.6,   4.1073,  34.6843,2,-999.0000,9,    267.7,2,    12.11,2,    17.57,2,     1.27,2,   -999.0,9,   -999.0,9,   3.9850
  74DI20080820, AR07W,    71,  1,      6,2,20080922,1120, 57.4655, -11.5224, 2037,   1517.4,   4.1073,  34.7039,2,-999.0000,9,   -999.0,9,  -999.00,9,  -999.00,9,  -999.00,9,   -999.0,9,   -999.0,9,   3.9849
  74DI20080820, AR07W,    71,  1,      7,2,20080922,1120, 57.4655, -11.5224, 2037,   1274.0,   5.0044,  34.5237,2,-999.0000,9,   -999.0,9,    11.57,2,    17.83,2,     1.27,2,   -999.0,9,   -999.0,9,   4.8957
  74DI20080820, AR07W,    71,  1,      8,2,20080922,1120, 57.4655, -11.5224, 2037,   1274.0,   5.0044,  34.5577,2,-999.0000,9,   -999.0,9,  -999.00,9,  -999.00,9,  -999.00,9,   -999.0,9,   -999.0,9,   4.8956
  74DI20080820, AR07W,    71,  1,      9,2,20080922,1120, 57.4655, -11.5224, 2037,   1019.3,   6.6597,  34.4081,2,-999.0000,9,   -999.0,9,    11.19,2,    17.96,2,     1.29,2,   -999.0,9,   -999.0,9,   6.5621
  74DI20080820, AR07W,    71,  1,     10,2,20080922,1120, 57.4655, -11.5224, 2037,   1019.4,   6.6656,  34.4385,2,-999.0000,9,    226.4,2,  -999.00,9,  -999.00,9,  -999.00,9,   -999.0,9,   -999.0,9,   6.5679
  74DI20080820, AR07W,    71,  1,     11,2,20080922,1120, 57.4655, -11.5224, 2037,    512.6,   9.3542,  34.8453,2,-999.0000,9,   -999.0,9,     6.01,2,    13.35,2,     0.93,3,   -999.0,9,   -999.0,9,   9.2963
  74DI20080820, AR07W,    71,  1,     12,2,20080922,1120, 57.4655, -11.5224, 2037,    512.6,   9.3544,  34.8629,2,-999.0000,9,    254.1,2,  -999.00,9,  -999.00,9,  -999.00,9,   -999.0,9,   -999.0,9,   9.2965
  74DI20080820, AR07W,    71,  1,     13,2,20080922,1120, 57.4655, -11.5224, 2037,    209.0,  10.2522,  34.9368,2,-999.0000,9,   -999.0,9,     4.92,2,    12.05,2,     0.86,3,   -999.0,9,   -999.0,9,  10.2276
  74DI20080820, AR07W,    71,  1,     14,2,20080922,1120, 57.4655, -11.5224, 2037,    208.9,  10.2522,  34.9648,2,-999.0000,9,   -999.0,9,  -999.00,9,  -999.00,9,  -999.00,9,   -999.0,9,   -999.0,9,  10.2276
  74DI20080820, AR07W,    71,  1,     15,2,20080922,1120, 57.4655, -11.5224, 2037,    107.9,  10.9418,  34.8492,2,-999.0000,9,   -999.0,9,     3.88,2,    11.46,2,     0.82,2,   -999.0,9,   -999.0,9,  10.9286
  74DI20080820, AR07W,    71,  1,     16,2,20080922,1120, 57.4655, -11.5224, 2037,    107.7,  10.9467,  34.8690,2,-999.0000,9,    248.2,2,  -999.00,9,  -999.00,9,  -999.00,9,   -999.0,9,   -999.0,9,  10.9335
  74DI20080820, AR07W,    71,  1,     17,2,20080922,1120, 57.4655, -11.5224, 2037,     82.4,  11.7699,  34.5834,2,-999.0000,9,   -999.0,9,     2.46,2,     9.10,2,     0.67,2,   -999.0,9,   -999.0,9,  11.7594
  74DI20080820, AR07W,    71,  1,     18,2,20080922,1120, 57.4655, -11.5224, 2037,     82.5,  11.7992,  34.5904,2,-999.0000,9,   -999.0,9,  -999.00,9,  -999.00,9,  -999.00,9,   -999.0,9,   -999.0,9,  11.7886
  74DI20080820, AR07W,    71,  1,     19,2,20080922,1120, 57.4655, -11.5224, 2037,     57.1,  13.6348,  33.9185,2,-999.0000,9,   -999.0,9,     0.61,2,     2.42,2,     0.29,2,   -999.0,9,   -999.0,9,  13.6268
  74DI20080820, AR07W,    71,  1,     20,2,20080922,1120, 57.4655, -11.5224, 2037,     56.9,  13.6355,  34.0046,2,-999.0000,9,   -999.0,9,  -999.00,9,  -999.00,9,  -999.00,9,   -999.0,9,   -999.0,9,  13.6275
  74DI20080820, AR07W,    71,  1,     21,2,20080922,1120, 57.4655, -11.5224, 2037,     26.6,  13.6495,  34.7044,2,-999.0000,9,   -999.0,9,     0.60,2,     2.24,2,     0.32,2,   -999.0,9,   -999.0,9,  13.6458
  74DI20080820, AR07W,    71,  1,     22,2,20080922,1120, 57.4655, -11.5224, 2037,     26.5,  13.6490,  34.7411,2,-999.0000,9,   -999.0,9,  -999.00,9,  -999.00,9,  -999.00,9,   -999.0,9,   -999.0,9,  13.6453
  74DI20080820, AR07W,    71,  1,     23,2,20080922,1120, 57.4655, -11.5224, 2037,     15.4,  13.5934,  34.6454,2,-999.0000,9,   -999.0,9,     0.58,2,     2.29,2,     0.29,2,   -999.0,9,   -999.0,9,  13.5912
  74DI20080820, AR07W,    71,  1,     24,2,20080922,1120, 57.4655, -11.5224, 2037,     15.3,  13.6012,  34.6708,2,-999.0000,9,   -999.0,9,  -999.00,9,  -999.00,9,  -999.00,9,   -999.0,9,   -999.0,9,  13.5990
  74DI20080820, AR07W,    72,  1,      1,2,20080922,2024, 57.4970, -12.2290, 1795,   1785.5,   3.3752,  34.9241,2,  34.9264,2,    272.8,2,    15.80,2,    17.79,2,     0.22,4,   -999.0,9,   -999.0,9,   3.2369
  74DI20080820, AR07W,    72,  1,      2,2,20080922,2024, 57.4970, -12.2290, 1795,   1786.0,   3.3660,  34.9239,2,-999.0000,9,   -999.0,9,  -999.00,9,  -999.00,9,  -999.00,9,   -999.0,9,   -999.0,9,   3.2277
  74DI20080820, AR07W,    72,  1,      3,2,20080922,2024, 57.4970, -12.2290, 1795,   1706.8,   3.5978,  34.9289,2,-999.0000,9,   -999.0,9,    13.81,2,    17.75,2,     0.19,4,   -999.0,9,   -999.0,9,   3.4637
  74DI20080820, AR07W,    72,  1,      4,2,20080922,2024, 57.4970, -12.2290, 1795,   1707.0,   3.5967,  34.9289,2,-999.0000,9,   -999.0,9,  -999.00,9,  -999.00,9,  -999.00,9,   -999.0,9,   -999.0,9,   3.4626
  74DI20080820, AR07W,    72,  1,      5,2,20080922,2024, 57.4970, -12.2290, 1795,   1507.5,   4.0548,  34.9551,2,-999.0000,9,   -999.0,9,    12.25,2,    17.71,2,     0.12,4,   -999.0,9,   -999.0,9,   3.9333
  74DI20080820, AR07W,    72,  1,      6,2,20080922,2024, 57.4970, -12.2290, 1795,   1507.4,   4.0556,  34.9552,2,  34.9572,2,   -999.0,9,  -999.00,9,  -999.00,9,  -999.00,9,   -999.0,9,   -999.0,9,   3.9341
  74DI20080820, AR07W,    72,  1,      7,2,20080922,2024, 57.4970, -12.2290, 1795,   1256.3,   5.1404,  35.0561,2,-999.0000,9,   -999.0,9,    11.54,2,    17.83,2,     0.14,4,   -999.0,9,   -999.0,9,   5.0310
  74DI20080820, AR07W,    72,  1,      8,2,20080922,2024, 57.4970, -12.2290, 1795,   1257.0,   5.1404,  35.0560,2,-999.0000,9,   -999.0,9,  -999.00,9,  -999.00,9,  -999.00,9,   -999.0,9,   -999.0,9,   5.0309
  74DI20080820, AR07W,    72,  1,      9,2,20080922,2024, 57.4970, -12.2290, 1795,   1010.0,   6.9468,  35.2057,2,-999.0000,9,    223.7,2,    10.97,2,    18.02,2,     1.12,2,   -999.0,9,   -999.0,9,   6.8467
  74DI20080820, AR07W,    72,  1,     10,2,20080922,2024, 57.4970, -12.2290, 1795,   1010.2,   6.9457,  35.2056,2,-999.0000,9,   -999.0,9,  -999.00,9,  -999.00,9,  -999.00,9,   -999.0,9,   -999.0,9,   6.8456
  74DI20080820, AR07W,    72,  1,     11,2,20080922,2024, 57.4970, -12.2290, 1795,    511.0,   9.5035,  35.3732,2,-999.0000,9,    253.6,2,     5.83,2,    13.31,2,     1.09,2,   -999.0,9,   -999.0,9,   9.4448
  74DI20080820, AR07W,    72,  1,     12,2,20080922,2024, 57.4970, -12.2290, 1795,    511.0,   9.5038,  35.3732,2,-999.0000,9,   -999.0,9,  -999.00,9,  -999.00,9,  -999.00,9,   -999.0,9,   -999.0,9,   9.4451
  74DI20080820, AR07W,    72,  1,     13,2,20080922,2024, 57.4970, -12.2290, 1795,    208.2,  10.3899,  35.4509,2,-999.0000,9,    255.9,2,     4.57,2,    11.65,2,     0.83,2,   -999.0,9,   -999.0,9,  10.3650
  74DI20080820, AR07W,    72,  1,     14,2,20080922,2024, 57.4970, -12.2290, 1795,    208.3,  10.3892,  35.4509,2,  35.4517,2,   -999.0,9,  -999.00,9,  -999.00,9,  -999.00,9,   -999.0,9,   -999.0,9,  10.3643
  74DI20080820, AR07W,    72,  1,     15,2,20080922,2024, 57.4970, -12.2290, 1795,    106.3,  10.8675,  35.4545,2,-999.0000,9,   -999.0,9,     3.76,2,    11.20,2,     0.81,2,   -999.0,9,   -999.0,9,  10.8545
  74DI20080820, AR07W,    72,  1,     16,2,20080922,2024, 57.4970, -12.2290, 1795,    106.5,  10.8641,  35.4546,2,-999.0000,9,   -999.0,9,  -999.00,9,  -999.00,9,  -999.00,9,   -999.0,9,   -999.0,9,  10.8511
  74DI20080820, AR07W,    72,  1,     17,2,20080922,2024, 57.4970, -12.2290, 1795,     80.9,  11.7640,  35.4729,2,-999.0000,9,   -999.0,9,     2.62,2,     9.30,2,     0.67,2,   -999.0,9,   -999.0,9,  11.7536
  74DI20080820, AR07W,    72,  1,     18,2,20080922,2024, 57.4970, -12.2290, 1795,     81.1,  11.7566,  35.4736,2,  35.4743,2,   -999.0,9,  -999.00,9,  -999.00,9,  -999.00,9,   -999.0,9,   -999.0,9,  11.7462
  74DI20080820, AR07W,    72,  1,     19,2,20080922,2024, 57.4970, -12.2290, 1795,     60.5,  12.0808,  35.4410,2,-999.0000,9,   -999.0,9,     2.14,2,     7.61,2,     0.60,2,   -999.0,9,   -999.0,9,  12.0729
  74DI20080820, AR07W,    72,  1,     20,2,20080922,2024, 57.4970, -12.2290, 1795,     60.7,  12.0808,  35.4422,2,-999.0000,9,   -999.0,9,  -999.00,9,  -999.00,9,  -999.00,9,   -999.0,9,   -999.0,9,  12.0728
  74DI20080820, AR07W,    72,  1,     21,2,20080922,2024, 57.4970, -12.2290, 1795,     20.5,  13.4480,  35.3651,2,  35.3661,2,    261.3,2,     0.51,2,     2.60,2,     0.30,2,   -999.0,9,   -999.0,9,  13.4451
  74DI20080820, AR07W,    72,  1,     22,2,20080922,2024, 57.4970, -12.2290, 1795,     20.4,  13.4488,  35.3652,2,-999.0000,9,   -999.0,9,  -999.00,9,  -999.00,9,  -999.00,9,   -999.0,9,   -999.0,9,  13.4459
  74DI20080820, AR07W,    72,  1,     23,2,20080922,2024, 57.4970, -12.2290, 1795,     10.3,  13.4477,  35.3654,2,-999.0000,9,   -999.0,9,     0.55,2,     2.72,2,     0.29,2,   -999.0,9,   -999.0,9,  13.4462
  74DI20080820, AR07W,    72,  1,     24,2,20080922,2024, 57.4970, -12.2290, 1795,     10.4,  13.4485,  35.3655,2,-999.0000,9,   -999.0,9,  -999.00,9,  -999.00,9,  -999.00,9,   -999.0,9,   -999.0,9,  13.4470
  74DI20080820, AR07W,    73,  1,      1,2,20080923,0425, 57.4861, -11.5241, 2031,   2021.9,   3.1595,  34.9261,2,  34.9276,2,   -999.0,9,  -999.00,9,  -999.00,9,  -999.00,9,   -999.0,9,   -999.0,9,   3.0026
  74DI20080820, AR07W,    73,  1,      2,2,20080923,0425, 57.4861, -11.5241, 2031,   2021.9,   3.1587,  34.9261,2,-999.0000,9,    267.1,2,  -999.00,9,  -999.00,9,  -999.00,9,   -999.0,9,   -999.0,9,   3.0018
  74DI20080820, AR07W,    73,  1,      3,2,20080923,0425, 57.4861, -11.5241, 2031,   1784.0,   3.6153,  34.9291,2,-999.0000,9,   -999.0,9,  -999.00,9,  -999.00,9,  -999.00,9,   -999.0,9,   -999.0,9,   3.4739
  74DI20080820, AR07W,    73,  1,      4,2,20080923,0425, 57.4861, -11.5241, 2031,   1784.1,   3.6153,  34.9291,2,-999.0000,9,    273.3,2,  -999.00,9,  -999.00,9,  -999.00,9,   -999.0,9,   -999.0,9,   3.4739
  74DI20080820, AR07W,    73,  1,      5,2,20080923,0425, 57.4861, -11.5241, 2031,   1529.0,   4.0110,  34.9509,2,  34.9522,2,    270.6,2,  -999.00,9,  -999.00,9,  -999.00,9,   -999.0,9,   -999.0,9,   3.8880
  74DI20080820, AR07W,    73,  1,      6,2,20080923,0425, 57.4861, -11.5241, 2031,   1528.9,   4.0108,  34.9508,2,-999.0000,9,   -999.0,9,  -999.00,9,  -999.00,9,  -999.00,9,   -999.0,9,   -999.0,9,   3.8879
  74DI20080820, AR07W,    73,  1,      7,2,20080923,0425, 57.4861, -11.5241, 2031,   1273.8,   4.8192,  35.0259,2,-999.0000,9,   -999.0,9,  -999.00,9,  -999.00,9,  -999.00,9,   -999.0,9,   -999.0,9,   4.7112
  74DI20080820, AR07W,    73,  1,      8,2,20080923,0425, 57.4861, -11.5241, 2031,   1273.9,   4.8215,  35.0262,2,-999.0000,9,    251.9,2,  -999.00,9,  -999.00,9,  -999.00,9,   -999.0,9,   -999.0,9,   4.7135
  74DI20080820, AR07W,    73,  1,      9,2,20080923,0425, 57.4861, -11.5241, 2031,   1017.9,   6.4457,  35.1681,2,  35.1705,2,   -999.0,9,  -999.00,9,  -999.00,9,  -999.00,9,   -999.0,9,   -999.0,9,   6.3486
  74DI20080820, AR07W,    73,  1,     10,2,20080923,0425, 57.4861, -11.5241, 2031,   1017.9,   6.4465,  35.1681,2,-999.0000,9,    229.7,2,  -999.00,9,  -999.00,9,  -999.00,9,   -999.0,9,   -999.0,9,   6.3494
  74DI20080820, AR07W,    73,  1,     11,2,20080923,0425, 57.4861, -11.5241, 2031,    508.7,   9.3357,  35.3577,2,  35.3595,2,   -999.0,9,  -999.00,9,  -999.00,9,  -999.00,9,   -999.0,9,   -999.0,9,   9.2779
  74DI20080820, AR07W,    73,  1,     12,2,20080923,0425, 57.4861, -11.5241, 2031,    508.6,   9.3357,  35.3577,2,-999.0000,9,    256.6,2,  -999.00,9,  -999.00,9,  -999.00,9,   -999.0,9,   -999.0,9,   9.2779
  74DI20080820, AR07W,    73,  1,     13,2,20080923,0425, 57.4861, -11.5241, 2031,    205.8,  10.2741,  35.4362,2,-999.0000,9,   -999.0,9,  -999.00,9,  -999.00,9,  -999.00,9,   -999.0,9,   -999.0,9,  10.2497
  74DI20080820, AR07W,    73,  1,     14,2,20080923,0425, 57.4861, -11.5241, 2031,    205.9,  10.2740,  35.4359,2,-999.0000,9,    259.2,2,  -999.00,9,  -999.00,9,  -999.00,9,   -999.0,9,   -999.0,9,  10.2496
  74DI20080820, AR07W,    73,  1,     15,2,20080923,0425, 57.4861, -11.5241, 2031,    104.4,  10.9540,  35.4464,2,-999.0000,9,   -999.0,9,  -999.00,9,  -999.00,9,  -999.00,9,   -999.0,9,   -999.0,9,  10.9412
  74DI20080820, AR07W,    73,  1,     16,2,20080923,0425, 57.4861, -11.5241, 2031,    104.6,  10.9567,  35.4467,2,-999.0000,9,    249.4,2,  -999.00,9,  -999.00,9,  -999.00,9,   -999.0,9,   -999.0,9,  10.9438
  74DI20080820, AR07W,    73,  1,     17,2,20080923,0425, 57.4861, -11.5241, 2031,     79.2,  11.6777,  35.4469,2,-999.0000,9,   -999.0,9,  -999.00,9,  -999.00,9,  -999.00,9,   -999.0,9,   -999.0,9,  11.6675
  74DI20080820, AR07W,    73,  1,     18,2,20080923,0425, 57.4861, -11.5241, 2031,     79.2,  11.6796,  35.4468,2,-999.0000,9,    250.1,2,  -999.00,9,  -999.00,9,  -999.00,9,   -999.0,9,   -999.0,9,  11.6695
  74DI20080820, AR07W,    73,  1,     19,2,20080923,0425, 57.4861, -11.5241, 2031,     54.0,  13.1609,  35.3426,2,-999.0000,9,   -999.0,9,  -999.00,9,  -999.00,9,  -999.00,9,   -999.0,9,   -999.0,9,  13.1534
  74DI20080820, AR07W,    73,  1,     20,2,20080923,0425, 57.4861, -11.5241, 2031,     54.0,  13.1912,  35.3400,2,-999.0000,9,    259.1,2,  -999.00,9,  -999.00,9,  -999.00,9,   -999.0,9,   -999.0,9,  13.1837
  74DI20080820, AR07W,    73,  1,     21,2,20080923,0425, 57.4861, -11.5241, 2031,     23.5,  13.5037,  35.3399,2,  35.3404,2,   -999.0,9,  -999.00,9,  -999.00,9,  -999.00,9,   -999.0,9,   -999.0,9,  13.5004
  74DI20080820, AR07W,    73,  1,     22,2,20080923,0425, 57.4861, -11.5241, 2031,     23.5,  13.5052,  35.3402,2,-999.0000,9,    265.7,2,  -999.00,9,  -999.00,9,  -999.00,9,   -999.0,9,   -999.0,9,  13.5019
  74DI20080820, AR07W,    73,  1,     23,2,20080923,0425, 57.4861, -11.5241, 2031,     13.3,  13.5025,  35.3398,2,-999.0000,9,   -999.0,9,  -999.00,9,  -999.00,9,  -999.00,9,   -999.0,9,   -999.0,9,  13.5006
  74DI20080820, AR07W,    73,  1,     24,2,20080923,0425, 57.4861, -11.5241, 2031,     13.3,  13.5023,  35.3398,2,-999.0000,9,    262.1,2,  -999.00,9,  -999.00,9,  -999.00,9,   -999.0,9,   -999.0,9,  13.5004