BOTTLE,20150217PRINUNIVRMK
EXPOCODE,SECT_ID,STNNBR,CASTNO,BTLNBR,BTLNBR_FLAG_W,DATE,TIME,LATITUDE,LONGITUDE,DEPTH,CTDPRS,CTDTMP,CTDSAL,CTDSAL_FLAG_W,SALNTY,SALNTY_FLAG_W,OXYGEN,OXYGEN_FLAG_W,SILCAT,SILCAT_FLAG_W,NITRAT,NITRAT_FLAG_W,PHSPHT,PHSPHT_FLAG_W,TCARBN,TCARBN_FLAG_W,ALKALI,ALKALI_FLAG_W,THETA
,,,,,,,,,,METERS,DBAR,ITS-90,PSS-78,,PSS-78,,UMOL/KG,,UMOL/KG,,UMOL/KG,,UMOL/KG,,UMOL/KG,,UMOL/KG,,DEG C
  74DI20080820, AR07W,    14,  1,      1,2,20080825,1501, 55.6235, -53.6025, 3293,   2954.7,   1.9313,  34.8992,2,  34.9006,2,    297.3,2,    10.80,2,    14.51,2,     1.05,2,   -999.0,9,   -999.0,9,   1.7083
  74DI20080820, AR07W,    14,  1,      3,2,20080825,1501, 55.6235, -53.6025, 3293,   2554.5,   2.5763,  34.9123,2,-999.0000,9,    287.0,2,    12.65,2,    15.59,2,     1.13,2,   -999.0,9,   -999.0,9,   2.3790
  74DI20080820, AR07W,    14,  1,      5,2,20080825,1501, 55.6235, -53.6025, 3293,   2043.1,   3.0770,  34.9112,2,-999.0000,9,   -999.0,9,    11.55,2,    17.92,2,     1.14,2,   -999.0,9,   -999.0,9,   2.9194
  74DI20080820, AR07W,    14,  1,      7,2,20080825,1501, 55.6235, -53.6025, 3293,   1532.7,   3.5046,  34.9123,2,  34.9146,2,    281.5,2,    10.93,2,    16.63,2,     1.18,2,   -999.0,9,   -999.0,9,   3.3873
  74DI20080820, AR07W,    14,  1,      9,2,20080825,1501, 55.6235, -53.6025, 3293,   1125.3,   3.6993,  34.8946,2,-999.0000,9,   -999.0,9,    10.10,2,    16.43,2,     1.17,2,   -999.0,9,   -999.0,9,   3.6150
  74DI20080820, AR07W,    14,  1,     11,2,20080825,1501, 55.6235, -53.6025, 3293,    768.6,   3.9867,  34.8934,2,-999.0000,9,   -999.0,9,  -999.00,9,  -999.00,9,  -999.00,9,   -999.0,9,   -999.0,9,   3.9295
  74DI20080820, AR07W,    14,  1,     13,2,20080825,1501, 55.6235, -53.6025, 3293,    514.1,   4.3493,  34.9080,2,-999.0000,9,   -999.0,9,     9.24,2,    16.10,2,     1.13,2,   -999.0,9,   -999.0,9,   4.3105
  74DI20080820, AR07W,    14,  1,     15,2,20080825,1501, 55.6235, -53.6025, 3293,    260.2,   4.9617,  34.9048,2,  34.9069,2,   -999.0,9,     8.46,2,    15.80,2,     1.11,2,   -999.0,9,   -999.0,9,   4.9413
  74DI20080820, AR07W,    14,  1,     17,2,20080825,1501, 55.6235, -53.6025, 3293,    107.9,   4.0319,  34.6332,2,-999.0000,9,    292.1,2,     7.30,2,    14.48,2,     1.03,2,   -999.0,9,   -999.0,9,   4.0244
  74DI20080820, AR07W,    14,  1,     19,2,20080825,1501, 55.6235, -53.6025, 3293,     56.8,   1.5851,  34.0160,2,-999.0000,9,   -999.0,9,     4.51,2,     9.43,2,     0.85,2,   -999.0,9,   -999.0,9,   1.5824
  74DI20080820, AR07W,    14,  1,     21,2,20080825,1501, 55.6235, -53.6025, 3293,     31.7,   2.3079,  33.7459,2,-999.0000,9,    349.6,2,     1.61,2,     4.03,2,     0.49,2,   -999.0,9,   -999.0,9,   2.3062
  74DI20080820, AR07W,    14,  1,     23,2,20080825,1501, 55.6235, -53.6025, 3293,     16.6,   9.2817,  33.4783,2,  33.4830,2,   -999.0,9,     0.53,2,     0.20,2,     0.13,2,   -999.0,9,   -999.0,9,   9.2799
  74DI20080820, AR07W,    15,  1,      2,2,20080826,0530, 55.9067, -53.4077, -999,   3154.1,   1.9142,  34.8987,2,  34.9004,2,   -999.0,9,    10.66,2,    15.36,2,     1.05,2,   2160.5,2,   2306.1,2,   1.6719
  74DI20080820, AR07W,    15,  1,      4,2,20080826,0530, 55.9067, -53.4077, -999,   3154.2,   1.9143,  34.8987,2,-999.0000,9,   -999.0,9,    10.75,2,    14.63,2,     1.05,2,   2160.4,2,   2306.3,2,   1.6720
  74DI20080820, AR07W,    15,  1,      6,2,20080826,0530, 55.9067, -53.4077, -999,   2760.2,   2.5942,  34.9113,2,  34.9141,2,   -999.0,9,    13.35,2,    15.87,2,     1.14,2,   2159.1,2,   2306.7,2,   2.3765
  74DI20080820, AR07W,    15,  1,      8,2,20080826,0530, 55.9067, -53.4077, -999,   2042.2,   3.1968,  34.9056,2,-999.0000,9,   -999.0,9,    11.55,2,    16.97,2,     1.18,2,   2154.2,2,   2304.0,2,   3.0375
  74DI20080820, AR07W,    15,  1,     10,2,20080826,0530, 55.9067, -53.4077, -999,   1529.0,   3.6119,  34.9095,2,  34.9131,2,   -999.0,9,    10.78,2,    16.61,2,     1.17,2,   2155.7,2,   2304.7,2,   3.4937
  74DI20080820, AR07W,    15,  1,     12,2,20080826,0530, 55.9067, -53.4077, -999,   1018.0,   3.4936,  34.8584,2,-999.0000,9,   -999.0,9,     9.24,2,    16.30,2,     1.14,2,   2154.5,2,   2305.8,2,   3.4198
  74DI20080820, AR07W,    15,  1,     14,2,20080826,0530, 55.9067, -53.4077, -999,    762.8,   3.6860,  34.8751,2,-999.0000,9,   -999.0,9,     9.45,2,    16.18,2,     1.15,2,   2157.6,2,   2299.0,2,   3.6310
  74DI20080820, AR07W,    15,  1,     16,2,20080826,0530, 55.9067, -53.4077, -999,    510.5,   3.9926,  34.8952,2,-999.0000,9,   -999.0,9,     9.77,2,    16.22,2,     1.14,2,   2155.6,2,   2303.6,2,   3.9556
  74DI20080820, AR07W,    15,  1,     18,2,20080826,0530, 55.9067, -53.4077, -999,    205.6,   4.6132,  34.9151,2,  34.9190,2,   -999.0,9,     9.40,2,    16.20,2,     1.12,2,   2159.6,2,   2307.9,2,   4.5977
  74DI20080820, AR07W,    15,  1,     20,2,20080826,0530, 55.9067, -53.4077, -999,     53.3,   3.5122,  34.4805,2,-999.0000,9,   -999.0,9,     4.34,2,    10.86,2,     0.89,2,   2129.0,2,   2288.7,2,   3.5088
  74DI20080820, AR07W,    15,  1,     22,2,20080826,0530, 55.9067, -53.4077, -999,     22.9,  11.0071,  33.9597,2,-999.0000,9,   -999.0,9,     0.47,2,     1.21,2,     0.79,2,   2047.0,2,   2267.3,2,  11.0043
  74DI20080820, AR07W,    15,  1,     24,2,20080826,0530, 55.9067, -53.4077, -999,      7.7,  11.3398,  33.8944,2,  33.8982,2,   -999.0,9,     0.41,2,     0.12,2,     0.11,2,   2038.8,2,   2261.7,2,  11.3389
  74DI20080820, AR07W,    16,  1,      1,2,20080826,1107, 56.1777, -53.1072, 3406,   3377.0,   1.7883,  34.8965,2,  34.9025,2,    298.6,2,    11.07,2,    14.60,2,     1.04,2,   -999.0,9,   -999.0,9,   1.5264
  74DI20080820, AR07W,    16,  1,      2,2,20080826,1107, 56.1777, -53.1072, 3406,   3377.1,   1.7883,  34.8966,2,-999.0000,9,   -999.0,9,  -999.00,9,  -999.00,9,  -999.00,9,   -999.0,9,   -999.0,9,   1.5264
  74DI20080820, AR07W,    16,  1,      3,2,20080826,1107, 56.1777, -53.1072, 3406,   3070.4,   2.3728,  34.9027,2,  34.9055,2,    287.7,2,    13.70,2,    16.00,2,     1.12,2,   -999.0,9,   -999.0,9,   2.1286
  74DI20080820, AR07W,    16,  1,      5,2,20080826,1107, 56.1777, -53.1072, 3406,   2555.9,   2.9163,  34.9124,2,-999.0000,9,   -999.0,9,    11.11,2,    14.66,2,     1.04,2,   -999.0,9,   -999.0,9,   2.7125
  74DI20080820, AR07W,    16,  1,      7,2,20080826,1107, 56.1777, -53.1072, 3406,   2043.4,   3.2540,  34.9045,2,-999.0000,9,    283.9,2,    11.38,2,    16.83,2,     1.16,2,   -999.0,9,   -999.0,9,   3.0937
  74DI20080820, AR07W,    16,  1,      9,2,20080826,1107, 56.1777, -53.1072, 3406,   1532.1,   3.5919,  34.9008,2,-999.0000,9,   -999.0,9,    10.76,2,    17.04,2,     1.18,2,   -999.0,9,   -999.0,9,   3.4736
  74DI20080820, AR07W,    16,  1,     11,2,20080826,1107, 56.1777, -53.1072, 3406,   1022.1,   3.4695,  34.8561,2,  34.8590,2,    299.1,2,     9.16,2,    15.93,2,     1.14,2,   -999.0,9,   -999.0,9,   3.3956
  74DI20080820, AR07W,    16,  1,     13,2,20080826,1107, 56.1777, -53.1072, 3406,    767.2,   3.5005,  34.8526,2,-999.0000,9,   -999.0,9,  -999.00,9,  -999.00,9,  -999.00,9,   -999.0,9,   -999.0,9,   3.4463
  74DI20080820, AR07W,    16,  1,     15,2,20080826,1107, 56.1777, -53.1072, 3406,    512.9,   3.5882,  34.8501,2,-999.0000,9,   -999.0,9,     8.76,2,    16.75,2,     1.12,2,   -999.0,9,   -999.0,9,   3.5526
  74DI20080820, AR07W,    16,  1,     16,2,20080826,1107, 56.1777, -53.1072, 3406,    258.6,   3.9227,  34.8604,2,-999.0000,9,    296.0,2,     8.53,2,    16.08,2,     1.12,2,   -999.0,9,   -999.0,9,   3.9046
  74DI20080820, AR07W,    16,  1,     17,2,20080826,1107, 56.1777, -53.1072, 3406,    106.3,   4.3927,  34.8266,2,  34.8313,2,   -999.0,9,     8.24,2,    15.94,2,     1.13,2,   -999.0,9,   -999.0,9,   4.3850
  74DI20080820, AR07W,    16,  1,     19,2,20080826,1107, 56.1777, -53.1072, 3406,     55.6,   4.6431,  34.7138,2,-999.0000,9,   -999.0,9,     5.04,2,     9.83,2,     1.04,2,   -999.0,9,   -999.0,9,   4.6390
  74DI20080820, AR07W,    16,  1,     21,2,20080826,1107, 56.1777, -53.1072, 3406,     35.2,   4.8072,  34.3877,2,-999.0000,9,    329.4,2,     1.78,2,     5.22,2,     0.57,2,   -999.0,9,   -999.0,9,   4.8046
  74DI20080820, AR07W,    16,  1,     23,2,20080826,1107, 56.1777, -53.1072, 3406,     14.9,  11.2409,  33.8328,2,  33.8864,2,   -999.0,9,     0.42,2,     0.06,2,     0.12,2,   -999.0,9,   -999.0,9,  11.2391
  74DI20080820, AR07W,    17,  1,      1,2,20080826,1749, 56.5432, -52.6725, 3541,   3531.5,   1.8194,  34.8967,2,  34.8987,2,   -999.0,9,    11.13,2,    14.25,2,     1.09,2,   2156.7,2,   2309.6,2,   1.5407
  74DI20080820, AR07W,    17,  1,      2,2,20080826,1749, 56.5432, -52.6725, 3541,   3378.8,   2.0598,  34.8966,2,-999.0000,9,   -999.0,9,    11.51,2,    14.69,2,     1.13,2,   2155.9,2,   2306.9,2,   1.7911
  74DI20080820, AR07W,    17,  1,      3,2,20080826,1749, 56.5432, -52.6725, 3541,   3070.4,   2.5145,  34.9080,2,  34.9102,2,   -999.0,9,    14.22,2,    15.79,2,     1.21,2,   2158.4,2,   2307.7,2,   2.2671
  74DI20080820, AR07W,    17,  1,      5,2,20080826,1749, 56.5432, -52.6725, 3541,   2556.8,   2.9679,  34.9110,2,-999.0000,9,   -999.0,9,    12.69,2,    16.21,2,     1.23,2,   2156.9,2,   -999.0,9,   2.7630
  74DI20080820, AR07W,    17,  1,      6,2,20080826,1749, 56.5432, -52.6725, 3541,   2556.8,   2.9677,  34.9111,2,-999.0000,9,   -999.0,9,  -999.00,9,  -999.00,9,  -999.00,9,   -999.0,9,   -999.0,9,   2.7628
  74DI20080820, AR07W,    17,  1,      7,2,20080826,1749, 56.5432, -52.6725, 3541,   2044.4,   3.2848,  34.9001,2,-999.0000,9,   -999.0,9,    11.55,2,    16.65,2,     1.18,2,   2155.9,2,   2306.2,2,   3.1239
  74DI20080820, AR07W,    17,  1,      9,2,20080826,1749, 56.5432, -52.6725, 3541,   1532.7,   3.5730,  34.8923,2,  34.8948,2,   -999.0,9,    10.89,2,    16.84,2,     1.18,2,   2157.3,2,   2310.0,3,   3.4549
  74DI20080820, AR07W,    17,  1,     11,2,20080826,1749, 56.5432, -52.6725, 3541,   1021.9,   3.4536,  34.8520,2,-999.0000,9,   -999.0,9,     9.18,2,    15.88,2,     1.14,2,   2152.5,3,   2301.7,2,   3.3798
  74DI20080820, AR07W,    17,  1,     13,2,20080826,1749, 56.5432, -52.6725, 3541,    766.6,   3.4509,  34.8473,2,-999.0000,9,   -999.0,9,     8.99,2,    15.93,2,     1.13,2,   2157.7,2,   2299.6,2,   3.3971
  74DI20080820, AR07W,    17,  1,     14,2,20080826,1749, 56.5432, -52.6725, 3541,    513.3,   3.4929,  34.8432,2,-999.0000,9,   -999.0,9,     8.85,2,    15.73,2,     1.13,2,   -999.0,9,   2303.5,2,   3.4577
  74DI20080820, AR07W,    17,  1,     15,2,20080826,1749, 56.5432, -52.6725, 3541,    259.2,   3.8063,  34.8532,2,-999.0000,9,   -999.0,9,     8.68,2,    15.82,2,     1.13,2,   2157.4,2,   2304.6,2,   3.7884
  74DI20080820, AR07W,    17,  1,     17,2,20080826,1749, 56.5432, -52.6725, 3541,    106.8,   4.4718,  34.8719,2,-999.0000,9,   -999.0,9,     8.42,2,    15.91,2,     1.13,2,   2152.7,2,   2306.2,2,   4.4640
  74DI20080820, AR07W,    17,  1,     18,2,20080826,1749, 56.5432, -52.6725, 3541,    106.8,   4.4719,  34.8717,2,  34.8714,2,   -999.0,9,  -999.00,9,  -999.00,9,  -999.00,9,   -999.0,9,   -999.0,9,   4.4641
  74DI20080820, AR07W,    17,  1,     19,2,20080826,1749, 56.5432, -52.6725, 3541,     56.0,   4.8368,  34.7600,2,-999.0000,9,   -999.0,9,     5.99,2,     9.32,2,     1.03,2,   2141.7,2,   2309.8,2,   4.8326
  74DI20080820, AR07W,    17,  1,     21,2,20080826,1749, 56.5432, -52.6725, 3541,     35.8,   5.4123,  34.7177,2,-999.0000,9,   -999.0,9,     1.41,2,     7.14,2,     0.85,2,   2123.9,2,   2307.3,2,   5.4094
  74DI20080820, AR07W,    17,  1,     23,2,20080826,1749, 56.5432, -52.6725, 3541,     15.5,  11.4189,  34.1676,2,  34.1793,2,   -999.0,9,     0.41,2,     0.19,2,     0.13,2,   2052.0,2,   2266.8,2,  11.4170
  74DI20080820, AR07W,    18,  1,      1,2,20080827,0031, 56.9398, -52.2310, 3568,   3558.9,   1.7827,  34.8990,2,  34.9004,2,    298.2,2,    10.79,2,    14.07,2,     1.11,2,   -999.0,9,   -999.0,9,   1.5020
  74DI20080820, AR07W,    18,  1,      2,2,20080827,0031, 56.9398, -52.2310, 3568,   3559.1,   1.7821,  34.8990,2,-999.0000,9,   -999.0,9,  -999.00,9,  -999.00,9,  -999.00,9,   -999.0,9,   -999.0,9,   1.5014
  74DI20080820, AR07W,    18,  1,      3,2,20080827,0031, 56.9398, -52.2310, 3568,   3499.2,   1.8658,  34.8960,2,-999.0000,9,   -999.0,9,    10.96,2,    14.22,2,     1.13,2,   -999.0,9,   -999.0,9,   1.5893
  74DI20080820, AR07W,    18,  1,      4,2,20080827,0031, 56.9398, -52.2310, 3568,   3067.8,   2.5842,  34.9106,2,-999.0000,9,   -999.0,9,  -999.00,9,  -999.00,9,  -999.00,9,   -999.0,9,   -999.0,9,   2.3355
  74DI20080820, AR07W,    18,  1,      5,2,20080827,0031, 56.9398, -52.2310, 3568,   2811.7,   2.8337,  34.9154,2,  34.9171,2,   -999.0,9,    12.81,2,    16.15,2,     1.24,2,   -999.0,9,   -999.0,9,   2.6059
  74DI20080820, AR07W,    18,  1,      6,2,20080827,0031, 56.9398, -52.2310, 3568,   2555.4,   3.0075,  34.9101,2,-999.0000,9,   -999.0,9,    12.39,2,    16.09,2,     1.24,2,   -999.0,9,   -999.0,9,   2.8021
  74DI20080820, AR07W,    18,  1,      7,2,20080827,0031, 56.9398, -52.2310, 3568,   2299.1,   3.1679,  34.9056,2,-999.0000,9,   -999.0,9,    11.71,2,    16.33,2,     1.17,2,   -999.0,9,   -999.0,9,   2.9847
  74DI20080820, AR07W,    18,  1,      8,2,20080827,0031, 56.9398, -52.2310, 3568,   2043.4,   3.3186,  34.9004,2,-999.0000,9,   -999.0,9,    11.48,2,    16.66,2,     1.17,2,   -999.0,9,   -999.0,9,   3.1573
  74DI20080820, AR07W,    18,  1,      9,2,20080827,0031, 56.9398, -52.2310, 3568,   1787.2,   3.5014,  34.9024,2,-999.0000,9,   -999.0,9,    11.26,2,    16.92,2,     1.19,2,   -999.0,9,   -999.0,9,   3.3613
  74DI20080820, AR07W,    18,  1,     10,2,20080827,0031, 56.9398, -52.2310, 3568,   1531.1,   3.5445,  34.8807,2,  34.8832,2,    287.7,2,    10.25,2,    16.60,2,     1.18,2,   -999.0,9,   -999.0,9,   3.4269
  74DI20080820, AR07W,    18,  1,     11,2,20080827,0031, 56.9398, -52.2310, 3568,   1275.9,   3.4264,  34.8529,2,-999.0000,9,   -999.0,9,     9.12,2,    15.91,2,     1.13,2,   -999.0,9,   -999.0,9,   3.3321
  74DI20080820, AR07W,    18,  1,     12,2,20080827,0031, 56.9398, -52.2310, 3568,   1020.6,   3.4930,  34.8570,2,-999.0000,9,    297.3,2,     9.40,2,    16.25,2,     1.14,2,   -999.0,9,   -999.0,9,   3.4190
  74DI20080820, AR07W,    18,  1,     13,2,20080827,0031, 56.9398, -52.2310, 3568,    765.7,   3.4789,  34.8501,2,-999.0000,9,   -999.0,9,     9.15,2,    16.16,2,     1.14,2,   -999.0,9,   -999.0,9,   3.4250
  74DI20080820, AR07W,    18,  1,     14,2,20080827,0031, 56.9398, -52.2310, 3568,    511.7,   3.5357,  34.8485,2,-999.0000,9,   -999.0,9,     9.09,2,    16.26,2,     1.15,2,   -999.0,9,   -999.0,9,   3.5004
  74DI20080820, AR07W,    18,  1,     15,2,20080827,0031, 56.9398, -52.2310, 3568,    308.7,   3.6422,  34.8415,2,-999.0000,9,   -999.0,9,     8.82,2,    16.10,2,     1.13,2,   -999.0,9,   -999.0,9,   3.6212
  74DI20080820, AR07W,    18,  1,     16,2,20080827,0031, 56.9398, -52.2310, 3568,    156.0,   3.7574,  34.8170,2,-999.0000,9,   -999.0,9,     8.64,2,    15.98,2,     1.14,2,   -999.0,9,   -999.0,9,   3.7468
  74DI20080820, AR07W,    18,  1,     17,2,20080827,0031, 56.9398, -52.2310, 3568,     80.3,   4.3393,  34.7675,2,-999.0000,9,   -999.0,9,     7.78,2,    14.44,2,     1.08,2,   -999.0,9,   -999.0,9,   4.3335
  74DI20080820, AR07W,    18,  1,     18,2,20080827,0031, 56.9398, -52.2310, 3568,     34.6,   6.1230,  34.5829,2,-999.0000,9,    329.7,2,     0.93,2,     4.25,2,     0.50,2,   -999.0,9,   -999.0,9,   6.1201
  74DI20080820, AR07W,    18,  1,     19,2,20080827,0031, 56.9398, -52.2310, 3568,     19.4,  11.4525,  34.3093,2,  34.2797,2,   -999.0,9,     0.42,2,     0.17,2,     0.13,2,   -999.0,9,   -999.0,9,  11.4501
  74DI20080820, AR07W,    18,  1,     20,2,20080827,0031, 56.9398, -52.2310, 3568,      5.2,  11.3646,  34.0327,2,  34.0365,2,    275.5,2,     0.39,2,     0.12,2,     0.12,2,   -999.0,9,   -999.0,9,  11.3640