BOTTLE,20150217PRINUNIVRMK
EXPOCODE,SECT_ID,STNNBR,CASTNO,BTLNBR,BTLNBR_FLAG_W,DATE,TIME,LATITUDE,LONGITUDE,DEPTH,CTDPRS,CTDTMP,CTDSAL,CTDSAL_FLAG_W,SALNTY,SALNTY_FLAG_W,OXYGEN,OXYGEN_FLAG_W,SILCAT,SILCAT_FLAG_W,NITRAT,NITRAT_FLAG_W,PHSPHT,PHSPHT_FLAG_W,TCARBN,TCARBN_FLAG_W,ALKALI,ALKALI_FLAG_W,THETA
,,,,,,,,,,METERS,DBAR,ITS-90,PSS-78,,PSS-78,,UMOL/KG,,UMOL/KG,,UMOL/KG,,UMOL/KG,,UMOL/KG,,UMOL/KG,,DEG C
  74DI20080820, AR07W,    36,  1,      1,2,20080901,0344, 58.4505, -49.4733, 3571,   3561.9,   1.7215,  34.9022,2,  34.9033,2,    300.0,2,    10.03,2,    13.86,2,     1.02,2,   -999.0,9,   -999.0,9,   1.4420
  74DI20080820, AR07W,    36,  1,      2,2,20080901,0344, 58.4505, -49.4733, 3571,   3481.1,   1.8135,  34.8993,2,-999.0000,9,   -999.0,9,    10.37,2,    13.97,2,     1.03,2,   -999.0,9,   -999.0,9,   1.5402
  74DI20080820, AR07W,    36,  1,      3,2,20080901,0344, 58.4505, -49.4733, 3571,   3378.5,   2.0646,  34.8981,2,-999.0000,9,   -999.0,9,    11.89,2,    14.60,2,     1.06,2,   -999.0,9,   -999.0,9,   1.7958
  74DI20080820, AR07W,    36,  1,      4,2,20080901,0344, 58.4505, -49.4733, 3571,   3275.7,   2.2822,  34.9020,2,-999.0000,9,   -999.0,9,    13.29,2,    15.06,2,     1.10,2,   -999.0,9,   -999.0,9,   2.0189
  74DI20080820, AR07W,    36,  1,      5,2,20080901,0344, 58.4505, -49.4733, 3571,   3172.4,   2.4173,  34.9050,2,-999.0000,9,    286.8,2,    14.42,2,    15.46,2,     1.13,2,   -999.0,9,   -999.0,9,   2.1616
  74DI20080820, AR07W,    36,  1,      6,2,20080901,0344, 58.4505, -49.4733, 3571,   3068.9,   2.5481,  34.9110,2,-999.0000,9,   -999.0,9,    14.15,2,    15.62,2,     1.14,2,   -999.0,9,   -999.0,9,   2.3001
  74DI20080820, AR07W,    36,  1,      7,2,20080901,0344, 58.4505, -49.4733, 3571,   2863.0,   2.7753,  34.9189,2,-999.0000,9,   -999.0,9,    13.32,2,    15.84,2,     1.14,2,   -999.0,9,   -999.0,9,   2.5435
  74DI20080820, AR07W,    36,  1,      8,2,20080901,0344, 58.4505, -49.4733, 3571,   2656.3,   2.9120,  34.9138,2,  34.9157,2,   -999.0,9,    13.03,2,    16.06,2,     1.15,2,   -999.0,9,   -999.0,9,   2.6983
  74DI20080820, AR07W,    36,  1,      9,2,20080901,0344, 58.4505, -49.4733, 3571,   2451.1,   3.0586,  34.9111,2,-999.0000,9,   -999.0,9,    11.94,2,    15.93,2,     1.15,2,   -999.0,9,   -999.0,9,   2.8625
  74DI20080820, AR07W,    36,  1,     10,2,20080901,0344, 58.4505, -49.4733, 3571,   2246.0,   3.1929,  34.9082,2,-999.0000,9,   -999.0,9,    11.50,2,    16.25,2,     1.16,2,   -999.0,9,   -999.0,9,   3.0143
  74DI20080820, AR07W,    36,  1,     11,2,20080901,0344, 58.4505, -49.4733, 3571,   2040.7,   3.3444,  34.9065,2,  34.9080,2,    283.7,2,    11.27,2,    16.33,2,     1.18,2,   -999.0,9,   -999.0,9,   3.1830
  74DI20080820, AR07W,    36,  1,     12,2,20080901,0344, 58.4505, -49.4733, 3571,   1836.4,   3.5132,  34.9117,2,-999.0000,9,   -999.0,9,    10.96,2,    16.37,2,     1.18,2,   -999.0,9,   -999.0,9,   3.3684
  74DI20080820, AR07W,    36,  1,     13,2,20080901,0344, 58.4505, -49.4733, 3571,   1632.0,   3.6320,  34.9042,2,-999.0000,9,    280.9,2,    10.60,2,    16.54,2,     1.18,2,   -999.0,9,   -999.0,9,   3.5043
  74DI20080820, AR07W,    36,  1,     14,2,20080901,0344, 58.4505, -49.4733, 3571,   1429.2,   3.4694,  34.8624,2,-999.0000,9,   -999.0,9,     9.30,2,    15.74,2,     1.14,2,   -999.0,9,   -999.0,9,   3.3616
  74DI20080820, AR07W,    36,  1,     15,2,20080901,0344, 58.4505, -49.4733, 3571,   1225.0,   3.4692,  34.8557,2,-999.0000,9,   -999.0,9,     9.17,2,    15.78,2,     1.13,2,   -999.0,9,   -999.0,9,   3.3787
  74DI20080820, AR07W,    36,  1,     16,2,20080901,0344, 58.4505, -49.4733, 3571,   1020.3,   3.4974,  34.8533,2,  34.8551,2,   -999.0,9,     8.97,2,    15.61,2,     1.13,2,   -999.0,9,   -999.0,9,   3.4234
  74DI20080820, AR07W,    36,  1,     17,2,20080901,0344, 58.4505, -49.4733, 3571,    812.8,   3.5450,  34.8543,2,-999.0000,9,   -999.0,9,     8.76,2,    15.59,2,     1.12,2,   -999.0,9,   -999.0,9,   3.4870
  74DI20080820, AR07W,    36,  1,     18,2,20080901,0344, 58.4505, -49.4733, 3571,    613.4,   3.6566,  34.8587,2,-999.0000,9,   -999.0,9,     8.74,2,    15.64,2,     1.12,2,   -999.0,9,   -999.0,9,   3.6133
  74DI20080820, AR07W,    36,  1,     19,2,20080901,0344, 58.4505, -49.4733, 3571,    411.4,   3.9307,  34.8762,2,-999.0000,9,   -999.0,9,     8.50,2,    15.52,2,     1.12,2,   -999.0,9,   -999.0,9,   3.9014
  74DI20080820, AR07W,    36,  1,     20,2,20080901,0344, 58.4505, -49.4733, 3571,    209.0,   4.3526,  34.8911,2,-999.0000,9,   -999.0,9,     8.25,2,    15.47,2,     1.12,2,   -999.0,9,   -999.0,9,   4.3373
  74DI20080820, AR07W,    36,  1,     21,2,20080901,0344, 58.4505, -49.4733, 3571,    107.3,   4.2455,  34.8207,2,-999.0000,9,   -999.0,9,     7.98,2,    15.43,2,     1.13,2,   -999.0,9,   -999.0,9,   4.2378
  74DI20080820, AR07W,    36,  1,     22,2,20080901,0344, 58.4505, -49.4733, 3571,     36.3,   5.5326,  34.5222,2,-999.0000,9,    307.8,2,     3.57,2,     6.52,2,     0.78,2,   -999.0,9,   -999.0,9,   5.5297
  74DI20080820, AR07W,    36,  1,     23,2,20080901,0344, 58.4505, -49.4733, 3571,     20.3,   9.6960,  34.2686,2,-999.0000,9,   -999.0,9,     0.61,2,     0.88,2,     0.21,2,   -999.0,9,   -999.0,9,   9.6937
  74DI20080820, AR07W,    36,  1,     24,2,20080901,0344, 58.4505, -49.4733, 3571,      6.9,  10.0322,  34.2594,2,  34.2610,2,   -999.0,9,     0.33,2,     0.27,2,     0.14,2,   -999.0,9,   -999.0,9,  10.0314
  74DI20080820, AR07W,    37,  1,      1,2,20080901,1213, 57.8983, -48.9987, 3573,   3563.3,   1.7447,  34.9023,2,  34.9033,2,    303.9,2,     9.76,2,    13.83,2,     1.02,2,   -999.0,9,   -999.0,9,   1.4645
  74DI20080820, AR07W,    37,  1,      2,2,20080901,1213, 57.8983, -48.9987, 3573,   3563.3,   1.7448,  34.9024,2,-999.0000,9,   -999.0,9,  -999.00,9,  -999.00,9,  -999.00,9,   -999.0,9,   -999.0,9,   1.4646
  74DI20080820, AR07W,    37,  1,      3,2,20080901,1213, 57.8983, -48.9987, 3573,   3481.6,   1.8515,  34.8982,2,-999.0000,9,   -999.0,9,    10.67,2,    13.97,2,     1.03,2,   -999.0,9,   -999.0,9,   1.5772
  74DI20080820, AR07W,    37,  1,      4,2,20080901,1213, 57.8983, -48.9987, 3573,   3326.8,   2.0814,  34.8964,2,-999.0000,9,   -999.0,9,    12.06,2,    14.37,2,     1.07,2,   -999.0,9,   -999.0,9,   1.8176
  74DI20080820, AR07W,    37,  1,      5,2,20080901,1213, 57.8983, -48.9987, 3573,   3172.4,   2.5639,  34.9102,2,-999.0000,9,   -999.0,9,  -999.00,9,  -999.00,9,  -999.00,9,   -999.0,9,   -999.0,9,   2.3048
  74DI20080820, AR07W,    37,  1,      6,2,20080901,1213, 57.8983, -48.9987, 3573,   3068.4,   2.6596,  34.9144,2,  34.7540,3,   -999.0,9,  -999.00,9,  -999.00,9,  -999.00,9,   -999.0,9,   -999.0,9,   2.4092
  74DI20080820, AR07W,    37,  1,      7,2,20080901,1213, 57.8983, -48.9987, 3573,   2863.9,   2.8252,  34.9179,2,-999.0000,9,   -999.0,9,    13.18,2,    15.58,2,     1.14,2,   -999.0,9,   -999.0,9,   2.5923
  74DI20080820, AR07W,    37,  1,      8,2,20080901,1213, 57.8983, -48.9987, 3573,   2656.1,   2.9457,  34.9131,2,-999.0000,9,   -999.0,9,    12.31,2,    15.77,2,     1.14,2,   -999.0,9,   -999.0,9,   2.7314
  74DI20080820, AR07W,    37,  1,      9,2,20080901,1213, 57.8983, -48.9987, 3573,   2444.5,   3.0868,  34.9110,2,-999.0000,9,   -999.0,9,    11.71,2,    15.63,2,     1.14,2,   -999.0,9,   -999.0,9,   2.8908
  74DI20080820, AR07W,    37,  1,     10,2,20080901,1213, 57.8983, -48.9987, 3573,   2245.5,   3.2175,  34.9076,2,-999.0000,9,   -999.0,9,    11.26,2,    16.13,2,     1.16,2,   -999.0,9,   -999.0,9,   3.0386
  74DI20080820, AR07W,    37,  1,     11,2,20080901,1213, 57.8983, -48.9987, 3573,   2031.6,   3.3556,  34.9059,2,-999.0000,9,   -999.0,9,    11.16,2,    16.00,2,     1.16,2,   -999.0,9,   -999.0,9,   3.1949
  74DI20080820, AR07W,    37,  1,     12,2,20080901,1213, 57.8983, -48.9987, 3573,   1837.7,   3.4946,  34.9071,2,-999.0000,9,   -999.0,9,    11.05,2,    16.12,2,     1.19,2,   -999.0,9,   -999.0,9,   3.3499
  74DI20080820, AR07W,    37,  1,     13,2,20080901,1213, 57.8983, -48.9987, 3573,   1632.0,   3.6019,  34.8991,2,-999.0000,9,   -999.0,9,  -999.00,9,  -999.00,9,  -999.00,9,   -999.0,9,   -999.0,9,   3.4746
  74DI20080820, AR07W,    37,  1,     14,2,20080901,1213, 57.8983, -48.9987, 3573,   1222.1,   3.4535,  34.8553,2,-999.0000,9,   -999.0,9,     9.12,2,    15.52,2,     1.12,2,   -999.0,9,   -999.0,9,   3.3634
  74DI20080820, AR07W,    37,  1,     15,2,20080901,1213, 57.8983, -48.9987, 3573,   1020.1,   3.4456,  34.8484,2,  34.8505,2,   -999.0,9,     8.90,2,    15.46,2,     1.12,2,   -999.0,9,   -999.0,9,   3.3720
  74DI20080820, AR07W,    37,  1,     16,2,20080901,1213, 57.8983, -48.9987, 3573,    816.8,   3.4654,  34.8472,2,-999.0000,9,   -999.0,9,  -999.00,9,  -999.00,9,  -999.00,9,   -999.0,9,   -999.0,9,   3.4076
  74DI20080820, AR07W,    37,  1,     17,2,20080901,1213, 57.8983, -48.9987, 3573,    612.1,   3.5272,  34.8476,2,-999.0000,9,   -999.0,9,     8.69,2,    15.60,2,     1.11,2,   -999.0,9,   -999.0,9,   3.4846
  74DI20080820, AR07W,    37,  1,     18,2,20080901,1213, 57.8983, -48.9987, 3573,    405.7,   3.6616,  34.8473,2,-999.0000,9,   -999.0,9,     8.47,2,    15.78,2,     1.10,2,   -999.0,9,   -999.0,9,   3.6336
  74DI20080820, AR07W,    37,  1,     19,2,20080901,1213, 57.8983, -48.9987, 3573,    206.0,   4.2633,  34.8916,2,-999.0000,9,   -999.0,9,     8.27,2,    15.50,2,     1.11,2,   -999.0,9,   -999.0,9,   4.2484
  74DI20080820, AR07W,    37,  1,     20,2,20080901,1213, 57.8983, -48.9987, 3573,    105.0,   4.1885,  34.8037,2,  34.8081,2,    297.1,2,     8.05,2,    15.42,2,     1.12,2,   -999.0,9,   -999.0,9,   4.1811
  74DI20080820, AR07W,    37,  1,     21,2,20080901,1213, 57.8983, -48.9987, 3573,     36.3,   5.7942,  34.6319,2,-999.0000,9,    316.7,2,     2.15,2,     6.71,2,     0.76,2,   -999.0,9,   -999.0,9,   5.7912
  74DI20080820, AR07W,    37,  1,     22,2,20080901,1213, 57.8983, -48.9987, 3573,     24.3,   9.7385,  34.3767,2,  34.4191,2,    296.8,2,     0.51,2,     0.77,2,     0.20,2,   -999.0,9,   -999.0,9,   9.7358
  74DI20080820, AR07W,    37,  1,     23,2,20080901,1213, 57.8983, -48.9987, 3573,     14.4,  10.5826,  34.4067,2,-999.0000,9,   -999.0,9,     0.42,2,     0.27,2,     0.15,2,   -999.0,9,   -999.0,9,  10.5809
  74DI20080820, AR07W,    37,  1,     24,2,20080901,1213, 57.8983, -48.9987, 3573,      9.5,  10.6411,  34.4086,2,-999.0000,9,   -999.0,9,     0.41,2,     0.25,2,     0.15,2,   -999.0,9,   -999.0,9,  10.6400
  74DI20080820, AR07W,    38,  1,      1,2,20080901,1950, 57.3590, -48.4863, 3480,   3470.5,   1.7180,  34.9025,2,  34.9039,2,    301.4,2,     9.49,2,    13.81,2,     1.00,2,   -999.0,9,   -999.0,9,   1.4481
  74DI20080820, AR07W,    38,  1,      2,2,20080901,1950, 57.3590, -48.4863, 3480,   3373.1,   1.8609,  34.9022,2,-999.0000,9,   -999.0,9,     9.42,2,    13.93,2,     1.01,2,   -999.0,9,   -999.0,9,   1.5976
  74DI20080820, AR07W,    38,  1,      3,2,20080901,1950, 57.3590, -48.4863, 3480,   3269.1,   2.1377,  34.9039,2,-999.0000,9,   -999.0,9,    10.76,2,    14.82,2,     1.05,2,   -999.0,9,   -999.0,9,   1.8785
  74DI20080820, AR07W,    38,  1,      4,2,20080901,1950, 57.3590, -48.4863, 3480,   3166.7,   2.3669,  34.9066,2,-999.0000,9,   -999.0,9,    12.18,2,    15.42,2,     1.08,2,   -999.0,9,   -999.0,9,   2.1129
  74DI20080820, AR07W,    38,  1,      5,2,20080901,1950, 57.3590, -48.4863, 3480,   3064.0,   2.5342,  34.9109,2,-999.0000,9,   -999.0,9,    13.66,2,    15.57,2,     1.12,2,   -999.0,9,   -999.0,9,   2.2870
  74DI20080820, AR07W,    38,  1,      6,2,20080901,1950, 57.3590, -48.4863, 3480,   2857.6,   2.7508,  34.9174,2,-999.0000,9,   -999.0,9,  -999.00,9,  -999.00,9,  -999.00,9,   -999.0,9,   -999.0,9,   2.5201
  74DI20080820, AR07W,    38,  1,      7,2,20080901,1950, 57.3590, -48.4863, 3480,   2653.9,   2.9015,  34.9136,2,  34.9157,2,   -999.0,9,    12.35,2,    16.01,2,     1.14,2,   -999.0,9,   -999.0,9,   2.6883
  74DI20080820, AR07W,    38,  1,      8,2,20080901,1950, 57.3590, -48.4863, 3480,   2447.5,   3.0339,  34.9100,2,-999.0000,9,    288.6,2,    11.97,2,    16.44,2,     1.15,2,   -999.0,9,   -999.0,9,   2.8386
  74DI20080820, AR07W,    38,  1,      9,2,20080901,1950, 57.3590, -48.4863, 3480,   2238.5,   3.1714,  34.9064,2,-999.0000,9,   -999.0,9,    11.56,2,    16.54,2,     1.17,2,   -999.0,9,   -999.0,9,   2.9939
  74DI20080820, AR07W,    38,  1,     10,2,20080901,1950, 57.3590, -48.4863, 3480,   2034.4,   3.2704,  34.9004,2,-999.0000,9,    287.4,2,    11.57,2,    16.87,2,     1.18,2,   -999.0,9,   -999.0,9,   3.1107
  74DI20080820, AR07W,    38,  1,     11,2,20080901,1950, 57.3590, -48.4863, 3480,   1831.9,   3.4183,  34.9013,2,-999.0000,9,   -999.0,9,    11.40,2,    16.96,2,     1.19,2,   -999.0,9,   -999.0,9,   3.2752
  74DI20080820, AR07W,    38,  1,     12,2,20080901,1950, 57.3590, -48.4863, 3480,   1626.6,   3.5479,  34.9001,2,-999.0000,9,   -999.0,9,    11.02,2,    17.06,2,     1.20,2,   -999.0,9,   -999.0,9,   3.4217
  74DI20080820, AR07W,    38,  1,     13,2,20080901,1950, 57.3590, -48.4863, 3480,   1413.7,   3.5081,  34.8725,2,-999.0000,9,   -999.0,9,     9.89,2,    16.49,2,     1.16,2,   -999.0,9,   -999.0,9,   3.4012
  74DI20080820, AR07W,    38,  1,     14,2,20080901,1950, 57.3590, -48.4863, 3480,   1223.3,   3.4809,  34.8585,2,-999.0000,9,   -999.0,9,     9.32,2,    15.87,2,     1.13,2,   -999.0,9,   -999.0,9,   3.3904
  74DI20080820, AR07W,    38,  1,     15,2,20080901,1950, 57.3590, -48.4863, 3480,   1020.0,   3.4888,  34.8527,2,  34.8554,2,    302.1,2,     9.10,2,    16.10,2,     1.14,2,   -999.0,9,   -999.0,9,   3.4149
  74DI20080820, AR07W,    38,  1,     16,2,20080901,1950, 57.3590, -48.4863, 3480,    816.4,   3.5170,  34.8506,2,-999.0000,9,   -999.0,9,     8.93,2,    16.28,2,     1.13,2,   -999.0,9,   -999.0,9,   3.4589
  74DI20080820, AR07W,    38,  1,     17,2,20080901,1950, 57.3590, -48.4863, 3480,    613.1,   3.6227,  34.8462,2,-999.0000,9,   -999.0,9,     9.00,2,    16.20,2,     1.14,2,   -999.0,9,   -999.0,9,   3.5796
  74DI20080820, AR07W,    38,  1,     18,2,20080901,1950, 57.3590, -48.4863, 3480,    409.6,   4.6166,  34.9472,2,-999.0000,9,    298.5,2,     8.37,2,    15.55,2,     1.10,2,   -999.0,9,   -999.0,9,   4.5852
  74DI20080820, AR07W,    38,  1,     19,2,20080901,1950, 57.3590, -48.4863, 3480,    206.4,   4.8257,  34.9470,2,  34.9490,2,   -999.0,9,     7.97,2,    15.39,2,     1.08,2,   -999.0,9,   -999.0,9,   4.8098
  74DI20080820, AR07W,    38,  1,     20,2,20080901,1950, 57.3590, -48.4863, 3480,    104.9,   4.4830,  34.8645,2,-999.0000,9,   -999.0,9,     7.73,2,    14.95,2,     1.08,2,   -999.0,9,   -999.0,9,   4.4753
  74DI20080820, AR07W,    38,  1,     21,2,20080901,1950, 57.3590, -48.4863, 3480,     54.9,   4.0621,  34.7453,2,-999.0000,9,   -999.0,9,     7.09,2,    15.04,2,     1.08,2,   -999.0,9,   -999.0,9,   4.0583
  74DI20080820, AR07W,    38,  1,     22,2,20080901,1950, 57.3590, -48.4863, 3480,     23.7,   5.0657,  34.6319,2,-999.0000,9,   -999.0,9,  -999.00,9,  -999.00,9,  -999.00,9,   -999.0,9,   -999.0,9,   5.0639
  74DI20080820, AR07W,    38,  1,     23,2,20080901,1950, 57.3590, -48.4863, 3480,     14.1,  10.7462,  34.4220,2,  34.4343,2,   -999.0,9,     0.53,2,     0.70,2,     0.18,2,   -999.0,9,   -999.0,9,  10.7445
  74DI20080820, AR07W,    38,  1,     24,2,20080901,1950, 57.3590, -48.4863, 3480,      8.4,  11.0426,  34.4123,2,-999.0000,9,   -999.0,9,     0.42,2,     0.32,2,     0.14,2,   -999.0,9,   -999.0,9,  11.0416