BOTTLE,20150217PRINUNIVRMK
EXPOCODE,SECT_ID,STNNBR,CASTNO,BTLNBR,BTLNBR_FLAG_W,DATE,TIME,LATITUDE,LONGITUDE,DEPTH,CTDPRS,CTDTMP,CTDSAL,CTDSAL_FLAG_W,SALNTY,SALNTY_FLAG_W,OXYGEN,OXYGEN_FLAG_W,SILCAT,SILCAT_FLAG_W,NITRAT,NITRAT_FLAG_W,PHSPHT,PHSPHT_FLAG_W,TCARBN,TCARBN_FLAG_W,ALKALI,ALKALI_FLAG_W,THETA
,,,,,,,,,,METERS,DBAR,ITS-90,PSS-78,,PSS-78,,UMOL/KG,,UMOL/KG,,UMOL/KG,,UMOL/KG,,UMOL/KG,,UMOL/KG,,DEG C
  74DI20080820, AR07W,    60,  1,      1,2,20080909,0349, 59.9172, -41.8775, 1814,   1804.4,   2.3710,  34.9057,2,  34.9096,2,    295.4,2,    10.07,2,    15.09,2,     1.12,2,   -999.0,9,   -999.0,9,   2.2447
  74DI20080820, AR07W,    60,  1,      2,2,20080909,0349, 59.9172, -41.8775, 1814,   1804.6,   2.3707,  34.9057,2,-999.0000,9,   -999.0,9,     9.89,2,    15.07,2,     1.09,2,   -999.0,9,   -999.0,9,   2.2444
  74DI20080820, AR07W,    60,  1,      3,2,20080909,0349, 59.9172, -41.8775, 1814,   1731.2,   2.8754,  34.9163,2,-999.0000,9,   -999.0,9,    10.82,2,    15.84,2,     1.14,2,   -999.0,9,   -999.0,9,   2.7485
  74DI20080820, AR07W,    60,  1,      4,2,20080909,0349, 59.9172, -41.8775, 1814,   1629.8,   3.1912,  34.9216,2,-999.0000,9,   -999.0,9,    10.83,2,    16.06,2,     1.17,2,   -999.0,9,   -999.0,9,   3.0691
  74DI20080820, AR07W,    60,  1,      5,2,20080909,0349, 59.9172, -41.8775, 1814,   1526.6,   3.3536,  34.9244,2,-999.0000,9,   -999.0,9,    10.60,2,    16.13,2,     1.18,2,   -999.0,9,   -999.0,9,   3.2385
  74DI20080820, AR07W,    60,  1,      6,2,20080909,0349, 59.9172, -41.8775, 1814,   1425.5,   3.5141,  34.9273,2,  34.9307,2,   -999.0,9,    10.47,2,    16.11,2,     1.18,2,   -999.0,9,   -999.0,9,   3.4060
  74DI20080820, AR07W,    60,  1,      7,2,20080909,0349, 59.9172, -41.8775, 1814,   1325.0,   3.6417,  34.9298,2,-999.0000,9,   -999.0,9,    10.43,2,    16.37,2,     1.26,3,   -999.0,9,   -999.0,9,   3.5409
  74DI20080820, AR07W,    60,  1,      8,2,20080909,0349, 59.9172, -41.8775, 1814,   1223.4,   3.7224,  34.9310,2,-999.0000,9,    281.0,2,    10.38,2,    16.48,2,     1.19,2,   -999.0,9,   -999.0,9,   3.6295
  74DI20080820, AR07W,    60,  1,      9,2,20080909,0349, 59.9172, -41.8775, 1814,   1122.3,   3.9585,  34.9334,2,-999.0000,9,   -999.0,9,     9.88,2,    16.38,2,     1.19,2,   -999.0,9,   -999.0,9,   3.8721
  74DI20080820, AR07W,    60,  1,     10,2,20080909,0349, 59.9172, -41.8775, 1814,   1020.5,   4.0514,  34.9351,2,-999.0000,9,   -999.0,9,     9.79,2,    16.30,2,     1.19,2,   -999.0,9,   -999.0,9,   3.9729
  74DI20080820, AR07W,    60,  1,     11,2,20080909,0349, 59.9172, -41.8775, 1814,    919.5,   4.1746,  34.9356,2,  34.9391,2,   -999.0,9,     9.58,2,    16.67,2,     1.18,2,   -999.0,9,   -999.0,9,   4.1037
  74DI20080820, AR07W,    60,  1,     12,2,20080909,0349, 59.9172, -41.8775, 1814,    818.4,   4.3635,  34.9466,2,-999.0000,9,    281.9,2,     9.46,2,    16.55,2,     1.20,2,   -999.0,9,   -999.0,9,   4.2998
  74DI20080820, AR07W,    60,  1,     13,2,20080909,0349, 59.9172, -41.8775, 1814,    716.4,   4.6648,  34.9648,2,-999.0000,9,   -999.0,9,     9.25,2,    16.32,2,     1.17,2,   -999.0,9,   -999.0,9,   4.6079
  74DI20080820, AR07W,    60,  1,     14,2,20080909,0349, 59.9172, -41.8775, 1814,    614.4,   4.9768,  34.9855,2,-999.0000,9,   -999.0,9,     8.95,2,    16.49,2,     1.18,2,   -999.0,9,   -999.0,9,   4.9269
  74DI20080820, AR07W,    60,  1,     15,2,20080909,0349, 59.9172, -41.8775, 1814,    512.6,   5.2445,  35.0050,2,-999.0000,9,   -999.0,9,     8.67,2,    16.22,2,     1.18,2,   -999.0,9,   -999.0,9,   5.2022
  74DI20080820, AR07W,    60,  1,     16,2,20080909,0349, 59.9172, -41.8775, 1814,    410.4,   5.6086,  35.0326,2,-999.0000,9,   -999.0,9,     8.79,2,    16.24,2,     1.18,2,   -999.0,9,   -999.0,9,   5.5739
  74DI20080820, AR07W,    60,  1,     17,2,20080909,0349, 59.9172, -41.8775, 1814,    309.2,   6.0950,  35.0653,2,-999.0000,9,   -999.0,9,     8.08,2,    15.71,2,     1.13,2,   -999.0,9,   -999.0,9,   6.0679
  74DI20080820, AR07W,    60,  1,     18,2,20080909,0349, 59.9172, -41.8775, 1814,    258.7,   6.4121,  35.0907,2,-999.0000,9,   -999.0,9,     7.77,2,    15.75,2,     1.14,2,   -999.0,9,   -999.0,9,   6.3889
  74DI20080820, AR07W,    60,  1,     19,2,20080909,0349, 59.9172, -41.8775, 1814,    207.9,   6.7588,  35.1162,2,-999.0000,9,    274.2,2,     7.37,2,    15.44,2,     1.12,2,   -999.0,9,   -999.0,9,   6.7396
  74DI20080820, AR07W,    60,  1,     20,2,20080909,0349, 59.9172, -41.8775, 1814,    157.2,   7.2284,  35.1439,2,  35.1443,2,   -999.0,9,     6.42,2,    15.00,2,     1.08,2,   -999.0,9,   -999.0,9,   7.2134
  74DI20080820, AR07W,    60,  1,     21,2,20080909,0349, 59.9172, -41.8775, 1814,    106.8,   7.8282,  35.0890,2,-999.0000,9,   -999.0,9,     5.00,2,    13.33,2,     0.97,2,   -999.0,9,   -999.0,9,   7.8176
  74DI20080820, AR07W,    60,  1,     22,2,20080909,0349, 59.9172, -41.8775, 1814,     56.3,   8.4343,  35.0393,2,-999.0000,9,    279.2,2,     3.89,2,    10.88,2,     0.84,2,   -999.0,9,   -999.0,9,   8.4285
  74DI20080820, AR07W,    60,  1,     23,2,20080909,0349, 59.9172, -41.8775, 1814,     26.1,   9.1987,  35.0114,2,-999.0000,9,   -999.0,9,     2.90,2,     7.97,2,     0.68,2,   -999.0,9,   -999.0,9,   9.1959
  74DI20080820, AR07W,    60,  1,     24,2,20080909,0349, 59.9172, -41.8775, 1814,      7.6,   9.3245,  35.0207,2,  35.0237,2,   -999.0,9,     2.78,2,     7.76,2,     0.67,2,   -999.0,9,   -999.0,9,   9.3237
  74DI20080820, AR07W,    61,  1,      1,2,20080908,2344, 59.9422, -42.0422, 1651,   1641.4,   3.1950,  34.9217,2,  34.9244,2,   -999.0,9,    10.88,2,    15.92,2,     1.18,2,   -999.0,9,   -999.0,9,   3.0718
  74DI20080820, AR07W,    61,  1,      2,2,20080908,2344, 59.9422, -42.0422, 1651,   1641.4,   3.1928,  34.9217,2,-999.0000,9,   -999.0,9,    10.83,2,    15.90,2,     1.18,2,   -999.0,9,   -999.0,9,   3.0697
  74DI20080820, AR07W,    61,  1,      3,2,20080908,2344, 59.9422, -42.0422, 1651,   1529.3,   3.4837,  34.9265,2,-999.0000,9,   -999.0,9,    10.62,2,    15.83,2,     1.17,2,   -999.0,9,   -999.0,9,   3.3669
  74DI20080820, AR07W,    61,  1,      4,2,20080908,2344, 59.9422, -42.0422, 1651,   1426.9,   3.6959,  34.9311,2,-999.0000,9,   -999.0,9,    10.25,2,    16.12,2,     1.17,2,   -999.0,9,   -999.0,9,   3.5857
  74DI20080820, AR07W,    61,  1,      5,2,20080908,2344, 59.9422, -42.0422, 1651,   1323.5,   3.7810,  34.9296,2,-999.0000,9,   -999.0,9,    10.12,2,    15.99,2,     1.18,2,   -999.0,9,   -999.0,9,   3.6789
  74DI20080820, AR07W,    61,  1,      6,2,20080908,2344, 59.9422, -42.0422, 1651,   1220.8,   3.8911,  34.9293,2,  34.9316,2,   -999.0,9,     9.91,2,    16.08,2,     1.16,2,   -999.0,9,   -999.0,9,   3.7969
  74DI20080820, AR07W,    61,  1,      7,2,20080908,2344, 59.9422, -42.0422, 1651,   1017.4,   4.2563,  34.9435,2,-999.0000,9,   -999.0,9,     9.50,2,    16.23,2,     1.18,2,   -999.0,9,   -999.0,9,   4.1764
  74DI20080820, AR07W,    61,  1,      8,2,20080908,2344, 59.9422, -42.0422, 1651,    913.8,   4.5633,  34.9587,2,-999.0000,9,   -999.0,9,     9.25,2,    16.21,2,     1.16,2,   -999.0,9,   -999.0,9,   4.4901
  74DI20080820, AR07W,    61,  1,      9,2,20080908,2344, 59.9422, -42.0422, 1651,    811.8,   4.8385,  34.9713,2,-999.0000,9,   -999.0,9,     8.99,2,    16.03,2,     1.17,2,   -999.0,9,   -999.0,9,   4.7723
  74DI20080820, AR07W,    61,  1,     10,2,20080908,2344, 59.9422, -42.0422, 1651,    711.3,   5.1371,  34.9736,2,  34.9751,2,   -999.0,9,     8.49,2,    15.65,2,     1.13,2,   -999.0,9,   -999.0,9,   5.0780
  74DI20080820, AR07W,    61,  1,     11,2,20080908,2344, 59.9422, -42.0422, 1651,    611.5,   5.3614,  34.9752,2,-999.0000,9,   -999.0,9,     8.20,2,    15.60,2,     1.13,2,   -999.0,9,   -999.0,9,   5.3100
  74DI20080820, AR07W,    61,  1,     12,2,20080908,2344, 59.9422, -42.0422, 1651,    408.4,   5.4739,  34.9544,2,-999.0000,9,   -999.0,9,     7.62,2,    15.11,2,     1.09,2,   -999.0,9,   -999.0,9,   5.4398
  74DI20080820, AR07W,    61,  1,     13,2,20080908,2344, 59.9422, -42.0422, 1651,    307.6,   5.4027,  34.9354,2,-999.0000,9,   -999.0,9,     7.46,2,    14.92,2,     1.08,2,   -999.0,9,   -999.0,9,   5.3774
  74DI20080820, AR07W,    61,  1,     14,2,20080908,2344, 59.9422, -42.0422, 1651,    256.9,   5.2040,  34.8803,2,  34.8821,2,   -999.0,9,     6.92,2,    14.41,2,     1.04,2,   -999.0,9,   -999.0,9,   5.1834
  74DI20080820, AR07W,    61,  1,     15,2,20080908,2344, 59.9422, -42.0422, 1651,    206.1,   5.2468,  34.8702,2,-999.0000,9,   -999.0,9,     6.85,2,    14.33,2,     1.04,2,   -999.0,9,   -999.0,9,   5.2303
  74DI20080820, AR07W,    61,  1,     16,2,20080908,2344, 59.9422, -42.0422, 1651,    155.1,   5.5792,  34.9089,2,-999.0000,9,   -999.0,9,     6.72,2,    14.60,2,     1.03,2,   -999.0,9,   -999.0,9,   5.5664
  74DI20080820, AR07W,    61,  1,     17,2,20080908,2344, 59.9422, -42.0422, 1651,    124.9,   6.0536,  34.9424,2,-999.0000,9,   -999.0,9,     6.29,2,    14.15,2,     1.02,2,   -999.0,9,   -999.0,9,   6.0429
  74DI20080820, AR07W,    61,  1,     18,2,20080908,2344, 59.9422, -42.0422, 1651,     94.5,   6.2671,  34.9300,2,-999.0000,9,   -999.0,9,     5.92,2,    13.71,2,     1.00,2,   -999.0,9,   -999.0,9,   6.2589
  74DI20080820, AR07W,    61,  1,     19,2,20080908,2344, 59.9422, -42.0422, 1651,     79.3,   6.6064,  34.8695,2,-999.0000,9,   -999.0,9,     5.00,2,    12.10,2,     0.92,2,   -999.0,9,   -999.0,9,   6.5993
  74DI20080820, AR07W,    61,  1,     20,2,20080908,2344, 59.9422, -42.0422, 1651,     54.0,   6.6763,  34.8338,2,-999.0000,9,   -999.0,9,     4.62,2,    11.55,2,     0.87,2,   -999.0,9,   -999.0,9,   6.6714
  74DI20080820, AR07W,    61,  1,     21,2,20080908,2344, 59.9422, -42.0422, 1651,     43.8,   6.6387,  34.8175,2,-999.0000,9,   -999.0,9,     4.57,2,    11.25,2,     0.86,2,   -999.0,9,   -999.0,9,   6.6348
  74DI20080820, AR07W,    61,  1,     22,2,20080908,2344, 59.9422, -42.0422, 1651,     30.6,   6.8317,  34.7833,2,  34.7847,2,   -999.0,9,     4.10,2,    10.29,2,     0.81,2,   -999.0,9,   -999.0,9,   6.8289
  74DI20080820, AR07W,    61,  1,     23,2,20080908,2344, 59.9422, -42.0422, 1651,     18.5,   7.9501,  34.8400,2,-999.0000,9,   -999.0,9,     3.28,2,     8.34,2,     0.69,2,   -999.0,9,   -999.0,9,   7.9483
  74DI20080820, AR07W,    61,  1,     24,2,20080908,2344, 59.9422, -42.0422, 1651,      8.3,   8.6267,  34.9064,2,-999.0000,9,   -999.0,9,     2.92,2,     7.92,2,     0.67,2,   -999.0,9,   -999.0,9,   8.6258
  74DI20080820, AR07W,    62,  1,      1,2,20080908,2050, 59.9527, -42.1065, 1381,   1371.5,   3.4991,  34.9266,2,  34.9291,2,   -999.0,9,  -999.00,9,  -999.00,9,  -999.00,9,   -999.0,9,   -999.0,9,   3.3958
  74DI20080820, AR07W,    62,  1,      2,2,20080908,2050, 59.9527, -42.1065, 1381,   1371.7,   3.4992,  34.9266,2,-999.0000,9,    283.3,2,    10.55,2,    16.06,2,     1.17,2,   -999.0,9,   -999.0,9,   3.3959
  74DI20080820, AR07W,    62,  1,      3,2,20080908,2050, 59.9527, -42.1065, 1381,   1323.6,   3.6429,  34.9281,2,-999.0000,9,   -999.0,9,  -999.00,9,  -999.00,9,  -999.00,9,   -999.0,9,   -999.0,9,   3.5422
  74DI20080820, AR07W,    62,  1,      4,2,20080908,2050, 59.9527, -42.1065, 1381,   1323.7,   3.6428,  34.9281,2,-999.0000,9,   -999.0,9,    10.37,2,    16.15,2,     1.19,2,   -999.0,9,   -999.0,9,   3.5421
  74DI20080820, AR07W,    62,  1,      5,2,20080908,2050, 59.9527, -42.1065, 1381,   1168.2,   4.1411,  34.9387,2,-999.0000,9,    281.3,2,  -999.00,9,  -999.00,9,  -999.00,9,   -999.0,9,   -999.0,9,   4.0491
  74DI20080820, AR07W,    62,  1,      6,2,20080908,2050, 59.9527, -42.1065, 1381,   1168.1,   4.1485,  34.9390,2,-999.0000,9,   -999.0,9,     9.73,2,    16.20,2,     1.17,2,   -999.0,9,   -999.0,9,   4.0565
  74DI20080820, AR07W,    62,  1,      7,2,20080908,2050, 59.9527, -42.1065, 1381,   1015.8,   4.7166,  34.9659,2,-999.0000,9,    281.1,2,  -999.00,9,  -999.00,9,  -999.00,9,   -999.0,9,   -999.0,9,   4.6333
  74DI20080820, AR07W,    62,  1,      8,2,20080908,2050, 59.9527, -42.1065, 1381,   1015.9,   4.7161,  34.9659,2,-999.0000,9,   -999.0,9,     9.17,2,    16.25,2,     1.16,2,   -999.0,9,   -999.0,9,   4.6328
  74DI20080820, AR07W,    62,  1,      9,2,20080908,2050, 59.9527, -42.1065, 1381,    915.0,   4.9881,  34.9777,2,  34.9800,2,   -999.0,9,  -999.00,9,  -999.00,9,  -999.00,9,   -999.0,9,   -999.0,9,   4.9118
  74DI20080820, AR07W,    62,  1,     10,2,20080908,2050, 59.9527, -42.1065, 1381,    915.0,   4.9889,  34.9777,2,-999.0000,9,   -999.0,9,     8.94,2,    16.05,2,     1.16,2,   -999.0,9,   -999.0,9,   4.9126
  74DI20080820, AR07W,    62,  1,     11,2,20080908,2050, 59.9527, -42.1065, 1381,    711.2,   5.2348,  34.9685,2,-999.0000,9,    280.9,2,  -999.00,9,  -999.00,9,  -999.00,9,   -999.0,9,   -999.0,9,   5.1752
  74DI20080820, AR07W,    62,  1,     12,2,20080908,2050, 59.9527, -42.1065, 1381,    711.3,   5.2352,  34.9686,2,-999.0000,9,   -999.0,9,     8.38,2,    15.47,2,     1.11,2,   -999.0,9,   -999.0,9,   5.1756
  74DI20080820, AR07W,    62,  1,     13,2,20080908,2050, 59.9527, -42.1065, 1381,    610.1,   5.2658,  34.9640,2,-999.0000,9,   -999.0,9,  -999.00,9,  -999.00,9,  -999.00,9,   -999.0,9,   -999.0,9,   5.2150
  74DI20080820, AR07W,    62,  1,     14,2,20080908,2050, 59.9527, -42.1065, 1381,    610.0,   5.2687,  34.9638,2,-999.0000,9,   -999.0,9,     8.23,2,    15.43,2,     1.12,2,   -999.0,9,   -999.0,9,   5.2179
  74DI20080820, AR07W,    62,  1,     15,2,20080908,2050, 59.9527, -42.1065, 1381,    394.8,   5.5560,  34.9684,2,  34.9697,2,   -999.0,9,  -999.00,9,  -999.00,9,  -999.00,9,   -999.0,9,   -999.0,9,   5.5228
  74DI20080820, AR07W,    62,  1,     16,2,20080908,2050, 59.9527, -42.1065, 1381,    394.8,   5.5553,  34.9683,2,-999.0000,9,   -999.0,9,     7.67,2,    15.25,2,     1.08,2,   -999.0,9,   -999.0,9,   5.5221
  74DI20080820, AR07W,    62,  1,     17,2,20080908,2050, 59.9527, -42.1065, 1381,    204.2,   5.3303,  34.8786,2,  34.8805,2,    289.2,2,  -999.00,9,  -999.00,9,  -999.00,9,   -999.0,9,   -999.0,9,   5.3138
  74DI20080820, AR07W,    62,  1,     18,2,20080908,2050, 59.9527, -42.1065, 1381,    204.3,   5.3307,  34.8786,2,-999.0000,9,   -999.0,9,     6.83,2,    14.25,2,     1.03,2,   -999.0,9,   -999.0,9,   5.3142
  74DI20080820, AR07W,    62,  1,     19,2,20080908,2050, 59.9527, -42.1065, 1381,    103.0,   5.8197,  34.8659,2,-999.0000,9,   -999.0,9,  -999.00,9,  -999.00,9,  -999.00,9,   -999.0,9,   -999.0,9,   5.8111
  74DI20080820, AR07W,    62,  1,     20,2,20080908,2050, 59.9527, -42.1065, 1381,    102.9,   5.8256,  34.8666,2,-999.0000,9,   -999.0,9,     5.95,2,    13.40,2,     0.97,2,   -999.0,9,   -999.0,9,   5.8170
  74DI20080820, AR07W,    62,  1,     21,2,20080908,2050, 59.9527, -42.1065, 1381,     52.3,   6.4834,  34.8448,2,-999.0000,9,   -999.0,9,  -999.00,9,  -999.00,9,  -999.00,9,   -999.0,9,   -999.0,9,   6.4788
  74DI20080820, AR07W,    62,  1,     22,2,20080908,2050, 59.9527, -42.1065, 1381,     52.3,   6.4894,  34.8455,2,-999.0000,9,   -999.0,9,     4.95,2,    11.90,2,     0.89,2,   -999.0,9,   -999.0,9,   6.4848
  74DI20080820, AR07W,    62,  1,     23,2,20080908,2050, 59.9527, -42.1065, 1381,      6.7,   7.9851,  34.6894,2,-999.0000,9,   -999.0,9,  -999.00,9,  -999.00,9,  -999.00,9,   -999.0,9,   -999.0,9,   7.9844
  74DI20080820, AR07W,    62,  1,     24,2,20080908,2050, 59.9527, -42.1065, 1381,      6.7,   7.9568,  34.6768,2,  34.6942,2,   -999.0,9,     2.90,2,     7.24,2,     0.60,2,   -999.0,9,   -999.0,9,   7.9561