BOTTLE,20150217PRINUNIVRMK
EXPOCODE,SECT_ID,STNNBR,CASTNO,BTLNBR,BTLNBR_FLAG_W,DATE,TIME,LATITUDE,LONGITUDE,DEPTH,CTDPRS,CTDTMP,CTDSAL,CTDSAL_FLAG_W,SALNTY,SALNTY_FLAG_W,OXYGEN,OXYGEN_FLAG_W,SILCAT,SILCAT_FLAG_W,NITRAT,NITRAT_FLAG_W,PHSPHT,PHSPHT_FLAG_W,TCARBN,TCARBN_FLAG_W,ALKALI,ALKALI_FLAG_W,THETA
,,,,,,,,,,METERS,DBAR,ITS-90,PSS-78,,PSS-78,,UMOL/KG,,UMOL/KG,,UMOL/KG,,UMOL/KG,,UMOL/KG,,UMOL/KG,,DEG C
  74DI20080820, AR07W,    68,  1,      1,2,20080914,1609, 59.2435, -36.3704, 3115,   3073.5,   2.4589,  34.9176,2,  34.9202,2,    288.5,2,    12.74,2,    15.44,2,     1.12,2,   -999.0,9,   -999.0,9,   2.2124
  74DI20080820, AR07W,    68,  1,      2,2,20080914,1609, 59.2435, -36.3704, 3115,   2963.1,   2.5841,  34.9216,2,-999.0000,9,   -999.0,9,    13.42,2,    15.83,2,     1.15,2,   -999.0,9,   -999.0,9,   2.3461
  74DI20080820, AR07W,    68,  1,      3,2,20080914,1609, 59.2435, -36.3704, 3115,   2859.4,   2.7024,  34.9257,2,-999.0000,9,   -999.0,9,    13.89,2,    16.10,2,     1.16,2,   -999.0,9,   -999.0,9,   2.4725
  74DI20080820, AR07W,    68,  1,      4,2,20080914,1609, 59.2435, -36.3704, 3115,   2753.8,   2.8347,  34.9301,2,-999.0000,9,   -999.0,9,    14.07,2,    16.40,2,     1.18,2,   -999.0,9,   -999.0,9,   2.6127
  74DI20080820, AR07W,    68,  1,      5,2,20080914,1609, 59.2435, -36.3704, 3115,   2650.3,   2.9077,  34.9314,2,-999.0000,9,   -999.0,9,    13.96,2,    16.81,2,     1.19,2,   -999.0,9,   -999.0,9,   2.6946
  74DI20080820, AR07W,    68,  1,      6,2,20080914,1609, 59.2435, -36.3704, 3115,   2551.8,   2.9768,  34.9343,2,  34.9366,2,   -999.0,9,    13.84,2,    16.55,2,     1.18,2,   -999.0,9,   -999.0,9,   2.7722
  74DI20080820, AR07W,    68,  1,      7,2,20080914,1609, 59.2435, -36.3704, 3115,   2451.8,   3.0140,  34.9329,2,-999.0000,9,    282.0,2,    13.60,2,    16.67,2,     1.18,2,   -999.0,9,   -999.0,9,   2.8185
  74DI20080820, AR07W,    68,  1,      8,2,20080914,1609, 59.2435, -36.3704, 3115,   2350.5,   3.0631,  34.9332,2,-999.0000,9,   -999.0,9,    13.30,2,    16.60,2,     1.18,2,   -999.0,9,   -999.0,9,   2.8766
  74DI20080820, AR07W,    68,  1,      9,2,20080914,1609, 59.2435, -36.3704, 3115,   2249.2,   3.1306,  34.9348,2,-999.0000,9,   -999.0,9,    12.94,2,    16.60,2,     1.19,2,   -999.0,9,   -999.0,9,   2.9527
  74DI20080820, AR07W,    68,  1,     10,2,20080914,1609, 59.2435, -36.3704, 3115,   2146.2,   3.1875,  34.9344,2,-999.0000,9,   -999.0,9,  -999.00,9,  -999.00,9,  -999.00,9,   -999.0,9,   -999.0,9,   3.0185
  74DI20080820, AR07W,    68,  1,     11,2,20080914,1609, 59.2435, -36.3704, 3115,   2044.4,   3.2473,  34.9332,2,  34.9363,2,   -999.0,9,    12.24,2,    16.58,2,     1.19,2,   -999.0,9,   -999.0,9,   3.0869
  74DI20080820, AR07W,    68,  1,     12,2,20080914,1609, 59.2435, -36.3704, 3115,   1837.5,   3.3541,  34.9318,2,-999.0000,9,   -999.0,9,    11.81,2,    16.71,2,     1.20,2,   -999.0,9,   -999.0,9,   3.2113
  74DI20080820, AR07W,    68,  1,     13,2,20080914,1609, 59.2435, -36.3704, 3115,   1634.9,   3.5150,  34.9338,2,-999.0000,9,    281.3,2,    11.57,2,    16.92,2,     1.20,2,   -999.0,9,   -999.0,9,   3.3884
  74DI20080820, AR07W,    68,  1,     14,2,20080914,1609, 59.2435, -36.3704, 3115,   1430.0,   3.6256,  34.9222,2,-999.0000,9,   -999.0,9,    11.29,2,    17.08,2,     1.21,2,   -999.0,9,   -999.0,9,   3.5159
  74DI20080820, AR07W,    68,  1,     15,2,20080914,1609, 59.2435, -36.3704, 3115,   1225.8,   3.6736,  34.9023,2,-999.0000,9,   -999.0,9,    10.79,2,    17.18,2,     1.21,2,   -999.0,9,   -999.0,9,   3.5810
  74DI20080820, AR07W,    68,  1,     16,2,20080914,1609, 59.2435, -36.3704, 3115,   1021.2,   3.7015,  34.8781,2,-999.0000,9,   -999.0,9,     9.78,2,    16.86,2,     1.19,2,   -999.0,9,   -999.0,9,   3.6258
  74DI20080820, AR07W,    68,  1,     17,2,20080914,1609, 59.2435, -36.3704, 3115,    815.4,   3.9394,  34.8948,2,-999.0000,9,    296.3,2,     9.22,2,    16.72,2,     1.17,2,   -999.0,9,   -999.0,9,   3.8787
  74DI20080820, AR07W,    68,  1,     18,2,20080914,1609, 59.2435, -36.3704, 3115,    613.0,   4.1164,  34.9066,2,-999.0000,9,   -999.0,9,     9.06,2,    16.48,2,     1.17,2,   -999.0,9,   -999.0,9,   4.0708
  74DI20080820, AR07W,    68,  1,     19,2,20080914,1609, 59.2435, -36.3704, 3115,    410.4,   4.7910,  34.9458,2,-999.0000,9,   -999.0,9,     9.90,2,    17.43,2,     1.23,2,   -999.0,9,   -999.0,9,   4.7589
  74DI20080820, AR07W,    68,  1,     20,2,20080914,1609, 59.2435, -36.3704, 3115,    208.5,   5.6640,  34.9557,2,  34.9584,2,   -999.0,9,     8.84,2,    16.92,2,     1.18,2,   -999.0,9,   -999.0,9,   5.6466
  74DI20080820, AR07W,    68,  1,     21,2,20080914,1609, 59.2435, -36.3704, 3115,    108.1,   6.4167,  34.9952,2,-999.0000,9,   -999.0,9,  -999.00,9,  -999.00,9,  -999.00,9,   -999.0,9,   -999.0,9,   6.4071
  74DI20080820, AR07W,    68,  1,     22,2,20080914,1609, 59.2435, -36.3704, 3115,     82.9,   6.3960,  34.9519,2,-999.0000,9,    281.7,2,     7.09,2,    15.34,2,     1.10,2,   -999.0,9,   -999.0,9,   6.3887
  74DI20080820, AR07W,    68,  1,     23,2,20080914,1609, 59.2435, -36.3704, 3115,     36.8,  10.0168,  34.8902,2,-999.0000,9,   -999.0,9,     1.62,2,     6.99,2,     0.60,2,   -999.0,9,   -999.0,9,  10.0126
  74DI20080820, AR07W,    68,  1,     24,2,20080914,1609, 59.2435, -36.3704, 3115,     11.3,  10.0341,  34.8915,2,  34.8946,2,   -999.0,9,     1.63,2,     7.01,2,     0.59,2,   -999.0,9,   -999.0,9,  10.0328
  74DI20080820, AR07W,    69,  1,      1,2,20080914,2306, 59.1898, -34.9403, 3003,   2532.9,   2.9332,  34.9326,2,  34.9343,2,   -999.0,9,    13.88,2,    16.58,2,     1.18,2,   -999.0,9,   -999.0,9,   2.7313
  74DI20080820, AR07W,    69,  1,      2,2,20080914,2306, 59.1898, -34.9403, 3003,   2533.2,   2.9340,  34.9326,2,-999.0000,9,    282.3,2,    13.89,2,    16.47,2,     1.18,2,   -999.0,9,   -999.0,9,   2.7320
  74DI20080820, AR07W,    69,  1,      3,2,20080914,2306, 59.1898, -34.9403, 3003,   2436.4,   2.9798,  34.9330,2,-999.0000,9,   -999.0,9,    13.76,2,    16.56,2,     1.18,2,   -999.0,9,   -999.0,9,   2.7864
  74DI20080820, AR07W,    69,  1,      4,2,20080914,2306, 59.1898, -34.9403, 3003,   2338.4,   3.0058,  34.9336,2,-999.0000,9,   -999.0,9,    13.63,2,    16.59,2,     1.18,2,   -999.0,9,   -999.0,9,   2.8215
  74DI20080820, AR07W,    69,  1,      5,2,20080914,2306, 59.1898, -34.9403, 3003,   2237.2,   3.0679,  34.9346,2,-999.0000,9,   -999.0,9,    13.36,2,    16.60,2,     1.19,2,   -999.0,9,   -999.0,9,   2.8922
  74DI20080820, AR07W,    69,  1,      6,2,20080914,2306, 59.1898, -34.9403, 3003,   2137.5,   3.1517,  34.9399,2,-999.0000,9,   -999.0,9,    13.06,2,    16.85,2,     1.19,2,   -999.0,9,   -999.0,9,   2.9840
  74DI20080820, AR07W,    69,  1,      7,2,20080914,2306, 59.1898, -34.9403, 3003,   2037.3,   3.1964,  34.9372,2,-999.0000,9,   -999.0,9,    12.04,2,    16.71,2,     1.19,2,   -999.0,9,   -999.0,9,   3.0374
  74DI20080820, AR07W,    69,  1,      8,2,20080914,2306, 59.1898, -34.9403, 3003,   1833.2,   3.2385,  34.9183,2,  34.9206,2,   -999.0,9,    12.09,2,    16.90,2,     1.19,2,   -999.0,9,   -999.0,9,   3.0977
  74DI20080820, AR07W,    69,  1,      9,2,20080914,2306, 59.1898, -34.9403, 3003,   1627.2,   3.3434,  34.9162,2,-999.0000,9,   -999.0,9,    11.80,2,    17.00,2,     1.20,2,   -999.0,9,   -999.0,9,   3.2197
  74DI20080820, AR07W,    69,  1,     10,2,20080914,2306, 59.1898, -34.9403, 3003,   1423.4,   3.5538,  34.9241,2,-999.0000,9,   -999.0,9,  -999.00,9,  -999.00,9,  -999.00,9,   -999.0,9,   -999.0,9,   3.4454
  74DI20080820, AR07W,    69,  1,     11,2,20080914,2306, 59.1898, -34.9403, 3003,   1222.3,   3.7024,  34.9204,2,-999.0000,9,   -999.0,9,    11.26,2,    17.31,2,     1.21,2,   -999.0,9,   -999.0,9,   3.6098
  74DI20080820, AR07W,    69,  1,     12,2,20080914,2306, 59.1898, -34.9403, 3003,   1017.5,   3.8027,  34.9069,2,  34.9095,2,   -999.0,9,    10.73,2,    17.43,2,     1.23,2,   -999.0,9,   -999.0,9,   3.7264
  74DI20080820, AR07W,    69,  1,     13,2,20080914,2306, 59.1898, -34.9403, 3003,    916.6,   3.8811,  34.9041,2,-999.0000,9,   -999.0,9,    10.45,2,    17.25,2,     1.21,2,   -999.0,9,   -999.0,9,   3.8125
  74DI20080820, AR07W,    69,  1,     14,2,20080914,2306, 59.1898, -34.9403, 3003,    815.5,   4.0111,  34.9113,2,-999.0000,9,    286.5,2,     9.98,2,    17.16,2,     1.20,2,   -999.0,9,   -999.0,9,   3.9499
  74DI20080820, AR07W,    69,  1,     15,2,20080914,2306, 59.1898, -34.9403, 3003,    713.6,   4.0815,  34.9098,2,-999.0000,9,   -999.0,9,     9.66,2,    17.04,2,     1.19,2,   -999.0,9,   -999.0,9,   4.0281
  74DI20080820, AR07W,    69,  1,     16,2,20080914,2306, 59.1898, -34.9403, 3003,    611.9,   4.1983,  34.9173,2,-999.0000,9,   -999.0,9,     9.82,2,    17.36,2,     1.21,2,   -999.0,9,   -999.0,9,   4.1524
  74DI20080820, AR07W,    69,  1,     17,2,20080914,2306, 59.1898, -34.9403, 3003,    509.2,   4.5325,  34.9400,2,-999.0000,9,   -999.0,9,     9.58,2,    16.82,2,     1.19,2,   -999.0,9,   -999.0,9,   4.4934
  74DI20080820, AR07W,    69,  1,     18,2,20080914,2306, 59.1898, -34.9403, 3003,    407.1,   5.4113,  35.0397,2,-999.0000,9,    248.2,2,    10.97,2,    17.80,2,     1.25,2,   -999.0,9,   -999.0,9,   5.3775
  74DI20080820, AR07W,    69,  1,     19,2,20080914,2306, 59.1898, -34.9403, 3003,    306.4,   5.5432,  35.0065,2,-999.0000,9,   -999.0,9,    10.21,2,    17.46,2,     1.23,2,   -999.0,9,   -999.0,9,   5.5177
  74DI20080820, AR07W,    69,  1,     20,2,20080914,2306, 59.1898, -34.9403, 3003,    254.3,   5.8223,  34.9946,2,  34.9961,2,    272.7,2,     9.06,2,    16.85,2,     1.18,2,   -999.0,9,   -999.0,9,   5.8007
  74DI20080820, AR07W,    69,  1,     21,2,20080914,2306, 59.1898, -34.9403, 3003,    205.3,   6.2538,  35.0204,2,-999.0000,9,   -999.0,9,     8.25,2,    16.40,2,     1.15,2,   -999.0,9,   -999.0,9,   6.2357
  74DI20080820, AR07W,    69,  1,     22,2,20080914,2306, 59.1898, -34.9403, 3003,    104.1,   6.8826,  35.0265,2,-999.0000,9,   -999.0,9,     6.75,2,    15.68,2,     1.10,2,   -999.0,9,   -999.0,9,   6.8730
  74DI20080820, AR07W,    69,  1,     23,2,20080914,2306, 59.1898, -34.9403, 3003,     38.3,  10.7937,  35.0618,2,  35.0640,2,   -999.0,9,     1.21,2,     5.73,2,     0.51,2,   -999.0,9,   -999.0,9,  10.7891
  74DI20080820, AR07W,    69,  1,     24,2,20080914,2306, 59.1898, -34.9403, 3003,     10.0,  10.7883,  35.0611,2,-999.0000,9,    272.9,2,     1.19,2,     5.57,2,     0.50,2,   -999.0,9,   -999.0,9,  10.7871
  74DI20080820, AR07W,    70,  1,      1,2,20080915,0721, 59.0161, -32.9897, 2374,   2291.9,   3.2086,  34.9449,2,-999.0000,9,   -999.0,9,  -999.00,9,  -999.00,9,  -999.00,9,   -999.0,9,   -999.0,9,   3.0252
  74DI20080820, AR07W,    70,  1,      2,2,20080915,0721, 59.0161, -32.9897, 2374,   2291.9,   3.2085,  34.9449,2,  34.9473,2,    280.6,2,    13.10,2,    16.74,2,     1.19,2,   -999.0,9,   -999.0,9,   3.0251
  74DI20080820, AR07W,    70,  1,      3,2,20080915,0721, 59.0161, -32.9897, 2374,   2241.6,   3.2087,  34.9450,2,-999.0000,9,   -999.0,9,    13.06,2,    16.60,2,     1.18,2,   -999.0,9,   -999.0,9,   3.0302
  74DI20080820, AR07W,    70,  1,      4,2,20080915,0721, 59.0161, -32.9897, 2374,   2140.2,   3.2384,  34.9456,2,-999.0000,9,   -999.0,9,    12.82,2,    16.73,2,     1.19,2,   -999.0,9,   -999.0,9,   3.0691
  74DI20080820, AR07W,    70,  1,      5,2,20080915,0721, 59.0161, -32.9897, 2374,   2038.4,   3.3009,  34.9468,2,  34.9486,2,   -999.0,9,    12.51,2,    16.55,2,     1.17,2,   -999.0,9,   -999.0,9,   3.1402
  74DI20080820, AR07W,    70,  1,      6,2,20080915,0721, 59.0161, -32.9897, 2374,   1833.6,   3.3446,  34.9347,2,-999.0000,9,   -999.0,9,  -999.00,9,  -999.00,9,  -999.00,9,   -999.0,9,   -999.0,9,   3.2023
  74DI20080820, AR07W,    70,  1,      7,2,20080915,0721, 59.0161, -32.9897, 2374,   1628.8,   3.4229,  34.9238,2,-999.0000,9,    275.6,2,    11.62,2,    16.97,2,     1.20,2,   -999.0,9,   -999.0,9,   3.2980
  74DI20080820, AR07W,    70,  1,      8,2,20080915,0721, 59.0161, -32.9897, 2374,   1423.7,   3.5577,  34.9217,2,-999.0000,9,   -999.0,9,    11.40,2,    17.01,2,     1.19,2,   -999.0,9,   -999.0,9,   3.4493
  74DI20080820, AR07W,    70,  1,      9,2,20080915,0721, 59.0161, -32.9897, 2374,   1220.2,   3.6849,  34.9147,2,-999.0000,9,   -999.0,9,    11.11,2,    17.13,2,     1.20,2,   -999.0,9,   -999.0,9,   3.5927
  74DI20080820, AR07W,    70,  1,     10,2,20080915,0721, 59.0161, -32.9897, 2374,   1016.7,   3.9371,  34.9230,2,  34.9249,2,   -999.0,9,    11.13,2,    17.72,2,     1.23,2,   -999.0,9,   -999.0,9,   3.8598
  74DI20080820, AR07W,    70,  1,     11,2,20080915,0721, 59.0161, -32.9897, 2374,    915.8,   4.0884,  34.9306,2,-999.0000,9,    273.1,2,    11.00,2,    17.61,2,     1.23,2,   -999.0,9,   -999.0,9,   4.0184
  74DI20080820, AR07W,    70,  1,     12,2,20080915,0721, 59.0161, -32.9897, 2374,    813.4,   4.2335,  34.9390,2,-999.0000,9,   -999.0,9,    10.87,2,    17.47,2,     1.24,2,   -999.0,9,   -999.0,9,   4.1710
  74DI20080820, AR07W,    70,  1,     13,2,20080915,0721, 59.0161, -32.9897, 2374,    712.2,   4.5214,  34.9583,2,-999.0000,9,   -999.0,9,    10.91,2,    17.76,2,     1.25,2,   -999.0,9,   -999.0,9,   4.4656
  74DI20080820, AR07W,    70,  1,     14,2,20080915,0721, 59.0161, -32.9897, 2374,    609.3,   4.6478,  34.9509,2,-999.0000,9,   -999.0,9,     9.94,2,    17.07,2,     1.20,2,   -999.0,9,   -999.0,9,   4.6000
  74DI20080820, AR07W,    70,  1,     15,2,20080915,0721, 59.0161, -32.9897, 2374,    507.5,   5.1698,  34.9981,2,  34.9991,2,   -999.0,9,    10.27,2,    17.60,2,     1.23,2,   -999.0,9,   -999.0,9,   5.1283
  74DI20080820, AR07W,    70,  1,     16,2,20080915,0721, 59.0161, -32.9897, 2374,    406.8,   5.5593,  34.9998,2,-999.0000,9,    268.6,2,     9.53,2,    17.29,2,     1.20,2,   -999.0,9,   -999.0,9,   5.5251
  74DI20080820, AR07W,    70,  1,     17,2,20080915,0721, 59.0161, -32.9897, 2374,    306.4,   6.2083,  35.0445,2,-999.0000,9,   -999.0,9,     9.13,2,    17.00,2,     1.19,2,   -999.0,9,   -999.0,9,   6.1812
  74DI20080820, AR07W,    70,  1,     18,2,20080915,0721, 59.0161, -32.9897, 2374,    255.7,   6.5173,  35.0678,2,-999.0000,9,   -999.0,9,     8.64,2,    16.53,2,     1.15,2,   -999.0,9,   -999.0,9,   6.4941
  74DI20080820, AR07W,    70,  1,     19,2,20080915,0721, 59.0161, -32.9897, 2374,    204.6,   6.5879,  35.0472,2,-999.0000,9,   -999.0,9,     8.13,2,    16.35,2,     1.13,2,   -999.0,9,   -999.0,9,   6.5693
  74DI20080820, AR07W,    70,  1,     20,2,20080915,0721, 59.0161, -32.9897, 2374,    154.3,   6.8690,  35.0670,2,  35.0717,2,   -999.0,9,     7.68,2,    15.87,2,     1.11,2,   -999.0,9,   -999.0,9,   6.8547
  74DI20080820, AR07W,    70,  1,     21,2,20080915,0721, 59.0161, -32.9897, 2374,    103.4,   6.9575,  35.0396,2,-999.0000,9,   -999.0,9,     7.14,2,    15.59,2,     1.09,2,   -999.0,9,   -999.0,9,   6.9479
  74DI20080820, AR07W,    70,  1,     22,2,20080915,0721, 59.0161, -32.9897, 2374,     53.3,   9.5889,  34.9327,2,-999.0000,9,    275.5,2,     2.80,2,     9.50,2,     0.75,2,   -999.0,9,   -999.0,9,   9.5829
  74DI20080820, AR07W,    70,  1,     23,2,20080915,0721, 59.0161, -32.9897, 2374,     28.0,  10.4847,  34.9647,2,-999.0000,9,   -999.0,9,     1.25,2,     6.33,2,     0.55,2,   -999.0,9,   -999.0,9,  10.4814
  74DI20080820, AR07W,    70,  1,     24,2,20080915,0721, 59.0161, -32.9897, 2374,      7.8,  10.4907,  34.9653,2,-999.0000,9,   -999.0,9,     1.23,2,     6.39,2,     0.54,2,   -999.0,9,   -999.0,9,  10.4898