BOTTLE,20150217PRINUNIVRMK
EXPOCODE,SECT_ID,STNNBR,CASTNO,BTLNBR,BTLNBR_FLAG_W,DATE,TIME,LATITUDE,LONGITUDE,DEPTH,CTDPRS,CTDTMP,CTDSAL,CTDSAL_FLAG_W,SALNTY,SALNTY_FLAG_W,OXYGEN,OXYGEN_FLAG_W,SILCAT,SILCAT_FLAG_W,NITRAT,NITRAT_FLAG_W,PHSPHT,PHSPHT_FLAG_W,TCARBN,TCARBN_FLAG_W,ALKALI,ALKALI_FLAG_W,THETA
,,,,,,,,,,METERS,DBAR,ITS-90,PSS-78,,PSS-78,,UMOL/KG,,UMOL/KG,,UMOL/KG,,UMOL/KG,,UMOL/KG,,UMOL/KG,,DEG C
  74DI20080820, AR07W,    28,  1,      1,2,20080830,0010, 60.3212, -48.6403, 2791,   2781.9,   2.7857,  34.9141,2,  34.9160,2,   -999.0,9,    11.47,2,    15.20,2,     1.11,2,   -999.0,9,   -999.0,9,   2.5619
  74DI20080820, AR07W,    28,  1,      2,2,20080830,0010, 60.3212, -48.6403, 2791,   2781.9,   2.7863,  34.9141,2,-999.0000,9,   -999.0,9,    11.47,2,    15.21,2,     1.11,2,   -999.0,9,   -999.0,9,   2.5625
  74DI20080820, AR07W,    28,  1,      3,2,20080830,0010, 60.3212, -48.6403, 2791,   2543.3,   2.8514,  34.9143,2,-999.0000,9,    289.0,2,    11.22,2,    15.23,2,     1.11,2,   -999.0,9,   -999.0,9,   2.6500
  74DI20080820, AR07W,    28,  1,      4,2,20080830,0010, 60.3212, -48.6403, 2791,   2288.2,   2.9214,  34.9154,2,-999.0000,9,   -999.0,9,    11.10,2,    15.22,2,     1.11,2,   -999.0,9,   -999.0,9,   2.7434
  74DI20080820, AR07W,    28,  1,      5,2,20080830,0010, 60.3212, -48.6403, 2791,   2036.5,   3.0110,  34.9160,2,-999.0000,9,   -999.0,9,    11.04,2,    15.23,2,     1.11,2,   -999.0,9,   -999.0,9,   2.8550
  74DI20080820, AR07W,    28,  1,      6,2,20080830,0010, 60.3212, -48.6403, 2791,   1785.8,   3.2712,  34.9168,2,-999.0000,9,   -999.0,9,  -999.00,9,  -999.00,9,  -999.00,9,   -999.0,9,   -999.0,9,   3.1342
  74DI20080820, AR07W,    28,  1,      7,2,20080830,0010, 60.3212, -48.6403, 2791,   1529.4,   3.5086,  34.9217,2,  34.9236,2,   -999.0,9,    10.71,2,    15.79,2,     1.15,2,   -999.0,9,   -999.0,9,   3.3915
  74DI20080820, AR07W,    28,  1,      8,2,20080830,0010, 60.3212, -48.6403, 2791,   1380.3,   3.6247,  34.9218,2,-999.0000,9,    280.3,2,    10.58,2,    16.06,2,     1.16,2,   -999.0,9,   -999.0,9,   3.5193
  74DI20080820, AR07W,    28,  1,      9,2,20080830,0010, 60.3212, -48.6403, 2791,   1176.7,   3.7310,  34.9030,2,-999.0000,9,   -999.0,9,    10.07,2,    16.27,2,     1.17,2,   -999.0,9,   -999.0,9,   3.6420
  74DI20080820, AR07W,    28,  1,     10,2,20080830,0010, 60.3212, -48.6403, 2791,   1022.9,   3.8172,  34.8941,2,-999.0000,9,   -999.0,9,     9.07,2,    15.79,2,     1.13,2,   -999.0,9,   -999.0,9,   3.7404
  74DI20080820, AR07W,    28,  1,     11,2,20080830,0010, 60.3212, -48.6403, 2791,    819.5,   4.2205,  34.9208,2,-999.0000,9,    292.5,2,     8.94,2,    15.87,2,     1.14,2,   -999.0,9,   -999.0,9,   4.1576
  74DI20080820, AR07W,    28,  1,     12,2,20080830,0010, 60.3212, -48.6403, 2791,    615.6,   4.7786,  34.9675,2,-999.0000,9,   -999.0,9,     8.77,2,    15.51,2,     1.12,2,   -999.0,9,   -999.0,9,   4.7296
  74DI20080820, AR07W,    28,  1,     13,2,20080830,0010, 60.3212, -48.6403, 2791,    463.3,   5.2186,  34.9958,2,  34.9975,2,   -999.0,9,     8.35,2,    15.33,2,     1.10,2,   -999.0,9,   -999.0,9,   5.1806
  74DI20080820, AR07W,    28,  1,     14,2,20080830,0010, 60.3212, -48.6403, 2791,    362.1,   5.3504,  34.9903,2,-999.0000,9,   -999.0,9,     7.96,2,    14.93,2,     1.07,2,   -999.0,9,   -999.0,9,   5.3206
  74DI20080820, AR07W,    28,  1,     15,2,20080830,0010, 60.3212, -48.6403, 2791,    285.8,   5.4668,  34.9942,2,-999.0000,9,   -999.0,9,     7.75,2,    14.69,2,     1.06,2,   -999.0,9,   -999.0,9,   5.4432
  74DI20080820, AR07W,    28,  1,     16,2,20080830,0010, 60.3212, -48.6403, 2791,    260.6,   5.5079,  34.9938,2,-999.0000,9,   -999.0,9,     7.65,2,    14.66,2,     1.06,2,   -999.0,9,   -999.0,9,   5.4863
  74DI20080820, AR07W,    28,  1,     17,2,20080830,0010, 60.3212, -48.6403, 2791,    209.9,   5.4789,  34.9705,2,  34.9698,2,   -999.0,9,     7.28,2,    14.33,2,     1.04,2,   -999.0,9,   -999.0,9,   5.4617
  74DI20080820, AR07W,    28,  1,     18,2,20080830,0010, 60.3212, -48.6403, 2791,    159.0,   5.6042,  34.9563,2,-999.0000,9,    287.8,2,     6.97,2,    14.24,2,     1.02,2,   -999.0,9,   -999.0,9,   5.5911
  74DI20080820, AR07W,    28,  1,     19,2,20080830,0010, 60.3212, -48.6403, 2791,     82.3,   6.0264,  34.9475,2,-999.0000,9,   -999.0,9,     6.18,2,    13.49,2,     1.00,2,   -999.0,9,   -999.0,9,   6.0194
  74DI20080820, AR07W,    28,  1,     20,2,20080830,0010, 60.3212, -48.6403, 2791,     62.2,   6.2865,  34.8184,2,-999.0000,9,   -999.0,9,     5.24,2,    11.84,2,     0.92,2,   -999.0,9,   -999.0,9,   6.2811
  74DI20080820, AR07W,    28,  1,     21,2,20080830,0010, 60.3212, -48.6403, 2791,     42.1,   8.1972,  34.6973,2,-999.0000,9,   -999.0,9,     2.52,2,     6.19,2,     0.60,2,   -999.0,9,   -999.0,9,   8.1929
  74DI20080820, AR07W,    28,  1,     22,2,20080830,0010, 60.3212, -48.6403, 2791,     32.2,   8.4894,  34.6621,2,-999.0000,9,    289.8,2,     1.89,2,     5.04,2,     0.52,2,   -999.0,9,   -999.0,9,   8.4861
  74DI20080820, AR07W,    28,  1,     23,2,20080830,0010, 60.3212, -48.6403, 2791,     21.8,   8.5117,  34.6452,2,-999.0000,9,   -999.0,9,     1.74,2,     4.77,2,     0.50,2,   -999.0,9,   -999.0,9,   8.5094
  74DI20080820, AR07W,    28,  1,     24,2,20080830,0010, 60.3212, -48.6403, 2791,      6.7,   3.4104,  32.5353,2,  32.6277,2,   -999.0,9,     1.92,2,     2.51,2,     0.44,2,   -999.0,9,   -999.0,9,   3.4100
  74DI20080820, AR07W,    29,  1,      1,2,20080830,0538, 60.3375, -48.5672, 2344,   2335.0,   3.0209,  34.9161,2,  34.9172,2,   -999.0,9,    11.27,2,    16.50,2,     1.15,2,   2161.1,6,   2306.5,6,   2.8367
  74DI20080820, AR07W,    29,  1,      2,2,20080830,0538, 60.3375, -48.5672, 2344,   2335.1,   3.0240,  34.9160,2,-999.0000,9,   -999.0,9,    11.26,2,    16.40,2,     1.14,2,   -999.0,9,   -999.0,9,   2.8397
  74DI20080820, AR07W,    29,  1,      3,2,20080830,0538, 60.3375, -48.5672, 2344,   2024.0,   3.2131,  34.9167,2,-999.0000,9,   -999.0,9,    11.00,2,    15.95,2,     1.14,2,   2162.1,2,   2306.8,2,   3.0552
  74DI20080820, AR07W,    29,  1,      4,2,20080830,0538, 60.3375, -48.5672, 2344,   1819.2,   3.3214,  34.9194,2,-999.0000,9,   -999.0,9,    10.83,2,    15.88,2,     1.14,2,   2163.3,2,   2303.8,2,   3.1807
  74DI20080820, AR07W,    29,  1,      5,2,20080830,0538, 60.3375, -48.5672, 2344,   1620.8,   3.3275,  34.9169,2,  34.9186,2,   -999.0,9,    10.90,2,    16.20,2,     1.15,2,   2161.9,2,   2305.4,2,   3.2045
  74DI20080820, AR07W,    29,  1,      6,2,20080830,0538, 60.3375, -48.5672, 2344,   1426.2,   3.4985,  34.9243,2,-999.0000,9,   -999.0,9,    10.57,2,    15.69,2,     1.14,2,   2162.4,2,   2306.3,2,   3.3905
  74DI20080820, AR07W,    29,  1,      7,2,20080830,0538, 60.3375, -48.5672, 2344,   1426.0,   3.4994,  34.9242,2,-999.0000,9,   -999.0,9,    10.52,2,    15.86,2,     1.14,2,   -999.0,9,   -999.0,9,   3.3914
  74DI20080820, AR07W,    29,  1,      8,2,20080830,0538, 60.3375, -48.5672, 2344,   1221.6,   3.7290,  34.9138,2,-999.0000,9,   -999.0,9,    10.16,2,    16.18,2,     1.16,2,   2160.8,2,   2305.1,2,   3.6362
  74DI20080820, AR07W,    29,  1,      9,2,20080830,0538, 60.3375, -48.5672, 2344,    984.5,   3.7639,  34.9011,2,  34.9024,2,   -999.0,9,     9.79,2,    16.28,2,     1.16,2,   2160.9,2,   2302.4,2,   3.6907
  74DI20080820, AR07W,    29,  1,     10,2,20080830,0538, 60.3375, -48.5672, 2344,    755.6,   4.1773,  34.9261,2,-999.0000,9,   -999.0,9,     9.22,2,    16.02,2,     1.15,2,   2160.8,2,   2303.2,2,   4.1199
  74DI20080820, AR07W,    29,  1,     11,2,20080830,0538, 60.3375, -48.5672, 2344,    594.7,   4.4093,  34.9410,2,-999.0000,9,   -999.0,9,     8.98,2,    16.24,2,     1.14,2,   -999.0,9,   -999.0,9,   4.3638
  74DI20080820, AR07W,    29,  1,     12,2,20080830,0538, 60.3375, -48.5672, 2344,    505.4,   4.5736,  34.9523,2,-999.0000,9,   -999.0,9,     8.84,2,    15.66,2,     1.13,2,   2159.5,2,   2303.5,2,   4.5346
  74DI20080820, AR07W,    29,  1,     13,2,20080830,0538, 60.3375, -48.5672, 2344,    408.8,   4.8589,  34.9725,2,-999.0000,9,   -999.0,9,     8.60,2,    15.66,2,     1.12,2,   2159.4,2,   2304.9,2,   4.8267
  74DI20080820, AR07W,    29,  1,     14,2,20080830,0538, 60.3375, -48.5672, 2344,    327.5,   5.1136,  34.9905,2,-999.0000,9,   -999.0,9,  -999.00,9,  -999.00,9,  -999.00,9,   -999.0,9,   -999.0,9,   5.0874
  74DI20080820, AR07W,    29,  1,     15,2,20080830,0538, 60.3375, -48.5672, 2344,    256.5,   5.1992,  34.9917,2,-999.0000,9,   -999.0,9,     8.28,2,    15.46,2,     1.10,2,   2160.2,2,   2308.8,2,   5.1786
  74DI20080820, AR07W,    29,  1,     16,2,20080830,0538, 60.3375, -48.5672, 2344,    215.5,   5.0257,  34.9156,2,-999.0000,9,   -999.0,9,     7.92,2,    15.69,2,     1.12,2,   2157.7,2,   2304.5,2,   5.0088
  74DI20080820, AR07W,    29,  1,     17,2,20080830,0538, 60.3375, -48.5672, 2344,    183.4,   5.5365,  34.9109,2,-999.0000,9,   -999.0,9,     6.75,2,    13.92,2,     1.01,2,   2148.4,2,   2308.2,2,   5.5214
  74DI20080820, AR07W,    29,  1,     18,2,20080830,0538, 60.3375, -48.5672, 2344,    154.8,   5.8237,  34.9319,2,-999.0000,9,   -999.0,9,     6.49,2,    13.66,2,     1.01,2,   2151.3,2,   2304.6,2,   5.8107
  74DI20080820, AR07W,    29,  1,     19,2,20080830,0538, 60.3375, -48.5672, 2344,    124.3,   6.3959,  34.9238,2,  34.9311,2,   -999.0,9,     5.61,2,    13.12,2,     0.96,2,   2148.2,2,   2305.3,2,   6.3849
  74DI20080820, AR07W,    29,  1,     20,2,20080830,0538, 60.3375, -48.5672, 2344,     84.0,   6.4442,  34.8058,2,-999.0000,9,   -999.0,9,     4.84,2,    11.64,2,     0.89,2,   2135.0,2,   2301.6,2,   6.4368
  74DI20080820, AR07W,    29,  1,     21,2,20080830,0538, 60.3375, -48.5672, 2344,     53.9,   7.1886,  34.4995,2,-999.0000,9,   -999.0,9,     2.94,2,     6.73,2,     0.63,2,   2100.6,2,   2287.5,2,   7.1836
  74DI20080820, AR07W,    29,  1,     22,2,20080830,0538, 60.3375, -48.5672, 2344,     43.7,   6.4770,  34.1983,2,  34.3484,2,   -999.0,9,     2.39,2,     5.47,2,     0.56,2,   -999.0,9,   -999.0,9,   6.4732
  74DI20080820, AR07W,    29,  1,     23,2,20080830,0538, 60.3375, -48.5672, 2344,     23.4,   2.7611,  32.4502,2,-999.0000,9,   -999.0,9,     1.99,2,     2.89,2,     0.46,2,   -999.0,9,   -999.0,9,   2.7598
  74DI20080820, AR07W,    29,  1,     24,2,20080830,0538, 60.3375, -48.5672, 2344,      8.1,   3.1026,  32.2559,2,-999.0000,9,   -999.0,9,     1.83,2,     2.60,2,     0.40,2,   -999.0,9,   -999.0,9,   3.1021
  74DI20080820, AR07W,    30,  1,      1,2,20080830,0947, 60.3390, -48.4732, 1019,   1009.7,   3.9814,  34.9037,2,  34.9036,2,    290.6,2,     9.15,2,    15.70,2,     1.13,2,   -999.0,9,   -999.0,9,   3.9044
  74DI20080820, AR07W,    30,  1,      2,2,20080830,0947, 60.3390, -48.4732, 1019,   1009.5,   3.9840,  34.9042,2,-999.0000,9,   -999.0,9,  -999.00,9,  -999.00,9,  -999.00,9,   -999.0,9,   -999.0,9,   3.9070
  74DI20080820, AR07W,    30,  1,      3,2,20080830,0947, 60.3390, -48.4732, 1019,    946.9,   3.9856,  34.9049,2,-999.0000,9,   -999.0,9,     9.17,2,    15.98,2,     1.14,2,   -999.0,9,   -999.0,9,   3.9138
  74DI20080820, AR07W,    30,  1,      4,2,20080830,0947, 60.3390, -48.4732, 1019,    909.4,   4.0807,  34.9110,2,-999.0000,9,   -999.0,9,     9.05,2,    15.79,2,     1.14,2,   -999.0,9,   -999.0,9,   4.0113
  74DI20080820, AR07W,    30,  1,      5,2,20080830,0947, 60.3390, -48.4732, 1019,    818.3,   4.4196,  34.9409,2,-999.0000,9,   -999.0,9,     9.00,2,    15.81,2,     1.13,2,   -999.0,9,   -999.0,9,   4.3555
  74DI20080820, AR07W,    30,  1,      6,2,20080830,0947, 60.3390, -48.4732, 1019,    716.8,   4.4614,  34.9445,2,  33.8457,4,   -999.0,9,  -999.00,9,  -999.00,9,  -999.00,9,   -999.0,9,   -999.0,9,   4.4056
  74DI20080820, AR07W,    30,  1,      7,2,20080830,0947, 60.3390, -48.4732, 1019,    671.8,   4.5055,  34.9472,2,-999.0000,9,   -999.0,9,     8.84,2,    15.66,2,     1.12,2,   -999.0,9,   -999.0,9,   4.4532
  74DI20080820, AR07W,    30,  1,      8,2,20080830,0947, 60.3390, -48.4732, 1019,    509.3,   4.6066,  34.9543,2,-999.0000,9,   -999.0,9,     8.75,2,    15.69,2,     1.12,2,   -999.0,9,   -999.0,9,   4.5672
  74DI20080820, AR07W,    30,  1,      9,2,20080830,0947, 60.3390, -48.4732, 1019,    407.7,   4.6904,  34.9349,2,-999.0000,9,   -999.0,9,     8.32,2,    15.66,2,     1.12,2,   -999.0,9,   -999.0,9,   4.6589
  74DI20080820, AR07W,    30,  1,     10,2,20080830,0947, 60.3390, -48.4732, 1019,    306.3,   5.2809,  34.9686,2,  34.9699,2,   -999.0,9,     7.95,2,    15.55,2,     1.11,2,   -999.0,9,   -999.0,9,   5.2560
  74DI20080820, AR07W,    30,  1,     11,2,20080830,0947, 60.3390, -48.4732, 1019,    203.4,   6.4307,  35.0471,2,-999.0000,9,   -999.0,9,     6.70,2,    14.57,2,     1.03,2,   -999.0,9,   -999.0,9,   6.4125
  74DI20080820, AR07W,    30,  1,     12,2,20080830,0947, 60.3390, -48.4732, 1019,    152.3,   6.5712,  34.9007,2,-999.0000,9,   -999.0,9,     5.30,2,    13.12,2,     0.94,2,   -999.0,9,   -999.0,9,   6.5575
  74DI20080820, AR07W,    30,  1,     13,2,20080830,0947, 60.3390, -48.4732, 1019,    103.0,   5.8480,  34.4807,2,  34.4791,2,    299.3,2,     4.10,2,     9.59,2,     0.79,2,   -999.0,9,   -999.0,9,   5.8394
  74DI20080820, AR07W,    30,  1,     14,2,20080830,0947, 60.3390, -48.4732, 1019,     77.9,   5.7004,  34.3990,2,-999.0000,9,   -999.0,9,     3.94,2,     9.08,2,     0.77,2,   -999.0,9,   -999.0,9,   5.6940
  74DI20080820, AR07W,    30,  1,     15,2,20080830,0947, 60.3390, -48.4732, 1019,     52.5,   5.1445,  34.1276,2,-999.0000,9,    310.5,2,     3.52,2,     7.79,2,     0.70,2,   -999.0,9,   -999.0,9,   5.1405
  74DI20080820, AR07W,    30,  1,     16,2,20080830,0947, 60.3390, -48.4732, 1019,     32.2,   2.2695,  32.6402,2,-999.0000,9,    347.7,2,     2.15,2,     3.02,2,     0.49,2,   -999.0,9,   -999.0,9,   2.2679
  74DI20080820, AR07W,    30,  1,     17,2,20080830,0947, 60.3390, -48.4732, 1019,     22.1,   2.7446,  32.4020,2,-999.0000,9,   -999.0,9,     1.95,2,     2.64,2,     0.44,2,   -999.0,9,   -999.0,9,   2.7434
  74DI20080820, AR07W,    30,  1,     18,2,20080830,0947, 60.3390, -48.4732, 1019,     11.6,   2.9271,  32.3228,2,-999.0000,9,   -999.0,9,     1.86,2,     2.10,2,     0.41,2,   -999.0,9,   -999.0,9,   2.9265
  74DI20080820, AR07W,    30,  1,     19,2,20080830,0947, 60.3390, -48.4732, 1019,      6.6,   2.9270,  32.3317,2,  32.3352,2,    340.9,2,     1.87,2,     2.08,2,     0.41,2,   -999.0,9,   -999.0,9,   2.9266
  74DI20080820, AR07W,    30,  1,     20,2,20080830,0947, 60.3390, -48.4732, 1019,      6.6,   2.9231,  32.3327,2,-999.0000,9,   -999.0,9,  -999.00,9,  -999.00,9,  -999.00,9,   -999.0,9,   -999.0,9,   2.9227
  74DI20080820, AR07W,    30,  1,     21,2,20080830,0947, 60.3390, -48.4732, 1019,      6.6,   2.9212,  32.3329,2,-999.0000,9,   -999.0,9,  -999.00,9,  -999.00,9,  -999.00,9,   -999.0,9,   -999.0,9,   2.9208
  74DI20080820, AR07W,    30,  1,     22,2,20080830,0947, 60.3390, -48.4732, 1019,      6.5,   2.9219,  32.3321,2,-999.0000,9,   -999.0,9,  -999.00,9,  -999.00,9,  -999.00,9,   -999.0,9,   -999.0,9,   2.9215
  74DI20080820, AR07W,    30,  1,     23,2,20080830,0947, 60.3390, -48.4732, 1019,      6.6,   2.9207,  32.3343,2,-999.0000,9,   -999.0,9,  -999.00,9,  -999.00,9,  -999.00,9,   -999.0,9,   -999.0,9,   2.9203
  74DI20080820, AR07W,    30,  1,     24,2,20080830,0947, 60.3390, -48.4732, 1019,      6.6,   2.9223,  32.3339,2,-999.0000,9,   -999.0,9,  -999.00,9,  -999.00,9,  -999.00,9,   -999.0,9,   -999.0,9,   2.9219