BOTTLE,20150217PRINUNIVRMK
EXPOCODE,SECT_ID,STNNBR,CASTNO,BTLNBR,BTLNBR_FLAG_W,DATE,TIME,LATITUDE,LONGITUDE,DEPTH,CTDPRS,CTDTMP,CTDSAL,CTDSAL_FLAG_W,SALNTY,SALNTY_FLAG_W,OXYGEN,OXYGEN_FLAG_W,SILCAT,SILCAT_FLAG_W,NITRAT,NITRAT_FLAG_W,PHSPHT,PHSPHT_FLAG_W,TCARBN,TCARBN_FLAG_W,ALKALI,ALKALI_FLAG_W,THETA
,,,,,,,,,,METERS,DBAR,ITS-90,PSS-78,,PSS-78,,UMOL/KG,,UMOL/KG,,UMOL/KG,,UMOL/KG,,UMOL/KG,,UMOL/KG,,DEG C
  74DI20080820, AR07W,    54,  1,      1,2,20080905,1814, 59.6078, -38.5872, 3029,   3019.5,   1.4947,  34.8999,2,  34.9014,2,    306.3,2,     9.34,2,    13.74,2,     1.00,2,   -999.0,9,   -999.0,9,   1.2750
  74DI20080820, AR07W,    54,  1,      2,2,20080905,1814, 59.6078, -38.5872, 3029,   2953.8,   1.9090,  34.9041,2,-999.0000,9,   -999.0,9,  -999.00,9,  -999.00,9,  -999.00,9,   -999.0,9,   -999.0,9,   1.6866
  74DI20080820, AR07W,    54,  1,      3,2,20080905,1814, 59.6078, -38.5872, 3029,   2856.2,   2.2964,  34.9093,2,-999.0000,9,   -999.0,9,    11.00,2,    14.88,2,     1.07,2,   -999.0,9,   -999.0,9,   2.0753
  74DI20080820, AR07W,    54,  1,      4,2,20080905,1814, 59.6078, -38.5872, 3029,   2756.3,   2.6069,  34.9195,2,  34.9209,2,   -999.0,9,    12.67,2,    15.58,2,     1.11,2,   -999.0,9,   -999.0,9,   2.3893
  74DI20080820, AR07W,    54,  1,      5,2,20080905,1814, 59.6078, -38.5872, 3029,   2650.4,   2.7767,  34.9269,2,-999.0000,9,   -999.0,9,    13.74,2,    15.97,2,     1.15,2,   -999.0,9,   -999.0,9,   2.5662
  74DI20080820, AR07W,    54,  1,      6,2,20080905,1814, 59.6078, -38.5872, 3029,   2543.6,   2.8904,  34.9282,2,-999.0000,9,   -999.0,9,    13.62,2,    16.24,2,     1.16,2,   -999.0,9,   -999.0,9,   2.6882
  74DI20080820, AR07W,    54,  1,      7,2,20080905,1814, 59.6078, -38.5872, 3029,   2433.3,   2.9437,  34.9226,2,  34.9240,2,   -999.0,9,    13.11,2,    16.14,2,     1.15,2,   -999.0,9,   -999.0,9,   2.7513
  74DI20080820, AR07W,    54,  1,      8,2,20080905,1814, 59.6078, -38.5872, 3029,   2323.4,   3.0421,  34.9271,2,-999.0000,9,   -999.0,9,    13.03,2,    16.35,2,     1.16,2,   -999.0,9,   -999.0,9,   2.8586
  74DI20080820, AR07W,    54,  1,      9,2,20080905,1814, 59.6078, -38.5872, 3029,   2223.3,   3.1030,  34.9270,2,-999.0000,9,   -999.0,9,    12.70,2,    16.39,2,     1.17,2,   -999.0,9,   -999.0,9,   2.9280
  74DI20080820, AR07W,    54,  1,     10,2,20080905,1814, 59.6078, -38.5872, 3029,   2123.0,   3.1536,  34.9242,2,-999.0000,9,   -999.0,9,    12.38,2,    16.60,2,     1.17,2,   -999.0,9,   -999.0,9,   2.9873
  74DI20080820, AR07W,    54,  1,     11,2,20080905,1814, 59.6078, -38.5872, 3029,   2020.9,   3.2191,  34.9241,2,-999.0000,9,    283.7,2,    12.03,2,    16.61,2,     1.17,2,   -999.0,9,   -999.0,9,   3.0614
  74DI20080820, AR07W,    54,  1,     12,2,20080905,1814, 59.6078, -38.5872, 3029,   1816.5,   3.2757,  34.9110,2,-999.0000,9,   -999.0,9,    11.23,2,    16.22,2,     1.16,2,   -999.0,9,   -999.0,9,   3.1359
  74DI20080820, AR07W,    54,  1,     13,2,20080905,1814, 59.6078, -38.5872, 3029,   1617.1,   3.3928,  34.9072,2,-999.0000,9,   -999.0,9,    10.96,2,    16.46,2,     1.16,2,   -999.0,9,   -999.0,9,   3.2694
  74DI20080820, AR07W,    54,  1,     14,2,20080905,1814, 59.6078, -38.5872, 3029,   1419.8,   3.5985,  34.9191,2,-999.0000,9,    281.5,2,    10.68,2,    16.49,2,     1.16,2,   -999.0,9,   -999.0,9,   3.4900
  74DI20080820, AR07W,    54,  1,     15,2,20080905,1814, 59.6078, -38.5872, 3029,   1221.7,   3.6948,  34.9092,2,-999.0000,9,   -999.0,9,    10.29,2,    16.34,2,     1.16,2,   -999.0,9,   -999.0,9,   3.6024
  74DI20080820, AR07W,    54,  1,     16,2,20080905,1814, 59.6078, -38.5872, 3029,   1021.3,   3.6186,  34.8744,2,-999.0000,9,   -999.0,9,     9.28,2,    16.11,2,     1.14,2,   -999.0,9,   -999.0,9,   3.5435
  74DI20080820, AR07W,    54,  1,     17,2,20080905,1814, 59.6078, -38.5872, 3029,    817.7,   3.7274,  34.8761,2,-999.0000,9,   -999.0,9,     9.08,2,    15.88,2,     1.13,2,   -999.0,9,   -999.0,9,   3.6679
  74DI20080820, AR07W,    54,  1,     18,2,20080905,1814, 59.6078, -38.5872, 3029,    614.2,   3.9514,  34.8967,2,  34.8987,2,    296.9,2,     8.75,2,    15.78,2,     1.12,2,   -999.0,9,   -999.0,9,   3.9065
  74DI20080820, AR07W,    54,  1,     19,2,20080905,1814, 59.6078, -38.5872, 3029,    410.7,   4.0463,  34.8962,2,-999.0000,9,   -999.0,9,     8.73,2,    15.84,2,     1.13,2,   -999.0,9,   -999.0,9,   4.0166
  74DI20080820, AR07W,    54,  1,     20,2,20080905,1814, 59.6078, -38.5872, 3029,    207.7,   4.2745,  34.8756,2,-999.0000,9,   -999.0,9,     8.56,2,    15.93,2,     1.13,2,   -999.0,9,   -999.0,9,   4.2595
  74DI20080820, AR07W,    54,  1,     21,2,20080905,1814, 59.6078, -38.5872, 3029,    106.1,   4.6849,  34.8533,2,-999.0000,9,   -999.0,9,     8.48,2,    16.08,2,     1.14,2,   -999.0,9,   -999.0,9,   4.6770
  74DI20080820, AR07W,    54,  1,     22,2,20080905,1814, 59.6078, -38.5872, 3029,     55.3,   5.7327,  34.8412,2,-999.0000,9,    296.1,2,     6.58,2,    14.09,2,     1.05,2,   -999.0,9,   -999.0,9,   5.7281
  74DI20080820, AR07W,    54,  1,     23,2,20080905,1814, 59.6078, -38.5872, 3029,     25.0,   9.5291,  34.8480,2,-999.0000,9,   -999.0,9,     2.23,2,     6.23,2,     0.54,2,   -999.0,9,   -999.0,9,   9.5263
  74DI20080820, AR07W,    54,  1,     24,2,20080905,1814, 59.6078, -38.5872, 3029,      9.8,   9.5364,  34.8469,2,  34.8483,2,   -999.0,9,     2.20,2,     6.25,2,     0.54,2,   -999.0,9,   -999.0,9,   9.5353
  74DI20080820, AR07W,    55,  1,      1,2,20080905,2349, 59.6825, -39.4073, 2868,   2858.5,   1.1091,  34.8936,2,  34.8950,2,   -999.0,9,     8.48,2,    13.33,2,     1.00,2,   2160.8,2,   2302.2,2,   0.9128
  74DI20080820, AR07W,    55,  1,      2,2,20080905,2349, 59.6825, -39.4073, 2868,   2858.5,   1.1087,  34.8936,2,-999.0000,9,   -999.0,9,     8.48,2,    13.44,2,     0.99,2,   2158.3,2,   2304.0,2,   0.9124
  74DI20080820, AR07W,    55,  1,      3,2,20080905,2349, 59.6825, -39.4073, 2868,   2792.7,   1.5082,  34.8962,2,-999.0000,9,   -999.0,9,     8.47,2,    13.63,2,     1.00,2,   2157.0,2,   2303.3,2,   1.3096
  74DI20080820, AR07W,    55,  1,      4,2,20080905,2349, 59.6825, -39.4073, 2868,   2742.8,   1.8204,  34.8990,2,-999.0000,9,   -999.0,9,     8.87,2,    14.04,2,     1.02,2,   2156.1,2,   2302.1,2,   1.6200
  74DI20080820, AR07W,    55,  1,      5,2,20080905,2349, 59.6825, -39.4073, 2868,   2639.8,   2.3879,  34.9118,2,-999.0000,9,   -999.0,9,    11.33,2,    14.90,2,     1.08,2,   2157.6,2,   2306.7,2,   2.1860
  74DI20080820, AR07W,    55,  1,      6,2,20080905,2349, 59.6825, -39.4073, 2868,   2537.3,   2.6410,  34.9197,2,-999.0000,9,   -999.0,9,    12.39,2,    15.26,2,     1.12,2,   2158.8,2,   2306.8,2,   2.4441
  74DI20080820, AR07W,    55,  1,      7,2,20080905,2349, 59.6825, -39.4073, 2868,   2436.2,   2.7782,  34.9241,2,-999.0000,9,   -999.0,9,    12.92,2,    15.39,2,     1.13,2,   2156.8,2,   2305.6,2,   2.5885
  74DI20080820, AR07W,    55,  1,      8,2,20080905,2349, 59.6825, -39.4073, 2868,   2334.5,   2.8847,  34.9271,2,-999.0000,9,   -999.0,9,    13.40,2,    16.19,2,     1.16,2,   2158.6,2,   2305.9,2,   2.7028
  74DI20080820, AR07W,    55,  1,      9,2,20080905,2349, 59.6825, -39.4073, 2868,   2231.6,   2.9629,  34.9230,2,-999.0000,9,   -999.0,9,    12.93,2,    16.09,2,     1.16,2,   2157.1,2,   2304.7,2,   2.7895
  74DI20080820, AR07W,    55,  1,     10,2,20080905,2349, 59.6825, -39.4073, 2868,   2130.8,   3.0820,  34.9281,2,-999.0000,9,   -999.0,9,  -999.00,9,  -999.00,9,  -999.00,9,   -999.0,9,   -999.0,9,   2.9161
  74DI20080820, AR07W,    55,  1,     11,2,20080905,2349, 59.6825, -39.4073, 2868,   2031.8,   3.1359,  34.9220,2,  34.9237,2,   -999.0,9,    11.72,2,    15.91,2,     1.15,2,   2156.1,2,   2304.5,2,   2.9784
  74DI20080820, AR07W,    55,  1,     12,2,20080905,2349, 59.6825, -39.4073, 2868,   1831.1,   3.2451,  34.9165,2,-999.0000,9,   -999.0,9,    11.60,2,    16.55,2,     1.19,2,   2157.7,2,   2303.0,2,   3.1044
  74DI20080820, AR07W,    55,  1,     13,2,20080905,2349, 59.6825, -39.4073, 2868,   1630.2,   3.3667,  34.9136,2,-999.0000,9,   -999.0,9,    11.32,2,    16.51,2,     1.18,2,   2157.4,2,   2302.3,2,   3.2424
  74DI20080820, AR07W,    55,  1,     14,2,20080905,2349, 59.6825, -39.4073, 2868,   1428.7,   3.5542,  34.9201,2,-999.0000,9,   -999.0,9,    11.02,2,    16.53,2,     1.18,2,   2158.6,2,   2301.5,2,   3.4454
  74DI20080820, AR07W,    55,  1,     15,2,20080905,2349, 59.6825, -39.4073, 2868,   1225.1,   3.6511,  34.9085,2,-999.0000,9,   -999.0,9,    10.65,2,    16.52,2,     1.19,2,   2156.0,2,   2302.1,2,   3.5588
  74DI20080820, AR07W,    55,  1,     16,2,20080905,2349, 59.6825, -39.4073, 2868,   1022.1,   3.6875,  34.8895,2,  34.8913,2,   -999.0,9,    10.10,2,    16.64,2,     1.18,2,   2159.1,2,   2299.4,2,   3.6118
  74DI20080820, AR07W,    55,  1,     17,2,20080905,2349, 59.6825, -39.4073, 2868,    819.2,   3.7917,  34.8852,2,-999.0000,9,   -999.0,9,  -999.00,9,  -999.00,9,  -999.00,9,   -999.0,9,   -999.0,9,   3.7316
  74DI20080820, AR07W,    55,  1,     18,2,20080905,2349, 59.6825, -39.4073, 2868,    614.6,   4.0346,  34.9066,2,-999.0000,9,   -999.0,9,     8.93,2,    16.08,2,     1.14,2,   2157.4,2,   2301.8,2,   3.9893
  74DI20080820, AR07W,    55,  1,     19,2,20080905,2349, 59.6825, -39.4073, 2868,    412.4,   4.2205,  34.9172,2,-999.0000,9,   -999.0,9,     8.92,2,    16.07,2,     1.15,2,   2156.5,2,   2303.4,2,   4.1901
  74DI20080820, AR07W,    55,  1,     20,2,20080905,2349, 59.6825, -39.4073, 2868,    209.1,   4.9736,  34.9703,2,-999.0000,9,   -999.0,9,     8.61,2,    16.01,2,     1.12,2,   2153.2,2,   2307.3,2,   4.9573
  74DI20080820, AR07W,    55,  1,     21,2,20080905,2349, 59.6825, -39.4073, 2868,    107.7,   5.2296,  34.9371,2,  34.9348,2,   -999.0,9,     8.47,2,    15.99,2,     1.15,2,   2153.3,2,   2303.2,2,   5.2211
  74DI20080820, AR07W,    55,  1,     22,2,20080905,2349, 59.6825, -39.4073, 2868,     67.0,   5.7060,  34.9216,2,-999.0000,9,   -999.0,9,     7.27,2,    15.81,2,     1.11,2,   2149.1,2,   2302.1,2,   5.7005
  74DI20080820, AR07W,    55,  1,     23,2,20080905,2349, 59.6825, -39.4073, 2868,     40.4,  10.0792,  34.8856,2,-999.0000,9,   -999.0,9,     2.02,2,     5.94,2,     0.53,2,   2081.2,2,   2301.0,2,  10.0745
  74DI20080820, AR07W,    55,  1,     24,2,20080905,2349, 59.6825, -39.4073, 2868,      9.7,  10.1433,  34.8808,2,  34.8821,2,   -999.0,9,     1.91,2,     5.74,2,     0.52,2,   2079.0,2,   2304.2,2,  10.1422
  74DI20080820, AR07W,    56,  1,      1,2,20080906,0530, 59.7678, -40.2172, 2648,   2638.5,   1.4039,  34.8964,2,  34.8971,2,    306.8,2,     8.76,2,    13.90,2,     1.02,2,   -999.0,9,   -999.0,9,   1.2214
  74DI20080820, AR07W,    56,  1,      2,2,20080906,0530, 59.7678, -40.2172, 2648,   2606.7,   1.4650,  34.8723,2,-999.0000,9,    305.6,2,     8.62,2,    13.56,2,     1.00,2,   -999.0,9,   -999.0,9,   1.2843
  74DI20080820, AR07W,    56,  1,      3,2,20080906,0530, 59.7678, -40.2172, 2648,   2552.5,   1.9211,  34.9006,2,-999.0000,9,    300.1,2,     9.19,2,    14.07,2,     1.02,2,   -999.0,9,   -999.0,9,   1.7364
  74DI20080820, AR07W,    56,  1,      4,2,20080906,0530, 59.7678, -40.2172, 2648,   2498.1,   2.1817,  34.9039,2,-999.0000,9,    297.0,2,     9.91,2,    14.38,2,     1.05,2,   -999.0,9,   -999.0,9,   1.9971
  74DI20080820, AR07W,    56,  1,      5,2,20080906,0530, 59.7678, -40.2172, 2648,   2449.7,   2.3902,  34.9083,2,-999.0000,9,    294.6,2,    10.60,2,    14.86,2,     1.07,2,   -999.0,9,   -999.0,9,   2.2063
  74DI20080820, AR07W,    56,  1,      6,2,20080906,0530, 59.7678, -40.2172, 2648,   2398.9,   2.5427,  34.9126,2,-999.0000,9,    289.9,2,    11.55,2,    15.18,2,     1.09,2,   -999.0,9,   -999.0,9,   2.3608
  74DI20080820, AR07W,    56,  1,      7,2,20080906,0530, 59.7678, -40.2172, 2648,   2348.1,   2.6407,  34.9125,2,  34.9139,2,    295.3,2,    11.04,2,    15.11,2,     1.09,2,   -999.0,9,   -999.0,9,   2.4618
  74DI20080820, AR07W,    56,  1,      8,2,20080906,0530, 59.7678, -40.2172, 2648,   2297.2,   2.7802,  34.9259,2,-999.0000,9,    285.2,2,    12.72,2,    15.73,2,     1.13,2,   -999.0,9,   -999.0,9,   2.6037
  74DI20080820, AR07W,    56,  1,      9,2,20080906,0530, 59.7678, -40.2172, 2648,   2247.0,   2.8679,  34.9246,2,-999.0000,9,    284.2,2,    12.79,2,    15.93,2,     1.15,2,   -999.0,9,   -999.0,9,   2.6946
  74DI20080820, AR07W,    56,  1,     10,2,20080906,0530, 59.7678, -40.2172, 2648,   2197.0,   2.9084,  34.9228,2,-999.0000,9,    288.1,2,    12.59,2,    15.97,2,     1.15,2,   -999.0,9,   -999.0,9,   2.7391
  74DI20080820, AR07W,    56,  1,     11,2,20080906,0530, 59.7678, -40.2172, 2648,   2044.4,   3.0615,  34.9233,2,-999.0000,9,   -999.0,9,    12.20,2,    16.18,2,     1.15,2,   -999.0,9,   -999.0,9,   2.9040
  74DI20080820, AR07W,    56,  1,     12,2,20080906,0530, 59.7678, -40.2172, 2648,   1838.9,   3.2001,  34.9201,2,-999.0000,9,   -999.0,9,    11.48,2,    16.11,2,     1.15,2,   -999.0,9,   -999.0,9,   3.0593
  74DI20080820, AR07W,    56,  1,     13,2,20080906,0530, 59.7678, -40.2172, 2648,   1633.5,   3.3363,  34.9169,2,-999.0000,9,   -999.0,9,    11.14,2,    16.23,2,     1.16,2,   -999.0,9,   -999.0,9,   3.2121
  74DI20080820, AR07W,    56,  1,     14,2,20080906,0530, 59.7678, -40.2172, 2648,   1428.9,   3.4885,  34.9137,2,  34.9148,2,   -999.0,9,    11.11,2,    16.66,2,     1.18,2,   -999.0,9,   -999.0,9,   3.3804
  74DI20080820, AR07W,    56,  1,     15,2,20080906,0530, 59.7678, -40.2172, 2648,   1226.7,   3.6110,  34.9062,2,-999.0000,9,   -999.0,9,  -999.00,9,  -999.00,9,  -999.00,9,   -999.0,9,   -999.0,9,   3.5189
  74DI20080820, AR07W,    56,  1,     16,2,20080906,0530, 59.7678, -40.2172, 2648,   1022.9,   3.6270,  34.8800,2,-999.0000,9,   -999.0,9,  -999.00,9,  -999.00,9,  -999.00,9,   -999.0,9,   -999.0,9,   3.5517
  74DI20080820, AR07W,    56,  1,     17,2,20080906,0530, 59.7678, -40.2172, 2648,    818.4,   3.6165,  34.8619,2,  34.8639,2,   -999.0,9,     8.95,2,    16.04,2,     1.13,2,   -999.0,9,   -999.0,9,   3.5576
  74DI20080820, AR07W,    56,  1,     18,2,20080906,0530, 59.7678, -40.2172, 2648,    613.9,   3.9288,  34.8921,2,-999.0000,9,   -999.0,9,     8.88,2,    16.17,2,     1.14,2,   -999.0,9,   -999.0,9,   3.8841
  74DI20080820, AR07W,    56,  1,     19,2,20080906,0530, 59.7678, -40.2172, 2648,    412.4,   4.4935,  34.9472,2,-999.0000,9,   -999.0,9,     9.12,2,    16.16,2,     1.15,2,   -999.0,9,   -999.0,9,   4.4622
  74DI20080820, AR07W,    56,  1,     20,2,20080906,0530, 59.7678, -40.2172, 2648,    209.0,   5.3502,  35.0183,2,-999.0000,9,   -999.0,9,     8.42,2,    15.92,2,     1.12,2,   -999.0,9,   -999.0,9,   5.3332
  74DI20080820, AR07W,    56,  1,     21,2,20080906,0530, 59.7678, -40.2172, 2648,    107.5,   5.8895,  35.0401,2,-999.0000,9,   -999.0,9,     7.76,2,    15.54,2,     1.09,2,   -999.0,9,   -999.0,9,   5.8804
  74DI20080820, AR07W,    56,  1,     22,2,20080906,0530, 59.7678, -40.2172, 2648,     56.8,   6.5777,  35.0515,2,-999.0000,9,   -999.0,9,     6.12,2,    15.12,2,     1.03,2,   -999.0,9,   -999.0,9,   6.5726
  74DI20080820, AR07W,    56,  1,     23,2,20080906,0530, 59.7678, -40.2172, 2648,     41.7,   7.3727,  35.0316,2,  33.0751,4,   -999.0,9,     5.01,2,    13.67,2,     0.98,2,   -999.0,9,   -999.0,9,   7.3687
  74DI20080820, AR07W,    56,  1,     24,2,20080906,0530, 59.7678, -40.2172, 2648,     16.2,  10.4204,  34.9078,2,-999.0000,9,   -999.0,9,     1.57,2,     5.20,2,     0.51,2,   -999.0,9,   -999.0,9,  10.4185