BOTTLE,20020809WHPSIObren
EXPOCODE,SECT_ID,STNNBR,CASTNO,SAMPNO,BTLNBR,BTLNBR_FLAG_W,DATE,TIME,LATITUDE,LONGITUDE,DEPTH,CTDPRS,CTDTMP,CTDSAL,CTDSAL_FLAG_W,SALNTY,SALNTY_FLAG_W,CTDOXY,CTDOXY_FLAG_W,OXYGEN,OXYGEN_FLAG_W,SILCAT,SILCAT_FLAG_W,NO2+NO3,NO2+NO3_FLAG_W,PHSPHT,PHSPHT_FLAG_W,CTDRAW,REVTMP,REVPRS,THETA
,,,,,,,,,,,,DBAR,ITS-90,PSS-78,,PSS-78,,UMOL/KG,,UMOL/KG,,UMOL/KG,,UMOL/KG,,UMOL/KG,,,DEG C,DBAR,ITS-90
     33KI122_1,  PRS2,     2, 13,     15,     23,3,20010118,0257, 22.7405,-158.0400, 4734,      4.0,  24.6776,  35.0911,2,  35.0927,2,    210.9,1,   -999.0,9,  -999.00,9,  -999.00,9,  -999.00,9,      5,-999.000,  -999.0, 24.6768
     33KI122_1,  PRS2,     2, 13,     14,     14,2,20010118,0257, 22.7405,-158.0400, 4734,     24.2,  24.3429,  35.0803,2,  35.0781,2,    212.1,1,   -999.0,9,  -999.00,9,  -999.00,9,  -999.00,9,     25,-999.000,  -999.0, 24.3378
     33KI122_1,  PRS2,     2, 13,     13,     13,2,20010118,0257, 22.7405,-158.0400, 4734,     99.5,  24.1097,  35.2957,2,  35.2948,2,    210.1,1,   -999.0,9,  -999.00,9,  -999.00,9,  -999.00,9,    100,-999.000,  -999.0, 24.0887
     33KI122_1,  PRS2,     2, 13,     12,     12,2,20010118,0257, 22.7405,-158.0400, 4734,    150.4,  21.6103,  35.2148,2,  35.2119,2,    209.5,1,   -999.0,9,  -999.00,9,  -999.00,9,  -999.00,9,    150,-999.000,  -999.0, 21.5809
     33KI122_1,  PRS2,     2, 13,     11,     11,2,20010118,0257, 22.7405,-158.0400, 4734,    172.2,  20.9024,  35.2085,2,  35.2519,4,    205.0,1,   -999.0,9,  -999.00,9,  -999.00,9,  -999.00,9,    174,-999.000,  -999.0, 20.8695
     33KI122_1,  PRS2,     2, 13,     10,     32,2,20010118,0257, 22.7405,-158.0400, 4734,    199.0,  19.9777,  35.1306,2,  35.1352,2,    202.4,1,   -999.0,9,  -999.00,9,  -999.00,9,  -999.00,9,    200,-999.000,  -999.0, 19.9409
     33KI122_1,  PRS2,     2, 13,      9,      3,2,20010118,0257, 22.7405,-158.0400, 4734,    273.5,  15.6769,  34.5848,2,  34.6012,2,    199.8,1,   -999.0,9,  -999.00,9,  -999.00,9,  -999.00,9,    274,-999.000,  -999.0, 15.6343
     33KI122_1,  PRS2,     2, 13,      8,     29,2,20010118,0257, 22.7405,-158.0400, 4734,    348.4,  12.0601,  34.3704,2,  34.3609,2,     30.0,1,   -999.0,9,  -999.00,9,  -999.00,9,  -999.00,9,    351,-999.000,  -999.0, 12.0145
     33KI122_1,  PRS2,     2, 13,      7,     28,2,20010118,0257, 22.7405,-158.0400, 4734,    397.8,  12.1768,  34.6620,2,  34.6653,2,      7.8,1,   -999.0,9,  -999.00,9,  -999.00,9,  -999.00,9,    402,-999.000,  -999.0, 12.1242
     33KI122_1,  PRS2,     2, 13,      6,      7,2,20010118,0257, 22.7405,-158.0400, 4734,    419.2,  11.8767,  34.6739,2,  34.6732,2,      8.9,1,   -999.0,9,  -999.00,9,  -999.00,9,  -999.00,9,    422,-999.000,  -999.0, 11.8221
     33KI122_1,  PRS2,     2, 13,      5,     38,2,20010118,0257, 22.7405,-158.0400, 4734,    450.9,  11.3376,  34.6357,2,  34.6378,2,     15.5,1,   -999.0,9,  -999.00,9,  -999.00,9,  -999.00,9,    452,-999.000,  -999.0, 11.2805
     33KI122_1,  PRS2,     2, 13,      4,     36,2,20010118,0257, 22.7405,-158.0400, 4734,    498.5,   9.1643,  34.3134,2,  34.3268,2,     72.6,1,   -999.0,9,  -999.00,9,  -999.00,9,  -999.00,9,    501,-999.000,  -999.0,  9.1091
     33KI122_1,  PRS2,     2, 13,      3,     35,2,20010118,0257, 22.7405,-158.0400, 4734,    575.4,   6.9229,  34.1800,2,  34.1866,2,     68.0,1,   -999.0,9,  -999.00,9,  -999.00,9,  -999.00,9,    575,-999.000,  -999.0,  6.8686
     33KI122_1,  PRS2,     2, 13,      2,     34,2,20010118,0257, 22.7405,-158.0400, 4734,    849.1,   4.6421,  34.3722,2,  34.3731,2,     33.2,1,   -999.0,9,  -999.00,9,  -999.00,9,  -999.00,9,    850,-999.000,  -999.0,  4.5748
     33KI122_1,  PRS2,     2, 13,      1,     33,2,20010118,0257, 22.7405,-158.0400, 4734,   1018.3,   4.1650,  34.4600,2,  34.4583,2,     38.5,1,   -999.0,9,  -999.00,9,  -999.00,9,  -999.00,9,   1020,-999.000,  -999.0,  4.0866
     33KI122_1,  PRS2,     2, 14,     24,     31,2,20010118,0600, 22.7440,-158.0153, 4721,      4.4,  24.5302,  35.0860,2,  35.0909,2,    211.4,1,   -999.0,9,  -999.00,9,  -999.00,9,  -999.00,9,      6,-999.000,  -999.0, 24.5293
     33KI122_1,  PRS2,     2, 14,     23,     30,2,20010118,0600, 22.7440,-158.0153, 4721,      4.4,  24.5298,  35.0861,2,  35.0837,2,    211.3,1,   -999.0,9,  -999.00,9,  -999.00,9,  -999.00,9,      6,-999.000,  -999.0, 24.5288
     33KI122_1,  PRS2,     2, 14,     22,     22,2,20010118,0600, 22.7440,-158.0153, 4721,     23.3,  24.3602,  35.0749,2,  35.0758,2,    211.5,1,   -999.0,9,  -999.00,9,  -999.00,9,  -999.00,9,     24,-999.000,  -999.0, 24.3553
     33KI122_1,  PRS2,     2, 14,     21,     21,2,20010118,0600, 22.7440,-158.0153, 4721,     23.3,  24.3599,  35.0749,2,  35.0736,2,    211.3,1,   -999.0,9,  -999.00,9,  -999.00,9,  -999.00,9,     25,-999.000,  -999.0, 24.3549
     33KI122_1,  PRS2,     2, 14,     19,     19,2,20010118,0600, 22.7440,-158.0153, 4721,     42.8,  24.3395,  35.0795,2,  35.0768,2,    211.9,1,   -999.0,9,  -999.00,9,  -999.00,9,  -999.00,9,     45,-999.000,  -999.0, 24.3304
     33KI122_1,  PRS2,     2, 14,     20,     20,2,20010118,0600, 22.7440,-158.0153, 4721,     43.1,  24.3394,  35.0795,2,  35.0772,2,    211.9,1,   -999.0,9,  -999.00,9,  -999.00,9,  -999.00,9,     45,-999.000,  -999.0, 24.3302
     33KI122_1,  PRS2,     2, 14,     18,     18,2,20010118,0600, 22.7440,-158.0153, 4721,     58.5,  24.3437,  35.0902,2,  35.0860,2,    212.0,1,   -999.0,9,  -999.00,9,  -999.00,9,  -999.00,9,     61,-999.000,  -999.0, 24.3312
     33KI122_1,  PRS2,     2, 14,     17,     17,2,20010118,0600, 22.7440,-158.0153, 4721,     75.3,  24.3646,  35.1172,2,  35.1037,3,    211.3,1,   -999.0,9,  -999.00,9,  -999.00,9,  -999.00,9,     76,-999.000,  -999.0, 24.3485
     33KI122_1,  PRS2,     2, 14,     16,     16,2,20010118,0600, 22.7440,-158.0153, 4721,     84.0,  24.4236,  35.1905,2,  35.1845,2,    211.1,1,   -999.0,9,  -999.00,9,  -999.00,9,  -999.00,9,     86,-999.000,  -999.0, 24.4056
     33KI122_1,  PRS2,     2, 14,     15,     23,2,20010118,0600, 22.7440,-158.0153, 4721,     99.2,  24.1125,  35.3522,2,  35.3394,2,    209.2,1,   -999.0,9,  -999.00,9,  -999.00,9,  -999.00,9,    100,-999.000,  -999.0, 24.0915
     33KI122_1,  PRS2,     2, 14,     14,     14,2,20010118,0600, 22.7440,-158.0153, 4721,    113.9,  24.2019,  35.4159,2,  35.4237,2,    209.1,1,   -999.0,9,  -999.00,9,  -999.00,9,  -999.00,9,    117,-999.000,  -999.0, 24.1778
     33KI122_1,  PRS2,     2, 14,     12,     12,2,20010118,0600, 22.7440,-158.0153, 4721,    123.5,  24.0369,  35.4500,2,  35.4509,2,    208.8,1,   -999.0,9,  -999.00,9,  -999.00,9,  -999.00,9,    124,-999.000,  -999.0, 24.0109
     33KI122_1,  PRS2,     2, 14,     13,     13,2,20010118,0600, 22.7440,-158.0153, 4721,    123.6,  24.0312,  35.4491,2,  35.4452,2,    208.9,1,   -999.0,9,  -999.00,9,  -999.00,9,  -999.00,9,    124,-999.000,  -999.0, 24.0051
     33KI122_1,  PRS2,     2, 14,     11,     11,2,20010118,0600, 22.7440,-158.0153, 4721,    134.0,  22.9727,  35.2962,2,  35.2680,3,    209.4,1,   -999.0,9,  -999.00,9,  -999.00,9,  -999.00,9,    139,-999.000,  -999.0, 22.9453
     33KI122_1,  PRS2,     2, 14,     10,     32,2,20010118,0600, 22.7440,-158.0153, 4721,    148.6,  21.5931,  35.2168,2,  35.2152,2,    210.0,1,   -999.0,9,  -999.00,9,  -999.00,9,  -999.00,9,    150,-999.000,  -999.0, 21.5640
     33KI122_1,  PRS2,     2, 14,      9,      3,2,20010118,0600, 22.7440,-158.0153, 4721,    148.6,  21.5877,  35.2168,2,  35.2221,2,    210.1,1,   -999.0,9,  -999.00,9,  -999.00,9,  -999.00,9,    150,-999.000,  -999.0, 21.5587
     33KI122_1,  PRS2,     2, 14,      7,     28,2,20010118,0600, 22.7440,-158.0153, 4721,    175.7,  20.7298,  35.2001,2,  35.2012,2,    204.0,1,   -999.0,9,  -999.00,9,  -999.00,9,  -999.00,9,    177,-999.000,  -999.0, 20.6964
     33KI122_1,  PRS2,     2, 14,      8,     29,2,20010118,0600, 22.7440,-158.0153, 4721,    175.9,  20.7195,  35.1997,2,  35.1993,2,    204.1,1,   -999.0,9,  -999.00,9,  -999.00,9,  -999.00,9,    177,-999.000,  -999.0, 20.6861
     33KI122_1,  PRS2,     2, 14,      6,      7,2,20010118,0600, 22.7440,-158.0153, 4721,    423.7,  11.9866,  34.6694,2,  34.6624,2,     12.7,1,   -999.0,9,  -999.00,9,  -999.00,9,  -999.00,9,    426,-999.000,  -999.0, 11.9311
     33KI122_1,  PRS2,     2, 14,      5,     38,2,20010118,0600, 22.7440,-158.0153, 4721,    601.3,   6.8941,  34.1895,2,  34.1875,2,     61.3,1,   -999.0,9,  -999.00,9,  -999.00,9,  -999.00,9,    604,-999.000,  -999.0,  6.8373
     33KI122_1,  PRS2,     2, 14,      4,     36,2,20010118,0600, 22.7440,-158.0153, 4721,   1995.9,   2.2452,  34.6117,2,  34.6113,2,     83.6,1,   -999.0,9,  -999.00,9,  -999.00,9,  -999.00,9,   1996,-999.000,  -999.0,  2.1055
     33KI122_1,  PRS2,     2, 14,      3,     35,2,20010118,0600, 22.7440,-158.0153, 4721,   1996.1,   2.2449,  34.6119,2,  34.6113,2,     83.6,1,   -999.0,9,  -999.00,9,  -999.00,9,  -999.00,9,   1998,-999.000,  -999.0,  2.1051
     33KI122_1,  PRS2,     2, 14,      2,     34,2,20010118,0600, 22.7440,-158.0153, 4721,   1996.5,   2.2441,  34.6118,2,  34.6115,2,     83.6,1,   -999.0,9,  -999.00,9,  -999.00,9,  -999.00,9,   1998,-999.000,  -999.0,  2.1043
     33KI122_1,  PRS2,     2, 14,      1,     33,2,20010118,0600, 22.7440,-158.0153, 4721,   1996.7,   2.2438,  34.6118,2,  34.6113,2,     83.6,1,   -999.0,9,  -999.00,9,  -999.00,9,  -999.00,9,   1998,-999.000,  -999.0,  2.1040
     33KI122_1,  PRS2,     6,  1,      6,      7,3,20010116,0346, 21.8483,-158.3638, 2480,      3.8,  24.6927,  35.1554,2,  35.1551,2,    212.7,1,   -999.0,9,  -999.00,9,  -999.00,9,  -999.00,9,      5,-999.000,  -999.0, 24.6919
     33KI122_1,  PRS2,     6,  1,      5,     38,2,20010116,0346, 21.8483,-158.3638, 2480,     79.0,  24.0957,  35.3409,2,  35.3395,2,    211.8,1,   -999.0,9,  -999.00,9,  -999.00,9,  -999.00,9,     80,-999.000,  -999.0, 24.0790
     33KI122_1,  PRS2,     6,  1,      4,     36,2,20010116,0346, 21.8483,-158.3638, 2480,    398.7,   8.2593,  34.1013,2,  34.0985,2,    145.4,1,   -999.0,9,  -999.00,9,  -999.00,9,  -999.00,9,    400,-999.000,  -999.0,  8.2182
     33KI122_1,  PRS2,     6,  1,      3,     35,2,20010116,0346, 21.8483,-158.3638, 2480,   1000.7,   4.0711,  34.4975,2,  34.4954,2,     46.2,1,   -999.0,9,  -999.00,9,  -999.00,9,  -999.00,9,   1001,-999.000,  -999.0,  3.9949
     33KI122_1,  PRS2,     6,  1,      2,     34,2,20010116,0346, 21.8483,-158.3638, 2480,   2003.1,   2.1148,  34.6215,2,  34.6207,2,     90.9,1,   -999.0,9,  -999.00,9,  -999.00,9,  -999.00,9,   2005,-999.000,  -999.0,  1.9764
     33KI122_1,  PRS2,     6,  1,      1,     33,2,20010116,0346, 21.8483,-158.3638, 2480,   2471.4,   1.8120,  34.6460,2,  34.6455,2,    108.3,1,   -999.0,9,  -999.00,9,  -999.00,9,  -999.00,9,   2472,-999.000,  -999.0,  1.6378
     33KI122_1,  PRS2,     8,  1,     15,     23,2,20010119,0334, 22.3303,-158.1933, 4840,      3.7,  24.3874,  35.1182,2,  35.1171,2,    210.0,2,    211.3,2,     1.57,2,     0.03,2,     0.13,2,      5,-999.000,  -999.0, 24.3866
     33KI122_1,  PRS2,     8,  1,     14,     14,2,20010119,0334, 22.3303,-158.1933, 4840,     24.1,  24.3209,  35.1119,2,  35.1114,2,    211.7,2,    211.4,2,     1.61,2,     0.03,2,     0.13,2,     25,-999.000,  -999.0, 24.3158
     33KI122_1,  PRS2,     8,  1,     13,     13,3,20010119,0334, 22.3303,-158.1933, 4840,     44.2,  24.3018,  35.1137,2,  35.1132,2,    211.9,2,    211.9,2,     1.55,2,     0.03,2,     0.13,2,     45,-999.000,  -999.0, 24.2924
     33KI122_1,  PRS2,     8,  1,     12,     12,2,20010119,0334, 22.3303,-158.1933, 4840,     73.8,  24.1612,  35.3103,2,  35.3078,2,    210.4,2,    210.7,2,     1.49,2,     0.04,2,     0.10,2,     75,-999.000,  -999.0, 24.1455
     33KI122_1,  PRS2,     8,  1,     11,     11,2,20010119,0334, 22.3303,-158.1933, 4840,     99.8,  23.4984,  35.3768,2,  35.3662,2,    211.5,2,    210.4,2,     1.63,2,     0.07,2,     0.10,2,    102,-999.000,  -999.0, 23.4777
     33KI122_1,  PRS2,     8,  1,     10,     32,2,20010119,0334, 22.3303,-158.1933, 4840,    123.5,  21.6284,  35.2063,2,  35.2058,2,    209.8,2,    210.9,2,     2.09,2,     0.38,2,     0.16,2,    124,-999.000,  -999.0, 21.6042
     33KI122_1,  PRS2,     8,  1,      9,      3,2,20010119,0334, 22.3303,-158.1933, 4840,    148.9,  20.4745,  35.1761,2,  35.1794,2,    202.8,2,    201.0,2,     2.36,2,     1.08,2,     0.22,2,    152,-999.000,  -999.0, 20.4465
     33KI122_1,  PRS2,     8,  1,      8,     29,2,20010119,0334, 22.3303,-158.1933, 4840,    173.2,  19.2828,  35.0433,2,  35.0449,2,    197.2,2,    196.8,2,     2.80,2,     2.22,2,     0.26,2,    176,-999.000,  -999.0, 19.2516
     33KI122_1,  PRS2,     8,  1,      7,     28,2,20010119,0334, 22.3303,-158.1933, 4840,    199.6,  18.4445,  34.9639,2,  34.9697,2,    196.1,2,    196.5,2,     3.44,2,     3.05,2,     0.30,2,    199,-999.000,  -999.0, 18.4096
     33KI122_1,  PRS2,     8,  1,      6,      7,2,20010119,0334, 22.3303,-158.1933, 4840,    349.2,  10.7238,  34.2054,2,  34.2060,2,    153.6,2,    155.6,2,    20.67,2,    17.97,2,     1.38,2,    351,-999.000,  -999.0, 10.6815
     33KI122_1,  PRS2,     8,  1,      5,     38,2,20010119,0334, 22.3303,-158.1933, 4840,    419.8,  10.3102,  34.4519,2,  34.4536,2,     78.6,2,     55.2,3,    37.97,2,    25.66,2,     2.30,2,    420,-999.000,  -999.0, 10.2603
     33KI122_1,  PRS2,     8,  1,      4,     36,2,20010119,0334, 22.3303,-158.1933, 4840,    499.6,   7.7551,  34.1950,2,  34.1944,2,     81.1,2,     78.1,2,    47.32,2,    29.93,2,     2.34,2,    501,-999.000,  -999.0,  7.7051
     33KI122_1,  PRS2,     8,  1,      3,     35,2,20010119,0334, 22.3303,-158.1933, 4840,    599.1,   6.2780,  34.2634,2,  34.2615,2,     33.9,2,     32.1,2,    68.25,2,    37.11,2,     2.79,2,    600,-999.000,  -999.0,  6.2242
     33KI122_1,  PRS2,     8,  1,      2,     34,2,20010119,0334, 22.3303,-158.1933, 4840,    752.7,   5.3573,  34.4055,2,  34.4049,2,     24.9,2,     26.0,2,    84.61,2,    40.09,2,     2.97,2,    754,-999.000,  -999.0,  5.2940
     33KI122_1,  PRS2,     8,  1,      1,     33,2,20010119,0334, 22.3303,-158.1933, 4840,   1017.1,   4.1319,  34.4965,2,  34.4970,2,     43.6,2,     45.3,2,   107.01,2,    40.91,2,     2.96,2,   1019,-999.000,  -999.0,  4.0538
     33KI122_1,  PRS2,     9,  1,      5,     38,2,20010118,0852, 22.7302,-157.8997, 4699,      2.9,  24.3723,  35.0778,2,  35.0783,2,    211.8,1,   -999.0,9,  -999.00,9,  -999.00,9,  -999.00,9,      4,-999.000,  -999.0, 24.3717
     33KI122_1,  PRS2,     9,  1,      4,     36,2,20010118,0852, 22.7302,-157.8997, 4699,    118.5,  24.2116,  35.4088,2,  35.4064,2,    209.8,1,   -999.0,9,  -999.00,9,  -999.00,9,  -999.00,9,    121,-999.000,  -999.0, 24.1864
     33KI122_1,  PRS2,     9,  1,      3,     35,2,20010118,0852, 22.7302,-157.8997, 4699,    398.4,  11.5189,  34.5784,2,  34.5763,2,     54.4,1,   -999.0,9,  -999.00,9,  -999.00,9,  -999.00,9,    400,-999.000,  -999.0, 11.4681
     33KI122_1,  PRS2,     9,  1,      2,     34,2,20010118,0852, 22.7302,-157.8997, 4699,    498.0,   8.5484,  34.1910,2,  34.1940,2,    104.8,1,   -999.0,9,  -999.00,9,  -999.00,9,  -999.00,9,    500,-999.000,  -999.0,  8.4956
     33KI122_1,  PRS2,     9,  1,      1,     33,2,20010118,0852, 22.7302,-157.8997, 4699,    599.0,   6.5631,  34.1091,2,  34.1072,2,     86.6,1,   -999.0,9,  -999.00,9,  -999.00,9,  -999.00,9,    600,-999.000,  -999.0,  6.5082
     33KI122_1,  PRS2,    10,  1,      4,     36,2,20010118,1048, 22.6848,-157.6882, 4676,      3.6,  24.3383,  35.0503,2,  35.0498,2,    211.6,1,   -999.0,9,  -999.00,9,  -999.00,9,  -999.00,9,      5,-999.000,  -999.0, 24.3375
     33KI122_1,  PRS2,    10,  1,      3,     35,2,20010118,1048, 22.6848,-157.6882, 4676,    152.7,  21.3367,  35.2313,2,  35.2314,2,    206.9,1,   -999.0,9,  -999.00,9,  -999.00,9,  -999.00,9,    155,-999.000,  -999.0, 21.3071
     33KI122_1,  PRS2,    10,  1,      2,     34,2,20010118,1048, 22.6848,-157.6882, 4676,    447.4,   8.3359,  34.0793,2,  34.0754,2,    150.7,1,   -999.0,9,  -999.00,9,  -999.00,9,  -999.00,9,    449,-999.000,  -999.0,  8.2894
     33KI122_1,  PRS2,    10,  1,      1,     33,2,20010118,1048, 22.6848,-157.6882, 4676,    599.9,   6.4165,  34.1863,2,  34.1760,4,     51.2,1,   -999.0,9,  -999.00,9,  -999.00,9,  -999.00,9,    601,-999.000,  -999.0,  6.3621
     33KI122_1,  PRS2,    11,  1,      3,     35,2,20010118,1226, 22.7392,-157.8083, 4667,      3.2,  24.2691,  35.0353,2,  35.0360,2,    211.7,1,   -999.0,9,  -999.00,9,  -999.00,9,  -999.00,9,      5,-999.000,  -999.0, 24.2684
     33KI122_1,  PRS2,    11,  1,      2,     34,2,20010118,1226, 22.7392,-157.8083, 4667,    168.6,  20.9917,  35.2078,2,  35.2130,2,    207.2,1,   -999.0,9,  -999.00,9,  -999.00,9,  -999.00,9,    169,-999.000,  -999.0, 20.9594
     33KI122_1,  PRS2,    11,  1,      1,     33,2,20010118,1226, 22.7392,-157.8083, 4667,    598.6,   6.6837,  34.2128,2,  34.2117,2,     50.5,1,   -999.0,9,  -999.00,9,  -999.00,9,  -999.00,9,    602,-999.000,  -999.0,  6.6282
     33KI122_1,  PRS2,    12,  1,      3,     35,2,20010118,1337, 22.7675,-157.8617, 4672,      3.5,  24.3777,  35.0814,2,  35.1284,4,    212.2,1,   -999.0,9,  -999.00,9,  -999.00,9,  -999.00,9,      5,-999.000,  -999.0, 24.3769
     33KI122_1,  PRS2,    12,  1,      2,     34,2,20010118,1337, 22.7675,-157.8617, 4672,    372.6,  11.1753,  34.2726,2,  34.2738,2,    132.6,1,   -999.0,9,  -999.00,9,  -999.00,9,  -999.00,9,    373,-999.000,  -999.0, 11.1289
     33KI122_1,  PRS2,    12,  1,      1,     33,2,20010118,1337, 22.7675,-157.8617, 4672,    599.1,   6.0298,  34.1535,2,  34.1495,2,     65.0,1,   -999.0,9,  -999.00,9,  -999.00,9,  -999.00,9,    602,-999.000,  -999.0,  5.9772
     33KI122_1,  PRS2,    13,  1,      4,     36,2,20010118,1451, 22.7933,-157.9083, 4670,      3.2,  24.3672,  35.0957,2,  35.0933,2,    212.4,1,   -999.0,9,  -999.00,9,  -999.00,9,  -999.00,9,      5,-999.000,  -999.0, 24.3665
     33KI122_1,  PRS2,    13,  1,      3,     35,2,20010118,1451, 22.7933,-157.9083, 4670,    149.7,  21.3758,  35.2175,2,  35.2186,2,    210.3,1,   -999.0,9,  -999.00,9,  -999.00,9,  -999.00,9,    151,-999.000,  -999.0, 21.3467
     33KI122_1,  PRS2,    13,  1,      2,     34,2,20010118,1451, 22.7933,-157.9083, 4670,    419.9,  10.9557,  34.4504,2,  34.4457,2,     76.0,1,   -999.0,9,  -999.00,9,  -999.00,9,  -999.00,9,    420,-999.000,  -999.0, 10.9039
     33KI122_1,  PRS2,    13,  1,      1,     33,2,20010118,1451, 22.7933,-157.9083, 4670,    598.9,   6.1592,  34.1190,2,  34.1160,2,     74.9,1,   -999.0,9,  -999.00,9,  -999.00,9,  -999.00,9,    601,-999.000,  -999.0,  6.1061