BOTTLE,20020809WHPSIObren
#code : jjward hyd_to_exchange.pl 
#original files copied from HTML directory: 20020809
#original HYD file: /whpo/11/HOTS/BOTTLE/hot122/hot122.sea   Fri Aug  9 09:51:28 2002
#original SUM file: /whpo/11/HOTS/BOTTLE/hot122/hot122.sum   Fri Aug  9 13:30:32 2002
EXPOCODE,SECT_ID,STNNBR,CASTNO,SAMPNO,BTLNBR,BTLNBR_FLAG_W,DATE,TIME,LATITUDE,LONGITUDE,DEPTH,CTDPRS,CTDTMP,CTDSAL,CTDSAL_FLAG_W,SALNTY,SALNTY_FLAG_W,CTDOXY,CTDOXY_FLAG_W,OXYGEN,OXYGEN_FLAG_W,SILCAT,SILCAT_FLAG_W,NO2+NO3,NO2+NO3_FLAG_W,PHSPHT,PHSPHT_FLAG_W,CTDRAW,REVTMP,REVPRS,THETA
,,,,,,,,,,,,DBAR,ITS-90,PSS-78,,PSS-78,,UMOL/KG,,UMOL/KG,,UMOL/KG,,UMOL/KG,,UMOL/KG,,,DEG C,DBAR,ITS-90
     33KI122_1,  PRS2,     1,  1,     16,     16,3,20010115,2329, 21.3475,-158.2782, 1783,      4.0,  25.4369,  35.1548,2,  35.1573,2,    208.3,2,    208.4,2,  -999.00,5,  -999.00,5,  -999.00,5,      6,-999.000,  -999.0, 25.4361
     33KI122_1,  PRS2,     1,  1,     15,     23,2,20010115,2329, 21.3475,-158.2782, 1783,      4.1,  25.4448,  35.1563,2,  35.1536,2,    208.1,2,    208.6,2,     1.62,2,     0.01,2,     0.17,2,      5,-999.000,  -999.0, 25.4439
     33KI122_1,  PRS2,     1,  1,     14,     14,2,20010115,2329, 21.3475,-158.2782, 1783,     23.7,  25.2399,  35.1507,2,  35.1473,2,    208.3,2,    208.7,2,     1.57,2,     0.01,2,     0.15,2,     25,-999.000,  -999.0, 25.2348
     33KI122_1,  PRS2,     1,  1,     13,     13,2,20010115,2329, 21.3475,-158.2782, 1783,     43.7,  25.0273,  35.1281,2,  35.1280,2,    209.4,2,    209.3,2,     1.77,2,     0.01,2,     0.16,2,     45,-999.000,  -999.0, 25.0178
     33KI122_1,  PRS2,     1,  1,     12,     12,4,20010115,2329, 21.3475,-158.2782, 1783,     73.4,  24.8178,  35.1140,2,  35.1191,2,    210.3,2,   -999.0,5,  -999.00,5,  -999.00,5,  -999.00,5,     75,-999.000,  -999.0, 24.8020
     33KI122_1,  PRS2,     1,  1,     11,     11,2,20010115,2329, 21.3475,-158.2782, 1783,     98.4,  24.0558,  35.1694,2,  35.1670,2,    212.6,2,    212.1,2,     1.85,2,     0.00,2,     0.15,2,    100,-999.000,  -999.0, 24.0351
     33KI122_1,  PRS2,     1,  1,     10,     32,2,20010115,2329, 21.3475,-158.2782, 1783,    124.4,  22.1735,  35.2368,2,  35.2469,2,    202.1,2,    202.6,2,     2.08,2,     0.69,2,     0.19,2,    124,-999.000,  -999.0, 22.1488
     33KI122_1,  PRS2,     1,  1,      9,      3,2,20010115,2329, 21.3475,-158.2782, 1783,    149.5,  20.7275,  35.1731,2,  35.1835,2,    204.1,2,    203.9,2,     2.34,2,     0.85,2,     0.23,2,    149,-999.000,  -999.0, 20.6992
     33KI122_1,  PRS2,     1,  1,      8,     29,2,20010115,2329, 21.3475,-158.2782, 1783,    175.2,  19.5790,  35.0797,2,  35.0866,2,    199.8,2,    199.6,2,     2.84,2,     1.79,2,     0.27,2,    177,-999.000,  -999.0, 19.5471
     33KI122_1,  PRS2,     1,  1,      7,     28,2,20010115,2329, 21.3475,-158.2782, 1783,    198.3,  18.7342,  34.9782,2,  34.9817,2,    196.0,2,    194.7,2,     3.60,2,     3.07,2,     0.33,2,    200,-999.000,  -999.0, 18.6992
     33KI122_1,  PRS2,     1,  1,      6,      7,2,20010115,2329, 21.3475,-158.2782, 1783,    248.3,  14.0432,  34.4094,2,  34.4008,2,    187.5,2,    187.9,2,     9.37,2,     8.94,2,     0.72,2,    250,-999.000,  -999.0, 14.0074
     33KI122_1,  PRS2,     1,  1,      5,     38,2,20010115,2329, 21.3475,-158.2782, 1783,    349.1,   9.5949,  34.1432,2,  34.1472,2,    153.3,2,    153.9,2,    27.59,2,    20.02,2,     1.50,2,    351,-999.000,  -999.0,  9.5556
     33KI122_1,  PRS2,     1,  1,      4,     36,2,20010115,2329, 21.3475,-158.2782, 1783,    501.1,   6.8920,  34.1627,2,  34.1619,2,     86.8,2,     86.9,2,    56.33,2,    31.19,2,     2.33,2,    501,-999.000,  -999.0,  6.8451
     33KI122_1,  PRS2,     1,  1,      3,     35,2,20010115,2329, 21.3475,-158.2782, 1783,    598.6,   5.9794,  34.2467,2,  34.2483,2,     44.8,2,     42.7,2,    72.00,2,    36.54,2,     2.75,2,    598,-999.000,  -999.0,  5.9270
     33KI122_1,  PRS2,     1,  1,      2,     34,2,20010115,2329, 21.3475,-158.2782, 1783,    748.8,   5.2166,  34.3908,2,  34.3898,2,     32.4,2,     32.6,2,    86.69,2,    39.22,2,     2.92,2,    751,-999.000,  -999.0,  5.1545
     33KI122_1,  PRS2,     1,  1,      1,     33,2,20010115,2329, 21.3475,-158.2782, 1783,   1017.9,   4.2595,  34.4950,2,  34.4946,2,     41.8,2,     43.1,2,   104.34,2,    40.80,2,     2.97,2,   1019,-999.000,  -999.0,  4.1803
     33KI122_1,  PRS2,     2,  1,     24,     31,3,20010116,1317, 22.7538,-158.0017, 4720,      4.1,  24.3632,  35.0783,2,  35.0795,2,    209.4,2,    210.4,2,     2.24,3,     0.00,2,     0.11,2,      5,-999.000,  -999.0, 24.3623
     33KI122_1,  PRS2,     2,  1,     23,     30,2,20010116,1317, 22.7538,-158.0017, 4720,    398.8,  12.1624,  34.7006,2,  34.6967,2,      3.4,2,      4.2,2,    40.90,2,    26.03,2,     2.52,2,    400,-999.000,  -999.0, 12.1096
     33KI122_1,  PRS2,     2,  1,     22,     22,2,20010116,1317, 22.7538,-158.0017, 4720,    598.6,   6.0775,  34.1517,2,  34.1501,2,     63.3,2,     61.7,2,    67.10,2,    35.39,2,     2.54,2,    599,-999.000,  -999.0,  6.0248
     33KI122_1,  PRS2,     2,  1,     21,     21,2,20010116,1317, 22.7538,-158.0017, 4720,    998.2,   4.1761,  34.4709,2,  34.4695,2,     41.3,2,     41.5,2,   106.14,2,    40.83,3,     2.90,3,    999,-999.000,  -999.0,  4.0993
     33KI122_1,  PRS2,     2,  1,     20,     20,2,20010116,1317, 22.7538,-158.0017, 4720,   1198.3,   3.6224,  34.5202,2,  34.5195,2,     51.0,2,     51.4,2,   117.72,2,    40.83,2,     2.87,3,   1199,-999.000,  -999.0,  3.5334
     33KI122_1,  PRS2,     2,  1,     19,     19,2,20010116,1317, 22.7538,-158.0017, 4720,   1399.4,   3.1240,  34.5593,2,  34.5588,2,     62.1,2,     62.2,2,   127.93,2,    40.52,2,     2.86,3,   1401,-999.000,  -999.0,  3.0232
     33KI122_1,  PRS2,     2,  1,     18,     18,2,20010116,1317, 22.7538,-158.0017, 4720,   1598.2,   2.7844,  34.5808,2,  34.5810,2,     70.4,2,     70.4,2,   135.60,2,    40.03,2,     2.84,3,   1601,-999.000,  -999.0,  2.6709
     33KI122_1,  PRS2,     2,  1,     17,     17,2,20010116,1317, 22.7538,-158.0017, 4720,   1798.9,   2.4707,  34.6013,2,  34.6012,2,     79.4,2,     80.1,2,   141.61,2,    39.63,2,     2.81,2,   1801,-999.000,  -999.0,  2.3444
     33KI122_1,  PRS2,     2,  1,     16,     16,2,20010116,1317, 22.7538,-158.0017, 4720,   1999.4,   2.1672,  34.6189,2,  34.6185,2,     86.1,2,     86.7,2,   150.12,2,    39.33,2,     2.77,2,   2001,-999.000,  -999.0,  2.0283
     33KI122_1,  PRS2,     2,  1,     15,     23,2,20010116,1317, 22.7538,-158.0017, 4720,   2199.2,   1.9725,  34.6317,2,  34.6317,2,     93.2,2,     93.8,2,   155.74,2,    38.93,2,     2.72,3,   2200,-999.000,  -999.0,  1.8196
     33KI122_1,  PRS2,     2,  1,     14,     14,2,20010116,1317, 22.7538,-158.0017, 4720,   2399.3,   1.8179,  34.6449,2,  34.6453,2,    101.5,2,    102.7,2,   157.39,2,    38.60,2,     2.71,2,   2399,-999.000,  -999.0,  1.6500
     33KI122_1,  PRS2,     2,  1,     13,     13,2,20010116,1317, 22.7538,-158.0017, 4720,   2597.4,   1.6977,  34.6551,2,  34.6551,2,    108.4,2,    109.3,2,   160.57,2,    38.05,2,     2.67,2,   2598,-999.000,  -999.0,  1.5143
     33KI122_1,  PRS2,     2,  1,     12,     12,2,20010116,1317, 22.7538,-158.0017, 4720,   2797.1,   1.5943,  34.6641,2,  34.6645,2,    117.6,2,    117.2,2,   161.37,2,    37.64,2,     2.64,2,   2797,-999.000,  -999.0,  1.3947
     33KI122_1,  PRS2,     2,  1,     11,     11,2,20010116,1317, 22.7538,-158.0017, 4720,   2997.6,   1.5471,  34.6709,2,  34.6702,2,    124.9,2,    125.1,2,   159.51,2,    37.16,2,     2.58,2,   2997,-999.000,  -999.0,  1.3295
     33KI122_1,  PRS2,     2,  1,     10,     32,2,20010116,1317, 22.7538,-158.0017, 4720,   3198.0,   1.5055,  34.6756,2,  34.6598,4,    131.0,3,    130.5,2,   156.13,2,    36.63,2,     2.55,2,   3198,-999.000,  -999.0,  1.2695
     33KI122_1,  PRS2,     2,  1,      9,      3,2,20010116,1317, 22.7538,-158.0017, 4720,   3398.5,   1.4777,  34.6800,2,  34.6796,2,    137.1,2,    137.1,2,   156.89,2,    36.38,2,     2.53,2,   3399,-999.000,  -999.0,  1.2224
     33KI122_1,  PRS2,     2,  1,      8,     29,2,20010116,1317, 22.7538,-158.0017, 4720,   3598.5,   1.4639,  34.6828,2,  34.6842,2,    141.5,2,    141.7,2,   155.39,2,    36.12,2,     2.48,3,   3599,-999.000,  -999.0,  1.1886
     33KI122_1,  PRS2,     2,  1,      7,     28,2,20010116,1317, 22.7538,-158.0017, 4720,   3797.8,   1.4567,  34.6851,2,  34.6846,2,    145.7,2,    145.5,2,   153.44,2,    35.89,2,     2.50,2,   3799,-999.000,  -999.0,  1.1607
     33KI122_1,  PRS2,     2,  1,      6,      7,2,20010116,1317, 22.7538,-158.0017, 4720,   3999.0,   1.4568,  34.6870,2,  34.6875,2,    148.5,2,    148.5,2,   151.99,2,    35.66,2,     2.47,2,   4000,-999.000,  -999.0,  1.1392
     33KI122_1,  PRS2,     2,  1,      5,     38,2,20010116,1317, 22.7538,-158.0017, 4720,   4198.2,   1.4643,  34.6883,2,  34.6881,2,    150.7,2,    150.5,2,   151.52,2,    35.91,2,     2.47,2,   4200,-999.000,  -999.0,  1.1246
     33KI122_1,  PRS2,     2,  1,      4,     36,2,20010116,1317, 22.7538,-158.0017, 4720,   4398.8,   1.4815,  34.6885,2,  34.6891,2,    151.8,2,    151.5,2,   150.75,2,    35.58,2,     2.45,2,   4399,-999.000,  -999.0,  1.1187
     33KI122_1,  PRS2,     2,  1,      3,     35,2,20010116,1317, 22.7538,-158.0017, 4720,   4498.4,   1.4888,  34.6887,2,  34.6897,2,    152.5,2,    152.3,2,   150.85,2,    35.42,2,     2.46,2,   4499,-999.000,  -999.0,  1.1144
     33KI122_1,  PRS2,     2,  1,      2,     34,2,20010116,1317, 22.7538,-158.0017, 4720,   4598.6,   1.4957,  34.6894,2,  34.6903,2,    153.1,2,    153.0,2,   149.92,2,    35.50,2,     2.44,2,   4598,-999.000,  -999.0,  1.1094
     33KI122_1,  PRS2,     2,  1,      1,     33,2,20010116,1317, 22.7538,-158.0017, 4720,   4804.5,   1.5022,  34.6906,2,  34.6914,2,    155.4,2,    155.5,2,   147.96,2,    35.42,2,     2.46,2,   4806,-999.000,  -999.0,  1.0914
     33KI122_1,  PRS2,     2,  2,     24,     31,3,20010116,1804, 22.7505,-157.9972, 4720,      3.4,  24.3605,  35.0849,2,  35.0841,2,    210.1,2,    210.6,2,     1.61,2,     0.01,2,     0.11,2,      5,-999.000,  -999.0, 24.3598
     33KI122_1,  PRS2,     2,  2,     23,     30,3,20010116,1804, 22.7505,-157.9972, 4720,     48.3,  24.3683,  35.0842,2,  35.0837,2,    210.1,2,    210.3,2,     1.88,2,     0.01,2,     0.12,2,     49,-999.000,  -999.0, 24.3581
     33KI122_1,  PRS2,     2,  2,     22,     22,2,20010116,1804, 22.7505,-157.9972, 4720,     99.0,  24.1455,  35.4359,2,  35.4336,2,    208.8,2,    208.5,2,     1.53,2,     0.01,2,     0.05,2,    101,-999.000,  -999.0, 24.1246
     33KI122_1,  PRS2,     2,  2,     21,     21,2,20010116,1804, 22.7505,-157.9972, 4720,    148.9,  22.0256,  35.2531,2,  35.2532,2,    206.8,2,    207.5,2,     1.96,2,     0.48,2,     0.12,2,    150,-999.000,  -999.0, 21.9961
     33KI122_1,  PRS2,     2,  2,     20,     20,2,20010116,1804, 22.7505,-157.9972, 4720,    208.3,  19.9062,  35.1191,2,  35.1203,2,    199.5,2,    198.1,2,     2.50,2,     1.59,2,     0.23,2,    211,-999.000,  -999.0, 19.8678
     33KI122_1,  PRS2,     2,  2,     19,     19,2,20010116,1804, 22.7505,-157.9972, 4720,    244.1,  18.3352,  34.9153,2,  34.9201,2,    196.0,2,    194.4,2,     3.43,2,     3.19,2,     0.31,2,    244,-999.000,  -999.0, 18.2927
     33KI122_1,  PRS2,     2,  2,     18,     18,2,20010116,1804, 22.7505,-157.9972, 4720,    278.1,  17.1657,  34.7690,2,  34.7679,2,    198.1,2,    193.9,2,     4.42,2,     4.30,2,     0.38,2,    279,-999.000,  -999.0, 17.1195
     33KI122_1,  PRS2,     2,  2,     17,     17,2,20010116,1804, 22.7505,-157.9972, 4720,    339.9,  12.1030,  34.2098,2,  34.2056,2,     43.0,2,     43.2,2,    27.27,2,    23.42,2,     2.12,2,    341,-999.000,  -999.0, 12.0585
     33KI122_1,  PRS2,     2,  2,     16,     16,2,20010116,1804, 22.7505,-157.9972, 4720,    369.1,  12.1435,  34.4683,2,  34.4718,2,     21.6,2,     18.0,2,    31.99,2,    26.03,2,     2.42,2,    371,-999.000,  -999.0, 12.0949
     33KI122_1,  PRS2,     2,  2,     15,     23,2,20010116,1804, 22.7505,-157.9972, 4720,    399.3,  12.1926,  34.6973,2,  34.6975,2,      4.5,2,      3.0,2,    35.92,2,    26.48,2,     2.60,2,    401,-999.000,  -999.0, 12.1397
     33KI122_1,  PRS2,     2,  2,     14,     14,2,20010116,1804, 22.7505,-157.9972, 4720,    437.1,  11.7378,  34.6849,2,  34.6940,2,      7.2,2,      6.3,2,    37.77,2,    26.39,2,     2.62,2,    439,-999.000,  -999.0, 11.6812
     33KI122_1,  PRS2,     2,  2,     13,     13,2,20010116,1804, 22.7505,-157.9972, 4720,    478.5,  10.8252,  34.5623,2,  34.5651,2,     29.0,2,     25.7,2,    38.68,2,    26.33,2,     2.53,2,    479,-999.000,  -999.0, 10.7664
     33KI122_1,  PRS2,     2,  2,     12,     12,2,20010116,1804, 22.7505,-157.9972, 4720,    519.9,   8.9496,  34.3166,2,  34.3237,2,     65.5,2,     65.0,2,    41.97,2,    27.95,2,     2.35,2,    521,-999.000,  -999.0,  8.8928
     33KI122_1,  PRS2,     2,  2,     11,     11,3,20010116,1804, 22.7505,-157.9972, 4720,    554.0,   7.3757,  34.1357,2,  34.1377,2,     88.1,2,     86.4,2,    48.03,2,    30.71,2,     2.31,2,    555,-999.000,  -999.0,  7.3217
     33KI122_1,  PRS2,     2,  2,     10,     32,2,20010116,1804, 22.7505,-157.9972, 4720,    583.3,   6.7231,  34.1642,2,  34.1646,2,     64.2,2,     65.3,2,    58.23,2,    33.78,2,     2.49,2,    585,-999.000,  -999.0,  6.6690
     33KI122_1,  PRS2,     2,  2,      9,      3,2,20010116,1804, 22.7505,-157.9972, 4720,    603.2,   6.2701,  34.1823,2,  34.1824,2,     61.6,2,     57.0,2,    64.83,2,    35.61,2,     2.61,2,    605,-999.000,  -999.0,  6.2160
     33KI122_1,  PRS2,     2,  2,      8,     29,2,20010116,1804, 22.7505,-157.9972, 4720,    643.7,   5.4859,  34.1494,2,  34.1517,2,     54.7,2,     50.4,2,    75.86,2,    37.71,2,     2.73,2,    645,-999.000,  -999.0,  5.4319
     33KI122_1,  PRS2,     2,  2,      7,     28,2,20010116,1804, 22.7505,-157.9972, 4720,    704.4,   5.0895,  34.2244,2,  34.2254,2,     36.7,2,     35.0,2,    85.84,2,    39.71,2,     2.87,2,    706,-999.000,  -999.0,  5.0322
     33KI122_1,  PRS2,     2,  2,      6,      7,3,20010116,1804, 22.7505,-157.9972, 4720,    749.8,   5.1136,  34.3028,2,  34.3027,2,     35.2,2,     34.6,2,    87.09,2,    39.88,2,     2.89,2,    751,-999.000,  -999.0,  5.0521
     33KI122_1,  PRS2,     2,  2,      5,     38,2,20010116,1804, 22.7505,-157.9972, 4720,    786.6,   4.9446,  34.3327,2,  34.3362,2,     36.6,2,     36.5,2,    90.22,2,    40.10,2,     2.89,2,    787,-999.000,  -999.0,  4.8808
     33KI122_1,  PRS2,     2,  2,      4,     36,2,20010116,1804, 22.7505,-157.9972, 4720,    837.7,   4.7569,  34.3807,2,  34.3804,2,     38.6,2,     37.4,2,    95.13,2,    40.42,2,     2.90,2,    840,-999.000,  -999.0,  4.6898
     33KI122_1,  PRS2,     2,  2,      3,     35,2,20010116,1804, 22.7505,-157.9972, 4720,    897.7,   4.5576,  34.4076,2,  34.4071,2,     35.8,2,     35.6,2,    98.49,2,    40.92,2,     2.95,2,    900,-999.000,  -999.0,  4.4867
     33KI122_1,  PRS2,     2,  2,      2,     34,2,20010116,1804, 22.7505,-157.9972, 4720,    957.4,   4.2878,  34.4472,2,  34.4467,2,     38.5,2,     39.9,2,   104.09,2,    41.21,2,     2.95,2,    958,-999.000,  -999.0,  4.2136
     33KI122_1,  PRS2,     2,  2,      1,     33,2,20010116,1804, 22.7505,-157.9972, 4720,   1030.1,   4.0518,  34.4794,2,  34.4811,2,     43.4,2,     43.5,2,   109.40,2,    41.19,2,     2.96,2,   1031,-999.000,  -999.0,  3.9733
     33KI122_1,  PRS2,     2,  3,     14,     14,2,20010116,2057, 22.7462,-158.0132, 4720,      3.3,  24.3700,  35.0872,2,  35.0856,2,    209.7,1,   -999.0,9,  -999.00,9,  -999.00,9,  -999.00,9,      5,-999.000,  -999.0, 24.3693
     33KI122_1,  PRS2,     2,  3,     13,     13,2,20010116,2057, 22.7462,-158.0132, 4720,     13.7,  24.3673,  35.0879,2,  35.0880,2,    209.7,1,   -999.0,9,  -999.00,9,  -999.00,9,  -999.00,9,     15,-999.000,  -999.0, 24.3644
     33KI122_1,  PRS2,     2,  3,     12,     12,2,20010116,2057, 22.7462,-158.0132, 4720,     23.5,  24.3631,  35.0872,2,  35.0866,2,    210.1,1,   -999.0,9,  -999.00,9,  -999.00,9,  -999.00,9,     25,-999.000,  -999.0, 24.3581
     33KI122_1,  PRS2,     2,  3,     11,     11,2,20010116,2057, 22.7462,-158.0132, 4720,     33.6,  24.3636,  35.0872,2,  35.0850,2,    210.2,1,   -999.0,9,  -999.00,9,  -999.00,9,  -999.00,9,     35,-999.000,  -999.0, 24.3565
     33KI122_1,  PRS2,     2,  3,     10,     32,2,20010116,2057, 22.7462,-158.0132, 4720,     33.7,  24.3639,  35.0872,2,  35.1085,4,    210.2,1,   -999.0,9,  -999.00,9,  -999.00,9,  -999.00,9,     35,-999.000,  -999.0, 24.3568
     33KI122_1,  PRS2,     2,  3,      9,      3,2,20010116,2057, 22.7462,-158.0132, 4720,     43.6,  24.3612,  35.0867,2,  35.0866,2,    210.3,1,   -999.0,9,  -999.00,9,  -999.00,9,  -999.00,9,     45,-999.000,  -999.0, 24.3520
     33KI122_1,  PRS2,     2,  3,      8,     29,2,20010116,2057, 22.7462,-158.0132, 4720,     57.6,  24.3615,  35.0872,2,  35.0874,2,    210.6,1,   -999.0,9,  -999.00,9,  -999.00,9,  -999.00,9,     60,-999.000,  -999.0, 24.3492
     33KI122_1,  PRS2,     2,  3,      7,     28,2,20010116,2057, 22.7462,-158.0132, 4720,     74.2,  24.4250,  35.1683,2,  35.1681,2,    210.1,1,   -999.0,9,  -999.00,9,  -999.00,9,  -999.00,9,     75,-999.000,  -999.0, 24.4092
     33KI122_1,  PRS2,     2,  3,      6,      7,2,20010116,2057, 22.7462,-158.0132, 4720,     98.2,  24.2198,  35.3506,2,  35.3512,2,    208.5,1,   -999.0,9,  -999.00,9,  -999.00,9,  -999.00,9,    100,-999.000,  -999.0, 24.1990
     33KI122_1,  PRS2,     2,  3,      5,     38,2,20010116,2057, 22.7462,-158.0132, 4720,    124.1,  23.8793,  35.4224,2,  35.4115,2,    207.3,1,   -999.0,9,  -999.00,9,  -999.00,9,  -999.00,9,    125,-999.000,  -999.0, 23.8533
     33KI122_1,  PRS2,     2,  3,      4,     36,2,20010116,2057, 22.7462,-158.0132, 4720,    148.0,  22.9666,  35.2787,2,  35.2796,2,    208.6,1,   -999.0,9,  -999.00,9,  -999.00,9,  -999.00,9,    149,-999.000,  -999.0, 22.9363
     33KI122_1,  PRS2,     2,  3,      3,     35,2,20010116,2057, 22.7462,-158.0132, 4720,    174.2,  21.2275,  35.2329,2,  35.2341,2,    203.9,1,   -999.0,9,  -999.00,9,  -999.00,9,  -999.00,9,    176,-999.000,  -999.0, 21.1938
     33KI122_1,  PRS2,     2,  3,      2,     34,2,20010116,2057, 22.7462,-158.0132, 4720,    597.7,   6.4585,  34.1667,2,  34.1664,2,     61.3,1,   -999.0,9,  -999.00,9,  -999.00,9,  -999.00,9,    599,-999.000,  -999.0,  6.4041
     33KI122_1,  PRS2,     2,  3,      1,     33,2,20010116,2057, 22.7462,-158.0132, 4720,   1018.8,   4.1438,  34.4635,2,  34.4624,2,     40.9,1,   -999.0,9,  -999.00,9,  -999.00,9,  -999.00,9,   1020,-999.000,  -999.0,  4.0655