BOTTLE,20020809WHPSIObren
EXPOCODE,SECT_ID,STNNBR,CASTNO,SAMPNO,BTLNBR,BTLNBR_FLAG_W,DATE,TIME,LATITUDE,LONGITUDE,DEPTH,CTDPRS,CTDTMP,CTDSAL,CTDSAL_FLAG_W,SALNTY,SALNTY_FLAG_W,CTDOXY,CTDOXY_FLAG_W,OXYGEN,OXYGEN_FLAG_W,SILCAT,SILCAT_FLAG_W,NO2+NO3,NO2+NO3_FLAG_W,PHSPHT,PHSPHT_FLAG_W,CTDRAW,REVTMP,REVPRS,THETA
,,,,,,,,,,,,DBAR,ITS-90,PSS-78,,PSS-78,,UMOL/KG,,UMOL/KG,,UMOL/KG,,UMOL/KG,,UMOL/KG,,,DEG C,DBAR,ITS-90
     33KI122_1,  PRS2,     2,  8,     22,     22,2,20010117,1152, 22.7277,-157.9645, 4718,      3.7,  24.3240,  35.0773,2,  35.0764,2,    211.2,1,   -999.0,9,  -999.00,9,  -999.00,9,  -999.00,9,      5,-999.000,  -999.0, 24.3232
     33KI122_1,  PRS2,     2,  8,     20,     20,2,20010117,1152, 22.7277,-157.9645, 4718,      3.7,  24.3182,  35.0775,2,  35.0750,2,    211.2,1,   -999.0,9,  -999.00,9,  -999.00,9,  -999.00,9,      5,-999.000,  -999.0, 24.3174
     33KI122_1,  PRS2,     2,  8,     21,     21,2,20010117,1152, 22.7277,-157.9645, 4718,      3.8,  24.3182,  35.0776,2,  35.0754,2,    211.2,1,   -999.0,9,  -999.00,9,  -999.00,9,  -999.00,9,      5,-999.000,  -999.0, 24.3174
     33KI122_1,  PRS2,     2,  8,     17,     17,2,20010117,1152, 22.7277,-157.9645, 4718,     23.4,  24.3354,  35.0770,2,  35.1041,4,    211.1,1,   -999.0,9,  -999.00,9,  -999.00,9,  -999.00,9,     25,-999.000,  -999.0, 24.3305
     33KI122_1,  PRS2,     2,  8,     19,     19,2,20010117,1152, 22.7277,-157.9645, 4718,     23.5,  24.3352,  35.0770,2,  35.0748,2,    211.1,1,   -999.0,9,  -999.00,9,  -999.00,9,  -999.00,9,     24,-999.000,  -999.0, 24.3302
     33KI122_1,  PRS2,     2,  8,     18,     18,2,20010117,1152, 22.7277,-157.9645, 4718,     23.5,  24.3351,  35.0770,2,  35.0752,2,    211.1,1,   -999.0,9,  -999.00,9,  -999.00,9,  -999.00,9,     24,-999.000,  -999.0, 24.3301
     33KI122_1,  PRS2,     2,  8,     16,     16,2,20010117,1152, 22.7277,-157.9645, 4718,     44.0,  24.3403,  35.0773,2,  35.0783,2,    211.1,1,   -999.0,9,  -999.00,9,  -999.00,9,  -999.00,9,     45,-999.000,  -999.0, 24.3309
     33KI122_1,  PRS2,     2,  8,     15,     23,2,20010117,1152, 22.7277,-157.9645, 4718,     44.0,  24.3408,  35.0774,2,  35.0785,2,    211.1,1,   -999.0,9,  -999.00,9,  -999.00,9,  -999.00,9,     46,-999.000,  -999.0, 24.3314
     33KI122_1,  PRS2,     2,  8,     14,     14,2,20010117,1152, 22.7277,-157.9645, 4718,     44.0,  24.3411,  35.0776,2,  35.0774,2,    211.1,1,   -999.0,9,  -999.00,9,  -999.00,9,  -999.00,9,     45,-999.000,  -999.0, 24.3317
     33KI122_1,  PRS2,     2,  8,     13,     13,2,20010117,1152, 22.7277,-157.9645, 4718,     73.3,  24.4233,  35.1922,2,  35.2073,3,    210.9,1,   -999.0,9,  -999.00,9,  -999.00,9,  -999.00,9,     75,-999.000,  -999.0, 24.4076
     33KI122_1,  PRS2,     2,  8,     12,     12,2,20010117,1152, 22.7277,-157.9645, 4718,     73.3,  24.4234,  35.1942,2,  35.1815,2,    210.9,1,   -999.0,9,  -999.00,9,  -999.00,9,  -999.00,9,     75,-999.000,  -999.0, 24.4077
     33KI122_1,  PRS2,     2,  8,     11,     11,2,20010117,1152, 22.7277,-157.9645, 4718,     73.5,  24.4242,  35.1977,2,  35.1902,2,    210.9,1,   -999.0,9,  -999.00,9,  -999.00,9,  -999.00,9,     74,-999.000,  -999.0, 24.4085
     33KI122_1,  PRS2,     2,  8,     10,     32,2,20010117,1152, 22.7277,-157.9645, 4718,     99.2,  24.3118,  35.3630,2,  35.3533,2,    209.2,1,   -999.0,9,  -999.00,9,  -999.00,9,  -999.00,9,    102,-999.000,  -999.0, 24.2907
     33KI122_1,  PRS2,     2,  8,      8,     29,2,20010117,1152, 22.7277,-157.9645, 4718,     99.5,  24.3116,  35.3655,2,  35.3811,3,    209.0,1,   -999.0,9,  -999.00,9,  -999.00,9,  -999.00,9,    100,-999.000,  -999.0, 24.2904
     33KI122_1,  PRS2,     2,  8,      9,      3,2,20010117,1152, 22.7277,-157.9645, 4718,     99.7,  24.3120,  35.3638,2,  35.3571,2,    209.1,1,   -999.0,9,  -999.00,9,  -999.00,9,  -999.00,9,    102,-999.000,  -999.0, 24.2908
     33KI122_1,  PRS2,     2,  8,      5,     38,2,20010117,1152, 22.7277,-157.9645, 4718,    123.4,  22.7586,  35.2735,2,  35.2725,2,    211.5,1,   -999.0,9,  -999.00,9,  -999.00,9,  -999.00,9,    126,-999.000,  -999.0, 22.7336
     33KI122_1,  PRS2,     2,  8,      6,      7,2,20010117,1152, 22.7277,-157.9645, 4718,    123.6,  22.7608,  35.2749,2,  35.2702,2,    211.3,1,   -999.0,9,  -999.00,9,  -999.00,9,  -999.00,9,    124,-999.000,  -999.0, 22.7358
     33KI122_1,  PRS2,     2,  8,      7,     28,2,20010117,1152, 22.7277,-157.9645, 4718,    123.9,  22.7659,  35.2724,2,  35.2970,3,    210.8,1,   -999.0,9,  -999.00,9,  -999.00,9,  -999.00,9,    124,-999.000,  -999.0, 22.7408
     33KI122_1,  PRS2,     2,  8,      4,     36,2,20010117,1152, 22.7277,-157.9645, 4718,    148.0,  21.5312,  35.2173,2,  35.2166,2,    208.6,1,   -999.0,9,  -999.00,9,  -999.00,9,  -999.00,9,    151,-999.000,  -999.0, 21.5023
     33KI122_1,  PRS2,     2,  8,      3,     35,2,20010117,1152, 22.7277,-157.9645, 4718,    174.8,  20.7645,  35.2014,2,  35.2308,4,    203.8,1,   -999.0,9,  -999.00,9,  -999.00,9,  -999.00,9,    174,-999.000,  -999.0, 20.7312
     33KI122_1,  PRS2,     2,  8,      2,     34,2,20010117,1152, 22.7277,-157.9645, 4718,    598.5,   6.5107,  34.1302,2,  34.1301,2,     77.9,1,   -999.0,9,  -999.00,9,  -999.00,9,  -999.00,9,    599,-999.000,  -999.0,  6.4561
     33KI122_1,  PRS2,     2,  8,      1,     33,2,20010117,1152, 22.7277,-157.9645, 4718,   1019.6,   4.1506,  34.4665,2,  34.4671,2,     41.3,1,   -999.0,9,  -999.00,9,  -999.00,9,  -999.00,9,   1021,-999.000,  -999.0,  4.0722
     33KI122_1,  PRS2,     2,  9,     11,     11,2,20010117,1455, 22.7502,-158.0040, 4722,      3.4,  24.3512,  35.0737,2,  35.0713,2,    211.4,1,   -999.0,9,  -999.00,9,  -999.00,9,  -999.00,9,      5,-999.000,  -999.0, 24.3504
     33KI122_1,  PRS2,     2,  9,     10,     32,2,20010117,1455, 22.7502,-158.0040, 4722,     13.9,  24.3539,  35.0737,2,  35.0726,2,    211.5,1,   -999.0,9,  -999.00,9,  -999.00,9,  -999.00,9,     16,-999.000,  -999.0, 24.3510
     33KI122_1,  PRS2,     2,  9,      9,      3,2,20010117,1455, 22.7502,-158.0040, 4722,     32.2,  24.3570,  35.0731,2,  35.0821,2,    211.3,1,   -999.0,9,  -999.00,9,  -999.00,9,  -999.00,9,     33,-999.000,  -999.0, 24.3501
     33KI122_1,  PRS2,     2,  9,      8,     29,2,20010117,1455, 22.7502,-158.0040, 4722,     58.9,  24.3615,  35.0741,2,  35.0722,2,    211.4,1,   -999.0,9,  -999.00,9,  -999.00,9,  -999.00,9,     61,-999.000,  -999.0, 24.3490
     33KI122_1,  PRS2,     2,  9,      7,     28,2,20010117,1455, 22.7502,-158.0040, 4722,     72.6,  24.4022,  35.1247,2,  35.1226,2,    211.4,1,   -999.0,9,  -999.00,9,  -999.00,9,  -999.00,9,     75,-999.000,  -999.0, 24.3867
     33KI122_1,  PRS2,     2,  9,      6,      7,3,20010117,1455, 22.7502,-158.0040, 4722,     83.0,  24.4405,  35.2537,2,  35.2501,2,    210.6,1,   -999.0,9,  -999.00,9,  -999.00,9,  -999.00,9,     85,-999.000,  -999.0, 24.4228
     33KI122_1,  PRS2,     2,  9,      5,     38,2,20010117,1455, 22.7502,-158.0040, 4722,     88.5,  24.3931,  35.2663,2,  35.2690,2,    210.4,1,   -999.0,9,  -999.00,9,  -999.00,9,  -999.00,9,     90,-999.000,  -999.0, 24.3742
     33KI122_1,  PRS2,     2,  9,      4,     36,2,20010117,1455, 22.7502,-158.0040, 4722,     94.5,  24.3231,  35.2744,2,  35.2749,2,    210.5,1,   -999.0,9,  -999.00,9,  -999.00,9,  -999.00,9,     97,-999.000,  -999.0, 24.3030
     33KI122_1,  PRS2,     2,  9,      3,     35,2,20010117,1455, 22.7502,-158.0040, 4722,    400.9,  12.0788,  34.6669,2,  34.6625,2,      9.0,1,   -999.0,9,  -999.00,9,  -999.00,9,  -999.00,9,    402,-999.000,  -999.0, 12.0260
     33KI122_1,  PRS2,     2,  9,      2,     34,2,20010117,1455, 22.7502,-158.0040, 4722,    597.2,   6.4768,  34.1604,2,  34.1599,2,     68.1,1,   -999.0,9,  -999.00,9,  -999.00,9,  -999.00,9,    601,-999.000,  -999.0,  6.4224
     33KI122_1,  PRS2,     2,  9,      1,     33,2,20010117,1455, 22.7502,-158.0040, 4722,   1018.6,   4.0769,  34.4715,2,  34.4712,2,     39.3,1,   -999.0,9,  -999.00,9,  -999.00,9,  -999.00,9,   1021,-999.000,  -999.0,  3.9991
     33KI122_1,  PRS2,     2, 10,     15,     23,3,20010117,1756, 22.7408,-157.9918, 4742,      3.9,  24.3293,  35.0816,2,  35.1067,4,    210.5,1,   -999.0,9,  -999.00,9,  -999.00,9,  -999.00,9,      5,-999.000,  -999.0, 24.3284
     33KI122_1,  PRS2,     2, 10,     14,     14,2,20010117,1756, 22.7408,-157.9918, 4742,     24.0,  24.3273,  35.0811,2,  35.1055,4,    210.5,1,   -999.0,9,  -999.00,9,  -999.00,9,  -999.00,9,     25,-999.000,  -999.0, 24.3222
     33KI122_1,  PRS2,     2, 10,     13,     13,2,20010117,1756, 22.7408,-157.9918, 4742,     43.8,  24.3314,  35.0819,2,  35.0835,2,    210.5,1,   -999.0,9,  -999.00,9,  -999.00,9,  -999.00,9,     46,-999.000,  -999.0, 24.3221
     33KI122_1,  PRS2,     2, 10,     12,     12,3,20010117,1756, 22.7408,-157.9918, 4742,     73.3,  24.4164,  35.2086,2,  35.1872,3,    210.8,1,   -999.0,9,  -999.00,9,  -999.00,9,  -999.00,9,     73,-999.000,  -999.0, 24.4007
     33KI122_1,  PRS2,     2, 10,     11,     11,2,20010117,1756, 22.7408,-157.9918, 4742,    100.3,  24.2471,  35.3364,2,  35.3368,2,    208.8,1,   -999.0,9,  -999.00,9,  -999.00,9,  -999.00,9,    101,-999.000,  -999.0, 24.2258
     33KI122_1,  PRS2,     2, 10,     10,     32,2,20010117,1756, 22.7408,-157.9918, 4742,    122.8,  23.7625,  35.2943,2,  35.3037,2,    210.8,1,   -999.0,9,  -999.00,9,  -999.00,9,  -999.00,9,    123,-999.000,  -999.0, 23.7368
     33KI122_1,  PRS2,     2, 10,      9,      3,2,20010117,1756, 22.7408,-157.9918, 4742,    149.7,  22.0993,  35.1685,2,  35.1719,2,    215.2,1,   -999.0,9,  -999.00,9,  -999.00,9,  -999.00,9,    152,-999.000,  -999.0, 22.0696
     33KI122_1,  PRS2,     2, 10,      8,     29,2,20010117,1756, 22.7408,-157.9918, 4742,    174.6,  21.3413,  35.2231,2,  35.2243,2,    208.6,1,   -999.0,9,  -999.00,9,  -999.00,9,  -999.00,9,    174,-999.000,  -999.0, 21.3074
     33KI122_1,  PRS2,     2, 10,      7,     28,2,20010117,1756, 22.7408,-157.9918, 4742,    199.0,  20.3239,  35.1625,2,  35.1654,2,    203.8,1,   -999.0,9,  -999.00,9,  -999.00,9,  -999.00,9,    199,-999.000,  -999.0, 20.2866
     33KI122_1,  PRS2,     2, 10,      6,      7,2,20010117,1756, 22.7408,-157.9918, 4742,    248.7,  17.4264,  34.7990,2,  34.8074,2,    199.2,1,   -999.0,9,  -999.00,9,  -999.00,9,  -999.00,9,    251,-999.000,  -999.0, 17.3846
     33KI122_1,  PRS2,     2, 10,      5,     38,2,20010117,1756, 22.7408,-157.9918, 4742,    348.0,  12.1127,  34.4863,2,  34.4826,2,     22.0,1,   -999.0,9,  -999.00,9,  -999.00,9,  -999.00,9,    351,-999.000,  -999.0, 12.0670
     33KI122_1,  PRS2,     2, 10,      4,     36,2,20010117,1756, 22.7408,-157.9918, 4742,    349.6,  12.1144,  34.4842,2,  34.4816,2,     21.9,1,   -999.0,9,  -999.00,9,  -999.00,9,  -999.00,9,    346,-999.000,  -999.0, 12.0685
     33KI122_1,  PRS2,     2, 10,      3,     35,2,20010117,1756, 22.7408,-157.9918, 4742,    399.1,  12.1219,  34.7059,2,  34.7068,2,      5.5,1,   -999.0,9,  -999.00,9,  -999.00,9,  -999.00,9,    402,-999.000,  -999.0, 12.0692
     33KI122_1,  PRS2,     2, 10,      2,     34,2,20010117,1756, 22.7408,-157.9918, 4742,    599.4,   6.2832,  34.1779,2,  34.1766,2,     58.5,1,   -999.0,9,  -999.00,9,  -999.00,9,  -999.00,9,    598,-999.000,  -999.0,  6.2294
     33KI122_1,  PRS2,     2, 10,      1,     33,2,20010117,1756, 22.7408,-157.9918, 4742,   1018.7,   4.1696,  34.4626,2,  34.4624,2,     41.1,1,   -999.0,9,  -999.00,9,  -999.00,9,  -999.00,9,   1021,-999.000,  -999.0,  4.0911
     33KI122_1,  PRS2,     2, 11,     18,     18,2,20010117,2059, 22.7505,-158.0133, 4723,      4.9,  24.3758,  35.0753,2,  35.0740,2,    211.1,1,   -999.0,9,  -999.00,9,  -999.00,9,  -999.00,9,      6,-999.000,  -999.0, 24.3747
     33KI122_1,  PRS2,     2, 11,     17,     17,2,20010117,2059, 22.7505,-158.0133, 4723,     43.4,  24.3395,  35.0759,2,  35.0748,2,    211.3,1,   -999.0,9,  -999.00,9,  -999.00,9,  -999.00,9,     45,-999.000,  -999.0, 24.3303
     33KI122_1,  PRS2,     2, 11,     16,     16,2,20010117,2059, 22.7505,-158.0133, 4723,     73.0,  24.3454,  35.0811,2,  35.0783,2,    211.5,1,   -999.0,9,  -999.00,9,  -999.00,9,  -999.00,9,     73,-999.000,  -999.0, 24.3299
     33KI122_1,  PRS2,     2, 11,     15,     23,2,20010117,2059, 22.7505,-158.0133, 4723,     99.2,  24.3113,  35.2784,2,  35.3127,4,    210.3,1,   -999.0,9,  -999.00,9,  -999.00,9,  -999.00,9,    102,-999.000,  -999.0, 24.2902
     33KI122_1,  PRS2,     2, 11,     12,     12,2,20010117,2059, 22.7505,-158.0133, 4723,     99.6,  24.3111,  35.2782,2,-999.0000,5,    210.2,1,   -999.0,9,  -999.00,9,  -999.00,9,  -999.00,9,    101,-999.000,  -999.0, 24.2900
     33KI122_1,  PRS2,     2, 11,     13,     13,2,20010117,2059, 22.7505,-158.0133, 4723,     99.7,  24.3109,  35.2783,2,  35.3187,4,    210.2,1,   -999.0,9,  -999.00,9,  -999.00,9,  -999.00,9,    101,-999.000,  -999.0, 24.2897
     33KI122_1,  PRS2,     2, 11,     14,     14,2,20010117,2059, 22.7505,-158.0133, 4723,     99.8,  24.3096,  35.2786,2,  35.2792,2,    210.3,1,   -999.0,9,  -999.00,9,  -999.00,9,  -999.00,9,    101,-999.000,  -999.0, 24.2883
     33KI122_1,  PRS2,     2, 11,     11,     11,2,20010117,2059, 22.7505,-158.0133, 4723,    122.4,  24.0239,  35.3617,2,  35.3610,2,    210.5,1,   -999.0,9,  -999.00,9,  -999.00,9,  -999.00,9,    123,-999.000,  -999.0, 23.9981
     33KI122_1,  PRS2,     2, 11,     10,     32,2,20010117,2059, 22.7505,-158.0133, 4723,    146.7,  22.6924,  35.2156,2,  35.2497,3,    212.6,1,   -999.0,9,  -999.00,9,  -999.00,9,  -999.00,9,    148,-999.000,  -999.0, 22.6627
     33KI122_1,  PRS2,     2, 11,      9,      3,2,20010117,2059, 22.7505,-158.0133, 4723,    162.4,  21.7631,  35.1994,2,  35.1995,2,    212.3,1,   -999.0,9,  -999.00,9,  -999.00,9,  -999.00,9,    163,-999.000,  -999.0, 21.7312
     33KI122_1,  PRS2,     2, 11,      8,     29,2,20010117,2059, 22.7505,-158.0133, 4723,    248.5,  17.4393,  34.8035,2,  34.8092,2,    196.5,1,   -999.0,9,  -999.00,9,  -999.00,9,  -999.00,9,    250,-999.000,  -999.0, 17.3975
     33KI122_1,  PRS2,     2, 11,      7,     28,2,20010117,2059, 22.7505,-158.0133, 4723,    297.9,  12.5559,  34.1912,2,  34.1887,2,     76.2,1,   -999.0,9,  -999.00,9,  -999.00,9,  -999.00,9,    302,-999.000,  -999.0, 12.5160
     33KI122_1,  PRS2,     2, 11,      6,      7,2,20010117,2059, 22.7505,-158.0133, 4723,    348.8,  12.0717,  34.3735,2,  34.3698,2,     27.1,1,   -999.0,9,  -999.00,9,  -999.00,9,  -999.00,9,    350,-999.000,  -999.0, 12.0261
     33KI122_1,  PRS2,     2, 11,      5,     38,2,20010117,2059, 22.7505,-158.0133, 4723,    399.0,  11.9955,  34.6513,2,  34.6529,2,     13.7,1,   -999.0,9,  -999.00,9,  -999.00,9,  -999.00,9,    401,-999.000,  -999.0, 11.9432
     33KI122_1,  PRS2,     2, 11,      4,     36,2,20010117,2059, 22.7505,-158.0133, 4723,    498.5,  10.2583,  34.4681,2,  34.4687,2,     55.2,1,   -999.0,9,  -999.00,9,  -999.00,9,  -999.00,9,    500,-999.000,  -999.0, 10.1991
     33KI122_1,  PRS2,     2, 11,      3,     35,2,20010117,2059, 22.7505,-158.0133, 4723,    599.5,   6.6611,  34.1542,2,  34.1575,2,     65.8,1,   -999.0,9,  -999.00,9,  -999.00,9,  -999.00,9,    601,-999.000,  -999.0,  6.6056
     33KI122_1,  PRS2,     2, 11,      2,     34,2,20010117,2059, 22.7505,-158.0133, 4723,    749.5,   4.9356,  34.2499,2,  34.2466,2,     33.1,1,   -999.0,9,  -999.00,9,  -999.00,9,  -999.00,9,    750,-999.000,  -999.0,  4.8752
     33KI122_1,  PRS2,     2, 11,      1,     33,2,20010117,2059, 22.7505,-158.0133, 4723,   1018.0,   4.0334,  34.4571,2,  34.4573,2,     36.9,1,   -999.0,9,  -999.00,9,  -999.00,9,  -999.00,9,   1021,-999.000,  -999.0,  3.9561
     33KI122_1,  PRS2,     2, 12,     12,     12,2,20010117,2356, 22.7442,-158.0353, 4734,      3.7,  24.5796,  35.0810,2,  35.0827,2,    211.7,1,   -999.0,9,  -999.00,9,  -999.00,9,  -999.00,9,      5,-999.000,  -999.0, 24.5788
     33KI122_1,  PRS2,     2, 12,     11,     11,2,20010117,2356, 22.7442,-158.0353, 4734,     23.8,  24.3535,  35.0774,2,  35.0821,2,    211.5,1,   -999.0,9,  -999.00,9,  -999.00,9,  -999.00,9,     26,-999.000,  -999.0, 24.3484
     33KI122_1,  PRS2,     2, 12,     10,     32,2,20010117,2356, 22.7442,-158.0353, 4734,     43.6,  24.3408,  35.0773,2,  35.0776,2,    212.0,1,   -999.0,9,  -999.00,9,  -999.00,9,  -999.00,9,     44,-999.000,  -999.0, 24.3316
     33KI122_1,  PRS2,     2, 12,      9,      3,2,20010117,2356, 22.7442,-158.0353, 4734,     73.3,  24.3386,  35.0795,2,  35.0779,2,    212.0,1,   -999.0,9,  -999.00,9,  -999.00,9,  -999.00,9,     74,-999.000,  -999.0, 24.3231
     33KI122_1,  PRS2,     2, 12,      8,     29,2,20010117,2356, 22.7442,-158.0353, 4734,     98.9,  24.3890,  35.2566,2,  35.2593,2,    211.0,1,   -999.0,9,  -999.00,9,  -999.00,9,  -999.00,9,    100,-999.000,  -999.0, 24.3680
     33KI122_1,  PRS2,     2, 12,      7,     28,2,20010117,2356, 22.7442,-158.0353, 4734,    123.6,  23.9409,  35.3997,2,  35.3977,2,    209.9,1,   -999.0,9,  -999.00,9,  -999.00,9,  -999.00,9,    125,-999.000,  -999.0, 23.9149
     33KI122_1,  PRS2,     2, 12,      6,      7,3,20010117,2356, 22.7442,-158.0353, 4734,    149.2,  22.6073,  35.1965,2,  35.2075,2,    211.2,1,   -999.0,9,  -999.00,9,  -999.00,9,  -999.00,9,    150,-999.000,  -999.0, 22.5772
     33KI122_1,  PRS2,     2, 12,      5,     38,2,20010117,2356, 22.7442,-158.0353, 4734,    249.5,  17.2623,  34.7775,2,  34.7883,2,    198.1,1,   -999.0,9,  -999.00,9,  -999.00,9,  -999.00,9,    250,-999.000,  -999.0, 17.2207
     33KI122_1,  PRS2,     2, 12,      4,     36,2,20010117,2356, 22.7442,-158.0353, 4734,    347.9,  12.0502,  34.3405,2,  34.3407,2,     29.5,1,   -999.0,9,  -999.00,9,  -999.00,9,  -999.00,9,    352,-999.000,  -999.0, 12.0047
     33KI122_1,  PRS2,     2, 12,      3,     35,2,20010117,2356, 22.7442,-158.0353, 4734,    420.0,  11.7989,  34.6799,2,  34.6897,2,      7.4,1,   -999.0,9,  -999.00,9,  -999.00,9,  -999.00,9,    418,-999.000,  -999.0, 11.7444
     33KI122_1,  PRS2,     2, 12,      2,     34,2,20010117,2356, 22.7442,-158.0353, 4734,    600.4,   6.3401,  34.1830,2,  34.1940,3,     57.5,1,   -999.0,9,  -999.00,9,  -999.00,9,  -999.00,9,    598,-999.000,  -999.0,  6.2860
     33KI122_1,  PRS2,     2, 12,      1,     33,2,20010117,2356, 22.7442,-158.0353, 4734,   1018.8,   4.1469,  34.4564,2,  34.4575,2,     37.0,1,   -999.0,9,  -999.00,9,  -999.00,9,  -999.00,9,   1018,-999.000,  -999.0,  4.0686