BOTTLE,20020809WHPSIObren
EXPOCODE,SECT_ID,STNNBR,CASTNO,SAMPNO,BTLNBR,BTLNBR_FLAG_W,DATE,TIME,LATITUDE,LONGITUDE,DEPTH,CTDPRS,CTDTMP,CTDSAL,CTDSAL_FLAG_W,SALNTY,SALNTY_FLAG_W,CTDOXY,CTDOXY_FLAG_W,OXYGEN,OXYGEN_FLAG_W,SILCAT,SILCAT_FLAG_W,NO2+NO3,NO2+NO3_FLAG_W,PHSPHT,PHSPHT_FLAG_W,CTDRAW,REVTMP,REVPRS,THETA
,,,,,,,,,,,,DBAR,ITS-90,PSS-78,,PSS-78,,UMOL/KG,,UMOL/KG,,UMOL/KG,,UMOL/KG,,UMOL/KG,,,DEG C,DBAR,ITS-90
     33KI122_1,  PRS2,     2,  4,      7,     28,2,20010116,2358, 22.7345,-157.9853, 4720,      3.7,  24.4885,  35.0825,2,  35.0817,2,    210.8,1,   -999.0,9,  -999.00,9,  -999.00,9,  -999.00,9,      5,-999.000,  -999.0, 24.4877
     33KI122_1,  PRS2,     2,  4,      6,      7,3,20010116,2358, 22.7345,-157.9853, 4720,      3.7,  24.4892,  35.0824,2,  35.0817,2,    210.8,1,   -999.0,9,  -999.00,9,  -999.00,9,  -999.00,9,      5,-999.000,  -999.0, 24.4884
     33KI122_1,  PRS2,     2,  4,      5,     38,2,20010116,2358, 22.7345,-157.9853, 4720,      3.7,  24.4894,  35.0824,2,  35.0900,2,    210.7,1,   -999.0,9,  -999.00,9,  -999.00,9,  -999.00,9,      5,-999.000,  -999.0, 24.4886
     33KI122_1,  PRS2,     2,  4,      4,     36,2,20010116,2358, 22.7345,-157.9853, 4720,      3.7,  24.4894,  35.0823,2,  35.0815,2,    210.7,1,   -999.0,9,  -999.00,9,  -999.00,9,  -999.00,9,      5,-999.000,  -999.0, 24.4886
     33KI122_1,  PRS2,     2,  4,      3,     35,2,20010116,2358, 22.7345,-157.9853, 4720,    419.3,  12.0185,  34.6897,2,  34.6910,2,      9.0,1,   -999.0,9,  -999.00,9,  -999.00,9,  -999.00,9,    420,-999.000,  -999.0, 11.9634
     33KI122_1,  PRS2,     2,  4,      2,     34,2,20010116,2358, 22.7345,-157.9853, 4720,    599.2,   6.8146,  34.1611,2,  34.1624,2,     68.0,1,   -999.0,9,  -999.00,9,  -999.00,9,  -999.00,9,    600,-999.000,  -999.0,  6.7585
     33KI122_1,  PRS2,     2,  4,      1,     33,2,20010116,2358, 22.7345,-157.9853, 4720,   1020.6,   4.2162,  34.4729,2,  34.4718,2,     42.0,1,   -999.0,9,  -999.00,9,  -999.00,9,  -999.00,9,   1022,-999.000,  -999.0,  4.1371
     33KI122_1,  PRS2,     2,  5,     20,     20,2,20010117,0254, 22.7587,-158.0083, 4720,      3.9,  24.4406,  35.0845,2,  35.0829,2,    211.0,1,   -999.0,9,  -999.00,9,  -999.00,9,  -999.00,9,      5,-999.000,  -999.0, 24.4398
     33KI122_1,  PRS2,     2,  5,     19,     19,2,20010117,0254, 22.7587,-158.0083, 4720,     24.3,  24.3995,  35.0834,2,  35.0902,2,    211.2,1,   -999.0,9,  -999.00,9,  -999.00,9,  -999.00,9,     26,-999.000,  -999.0, 24.3944
     33KI122_1,  PRS2,     2,  5,     18,     18,2,20010117,0254, 22.7587,-158.0083, 4720,     43.5,  24.3899,  35.0840,2,  35.0803,2,    211.6,1,   -999.0,9,  -999.00,9,  -999.00,9,  -999.00,9,     45,-999.000,  -999.0, 24.3806
     33KI122_1,  PRS2,     2,  5,     17,     17,2,20010117,0254, 22.7587,-158.0083, 4720,     74.5,  24.3828,  35.0872,2,  35.0860,2,    212.0,1,   -999.0,9,  -999.00,9,  -999.00,9,  -999.00,9,     76,-999.000,  -999.0, 24.3669
     33KI122_1,  PRS2,     2,  5,     16,     16,2,20010117,0254, 22.7587,-158.0083, 4720,     99.4,  24.3771,  35.2971,2,  35.2907,2,    210.4,1,   -999.0,9,  -999.00,9,  -999.00,9,  -999.00,9,    101,-999.000,  -999.0, 24.3560
     33KI122_1,  PRS2,     2,  5,     15,     23,2,20010117,0254, 22.7587,-158.0083, 4720,    124.2,  24.1870,  35.4304,2,  35.4277,2,    209.1,1,   -999.0,9,  -999.00,9,  -999.00,9,  -999.00,9,    125,-999.000,  -999.0, 24.1607
     33KI122_1,  PRS2,     2,  5,     14,     14,2,20010117,0254, 22.7587,-158.0083, 4720,    148.9,  23.8610,  35.4277,2,  35.4328,2,    209.3,1,   -999.0,9,  -999.00,9,  -999.00,9,  -999.00,9,    150,-999.000,  -999.0, 23.8297
     33KI122_1,  PRS2,     2,  5,     13,     13,2,20010117,0254, 22.7587,-158.0083, 4720,    174.7,  21.3658,  35.2150,2,  35.2152,2,    206.4,1,   -999.0,9,  -999.00,9,  -999.00,9,  -999.00,9,    176,-999.000,  -999.0, 21.3319
     33KI122_1,  PRS2,     2,  5,     12,     12,2,20010117,0254, 22.7587,-158.0083, 4720,    198.5,  20.2445,  35.1562,2,  35.1599,2,    200.9,1,   -999.0,9,  -999.00,9,  -999.00,9,  -999.00,9,    200,-999.000,  -999.0, 20.2074
     33KI122_1,  PRS2,     2,  5,     11,     11,2,20010117,0254, 22.7587,-158.0083, 4720,    248.7,  16.2211,  34.6527,2,  34.6659,2,    198.2,1,   -999.0,9,  -999.00,9,  -999.00,9,  -999.00,9,    250,-999.000,  -999.0, 16.1814
     33KI122_1,  PRS2,     2,  5,     10,     32,2,20010117,0254, 22.7587,-158.0083, 4720,    248.8,  16.2161,  34.6508,2,  34.6563,2,    198.1,1,   -999.0,9,  -999.00,9,  -999.00,9,  -999.00,9,    250,-999.000,  -999.0, 16.1764
     33KI122_1,  PRS2,     2,  5,      9,      3,2,20010117,0254, 22.7587,-158.0083, 4720,    273.8,  14.0446,  34.3427,2,  34.3490,2,    156.5,1,   -999.0,9,  -999.00,9,  -999.00,9,  -999.00,9,    275,-999.000,  -999.0, 14.0051
     33KI122_1,  PRS2,     2,  5,      8,     29,2,20010117,0254, 22.7587,-158.0083, 4720,    298.7,  12.2884,  34.1821,2,  34.1813,2,     62.7,1,   -999.0,9,  -999.00,9,  -999.00,9,  -999.00,9,    300,-999.000,  -999.0, 12.2490
     33KI122_1,  PRS2,     2,  5,      6,      7,2,20010117,0254, 22.7587,-158.0083, 4720,    348.6,  12.1905,  34.5369,2,  34.5223,2,     17.9,1,   -999.0,9,  -999.00,9,  -999.00,9,  -999.00,9,    350,-999.000,  -999.0, 12.1445
     33KI122_1,  PRS2,     2,  5,      7,     28,2,20010117,0254, 22.7587,-158.0083, 4720,    348.7,  12.1886,  34.5368,2,  34.5270,2,     18.4,1,   -999.0,9,  -999.00,9,  -999.00,9,  -999.00,9,    350,-999.000,  -999.0, 12.1426
     33KI122_1,  PRS2,     2,  5,      5,     38,2,20010117,0254, 22.7587,-158.0083, 4720,    358.5,  12.2324,  34.6278,2,  34.6335,2,      8.2,1,   -999.0,9,  -999.00,9,  -999.00,9,  -999.00,9,    361,-999.000,  -999.0, 12.1849
     33KI122_1,  PRS2,     2,  5,      4,     36,2,20010117,0254, 22.7587,-158.0083, 4720,    419.3,  11.9050,  34.6940,2,  34.6924,2,      6.7,1,   -999.0,9,  -999.00,9,  -999.00,9,  -999.00,9,    421,-999.000,  -999.0, 11.8502
     33KI122_1,  PRS2,     2,  5,      3,     35,2,20010117,0254, 22.7587,-158.0083, 4720,    473.9,  10.8415,  34.5679,2,  34.5692,2,     27.3,1,   -999.0,9,  -999.00,9,  -999.00,9,  -999.00,9,    476,-999.000,  -999.0, 10.7831
     33KI122_1,  PRS2,     2,  5,      2,     34,2,20010117,0254, 22.7587,-158.0083, 4720,    598.9,   6.5298,  34.1584,2,  34.1591,2,     61.7,1,   -999.0,9,  -999.00,9,  -999.00,9,  -999.00,9,    600,-999.000,  -999.0,  6.4750
     33KI122_1,  PRS2,     2,  5,      1,     33,2,20010117,0254, 22.7587,-158.0083, 4720,   1019.5,   4.2387,  34.4581,2,  34.4573,2,     40.1,1,   -999.0,9,  -999.00,9,  -999.00,9,  -999.00,9,   1021,-999.000,  -999.0,  4.1597
     33KI122_1,  PRS2,     2,  6,     19,     19,2,20010117,0556, 22.7483,-157.9963, 4720,      4.2,  24.4118,  35.0773,2,  35.0764,2,    210.8,2,   -999.0,5,  -999.00,5,  -999.00,5,  -999.00,5,      6,-999.000,  -999.0, 24.4109
     33KI122_1,  PRS2,     2,  6,     18,     18,2,20010117,0556, 22.7483,-157.9963, 4720,      4.2,  24.4134,  35.0773,2,  35.0756,2,    210.8,2,    211.1,2,     1.56,2,     0.00,2,     0.12,2,      5,-999.000,  -999.0, 24.4125
     33KI122_1,  PRS2,     2,  6,     17,     17,2,20010117,0556, 22.7483,-157.9963, 4720,     13.6,  24.4158,  35.0779,2,  35.0787,2,    210.8,2,   -999.0,5,     1.65,2,     0.00,2,     0.13,2,     15,-999.000,  -999.0, 24.4129
     33KI122_1,  PRS2,     2,  6,     16,     16,2,20010117,0556, 22.7483,-157.9963, 4720,     23.3,  24.4177,  35.0790,2,  35.1222,4,    210.8,3,   -999.0,5,  -999.00,5,  -999.00,5,  -999.00,5,     24,-999.000,  -999.0, 24.4128
     33KI122_1,  PRS2,     2,  6,     15,     23,2,20010117,0556, 22.7483,-157.9963, 4720,     23.3,  24.4178,  35.0789,2,  35.0754,2,    210.8,2,    211.1,2,     1.57,2,     0.01,2,     0.12,2,     24,-999.000,  -999.0, 24.4129
     33KI122_1,  PRS2,     2,  6,     14,     14,2,20010117,0556, 22.7483,-157.9963, 4720,     33.7,  24.4159,  35.0801,2,  35.1073,4,    211.2,3,   -999.0,5,     1.57,2,     0.00,2,     0.12,2,     35,-999.000,  -999.0, 24.4087
     33KI122_1,  PRS2,     2,  6,     13,     13,2,20010117,0556, 22.7483,-157.9963, 4720,     43.2,  24.4102,  35.0819,2,  35.0799,2,    211.0,2,    210.8,2,     1.67,2,     0.01,2,     0.12,2,     45,-999.000,  -999.0, 24.4009
     33KI122_1,  PRS2,     2,  6,     12,     12,2,20010117,0556, 22.7483,-157.9963, 4720,     58.1,  24.4064,  35.0838,2,  35.0815,2,    211.3,2,   -999.0,5,     1.56,2,     0.01,2,     0.12,2,     61,-999.000,  -999.0, 24.3940
     33KI122_1,  PRS2,     2,  6,     11,     11,2,20010117,0556, 22.7483,-157.9963, 4720,     74.1,  24.4049,  35.0876,2,  35.0917,2,    211.3,2,    210.6,2,     1.75,2,     0.00,2,     0.12,2,     75,-999.000,  -999.0, 24.3891
     33KI122_1,  PRS2,     2,  6,     10,     32,2,20010117,0556, 22.7483,-157.9963, 4720,     83.9,  24.4686,  35.2071,2,  35.1987,2,    211.0,2,    210.4,2,  -999.00,5,  -999.00,5,  -999.00,5,     86,-999.000,  -999.0, 24.4507
     33KI122_1,  PRS2,     2,  6,      9,      3,2,20010117,0556, 22.7483,-157.9963, 4720,     98.4,  24.4320,  35.2813,2,  35.2899,2,    210.5,2,    209.6,2,     1.47,2,     0.00,2,     0.10,2,     99,-999.000,  -999.0, 24.4110
     33KI122_1,  PRS2,     2,  6,      8,     29,2,20010117,0556, 22.7483,-157.9963, 4720,    114.0,  24.2759,  35.3531,2,  35.3486,2,    208.6,2,    208.6,2,  -999.00,5,  -999.00,5,  -999.00,5,    115,-999.000,  -999.0, 24.2517
     33KI122_1,  PRS2,     2,  6,      7,     28,2,20010117,0556, 22.7483,-157.9963, 4720,    124.1,  24.2624,  35.4078,2,  35.4137,2,    207.9,2,    207.4,2,     1.69,2,     0.02,2,     0.09,2,    126,-999.000,  -999.0, 24.2360
     33KI122_1,  PRS2,     2,  6,      6,      7,2,20010117,0556, 22.7483,-157.9963, 4720,    148.5,  24.0733,  35.4495,2,  35.4488,2,    207.8,2,    206.8,2,     1.78,2,     0.08,2,     0.08,2,    150,-999.000,  -999.0, 24.0420
     33KI122_1,  PRS2,     2,  6,      5,     38,2,20010117,0556, 22.7483,-157.9963, 4720,    163.7,  22.8271,  35.2330,2,  35.2578,3,    210.5,3,    212.8,2,  -999.00,5,  -999.00,5,  -999.00,5,    165,-999.000,  -999.0, 22.7938
     33KI122_1,  PRS2,     2,  6,      4,     36,2,20010117,0556, 22.7483,-157.9963, 4720,    172.8,  21.8519,  35.2005,2,  35.1993,2,    210.0,2,    211.6,2,     1.96,2,     0.25,2,     0.18,2,    174,-999.000,  -999.0, 21.8178
     33KI122_1,  PRS2,     2,  6,      3,     35,2,20010117,0556, 22.7483,-157.9963, 4720,    198.9,  20.4016,  35.1699,2,  35.1748,2,    201.1,2,    200.2,2,     2.25,2,     1.12,2,     0.22,2,    201,-999.000,  -999.0, 20.3643
     33KI122_1,  PRS2,     2,  6,      2,     34,2,20010117,0556, 22.7483,-157.9963, 4720,    399.6,  12.1248,  34.6943,2,  34.6971,2,      5.1,2,      3.7,2,  -999.00,5,  -999.00,5,  -999.00,5,    402,-999.000,  -999.0, 12.0720
     33KI122_1,  PRS2,     2,  6,      1,     33,2,20010117,0556, 22.7483,-157.9963, 4720,   1019.0,   4.1953,  34.4603,2,  34.4599,2,     40.5,2,   -999.0,5,  -999.00,5,  -999.00,5,  -999.00,5,   1021,-999.000,  -999.0,  4.1166
     33KI122_1,  PRS2,     2,  7,     19,     19,2,20010117,0858, 22.7453,-157.9910, 4722,      3.8,  24.3839,  35.0725,2,  35.0783,2,    211.1,1,   -999.0,9,  -999.00,9,  -999.00,9,  -999.00,9,      5,-999.000,  -999.0, 24.3831
     33KI122_1,  PRS2,     2,  7,     18,     18,4,20010117,0858, 22.7453,-157.9910, 4722,     24.0,  24.3896,  35.0724,2,-999.0000,5,    211.1,1,   -999.0,9,  -999.00,9,  -999.00,9,  -999.00,9,     26,-999.000,  -999.0, 24.3845
     33KI122_1,  PRS2,     2,  7,     17,     17,2,20010117,0858, 22.7453,-157.9910, 4722,     43.5,  24.3907,  35.0729,2,  35.0748,2,    211.0,1,   -999.0,9,  -999.00,9,  -999.00,9,  -999.00,9,     45,-999.000,  -999.0, 24.3814
     33KI122_1,  PRS2,     2,  7,     16,     16,3,20010117,0858, 22.7453,-157.9910, 4722,     73.0,  24.4364,  35.1975,2,  35.1821,3,    211.0,1,   -999.0,9,  -999.00,9,  -999.00,9,  -999.00,9,     74,-999.000,  -999.0, 24.4208
     33KI122_1,  PRS2,     2,  7,     14,     14,2,20010117,0858, 22.7453,-157.9910, 4722,     99.0,  24.1518,  35.3528,2,  35.3516,2,    209.0,1,   -999.0,9,  -999.00,9,  -999.00,9,  -999.00,9,    100,-999.000,  -999.0, 24.1308
     33KI122_1,  PRS2,     2,  7,     15,     23,2,20010117,0858, 22.7453,-157.9910, 4722,     99.2,  24.1505,  35.3524,2,  35.3555,2,    209.0,1,   -999.0,9,  -999.00,9,  -999.00,9,  -999.00,9,    101,-999.000,  -999.0, 24.1295
     33KI122_1,  PRS2,     2,  7,     13,     13,2,20010117,0858, 22.7453,-157.9910, 4722,    103.9,  24.0644,  35.3587,2,  35.3563,2,    209.1,1,   -999.0,9,  -999.00,9,  -999.00,9,  -999.00,9,    106,-999.000,  -999.0, 24.0425
     33KI122_1,  PRS2,     2,  7,     12,     12,2,20010117,0858, 22.7453,-157.9910, 4722,    109.8,  23.9937,  35.3839,2,  35.3896,2,    209.7,1,   -999.0,9,  -999.00,9,  -999.00,9,  -999.00,9,    111,-999.000,  -999.0, 23.9706
     33KI122_1,  PRS2,     2,  7,     11,     11,2,20010117,0858, 22.7453,-157.9910, 4722,    113.0,  23.7991,  35.3894,2,  35.3896,2,    210.0,1,   -999.0,9,  -999.00,9,  -999.00,9,  -999.00,9,    115,-999.000,  -999.0, 23.7754
     33KI122_1,  PRS2,     2,  7,     10,     32,2,20010117,0858, 22.7453,-157.9910, 4722,    119.3,  23.5708,  35.3558,2,  35.3650,2,    209.9,1,   -999.0,9,  -999.00,9,  -999.00,9,  -999.00,9,    120,-999.000,  -999.0, 23.5460
     33KI122_1,  PRS2,     2,  7,      9,      3,2,20010117,0858, 22.7453,-157.9910, 4722,    123.4,  23.5176,  35.3456,2,  35.3494,2,    210.0,1,   -999.0,9,  -999.00,9,  -999.00,9,  -999.00,9,    124,-999.000,  -999.0, 23.4920
     33KI122_1,  PRS2,     2,  7,      8,     29,2,20010117,0858, 22.7453,-157.9910, 4722,    129.3,  23.2295,  35.3012,2,  35.3080,2,    211.3,1,   -999.0,9,  -999.00,9,  -999.00,9,  -999.00,9,    131,-999.000,  -999.0, 23.2029
     33KI122_1,  PRS2,     2,  7,      7,     28,2,20010117,0858, 22.7453,-157.9910, 4722,    137.9,  22.6864,  35.2119,2,  35.2107,2,    213.8,1,   -999.0,9,  -999.00,9,  -999.00,9,  -999.00,9,    139,-999.000,  -999.0, 22.6585
     33KI122_1,  PRS2,     2,  7,      6,      7,2,20010117,0858, 22.7453,-157.9910, 4722,    148.9,  22.0363,  35.1909,2,  35.1928,2,    213.8,1,   -999.0,9,  -999.00,9,  -999.00,9,  -999.00,9,    150,-999.000,  -999.0, 22.0068
     33KI122_1,  PRS2,     2,  7,      5,     38,2,20010117,0858, 22.7453,-157.9910, 4722,    148.9,  22.0363,  35.1909,2,  35.1930,2,    213.6,1,   -999.0,9,  -999.00,9,  -999.00,9,  -999.00,9,    149,-999.000,  -999.0, 22.0068
     33KI122_1,  PRS2,     2,  7,      4,     36,2,20010117,0858, 22.7453,-157.9910, 4722,    173.4,  20.9745,  35.2212,2,  35.2223,2,    204.3,1,   -999.0,9,  -999.00,9,  -999.00,9,  -999.00,9,    175,-999.000,  -999.0, 20.9413
     33KI122_1,  PRS2,     2,  7,      3,     35,2,20010117,0858, 22.7453,-157.9910, 4722,    173.4,  20.9688,  35.2211,2,  35.2203,2,    204.2,1,   -999.0,9,  -999.00,9,  -999.00,9,  -999.00,9,    174,-999.000,  -999.0, 20.9357
     33KI122_1,  PRS2,     2,  7,      2,     34,2,20010117,0858, 22.7453,-157.9910, 4722,    199.4,  20.0085,  35.1279,2,  35.1317,2,    200.9,1,   -999.0,9,  -999.00,9,  -999.00,9,  -999.00,9,    200,-999.000,  -999.0, 19.9716
     33KI122_1,  PRS2,     2,  7,      1,     33,2,20010117,0858, 22.7453,-157.9910, 4722,   1018.5,   4.1988,  34.4614,2,  34.4669,2,     40.5,1,   -999.0,9,  -999.00,9,  -999.00,9,  -999.00,9,   1020,-999.000,  -999.0,  4.1201