BOTTLE,20020809WHPSIObren
EXPOCODE,SECT_ID,STNNBR,CASTNO,SAMPNO,BTLNBR,BTLNBR_FLAG_W,DATE,TIME,LATITUDE,LONGITUDE,DEPTH,CTDPRS,CTDTMP,CTDSAL,CTDSAL_FLAG_W,SALNTY,SALNTY_FLAG_W,CTDOXY,CTDOXY_FLAG_W,OXYGEN,OXYGEN_FLAG_W,SILCAT,SILCAT_FLAG_W,NO2+NO3,NO2+NO3_FLAG_W,PHSPHT,PHSPHT_FLAG_W,CTDRAW,REVTMP,REVPRS,THETA
,,,,,,,,,,,,DBAR,ITS-90,PSS-78,,PSS-78,,UMOL/KG,,UMOL/KG,,UMOL/KG,,UMOL/KG,,UMOL/KG,,,DEG C,DBAR,ITS-90
     33KI122_1,  PRS2,    14,  1,     13,     13,3,20010118,1557, 22.7750,-157.9600, 4700,      3.0,  24.3563,  35.0861,2,  35.0856,2,    211.9,1,   -999.0,9,  -999.00,9,  -999.00,9,  -999.00,9,      4,-999.000,  -999.0, 24.3557
     33KI122_1,  PRS2,    14,  1,     12,     12,2,20010118,1557, 22.7750,-157.9600, 4700,    368.1,  12.0375,  34.5246,2,  34.5229,2,     29.4,1,   -999.0,9,  -999.00,9,  -999.00,9,  -999.00,9,    370,-999.000,  -999.0, 11.9893
     33KI122_1,  PRS2,    14,  1,     11,     11,2,20010118,1557, 22.7750,-157.9600, 4700,    378.6,  11.9129,  34.5365,2,  34.5333,2,     34.9,1,   -999.0,9,  -999.00,9,  -999.00,9,  -999.00,9,    380,-999.000,  -999.0, 11.8637
     33KI122_1,  PRS2,    14,  1,     10,     32,2,20010118,1557, 22.7750,-157.9600, 4700,    388.7,  11.8994,  34.5837,2,  34.5690,2,     32.0,1,   -999.0,9,  -999.00,9,  -999.00,9,  -999.00,9,    387,-999.000,  -999.0, 11.8488
     33KI122_1,  PRS2,    14,  1,      9,      3,2,20010118,1557, 22.7750,-157.9600, 4700,    398.8,  11.9479,  34.6472,2,  34.6425,2,     25.1,1,   -999.0,9,  -999.00,9,  -999.00,9,  -999.00,9,    400,-999.000,  -999.0, 11.8957
     33KI122_1,  PRS2,    14,  1,      8,     29,2,20010118,1557, 22.7750,-157.9600, 4700,    408.0,  11.9636,  34.6559,2,  34.6537,2,     11.9,1,   -999.0,9,  -999.00,9,  -999.00,9,  -999.00,9,    411,-999.000,  -999.0, 11.9102
     33KI122_1,  PRS2,    14,  1,      7,     28,2,20010118,1557, 22.7750,-157.9600, 4700,    418.6,  11.7764,  34.6643,2,  34.6651,2,     11.3,1,   -999.0,9,  -999.00,9,  -999.00,9,  -999.00,9,    421,-999.000,  -999.0, 11.7221
     33KI122_1,  PRS2,    14,  1,      6,      7,2,20010118,1557, 22.7750,-157.9600, 4700,    427.7,  11.6430,  34.6618,2,  34.6582,2,     13.1,1,   -999.0,9,  -999.00,9,  -999.00,9,  -999.00,9,    431,-999.000,  -999.0, 11.5879
     33KI122_1,  PRS2,    14,  1,      5,     38,2,20010118,1557, 22.7750,-157.9600, 4700,    439.9,  11.2423,  34.6112,2,  34.6126,2,     20.8,1,   -999.0,9,  -999.00,9,  -999.00,9,  -999.00,9,    441,-999.000,  -999.0, 11.1869
     33KI122_1,  PRS2,    14,  1,      4,     36,2,20010118,1557, 22.7750,-157.9600, 4700,    448.9,  10.7313,  34.5205,2,  34.5508,3,     30.4,1,   -999.0,9,  -999.00,9,  -999.00,9,  -999.00,9,    450,-999.000,  -999.0, 10.6765
     33KI122_1,  PRS2,    14,  1,      3,     35,2,20010118,1557, 22.7750,-157.9600, 4700,    460.4,   9.9279,  34.3778,2,  34.3776,2,     78.5,1,   -999.0,9,  -999.00,9,  -999.00,9,  -999.00,9,    459,-999.000,  -999.0,  9.8744
     33KI122_1,  PRS2,    14,  1,      2,     34,2,20010118,1557, 22.7750,-157.9600, 4700,    468.2,   9.4120,  34.2934,2,  34.3062,2,     83.7,1,   -999.0,9,  -999.00,9,  -999.00,9,  -999.00,9,    470,-999.000,  -999.0,  9.3594
     33KI122_1,  PRS2,    14,  1,      1,     33,2,20010118,1557, 22.7750,-157.9600, 4700,    597.9,   6.4239,  34.1213,2,  34.1215,2,     78.4,1,   -999.0,9,  -999.00,9,  -999.00,9,  -999.00,9,    598,-999.000,  -999.0,  6.3697
     33KI122_1,  PRS2,    15,  1,      4,     36,2,20010118,1733, 22.7950,-158.0433, 4722,      3.2,  24.3499,  35.0869,2,  35.1020,4,    212.3,1,   -999.0,9,  -999.00,9,  -999.00,9,  -999.00,9,      4,-999.000,  -999.0, 24.3493
     33KI122_1,  PRS2,    15,  1,      3,     35,2,20010118,1733, 22.7950,-158.0433, 4722,    298.9,  12.8679,  34.2179,2,  34.2152,2,     97.7,1,   -999.0,9,  -999.00,9,  -999.00,9,  -999.00,9,    300,-999.000,  -999.0, 12.8272
     33KI122_1,  PRS2,    15,  1,      2,     34,2,20010118,1733, 22.7950,-158.0433, 4722,    398.4,  11.8821,  34.6502,2,  34.6539,2,     15.6,1,   -999.0,9,  -999.00,9,  -999.00,9,  -999.00,9,    400,-999.000,  -999.0, 11.8302
     33KI122_1,  PRS2,    15,  1,      1,     33,2,20010118,1733, 22.7950,-158.0433, 4722,    600.0,   6.4238,  34.1845,2,  34.1834,2,     61.0,1,   -999.0,9,  -999.00,9,  -999.00,9,  -999.00,9,    602,-999.000,  -999.0,  6.3693
     33KI122_1,  PRS2,    16,  1,      6,      7,2,20010118,1959, 22.7648,-158.1415, 4766,      3.5,  24.3839,  35.0814,2,  35.0921,3,    211.4,1,   -999.0,9,  -999.00,9,  -999.00,9,  -999.00,9,      5,-999.000,  -999.0, 24.3831
     33KI122_1,  PRS2,    16,  1,      5,     38,2,20010118,1959, 22.7648,-158.1415, 4766,    119.4,  23.8744,  35.4304,2,  35.4379,2,    209.6,1,   -999.0,9,  -999.00,9,  -999.00,9,  -999.00,9,    119,-999.000,  -999.0, 23.8493
     33KI122_1,  PRS2,    16,  1,      4,     36,2,20010118,1959, 22.7648,-158.1415, 4766,    349.0,  12.0528,  34.3531,2,  34.3454,2,     29.1,1,   -999.0,9,  -999.00,9,  -999.00,9,  -999.00,9,    350,-999.000,  -999.0, 12.0071
     33KI122_1,  PRS2,    16,  1,      3,     35,2,20010118,1959, 22.7648,-158.1415, 4766,    399.4,  12.0287,  34.6924,2,  34.6926,2,      7.0,1,   -999.0,9,  -999.00,9,  -999.00,9,  -999.00,9,    401,-999.000,  -999.0, 11.9762
     33KI122_1,  PRS2,    16,  1,      2,     34,2,20010118,1959, 22.7648,-158.1415, 4766,    448.8,  10.7653,  34.5385,2,  34.5404,2,     38.0,1,   -999.0,9,  -999.00,9,  -999.00,9,  -999.00,9,    450,-999.000,  -999.0, 10.7104
     33KI122_1,  PRS2,    16,  1,      1,     33,2,20010118,1959, 22.7648,-158.1415, 4766,    598.1,   6.3664,  34.2255,2,  34.2236,2,     42.4,1,   -999.0,9,  -999.00,9,  -999.00,9,  -999.00,9,    601,-999.000,  -999.0,  6.3123
     33KI122_1,  PRS2,    17,  1,      3,     35,2,20010118,2133, 22.7983,-158.2400, 4778,      3.5,  24.4060,  35.0926,2,  35.0939,2,    212.5,1,   -999.0,9,  -999.00,9,  -999.00,9,  -999.00,9,      5,-999.000,  -999.0, 24.4052
     33KI122_1,  PRS2,    17,  1,      2,     34,2,20010118,2133, 22.7983,-158.2400, 4778,    318.9,  12.3342,  34.1904,2,  34.1930,2,     77.6,1,   -999.0,9,  -999.00,9,  -999.00,9,  -999.00,9,    321,-999.000,  -999.0, 12.2919
     33KI122_1,  PRS2,    17,  1,      1,     33,2,20010118,2133, 22.7983,-158.2400, 4778,    598.6,   6.3464,  34.1666,2,  34.1634,2,     54.3,1,   -999.0,9,  -999.00,9,  -999.00,9,  -999.00,9,    599,-999.000,  -999.0,  6.2925
     33KI122_1,  PRS2,    18,  1,      3,     35,2,20010118,2328, 22.6767,-158.1267, 4743,      3.7,  24.4190,  35.1017,2,  35.1047,2,    221.5,1,   -999.0,9,  -999.00,9,  -999.00,9,  -999.00,9,      5,-999.000,  -999.0, 24.4182
     33KI122_1,  PRS2,    18,  1,      2,     34,2,20010118,2328, 22.6767,-158.1267, 4743,    409.0,  12.0574,  34.7112,2,  34.7097,2,      1.8,1,   -999.0,9,  -999.00,9,  -999.00,9,  -999.00,9,    411,-999.000,  -999.0, 12.0036
     33KI122_1,  PRS2,    18,  1,      1,     33,2,20010118,2328, 22.6767,-158.1267, 4743,    599.7,   6.6257,  34.1760,2,  34.1726,2,     56.5,1,   -999.0,9,  -999.00,9,  -999.00,9,  -999.00,9,    601,-999.000,  -999.0,  6.5704
     33KI122_1,  PRS2,    19,  1,      5,     38,2,20010119,0043, 22.6667,-158.0350, 4742,      3.6,  24.4652,  35.1009,2,  35.1004,2,    213.2,2,   -999.0,5,  -999.00,9,  -999.00,9,  -999.00,9,      5,-999.000,  -999.0, 24.4645
     33KI122_1,  PRS2,    19,  1,      4,     36,2,20010119,0043, 22.6667,-158.0350, 4742,    318.1,  12.2478,  34.1867,2,  34.1856,2,     57.9,2,   -999.0,5,  -999.00,9,  -999.00,9,  -999.00,9,    320,-999.000,  -999.0, 12.2059
     33KI122_1,  PRS2,    19,  1,      3,     35,2,20010119,0043, 22.6667,-158.0350, 4742,    417.5,  12.0599,  34.6934,2,  34.6928,2,      4.6,2,      4.9,2,  -999.00,9,  -999.00,9,  -999.00,9,    420,-999.000,  -999.0, 12.0050
     33KI122_1,  PRS2,    19,  1,      2,     34,2,20010119,0043, 22.6667,-158.0350, 4742,    417.6,  12.0605,  34.6932,2,  34.6932,2,      4.6,2,   -999.0,5,  -999.00,9,  -999.00,9,  -999.00,9,    421,-999.000,  -999.0, 12.0055
     33KI122_1,  PRS2,    19,  1,      1,     33,2,20010119,0043, 22.6667,-158.0350, 4742,    600.7,   6.3673,  34.2180,2,  34.2152,2,     47.3,2,   -999.0,5,  -999.00,9,  -999.00,9,  -999.00,9,    602,-999.000,  -999.0,  6.3130