BOTTLE,20161216CCHSIOCBG
# flag -999 to 9 for FUCO, ALPHA-BETA-CAR, ALLO, ANTH, BUT-FUCO, CHL_B, CHL_C2, CHL_C3, CHLIDE_A, DIADINO, DIATO, HEX-FUCO, LUT, MV_CHL_A, NEO, PERID, PRAS, VIOLA, ZEA
# flag 2 to 9 for CTDOXY at 9-1-24-1024 (STNNBR-CASTNO-SAMPNO-BTLNBR)
# POC and PON units from ug/kg to UG/KG
#BOTTLE,20160609PRINUNIVRMK
# 3/17/2015 Initialized README file  
# Data source: Tom Trull 9/17/15 
# SHIP: Investigator 
# Cruise: Southern Ocean Time Series 
# Region: SE Indian 
# EXPOCODE: 096U20150321 
# Alias: 09IN20150321;SOTS;IN2015_V01 
# DATES: 3/21 - 3/30/2015 
# Chief Scientist: Tom Trull 
# 3 stations with 24 place 10L Rosette 
# SOCCOM Biogeochemical floats deployed by Tom Trull 
# Sta   WMO_ID	Lat       Lon       Date       U.W.ID	 
# 7     5904470 -47.1284  143.9814   20150325      8514 
# 9     Deployed, but never responded              9315 
# Supported by NSF Award PLR-1425989 to J.L. Sarmiento et al.  
# Hydro: Who - T.Trull; Status - final 
# 	Notes: Salt batch P157 use by data 15 May, 2017. 
# Nutrients: Who - C.Rees; M. Rayner; Status - final 
# 	Notes: units converted using measured salinity and assumed lab 
# 		temperature of 22C 
# 	Nitrate is really NO3+NO2 
# O2: Who - C.Rees; Status - final 
# 	Notes: units converted using measured salinity and assumed lab 
# 		temperature of 22C 
# TCO2: Who - B.Tilbrook; Status - final 
# 	Notes:  
# TA: Who - B.Tilbrook; Status - final 
# 	Notes:  
# HPLC Pigments: Who - Lesley Clementson; Status - final 
# 	Notes: Data rcd 9/29/15 
# POC/PON: Who - Tom Trull; Status - final 
# 	Notes: Data rcd 11/19/15 
# These data should be cited as: 
# References that have used data from this cruise: 
EXPOCODE,SECT_ID,STNNBR,CASTNO,SAMPNO,BTLNBR,BTLNBR_FLAG_W,DATE,TIME,LATITUDE,LONGITUDE,DEPTH,CTDPRS,CTDTMP,CTDSAL,CTDSAL_FLAG_W,SALNTY,SALNTY_FLAG_W,CTDOXY,CTDOXY_FLAG_W,OXYGEN,OXYGEN_FLAG_W,SILCAT,SILCAT_FLAG_W,NITRAT,NITRAT_FLAG_W,PHSPHT,PHSPHT_FLAG_W,TCARBN,TCARBN_FLAG_W,ALKALI,ALKALI_FLAG_W,POC,POC_FLAG_W,PON,PON_FLAG_W,FUCO,FUCO_FLAG_W,ALPHA-BETA-CAR,ALPHA-BETA-CAR_FLAG_W,ALLO,ALLO_FLAG_W,ANTH,ANTH_FLAG_W,BUT-FUCO,BUT-FUCO_FLAG_W,CHL_B,CHL_B_FLAG_W,CHL_C2,CHL_C2_FLAG_W,CHL_C3,CHL_C3_FLAG_W,CHLIDE_A,CHLIDE_A_FLAG_W,DIADINO,DIADINO_FLAG_W,DIATO,DIATO_FLAG_W,HEX-FUCO,HEX-FUCO_FLAG_W,LUT,LUT_FLAG_W,MV_CHL_A,MV_CHL_A_FLAG_W,NEO,NEO_FLAG_W,PERID,PERID_FLAG_W,PRAS,PRAS_FLAG_W,VIOLA,VIOLA_FLAG_W,ZEA,ZEA_FLAG_W,THETA
,,,,,,,,,,,METERS,DBAR,ITS-90,PSS-78,,PSS-78,,UMOL/KG,,UMOL/KG,,UMOL/KG,,UMOL/KG,,UMOL/KG,,UMOL/KG,,UMOL/KG,,UG/KG,,UG/KG,,NMOL/KG,,MG/M^3,,MG/M^3,,MG/M^3,,MG/M^3,,MG/M^3,,MG/M^3,,MG/M^3,,MG/M^3,,MG/M^3,,MG/M^3,,MG/M^3,,MG/M^3,,MG/M^3,,MG/M^3,,MG/M^3,,MG/M^3,,MG/M^3,,MG/M^3,,DEG C
  096U20150321,  SOTS,     5,  1,     23,   1023,2,20150323,2300,-46.6448, 142.1681, 4681,     12.0,  12.0440,  34.8122,2,  34.8110,2,    263.0,2,    264.3,2,     0.23,3,     5.78,2,     0.53,2,   2085.4,2,   2303.6,2,    14.71,2,     3.02,2,   0.0090,   2,    0.004,   2,    0.002,   2,    0.000,   2,    0.008,   2,    0.023,   2,    0.014,   2,    0.010,   2,    0.000,   2,    0.008,   2,    0.000,   2,    0.040,   2,    0.000,   2,    0.115,   2,    0.003,   2,    0.000,   2,    0.004,   2,    0.002,   2,    0.008,   2,  12.0424
  096U20150321,  SOTS,     5,  1,     24,   1024,2,20150323,2300,-46.6448, 142.1681, 4681,     12.6,  12.0420,  34.8122,2,  34.8120,2,    263.1,2,    264.5,2,     0.26,3,     5.78,2,     0.53,2,   2086.9,2,   2303.2,2,     -999,9,     -999,9,-999.0000,   9, -999.000,   9, -999.000,   9, -999.000,   9, -999.000,   9, -999.000,   9, -999.000,   9, -999.000,   9, -999.000,   9, -999.000,   9, -999.000,   9, -999.000,   9, -999.000,   9, -999.000,   9, -999.000,   9, -999.000,   9, -999.000,   9, -999.000,   9, -999.000,   9,  12.0404
  096U20150321,  SOTS,     5,  1,     21,   1042,2,20150323,2300,-46.6448, 142.1681, 4681,     30.2,  12.0460,  34.8119,2,  34.8110,2,    262.7,2,    264.2,2,     0.17,3,     5.76,2,     0.53,2,   2085.2,2,   2301.7,2,     19.4,2,     3.89,2,   0.0080,   2,    0.004,   2,    0.002,   2,    0.000,   2,    0.006,   2,    0.023,   2,    0.013,   2,    0.011,   2,    0.000,   2,    0.005,   2,    0.000,   2,    0.036,   2,    0.000,   2,    0.098,   2,    0.003,   2,    0.000,   2,    0.003,   2,    0.001,   2,    0.009,   2,  12.0421
  096U20150321,  SOTS,     5,  1,     22,   1022,2,20150323,2300,-46.6448, 142.1681, 4681,     30.9,  12.0450,  34.8120,2,  34.8120,2,    262.6,2,    264.4,2,     0.26,3,     5.78,2,     0.53,2,   2085.6,2,   2302.4,6,     -999,9,     -999,9,-999.0000,   9, -999.000,   9, -999.000,   9, -999.000,   9, -999.000,   9, -999.000,   9, -999.000,   9, -999.000,   9, -999.000,   9, -999.000,   9, -999.000,   9, -999.000,   9, -999.000,   9, -999.000,   9, -999.000,   9, -999.000,   9, -999.000,   9, -999.000,   9, -999.000,   9,  12.0410
  096U20150321,  SOTS,     5,  1,     20,   1066,2,20150323,2300,-46.6448, 142.1681, 4681,     60.1,  12.0490,  34.8123,2,  34.8120,2,    262.9,2,    264.2,2,     0.11,3,     5.77,2,     0.53,2,   2086.3,2,   2301.3,2,     -999,9,     -999,9,-999.0000,   9, -999.000,   9, -999.000,   9, -999.000,   9, -999.000,   9, -999.000,   9, -999.000,   9, -999.000,   9, -999.000,   9, -999.000,   9, -999.000,   9, -999.000,   9, -999.000,   9, -999.000,   9, -999.000,   9, -999.000,   9, -999.000,   9, -999.000,   9, -999.000,   9,  12.0412
  096U20150321,  SOTS,     5,  1,     19,   1052,2,20150323,2300,-46.6448, 142.1681, 4681,     60.7,  12.0490,  34.8122,2,  34.8120,2,    263.0,2,    264.4,2,     0.09,3,     5.77,2,     0.53,2,   2084.9,6,   2302.8,6,     -999,9,     -999,9,   0.0130,   2,    0.005,   2,    0.002,   2,    0.000,   2,    0.010,   2,    0.045,   2,    0.022,   2,    0.009,   2,    0.000,   2,    0.006,   2,    0.000,   2,    0.058,   2,    0.000,   2,    0.156,   2,    0.002,   2,    0.000,   2,    0.005,   2,    0.002,   2,    0.016,   2,  12.0411
  096U20150321,  SOTS,     5,  1,     17,   1064,2,20150323,2300,-46.6448, 142.1681, 4681,     91.4,  12.0510,  34.8129,2,  34.8130,2,    262.5,2,    263.8,2,     0.25,3,     5.79,2,     0.53,2,   2086.2,2,   2302.6,2,     -999,9,     -999,9,   0.0130,   2,    0.005,   2,    0.004,   2,    0.000,   2,    0.012,   2,    0.045,   2,    0.027,   2,    0.023,   2,    0.000,   2,    0.006,   2,    0.000,   2,    0.065,   2,    0.000,   2,    0.185,   2,    0.004,   2,    0.000,   2,    0.007,   2,    0.002,   2,    0.021,   2,  12.0391
  096U20150321,  SOTS,     5,  1,     18,   1062,2,20150323,2300,-46.6448, 142.1681, 4681,     91.8,  12.0500,  34.8130,2,  34.8140,2,    262.3,2,    263.9,2,     0.19,3,     5.81,2,     0.53,2,   2085.9,2,   2302.6,2,     -999,9,     -999,9,-999.0000,   9, -999.000,   9, -999.000,   9, -999.000,   9, -999.000,   9, -999.000,   9, -999.000,   9, -999.000,   9, -999.000,   9, -999.000,   9, -999.000,   9, -999.000,   9, -999.000,   9, -999.000,   9, -999.000,   9, -999.000,   9, -999.000,   9, -999.000,   9, -999.000,   9,  12.0381
  096U20150321,  SOTS,     5,  1,     15,   1015,2,20150323,2300,-46.6448, 142.1681, 4681,    117.8,  10.7510,  34.8705,2,  34.8820,2,    259.8,2,    253.3,2,     2.17,3,    11.32,2,     0.83,2,   2117.2,2,   2302.4,2,     -999,9,     -999,9,   0.0000,   2,    0.000,   2,    0.000,   2,    0.000,   2,    0.000,   2,    0.000,   2,    0.000,   2,    0.000,   2,    0.000,   2,    0.000,   2,    0.000,   2,    0.000,   2,    0.000,   2,    0.009,   2,    0.000,   2,    0.000,   2,    0.000,   2,    0.000,   2,    0.000,   2,  10.7368
  096U20150321,  SOTS,     5,  1,     16,   1016,2,20150323,2300,-46.6448, 142.1681, 4681,    118.9,  10.7250,  34.8820,2,  34.8820,2,    258.1,2,    253.5,2,     2.29,3,    11.45,2,     0.84,2,   2118.0,2,   2302.4,2,     -999,9,     -999,9,-999.0000,   9, -999.000,   9, -999.000,   9, -999.000,   9, -999.000,   9, -999.000,   9, -999.000,   9, -999.000,   9, -999.000,   9, -999.000,   9, -999.000,   9, -999.000,   9, -999.000,   9, -999.000,   9, -999.000,   9, -999.000,   9, -999.000,   9, -999.000,   9, -999.000,   9,  10.7106
  096U20150321,  SOTS,     5,  1,     13,   1055,2,20150323,2300,-46.6448, 142.1681, 4681,    148.6,  10.6460,  34.8882,2,  34.8890,2,    253.1,2,    255.6,2,     2.15,3,    11.32,2,     0.83,2,   2118.6,2,   2301.7,2,     -999,9,     -999,9,   0.0000,   2,    0.000,   2,    0.000,   2,    0.000,   2,    0.000,   2,    0.000,   2,    0.000,   2,    0.000,   2,    0.000,   2,    0.000,   2,    0.000,   2,    0.000,   2,    0.000,   2,    0.010,   2,    0.000,   2,    0.000,   2,    0.000,   2,    0.000,   2,    0.000,   2,  10.6281
  096U20150321,  SOTS,     5,  1,     14,   1059,2,20150323,2300,-46.6448, 142.1681, 4681,    149.7,  10.6480,  34.8884,2,  34.8890,2,    253.4,2,    255.7,2,     2.17,3,    11.32,2,     0.83,2,   2119.3,2,   2301.2,2,     -999,9,     -999,9,-999.0000,   9, -999.000,   9, -999.000,   9, -999.000,   9, -999.000,   9, -999.000,   9, -999.000,   9, -999.000,   9, -999.000,   9, -999.000,   9, -999.000,   9, -999.000,   9, -999.000,   9, -999.000,   9, -999.000,   9, -999.000,   9, -999.000,   9, -999.000,   9, -999.000,   9,  10.6300
  096U20150321,  SOTS,     5,  1,     11,   1071,2,20150323,2300,-46.6448, 142.1681, 4681,    200.9,  10.3940,  34.8506,2,  34.8500,2,    255.8,2,    257.4,2,     2.45,3,    11.80,2,     0.86,2,   2118.3,2,   2300.6,6,     -999,9,     -999,9,-999.0000,   9, -999.000,   9, -999.000,   9, -999.000,   9, -999.000,   9, -999.000,   9, -999.000,   9, -999.000,   9, -999.000,   9, -999.000,   9, -999.000,   9, -999.000,   9, -999.000,   9, -999.000,   9, -999.000,   9, -999.000,   9, -999.000,   9, -999.000,   9, -999.000,   9,  10.3701
  096U20150321,  SOTS,     5,  1,     12,   1063,2,20150323,2300,-46.6448, 142.1681, 4681,    201.3,  10.3950,  34.8506,2,  34.8490,2,    255.8,2,    257.5,2,     2.43,3,    11.80,2,     0.86,2,   2117.7,2,   2301.4,2,     -999,9,     -999,9,-999.0000,   9, -999.000,   9, -999.000,   9, -999.000,   9, -999.000,   9, -999.000,   9, -999.000,   9, -999.000,   9, -999.000,   9, -999.000,   9, -999.000,   9, -999.000,   9, -999.000,   9, -999.000,   9, -999.000,   9, -999.000,   9, -999.000,   9, -999.000,   9, -999.000,   9,  10.3711
  096U20150321,  SOTS,     5,  1,     10,   1010,2,20150323,2300,-46.6448, 142.1681, 4681,    301.2,   9.5960,  34.7264,2,  34.7220,2,    253.0,2,    254.8,2,     3.29,3,    13.97,2,     1.00,2,   2124.7,2,   2295.9,2,     -999,9,     -999,9,-999.0000,   9, -999.000,   9, -999.000,   9, -999.000,   9, -999.000,   9, -999.000,   9, -999.000,   9, -999.000,   9, -999.000,   9, -999.000,   9, -999.000,   9, -999.000,   9, -999.000,   9, -999.000,   9, -999.000,   9, -999.000,   9, -999.000,   9, -999.000,   9, -999.000,   9,   9.5619
  096U20150321,  SOTS,     5,  1,      9,   1054,2,20150323,2300,-46.6448, 142.1681, 4681,    401.0,   9.1070,  34.6346,2,  34.6320,2,    247.4,2,    248.5,2,     4.42,2,    16.27,2,     1.14,2,   2130.7,2,   2290.9,6,     -999,9,     -999,9,-999.0000,   9, -999.000,   9, -999.000,   9, -999.000,   9, -999.000,   9, -999.000,   9, -999.000,   9, -999.000,   9, -999.000,   9, -999.000,   9, -999.000,   9, -999.000,   9, -999.000,   9, -999.000,   9, -999.000,   9, -999.000,   9, -999.000,   9, -999.000,   9, -999.000,   9,   9.0628
  096U20150321,  SOTS,     5,  1,      8,   1008,2,20150323,2300,-46.6448, 142.1681, 4681,    600.7,   8.1060,  34.5439,2,  34.5440,2,    215.6,2,    215.9,2,     9.96,2,    21.84,2,     1.48,2,   2152.6,2,   2289.5,2,     -999,9,     -999,9,-999.0000,   9, -999.000,   9, -999.000,   9, -999.000,   9, -999.000,   9, -999.000,   9, -999.000,   9, -999.000,   9, -999.000,   9, -999.000,   9, -999.000,   9, -999.000,   9, -999.000,   9, -999.000,   9, -999.000,   9, -999.000,   9, -999.000,   9, -999.000,   9, -999.000,   9,   8.0436
  096U20150321,  SOTS,     5,  1,      7,   1061,2,20150323,2300,-46.6448, 142.1681, 4681,    802.0,   6.2140,  34.4214,2,-999.0000,9,    196.7,2,   -999.0,9,  -999.00,9,  -999.00,9,  -999.00,9,   -999.0,9,   -999.0,9,     -999,9,     -999,9,-999.0000,   9, -999.000,   9, -999.000,   9, -999.000,   9, -999.000,   9, -999.000,   9, -999.000,   9, -999.000,   9, -999.000,   9, -999.000,   9, -999.000,   9, -999.000,   9, -999.000,   9, -999.000,   9, -999.000,   9, -999.000,   9, -999.000,   9, -999.000,   9, -999.000,   9,   6.1410
  096U20150321,  SOTS,     5,  1,      6,   1006,2,20150323,2300,-46.6448, 142.1681, 4681,   1002.5,   4.5710,  34.3840,2,  34.3810,2,    193.3,2,    195.2,2,    36.83,2,    31.00,2,     2.11,2,   2203.4,6,   2302.8,6,     -999,9,     -999,9,-999.0000,   9, -999.000,   9, -999.000,   9, -999.000,   9, -999.000,   9, -999.000,   9, -999.000,   9, -999.000,   9, -999.000,   9, -999.000,   9, -999.000,   9, -999.000,   9, -999.000,   9, -999.000,   9, -999.000,   9, -999.000,   9, -999.000,   9, -999.000,   9, -999.000,   9,   4.4909
  096U20150321,  SOTS,     5,  1,      5,   1001,2,20150323,2300,-46.6448, 142.1681, 4681,   1202.7,   3.6090,  34.4333,2,  34.4300,2,    180.6,2,    181.6,2,    53.65,2,    33.25,2,     2.28,2,   2227.6,2,   2318.3,2,     -999,9,     -999,9,-999.0000,   9, -999.000,   9, -999.000,   9, -999.000,   9, -999.000,   9, -999.000,   9, -999.000,   9, -999.000,   9, -999.000,   9, -999.000,   9, -999.000,   9, -999.000,   9, -999.000,   9, -999.000,   9, -999.000,   9, -999.000,   9, -999.000,   9, -999.000,   9, -999.000,   9,   3.5199
  096U20150321,  SOTS,     5,  1,      4,   1004,2,20150323,2300,-46.6448, 142.1681, 4681,   1404.6,   3.0080,  34.5060,2,-999.0000,9,    171.1,2,   -999.0,9,  -999.00,9,  -999.00,9,  -999.00,9,   -999.0,9,   -999.0,9,     -999,9,     -999,9,-999.0000,   9, -999.000,   9, -999.000,   9, -999.000,   9, -999.000,   9, -999.000,   9, -999.000,   9, -999.000,   9, -999.000,   9, -999.000,   9, -999.000,   9, -999.000,   9, -999.000,   9, -999.000,   9, -999.000,   9, -999.000,   9, -999.000,   9, -999.000,   9, -999.000,   9,   2.9081
  096U20150321,  SOTS,     5,  1,      3,   1057,2,20150323,2300,-46.6448, 142.1681, 4681,   1584.6,   2.6790,  34.5826,2,  34.5850,2,    169.4,2,    170.1,2,    73.36,2,    33.98,2,     2.32,2,   2254.5,2,   2338.8,2,     -999,9,     -999,9,-999.0000,   9, -999.000,   9, -999.000,   9, -999.000,   9, -999.000,   9, -999.000,   9, -999.000,   9, -999.000,   9, -999.000,   9, -999.000,   9, -999.000,   9, -999.000,   9, -999.000,   9, -999.000,   9, -999.000,   9, -999.000,   9, -999.000,   9, -999.000,   9, -999.000,   9,   2.5679
  096U20150321,  SOTS,     5,  1,      2,   1053,2,20150323,2300,-46.6448, 142.1681, 4681,   1800.8,   2.4890,  34.6505,2,  34.6510,2,    172.4,2,    176.7,2,    77.42,2,    33.16,2,     2.27,2,   2254.9,2,   2345.4,2,     -999,9,     -999,9,-999.0000,   9, -999.000,   9, -999.000,   9, -999.000,   9, -999.000,   9, -999.000,   9, -999.000,   9, -999.000,   9, -999.000,   9, -999.000,   9, -999.000,   9, -999.000,   9, -999.000,   9, -999.000,   9, -999.000,   9, -999.000,   9, -999.000,   9, -999.000,   9, -999.000,   9,   2.3622
  096U20150321,  SOTS,     5,  1,      1,   1002,2,20150323,2300,-46.6448, 142.1681, 4681,   1997.7,   2.3770,  34.6950,2,  34.6960,2,    174.7,2,    176.0,2,    82.12,2,    31.82,2,     2.24,2,   2258.0,2,   2349.8,2,     -999,9,     -999,9,-999.0000,   9, -999.000,   9, -999.000,   9, -999.000,   9, -999.000,   9, -999.000,   9, -999.000,   9, -999.000,   9, -999.000,   9, -999.000,   9, -999.000,   9, -999.000,   9, -999.000,   9, -999.000,   9, -999.000,   9, -999.000,   9, -999.000,   9, -999.000,   9, -999.000,   9,   2.2348