BOTTLE,20161216CCHSIOCBG
EXPOCODE,SECT_ID,STNNBR,CASTNO,SAMPNO,BTLNBR,BTLNBR_FLAG_W,DATE,TIME,LATITUDE,LONGITUDE,DEPTH,CTDPRS,CTDTMP,CTDSAL,CTDSAL_FLAG_W,SALNTY,SALNTY_FLAG_W,CTDOXY,CTDOXY_FLAG_W,OXYGEN,OXYGEN_FLAG_W,SILCAT,SILCAT_FLAG_W,NITRAT,NITRAT_FLAG_W,PHSPHT,PHSPHT_FLAG_W,TCARBN,TCARBN_FLAG_W,ALKALI,ALKALI_FLAG_W,POC,POC_FLAG_W,PON,PON_FLAG_W,FUCO,FUCO_FLAG_W,ALPHA-BETA-CAR,ALPHA-BETA-CAR_FLAG_W,ALLO,ALLO_FLAG_W,ANTH,ANTH_FLAG_W,BUT-FUCO,BUT-FUCO_FLAG_W,CHL_B,CHL_B_FLAG_W,CHL_C2,CHL_C2_FLAG_W,CHL_C3,CHL_C3_FLAG_W,CHLIDE_A,CHLIDE_A_FLAG_W,DIADINO,DIADINO_FLAG_W,DIATO,DIATO_FLAG_W,HEX-FUCO,HEX-FUCO_FLAG_W,LUT,LUT_FLAG_W,MV_CHL_A,MV_CHL_A_FLAG_W,NEO,NEO_FLAG_W,PERID,PERID_FLAG_W,PRAS,PRAS_FLAG_W,VIOLA,VIOLA_FLAG_W,ZEA,ZEA_FLAG_W,THETA
,,,,,,,,,,,METERS,DBAR,ITS-90,PSS-78,,PSS-78,,UMOL/KG,,UMOL/KG,,UMOL/KG,,UMOL/KG,,UMOL/KG,,UMOL/KG,,UMOL/KG,,UG/KG,,UG/KG,,NMOL/KG,,MG/M^3,,MG/M^3,,MG/M^3,,MG/M^3,,MG/M^3,,MG/M^3,,MG/M^3,,MG/M^3,,MG/M^3,,MG/M^3,,MG/M^3,,MG/M^3,,MG/M^3,,MG/M^3,,MG/M^3,,MG/M^3,,MG/M^3,,MG/M^3,,DEG C
  096U20150321,  SOTS,     9,  1,     24,   1024,2,20150327,0544,-46.8423, 141.5723, 4607,      6.5,  12.2170,-999.0000,9,  34.8610,2,   -999.0,9,    264.6,2,     0.52,3,     5.46,2,     0.52,2,   2085.3,2,   2306.0,2,     -999,9,     -999,9,-999.0000,   9, -999.000,   9, -999.000,   9, -999.000,   9, -999.000,   9, -999.000,   9, -999.000,   9, -999.000,   9, -999.000,   9, -999.000,   9, -999.000,   9, -999.000,   9, -999.000,   9, -999.000,   9, -999.000,   9, -999.000,   9, -999.000,   9, -999.000,   9, -999.000,   9,  12.2161
  096U20150321,  SOTS,     9,  1,     23,   1023,2,20150327,0544,-46.8423, 141.5723, 4607,      7.3,  12.2190,  34.8902,2,  34.8600,2,    261.9,2,    264.5,2,     0.41,3,     5.46,2,     0.52,2,   2085.9,2,   2305.2,2,    29.34,2,     5.77,2,   0.0240,   2,    0.016,   2,    0.006,   2,    0.000,   2,    0.023,   2,    0.086,   2,    0.050,   2,    0.031,   2,    0.022,   2,    0.024,   2,    0.000,   2,    0.116,   2,    0.000,   2,    0.345,   2,    0.010,   2,    0.009,   2,    0.014,   2,    0.007,   2,    0.031,   2,  12.2180
  096U20150321,  SOTS,     9,  1,     21,   1042,2,20150327,0544,-46.8423, 141.5723, 4607,     30.0,  12.2110,  34.8706,2,  34.8600,2,    262.9,2,    264.7,2,     0.27,3,     5.43,2,     0.52,2,   2083.0,2,   2306.2,2,    28.59,2,      5.9,2,   0.0100,   2,    0.005,   2,    0.003,   2,    0.000,   2,    0.008,   2,    0.030,   2,    0.017,   2,    0.011,   2,    0.000,   2,    0.009,   2,    0.000,   2,    0.040,   2,    0.000,   2,    0.123,   2,    0.003,   2,    0.000,   2,    0.004,   2,    0.002,   2,    0.014,   2,  12.2071
  096U20150321,  SOTS,     9,  1,     22,   1022,2,20150327,0544,-46.8423, 141.5723, 4607,     31.0,  12.2020,  34.8707,2,  34.8590,2,    262.8,2,    264.5,2,     0.34,3,     5.44,2,     0.52,2,   2084.3,6,   2306.8,6,     -999,9,     -999,9,-999.0000,   9, -999.000,   9, -999.000,   9, -999.000,   9, -999.000,   9, -999.000,   9, -999.000,   9, -999.000,   9, -999.000,   9, -999.000,   9, -999.000,   9, -999.000,   9, -999.000,   9, -999.000,   9, -999.000,   9, -999.000,   9, -999.000,   9, -999.000,   9, -999.000,   9,  12.1979
  096U20150321,  SOTS,     9,  1,     20,   1066,2,20150327,0544,-46.8423, 141.5723, 4607,     60.3,  12.1940,  34.8709,2,  34.8620,2,    262.5,2,    263.3,2,     0.25,3,     5.42,2,     0.52,2,   2087.5,2,   2305.9,2,     -999,9,     -999,9,-999.0000,   9, -999.000,   9, -999.000,   9, -999.000,   9, -999.000,   9, -999.000,   9, -999.000,   9, -999.000,   9, -999.000,   9, -999.000,   9, -999.000,   9, -999.000,   9, -999.000,   9, -999.000,   9, -999.000,   9, -999.000,   9, -999.000,   9, -999.000,   9, -999.000,   9,  12.1861
  096U20150321,  SOTS,     9,  1,     19,   1052,2,20150327,0544,-46.8423, 141.5723, 4607,     60.8,  12.1950,  34.8710,2,  34.8620,2,    262.3,2,    263.5,2,     0.32,3,     5.44,2,     0.52,2,   2078.7,2,   2296.4,3,     20.6,2,     4.48,2,   0.0300,   2,    0.015,   2,    0.007,   2,    0.000,   2,    0.028,   2,    0.099,   2,    0.052,   2,    0.033,   2,    0.015,   2,    0.014,   2,    0.000,   2,    0.132,   2,    0.000,   2,    0.367,   2,    0.010,   2,    0.027,   2,    0.013,   2,    0.004,   2,    0.028,   2,  12.1870
  096U20150321,  SOTS,     9,  1,     18,   1062,2,20150327,0544,-46.8423, 141.5723, 4607,     90.3,  12.2050,  34.8769,2,  34.8650,2,    261.3,2,    262.9,2,     0.30,3,     5.42,2,     0.52,2,   -999.0,9,   2305.6,2,     -999,9,     -999,9,-999.0000,   9, -999.000,   9, -999.000,   9, -999.000,   9, -999.000,   9, -999.000,   9, -999.000,   9, -999.000,   9, -999.000,   9, -999.000,   9, -999.000,   9, -999.000,   9, -999.000,   9, -999.000,   9, -999.000,   9, -999.000,   9, -999.000,   9, -999.000,   9, -999.000,   9,  12.1932
  096U20150321,  SOTS,     9,  1,     17,   1064,2,20150327,0544,-46.8423, 141.5723, 4607,     90.5,  12.2030,  34.8769,2,  34.8650,2,    261.4,2,    262.5,2,     0.30,3,     5.41,2,     0.52,2,   2087.1,2,   2306.6,2,    20.09,2,     4.56,2,   0.0240,   2,    0.018,   2,    0.008,   2,    0.000,   2,    0.022,   2,    0.094,   2,    0.051,   2,    0.037,   2,    0.011,   2,    0.016,   2,    0.000,   2,    0.120,   2,    0.000,   2,    0.369,   2,    0.010,   2,    0.007,   2,    0.014,   2,    0.004,   2,    0.020,   2,  12.1911
  096U20150321,  SOTS,     9,  1,     15,   1015,2,20150327,0544,-46.8423, 141.5723, 4607,    120.7,  11.9880,  34.8784,2,  34.8870,2,    257.5,2,    258.3,2,     0.62,3,     6.39,2,     0.58,2,   2094.3,2,   2306.4,2,     7.95,2,     2.15,2,-999.0000,   9, -999.000,   9, -999.000,   9, -999.000,   9, -999.000,   9, -999.000,   9, -999.000,   9, -999.000,   9, -999.000,   9, -999.000,   9, -999.000,   9, -999.000,   9, -999.000,   9, -999.000,   9, -999.000,   9, -999.000,   9, -999.000,   9, -999.000,   9, -999.000,   9,  11.9723
  096U20150321,  SOTS,     9,  1,     16,   1016,2,20150327,0544,-46.8423, 141.5723, 4607,    121.1,  11.9660,  34.8784,2,  34.8900,2,    257.5,2,    257.8,2,     0.64,3,     6.48,2,     0.58,2,   2094.0,2,   2305.9,2,     -999,9,     -999,9,-999.0000,   9, -999.000,   9, -999.000,   9, -999.000,   9, -999.000,   9, -999.000,   9, -999.000,   9, -999.000,   9, -999.000,   9, -999.000,   9, -999.000,   9, -999.000,   9, -999.000,   9, -999.000,   9, -999.000,   9, -999.000,   9, -999.000,   9, -999.000,   9, -999.000,   9,  11.9503
  096U20150321,  SOTS,     9,  1,     14,   1059,2,20150327,0544,-46.8423, 141.5723, 4607,    150.8,  10.5460,  34.8411,2,  34.8420,2,    250.4,2,    242.6,2,     3.04,3,    12.85,2,     0.94,2,   2124.7,2,   2298.6,2,     -999,9,     -999,9,-999.0000,   9, -999.000,   9, -999.000,   9, -999.000,   9, -999.000,   9, -999.000,   9, -999.000,   9, -999.000,   9, -999.000,   9, -999.000,   9, -999.000,   9, -999.000,   9, -999.000,   9, -999.000,   9, -999.000,   9, -999.000,   9, -999.000,   9, -999.000,   9, -999.000,   9,  10.5280
  096U20150321,  SOTS,     9,  1,     13,   1055,2,20150327,0544,-46.8423, 141.5723, 4607,    150.9,  10.5480,  34.8411,2,  34.8420,2,    250.4,2,    241.8,2,     3.06,3,    12.91,2,     0.94,2,   2125.6,2,   2299.1,2,     1.79,2,     0.53,2,-999.0000,   9, -999.000,   9, -999.000,   9, -999.000,   9, -999.000,   9, -999.000,   9, -999.000,   9, -999.000,   9, -999.000,   9, -999.000,   9, -999.000,   9, -999.000,   9, -999.000,   9, -999.000,   9, -999.000,   9, -999.000,   9, -999.000,   9, -999.000,   9, -999.000,   9,  10.5300
  096U20150321,  SOTS,     9,  1,     12,   1063,2,20150327,0544,-46.8423, 141.5723, 4607,    200.5,  10.4120,  34.8364,2,  34.8430,2,    210.2,2,    211.9,2,     5.14,2,    16.28,2,     1.13,2,   2138.2,2,   2300.9,2,     -999,9,     -999,9,-999.0000,   9, -999.000,   9, -999.000,   9, -999.000,   9, -999.000,   9, -999.000,   9, -999.000,   9, -999.000,   9, -999.000,   9, -999.000,   9, -999.000,   9, -999.000,   9, -999.000,   9, -999.000,   9, -999.000,   9, -999.000,   9, -999.000,   9, -999.000,   9, -999.000,   9,  10.3882
  096U20150321,  SOTS,     9,  1,     11,   1071,2,20150327,0544,-46.8423, 141.5723, 4607,    201.0,  10.4070,  34.8352,2,  34.8430,2,    210.2,2,    212.3,2,     5.12,2,    16.27,2,     1.13,2,   2138.7,2,   2298.1,2,     -999,9,     -999,9,-999.0000,   9, -999.000,   9, -999.000,   9, -999.000,   9, -999.000,   9, -999.000,   9, -999.000,   9, -999.000,   9, -999.000,   9, -999.000,   9, -999.000,   9, -999.000,   9, -999.000,   9, -999.000,   9, -999.000,   9, -999.000,   9, -999.000,   9, -999.000,   9, -999.000,   9,  10.3831
  096U20150321,  SOTS,     9,  1,     10,   1010,2,20150327,0544,-46.8423, 141.5723, 4607,    300.1,   9.5900,  34.6857,2,  34.7050,2,    240.2,2,    237.6,2,     4.30,2,    16.05,2,     1.12,2,   2132.4,2,   2293.0,2,     -999,9,     -999,9,-999.0000,   9, -999.000,   9, -999.000,   9, -999.000,   9, -999.000,   9, -999.000,   9, -999.000,   9, -999.000,   9, -999.000,   9, -999.000,   9, -999.000,   9, -999.000,   9, -999.000,   9, -999.000,   9, -999.000,   9, -999.000,   9, -999.000,   9, -999.000,   9, -999.000,   9,   9.5560
  096U20150321,  SOTS,     9,  1,      9,   1054,2,20150327,0544,-46.8423, 141.5723, 4607,    397.1,   9.0860,  34.6503,2,  34.6280,2,    235.9,2,    246.6,2,     4.42,2,    16.58,2,     1.16,2,   2131.8,2,   2291.7,2,     -999,9,     -999,9,-999.0000,   9, -999.000,   9, -999.000,   9, -999.000,   9, -999.000,   9, -999.000,   9, -999.000,   9, -999.000,   9, -999.000,   9, -999.000,   9, -999.000,   9, -999.000,   9, -999.000,   9, -999.000,   9, -999.000,   9, -999.000,   9, -999.000,   9, -999.000,   9, -999.000,   9,   9.0423
  096U20150321,  SOTS,     9,  1,      8,   1008,2,20150327,0544,-46.8423, 141.5723, 4607,    597.9,   8.3790,  34.5322,2,  34.5700,2,    224.7,2,    217.5,2,     8.67,2,    21.13,2,     1.44,2,   2150.7,2,   2290.7,2,     -999,9,     -999,9,-999.0000,   9, -999.000,   9, -999.000,   9, -999.000,   9, -999.000,   9, -999.000,   9, -999.000,   9, -999.000,   9, -999.000,   9, -999.000,   9, -999.000,   9, -999.000,   9, -999.000,   9, -999.000,   9, -999.000,   9, -999.000,   9, -999.000,   9, -999.000,   9, -999.000,   9,   8.3156
  096U20150321,  SOTS,     9,  1,      7,   1061,2,20150327,0544,-46.8423, 141.5723, 4607,    795.9,   6.6260,  34.4415,2,  34.4400,2,    201.3,2,    202.0,2,    18.13,2,    26.39,2,     1.78,2,   2172.3,2,   2291.6,2,     -999,9,     -999,9,-999.0000,   9, -999.000,   9, -999.000,   9, -999.000,   9, -999.000,   9, -999.000,   9, -999.000,   9, -999.000,   9, -999.000,   9, -999.000,   9, -999.000,   9, -999.000,   9, -999.000,   9, -999.000,   9, -999.000,   9, -999.000,   9, -999.000,   9, -999.000,   9, -999.000,   9,   6.5511
  096U20150321,  SOTS,     9,  1,      6,   1006,2,20150327,0544,-46.8423, 141.5723, 4607,    992.5,   4.9970,  34.3892,2,  34.3890,2,    194.4,2,    195.4,2,    32.93,2,    30.09,2,     2.05,2,   2197.3,2,   2303.4,2,     -999,9,     -999,9,-999.0000,   9, -999.000,   9, -999.000,   9, -999.000,   9, -999.000,   9, -999.000,   9, -999.000,   9, -999.000,   9, -999.000,   9, -999.000,   9, -999.000,   9, -999.000,   9, -999.000,   9, -999.000,   9, -999.000,   9, -999.000,   9, -999.000,   9, -999.000,   9, -999.000,   9,   4.9146
  096U20150321,  SOTS,     9,  1,      5,   1001,2,20150327,0544,-46.8423, 141.5723, 4607,   1195.3,   3.8620,  34.4235,2,  34.4220,2,    183.0,2,    183.6,2,    50.58,2,    32.49,2,     2.24,2,   2223.3,2,   2318.4,2,     -999,9,     -999,9,-999.0000,   9, -999.000,   9, -999.000,   9, -999.000,   9, -999.000,   9, -999.000,   9, -999.000,   9, -999.000,   9, -999.000,   9, -999.000,   9, -999.000,   9, -999.000,   9, -999.000,   9, -999.000,   9, -999.000,   9, -999.000,   9, -999.000,   9, -999.000,   9, -999.000,   9,   3.7712
  096U20150321,  SOTS,     9,  1,      4,   1004,2,20150327,0544,-46.8423, 141.5723, 4607,   1396.4,   3.1900,  34.4932,2,  34.4910,2,    171.8,2,    173.1,2,    64.92,2,    33.72,2,     2.34,2,   2246.4,2,   2332.6,2,     -999,9,     -999,9,-999.0000,   9, -999.000,   9, -999.000,   9, -999.000,   9, -999.000,   9, -999.000,   9, -999.000,   9, -999.000,   9, -999.000,   9, -999.000,   9, -999.000,   9, -999.000,   9, -999.000,   9, -999.000,   9, -999.000,   9, -999.000,   9, -999.000,   9, -999.000,   9, -999.000,   9,   3.0889
  096U20150321,  SOTS,     9,  1,      3,   1057,2,20150327,0544,-46.8423, 141.5723, 4607,   1598.8,   2.7220,  34.5639,2,  34.5430,2,    170.7,2,    172.5,2,    69.27,2,    33.73,2,     2.33,2,   2249.3,6,   2334.2,6,     -999,9,     -999,9,-999.0000,   9, -999.000,   9, -999.000,   9, -999.000,   9, -999.000,   9, -999.000,   9, -999.000,   9, -999.000,   9, -999.000,   9, -999.000,   9, -999.000,   9, -999.000,   9, -999.000,   9, -999.000,   9, -999.000,   9, -999.000,   9, -999.000,   9, -999.000,   9, -999.000,   9,   2.6093
  096U20150321,  SOTS,     9,  1,      2,   1053,2,20150327,0544,-46.8423, 141.5723, 4607,   1801.4,   2.5300,  34.6457,2,  34.6450,2,    171.1,2,    172.3,2,    76.53,2,    32.94,2,     2.27,2,   2222.8,2,   2343.3,2,     -999,9,     -999,9,-999.0000,   9, -999.000,   9, -999.000,   9, -999.000,   9, -999.000,   9, -999.000,   9, -999.000,   9, -999.000,   9, -999.000,   9, -999.000,   9, -999.000,   9, -999.000,   9, -999.000,   9, -999.000,   9, -999.000,   9, -999.000,   9, -999.000,   9, -999.000,   9, -999.000,   9,   2.4026
  096U20150321,  SOTS,     9,  1,      1,   1002,2,20150327,0544,-46.8423, 141.5723, 4607,   2003.7,   2.4160,  34.6906,2,  34.6900,2,    171.6,2,    173.1,2,    83.02,2,    32.49,2,     2.25,2,   2238.8,2,   2350.2,2,     -999,9,     -999,9,-999.0000,   9, -999.000,   9, -999.000,   9, -999.000,   9, -999.000,   9, -999.000,   9, -999.000,   9, -999.000,   9, -999.000,   9, -999.000,   9, -999.000,   9, -999.000,   9, -999.000,   9, -999.000,   9, -999.000,   9, -999.000,   9, -999.000,   9, -999.000,   9, -999.000,   9,   2.2727