BOTTLE,20161216CCHSIOCBG
EXPOCODE,SECT_ID,STNNBR,CASTNO,SAMPNO,BTLNBR,BTLNBR_FLAG_W,DATE,TIME,LATITUDE,LONGITUDE,DEPTH,CTDPRS,CTDTMP,CTDSAL,CTDSAL_FLAG_W,SALNTY,SALNTY_FLAG_W,CTDOXY,CTDOXY_FLAG_W,OXYGEN,OXYGEN_FLAG_W,SILCAT,SILCAT_FLAG_W,NITRAT,NITRAT_FLAG_W,PHSPHT,PHSPHT_FLAG_W,TCARBN,TCARBN_FLAG_W,ALKALI,ALKALI_FLAG_W,POC,POC_FLAG_W,PON,PON_FLAG_W,FUCO,FUCO_FLAG_W,ALPHA-BETA-CAR,ALPHA-BETA-CAR_FLAG_W,ALLO,ALLO_FLAG_W,ANTH,ANTH_FLAG_W,BUT-FUCO,BUT-FUCO_FLAG_W,CHL_B,CHL_B_FLAG_W,CHL_C2,CHL_C2_FLAG_W,CHL_C3,CHL_C3_FLAG_W,CHLIDE_A,CHLIDE_A_FLAG_W,DIADINO,DIADINO_FLAG_W,DIATO,DIATO_FLAG_W,HEX-FUCO,HEX-FUCO_FLAG_W,LUT,LUT_FLAG_W,MV_CHL_A,MV_CHL_A_FLAG_W,NEO,NEO_FLAG_W,PERID,PERID_FLAG_W,PRAS,PRAS_FLAG_W,VIOLA,VIOLA_FLAG_W,ZEA,ZEA_FLAG_W,THETA
,,,,,,,,,,,METERS,DBAR,ITS-90,PSS-78,,PSS-78,,UMOL/KG,,UMOL/KG,,UMOL/KG,,UMOL/KG,,UMOL/KG,,UMOL/KG,,UMOL/KG,,UG/KG,,UG/KG,,NMOL/KG,,MG/M^3,,MG/M^3,,MG/M^3,,MG/M^3,,MG/M^3,,MG/M^3,,MG/M^3,,MG/M^3,,MG/M^3,,MG/M^3,,MG/M^3,,MG/M^3,,MG/M^3,,MG/M^3,,MG/M^3,,MG/M^3,,MG/M^3,,MG/M^3,,DEG C
  096U20150321,  SOTS,     7,  1,     23,   1023,2,20150325,2212,-47.1255, 143.9900, 4182,      7.1,  12.9150,  35.1347,2,  35.0680,2,    250.6,2,    254.6,2,     1.15,3,     5.27,2,     0.48,3,   2087.8,2,   2312.8,2,    16.42,2,     3.47,2,   0.0580,   2,    0.017,   2,    0.021,   2,    0.000,   2,    0.032,   2,    0.111,   2,    0.068,   2,    0.032,   2,    0.000,   2,    0.020,   2,    0.000,   2,    0.087,   2,    0.000,   2,    0.532,   2,    0.008,   2,    0.008,   2,    0.021,   2,    0.006,   2,    0.016,   2,  12.9140
  096U20150321,  SOTS,     7,  1,     24,   1024,2,20150325,2212,-47.1255, 143.9900, 4182,      8.4,  12.9160,  35.1346,2,  35.0670,2,    250.8,2,   -999.0,9,     0.98,3,     5.25,2,     0.48,3,   2088.4,6,   2313.4,6,     -999,9,     -999,9,-999.0000,   9, -999.000,   9, -999.000,   9, -999.000,   9, -999.000,   9, -999.000,   9, -999.000,   9, -999.000,   9, -999.000,   9, -999.000,   9, -999.000,   9, -999.000,   9, -999.000,   9, -999.000,   9, -999.000,   9, -999.000,   9, -999.000,   9, -999.000,   9, -999.000,   9,  12.9149
  096U20150321,  SOTS,     7,  1,     21,   1042,2,20150325,2212,-47.1255, 143.9900, 4182,     29.8,  12.9270,  35.1326,2,  35.0690,2,    250.5,2,    254.7,2,     1.18,3,     5.26,2,     0.47,3,   2088.4,2,   2314.2,2,    23.51,2,     5.01,2,   0.0570,   2,    0.013,   2,    0.021,   2,    0.000,   2,    0.032,   2,    0.126,   2,    0.068,   2,    0.025,   2,    0.000,   2,    0.016,   2,    0.000,   2,    0.087,   2,    0.000,   2,    0.522,   2,    0.011,   2,    0.008,   2,    0.020,   2,    0.006,   2,    0.018,   2,  12.9229
  096U20150321,  SOTS,     7,  1,     22,   1022,2,20150325,2212,-47.1255, 143.9900, 4182,     30.7,  12.9260,  35.1326,2,  35.0700,2,    250.8,2,    254.6,2,     0.96,3,     5.26,2,     0.47,3,   2090.2,2,   2311.6,2,     -999,9,     -999,9,-999.0000,   9, -999.000,   9, -999.000,   9, -999.000,   9, -999.000,   9, -999.000,   9, -999.000,   9, -999.000,   9, -999.000,   9, -999.000,   9, -999.000,   9, -999.000,   9, -999.000,   9, -999.000,   9, -999.000,   9, -999.000,   9, -999.000,   9, -999.000,   9, -999.000,   9,  12.9218
  096U20150321,  SOTS,     7,  1,     19,   1052,2,20150325,2212,-47.1255, 143.9900, 4182,     58.6,  12.7750,  35.1162,2,  35.0350,2,    250.4,2,    255.5,2,     0.98,3,     5.44,2,     0.49,3,   2090.7,2,   2312.4,2,     15.9,2,      4.3,2,   0.0510,   2,    0.016,   2,    0.015,   2,    0.000,   2,    0.028,   2,    0.111,   2,    0.054,   2,    0.016,   2,    0.000,   2,    0.011,   2,    0.000,   2,    0.075,   2,    0.000,   2,    0.462,   2,    0.010,   2,    0.009,   2,    0.019,   2,    0.005,   2,    0.019,   2,  12.7671
  096U20150321,  SOTS,     7,  1,     20,   1066,2,20150325,2212,-47.1255, 143.9900, 4182,     60.0,  12.8240,  35.1170,2,  35.0450,2,    250.5,2,    255.3,2,     0.89,3,     5.40,2,     0.48,3,   2090.0,2,   2309.6,2,     -999,9,     -999,9,-999.0000,   9, -999.000,   9, -999.000,   9, -999.000,   9, -999.000,   9, -999.000,   9, -999.000,   9, -999.000,   9, -999.000,   9, -999.000,   9, -999.000,   9, -999.000,   9, -999.000,   9, -999.000,   9, -999.000,   9, -999.000,   9, -999.000,   9, -999.000,   9, -999.000,   9,  12.8159
  096U20150321,  SOTS,     7,  1,     18,   1062,2,20150325,2212,-47.1255, 143.9900, 4182,     89.1,  13.0260,  34.9991,2,  35.1000,2,    255.3,2,    251.2,2,     1.28,3,     5.39,2,     0.48,3,   2090.3,6,   2314.6,6,     -999,9,     -999,9,-999.0000,   9, -999.000,   9, -999.000,   9, -999.000,   9, -999.000,   9, -999.000,   9, -999.000,   9, -999.000,   9, -999.000,   9, -999.000,   9, -999.000,   9, -999.000,   9, -999.000,   9, -999.000,   9, -999.000,   9, -999.000,   9, -999.000,   9, -999.000,   9, -999.000,   9,  13.0138
  096U20150321,  SOTS,     7,  1,     17,   1064,2,20150325,2212,-47.1255, 143.9900, 4182,     91.8,  13.0540,  35.0021,2,  35.1050,2,    256.3,2,    251.0,2,     1.32,3,     5.39,2,     0.48,3,   2089.8,2,   2313.5,2,    15.26,2,     3.57,2,   0.0330,   2,    0.012,   2,    0.011,   2,    0.000,   2,    0.020,   2,    0.055,   2,    0.029,   2,    0.012,   2,    0.000,   2,    0.008,   2,    0.000,   2,    0.046,   2,    0.000,   2,    0.283,   2,    0.007,   2,    0.005,   2,    0.013,   2,    0.003,   2,    0.009,   2,  13.0414
  096U20150321,  SOTS,     7,  1,     15,   1015,2,20150325,2212,-47.1255, 143.9900, 4182,    118.3,  12.9950,  35.0561,2,  35.1060,2,    252.0,2,    247.7,2,     1.55,3,     5.83,2,     0.51,3,   2093.1,2,   2313.5,2,    14.22,2,     3.49,2,-999.0000,   9, -999.000,   9, -999.000,   9, -999.000,   9, -999.000,   9, -999.000,   9, -999.000,   9, -999.000,   9, -999.000,   9, -999.000,   9, -999.000,   9, -999.000,   9, -999.000,   9, -999.000,   9, -999.000,   9, -999.000,   9, -999.000,   9, -999.000,   9, -999.000,   9,  12.9788
  096U20150321,  SOTS,     7,  1,     16,   1016,2,20150325,2212,-47.1255, 143.9900, 4182,    119.0,  12.9880,  35.0567,2,  35.1030,2,    252.0,2,    248.3,2,     1.56,3,     5.80,2,     0.50,3,   2093.0,2,   2313.5,2,     -999,9,     -999,9,-999.0000,   9, -999.000,   9, -999.000,   9, -999.000,   9, -999.000,   9, -999.000,   9, -999.000,   9, -999.000,   9, -999.000,   9, -999.000,   9, -999.000,   9, -999.000,   9, -999.000,   9, -999.000,   9, -999.000,   9, -999.000,   9, -999.000,   9, -999.000,   9, -999.000,   9,  12.9717
  096U20150321,  SOTS,     7,  1,     13,   1055,2,20150325,2212,-47.1255, 143.9900, 4182,    148.0,  12.7600,  35.1553,2,  35.1650,2,    220.1,2,    219.1,2,     4.05,2,     9.68,2,     0.72,3,   2116.7,2,   2310.6,2,        0,2,        0,2,-999.0000,   9, -999.000,   9, -999.000,   9, -999.000,   9, -999.000,   9, -999.000,   9, -999.000,   9, -999.000,   9, -999.000,   9, -999.000,   9, -999.000,   9, -999.000,   9, -999.000,   9, -999.000,   9, -999.000,   9, -999.000,   9, -999.000,   9, -999.000,   9, -999.000,   9,  12.7399
  096U20150321,  SOTS,     7,  1,     14,   1059,2,20150325,2212,-47.1255, 143.9900, 4182,    148.2,  12.7630,  35.1553,2,  35.1650,2,    220.1,2,    219.1,2,     3.97,2,     9.67,2,     0.72,3,   2117.1,2,   2313.5,2,     -999,9,     -999,9,-999.0000,   9, -999.000,   9, -999.000,   9, -999.000,   9, -999.000,   9, -999.000,   9, -999.000,   9, -999.000,   9, -999.000,   9, -999.000,   9, -999.000,   9, -999.000,   9, -999.000,   9, -999.000,   9, -999.000,   9, -999.000,   9, -999.000,   9, -999.000,   9, -999.000,   9,  12.7429
  096U20150321,  SOTS,     7,  1,     11,   1071,2,20150325,2212,-47.1255, 143.9900, 4182,    198.3,  11.6550,  35.0566,2,  35.0290,2,    228.9,2,    232.8,2,     2.99,3,    10.65,2,     0.79,3,   2120.9,2,   2304.7,2,     -999,9,     -999,9,-999.0000,   9, -999.000,   9, -999.000,   9, -999.000,   9, -999.000,   9, -999.000,   9, -999.000,   9, -999.000,   9, -999.000,   9, -999.000,   9, -999.000,   9, -999.000,   9, -999.000,   9, -999.000,   9, -999.000,   9, -999.000,   9, -999.000,   9, -999.000,   9, -999.000,   9,  11.6296
  096U20150321,  SOTS,     7,  1,     12,   1063,2,20150325,2212,-47.1255, 143.9900, 4182,    198.6,  11.6590,  35.0563,2,  35.0290,2,    228.9,2,    232.8,2,     4.04,2,    10.78,2,     0.79,3,   2122.0,2,   2306.7,2,     -999,9,     -999,9,-999.0000,   9, -999.000,   9, -999.000,   9, -999.000,   9, -999.000,   9, -999.000,   9, -999.000,   9, -999.000,   9, -999.000,   9, -999.000,   9, -999.000,   9, -999.000,   9, -999.000,   9, -999.000,   9, -999.000,   9, -999.000,   9, -999.000,   9, -999.000,   9, -999.000,   9,  11.6336
  096U20150321,  SOTS,     7,  1,     10,   1010,2,20150325,2212,-47.1255, 143.9900, 4182,    301.0,  10.2620,  34.8324,2,  34.8010,2,    243.5,2,    244.0,2,     3.95,2,    13.25,2,     0.96,3,   2125.5,2,   2295.3,2,     -999,9,     -999,9,-999.0000,   9, -999.000,   9, -999.000,   9, -999.000,   9, -999.000,   9, -999.000,   9, -999.000,   9, -999.000,   9, -999.000,   9, -999.000,   9, -999.000,   9, -999.000,   9, -999.000,   9, -999.000,   9, -999.000,   9, -999.000,   9, -999.000,   9, -999.000,   9, -999.000,   9,  10.2264
  096U20150321,  SOTS,     7,  1,      9,   1054,2,20150325,2212,-47.1255, 143.9900, 4182,    399.4,   9.0560,  34.6329,2,  34.6020,2,    255.4,2,    259.4,2,     4.61,2,    15.05,2,     1.07,3,   2124.2,2,   2290.5,2,     -999,9,     -999,9,-999.0000,   9, -999.000,   9, -999.000,   9, -999.000,   9, -999.000,   9, -999.000,   9, -999.000,   9, -999.000,   9, -999.000,   9, -999.000,   9, -999.000,   9, -999.000,   9, -999.000,   9, -999.000,   9, -999.000,   9, -999.000,   9, -999.000,   9, -999.000,   9, -999.000,   9,   9.0122
  096U20150321,  SOTS,     7,  1,      8,   1008,2,20150325,2212,-47.1255, 143.9900, 4182,    595.9,   8.7500,  34.5914,2,  34.6030,2,    227.4,2,    227.6,2,     7.01,2,    18.86,2,     1.31,3,   2142.9,6,   2289.1,6,     -999,9,     -999,9,-999.0000,   9, -999.000,   9, -999.000,   9, -999.000,   9, -999.000,   9, -999.000,   9, -999.000,   9, -999.000,   9, -999.000,   9, -999.000,   9, -999.000,   9, -999.000,   9, -999.000,   9, -999.000,   9, -999.000,   9, -999.000,   9, -999.000,   9, -999.000,   9, -999.000,   9,   8.6852
  096U20150321,  SOTS,     7,  1,      7,   1061,2,20150325,2212,-47.1255, 143.9900, 4182,    799.4,   7.3470,  34.4943,2,  34.5020,2,    198.9,2,    200.2,2,    15.50,2,    24.58,2,     1.67,3,   2167.1,2,   2292.0,2,     -999,9,     -999,9,-999.0000,   9, -999.000,   9, -999.000,   9, -999.000,   9, -999.000,   9, -999.000,   9, -999.000,   9, -999.000,   9, -999.000,   9, -999.000,   9, -999.000,   9, -999.000,   9, -999.000,   9, -999.000,   9, -999.000,   9, -999.000,   9, -999.000,   9, -999.000,   9, -999.000,   9,   7.2674
  096U20150321,  SOTS,     7,  1,      6,   1006,2,20150325,2212,-47.1255, 143.9900, 4182,    999.6,   5.6250,  34.4205,2,  34.4250,2,    192.7,2,    192.0,2,    29.40,2,    29.00,2,     1.97,3,   2189.7,2,   2299.8,2,     -999,9,     -999,9,-999.0000,   9, -999.000,   9, -999.000,   9, -999.000,   9, -999.000,   9, -999.000,   9, -999.000,   9, -999.000,   9, -999.000,   9, -999.000,   9, -999.000,   9, -999.000,   9, -999.000,   9, -999.000,   9, -999.000,   9, -999.000,   9, -999.000,   9, -999.000,   9, -999.000,   9,   5.5371
  096U20150321,  SOTS,     7,  1,      5,   1001,2,20150325,2212,-47.1255, 143.9900, 4182,   1198.4,   4.3470,  34.4515,2,  34.4510,2,    176.6,2,    178.5,2,    49.73,2,    32.23,2,     2.19,3,   2221.6,2,   2320.0,2,     -999,9,     -999,9,-999.0000,   9, -999.000,   9, -999.000,   9, -999.000,   9, -999.000,   9, -999.000,   9, -999.000,   9, -999.000,   9, -999.000,   9, -999.000,   9, -999.000,   9, -999.000,   9, -999.000,   9, -999.000,   9, -999.000,   9, -999.000,   9, -999.000,   9, -999.000,   9, -999.000,   9,   4.2515
  096U20150321,  SOTS,     7,  1,      4,   1004,2,20150325,2212,-47.1255, 143.9900, 4182,   1401.5,   3.3240,  34.4746,2,  34.4750,2,    172.9,2,    174.1,2,    62.09,2,    34.26,2,     2.31,3,   2241.8,2,   2329.9,2,     -999,9,     -999,9,-999.0000,   9, -999.000,   9, -999.000,   9, -999.000,   9, -999.000,   9, -999.000,   9, -999.000,   9, -999.000,   9, -999.000,   9, -999.000,   9, -999.000,   9, -999.000,   9, -999.000,   9, -999.000,   9, -999.000,   9, -999.000,   9, -999.000,   9, -999.000,   9, -999.000,   9,   3.2210
  096U20150321,  SOTS,     7,  1,      3,   1057,2,20150325,2212,-47.1255, 143.9900, 4182,   1597.7,   2.7650,  34.5497,2,  34.5420,2,    171.1,2,    173.5,2,    68.25,2,    34.54,2,     2.32,3,   2248.5,2,   2333.2,2,     -999,9,     -999,9,-999.0000,   9, -999.000,   9, -999.000,   9, -999.000,   9, -999.000,   9, -999.000,   9, -999.000,   9, -999.000,   9, -999.000,   9, -999.000,   9, -999.000,   9, -999.000,   9, -999.000,   9, -999.000,   9, -999.000,   9, -999.000,   9, -999.000,   9, -999.000,   9, -999.000,   9,   2.6519
  096U20150321,  SOTS,     7,  1,      2,   1053,2,20150325,2212,-47.1255, 143.9900, 4182,   1801.3,   2.5860,  34.6182,2,  34.6160,2,    172.1,2,    173.3,2,    73.84,2,    33.78,2,     2.28,3,   2254.2,2,   2339.0,2,     -999,9,     -999,9,-999.0000,   9, -999.000,   9, -999.000,   9, -999.000,   9, -999.000,   9, -999.000,   9, -999.000,   9, -999.000,   9, -999.000,   9, -999.000,   9, -999.000,   9, -999.000,   9, -999.000,   9, -999.000,   9, -999.000,   9, -999.000,   9, -999.000,   9, -999.000,   9, -999.000,   9,   2.4579
  096U20150321,  SOTS,     7,  1,      1,   1002,2,20150325,2212,-47.1255, 143.9900, 4182,   1992.5,   2.4450,  34.6745,2,  34.6730,2,    174.7,2,    175.2,2,    78.51,2,    32.90,2,     2.23,3,   2254.9,2,   2343.4,2,     -999,9,     -999,9,-999.0000,   9, -999.000,   9, -999.000,   9, -999.000,   9, -999.000,   9, -999.000,   9, -999.000,   9, -999.000,   9, -999.000,   9, -999.000,   9, -999.000,   9, -999.000,   9, -999.000,   9, -999.000,   9, -999.000,   9, -999.000,   9, -999.000,   9, -999.000,   9, -999.000,   9,   2.3023