BOTTLE,20081218PRINUNIVRMK
EXPOCODE,STNNBR,CASTNO,BTLNBR,BTLNBR_FLAG_W,DATE,LATITUDE,LONGITUDE,DEPTH,CTDPRS,CTDTMP,CTDSAL,CTDSAL_FLAG_W,SALNTY,SALNTY_FLAG_W,OXYGEN,OXYGEN_FLAG_W,SILCAT,SILCAT_FLAG_W,NITRAT,NITRAT_FLAG_W,PHSPHT,PHSPHT_FLAG_W,TCARBN,TCARBN_FLAG_W,FCO2,FCO2_FLAG_W,ALKALI,ALKALI_FLAG_W,PH_SWS,PH_TEMP,PH_SWS_FLAG_W,THETA
,,,,,,,,METERS,DBARS,ITS-90,PSS-78,,PSS-78,,UMOL/KG,,UMOL/KG,,UMOL/KG,,UMOL/KG,,UMOL/KG,,UATM,,UMOL/KG,,,DEGC,,DEGC
  29HE20030408,     4,  1,      1,2,20030417, 24.5040, -26.6700, 4791,   3303.1,   2.5883,  34.9406,2,  34.9431,2,    246.7,2,    35.53,2,    20.98,2,     1.33,2,   2197.5,2,   -999.0,9,   2347.0,2,   7.7310,    25.00,2,   2.3147
  29HE20030408,     4,  1,      2,2,20030417, 24.5040, -26.6700, 4791,   2999.6,   2.7383,  34.9572,2,  34.9611,2,    246.7,2,    34.99,2,    20.59,2,     1.27,2,   -999.0,9,   -999.0,9,   2342.8,2,   7.7335,    25.00,2,   2.4931
  29HE20030408,     4,  1,      3,2,20030417, 24.5040, -26.6700, 4791,   2499.8,   3.1719,  34.9994,2,  34.9933,2,    245.9,2,    25.04,2,    20.35,2,     1.25,2,   -999.0,9,   -999.0,9,   2336.3,2,   7.7320,    25.00,2,   2.9686
  29HE20030408,     4,  1,      4,2,20030417, 24.5040, -26.6700, 4791,   1998.1,   3.9896,  35.0749,2,  35.0777,2,    231.7,2,    21.93,2,    19.28,2,     1.22,2,   -999.0,9,   -999.0,9,   2330.1,2,   7.7278,    25.00,2,   3.8220
  29HE20030408,     4,  1,      6,2,20030417, 24.5040, -26.6700, 4791,   1599.4,   5.1262,  35.1836,2,  35.1771,2,    215.7,2,    19.79,2,    21.85,2,     1.27,2,   -999.0,9,   -999.0,9,   2332.8,2,   7.7228,    25.00,2,   4.9829
  29HE20030408,     4,  1,      7,2,20030417, 24.5040, -26.6700, 4791,   1299.5,   6.1455,  35.2379,2,  35.2333,2,    193.9,2,    17.21,2,    20.90,2,     1.37,2,   -999.0,9,   -999.0,9,   2331.2,2,   7.7087,    25.00,2,   6.0219
  29HE20030408,     4,  1,      8,2,20030417, 24.5040, -26.6700, 4791,   1099.0,   6.7366,  35.2047,2,  35.2030,2,    173.6,2,    14.80,2,    23.37,2,     1.37,2,   -999.0,9,   -999.0,9,   2326.1,2,   7.6810,    25.00,2,   6.6288
  29HE20030408,     4,  1,      9,2,20030417, 24.5040, -26.6700, 4791,    999.2,   7.1597,  35.1951,2,  35.1913,2,    158.8,2,    18.19,2,    27.68,2,     1.48,2,   -999.0,9,   -999.0,9,   2323.6,2,   7.6677,    25.00,2,   7.0592
  29HE20030408,     4,  1,     10,2,20030417, 24.5040, -26.6700, 4791,    898.4,   7.6660,  35.1866,2,  35.2070,2,    140.2,2,    18.18,2,    24.44,2,     1.57,2,   2208.9,2,   -999.0,9,   2329.5,2,   7.6469,    25.00,2,   7.5729
  29HE20030408,     4,  1,     11,2,20030417, 24.5040, -26.6700, 4791,    800.4,   8.5657,  35.2671,2,  35.2604,2,    135.7,2,    16.46,2,    26.91,2,     1.51,2,   -999.0,9,   -999.0,9,   2328.5,2,   7.6577,    25.00,2,   8.4779
  29HE20030408,     4,  1,     12,2,20030417, 24.5040, -26.6700, 4791,    700.0,   9.7289,  35.3976,2,  35.3949,2,    146.0,2,    11.62,2,    20.03,2,     1.33,2,   -999.0,9,   -999.0,9,   2327.4,2,   7.6972,    25.00,2,   9.6466
  29HE20030408,     4,  1,     13,2,20030417, 24.5040, -26.6700, 4791,    600.7,  10.8602,  35.5180,2,  35.5014,2,    155.6,2,     9.75,2,    20.24,2,     1.10,2,   -999.0,9,   -999.0,9,   2330.5,2,   7.7357,    25.00,2,  10.7849
  29HE20030408,     4,  1,     15,2,20030417, 24.5040, -26.6700, 4791,    400.5,  13.7614,  35.8868,2,  35.8558,2,    190.1,2,     4.56,2,    12.36,2,     0.66,2,   -999.0,9,   -999.0,9,   2351.0,2,   7.8437,    25.00,2,  13.7033
  29HE20030408,     4,  1,     16,2,20030417, 24.5040, -26.6700, 4791,    300.3,  15.7183,  36.1783,2,  36.1235,2,    196.9,2,     3.14,2,     7.89,2,     0.46,2,   -999.0,9,   -999.0,9,   2363.1,2,   7.9062,    25.00,2,  15.6708
  29HE20030408,     4,  1,     17,2,20030417, 24.5040, -26.6700, 4791,    200.3,  17.5661,  36.5195,2,  36.4291,2,    222.1,2,     1.76,2,     4.33,2,     0.27,2,   -999.0,9,   -999.0,9,   2382.7,2,   7.9545,    25.00,2,  17.5319
  29HE20030408,     4,  1,     18,2,20030417, 24.5040, -26.6700, 4791,    150.0,  18.9043,  36.7986,2,  36.6920,2,    217.3,2,     1.35,2,     2.16,2,     0.05,2,   -999.0,9,   -999.0,9,   2396.2,2,   7.9778,    25.00,2,  18.8774
  29HE20030408,     4,  1,     19,2,20030417, 24.5040, -26.6700, 4791,    125.5,  21.0268,  37.3110,2,  37.1564,2,    201.5,2,     0.83,2,     0.26,2,     0.00,2,   -999.0,9,   -999.0,9,   2427.1,2,   8.0342,    25.00,2,  21.0025
  29HE20030408,     4,  1,     20,2,20030417, 24.5040, -26.6700, 4791,    101.1,  21.2521,  37.3284,2,  37.2313,2,    201.6,2,     0.80,2,     0.00,2,     0.08,2,   -999.0,9,   -999.0,9,   2431.3,2,   8.0359,    25.00,2,  21.2324
  29HE20030408,     4,  1,     21,2,20030417, 24.5040, -26.6700, 4791,     74.3,  21.3506,  37.3169,2,  37.2115,2,    216.6,2,     0.77,2,     0.00,2,     0.01,2,   -999.0,9,   -999.0,9,   2432.6,2,   8.0397,    25.00,2,  21.3361
  29HE20030408,     4,  1,     22,2,20030417, 24.5040, -26.6700, 4791,     51.6,  21.3760,  37.2043,2,  37.1279,2,    225.9,2,     1.06,2,     0.00,2,     0.00,2,   -999.0,9,   -999.0,9,   2427.3,2,   8.0450,    25.00,2,  21.3659
  29HE20030408,     4,  1,     23,2,20030417, 24.5040, -26.6700, 4791,     27.5,  21.8695,  37.2510,2,  37.1528,2,    214.7,2,     0.67,2,     0.00,2,     0.00,2,   2105.2,2,   -999.0,9,   2429.6,2,   8.0431,    25.00,2,  21.8640
  29HE20030408,     4,  1,     24,2,20030417, 24.5040, -26.6700, 4791,      6.5,  21.8605,  37.2503,2,  37.1560,2,    222.8,2,     1.00,2,     0.00,2,     0.00,2,   -999.0,9,    352.8,2,   2428.4,2,   8.0468,    25.00,2,  21.8592
  29HE20030408,     5,  1,      2,2,20030419, 28.0010, -21.2970, 4710,   3002.9,   2.7838,  34.9624,2,  34.9521,2,    244.3,2,    33.69,2,    21.16,2,     1.20,2,   2195.3,2,   -999.0,9,   2344.3,2,   7.7282,    25.00,2,   2.5373
  29HE20030408,     5,  1,      3,2,20030419, 28.0010, -21.2970, 4710,   2500.0,   3.2480,  35.0037,2,  34.9957,2,    235.2,2,    29.44,2,    20.75,2,     1.18,2,   -999.0,9,   -999.0,9,   2339.4,2,   7.7206,    25.00,2,   3.0433
  29HE20030408,     5,  1,      4,2,20030419, 28.0010, -21.2970, 4710,   1999.2,   4.1619,  35.0998,2,  35.0919,2,    221.4,2,    25.06,2,    22.95,2,     1.25,2,   -999.0,9,   -999.0,9,   2338.7,2,   7.7196,    25.00,2,   3.9917
  29HE20030408,     5,  1,      6,2,20030419, 28.0010, -21.2970, 4710,   1798.9,   4.6973,  35.1536,2,  35.1465,2,    216.5,2,    22.22,2,    21.18,2,     1.26,2,   -999.0,9,   -999.0,9,   2334.4,2,   7.7152,    25.00,2,   4.5394
  29HE20030408,     5,  1,      7,2,20030419, 28.0010, -21.2970, 4710,   1600.5,   5.3186,  35.2165,2,  35.2074,2,    207.8,2,    20.62,2,    23.20,2,     1.28,2,   -999.0,9,   -999.0,9,   2335.6,2,   7.7187,    25.00,2,   5.1729
  29HE20030408,     5,  1,      9,2,20030419, 28.0010, -21.2970, 4710,   1200.7,   6.9038,  35.3217,2,  35.3107,2,    176.7,2,    18.23,2,    22.56,2,     1.33,2,   -999.0,9,   -999.0,9,   2335.6,2,   7.7019,    25.00,2,   6.7835
  29HE20030408,     5,  1,     10,2,20030419, 28.0010, -21.2970, 4710,    998.6,   7.3724,  35.2519,2,  35.2392,2,    152.2,2,    18.04,2,    25.89,2,     1.36,2,   -999.0,9,   -999.0,9,   2328.7,2,   7.6688,    25.00,2,   7.2704
  29HE20030408,     5,  1,     11,2,20030419, 28.0010, -21.2970, 4710,    800.2,   8.6282,  35.2844,2,  35.2695,2,    131.1,2,    16.49,2,    28.14,2,     1.53,2,   2210.3,2,   -999.0,9,   2324.9,2,   7.6681,    25.00,2,   8.5401
  29HE20030408,     5,  1,     13,2,20030419, 28.0010, -21.2970, 4710,    599.0,  10.8778,  35.5457,2,  35.5274,2,    158.2,2,     9.99,2,    20.90,2,     1.12,2,   -999.0,9,   -999.0,9,   2332.8,2,   7.7403,    25.00,2,  10.8027
  29HE20030408,     5,  1,     16,2,20030419, 28.0010, -21.2970, 4710,    300.6,  14.4872,  35.9981,2,  35.9772,2,    187.2,2,     3.84,2,    10.61,2,     0.44,2,   -999.0,9,   -999.0,9,   2353.8,2,   7.8588,    25.00,2,  14.4422
  29HE20030408,     5,  1,     17,2,20030419, 28.0010, -21.2970, 4710,    200.0,  16.2959,  36.2939,2,  36.2423,2,    195.2,2,     2.50,2,     6.52,2,     0.37,2,   -999.0,9,   -999.0,9,   2368.8,2,   7.9096,    25.00,2,  16.2635
  29HE20030408,     5,  1,     18,2,20030419, 28.0010, -21.2970, 4710,    150.5,  17.3909,  36.5000,2,  36.4983,2,    203.7,2,     1.55,2,     3.28,2,     0.17,2,   -999.0,9,   -999.0,9,   2385.8,2,   7.9502,    25.00,2,  17.3654
  29HE20030408,     5,  1,     19,2,20030419, 28.0010, -21.2970, 4710,    126.3,  18.4580,  36.7194,2,  36.6607,2,    208.2,2,     1.51,2,     2.05,2,     0.13,2,   -999.0,9,   -999.0,9,   2395.9,2,   7.9720,    25.00,2,  18.4357
  29HE20030408,     5,  1,     20,2,20030419, 28.0010, -21.2970, 4710,    100.7,  19.2190,  36.8790,2,  36.8153,2,    225.1,2,     0.74,2,     0.15,2,     0.09,2,   -999.0,9,   -999.0,9,   2406.8,2,   8.0044,    25.00,2,  19.2007
  29HE20030408,     5,  1,     21,2,20030419, 28.0010, -21.2970, 4710,     75.0,  20.1783,  37.0681,2,  37.0041,2,    226.5,2,     0.75,2,     0.15,2,     0.05,2,   -999.0,9,   -999.0,9,   2417.6,2,   8.0186,    25.00,2,  20.1642
  29HE20030408,     5,  1,     22,2,20030419, 28.0010, -21.2970, 4710,     52.2,  20.2477,  37.0735,2,  37.0047,2,    226.5,2,     0.92,2,     0.00,2,     0.06,2,   -999.0,9,   -999.0,9,   2419.1,2,   8.0197,    25.00,2,  20.2379
  29HE20030408,     5,  1,     23,2,20030419, 28.0010, -21.2970, 4710,     27.0,  20.2430,  37.0742,2,  37.0044,2,    225.6,2,     0.96,2,     0.00,2,     0.04,2,   2108.3,2,   -999.0,9,   2419.3,2,   8.0214,    25.00,2,  20.2379
  29HE20030408,     5,  1,     24,2,20030419, 28.0010, -21.2970, 4710,      5.0,  20.2433,  37.0748,2,  37.0043,2,    226.6,2,     0.79,2,     0.00,2,     0.05,2,   -999.0,9,    349.2,2,   2419.3,2,   8.0251,    25.00,2,  20.2424
  29HE20030408,     6,  1,      1,2,20030420, 30.0920, -18.0130, 4426,   3300.3,   2.5872,  34.9416,2,  34.9368,2,    241.0,2,    38.60,2,    21.60,2,     1.30,2,   -999.0,9,   -999.0,9,   2351.6,2,   7.7279,    25.00,2,   2.3140
  29HE20030408,     6,  1,      2,2,20030420, 30.0920, -18.0130, 4426,   2997.2,   2.7607,  34.9612,2,  34.9549,2,    242.0,2,    35.50,2,    22.05,2,     1.25,2,   2196.4,2,   -999.0,9,   2346.3,2,   7.7266,    25.00,2,   2.5153
  29HE20030408,     6,  1,      3,2,20030420, 30.0920, -18.0130, 4426,   2498.7,   3.2584,  35.0158,2,  35.0071,2,    242.0,2,    25.73,2,    20.72,2,     1.18,2,   -999.0,9,   -999.0,9,   2337.6,2,   7.7317,    25.00,2,   3.0536
  29HE20030408,     6,  1,      4,2,20030420, 30.0920, -18.0130, 4426,   1997.8,   4.4481,  35.1631,2,  35.1555,2,    237.0,2,    19.31,2,    19.47,2,     1.07,2,   -999.0,9,   -999.0,9,   2335.9,2,   7.7384,    25.00,2,   4.2736
  29HE20030408,     6,  1,      6,2,20030420, 30.0920, -18.0130, 4426,   1800.2,   5.1566,  35.2599,2,  35.2526,2,    232.0,2,    19.02,2,    19.31,2,     1.10,2,   -999.0,9,   -999.0,9,   2337.2,2,   7.7424,    25.00,2,   4.9922
  29HE20030408,     6,  1,      7,2,20030420, 30.0920, -18.0130, 4426,   1598.6,   6.0302,  35.3666,2,  35.3626,2,    221.0,2,    15.78,2,    18.31,2,     1.12,2,   -999.0,9,   -999.0,9,   2340.3,2,   7.7431,    25.00,2,   5.8759
  29HE20030408,     6,  1,      9,2,20030420, 30.0920, -18.0130, 4426,   1199.5,   7.8800,  35.5564,2,  35.5483,2,    188.0,2,    15.42,2,    19.69,2,     1.13,2,   -999.0,9,   -999.0,9,   2350.0,2,   7.7365,    25.00,2,   7.7509
  29HE20030408,     6,  1,     10,2,20030420, 30.0920, -18.0130, 4426,   1000.3,   8.6324,  35.5172,2,  35.5101,2,    173.0,2,    13.66,2,    20.99,2,     1.03,2,   -999.0,9,   -999.0,9,   2343.2,2,   7.7246,    25.00,2,   8.5206
  29HE20030408,     6,  1,     11,2,20030420, 30.0920, -18.0130, 4426,    801.2,   9.8156,  35.5504,2,  35.5416,2,    172.0,2,    11.16,2,    20.10,2,     1.10,2,   2186.2,2,   -999.0,9,   2339.6,2,   7.7378,    25.00,2,   9.7202
  29HE20030408,     6,  1,     13,2,20030420, 30.0920, -18.0130, 4426,    595.1,  11.3650,  35.5907,2,  35.5778,2,    187.0,2,     6.40,2,    14.50,2,     0.86,2,   -999.0,9,   -999.0,9,   2335.3,2,   7.7841,    25.00,2,  11.2883
  29HE20030408,     6,  1,     14,2,20030420, 30.0920, -18.0130, 4426,    500.5,  12.2755,  35.6863,2,  35.6758,2,    194.0,2,     5.36,2,    14.02,2,     0.76,2,   -999.0,9,   -999.0,9,   2338.3,2,   7.8166,    25.00,2,  12.2080
  29HE20030408,     6,  1,     16,2,20030420, 30.0920, -18.0130, 4426,    402.8,  13.5350,  35.8424,2,  35.8209,2,    200.0,2,     4.06,2,    10.46,2,     0.63,2,   -999.0,9,   -999.0,9,   2347.2,2,   7.8533,    25.00,2,  13.4772
  29HE20030408,     6,  1,     17,2,20030420, 30.0920, -18.0130, 4426,    300.4,  15.0541,  36.0866,2,  36.0537,2,    196.0,2,     2.72,2,     7.68,2,     0.45,2,   -999.0,9,   -999.0,9,   2358.6,2,   7.8863,    25.00,2,  15.0080
  29HE20030408,     6,  1,     18,2,20030420, 30.0920, -18.0130, 4426,    199.8,  16.5880,  36.3524,2,  36.2976,2,    198.0,2,     2.21,2,     5.57,2,     0.28,2,   -999.0,9,   -999.0,9,   2372.7,2,   7.9229,    25.00,2,  16.5553
  29HE20030408,     6,  1,     19,2,20030420, 30.0920, -18.0130, 4426,    151.0,  18.0359,  36.6776,2,  36.6244,2,    181.0,3,     1.21,2,     0.96,2,     0.22,2,   -999.0,9,   -999.0,9,   2393.6,2,   7.9810,    25.00,2,  18.0097
  29HE20030408,     6,  1,     21,2,20030420, 30.0920, -18.0130, 4426,    101.1,  18.9069,  36.8559,2,  36.8043,2,   -999.0,9,     0.91,2,     0.29,2,     0.07,2,   -999.0,9,   -999.0,9,   2404.5,2,   8.0049,    25.00,2,  18.8888
  29HE20030408,     6,  1,     22,2,20030420, 30.0920, -18.0130, 4426,     74.8,  19.5151,  36.9588,2,  36.9021,2,    229.0,2,     0.98,2,     0.00,2,     0.07,2,   -999.0,9,   -999.0,9,   2410.9,2,   8.0113,    25.00,2,  19.5014
  29HE20030408,     6,  1,     23,2,20030420, 30.0920, -18.0130, 4426,     35.1,  19.5556,  36.9633,2,  36.8970,2,    229.0,2,     0.77,2,     0.00,2,     0.04,2,   2106.8,2,   -999.0,9,   2411.5,2,   8.0145,    25.00,2,  19.5492
  29HE20030408,     6,  1,     24,2,20030420, 30.0920, -18.0130, 4426,      6.6,  19.6109,  36.9749,2,  36.9086,2,   -999.0,9,     1.04,2,     0.00,2,     0.10,2,   -999.0,9,    345.9,2,   2412.6,2,   8.0148,    25.00,2,  19.6097
  29HE20030408,     7,  1,      2,2,20030422, 36.1480,  -7.3140,  828,    837.0,  10.9016,  36.0406,2,  36.0234,2,    174.3,2,     9.16,2,    16.56,2,     0.94,2,   2199.2,2,   -999.0,9,   2378.5,2,   7.7762,    25.00,2,  10.7948
  29HE20030408,     7,  1,      4,2,20030422, 36.1480,  -7.3140,  828,    705.0,  10.6466,  35.7323,2,  35.7128,2,    173.2,2,     9.75,2,    18.34,2,     0.94,2,   -999.0,9,   -999.0,9,   2349.1,2,   7.7605,    25.00,2,  10.5587
  29HE20030408,     7,  1,      6,2,20030422, 36.1480,  -7.3140,  828,    601.0,  11.0077,  35.6266,2,  35.6069,2,    185.1,2,     7.63,2,    17.76,2,     0.85,2,   -999.0,9,   -999.0,9,   2343.4,2,   7.7715,    25.00,2,  10.9317
  29HE20030408,     7,  1,      7,2,20030422, 36.1480,  -7.3140,  828,    499.0,  11.4376,  35.6236,2,  35.6061,2,    195.1,2,     6.03,2,    15.55,2,     0.80,2,   -999.0,9,   -999.0,9,   2338.1,2,   7.7877,    25.00,2,  11.3732
  29HE20030408,     7,  1,      9,2,20030422, 36.1480,  -7.3140,  828,    399.0,  12.1264,  35.6794,2,  35.6569,2,    202.0,2,     4.46,2,    12.53,2,     0.72,2,   -999.0,9,   -999.0,9,   2338.0,2,   7.8101,    25.00,2,  12.0732
  29HE20030408,     7,  1,     10,2,20030422, 36.1480,  -7.3140,  828,    300.0,  12.9441,  35.7690,2,  35.7453,2,    203.9,2,     3.84,2,    10.51,2,     0.62,2,   -999.0,9,   -999.0,9,   2342.6,2,   7.8370,    25.00,2,  12.9025
  29HE20030408,     7,  1,     12,2,20030422, 36.1480,  -7.3140,  828,    251.0,  13.3489,  35.8251,2,  35.8003,2,    209.5,2,     3.46,2,     9.98,2,     0.52,2,   -999.0,9,   -999.0,9,   2346.8,2,   7.8530,    25.00,2,  13.3134
  29HE20030408,     7,  1,     13,2,20030422, 36.1480,  -7.3140,  828,    200.0,  13.8917,  35.9069,2,  35.8791,2,    212.4,2,     2.95,2,     8.11,2,     0.45,2,   -999.0,9,   -999.0,9,   2350.2,2,   7.8705,    25.00,2,  13.8627
  29HE20030408,     7,  1,     16,2,20030422, 36.1480,  -7.3140,  828,    153.0,  14.7527,  36.0689,2,  36.0372,2,    218.4,2,     2.27,2,     5.47,2,     0.32,2,   -999.0,9,   -999.0,9,   2360.6,2,   7.9080,    25.00,2,  14.7296
  29HE20030408,     7,  1,     17,2,20030422, 36.1480,  -7.3140,  828,    122.0,  15.4524,  36.2195,2,  36.1776,2,    229.6,2,     1.80,2,     3.31,2,     0.22,2,   -999.0,9,   -999.0,9,   2368.8,2,   7.9362,    25.00,2,  15.4334
  29HE20030408,     7,  1,     18,2,20030422, 36.1480,  -7.3140,  828,    100.0,  15.8078,  36.2865,2,  36.2502,2,    230.5,2,     1.39,2,     2.54,2,     0.15,2,   -999.0,9,   -999.0,9,   2374.6,2,   7.9490,    25.00,2,  15.7920
  29HE20030408,     7,  1,     19,2,20030422, 36.1480,  -7.3140,  828,     74.0,  16.0108,  36.3247,2,  36.2869,2,    233.8,2,     1.32,2,     1.54,2,     0.14,2,   -999.0,9,   -999.0,9,   2375.5,2,   7.9563,    25.00,2,  15.9990
  29HE20030408,     7,  1,     21,2,20030422, 36.1480,  -7.3140,  828,     50.0,  17.1259,  36.3983,2,  36.3521,2,    242.0,2,     0.85,2,     0.00,2,     0.05,2,   -999.0,9,   -999.0,9,   2380.6,2,   7.9929,    25.00,2,  17.1176
  29HE20030408,     7,  1,     22,2,20030422, 36.1480,  -7.3140,  828,     27.0,  17.2314,  36.3761,2,  36.3335,2,    242.5,2,     0.91,2,     0.00,2,     0.02,2,   -999.0,9,   -999.0,9,   2379.8,2,   7.9905,    25.00,2,  17.2269
  29HE20030408,     7,  1,     23,2,20030422, 36.1480,  -7.3140,  828,      6.0,  17.2456,  36.3650,2,  36.3197,2,    238.5,2,     1.12,2,     0.00,2,     0.06,2,   2098.7,2,    335.7,2,   2379.6,2,   7.9811,    25.00,2,  17.2446