BOTTLE,20081218PRINUNIVRMK
# This file initialized 4/6/07 
# Data from Rios 4/9/07 and 4/9/07 
# Ship: Hesperides 
# Cruise: 29HE091, FICARAM VI 
# Dates: 4/8-4/24/2003 
# EXPOCODE: 29HE20030408 
# Region: ~24N, very sparse section from 65W to 20W then to Gibralter 
# Chief Scientist: A. Rios 
# 7 full depth stations;  with 24 place Rosette 
# Hydro: Who - A. Rios; Status - final 
# 	Notes: 	 
# Nuts/O2: Who - C.Castro; Status - final  
# 	Notes: estimated O2 error of +/-1umol/kg 
# 	Nutrients frozen prior to analysis. Estimated errors: 
# 		+/-0.05 umol/kg for nitrate 
# 		+/-0.05 umol/kg for silicic acid 
# 		+/-0.01 umol/kg for phosphate 
# 	Methods see: Hansen and Grasshoff (1983), 
# 		Mourino and Fraga, 1985; Alvarez-Salgado et al., 1992 
# TCO2: Who - R. Wanninkhof; Status - final 
# 	Notes: file only has a few samples measured ashore for check 
# TA: Who - A. Rios; Status - final 
# 	Notes: potentiometric titrations with hydrochloric acid to 
# 		a final pH of 4.40 (Perez and Fraga, 1987).  
# 		The electrodes were standardised using a buffer of  
# 		pH 4.42 made in CO2 free seawater (Perez et al., 2000) 
# 	CRM batch 54 analysis implied uncertainty of +/-0.7 umol kg-1 
# fCO2: Who - A. Rios; Status - final 
# 	Notes: surface water only 
# pH: Who - A. Rios; Status - final; S Plus -  up to date 
# 	Notes: SWS@25C 
# 	spectrophotometrically following Clayton and Byrne (1993) 
# 	CRM batch 54 analysis implied uncertainty of 0.0002 
# References: 
# Alvarez-Salgado X.A., F. Fraga and F.F. Perez, 1992: Determination of nutrient salts by automatic methods both in seawater and brackish waters: The phosphate blank. Marine Chemistry, 39, 311-319. 
# Clayton, T.D., R.H. Byrne. 1993. Spectrophotometric seawater pH measurements: total hydrogen ion concentration scale concentration scale calibration of m-cresol purple and at-sea results. Deep-Sea Res. I, Vol. 40, 10, 2115-2129. 
# Hansen, H.P. and Grasshoff, K. Automated Chemical Analysis. In: K. Grasshoff, M. Ehrhardt and K. Kremlig (Editors), Methods of Seawater Analysis. Verlag Chemie, Weinheim, 419 pp., 1983. 
# Lueker, T.J., Dickson, A.G., Keeling, C.D., 2000. Ocean pCO2 calculated from dissolved inorganic carbon, alkalinity and equations for K1 and K2: validations based on laboratory measurements of CO2 in gas and seawater at equilibrium. Mar. Chem., 70, 105-119. 
# Mourino C., F. Fraga, 1985: Determinacion de nitratos en agua de mar. Investigacion Pesquera, 49, 81-96. 
# Perez, F.F., Fraga, F., 1987. A precise and rapid analytical procedure for alkalinity determination. Marine Chemistry, 21, 169-182. 
# Perez, F.F., A.F. Rios, T. Rellan, M. Ålvarez. 2000. Improvements in a fast potentiometric seawater alkalinity determination. Ciencias Marinas, 26, 463-478. 
EXPOCODE,STNNBR,CASTNO,BTLNBR,BTLNBR_FLAG_W,DATE,LATITUDE,LONGITUDE,DEPTH,CTDPRS,CTDTMP,CTDSAL,CTDSAL_FLAG_W,SALNTY,SALNTY_FLAG_W,OXYGEN,OXYGEN_FLAG_W,SILCAT,SILCAT_FLAG_W,NITRAT,NITRAT_FLAG_W,PHSPHT,PHSPHT_FLAG_W,TCARBN,TCARBN_FLAG_W,FCO2,FCO2_FLAG_W,ALKALI,ALKALI_FLAG_W,PH_SWS,PH_TEMP,PH_SWS_FLAG_W,THETA
,,,,,,,,METERS,DBARS,ITS-90,PSS-78,,PSS-78,,UMOL/KG,,UMOL/KG,,UMOL/KG,,UMOL/KG,,UMOL/KG,,UATM,,UMOL/KG,,,DEGC,,DEGC
  29HE20030408,     1,  1,      8,2,20030410, 24.5020, -65.9990, 5710,      4.6,  24.7633,  36.9149,2,  36.8168,2,    204.9,2,     1.43,2,     0.00,2,     0.11,2,   -999.0,9,    325.7,2,   2402.1,2,   8.1140,    25.00,2,  24.7623
  29HE20030408,     1,  1,     23,2,20030410, 24.5020, -65.9990, 5710,     25.2,  24.7717,  36.9151,2,  36.8170,2,    208.6,2,  -999.00,9,  -999.00,9,  -999.00,9,   2043.4,2,   -999.0,9,   2400.2,2,   8.1009,    25.00,2,  24.7662
  29HE20030408,     1,  1,     21,2,20030410, 24.5020, -65.9990, 5710,     75.1,  24.7376,  36.9147,2,  36.8166,2,    209.6,2,     1.37,2,     0.13,2,     0.00,2,   -999.0,9,   -999.0,9,   2407.4,2,   8.1000,    25.00,2,  24.7213
  29HE20030408,     1,  1,     20,2,20030410, 24.5020, -65.9990, 5710,    101.5,  24.1714,  36.8697,2,  36.7842,2,    209.8,2,     1.06,2,     0.00,2,     0.02,2,   -999.0,9,   -999.0,9,   2405.8,2,   8.1002,    25.00,2,  24.1498
  29HE20030408,     1,  1,     19,2,20030410, 24.5020, -65.9990, 5710,    124.3,  23.4372,  36.8501,2,  36.7592,2,    213.1,2,     1.40,2,     0.00,2,     0.10,2,   -999.0,9,   -999.0,9,   2401.1,2,   8.0923,    25.00,2,  23.4113
  29HE20030408,     1,  1,     18,2,20030410, 24.5020, -65.9990, 5710,    150.5,  22.6468,  36.8215,2,  36.7865,2,    208.0,2,     1.06,2,     0.00,2,     0.01,2,   -999.0,9,   -999.0,9,   2402.1,2,   8.0716,    25.00,2,  22.6162
  29HE20030408,     1,  1,     17,2,20030410, 24.5020, -65.9990, 5710,    200.4,  20.8887,  36.8966,2,  36.8411,2,    192.9,2,     1.09,2,     0.46,2,     0.09,2,   -999.0,9,   -999.0,9,   2406.2,2,   8.0165,    25.00,2,  20.8501
  29HE20030408,     1,  1,     15,2,20030410, 24.5020, -65.9990, 5710,    399.4,  17.8490,  36.5433,2,  36.4896,2,    194.0,2,     1.94,2,     4.82,2,     0.14,2,   -999.0,9,   -999.0,9,   2382.8,2,   7.9703,    25.00,2,  17.7798
  29HE20030408,     1,  1,     14,2,20030410, 24.5020, -65.9990, 5710,    599.0,  14.4174,  35.9692,2,  35.9090,2,    167.3,2,     5.53,2,    13.55,2,     0.67,2,   -999.0,9,   -999.0,9,   2355.3,2,   7.8367,    25.00,2,  14.3273
  29HE20030408,     1,  1,     13,2,20030410, 24.5020, -65.9990, 5710,    800.0,  10.3405,  35.3682,2,  35.3756,2,    150.1,2,    12.25,2,    22.95,2,     1.41,2,   2188.8,2,   -999.0,9,   2328.3,2,   7.7197,    25.00,2,  10.2425
  29HE20030408,     1,  1,     10,2,20030410, 24.5020, -65.9990, 5710,   1200.8,   5.6954,  35.0789,2,  35.0679,2,    211.8,2,    15.37,2,    21.40,2,     1.31,2,   -999.0,9,   -999.0,9,   2318.8,2,   7.7068,    25.00,2,   5.5863
  29HE20030408,     1,  1,      7,2,20030410, 24.5020, -65.9990, 5710,   1799.6,   4.1194,  35.0475,2,  35.0361,2,    252.8,2,    16.88,2,    19.98,2,     1.11,2,   -999.0,9,   -999.0,9,   2317.1,2,   7.7546,    25.00,2,   3.9695
  29HE20030408,     1,  1,      6,2,20030410, 24.5020, -65.9990, 5710,   1998.3,   3.7410,  35.0245,2,  35.0199,2,    254.4,2,    19.13,2,    18.60,2,     1.21,2,   -999.0,9,   -999.0,9,   2321.8,2,   7.7401,    25.00,2,   3.5773
  29HE20030408,     1,  1,      5,2,20030410, 24.5020, -65.9990, 5710,   2300.5,   3.3113,  34.9889,2,  34.9910,2,    258.9,2,    21.86,2,    21.00,2,     1.29,2,   -999.0,9,   -999.0,9,   2329.9,2,   7.7441,    25.00,2,   3.1252
  29HE20030408,     1,  1,      4,2,20030410, 24.5020, -65.9990, 5710,   2598.3,   3.0277,  34.9688,2,  34.9564,2,    260.4,2,    24.88,2,    21.13,2,     1.30,2,   2175.3,2,   -999.0,9,   2324.5,2,   7.7535,    25.00,2,   2.8174
  29HE20030408,     2,  1,      1,2,20030412, 24.5080, -52.2880, 5065,   3502.4,   2.4655,  34.9214,2,  34.9137,2,    257.9,2,    35.09,2,    20.04,2,     1.25,2,   -999.0,9,   -999.0,9,   2342.3,2,   7.7301,    25.00,2,   2.1736
  29HE20030408,     2,  1,      2,2,20030412, 24.5080, -52.2880, 5065,   3251.0,   2.6436,  34.9373,2,  34.9286,2,    255.9,2,    32.88,2,    19.80,2,     1.23,2,   2189.6,2,   -999.0,9,   2340.5,2,   7.7322,    25.00,2,   2.3743
  29HE20030408,     2,  1,      3,2,20030412, 24.5080, -52.2880, 5065,   3000.1,   2.7987,  34.9505,2,  34.9415,2,    254.9,2,    30.04,2,    19.69,2,     1.22,2,   -999.0,9,   -999.0,9,   2333.5,2,   7.7366,    25.00,2,   2.5522
  29HE20030408,     2,  1,      4,2,20030412, 24.5080, -52.2880, 5065,   2599.2,   3.0570,  34.9730,2,  34.9490,2,    251.3,2,    27.08,2,    19.81,2,     1.23,2,   -999.0,9,   -999.0,9,   2334.4,2,   7.7347,    25.00,2,   2.8461
  29HE20030408,     2,  1,      6,2,20030412, 24.5080, -52.2880, 5065,   1998.5,   3.7127,  35.0243,2,  34.9973,2,    248.5,2,    19.44,2,    20.36,2,     1.16,2,   -999.0,9,   -999.0,9,   2327.0,2,   7.7362,    25.00,2,   3.5495
  29HE20030408,     2,  1,      7,2,20030412, 24.5080, -52.2880, 5065,   1699.0,   4.2871,  35.0558,2,  35.0322,2,    249.5,2,    16.05,2,    19.59,2,     1.17,2,   -999.0,9,   -999.0,9,   2317.6,2,   7.7339,    25.00,2,   4.1447
  29HE20030408,     2,  1,      9,2,20030412, 24.5080, -52.2880, 5065,   1399.5,   5.0215,  35.0743,2,  35.0522,2,    233.0,2,    14.22,2,    18.39,2,     1.15,2,   -999.0,9,   -999.0,9,   2318.2,2,   7.7215,    25.00,2,   4.8994
  29HE20030408,     2,  1,     10,2,20030412, 24.5080, -52.2880, 5065,   1199.3,   5.6525,  35.0396,2,  35.0165,2,    198.5,2,    17.07,2,    23.17,2,     1.37,2,   -999.0,9,   -999.0,9,   2322.6,2,   7.6832,    25.00,2,   5.5440
  29HE20030408,     2,  1,     11,2,20030412, 24.5080, -52.2880, 5065,   1000.5,   6.4953,  35.0011,2,  34.9819,2,    164.1,2,    18.74,2,    26.56,2,     1.56,2,   2205.5,2,   -999.0,9,   2315.9,2,   7.6472,    25.00,2,   6.3999
  29HE20030408,     2,  1,     12,2,20030412, 24.5080, -52.2880, 5065,    900.1,   7.7872,  35.1151,2,  35.0915,2,    153.3,2,    17.53,2,    28.15,2,     1.52,2,   -999.0,9,   -999.0,9,   2319.7,2,   7.6466,    25.00,2,   7.6933
  29HE20030408,     2,  1,     13,2,20030412, 24.5080, -52.2880, 5065,    801.4,   9.1087,  35.2627,2,  35.2333,2,    150.7,2,    14.77,2,    25.87,2,     1.41,2,   -999.0,9,   -999.0,9,   2323.2,2,   7.6584,    25.00,2,   9.0177
  29HE20030408,     2,  1,     16,2,20030412, 24.5080, -52.2880, 5065,    297.9,  17.7984,  36.5253,2,  36.4607,2,    199.7,2,     1.90,2,     4.93,2,     0.12,2,   -999.0,9,   -999.0,9,   2380.6,2,   7.9662,    25.00,2,  17.7470
  29HE20030408,     2,  1,     17,2,20030412, 24.5080, -52.2880, 5065,    199.3,  18.7270,  36.6413,2,  36.5702,2,    202.4,2,     1.44,2,     2.82,2,     0.09,2,   -999.0,9,   -999.0,9,   2387.8,2,   8.0052,    25.00,2,  18.6915
  29HE20030408,     2,  1,     18,2,20030412, 24.5080, -52.2880, 5065,    150.9,  19.8579,  36.7796,2,  36.6718,2,    198.6,2,     1.30,2,     1.05,2,     0.02,2,   -999.0,9,   -999.0,9,   2398.3,2,   7.9971,    25.00,2,  19.8299
  29HE20030408,     2,  1,     19,2,20030412, 24.5080, -52.2880, 5065,    124.7,  20.8269,  36.9105,2,  36.7826,2,    198.4,2,     1.00,2,     0.27,2,     0.02,2,   -999.0,9,   -999.0,9,   2403.3,2,   8.0132,    25.00,2,  20.8030
  29HE20030408,     2,  1,     20,2,20030412, 24.5080, -52.2880, 5065,    100.9,  21.6958,  36.9131,2,  36.7806,2,    213.6,2,     0.87,2,     0.00,2,     0.00,2,   -999.0,9,   -999.0,9,   2404.9,2,   8.0524,    25.00,2,  21.6759
  29HE20030408,     2,  1,     21,2,20030412, 24.5080, -52.2880, 5065,     73.9,  22.9301,  37.0345,2,  36.8970,2,    217.4,2,     0.91,2,     0.02,2,     0.01,2,   -999.0,9,   -999.0,9,   2410.6,2,   8.0743,    25.00,2,  22.9149
  29HE20030408,     2,  1,     22,2,20030412, 24.5080, -52.2880, 5065,     49.9,  23.2828,  37.0686,2,  36.9429,2,    220.5,2,     0.98,2,     0.00,2,     0.00,2,   -999.0,9,   -999.0,9,   2413.8,2,   8.0856,    25.00,2,  23.2724
  29HE20030408,     2,  1,     23,2,20030412, 24.5080, -52.2880, 5065,     25.5,  23.6065,  37.0961,2,  36.9813,2,    214.2,2,     1.34,2,     0.00,2,     0.00,2,   -999.0,9,   -999.0,9,   2417.6,2,   8.0924,    25.00,2,  23.6012
  29HE20030408,     2,  1,     24,2,20030412, 24.5080, -52.2880, 5065,      5.9,  23.7800,  37.1011,2,  36.9916,2,    215.2,2,     1.08,2,     0.00,2,     0.00,2,   2059.8,2,    328.1,2,   2414.2,2,   8.0944,    25.00,2,  23.7788
  29HE20030408,     3,  1,      1,2,20030416, 24.5050, -34.0100, 5810,   3303.1,   2.5845,  34.9366,2,  34.9235,2,    247.5,2,    36.99,2,    21.90,2,     1.30,2,   2194.8,2,   -999.0,9,   2348.5,2,   7.7279,    25.00,2,   2.3111
  29HE20030408,     3,  1,      2,2,20030416, 24.5050, -34.0100, 5810,   2998.8,   2.7057,  34.9503,2,  34.9419,2,    245.5,2,    34.01,2,    21.80,2,     1.30,2,   -999.0,9,   -999.0,9,   2344.2,2,   7.7269,    25.00,2,   2.4614
  29HE20030408,     3,  1,      3,2,20030416, 24.5050, -34.0100, 5810,   2498.6,   3.0525,  34.9840,2,  34.9674,2,    247.1,2,    27.73,2,    20.89,2,     1.18,2,   -999.0,9,   -999.0,9,   2335.5,2,   7.7259,    25.00,2,   2.8516
  29HE20030408,     3,  1,      4,2,20030416, 24.5050, -34.0100, 5810,   1997.6,   3.8121,  35.0516,2,  35.0381,2,    239.4,2,    21.06,2,    19.12,2,     1.19,2,   -999.0,9,   -999.0,9,   2328.4,2,   7.7306,    25.00,2,   3.6473
  29HE20030408,     3,  1,      6,2,20030416, 24.5050, -34.0100, 5810,   1399.5,   5.7887,  35.2361,2,  35.2231,2,    209.9,2,    17.77,2,    21.96,2,     1.22,2,   -999.0,9,   -999.0,9,   2332.3,2,   7.7178,    25.00,2,   5.6583
  29HE20030408,     3,  1,      7,2,20030416, 24.5050, -34.0100, 5810,   1100.2,   6.5009,  35.1631,2,  35.1535,2,    180.9,2,    17.05,2,    21.82,2,     1.34,2,   -999.0,9,   -999.0,9,   2328.1,2,   7.6951,    25.00,2,   6.3950
  29HE20030408,     3,  1,      8,2,20030416, 24.5050, -34.0100, 5810,   1001.5,   7.0065,  35.1735,2,  35.1716,2,    169.4,2,    17.05,2,    25.04,2,     1.43,2,   2201.7,2,   -999.0,9,   2326.4,2,   7.6835,    25.00,2,   6.9070
  29HE20030408,     3,  1,      9,2,20030416, 24.5050, -34.0100, 5810,    899.8,   7.5724,  35.1813,2,  35.1673,2,    159.2,2,    16.96,2,    24.99,2,     1.54,2,   -999.0,9,   -999.0,9,   2324.8,2,   7.6802,    25.00,2,   7.4798
  29HE20030408,     3,  1,     10,2,20030416, 24.5050, -34.0100, 5810,    801.5,   8.4584,  35.2615,2,  35.2816,2,    150.4,2,    15.20,2,    26.23,2,     1.45,2,   -999.0,9,   -999.0,9,   2329.0,2,   7.6869,    25.00,2,   8.3711
  29HE20030408,     3,  1,     11,2,20030416, 24.5050, -34.0100, 5810,    700.4,   9.8154,  35.4351,2,  35.4016,2,    159.4,2,    11.86,2,    21.72,2,     1.16,2,   -999.0,9,   -999.0,9,   2331.6,2,   7.7233,    25.00,2,   9.7326
  29HE20030408,     3,  1,     12,2,20030416, 24.5050, -34.0100, 5810,    602.1,  11.5521,  35.6032,2,  35.5754,2,    171.6,2,     8.01,2,    18.22,2,     0.96,2,   -999.0,9,   -999.0,9,   2334.2,2,   7.7722,    25.00,2,  11.4737
  29HE20030408,     3,  1,     13,2,20030416, 24.5050, -34.0100, 5810,    501.2,  12.9060,  35.7738,2,  35.7424,2,    178.1,2,     5.82,2,    14.76,2,     0.65,2,   -999.0,9,   -999.0,9,   2343.9,2,   7.8063,    25.00,2,  12.8361
  29HE20030408,     3,  1,     14,2,20030416, 24.5050, -34.0100, 5810,    399.9,  14.5737,  36.0055,2,  35.9741,2,    185.4,2,     4.04,2,    11.25,2,     0.47,2,   -999.0,9,   -999.0,9,   2355.8,2,   7.8588,    25.00,2,  14.5134
  29HE20030408,     3,  1,     15,2,20030416, 24.5050, -34.0100, 5810,    299.8,  16.2471,  36.2665,2,  36.2269,2,    191.6,2,     2.69,2,     8.01,2,     0.30,2,   -999.0,9,   -999.0,9,   2369.4,2,   7.9024,    25.00,2,  16.1986
  29HE20030408,     3,  1,     16,2,20030416, 24.5050, -34.0100, 5810,    249.5,  17.6233,  36.5255,2,  36.4268,2,    198.5,2,     1.84,2,     4.74,2,     0.21,2,   -999.0,9,   -999.0,9,   2381.2,2,   7.9452,    25.00,2,  17.5806
  29HE20030408,     3,  1,     17,2,20030416, 24.5050, -34.0100, 5810,    200.6,  18.1546,  36.6338,2,  36.5362,2,    193.3,2,     1.74,2,     5.01,2,     0.13,2,   -999.0,9,   -999.0,9,   2391.6,2,   7.9409,    25.00,2,  18.1196
  29HE20030408,     3,  1,     18,2,20030416, 24.5050, -34.0100, 5810,    150.3,  19.5964,  36.9082,2,  36.8253,2,    201.0,2,     1.18,2,     1.59,2,     0.06,2,   -999.0,9,   -999.0,9,   2408.4,2,   7.9714,    25.00,2,  19.5687
  29HE20030408,     3,  1,     19,2,20030416, 24.5050, -34.0100, 5810,    123.4,  21.2865,  37.2990,2,  37.2115,2,    209.5,2,     0.99,2,     0.16,2,     0.07,2,   -999.0,9,   -999.0,9,   2427.7,2,   8.0218,    25.00,2,  21.2624
  29HE20030408,     3,  1,     20,2,20030416, 24.5050, -34.0100, 5810,     99.6,  21.7873,  37.3965,2,  37.3051,2,    216.4,2,     0.92,2,     0.00,2,     0.06,2,   -999.0,9,   -999.0,9,   2441.6,2,   8.0442,    25.00,2,  21.7675
  29HE20030408,     3,  1,     21,2,20030416, 24.5050, -34.0100, 5810,     74.0,  22.4905,  37.5113,2,  37.3943,2,    217.2,2,     0.79,2,     0.00,2,     0.01,2,   -999.0,9,   -999.0,9,   2444.4,2,   8.0595,    25.00,2,  22.4755
  29HE20030408,     3,  1,     22,2,20030416, 24.5050, -34.0100, 5810,     50.6,  22.5272,  37.5179,2,  37.4193,2,    218.8,2,     0.76,2,     0.00,2,     0.01,2,   -999.0,9,   -999.0,9,   2447.2,2,   8.0617,    25.00,2,  22.5169
  29HE20030408,     3,  1,     23,2,20030416, 24.5050, -34.0100, 5810,     25.5,  22.5252,  37.5181,2,  37.4173,2,    216.7,2,     0.96,2,     0.00,2,     0.06,2,   2103.9,2,   -999.0,9,   2447.4,2,   8.0676,    25.00,2,  22.5200
  29HE20030408,     3,  1,     24,2,20030416, 24.5050, -34.0100, 5810,      6.8,  22.5241,  37.5180,2,  37.4173,2,    217.7,2,  -999.00,9,  -999.00,9,  -999.00,9,   -999.0,9,    345.5,2,   2446.7,2,   8.0580,    25.00,2,  22.5227