BOTTLE,20160908PRINUNIVRMK
# 1/15/16 Initialized README file  
# 1/20/16 edited by D. Schuller 
# Data source: CCHDO 7/11/2016 http://cchdo.ucsd.edu/cruise/74JC20151217 
# SHIP: James Clark Ross 
# Cruise: JCR15003; SR01B 
# Region: Drake Passage; ~56W 
# EXPOCODE: 74JC20151217 
# DATES: 20151217 - 20160113 
# Chief Scientist: Y. Firing, NOCS 
# Supported by NERC National Capability and NERC-BAS Collaborative Gearing Scheme awards 
# 31 stations with 24 place Rosette 
# SOCCOM Biogeochemical floats deployed by D. Schuller 
# Sta   WMO_ID	Lat       Lon       Date	 
# 9     5904660  60.6663   54.8275   20160107 
# 12    5904659  59.6670   55.4455   20160107 
# 16    5904658  58.0502   56.4473   20160108 
# 20    5904657  56.4676   57.4050   20160109 
# Supported by NSF Award PLR-1425989 to J.L. Sarmiento et al.  
# CTD: Who - Y. Firing; Status - final 
# 	Notes: Includes CTDSAL, CTDOXY, SBE35 
# 	The CTD PRS,TMP,SAL,OXY; data are all calibrated and good. 
# 	Flags in bottle file set to good for all existing values 
# 	CTD files also contain CTDXMISS, CTDFLUOR, CTDTURB 
# Salinity: Who - Y. Firing; Status - final 
# 	Notes: 	 
# Nutrients: Who - SIO/ODF ; Status - final 
# 	Notes: frozen, analyzed ashore 
# 	Includes: nitrate, nitrite, silicate, phopshpate 
# 	Silicate values are bad. All flagged 4 
# 	Phosphate may be biased high 
# Oxygen: Who - SIO/ODF; Status - final 
# 	Notes:  
# Alkalinity: Who - A.Dickson; Status - final 
# 	Notes: analyzed ashore 
# 	Rcd 8/30/16 
# pH: Who - A.Dickson; Status - final 
# 	Notes: analyzed ashore 
# 	Total H+ scale @ 25C 
# 	Rcd 8/30/16 
# Other: HPLC/POC filters  Who - E. Boss ; Status - being measured 
# 	Notes: analyzed ashore 
# These data should be cited as: 
# References that have used data from this cruise: 
EXPOCODE,SECT_ID,STNNBR,CASTNO,SAMPNO,BTLNBR,BTLNBR_FLAG_W,DATE,TIME,LATITUDE,LONGITUDE,DEPTH,CTDPRS,CTDTMP,CTDSAL,CTDSAL_FLAG_W,SALNTY,SALNTY_FLAG_W,CTDOXY,CTDOXY_FLAG_W,OXYGEN,OXYGEN_FLAG_W,SILCAT,SILCAT_FLAG_W,NITRAT,NITRAT_FLAG_W,NITRIT,NITRIT_FLAG_W,PHSPHT,PHSPHT_FLAG_W,NH4,NH4_FLAG_W,ALKALI,ALKALI_FLAG_W,PH_TOT,PH_TOT_FLAG_W,PH_TMP,SBE35,SBE35_FLAG_W
,,,,,,,,,,,METERS,DBAR,ITS-90,PSS-78,,PSS-78,,UMOL/KG,,UMOL/KG,,UMOL/KG,,UMOL/KG,,UMOL/KG,,UMOL/KG,,UMOL/KG,,UMOL/KG,,,,DEG C,ITS-90,
  74JC20151217, SR01b,     1,  1,      1,      1,2,20151225,0645,-64.5090, -64.8479,  589,    586.6,   1.4594,  34.7145,2,  34.7099,2,    182.5,2,   -999.0,9,  -999.00,9,  -999.00,9,  -999.00,9,  -999.00,9,     -999,9,   -999.0,9,-999.0000,9,  -999.00,   1.4585,2
  74JC20151217, SR01b,     1,  1,      5,      5,2,20151225,0645,-64.5090, -64.8479,  589,    405.0,   1.4230,  34.6824,2,  34.6717,2,    180.1,2,   -999.0,9,  -999.00,9,  -999.00,9,  -999.00,9,  -999.00,9,     -999,9,   -999.0,9,-999.0000,9,  -999.00,   1.4224,2
  74JC20151217, SR01b,     1,  1,      9,      9,2,20151225,0645,-64.5090, -64.8479,  589,    201.5,   1.1622,  34.6137,2,  34.6121,2,    190.0,2,   -999.0,9,  -999.00,9,  -999.00,9,  -999.00,9,  -999.00,9,     -999,9,   -999.0,9,-999.0000,9,  -999.00,   1.1610,2
  74JC20151217, SR01b,     1,  1,     13,     13,2,20151225,0645,-64.5090, -64.8479,  589,    101.1,   0.1823,  34.4036,2,  34.4099,2,    223.1,2,   -999.0,9,  -999.00,9,  -999.00,9,  -999.00,9,  -999.00,9,     -999,9,   -999.0,9,-999.0000,9,  -999.00,   0.1630,2
  74JC20151217, SR01b,     1,  1,     17,     17,2,20151225,0645,-64.5090, -64.8479,  589,     40.1,  -0.9461,  34.0033,2,  34.0062,2,    277.9,2,   -999.0,9,  -999.00,9,  -999.00,9,  -999.00,9,  -999.00,9,     -999,9,   -999.0,9,-999.0000,9,  -999.00,  -0.9831,2
  74JC20151217, SR01b,     1,  1,     21,     21,2,20151225,0645,-64.5090, -64.8479,  589,     15.4,  -1.1675,  33.4136,2,  33.4233,2,    345.3,2,   -999.0,9,  -999.00,9,  -999.00,9,  -999.00,9,  -999.00,9,     -999,9,   -999.0,9,-999.0000,9,  -999.00,  -1.1747,2
  74JC20151217, SR01b,     2,  1,      1,      1,2,20151227,0646,-66.8497, -70.1708,  566,    562.0,   1.2175,  34.7249,2,  34.7225,2,    190.4,2,   -999.0,9,  -999.00,9,  -999.00,9,  -999.00,9,  -999.00,9,     -999,9,   -999.0,9,-999.0000,9,  -999.00,   1.2216,2
  74JC20151217, SR01b,     2,  1,      5,      5,2,20151227,0646,-66.8497, -70.1708,  566,    404.4,   1.4264,  34.7081,2,  34.7058,2,    176.1,2,   -999.0,9,  -999.00,9,  -999.00,9,  -999.00,9,  -999.00,9,     -999,9,   -999.0,9,-999.0000,9,  -999.00,   1.4304,2
  74JC20151217, SR01b,     2,  1,      9,      9,2,20151227,0646,-66.8497, -70.1708,  566,    202.8,   1.1878,  34.5994,2,  34.6133,3,    176.8,2,   -999.0,9,  -999.00,9,  -999.00,9,  -999.00,9,  -999.00,9,     -999,9,   -999.0,9,-999.0000,9,  -999.00,   1.1766,2
  74JC20151217, SR01b,     2,  1,     13,     13,2,20151227,0646,-66.8497, -70.1708,  566,    102.3,  -0.9831,  34.1938,2,  34.2129,3,    254.6,2,   -999.0,9,  -999.00,9,  -999.00,9,  -999.00,9,  -999.00,9,     -999,9,   -999.0,9,-999.0000,9,  -999.00,  -0.9829,2
  74JC20151217, SR01b,     2,  1,     17,     17,2,20151227,0646,-66.8497, -70.1708,  566,     41.0,  -1.6370,  33.9649,2,  33.9847,3,    288.8,2,   -999.0,9,  -999.00,9,  -999.00,9,  -999.00,9,  -999.00,9,     -999,9,   -999.0,9,-999.0000,9,  -999.00,  -1.6378,2
  74JC20151217, SR01b,     2,  1,     21,     21,2,20151227,0646,-66.8497, -70.1708,  566,     15.6,  -1.4004,  33.4474,2,  33.5652,3,    358.0,2,   -999.0,9,  -999.00,9,  -999.00,9,  -999.00,9,  -999.00,9,     -999,9,   -999.0,9,-999.0000,9,  -999.00,  -1.3889,2
  74JC20151217, SR01b,     3,  1,      3,      3,2,20151228,1016,-67.8036, -68.8146,  387,    303.5,   1.2089,  34.6309,2,  34.6306,2,    161.9,2,   -999.0,9,  -999.00,9,  -999.00,9,  -999.00,9,  -999.00,9,     -999,9,   -999.0,9,-999.0000,9,  -999.00,   1.2048,2
  74JC20151217, SR01b,     3,  1,      5,      5,2,20151228,1016,-67.8036, -68.8146,  387,    253.1,   1.1440,  34.6107,2,  34.6107,2,    159.8,2,   -999.0,9,  -999.00,9,  -999.00,9,  -999.00,9,  -999.00,9,     -999,9,   -999.0,9,-999.0000,9,  -999.00,   1.1417,2
  74JC20151217, SR01b,     3,  1,      9,      9,2,20151228,1016,-67.8036, -68.8146,  387,    162.4,   0.7109,  34.4715,2,  34.4688,2,    164.1,2,   -999.0,9,  -999.00,9,  -999.00,9,  -999.00,9,  -999.00,9,     -999,9,   -999.0,9,-999.0000,9,  -999.00,   0.6233,2
  74JC20151217, SR01b,     3,  1,     13,     13,2,20151228,1016,-67.8036, -68.8146,  387,    101.9,  -0.3946,  34.1605,2,  34.2013,3,    208.2,2,   -999.0,9,  -999.00,9,  -999.00,9,  -999.00,9,  -999.00,9,     -999,9,   -999.0,9,-999.0000,9,  -999.00,  -0.4149,2
  74JC20151217, SR01b,     3,  1,     17,     17,2,20151228,1016,-67.8036, -68.8146,  387,     41.2,  -1.0905,  33.7848,2,  33.7958,3,    272.4,2,   -999.0,9,  -999.00,9,  -999.00,9,  -999.00,9,  -999.00,9,     -999,9,   -999.0,9,-999.0000,9,  -999.00,  -1.1968,2
  74JC20151217, SR01b,     3,  1,     21,     21,2,20151228,1016,-67.8036, -68.8146,  387,     15.0,  -1.0197,  33.3470,2,  33.4104,3,    333.2,2,   -999.0,9,  -999.00,9,  -999.00,9,  -999.00,9,  -999.00,9,     -999,9,   -999.0,9,-999.0000,9,  -999.00,  -0.9376,2
  74JC20151217, SR01b,     4,  1,      1,      1,2,20160106,0919,-61.0500, -54.5878,  361,    354.4,  -0.3864,  34.5053,2,  34.5054,2,    276.1,2,    276.8,2,    86.60,4,    32.10,2,     0.07,2,     2.24,2,     0.43,2,   -999.0,9,-999.0000,9,  -999.00,  -0.3897,2
  74JC20151217, SR01b,     4,  1,      2,      2,2,20160106,0919,-61.0500, -54.5878,  361,    203.5,  -0.2454,  34.4642,2,  34.4644,2,    285.5,2,    285.7,2,    86.70,4,    31.64,2,     0.08,2,     2.21,2,     0.47,2,   -999.0,9,-999.0000,9,  -999.00,  -0.2444,2
  74JC20151217, SR01b,     4,  1,      3,      3,2,20160106,0919,-61.0500, -54.5878,  361,    154.5,  -0.1974,  34.4270,2,  34.4277,2,    298.4,2,    298.2,2,    85.00,4,    31.06,2,     0.10,2,     2.19,2,     0.56,2,   -999.0,9,-999.0000,9,  -999.00,  -0.1973,2
  74JC20151217, SR01b,     4,  1,      4,      4,2,20160106,0919,-61.0500, -54.5878,  361,    103.2,  -0.0833,  34.3901,2,  34.3917,2,    312.8,2,    312.7,2,    84.20,4,    30.27,2,     0.11,2,     2.14,2,     0.72,2,   -999.0,9,-999.0000,9,  -999.00,  -0.0832,2
  74JC20151217, SR01b,     4,  1,      5,      5,2,20160106,0919,-61.0500, -54.5878,  361,     27.4,   0.2224,  34.3279,2,  34.3315,2,    335.3,2,    334.6,2,    82.80,4,    29.11,2,     0.14,2,     2.04,2,     0.43,2,   -999.0,9,-999.0000,9,  -999.00,   0.2269,2
  74JC20151217, SR01b,     4,  1,      6,      6,2,20160106,0919,-61.0500, -54.5878,  361,      7.5,   0.2324,  34.3266,2,  34.3260,2,    335.7,2,    335.9,2,    82.10,4,    29.03,2,     0.14,2,     2.04,2,     0.41,2,   -999.0,9,-999.0000,9,  -999.00,   0.2298,2
  74JC20151217, SR01b,     5,  1,      1,      1,2,20160106,1122,-60.9811, -54.6299,  582,    577.9,  -0.5591,  34.5580,2,  34.5590,2,    265.2,2,   -999.0,9,  -999.00,9,  -999.00,9,  -999.00,9,  -999.00,9,     -999,9,   -999.0,9,-999.0000,9,  -999.00,  -0.5611,2
  74JC20151217, SR01b,     5,  1,      2,      2,2,20160106,1122,-60.9811, -54.6299,  582,    306.1,  -0.2795,  34.4542,2,  34.4548,2,    288.6,2,   -999.0,9,  -999.00,9,  -999.00,9,  -999.00,9,  -999.00,9,     -999,9,   -999.0,9,-999.0000,9,  -999.00,  -0.2790,2
  74JC20151217, SR01b,     5,  1,      3,      3,2,20160106,1122,-60.9811, -54.6299,  582,    204.2,  -0.1997,  34.4300,2,  34.4311,2,    296.8,2,   -999.0,9,  -999.00,9,  -999.00,9,  -999.00,9,  -999.00,9,     -999,9,   -999.0,9,-999.0000,9,  -999.00,  -0.2001,2
  74JC20151217, SR01b,     5,  1,      4,      4,2,20160106,1122,-60.9811, -54.6299,  582,    103.3,  -0.1411,  34.4112,2,  34.4120,2,    304.8,2,   -999.0,9,  -999.00,9,  -999.00,9,  -999.00,9,  -999.00,9,     -999,9,   -999.0,9,-999.0000,9,  -999.00,  -0.1417,2
  74JC20151217, SR01b,     5,  1,      5,      5,2,20160106,1122,-60.9811, -54.6299,  582,     53.4,   0.0534,  34.3731,2,  34.3748,2,    322.7,2,   -999.0,9,  -999.00,9,  -999.00,9,  -999.00,9,  -999.00,9,     -999,9,   -999.0,9,-999.0000,9,  -999.00,   0.0477,2
  74JC20151217, SR01b,     5,  1,      6,      6,2,20160106,1122,-60.9811, -54.6299,  582,     12.6,   0.3113,  34.3367,2,  34.3382,2,    334.5,2,   -999.0,9,  -999.00,9,  -999.00,9,  -999.00,9,  -999.00,9,     -999,9,   -999.0,9,-999.0000,9,  -999.00,   0.3044,2
  74JC20151217, SR01b,     6,  1,      1,      1,2,20160106,1317,-60.8502, -54.7102,  974,    972.9,   0.3563,  34.6614,2,  34.6608,2,    220.1,2,    221.3,2,  -999.00,9,  -999.00,9,  -999.00,9,  -999.00,9,     -999,9,   -999.0,9,-999.0000,9,  -999.00,   0.3551,2
  74JC20151217, SR01b,     6,  1,      2,      2,2,20160106,1317,-60.8502, -54.7102,  974,    860.8,   0.3511,  34.6570,2,  34.6565,2,    220.8,2,    222.3,2,  -999.00,9,  -999.00,9,  -999.00,9,  -999.00,9,     -999,9,   -999.0,9,-999.0000,9,  -999.00,   0.3503,2
  74JC20151217, SR01b,     6,  1,      3,      3,2,20160106,1317,-60.8502, -54.7102,  974,    709.0,   0.4898,  34.6626,2,  34.6631,2,    218.4,2,    219.7,2,  -999.00,9,  -999.00,9,  -999.00,9,  -999.00,9,     -999,9,   -999.0,9,-999.0000,9,  -999.00,   0.4881,2
  74JC20151217, SR01b,     6,  1,      4,      4,3,20160106,1317,-60.8502, -54.7102,  974,    558.2,   0.4275,  34.6454,2,  34.6471,2,    225.0,2,   -999.0,9,  -999.00,9,  -999.00,9,  -999.00,9,  -999.00,9,     -999,9,   -999.0,9,-999.0000,9,  -999.00,   0.4279,2
  74JC20151217, SR01b,     6,  1,      5,      5,2,20160106,1317,-60.8502, -54.7102,  974,    406.6,  -0.3483,  34.5464,2,  34.5498,2,    267.9,2,   -999.0,9,  -999.00,9,  -999.00,9,  -999.00,9,  -999.00,9,     -999,9,   -999.0,9,-999.0000,9,  -999.00,  -0.3588,2
  74JC20151217, SR01b,     6,  1,      6,      6,2,20160106,1317,-60.8502, -54.7102,  974,    254.4,  -0.5100,  34.4919,2,  34.4917,2,    291.3,2,    291.4,2,  -999.00,9,  -999.00,9,  -999.00,9,  -999.00,9,     -999,9,   -999.0,9,-999.0000,9,  -999.00,  -0.5094,2
  74JC20151217, SR01b,     6,  1,      7,      7,2,20160106,1317,-60.8502, -54.7102,  974,    103.2,  -0.3456,  34.4505,2,  34.4505,2,    309.5,2,    308.9,2,  -999.00,9,  -999.00,9,  -999.00,9,  -999.00,9,     -999,9,   -999.0,9,-999.0000,9,  -999.00,  -0.3458,2
  74JC20151217, SR01b,     6,  1,      8,      8,2,20160106,1317,-60.8502, -54.7102,  974,     17.4,   0.2261,  34.4044,2,  34.4058,2,    331.4,2,    330.6,2,  -999.00,9,  -999.00,9,  -999.00,9,  -999.00,9,     -999,9,   -999.0,9,-999.0000,9,  -999.00,   0.2302,2
  74JC20151217, SR01b,     7,  1,      1,      1,2,20160106,1840,-60.8332, -54.7217, 1735,   1730.0,   0.2150,  34.6684,2,  34.6684,2,    220.2,2,   -999.0,9,  -999.00,9,  -999.00,9,  -999.00,9,  -999.00,9,     -999,9,   -999.0,9,-999.0000,9,  -999.00,   0.2145,2
  74JC20151217, SR01b,     7,  1,      2,      2,2,20160106,1840,-60.8332, -54.7217, 1735,   1522.5,   0.2585,  34.6677,2,  34.6720,2,    219.6,2,   -999.0,9,  -999.00,9,  -999.00,9,  -999.00,9,  -999.00,9,     -999,9,   -999.0,9,-999.0000,9,  -999.00,   0.2641,2
  74JC20151217, SR01b,     7,  1,      3,      3,2,20160106,1840,-60.8332, -54.7217, 1735,   1216.8,   0.3613,  34.6645,2,  34.6647,2,    219.4,2,   -999.0,9,  -999.00,9,  -999.00,9,  -999.00,9,  -999.00,9,     -999,9,   -999.0,9,-999.0000,9,  -999.00,   0.3628,2
  74JC20151217, SR01b,     7,  1,      4,      4,2,20160106,1840,-60.8332, -54.7217, 1735,   1014.2,   0.3761,  34.6646,2,  34.6586,2,    219.8,2,   -999.0,9,  -999.00,9,  -999.00,9,  -999.00,9,  -999.00,9,     -999,9,   -999.0,9,-999.0000,9,  -999.00,   0.3769,2
  74JC20151217, SR01b,     7,  1,      5,      5,2,20160106,1840,-60.8332, -54.7217, 1735,    852.5,   0.4187,  34.6647,2,  34.6574,2,    219.5,2,   -999.0,9,  -999.00,9,  -999.00,9,  -999.00,9,  -999.00,9,     -999,9,   -999.0,9,-999.0000,9,  -999.00,   0.4183,2
  74JC20151217, SR01b,     7,  1,      6,      6,2,20160106,1840,-60.8332, -54.7217, 1735,    608.5,  -0.2371,  34.5857,2,  34.5846,2,    252.8,2,   -999.0,9,  -999.00,9,  -999.00,9,  -999.00,9,  -999.00,9,     -999,9,   -999.0,9,-999.0000,9,  -999.00,  -0.2354,2
  74JC20151217, SR01b,     7,  1,      7,      7,2,20160106,1840,-60.8332, -54.7217, 1735,    446.2,  -0.5204,  34.5448,2,  34.5434,2,    270.8,2,   -999.0,9,  -999.00,9,  -999.00,9,  -999.00,9,  -999.00,9,     -999,9,   -999.0,9,-999.0000,9,  -999.00,  -0.5211,2
  74JC20151217, SR01b,     7,  1,      8,      8,2,20160106,1840,-60.8332, -54.7217, 1735,    204.4,  -0.3266,  34.4683,2,  34.4653,2,    298.6,2,   -999.0,9,  -999.00,9,  -999.00,9,  -999.00,9,  -999.00,9,     -999,9,   -999.0,9,-999.0000,9,  -999.00,  -0.3262,2
  74JC20151217, SR01b,     7,  1,      9,      9,2,20160106,1840,-60.8332, -54.7217, 1735,     83.8,   0.2444,  34.4010,2,  34.3964,2,    329.3,2,   -999.0,9,  -999.00,9,  -999.00,9,  -999.00,9,  -999.00,9,     -999,9,   -999.0,9,-999.0000,9,  -999.00,   0.2520,2
  74JC20151217, SR01b,     7,  1,     10,     10,2,20160106,1840,-60.8332, -54.7217, 1735,     14.3,   0.4568,  34.3604,2,  34.3542,2,    339.1,2,   -999.0,9,  -999.00,9,  -999.00,9,  -999.00,9,  -999.00,9,     -999,9,   -999.0,9,-999.0000,9,  -999.00,   0.4552,2
  74JC20151217, SR01b,     8,  1,      1,      1,2,20160106,2057,-60.7994, -54.7424, 2649,   2663.1,  -0.0260,  34.6602,2,  34.6557,2,    228.2,2,    229.6,2,  -999.00,9,  -999.00,9,  -999.00,9,  -999.00,9,     -999,9,   -999.0,9,-999.0000,9,  -999.00,  -0.0262,2
  74JC20151217, SR01b,     8,  1,      2,      2,2,20160106,2057,-60.7994, -54.7424, 2649,   2235.9,   0.1339,  34.6667,2,  34.6640,2,    223.0,2,   -999.0,9,  -999.00,9,  -999.00,9,  -999.00,9,  -999.00,9,     -999,9,   -999.0,9,-999.0000,9,  -999.00,   0.1339,2
  74JC20151217, SR01b,     8,  1,      3,      3,2,20160106,2057,-60.7994, -54.7424, 2649,   1826.4,   0.2343,  34.6690,2,  34.6652,2,    220.6,2,    221.3,2,  -999.00,9,  -999.00,9,  -999.00,9,  -999.00,9,     -999,9,   -999.0,9,-999.0000,9,  -999.00,   0.2395,2
  74JC20151217, SR01b,     8,  1,      6,      6,2,20160106,2057,-60.7994, -54.7424, 2649,    708.0,   0.6400,  34.6529,2,  34.6430,2,    220.2,2,    220.6,2,  -999.00,9,  -999.00,9,  -999.00,9,  -999.00,9,     -999,9,   -999.0,9,-999.0000,9,  -999.00,   0.6878,2
  74JC20151217, SR01b,     8,  1,      7,      7,2,20160106,2057,-60.7994, -54.7424, 2649,    505.4,   0.8308,  34.6446,2,  34.6439,2,    217.8,2,   -999.0,9,  -999.00,9,  -999.00,9,  -999.00,9,  -999.00,9,     -999,9,   -999.0,9,-999.0000,9,  -999.00,   0.8306,2
  74JC20151217, SR01b,     8,  1,      8,      8,3,20160106,2057,-60.7994, -54.7424, 2649,    302.8,   1.8546,  34.6893,2,  34.6892,2,    176.4,2,    176.0,2,  -999.00,9,  -999.00,9,  -999.00,9,  -999.00,9,     -999,9,   -999.0,9,-999.0000,9,  -999.00,   1.8547,2
  74JC20151217, SR01b,     8,  1,      9,      9,2,20160106,2057,-60.7994, -54.7424, 2649,    105.4,   0.2180,  34.3951,2,  34.3967,2,    247.5,2,   -999.0,9,  -999.00,9,  -999.00,9,  -999.00,9,  -999.00,9,     -999,9,   -999.0,9,-999.0000,9,  -999.00,   0.2327,2
  74JC20151217, SR01b,     8,  1,     10,     10,2,20160106,2057,-60.7994, -54.7424, 2649,     24.7,  -0.0251,  34.0665,2,  34.0657,2,    321.7,2,    324.0,2,  -999.00,9,  -999.00,9,  -999.00,9,  -999.00,9,     -999,9,   -999.0,9,-999.0000,9,  -999.00,  -0.0117,2