BOTTLE,20160908PRINUNIVRMK
EXPOCODE,SECT_ID,STNNBR,CASTNO,SAMPNO,BTLNBR,BTLNBR_FLAG_W,DATE,TIME,LATITUDE,LONGITUDE,DEPTH,CTDPRS,CTDTMP,CTDSAL,CTDSAL_FLAG_W,SALNTY,SALNTY_FLAG_W,CTDOXY,CTDOXY_FLAG_W,OXYGEN,OXYGEN_FLAG_W,SILCAT,SILCAT_FLAG_W,NITRAT,NITRAT_FLAG_W,NITRIT,NITRIT_FLAG_W,PHSPHT,PHSPHT_FLAG_W,NH4,NH4_FLAG_W,ALKALI,ALKALI_FLAG_W,PH_TOT,PH_TOT_FLAG_W,PH_TMP,SBE35,SBE35_FLAG_W
,,,,,,,,,,,METERS,DBAR,ITS-90,PSS-78,,PSS-78,,UMOL/KG,,UMOL/KG,,UMOL/KG,,UMOL/KG,,UMOL/KG,,UMOL/KG,,UMOL/KG,,UMOL/KG,,,,DEG C,ITS-90,
  74JC20151217, SR01b,    13,  1,      1,      1,2,20160107,2048,-59.3332, -55.6512, 3755,   3813.2,  -0.0183,  34.6560,2,  34.6578,2,    233.0,2,   -999.0,9,  -999.00,9,  -999.00,9,  -999.00,9,  -999.00,9,     -999,9,   -999.0,9,-999.0000,9,  -999.00,  -0.0188,2
  74JC20151217, SR01b,    13,  1,      2,      2,2,20160107,2048,-59.3332, -55.6512, 3755,   3360.7,   0.0882,  34.6617,2,  34.6613,2,    227.9,2,   -999.0,9,  -999.00,9,  -999.00,9,  -999.00,9,  -999.00,9,     -999,9,   -999.0,9,-999.0000,9,  -999.00,   0.0888,2
  74JC20151217, SR01b,    13,  1,      3,      3,2,20160107,2048,-59.3332, -55.6512, 3755,   2849.0,   0.2988,  34.6766,2,  34.6767,2,    219.1,2,   -999.0,9,  -999.00,9,  -999.00,9,  -999.00,9,  -999.00,9,     -999,9,   -999.0,9,-999.0000,9,  -999.00,   0.2994,2
  74JC20151217, SR01b,    13,  1,      4,      4,2,20160107,2048,-59.3332, -55.6512, 3755,   2237.5,   0.6513,  34.6972,2,  34.6962,2,    207.9,2,   -999.0,9,  -999.00,9,  -999.00,9,  -999.00,9,  -999.00,9,     -999,9,   -999.0,9,-999.0000,9,  -999.00,   0.6557,2
  74JC20151217, SR01b,    13,  1,      5,      5,2,20160107,2048,-59.3332, -55.6512, 3755,   1729.1,   0.9654,  34.7105,2,  34.7116,2,    201.1,2,   -999.0,9,  -999.00,9,  -999.00,9,  -999.00,9,  -999.00,9,     -999,9,   -999.0,9,-999.0000,9,  -999.00,   0.9647,2
  74JC20151217, SR01b,    13,  1,      6,      6,2,20160107,2048,-59.3332, -55.6512, 3755,   1218.4,   1.4354,  34.7236,2,  34.7141,2,    191.5,2,   -999.0,9,  -999.00,9,  -999.00,9,  -999.00,9,  -999.00,9,     -999,9,   -999.0,9,-999.0000,9,  -999.00,   1.4358,2
  74JC20151217, SR01b,    13,  1,      7,      7,2,20160107,2048,-59.3332, -55.6512, 3755,    814.1,   1.8075,  34.7135,2,  34.7131,2,    182.6,2,   -999.0,9,  -999.00,9,  -999.00,9,  -999.00,9,  -999.00,9,     -999,9,   -999.0,9,-999.0000,9,  -999.00,   1.8103,2
  74JC20151217, SR01b,    13,  1,      8,      8,2,20160107,2048,-59.3332, -55.6512, 3755,    409.4,   2.1350,  34.6201,2,  34.6120,2,    172.7,2,   -999.0,9,  -999.00,9,  -999.00,9,  -999.00,9,  -999.00,9,     -999,9,   -999.0,9,-999.0000,9,  -999.00,   2.1353,2
  74JC20151217, SR01b,    13,  1,      9,      9,2,20160107,2048,-59.3332, -55.6512, 3755,    207.4,   1.7911,  34.3719,2,  34.3717,2,    203.9,2,   -999.0,9,  -999.00,9,  -999.00,9,  -999.00,9,  -999.00,9,     -999,9,   -999.0,9,-999.0000,9,  -999.00,   1.8254,2
  74JC20151217, SR01b,    13,  1,     10,     10,2,20160107,2048,-59.3332, -55.6512, 3755,    107.4,  -0.5900,  34.0081,2,  34.0017,2,    313.4,2,   -999.0,9,  -999.00,9,  -999.00,9,  -999.00,9,  -999.00,9,     -999,9,   -999.0,9,-999.0000,9,  -999.00,  -0.5981,2
  74JC20151217, SR01b,    13,  1,     11,     11,2,20160107,2048,-59.3332, -55.6512, 3755,     55.8,   1.3676,  33.8574,2,  33.8666,2,    345.5,2,   -999.0,9,  -999.00,9,  -999.00,9,  -999.00,9,  -999.00,9,     -999,9,   -999.0,9,-999.0000,9,  -999.00,   1.4886,2
  74JC20151217, SR01b,    13,  1,     12,     12,2,20160107,2048,-59.3332, -55.6512, 3755,     15.8,   1.7606,  33.8494,2,  33.8495,2,    346.2,2,   -999.0,9,  -999.00,9,  -999.00,9,  -999.00,9,  -999.00,9,     -999,9,   -999.0,9,-999.0000,9,  -999.00,   1.7621,2
  74JC20151217, SR01b,    14,  1,      1,      1,2,20160108,0131,-58.9998, -55.8581, 3776,   3832.3,  -0.0101,  34.6562,2,  34.6567,2,    233.2,2,   -999.0,9,  -999.00,9,  -999.00,9,  -999.00,9,  -999.00,9,     -999,9,   -999.0,9,-999.0000,9,  -999.00,  -0.0106,2
  74JC20151217, SR01b,    14,  1,      2,      2,2,20160108,0131,-58.9998, -55.8581, 3776,   3363.2,   0.1235,  34.6634,2,  34.6651,2,    226.6,2,   -999.0,9,  -999.00,9,  -999.00,9,  -999.00,9,  -999.00,9,     -999,9,   -999.0,9,-999.0000,9,  -999.00,   0.1234,2
  74JC20151217, SR01b,    14,  1,      3,      3,2,20160108,0131,-58.9998, -55.8581, 3776,   2748.7,   0.4087,  34.6824,2,  34.6819,2,    215.5,2,   -999.0,9,  -999.00,9,  -999.00,9,  -999.00,9,  -999.00,9,     -999,9,   -999.0,9,-999.0000,9,  -999.00,   0.4120,2
  74JC20151217, SR01b,    14,  1,      4,      4,2,20160108,0131,-58.9998, -55.8581, 3776,   2290.0,   0.6772,  34.6999,2,  34.6997,2,    207.2,2,   -999.0,9,  -999.00,9,  -999.00,9,  -999.00,9,  -999.00,9,     -999,9,   -999.0,9,-999.0000,9,  -999.00,   0.6771,2
  74JC20151217, SR01b,    14,  1,      5,      5,2,20160108,0131,-58.9998, -55.8581, 3776,   1830.3,   0.9544,  34.7091,2,  34.7001,2,    201.9,2,   -999.0,9,  -999.00,9,  -999.00,9,  -999.00,9,  -999.00,9,     -999,9,   -999.0,9,-999.0000,9,  -999.00,   0.9537,2
  74JC20151217, SR01b,    14,  1,      6,      6,2,20160108,0131,-58.9998, -55.8581, 3776,   1224.1,   1.4811,  34.7243,2,  34.7235,2,    189.6,2,   -999.0,9,  -999.00,9,  -999.00,9,  -999.00,9,  -999.00,9,     -999,9,   -999.0,9,-999.0000,9,  -999.00,   1.4853,2
  74JC20151217, SR01b,    14,  1,      7,      7,2,20160108,0131,-58.9998, -55.8581, 3776,    817.0,   1.8787,  34.7118,2,  34.6868,4,    181.0,2,   -999.0,9,  -999.00,9,  -999.00,9,  -999.00,9,  -999.00,9,     -999,9,   -999.0,9,-999.0000,9,  -999.00,   1.8777,2
  74JC20151217, SR01b,    14,  1,      8,      8,2,20160108,0131,-58.9998, -55.8581, 3776,    409.9,   2.1098,  34.6045,2,  34.6029,2,    173.0,2,   -999.0,9,  -999.00,9,  -999.00,9,  -999.00,9,  -999.00,9,     -999,9,   -999.0,9,-999.0000,9,  -999.00,   2.1144,2
  74JC20151217, SR01b,    14,  1,      9,      9,3,20160108,0131,-58.9998, -55.8581, 3776,    210.6,   1.8918,  34.4238,2,  34.4216,2,    192.8,2,   -999.0,9,  -999.00,9,  -999.00,9,  -999.00,9,  -999.00,9,     -999,9,   -999.0,9,-999.0000,9,  -999.00,   1.8821,2
  74JC20151217, SR01b,    14,  1,     10,     10,2,20160108,0131,-58.9998, -55.8581, 3776,    108.5,  -0.6383,  33.9474,2,  33.9468,2,    332.4,2,   -999.0,9,  -999.00,9,  -999.00,9,  -999.00,9,  -999.00,9,     -999,9,   -999.0,9,-999.0000,9,  -999.00,  -0.6368,2
  74JC20151217, SR01b,    14,  1,     11,     11,2,20160108,0131,-58.9998, -55.8581, 3776,     59.4,   1.3007,  33.8615,2,  33.8704,2,    348.4,2,   -999.0,9,  -999.00,9,  -999.00,9,  -999.00,9,  -999.00,9,     -999,9,   -999.0,9,-999.0000,9,  -999.00,   1.3103,2
  74JC20151217, SR01b,    14,  1,     12,     12,2,20160108,0131,-58.9998, -55.8581, 3776,     23.1,   1.7426,  33.8577,2,  33.8576,2,    349.6,2,   -999.0,9,  -999.00,9,  -999.00,9,  -999.00,9,  -999.00,9,     -999,9,   -999.0,9,-999.0000,9,  -999.00,   1.7429,2
  74JC20151217, SR01b,    15,  1,      1,      1,2,20160108,1036,-58.5246, -56.1543, 3787,   3839.3,   0.0359,  34.6579,2,  34.6584,2,    230.7,2,    231.5,2,  -999.00,9,  -999.00,9,  -999.00,9,  -999.00,9,     -999,9,   -999.0,9,-999.0000,9,  -999.00,   0.0357,2
  74JC20151217, SR01b,    15,  1,      2,      2,2,20160108,1036,-58.5246, -56.1543, 3787,   3153.1,   0.2059,  34.6684,2,  34.6699,2,    223.3,2,   -999.0,9,  -999.00,9,  -999.00,9,  -999.00,9,  -999.00,9,     -999,9,   -999.0,9,-999.0000,9,  -999.00,   0.2058,2
  74JC20151217, SR01b,    15,  1,      3,      3,2,20160108,1036,-58.5246, -56.1543, 3787,   2543.2,   0.5375,  34.6910,2,  34.6909,2,    212.1,2,   -999.0,9,  -999.00,9,  -999.00,9,  -999.00,9,  -999.00,9,     -999,9,   -999.0,9,-999.0000,9,  -999.00,   0.5407,2
  74JC20151217, SR01b,    15,  1,      4,      4,2,20160108,1036,-58.5246, -56.1543, 3787,   1933.2,   0.9204,  34.7107,2,  34.7112,2,    202.3,2,   -999.0,9,  -999.00,9,  -999.00,9,  -999.00,9,  -999.00,9,     -999,9,   -999.0,9,-999.0000,9,  -999.00,   0.9226,2
  74JC20151217, SR01b,    15,  1,      5,      5,2,20160108,1036,-58.5246, -56.1543, 3787,   1323.1,   1.3855,  34.7218,2,  34.7214,2,    192.2,2,   -999.0,9,  -999.00,9,  -999.00,9,  -999.00,9,  -999.00,9,     -999,9,   -999.0,9,-999.0000,9,  -999.00,   1.3886,2
  74JC20151217, SR01b,    15,  1,      6,      6,2,20160108,1036,-58.5246, -56.1543, 3787,    714.1,   1.9467,  34.6996,2,  34.6997,2,    177.2,2,    176.6,2,  -999.00,9,  -999.00,9,  -999.00,9,  -999.00,9,     -999,9,   -999.0,9,-999.0000,9,  -999.00,   1.9464,2
  74JC20151217, SR01b,    15,  1,      7,      7,2,20160108,1036,-58.5246, -56.1543, 3787,    369.2,   2.1487,  34.5846,2,  34.5837,2,    173.2,2,    172.5,2,  -999.00,9,  -999.00,9,  -999.00,9,  -999.00,9,     -999,9,   -999.0,9,-999.0000,9,  -999.00,   2.1493,2
  74JC20151217, SR01b,    15,  1,      8,      8,2,20160108,1036,-58.5246, -56.1543, 3787,    198.2,   1.9132,  34.4222,2,  34.4238,2,    193.0,2,    191.4,2,  -999.00,9,  -999.00,9,  -999.00,9,  -999.00,9,     -999,9,   -999.0,9,-999.0000,9,  -999.00,   1.9095,2
  74JC20151217, SR01b,    15,  1,      9,      9,2,20160108,1036,-58.5246, -56.1543, 3787,     78.0,  -0.5742,  33.9733,2,  33.9768,2,    318.9,2,    316.6,2,  -999.00,9,  -999.00,9,  -999.00,9,  -999.00,9,     -999,9,   -999.0,9,-999.0000,9,  -999.00,  -0.5770,2
  74JC20151217, SR01b,    15,  1,     10,     10,3,20160108,1036,-58.5246, -56.1543, 3787,     26.9,   1.9038,  33.8490,2,  33.8536,2,    347.7,2,    348.7,2,  -999.00,9,  -999.00,9,  -999.00,9,  -999.00,9,     -999,9,   -999.0,9,-999.0000,9,  -999.00,   1.9031,2
  74JC20151217, SR01b,    16,  1,      1,      1,2,20160108,1606,-58.0500, -56.4466, 3970,   4031.2,   0.0459,  34.6573,2,  34.6617,2,    231.3,2,    231.2,2,    79.10,4,    32.95,2,     0.00,2,     2.29,2,     0.15,2,   2356.8,2,   7.5954,2,    25.00,   0.0453,2
  74JC20151217, SR01b,    16,  1,      2,      2,2,20160108,1606,-58.0500, -56.4466, 3970,   3559.6,   0.1616,  34.6643,2,  34.6647,2,    226.4,2,    226.8,2,    76.30,4,    32.88,2,     0.00,2,     2.28,2,     0.11,2,   2358.4,2,   7.5944,2,    25.00,   0.1612,2
  74JC20151217, SR01b,    16,  1,      3,      3,2,20160108,1606,-58.0500, -56.4466, 3970,   3048.1,   0.3499,  34.6765,2,  34.6778,2,    218.8,2,    218.4,2,    74.10,4,    33.33,2,     0.00,2,     2.29,2,     0.67,2,   2360.8,2,   7.5942,2,    25.00,   0.3507,2
  74JC20151217, SR01b,    16,  1,      4,      4,2,20160108,1606,-58.0500, -56.4466, 3970,   2540.2,   0.6210,  34.6944,2,  34.6946,2,    209.9,2,    209.5,2,    74.50,4,    32.93,2,     0.00,2,     2.29,2,     0.34,2,   2364.7,2,   7.5977,2,    25.00,   0.6222,2
  74JC20151217, SR01b,    16,  1,      5,      5,2,20160108,1606,-58.0500, -56.4466, 3970,   2129.4,   0.8213,  34.7054,2,  34.7057,2,    203.7,2,    203.9,2,    77.10,4,    32.74,2,     0.00,2,     2.27,2,     0.08,2,   2365.7,2,   7.5969,2,    25.00,   0.8211,2
  74JC20151217, SR01b,    16,  1,      6,      6,2,20160108,1606,-58.0500, -56.4466, 3970,   1830.4,   1.0035,  34.7123,2,  34.7129,2,    200.4,2,    200.1,2,    77.40,4,    32.69,2,     0.00,2,     2.26,2,     0.13,2,   2364.1,2,   7.5975,2,    25.00,   1.0067,2
  74JC20151217, SR01b,    16,  1,      7,      7,2,20160108,1606,-58.0500, -56.4466, 3970,   1622.5,   1.1891,  34.7189,2,  34.7202,2,    196.1,2,    195.8,2,    80.70,4,    32.52,2,     0.00,2,     2.25,2,     0.15,2,   2363.4,2,   7.5981,2,    25.00,   1.1906,2
  74JC20151217, SR01b,    16,  1,      8,      8,2,20160108,1606,-58.0500, -56.4466, 3970,   1422.8,   1.3865,  34.7227,2,  34.7240,2,    192.4,2,    191.8,2,    81.40,4,    32.46,2,     0.00,2,     2.24,2,     0.11,2,   2363.5,2,   7.5973,2,    25.00,   1.3863,2
  74JC20151217, SR01b,    16,  1,      9,      9,2,20160108,1606,-58.0500, -56.4466, 3970,   1218.9,   1.5327,  34.7228,2,  34.7244,2,    188.5,2,    188.3,2,    80.10,4,    32.51,2,     0.00,2,     2.25,2,     0.12,2,   2360.4,2,   7.5945,2,    25.00,   1.5351,2
  74JC20151217, SR01b,    16,  1,     10,     10,3,20160108,1606,-58.0500, -56.4466, 3970,   1017.2,   1.7378,  34.7185,2,  34.7190,2,    183.9,2,    183.4,2,    82.20,4,    32.57,2,     0.00,2,     2.25,2,     0.26,2,   2358.0,2,   7.5897,2,    25.00,   1.7380,2
  74JC20151217, SR01b,    16,  1,     11,     11,2,20160108,1606,-58.0500, -56.4466, 3970,    813.9,   1.9309,  34.7079,2,  34.7082,2,    180.4,2,    179.1,2,    84.30,4,    32.77,2,     0.00,2,     2.27,2,     0.25,2,   2351.8,2,   7.5808,2,    25.00,   1.9309,2
  74JC20151217, SR01b,    16,  1,     12,     12,2,20160108,1606,-58.0500, -56.4466, 3970,    610.8,   2.0591,  34.6713,2,  34.6730,2,    175.6,2,    174.5,2,    86.80,4,    33.60,2,     0.00,2,     2.31,2,     0.11,2,   2345.6,2,   7.5658,2,    25.00,   2.0601,2
  74JC20151217, SR01b,    16,  1,     13,     13,2,20160108,1606,-58.0500, -56.4466, 3970,    509.5,   2.1491,  34.6370,2,  34.6357,2,    172.3,2,    171.6,2,    85.00,4,    34.24,2,     0.00,2,     2.36,2,     0.12,2,   2341.9,2,   7.5543,2,    25.00,   2.1492,2
  74JC20151217, SR01b,    16,  1,     14,     14,2,20160108,1606,-58.0500, -56.4466, 3970,    410.5,   2.1384,  34.5883,2,  34.5901,2,    173.3,2,    172.9,2,    82.40,4,    34.73,2,     0.00,2,     2.40,2,     0.15,2,   2338.3,2,   7.5481,2,    25.00,   2.1423,2
  74JC20151217, SR01b,    16,  1,     15,     15,2,20160108,1606,-58.0500, -56.4466, 3970,    308.8,   2.0247,  34.4925,2,  34.4909,2,    181.7,2,    181.0,2,    75.60,4,    35.33,2,     0.01,2,     2.44,2,     0.17,2,   2328.2,2,   7.5376,2,    25.00,   2.0233,2
  74JC20151217, SR01b,    16,  1,     16,     16,2,20160108,1606,-58.0500, -56.4466, 3970,    258.7,   1.9753,  34.4497,2,  34.4518,2,    187.6,2,    186.7,2,    71.50,4,    35.35,2,     0.02,2,     2.44,2,     0.17,2,   2324.9,2,   7.5389,2,    25.00,   1.9692,2
  74JC20151217, SR01b,    16,  1,     17,     17,2,20160108,1606,-58.0500, -56.4466, 3970,    208.2,   1.6578,  34.3553,2,  34.3513,2,    207.9,2,    208.0,2,    65.60,4,    34.95,2,     0.02,2,     2.41,2,     0.08,2,   2316.0,2,   7.5490,2,    25.00,   1.5888,2
  74JC20151217, SR01b,    16,  1,     18,     18,2,20160108,1606,-58.0500, -56.4466, 3970,    158.1,   0.5209,  34.1865,2,  34.1867,2,    254.8,2,    254.7,2,    56.60,4,    33.29,2,     0.04,2,     2.31,2,     0.28,2,   2305.0,2,   7.5745,2,    25.00,   0.4405,2
  74JC20151217, SR01b,    16,  1,     19,     19,2,20160108,1606,-58.0500, -56.4466, 3970,    107.4,  -0.6210,  33.9299,2,  33.9198,2,    330.4,2,    333.4,2,    44.80,4,    28.91,2,     0.19,2,     2.06,2,     0.82,2,   2291.4,2,   7.6342,2,    25.00,  -0.6000,2
  74JC20151217, SR01b,    16,  1,     20,     20,2,20160108,1606,-58.0500, -56.4466, 3970,     56.5,   1.1751,  33.8359,2,  33.8356,2,    349.8,2,    351.0,2,    34.00,4,    25.04,2,     0.21,2,     1.75,2,      0.5,2,   2290.8,2,   7.7091,2,    25.00,   1.2169,2
  74JC20151217, SR01b,    16,  1,     21,     21,2,20160108,1606,-58.0500, -56.4466, 3970,     32.7,   1.6289,  33.8357,2,  33.8356,2,    349.6,2,    349.6,2,    34.50,4,    24.32,2,     0.20,2,     1.67,2,     0.29,2,   2292.4,2,   7.7262,2,    25.00,   1.6308,2
  74JC20151217, SR01b,    16,  1,     22,     22,2,20160108,1606,-58.0500, -56.4466, 3970,     32.5,   1.6349,  33.8359,2,  33.8376,2,    349.4,2,    349.7,2,    35.00,4,    24.34,2,     0.20,2,     1.66,2,     0.35,2,   2291.1,2,   7.7262,2,    25.00,   1.6369,2
  74JC20151217, SR01b,    16,  1,     24,     24,2,20160108,1606,-58.0500, -56.4466, 3970,     22.9,   1.6509,  33.8363,2,  33.8359,2,    349.2,2,    349.7,2,    34.80,4,    24.33,2,     0.21,2,     1.65,2,      0.3,2,   2290.1,2,   7.7269,2,    25.00,   1.6496,2
  74JC20151217, SR01b,    17,  1,      1,      1,2,20160108,2129,-57.6537, -56.6892, 3467,   3513.1,   0.1421,  34.6641,2,  34.6654,2,    226.5,2,    226.4,2,  -999.00,9,  -999.00,9,  -999.00,9,  -999.00,9,     -999,9,   -999.0,9,-999.0000,9,  -999.00,   0.1426,2
  74JC20151217, SR01b,    17,  1,      2,      2,2,20160108,2129,-57.6537, -56.6892, 3467,   3258.0,   0.2047,  34.6687,2,  34.6702,2,    223.5,2,   -999.0,9,  -999.00,9,  -999.00,9,  -999.00,9,  -999.00,9,     -999,9,   -999.0,9,-999.0000,9,  -999.00,   0.2046,2
  74JC20151217, SR01b,    17,  1,      3,      3,2,20160108,2129,-57.6537, -56.6892, 3467,   2646.5,   0.5750,  34.6927,2,  34.6933,2,    210.8,2,    210.6,2,  -999.00,9,  -999.00,9,  -999.00,9,  -999.00,9,     -999,9,   -999.0,9,-999.0000,9,  -999.00,   0.5751,2
  74JC20151217, SR01b,    17,  1,      4,      4,2,20160108,2129,-57.6537, -56.6892, 3467,   2131.3,   0.8655,  34.7081,2,  34.7076,2,    202.5,2,   -999.0,9,  -999.00,9,  -999.00,9,  -999.00,9,  -999.00,9,     -999,9,   -999.0,9,-999.0000,9,  -999.00,   0.8665,2
  74JC20151217, SR01b,    17,  1,      5,      5,2,20160108,2129,-57.6537, -56.6892, 3467,   1628.4,   1.2322,  34.7219,2,  34.7230,2,    195.5,2,    194.8,2,  -999.00,9,  -999.00,9,  -999.00,9,  -999.00,9,     -999,9,   -999.0,9,-999.0000,9,  -999.00,   1.2320,2
  74JC20151217, SR01b,    17,  1,      6,      6,2,20160108,2129,-57.6537, -56.6892, 3467,   1223.3,   1.5657,  34.7259,2,  34.7276,2,    189.6,2,   -999.0,9,  -999.00,9,  -999.00,9,  -999.00,9,  -999.00,9,     -999,9,   -999.0,9,-999.0000,9,  -999.00,   1.5640,2
  74JC20151217, SR01b,    17,  1,      7,      7,2,20160108,2129,-57.6537, -56.6892, 3467,    817.0,   1.9168,  34.7130,2,  34.7027,2,    181.6,2,   -999.0,9,  -999.00,9,  -999.00,9,  -999.00,9,  -999.00,9,     -999,9,   -999.0,9,-999.0000,9,  -999.00,   1.9168,2
  74JC20151217, SR01b,    17,  1,      8,      8,2,20160108,2129,-57.6537, -56.6892, 3467,    357.1,   2.1515,  34.5738,2,  34.5739,2,    173.3,2,    172.4,2,  -999.00,9,  -999.00,9,  -999.00,9,  -999.00,9,     -999,9,   -999.0,9,-999.0000,9,  -999.00,   2.1506,2
  74JC20151217, SR01b,    17,  1,      9,      9,2,20160108,2129,-57.6537, -56.6892, 3467,    209.0,   1.5679,  34.3603,2,  34.3566,2,    208.7,2,   -999.0,9,  -999.00,9,  -999.00,9,  -999.00,9,  -999.00,9,     -999,9,   -999.0,9,-999.0000,9,  -999.00,   1.5655,2
  74JC20151217, SR01b,    17,  1,     10,     10,2,20160108,2129,-57.6537, -56.6892, 3467,    107.6,  -0.7341,  33.9709,2,  33.9753,2,    326.4,2,   -999.0,9,  -999.00,9,  -999.00,9,  -999.00,9,  -999.00,9,     -999,9,   -999.0,9,-999.0000,9,  -999.00,  -0.7349,2
  74JC20151217, SR01b,    17,  1,     11,     11,2,20160108,2129,-57.6537, -56.6892, 3467,     46.5,   1.8346,  33.8324,2,  33.8382,2,    348.3,2,   -999.0,9,  -999.00,9,  -999.00,9,  -999.00,9,  -999.00,9,     -999,9,   -999.0,9,-999.0000,9,  -999.00,   1.8164,2
  74JC20151217, SR01b,    17,  1,     14,     14,2,20160108,2129,-57.6537, -56.6892, 3467,     22.2,   1.9235,  33.8261,2,  33.8271,2,    347.6,2,    347.2,2,  -999.00,9,  -999.00,9,  -999.00,9,  -999.00,9,     -999,9,   -999.0,9,-999.0000,9,  -999.00,   1.9220,2