BOTTLE,20160908PRINUNIVRMK
EXPOCODE,SECT_ID,STNNBR,CASTNO,SAMPNO,BTLNBR,BTLNBR_FLAG_W,DATE,TIME,LATITUDE,LONGITUDE,DEPTH,CTDPRS,CTDTMP,CTDSAL,CTDSAL_FLAG_W,SALNTY,SALNTY_FLAG_W,CTDOXY,CTDOXY_FLAG_W,OXYGEN,OXYGEN_FLAG_W,SILCAT,SILCAT_FLAG_W,NITRAT,NITRAT_FLAG_W,NITRIT,NITRIT_FLAG_W,PHSPHT,PHSPHT_FLAG_W,NH4,NH4_FLAG_W,ALKALI,ALKALI_FLAG_W,PH_TOT,PH_TOT_FLAG_W,PH_TMP,SBE35,SBE35_FLAG_W
,,,,,,,,,,,METERS,DBAR,ITS-90,PSS-78,,PSS-78,,UMOL/KG,,UMOL/KG,,UMOL/KG,,UMOL/KG,,UMOL/KG,,UMOL/KG,,UMOL/KG,,UMOL/KG,,,,DEG C,ITS-90,
  74JC20151217, SR01b,    30,  1,      1,      1,2,20160111,1833,-54.9224, -57.9825,  712,    708.7,   3.8108,  34.1284,2,  34.1159,4,    280.6,2,   -999.0,9,  -999.00,9,  -999.00,9,  -999.00,9,  -999.00,9,     -999,9,   -999.0,9,-999.0000,9,  -999.00,   3.8230,2
  74JC20151217, SR01b,    30,  1,      2,      2,2,20160111,1833,-54.9224, -57.9825,  712,    453.1,   4.2346,  34.1265,2,  34.1238,2,    289.5,2,   -999.0,9,  -999.00,9,  -999.00,9,  -999.00,9,  -999.00,9,     -999,9,   -999.0,9,-999.0000,9,  -999.00,   4.2350,2
  74JC20151217, SR01b,    30,  1,      3,      3,2,20160111,1833,-54.9224, -57.9825,  712,    254.3,   4.7213,  34.1403,2,  34.1405,2,    297.7,2,   -999.0,9,  -999.00,9,  -999.00,9,  -999.00,9,  -999.00,9,     -999,9,   -999.0,9,-999.0000,9,  -999.00,   4.7217,2
  74JC20151217, SR01b,    30,  1,      4,      4,2,20160111,1833,-54.9224, -57.9825,  712,    152.9,   4.8587,  34.1175,2,  34.1070,4,    302.2,2,   -999.0,9,  -999.00,9,  -999.00,9,  -999.00,9,  -999.00,9,     -999,9,   -999.0,9,-999.0000,9,  -999.00,   4.8592,2
  74JC20151217, SR01b,    30,  1,      5,      5,2,20160111,1833,-54.9224, -57.9825,  712,     83.7,   5.3722,  34.0890,2,  34.0884,2,    308.0,2,   -999.0,9,  -999.00,9,  -999.00,9,  -999.00,9,  -999.00,9,     -999,9,   -999.0,9,-999.0000,9,  -999.00,   5.3786,2
  74JC20151217, SR01b,    30,  1,      6,      6,2,20160111,1833,-54.9224, -57.9825,  712,     22.5,   5.5580,  34.0824,2,  34.0740,2,    308.5,2,   -999.0,9,  -999.00,9,  -999.00,9,  -999.00,9,  -999.00,9,     -999,9,   -999.0,9,-999.0000,9,  -999.00,   5.5665,2
  74JC20151217, SR01b,    31,  1,      1,      1,2,20160111,2045,-54.6668, -57.9830,  166,    156.0,   5.1081,  34.0961,2,  34.0967,2,    294.6,2,   -999.0,9,  -999.00,9,  -999.00,9,  -999.00,9,  -999.00,9,     -999,9,   -999.0,9,-999.0000,9,  -999.00,   5.1072,2
  74JC20151217, SR01b,    31,  1,      2,      2,2,20160111,2045,-54.6668, -57.9830,  166,    125.0,   5.1133,  34.0958,2,  34.0969,2,    295.7,2,   -999.0,9,  -999.00,9,  -999.00,9,  -999.00,9,  -999.00,9,     -999,9,   -999.0,9,-999.0000,9,  -999.00,   5.1129,2
  74JC20151217, SR01b,    31,  1,      3,      3,2,20160111,2045,-54.6668, -57.9830,  166,     34.3,   6.2539,  34.0447,2,  34.0460,2,    305.2,2,   -999.0,9,  -999.00,9,  -999.00,9,  -999.00,9,  -999.00,9,     -999,9,   -999.0,9,-999.0000,9,  -999.00,   6.2535,2
  74JC20151217, SR01b,    31,  1,      4,      4,2,20160111,2045,-54.6668, -57.9830,  166,     18.7,   6.2494,  34.0423,2,  34.0417,2,    304.4,2,   -999.0,9,  -999.00,9,  -999.00,9,  -999.00,9,  -999.00,9,     -999,9,   -999.0,9,-999.0000,9,  -999.00,   6.2478,2