BOTTLE,20160908PRINUNIVRMK
EXPOCODE,SECT_ID,STNNBR,CASTNO,SAMPNO,BTLNBR,BTLNBR_FLAG_W,DATE,TIME,LATITUDE,LONGITUDE,DEPTH,CTDPRS,CTDTMP,CTDSAL,CTDSAL_FLAG_W,SALNTY,SALNTY_FLAG_W,CTDOXY,CTDOXY_FLAG_W,OXYGEN,OXYGEN_FLAG_W,SILCAT,SILCAT_FLAG_W,NITRAT,NITRAT_FLAG_W,NITRIT,NITRIT_FLAG_W,PHSPHT,PHSPHT_FLAG_W,NH4,NH4_FLAG_W,ALKALI,ALKALI_FLAG_W,PH_TOT,PH_TOT_FLAG_W,PH_TMP,SBE35,SBE35_FLAG_W
,,,,,,,,,,,METERS,DBAR,ITS-90,PSS-78,,PSS-78,,UMOL/KG,,UMOL/KG,,UMOL/KG,,UMOL/KG,,UMOL/KG,,UMOL/KG,,UMOL/KG,,UMOL/KG,,,,DEG C,ITS-90,
  74JC20151217, SR01b,     9,  1,      1,      1,2,20160107,0159,-60.6666, -54.8248, 3094,   3135.3,  -0.0169,  34.6588,2,  34.6588,2,    229.1,2,    230.3,2,   113.30,4,    33.46,2,     0.00,2,     2.29,2,     0.14,2,   2355.6,2,   7.5924,2,    25.00,  -0.0175,2
  74JC20151217, SR01b,     9,  1,      2,      2,2,20160107,0159,-60.6666, -54.8248, 3094,   2950.7,   0.0208,  34.6609,2,  34.6608,2,    228.0,2,    229.0,3,   107.70,4,    33.51,2,     0.00,2,     2.29,2,     0.16,2,   2357.7,2,   7.5928,2,    25.00,   0.0206,2
  74JC20151217, SR01b,     9,  1,      3,      3,2,20160107,0159,-60.6666, -54.8248, 3094,   2644.7,   0.0793,  34.6641,2,  34.6631,2,    225.1,2,    225.8,2,   108.00,4,    33.44,2,     0.00,2,     2.30,2,      0.1,2,   2358.6,2,   7.5935,2,    25.00,   0.0792,2
  74JC20151217, SR01b,     9,  1,      4,      4,2,20160107,0159,-60.6666, -54.8248, 3094,   2336.3,   0.2425,  34.6750,2,  34.6747,2,    218.8,2,    219.6,2,   109.80,4,    33.44,2,     0.00,2,     2.30,2,     0.12,2,   2359.4,2,   7.5940,2,    25.00,   0.2470,2
  74JC20151217, SR01b,     9,  1,      5,      5,2,20160107,0159,-60.6666, -54.8248, 3094,   2032.6,   0.3984,  34.6859,2,  34.6854,2,    213.5,2,    214.0,2,   108.20,4,    33.41,2,     0.00,2,     2.29,2,     0.38,2,   2360.8,2,   7.5947,2,    25.00,   0.3979,2
  74JC20151217, SR01b,     9,  1,      6,      6,2,20160107,0159,-60.6666, -54.8248, 3094,   1827.7,   0.4034,  34.6767,2,  34.6759,2,    216.1,2,    216.6,2,   105.80,4,    33.07,2,     0.00,2,     2.27,2,     0.13,2,   2361.0,2,   7.5963,2,    25.00,   0.3913,2
  74JC20151217, SR01b,     9,  1,      7,      7,2,20160107,0159,-60.6666, -54.8248, 3094,   1624.1,   0.6225,  34.6943,2,  34.6936,2,    209.1,2,    209.1,2,   106.10,4,    33.07,2,     0.00,2,     2.27,2,     0.37,2,   2362.4,2,   7.5975,2,    25.00,   0.6240,2
  74JC20151217, SR01b,     9,  1,      8,      8,2,20160107,0159,-60.6666, -54.8248, 3094,   1422.2,   0.8568,  34.7129,2,  34.7112,2,    201.4,2,    201.4,2,   111.10,4,    32.86,2,     0.00,2,     2.26,2,     0.17,2,   2364.9,3,   7.5989,2,    25.00,   0.8558,2
  74JC20151217, SR01b,     9,  1,      9,      9,2,20160107,0159,-60.6666, -54.8248, 3094,   1218.5,   1.0462,  34.7197,2,  34.7194,2,    197.9,2,    197.7,2,   102.70,4,    33.85,2,     0.00,2,     2.25,2,     0.19,2,   2363.2,2,   7.5991,2,    25.00,   1.0479,2
  74JC20151217, SR01b,     9,  1,     10,     10,2,20160107,0159,-60.6666, -54.8248, 3094,   1014.2,   1.2367,  34.7245,2,  34.7242,2,    194.0,2,    194.3,2,    94.10,4,    33.64,2,     0.00,2,     2.24,2,     0.17,2,   2361.1,2,   7.5994,2,    25.00,   1.2387,2
  74JC20151217, SR01b,     9,  1,     11,     11,2,20160107,0159,-60.6666, -54.8248, 3094,    811.8,   1.4663,  34.7284,2,  34.7267,2,    190.2,2,    190.1,2,    93.20,4,    33.44,2,     0.00,2,     2.23,2,     0.12,2,   2361.3,3,   7.5981,2,    25.00,   1.4665,2
  74JC20151217, SR01b,     9,  1,     12,     12,2,20160107,0159,-60.6666, -54.8248, 3094,    608.6,   1.6745,  34.7279,2,  34.7249,2,    186.5,2,    186.4,2,    91.90,4,    33.30,2,     0.00,2,     2.22,2,     0.19,2,   2355.6,2,   7.5917,2,    25.00,   1.6755,2
  74JC20151217, SR01b,     9,  1,     13,     13,2,20160107,0159,-60.6666, -54.8248, 3094,    508.4,   1.7920,  34.7202,2,  34.7193,2,    183.2,2,    182.7,2,    91.30,4,    33.59,2,     0.00,2,     2.25,2,     0.17,2,   2353.0,2,   7.5840,2,    25.00,   1.7940,2
  74JC20151217, SR01b,     9,  1,     14,     14,2,20160107,0159,-60.6666, -54.8248, 3094,    407.8,   1.8943,  34.7075,2,  34.7059,2,    179.7,2,    179.0,2,    89.70,4,    33.90,2,     0.00,2,     2.27,2,     0.07,2,   2348.7,2,   7.5758,2,    25.00,   1.8937,2
  74JC20151217, SR01b,     9,  1,     15,     15,2,20160107,0159,-60.6666, -54.8248, 3094,    307.4,   1.9861,  34.6855,2,  34.6845,2,    175.3,2,    174.7,2,    87.70,4,    34.44,2,     0.00,2,     2.30,2,     0.22,2,   2347.7,2,   7.5671,2,    25.00,   1.9877,2
  74JC20151217, SR01b,     9,  1,     16,     16,2,20160107,0159,-60.6666, -54.8248, 3094,    256.2,   2.0442,  34.6656,2,  34.6647,2,    173.4,2,    172.9,2,    85.60,4,    34.80,2,     0.00,2,     2.33,2,     0.14,2,   2344.9,2,   7.5598,2,    25.00,   2.0438,2
  74JC20151217, SR01b,     9,  1,     17,     17,2,20160107,0159,-60.6666, -54.8248, 3094,    205.5,   2.0489,  34.6324,2,  34.6340,2,    172.1,2,    171.7,2,    83.30,4,    35.33,2,     0.00,2,     2.37,2,      0.1,2,   2341.3,2,   7.5513,2,    25.00,   2.0494,2
  74JC20151217, SR01b,     9,  1,     18,     18,2,20160107,0159,-60.6666, -54.8248, 3094,    155.3,   1.8514,  34.5582,2,  34.5586,2,    178.3,2,    177.4,2,    79.70,4,    35.84,2,     0.03,2,     2.41,2,     0.15,2,   2336.2,2,   7.5411,2,    25.00,   1.8487,2
  74JC20151217, SR01b,     9,  1,     19,     19,2,20160107,0159,-60.6666, -54.8248, 3094,    105.6,   0.2481,  34.2981,2,  34.2976,2,    231.8,2,    231.1,2,    73.10,4,    34.51,2,     0.16,2,     2.34,2,     0.37,2,   2319.3,2,   7.5557,2,    25.00,   0.2220,2
  74JC20151217, SR01b,     9,  1,     20,     20,2,20160107,0159,-60.6666, -54.8248, 3094,     54.5,  -0.5453,  33.9408,2,  33.9429,2,    326.0,2,    325.6,2,    71.70,4,    28.96,2,     0.10,2,     2.05,2,     1.33,2,   2300.3,2,   7.6330,2,    25.00,  -0.5451,2
  74JC20151217, SR01b,     9,  1,     21,     21,2,20160107,0159,-60.6666, -54.8248, 3094,     29.5,   0.9216,  33.7826,2,  33.7864,2,    351.1,2,    351.7,2,    64.90,4,    24.82,2,     0.12,2,     1.73,2,      0.6,2,   2293.4,2,   7.7194,2,    25.00,   0.9306,2
  74JC20151217, SR01b,     9,  1,     22,     22,2,20160107,0159,-60.6666, -54.8248, 3094,     19.6,   0.9384,  33.7829,2,  33.7825,2,    351.5,2,    352.6,2,    64.60,4,    24.70,2,     0.15,2,     1.71,2,     0.54,2,   2291.2,2,   7.7208,2,    25.00,   0.9383,2
  74JC20151217, SR01b,     9,  1,     23,     23,2,20160107,0159,-60.6666, -54.8248, 3094,     10.0,   0.9376,  33.7828,2,  33.7821,2,    352.0,2,    352.5,2,    64.40,4,    24.78,2,     0.12,2,     1.71,2,     0.52,2,   2292.8,2,   7.7222,2,    25.00,   0.9370,2
  74JC20151217, SR01b,     9,  1,     24,     24,2,20160107,0159,-60.6666, -54.8248, 3094,     10.1,   0.9374,  33.7831,2,  33.7833,2,    352.0,2,    352.5,2,    64.50,4,    24.70,2,     0.12,2,     1.72,2,     0.52,2,   2293.9,2,   7.7220,2,    25.00,   0.9376,2
  74JC20151217, SR01b,    10,  1,      1,      1,2,20160107,0650,-60.3333, -55.0313, 3437,   3487.9,   0.0021,  34.6581,2,  34.6599,2,    230.2,2,    230.3,2,  -999.00,9,  -999.00,9,  -999.00,9,  -999.00,9,     -999,9,   -999.0,9,-999.0000,9,  -999.00,   0.0016,2
  74JC20151217, SR01b,    10,  1,      2,      2,2,20160107,0650,-60.3333, -55.0313, 3437,   3256.4,   0.0383,  34.6597,2,  34.6605,2,    228.8,2,   -999.0,9,  -999.00,9,  -999.00,9,  -999.00,9,  -999.00,9,     -999,9,   -999.0,9,-999.0000,9,  -999.00,   0.0380,2
  74JC20151217, SR01b,    10,  1,      3,      3,2,20160107,0650,-60.3333, -55.0313, 3437,   2746.0,   0.1918,  34.6682,2,  34.6699,2,    222.3,2,    223.0,2,  -999.00,9,  -999.00,9,  -999.00,9,  -999.00,9,     -999,9,   -999.0,9,-999.0000,9,  -999.00,   0.1927,2
  74JC20151217, SR01b,    10,  1,      4,      4,2,20160107,0650,-60.3333, -55.0313, 3437,   2337.8,   0.3841,  34.6815,2,  34.6818,2,    215.5,2,   -999.0,9,  -999.00,9,  -999.00,9,  -999.00,9,  -999.00,9,     -999,9,   -999.0,9,-999.0000,9,  -999.00,   0.3808,2
  74JC20151217, SR01b,    10,  1,      5,      5,2,20160107,0650,-60.3333, -55.0313, 3437,   1725.7,   0.6900,  34.6952,2,  34.6959,2,    208.4,2,   -999.0,9,  -999.00,9,  -999.00,9,  -999.00,9,  -999.00,9,     -999,9,   -999.0,9,-999.0000,9,  -999.00,   0.6890,2
  74JC20151217, SR01b,    10,  1,      6,      6,2,20160107,0650,-60.3333, -55.0313, 3437,   1471.7,   0.7207,  34.6814,2,  34.6821,2,    211.5,2,    211.7,2,  -999.00,9,  -999.00,9,  -999.00,9,  -999.00,9,     -999,9,   -999.0,9,-999.0000,9,  -999.00,   0.7230,2
  74JC20151217, SR01b,    10,  1,      7,      7,2,20160107,0650,-60.3333, -55.0313, 3437,    832.6,   1.5665,  34.7279,2,  34.7279,2,    188.8,2,   -999.0,9,  -999.00,9,  -999.00,9,  -999.00,9,  -999.00,9,     -999,9,   -999.0,9,-999.0000,9,  -999.00,   1.5680,2
  74JC20151217, SR01b,    10,  1,      8,      8,2,20160107,0650,-60.3333, -55.0313, 3437,    428.8,   1.9895,  34.6918,2,  34.6913,2,    176.1,2,   -999.0,9,  -999.00,9,  -999.00,9,  -999.00,9,  -999.00,9,     -999,9,   -999.0,9,-999.0000,9,  -999.00,   1.9897,2
  74JC20151217, SR01b,    10,  1,      9,      9,2,20160107,0650,-60.3333, -55.0313, 3437,    287.9,   2.0335,  34.6451,2,  34.6455,2,    172.7,2,    172.7,2,  -999.00,9,  -999.00,9,  -999.00,9,  -999.00,9,     -999,9,   -999.0,9,-999.0000,9,  -999.00,   2.0325,2
  74JC20151217, SR01b,    10,  1,     10,     10,2,20160107,0650,-60.3333, -55.0313, 3437,    126.9,   0.4855,  34.2966,2,  34.2960,2,    232.1,2,   -999.0,9,  -999.00,9,  -999.00,9,  -999.00,9,  -999.00,9,     -999,9,   -999.0,9,-999.0000,9,  -999.00,   0.4515,2
  74JC20151217, SR01b,    10,  1,     11,     11,2,20160107,0650,-60.3333, -55.0313, 3437,     54.5,  -0.3202,  33.9125,2,  33.9268,3,    327.2,2,    323.3,2,  -999.00,9,  -999.00,9,  -999.00,9,  -999.00,9,     -999,9,   -999.0,9,-999.0000,9,  -999.00,  -0.2951,2
  74JC20151217, SR01b,    10,  1,     12,     12,2,20160107,0650,-60.3333, -55.0313, 3437,     14.3,   0.8135,  33.8029,2,  33.8040,2,    347.2,2,    346.9,2,  -999.00,9,  -999.00,9,  -999.00,9,  -999.00,9,     -999,9,   -999.0,9,-999.0000,9,  -999.00,   0.8122,2
  74JC20151217, SR01b,    11,  1,      1,      1,2,20160107,1117,-60.0112, -55.2300, 3496,   3546.3,   0.0072,  34.6580,2,  34.6590,2,    230.7,2,    230.6,2,  -999.00,9,  -999.00,9,  -999.00,9,  -999.00,9,     -999,9,   -999.0,9,-999.0000,9,  -999.00,   0.0066,2
  74JC20151217, SR01b,    11,  1,      2,      2,2,20160107,1117,-60.0112, -55.2300, 3496,   3137.7,   0.0934,  34.6627,2,  34.6632,2,    226.2,2,    227.0,2,  -999.00,9,  -999.00,9,  -999.00,9,  -999.00,9,     -999,9,   -999.0,9,-999.0000,9,  -999.00,   0.0935,2
  74JC20151217, SR01b,    11,  1,      3,      3,2,20160107,1117,-60.0112, -55.2300, 3496,   2736.7,   0.3166,  34.6780,2,  34.6792,2,    218.0,2,   -999.0,9,  -999.00,9,  -999.00,9,  -999.00,9,  -999.00,9,     -999,9,   -999.0,9,-999.0000,9,  -999.00,   0.3168,2
  74JC20151217, SR01b,    11,  1,      4,      4,2,20160107,1117,-60.0112, -55.2300, 3496,   2332.0,   0.6145,  34.7025,2,  34.7035,2,    206.8,2,   -999.0,9,  -999.00,9,  -999.00,9,  -999.00,9,  -999.00,9,     -999,9,   -999.0,9,-999.0000,9,  -999.00,   0.6143,2
  74JC20151217, SR01b,    11,  1,      5,      5,2,20160107,1117,-60.0112, -55.2300, 3496,   1926.0,   0.7057,  34.7065,2,  34.7074,2,    204.6,2,    205.6,2,  -999.00,9,  -999.00,9,  -999.00,9,  -999.00,9,     -999,9,   -999.0,9,-999.0000,9,  -999.00,   0.7051,2
  74JC20151217, SR01b,    11,  1,      6,      6,2,20160107,1117,-60.0112, -55.2300, 3496,   1522.6,   0.8559,  34.7123,2,  34.7125,2,    201.3,2,   -999.0,9,  -999.00,9,  -999.00,9,  -999.00,9,  -999.00,9,     -999,9,   -999.0,9,-999.0000,9,  -999.00,   0.8552,2
  74JC20151217, SR01b,    11,  1,      7,      7,2,20160107,1117,-60.0112, -55.2300, 3496,   1117.2,   1.1117,  34.7187,2,-999.0000,9,    197.5,2,   -999.0,9,  -999.00,9,  -999.00,9,  -999.00,9,  -999.00,9,     -999,9,   -999.0,9,-999.0000,9,  -999.00,   1.1128,2
  74JC20151217, SR01b,    11,  1,      8,      8,2,20160107,1117,-60.0112, -55.2300, 3496,    783.6,   1.2394,  34.6939,2,  34.6949,2,    199.4,2,    198.5,2,  -999.00,9,  -999.00,9,  -999.00,9,  -999.00,9,     -999,9,   -999.0,9,-999.0000,9,  -999.00,   1.2241,2
  74JC20151217, SR01b,    11,  1,      9,      9,2,20160107,1117,-60.0112, -55.2300, 3496,    449.1,   1.6191,  34.6624,2,  34.6629,2,    189.5,2,   -999.0,9,  -999.00,9,  -999.00,9,  -999.00,9,  -999.00,9,     -999,9,   -999.0,9,-999.0000,9,  -999.00,   1.6082,2
  74JC20151217, SR01b,    11,  1,     10,     10,2,20160107,1117,-60.0112, -55.2300, 3496,    278.8,   1.9428,  34.6230,2,  34.6245,2,    177.6,2,    176.7,2,  -999.00,9,  -999.00,9,  -999.00,9,  -999.00,9,     -999,9,   -999.0,9,-999.0000,9,  -999.00,   1.9357,2
  74JC20151217, SR01b,    11,  1,     11,     11,2,20160107,1117,-60.0112, -55.2300, 3496,     46.4,   1.1354,  33.9144,2,  33.9191,2,    347.4,2,    348.2,2,  -999.00,9,  -999.00,9,  -999.00,9,  -999.00,9,     -999,9,   -999.0,9,-999.0000,9,  -999.00,   1.1712,2
  74JC20151217, SR01b,    11,  1,     12,     12,2,20160107,1117,-60.0112, -55.2300, 3496,     21.5,   1.3377,  33.8616,2,  33.8635,2,    344.5,2,    345.0,2,  -999.00,9,  -999.00,9,  -999.00,9,  -999.00,9,     -999,9,   -999.0,9,-999.0000,9,  -999.00,   1.3362,2
  74JC20151217, SR01b,    12,  1,      1,      1,2,20160107,1601,-59.6667, -55.4444, 3674,   3731.5,   0.0141,  34.6577,2,  34.6592,2,    230.9,2,    230.9,2,    77.00,4,    33.05,2,     0.00,2,     2.32,2,     0.11,2,   2360.3,2,   7.5965,2,    25.00,   0.0136,2
  74JC20151217, SR01b,    12,  1,      2,      2,2,20160107,1601,-59.6667, -55.4444, 3674,   3463.5,   0.0441,  34.6598,2,  34.6600,2,    228.9,2,    229.4,2,    75.80,4,    33.10,2,     0.00,2,     2.30,2,     0.05,2,   2358.0,2,   7.5930,2,    25.00,   0.0449,2
  74JC20151217, SR01b,    12,  1,      3,      3,2,20160107,1601,-59.6667, -55.4444, 3674,   3258.0,   0.0895,  34.6624,2,  34.6626,2,    227.0,2,    227.2,2,    75.00,4,    33.29,2,     0.00,2,     2.31,2,     0.56,2,   2358.2,2,   7.5939,2,    25.00,   0.0900,2
  74JC20151217, SR01b,    12,  1,      4,      4,2,20160107,1601,-59.6667, -55.4444, 3674,   2849.9,   0.2122,  34.6696,2,  34.6685,2,    222.2,2,    222.2,2,    75.20,4,    33.24,2,     0.00,2,     2.30,2,      0.1,2,   2360.3,2,   7.5941,2,    25.00,   0.2168,2
  74JC20151217, SR01b,    12,  1,      5,      5,2,20160107,1601,-59.6667, -55.4444, 3674,   2541.5,   0.4008,  34.6857,2,  34.6857,2,    213.9,2,    214.7,2,    74.00,4,    33.37,2,     0.00,2,     2.31,2,     0.21,2,   2364.0,2,   7.5947,2,    25.00,   0.3997,2
  74JC20151217, SR01b,    12,  1,      6,      6,2,20160107,1601,-59.6667, -55.4444, 3674,   2236.1,   0.5798,  34.6953,2,  34.6946,2,    209.0,2,    209.4,2,    74.20,4,    33.27,2,     0.00,2,     2.30,2,     0.04,2,   2360.3,3,   7.5964,2,    25.00,   0.5815,2
  74JC20151217, SR01b,    12,  1,      7,      7,2,20160107,1601,-59.6667, -55.4444, 3674,   1930.8,   0.7832,  34.7072,2,  34.7065,2,    204.0,2,    203.9,2,    72.90,4,    33.18,2,     0.00,2,     2.28,2,     0.63,2,   2363.6,2,   7.5974,2,    25.00,   0.7847,2
  74JC20151217, SR01b,    12,  1,      8,      8,2,20160107,1601,-59.6667, -55.4444, 3674,   1727.1,   0.9424,  34.7140,2,  34.7137,2,    200.2,2,    200.4,2,    73.30,4,    33.07,2,     0.00,2,     2.28,2,     0.09,2,   2362.1,2,   7.5978,2,    25.00,   0.9432,2
  74JC20151217, SR01b,    12,  1,      9,      9,2,20160107,1601,-59.6667, -55.4444, 3674,   1523.6,   1.0607,  34.7175,2,  34.7193,2,    198.8,2,    198.5,2,    77.30,4,    32.69,2,     0.00,2,     2.26,2,     0.09,2,   2360.0,2,   7.5994,2,    25.00,   1.0606,2
  74JC20151217, SR01b,    12,  1,     10,     10,2,20160107,1601,-59.6667, -55.4444, 3674,   1320.9,   1.2145,  34.7194,2,  34.7188,2,    195.4,2,    196.0,2,    78.60,4,    32.79,2,     0.00,2,     2.24,2,      0.2,2,   2357.7,2,   7.5984,2,    25.00,   1.2239,2
  74JC20151217, SR01b,    12,  1,     11,     11,2,20160107,1601,-59.6667, -55.4444, 3674,   1119.6,   1.4100,  34.7244,2,  34.7305,2,    192.0,2,    191.4,2,    82.40,4,    32.67,2,     0.00,2,     2.25,2,     0.19,2,   2359.8,2,   7.5975,2,    25.00,   1.4104,2
  74JC20151217, SR01b,    12,  1,     12,     12,2,20160107,1601,-59.6667, -55.4444, 3674,    863.7,   1.6374,  34.7170,2,  34.7182,2,    187.0,2,    187.3,2,    85.30,4,    32.74,2,     0.00,2,     2.25,2,     0.09,2,   2351.9,2,   7.5893,2,    25.00,   1.6381,2
  74JC20151217, SR01b,    12,  1,     13,     13,2,20160107,1601,-59.6667, -55.4444, 3674,    661.2,   1.9009,  34.7035,2,  34.7028,2,    180.4,2,    180.0,2,    85.90,4,    33.18,2,     0.00,2,     2.28,2,     0.01,2,   2343.6,3,   7.5771,2,    25.00,   1.9016,2
  74JC20151217, SR01b,    12,  1,     14,     14,2,20160107,1601,-59.6667, -55.4444, 3674,    560.4,   2.0092,  34.6858,2,  34.6861,2,    176.5,2,    176.4,2,    84.60,4,    33.61,2,     0.00,2,     2.31,2,     0.07,2,   2345.0,2,   7.5705,2,    25.00,   2.0103,2
  74JC20151217, SR01b,    12,  1,     15,     15,2,20160107,1601,-59.6667, -55.4444, 3674,    460.2,   2.0744,  34.6597,2,  34.6604,2,    174.1,2,    173.6,2,    84.80,4,    34.19,2,     0.00,2,     2.35,2,     0.05,2,   2342.2,2,   7.5617,2,    25.00,   2.0738,2
  74JC20151217, SR01b,    12,  1,     16,     16,2,20160107,1601,-59.6667, -55.4444, 3674,    357.9,   2.0702,  34.6204,2,  34.6211,2,    173.5,2,    172.9,2,    82.20,4,    34.94,2,     0.00,2,     2.39,2,     0.12,2,   2337.3,2,   7.5454,2,    25.00,   2.0710,2
  74JC20151217, SR01b,    12,  1,     17,     17,2,20160107,1601,-59.6667, -55.4444, 3674,    278.0,   2.0477,  34.5634,2,  34.5633,2,    175.9,2,    175.5,2,    78.70,4,    35.51,2,     0.00,2,     2.43,2,     0.11,2,   2330.5,2,   7.5430,2,    25.00,   2.0484,2
  74JC20151217, SR01b,    12,  1,     18,     18,2,20160107,1601,-59.6667, -55.4444, 3674,    228.7,   1.9218,  34.5063,2,  34.5093,2,    182.8,2,    181.7,2,    74.90,4,    35.72,2,     0.00,2,     2.44,2,     0.13,2,   2331.0,2,   7.5396,2,    25.00,   1.9089,2
  74JC20151217, SR01b,    12,  1,     19,     19,2,20160107,1601,-59.6667, -55.4444, 3674,    176.5,   1.4593,  34.4122,2,  34.4143,2,    203.3,2,    201.3,2,    70.20,4,    35.38,2,     0.02,2,     2.42,2,     0.06,2,   2319.7,2,   7.5460,2,    25.00,   1.4548,2
  74JC20151217, SR01b,    12,  1,     20,     20,2,20160107,1601,-59.6667, -55.4444, 3674,    127.1,   0.4054,  34.2199,2,  34.2218,2,    252.4,2,    251.1,2,    63.00,4,    33.79,2,     0.12,2,     2.33,2,     0.18,2,   2311.0,2,   7.5707,2,    25.00,   0.4030,2
  74JC20151217, SR01b,    12,  1,     21,     21,2,20160107,1601,-59.6667, -55.4444, 3674,     77.1,  -0.4266,  33.9564,2,  33.9611,2,    327.2,2,    325.7,2,    53.90,4,    29.70,2,     0.16,2,     2.12,2,      0.8,2,   2295.3,2,   7.6278,2,    25.00,  -0.4229,2
  74JC20151217, SR01b,    12,  1,     22,     22,2,20160107,1601,-59.6667, -55.4444, 3674,     46.4,   1.5173,  33.8739,2,  33.8809,2,    347.5,2,    347.6,2,    38.20,4,    25.85,2,     0.20,2,     1.73,2,     0.31,2,   2293.1,2,   7.7003,2,    25.00,   1.6210,2
  74JC20151217, SR01b,    12,  1,     23,     23,2,20160107,1601,-59.6667, -55.4444, 3674,     46.6,   1.5787,  33.8756,2,-999.0000,9,    346.5,2,    348.5,2,    36.00,4,    25.39,2,     0.21,2,     1.72,2,     0.23,2,   2294.3,2,   7.7095,2,    25.00,   1.6413,2
  74JC20151217, SR01b,    12,  1,     24,     24,2,20160107,1601,-59.6667, -55.4444, 3674,     16.8,   1.6748,  33.8675,2,  33.8707,2,    347.7,2,    348.4,2,    36.30,4,    25.12,2,     0.21,2,     1.66,2,     0.16,2,   2293.3,2,   7.7155,2,    25.00,   1.6749,2