BOTTLE,20160908PRINUNIVRMK
EXPOCODE,SECT_ID,STNNBR,CASTNO,SAMPNO,BTLNBR,BTLNBR_FLAG_W,DATE,TIME,LATITUDE,LONGITUDE,DEPTH,CTDPRS,CTDTMP,CTDSAL,CTDSAL_FLAG_W,SALNTY,SALNTY_FLAG_W,CTDOXY,CTDOXY_FLAG_W,OXYGEN,OXYGEN_FLAG_W,SILCAT,SILCAT_FLAG_W,NITRAT,NITRAT_FLAG_W,NITRIT,NITRIT_FLAG_W,PHSPHT,PHSPHT_FLAG_W,NH4,NH4_FLAG_W,ALKALI,ALKALI_FLAG_W,PH_TOT,PH_TOT_FLAG_W,PH_TMP,SBE35,SBE35_FLAG_W
,,,,,,,,,,,METERS,DBAR,ITS-90,PSS-78,,PSS-78,,UMOL/KG,,UMOL/KG,,UMOL/KG,,UMOL/KG,,UMOL/KG,,UMOL/KG,,UMOL/KG,,UMOL/KG,,,,DEG C,ITS-90,
  74JC20151217, SR01b,    23,  1,      1,      1,2,20160110,0414,-55.5167, -57.9829, 4211,   4278.1,   0.7078,  34.6916,2,  34.6967,2,    213.2,2,   -999.0,9,  -999.00,9,  -999.00,9,  -999.00,9,  -999.00,9,     -999,9,   -999.0,9,-999.0000,9,  -999.00,   0.7074,2
  74JC20151217, SR01b,    23,  1,      2,      2,2,20160110,0414,-55.5167, -57.9829, 4211,   3768.9,   0.7670,  34.6984,2,  34.7020,2,    209.2,2,   -999.0,9,  -999.00,9,  -999.00,9,  -999.00,9,  -999.00,9,     -999,9,   -999.0,9,-999.0000,9,  -999.00,   0.7673,2
  74JC20151217, SR01b,    23,  1,      3,      3,2,20160110,0414,-55.5167, -57.9829, 4211,   2845.5,   1.2143,  34.7185,2,  34.7223,2,    197.6,2,   -999.0,9,  -999.00,9,  -999.00,9,  -999.00,9,  -999.00,9,     -999,9,   -999.0,9,-999.0000,9,  -999.00,   1.2152,2
  74JC20151217, SR01b,    23,  1,      4,      4,2,20160110,0414,-55.5167, -57.9829, 4211,   2336.7,   1.5104,  34.7221,2,  34.7259,2,    190.2,2,   -999.0,9,  -999.00,9,  -999.00,9,  -999.00,9,  -999.00,9,     -999,9,   -999.0,9,-999.0000,9,  -999.00,   1.5113,2
  74JC20151217, SR01b,    23,  1,      5,      5,2,20160110,0414,-55.5167, -57.9829, 4211,   1826.0,   1.8917,  34.7101,2,  34.7133,2,    179.2,2,   -999.0,9,  -999.00,9,  -999.00,9,  -999.00,9,  -999.00,9,     -999,9,   -999.0,9,-999.0000,9,  -999.00,   1.8923,2
  74JC20151217, SR01b,    23,  1,      6,      6,2,20160110,0414,-55.5167, -57.9829, 4211,   1317.9,   2.2965,  34.6401,2,  34.6439,2,    170.6,2,   -999.0,9,  -999.00,9,  -999.00,9,  -999.00,9,  -999.00,9,     -999,9,   -999.0,9,-999.0000,9,  -999.00,   2.3008,2
  74JC20151217, SR01b,    23,  1,      7,      7,2,20160110,0414,-55.5167, -57.9829, 4211,    810.3,   2.5775,  34.4729,2,  34.4763,2,    178.2,2,   -999.0,9,  -999.00,9,  -999.00,9,  -999.00,9,  -999.00,9,     -999,9,   -999.0,9,-999.0000,9,  -999.00,   2.5768,2
  74JC20151217, SR01b,    23,  1,      8,      8,2,20160110,0414,-55.5167, -57.9829, 4211,    406.3,   2.1145,  34.1502,2,  34.1542,2,    260.8,2,   -999.0,9,  -999.00,9,  -999.00,9,  -999.00,9,  -999.00,9,     -999,9,   -999.0,9,-999.0000,9,  -999.00,   2.1139,2
  74JC20151217, SR01b,    23,  1,      9,      9,2,20160110,0414,-55.5167, -57.9829, 4211,    206.9,   2.1368,  34.0274,2,  34.0283,2,    303.7,2,   -999.0,9,  -999.00,9,  -999.00,9,  -999.00,9,  -999.00,9,     -999,9,   -999.0,9,-999.0000,9,  -999.00,   2.1374,2
  74JC20151217, SR01b,    23,  1,     10,     10,2,20160110,0414,-55.5167, -57.9829, 4211,    106.2,   2.9213,  33.9283,2,  33.9338,2,    323.6,2,   -999.0,9,  -999.00,9,  -999.00,9,  -999.00,9,  -999.00,9,     -999,9,   -999.0,9,-999.0000,9,  -999.00,   2.9436,2
  74JC20151217, SR01b,    23,  1,     11,     11,2,20160110,0414,-55.5167, -57.9829, 4211,     66.1,   3.9583,  33.9093,2,  33.9120,2,    323.2,2,   -999.0,9,  -999.00,9,  -999.00,9,  -999.00,9,  -999.00,9,     -999,9,   -999.0,9,-999.0000,9,  -999.00,   3.9908,2
  74JC20151217, SR01b,    23,  1,     12,     12,2,20160110,0414,-55.5167, -57.9829, 4211,     16.0,   4.3166,  33.9059,2,  33.9065,2,    320.6,2,   -999.0,9,  -999.00,9,  -999.00,9,  -999.00,9,  -999.00,9,     -999,9,   -999.0,9,-999.0000,9,  -999.00,   4.3162,2
  74JC20151217, SR01b,    24,  1,      1,      1,2,20160110,0919,-55.2154, -57.9622, 3928,   3983.4,   0.7940,  34.6993,2,  34.7032,2,    209.0,2,   -999.0,9,  -999.00,9,  -999.00,9,  -999.00,9,  -999.00,9,     -999,9,   -999.0,9,-999.0000,9,  -999.00,   0.7934,2
  74JC20151217, SR01b,    24,  1,      2,      2,2,20160110,0919,-55.2154, -57.9622, 3928,   3609.2,   0.8664,  34.7048,2,  34.7076,2,    205.4,2,   -999.0,9,  -999.00,9,  -999.00,9,  -999.00,9,  -999.00,9,     -999,9,   -999.0,9,-999.0000,9,  -999.00,   0.8664,2
  74JC20151217, SR01b,    24,  1,      3,      3,2,20160110,0919,-55.2154, -57.9622, 3928,   2791.4,   1.4184,  34.7216,2,  34.7248,2,    193.1,2,   -999.0,9,  -999.00,9,  -999.00,9,  -999.00,9,  -999.00,9,     -999,9,   -999.0,9,-999.0000,9,  -999.00,   1.4184,2
  74JC20151217, SR01b,    24,  1,      4,      4,2,20160110,0919,-55.2154, -57.9622, 3928,   2283.0,   1.8134,  34.7165,2,  34.7157,2,    182.8,2,   -999.0,9,  -999.00,9,  -999.00,9,  -999.00,9,  -999.00,9,     -999,9,   -999.0,9,-999.0000,9,  -999.00,   1.8131,2
  74JC20151217, SR01b,    24,  1,      5,      5,2,20160110,0919,-55.2154, -57.9622, 3928,   1672.8,   2.2782,  34.6560,2,  34.6581,2,    172.3,2,   -999.0,9,  -999.00,9,  -999.00,9,  -999.00,9,  -999.00,9,     -999,9,   -999.0,9,-999.0000,9,  -999.00,   2.2781,2
  74JC20151217, SR01b,    24,  1,      6,      6,2,20160110,0919,-55.2154, -57.9622, 3928,   1166.1,   2.6251,  34.5070,2,  34.5074,2,    172.5,2,   -999.0,9,  -999.00,9,  -999.00,9,  -999.00,9,  -999.00,9,     -999,9,   -999.0,9,-999.0000,9,  -999.00,   2.6241,2
  74JC20151217, SR01b,    24,  1,      7,      7,2,20160110,0919,-55.2154, -57.9622, 3928,    760.5,   2.7896,  34.2500,2,  34.2518,2,    226.7,2,   -999.0,9,  -999.00,9,  -999.00,9,  -999.00,9,  -999.00,9,     -999,9,   -999.0,9,-999.0000,9,  -999.00,   2.7895,2
  74JC20151217, SR01b,    24,  1,      8,      8,2,20160110,0919,-55.2154, -57.9622, 3928,    256.1,   3.5446,  34.0809,2,  34.0815,2,    296.4,2,   -999.0,9,  -999.00,9,  -999.00,9,  -999.00,9,  -999.00,9,     -999,9,   -999.0,9,-999.0000,9,  -999.00,   3.5515,2
  74JC20151217, SR01b,    24,  1,      9,      9,2,20160110,0919,-55.2154, -57.9622, 3928,    116.8,   3.8146,  34.0501,2,  34.0515,2,    310.1,2,   -999.0,9,  -999.00,9,  -999.00,9,  -999.00,9,  -999.00,9,     -999,9,   -999.0,9,-999.0000,9,  -999.00,   3.8204,2
  74JC20151217, SR01b,    24,  1,     10,     10,3,20160110,0919,-55.2154, -57.9622, 3928,     77.0,   4.4950,  34.0335,2,  34.0363,2,    313.7,2,   -999.0,9,  -999.00,9,  -999.00,9,  -999.00,9,  -999.00,9,     -999,9,   -999.0,9,-999.0000,9,  -999.00,   4.4974,2
  74JC20151217, SR01b,    24,  1,     11,     11,2,20160110,0919,-55.2154, -57.9622, 3928,     36.6,   4.8799,  34.0311,2,  34.0340,2,    315.2,2,   -999.0,9,  -999.00,9,  -999.00,9,  -999.00,9,  -999.00,9,     -999,9,   -999.0,9,-999.0000,9,  -999.00,   4.8748,2
  74JC20151217, SR01b,    24,  1,     12,     12,2,20160110,0919,-55.2154, -57.9622, 3928,     21.5,   4.9008,  34.0276,2,  34.0309,2,    316.3,2,   -999.0,9,  -999.00,9,  -999.00,9,  -999.00,9,  -999.00,9,     -999,9,   -999.0,9,-999.0000,9,  -999.00,   4.9032,2
  74JC20151217, SR01b,    25,  1,      1,      1,2,20160110,1221,-55.1686, -57.9680, 3106,   3147.6,   1.0958,  34.7135,2,  34.7148,2,    200.3,2,   -999.0,9,  -999.00,9,  -999.00,9,  -999.00,9,  -999.00,9,     -999,9,   -999.0,9,-999.0000,9,  -999.00,   1.1022,2
  74JC20151217, SR01b,    25,  1,      2,      2,2,20160110,1221,-55.1686, -57.9680, 3106,   2745.6,   1.4774,  34.7188,2,  34.7203,2,    191.2,2,   -999.0,9,  -999.00,9,  -999.00,9,  -999.00,9,  -999.00,9,     -999,9,   -999.0,9,-999.0000,9,  -999.00,   1.4775,2
  74JC20151217, SR01b,    25,  1,      3,      3,2,20160110,1221,-55.1686, -57.9680, 3106,   2337.2,   1.8750,  34.7159,2,  34.7194,2,    181.9,2,   -999.0,9,  -999.00,9,  -999.00,9,  -999.00,9,  -999.00,9,     -999,9,   -999.0,9,-999.0000,9,  -999.00,   1.8756,2
  74JC20151217, SR01b,    25,  1,      4,      4,2,20160110,1221,-55.1686, -57.9680, 3106,   1930.6,   2.1725,  34.6872,2,-999.0000,9,    176.0,2,   -999.0,9,  -999.00,9,  -999.00,9,  -999.00,9,  -999.00,9,     -999,9,   -999.0,9,-999.0000,9,  -999.00,   2.1724,2
  74JC20151217, SR01b,    25,  1,      5,      5,2,20160110,1221,-55.1686, -57.9680, 3106,   1523.9,   2.4185,  34.6045,2,  34.6048,2,    164.8,2,   -999.0,9,  -999.00,9,  -999.00,9,  -999.00,9,  -999.00,9,     -999,9,   -999.0,9,-999.0000,9,  -999.00,   2.4201,2
  74JC20151217, SR01b,    25,  1,      6,      6,2,20160110,1221,-55.1686, -57.9680, 3106,   1116.1,   2.7260,  34.4412,2,  34.4418,2,    181.7,2,   -999.0,9,  -999.00,9,  -999.00,9,  -999.00,9,  -999.00,9,     -999,9,   -999.0,9,-999.0000,9,  -999.00,   2.7257,2
  74JC20151217, SR01b,    25,  1,      7,      7,2,20160110,1221,-55.1686, -57.9680, 3106,    709.5,   3.2005,  34.2431,2,  34.2441,2,    228.7,2,   -999.0,9,  -999.00,9,  -999.00,9,  -999.00,9,  -999.00,9,     -999,9,   -999.0,9,-999.0000,9,  -999.00,   3.2002,2
  74JC20151217, SR01b,    25,  1,      8,      8,2,20160110,1221,-55.1686, -57.9680, 3106,    356.6,   3.5717,  34.1020,2,  34.1044,2,    286.0,2,   -999.0,9,  -999.00,9,  -999.00,9,  -999.00,9,  -999.00,9,     -999,9,   -999.0,9,-999.0000,9,  -999.00,   3.5704,2
  74JC20151217, SR01b,    25,  1,      9,      9,2,20160110,1221,-55.1686, -57.9680, 3106,    157.3,   3.8102,  34.0486,2,  34.0491,2,    309.1,2,   -999.0,9,  -999.00,9,  -999.00,9,  -999.00,9,  -999.00,9,     -999,9,   -999.0,9,-999.0000,9,  -999.00,   3.8103,2
  74JC20151217, SR01b,    25,  1,     10,     10,2,20160110,1221,-55.1686, -57.9680, 3106,     36.1,   4.7395,  34.0392,2,  34.0370,2,    314.4,2,   -999.0,9,  -999.00,9,  -999.00,9,  -999.00,9,  -999.00,9,     -999,9,   -999.0,9,-999.0000,9,  -999.00,   4.7350,2
  74JC20151217, SR01b,    25,  1,     11,     11,2,20160110,1221,-55.1686, -57.9680, 3106,     35.9,   4.7298,  34.0402,2,  34.0397,2,    314.5,2,   -999.0,9,  -999.00,9,  -999.00,9,  -999.00,9,  -999.00,9,     -999,9,   -999.0,9,-999.0000,9,  -999.00,   4.7102,2
  74JC20151217, SR01b,    25,  1,     12,     12,2,20160110,1221,-55.1686, -57.9680, 3106,     21.9,   4.7465,  34.0321,2,  34.0330,2,    316.8,2,   -999.0,9,  -999.00,9,  -999.00,9,  -999.00,9,  -999.00,9,     -999,9,   -999.0,9,-999.0000,9,  -999.00,   4.7473,2
  74JC20151217, SR01b,    26,  1,      1,      1,2,20160110,1511,-55.1171, -57.9682, 2691,   2720.6,   1.6802,  34.7184,2,  34.7178,2,    186.4,2,   -999.0,9,  -999.00,9,  -999.00,9,  -999.00,9,  -999.00,9,     -999,9,   -999.0,9,-999.0000,9,  -999.00,   1.6859,2
  74JC20151217, SR01b,    26,  1,      2,      2,2,20160110,1511,-55.1171, -57.9682, 2691,   2232.4,   1.9694,  34.7010,2,  34.7021,2,    175.6,2,   -999.0,9,  -999.00,9,  -999.00,9,  -999.00,9,  -999.00,9,     -999,9,   -999.0,9,-999.0000,9,  -999.00,   1.9699,2
  74JC20151217, SR01b,    26,  1,      3,      3,2,20160110,1511,-55.1171, -57.9682, 2691,   1823.5,   2.3020,  34.6503,2,  34.6495,2,    169.5,2,   -999.0,9,  -999.00,9,  -999.00,9,  -999.00,9,  -999.00,9,     -999,9,   -999.0,9,-999.0000,9,  -999.00,   2.3031,2
  74JC20151217, SR01b,    26,  1,      4,      4,2,20160110,1511,-55.1171, -57.9682, 2691,   1415.6,   2.6054,  34.5364,2,  34.5362,2,    167.6,2,   -999.0,9,  -999.00,9,  -999.00,9,  -999.00,9,  -999.00,9,     -999,9,   -999.0,9,-999.0000,9,  -999.00,   2.6061,2
  74JC20151217, SR01b,    26,  1,      5,      5,2,20160110,1511,-55.1171, -57.9682, 2691,    907.6,   2.9439,  34.2945,2,  34.2928,2,    212.8,2,   -999.0,9,  -999.00,9,  -999.00,9,  -999.00,9,  -999.00,9,     -999,9,   -999.0,9,-999.0000,9,  -999.00,   2.9470,2
  74JC20151217, SR01b,    26,  1,      6,      6,2,20160110,1511,-55.1171, -57.9682, 2691,    503.4,   3.6343,  34.1474,2,  34.1476,2,    265.6,2,   -999.0,9,  -999.00,9,  -999.00,9,  -999.00,9,  -999.00,9,     -999,9,   -999.0,9,-999.0000,9,  -999.00,   3.6349,2
  74JC20151217, SR01b,    26,  1,      7,      7,2,20160110,1511,-55.1171, -57.9682, 2691,    115.7,   4.4718,  34.0972,2,  34.1844,4,    305.9,2,   -999.0,9,  -999.00,9,  -999.00,9,  -999.00,9,  -999.00,9,     -999,9,   -999.0,9,-999.0000,9,  -999.00,   4.4802,2
  74JC20151217, SR01b,    26,  1,      8,      8,2,20160110,1511,-55.1171, -57.9682, 2691,     26.1,   4.9291,  34.0487,2,  34.0465,2,    314.4,2,   -999.0,9,  -999.00,9,  -999.00,9,  -999.00,9,  -999.00,9,     -999,9,   -999.0,9,-999.0000,9,  -999.00,   4.9296,2
  74JC20151217, SR01b,    27,  1,      1,      1,2,20160111,1003,-55.0685, -57.9750, 2186,   2206.1,   2.0444,  34.6869,2,  34.6912,2,    171.5,2,   -999.0,9,  -999.00,9,  -999.00,9,  -999.00,9,  -999.00,9,     -999,9,   -999.0,9,-999.0000,9,  -999.00,   2.0457,2
  74JC20151217, SR01b,    27,  1,      2,      2,2,20160111,1003,-55.0685, -57.9750, 2186,   1744.4,   2.4121,  34.6063,2,  34.6099,2,    163.5,2,   -999.0,9,  -999.00,9,  -999.00,9,  -999.00,9,  -999.00,9,     -999,9,   -999.0,9,-999.0000,9,  -999.00,   2.4117,2
  74JC20151217, SR01b,    27,  1,      3,      3,2,20160111,1003,-55.0685, -57.9750, 2186,   1339.2,   2.6415,  34.5104,2,  34.5153,2,    172.7,2,   -999.0,9,  -999.00,9,  -999.00,9,  -999.00,9,  -999.00,9,     -999,9,   -999.0,9,-999.0000,9,  -999.00,   2.6421,2
  74JC20151217, SR01b,    27,  1,      4,      4,2,20160111,1003,-55.0685, -57.9750, 2186,    931.6,   3.1262,  34.3050,2,  34.3082,2,    210.0,2,   -999.0,9,  -999.00,9,  -999.00,9,  -999.00,9,  -999.00,9,     -999,9,   -999.0,9,-999.0000,9,  -999.00,   3.1257,2
  74JC20151217, SR01b,    27,  1,      5,      5,2,20160111,1003,-55.0685, -57.9750, 2186,    430.3,   3.9868,  34.0980,2,  34.1010,2,    296.6,2,   -999.0,9,  -999.00,9,  -999.00,9,  -999.00,9,  -999.00,9,     -999,9,   -999.0,9,-999.0000,9,  -999.00,   3.9834,2
  74JC20151217, SR01b,    27,  1,      6,      6,2,20160111,1003,-55.0685, -57.9750, 2186,    129.5,   5.1511,  34.1278,2,  34.1313,2,    302.8,2,   -999.0,9,  -999.00,9,  -999.00,9,  -999.00,9,  -999.00,9,     -999,9,   -999.0,9,-999.0000,9,  -999.00,   5.1670,2
  74JC20151217, SR01b,    27,  1,      7,      7,2,20160111,1003,-55.0685, -57.9750, 2186,     29.9,   5.5778,  34.1002,2,  34.1026,2,    308.1,2,   -999.0,9,  -999.00,9,  -999.00,9,  -999.00,9,  -999.00,9,     -999,9,   -999.0,9,-999.0000,9,  -999.00,   5.5759,2
  74JC20151217, SR01b,    27,  1,      8,      8,2,20160111,1003,-55.0685, -57.9750, 2186,     14.9,   5.5755,  34.1003,2,  34.1029,2,    308.2,2,   -999.0,9,  -999.00,9,  -999.00,9,  -999.00,9,  -999.00,9,     -999,9,   -999.0,9,-999.0000,9,  -999.00,   5.5749,2
  74JC20151217, SR01b,    28,  1,      1,      1,2,20160111,1252,-55.0067, -57.9782, 1673,   1681.7,   2.5273,  34.5692,2,  34.5724,2,    165.3,2,    166.1,2,  -999.00,9,  -999.00,9,  -999.00,9,  -999.00,9,     -999,9,   -999.0,9,-999.0000,9,  -999.00,   2.5266,2
  74JC20151217, SR01b,    28,  1,      2,      2,2,20160111,1252,-55.0067, -57.9782, 1673,   1319.1,   2.8546,  34.4356,2,  34.4378,2,    182.2,2,    182.9,2,  -999.00,9,  -999.00,9,  -999.00,9,  -999.00,9,     -999,9,   -999.0,9,-999.0000,9,  -999.00,   2.8562,2
  74JC20151217, SR01b,    28,  1,      3,      3,2,20160111,1252,-55.0067, -57.9782, 1673,    913.2,   3.0130,  34.2525,2,  34.2547,2,    227.4,2,    227.9,2,  -999.00,9,  -999.00,9,  -999.00,9,  -999.00,9,     -999,9,   -999.0,9,-999.0000,9,  -999.00,   3.0121,2
  74JC20151217, SR01b,    28,  1,      4,      4,2,20160111,1252,-55.0067, -57.9782, 1673,    609.5,   3.8231,  34.1258,2,  34.1275,2,    279.7,2,    281.0,2,  -999.00,9,  -999.00,9,  -999.00,9,  -999.00,9,     -999,9,   -999.0,9,-999.0000,9,  -999.00,   3.8240,2
  74JC20151217, SR01b,    28,  1,      5,      5,2,20160111,1252,-55.0067, -57.9782, 1673,    410.5,   4.4190,  34.1315,2,  34.1340,2,    292.8,2,    292.6,2,  -999.00,9,  -999.00,9,  -999.00,9,  -999.00,9,     -999,9,   -999.0,9,-999.0000,9,  -999.00,   4.4205,2
  74JC20151217, SR01b,    28,  1,      6,      6,2,20160111,1252,-55.0067, -57.9782, 1673,    207.7,   4.7638,  34.1372,2,  34.1385,2,    298.0,2,    296.9,2,  -999.00,9,  -999.00,9,  -999.00,9,  -999.00,9,     -999,9,   -999.0,9,-999.0000,9,  -999.00,   4.7653,2
  74JC20151217, SR01b,    28,  1,      7,      7,2,20160111,1252,-55.0067, -57.9782, 1673,     88.0,   5.5931,  34.0922,2,  34.0934,2,    306.8,2,    307.0,2,  -999.00,9,  -999.00,9,  -999.00,9,  -999.00,9,     -999,9,   -999.0,9,-999.0000,9,  -999.00,   5.5971,2
  74JC20151217, SR01b,    28,  1,      8,      8,2,20160111,1252,-55.0067, -57.9782, 1673,     22.3,   5.6251,  34.0936,2,  34.0945,2,    307.7,2,    307.8,2,  -999.00,9,  -999.00,9,  -999.00,9,  -999.00,9,     -999,9,   -999.0,9,-999.0000,9,  -999.00,   5.6254,2
  74JC20151217, SR01b,    29,  1,      1,      1,2,20160111,1709,-54.9778, -57.9827, 1062,   1061.9,   3.2054,  34.2589,2,  34.2560,2,    227.3,2,    228.2,2,  -999.00,9,  -999.00,9,  -999.00,9,  -999.00,9,     -999,9,   -999.0,9,-999.0000,9,  -999.00,   3.2044,2
  74JC20151217, SR01b,    29,  1,      2,      2,2,20160111,1709,-54.9778, -57.9827, 1062,    807.9,   3.2850,  34.1729,2,  34.1707,2,    252.0,2,    252.7,2,  -999.00,9,  -999.00,9,  -999.00,9,  -999.00,9,     -999,9,   -999.0,9,-999.0000,9,  -999.00,   3.2918,2
  74JC20151217, SR01b,    29,  1,      3,      3,2,20160111,1709,-54.9778, -57.9827, 1062,    607.5,   3.6858,  34.1341,2,  34.1317,2,    272.5,2,    273.4,2,  -999.00,9,  -999.00,9,  -999.00,9,  -999.00,9,     -999,9,   -999.0,9,-999.0000,9,  -999.00,   3.6862,2
  74JC20151217, SR01b,    29,  1,      4,      4,2,20160111,1709,-54.9778, -57.9827, 1062,    404.6,   4.3736,  34.1301,2,  34.1322,2,    291.7,2,    292.0,2,  -999.00,9,  -999.00,9,  -999.00,9,  -999.00,9,     -999,9,   -999.0,9,-999.0000,9,  -999.00,   4.3763,2
  74JC20151217, SR01b,    29,  1,      5,      5,2,20160111,1709,-54.9778, -57.9827, 1062,    203.1,   4.7701,  34.1395,2,  34.1334,2,    297.6,2,    297.7,2,  -999.00,9,  -999.00,9,  -999.00,9,  -999.00,9,     -999,9,   -999.0,9,-999.0000,9,  -999.00,   4.7738,2
  74JC20151217, SR01b,    29,  1,      6,      6,2,20160111,1709,-54.9778, -57.9827, 1062,    103.1,   5.3671,  34.1025,2,  34.0982,2,    302.8,2,    303.6,2,  -999.00,9,  -999.00,9,  -999.00,9,  -999.00,9,     -999,9,   -999.0,9,-999.0000,9,  -999.00,   5.3688,2
  74JC20151217, SR01b,    29,  1,      7,      7,2,20160111,1709,-54.9778, -57.9827, 1062,     73.6,   5.5316,  34.0907,2,  34.0905,2,    305.4,2,    306.5,2,  -999.00,9,  -999.00,9,  -999.00,9,  -999.00,9,     -999,9,   -999.0,9,-999.0000,9,  -999.00,   5.5354,2
  74JC20151217, SR01b,    29,  1,      9,      9,2,20160111,1709,-54.9778, -57.9827, 1062,     13.2,   5.5876,  34.0890,2,  34.0861,2,    306.6,2,    306.0,2,  -999.00,9,  -999.00,9,  -999.00,9,  -999.00,9,     -999,9,   -999.0,9,-999.0000,9,  -999.00,   5.5867,2