BOTTLE,20160908PRINUNIVRMK
EXPOCODE,SECT_ID,STNNBR,CASTNO,SAMPNO,BTLNBR,BTLNBR_FLAG_W,DATE,TIME,LATITUDE,LONGITUDE,DEPTH,CTDPRS,CTDTMP,CTDSAL,CTDSAL_FLAG_W,SALNTY,SALNTY_FLAG_W,CTDOXY,CTDOXY_FLAG_W,OXYGEN,OXYGEN_FLAG_W,SILCAT,SILCAT_FLAG_W,NITRAT,NITRAT_FLAG_W,NITRIT,NITRIT_FLAG_W,PHSPHT,PHSPHT_FLAG_W,NH4,NH4_FLAG_W,ALKALI,ALKALI_FLAG_W,PH_TOT,PH_TOT_FLAG_W,PH_TMP,SBE35,SBE35_FLAG_W
,,,,,,,,,,,METERS,DBAR,ITS-90,PSS-78,,PSS-78,,UMOL/KG,,UMOL/KG,,UMOL/KG,,UMOL/KG,,UMOL/KG,,UMOL/KG,,UMOL/KG,,UMOL/KG,,,,DEG C,ITS-90,
  74JC20151217, SR01b,    18,  1,      1,      1,2,20160109,0247,-57.2588, -56.9334, 3949,   4008.4,   0.1526,  34.6621,2,  34.6607,2,    228.0,2,   -999.0,9,  -999.00,9,  -999.00,9,  -999.00,9,  -999.00,9,     -999,9,   -999.0,9,-999.0000,9,  -999.00,   0.1518,2
  74JC20151217, SR01b,    18,  1,      2,      2,2,20160109,0247,-57.2588, -56.9334, 3949,   3360.6,   0.2370,  34.6699,2,  34.6701,2,    223.1,2,   -999.0,9,  -999.00,9,  -999.00,9,  -999.00,9,  -999.00,9,     -999,9,   -999.0,9,-999.0000,9,  -999.00,   0.2371,2
  74JC20151217, SR01b,    18,  1,      3,      3,2,20160109,0247,-57.2588, -56.9334, 3949,   2747.9,   0.5163,  34.6922,2,  34.6910,2,    212.3,2,   -999.0,9,  -999.00,9,  -999.00,9,  -999.00,9,  -999.00,9,     -999,9,   -999.0,9,-999.0000,9,  -999.00,   0.5160,2
  74JC20151217, SR01b,    18,  1,      4,      4,2,20160109,0247,-57.2588, -56.9334, 3949,   2235.8,   0.7581,  34.7051,2,  34.7082,2,    205.4,2,   -999.0,9,  -999.00,9,  -999.00,9,  -999.00,9,  -999.00,9,     -999,9,   -999.0,9,-999.0000,9,  -999.00,   0.7566,2
  74JC20151217, SR01b,    18,  1,      5,      5,2,20160109,0247,-57.2588, -56.9334, 3949,   1729.3,   1.0048,  34.7109,2,  34.7103,2,    200.8,2,   -999.0,9,  -999.00,9,  -999.00,9,  -999.00,9,  -999.00,9,     -999,9,   -999.0,9,-999.0000,9,  -999.00,   1.0048,2
  74JC20151217, SR01b,    18,  1,      6,      6,2,20160109,0247,-57.2588, -56.9334, 3949,   1219.8,   1.4662,  34.7251,2,  34.7242,2,    191.7,2,   -999.0,9,  -999.00,9,  -999.00,9,  -999.00,9,  -999.00,9,     -999,9,   -999.0,9,-999.0000,9,  -999.00,   1.4660,2
  74JC20151217, SR01b,    18,  1,      7,      7,2,20160109,0247,-57.2588, -56.9334, 3949,    813.0,   1.8029,  34.7148,2,  34.7121,2,    183.7,2,   -999.0,9,  -999.00,9,  -999.00,9,  -999.00,9,  -999.00,9,     -999,9,   -999.0,9,-999.0000,9,  -999.00,   1.8020,2
  74JC20151217, SR01b,    18,  1,      8,      8,2,20160109,0247,-57.2588, -56.9334, 3949,    410.7,   1.8500,  34.5977,2,  34.5961,2,    180.5,2,   -999.0,9,  -999.00,9,  -999.00,9,  -999.00,9,  -999.00,9,     -999,9,   -999.0,9,-999.0000,9,  -999.00,   1.8494,2
  74JC20151217, SR01b,    18,  1,      9,      9,2,20160109,0247,-57.2588, -56.9334, 3949,    258.0,   0.8326,  34.4071,2,  34.4066,2,    221.0,2,   -999.0,9,  -999.00,9,  -999.00,9,  -999.00,9,  -999.00,9,     -999,9,   -999.0,9,-999.0000,9,  -999.00,   0.8288,2
  74JC20151217, SR01b,    18,  1,     10,     10,2,20160109,0247,-57.2588, -56.9334, 3949,    157.4,   0.0490,  34.2020,2,  34.1994,2,    267.2,2,   -999.0,9,  -999.00,9,  -999.00,9,  -999.00,9,  -999.00,9,     -999,9,   -999.0,9,-999.0000,9,  -999.00,   0.0492,2
  74JC20151217, SR01b,    18,  1,     11,     11,2,20160109,0247,-57.2588, -56.9334, 3949,     58.9,   1.6630,  33.8493,2,  33.8487,2,    347.7,2,   -999.0,9,  -999.00,9,  -999.00,9,  -999.00,9,  -999.00,9,     -999,9,   -999.0,9,-999.0000,9,  -999.00,   1.6623,2
  74JC20151217, SR01b,    18,  1,     12,     12,3,20160109,0247,-57.2588, -56.9334, 3949,     18.2,   1.6613,  33.8484,2,  33.8479,2,    345.4,2,   -999.0,9,  -999.00,9,  -999.00,9,  -999.00,9,  -999.00,9,     -999,9,   -999.0,9,-999.0000,9,  -999.00,   1.6588,2
  74JC20151217, SR01b,    19,  1,      1,      1,2,20160109,0813,-56.8639, -57.1778, 3014,   3051.7,   0.5382,  34.6900,2,  34.6884,2,    212.9,2,    213.1,2,  -999.00,9,  -999.00,9,  -999.00,9,  -999.00,9,     -999,9,   -999.0,9,-999.0000,9,  -999.00,   0.5508,2
  74JC20151217, SR01b,    19,  1,      2,      2,2,20160109,0813,-56.8639, -57.1778, 3014,   2538.0,   0.7697,  34.7038,2,  34.7029,2,    205.4,2,   -999.0,9,  -999.00,9,  -999.00,9,  -999.00,9,  -999.00,9,     -999,9,   -999.0,9,-999.0000,9,  -999.00,   0.7684,2
  74JC20151217, SR01b,    19,  1,      3,      3,2,20160109,0813,-56.8639, -57.1778, 3014,   2131.0,   1.0428,  34.7161,2,  34.7153,2,    198.8,2,    199.2,2,  -999.00,9,  -999.00,9,  -999.00,9,  -999.00,9,     -999,9,   -999.0,9,-999.0000,9,  -999.00,   1.0430,2
  74JC20151217, SR01b,    19,  1,      4,      4,2,20160109,0813,-56.8639, -57.1778, 3014,   1725.4,   1.3747,  34.7219,2,  34.7214,2,    191.8,2,   -999.0,9,  -999.00,9,  -999.00,9,  -999.00,9,  -999.00,9,     -999,9,   -999.0,9,-999.0000,9,  -999.00,   1.3741,2
  74JC20151217, SR01b,    19,  1,      5,      5,2,20160109,0813,-56.8639, -57.1778, 3014,   1320.4,   1.6760,  34.7205,2,  34.7196,2,    185.2,2,    184.4,2,  -999.00,9,  -999.00,9,  -999.00,9,  -999.00,9,     -999,9,   -999.0,9,-999.0000,9,  -999.00,   1.6767,2
  74JC20151217, SR01b,    19,  1,      6,      6,3,20160109,0813,-56.8639, -57.1778, 3014,    913.5,   2.0277,  34.7012,2,  34.7000,2,    178.8,2,   -999.0,9,  -999.00,9,  -999.00,9,  -999.00,9,  -999.00,9,     -999,9,   -999.0,9,-999.0000,9,  -999.00,   2.0269,2
  74JC20151217, SR01b,    19,  1,      7,      7,2,20160109,0813,-56.8639, -57.1778, 3014,    609.3,   2.1983,  34.6275,2,  34.6975,4,    172.0,2,    194.5,3,  -999.00,9,  -999.00,9,  -999.00,9,  -999.00,9,     -999,9,   -999.0,9,-999.0000,9,  -999.00,   2.1983,2
  74JC20151217, SR01b,    19,  1,      8,      8,2,20160109,0813,-56.8639, -57.1778, 3014,    309.1,   1.9268,  34.4097,2,  34.4021,2,    196.0,2,   -999.0,9,  -999.00,9,  -999.00,9,  -999.00,9,  -999.00,9,     -999,9,   -999.0,9,-999.0000,9,  -999.00,   1.9035,2
  74JC20151217, SR01b,    19,  1,      9,      9,2,20160109,0813,-56.8639, -57.1778, 3014,    104.8,  -0.4211,  33.8630,2,  33.8610,2,    341.5,2,   -999.0,9,  -999.00,9,  -999.00,9,  -999.00,9,  -999.00,9,     -999,9,   -999.0,9,-999.0000,9,  -999.00,  -0.4191,2
  74JC20151217, SR01b,    19,  1,     10,     10,2,20160109,0813,-56.8639, -57.1778, 3014,     86.1,  -0.4026,  33.8582,2,  33.8440,3,    343.7,2,    343.0,2,  -999.00,9,  -999.00,9,  -999.00,9,  -999.00,9,     -999,9,   -999.0,9,-999.0000,9,  -999.00,  -0.3727,2
  74JC20151217, SR01b,    19,  1,     11,     11,2,20160109,0813,-56.8639, -57.1778, 3014,     55.2,   1.3787,  33.7790,2,  33.7787,2,    350.5,2,    349.1,2,  -999.00,9,  -999.00,9,  -999.00,9,  -999.00,9,     -999,9,   -999.0,9,-999.0000,9,  -999.00,   1.4380,2
  74JC20151217, SR01b,    19,  1,     12,     12,2,20160109,0813,-56.8639, -57.1778, 3014,     15.8,   1.5994,  33.7769,2,  33.7764,2,    348.5,2,   -999.0,9,  -999.00,9,  -999.00,9,  -999.00,9,  -999.00,9,     -999,9,   -999.0,9,-999.0000,9,  -999.00,   1.5991,2
  74JC20151217, SR01b,    20,  1,      1,      1,2,20160109,1327,-56.4685, -57.4128, 3826,   3882.9,   0.6363,  34.6901,2,  34.6762,4,    213.1,2,    212.6,2,    71.10,4,    33.11,2,     0.00,2,     2.30,2,     0.35,2,   2361.8,2,   7.5960,2,    25.00,   0.6360,2
  74JC20151217, SR01b,    20,  1,      2,      2,2,20160109,1327,-56.4685, -57.4128, 3826,   3670.2,   0.6612,  34.6931,2,  34.6881,2,    211.8,2,    211.0,2,    71.50,4,    33.17,2,     0.00,2,     2.30,2,     0.11,2,   2362.0,2,   7.5968,2,    25.00,   0.6611,2
  74JC20151217, SR01b,    20,  1,      3,      3,2,20160109,1327,-56.4685, -57.4128, 3826,   3361.7,   0.6932,  34.6968,2,  34.6872,2,    209.6,2,    209.2,2,    70.60,4,    33.23,2,     0.00,2,     2.31,2,     0.25,2,   2362.9,2,   7.5963,2,    25.00,   0.6934,2
  74JC20151217, SR01b,    20,  1,      4,      4,2,20160109,1327,-56.4685, -57.4128, 3826,   2950.8,   0.8819,  34.7075,2,  34.7025,2,    204.3,2,    203.7,2,    71.20,4,    33.13,2,     0.00,2,     2.30,2,     0.23,2,   2363.8,2,   7.5985,2,    25.00,   0.8818,2
  74JC20151217, SR01b,    20,  1,      5,      5,2,20160109,1327,-56.4685, -57.4128, 3826,   2643.3,   1.0498,  34.7148,2,  34.7139,2,    199.8,2,    199.7,2,    72.50,4,    32.97,2,     0.00,2,     2.30,2,     0.63,2,   2364.9,2,   7.5997,2,    25.00,   1.0514,2
  74JC20151217, SR01b,    20,  1,      6,      6,2,20160109,1327,-56.4685, -57.4128, 3826,   2337.9,   1.2427,  34.7204,2,  34.7179,2,    196.3,2,    195.6,2,    72.70,4,    32.81,2,     0.00,2,     2.29,2,     0.12,2,   2364.1,2,   7.5994,2,    25.00,   1.2427,2
  74JC20151217, SR01b,    20,  1,      7,      7,2,20160109,1327,-56.4685, -57.4128, 3826,   2033.2,   1.4690,  34.7225,2,  34.7021,4,    190.7,2,    190.1,2,    80.90,4,    32.76,2,     0.00,2,     2.29,2,     0.53,2,   2363.5,2,   7.5974,2,    25.00,   1.4757,2
  74JC20151217, SR01b,    20,  1,      8,      8,2,20160109,1327,-56.4685, -57.4128, 3826,   1725.8,   1.7304,  34.7247,2,  34.7098,4,    186.6,2,    186.2,2,    83.90,4,    32.62,2,     0.00,2,     2.26,2,     0.12,2,   2358.0,2,   7.5929,2,    25.00,   1.7302,2
  74JC20151217, SR01b,    20,  1,      9,      9,2,20160109,1327,-56.4685, -57.4128, 3826,   1471.7,   1.9626,  34.7120,2,  34.7106,2,    181.2,2,    180.6,2,    86.40,4,    32.96,2,     0.00,2,     2.29,2,     0.24,2,   2354.9,2,   7.5844,2,    25.00,   1.9647,2
  74JC20151217, SR01b,    20,  1,     10,     10,2,20160109,1327,-56.4685, -57.4128, 3826,   1268.2,   2.0959,  34.6909,2,  34.6871,2,    176.9,2,    177.0,2,    84.50,4,    33.43,2,     0.00,2,     2.33,2,      0.1,2,   2347.7,2,   7.5727,2,    25.00,   2.0956,2
  74JC20151217, SR01b,    20,  1,     11,     11,2,20160109,1327,-56.4685, -57.4128, 3826,   1065.9,   2.2334,  34.6452,2,  34.6450,2,    172.5,2,    171.4,2,    82.40,4,    34.21,2,     0.00,2,     2.36,2,     0.14,2,   2344.2,2,   7.5599,2,    25.00,   2.2336,2
  74JC20151217, SR01b,    20,  1,     12,     12,2,20160109,1327,-56.4685, -57.4128, 3826,    872.7,   2.3831,  34.5691,2,  34.5668,2,    170.8,2,    171.2,2,    76.80,4,    35.16,2,     0.00,2,     2.44,2,      0.2,2,   2337.1,2,   7.5490,2,    25.00,   2.3850,2
  74JC20151217, SR01b,    20,  1,     13,     13,2,20160109,1327,-56.4685, -57.4128, 3826,    669.1,   2.5002,  34.4731,2,  34.4653,2,    178.7,2,    177.9,2,    68.90,4,    35.58,2,     0.00,2,     2.47,2,      0.1,2,   2327.4,2,   7.5475,2,    25.00,   2.5001,2
  74JC20151217, SR01b,    20,  1,     14,     14,2,20160109,1327,-56.4685, -57.4128, 3826,    568.5,   2.5060,  34.4043,2,  34.4001,2,    189.9,2,    189.7,2,    62.00,4,    35.30,2,     0.00,2,     2.45,2,      0.1,2,   2318.1,2,   7.5534,2,    25.00,   2.5057,2
  74JC20151217, SR01b,    20,  1,     15,     15,2,20160109,1327,-56.4685, -57.4128, 3826,    468.6,   2.4437,  34.3319,2,  34.3230,2,    206.7,2,    205.7,2,    55.20,4,    34.70,2,     0.00,2,     2.40,2,     0.11,2,   2314.8,2,   7.5611,2,    25.00,   2.4445,2
  74JC20151217, SR01b,    20,  1,     16,     16,2,20160109,1327,-56.4685, -57.4128, 3826,    367.2,   2.2347,  34.2427,2,  34.2180,4,    231.4,2,    231.5,2,    46.10,4,    33.58,2,     0.00,2,     2.33,2,     0.14,2,   2303.2,2,   7.5861,2,    25.00,   2.2307,2
  74JC20151217, SR01b,    20,  1,     17,     17,2,20160109,1327,-56.4685, -57.4128, 3826,    267.2,   1.7985,  34.1084,2,  34.1076,2,    275.3,2,    275.1,2,    32.00,4,    31.08,2,     0.00,2,     2.16,2,     0.15,2,   2289.7,2,   7.6267,2,    25.00,   1.7969,2
  74JC20151217, SR01b,    20,  1,     18,     18,2,20160109,1327,-56.4685, -57.4128, 3826,    217.6,   1.1048,  34.0131,2,  34.0115,2,    311.2,2,    310.4,2,    25.10,4,    29.52,2,     0.00,2,     2.06,2,     0.09,2,   2284.0,2,   7.6505,2,    25.00,   1.1021,2
  74JC20151217, SR01b,    20,  1,     19,     19,2,20160109,1327,-56.4685, -57.4128, 3826,    167.3,   1.1440,  34.0029,2,  33.9885,4,    315.6,2,    314.7,2,    23.80,4,    29.23,2,     0.00,2,     2.04,2,      0.1,2,   2282.0,2,   7.6579,2,    25.00,   1.1478,2
  74JC20151217, SR01b,    20,  1,     20,     20,2,20160109,1327,-56.4685, -57.4128, 3826,    116.5,   0.9587,  33.9347,2,  33.9231,3,    325.2,2,    323.2,2,    22.00,4,    28.05,2,     0.12,2,     1.99,2,     0.45,2,   2277.9,2,   7.6632,2,    25.00,   0.9667,2
  74JC20151217, SR01b,    20,  1,     21,     21,2,20160109,1327,-56.4685, -57.4128, 3826,     62.3,   1.0752,  33.8269,2,  33.8244,2,    340.9,2,    339.9,2,    16.40,4,    25.70,2,     0.11,2,     1.90,2,     0.84,2,   2275.3,2,   7.6917,2,    25.00,   1.0652,2
  74JC20151217, SR01b,    20,  1,     22,     22,2,20160109,1327,-56.4685, -57.4128, 3826,     61.3,   1.0930,  33.8302,2,  33.8245,2,    340.4,2,    339.8,2,    16.70,4,    25.75,2,     0.11,2,     2.01,2,     0.92,2,   2276.2,2,   7.6928,2,    25.00,   1.0690,2
  74JC20151217, SR01b,    20,  1,     23,     23,2,20160109,1327,-56.4685, -57.4128, 3826,     37.1,   1.5871,  33.7365,2,  33.7368,2,    344.0,2,    343.4,2,    15.80,4,    24.98,2,     0.19,2,     1.73,2,     0.45,2,   2277.9,2,   7.6685,3,    25.00,   1.5844,2
  74JC20151217, SR01b,    20,  1,     24,     24,2,20160109,1327,-56.4685, -57.4128, 3826,     17.0,   1.5949,  33.7365,2,  33.7327,2,    344.5,2,    343.4,2,    15.90,4,    24.98,2,     0.19,2,     1.75,2,     0.46,2,   2276.0,2,   7.7053,2,    25.00,   1.5935,2
  74JC20151217, SR01b,    21,  1,      1,      1,2,20160109,1847,-56.0756, -57.6656, 3847,   3906.8,   0.4071,  34.6767,2,  34.6715,2,    220.8,2,    219.7,2,  -999.00,9,  -999.00,9,  -999.00,9,  -999.00,9,     -999,9,   -999.0,9,-999.0000,9,  -999.00,   0.4100,2
  74JC20151217, SR01b,    21,  1,      2,      2,2,20160109,1847,-56.0756, -57.6656, 3847,   3350.6,   0.9635,  34.7094,2,  34.7103,2,    203.4,2,   -999.0,9,  -999.00,9,  -999.00,9,  -999.00,9,  -999.00,9,     -999,9,   -999.0,9,-999.0000,9,  -999.00,   0.9614,2
  74JC20151217, SR01b,    21,  1,      3,      3,2,20160109,1847,-56.0756, -57.6656, 3847,   2739.9,   1.3071,  34.7203,2,  34.7174,2,    195.6,2,    195.0,2,  -999.00,9,  -999.00,9,  -999.00,9,  -999.00,9,     -999,9,   -999.0,9,-999.0000,9,  -999.00,   1.3071,2
  74JC20151217, SR01b,    21,  1,      4,      4,2,20160109,1847,-56.0756, -57.6656, 3847,   2232.3,   1.5742,  34.7212,2,  34.7172,2,    188.6,2,   -999.0,9,  -999.00,9,  -999.00,9,  -999.00,9,  -999.00,9,     -999,9,   -999.0,9,-999.0000,9,  -999.00,   1.5736,2
  74JC20151217, SR01b,    21,  1,      5,      5,2,20160109,1847,-56.0756, -57.6656, 3847,   1725.1,   1.9310,  34.7080,2,  34.7074,2,    179.1,2,    178.3,2,  -999.00,9,  -999.00,9,  -999.00,9,  -999.00,9,     -999,9,   -999.0,9,-999.0000,9,  -999.00,   1.9313,2
  74JC20151217, SR01b,    21,  1,      6,      6,2,20160109,1847,-56.0756, -57.6656, 3847,   1217.8,   2.2919,  34.6424,2,  34.6397,2,    171.9,2,   -999.0,9,  -999.00,9,  -999.00,9,  -999.00,9,  -999.00,9,     -999,9,   -999.0,9,-999.0000,9,  -999.00,   2.2947,2
  74JC20151217, SR01b,    21,  1,      7,      7,2,20160109,1847,-56.0756, -57.6656, 3847,   1015.9,   2.4375,  34.5830,2,  34.5810,2,    167.7,2,    166.5,2,  -999.00,9,  -999.00,9,  -999.00,9,  -999.00,9,     -999,9,   -999.0,9,-999.0000,9,  -999.00,   2.4401,2
  74JC20151217, SR01b,    21,  1,      8,      8,2,20160109,1847,-56.0756, -57.6656, 3847,    713.2,   2.6469,  34.4453,2,  34.4456,2,    182.3,2,   -999.0,9,  -999.00,9,  -999.00,9,  -999.00,9,  -999.00,9,     -999,9,   -999.0,9,-999.0000,9,  -999.00,   2.6469,2
  74JC20151217, SR01b,    21,  1,      9,      9,2,20160109,1847,-56.0756, -57.6656, 3847,    409.3,   2.4818,  34.2059,2,  34.2014,2,    242.1,2,    242.6,2,  -999.00,9,  -999.00,9,  -999.00,9,  -999.00,9,     -999,9,   -999.0,9,-999.0000,9,  -999.00,   2.4458,2
  74JC20151217, SR01b,    21,  1,     10,     10,2,20160109,1847,-56.0756, -57.6656, 3847,    208.5,   2.2994,  34.0765,2,  34.0764,2,    292.4,2,   -999.0,9,  -999.00,9,  -999.00,9,  -999.00,9,  -999.00,9,     -999,9,   -999.0,9,-999.0000,9,  -999.00,   2.3319,2
  74JC20151217, SR01b,    21,  1,     11,     11,2,20160109,1847,-56.0756, -57.6656, 3847,    106.0,   2.4300,  33.9565,2,  33.9562,2,    321.9,2,   -999.0,9,  -999.00,9,  -999.00,9,  -999.00,9,  -999.00,9,     -999,9,   -999.0,9,-999.0000,9,  -999.00,   2.4413,2
  74JC20151217, SR01b,    21,  1,     12,     12,2,20160109,1847,-56.0756, -57.6656, 3847,     46.4,   4.1938,  33.9367,2,  33.9374,2,    320.9,2,   -999.0,9,  -999.00,9,  -999.00,9,  -999.00,9,  -999.00,9,     -999,9,   -999.0,9,-999.0000,9,  -999.00,   4.1988,2
  74JC20151217, SR01b,    21,  1,     13,     13,2,20160109,1847,-56.0756, -57.6656, 3847,     11.5,   4.2052,  33.9354,2,  33.9358,2,    321.6,2,    321.8,2,  -999.00,9,  -999.00,9,  -999.00,9,  -999.00,9,     -999,9,   -999.0,9,-999.0000,9,  -999.00,   4.2078,2
  74JC20151217, SR01b,    22,  1,      1,      1,2,20160110,0002,-55.6817, -57.9093, 4524,   4602.9,   0.6981,  34.6885,2,  34.6884,2,    215.0,2,   -999.0,9,  -999.00,9,  -999.00,9,  -999.00,9,  -999.00,9,     -999,9,   -999.0,9,-999.0000,9,  -999.00,   0.6981,2
  74JC20151217, SR01b,    22,  1,      2,      2,2,20160110,0002,-55.6817, -57.9093, 4524,   3975.2,   0.7115,  34.6938,2,  34.6892,2,    211.8,2,   -999.0,9,  -999.00,9,  -999.00,9,  -999.00,9,  -999.00,9,     -999,9,   -999.0,9,-999.0000,9,  -999.00,   0.7113,2
  74JC20151217, SR01b,    22,  1,      3,      3,2,20160110,0002,-55.6817, -57.9093, 4524,   2947.0,   1.1266,  34.7156,2,  34.7152,2,    199.5,2,   -999.0,9,  -999.00,9,  -999.00,9,  -999.00,9,  -999.00,9,     -999,9,   -999.0,9,-999.0000,9,  -999.00,   1.1283,2
  74JC20151217, SR01b,    22,  1,      4,      4,2,20160110,0002,-55.6817, -57.9093, 4524,   2438.3,   1.4747,  34.7221,2,  34.7208,2,    191.6,2,   -999.0,9,  -999.00,9,  -999.00,9,  -999.00,9,  -999.00,9,     -999,9,   -999.0,9,-999.0000,9,  -999.00,   1.4751,2
  74JC20151217, SR01b,    22,  1,      5,      5,2,20160110,0002,-55.6817, -57.9093, 4524,   1927.7,   1.7876,  34.7151,2,  34.7133,2,    182.0,2,   -999.0,9,  -999.00,9,  -999.00,9,  -999.00,9,  -999.00,9,     -999,9,   -999.0,9,-999.0000,9,  -999.00,   1.7875,2
  74JC20151217, SR01b,    22,  1,      6,      6,2,20160110,0002,-55.6817, -57.9093, 4524,   1420.7,   2.1876,  34.6742,2,  34.6753,2,    174.7,2,   -999.0,9,  -999.00,9,  -999.00,9,  -999.00,9,  -999.00,9,     -999,9,   -999.0,9,-999.0000,9,  -999.00,   2.1889,2
  74JC20151217, SR01b,    22,  1,      7,      7,2,20160110,0002,-55.6817, -57.9093, 4524,    913.9,   2.5158,  34.5470,2,  34.5387,2,    168.5,2,   -999.0,9,  -999.00,9,  -999.00,9,  -999.00,9,  -999.00,9,     -999,9,   -999.0,9,-999.0000,9,  -999.00,   2.5162,2
  74JC20151217, SR01b,    22,  1,      8,      8,2,20160110,0002,-55.6817, -57.9093, 4524,    357.5,   1.4091,  34.0576,2,  34.0502,2,    293.4,2,   -999.0,9,  -999.00,9,  -999.00,9,  -999.00,9,  -999.00,9,     -999,9,   -999.0,9,-999.0000,9,  -999.00,   1.4281,2
  74JC20151217, SR01b,    22,  1,      9,      9,2,20160110,0002,-55.6817, -57.9093, 4524,    156.9,   2.0223,  34.0032,2,  34.0010,2,    307.6,2,   -999.0,9,  -999.00,9,  -999.00,9,  -999.00,9,  -999.00,9,     -999,9,   -999.0,9,-999.0000,9,  -999.00,   1.9920,2
  74JC20151217, SR01b,    22,  1,     10,     10,2,20160110,0002,-55.6817, -57.9093, 4524,     56.8,   4.0827,  33.9037,2,  33.9018,2,    323.1,2,   -999.0,9,  -999.00,9,  -999.00,9,  -999.00,9,  -999.00,9,     -999,9,   -999.0,9,-999.0000,9,  -999.00,   4.0847,2
  74JC20151217, SR01b,    22,  1,     11,     11,2,20160110,0002,-55.6817, -57.9093, 4524,     16.9,   4.1802,  33.9008,2,  33.9004,2,    323.8,2,   -999.0,9,  -999.00,9,  -999.00,9,  -999.00,9,  -999.00,9,     -999,9,   -999.0,9,-999.0000,9,  -999.00,   4.1847,2