BOTTLE,20100316JAMSTECRIGC
EXPOCODE,SECT,STNNBR,CASTNO,SAMPNO,BTLNBR,BTLNBR_FLAG_W,DATE,TIME,LATITUDE,LONGITUDE,DEPTH,CTDPRS,CTDPRS_FLAG_W,CTDTMP,CTDTMP_FLAG_W,SBE35,SBE35_FLAG_W,CTDSAL,CTDSAL_FLAG_W,SALNTY,SALNTY_FLAG_W,CTDOXY,CTDOXY_FLAG_W,OPTOXY,OPTOXY_FLAG_W,DWNPRS,DWNPRS_FLAG_W,DWNOXY,DWNOXY_FLAG_W,OXYGEN,OXYGEN_FLAG_W,SILCAT,SILCAT_FLAG_W,SILUNC,NITRAT,NITRAT_FLAG_W,NRAUNC,NITRIT,NITRIT_FLAG_W,NRIUNC,PHSPHT,PHSPHT_FLAG_W,PHPUNC,CFC-11,CFC-11_FLAG_W,CFC-12,CFC-12_FLAG_W,CFC113,CFC113_FLAG_W,TCARBN,TCARBN_FLAG_W,ALKALI,ALKALI_FLAG_W,PH,PH_FLAG_W,DELC13,DELC13_FLAG_W,C13ERR,DELC14,DELC14_FLAG_W,C14ERR,THETA,SIG0
,,,,,,,,UTC,DEG,DEG,M,DBAR,,ITS-90,,ITS-90,,PSS-78,,PSS-78,,UMOL/KG,,UMOL/KG,,DBAR,,UMOL/KG,,UMOL/KG,,UMOL/KG,,UMOL/KG,UMOL/KG,,UMOL/KG,UMOL/KG,,UMOL/KG,UMOL/KG,,UMOL/KG,PMOL/KG,,PMOL/KG,,PMOL/KG,,UMOL/KG,,UMOL/KG,,,,/MILLE,,/MILLE,/MILLE,,/MILLE,DEG C,KG/CUM
    49MR0505_1,   P03,    77,  1,      0,   -999,9,20051112,0335, 24.2577,-142.5887, 4794,   -999.0,9,-999.0000,9,-999.00000,9,-999.0000,9,  35.1612,2,  -999.00,9,  -999.00,9,   -999.0,9,  -999.00,9,  -999.00,9,  -999.00,9,  -999.00,  -999.00,9,  -999.00,  -999.00,9,  -999.00, -999.000,9, -999.000, -999.000,9, -999.000,9, -999.000,9,   -999.0,9,   -999.0,9,-999.0000,9, -999.000,9, -999.000,   -999.0,9,   -999.0,-999.0000,-999.0000
    49MR0505_1,   P03,    77,  1,     36, X12048,2,20051112,0335, 24.2577,-142.5887, 4794,     10.6,2,  23.2104,2,  23.21101,2,  35.1538,2,  35.1537,2,   203.70,1,   215.88,2,     13.7,2,   215.83,2,   215.64,2,     1.24,2,     0.12,     0.02,2,     0.03,     0.00,2,     0.01,    0.105,2,    0.021,    1.801,2,    1.102,2, -999.000,5,   2001.4,2,   2317.2,2,   8.0711,6, -999.000,9, -999.000,   -999.0,9,   -999.0,  23.2082,  23.9900
    49MR0505_1,   P03,    77,  1,     35, X12047,2,20051112,0335, 24.2577,-142.5887, 4794,     50.6,2,  23.2201,2,  23.22064,2,  35.1531,2,  35.1566,2,   203.79,1,   215.86,2,     51.5,2,   215.59,2,   215.55,2,     1.19,2,     0.12,     0.03,2,     0.03,     0.00,2,     0.01,    0.110,2,    0.021,    1.808,2,    1.095,2, -999.000,5,   2002.0,6,   2318.5,2,   8.0713,2, -999.000,9, -999.000,   -999.0,9,   -999.0,  23.2097,  23.9891
    49MR0505_1,   P03,    77,  1,     34, X12046,2,20051112,0335, 24.2577,-142.5887, 4794,    100.7,2,  21.4242,2,  21.42519,2,  35.2028,2,  35.2013,2,   210.20,1,   222.94,2,    102.1,2,   219.16,2,   222.32,2,     1.44,2,     0.12,     0.02,2,     0.03,     0.00,2,     0.01,    0.070,2,    0.027,    2.050,2,    1.220,2, -999.000,5,   2016.7,2,   2315.6,6,   8.0446,2, -999.000,9, -999.000,   -999.0,9,   -999.0,  21.4047,  24.5375
    49MR0505_1,   P03,    77,  1,     33, X12003,2,20051112,0335, 24.2577,-142.5887, 4794,    150.4,2,  19.7769,2,  19.77557,2,  35.0258,2,  35.0245,2,   196.31,1,   207.64,2,    147.2,2,   205.82,2,   207.28,2,     1.94,2,     0.12,     0.70,2,     0.03,     0.10,2,     0.01,    0.152,2,    0.018,    2.182,2,    1.290,2, -999.000,5,   2034.9,2,   2302.4,2,   7.9964,6, -999.000,9, -999.000,   -999.0,9,   -999.0,  19.7493,  24.8473
    49MR0505_1,   P03,    77,  1,     32, X12044,2,20051112,0335, 24.2577,-142.5887, 4794,    200.6,2,  16.2109,2,  16.22266,2,  34.4992,2,  34.4861,2,   190.74,1,   201.62,2,    195.7,2,   203.07,2,   201.48,2,     4.16,2,     0.13,     4.24,2,     0.04,     0.01,2,     0.01,    0.407,2,    0.013,    2.568,2,    1.477,2, -999.000,5,   2049.4,2,   2268.2,2,   7.9142,2, -999.000,9, -999.000,   -999.0,9,   -999.0,  16.1790,  25.3214
    49MR0505_1,   P03,    77,  1,     31, X12051,2,20051112,0335, 24.2577,-142.5887, 4794,    249.9,2,  12.7745,2,  12.77531,2,  34.1268,2,  34.1255,2,   198.29,1,   208.59,2,    249.2,2,   210.89,2,   208.65,2,     8.13,2,     0.14,     8.67,2,     0.06,     0.00,2,     0.01,    0.709,2,    0.013,    2.930,6,    1.650,6,    0.105,4,   2064.2,2,   2248.7,2,   7.8472,2, -999.000,9, -999.000,   -999.0,9,   -999.0,  12.7407,  25.7678
    49MR0505_1,   P03,    77,  1,     30, X12042,2,20051112,0335, 24.2577,-142.5887, 4794,    300.8,2,  10.8264,2,  10.84658,2,  34.0829,2,  34.0851,2,   195.01,1,   205.57,2,    298.5,2,   207.79,2,   206.20,2,    13.97,2,     0.15,    13.44,2,     0.07,     0.00,2,     0.01,    1.009,2,    0.013,    3.094,2,    1.708,2,    0.109,2,   2091.1,2,   2250.8,2,   7.7914,2, -999.000,9, -999.000,   -999.0,9,   -999.0,  10.7899,  26.0988
    49MR0505_1,   P03,    77,  1,     29, X12041,2,20051112,0335, 24.2577,-142.5887, 4794,    399.9,2,   8.6882,2,   8.68418,2,  34.0758,2,  34.0770,2,   158.39,1,   166.31,2,    394.1,2,   166.18,2,   166.26,2,    29.58,2,     0.18,    22.22,2,     0.10,     0.00,2,     0.01,    1.615,2,    0.014,    2.771,2,    1.420,2,    0.113,2,   2151.8,2,   2264.5,2,   7.6694,2, -999.000,9, -999.000,   -999.0,9,   -999.0,   8.6457,  26.4500
    49MR0505_1,   P03,    77,  1,     28, X12016,2,20051112,0335, 24.2577,-142.5887, 4794,    500.5,2,   6.5121,2,   6.51285,2,  34.0180,2,  34.0195,6,   107.88,1,   113.62,2,    493.4,2,   106.90,2,   113.63,2,    53.01,2,     0.24,    31.40,2,     0.12,     0.00,2,     0.01,    2.277,2,    0.016,    1.738,2,    0.832,2,    0.066,2,   2220.0,2,   2278.3,2,   7.5256,2, -999.000,9, -999.000,   -999.0,9,   -999.0,   6.4668,  26.7167
    49MR0505_1,   P03,    77,  1,     27, X12039,2,20051112,0335, 24.2577,-142.5887, 4794,    601.8,2,   5.2655,2,   5.26878,2,  34.0988,2,  34.0995,2,    47.74,1,    50.42,2,    595.9,2,    44.70,2,    50.03,2,    78.56,2,     0.29,    39.14,2,     0.14,     0.00,2,     0.01,    2.861,2,    0.017,    0.464,2,    0.246,2,    0.019,2,   2290.3,2,   2302.9,2,   7.3929,2, -999.000,9, -999.000,   -999.0,9,   -999.0,   5.2163,  26.9357
    49MR0505_1,   P03,    77,  1,     26, X12038,2,20051112,0335, 24.2577,-142.5887, 4794,    698.2,2,   4.7116,2,   4.71178,2,  34.2151,2,  34.2169,2,    20.70,1,    21.79,2,    690.7,2,    18.78,2,    21.58,2,    95.51,2,     0.33,    42.25,2,     0.15,     0.00,2,     0.01,    3.127,2,    0.018,    0.087,2,    0.052,2,    0.012,2,   2326.4,6,   2326.0,2,   7.3462,2, -999.000,9, -999.000,   -999.0,9,   -999.0,   4.6568,  27.0916
    49MR0505_1,   P03,    77,  1,     25, X12037,2,20051112,0335, 24.2577,-142.5887, 4794,    799.8,2,   4.3744,2,   4.37442,2,  34.3379,2,  34.3381,2,    16.71,1,    17.81,2,    794.5,2,    18.92,2,    17.55,2,   105.43,2,     0.35,    43.21,2,     0.15,     0.00,2,     0.01,    3.202,2,    0.018,    0.016,6,    0.011,6,    0.000,6,   2344.5,2,   2344.8,6,   7.3534,2, -999.000,9, -999.000,   -999.0,9,   -999.0,   4.3130,  27.2266
    49MR0505_1,   P03,    77,  1,     24, X12008,2,20051112,0335, 24.2577,-142.5887, 4794,    900.0,2,   4.2608,2,   4.26090,2,  34.4449,2,  34.4452,2,    27.38,1,    28.86,2,    897.5,2,    30.45,2,    28.84,2,   107.36,2,     0.36,    42.99,2,     0.15,     0.00,2,     0.01,    3.149,2,    0.018,    0.005,2,    0.003,2,    0.000,2,   2344.7,2,   2359.7,2,   7.3958,6, -999.000,9, -999.000,   -999.0,9,   -999.0,   4.1917,  27.3245
    49MR0505_1,   P03,    77,  1,     23, X12035,2,20051112,0335, 24.2577,-142.5887, 4794,   1000.9,2,   4.0068,2,   4.00678,2,  34.4881,2,  34.4881,6,    34.67,1,    36.28,2,   1000.1,2,    37.34,2,    36.43,2,   112.17,2,     0.37,    42.82,2,     0.15,     0.00,2,     0.01,    3.134,2,    0.018,    0.002,2,    0.002,2,    0.000,2,   2346.4,2,   2365.2,2,   7.3894,2, -999.000,9, -999.000,   -999.0,9,   -999.0,   3.9310,  27.3861
    49MR0505_1,   P03,    77,  1,     22, X12034,2,20051112,0335, 24.2577,-142.5887, 4794,   1200.2,2,   3.5410,2,   3.54137,2,  34.5277,2,  34.5276,2,    42.82,1,    45.05,2,   1198.6,2,    46.46,2,    45.25,2,   122.25,2,     0.39,    42.63,2,     0.15,     0.00,2,     0.01,    3.111,2,    0.018,    0.000,2,    0.000,2,    0.000,2,   2355.0,2,   2376.9,2,   7.4206,2, -999.000,9, -999.000,   -999.0,9,   -999.0,   3.4526,  27.4654
    49MR0505_1,   P03,    77,  1,     21, X12033,2,20051112,0335, 24.2577,-142.5887, 4794,   1402.0,2,   3.0888,2,   3.08958,2,  34.5573,2,  34.5573,2,    51.08,1,    53.79,2,   1401.4,2,    54.56,2,    54.03,2,   133.00,2,     0.41,    42.32,2,     0.15,     0.00,2,     0.01,    3.073,2,    0.018,    0.000,2,    0.000,2,    0.000,2,   2359.3,2,   2389.6,2,   7.4325,2, -999.000,9, -999.000,   -999.0,9,   -999.0,   2.9882,  27.5328
    49MR0505_1,   P03,    77,  1,     20, X12032,2,20051112,0335, 24.2577,-142.5887, 4794,   4855.4,2,   1.4894,2,   1.48936,2,  34.6924,2,  34.6925,2,   154.26,1,   160.41,2,   4855.4,2,   160.06,2,   160.22,2,   146.66,2,     0.44,    35.57,2,     0.13,     0.00,2,     0.01,    2.480,2,    0.016, -999.000,9, -999.000,9, -999.000,9,   2316.3,2,   2417.2,2,   7.6034,2, -999.000,9, -999.000,   -999.0,9,   -999.0,   1.0729,  27.7933
    49MR0505_1,   P03,    77,  1,     19, X12001,2,20051112,0335, 24.2577,-142.5887, 4794,   1801.9,2,   2.3681,2,   2.36865,2,  34.6058,2,  34.6060,2,    68.98,1,    73.23,2,   1804.2,2,    71.58,2,    73.25,2,   151.14,2,     0.45,    41.30,2,     0.15,     0.00,2,     0.01,    2.968,2,    0.017,    0.001,2,    0.001,2,    0.000,2,   2365.3,2,   2406.2,2,   7.4665,2, -999.000,9, -999.000,   -999.0,9,   -999.0,   2.2430,  27.6362
    49MR0505_1,   P03,    77,  1,     18, X12030,2,20051112,0335, 24.2577,-142.5887, 4794,   2001.0,2,   2.1224,2,   2.12246,2,  34.6196,2,  34.6197,6,    78.33,1,    83.16,2,   2002.4,2,    82.46,2,    83.13,2,   157.16,2,     0.46,    40.65,2,     0.15,     0.00,2,     0.01,    2.903,2,    0.017,    0.000,2,    0.000,2,    0.000,2,   2363.8,2,   2413.0,2,   7.4834,2, -999.000,9, -999.000,   -999.0,9,   -999.0,   1.9841,  27.6682
    49MR0505_1,   P03,    77,  1,     17, X12049,2,20051112,0335, 24.2577,-142.5887, 4794,   2200.0,2,   1.9275,2,   1.92752,2,  34.6339,2,  34.6340,2,    86.51,1,    92.11,2,   2201.9,2,    90.70,2,    92.15,2,   161.77,2,     0.47,    40.12,2,     0.15,     0.00,2,     0.01,    2.855,2,    0.017,    0.002,2,    0.004,2,    0.000,2,   2362.7,2,   2417.8,2,   7.4982,2, -999.000,9, -999.000,   -999.0,9,   -999.0,   1.7752,  27.6958
    49MR0505_1,   P03,    77,  1,     16, X12028,2,20051112,0335, 24.2577,-142.5887, 4794,   2401.0,2,   1.7928,2,   1.79287,2,  34.6453,2,  34.6457,2,    94.00,1,   100.15,2,   2401.9,2,    99.42,2,   100.10,2,   164.62,2,     0.48,    39.64,2,     0.14,     0.00,2,     0.01,    2.806,2,    0.017, -999.000,9, -999.000,9, -999.000,9,   2360.4,6,   2423.9,2,   7.5131,2, -999.000,9, -999.000,   -999.0,9,   -999.0,   1.6252,  27.7163
    49MR0505_1,   P03,    77,  1,     15, X12009,2,20051112,0335, 24.2577,-142.5887, 4794,   2601.0,2,   1.6995,2,   1.69965,2,  34.6538,2,  34.6540,2,   100.50,1,   107.10,2,   2601.2,2,   107.13,2,   106.98,2,   166.03,2,     0.48,    39.17,2,     0.14,     0.00,2,     0.01,    2.769,2,    0.017,    0.000,2,    0.000,2,    0.000,2,   2357.6,2,   2424.4,6,   7.5240,2, -999.000,9, -999.000,   -999.0,9,   -999.0,   1.5157,  27.7312
    49MR0505_1,   P03,    77,  1,     14, X12026,2,20051112,0335, 24.2577,-142.5887, 4794,   2802.1,2,   1.6036,2,   1.60363,2,  34.6630,2,  34.6633,2,   108.74,1,   115.79,2,   2802.9,2,   114.91,2,   115.90,2,   166.86,2,     0.49,    38.59,2,     0.14,     0.00,2,     0.01,    2.722,2,    0.017, -999.000,9, -999.000,9, -999.000,9,   2352.6,2,   2424.0,2,   7.5403,2, -999.000,9, -999.000,   -999.0,9,   -999.0,   1.4033,  27.7467
    49MR0505_1,   P03,    77,  1,     13, X12025,2,20051112,0335, 24.2577,-142.5887, 4794,   3000.2,2,   1.5509,2,   1.55088,2,  34.6695,2,  34.6696,2,   115.59,1,   123.33,2,   3000.8,2,   122.25,2,   123.04,2,   166.02,2,     0.48,    38.24,2,     0.14,     0.00,2,     0.01,    2.683,2,    0.017,    0.001,2,    0.000,2,    0.000,2,   2348.9,2,   2425.9,2,   7.5522,2, -999.000,9, -999.000,   -999.0,9,   -999.0,   1.3330,  27.7569
    49MR0505_1,   P03,    77,  1,     12, X12024,2,20051112,0335, 24.2577,-142.5887, 4794,   3251.2,2,   1.5032,2,   1.50322,2,  34.6760,2,  34.6760,6,   123.36,1,   131.61,2,   3251.3,2,   131.38,2,   131.28,2,   163.23,2,     0.48,    37.61,2,     0.14,     0.00,2,     0.01,    2.626,2,    0.017, -999.000,9, -999.000,9, -999.000,9,   2344.0,2,   2424.4,2,   7.5664,2, -999.000,9, -999.000,   -999.0,9,   -999.0,   1.2620,  27.7671
    49MR0505_1,   P03,    77,  1,     11, X12023,2,20051112,0335, 24.2577,-142.5887, 4794,   3500.9,2,   1.4791,2,   1.47909,2,  34.6806,2,  34.6807,2,   129.63,1,   137.90,2,   3501.1,2,   137.62,2,   137.56,2,   161.60,2,     0.47,    37.17,2,     0.14,     0.00,2,     0.01,    2.602,2,    0.016,    0.000,2,    0.000,2,    0.000,2,   2338.6,2,   2423.3,2,   7.5776,2, -999.000,9, -999.000,   -999.0,9,   -999.0,   1.2134,  27.7742
    49MR0505_1,   P03,    77,  1,     10, X12022,2,20051112,0335, 24.2577,-142.5887, 4794,   3751.1,2,   1.4727,2,   1.47268,2,  34.6834,2,  34.6831,2,   133.93,1,   142.07,2,   3751.2,2,   142.24,2,   141.89,2,   159.84,2,     0.47,    36.93,2,     0.14,     0.00,2,     0.01,    2.575,2,    0.016, -999.000,9, -999.000,9, -999.000,9,   2335.5,2,   2428.0,3,   7.5843,2, -999.000,9, -999.000,   -999.0,9,   -999.0,   1.1812,  27.7787
    49MR0505_1,   P03,    77,  1,      9, X12021,5,20051112,0335, 24.2577,-142.5887, 4794,   3999.9,2,   1.4698,2,   1.46982,2,  34.6862,2,  34.6858,2,   138.71,1,   146.42,2,   4000.1,2,   146.45,2,   146.47,2,   157.07,2,     0.46,    36.58,2,     0.14,     0.00,2,     0.01,    2.550,2,    0.016,    0.005,2,    0.007,2,    0.000,2,   2330.8,2,   2421.9,2,   7.5913,2, -999.000,9, -999.000,   -999.0,9,   -999.0,   1.1518,  27.7830
    49MR0505_1,   P03,    77,  1,      8, X12020,2,20051112,0335, 24.2577,-142.5887, 4794,   4251.6,2,   1.4809,2,   1.48094,2,  34.6880,2,  34.6878,6,   142.09,1,   149.77,2,   4251.7,2,   149.79,2,   149.66,2,   155.35,2,     0.46,    36.29,2,     0.13,     0.00,2,     0.01,    2.530,2,    0.016, -999.000,9, -999.000,9, -999.000,9,   2328.8,6,   2418.8,2,   7.5954,2, -999.000,9, -999.000,   -999.0,9,   -999.0,   1.1347,  27.7855
    49MR0505_1,   P03,    77,  1,      7, X12019,2,20051112,0335, 24.2577,-142.5887, 4794,   4500.7,2,   1.4976,2,   1.49766,2,  34.6890,2,  34.6893,2,   144.94,1,   152.19,2,   4500.8,2,   151.96,2,   151.79,2,   153.60,2,     0.46,    36.21,2,     0.13,     0.00,2,     0.01,    2.516,2,    0.016,    0.007,2,    0.010,2,    0.000,2,   2326.7,2,   2420.0,6,   7.5981,2, -999.000,9, -999.000,   -999.0,9,   -999.0,   1.1226,  27.7872
    49MR0505_1,   P03,    77,  1,      6, X12018,2,20051112,0335, 24.2577,-142.5887, 4794,   4750.9,2,   1.4918,2,   1.49180,2,  34.6913,2,  34.6915,2,   151.27,1,   157.81,2,   4750.9,2,   157.57,2,   157.54,2,   148.54,2,     0.45,    35.80,2,     0.13,     0.00,2,     0.01,    2.494,2,    0.016, -999.000,9, -999.000,9, -999.000,9,   2321.6,2,   2414.1,2,   7.6053,6, -999.000,9, -999.000,   -999.0,9,   -999.0,   1.0877,  27.7914
    49MR0505_1,   P03,    77,  1,      5, X12043,9,20051112,0335, 24.2577,-142.5887, 4794,    100.4,2,  21.4198,2,  21.41906,2,  35.2033,2,-999.0000,9,   210.31,1,   222.77,2,    102.1,2,   219.16,2,  -999.00,9,  -999.00,9,  -999.00,  -999.00,9,  -999.00,  -999.00,9,  -999.00, -999.000,9, -999.000, -999.000,9, -999.000,9, -999.000,9,   -999.0,9,   -999.0,9,-999.0000,9, -999.000,9, -999.000,   -999.0,9,   -999.0,  21.4003,  24.5391
    49MR0505_1,   P03,    77,  1,      4, X12010,9,20051112,0335, 24.2577,-142.5887, 4794,     50.5,2,  23.2197,2,  23.22059,2,  35.1549,2,-999.0000,9,   203.63,1,   215.65,2,     51.6,2,   215.55,2,  -999.00,9,  -999.00,9,  -999.00,  -999.00,9,  -999.00,  -999.00,9,  -999.00, -999.000,9, -999.000, -999.000,9, -999.000,9, -999.000,9,   -999.0,9,   -999.0,9,-999.0000,9, -999.000,9, -999.000,   -999.0,9,   -999.0,  23.2093,  23.9905
    49MR0505_1,   P03,    77,  1,      3, X12015,9,20051112,0335, 24.2577,-142.5887, 4794,     10.8,2,  23.2141,2,  23.21396,2,  35.1543,2,-999.0000,9,   203.77,1,   215.99,2,     13.8,2,   215.82,2,  -999.00,9,  -999.00,9,  -999.00,  -999.00,9,  -999.00,  -999.00,9,  -999.00, -999.000,9, -999.000, -999.000,9, -999.000,9, -999.000,9,   -999.0,9,   -999.0,9,-999.0000,9, -999.000,9, -999.000,   -999.0,9,   -999.0,  23.2119,  23.9894
    49MR0505_1,   P03,    77,  1,      2, X12014,2,20051112,0335, 24.2577,-142.5887, 4794,   1599.1,2,   2.7112,2,   2.71081,2,  34.5823,2,  34.5825,2,    58.42,1,    61.77,2,   1599.7,2,    61.79,2,    61.78,2,   142.93,2,     0.43,    42.00,2,     0.15,    -0.01,2,     0.01,    3.033,2,    0.018,    0.002,2,    0.004,2,    0.000,2,   2364.6,2,   2399.7,2,   7.4489,6, -999.000,9, -999.000,   -999.0,9,   -999.0,   2.5985,  27.5874
    49MR0505_1,   P03,    77,  1,      1, X12013,2,20051112,0335, 24.2577,-142.5887, 4794,   4855.0,2,   1.4894,2,   1.48932,2,  34.6922,2,  34.6927,6,   154.34,1,   160.52,2,   4855.0,2,   160.15,2,   160.09,2,   146.73,2,     0.44,    35.55,2,     0.13,     0.00,2,     0.01,    2.488,2,    0.016,    0.001,2,    0.003,2,    0.000,2,   2316.5,2,   2411.5,2,   7.6052,2, -999.000,9, -999.000,   -999.0,9,   -999.0,   1.0730,  27.7931