BOTTLE,20100316JAMSTECRIGC
EXPOCODE,SECT,STNNBR,CASTNO,SAMPNO,BTLNBR,BTLNBR_FLAG_W,DATE,TIME,LATITUDE,LONGITUDE,DEPTH,CTDPRS,CTDPRS_FLAG_W,CTDTMP,CTDTMP_FLAG_W,SBE35,SBE35_FLAG_W,CTDSAL,CTDSAL_FLAG_W,SALNTY,SALNTY_FLAG_W,CTDOXY,CTDOXY_FLAG_W,OPTOXY,OPTOXY_FLAG_W,DWNPRS,DWNPRS_FLAG_W,DWNOXY,DWNOXY_FLAG_W,OXYGEN,OXYGEN_FLAG_W,SILCAT,SILCAT_FLAG_W,SILUNC,NITRAT,NITRAT_FLAG_W,NRAUNC,NITRIT,NITRIT_FLAG_W,NRIUNC,PHSPHT,PHSPHT_FLAG_W,PHPUNC,CFC-11,CFC-11_FLAG_W,CFC-12,CFC-12_FLAG_W,CFC113,CFC113_FLAG_W,TCARBN,TCARBN_FLAG_W,ALKALI,ALKALI_FLAG_W,PH,PH_FLAG_W,DELC13,DELC13_FLAG_W,C13ERR,DELC14,DELC14_FLAG_W,C14ERR,THETA,SIG0
,,,,,,,,UTC,DEG,DEG,M,DBAR,,ITS-90,,ITS-90,,PSS-78,,PSS-78,,UMOL/KG,,UMOL/KG,,DBAR,,UMOL/KG,,UMOL/KG,,UMOL/KG,,UMOL/KG,UMOL/KG,,UMOL/KG,UMOL/KG,,UMOL/KG,UMOL/KG,,UMOL/KG,PMOL/KG,,PMOL/KG,,PMOL/KG,,UMOL/KG,,UMOL/KG,,,,/MILLE,,/MILLE,/MILLE,,/MILLE,DEG C,KG/CUM
    49MR0505_1,   P03,    40,  1,      0,   -999,9,20051105,0819, 26.6667,-126.9680, 4522,   -999.0,9,-999.0000,9,-999.00000,9,-999.0000,9,  34.1896,2,  -999.00,9,  -999.00,9,   -999.0,9,  -999.00,9,  -999.00,9,  -999.00,9,  -999.00,  -999.00,9,  -999.00,  -999.00,9,  -999.00, -999.000,9, -999.000, -999.000,9, -999.000,9, -999.000,9,   -999.0,9,   -999.0,9,-999.0000,9, -999.000,9, -999.000,   -999.0,9,   -999.0,-999.0000,-999.0000
    49MR0505_1,   P03,    40,  1,     36, X12048,2,20051105,0819, 26.6667,-126.9680, 4522,     10.3,2,  20.7452,2,  20.74626,2,  34.1858,2,  34.1848,2,   217.85,1,   227.84,2,     13.8,2,   227.53,2,   227.49,2,     1.53,2,     0.12,     0.05,2,     0.03,     0.01,2,     0.01,    0.229,2,    0.015,    2.074,2,    1.244,2, -999.000,5,   -999.0,9,   -999.0,9,-999.0000,9, -999.000,9, -999.000,   -999.0,9,   -999.0,  20.7433,  23.9434
    49MR0505_1,   P03,    40,  1,     35, X12047,2,20051105,0819, 26.6667,-126.9680, 4522,     50.5,2,  20.7502,2,  20.75054,2,  34.1853,2,  34.1847,2,   217.96,1,   227.57,2,     48.2,2,   227.93,2,   227.44,2,     1.52,2,     0.12,     0.04,2,     0.03,     0.01,2,     0.01,    0.229,2,    0.015,    2.081,2,    1.241,2, -999.000,5,   -999.0,9,   -999.0,9,-999.0000,9, -999.000,9, -999.000,   -999.0,9,   -999.0,  20.7407,  23.9437
    49MR0505_1,   P03,    40,  1,     34, X12046,2,20051105,0819, 26.6667,-126.9680, 4522,     99.4,2,  19.0232,2,  19.02044,2,  34.0293,2,  34.0528,2,   230.37,1,   240.60,2,     97.9,2,   239.21,2,   239.33,2,     1.59,2,     0.12,     0.05,2,     0.03,     0.01,2,     0.01,    0.224,2,    0.015,    2.334,2,    1.367,2, -999.000,5,   -999.0,9,   -999.0,9,-999.0000,9, -999.000,9, -999.000,   -999.0,9,   -999.0,  19.0056,  24.2779
    49MR0505_1,   P03,    40,  1,     33, X12003,2,20051105,0819, 26.6667,-126.9680, 4522,    150.7,2,  17.0573,2,  17.05812,2,  34.2334,2,  34.1947,2,   213.74,1,   222.91,2,    150.8,2,   220.28,2,   221.68,2,     2.75,2,     0.13,     1.12,2,     0.04,     0.12,2,     0.01,    0.305,2,    0.014,    2.583,2,    1.478,2, -999.000,5,   -999.0,9,   -999.0,9,-999.0000,9, -999.000,9, -999.000,   -999.0,9,   -999.0,  17.0325,  24.9182
    49MR0505_1,   P03,    40,  1,     32, X12044,2,20051105,0819, 26.6667,-126.9680, 4522,    200.9,2,  11.4211,2,  11.42768,2,  33.6276,2,  33.6281,2,   197.70,1,   204.62,2,    207.9,2,   206.10,2,   203.60,2,    10.17,2,     0.14,    11.14,2,     0.06,     0.01,2,     0.01,    0.970,2,    0.013,    3.252,2,    1.734,2,    0.181,2,   -999.0,9,   -999.0,9,-999.0000,9, -999.000,9, -999.000,   -999.0,9,   -999.0,  11.3961,  25.6353
    49MR0505_1,   P03,    40,  1,     31, X12051,2,20051105,0819, 26.6667,-126.9680, 4522,    252.4,2,   9.5474,2,   9.54916,2,  33.8894,2,  33.8830,2,   158.23,1,   164.96,2,    260.4,2,   170.46,2,   166.28,2,    21.35,2,     0.17,    19.83,2,     0.09,     0.01,2,     0.01,    1.525,2,    0.014,    3.166,2,    1.610,2,    0.119,2,   -999.0,9,   -999.0,9,-999.0000,9, -999.000,9, -999.000,   -999.0,9,   -999.0,   9.5193,  26.1648
    49MR0505_1,   P03,    40,  1,     30, X12042,2,20051105,0819, 26.6667,-126.9680, 4522,    300.4,2,   8.9580,2,   8.95833,2,  34.0689,2,  34.0713,2,   120.79,1,   126.00,2,    303.6,2,   128.79,2,   126.16,2,    30.81,2,     0.19,    25.05,2,     0.10,     0.01,2,     0.01,    1.908,2,    0.015,    2.583,2,    1.227,2,    0.089,2,   -999.0,9,   -999.0,9,-999.0000,9, -999.000,9, -999.000,   -999.0,9,   -999.0,   8.9257,  26.4008
    49MR0505_1,   P03,    40,  1,     29, X12041,2,20051105,0819, 26.6667,-126.9680, 4522,    400.0,2,   7.6812,2,   7.68110,2,  34.1817,2,  34.1843,2,    60.39,1,    62.34,2,    398.5,2,    60.82,2,    61.05,2,    49.09,2,     0.23,    32.48,2,     0.12,     0.01,2,     0.01,    2.557,2,    0.016,    1.200,2,    0.548,2,    0.046,2,   -999.0,9,   -999.0,9,-999.0000,9, -999.000,9, -999.000,   -999.0,9,   -999.0,   7.6416,  26.6837
    49MR0505_1,   P03,    40,  1,     28, X12016,2,20051105,0819, 26.6667,-126.9680, 4522,    501.7,2,   6.7944,2,   6.79422,2,  34.2842,2,  34.2837,6,    21.72,1,    22.62,2,    498.7,2,    21.03,2,    22.08,2,    64.68,2,     0.26,    36.88,2,     0.14,     0.00,2,     0.01,    2.959,2,    0.017,    0.314,2,    0.142,2,    0.000,2,   -999.0,9,   -999.0,9,-999.0000,9, -999.000,9, -999.000,   -999.0,9,   -999.0,   6.7477,  26.8893
    49MR0505_1,   P03,    40,  1,     27, X12039,2,20051105,0819, 26.6667,-126.9680, 4522,    599.8,2,   6.1395,2,   6.13918,2,  34.3405,2,  34.3402,2,    11.25,1,    11.81,2,    595.2,2,    11.34,2,    11.16,2,    76.10,2,     0.29,    39.36,2,     0.14,     0.00,2,     0.01,    3.128,2,    0.018,    0.094,2,    0.051,2,    0.000,2,   -999.0,9,   -999.0,9,-999.0000,9, -999.000,9, -999.000,   -999.0,9,   -999.0,   6.0862,  27.0206
    49MR0505_1,   P03,    40,  1,     26, X12038,2,20051105,0819, 26.6667,-126.9680, 4522,    703.6,2,   5.5326,2,   5.53300,2,  34.3953,2,  34.3941,2,     9.11,1,     9.56,2,    701.3,2,     9.95,2,     8.81,2,    86.26,2,     0.31,    41.30,2,     0.15,     0.01,2,     0.01,    3.215,2,    0.018,    0.018,2,    0.010,2,    0.000,2,   -999.0,9,   -999.0,9,-999.0000,9, -999.000,9, -999.000,   -999.0,9,   -999.0,   5.4727,  27.1401
    49MR0505_1,   P03,    40,  1,     25, X12037,2,20051105,0819, 26.6667,-126.9680, 4522,    801.6,2,   4.9821,2,   4.98228,2,  34.4306,2,  34.4300,2,    11.77,1,    12.03,2,    800.4,2,    13.79,2,    11.85,2,    95.88,2,     0.33,    42.73,2,     0.15,     0.01,2,     0.01,    3.250,2,    0.018,    0.014,6,    0.007,6,    0.000,6,   -999.0,9,   -999.0,9,-999.0000,9, -999.000,9, -999.000,   -999.0,9,   -999.0,   4.9167,  27.2334
    49MR0505_1,   P03,    40,  1,     24, X12008,2,20051105,0819, 26.6667,-126.9680, 4522,    899.2,2,   4.5173,2,   4.51718,2,  34.4482,2,  34.4497,2,    19.03,1,    19.33,2,    898.0,2,    20.09,2,    19.28,2,   103.50,2,     0.35,    43.41,2,     0.15,     0.01,2,     0.01,    3.220,2,    0.018,    0.008,2,    0.004,2,    0.000,2,   -999.0,9,   -999.0,9,-999.0000,9, -999.000,9, -999.000,   -999.0,9,   -999.0,   4.4464,  27.2998
    49MR0505_1,   P03,    40,  1,     23, X12035,2,20051105,0819, 26.6667,-126.9680, 4522,   1001.5,2,   4.2003,2,   4.19986,2,  34.4859,2,  34.4861,6,    21.45,1,    21.85,2,   1001.1,2,    23.15,2,    21.79,2,   111.02,2,     0.36,    43.55,2,     0.15,     0.01,2,     0.01,    3.243,2,    0.018,    0.008,2,    0.006,2,    0.000,2,   -999.0,9,   -999.0,9,-999.0000,9, -999.000,9, -999.000,   -999.0,9,   -999.0,   4.1230,  27.3643
    49MR0505_1,   P03,    40,  1,     22, X12034,2,20051105,0819, 26.6667,-126.9680, 4522,   1201.3,2,   3.6217,2,   3.62115,2,  34.5260,2,  34.5259,2,    30.64,1,    31.05,2,   1201.3,2,    32.00,2,    31.53,2,   124.58,2,     0.39,    43.53,2,     0.15,     0.01,2,     0.01,    3.213,2,    0.018,    0.017,2,    0.008,2,    0.000,2,   -999.0,9,   -999.0,9,-999.0000,9, -999.000,9, -999.000,   -999.0,9,   -999.0,   3.5324,  27.4562
    49MR0505_1,   P03,    40,  1,     21, X12033,2,20051105,0819, 26.6667,-126.9680, 4522,   1402.1,2,   3.1464,2,   3.14632,2,  34.5582,2,  34.5584,2,    40.09,1,    40.85,2,   1403.0,2,    41.45,2,    41.52,2,   136.02,2,     0.42,    43.11,2,     0.15,     0.01,2,     0.01,    3.163,2,    0.018,    0.006,2,    0.006,2,    0.008,2,   -999.0,9,   -999.0,9,-999.0000,9, -999.000,9, -999.000,   -999.0,9,   -999.0,   3.0451,  27.5283
    49MR0505_1,   P03,    40,  1,     20, X12032,2,20051105,0819, 26.6667,-126.9680, 4522,   1602.3,2,   2.7321,2,   2.73175,2,  34.5848,2,  34.5846,2,    52.38,1,    53.77,2,   1603.2,2,    54.03,2,    54.52,2,   145.66,2,     0.44,    42.38,2,     0.15,     0.01,2,     0.01,    3.085,2,    0.018,    0.005,2,    0.002,2,    0.000,2,   -999.0,9,   -999.0,9,-999.0000,9, -999.000,9, -999.000,   -999.0,9,   -999.0,   2.6189,  27.5877
    49MR0505_1,   P03,    40,  1,     19, X12001,2,20051105,0819, 26.6667,-126.9680, 4522,   1802.2,2,   2.3986,2,   2.39879,2,  34.6068,2,  34.6069,2,    65.29,1,    67.44,2,   1803.8,2,    66.83,2,    67.83,2,   152.77,2,     0.46,    41.67,2,     0.15,     0.01,2,     0.01,    3.004,2,    0.017,    0.004,2,    0.000,2,    0.000,2,   -999.0,9,   -999.0,9,-999.0000,9, -999.000,9, -999.000,   -999.0,9,   -999.0,   2.2730,  27.6346
    49MR0505_1,   P03,    40,  1,     18, X12030,2,20051105,0819, 26.6667,-126.9680, 4522,   2000.2,2,   2.1865,2,   2.18643,2,  34.6240,2,  34.6241,2,    75.69,1,    78.58,2,   2000.2,2,    79.66,2,    78.85,2,   157.08,2,     0.46,    40.95,2,     0.15,     0.01,2,     0.01,    2.936,2,    0.017,    0.000,2,    0.000,2,    0.000,2,   -999.0,9,   -999.0,9,-999.0000,9, -999.000,9, -999.000,   -999.0,9,   -999.0,   2.0472,  27.6667
    49MR0505_1,   P03,    40,  1,     17, X12049,2,20051105,0819, 26.6667,-126.9680, 4522,   2200.1,2,   2.0072,2,   2.00724,2,  34.6385,2,  34.6388,2,    86.06,1,    89.57,2,   2200.5,2,    89.96,2,    90.02,2,   159.56,2,     0.47,    40.34,2,     0.15,     0.01,2,     0.01,    2.873,2,    0.017,    0.001,2,    0.000,2,    0.000,2,   -999.0,9,   -999.0,9,-999.0000,9, -999.000,9, -999.000,   -999.0,9,   -999.0,   1.8535,  27.6935
    49MR0505_1,   P03,    40,  1,     16, X12028,2,20051105,0819, 26.6667,-126.9680, 4522,   2401.6,2,   1.8735,2,   1.87352,2,  34.6482,2,  34.6484,6,    94.28,1,    98.14,2,   2401.7,2,    98.69,2,    98.52,2,   161.88,2,     0.48,    39.81,2,     0.14,     0.01,2,     0.01,    2.822,2,    0.017, -999.000,9, -999.000,9, -999.000,9,   -999.0,9,   -999.0,9,-999.0000,9, -999.000,9, -999.000,   -999.0,9,   -999.0,   1.7044,  27.7127
    49MR0505_1,   P03,    40,  1,     15, X12006,3,20051105,0819, 26.6667,-126.9680, 4522,   2601.2,2,   1.7608,2,   1.76036,2,  34.6542,2,  34.6543,2,   100.04,1,   104.07,2,   2601.4,2,   104.81,2,   104.82,2,   165.04,2,     0.48,    39.35,2,     0.14,     0.01,2,     0.01,    2.787,2,    0.017, -999.000,9, -999.000,9, -999.000,9,   -999.0,9,   -999.0,9,-999.0000,9, -999.000,9, -999.000,   -999.0,9,   -999.0,   1.5758,  27.7271
    49MR0505_1,   P03,    40,  1,     14, X12026,2,20051105,0819, 26.6667,-126.9680, 4522,   2800.3,2,   1.6507,2,   1.65066,2,  34.6627,2,  34.6629,2,   107.97,1,   112.53,2,   2801.1,2,   112.04,2,   112.96,2,   167.20,2,     0.49,    38.84,2,     0.14,     0.01,2,     0.01,    2.745,2,    0.017, -999.000,9, -999.000,9, -999.000,9,   -999.0,9,   -999.0,9,-999.0000,9, -999.000,9, -999.000,   -999.0,9,   -999.0,   1.4496,  27.7431
    49MR0505_1,   P03,    40,  1,     13, X12025,2,20051105,0819, 26.6667,-126.9680, 4522,   3002.0,2,   1.5777,2,   1.57780,2,  34.6675,2,  34.6673,2,   113.51,1,   118.22,2,   3002.3,2,   118.65,2,   118.73,2,   168.74,2,     0.49,    38.47,2,     0.14,     0.01,2,     0.01,    2.714,2,    0.017,    0.000,2,    0.002,2,    0.000,2,   -999.0,9,   -999.0,9,-999.0000,9, -999.000,9, -999.000,   -999.0,9,   -999.0,   1.3590,  27.7535
    49MR0505_1,   P03,    40,  1,     12, X12024,2,20051105,0819, 26.6667,-126.9680, 4522,   3251.2,2,   1.5232,2,   1.52310,2,  34.6741,2,  34.6739,2,   121.29,1,   126.33,2,   3251.5,2,   126.25,2,   126.56,2,   167.93,2,     0.49,    37.96,2,     0.14,     0.01,2,     0.01,    2.664,2,    0.017, -999.000,9, -999.000,9, -999.000,9,   -999.0,9,   -999.0,9,-999.0000,9, -999.000,9, -999.000,   -999.0,9,   -999.0,   1.2815,  27.7643
    49MR0505_1,   P03,    40,  1,     11, X12023,2,20051105,0819, 26.6667,-126.9680, 4522,   3503.8,2,   1.4988,2,   1.49865,2,  34.6790,2,  34.6787,2,   127.41,1,   132.27,2,   3503.7,2,   133.23,2,   132.81,2,   166.44,2,     0.49,    37.55,2,     0.14,     0.01,2,     0.01,    2.630,2,    0.017, -999.000,9, -999.000,9, -999.000,9,   -999.0,9,   -999.0,9,-999.0000,9, -999.000,9, -999.000,   -999.0,9,   -999.0,   1.2323,  27.7716
    49MR0505_1,   P03,    40,  1,     10, X12022,2,20051105,0819, 26.6667,-126.9680, 4522,   3752.2,2,   1.4938,2,   1.49376,2,  34.6823,2,  34.6820,2,   132.16,1,   136.95,2,   3752.2,2,   137.65,2,   137.43,2,   164.82,2,     0.48,    37.28,2,     0.14,     0.01,2,     0.01,    2.608,2,    0.016,    0.002,2,    0.006,2,    0.000,2,   -999.0,9,   -999.0,9,-999.0000,9, -999.000,9, -999.000,   -999.0,9,   -999.0,   1.2016,  27.7764
    49MR0505_1,   P03,    40,  1,      9, X12021,2,20051105,0819, 26.6667,-126.9680, 4522,   4001.2,2,   1.5047,2,   1.50467,2,  34.6843,2,  34.6840,2,   135.45,1,   139.75,2,   4001.1,2,   140.64,2,   140.32,2,   163.51,2,     0.48,    37.10,2,     0.14,     0.01,2,     0.01,    2.589,2,    0.016, -999.000,9, -999.000,9, -999.000,9,   -999.0,9,   -999.0,9,-999.0000,9, -999.000,9, -999.000,   -999.0,9,   -999.0,   1.1855,  27.7791
    49MR0505_1,   P03,    40,  1,      8, X12020,2,20051105,0819, 26.6667,-126.9680, 4522,   4250.1,2,   1.5284,2,   1.52824,2,  34.6851,2,  34.6851,6,   137.04,1,   140.86,2,   4250.2,2,   141.39,2,   141.36,2,   163.01,2,     0.48,    37.01,2,     0.14,     0.01,2,     0.01,    2.589,2,    0.016, -999.000,9, -999.000,9, -999.000,9,   -999.0,9,   -999.0,9,-999.0000,9, -999.000,9, -999.000,   -999.0,9,   -999.0,   1.1810,  27.7800
    49MR0505_1,   P03,    40,  1,      7, X12019,9,20051105,0819, 26.6667,-126.9680, 4522,    200.9,2,  11.4602,2,  11.46385,2,  33.6306,2,-999.0000,9,   197.75,1,   204.59,2,    207.4,2,   206.89,2,  -999.00,9,  -999.00,9,  -999.00,  -999.00,9,  -999.00,  -999.00,9,  -999.00, -999.000,9, -999.000, -999.000,9, -999.000,9, -999.000,9,   -999.0,9,   -999.0,9,-999.0000,9, -999.000,9, -999.000,   -999.0,9,   -999.0,  11.4351,  25.6305
    49MR0505_1,   P03,    40,  1,      6, X12018,9,20051105,0819, 26.6667,-126.9680, 4522,    150.6,2,  17.0431,2,  17.04791,2,  34.2319,2,-999.0000,9,   213.78,1,   223.26,2,    151.0,2,   220.21,2,  -999.00,9,  -999.00,9,  -999.00,  -999.00,9,  -999.00,  -999.00,9,  -999.00, -999.000,9, -999.000, -999.000,9, -999.000,9, -999.000,9,   -999.0,9,   -999.0,9,-999.0000,9, -999.000,9, -999.000,   -999.0,9,   -999.0,  17.0184,  24.9204
    49MR0505_1,   P03,    40,  1,      5, X12043,9,20051105,0819, 26.6667,-126.9680, 4522,    100.0,2,  18.9887,2,  18.99438,2,  34.0287,2,-999.0000,9,   229.84,1,   240.72,2,     98.7,2,   238.50,2,  -999.00,9,  -999.00,9,  -999.00,  -999.00,9,  -999.00,  -999.00,9,  -999.00, -999.000,9, -999.000, -999.000,9, -999.000,9, -999.000,9,   -999.0,9,   -999.0,9,-999.0000,9, -999.000,9, -999.000,   -999.0,9,   -999.0,  18.9710,  24.2863
    49MR0505_1,   P03,    40,  1,      4, X12010,9,20051105,0819, 26.6667,-126.9680, 4522,     49.8,2,  20.7472,2,  20.74884,2,  34.1853,2,-999.0000,9,   218.06,1,   227.58,2,     47.7,2,   227.84,2,  -999.00,9,  -999.00,9,  -999.00,  -999.00,9,  -999.00,  -999.00,9,  -999.00, -999.000,9, -999.000, -999.000,9, -999.000,9, -999.000,9,   -999.0,9,   -999.0,9,-999.0000,9, -999.000,9, -999.000,   -999.0,9,   -999.0,  20.7378,  23.9445
    49MR0505_1,   P03,    40,  1,      3, X12015,9,20051105,0819, 26.6667,-126.9680, 4522,     10.5,2,  20.7459,2,  20.74548,2,  34.1858,2,-999.0000,9,   218.06,1,   227.70,2,     14.0,2,   227.58,2,  -999.00,9,  -999.00,9,  -999.00,  -999.00,9,  -999.00,  -999.00,9,  -999.00, -999.000,9, -999.000, -999.000,9, -999.000,9, -999.000,9,   -999.0,9,   -999.0,9,-999.0000,9, -999.000,9, -999.000,   -999.0,9,   -999.0,  20.7439,  23.9432
    49MR0505_1,   P03,    40,  1,      2, X12014,2,20051105,0819, 26.6667,-126.9680, 4522,   4460.0,2,   1.5531,2,   1.55289,2,  34.6848,2,  34.6850,2,   137.83,1,   141.04,2,   4459.9,2,   141.30,2,   141.30,2,   163.36,2,     0.48,    37.04,2,     0.14,     0.01,2,     0.01,    2.592,2,    0.016, -999.000,9, -999.000,9, -999.000,9,   -999.0,9,   -999.0,9,-999.0000,9, -999.000,9, -999.000,   -999.0,9,   -999.0,   1.1811,  27.7798
    49MR0505_1,   P03,    40,  1,      1, X12013,2,20051105,0819, 26.6667,-126.9680, 4522,   4459.8,2,   1.5529,2,   1.55271,2,  34.6849,2,  34.6850,6,   137.83,1,   141.05,2,   4459.7,2,   141.30,2,   141.41,2,   163.10,2,     0.48,    37.03,2,     0.14,     0.01,2,     0.01,    2.593,2,    0.016,    0.005,2,    0.011,2,    0.000,2,   -999.0,9,   -999.0,9,-999.0000,9, -999.000,9, -999.000,   -999.0,9,   -999.0,   1.1809,  27.7799