BOTTLE,20100316JAMSTECRIGC
EXPOCODE,SECT,STNNBR,CASTNO,SAMPNO,BTLNBR,BTLNBR_FLAG_W,DATE,TIME,LATITUDE,LONGITUDE,DEPTH,CTDPRS,CTDPRS_FLAG_W,CTDTMP,CTDTMP_FLAG_W,SBE35,SBE35_FLAG_W,CTDSAL,CTDSAL_FLAG_W,SALNTY,SALNTY_FLAG_W,CTDOXY,CTDOXY_FLAG_W,OPTOXY,OPTOXY_FLAG_W,DWNPRS,DWNPRS_FLAG_W,DWNOXY,DWNOXY_FLAG_W,OXYGEN,OXYGEN_FLAG_W,SILCAT,SILCAT_FLAG_W,SILUNC,NITRAT,NITRAT_FLAG_W,NRAUNC,NITRIT,NITRIT_FLAG_W,NRIUNC,PHSPHT,PHSPHT_FLAG_W,PHPUNC,CFC-11,CFC-11_FLAG_W,CFC-12,CFC-12_FLAG_W,CFC113,CFC113_FLAG_W,TCARBN,TCARBN_FLAG_W,ALKALI,ALKALI_FLAG_W,PH,PH_FLAG_W,DELC13,DELC13_FLAG_W,C13ERR,DELC14,DELC14_FLAG_W,C14ERR,THETA,SIG0
,,,,,,,,UTC,DEG,DEG,M,DBAR,,ITS-90,,ITS-90,,PSS-78,,PSS-78,,UMOL/KG,,UMOL/KG,,DBAR,,UMOL/KG,,UMOL/KG,,UMOL/KG,,UMOL/KG,UMOL/KG,,UMOL/KG,UMOL/KG,,UMOL/KG,UMOL/KG,,UMOL/KG,PMOL/KG,,PMOL/KG,,PMOL/KG,,UMOL/KG,,UMOL/KG,,,,/MILLE,,/MILLE,/MILLE,,/MILLE,DEG C,KG/CUM
    49MR0505_1,   P03,   146,  1,      0,   -999,9,20051122,0107, 24.6672,-166.5573, 5127,   -999.0,9,-999.0000,9,-999.00000,9,-999.0000,9,  35.2212,2,  -999.00,9,  -999.00,9,   -999.0,9,  -999.00,9,  -999.00,9,  -999.00,9,  -999.00,  -999.00,9,  -999.00,  -999.00,9,  -999.00, -999.000,9, -999.000, -999.000,9, -999.000,9, -999.000,9,   -999.0,9,   -999.0,9,-999.0000,9, -999.000,9, -999.000,   -999.0,9,   -999.0,-999.0000,-999.0000
    49MR0505_1,   P03,   146,  1,     36, X12048,2,20051122,0107, 24.6672,-166.5573, 5127,      9.9,2,  25.8748,2,  25.87475,2,  35.2133,2,  35.2130,2,   187.92,1,   205.23,2,      8.6,2,   206.00,2,   206.00,2,     0.99,2,     0.12,     0.06,2,     0.03,     0.00,2,     0.01,    0.047,2,    0.036,    1.823,2,    0.993,2, -999.000,5,   1976.2,2,   2318.4,2,   8.1052,6, -999.000,9, -999.000,   -999.0,9,   -999.0,  25.8726,  23.2340
    49MR0505_1,   P03,   146,  1,     35, X12047,2,20051122,0107, 24.6672,-166.5573, 5127,     50.4,2,  25.8992,2,  25.89902,2,  35.2301,2,  35.2300,2,   187.93,1,   204.89,2,     50.3,2,   205.98,2,   205.90,2,     1.00,2,     0.12,     0.06,2,     0.03,     0.00,2,     0.01,    0.047,2,    0.036,    1.619,2,    0.994,2, -999.000,5,   1977.6,6,   2315.2,2,   8.1053,2, -999.000,9, -999.000,   -999.0,9,   -999.0,  25.8880,  23.2418
    49MR0505_1,   P03,   146,  1,     34, X12046,2,20051122,0107, 24.6672,-166.5573, 5127,    100.5,2,  23.9069,2,  23.90094,2,  35.1996,2,  35.2002,2,   196.12,1,   213.39,2,     90.5,2,   214.42,2,   213.93,2,     1.23,2,     0.12,     0.05,2,     0.03,     0.01,2,     0.01,    0.064,2,    0.029,    1.862,2,    1.118,2, -999.000,5,   1998.7,2,   2315.6,6,   8.0718,2, -999.000,9, -999.000,   -999.0,9,   -999.0,  23.8858,  23.8263
    49MR0505_1,   P03,   146,  1,     33, X12003,2,20051122,0107, 24.6672,-166.5573, 5127,    150.4,2,  20.9429,2,  20.94277,2,  35.1347,2,  35.1347,2,   180.88,1,   196.86,2,    151.7,2,   195.84,2,   198.10,2,     1.88,2,     0.12,     1.38,2,     0.04,     0.03,2,     0.01,    0.190,2,    0.016,    2.065,2,    1.227,2, -999.000,5,   2032.3,2,   2310.5,2,   8.0076,2, -999.000,9, -999.000,   -999.0,9,   -999.0,  20.9142,  24.6198
    49MR0505_1,   P03,   146,  1,     32, X12044,2,20051122,0107, 24.6672,-166.5573, 5127,    200.4,2,  19.2534,2,  19.25355,2,  34.9895,2,  34.9880,2,   181.09,1,   196.82,2,    191.4,2,   197.59,2,   198.07,2,     2.73,2,     0.13,     2.51,2,     0.04,     0.01,2,     0.01,    0.267,2,    0.015,    2.203,2,    1.306,2, -999.000,5,   2041.1,2,   2299.8,2,   7.9760,2, -999.000,9, -999.000,   -999.0,9,   -999.0,  19.2173,  24.9575
    49MR0505_1,   P03,   146,  1,     31, X12051,2,20051122,0107, 24.6672,-166.5573, 5127,    250.5,2,  16.8301,2,  16.83081,2,  34.7551,2,  34.7533,2,   192.07,1,   208.42,2,    245.1,2,   209.90,2,   209.93,2,     4.27,2,     0.13,     3.95,2,     0.04,     0.01,2,     0.01,    0.351,2,    0.014,    2.424,6,    1.400,6,    0.168,4,   2041.0,2,   2289.9,2,   7.9507,2, -999.000,9, -999.000,   -999.0,9,   -999.0,  16.7891,  25.3761
    49MR0505_1,   P03,   146,  1,     30, X12042,2,20051122,0107, 24.6672,-166.5573, 5127,    300.4,2,  15.5691,2,  15.57225,2,  34.6259,2,  34.6252,2,   194.34,1,   211.01,2,    291.1,2,   216.40,2,   212.20,2,     5.69,2,     0.13,     5.60,2,     0.05,     0.01,2,     0.01,    0.455,2,    0.013,    2.533,2,    1.454,2,    0.140,4,   2049.2,2,   2275.0,2,   7.9269,2, -999.000,9, -999.000,   -999.0,9,   -999.0,  15.5224,  25.5678
    49MR0505_1,   P03,   146,  1,     29, X12041,2,20051122,0107, 24.6672,-166.5573, 5127,    400.9,2,  12.4214,2,  12.41858,2,  34.3077,2,  34.3046,2,   188.92,1,   204.77,2,    388.9,2,   204.46,2,   205.85,2,    12.11,2,     0.15,    11.41,2,     0.06,     0.00,2,     0.01,    0.862,2,    0.013,    2.808,2,    1.555,2,    0.091,2,   2083.8,2,   2267.0,2,   7.8346,2, -999.000,9, -999.000,   -999.0,9,   -999.0,  12.3678,  25.9808
    49MR0505_1,   P03,   146,  1,     28, X12016,2,20051122,0107, 24.6672,-166.5573, 5127,    501.0,2,   9.3845,2,   9.38272,2,  34.1356,2,  34.1352,6,   164.47,1,   177.48,2,    502.8,2,   180.74,2,   179.59,2,    26.42,2,     0.18,    19.76,2,     0.09,     0.00,2,     0.01,    1.437,2,    0.014,    2.686,2,    1.394,2,    0.100,2,   2136.8,2,   2267.7,2,   7.7142,2, -999.000,9, -999.000,   -999.0,9,   -999.0,   9.3283,  26.3885
    49MR0505_1,   P03,   146,  1,     27, X12039,2,20051122,0107, 24.6672,-166.5573, 5127,    600.5,2,   7.8750,2,   7.88446,2,  34.0794,2,  34.0774,2,   130.28,1,   141.19,2,    600.7,2,   142.22,2,   141.49,2,    40.88,2,     0.21,    26.28,2,     0.11,     0.00,2,     0.01,    1.916,2,    0.015,    2.141,2,    1.059,2,    0.082,2,   2185.0,2,   2275.5,2,   7.6091,2, -999.000,9, -999.000,   -999.0,9,   -999.0,   7.8140,  26.5782
    49MR0505_1,   P03,   146,  1,     26, X12038,2,20051122,0107, 24.6672,-166.5573, 5127,    703.2,2,   5.9819,2,   5.98164,2,  34.0984,2,  34.0987,2,    66.83,1,    73.28,2,    710.0,2,    81.49,2,    72.97,2,    66.94,2,     0.27,    35.75,2,     0.13,     0.00,2,     0.01,    2.632,2,    0.017,    0.828,2,    0.417,2,    0.036,2,   2264.1,6,   2301.5,2,   7.4449,2, -999.000,9, -999.000,   -999.0,9,   -999.0,   5.9200,  26.8502
    49MR0505_1,   P03,   146,  1,     25, X12037,2,20051122,0107, 24.6672,-166.5573, 5127,    800.2,2,   5.2478,2,   5.24716,2,  34.1751,2,  34.1824,2,    43.89,1,    47.63,2,    798.5,2,    46.93,2,    46.23,2,    83.62,2,     0.30,    39.44,2,     0.14,     0.00,2,     0.01,    2.906,2,    0.017,    0.354,6,    0.184,6,    0.019,6,   2301.2,2,   2317.3,6,   7.3939,2, -999.000,9, -999.000,   -999.0,9,   -999.0,   5.1812,  27.0003
    49MR0505_1,   P03,   146,  1,     24, X12008,2,20051122,0107, 24.6672,-166.5573, 5127,    900.2,2,   4.3994,2,   4.39844,2,  34.2976,2,  34.2979,2,    34.89,1,    38.49,2,    906.2,2,    38.68,2,    37.70,2,   102.71,2,     0.34,    41.50,2,     0.15,     0.00,2,     0.01,    3.035,2,    0.018,    0.145,2,    0.074,2,    0.014,2,   2329.5,2,   2345.8,2,   7.3830,6, -999.000,9, -999.000,   -999.0,9,   -999.0,   4.3295,  27.1928
    49MR0505_1,   P03,   146,  1,     23, X12035,2,20051122,0107, 24.6672,-166.5573, 5127,   1001.2,2,   4.0246,2,   4.02451,2,  34.3651,2,  34.3650,6,    34.00,1,    37.63,2,   1003.0,2,    38.42,2,    37.03,2,   111.76,2,     0.36,    42.21,2,     0.15,     0.00,2,     0.01,    3.075,2,    0.018,    0.066,2,    0.059,2,    0.012,2,   2341.8,2,   2357.8,2,   7.3863,2, -999.000,9, -999.000,   -999.0,9,   -999.0,   3.9489,  27.2863
    49MR0505_1,   P03,   146,  1,     22, X12034,2,20051122,0107, 24.6672,-166.5573, 5127,   1200.3,2,   3.3443,2,   3.34351,2,  34.4736,2,  34.4739,2,    44.14,1,    48.79,2,   1203.8,2,    47.92,2,    48.25,2,   127.72,2,     0.40,    42.26,2,     0.15,     0.00,2,     0.01,    3.054,2,    0.018,    0.014,2,    0.007,2,    0.000,2,   2353.5,2,   2380.1,2,   7.4147,2, -999.000,9, -999.000,   -999.0,9,   -999.0,   3.2578,  27.4409
    49MR0505_1,   P03,   146,  1,     21, X12033,2,20051122,0107, 24.6672,-166.5573, 5127,   1401.2,2,   2.9290,2,   2.92865,2,  34.5276,2,  34.5276,2,    54.75,1,    60.55,2,   1403.8,2,    59.62,2,    59.98,2,   136.44,2,     0.42,    41.61,2,     0.15,     0.00,2,     0.01,    3.003,2,    0.017,    0.006,2,    0.004,2,    0.000,2,   2357.7,2,   2392.8,2,   7.4358,2, -999.000,9, -999.000,   -999.0,9,   -999.0,   2.8302,  27.5233
    49MR0505_1,   P03,   146,  1,     20, X12032,2,20051122,0107, 24.6672,-166.5573, 5127,   1599.2,2,   2.5550,2,   2.55489,2,  34.5631,2,  34.5633,2,    63.77,1,    70.71,2,   1601.9,2,    69.30,2,    72.17,2,   145.03,2,     0.44,    41.12,2,     0.15,     0.00,2,     0.01,    2.961,2,    0.017,    0.001,2,    0.000,2,    0.000,2,   2360.0,2,   2400.4,2,   7.4537,6, -999.000,9, -999.000,   -999.0,9,   -999.0,   2.4443,  27.5853
    49MR0505_1,   P03,   146,  1,     19, X12001,2,20051122,0107, 24.6672,-166.5573, 5127,   1800.7,2,   2.2606,2,   2.26035,2,  34.5901,2,  34.5904,2,    72.53,1,    80.50,2,   1801.6,2,    79.90,2,    79.92,2,   151.11,2,     0.45,    40.72,2,     0.15,     0.00,2,     0.01,    2.918,2,    0.017,    0.001,2,    0.000,2,    0.000,2,   2361.1,2,   2407.0,2,   7.4699,2, -999.000,9, -999.000,   -999.0,9,   -999.0,   2.1371,  27.6323
    49MR0505_1,   P03,   146,  1,     18, X12030,2,20051122,0107, 24.6672,-166.5573, 5127,   2001.1,2,   2.0440,2,   2.04384,2,  34.6114,2,  34.6114,2,    81.36,1,    90.57,2,   2001.4,2,    88.90,2,    89.90,2,   154.82,2,     0.46,    40.14,2,     0.15,     0.00,2,     0.01,    2.865,2,    0.017,    0.001,2,    0.000,2,    0.000,2,   2358.8,2,   2411.6,2,   7.4881,2, -999.000,9, -999.000,   -999.0,9,   -999.0,   1.9069,  27.6676
    49MR0505_1,   P03,   146,  1,     17, X12049,2,20051122,0107, 24.6672,-166.5573, 5127,   2200.0,2,   1.8862,2,   1.88617,2,  34.6272,2,  34.6274,6,    89.19,1,    99.29,2,   2199.2,2,    98.68,2,    98.69,2,   156.96,2,     0.46,    39.65,2,     0.14,     0.00,2,     0.01,    2.818,2,    0.017, -999.000,9, -999.000,9, -999.000,9,   2358.4,2,   2413.9,2,   7.5049,2, -999.000,9, -999.000,   -999.0,9,   -999.0,   1.7346,  27.6935
    49MR0505_1,   P03,   146,  1,     16, X12028,2,20051122,0107, 24.6672,-166.5573, 5127,   2400.5,2,   1.7667,2,   1.76657,2,  34.6392,2,  34.6393,2,    95.20,1,   105.79,2,   2399.5,2,   106.77,2,   105.21,2,   159.21,2,     0.47,    39.18,2,     0.14,     0.00,2,     0.01,    2.777,2,    0.017,    0.000,2,    0.000,2,    0.000,2,   2355.2,6,   2418.8,2,   7.5145,2, -999.000,9, -999.000,   -999.0,9,   -999.0,   1.5997,  27.7133
    49MR0505_1,   P03,   146,  1,     15, X12006,2,20051122,0107, 24.6672,-166.5573, 5127,   2600.0,2,   1.6707,2,   1.67065,2,  34.6503,2,  34.6506,2,   102.28,1,   113.79,2,   2599.5,2,   113.94,2,   113.31,2,   159.85,2,     0.47,    38.70,2,     0.14,     0.00,2,     0.01,    2.737,2,    0.017, -999.000,9, -999.000,9, -999.000,9,   2350.4,2,   2421.5,6,   7.5288,2, -999.000,9, -999.000,   -999.0,9,   -999.0,   1.4876,  27.7304
    49MR0505_1,   P03,   146,  1,     14, X12026,2,20051122,0107, 24.6672,-166.5573, 5127,   2800.6,2,   1.6001,2,   1.60007,2,  34.6588,2,  34.6588,2,   108.64,1,   120.85,2,   2800.3,2,   121.03,2,   120.28,2,   159.65,2,     0.47,    38.16,2,     0.14,     0.00,2,     0.01,    2.705,2,    0.017, -999.000,9, -999.000,9, -999.000,9,   2349.4,2,   2424.8,2,   7.5404,6, -999.000,9, -999.000,   -999.0,9,   -999.0,   1.4000,  27.7436
    49MR0505_1,   P03,   146,  1,     13, X12025,2,20051122,0107, 24.6672,-166.5573, 5127,   3002.3,2,   1.5492,2,   1.54918,2,  34.6655,2,  34.6655,2,   113.88,1,   126.59,2,   3001.1,2,   128.12,2,   126.20,2,   159.18,2,     0.47,    37.86,2,     0.14,     0.00,2,     0.01,    2.680,2,    0.017,    0.001,2,    0.001,2,    0.000,2,   2345.1,2,   2422.7,2,   7.5512,2, -999.000,9, -999.000,   -999.0,9,   -999.0,   1.3312,  27.7538
    49MR0505_1,   P03,   146,  1,     12, X12024,2,20051122,0107, 24.6672,-166.5573, 5127,   3251.6,2,   1.5001,2,   1.50011,2,  34.6727,2,  34.6724,6,   120.55,1,   133.64,2,   3250.4,2,   136.01,2,   133.69,2,   158.18,2,     0.47,    37.37,2,     0.14,     0.00,2,     0.01,    2.636,2,    0.017, -999.000,9, -999.000,9, -999.000,9,   2340.3,2,   2421.0,2,   7.5643,2, -999.000,9, -999.000,   -999.0,9,   -999.0,   1.2589,  27.7647
    49MR0505_1,   P03,   146,  1,     11, X12023,2,20051122,0107, 24.6672,-166.5573, 5127,   3502.7,2,   1.4566,2,   1.45673,2,  34.6797,2,  34.6796,2,   128.28,1,   141.69,2,   3502.9,2,   140.87,2,   142.03,2,   155.83,2,     0.46,    36.85,2,     0.14,     0.00,2,     0.01,    2.596,2,    0.016, -999.000,9, -999.000,9, -999.000,9,   2336.6,2,   2421.6,2,   7.5773,2, -999.000,9, -999.000,   -999.0,9,   -999.0,   1.1913,  27.7750
    49MR0505_1,   P03,   146,  1,     10, X12022,2,20051122,0107, 24.6672,-166.5573, 5127,   3752.0,2,   1.4488,2,   1.44887,2,  34.6834,2,  34.6834,2,   132.53,1,   146.18,2,   3751.9,2,   146.38,2,   146.63,2,   154.58,2,     0.46,    36.51,2,     0.14,     0.00,2,     0.01,    2.570,2,    0.016,    0.000,2,    0.001,2,    0.000,2,   2331.6,2,   2424.5,2,   7.5849,2, -999.000,9, -999.000,   -999.0,9,   -999.0,   1.1579,  27.7803
    49MR0505_1,   P03,   146,  1,      9, X12021,2,20051122,0107, 24.6672,-166.5573, 5127,   4000.9,2,   1.4460,2,   1.44607,2,  34.6864,2,  34.6863,2,   136.68,1,   150.45,2,   4000.8,2,   150.36,2,   150.98,2,   152.95,2,     0.46,    36.21,2,     0.13,     0.00,2,     0.01,    2.546,2,    0.016, -999.000,9, -999.000,9, -999.000,9,   2328.3,2,   2420.1,2,   7.5919,2, -999.000,9, -999.000,   -999.0,9,   -999.0,   1.1285,  27.7847
    49MR0505_1,   P03,   146,  1,      8, X12020,2,20051122,0107, 24.6672,-166.5573, 5127,   4250.9,2,   1.4588,2,   1.45876,2,  34.6880,2,  34.6875,2,   139.04,1,   152.54,2,   4251.1,2,   152.23,2,   153.01,2,   151.99,2,     0.45,    36.03,2,     0.13,     0.00,2,     0.01,    2.529,2,    0.016, -999.000,9, -999.000,9, -999.000,9,   2326.8,6,   2419.4,2,   7.5947,2, -999.000,9, -999.000,   -999.0,9,   -999.0,   1.1134,  27.7870
    49MR0505_1,   P03,   146,  1,      7, X12019,2,20051122,0107, 24.6672,-166.5573, 5127,   4500.3,2,   1.4746,2,   1.47462,2,  34.6894,2,  34.6894,6,   141.47,1,   154.61,2,   4500.4,2,   154.68,2,   154.92,2,   150.95,2,     0.45,    35.90,2,     0.13,     0.00,2,     0.01,    2.524,2,    0.016,    0.000,2,    0.001,2,    0.000,2,   2320.6,3,   2419.6,6,   7.5983,2, -999.000,9, -999.000,   -999.0,9,   -999.0,   1.1004,  27.7890
    49MR0505_1,   P03,   146,  1,      6, X12018,2,20051122,0107, 24.6672,-166.5573, 5127,   4748.9,2,   1.4969,2,   1.49686,2,  34.6900,2,  34.6896,2,   143.43,1,   155.96,2,   4748.8,2,   156.30,2,   156.28,2,   150.08,2,     0.45,    35.86,2,     0.13,     0.00,2,     0.01,    2.522,2,    0.016, -999.000,9, -999.000,9, -999.000,9,   2323.2,2,   2422.1,2,   7.6008,6, -999.000,9, -999.000,   -999.0,9,   -999.0,   1.0929,  27.7900
    49MR0505_1,   P03,   146,  1,      5, X12043,2,20051122,0107, 24.6672,-166.5573, 5127,   4997.6,2,   1.5259,2,   1.52597,2,  34.6903,2,  34.6904,2,   144.51,1,   156.28,2,   4997.6,2,   156.76,2,   156.52,2,   149.67,2,     0.45,    35.83,2,     0.13,     0.00,2,     0.01,    2.522,2,    0.016, -999.000,9, -999.000,9, -999.000,9,   2324.4,2,   2416.8,2,   7.6012,2, -999.000,9, -999.000,   -999.0,9,   -999.0,   1.0911,  27.7904
    49MR0505_1,   P03,   146,  1,      4, X12010,9,20051122,0107, 24.6672,-166.5573, 5127,    101.7,2,  23.8091,2,  23.83879,2,  35.2044,2,-999.0000,9,   196.40,1,   213.68,2,     92.2,2,   214.23,2,  -999.00,9,  -999.00,9,  -999.00,  -999.00,9,  -999.00,  -999.00,9,  -999.00, -999.000,9, -999.000, -999.000,9, -999.000,9, -999.000,9,   -999.0,9,   -999.0,9,-999.0000,9, -999.000,9, -999.000,   -999.0,9,   -999.0,  23.7878,  23.8589
    49MR0505_1,   P03,   146,  1,      3, X12015,9,20051122,0107, 24.6672,-166.5573, 5127,     50.4,2,  25.8997,2,  25.89951,2,  35.2301,2,-999.0000,9,   188.06,1,   204.84,2,     50.3,2,   205.97,2,  -999.00,9,  -999.00,9,  -999.00,  -999.00,9,  -999.00,  -999.00,9,  -999.00, -999.000,9, -999.000, -999.000,9, -999.000,9, -999.000,9,   -999.0,9,   -999.0,9,-999.0000,9, -999.000,9, -999.000,   -999.0,9,   -999.0,  25.8885,  23.2417
    49MR0505_1,   P03,   146,  1,      2, X12014,9,20051122,0107, 24.6672,-166.5573, 5127,      9.7,2,  25.8728,2,  25.87289,2,  35.2135,2,-999.0000,9,   187.99,1,   205.30,2,      8.6,2,   206.01,2,  -999.00,9,  -999.00,9,  -999.00,  -999.00,9,  -999.00,  -999.00,9,  -999.00, -999.000,9, -999.000, -999.000,9, -999.000,9, -999.000,9,   -999.0,9,   -999.0,9,-999.0000,9, -999.000,9, -999.000,   -999.0,9,   -999.0,  25.8706,  23.2347
    49MR0505_1,   P03,   146,  1,      1, X12013,2,20051122,0107, 24.6672,-166.5573, 5127,   5202.0,2,   1.5506,2,   1.55051,2,  34.6902,2,  34.6902,6,   145.80,1,   156.93,2,   5202.0,2,   157.02,2,   156.90,2,   149.53,2,     0.45,    35.79,2,     0.13,     0.00,2,     0.01,    2.517,2,    0.016,    0.002,2,    0.001,2,    0.000,2,   2322.5,2,   2420.5,2,   7.6009,2, -999.000,9, -999.000,   -999.0,9,   -999.0,   1.0898,  27.7904