BOTTLE,20100316JAMSTECRIGC
EXPOCODE,SECT,STNNBR,CASTNO,SAMPNO,BTLNBR,BTLNBR_FLAG_W,DATE,TIME,LATITUDE,LONGITUDE,DEPTH,CTDPRS,CTDPRS_FLAG_W,CTDTMP,CTDTMP_FLAG_W,SBE35,SBE35_FLAG_W,CTDSAL,CTDSAL_FLAG_W,SALNTY,SALNTY_FLAG_W,CTDOXY,CTDOXY_FLAG_W,OPTOXY,OPTOXY_FLAG_W,DWNPRS,DWNPRS_FLAG_W,DWNOXY,DWNOXY_FLAG_W,OXYGEN,OXYGEN_FLAG_W,SILCAT,SILCAT_FLAG_W,SILUNC,NITRAT,NITRAT_FLAG_W,NRAUNC,NITRIT,NITRIT_FLAG_W,NRIUNC,PHSPHT,PHSPHT_FLAG_W,PHPUNC,CFC-11,CFC-11_FLAG_W,CFC-12,CFC-12_FLAG_W,CFC113,CFC113_FLAG_W,TCARBN,TCARBN_FLAG_W,ALKALI,ALKALI_FLAG_W,PH,PH_FLAG_W,DELC13,DELC13_FLAG_W,C13ERR,DELC14,DELC14_FLAG_W,C14ERR,THETA,SIG0
,,,,,,,,UTC,DEG,DEG,M,DBAR,,ITS-90,,ITS-90,,PSS-78,,PSS-78,,UMOL/KG,,UMOL/KG,,DBAR,,UMOL/KG,,UMOL/KG,,UMOL/KG,,UMOL/KG,UMOL/KG,,UMOL/KG,UMOL/KG,,UMOL/KG,UMOL/KG,,UMOL/KG,PMOL/KG,,PMOL/KG,,PMOL/KG,,UMOL/KG,,UMOL/KG,,,,/MILLE,,/MILLE,/MILLE,,/MILLE,DEG C,KG/CUM
    49MR0505_1,   P03,   130,  1,      0,   -999,9,20051120,0023, 25.0963,-162.0277, 3335,   -999.0,9,-999.0000,9,-999.00000,9,-999.0000,9,  35.2583,2,  -999.00,9,  -999.00,9,   -999.0,9,  -999.00,9,  -999.00,9,  -999.00,9,  -999.00,  -999.00,9,  -999.00,  -999.00,9,  -999.00, -999.000,9, -999.000, -999.000,9, -999.000,9, -999.000,9,   -999.0,9,   -999.0,9,-999.0000,9, -999.000,9, -999.000,   -999.0,9,   -999.0,-999.0000,-999.0000
    49MR0505_1,   P03,   130,  1,     36, X12048,2,20051120,0023, 25.0963,-162.0277, 3335,      9.6,2,  26.0255,2,  26.02598,2,  35.2549,2,  35.2546,2,   189.67,1,   205.37,2,      9.6,2,   206.40,2,   206.36,2,     0.95,2,     0.12,     0.05,2,     0.03,     0.00,2,     0.01,    0.046,2,    0.036,    1.622,2,    0.989,2, -999.000,5,   1980.2,2,   2321.8,2,   8.1062,2, -999.000,9, -999.000,   -999.0,9,   -999.0,  26.0234,  23.2184
    49MR0505_1,   P03,   130,  1,     35, X12047,2,20051120,0023, 25.0963,-162.0277, 3335,     50.6,2,  25.5345,2,  25.53425,2,  35.3253,2,  35.3293,2,   191.02,1,   207.68,2,     40.7,2,   208.59,2,   208.35,2,     1.15,2,     0.12,     0.04,2,     0.03,     0.00,2,     0.01,    0.046,2,    0.036,    1.663,2,    1.006,2, -999.000,5,   1986.6,6,   2325.0,2,   8.1013,2, -999.000,9, -999.000,   -999.0,9,   -999.0,  25.5234,  23.4267
    49MR0505_1,   P03,   130,  1,     34, X12046,2,20051120,0023, 25.0963,-162.0277, 3335,     99.7,2,  20.0189,2,  20.02262,2,  35.0154,2,  35.0134,2,   208.70,1,   225.62,2,    102.8,2,   221.81,2,   226.83,2,     2.19,2,     0.12,     0.06,2,     0.03,     0.02,2,     0.01,    0.088,2,    0.024,    2.228,2,    1.294,2, -999.000,5,   2019.1,2,   2302.3,6,   8.0237,2, -999.000,9, -999.000,   -999.0,9,   -999.0,  20.0005,  24.7733
    49MR0505_1,   P03,   130,  1,     33, X12003,2,20051120,0023, 25.0963,-162.0277, 3335,    149.7,2,  17.2348,2,  17.23208,2,  34.8107,2,  34.7987,2,   196.99,1,   212.26,2,    157.1,2,   213.23,2,   213.07,2,     3.73,2,     0.13,     2.90,2,     0.04,     0.02,2,     0.01,    0.286,2,    0.014,    2.431,2,    1.393,2, -999.000,5,   2039.6,2,   2287.3,2,   7.9632,6, -999.000,9, -999.000,   -999.0,9,   -999.0,  17.2099,  25.3189
    49MR0505_1,   P03,   130,  1,     32, X12044,2,20051120,0023, 25.0963,-162.0277, 3335,    199.0,2,  15.5540,2,  15.55562,2,  34.6164,2,  34.6040,2,   189.77,1,   204.34,2,    208.3,2,   206.70,2,   205.73,2,     6.03,2,     0.13,     6.28,2,     0.05,     0.01,2,     0.01,    0.500,2,    0.013,    2.587,2,    1.451,2,    0.109,4,   2056.4,2,   2274.6,2,   7.9144,2, -999.000,9, -999.000,   -999.0,9,   -999.0,  15.5232,  25.5603
    49MR0505_1,   P03,   130,  1,     31, X12051,2,20051120,0023, 25.0963,-162.0277, 3335,    250.4,2,  14.0227,2,  14.02197,2,  34.4798,2,  34.4776,2,   193.82,1,   209.07,2,    255.4,2,   210.03,2,   211.52,2,     8.44,2,     0.14,     8.34,2,     0.06,     0.01,2,     0.01,    0.634,2,    0.013,    2.724,6,    1.524,6,    0.101,6,   2064.6,2,   2273.8,2,   7.8875,2, -999.000,9, -999.000,   -999.0,9,   -999.0,  13.9866,  25.7879
    49MR0505_1,   P03,   130,  1,     30, X12042,2,20051120,0023, 25.0963,-162.0277, 3335,    299.5,2,  12.9173,2,  12.91823,2,  34.4175,2,  34.4152,2,   201.78,1,   216.29,2,    302.1,2,   216.62,2,   218.23,2,    10.87,2,     0.14,     9.87,2,     0.06,     0.00,2,     0.01,    0.737,2,    0.013,    2.795,2,    1.551,2,    0.119,2,   2071.8,2,   2270.4,2,   7.8699,2, -999.000,9, -999.000,   -999.0,9,   -999.0,  12.8764,  25.9663
    49MR0505_1,   P03,   130,  1,     29, X12041,2,20051120,0023, 25.0963,-162.0277, 3335,    404.3,2,  10.1840,2,  10.18471,2,  34.1844,2,  34.1843,2,   186.25,1,   200.53,2,    410.6,2,   202.90,2,   201.30,2,    20.55,2,     0.16,    16.33,2,     0.08,     0.00,2,     0.01,    1.185,2,    0.013,    2.917,2,    1.551,2,    0.117,2,   2114.2,2,   2266.7,2,   7.7709,2, -999.000,9, -999.000,   -999.0,9,   -999.0,  10.1365,  26.2918
    49MR0505_1,   P03,   130,  1,     28, X12016,2,20051120,0023, 25.0963,-162.0277, 3335,    501.4,2,   8.0205,2,   8.01971,2,  34.0745,2,  34.0738,6,   147.45,1,   159.08,2,    509.0,2,   166.07,2,   158.31,2,    37.91,2,     0.20,    24.63,2,     0.10,     0.00,2,     0.01,    1.772,2,    0.015,    2.433,2,    1.199,2,    0.095,2,   2172.3,2,   2274.3,2,   7.6435,2, -999.000,9, -999.000,   -999.0,9,   -999.0,   7.9694,  26.5515
    49MR0505_1,   P03,   130,  1,     27, X12039,2,20051120,0023, 25.0963,-162.0277, 3335,    603.1,2,   6.2303,2,   6.22948,2,  34.0500,2,  34.0509,2,    99.22,1,   107.30,2,    607.6,2,   109.90,2,   105.51,2,    60.86,2,     0.25,    32.72,2,     0.12,     0.00,2,     0.01,    2.368,2,    0.016,    1.439,2,    0.692,2,    0.060,2,   2238.7,2,   2291.3,2,   7.5086,2, -999.000,9, -999.000,   -999.0,9,   -999.0,   6.1766,  26.7795
    49MR0505_1,   P03,   130,  1,     26, X12038,2,20051120,0023, 25.0963,-162.0277, 3335,    700.9,2,   5.0541,2,   5.05395,2,  34.1406,2,  34.1409,2,    51.19,1,    55.48,2,    707.8,2,    60.92,2,    54.89,2,    84.62,2,     0.31,    39.02,2,     0.14,     0.00,2,     0.01,    2.848,2,    0.017,    0.476,2,    0.255,2,    0.020,2,   2298.8,6,   2317.5,2,   7.4031,2, -999.000,9, -999.000,   -999.0,9,   -999.0,   4.9974,  26.9942
    49MR0505_1,   P03,   130,  1,     25, X12037,2,20051120,0023, 25.0963,-162.0277, 3335,    800.9,2,   4.5259,2,   4.52639,2,  34.2406,2,  34.2401,2,    35.46,1,    38.58,2,    799.0,2,    39.58,2,    38.34,2,    98.33,2,     0.34,    41.21,2,     0.15,     0.00,2,     0.01,    3.016,2,    0.017,    0.197,6,    0.104,6,    0.019,6,   2325.6,2,   2336.3,6,   7.3787,2, -999.000,9, -999.000,   -999.0,9,   -999.0,   4.4636,  27.1330
    49MR0505_1,   P03,   130,  1,     24, X12008,2,20051120,0023, 25.0963,-162.0277, 3335,    900.9,2,   4.1096,2,   4.10924,2,  34.3424,2,  34.3430,2,    32.13,1,    34.97,2,    901.9,2,    35.40,2,    34.70,2,   109.65,2,     0.36,    42.19,2,     0.15,     0.00,2,     0.01,    3.071,2,    0.018,    0.070,2,    0.037,2,    0.015,2,   2342.5,2,   2355.0,2,   7.3791,6, -999.000,9, -999.000,   -999.0,9,   -999.0,   4.0416,  27.2587
    49MR0505_1,   P03,   130,  1,     23, X12035,2,20051120,0023, 25.0963,-162.0277, 3335,    999.8,2,   3.8519,2,   3.85170,2,  34.4124,2,  34.4138,6,    36.36,1,    39.54,2,   1001.9,2,    39.56,2,    39.16,2,   115.56,2,     0.37,    42.35,2,     0.15,     0.00,2,     0.01,    3.080,2,    0.018,    0.028,2,    0.015,2,    0.009,2,   2348.6,2,   2363.6,2,   7.3941,2, -999.000,9, -999.000,   -999.0,9,   -999.0,   3.7776,  27.3414
    49MR0505_1,   P03,   130,  1,     22, X12034,2,20051120,0023, 25.0963,-162.0277, 3335,   1201.4,2,   3.4297,2,   3.42945,2,  34.4941,2,  34.4943,2,    47.39,1,    51.40,2,   1202.4,2,    51.50,2,    50.99,2,   124.27,2,     0.39,    42.03,2,     0.15,     0.00,2,     0.01,    3.046,2,    0.018,    0.008,2,    0.007,2,    0.000,2,   2353.5,2,   2379.9,2,   7.4222,2, -999.000,9, -999.000,   -999.0,9,   -999.0,   3.3423,  27.4492
    49MR0505_1,   P03,   130,  1,     21, X12033,2,20051120,0023, 25.0963,-162.0277, 3335,   1399.8,2,   3.0009,2,   3.00122,2,  34.5333,2,  34.5331,2,    54.70,1,    59.28,2,   1401.5,2,    58.68,2,    59.24,2,   134.20,2,     0.41,    41.86,2,     0.15,     0.00,2,     0.01,    3.014,2,    0.017,    0.008,2,    0.003,2,    0.007,2,   2359.6,2,   2391.4,2,   7.4356,2, -999.000,9, -999.000,   -999.0,9,   -999.0,   2.9014,  27.5215
    49MR0505_1,   P03,   130,  1,     20, X12032,2,20051120,0023, 25.0963,-162.0277, 3335,   1599.1,2,   2.5923,2,   2.59146,2,  34.5709,2,  34.5716,2,    65.41,1,    71.20,2,   1600.6,2,    70.47,2,    71.05,2,   143.45,2,     0.43,    41.24,2,     0.15,     0.00,2,     0.01,    2.958,2,    0.017,    0.001,2,    0.000,2,    0.008,2,   2362.1,2,   2400.5,2,   7.4568,6, -999.000,9, -999.000,   -999.0,9,   -999.0,   2.4811,  27.5884
    49MR0505_1,   P03,   130,  1,     19, X12001,2,20051120,0023, 25.0963,-162.0277, 3335,   1801.2,2,   2.1881,2,   2.18778,2,  34.6031,2,  34.6028,2,    76.80,1,    83.47,2,   1805.4,2,    80.35,2,    83.19,2,   152.30,2,     0.45,    40.58,2,     0.15,     0.00,2,     0.01,    2.896,2,    0.017,    0.003,2,    0.000,2,    0.000,2,   2363.6,2,   2412.3,2,   7.4771,2, -999.000,9, -999.000,   -999.0,9,   -999.0,   2.0655,  27.6485
    49MR0505_1,   P03,   130,  1,     18, X12030,2,20051120,0023, 25.0963,-162.0277, 3335,   2000.3,2,   2.0243,2,   2.02419,2,  34.6177,2,  34.6177,6,    83.26,1,    90.61,2,   2001.4,2,    89.44,2,    90.29,2,   156.00,2,     0.46,    40.16,2,     0.15,     0.00,2,     0.01,    2.867,2,    0.017,    0.000,2,    0.001,2,    0.000,2,   2361.1,2,   2418.6,2,   7.4906,2, -999.000,9, -999.000,   -999.0,9,   -999.0,   1.8875,  27.6742
    49MR0505_1,   P03,   130,  1,     17, X12049,2,20051120,0023, 25.0963,-162.0277, 3335,   2199.1,2,   1.8896,2,   1.88937,2,  34.6299,2,  34.6301,2,    89.82,1,    97.61,2,   2199.5,2,    96.99,2,    97.61,2,   158.38,2,     0.47,    39.83,2,     0.14,     0.00,2,     0.01,    2.830,2,    0.017,    0.000,2,    0.001,2,    0.000,2,   2360.9,2,   2415.2,2,   7.5035,2, -999.000,9, -999.000,   -999.0,9,   -999.0,   1.7380,  27.6954
    49MR0505_1,   P03,   130,  1,     16, X12028,2,20051120,0023, 25.0963,-162.0277, 3335,   2400.9,2,   1.7954,2,   1.79506,2,  34.6392,2,  34.6391,2,    95.44,1,   103.51,2,   2400.8,2,   103.53,2,   103.60,2,   159.53,2,     0.47,    39.41,2,     0.14,     0.00,2,     0.01,    2.793,2,    0.017,    0.000,2,    0.000,2,    0.000,2,   2357.4,6,   2419.7,2,   7.5122,2, -999.000,9, -999.000,   -999.0,9,   -999.0,   1.6278,  27.7112
    49MR0505_1,   P03,   130,  1,     15, X12006,2,20051120,0023, 25.0963,-162.0277, 3335,   2601.6,2,   1.7143,2,   1.71446,2,  34.6479,2,  34.6471,6,   101.39,1,   109.81,2,   2602.2,2,   109.07,2,   109.75,2,   160.26,2,     0.47,    39.01,2,     0.14,     0.00,2,     0.01,    2.761,2,    0.017,    0.000,2,    0.000,2,    0.000,2,   2355.8,2,   2419.6,6,   7.5231,2, -999.000,9, -999.000,   -999.0,9,   -999.0,   1.5302,  27.7254
    49MR0505_1,   P03,   130,  1,     14, X12026,2,20051120,0023, 25.0963,-162.0277, 3335,   2801.9,2,   1.6454,2,   1.64540,2,  34.6558,2,  34.6559,2,   108.15,1,   116.97,2,   2801.6,2,   117.50,2,   117.08,2,   160.08,2,     0.47,    38.56,2,     0.14,     0.00,2,     0.01,    2.723,2,    0.017,    0.000,2,    0.001,2,    0.011,2,   2352.7,2,   2424.5,2,   7.5358,6, -999.000,9, -999.000,   -999.0,9,   -999.0,   1.4442,  27.7380
    49MR0505_1,   P03,   130,  1,     13, X12025,2,20051120,0023, 25.0963,-162.0277, 3335,   3000.4,2,   1.5694,2,   1.56969,2,  34.6647,2,  34.6647,6,   116.01,1,   125.21,2,   2999.7,2,   126.22,2,   125.27,2,   159.37,2,     0.47,    37.98,2,     0.14,     0.00,2,     0.01,    2.677,2,    0.017,    0.000,2,    0.000,2,    0.000,2,   2347.9,2,   2422.7,2,   7.5510,2, -999.000,9, -999.000,   -999.0,9,   -999.0,   1.3511,  27.7518
    49MR0505_1,   P03,   130,  1,     12, X12024,2,20051120,0023, 25.0963,-162.0277, 3335,   3251.0,2,   1.5329,2,   1.53280,2,  34.6703,2,  34.6705,2,   122.21,1,   131.05,2,   3251.7,2,   130.20,2,   131.45,2,   158.20,2,     0.47,    37.50,2,     0.14,     0.00,2,     0.01,    2.631,2,    0.017,    0.000,2,    0.001,2,    0.000,2,   2343.8,2,   2421.5,2,   7.5612,2, -999.000,9, -999.000,   -999.0,9,   -999.0,   1.2910,  27.7605
    49MR0505_1,   P03,   130,  1,     11, X12023,9,20051120,0023, 25.0963,-162.0277, 3335,   3000.5,2,   1.5679,2,   1.56781,2,  34.6649,2,-999.0000,9,   115.96,1,   125.18,2,   2999.9,2,   126.20,2,  -999.00,9,  -999.00,9,  -999.00,  -999.00,9,  -999.00,  -999.00,9,  -999.00, -999.000,9, -999.000, -999.000,9, -999.000,9, -999.000,9,   -999.0,9,   -999.0,9,-999.0000,9, -999.000,9, -999.000,   -999.0,9,   -999.0,   1.3496,  27.7520
    49MR0505_1,   P03,   130,  1,     10, X12022,9,20051120,0023, 25.0963,-162.0277, 3335,   3000.1,2,   1.5713,2,   1.57108,2,  34.6646,2,-999.0000,9,   116.00,1,   125.03,2,   2999.4,2,   126.23,2,  -999.00,9,  -999.00,9,  -999.00,  -999.00,9,  -999.00,  -999.00,9,  -999.00, -999.000,9, -999.000, -999.000,9, -999.000,9, -999.000,9,   -999.0,9,   -999.0,9,-999.0000,9, -999.000,9, -999.000,   -999.0,9,   -999.0,   1.3530,  27.7515
    49MR0505_1,   P03,   130,  1,      9, X12021,9,20051120,0023, 25.0963,-162.0277, 3335,   3000.2,2,   1.5702,2,   1.56991,2,  34.6645,2,-999.0000,9,   116.02,1,   125.07,2,   2999.5,2,   126.21,2,  -999.00,9,  -999.00,9,  -999.00,  -999.00,9,  -999.00,  -999.00,9,  -999.00, -999.000,9, -999.000, -999.000,9, -999.000,9, -999.000,9,   -999.0,9,   -999.0,9,-999.0000,9, -999.000,9, -999.000,   -999.0,9,   -999.0,   1.3519,  27.7515
    49MR0505_1,   P03,   130,  1,      8, X12020,9,20051120,0023, 25.0963,-162.0277, 3335,   3000.7,2,   1.5738,2,   1.57366,2,  34.6642,2,-999.0000,9,   115.66,1,   124.83,2,   2999.8,2,   126.20,2,  -999.00,9,  -999.00,9,  -999.00,  -999.00,9,  -999.00,  -999.00,9,  -999.00, -999.000,9, -999.000, -999.000,9, -999.000,9, -999.000,9,   -999.0,9,   -999.0,9,-999.0000,9, -999.000,9, -999.000,   -999.0,9,   -999.0,   1.3554,  27.7511
    49MR0505_1,   P03,   130,  1,      7, X12019,9,20051120,0023, 25.0963,-162.0277, 3335,   2999.9,2,   1.5740,2,   1.57387,2,  34.6643,2,-999.0000,9,   115.70,1,   124.79,2,   2999.0,2,   126.24,2,  -999.00,9,  -999.00,9,  -999.00,  -999.00,9,  -999.00,  -999.00,9,  -999.00, -999.000,9, -999.000, -999.000,9, -999.000,9, -999.000,9,   -999.0,9,   -999.0,9,-999.0000,9, -999.000,9, -999.000,   -999.0,9,   -999.0,   1.3556,  27.7511
    49MR0505_1,   P03,   130,  1,      6, X12018,9,20051120,0023, 25.0963,-162.0277, 3335,   3000.1,2,   1.5741,2,   1.57392,2,  34.6641,2,-999.0000,9,   115.71,1,   124.72,2,   2999.2,2,   126.23,2,  -999.00,9,  -999.00,9,  -999.00,  -999.00,9,  -999.00,  -999.00,9,  -999.00, -999.000,9, -999.000, -999.000,9, -999.000,9, -999.000,9,   -999.0,9,   -999.0,9,-999.0000,9, -999.000,9, -999.000,   -999.0,9,   -999.0,   1.3557,  27.7509
    49MR0505_1,   P03,   130,  1,      5, X12043,9,20051120,0023, 25.0963,-162.0277, 3335,   3000.1,2,   1.5742,2,   1.57400,2,  34.6642,2,-999.0000,9,   115.65,1,   124.72,2,   2999.2,2,   126.23,2,  -999.00,9,  -999.00,9,  -999.00,  -999.00,9,  -999.00,  -999.00,9,  -999.00, -999.000,9, -999.000, -999.000,9, -999.000,9, -999.000,9,   -999.0,9,   -999.0,9,-999.0000,9, -999.000,9, -999.000,   -999.0,9,   -999.0,   1.3558,  27.7510
    49MR0505_1,   P03,   130,  1,      4, X12010,9,20051120,0023, 25.0963,-162.0277, 3335,   3000.0,2,   1.5741,2,   1.57402,2,  34.6643,2,-999.0000,9,   115.71,1,   124.69,2,   2999.1,2,   126.24,2,  -999.00,9,  -999.00,9,  -999.00,  -999.00,9,  -999.00,  -999.00,9,  -999.00, -999.000,9, -999.000, -999.000,9, -999.000,9, -999.000,9,   -999.0,9,   -999.0,9,-999.0000,9, -999.000,9, -999.000,   -999.0,9,   -999.0,   1.3557,  27.7511
    49MR0505_1,   P03,   130,  1,      3, X12015,9,20051120,0023, 25.0963,-162.0277, 3335,   2999.8,2,   1.5737,2,   1.57353,2,  34.6642,2,-999.0000,9,   115.72,1,   124.83,2,   2999.0,2,   126.24,2,  -999.00,9,  -999.00,9,  -999.00,  -999.00,9,  -999.00,  -999.00,9,  -999.00, -999.000,9, -999.000, -999.000,9, -999.000,9, -999.000,9,   -999.0,9,   -999.0,9,-999.0000,9, -999.000,9, -999.000,   -999.0,9,   -999.0,   1.3554,  27.7511
    49MR0505_1,   P03,   130,  1,      2, X12014,9,20051120,0023, 25.0963,-162.0277, 3335,   3000.2,2,   1.5727,2,   1.57249,2,  34.6644,2,-999.0000,9,   115.80,1,   124.89,2,   2999.4,2,   126.23,2,  -999.00,9,  -999.00,9,  -999.00,  -999.00,9,  -999.00,  -999.00,9,  -999.00, -999.000,9, -999.000, -999.000,9, -999.000,9, -999.000,9,   -999.0,9,   -999.0,9,-999.0000,9, -999.000,9, -999.000,   -999.0,9,   -999.0,   1.3543,  27.7513
    49MR0505_1,   P03,   130,  1,      1, X12013,2,20051120,0023, 25.0963,-162.0277, 3335,   3410.7,2,   1.5293,2,   1.52935,2,  34.6722,2,  34.6718,6,   124.54,1,   133.15,2,   3410.8,2,   132.85,2,   133.31,2,   157.80,2,     0.47,    37.41,2,     0.14,     0.00,2,     0.01,    2.635,2,    0.017,    0.001,2,    0.003,2,    0.000,2,   2343.2,2,   2422.5,2,   7.5633,2, -999.000,9, -999.000,   -999.0,9,   -999.0,   1.2716,  27.7634