BOTTLE,20100316JAMSTECRIGC
EXPOCODE,SECT,STNNBR,CASTNO,SAMPNO,BTLNBR,BTLNBR_FLAG_W,DATE,TIME,LATITUDE,LONGITUDE,DEPTH,CTDPRS,CTDPRS_FLAG_W,CTDTMP,CTDTMP_FLAG_W,SBE35,SBE35_FLAG_W,CTDSAL,CTDSAL_FLAG_W,SALNTY,SALNTY_FLAG_W,CTDOXY,CTDOXY_FLAG_W,OPTOXY,OPTOXY_FLAG_W,DWNPRS,DWNPRS_FLAG_W,DWNOXY,DWNOXY_FLAG_W,OXYGEN,OXYGEN_FLAG_W,SILCAT,SILCAT_FLAG_W,SILUNC,NITRAT,NITRAT_FLAG_W,NRAUNC,NITRIT,NITRIT_FLAG_W,NRIUNC,PHSPHT,PHSPHT_FLAG_W,PHPUNC,CFC-11,CFC-11_FLAG_W,CFC-12,CFC-12_FLAG_W,CFC113,CFC113_FLAG_W,TCARBN,TCARBN_FLAG_W,ALKALI,ALKALI_FLAG_W,PH,PH_FLAG_W,DELC13,DELC13_FLAG_W,C13ERR,DELC14,DELC14_FLAG_W,C14ERR,THETA,SIG0
,,,,,,,,UTC,DEG,DEG,M,DBAR,,ITS-90,,ITS-90,,PSS-78,,PSS-78,,UMOL/KG,,UMOL/KG,,DBAR,,UMOL/KG,,UMOL/KG,,UMOL/KG,,UMOL/KG,UMOL/KG,,UMOL/KG,UMOL/KG,,UMOL/KG,UMOL/KG,,UMOL/KG,PMOL/KG,,PMOL/KG,,PMOL/KG,,UMOL/KG,,UMOL/KG,,,,/MILLE,,/MILLE,/MILLE,,/MILLE,DEG C,KG/CUM
    49MR0505_1,   P03,    73,  1,      0,   -999,9,20051110,0657, 24.2430,-140.3665, 4812,   -999.0,9,-999.0000,9,-999.00000,9,-999.0000,9,  35.1397,2,  -999.00,9,  -999.00,9,   -999.0,9,  -999.00,9,  -999.00,9,  -999.00,9,  -999.00,  -999.00,9,  -999.00,  -999.00,9,  -999.00, -999.000,9, -999.000, -999.000,9, -999.000,9, -999.000,9,   -999.0,9,   -999.0,9,-999.0000,9, -999.000,9, -999.000,   -999.0,9,   -999.0,-999.0000,-999.0000
    49MR0505_1,   P03,    73,  1,     36, X12048,2,20051110,0657, 24.2430,-140.3665, 4812,      9.7,2,  22.8607,2,  22.86128,2,  35.1406,2,  35.1402,2,   205.62,1,   217.33,2,     11.0,2,   217.23,2,   217.17,2,     1.09,2,     0.12,     0.05,2,     0.03,     0.00,2,     0.01,    0.114,2,    0.020,    1.891,2,    1.142,2, -999.000,5,   -999.0,9,   -999.0,9,-999.0000,9, -999.000,9, -999.000,   -999.0,9,   -999.0,  22.8587,  24.0809
    49MR0505_1,   P03,    73,  1,     35, X12047,2,20051110,0657, 24.2430,-140.3665, 4812,     49.8,2,  22.8682,2,  22.86952,2,  35.1392,2,  35.1395,2,   205.57,1,   217.58,2,     51.2,2,   216.95,2,   217.20,2,     1.10,2,     0.12,     0.05,2,     0.03,     0.00,2,     0.01,    0.111,2,    0.021, -999.000,9, -999.000,9, -999.000,9,   -999.0,9,   -999.0,9,-999.0000,9, -999.000,9, -999.000,   -999.0,9,   -999.0,  22.8581,  24.0801
    49MR0505_1,   P03,    73,  1,     34, X12046,2,20051110,0657, 24.2430,-140.3665, 4812,     99.7,2,  20.7795,2,  20.77448,2,  34.9572,2,  34.9607,2,   213.62,1,   225.71,2,    101.4,2,   223.99,2,   224.57,2,     1.48,2,     0.12,     0.05,2,     0.03,     0.01,2,     0.01,    0.128,2,    0.019,    2.161,2,    1.276,2, -999.000,5,   -999.0,9,   -999.0,9,-999.0000,9, -999.000,9, -999.000,   -999.0,9,   -999.0,  20.7606,  24.5262
    49MR0505_1,   P03,    73,  1,     33, X12003,2,20051110,0657, 24.2430,-140.3665, 4812,    151.1,2,  19.3345,2,  19.38226,2,  34.8617,2,  34.8647,2,   198.03,1,   209.92,2,    151.7,2,   207.71,2,   209.25,2,     1.93,2,     0.12,     0.85,2,     0.04,     0.07,2,     0.01,    0.214,2,    0.016, -999.000,9, -999.000,9, -999.000,9,   -999.0,9,   -999.0,9,-999.0000,9, -999.000,9, -999.000,   -999.0,9,   -999.0,  19.3073,  24.8367
    49MR0505_1,   P03,    73,  1,     32, X12044,2,20051110,0657, 24.2430,-140.3665, 4812,    200.2,2,  15.5705,2,  15.57103,2,  34.2697,2,  34.2513,2,   191.87,1,   201.92,2,    202.9,2,   203.34,2,   202.56,2,     4.43,2,     0.13,     4.63,2,     0.05,     0.01,2,     0.01,    0.495,2,    0.013,    2.697,2,    1.542,2,    0.171,4,   -999.0,9,   -999.0,9,-999.0000,9, -999.000,9, -999.000,   -999.0,9,   -999.0,  15.5396,  25.2897
    49MR0505_1,   P03,    73,  1,     31, X12051,2,20051110,0657, 24.2430,-140.3665, 4812,    250.5,2,  12.3615,2,  12.36522,2,  33.9642,2,  33.9615,2,   192.70,1,   202.19,2,    255.5,2,   202.61,2,   202.57,2,     8.84,2,     0.14,     9.61,2,     0.06,     0.01,2,     0.01,    0.824,2,    0.013, -999.000,9, -999.000,9, -999.000,9,   -999.0,9,   -999.0,9,-999.0000,9, -999.000,9, -999.000,   -999.0,9,   -999.0,  12.3285,  25.7219
    49MR0505_1,   P03,    73,  1,     30, X12042,2,20051110,0657, 24.2430,-140.3665, 4812,    299.8,2,  10.1199,2,  10.12001,2,  34.0017,2,  34.0070,2,   177.06,1,   185.67,2,    305.6,2,   188.37,2,   185.88,2,    18.00,2,     0.16,    16.74,2,     0.08,     0.00,2,     0.01,    1.286,2,    0.014,    3.106,2,    1.665,2,    0.116,2,   -999.0,9,   -999.0,9,-999.0000,9, -999.000,9, -999.000,   -999.0,9,   -999.0,  10.0851,  26.1579
    49MR0505_1,   P03,    73,  1,     29, X12041,2,20051110,0657, 24.2430,-140.3665, 4812,    399.6,2,   7.9788,2,   7.97721,2,  34.0499,2,  34.0498,2,   134.34,1,   140.81,2,    403.1,2,   144.58,2,   140.17,2,    37.08,2,     0.20,    26.24,2,     0.11,     0.00,2,     0.01,    1.915,2,    0.015,    2.503,2,    1.234,2,    0.103,2,   -999.0,9,   -999.0,9,-999.0000,9, -999.000,9, -999.000,   -999.0,9,   -999.0,   7.9385,  26.5368
    49MR0505_1,   P03,    73,  1,     28, X12016,2,20051110,0657, 24.2430,-140.3665, 4812,    501.8,2,   6.0814,2,   6.07908,2,  34.0428,2,  34.0437,6,    78.64,1,    83.21,2,    501.4,2,    84.02,2,    81.90,2,    62.05,2,     0.26,    35.08,2,     0.13,     0.00,2,     0.01,    2.564,2,    0.016,    1.156,2,    0.567,2,    0.038,2,   -999.0,9,   -999.0,9,-999.0000,9, -999.000,9, -999.000,   -999.0,9,   -999.0,   6.0376,  26.7915
    49MR0505_1,   P03,    73,  1,     27, X12039,2,20051110,0657, 24.2430,-140.3665, 4812,    600.8,2,   5.2179,2,   5.21821,2,  34.1558,2,  34.1557,2,    32.70,1,    34.30,2,    599.2,2,    32.11,2,    34.46,2,    82.77,2,     0.30,    40.39,2,     0.15,     0.00,2,     0.01,    2.999,2,    0.017,    0.243,2,    0.133,2,    0.014,2,   -999.0,9,   -999.0,9,-999.0000,9, -999.000,9, -999.000,   -999.0,9,   -999.0,   5.1689,  26.9864
    49MR0505_1,   P03,    73,  1,     26, X12038,2,20051110,0657, 24.2430,-140.3665, 4812,    701.9,2,   4.8881,2,   4.88780,2,  34.2840,2,  34.2816,2,    17.05,1,    18.12,2,    700.5,2,    16.77,2,    18.01,2,    93.68,2,     0.33,    42.30,2,     0.15,     0.00,2,     0.01,    3.167,2,    0.018,    0.036,2,    0.023,2,    0.000,2,   -999.0,9,   -999.0,9,-999.0000,9, -999.000,9, -999.000,   -999.0,9,   -999.0,   4.8320,  27.1267
    49MR0505_1,   P03,    73,  1,     25, X12037,2,20051110,0657, 24.2430,-140.3665, 4812,    800.9,2,   4.6540,2,   4.65449,2,  34.3850,2,  34.3845,2,    18.58,1,    19.69,2,    797.6,2,    19.99,2,    19.80,2,    99.53,2,     0.34,    42.98,2,     0.15,     0.00,2,     0.01,    3.200,2,    0.018,    0.009,2,    0.006,2,    0.000,2,   -999.0,9,   -999.0,9,-999.0000,9, -999.000,9, -999.000,   -999.0,9,   -999.0,   4.5907,  27.2338
    49MR0505_1,   P03,    73,  1,     24, X12008,2,20051110,0657, 24.2430,-140.3665, 4812,    900.7,2,   4.4130,2,   4.41326,2,  34.4455,2,  34.4436,2,    23.89,1,    25.17,2,    898.2,2,    25.24,2,    25.22,2,   104.04,2,     0.35,    43.19,2,     0.15,     0.00,2,     0.01,    3.194,2,    0.018,    0.005,2,    0.004,2,    0.000,2,   -999.0,9,   -999.0,9,-999.0000,9, -999.000,9, -999.000,   -999.0,9,   -999.0,   4.3427,  27.3089
    49MR0505_1,   P03,    73,  1,     23, X12035,2,20051110,0657, 24.2430,-140.3665, 4812,   1001.5,2,   4.1367,2,   4.13741,2,  34.4821,2,  34.4817,6,    29.42,1,    30.72,2,    999.2,2,    30.60,2,    30.85,2,   109.91,2,     0.36,    43.24,2,     0.15,     0.00,2,     0.01,    3.183,2,    0.018,    0.000,2,    0.001,2,    0.000,2,   -999.0,9,   -999.0,9,-999.0000,9, -999.000,9, -999.000,   -999.0,9,   -999.0,   4.0599,  27.3680
    49MR0505_1,   P03,    73,  1,     22, X12034,2,20051110,0657, 24.2430,-140.3665, 4812,   1200.4,2,   3.6253,2,   3.62550,2,  34.5254,2,  34.5249,2,    37.26,1,    38.96,2,   1198.0,2,    39.72,2,    39.40,2,   121.74,2,     0.39,    43.07,2,     0.15,     0.00,2,     0.01,    3.167,2,    0.018,    0.001,2,    0.001,2,    0.000,2,   -999.0,9,   -999.0,9,-999.0000,9, -999.000,9, -999.000,   -999.0,9,   -999.0,   3.5361,  27.4555
    49MR0505_1,   P03,    73,  1,     21, X12033,2,20051110,0657, 24.2430,-140.3665, 4812,   1400.3,2,   3.1293,2,   3.12918,2,  34.5575,2,  34.5574,2,    46.39,1,    48.65,2,   1399.3,2,    49.49,2,    49.17,2,   133.67,2,     0.41,    42.79,2,     0.15,     0.00,2,     0.01,    3.128,2,    0.018,    0.000,2,    0.000,2,    0.000,2,   -999.0,9,   -999.0,9,-999.0000,9, -999.000,9, -999.000,   -999.0,9,   -999.0,   3.0284,  27.5293
    49MR0505_1,   P03,    73,  1,     20, X12032,2,20051110,0657, 24.2430,-140.3665, 4812,   1599.2,2,   2.7401,2,   2.74007,2,  34.5811,2,  34.5810,2,    56.53,1,    59.63,2,   1597.9,2,    60.19,2,    60.01,2,   142.74,2,     0.43,    42.26,2,     0.15,     0.00,2,     0.01,    3.065,2,    0.018,    0.000,2,    0.000,2,    0.000,2,   -999.0,9,   -999.0,9,-999.0000,9, -999.000,9, -999.000,   -999.0,9,   -999.0,   2.6271,  27.5840
    49MR0505_1,   P03,    73,  1,     19, X12001,2,20051110,0657, 24.2430,-140.3665, 4812,   1799.7,2,   2.3968,2,   2.39717,2,  34.6000,2,  34.5996,6,    68.36,1,    72.46,2,   1799.9,2,    71.60,2,    72.54,2,   150.32,2,     0.45,    41.46,2,     0.15,     0.00,2,     0.01,    2.981,2,    0.017,    0.000,2,    0.000,2,    0.000,2,   -999.0,9,   -999.0,9,-999.0000,9, -999.000,9, -999.000,   -999.0,9,   -999.0,   2.2715,  27.6292
    49MR0505_1,   P03,    73,  1,     18, X12030,2,20051110,0657, 24.2430,-140.3665, 4812,   2000.8,2,   2.1611,2,   2.16123,2,  34.6165,2,  34.6162,2,    76.18,1,    80.84,2,   2000.0,2,    81.24,2,    80.90,2,   156.63,2,     0.46,    40.88,2,     0.15,     0.00,2,     0.01,    2.929,2,    0.017,    0.018,2,    0.008,2,    0.000,2,   -999.0,9,   -999.0,9,-999.0000,9, -999.000,9, -999.000,   -999.0,9,   -999.0,   2.0222,  27.6626
    49MR0505_1,   P03,    73,  1,     17, X12049,2,20051110,0657, 24.2430,-140.3665, 4812,   4882.0,2,   1.4976,2,   1.49756,2,  34.6924,2,  34.6929,2,   153.52,1,   159.78,2,   4882.0,2,   159.67,2,   159.50,2,   147.75,2,     0.44,    35.71,2,     0.13,     0.00,2,     0.01,    2.496,2,    0.016, -999.000,9, -999.000,9, -999.000,9,   -999.0,9,   -999.0,9,-999.0000,9, -999.000,9, -999.000,   -999.0,9,   -999.0,   1.0777,  27.7930
    49MR0505_1,   P03,    73,  1,     16, X12028,2,20051110,0657, 24.2430,-140.3665, 4812,   2399.3,2,   1.8278,2,   1.82784,2,  34.6432,2,  34.6430,2,    92.13,1,    98.10,2,   2398.9,2,    98.06,2,    97.98,2,   164.13,2,     0.48,    39.82,2,     0.14,     0.00,2,     0.01,    2.840,2,    0.017, -999.000,9, -999.000,9, -999.000,9,   -999.0,9,   -999.0,9,-999.0000,9, -999.000,9, -999.000,   -999.0,9,   -999.0,   1.6598,  27.7120
    49MR0505_1,   P03,    73,  1,     15, X12009,2,20051110,0657, 24.2430,-140.3665, 4812,   2601.8,2,   1.7114,2,   1.71151,2,  34.6531,2,  34.6527,2,    99.51,1,   105.75,2,   2601.6,2,   105.98,2,   106.09,2,   166.48,2,     0.49,    39.35,2,     0.14,     0.00,2,     0.01,    2.790,2,    0.017, -999.000,9, -999.000,9, -999.000,9,   -999.0,9,   -999.0,9,-999.0000,9, -999.000,9, -999.000,   -999.0,9,   -999.0,   1.5273,  27.7298
    49MR0505_1,   P03,    73,  1,     14, X12026,2,20051110,0657, 24.2430,-140.3665, 4812,   2799.7,2,   1.6180,2,   1.61800,2,  34.6621,2,  34.6617,6,   107.56,1,   114.57,2,   2799.9,2,   113.86,2,   114.56,2,   166.85,2,     0.49,    38.77,2,     0.14,     0.00,2,     0.01,    2.745,2,    0.017, -999.000,9, -999.000,9, -999.000,9,   -999.0,9,   -999.0,9,-999.0000,9, -999.000,9, -999.000,   -999.0,9,   -999.0,   1.4176,  27.7450
    49MR0505_1,   P03,    73,  1,     13, X12025,2,20051110,0657, 24.2430,-140.3665, 4812,   3002.4,2,   1.5620,2,   1.56188,2,  34.6689,2,  34.6684,2,   114.26,1,   121.64,2,   3002.6,2,   121.27,2,   121.70,2,   165.97,2,     0.48,    38.27,2,     0.14,     0.00,2,     0.01,    2.697,2,    0.017, -999.000,9, -999.000,9, -999.000,9,   -999.0,9,   -999.0,9,-999.0000,9, -999.000,9, -999.000,   -999.0,9,   -999.0,   1.3436,  27.7557
    49MR0505_1,   P03,    73,  1,     12, X12024,2,20051110,0657, 24.2430,-140.3665, 4812,   3249.2,2,   1.5180,2,   1.51800,2,  34.6752,2,  34.6747,2,   121.76,1,   129.63,2,   3249.3,2,   128.92,2,   129.57,2,   164.32,2,     0.48,    37.70,2,     0.14,     0.00,2,     0.01,    2.653,2,    0.017, -999.000,9, -999.000,9, -999.000,9,   -999.0,9,   -999.0,9,-999.0000,9, -999.000,9, -999.000,   -999.0,9,   -999.0,   1.2766,  27.7655
    49MR0505_1,   P03,    73,  1,     11, X12023,2,20051110,0657, 24.2430,-140.3665, 4812,   3500.2,2,   1.4948,2,   1.49494,2,  34.6795,2,  34.6788,2,   127.47,1,   135.47,2,   3500.2,2,   135.33,2,   135.39,2,   163.00,2,     0.48,    37.37,2,     0.14,     0.00,2,     0.01,    2.626,2,    0.017, -999.000,9, -999.000,9, -999.000,9,   -999.0,9,   -999.0,9,-999.0000,9, -999.000,9, -999.000,   -999.0,9,   -999.0,   1.2288,  27.7723
    49MR0505_1,   P03,    73,  1,     10, X12022,2,20051110,0657, 24.2430,-140.3665, 4812,   3751.3,2,   1.4815,2,   1.48153,2,  34.6831,2,  34.6826,6,   132.93,1,   140.89,2,   3751.2,2,   141.23,2,   140.84,2,   160.52,2,     0.47,    37.02,2,     0.14,     0.00,2,     0.01,    2.598,2,    0.016, -999.000,9, -999.000,9, -999.000,9,   -999.0,9,   -999.0,9,-999.0000,9, -999.000,9, -999.000,   -999.0,9,   -999.0,   1.1898,  27.7779
    49MR0505_1,   P03,    73,  1,      9, X12021,2,20051110,0657, 24.2430,-140.3665, 4812,   3999.6,2,   1.4768,2,   1.47688,2,  34.6860,2,  34.6852,2,   137.76,1,   145.77,2,   3999.6,2,   145.70,2,   145.55,2,   157.88,2,     0.47,    36.71,2,     0.14,     0.00,2,     0.01,    2.579,2,    0.016, -999.000,9, -999.000,9, -999.000,9,   -999.0,9,   -999.0,9,-999.0000,9, -999.000,9, -999.000,   -999.0,9,   -999.0,   1.1586,  27.7823
    49MR0505_1,   P03,    73,  1,      8, X12020,2,20051110,0657, 24.2430,-140.3665, 4812,   4252.7,2,   1.4869,2,   1.48704,2,  34.6879,2,  34.6874,2,   141.27,1,   148.88,2,   4252.8,2,   148.88,2,   148.63,2,   155.96,2,     0.46,    36.51,2,     0.14,     0.00,2,     0.01,    2.555,2,    0.016, -999.000,9, -999.000,9, -999.000,9,   -999.0,9,   -999.0,9,-999.0000,9, -999.000,9, -999.000,   -999.0,9,   -999.0,   1.1404,  27.7851
    49MR0505_1,   P03,    73,  1,      7, X12019,2,20051110,0657, 24.2430,-140.3665, 4812,   4498.9,2,   1.5019,2,   1.50188,2,  34.6888,2,  34.6889,2,   144.13,1,   151.35,2,   4499.0,2,   151.14,2,   151.24,2,   154.24,2,     0.46,    36.33,2,     0.13,     0.00,2,     0.01,    2.538,2,    0.016, -999.000,9, -999.000,9, -999.000,9,   -999.0,9,   -999.0,9,-999.0000,9, -999.000,9, -999.000,   -999.0,9,   -999.0,   1.1270,  27.7868
    49MR0505_1,   P03,    73,  1,      6, X12018,2,20051110,0657, 24.2430,-140.3665, 4812,   4749.9,2,   1.4974,2,   1.49748,2,  34.6913,2,  34.6910,2,   150.28,1,   157.16,2,   4749.9,2,   156.79,2,   156.77,2,   149.70,2,     0.45,    35.84,2,     0.13,     0.00,2,     0.01,    2.511,2,    0.016, -999.000,9, -999.000,9, -999.000,9,   -999.0,9,   -999.0,9,-999.0000,9, -999.000,9, -999.000,   -999.0,9,   -999.0,   1.0933,  27.7910
    49MR0505_1,   P03,    73,  1,      5, X12043,2,20051110,0657, 24.2430,-140.3665, 4812,   2201.0,2,   1.9541,2,   1.95420,2,  34.6332,2,  34.6332,2,    85.55,1,    91.02,2,   2201.2,2,    90.39,2,    90.90,2,   161.25,2,     0.47,    40.27,2,     0.15,     0.00,2,     0.01,    2.880,2,    0.017, -999.000,9, -999.000,9, -999.000,9,   -999.0,9,   -999.0,9,-999.0000,9, -999.000,9, -999.000,   -999.0,9,   -999.0,   1.8013,  27.6933
    49MR0505_1,   P03,    73,  1,      4, X12010,2,20051110,0657, 24.2430,-140.3665, 4812,   2001.3,2,   2.1614,2,   2.16140,2,  34.6165,2,-999.0000,9,    76.20,1,    80.74,2,   2000.4,2,    81.26,2,  -999.00,9,  -999.00,9,  -999.00,  -999.00,9,  -999.00,  -999.00,9,  -999.00, -999.000,9, -999.000, -999.000,9, -999.000,9, -999.000,9,   -999.0,9,   -999.0,9,-999.0000,9, -999.000,9, -999.000,   -999.0,9,   -999.0,   2.0225,  27.6626
    49MR0505_1,   P03,    73,  1,      3, X12015,2,20051110,0657, 24.2430,-140.3665, 4812,   3999.6,2,   1.4768,2,   1.47681,2,  34.6861,2,-999.0000,9,   137.80,1,   145.65,2,   3999.7,2,   145.68,2,  -999.00,9,  -999.00,9,  -999.00,  -999.00,9,  -999.00,  -999.00,9,  -999.00, -999.000,9, -999.000, -999.000,9, -999.000,9, -999.000,9,   -999.0,9,   -999.0,9,-999.0000,9, -999.000,9, -999.000,   -999.0,9,   -999.0,   1.1586,  27.7824
    49MR0505_1,   P03,    73,  1,      2, X12014,2,20051110,0657, 24.2430,-140.3665, 4812,   4881.7,2,   1.4976,2,   1.49754,2,  34.6924,2,-999.0000,9,   153.60,1,   159.73,2,   4881.7,2,   159.64,2,  -999.00,9,  -999.00,9,  -999.00,  -999.00,9,  -999.00,  -999.00,9,  -999.00, -999.000,9, -999.000, -999.000,9, -999.000,9, -999.000,9,   -999.0,9,   -999.0,9,-999.0000,9, -999.000,9, -999.000,   -999.0,9,   -999.0,   1.0777,  27.7930
    49MR0505_1,   P03,    73,  1,      1, X12013,2,20051110,0657, 24.2430,-140.3665, 4812,   4881.9,2,   1.4976,2,   1.49758,2,  34.6924,2,  34.6920,6,   153.65,1,   159.76,2,   4881.8,2,   159.67,2,   159.52,2,   147.50,2,     0.44,    35.66,2,     0.13,     0.00,2,     0.01,    2.490,2,    0.016, -999.000,9, -999.000,9, -999.000,9,   -999.0,9,   -999.0,9,-999.0000,9, -999.000,9, -999.000,   -999.0,9,   -999.0,   1.0777,  27.7930