BOTTLE,20100316JAMSTECRIGC
EXPOCODE,SECT,STNNBR,CASTNO,SAMPNO,BTLNBR,BTLNBR_FLAG_W,DATE,TIME,LATITUDE,LONGITUDE,DEPTH,CTDPRS,CTDPRS_FLAG_W,CTDTMP,CTDTMP_FLAG_W,SBE35,SBE35_FLAG_W,CTDSAL,CTDSAL_FLAG_W,SALNTY,SALNTY_FLAG_W,CTDOXY,CTDOXY_FLAG_W,OPTOXY,OPTOXY_FLAG_W,DWNPRS,DWNPRS_FLAG_W,DWNOXY,DWNOXY_FLAG_W,OXYGEN,OXYGEN_FLAG_W,SILCAT,SILCAT_FLAG_W,SILUNC,NITRAT,NITRAT_FLAG_W,NRAUNC,NITRIT,NITRIT_FLAG_W,NRIUNC,PHSPHT,PHSPHT_FLAG_W,PHPUNC,CFC-11,CFC-11_FLAG_W,CFC-12,CFC-12_FLAG_W,CFC113,CFC113_FLAG_W,TCARBN,TCARBN_FLAG_W,ALKALI,ALKALI_FLAG_W,PH,PH_FLAG_W,DELC13,DELC13_FLAG_W,C13ERR,DELC14,DELC14_FLAG_W,C14ERR,THETA,SIG0
,,,,,,,,UTC,DEG,DEG,M,DBAR,,ITS-90,,ITS-90,,PSS-78,,PSS-78,,UMOL/KG,,UMOL/KG,,DBAR,,UMOL/KG,,UMOL/KG,,UMOL/KG,,UMOL/KG,UMOL/KG,,UMOL/KG,UMOL/KG,,UMOL/KG,UMOL/KG,,UMOL/KG,PMOL/KG,,PMOL/KG,,PMOL/KG,,UMOL/KG,,UMOL/KG,,,,/MILLE,,/MILLE,/MILLE,,/MILLE,DEG C,KG/CUM
    49MR0505_1,   P03,    12,  1,      0,   -999,9,20051102,0041, 31.9057,-119.2582, 1287,   -999.0,9,-999.0000,9,-999.00000,9,-999.0000,9,  33.4443,2,  -999.00,9,  -999.00,9,   -999.0,9,  -999.00,9,  -999.00,9,  -999.00,9,  -999.00,  -999.00,9,  -999.00,  -999.00,9,  -999.00, -999.000,9, -999.000, -999.000,9, -999.000,9, -999.000,9,   -999.0,9,   -999.0,9,-999.0000,9, -999.000,9, -999.000,   -999.0,9,   -999.0,-999.0000,-999.0000
    49MR0505_1,   P03,    12,  1,     36, X12048,2,20051102,0041, 31.9057,-119.2582, 1287,     10.6,2,  18.2561,2,  18.25570,2,  33.4118,2,  33.4146,2,   235.42,1,   242.63,2,     13.4,2,   241.58,2,   242.14,2,     1.64,2,     0.12,     0.03,2,     0.03,     0.01,2,     0.01,    0.238,2,    0.015,    2.375,2,    1.405,2, -999.000,5,   1989.0,2,   2233.5,2,   7.9855,2, -999.000,9, -999.000,   -999.0,9,   -999.0,  18.2543,  23.9937
    49MR0505_1,   P03,    12,  1,     35, X12047,2,20051102,0041, 31.9057,-119.2582, 1287,     49.8,2,  11.8053,2,  11.80536,2,  33.2655,2,  33.2783,2,   207.02,1,   208.76,2,     50.6,2,   208.70,2,   207.08,2,     9.40,2,     0.14,    11.23,2,     0.06,     0.04,2,     0.01,    1.058,2,    0.013,    3.117,2,    1.763,2,    0.285,4,   2072.2,6,   2214.7,2,   7.7654,2, -999.000,9, -999.000,   -999.0,9,   -999.0,  11.7990,  25.2797
    49MR0505_1,   P03,    12,  1,     34, X12046,2,20051102,0041, 31.9057,-119.2582, 1287,    100.3,2,   9.6671,2,   9.66193,2,  33.7046,2,  33.7356,2,   140.50,1,   141.72,2,     95.6,2,   139.58,2,   140.66,2,    23.18,2,     0.17,    22.66,2,     0.10,     0.01,2,     0.01,    1.790,2,    0.015,    2.973,2,    1.609,2,    0.162,2,   2157.1,2,   2242.1,6,   7.5974,2, -999.000,9, -999.000,   -999.0,9,   -999.0,   9.6560,  25.9978
    49MR0505_1,   P03,    12,  1,     33, X12003,2,20051102,0041, 31.9057,-119.2582, 1287,    151.5,2,   9.4669,2,   9.46712,2,  34.1132,2,  34.1199,2,    90.43,1,    91.43,2,    145.5,2,   103.14,2,    90.04,2,    31.94,2,     0.19,    26.53,2,     0.11,     0.01,2,     0.01,    2.164,2,    0.015,    2.215,2,    1.139,2,    0.093,2,   2207.7,2,   2269.0,2,   7.5232,6, -999.000,9, -999.000,   -999.0,9,   -999.0,   9.4502,  26.3511
    49MR0505_1,   P03,    12,  1,     32, X12044,2,20051102,0041, 31.9057,-119.2582, 1287,    199.3,2,   9.0864,2,   9.08357,2,  34.2589,2,  34.2579,2,    57.77,1,    58.92,2,    200.9,2,    77.18,2,    57.85,2,    39.64,2,     0.21,    29.37,2,     0.12,     0.01,2,     0.01,    2.454,2,    0.016,    1.454,2,    0.757,2,    0.056,2,   2241.5,2,   2282.7,2,   7.4659,2, -999.000,9, -999.000,   -999.0,9,   -999.0,   9.0648,  26.5274
    49MR0505_1,   P03,    12,  1,     31, X12051,2,20051102,0041, 31.9057,-119.2582, 1287,    250.5,2,   8.5730,2,   8.57295,2,  34.2860,2,  34.2851,2,    44.61,1,    45.26,2,    250.7,2,    45.09,2,    45.05,2,    44.94,2,     0.22,    31.00,2,     0.12,     0.01,2,     0.01,    2.602,2,    0.016,    1.059,6,    0.558,6,    0.043,6,   2256.4,2,   2290.3,2,   7.4347,2, -999.000,9, -999.000,   -999.0,9,   -999.0,   8.5468,  26.6301
    49MR0505_1,   P03,    12,  1,     30, X12042,2,20051102,0041, 31.9057,-119.2582, 1287,    300.6,2,   7.9162,2,   7.91622,2,  34.2685,2,  34.2683,2,    39.13,1,    39.54,2,    302.0,2,    39.89,2,    39.58,2,    50.91,2,     0.23,    32.90,2,     0.12,     0.01,2,     0.01,    2.715,2,    0.017,    0.810,2,    0.434,2,    0.028,2,   2269.2,2,   2292.3,2,   7.4141,2, -999.000,9, -999.000,   -999.0,9,   -999.0,   7.8861,  26.7162
    49MR0505_1,   P03,    12,  1,     29, X12041,2,20051102,0041, 31.9057,-119.2582, 1287,    400.4,2,   7.0892,2,   7.08865,2,  34.2875,2,  34.2878,2,    24.55,1,    24.50,2,    400.5,2,    25.05,2,    24.68,2,    61.60,2,     0.25,    35.86,2,     0.13,     0.01,2,     0.01,    2.912,2,    0.017,    0.388,2,    0.217,2,    0.000,2,   2291.8,2,   2305.1,2,   7.3798,2, -999.000,9, -999.000,   -999.0,9,   -999.0,   7.0513,  26.8504
    49MR0505_1,   P03,    12,  1,     28, X12016,2,20051102,0041, 31.9057,-119.2582, 1287,    500.7,2,   6.2014,2,   6.20143,2,  34.3264,2,  34.3265,6,    12.89,1,    12.64,2,    502.8,2,    13.63,2,    12.95,2,    75.49,2,     0.29,    39.00,2,     0.14,     0.01,2,     0.01,    3.115,2,    0.018,    0.119,2,    0.067,2,    0.000,2,   2315.4,2,   2319.9,2,   7.3561,2, -999.000,9, -999.000,   -999.0,9,   -999.0,   6.1570,  27.0003
    49MR0505_1,   P03,    12,  1,     27, X12039,2,20051102,0041, 31.9057,-119.2582, 1287,    601.2,2,   5.5871,2,   5.58715,2,  34.3711,2,  34.3713,2,     9.56,1,     9.27,2,    601.4,2,     9.89,2,     9.74,2,    85.81,2,     0.31,    40.90,2,     0.15,     0.01,2,     0.01,    3.200,2,    0.018,    0.044,2,    0.025,2,    0.000,2,   2329.3,2,   2336.2,2,   7.3527,2, -999.000,9, -999.000,   -999.0,9,   -999.0,   5.5362,  27.1132
    49MR0505_1,   P03,    12,  1,     26, X12038,2,20051102,0041, 31.9057,-119.2582, 1287,    698.7,2,   5.0302,2,   5.03056,2,  34.4074,2,  34.4072,2,    11.10,1,    10.61,2,    701.5,2,    11.06,2,    11.05,2,    96.05,2,     0.33,    42.15,2,     0.15,     0.00,2,     0.01,    3.245,2,    0.018,    0.026,2,    0.015,2,    0.000,2,   2343.5,6,   2348.1,2,   7.3549,2, -999.000,9, -999.000,   -999.0,9,   -999.0,   4.9735,  27.2084
    49MR0505_1,   P03,    12,  1,     25, X12037,2,20051102,0041, 31.9057,-119.2582, 1287,    800.3,2,   4.6793,2,   4.67854,2,  34.4350,2,  34.4339,2,    13.67,1,    12.98,2,    804.2,2,    13.29,2,    13.73,2,   102.81,2,     0.35,    42.78,2,     0.15,     0.01,2,     0.01,    3.256,2,    0.018,    0.023,6,    0.016,6,    0.000,6,   2347.6,2,   2354.4,6,   7.3586,2, -999.000,9, -999.000,   -999.0,9,   -999.0,   4.6158,  27.2708
    49MR0505_1,   P03,    12,  1,     24, X12008,2,20051102,0041, 31.9057,-119.2582, 1287,    900.2,2,   4.4400,2,   4.43999,2,  34.4535,2,  34.4538,2,    16.44,1,    15.71,2,    900.2,2,    16.70,2,    16.58,2,   107.42,2,     0.36,    43.03,2,     0.15,     0.00,2,     0.01,    3.248,2,    0.018,    0.024,2,    0.015,2,    0.000,2,   2352.4,2,   2363.2,2,   7.3637,6, -999.000,9, -999.000,   -999.0,9,   -999.0,   4.3696,  27.3124
    49MR0505_1,   P03,    12,  1,     23, X12035,2,20051102,0041, 31.9057,-119.2582, 1287,   1001.7,2,   3.9945,2,   3.99450,2,  34.4864,2,  34.4866,6,    22.70,1,    21.83,2,   1001.7,2,    23.02,2,    22.80,2,   117.53,2,     0.38,    43.25,2,     0.15,     0.00,2,     0.01,    3.238,2,    0.018,    0.021,2,    0.027,2,    0.000,2,   2361.5,2,   2374.2,2,   7.3741,2, -999.000,9, -999.000,   -999.0,9,   -999.0,   3.9188,  27.3860
    49MR0505_1,   P03,    12,  1,     22, X12034,2,20051102,0041, 31.9057,-119.2582, 1287,   1201.0,2,   3.5196,2,   3.51952,2,  34.5220,2,  34.5227,2,    31.74,1,    30.68,2,   1201.1,2,    32.07,2,    32.13,2,   128.63,2,     0.40,    43.22,2,     0.15,     0.00,2,     0.01,    3.206,2,    0.018,    0.024,2,    0.027,2,    0.000,2,   2367.9,2,   2383.5,2,   7.3914,2, -999.000,9, -999.000,   -999.0,9,   -999.0,   3.4313,  27.4629
    49MR0505_1,   P03,    12,  1,     21, X12033,9,20051102,0041, 31.9057,-119.2582, 1287,   -999.0,9,-999.0000,9,-999.00000,9,-999.0000,9,-999.0000,9,  -999.00,9,  -999.00,9,   -999.0,9,  -999.00,9,  -999.00,9,  -999.00,9,  -999.00,  -999.00,9,  -999.00,  -999.00,9,  -999.00, -999.000,9, -999.000, -999.000,9, -999.000,9, -999.000,9,   -999.0,9,   -999.0,9,-999.0000,9, -999.000,9, -999.000,   -999.0,9,   -999.0,-999.0000,-999.0000
    49MR0505_1,   P03,    12,  1,     20, X12032,9,20051102,0041, 31.9057,-119.2582, 1287,   -999.0,9,-999.0000,9,-999.00000,9,-999.0000,9,-999.0000,9,  -999.00,9,  -999.00,9,   -999.0,9,  -999.00,9,  -999.00,9,  -999.00,9,  -999.00,  -999.00,9,  -999.00,  -999.00,9,  -999.00, -999.000,9, -999.000, -999.000,9, -999.000,9, -999.000,9,   -999.0,9,   -999.0,9,-999.0000,9, -999.000,9, -999.000,   -999.0,9,   -999.0,-999.0000,-999.0000
    49MR0505_1,   P03,    12,  1,     19, X12001,9,20051102,0041, 31.9057,-119.2582, 1287,     10.8,2,  18.2427,2,  18.24380,2,  33.4113,2,-999.0000,9,   235.58,1,   242.35,2,     13.7,2,   241.55,2,  -999.00,9,  -999.00,9,  -999.00,  -999.00,9,  -999.00,  -999.00,9,  -999.00, -999.000,9, -999.000, -999.000,9, -999.000,9, -999.000,9,   -999.0,9,   -999.0,9,-999.0000,9, -999.000,9, -999.000,   -999.0,9,   -999.0,  18.2409,  23.9966
    49MR0505_1,   P03,    12,  1,     18, X12030,9,20051102,0041, 31.9057,-119.2582, 1287,     49.7,2,  11.8252,2,  11.82610,2,  33.2655,2,-999.0000,9,   207.07,1,   209.32,2,     50.4,2,   208.86,2,  -999.00,9,  -999.00,9,  -999.00,  -999.00,9,  -999.00,  -999.00,9,  -999.00, -999.000,9, -999.000, -999.000,9, -999.000,9, -999.000,9,   -999.0,9,   -999.0,9,-999.0000,9, -999.000,9, -999.000,   -999.0,9,   -999.0,  11.8189,  25.2760
    49MR0505_1,   P03,    12,  1,     17, X12049,9,20051102,0041, 31.9057,-119.2582, 1287,    100.2,2,   9.6769,2,   9.66914,2,  33.7031,2,-999.0000,9,   140.43,1,   142.28,2,     95.4,2,   139.78,2,  -999.00,9,  -999.00,9,  -999.00,  -999.00,9,  -999.00,  -999.00,9,  -999.00, -999.000,9, -999.000, -999.000,9, -999.000,9, -999.000,9,   -999.0,9,   -999.0,9,-999.0000,9, -999.000,9, -999.000,   -999.0,9,   -999.0,   9.6658,  25.9950
    49MR0505_1,   P03,    12,  1,     16, X12028,9,20051102,0041, 31.9057,-119.2582, 1287,    151.3,2,   9.4653,2,   9.46590,2,  34.1126,2,-999.0000,9,    90.50,1,    91.81,2,    145.4,2,   103.19,2,  -999.00,9,  -999.00,9,  -999.00,  -999.00,9,  -999.00,  -999.00,9,  -999.00, -999.000,9, -999.000, -999.000,9, -999.000,9, -999.000,9,   -999.0,9,   -999.0,9,-999.0000,9, -999.000,9, -999.000,   -999.0,9,   -999.0,   9.4486,  26.3509
    49MR0505_1,   P03,    12,  1,     15, X12006,9,20051102,0041, 31.9057,-119.2582, 1287,    199.5,2,   9.0894,2,   9.08684,2,  34.2589,2,-999.0000,9,    57.78,1,    58.98,2,    201.1,2,    77.17,2,  -999.00,9,  -999.00,9,  -999.00,  -999.00,9,  -999.00,  -999.00,9,  -999.00, -999.000,9, -999.000, -999.000,9, -999.000,9, -999.000,9,   -999.0,9,   -999.0,9,-999.0000,9, -999.000,9, -999.000,   -999.0,9,   -999.0,   9.0678,  26.5269
    49MR0505_1,   P03,    12,  1,     14, X12026,9,20051102,0041, 31.9057,-119.2582, 1287,    250.8,2,   8.5740,2,   8.57437,2,  34.2861,2,-999.0000,9,    44.64,1,    45.34,2,    250.8,2,    45.06,2,  -999.00,9,  -999.00,9,  -999.00,  -999.00,9,  -999.00,  -999.00,9,  -999.00, -999.000,9, -999.000, -999.000,9, -999.000,9, -999.000,9,   -999.0,9,   -999.0,9,-999.0000,9, -999.000,9, -999.000,   -999.0,9,   -999.0,   8.5477,  26.6301
    49MR0505_1,   P03,    12,  1,     13, X12025,9,20051102,0041, 31.9057,-119.2582, 1287,    300.7,2,   7.9160,2,   7.91610,2,  34.2691,2,-999.0000,9,    39.22,1,    39.61,2,    302.2,2,    39.85,2,  -999.00,9,  -999.00,9,  -999.00,  -999.00,9,  -999.00,  -999.00,9,  -999.00, -999.000,9, -999.000, -999.000,9, -999.000,9, -999.000,9,   -999.0,9,   -999.0,9,-999.0000,9, -999.000,9, -999.000,   -999.0,9,   -999.0,   7.8859,  26.7167
    49MR0505_1,   P03,    12,  1,     12, X12024,9,20051102,0041, 31.9057,-119.2582, 1287,    400.8,2,   7.0852,2,   7.08479,2,  34.2871,2,-999.0000,9,    24.59,1,    24.50,2,    400.9,2,    24.99,2,  -999.00,9,  -999.00,9,  -999.00,  -999.00,9,  -999.00,  -999.00,9,  -999.00, -999.000,9, -999.000, -999.000,9, -999.000,9, -999.000,9,   -999.0,9,   -999.0,9,-999.0000,9, -999.000,9, -999.000,   -999.0,9,   -999.0,   7.0473,  26.8506
    49MR0505_1,   P03,    12,  1,     11, X12023,9,20051102,0041, 31.9057,-119.2582, 1287,    500.7,2,   6.2024,2,   6.20222,2,  34.3266,2,-999.0000,9,    12.89,1,    12.67,2,    502.8,2,    13.63,2,  -999.00,9,  -999.00,9,  -999.00,  -999.00,9,  -999.00,  -999.00,9,  -999.00, -999.000,9, -999.000, -999.000,9, -999.000,9, -999.000,9,   -999.0,9,   -999.0,9,-999.0000,9, -999.000,9, -999.000,   -999.0,9,   -999.0,   6.1580,  27.0004
    49MR0505_1,   P03,    12,  1,     10, X12022,9,20051102,0041, 31.9057,-119.2582, 1287,    601.5,2,   5.5855,2,   5.58570,2,  34.3715,2,-999.0000,9,     9.58,1,     9.24,2,    601.6,2,     9.88,2,  -999.00,9,  -999.00,9,  -999.00,  -999.00,9,  -999.00,  -999.00,9,  -999.00, -999.000,9, -999.000, -999.000,9, -999.000,9, -999.000,9,   -999.0,9,   -999.0,9,-999.0000,9, -999.000,9, -999.000,   -999.0,9,   -999.0,   5.5345,  27.1138
    49MR0505_1,   P03,    12,  1,      9, X12021,9,20051102,0041, 31.9057,-119.2582, 1287,    698.7,2,   5.0303,2,   5.02994,2,  34.4074,2,-999.0000,9,    11.11,1,    10.61,2,    701.5,2,    11.06,2,  -999.00,9,  -999.00,9,  -999.00,  -999.00,9,  -999.00,  -999.00,9,  -999.00, -999.000,9, -999.000, -999.000,9, -999.000,9, -999.000,9,   -999.0,9,   -999.0,9,-999.0000,9, -999.000,9, -999.000,   -999.0,9,   -999.0,   4.9736,  27.2084
    49MR0505_1,   P03,    12,  1,      8, X12020,9,20051102,0041, 31.9057,-119.2582, 1287,    800.4,2,   4.6695,2,   4.66857,2,  34.4359,2,-999.0000,9,    13.72,1,    12.96,2,    804.5,2,    13.29,2,  -999.00,9,  -999.00,9,  -999.00,  -999.00,9,  -999.00,  -999.00,9,  -999.00, -999.000,9, -999.000, -999.000,9, -999.000,9, -999.000,9,   -999.0,9,   -999.0,9,-999.0000,9, -999.000,9, -999.000,   -999.0,9,   -999.0,   4.6061,  27.2726
    49MR0505_1,   P03,    12,  1,      7, X12019,9,20051102,0041, 31.9057,-119.2582, 1287,    900.1,2,   4.4428,2,   4.44278,2,  34.4537,2,-999.0000,9,    16.44,1,    15.67,2,    900.1,2,    16.70,2,  -999.00,9,  -999.00,9,  -999.00,  -999.00,9,  -999.00,  -999.00,9,  -999.00, -999.000,9, -999.000, -999.000,9, -999.000,9, -999.000,9,   -999.0,9,   -999.0,9,-999.0000,9, -999.000,9, -999.000,   -999.0,9,   -999.0,   4.3724,  27.3122
    49MR0505_1,   P03,    12,  1,      6, X12018,9,20051102,0041, 31.9057,-119.2582, 1287,   1000.7,2,   3.9997,2,   3.99924,2,  34.4861,2,-999.0000,9,    22.67,1,    21.83,2,   1000.7,2,    22.99,2,  -999.00,9,  -999.00,9,  -999.00,  -999.00,9,  -999.00,  -999.00,9,  -999.00, -999.000,9, -999.000, -999.000,9, -999.000,9, -999.000,9,   -999.0,9,   -999.0,9,-999.0000,9, -999.000,9, -999.000,   -999.0,9,   -999.0,   3.9240,  27.3852
    49MR0505_1,   P03,    12,  1,      5, X12043,9,20051102,0041, 31.9057,-119.2582, 1287,   1201.5,2,   3.5154,2,   3.51466,2,  34.5224,2,-999.0000,9,    31.73,1,    30.69,2,   1201.7,2,    32.06,2,  -999.00,9,  -999.00,9,  -999.00,  -999.00,9,  -999.00,  -999.00,9,  -999.00, -999.000,9, -999.000, -999.000,9, -999.000,9, -999.000,9,   -999.0,9,   -999.0,9,-999.0000,9, -999.000,9, -999.000,   -999.0,9,   -999.0,   3.4271,  27.4637
    49MR0505_1,   P03,    12,  1,      4, X12010,9,20051102,0041, 31.9057,-119.2582, 1287,   -999.0,9,-999.0000,9,-999.00000,9,-999.0000,9,-999.0000,9,  -999.00,9,  -999.00,9,   -999.0,9,  -999.00,9,  -999.00,9,  -999.00,9,  -999.00,  -999.00,9,  -999.00,  -999.00,9,  -999.00, -999.000,9, -999.000, -999.000,9, -999.000,9, -999.000,9,   -999.0,9,   -999.0,9,-999.0000,9, -999.000,9, -999.000,   -999.0,9,   -999.0,-999.0000,-999.0000
    49MR0505_1,   P03,    12,  1,      3, X12015,9,20051102,0041, 31.9057,-119.2582, 1287,   -999.0,9,-999.0000,9,-999.00000,9,-999.0000,9,-999.0000,9,  -999.00,9,  -999.00,9,   -999.0,9,  -999.00,9,  -999.00,9,  -999.00,9,  -999.00,  -999.00,9,  -999.00,  -999.00,9,  -999.00, -999.000,9, -999.000, -999.000,9, -999.000,9, -999.000,9,   -999.0,9,   -999.0,9,-999.0000,9, -999.000,9, -999.000,   -999.0,9,   -999.0,-999.0000,-999.0000
    49MR0505_1,   P03,    12,  1,      2, X12014,9,20051102,0041, 31.9057,-119.2582, 1287,   1365.3,2,   3.1237,2,   3.12043,2,  34.5508,2,-999.0000,9,    41.14,1,    39.65,2,   1365.4,2,    41.37,2,  -999.00,9,  -999.00,9,  -999.00,  -999.00,9,  -999.00,  -999.00,9,  -999.00, -999.000,9, -999.000, -999.000,9, -999.000,9, -999.000,9,   -999.0,9,   -999.0,9,-999.0000,9, -999.000,9, -999.000,   -999.0,9,   -999.0,   3.0257,  27.5242
    49MR0505_1,   P03,    12,  1,      1, X12013,2,20051102,0041, 31.9057,-119.2582, 1287,   1365.0,2,   3.1221,2,   3.12156,2,  34.5509,2,  34.5515,6,    41.42,1,    39.72,2,   1365.1,2,    41.47,2,    41.60,2,   138.25,2,     0.42,    42.77,2,     0.15,     0.01,2,     0.01,    3.161,2,    0.018,    0.031,2,    0.024,2,    0.000,2,   2371.6,2,   2398.7,2,   7.4110,2, -999.000,9, -999.000,   -999.0,9,   -999.0,   3.0242,  27.5244