BOTTLE,20100316JAMSTECRIGC
EXPOCODE,SECT,STNNBR,CASTNO,SAMPNO,BTLNBR,BTLNBR_FLAG_W,DATE,TIME,LATITUDE,LONGITUDE,DEPTH,CTDPRS,CTDPRS_FLAG_W,CTDTMP,CTDTMP_FLAG_W,SBE35,SBE35_FLAG_W,CTDSAL,CTDSAL_FLAG_W,SALNTY,SALNTY_FLAG_W,CTDOXY,CTDOXY_FLAG_W,OPTOXY,OPTOXY_FLAG_W,DWNPRS,DWNPRS_FLAG_W,DWNOXY,DWNOXY_FLAG_W,OXYGEN,OXYGEN_FLAG_W,SILCAT,SILCAT_FLAG_W,SILUNC,NITRAT,NITRAT_FLAG_W,NRAUNC,NITRIT,NITRIT_FLAG_W,NRIUNC,PHSPHT,PHSPHT_FLAG_W,PHPUNC,CFC-11,CFC-11_FLAG_W,CFC-12,CFC-12_FLAG_W,CFC113,CFC113_FLAG_W,TCARBN,TCARBN_FLAG_W,ALKALI,ALKALI_FLAG_W,PH,PH_FLAG_W,DELC13,DELC13_FLAG_W,C13ERR,DELC14,DELC14_FLAG_W,C14ERR,THETA,SIG0
,,,,,,,,UTC,DEG,DEG,M,DBAR,,ITS-90,,ITS-90,,PSS-78,,PSS-78,,UMOL/KG,,UMOL/KG,,DBAR,,UMOL/KG,,UMOL/KG,,UMOL/KG,,UMOL/KG,UMOL/KG,,UMOL/KG,UMOL/KG,,UMOL/KG,UMOL/KG,,UMOL/KG,PMOL/KG,,PMOL/KG,,PMOL/KG,,UMOL/KG,,UMOL/KG,,,,/MILLE,,/MILLE,/MILLE,,/MILLE,DEG C,KG/CUM
    49MR0505_1,   P03,    81,  1,      0,   -999,9,20051112,1556, 24.2545,-144.0403, 5292,   -999.0,9,-999.0000,9,-999.00000,9,-999.0000,9,  35.2361,2,  -999.00,9,  -999.00,9,   -999.0,9,  -999.00,9,  -999.00,9,  -999.00,9,  -999.00,  -999.00,9,  -999.00,  -999.00,9,  -999.00, -999.000,9, -999.000, -999.000,9, -999.000,9, -999.000,9,   -999.0,9,   -999.0,9,-999.0000,9, -999.000,9, -999.000,   -999.0,9,   -999.0,-999.0000,-999.0000
    49MR0505_1,   P03,    81,  1,     36, X12048,2,20051112,1556, 24.2545,-144.0403, 5292,      9.7,2,  23.3465,2,  23.34701,2,  35.2330,2,  35.2326,2,   203.80,1,   214.92,2,     12.3,2,   215.05,2,   214.92,2,     1.08,2,     0.12,     0.04,2,     0.03,     0.00,2,     0.01,    0.093,2,    0.023,    1.795,2,    1.101,2, -999.000,5,   2002.5,2,   2318.9,2,   8.0732,6, -999.000,9, -999.000,   -999.0,9,   -999.0,  23.3445,  24.0105
    49MR0505_1,   P03,    81,  1,     35, X12047,2,20051112,1556, 24.2545,-144.0403, 5292,     49.8,2,  23.3525,2,  23.35313,2,  35.2338,2,  35.2340,2,   203.60,1,   214.84,2,     52.6,2,   214.91,2,   215.03,2,     1.11,2,     0.12,     0.01,2,     0.03,     0.01,2,     0.01,    0.101,2,    0.022,    1.810,2,    1.109,2, -999.000,5,   2002.2,6,   2324.6,2,   8.0738,2, -999.000,9, -999.000,   -999.0,9,   -999.0,  23.3422,  24.0117
    49MR0505_1,   P03,    81,  1,     34, X12046,2,20051112,1556, 24.2545,-144.0403, 5292,    100.7,2,  21.4831,2,  21.49068,2,  35.1642,2,  35.1647,2,   209.91,1,   222.08,2,    103.2,2,   221.75,2,   221.75,2,     1.39,2,     0.12,     0.01,2,     0.03,     0.01,2,     0.01,    0.091,2,    0.023,    2.040,2,    1.220,2, -999.000,5,   2017.1,2,   2313.9,6,   8.0420,2, -999.000,9, -999.000,   -999.0,9,   -999.0,  21.4635,  24.4919
    49MR0505_1,   P03,    81,  1,     33, X12003,2,20051112,1556, 24.2545,-144.0403, 5292,    151.1,2,  19.0880,2,  19.09366,2,  34.8985,2,  34.9022,2,   191.89,1,   202.33,2,    159.1,2,   203.64,2,   202.38,2,     2.23,2,     0.12,     1.56,2,     0.04,     0.04,2,     0.01,    0.229,2,    0.015,    2.229,6,    1.313,6, -999.000,5,   2039.6,2,   2297.5,2,   7.9758,6, -999.000,9, -999.000,   -999.0,9,   -999.0,  19.0610,  24.9280
    49MR0505_1,   P03,    81,  1,     32, X12044,2,20051112,1556, 24.2545,-144.0403, 5292,    200.1,2,  16.2595,2,  16.26685,2,  34.4850,2,  34.4886,2,   193.17,1,   203.27,2,    202.7,2,   204.13,2,   203.40,2,     3.79,2,     0.13,     3.77,2,     0.04,     0.01,2,     0.01,    0.391,2,    0.013,    2.537,2,    1.465,2, -999.000,5,   2046.6,2,   2269.2,2,   7.9210,2, -999.000,9, -999.000,   -999.0,9,   -999.0,  16.2276,  25.2993
    49MR0505_1,   P03,    81,  1,     31, X12051,2,20051112,1556, 24.2545,-144.0403, 5292,    248.7,2,  12.8694,2,  12.87023,2,  34.0992,2,  34.0979,2,   201.85,1,   212.23,2,    251.3,2,   210.63,2,   212.15,2,     7.48,2,     0.14,     8.01,2,     0.06,     0.01,2,     0.01,    0.681,2,    0.013,    2.919,6,    1.671,6,    0.117,6,   2059.0,2,   2246.3,2,   7.8552,2, -999.000,9, -999.000,   -999.0,9,   -999.0,  12.8357,  25.7277
    49MR0505_1,   P03,    81,  1,     30, X12042,2,20051112,1556, 24.2545,-144.0403, 5292,    299.8,2,  10.7369,2,  10.73826,2,  34.0209,2,  34.0217,2,   200.38,1,   210.26,2,    305.1,2,   210.42,2,   210.43,2,    13.53,2,     0.15,    13.22,2,     0.07,     0.00,2,     0.01,    1.003,2,    0.013,    3.135,2,    1.747,2,    0.121,2,   2086.5,2,   2246.4,2,   7.7928,2, -999.000,9, -999.000,   -999.0,9,   -999.0,  10.7007,  26.0663
    49MR0505_1,   P03,    81,  1,     29, X12041,2,20051112,1556, 24.2545,-144.0403, 5292,    401.0,2,   8.4020,2,   8.40189,2,  34.0653,2,  34.0664,2,   160.07,1,   168.47,2,    403.9,2,   167.67,2,   168.49,2,    31.34,2,     0.19,    22.74,2,     0.10,     0.01,2,     0.01,    1.626,2,    0.014,    2.756,2,    1.426,2,    0.112,2,   2154.0,2,   2264.0,2,   7.6680,2, -999.000,9, -999.000,   -999.0,9,   -999.0,   8.3602,  26.4857
    49MR0505_1,   P03,    81,  1,     28, X12016,2,20051112,1556, 24.2545,-144.0403, 5292,    500.9,2,   6.5361,2,   6.53718,2,  34.0153,2,  34.0157,6,   109.22,1,   115.57,2,    501.9,2,   114.79,2,   115.35,2,    52.92,2,     0.24,    31.36,2,     0.12,     0.01,2,     0.01,    2.263,2,    0.016,    1.814,2,    0.866,2,    0.073,2,   2219.0,2,   2278.2,2,   7.5264,2, -999.000,9, -999.000,   -999.0,9,   -999.0,   6.4907,  26.7114
    49MR0505_1,   P03,    81,  1,     27, X12039,2,20051112,1556, 24.2545,-144.0403, 5292,    601.0,2,   5.2671,2,   5.26737,2,  34.1045,2,  34.1040,2,    46.59,1,    49.29,2,    601.7,2,    49.08,2,    48.95,2,    78.99,2,     0.29,    39.11,2,     0.14,     0.00,2,     0.01,    2.870,2,    0.017,    0.449,2,    0.233,2,    0.025,2,   2291.6,2,   2301.4,2,   7.3912,2, -999.000,9, -999.000,   -999.0,9,   -999.0,   5.2179,  26.9400
    49MR0505_1,   P03,    81,  1,     26, X12038,2,20051112,1556, 24.2545,-144.0403, 5292,    699.9,2,   4.8935,2,   4.89336,2,  34.2644,2,  34.2637,2,    19.03,1,    20.35,2,    700.0,2,    19.69,2,    19.94,2,    93.20,2,     0.32,    42.09,2,     0.15,     0.01,2,     0.01,    3.134,2,    0.018,    0.051,2,    0.029,2,    0.013,2,   2326.7,6,   2328.9,2,   7.3534,2, -999.000,9, -999.000,   -999.0,9,   -999.0,   4.8376,  27.1105
    49MR0505_1,   P03,    81,  1,     25, X12037,2,20051112,1556, 24.2545,-144.0403, 5292,    801.8,2,   4.4898,2,   4.49068,2,  34.3686,2,  34.3676,2,    19.62,1,    20.90,2,    802.3,2,    20.32,2,    20.39,2,   102.81,2,     0.35,    42.88,2,     0.15,     0.01,2,     0.01,    3.172,2,    0.018,    0.012,6,    0.010,6,    0.000,6,   2340.1,2,   2345.3,6,   7.3650,2, -999.000,9, -999.000,   -999.0,9,   -999.0,   4.4275,  27.2386
    49MR0505_1,   P03,    81,  1,     24, X12008,2,20051112,1556, 24.2545,-144.0403, 5292,    902.5,2,   4.2505,2,   4.25062,2,  34.4461,2,  34.4462,2,    28.45,1,    29.99,2,    902.9,2,    29.96,2,    29.96,2,   107.22,2,     0.35,    42.81,2,     0.15,     0.01,2,     0.01,    3.134,2,    0.018,    0.002,2,    0.002,2,    0.000,2,   2343.2,2,   2358.6,2,   7.3888,6, -999.000,9, -999.000,   -999.0,9,   -999.0,   4.1812,  27.3266
    49MR0505_1,   P03,    81,  1,     23, X12035,2,20051112,1556, 24.2545,-144.0403, 5292,   1001.7,2,   4.0107,2,   4.01089,2,  34.4841,2,  34.4839,6,    35.24,1,    37.06,2,   1000.6,2,    38.22,2,    36.98,2,   112.00,2,     0.37,    42.77,2,     0.15,     0.00,2,     0.01,    3.123,2,    0.018,    0.004,2,    0.002,2,    0.000,2,   2346.3,2,   2365.4,2,   7.4045,2, -999.000,9, -999.000,   -999.0,9,   -999.0,   3.9348,  27.3825
    49MR0505_1,   P03,    81,  1,     22, X12034,2,20051112,1556, 24.2545,-144.0403, 5292,   5360.8,2,   1.5319,2,   1.53183,2,  34.6938,2,  34.6941,2,   156.80,1,   163.79,2,   5360.8,2,   163.34,2,   163.32,2,   144.09,2,     0.44,    35.37,2,     0.13,     0.01,2,     0.01,    2.461,2,    0.016,    0.001,2,    0.002,2,    0.000,2,   2313.2,2,   2410.9,2,   7.6069,2, -999.000,9, -999.000,   -999.0,9,   -999.0,   1.0518,  27.7959
    49MR0505_1,   P03,    81,  1,     21, X12033,2,20051112,1556, 24.2545,-144.0403, 5292,   1400.0,2,   3.1001,2,   3.10032,2,  34.5557,2,  34.5558,2,    52.89,1,    55.88,2,   1398.0,2,    55.62,2,    55.98,2,   132.35,2,     0.41,    42.12,2,     0.15,     0.00,2,     0.01,    3.056,2,    0.018,    0.001,2,    0.000,2,    0.000,2,   2355.0,2,   2392.3,2,   7.4382,2, -999.000,9, -999.000,   -999.0,9,   -999.0,   2.9995,  27.5305
    49MR0505_1,   P03,    81,  1,     20, X12032,2,20051112,1556, 24.2545,-144.0403, 5292,   1601.1,2,   2.7360,2,   2.73618,2,  34.5778,2,  34.5779,2,    60.95,1,    64.55,2,   1597.9,2,    65.92,2,    64.57,2,   140.99,2,     0.43,    41.73,2,     0.15,     0.00,2,     0.01,    3.009,2,    0.017,    0.000,2,    0.000,2,    0.000,2,   2360.5,2,   2398.4,2,   7.4505,6, -999.000,9, -999.000,   -999.0,9,   -999.0,   2.6229,  27.5817
    49MR0505_1,   P03,    81,  1,     19, X12001,2,20051112,1556, 24.2545,-144.0403, 5292,   1803.0,2,   2.4220,2,   2.42312,2,  34.5966,2,  34.5967,2,    69.10,1,    73.53,2,   1799.9,2,    74.81,2,    73.52,2,   148.92,2,     0.45,    41.21,2,     0.15,     0.01,2,     0.01,    2.954,2,    0.017,    0.001,2,    0.000,2,    0.000,2,   2362.5,2,   2406.9,2,   7.4648,2, -999.000,9, -999.000,   -999.0,9,   -999.0,   2.2961,  27.6245
    49MR0505_1,   P03,    81,  1,     18, X12030,2,20051112,1556, 24.2545,-144.0403, 5292,   2002.0,2,   2.1627,2,   2.16288,2,  34.6156,2,  34.6157,6,    76.99,1,    82.06,2,   1999.9,2,    82.77,2,    82.07,2,   155.96,2,     0.46,    40.64,2,     0.15,     0.01,2,     0.01,    2.912,2,    0.017,    0.000,2,    0.004,2,    0.000,2,   2363.5,2,   2416.0,2,   7.4818,2, -999.000,9, -999.000,   -999.0,9,   -999.0,   2.0237,  27.6618
    49MR0505_1,   P03,    81,  1,     17, X12049,2,20051112,1556, 24.2545,-144.0403, 5292,   2201.1,2,   1.9343,2,   1.93437,2,  34.6324,2,  34.6326,2,    85.89,1,    91.91,2,   2200.1,2,    91.64,2,    91.83,2,   161.43,2,     0.47,    40.09,2,     0.15,     0.00,2,     0.01,    2.859,2,    0.017,    0.004,2,    0.000,2,    0.000,2,   2362.4,2,   2417.3,2,   7.4981,2, -999.000,9, -999.000,   -999.0,9,   -999.0,   1.7818,  27.6941
    49MR0505_1,   P03,    81,  1,     16, X12028,2,20051112,1556, 24.2545,-144.0403, 5292,   2402.4,2,   1.7962,2,   1.79649,2,  34.6445,2,  34.6446,2,    93.24,1,    99.93,2,   2401.9,2,    99.28,2,    99.77,2,   163.96,2,     0.48,    39.54,2,     0.14,     0.01,2,     0.01,    2.802,2,    0.017, -999.000,9, -999.000,9, -999.000,9,   2360.2,6,   2423.1,2,   7.5104,2, -999.000,9, -999.000,   -999.0,9,   -999.0,   1.6284,  27.7154
    49MR0505_1,   P03,    81,  1,     15, X12006,2,20051112,1556, 24.2545,-144.0403, 5292,   2599.7,2,   1.6941,2,   1.69436,2,  34.6538,2,  34.6536,2,    99.72,1,   106.79,2,   2598.7,2,   107.24,2,   106.65,2,   166.80,2,     0.49,    39.17,2,     0.14,     0.00,2,     0.01,    2.772,2,    0.017,    0.000,2,    0.000,2,    0.000,2,   2356.9,2,   2423.5,6,   7.5232,2, -999.000,9, -999.000,   -999.0,9,   -999.0,   1.5106,  27.7316
    49MR0505_1,   P03,    81,  1,     14, X12026,2,20051112,1556, 24.2545,-144.0403, 5292,   2799.9,2,   1.6064,2,   1.60652,2,  34.6620,2,  34.6624,2,   106.88,1,   114.62,2,   2798.8,2,   115.73,2,   112.41,3,   167.44,2,     0.49,    38.64,2,     0.14,     0.00,2,     0.01,    2.733,2,    0.017, -999.000,9, -999.000,9, -999.000,9,   2352.8,2,   2427.9,2,   7.5365,6, -999.000,9, -999.000,   -999.0,9,   -999.0,   1.4062,  27.7457
    49MR0505_1,   P03,    81,  1,     13, X12025,2,20051112,1556, 24.2545,-144.0403, 5292,   3000.8,2,   1.5467,2,   1.54671,2,  34.6694,2,  34.6692,6,   114.49,1,   122.85,2,   3000.3,2,   123.19,2,   122.81,2,   166.20,2,     0.48,    38.23,2,     0.14,     0.00,2,     0.01,    2.687,2,    0.017,    0.000,2,    0.000,2,    0.000,2,   2348.7,2,   2428.1,2,   7.5525,2, -999.000,9, -999.000,   -999.0,9,   -999.0,   1.3288,  27.7571
    49MR0505_1,   P03,    81,  1,     12, X12024,2,20051112,1556, 24.2545,-144.0403, 5292,   3250.4,2,   1.4964,2,   1.49653,2,  34.6763,2,  34.6763,2,   122.63,1,   131.54,2,   3250.2,2,   131.23,2,   131.44,2,   163.57,2,     0.48,    37.51,2,     0.14,     0.00,2,     0.01,    2.625,2,    0.017, -999.000,9, -999.000,9, -999.000,9,   2343.7,2,   2425.6,2,   7.5672,2, -999.000,9, -999.000,   -999.0,9,   -999.0,   1.2554,  27.7678
    49MR0505_1,   P03,    81,  1,     11, X12023,2,20051112,1556, 24.2545,-144.0403, 5292,   3501.0,2,   1.4738,2,   1.47384,2,  34.6805,2,  34.6805,2,   128.50,1,   137.64,2,   3500.7,2,   137.98,2,   137.79,2,   161.69,2,     0.47,    37.16,2,     0.14,     0.01,2,     0.01,    2.599,2,    0.016,    0.001,2,    0.002,2,    0.000,2,   2338.3,2,   2423.9,2,   7.5762,2, -999.000,9, -999.000,   -999.0,9,   -999.0,   1.2082,  27.7745
    49MR0505_1,   P03,    81,  1,     10, X12022,2,20051112,1556, 24.2545,-144.0403, 5292,   3750.0,2,   1.4579,2,   1.45813,2,  34.6848,2,  34.6845,2,   134.47,1,   143.70,2,   3749.9,2,   143.83,2,   144.02,2,   158.85,2,     0.47,    36.66,2,     0.14,     0.00,2,     0.01,    2.575,2,    0.016, -999.000,9, -999.000,9, -999.000,9,   2333.2,2,   2422.9,2,   7.5864,2, -999.000,9, -999.000,   -999.0,9,   -999.0,   1.1669,  27.7808
    49MR0505_1,   P03,    81,  1,      9, X12021,2,20051112,1556, 24.2545,-144.0403, 5292,   4001.2,2,   1.4625,2,   1.46271,2,  34.6870,2,  34.6869,6,   138.29,1,   147.52,2,   4001.1,2,   147.80,2,   147.81,2,   156.52,2,     0.46,    36.55,2,     0.14,     0.00,2,     0.01,    2.547,2,    0.016,    0.005,2,    0.007,2,    0.000,2,   2330.0,2,   2420.3,2,   7.5919,2, -999.000,9, -999.000,   -999.0,9,   -999.0,   1.1445,  27.7841
    49MR0505_1,   P03,    81,  1,      8, X12020,2,20051112,1556, 24.2545,-144.0403, 5292,   4251.7,2,   1.4758,2,   1.47602,2,  34.6886,2,  34.6884,2,   141.18,1,   150.09,2,   4251.8,2,   150.40,2,   150.52,2,   154.97,2,     0.46,    36.20,2,     0.13,     0.00,2,     0.01,    2.534,2,    0.016, -999.000,9, -999.000,9, -999.000,9,   2327.5,6,   2424.8,4,   7.5961,2, -999.000,9, -999.000,   -999.0,9,   -999.0,   1.1298,  27.7864
    49MR0505_1,   P03,    81,  1,      7, X12019,2,20051112,1556, 24.2545,-144.0403, 5292,   4501.1,2,   1.4912,2,   1.49136,2,  34.6898,2,  34.6897,2,   144.10,1,   152.83,2,   4501.2,2,   153.09,2,   153.29,2,   152.56,2,     0.45,    36.16,2,     0.13,     0.00,2,     0.01,    2.528,2,    0.016,    0.001,2,    0.005,2,    0.000,2,   2326.0,2,   2418.4,6,   7.5994,2, -999.000,9, -999.000,   -999.0,9,   -999.0,   1.1164,  27.7883
    49MR0505_1,   P03,    81,  1,      6, X12018,2,20051112,1556, 24.2545,-144.0403, 5292,   4751.3,2,   1.4921,2,   1.49219,2,  34.6918,2,  34.6914,2,   149.06,1,   157.62,2,   4751.2,2,   158.20,2,   157.73,2,   148.69,2,     0.45,    35.72,2,     0.13,     0.00,2,     0.01,    2.499,2,    0.016, -999.000,9, -999.000,9, -999.000,9,   2319.7,2,   2421.9,4,   7.6046,2, -999.000,9, -999.000,   -999.0,9,   -999.0,   1.0880,  27.7918
    49MR0505_1,   P03,    81,  1,      5, X12043,2,20051112,1556, 24.2545,-144.0403, 5292,   4999.0,2,   1.4972,2,   1.49720,2,  34.6931,2,  34.6934,2,   153.50,1,   161.57,2,   4999.1,2,   162.08,2,   161.83,2,   145.67,2,     0.44,    35.47,2,     0.13,     0.00,2,     0.01,    2.474,2,    0.016, -999.000,9, -999.000,9, -999.000,9,   2315.5,2,   2413.0,2,   7.6081,2, -999.000,9, -999.000,   -999.0,9,   -999.0,   1.0632,  27.7945
    49MR0505_1,   P03,    81,  1,      4, X12010,2,20051112,1556, 24.2545,-144.0403, 5292,   5249.4,2,   1.5188,2,   1.51894,2,  34.6939,2,  34.6941,2,   155.87,1,   163.15,2,   5249.4,2,   163.91,2,  -999.00,9,   144.26,2,     0.44,    35.31,2,     0.13,     0.00,2,     0.01,    2.467,2,    0.016,    0.000,2,    0.004,2,    0.000,2,   2314.6,2,   2411.5,2,   7.6091,2, -999.000,9, -999.000,   -999.0,9,   -999.0,   1.0532,  27.7958
    49MR0505_1,   P03,    81,  1,      3, X12015,9,20051112,1556, 24.2545,-144.0403, 5292,      9.7,2,  23.3462,2,  23.34630,2,  35.2329,2,-999.0000,9,   202.88,1,   214.98,2,     12.3,2,   215.05,2,  -999.00,9,  -999.00,9,  -999.00,  -999.00,9,  -999.00,  -999.00,9,  -999.00, -999.000,9, -999.000, -999.000,9, -999.000,9, -999.000,9,   -999.0,9,   -999.0,9,-999.0000,9, -999.000,9, -999.000,   -999.0,9,   -999.0,  23.3442,  24.0105
    49MR0505_1,   P03,    81,  1,      2, X12014,2,20051112,1556, 24.2545,-144.0403, 5292,   1198.6,2,   3.5039,2,   3.50393,2,  34.5313,2,  34.5311,2,    45.58,1,    48.08,2,   1198.6,2,    47.52,2,    48.32,2,   122.95,2,     0.39,    42.47,2,     0.15,     0.00,2,     0.01,    3.094,2,    0.018,    0.000,2,    0.002,2,    0.000,2,   2352.4,2,   2380.8,2,   7.4270,2, -999.000,9, -999.000,   -999.0,9,   -999.0,   3.4159,  27.4718
    49MR0505_1,   P03,    81,  1,      1, X12013,2,20051112,1556, 24.2545,-144.0403, 5292,   5361.2,2,   1.5318,2,   1.53194,2,  34.6940,2,  34.6941,6,   156.81,1,   163.81,2,   5361.2,2,   163.35,2,   163.65,2,   144.17,2,     0.44,    35.37,2,     0.13,     0.00,2,     0.01,    2.471,2,    0.016,    0.000,2,    0.003,2,    0.000,2,   2314.9,2,   2408.9,2,   7.6097,2, -999.000,9, -999.000,   -999.0,9,   -999.0,   1.0517,  27.7960