BOTTLE,20100316JAMSTECRIGC
EXPOCODE,SECT,STNNBR,CASTNO,SAMPNO,BTLNBR,BTLNBR_FLAG_W,DATE,TIME,LATITUDE,LONGITUDE,DEPTH,CTDPRS,CTDPRS_FLAG_W,CTDTMP,CTDTMP_FLAG_W,SBE35,SBE35_FLAG_W,CTDSAL,CTDSAL_FLAG_W,SALNTY,SALNTY_FLAG_W,CTDOXY,CTDOXY_FLAG_W,OPTOXY,OPTOXY_FLAG_W,DWNPRS,DWNPRS_FLAG_W,DWNOXY,DWNOXY_FLAG_W,OXYGEN,OXYGEN_FLAG_W,SILCAT,SILCAT_FLAG_W,SILUNC,NITRAT,NITRAT_FLAG_W,NRAUNC,NITRIT,NITRIT_FLAG_W,NRIUNC,PHSPHT,PHSPHT_FLAG_W,PHPUNC,CFC-11,CFC-11_FLAG_W,CFC-12,CFC-12_FLAG_W,CFC113,CFC113_FLAG_W,TCARBN,TCARBN_FLAG_W,ALKALI,ALKALI_FLAG_W,PH,PH_FLAG_W,DELC13,DELC13_FLAG_W,C13ERR,DELC14,DELC14_FLAG_W,C14ERR,THETA,SIG0
,,,,,,,,UTC,DEG,DEG,M,DBAR,,ITS-90,,ITS-90,,PSS-78,,PSS-78,,UMOL/KG,,UMOL/KG,,DBAR,,UMOL/KG,,UMOL/KG,,UMOL/KG,,UMOL/KG,UMOL/KG,,UMOL/KG,UMOL/KG,,UMOL/KG,UMOL/KG,,UMOL/KG,PMOL/KG,,PMOL/KG,,PMOL/KG,,UMOL/KG,,UMOL/KG,,,,/MILLE,,/MILLE,/MILLE,,/MILLE,DEG C,KG/CUM
    49MR0505_1,   P03,    30,  1,      0,   -999,9,20051103,1933, 29.5375,-123.2468, 4260,   -999.0,9,-999.0000,9,-999.00000,9,-999.0000,9,  33.4361,2,  -999.00,9,  -999.00,9,   -999.0,9,  -999.00,9,  -999.00,9,  -999.00,9,  -999.00,  -999.00,9,  -999.00,  -999.00,9,  -999.00, -999.000,9, -999.000, -999.000,9, -999.000,9, -999.000,9,   -999.0,9,   -999.0,9,-999.0000,9, -999.000,9, -999.000,   -999.0,9,   -999.0,-999.0000,-999.0000
    49MR0505_1,   P03,    30,  1,     36, X12048,2,20051103,1933, 29.5375,-123.2468, 4260,      9.4,2,  19.5008,2,  19.50118,2,  33.4382,2,  33.4370,2,   225.79,1,   234.75,2,      9.4,2,   234.45,2,   234.45,2,     2.02,2,     0.12,     0.02,2,     0.03,     0.00,2,     0.01,    0.285,2,    0.014,    2.209,2,    1.308,2, -999.000,5,   -999.0,9,   -999.0,9,-999.0000,9, -999.000,9, -999.000,   -999.0,9,   -999.0,  19.4991,  23.7006
    49MR0505_1,   P03,    30,  1,     35, X12047,2,20051103,1933, 29.5375,-123.2468, 4260,     50.1,2,  19.3777,2,  19.37841,2,  33.4341,2,  33.4367,2,   226.06,1,   235.90,2,     48.0,2,   234.24,2,   234.68,2,     2.01,2,     0.12,     0.03,2,     0.03,     0.00,2,     0.01,    0.288,2,    0.014,    2.224,2,    1.318,2, -999.000,5,   -999.0,9,   -999.0,9,-999.0000,9, -999.000,9, -999.000,   -999.0,9,   -999.0,  19.3687,  23.7309
    49MR0505_1,   P03,    30,  1,     34, X12046,2,20051103,1933, 29.5375,-123.2468, 4260,    100.6,2,  15.1585,2,  15.15864,2,  33.4154,2,  33.4184,2,   233.76,1,   242.45,2,    103.6,2,   240.47,2,   240.45,2,     2.88,2,     0.13,     0.49,2,     0.03,     0.11,2,     0.01,    0.405,2,    0.013,    2.812,2,    1.609,2, -999.000,5,   -999.0,9,   -999.0,9,-999.0000,9, -999.000,9, -999.000,   -999.0,9,   -999.0,  15.1434,  24.7192
    49MR0505_1,   P03,    30,  1,     33, X12003,2,20051103,1933, 29.5375,-123.2468, 4260,    149.6,2,  11.1168,2,  11.11674,2,  33.4865,2,  33.4904,2,   170.19,1,   174.94,2,    155.1,2,   176.70,2,   175.58,2,    13.61,2,     0.15,    15.01,2,     0.07,     0.01,2,     0.01,    1.330,2,    0.014,    2.990,2,    1.632,2,    0.197,2,   -999.0,9,   -999.0,9,-999.0000,9, -999.000,9, -999.000,   -999.0,9,   -999.0,  11.0986,  25.5794
    49MR0505_1,   P03,    30,  1,     32, X12044,2,20051103,1933, 29.5375,-123.2468, 4260,    200.6,2,  10.3078,2,  10.31115,2,  33.9610,2,  33.9609,2,   110.12,1,   113.85,2,    201.8,2,   113.88,2,   113.20,2,    24.75,2,     0.17,    22.99,2,     0.10,     0.01,2,     0.01,    1.936,2,    0.015,    2.632,2,    1.367,2,    0.114,2,   -999.0,9,   -999.0,9,-999.0000,9, -999.000,9, -999.000,   -999.0,9,   -999.0,  10.2844,  26.0922
    49MR0505_1,   P03,    30,  1,     31, X12051,2,20051103,1933, 29.5375,-123.2468, 4260,    249.4,2,   9.5016,2,   9.50618,2,  34.1061,2,  34.1039,2,    97.45,1,   100.96,2,    247.5,2,    97.20,2,   100.42,2,    30.88,2,     0.19,    25.93,2,     0.11,     0.01,2,     0.01,    2.092,2,    0.015,    2.343,6,    1.177,6,    0.082,6,   -999.0,9,   -999.0,9,-999.0000,9, -999.000,9, -999.000,   -999.0,9,   -999.0,   9.4738,  26.3416
    49MR0505_1,   P03,    30,  1,     30, X12042,2,20051103,1933, 29.5375,-123.2468, 4260,    300.9,2,   8.5867,2,   8.58776,2,  34.1266,2,  34.1269,2,    87.60,1,    90.67,2,    295.5,2,    78.41,2,    90.79,2,    37.83,2,     0.20,    28.77,2,     0.11,     0.00,2,     0.01,    2.242,2,    0.016,    2.059,2,    1.009,2,    0.084,2,   -999.0,9,   -999.0,9,-999.0000,9, -999.000,9, -999.000,   -999.0,9,   -999.0,   8.5551,  26.5039
    49MR0505_1,   P03,    30,  1,     29, X12041,2,20051103,1933, 29.5375,-123.2468, 4260,    400.1,2,   7.1217,2,   7.13934,2,  34.1159,2,  34.1045,2,    71.56,1,    72.99,2,    396.4,2,    65.07,2,    73.83,2,    52.16,2,     0.23,    33.18,2,     0.13,     0.00,2,     0.01,    2.518,2,    0.016,    1.390,2,    0.643,2,    0.039,2,   -999.0,9,   -999.0,9,-999.0000,9, -999.000,9, -999.000,   -999.0,9,   -999.0,   7.0839,  26.7108
    49MR0505_1,   P03,    30,  1,     28, X12016,2,20051103,1933, 29.5375,-123.2468, 4260,    501.3,2,   6.2081,2,   6.20798,2,  34.1718,2,  34.1724,6,    36.11,1,    36.95,2,    495.5,2,    36.22,2,    36.77,2,    68.40,2,     0.27,    37.85,2,     0.14,     0.00,2,     0.01,    2.896,2,    0.017,    0.565,2,    0.267,2,    0.013,2,   -999.0,9,   -999.0,9,-999.0000,9, -999.000,9, -999.000,   -999.0,9,   -999.0,   6.1638,  26.8774
    49MR0505_1,   P03,    30,  1,     27, X12039,2,20051103,1933, 29.5375,-123.2468, 4260,    603.6,2,   5.4023,2,   5.40344,2,  34.2314,2,  34.2330,2,    20.73,1,    20.95,2,    600.3,2,    18.64,2,    21.13,2,    83.85,2,     0.30,    40.83,2,     0.15,     0.01,2,     0.01,    3.091,2,    0.018,    0.159,2,    0.076,2,    0.000,2,   -999.0,9,   -999.0,9,-999.0000,9, -999.000,9, -999.000,   -999.0,9,   -999.0,   5.3521,  27.0247
    49MR0505_1,   P03,    30,  1,     26, X12038,2,20051103,1933, 29.5375,-123.2468, 4260,    702.8,2,   4.9937,2,   4.99397,2,  34.3229,2,  34.3227,2,    13.63,1,    13.72,2,    701.6,2,    14.44,2,    14.09,2,    93.66,2,     0.33,    42.24,2,     0.15,     0.00,2,     0.01,    3.192,2,    0.018,    0.047,2,    0.017,2,    0.000,2,   -999.0,9,   -999.0,9,-999.0000,9, -999.000,9, -999.000,   -999.0,9,   -999.0,   4.9369,  27.1456
    49MR0505_1,   P03,    30,  1,     25, X12037,2,20051103,1933, 29.5375,-123.2468, 4260,    800.9,2,   4.7384,2,   4.73842,2,  34.4003,2,  34.3999,2,    13.36,1,    13.43,2,    800.7,2,    14.36,2,    13.81,2,    99.98,2,     0.34,    42.98,2,     0.15,     0.00,2,     0.01,    3.234,2,    0.018,    0.012,6,    0.008,6,    0.000,6,   -999.0,9,   -999.0,9,-999.0000,9, -999.000,9, -999.000,   -999.0,9,   -999.0,   4.6746,  27.2366
    49MR0505_1,   P03,    30,  1,     24, X12008,2,20051103,1933, 29.5375,-123.2468, 4260,    900.4,2,   4.3981,2,   4.39753,2,  34.4478,2,  34.4472,2,    17.34,1,    17.44,2,    901.4,2,    18.51,2,    20.61,2,   107.16,2,     0.35,    43.28,2,     0.15,     0.00,2,     0.01,    3.231,2,    0.018,    0.002,2,    0.004,2,    0.000,2,   -999.0,9,   -999.0,9,-999.0000,9, -999.000,9, -999.000,   -999.0,9,   -999.0,   4.3280,  27.3123
    49MR0505_1,   P03,    30,  1,     23, X12035,2,20051103,1933, 29.5375,-123.2468, 4260,   1003.3,2,   4.1372,2,   4.13713,2,  34.4767,2,  34.4763,6,    21.54,1,    21.61,2,   1003.5,2,    21.19,2,    22.24,2,   112.73,2,     0.37,    43.50,2,     0.15,     0.00,2,     0.01,    3.234,2,    0.018,    0.005,2,    0.001,2,    0.000,2,   -999.0,9,   -999.0,9,-999.0000,9, -999.000,9, -999.000,   -999.0,9,   -999.0,   4.0603,  27.3636
    49MR0505_1,   P03,    30,  1,     22, X12034,2,20051103,1933, 29.5375,-123.2468, 4260,   1201.7,2,   3.6146,2,   3.61571,2,  34.5186,2,  34.5187,2,    31.49,1,    31.63,2,   1201.6,2,    32.53,2,    32.41,2,   124.34,2,     0.39,    43.37,2,     0.15,     0.00,2,     0.01,    3.202,2,    0.018,    0.003,2,    0.003,2,    0.000,2,   -999.0,9,   -999.0,9,-999.0000,9, -999.000,9, -999.000,   -999.0,9,   -999.0,   3.5254,  27.4510
    49MR0505_1,   P03,    30,  1,     21, X12033,2,20051103,1933, 29.5375,-123.2468, 4260,   1400.3,2,   3.1399,2,   3.14062,2,  34.5517,2,  34.5517,2,    39.97,1,    40.43,2,   1400.0,2,    42.02,2,    41.25,2,   136.27,2,     0.42,    43.08,2,     0.15,     0.00,2,     0.01,    3.159,2,    0.018,    0.010,4,    0.005,2,    0.000,2,   -999.0,9,   -999.0,9,-999.0000,9, -999.000,9, -999.000,   -999.0,9,   -999.0,   3.0389,  27.5236
    49MR0505_1,   P03,    30,  1,     20, X12032,2,20051103,1933, 29.5375,-123.2468, 4260,   1600.3,2,   2.7867,2,   2.78669,2,  34.5769,2,  34.5771,2,    49.86,1,    50.85,2,   1600.1,2,    51.98,2,    51.79,2,   145.12,2,     0.44,    42.45,2,     0.15,     0.00,2,     0.01,    3.106,2,    0.018,    0.009,2,    0.001,2,    0.000,2,   -999.0,9,   -999.0,9,-999.0000,9, -999.000,9, -999.000,   -999.0,9,   -999.0,   2.6730,  27.5766
    49MR0505_1,   P03,    30,  1,     19, X12001,2,20051103,1933, 29.5375,-123.2468, 4260,   1802.9,2,   2.4344,2,   2.43439,2,  34.5984,2,  34.5984,6,    61.98,1,    63.51,2,   1802.8,2,    64.34,2,    64.05,2,   153.15,2,     0.46,    41.79,2,     0.15,     0.00,2,     0.01,    3.022,2,    0.018,    0.000,2,    0.000,2,    0.000,2,   -999.0,9,   -999.0,9,-999.0000,9, -999.000,9, -999.000,   -999.0,9,   -999.0,   2.3083,  27.6249
    49MR0505_1,   P03,    30,  1,     18, X12030,2,20051103,1933, 29.5375,-123.2468, 4260,   2000.7,2,   2.2090,2,   2.20874,2,  34.6150,2,  34.6150,2,    71.19,1,    73.33,2,   1999.6,2,    75.11,2,    73.86,2,   158.49,2,     0.47,    41.21,2,     0.15,     0.00,2,     0.01,    2.965,2,    0.017,    0.000,2,    0.000,2,    0.000,2,   -999.0,9,   -999.0,9,-999.0000,9, -999.000,9, -999.000,   -999.0,9,   -999.0,   2.0694,  27.6577
    49MR0505_1,   P03,    30,  1,     17, X12049,2,20051103,1933, 29.5375,-123.2468, 4260,   2200.7,2,   2.0150,2,   2.01516,2,  34.6355,2,  34.6354,2,    84.34,1,    87.21,2,   2200.5,2,    87.51,2,    87.66,2,   160.67,2,     0.47,    40.45,2,     0.15,     0.00,2,     0.01,    2.898,2,    0.017, -999.000,9, -999.000,9, -999.000,9,   -999.0,9,   -999.0,9,-999.0000,9, -999.000,9, -999.000,   -999.0,9,   -999.0,   1.8612,  27.6906
    49MR0505_1,   P03,    30,  1,     16, X12028,2,20051103,1933, 29.5375,-123.2468, 4260,   2400.8,2,   1.9010,2,   1.90088,2,  34.6450,2,  34.6448,2,    91.73,1,    94.74,2,   2400.7,2,    95.30,2,    95.31,2,   162.37,2,     0.48,    39.88,2,     0.14,     0.00,2,     0.01,    2.848,2,    0.017,    0.000,2,    0.002,2,    0.000,2,   -999.0,9,   -999.0,9,-999.0000,9, -999.000,9, -999.000,   -999.0,9,   -999.0,   1.7315,  27.7080
    49MR0505_1,   P03,    30,  1,     15, X12006,3,20051103,1933, 29.5375,-123.2468, 4260,   2598.9,2,   1.8158,2,   1.81574,2,  34.6525,2,  34.6517,4,    98.01,1,   101.32,2,   2598.9,2,   101.88,2,   101.98,2,   163.82,2,     0.48,    39.57,2,     0.14,     0.00,2,     0.01,    2.809,2,    0.017, -999.000,9, -999.000,9, -999.000,9,   -999.0,9,   -999.0,9,-999.0000,9, -999.000,9, -999.000,   -999.0,9,   -999.0,   1.6300,  27.7217
    49MR0505_1,   P03,    30,  1,     14, X12026,2,20051103,1933, 29.5375,-123.2468, 4260,   2799.8,2,   1.7260,2,   1.72613,2,  34.6606,2,  34.6603,2,   105.14,1,   108.78,2,   2799.5,2,   109.63,2,   109.36,2,   165.00,2,     0.48,    39.09,2,     0.14,     0.00,2,     0.01,    2.773,2,    0.017, -999.000,9, -999.000,9, -999.000,9,   -999.0,9,   -999.0,9,-999.0000,9, -999.000,9, -999.000,   -999.0,9,   -999.0,   1.5234,  27.7361
    49MR0505_1,   P03,    30,  1,     13, X12025,2,20051103,1933, 29.5375,-123.2468, 4260,   3001.4,2,   1.6388,2,   1.63888,2,  34.6661,2,  34.6659,2,   111.38,1,   115.27,2,   3001.6,2,   115.43,2,   115.75,2,   166.79,2,     0.49,    38.60,2,     0.14,     0.00,2,     0.01,    2.733,2,    0.017,    0.007,2,    0.006,2,    0.000,2,   -999.0,9,   -999.0,9,-999.0000,9, -999.000,9, -999.000,   -999.0,9,   -999.0,   1.4189,  27.7481
    49MR0505_1,   P03,    30,  1,     12, X12024,2,20051103,1933, 29.5375,-123.2468, 4260,   3251.6,2,   1.5892,2,   1.58932,2,  34.6711,2,  34.6709,2,   117.18,1,   121.12,2,   3251.5,2,   121.58,2,   121.52,2,   167.73,2,     0.49,    38.24,2,     0.14,     0.00,2,     0.01,    2.694,2,    0.017, -999.000,9, -999.000,9, -999.000,9,   -999.0,9,   -999.0,9,-999.0000,9, -999.000,9, -999.000,   -999.0,9,   -999.0,   1.3459,  27.7573
    49MR0505_1,   P03,    30,  1,     11, X12023,2,20051103,1933, 29.5375,-123.2468, 4260,   3501.2,2,   1.5464,2,   1.54637,2,  34.6760,2,  34.6758,6,   123.19,1,   127.31,2,   3501.1,2,   127.49,2,   127.63,2,   167.27,2,     0.49,    37.94,2,     0.14,     0.00,2,     0.01,    2.665,2,    0.017, -999.000,9, -999.000,9, -999.000,9,   -999.0,9,   -999.0,9,-999.0000,9, -999.000,9, -999.000,   -999.0,9,   -999.0,   1.2790,  27.7659
    49MR0505_1,   P03,    30,  1,     10, X12022,2,20051103,1933, 29.5375,-123.2468, 4260,   3748.6,2,   1.5273,2,   1.52740,2,  34.6798,2,  34.6793,2,   127.94,1,   131.86,2,   3748.7,2,   132.07,2,   132.10,2,   167.61,2,     0.49,    37.59,2,     0.14,     0.00,2,     0.01,    2.646,2,    0.017,    0.009,2,    0.004,2,    0.000,2,   -999.0,9,   -999.0,9,-999.0000,9, -999.000,9, -999.000,   -999.0,9,   -999.0,   1.2346,  27.7721
    49MR0505_1,   P03,    30,  1,      9, X12021,2,20051103,1933, 29.5375,-123.2468, 4260,   4000.2,2,   1.5303,2,   1.53039,2,  34.6824,2,  34.6824,2,   131.45,1,   135.13,2,   4000.3,2,   135.18,2,   135.18,2,   166.72,2,     0.49,    37.43,2,     0.14,     0.00,2,     0.01,    2.625,2,    0.017, -999.000,9, -999.000,9, -999.000,9,   -999.0,9,   -999.0,9,-999.0000,9, -999.000,9, -999.000,   -999.0,9,   -999.0,   1.2105,  27.7759
    49MR0505_1,   P03,    30,  1,      8, X12020,2,20051103,1933, 29.5375,-123.2468, 4260,   4248.1,2,   1.5466,2,   1.54671,2,  34.6833,2,  34.6833,2,   133.80,1,   136.64,2,   4248.1,2,   137.10,2,   136.79,2,   166.09,2,     0.48,    37.31,2,     0.14,     0.00,2,     0.01,    2.616,2,    0.017, -999.000,9, -999.000,9, -999.000,9,   -999.0,9,   -999.0,9,-999.0000,9, -999.000,9, -999.000,   -999.0,9,   -999.0,   1.1989,  27.7774
    49MR0505_1,   P03,    30,  1,      7, X12019,9,20051103,1933, 29.5375,-123.2468, 4260,    249.7,2,   9.4472,2,   9.44213,2,  34.1008,2,-999.0000,9,    97.42,1,   100.72,2,    248.0,2,    98.71,2,  -999.00,9,  -999.00,9,  -999.00,  -999.00,9,  -999.00,  -999.00,9,  -999.00, -999.000,9, -999.000, -999.000,9, -999.000,9, -999.000,9,   -999.0,9,   -999.0,9,-999.0000,9, -999.000,9, -999.000,   -999.0,9,   -999.0,   9.4195,  26.3464
    49MR0505_1,   P03,    30,  1,      6, X12018,9,20051103,1933, 29.5375,-123.2468, 4260,    200.0,2,  10.3040,2,  10.30620,2,  33.9598,2,-999.0000,9,   110.02,1,   113.97,2,    201.2,2,   113.53,2,  -999.00,9,  -999.00,9,  -999.00,  -999.00,9,  -999.00,  -999.00,9,  -999.00, -999.000,9, -999.000, -999.000,9, -999.000,9, -999.000,9,   -999.0,9,   -999.0,9,-999.0000,9, -999.000,9, -999.000,   -999.0,9,   -999.0,  10.2806,  26.0919
    49MR0505_1,   P03,    30,  1,      5, X12043,9,20051103,1933, 29.5375,-123.2468, 4260,    150.5,2,  11.1169,2,  11.11688,2,  33.4897,2,-999.0000,9,   170.67,1,   175.42,2,    155.2,2,   176.44,2,  -999.00,9,  -999.00,9,  -999.00,  -999.00,9,  -999.00,  -999.00,9,  -999.00, -999.000,9, -999.000, -999.000,9, -999.000,9, -999.000,9,   -999.0,9,   -999.0,9,-999.0000,9, -999.000,9, -999.000,   -999.0,9,   -999.0,  11.0986,  25.5819
    49MR0505_1,   P03,    30,  1,      4, X12010,9,20051103,1933, 29.5375,-123.2468, 4260,    100.1,2,  15.1640,2,  15.16317,2,  33.4166,2,-999.0000,9,   233.71,1,   242.45,2,    103.4,2,   240.61,2,  -999.00,9,  -999.00,9,  -999.00,  -999.00,9,  -999.00,  -999.00,9,  -999.00, -999.000,9, -999.000, -999.000,9, -999.000,9, -999.000,9,   -999.0,9,   -999.0,9,-999.0000,9, -999.000,9, -999.000,   -999.0,9,   -999.0,  15.1490,  24.7189
    49MR0505_1,   P03,    30,  1,      3, X12015,9,20051103,1933, 29.5375,-123.2468, 4260,     49.7,2,  19.3742,2,  19.37447,2,  33.4347,2,-999.0000,9,   225.96,1,   235.47,2,     48.0,2,   234.24,2,  -999.00,9,  -999.00,9,  -999.00,  -999.00,9,  -999.00,  -999.00,9,  -999.00, -999.000,9, -999.000, -999.000,9, -999.000,9, -999.000,9,   -999.0,9,   -999.0,9,-999.0000,9, -999.000,9, -999.000,   -999.0,9,   -999.0,  19.3653,  23.7323
    49MR0505_1,   P03,    30,  1,      2, X12014,9,20051103,1933, 29.5375,-123.2468, 4260,      9.5,2,  19.4948,2,  19.49478,2,  33.4379,2,-999.0000,9,   225.92,1,   234.79,2,      9.5,2,   234.44,2,  -999.00,9,  -999.00,9,  -999.00,  -999.00,9,  -999.00,  -999.00,9,  -999.00, -999.000,9, -999.000, -999.000,9, -999.000,9, -999.000,9,   -999.0,9,   -999.0,9,-999.0000,9, -999.000,9, -999.000,   -999.0,9,   -999.0,  19.4931,  23.7020
    49MR0505_1,   P03,    30,  1,      1, X12013,2,20051103,1933, 29.5375,-123.2468, 4260,   4325.5,2,   1.5503,2,   1.55030,2,  34.6837,2,  34.6838,6,   134.92,1,   137.41,2,   4325.4,2,   137.52,2,   137.56,2,   166.03,2,     0.48,    37.29,2,     0.14,     0.00,2,     0.01,    2.615,2,    0.017,    0.007,2,    0.003,2,    0.000,2,   -999.0,9,   -999.0,9,-999.0000,9, -999.000,9, -999.000,   -999.0,9,   -999.0,   1.1938,  27.7780