BOTTLE,20100316JAMSTECRIGC
EXPOCODE,SECT,STNNBR,CASTNO,SAMPNO,BTLNBR,BTLNBR_FLAG_W,DATE,TIME,LATITUDE,LONGITUDE,DEPTH,CTDPRS,CTDPRS_FLAG_W,CTDTMP,CTDTMP_FLAG_W,SBE35,SBE35_FLAG_W,CTDSAL,CTDSAL_FLAG_W,SALNTY,SALNTY_FLAG_W,CTDOXY,CTDOXY_FLAG_W,OPTOXY,OPTOXY_FLAG_W,DWNPRS,DWNPRS_FLAG_W,DWNOXY,DWNOXY_FLAG_W,OXYGEN,OXYGEN_FLAG_W,SILCAT,SILCAT_FLAG_W,SILUNC,NITRAT,NITRAT_FLAG_W,NRAUNC,NITRIT,NITRIT_FLAG_W,NRIUNC,PHSPHT,PHSPHT_FLAG_W,PHPUNC,CFC-11,CFC-11_FLAG_W,CFC-12,CFC-12_FLAG_W,CFC113,CFC113_FLAG_W,TCARBN,TCARBN_FLAG_W,ALKALI,ALKALI_FLAG_W,PH,PH_FLAG_W,DELC13,DELC13_FLAG_W,C13ERR,DELC14,DELC14_FLAG_W,C14ERR,THETA,SIG0
,,,,,,,,UTC,DEG,DEG,M,DBAR,,ITS-90,,ITS-90,,PSS-78,,PSS-78,,UMOL/KG,,UMOL/KG,,DBAR,,UMOL/KG,,UMOL/KG,,UMOL/KG,,UMOL/KG,UMOL/KG,,UMOL/KG,UMOL/KG,,UMOL/KG,UMOL/KG,,UMOL/KG,PMOL/KG,,PMOL/KG,,PMOL/KG,,UMOL/KG,,UMOL/KG,,,,/MILLE,,/MILLE,/MILLE,,/MILLE,DEG C,KG/CUM
    49MR0505_1,   P03,   106,  1,      0,   -999,9,20051116,0521, 24.2723,-153.3082, 5146,   -999.0,9,-999.0000,9,-999.00000,9,-999.0000,9,  35.0692,2,  -999.00,9,  -999.00,9,   -999.0,9,  -999.00,9,  -999.00,9,  -999.00,9,  -999.00,  -999.00,9,  -999.00,  -999.00,9,  -999.00, -999.000,9, -999.000, -999.000,9, -999.000,9, -999.000,9,   -999.0,9,   -999.0,9,-999.0000,9, -999.000,9, -999.000,   -999.0,9,   -999.0,-999.0000,-999.0000
    49MR0505_1,   P03,   106,  1,     36, X12048,2,20051116,0521, 24.2723,-153.3082, 5146,      9.9,2,  24.6877,2,  24.68760,2,  35.0619,2,  35.0622,2,   194.44,1,   210.38,2,     13.9,2,   210.28,2,   210.37,2,     0.97,2,     0.12,     0.04,2,     0.03,     0.00,2,     0.01,    0.103,2,    0.022,    1.685,2,    1.031,2, -999.000,5,   1984.7,2,   2307.6,2,   8.0851,2, -999.000,9, -999.000,   -999.0,9,   -999.0,  24.6856,  23.4833
    49MR0505_1,   P03,   106,  1,     35, X12047,2,20051116,0521, 24.2723,-153.3082, 5146,     50.9,2,  24.6575,2,  24.65766,2,  35.2308,2,  35.2312,2,   194.70,1,   210.50,2,     48.2,2,   210.80,2,   210.72,2,     0.88,2,     0.12,     0.03,2,     0.03,     0.00,2,     0.01,    0.070,2,    0.027,    1.677,2,    1.032,2, -999.000,5,   1990.9,6,   2323.2,2,   8.0886,2, -999.000,9, -999.000,   -999.0,9,   -999.0,  24.6466,  23.6228
    49MR0505_1,   P03,   106,  1,     34, X12046,2,20051116,0521, 24.2723,-153.3082, 5146,     99.5,2,  22.8464,2,  22.84543,2,  35.2368,2,  35.2379,2,   203.24,1,   219.02,2,    105.7,2,   219.11,2,   218.79,2,     1.12,2,     0.12,     0.04,2,     0.03,     0.00,2,     0.01,    0.060,2,    0.030,    1.907,2,    1.154,2, -999.000,5,   2006.3,2,   2322.4,6,   8.0637,2, -999.000,9, -999.000,   -999.0,9,   -999.0,  22.8262,  24.1632
    49MR0505_1,   P03,   106,  1,     33, X12003,2,20051116,0521, 24.2723,-153.3082, 5146,    150.3,2,  21.0601,2,  21.07196,2,  35.1626,2,  35.1632,2,   184.59,1,   199.36,2,    153.0,2,   199.46,2,   199.44,2,     1.53,2,     0.12,     0.80,2,     0.04,     0.03,2,     0.01,    0.152,2,    0.018,    2.017,2,    1.206,2, -999.000,5,   2031.8,2,   2314.7,2,   8.0105,6, -999.000,9, -999.000,   -999.0,9,   -999.0,  21.0313,  24.6092
    49MR0505_1,   P03,   106,  1,     32, X12044,2,20051116,0521, 24.2723,-153.3082, 5146,    199.9,2,  18.7316,2,  18.73156,2,  34.9056,2,  34.9001,2,   184.26,1,   198.27,2,    199.0,2,   200.47,2,   199.03,2,     2.58,2,     0.12,     2.37,2,     0.04,     0.02,2,     0.01,    0.249,2,    0.015,    2.251,2,    1.325,2, -999.000,5,   2042.4,2,   2297.6,2,   7.9646,2, -999.000,9, -999.000,   -999.0,9,   -999.0,  18.6963,  25.0261
    49MR0505_1,   P03,   106,  1,     31, X12051,2,20051116,0521, 24.2723,-153.3082, 5146,    249.8,2,  16.5379,2,  16.53651,2,  34.6697,2,  34.6707,2,   191.03,1,   205.25,2,    244.0,2,   205.30,2,   205.98,2,     4.14,2,     0.13,     3.90,2,     0.04,     0.01,2,     0.01,    0.360,2,    0.014,    2.461,6,    1.427,6, -999.000,5,   2043.6,2,   2280.0,2,   7.9356,2, -999.000,9, -999.000,   -999.0,9,   -999.0,  16.4975,  25.3788
    49MR0505_1,   P03,   106,  1,     30, X12042,2,20051116,0521, 24.2723,-153.3082, 5146,    302.3,2,  13.6867,2,  13.69483,2,  34.3533,2,  34.3496,2,   194.87,1,   209.76,2,    300.1,2,   210.04,2,   209.84,2,     7.38,2,     0.14,     7.80,2,     0.05,     0.01,2,     0.01,    0.618,2,    0.013,    2.758,2,    1.566,2,    0.114,2,   2058.7,2,   2262.1,2,   7.8751,2, -999.000,9, -999.000,   -999.0,9,   -999.0,  13.6438,  25.7612
    49MR0505_1,   P03,   106,  1,     29, X12041,2,20051116,0521, 24.2723,-153.3082, 5146,    402.6,2,  10.0551,2,  10.05975,2,  34.1107,2,  34.1108,2,   174.78,1,   188.04,2,    400.2,2,   194.97,2,   188.38,2,    19.68,2,     0.16,    17.29,2,     0.08,     0.00,2,     0.01,    1.284,2,    0.014,    2.928,2,    1.559,2,    0.109,2,   2119.4,2,   2259.6,2,   7.7385,2, -999.000,9, -999.000,   -999.0,9,   -999.0,  10.0082,  26.2561
    49MR0505_1,   P03,   106,  1,     28, X12016,2,20051116,0521, 24.2723,-153.3082, 5146,    501.1,2,   7.6325,2,   7.63253,2,  34.0411,2,  34.0414,6,   131.90,1,   141.94,2,    501.9,2,   143.63,2,   141.81,2,    39.99,2,     0.21,    26.89,2,     0.11,     0.00,2,     0.01,    1.939,2,    0.015,    2.284,2,    1.115,2,    0.096,2,   2183.8,2,   2277.5,2,   7.5985,2, -999.000,9, -999.000,   -999.0,9,   -999.0,   7.5829,  26.5816
    49MR0505_1,   P03,   106,  1,     27, X12039,2,20051116,0521, 24.2723,-153.3082, 5146,    600.3,2,   5.7899,2,   5.79045,2,  34.0467,2,  34.0483,2,    73.65,1,    79.09,2,    602.3,2,    79.21,2,    78.28,2,    66.76,2,     0.27,    35.98,2,     0.13,     0.00,2,     0.01,    2.621,2,    0.017,    0.947,2,    0.467,2,    0.050,2,   2258.9,2,   2291.8,2,   7.4456,2, -999.000,9, -999.000,   -999.0,9,   -999.0,   5.7384,  26.8319
    49MR0505_1,   P03,   106,  1,     26, X12038,2,20051116,0521, 24.2723,-153.3082, 5146,    699.0,2,   5.3200,2,   5.31957,2,  34.1533,2,  34.1615,2,    37.34,1,    39.66,2,    693.5,2,    43.60,2,    38.60,2,    80.62,2,     0.30,    39.82,2,     0.14,     0.00,2,     0.01,    2.953,2,    0.017,    0.273,2,    0.141,2,    0.015,2,   2300.1,6,   2312.7,2,   7.3760,2, -999.000,9, -999.000,   -999.0,9,   -999.0,   5.2620,  26.9735
    49MR0505_1,   P03,   106,  1,     25, X12037,2,20051116,0521, 24.2723,-153.3082, 5146,    801.9,2,   4.5706,2,   4.57054,2,  34.2503,2,  34.2511,2,    19.87,1,    22.01,2,    796.9,2,    19.40,2,    21.46,2,    99.30,2,     0.34,    42.64,2,     0.15,     0.00,2,     0.01,    3.148,2,    0.018,    0.059,6,    0.032,6,    0.013,6,   2331.3,2,   2335.4,6,   7.3466,2, -999.000,9, -999.000,   -999.0,9,   -999.0,   4.5079,  27.1359
    49MR0505_1,   P03,   106,  1,     24, X12008,2,20051116,0521, 24.2723,-153.3082, 5146,    900.2,2,   4.3243,2,   4.32415,2,  34.3565,2,  34.3559,2,    20.85,1,    23.02,2,    897.2,2,    22.58,2,    22.27,2,   106.36,2,     0.35,    43.20,2,     0.15,     0.00,2,     0.01,    3.170,2,    0.018,    0.014,2,    0.007,2,    0.008,2,   2342.7,2,   2349.3,2,   7.3593,6, -999.000,9, -999.000,   -999.0,9,   -999.0,   4.2548,  27.2475
    49MR0505_1,   P03,   106,  1,     23, X12035,2,20051116,0521, 24.2723,-153.3082, 5146,   1003.1,2,   4.0284,2,   4.02830,2,  34.4371,2,  34.4370,6,    29.45,1,    32.04,2,    999.7,2,    33.35,2,    31.69,2,   112.51,2,     0.37,    42.97,2,     0.15,     0.00,2,     0.01,    3.140,2,    0.018,    0.005,2,    0.001,2,    0.000,2,   2346.4,2,   2364.9,2,   7.3856,2, -999.000,9, -999.000,   -999.0,9,   -999.0,   3.9524,  27.3433
    49MR0505_1,   P03,   106,  1,     22, X12034,2,20051116,0521, 24.2723,-153.3082, 5146,   1200.9,2,   3.5209,2,   3.52074,2,  34.5143,2,  34.5140,2,    44.62,1,    48.42,2,   1199.6,2,    48.51,2,    48.37,2,   122.43,2,     0.39,    42.34,2,     0.15,     0.00,2,     0.01,    3.078,2,    0.018,    0.000,2,    0.000,2,    0.000,2,   2350.6,2,   2377.3,2,   7.4202,2, -999.000,9, -999.000,   -999.0,9,   -999.0,   3.4326,  27.4566
    49MR0505_1,   P03,   106,  1,     21, X12033,2,20051116,0521, 24.2723,-153.3082, 5146,   1398.6,2,   3.0620,2,   3.06168,2,  34.5517,2,  34.5522,2,    54.30,1,    59.02,2,   1397.4,2,    59.00,2,    59.01,2,   132.84,2,     0.41,    42.09,2,     0.15,     0.00,2,     0.01,    3.038,2,    0.018,    0.000,2,    0.000,2,    0.000,2,   2355.5,2,   2392.2,2,   7.4376,2, -999.000,9, -999.000,   -999.0,9,   -999.0,   2.9619,  27.5307
    49MR0505_1,   P03,   106,  1,     20, X12032,2,20051116,0521, 24.2723,-153.3082, 5146,   1602.8,2,   2.6618,2,   2.66171,2,  34.5783,2,  34.5780,2,    63.82,1,    69.43,2,   1603.5,2,    68.94,2,    69.28,2,   141.98,2,     0.43,    41.55,2,     0.15,     0.00,2,     0.01,    2.985,2,    0.017,    0.002,2,    0.000,2,    0.000,2,   2358.2,2,   2401.0,2,   7.4560,6, -999.000,9, -999.000,   -999.0,9,   -999.0,   2.5495,  27.5885
    49MR0505_1,   P03,   106,  1,     19, X12001,2,20051116,0521, 24.2723,-153.3082, 5146,   1800.5,2,   2.3939,2,   2.39411,2,  34.5961,2,  34.5963,2,    69.88,1,    76.22,2,   1800.7,2,    75.39,2,    76.26,2,   148.79,2,     0.45,    41.23,2,     0.15,     0.00,2,     0.01,    2.952,2,    0.017,    0.000,2,    0.000,2,    0.000,2,   2360.6,2,   2406.5,2,   7.4664,2, -999.000,9, -999.000,   -999.0,9,   -999.0,   2.2686,  27.6264
    49MR0505_1,   P03,   106,  1,     18, X12030,2,20051116,0521, 24.2723,-153.3082, 5146,   2001.9,2,   2.1133,2,   2.11371,2,  34.6141,2,  34.6144,2,    76.85,1,    84.02,2,   2002.2,2,    83.46,2,    83.88,2,   156.85,2,     0.46,    40.72,2,     0.15,     0.00,2,     0.01,    2.898,2,    0.017,    0.002,2,    0.002,2,    0.000,2,   2362.9,2,   2410.2,2,   7.4799,2, -999.000,9, -999.000,   -999.0,9,   -999.0,   1.9750,  27.6644
    49MR0505_1,   P03,   106,  1,     17, X12049,2,20051116,0521, 24.2723,-153.3082, 5146,   2203.4,2,   1.9249,2,   1.92509,2,  34.6295,2,  34.6297,6,    83.56,1,    91.51,2,   2203.2,2,    90.78,2,    91.15,2,   161.99,2,     0.48,    40.29,2,     0.15,     0.00,2,     0.01,    2.860,2,    0.017, -999.000,9, -999.000,9, -999.000,9,   2363.1,2,   2422.9,4,   7.4953,2, -999.000,9, -999.000,   -999.0,9,   -999.0,   1.7724,  27.6925
    49MR0505_1,   P03,   106,  1,     16, X12028,2,20051116,0521, 24.2723,-153.3082, 5146,   2401.3,2,   1.7805,2,   1.78058,2,  34.6421,2,  34.6427,2,    91.97,1,   100.71,2,   2401.8,2,    99.45,2,   100.49,2,   164.26,2,     0.48,    39.62,2,     0.14,     0.00,2,     0.01,    2.813,2,    0.017, -999.000,9, -999.000,9, -999.000,9,   2361.5,6,   2421.5,2,   7.5090,2, -999.000,9, -999.000,   -999.0,9,   -999.0,   1.6131,  27.7146
    49MR0505_1,   P03,   106,  1,     15, X12006,2,20051116,0521, 24.2723,-153.3082, 5146,   2602.8,2,   1.6865,2,   1.68680,2,  34.6524,2,  34.6523,2,    98.76,1,   108.04,2,   2602.5,2,   108.20,2,   108.16,2,   165.20,2,     0.48,    39.25,2,     0.14,     0.00,2,     0.01,    2.774,2,    0.017, -999.000,9, -999.000,9, -999.000,9,   2356.9,2,   2421.6,6,   7.5225,2, -999.000,9, -999.000,   -999.0,9,   -999.0,   1.5028,  27.7310
    49MR0505_1,   P03,   106,  1,     14, X12026,2,20051116,0521, 24.2723,-153.3082, 5146,   2800.2,2,   1.6094,2,   1.60935,2,  34.6614,2,  34.6613,2,   106.24,1,   116.36,2,   2800.1,2,   116.36,2,   116.26,2,   165.08,2,     0.48,    38.76,2,     0.14,     0.00,2,     0.01,    2.734,2,    0.017,    0.000,2,    0.002,2,    0.000,2,   2352.9,2,   2424.9,2,   7.5368,6, -999.000,9, -999.000,   -999.0,9,   -999.0,   1.4091,  27.7450
    49MR0505_1,   P03,   106,  1,     13, X12025,2,20051116,0521, 24.2723,-153.3082, 5146,   3000.8,2,   1.5572,2,   1.55714,2,  34.6684,2,  34.6683,2,   112.67,1,   123.37,2,   3000.5,2,   124.11,2,   123.25,2,   164.28,2,     0.48,    38.23,2,     0.14,     0.00,2,     0.01,    2.688,2,    0.017, -999.000,9, -999.000,9, -999.000,9,   2349.6,2,   2426.0,2,   7.5499,2, -999.000,9, -999.000,   -999.0,9,   -999.0,   1.3391,  27.7556
    49MR0505_1,   P03,   106,  1,     12, X12024,2,20051116,0521, 24.2723,-153.3082, 5146,   3250.6,2,   1.5100,2,   1.51006,2,  34.6743,2,  34.6745,2,   120.25,1,   131.57,2,   3250.3,2,   132.04,2,   131.52,2,   161.87,2,     0.48,    37.67,2,     0.14,     0.00,2,     0.01,    2.638,2,    0.017, -999.000,9, -999.000,9, -999.000,9,   2341.6,2,   2422.5,2,   7.5632,2, -999.000,9, -999.000,   -999.0,9,   -999.0,   1.2687,  27.7653
    49MR0505_1,   P03,   106,  1,     11, X12023,2,20051116,0521, 24.2723,-153.3082, 5146,   3500.2,2,   1.4750,2,   1.47523,2,  34.6793,2,  34.6795,2,   127.19,1,   138.94,2,   3500.5,2,   138.10,2,   139.03,2,   159.08,2,     0.47,    37.28,2,     0.14,     0.00,2,     0.01,    2.605,2,    0.016, -999.000,9, -999.000,9, -999.000,9,   2334.7,2,   2422.6,2,   7.5741,2, -999.000,9, -999.000,   -999.0,9,   -999.0,   1.2095,  27.7734
    49MR0505_1,   P03,   106,  1,     10, X12022,2,20051116,0521, 24.2723,-153.3082, 5146,   3750.4,2,   1.4588,2,   1.45889,2,  34.6834,2,  34.6833,6,   132.53,1,   144.50,2,   3750.6,2,   144.04,2,   144.22,2,   157.01,2,     0.46,    36.87,2,     0.14,     0.00,2,     0.01,    2.576,2,    0.016,    0.001,2,    0.000,2,    0.000,2,   2332.5,2,   2422.2,2,   7.5838,2, -999.000,9, -999.000,   -999.0,9,   -999.0,   1.1678,  27.7796
    49MR0505_1,   P03,   106,  1,      9, X12021,2,20051116,0521, 24.2723,-153.3082, 5146,   4000.2,2,   1.4536,2,   1.45372,2,  34.6865,2,  34.6863,2,   137.03,1,   149.08,2,   4000.1,2,   149.39,2,   148.70,2,   155.02,2,     0.46,    36.58,2,     0.14,     0.00,2,     0.01,    2.549,2,    0.016, -999.000,9, -999.000,9, -999.000,9,   2330.3,2,   2420.4,2,   7.5907,2, -999.000,9, -999.000,   -999.0,9,   -999.0,   1.1360,  27.7843
    49MR0505_1,   P03,   106,  1,      8, X12020,2,20051116,0521, 24.2723,-153.3082, 5146,   4250.2,2,   1.4546,2,   1.45456,2,  34.6887,2,  34.6885,2,   141.20,1,   153.23,2,   4250.3,2,   152.79,2,   152.90,2,   152.84,2,     0.46,    36.20,2,     0.13,     0.00,2,     0.01,    2.525,2,    0.016, -999.000,9, -999.000,9, -999.000,9,   2325.6,6,   2419.7,2,   7.5958,2, -999.000,9, -999.000,   -999.0,9,   -999.0,   1.1094,  27.7878
    49MR0505_1,   P03,   106,  1,      7, X12019,2,20051116,0521, 24.2723,-153.3082, 5146,   4499.3,2,   1.4677,2,   1.46782,2,  34.6901,2,  34.6900,2,   144.07,1,   155.71,2,   4499.3,2,   155.54,2,   155.39,2,   151.15,2,     0.45,    36.02,2,     0.13,     0.00,2,     0.01,    2.512,2,    0.016, -999.000,9, -999.000,9, -999.000,9,   2323.1,2,   2418.8,6,   7.5999,2, -999.000,9, -999.000,   -999.0,9,   -999.0,   1.0938,  27.7900
    49MR0505_1,   P03,   106,  1,      6, X12018,2,20051116,0521, 24.2723,-153.3082, 5146,   4750.7,2,   1.4879,2,   1.48791,2,  34.6910,2,  34.6909,6,   146.55,1,   157.59,2,   4750.7,2,   157.40,2,   157.40,2,   149.31,2,     0.45,    35.94,2,     0.13,     0.00,2,     0.01,    2.505,2,    0.016,    0.001,2,    0.004,2,    0.000,2,   2320.7,2,   2416.2,2,   7.6030,2, -999.000,9, -999.000,   -999.0,9,   -999.0,   1.0840,  27.7914
    49MR0505_1,   P03,   106,  1,      5, X12043,2,20051116,0521, 24.2723,-153.3082, 5146,   5000.2,2,   1.5113,2,   1.51122,2,  34.6915,2,  34.6915,2,   148.87,1,   159.43,2,   5000.3,2,   158.93,2,   159.01,2,   147.85,2,     0.44,    35.81,2,     0.13,     0.00,2,     0.01,    2.496,2,    0.016, -999.000,9, -999.000,9, -999.000,9,   2319.1,2,   2417.4,2,   7.6043,2, -999.000,9, -999.000,   -999.0,9,   -999.0,   1.0766,  27.7923
    49MR0505_1,   P03,   106,  1,      4, X12010,9,20051116,0521, 24.2723,-153.3082, 5146,     99.8,2,  22.8338,2,  22.83266,2,  35.2370,2,-999.0000,9,   202.94,1,   219.07,2,    105.8,2,   219.14,2,  -999.00,9,  -999.00,9,  -999.00,  -999.00,9,  -999.00,  -999.00,9,  -999.00, -999.000,9, -999.000, -999.000,9, -999.000,9, -999.000,9,   -999.0,9,   -999.0,9,-999.0000,9, -999.000,9, -999.000,   -999.0,9,   -999.0,  22.8135,  24.1670
    49MR0505_1,   P03,   106,  1,      3, X12015,9,20051116,0521, 24.2723,-153.3082, 5146,     50.4,2,  24.6551,2,  24.65602,2,  35.2316,2,-999.0000,9,   194.95,1,   210.22,2,     48.0,2,   210.74,2,  -999.00,9,  -999.00,9,  -999.00,  -999.00,9,  -999.00,  -999.00,9,  -999.00, -999.000,9, -999.000, -999.000,9, -999.000,9, -999.000,9,   -999.0,9,   -999.0,9,-999.0000,9, -999.000,9, -999.000,   -999.0,9,   -999.0,  24.6443,  23.6241
    49MR0505_1,   P03,   106,  1,      2, X12014,9,20051116,0521, 24.2723,-153.3082, 5146,      9.9,2,  24.6894,2,  24.69031,2,  35.0622,2,-999.0000,9,   194.57,1,   210.04,2,     13.7,2,   210.34,2,  -999.00,9,  -999.00,9,  -999.00,  -999.00,9,  -999.00,  -999.00,9,  -999.00, -999.000,9, -999.000, -999.000,9, -999.000,9, -999.000,9,   -999.0,9,   -999.0,9,-999.0000,9, -999.000,9, -999.000,   -999.0,9,   -999.0,  24.6873,  23.4830
    49MR0505_1,   P03,   106,  1,      1, X12013,2,20051116,0521, 24.2723,-153.3082, 5146,   5213.3,2,   1.5307,2,   1.53083,2,  34.6924,2,  34.6927,6,   151.41,1,   160.82,2,   5213.3,2,   160.58,2,   160.42,2,   146.34,2,     0.44,    35.67,2,     0.13,     0.00,2,     0.01,    2.489,2,    0.016,    0.000,2,    0.006,2,    0.000,2,   2315.9,2,   2416.6,2,   7.6062,2, -999.000,9, -999.000,   -999.0,9,   -999.0,   1.0691,  27.7936