BOTTLE,20100316JAMSTECRIGC
EXPOCODE,SECT,STNNBR,CASTNO,SAMPNO,BTLNBR,BTLNBR_FLAG_W,DATE,TIME,LATITUDE,LONGITUDE,DEPTH,CTDPRS,CTDPRS_FLAG_W,CTDTMP,CTDTMP_FLAG_W,SBE35,SBE35_FLAG_W,CTDSAL,CTDSAL_FLAG_W,SALNTY,SALNTY_FLAG_W,CTDOXY,CTDOXY_FLAG_W,OPTOXY,OPTOXY_FLAG_W,DWNPRS,DWNPRS_FLAG_W,DWNOXY,DWNOXY_FLAG_W,OXYGEN,OXYGEN_FLAG_W,SILCAT,SILCAT_FLAG_W,SILUNC,NITRAT,NITRAT_FLAG_W,NRAUNC,NITRIT,NITRIT_FLAG_W,NRIUNC,PHSPHT,PHSPHT_FLAG_W,PHPUNC,CFC-11,CFC-11_FLAG_W,CFC-12,CFC-12_FLAG_W,CFC113,CFC113_FLAG_W,TCARBN,TCARBN_FLAG_W,ALKALI,ALKALI_FLAG_W,PH,PH_FLAG_W,DELC13,DELC13_FLAG_W,C13ERR,DELC14,DELC14_FLAG_W,C14ERR,THETA,SIG0
,,,,,,,,UTC,DEG,DEG,M,DBAR,,ITS-90,,ITS-90,,PSS-78,,PSS-78,,UMOL/KG,,UMOL/KG,,DBAR,,UMOL/KG,,UMOL/KG,,UMOL/KG,,UMOL/KG,UMOL/KG,,UMOL/KG,UMOL/KG,,UMOL/KG,UMOL/KG,,UMOL/KG,PMOL/KG,,PMOL/KG,,PMOL/KG,,UMOL/KG,,UMOL/KG,,,,/MILLE,,/MILLE,/MILLE,,/MILLE,DEG C,KG/CUM
    49MR0505_1,   P03,    51,  1,      0,   -999,9,20051107,0024, 24.2592,-130.8472, 4758,   -999.0,9,-999.0000,9,-999.00000,9,-999.0000,9,  34.8852,2,  -999.00,9,  -999.00,9,   -999.0,9,  -999.00,9,  -999.00,9,  -999.00,9,  -999.00,  -999.00,9,  -999.00,  -999.00,9,  -999.00, -999.000,9, -999.000, -999.000,9, -999.000,9, -999.000,9,   -999.0,9,   -999.0,9,-999.0000,9, -999.000,9, -999.000,   -999.0,9,   -999.0,-999.0000,-999.0000
    49MR0505_1,   P03,    51,  1,     36, X12048,2,20051107,0024, 24.2592,-130.8472, 4758,     11.0,2,  22.0789,2,  22.07901,2,  34.8740,2,  34.8729,2,   210.07,1,   220.25,2,     10.1,2,   220.63,2,   220.57,2,     1.18,2,     0.12,     0.06,2,     0.03,     0.00,2,     0.01,    0.164,2,    0.017,    1.901,2,    1.148,2, -999.000,5,   2008.7,2,   2307.0,2,   8.0486,6,    1.370,2,    0.005,     54.7,2,      3.7,  22.0767,  24.1006
    49MR0505_1,   P03,    51,  1,     35, X12047,2,20051107,0024, 24.2592,-130.8472, 4758,     49.9,2,  22.0645,2,  22.06488,2,  34.8709,2,  34.8708,2,   210.04,1,   220.54,2,     48.9,2,   220.24,2,   220.58,2,     1.18,2,     0.12,     0.05,2,     0.03,     0.00,2,     0.01,    0.162,2,    0.017,    1.913,2,    1.156,2, -999.000,5,   2009.4,6,   2308.3,2,   8.0488,2,    1.197,2,    0.003,     56.3,2,      3.4,  22.0546,  24.1044
    49MR0505_1,   P03,    51,  1,     34, X12046,2,20051107,0024, 24.2592,-130.8472, 4758,    100.4,2,  19.8088,2,  19.80881,2,  34.5485,2,  34.5606,2,   223.22,1,   234.11,2,     99.9,2,   234.57,2,   232.94,2,     1.59,2,     0.12,     0.05,2,     0.03,     0.00,2,     0.01,    0.167,2,    0.017,    2.244,2,    1.344,2, -999.000,5,   2020.5,2,   2290.1,6,   8.0065,2,    1.344,2,    0.004,     64.2,2,      3.3,  19.7904,  24.4723
    49MR0505_1,   P03,    51,  1,     33, X12003,2,20051107,0024, 24.2592,-130.8472, 4758,    150.1,2,  18.2696,2,  18.26929,2,  34.5923,2,  34.5798,2,   208.40,1,   219.04,2,    150.0,2,   218.29,2,   218.26,2,     2.19,2,     0.12,     0.60,2,     0.03,     0.15,2,     0.01,    0.226,2,    0.015,    2.384,2,    1.376,2, -999.000,5,   2035.0,2,   2283.8,2,   7.9717,6,    1.046,2,    0.004,     70.8,2,      3.3,  18.2436,  24.8996
    49MR0505_1,   P03,    51,  1,     32, X12044,2,20051107,0024, 24.2592,-130.8472, 4758,    201.9,2,  13.2953,2,  13.30564,2,  33.9063,2,  33.8944,2,   203.27,1,   211.73,2,    195.6,2,   212.87,2,   211.57,2,     6.46,2,     0.13,     6.92,2,     0.05,     0.01,2,     0.01,    0.661,2,    0.013,    2.961,2,    1.618,2,    0.172,4,   2054.8,2,   2236.2,2,   8.0887,4,    0.736,6,    0.013,     63.8,6,      2.4,  13.2674,  25.4921
    49MR0505_1,   P03,    51,  1,     31, X12051,2,20051107,0024, 24.2592,-130.8472, 4758,    252.5,2,  10.3331,2,  10.33489,2,  33.9404,2,  33.9450,2,   192.22,1,   200.14,2,    250.5,2,   200.83,2,   200.32,2,    15.25,2,     0.15,    14.67,2,     0.07,     0.00,2,     0.01,    1.133,2,    0.013,    3.240,6,    1.679,6,    0.115,6,   2099.0,2,   2247.6,2,   7.7605,2,    0.378,2,    0.003,     58.3,2,      3.4,  10.3035,  26.0728
    49MR0505_1,   P03,    51,  1,     30, X12042,2,20051107,0024, 24.2592,-130.8472, 4758,    300.7,2,   9.0827,2,   9.08267,2,  34.0461,2,  34.0409,2,   163.13,1,   168.10,2,    299.9,2,   159.21,2,   167.62,2,    25.77,2,     0.18,    21.17,2,     0.09,     0.00,2,     0.01,    1.568,2,    0.014,    2.946,2,    1.469,2,    0.101,2,   2146.1,2,   2254.4,2,   7.6723,2,    0.128,2,    0.005,     33.1,2,      3.2,   9.0501,  26.3632
    49MR0505_1,   P03,    51,  1,     29, X12041,2,20051107,0024, 24.2592,-130.8472, 4758,    399.7,2,   7.0485,2,   7.04621,2,  34.0613,2,  34.0623,2,    94.17,1,    97.80,2,    401.9,2,   101.43,2,    97.14,2,    49.72,2,     0.23,    31.59,2,     0.12,     0.00,2,     0.01,    2.348,2,    0.016,    1.653,2,    0.754,2,    0.053,2,   2228.1,2,   2280.8,2,   7.5009,2,   -0.199,2,    0.003,    -32.1,2,      3.2,   7.0109,  26.6778
    49MR0505_1,   P03,    51,  1,     28, X12016,9,20051107,0024, 24.2592,-130.8472, 4758,    501.6,2,   5.7598,2,   5.76029,2,  34.1388,2,-999.0000,9,    42.05,1,    43.48,2,    507.5,2,    49.40,2,  -999.00,9,  -999.00,9,  -999.00,  -999.00,9,  -999.00,  -999.00,9,  -999.00, -999.000,9, -999.000, -999.000,9, -999.000,9, -999.000,9,   -999.0,9,   -999.0,9,-999.0000,9, -999.000,9, -999.000,   -999.0,9,   -999.0,   5.7172,  26.9073
    49MR0505_1,   P03,    51,  1,     27, X12039,2,20051107,0024, 24.2592,-130.8472, 4758,    600.4,2,   5.3897,2,   5.38982,2,  34.2930,2,  34.2924,2,    18.94,1,    19.68,2,    605.3,2,    21.03,2,    19.82,2,    84.21,2,     0.30,    41.04,2,     0.15,     0.00,2,     0.01,    3.107,2,    0.018,    0.059,2,    0.031,2,    0.000,2,   2319.5,2,   2326.4,2,   7.3724,3,   -0.395,2,    0.002,   -146.4,2,      2.8,   5.3398,  27.0750
    49MR0505_1,   P03,    51,  1,     26, X12038,2,20051107,0024, 24.2592,-130.8472, 4758,    700.7,2,   5.0617,2,   5.06192,2,  34.3911,2,  33.4401,4,    18.64,1,    19.37,2,    702.5,2,    19.40,2,    19.40,2,    91.32,2,     0.32,    42.18,2,     0.15,     0.00,2,     0.01,    3.165,2,    0.018,    0.016,2,    0.010,2,    0.000,2,   2331.0,6,   2337.8,2,   7.3747,2,   -0.335,2,    0.003,   -162.9,2,      2.8,   5.0046,  27.1920
    49MR0505_1,   P03,    51,  1,     25, X12037,2,20051107,0024, 24.2592,-130.8472, 4758,    801.2,2,   4.8040,2,   4.80487,2,  34.4466,2,  34.4467,2,    21.48,1,    22.22,2,    801.6,2,    22.63,2,    22.42,2,    96.33,2,     0.33,    42.75,2,     0.15,     0.00,2,     0.01,    3.188,2,    0.018,    0.006,6,    0.005,6,    0.000,6,   2338.1,2,   2349.5,6,   7.3839,2,   -0.305,2,    0.004,   -179.0,2,      2.8,   4.7397,  27.2661
    49MR0505_1,   P03,    51,  1,     24, X12008,2,20051107,0024, 24.2592,-130.8472, 4758,    901.4,2,   4.4703,2,   4.47045,2,  34.4793,2,  34.4794,2,    25.56,1,    26.37,2,    903.7,2,    26.69,2,    26.60,2,   102.72,2,     0.34,    42.98,2,     0.15,     0.00,2,     0.01,    3.184,2,    0.018,    0.006,2,    0.004,2,    0.000,2,   2344.6,2,   2361.2,2,   7.3911,6,   -0.282,2,    0.002,   -189.3,2,      2.8,   4.3995,  27.3296
    49MR0505_1,   P03,    51,  1,     23, X12035,2,20051107,0024, 24.2592,-130.8472, 4758,   1001.5,2,   4.1238,2,   4.12402,2,  34.5038,2,  34.5033,6,    28.89,1,    29.62,2,   1005.0,2,    30.31,2,    30.25,2,   110.37,2,     0.36,    43.18,2,     0.15,     0.00,2,     0.01,    3.195,2,    0.018,    0.003,2,    0.005,2,    0.000,2,   2350.1,2,   2369.4,2,   7.3962,2,   -0.287,2,    0.004,   -202.4,2,      2.7,   4.0471,  27.3866
    49MR0505_1,   P03,    51,  1,     22, X12034,2,20051107,0024, 24.2592,-130.8472, 4758,   1201.9,2,   3.6016,2,   3.60178,2,  34.5318,2,  34.5319,2,    37.19,1,    38.20,2,   1202.7,2,    38.85,2,    38.91,2,   122.39,2,     0.39,    43.14,2,     0.15,     0.00,2,     0.01,    3.172,2,    0.018,    0.011,2,    0.000,2,    0.000,2,   2358.4,2,   2384.8,2,   7.4124,2,   -0.295,2,    0.004,   -217.7,2,      2.9,   3.5125,  27.4629
    49MR0505_1,   P03,    51,  1,     21, X12033,2,20051107,0024, 24.2592,-130.8472, 4758,   1400.1,2,   3.0839,2,   3.08391,2,  34.5638,2,  34.5640,2,    46.12,1,    47.63,2,   1403.9,2,    47.31,2,    48.40,2,   135.15,2,     0.42,    42.71,2,     0.15,     0.00,2,     0.01,    3.126,2,    0.018,    0.002,2,    0.002,2,    0.000,2,   2363.2,2,   2398.7,2,   7.4235,2,   -0.302,2,    0.003,   -236.0,2,      2.7,   2.9834,  27.5384
    49MR0505_1,   P03,    51,  1,     20, X12032,3,20051107,0024, 24.2592,-130.8472, 4758,   1601.2,2,   2.6841,2,   2.68417,2,  34.5892,2,  34.5896,2,    57.12,1,    59.31,2,   1603.0,2,    58.88,2,    59.92,2,   144.58,2,     0.44,    42.06,2,     0.15,     0.00,2,     0.01,    3.055,2,    0.018,    0.000,2,    0.000,2,    0.000,2,   2367.7,2,   2403.2,2,   7.4436,6,   -0.309,2,    0.004,   -240.7,2,      2.6,   2.5716,  27.5952
    49MR0505_1,   P03,    51,  1,     19, X12001,2,20051107,0024, 24.2592,-130.8472, 4758,   1801.8,2,   2.4202,2,   2.42036,2,  34.6072,2,  34.6072,2,    66.48,1,    69.47,2,   1802.0,2,    70.23,2,    69.67,2,   150.71,2,     0.45,    41.50,2,     0.15,     0.00,2,     0.01,    2.994,2,    0.017,    0.000,2,    0.001,2,    0.000,2,   2367.4,2,   2410.9,2,   7.4599,2,   -0.325,2,    0.003,   -242.8,2,      2.8,   2.2944,  27.6331
    49MR0505_1,   P03,    51,  1,     18, X12030,2,20051107,0024, 24.2592,-130.8472, 4758,   2000.9,2,   2.1561,2,   2.15620,2,  34.6272,2,  34.6272,2,    78.26,1,    81.87,2,   2002.6,2,    81.14,2,    82.22,2,   156.03,2,     0.46,    40.70,2,     0.15,     0.00,2,     0.01,    2.921,2,    0.017,    0.001,2,    0.000,2,    0.000,2,   2366.4,2,   2419.0,2,   7.4832,2,   -0.194,2,    0.003,   -248.9,2,      2.8,   2.0172,  27.6716
    49MR0505_1,   P03,    51,  1,     17, X12049,2,20051107,0024, 24.2592,-130.8472, 4758,   2201.5,2,   1.9734,2,   1.97342,2,  34.6403,2,  34.6405,6,    87.80,1,    92.26,2,   2202.2,2,    92.47,2,    92.50,2,   159.59,2,     0.47,    40.06,2,     0.14,     0.00,2,     0.01,    2.856,2,    0.017, -999.000,9, -999.000,9, -999.000,9,   2363.8,2,   2424.8,2,   7.5130,3,   -0.151,2,    0.006,   -248.3,2,      2.9,   1.8202,  27.6975
    49MR0505_1,   P03,    51,  1,     16, X12028,2,20051107,0024, 24.2592,-130.8472, 4758,   2400.9,2,   1.8639,2,   1.86387,2,  34.6475,2,  34.6475,2,    93.80,1,    98.61,2,   2401.0,2,    99.55,2,    98.97,2,   162.21,2,     0.48,    39.66,2,     0.14,     0.00,2,     0.01,    2.820,2,    0.017, -999.000,9, -999.000,9, -999.000,9,   2361.4,6,   2425.2,2,   7.5130,2,   -0.147,2,    0.004,   -242.1,2,      2.8,   1.6951,  27.7128
    49MR0505_1,   P03,    51,  1,     15, X12006,2,20051107,0024, 24.2592,-130.8472, 4758,   2601.5,2,   1.7293,2,   1.72922,2,  34.6556,2,  34.6552,2,   101.04,1,   106.29,2,   2602.3,2,   106.28,2,   106.74,2,   165.48,2,     0.48,    39.09,2,     0.14,     0.00,2,     0.01,    2.770,2,    0.017, -999.000,9, -999.000,9, -999.000,9,   2359.3,2,   2426.9,6,   7.5261,2,   -0.119,2,    0.005,   -247.0,2,      2.5,   1.5449,  27.7305
    49MR0505_1,   P03,    51,  1,     14, X12026,2,20051107,0024, 24.2592,-130.8472, 4758,   2801.5,2,   1.6319,2,   1.63196,2,  34.6626,2,  34.6623,2,   108.04,1,   113.70,2,   2802.1,2,   113.58,2,   114.02,2,   167.27,2,     0.49,    38.75,2,     0.14,     0.00,2,     0.01,    2.735,2,    0.017, -999.000,9, -999.000,9, -999.000,9,   2354.1,2,   2431.1,2,   7.5385,6,   -0.084,2,    0.002,   -239.6,2,      2.6,   1.4310,  27.7444
    49MR0505_1,   P03,    51,  1,     13, X12025,2,20051107,0024, 24.2592,-130.8472, 4758,   3000.5,2,   1.5482,2,   1.54816,2,  34.6705,2,  34.6703,2,   116.58,1,   122.84,2,   3000.7,2,   123.28,2,   123.14,2,   166.87,2,     0.49,    38.17,2,     0.14,     0.00,2,     0.01,    2.686,2,    0.017,    0.001,2,    0.000,2,    0.000,2,   2347.4,2,   2429.1,2,   7.5523,2,   -0.033,6,    0.011,   -232.5,6,      1.9,   1.3303,  27.7579
    49MR0505_1,   P03,    51,  1,     12, X12024,2,20051107,0024, 24.2592,-130.8472, 4758,   3250.8,2,   1.5089,2,   1.50886,2,  34.6761,2,  34.6757,6,   123.49,1,   129.97,2,   3250.8,2,   130.83,2,   130.19,2,   165.12,2,     0.48,    37.63,2,     0.14,     0.00,2,     0.01,    2.644,2,    0.017, -999.000,9, -999.000,9, -999.000,9,   2345.9,2,   2431.7,2,   7.5682,2,    0.017,2,    0.003,   -234.0,2,      2.7,   1.2676,  27.7668
    49MR0505_1,   P03,    51,  1,     11, X12023,2,20051107,0024, 24.2592,-130.8472, 4758,   3500.9,2,   1.4901,2,   1.49015,2,  34.6803,2,  34.6807,2,   129.05,1,   135.47,2,   3501.1,2,   135.80,2,   135.97,2,   163.61,2,     0.48,    37.28,2,     0.14,     0.00,2,     0.01,    2.617,2,    0.017, -999.000,9, -999.000,9, -999.000,9,   2339.1,2,   2423.6,3,   7.5755,2,    0.047,2,    0.004,   -226.8,2,      2.8,   1.2241,  27.7732
    49MR0505_1,   P03,    51,  1,     10, X12022,2,20051107,0024, 24.2592,-130.8472, 4758,   3751.0,2,   1.4941,2,   1.49405,2,  34.6824,2,  34.6823,2,   132.22,1,   138.50,2,   3751.0,2,   139.46,2,   138.89,2,   162.75,2,     0.48,    37.11,2,     0.14,     0.00,2,     0.01,    2.602,2,    0.016, -999.000,9, -999.000,9, -999.000,9,   2338.8,2,   2432.9,3,   7.5806,2,    0.081,2,    0.002,   -222.8,2,      2.8,   1.2021,  27.7765
    49MR0505_1,   P03,    51,  1,      9, X12021,2,20051107,0024, 24.2592,-130.8472, 4758,   4000.1,2,   1.5014,2,   1.50140,2,  34.6845,2,  34.6845,6,   135.73,1,   141.71,2,   4000.3,2,   142.14,2,   142.28,2,   161.10,2,     0.47,    36.86,2,     0.14,     0.00,2,     0.01,    2.582,2,    0.016,    0.007,2,    0.007,2,    0.000,2,   2335.6,2,   2425.4,2,   7.5807,4,    0.021,2,    0.006,   -218.8,2,      2.9,   1.1825,  27.7795
    49MR0505_1,   P03,    51,  1,      8, X12020,2,20051107,0024, 24.2592,-130.8472, 4758,   4252.4,2,   1.5124,2,   1.51238,2,  34.6860,2,  34.6859,2,   139.27,1,   144.96,2,   4252.5,2,   145.57,2,   145.55,2,   158.52,2,     0.47,    36.65,2,     0.14,     0.00,2,     0.01,    2.564,2,    0.016, -999.000,9, -999.000,9, -999.000,9,   2332.6,6,   2422.6,2,   7.5896,2,    0.039,2,    0.002,   -223.4,2,      2.9,   1.1652,  27.7819
    49MR0505_1,   P03,    51,  1,      7, X12019,2,20051107,0024, 24.2592,-130.8472, 4758,   4500.8,2,   1.5291,2,   1.52909,2,  34.6869,2,  34.6870,2,   142.04,1,   147.23,2,   4500.8,2,   147.88,2,   147.72,2,   156.67,2,     0.46,    36.49,2,     0.13,     0.00,2,     0.01,    2.550,2,    0.016, -999.000,9, -999.000,9, -999.000,9,   2329.7,2,   2423.5,6,   7.5928,2,    0.117,2,    0.003,   -227.6,2,      2.7,   1.1531,  27.7835
    49MR0505_1,   P03,    51,  1,      6, X12018,2,20051107,0024, 24.2592,-130.8472, 4758,   4821.0,2,   1.5472,2,   1.54715,2,  34.6884,2,  34.6884,2,   146.76,1,   151.01,2,   4821.0,2,   151.14,2,   151.13,2,   153.86,2,     0.46,    36.22,2,     0.13,     0.00,2,     0.01,    2.533,2,    0.016, -999.000,5, -999.000,5, -999.000,5,   2323.3,3,   2419.7,2,   7.5980,6, -999.000,9, -999.000,   -999.0,9,   -999.0,   1.1330,  27.7860
    49MR0505_1,   P03,    51,  1,      5, X12043,9,20051107,0024, 24.2592,-130.8472, 4758,   1001.7,2,   4.1241,2,   4.12422,2,  34.5036,2,-999.0000,9,    28.87,1,    29.60,2,   1005.1,2,    30.31,2,  -999.00,9,  -999.00,9,  -999.00,  -999.00,9,  -999.00,  -999.00,9,  -999.00, -999.000,9, -999.000, -999.000,9, -999.000,9, -999.000,9,   -999.0,9,   -999.0,9,-999.0000,9, -999.000,9, -999.000,   -999.0,9,   -999.0,   4.0473,  27.3864
    49MR0505_1,   P03,    51,  1,      4, X12010,9,20051107,0024, 24.2592,-130.8472, 4758,   1001.1,2,   4.1246,2,   4.12475,2,  34.5037,2,-999.0000,9,    28.85,1,    29.62,2,   1004.6,2,    30.30,2,  -999.00,9,  -999.00,9,  -999.00,  -999.00,9,  -999.00,  -999.00,9,  -999.00, -999.000,9, -999.000, -999.000,9, -999.000,9, -999.000,9,   -999.0,9,   -999.0,9,-999.0000,9, -999.000,9, -999.000,   -999.0,9,   -999.0,   4.0479,  27.3864
    49MR0505_1,   P03,    51,  1,      3, X12015,2,20051107,0024, 24.2592,-130.8472, 4758,   4749.8,2,   1.5444,2,   1.54426,2,  34.6879,2,  34.6883,2,   145.28,1,   149.69,2,   4749.9,2,   150.11,2,   150.21,2,   154.81,2,     0.46,    36.42,2,     0.13,     0.00,2,     0.01,    2.542,2,    0.016, -999.000,9, -999.000,9, -999.000,9,   2327.9,2,   2423.1,2,   7.5952,2,    0.113,2,    0.006,   -215.8,2,      2.9,   1.1388,  27.7852
    49MR0505_1,   P03,    51,  1,      2, X12014,9,20051107,0024, 24.2592,-130.8472, 4758,     50.3,2,  22.0638,2,  22.06398,2,  34.8709,2,-999.0000,9,   210.37,1,   220.35,2,     49.2,2,   220.19,2,  -999.00,9,  -999.00,9,  -999.00,  -999.00,9,  -999.00,  -999.00,9,  -999.00, -999.000,9, -999.000, -999.000,9, -999.000,9, -999.000,9,   -999.0,9,   -999.0,9,-999.0000,9, -999.000,9, -999.000,   -999.0,9,   -999.0,  22.0539,  24.1047
    49MR0505_1,   P03,    51,  1,      1, X12013,2,20051107,0024, 24.2592,-130.8472, 4758,   4820.6,2,   1.5472,2,   1.54710,2,  34.6884,2,  34.6885,6,   146.89,1,   151.02,2,   4820.6,2,   151.16,2,   151.17,2,   153.98,2,     0.46,    36.25,2,     0.13,     0.00,2,     0.01,    2.537,2,    0.016,    0.016,2,    0.008,2,    0.000,2,   2326.5,2,   2417.8,2,   7.5974,2,    0.148,2,    0.005,   -217.8,2,      2.8,   1.1330,  27.7860