BOTTLE,20100316JAMSTECRIGC
EXPOCODE,SECT,STNNBR,CASTNO,SAMPNO,BTLNBR,BTLNBR_FLAG_W,DATE,TIME,LATITUDE,LONGITUDE,DEPTH,CTDPRS,CTDPRS_FLAG_W,CTDTMP,CTDTMP_FLAG_W,SBE35,SBE35_FLAG_W,CTDSAL,CTDSAL_FLAG_W,SALNTY,SALNTY_FLAG_W,CTDOXY,CTDOXY_FLAG_W,OPTOXY,OPTOXY_FLAG_W,DWNPRS,DWNPRS_FLAG_W,DWNOXY,DWNOXY_FLAG_W,OXYGEN,OXYGEN_FLAG_W,SILCAT,SILCAT_FLAG_W,SILUNC,NITRAT,NITRAT_FLAG_W,NRAUNC,NITRIT,NITRIT_FLAG_W,NRIUNC,PHSPHT,PHSPHT_FLAG_W,PHPUNC,CFC-11,CFC-11_FLAG_W,CFC-12,CFC-12_FLAG_W,CFC113,CFC113_FLAG_W,TCARBN,TCARBN_FLAG_W,ALKALI,ALKALI_FLAG_W,PH,PH_FLAG_W,DELC13,DELC13_FLAG_W,C13ERR,DELC14,DELC14_FLAG_W,C14ERR,THETA,SIG0
,,,,,,,,UTC,DEG,DEG,M,DBAR,,ITS-90,,ITS-90,,PSS-78,,PSS-78,,UMOL/KG,,UMOL/KG,,DBAR,,UMOL/KG,,UMOL/KG,,UMOL/KG,,UMOL/KG,UMOL/KG,,UMOL/KG,UMOL/KG,,UMOL/KG,UMOL/KG,,UMOL/KG,PMOL/KG,,PMOL/KG,,PMOL/KG,,UMOL/KG,,UMOL/KG,,,,/MILLE,,/MILLE,/MILLE,,/MILLE,DEG C,KG/CUM
    49MR0505_1,   P03,    58,  1,      0,   -999,9,20051108,0159, 24.2433,-134.0527, 4831,   -999.0,9,-999.0000,9,-999.00000,9,-999.0000,9,  34.8870,2,  -999.00,9,  -999.00,9,   -999.0,9,  -999.00,9,  -999.00,9,  -999.00,9,  -999.00,  -999.00,9,  -999.00,  -999.00,9,  -999.00, -999.000,9, -999.000, -999.000,9, -999.000,9, -999.000,9,   -999.0,9,   -999.0,9,-999.0000,9, -999.000,9, -999.000,   -999.0,9,   -999.0,-999.0000,-999.0000
    49MR0505_1,   P03,    58,  1,     36, X12048,2,20051108,0159, 24.2433,-134.0527, 4831,     10.0,2,  21.7416,2,  21.74196,2,  34.8145,2,  34.8142,2,   212.33,1,   223.43,2,      8.5,2,   222.72,2,   223.04,2,     1.32,2,     0.12,     0.03,2,     0.03,     0.00,2,     0.01,    0.162,2,    0.017,    1.920,2,    1.207,2, -999.000,5,   -999.0,9,   -999.0,9,-999.0000,9, -999.000,9, -999.000,   -999.0,9,   -999.0,  21.7396,  24.1495
    49MR0505_1,   P03,    58,  1,     35, X12047,2,20051108,0159, 24.2433,-134.0527, 4831,     49.7,2,  21.7563,2,  21.75582,2,  34.8389,2,  34.8393,2,   211.88,1,   222.87,2,     47.1,2,   222.72,2,   222.73,2,     1.30,2,     0.12,     0.02,2,     0.03,     0.00,2,     0.01,    0.158,2,    0.018,    1.916,2,    1.207,2, -999.000,5,   -999.0,9,   -999.0,9,-999.0000,9, -999.000,9, -999.000,   -999.0,9,   -999.0,  21.7466,  24.1661
    49MR0505_1,   P03,    58,  1,     34, X12046,2,20051108,0159, 24.2433,-134.0527, 4831,    101.0,2,  19.5252,2,  19.52541,2,  34.6039,2,  34.6196,2,   220.10,1,   231.93,2,     92.2,2,   232.69,2,   231.37,2,     1.57,2,     0.12,     0.02,2,     0.03,     0.01,2,     0.01,    0.153,2,    0.018,    2.208,2,    1.352,2, -999.000,5,   -999.0,9,   -999.0,9,-999.0000,9, -999.000,9, -999.000,   -999.0,9,   -999.0,  19.5069,  24.5883
    49MR0505_1,   P03,    58,  1,     33, X12003,2,20051108,0159, 24.2433,-134.0527, 4831,    150.8,2,  18.7439,2,  18.75447,2,  34.7335,2,  34.7313,2,   211.90,1,   223.40,2,    144.3,2,   221.98,2,   222.85,2,     1.81,2,     0.12,     0.16,2,     0.03,     0.17,2,     0.01,    0.154,2,    0.018,    2.262,2,    1.408,2, -999.000,5,   -999.0,9,   -999.0,9,-999.0000,9, -999.000,9, -999.000,   -999.0,9,   -999.0,  18.7173,  24.8891
    49MR0505_1,   P03,    58,  1,     32, X12044,2,20051108,0159, 24.2433,-134.0527, 4831,    198.2,2,  14.7219,2,  14.69391,2,  34.1049,2,  34.0791,2,   207.06,1,   217.58,2,    188.8,2,   216.75,2,   217.47,2,     4.45,2,     0.13,     4.30,2,     0.04,     0.01,2,     0.01,    0.467,2,    0.013,    2.781,2,    1.575,2,    0.200,4,   -999.0,9,   -999.0,9,-999.0000,9, -999.000,9, -999.000,   -999.0,9,   -999.0,  14.6925,  25.3485
    49MR0505_1,   P03,    58,  1,     31, X12051,2,20051108,0159, 24.2433,-134.0527, 4831,    249.7,2,  10.7150,2,  10.71479,2,  33.8909,2,  33.9054,2,   202.24,1,   211.47,2,    244.4,2,   212.78,2,   211.41,2,    12.71,2,     0.15,    12.79,2,     0.07,     0.01,2,     0.01,    1.000,2,    0.013,    3.244,6,    1.755,6,    0.129,6,   -999.0,9,   -999.0,9,-999.0000,9, -999.000,9, -999.000,   -999.0,9,   -999.0,  10.6850,  25.9678
    49MR0505_1,   P03,    58,  1,     30, X12042,2,20051108,0159, 24.2433,-134.0527, 4831,    304.3,2,   9.3176,2,   9.32011,2,  34.0527,2,  34.0519,2,   181.57,1,   190.64,2,    307.2,2,   191.34,2,   191.29,2,    21.89,2,     0.17,    18.40,2,     0.08,     0.00,2,     0.01,    1.340,2,    0.014,    3.158,2,    1.637,2,    0.108,2,   -999.0,9,   -999.0,9,-999.0000,9, -999.000,9, -999.000,   -999.0,9,   -999.0,   9.2840,  26.3308
    49MR0505_1,   P03,    58,  1,     29, X12041,2,20051108,0159, 24.2433,-134.0527, 4831,    402.8,2,   7.2156,2,   7.21093,2,  34.0261,2,  34.0274,2,   121.87,1,   128.11,2,    403.1,2,   128.80,2,   128.51,2,    44.14,2,     0.22,    28.75,2,     0.11,     0.01,2,     0.01,    2.076,2,    0.015,    2.242,2,    1.070,2,    0.078,2,   -999.0,9,   -999.0,9,-999.0000,9, -999.000,9, -999.000,   -999.0,9,   -999.0,   7.1773,  26.6271
    49MR0505_1,   P03,    58,  1,     28, X12016,2,20051108,0159, 24.2433,-134.0527, 4831,    498.9,2,   5.8085,2,   5.80936,2,  34.0592,2,  34.0594,6,    66.53,1,    69.69,2,    499.8,2,    69.13,2,    69.52,2,    66.88,2,     0.27,    36.52,2,     0.14,     0.00,2,     0.01,    2.670,2,    0.017,    0.894,4,    0.463,4,    0.026,4,   -999.0,9,   -999.0,9,-999.0000,9, -999.000,9, -999.000,   -999.0,9,   -999.0,   5.7660,  26.8384
    49MR0505_1,   P03,    58,  1,     27, X12039,2,20051108,0159, 24.2433,-134.0527, 4831,    599.3,2,   5.1498,2,   5.15024,2,  34.2062,2,  34.2093,2,    23.85,1,    24.83,2,    601.8,2,    27.12,2,    24.62,2,    86.21,2,     0.31,    41.04,2,     0.15,     0.01,2,     0.01,    3.067,2,    0.018,    0.000,4,    0.076,4,    0.000,4,   -999.0,9,   -999.0,9,-999.0000,9, -999.000,9, -999.000,   -999.0,9,   -999.0,   5.1012,  27.0342
    49MR0505_1,   P03,    58,  1,     26, X12038,2,20051108,0159, 24.2433,-134.0527, 4831,    698.1,2,   5.0159,2,   5.01580,2,  34.3530,2,  34.3537,2,    16.56,1,    17.40,2,    700.4,2,    16.87,2,    17.21,2,    92.22,2,     0.32,    42.26,2,     0.15,     0.00,2,     0.01,    3.169,2,    0.018,    0.018,2,    0.013,2,    0.000,2,   -999.0,9,   -999.0,9,-999.0000,9, -999.000,9, -999.000,   -999.0,9,   -999.0,   4.9594,  27.1670
    49MR0505_1,   P03,    58,  1,     25, X12037,2,20051108,0159, 24.2433,-134.0527, 4831,    799.7,2,   4.7762,2,   4.77606,2,  34.4378,2,  34.4376,2,    21.45,1,    22.45,2,    800.9,2,    22.09,2,    22.33,2,    96.83,2,     0.33,    42.72,2,     0.15,     0.01,2,     0.01,    3.173,2,    0.018,    0.005,6,    0.009,6,    0.000,6,   -999.0,9,   -999.0,9,-999.0000,9, -999.000,9, -999.000,   -999.0,9,   -999.0,   4.7122,  27.2622
    49MR0505_1,   P03,    58,  1,     24, X12008,2,20051108,0159, 24.2433,-134.0527, 4831,    901.7,2,   4.3677,2,   4.36748,2,  34.4713,2,  34.4713,2,    25.79,1,    26.81,2,    902.2,2,    26.77,2,    26.78,2,   104.86,2,     0.35,    43.03,2,     0.15,     0.00,2,     0.01,    3.173,2,    0.018,    0.004,2,    0.005,2,    0.000,2,   -999.0,9,   -999.0,9,-999.0000,9, -999.000,9, -999.000,   -999.0,9,   -999.0,   4.2976,  27.3343
    49MR0505_1,   P03,    58,  1,     23, X12035,2,20051108,0159, 24.2433,-134.0527, 4831,   1003.2,2,   4.0923,2,   4.09229,2,  34.4979,2,  34.4980,6,    30.66,1,    31.77,2,   1003.6,2,    31.07,2,    31.97,2,   110.55,2,     0.36,    43.08,2,     0.15,     0.00,2,     0.01,    3.174,2,    0.018,    0.002,2,    0.001,2,    0.000,2,   -999.0,9,   -999.0,9,-999.0000,9, -999.000,9, -999.000,   -999.0,9,   -999.0,   4.0157,  27.3851
    49MR0505_1,   P03,    58,  1,     22, X12034,2,20051108,0159, 24.2433,-134.0527, 4831,   1200.8,2,   3.5822,2,   3.58195,2,  34.5310,2,  34.5313,2,    37.28,1,    38.64,2,   1199.9,2,    39.23,2,    38.92,2,   122.80,2,     0.39,    43.08,2,     0.15,     0.00,2,     0.01,    3.160,2,    0.018,    0.000,2,    0.000,2,    0.000,2,   -999.0,9,   -999.0,9,-999.0000,9, -999.000,9, -999.000,   -999.0,9,   -999.0,   3.4933,  27.4641
    49MR0505_1,   P03,    58,  1,     21, X12033,2,20051108,0159, 24.2433,-134.0527, 4831,   1400.5,2,   3.0968,2,   3.09679,2,  34.5612,2,  34.5617,2,    46.06,1,    47.95,2,   1399.9,2,    48.54,2,    48.31,2,   134.90,2,     0.42,    42.64,2,     0.15,     0.00,2,     0.01,    3.119,2,    0.018,    0.000,2,    0.000,2,    0.000,2,   -999.0,9,   -999.0,9,-999.0000,9, -999.000,9, -999.000,   -999.0,9,   -999.0,   2.9962,  27.5352
    49MR0505_1,   P03,    58,  1,     20, X12032,2,20051108,0159, 24.2433,-134.0527, 4831,   1601.8,2,   2.7203,2,   2.72030,2,  34.5861,2,  34.5859,2,    55.68,1,    58.27,2,   1601.2,2,    59.06,2,    58.62,2,   143.55,2,     0.43,    42.13,2,     0.15,     0.00,2,     0.01,    3.055,2,    0.018,    0.000,2,    0.001,2,    0.000,2,   -999.0,9,   -999.0,9,-999.0000,9, -999.000,9, -999.000,   -999.0,9,   -999.0,   2.6073,  27.5897
    49MR0505_1,   P03,    58,  1,     19, X12001,2,20051108,0159, 24.2433,-134.0527, 4831,   1800.8,2,   2.4095,2,   2.40945,2,  34.6068,2,  34.6071,2,    66.73,1,    70.17,2,   1800.0,2,    70.98,2,    70.14,2,   150.46,2,     0.45,    41.42,2,     0.15,     0.00,2,     0.01,    2.984,2,    0.017,    0.001,2,    0.000,2,    0.000,2,   -999.0,9,   -999.0,9,-999.0000,9, -999.000,9, -999.000,   -999.0,9,   -999.0,   2.2839,  27.6336
    49MR0505_1,   P03,    58,  1,     18, X12030,2,20051108,0159, 24.2433,-134.0527, 4831,   2001.4,2,   2.1343,2,   2.13437,2,  34.6262,2,  34.6262,6,    78.74,1,    83.06,2,   2001.4,2,    83.04,2,    83.11,2,   155.87,2,     0.46,    40.68,2,     0.15,     0.00,2,     0.01,    2.910,2,    0.017,    0.001,2,    0.000,2,    0.000,2,   -999.0,9,   -999.0,9,-999.0000,9, -999.000,9, -999.000,   -999.0,9,   -999.0,   1.9957,  27.6725
    49MR0505_1,   P03,    58,  1,     17, X12049,2,20051108,0159, 24.2433,-134.0527, 4831,   2201.6,2,   1.9520,2,   1.95194,2,  34.6392,2,  34.6393,2,    88.14,1,    93.26,2,   2201.4,2,    93.29,2,    93.15,2,   159.82,2,     0.47,    40.08,2,     0.15,     0.00,2,     0.01,    2.852,2,    0.017, -999.000,9, -999.000,9, -999.000,9,   -999.0,9,   -999.0,9,-999.0000,9, -999.000,9, -999.000,   -999.0,9,   -999.0,   1.7991,  27.6983
    49MR0505_1,   P03,    58,  1,     16, X12028,2,20051108,0159, 24.2433,-134.0527, 4831,   2400.1,2,   1.8265,2,   1.82646,2,  34.6479,2,  34.6484,2,    94.86,1,   100.48,2,   2400.2,2,   100.27,2,   100.33,2,   162.65,2,     0.48,    39.63,2,     0.14,     0.00,2,     0.01,    2.810,2,    0.017,    0.000,2,    0.002,2,    0.000,2,   -999.0,9,   -999.0,9,-999.0000,9, -999.000,9, -999.000,   -999.0,9,   -999.0,   1.6584,  27.7159
    49MR0505_1,   P03,    58,  1,     15, X12009,2,20051108,0159, 24.2433,-134.0527, 4831,   2600.9,2,   1.7048,2,   1.70475,2,  34.6561,2,  34.6566,2,   101.99,1,   108.00,2,   2601.0,2,   107.89,2,   107.88,2,   165.44,2,     0.48,    39.06,2,     0.14,     0.00,2,     0.01,    2.765,2,    0.017, -999.000,9, -999.000,9, -999.000,9,   -999.0,9,   -999.0,9,-999.0000,9, -999.000,9, -999.000,   -999.0,9,   -999.0,   1.5209,  27.7327
    49MR0505_1,   P03,    58,  1,     14, X12026,2,20051108,0159, 24.2433,-134.0527, 4831,   2799.3,2,   1.6186,2,   1.61853,2,  34.6631,2,  34.6630,2,   108.64,1,   115.23,2,   2799.5,2,   114.85,2,   115.04,2,   166.00,2,     0.48,    38.64,2,     0.14,     0.00,2,     0.01,    2.727,2,    0.017, -999.000,9, -999.000,9, -999.000,9,   -999.0,9,   -999.0,9,-999.0000,9, -999.000,9, -999.000,   -999.0,9,   -999.0,   1.4182,  27.7458
    49MR0505_1,   P03,    58,  1,     13, X12025,2,20051108,0159, 24.2433,-134.0527, 4831,   2999.8,2,   1.5556,2,   1.55560,2,  34.6695,2,  34.6696,6,   115.36,1,   122.30,2,   3000.1,2,   121.58,2,   122.18,2,   166.12,2,     0.48,    38.16,2,     0.14,     0.00,2,     0.01,    2.691,2,    0.017, -999.000,5, -999.000,5, -999.000,5,   -999.0,9,   -999.0,9,-999.0000,9, -999.000,9, -999.000,   -999.0,9,   -999.0,   1.3376,  27.7566
    49MR0505_1,   P03,    58,  1,     12, X12024,2,20051108,0159, 24.2433,-134.0527, 4831,   3250.4,2,   1.5075,2,   1.50745,2,  34.6761,2,  34.6765,2,   123.10,1,   130.34,2,   3250.7,2,   129.73,2,   130.33,2,   165.12,2,     0.48,    37.61,2,     0.14,     0.00,2,     0.01,    2.634,2,    0.017, -999.000,9, -999.000,9, -999.000,9,   -999.0,9,   -999.0,9,-999.0000,9, -999.000,9, -999.000,   -999.0,9,   -999.0,   1.2663,  27.7669
    49MR0505_1,   P03,    58,  1,     11, X12023,2,20051108,0159, 24.2433,-134.0527, 4831,   3502.1,2,   1.4965,2,   1.49646,2,  34.6794,2,  34.6791,2,   127.63,1,   134.84,2,   3502.0,2,   135.20,2,   134.86,2,   163.79,2,     0.48,    37.33,2,     0.14,     0.00,2,     0.01,    2.615,2,    0.017, -999.000,5, -999.000,5, -999.000,5,   -999.0,9,   -999.0,9,-999.0000,9, -999.000,9, -999.000,   -999.0,9,   -999.0,   1.2302,  27.7721
    49MR0505_1,   P03,    58,  1,     10, X12022,2,20051108,0159, 24.2433,-134.0527, 4831,   4908.0,2,   1.4959,2,   1.49576,2,  34.6924,2,  34.6929,2,   155.31,1,   160.83,2,   4908.0,2,   160.53,2,   160.27,2,   146.41,2,     0.44,    35.49,2,     0.13,     0.00,2,     0.01,    2.477,2,    0.016, -999.000,9, -999.000,9, -999.000,9,   -999.0,9,   -999.0,9,-999.0000,9, -999.000,9, -999.000,   -999.0,9,   -999.0,   1.0729,  27.7933
    49MR0505_1,   P03,    58,  1,      9, X12021,2,20051108,0159, 24.2433,-134.0527, 4831,   4001.7,2,   1.4950,2,   1.49502,2,  34.6847,2,  34.6848,6,   136.09,1,   142.95,2,   4001.7,2,   143.24,2,   143.22,2,   159.11,2,     0.47,    36.79,2,     0.14,     0.00,2,     0.01,    2.567,2,    0.016,    0.000,2,    0.004,2,    0.000,2,   -999.0,9,   -999.0,9,-999.0000,9, -999.000,9, -999.000,   -999.0,9,   -999.0,   1.1761,  27.7801
    49MR0505_1,   P03,    58,  1,      8, X12020,2,20051108,0159, 24.2433,-134.0527, 4831,   4251.9,2,   1.4984,2,   1.49832,2,  34.6867,2,  34.6866,2,   140.45,1,   147.11,2,   4251.9,2,   147.54,2,   147.22,2,   156.61,2,     0.46,    36.48,2,     0.13,     0.00,2,     0.01,    2.548,2,    0.016, -999.000,9, -999.000,9, -999.000,9,   -999.0,9,   -999.0,9,-999.0000,9, -999.000,9, -999.000,   -999.0,9,   -999.0,   1.1517,  27.7834
    49MR0505_1,   P03,    58,  1,      7, X12019,2,20051108,0159, 24.2433,-134.0527, 4831,   4501.2,2,   1.5012,2,   1.50115,2,  34.6887,2,  34.6888,2,   145.25,1,   151.55,2,   4501.1,2,   152.05,2,   151.55,2,   153.29,2,     0.46,    36.21,2,     0.13,     0.00,2,     0.01,    2.527,2,    0.016, -999.000,9, -999.000,9, -999.000,9,   -999.0,9,   -999.0,9,-999.0000,9, -999.000,9, -999.000,   -999.0,9,   -999.0,   1.1260,  27.7867
    49MR0505_1,   P03,    58,  1,      6, X12018,2,20051108,0159, 24.2433,-134.0527, 4831,   4750.7,2,   1.4941,2,   1.49406,2,  34.6914,2,  34.6914,2,   151.67,1,   157.57,2,   4750.8,2,   157.57,2,   157.56,2,   148.74,2,     0.45,    35.75,2,     0.13,     0.00,2,     0.01,    2.490,2,    0.016, -999.000,9, -999.000,9, -999.000,9,   -999.0,9,   -999.0,9,-999.0000,9, -999.000,9, -999.000,   -999.0,9,   -999.0,   1.0900,  27.7913
    49MR0505_1,   P03,    58,  1,      5, X12043,9,20051108,0159, 24.2433,-134.0527, 4831,     50.0,2,  21.7572,2,  21.75737,2,  34.8388,2,-999.0000,9,   211.67,1,   222.85,2,     47.3,2,   222.72,2,  -999.00,9,  -999.00,9,  -999.00,  -999.00,9,  -999.00,  -999.00,9,  -999.00, -999.000,9, -999.000, -999.000,9, -999.000,9, -999.000,9,   -999.0,9,   -999.0,9,-999.0000,9, -999.000,9, -999.000,   -999.0,9,   -999.0,  21.7474,  24.1658
    49MR0505_1,   P03,    58,  1,      4, X12010,9,20051108,0159, 24.2433,-134.0527, 4831,     10.0,2,  21.7376,2,  21.73859,2,  34.8147,2,-999.0000,9,   212.21,1,   223.72,2,      8.6,2,   222.72,2,  -999.00,9,  -999.00,9,  -999.00,  -999.00,9,  -999.00,  -999.00,9,  -999.00, -999.000,9, -999.000, -999.000,9, -999.000,9, -999.000,9,   -999.0,9,   -999.0,9,-999.0000,9, -999.000,9, -999.000,   -999.0,9,   -999.0,  21.7356,  24.1507
    49MR0505_1,   P03,    58,  1,      3, X12015,9,20051108,0159, 24.2433,-134.0527, 4831,   3750.2,2,   1.4923,2,   1.49221,2,  34.6823,2,-999.0000,9,   132.15,1,   139.22,2,   3750.4,2,   139.04,2,  -999.00,9,  -999.00,9,  -999.00,  -999.00,9,  -999.00,  -999.00,9,  -999.00, -999.000,9, -999.000, -999.000,9, -999.000,9, -999.000,9,   -999.0,9,   -999.0,9,-999.0000,9, -999.000,9, -999.000,   -999.0,9,   -999.0,   1.2004,  27.7765
    49MR0505_1,   P03,    58,  1,      2, X12014,2,20051108,0159, 24.2433,-134.0527, 4831,   3750.6,2,   1.4924,2,   1.49230,2,  34.6824,2,  34.6827,2,   132.10,1,   139.24,2,   3750.8,2,   139.06,2,   139.30,2,   161.01,2,     0.47,    37.11,2,     0.14,     0.00,2,     0.01,    2.593,2,    0.016, -999.000,9, -999.000,9, -999.000,9,   -999.0,9,   -999.0,9,-999.0000,9, -999.000,9, -999.000,   -999.0,9,   -999.0,   1.2004,  27.7766
    49MR0505_1,   P03,    58,  1,      1, X12013,2,20051108,0159, 24.2433,-134.0527, 4831,   4907.7,2,   1.4957,2,   1.49551,2,  34.6925,2,  34.6928,6,   155.42,1,   160.74,2,   4907.7,2,   160.54,2,   160.32,2,   146.20,2,     0.44,    35.55,2,     0.13,     0.00,2,     0.01,    2.477,2,    0.016,    0.011,2,    0.002,2,    0.000,2,   -999.0,9,   -999.0,9,-999.0000,9, -999.000,9, -999.000,   -999.0,9,   -999.0,   1.0728,  27.7934