BOTTLE,20100316JAMSTECRIGC
EXPOCODE,SECT,STNNBR,CASTNO,SAMPNO,BTLNBR,BTLNBR_FLAG_W,DATE,TIME,LATITUDE,LONGITUDE,DEPTH,CTDPRS,CTDPRS_FLAG_W,CTDTMP,CTDTMP_FLAG_W,SBE35,SBE35_FLAG_W,CTDSAL,CTDSAL_FLAG_W,SALNTY,SALNTY_FLAG_W,CTDOXY,CTDOXY_FLAG_W,OPTOXY,OPTOXY_FLAG_W,DWNPRS,DWNPRS_FLAG_W,DWNOXY,DWNOXY_FLAG_W,OXYGEN,OXYGEN_FLAG_W,SILCAT,SILCAT_FLAG_W,SILUNC,NITRAT,NITRAT_FLAG_W,NRAUNC,NITRIT,NITRIT_FLAG_W,NRIUNC,PHSPHT,PHSPHT_FLAG_W,PHPUNC,CFC-11,CFC-11_FLAG_W,CFC-12,CFC-12_FLAG_W,CFC113,CFC113_FLAG_W,TCARBN,TCARBN_FLAG_W,ALKALI,ALKALI_FLAG_W,PH,PH_FLAG_W,DELC13,DELC13_FLAG_W,C13ERR,DELC14,DELC14_FLAG_W,C14ERR,THETA,SIG0
,,,,,,,,UTC,DEG,DEG,M,DBAR,,ITS-90,,ITS-90,,PSS-78,,PSS-78,,UMOL/KG,,UMOL/KG,,DBAR,,UMOL/KG,,UMOL/KG,,UMOL/KG,,UMOL/KG,UMOL/KG,,UMOL/KG,UMOL/KG,,UMOL/KG,UMOL/KG,,UMOL/KG,PMOL/KG,,PMOL/KG,,PMOL/KG,,UMOL/KG,,UMOL/KG,,,,/MILLE,,/MILLE,/MILLE,,/MILLE,DEG C,KG/CUM
    49MR0505_1,   P03,   138,  1,      0,   -999,9,20051121,0222, 25.4997,-164.9937, 4883,   -999.0,9,-999.0000,9,-999.00000,9,-999.0000,9,  35.3394,2,  -999.00,9,  -999.00,9,   -999.0,9,  -999.00,9,  -999.00,9,  -999.00,9,  -999.00,  -999.00,9,  -999.00,  -999.00,9,  -999.00, -999.000,9, -999.000, -999.000,9, -999.000,9, -999.000,9,   -999.0,9,   -999.0,9,-999.0000,9, -999.000,9, -999.000,   -999.0,9,   -999.0,-999.0000,-999.0000
    49MR0505_1,   P03,   138,  1,     36, X12048,2,20051121,0222, 25.4997,-164.9937, 4883,     10.5,2,  25.3388,2,  25.33645,2,  35.3307,2,  35.3303,2,   190.72,1,   207.17,2,     15.8,2,   207.90,2,   207.92,2,     1.30,2,     0.12,     0.03,2,     0.03,     0.01,2,     0.01,    0.054,2,    0.032,    1.672,2,    0.998,2,    0.127,4,   1987.5,2,   2324.5,2,   8.1004,6,    0.949,4,    0.004,   -999.0,5,   -999.0,  25.3365,  23.4883
    49MR0505_1,   P03,   138,  1,     35, X12047,2,20051121,0222, 25.4997,-164.9937, 4883,     51.0,2,  25.0682,2,  25.06521,2,  35.3389,2,  35.3445,2,   192.53,1,   210.13,2,     49.6,2,   210.04,2,   210.06,2,     1.40,2,     0.12,     0.03,2,     0.03,     0.01,2,     0.01,    0.044,2,    0.038,    1.709,2,    1.014,2,    0.132,4,   1991.7,6,   2324.0,2,   8.0939,2,    0.921,4,    0.002,   -999.0,5,   -999.0,  25.0571,  23.5800
    49MR0505_1,   P03,   138,  1,     34, X12046,2,20051121,0222, 25.4997,-164.9937, 4883,    100.1,2,  19.0044,2,  18.99917,2,  34.9242,2,  34.9175,2,   216.62,1,   235.75,2,     93.9,2,   227.82,2,   234.18,2,     2.70,2,     0.12,     0.09,2,     0.03,     0.02,2,     0.01,    0.096,2,    0.022,    2.333,2,    1.342,2, -999.000,5,   2019.8,2,   2298.7,6,   8.0129,2,    0.651,4,    0.007,   -999.0,5,   -999.0,  18.9866,  24.9667
    49MR0505_1,   P03,   138,  1,     33, X12003,2,20051121,0222, 25.4997,-164.9937, 4883,    151.0,2,  15.8643,2,  15.87396,2,  34.6643,2,  34.6610,2,   199.75,1,   216.05,2,    154.2,2,   215.25,2,   216.88,2,     4.92,2,     0.13,     4.28,2,     0.04,     0.02,2,     0.01,    0.369,2,    0.014,    2.550,2,    1.448,2,    0.134,4,   2043.8,2,   2277.5,2,   7.9402,6,   -1.167,4,    0.003,   -999.0,5,   -999.0,  15.8406,  25.5257
    49MR0505_1,   P03,   138,  1,     32, X12044,2,20051121,0222, 25.4997,-164.9937, 4883,    199.8,2,  14.7720,2,  14.77148,2,  34.5546,2,  34.5491,2,   201.90,1,   218.55,2,    200.3,2,   219.39,2,   218.75,2,     6.40,2,     0.13,     6.12,2,     0.05,     0.01,2,     0.01,    0.483,2,    0.013,    2.660,2,    1.504,2,    0.116,4,   2050.8,2,   2276.3,2,   7.9164,2,   -1.490,4,    0.006,   -999.0,5,   -999.0,  14.7422,  25.6847
    49MR0505_1,   P03,   138,  1,     31, X12051,2,20051121,0222, 25.4997,-164.9937, 4883,    250.2,2,  13.3221,2,  13.32321,2,  34.4212,2,  34.4196,2,   200.54,1,   216.37,2,    250.0,2,   217.90,2,   217.38,2,     9.24,2,     0.14,     8.86,2,     0.06,     0.01,2,     0.01,    0.661,2,    0.013,    2.787,6,    1.560,6,    0.114,6,   2066.1,2,   2269.6,2,   7.8777,2,   -0.957,4,    0.004,   -999.0,5,   -999.0,  13.2872,  25.8866
    49MR0505_1,   P03,   138,  1,     30, X12042,2,20051121,0222, 25.4997,-164.9937, 4883,    300.6,2,  12.2910,2,  12.29097,2,  34.3463,2,  34.3415,2,   201.36,1,   217.31,2,    302.3,2,   218.00,2,   217.98,2,    12.08,2,     0.15,    10.93,2,     0.06,     0.01,2,     0.01,    0.800,2,    0.013,    2.857,2,    1.585,2,    0.118,2,   2079.8,2,   2270.8,2,   7.8496,2,    0.157,4,    0.003,   -999.0,5,   -999.0,  12.2513,  26.0333
    49MR0505_1,   P03,   138,  1,     29, X12041,2,20051121,0222, 25.4997,-164.9937, 4883,    401.2,2,  10.2894,2,  10.29020,2,  34.1931,2,  34.1905,2,   190.04,1,   205.13,2,    407.7,2,   208.15,2,   205.13,2,    19.99,2,     0.16,    15.86,2,     0.08,     0.01,2,     0.01,    1.149,2,    0.013,    2.910,2,    1.570,2,    0.127,2,   2112.8,2,   2266.4,2,   7.7783,2,   -0.769,4,    0.004,   -999.0,5,   -999.0,  10.2420,  26.2805
    49MR0505_1,   P03,   138,  1,     28, X12016,2,20051121,0222, 25.4997,-164.9937, 4883,    499.9,2,   8.0585,2,   8.06105,2,  34.0780,2,  34.0768,6,   146.17,1,   157.80,2,    513.7,2,   170.56,2,   156.83,2,    38.33,2,     0.20,    24.65,2,     0.10,     0.01,2,     0.01,    1.781,2,    0.015,    2.397,2,    1.193,2,    0.099,2,   2173.5,2,   2279.1,2,   7.6420,2,    0.093,4,    0.002,   -999.0,5,   -999.0,   8.0074,  26.5486
    49MR0505_1,   P03,   138,  1,     27, X12039,2,20051121,0222, 25.4997,-164.9937, 4883,    599.7,2,   6.0937,2,   6.09386,2,  34.0519,2,  34.0530,2,    96.87,1,   105.20,2,    610.5,2,   114.35,2,   103.97,2,    63.56,2,     0.26,    32.96,2,     0.13,     0.01,2,     0.01,    2.395,2,    0.016,    1.419,2,    0.683,2,    0.060,2,   2243.5,2,   2293.4,2,   7.5058,2,   -0.415,4,    0.002,   -999.0,5,   -999.0,   6.0409,  26.7983
    49MR0505_1,   P03,   138,  1,     26, X12038,2,20051121,0222, 25.4997,-164.9937, 4883,    699.1,2,   5.0431,2,   5.04317,2,  34.1270,2,  34.1281,2,    56.79,1,    61.96,2,    707.8,2,    70.25,2,    61.45,2,    84.82,2,     0.31,    38.38,2,     0.14,     0.01,2,     0.01,    2.803,2,    0.017,    0.598,2,    0.294,2,    0.021,2,   2295.7,6,   2317.5,2,   7.4151,2,   -1.027,4,    0.005,   -999.0,5,   -999.0,   4.9866,  26.9846
    49MR0505_1,   P03,   138,  1,     25, X12037,2,20051121,0222, 25.4997,-164.9937, 4883,    801.2,2,   4.3494,2,   4.34948,2,  34.2346,2,  34.2365,2,    34.55,1,    37.68,2,    811.6,2,    43.23,2,    37.04,2,   103.13,2,     0.35,    41.54,2,     0.15,     0.01,2,     0.01,    3.027,2,    0.018,    0.199,6,    0.104,6,    0.012,6,   2329.8,2,   2337.9,6,   7.3748,2,   -0.488,4,    0.003,   -999.0,5,   -999.0,   4.2882,  27.1471
    49MR0505_1,   P03,   138,  1,     24, X12008,2,20051121,0222, 25.4997,-164.9937, 4883,    899.8,2,   3.9446,2,   3.94404,2,  34.3406,2,  34.3408,2,    30.01,1,    32.98,2,    910.4,2,    33.01,2,    32.34,2,   114.06,2,     0.37,    42.54,2,     0.15,     0.01,2,     0.01,    3.091,2,    0.018,    0.063,2,    0.029,2,    0.000,2,   2347.4,2,   2360.9,2,   7.3739,6,   -1.536,4,    0.004,   -999.0,5,   -999.0,   3.8778,  27.2741
    49MR0505_1,   P03,   138,  1,     23, X12035,2,20051121,0222, 25.4997,-164.9937, 4883,   1000.6,2,   3.7510,2,   3.75105,2,  34.4014,2,  34.4017,6,    34.34,1,    37.72,2,   1006.4,2,    36.83,2,    37.34,2,   119.08,2,     0.38,    42.43,2,     0.15,     0.01,2,     0.01,    3.088,2,    0.018,    0.032,2,    0.018,2,    0.000,2,   2352.7,2,   2369.2,2,   7.3897,2,   -0.504,4,    0.002,   -999.0,5,   -999.0,   3.6774,  27.3427
    49MR0505_1,   P03,   138,  1,     22, X12034,2,20051121,0222, 25.4997,-164.9937, 4883,   1200.0,2,   3.2336,2,   3.23340,2,  34.4904,2,  34.4911,2,    46.56,1,    51.06,2,   1201.2,2,    51.03,2,    50.87,2,   130.30,2,     0.41,    42.01,2,     0.15,     0.00,2,     0.01,    3.041,2,    0.018,    0.007,2,    0.004,2,    0.000,2,   2359.2,2,   2386.3,2,   7.4221,2,   -0.801,4,    0.004,   -999.0,5,   -999.0,   3.1481,  27.4646
    49MR0505_1,   P03,   138,  1,     21, X12033,2,20051121,0222, 25.4997,-164.9937, 4883,   1401.6,2,   2.7281,2,   2.72763,2,  34.5401,2,  34.5408,2,    55.09,1,    60.59,2,   1404.3,2,    62.26,2,    60.41,2,   142.65,2,     0.43,    41.78,2,     0.15,     0.00,2,     0.01,    3.003,2,    0.017,    0.006,2,    0.001,2,    0.000,2,   2366.2,2,   2393.6,2,   7.4368,2,   -1.124,4,    0.003,   -999.0,5,   -999.0,   2.6314,  27.5508
    49MR0505_1,   P03,   138,  1,     20, X12032,2,20051121,0222, 25.4997,-164.9937, 4883,   1600.3,2,   2.4113,2,   2.41114,2,  34.5824,2,  34.5826,2,    69.74,1,    76.62,2,   1602.6,2,    74.62,2,    76.35,2,   147.70,2,     0.44,    40.89,2,     0.15,     0.00,2,     0.01,    2.930,2,    0.017,    0.000,2,    0.000,2,    0.000,2,   2366.0,2,   2407.0,2,   7.4668,3,   -2.257,4,    0.005,   -999.0,5,   -999.0,   2.3022,  27.6126
    49MR0505_1,   P03,   138,  1,     19, X12001,2,20051121,0222, 25.4997,-164.9937, 4883,   1800.5,2,   2.1566,2,   2.15640,2,  34.6030,2,  34.6031,2,    76.93,1,    84.71,2,   1801.5,2,    84.29,2,    84.30,2,   153.51,2,     0.46,    40.54,2,     0.15,     0.00,2,     0.01,    2.889,2,    0.017,    0.000,2,    0.000,2,    0.000,2,   2367.7,2,   2410.7,2,   7.4789,2,   -1.548,4,    0.003,   -999.0,5,   -999.0,   2.0345,  27.6509
    49MR0505_1,   P03,   138,  1,     18, X12030,2,20051121,0222, 25.4997,-164.9937, 4883,   2000.3,2,   1.9561,2,   1.95590,2,  34.6204,2,  34.6206,2,    84.53,1,    93.19,2,   2000.7,2,    93.03,2,    92.89,2,   157.44,2,     0.47,    39.98,2,     0.14,     0.00,2,     0.01,    2.848,2,    0.017,    0.000,2,    0.001,2,    0.000,2,   2365.2,2,   2414.5,2,   7.4944,2,   -0.560,4,    0.008,   -999.0,5,   -999.0,   1.8203,  27.6815
    49MR0505_1,   P03,   138,  1,     17, X12049,2,20051121,0222, 25.4997,-164.9937, 4883,   2200.0,2,   1.7885,2,   1.78847,2,  34.6362,2,  34.6360,6,    93.03,1,   102.55,2,   2200.5,2,   101.69,2,   102.40,2,   159.85,2,     0.47,    39.40,2,     0.14,     0.01,2,     0.01,    2.796,2,    0.017, -999.000,9, -999.000,9, -999.000,9,   2360.9,2,   2418.9,2,   7.5103,2,   -2.717,4,    0.001,   -999.0,5,   -999.0,   1.6385,  27.7080
    49MR0505_1,   P03,   138,  1,     16, X12028,2,20051121,0222, 25.4997,-164.9937, 4883,   2400.4,2,   1.7041,2,   1.70398,2,  34.6451,2,  34.6451,2,    98.75,1,   108.91,2,   2400.6,2,   108.61,2,   108.59,2,   160.70,2,     0.47,    39.00,2,     0.14,     0.00,2,     0.01,    2.766,2,    0.017, -999.000,9, -999.000,9, -999.000,9,   2356.6,6,   2424.0,2,   7.5205,2,   -0.786,4,    0.003,   -999.0,5,   -999.0,   1.5382,  27.7226
    49MR0505_1,   P03,   138,  1,     15, X12006,2,20051121,0222, 25.4997,-164.9937, 4883,   2600.2,2,   1.6225,2,   1.62223,2,  34.6543,2,  34.6543,2,   104.85,1,   115.82,2,   2600.8,2,   114.86,2,   115.20,2,   161.19,2,     0.47,    38.63,2,     0.14,     0.00,2,     0.01,    2.731,2,    0.017, -999.000,9, -999.000,9, -999.000,9,   2354.8,2,   2422.5,6,   7.5323,2,   -1.453,4,    0.003,   -999.0,5,   -999.0,   1.4403,  27.7371
    49MR0505_1,   P03,   138,  1,     14, X12026,2,20051121,0222, 25.4997,-164.9937, 4883,   2800.6,2,   1.5682,2,   1.56810,2,  34.6633,2,  34.6634,2,   112.41,1,   123.95,2,   2801.4,2,   121.70,2,   123.53,2,   160.26,2,     0.47,    38.06,2,     0.14,     0.01,2,     0.01,    2.689,2,    0.017,    0.000,2,    0.000,2,    0.000,2,   2350.2,2,   2420.9,2,   7.5473,6,   -2.092,4,    0.002,   -999.0,5,   -999.0,   1.3687,  27.7494
    49MR0505_1,   P03,   138,  1,     13, X12025,2,20051121,0222, 25.4997,-164.9937, 4883,   3000.9,2,   1.5330,2,   1.53287,2,  34.6688,2,  34.6690,2,   117.29,1,   129.37,2,   3000.8,2,   129.10,2,   129.05,2,   159.32,2,     0.47,    37.71,2,     0.14,     0.01,2,     0.01,    2.658,2,    0.017, -999.000,9, -999.000,9, -999.000,9,   2345.7,2,   2425.4,2,   7.5566,2,   -0.461,4,    0.005,   -999.0,5,   -999.0,   1.3154,  27.7576
    49MR0505_1,   P03,   138,  1,     12, X12024,2,20051121,0222, 25.4997,-164.9937, 4883,   3251.3,2,   1.4819,2,   1.48185,2,  34.6758,2,  34.6758,6,   124.65,1,   136.79,2,   3251.6,2,   136.01,2,   136.85,2,   157.30,2,     0.47,    37.22,2,     0.14,     0.00,2,     0.01,    2.607,2,    0.016, -999.000,9, -999.000,9, -999.000,9,   2339.9,2,   2427.8,2,   7.5710,2,   -1.587,4,    0.003,   -999.0,5,   -999.0,   1.2412,  27.7684
    49MR0505_1,   P03,   138,  1,     11, X12023,2,20051121,0222, 25.4997,-164.9937, 4883,   3500.4,2,   1.4608,2,   1.46078,2,  34.6802,2,  34.6798,2,   129.53,1,   141.81,2,   3500.6,2,   141.43,2,   141.92,2,   155.93,2,     0.46,    36.85,2,     0.14,     0.00,2,     0.01,    2.585,2,    0.016,    0.000,2,    0.001,2,    0.000,2,   2337.4,2,   2421.2,2,   7.5784,2,   -0.045,4,    0.006,   -999.0,5,   -999.0,   1.1956,  27.7751
    49MR0505_1,   P03,   138,  1,     10, X12022,2,20051121,0222, 25.4997,-164.9937, 4883,   3749.8,2,   1.4546,2,   1.45459,2,  34.6832,2,  34.6831,2,   133.47,1,   145.78,2,   3749.7,2,   145.93,2,   146.01,2,   154.88,2,     0.46,    36.59,2,     0.14,     0.00,2,     0.01,    2.564,2,    0.016, -999.000,9, -999.000,9, -999.000,9,   2333.5,2,   2426.0,2,   7.5848,2,   -0.581,4,    0.003,   -999.0,5,   -999.0,   1.1637,  27.7797
    49MR0505_1,   P03,   138,  1,      9, X12021,2,20051121,0222, 25.4997,-164.9937, 4883,   4000.6,2,   1.4532,2,   1.45318,2,  34.6858,2,  34.6857,6,   137.08,1,   149.33,2,   4000.5,2,   149.85,2,   149.52,2,   153.59,2,     0.46,    36.33,2,     0.13,     0.00,2,     0.01,    2.543,2,    0.016, -999.000,9, -999.000,9, -999.000,9,   2330.1,2,   2422.7,2,   7.5903,2,   -0.138,4,    0.002,   -999.0,5,   -999.0,   1.1355,  27.7838
    49MR0505_1,   P03,   138,  1,      8, X12020,2,20051121,0222, 25.4997,-164.9937, 4883,   4249.4,2,   1.4602,2,   1.46013,2,  34.6880,2,  34.6880,2,   140.28,1,   152.37,2,   4249.4,2,   152.54,2,   152.43,2,   152.48,2,     0.45,    36.10,2,     0.13,     0.00,2,     0.01,    2.526,2,    0.016,    0.001,2,    0.001,2,    0.000,2,   2330.3,6,   2419.2,2,   7.5952,2,   -1.107,4,    0.003,   -999.0,5,   -999.0,   1.1149,  27.7869
    49MR0505_1,   P03,   138,  1,      7, X12019,2,20051121,0222, 25.4997,-164.9937, 4883,   4501.3,2,   1.4764,2,   1.47630,2,  34.6892,2,  34.6895,2,   142.75,1,   154.37,2,   4501.3,2,   154.49,2,   154.41,2,   151.16,2,     0.45,    35.94,2,     0.13,     0.01,2,     0.01,    2.519,2,    0.016, -999.000,9, -999.000,9, -999.000,9,   2324.8,2,   2422.4,6,   7.5983,2,    0.083,4,    0.004,   -999.0,5,   -999.0,   1.1020,  27.7887
    49MR0505_1,   P03,   138,  1,      6, X12018,2,20051121,0222, 25.4997,-164.9937, 4883,   4751.3,2,   1.4993,2,   1.49922,2,  34.6899,2,  34.6899,2,   144.60,1,   155.55,2,   4751.4,2,   155.68,2,   155.56,2,   150.49,2,     0.45,    35.93,2,     0.13,     0.00,2,     0.01,    2.517,2,    0.016, -999.000,9, -999.000,9, -999.000,9,   2326.2,2,   2418.4,2,   7.6008,6,   -3.983,4,    0.003,   -999.0,5,   -999.0,   1.0949,  27.7898
    49MR0505_1,   P03,   138,  1,      5, X12043,9,20051121,0222, 25.4997,-164.9937, 4883,    150.9,2,  15.8605,2,  15.86734,2,  34.6638,2,-999.0000,9,   199.72,1,   215.94,2,    153.9,2,   215.29,2,  -999.00,9,  -999.00,9,  -999.00,  -999.00,9,  -999.00,  -999.00,9,  -999.00, -999.000,9, -999.000, -999.000,9, -999.000,9, -999.000,9,   -999.0,9,   -999.0,9,-999.0000,9, -999.000,9, -999.000,   -999.0,9,   -999.0,  15.8369,  25.5261
    49MR0505_1,   P03,   138,  1,      4, X12010,9,20051121,0222, 25.4997,-164.9937, 4883,    100.3,2,  19.0081,2,  19.00820,2,  34.9250,2,-999.0000,9,   216.60,1,   235.58,2,     93.9,2,   227.82,2,  -999.00,9,  -999.00,9,  -999.00,  -999.00,9,  -999.00,  -999.00,9,  -999.00, -999.000,9, -999.000, -999.000,9, -999.000,9, -999.000,9,   -999.0,9,   -999.0,9,-999.0000,9, -999.000,9, -999.000,   -999.0,9,   -999.0,  18.9902,  24.9664
    49MR0505_1,   P03,   138,  1,      3, X12015,9,20051121,0222, 25.4997,-164.9937, 4883,     50.6,2,  25.0549,2,  25.05565,2,  35.3404,2,-999.0000,9,   192.57,1,   209.87,2,     49.8,2,   210.07,2,  -999.00,9,  -999.00,9,  -999.00,  -999.00,9,  -999.00,  -999.00,9,  -999.00, -999.000,9, -999.000, -999.000,9, -999.000,9, -999.000,9,   -999.0,9,   -999.0,9,-999.0000,9, -999.000,9, -999.000,   -999.0,9,   -999.0,  25.0439,  23.5851
    49MR0505_1,   P03,   138,  1,      2, X12014,9,20051121,0222, 25.4997,-164.9937, 4883,     10.9,2,  25.3457,2,  25.34535,2,  35.3308,2,-999.0000,9,   190.97,1,   207.19,2,     15.6,2,   207.85,2,  -999.00,9,  -999.00,9,  -999.00,  -999.00,9,  -999.00,  -999.00,9,  -999.00, -999.000,9, -999.000, -999.000,9, -999.000,9, -999.000,9,   -999.0,9,   -999.0,9,-999.0000,9, -999.000,9, -999.000,   -999.0,9,   -999.0,  25.3433,  23.4863
    49MR0505_1,   P03,   138,  1,      1, X12013,2,20051121,0222, 25.4997,-164.9937, 4883,   4956.0,2,   1.5205,2,   1.52038,2,  34.6901,2,  34.6900,6,   146.30,1,   156.68,2,   4956.0,2,   156.50,2,   156.52,2,   149.92,2,     0.45,    35.83,2,     0.13,     0.00,2,     0.01,    2.514,2,    0.016,    0.001,2,    0.001,2,    0.000,2,   2327.5,2,   2419.5,2,   7.6015,2,   -0.529,4,    0.003,   -999.0,5,   -999.0,   1.0909,  27.7903