BOTTLE,20100316JAMSTECRIGC
EXPOCODE,SECT,STNNBR,CASTNO,SAMPNO,BTLNBR,BTLNBR_FLAG_W,DATE,TIME,LATITUDE,LONGITUDE,DEPTH,CTDPRS,CTDPRS_FLAG_W,CTDTMP,CTDTMP_FLAG_W,SBE35,SBE35_FLAG_W,CTDSAL,CTDSAL_FLAG_W,SALNTY,SALNTY_FLAG_W,CTDOXY,CTDOXY_FLAG_W,OPTOXY,OPTOXY_FLAG_W,DWNPRS,DWNPRS_FLAG_W,DWNOXY,DWNOXY_FLAG_W,OXYGEN,OXYGEN_FLAG_W,SILCAT,SILCAT_FLAG_W,SILUNC,NITRAT,NITRAT_FLAG_W,NRAUNC,NITRIT,NITRIT_FLAG_W,NRIUNC,PHSPHT,PHSPHT_FLAG_W,PHPUNC,CFC-11,CFC-11_FLAG_W,CFC-12,CFC-12_FLAG_W,CFC113,CFC113_FLAG_W,TCARBN,TCARBN_FLAG_W,ALKALI,ALKALI_FLAG_W,PH,PH_FLAG_W,DELC13,DELC13_FLAG_W,C13ERR,DELC14,DELC14_FLAG_W,C14ERR,THETA,SIG0
,,,,,,,,UTC,DEG,DEG,M,DBAR,,ITS-90,,ITS-90,,PSS-78,,PSS-78,,UMOL/KG,,UMOL/KG,,DBAR,,UMOL/KG,,UMOL/KG,,UMOL/KG,,UMOL/KG,UMOL/KG,,UMOL/KG,UMOL/KG,,UMOL/KG,UMOL/KG,,UMOL/KG,PMOL/KG,,PMOL/KG,,PMOL/KG,,UMOL/KG,,UMOL/KG,,,,/MILLE,,/MILLE,/MILLE,,/MILLE,DEG C,KG/CUM
    49MR0505_1,   P03,   122,  1,      0,   -999,9,20051118,1100, 25.8365,-159.0140, 5061,   -999.0,9,-999.0000,9,-999.00000,9,-999.0000,9,  35.3441,2,  -999.00,9,  -999.00,9,   -999.0,9,  -999.00,9,  -999.00,9,  -999.00,9,  -999.00,  -999.00,9,  -999.00,  -999.00,9,  -999.00, -999.000,9, -999.000, -999.000,9, -999.000,9, -999.000,9,   -999.0,9,   -999.0,9,-999.0000,9, -999.000,9, -999.000,   -999.0,9,   -999.0,-999.0000,-999.0000
    49MR0505_1,   P03,   122,  1,     36, X12048,2,20051118,1100, 25.8365,-159.0140, 5061,      9.3,2,  25.2372,2,  25.23642,2,  35.3416,2,  35.3413,2,   191.37,1,   207.20,2,     10.6,2,   208.04,2,   207.93,2,     0.91,2,     0.12,     0.05,2,     0.03,     0.00,2,     0.01,    0.032,2,    0.048,    1.660,2,    1.011,2, -999.000,5,   1984.6,2,   2322.7,2,   8.1010,6, -999.000,9, -999.000,   -999.0,9,   -999.0,  25.2352,  23.5276
    49MR0505_1,   P03,   122,  1,     35, X12047,2,20051118,1100, 25.8365,-159.0140, 5061,     49.5,2,  25.2411,2,  25.24168,2,  35.3399,2,  35.3401,2,   191.42,1,   207.17,2,     49.5,2,   207.86,2,   207.75,2,     0.87,2,     0.12,     0.04,2,     0.03,     0.00,2,     0.01,    0.039,2,    0.042,    1.662,2,    1.021,2, -999.000,5,   1984.7,6,   2318.2,2,   8.1015,2, -999.000,9, -999.000,   -999.0,9,   -999.0,  25.2303,  23.5278
    49MR0505_1,   P03,   122,  1,     34, X12046,2,20051118,1100, 25.8365,-159.0140, 5061,    100.9,2,  22.5722,2,  22.56619,2,  35.2091,2,  35.2092,2,   200.17,1,   216.95,2,     95.8,2,   212.75,2,   217.23,2,     1.21,2,     0.12,     0.05,2,     0.03,     0.00,2,     0.01,    0.053,2,    0.033,    1.974,2,    1.207,2, -999.000,5,   2005.7,2,   2313.1,6,   8.0563,2, -999.000,9, -999.000,   -999.0,9,   -999.0,  22.5519,  24.2207
    49MR0505_1,   P03,   122,  1,     33, X12003,2,20051118,1100, 25.8365,-159.0140, 5061,    150.8,2,  19.5152,2,  19.50277,2,  35.0292,2,  35.0340,2,   189.62,1,   205.35,2,    148.6,2,   204.03,2,   205.57,2,     2.16,2,     0.12,     1.38,2,     0.04,     0.02,2,     0.01,    0.175,2,    0.017,    2.189,2,    1.280,2, -999.000,5,   2032.6,2,   2302.9,2,   7.9938,6, -999.000,9, -999.000,   -999.0,9,   -999.0,  19.4878,  24.9179
    49MR0505_1,   P03,   122,  1,     32, X12044,2,20051118,1100, 25.8365,-159.0140, 5061,    199.3,2,  17.1891,2,  17.18880,2,  34.7960,2,  34.7955,2,   192.00,1,   206.96,2,    200.6,2,   208.50,2,   208.07,2,     3.63,2,     0.13,     3.28,2,     0.04,     0.01,2,     0.01,    0.294,2,    0.014,    2.413,2,    1.372,2, -999.000,5,   2041.0,2,   2285.1,2,   7.9556,2, -999.000,9, -999.000,   -999.0,9,   -999.0,  17.1560,  25.3205
    49MR0505_1,   P03,   122,  1,     31, X12051,2,20051118,1100, 25.8365,-159.0140, 5061,    251.0,2,  15.2402,2,  15.24049,2,  34.5759,2,  34.5763,2,   193.92,1,   208.69,2,    251.7,2,   209.16,2,   209.91,2,     5.74,2,     0.13,     5.95,2,     0.05,     0.00,2,     0.01,    0.471,2,    0.013,    2.613,6,    1.447,6,    0.093,6,   2048.2,2,   2273.6,2,   7.9160,2, -999.000,9, -999.000,   -999.0,9,   -999.0,  15.2018,  25.6006
    49MR0505_1,   P03,   122,  1,     30, X12042,2,20051118,1100, 25.8365,-159.0140, 5061,    301.4,2,  13.5411,2,  13.54157,2,  34.4083,2,  34.4092,2,   194.64,1,   209.55,2,    299.7,2,   209.57,2,   210.56,2,     8.66,2,     0.14,     8.82,2,     0.06,     0.00,2,     0.01,    0.664,2,    0.013,    2.767,2,    1.503,2,    0.078,2,   2063.0,2,   2265.6,2,   7.8743,2, -999.000,9, -999.000,   -999.0,9,   -999.0,  13.4986,  25.8336
    49MR0505_1,   P03,   122,  1,     29, X12041,2,20051118,1100, 25.8365,-159.0140, 5061,    400.2,2,  10.6847,2,  10.68770,2,  34.2031,2,  34.2072,2,   186.57,1,   201.27,2,    400.4,2,   202.00,2,   201.93,2,    17.57,2,     0.16,    15.06,2,     0.07,     0.00,2,     0.01,    1.095,2,    0.013,    2.915,2,    1.506,2,    0.098,2,   2102.3,2,   2263.5,2,   7.7866,2, -999.000,9, -999.000,   -999.0,9,   -999.0,  10.6363,  26.2196
    49MR0505_1,   P03,   122,  1,     28, X12016,2,20051118,1100, 25.8365,-159.0140, 5061,    499.6,2,   8.1383,2,   8.13763,2,  34.0805,2,  34.0810,6,   143.10,1,   154.49,2,    504.5,2,   159.60,2,   154.72,2,    36.73,2,     0.20,    24.64,2,     0.10,     0.00,2,     0.01,    1.782,2,    0.015,    2.365,2,    1.141,2,    0.070,2,   2168.2,2,   2275.6,2,   7.6409,2, -999.000,9, -999.000,   -999.0,9,   -999.0,   8.0869,  26.5388
    49MR0505_1,   P03,   122,  1,     27, X12039,2,20051118,1100, 25.8365,-159.0140, 5061,    602.1,2,   6.4575,2,   6.46284,2,  34.0596,2,  34.0601,2,    93.12,1,   100.97,2,    602.9,2,   101.37,2,    99.85,2,    58.14,2,     0.25,    32.83,2,     0.12,     0.00,2,     0.01,    2.378,2,    0.016,    1.361,2,    0.632,2,    0.047,2,   2233.7,2,   2289.1,2,   7.5014,2, -999.000,9, -999.000,   -999.0,9,   -999.0,   6.4028,  26.7579
    49MR0505_1,   P03,   122,  1,     26, X12038,2,20051118,1100, 25.8365,-159.0140, 5061,    701.9,2,   5.3281,2,   5.32823,2,  34.1144,2,  34.1135,2,    53.82,1,    58.64,2,    701.5,2,    58.53,2,    58.45,2,    78.49,2,     0.29,    38.36,2,     0.14,     0.00,2,     0.01,    2.794,2,    0.017,    0.584,2,    0.269,2,    0.033,2,   2284.9,6,   2306.2,2,   7.4091,2, -999.000,9, -999.000,   -999.0,9,   -999.0,   5.2698,  26.9418
    49MR0505_1,   P03,   122,  1,     25, X12037,2,20051118,1100, 25.8365,-159.0140, 5061,    801.7,2,   4.5896,2,   4.59124,2,  34.2138,2,  34.2118,2,    30.55,1,    33.44,2,    802.8,2,    33.95,2,    33.34,2,    96.85,2,     0.33,    41.59,2,     0.15,     0.00,2,     0.01,    3.037,2,    0.018,    0.186,6,    0.087,6,    0.000,6,   2321.4,2,   2331.8,6,   7.3644,2, -999.000,9, -999.000,   -999.0,9,   -999.0,   4.5269,  27.1049
    49MR0505_1,   P03,   122,  1,     24, X12008,2,20051118,1100, 25.8365,-159.0140, 5061,    900.1,2,   4.2840,2,   4.28370,2,  34.2846,2,  34.2858,2,    24.73,1,    27.05,2,    895.3,2,    26.60,2,    26.63,2,   105.93,2,     0.35,    42.66,2,     0.15,     0.00,2,     0.01,    3.112,2,    0.018,    0.082,2,    0.026,2,    0.000,2,   2337.3,2,   2343.7,2,   7.3560,6, -999.000,9, -999.000,   -999.0,9,   -999.0,   4.2149,  27.1946
    49MR0505_1,   P03,   122,  1,     23, X12035,2,20051118,1100, 25.8365,-159.0140, 5061,   1002.8,2,   3.8991,2,   3.89941,2,  34.3927,2,  34.3906,6,    27.90,1,    30.38,2,   1001.6,2,    31.18,2,    30.11,2,   115.58,2,     0.37,    43.09,2,     0.15,     0.00,2,     0.01,    3.135,2,    0.018,    0.014,2,    0.005,2,    0.000,2,   2347.8,2,   2365.6,2,   7.3732,2, -999.000,9, -999.000,   -999.0,9,   -999.0,   3.8242,  27.3210
    49MR0505_1,   P03,   122,  1,     22, X12034,2,20051118,1100, 25.8365,-159.0140, 5061,   1201.6,2,   3.3907,2,   3.39047,2,  34.4971,2,  34.4974,2,    44.71,1,    48.61,2,   1204.4,2,    47.69,2,    48.32,2,   125.93,2,     0.40,    42.28,2,     0.15,     0.00,2,     0.01,    3.064,2,    0.018,    0.002,2,    0.000,2,    0.000,2,   2352.7,2,   2381.4,2,   7.4187,2, -999.000,9, -999.000,   -999.0,9,   -999.0,   3.3036,  27.4553
    49MR0505_1,   P03,   122,  1,     21, X12033,2,20051118,1100, 25.8365,-159.0140, 5061,   1400.7,2,   3.0298,2,   3.02955,2,  34.5442,2,  34.5437,2,    55.69,1,    60.64,2,   1401.5,2,    59.91,2,    60.55,2,   133.46,2,     0.41,    41.90,2,     0.15,     0.00,2,     0.01,    3.012,2,    0.017,    0.000,2,    0.000,2,    0.000,2,   2354.5,2,   2392.7,2,   7.4405,2, -999.000,9, -999.000,   -999.0,9,   -999.0,   2.9299,  27.5276
    49MR0505_1,   P03,   122,  1,     20, X12032,2,20051118,1100, 25.8365,-159.0140, 5061,   1602.2,2,   2.6223,2,   2.62222,2,  34.5750,2,  34.5749,2,    65.02,1,    70.98,2,   1602.8,2,    70.40,2,    70.88,2,   142.71,2,     0.43,    41.29,2,     0.15,     0.00,2,     0.01,    2.960,2,    0.017,    0.000,2,    0.000,2,    0.000,2,   2355.9,2,   2398.3,2,   7.4579,2, -999.000,9, -999.000,   -999.0,9,   -999.0,   2.5105,  27.5892
    49MR0505_1,   P03,   122,  1,     19, X12001,2,20051118,1100, 25.8365,-159.0140, 5061,   1799.7,2,   2.3138,2,   2.31390,2,  34.5963,2,  34.5967,2,    72.33,1,    79.10,2,   1801.6,2,    77.42,2,    78.74,2,   150.59,2,     0.45,    40.86,2,     0.15,     0.00,2,     0.01,    2.925,2,    0.017,    0.001,2,    0.000,2,    0.000,2,   2359.3,2,   2407.6,2,   7.4711,2, -999.000,9, -999.000,   -999.0,9,   -999.0,   2.1896,  27.6330
    49MR0505_1,   P03,   122,  1,     18, X12030,2,20051118,1100, 25.8365,-159.0140, 5061,   2000.1,2,   2.1358,2,   2.13564,2,  34.6107,2,  34.6106,2,    77.98,1,    85.39,2,   1998.5,2,    86.63,2,    85.12,2,   154.61,2,     0.46,    40.58,2,     0.15,     0.00,2,     0.01,    2.891,2,    0.017,    0.000,2,    0.000,2,    0.000,2,   2359.6,2,   2411.0,2,   7.4814,2, -999.000,9, -999.000,   -999.0,9,   -999.0,   1.9974,  27.6599
    49MR0505_1,   P03,   122,  1,     17, X12049,2,20051118,1100, 25.8365,-159.0140, 5061,   2200.7,2,   1.9309,2,   1.93062,2,  34.6270,2,  34.6272,6,    85.82,1,    94.18,2,   2199.4,2,    94.84,2,    94.03,2,   159.08,2,     0.47,    40.04,2,     0.14,     0.00,2,     0.01,    2.841,2,    0.017, -999.000,9, -999.000,9, -999.000,9,   2360.2,2,   2415.3,2,   7.4959,2, -999.000,9, -999.000,   -999.0,9,   -999.0,   1.7785,  27.6900
    49MR0505_1,   P03,   122,  1,     16, X12028,2,20051118,1100, 25.8365,-159.0140, 5061,   2400.1,2,   1.7809,2,   1.78077,2,  34.6410,2,  34.6416,2,    94.15,1,   103.15,2,   2400.8,2,   101.83,2,   103.21,2,   161.49,2,     0.47,    39.48,2,     0.14,     0.00,2,     0.01,    2.793,2,    0.017, -999.000,9, -999.000,9, -999.000,9,   2355.4,6,   2419.6,2,   7.5122,2, -999.000,9, -999.000,   -999.0,9,   -999.0,   1.6136,  27.7137
    49MR0505_1,   P03,   122,  1,     15, X12006,2,20051118,1100, 25.8365,-159.0140, 5061,   2601.2,2,   1.6843,2,   1.68439,2,  34.6511,2,  34.6508,2,   101.35,1,   111.19,2,   2599.9,2,   112.74,2,   111.11,2,   161.81,2,     0.47,    39.05,2,     0.14,     0.00,2,     0.01,    2.750,2,    0.017,    0.001,2,    0.001,2,    0.000,2,   2351.8,2,   2423.9,6,   7.5262,2, -999.000,9, -999.000,   -999.0,9,   -999.0,   1.5008,  27.7301
    49MR0505_1,   P03,   122,  1,     14, X12026,2,20051118,1100, 25.8365,-159.0140, 5061,   2801.5,2,   1.5980,2,   1.59810,2,  34.6606,2,  34.6605,2,   109.30,1,   119.94,2,   2801.6,2,   119.39,2,   120.00,2,   161.23,2,     0.47,    38.40,2,     0.14,     0.00,2,     0.01,    2.705,2,    0.017, -999.000,9, -999.000,9, -999.000,9,   2347.3,2,   2426.6,2,   7.5415,6, -999.000,9, -999.000,   -999.0,9,   -999.0,   1.3978,  27.7452
    49MR0505_1,   P03,   122,  1,     13, X12025,2,20051118,1100, 25.8365,-159.0140, 5061,   3002.1,2,   1.5647,2,   1.56453,2,  34.6656,2,  34.6660,2,   113.91,1,   124.94,2,   3001.8,2,   125.19,2,   124.94,2,   160.25,2,     0.47,    38.08,2,     0.14,     0.00,2,     0.01,    2.684,2,    0.017, -999.000,9, -999.000,9, -999.000,9,   2343.4,2,   2422.8,2,   7.5502,2, -999.000,9, -999.000,   -999.0,9,   -999.0,   1.3463,  27.7528
    49MR0505_1,   P03,   122,  1,     12, X12024,2,20051118,1100, 25.8365,-159.0140, 5061,   3251.1,2,   1.5213,2,   1.52114,2,  34.6720,2,  34.6720,6,   120.49,1,   131.82,2,   3250.4,2,   133.03,2,   132.03,2,   158.82,2,     0.47,    37.64,2,     0.14,     0.00,2,     0.01,    2.636,2,    0.017, -999.000,9, -999.000,9, -999.000,9,   2339.3,2,   2421.2,2,   7.5626,2, -999.000,9, -999.000,   -999.0,9,   -999.0,   1.2797,  27.7627
    49MR0505_1,   P03,   122,  1,     11, X12023,2,20051118,1100, 25.8365,-159.0140, 5061,   3502.0,2,   1.4991,2,   1.49916,2,  34.6765,2,  34.6763,2,   125.52,1,   137.12,2,   3501.6,2,   137.80,2,   137.32,2,   157.36,2,     0.47,    37.21,2,     0.14,     0.00,2,     0.01,    2.612,2,    0.017,    0.000,2,    0.001,2,    0.000,2,   2335.0,2,   2425.6,2,   7.5714,2, -999.000,9, -999.000,   -999.0,9,   -999.0,   1.2328,  27.7696
    49MR0505_1,   P03,   122,  1,     10, X12022,2,20051118,1100, 25.8365,-159.0140, 5061,   3751.5,2,   1.4829,2,   1.48311,2,  34.6805,2,  34.6806,2,   130.10,1,   141.75,2,   3751.6,2,   141.91,2,   142.23,2,   156.30,2,     0.46,    36.87,2,     0.14,     0.00,2,     0.01,    2.588,2,    0.016, -999.000,9, -999.000,9, -999.000,9,   2331.1,2,   2419.2,2,   7.5788,2, -999.000,9, -999.000,   -999.0,9,   -999.0,   1.1911,  27.7757
    49MR0505_1,   P03,   122,  1,      9, X12021,2,20051118,1100, 25.8365,-159.0140, 5061,   4002.6,2,   1.4806,2,   1.48051,2,  34.6833,2,  34.6833,2,   133.90,1,   145.52,2,   4002.9,2,   145.23,2,   145.94,2,   155.10,2,     0.46,    36.64,2,     0.14,     0.00,2,     0.01,    2.567,2,    0.016, -999.000,9, -999.000,9, -999.000,9,   2327.6,2,   2420.9,2,   7.5850,2, -999.000,9, -999.000,   -999.0,9,   -999.0,   1.1620,  27.7800
    49MR0505_1,   P03,   122,  1,      8, X12020,2,20051118,1100, 25.8365,-159.0140, 5061,   4249.0,2,   1.4887,2,   1.48884,2,  34.6854,2,  34.6851,2,   136.52,1,   147.92,2,   4249.0,2,   148.38,2,   148.41,2,   153.94,2,     0.46,    36.49,2,     0.13,     0.00,2,     0.01,    2.559,2,    0.016,    0.007,2,    0.004,2,    0.000,2,   2327.1,6,   2421.4,2,   7.5887,2, -999.000,9, -999.000,   -999.0,9,   -999.0,   1.1426,  27.7829
    49MR0505_1,   P03,   122,  1,      7, X12019,2,20051118,1100, 25.8365,-159.0140, 5061,   4501.5,2,   1.4946,2,   1.49451,2,  34.6874,2,  34.6875,2,   139.96,1,   151.05,2,   4501.6,2,   151.49,2,   151.53,2,   153.00,2,     0.46,    36.28,2,     0.13,     0.00,2,     0.01,    2.537,2,    0.016, -999.000,9, -999.000,9, -999.000,9,   2325.3,2,   2421.3,6,   7.5939,2, -999.000,9, -999.000,   -999.0,9,   -999.0,   1.1196,  27.7861
    49MR0505_1,   P03,   122,  1,      6, X12018,2,20051118,1100, 25.8365,-159.0140, 5061,   4748.9,2,   1.5136,2,   1.51352,2,  34.6885,2,  34.6889,2,   142.27,1,   152.84,2,   4748.9,2,   153.40,2,   153.38,2,   151.87,2,     0.45,    36.16,2,     0.13,     0.00,2,     0.01,    2.534,2,    0.016, -999.000,9, -999.000,9, -999.000,9,   2323.9,2,   2419.5,2,   7.5974,6, -999.000,9, -999.000,   -999.0,9,   -999.0,   1.1091,  27.7877
    49MR0505_1,   P03,   122,  1,      5, X12043,2,20051118,1100, 25.8365,-159.0140, 5061,   5000.2,2,   1.5356,2,   1.53541,2,  34.6893,2,  34.6892,2,   144.46,1,   154.46,2,   5000.3,2,   154.84,2,   154.71,2,   150.88,2,     0.45,    36.04,2,     0.13,     0.00,2,     0.01,    2.526,2,    0.016, -999.000,9, -999.000,9, -999.000,9,   2321.7,2,   2418.7,2,   7.5991,2, -999.000,9, -999.000,   -999.0,9,   -999.0,   1.1001,  27.7890
    49MR0505_1,   P03,   122,  1,      4, X12010,9,20051118,1100, 25.8365,-159.0140, 5061,     99.7,2,  22.6017,2,  22.59621,2,  35.2101,2,-999.0000,9,   200.09,1,   216.64,2,     95.6,2,   212.72,2,  -999.00,9,  -999.00,9,  -999.00,  -999.00,9,  -999.00,  -999.00,9,  -999.00, -999.000,9, -999.000, -999.000,9, -999.000,9, -999.000,9,   -999.0,9,   -999.0,9,-999.0000,9, -999.000,9, -999.000,   -999.0,9,   -999.0,  22.5816,  24.2130
    49MR0505_1,   P03,   122,  1,      3, X12015,9,20051118,1100, 25.8365,-159.0140, 5061,     49.0,2,  25.2451,2,  25.24521,2,  35.3410,2,-999.0000,9,   191.43,1,   206.95,2,     48.9,2,   207.87,2,  -999.00,9,  -999.00,9,  -999.00,  -999.00,9,  -999.00,  -999.00,9,  -999.00, -999.000,9, -999.000, -999.000,9, -999.000,9, -999.000,9,   -999.0,9,   -999.0,9,-999.0000,9, -999.000,9, -999.000,   -999.0,9,   -999.0,  25.2344,  23.5274
    49MR0505_1,   P03,   122,  1,      2, X12014,9,20051118,1100, 25.8365,-159.0140, 5061,      9.5,2,  25.2369,2,  25.23596,2,  35.3418,2,-999.0000,9,   191.45,1,   207.25,2,     11.0,2,   207.92,2,  -999.00,9,  -999.00,9,  -999.00,  -999.00,9,  -999.00,  -999.00,9,  -999.00, -999.000,9, -999.000, -999.000,9, -999.000,9, -999.000,9,   -999.0,9,   -999.0,9,-999.0000,9, -999.000,9, -999.000,   -999.0,9,   -999.0,  25.2348,  23.5278
    49MR0505_1,   P03,   122,  1,      1, X12013,2,20051118,1100, 25.8365,-159.0140, 5061,   5137.6,2,   1.5512,2,   1.55117,2,  34.6895,2,  34.6895,6,   145.56,1,   155.13,2,   5137.6,2,   155.46,2,   155.14,2,   150.74,2,     0.45,    36.02,2,     0.13,     0.00,2,     0.01,    2.528,2,    0.016,    0.000,2,    0.000,2,    0.000,2,   2320.3,2,   2420.9,2,   7.5989,2, -999.000,9, -999.000,   -999.0,9,   -999.0,   1.0983,  27.7893