BOTTLE,20100316JAMSTECRIGC
EXPOCODE,SECT,STNNBR,CASTNO,SAMPNO,BTLNBR,BTLNBR_FLAG_W,DATE,TIME,LATITUDE,LONGITUDE,DEPTH,CTDPRS,CTDPRS_FLAG_W,CTDTMP,CTDTMP_FLAG_W,SBE35,SBE35_FLAG_W,CTDSAL,CTDSAL_FLAG_W,SALNTY,SALNTY_FLAG_W,CTDOXY,CTDOXY_FLAG_W,OPTOXY,OPTOXY_FLAG_W,DWNPRS,DWNPRS_FLAG_W,DWNOXY,DWNOXY_FLAG_W,OXYGEN,OXYGEN_FLAG_W,SILCAT,SILCAT_FLAG_W,SILUNC,NITRAT,NITRAT_FLAG_W,NRAUNC,NITRIT,NITRIT_FLAG_W,NRIUNC,PHSPHT,PHSPHT_FLAG_W,PHPUNC,CFC-11,CFC-11_FLAG_W,CFC-12,CFC-12_FLAG_W,CFC113,CFC113_FLAG_W,TCARBN,TCARBN_FLAG_W,ALKALI,ALKALI_FLAG_W,PH,PH_FLAG_W,DELC13,DELC13_FLAG_W,C13ERR,DELC14,DELC14_FLAG_W,C14ERR,THETA,SIG0
,,,,,,,,UTC,DEG,DEG,M,DBAR,,ITS-90,,ITS-90,,PSS-78,,PSS-78,,UMOL/KG,,UMOL/KG,,DBAR,,UMOL/KG,,UMOL/KG,,UMOL/KG,,UMOL/KG,UMOL/KG,,UMOL/KG,UMOL/KG,,UMOL/KG,UMOL/KG,,UMOL/KG,PMOL/KG,,PMOL/KG,,PMOL/KG,,UMOL/KG,,UMOL/KG,,,,/MILLE,,/MILLE,/MILLE,,/MILLE,DEG C,KG/CUM
    49MR0505_1,   P03,   X17,  1,      0,   -999,9,20051108,0904, 23.9967,-135.0105, 4842,   -999.0,9,-999.0000,9,-999.00000,9,-999.0000,9,  35.0584,2,  -999.00,9,  -999.00,9,   -999.0,9,  -999.00,9,  -999.00,9,  -999.00,9,  -999.00,  -999.00,9,  -999.00,  -999.00,9,  -999.00, -999.000,9, -999.000, -999.000,9, -999.000,9, -999.000,9,   -999.0,9,   -999.0,9,-999.0000,9, -999.000,9, -999.000,   -999.0,9,   -999.0,-999.0000,-999.0000
    49MR0505_1,   P03,   X17,  1,     36, X12048,2,20051108,0904, 23.9967,-135.0105, 4842,     10.8,2,  22.2353,2,  22.23548,2,  35.0520,2,  35.0521,2,   208.70,1,   220.14,2,     12.0,2,   219.75,2,   219.76,2,     1.29,2,     0.12,     0.04,2,     0.03,     0.00,2,     0.01,    0.123,2,    0.020,    1.890,2,    1.165,2, -999.000,5,   2017.4,2,   2317.0,2,   8.0486,2,    1.339,2,    0.004,     72.9,2,      3.4,  22.2332,  24.1918
    49MR0505_1,   P03,   X17,  1,     35, X12047,2,20051108,0904, 23.9967,-135.0105, 4842,     50.2,2,  22.2402,2,  22.24038,2,  35.0524,2,  35.0528,2,   208.57,1,   220.10,2,     51.9,2,   219.56,2,   219.53,2,     1.24,2,     0.12,     0.04,2,     0.03,     0.00,2,     0.01,    0.131,2,    0.019,    1.895,2,    1.167,2, -999.000,5,   2018.6,6,   2318.3,2,   8.0481,2,    1.332,2,    0.002,     66.5,2,      3.4,  22.2302,  24.1929
    49MR0505_1,   P03,   X17,  1,     34, X12046,2,20051108,0904, 23.9967,-135.0105, 4842,    100.6,2,  20.4032,2,  20.40412,2,  34.7646,2,  34.7697,2,   221.19,1,   233.67,2,     97.9,2,   231.05,2,   232.64,2,     1.59,2,     0.12,     0.04,2,     0.03,     0.00,2,     0.01,    0.126,2,    0.019,    2.175,2,    1.326,2, -999.000,5,   2018.6,2,   2303.6,2,   8.0203,2,    1.320,2,    0.003,     69.6,2,      3.4,  20.3844,  24.4804
    49MR0505_1,   P03,   X17,  1,     33, X12003,2,20051108,0904, 23.9967,-135.0105, 4842,    150.4,2,  18.8721,2,  18.86497,2,  34.8052,2,  34.7950,2,   202.95,1,   214.16,2,    150.3,2,   209.12,2,   212.85,2,     2.11,2,     0.12,     0.90,2,     0.04,     0.07,2,     0.01,    0.205,2,    0.016,    2.289,2,    1.363,2, -999.000,5,   2036.3,2,   2293.0,2,   7.9805,6,    0.910,2,    0.003,     79.4,2,      3.5,  18.8455,  24.9116
    49MR0505_1,   P03,   X17,  1,     32, X12044,2,20051108,0904, 23.9967,-135.0105, 4842,    201.3,2,  14.2073,2,  14.23639,2,  34.1087,2,  34.1168,2,   197.96,1,   208.25,2,    197.0,2,   208.26,2,   208.11,2,     5.28,2,     0.13,     5.61,2,     0.05,     0.01,2,     0.01,    0.544,2,    0.013,    2.838,2,    1.587,2,    0.138,2,   2051.3,2,   2253.0,2,   7.8815,2,    0.735,6,    0.013,     71.0,6,      2.5,  14.1781,  25.4610
    49MR0505_1,   P03,   X17,  1,     31, X12051,2,20051108,0904, 23.9967,-135.0105, 4842,    251.0,2,  11.4860,2,  11.48530,2,  33.9599,2,  33.9604,2,   195.03,1,   204.25,2,    246.4,2,   202.16,2,   204.02,2,    11.09,2,     0.14,    11.57,2,     0.07,     0.00,2,     0.01,    0.932,2,    0.013,    3.148,6,    1.693,6,    0.106,6,   2080.9,2,   2242.4,2,   7.8009,2,    0.511,2,    0.005,     67.1,2,      3.4,  11.4545,  25.8830
    49MR0505_1,   P03,   X17,  1,     30, X12042,2,20051108,0904, 23.9967,-135.0105, 4842,    301.0,2,  10.2122,2,  10.21218,2,  34.0046,2,  34.0071,2,   195.06,1,   204.00,2,    287.9,2,   198.45,2,   203.71,2,    16.13,2,     0.15,    15.15,2,     0.08,     0.00,2,     0.01,    1.138,2,    0.013,    3.257,2,    1.701,2,    0.118,2,   2101.1,2,   2251.4,2,   7.7662,2,    0.370,2,    0.004,     51.1,2,      3.3,  10.1771,  26.1445
    49MR0505_1,   P03,   X17,  1,     29, X12041,2,20051108,0904, 23.9967,-135.0105, 4842,    399.9,2,   7.9260,2,   7.92929,2,  34.0445,2,  34.0451,2,   135.10,1,   140.72,2,    393.8,2,   134.32,2,   140.77,2,    37.38,2,     0.20,    26.30,2,     0.11,     0.00,2,     0.01,    1.920,2,    0.015,    2.472,2,    1.189,2,    0.065,2,   2181.9,2,   2271.4,2,   7.6000,2,   -0.033,2,    0.003,     15.3,2,      3.4,   7.8858,  26.5403
    49MR0505_1,   P03,   X17,  1,     28, X12016,2,20051108,0904, 23.9967,-135.0105, 4842,    499.6,2,   6.0674,2,   6.06841,2,  34.0660,2,  34.0676,6,    68.45,1,    71.53,2,    495.0,2,    66.56,2,    70.94,2,    63.78,2,     0.26,    35.93,2,     0.13,     0.00,2,     0.01,    2.639,2,    0.017,    1.051,2,    0.485,2,    0.035,2,   2261.3,2,   2293.2,2,   7.4352,2,   -0.327,2,    0.006,    -58.7,2,      3.1,   6.0238,  26.8116
    49MR0505_1,   P03,   X17,  1,     27, X12039,2,20051108,0904, 23.9967,-135.0105, 4842,    601.1,2,   5.3806,2,   5.38278,2,  34.2031,2,  34.2040,2,    25.63,1,    26.56,2,    596.1,2,    24.15,2,    26.57,2,    81.81,2,     0.30,    40.53,2,     0.15,     0.00,2,     0.01,    3.038,2,    0.018,    0.186,2,    0.090,2,    0.000,2,   2311.6,2,   2310.3,2,   7.3627,2,   -0.508,2,    0.005,   -134.8,2,      2.9,   5.3308,  27.0049
    49MR0505_1,   P03,   X17,  1,     26, X12038,2,20051108,0904, 23.9967,-135.0105, 4842,    699.3,2,   4.8860,2,   4.88594,2,  34.3331,2,  34.3333,2,    16.04,1,    16.85,2,    697.5,2,    16.76,2,    16.60,2,    94.25,2,     0.33,    42.34,2,     0.15,     0.00,2,     0.01,    3.178,2,    0.018,    0.018,2,    0.007,2,    0.000,2,   2333.1,6,   2335.7,2,   7.3551,2,   -0.480,2,    0.003,   -171.4,2,      2.8,   4.8301,  27.1659
    49MR0505_1,   P03,   X17,  1,     25, X12037,2,20051108,0904, 23.9967,-135.0105, 4842,    801.7,2,   4.6248,2,   4.62527,2,  34.4185,2,  34.4181,2,    20.27,1,    21.21,2,    800.9,2,    21.36,2,    21.05,2,    99.58,2,     0.34,    42.98,2,     0.15,     0.00,2,     0.01,    3.192,2,    0.018,    0.012,6,    0.000,6,    0.000,6,   2339.4,2,   2347.3,2,   7.3740,2,   -0.351,2,    0.004,   -181.4,2,      2.9,   4.5616,  27.2636
    49MR0505_1,   P03,   X17,  1,     24, X12008,2,20051108,0904, 23.9967,-135.0105, 4842,    900.1,2,   4.3798,2,   4.37970,2,  34.4677,2,  34.4680,2,    25.56,1,    26.65,2,    899.3,2,    26.79,2,    26.63,2,   104.16,2,     0.35,    43.09,2,     0.15,     0.00,2,     0.01,    3.177,2,    0.018,    0.006,2,    0.000,2,    0.000,2,   2344.3,2,   2360.1,2,   7.3874,6,   -0.302,2,    0.002,   -188.7,2,      2.8,   4.3098,  27.3301
    49MR0505_1,   P03,   X17,  1,     23, X12035,2,20051108,0904, 23.9967,-135.0105, 4842,   1002.6,2,   4.0918,2,   4.09219,2,  34.4944,2,  34.4939,6,    30.20,1,    31.26,2,   1002.8,2,    31.24,2,    31.54,2,   110.04,2,     0.36,    43.29,2,     0.15,     0.00,2,     0.01,    3.169,2,    0.018,    0.000,2,    0.000,2,    0.000,2,   2345.7,3,   2370.9,2,   7.3972,2,   -0.288,2,    0.003,   -198.1,2,      3.0,   4.0152,  27.3824
    49MR0505_1,   P03,   X17,  1,     22, X12034,2,20051108,0904, 23.9967,-135.0105, 4842,   1200.4,2,   3.5372,2,   3.53699,2,  34.5325,2,  34.5327,2,    38.63,1,    40.15,2,   1200.2,2,    40.32,2,    40.40,2,   122.09,2,     0.39,    43.12,2,     0.15,     0.00,2,     0.01,    3.159,2,    0.018,    0.000,2,    0.000,2,    0.000,2,   2358.1,2,   2380.1,2,   7.4107,2,   -0.287,2,    0.003,   -224.0,2,      2.8,   3.4488,  27.4696
    49MR0505_1,   P03,   X17,  1,     21, X12033,2,20051108,0904, 23.9967,-135.0105, 4842,   1399.7,2,   3.1049,2,   3.10489,2,  34.5610,2,  34.5612,2,    45.99,1,    48.02,2,   1399.3,2,    48.35,2,    48.23,2,   132.84,2,     0.41,    42.93,2,     0.15,     0.00,2,     0.01,    3.124,2,    0.018,    0.007,2,    0.000,2,    0.000,2,   2364.4,2,   2394.1,2,   7.4227,2,   -0.278,2,    0.002,   -233.0,2,      2.7,   3.0043,  27.5343
    49MR0505_1,   P03,   X17,  1,     20, X12032,2,20051108,0904, 23.9967,-135.0105, 4842,   1601.3,2,   2.6931,2,   2.69303,2,  34.5866,2,  34.5869,2,    56.40,1,    59.02,2,   1601.4,2,    59.19,2,    59.53,2,   142.42,2,     0.43,    42.28,2,     0.15,     0.00,2,     0.01,    3.052,2,    0.018,    0.007,2,    0.001,2,    0.000,2,   2367.6,2,   2407.4,2,   7.4420,6,   -0.303,2,    0.003,   -237.8,2,      2.7,   2.5805,  27.5924
    49MR0505_1,   P03,   X17,  1,     19, X12001,2,20051108,0904, 23.9967,-135.0105, 4842,   1801.4,2,   2.3679,2,   2.36788,2,  34.6086,2,  34.6088,2,    68.07,1,    71.74,2,   1801.3,2,    71.81,2,    71.80,2,   151.14,2,     0.45,    41.52,2,     0.15,     0.00,2,     0.01,    2.986,2,    0.017,    0.000,2,    0.000,2,    0.000,2,   2367.4,2,   2411.8,2,   7.4634,2,   -0.263,2,    0.003,   -246.2,2,      2.8,   2.2428,  27.6385
    49MR0505_1,   P03,   X17,  1,     18, X12030,2,20051108,0904, 23.9967,-135.0105, 4842,   2002.1,2,   2.1408,2,   2.14073,2,  34.6247,2,  34.6249,2,    78.35,1,    82.64,2,   2002.0,2,    82.73,2,    82.75,2,   154.59,2,     0.46,    40.86,2,     0.15,     0.00,2,     0.01,    2.920,2,    0.017,    0.000,2,    0.001,2,    0.000,2,   2362.5,3,   2417.9,2,   7.4832,2,   -0.202,2,    0.002,   -245.9,2,      2.8,   2.0021,  27.6708
    49MR0505_1,   P03,   X17,  1,     17, X12049,2,20051108,0904, 23.9967,-135.0105, 4842,   2202.1,2,   1.9713,2,   1.97133,2,  34.6372,2,  34.6373,6,    86.81,1,    91.79,2,   2201.6,2,    92.11,2,    91.60,2,   158.06,2,     0.47,    40.32,2,     0.15,     0.00,2,     0.01,    2.862,2,    0.017,    0.000,2,    0.000,2,    0.000,2,   2363.5,2,   2420.9,2,   7.4995,2,   -0.157,2,    0.002,   -245.9,2,      2.7,   1.8181,  27.6952
    49MR0505_1,   P03,   X17,  1,     16, X12028,2,20051108,0904, 23.9967,-135.0105, 4842,   2402.7,2,   1.8249,2,   1.82460,2,  34.6471,2,  34.6472,2,    94.29,1,    99.81,2,   2402.6,2,    99.93,2,    99.55,2,   162.82,2,     0.48,    39.84,2,     0.14,     0.00,2,     0.01,    2.810,2,    0.017,    0.000,2,    0.001,2,    0.000,2,   2360.7,6,   2423.9,2,   7.5263,2,   -0.142,2,    0.004,   -245.9,2,      2.8,   1.6566,  27.7154
    49MR0505_1,   P03,   X17,  1,     15, X12009,2,20051108,0904, 23.9967,-135.0105, 4842,   2599.9,2,   1.7016,2,   1.70163,2,  34.6561,2,  34.6560,2,   101.78,1,   107.76,2,   2599.5,2,   108.31,2,   107.66,2,   164.41,2,     0.48,    39.21,2,     0.14,     0.00,2,     0.01,    2.777,2,    0.017,    0.000,2,    0.003,2,    0.000,2,   2356.6,2,   2430.6,6,   7.5142,2,   -0.087,2,    0.004,   -248.9,2,      2.8,   1.5179,  27.7329
    49MR0505_1,   P03,   X17,  1,     14, X12026,2,20051108,0904, 23.9967,-135.0105, 4842,   2800.2,2,   1.6076,2,   1.60749,2,  34.6639,2,  34.6641,2,   109.40,1,   115.95,2,   2800.5,2,   115.26,2,   115.67,2,   166.13,2,     0.48,    38.76,2,     0.14,     0.00,2,     0.01,    2.732,2,    0.017,    0.000,2,    0.000,2,    0.000,2,   2352.9,2,   2427.2,2,   7.5404,6,   -0.066,2,    0.004,   -233.3,2,      2.8,   1.4073,  27.7472
    49MR0505_1,   P03,   X17,  1,     13, X12025,2,20051108,0904, 23.9967,-135.0105, 4842,   3000.8,2,   1.5557,2,   1.55559,2,  34.6696,2,  34.6697,2,   115.50,1,   122.41,2,   3000.8,2,   122.18,2,   122.24,2,   166.16,2,     0.48,    38.36,2,     0.14,     0.01,2,     0.01,    2.689,2,    0.017,    0.001,2,    0.007,2,    0.000,2,   2349.8,2,   2429.5,2,   7.5528,2,   -0.032,6,    0.013,   -229.4,6,      1.9,   1.3376,  27.7567
    49MR0505_1,   P03,   X17,  1,     12, X12024,2,20051108,0904, 23.9967,-135.0105, 4842,   3250.6,2,   1.5107,2,   1.51067,2,  34.6758,2,  34.6754,6,   122.69,1,   130.01,2,   3250.5,2,   130.02,2,   129.76,2,   164.94,2,     0.48,    37.77,2,     0.14,     0.00,2,     0.01,    2.641,2,    0.017,    0.000,2,    0.002,2,    0.000,2,   2343.9,2,   2428.9,2,   7.5657,2,    0.021,2,    0.003,   -233.8,2,      2.8,   1.2694,  27.7665
    49MR0505_1,   P03,   X17,  1,     11, X12023,2,20051108,0904, 23.9967,-135.0105, 4842,   4927.5,2,   1.4836,2,   1.48347,2,  34.6934,2,  34.6935,2,   157.18,1,   162.93,2,   4927.5,2,   162.43,2,   162.36,2,   144.29,2,     0.44,    35.49,2,     0.13,     0.00,2,     0.01,    2.469,2,    0.016, -999.000,9, -999.000,9, -999.000,9,   2314.8,2,   2417.6,2,   7.6078,2, -999.000,9, -999.000,   -999.0,9,   -999.0,   1.0587,  27.7950
    49MR0505_1,   P03,   X17,  1,     10, X12022,2,20051108,0904, 23.9967,-135.0105, 4842,   3751.2,2,   1.4851,2,   1.48505,2,  34.6831,2,  34.6830,2,   132.88,1,   140.09,2,   3751.2,2,   140.12,2,   140.00,2,   160.11,2,     0.47,    37.13,2,     0.14,     0.00,2,     0.01,    2.598,2,    0.016,    0.001,2,    0.002,2,    0.000,2,   2333.6,3,   2428.5,2,   7.5831,2,    0.066,2,    0.005,   -228.9,2,      2.8,   1.1933,  27.7776
    49MR0505_1,   P03,   X17,  1,      9, X12021,2,20051108,0904, 23.9967,-135.0105, 4842,   3998.7,2,   1.4905,2,   1.49052,2,  34.6851,2,  34.6848,6,   136.62,1,   143.57,2,   3998.8,2,   143.61,2,   143.59,2,   159.35,2,     0.47,    36.89,2,     0.14,     0.00,2,     0.01,    2.564,2,    0.016,    0.000,2,    0.001,2,    0.000,2,   2333.4,2,   2426.8,2,   7.5880,2,    0.089,2,    0.004,   -225.5,2,      2.7,   1.1720,  27.7807
    49MR0505_1,   P03,   X17,  1,      8, X12020,2,20051108,0904, 23.9967,-135.0105, 4842,   4248.9,2,   1.4980,2,   1.49802,2,  34.6869,2,  34.6866,2,   140.35,1,   147.17,2,   4248.9,2,   147.09,2,   147.26,2,   156.04,2,     0.46,    36.69,2,     0.14,     0.00,2,     0.01,    2.547,2,    0.016,    0.000,2,    0.001,2,    0.000,2,   2331.2,6,   2426.1,2,   7.5920,2,    0.123,2,    0.006,   -213.6,2,      2.7,   1.1516,  27.7835
    49MR0505_1,   P03,   X17,  1,      7, X12019,2,20051108,0904, 23.9967,-135.0105, 4842,   4500.1,2,   1.5081,2,   1.50802,2,  34.6882,2,  34.6883,2,   144.04,1,   150.50,2,   4500.2,2,   150.44,2,   150.41,2,   153.98,2,     0.46,    36.41,2,     0.13,     0.00,2,     0.01,    2.540,2,    0.016,    0.006,2,    0.002,2,    0.000,2,   2327.9,2,   2425.7,6,   7.5956,2,    0.151,2,    0.002,   -219.4,2,      2.8,   1.1329,  27.7859
    49MR0505_1,   P03,   X17,  1,      6, X12018,2,20051108,0904, 23.9967,-135.0105, 4842,   4749.8,2,   1.4906,2,   1.49053,2,  34.6917,2,  34.6918,2,   152.12,1,   158.16,2,   4749.8,2,   157.82,2,   157.84,2,   147.66,2,     0.44,    35.99,2,     0.13,     0.00,2,     0.01,    2.492,2,    0.016,    0.001,2,    0.005,2,    0.000,2,   2320.1,2,   2418.5,2,   7.6037,6,    0.187,2,    0.005,   -213.0,2,      2.7,   1.0867,  27.7918
    49MR0505_1,   P03,   X17,  1,      5, X12043,9,20051108,0904, 23.9967,-135.0105, 4842,     11.3,2,  22.2361,2,  22.23642,2,  35.0521,2,-999.0000,9,   208.77,1,   220.54,2,     12.6,2,   219.91,2,  -999.00,9,  -999.00,9,  -999.00,  -999.00,9,  -999.00,  -999.00,9,  -999.00, -999.000,9, -999.000, -999.000,9, -999.000,9, -999.000,9,   -999.0,9,   -999.0,9,-999.0000,9, -999.000,9, -999.000,   -999.0,9,   -999.0,  22.2339,  24.1917
    49MR0505_1,   P03,   X17,  1,      4, X12010,9,20051108,0904, 23.9967,-135.0105, 4842,     50.7,2,  22.2411,2,  22.24282,2,  35.0520,2,-999.0000,9,   208.67,1,   219.98,2,     52.2,2,   219.61,2,  -999.00,9,  -999.00,9,  -999.00,  -999.00,9,  -999.00,  -999.00,9,  -999.00, -999.000,9, -999.000, -999.000,9, -999.000,9, -999.000,9,   -999.0,9,   -999.0,9,-999.0000,9, -999.000,9, -999.000,   -999.0,9,   -999.0,  22.2310,  24.1924
    49MR0505_1,   P03,   X17,  1,      3, X12015,9,20051108,0904, 23.9967,-135.0105, 4842,   3502.5,2,   1.4873,2,   1.48729,2,  34.6802,2,-999.0000,9,   128.53,1,   135.83,2,   3502.5,2,   136.00,2,  -999.00,9,  -999.00,9,  -999.00,  -999.00,9,  -999.00,  -999.00,9,  -999.00, -999.000,9, -999.000, -999.000,9, -999.000,9, -999.000,9,   -999.0,9,   -999.0,9,-999.0000,9, -999.000,9, -999.000,   -999.0,9,   -999.0,   1.2212,  27.7734
    49MR0505_1,   P03,   X17,  1,      2, X12014,2,20051108,0904, 23.9967,-135.0105, 4842,   3500.2,2,   1.4874,2,   1.48738,2,  34.6802,2,  34.6801,2,   128.51,1,   135.80,2,   3500.2,2,   135.91,2,   135.76,2,   163.30,2,     0.48,    37.59,2,     0.14,     0.00,2,     0.01,    2.615,2,    0.017,    0.004,2,    0.004,2,    0.000,2,   2340.7,2,   2428.9,2,   7.5767,2,    0.059,2,    0.005,   -206.0,3,      2.8,   1.2216,  27.7733
    49MR0505_1,   P03,   X17,  1,      1, X12013,2,20051108,0904, 23.9967,-135.0105, 4842,   4927.2,2,   1.4835,2,   1.48336,2,  34.6934,2,  34.6938,6,   157.27,1,   162.93,2,   4927.2,2,   162.45,2,   162.46,2,   145.52,2,     0.44,    35.51,2,     0.13,     0.00,2,     0.01,    2.473,2,    0.016,    0.002,2,    0.001,2,    0.000,2,   2314.0,2,   2422.1,2,   7.6080,2,    0.162,2,    0.003,   -205.8,2,      2.9,   1.0586,  27.7951