BOTTLE,20100316JAMSTECRIGC
EXPOCODE,SECT,STNNBR,CASTNO,SAMPNO,BTLNBR,BTLNBR_FLAG_W,DATE,TIME,LATITUDE,LONGITUDE,DEPTH,CTDPRS,CTDPRS_FLAG_W,CTDTMP,CTDTMP_FLAG_W,SBE35,SBE35_FLAG_W,CTDSAL,CTDSAL_FLAG_W,SALNTY,SALNTY_FLAG_W,CTDOXY,CTDOXY_FLAG_W,OPTOXY,OPTOXY_FLAG_W,DWNPRS,DWNPRS_FLAG_W,DWNOXY,DWNOXY_FLAG_W,OXYGEN,OXYGEN_FLAG_W,SILCAT,SILCAT_FLAG_W,SILUNC,NITRAT,NITRAT_FLAG_W,NRAUNC,NITRIT,NITRIT_FLAG_W,NRIUNC,PHSPHT,PHSPHT_FLAG_W,PHPUNC,CFC-11,CFC-11_FLAG_W,CFC-12,CFC-12_FLAG_W,CFC113,CFC113_FLAG_W,TCARBN,TCARBN_FLAG_W,ALKALI,ALKALI_FLAG_W,PH,PH_FLAG_W,DELC13,DELC13_FLAG_W,C13ERR,DELC14,DELC14_FLAG_W,C14ERR,THETA,SIG0
,,,,,,,,UTC,DEG,DEG,M,DBAR,,ITS-90,,ITS-90,,PSS-78,,PSS-78,,UMOL/KG,,UMOL/KG,,DBAR,,UMOL/KG,,UMOL/KG,,UMOL/KG,,UMOL/KG,UMOL/KG,,UMOL/KG,UMOL/KG,,UMOL/KG,UMOL/KG,,UMOL/KG,PMOL/KG,,PMOL/KG,,PMOL/KG,,UMOL/KG,,UMOL/KG,,,,/MILLE,,/MILLE,/MILLE,,/MILLE,DEG C,KG/CUM
    49MR0505_1,   P03,    83,  1,      0,   -999,9,20051112,2244, 24.2452,-144.8052, 5203,   -999.0,9,-999.0000,9,-999.00000,9,-999.0000,9,  35.1968,2,  -999.00,9,  -999.00,9,   -999.0,9,  -999.00,9,  -999.00,9,  -999.00,9,  -999.00,  -999.00,9,  -999.00,  -999.00,9,  -999.00, -999.000,9, -999.000, -999.000,9, -999.000,9, -999.000,9,   -999.0,9,   -999.0,9,-999.0000,9, -999.000,9, -999.000,   -999.0,9,   -999.0,-999.0000,-999.0000
    49MR0505_1,   P03,    83,  1,     36, X12048,2,20051112,2244, 24.2452,-144.8052, 5203,     10.9,2,  23.2647,2,  23.26501,2,  35.1778,2,  35.1776,2,   203.73,1,   216.28,2,     10.0,2,   216.79,2,   216.24,2,     1.03,2,     0.12,     0.05,2,     0.03,     0.00,2,     0.01,    0.064,2,    0.029,    1.794,2,    1.084,2, -999.000,5,   -999.0,9,   -999.0,9,-999.0000,9, -999.000,9, -999.000,   -999.0,9,   -999.0,  23.2625,  23.9925
    49MR0505_1,   P03,    83,  1,     35, X12047,2,20051112,2244, 24.2452,-144.8052, 5203,     49.6,2,  23.1971,2,  23.19843,2,  35.1859,2,  35.1877,2,   204.06,1,   216.63,2,     52.4,2,   216.52,2,   216.52,2,     0.97,2,     0.12,     0.04,2,     0.03,     0.00,2,     0.01,    0.061,2,    0.030,    1.802,2,    1.096,2, -999.000,5,   -999.0,9,   -999.0,9,-999.0000,9, -999.000,9, -999.000,   -999.0,9,   -999.0,  23.1869,  24.0205
    49MR0505_1,   P03,    83,  1,     34, X12046,2,20051112,2244, 24.2452,-144.8052, 5203,     99.1,2,  21.2750,2,  21.27289,2,  35.1916,2,  35.1889,2,   207.79,1,   220.81,2,     93.4,2,   217.71,2,   220.57,2,     1.28,2,     0.12,     0.04,2,     0.03,     0.00,2,     0.01,    0.048,2,    0.035,    2.043,2,    1.230,2, -999.000,5,   -999.0,9,   -999.0,9,-999.0000,9, -999.000,9, -999.000,   -999.0,9,   -999.0,  21.2559,  24.5699
    49MR0505_1,   P03,    83,  1,     33, X12003,2,20051112,2244, 24.2452,-144.8052, 5203,    151.1,2,  19.3844,2,  19.38347,2,  34.9527,2,  34.9503,2,   200.92,1,   213.07,2,    144.6,2,   208.07,2,   212.74,2,     1.78,2,     0.12,     0.42,2,     0.03,     0.17,2,     0.01,    0.122,2,    0.020,    2.244,2,    1.318,2, -999.000,5,   -999.0,9,   -999.0,9,-999.0000,9, -999.000,9, -999.000,   -999.0,9,   -999.0,  19.3571,  24.8934
    49MR0505_1,   P03,    83,  1,     32, X12044,2,20051112,2244, 24.2452,-144.8052, 5203,    200.0,2,  15.7888,2,  15.76254,2,  34.4293,2,  34.4179,2,   194.29,1,   205.16,2,    196.6,2,   204.90,2,   205.55,2,     4.24,2,     0.13,     4.37,2,     0.05,     0.01,2,     0.01,    0.402,2,    0.013,    2.637,2,    1.495,2,    0.116,2,   -999.0,9,   -999.0,9,-999.0000,9, -999.000,9, -999.000,   -999.0,9,   -999.0,  15.7576,  25.3636
    49MR0505_1,   P03,    83,  1,     31, X12051,2,20051112,2244, 24.2452,-144.8052, 5203,    250.8,2,  12.3087,2,  12.30416,2,  34.0722,2,  34.0718,2,   201.64,1,   212.75,2,    251.7,2,   212.08,2,   212.93,2,     8.54,2,     0.14,     9.19,2,     0.06,     0.00,2,     0.01,    0.723,2,    0.013,    3.060,6,    1.651,6,    0.107,6,   -999.0,9,   -999.0,9,-999.0000,9, -999.000,9, -999.000,   -999.0,9,   -999.0,  12.2757,  25.8159
    49MR0505_1,   P03,    83,  1,     30, X12042,2,20051112,2244, 24.2452,-144.8052, 5203,    301.9,2,  10.5589,2,  10.55675,2,  34.0527,2,  34.0536,2,   193.34,1,   204.27,2,    303.8,2,   206.59,2,   204.59,2,    14.88,2,     0.15,    14.23,2,     0.07,     0.00,2,     0.01,    1.055,2,    0.013,    3.188,2,    1.665,2,    0.088,2,   -999.0,9,   -999.0,9,-999.0000,9, -999.000,9, -999.000,   -999.0,9,   -999.0,  10.5229,  26.1223
    49MR0505_1,   P03,    83,  1,     29, X12041,2,20051112,2244, 24.2452,-144.8052, 5203,    402.7,2,   8.1552,2,   8.15880,2,  34.0505,2,  34.0513,2,   149.03,1,   157.46,2,    402.9,2,   158.08,2,   157.34,2,    34.14,2,     0.19,    24.40,2,     0.10,     0.00,2,     0.01,    1.743,2,    0.014,    2.664,2,    1.300,2,    0.125,2,   -999.0,9,   -999.0,9,-999.0000,9, -999.000,9, -999.000,   -999.0,9,   -999.0,   8.1140,  26.5112
    49MR0505_1,   P03,    83,  1,     28, X12016,2,20051112,2244, 24.2452,-144.8052, 5203,    502.1,2,   6.0528,2,   6.05471,2,  34.0167,2,  34.0166,6,    94.83,1,   100.83,2,    507.5,2,   104.39,2,   100.64,2,    59.95,2,     0.25,    33.53,2,     0.13,     0.00,2,     0.01,    2.426,2,    0.016,    1.423,2,    0.659,2,    0.051,2,   -999.0,9,   -999.0,9,-999.0000,9, -999.000,9, -999.000,   -999.0,9,   -999.0,   6.0091,  26.7745
    49MR0505_1,   P03,    83,  1,     27, X12039,2,20051112,2244, 24.2452,-144.8052, 5203,    601.2,2,   4.9613,2,   4.96051,2,  34.1052,2,  34.1039,2,    44.95,1,    47.86,2,    603.6,2,    53.25,2,    48.50,2,    84.33,2,     0.30,    39.80,2,     0.14,     0.00,2,     0.01,    2.901,2,    0.017,    0.390,2,    0.195,2,    0.016,2,   -999.0,9,   -999.0,9,-999.0000,9, -999.000,9, -999.000,   -999.0,9,   -999.0,   4.9135,  26.9757
    49MR0505_1,   P03,    83,  1,     26, X12038,2,20051112,2244, 24.2452,-144.8052, 5203,    700.9,2,   4.5275,2,   4.52762,2,  34.2562,2,  34.2549,2,    17.43,1,    18.72,2,    707.6,2,    22.00,2,    18.46,2,   100.42,2,     0.34,    42.83,2,     0.15,     0.00,2,     0.01,    3.166,2,    0.018,    0.040,2,    0.025,2,    0.000,2,   -999.0,9,   -999.0,9,-999.0000,9, -999.000,9, -999.000,   -999.0,9,   -999.0,   4.4735,  27.1444
    49MR0505_1,   P03,    83,  1,     25, X12037,2,20051112,2244, 24.2452,-144.8052, 5203,    802.1,2,   4.3419,2,   4.34202,2,  34.3779,2,  34.3770,2,    19.63,1,    20.98,2,    806.8,2,    20.91,2,    20.74,2,   106.17,2,     0.35,    43.21,2,     0.15,     0.00,2,     0.01,    3.187,2,    0.018,    0.007,2,    0.002,2,    0.000,2,   -999.0,9,   -999.0,9,-999.0000,9, -999.000,9, -999.000,   -999.0,9,   -999.0,   4.2805,  27.2618
    49MR0505_1,   P03,    83,  1,     24, X12008,2,20051112,2244, 24.2452,-144.8052, 5203,    900.3,2,   4.1287,2,   4.12852,2,  34.4497,2,  34.4490,2,    29.24,1,    30.80,2,    903.7,2,    30.82,2,    30.82,2,   110.03,2,     0.36,    42.78,2,     0.15,    -0.01,2,     0.01,    3.150,2,    0.018,    0.043,2,    0.003,2,    0.000,2,   -999.0,9,   -999.0,9,-999.0000,9, -999.000,9, -999.000,   -999.0,9,   -999.0,   4.0604,  27.3421
    49MR0505_1,   P03,    83,  1,     23, X12035,2,20051112,2244, 24.2452,-144.8052, 5203,   5282.6,2,   1.5052,2,   1.50526,2,  34.6948,2,  34.6951,2,   158.71,1,   166.28,2,   5282.6,2,   165.93,2,   165.95,2,   142.31,2,     0.43,    35.27,2,     0.13,    -0.01,2,     0.01,    2.454,2,    0.016, -999.000,9, -999.000,9, -999.000,9,   -999.0,9,   -999.0,9,-999.0000,9, -999.000,9, -999.000,   -999.0,9,   -999.0,   1.0359,  27.7977
    49MR0505_1,   P03,    83,  1,     22, X12034,2,20051112,2244, 24.2452,-144.8052, 5203,   1202.2,2,   3.3775,2,   3.37814,2,  34.5343,2,  34.5335,2,    47.67,1,    50.42,2,   1204.3,2,    50.26,2,    50.58,2,   125.27,2,     0.39,    42.33,2,     0.15,    -0.01,2,     0.01,    3.083,2,    0.018,    0.004,2,    0.000,2,    0.000,2,   -999.0,9,   -999.0,9,-999.0000,9, -999.000,9, -999.000,   -999.0,9,   -999.0,   3.2904,  27.4862
    49MR0505_1,   P03,    83,  1,     21, X12033,2,20051112,2244, 24.2452,-144.8052, 5203,   1403.3,2,   2.9460,2,   2.94638,2,  34.5644,2,  34.5644,2,    55.17,1,    58.62,2,   1405.9,2,    57.73,2,    58.65,2,   135.78,2,     0.42,    41.99,2,     0.15,     0.00,2,     0.01,    3.042,2,    0.018,    0.000,2,    0.000,2,    0.000,2,   -999.0,9,   -999.0,9,-999.0000,9, -999.000,9, -999.000,   -999.0,9,   -999.0,   2.8468,  27.5512
    49MR0505_1,   P03,    83,  1,     20, X12032,2,20051112,2244, 24.2452,-144.8052, 5203,   1603.1,2,   2.5794,2,   2.57918,2,  34.5875,2,  34.5872,2,    64.53,1,    68.76,2,   1604.7,2,    68.89,2,    68.88,2,   144.67,2,     0.44,    41.57,2,     0.15,    -0.01,2,     0.01,    2.989,2,    0.017,    0.000,2,    0.000,2,    0.000,2,   -999.0,9,   -999.0,9,-999.0000,9, -999.000,9, -999.000,   -999.0,9,   -999.0,   2.4680,  27.6028
    49MR0505_1,   P03,    83,  1,     19, X12001,2,20051112,2244, 24.2452,-144.8052, 5203,   1804.8,2,   2.3031,2,   2.30329,2,  34.6046,2,  34.6048,2,    72.02,1,    76.95,2,   1806.0,2,    76.30,2,    77.05,2,   151.73,2,     0.45,    41.26,2,     0.15,     0.00,2,     0.01,    2.939,2,    0.017,    0.000,2,    0.000,2,    0.000,2,   -999.0,9,   -999.0,9,-999.0000,9, -999.000,9, -999.000,   -999.0,9,   -999.0,   2.1786,  27.6405
    49MR0505_1,   P03,    83,  1,     18, X12030,2,20051112,2244, 24.2452,-144.8052, 5203,   2002.4,2,   2.0487,2,   2.04891,2,  34.6217,2,  34.6218,2,    79.82,1,    85.52,2,   2004.0,2,    84.72,2,    85.39,2,   159.06,2,     0.47,    40.59,2,     0.15,     0.00,2,     0.01,    2.892,2,    0.017,    0.000,2,    0.002,2,    0.000,2,   -999.0,9,   -999.0,9,-999.0000,9, -999.000,9, -999.000,   -999.0,9,   -999.0,   1.9114,  27.6755
    49MR0505_1,   P03,    83,  1,     17, X12049,2,20051112,2244, 24.2452,-144.8052, 5203,   2202.9,2,   1.8776,2,   1.87769,2,  34.6360,2,  34.6360,6,    87.82,1,    94.27,2,   2202.7,2,    94.47,2,    94.19,2,   162.52,2,     0.48,    39.89,2,     0.14,     0.00,2,     0.01,    2.842,2,    0.017, -999.000,9, -999.000,9, -999.000,9,   -999.0,9,   -999.0,9,-999.0000,9, -999.000,9, -999.000,   -999.0,9,   -999.0,   1.7259,  27.7013
    49MR0505_1,   P03,    83,  1,     16, X12028,2,20051112,2244, 24.2452,-144.8052, 5203,   2399.7,2,   1.7489,2,   1.74894,2,  34.6481,2,  34.6481,2,    95.91,1,   103.03,2,   2400.8,2,   102.05,2,   102.92,2,   164.91,2,     0.48,    39.48,2,     0.14,     0.00,2,     0.01,    2.797,2,    0.017, -999.000,9, -999.000,9, -999.000,9,   -999.0,9,   -999.0,9,-999.0000,9, -999.000,9, -999.000,   -999.0,9,   -999.0,   1.5822,  27.7217
    49MR0505_1,   P03,    83,  1,     15, X12006,2,20051112,2244, 24.2452,-144.8052, 5203,   2600.0,2,   1.6567,2,   1.65687,2,  34.6574,2,  34.6572,2,   103.12,1,   110.70,2,   2600.6,2,   110.06,2,   110.79,2,   165.69,2,     0.48,    38.99,2,     0.14,    -0.01,2,     0.01,    2.752,2,    0.017, -999.000,9, -999.000,9, -999.000,9,   -999.0,9,   -999.0,9,-999.0000,9, -999.000,9, -999.000,   -999.0,9,   -999.0,   1.4738,  27.7371
    49MR0505_1,   P03,    83,  1,     14, X12026,2,20051112,2244, 24.2452,-144.8052, 5203,   2801.2,2,   1.5880,2,   1.58804,2,  34.6642,2,  34.6644,2,   109.01,1,   117.27,2,   2801.7,2,   116.85,2,   117.24,2,   166.34,2,     0.48,    38.49,2,     0.14,    -0.01,2,     0.01,    2.715,2,    0.017,    0.001,2,    0.000,2,    0.000,2,   -999.0,9,   -999.0,9,-999.0000,9, -999.000,9, -999.000,   -999.0,9,   -999.0,   1.3881,  27.7488
    49MR0505_1,   P03,    83,  1,     13, X12025,2,20051112,2244, 24.2452,-144.8052, 5203,   3001.8,2,   1.5432,2,   1.54340,2,  34.6706,2,  34.6705,6,   115.37,1,   124.13,2,   3001.9,2,   124.27,2,   123.95,2,   165.76,2,     0.48,    38.02,2,     0.14,    -0.01,2,     0.01,    2.680,2,    0.017, -999.000,9, -999.000,9, -999.000,9,   -999.0,9,   -999.0,9,-999.0000,9, -999.000,9, -999.000,   -999.0,9,   -999.0,   1.3253,  27.7583
    49MR0505_1,   P03,    83,  1,     12, X12024,2,20051112,2244, 24.2452,-144.8052, 5203,   3250.6,2,   1.5043,2,   1.50439,2,  34.6766,2,  34.6766,2,   122.48,1,   131.78,2,   3250.7,2,   131.61,2,   131.55,2,   163.35,2,     0.48,    37.57,2,     0.14,    -0.01,2,     0.01,    2.638,2,    0.017, -999.000,9, -999.000,9, -999.000,9,   -999.0,9,   -999.0,9,-999.0000,9, -999.000,9, -999.000,   -999.0,9,   -999.0,   1.2631,  27.7675
    49MR0505_1,   P03,    83,  1,     11, X12023,2,20051112,2244, 24.2452,-144.8052, 5203,   3500.7,2,   1.4825,2,   1.48266,2,  34.6804,2,  34.6803,2,   127.73,1,   137.10,2,   3500.6,2,   137.61,2,   137.22,2,   161.58,2,     0.47,    37.26,2,     0.14,    -0.01,2,     0.01,    2.606,2,    0.016,    0.000,2,    0.003,2,    0.000,2,   -999.0,9,   -999.0,9,-999.0000,9, -999.000,9, -999.000,   -999.0,9,   -999.0,   1.2167,  27.7738
    49MR0505_1,   P03,    83,  1,     10, X12022,2,20051112,2244, 24.2452,-144.8052, 5203,   3749.4,2,   1.4710,2,   1.47112,2,  34.6838,2,  34.6837,2,   133.07,1,   142.45,2,   3749.4,2,   142.79,2,   142.80,2,   159.08,2,     0.47,    36.96,2,     0.14,    -0.01,2,     0.01,    2.579,2,    0.016, -999.000,9, -999.000,9, -999.000,9,   -999.0,9,   -999.0,9,-999.0000,9, -999.000,9, -999.000,   -999.0,9,   -999.0,   1.1797,  27.7791
    49MR0505_1,   P03,    83,  1,      9, X12021,2,20051112,2244, 24.2452,-144.8052, 5203,   4000.2,2,   1.4678,2,   1.46798,2,  34.6865,2,  34.6864,2,   137.41,1,   146.77,2,   4000.2,2,   147.20,2,   147.08,2,   157.01,2,     0.46,    36.67,2,     0.14,    -0.01,2,     0.01,    2.553,2,    0.016, -999.000,9, -999.000,9, -999.000,9,   -999.0,9,   -999.0,9,-999.0000,9, -999.000,9, -999.000,   -999.0,9,   -999.0,   1.1498,  27.7833
    49MR0505_1,   P03,    83,  1,      8, X12020,2,20051112,2244, 24.2452,-144.8052, 5203,   4249.6,2,   1.4792,2,   1.47926,2,  34.6880,2,  34.6880,6,   140.49,1,   149.73,2,   4249.7,2,   150.07,2,   150.04,2,   154.97,2,     0.46,    36.49,2,     0.13,    -0.01,2,     0.01,    2.537,2,    0.016,    0.009,2,    0.007,2,    0.000,2,   -999.0,9,   -999.0,9,-999.0000,9, -999.000,9, -999.000,   -999.0,9,   -999.0,   1.1333,  27.7856
    49MR0505_1,   P03,    83,  1,      7, X12019,2,20051112,2244, 24.2452,-144.8052, 5203,   4502.5,2,   1.4938,2,   1.49390,2,  34.6893,2,  34.6897,2,   143.55,1,   152.39,2,   4502.7,2,   152.78,2,   152.77,2,   152.67,2,     0.45,    36.31,2,     0.13,    -0.01,2,     0.01,    2.525,2,    0.016, -999.000,9, -999.000,9, -999.000,9,   -999.0,9,   -999.0,9,-999.0000,9, -999.000,9, -999.000,   -999.0,9,   -999.0,   1.1187,  27.7877
    49MR0505_1,   P03,    83,  1,      6, X12018,2,20051112,2244, 24.2452,-144.8052, 5203,   4749.5,2,   1.4879,2,   1.48795,2,  34.6917,2,  34.6921,2,   149.49,1,   158.25,2,   4749.8,2,   158.16,2,   158.55,2,   148.11,2,     0.44,    35.84,2,     0.13,    -0.01,2,     0.01,    2.491,2,    0.016, -999.000,9, -999.000,9, -999.000,9,   -999.0,9,   -999.0,9,-999.0000,9, -999.000,9, -999.000,   -999.0,9,   -999.0,   1.0841,  27.7920
    49MR0505_1,   P03,    83,  1,      5, X12043,2,20051112,2244, 24.2452,-144.8052, 5203,   4998.8,2,   1.4880,2,   1.48813,2,  34.6937,2,  34.6938,2,   154.65,1,   163.06,2,   4998.8,2,   163.43,2,   163.16,2,   144.32,2,     0.44,    35.52,2,     0.13,     0.00,2,     0.01,    2.470,2,    0.016,    0.005,2,    0.000,2,    0.000,2,   -999.0,9,   -999.0,9,-999.0000,9, -999.000,9, -999.000,   -999.0,9,   -999.0,   1.0543,  27.7956
    49MR0505_1,   P03,    83,  1,      4, X12010,9,20051112,2244, 24.2452,-144.8052, 5203,     50.1,2,  23.1955,2,  23.19598,2,  35.1887,2,-999.0000,9,   204.20,1,   216.54,2,     53.3,2,   216.61,2,  -999.00,9,  -999.00,9,  -999.00,  -999.00,9,  -999.00,  -999.00,9,  -999.00, -999.000,9, -999.000, -999.000,9, -999.000,9, -999.000,9,   -999.0,9,   -999.0,9,-999.0000,9, -999.000,9, -999.000,   -999.0,9,   -999.0,  23.1852,  24.0231
    49MR0505_1,   P03,    83,  1,      3, X12015,9,20051112,2244, 24.2452,-144.8052, 5203,     10.6,2,  23.2626,2,  23.26302,2,  35.1782,2,-999.0000,9,   203.57,1,   216.82,2,      9.9,2,   216.80,2,  -999.00,9,  -999.00,9,  -999.00,  -999.00,9,  -999.00,  -999.00,9,  -999.00, -999.000,9, -999.000, -999.000,9, -999.000,9, -999.000,9,   -999.0,9,   -999.0,9,-999.0000,9, -999.000,9, -999.000,   -999.0,9,   -999.0,  23.2604,  23.9934
    49MR0505_1,   P03,    83,  1,      2, X12014,2,20051112,2244, 24.2452,-144.8052, 5203,   1000.5,2,   3.8869,2,   3.88715,2,  34.4889,2,  34.4889,6,    36.07,1,    38.08,2,   1003.4,2,    39.93,2,    38.25,2,   114.81,2,     0.37,    42.98,2,     0.15,    -0.01,2,     0.01,    3.134,2,    0.018,    0.000,2,    0.000,2,    0.000,2,   -999.0,9,   -999.0,9,-999.0000,9, -999.000,9, -999.000,   -999.0,9,   -999.0,   3.8121,  27.3988
    49MR0505_1,   P03,    83,  1,      1, X12013,2,20051112,2244, 24.2452,-144.8052, 5203,   5282.7,2,   1.5052,2,   1.50512,2,  34.6948,2,  34.6949,6,   158.73,1,   166.30,2,   5282.6,2,   165.93,2,   166.05,2,   142.29,2,     0.43,    35.37,2,     0.13,    -0.01,2,     0.01,    2.451,2,    0.016,    0.000,2,    0.010,2,    0.000,2,   -999.0,9,   -999.0,9,-999.0000,9, -999.000,9, -999.000,   -999.0,9,   -999.0,   1.0359,  27.7977