BOTTLE,20100316JAMSTECRIGC
EXPOCODE,SECT,STNNBR,CASTNO,SAMPNO,BTLNBR,BTLNBR_FLAG_W,DATE,TIME,LATITUDE,LONGITUDE,DEPTH,CTDPRS,CTDPRS_FLAG_W,CTDTMP,CTDTMP_FLAG_W,SBE35,SBE35_FLAG_W,CTDSAL,CTDSAL_FLAG_W,SALNTY,SALNTY_FLAG_W,CTDOXY,CTDOXY_FLAG_W,OPTOXY,OPTOXY_FLAG_W,DWNPRS,DWNPRS_FLAG_W,DWNOXY,DWNOXY_FLAG_W,OXYGEN,OXYGEN_FLAG_W,SILCAT,SILCAT_FLAG_W,SILUNC,NITRAT,NITRAT_FLAG_W,NRAUNC,NITRIT,NITRIT_FLAG_W,NRIUNC,PHSPHT,PHSPHT_FLAG_W,PHPUNC,CFC-11,CFC-11_FLAG_W,CFC-12,CFC-12_FLAG_W,CFC113,CFC113_FLAG_W,TCARBN,TCARBN_FLAG_W,ALKALI,ALKALI_FLAG_W,PH,PH_FLAG_W,DELC13,DELC13_FLAG_W,C13ERR,DELC14,DELC14_FLAG_W,C14ERR,THETA,SIG0
,,,,,,,,UTC,DEG,DEG,M,DBAR,,ITS-90,,ITS-90,,PSS-78,,PSS-78,,UMOL/KG,,UMOL/KG,,DBAR,,UMOL/KG,,UMOL/KG,,UMOL/KG,,UMOL/KG,UMOL/KG,,UMOL/KG,UMOL/KG,,UMOL/KG,UMOL/KG,,UMOL/KG,PMOL/KG,,PMOL/KG,,PMOL/KG,,UMOL/KG,,UMOL/KG,,,,/MILLE,,/MILLE,/MILLE,,/MILLE,DEG C,KG/CUM
    49MR0505_1,   P03,    88,  1,      0,   -999,9,20051113,1808, 24.2407,-146.9352, 5263,   -999.0,9,-999.0000,9,-999.00000,9,-999.0000,9,  35.2572,2,  -999.00,9,  -999.00,9,   -999.0,9,  -999.00,9,  -999.00,9,  -999.00,9,  -999.00,  -999.00,9,  -999.00,  -999.00,9,  -999.00, -999.000,9, -999.000, -999.000,9, -999.000,9, -999.000,9,   -999.0,9,   -999.0,9,-999.0000,9, -999.000,9, -999.000,   -999.0,9,   -999.0,-999.0000,-999.0000
    49MR0505_1,   P03,    88,  1,     36, X12048,2,20051113,1808, 24.2407,-146.9352, 5263,      9.1,2,  23.9244,2,  23.92472,2,  35.2589,2,  35.2593,2,   199.70,1,   212.52,2,      9.8,2,   214.10,2,   212.65,2,     1.00,2,     0.12,     0.04,2,     0.03,     0.00,2,     0.01,    0.066,2,    0.028,    1.739,2,    1.067,2, -999.000,5,   -999.0,9,   -999.0,9,-999.0000,9, -999.000,9, -999.000,   -999.0,9,   -999.0,  23.9225,  23.8604
    49MR0505_1,   P03,    88,  1,     35, X12047,2,20051113,1808, 24.2407,-146.9352, 5263,     49.2,2,  23.9250,2,  23.92586,2,  35.2617,2,  35.2644,2,   199.38,1,   212.39,2,     49.8,2,   213.80,2,   212.57,2,     1.00,2,     0.12,     0.03,2,     0.03,     0.01,2,     0.01,    0.063,2,    0.029,    1.737,2,    1.067,2, -999.000,5,   -999.0,9,   -999.0,9,-999.0000,9, -999.000,9, -999.000,   -999.0,9,   -999.0,  23.9147,  23.8648
    49MR0505_1,   P03,    88,  1,     34, X12046,2,20051113,1808, 24.2407,-146.9352, 5263,     99.6,2,  22.5525,2,  22.55222,2,  35.2568,2,  35.2544,2,   209.80,1,   224.06,2,     91.2,2,   222.03,2,   223.59,2,     1.33,2,     0.12,     0.02,2,     0.03,     0.01,2,     0.01,    0.042,2,    0.039,    1.947,2,    1.180,2, -999.000,5,   -999.0,9,   -999.0,9,-999.0000,9, -999.000,9, -999.000,   -999.0,9,   -999.0,  22.5324,  24.2625
    49MR0505_1,   P03,    88,  1,     33, X12003,2,20051113,1808, 24.2407,-146.9352, 5263,    150.3,2,  19.0607,2,  19.06554,2,  34.9390,2,  34.9338,2,   193.68,1,   205.80,2,    145.5,2,   205.36,2,   206.04,2,     2.31,2,     0.12,     1.19,2,     0.04,     0.07,2,     0.01,    0.178,2,    0.017,    2.239,2,    1.332,2, -999.000,5,   -999.0,9,   -999.0,9,-999.0000,9, -999.000,9, -999.000,   -999.0,9,   -999.0,  19.0339,  24.9659
    49MR0505_1,   P03,    88,  1,     32, X12044,2,20051113,1808, 24.2407,-146.9352, 5263,    198.1,2,  15.7583,2,  15.76173,2,  34.5411,2,  34.5331,2,   196.90,1,   208.91,2,    196.8,2,   208.19,2,   209.02,2,     4.57,2,     0.13,     4.33,2,     0.04,     0.01,2,     0.01,    0.391,2,    0.013,    2.558,2,    1.497,2, -999.000,5,   -999.0,9,   -999.0,9,-999.0000,9, -999.000,9, -999.000,   -999.0,9,   -999.0,  15.7274,  25.4564
    49MR0505_1,   P03,    88,  1,     31, X12051,2,20051113,1808, 24.2407,-146.9352, 5263,    249.7,2,  12.8960,2,  12.89088,2,  34.2426,2,  34.2426,2,   200.53,1,   212.39,2,    252.7,2,   213.24,2,   213.23,2,     8.47,2,     0.14,     8.89,2,     0.06,     0.01,2,     0.01,    0.688,2,    0.013,    2.861,6,    1.638,6,    0.096,4,   -999.0,9,   -999.0,9,-999.0000,9, -999.000,9, -999.000,   -999.0,9,   -999.0,  12.8620,  25.8336
    49MR0505_1,   P03,    88,  1,     30, X12042,2,20051113,1808, 24.2407,-146.9352, 5263,    301.7,2,  11.4124,2,  11.41361,2,  34.1708,2,  34.1754,2,   198.25,1,   210.43,2,    305.2,2,   210.73,2,   211.36,2,    12.32,2,     0.15,    12.12,2,     0.07,     0.01,2,     0.01,    0.904,2,    0.013,    2.978,2,    1.666,2,    0.098,2,   -999.0,9,   -999.0,9,-999.0000,9, -999.000,9, -999.000,   -999.0,9,   -999.0,  11.3745,  26.0618
    49MR0505_1,   P03,    88,  1,     29, X12041,2,20051113,1808, 24.2407,-146.9352, 5263,    399.6,2,   9.0331,2,   9.03412,2,  34.0970,2,  34.0950,2,   170.70,1,   179.96,2,    404.3,2,   185.36,2,   179.63,2,    26.83,2,     0.18,    20.61,2,     0.09,     0.00,2,     0.01,    1.488,2,    0.014,    2.804,2,    1.492,2,    0.113,2,   -999.0,9,   -999.0,9,-999.0000,9, -999.000,9, -999.000,   -999.0,9,   -999.0,   8.9896,  26.4126
    49MR0505_1,   P03,    88,  1,     28, X12016,2,20051113,1808, 24.2407,-146.9352, 5263,    500.1,2,   6.7575,2,   6.75867,2,  34.0297,2,  34.0301,6,   105.59,1,   111.68,2,    502.8,2,   113.70,2,   110.84,2,    51.37,2,     0.23,    31.26,2,     0.12,     0.00,2,     0.01,    2.277,2,    0.016,    1.685,2,    0.813,2,    0.066,2,   -999.0,9,   -999.0,9,-999.0000,9, -999.000,9, -999.000,   -999.0,9,   -999.0,   6.7113,  26.6935
    49MR0505_1,   P03,    88,  1,     27, X12039,2,20051113,1808, 24.2407,-146.9352, 5263,    600.2,2,   5.3632,2,   5.36266,2,  34.1197,2,  34.1202,2,    41.40,1,    43.63,2,    603.2,2,    46.57,2,    43.92,2,    78.45,2,     0.29,    39.39,2,     0.14,     0.00,2,     0.01,    2.908,2,    0.017,    0.380,2,    0.202,2,    0.019,2,   -999.0,9,   -999.0,9,-999.0000,9, -999.000,9, -999.000,   -999.0,9,   -999.0,   5.3136,  26.9408
    49MR0505_1,   P03,    88,  1,     26, X12038,2,20051113,1808, 24.2407,-146.9352, 5263,    699.4,2,   4.7402,2,   4.74031,2,  34.2408,2,  34.2442,2,    19.02,1,    20.47,2,    699.9,2,    20.14,2,    19.98,2,    95.92,2,     0.33,    42.40,2,     0.15,     0.00,2,     0.01,    3.148,2,    0.018,    0.059,2,    0.034,2,    0.012,2,   -999.0,9,   -999.0,9,-999.0000,9, -999.000,9, -999.000,   -999.0,9,   -999.0,   4.6852,  27.1089
    49MR0505_1,   P03,    88,  1,     25, X12037,2,20051113,1808, 24.2407,-146.9352, 5263,    799.1,2,   4.4604,2,   4.46037,2,  34.3572,2,  34.3569,2,    19.76,1,    21.36,2,    800.6,2,    20.97,2,    20.97,2,   103.41,2,     0.35,    43.02,2,     0.15,     0.00,2,     0.01,    3.183,2,    0.018,    0.019,6,    0.012,6,    0.007,6,   -999.0,9,   -999.0,9,-999.0000,9, -999.000,9, -999.000,   -999.0,9,   -999.0,   4.3985,  27.2327
    49MR0505_1,   P03,    88,  1,     24, X12008,2,20051113,1808, 24.2407,-146.9352, 5263,    898.4,2,   4.2167,2,   4.21667,2,  34.4455,2,  34.4457,2,    31.11,1,    33.23,2,    899.8,2,    30.69,2,    33.23,2,   107.35,2,     0.36,    42.68,2,     0.15,     0.00,2,     0.01,    3.117,2,    0.018,    0.008,2,    0.008,2,    0.000,2,   -999.0,9,   -999.0,9,-999.0000,9, -999.000,9, -999.000,   -999.0,9,   -999.0,   4.1480,  27.3296
    49MR0505_1,   P03,    88,  1,     23, X12035,2,20051113,1808, 24.2407,-146.9352, 5263,   1001.9,2,   3.9959,2,   3.99604,2,  34.4889,2,  34.4885,6,    38.27,1,    40.71,2,   1002.5,2,    40.34,2,    40.67,2,   111.83,2,     0.37,    42.56,2,     0.15,     0.00,2,     0.01,    3.108,2,    0.018,    0.007,2,    0.007,2,    0.000,2,   -999.0,9,   -999.0,9,-999.0000,9, -999.000,9, -999.000,   -999.0,9,   -999.0,   3.9201,  27.3878
    49MR0505_1,   P03,    88,  1,     22, X12034,2,20051113,1808, 24.2407,-146.9352, 5263,   1199.8,2,   3.4981,2,   3.49809,2,  34.5314,2,  34.5313,2,    47.16,1,    50.22,2,   1199.8,2,    50.28,2,    50.23,2,   122.52,2,     0.39,    42.34,2,     0.15,     0.00,2,     0.01,    3.078,2,    0.018,    0.005,2,    0.005,2,    0.000,2,   -999.0,9,   -999.0,9,-999.0000,9, -999.000,9, -999.000,   -999.0,9,   -999.0,   3.4101,  27.4725
    49MR0505_1,   P03,    88,  1,     21, X12033,2,20051113,1808, 24.2407,-146.9352, 5263,   1400.4,2,   3.0619,2,   3.06179,2,  34.5601,2,  34.5599,2,    55.06,1,    58.77,2,   1401.1,2,    58.32,2,    59.02,2,   132.65,2,     0.41,    42.04,2,     0.15,     0.00,2,     0.01,    3.041,2,    0.018,    0.000,2,    0.000,2,    0.000,2,   -999.0,9,   -999.0,9,-999.0000,9, -999.000,9, -999.000,   -999.0,9,   -999.0,   2.9617,  27.5374
    49MR0505_1,   P03,    88,  1,     20, X12032,2,20051113,1808, 24.2407,-146.9352, 5263,   1599.8,2,   2.6864,2,   2.68650,2,  34.5811,2,  34.5811,2,    64.17,1,    68.82,2,   1599.0,2,    69.02,2,    68.97,2,   141.40,2,     0.43,    41.45,2,     0.15,     0.00,2,     0.01,    2.993,2,    0.017,    0.001,2,    0.001,2,    0.000,2,   -999.0,9,   -999.0,9,-999.0000,9, -999.000,9, -999.000,   -999.0,9,   -999.0,   2.5740,  27.5886
    49MR0505_1,   P03,    88,  1,     19, X12001,2,20051113,1808, 24.2407,-146.9352, 5263,   1800.0,2,   2.3810,2,   2.38105,2,  34.6008,2,  34.6010,2,    71.76,1,    77.00,2,   1799.5,2,    77.01,2,    77.13,2,   149.02,2,     0.45,    41.05,2,     0.15,     0.00,2,     0.01,    2.941,2,    0.017,    0.001,2,    0.001,2,    0.000,2,   -999.0,9,   -999.0,9,-999.0000,9, -999.000,9, -999.000,   -999.0,9,   -999.0,   2.2559,  27.6312
    49MR0505_1,   P03,    88,  1,     18, X12030,2,20051113,1808, 24.2407,-146.9352, 5263,   2000.4,2,   2.1474,2,   2.14742,2,  34.6163,2,  34.6166,2,    78.37,1,    84.42,2,   1998.6,2,    85.31,2,    84.30,2,   155.47,2,     0.46,    40.58,2,     0.15,     0.00,2,     0.01,    2.896,2,    0.017,    0.000,2,    0.001,2,    0.000,2,   -999.0,9,   -999.0,9,-999.0000,9, -999.000,9, -999.000,   -999.0,9,   -999.0,   2.0087,  27.6636
    49MR0505_1,   P03,    88,  1,     17, X12049,2,20051113,1808, 24.2407,-146.9352, 5263,   2199.1,2,   1.9497,2,   1.94971,2,  34.6311,2,  34.6314,2,    85.70,1,    92.62,2,   2197.4,2,    93.58,2,    92.49,2,   160.51,2,     0.47,    40.11,2,     0.15,     0.00,2,     0.01,    2.855,2,    0.017, -999.000,9, -999.000,9, -999.000,9,   -999.0,9,   -999.0,9,-999.0000,9, -999.000,9, -999.000,   -999.0,9,   -999.0,   1.7971,  27.6919
    49MR0505_1,   P03,    88,  1,     16, X12028,2,20051113,1808, 24.2407,-146.9352, 5263,   2398.9,2,   1.7971,2,   1.79712,2,  34.6441,2,  34.6444,2,    93.39,1,   100.98,2,   2398.0,2,   101.44,2,   100.80,2,   163.77,2,     0.48,    39.59,2,     0.14,     0.00,2,     0.01,    2.806,2,    0.017,    0.000,2,    0.001,2,    0.000,2,   -999.0,9,   -999.0,9,-999.0000,9, -999.000,9, -999.000,   -999.0,9,   -999.0,   1.6296,  27.7150
    49MR0505_1,   P03,    88,  1,     15, X12006,2,20051113,1808, 24.2407,-146.9352, 5263,   2600.1,2,   1.6939,2,   1.69380,2,  34.6544,2,  34.6543,6,   100.27,1,   108.38,2,   2598.8,2,   109.86,2,   108.23,2,   165.80,2,     0.48,    39.16,2,     0.14,     0.00,2,     0.01,    2.770,2,    0.017, -999.000,9, -999.000,9, -999.000,9,   -999.0,9,   -999.0,9,-999.0000,9, -999.000,9, -999.000,   -999.0,9,   -999.0,   1.5103,  27.7321
    49MR0505_1,   P03,    88,  1,     14, X12026,2,20051113,1808, 24.2407,-146.9352, 5263,   2800.2,2,   1.6119,2,   1.61203,2,  34.6628,2,  34.6631,2,   107.36,1,   116.15,2,   2799.5,2,   116.48,2,   115.96,2,   166.24,2,     0.48,    38.71,2,     0.14,     0.00,2,     0.01,    2.732,2,    0.017,    0.000,2,    0.000,2,    0.000,2,   -999.0,9,   -999.0,9,-999.0000,9, -999.000,9, -999.000,   -999.0,9,   -999.0,   1.4116,  27.7460
    49MR0505_1,   P03,    88,  1,     13, X12025,2,20051113,1808, 24.2407,-146.9352, 5263,   2999.3,2,   1.5511,2,   1.55119,2,  34.6697,2,  34.6699,2,   113.90,1,   123.31,2,   2999.1,2,   122.96,2,   123.17,2,   165.73,2,     0.48,    38.24,2,     0.14,     0.00,2,     0.01,    2.690,2,    0.017, -999.000,9, -999.000,9, -999.000,9,   -999.0,9,   -999.0,9,-999.0000,9, -999.000,9, -999.000,   -999.0,9,   -999.0,   1.3333,  27.7570
    49MR0505_1,   P03,    88,  1,     12, X12024,2,20051113,1808, 24.2407,-146.9352, 5263,   3248.6,2,   1.5013,2,   1.50141,2,  34.6763,2,  34.6764,2,   121.61,1,   131.53,2,   3248.6,2,   130.72,2,   131.52,2,   163.79,2,     0.48,    37.59,2,     0.14,     0.00,2,     0.01,    2.636,2,    0.017, -999.000,9, -999.000,9, -999.000,9,   -999.0,9,   -999.0,9,-999.0000,9, -999.000,9, -999.000,   -999.0,9,   -999.0,   1.2604,  27.7675
    49MR0505_1,   P03,    88,  1,     11, X12023,2,20051113,1808, 24.2407,-146.9352, 5263,   3500.6,2,   1.4749,2,   1.47499,2,  34.6807,2,  34.6809,2,   127.73,1,   137.91,2,   3500.6,2,   137.41,2,   137.81,2,   161.56,2,     0.47,    37.22,2,     0.14,     0.00,2,     0.01,    2.608,2,    0.016,    0.004,2,    0.001,2,    0.000,2,   -999.0,9,   -999.0,9,-999.0000,9, -999.000,9, -999.000,   -999.0,9,   -999.0,   1.2093,  27.7746
    49MR0505_1,   P03,    88,  1,     10, X12022,2,20051113,1808, 24.2407,-146.9352, 5263,   3750.5,2,   1.4622,2,   1.46226,2,  34.6843,2,  34.6847,6,   133.22,1,   143.35,2,   3750.5,2,   143.11,2,   143.65,2,   158.83,2,     0.47,    36.80,2,     0.14,     0.00,2,     0.01,    2.577,2,    0.016, -999.000,9, -999.000,9, -999.000,9,   -999.0,9,   -999.0,9,-999.0000,9, -999.000,9, -999.000,   -999.0,9,   -999.0,   1.1711,  27.7801
    49MR0505_1,   P03,    88,  1,      9, X12021,2,20051113,1808, 24.2407,-146.9352, 5263,   4001.7,2,   1.4618,2,   1.46192,2,  34.6869,2,  34.6869,2,   137.58,1,   147.81,2,   4001.6,2,   147.82,2,   147.95,2,   156.45,2,     0.46,    36.52,2,     0.14,     0.00,2,     0.01,    2.554,2,    0.016, -999.000,9, -999.000,9, -999.000,9,   -999.0,9,   -999.0,9,-999.0000,9, -999.000,9, -999.000,   -999.0,9,   -999.0,   1.1438,  27.7841
    49MR0505_1,   P03,    88,  1,      8, X12020,2,20051113,1808, 24.2407,-146.9352, 5263,   4248.8,2,   1.4753,2,   1.47536,2,  34.6885,2,  34.6882,2,   140.32,1,   150.38,2,   4248.7,2,   150.59,2,   150.52,2,   154.63,2,     0.46,    36.35,2,     0.13,     0.00,2,     0.01,    2.539,2,    0.016, -999.000,9, -999.000,9, -999.000,9,   -999.0,9,   -999.0,9,-999.0000,9, -999.000,9, -999.000,   -999.0,9,   -999.0,   1.1296,  27.7863
    49MR0505_1,   P03,    88,  1,      7, X12019,2,20051113,1808, 24.2407,-146.9352, 5263,   4500.4,2,   1.4891,2,   1.48930,2,  34.6897,2,  34.6897,2,   143.50,1,   153.12,2,   4500.3,2,   153.49,2,   153.38,2,   152.53,2,     0.45,    36.14,2,     0.13,     0.00,2,     0.01,    2.528,2,    0.016,    0.002,2,    0.009,2,    0.000,2,   -999.0,9,   -999.0,9,-999.0000,9, -999.000,9, -999.000,   -999.0,9,   -999.0,   1.1144,  27.7883
    49MR0505_1,   P03,    88,  1,      6, X12018,2,20051113,1808, 24.2407,-146.9352, 5263,   4751.7,2,   1.4935,2,   1.49361,2,  34.6916,2,  34.6916,6,   148.11,1,   157.55,2,   4751.5,2,   157.96,2,   157.70,2,   149.11,2,     0.45,    35.79,2,     0.13,     0.00,2,     0.01,    2.503,2,    0.016, -999.000,9, -999.000,9, -999.000,9,   -999.0,9,   -999.0,9,-999.0000,9, -999.000,9, -999.000,   -999.0,9,   -999.0,   1.0893,  27.7915
    49MR0505_1,   P03,    88,  1,      5, X12043,2,20051113,1808, 24.2407,-146.9352, 5263,   5000.0,2,   1.4998,2,   1.49991,2,  34.6932,2,  34.6932,2,   152.53,1,   161.49,2,   4999.9,2,   161.80,2,   161.65,2,   145.94,2,     0.44,    35.57,2,     0.13,     0.00,2,     0.01,    2.483,2,    0.016, -999.000,9, -999.000,9, -999.000,9,   -999.0,9,   -999.0,9,-999.0000,9, -999.000,9, -999.000,   -999.0,9,   -999.0,   1.0655,  27.7945
    49MR0505_1,   P03,    88,  1,      4, X12010,2,20051113,1808, 24.2407,-146.9352, 5263,   5248.1,2,   1.5045,2,   1.50442,2,  34.6947,2,  34.6948,2,   157.13,1,   165.48,2,   5248.1,2,   165.54,2,   165.54,2,   142.87,2,     0.43,    35.32,2,     0.13,     0.00,2,     0.01,    2.460,2,    0.016, -999.000,9, -999.000,9, -999.000,9,   -999.0,9,   -999.0,9,-999.0000,9, -999.000,9, -999.000,   -999.0,9,   -999.0,   1.0395,  27.7974
    49MR0505_1,   P03,    88,  1,      3, X12015,2,20051113,1808, 24.2407,-146.9352, 5263,   5000.0,2,   1.4997,2,   1.49966,2,  34.6931,2,-999.0000,9,   152.53,1,   161.45,2,   4999.8,2,   161.80,2,  -999.00,9,  -999.00,9,  -999.00,  -999.00,9,  -999.00,  -999.00,9,  -999.00, -999.000,9, -999.000, -999.000,9, -999.000,9, -999.000,9,   -999.0,9,   -999.0,9,-999.0000,9, -999.000,9, -999.000,   -999.0,9,   -999.0,   1.0654,  27.7944
    49MR0505_1,   P03,    88,  1,      2, X12014,2,20051113,1808, 24.2407,-146.9352, 5263,   5342.3,2,   1.5128,2,   1.51286,2,  34.6950,2,-999.0000,9,   158.37,1,   166.47,2,   5342.3,2,   165.72,2,  -999.00,9,  -999.00,9,  -999.00,  -999.00,9,  -999.00,  -999.00,9,  -999.00, -999.000,9, -999.000, -999.000,9, -999.000,9, -999.000,9,   -999.0,9,   -999.0,9,-999.0000,9, -999.000,9, -999.000,   -999.0,9,   -999.0,   1.0357,  27.7979
    49MR0505_1,   P03,    88,  1,      1, X12013,2,20051113,1808, 24.2407,-146.9352, 5263,   5341.9,2,   1.5129,2,   1.51292,2,  34.6949,2,  34.6949,6,   158.38,1,   166.38,2,   5341.9,2,   165.73,2,   166.25,2,   142.58,2,     0.43,    35.24,2,     0.13,     0.00,2,     0.01,    2.465,2,    0.016,    0.000,2,    0.000,2,    0.000,2,   -999.0,9,   -999.0,9,-999.0000,9, -999.000,9, -999.000,   -999.0,9,   -999.0,   1.0359,  27.7978