BOTTLE,20100316JAMSTECRIGC
EXPOCODE,SECT,STNNBR,CASTNO,SAMPNO,BTLNBR,BTLNBR_FLAG_W,DATE,TIME,LATITUDE,LONGITUDE,DEPTH,CTDPRS,CTDPRS_FLAG_W,CTDTMP,CTDTMP_FLAG_W,SBE35,SBE35_FLAG_W,CTDSAL,CTDSAL_FLAG_W,SALNTY,SALNTY_FLAG_W,CTDOXY,CTDOXY_FLAG_W,OPTOXY,OPTOXY_FLAG_W,DWNPRS,DWNPRS_FLAG_W,DWNOXY,DWNOXY_FLAG_W,OXYGEN,OXYGEN_FLAG_W,SILCAT,SILCAT_FLAG_W,SILUNC,NITRAT,NITRAT_FLAG_W,NRAUNC,NITRIT,NITRIT_FLAG_W,NRIUNC,PHSPHT,PHSPHT_FLAG_W,PHPUNC,CFC-11,CFC-11_FLAG_W,CFC-12,CFC-12_FLAG_W,CFC113,CFC113_FLAG_W,TCARBN,TCARBN_FLAG_W,ALKALI,ALKALI_FLAG_W,PH,PH_FLAG_W,DELC13,DELC13_FLAG_W,C13ERR,DELC14,DELC14_FLAG_W,C14ERR,THETA,SIG0
,,,,,,,,UTC,DEG,DEG,M,DBAR,,ITS-90,,ITS-90,,PSS-78,,PSS-78,,UMOL/KG,,UMOL/KG,,DBAR,,UMOL/KG,,UMOL/KG,,UMOL/KG,,UMOL/KG,UMOL/KG,,UMOL/KG,UMOL/KG,,UMOL/KG,UMOL/KG,,UMOL/KG,PMOL/KG,,PMOL/KG,,PMOL/KG,,UMOL/KG,,UMOL/KG,,,,/MILLE,,/MILLE,/MILLE,,/MILLE,DEG C,KG/CUM
    49MR0505_1,   P03,     4,  1,      0,   -999,9,20051101,0027, 32.6375,-117.6793,  971,   -999.0,9,-999.0000,9,-999.00000,9,-999.0000,9,  33.3566,2,  -999.00,9,  -999.00,9,   -999.0,9,  -999.00,9,  -999.00,9,  -999.00,9,  -999.00,  -999.00,9,  -999.00,  -999.00,9,  -999.00, -999.000,9, -999.000, -999.000,9, -999.000,9, -999.000,9,   -999.0,9,   -999.0,9,-999.0000,9, -999.000,9, -999.000,   -999.0,9,   -999.0,-999.0000,-999.0000
    49MR0505_1,   P03,     4,  1,     36, X12048,2,20051101,0027, 32.6375,-117.6793,  971,      9.9,2,  18.1158,2,  18.14265,2,  33.3468,2,  33.3312,2,   251.12,1,   255.68,2,     10.3,2,   259.22,2,   254.14,2,     2.24,2,     0.12,     0.12,2,     0.03,     0.01,2,     0.01,    0.226,2,    0.015,    2.585,2,    1.520,2, -999.000,5,   -999.0,9,   -999.0,9,-999.0000,9, -999.000,9, -999.000,   -999.0,9,   -999.0,  18.1141,  23.9784
    49MR0505_1,   P03,     4,  1,     35, X12047,2,20051101,0027, 32.6375,-117.6793,  971,     50.6,2,  11.7876,2,  11.78861,2,  33.5347,2,  33.5524,2,   137.41,1,   136.50,2,     47.6,2,   133.48,2,   134.29,2,    16.39,2,     0.16,    16.99,2,     0.08,     0.03,2,     0.01,    1.592,2,    0.014,    2.882,2,    1.593,2,    0.210,2,   -999.0,9,   -999.0,9,-999.0000,9, -999.000,9, -999.000,   -999.0,9,   -999.0,  11.7812,  25.4921
    49MR0505_1,   P03,     4,  1,     34, X12046,2,20051101,0027, 32.6375,-117.6793,  971,    101.6,2,  11.3805,2,  11.38305,2,  33.9138,2,  33.9183,2,    66.33,1,    67.65,2,     96.5,2,    58.24,2,    65.26,2,    27.58,2,     0.18,    23.43,2,     0.10,     0.02,2,     0.01,    2.215,2,    0.016,    2.446,2,    1.327,2,    0.131,2,   -999.0,9,   -999.0,9,-999.0000,9, -999.000,9, -999.000,   -999.0,9,   -999.0,  11.3679,  25.8630
    49MR0505_1,   P03,     4,  1,     33, X12003,2,20051101,0027, 32.6375,-117.6793,  971,    151.2,2,  11.2696,2,  11.26931,2,  34.1985,2,  34.2001,2,    36.49,1,    37.59,2,    153.0,2,    40.42,2,    38.62,2,    33.45,2,     0.19,    25.77,2,     0.10,     0.01,2,     0.01,    2.457,2,    0.016, -999.000,5, -999.000,5, -999.000,5,   -999.0,9,   -999.0,9,-999.0000,9, -999.000,9, -999.000,   -999.0,9,   -999.0,  11.2509,  26.1059
    49MR0505_1,   P03,     4,  1,     32, X12044,2,20051101,0027, 32.6375,-117.6793,  971,    199.4,2,  10.3833,2,  10.38450,2,  34.2839,2,  34.2767,2,    53.16,1,    54.58,2,    202.3,2,    71.95,2,    55.15,2,    33.38,2,     0.19,    26.92,2,     0.11,     0.02,2,     0.01,    2.379,2,    0.016, -999.000,5, -999.000,5, -999.000,5,   -999.0,9,   -999.0,9,-999.0000,9, -999.000,9, -999.000,   -999.0,9,   -999.0,  10.3598,  26.3310
    49MR0505_1,   P03,     4,  1,     31, X12051,2,20051101,0027, 32.6375,-117.6793,  971,    248.6,2,   8.6120,2,   8.61217,2,  34.1375,2,  34.1407,2,    80.62,1,    81.43,2,    251.6,2,    70.29,2,    80.75,2,    38.68,2,     0.20,    29.34,2,     0.11,     0.05,2,     0.01,    2.314,2,    0.016,    1.699,6,    0.969,6,    0.088,6,   -999.0,9,   -999.0,9,-999.0000,9, -999.000,9, -999.000,   -999.0,9,   -999.0,   8.5859,  26.5077
    49MR0505_1,   P03,     4,  1,     30, X12042,2,20051101,0027, 32.6375,-117.6793,  971,    301.7,2,   8.3017,2,   8.30259,2,  34.2130,2,  34.2135,2,    58.04,1,    58.52,2,    301.8,2,    58.32,2,    58.78,2,    44.29,2,     0.22,    31.20,2,     0.12,     0.01,2,     0.01,    2.516,2,    0.016,    1.190,2,    0.675,2,    0.053,2,   -999.0,9,   -999.0,9,-999.0000,9, -999.000,9, -999.000,   -999.0,9,   -999.0,   8.2706,  26.6151
    49MR0505_1,   P03,     4,  1,     29, X12041,2,20051101,0027, 32.6375,-117.6793,  971,    401.1,2,   7.1781,2,   7.17749,2,  34.2361,2,  34.2359,2,    35.00,1,    34.70,2,    400.1,2,    34.69,2,    35.36,2,    58.36,2,     0.25,    35.26,2,     0.13,     0.01,2,     0.01,    2.824,2,    0.017,    0.582,2,    0.347,2,    0.041,2,   -999.0,9,   -999.0,9,-999.0000,9, -999.000,9, -999.000,   -999.0,9,   -999.0,   7.1399,  26.7976
    49MR0505_1,   P03,     4,  1,     28, X12016,2,20051101,0027, 32.6375,-117.6793,  971,    500.5,2,   6.4808,2,   6.48058,2,  34.2940,2,  34.2974,6,    17.88,1,    17.25,2,    501.2,2,    18.41,2,    17.48,2,    71.15,2,     0.28,    38.16,2,     0.14,     0.01,2,     0.01,    3.046,2,    0.018,    0.221,2,    0.132,2,    0.022,2,   -999.0,9,   -999.0,9,-999.0000,9, -999.000,9, -999.000,   -999.0,9,   -999.0,   6.4354,  26.9386
    49MR0505_1,   P03,     4,  1,     27, X12039,2,20051101,0027, 32.6375,-117.6793,  971,    600.3,2,   5.8942,2,   5.89392,2,  34.3377,2,  34.3380,2,    11.30,1,    10.71,2,    599.1,2,    11.44,2,    11.44,2,    81.50,2,     0.30,    39.77,2,     0.14,     0.00,2,     0.01,    3.174,2,    0.018,    0.124,2,    0.079,2,    0.023,2,   -999.0,9,   -999.0,9,-999.0000,9, -999.000,9, -999.000,   -999.0,9,   -999.0,   5.8420,  27.0492
    49MR0505_1,   P03,     4,  1,     26, X12038,2,20051101,0027, 32.6375,-117.6793,  971,    700.4,2,   5.2961,2,   5.29561,2,  34.3847,2,  34.3850,2,     9.12,1,     8.48,2,    700.8,2,     9.41,2,     9.59,2,    93.50,2,     0.32,    40.84,2,     0.15,     0.00,2,     0.01,    3.244,2,    0.018,    0.079,2,    0.082,2,    0.016,2,   -999.0,9,   -999.0,9,-999.0000,9, -999.000,9, -999.000,   -999.0,9,   -999.0,   5.2378,  27.1597
    49MR0505_1,   P03,     4,  1,     25, X12037,2,20051101,0027, 32.6375,-117.6793,  971,    800.0,2,   4.7106,2,   4.71026,2,  34.4321,2,  34.4324,2,    12.04,1,    11.22,2,    800.8,2,    12.19,2,    12.38,2,   105.18,2,     0.35,    42.01,2,     0.15,     0.01,2,     0.01,    3.278,2,    0.018,    0.068,6,    0.085,6,    0.021,6,   -999.0,9,   -999.0,9,-999.0000,9, -999.000,9, -999.000,   -999.0,9,   -999.0,   4.6470,  27.2650
    49MR0505_1,   P03,     4,  1,     24, X12008,2,20051101,0027, 32.6375,-117.6793,  971,    901.2,2,   4.3589,2,   4.35852,2,  34.4602,2,  34.4611,2,    15.36,1,    14.26,2,    901.9,2,    15.25,2,    15.76,2,   112.94,2,     0.37,    42.47,2,     0.15,     0.01,2,     0.01,    3.272,2,    0.018,    0.069,2,    0.118,2,    0.024,2,   -999.0,9,   -999.0,9,-999.0000,9, -999.000,9, -999.000,   -999.0,9,   -999.0,   4.2890,  27.3264
    49MR0505_1,   P03,     4,  1,     23, X12035,9,20051101,0027, 32.6375,-117.6793,  971,    199.1,2,  10.3893,2,  10.38989,2,  34.2858,2,-999.0000,9,    52.98,1,    54.31,2,    202.2,2,    72.08,2,  -999.00,9,  -999.00,9,  -999.00,  -999.00,9,  -999.00,  -999.00,9,  -999.00, -999.000,9, -999.000, -999.000,9, -999.000,9, -999.000,9,   -999.0,9,   -999.0,9,-999.0000,9, -999.000,9, -999.000,   -999.0,9,   -999.0,  10.3658,  26.3315
    49MR0505_1,   P03,     4,  1,     22, X12034,9,20051101,0027, 32.6375,-117.6793,  971,      9.9,2,  18.1372,2,  18.15382,2,  33.3469,2,-999.0000,9,   251.18,1,   255.52,2,      9.7,2,   259.18,2,  -999.00,9,  -999.00,9,  -999.00,  -999.00,9,  -999.00,  -999.00,9,  -999.00, -999.000,9, -999.000, -999.000,9, -999.000,9, -999.000,9,   -999.0,9,   -999.0,9,-999.0000,9, -999.000,9, -999.000,   -999.0,9,   -999.0,  18.1355,  23.9733
    49MR0505_1,   P03,     4,  1,     21, X12033,9,20051101,0027, 32.6375,-117.6793,  971,    151.0,2,  11.2695,2,  11.26896,2,  34.1991,2,-999.0000,9,    36.39,1,    37.85,2,    153.0,2,    40.43,2,  -999.00,9,  -999.00,9,  -999.00,  -999.00,9,  -999.00,  -999.00,9,  -999.00, -999.000,9, -999.000, -999.000,9, -999.000,9, -999.000,9,   -999.0,9,   -999.0,9,-999.0000,9, -999.000,9, -999.000,   -999.0,9,   -999.0,  11.2508,  26.1064
    49MR0505_1,   P03,     4,  1,     20, X12032,9,20051101,0027, 32.6375,-117.6793,  971,    199.4,2,  10.3817,2,  10.37990,2,  34.2830,2,-999.0000,9,    53.50,1,    55.08,2,    202.3,2,    72.00,2,  -999.00,9,  -999.00,9,  -999.00,  -999.00,9,  -999.00,  -999.00,9,  -999.00, -999.000,9, -999.000, -999.000,9, -999.000,9, -999.000,9,   -999.0,9,   -999.0,9,-999.0000,9, -999.000,9, -999.000,   -999.0,9,   -999.0,  10.3582,  26.3306
    49MR0505_1,   P03,     4,  1,     19, X12001,9,20051101,0027, 32.6375,-117.6793,  971,    248.6,2,   8.6096,2,   8.60939,2,  34.1369,2,-999.0000,9,    80.60,1,    81.30,2,    251.6,2,    70.29,2,  -999.00,9,  -999.00,9,  -999.00,  -999.00,9,  -999.00,  -999.00,9,  -999.00, -999.000,9, -999.000, -999.000,9, -999.000,9, -999.000,9,   -999.0,9,   -999.0,9,-999.0000,9, -999.000,9, -999.000,   -999.0,9,   -999.0,   8.5835,  26.5076
    49MR0505_1,   P03,     4,  1,     18, X12030,9,20051101,0027, 32.6375,-117.6793,  971,    301.5,2,   8.3090,2,   8.30488,2,  34.2137,2,-999.0000,9,    58.04,1,    58.40,2,    301.5,2,    58.45,2,  -999.00,9,  -999.00,9,  -999.00,  -999.00,9,  -999.00,  -999.00,9,  -999.00, -999.000,9, -999.000, -999.000,9, -999.000,9, -999.000,9,   -999.0,9,   -999.0,9,-999.0000,9, -999.000,9, -999.000,   -999.0,9,   -999.0,   8.2779,  26.6146
    49MR0505_1,   P03,     4,  1,     17, X12049,9,20051101,0027, 32.6375,-117.6793,  971,    301.4,2,   8.3128,2,   8.31088,2,  34.2145,2,-999.0000,9,    57.65,1,    58.36,2,    301.5,2,    58.42,2,  -999.00,9,  -999.00,9,  -999.00,  -999.00,9,  -999.00,  -999.00,9,  -999.00, -999.000,9, -999.000, -999.000,9, -999.000,9, -999.000,9,   -999.0,9,   -999.0,9,-999.0000,9, -999.000,9, -999.000,   -999.0,9,   -999.0,   8.2817,  26.6146
    49MR0505_1,   P03,     4,  1,     16, X12028,9,20051101,0027, 32.6375,-117.6793,  971,    401.1,2,   7.1816,2,   7.18147,2,  34.2362,2,-999.0000,9,    35.00,1,    34.56,2,    400.1,2,    34.69,2,  -999.00,9,  -999.00,9,  -999.00,  -999.00,9,  -999.00,  -999.00,9,  -999.00, -999.000,9, -999.000, -999.000,9, -999.000,9, -999.000,9,   -999.0,9,   -999.0,9,-999.0000,9, -999.000,9, -999.000,   -999.0,9,   -999.0,   7.1434,  26.7972
    49MR0505_1,   P03,     4,  1,     15, X12006,9,20051101,0027, 32.6375,-117.6793,  971,    400.8,2,   7.1789,2,   7.17947,2,  34.2363,2,-999.0000,9,    35.00,1,    34.46,2,    399.9,2,    34.69,2,  -999.00,9,  -999.00,9,  -999.00,  -999.00,9,  -999.00,  -999.00,9,  -999.00, -999.000,9, -999.000, -999.000,9, -999.000,9, -999.000,9,   -999.0,9,   -999.0,9,-999.0000,9, -999.000,9, -999.000,   -999.0,9,   -999.0,   7.1407,  26.7977
    49MR0505_1,   P03,     4,  1,     14, X12026,9,20051101,0027, 32.6375,-117.6793,  971,    500.5,2,   6.4793,2,   6.47942,2,  34.2941,2,-999.0000,9,    17.88,1,    17.18,2,    501.3,2,    18.40,2,  -999.00,9,  -999.00,9,  -999.00,  -999.00,9,  -999.00,  -999.00,9,  -999.00, -999.000,9, -999.000, -999.000,9, -999.000,9, -999.000,9,   -999.0,9,   -999.0,9,-999.0000,9, -999.000,9, -999.000,   -999.0,9,   -999.0,   6.4339,  26.9389
    49MR0505_1,   P03,     4,  1,     13, X12025,9,20051101,0027, 32.6375,-117.6793,  971,    500.4,2,   6.4788,2,   6.47845,2,  34.2941,2,-999.0000,9,    17.78,1,    17.06,2,    501.2,2,    18.41,2,  -999.00,9,  -999.00,9,  -999.00,  -999.00,9,  -999.00,  -999.00,9,  -999.00, -999.000,9, -999.000, -999.000,9, -999.000,9, -999.000,9,   -999.0,9,   -999.0,9,-999.0000,9, -999.000,9, -999.000,   -999.0,9,   -999.0,   6.4334,  26.9389
    49MR0505_1,   P03,     4,  1,     12, X12024,9,20051101,0027, 32.6375,-117.6793,  971,    600.3,2,   5.8907,2,   5.89076,2,  34.3380,2,-999.0000,9,    11.31,1,    10.69,2,    599.2,2,    11.43,2,  -999.00,9,  -999.00,9,  -999.00,  -999.00,9,  -999.00,  -999.00,9,  -999.00, -999.000,9, -999.000, -999.000,9, -999.000,9, -999.000,9,   -999.0,9,   -999.0,9,-999.0000,9, -999.000,9, -999.000,   -999.0,9,   -999.0,   5.8385,  27.0499
    49MR0505_1,   P03,     4,  1,     11, X12023,9,20051101,0027, 32.6375,-117.6793,  971,    600.3,2,   5.8938,2,   5.89293,2,  34.3379,2,-999.0000,9,    11.26,1,    10.63,2,    599.2,2,    11.43,2,  -999.00,9,  -999.00,9,  -999.00,  -999.00,9,  -999.00,  -999.00,9,  -999.00, -999.000,9, -999.000, -999.000,9, -999.000,9, -999.000,9,   -999.0,9,   -999.0,9,-999.0000,9, -999.000,9, -999.000,   -999.0,9,   -999.0,   5.8416,  27.0494
    49MR0505_1,   P03,     4,  1,     10, X12022,9,20051101,0027, 32.6375,-117.6793,  971,    700.8,2,   5.2922,2,   5.29254,2,  34.3851,2,-999.0000,9,     9.12,1,     8.51,2,    701.4,2,     9.41,2,  -999.00,9,  -999.00,9,  -999.00,  -999.00,9,  -999.00,  -999.00,9,  -999.00, -999.000,9, -999.000, -999.000,9, -999.000,9, -999.000,9,   -999.0,9,   -999.0,9,-999.0000,9, -999.000,9, -999.000,   -999.0,9,   -999.0,   5.2339,  27.1605
    49MR0505_1,   P03,     4,  1,      9, X12021,9,20051101,0027, 32.6375,-117.6793,  971,    700.9,2,   5.2874,2,   5.28790,2,  34.3856,2,-999.0000,9,     9.13,1,     8.58,2,    701.6,2,     9.41,2,  -999.00,9,  -999.00,9,  -999.00,  -999.00,9,  -999.00,  -999.00,9,  -999.00, -999.000,9, -999.000, -999.000,9, -999.000,9, -999.000,9,   -999.0,9,   -999.0,9,-999.0000,9, -999.000,9, -999.000,   -999.0,9,   -999.0,   5.2291,  27.1614
    49MR0505_1,   P03,     4,  1,      8, X12020,9,20051101,0027, 32.6375,-117.6793,  971,    799.5,2,   4.7105,2,   4.71016,2,  34.4321,2,-999.0000,9,    12.06,1,    11.24,2,    800.4,2,    12.18,2,  -999.00,9,  -999.00,9,  -999.00,  -999.00,9,  -999.00,  -999.00,9,  -999.00, -999.000,9, -999.000, -999.000,9, -999.000,9, -999.000,9,   -999.0,9,   -999.0,9,-999.0000,9, -999.000,9, -999.000,   -999.0,9,   -999.0,   4.6469,  27.2650
    49MR0505_1,   P03,     4,  1,      7, X12019,9,20051101,0027, 32.6375,-117.6793,  971,    799.6,2,   4.7095,2,   4.70937,2,  34.4320,2,-999.0000,9,    12.05,1,    11.20,2,    800.5,2,    12.18,2,  -999.00,9,  -999.00,9,  -999.00,  -999.00,9,  -999.00,  -999.00,9,  -999.00, -999.000,9, -999.000, -999.000,9, -999.000,9, -999.000,9,   -999.0,9,   -999.0,9,-999.0000,9, -999.000,9, -999.000,   -999.0,9,   -999.0,   4.6459,  27.2650
    49MR0505_1,   P03,     4,  1,      6, X12018,9,20051101,0027, 32.6375,-117.6793,  971,    901.4,2,   4.3606,2,   4.36006,2,  34.4601,2,-999.0000,9,    15.33,1,    14.28,2,    902.0,2,    15.25,2,  -999.00,9,  -999.00,9,  -999.00,  -999.00,9,  -999.00,  -999.00,9,  -999.00, -999.000,9, -999.000, -999.000,9, -999.000,9, -999.000,9,   -999.0,9,   -999.0,9,-999.0000,9, -999.000,9, -999.000,   -999.0,9,   -999.0,   4.2906,  27.3261
    49MR0505_1,   P03,     4,  1,      5, X12043,9,20051101,0027, 32.6375,-117.6793,  971,    901.2,2,   4.3609,2,   4.36083,2,  34.4600,2,-999.0000,9,    15.34,1,    14.32,2,    901.8,2,    15.25,2,  -999.00,9,  -999.00,9,  -999.00,  -999.00,9,  -999.00,  -999.00,9,  -999.00, -999.000,9, -999.000, -999.000,9, -999.000,9, -999.000,9,   -999.0,9,   -999.0,9,-999.0000,9, -999.000,9, -999.000,   -999.0,9,   -999.0,   4.2909,  27.3260
    49MR0505_1,   P03,     4,  1,      4, X12010,9,20051101,0027, 32.6375,-117.6793,  971,    199.2,2,  10.3791,2,  10.37885,2,  34.2826,2,-999.0000,9,    53.17,1,    54.77,2,    202.2,2,    72.07,2,  -999.00,9,  -999.00,9,  -999.00,  -999.00,9,  -999.00,  -999.00,9,  -999.00, -999.000,9, -999.000, -999.000,9, -999.000,9, -999.000,9,   -999.0,9,   -999.0,9,-999.0000,9, -999.000,9, -999.000,   -999.0,9,   -999.0,  10.3556,  26.3307
    49MR0505_1,   P03,     4,  1,      3, X12015,9,20051101,0027, 32.6375,-117.6793,  971,    199.1,2,  10.3693,2,  10.37063,2,  34.2808,2,-999.0000,9,    53.35,1,    55.34,2,    202.2,2,    72.11,2,  -999.00,9,  -999.00,9,  -999.00,  -999.00,9,  -999.00,  -999.00,9,  -999.00, -999.000,9, -999.000, -999.000,9, -999.000,9, -999.000,9,   -999.0,9,   -999.0,9,-999.0000,9, -999.000,9, -999.000,   -999.0,9,   -999.0,  10.3459,  26.3310
    49MR0505_1,   P03,     4,  1,      2, X12014,9,20051101,0027, 32.6375,-117.6793,  971,    988.6,2,   4.1903,2,   4.18976,2,  34.4735,2,-999.0000,9,    18.67,1,    17.31,2,    987.3,2,    19.19,2,  -999.00,9,  -999.00,9,  -999.00,  -999.00,9,  -999.00,  -999.00,9,  -999.00, -999.000,9, -999.000, -999.000,9, -999.000,9, -999.000,9,   -999.0,9,   -999.0,9,-999.0000,9, -999.000,9, -999.000,   -999.0,9,   -999.0,   4.1142,  27.3554
    49MR0505_1,   P03,     4,  1,      1, X12013,5,20051101,0027, 32.6375,-117.6793,  971,    988.6,2,   4.1897,2,   4.18922,2,  34.4732,2,  34.4763,6,    18.96,1,    17.49,2,    987.3,2,    19.19,2,    19.43,2,   116.14,2,     0.37,    42.85,2,     0.15,     0.00,2,     0.01,    3.271,2,    0.018,    0.052,2,    0.116,2,    0.024,2,   -999.0,9,   -999.0,9,-999.0000,9, -999.000,9, -999.000,   -999.0,9,   -999.0,   4.1136,  27.3553