BOTTLE,20100316JAMSTECRIGC
EXPOCODE,SECT,STNNBR,CASTNO,SAMPNO,BTLNBR,BTLNBR_FLAG_W,DATE,TIME,LATITUDE,LONGITUDE,DEPTH,CTDPRS,CTDPRS_FLAG_W,CTDTMP,CTDTMP_FLAG_W,SBE35,SBE35_FLAG_W,CTDSAL,CTDSAL_FLAG_W,SALNTY,SALNTY_FLAG_W,CTDOXY,CTDOXY_FLAG_W,OPTOXY,OPTOXY_FLAG_W,DWNPRS,DWNPRS_FLAG_W,DWNOXY,DWNOXY_FLAG_W,OXYGEN,OXYGEN_FLAG_W,SILCAT,SILCAT_FLAG_W,SILUNC,NITRAT,NITRAT_FLAG_W,NRAUNC,NITRIT,NITRIT_FLAG_W,NRIUNC,PHSPHT,PHSPHT_FLAG_W,PHPUNC,CFC-11,CFC-11_FLAG_W,CFC-12,CFC-12_FLAG_W,CFC113,CFC113_FLAG_W,TCARBN,TCARBN_FLAG_W,ALKALI,ALKALI_FLAG_W,PH,PH_FLAG_W,DELC13,DELC13_FLAG_W,C13ERR,DELC14,DELC14_FLAG_W,C14ERR,THETA,SIG0
,,,,,,,,UTC,DEG,DEG,M,DBAR,,ITS-90,,ITS-90,,PSS-78,,PSS-78,,UMOL/KG,,UMOL/KG,,DBAR,,UMOL/KG,,UMOL/KG,,UMOL/KG,,UMOL/KG,UMOL/KG,,UMOL/KG,UMOL/KG,,UMOL/KG,UMOL/KG,,UMOL/KG,PMOL/KG,,PMOL/KG,,PMOL/KG,,UMOL/KG,,UMOL/KG,,,,/MILLE,,/MILLE,/MILLE,,/MILLE,DEG C,KG/CUM
    49MR0505_1,   P03,    18,  1,      0,   -999,9,20051102,0957, 31.6708,-119.7193, 3745,   -999.0,9,-999.0000,9,-999.00000,9,-999.0000,9,  33.3996,2,  -999.00,9,  -999.00,9,   -999.0,9,  -999.00,9,  -999.00,9,  -999.00,9,  -999.00,  -999.00,9,  -999.00,  -999.00,9,  -999.00, -999.000,9, -999.000, -999.000,9, -999.000,9, -999.000,9,   -999.0,9,   -999.0,9,-999.0000,9, -999.000,9, -999.000,   -999.0,9,   -999.0,-999.0000,-999.0000
    49MR0505_1,   P03,    18,  1,     36, X12048,2,20051102,0957, 31.6708,-119.7193, 3745,     10.0,2,  17.6665,2,  17.66966,2,  33.3787,2,  33.3516,2,   236.73,1,   245.14,2,      7.9,2,   244.74,2,   244.91,2,     1.64,2,     0.12,     0.05,2,     0.03,     0.01,2,     0.01,    0.251,2,    0.015,    2.473,2,    1.443,2, -999.000,5,   1996.1,2,   -999.0,5,   7.9744,2, -999.000,9, -999.000,   -999.0,9,   -999.0,  17.6648,  24.1119
    49MR0505_1,   P03,    18,  1,     35, X12047,2,20051102,0957, 31.6708,-119.7193, 3745,     50.1,2,  13.4385,2,  13.43818,2,  33.2659,2,  33.2670,2,   230.15,1,   232.35,2,     46.4,2,   219.62,2,   231.01,2,     4.72,2,     0.13,     5.11,2,     0.05,     0.39,2,     0.00,    0.712,2,    0.013,    2.949,2,    1.680,2,    0.343,4,   2051.8,6,   2222.2,2,   7.8448,2, -999.000,9, -999.000,   -999.0,9,   -999.0,  13.4316,  24.9635
    49MR0505_1,   P03,    18,  1,     34, X12046,2,20051102,0957, 31.6708,-119.7193, 3745,     99.9,2,  10.3640,2,  10.36429,2,  33.8131,2,  33.8130,2,   117.65,1,   120.24,2,    101.5,2,   122.92,2,   119.29,2,    22.73,2,     0.17,    22.07,2,     0.09,     0.02,2,     0.01,    1.854,2,    0.015,    2.817,2,    1.516,2,    0.144,2,   2168.1,2,   2249.6,6,   7.5801,2, -999.000,9, -999.000,   -999.0,9,   -999.0,  10.3524,  25.9651
    49MR0505_1,   P03,    18,  1,     33, X12003,2,20051102,0957, 31.6708,-119.7193, 3745,    150.3,2,   9.9851,2,   9.98488,2,  34.1400,2,  34.1394,2,    85.69,1,    88.91,2,    152.2,2,    94.58,2,    87.68,2,    30.47,2,     0.19,    25.67,2,     0.10,     0.01,2,     0.01,    2.142,2,    0.015,    2.250,2,    1.169,2,    0.086,2,   2205.4,2,   2267.0,2,   7.5268,6, -999.000,9, -999.000,   -999.0,9,   -999.0,   9.9679,  26.2858
    49MR0505_1,   P03,    18,  1,     32, X12044,2,20051102,0957, 31.6708,-119.7193, 3745,    201.4,2,   8.5198,2,   8.52031,2,  34.0585,2,  34.0607,2,   100.94,1,   102.13,2,    202.1,2,    97.37,2,   101.96,2,    36.19,2,     0.20,    28.34,2,     0.11,     0.01,2,     0.01,    2.146,2,    0.015,    2.403,2,    1.224,2,    0.114,2,   2205.4,2,   2269.8,2,   7.5208,2, -999.000,9, -999.000,   -999.0,9,   -999.0,   8.4989,  26.4591
    49MR0505_1,   P03,    18,  1,     31, X12051,2,20051102,0957, 31.6708,-119.7193, 3745,    253.4,2,   8.1518,2,   8.15004,2,  34.1130,2,  34.1128,2,    81.77,1,    82.97,2,    250.7,2,    79.70,2,    83.47,2,    41.61,2,     0.21,    30.40,2,     0.12,     0.01,2,     0.01,    2.330,2,    0.016,    1.981,6,    0.989,6,    0.096,6,   2228.2,2,   2271.1,2,   7.4844,2, -999.000,9, -999.000,   -999.0,9,   -999.0,   8.1261,  26.5584
    49MR0505_1,   P03,    18,  1,     30, X12042,2,20051102,0957, 31.6708,-119.7193, 3745,    301.7,2,   7.5896,2,   7.59072,2,  34.1453,2,  34.1445,2,    64.00,1,    65.21,2,    299.1,2,    64.25,2,    64.95,2,    48.88,2,     0.23,    32.69,2,     0.12,     0.01,2,     0.01,    2.533,2,    0.016,    1.433,2,    0.721,2,    0.054,2,   2249.7,2,   2285.4,2,   7.4439,2, -999.000,9, -999.000,   -999.0,9,   -999.0,   7.5602,  26.6668
    49MR0505_1,   P03,    18,  1,     29, X12041,2,20051102,0957, 31.6708,-119.7193, 3745,    402.5,2,   6.8307,2,   6.83069,2,  34.2401,2,  34.2410,2,    29.35,1,    29.56,2,    397.6,2,    28.78,2,    29.61,2,    62.98,2,     0.26,    36.46,2,     0.13,     0.00,2,     0.01,    2.902,2,    0.017,    0.500,2,    0.277,2,    0.022,2,   2289.6,2,   2303.5,2,   7.3806,2, -999.000,9, -999.000,   -999.0,9,   -999.0,   6.7934,  26.8483
    49MR0505_1,   P03,    18,  1,     28, X12016,2,20051102,0957, 31.6708,-119.7193, 3745,    500.6,2,   6.1726,2,   6.17306,2,  34.3073,2,  34.3055,6,    14.65,1,    14.67,2,    496.1,2,    14.48,2,    14.64,2,    75.68,2,     0.29,    39.16,2,     0.14,     0.00,2,     0.01,    3.097,2,    0.018,    0.149,2,    0.088,2,    0.000,2,   2315.0,2,   2319.8,2,   7.3577,2, -999.000,9, -999.000,   -999.0,9,   -999.0,   6.1284,  26.9889
    49MR0505_1,   P03,    18,  1,     27, X12039,2,20051102,0957, 31.6708,-119.7193, 3745,    601.4,2,   5.5037,2,   5.50345,2,  34.3542,2,  34.3537,2,    10.28,1,    10.15,2,    601.1,2,    10.99,2,    10.80,2,    87.29,2,     0.31,    40.98,2,     0.15,     0.00,2,     0.01,    3.204,2,    0.018,    0.064,2,    0.039,2,    0.000,2,   2331.5,2,   2336.7,2,   7.3519,2, -999.000,9, -999.000,   -999.0,9,   -999.0,   5.4532,  27.1099
    49MR0505_1,   P03,    18,  1,     26, X12038,2,20051102,0957, 31.6708,-119.7193, 3745,    703.3,2,   4.9974,2,   4.99779,2,  34.4018,2,  34.4006,2,    10.96,1,    10.70,2,    705.0,2,    11.72,2,    11.71,2,    96.26,2,     0.33,    42.38,2,     0.15,     0.00,2,     0.01,    3.249,2,    0.018,    0.019,2,    0.011,2,    0.000,2,   2341.1,6,   2351.2,2,   7.3526,2, -999.000,9, -999.000,   -999.0,9,   -999.0,   4.9405,  27.2078
    49MR0505_1,   P03,    18,  1,     25, X12037,2,20051102,0957, 31.6708,-119.7193, 3745,    799.7,2,   4.5884,2,   4.58815,2,  34.4397,2,  34.4394,2,    14.14,1,    13.77,2,    802.9,2,    14.39,2,    14.34,2,   105.68,2,     0.35,    42.79,2,     0.15,     0.01,2,     0.01,    3.263,2,    0.018,    0.028,2,    0.025,2,    0.000,2,   2353.5,2,   2356.9,6,   7.3600,2, -999.000,9, -999.000,   -999.0,9,   -999.0,   4.5255,  27.2845
    49MR0505_1,   P03,    18,  1,     24, X12008,2,20051102,0957, 31.6708,-119.7193, 3745,    900.6,2,   4.1781,2,   4.17830,2,  34.4526,2,  34.4522,2,    17.54,1,    17.12,2,    901.9,2,    17.95,2,    17.76,2,   113.22,2,     0.37,    43.44,2,     0.15,     0.00,2,     0.01,    3.259,2,    0.018,    0.018,2,    0.014,2,    0.000,2,   2358.2,2,   2364.7,2,   7.3635,6, -999.000,9, -999.000,   -999.0,9,   -999.0,   4.1095,  27.3393
    49MR0505_1,   P03,    18,  1,     23, X12035,2,20051102,0957, 31.6708,-119.7193, 3745,   1000.5,2,   3.9122,2,   3.91227,2,  34.4806,2,  34.4808,6,    22.56,1,    22.16,2,   1002.5,2,    22.70,2,    22.72,2,   119.92,2,     0.38,    43.42,2,     0.15,     0.00,2,     0.01,    3.245,2,    0.018,    0.018,2,    0.017,2,    0.000,2,   2360.8,2,   2375.5,2,   7.3742,2, -999.000,9, -999.000,   -999.0,9,   -999.0,   3.8372,  27.3897
    49MR0505_1,   P03,    18,  1,     22, X12034,2,20051102,0957, 31.6708,-119.7193, 3745,   1204.6,2,   3.4218,2,   3.42177,2,  34.5191,2,  34.5189,2,    31.66,1,    31.22,2,   1206.0,2,    32.03,2,    32.18,2,   131.08,2,     0.41,    43.36,2,     0.15,     0.00,2,     0.01,    3.201,2,    0.018,    0.014,2,    0.013,2,    0.000,2,   2371.3,2,   2386.8,2,   7.3904,2, -999.000,9, -999.000,   -999.0,9,   -999.0,   3.3341,  27.4700
    49MR0505_1,   P03,    18,  1,     21, X12033,2,20051102,0957, 31.6708,-119.7193, 3745,   1401.4,2,   3.0317,2,   3.03182,2,  34.5551,2,  34.5552,2,    42.04,1,    41.91,2,   1402.5,2,    42.55,2,    43.10,2,   140.43,2,     0.43,    42.88,2,     0.15,     0.00,2,     0.01,    3.154,2,    0.018,    0.017,2,    0.020,2,    0.000,2,   2392.5,4,   2399.4,2,   7.4113,2, -999.000,9, -999.000,   -999.0,9,   -999.0,   2.9317,  27.5361
    49MR0505_1,   P03,    18,  1,     20, X12032,2,20051102,0957, 31.6708,-119.7193, 3745,   1598.8,2,   2.6478,2,   2.64770,2,  34.5789,2,  34.5789,2,    52.66,1,    52.91,2,   1598.5,2,    54.20,2,    53.72,2,   149.58,2,     0.45,    42.38,2,     0.15,     0.00,2,     0.01,    3.092,2,    0.018,    0.008,2,    0.008,2,    0.000,2,   2377.0,2,   2408.6,2,   7.4289,6, -999.000,9, -999.000,   -999.0,9,   -999.0,   2.5360,  27.5901
    49MR0505_1,   P03,    18,  1,     19, X12001,2,20051102,0957, 31.6708,-119.7193, 3745,   1800.7,2,   2.3095,2,   2.30941,2,  34.6027,2,  34.6031,2,    64.86,1,    65.78,2,   1799.5,2,    67.72,2,    66.26,2,   158.14,2,     0.47,    41.72,2,     0.15,     0.00,2,     0.01,    3.015,2,    0.017,    0.003,2,    0.005,2,    0.000,2,   2375.3,2,   2420.3,2,   7.4518,2, -999.000,9, -999.000,   -999.0,9,   -999.0,   2.1853,  27.6385
    49MR0505_1,   P03,    18,  1,     18, X12030,2,20051102,0957, 31.6708,-119.7193, 3745,   2000.4,2,   2.0690,2,   2.06902,2,  34.6279,2,  34.6287,2,    79.80,1,    81.37,2,   2000.0,2,    82.40,2,    81.80,2,   161.82,2,     0.48,    40.83,2,     0.15,     0.00,2,     0.01,    2.931,2,    0.017,    0.000,2,    0.000,2,    0.000,2,   2370.6,2,   2425.0,2,   7.4814,2, -999.000,9, -999.000,   -999.0,9,   -999.0,   1.9315,  27.6790
    49MR0505_1,   P03,    18,  1,     17, X12049,2,20051102,0957, 31.6708,-119.7193, 3745,   2200.6,2,   1.9230,2,   1.92304,2,  34.6421,2,  34.6420,6,    89.88,1,    91.71,2,   2200.7,2,    92.13,2,    92.06,2,   163.31,2,     0.48,    40.11,2,     0.15,     0.00,2,     0.01,    2.868,2,    0.017,    0.003,2,    0.001,2,    0.000,2,   2370.2,3,   2430.3,2,   7.5014,2, -999.000,9, -999.000,   -999.0,9,   -999.0,   1.7707,  27.7027
    49MR0505_1,   P03,    18,  1,     16, X12028,2,20051102,0957, 31.6708,-119.7193, 3745,   2401.7,2,   1.8185,2,   1.81865,2,  34.6520,2,  34.6520,2,    97.79,1,    99.80,2,   2402.3,2,    99.50,2,   100.04,2,   164.49,2,     0.48,    39.61,2,     0.14,     0.00,2,     0.01,    2.818,2,    0.017,    0.000,2,    0.000,2,    0.000,2,   2365.1,6,   2430.0,2,   7.5146,2, -999.000,9, -999.000,   -999.0,9,   -999.0,   1.6504,  27.7198
    49MR0505_1,   P03,    18,  1,     15, X12006,3,20051102,0957, 31.6708,-119.7193, 3745,   2600.6,2,   1.7421,2,   1.74229,2,  34.6591,2,  34.6574,4,   104.25,1,   106.44,2,   2600.7,2,   106.66,2,   106.74,2,   165.42,2,     0.48,    39.16,2,     0.14,     0.00,2,     0.01,    2.778,2,    0.017,    0.017,2,    0.021,2,    0.000,2,   2359.6,2,   2429.6,6,   7.5282,2, -999.000,9, -999.000,   -999.0,9,   -999.0,   1.5575,  27.7324
    49MR0505_1,   P03,    18,  1,     14, X12026,2,20051102,0957, 31.6708,-119.7193, 3745,   2801.2,2,   1.6902,2,   1.69026,2,  34.6642,2,  34.6639,2,   109.23,1,   111.38,2,   2801.1,2,   111.98,2,   111.75,2,   166.24,2,     0.48,    38.89,2,     0.14,     0.00,2,     0.01,    2.751,2,    0.017,    0.003,2,    0.003,2,    0.000,2,   2360.0,2,   2433.8,2,   7.5362,6, -999.000,9, -999.000,   -999.0,9,   -999.0,   1.4881,  27.7416
    49MR0505_1,   P03,    18,  1,     13, X12025,2,20051102,0957, 31.6708,-119.7193, 3745,   3002.3,2,   1.6375,2,   1.63753,2,  34.6688,2,  34.6688,2,   114.37,1,   116.32,2,   3002.3,2,   116.87,2,   116.87,2,   167.22,2,     0.49,    38.60,2,     0.14,     0.00,2,     0.01,    2.724,2,    0.017,    0.003,2,    0.008,2,    0.000,2,   2360.4,3,   2432.0,2,   7.5465,2, -999.000,9, -999.000,   -999.0,9,   -999.0,   1.4175,  27.7504
    49MR0505_1,   P03,    18,  1,     12, X12024,2,20051102,0957, 31.6708,-119.7193, 3745,   3251.0,2,   1.6057,2,   1.60569,2,  34.6723,2,  34.6720,6,   118.53,1,   120.27,2,   3251.2,2,   120.62,2,   120.54,2,   167.77,2,     0.49,    38.37,2,     0.14,     0.00,2,     0.01,    2.700,2,    0.017,    0.007,2,    0.009,2,    0.000,2,   2351.9,2,   2435.4,2,   7.5538,2, -999.000,9, -999.000,   -999.0,9,   -999.0,   1.3621,  27.7571
    49MR0505_1,   P03,    18,  1,     11, X12023,2,20051102,0957, 31.6708,-119.7193, 3745,   3498.9,2,   1.5799,2,   1.57992,2,  34.6755,2,  34.6758,2,   122.42,1,   123.93,2,   3499.1,2,   124.14,2,   124.47,2,   168.78,2,     0.49,    38.13,2,     0.14,     0.00,2,     0.01,    2.684,2,    0.017,    0.019,2,    0.015,2,    0.000,2,   2353.6,2,   2433.8,2,   7.5597,2, -999.000,9, -999.000,   -999.0,9,   -999.0,   1.3119,  27.7633
    49MR0505_1,   P03,    18,  1,     10, X12022,2,20051102,0957, 31.6708,-119.7193, 3745,   3750.3,2,   1.5577,2,   1.55762,2,  34.6789,2,  34.6789,2,   126.04,1,   126.75,2,   3750.3,2,   127.45,2,   127.23,2,   170.16,2,     0.49,    37.86,2,     0.14,     0.00,2,     0.01,    2.662,2,    0.017,    0.034,2,    0.029,2,    0.000,2,   2353.3,2,   2437.2,2,   7.5671,2, -999.000,9, -999.000,   -999.0,9,   -999.0,   1.2641,  27.7693
    49MR0505_1,   P03,    18,  1,      9, X12021,9,20051102,0957, 31.6708,-119.7193, 3745,     10.0,2,  17.6442,2,  17.64279,2,  33.3757,2,-999.0000,9,   237.00,1,   245.03,2,      8.0,2,   244.98,2,  -999.00,9,  -999.00,9,  -999.00,  -999.00,9,  -999.00,  -999.00,9,  -999.00, -999.000,9, -999.000, -999.000,9, -999.000,9, -999.000,9,   -999.0,9,   -999.0,9,-999.0000,9, -999.000,9, -999.000,   -999.0,9,   -999.0,  17.6425,  24.1150
    49MR0505_1,   P03,    18,  1,      8, X12020,9,20051102,0957, 31.6708,-119.7193, 3745,     50.0,2,  13.4430,2,  13.44449,2,  33.2667,2,-999.0000,9,   230.00,1,   233.97,2,     46.4,2,   219.63,2,  -999.00,9,  -999.00,9,  -999.00,  -999.00,9,  -999.00,  -999.00,9,  -999.00, -999.000,9, -999.000, -999.000,9, -999.000,9, -999.000,9,   -999.0,9,   -999.0,9,-999.0000,9, -999.000,9, -999.000,   -999.0,9,   -999.0,  13.4361,  24.9632
    49MR0505_1,   P03,    18,  1,      7, X12019,9,20051102,0957, 31.6708,-119.7193, 3745,     99.9,2,  10.3633,2,  10.36338,2,  33.8124,2,-999.0000,9,   117.60,1,   120.28,2,    101.4,2,   123.19,2,  -999.00,9,  -999.00,9,  -999.00,  -999.00,9,  -999.00,  -999.00,9,  -999.00, -999.000,9, -999.000, -999.000,9, -999.000,9, -999.000,9,   -999.0,9,   -999.0,9,-999.0000,9, -999.000,9, -999.000,   -999.0,9,   -999.0,  10.3517,  25.9646
    49MR0505_1,   P03,    18,  1,      6, X12018,9,20051102,0957, 31.6708,-119.7193, 3745,    150.4,2,   9.9902,2,   9.98420,2,  34.1395,2,-999.0000,9,    85.70,1,    88.62,2,    152.4,2,    95.00,2,  -999.00,9,  -999.00,9,  -999.00,  -999.00,9,  -999.00,  -999.00,9,  -999.00, -999.000,9, -999.000, -999.000,9, -999.000,9, -999.000,9,   -999.0,9,   -999.0,9,-999.0000,9, -999.000,9, -999.000,   -999.0,9,   -999.0,   9.9730,  26.2846
    49MR0505_1,   P03,    18,  1,      5, X12043,9,20051102,0957, 31.6708,-119.7193, 3745,    200.1,2,   8.5404,2,   8.53894,2,  34.0554,2,-999.0000,9,   100.84,1,   102.61,2,    200.6,2,    95.42,2,  -999.00,9,  -999.00,9,  -999.00,  -999.00,9,  -999.00,  -999.00,9,  -999.00, -999.000,9, -999.000, -999.000,9, -999.000,9, -999.000,9,   -999.0,9,   -999.0,9,-999.0000,9, -999.000,9, -999.000,   -999.0,9,   -999.0,   8.5196,  26.4535
    49MR0505_1,   P03,    18,  1,      4, X12010,9,20051102,0957, 31.6708,-119.7193, 3745,    253.2,2,   8.1601,2,   8.15851,2,  34.1133,2,-999.0000,9,    81.64,1,    83.13,2,    250.4,2,    79.76,2,  -999.00,9,  -999.00,9,  -999.00,  -999.00,9,  -999.00,  -999.00,9,  -999.00, -999.000,9, -999.000, -999.000,9, -999.000,9, -999.000,9,   -999.0,9,   -999.0,9,-999.0000,9, -999.000,9, -999.000,   -999.0,9,   -999.0,   8.1344,  26.5574
    49MR0505_1,   P03,    18,  1,      3, X12015,9,20051102,0957, 31.6708,-119.7193, 3745,    301.7,2,   7.5904,2,   7.59167,2,  34.1454,2,-999.0000,9,    64.06,1,    65.28,2,    299.2,2,    64.25,2,  -999.00,9,  -999.00,9,  -999.00,  -999.00,9,  -999.00,  -999.00,9,  -999.00, -999.000,9, -999.000, -999.000,9, -999.000,9, -999.000,9,   -999.0,9,   -999.0,9,-999.0000,9, -999.000,9, -999.000,   -999.0,9,   -999.0,   7.5610,  26.6667
    49MR0505_1,   P03,    18,  1,      2, X12014,9,20051102,0957, 31.6708,-119.7193, 3745,    402.5,2,   6.8310,2,   6.83096,2,  34.2400,2,-999.0000,9,    29.47,1,    29.65,2,    397.6,2,    28.78,2,  -999.00,9,  -999.00,9,  -999.00,  -999.00,9,  -999.00,  -999.00,9,  -999.00, -999.000,9, -999.000, -999.000,9, -999.000,9, -999.000,9,   -999.0,9,   -999.0,9,-999.0000,9, -999.000,9, -999.000,   -999.0,9,   -999.0,   6.7937,  26.8482
    49MR0505_1,   P03,    18,  1,      1, X12013,2,20051102,0957, 31.6708,-119.7193, 3745,   3776.7,2,   1.5589,2,   1.55881,2,  34.6790,2,  34.6786,6,   126.57,1,   127.22,2,   3776.7,2,   127.42,2,   127.77,2,   170.01,2,     0.49,    37.93,2,     0.14,     0.01,2,     0.01,    2.658,2,    0.017,    0.038,2,    0.035,2,    0.000,2,   2352.4,2,   2435.4,2,   7.5673,2, -999.000,9, -999.000,   -999.0,9,   -999.0,   1.2624,  27.7695