BOTTLE,20100316JAMSTECRIGC
EXPOCODE,SECT,STNNBR,CASTNO,SAMPNO,BTLNBR,BTLNBR_FLAG_W,DATE,TIME,LATITUDE,LONGITUDE,DEPTH,CTDPRS,CTDPRS_FLAG_W,CTDTMP,CTDTMP_FLAG_W,SBE35,SBE35_FLAG_W,CTDSAL,CTDSAL_FLAG_W,SALNTY,SALNTY_FLAG_W,CTDOXY,CTDOXY_FLAG_W,OPTOXY,OPTOXY_FLAG_W,DWNPRS,DWNPRS_FLAG_W,DWNOXY,DWNOXY_FLAG_W,OXYGEN,OXYGEN_FLAG_W,SILCAT,SILCAT_FLAG_W,SILUNC,NITRAT,NITRAT_FLAG_W,NRAUNC,NITRIT,NITRIT_FLAG_W,NRIUNC,PHSPHT,PHSPHT_FLAG_W,PHPUNC,CFC-11,CFC-11_FLAG_W,CFC-12,CFC-12_FLAG_W,CFC113,CFC113_FLAG_W,TCARBN,TCARBN_FLAG_W,ALKALI,ALKALI_FLAG_W,PH,PH_FLAG_W,DELC13,DELC13_FLAG_W,C13ERR,DELC14,DELC14_FLAG_W,C14ERR,THETA,SIG0
,,,,,,,,UTC,DEG,DEG,M,DBAR,,ITS-90,,ITS-90,,PSS-78,,PSS-78,,UMOL/KG,,UMOL/KG,,DBAR,,UMOL/KG,,UMOL/KG,,UMOL/KG,,UMOL/KG,UMOL/KG,,UMOL/KG,UMOL/KG,,UMOL/KG,UMOL/KG,,UMOL/KG,PMOL/KG,,PMOL/KG,,PMOL/KG,,UMOL/KG,,UMOL/KG,,,,/MILLE,,/MILLE,/MILLE,,/MILLE,DEG C,KG/CUM
    49MR0505_1,   P03,    22,  1,      0,   -999,9,20051102,1919, 31.2278,-120.5527, 3810,   -999.0,9,-999.0000,9,-999.00000,9,-999.0000,9,  33.2529,2,  -999.00,9,  -999.00,9,   -999.0,9,  -999.00,9,  -999.00,9,  -999.00,9,  -999.00,  -999.00,9,  -999.00,  -999.00,9,  -999.00, -999.000,9, -999.000, -999.000,9, -999.000,9, -999.000,9,   -999.0,9,   -999.0,9,-999.0000,9, -999.000,9, -999.000,   -999.0,9,   -999.0,-999.0000,-999.0000
    49MR0505_1,   P03,    22,  1,     36, X12048,2,20051102,1919, 31.2278,-120.5527, 3810,      9.9,2,  18.4380,2,  18.43021,2,  33.2635,2,  33.2585,2,   232.94,1,   240.72,2,      9.9,2,   240.30,2,   240.38,2,     1.85,2,     0.12,     0.05,2,     0.03,     0.01,2,     0.01,    0.293,2,    0.014,    2.393,2,    1.407,2, -999.000,5,   -999.0,9,   -999.0,9,-999.0000,9, -999.000,9, -999.000,   -999.0,9,   -999.0,  18.4363,  23.8353
    49MR0505_1,   P03,    22,  1,     35, X12047,2,20051102,1919, 31.2278,-120.5527, 3810,     49.6,2,  16.7666,2,  16.76603,2,  33.2221,2,  33.2213,2,   248.28,1,   257.05,2,     52.4,2,   252.47,2,   255.48,2,     1.87,2,     0.12,     0.05,2,     0.03,     0.00,2,     0.01,    0.290,2,    0.014,    2.631,2,    1.507,2, -999.000,5,   -999.0,9,   -999.0,9,-999.0000,9, -999.000,9, -999.000,   -999.0,9,   -999.0,  16.7586,  24.2065
    49MR0505_1,   P03,    22,  1,     34, X12046,2,20051102,1919, 31.2278,-120.5527, 3810,     98.9,2,  11.9860,2,  11.98307,2,  33.2543,2,  33.2553,2,   215.89,1,   221.38,2,     96.0,2,   220.74,2,   221.90,2,     6.84,2,     0.13,     7.88,2,     0.05,     0.03,2,     0.01,    0.844,2,    0.013,    3.170,2,    1.752,2,    0.270,4,   -999.0,9,   -999.0,9,-999.0000,9, -999.000,9, -999.000,   -999.0,9,   -999.0,  11.9734,  25.2385
    49MR0505_1,   P03,    22,  1,     33, X12003,2,20051102,1919, 31.2278,-120.5527, 3810,    149.1,2,   9.4063,2,   9.40724,2,  33.5680,2,  33.5676,2,   159.96,1,   164.43,2,    147.4,2,   164.34,2,   164.32,2,    20.21,2,     0.16,    20.70,2,     0.09,     0.01,2,     0.01,    1.632,2,    0.014,    3.318,2,    1.726,2,    0.175,2,   -999.0,9,   -999.0,9,-999.0000,9, -999.000,9, -999.000,   -999.0,9,   -999.0,   9.3900,  25.9345
    49MR0505_1,   P03,    22,  1,     32, X12044,2,20051102,1919, 31.2278,-120.5527, 3810,    199.6,2,   8.7241,2,   8.72427,2,  33.9766,2,  33.9754,2,   124.96,1,   128.18,2,    201.9,2,   132.81,2,   128.06,2,    30.58,2,     0.19,    25.62,2,     0.10,     0.00,2,     0.01,    1.930,2,    0.015,    2.831,2,    1.412,2,    0.126,2,   -999.0,9,   -999.0,9,-999.0000,9, -999.000,9, -999.000,   -999.0,9,   -999.0,   8.7031,  26.3634
    49MR0505_1,   P03,    22,  1,     31, X12051,2,20051102,1919, 31.2278,-120.5527, 3810,    250.3,2,   8.0362,2,   8.03650,2,  34.0651,2,  34.0637,2,    95.96,1,    98.53,2,    253.5,2,    99.29,2,    98.42,2,    39.95,2,     0.21,    29.70,2,     0.12,     0.00,2,     0.01,    2.217,2,    0.016,    2.292,6,    1.102,6,    0.102,6,   -999.0,9,   -999.0,9,-999.0000,9, -999.000,9, -999.000,   -999.0,9,   -999.0,   8.0111,  26.5379
    49MR0505_1,   P03,    22,  1,     30, X12042,2,20051102,1919, 31.2278,-120.5527, 3810,    301.7,2,   7.3797,2,   7.37925,2,  34.0935,2,  34.0928,2,    72.82,1,    74.58,2,    304.7,2,    77.44,2,    74.69,2,    48.89,2,     0.23,    32.84,2,     0.12,     0.00,2,     0.01,    2.474,2,    0.016,    1.737,2,    0.819,2,    0.064,2,   -999.0,9,   -999.0,9,-999.0000,9, -999.000,9, -999.000,   -999.0,9,   -999.0,   7.3508,  26.6558
    49MR0505_1,   P03,    22,  1,     29, X12041,2,20051102,1919, 31.2278,-120.5527, 3810,    403.0,2,   6.4724,2,   6.47249,2,  34.1672,2,  34.1654,2,    38.62,1,    39.25,2,    404.4,2,    40.16,2,    39.72,2,    64.17,2,     0.26,    36.94,2,     0.14,     0.00,2,     0.01,    2.835,2,    0.017,    0.742,2,    0.344,2,    0.026,2,   -999.0,9,   -999.0,9,-999.0000,9, -999.000,9, -999.000,   -999.0,9,   -999.0,   6.4362,  26.8385
    49MR0505_1,   P03,    22,  1,     28, X12016,2,20051102,1919, 31.2278,-120.5527, 3810,    501.5,2,   5.7838,2,   5.78412,2,  34.2445,2,  34.2443,6,    18.92,1,    19.04,2,    502.7,2,    19.63,2,    19.11,2,    78.34,2,     0.29,    39.80,2,     0.14,     0.00,2,     0.01,    3.067,2,    0.018,    0.224,2,    0.103,2,    0.000,2,   -999.0,9,   -999.0,9,-999.0000,9, -999.000,9, -999.000,   -999.0,9,   -999.0,   5.7410,  26.9880
    49MR0505_1,   P03,    22,  1,     27, X12039,2,20051102,1919, 31.2278,-120.5527, 3810,    603.3,2,   5.4310,2,   5.43108,2,  34.3289,2,  34.3285,2,    11.11,1,    11.11,2,    604.2,2,    10.66,2,    11.09,2,    87.13,2,     0.31,    41.08,2,     0.15,     0.00,2,     0.01,    3.179,2,    0.018,    0.071,2,    0.043,2,    0.000,2,   -999.0,9,   -999.0,9,-999.0000,9, -999.000,9, -999.000,   -999.0,9,   -999.0,   5.3806,  27.0986
    49MR0505_1,   P03,    22,  1,     26, X12038,2,20051102,1919, 31.2278,-120.5527, 3810,    702.5,2,   5.0161,2,   5.01699,2,  34.3776,2,  34.3774,2,    10.47,1,    10.39,2,    700.4,2,    10.49,2,    10.49,2,    95.67,2,     0.33,    42.17,2,     0.15,     0.00,2,     0.01,    3.227,2,    0.018,    0.027,2,    0.014,2,    0.000,2,   -999.0,9,   -999.0,9,-999.0000,9, -999.000,9, -999.000,   -999.0,9,   -999.0,   4.9591,  27.1865
    49MR0505_1,   P03,    22,  1,     25, X12037,2,20051102,1919, 31.2278,-120.5527, 3810,    801.8,2,   4.6589,2,   4.65900,2,  34.4186,2,  34.4180,2,    12.75,1,    12.55,2,    800.5,2,    13.04,2,    13.00,2,   103.00,2,     0.35,    42.81,2,     0.15,     0.00,2,     0.01,    3.241,2,    0.018,    0.021,6,    0.015,6,    0.000,6,   -999.0,9,   -999.0,9,-999.0000,9, -999.000,9, -999.000,   -999.0,9,   -999.0,   4.5955,  27.2600
    49MR0505_1,   P03,    22,  1,     24, X12008,2,20051102,1919, 31.2278,-120.5527, 3810,    900.8,2,   4.3463,2,   4.34644,2,  34.4459,2,  34.4453,2,    16.25,1,    15.96,2,    899.4,2,    16.75,2,    16.43,2,   109.60,2,     0.36,    43.28,2,     0.15,     0.00,2,     0.01,    3.236,2,    0.018,    0.024,2,    0.015,2,    0.000,2,   -999.0,9,   -999.0,9,-999.0000,9, -999.000,9, -999.000,   -999.0,9,   -999.0,   4.2765,  27.3163
    49MR0505_1,   P03,    22,  1,     23, X12035,2,20051102,1919, 31.2278,-120.5527, 3810,   1000.9,2,   4.0062,2,   4.00628,2,  34.4728,2,  34.4726,6,    21.31,1,    21.01,2,   1000.2,2,    21.82,2,    21.64,2,   116.56,2,     0.38,    43.38,2,     0.15,     0.00,2,     0.01,    3.226,2,    0.018,    0.022,2,    0.010,2,    0.000,2,   -999.0,9,   -999.0,9,-999.0000,9, -999.000,9, -999.000,   -999.0,9,   -999.0,   3.9305,  27.3740
    49MR0505_1,   P03,    22,  1,     22, X12034,2,20051102,1919, 31.2278,-120.5527, 3810,   1203.0,2,   3.4821,2,   3.48243,2,  34.5230,2,  34.5229,2,    31.90,1,    31.64,2,   1203.1,2,    32.33,2,    32.58,2,   128.71,2,     0.40,    43.31,2,     0.15,     0.00,2,     0.01,    3.195,2,    0.018,    0.016,2,    0.013,2,    0.000,2,   -999.0,9,   -999.0,9,-999.0000,9, -999.000,9, -999.000,   -999.0,9,   -999.0,   3.3940,  27.4673
    49MR0505_1,   P03,    22,  1,     21, X12033,2,20051102,1919, 31.2278,-120.5527, 3810,   1403.8,2,   3.0414,2,   3.04129,2,  34.5549,2,  34.5546,2,    41.85,1,    41.90,2,   1404.6,2,    42.44,2,    42.98,2,   139.58,2,     0.43,    42.97,2,     0.15,     0.00,2,     0.01,    3.144,2,    0.018,    0.010,2,    0.003,2,    0.000,2,   -999.0,9,   -999.0,9,-999.0000,9, -999.000,9, -999.000,   -999.0,9,   -999.0,   2.9411,  27.5352
    49MR0505_1,   P03,    22,  1,     20, X12032,2,20051102,1919, 31.2278,-120.5527, 3810,   1599.0,2,   2.6754,2,   2.67523,2,  34.5823,2,  34.5824,2,    53.33,1,    53.84,2,   1599.7,2,    54.18,2,    54.70,2,   148.37,2,     0.45,    42.29,2,     0.15,     0.00,2,     0.01,    3.080,2,    0.018,    0.007,2,    0.006,2,    0.000,2,   -999.0,9,   -999.0,9,-999.0000,9, -999.000,9, -999.000,   -999.0,9,   -999.0,   2.5632,  27.5905
    49MR0505_1,   P03,    22,  1,     19, X12001,2,20051102,1919, 31.2278,-120.5527, 3810,   1801.9,2,   2.3678,2,   2.36780,2,  34.6039,2,  34.6039,6,    64.79,1,    65.90,2,   1802.9,2,    65.68,2,    66.50,2,   155.12,2,     0.46,    41.68,2,     0.15,     0.00,2,     0.01,    3.010,2,    0.017,    0.001,2,    0.003,2,    0.000,2,   -999.0,9,   -999.0,9,-999.0000,9, -999.000,9, -999.000,   -999.0,9,   -999.0,   2.2427,  27.6348
    49MR0505_1,   P03,    22,  1,     18, X12030,2,20051102,1919, 31.2278,-120.5527, 3810,   2000.1,2,   2.1113,2,   2.11125,2,  34.6239,2,  34.6242,2,    76.98,1,    78.53,2,   2001.1,2,    77.88,2,    79.00,2,   160.89,2,     0.47,    40.85,2,     0.15,     0.00,2,     0.01,    2.931,2,    0.017,    0.001,2,    0.005,2,    0.000,2,   -999.0,9,   -999.0,9,-999.0000,9, -999.000,9, -999.000,   -999.0,9,   -999.0,   1.9732,  27.6725
    49MR0505_1,   P03,    22,  1,     17, X12049,2,20051102,1919, 31.2278,-120.5527, 3810,   2201.7,2,   1.9693,2,   1.96928,2,  34.6381,2,  34.6381,2,    86.57,1,    88.67,2,   2201.8,2,    89.43,2,    89.09,2,   162.56,2,     0.48,    40.23,2,     0.15,     0.00,2,     0.01,    2.868,2,    0.017, -999.000,9, -999.000,9, -999.000,9,   -999.0,9,   -999.0,9,-999.0000,9, -999.000,9, -999.000,   -999.0,9,   -999.0,   1.8161,  27.6961
    49MR0505_1,   P03,    22,  1,     16, X12028,2,20051102,1919, 31.2278,-120.5527, 3810,   2401.1,2,   1.8591,2,   1.85906,2,  34.6483,2,  34.6486,2,    94.80,1,    97.08,2,   2401.4,2,    97.43,2,    97.44,2,   164.07,2,     0.48,    39.69,2,     0.14,     0.00,2,     0.01,    2.827,2,    0.017,    0.001,2,    0.000,2,    0.000,2,   -999.0,9,   -999.0,9,-999.0000,9, -999.000,9, -999.000,   -999.0,9,   -999.0,   1.6903,  27.7138
    49MR0505_1,   P03,    22,  1,     15, X12006,2,20051102,1919, 31.2278,-120.5527, 3810,   2600.3,2,   1.7642,2,   1.76422,2,  34.6569,2,  34.6565,6,   102.09,1,   104.48,2,   2600.6,2,   104.92,2,   105.09,2,   165.66,2,     0.48,    39.26,2,     0.14,     0.00,2,     0.01,    2.790,2,    0.017, -999.000,9, -999.000,9, -999.000,9,   -999.0,9,   -999.0,9,-999.0000,9, -999.000,9, -999.000,   -999.0,9,   -999.0,   1.5792,  27.7290
    49MR0505_1,   P03,    22,  1,     14, X12026,2,20051102,1919, 31.2278,-120.5527, 3810,   2798.4,2,   1.7000,2,   1.69997,2,  34.6631,2,  34.6630,2,   108.23,1,   110.63,2,   2798.5,2,   111.38,2,   111.23,2,   166.05,2,     0.48,    38.92,2,     0.14,     0.00,2,     0.01,    2.756,2,    0.017,    0.000,2,    0.000,2,    0.000,2,   -999.0,9,   -999.0,9,-999.0000,9, -999.000,9, -999.000,   -999.0,9,   -999.0,   1.4980,  27.7400
    49MR0505_1,   P03,    22,  1,     13, X12025,2,20051102,1919, 31.2278,-120.5527, 3810,   2999.3,2,   1.6403,2,   1.64022,2,  34.6681,2,  34.6681,2,   113.52,1,   116.08,2,   2999.4,2,   116.64,2,   116.57,2,   167.02,2,     0.49,    38.53,2,     0.14,     0.00,2,     0.01,    2.725,2,    0.017, -999.000,9, -999.000,9, -999.000,9,   -999.0,9,   -999.0,9,-999.0000,9, -999.000,9, -999.000,   -999.0,9,   -999.0,   1.4205,  27.7496
    49MR0505_1,   P03,    22,  1,     12, X12024,2,20051102,1919, 31.2278,-120.5527, 3810,   3251.7,2,   1.5969,2,   1.59688,2,  34.6724,2,  34.6720,6,   118.58,1,   120.79,2,   3251.8,2,   121.69,2,   121.50,2,   168.00,2,     0.49,    38.18,2,     0.14,     0.00,2,     0.01,    2.687,2,    0.017,    0.012,2,    0.009,2,    0.000,2,   -999.0,9,   -999.0,9,-999.0000,9, -999.000,9, -999.000,   -999.0,9,   -999.0,   1.3534,  27.7578
    49MR0505_1,   P03,    22,  1,     11, X12023,2,20051102,1919, 31.2278,-120.5527, 3810,   3502.8,2,   1.5664,2,   1.56635,2,  34.6761,2,  34.6762,2,   123.08,1,   125.15,2,   3502.9,2,   125.79,2,   125.73,2,   168.85,2,     0.49,    37.93,2,     0.14,     0.00,2,     0.01,    2.672,2,    0.017, -999.000,9, -999.000,9, -999.000,9,   -999.0,9,   -999.0,9,-999.0000,9, -999.000,9, -999.000,   -999.0,9,   -999.0,   1.2983,  27.7647
    49MR0505_1,   P03,    22,  1,     10, X12022,2,20051102,1919, 31.2278,-120.5527, 3810,   3750.6,2,   1.5591,2,   1.55899,2,  34.6794,2,  34.6795,2,   127.05,1,   128.65,2,   3750.6,2,   129.07,2,   129.36,2,   169.34,2,     0.49,    37.72,2,     0.14,     0.00,2,     0.01,    2.652,2,    0.017,    0.016,2,    0.014,2,    0.000,2,   -999.0,9,   -999.0,9,-999.0000,9, -999.000,9, -999.000,   -999.0,9,   -999.0,   1.2654,  27.7696
    49MR0505_1,   P03,    22,  1,      9, X12021,5,20051102,1919, 31.2278,-120.5527, 3810,    199.9,2,   8.7238,2,   8.72405,2,  33.9768,2,-999.0000,9,   124.98,1,   128.19,2,    202.2,2,   132.40,2,  -999.00,9,  -999.00,9,  -999.00,  -999.00,9,  -999.00,  -999.00,9,  -999.00, -999.000,9, -999.000, -999.000,9, -999.000,9, -999.000,9,   -999.0,9,   -999.0,9,-999.0000,9, -999.000,9, -999.000,   -999.0,9,   -999.0,   8.7028,  26.3636
    49MR0505_1,   P03,    22,  1,      8, X12020,5,20051102,1919, 31.2278,-120.5527, 3810,    402.9,2,   6.4715,2,   6.47173,2,  34.1671,2,-999.0000,9,    38.64,1,    39.30,2,    404.3,2,    40.17,2,  -999.00,9,  -999.00,9,  -999.00,  -999.00,9,  -999.00,  -999.00,9,  -999.00, -999.000,9, -999.000, -999.000,9, -999.000,9, -999.000,9,   -999.0,9,   -999.0,9,-999.0000,9, -999.000,9, -999.000,   -999.0,9,   -999.0,   6.4353,  26.8385
    49MR0505_1,   P03,    22,  1,      7, X12019,5,20051102,1919, 31.2278,-120.5527, 3810,     98.8,2,  12.0116,2,  12.00300,2,  33.2547,2,-999.0000,9,   216.41,1,   221.84,2,     95.7,2,   221.28,2,  -999.00,9,  -999.00,9,  -999.00,  -999.00,9,  -999.00,  -999.00,9,  -999.00, -999.000,9, -999.000, -999.000,9, -999.000,9, -999.000,9,   -999.0,9,   -999.0,9,-999.0000,9, -999.000,9, -999.000,   -999.0,9,   -999.0,  11.9990,  25.2340
    49MR0505_1,   P03,    22,  1,      6, X12018,5,20051102,1919, 31.2278,-120.5527, 3810,    701.8,2,   5.0178,2,   5.01715,2,  34.3776,2,-999.0000,9,    10.46,1,    10.37,2,    699.7,2,    10.48,2,  -999.00,9,  -999.00,9,  -999.00,  -999.00,9,  -999.00,  -999.00,9,  -999.00, -999.000,9, -999.000, -999.000,9, -999.000,9, -999.000,9,   -999.0,9,   -999.0,9,-999.0000,9, -999.000,9, -999.000,   -999.0,9,   -999.0,   4.9609,  27.1863
    49MR0505_1,   P03,    22,  1,      5, X12043,5,20051102,1919, 31.2278,-120.5527, 3810,    999.8,2,   4.0076,2,   4.00730,2,  34.4724,2,-999.0000,9,    21.28,1,    20.97,2,    999.1,2,    21.79,2,  -999.00,9,  -999.00,9,  -999.00,  -999.00,9,  -999.00,  -999.00,9,  -999.00, -999.000,9, -999.000, -999.000,9, -999.000,9, -999.000,9,   -999.0,9,   -999.0,9,-999.0000,9, -999.000,9, -999.000,   -999.0,9,   -999.0,   3.9320,  27.3735
    49MR0505_1,   P03,    22,  1,      4, X12010,5,20051102,1919, 31.2278,-120.5527, 3810,   2000.0,2,   2.1113,2,   2.11120,2,  34.6239,2,-999.0000,9,    76.95,1,    78.56,2,   2001.1,2,    77.88,2,  -999.00,9,  -999.00,9,  -999.00,  -999.00,9,  -999.00,  -999.00,9,  -999.00, -999.000,9, -999.000, -999.000,9, -999.000,9, -999.000,9,   -999.0,9,   -999.0,9,-999.0000,9, -999.000,9, -999.000,   -999.0,9,   -999.0,   1.9732,  27.6725
    49MR0505_1,   P03,    22,  1,      3, X12015,5,20051102,1919, 31.2278,-120.5527, 3810,   2998.8,2,   1.6404,2,   1.64041,2,  34.6681,2,-999.0000,9,   113.54,1,   116.04,2,   2998.9,2,   116.61,2,  -999.00,9,  -999.00,9,  -999.00,  -999.00,9,  -999.00,  -999.00,9,  -999.00, -999.000,9, -999.000, -999.000,9, -999.000,9, -999.000,9,   -999.0,9,   -999.0,9,-999.0000,9, -999.000,9, -999.000,   -999.0,9,   -999.0,   1.4207,  27.7496
    49MR0505_1,   P03,    22,  1,      2, X12014,5,20051102,1919, 31.2278,-120.5527, 3810,   3855.1,2,   1.5611,2,   1.56089,2,  34.6797,2,-999.0000,9,   127.65,1,   128.95,2,   3855.1,2,   129.19,2,  -999.00,9,  -999.00,9,  -999.00,  -999.00,9,  -999.00,  -999.00,9,  -999.00, -999.000,9, -999.000, -999.000,9, -999.000,9, -999.000,9,   -999.0,9,   -999.0,9,-999.0000,9, -999.000,9, -999.000,   -999.0,9,   -999.0,   1.2562,  27.7705
    49MR0505_1,   P03,    22,  1,      1, X12013,2,20051102,1919, 31.2278,-120.5527, 3810,   3855.6,2,   1.5609,2,   1.56086,2,  34.6797,2,  34.6794,6,   127.66,1,   129.00,2,   3855.6,2,   129.20,2,   129.46,2,   169.24,2,     0.49,    37.65,2,     0.14,     0.00,2,     0.01,    2.656,2,    0.017,    0.038,2,    0.031,2,    0.000,2,   -999.0,9,   -999.0,9,-999.0000,9, -999.000,9, -999.000,   -999.0,9,   -999.0,   1.2559,  27.7705