BOTTLE,20100316JAMSTECRIGC
EXPOCODE,SECT,STNNBR,CASTNO,SAMPNO,BTLNBR,BTLNBR_FLAG_W,DATE,TIME,LATITUDE,LONGITUDE,DEPTH,CTDPRS,CTDPRS_FLAG_W,CTDTMP,CTDTMP_FLAG_W,SBE35,SBE35_FLAG_W,CTDSAL,CTDSAL_FLAG_W,SALNTY,SALNTY_FLAG_W,CTDOXY,CTDOXY_FLAG_W,OPTOXY,OPTOXY_FLAG_W,DWNPRS,DWNPRS_FLAG_W,DWNOXY,DWNOXY_FLAG_W,OXYGEN,OXYGEN_FLAG_W,SILCAT,SILCAT_FLAG_W,SILUNC,NITRAT,NITRAT_FLAG_W,NRAUNC,NITRIT,NITRIT_FLAG_W,NRIUNC,PHSPHT,PHSPHT_FLAG_W,PHPUNC,CFC-11,CFC-11_FLAG_W,CFC-12,CFC-12_FLAG_W,CFC113,CFC113_FLAG_W,TCARBN,TCARBN_FLAG_W,ALKALI,ALKALI_FLAG_W,PH,PH_FLAG_W,DELC13,DELC13_FLAG_W,C13ERR,DELC14,DELC14_FLAG_W,C14ERR,THETA,SIG0
,,,,,,,,UTC,DEG,DEG,M,DBAR,,ITS-90,,ITS-90,,PSS-78,,PSS-78,,UMOL/KG,,UMOL/KG,,DBAR,,UMOL/KG,,UMOL/KG,,UMOL/KG,,UMOL/KG,UMOL/KG,,UMOL/KG,UMOL/KG,,UMOL/KG,UMOL/KG,,UMOL/KG,PMOL/KG,,PMOL/KG,,PMOL/KG,,UMOL/KG,,UMOL/KG,,,,/MILLE,,/MILLE,/MILLE,,/MILLE,DEG C,KG/CUM
    49MR0505_1,   P03,   108,  1,      0,   -999,9,20051116,1133, 24.2690,-153.9537, 4877,   -999.0,9,-999.0000,9,-999.00000,9,-999.0000,9,  35.2373,2,  -999.00,9,  -999.00,9,   -999.0,9,  -999.00,9,  -999.00,9,  -999.00,9,  -999.00,  -999.00,9,  -999.00,  -999.00,9,  -999.00, -999.000,9, -999.000, -999.000,9, -999.000,9, -999.000,9,   -999.0,9,   -999.0,9,-999.0000,9, -999.000,9, -999.000,   -999.0,9,   -999.0,-999.0000,-999.0000
    49MR0505_1,   P03,   108,  1,     36, X12048,2,20051116,1133, 24.2690,-153.9537, 4877,      9.5,2,  24.5542,2,  24.55390,2,  35.2440,2,  35.2434,2,   194.63,1,   210.28,2,     15.6,2,   210.70,2,   210.68,2,     0.87,2,     0.12,     0.05,2,     0.03,     0.00,2,     0.01,    0.049,2,    0.035,    1.716,2,    1.033,2, -999.000,5,   -999.0,9,   -999.0,9,-999.0000,9, -999.000,9, -999.000,   -999.0,9,   -999.0,  24.5522,  23.6611
    49MR0505_1,   P03,   108,  1,     35, X12047,2,20051116,1133, 24.2690,-153.9537, 4877,     49.5,2,  24.5065,2,  24.50646,2,  35.2810,2,  35.2813,2,   195.28,1,   210.76,2,     48.9,2,   211.21,2,   211.12,2,     0.83,2,     0.12,     0.04,2,     0.03,     0.00,2,     0.01,    0.043,2,    0.039,    1.716,2,    1.042,2, -999.000,5,   -999.0,9,   -999.0,9,-999.0000,9, -999.000,9, -999.000,   -999.0,9,   -999.0,  24.4959,  23.7061
    49MR0505_1,   P03,   108,  1,     34, X12046,2,20051116,1133, 24.2690,-153.9537, 4877,     99.8,2,  22.8304,2,  22.83334,2,  35.2634,2,  35.2631,2,   203.80,1,   220.76,2,     97.4,2,   218.57,2,   220.25,2,     1.11,2,     0.12,     0.04,2,     0.03,     0.00,2,     0.01,    0.035,2,    0.045,    1.924,2,    1.168,2, -999.000,5,   -999.0,9,   -999.0,9,-999.0000,9, -999.000,9, -999.000,   -999.0,9,   -999.0,  22.8101,  24.1880
    49MR0505_1,   P03,   108,  1,     33, X12003,2,20051116,1133, 24.2690,-153.9537, 4877,    148.0,2,  21.3935,2,  21.39364,2,  35.2238,2,  35.2242,2,   188.54,1,   203.24,2,    145.8,2,   202.70,2,   203.90,2,     1.30,2,     0.12,     0.46,2,     0.03,     0.07,2,     0.01,    0.097,2,    0.022,    2.005,2,    1.185,2,    0.255,4,   -999.0,9,   -999.0,9,-999.0000,9, -999.000,9, -999.000,   -999.0,9,   -999.0,  21.3648,  24.5644
    49MR0505_1,   P03,   108,  1,     32, X12044,2,20051116,1133, 24.2690,-153.9537, 4877,    200.7,2,  18.7019,2,  18.69295,2,  34.8902,2,  34.8921,2,   183.60,1,   198.23,2,    204.5,2,   199.22,2,   198.04,2,     2.51,2,     0.12,     2.40,2,     0.04,     0.01,2,     0.01,    0.245,2,    0.015,    2.278,2,    1.299,2, -999.000,5,   -999.0,9,   -999.0,9,-999.0000,9, -999.000,9, -999.000,   -999.0,9,   -999.0,  18.6665,  25.0218
    49MR0505_1,   P03,   108,  1,     31, X12051,2,20051116,1133, 24.2690,-153.9537, 4877,    250.6,2,  16.4950,2,  16.49155,2,  34.6546,2,  34.6560,2,   191.67,1,   206.12,2,    246.3,2,   205.57,2,   206.99,2,     4.02,2,     0.13,     3.76,2,     0.04,     0.01,2,     0.01,    0.344,2,    0.014,    2.520,6,    1.417,6,    0.150,4,   -999.0,9,   -999.0,9,-999.0000,9, -999.000,9, -999.000,   -999.0,9,   -999.0,  16.4545,  25.3772
    49MR0505_1,   P03,   108,  1,     30, X12042,2,20051116,1133, 24.2690,-153.9537, 4877,    302.6,2,  13.7418,2,  13.75434,2,  34.3811,2,  34.3872,2,   195.88,1,   210.72,2,    295.3,2,   213.93,2,   211.18,2,     7.34,2,     0.14,     7.79,2,     0.05,     0.00,2,     0.01,    0.594,2,    0.013,    2.827,2,    1.526,2,    0.082,2,   -999.0,9,   -999.0,9,-999.0000,9, -999.000,9, -999.000,   -999.0,9,   -999.0,  13.6987,  25.7714
    49MR0505_1,   P03,   108,  1,     29, X12041,2,20051116,1133, 24.2690,-153.9537, 4877,    400.9,2,  10.4570,2,  10.45708,2,  34.1242,2,  34.1238,2,   189.58,1,   203.66,2,    391.5,2,   200.79,2,   204.07,2,    16.31,2,     0.15,    14.93,2,     0.07,     0.00,2,     0.01,    1.095,2,    0.013,    3.150,2,    1.598,2,    0.097,2,   -999.0,9,   -999.0,9,-999.0000,9, -999.000,9, -999.000,   -999.0,9,   -999.0,  10.4092,  26.1978
    49MR0505_1,   P03,   108,  1,     28, X12016,2,20051116,1133, 24.2690,-153.9537, 4877,    501.4,2,   8.1411,2,   8.14153,2,  34.0684,2,  34.0684,6,   133.02,1,   143.48,2,    491.5,2,   131.48,2,   143.52,2,    35.65,2,     0.20,    25.39,2,     0.10,     0.00,2,     0.01,    1.863,2,    0.015,    2.411,2,    1.134,2,    0.097,2,   -999.0,9,   -999.0,9,-999.0000,9, -999.000,9, -999.000,   -999.0,9,   -999.0,   8.0895,  26.5289
    49MR0505_1,   P03,   108,  1,     27, X12039,2,20051116,1133, 24.2690,-153.9537, 4877,    602.1,2,   6.2538,2,   6.25622,2,  34.0336,2,  34.0336,2,    86.43,1,    93.37,2,    595.2,2,    84.67,2,    92.57,2,    58.50,2,     0.25,    33.76,2,     0.13,     0.00,2,     0.01,    2.460,2,    0.016,    1.347,2,    0.615,2,    0.061,2,   -999.0,9,   -999.0,9,-999.0000,9, -999.000,9, -999.000,   -999.0,9,   -999.0,   6.2001,  26.7636
    49MR0505_1,   P03,   108,  1,     26, X12038,2,20051116,1133, 24.2690,-153.9537, 4877,    701.4,2,   5.0905,2,   5.09066,2,  34.1365,2,  34.1357,2,    36.84,1,    40.07,2,    696.6,2,    38.10,2,    39.49,2,    84.15,2,     0.30,    40.24,2,     0.15,     0.00,2,     0.01,    2.952,2,    0.017,    0.320,2,    0.152,2,    0.000,2,   -999.0,9,   -999.0,9,-999.0000,9, -999.000,9, -999.000,   -999.0,9,   -999.0,   5.0335,  26.9868
    49MR0505_1,   P03,   108,  1,     25, X12037,2,20051116,1133, 24.2690,-153.9537, 4877,    802.2,2,   4.5939,2,   4.59318,2,  34.2630,2,  34.2551,2,    20.33,1,    22.39,2,    798.9,2,    21.55,2,    21.55,2,    99.52,2,     0.34,    42.49,2,     0.15,     0.00,2,     0.01,    3.139,2,    0.018,    0.068,6,    0.037,6,    0.000,6,   -999.0,9,   -999.0,9,-999.0000,9, -999.000,9, -999.000,   -999.0,9,   -999.0,   4.5310,  27.1435
    49MR0505_1,   P03,   108,  1,     24, X12008,2,20051116,1133, 24.2690,-153.9537, 4877,    901.7,2,   4.2250,2,   4.22529,2,  34.3747,2,  34.3737,2,    21.90,1,    24.10,2,    901.0,2,    27.37,2,    23.55,2,   108.19,2,     0.36,    43.03,2,     0.15,     0.00,2,     0.01,    3.160,2,    0.018,    0.014,2,    0.012,2,    0.000,2,   -999.0,9,   -999.0,9,-999.0000,9, -999.000,9, -999.000,   -999.0,9,   -999.0,   4.1561,  27.2724
    49MR0505_1,   P03,   108,  1,     23, X12035,2,20051116,1133, 24.2690,-153.9537, 4877,   1001.9,2,   3.9578,2,   3.95803,2,  34.4570,2,  34.4561,6,    33.12,1,    35.87,2,   1003.9,2,    34.81,2,    35.57,2,   113.75,2,     0.37,    42.81,2,     0.15,     0.00,2,     0.01,    3.121,2,    0.018,    0.002,2,    0.005,2,    0.000,2,   -999.0,9,   -999.0,9,-999.0000,9, -999.000,9, -999.000,   -999.0,9,   -999.0,   3.8824,  27.3663
    49MR0505_1,   P03,   108,  1,     22, X12034,2,20051116,1133, 24.2690,-153.9537, 4877,   1198.6,2,   3.4614,2,   3.46136,2,  34.5186,2,  34.5187,2,    45.64,1,    49.49,2,   1199.0,2,    49.58,2,    49.11,2,   123.98,2,     0.39,    42.32,2,     0.15,     0.00,2,     0.01,    3.066,2,    0.018,    0.004,2,    0.001,2,    0.000,2,   -999.0,9,   -999.0,9,-999.0000,9, -999.000,9, -999.000,   -999.0,9,   -999.0,   3.3739,  27.4657
    49MR0505_1,   P03,   108,  1,     21, X12033,2,20051116,1133, 24.2690,-153.9537, 4877,   1399.3,2,   3.0386,2,   3.03903,2,  34.5525,2,  34.5527,2,    54.60,1,    59.31,2,   1400.6,2,    59.00,2,    58.97,2,   133.39,2,     0.41,    41.91,2,     0.15,     0.00,2,     0.01,    3.028,2,    0.018,    0.000,2,    0.001,2,    0.000,2,   -999.0,9,   -999.0,9,-999.0000,9, -999.000,9, -999.000,   -999.0,9,   -999.0,   2.9387,  27.5334
    49MR0505_1,   P03,   108,  1,     20, X12032,2,20051116,1133, 24.2690,-153.9537, 4877,   1600.4,2,   2.6665,2,   2.66640,2,  34.5807,2,  34.5810,2,    64.84,1,    70.67,2,   1600.9,2,    70.35,2,    70.47,2,   141.58,2,     0.43,    41.34,2,     0.15,     0.00,2,     0.01,    2.967,2,    0.017,    0.002,2,    0.001,2,    0.000,2,   -999.0,9,   -999.0,9,-999.0000,9, -999.000,9, -999.000,   -999.0,9,   -999.0,   2.5543,  27.5900
    49MR0505_1,   P03,   108,  1,     19, X12001,2,20051116,1133, 24.2690,-153.9537, 4877,   1801.3,2,   2.4021,2,   2.40225,2,  34.5986,2,  34.5989,6,    72.00,1,    78.51,2,   1801.8,2,    78.38,2,    78.23,2,   147.86,2,     0.44,    40.89,2,     0.15,     0.00,2,     0.01,    2.931,2,    0.017,    0.002,2,    0.000,2,    0.000,2,   -999.0,9,   -999.0,9,-999.0000,9, -999.000,9, -999.000,   -999.0,9,   -999.0,   2.2766,  27.6277
    49MR0505_1,   P03,   108,  1,     18, X12030,2,20051116,1133, 24.2690,-153.9537, 4877,   2001.3,2,   2.1578,2,   2.15818,2,  34.6125,2,  34.6126,2,    77.28,1,    84.33,2,   2001.2,2,    85.12,2,    83.89,2,   154.87,2,     0.46,    40.54,2,     0.15,     0.00,2,     0.01,    2.899,2,    0.017,    0.001,2,    0.000,2,    0.000,2,   -999.0,9,   -999.0,9,-999.0000,9, -999.000,9, -999.000,   -999.0,9,   -999.0,   2.0189,  27.6597
    49MR0505_1,   P03,   108,  1,     17, X12049,2,20051116,1133, 24.2690,-153.9537, 4877,   2201.7,2,   1.9645,2,   1.96445,2,  34.6284,2,  34.6286,2,    84.40,1,    92.15,2,   2202.2,2,    92.66,2,    91.97,2,   159.90,2,     0.47,    40.03,2,     0.14,     0.00,2,     0.01,    2.848,2,    0.017, -999.000,9, -999.000,9, -999.000,9,   -999.0,9,   -999.0,9,-999.0000,9, -999.000,9, -999.000,   -999.0,9,   -999.0,   1.8115,  27.6886
    49MR0505_1,   P03,   108,  1,     16, X12028,2,20051116,1133, 24.2690,-153.9537, 4877,   2401.7,2,   1.8474,2,   1.84725,2,  34.6394,2,  34.6395,2,    90.63,1,    99.14,2,   2401.2,2,    99.74,2,    98.76,2,   162.04,2,     0.48,    39.63,2,     0.14,     0.00,2,     0.01,    2.815,2,    0.017, -999.000,9, -999.000,9, -999.000,9,   -999.0,9,   -999.0,9,-999.0000,9, -999.000,9, -999.000,   -999.0,9,   -999.0,   1.6788,  27.7076
    49MR0505_1,   P03,   108,  1,     15, X12006,2,20051116,1133, 24.2690,-153.9537, 4877,   2601.8,2,   1.7016,2,   1.70161,2,  34.6508,2,  34.6510,2,    98.61,1,   107.74,2,   2602.4,2,   106.92,2,   107.47,2,   164.51,2,     0.48,    39.13,2,     0.14,     0.00,2,     0.01,    2.769,2,    0.017,    0.000,2,    0.001,2,    0.000,2,   -999.0,9,   -999.0,9,-999.0000,9, -999.000,9, -999.000,   -999.0,9,   -999.0,   1.5177,  27.7286
    49MR0505_1,   P03,   108,  1,     14, X12026,2,20051116,1133, 24.2690,-153.9537, 4877,   2799.9,2,   1.6103,2,   1.61033,2,  34.6591,2,  34.6592,2,   107.03,1,   117.07,2,   2800.2,2,   116.54,2,   116.69,2,   163.26,2,     0.48,    38.56,2,     0.14,     0.00,2,     0.01,    2.720,2,    0.017, -999.000,9, -999.000,9, -999.000,9,   -999.0,9,   -999.0,9,-999.0000,9, -999.000,9, -999.000,   -999.0,9,   -999.0,   1.4100,  27.7431
    49MR0505_1,   P03,   108,  1,     13, X12025,2,20051116,1133, 24.2690,-153.9537, 4877,   3001.8,2,   1.5549,2,   1.55504,2,  34.6669,2,  34.6668,6,   113.62,1,   124.23,2,   3001.9,2,   123.35,2,   124.07,2,   162.60,2,     0.48,    38.06,2,     0.14,     0.00,2,     0.01,    2.682,2,    0.017, -999.000,9, -999.000,9, -999.000,9,   -999.0,9,   -999.0,9,-999.0000,9, -999.000,9, -999.000,   -999.0,9,   -999.0,   1.3368,  27.7545
    49MR0505_1,   P03,   108,  1,     12, X12024,2,20051116,1133, 24.2690,-153.9537, 4877,   3249.7,2,   1.5086,2,   1.50861,2,  34.6743,2,  34.6739,2,   120.74,1,   131.79,2,   3249.7,2,   132.13,2,   131.77,2,   161.36,2,     0.47,    37.56,2,     0.14,     0.00,2,     0.01,    2.636,2,    0.017, -999.000,9, -999.000,9, -999.000,9,   -999.0,9,   -999.0,9,-999.0000,9, -999.000,9, -999.000,   -999.0,9,   -999.0,   1.2674,  27.7654
    49MR0505_1,   P03,   108,  1,     11, X12023,2,20051116,1133, 24.2690,-153.9537, 4877,   3501.2,2,   1.4722,2,   1.47221,2,  34.6787,2,  34.6785,2,   128.15,1,   139.41,2,   3501.2,2,   139.86,2,   139.79,2,   157.87,2,     0.47,    37.00,2,     0.14,     0.00,2,     0.01,    2.591,2,    0.016,    0.000,2,    0.000,2,    0.000,2,   -999.0,9,   -999.0,9,-999.0000,9, -999.000,9, -999.000,   -999.0,9,   -999.0,   1.2067,  27.7732
    49MR0505_1,   P03,   108,  1,     10, X12022,2,20051116,1133, 24.2690,-153.9537, 4877,   3752.5,2,   1.4547,2,   1.45466,2,  34.6830,2,  34.6831,2,   133.59,1,   144.96,2,   3752.5,2,   145.30,2,   145.34,2,   156.33,2,     0.46,    36.65,2,     0.14,     0.00,2,     0.01,    2.572,2,    0.016, -999.000,9, -999.000,9, -999.000,9,   -999.0,9,   -999.0,9,-999.0000,9, -999.000,9, -999.000,   -999.0,9,   -999.0,   1.1636,  27.7796
    49MR0505_1,   P03,   108,  1,      9, X12021,2,20051116,1133, 24.2690,-153.9537, 4877,   4001.7,2,   1.4527,2,   1.45269,2,  34.6857,2,  34.6864,2,   137.66,1,   149.01,2,   4001.8,2,   149.25,2,   149.28,2,   154.78,2,     0.46,    36.38,2,     0.13,     0.00,2,     0.01,    2.554,2,    0.016, -999.000,9, -999.000,9, -999.000,9,   -999.0,9,   -999.0,9,-999.0000,9, -999.000,9, -999.000,   -999.0,9,   -999.0,   1.1349,  27.7837
    49MR0505_1,   P03,   108,  1,      8, X12020,2,20051116,1133, 24.2690,-153.9537, 4877,   4252.7,2,   1.4633,2,   1.46337,2,  34.6876,2,  34.6878,6,   140.75,1,   151.79,2,   4252.6,2,   152.32,2,   152.09,2,   153.06,2,     0.46,    36.20,2,     0.13,     0.00,2,     0.01,    2.529,2,    0.016, -999.000,9, -999.000,9, -999.000,9,   -999.0,9,   -999.0,9,-999.0000,9, -999.000,9, -999.000,   -999.0,9,   -999.0,   1.1175,  27.7864
    49MR0505_1,   P03,   108,  1,      7, X12019,2,20051116,1133, 24.2690,-153.9537, 4877,   4501.1,2,   1.4800,2,   1.47994,2,  34.6888,2,  34.6891,2,   143.08,1,   153.71,2,   4501.1,2,   154.03,2,   154.02,2,   152.19,2,     0.45,    36.00,2,     0.13,     0.00,2,     0.01,    2.520,2,    0.016,    0.000,2,    0.001,2,    0.000,2,   -999.0,9,   -999.0,9,-999.0000,9, -999.000,9, -999.000,   -999.0,9,   -999.0,   1.1055,  27.7882
    49MR0505_1,   P03,   108,  1,      6, X12018,2,20051116,1133, 24.2690,-153.9537, 4877,   4751.3,2,   1.5029,2,   1.50283,2,  34.6895,2,  34.6900,2,   145.04,1,   155.00,2,   4751.4,2,   155.10,2,   155.14,2,   151.25,2,     0.45,    35.95,2,     0.13,     0.00,2,     0.01,    2.515,2,    0.016, -999.000,9, -999.000,9, -999.000,9,   -999.0,9,   -999.0,9,-999.0000,9, -999.000,9, -999.000,   -999.0,9,   -999.0,   1.0984,  27.7892
    49MR0505_1,   P03,   108,  1,      5, X12043,9,20051116,1133, 24.2690,-153.9537, 4877,    148.9,2,  21.3909,2,  21.39009,2,  35.2239,2,-999.0000,9,   188.57,1,   203.39,2,    146.5,2,   202.60,2,  -999.00,9,  -999.00,9,  -999.00,  -999.00,9,  -999.00,  -999.00,9,  -999.00, -999.000,9, -999.000, -999.000,9, -999.000,9, -999.000,9,   -999.0,9,   -999.0,9,-999.0000,9, -999.000,9, -999.000,   -999.0,9,   -999.0,  21.3620,  24.5653
    49MR0505_1,   P03,   108,  1,      4, X12010,9,20051116,1133, 24.2690,-153.9537, 4877,     98.9,2,  22.8395,2,  22.83827,2,  35.2630,2,-999.0000,9,   204.10,1,   220.15,2,     96.5,2,   218.91,2,  -999.00,9,  -999.00,9,  -999.00,  -999.00,9,  -999.00,  -999.00,9,  -999.00, -999.000,9, -999.000, -999.000,9, -999.000,9, -999.000,9,   -999.0,9,   -999.0,9,-999.0000,9, -999.000,9, -999.000,   -999.0,9,   -999.0,  22.8194,  24.1851
    49MR0505_1,   P03,   108,  1,      3, X12015,9,20051116,1133, 24.2690,-153.9537, 4877,     50.2,2,  24.5077,2,  24.50709,2,  35.2813,2,-999.0000,9,   194.97,1,   211.32,2,     49.5,2,   211.11,2,  -999.00,9,  -999.00,9,  -999.00,  -999.00,9,  -999.00,  -999.00,9,  -999.00, -999.000,9, -999.000, -999.000,9, -999.000,9, -999.000,9,   -999.0,9,   -999.0,9,-999.0000,9, -999.000,9, -999.000,   -999.0,9,   -999.0,  24.4970,  23.7060
    49MR0505_1,   P03,   108,  1,      2, X12014,9,20051116,1133, 24.2690,-153.9537, 4877,      9.4,2,  24.5487,2,  24.54870,2,  35.2441,2,-999.0000,9,   194.69,1,   210.43,2,     16.0,2,   210.55,2,  -999.00,9,  -999.00,9,  -999.00,  -999.00,9,  -999.00,  -999.00,9,  -999.00, -999.000,9, -999.000, -999.000,9, -999.000,9, -999.000,9,   -999.0,9,   -999.0,9,-999.0000,9, -999.000,9, -999.000,   -999.0,9,   -999.0,  24.5467,  23.6629
    49MR0505_1,   P03,   108,  1,      1, X12013,2,20051116,1133, 24.2690,-153.9537, 4877,   4934.1,2,   1.5160,2,   1.51599,2,  34.6904,2,  34.6910,6,   147.53,1,   156.96,2,   4934.1,2,   156.79,2,   156.87,2,   149.91,2,     0.45,    35.80,2,     0.13,     0.00,2,     0.01,    2.512,2,    0.016,    0.000,2,    0.001,2,    0.000,2,   -999.0,9,   -999.0,9,-999.0000,9, -999.000,9, -999.000,   -999.0,9,   -999.0,   1.0892,  27.7906