BOTTLE,20100316JAMSTECRIGC
EXPOCODE,SECT,STNNBR,CASTNO,SAMPNO,BTLNBR,BTLNBR_FLAG_W,DATE,TIME,LATITUDE,LONGITUDE,DEPTH,CTDPRS,CTDPRS_FLAG_W,CTDTMP,CTDTMP_FLAG_W,SBE35,SBE35_FLAG_W,CTDSAL,CTDSAL_FLAG_W,SALNTY,SALNTY_FLAG_W,CTDOXY,CTDOXY_FLAG_W,OPTOXY,OPTOXY_FLAG_W,DWNPRS,DWNPRS_FLAG_W,DWNOXY,DWNOXY_FLAG_W,OXYGEN,OXYGEN_FLAG_W,SILCAT,SILCAT_FLAG_W,SILUNC,NITRAT,NITRAT_FLAG_W,NRAUNC,NITRIT,NITRIT_FLAG_W,NRIUNC,PHSPHT,PHSPHT_FLAG_W,PHPUNC,CFC-11,CFC-11_FLAG_W,CFC-12,CFC-12_FLAG_W,CFC113,CFC113_FLAG_W,TCARBN,TCARBN_FLAG_W,ALKALI,ALKALI_FLAG_W,PH,PH_FLAG_W,DELC13,DELC13_FLAG_W,C13ERR,DELC14,DELC14_FLAG_W,C14ERR,THETA,SIG0
,,,,,,,,UTC,DEG,DEG,M,DBAR,,ITS-90,,ITS-90,,PSS-78,,PSS-78,,UMOL/KG,,UMOL/KG,,DBAR,,UMOL/KG,,UMOL/KG,,UMOL/KG,,UMOL/KG,UMOL/KG,,UMOL/KG,UMOL/KG,,UMOL/KG,UMOL/KG,,UMOL/KG,PMOL/KG,,PMOL/KG,,PMOL/KG,,UMOL/KG,,UMOL/KG,,,,/MILLE,,/MILLE,/MILLE,,/MILLE,DEG C,KG/CUM
    49MR0505_1,   P03,    53,  1,      0,   -999,9,20051107,0643, 24.2718,-131.6563, 4694,   -999.0,9,-999.0000,9,-999.00000,9,-999.0000,9,  34.8889,2,  -999.00,9,  -999.00,9,   -999.0,9,  -999.00,9,  -999.00,9,  -999.00,9,  -999.00,  -999.00,9,  -999.00,  -999.00,9,  -999.00, -999.000,9, -999.000, -999.000,9, -999.000,9, -999.000,9,   -999.0,9,   -999.0,9,-999.0000,9, -999.000,9, -999.000,   -999.0,9,   -999.0,-999.0000,-999.0000
    49MR0505_1,   P03,    53,  1,     36, X12048,2,20051107,0643, 24.2718,-131.6563, 4694,     10.2,2,  21.8039,2,  21.80406,2,  34.8847,2,  34.8846,2,   211.57,1,   222.32,2,     10.1,2,   221.78,2,   221.70,2,     1.32,2,     0.12,     0.03,2,     0.03,     0.00,2,     0.01,    0.154,2,    0.018,    1.929,2,    1.173,2, -999.000,5,   -999.0,9,   -999.0,9,-999.0000,9, -999.000,9, -999.000,   -999.0,9,   -999.0,  21.8019,  24.1855
    49MR0505_1,   P03,    53,  1,     35, X12047,2,20051107,0643, 24.2718,-131.6563, 4694,     49.7,2,  21.8005,2,  21.79980,2,  34.8809,2,  34.8821,2,   211.58,1,   221.77,2,     49.7,2,   221.68,2,   221.65,2,     1.28,2,     0.12,     0.02,2,     0.03,     0.01,2,     0.01,    0.153,2,    0.018,    1.937,2,    1.182,2, -999.000,5,   -999.0,9,   -999.0,9,-999.0000,9, -999.000,9, -999.000,   -999.0,9,   -999.0,  21.7908,  24.1857
    49MR0505_1,   P03,    53,  1,     34, X12046,2,20051107,0643, 24.2718,-131.6563, 4694,     99.9,2,  19.7639,2,  19.76373,2,  34.6981,2,  34.6866,2,   221.54,1,   232.32,2,     95.4,2,   228.96,2,   231.18,2,     1.70,2,     0.12,     0.02,2,     0.03,     0.00,2,     0.01,    0.137,2,    0.019,    2.239,2,    1.336,2, -999.000,5,   -999.0,9,   -999.0,9,-999.0000,9, -999.000,9, -999.000,   -999.0,9,   -999.0,  19.7456,  24.5981
    49MR0505_1,   P03,    53,  1,     33, X12003,2,20051107,0643, 24.2718,-131.6563, 4694,    150.2,2,  16.7857,2,  16.78259,2,  34.3542,2,  34.3132,2,   205.67,1,   215.28,2,    149.1,2,   212.46,2,   215.01,2,     3.11,2,     0.13,     2.23,2,     0.04,     0.04,2,     0.01,    0.339,2,    0.014,    2.532,2,    1.481,2,    0.256,4,   -999.0,9,   -999.0,9,-999.0000,9, -999.000,9, -999.000,   -999.0,9,   -999.0,  16.7613,  25.0749
    49MR0505_1,   P03,    53,  1,     32, X12044,2,20051107,0643, 24.2718,-131.6563, 4694,    201.9,2,  12.3384,2,  12.33199,2,  33.8526,2,  33.8417,2,   193.60,1,   201.91,2,    198.8,2,   203.89,2,   201.75,2,     9.13,2,     0.14,     9.99,2,     0.06,     0.01,2,     0.01,    0.870,2,    0.013,    2.949,2,    1.716,2,    0.128,2,   -999.0,9,   -999.0,9,-999.0000,9, -999.000,9, -999.000,   -999.0,9,   -999.0,  12.3119,  25.6385
    49MR0505_1,   P03,    53,  1,     31, X12051,2,20051107,0643, 24.2718,-131.6563, 4694,    251.4,2,  10.0481,2,  10.04979,2,  33.9201,2,  33.9278,2,   180.01,1,   186.65,2,    247.9,2,   186.70,2,   186.36,2,    17.74,2,     0.16,    16.78,2,     0.08,     0.01,2,     0.01,    1.304,2,    0.014,    3.074,6,    1.699,6,    0.120,6,   -999.0,9,   -999.0,9,-999.0000,9, -999.000,9, -999.000,   -999.0,9,   -999.0,  10.0192,  26.1055
    49MR0505_1,   P03,    53,  1,     30, X12042,2,20051107,0643, 24.2718,-131.6563, 4694,    301.4,2,   8.9231,2,   8.92179,2,  34.0531,2,  34.0542,2,   156.66,1,   162.57,2,    301.3,2,   164.51,2,   162.36,2,    27.82,2,     0.18,    22.21,2,     0.09,     0.00,2,     0.01,    1.633,2,    0.014,    2.810,2,    1.465,2,    0.108,2,   -999.0,9,   -999.0,9,-999.0000,9, -999.000,9, -999.000,   -999.0,9,   -999.0,   8.8907,  26.3940
    49MR0505_1,   P03,    53,  1,     29, X12041,2,20051107,0643, 24.2718,-131.6563, 4694,    402.3,2,   6.8419,2,   6.84451,2,  34.0569,2,  34.0578,2,    91.11,1,    95.08,2,    405.9,2,    98.07,2,    93.87,2,    52.27,2,     0.23,    32.40,2,     0.12,     0.01,2,     0.01,    2.404,2,    0.016,    1.580,2,    0.766,2,    0.053,2,   -999.0,9,   -999.0,9,-999.0000,9, -999.000,9, -999.000,   -999.0,9,   -999.0,   6.8047,  26.7024
    49MR0505_1,   P03,    53,  1,     28, X12016,2,20051107,0643, 24.2718,-131.6563, 4694,    500.9,2,   5.5090,2,   5.50895,2,  34.1078,2,  34.1103,6,    46.63,1,    48.16,2,    505.3,2,    52.67,2,    47.97,2,    75.65,2,     0.29,    38.82,2,     0.14,     0.01,2,     0.01,    2.867,2,    0.017,    0.507,2,    0.264,2,    0.017,2,   -999.0,9,   -999.0,9,-999.0000,9, -999.000,9, -999.000,   -999.0,9,   -999.0,   5.4674,  26.9131
    49MR0505_1,   P03,    53,  1,     27, X12039,2,20051107,0643, 24.2718,-131.6563, 4694,    601.9,2,   5.3165,2,   5.31671,2,  34.2967,2,  34.2979,2,    18.77,1,    19.55,2,    601.2,2,    20.22,2,    19.93,2,    86.12,2,     0.31,    41.35,2,     0.15,     0.00,2,     0.01,    3.122,2,    0.018,    0.050,2,    0.030,2,    0.000,2,   -999.0,9,   -999.0,9,-999.0000,9, -999.000,9, -999.000,   -999.0,9,   -999.0,   5.2668,  27.0866
    49MR0505_1,   P03,    53,  1,     26, X12038,2,20051107,0643, 24.2718,-131.6563, 4694,    702.2,2,   4.9799,2,   4.97230,2,  34.3882,2,  34.3886,2,    18.33,1,    19.03,2,    701.0,2,    19.41,2,    19.19,2,    93.41,2,     0.32,    42.43,2,     0.15,     0.00,2,     0.01,    3.178,2,    0.018,    0.011,2,    0.006,2,    0.000,2,   -999.0,9,   -999.0,9,-999.0000,9, -999.000,9, -999.000,   -999.0,9,   -999.0,   4.9232,  27.1990
    49MR0505_1,   P03,    53,  1,     25, X12037,2,20051107,0643, 24.2718,-131.6563, 4694,    800.3,2,   4.6554,2,   4.65483,2,  34.4393,2,  34.4410,2,    22.73,1,    23.48,2,    799.2,2,    24.61,2,    23.83,2,    99.08,2,     0.34,    42.87,2,     0.15,     0.01,2,     0.01,    3.181,2,    0.018,    0.006,6,    0.006,6,    0.000,6,   -999.0,9,   -999.0,9,-999.0000,9, -999.000,9, -999.000,   -999.0,9,   -999.0,   4.5921,  27.2768
    49MR0505_1,   P03,    53,  1,     24, X12008,2,20051107,0643, 24.2718,-131.6563, 4694,    901.1,2,   4.3676,2,   4.36731,2,  34.4791,2,  34.4790,2,    27.25,1,    28.05,2,    901.3,2,    29.19,2,    28.58,2,   104.90,2,     0.35,    43.10,2,     0.15,     0.00,2,     0.01,    3.180,2,    0.018,    0.001,2,    0.003,2,    0.000,2,   -999.0,9,   -999.0,9,-999.0000,9, -999.000,9, -999.000,   -999.0,9,   -999.0,   4.2976,  27.3405
    49MR0505_1,   P03,    53,  1,     23, X12035,2,20051107,0643, 24.2718,-131.6563, 4694,   1002.7,2,   4.1271,2,   4.12711,2,  34.4977,2,  34.4976,6,    30.51,1,    31.38,2,   1002.3,2,    32.88,2,    32.05,2,   109.94,2,     0.36,    43.14,2,     0.15,     0.01,2,     0.01,    3.172,2,    0.018,    0.000,2,    0.000,2,    0.000,2,   -999.0,9,   -999.0,9,-999.0000,9, -999.000,9, -999.000,   -999.0,9,   -999.0,   4.0502,  27.3814
    49MR0505_1,   P03,    53,  1,     22, X12034,2,20051107,0643, 24.2718,-131.6563, 4694,   1200.6,2,   3.5012,2,   3.50088,2,  34.5370,2,  34.5373,2,    39.11,1,    40.38,2,   1202.3,2,    40.72,2,    41.13,2,   124.58,2,     0.39,    43.09,2,     0.15,     0.00,2,     0.01,    3.155,2,    0.018,    0.001,2,    0.001,2,    0.000,2,   -999.0,9,   -999.0,9,-999.0000,9, -999.000,9, -999.000,   -999.0,9,   -999.0,   3.4131,  27.4767
    49MR0505_1,   P03,    53,  1,     21, X12033,2,20051107,0643, 24.2718,-131.6563, 4694,   1402.5,2,   3.0632,2,   3.06309,2,  34.5644,2,  34.5647,2,    46.61,1,    48.27,2,   1402.8,2,    49.26,2,    49.05,2,   135.76,2,     0.42,    42.71,2,     0.15,     0.01,2,     0.01,    3.119,2,    0.018,    0.000,2,    0.000,2,    0.000,2,   -999.0,9,   -999.0,9,-999.0000,9, -999.000,9, -999.000,   -999.0,9,   -999.0,   2.9628,  27.5408
    49MR0505_1,   P03,    53,  1,     20, X12032,2,20051107,0643, 24.2718,-131.6563, 4694,   1600.3,2,   2.7138,2,   2.71364,2,  34.5873,2,  34.5875,2,    55.58,1,    57.84,2,   1600.3,2,    58.65,2,    58.61,2,   144.21,2,     0.44,    42.22,2,     0.15,     0.01,2,     0.01,    3.064,2,    0.018,    0.005,2,    0.000,2,    0.000,2,   -999.0,9,   -999.0,9,-999.0000,9, -999.000,9, -999.000,   -999.0,9,   -999.0,   2.6010,  27.5912
    49MR0505_1,   P03,    53,  1,     19, X12001,2,20051107,0643, 24.2718,-131.6563, 4694,   1801.9,2,   2.3833,2,   2.38279,2,  34.6098,2,  34.6102,2,    67.67,1,    70.91,2,   1801.8,2,    71.85,2,    71.29,2,   151.47,2,     0.45,    41.39,2,     0.15,     0.01,2,     0.01,    2.985,2,    0.017,    0.000,2,    0.000,2,    0.000,2,   -999.0,9,   -999.0,9,-999.0000,9, -999.000,9, -999.000,   -999.0,9,   -999.0,   2.2580,  27.6382
    49MR0505_1,   P03,    53,  1,     18, X12030,2,20051107,0643, 24.2718,-131.6563, 4694,   2001.7,2,   2.1427,2,   2.14248,2,  34.6259,2,  34.6261,6,    79.02,1,    82.84,2,   2002.5,2,    82.83,2,    83.17,2,   155.83,2,     0.46,    40.63,2,     0.15,     0.01,2,     0.01,    2.913,2,    0.017,    0.000,2,    0.001,2,    0.000,2,   -999.0,9,   -999.0,9,-999.0000,9, -999.000,9, -999.000,   -999.0,9,   -999.0,   2.0040,  27.6716
    49MR0505_1,   P03,    53,  1,     17, X12049,2,20051107,0643, 24.2718,-131.6563, 4694,   2202.1,2,   1.9689,2,   1.96872,2,  34.6386,2,  34.6387,2,    88.10,1,    92.64,2,   2202.4,2,    92.81,2,    92.80,2,   159.37,2,     0.47,    40.07,2,     0.14,     0.01,2,     0.01,    2.861,2,    0.017, -999.000,9, -999.000,9, -999.000,9,   -999.0,9,   -999.0,9,-999.0000,9, -999.000,9, -999.000,   -999.0,9,   -999.0,   1.8157,  27.6965
    49MR0505_1,   P03,    53,  1,     16, X12028,2,20051107,0643, 24.2718,-131.6563, 4694,   2401.0,2,   1.8240,2,   1.82387,2,  34.6488,2,  34.6491,2,    96.12,1,   101.10,2,   2401.6,2,   100.86,2,   101.16,2,   162.31,2,     0.48,    39.59,2,     0.14,     0.01,2,     0.01,    2.806,2,    0.017, -999.000,9, -999.000,9, -999.000,9,   -999.0,9,   -999.0,9,-999.0000,9, -999.000,9, -999.000,   -999.0,9,   -999.0,   1.6559,  27.7168
    49MR0505_1,   P03,    53,  1,     15, X12009,2,20051107,0643, 24.2718,-131.6563, 4694,   2599.5,2,   1.7275,2,   1.72753,2,  34.6557,2,  34.6560,2,   101.81,1,   107.23,2,   2599.8,2,   107.14,2,   107.39,2,   164.54,2,     0.48,    39.19,2,     0.14,     0.01,2,     0.01,    2.772,2,    0.017, -999.000,9, -999.000,9, -999.000,9,   -999.0,9,   -999.0,9,-999.0000,9, -999.000,9, -999.000,   -999.0,9,   -999.0,   1.5433,  27.7307
    49MR0505_1,   P03,    53,  1,     14, X12026,2,20051107,0643, 24.2718,-131.6563, 4694,   2800.1,2,   1.6334,2,   1.63316,2,  34.6628,2,  34.6629,2,   108.77,1,   114.55,2,   2800.3,2,   114.46,2,   114.89,2,   165.99,2,     0.48,    38.69,2,     0.14,     0.01,2,     0.01,    2.735,2,    0.017, -999.000,9, -999.000,9, -999.000,9,   -999.0,9,   -999.0,9,-999.0000,9, -999.000,9, -999.000,   -999.0,9,   -999.0,   1.4326,  27.7445
    49MR0505_1,   P03,    53,  1,     13, X12025,2,20051107,0643, 24.2718,-131.6563, 4694,   3000.2,2,   1.5588,2,   1.55867,2,  34.6699,2,  34.6700,6,   116.32,1,   122.54,2,   3000.6,2,   122.24,2,   122.58,2,   165.74,2,     0.48,    38.18,2,     0.14,     0.00,2,     0.01,    2.690,2,    0.017, -999.000,9, -999.000,9, -999.000,9,   -999.0,9,   -999.0,9,-999.0000,9, -999.000,9, -999.000,   -999.0,9,   -999.0,   1.3407,  27.7567
    49MR0505_1,   P03,    53,  1,     12, X12024,2,20051107,0643, 24.2718,-131.6563, 4694,   3249.4,2,   1.5159,2,   1.51583,2,  34.6758,2,  34.6758,2,   123.28,1,   129.64,2,   3249.6,2,   129.55,2,   130.09,2,   164.58,2,     0.48,    37.73,2,     0.14,     0.00,2,     0.01,    2.650,2,    0.017,    0.000,2,    0.000,2,    0.000,2,   -999.0,9,   -999.0,9,-999.0000,9, -999.000,9, -999.000,   -999.0,9,   -999.0,   1.2746,  27.7661
    49MR0505_1,   P03,    53,  1,     11, X12023,2,20051107,0643, 24.2718,-131.6563, 4694,   3499.7,2,   1.5012,2,   1.50111,2,  34.6793,2,  34.6797,2,   127.94,1,   134.28,2,   3499.7,2,   134.70,2,   134.70,2,   163.61,2,     0.48,    37.43,2,     0.14,     0.00,2,     0.01,    2.625,2,    0.017, -999.000,9, -999.000,9, -999.000,9,   -999.0,9,   -999.0,9,-999.0000,9, -999.000,9, -999.000,   -999.0,9,   -999.0,   1.2351,  27.7717
    49MR0505_1,   P03,    53,  1,     10, X12022,2,20051107,0643, 24.2718,-131.6563, 4694,   3749.8,2,   1.4984,2,   1.49829,2,  34.6819,2,  34.6823,2,   131.79,1,   137.92,2,   3749.9,2,   138.39,2,   138.37,2,   162.36,2,     0.48,    37.21,2,     0.14,     0.00,2,     0.01,    2.612,2,    0.017, -999.000,9, -999.000,9, -999.000,9,   -999.0,9,   -999.0,9,-999.0000,9, -999.000,9, -999.000,   -999.0,9,   -999.0,   1.2064,  27.7758
    49MR0505_1,   P03,    53,  1,      9, X12021,2,20051107,0643, 24.2718,-131.6563, 4694,   4000.6,2,   1.5040,2,   1.50383,2,  34.6840,2,  34.6841,2,   135.53,1,   141.40,2,   4000.6,2,   141.85,2,   141.76,2,   160.68,2,     0.47,    36.98,2,     0.14,     0.00,2,     0.01,    2.586,2,    0.016, -999.000,9, -999.000,9, -999.000,9,   -999.0,9,   -999.0,9,-999.0000,9, -999.000,9, -999.000,   -999.0,9,   -999.0,   1.1849,  27.7789
    49MR0505_1,   P03,    53,  1,      8, X12020,2,20051107,0643, 24.2718,-131.6563, 4694,   4250.6,2,   1.5104,2,   1.51034,2,  34.6859,2,  34.6862,6,   139.50,1,   145.11,2,   4250.7,2,   145.54,2,   145.42,2,   157.85,2,     0.47,    36.72,2,     0.14,     0.01,2,     0.01,    2.568,2,    0.016,    0.001,2,    0.006,2,    0.000,2,   -999.0,9,   -999.0,9,-999.0000,9, -999.000,9, -999.000,   -999.0,9,   -999.0,   1.1635,  27.7819
    49MR0505_1,   P03,    53,  1,      7, X12019,2,20051107,0643, 24.2718,-131.6563, 4694,   4762.2,2,   1.5163,2,   1.51614,2,  34.6900,2,  34.6904,2,   150.20,1,   154.78,2,   4762.2,2,   154.80,2,   154.83,2,   150.96,2,     0.45,    36.03,2,     0.13,     0.00,2,     0.01,    2.519,2,    0.016, -999.000,9, -999.000,9, -999.000,9,   -999.0,9,   -999.0,9,-999.0000,9, -999.000,9, -999.000,   -999.0,9,   -999.0,   1.1101,  27.7888
    49MR0505_1,   P03,    53,  1,      6, X12018,9,20051107,0643, 24.2718,-131.6563, 4694,   2401.0,2,   1.8243,2,   1.82412,2,  34.6488,2,-999.0000,9,    96.18,1,   101.03,2,   2401.7,2,   100.86,2,  -999.00,9,  -999.00,9,  -999.00,  -999.00,9,  -999.00,  -999.00,9,  -999.00, -999.000,9, -999.000, -999.000,9, -999.000,9, -999.000,9,   -999.0,9,   -999.0,9,-999.0000,9, -999.000,9, -999.000,   -999.0,9,   -999.0,   1.6561,  27.7168
    49MR0505_1,   P03,    53,  1,      5, X12043,9,20051107,0643, 24.2718,-131.6563, 4694,   1600.5,2,   2.7128,2,   2.71270,2,  34.5874,2,-999.0000,9,    55.58,1,    57.78,2,   1600.5,2,    58.67,2,  -999.00,9,  -999.00,9,  -999.00,  -999.00,9,  -999.00,  -999.00,9,  -999.00, -999.000,9, -999.000, -999.000,9, -999.000,9, -999.000,9,   -999.0,9,   -999.0,9,-999.0000,9, -999.000,9, -999.000,   -999.0,9,   -999.0,   2.6000,  27.5913
    49MR0505_1,   P03,    53,  1,      4, X12010,9,20051107,0643, 24.2718,-131.6563, 4694,   2001.8,2,   2.1436,2,   2.14346,2,  34.6259,2,-999.0000,9,    79.00,1,    82.76,2,   2002.6,2,    82.83,2,  -999.00,9,  -999.00,9,  -999.00,  -999.00,9,  -999.00,  -999.00,9,  -999.00, -999.000,9, -999.000, -999.000,9, -999.000,9, -999.000,9,   -999.0,9,   -999.0,9,-999.0000,9, -999.000,9, -999.000,   -999.0,9,   -999.0,   2.0048,  27.6716
    49MR0505_1,   P03,    53,  1,      3, X12015,9,20051107,0643, 24.2718,-131.6563, 4694,   2599.7,2,   1.7301,2,   1.72998,2,  34.6556,2,-999.0000,9,   101.74,1,   107.07,2,   2600.0,2,   107.14,2,  -999.00,9,  -999.00,9,  -999.00,  -999.00,9,  -999.00,  -999.00,9,  -999.00, -999.000,9, -999.000, -999.000,9, -999.000,9, -999.000,9,   -999.0,9,   -999.0,9,-999.0000,9, -999.000,9, -999.000,   -999.0,9,   -999.0,   1.5459,  27.7304
    49MR0505_1,   P03,    53,  1,      2, X12014,2,20051107,0643, 24.2718,-131.6563, 4694,   4500.3,2,   1.5115,2,   1.51139,2,  34.6879,2,  34.6887,2,   144.80,1,   149.90,2,   4500.4,2,   150.30,2,   150.28,2,   154.32,2,     0.46,    36.37,2,     0.13,     0.01,2,     0.01,    2.546,2,    0.016, -999.000,9, -999.000,9, -999.000,9,   -999.0,9,   -999.0,9,-999.0000,9, -999.000,9, -999.000,   -999.0,9,   -999.0,   1.1361,  27.7854
    49MR0505_1,   P03,    53,  1,      1, X12013,2,20051107,0643, 24.2718,-131.6563, 4694,   4762.1,2,   1.5166,2,   1.51631,2,  34.6899,2,  34.6904,6,   150.28,1,   154.75,2,   4762.1,2,   154.84,2,   154.76,2,   151.01,2,     0.45,    35.98,2,     0.13,     0.00,2,     0.01,    2.520,2,    0.016,    0.000,2,    0.005,2,    0.000,2,   -999.0,9,   -999.0,9,-999.0000,9, -999.000,9, -999.000,   -999.0,9,   -999.0,   1.1104,  27.7887