BOTTLE,20100316JAMSTECRIGC
EXPOCODE,SECT,STNNBR,CASTNO,SAMPNO,BTLNBR,BTLNBR_FLAG_W,DATE,TIME,LATITUDE,LONGITUDE,DEPTH,CTDPRS,CTDPRS_FLAG_W,CTDTMP,CTDTMP_FLAG_W,SBE35,SBE35_FLAG_W,CTDSAL,CTDSAL_FLAG_W,SALNTY,SALNTY_FLAG_W,CTDOXY,CTDOXY_FLAG_W,OPTOXY,OPTOXY_FLAG_W,DWNPRS,DWNPRS_FLAG_W,DWNOXY,DWNOXY_FLAG_W,OXYGEN,OXYGEN_FLAG_W,SILCAT,SILCAT_FLAG_W,SILUNC,NITRAT,NITRAT_FLAG_W,NRAUNC,NITRIT,NITRIT_FLAG_W,NRIUNC,PHSPHT,PHSPHT_FLAG_W,PHPUNC,CFC-11,CFC-11_FLAG_W,CFC-12,CFC-12_FLAG_W,CFC113,CFC113_FLAG_W,TCARBN,TCARBN_FLAG_W,ALKALI,ALKALI_FLAG_W,PH,PH_FLAG_W,DELC13,DELC13_FLAG_W,C13ERR,DELC14,DELC14_FLAG_W,C14ERR,THETA,SIG0
,,,,,,,,UTC,DEG,DEG,M,DBAR,,ITS-90,,ITS-90,,PSS-78,,PSS-78,,UMOL/KG,,UMOL/KG,,DBAR,,UMOL/KG,,UMOL/KG,,UMOL/KG,,UMOL/KG,UMOL/KG,,UMOL/KG,UMOL/KG,,UMOL/KG,UMOL/KG,,UMOL/KG,PMOL/KG,,PMOL/KG,,PMOL/KG,,UMOL/KG,,UMOL/KG,,,,/MILLE,,/MILLE,/MILLE,,/MILLE,DEG C,KG/CUM
    49MR0505_1,   P03,    62,  1,      0,   -999,9,20051108,1550, 24.2578,-135.6330, 4472,   -999.0,9,-999.0000,9,-999.00000,9,-999.0000,9,  35.1237,2,  -999.00,9,  -999.00,9,   -999.0,9,  -999.00,9,  -999.00,9,  -999.00,9,  -999.00,  -999.00,9,  -999.00,  -999.00,9,  -999.00, -999.000,9, -999.000, -999.000,9, -999.000,9, -999.000,9,   -999.0,9,   -999.0,9,-999.0000,9, -999.000,9, -999.000,   -999.0,9,   -999.0,-999.0000,-999.0000
    49MR0505_1,   P03,    62,  1,     36, X12048,2,20051108,1550, 24.2578,-135.6330, 4472,     10.0,2,  22.4373,2,  22.43789,2,  35.1014,2,  35.1014,2,   207.85,1,   219.09,2,      8.8,2,   219.24,2,   218.68,2,     1.20,2,     0.12,     0.02,2,     0.03,     0.00,2,     0.01,    0.124,2,    0.020,    1.964,2,    1.148,2, -999.000,5,   -999.0,9,   -999.0,9,-999.0000,9, -999.000,9, -999.000,   -999.0,9,   -999.0,  22.4353,  24.1721
    49MR0505_1,   P03,    62,  1,     35, X12047,2,20051108,1550, 24.2578,-135.6330, 4472,     49.9,2,  22.4446,2,  22.44535,2,  35.1011,2,  35.1016,2,   207.70,1,   219.16,2,     49.0,2,   218.77,2,   218.74,2,     1.16,2,     0.12,     0.02,2,     0.03,     0.00,2,     0.01,    0.120,2,    0.020, -999.000,9, -999.000,9, -999.000,9,   -999.0,9,   -999.0,9,-999.0000,9, -999.000,9, -999.000,   -999.0,9,   -999.0,  22.4346,  24.1721
    49MR0505_1,   P03,    62,  1,     34, X12046,2,20051108,1550, 24.2578,-135.6330, 4472,    101.2,2,  21.1054,2,  21.11229,2,  35.0307,2,  34.9970,3,   217.02,1,   229.24,2,     98.8,2,   224.56,2,   228.36,2,     1.40,2,     0.12,     0.01,2,     0.03,     0.00,2,     0.01,    0.110,2,    0.021,    2.192,2,    1.259,2, -999.000,5,   -999.0,9,   -999.0,9,-999.0000,9, -999.000,9, -999.000,   -999.0,9,   -999.0,  21.0860,  24.4939
    49MR0505_1,   P03,    62,  1,     33, X12003,2,20051108,1550, 24.2578,-135.6330, 4472,    152.2,2,  19.7382,2,  19.73959,2,  34.9936,2,  34.9967,2,   206.15,1,   218.07,2,    148.5,2,   215.69,2,   216.78,2,     1.67,2,     0.12,     0.09,2,     0.03,     0.19,2,     0.01,    0.125,2,    0.020, -999.000,9, -999.000,9, -999.000,9,   -999.0,9,   -999.0,9,-999.0000,9, -999.000,9, -999.000,   -999.0,9,   -999.0,  19.7103,  24.8329
    49MR0505_1,   P03,    62,  1,     32, X12044,2,20051108,1550, 24.2578,-135.6330, 4472,    201.0,2,  15.8431,2,  15.85145,2,  34.3650,2,  34.3908,2,   196.18,1,   206.74,2,    199.0,2,   204.82,2,   205.88,2,     3.81,2,     0.13,     3.74,2,     0.04,     0.01,2,     0.01,    0.401,2,    0.013,    2.718,2,    1.479,2, -999.000,5,   -999.0,9,   -999.0,9,-999.0000,9, -999.000,9, -999.000,   -999.0,9,   -999.0,  15.8117,  25.3019
    49MR0505_1,   P03,    62,  1,     31, X12051,2,20051108,1550, 24.2578,-135.6330, 4472,    248.5,2,  11.8442,2,  11.84097,2,  33.9708,2,  33.9723,2,   200.75,1,   210.39,2,    251.6,2,   211.16,2,   210.23,2,     9.46,2,     0.14,    10.01,2,     0.06,     0.01,2,     0.01,    0.828,2,    0.013,    3.227,6,    1.671,6,    0.125,6,   -999.0,9,   -999.0,9,-999.0000,9, -999.000,9, -999.000,   -999.0,9,   -999.0,  11.8123,  25.8251
    49MR0505_1,   P03,    62,  1,     30, X12042,2,20051108,1550, 24.2578,-135.6330, 4472,    299.1,2,  10.2916,2,  10.29202,2,  34.0077,2,  34.0060,2,   196.37,1,   205.97,2,    300.0,2,   208.14,2,   205.81,2,    15.37,2,     0.15,    14.59,2,     0.07,     0.01,2,     0.01,    1.102,2,    0.013,    3.361,2,    1.685,2,    0.120,2,   -999.0,9,   -999.0,9,-999.0000,9, -999.000,9, -999.000,   -999.0,9,   -999.0,  10.2565,  26.1333
    49MR0505_1,   P03,    62,  1,     29, X12041,2,20051108,1550, 24.2578,-135.6330, 4472,    399.1,2,   7.8292,2,   7.84121,2,  34.0410,2,  34.0415,2,   136.85,1,   142.73,2,    397.9,2,   143.17,2,   143.60,2,    37.97,2,     0.20,    26.35,2,     0.11,     0.01,2,     0.01,    1.898,2,    0.015, -999.000,9, -999.000,9, -999.000,9,   -999.0,9,   -999.0,9,-999.0000,9, -999.000,9, -999.000,   -999.0,9,   -999.0,   7.7894,  26.5516
    49MR0505_1,   P03,    62,  1,     28, X12016,2,20051108,1550, 24.2578,-135.6330, 4472,    500.9,2,   5.8793,2,   5.87865,2,  34.0663,2,  34.0656,6,    65.08,1,    68.29,2,    505.6,2,    73.09,2,    68.12,2,    66.23,2,     0.26,    36.26,2,     0.13,     0.00,2,     0.01,    2.683,2,    0.017,    0.943,2,    0.417,2,    0.023,2,   -999.0,9,   -999.0,9,-999.0000,9, -999.000,9, -999.000,   -999.0,9,   -999.0,   5.8363,  26.8353
    49MR0505_1,   P03,    62,  1,     27, X12039,2,20051108,1550, 24.2578,-135.6330, 4472,    598.3,2,   5.2617,2,   5.26248,2,  34.2007,2,  34.1993,2,    25.00,1,    26.26,2,    600.9,2,    27.58,2,    26.02,2,    84.07,2,     0.30,    40.78,2,     0.15,     0.00,2,     0.01,    3.057,2,    0.018,    0.180,2,    0.082,2,    0.000,2,   -999.0,9,   -999.0,9,-999.0000,9, -999.000,9, -999.000,   -999.0,9,   -999.0,   5.2127,  27.0169
    49MR0505_1,   P03,    62,  1,     26, X12038,2,20051108,1550, 24.2578,-135.6330, 4472,    699.3,2,   4.8903,2,   4.89049,2,  34.3194,2,  34.3187,2,    15.64,1,    16.47,2,    701.4,2,    16.15,2,    16.14,2,    94.33,2,     0.33,    42.35,2,     0.15,     0.00,2,     0.01,    3.179,2,    0.018,    0.037,2,    0.006,2,    0.000,2,   -999.0,9,   -999.0,9,-999.0000,9, -999.000,9, -999.000,   -999.0,9,   -999.0,   4.8344,  27.1545
    49MR0505_1,   P03,    62,  1,     25, X12037,2,20051108,1550, 24.2578,-135.6330, 4472,    799.7,2,   4.6752,2,   4.67551,2,  34.4041,2,  34.4032,2,    18.82,1,    19.69,2,    798.3,2,    19.85,2,    19.60,2,    99.04,2,     0.34,    42.75,2,     0.15,     0.00,2,     0.01,    3.192,2,    0.018,    0.011,6,    0.005,6,    0.000,6,   -999.0,9,   -999.0,9,-999.0000,9, -999.000,9, -999.000,   -999.0,9,   -999.0,   4.6119,  27.2467
    49MR0505_1,   P03,    62,  1,     24, X12008,2,20051108,1550, 24.2578,-135.6330, 4472,    898.9,2,   4.3984,2,   4.39884,2,  34.4584,2,  34.4582,2,    25.93,1,    26.94,2,    898.1,2,    27.00,2,    27.01,2,   104.22,2,     0.35,    43.01,2,     0.15,     0.00,2,     0.01,    3.179,2,    0.018,    0.003,2,    0.002,2,    0.000,2,   -999.0,9,   -999.0,9,-999.0000,9, -999.000,9, -999.000,   -999.0,9,   -999.0,   4.3284,  27.3207
    49MR0505_1,   P03,    62,  1,     23, X12035,2,20051108,1550, 24.2578,-135.6330, 4472,    998.2,2,   4.1234,2,   4.12392,2,  34.4906,2,  34.4907,6,    30.65,1,    31.77,2,    997.5,2,    31.72,2,    31.87,2,   110.06,2,     0.36,    43.10,2,     0.15,     0.00,2,     0.01,    3.175,2,    0.018,    0.000,2,    0.000,2,    0.000,2,   -999.0,9,   -999.0,9,-999.0000,9, -999.000,9, -999.000,   -999.0,9,   -999.0,   4.0470,  27.3761
    49MR0505_1,   P03,    62,  1,     22, X12034,2,20051108,1550, 24.2578,-135.6330, 4472,   1200.4,2,   3.5862,2,   3.58826,2,  34.5299,2,  34.5297,2,    38.40,1,    39.84,2,   1199.6,2,    40.05,2,    40.09,2,   122.10,2,     0.39,    42.89,2,     0.15,     0.00,2,     0.01,    3.159,2,    0.018,    0.003,2,    0.000,2,    0.000,2,   -999.0,9,   -999.0,9,-999.0000,9, -999.000,9, -999.000,   -999.0,9,   -999.0,   3.4973,  27.4628
    49MR0505_1,   P03,    62,  1,     21, X12033,2,20051108,1550, 24.2578,-135.6330, 4472,   1402.1,2,   3.1032,2,   3.10335,2,  34.5581,2,  34.5577,2,    46.29,1,    48.13,2,   1402.9,2,    47.87,2,    48.37,2,   134.21,2,     0.41,    42.58,2,     0.15,     0.00,2,     0.01,    3.121,2,    0.018, -999.000,9, -999.000,9, -999.000,9,   -999.0,9,   -999.0,9,-999.0000,9, -999.000,9, -999.000,   -999.0,9,   -999.0,   3.0024,  27.5321
    49MR0505_1,   P03,    62,  1,     20, X12032,2,20051108,1550, 24.2578,-135.6330, 4472,   1600.4,2,   2.7138,2,   2.71418,2,  34.5850,2,  34.5854,2,    55.87,1,    58.31,2,   1600.0,2,    58.55,2,    58.39,2,   144.03,2,     0.44,    42.24,2,     0.15,     0.00,2,     0.01,    3.066,2,    0.018,    0.004,2,    0.002,2,    0.000,2,   -999.0,9,   -999.0,9,-999.0000,9, -999.000,9, -999.000,   -999.0,9,   -999.0,   2.6010,  27.5893
    49MR0505_1,   P03,    62,  1,     19, X12001,2,20051108,1550, 24.2578,-135.6330, 4472,   1800.0,2,   2.3958,2,   2.39582,2,  34.6083,2,  34.6089,2,    67.37,1,    70.71,2,   1799.8,2,    70.76,2,    70.75,2,   150.63,2,     0.45,    41.36,2,     0.15,     0.00,2,     0.01,    2.994,2,    0.017, -999.000,9, -999.000,9, -999.000,9,   -999.0,9,   -999.0,9,-999.0000,9, -999.000,9, -999.000,   -999.0,9,   -999.0,   2.2704,  27.6360
    49MR0505_1,   P03,    62,  1,     18, X12030,2,20051108,1550, 24.2578,-135.6330, 4472,   2003.0,2,   2.1346,2,   2.13489,2,  34.6267,2,  34.6269,6,    79.14,1,    83.23,2,   2003.5,2,    82.66,2,    83.26,2,   155.95,2,     0.46,    40.57,2,     0.15,     0.01,2,     0.01,    2.909,2,    0.017,    0.000,2,    0.000,2,    0.000,2,   -999.0,9,   -999.0,9,-999.0000,9, -999.000,9, -999.000,   -999.0,9,   -999.0,   1.9959,  27.6729
    49MR0505_1,   P03,    62,  1,     17, X12049,2,20051108,1550, 24.2578,-135.6330, 4472,   2198.5,2,   1.9675,2,   1.96744,2,  34.6382,2,  34.6388,2,    87.55,1,    92.40,2,   2198.2,2,    92.56,2,    92.20,2,   159.72,2,     0.47,    40.00,2,     0.14,     0.00,2,     0.01,    2.865,2,    0.017, -999.000,9, -999.000,9, -999.000,9,   -999.0,9,   -999.0,9,-999.0000,9, -999.000,9, -999.000,   -999.0,9,   -999.0,   1.8146,  27.6963
    49MR0505_1,   P03,    62,  1,     16, X12028,2,20051108,1550, 24.2578,-135.6330, 4472,   2399.2,2,   1.8069,2,   1.80707,2,  34.6491,2,  34.6494,2,    96.23,1,   101.57,2,   2399.4,2,   101.17,2,   101.46,2,   163.02,2,     0.48,    39.45,2,     0.14,     0.01,2,     0.01,    2.813,2,    0.017, -999.000,9, -999.000,9, -999.000,9,   -999.0,9,   -999.0,9,-999.0000,9, -999.000,9, -999.000,   -999.0,9,   -999.0,   1.6392,  27.7183
    49MR0505_1,   P03,    62,  1,     15, X12009,2,20051108,1550, 24.2578,-135.6330, 4472,   2601.0,2,   1.6987,2,   1.69889,2,  34.6569,2,  34.6567,2,   102.91,1,   108.63,2,   2601.4,2,   108.31,2,   108.50,2,   165.35,2,     0.48,    38.97,2,     0.14,     0.01,2,     0.01,    2.770,2,    0.017, -999.000,9, -999.000,9, -999.000,9,   -999.0,9,   -999.0,9,-999.0000,9, -999.000,9, -999.000,   -999.0,9,   -999.0,   1.5149,  27.7338
    49MR0505_1,   P03,    62,  1,     14, X12026,2,20051108,1550, 24.2578,-135.6330, 4472,   2798.9,2,   1.6358,2,   1.63600,2,  34.6623,2,  34.6624,6,   108.09,1,   114.19,2,   2799.1,2,   113.82,2,   114.03,2,   165.83,2,     0.48,    38.60,2,     0.14,     0.00,2,     0.01,    2.736,2,    0.017, -999.000,9, -999.000,9, -999.000,9,   -999.0,9,   -999.0,9,-999.0000,9, -999.000,9, -999.000,   -999.0,9,   -999.0,   1.4351,  27.7439
    49MR0505_1,   P03,    62,  1,     13, X12025,2,20051108,1550, 24.2578,-135.6330, 4472,   2997.1,2,   1.5682,2,   1.56817,2,  34.6687,2,  34.6688,2,   115.14,1,   121.68,2,   2996.9,2,   121.90,2,   121.28,2,   166.10,2,     0.48,    38.11,2,     0.14,     0.01,2,     0.01,    2.697,2,    0.017,    0.000,2,    0.000,2,    0.000,2,   -999.0,9,   -999.0,9,-999.0000,9, -999.000,9, -999.000,   -999.0,9,   -999.0,   1.3502,  27.7550
    49MR0505_1,   P03,    62,  1,     12, X12024,2,20051108,1550, 24.2578,-135.6330, 4472,   4538.6,2,   1.5088,2,   1.50873,2,  34.6884,2,  34.6886,2,   145.87,1,   151.42,2,   4538.6,2,   150.92,2,   150.99,2,   153.72,2,     0.46,    36.24,2,     0.13,     0.00,2,     0.01,    2.537,2,    0.016, -999.000,9, -999.000,9, -999.000,9,   -999.0,9,   -999.0,9,-999.0000,9, -999.000,9, -999.000,   -999.0,9,   -999.0,   1.1291,  27.7863
    49MR0505_1,   P03,    62,  1,     11, X12023,2,20051108,1550, 24.2578,-135.6330, 4472,   3495.9,2,   1.4960,2,   1.49617,2,  34.6795,2,  34.6796,2,   128.41,1,   135.14,2,   3496.0,2,   135.06,2,   135.05,2,   162.83,2,     0.48,    37.22,2,     0.14,     0.01,2,     0.01,    2.622,2,    0.017, -999.000,9, -999.000,9, -999.000,9,   -999.0,9,   -999.0,9,-999.0000,9, -999.000,9, -999.000,   -999.0,9,   -999.0,   1.2304,  27.7722
    49MR0505_1,   P03,    62,  1,     10, X12022,2,20051108,1550, 24.2578,-135.6330, 4472,   3748.0,2,   1.4865,2,   1.48670,2,  34.6828,2,  34.6828,2,   133.47,1,   140.16,2,   3748.1,2,   140.14,2,   140.01,2,   160.30,2,     0.47,    36.88,2,     0.14,     0.00,2,     0.01,    2.587,2,    0.016, -999.000,9, -999.000,9, -999.000,9,   -999.0,9,   -999.0,9,-999.0000,9, -999.000,9, -999.000,   -999.0,9,   -999.0,   1.1950,  27.7773
    49MR0505_1,   P03,    62,  1,      9, X12021,2,20051108,1550, 24.2578,-135.6330, 4472,   3999.9,2,   1.4799,2,   1.48000,2,  34.6858,2,  34.6856,6,   138.95,1,   145.36,2,   3999.8,2,   145.56,2,   145.30,2,   157.76,2,     0.47,    36.72,2,     0.14,     0.00,2,     0.01,    2.567,2,    0.016,    0.008,2,    0.003,2,    0.000,2,   -999.0,9,   -999.0,9,-999.0000,9, -999.000,9, -999.000,   -999.0,9,   -999.0,   1.1616,  27.7819
    49MR0505_1,   P03,    62,  1,      8, X12020,2,20051108,1550, 24.2578,-135.6330, 4472,   4248.1,2,   1.4882,2,   1.48835,2,  34.6876,2,  34.6876,2,   142.82,1,   148.82,2,   4248.2,2,   149.06,2,   148.70,2,   155.19,2,     0.46,    36.38,2,     0.13,     0.00,2,     0.01,    2.550,2,    0.016, -999.000,9, -999.000,9, -999.000,9,   -999.0,9,   -999.0,9,-999.0000,9, -999.000,9, -999.000,   -999.0,9,   -999.0,   1.1422,  27.7847
    49MR0505_1,   P03,    62,  1,      7, X12019,9,20051108,1550, 24.2578,-135.6330, 4472,      9.5,2,  22.4367,2,  22.43752,2,  35.1015,2,-999.0000,9,   207.61,1,   219.27,2,      8.3,2,   219.24,2,  -999.00,9,  -999.00,9,  -999.00,  -999.00,9,  -999.00,  -999.00,9,  -999.00, -999.000,9, -999.000, -999.000,9, -999.000,9, -999.000,9,   -999.0,9,   -999.0,9,-999.0000,9, -999.000,9, -999.000,   -999.0,9,   -999.0,  22.4348,  24.1723
    49MR0505_1,   P03,    62,  1,      6, X12018,9,20051108,1550, 24.2578,-135.6330, 4472,     50.2,2,  22.4452,2,  22.44573,2,  35.1012,2,-999.0000,9,   207.64,1,   219.18,2,     49.2,2,   218.75,2,  -999.00,9,  -999.00,9,  -999.00,  -999.00,9,  -999.00,  -999.00,9,  -999.00, -999.000,9, -999.000, -999.000,9, -999.000,9, -999.000,9,   -999.0,9,   -999.0,9,-999.0000,9, -999.000,9, -999.000,   -999.0,9,   -999.0,  22.4351,  24.1720
    49MR0505_1,   P03,    62,  1,      5, X12043,9,20051108,1550, 24.2578,-135.6330, 4472,    101.1,2,  21.1320,2,  21.13727,2,  35.0109,2,-999.0000,9,   217.28,1,   229.05,2,     98.5,2,   224.05,2,  -999.00,9,  -999.00,9,  -999.00,  -999.00,9,  -999.00,  -999.00,9,  -999.00, -999.000,9, -999.000, -999.000,9, -999.000,9, -999.000,9,   -999.0,9,   -999.0,9,-999.0000,9, -999.000,9, -999.000,   -999.0,9,   -999.0,  21.1126,  24.4716
    49MR0505_1,   P03,    62,  1,      4, X12010,9,20051108,1550, 24.2578,-135.6330, 4472,    152.2,2,  19.7308,2,  19.73040,2,  34.9926,2,-999.0000,9,   205.97,1,   217.71,2,    148.7,2,   215.70,2,  -999.00,9,  -999.00,9,  -999.00,  -999.00,9,  -999.00,  -999.00,9,  -999.00, -999.000,9, -999.000, -999.000,9, -999.000,9, -999.000,9,   -999.0,9,   -999.0,9,-999.0000,9, -999.000,9, -999.000,   -999.0,9,   -999.0,  19.7029,  24.8341
    49MR0505_1,   P03,    62,  1,      3, X12015,9,20051108,1550, 24.2578,-135.6330, 4472,   3246.7,2,   1.5114,2,   1.51149,2,  34.6758,2,-999.0000,9,   123.45,1,   130.23,2,   3247.0,2,   129.48,2,  -999.00,9,  -999.00,9,  -999.00,  -999.00,9,  -999.00,  -999.00,9,  -999.00, -999.000,9, -999.000, -999.000,9, -999.000,9, -999.000,9,   -999.0,9,   -999.0,9,-999.0000,9, -999.000,9, -999.000,   -999.0,9,   -999.0,   1.2704,  27.7664
    49MR0505_1,   P03,    62,  1,      2, X12014,2,20051108,1550, 24.2578,-135.6330, 4472,   3247.6,2,   1.5113,2,   1.51130,2,  34.6758,2,  34.6759,2,   123.43,1,   130.23,2,   3247.9,2,   129.55,2,   129.91,2,   164.55,2,     0.48,    37.63,2,     0.14,     0.00,2,     0.01,    2.665,2,    0.017, -999.000,9, -999.000,9, -999.000,9,   -999.0,9,   -999.0,9,-999.0000,9, -999.000,9, -999.000,   -999.0,9,   -999.0,   1.2703,  27.7664
    49MR0505_1,   P03,    62,  1,      1, X12013,2,20051108,1550, 24.2578,-135.6330, 4472,   4539.9,2,   1.5087,2,   1.50877,2,  34.6885,2,  34.6886,6,   145.92,1,   151.38,2,   4539.9,2,   150.83,2,   150.92,2,   153.66,2,     0.46,    36.23,2,     0.13,     0.01,2,     0.01,    2.537,2,    0.016,    0.010,2,    0.000,2,    0.000,2,   -999.0,9,   -999.0,9,-999.0000,9, -999.000,9, -999.000,   -999.0,9,   -999.0,   1.1288,  27.7864