BOTTLE,20100316JAMSTECRIGC
EXPOCODE,SECT,STNNBR,CASTNO,SAMPNO,BTLNBR,BTLNBR_FLAG_W,DATE,TIME,LATITUDE,LONGITUDE,DEPTH,CTDPRS,CTDPRS_FLAG_W,CTDTMP,CTDTMP_FLAG_W,SBE35,SBE35_FLAG_W,CTDSAL,CTDSAL_FLAG_W,SALNTY,SALNTY_FLAG_W,CTDOXY,CTDOXY_FLAG_W,OPTOXY,OPTOXY_FLAG_W,DWNPRS,DWNPRS_FLAG_W,DWNOXY,DWNOXY_FLAG_W,OXYGEN,OXYGEN_FLAG_W,SILCAT,SILCAT_FLAG_W,SILUNC,NITRAT,NITRAT_FLAG_W,NRAUNC,NITRIT,NITRIT_FLAG_W,NRIUNC,PHSPHT,PHSPHT_FLAG_W,PHPUNC,CFC-11,CFC-11_FLAG_W,CFC-12,CFC-12_FLAG_W,CFC113,CFC113_FLAG_W,TCARBN,TCARBN_FLAG_W,ALKALI,ALKALI_FLAG_W,PH,PH_FLAG_W,DELC13,DELC13_FLAG_W,C13ERR,DELC14,DELC14_FLAG_W,C14ERR,THETA,SIG0
,,,,,,,,UTC,DEG,DEG,M,DBAR,,ITS-90,,ITS-90,,PSS-78,,PSS-78,,UMOL/KG,,UMOL/KG,,DBAR,,UMOL/KG,,UMOL/KG,,UMOL/KG,,UMOL/KG,UMOL/KG,,UMOL/KG,UMOL/KG,,UMOL/KG,UMOL/KG,,UMOL/KG,PMOL/KG,,PMOL/KG,,PMOL/KG,,UMOL/KG,,UMOL/KG,,,,/MILLE,,/MILLE,/MILLE,,/MILLE,DEG C,KG/CUM
    49MR0505_1,   P03,    64,  1,      0,   -999,9,20051108,2229, 24.2457,-136.4562, 4293,   -999.0,9,-999.0000,9,-999.00000,9,-999.0000,9,  35.1582,2,  -999.00,9,  -999.00,9,   -999.0,9,  -999.00,9,  -999.00,9,  -999.00,9,  -999.00,  -999.00,9,  -999.00,  -999.00,9,  -999.00, -999.000,9, -999.000, -999.000,9, -999.000,9, -999.000,9,   -999.0,9,   -999.0,9,-999.0000,9, -999.000,9, -999.000,   -999.0,9,   -999.0,-999.0000,-999.0000
    49MR0505_1,   P03,    64,  1,     36, X12048,2,20051108,2229, 24.2457,-136.4562, 4293,     10.6,2,  22.5540,2,  22.55420,2,  35.1588,2,  35.1580,2,   207.56,1,   219.10,2,     14.4,2,   218.81,2,   218.64,2,     1.30,2,     0.12,     0.05,2,     0.03,     0.00,2,     0.01,    0.109,2,    0.021,    1.855,2,    1.141,2, -999.000,5,   2012.7,2,   2318.6,2,   8.0583,6, -999.000,9, -999.000,   -999.0,9,   -999.0,  22.5519,  24.1825
    49MR0505_1,   P03,    64,  1,     35, X12047,2,20051108,2229, 24.2457,-136.4562, 4293,     49.4,2,  22.5615,2,  22.56214,2,  35.1586,2,  35.1606,2,   207.39,1,   218.99,2,     52.9,2,   218.55,2,   218.64,2,     1.28,2,     0.12,     0.05,2,     0.03,     0.00,2,     0.01,    0.111,2,    0.021, -999.000,5, -999.000,5, -999.000,5,   2012.9,6,   2317.4,2,   8.0584,2, -999.000,9, -999.000,   -999.0,9,   -999.0,  22.5516,  24.1825
    49MR0505_1,   P03,    64,  1,     34, X12046,2,20051108,2229, 24.2457,-136.4562, 4293,    102.1,2,  20.8718,2,  20.87478,2,  35.1195,2,  35.1146,2,   220.03,1,   232.87,2,     97.6,2,   230.98,2,   231.66,2,     1.58,2,     0.12,     0.04,2,     0.03,     0.00,2,     0.01,    0.062,2,    0.030,    2.143,2,    1.269,2, -999.000,5,   2014.4,2,   2305.3,6,   8.0416,2, -999.000,9, -999.000,   -999.0,9,   -999.0,  20.8524,  24.6250
    49MR0505_1,   P03,    64,  1,     33, X12003,2,20051108,2229, 24.2457,-136.4562, 4293,    150.4,2,  18.9133,2,  18.89929,2,  34.8494,2,  34.8487,2,   206.15,1,   217.35,2,    149.8,2,   216.84,2,   216.80,2,     2.10,2,     0.12,     0.27,2,     0.03,     0.17,2,     0.01,    0.145,2,    0.018,    2.267,2,    1.302,2, -999.000,5,   2030.2,2,   2287.2,2,   7.9914,6, -999.000,9, -999.000,   -999.0,9,   -999.0,  18.8866,  24.9349
    49MR0505_1,   P03,    64,  1,     32, X12044,2,20051108,2229, 24.2457,-136.4562, 4293,    202.6,2,  14.9142,2,  14.92756,2,  34.2511,2,  34.2468,2,   199.13,1,   209.37,2,    202.8,2,   208.90,2,   208.64,2,     4.82,2,     0.13,     4.87,2,     0.05,     0.01,2,     0.01,    0.478,2,    0.013,    2.791,2,    1.531,2,    0.132,4,   2047.4,2,   2247.6,2,   7.8973,2, -999.000,9, -999.000,   -999.0,9,   -999.0,  14.8838,  25.4199
    49MR0505_1,   P03,    64,  1,     31, X12051,2,20051108,2229, 24.2457,-136.4562, 4293,    250.3,2,  11.4437,2,  11.44629,2,  33.9596,2,  33.9630,2,   198.07,1,   207.77,2,    250.9,2,   202.64,2,   207.54,2,    10.92,2,     0.14,    11.29,2,     0.06,     0.01,2,     0.01,    0.909,2,    0.013,    3.232,6,    1.675,6,    0.102,6,   2076.8,2,   2239.8,2,   7.8056,2, -999.000,9, -999.000,   -999.0,9,   -999.0,  11.4123,  25.8905
    49MR0505_1,   P03,    64,  1,     30, X12042,2,20051108,2229, 24.2457,-136.4562, 4293,    302.8,2,   9.8665,2,   9.85863,2,  34.0357,2,  34.0353,2,   192.18,1,   201.05,2,    299.4,2,   202.93,2,   201.07,2,    18.03,2,     0.16,    16.15,2,     0.08,     0.01,2,     0.01,    1.198,2,    0.013,    3.330,2,    1.675,2,    0.100,2,   2107.1,2,   2249.4,2,   7.7553,2, -999.000,9, -999.000,   -999.0,9,   -999.0,   9.8319,  26.2273
    49MR0505_1,   P03,    64,  1,     29, X12041,2,20051108,2229, 24.2457,-136.4562, 4293,    403.1,2,   7.9320,2,   7.93267,2,  34.0435,2,  34.0452,2,   138.70,1,   145.49,2,    399.7,2,   142.12,2,   145.57,2,    36.75,2,     0.20,    25.82,2,     0.11,     0.00,2,     0.01,    1.866,2,    0.015,    2.618,2,    1.208,2,    0.083,2,   2177.3,2,   2263.2,2,   7.6111,2, -999.000,9, -999.000,   -999.0,9,   -999.0,   7.8914,  26.5387
    49MR0505_1,   P03,    64,  1,     28, X12016,2,20051108,2229, 24.2457,-136.4562, 4293,    500.5,2,   6.1180,2,   6.11686,2,  34.0348,2,  34.0358,6,    83.04,1,    87.09,2,    494.3,2,    79.40,2,    86.83,2,    60.55,2,     0.25,    34.50,2,     0.13,     0.00,2,     0.01,    2.514,2,    0.016,    1.328,2,    0.604,2,    0.036,2,   2247.1,2,   2285.2,2,   7.4643,2, -999.000,9, -999.000,   -999.0,9,   -999.0,   6.0742,  26.7806
    49MR0505_1,   P03,    64,  1,     27, X12039,2,20051108,2229, 24.2457,-136.4562, 4293,    601.9,2,   5.2351,2,   5.23247,2,  34.1591,2,  34.1572,2,    32.14,1,    33.53,2,    596.3,2,    28.52,2,    33.76,2,    82.24,2,     0.30,    40.26,2,     0.15,     0.00,2,     0.01,    2.987,2,    0.017,    0.275,2,    0.117,2,    0.000,2,   2305.0,2,   2309.6,2,   7.3679,2, -999.000,9, -999.000,   -999.0,9,   -999.0,   5.1859,  26.9871
    49MR0505_1,   P03,    64,  1,     26, X12038,2,20051108,2229, 24.2457,-136.4562, 4293,    701.3,2,   4.8881,2,   4.88808,2,  34.3292,2,  34.3294,2,    15.45,1,    16.32,2,    698.2,2,    15.93,2,    16.16,2,    94.61,2,     0.33,    42.35,2,     0.15,     0.00,2,     0.01,    3.167,2,    0.018,    0.030,2,    0.009,2,    0.000,2,   2332.8,6,   2336.6,2,   7.3549,2, -999.000,9, -999.000,   -999.0,9,   -999.0,   4.8320,  27.1626
    49MR0505_1,   P03,    64,  1,     25, X12037,2,20051108,2229, 24.2457,-136.4562, 4293,    801.0,2,   4.6642,2,   4.66579,2,  34.4131,2,  34.4131,2,    19.32,1,    20.27,2,    797.8,2,    20.60,2,    20.24,2,    99.08,2,     0.34,    42.78,2,     0.15,     0.00,2,     0.01,    3.178,2,    0.018,    0.005,6,    0.002,6,    0.000,6,   2339.2,2,   2345.7,6,   7.3726,2, -999.000,9, -999.000,   -999.0,9,   -999.0,   4.6008,  27.2550
    49MR0505_1,   P03,    64,  1,     24, X12008,2,20051108,2229, 24.2457,-136.4562, 4293,    902.9,2,   4.3709,2,   4.37127,2,  34.4661,2,  34.4668,2,    25.26,1,    26.36,2,    900.6,2,    26.71,2,    26.58,2,   104.64,2,     0.35,    43.07,2,     0.15,     0.00,2,     0.01,    3.173,2,    0.018,    0.000,2,    0.000,2,    0.000,2,   2344.6,2,   2360.1,2,   7.3870,2, -999.000,9, -999.000,   -999.0,9,   -999.0,   4.3007,  27.3298
    49MR0505_1,   P03,    64,  1,     23, X12035,2,20051108,2229, 24.2457,-136.4562, 4293,   1001.3,2,   4.0977,2,   4.09911,2,  34.4951,2,  34.4952,6,    30.02,1,    31.15,2,   1000.1,2,    31.12,2,    31.38,2,   110.34,2,     0.36,    43.11,2,     0.15,     0.00,2,     0.01,    3.170,2,    0.018,    0.000,2,    0.001,2,    0.000,2,   2348.3,2,   2362.2,3,   7.3987,2, -999.000,9, -999.000,   -999.0,9,   -999.0,   4.0212,  27.3823
    49MR0505_1,   P03,    64,  1,     22, X12034,2,20051108,2229, 24.2457,-136.4562, 4293,   1199.4,2,   3.5313,2,   3.53195,2,  34.5340,2,  34.5340,2,    38.39,1,    39.92,2,   1199.3,2,    39.64,2,    40.31,2,   123.42,2,     0.39,    43.02,2,     0.15,     0.00,2,     0.01,    3.138,2,    0.018,    0.001,2,    0.000,2,    0.000,2,   2358.8,2,   2380.5,2,   7.4105,2, -999.000,9, -999.000,   -999.0,9,   -999.0,   3.4430,  27.4714
    49MR0505_1,   P03,    64,  1,     21, X12033,2,20051108,2229, 24.2457,-136.4562, 4293,   1401.3,2,   3.0743,2,   3.07428,2,  34.5633,2,  34.5635,2,    46.59,1,    48.62,2,   1398.9,2,    49.78,2,    49.17,2,   134.47,2,     0.41,    42.63,2,     0.15,     0.00,2,     0.01,    3.114,2,    0.018,    0.000,2,    0.000,2,    0.000,2,   2362.0,2,   2394.7,2,   7.4239,2, -999.000,9, -999.000,   -999.0,9,   -999.0,   2.9739,  27.5389
    49MR0505_1,   P03,    64,  1,     20, X12032,3,20051108,2229, 24.2457,-136.4562, 4293,   1601.6,2,   2.7273,2,   2.72734,2,  34.5860,2,  34.5864,2,    55.64,1,    58.21,2,   1599.1,2,    60.17,2,    58.56,2,   142.88,2,     0.43,    41.99,2,     0.15,     0.00,2,     0.01,    3.053,2,    0.018,    0.005,2,    0.000,2,    0.000,2,   2367.7,2,   2402.7,2,   7.4408,6, -999.000,9, -999.000,   -999.0,9,   -999.0,   2.6142,  27.5890
    49MR0505_1,   P03,    64,  1,     19, X12001,2,20051108,2229, 24.2457,-136.4562, 4293,   1803.4,2,   2.3786,2,   2.37918,2,  34.6092,2,  34.6092,2,    68.07,1,    71.62,2,   1803.2,2,    71.83,2,    71.83,2,   150.44,2,     0.45,    41.32,2,     0.15,     0.00,2,     0.01,    2.974,2,    0.017,    0.000,2,    0.001,2,    0.000,2,   2367.7,2,   2409.7,2,   7.4634,2, -999.000,9, -999.000,   -999.0,9,   -999.0,   2.2532,  27.6381
    49MR0505_1,   P03,    64,  1,     18, X12030,2,20051108,2229, 24.2457,-136.4562, 4293,   2001.3,2,   2.1486,2,   2.14876,2,  34.6259,2,  34.6258,6,    78.40,1,    82.73,2,   2000.8,2,    83.36,2,    82.82,2,   155.21,2,     0.46,    40.65,2,     0.15,     0.00,2,     0.01,    2.904,2,    0.017,    0.000,2,    0.000,2,    0.000,2,   2365.9,2,   2416.5,2,   7.4825,2, -999.000,9, -999.000,   -999.0,9,   -999.0,   2.0098,  27.6712
    49MR0505_1,   P03,    64,  1,     17, X12049,2,20051108,2229, 24.2457,-136.4562, 4293,   2200.6,2,   1.9519,2,   1.95193,2,  34.6396,2,  34.6402,2,    88.31,1,    93.32,2,   2200.7,2,    93.29,2,    93.30,2,   158.84,2,     0.47,    39.91,2,     0.14,     0.00,2,     0.01,    2.849,2,    0.017, -999.000,9, -999.000,9, -999.000,9,   2362.7,2,   2417.0,2,   7.5026,2, -999.000,9, -999.000,   -999.0,9,   -999.0,   1.7991,  27.6986
    49MR0505_1,   P03,    64,  1,     16, X12028,2,20051108,2229, 24.2457,-136.4562, 4293,   2399.7,2,   1.7914,2,   1.79142,2,  34.6500,2,  34.6502,2,    96.88,1,   102.50,2,   2400.4,2,   101.59,2,   102.59,2,   162.58,2,     0.48,    39.42,2,     0.14,     0.00,2,     0.01,    2.798,2,    0.017, -999.000,9, -999.000,9, -999.000,9,   2360.2,6,   2425.6,2,   7.5181,2, -999.000,9, -999.000,   -999.0,9,   -999.0,   1.6240,  27.7202
    49MR0505_1,   P03,    64,  1,     15, X12009,2,20051108,2229, 24.2457,-136.4562, 4293,   2600.5,2,   1.6750,2,   1.67507,2,  34.6573,2,  34.6572,2,   103.39,1,   109.33,2,   2601.6,2,   108.19,2,   109.56,2,   165.43,2,     0.48,    38.97,2,     0.14,     0.00,2,     0.01,    2.754,2,    0.017, -999.000,5, -999.000,5, -999.000,5,   2357.1,2,   2422.7,6,   7.5303,2, -999.000,9, -999.000,   -999.0,9,   -999.0,   1.4917,  27.7358
    49MR0505_1,   P03,    64,  1,     14, X12026,2,20051108,2229, 24.2457,-136.4562, 4293,   2800.4,2,   1.5958,2,   1.59569,2,  34.6648,2,  34.6652,2,   110.89,1,   117.31,2,   2800.8,2,   116.79,2,   117.48,2,   165.54,2,     0.48,    38.45,2,     0.14,     0.00,2,     0.01,    2.719,2,    0.017, -999.000,9, -999.000,9, -999.000,9,   2353.6,2,   2426.2,2,   7.5433,6, -999.000,9, -999.000,   -999.0,9,   -999.0,   1.3958,  27.7487
    49MR0505_1,   P03,    64,  1,     13, X12025,2,20051108,2229, 24.2457,-136.4562, 4293,   4436.6,2,   1.4837,2,   1.48369,2,  34.6894,2,  34.6895,2,   147.30,1,   153.38,2,   4436.6,2,   153.00,2,   153.20,2,   151.63,2,     0.45,    36.04,2,     0.13,     0.00,2,     0.01,    2.519,2,    0.016, -999.000,9, -999.000,9, -999.000,9,   2325.7,2,   2420.0,2,   7.5983,2, -999.000,9, -999.000,   -999.0,9,   -999.0,   1.1165,  27.7880
    49MR0505_1,   P03,    64,  1,     12, X12024,2,20051108,2229, 24.2457,-136.4562, 4293,   3250.6,2,   1.5035,2,   1.50365,2,  34.6767,2,  34.6765,2,   124.35,1,   131.38,2,   3251.0,2,   130.98,2,   131.15,2,   163.41,2,     0.48,    37.65,2,     0.14,     0.00,2,     0.01,    2.633,2,    0.017, -999.000,9, -999.000,9, -999.000,9,   2344.8,2,   2427.2,2,   7.5694,2, -999.000,9, -999.000,   -999.0,9,   -999.0,   1.2623,  27.7677
    49MR0505_1,   P03,    64,  1,     11, X12023,2,20051108,2229, 24.2457,-136.4562, 4293,   3501.3,2,   1.4840,2,   1.48408,2,  34.6808,2,  34.6809,2,   130.01,1,   136.94,2,   3501.3,2,   137.51,2,  -999.00,5,   161.59,2,     0.47,    37.14,2,     0.14,     0.00,2,     0.01,    2.605,2,    0.016,    0.002,2,    0.003,2,    0.000,2,   2340.4,2,   2426.7,2,   7.5767,2, -999.000,9, -999.000,   -999.0,9,   -999.0,   1.2181,  27.7741
    49MR0505_1,   P03,    64,  1,     10, X12022,2,20051108,2229, 24.2457,-136.4562, 4293,   3751.8,2,   1.4808,2,   1.48082,2,  34.6833,2,  34.6839,2,   134.45,1,   141.15,2,   3751.7,2,   142.16,2,   141.21,2,   159.63,2,     0.47,    36.96,2,     0.14,     0.00,2,     0.01,    2.588,2,    0.016, -999.000,9, -999.000,9, -999.000,9,   2337.2,2,   2421.9,2,   7.5841,2, -999.000,9, -999.000,   -999.0,9,   -999.0,   1.1890,  27.7781
    49MR0505_1,   P03,    64,  1,      9, X12021,2,20051108,2229, 24.2457,-136.4562, 4293,   4001.6,2,   1.4784,2,   1.47854,2,  34.6860,2,  34.6860,6,   139.10,1,   145.60,2,   4001.7,2,   145.98,2,   145.55,2,   156.74,2,     0.46,    36.58,2,     0.14,     0.00,2,     0.01,    2.555,2,    0.016, -999.000,9, -999.000,9, -999.000,9,   2333.5,2,   2420.3,2,   7.5899,2, -999.000,9, -999.000,   -999.0,9,   -999.0,   1.1599,  27.7822
    49MR0505_1,   P03,    64,  1,      8, X12020,2,20051108,2229, 24.2457,-136.4562, 4293,   4250.4,2,   1.4820,2,   1.48189,2,  34.6879,2,  34.6879,2,   143.52,1,   149.96,2,   4250.3,2,   150.43,2,   149.66,2,   154.30,2,     0.46,    36.33,2,     0.13,     0.00,2,     0.01,    2.543,2,    0.016, -999.000,9, -999.000,9, -999.000,9,   2329.2,6,   2425.6,2,   7.5952,2, -999.000,9, -999.000,   -999.0,9,   -999.0,   1.1359,  27.7854
    49MR0505_1,   P03,    64,  1,      7, X12019,9,20051108,2229, 24.2457,-136.4562, 4293,     10.4,2,  22.5456,2,  22.54630,2,  35.1587,2,-999.0000,9,   207.44,1,   219.28,2,     14.7,2,   218.71,2,  -999.00,9,  -999.00,9,  -999.00,  -999.00,9,  -999.00,  -999.00,9,  -999.00, -999.000,9, -999.000, -999.000,9, -999.000,9, -999.000,9,   -999.0,9,   -999.0,9,-999.0000,9, -999.000,9, -999.000,   -999.0,9,   -999.0,  22.5435,  24.1848
    49MR0505_1,   P03,    64,  1,      6, X12018,9,20051108,2229, 24.2457,-136.4562, 4293,     49.6,2,  22.5609,2,  22.56172,2,  35.1600,2,-999.0000,9,   207.63,1,   219.02,2,     53.4,2,   218.65,2,  -999.00,9,  -999.00,9,  -999.00,  -999.00,9,  -999.00,  -999.00,9,  -999.00, -999.000,9, -999.000, -999.000,9, -999.000,9, -999.000,9,   -999.0,9,   -999.0,9,-999.0000,9, -999.000,9, -999.000,   -999.0,9,   -999.0,  22.5509,  24.1837
    49MR0505_1,   P03,    64,  1,      5, X12043,9,20051108,2229, 24.2457,-136.4562, 4293,    102.8,2,  20.8463,2,  20.84699,2,  35.1266,2,-999.0000,9,   218.97,1,   231.99,2,     99.3,2,   231.12,2,  -999.00,9,  -999.00,9,  -999.00,  -999.00,9,  -999.00,  -999.00,9,  -999.00, -999.000,9, -999.000, -999.000,9, -999.000,9, -999.000,9,   -999.0,9,   -999.0,9,-999.0000,9, -999.000,9, -999.000,   -999.0,9,   -999.0,  20.8267,  24.6373
    49MR0505_1,   P03,    64,  1,      4, X12010,9,20051108,2229, 24.2457,-136.4562, 4293,    150.9,2,  18.9085,2,  18.92601,2,  34.8504,2,-999.0000,9,   206.17,1,   217.54,2,    150.4,2,   216.71,2,  -999.00,9,  -999.00,9,  -999.00,  -999.00,9,  -999.00,  -999.00,9,  -999.00, -999.000,9, -999.000, -999.000,9, -999.000,9, -999.000,9,   -999.0,9,   -999.0,9,-999.0000,9, -999.000,9, -999.000,   -999.0,9,   -999.0,  18.8817,  24.9369
    49MR0505_1,   P03,    64,  1,      3, X12015,9,20051108,2229, 24.2457,-136.4562, 4293,   3001.5,2,   1.5520,2,   1.55199,2,  34.6701,2,-999.0000,9,   116.52,1,   123.25,2,   3001.8,2,   123.06,2,  -999.00,9,  -999.00,9,  -999.00,  -999.00,9,  -999.00,  -999.00,9,  -999.00, -999.000,9, -999.000, -999.000,9, -999.000,9, -999.000,9,   -999.0,9,   -999.0,9,-999.0000,9, -999.000,9, -999.000,   -999.0,9,   -999.0,   1.3339,  27.7573
    49MR0505_1,   P03,    64,  1,      2, X12014,2,20051108,2229, 24.2457,-136.4562, 4293,   3000.8,2,   1.5523,2,   1.55218,2,  34.6701,2,  34.6703,6,   116.51,1,   123.21,2,   3001.1,2,   123.12,2,   122.96,2,   164.91,2,     0.48,    38.06,2,     0.14,     0.00,2,     0.01,    2.681,2,    0.017, -999.000,9, -999.000,9, -999.000,9,   2349.3,2,   2425.4,2,   7.5538,2, -999.000,9, -999.000,   -999.0,9,   -999.0,   1.3343,  27.7573
    49MR0505_1,   P03,    64,  1,      1, X12013,2,20051108,2229, 24.2457,-136.4562, 4293,   4436.1,2,   1.4838,2,   1.48380,2,  34.6894,2,  34.6895,6,   147.31,1,   153.39,2,   4436.2,2,   153.01,2,   153.04,2,   151.79,2,     0.45,    36.11,2,     0.13,     0.00,2,     0.01,    2.521,2,    0.016,    0.003,2,    0.001,2,    0.000,2,   2326.0,2,   2420.9,2,   7.5997,2, -999.000,9, -999.000,   -999.0,9,   -999.0,   1.1167,  27.7879