BOTTLE,20100316JAMSTECRIGC
EXPOCODE,SECT,STNNBR,CASTNO,SAMPNO,BTLNBR,BTLNBR_FLAG_W,DATE,TIME,LATITUDE,LONGITUDE,DEPTH,CTDPRS,CTDPRS_FLAG_W,CTDTMP,CTDTMP_FLAG_W,SBE35,SBE35_FLAG_W,CTDSAL,CTDSAL_FLAG_W,SALNTY,SALNTY_FLAG_W,CTDOXY,CTDOXY_FLAG_W,OPTOXY,OPTOXY_FLAG_W,DWNPRS,DWNPRS_FLAG_W,DWNOXY,DWNOXY_FLAG_W,OXYGEN,OXYGEN_FLAG_W,SILCAT,SILCAT_FLAG_W,SILUNC,NITRAT,NITRAT_FLAG_W,NRAUNC,NITRIT,NITRIT_FLAG_W,NRIUNC,PHSPHT,PHSPHT_FLAG_W,PHPUNC,CFC-11,CFC-11_FLAG_W,CFC-12,CFC-12_FLAG_W,CFC113,CFC113_FLAG_W,TCARBN,TCARBN_FLAG_W,ALKALI,ALKALI_FLAG_W,PH,PH_FLAG_W,DELC13,DELC13_FLAG_W,C13ERR,DELC14,DELC14_FLAG_W,C14ERR,THETA,SIG0
,,,,,,,,UTC,DEG,DEG,M,DBAR,,ITS-90,,ITS-90,,PSS-78,,PSS-78,,UMOL/KG,,UMOL/KG,,DBAR,,UMOL/KG,,UMOL/KG,,UMOL/KG,,UMOL/KG,UMOL/KG,,UMOL/KG,UMOL/KG,,UMOL/KG,UMOL/KG,,UMOL/KG,PMOL/KG,,PMOL/KG,,PMOL/KG,,UMOL/KG,,UMOL/KG,,,,/MILLE,,/MILLE,/MILLE,,/MILLE,DEG C,KG/CUM
    49MR0505_1,   P03,    31,  1,      0,   -999,9,20051104,0143, 29.0495,-123.8892, 4392,   -999.0,9,-999.0000,9,-999.00000,9,-999.0000,9,  33.4405,2,  -999.00,9,  -999.00,9,   -999.0,9,  -999.00,9,  -999.00,9,  -999.00,9,  -999.00,  -999.00,9,  -999.00,  -999.00,9,  -999.00, -999.000,9, -999.000, -999.000,9, -999.000,9, -999.000,9,   -999.0,9,   -999.0,9,-999.0000,9, -999.000,9, -999.000,   -999.0,9,   -999.0,-999.0000,-999.0000
    49MR0505_1,   P03,    31,  1,     36, X12048,2,20051104,0143, 29.0495,-123.8892, 4392,      9.9,2,  19.2838,2,  19.28314,2,  33.4277,2,  33.4278,2,   226.15,1,   235.70,2,     14.9,2,   235.72,2,   235.05,2,     2.03,2,     0.12,     0.03,2,     0.03,     0.00,2,     0.01,    0.288,2,    0.014,    2.228,2,    1.329,2, -999.000,5,   1991.1,2,   2235.8,2,   7.9725,6, -999.000,9, -999.000,   -999.0,9,   -999.0,  19.2820,  23.7482
    49MR0505_1,   P03,    31,  1,     35, X12047,2,20051104,0143, 29.0495,-123.8892, 4392,     50.8,2,  19.2468,2,  19.24707,2,  33.4234,2,  33.4245,2,   226.47,1,   236.92,2,     52.3,2,   235.73,2,   235.06,2,     2.00,2,     0.12,     0.01,2,     0.03,     0.00,2,     0.01,    0.290,2,    0.014,    2.243,2,    1.320,2, -999.000,5,   1991.6,6,   2234.1,2,   7.9742,2, -999.000,9, -999.000,   -999.0,9,   -999.0,  19.2378,  23.7562
    49MR0505_1,   P03,    31,  1,     34, X12046,2,20051104,0143, 29.0495,-123.8892, 4392,    100.6,2,  14.0746,2,  14.08180,2,  33.2936,2,  33.2980,2,   228.39,1,   236.68,2,    104.1,2,   231.19,2,   235.41,2,     4.10,2,     0.13,     1.66,2,     0.04,     0.16,2,     0.01,    0.538,2,    0.013,    2.893,2,    1.646,2, -999.000,5,   2027.1,2,   2220.4,6,   7.8793,2, -999.000,9, -999.000,   -999.0,9,   -999.0,  14.0603,  24.8561
    49MR0505_1,   P03,    31,  1,     33, X12003,2,20051104,0143, 29.0495,-123.8892, 4392,    151.5,2,  11.5265,2,  11.52725,2,  33.8761,2,  33.8844,2,    95.50,1,    99.35,2,    152.6,2,   106.51,2,    97.63,2,    22.23,2,     0.17,    21.76,2,     0.09,     0.01,2,     0.01,    1.951,2,    0.015,    2.605,2,    1.413,2,    0.155,2,   2178.4,2,   2247.9,2,   7.5598,6, -999.000,9, -999.000,   -999.0,9,   -999.0,  11.5075,  25.8081
    49MR0505_1,   P03,    31,  1,     32, X12044,2,20051104,0143, 29.0495,-123.8892, 4392,    200.4,2,  11.4404,2,  11.44030,2,  34.2331,2,  34.2273,2,    58.81,1,    62.05,2,    197.6,2,    62.76,2,    61.22,2,    28.17,2,     0.18,    24.90,2,     0.10,     0.01,2,     0.01,    2.267,2,    0.016,    2.006,2,    1.081,2,    0.088,2,   2217.5,2,   2271.6,2,   7.5045,2, -999.000,9, -999.000,   -999.0,9,   -999.0,  11.4153,  26.1027
    49MR0505_1,   P03,    31,  1,     31, X12051,2,20051104,0143, 29.0495,-123.8892, 4392,    250.0,2,  10.4690,2,  10.46924,2,  34.2837,2,  34.2891,2,    58.86,1,    61.63,2,    248.6,2,    49.76,2,    60.18,2,    32.20,2,     0.19,    26.62,2,     0.11,     0.01,2,     0.01,    2.326,2,    0.016,    1.751,6,    0.920,6,    0.068,6,   2226.1,2,   2279.1,2,   7.4933,2, -999.000,9, -999.000,   -999.0,9,   -999.0,  10.4393,  26.3170
    49MR0505_1,   P03,    31,  1,     30, X12042,2,20051104,0143, 29.0495,-123.8892, 4392,    302.3,2,   9.6209,2,   9.62331,2,  34.3026,2,  34.3041,2,    53.13,1,    55.31,2,    302.5,2,    50.65,2,    54.67,2,    36.74,2,     0.20,    28.32,2,     0.11,     0.00,2,     0.01,    2.426,2,    0.016,    1.474,2,    0.765,2,    0.065,2,   2238.6,2,   2281.5,2,   7.4717,2, -999.000,9, -999.000,   -999.0,9,   -999.0,   9.5868,  26.4767
    49MR0505_1,   P03,    31,  1,     29, X12041,2,20051104,0143, 29.0495,-123.8892, 4392,    401.4,2,   7.5164,2,   7.51655,2,  34.1771,2,  34.1765,2,    52.35,1,    54.34,2,    405.9,2,    54.26,2,    54.13,2,    51.32,2,     0.23,    33.56,2,     0.13,     0.01,2,     0.01,    2.615,2,    0.017,    1.152,2,    0.585,2,    0.058,2,   2259.5,2,   2284.9,2,   7.4258,2, -999.000,9, -999.000,   -999.0,9,   -999.0,   7.4772,  26.7037
    49MR0505_1,   P03,    31,  1,     28, X12016,2,20051104,0143, 29.0495,-123.8892, 4392,    500.9,2,   6.8580,2,   6.85712,2,  34.2592,2,  34.2567,6,    26.41,1,    27.23,2,    498.5,2,    24.61,2,    26.99,2,    63.61,2,     0.26,    36.68,2,     0.14,     0.00,2,     0.01,    2.913,2,    0.017,    0.448,2,    0.243,2,    0.019,2,   2292.3,2,   2299.5,2,   7.3782,2, -999.000,9, -999.000,   -999.0,9,   -999.0,   6.8112,  26.8610
    49MR0505_1,   P03,    31,  1,     27, X12039,2,20051104,0143, 29.0495,-123.8892, 4392,    601.9,2,   5.8892,2,   5.88928,2,  34.3157,2,  34.3146,2,    12.55,1,    12.96,2,    602.4,2,    12.42,2,    13.16,2,    79.57,2,     0.29,    39.80,2,     0.14,     0.01,2,     0.01,    3.118,2,    0.018,    0.116,2,    0.062,2,    0.000,2,   2318.8,2,   2319.8,2,   7.3535,2, -999.000,9, -999.000,   -999.0,9,   -999.0,   5.8369,  27.0324
    49MR0505_1,   P03,    31,  1,     26, X12038,2,20051104,0143, 29.0495,-123.8892, 4392,    701.1,2,   5.4698,2,   5.46999,2,  34.3819,2,  34.3809,2,     9.31,1,     9.62,2,    701.0,2,     8.73,2,     9.59,2,    87.61,2,     0.31,    41.42,2,     0.15,     0.00,2,     0.01,    3.205,2,    0.018,    0.032,2,    0.012,2,    0.000,2,   2330.2,6,   2335.3,2,   7.3548,2, -999.000,9, -999.000,   -999.0,9,   -999.0,   5.4105,  27.1369
    49MR0505_1,   P03,    31,  1,     25, X12037,2,20051104,0143, 29.0495,-123.8892, 4392,    800.9,2,   4.9472,2,   4.94808,2,  34.4120,2,  34.4115,2,    11.25,1,    11.40,2,    801.0,2,    10.96,2,    11.53,2,    97.04,2,     0.33,    42.57,2,     0.15,     0.00,2,     0.01,    3.236,2,    0.018,    0.018,6,    0.011,6,    0.000,6,   2342.8,2,   2346.2,6,   7.3561,2, -999.000,9, -999.000,   -999.0,9,   -999.0,   4.8821,  27.2226
    49MR0505_1,   P03,    31,  1,     24, X12008,2,20051104,0143, 29.0495,-123.8892, 4392,    901.6,2,   4.5793,2,   4.57985,2,  34.4483,2,  34.4468,2,    15.05,1,    15.06,2,    899.9,2,    15.82,2,    15.26,2,   104.02,2,     0.35,    43.08,2,     0.15,     0.00,2,     0.01,    3.240,2,    0.018,    0.011,2,    0.004,2,    0.000,2,   2352.2,2,   2357.2,2,   7.3633,2, -999.000,9, -999.000,   -999.0,9,   -999.0,   4.5078,  27.2932
    49MR0505_1,   P03,    31,  1,     23, X12035,2,20051104,0143, 29.0495,-123.8892, 4392,   1000.7,2,   4.2452,2,   4.24576,2,  34.4717,2,  34.4710,6,    19.53,1,    19.67,2,    998.6,2,    21.24,2,    20.43,2,   110.87,2,     0.36,    43.42,2,     0.15,     0.00,2,     0.01,    3.238,2,    0.018,    0.004,2,    0.001,2,    0.000,2,   2354.0,2,   2364.4,2,   7.3701,2, -999.000,9, -999.000,   -999.0,9,   -999.0,   4.1676,  27.3484
    49MR0505_1,   P03,    31,  1,     22, X12034,2,20051104,0143, 29.0495,-123.8892, 4392,   1200.3,2,   3.6992,2,   3.69894,2,  34.5137,2,  34.5132,2,    30.49,1,    30.74,2,   1197.1,2,    32.89,2,    31.53,2,   122.28,2,     0.39,    43.45,2,     0.15,     0.00,2,     0.01,    3.202,2,    0.018,    0.001,2,    0.000,2,    0.000,2,   2361.1,2,   2377.0,2,   7.3910,2, -999.000,9, -999.000,   -999.0,9,   -999.0,   3.6093,  27.4389
    49MR0505_1,   P03,    31,  1,     21, X12033,2,20051104,0143, 29.0495,-123.8892, 4392,   1401.7,2,   3.2241,2,   3.22385,2,  34.5486,2,  34.5478,2,    38.35,1,    38.83,2,   1400.7,2,    40.37,2,    39.72,2,   134.53,2,     0.41,    43.18,2,     0.15,     0.01,2,     0.01,    3.165,2,    0.018,    0.001,2,    0.004,2,    0.000,2,   2366.7,2,   2389.9,2,   7.4056,2, -999.000,9, -999.000,   -999.0,9,   -999.0,   3.1220,  27.5135
    49MR0505_1,   P03,    31,  1,     20, X12032,2,20051104,0143, 29.0495,-123.8892, 4392,   1600.7,2,   2.8352,2,   2.83514,2,  34.5765,2,  34.5765,2,    48.57,1,    49.50,2,   1601.1,2,    49.79,2,    50.35,2,   144.12,2,     0.44,    42.66,2,     0.15,     0.01,2,     0.01,    3.110,2,    0.018,    0.003,2,    0.005,2,    0.000,2,   2375.4,2,   2407.3,2,   7.4236,6, -999.000,9, -999.000,   -999.0,9,   -999.0,   2.7209,  27.5721
    49MR0505_1,   P03,    31,  1,     19, X12001,2,20051104,0143, 29.0495,-123.8892, 4392,   1803.3,2,   2.4899,2,   2.48995,2,  34.5997,2,  34.5995,2,    61.13,1,    62.62,2,   1802.4,2,    63.76,2,    63.24,2,   151.95,2,     0.45,    41.82,2,     0.15,     0.00,2,     0.01,    3.028,2,    0.018,    0.000,2,    0.000,2,    0.000,2,   2372.5,2,   2412.3,2,   7.4465,2, -999.000,9, -999.000,   -999.0,9,   -999.0,   2.3630,  27.6214
    49MR0505_1,   P03,    31,  1,     18, X12030,2,20051104,0143, 29.0495,-123.8892, 4392,   2002.7,2,   2.1937,2,   2.19401,2,  34.6226,2,  34.6222,2,    74.85,1,    77.30,2,   2002.6,2,    78.00,2,    77.80,2,   157.34,2,     0.47,    41.04,2,     0.15,     0.00,2,     0.01,    2.940,2,    0.017,    0.000,2,    0.000,2,    0.000,2,   2369.4,2,   2419.5,2,   7.4726,2, -999.000,9, -999.000,   -999.0,9,   -999.0,   2.0541,  27.6650
    49MR0505_1,   P03,    31,  1,     17, X12049,2,20051104,0143, 29.0495,-123.8892, 4392,   2203.2,2,   2.0225,2,   2.02234,2,  34.6376,2,  34.6373,6,    85.19,1,    88.28,2,   2203.6,2,    88.17,2,    88.67,2,   160.14,2,     0.47,    40.34,2,     0.15,     0.00,2,     0.01,    2.880,2,    0.017, -999.000,9, -999.000,9, -999.000,9,   2367.8,2,   2424.1,2,   7.4939,2, -999.000,9, -999.000,   -999.0,9,   -999.0,   1.8683,  27.6917
    49MR0505_1,   P03,    31,  1,     16, X12028,2,20051104,0143, 29.0495,-123.8892, 4392,   2401.5,2,   1.8873,2,   1.88779,2,  34.6494,2,  34.6487,2,    93.78,1,    97.36,2,   2402.1,2,    97.03,2,    97.75,2,   162.21,2,     0.48,    39.72,2,     0.14,     0.00,2,     0.01,    2.828,2,    0.017, -999.000,9, -999.000,9, -999.000,9,   2363.3,6,   2428.4,2,   7.5126,2, -999.000,9, -999.000,   -999.0,9,   -999.0,   1.7180,  27.7126
    49MR0505_1,   P03,    31,  1,     15, X12006,2,20051104,0143, 29.0495,-123.8892, 4392,   2601.4,2,   1.8067,2,   1.80691,2,  34.6567,2,  34.6560,2,    99.97,1,   103.72,2,   2601.9,2,   103.66,2,   104.42,2,   163.44,2,     0.48,    39.34,2,     0.14,     0.00,2,     0.01,    2.792,2,    0.017,    0.000,2,    0.000,2,    0.000,2,   2361.2,2,   2429.1,6,   7.5221,2, -999.000,9, -999.000,   -999.0,9,   -999.0,   1.6208,  27.7258
    49MR0505_1,   P03,    31,  1,     14, X12026,2,20051104,0143, 29.0495,-123.8892, 4392,   2801.5,2,   1.7194,2,   1.71960,2,  34.6636,2,  34.6629,2,   106.74,1,   110.73,2,   2801.9,2,   110.83,2,   111.42,2,   164.65,2,     0.48,    38.90,2,     0.14,     0.00,2,     0.01,    2.746,2,    0.017, -999.000,9, -999.000,9, -999.000,9,   2358.0,2,   2428.2,2,   7.5361,6, -999.000,9, -999.000,   -999.0,9,   -999.0,   1.5167,  27.7390
    49MR0505_1,   P03,    31,  1,     13, X12025,2,20051104,0143, 29.0495,-123.8892, 4392,   3001.0,2,   1.6397,2,   1.63980,2,  34.6684,2,  34.6679,2,   112.72,1,   116.97,2,   3001.3,2,   117.06,2,   117.46,2,   166.24,2,     0.48,    38.62,2,     0.14,     0.00,2,     0.01,    2.719,2,    0.017, -999.000,9, -999.000,9, -999.000,9,   2351.6,2,   2430.1,2,   7.5452,2, -999.000,9, -999.000,   -999.0,9,   -999.0,   1.4198,  27.7499
    49MR0505_1,   P03,    31,  1,     12, X12024,2,20051104,0143, 29.0495,-123.8892, 4392,   3250.9,2,   1.5908,2,   1.59083,2,  34.6725,2,  34.6718,2,   117.81,1,   122.07,2,   3251.0,2,   122.70,2,   122.67,2,   167.53,2,     0.49,    38.20,2,     0.14,     0.01,2,     0.01,    2.679,2,    0.017,    0.000,2,    0.000,2,    0.000,2,   2352.2,2,   2432.0,2,   7.5538,2, -999.000,9, -999.000,   -999.0,9,   -999.0,   1.3476,  27.7584
    49MR0505_1,   P03,    31,  1,     11, X12023,2,20051104,0143, 29.0495,-123.8892, 4392,   3500.1,2,   1.5389,2,   1.53890,2,  34.6765,2,  34.6763,6,   123.38,1,   127.64,2,   3500.1,2,   128.31,2,   128.17,2,   168.28,2,     0.49,    37.81,2,     0.14,     0.00,2,     0.01,    2.655,2,    0.017, -999.000,9, -999.000,9, -999.000,9,   2347.4,2,   2431.0,2,   7.5626,2, -999.000,9, -999.000,   -999.0,9,   -999.0,   1.2718,  27.7668
    49MR0505_1,   P03,    31,  1,     10, X12022,2,20051104,0143, 29.0495,-123.8892, 4392,   3751.1,2,   1.5219,2,   1.52201,2,  34.6802,2,  34.6796,2,   128.16,1,   132.31,2,   3751.0,2,   133.51,2,   132.84,2,   167.60,2,     0.49,    37.52,2,     0.14,     0.00,2,     0.01,    2.624,2,    0.017, -999.000,9, -999.000,9, -999.000,9,   2345.9,2,   2429.1,2,   7.5704,2, -999.000,9, -999.000,   -999.0,9,   -999.0,   1.2291,  27.7728
    49MR0505_1,   P03,    31,  1,      9, X12021,2,20051104,0143, 29.0495,-123.8892, 4392,   4000.1,2,   1.5205,2,   1.52050,2,  34.6833,2,  34.6828,2,   132.62,1,   136.49,2,   4000.2,2,   136.97,2,   136.98,2,   166.61,2,     0.49,    37.30,2,     0.14,     0.00,2,     0.01,    2.607,2,    0.016,    0.009,2,    0.006,2,    0.000,2,   2343.2,2,   2431.1,2,   7.5788,2, -999.000,9, -999.000,   -999.0,9,   -999.0,   1.2010,  27.7773
    49MR0505_1,   P03,    31,  1,      8, X12020,2,20051104,0143, 29.0495,-123.8892, 4392,   4248.9,2,   1.5392,2,   1.53922,2,  34.6841,2,  34.6840,6,   134.20,1,   137.52,2,   4248.8,2,   138.29,2,   138.03,2,   166.49,2,     0.49,    37.22,2,     0.14,     0.01,2,     0.01,    2.603,2,    0.016, -999.000,9, -999.000,9, -999.000,9,   2342.7,6,   2430.0,2,   7.5804,2, -999.000,9, -999.000,   -999.0,9,   -999.0,   1.1916,  27.7786
    49MR0505_1,   P03,    31,  1,      7, X12019,9,20051104,0143, 29.0495,-123.8892, 4392,   -999.0,9,-999.0000,9,-999.00000,9,-999.0000,9,-999.0000,9,  -999.00,9,  -999.00,9,   -999.0,9,  -999.00,9,  -999.00,9,  -999.00,9,  -999.00,  -999.00,9,  -999.00,  -999.00,9,  -999.00, -999.000,9, -999.000, -999.000,9, -999.000,9, -999.000,9,   -999.0,9,   -999.0,9,-999.0000,9, -999.000,9, -999.000,   -999.0,9,   -999.0,-999.0000,-999.0000
    49MR0505_1,   P03,    31,  1,      6, X12018,9,20051104,0143, 29.0495,-123.8892, 4392,     10.2,2,  19.2889,2,  19.28949,2,  33.4276,2,-999.0000,9,   226.24,1,   235.63,2,     14.8,2,   235.72,2,  -999.00,9,  -999.00,9,  -999.00,  -999.00,9,  -999.00,  -999.00,9,  -999.00, -999.000,9, -999.000, -999.000,9, -999.000,9, -999.000,9,   -999.0,9,   -999.0,9,-999.0000,9, -999.000,9, -999.000,   -999.0,9,   -999.0,  19.2871,  23.7468
    49MR0505_1,   P03,    31,  1,      5, X12043,9,20051104,0143, 29.0495,-123.8892, 4392,     50.7,2,  19.2453,2,  19.24481,2,  33.4237,2,-999.0000,9,   226.32,1,   236.61,2,     52.2,2,   235.73,2,  -999.00,9,  -999.00,9,  -999.00,  -999.00,9,  -999.00,  -999.00,9,  -999.00, -999.000,9, -999.000, -999.000,9, -999.000,9, -999.000,9,   -999.0,9,   -999.0,9,-999.0000,9, -999.000,9, -999.000,   -999.0,9,   -999.0,  19.2363,  23.7568
    49MR0505_1,   P03,    31,  1,      4, X12010,9,20051104,0143, 29.0495,-123.8892, 4392,    100.9,2,  14.0626,2,  14.06676,2,  33.2943,2,-999.0000,9,   228.32,1,   236.76,2,    104.2,2,   230.87,2,  -999.00,9,  -999.00,9,  -999.00,  -999.00,9,  -999.00,  -999.00,9,  -999.00, -999.000,9, -999.000, -999.000,9, -999.000,9, -999.000,9,   -999.0,9,   -999.0,9,-999.0000,9, -999.000,9, -999.000,   -999.0,9,   -999.0,  14.0482,  24.8591
    49MR0505_1,   P03,    31,  1,      3, X12015,9,20051104,0143, 29.0495,-123.8892, 4392,    151.6,2,  11.5258,2,  11.52650,2,  33.8765,2,-999.0000,9,    95.55,1,    99.63,2,    152.6,2,   106.46,2,  -999.00,9,  -999.00,9,  -999.00,  -999.00,9,  -999.00,  -999.00,9,  -999.00, -999.000,9, -999.000, -999.000,9, -999.000,9, -999.000,9,   -999.0,9,   -999.0,9,-999.0000,9, -999.000,9, -999.000,   -999.0,9,   -999.0,  11.5068,  25.8086
    49MR0505_1,   P03,    31,  1,      2, X12014,9,20051104,0143, 29.0495,-123.8892, 4392,    200.8,2,  11.4376,2,  11.43809,2,  34.2338,2,-999.0000,9,    58.64,1,    61.92,2,    197.9,2,    62.74,2,  -999.00,9,  -999.00,9,  -999.00,  -999.00,9,  -999.00,  -999.00,9,  -999.00, -999.000,9, -999.000, -999.000,9, -999.000,9, -999.000,9,   -999.0,9,   -999.0,9,-999.0000,9, -999.000,9, -999.000,   -999.0,9,   -999.0,  11.4124,  26.1038
    49MR0505_1,   P03,    31,  1,      1, X12013,3,20051104,0143, 29.0495,-123.8892, 4392,   4458.8,2,   1.5580,2,   1.55806,2,  34.6846,2,  34.6833,6,   135.84,1,   138.57,2,   4458.9,2,   138.83,2,   139.13,2,   165.96,2,     0.48,    37.23,2,     0.14,     0.00,2,     0.01,    2.602,2,    0.016,    0.000,2,    0.006,2,    0.000,2,   2342.4,2,   2430.2,2,   7.5820,2, -999.000,9, -999.000,   -999.0,9,   -999.0,   1.1860,  27.7793