BOTTLE,20100316JAMSTECRIGC
EXPOCODE,SECT,STNNBR,CASTNO,SAMPNO,BTLNBR,BTLNBR_FLAG_W,DATE,TIME,LATITUDE,LONGITUDE,DEPTH,CTDPRS,CTDPRS_FLAG_W,CTDTMP,CTDTMP_FLAG_W,SBE35,SBE35_FLAG_W,CTDSAL,CTDSAL_FLAG_W,SALNTY,SALNTY_FLAG_W,CTDOXY,CTDOXY_FLAG_W,OPTOXY,OPTOXY_FLAG_W,DWNPRS,DWNPRS_FLAG_W,DWNOXY,DWNOXY_FLAG_W,OXYGEN,OXYGEN_FLAG_W,SILCAT,SILCAT_FLAG_W,SILUNC,NITRAT,NITRAT_FLAG_W,NRAUNC,NITRIT,NITRIT_FLAG_W,NRIUNC,PHSPHT,PHSPHT_FLAG_W,PHPUNC,CFC-11,CFC-11_FLAG_W,CFC-12,CFC-12_FLAG_W,CFC113,CFC113_FLAG_W,TCARBN,TCARBN_FLAG_W,ALKALI,ALKALI_FLAG_W,PH,PH_FLAG_W,DELC13,DELC13_FLAG_W,C13ERR,DELC14,DELC14_FLAG_W,C14ERR,THETA,SIG0
,,,,,,,,UTC,DEG,DEG,M,DBAR,,ITS-90,,ITS-90,,PSS-78,,PSS-78,,UMOL/KG,,UMOL/KG,,DBAR,,UMOL/KG,,UMOL/KG,,UMOL/KG,,UMOL/KG,UMOL/KG,,UMOL/KG,UMOL/KG,,UMOL/KG,UMOL/KG,,UMOL/KG,PMOL/KG,,PMOL/KG,,PMOL/KG,,UMOL/KG,,UMOL/KG,,,,/MILLE,,/MILLE,/MILLE,,/MILLE,DEG C,KG/CUM
    49MR0505_1,   P03,    33,  1,      0,   -999,9,20051104,0751, 28.5845,-124.5222, 4333,   -999.0,9,-999.0000,9,-999.00000,9,-999.0000,9,  33.5991,2,  -999.00,9,  -999.00,9,   -999.0,9,  -999.00,9,  -999.00,9,  -999.00,9,  -999.00,  -999.00,9,  -999.00,  -999.00,9,  -999.00, -999.000,9, -999.000, -999.000,9, -999.000,9, -999.000,9,   -999.0,9,   -999.0,9,-999.0000,9, -999.000,9, -999.000,   -999.0,9,   -999.0,-999.0000,-999.0000
    49MR0505_1,   P03,    33,  1,     36, X12048,2,20051104,0751, 28.5845,-124.5222, 4333,      9.9,2,  20.0280,2,  20.02766,2,  33.6092,2,  33.6088,2,   221.28,1,   230.92,2,     12.2,2,   230.65,2,   230.67,2,     1.89,2,     0.12,     0.04,2,     0.03,     0.00,2,     0.01,    0.274,2,    0.014,    2.130,2,    1.285,2, -999.000,5,   -999.0,9,   -999.0,9,-999.0000,9, -999.000,9, -999.000,   -999.0,9,   -999.0,  20.0262,  23.6944
    49MR0505_1,   P03,    33,  1,     35, X12047,2,20051104,0751, 28.5845,-124.5222, 4333,     50.9,2,  20.0542,2,  20.05699,2,  33.6179,2,  33.6304,2,   221.13,1,   231.92,2,     53.5,2,   229.78,2,   230.80,2,     1.85,2,     0.12,     0.03,2,     0.03,     0.00,2,     0.01,    0.270,2,    0.015,    2.136,2,    1.291,2, -999.000,5,   -999.0,9,   -999.0,9,-999.0000,9, -999.000,9, -999.000,   -999.0,9,   -999.0,  20.0449,  23.6961
    49MR0505_1,   P03,    33,  1,     34, X12046,2,20051104,0751, 28.5845,-124.5222, 4333,    100.6,2,  16.6965,2,  16.71417,2,  33.6618,2,  33.6688,2,   238.26,1,   249.70,2,     99.2,2,   241.66,2,   247.18,2,     2.04,2,     0.12,     0.03,2,     0.03,     0.01,2,     0.01,    0.258,2,    0.015,    2.597,2,    1.520,2, -999.000,5,   -999.0,9,   -999.0,9,-999.0000,9, -999.000,9, -999.000,   -999.0,9,   -999.0,  16.6803,  24.5622
    49MR0505_1,   P03,    33,  1,     33, X12003,2,20051104,0751, 28.5845,-124.5222, 4333,    150.5,2,  12.3155,2,  12.31343,2,  33.3701,2,  33.3701,2,   208.18,1,   215.32,2,    152.0,2,   213.41,2,   214.69,2,     6.99,2,     0.13,     7.74,2,     0.05,     0.02,2,     0.01,    0.826,2,    0.013,    3.117,2,    1.729,2,    0.261,2,   -999.0,9,   -999.0,9,-999.0000,9, -999.000,9, -999.000,   -999.0,9,   -999.0,  12.2959,  25.2673
    49MR0505_1,   P03,    33,  1,     32, X12044,2,20051104,0751, 28.5845,-124.5222, 4333,    200.4,2,   9.8135,2,   9.81497,2,  33.6167,2,  33.6221,2,   176.00,1,   181.07,2,    198.8,2,   165.32,2,   181.26,2,    17.19,2,     0.16,    17.69,2,     0.08,     0.01,2,     0.01,    1.408,2,    0.014,    3.269,2,    1.751,2,    0.159,2,   -999.0,9,   -999.0,9,-999.0000,9, -999.000,9, -999.000,   -999.0,9,   -999.0,   9.7909,  25.9068
    49MR0505_1,   P03,    33,  1,     31, X12051,2,20051104,0751, 28.5845,-124.5222, 4333,    250.0,2,   8.9439,2,   8.94467,2,  33.9402,2,  33.9433,2,   139.76,1,   144.97,2,    252.4,2,   146.99,2,   144.78,2,    27.26,2,     0.18,    23.59,2,     0.10,     0.01,2,     0.01,    1.774,2,    0.015,    2.927,6,    1.498,6,    0.115,6,   -999.0,9,   -999.0,9,-999.0000,9, -999.000,9, -999.000,   -999.0,9,   -999.0,   8.9171,  26.3013
    49MR0505_1,   P03,    33,  1,     30, X12042,2,20051104,0751, 28.5845,-124.5222, 4333,    300.3,2,   8.2600,2,   8.25969,2,  34.0650,2,  34.0641,2,   105.81,1,   109.54,2,    301.6,2,   109.33,2,   109.50,2,    37.22,2,     0.20,    28.30,2,     0.11,     0.00,2,     0.01,    2.113,2,    0.015,    2.349,2,    1.139,2,    0.095,2,   -999.0,9,   -999.0,9,-999.0000,9, -999.000,9, -999.000,   -999.0,9,   -999.0,   8.2292,  26.5052
    49MR0505_1,   P03,    33,  1,     29, X12041,2,20051104,0751, 28.5845,-124.5222, 4333,    402.2,2,   6.9783,2,   6.97914,2,  34.1246,2,  34.1253,2,    60.41,1,    62.48,2,    398.8,2,    58.87,2,    62.25,2,    54.71,2,     0.24,    34.35,2,     0.13,     0.01,2,     0.01,    2.614,2,    0.017,    1.185,2,    0.552,2,    0.036,2,   -999.0,9,   -999.0,9,-999.0000,9, -999.000,9, -999.000,   -999.0,9,   -999.0,   6.9407,  26.7373
    49MR0505_1,   P03,    33,  1,     28, X12016,2,20051104,0751, 28.5845,-124.5222, 4333,    500.3,2,   6.0342,2,   6.03415,2,  34.1698,2,  34.1783,6,    35.15,1,    35.46,2,    497.0,2,    31.48,2,    34.30,2,    70.80,2,     0.27,    38.32,2,     0.14,     0.00,2,     0.01,    2.919,2,    0.017,    0.479,2,    0.228,2,    0.015,2,   -999.0,9,   -999.0,9,-999.0000,9, -999.000,9, -999.000,   -999.0,9,   -999.0,   5.9906,  26.8978
    49MR0505_1,   P03,    33,  1,     27, X12039,2,20051104,0751, 28.5845,-124.5222, 4333,    600.9,2,   5.4441,2,   5.44451,2,  34.2707,2,  34.2722,2,    15.85,1,    16.12,2,    599.9,2,    15.68,2,    16.06,2,    84.64,2,     0.31,    40.91,2,     0.15,     0.00,2,     0.01,    3.132,2,    0.018,    0.138,2,    0.050,2,    0.000,2,   -999.0,9,   -999.0,9,-999.0000,9, -999.000,9, -999.000,   -999.0,9,   -999.0,   5.3940,  27.0509
    49MR0505_1,   P03,    33,  1,     26, X12038,2,20051104,0751, 28.5845,-124.5222, 4333,    701.7,2,   4.8487,2,   4.84880,2,  34.3291,2,  34.3301,2,    12.82,1,    12.99,2,    700.1,2,    12.99,2,    12.96,2,    96.69,2,     0.33,    42.59,2,     0.15,     0.00,2,     0.01,    3.210,2,    0.018,    0.059,2,    0.012,2,    0.000,2,   -999.0,9,   -999.0,9,-999.0000,9, -999.000,9, -999.000,   -999.0,9,   -999.0,   4.7928,  27.1669
    49MR0505_1,   P03,    33,  1,     25, X12037,2,20051104,0751, 28.5845,-124.5222, 4333,    800.5,2,   4.4989,2,   4.49888,2,  34.3973,2,  34.3979,2,    14.95,1,    15.04,2,    799.7,2,    15.33,2,    15.40,2,   104.22,2,     0.35,    43.12,2,     0.15,     0.00,2,     0.01,    3.232,2,    0.018,    0.007,2,    0.004,6,    0.000,6,   -999.0,9,   -999.0,9,-999.0000,9, -999.000,9, -999.000,   -999.0,9,   -999.0,   4.4366,  27.2604
    49MR0505_1,   P03,    33,  1,     24, X12008,2,20051104,0751, 28.5845,-124.5222, 4333,    899.4,2,   4.2602,2,   4.26009,2,  34.4384,2,  34.4391,2,    18.82,1,    19.01,2,    897.5,2,    19.70,2,    19.38,2,   109.52,2,     0.36,    43.39,2,     0.15,     0.00,2,     0.01,    3.219,2,    0.018,    0.002,2,    0.000,2,    0.000,2,   -999.0,9,   -999.0,9,-999.0000,9, -999.000,9, -999.000,   -999.0,9,   -999.0,   4.1911,  27.3194
    49MR0505_1,   P03,    33,  1,     23, X12035,2,20051104,0751, 28.5845,-124.5222, 4333,   1000.3,2,   3.9895,2,   3.98934,2,  34.4757,2,  34.4757,6,    24.40,1,    24.62,2,    999.0,2,    25.65,2,    24.95,2,   115.03,2,     0.37,    43.43,2,     0.15,     0.00,2,     0.01,    3.210,2,    0.018,    0.013,2,    0.006,2,    0.000,2,   -999.0,9,   -999.0,9,-999.0000,9, -999.000,9, -999.000,   -999.0,9,   -999.0,   3.9139,  27.3779
    49MR0505_1,   P03,    33,  1,     22, X12034,2,20051104,0751, 28.5845,-124.5222, 4333,   1201.4,2,   3.4836,2,   3.48299,2,  34.5211,2,  34.5214,2,    35.24,1,    35.61,2,   1200.2,2,    36.58,2,    36.47,2,   126.73,2,     0.40,    43.19,2,     0.15,     0.00,2,     0.01,    3.169,2,    0.018,    0.000,2,    0.000,2,    0.000,2,   -999.0,9,   -999.0,9,-999.0000,9, -999.000,9, -999.000,   -999.0,9,   -999.0,   3.3956,  27.4656
    49MR0505_1,   P03,    33,  1,     21, X12033,2,20051104,0751, 28.5845,-124.5222, 4333,   1402.5,2,   3.0337,2,   3.03353,2,  34.5581,2,  34.5583,2,    42.85,1,    43.60,2,   1402.5,2,    43.89,2,    44.33,2,   138.64,2,     0.42,    42.78,2,     0.15,     0.00,2,     0.01,    3.132,2,    0.018,    0.005,2,    0.000,2,    0.000,2,   -999.0,9,   -999.0,9,-999.0000,9, -999.000,9, -999.000,   -999.0,9,   -999.0,   2.9336,  27.5384
    49MR0505_1,   P03,    33,  1,     20, X12032,2,20051104,0751, 28.5845,-124.5222, 4333,   1600.2,2,   2.6856,2,   2.68604,2,  34.5808,2,  34.5807,2,    53.49,1,    54.68,2,   1599.0,2,    55.95,2,    55.68,2,   146.89,2,     0.44,    42.28,2,     0.15,     0.00,2,     0.01,    3.072,2,    0.018,    0.000,2,    0.000,2,    0.000,2,   -999.0,9,   -999.0,9,-999.0000,9, -999.000,9, -999.000,   -999.0,9,   -999.0,   2.5732,  27.5884
    49MR0505_1,   P03,    33,  1,     19, X12001,2,20051104,0751, 28.5845,-124.5222, 4333,   1801.8,2,   2.3935,2,   2.39311,2,  34.6043,2,  34.6046,6,    64.52,1,    66.41,2,   1800.4,2,    68.06,2,    66.96,2,   153.60,2,     0.46,    41.69,2,     0.15,     0.00,2,     0.01,    3.009,2,    0.017,    0.000,2,    0.001,2,    0.000,2,   -999.0,9,   -999.0,9,-999.0000,9, -999.000,9, -999.000,   -999.0,9,   -999.0,   2.2680,  27.6330
    49MR0505_1,   P03,    33,  1,     18, X12030,2,20051104,0751, 28.5845,-124.5222, 4333,   2001.4,2,   2.1531,2,   2.15299,2,  34.6254,2,  34.6257,2,    76.83,1,    79.47,2,   2000.8,2,    80.51,2,    79.89,2,   158.04,2,     0.47,    40.87,2,     0.15,     0.00,2,     0.01,    2.933,2,    0.017,    0.000,2,    0.001,2,    0.000,2,   -999.0,9,   -999.0,9,-999.0000,9, -999.000,9, -999.000,   -999.0,9,   -999.0,   2.0142,  27.6704
    49MR0505_1,   P03,    33,  1,     17, X12049,2,20051104,0751, 28.5845,-124.5222, 4333,   2203.1,2,   1.9838,2,   1.98392,2,  34.6400,2,  34.6405,2,    87.00,1,    90.30,2,   2202.8,2,    90.93,2,    90.60,2,   160.56,2,     0.47,    40.18,2,     0.15,     0.00,2,     0.01,    2.866,2,    0.017, -999.000,9, -999.000,9, -999.000,9,   -999.0,9,   -999.0,9,-999.0000,9, -999.000,9, -999.000,   -999.0,9,   -999.0,   1.8303,  27.6965
    49MR0505_1,   P03,    33,  1,     16, X12028,2,20051104,0751, 28.5845,-124.5222, 4333,   2400.6,2,   1.8846,2,   1.88452,2,  34.6496,2,  34.6499,2,    94.24,1,    97.81,2,   2400.0,2,    98.89,2,    98.18,2,   161.74,2,     0.47,    39.69,2,     0.14,     0.00,2,     0.01,    2.823,2,    0.017, -999.000,9, -999.000,9, -999.000,9,   -999.0,9,   -999.0,9,-999.0000,9, -999.000,9, -999.000,   -999.0,9,   -999.0,   1.7154,  27.7130
    49MR0505_1,   P03,    33,  1,     15, X12006,2,20051104,0751, 28.5845,-124.5222, 4333,   2600.5,2,   1.7854,2,   1.78538,2,  34.6578,2,  34.6569,3,   101.30,1,   105.16,2,   2600.3,2,   105.85,2,   105.79,2,   163.21,2,     0.48,    39.16,2,     0.14,     0.00,2,     0.01,    2.779,2,    0.017,    0.000,2,    0.004,2,    0.000,2,   -999.0,9,   -999.0,9,-999.0000,9, -999.000,9, -999.000,   -999.0,9,   -999.0,   1.6000,  27.7282
    49MR0505_1,   P03,    33,  1,     14, X12026,2,20051104,0751, 28.5845,-124.5222, 4333,   2801.1,2,   1.6874,2,   1.68737,2,  34.6618,2,  34.6617,2,   106.57,1,   110.60,2,   2801.1,2,   111.04,2,   111.04,2,   166.54,2,     0.49,    38.92,2,     0.14,     0.00,2,     0.01,    2.753,2,    0.017, -999.000,9, -999.000,9, -999.000,9,   -999.0,9,   -999.0,9,-999.0000,9, -999.000,9, -999.000,   -999.0,9,   -999.0,   1.4854,  27.7398
    49MR0505_1,   P03,    33,  1,     13, X12025,2,20051104,0751, 28.5845,-124.5222, 4333,   3000.2,2,   1.6167,2,   1.61675,2,  34.6672,2,  34.6672,2,   112.35,1,   116.58,2,   3000.3,2,   116.75,2,   117.03,2,   167.70,2,     0.49,    38.51,2,     0.14,     0.00,2,     0.01,    2.714,2,    0.017,    0.001,2,    0.000,2,    0.000,2,   -999.0,9,   -999.0,9,-999.0000,9, -999.000,9, -999.000,   -999.0,9,   -999.0,   1.3974,  27.7505
    49MR0505_1,   P03,    33,  1,     12, X12024,9,20051104,0751, 28.5845,-124.5222, 4333,   3250.3,2,   1.5568,2,   1.55659,2,  34.6724,2,-999.0000,9,   118.78,1,   123.16,2,   3250.4,2,   123.55,2,  -999.00,9,  -999.00,9,  -999.00,  -999.00,9,  -999.00,  -999.00,9,  -999.00, -999.000,9, -999.000, -999.000,9, -999.000,9, -999.000,9,   -999.0,9,   -999.0,9,-999.0000,9, -999.000,9, -999.000,   -999.0,9,   -999.0,   1.3144,  27.7606
    49MR0505_1,   P03,    33,  1,     11, X12023,2,20051104,0751, 28.5845,-124.5222, 4333,   3501.2,2,   1.5253,2,   1.52528,2,  34.6772,2,  34.6770,6,   124.61,1,   128.91,2,   3501.1,2,   129.39,2,   129.49,2,   167.97,2,     0.49,    37.75,2,     0.14,     0.00,2,     0.01,    2.653,2,    0.017, -999.000,9, -999.000,9, -999.000,9,   -999.0,9,   -999.0,9,-999.0000,9, -999.000,9, -999.000,   -999.0,9,   -999.0,   1.2584,  27.7683
    49MR0505_1,   P03,    33,  1,     10, X12022,2,20051104,0751, 28.5845,-124.5222, 4333,   3751.3,2,   1.5113,2,   1.51130,2,  34.6809,2,  34.6812,2,   129.70,1,   133.94,2,   3751.4,2,   134.20,2,   134.41,2,   166.70,2,     0.49,    37.43,2,     0.14,     0.00,2,     0.01,    2.624,2,    0.017, -999.000,9, -999.000,9, -999.000,9,   -999.0,9,   -999.0,9,-999.0000,9, -999.000,9, -999.000,   -999.0,9,   -999.0,   1.2188,  27.7741
    49MR0505_1,   P03,    33,  1,      9, X12021,2,20051104,0751, 28.5845,-124.5222, 4333,   4000.5,2,   1.5161,2,   1.51595,2,  34.6834,2,  34.6836,2,   133.59,1,   137.36,2,   4000.5,2,   137.97,2,   137.75,2,   165.46,2,     0.48,    37.19,2,     0.14,     0.00,2,     0.01,    2.598,2,    0.016,    0.002,2,    0.001,2,    0.000,2,   -999.0,9,   -999.0,9,-999.0000,9, -999.000,9, -999.000,   -999.0,9,   -999.0,   1.1967,  27.7776
    49MR0505_1,   P03,    33,  1,      8, X12020,2,20051104,0751, 28.5845,-124.5222, 4333,   4249.7,2,   1.5384,2,   1.53818,2,  34.6840,2,  34.6844,2,   135.14,1,   138.34,2,   4249.6,2,   138.94,2,   138.94,2,   165.20,2,     0.48,    37.08,2,     0.14,     0.00,2,     0.01,    2.600,2,    0.016, -999.000,9, -999.000,9, -999.000,9,   -999.0,9,   -999.0,9,-999.0000,9, -999.000,9, -999.000,   -999.0,9,   -999.0,   1.1908,  27.7786
    49MR0505_1,   P03,    33,  1,      7, X12019,9,20051104,0751, 28.5845,-124.5222, 4333,    250.2,2,   8.9419,2,   8.94460,2,  33.9408,2,-999.0000,9,   139.79,1,   145.06,2,    252.5,2,   146.95,2,  -999.00,9,  -999.00,9,  -999.00,  -999.00,9,  -999.00,  -999.00,9,  -999.00, -999.000,9, -999.000, -999.000,9, -999.000,9, -999.000,9,   -999.0,9,   -999.0,9,-999.0000,9, -999.000,9, -999.000,   -999.0,9,   -999.0,   8.9151,  26.3021
    49MR0505_1,   P03,    33,  1,      6, X12018,9,20051104,0751, 28.5845,-124.5222, 4333,    200.7,2,   9.8060,2,   9.80607,2,  33.6180,2,-999.0000,9,   176.22,1,   181.61,2,    199.0,2,   165.57,2,  -999.00,9,  -999.00,9,  -999.00,  -999.00,9,  -999.00,  -999.00,9,  -999.00, -999.000,9, -999.000, -999.000,9, -999.000,9, -999.000,9,   -999.0,9,   -999.0,9,-999.0000,9, -999.000,9, -999.000,   -999.0,9,   -999.0,   9.7834,  25.9091
    49MR0505_1,   P03,    33,  1,      5, X12043,9,20051104,0751, 28.5845,-124.5222, 4333,    150.2,2,  12.3421,2,  12.34059,2,  33.3686,2,-999.0000,9,   207.83,1,   215.28,2,    151.5,2,   214.02,2,  -999.00,9,  -999.00,9,  -999.00,  -999.00,9,  -999.00,  -999.00,9,  -999.00, -999.000,9, -999.000, -999.000,9, -999.000,9, -999.000,9,   -999.0,9,   -999.0,9,-999.0000,9, -999.000,9, -999.000,   -999.0,9,   -999.0,  12.3225,  25.2610
    49MR0505_1,   P03,    33,  1,      4, X12010,9,20051104,0751, 28.5845,-124.5222, 4333,    100.2,2,  16.7795,2,  16.77743,2,  33.6594,2,-999.0000,9,   238.87,1,   249.53,2,     97.2,2,   245.25,2,  -999.00,9,  -999.00,9,  -999.00,  -999.00,9,  -999.00,  -999.00,9,  -999.00, -999.000,9, -999.000, -999.000,9, -999.000,9, -999.000,9,   -999.0,9,   -999.0,9,-999.0000,9, -999.000,9, -999.000,   -999.0,9,   -999.0,  16.7633,  24.5410
    49MR0505_1,   P03,    33,  1,      3, X12015,9,20051104,0751, 28.5845,-124.5222, 4333,     51.0,2,  20.0414,2,  20.04197,2,  33.6107,2,-999.0000,9,   221.26,1,   231.63,2,     53.1,2,   229.83,2,  -999.00,9,  -999.00,9,  -999.00,  -999.00,9,  -999.00,  -999.00,9,  -999.00, -999.000,9, -999.000, -999.000,9, -999.000,9, -999.000,9,   -999.0,9,   -999.0,9,-999.0000,9, -999.000,9, -999.000,   -999.0,9,   -999.0,  20.0321,  23.6940
    49MR0505_1,   P03,    33,  1,      2, X12014,9,20051104,0751, 28.5845,-124.5222, 4333,     10.0,2,  20.0226,2,  20.02344,2,  33.6093,2,-999.0000,9,   221.40,1,   230.99,2,     12.6,2,   230.66,2,  -999.00,9,  -999.00,9,  -999.00,  -999.00,9,  -999.00,  -999.00,9,  -999.00, -999.000,9, -999.000, -999.000,9, -999.000,9, -999.000,9,   -999.0,9,   -999.0,9,-999.0000,9, -999.000,9, -999.000,   -999.0,9,   -999.0,  20.0208,  23.6959
    49MR0505_1,   P03,    33,  1,      1, X12013,2,20051104,0751, 28.5845,-124.5222, 4333,   4413.2,2,   1.5557,2,   1.55564,2,  34.6843,2,  34.6843,6,   136.03,1,   138.84,2,   4413.2,2,   138.92,2,   139.01,2,   165.20,2,     0.48,    37.16,2,     0.14,     0.00,2,     0.01,    2.598,2,    0.016,    0.006,2,    0.008,2,    0.000,2,   -999.0,9,   -999.0,9,-999.0000,9, -999.000,9, -999.000,   -999.0,9,   -999.0,   1.1890,  27.7788