BOTTLE,20100316JAMSTECRIGC
EXPOCODE,SECT,STNNBR,CASTNO,SAMPNO,BTLNBR,BTLNBR_FLAG_W,DATE,TIME,LATITUDE,LONGITUDE,DEPTH,CTDPRS,CTDPRS_FLAG_W,CTDTMP,CTDTMP_FLAG_W,SBE35,SBE35_FLAG_W,CTDSAL,CTDSAL_FLAG_W,SALNTY,SALNTY_FLAG_W,CTDOXY,CTDOXY_FLAG_W,OPTOXY,OPTOXY_FLAG_W,DWNPRS,DWNPRS_FLAG_W,DWNOXY,DWNOXY_FLAG_W,OXYGEN,OXYGEN_FLAG_W,SILCAT,SILCAT_FLAG_W,SILUNC,NITRAT,NITRAT_FLAG_W,NRAUNC,NITRIT,NITRIT_FLAG_W,NRIUNC,PHSPHT,PHSPHT_FLAG_W,PHPUNC,CFC-11,CFC-11_FLAG_W,CFC-12,CFC-12_FLAG_W,CFC113,CFC113_FLAG_W,TCARBN,TCARBN_FLAG_W,ALKALI,ALKALI_FLAG_W,PH,PH_FLAG_W,DELC13,DELC13_FLAG_W,C13ERR,DELC14,DELC14_FLAG_W,C14ERR,THETA,SIG0
,,,,,,,,UTC,DEG,DEG,M,DBAR,,ITS-90,,ITS-90,,PSS-78,,PSS-78,,UMOL/KG,,UMOL/KG,,DBAR,,UMOL/KG,,UMOL/KG,,UMOL/KG,,UMOL/KG,UMOL/KG,,UMOL/KG,UMOL/KG,,UMOL/KG,UMOL/KG,,UMOL/KG,PMOL/KG,,PMOL/KG,,PMOL/KG,,UMOL/KG,,UMOL/KG,,,,/MILLE,,/MILLE,/MILLE,,/MILLE,DEG C,KG/CUM
    49MR0505_1,   P03,   140,  1,      0,   -999,9,20051121,0900, 25.4705,-165.7137, 4870,   -999.0,9,-999.0000,9,-999.00000,9,-999.0000,9,  35.2136,2,  -999.00,9,  -999.00,9,   -999.0,9,  -999.00,9,  -999.00,9,  -999.00,9,  -999.00,  -999.00,9,  -999.00,  -999.00,9,  -999.00, -999.000,9, -999.000, -999.000,9, -999.000,9, -999.000,9,   -999.0,9,   -999.0,9,-999.0000,9, -999.000,9, -999.000,   -999.0,9,   -999.0,-999.0000,-999.0000
    49MR0505_1,   P03,   140,  1,     36, X12048,2,20051121,0900, 25.4705,-165.7137, 4870,     10.9,2,  25.8684,2,  25.86809,2,  35.1769,2,  35.1757,2,   188.47,1,   204.74,2,      8.3,2,   206.12,2,   205.79,2,     1.08,2,     0.12,     0.05,2,     0.03,     0.00,2,     0.01,    0.052,2,    0.033,    1.601,2,    0.961,2, -999.000,5,   -999.0,9,   -999.0,9,-999.0000,9, -999.000,9, -999.000,   -999.0,9,   -999.0,  25.8660,  23.2085
    49MR0505_1,   P03,   140,  1,     35, X12047,2,20051121,0900, 25.4705,-165.7137, 4870,     51.0,2,  25.8656,2,  25.86593,2,  35.1753,2,  35.1759,2,   188.40,1,   205.14,2,     48.3,2,   205.80,2,   205.77,2,     1.09,2,     0.12,     0.04,2,     0.03,     0.00,2,     0.01,    0.054,2,    0.032,    1.615,2,    0.972,2, -999.000,5,   -999.0,9,   -999.0,9,-999.0000,9, -999.000,9, -999.000,   -999.0,9,   -999.0,  25.8543,  23.2110
    49MR0505_1,   P03,   140,  1,     34, X12046,2,20051121,0900, 25.4705,-165.7137, 4870,    100.5,2,  23.1701,2,  23.17605,2,  35.2143,2,  35.2147,2,   199.53,1,   217.64,2,     98.3,2,   214.90,2,   217.97,2,     1.59,2,     0.12,     0.05,2,     0.03,     0.00,2,     0.01,    0.069,2,    0.028,    1.913,2,    1.183,2, -999.000,5,   -999.0,9,   -999.0,9,-999.0000,9, -999.000,9, -999.000,   -999.0,9,   -999.0,  23.1495,  24.0529
    49MR0505_1,   P03,   140,  1,     33, X12003,2,20051121,0900, 25.4705,-165.7137, 4870,    150.4,2,  19.3240,2,  19.32360,2,  34.9782,2,  34.9786,2,   198.00,1,   215.13,2,    161.0,2,   215.22,2,   215.93,2,     2.64,2,     0.12,     0.61,2,     0.03,     0.12,2,     0.01,    0.159,2,    0.017,    2.211,2,    1.274,2, -999.000,5,   -999.0,9,   -999.0,9,-999.0000,9, -999.000,9, -999.000,   -999.0,9,   -999.0,  19.2969,  24.9283
    49MR0505_1,   P03,   140,  1,     32, X12044,2,20051121,0900, 25.4705,-165.7137, 4870,    199.3,2,  16.9736,2,  16.97182,2,  34.7423,2,  34.7406,2,   185.94,1,   201.98,2,    209.8,2,   202.33,2,   202.21,2,     4.48,2,     0.13,     4.33,2,     0.04,     0.01,2,     0.01,    0.400,2,    0.013,    2.428,2,    1.341,2,    0.127,4,   -999.0,9,   -999.0,9,-999.0000,9, -999.000,9, -999.000,   -999.0,9,   -999.0,  16.9408,  25.3305
    49MR0505_1,   P03,   140,  1,     31, X12051,2,20051121,0900, 25.4705,-165.7137, 4870,    252.0,2,  14.8853,2,  14.88585,2,  34.5198,2,  34.5198,2,   187.95,1,   203.54,2,    261.0,2,   204.36,2,   204.32,2,     7.05,2,     0.13,     7.01,2,     0.05,     0.01,2,     0.01,    0.569,2,    0.013,    2.635,6,    1.420,6,    0.085,6,   -999.0,9,   -999.0,9,-999.0000,9, -999.000,9, -999.000,   -999.0,9,   -999.0,  14.8474,  25.6350
    49MR0505_1,   P03,   140,  1,     30, X12042,2,20051121,0900, 25.4705,-165.7137, 4870,    300.6,2,  13.5222,2,  13.52285,2,  34.4129,2,  34.4100,2,   191.21,1,   206.50,2,    304.3,2,   205.02,2,   207.43,2,     9.64,2,     0.14,     9.22,2,     0.06,     0.00,2,     0.01,    0.708,2,    0.013,    2.705,2,    1.434,2,    0.064,2,   -999.0,9,   -999.0,9,-999.0000,9, -999.000,9, -999.000,   -999.0,9,   -999.0,  13.4798,  25.8410
    49MR0505_1,   P03,   140,  1,     29, X12041,2,20051121,0900, 25.4705,-165.7137, 4870,    401.8,2,  10.8287,2,  10.82976,2,  34.2063,2,  34.2066,2,   184.48,1,   199.52,2,    403.5,2,   204.13,2,   200.07,2,    17.46,2,     0.16,    14.86,2,     0.07,     0.00,2,     0.01,    1.098,2,    0.013,    2.875,2,    1.448,2,    0.082,2,   -999.0,9,   -999.0,9,-999.0000,9, -999.000,9, -999.000,   -999.0,9,   -999.0,  10.7796,  26.1968
    49MR0505_1,   P03,   140,  1,     28, X12016,2,20051121,0900, 25.4705,-165.7137, 4870,    500.5,2,   8.6371,2,   8.63671,2,  34.1008,2,  34.1011,6,   159.81,1,   172.99,2,    501.4,2,   174.32,2,   173.46,2,    32.25,2,     0.19,    21.92,2,     0.09,     0.00,2,     0.01,    1.587,2,    0.014,    2.599,2,    1.256,2,    0.090,2,   -999.0,9,   -999.0,9,-999.0000,9, -999.000,9, -999.000,   -999.0,9,   -999.0,   8.5838,  26.4793
    49MR0505_1,   P03,   140,  1,     27, X12039,2,20051121,0900, 25.4705,-165.7137, 4870,    598.3,2,   6.7993,2,   6.79945,2,  34.0470,2,  34.0484,2,   118.72,1,   128.54,2,    592.6,2,   125.54,2,   128.08,2,    52.79,2,     0.24,    29.48,2,     0.12,     0.00,2,     0.01,    2.153,2,    0.015,    1.829,2,    0.854,2,    0.074,2,   -999.0,9,   -999.0,9,-999.0000,9, -999.000,9, -999.000,   -999.0,9,   -999.0,   6.7434,  26.7029
    49MR0505_1,   P03,   140,  1,     26, X12038,2,20051121,0900, 25.4705,-165.7137, 4870,    699.3,2,   5.2038,2,   5.20286,2,  34.0866,2,  34.0868,2,    68.10,1,    74.33,2,    694.3,2,    69.72,2,    74.04,2,    79.36,2,     0.29,    37.20,2,     0.14,     0.00,2,     0.01,    2.699,2,    0.017,    0.849,2,    0.391,2,    0.029,2,   -999.0,9,   -999.0,9,-999.0000,9, -999.000,9, -999.000,   -999.0,9,   -999.0,   5.1464,  26.9342
    49MR0505_1,   P03,   140,  1,     25, X12037,2,20051121,0900, 25.4705,-165.7137, 4870,    800.0,2,   4.6022,2,   4.60221,2,  34.2038,2,  34.2027,2,    39.92,1,    43.64,2,    798.9,2,    43.16,2,    43.17,2,    96.51,2,     0.33,    40.67,2,     0.15,     0.00,2,     0.01,    2.975,2,    0.017,    0.311,6,    0.147,6,    0.013,6,   -999.0,9,   -999.0,9,-999.0000,9, -999.000,9, -999.000,   -999.0,9,   -999.0,   4.5395,  27.0955
    49MR0505_1,   P03,   140,  1,     24, X12008,2,20051121,0900, 25.4705,-165.7137, 4870,    900.5,2,   4.1635,2,   4.16417,2,  34.2903,2,  34.2913,2,    30.79,1,    33.88,2,    901.8,2,    33.30,2,    33.31,2,   108.43,2,     0.36,    42.26,2,     0.15,     0.00,2,     0.01,    3.061,2,    0.018,    0.118,2,    0.052,2,    0.000,2,   -999.0,9,   -999.0,9,-999.0000,9, -999.000,9, -999.000,   -999.0,9,   -999.0,   4.0952,  27.2117
    49MR0505_1,   P03,   140,  1,     23, X12035,2,20051121,0900, 25.4705,-165.7137, 4870,   1000.7,2,   3.8125,2,   3.81239,2,  34.3815,2,  34.3819,6,    32.37,1,    35.61,2,   1002.1,2,    32.29,2,    35.11,2,   117.70,2,     0.38,    42.62,2,     0.15,     0.00,2,     0.01,    3.099,2,    0.018,    0.032,2,    0.020,2,    0.000,2,   -999.0,9,   -999.0,9,-999.0000,9, -999.000,9, -999.000,   -999.0,9,   -999.0,   3.7384,  27.3207
    49MR0505_1,   P03,   140,  1,     22, X12034,2,20051121,0900, 25.4705,-165.7137, 4870,   1200.0,2,   3.2830,2,   3.28290,2,  34.4823,2,  34.4822,2,    44.49,1,    48.90,2,   1198.1,2,    50.22,2,    48.49,2,   129.39,2,     0.40,    42.27,2,     0.15,     0.00,2,     0.01,    3.050,2,    0.018,    0.006,2,    0.001,2,    0.000,2,   -999.0,9,   -999.0,9,-999.0000,9, -999.000,9, -999.000,   -999.0,9,   -999.0,   3.1971,  27.4536
    49MR0505_1,   P03,   140,  1,     21, X12033,2,20051121,0900, 25.4705,-165.7137, 4870,   1400.2,2,   2.8826,2,   2.88260,2,  34.5321,2,  34.5326,2,    55.70,1,    61.19,2,   1397.2,2,    63.86,2,    60.87,2,   137.84,2,     0.42,    41.63,2,     0.15,     0.00,2,     0.01,    2.995,2,    0.017,    0.004,2,    0.002,2,    0.000,2,   -999.0,9,   -999.0,9,-999.0000,9, -999.000,9, -999.000,   -999.0,9,   -999.0,   2.7844,  27.5310
    49MR0505_1,   P03,   140,  1,     20, X12032,2,20051121,0900, 25.4705,-165.7137, 4870,   1601.3,2,   2.4715,2,   2.47126,2,  34.5738,2,  34.5744,2,    67.06,1,    73.83,2,   1598.3,2,    75.61,2,    73.59,2,   146.61,2,     0.44,    41.12,2,     0.15,     0.00,2,     0.01,    2.938,2,    0.017,    0.004,2,    0.000,2,    0.000,2,   -999.0,9,   -999.0,9,-999.0000,9, -999.000,9, -999.000,   -999.0,9,   -999.0,   2.3616,  27.6008
    49MR0505_1,   P03,   140,  1,     19, X12001,2,20051121,0900, 25.4705,-165.7137, 4870,   1799.6,2,   2.2116,2,   2.21150,2,  34.5995,2,  34.5997,2,    75.17,1,    82.91,2,   1797.7,2,    84.33,2,    82.47,2,   152.43,2,     0.45,    40.55,2,     0.15,     0.00,2,     0.01,    2.897,2,    0.017,    0.000,2,    0.000,2,    0.000,2,   -999.0,9,   -999.0,9,-999.0000,9, -999.000,9, -999.000,   -999.0,9,   -999.0,   2.0888,  27.6438
    49MR0505_1,   P03,   140,  1,     18, X12030,2,20051121,0900, 25.4705,-165.7137, 4870,   2001.7,2,   2.0109,2,   2.01088,2,  34.6160,2,  34.6159,6,    82.76,1,    91.26,2,   2000.2,2,    91.20,2,    90.99,2,   156.14,2,     0.46,    40.14,2,     0.15,     0.00,2,     0.01,    2.855,2,    0.017,    0.000,2,    0.001,2,    0.000,2,   -999.0,9,   -999.0,9,-999.0000,9, -999.000,9, -999.000,   -999.0,9,   -999.0,   1.8742,  27.6738
    49MR0505_1,   P03,   140,  1,     17, X12049,2,20051121,0900, 25.4705,-165.7137, 4870,   2201.0,2,   1.8380,2,   1.83790,2,  34.6319,2,  34.6317,2,    91.15,1,   100.62,2,   2200.6,2,    99.90,2,   100.60,2,   158.65,2,     0.47,    39.54,2,     0.14,     0.00,2,     0.01,    2.797,2,    0.017, -999.000,9, -999.000,9, -999.000,9,   -999.0,9,   -999.0,9,-999.0000,9, -999.000,9, -999.000,   -999.0,9,   -999.0,   1.6871,  27.7009
    49MR0505_1,   P03,   140,  1,     16, X12028,2,20051121,0900, 25.4705,-165.7137, 4870,   2400.8,2,   1.7219,2,   1.72200,2,  34.6434,2,  34.6431,2,    97.52,1,   107.61,2,   2400.7,2,   106.34,2,   107.49,2,   160.43,2,     0.47,    39.03,2,     0.14,     0.00,2,     0.01,    2.776,2,    0.017,    0.001,2,    0.000,2,    0.000,2,   -999.0,9,   -999.0,9,-999.0000,9, -999.000,9, -999.000,   -999.0,9,   -999.0,   1.5556,  27.7199
    49MR0505_1,   P03,   140,  1,     15, X12006,2,20051121,0900, 25.4705,-165.7137, 4870,   2600.4,2,   1.6378,2,   1.63773,2,  34.6524,2,  34.6521,2,   102.60,1,   113.38,2,   2600.3,2,   112.39,2,   113.13,2,   161.65,2,     0.47,    38.73,2,     0.14,     0.00,2,     0.01,    2.738,2,    0.017, -999.000,9, -999.000,9, -999.000,9,   -999.0,9,   -999.0,9,-999.0000,9, -999.000,9, -999.000,   -999.0,9,   -999.0,   1.4553,  27.7345
    49MR0505_1,   P03,   140,  1,     14, X12026,2,20051121,0900, 25.4705,-165.7137, 4870,   2800.6,2,   1.5655,2,   1.56543,2,  34.6612,2,  34.6612,6,   109.86,1,   121.40,2,   2800.5,2,   120.92,2,   121.21,2,   161.32,2,     0.47,    38.21,2,     0.14,     0.00,2,     0.01,    2.700,2,    0.017, -999.000,9, -999.000,9, -999.000,9,   -999.0,9,   -999.0,9,-999.0000,9, -999.000,9, -999.000,   -999.0,9,   -999.0,   1.3661,  27.7479
    49MR0505_1,   P03,   140,  1,     13, X12025,2,20051121,0900, 25.4705,-165.7137, 4870,   3000.7,2,   1.5144,2,   1.51444,2,  34.6686,2,  34.6688,2,   117.33,1,   129.33,2,   3000.6,2,   130.28,2,   129.19,2,   159.72,2,     0.47,    37.70,2,     0.14,     0.00,2,     0.01,    2.659,2,    0.017,    0.000,2,    0.000,2,    0.000,2,   -999.0,9,   -999.0,9,-999.0000,9, -999.000,9, -999.000,   -999.0,9,   -999.0,   1.2973,  27.7587
    49MR0505_1,   P03,   140,  1,     12, X12024,2,20051121,0900, 25.4705,-165.7137, 4870,   3252.1,2,   1.4827,2,   1.48258,2,  34.6750,2,  34.6750,2,   124.77,1,   137.27,2,   3252.2,2,   136.82,2,   137.37,2,   155.99,2,     0.46,    37.10,2,     0.14,     0.00,2,     0.01,    2.607,2,    0.016, -999.000,9, -999.000,9, -999.000,9,   -999.0,9,   -999.0,9,-999.0000,9, -999.000,9, -999.000,   -999.0,9,   -999.0,   1.2419,  27.7677
    49MR0505_1,   P03,   140,  1,     11, X12023,2,20051121,0900, 25.4705,-165.7137, 4870,   3498.9,2,   1.4526,2,   1.45265,2,  34.6804,2,  34.6802,2,   130.31,1,   143.01,2,   3498.8,2,   143.31,2,   143.31,2,   155.31,2,     0.46,    36.73,2,     0.14,     0.00,2,     0.01,    2.587,2,    0.016, -999.000,9, -999.000,9, -999.000,9,   -999.0,9,   -999.0,9,-999.0000,9, -999.000,9, -999.000,   -999.0,9,   -999.0,   1.1878,  27.7758
    49MR0505_1,   P03,   140,  1,     10, X12022,2,20051121,0900, 25.4705,-165.7137, 4870,   3753.2,2,   1.4410,2,   1.44091,2,  34.6843,2,  34.6839,2,   134.84,1,   147.65,2,   3753.1,2,   147.81,2,   147.93,2,   153.99,2,     0.46,    36.47,2,     0.13,     0.00,2,     0.01,    2.557,2,    0.016,    0.000,2,    0.000,2,    0.000,2,   -999.0,9,   -999.0,9,-999.0000,9, -999.000,9, -999.000,   -999.0,9,   -999.0,   1.1501,  27.7816
    49MR0505_1,   P03,   140,  1,      9, X12021,2,20051121,0900, 25.4705,-165.7137, 4870,   4000.3,2,   1.4391,2,   1.43915,2,  34.6873,2,  34.6872,6,   138.86,1,   151.53,2,   4000.3,2,   151.89,2,   151.79,2,   152.40,2,     0.45,    36.20,2,     0.13,     0.00,2,     0.01,    2.538,2,    0.016, -999.000,9, -999.000,9, -999.000,9,   -999.0,9,   -999.0,9,-999.0000,9, -999.000,9, -999.000,   -999.0,9,   -999.0,   1.1219,  27.7859
    49MR0505_1,   P03,   140,  1,      8, X12020,2,20051121,0900, 25.4705,-165.7137, 4870,   4253.3,2,   1.4547,2,   1.45464,2,  34.6885,2,  34.6883,2,   141.05,1,   153.35,2,   4253.2,2,   153.72,2,   153.58,2,   151.63,2,     0.45,    36.07,2,     0.13,     0.00,2,     0.01,    2.532,2,    0.016, -999.000,9, -999.000,9, -999.000,9,   -999.0,9,   -999.0,9,-999.0000,9, -999.000,9, -999.000,   -999.0,9,   -999.0,   1.1091,  27.7877
    49MR0505_1,   P03,   140,  1,      7, X12019,3,20051121,0900, 25.4705,-165.7137, 4870,   4501.7,2,   1.4761,2,   1.47596,2,  34.6893,2,  34.6893,2,   142.76,1,   154.49,2,   4501.7,2,   154.81,2,   154.87,2,   150.71,2,     0.45,    35.94,2,     0.13,     0.00,2,     0.01,    2.522,2,    0.016,    0.002,2,    0.000,2,    0.000,2,   -999.0,9,   -999.0,9,-999.0000,9, -999.000,9, -999.000,   -999.0,9,   -999.0,   1.1017,  27.7889
    49MR0505_1,   P03,   140,  1,      6, X12018,2,20051121,0900, 25.4705,-165.7137, 4870,   4750.7,2,   1.5010,2,   1.50095,2,  34.6897,2,  34.6895,2,   144.27,1,   155.34,2,   4750.7,2,   155.60,2,   155.58,2,   150.55,2,     0.45,    35.98,2,     0.13,     0.00,2,     0.01,    2.509,2,    0.016, -999.000,9, -999.000,9, -999.000,9,   -999.0,9,   -999.0,9,-999.0000,9, -999.000,9, -999.000,   -999.0,9,   -999.0,   1.0967,  27.7895
    49MR0505_1,   P03,   140,  1,      5, X12043,9,20051121,0900, 25.4705,-165.7137, 4870,    150.2,2,  19.3220,2,  19.32221,2,  34.9786,2,-999.0000,9,   198.13,1,   214.97,2,    161.0,2,   215.22,2,  -999.00,9,  -999.00,9,  -999.00,  -999.00,9,  -999.00,  -999.00,9,  -999.00, -999.000,9, -999.000, -999.000,9, -999.000,9, -999.000,9,   -999.0,9,   -999.0,9,-999.0000,9, -999.000,9, -999.000,   -999.0,9,   -999.0,  19.2949,  24.9292
    49MR0505_1,   P03,   140,  1,      4, X12010,9,20051121,0900, 25.4705,-165.7137, 4870,    100.5,2,  23.1232,2,  23.12571,2,  35.2176,2,-999.0000,9,   199.81,1,   217.45,2,     98.6,2,   215.08,2,  -999.00,9,  -999.00,9,  -999.00,  -999.00,9,  -999.00,  -999.00,9,  -999.00, -999.000,9, -999.000, -999.000,9, -999.000,9, -999.000,9,   -999.0,9,   -999.0,9,-999.0000,9, -999.000,9, -999.000,   -999.0,9,   -999.0,  23.1026,  24.0690
    49MR0505_1,   P03,   140,  1,      3, X12015,9,20051121,0900, 25.4705,-165.7137, 4870,     50.9,2,  25.8658,2,  25.86638,2,  35.1756,2,-999.0000,9,   188.58,1,   205.06,2,     48.4,2,   205.79,2,  -999.00,9,  -999.00,9,  -999.00,  -999.00,9,  -999.00,  -999.00,9,  -999.00, -999.000,9, -999.000, -999.000,9, -999.000,9, -999.000,9,   -999.0,9,   -999.0,9,-999.0000,9, -999.000,9, -999.000,   -999.0,9,   -999.0,  25.8545,  23.2111
    49MR0505_1,   P03,   140,  1,      2, X12014,9,20051121,0900, 25.4705,-165.7137, 4870,     10.8,2,  25.8609,2,  25.86110,2,  35.1764,2,-999.0000,9,   188.24,1,   204.82,2,      8.5,2,   206.15,2,  -999.00,9,  -999.00,9,  -999.00,  -999.00,9,  -999.00,  -999.00,9,  -999.00, -999.000,9, -999.000, -999.000,9, -999.000,9, -999.000,9,   -999.0,9,   -999.0,9,-999.0000,9, -999.000,9, -999.000,   -999.0,9,   -999.0,  25.8585,  23.2105
    49MR0505_1,   P03,   140,  1,      1, X12013,2,20051121,0900, 25.4705,-165.7137, 4870,   4940.7,2,   1.5165,2,   1.51654,2,  34.6904,2,  34.6902,6,   146.48,1,   157.13,2,   4940.7,2,   157.00,2,   156.97,2,   149.58,2,     0.45,    35.84,2,     0.13,     0.00,2,     0.01,    2.515,2,    0.016,    0.000,2,    0.000,2,    0.000,2,   -999.0,9,   -999.0,9,-999.0000,9, -999.000,9, -999.000,   -999.0,9,   -999.0,   1.0889,  27.7906