BOTTLE,20100316JAMSTECRIGC
EXPOCODE,SECT,STNNBR,CASTNO,SAMPNO,BTLNBR,BTLNBR_FLAG_W,DATE,TIME,LATITUDE,LONGITUDE,DEPTH,CTDPRS,CTDPRS_FLAG_W,CTDTMP,CTDTMP_FLAG_W,SBE35,SBE35_FLAG_W,CTDSAL,CTDSAL_FLAG_W,SALNTY,SALNTY_FLAG_W,CTDOXY,CTDOXY_FLAG_W,OPTOXY,OPTOXY_FLAG_W,DWNPRS,DWNPRS_FLAG_W,DWNOXY,DWNOXY_FLAG_W,OXYGEN,OXYGEN_FLAG_W,SILCAT,SILCAT_FLAG_W,SILUNC,NITRAT,NITRAT_FLAG_W,NRAUNC,NITRIT,NITRIT_FLAG_W,NRIUNC,PHSPHT,PHSPHT_FLAG_W,PHPUNC,CFC-11,CFC-11_FLAG_W,CFC-12,CFC-12_FLAG_W,CFC113,CFC113_FLAG_W,TCARBN,TCARBN_FLAG_W,ALKALI,ALKALI_FLAG_W,PH,PH_FLAG_W,DELC13,DELC13_FLAG_W,C13ERR,DELC14,DELC14_FLAG_W,C14ERR,THETA,SIG0
,,,,,,,,UTC,DEG,DEG,M,DBAR,,ITS-90,,ITS-90,,PSS-78,,PSS-78,,UMOL/KG,,UMOL/KG,,DBAR,,UMOL/KG,,UMOL/KG,,UMOL/KG,,UMOL/KG,UMOL/KG,,UMOL/KG,UMOL/KG,,UMOL/KG,UMOL/KG,,UMOL/KG,PMOL/KG,,PMOL/KG,,PMOL/KG,,UMOL/KG,,UMOL/KG,,,,/MILLE,,/MILLE,/MILLE,,/MILLE,DEG C,KG/CUM
    49MR0505_1,   P03,   144,  1,      0,   -999,9,20051121,2003, 24.8867,-166.3435, 5086,   -999.0,9,-999.0000,9,-999.00000,9,-999.0000,9,  35.2534,2,  -999.00,9,  -999.00,9,   -999.0,9,  -999.00,9,  -999.00,9,  -999.00,9,  -999.00,  -999.00,9,  -999.00,  -999.00,9,  -999.00, -999.000,9, -999.000, -999.000,9, -999.000,9, -999.000,9,   -999.0,9,   -999.0,9,-999.0000,9, -999.000,9, -999.000,   -999.0,9,   -999.0,-999.0000,-999.0000
    49MR0505_1,   P03,   144,  1,     36, X12048,2,20051121,2003, 24.8867,-166.3435, 5086,      9.9,2,  25.8194,2,  25.81831,2,  35.2303,2,  35.2311,2,   188.20,1,   204.78,2,      8.7,2,   205.40,2,   205.43,2,     0.96,2,     0.12,     0.06,2,     0.03,    -0.01,2,     0.01,    0.025,2,    0.059,    1.601,2,    0.978,2, -999.000,5,   -999.0,9,   -999.0,9,-999.0000,9, -999.000,9, -999.000,   -999.0,9,   -999.0,  25.8172,  23.2640
    49MR0505_1,   P03,   144,  1,     35, X12047,2,20051121,2003, 24.8867,-166.3435, 5086,     50.1,2,  25.8254,2,  25.82465,2,  35.2362,2,  35.2363,2,   187.81,1,   204.56,2,     50.3,2,   205.02,2,   205.42,2,     0.98,2,     0.12,     0.05,2,     0.03,    -0.01,2,     0.01,    0.027,2,    0.055,    1.607,2,    0.982,2, -999.000,5,   -999.0,9,   -999.0,9,-999.0000,9, -999.000,9, -999.000,   -999.0,9,   -999.0,  25.8143,  23.2694
    49MR0505_1,   P03,   144,  1,     34, X12046,2,20051121,2003, 24.8867,-166.3435, 5086,    100.4,2,  24.2153,2,  24.21607,2,  35.1764,2,  35.1772,2,   191.74,1,   208.97,2,    104.9,2,   205.98,2,   209.45,2,     1.16,2,     0.12,     0.06,2,     0.03,     0.02,2,     0.01,    0.050,2,    0.034,    1.806,2,    1.117,2, -999.000,5,   -999.0,9,   -999.0,9,-999.0000,9, -999.000,9, -999.000,   -999.0,9,   -999.0,  24.1940,  23.7173
    49MR0505_1,   P03,   144,  1,     33, X12003,2,20051121,2003, 24.8867,-166.3435, 5086,    151.3,2,  20.8988,2,  20.90846,2,  35.1348,2,  35.1415,2,   180.26,1,   196.48,2,    159.9,2,   196.39,2,   197.27,2,     1.82,2,     0.12,     1.34,2,     0.04,     0.01,2,     0.01,    0.160,2,    0.017,    2.030,2,    1.211,2, -999.000,5,   -999.0,9,   -999.0,9,-999.0000,9, -999.000,9, -999.000,   -999.0,9,   -999.0,  20.8699,  24.6319
    49MR0505_1,   P03,   144,  1,     32, X12044,2,20051121,2003, 24.8867,-166.3435, 5086,    199.0,2,  18.6559,2,  18.65239,2,  34.9360,2,  34.9332,2,   181.54,1,   197.01,2,    208.0,2,   198.58,2,   198.34,2,     3.00,2,     0.13,     2.98,2,     0.04,     0.00,2,     0.01,    0.269,2,    0.015,    2.254,2,    1.294,2, -999.000,5,   -999.0,9,   -999.0,9,-999.0000,9, -999.000,9, -999.000,   -999.0,9,   -999.0,  18.6209,  25.0684
    49MR0505_1,   P03,   144,  1,     31, X12051,2,20051121,2003, 24.8867,-166.3435, 5086,    252.0,2,  16.5370,2,  16.52403,2,  34.7303,2,  34.7385,2,   194.45,1,   211.46,2,    265.4,2,   212.10,2,   211.79,2,     4.42,2,     0.13,     4.17,2,     0.04,     0.00,2,     0.01,    0.334,2,    0.014,    2.423,6,    1.363,6,    0.142,6,   -999.0,9,   -999.0,9,-999.0000,9, -999.000,9, -999.000,   -999.0,9,   -999.0,  16.4962,  25.4256
    49MR0505_1,   P03,   144,  1,     30, X12042,2,20051121,2003, 24.8867,-166.3435, 5086,    301.8,2,  14.8654,2,  14.87060,2,  34.5406,2,  34.5552,2,   193.09,1,   209.74,2,    314.1,2,   211.25,2,   210.46,2,     6.51,2,     0.13,     6.55,2,     0.05,    -0.01,2,     0.01,    0.504,2,    0.013,    2.603,2,    1.450,2,    0.094,2,   -999.0,9,   -999.0,9,-999.0000,9, -999.000,9, -999.000,   -999.0,9,   -999.0,  14.8200,  25.6570
    49MR0505_1,   P03,   144,  1,     29, X12041,2,20051121,2003, 24.8867,-166.3435, 5086,    399.5,2,  11.9196,2,  11.92357,2,  34.2888,2,  34.2853,2,   187.96,1,   203.88,2,    411.9,2,   205.93,2,   204.70,2,    13.94,2,     0.15,    12.63,2,     0.07,    -0.01,2,     0.01,    0.923,2,    0.013,    2.817,2,    1.478,2,    0.079,2,   -999.0,9,   -999.0,9,-999.0000,9, -999.000,9, -999.000,   -999.0,9,   -999.0,  11.8677,  26.0617
    49MR0505_1,   P03,   144,  1,     28, X12016,2,20051121,2003, 24.8867,-166.3435, 5086,    502.8,2,   9.2531,2,   9.25662,2,  34.1328,2,  34.1322,6,   162.12,1,   176.13,2,    503.0,2,   178.61,2,   176.75,2,    27.74,2,     0.18,    20.34,2,     0.09,     0.00,2,     0.01,    1.470,2,    0.014,    2.604,2,    1.297,2,    0.072,2,   -999.0,9,   -999.0,9,-999.0000,9, -999.000,9, -999.000,   -999.0,9,   -999.0,   9.1972,  26.4075
    49MR0505_1,   P03,   144,  1,     27, X12039,2,20051121,2003, 24.8867,-166.3435, 5086,    601.0,2,   7.2718,2,   7.28018,2,  34.0693,2,  34.0700,2,   119.13,1,   129.67,2,    599.4,2,   126.97,2,   128.60,2,    47.99,2,     0.22,    28.61,2,     0.11,    -0.01,2,     0.01,    2.079,2,    0.015,    1.853,2,    0.875,2,    0.067,2,   -999.0,9,   -999.0,9,-999.0000,9, -999.000,9, -999.000,   -999.0,9,   -999.0,   7.2135,  26.6561
    49MR0505_1,   P03,   144,  1,     26, X12038,2,20051121,2003, 24.8867,-166.3435, 5086,    700.1,2,   5.7976,2,   5.79925,2,  34.1138,2,  34.1155,2,    61.83,1,    67.99,2,    702.6,2,    68.61,2,    67.05,2,    70.96,2,     0.28,    36.66,2,     0.14,    -0.01,2,     0.01,    2.691,2,    0.017,    0.753,2,    0.346,2,    0.030,2,   -999.0,9,   -999.0,9,-999.0000,9, -999.000,9, -999.000,   -999.0,9,   -999.0,   5.7370,  26.8851
    49MR0505_1,   P03,   144,  1,     25, X12037,2,20051121,2003, 24.8867,-166.3435, 5086,    801.2,2,   4.9777,2,   4.98099,2,  34.2144,2,  34.2101,2,    37.49,1,    41.59,2,    798.7,2,    41.52,2,    41.55,2,    88.35,2,     0.31,    40.19,2,     0.15,    -0.01,2,     0.01,    2.953,2,    0.017,    0.292,6,    0.133,6,    0.015,6,   -999.0,9,   -999.0,9,-999.0000,9, -999.000,9, -999.000,   -999.0,9,   -999.0,   4.9126,  27.0624
    49MR0505_1,   P03,   144,  1,     24, X12008,2,20051121,2003, 24.8867,-166.3435, 5086,    901.9,2,   4.4366,2,   4.43731,2,  34.3194,2,  34.3186,2,    31.88,1,    35.29,2,    906.4,2,    35.92,2,    34.66,2,   102.11,2,     0.34,    41.75,2,     0.15,    -0.01,2,     0.01,    3.051,2,    0.018,    0.112,2,    0.040,2,    0.000,2,   -999.0,9,   -999.0,9,-999.0000,9, -999.000,9, -999.000,   -999.0,9,   -999.0,   4.3663,  27.2061
    49MR0505_1,   P03,   144,  1,     23, X12035,2,20051121,2003, 24.8867,-166.3435, 5086,   1000.9,2,   4.1108,2,   4.11062,2,  34.4078,2,  34.4073,6,    35.42,1,    39.11,2,   1003.3,2,    38.79,2,    38.52,2,   109.62,2,     0.36,    42.06,2,     0.15,    -0.01,2,     0.01,    3.073,2,    0.018,    0.034,2,    0.008,2,    0.000,2,   -999.0,9,   -999.0,9,-999.0000,9, -999.000,9, -999.000,   -999.0,9,   -999.0,   4.0344,  27.3115
    49MR0505_1,   P03,   144,  1,     22, X12034,2,20051121,2003, 24.8867,-166.3435, 5086,   1202.0,2,   3.3596,2,   3.35967,2,  34.4774,2,  34.4766,2,    44.57,1,    49.19,2,   1203.2,2,    49.54,2,    48.66,2,   126.70,2,     0.40,    42.06,2,     0.15,    -0.01,2,     0.01,    3.032,2,    0.018,    0.019,2,    0.008,2,    0.000,2,   -999.0,9,   -999.0,9,-999.0000,9, -999.000,9, -999.000,   -999.0,9,   -999.0,   3.2728,  27.4425
    49MR0505_1,   P03,   144,  1,     21, X12033,2,20051121,2003, 24.8867,-166.3435, 5086,   1402.1,2,   2.9450,2,   2.94550,2,  34.5250,2,  34.5245,2,    53.34,1,    58.83,2,   1400.9,2,    60.04,2,    58.44,2,   136.15,2,     0.42,    41.72,2,     0.15,    -0.01,2,     0.01,    3.005,2,    0.017,    0.012,2,    0.000,2,    0.000,2,   -999.0,9,   -999.0,9,-999.0000,9, -999.000,9, -999.000,   -999.0,9,   -999.0,   2.8460,  27.5198
    49MR0505_1,   P03,   144,  1,     20, X12032,2,20051121,2003, 24.8867,-166.3435, 5086,   1603.0,2,   2.5544,2,   2.55477,2,  34.5620,2,  34.5618,2,    62.55,1,    69.10,2,   1601.8,2,    70.62,2,    68.63,2,   144.93,2,     0.44,    41.22,2,     0.15,    -0.01,2,     0.01,    2.961,2,    0.017,    0.000,2,    0.000,2,    0.000,2,   -999.0,9,   -999.0,9,-999.0000,9, -999.000,9, -999.000,   -999.0,9,   -999.0,   2.4434,  27.5845
    49MR0505_1,   P03,   144,  1,     19, X12001,2,20051121,2003, 24.8867,-166.3435, 5086,   1797.0,2,   2.2755,2,   2.27542,2,  34.5903,2,  34.5905,2,    72.70,1,    80.50,2,   1796.7,2,    80.97,2,    80.07,2,   150.41,2,     0.45,    40.70,2,     0.15,    -0.01,2,     0.01,    2.899,2,    0.017,    0.000,2,    0.001,2,    0.000,2,   -999.0,9,   -999.0,9,-999.0000,9, -999.000,9, -999.000,   -999.0,9,   -999.0,   2.1521,  27.6313
    49MR0505_1,   P03,   144,  1,     18, X12030,2,20051121,2003, 24.8867,-166.3435, 5086,   2000.7,2,   2.0038,2,   2.00361,2,  34.6144,2,  34.6147,2,    82.19,1,    91.26,2,   2001.2,2,    90.70,2,    90.68,2,   155.66,2,     0.46,    40.02,2,     0.14,    -0.01,2,     0.01,    2.851,2,    0.017,    0.000,2,    0.000,2,    0.000,2,   -999.0,9,   -999.0,9,-999.0000,9, -999.000,9, -999.000,   -999.0,9,   -999.0,   1.8673,  27.6731
    49MR0505_1,   P03,   144,  1,     17, X12049,2,20051121,2003, 24.8867,-166.3435, 5086,   2201.1,2,   1.8471,2,   1.84701,2,  34.6306,2,  34.6307,2,    90.42,1,   100.36,2,   2201.5,2,    99.82,2,   100.02,2,   157.87,2,     0.47,    39.50,2,     0.14,    -0.01,2,     0.01,    2.814,2,    0.017, -999.000,9, -999.000,9, -999.000,9,   -999.0,9,   -999.0,9,-999.0000,9, -999.000,9, -999.000,   -999.0,9,   -999.0,   1.6960,  27.6992
    49MR0505_1,   P03,   144,  1,     16, X12028,2,20051121,2003, 24.8867,-166.3435, 5086,   2401.8,2,   1.7357,2,   1.73562,2,  34.6427,2,  34.6428,6,    97.27,1,   107.99,2,   2403.1,2,   106.69,2,   107.60,2,   159.25,2,     0.47,    39.06,2,     0.14,    -0.01,2,     0.01,    2.770,2,    0.017, -999.000,9, -999.000,9, -999.000,9,   -999.0,9,   -999.0,9,-999.0000,9, -999.000,9, -999.000,   -999.0,9,   -999.0,   1.5691,  27.7184
    49MR0505_1,   P03,   144,  1,     15, X12006,2,20051121,2003, 24.8867,-166.3435, 5086,   2600.0,2,   1.6501,2,   1.64989,2,  34.6521,2,  34.6526,2,   103.58,1,   115.04,2,   2601.4,2,   113.05,2,   114.70,2,   159.66,2,     0.47,    38.61,2,     0.14,    -0.01,2,     0.01,    2.728,2,    0.017, -999.000,9, -999.000,9, -999.000,9,   -999.0,9,   -999.0,9,-999.0000,9, -999.000,9, -999.000,   -999.0,9,   -999.0,   1.4674,  27.7334
    49MR0505_1,   P03,   144,  1,     14, X12026,2,20051121,2003, 24.8867,-166.3435, 5086,   2800.0,2,   1.5914,2,   1.59121,2,  34.6594,2,  34.6601,2,   108.73,1,   120.77,2,   2801.0,2,   119.43,2,   120.42,2,   159.89,2,     0.47,    38.20,2,     0.14,    -0.01,2,     0.01,    2.700,2,    0.017,    0.000,2,    0.000,2,    0.000,2,   -999.0,9,   -999.0,9,-999.0000,9, -999.000,9, -999.000,   -999.0,9,   -999.0,   1.3915,  27.7447
    49MR0505_1,   P03,   144,  1,     13, X12025,2,20051121,2003, 24.8867,-166.3435, 5086,   3000.7,2,   1.5499,2,   1.54991,2,  34.6653,2,  34.6654,2,   113.37,1,   125.95,2,   3000.9,2,   125.32,2,   125.61,2,   159.45,2,     0.47,    37.92,2,     0.14,    -0.01,2,     0.01,    2.676,2,    0.017, -999.000,9, -999.000,9, -999.000,9,   -999.0,9,   -999.0,9,-999.0000,9, -999.000,9, -999.000,   -999.0,9,   -999.0,   1.3320,  27.7536
    49MR0505_1,   P03,   144,  1,     12, X12024,2,20051121,2003, 24.8867,-166.3435, 5086,   3251.1,2,   1.5049,2,   1.50501,2,  34.6722,2,  34.6723,2,   119.89,1,   132.79,2,   3251.2,2,   132.55,2,   132.72,2,   158.21,2,     0.47,    37.33,2,     0.14,    -0.01,2,     0.01,    2.629,2,    0.017, -999.000,9, -999.000,9, -999.000,9,   -999.0,9,   -999.0,9,-999.0000,9, -999.000,9, -999.000,   -999.0,9,   -999.0,   1.2637,  27.7640
    49MR0505_1,   P03,   144,  1,     11, X12023,2,20051121,2003, 24.8867,-166.3435, 5086,   3500.1,2,   1.4763,2,   1.47633,2,  34.6779,2,  34.6778,6,   126.40,1,   139.59,2,   3500.2,2,   139.46,2,   139.59,2,   156.40,2,     0.46,    36.92,2,     0.14,    -0.01,2,     0.01,    2.601,2,    0.016,    0.003,2,    0.003,2,    0.000,2,   -999.0,9,   -999.0,9,-999.0000,9, -999.000,9, -999.000,   -999.0,9,   -999.0,   1.2108,  27.7722
    49MR0505_1,   P03,   144,  1,     10, X12022,2,20051121,2003, 24.8867,-166.3435, 5086,   3749.9,2,   1.4599,2,   1.45997,2,  34.6822,2,  34.6825,2,   131.22,1,   144.50,2,   3750.1,2,   144.55,2,   144.62,2,   155.22,2,     0.46,    36.58,2,     0.14,    -0.01,2,     0.01,    2.575,2,    0.016, -999.000,9, -999.000,9, -999.000,9,   -999.0,9,   -999.0,9,-999.0000,9, -999.000,9, -999.000,   -999.0,9,   -999.0,   1.1689,  27.7786
    49MR0505_1,   P03,   144,  1,      9, X12021,2,20051121,2003, 24.8867,-166.3435, 5086,   4000.3,2,   1.4592,2,   1.45909,2,  34.6849,2,  34.6852,2,   134.85,1,   148.19,2,   4000.2,2,   148.90,2,   148.49,2,   154.18,2,     0.46,    36.37,2,     0.13,    -0.01,2,     0.01,    2.555,2,    0.016, -999.000,9, -999.000,9, -999.000,9,   -999.0,9,   -999.0,9,-999.0000,9, -999.000,9, -999.000,   -999.0,9,   -999.0,   1.1414,  27.7827
    49MR0505_1,   P03,   144,  1,      8, X12020,2,20051121,2003, 24.8867,-166.3435, 5086,   4250.9,2,   1.4660,2,   1.46611,2,  34.6873,2,  34.6871,2,   138.00,1,   151.12,2,   4250.9,2,   151.39,2,   151.41,2,   153.01,2,     0.46,    36.19,2,     0.13,    -0.01,2,     0.01,    2.529,2,    0.016,    0.000,2,    0.000,2,    0.000,2,   -999.0,9,   -999.0,9,-999.0000,9, -999.000,9, -999.000,   -999.0,9,   -999.0,   1.1204,  27.7860
    49MR0505_1,   P03,   144,  1,      7, X12019,2,20051121,2003, 24.8867,-166.3435, 5086,   4501.4,2,   1.4818,2,   1.48181,2,  34.6886,2,  34.6885,6,   140.41,1,   153.27,2,   4501.3,2,   153.78,2,   153.41,2,   151.80,2,     0.45,    35.99,2,     0.13,    -0.01,2,     0.01,    2.528,2,    0.016, -999.000,9, -999.000,9, -999.000,9,   -999.0,9,   -999.0,9,-999.0000,9, -999.000,9, -999.000,   -999.0,9,   -999.0,   1.1072,  27.7879
    49MR0505_1,   P03,   144,  1,      6, X12018,2,20051121,2003, 24.8867,-166.3435, 5086,   4749.8,2,   1.4983,2,   1.49822,2,  34.6898,2,  34.6903,2,   143.06,1,   155.49,2,   4749.9,2,   155.92,2,   155.71,2,   150.05,2,     0.45,    35.87,2,     0.13,    -0.01,2,     0.01,    2.519,2,    0.016, -999.000,9, -999.000,9, -999.000,9,   -999.0,9,   -999.0,9,-999.0000,9, -999.000,9, -999.000,   -999.0,9,   -999.0,   1.0942,  27.7898
    49MR0505_1,   P03,   144,  1,      5, X12043,2,20051121,2003, 24.8867,-166.3435, 5086,   5000.5,2,   1.5165,2,   1.51650,2,  34.6910,2,  34.6914,2,   146.00,1,   157.85,2,   5000.5,2,   158.19,2,   157.94,2,   148.31,2,     0.45,    35.70,2,     0.13,    -0.01,2,     0.01,    2.500,2,    0.016, -999.000,9, -999.000,9, -999.000,9,   -999.0,9,   -999.0,9,-999.0000,9, -999.000,9, -999.000,   -999.0,9,   -999.0,   1.0816,  27.7916
    49MR0505_1,   P03,   144,  1,      4, X12010,9,20051121,2003, 24.8867,-166.3435, 5086,     10.0,2,  25.8175,2,  25.81763,2,  35.2303,2,-999.0000,9,   188.30,1,   204.84,2,      8.9,2,   205.41,2,  -999.00,9,  -999.00,9,  -999.00,  -999.00,9,  -999.00,  -999.00,9,  -999.00, -999.000,9, -999.000, -999.000,9, -999.000,9, -999.000,9,   -999.0,9,   -999.0,9,-999.0000,9, -999.000,9, -999.000,   -999.0,9,   -999.0,  25.8153,  23.2646
    49MR0505_1,   P03,   144,  1,      3, X12015,9,20051121,2003, 24.8867,-166.3435, 5086,    999.9,2,   4.1135,2,   4.11319,2,  34.4071,2,-999.0000,9,    35.38,1,    39.05,2,   1002.2,2,    38.71,2,  -999.00,9,  -999.00,9,  -999.00,  -999.00,9,  -999.00,  -999.00,9,  -999.00, -999.000,9, -999.000, -999.000,9, -999.000,9, -999.000,9,   -999.0,9,   -999.0,9,-999.0000,9, -999.000,9, -999.000,   -999.0,9,   -999.0,   4.0371,  27.3106
    49MR0505_1,   P03,   144,  1,      2, X12014,9,20051121,2003, 24.8867,-166.3435, 5086,   2000.5,2,   2.0039,2,   2.00378,2,  34.6146,2,-999.0000,9,    82.20,1,    91.29,2,   2001.0,2,    90.70,2,  -999.00,9,  -999.00,9,  -999.00,  -999.00,9,  -999.00,  -999.00,9,  -999.00, -999.000,9, -999.000, -999.000,9, -999.000,9, -999.000,9,   -999.0,9,   -999.0,9,-999.0000,9, -999.000,9, -999.000,   -999.0,9,   -999.0,   1.8674,  27.6732
    49MR0505_1,   P03,   144,  1,      1, X12013,2,20051121,2003, 24.8867,-166.3435, 5086,   5160.2,2,   1.5357,2,   1.53563,2,  34.6910,2,  34.6913,6,   147.18,1,   158.44,2,   5160.2,2,   158.10,2,   158.07,2,   147.85,2,     0.44,    35.73,2,     0.13,    -0.01,2,     0.01,    2.496,2,    0.016,    0.002,2,    0.001,2,    0.000,2,   -999.0,9,   -999.0,9,-999.0000,9, -999.000,9, -999.000,   -999.0,9,   -999.0,   1.0806,  27.7917