BOTTLE,20100316JAMSTECRIGC
EXPOCODE,SECT,STNNBR,CASTNO,SAMPNO,BTLNBR,BTLNBR_FLAG_W,DATE,TIME,LATITUDE,LONGITUDE,DEPTH,CTDPRS,CTDPRS_FLAG_W,CTDTMP,CTDTMP_FLAG_W,SBE35,SBE35_FLAG_W,CTDSAL,CTDSAL_FLAG_W,SALNTY,SALNTY_FLAG_W,CTDOXY,CTDOXY_FLAG_W,OPTOXY,OPTOXY_FLAG_W,DWNPRS,DWNPRS_FLAG_W,DWNOXY,DWNOXY_FLAG_W,OXYGEN,OXYGEN_FLAG_W,SILCAT,SILCAT_FLAG_W,SILUNC,NITRAT,NITRAT_FLAG_W,NRAUNC,NITRIT,NITRIT_FLAG_W,NRIUNC,PHSPHT,PHSPHT_FLAG_W,PHPUNC,CFC-11,CFC-11_FLAG_W,CFC-12,CFC-12_FLAG_W,CFC113,CFC113_FLAG_W,TCARBN,TCARBN_FLAG_W,ALKALI,ALKALI_FLAG_W,PH,PH_FLAG_W,DELC13,DELC13_FLAG_W,C13ERR,DELC14,DELC14_FLAG_W,C14ERR,THETA,SIG0
,,,,,,,,UTC,DEG,DEG,M,DBAR,,ITS-90,,ITS-90,,PSS-78,,PSS-78,,UMOL/KG,,UMOL/KG,,DBAR,,UMOL/KG,,UMOL/KG,,UMOL/KG,,UMOL/KG,UMOL/KG,,UMOL/KG,UMOL/KG,,UMOL/KG,UMOL/KG,,UMOL/KG,PMOL/KG,,PMOL/KG,,PMOL/KG,,UMOL/KG,,UMOL/KG,,,,/MILLE,,/MILLE,/MILLE,,/MILLE,DEG C,KG/CUM
    49MR0505_1,   P03,    55,  1,      0,   -999,9,20051107,1304, 24.2452,-132.4352, 4625,   -999.0,9,-999.0000,9,-999.00000,9,-999.0000,9,  34.8914,2,  -999.00,9,  -999.00,9,   -999.0,9,  -999.00,9,  -999.00,9,  -999.00,9,  -999.00,  -999.00,9,  -999.00,  -999.00,9,  -999.00, -999.000,9, -999.000, -999.000,9, -999.000,9, -999.000,9,   -999.0,9,   -999.0,9,-999.0000,9, -999.000,9, -999.000,   -999.0,9,   -999.0,-999.0000,-999.0000
    49MR0505_1,   P03,    55,  1,     36, X12048,2,20051107,1304, 24.2452,-132.4352, 4625,     10.5,2,  22.0054,2,  22.00526,2,  34.8809,2,  34.8800,2,   210.16,1,   220.47,2,      9.9,2,   221.47,2,   220.62,2,     1.21,2,     0.12,     0.05,2,     0.03,     0.00,2,     0.01,    0.170,2,    0.017,    1.923,2,    1.150,2, -999.000,5,   -999.0,9,   -999.0,9,-999.0000,9, -999.000,9, -999.000,   -999.0,9,   -999.0,  22.0033,  24.1264
    49MR0505_1,   P03,    55,  1,     35, X12047,2,20051107,1304, 24.2452,-132.4352, 4625,     50.4,2,  21.7342,2,  21.73429,2,  34.7838,2,  34.7855,2,   211.98,1,   222.62,2,     48.6,2,   222.51,2,   222.42,2,     1.30,2,     0.12,     0.04,2,     0.03,     0.00,2,     0.01,    0.170,2,    0.017,    1.964,2,    1.187,2, -999.000,5,   -999.0,9,   -999.0,9,-999.0000,9, -999.000,9, -999.000,   -999.0,9,   -999.0,  21.7243,  24.1304
    49MR0505_1,   P03,    55,  1,     34, X12046,2,20051107,1304, 24.2452,-132.4352, 4625,     99.9,2,  19.8078,2,  19.80707,2,  34.5689,2,  34.5860,2,   223.43,1,   234.91,2,    101.3,2,   233.78,2,   234.02,2,     1.53,2,     0.12,     0.04,2,     0.03,     0.00,2,     0.01,    0.162,2,    0.017,    2.242,2,    1.323,2, -999.000,5,   -999.0,9,   -999.0,9,-999.0000,9, -999.000,9, -999.000,   -999.0,9,   -999.0,  19.7895,  24.4881
    49MR0505_1,   P03,    55,  1,     33, X12003,2,20051107,1304, 24.2452,-132.4352, 4625,    150.7,2,  17.7332,2,  17.73230,2,  34.4990,2,  34.4837,2,   210.26,1,   221.79,2,    152.9,2,   219.67,2,   220.68,2,     2.38,2,     0.12,     0.82,2,     0.04,     0.12,2,     0.01,    0.246,2,    0.015,    2.454,2,    1.407,2, -999.000,5,   -999.0,9,   -999.0,9,-999.0000,9, -999.000,9, -999.000,   -999.0,9,   -999.0,  17.7077,  24.9598
    49MR0505_1,   P03,    55,  1,     32, X12044,2,20051107,1304, 24.2452,-132.4352, 4625,    200.0,2,  12.5445,2,  12.54419,2,  33.8496,2,  33.8447,2,   202.31,1,   211.13,2,    204.1,2,   212.88,2,   211.11,2,     7.62,2,     0.14,     8.31,2,     0.06,     0.01,2,     0.01,    0.758,2,    0.013,    3.103,2,    1.663,2,    0.147,2,   -999.0,9,   -999.0,9,-999.0000,9, -999.000,9, -999.000,   -999.0,9,   -999.0,  12.5179,  25.5964
    49MR0505_1,   P03,    55,  1,     31, X12051,2,20051107,1304, 24.2452,-132.4352, 4625,    250.5,2,   9.8930,2,   9.89350,2,  33.8687,2,  33.8905,2,   186.80,1,   194.89,2,    254.7,2,   199.81,2,   195.76,2,    17.29,2,     0.16,    16.28,2,     0.08,     0.00,2,     0.01,    1.258,2,    0.013,    3.315,6,    1.697,6,    0.117,6,   -999.0,9,   -999.0,9,-999.0000,9, -999.000,9, -999.000,   -999.0,9,   -999.0,   9.8645,  26.0914
    49MR0505_1,   P03,    55,  1,     30, X12042,2,20051107,1304, 24.2452,-132.4352, 4625,    299.6,2,   9.1055,2,   9.10623,2,  34.0243,2,  34.0282,2,   165.90,1,   173.07,2,    305.2,2,   183.48,2,   171.76,2,    25.31,2,     0.17,    20.83,2,     0.09,     0.00,2,     0.01,    1.548,2,    0.014,    3.051,2,    1.518,2,    0.097,2,   -999.0,9,   -999.0,9,-999.0000,9, -999.000,9, -999.000,   -999.0,9,   -999.0,   9.0729,  26.3425
    49MR0505_1,   P03,    55,  1,     29, X12041,2,20051107,1304, 24.2452,-132.4352, 4625,    399.7,2,   7.3776,2,   7.37800,2,  34.0695,2,  34.0729,2,   100.09,1,   103.07,2,    399.5,2,   100.62,2,   101.81,2,    46.77,2,     0.22,    30.57,2,     0.12,     0.00,2,     0.01,    2.288,2,    0.016,    1.743,2,    0.810,2,    0.058,2,   -999.0,9,   -999.0,9,-999.0000,9, -999.000,9, -999.000,   -999.0,9,   -999.0,   7.3390,  26.6386
    49MR0505_1,   P03,    55,  1,     28, X12016,2,20051107,1304, 24.2452,-132.4352, 4625,    501.0,2,   5.7700,2,   5.77105,2,  34.1201,2,  34.1194,6,    46.34,1,    48.29,2,    506.1,2,    53.94,2,    47.91,2,    71.63,2,     0.28,    38.14,2,     0.14,     0.00,2,     0.01,    2.842,2,    0.017,    0.584,2,    0.274,2,    0.021,2,   -999.0,9,   -999.0,9,-999.0000,9, -999.000,9, -999.000,   -999.0,9,   -999.0,   5.7274,  26.8913
    49MR0505_1,   P03,    55,  1,     27, X12039,2,20051107,1304, 24.2452,-132.4352, 4625,    600.4,2,   5.2349,2,   5.23622,2,  34.2455,2,  34.2477,2,    20.52,1,    21.23,2,    601.1,2,    23.59,2,    20.82,2,    86.73,2,     0.31,    41.33,2,     0.15,     0.00,2,     0.01,    3.101,2,    0.018,    0.094,2,    0.049,2,    0.000,2,   -999.0,9,   -999.0,9,-999.0000,9, -999.000,9, -999.000,   -999.0,9,   -999.0,   5.1858,  27.0555
    49MR0505_1,   P03,    55,  1,     26, X12038,2,20051107,1304, 24.2452,-132.4352, 4625,    700.8,2,   4.9756,2,   4.97524,2,  34.3620,2,  34.3640,2,    17.81,1,    18.71,2,    700.9,2,    20.54,2,    18.52,2,    93.16,2,     0.32,    42.26,2,     0.15,     0.00,2,     0.01,    3.169,2,    0.018,    0.031,2,    0.015,2,    0.000,2,   -999.0,9,   -999.0,9,-999.0000,9, -999.000,9, -999.000,   -999.0,9,   -999.0,   4.9190,  27.1787
    49MR0505_1,   P03,    55,  1,     25, X12037,2,20051107,1304, 24.2452,-132.4352, 4625,    802.2,2,   4.6807,2,   4.68289,2,  34.4460,2,  34.4463,2,    23.03,1,    23.76,2,    803.1,2,    24.96,2,    23.97,2,    98.62,2,     0.34,    42.78,2,     0.15,     0.01,2,     0.01,    3.181,2,    0.018,    0.008,6,    0.006,6,    0.000,6,   -999.0,9,   -999.0,9,-999.0000,9, -999.000,9, -999.000,   -999.0,9,   -999.0,   4.6171,  27.2793
    49MR0505_1,   P03,    55,  1,     24, X12008,2,20051107,1304, 24.2452,-132.4352, 4625,    899.2,2,   4.3568,2,   4.35690,2,  34.4786,2,  34.4791,2,    26.95,1,    27.96,2,    900.7,2,    29.93,2,    28.13,2,   105.31,2,     0.35,    43.14,2,     0.15,     0.00,2,     0.01,    3.176,2,    0.018,    0.018,2,    0.007,2,    0.000,2,   -999.0,9,   -999.0,9,-999.0000,9, -999.000,9, -999.000,   -999.0,9,   -999.0,   4.2870,  27.3412
    49MR0505_1,   P03,    55,  1,     23, X12035,2,20051107,1304, 24.2452,-132.4352, 4625,   1001.9,2,   3.9994,2,   3.99942,2,  34.5041,2,  34.5038,6,    31.82,1,    32.81,2,   1004.8,2,    33.61,2,    33.00,2,   112.91,2,     0.37,    43.14,2,     0.15,     0.00,2,     0.01,    3.173,2,    0.018,    0.006,2,    0.008,2,    0.000,2,   -999.0,9,   -999.0,9,-999.0000,9, -999.000,9, -999.000,   -999.0,9,   -999.0,   3.9236,  27.3996
    49MR0505_1,   P03,    55,  1,     22, X12034,2,20051107,1304, 24.2452,-132.4352, 4625,   1201.2,2,   3.4714,2,   3.47154,2,  34.5386,2,  34.5386,2,    38.81,1,    40.08,2,   1204.4,2,    40.59,2,    40.55,2,   125.52,2,     0.40,    43.00,2,     0.15,     0.00,2,     0.01,    3.159,2,    0.018,    0.004,2,    0.008,2,    0.000,2,   -999.0,9,   -999.0,9,-999.0000,9, -999.000,9, -999.000,   -999.0,9,   -999.0,   3.3835,  27.4808
    49MR0505_1,   P03,    55,  1,     21, X12033,2,20051107,1304, 24.2452,-132.4352, 4625,   1399.8,2,   3.0385,2,   3.03833,2,  34.5660,2,  34.5662,2,    47.84,1,    49.73,2,   1403.3,2,    49.57,2,    50.07,2,   135.76,2,     0.42,    42.71,2,     0.15,     0.00,2,     0.01,    3.115,2,    0.018,    0.001,2,    0.002,2,    0.000,2,   -999.0,9,   -999.0,9,-999.0000,9, -999.000,9, -999.000,   -999.0,9,   -999.0,   2.9386,  27.5443
    49MR0505_1,   P03,    55,  1,     20, X12032,2,20051107,1304, 24.2452,-132.4352, 4625,   1600.6,2,   2.7030,2,   2.70340,2,  34.5872,2,  34.5874,2,    56.73,1,    59.06,2,   1604.0,2,    58.85,2,    59.27,2,   144.06,2,     0.44,    42.19,2,     0.15,     0.00,2,     0.01,    3.061,2,    0.018,    0.003,2,    0.001,2,    0.000,2,   -999.0,9,   -999.0,9,-999.0000,9, -999.000,9, -999.000,   -999.0,9,   -999.0,   2.5903,  27.5920
    49MR0505_1,   P03,    55,  1,     19, X12001,2,20051107,1304, 24.2452,-132.4352, 4625,   1800.7,2,   2.3793,2,   2.37910,2,  34.6098,2,  34.6103,6,    67.91,1,    71.12,2,   1802.8,2,    70.42,2,    71.43,2,   151.36,2,     0.45,    41.42,2,     0.15,     0.00,2,     0.01,    2.987,2,    0.017,    0.000,2,    0.000,2,    0.000,2,   -999.0,9,   -999.0,9,-999.0000,9, -999.000,9, -999.000,   -999.0,9,   -999.0,   2.2541,  27.6385
    49MR0505_1,   P03,    55,  1,     18, X12030,2,20051107,1304, 24.2452,-132.4352, 4625,   2003.3,2,   2.1542,2,   2.15409,2,  34.6259,2,  34.6264,2,    78.32,1,    82.17,2,   2004.5,2,    81.78,2,    82.35,2,   155.94,2,     0.46,    40.69,2,     0.15,     0.00,2,     0.01,    2.921,2,    0.017,    0.002,2,    0.000,2,    0.000,2,   -999.0,9,   -999.0,9,-999.0000,9, -999.000,9, -999.000,   -999.0,9,   -999.0,   2.0152,  27.6707
    49MR0505_1,   P03,    55,  1,     17, X12049,2,20051107,1304, 24.2452,-132.4352, 4625,   2200.2,2,   1.9718,2,   1.97158,2,  34.6384,2,  34.6387,2,    87.71,1,    92.26,2,   2201.8,2,    91.13,2,    92.38,2,   159.33,2,     0.47,    40.07,2,     0.14,     0.00,2,     0.01,    2.864,2,    0.017, -999.000,9, -999.000,9, -999.000,9,   -999.0,9,   -999.0,9,-999.0000,9, -999.000,9, -999.000,   -999.0,9,   -999.0,   1.8187,  27.6961
    49MR0505_1,   P03,    55,  1,     16, X12028,2,20051107,1304, 24.2452,-132.4352, 4625,   2399.4,2,   1.8350,2,   1.83485,2,  34.6479,2,  34.6484,2,    95.26,1,   100.24,2,   2400.5,2,    99.48,2,   100.37,2,   161.97,2,     0.48,    39.65,2,     0.14,     0.00,2,     0.01,    2.820,2,    0.017,    0.000,2,    0.003,2,    0.000,2,   -999.0,9,   -999.0,9,-999.0000,9, -999.000,9, -999.000,   -999.0,9,   -999.0,   1.6668,  27.7153
    49MR0505_1,   P03,    55,  1,     15, X12009,2,20051107,1304, 24.2452,-132.4352, 4625,   2600.1,2,   1.7218,2,   1.72168,2,  34.6560,2,  34.6561,6,   101.80,1,   107.31,2,   2600.6,2,   107.14,2,   107.36,2,   164.75,2,     0.48,    39.16,2,     0.14,     0.00,2,     0.01,    2.776,2,    0.017, -999.000,9, -999.000,9, -999.000,9,   -999.0,9,   -999.0,9,-999.0000,9, -999.000,9, -999.000,   -999.0,9,   -999.0,   1.5377,  27.7314
    49MR0505_1,   P03,    55,  1,     14, X12026,2,20051107,1304, 24.2452,-132.4352, 4625,   2800.9,2,   1.6321,2,   1.63199,2,  34.6628,2,  34.6622,2,   108.39,1,   114.17,2,   2801.5,2,   113.84,2,   114.30,2,   166.10,2,     0.48,    38.66,2,     0.14,     0.00,2,     0.01,    2.734,2,    0.017, -999.000,9, -999.000,9, -999.000,9,   -999.0,9,   -999.0,9,-999.0000,9, -999.000,9, -999.000,   -999.0,9,   -999.0,   1.4313,  27.7446
    49MR0505_1,   P03,    55,  1,     13, X12025,2,20051107,1304, 24.2452,-132.4352, 4625,   2999.6,2,   1.5698,2,   1.56964,2,  34.6687,2,  34.6688,2,   114.85,1,   121.12,2,   2999.8,2,   121.15,2,   121.13,2,   166.21,2,     0.48,    38.29,2,     0.14,     0.00,2,     0.01,    2.699,2,    0.017,    0.004,2,    0.003,2,    0.000,2,   -999.0,9,   -999.0,9,-999.0000,9, -999.000,9, -999.000,   -999.0,9,   -999.0,   1.3515,  27.7549
    49MR0505_1,   P03,    55,  1,     12, X12024,2,20051107,1304, 24.2452,-132.4352, 4625,   3249.6,2,   1.5206,2,   1.52048,2,  34.6751,2,  34.6755,2,   122.49,1,   129.11,2,   3249.5,2,   129.54,2,   129.01,2,   164.92,2,     0.48,    37.75,2,     0.14,     0.00,2,     0.01,    2.658,2,    0.017, -999.000,9, -999.000,9, -999.000,9,   -999.0,9,   -999.0,9,-999.0000,9, -999.000,9, -999.000,   -999.0,9,   -999.0,   1.2791,  27.7652
    49MR0505_1,   P03,    55,  1,     11, X12023,2,20051107,1304, 24.2452,-132.4352, 4625,   3500.8,2,   1.4975,2,   1.49727,2,  34.6795,2,  34.6795,6,   128.20,1,   134.84,2,   3500.8,2,   134.94,2,   134.93,2,   163.40,2,     0.48,    37.41,2,     0.14,     0.00,2,     0.01,    2.629,2,    0.017,    0.003,2,    0.004,2,    0.000,2,   -999.0,9,   -999.0,9,-999.0000,9, -999.000,9, -999.000,   -999.0,9,   -999.0,   1.2314,  27.7721
    49MR0505_1,   P03,    55,  1,     10, X12022,2,20051107,1304, 24.2452,-132.4352, 4625,   3749.5,2,   1.4933,2,   1.49315,2,  34.6824,2,  34.6822,2,   132.33,1,   138.73,2,   3749.6,2,   138.91,2,   138.89,2,   161.80,2,     0.47,    37.15,2,     0.14,     0.00,2,     0.01,    2.606,2,    0.016, -999.000,9, -999.000,9, -999.000,9,   -999.0,9,   -999.0,9,-999.0000,9, -999.000,9, -999.000,   -999.0,9,   -999.0,   1.2014,  27.7765
    49MR0505_1,   P03,    55,  1,      9, X12021,2,20051107,1304, 24.2452,-132.4352, 4625,   4001.6,2,   1.5004,2,   1.50019,2,  34.6843,2,  34.6843,2,   135.74,1,   141.86,2,   4001.7,2,   142.31,2,   142.05,2,   160.08,2,     0.47,    36.85,2,     0.14,     0.00,2,     0.01,    2.589,2,    0.016,    0.001,2,    0.009,2,    0.000,2,   -999.0,9,   -999.0,9,-999.0000,9, -999.000,9, -999.000,   -999.0,9,   -999.0,   1.1813,  27.7794
    49MR0505_1,   P03,    55,  1,      8, X12020,2,20051107,1304, 24.2452,-132.4352, 4625,   4699.6,2,   1.4936,2,   1.49327,2,  34.6909,2,  34.6910,2,   151.85,1,   156.95,2,   4699.6,2,   156.50,2,   156.80,2,   149.39,2,     0.45,    35.84,2,     0.13,     0.00,2,     0.01,    2.513,2,    0.016, -999.000,9, -999.000,9, -999.000,9,   -999.0,9,   -999.0,9,-999.0000,9, -999.000,9, -999.000,   -999.0,9,   -999.0,   1.0955,  27.7905
    49MR0505_1,   P03,    55,  1,      7, X12019,2,20051107,1304, 24.2452,-132.4352, 4625,   4501.0,2,   1.4998,2,   1.49961,2,  34.6886,2,  34.6888,2,   146.19,1,   151.63,2,   4501.0,2,   151.81,2,   151.71,2,   153.26,2,     0.46,    36.21,2,     0.13,     0.00,2,     0.01,    2.541,2,    0.016, -999.000,9, -999.000,9, -999.000,9,   -999.0,9,   -999.0,9,-999.0000,9, -999.000,9, -999.000,   -999.0,9,   -999.0,   1.1247,  27.7868
    49MR0505_1,   P03,    55,  1,      6, X12018,9,20051107,1304, 24.2452,-132.4352, 4625,    150.6,2,  17.7685,2,  17.77282,2,  34.5109,2,-999.0000,9,   210.78,1,   221.28,2,    152.9,2,   219.64,2,  -999.00,9,  -999.00,9,  -999.00,  -999.00,9,  -999.00,  -999.00,9,  -999.00, -999.000,9, -999.000, -999.000,9, -999.000,9, -999.000,9,   -999.0,9,   -999.0,9,-999.0000,9, -999.000,9, -999.000,   -999.0,9,   -999.0,  17.7430,  24.9603
    49MR0505_1,   P03,    55,  1,      5, X12043,9,20051107,1304, 24.2452,-132.4352, 4625,     99.6,2,  19.8075,2,  19.80750,2,  34.5690,2,-999.0000,9,   223.16,1,   234.84,2,    101.1,2,   233.82,2,  -999.00,9,  -999.00,9,  -999.00,  -999.00,9,  -999.00,  -999.00,9,  -999.00, -999.000,9, -999.000, -999.000,9, -999.000,9, -999.000,9,   -999.0,9,   -999.0,9,-999.0000,9, -999.000,9, -999.000,   -999.0,9,   -999.0,  19.7893,  24.4882
    49MR0505_1,   P03,    55,  1,      4, X12010,9,20051107,1304, 24.2452,-132.4352, 4625,     50.3,2,  21.7327,2,  21.73257,2,  34.7834,2,-999.0000,9,   212.04,1,   222.54,2,     48.5,2,   222.49,2,  -999.00,9,  -999.00,9,  -999.00,  -999.00,9,  -999.00,  -999.00,9,  -999.00, -999.000,9, -999.000, -999.000,9, -999.000,9, -999.000,9,   -999.0,9,   -999.0,9,-999.0000,9, -999.000,9, -999.000,   -999.0,9,   -999.0,  21.7229,  24.1305
    49MR0505_1,   P03,    55,  1,      3, X12015,9,20051107,1304, 24.2452,-132.4352, 4625,     10.5,2,  22.0044,2,  22.00395,2,  34.8817,2,-999.0000,9,   209.65,1,   220.48,2,     10.0,2,   221.47,2,  -999.00,9,  -999.00,9,  -999.00,  -999.00,9,  -999.00,  -999.00,9,  -999.00, -999.000,9, -999.000, -999.000,9, -999.000,9, -999.000,9,   -999.0,9,   -999.0,9,-999.0000,9, -999.000,9, -999.000,   -999.0,9,   -999.0,  22.0023,  24.1273
    49MR0505_1,   P03,    55,  1,      2, X12014,2,20051107,1304, 24.2452,-132.4352, 4625,   4252.3,2,   1.5065,2,   1.50641,2,  34.6861,2,  34.6865,2,   139.86,1,   145.69,2,   4252.2,2,   146.37,2,   145.77,2,   157.56,2,     0.47,    36.69,2,     0.14,     0.00,2,     0.01,    2.575,2,    0.016, -999.000,9, -999.000,9, -999.000,9,   -999.0,9,   -999.0,9,-999.0000,9, -999.000,9, -999.000,   -999.0,9,   -999.0,   1.1595,  27.7823
    49MR0505_1,   P03,    55,  1,      1, X12013,2,20051107,1304, 24.2452,-132.4352, 4625,   4699.3,2,   1.4937,2,   1.49339,2,  34.6909,2,  34.6911,6,   151.91,1,   156.89,2,   4699.3,2,   156.52,2,   156.90,2,   149.12,2,     0.45,    35.86,2,     0.13,     0.01,2,     0.01,    2.511,2,    0.016,    0.012,2,    0.004,2,    0.000,2,   -999.0,9,   -999.0,9,-999.0000,9, -999.000,9, -999.000,   -999.0,9,   -999.0,   1.0957,  27.7905