BOTTLE,20100316JAMSTECRIGC
EXPOCODE,SECT,STNNBR,CASTNO,SAMPNO,BTLNBR,BTLNBR_FLAG_W,DATE,TIME,LATITUDE,LONGITUDE,DEPTH,CTDPRS,CTDPRS_FLAG_W,CTDTMP,CTDTMP_FLAG_W,SBE35,SBE35_FLAG_W,CTDSAL,CTDSAL_FLAG_W,SALNTY,SALNTY_FLAG_W,CTDOXY,CTDOXY_FLAG_W,OPTOXY,OPTOXY_FLAG_W,DWNPRS,DWNPRS_FLAG_W,DWNOXY,DWNOXY_FLAG_W,OXYGEN,OXYGEN_FLAG_W,SILCAT,SILCAT_FLAG_W,SILUNC,NITRAT,NITRAT_FLAG_W,NRAUNC,NITRIT,NITRIT_FLAG_W,NRIUNC,PHSPHT,PHSPHT_FLAG_W,PHPUNC,CFC-11,CFC-11_FLAG_W,CFC-12,CFC-12_FLAG_W,CFC113,CFC113_FLAG_W,TCARBN,TCARBN_FLAG_W,ALKALI,ALKALI_FLAG_W,PH,PH_FLAG_W,DELC13,DELC13_FLAG_W,C13ERR,DELC14,DELC14_FLAG_W,C14ERR,THETA,SIG0
,,,,,,,,UTC,DEG,DEG,M,DBAR,,ITS-90,,ITS-90,,PSS-78,,PSS-78,,UMOL/KG,,UMOL/KG,,DBAR,,UMOL/KG,,UMOL/KG,,UMOL/KG,,UMOL/KG,UMOL/KG,,UMOL/KG,UMOL/KG,,UMOL/KG,UMOL/KG,,UMOL/KG,PMOL/KG,,PMOL/KG,,PMOL/KG,,UMOL/KG,,UMOL/KG,,,,/MILLE,,/MILLE,/MILLE,,/MILLE,DEG C,KG/CUM
    49MR0505_1,   P03,    69,  1,      0,   -999,9,20051109,1756, 24.2490,-138.8032, 5180,   -999.0,9,-999.0000,9,-999.00000,9,-999.0000,9,  35.1151,2,  -999.00,9,  -999.00,9,   -999.0,9,  -999.00,9,  -999.00,9,  -999.00,9,  -999.00,  -999.00,9,  -999.00,  -999.00,9,  -999.00, -999.000,9, -999.000, -999.000,9, -999.000,9, -999.000,9,   -999.0,9,   -999.0,9,-999.0000,9, -999.000,9, -999.000,   -999.0,9,   -999.0,-999.0000,-999.0000
    49MR0505_1,   P03,    69,  1,     36, X12048,2,20051109,1756, 24.2490,-138.8032, 5180,     10.1,2,  22.8312,2,  22.83193,2,  35.0872,2,  35.0874,2,   205.83,1,   217.52,2,      8.2,2,   218.08,2,   217.35,2,     1.09,2,     0.12,     0.06,2,     0.03,     0.00,2,     0.01,    0.127,2,    0.019,    1.843,2,    1.120,2, -999.000,5,   2011.7,2,   2326.4,2,   8.0604,6, -999.000,9, -999.000,   -999.0,9,   -999.0,  22.8292,  24.0489
    49MR0505_1,   P03,    69,  1,     35, X12047,2,20051109,1756, 24.2490,-138.8032, 5180,     50.4,2,  22.8389,2,  22.83916,2,  35.0855,2,  35.0865,2,   205.72,1,   217.48,2,     49.4,2,   217.29,2,   217.24,2,     1.08,2,     0.12,     0.05,2,     0.03,     0.00,2,     0.01,    0.125,2,    0.019,    1.836,2,    1.118,2, -999.000,5,   2006.9,6,   2324.0,2,   8.0610,2, -999.000,9, -999.000,   -999.0,9,   -999.0,  22.8287,  24.0478
    49MR0505_1,   P03,    69,  1,     34, X12046,2,20051109,1756, 24.2490,-138.8032, 5180,    100.5,2,  21.5764,2,  21.57306,2,  34.9170,2,  34.9136,2,   212.92,1,   224.10,2,     93.3,2,   225.19,2,   224.66,2,     1.31,2,     0.12,     0.06,2,     0.03,     0.01,2,     0.01,    0.146,2,    0.018, -999.000,5, -999.000,5, -999.000,5,   2018.8,2,   2316.9,6,   8.0307,2, -999.000,9, -999.000,   -999.0,9,   -999.0,  21.5568,  24.2781
    49MR0505_1,   P03,    69,  1,     33, X12003,2,20051109,1756, 24.2490,-138.8032, 5180,    150.2,2,  19.9618,2,  19.95765,2,  34.9479,2,  34.9568,2,   205.65,1,   217.74,2,    141.4,2,   215.85,2,   217.03,2,     1.57,2,     0.12,     0.09,2,     0.03,     0.16,2,     0.01,    0.147,2,    0.018,    2.144,2,    1.283,2, -999.000,5,   2031.5,2,   2313.9,2,   8.0056,2, -999.000,9, -999.000,   -999.0,9,   -999.0,  19.9341,  24.7394
    49MR0505_1,   P03,    69,  1,     32, X12044,2,20051109,1756, 24.2490,-138.8032, 5180,    199.7,2,  16.9976,2,  16.99993,2,  34.5068,2,  34.5109,2,   195.99,1,   206.96,2,    193.8,2,   206.06,2,   206.67,2,     3.01,2,     0.13,     2.70,2,     0.04,     0.02,2,     0.01,    0.337,2,    0.014,    2.447,2,    1.428,2,    0.191,4,   2040.6,2,   2281.5,2,   7.9386,2, -999.000,9, -999.000,   -999.0,9,   -999.0,  16.9648,  25.1440
    49MR0505_1,   P03,    69,  1,     31, X12051,2,20051109,1756, 24.2490,-138.8032, 5180,    248.7,2,  12.4182,2,  12.41571,2,  33.9790,2,  33.9709,2,   192.55,1,   201.23,2,    245.0,2,   205.85,2,   200.80,2,     8.89,2,     0.14,     9.69,2,     0.06,     0.01,2,     0.01,    0.829,2,    0.013,    3.014,6,    1.646,6,    0.099,6,   2072.8,2,   2252.3,2,   7.8174,2, -999.000,9, -999.000,   -999.0,9,   -999.0,  12.3853,  25.7224
    49MR0505_1,   P03,    69,  1,     30, X12042,2,20051109,1756, 24.2490,-138.8032, 5180,    299.8,2,  10.2379,2,  10.24161,2,  33.9921,2,  33.9876,2,   178.94,1,   187.94,2,    298.6,2,   188.50,2,   188.62,2,    16.73,2,     0.16,    15.87,2,     0.08,     0.00,2,     0.01,    1.226,2,    0.013,    3.111,2,    1.627,2,    0.097,2,   2112.6,2,   2254.9,2,   7.7390,2, -999.000,9, -999.000,   -999.0,9,   -999.0,  10.2028,  26.1304
    49MR0505_1,   P03,    69,  1,     29, X12041,2,20051109,1756, 24.2490,-138.8032, 5180,    400.4,2,   8.3145,2,   8.31597,2,  34.1123,2,  34.1106,2,   108.77,1,   114.78,2,    399.9,2,   120.25,2,   114.46,2,    37.61,2,     0.20,    27.25,2,     0.11,     0.00,2,     0.01,    2.074,2,    0.015,    2.042,3,    0.988,3,    0.065,2,   2199.5,2,   2278.6,2,   7.5603,2, -999.000,9, -999.000,   -999.0,9,   -999.0,   8.2730,  26.5358
    49MR0505_1,   P03,    69,  1,     28, X12016,2,20051109,1756, 24.2490,-138.8032, 5180,    501.3,2,   6.2645,2,   6.26464,2,  34.0903,2,  34.0882,6,    64.26,1,    68.09,2,    504.9,2,    73.26,2,    68.13,2,    61.72,2,     0.25,    35.54,2,     0.13,     0.01,2,     0.01,    2.635,2,    0.017,    0.938,2,    0.449,2,    0.025,2,   2265.1,2,   2298.9,2,   7.4357,2, -999.000,9, -999.000,   -999.0,9,   -999.0,   6.2200,  26.8058
    49MR0505_1,   P03,    69,  1,     27, X12039,2,20051109,1756, 24.2490,-138.8032, 5180,    601.1,2,   5.3532,2,   5.35250,2,  34.2207,2,  34.2166,2,    26.00,1,    27.53,2,    605.7,2,    29.73,2,    27.69,2,    82.36,2,     0.30,    40.52,2,     0.15,     0.00,2,     0.01,    3.026,2,    0.018,    0.146,2,    0.155,2,    0.000,2,   2312.0,2,   2323.4,2,   7.3681,2, -999.000,9, -999.000,   -999.0,9,   -999.0,   5.3035,  27.0220
    49MR0505_1,   P03,    69,  1,     26, X12038,2,20051109,1756, 24.2490,-138.8032, 5180,    699.9,2,   5.0135,2,   5.01363,2,  34.3439,2,  34.3419,2,    20.74,1,    22.03,2,    703.8,2,    22.33,2,    21.72,2,    91.32,2,     0.32,    41.94,2,     0.15,     0.00,2,     0.01,    3.125,2,    0.018,    0.037,2,    0.019,2,    0.000,2,   2329.0,6,   2340.3,2,   7.3696,2, -999.000,9, -999.000,   -999.0,9,   -999.0,   4.9568,  27.1600
    49MR0505_1,   P03,    69,  1,     25, X12037,2,20051109,1756, 24.2490,-138.8032, 5180,    797.9,2,   4.7415,2,   4.74041,2,  34.4201,2,  34.4196,2,    24.88,1,    26.26,2,    802.4,2,    25.62,2,    26.04,2,    96.88,2,     0.33,    42.53,2,     0.15,     0.00,2,     0.01,    3.140,2,    0.018,    0.018,6,    0.010,6,    0.000,6,   2333.1,2,   2356.2,6,   7.3857,2, -999.000,9, -999.000,   -999.0,9,   -999.0,   4.6779,  27.2520
    49MR0505_1,   P03,    69,  1,     24, X12008,2,20051109,1756, 24.2490,-138.8032, 5180,    899.8,2,   4.4517,2,   4.45171,2,  34.4640,2,  34.4632,2,    29.49,1,    30.94,2,    901.8,2,    30.99,2,    31.06,2,   102.20,2,     0.34,    42.69,2,     0.15,     0.00,2,     0.01,    3.140,2,    0.018,    0.001,2,    0.003,2,    0.000,2,   2337.4,2,   2362.2,2,   7.3960,6, -999.000,9, -999.000,   -999.0,9,   -999.0,   4.3812,  27.3195
    49MR0505_1,   P03,    69,  1,     23, X12035,2,20051109,1756, 24.2490,-138.8032, 5180,   1000.4,2,   4.1501,2,   4.14986,2,  34.4948,2,  34.4945,6,    32.68,1,    34.27,2,   1000.9,2,    34.79,2,    34.40,2,   108.68,2,     0.36,    42.99,2,     0.15,     0.00,2,     0.01,    3.150,2,    0.018,    0.004,2,    0.005,2,    0.000,2,   2345.1,2,   2370.8,2,   7.4006,2, -999.000,9, -999.000,   -999.0,9,   -999.0,   4.0733,  27.3767
    49MR0505_1,   P03,    69,  1,     22, X12034,2,20051109,1756, 24.2490,-138.8032, 5180,   1202.1,2,   3.6106,2,   3.61049,2,  34.5299,2,  34.5293,2,    41.31,1,    43.32,2,   1204.6,2,    43.07,2,    43.59,2,   120.69,2,     0.38,    42.69,2,     0.15,     0.00,2,     0.01,    3.125,2,    0.018,    0.000,2,    0.000,2,    0.000,2,   2351.2,2,   2388.8,2,   7.4189,2, -999.000,9, -999.000,   -999.0,9,   -999.0,   3.5214,  27.4605
    49MR0505_1,   P03,    69,  1,     21, X12033,2,20051109,1756, 24.2490,-138.8032, 5180,   1402.2,2,   3.1379,2,   3.13784,2,  34.5564,2,  34.5560,2,    49.79,1,    52.33,2,   1403.2,2,    53.00,2,    52.52,2,   131.78,2,     0.41,    42.33,2,     0.15,     0.00,2,     0.01,    3.078,2,    0.018,    0.001,2,    0.001,2,    0.000,2,   2358.9,2,   2396.8,2,   7.4303,2, -999.000,9, -999.000,   -999.0,9,   -999.0,   3.0367,  27.5276
    49MR0505_1,   P03,    69,  1,     20, X12032,2,20051109,1756, 24.2490,-138.8032, 5180,   1600.5,2,   2.7661,2,   2.76684,2,  34.5807,2,  34.5800,2,    56.98,1,    60.10,2,   1601.6,2,    60.19,2,    60.32,2,   141.43,2,     0.43,    41.92,2,     0.15,     0.00,2,     0.01,    3.039,2,    0.018,    0.002,2,    0.000,2,    0.000,2,   2365.5,2,   2408.5,2,   7.4432,6, -999.000,9, -999.000,   -999.0,9,   -999.0,   2.6527,  27.5814
    49MR0505_1,   P03,    69,  1,     19, X12001,2,20051109,1756, 24.2490,-138.8032, 5180,   1800.5,2,   2.4084,2,   2.40847,2,  34.6034,2,  34.6034,2,    67.76,1,    71.83,2,   1802.0,2,    70.85,2,    71.81,2,   150.04,2,     0.45,    41.37,2,     0.15,     0.00,2,     0.01,    2.968,2,    0.017,    0.000,2,    0.000,2,    0.000,2,   2367.0,2,   2420.1,2,   7.4626,2, -999.000,9, -999.000,   -999.0,9,   -999.0,   2.2829,  27.6310
    49MR0505_1,   P03,    69,  1,     18, X12030,2,20051109,1756, 24.2490,-138.8032, 5180,   2000.1,2,   2.1648,2,   2.16462,2,  34.6202,2,  34.6200,6,    77.09,1,    81.89,2,   2001.7,2,    80.70,2,    81.81,2,   155.49,2,     0.46,    40.70,2,     0.15,     0.00,2,     0.01,    2.909,2,    0.017,    0.018,2,    0.000,2,    0.000,2,   2364.0,2,   2418.4,2,   7.4819,2, -999.000,9, -999.000,   -999.0,9,   -999.0,   2.0259,  27.6653
    49MR0505_1,   P03,    69,  1,     17, X12049,2,20051109,1756, 24.2490,-138.8032, 5180,   2198.2,2,   1.9696,2,   1.96946,2,  34.6329,2,  34.6329,2,    85.47,1,    91.19,2,   2198.4,2,    91.04,2,    91.28,2,   159.81,2,     0.47,    40.12,2,     0.15,     0.00,2,     0.01,    2.853,2,    0.017, -999.000,9, -999.000,9, -999.000,9,   2364.0,2,   2422.8,2,   7.4977,2, -999.000,9, -999.000,   -999.0,9,   -999.0,   1.8168,  27.6919
    49MR0505_1,   P03,    69,  1,     16, X12028,2,20051109,1756, 24.2490,-138.8032, 5180,   5256.4,2,   1.4940,2,   1.49391,2,  34.6955,2,  34.6955,2,   160.95,1,   167.46,2,   5256.4,2,   166.89,2,   167.01,2,   141.31,2,     0.43,    35.10,2,     0.13,     0.00,2,     0.01,    2.445,2,    0.016, -999.000,9, -999.000,9, -999.000,9,   2310.3,2,   2415.7,2,   7.6106,2, -999.000,9, -999.000,   -999.0,9,   -999.0,   1.0283,  27.7988
    49MR0505_1,   P03,    69,  1,     15, X12009,2,20051109,1756, 24.2490,-138.8032, 5180,   2599.3,2,   1.7212,2,   1.72134,2,  34.6540,2,  34.6539,2,   100.02,1,   106.82,2,   2599.4,2,   106.66,2,   107.01,2,   164.78,2,     0.48,    39.07,2,     0.14,     0.00,2,     0.01,    2.767,2,    0.017, -999.000,9, -999.000,9, -999.000,9,   2357.4,2,   2431.1,6,   7.5251,2, -999.000,9, -999.000,   -999.0,9,   -999.0,   1.5372,  27.7298
    49MR0505_1,   P03,    69,  1,     14, X12026,2,20051109,1756, 24.2490,-138.8032, 5180,   2798.9,2,   1.6384,2,   1.63845,2,  34.6615,2,  34.6612,2,   106.49,1,   113.80,2,   2799.0,2,   113.70,2,   113.72,2,   166.42,2,     0.49,    38.67,2,     0.14,     0.00,2,     0.01,    2.733,2,    0.017, -999.000,9, -999.000,9, -999.000,9,   2353.6,2,   2432.0,2,   7.5364,6, -999.000,9, -999.000,   -999.0,9,   -999.0,   1.4376,  27.7431
    49MR0505_1,   P03,    69,  1,     13, X12025,2,20051109,1756, 24.2490,-138.8032, 5180,   2999.3,2,   1.5765,2,   1.57667,2,  34.6682,2,  34.6677,6,   113.03,1,   120.89,2,   2999.0,2,   121.44,2,   120.76,2,   165.67,2,     0.48,    38.31,2,     0.14,     0.00,2,     0.01,    2.695,2,    0.017, -999.000,9, -999.000,9, -999.000,9,   2349.1,2,   2431.1,2,   7.5493,2, -999.000,9, -999.000,   -999.0,9,   -999.0,   1.3581,  27.7541
    49MR0505_1,   P03,    69,  1,     12, X12024,2,20051109,1756, 24.2490,-138.8032, 5180,   3249.6,2,   1.5240,2,   1.52404,2,  34.6748,2,  34.6743,2,   120.54,1,   128.85,2,   3249.3,2,   129.36,2,   128.87,2,   164.82,2,     0.48,    37.67,2,     0.14,     0.00,2,     0.01,    2.649,2,    0.017, -999.000,9, -999.000,9, -999.000,9,   2345.6,2,   2430.6,2,   7.5640,2, -999.000,9, -999.000,   -999.0,9,   -999.0,   1.2825,  27.7647
    49MR0505_1,   P03,    69,  1,     11, X12023,2,20051109,1756, 24.2490,-138.8032, 5180,   3501.9,2,   1.5004,2,   1.50032,2,  34.6790,2,  34.6787,2,   126.16,1,   134.66,2,   3501.5,2,   135.53,2,   134.65,2,   162.93,2,     0.48,    37.33,2,     0.14,     0.00,2,     0.01,    2.616,2,    0.017, -999.000,9, -999.000,9, -999.000,9,   2342.5,2,   2430.5,2,   7.5718,2, -999.000,9, -999.000,   -999.0,9,   -999.0,   1.2341,  27.7715
    49MR0505_1,   P03,    69,  1,     10, X12022,2,20051109,1756, 24.2490,-138.8032, 5180,   3750.2,2,   1.4841,2,   1.48407,2,  34.6828,2,  34.6826,2,   131.90,1,   140.30,2,   3750.0,2,   141.09,2,   140.29,2,   160.59,2,     0.47,    36.87,2,     0.14,     0.00,2,     0.01,    2.586,2,    0.016, -999.000,9, -999.000,9, -999.000,9,   2337.7,2,   2419.4,4,   7.5815,2, -999.000,9, -999.000,   -999.0,9,   -999.0,   1.1924,  27.7775
    49MR0505_1,   P03,    69,  1,      9, X12021,2,20051109,1756, 24.2490,-138.8032, 5180,   3998.6,2,   1.4808,2,   1.48087,2,  34.6857,2,  34.6852,6,   136.54,1,   144.87,2,   3998.6,2,   145.11,2,   145.09,2,   158.17,2,     0.47,    36.63,2,     0.14,     0.00,2,     0.01,    2.562,2,    0.016, -999.000,9, -999.000,9, -999.000,9,   2331.4,2,   2428.9,2,   7.5883,2, -999.000,9, -999.000,   -999.0,9,   -999.0,   1.1626,  27.7818
    49MR0505_1,   P03,    69,  1,      8, X12020,2,20051109,1756, 24.2490,-138.8032, 5180,   4249.0,2,   1.4886,2,   1.48856,2,  34.6876,2,  34.6874,2,   140.05,1,   148.29,2,   4249.0,2,   148.37,2,   148.46,2,   155.79,2,     0.46,    36.35,2,     0.13,     0.00,2,     0.01,    2.545,2,    0.016, -999.000,9, -999.000,9, -999.000,9,   2327.4,6,   2429.3,2,   7.5933,2, -999.000,9, -999.000,   -999.0,9,   -999.0,   1.1425,  27.7847
    49MR0505_1,   P03,    69,  1,      7, X12019,2,20051109,1756, 24.2490,-138.8032, 5180,   4500.1,2,   1.5025,2,   1.50255,2,  34.6889,2,  34.6886,2,   143.16,1,   151.02,2,   4500.2,2,   151.24,2,   151.18,2,   153.48,2,     0.46,    36.13,2,     0.13,     0.01,2,     0.01,    2.522,2,    0.016, -999.000,9, -999.000,9, -999.000,9,   2328.3,3,   2428.6,2,   7.5967,2, -999.000,9, -999.000,   -999.0,9,   -999.0,   1.1274,  27.7868
    49MR0505_1,   P03,    69,  1,      6, X12018,2,20051109,1756, 24.2490,-138.8032, 5180,   4748.5,2,   1.4864,2,   1.48634,2,  34.6921,2,  34.6917,2,   150.68,1,   158.36,2,   4748.6,2,   158.03,2,   158.37,2,   148.08,2,     0.44,    35.69,2,     0.13,     0.00,2,     0.01,    2.488,2,    0.016, -999.000,9, -999.000,9, -999.000,9,   2317.9,2,   -999.0,5,   7.6050,6, -999.000,9, -999.000,   -999.0,9,   -999.0,   1.0828,  27.7924
    49MR0505_1,   P03,    69,  1,      5, X12043,2,20051109,1756, 24.2490,-138.8032, 5180,   4999.6,2,   1.4719,2,   1.47193,2,  34.6950,2,  34.6946,2,   158.01,1,   165.37,2,   4999.6,2,   165.35,2,   165.31,2,   142.73,2,     0.43,    35.10,2,     0.13,     0.00,2,     0.01,    2.449,2,    0.016, -999.000,9, -999.000,9, -999.000,9,   2312.7,2,   2418.1,2,   7.6112,2, -999.000,9, -999.000,   -999.0,9,   -999.0,   1.0386,  27.7977
    49MR0505_1,   P03,    69,  1,      4, X12010,9,20051109,1756, 24.2490,-138.8032, 5180,     50.6,2,  22.8392,2,  22.84021,2,  35.0867,2,-999.0000,9,   205.84,1,   217.40,2,     49.6,2,   217.30,2,  -999.00,9,  -999.00,9,  -999.00,  -999.00,9,  -999.00,  -999.00,9,  -999.00, -999.000,9, -999.000, -999.000,9, -999.000,9, -999.000,9,   -999.0,9,   -999.0,9,-999.0000,9, -999.000,9, -999.000,   -999.0,9,   -999.0,  22.8289,  24.0486
    49MR0505_1,   P03,    69,  1,      3, X12015,9,20051109,1756, 24.2490,-138.8032, 5180,     10.2,2,  22.8303,2,  22.83119,2,  35.0872,2,-999.0000,9,   205.61,1,   217.42,2,      8.5,2,   218.13,2,  -999.00,9,  -999.00,9,  -999.00,  -999.00,9,  -999.00,  -999.00,9,  -999.00, -999.000,9, -999.000, -999.000,9, -999.000,9, -999.000,9,   -999.0,9,   -999.0,9,-999.0000,9, -999.000,9, -999.000,   -999.0,9,   -999.0,  22.8282,  24.0492
    49MR0505_1,   P03,    69,  1,      2, X12014,2,20051109,1756, 24.2490,-138.8032, 5180,   2396.5,2,   1.8354,2,   1.83532,2,  34.6438,2,  34.6434,2,    92.65,1,    99.02,2,   2396.7,2,    98.83,2,    99.00,2,   162.69,2,     0.48,    39.53,2,     0.14,     0.00,2,     0.01,    2.812,2,    0.017, -999.000,9, -999.000,9, -999.000,9,   2363.3,2,   2426.8,2,   7.5137,2, -999.000,9, -999.000,   -999.0,9,   -999.0,   1.6675,  27.7119
    49MR0505_1,   P03,    69,  1,      1, X12013,2,20051109,1756, 24.2490,-138.8032, 5180,   5255.7,2,   1.4940,2,   1.49388,2,  34.6954,2,  34.6952,6,   160.96,1,   167.46,2,   5255.7,2,   166.90,2,   167.12,2,   141.82,2,     0.43,    34.99,2,     0.13,     0.01,2,     0.01,    2.445,2,    0.016, -999.000,9, -999.000,9, -999.000,9,   2314.0,2,   2419.5,2,   7.6123,2, -999.000,9, -999.000,   -999.0,9,   -999.0,   1.0284,  27.7987