BOTTLE,20100316JAMSTECRIGC
EXPOCODE,SECT,STNNBR,CASTNO,SAMPNO,BTLNBR,BTLNBR_FLAG_W,DATE,TIME,LATITUDE,LONGITUDE,DEPTH,CTDPRS,CTDPRS_FLAG_W,CTDTMP,CTDTMP_FLAG_W,SBE35,SBE35_FLAG_W,CTDSAL,CTDSAL_FLAG_W,SALNTY,SALNTY_FLAG_W,CTDOXY,CTDOXY_FLAG_W,OPTOXY,OPTOXY_FLAG_W,DWNPRS,DWNPRS_FLAG_W,DWNOXY,DWNOXY_FLAG_W,OXYGEN,OXYGEN_FLAG_W,SILCAT,SILCAT_FLAG_W,SILUNC,NITRAT,NITRAT_FLAG_W,NRAUNC,NITRIT,NITRIT_FLAG_W,NRIUNC,PHSPHT,PHSPHT_FLAG_W,PHPUNC,CFC-11,CFC-11_FLAG_W,CFC-12,CFC-12_FLAG_W,CFC113,CFC113_FLAG_W,TCARBN,TCARBN_FLAG_W,ALKALI,ALKALI_FLAG_W,PH,PH_FLAG_W,DELC13,DELC13_FLAG_W,C13ERR,DELC14,DELC14_FLAG_W,C14ERR,THETA,SIG0
,,,,,,,,UTC,DEG,DEG,M,DBAR,,ITS-90,,ITS-90,,PSS-78,,PSS-78,,UMOL/KG,,UMOL/KG,,DBAR,,UMOL/KG,,UMOL/KG,,UMOL/KG,,UMOL/KG,UMOL/KG,,UMOL/KG,UMOL/KG,,UMOL/KG,UMOL/KG,,UMOL/KG,PMOL/KG,,PMOL/KG,,PMOL/KG,,UMOL/KG,,UMOL/KG,,,,/MILLE,,/MILLE,/MILLE,,/MILLE,DEG C,KG/CUM
    49MR0505_1,   P03,    44,  1,      0,   -999,9,20051105,2106, 25.6872,-128.2080, 4206,   -999.0,9,-999.0000,9,-999.00000,9,-999.0000,9,  34.5614,2,  -999.00,9,  -999.00,9,   -999.0,9,  -999.00,9,  -999.00,9,  -999.00,9,  -999.00,  -999.00,9,  -999.00,  -999.00,9,  -999.00, -999.000,9, -999.000, -999.000,9, -999.000,9, -999.000,9,   -999.0,9,   -999.0,9,-999.0000,9, -999.000,9, -999.000,   -999.0,9,   -999.0,-999.0000,-999.0000
    49MR0505_1,   P03,    44,  1,     36, X12048,2,20051105,2106, 25.6872,-128.2080, 4206,     10.3,2,  21.2488,2,  21.24858,2,  34.5568,2,  34.5567,2,   214.89,1,   225.04,2,     11.9,2,   225.54,2,   225.12,2,     1.45,2,     0.12,     0.06,2,     0.03,     0.00,2,     0.01,    0.194,2,    0.016,    1.972,2,    1.234,2, -999.000,5,   -999.0,9,   -999.0,9,-999.0000,9, -999.000,9, -999.000,   -999.0,9,   -999.0,  21.2468,  24.0894
    49MR0505_1,   P03,    44,  1,     35, X12047,2,20051105,2106, 25.6872,-128.2080, 4206,     50.2,2,  21.2407,2,  21.24084,2,  34.5541,2,  34.5540,2,   215.17,1,   225.23,2,     51.2,2,   225.14,2,   225.13,2,     1.44,2,     0.12,     0.05,2,     0.03,     0.00,2,     0.01,    0.202,2,    0.016,    1.981,2,    1.242,2, -999.000,5,   -999.0,9,   -999.0,9,-999.0000,9, -999.000,9, -999.000,   -999.0,9,   -999.0,  21.2311,  24.0916
    49MR0505_1,   P03,    44,  1,     34, X12046,2,20051105,2106, 25.6872,-128.2080, 4206,     99.1,2,  19.1126,2,  19.11081,2,  34.4176,2,  34.4183,2,   226.42,1,   237.48,2,     96.7,2,   235.93,2,   236.58,2,     1.75,2,     0.12,     0.05,2,     0.03,     0.00,2,     0.01,    0.170,2,    0.017,    2.274,2,    1.380,2, -999.000,5,   -999.0,9,   -999.0,9,-999.0000,9, -999.000,9, -999.000,   -999.0,9,   -999.0,  19.0949,  24.5519
    49MR0505_1,   P03,    44,  1,     33, X12003,2,20051105,2106, 25.6872,-128.2080, 4206,    150.0,2,  15.2657,2,  15.24966,2,  34.0385,2,  34.0469,2,   209.79,1,   218.82,2,    151.5,2,   216.68,2,   218.54,2,     3.63,2,     0.13,     2.88,2,     0.04,     0.03,2,     0.01,    0.416,2,    0.013,    2.689,2,    1.569,2,    0.265,4,   -999.0,9,   -999.0,9,-999.0000,9, -999.000,9, -999.000,   -999.0,9,   -999.0,  15.2429,  25.1774
    49MR0505_1,   P03,    44,  1,     32, X12044,2,20051105,2106, 25.6872,-128.2080, 4206,    199.3,2,  11.6404,2,  11.63934,2,  33.6796,2,  33.6805,2,   196.22,1,   204.00,2,    196.0,2,   203.43,2,   203.95,2,     9.55,2,     0.14,    10.43,2,     0.06,     0.01,2,     0.01,    0.927,2,    0.013,    3.130,2,    1.730,2,    0.130,2,   -999.0,9,   -999.0,9,-999.0000,9, -999.000,9, -999.000,   -999.0,9,   -999.0,  11.6153,  25.6355
    49MR0505_1,   P03,    44,  1,     31, X12051,2,20051105,2106, 25.6872,-128.2080, 4206,    250.1,2,   9.5975,2,   9.59779,2,  33.9173,2,  33.9240,2,   173.16,1,   179.08,2,    252.8,2,   187.63,2,   179.70,2,    20.28,2,     0.16,    18.47,2,     0.08,     0.00,2,     0.01,    1.414,2,    0.014,    3.156,6,    1.652,6,    0.118,6,   -999.0,9,   -999.0,9,-999.0000,9, -999.000,9, -999.000,   -999.0,9,   -999.0,   9.5695,  26.1783
    49MR0505_1,   P03,    44,  1,     30, X12042,2,20051105,2106, 25.6872,-128.2080, 4206,    300.5,2,   8.7323,2,   8.73261,2,  34.0439,2,  34.0438,2,   147.38,1,   153.05,2,    300.7,2,   153.47,2,   153.59,2,    29.30,2,     0.18,    23.24,2,     0.10,     0.00,2,     0.01,    1.719,2,    0.014,    2.828,2,    1.436,2,    0.123,2,   -999.0,9,   -999.0,9,-999.0000,9, -999.000,9, -999.000,   -999.0,9,   -999.0,   8.7005,  26.4165
    49MR0505_1,   P03,    44,  1,     29, X12041,2,20051105,2106, 25.6872,-128.2080, 4206,    402.0,2,   7.1860,2,   7.18549,2,  34.1480,2,  34.1454,2,    64.31,1,    67.12,2,    403.3,2,    67.72,2,    66.99,2,    52.38,2,     0.23,    33.13,2,     0.13,     0.00,2,     0.01,    2.564,2,    0.016,    1.178,2,    0.539,2,    0.041,2,   -999.0,9,   -999.0,9,-999.0000,9, -999.000,9, -999.000,   -999.0,9,   -999.0,   7.1478,  26.7272
    49MR0505_1,   P03,    44,  1,     28, X12016,2,20051105,2106, 25.6872,-128.2080, 4206,    501.1,2,   6.3576,2,   6.35809,2,  34.2096,2,  34.2094,6,    32.60,1,    33.95,2,    497.8,2,    28.54,2,    33.78,2,    67.13,2,     0.27,    37.28,2,     0.14,     0.00,2,     0.01,    2.901,2,    0.017,    0.421,2,    0.199,2,    0.014,2,   -999.0,9,   -999.0,9,-999.0000,9, -999.000,9, -999.000,   -999.0,9,   -999.0,   6.3127,  26.8880
    49MR0505_1,   P03,    44,  1,     27, X12039,2,20051105,2106, 25.6872,-128.2080, 4206,    600.4,2,   5.7908,2,   5.79228,2,  34.3056,2,  34.3053,2,    15.17,1,    15.80,2,    596.0,2,    13.92,2,    15.77,2,    79.28,2,     0.29,    40.12,2,     0.15,     0.00,2,     0.01,    3.116,2,    0.018, -999.000,5, -999.000,5, -999.000,5,   -999.0,9,   -999.0,9,-999.0000,9, -999.000,9, -999.000,   -999.0,9,   -999.0,   5.7391,  27.0365
    49MR0505_1,   P03,    44,  1,     26, X12038,2,20051105,2106, 25.6872,-128.2080, 4206,    701.8,2,   5.3003,2,   5.30060,2,  34.3870,2,  34.3864,2,    11.76,1,    12.13,2,    699.7,2,    10.91,2,    11.99,2,    89.01,2,     0.31,    41.79,2,     0.15,     0.00,2,     0.01,    3.211,2,    0.018,    0.014,2,    0.012,2,    0.000,2,   -999.0,9,   -999.0,9,-999.0000,9, -999.000,9, -999.000,   -999.0,9,   -999.0,   5.2419,  27.1610
    49MR0505_1,   P03,    44,  1,     25, X12037,2,20051105,2106, 25.6872,-128.2080, 4206,    799.7,2,   4.8691,2,   4.86901,2,  34.4333,2,  34.4331,2,    14.49,1,    14.82,2,    798.4,2,    14.01,2,    14.88,2,    97.01,2,     0.33,    42.77,2,     0.15,     0.00,2,     0.01,    3.233,2,    0.018,    0.010,6,    0.009,6,    0.000,6,   -999.0,9,   -999.0,9,-999.0000,9, -999.000,9, -999.000,   -999.0,9,   -999.0,   4.8045,  27.2483
    49MR0505_1,   P03,    44,  1,     24, X12008,2,20051105,2106, 25.6872,-128.2080, 4206,    901.2,2,   4.5108,2,   4.51167,2,  34.4621,2,  34.4615,2,    18.92,1,    19.28,2,    897.7,2,    20.67,2,    19.56,2,   103.62,2,     0.35,    43.27,2,     0.15,     0.00,2,     0.01,    3.231,2,    0.018,    0.006,2,    0.009,2,    0.000,2,   -999.0,9,   -999.0,9,-999.0000,9, -999.000,9, -999.000,   -999.0,9,   -999.0,   4.4398,  27.3116
    49MR0505_1,   P03,    44,  1,     23, X12035,2,20051105,2106, 25.6872,-128.2080, 4206,    998.5,2,   4.1396,2,   4.13917,2,  34.4917,2,  34.4917,6,    25.30,1,    25.77,2,    997.2,2,    26.67,2,    26.21,2,   111.11,2,     0.36,    43.37,2,     0.15,     0.00,2,     0.01,    3.220,2,    0.018,    0.007,2,    0.007,2,    0.000,2,   -999.0,9,   -999.0,9,-999.0000,9, -999.000,9, -999.000,   -999.0,9,   -999.0,   4.0630,  27.3752
    49MR0505_1,   P03,    44,  1,     22, X12034,2,20051105,2106, 25.6872,-128.2080, 4206,   1201.4,2,   3.6003,2,   3.60050,2,  34.5246,2,  34.5247,2,    33.77,1,    34.32,2,   1200.9,2,    34.16,2,    34.89,2,   123.41,2,     0.39,    43.30,2,     0.15,     0.00,2,     0.01,    3.187,2,    0.018,    0.009,2,    0.005,2,    0.000,2,   -999.0,9,   -999.0,9,-999.0000,9, -999.000,9, -999.000,   -999.0,9,   -999.0,   3.5112,  27.4572
    49MR0505_1,   P03,    44,  1,     21, X12033,2,20051105,2106, 25.6872,-128.2080, 4206,   1402.3,2,   3.1565,2,   3.15673,2,  34.5543,2,  34.5539,2,    41.62,1,    42.58,2,   1399.9,2,    44.01,2,    42.96,2,   134.50,2,     0.41,    42.99,2,     0.15,     0.00,2,     0.01,    3.159,2,    0.018,    0.005,2,    0.003,2,    0.000,2,   -999.0,9,   -999.0,9,-999.0000,9, -999.000,9, -999.000,   -999.0,9,   -999.0,   3.0551,  27.5242
    49MR0505_1,   P03,    44,  1,     20, X12032,2,20051105,2106, 25.6872,-128.2080, 4206,   1600.8,2,   2.7287,2,   2.72841,2,  34.5846,2,  34.5847,2,    53.02,1,    54.65,2,   1600.4,2,    54.70,2,    54.84,2,   145.08,2,     0.44,    42.43,2,     0.15,     0.00,2,     0.01,    3.092,2,    0.018,    0.002,2,    0.000,2,    0.000,2,   -999.0,9,   -999.0,9,-999.0000,9, -999.000,9, -999.000,   -999.0,9,   -999.0,   2.6157,  27.5878
    49MR0505_1,   P03,    44,  1,     19, X12001,2,20051105,2106, 25.6872,-128.2080, 4206,   1799.7,2,   2.4306,2,   2.43042,2,  34.6066,2,  34.6067,2,    64.71,1,    67.04,2,   1799.1,2,    67.23,2,    67.22,2,   151.42,2,     0.45,    41.66,2,     0.15,     0.00,2,     0.01,    3.017,2,    0.017,    0.000,2,    0.001,2,    0.000,2,   -999.0,9,   -999.0,9,-999.0000,9, -999.000,9, -999.000,   -999.0,9,   -999.0,   2.3048,  27.6318
    49MR0505_1,   P03,    44,  1,     18, X12030,2,20051105,2106, 25.6872,-128.2080, 4206,   1999.9,2,   2.1744,2,   2.17442,2,  34.6260,2,  34.6264,6,    77.16,1,    80.21,2,   1999.7,2,    80.19,2,    80.43,2,   155.84,2,     0.46,    40.90,2,     0.15,     0.00,2,     0.01,    2.937,2,    0.017,    0.000,2,    0.001,2,    0.000,2,   -999.0,9,   -999.0,9,-999.0000,9, -999.000,9, -999.000,   -999.0,9,   -999.0,   2.0353,  27.6692
    49MR0505_1,   P03,    44,  1,     17, X12049,2,20051105,2106, 25.6872,-128.2080, 4206,   2199.9,2,   1.9929,2,   1.99265,2,  34.6400,2,  34.6405,2,    87.44,1,    91.21,2,   2199.3,2,    91.68,2,    91.33,2,   158.91,2,     0.47,    40.10,2,     0.15,     0.00,2,     0.01,    2.878,2,    0.017,    0.000,2,    0.000,2,    0.000,2,   -999.0,9,   -999.0,9,-999.0000,9, -999.000,9, -999.000,   -999.0,9,   -999.0,   1.8395,  27.6958
    49MR0505_1,   P03,    44,  1,     16, X12028,2,20051105,2106, 25.6872,-128.2080, 4206,   2400.6,2,   1.8566,2,   1.85671,2,  34.6494,2,  34.6491,2,    95.22,1,    99.29,2,   2400.4,2,    99.55,2,    99.25,2,   161.85,2,     0.48,    39.64,2,     0.14,     0.00,2,     0.01,    2.821,2,    0.017, -999.000,9, -999.000,9, -999.000,9,   -999.0,9,   -999.0,9,-999.0000,9, -999.000,9, -999.000,   -999.0,9,   -999.0,   1.6879,  27.7149
    49MR0505_1,   P03,    44,  1,     15, X12006,2,20051105,2106, 25.6872,-128.2080, 4206,   2601.7,2,   1.7279,2,   1.72799,2,  34.6570,2,  34.6568,2,   102.21,1,   106.71,2,   2601.8,2,   106.60,2,   106.95,2,   164.90,2,     0.48,    39.10,2,     0.14,     0.00,2,     0.01,    2.786,2,    0.017, -999.000,9, -999.000,9, -999.000,9,   -999.0,9,   -999.0,9,-999.0000,9, -999.000,9, -999.000,   -999.0,9,   -999.0,   1.5435,  27.7317
    49MR0505_1,   P03,    44,  1,     14, X12026,2,20051105,2106, 25.6872,-128.2080, 4206,   2800.8,2,   1.6277,2,   1.62774,2,  34.6639,2,  34.6637,6,   109.39,1,   114.26,2,   2800.8,2,   114.01,2,   114.24,2,   167.05,2,     0.49,    38.75,2,     0.14,     0.00,2,     0.01,    2.738,2,    0.017, -999.000,5, -999.000,5, -999.000,5,   -999.0,9,   -999.0,9,-999.0000,9, -999.000,9, -999.000,   -999.0,9,   -999.0,   1.4270,  27.7457
    49MR0505_1,   P03,    44,  1,     13, X12025,2,20051105,2106, 25.6872,-128.2080, 4206,   3000.9,2,   1.5619,2,   1.56179,2,  34.6689,2,  34.6687,2,   115.11,1,   120.33,2,   3000.5,2,   120.83,2,   120.14,2,   167.91,2,     0.49,    38.29,2,     0.14,     0.00,2,     0.01,    2.711,2,    0.017, -999.000,9, -999.000,9, -999.000,9,   -999.0,9,   -999.0,9,-999.0000,9, -999.000,9, -999.000,   -999.0,9,   -999.0,   1.3437,  27.7557
    49MR0505_1,   P03,    44,  1,     12, X12024,2,20051105,2106, 25.6872,-128.2080, 4206,   3250.3,2,   1.5037,2,   1.50367,2,  34.6759,2,  34.6758,2,   123.66,1,   129.12,2,   3250.2,2,   129.25,2,   129.06,2,   166.11,2,     0.48,    37.73,2,     0.14,     0.00,2,     0.01,    2.655,2,    0.017, -999.000,9, -999.000,9, -999.000,9,   -999.0,9,   -999.0,9,-999.0000,9, -999.000,9, -999.000,   -999.0,9,   -999.0,   1.2626,  27.7671
    49MR0505_1,   P03,    44,  1,     11, X12023,2,20051105,2106, 25.6872,-128.2080, 4206,   3502.0,2,   1.4849,2,   1.48484,2,  34.6804,2,  34.6800,2,   129.87,1,   135.38,2,   3502.0,2,   135.17,2,   135.18,2,   164.46,2,     0.48,    37.34,2,     0.14,     0.00,2,     0.01,    2.616,2,    0.017,    0.000,2,    0.009,2,    0.000,2,   -999.0,9,   -999.0,9,-999.0000,9, -999.000,9, -999.000,   -999.0,9,   -999.0,   1.2189,  27.7737
    49MR0505_1,   P03,    44,  1,     10, X12022,2,20051105,2106, 25.6872,-128.2080, 4206,   3750.0,2,   1.4879,2,   1.48778,2,  34.6829,2,  34.6829,6,   133.76,1,   139.07,2,   3750.1,2,   138.94,2,   138.82,2,   162.84,2,     0.48,    37.11,2,     0.14,     0.00,2,     0.01,    2.606,2,    0.016, -999.000,9, -999.000,9, -999.000,9,   -999.0,9,   -999.0,9,-999.0000,9, -999.000,9, -999.000,   -999.0,9,   -999.0,   1.1961,  27.7773
    49MR0505_1,   P03,    44,  1,      9, X12021,2,20051105,2106, 25.6872,-128.2080, 4206,   4000.7,2,   1.5055,2,   1.50544,2,  34.6841,2,  34.6843,2,   136.14,1,   140.87,2,   4000.6,2,   141.41,2,   140.79,2,   161.96,2,     0.48,    37.03,2,     0.14,     0.00,2,     0.01,    2.597,2,    0.016, -999.000,9, -999.000,9, -999.000,9,   -999.0,9,   -999.0,9,-999.0000,9, -999.000,9, -999.000,   -999.0,9,   -999.0,   1.1864,  27.7789
    49MR0505_1,   P03,    44,  1,      8, X12020,9,20051105,2106, 25.6872,-128.2080, 4206,   4277.4,2,   1.5316,2,   1.53141,2,  34.6847,2,-999.0000,9,   138.30,1,   142.27,2,   4277.4,2,   142.16,2,  -999.00,9,  -999.00,9,  -999.00,  -999.00,9,  -999.00,  -999.00,9,  -999.00, -999.000,9, -999.000, -999.000,9, -999.000,9, -999.000,9,   -999.0,9,   -999.0,9,-999.0000,9, -999.000,9, -999.000,   -999.0,9,   -999.0,   1.1811,  27.7797
    49MR0505_1,   P03,    44,  1,      7, X12019,9,20051105,2106, 25.6872,-128.2080, 4206,    200.7,2,  11.6115,2,  11.61589,2,  33.6779,2,-999.0000,9,   196.37,1,   203.90,2,    196.4,2,   203.59,2,  -999.00,9,  -999.00,9,  -999.00,  -999.00,9,  -999.00,  -999.00,9,  -999.00, -999.000,9, -999.000, -999.000,9, -999.000,9, -999.000,9,   -999.0,9,   -999.0,9,-999.0000,9, -999.000,9, -999.000,   -999.0,9,   -999.0,  11.5862,  25.6395
    49MR0505_1,   P03,    44,  1,      6, X12018,9,20051105,2106, 25.6872,-128.2080, 4206,    150.5,2,  15.1902,2,  15.18613,2,  34.0301,2,-999.0000,9,   209.70,1,   218.68,2,    152.3,2,   216.83,2,  -999.00,9,  -999.00,9,  -999.00,  -999.00,9,  -999.00,  -999.00,9,  -999.00, -999.000,9, -999.000, -999.000,9, -999.000,9, -999.000,9,   -999.0,9,   -999.0,9,-999.0000,9, -999.000,9, -999.000,   -999.0,9,   -999.0,  15.1674,  25.1876
    49MR0505_1,   P03,    44,  1,      5, X12043,9,20051105,2106, 25.6872,-128.2080, 4206,    100.1,2,  19.1011,2,  19.10012,2,  34.4187,2,-999.0000,9,   226.05,1,   237.37,2,     97.4,2,   235.75,2,  -999.00,9,  -999.00,9,  -999.00,  -999.00,9,  -999.00,  -999.00,9,  -999.00, -999.000,9, -999.000, -999.000,9, -999.000,9, -999.000,9,   -999.0,9,   -999.0,9,-999.0000,9, -999.000,9, -999.000,   -999.0,9,   -999.0,  19.0833,  24.5557
    49MR0505_1,   P03,    44,  1,      4, X12010,9,20051105,2106, 25.6872,-128.2080, 4206,     50.0,2,  21.2399,2,  21.23990,2,  34.5542,2,-999.0000,9,   215.33,1,   225.09,2,     51.0,2,   225.13,2,  -999.00,9,  -999.00,9,  -999.00,  -999.00,9,  -999.00,  -999.00,9,  -999.00, -999.000,9, -999.000, -999.000,9, -999.000,9, -999.000,9,   -999.0,9,   -999.0,9,-999.0000,9, -999.000,9, -999.000,   -999.0,9,   -999.0,  21.2303,  24.0919
    49MR0505_1,   P03,    44,  1,      3, X12015,2,20051105,2106, 25.6872,-128.2080, 4206,   4277.4,2,   1.5315,2,   1.53138,2,  34.6848,2,  34.6849,2,   138.34,1,   142.28,2,   4277.4,2,   142.16,2,   142.13,2,   160.80,2,     0.47,    36.84,2,     0.14,     0.00,2,     0.01,    2.588,2,    0.016, -999.000,9, -999.000,9, -999.000,9,   -999.0,9,   -999.0,9,-999.0000,9, -999.000,9, -999.000,   -999.0,9,   -999.0,   1.1810,  27.7798
    49MR0505_1,   P03,    44,  1,      2, X12014,9,20051105,2106, 25.6872,-128.2080, 4206,     10.3,2,  21.2448,2,  21.24544,2,  34.5562,2,-999.0000,9,   215.18,1,   225.20,2,     12.0,2,   225.52,2,  -999.00,9,  -999.00,9,  -999.00,  -999.00,9,  -999.00,  -999.00,9,  -999.00, -999.000,9, -999.000, -999.000,9, -999.000,9, -999.000,9,   -999.0,9,   -999.0,9,-999.0000,9, -999.000,9, -999.000,   -999.0,9,   -999.0,  21.2428,  24.0900
    49MR0505_1,   P03,    44,  1,      1, X12013,2,20051105,2106, 25.6872,-128.2080, 4206,   4277.1,2,   1.5315,2,   1.53136,2,  34.6847,2,  34.6847,6,   138.36,1,   142.31,2,   4277.1,2,   142.15,2,   142.16,2,   160.79,2,     0.47,    36.87,2,     0.14,     0.00,2,     0.01,    2.586,2,    0.016,    0.008,2,    0.008,2,    0.000,2,   -999.0,9,   -999.0,9,-999.0000,9, -999.000,9, -999.000,   -999.0,9,   -999.0,   1.1810,  27.7797