BOTTLE,20100316JAMSTECRIGC
EXPOCODE,SECT,STNNBR,CASTNO,SAMPNO,BTLNBR,BTLNBR_FLAG_W,DATE,TIME,LATITUDE,LONGITUDE,DEPTH,CTDPRS,CTDPRS_FLAG_W,CTDTMP,CTDTMP_FLAG_W,SBE35,SBE35_FLAG_W,CTDSAL,CTDSAL_FLAG_W,SALNTY,SALNTY_FLAG_W,CTDOXY,CTDOXY_FLAG_W,OPTOXY,OPTOXY_FLAG_W,DWNPRS,DWNPRS_FLAG_W,DWNOXY,DWNOXY_FLAG_W,OXYGEN,OXYGEN_FLAG_W,SILCAT,SILCAT_FLAG_W,SILUNC,NITRAT,NITRAT_FLAG_W,NRAUNC,NITRIT,NITRIT_FLAG_W,NRIUNC,PHSPHT,PHSPHT_FLAG_W,PHPUNC,CFC-11,CFC-11_FLAG_W,CFC-12,CFC-12_FLAG_W,CFC113,CFC113_FLAG_W,TCARBN,TCARBN_FLAG_W,ALKALI,ALKALI_FLAG_W,PH,PH_FLAG_W,DELC13,DELC13_FLAG_W,C13ERR,DELC14,DELC14_FLAG_W,C14ERR,THETA,SIG0
,,,,,,,,UTC,DEG,DEG,M,DBAR,,ITS-90,,ITS-90,,PSS-78,,PSS-78,,UMOL/KG,,UMOL/KG,,DBAR,,UMOL/KG,,UMOL/KG,,UMOL/KG,,UMOL/KG,UMOL/KG,,UMOL/KG,UMOL/KG,,UMOL/KG,UMOL/KG,,UMOL/KG,PMOL/KG,,PMOL/KG,,PMOL/KG,,UMOL/KG,,UMOL/KG,,,,/MILLE,,/MILLE,/MILLE,,/MILLE,DEG C,KG/CUM
    49MR0505_1,   P03,    86,  1,      0,   -999,9,20051113,1135, 24.2397,-146.2260, 5259,   -999.0,9,-999.0000,9,-999.00000,9,-999.0000,9,-999.0000,9,  -999.00,9,  -999.00,9,   -999.0,9,  -999.00,9,  -999.00,9,  -999.00,9,  -999.00,  -999.00,9,  -999.00,  -999.00,9,  -999.00, -999.000,9, -999.000, -999.000,9, -999.000,9, -999.000,9,   -999.0,9,   -999.0,9,-999.0000,9, -999.000,9, -999.000,   -999.0,9,   -999.0,-999.0000,-999.0000
    49MR0505_1,   P03,    86,  1,     36, X12048,2,20051113,1135, 24.2397,-146.2260, 5259,      9.2,2,  23.9401,2,  23.94118,2,  35.1623,2,  35.1629,2,   199.51,1,   212.21,2,     16.1,2,   212.23,2,   212.22,2,     0.95,2,     0.12,     0.04,2,     0.03,     0.00,2,     0.01,    0.090,2,    0.023,    1.793,2,    1.066,2, -999.000,5,   -999.0,9,   -999.0,9,-999.0000,9, -999.000,9, -999.000,   -999.0,9,   -999.0,  23.9382,  23.7826
    49MR0505_1,   P03,    86,  1,     35, X12047,2,20051113,1135, 24.2397,-146.2260, 5259,     49.9,2,  23.8635,2,  23.86484,2,  35.2425,2,  35.2382,2,   200.06,1,   212.72,2,     52.6,2,   212.23,2,   212.56,2,     0.96,2,     0.12,     0.03,2,     0.03,     0.00,2,     0.01,    0.080,2,    0.025,    1.802,2,    1.072,2, -999.000,5,   -999.0,9,   -999.0,9,-999.0000,9, -999.000,9, -999.000,   -999.0,9,   -999.0,  23.8530,  23.8685
    49MR0505_1,   P03,    86,  1,     34, X12046,2,20051113,1135, 24.2397,-146.2260, 5259,    100.8,2,  21.7633,2,  21.76640,2,  35.1913,2,  35.1976,2,   211.70,1,   225.60,2,     96.5,2,   214.25,2,   224.58,2,     1.48,2,     0.12,     0.03,2,     0.03,     0.00,2,     0.01,    0.062,2,    0.029,    2.101,2,    1.246,2, -999.000,5,   -999.0,9,   -999.0,9,-999.0000,9, -999.000,9, -999.000,   -999.0,9,   -999.0,  21.7435,  24.4349
    49MR0505_1,   P03,    86,  1,     33, X12003,2,20051113,1135, 24.2397,-146.2260, 5259,    150.2,2,  19.3657,2,  19.36028,2,  34.9732,2,  34.9751,2,   193.79,1,   206.30,2,    141.3,2,   204.85,2,   205.97,2,     2.14,2,     0.12,     1.15,2,     0.04,     0.06,2,     0.01,    0.198,2,    0.016,    2.301,2,    1.314,2,    0.113,4,   -999.0,9,   -999.0,9,-999.0000,9, -999.000,9, -999.000,   -999.0,9,   -999.0,  19.3386,  24.9138
    49MR0505_1,   P03,    86,  1,     32, X12044,2,20051113,1135, 24.2397,-146.2260, 5259,    202.3,2,  15.0976,2,  15.10954,2,  34.3589,2,  34.3713,2,   187.52,1,   198.75,2,    201.6,2,   201.47,2,   199.08,2,     5.11,2,     0.13,     5.66,2,     0.05,     0.00,2,     0.01,    0.531,2,    0.013,    2.763,2,    1.496,2,    0.089,2,   -999.0,9,   -999.0,9,-999.0000,9, -999.000,9, -999.000,   -999.0,9,   -999.0,  15.0670,  25.4630
    49MR0505_1,   P03,    86,  1,     31, X12051,2,20051113,1135, 24.2397,-146.2260, 5259,    252.3,2,  12.5284,2,  12.52740,2,  34.0757,2,  34.0787,2,   178.87,1,   189.80,2,    248.1,2,   204.33,2,   189.47,2,     9.50,2,     0.14,    10.57,2,     0.06,     0.00,2,     0.01,    0.894,2,    0.013,    3.000,6,    1.573,6,    0.074,6,   -999.0,9,   -999.0,9,-999.0000,9, -999.000,9, -999.000,   -999.0,9,   -999.0,  12.4948,  25.7762
    49MR0505_1,   P03,    86,  1,     30, X12042,2,20051113,1135, 24.2397,-146.2260, 5259,    302.3,2,  10.9687,2,  10.97132,2,  34.1293,2,  34.1269,2,   192.32,1,   203.35,2,    307.4,2,   213.15,2,   203.58,2,    14.01,2,     0.15,    13.65,2,     0.07,     0.00,2,     0.01,    1.023,2,    0.013,    3.225,2,    1.650,2,    0.088,2,   -999.0,9,   -999.0,9,-999.0000,9, -999.000,9, -999.000,   -999.0,9,   -999.0,  10.9317,  26.1097
    49MR0505_1,   P03,    86,  1,     29, X12041,2,20051113,1135, 24.2397,-146.2260, 5259,    402.0,2,   9.0365,2,   9.03699,2,  34.0961,2,  34.0967,2,   171.92,1,   182.06,2,    400.1,2,   182.18,2,   182.42,2,    26.12,2,     0.18,    20.16,2,     0.09,     0.00,2,     0.01,    1.446,2,    0.014,    3.060,2,    1.491,2,    0.091,2,   -999.0,9,   -999.0,9,-999.0000,9, -999.000,9, -999.000,   -999.0,9,   -999.0,   8.9927,  26.4114
    49MR0505_1,   P03,    86,  1,     28, X12016,2,20051113,1135, 24.2397,-146.2260, 5259,    499.4,2,   6.5653,2,   6.56507,2,  34.0216,2,  34.0216,6,   107.81,1,   114.79,2,    499.9,2,   114.85,2,   114.88,2,    52.70,2,     0.23,    31.24,2,     0.12,     0.00,2,     0.01,    2.258,2,    0.016,    1.774,2,    0.806,2,    0.061,2,   -999.0,9,   -999.0,9,-999.0000,9, -999.000,9, -999.000,   -999.0,9,   -999.0,   6.5199,  26.7126
    49MR0505_1,   P03,    86,  1,     27, X12039,2,20051113,1135, 24.2397,-146.2260, 5259,    601.3,2,   5.4427,2,   5.43890,2,  34.1043,2,  34.1016,2,    47.86,1,    51.09,2,    600.3,2,    46.36,2,    51.31,2,    75.44,2,     0.28,    38.57,2,     0.14,     0.00,2,     0.01,    2.833,2,    0.017,    0.539,2,    0.246,2,    0.015,2,   -999.0,9,   -999.0,9,-999.0000,9, -999.000,9, -999.000,   -999.0,9,   -999.0,   5.3927,  26.9193
    49MR0505_1,   P03,    86,  1,     26, X12038,2,20051113,1135, 24.2397,-146.2260, 5259,    701.9,2,   4.7661,2,   4.76532,2,  34.2436,2,  34.2411,2,    20.35,1,    21.91,2,    706.0,2,    22.01,2,    21.86,2,    94.72,2,     0.33,    42.20,2,     0.15,     0.00,2,     0.01,    3.119,2,    0.018, -999.000,5, -999.000,5, -999.000,5,   -999.0,9,   -999.0,9,-999.0000,9, -999.000,9, -999.000,   -999.0,9,   -999.0,   4.7107,  27.1083
    49MR0505_1,   P03,    86,  1,     25, X12037,2,20051113,1135, 24.2397,-146.2260, 5259,   5319.0,2,   1.5128,2,   1.51284,2,  34.6949,2,  34.6951,2,   158.46,1,   166.07,2,   5319.0,2,   165.68,2,   165.66,2,   142.29,2,     0.43,    35.22,2,     0.13,     0.00,2,     0.01,    2.445,2,    0.016, -999.000,9, -999.000,9, -999.000,9,   -999.0,9,   -999.0,9,-999.0000,9, -999.000,9, -999.000,   -999.0,9,   -999.0,   1.0387,  27.7976
    49MR0505_1,   P03,    86,  1,     24, X12008,2,20051113,1135, 24.2397,-146.2260, 5259,    897.4,2,   4.3331,2,   4.33331,2,  34.4388,2,  34.4385,2,    30.39,1,    32.29,2,    897.3,2,    31.92,2,    32.26,2,   105.19,2,     0.35,    42.62,2,     0.15,     0.00,2,     0.01,    3.117,2,    0.018,    0.007,2,    0.000,2,    0.000,2,   -999.0,9,   -999.0,9,-999.0000,9, -999.000,9, -999.000,   -999.0,9,   -999.0,   4.2637,  27.3120
    49MR0505_1,   P03,    86,  1,     23, X12035,2,20051113,1135, 24.2397,-146.2260, 5259,   1000.3,2,   4.0746,2,   4.07463,2,  34.4793,2,  34.4788,6,    36.75,1,    38.96,2,   1000.1,2,    38.94,2,    38.92,2,   109.89,2,     0.36,    42.50,2,     0.15,     0.00,2,     0.01,    3.100,2,    0.018,    0.003,2,    0.000,2,    0.000,2,   -999.0,9,   -999.0,9,-999.0000,9, -999.000,9, -999.000,   -999.0,9,   -999.0,   3.9984,  27.3721
    49MR0505_1,   P03,    86,  1,     22, X12034,2,20051113,1135, 24.2397,-146.2260, 5259,   1200.1,2,   3.5319,2,   3.53194,2,  34.5212,2,  34.5217,2,    46.19,1,    49.11,2,   1200.0,2,    49.30,2,    49.18,2,   121.87,2,     0.39,    42.37,2,     0.15,     0.00,2,     0.01,    3.072,2,    0.018,    0.000,2,    0.000,2,    0.000,2,   -999.0,9,   -999.0,9,-999.0000,9, -999.000,9, -999.000,   -999.0,9,   -999.0,   3.4436,  27.4611
    49MR0505_1,   P03,    86,  1,     21, X12033,2,20051113,1135, 24.2397,-146.2260, 5259,   1398.5,2,   3.0898,2,   3.08985,2,  34.5520,2,  34.5523,2,    54.12,1,    57.68,2,   1397.9,2,    58.32,2,    57.72,2,   131.95,2,     0.41,    42.06,2,     0.15,     0.00,2,     0.01,    3.038,2,    0.018,    0.007,2,    0.003,2,    0.000,2,   -999.0,9,   -999.0,9,-999.0000,9, -999.000,9, -999.000,   -999.0,9,   -999.0,   2.9894,  27.5284
    49MR0505_1,   P03,    86,  1,     20, X12032,2,20051113,1135, 24.2397,-146.2260, 5259,   1598.8,2,   2.7117,2,   2.71173,2,  34.5771,2,  34.5772,2,    63.12,1,    67.54,2,   1599.1,2,    67.75,2,    67.64,2,   140.68,2,     0.43,    41.53,2,     0.15,     0.00,2,     0.01,    2.980,2,    0.017,    0.000,2,    0.001,2,    0.000,2,   -999.0,9,   -999.0,9,-999.0000,9, -999.000,9, -999.000,   -999.0,9,   -999.0,   2.5991,  27.5832
    49MR0505_1,   P03,    86,  1,     19, X12001,2,20051113,1135, 24.2397,-146.2260, 5259,   1799.2,2,   2.3755,2,   2.37567,2,  34.5986,2,  34.5987,2,    70.75,1,    75.93,2,   1800.1,2,    76.09,2,    76.08,2,   149.56,2,     0.45,    41.03,2,     0.15,     0.00,2,     0.01,    2.931,2,    0.017,    0.000,2,    0.000,2,    0.000,2,   -999.0,9,   -999.0,9,-999.0000,9, -999.000,9, -999.000,   -999.0,9,   -999.0,   2.2505,  27.6299
    49MR0505_1,   P03,    86,  1,     18, X12030,2,20051113,1135, 24.2397,-146.2260, 5259,   2002.0,2,   2.1223,2,   2.12353,2,  34.6163,2,  34.6167,6,    77.15,1,    82.86,2,   2003.3,2,    82.71,2,    82.66,2,   157.09,2,     0.46,    40.68,2,     0.15,     0.00,2,     0.01,    2.896,2,    0.017,    0.000,2,    0.000,2,    0.000,2,   -999.0,9,   -999.0,9,-999.0000,9, -999.000,9, -999.000,   -999.0,9,   -999.0,   1.9839,  27.6655
    49MR0505_1,   P03,    86,  1,     17, X12049,2,20051113,1135, 24.2397,-146.2260, 5259,   2200.8,2,   1.9269,2,   1.92726,2,  34.6320,2,  34.6322,2,    85.21,1,    91.76,2,   2202.0,2,    91.12,2,    91.72,2,   161.59,2,     0.47,    40.17,2,     0.15,     0.00,2,     0.01,    2.853,2,    0.017, -999.000,9, -999.000,9, -999.000,9,   -999.0,9,   -999.0,9,-999.0000,9, -999.000,9, -999.000,   -999.0,9,   -999.0,   1.7745,  27.6944
    49MR0505_1,   P03,    86,  1,     16, X12028,2,20051113,1135, 24.2397,-146.2260, 5259,   2400.8,2,   1.7673,2,   1.76751,2,  34.6461,2,  34.6465,2,    93.56,1,   100.98,2,   2402.6,2,    99.33,2,   100.80,2,   165.34,2,     0.48,    39.64,2,     0.14,     0.00,2,     0.01,    2.800,2,    0.017, -999.000,9, -999.000,9, -999.000,9,   -999.0,9,   -999.0,9,-999.0000,9, -999.000,9, -999.000,   -999.0,9,   -999.0,   1.6002,  27.7188
    49MR0505_1,   P03,    86,  1,     15, X12006,2,20051113,1135, 24.2397,-146.2260, 5259,   2600.5,2,   1.6735,2,   1.67354,2,  34.6549,2,  34.6552,2,   100.29,1,   108.19,2,   2601.4,2,   107.36,2,   108.11,2,   166.90,2,     0.49,    39.20,2,     0.14,     0.00,2,     0.01,    2.755,2,    0.017, -999.000,9, -999.000,9, -999.000,9,   -999.0,9,   -999.0,9,-999.0000,9, -999.000,9, -999.000,   -999.0,9,   -999.0,   1.4903,  27.7339
    49MR0505_1,   P03,    86,  1,     14, X12026,2,20051113,1135, 24.2397,-146.2260, 5259,   2799.9,2,   1.5901,2,   1.59022,2,  34.6637,2,  34.6638,2,   108.05,1,   116.68,2,   2800.7,2,   115.88,2,   116.61,2,   166.84,2,     0.49,    38.54,2,     0.14,     0.00,2,     0.01,    2.710,2,    0.017,    0.002,2,    0.000,2,    0.000,2,   -999.0,9,   -999.0,9,-999.0000,9, -999.000,9, -999.000,   -999.0,9,   -999.0,   1.3902,  27.7482
    49MR0505_1,   P03,    86,  1,     13, X12025,2,20051113,1135, 24.2397,-146.2260, 5259,   2999.8,2,   1.5349,2,   1.53512,2,  34.6705,2,  34.6707,6,   115.22,1,   124.59,2,   3000.4,2,   123.80,2,   124.19,2,   165.65,2,     0.48,    38.10,2,     0.14,     0.00,2,     0.01,    2.672,2,    0.017, -999.000,9, -999.000,9, -999.000,9,   -999.0,9,   -999.0,9,-999.0000,9, -999.000,9, -999.000,   -999.0,9,   -999.0,   1.3174,  27.7588
    49MR0505_1,   P03,    86,  1,     12, X12024,2,20051113,1135, 24.2397,-146.2260, 5259,   3249.5,2,   1.4987,2,   1.49872,2,  34.6764,2,  34.6765,2,   122.15,1,   131.87,2,   3250.1,2,   131.25,2,   131.71,2,   162.97,2,     0.48,    37.74,2,     0.14,     0.00,2,     0.01,    2.633,2,    0.017, -999.000,9, -999.000,9, -999.000,9,   -999.0,9,   -999.0,9,-999.0000,9, -999.000,9, -999.000,   -999.0,9,   -999.0,   1.2578,  27.7678
    49MR0505_1,   P03,    86,  1,     11, X12023,2,20051113,1135, 24.2397,-146.2260, 5259,   3501.8,2,   1.4714,2,   1.47148,2,  34.6812,2,  34.6814,2,   128.66,1,   138.60,2,   3502.1,2,   138.72,2,   138.70,2,   160.56,2,     0.47,    37.09,2,     0.14,     0.00,2,     0.01,    2.590,2,    0.016,    0.004,2,    0.000,2,    0.000,2,   -999.0,9,   -999.0,9,-999.0000,9, -999.000,9, -999.000,   -999.0,9,   -999.0,   1.2058,  27.7752
    49MR0505_1,   P03,    86,  1,     10, X12022,2,20051113,1135, 24.2397,-146.2260, 5259,   3750.4,2,   1.4624,2,   1.46242,2,  34.6842,2,  34.6845,2,   133.53,1,   143.31,2,   3750.4,2,   144.35,2,   143.59,2,   158.40,2,     0.47,    36.75,2,     0.14,     0.00,2,     0.01,    2.562,2,    0.016, -999.000,9, -999.000,9, -999.000,9,   -999.0,9,   -999.0,9,-999.0000,9, -999.000,9, -999.000,   -999.0,9,   -999.0,   1.1713,  27.7800
    49MR0505_1,   P03,    86,  1,      9, X12021,2,20051113,1135, 24.2397,-146.2260, 5259,   4000.8,2,   1.4647,2,   1.46489,2,  34.6866,2,  34.6865,2,   137.39,1,   147.40,2,   4000.8,2,   148.42,2,   147.65,2,   156.15,2,     0.46,    36.51,2,     0.14,     0.00,2,     0.01,    2.546,2,    0.016, -999.000,9, -999.000,9, -999.000,9,   -999.0,9,   -999.0,9,-999.0000,9, -999.000,9, -999.000,   -999.0,9,   -999.0,   1.1467,  27.7836
    49MR0505_1,   P03,    86,  1,      8, X12020,2,20051113,1135, 24.2397,-146.2260, 5259,   4250.4,2,   1.4769,2,   1.47702,2,  34.6882,2,  34.6882,6,   140.39,1,   150.07,2,   4250.4,2,   151.15,2,   150.37,2,   154.29,2,     0.46,    36.43,2,     0.13,     0.00,2,     0.01,    2.533,2,    0.016,    0.005,2,    0.001,2,    0.000,2,   -999.0,9,   -999.0,9,-999.0000,9, -999.000,9, -999.000,   -999.0,9,   -999.0,   1.1310,  27.7860
    49MR0505_1,   P03,    86,  1,      7, X12019,2,20051113,1135, 24.2397,-146.2260, 5259,   4501.4,2,   1.4863,2,   1.48641,2,  34.6899,2,  34.6897,2,   144.16,1,   153.72,2,   4501.3,2,   154.64,2,   154.01,2,   151.82,2,     0.45,    36.16,2,     0.13,     0.00,2,     0.01,    2.515,2,    0.016, -999.000,9, -999.000,9, -999.000,9,   -999.0,9,   -999.0,9,-999.0000,9, -999.000,9, -999.000,   -999.0,9,   -999.0,   1.1116,  27.7887
    49MR0505_1,   P03,    86,  1,      6, X12018,2,20051113,1135, 24.2397,-146.2260, 5259,   4751.9,2,   1.4921,2,   1.49223,2,  34.6917,2,  34.6920,2,   148.60,1,   157.74,2,   4752.0,2,   158.40,2,   158.24,2,   148.17,2,     0.44,    35.77,2,     0.13,     0.00,2,     0.01,    2.488,2,    0.016, -999.000,9, -999.000,9, -999.000,9,   -999.0,9,   -999.0,9,-999.0000,9, -999.000,9, -999.000,   -999.0,9,   -999.0,   1.0879,  27.7917
    49MR0505_1,   P03,    86,  1,      5, X12043,2,20051113,1135, 24.2397,-146.2260, 5259,   5001.6,2,   1.4987,2,   1.49893,2,  34.6933,2,  34.6934,2,   153.06,1,   162.14,2,   5001.7,2,   161.92,2,   162.00,2,   145.26,2,     0.44,    35.47,2,     0.13,     0.00,2,     0.01,    2.467,2,    0.016,    0.003,2,    0.004,2,    0.000,2,   -999.0,9,   -999.0,9,-999.0000,9, -999.000,9, -999.000,   -999.0,9,   -999.0,   1.0643,  27.7946
    49MR0505_1,   P03,    86,  1,      4, X12010,2,20051113,1135, 24.2397,-146.2260, 5259,   5250.8,2,   1.5084,2,   1.50850,2,  34.6946,2,  34.6944,2,   157.22,1,   165.40,2,   5250.9,2,   165.24,2,   165.14,2,   142.85,2,     0.43,    35.22,2,     0.13,     0.00,2,     0.01,    2.454,2,    0.016,    0.000,2,    0.002,2,    0.000,2,   -999.0,9,   -999.0,9,-999.0000,9, -999.000,9, -999.000,   -999.0,9,   -999.0,   1.0429,  27.7971
    49MR0505_1,   P03,    86,  1,      3, X12015,9,20051113,1135, 24.2397,-146.2260, 5259,      9.4,2,  23.9411,2,  23.94100,2,  35.1614,2,-999.0000,9,   199.48,1,   212.18,2,     16.1,2,   212.23,2,  -999.00,9,  -999.00,9,  -999.00,  -999.00,9,  -999.00,  -999.00,9,  -999.00, -999.000,9, -999.000, -999.000,9, -999.000,9, -999.000,9,   -999.0,9,   -999.0,9,-999.0000,9, -999.000,9, -999.000,   -999.0,9,   -999.0,  23.9391,  23.7816
    49MR0505_1,   P03,    86,  1,      2, X12014,2,20051113,1135, 24.2397,-146.2260, 5259,    801.2,2,   4.5024,2,   4.50278,2,  34.3525,2,  34.3510,2,    20.87,1,    22.39,2,    802.7,2,    21.28,2,    22.16,2,   101.87,2,     0.34,    42.86,2,     0.15,     0.00,2,     0.01,    3.164,2,    0.018,    0.010,6,    0.001,6,    0.000,6,   -999.0,9,   -999.0,9,-999.0000,9, -999.000,9, -999.000,   -999.0,9,   -999.0,   4.4401,  27.2245
    49MR0505_1,   P03,    86,  1,      1, X12013,2,20051113,1135, 24.2397,-146.2260, 5259,   5317.7,2,   1.5128,2,   1.51268,2,  34.6947,2,  34.6947,6,   158.55,1,   166.05,2,   5317.7,2,   165.81,2,   165.84,2,   142.15,2,     0.43,    35.26,2,     0.13,     0.00,2,     0.01,    2.449,2,    0.016,    0.000,2,    0.001,2,    0.000,2,   -999.0,9,   -999.0,9,-999.0000,9, -999.000,9, -999.000,   -999.0,9,   -999.0,   1.0388,  27.7974