BOTTLE,20100316JAMSTECRIGC
EXPOCODE,SECT,STNNBR,CASTNO,SAMPNO,BTLNBR,BTLNBR_FLAG_W,DATE,TIME,LATITUDE,LONGITUDE,DEPTH,CTDPRS,CTDPRS_FLAG_W,CTDTMP,CTDTMP_FLAG_W,SBE35,SBE35_FLAG_W,CTDSAL,CTDSAL_FLAG_W,SALNTY,SALNTY_FLAG_W,CTDOXY,CTDOXY_FLAG_W,OPTOXY,OPTOXY_FLAG_W,DWNPRS,DWNPRS_FLAG_W,DWNOXY,DWNOXY_FLAG_W,OXYGEN,OXYGEN_FLAG_W,SILCAT,SILCAT_FLAG_W,SILUNC,NITRAT,NITRAT_FLAG_W,NRAUNC,NITRIT,NITRIT_FLAG_W,NRIUNC,PHSPHT,PHSPHT_FLAG_W,PHPUNC,CFC-11,CFC-11_FLAG_W,CFC-12,CFC-12_FLAG_W,CFC113,CFC113_FLAG_W,TCARBN,TCARBN_FLAG_W,ALKALI,ALKALI_FLAG_W,PH,PH_FLAG_W,DELC13,DELC13_FLAG_W,C13ERR,DELC14,DELC14_FLAG_W,C14ERR,THETA,SIG0
,,,,,,,,UTC,DEG,DEG,M,DBAR,,ITS-90,,ITS-90,,PSS-78,,PSS-78,,UMOL/KG,,UMOL/KG,,DBAR,,UMOL/KG,,UMOL/KG,,UMOL/KG,,UMOL/KG,UMOL/KG,,UMOL/KG,UMOL/KG,,UMOL/KG,UMOL/KG,,UMOL/KG,PMOL/KG,,PMOL/KG,,PMOL/KG,,UMOL/KG,,UMOL/KG,,,,/MILLE,,/MILLE,/MILLE,,/MILLE,DEG C,KG/CUM
    49MR0505_1,   P03,    56,  1,      0,   -999,9,20051107,1935, 24.2537,-133.2443, 4857,   -999.0,9,-999.0000,9,-999.00000,9,-999.0000,9,  34.7789,2,  -999.00,9,  -999.00,9,   -999.0,9,  -999.00,9,  -999.00,9,  -999.00,9,  -999.00,  -999.00,9,  -999.00,  -999.00,9,  -999.00, -999.000,9, -999.000, -999.000,9, -999.000,9, -999.000,9,   -999.0,9,   -999.0,9,-999.0000,9, -999.000,9, -999.000,   -999.0,9,   -999.0,-999.0000,-999.0000
    49MR0505_1,   P03,    56,  1,     36, X12048,2,20051107,1935, 24.2537,-133.2443, 4857,      9.5,2,  21.6958,2,  21.69568,2,  34.7674,2,  34.7674,2,   212.56,1,   223.58,2,      5.5,2,   224.01,2,   223.13,2,     1.32,2,     0.12,     0.04,2,     0.03,     0.00,2,     0.01,    0.163,2,    0.017,    1.907,2,    1.195,2, -999.000,5,   2017.8,2,   2308.5,2,   8.0305,6, -999.000,9, -999.000,   -999.0,9,   -999.0,  21.6939,  24.1264
    49MR0505_1,   P03,    56,  1,     35, X12047,2,20051107,1935, 24.2537,-133.2443, 4857,     50.0,2,  21.6374,2,  21.63725,2,  34.7662,2,  34.7672,2,   212.63,1,   223.75,2,     49.3,2,   223.32,2,   223.29,2,     1.31,2,     0.12,     0.03,2,     0.03,     0.00,2,     0.01,    0.165,2,    0.017,    1.912,2,    1.195,2, -999.000,5,   2019.2,6,   2302.1,2,   8.0304,2, -999.000,9, -999.000,   -999.0,9,   -999.0,  21.6277,  24.1438
    49MR0505_1,   P03,    56,  1,     34, X12046,2,20051107,1935, 24.2537,-133.2443, 4857,     99.4,2,  19.7006,2,  19.70023,2,  34.5858,2,  34.6343,2,   221.90,1,   233.12,2,     93.8,2,   231.82,2,   231.82,2,     1.59,2,     0.12,     0.02,2,     0.03,     0.01,2,     0.01,    0.148,2,    0.018,    2.158,2,    1.326,2, -999.000,5,   2018.1,2,   2288.8,6,   8.0078,2, -999.000,9, -999.000,   -999.0,9,   -999.0,  19.6825,  24.5289
    49MR0505_1,   P03,    56,  1,     33, X12003,3,20051107,1935, 24.2537,-133.2443, 4857,    150.2,2,  18.5270,2,  18.52799,2,  34.7117,2,  34.6751,2,   212.54,1,   223.71,2,    147.7,2,   216.69,2,   222.03,2,     2.09,2,     0.12,     0.39,2,     0.03,     0.14,2,     0.01,    0.164,2,    0.017,    2.261,4,    1.380,4, -999.000,5,   2026.9,2,   2287.0,2,   7.9830,6, -999.000,9, -999.000,   -999.0,9,   -999.0,  18.5008,  24.9269
    49MR0505_1,   P03,    56,  1,     32, X12044,2,20051107,1935, 24.2537,-133.2443, 4857,    198.6,2,  13.2760,2,  13.27614,2,  33.9038,2,  33.8931,2,   204.92,1,   213.67,2,    193.0,2,   208.89,2,   213.46,2,     6.29,2,     0.13,     6.75,2,     0.05,     0.01,2,     0.01,    0.648,2,    0.013,    2.825,2,    1.680,2,    0.172,4,   2053.5,2,   2238.8,2,   7.8584,2, -999.000,9, -999.000,   -999.0,9,   -999.0,  13.2486,  25.4939
    49MR0505_1,   P03,    56,  1,     31, X12051,2,20051107,1935, 24.2537,-133.2443, 4857,    250.0,2,  10.3834,2,  10.39283,2,  33.8274,2,  33.8449,2,   193.23,1,   202.06,2,    244.5,2,   200.68,2,   201.73,2,    14.57,2,     0.15,    14.40,2,     0.07,     0.01,2,     0.01,    1.133,2,    0.013,    3.088,6,    1.790,6,    0.142,6,   2094.8,2,   2243.2,2,   7.7584,2, -999.000,9, -999.000,   -999.0,9,   -999.0,  10.3540,  25.9760
    49MR0505_1,   P03,    56,  1,     30, X12042,2,20051107,1935, 24.2537,-133.2443, 4857,    300.8,2,   9.1499,2,   9.15208,2,  34.0171,2,  34.0212,2,   178.90,1,   186.40,2,    294.3,2,   182.09,2,   185.43,2,    23.71,2,     0.17,    19.49,2,     0.09,     0.00,2,     0.01,    1.430,2,    0.014,    2.999,2,    1.681,2,    0.115,2,   2128.4,2,   2256.2,2,   7.7060,2, -999.000,9, -999.000,   -999.0,9,   -999.0,   9.1171,  26.3298
    49MR0505_1,   P03,    56,  1,     29, X12041,2,20051107,1935, 24.2537,-133.2443, 4857,    401.7,2,   7.1633,2,   7.16324,2,  34.0410,2,  34.0443,2,   106.57,1,   110.54,2,    397.0,2,   102.65,2,   108.71,2,    47.27,2,     0.22,    30.52,2,     0.12,     0.00,2,     0.01,    2.251,2,    0.016,    1.925,2,    0.953,2,    0.080,2,   2215.1,2,   2283.0,2,   7.5197,2, -999.000,9, -999.000,   -999.0,9,   -999.0,   7.1252,  26.6461
    49MR0505_1,   P03,    56,  1,     28, X12016,2,20051107,1935, 24.2537,-133.2443, 4857,    502.9,2,   5.9905,2,   5.98634,2,  34.1529,2,  34.1591,6,    40.31,1,    41.61,2,    501.3,2,    40.66,2,    40.49,2,    70.02,2,     0.27,    37.91,2,     0.14,     0.00,2,     0.01,    2.882,2,    0.017,    0.488,2,    0.261,2,    0.026,2,   2285.4,2,   2303.0,2,   7.3907,2, -999.000,9, -999.000,   -999.0,9,   -999.0,   5.9469,  26.8899
    49MR0505_1,   P03,    56,  1,     27, X12039,2,20051107,1935, 24.2537,-133.2443, 4857,    600.3,2,   5.3045,2,   5.30460,2,  34.2444,2,  34.2499,2,    20.50,1,    21.32,2,    599.6,2,    20.28,2,    20.42,2,    85.67,2,     0.31,    41.14,2,     0.15,     0.00,2,     0.01,    3.099,2,    0.018,    0.099,2,    0.056,2,    0.012,2,   2316.5,2,   2316.7,2,   7.3593,2, -999.000,9, -999.000,   -999.0,9,   -999.0,   5.2551,  27.0465
    49MR0505_1,   P03,    56,  1,     26, X12038,2,20051107,1935, 24.2537,-133.2443, 4857,    699.8,2,   4.8897,2,   4.89072,2,  34.3559,2,  34.3586,2,    16.81,1,    17.64,2,    701.4,2,    17.59,2,    17.51,2,    94.84,2,     0.33,    42.50,2,     0.15,     0.00,2,     0.01,    3.182,2,    0.018,    0.022,2,    0.010,2,    0.015,2,   2332.5,6,   2330.9,2,   7.3624,2, -999.000,9, -999.000,   -999.0,9,   -999.0,   4.8337,  27.1836
    49MR0505_1,   P03,    56,  1,     25, X12037,2,20051107,1935, 24.2537,-133.2443, 4857,    802.2,2,   4.6933,2,   4.69320,2,  34.4323,2,  34.4331,2,    21.84,1,    22.76,2,    801.5,2,    22.58,2,    22.58,2,    98.58,2,     0.34,    42.76,2,     0.15,     0.00,2,     0.01,    3.186,2,    0.018,    0.009,6,    0.006,6,    0.005,6,   2333.6,3,   2346.2,6,   7.3812,2, -999.000,9, -999.000,   -999.0,9,   -999.0,   4.6296,  27.2671
    49MR0505_1,   P03,    56,  1,     24, X12008,2,20051107,1935, 24.2537,-133.2443, 4857,    901.6,2,   4.3923,2,   4.39224,2,  34.4718,2,  34.4721,2,    25.70,1,    26.70,2,    900.3,2,    27.03,2,    26.73,2,   104.62,2,     0.35,    43.09,2,     0.15,     0.00,2,     0.01,    3.173,2,    0.018,    0.006,2,    0.003,2,    0.000,2,   2342.1,2,   2353.9,2,   7.3880,6, -999.000,9, -999.000,   -999.0,9,   -999.0,   4.3221,  27.3320
    49MR0505_1,   P03,    56,  1,     23, X12035,2,20051107,1935, 24.2537,-133.2443, 4857,   1002.2,2,   4.0800,2,   4.08007,2,  34.4979,2,  34.4981,6,    30.75,1,    31.83,2,   1002.3,2,    31.30,2,    31.86,2,   111.52,2,     0.36,    43.15,2,     0.15,     0.00,2,     0.01,    3.179,2,    0.018,    0.004,2,    0.006,2,    0.000,2,   2348.4,2,   2362.2,2,   7.3973,2, -999.000,9, -999.000,   -999.0,9,   -999.0,   4.0035,  27.3864
    49MR0505_1,   P03,    56,  1,     22, X12034,2,20051107,1935, 24.2537,-133.2443, 4857,   1201.8,2,   3.4958,2,   3.49579,2,  34.5373,2,  34.5373,2,    38.04,1,    39.42,2,   1203.3,2,    39.11,2,    39.67,2,   124.87,2,     0.39,    43.06,2,     0.15,     0.00,2,     0.01,    3.164,2,    0.018,    0.003,2,    0.005,2,    0.000,2,   2358.8,2,   2380.3,2,   7.4093,2, -999.000,9, -999.000,   -999.0,9,   -999.0,   3.4076,  27.4774
    49MR0505_1,   P03,    56,  1,     21, X12033,2,20051107,1935, 24.2537,-133.2443, 4857,   1400.5,2,   3.0917,2,   3.09175,2,  34.5610,2,  34.5612,2,    45.93,1,    47.86,2,   1401.4,2,    47.32,2,    48.40,2,   134.86,2,     0.42,    42.69,2,     0.15,     0.00,2,     0.01,    3.126,2,    0.018,    0.005,2,    0.003,2,    0.000,2,   2364.7,2,   2392.6,2,   7.4219,2, -999.000,9, -999.000,   -999.0,9,   -999.0,   2.9911,  27.5355
    49MR0505_1,   P03,    56,  1,     20, X12032,2,20051107,1935, 24.2537,-133.2443, 4857,   1601.4,2,   2.7205,2,   2.72035,2,  34.5851,2,  34.5853,2,    55.42,1,    57.86,2,   1600.8,2,    58.53,2,    58.18,2,   144.07,2,     0.44,    42.24,2,     0.15,     0.00,2,     0.01,    3.062,2,    0.018,    0.002,2,    0.000,2,    0.000,2,   2369.9,2,   2406.7,2,   7.4390,6, -999.000,9, -999.000,   -999.0,9,   -999.0,   2.6075,  27.5889
    49MR0505_1,   P03,    56,  1,     19, X12001,2,20051107,1935, 24.2537,-133.2443, 4857,   1800.6,2,   2.3900,2,   2.38994,2,  34.6078,2,  34.6080,2,    67.09,1,    70.64,2,   1801.3,2,    69.77,2,    70.64,2,   151.35,2,     0.45,    41.39,2,     0.15,     0.00,2,     0.01,    2.995,2,    0.017,    0.000,2,    0.001,2,    0.000,2,   2366.8,2,   2411.7,2,   7.4620,2, -999.000,9, -999.000,   -999.0,9,   -999.0,   2.2647,  27.6360
    49MR0505_1,   P03,    56,  1,     18, X12030,2,20051107,1935, 24.2537,-133.2443, 4857,   2001.1,2,   2.1559,2,   2.15588,2,  34.6248,2,  34.6250,2,    77.63,1,    81.68,2,   2001.2,2,    81.61,2,    81.81,2,   156.27,2,     0.46,    40.77,2,     0.15,     0.00,2,     0.01,    2.926,2,    0.017,    0.000,2,    0.001,2,    0.000,2,   2364.1,2,   2414.1,2,   7.4822,2, -999.000,9, -999.000,   -999.0,9,   -999.0,   2.0170,  27.6697
    49MR0505_1,   P03,    56,  1,     17, X12049,2,20051107,1935, 24.2537,-133.2443, 4857,   2200.3,2,   1.9673,2,   1.96721,2,  34.6392,2,  34.6396,6,    87.54,1,    92.51,2,   2200.0,2,    92.62,2,    92.67,2,   159.35,2,     0.47,    39.98,2,     0.14,     0.00,2,     0.01,    2.863,2,    0.017,    0.000,2,    0.000,2,    0.000,2,   2360.6,2,   2422.1,2,   7.5027,2, -999.000,9, -999.000,   -999.0,9,   -999.0,   1.8143,  27.6971
    49MR0505_1,   P03,    56,  1,     16, X12028,2,20051107,1935, 24.2537,-133.2443, 4857,   2402.5,2,   1.8361,2,   1.83593,2,  34.6483,2,  34.6483,2,    94.75,1,   100.19,2,   2402.1,2,   100.54,2,   100.14,2,   162.59,2,     0.48,    39.59,2,     0.14,     0.00,2,     0.01,    2.823,2,    0.017, -999.000,9, -999.000,9, -999.000,9,   2358.1,6,   2424.0,2,   7.5148,2, -999.000,9, -999.000,   -999.0,9,   -999.0,   1.6676,  27.7155
    49MR0505_1,   P03,    56,  1,     15, X12009,2,20051107,1935, 24.2537,-133.2443, 4857,   2600.8,2,   1.7258,2,   1.72567,2,  34.6554,2,  34.6556,2,   101.03,1,   106.94,2,   2599.6,2,   108.21,2,   106.63,2,   165.24,2,     0.48,    39.10,2,     0.14,     0.00,2,     0.01,    2.777,2,    0.017, -999.000,9, -999.000,9, -999.000,9,   2356.2,2,   2426.4,6,   7.5266,2, -999.000,9, -999.000,   -999.0,9,   -999.0,   1.5415,  27.7306
    49MR0505_1,   P03,    56,  1,     14, X12026,2,20051107,1935, 24.2537,-133.2443, 4857,   2799.3,2,   1.6295,2,   1.62939,2,  34.6626,2,  34.6630,2,   107.89,1,   114.27,2,   2798.9,2,   114.77,2,   114.07,2,   166.93,2,     0.49,    38.68,2,     0.14,     0.00,2,     0.01,    2.740,2,    0.017, -999.000,9, -999.000,9, -999.000,9,   2351.8,2,   2428.1,2,   7.5378,6, -999.000,9, -999.000,   -999.0,9,   -999.0,   1.4289,  27.7446
    49MR0505_1,   P03,    56,  1,     13, X12025,2,20051107,1935, 24.2537,-133.2443, 4857,   2999.7,2,   1.5592,2,   1.55888,2,  34.6693,2,  34.6696,6,   114.92,1,   121.87,2,   2999.3,2,   122.27,2,   121.51,2,   166.72,2,     0.49,    38.21,2,     0.14,     0.00,2,     0.01,    2.698,2,    0.017, -999.000,9, -999.000,9, -999.000,9,   2347.7,2,   2426.4,2,   7.5521,2, -999.000,9, -999.000,   -999.0,9,   -999.0,   1.3412,  27.7562
    49MR0505_1,   P03,    56,  1,     12, X12024,2,20051107,1935, 24.2537,-133.2443, 4857,   3251.0,2,   1.5105,2,   1.51048,2,  34.6757,2,  34.6757,2,   122.53,1,   129.65,2,   3250.9,2,   129.74,2,   129.54,2,   165.21,2,     0.48,    37.63,2,     0.14,     0.00,2,     0.01,    2.649,2,    0.017,    0.002,2,    0.004,2,    0.000,2,   2343.1,2,   2422.5,2,   7.5661,2, -999.000,9, -999.000,   -999.0,9,   -999.0,   1.2691,  27.7664
    49MR0505_1,   P03,    56,  1,     11, X12023,2,20051107,1935, 24.2537,-133.2443, 4857,   3499.3,2,   1.4920,2,   1.49191,2,  34.6799,2,  34.6801,2,   128.08,1,   135.33,2,   3499.3,2,   135.19,2,   135.16,2,   163.56,2,     0.48,    37.25,2,     0.14,     0.00,2,     0.01,    2.622,2,    0.017, -999.000,9, -999.000,9, -999.000,9,   2339.8,2,   2426.1,2,   7.5748,2, -999.000,9, -999.000,   -999.0,9,   -999.0,   1.2261,  27.7728
    49MR0505_1,   P03,    56,  1,     10, X12022,2,20051107,1935, 24.2537,-133.2443, 4857,   3750.2,2,   1.4936,2,   1.49342,2,  34.6823,2,  34.6826,2,   131.81,1,   138.97,2,   3750.2,2,   139.11,2,   138.95,2,   162.17,2,     0.48,    37.10,2,     0.14,     0.00,2,     0.01,    2.606,2,    0.016, -999.000,9, -999.000,9, -999.000,9,   2336.2,2,   2423.8,2,   7.5812,2, -999.000,9, -999.000,   -999.0,9,   -999.0,   1.2017,  27.7764
    49MR0505_1,   P03,    56,  1,      9, X12021,2,20051107,1935, 24.2537,-133.2443, 4857,   4937.1,2,   1.4957,2,   1.49553,2,  34.6929,2,  34.6929,2,   156.02,1,   161.61,2,   4937.1,2,   161.14,2,   161.29,2,   145.95,2,     0.44,    35.53,2,     0.13,     0.00,2,     0.01,    2.487,2,    0.016, -999.000,9, -999.000,9, -999.000,9,   2316.5,2,   2409.0,2,   7.6073,2, -999.000,9, -999.000,   -999.0,9,   -999.0,   1.0692,  27.7939
    49MR0505_1,   P03,    56,  1,      8, X12020,2,20051107,1935, 24.2537,-133.2443, 4857,   4249.5,2,   1.5045,2,   1.50441,2,  34.6863,2,  34.6869,2,   139.52,1,   146.15,2,   4249.5,2,   146.55,2,   146.34,2,   157.50,2,     0.47,    36.54,2,     0.14,     0.00,2,     0.01,    2.573,2,    0.016, -999.000,9, -999.000,9, -999.000,9,   2331.8,6,   2420.1,2,   7.5911,2, -999.000,9, -999.000,   -999.0,9,   -999.0,   1.1579,  27.7826
    49MR0505_1,   P03,    56,  1,      7, X12019,2,20051107,1935, 24.2537,-133.2443, 4857,   4500.3,2,   1.5001,2,   1.49993,2,  34.6887,2,  34.6889,2,   145.36,1,   151.76,2,   4500.4,2,   151.66,2,   151.65,2,   153.33,2,     0.46,    36.14,2,     0.13,     0.00,2,     0.01,    2.531,2,    0.016,    0.001,2,    0.004,2,    0.000,2,   2327.3,2,   2416.9,2,   7.5978,2, -999.000,9, -999.000,   -999.0,9,   -999.0,   1.1251,  27.7868
    49MR0505_1,   P03,    56,  1,      6, X12018,2,20051107,1935, 24.2537,-133.2443, 4857,   4750.6,2,   1.4897,2,   1.48968,2,  34.6918,2,  34.6916,2,   152.41,1,   158.34,2,   4750.7,2,   158.28,2,   158.27,2,   148.19,2,     0.45,    35.69,2,     0.13,     0.00,2,     0.01,    2.497,2,    0.016,    0.004,2,    0.006,2,    0.000,2,   2319.2,2,   2410.5,2,   7.6067,2, -999.000,9, -999.000,   -999.0,9,   -999.0,   1.0857,  27.7919
    49MR0505_1,   P03,    56,  1,      5, X12043,9,20051107,1935, 24.2537,-133.2443, 4857,     49.7,2,  21.6345,2,  21.63483,2,  34.7665,2,-999.0000,9,   212.46,1,   223.60,2,     49.2,2,   223.28,2,  -999.00,9,  -999.00,9,  -999.00,  -999.00,9,  -999.00,  -999.00,9,  -999.00, -999.000,9, -999.000, -999.000,9, -999.000,9, -999.000,9,   -999.0,9,   -999.0,9,-999.0000,9, -999.000,9, -999.000,   -999.0,9,   -999.0,  21.6248,  24.1448
    49MR0505_1,   P03,    56,  1,      4, X12010,9,20051107,1935, 24.2537,-133.2443, 4857,      9.6,2,  21.6761,2,  21.67649,2,  34.7679,2,-999.0000,9,   212.59,1,   223.61,2,      7.0,2,   223.74,2,  -999.00,9,  -999.00,9,  -999.00,  -999.00,9,  -999.00,  -999.00,9,  -999.00, -999.000,9, -999.000, -999.000,9, -999.000,9, -999.000,9,   -999.0,9,   -999.0,9,-999.0000,9, -999.000,9, -999.000,   -999.0,9,   -999.0,  21.6742,  24.1322
    49MR0505_1,   P03,    56,  1,      3, X12015,9,20051107,1935, 24.2537,-133.2443, 4857,   2402.0,2,   1.8364,2,   1.83634,2,  34.6484,2,-999.0000,9,    94.76,1,   100.18,2,   2401.6,2,   100.51,2,  -999.00,9,  -999.00,9,  -999.00,  -999.00,9,  -999.00,  -999.00,9,  -999.00, -999.000,9, -999.000, -999.000,9, -999.000,9, -999.000,9,   -999.0,9,   -999.0,9,-999.0000,9, -999.000,9, -999.000,   -999.0,9,   -999.0,   1.6679,  27.7156
    49MR0505_1,   P03,    56,  1,      2, X12014,2,20051107,1935, 24.2537,-133.2443, 4857,   4000.2,2,   1.4981,2,   1.49798,2,  34.6845,2,  34.6843,6,   135.62,1,   142.49,2,   4000.3,2,   142.72,2,   142.64,2,   159.77,2,     0.47,    36.76,2,     0.14,     0.00,2,     0.01,    2.589,2,    0.016, -999.000,9, -999.000,9, -999.000,9,   2336.9,2,   2423.5,2,   7.5867,2, -999.000,9, -999.000,   -999.0,9,   -999.0,   1.1792,  27.7797
    49MR0505_1,   P03,    56,  1,      1, X12013,2,20051107,1935, 24.2537,-133.2443, 4857,   4937.4,2,   1.4957,2,   1.49547,2,  34.6928,2,  34.6929,6,   156.00,1,   161.56,2,   4937.4,2,   161.10,2,   161.20,2,   146.11,2,     0.44,    35.54,2,     0.13,     0.00,2,     0.01,    2.488,2,    0.016,    0.004,2,    0.008,2,    0.000,2,   2315.6,2,   2408.7,2,   7.6082,2, -999.000,9, -999.000,   -999.0,9,   -999.0,   1.0692,  27.7939