BOTTLE,20100316JAMSTECRIGC
EXPOCODE,SECT,STNNBR,CASTNO,SAMPNO,BTLNBR,BTLNBR_FLAG_W,DATE,TIME,LATITUDE,LONGITUDE,DEPTH,CTDPRS,CTDPRS_FLAG_W,CTDTMP,CTDTMP_FLAG_W,SBE35,SBE35_FLAG_W,CTDSAL,CTDSAL_FLAG_W,SALNTY,SALNTY_FLAG_W,CTDOXY,CTDOXY_FLAG_W,OPTOXY,OPTOXY_FLAG_W,DWNPRS,DWNPRS_FLAG_W,DWNOXY,DWNOXY_FLAG_W,OXYGEN,OXYGEN_FLAG_W,SILCAT,SILCAT_FLAG_W,SILUNC,NITRAT,NITRAT_FLAG_W,NRAUNC,NITRIT,NITRIT_FLAG_W,NRIUNC,PHSPHT,PHSPHT_FLAG_W,PHPUNC,CFC-11,CFC-11_FLAG_W,CFC-12,CFC-12_FLAG_W,CFC113,CFC113_FLAG_W,TCARBN,TCARBN_FLAG_W,ALKALI,ALKALI_FLAG_W,PH,PH_FLAG_W,DELC13,DELC13_FLAG_W,C13ERR,DELC14,DELC14_FLAG_W,C14ERR,THETA,SIG0
,,,,,,,,UTC,DEG,DEG,M,DBAR,,ITS-90,,ITS-90,,PSS-78,,PSS-78,,UMOL/KG,,UMOL/KG,,DBAR,,UMOL/KG,,UMOL/KG,,UMOL/KG,,UMOL/KG,UMOL/KG,,UMOL/KG,UMOL/KG,,UMOL/KG,UMOL/KG,,UMOL/KG,PMOL/KG,,PMOL/KG,,PMOL/KG,,UMOL/KG,,UMOL/KG,,,,/MILLE,,/MILLE,/MILLE,,/MILLE,DEG C,KG/CUM
    49MR0505_1,   P03,     6,  1,      0,   -999,9,20051101,0322, 32.5222,-118.0268, 1883,   -999.0,9,-999.0000,9,-999.00000,9,-999.0000,9,  33.3821,2,  -999.00,9,  -999.00,9,   -999.0,9,  -999.00,9,  -999.00,9,  -999.00,9,  -999.00,  -999.00,9,  -999.00,  -999.00,9,  -999.00, -999.000,9, -999.000, -999.000,9, -999.000,9, -999.000,9,   -999.0,9,   -999.0,9,-999.0000,9, -999.000,9, -999.000,   -999.0,9,   -999.0,-999.0000,-999.0000
    49MR0505_1,   P03,     6,  1,     36, X12048,2,20051101,0322, 32.5222,-118.0268, 1883,      9.3,2,  17.7779,2,  17.78015,2,  33.3756,2,  33.3746,2,   240.66,1,   246.86,2,      9.4,2,   245.97,2,   246.83,2,     1.91,2,     0.12,     0.01,2,     0.03,     0.01,2,     0.01,    0.238,2,    0.015,    2.442,2,    1.452,2, -999.000,5,   1981.2,2,   2232.9,2,   7.9865,2, -999.000,9, -999.000,   -999.0,9,   -999.0,  17.7763,  24.0826
    49MR0505_1,   P03,     6,  1,     35, X12047,2,20051101,0322, 32.5222,-118.0268, 1883,     49.7,2,  12.3241,2,  12.32520,2,  33.2994,2,  33.3223,2,   205.90,1,   206.52,2,     53.8,2,   201.64,2,   202.81,2,     9.00,2,     0.14,    10.20,2,     0.06,     0.22,2,     0.01,    1.043,2,    0.013,    3.088,2,    1.705,2,    0.258,4,   2076.2,6,   2219.5,2,   7.7618,2, -999.000,9, -999.000,   -999.0,9,   -999.0,  12.3177,  25.2082
    49MR0505_1,   P03,     6,  1,     34, X12046,2,20051101,0322, 32.5222,-118.0268, 1883,     99.7,2,  10.4551,2,  10.45592,2,  33.7954,2,  33.8074,2,   118.44,1,   120.06,2,    102.3,2,   120.80,2,   118.57,2,    22.97,2,     0.17,    21.82,2,     0.09,     0.02,2,     0.01,    1.869,2,    0.015,    2.755,2,    1.473,2,    0.146,2,   2165.6,2,   2246.9,6,   7.5770,2, -999.000,9, -999.000,   -999.0,9,   -999.0,  10.4434,  25.9355
    49MR0505_1,   P03,     6,  1,     33, X12003,2,20051101,0322, 32.5222,-118.0268, 1883,    149.6,2,   9.6304,2,   9.62975,2,  34.0276,2,  34.0329,2,   100.84,1,   102.61,2,    157.0,2,   107.28,2,   102.33,2,    29.40,2,     0.18,    25.42,2,     0.10,     0.01,2,     0.01,    2.063,2,    0.015,    2.460,2,    1.266,2,    0.083,2,   2193.5,2,   2262.1,2,   7.5417,6, -999.000,9, -999.000,   -999.0,9,   -999.0,   9.6137,  26.2572
    49MR0505_1,   P03,     6,  1,     32, X12044,2,20051101,0322, 32.5222,-118.0268, 1883,    200.9,2,   9.0327,2,   9.03284,2,  34.1171,2,  34.1172,2,    89.25,1,    90.53,2,    202.9,2,    91.58,2,    90.28,2,    34.30,2,     0.19,    27.63,2,     0.11,     0.01,2,     0.01,    2.198,2,    0.016,    2.179,2,    1.106,2,    0.086,2,   2210.4,2,   2269.6,2,   7.5139,2, -999.000,9, -999.000,   -999.0,9,   -999.0,   9.0111,  26.4250
    49MR0505_1,   P03,     6,  1,     31, X12051,2,20051101,0322, 32.5222,-118.0268, 1883,    248.9,2,   8.7273,2,   8.72625,2,  34.1834,2,  34.1822,2,    70.60,1,    71.80,2,    252.2,2,    72.26,2,    71.93,2,    39.38,2,     0.21,    29.49,2,     0.12,     0.01,2,     0.01,    2.373,2,    0.016,    1.769,6,    0.882,2,    0.063,6,   2233.0,2,   2276.1,2,   7.4784,2, -999.000,9, -999.000,   -999.0,9,   -999.0,   8.7010,  26.5258
    49MR0505_1,   P03,     6,  1,     30, X12042,2,20051101,0322, 32.5222,-118.0268, 1883,    300.5,2,   8.1769,2,   8.17614,2,  34.2108,2,  34.2109,2,    55.96,1,    56.54,2,    305.6,2,    57.06,2,    56.41,2,    45.72,2,     0.22,    31.58,2,     0.12,     0.01,2,     0.01,    2.547,2,    0.016,    1.328,2,    0.720,2,    0.047,2,   2249.4,2,   2285.3,2,   7.4419,2, -999.000,9, -999.000,   -999.0,9,   -999.0,   8.1462,  26.6321
    49MR0505_1,   P03,     6,  1,     29, X12041,2,20051101,0322, 32.5222,-118.0268, 1883,    399.5,2,   7.2602,2,   7.26356,2,  34.2327,2,  34.2352,2,    36.69,1,    36.37,2,    400.3,2,    37.07,2,    36.34,2,    57.21,2,     0.24,    34.91,2,     0.13,     0.01,2,     0.01,    2.799,2,    0.017,    0.745,2,    0.366,2,    0.026,2,   2277.6,2,   2296.5,2,   7.4027,2, -999.000,9, -999.000,   -999.0,9,   -999.0,   7.2219,  26.7835
    49MR0505_1,   P03,     6,  1,     28, X12016,2,20051101,0322, 32.5222,-118.0268, 1883,    499.6,2,   6.5327,2,   6.53161,2,  34.2854,2,  34.2854,6,    19.66,1,    19.40,2,    501.0,2,    20.35,2,    19.63,2,    69.52,2,     0.27,    37.74,2,     0.14,     0.01,2,     0.01,    3.021,2,    0.018,    0.295,2,    0.146,2,    0.000,2,   2303.3,2,   2313.9,2,   7.3724,2, -999.000,9, -999.000,   -999.0,9,   -999.0,   6.4872,  26.9250
    49MR0505_1,   P03,     6,  1,     27, X12039,2,20051101,0322, 32.5222,-118.0268, 1883,    599.9,2,   5.9158,2,   5.91560,2,  34.3204,2,  34.3207,2,    12.65,1,    12.27,2,    601.3,2,    13.41,2,    12.82,2,    79.72,2,     0.29,    39.73,2,     0.14,     0.01,2,     0.01,    3.140,2,    0.018,    0.142,2,    0.076,2,    0.000,2,   2319.9,2,   2323.6,2,   7.3526,2, -999.000,9, -999.000,   -999.0,9,   -999.0,   5.8635,  27.0328
    49MR0505_1,   P03,     6,  1,     26, X12038,2,20051101,0322, 32.5222,-118.0268, 1883,    702.9,2,   5.3851,2,   5.38530,2,  34.3703,2,  34.3695,2,    10.40,1,     9.88,2,    702.8,2,    10.69,2,    10.83,2,    89.19,2,     0.32,    41.27,2,     0.15,     0.00,2,     0.01,    3.218,2,    0.018,    0.061,2,    0.029,2,    0.000,2,   2335.6,6,   2334.6,2,   7.3519,2, -999.000,9, -999.000,   -999.0,9,   -999.0,   5.3261,  27.1378
    49MR0505_1,   P03,     6,  1,     25, X12037,2,20051101,0322, 32.5222,-118.0268, 1883,    800.0,2,   4.9338,2,   4.93384,2,  34.4115,2,  34.4110,2,    11.77,1,    11.08,2,    798.8,2,    12.47,2,    12.13,2,    97.61,2,     0.33,    42.28,2,     0.15,     0.01,2,     0.01,    3.249,2,    0.018,    0.035,6,    0.018,6,    0.000,6,   2335.4,3,   2349.2,6,   7.3713,4, -999.000,9, -999.000,   -999.0,9,   -999.0,   4.8688,  27.2237
    49MR0505_1,   P03,     6,  1,     24, X12008,2,20051101,0322, 32.5222,-118.0268, 1883,    901.8,2,   4.4678,2,   4.46774,2,  34.4505,2,  34.4503,2,    15.78,1,    14.91,2,    901.0,2,    16.37,2,    16.64,2,   108.45,2,     0.36,    42.68,2,     0.15,     0.00,2,     0.01,    3.260,2,    0.018,    0.053,2,    0.045,2,    0.014,2,   2353.8,2,   2363.4,2,   7.3644,6, -999.000,9, -999.000,   -999.0,9,   -999.0,   4.3971,  27.3070
    49MR0505_1,   P03,     6,  1,     23, X12035,2,20051101,0322, 32.5222,-118.0268, 1883,   1002.9,2,   4.1122,2,   4.11175,2,  34.4780,2,  34.4777,6,    20.14,1,    19.16,2,   1003.4,2,    20.47,2,    21.12,2,   116.93,2,     0.38,    42.76,2,     0.15,     0.01,2,     0.01,    3.255,2,    0.018,    0.063,2,    0.059,2,    0.026,2,   2360.4,2,   2372.6,2,   7.3717,2, -999.000,9, -999.000,   -999.0,9,   -999.0,   4.0355,  27.3672
    49MR0505_1,   P03,     6,  1,     22, X12034,2,20051101,0322, 32.5222,-118.0268, 1883,   1202.4,2,   3.4809,2,   3.48097,2,  34.5274,2,  34.5274,2,    32.19,1,    31.14,2,   1202.2,2,    32.77,2,    32.80,2,   130.67,2,     0.41,    42.75,2,     0.15,     0.00,2,     0.01,    3.210,2,    0.018,    0.067,2,    0.066,2,    0.027,2,   2370.4,2,   2389.3,2,   7.3944,2, -999.000,9, -999.000,   -999.0,9,   -999.0,   3.3928,  27.4710
    49MR0505_1,   P03,     6,  1,     21, X12033,2,20051101,0322, 32.5222,-118.0268, 1883,   1402.2,2,   3.0694,2,   3.06908,2,  34.5588,2,  34.5585,2,    42.19,1,    41.19,2,   1403.3,2,    42.05,2,    42.22,3,   141.15,2,     0.43,    42.26,2,     0.15,     0.01,2,     0.01,    3.157,2,    0.018,    0.137,2,    0.081,2,    0.028,2,   2376.8,2,   2400.3,2,   7.4133,2, -999.000,9, -999.000,   -999.0,9,   -999.0,   2.9689,  27.5358
    49MR0505_1,   P03,     6,  1,     20, X12032,2,20051101,0322, 32.5222,-118.0268, 1883,   1600.6,2,   2.7389,2,   2.73867,2,  34.5842,2,  34.5847,2,    52.04,1,    51.13,2,   1600.7,2,    52.59,2,    52.61,2,   148.97,2,     0.45,    41.80,2,     0.15,     0.01,2,     0.01,    3.108,2,    0.018,    0.099,2,    0.087,2,    0.028,2,   2377.8,2,   2406.3,2,   7.4326,6, -999.000,9, -999.000,   -999.0,9,   -999.0,   2.6258,  27.5866
    49MR0505_1,   P03,     6,  1,     19, X12001,2,20051101,0322, 32.5222,-118.0268, 1883,   1801.7,2,   2.6321,2,   2.63177,2,  34.5931,2,  34.5936,6,    55.69,1,    54.36,2,   1801.7,2,    56.33,2,    56.34,2,   152.04,2,     0.45,    41.63,2,     0.15,     0.00,2,     0.01,    3.092,2,    0.018,    0.054,2,    0.096,2,    0.036,2,   2377.7,2,   2416.8,2,   7.4393,2, -999.000,9, -999.000,   -999.0,9,   -999.0,   2.5034,  27.6043
    49MR0505_1,   P03,     6,  1,     18, X12030,9,20051101,0322, 32.5222,-118.0268, 1883,      9.2,2,  17.8186,2,  17.82447,2,  33.3771,2,-999.0000,9,   240.33,1,   246.07,2,      9.2,2,   246.11,2,  -999.00,9,  -999.00,9,  -999.00,  -999.00,9,  -999.00,  -999.00,9,  -999.00, -999.000,9, -999.000, -999.000,9, -999.000,9, -999.000,9,   -999.0,9,   -999.0,9,-999.0000,9, -999.000,9, -999.000,   -999.0,9,   -999.0,  17.8171,  24.0739
    49MR0505_1,   P03,     6,  1,     17, X12049,9,20051101,0322, 32.5222,-118.0268, 1883,    149.2,2,   9.6290,2,   9.62891,2,  34.0278,2,-999.0000,9,   100.78,1,   102.61,2,    156.7,2,   107.72,2,  -999.00,9,  -999.00,9,  -999.00,  -999.00,9,  -999.00,  -999.00,9,  -999.00, -999.000,9, -999.000, -999.000,9, -999.000,9, -999.000,9,   -999.0,9,   -999.0,9,-999.0000,9, -999.000,9, -999.000,   -999.0,9,   -999.0,   9.6123,  26.2576
    49MR0505_1,   P03,     6,  1,     16, X12028,9,20051101,0322, 32.5222,-118.0268, 1883,    200.9,2,   9.0336,2,   9.03367,2,  34.1181,2,-999.0000,9,    88.99,1,    90.55,2,    202.9,2,    91.58,2,  -999.00,9,  -999.00,9,  -999.00,  -999.00,9,  -999.00,  -999.00,9,  -999.00, -999.000,9, -999.000, -999.000,9, -999.000,9, -999.000,9,   -999.0,9,   -999.0,9,-999.0000,9, -999.000,9, -999.000,   -999.0,9,   -999.0,   9.0120,  26.4257
    49MR0505_1,   P03,     6,  1,     15, X12006,9,20051101,0322, 32.5222,-118.0268, 1883,    248.7,2,   8.7419,2,   8.74173,2,  34.1841,2,-999.0000,9,    70.46,1,    71.77,2,    251.8,2,    72.17,2,  -999.00,9,  -999.00,9,  -999.00,  -999.00,9,  -999.00,  -999.00,9,  -999.00, -999.000,9, -999.000, -999.000,9, -999.000,9, -999.000,9,   -999.0,9,   -999.0,9,-999.0000,9, -999.000,9, -999.000,   -999.0,9,   -999.0,   8.7156,  26.5240
    49MR0505_1,   P03,     6,  1,     14, X12026,9,20051101,0322, 32.5222,-118.0268, 1883,    300.0,2,   8.1888,2,   8.18892,2,  34.2103,2,-999.0000,9,    56.31,1,    56.75,2,    304.9,2,    57.24,2,  -999.00,9,  -999.00,9,  -999.00,  -999.00,9,  -999.00,  -999.00,9,  -999.00, -999.000,9, -999.000, -999.000,9, -999.000,9, -999.000,9,   -999.0,9,   -999.0,9,-999.0000,9, -999.000,9, -999.000,   -999.0,9,   -999.0,   8.1582,  26.6300
    49MR0505_1,   P03,     6,  1,     13, X12025,9,20051101,0322, 32.5222,-118.0268, 1883,    399.9,2,   7.2645,2,   7.26180,2,  34.2338,2,-999.0000,9,    36.50,1,    36.56,2,    400.5,2,    37.03,2,  -999.00,9,  -999.00,9,  -999.00,  -999.00,9,  -999.00,  -999.00,9,  -999.00, -999.000,9, -999.000, -999.000,9, -999.000,9, -999.000,9,   -999.0,9,   -999.0,9,-999.0000,9, -999.000,9, -999.000,   -999.0,9,   -999.0,   7.2262,  26.7838
    49MR0505_1,   P03,     6,  1,     12, X12024,9,20051101,0322, 32.5222,-118.0268, 1883,    499.7,2,   6.5298,2,   6.53051,2,  34.2856,2,-999.0000,9,    19.62,1,    19.38,2,    501.2,2,    20.35,2,  -999.00,9,  -999.00,9,  -999.00,  -999.00,9,  -999.00,  -999.00,9,  -999.00, -999.000,9, -999.000, -999.000,9, -999.000,9, -999.000,9,   -999.0,9,   -999.0,9,-999.0000,9, -999.000,9, -999.000,   -999.0,9,   -999.0,   6.4843,  26.9255
    49MR0505_1,   P03,     6,  1,     11, X12023,9,20051101,0322, 32.5222,-118.0268, 1883,    600.0,2,   5.9148,2,   5.91416,2,  34.3207,2,-999.0000,9,    12.64,1,    12.25,2,    601.4,2,    13.41,2,  -999.00,9,  -999.00,9,  -999.00,  -999.00,9,  -999.00,  -999.00,9,  -999.00, -999.000,9, -999.000, -999.000,9, -999.000,9, -999.000,9,   -999.0,9,   -999.0,9,-999.0000,9, -999.000,9, -999.000,   -999.0,9,   -999.0,   5.8625,  27.0332
    49MR0505_1,   P03,     6,  1,     10, X12022,9,20051101,0322, 32.5222,-118.0268, 1883,    703.8,2,   5.3833,2,   5.38357,2,  34.3706,2,-999.0000,9,    10.41,1,     9.88,2,    703.6,2,    10.69,2,  -999.00,9,  -999.00,9,  -999.00,  -999.00,9,  -999.00,  -999.00,9,  -999.00, -999.000,9, -999.000, -999.000,9, -999.000,9, -999.000,9,   -999.0,9,   -999.0,9,-999.0000,9, -999.000,9, -999.000,   -999.0,9,   -999.0,   5.3243,  27.1383
    49MR0505_1,   P03,     6,  1,      9, X12021,9,20051101,0322, 32.5222,-118.0268, 1883,    800.0,2,   4.9340,2,   4.93364,2,  34.4113,2,-999.0000,9,    11.78,1,    11.08,2,    798.8,2,    12.47,2,  -999.00,9,  -999.00,9,  -999.00,  -999.00,9,  -999.00,  -999.00,9,  -999.00, -999.000,9, -999.000, -999.000,9, -999.000,9, -999.000,9,   -999.0,9,   -999.0,9,-999.0000,9, -999.000,9, -999.000,   -999.0,9,   -999.0,   4.8690,  27.2235
    49MR0505_1,   P03,     6,  1,      8, X12020,9,20051101,0322, 32.5222,-118.0268, 1883,    901.9,2,   4.4666,2,   4.46563,2,  34.4506,2,-999.0000,9,    15.79,1,    14.90,2,    901.0,2,    16.37,2,  -999.00,9,  -999.00,9,  -999.00,  -999.00,9,  -999.00,  -999.00,9,  -999.00, -999.000,9, -999.000, -999.000,9, -999.000,9, -999.000,9,   -999.0,9,   -999.0,9,-999.0000,9, -999.000,9, -999.000,   -999.0,9,   -999.0,   4.3959,  27.3072
    49MR0505_1,   P03,     6,  1,      7, X12019,9,20051101,0322, 32.5222,-118.0268, 1883,   1003.3,2,   4.1101,2,   4.11002,2,  34.4783,2,-999.0000,9,    20.16,1,    19.14,2,   1003.9,2,    20.48,2,  -999.00,9,  -999.00,9,  -999.00,  -999.00,9,  -999.00,  -999.00,9,  -999.00, -999.000,9, -999.000, -999.000,9, -999.000,9, -999.000,9,   -999.0,9,   -999.0,9,-999.0000,9, -999.000,9, -999.000,   -999.0,9,   -999.0,   4.0334,  27.3677
    49MR0505_1,   P03,     6,  1,      6, X12018,9,20051101,0322, 32.5222,-118.0268, 1883,   1202.7,2,   3.4804,2,   3.48017,2,  34.5273,2,-999.0000,9,    32.23,1,    31.15,2,   1202.5,2,    32.77,2,  -999.00,9,  -999.00,9,  -999.00,  -999.00,9,  -999.00,  -999.00,9,  -999.00, -999.000,9, -999.000, -999.000,9, -999.000,9, -999.000,9,   -999.0,9,   -999.0,9,-999.0000,9, -999.000,9, -999.000,   -999.0,9,   -999.0,   3.3923,  27.4709
    49MR0505_1,   P03,     6,  1,      5, X12043,9,20051101,0322, 32.5222,-118.0268, 1883,   1403.3,2,   3.0669,2,   3.06684,2,  34.5592,2,-999.0000,9,    42.24,1,    41.22,2,   1404.5,2,    42.08,2,  -999.00,9,  -999.00,9,  -999.00,  -999.00,9,  -999.00,  -999.00,9,  -999.00, -999.000,9, -999.000, -999.000,9, -999.000,9, -999.000,9,   -999.0,9,   -999.0,9,-999.0000,9, -999.000,9, -999.000,   -999.0,9,   -999.0,   2.9664,  27.5363
    49MR0505_1,   P03,     6,  1,      4, X12010,9,20051101,0322, 32.5222,-118.0268, 1883,   1600.6,2,   2.7386,2,   2.73816,2,  34.5842,2,-999.0000,9,    52.04,1,    51.07,2,   1600.7,2,    52.59,2,  -999.00,9,  -999.00,9,  -999.00,  -999.00,9,  -999.00,  -999.00,9,  -999.00, -999.000,9, -999.000, -999.000,9, -999.000,9, -999.000,9,   -999.0,9,   -999.0,9,-999.0000,9, -999.000,9, -999.000,   -999.0,9,   -999.0,   2.6255,  27.5866
    49MR0505_1,   P03,     6,  1,      3, X12015,9,20051101,0322, 32.5222,-118.0268, 1883,   1801.4,2,   2.6321,2,   2.63173,2,  34.5932,2,-999.0000,9,    55.67,1,    54.40,2,   1801.5,2,    56.33,2,  -999.00,9,  -999.00,9,  -999.00,  -999.00,9,  -999.00,  -999.00,9,  -999.00, -999.000,9, -999.000, -999.000,9, -999.000,9, -999.000,9,   -999.0,9,   -999.0,9,-999.0000,9, -999.000,9, -999.000,   -999.0,9,   -999.0,   2.5034,  27.6043
    49MR0505_1,   P03,     6,  1,      2, X12014,9,20051101,0322, 32.5222,-118.0268, 1883,   1866.9,2,   2.6173,2,   2.61694,2,  34.5944,2,-999.0000,9,    56.92,1,    55.26,2,   1866.9,2,    57.37,2,  -999.00,9,  -999.00,9,  -999.00,  -999.00,9,  -999.00,  -999.00,9,  -999.00, -999.000,9, -999.000, -999.000,9, -999.000,9, -999.000,9,   -999.0,9,   -999.0,9,-999.0000,9, -999.000,9, -999.000,   -999.0,9,   -999.0,   2.4832,  27.6070
    49MR0505_1,   P03,     6,  1,      1, X12013,2,20051101,0322, 32.5222,-118.0268, 1883,   1866.6,2,   2.6167,2,   2.61639,2,  34.5945,2,  34.5948,6,    56.89,1,    55.26,2,   1866.6,2,    57.38,2,    57.33,2,   151.65,2,     0.45,    41.58,2,     0.15,     0.01,2,     0.01,    3.081,2,    0.018,    0.045,2,    0.082,2,    0.042,2,   2375.6,2,   2413.6,2,   7.4444,2, -999.000,9, -999.000,   -999.0,9,   -999.0,   2.4827,  27.6071