BOTTLE,20100316JAMSTECRIGC
EXPOCODE,SECT,STNNBR,CASTNO,SAMPNO,BTLNBR,BTLNBR_FLAG_W,DATE,TIME,LATITUDE,LONGITUDE,DEPTH,CTDPRS,CTDPRS_FLAG_W,CTDTMP,CTDTMP_FLAG_W,SBE35,SBE35_FLAG_W,CTDSAL,CTDSAL_FLAG_W,SALNTY,SALNTY_FLAG_W,CTDOXY,CTDOXY_FLAG_W,OPTOXY,OPTOXY_FLAG_W,DWNPRS,DWNPRS_FLAG_W,DWNOXY,DWNOXY_FLAG_W,OXYGEN,OXYGEN_FLAG_W,SILCAT,SILCAT_FLAG_W,SILUNC,NITRAT,NITRAT_FLAG_W,NRAUNC,NITRIT,NITRIT_FLAG_W,NRIUNC,PHSPHT,PHSPHT_FLAG_W,PHPUNC,CFC-11,CFC-11_FLAG_W,CFC-12,CFC-12_FLAG_W,CFC113,CFC113_FLAG_W,TCARBN,TCARBN_FLAG_W,ALKALI,ALKALI_FLAG_W,PH,PH_FLAG_W,DELC13,DELC13_FLAG_W,C13ERR,DELC14,DELC14_FLAG_W,C14ERR,THETA,SIG0
,,,,,,,,UTC,DEG,DEG,M,DBAR,,ITS-90,,ITS-90,,PSS-78,,PSS-78,,UMOL/KG,,UMOL/KG,,DBAR,,UMOL/KG,,UMOL/KG,,UMOL/KG,,UMOL/KG,UMOL/KG,,UMOL/KG,UMOL/KG,,UMOL/KG,UMOL/KG,,UMOL/KG,PMOL/KG,,PMOL/KG,,PMOL/KG,,UMOL/KG,,UMOL/KG,,,,/MILLE,,/MILLE,/MILLE,,/MILLE,DEG C,KG/CUM
    49MR0505_1,   P03,    90,  1,      0,   -999,9,20051114,0102, 24.2763,-147.6980, 5530,   -999.0,9,-999.0000,9,-999.00000,9,-999.0000,9,  35.2816,2,  -999.00,9,  -999.00,9,   -999.0,9,  -999.00,9,  -999.00,9,  -999.00,9,  -999.00,  -999.00,9,  -999.00,  -999.00,9,  -999.00, -999.000,9, -999.000, -999.000,9, -999.000,9, -999.000,9,   -999.0,9,   -999.0,9,-999.0000,9, -999.000,9, -999.000,   -999.0,9,   -999.0,-999.0000,-999.0000
    49MR0505_1,   P03,    90,  1,     36, X12048,2,20051114,0102, 24.2763,-147.6980, 5530,     10.7,2,  23.9549,2,  23.95578,2,  35.2856,2,  35.2863,2,   199.34,1,   212.61,2,     14.8,2,   213.20,2,   212.93,2,     0.81,2,     0.12,     0.06,2,     0.03,     0.00,2,     0.01,    0.058,2,    0.031,    1.776,2,    1.082,2, -999.000,5,   1995.0,2,   2323.9,2,   8.0841,6,    1.133,2,    0.005,     71.8,2,      3.8,  23.9527,  23.8716
    49MR0505_1,   P03,    90,  1,     35, X12047,2,20051114,0102, 24.2763,-147.6980, 5530,     49.7,2,  23.9434,2,  23.94325,2,  35.3025,2,  35.3040,2,   199.33,1,   212.59,2,     53.1,2,   213.07,2,   213.02,2,     0.85,2,     0.12,     0.05,2,     0.03,     0.00,2,     0.01,    0.060,2,    0.030,    1.784,2,    1.081,2, -999.000,5,   1997.6,6,   2322.8,2,   8.0844,2,    1.181,2,    0.002,     73.7,2,      3.6,  23.9330,  23.8903
    49MR0505_1,   P03,    90,  1,     34, X12046,2,20051114,0102, 24.2763,-147.6980, 5530,    101.3,2,  21.7288,2,  21.73226,2,  35.2154,2,  35.2136,2,   200.68,1,   214.12,2,    104.3,2,   214.14,2,   214.14,2,     1.21,2,     0.12,     0.04,2,     0.03,     0.00,2,     0.01,    0.072,2,    0.027,    2.052,2,    1.215,2, -999.000,5,   2017.6,2,   2314.7,6,   8.0414,2,    1.033,2,    0.003,     71.4,2,      3.8,  21.7089,  24.4628
    49MR0505_1,   P03,    90,  1,     33, X12003,2,20051114,0102, 24.2763,-147.6980, 5530,    150.7,2,  19.1882,2,  19.19093,2,  34.9582,2,  34.9534,2,   198.66,1,   211.73,2,    154.0,2,   210.83,2,   212.03,2,     2.05,2,     0.12,     0.69,2,     0.03,     0.11,2,     0.01,    0.138,2,    0.019,    2.314,2,    1.336,2, -999.000,5,   2029.1,2,   2296.6,2,   7.9923,2,    0.836,2,    0.004,     86.7,2,      3.7,  19.1612,  24.9480
    49MR0505_1,   P03,    90,  1,     32, X12044,2,20051114,0102, 24.2763,-147.6980, 5530,    201.0,2,  15.7769,2,  15.78364,2,  34.5364,2,  34.5492,2,   193.57,1,   205.90,2,    212.9,2,   206.89,2,   206.22,2,     4.32,2,     0.13,     4.41,2,     0.05,     0.01,2,     0.01,    0.403,2,    0.013,    2.691,2,    1.484,2,    0.132,4,   2045.5,2,   2272.0,2,   7.9202,2,    0.661,6,    0.004,     84.0,6,      4.3,  15.7455,  25.4487
    49MR0505_1,   P03,    90,  1,     31, X12051,2,20051114,0102, 24.2763,-147.6980, 5530,    250.4,2,  13.3493,2,  13.35120,2,  34.3022,2,  34.2983,2,   200.61,1,   213.51,2,    255.2,2,   213.52,2,   213.48,2,     7.49,2,     0.14,     8.05,2,     0.06,     0.00,2,     0.01,    0.639,2,    0.013,    2.999,6,    1.593,6,    0.087,6,   2058.9,2,   2257.5,2,   7.8700,2,    0.420,2,    0.004,     81.5,2,      3.9,  13.3144,  25.7890
    49MR0505_1,   P03,    90,  1,     30, X12042,2,20051114,0102, 24.2763,-147.6980, 5530,    300.4,2,  11.5792,2,  11.57971,2,  34.1645,2,  34.1649,2,   198.63,1,   211.40,2,    304.9,2,   213.48,2,   211.37,2,    11.80,2,     0.14,    11.79,2,     0.07,     0.00,2,     0.01,    0.890,2,    0.013,    3.230,2,    1.665,2,    0.092,2,   2080.0,2,   2253.2,2,   7.8203,2,    0.324,2,    0.003,     70.5,2,      3.5,  11.5411,  26.0262
    49MR0505_1,   P03,    90,  1,     29, X12041,2,20051114,0102, 24.2763,-147.6980, 5530,    400.9,2,   9.3007,2,   9.30077,2,  34.1038,2,  34.1040,2,   176.10,1,   186.83,2,    398.0,2,   186.29,2,   187.16,2,    23.97,2,     0.17,    19.12,2,     0.09,     0.00,2,     0.01,    1.387,2,    0.014,    3.128,2,    1.541,2,    0.078,2,   2126.6,2,   2266.6,2,   7.7219,2,    0.256,2,    0.004,     37.1,2,      3.7,   9.2563,  26.3752
    49MR0505_1,   P03,    90,  1,     28, X12016,2,20051114,0102, 24.2763,-147.6980, 5530,    500.4,2,   7.0590,2,   7.05789,2,  34.0274,2,  34.0279,6,   119.27,1,   126.23,2,    490.3,2,   117.63,2,   123.97,2,    47.48,2,     0.22,    29.67,2,     0.12,     0.00,2,     0.01,    2.154,2,    0.015, -999.000,5, -999.000,5, -999.000,5,   2205.9,2,   2273.9,2,   7.5527,2,   -0.075,2,    0.003,    -24.5,2,      3.7,   7.0116,  26.6510
    49MR0505_1,   P03,    90,  1,     27, X12039,2,20051114,0102, 24.2763,-147.6980, 5530,    599.2,2,   5.5911,2,   5.59079,2,  34.0777,2,  34.0777,2,    57.39,1,    61.18,2,    589.5,2,    49.89,2,    61.15,2,    71.92,2,     0.28,    37.58,2,     0.14,     0.00,2,     0.01,    2.760,2,    0.017, -999.000,5, -999.000,5, -999.000,5,   2274.9,2,   2299.7,2,   7.4013,2,   -0.341,2,    0.005,   -102.2,2,      3.4,   5.5406,  26.8805
    49MR0505_1,   P03,    90,  1,     26, X12038,2,20051114,0102, 24.2763,-147.6980, 5530,    699.4,2,   4.9015,2,   4.90141,2,  34.2132,2,  34.2147,2,    21.64,1,    23.26,2,    691.6,2,    20.72,2,    22.74,2,    91.49,2,     0.32,    41.76,2,     0.15,     0.00,2,     0.01,    3.102,2,    0.018, -999.000,5, -999.000,5, -999.000,5,   2321.0,6,   2322.6,2,   7.3489,2,   -0.441,2,    0.004,   -140.4,2,      3.4,   4.8456,  27.0690
    49MR0505_1,   P03,    90,  1,     25, X12037,2,20051114,0102, 24.2763,-147.6980, 5530,    800.0,2,   4.5451,2,   4.54504,2,  34.3334,2,  34.3343,2,    17.46,1,    19.04,2,    791.5,2,    20.70,2,    18.52,2,   101.46,2,     0.34,    42.98,2,     0.15,     0.00,2,     0.01,    3.177,2,    0.018, -999.000,5, -999.000,5, -999.000,5,   2338.3,2,   2342.6,6,   7.3554,2,   -0.431,2,    0.003,   -167.1,2,      3.2,   4.4826,  27.2047
    49MR0505_1,   P03,    90,  1,     24, X12008,2,20051114,0102, 24.2763,-147.6980, 5530,    899.8,2,   4.2927,2,   4.29218,2,  34.4192,2,  34.4196,2,    25.44,1,    27.45,2,    895.3,2,    30.25,2,    27.26,2,   106.55,2,     0.35,    43.03,2,     0.15,     0.00,2,     0.01,    3.159,2,    0.018, -999.000,5, -999.000,5, -999.000,5,   2343.5,2,   2356.7,2,   7.3803,6,   -0.342,2,    0.002,   -192.0,2,      3.0,   4.2234,  27.3007
    49MR0505_1,   P03,    90,  1,     23, X12035,2,20051114,0102, 24.2763,-147.6980, 5530,   1000.6,2,   4.0029,2,   4.00297,2,  34.4720,2,  34.4718,6,    35.10,1,    37.49,2,    998.2,2,    38.82,2,    37.41,2,   111.99,2,     0.37,    42.68,2,     0.15,     0.00,2,     0.01,    3.111,2,    0.018,    0.002,2,    0.000,2,    0.000,2,   2344.5,2,   2365.3,2,   7.4023,2,   -0.303,2,    0.005,   -201.7,2,      3.0,   3.9272,  27.3736
    49MR0505_1,   P03,    90,  1,     22, X12034,2,20051114,0102, 24.2763,-147.6980, 5530,   1200.5,2,   3.4300,2,   3.43039,2,  34.5279,2,  34.5278,2,    47.20,1,    50.43,2,   1201.6,2,    50.03,2,    50.57,2,   124.06,2,     0.39,    42.21,2,     0.15,     0.00,2,     0.01,    3.070,2,    0.018,    0.000,2,    0.000,2,    0.000,2,   2350.6,2,   2382.0,2,   7.4293,2,   -0.347,2,    0.003,   -212.3,2,      3.0,   3.3426,  27.4762
    49MR0505_1,   P03,    90,  1,     21, X12033,2,20051114,0102, 24.2763,-147.6980, 5530,   1399.6,2,   3.0355,2,   3.03551,2,  34.5560,2,  34.5562,2,    55.74,1,    59.79,2,   1399.5,2,    59.94,2,    59.77,2,   132.91,2,     0.41,    41.76,2,     0.15,     0.00,2,     0.01,    3.029,2,    0.018,    0.000,2,    0.000,2,    0.000,2,   2355.1,2,   2389.4,2,   7.4432,2,   -0.227,2,    0.005,   -232.4,2,      3.1,   2.9356,  27.5365
    49MR0505_1,   P03,    90,  1,     20, X12032,2,20051114,0102, 24.2763,-147.6980, 5530,   1601.2,2,   2.6784,2,   2.67863,2,  34.5824,2,  34.5827,2,    64.04,1,    68.93,2,   1601.1,2,    68.86,2,    68.87,2,   141.08,2,     0.43,    41.45,2,     0.15,     0.00,2,     0.01,    2.993,2,    0.017,    0.000,2,    0.001,2,    0.000,2,   2357.3,2,   2400.9,2,   7.4581,6,   -0.208,2,    0.003,   -236.4,2,      2.9,   2.5660,  27.5903
    49MR0505_1,   P03,    90,  1,     19, X12001,2,20051114,0102, 24.2763,-147.6980, 5530,   1801.2,2,   2.3837,2,   2.38382,2,  34.6002,2,  34.6007,2,    71.82,1,    77.56,2,   1800.7,2,    77.10,2,    77.36,2,   148.17,2,     0.44,    40.87,2,     0.15,     0.00,2,     0.01,    2.936,2,    0.017,    0.000,2,    0.002,2,    0.000,2,   2359.3,2,   2412.9,3,   7.4721,2,   -0.208,2,    0.003,   -238.2,2,      3.0,   2.2584,  27.6305
    49MR0505_1,   P03,    90,  1,     18, X12030,2,20051114,0102, 24.2763,-147.6980, 5530,   2000.2,2,   2.1376,2,   2.13779,2,  34.6172,2,  34.6174,2,    78.51,1,    84.87,2,   1999.2,2,    85.62,2,    84.82,2,   154.85,2,     0.46,    40.49,2,     0.15,     0.00,2,     0.01,    2.893,2,    0.017,    0.000,2,    0.000,2,    0.000,2,   2361.6,2,   2412.8,2,   7.4859,2,   -0.186,2,    0.003,   -240.1,2,      3.0,   1.9991,  27.6651
    49MR0505_1,   P03,    90,  1,     17, X12049,2,20051114,0102, 24.2763,-147.6980, 5530,   2201.8,2,   1.9178,2,   1.91828,2,  34.6327,2,  34.6328,2,    85.19,1,    92.35,2,   2202.2,2,    90.71,2,    92.01,2,   161.92,2,     0.48,    40.09,2,     0.15,     0.00,2,     0.01,    2.854,2,    0.017,    0.002,2,    0.000,2,    0.000,2,   2359.7,2,   2417.4,2,   7.4978,2,   -0.165,2,    0.003,   -239.6,2,      2.9,   1.7655,  27.6956
    49MR0505_1,   P03,    90,  1,     16, X12028,2,20051114,0102, 24.2763,-147.6980, 5530,   2401.8,2,   1.7540,2,   1.75419,2,  34.6468,2,  34.6466,2,    93.21,1,   101.27,2,   2402.7,2,    99.74,2,   101.03,2,   165.88,2,     0.48,    39.49,2,     0.14,     0.00,2,     0.01,    2.807,2,    0.017, -999.000,9, -999.000,9, -999.000,9,   2359.8,6,   2420.4,2,   7.5131,2,   -0.145,2,    0.005,   -241.5,2,      3.0,   1.5871,  27.7203
    49MR0505_1,   P03,    90,  1,     15, X12006,2,20051114,0102, 24.2763,-147.6980, 5530,   2601.7,2,   1.6613,2,   1.66149,2,  34.6566,2,  34.6567,2,   101.48,1,   110.20,2,   2602.7,2,   108.39,2,   110.19,2,   165.59,2,     0.48,    38.93,2,     0.14,     0.00,2,     0.01,    2.757,2,    0.017, -999.000,9, -999.000,9, -999.000,9,   2354.5,2,   2421.4,6,   7.5297,2,   -0.111,2,    0.007,   -235.4,2,      2.8,   1.4782,  27.7362
    49MR0505_1,   P03,    90,  1,     14, X12026,2,20051114,0102, 24.2763,-147.6980, 5530,   2802.9,2,   1.6012,2,   1.60153,2,  34.6637,2,  34.6636,6,   107.49,1,   116.86,2,   2803.3,2,   116.21,2,   116.64,2,   165.63,2,     0.48,    38.48,2,     0.14,     0.00,2,     0.01,    2.720,2,    0.017,    0.002,2,    0.000,2,    0.000,2,   2352.9,2,   2423.8,2,   7.5413,6,   -0.077,2,    0.004,   -253.8,3,      2.9,   1.4008,  27.7475
    49MR0505_1,   P03,    90,  1,     13, X12025,2,20051114,0102, 24.2763,-147.6980, 5530,   3002.5,2,   1.5482,2,   1.54815,2,  34.6700,2,  34.6701,2,   113.58,1,   123.55,2,   3002.9,2,   122.62,2,   123.47,2,   165.03,2,     0.48,    38.04,2,     0.14,     0.00,2,     0.01,    2.682,2,    0.017, -999.000,9, -999.000,9, -999.000,9,   2348.0,2,   2425.2,2,   7.5536,2,   -0.009,6,    0.011,   -238.5,6,      5.4,   1.3301,  27.7575
    49MR0505_1,   P03,    90,  1,     12, X12024,2,20051114,0102, 24.2763,-147.6980, 5530,   3253.4,2,   1.5058,2,   1.50590,2,  34.6760,2,  34.6762,2,   120.56,1,   131.12,2,   3253.5,2,   131.19,2,   131.08,2,   163.27,2,     0.48,    37.53,2,     0.14,     0.00,2,     0.01,    2.643,2,    0.017,    0.000,2,    0.000,2,    0.000,2,   2343.1,2,   2425.0,2,   7.5668,2,    0.033,2,    0.003,   -231.4,2,      3.0,   1.2643,  27.7670
    49MR0505_1,   P03,    90,  1,     11, X12023,2,20051114,0102, 24.2763,-147.6980, 5530,   3501.3,2,   1.4800,2,   1.48007,2,  34.6809,2,  34.6809,2,   126.94,1,   137.85,2,   3501.5,2,   137.50,2,   138.06,2,   160.85,2,     0.47,    37.07,2,     0.14,     0.00,2,     0.01,    2.605,2,    0.016, -999.000,9, -999.000,9, -999.000,9,   2337.6,2,   2423.7,2,   7.5771,2,    0.020,2,    0.001,   -235.6,2,      2.9,   1.2142,  27.7744
    49MR0505_1,   P03,    90,  1,     10, X12022,2,20051114,0102, 24.2763,-147.6980, 5530,   3752.5,2,   1.4665,2,   1.46673,2,  34.6841,2,  34.6841,2,   131.89,1,   142.93,2,   3752.5,2,   143.38,2,   143.28,2,   158.74,2,     0.47,    36.79,2,     0.14,     0.00,2,     0.01,    2.581,2,    0.016, -999.000,9, -999.000,9, -999.000,9,   2333.4,2,   2420.9,2,   7.5852,2,    0.100,2,    0.005,   -225.6,2,      2.9,   1.1750,  27.7797
    49MR0505_1,   P03,    90,  1,      9, X12021,2,20051114,0102, 24.2763,-147.6980, 5530,   4001.5,2,   1.4666,2,   1.46672,2,  34.6866,2,  34.6864,6,   135.87,1,   146.99,2,   4001.5,2,   147.68,2,   147.39,2,   156.31,2,     0.46,    36.51,2,     0.14,     0.00,2,     0.01,    2.557,2,    0.016,    0.004,2,    0.003,2,    0.000,2,   2330.2,2,   2426.3,2,   7.5910,2,    0.124,2,    0.005,   -214.9,2,      2.8,   1.1485,  27.7835
    49MR0505_1,   P03,    90,  1,      8, X12020,2,20051114,0102, 24.2763,-147.6980, 5530,   4252.0,2,   1.4758,2,   1.47592,2,  34.6884,2,  34.6880,2,   139.23,1,   150.23,2,   4252.1,2,   150.69,2,   150.67,2,   154.27,2,     0.46,    36.20,2,     0.13,     0.00,2,     0.01,    2.537,2,    0.016, -999.000,9, -999.000,9, -999.000,9,   2328.2,6,   2420.8,2,   7.5963,2,    0.142,2,    0.005,   -214.1,2,      3.0,   1.1297,  27.7862
    49MR0505_1,   P03,    90,  1,      7, X12019,2,20051114,0102, 24.2763,-147.6980, 5530,   4500.1,2,   1.4846,2,   1.48486,2,  34.6901,2,  34.6898,2,   142.96,1,   153.83,2,   4500.2,2,   154.29,2,   154.18,2,   151.44,2,     0.45,    35.95,2,     0.13,     0.00,2,     0.01,    2.520,2,    0.016,    0.001,2,    0.002,2,    0.000,2,   2324.6,2,   2417.4,6,   7.6007,2,    0.170,2,    0.004,   -224.6,2,      2.9,   1.1101,  27.7889
    49MR0505_1,   P03,    90,  1,      6, X12018,2,20051114,0102, 24.2763,-147.6980, 5530,   4749.7,2,   1.4899,2,   1.48996,2,  34.6918,2,  34.6918,2,   147.34,1,   158.09,2,   4749.6,2,   158.84,2,   158.66,2,   148.24,2,     0.45,    35.65,2,     0.13,     0.00,2,     0.01,    2.498,2,    0.016, -999.000,9, -999.000,9, -999.000,9,   2321.1,2,   2414.6,2,   7.6053,6,    0.187,2,    0.006,   -217.2,2,      3.1,   1.0860,  27.7919
    49MR0505_1,   P03,    90,  1,      5, X12043,2,20051114,0102, 24.2763,-147.6980, 5530,   5001.8,2,   1.4927,2,   1.49306,2,  34.6939,2,  34.6936,6,   151.87,1,   162.31,2,   5001.7,2,   162.92,2,   162.72,2,   144.68,2,     0.44,    35.38,2,     0.13,     0.00,2,     0.01,    2.475,2,    0.016,    0.006,2,    0.002,2,    0.000,2,   2315.1,2,   2410.4,2,   7.6095,2,    0.225,2,    0.003,   -217.8,2,      3.0,   1.0585,  27.7955
    49MR0505_1,   P03,    90,  1,      4, X12010,2,20051114,0102, 24.2763,-147.6980, 5530,   5250.6,2,   1.5016,2,   1.50183,2,  34.6950,2,  34.6950,2,   155.59,1,   165.56,2,   5250.7,2,   165.97,2,   166.09,2,   142.16,2,     0.43,    35.19,2,     0.13,     0.00,2,     0.01,    2.454,2,    0.016, -999.000,9, -999.000,9, -999.000,9,   2310.6,2,   2408.0,2,   7.6113,2,    0.207,2,    0.003,   -206.1,2,      3.0,   1.0364,  27.7978
    49MR0505_1,   P03,    90,  1,      3, X12015,2,20051114,0102, 24.2763,-147.6980, 5530,   5499.6,2,   1.5203,2,   1.52052,2,  34.6957,2,  34.6957,2,   158.36,1,   167.63,2,   5499.6,2,   167.71,2,   167.87,2,   140.81,2,     0.43,    34.99,2,     0.13,     0.00,2,     0.01,    2.440,2,    0.016,    0.004,2,    0.001,2,    0.000,2,   2309.8,2,   2404.0,2,   7.6139,2,    0.254,2,    0.003,   -216.3,3,      3.0,   1.0230,  27.7993
    49MR0505_1,   P03,    90,  1,      2, X12014,9,20051114,0102, 24.2763,-147.6980, 5530,     10.7,2,  23.9533,2,  23.95462,2,  35.2859,2,-999.0000,9,   199.17,1,   213.51,2,     14.9,2,   213.17,2,  -999.00,9,  -999.00,9,  -999.00,  -999.00,9,  -999.00,  -999.00,9,  -999.00, -999.000,9, -999.000, -999.000,9, -999.000,9, -999.000,9,   -999.0,9,   -999.0,9,-999.0000,9, -999.000,9, -999.000,   -999.0,9,   -999.0,  23.9511,  23.8723
    49MR0505_1,   P03,    90,  1,      1, X12013,2,20051114,0102, 24.2763,-147.6980, 5530,   5666.1,2,   1.5380,2,   1.53821,2,  34.6960,2,  34.6961,6,   160.00,1,   168.75,2,   5666.1,2,   167.91,2,   168.53,2,   140.40,2,     0.43,    34.95,2,     0.13,     0.00,2,     0.01,    2.439,2,    0.016,    0.001,2,    0.000,2,    0.000,2,   2307.8,2,   2404.0,2,   7.6155,2,    0.247,2,    0.003,   -195.9,2,      3.2,   1.0186,  27.7998