BOTTLE,20100316JAMSTECRIGC
EXPOCODE,SECT,STNNBR,CASTNO,SAMPNO,BTLNBR,BTLNBR_FLAG_W,DATE,TIME,LATITUDE,LONGITUDE,DEPTH,CTDPRS,CTDPRS_FLAG_W,CTDTMP,CTDTMP_FLAG_W,SBE35,SBE35_FLAG_W,CTDSAL,CTDSAL_FLAG_W,SALNTY,SALNTY_FLAG_W,CTDOXY,CTDOXY_FLAG_W,OPTOXY,OPTOXY_FLAG_W,DWNPRS,DWNPRS_FLAG_W,DWNOXY,DWNOXY_FLAG_W,OXYGEN,OXYGEN_FLAG_W,SILCAT,SILCAT_FLAG_W,SILUNC,NITRAT,NITRAT_FLAG_W,NRAUNC,NITRIT,NITRIT_FLAG_W,NRIUNC,PHSPHT,PHSPHT_FLAG_W,PHPUNC,CFC-11,CFC-11_FLAG_W,CFC-12,CFC-12_FLAG_W,CFC113,CFC113_FLAG_W,TCARBN,TCARBN_FLAG_W,ALKALI,ALKALI_FLAG_W,PH,PH_FLAG_W,DELC13,DELC13_FLAG_W,C13ERR,DELC14,DELC14_FLAG_W,C14ERR,THETA,SIG0
,,,,,,,,UTC,DEG,DEG,M,DBAR,,ITS-90,,ITS-90,,PSS-78,,PSS-78,,UMOL/KG,,UMOL/KG,,DBAR,,UMOL/KG,,UMOL/KG,,UMOL/KG,,UMOL/KG,UMOL/KG,,UMOL/KG,UMOL/KG,,UMOL/KG,UMOL/KG,,UMOL/KG,PMOL/KG,,PMOL/KG,,PMOL/KG,,UMOL/KG,,UMOL/KG,,,,/MILLE,,/MILLE,/MILLE,,/MILLE,DEG C,KG/CUM
    49MR0505_1,   P03,    50,  1,      0,   -999,9,20051106,1800, 24.2585,-130.0385, 4614,   -999.0,9,-999.0000,9,-999.00000,9,-999.0000,9,  34.5428,2,  -999.00,9,  -999.00,9,   -999.0,9,  -999.00,9,  -999.00,9,  -999.00,9,  -999.00,  -999.00,9,  -999.00,  -999.00,9,  -999.00, -999.000,9, -999.000, -999.000,9, -999.000,9, -999.000,9,   -999.0,9,   -999.0,9,-999.0000,9, -999.000,9, -999.000,   -999.0,9,   -999.0,-999.0000,-999.0000
    49MR0505_1,   P03,    50,  1,     36, X12048,2,20051106,1800, 24.2585,-130.0385, 4614,     10.0,2,  21.6139,2,  21.61413,2,  34.5460,2,  34.5456,2,   212.63,1,   222.65,2,      9.7,2,   223.38,2,   222.91,2,     1.49,2,     0.12,     0.04,2,     0.03,     0.00,2,     0.01,    0.206,2,    0.016,    1.960,2,    1.183,2, -999.000,5,   -999.0,9,   -999.0,9,-999.0000,9, -999.000,9, -999.000,   -999.0,9,   -999.0,  21.6120,  23.9807
    49MR0505_1,   P03,    50,  1,     35, X12047,2,20051106,1800, 24.2585,-130.0385, 4614,     49.4,2,  21.6258,2,  21.62693,2,  34.5468,2,  34.5505,2,   212.65,1,   222.58,2,     46.7,2,   222.95,2,   222.90,2,     1.45,2,     0.12,     0.04,2,     0.03,     0.00,2,     0.01,    0.205,2,    0.016,    1.968,2,    1.181,2, -999.000,5,   -999.0,9,   -999.0,9,-999.0000,9, -999.000,9, -999.000,   -999.0,9,   -999.0,  21.6162,  23.9802
    49MR0505_1,   P03,    50,  1,     34, X12046,2,20051106,1800, 24.2585,-130.0385, 4614,     99.4,2,  19.7210,2,  19.71745,2,  34.3809,2,  34.3736,2,   225.41,1,   236.27,2,    103.2,2,   233.39,2,   235.28,2,     1.69,2,     0.12,     0.04,2,     0.03,     0.00,2,     0.01,    0.196,2,    0.016,    2.251,2,    1.338,2, -999.000,5,   -999.0,9,   -999.0,9,-999.0000,9, -999.000,9, -999.000,   -999.0,9,   -999.0,  19.7029,  24.3672
    49MR0505_1,   P03,    50,  1,     33, X12003,2,20051106,1800, 24.2585,-130.0385, 4614,    149.9,2,  16.0884,2,  16.07598,2,  34.0614,2,  34.0452,2,   206.19,1,   215.06,2,    153.4,2,   212.95,2,   215.05,2,     3.48,2,     0.13,     2.26,2,     0.04,     0.06,2,     0.01,    0.420,2,    0.013,    2.615,2,    1.523,2, -999.000,5,   -999.0,9,   -999.0,9,-999.0000,9, -999.000,9, -999.000,   -999.0,9,   -999.0,  16.0648,  25.0109
    49MR0505_1,   P03,    50,  1,     32, X12044,2,20051106,1800, 24.2585,-130.0385, 4614,    199.2,2,  11.2938,2,  11.29995,2,  33.6566,2,  33.6630,2,   191.68,1,   199.02,2,    203.5,2,   201.85,2,   198.81,2,    11.14,2,     0.14,    11.99,2,     0.07,     0.01,2,     0.01,    1.037,2,    0.013,    3.124,2,    1.774,2,    0.170,2,   -999.0,9,   -999.0,9,-999.0000,9, -999.000,9, -999.000,   -999.0,9,   -999.0,  11.2692,  25.6810
    49MR0505_1,   P03,    50,  1,     31, X12051,2,20051106,1800, 24.2585,-130.0385, 4614,    250.2,2,   9.5423,2,   9.54296,2,  33.9535,2,  33.9608,2,   168.18,1,   173.14,2,    256.8,2,   173.53,2,   172.97,2,    21.61,2,     0.17,    19.30,2,     0.09,     0.01,2,     0.01,    1.475,2,    0.014,    3.023,2,    1.632,2,    0.122,2,   -999.0,9,   -999.0,9,-999.0000,9, -999.000,9, -999.000,   -999.0,9,   -999.0,   9.5144,  26.2157
    49MR0505_1,   P03,    50,  1,     30, X12042,2,20051106,1800, 24.2585,-130.0385, 4614,    298.6,2,   8.8032,2,   8.80359,2,  34.0876,2,  34.0878,2,   124.77,1,   129.33,2,    303.2,2,   133.97,2,   129.48,2,    32.13,2,     0.19,    25.09,2,     0.10,     0.01,2,     0.01,    1.908,2,    0.015,    2.490,2,    1.243,2,    0.086,2,   -999.0,9,   -999.0,9,-999.0000,9, -999.000,9, -999.000,   -999.0,9,   -999.0,   8.7714,  26.4397
    49MR0505_1,   P03,    50,  1,     29, X12041,2,20051106,1800, 24.2585,-130.0385, 4614,    400.3,2,   7.2989,2,   7.29822,2,  34.1737,2,  34.1736,2,    55.80,1,    58.32,2,    406.4,2,    63.34,2,    58.30,2,    53.01,2,     0.24,    33.47,2,     0.13,     0.01,2,     0.01,    2.618,2,    0.017,    1.011,2,    0.503,2,    0.040,2,   -999.0,9,   -999.0,9,-999.0000,9, -999.000,9, -999.000,   -999.0,9,   -999.0,   7.2605,  26.7317
    49MR0505_1,   P03,    50,  1,     28, X12016,2,20051106,1800, 24.2585,-130.0385, 4614,    498.8,2,   6.2019,2,   6.20263,2,  34.2150,2,  34.2207,6,    30.58,1,    31.26,2,    503.3,2,    31.44,2,    30.45,2,    69.74,2,     0.27,    38.06,2,     0.14,     0.01,2,     0.01,    2.939,2,    0.017,    0.292,2,    0.180,2,    0.014,2,   -999.0,9,   -999.0,9,-999.0000,9, -999.000,9, -999.000,   -999.0,9,   -999.0,   6.1578,  26.9123
    49MR0505_1,   P03,    50,  1,     27, X12039,2,20051106,1800, 24.2585,-130.0385, 4614,    600.1,2,   5.8049,2,   5.80293,2,  34.3216,2,  34.3230,2,    14.52,1,    15.24,2,    602.2,2,    15.88,2,    15.05,2,    79.81,2,     0.29,    40.29,2,     0.15,     0.00,2,     0.01,    3.118,2,    0.018,    0.059,2,    0.035,2,    0.008,2,   -999.0,9,   -999.0,9,-999.0000,9, -999.000,9, -999.000,   -999.0,9,   -999.0,   5.7531,  27.0475
    49MR0505_1,   P03,    50,  1,     26, X12038,2,20051106,1800, 24.2585,-130.0385, 4614,    700.8,2,   5.2805,2,   5.28069,2,  34.3988,2,  34.3995,2,    12.64,1,    13.20,2,    704.7,2,    13.60,2,    13.02,2,    89.58,2,     0.32,    42.01,2,     0.15,     0.01,2,     0.01,    3.202,2,    0.018,    0.021,2,    0.012,2,    0.007,2,   -999.0,9,   -999.0,9,-999.0000,9, -999.000,9, -999.000,   -999.0,9,   -999.0,   5.2222,  27.1727
    49MR0505_1,   P03,    50,  1,     25, X12037,2,20051106,1800, 24.2585,-130.0385, 4614,    798.9,2,   4.9231,2,   4.92235,2,  34.4371,2,  34.4380,2,    15.84,1,    16.39,2,    800.3,2,    16.00,2,    16.58,2,    95.58,2,     0.33,    42.78,2,     0.15,     0.00,2,     0.01,    3.218,2,    0.018,    0.011,6,    0.005,6,    0.004,6,   -999.0,9,   -999.0,9,-999.0000,9, -999.000,9, -999.000,   -999.0,9,   -999.0,   4.8583,  27.2452
    49MR0505_1,   P03,    50,  1,     24, X12008,2,20051106,1800, 24.2585,-130.0385, 4614,    900.6,2,   4.5490,2,   4.54915,2,  34.4695,2,  34.4695,2,    19.72,1,    20.28,2,    903.3,2,    20.04,2,    20.43,2,   102.74,2,     0.35,    43.26,2,     0.15,     0.00,2,     0.01,    3.217,2,    0.018,    0.001,2,    0.001,2,    0.000,2,   -999.0,9,   -999.0,9,-999.0000,9, -999.000,9, -999.000,   -999.0,9,   -999.0,   4.4778,  27.3133
    49MR0505_1,   P03,    50,  1,     23, X12035,2,20051106,1800, 24.2585,-130.0385, 4614,   1000.1,2,   4.1866,2,   4.18669,2,  34.4917,2,  34.4916,6,    24.04,1,    24.61,2,   1003.5,2,    24.46,2,    24.97,2,   110.59,2,     0.36,    43.46,2,     0.15,     0.01,2,     0.01,    3.227,2,    0.018,    0.002,2,    0.000,2,    0.000,2,   -999.0,9,   -999.0,9,-999.0000,9, -999.000,9, -999.000,   -999.0,9,   -999.0,   4.1095,  27.3704
    49MR0505_1,   P03,    50,  1,     22, X12034,2,20051106,1800, 24.2585,-130.0385, 4614,   1200.7,2,   3.6290,2,   3.62907,2,  34.5313,2,  34.5314,2,    33.07,1,    33.79,2,   1201.4,2,    34.70,2,    34.42,2,   123.13,2,     0.39,    43.40,2,     0.15,     0.00,2,     0.01,    3.201,2,    0.018,    0.000,2,    0.000,2,    0.000,2,   -999.0,9,   -999.0,9,-999.0000,9, -999.000,9, -999.000,   -999.0,9,   -999.0,   3.5397,  27.4598
    49MR0505_1,   P03,    50,  1,     21, X12033,2,20051106,1800, 24.2585,-130.0385, 4614,   1400.8,2,   3.1511,2,   3.15113,2,  34.5602,2,  34.5603,2,    43.28,1,    44.54,2,   1399.8,2,    46.36,2,    45.35,2,   134.21,2,     0.41,    42.99,2,     0.15,     0.00,2,     0.01,    3.145,2,    0.018,    0.000,2,    0.000,2,    0.000,2,   -999.0,9,   -999.0,9,-999.0000,9, -999.000,9, -999.000,   -999.0,9,   -999.0,   3.0499,  27.5295
    49MR0505_1,   P03,    50,  1,     20, X12032,2,20051106,1800, 24.2585,-130.0385, 4614,   1599.1,2,   2.7400,2,   2.74023,2,  34.5852,2,  34.5851,2,    53.08,1,    54.93,2,   1599.2,2,    55.56,2,    55.57,2,   145.04,2,     0.44,    42.37,2,     0.15,     0.00,2,     0.01,    3.079,2,    0.018,    0.000,2,    0.000,2,    0.000,2,   -999.0,9,   -999.0,9,-999.0000,9, -999.000,9, -999.000,   -999.0,9,   -999.0,   2.6270,  27.5872
    49MR0505_1,   P03,    50,  1,     19, X12001,2,20051106,1800, 24.2585,-130.0385, 4614,   1799.7,2,   2.4259,2,   2.42587,2,  34.6085,2,  34.6089,2,    65.73,1,    68.40,2,   1800.0,2,    68.58,2,    68.87,2,   150.94,2,     0.45,    41.53,2,     0.15,     0.00,2,     0.01,    3.004,2,    0.017,    0.000,2,    0.000,2,    0.000,2,   -999.0,9,   -999.0,9,-999.0000,9, -999.000,9, -999.000,   -999.0,9,   -999.0,   2.3002,  27.6337
    49MR0505_1,   P03,    50,  1,     18, X12030,2,20051106,1800, 24.2585,-130.0385, 4614,   2000.1,2,   2.1770,2,   2.17703,2,  34.6264,2,  34.6271,2,    77.51,1,    81.03,2,   2000.4,2,    81.12,2,    81.53,2,   155.76,2,     0.46,    40.84,2,     0.15,     0.01,2,     0.01,    2.924,2,    0.017,    0.005,2,    0.000,2,    0.000,2,   -999.0,9,   -999.0,9,-999.0000,9, -999.000,9, -999.000,   -999.0,9,   -999.0,   2.0379,  27.6693
    49MR0505_1,   P03,    50,  1,     17, X12049,2,20051106,1800, 24.2585,-130.0385, 4614,   2200.5,2,   2.0063,2,   2.00634,2,  34.6381,2,  34.6381,6,    86.00,1,    90.15,2,   2200.3,2,    90.79,2,    90.38,2,   159.18,2,     0.47,    40.23,2,     0.15,     0.01,2,     0.01,    2.869,2,    0.017, -999.000,9, -999.000,9, -999.000,9,   -999.0,9,   -999.0,9,-999.0000,9, -999.000,9, -999.000,   -999.0,9,   -999.0,   1.8526,  27.6933
    49MR0505_1,   P03,    50,  1,     16, X12028,2,20051106,1800, 24.2585,-130.0385, 4614,   2400.3,2,   1.8465,2,   1.84664,2,  34.6483,2,  34.6486,2,    94.50,1,    99.13,2,   2400.8,2,    98.76,2,  -999.00,5,   162.82,2,     0.48,    39.70,2,     0.14,     0.01,2,     0.01,    2.820,2,    0.017, -999.000,9, -999.000,9, -999.000,9,   -999.0,9,   -999.0,9,-999.0000,9, -999.000,9, -999.000,   -999.0,9,   -999.0,   1.6780,  27.7148
    49MR0505_1,   P03,    50,  1,     15, X12006,2,20051106,1800, 24.2585,-130.0385, 4614,   2598.2,2,   1.7263,2,   1.72629,2,  34.6563,2,  34.6562,2,   101.58,1,   106.61,2,   2598.6,2,   106.32,2,   107.08,2,   165.29,2,     0.48,    39.19,2,     0.14,     0.00,2,     0.01,    2.772,2,    0.017, -999.000,9, -999.000,9, -999.000,9,   -999.0,9,   -999.0,9,-999.0000,9, -999.000,9, -999.000,   -999.0,9,   -999.0,   1.5423,  27.7313
    49MR0505_1,   P03,    50,  1,     14, X12026,2,20051106,1800, 24.2585,-130.0385, 4614,   2800.0,2,   1.6316,2,   1.63174,2,  34.6629,2,  34.6631,2,   108.07,1,   113.50,2,   2800.1,2,   113.44,2,   113.86,2,   166.48,2,     0.49,    38.76,2,     0.14,     0.01,2,     0.01,    2.746,2,    0.017, -999.000,9, -999.000,9, -999.000,9,   -999.0,9,   -999.0,9,-999.0000,9, -999.000,9, -999.000,   -999.0,9,   -999.0,   1.4309,  27.7447
    49MR0505_1,   P03,    50,  1,     13, X12025,2,20051106,1800, 24.2585,-130.0385, 4614,   3001.5,2,   1.5656,2,   1.56565,2,  34.6695,2,  34.6697,2,   115.66,1,   121.46,2,   3001.5,2,   121.72,2,   121.74,2,   166.77,2,     0.49,    38.27,2,     0.14,     0.01,2,     0.01,    2.701,2,    0.017, -999.000,9, -999.000,9, -999.000,9,   -999.0,9,   -999.0,9,-999.0000,9, -999.000,9, -999.000,   -999.0,9,   -999.0,   1.3472,  27.7559
    49MR0505_1,   P03,    50,  1,     12, X12024,2,20051106,1800, 24.2585,-130.0385, 4614,   3249.8,2,   1.5119,2,   1.51184,2,  34.6755,2,  34.6754,6,   122.85,1,   128.92,2,   3249.8,2,   129.34,2,   129.33,2,   165.93,2,     0.48,    37.66,2,     0.14,     0.01,2,     0.01,    2.647,2,    0.017,    0.003,2,    0.001,2,    0.000,2,   -999.0,9,   -999.0,9,-999.0000,9, -999.000,9, -999.000,   -999.0,9,   -999.0,   1.2706,  27.7661
    49MR0505_1,   P03,    50,  1,     11, X12023,2,20051106,1800, 24.2585,-130.0385, 4614,   3502.0,2,   1.4919,2,   1.49186,2,  34.6799,2,  34.6801,2,   128.81,1,   134.85,2,   3502.0,2,   134.94,2,   135.39,2,   164.23,2,     0.48,    37.36,2,     0.14,     0.01,2,     0.01,    2.619,2,    0.017, -999.000,9, -999.000,9, -999.000,9,   -999.0,9,   -999.0,9,-999.0000,9, -999.000,9, -999.000,   -999.0,9,   -999.0,   1.2258,  27.7728
    49MR0505_1,   P03,    50,  1,     10, X12022,2,20051106,1800, 24.2585,-130.0385, 4614,   3749.5,2,   1.4958,2,   1.49577,2,  34.6823,2,  34.6822,2,   132.40,1,   138.23,2,   3749.5,2,   138.93,2,   138.70,2,   162.95,2,     0.48,    37.17,2,     0.14,     0.01,2,     0.01,    2.606,2,    0.016, -999.000,9, -999.000,9, -999.000,9,   -999.0,9,   -999.0,9,-999.0000,9, -999.000,9, -999.000,   -999.0,9,   -999.0,   1.2039,  27.7763
    49MR0505_1,   P03,    50,  1,      9, X12021,2,20051106,1800, 24.2585,-130.0385, 4614,   4001.0,2,   1.5068,2,   1.50680,2,  34.6841,2,  34.6841,2,   135.10,1,   140.67,2,   4001.1,2,   141.16,2,   141.15,2,   161.71,2,     0.47,    37.02,2,     0.14,     0.01,2,     0.01,    2.588,2,    0.016, -999.000,9, -999.000,9, -999.000,9,   -999.0,9,   -999.0,9,-999.0000,9, -999.000,9, -999.000,   -999.0,9,   -999.0,   1.1876,  27.7788
    49MR0505_1,   P03,    50,  1,      8, X12020,2,20051106,1800, 24.2585,-130.0385, 4614,   4249.5,2,   1.5213,2,   1.52124,2,  34.6852,2,  34.6855,6,   138.15,1,   143.19,2,   4249.5,2,   143.99,2,   143.77,2,   159.66,2,     0.47,    36.82,2,     0.14,     0.01,2,     0.01,    2.573,2,    0.016, -999.000,9, -999.000,9, -999.000,9,   -999.0,9,   -999.0,9,-999.0000,9, -999.000,9, -999.000,   -999.0,9,   -999.0,   1.1742,  27.7806
    49MR0505_1,   P03,    50,  1,      7, X12019,2,20051106,1800, 24.2585,-130.0385, 4614,   4500.4,2,   1.5289,2,   1.52876,2,  34.6869,2,  34.6871,2,   142.75,1,   147.28,2,   4500.4,2,   148.16,2,   147.71,2,   156.60,2,     0.46,    36.52,2,     0.14,     0.01,2,     0.01,    2.553,2,    0.016, -999.000,9, -999.000,9, -999.000,9,   -999.0,9,   -999.0,9,-999.0000,9, -999.000,9, -999.000,   -999.0,9,   -999.0,   1.1530,  27.7835
    49MR0505_1,   P03,    50,  1,      6, X12018,9,20051106,1800, 24.2585,-130.0385, 4614,     10.2,2,  21.6169,2,  21.61730,2,  34.5463,2,-999.0000,9,   212.42,1,   222.64,2,      9.7,2,   223.38,2,  -999.00,9,  -999.00,9,  -999.00,  -999.00,9,  -999.00,  -999.00,9,  -999.00, -999.000,9, -999.000, -999.000,9, -999.000,9, -999.000,9,   -999.0,9,   -999.0,9,-999.0000,9, -999.000,9, -999.000,   -999.0,9,   -999.0,  21.6149,  23.9801
    49MR0505_1,   P03,    50,  1,      5, X12043,2,20051106,1800, 24.2585,-130.0385, 4614,   4685.2,2,   1.5420,2,   1.54192,2,  34.6876,2,  34.6875,2,   144.99,1,   149.09,2,   4685.2,2,   149.48,2,   149.41,2,   155.39,2,     0.46,    36.38,2,     0.13,     0.00,2,     0.01,    2.545,2,    0.016, -999.000,9, -999.000,9, -999.000,9,   -999.0,9,   -999.0,9,-999.0000,9, -999.000,9, -999.000,   -999.0,9,   -999.0,   1.1441,  27.7846
    49MR0505_1,   P03,    50,  1,      4, X12010,2,20051106,1800, 24.2585,-130.0385, 4614,   2000.4,2,   2.1771,2,   2.17709,2,  34.6263,2,-999.0000,9,    77.54,1,    80.92,2,   2000.6,2,    81.13,2,  -999.00,9,  -999.00,9,  -999.00,  -999.00,9,  -999.00,  -999.00,9,  -999.00, -999.000,9, -999.000, -999.000,9, -999.000,9, -999.000,9,   -999.0,9,   -999.0,9,-999.0000,9, -999.000,9, -999.000,   -999.0,9,   -999.0,   2.0380,  27.6692
    49MR0505_1,   P03,    50,  1,      3, X12015,2,20051106,1800, 24.2585,-130.0385, 4614,   4001.6,2,   1.5070,2,   1.50694,2,  34.6840,2,-999.0000,9,   135.11,1,   140.66,2,   4001.7,2,   141.19,2,  -999.00,9,  -999.00,9,  -999.00,  -999.00,9,  -999.00,  -999.00,9,  -999.00, -999.000,9, -999.000, -999.000,9, -999.000,9, -999.000,9,   -999.0,9,   -999.0,9,-999.0000,9, -999.000,9, -999.000,   -999.0,9,   -999.0,   1.1877,  27.7787
    49MR0505_1,   P03,    50,  1,      2, X12014,2,20051106,1800, 24.2585,-130.0385, 4614,   4685.0,2,   1.5420,2,   1.54185,2,  34.6876,2,-999.0000,9,   145.01,1,   149.10,2,   4685.1,2,   149.53,2,  -999.00,9,  -999.00,9,  -999.00,  -999.00,9,  -999.00,  -999.00,9,  -999.00, -999.000,9, -999.000, -999.000,9, -999.000,9, -999.000,9,   -999.0,9,   -999.0,9,-999.0000,9, -999.000,9, -999.000,   -999.0,9,   -999.0,   1.1441,  27.7846
    49MR0505_1,   P03,    50,  1,      1, X12013,2,20051106,1800, 24.2585,-130.0385, 4614,   4685.5,2,   1.5420,2,   1.54189,2,  34.6876,2,  34.6877,6,   145.06,1,   149.09,2,   4685.6,2,   149.40,2,   149.38,2,   155.57,2,     0.46,    36.47,2,     0.13,     0.00,2,     0.01,    2.551,2,    0.016,    0.000,2,    0.004,2,    0.000,2,   -999.0,9,   -999.0,9,-999.0000,9, -999.000,9, -999.000,   -999.0,9,   -999.0,   1.1441,  27.7846