BOTTLE,20100316JAMSTECRIGC
EXPOCODE,SECT,STNNBR,CASTNO,SAMPNO,BTLNBR,BTLNBR_FLAG_W,DATE,TIME,LATITUDE,LONGITUDE,DEPTH,CTDPRS,CTDPRS_FLAG_W,CTDTMP,CTDTMP_FLAG_W,SBE35,SBE35_FLAG_W,CTDSAL,CTDSAL_FLAG_W,SALNTY,SALNTY_FLAG_W,CTDOXY,CTDOXY_FLAG_W,OPTOXY,OPTOXY_FLAG_W,DWNPRS,DWNPRS_FLAG_W,DWNOXY,DWNOXY_FLAG_W,OXYGEN,OXYGEN_FLAG_W,SILCAT,SILCAT_FLAG_W,SILUNC,NITRAT,NITRAT_FLAG_W,NRAUNC,NITRIT,NITRIT_FLAG_W,NRIUNC,PHSPHT,PHSPHT_FLAG_W,PHPUNC,CFC-11,CFC-11_FLAG_W,CFC-12,CFC-12_FLAG_W,CFC113,CFC113_FLAG_W,TCARBN,TCARBN_FLAG_W,ALKALI,ALKALI_FLAG_W,PH,PH_FLAG_W,DELC13,DELC13_FLAG_W,C13ERR,DELC14,DELC14_FLAG_W,C14ERR,THETA,SIG0
,,,,,,,,UTC,DEG,DEG,M,DBAR,,ITS-90,,ITS-90,,PSS-78,,PSS-78,,UMOL/KG,,UMOL/KG,,DBAR,,UMOL/KG,,UMOL/KG,,UMOL/KG,,UMOL/KG,UMOL/KG,,UMOL/KG,UMOL/KG,,UMOL/KG,UMOL/KG,,UMOL/KG,PMOL/KG,,PMOL/KG,,PMOL/KG,,UMOL/KG,,UMOL/KG,,,,/MILLE,,/MILLE,/MILLE,,/MILLE,DEG C,KG/CUM
    49MR0505_1,   P03,   136,  1,      0,   -999,9,20051120,2005, 25.5058,-164.2913, 4225,   -999.0,9,-999.0000,9,-999.00000,9,-999.0000,9,  35.3691,2,  -999.00,9,  -999.00,9,   -999.0,9,  -999.00,9,  -999.00,9,  -999.00,9,  -999.00,  -999.00,9,  -999.00,  -999.00,9,  -999.00, -999.000,9, -999.000, -999.000,9, -999.000,9, -999.000,9,   -999.0,9,   -999.0,9,-999.0000,9, -999.000,9, -999.000,   -999.0,9,   -999.0,-999.0000,-999.0000
    49MR0505_1,   P03,   136,  1,     36, X12048,2,20051120,2005, 25.5058,-164.2913, 4225,      9.1,2,  25.2197,2,  25.21935,2,  35.3739,2,  35.3737,2,   191.83,1,   207.67,2,      6.2,2,   210.37,2,   208.90,2,     1.31,2,     0.12,     0.03,2,     0.03,     0.01,2,     0.01,    0.034,2,    0.046,    1.693,2,    1.011,2, -999.000,5,   -999.0,9,   -999.0,9,-999.0000,9, -999.000,9, -999.000,   -999.0,9,   -999.0,  25.2177,  23.5573
    49MR0505_1,   P03,   136,  1,     35, X12047,3,20051120,2005, 25.5058,-164.2913, 4225,     48.3,2,  25.1073,2,  25.10914,2,  35.3660,2,  35.3589,2,   192.65,1,   210.51,2,     48.3,2,   210.60,2,   210.58,2,     1.35,2,     0.12,     0.02,2,     0.03,     0.01,2,     0.01,    0.025,2,    0.060,    1.714,2,    1.029,2, -999.000,5,   -999.0,9,   -999.0,9,-999.0000,9, -999.000,9, -999.000,   -999.0,9,   -999.0,  25.0968,  23.5883
    49MR0505_1,   P03,   136,  1,     34, X12046,2,20051120,2005, 25.5058,-164.2913, 4225,     99.4,2,  18.3790,2,  18.38065,2,  34.8684,2,  34.8651,2,   212.79,1,   230.77,2,    108.8,2,   231.04,2,   231.41,2,     2.77,2,     0.13,     0.09,2,     0.03,     0.03,2,     0.01,    0.100,2,    0.022,    2.353,2,    1.353,2, -999.000,5,   -999.0,9,   -999.0,9,-999.0000,9, -999.000,9, -999.000,   -999.0,9,   -999.0,  18.3617,  25.0816
    49MR0505_1,   P03,   136,  1,     33, X12003,2,20051120,2005, 25.5058,-164.2913, 4225,    149.6,2,  16.0685,2,  16.06815,2,  34.6928,2,  34.6915,2,   201.34,1,   217.43,2,    153.2,2,   216.91,2,   218.34,2,     4.61,2,     0.13,     4.01,2,     0.04,     0.03,2,     0.01,    0.340,2,    0.014,    2.533,2,    1.417,2,    0.171,4,   -999.0,9,   -999.0,9,-999.0000,9, -999.000,9, -999.000,   -999.0,9,   -999.0,  16.0448,  25.5011
    49MR0505_1,   P03,   136,  1,     32, X12044,2,20051120,2005, 25.5058,-164.2913, 4225,    199.5,2,  14.6269,2,  14.62606,2,  34.5313,2,  34.5294,2,   198.70,1,   214.08,2,    206.6,2,   216.88,2,   215.23,2,     6.64,2,     0.13,     6.60,2,     0.05,     0.02,2,     0.01,    0.507,2,    0.013,    2.700,2,    1.476,2,    0.119,2,   -999.0,9,   -999.0,9,-999.0000,9, -999.000,9, -999.000,   -999.0,9,   -999.0,  14.5973,  25.6980
    49MR0505_1,   P03,   136,  1,     31, X12051,2,20051120,2005, 25.5058,-164.2913, 4225,    248.7,2,  13.4894,2,  13.48864,2,  34.4244,2,  34.4192,2,   195.18,1,   210.29,2,    250.6,2,   211.20,2,   211.20,2,     9.28,2,     0.14,     9.20,2,     0.06,     0.01,2,     0.01,    0.680,2,    0.013,    2.759,6,    1.479,6,    0.070,6,   -999.0,9,   -999.0,9,-999.0000,9, -999.000,9, -999.000,   -999.0,9,   -999.0,  13.4545,  25.8551
    49MR0505_1,   P03,   136,  1,     30, X12042,2,20051120,2005, 25.5058,-164.2913, 4225,    300.3,2,  12.2980,2,  12.29734,2,  34.3382,2,  34.3394,2,   192.68,1,   207.86,2,    301.7,2,   206.90,2,   208.46,2,    12.62,2,     0.15,    11.61,2,     0.07,     0.01,2,     0.01,    0.847,2,    0.013,    2.796,2,    1.471,2,    0.078,2,   -999.0,9,   -999.0,9,-999.0000,9, -999.000,9, -999.000,   -999.0,9,   -999.0,  12.2583,  26.0257
    49MR0505_1,   P03,   136,  1,     29, X12041,2,20051120,2005, 25.5058,-164.2913, 4225,    402.0,2,   9.9143,2,   9.91940,2,  34.1783,2,  34.1786,2,   178.41,1,   192.43,2,    407.2,2,   194.66,2,   193.46,2,    23.20,2,     0.17,    17.62,2,     0.08,     0.01,2,     0.01,    1.270,2,    0.014,    2.825,2,    1.430,2,    0.088,2,   -999.0,9,   -999.0,9,-999.0000,9, -999.000,9, -999.000,   -999.0,9,   -999.0,   9.8679,  26.3326
    49MR0505_1,   P03,   136,  1,     28, X12016,2,20051120,2005, 25.5058,-164.2913, 4225,    499.9,2,   7.5863,2,   7.58615,2,  34.0690,2,  34.0688,6,   136.28,1,   147.30,2,    507.3,2,   152.20,2,   146.55,2,    43.41,2,     0.21,    26.47,2,     0.11,     0.00,2,     0.01,    1.902,2,    0.015,    2.157,2,    1.025,2,    0.068,2,   -999.0,9,   -999.0,9,-999.0000,9, -999.000,9, -999.000,   -999.0,9,   -999.0,   7.5370,  26.6101
    49MR0505_1,   P03,   136,  1,     27, X12039,2,20051120,2005, 25.5058,-164.2913, 4225,    600.2,2,   6.0706,2,   6.06692,2,  34.0652,2,  34.0658,2,    92.52,1,   100.70,2,    606.7,2,   106.16,2,   101.11,2,    63.50,2,     0.26,    33.13,2,     0.13,     0.00,2,     0.01,    2.400,2,    0.016,    1.349,2,    0.625,2,    0.055,2,   -999.0,9,   -999.0,9,-999.0000,9, -999.000,9, -999.000,   -999.0,9,   -999.0,   6.0178,  26.8117
    49MR0505_1,   P03,   136,  1,     26, X12038,2,20051120,2005, 25.5058,-164.2913, 4225,    700.4,2,   5.0429,2,   5.04296,2,  34.1460,2,  34.1462,2,    54.64,1,    59.51,2,    707.3,2,    64.80,2,    58.88,2,    85.32,2,     0.31,    38.66,2,     0.14,     0.00,2,     0.01,    2.809,2,    0.017,    0.570,2,    0.272,2,    0.015,2,   -999.0,9,   -999.0,9,-999.0000,9, -999.000,9, -999.000,   -999.0,9,   -999.0,   4.9862,  26.9997
    49MR0505_1,   P03,   136,  1,     25, X12037,2,20051120,2005, 25.5058,-164.2913, 4225,    800.4,2,   4.4296,2,   4.42937,2,  34.2639,2,  34.2628,2,    35.77,1,    39.15,2,    806.6,2,    41.02,2,    38.46,2,   101.25,2,     0.34,    41.38,2,     0.15,     0.00,2,     0.01,    3.009,2,    0.017,    0.201,6,    0.092,6,    0.000,6,   -999.0,9,   -999.0,9,-999.0000,9, -999.000,9, -999.000,   -999.0,9,   -999.0,   4.3679,  27.1619
    49MR0505_1,   P03,   136,  1,     24, X12008,2,20051120,2005, 25.5058,-164.2913, 4225,    899.8,2,   4.0964,2,   4.09649,2,  34.3574,2,  34.3568,2,    33.98,1,    37.20,2,    905.0,2,    37.32,2,    36.60,2,   109.36,2,     0.36,    41.90,2,     0.15,     0.00,2,     0.01,    3.041,2,    0.018,    0.072,2,    0.043,2,    0.000,2,   -999.0,9,   -999.0,9,-999.0000,9, -999.000,9, -999.000,   -999.0,9,   -999.0,   4.0285,  27.2720
    49MR0505_1,   P03,   136,  1,     23, X12035,2,20051120,2005, 25.5058,-164.2913, 4225,   1001.2,2,   3.8287,2,   3.82909,2,  34.4174,2,  34.4167,6,    37.49,1,    40.96,2,   1006.6,2,    40.25,2,    40.56,2,   116.17,2,     0.37,    42.16,2,     0.15,     0.01,2,     0.01,    3.065,2,    0.018,    0.034,2,    0.012,2,    0.000,2,   -999.0,9,   -999.0,9,-999.0000,9, -999.000,9, -999.000,   -999.0,9,   -999.0,   3.7544,  27.3477
    49MR0505_1,   P03,   136,  1,     22, X12034,2,20051120,2005, 25.5058,-164.2913, 4225,   1201.1,2,   3.4017,2,   3.40121,2,  34.4987,2,  34.4983,2,    47.73,1,    51.99,2,   1202.1,2,    51.96,2,    51.63,2,   125.16,2,     0.39,    42.03,2,     0.15,     0.00,2,     0.01,    3.034,2,    0.018,    0.002,2,    0.000,2,    0.000,2,   -999.0,9,   -999.0,9,-999.0000,9, -999.000,9, -999.000,   -999.0,9,   -999.0,   3.3145,  27.4555
    49MR0505_1,   P03,   136,  1,     21, X12033,2,20051120,2005, 25.5058,-164.2913, 4225,   1400.1,2,   2.9453,2,   2.94549,2,  34.5402,2,  34.5402,2,    56.85,1,    62.07,2,   1398.5,2,    63.38,2,    61.86,2,   135.55,2,     0.42,    41.66,2,     0.15,     0.00,2,     0.01,    2.987,2,    0.017,    0.004,2,    0.002,2,    0.000,2,   -999.0,9,   -999.0,9,-999.0000,9, -999.000,9, -999.000,   -999.0,9,   -999.0,   2.8464,  27.5320
    49MR0505_1,   P03,   136,  1,     20, X12032,2,20051120,2005, 25.5058,-164.2913, 4225,   1601.0,2,   2.5427,2,   2.54238,2,  34.5761,2,  34.5761,2,    67.80,1,    74.15,2,   1601.8,2,    73.65,2,    74.04,2,   144.14,2,     0.44,    41.04,2,     0.15,     0.00,2,     0.01,    2.934,2,    0.017,    0.000,2,    0.000,2,    0.000,2,   -999.0,9,   -999.0,9,-999.0000,9, -999.000,9, -999.000,   -999.0,9,   -999.0,   2.4320,  27.5967
    49MR0505_1,   P03,   136,  1,     19, X12001,2,20051120,2005, 25.5058,-164.2913, 4225,   1799.8,2,   2.2226,2,   2.22268,2,  34.5970,2,  34.5967,6,    74.12,1,    81.17,2,   1802.7,2,    79.85,2,    81.12,2,   152.11,2,     0.45,    40.67,2,     0.15,     0.00,2,     0.01,    2.900,2,    0.017,    0.000,2,    0.001,2,    0.000,2,   -999.0,9,   -999.0,9,-999.0000,9, -999.000,9, -999.000,   -999.0,9,   -999.0,   2.0997,  27.6409
    49MR0505_1,   P03,   136,  1,     18, X12030,2,20051120,2005, 25.5058,-164.2913, 4225,   1998.9,2,   1.9849,2,   1.98473,2,  34.6171,2,  34.6171,2,    82.76,1,    90.69,2,   2000.6,2,    89.37,2,    90.35,2,   156.95,2,     0.46,    40.17,2,     0.15,     0.00,2,     0.01,    2.849,2,    0.017,    0.000,2,    0.001,2,    0.000,2,   -999.0,9,   -999.0,9,-999.0000,9, -999.000,9, -999.000,   -999.0,9,   -999.0,   1.8488,  27.6767
    49MR0505_1,   P03,   136,  1,     17, X12049,2,20051120,2005, 25.5058,-164.2913, 4225,   2200.7,2,   1.8350,2,   1.83463,2,  34.6297,2,  34.6302,2,    88.03,1,    96.55,2,   2202.1,2,    96.27,2,    96.29,2,   160.53,2,     0.47,    39.83,2,     0.14,     0.00,2,     0.01,    2.815,2,    0.017,    0.000,2,    0.000,2,    0.000,2,   -999.0,9,   -999.0,9,-999.0000,9, -999.000,9, -999.000,   -999.0,9,   -999.0,   1.6842,  27.6994
    49MR0505_1,   P03,   136,  1,     16, X12028,2,20051120,2005, 25.5058,-164.2913, 4225,   2400.2,2,   1.7318,2,   1.73159,2,  34.6417,2,  34.6416,2,    96.47,1,   105.58,2,   2401.5,2,   103.63,2,   105.37,2,   160.89,2,     0.47,    39.22,2,     0.14,     0.00,2,     0.01,    2.776,2,    0.017, -999.000,9, -999.000,9, -999.000,9,   -999.0,9,   -999.0,9,-999.0000,9, -999.000,9, -999.000,   -999.0,9,   -999.0,   1.5654,  27.7178
    49MR0505_1,   P03,   136,  1,     15, X12006,2,20051120,2005, 25.5058,-164.2913, 4225,   2601.8,2,   1.6382,2,   1.63801,2,  34.6527,2,  34.6527,6,   104.38,1,   114.20,2,   2601.5,2,   114.48,2,   114.23,2,   160.64,2,     0.47,    38.68,2,     0.14,     0.00,2,     0.01,    2.726,2,    0.017,    0.001,2,    0.000,2,    0.000,2,   -999.0,9,   -999.0,9,-999.0000,9, -999.000,9, -999.000,   -999.0,9,   -999.0,   1.4556,  27.7347
    49MR0505_1,   P03,   136,  1,     14, X12026,2,20051120,2005, 25.5058,-164.2913, 4225,   2801.4,2,   1.5829,2,   1.58291,2,  34.6599,2,  34.6598,2,   110.02,1,   120.36,2,   2801.4,2,   120.05,2,   120.25,2,   160.46,2,     0.47,    38.32,2,     0.14,     0.00,2,     0.01,    2.697,2,    0.017, -999.000,9, -999.000,9, -999.000,9,   -999.0,9,   -999.0,9,-999.0000,9, -999.000,9, -999.000,   -999.0,9,   -999.0,   1.3831,  27.7457
    49MR0505_1,   P03,   136,  1,     13, X12025,2,20051120,2005, 25.5058,-164.2913, 4225,   2999.9,2,   1.5378,2,   1.53782,2,  34.6670,2,  34.6668,2,   116.57,1,   127.60,2,   2999.9,2,   127.20,2,   127.23,2,   159.43,2,     0.47,    37.83,2,     0.14,     0.00,2,     0.01,    2.664,2,    0.017, -999.000,9, -999.000,9, -999.000,9,   -999.0,9,   -999.0,9,-999.0000,9, -999.000,9, -999.000,   -999.0,9,   -999.0,   1.3202,  27.7558
    49MR0505_1,   P03,   136,  1,     12, X12024,2,20051120,2005, 25.5058,-164.2913, 4225,   3250.8,2,   1.5029,2,   1.50281,2,  34.6736,2,  34.6734,2,   123.49,1,   134.47,2,   3250.6,2,   134.83,2,   134.65,2,   157.49,2,     0.47,    37.39,2,     0.14,     0.00,2,     0.01,    2.616,2,    0.017,    0.003,2,    0.002,2,    0.000,2,   -999.0,9,   -999.0,9,-999.0000,9, -999.000,9, -999.000,   -999.0,9,   -999.0,   1.2618,  27.7652
    49MR0505_1,   P03,   136,  1,     11, X12023,2,20051120,2005, 25.5058,-164.2913, 4225,   3500.9,2,   1.4715,2,   1.47145,2,  34.6790,2,  34.6786,2,   129.45,1,   140.45,2,   3501.0,2,   140.57,2,   140.75,2,   155.92,2,     0.46,    36.84,2,     0.14,     0.01,2,     0.01,    2.583,2,    0.016, -999.000,9, -999.000,9, -999.000,9,   -999.0,9,   -999.0,9,-999.0000,9, -999.000,9, -999.000,   -999.0,9,   -999.0,   1.2060,  27.7734
    49MR0505_1,   P03,   136,  1,     10, X12022,2,20051120,2005, 25.5058,-164.2913, 4225,   3750.7,2,   1.4529,2,   1.45278,2,  34.6832,2,  34.6831,6,   134.83,1,   145.87,2,   3751.0,2,   145.65,2,   146.21,2,   154.71,2,     0.46,    36.62,2,     0.14,     0.01,2,     0.01,    2.558,2,    0.016, -999.000,9, -999.000,9, -999.000,9,   -999.0,9,   -999.0,9,-999.0000,9, -999.000,9, -999.000,   -999.0,9,   -999.0,   1.1620,  27.7799
    49MR0505_1,   P03,   136,  1,      9, X12021,2,20051120,2005, 25.5058,-164.2913, 4225,   4000.5,2,   1.4528,2,   1.45260,2,  34.6857,2,  34.6856,2,   138.72,1,   149.50,2,   4000.6,2,   149.71,2,   149.70,2,   153.13,2,     0.46,    36.34,2,     0.13,     0.00,2,     0.01,    2.541,2,    0.016,    0.004,2,    0.000,2,    0.000,2,   -999.0,9,   -999.0,9,-999.0000,9, -999.000,9, -999.000,   -999.0,9,   -999.0,   1.1352,  27.7837
    49MR0505_1,   P03,   136,  1,      8, X12020,9,20051120,2005, 25.5058,-164.2913, 4225,     48.1,2,  25.0810,2,  25.07991,2,  35.3650,2,-999.0000,9,   192.57,1,   209.88,2,     50.1,2,   210.65,2,  -999.00,9,  -999.00,9,  -999.00,  -999.00,9,  -999.00,  -999.00,9,  -999.00, -999.000,9, -999.000, -999.000,9, -999.000,9, -999.000,9,   -999.0,9,   -999.0,9,-999.0000,9, -999.000,9, -999.000,   -999.0,9,   -999.0,  25.0705,  23.5956
    49MR0505_1,   P03,   136,  1,      7, X12019,9,20051120,2005, 25.5058,-164.2913, 4225,      8.9,2,  25.2231,2,  25.22320,2,  35.3742,2,-999.0000,9,   191.75,1,   207.67,2,      6.1,2,   210.38,2,  -999.00,9,  -999.00,9,  -999.00,  -999.00,9,  -999.00,  -999.00,9,  -999.00, -999.000,9, -999.000, -999.000,9, -999.000,9, -999.000,9,   -999.0,9,   -999.0,9,-999.0000,9, -999.000,9, -999.000,   -999.0,9,   -999.0,  25.2212,  23.5565
    49MR0505_1,   P03,   136,  1,      6, X12018,9,20051120,2005, 25.5058,-164.2913, 4225,     99.7,2,  18.3734,2,  18.37259,2,  34.8683,2,-999.0000,9,   213.06,1,   230.83,2,    108.9,2,   231.05,2,  -999.00,9,  -999.00,9,  -999.00,  -999.00,9,  -999.00,  -999.00,9,  -999.00, -999.000,9, -999.000, -999.000,9, -999.000,9, -999.000,9,   -999.0,9,   -999.0,9,-999.0000,9, -999.000,9, -999.000,   -999.0,9,   -999.0,  18.3561,  25.0829
    49MR0505_1,   P03,   136,  1,      5, X12043,9,20051120,2005, 25.5058,-164.2913, 4225,    200.1,2,  14.6199,2,  14.61918,2,  34.5310,2,-999.0000,9,   198.66,1,   214.14,2,    207.0,2,   216.55,2,  -999.00,9,  -999.00,9,  -999.00,  -999.00,9,  -999.00,  -999.00,9,  -999.00, -999.000,9, -999.000, -999.000,9, -999.000,9, -999.000,9,   -999.0,9,   -999.0,9,-999.0000,9, -999.000,9, -999.000,   -999.0,9,   -999.0,  14.5902,  25.6993
    49MR0505_1,   P03,   136,  1,      4, X12010,2,20051120,2005, 25.5058,-164.2913, 4225,   1999.8,2,   1.9848,2,   1.98475,2,  34.6171,2,-999.0000,9,    82.76,1,    90.72,2,   2001.5,2,    89.36,2,  -999.00,9,  -999.00,9,  -999.00,  -999.00,9,  -999.00,  -999.00,9,  -999.00, -999.000,9, -999.000, -999.000,9, -999.000,9, -999.000,9,   -999.0,9,   -999.0,9,-999.0000,9, -999.000,9, -999.000,   -999.0,9,   -999.0,   1.8487,  27.6767
    49MR0505_1,   P03,   136,  1,      3, X12015,2,20051120,2005, 25.5058,-164.2913, 4225,   4001.1,2,   1.4522,2,   1.45208,2,  34.6857,2,-999.0000,9,   138.77,1,   149.49,2,   4001.3,2,   149.72,2,  -999.00,9,  -999.00,9,  -999.00,  -999.00,9,  -999.00,  -999.00,9,  -999.00, -999.000,9, -999.000, -999.000,9, -999.000,9, -999.000,9,   -999.0,9,   -999.0,9,-999.0000,9, -999.000,9, -999.000,   -999.0,9,   -999.0,   1.1345,  27.7838
    49MR0505_1,   P03,   136,  1,      2, X12014,2,20051120,2005, 25.5058,-164.2913, 4225,   4295.4,2,   1.4642,2,   1.46412,2,  34.6880,2,-999.0000,9,   142.48,1,   152.74,2,   4295.5,2,   153.20,2,  -999.00,9,  -999.00,9,  -999.00,  -999.00,9,  -999.00,  -999.00,9,  -999.00, -999.000,9, -999.000, -999.000,9, -999.000,9, -999.000,9,   -999.0,9,   -999.0,9,-999.0000,9, -999.000,9, -999.000,   -999.0,9,   -999.0,   1.1136,  27.7870
    49MR0505_1,   P03,   136,  1,      1, X12013,2,20051120,2005, 25.5058,-164.2913, 4225,   4294.9,2,   1.4645,2,   1.46426,2,  34.6879,2,  34.6872,6,   142.51,1,   152.77,2,   4294.9,2,   153.18,2,   152.86,2,   151.79,2,     0.45,    36.14,2,     0.13,     0.01,2,     0.01,    2.532,2,    0.016,    0.015,2,    0.004,2,    0.000,2,   -999.0,9,   -999.0,9,-999.0000,9, -999.000,9, -999.000,   -999.0,9,   -999.0,   1.1140,  27.7869