BOTTLE,20100316JAMSTECRIGC
EXPOCODE,SECT,STNNBR,CASTNO,SAMPNO,BTLNBR,BTLNBR_FLAG_W,DATE,TIME,LATITUDE,LONGITUDE,DEPTH,CTDPRS,CTDPRS_FLAG_W,CTDTMP,CTDTMP_FLAG_W,SBE35,SBE35_FLAG_W,CTDSAL,CTDSAL_FLAG_W,SALNTY,SALNTY_FLAG_W,CTDOXY,CTDOXY_FLAG_W,OPTOXY,OPTOXY_FLAG_W,DWNPRS,DWNPRS_FLAG_W,DWNOXY,DWNOXY_FLAG_W,OXYGEN,OXYGEN_FLAG_W,SILCAT,SILCAT_FLAG_W,SILUNC,NITRAT,NITRAT_FLAG_W,NRAUNC,NITRIT,NITRIT_FLAG_W,NRIUNC,PHSPHT,PHSPHT_FLAG_W,PHPUNC,CFC-11,CFC-11_FLAG_W,CFC-12,CFC-12_FLAG_W,CFC113,CFC113_FLAG_W,TCARBN,TCARBN_FLAG_W,ALKALI,ALKALI_FLAG_W,PH,PH_FLAG_W,DELC13,DELC13_FLAG_W,C13ERR,DELC14,DELC14_FLAG_W,C14ERR,THETA,SIG0
,,,,,,,,UTC,DEG,DEG,M,DBAR,,ITS-90,,ITS-90,,PSS-78,,PSS-78,,UMOL/KG,,UMOL/KG,,DBAR,,UMOL/KG,,UMOL/KG,,UMOL/KG,,UMOL/KG,UMOL/KG,,UMOL/KG,UMOL/KG,,UMOL/KG,UMOL/KG,,UMOL/KG,PMOL/KG,,PMOL/KG,,PMOL/KG,,UMOL/KG,,UMOL/KG,,,,/MILLE,,/MILLE,/MILLE,,/MILLE,DEG C,KG/CUM
    49MR0505_1,   P03,    74,  1,      0,   -999,9,20051111,1523, 24.2823,-141.1493, 4991,   -999.0,9,-999.0000,9,-999.00000,9,-999.0000,9,  35.1155,2,  -999.00,9,  -999.00,9,   -999.0,9,  -999.00,9,  -999.00,9,  -999.00,9,  -999.00,  -999.00,9,  -999.00,  -999.00,9,  -999.00, -999.000,9, -999.000, -999.000,9, -999.000,9, -999.000,9,   -999.0,9,   -999.0,9,-999.0000,9, -999.000,9, -999.000,   -999.0,9,   -999.0,-999.0000,-999.0000
    49MR0505_1,   P03,    74,  1,     36, X12048,2,20051111,1523, 24.2823,-141.1493, 4991,      9.5,2,  22.8164,2,  22.81818,2,  35.1311,2,  35.1311,2,   205.07,1,   217.30,2,      9.3,2,   216.88,2,   216.87,2,     1.18,2,     0.12,     0.06,2,     0.03,     0.00,2,     0.01,    0.116,2,    0.020,    1.868,2,    1.130,2, -999.000,5,   2009.8,2,   2316.4,2,   8.0630,6,    1.267,2,    0.003,     59.8,2,      3.4,  22.8145,  24.0864
    49MR0505_1,   P03,    74,  1,     35, X12047,2,20051111,1523, 24.2823,-141.1493, 4991,     49.4,2,  22.8299,2,  22.82968,2,  35.1325,2,  35.1329,2,   205.11,1,   216.99,2,     48.8,2,   216.43,2,   216.81,2,     1.19,2,     0.12,     0.06,2,     0.03,     0.00,2,     0.01,    0.119,2,    0.020,    1.871,2,    1.128,2, -999.000,5,   2011.4,6,   2319.8,2,   8.0628,2,    1.241,2,    0.004,     63.5,2,      3.5,  22.8199,  24.0859
    49MR0505_1,   P03,    74,  1,     34, X12046,2,20051111,1523, 24.2823,-141.1493, 4991,     99.9,2,  21.5081,2,  21.50830,2,  35.1662,2,  35.1621,2,   216.20,1,   228.60,2,    101.8,2,   226.01,2,   228.18,2,     1.44,2,     0.12,     0.04,2,     0.03,     0.00,2,     0.01,    0.063,2,    0.029,    2.090,2,    1.236,2, -999.000,5,   2019.7,2,   2311.2,6,   8.0483,2,    1.128,2,    0.007,     73.6,2,      3.5,  21.4887,  24.4865
    49MR0505_1,   P03,    74,  1,     33, X12003,2,20051111,1523, 24.2823,-141.1493, 4991,    149.6,2,  19.9474,2,  19.94694,2,  35.0626,2,  35.0567,2,   202.69,1,   214.15,2,    150.6,2,   218.92,2,   213.76,2,     1.71,2,     0.12,     0.28,2,     0.03,     0.16,2,     0.01,    0.129,2,    0.019,    2.180,2,    1.282,2, -999.000,5,   2034.7,2,   2306.9,2,   8.0059,6,    0.983,2,    0.004,     80.7,2,      3.8,  19.9198,  24.8307
    49MR0505_1,   P03,    74,  1,     32, X12044,2,20051111,1523, 24.2823,-141.1493, 4991,    202.1,2,  16.5915,2,  16.59064,2,  34.5466,2,  34.5477,2,   198.05,1,   208.97,2,    203.0,2,   210.93,2,   208.77,2,     3.53,2,     0.13,     2.97,2,     0.04,     0.02,2,     0.01,    0.315,2,    0.014, -999.000,5, -999.000,5, -999.000,5,   2042.7,2,   2276.1,2,   7.9363,2,    0.743,2,    0.003,     77.9,6,      2.6,  16.5588,  25.2700
    49MR0505_1,   P03,    74,  1,     31, X12051,2,20051111,1523, 24.2823,-141.1493, 4991,    252.7,2,  13.1019,2,  13.09605,2,  34.1836,2,  34.1875,2,   203.72,1,   214.13,2,    253.4,2,   213.32,2,   214.44,2,     7.24,2,     0.13,     7.70,2,     0.05,     0.01,2,     0.01,    0.629,2,    0.013,    2.954,6,    1.674,6,    0.122,6,   2059.0,2,   2250.9,2,   7.8659,2,    0.535,2,    0.002,     77.9,2,      3.6,  13.0672,  25.7470
    49MR0505_1,   P03,    74,  1,     30, X12042,2,20051111,1523, 24.2823,-141.1493, 4991,    300.2,2,  11.1172,2,  11.11973,2,  34.0791,2,  34.0770,2,   204.25,1,   214.02,2,    298.7,2,   200.06,2,   213.06,2,    12.63,2,     0.15,    12.39,2,     0.07,     0.00,2,     0.01,    0.941,2,    0.013,    3.172,2,    1.763,2,    0.115,2,   2082.4,2,   2252.3,2,   7.8078,2,    0.423,2,    0.003,     65.7,2,      3.5,  11.0801,  26.0440
    49MR0505_1,   P03,    74,  1,     29, X12041,2,20051111,1523, 24.2823,-141.1493, 4991,    399.2,2,   8.5178,2,   8.51636,2,  34.0562,2,  34.0583,2,   154.35,1,   161.36,2,    401.0,2,   169.05,2,   161.86,2,    30.72,2,     0.19,    23.05,2,     0.10,     0.00,2,     0.01,    1.662,2,    0.014,    2.843,2,    1.444,2,    0.119,2,   2158.1,2,   2262.0,2,   7.6553,2,    0.086,2,    0.005,     26.1,2,      3.5,   8.4759,  26.4608
    49MR0505_1,   P03,    74,  1,     28, X12016,2,20051111,1523, 24.2823,-141.1493, 4991,    500.6,2,   6.4025,2,   6.40035,2,  34.0366,2,  34.0374,6,    88.26,1,    92.33,2,    505.7,2,    98.59,2,    91.73,2,    57.02,2,     0.24,    33.56,2,     0.13,     0.00,2,     0.01,    2.452,2,    0.016,    1.434,2,    0.687,2,    0.058,2,   2239.2,2,   2284.2,2,   7.4784,2,   -0.271,2,    0.005,    -45.1,2,      3.2,   6.3576,  26.7456
    49MR0505_1,   P03,    74,  1,     27, X12039,2,20051111,1523, 24.2823,-141.1493, 4991,    602.0,2,   5.2976,2,   5.30079,2,  34.1201,2,  34.1191,2,    41.82,1,    43.94,2,    601.7,2,    44.75,2,    43.81,2,    79.18,2,     0.29,    39.51,2,     0.14,     0.00,2,     0.01,    2.906,2,    0.017,    0.396,2,    0.215,2,    0.019,2,   2297.6,2,   2303.1,2,   7.3846,2,   -0.418,2,    0.004,   -115.3,2,      3.1,   5.2482,  26.9489
    49MR0505_1,   P03,    74,  1,     26, X12038,2,20051111,1523, 24.2823,-141.1493, 4991,    702.2,2,   4.8635,2,   4.86417,2,  34.2516,2,  34.2509,2,    18.11,1,    19.18,2,    702.3,2,    18.72,2,    18.86,2,    93.57,2,     0.32,    42.17,2,     0.15,     0.00,2,     0.01,    3.141,2,    0.018,    0.066,2,    0.035,2,    0.010,2,   2330.5,2,   2328.3,2,   7.3489,2,   -0.490,2,    0.005,   -149.0,2,      3.0,   4.8075,  27.1038
    49MR0505_1,   P03,    74,  1,     25, X12037,2,20051111,1523, 24.2823,-141.1493, 4991,    800.7,2,   4.5108,2,   4.51088,2,  34.3442,2,  34.3433,2,    15.81,1,    16.70,2,    797.7,2,    16.93,2,    16.43,2,   102.97,2,     0.35,    43.15,2,     0.15,     0.00,2,     0.01,    3.199,2,    0.018,    0.020,6,    0.012,6,    0.000,6,   2341.8,2,   2343.0,6,   7.3542,2,   -0.461,2,    0.005,   -176.7,2,      2.9,   4.4485,  27.2170
    49MR0505_1,   P03,    74,  1,     24, X12008,2,20051111,1523, 24.2823,-141.1493, 4991,    899.0,2,   4.2775,2,   4.27795,2,  34.4332,2,  34.4325,2,    23.03,1,    24.14,2,    899.4,2,    23.97,2,    23.87,2,   107.69,2,     0.36,    43.21,2,     0.15,     0.00,2,     0.01,    3.181,2,    0.018,    0.006,2,    0.003,2,    0.000,2,   2344.8,2,   2357.7,2,   7.3767,2,   -0.482,2,    0.002,   -186.7,2,      2.8,   4.2083,  27.3135
    49MR0505_1,   P03,    74,  1,     23, X12035,2,20051111,1523, 24.2823,-141.1493, 4991,   1000.8,2,   4.0117,2,   4.01193,2,  34.4808,2,  34.4803,6,    30.16,1,    31.52,2,   1000.3,2,    32.06,2,    31.48,2,   113.05,2,     0.37,    43.10,2,     0.15,     0.00,2,     0.01,    3.168,2,    0.018,    0.004,2,    0.000,2,    0.000,2,   2347.6,2,   2367.5,2,   7.3953,2,   -0.313,3,    0.003,   -201.1,2,      2.9,   3.9359,  27.3798
    49MR0505_1,   P03,    74,  1,     22, X12034,2,20051111,1523, 24.2823,-141.1493, 4991,   1202.6,2,   3.4774,2,   3.47785,2,  34.5284,2,  34.5284,2,    40.02,1,    41.91,2,   1204.9,2,    41.80,2,    42.02,2,   124.96,2,     0.39,    42.95,2,     0.15,     0.00,2,     0.01,    3.137,2,    0.018,    0.001,2,    0.002,2,    0.000,2,   2355.5,2,   2381.7,2,   7.4139,2,   -0.383,2,    0.002,   -219.0,2,      2.9,   3.3894,  27.4721
    49MR0505_1,   P03,    74,  1,     21, X12033,2,20051111,1523, 24.2823,-141.1493, 4991,   1401.8,2,   3.0519,2,   3.05249,2,  34.5578,2,  34.5576,2,    51.53,1,    54.10,2,   1402.5,2,    54.23,2,    54.23,2,   133.88,2,     0.41,    42.34,2,     0.15,     0.00,2,     0.01,    3.071,2,    0.018,    0.003,2,    0.005,2,    0.000,2,   2355.2,4,   2392.4,2,   7.4335,2,   -0.298,2,    0.004,   -224.0,2,      2.8,   2.9517,  27.5365
    49MR0505_1,   P03,    74,  1,     20, X12032,2,20051111,1523, 24.2823,-141.1493, 4991,   1601.2,2,   2.6746,2,   2.67465,2,  34.5814,2,  34.5810,2,    61.31,1,    64.61,2,   1602.4,2,    64.48,2,    64.81,2,   142.82,2,     0.43,    41.80,2,     0.15,     0.00,2,     0.01,    3.012,2,    0.017,    0.001,2,    0.000,2,    0.000,2,   2364.9,2,   2404.5,2,   7.4520,6,   -0.248,2,    0.004,   -224.5,2,      2.8,   2.5622,  27.5899
    49MR0505_1,   P03,    74,  1,     19, X12001,2,20051111,1523, 24.2823,-141.1493, 4991,   1799.6,2,   2.3583,2,   2.35836,2,  34.6020,2,  34.6022,6,    69.44,1,    73.56,2,   1800.8,2,    72.75,2,    73.51,2,   151.24,2,     0.45,    41.23,2,     0.15,     0.00,2,     0.01,    2.958,2,    0.017,    0.000,2,    0.000,2,    0.000,2,   2367.9,2,   2406.9,2,   7.4665,2,   -0.232,2,    0.003,   -240.1,2,      2.9,   2.2335,  27.6340
    49MR0505_1,   P03,    74,  1,     18, X12030,2,20051111,1523, 24.2823,-141.1493, 4991,   5066.9,2,   1.4797,2,   1.47973,2,  34.6945,2,  34.6946,2,   159.21,1,   165.75,2,   5066.9,2,   165.03,2,   165.25,2,   142.80,2,     0.43,    35.27,2,     0.13,     0.00,2,     0.01,    2.453,2,    0.016,    0.000,2,    0.000,2,    0.000,2,   2313.9,2,   2409.3,2,   7.6084,2, -999.000,9, -999.000,   -999.0,9,   -999.0,   1.0380,  27.7974
    49MR0505_1,   P03,    74,  1,     17, X12049,2,20051111,1523, 24.2823,-141.1493, 4991,   2200.8,2,   1.9287,2,   1.92875,2,  34.6337,2,  34.6337,2,    85.63,1,    91.08,2,   2201.5,2,    90.78,2,    91.09,2,   162.18,2,     0.48,    40.19,2,     0.15,     0.00,2,     0.01,    2.855,2,    0.017,    0.000,2,    0.000,2,    0.000,2,   2364.8,2,   2416.6,2,   7.4988,2,   -0.193,2,    0.003,   -244.7,2,      2.9,   1.7763,  27.6956
    49MR0505_1,   P03,    74,  1,     16, X12028,2,20051111,1523, 24.2823,-141.1493, 4991,   2401.9,2,   1.7891,2,   1.78917,2,  34.6451,2,  34.6451,2,    93.20,1,    99.33,2,   2402.2,2,    99.52,2,    99.10,2,   165.37,2,     0.48,    39.70,2,     0.14,     0.00,2,     0.01,    2.813,2,    0.017, -999.000,9, -999.000,9, -999.000,9,   2359.5,2,   2422.9,2,   7.5112,2,   -0.145,2,    0.002,   -246.5,2,      2.8,   1.6215,  27.7164
    49MR0505_1,   P03,    74,  1,     15, X12009,2,20051111,1523, 24.2823,-141.1493, 4991,   2601.0,2,   1.6854,2,   1.68533,2,  34.6543,2,  34.6543,6,   100.40,1,   106.94,2,   2601.0,2,   107.39,2,   106.71,2,   166.97,2,     0.49,    39.21,2,     0.14,     0.00,2,     0.01,    2.768,2,    0.017,    0.000,2,    0.000,2,    0.000,2,   2358.9,2,   2423.8,6,   7.5255,2,   -0.093,2,    0.004,   -243.8,2,      2.8,   1.5019,  27.7326
    49MR0505_1,   P03,    74,  1,     14, X12026,2,20051111,1523, 24.2823,-141.1493, 4991,   2800.7,2,   1.5979,2,   1.59801,2,  34.6630,2,  34.6628,2,   108.42,1,   115.70,2,   2801.1,2,   115.48,2,   115.58,2,   167.12,2,     0.49,    38.66,2,     0.14,     0.00,2,     0.01,    2.722,2,    0.017, -999.000,9, -999.000,9, -999.000,9,   2356.9,2,   2426.5,2,   7.5405,6,   -0.081,2,    0.002,   -244.3,2,      3.0,   1.3978,  27.7471
    49MR0505_1,   P03,    74,  1,     13, X12025,2,20051111,1523, 24.2823,-141.1493, 4991,   3000.6,2,   1.5418,2,   1.54194,2,  34.6697,2,  34.6698,2,   115.60,1,   123.38,2,   3000.9,2,   123.13,2,   123.12,2,   165.91,2,     0.48,    38.18,2,     0.14,     0.00,2,     0.01,    2.682,2,    0.017,    0.002,2,    0.002,2,    0.000,2,   2045.7,4,   2425.7,2,   7.5554,2,   -0.073,6,    0.024,   -240.4,6,      1.9,   1.3241,  27.7577
    49MR0505_1,   P03,    74,  1,     12, X12024,2,20051111,1523, 24.2823,-141.1493, 4991,   3250.8,2,   1.4942,2,   1.49430,2,  34.6763,2,  34.6762,2,   123.46,1,   131.62,2,   3250.9,2,   131.93,2,   131.49,2,   163.64,2,     0.48,    37.56,2,     0.14,     0.00,2,     0.01,    2.633,2,    0.017, -999.000,9, -999.000,9, -999.000,9,   2090.1,4,   2423.2,2,   7.5694,2,    0.016,2,    0.003,   -236.3,2,      2.7,   1.2532,  27.7680
    49MR0505_1,   P03,    74,  1,     11, X12023,2,20051111,1523, 24.2823,-141.1493, 4991,   3501.2,2,   1.4665,2,   1.46671,2,  34.6812,2,  34.6813,2,   130.16,1,   138.46,2,   3501.5,2,   138.58,2,   138.64,2,   161.00,2,     0.47,    37.12,2,     0.14,     0.00,2,     0.01,    2.596,2,    0.016,    0.000,2,    0.001,2,    0.000,2,   2266.2,4,   2424.4,2,   7.5792,2,    0.080,2,    0.003,   -229.0,2,      2.8,   1.2011,  27.7756
    49MR0505_1,   P03,    74,  1,     10, X12022,2,20051111,1523, 24.2823,-141.1493, 4991,   3751.4,2,   1.4584,2,   1.45856,2,  34.6848,2,  34.6851,2,   135.50,1,   143.83,2,   3751.3,2,   144.81,2,   144.14,2,   158.40,2,     0.47,    36.73,2,     0.14,     0.00,2,     0.01,    2.564,2,    0.016, -999.000,9, -999.000,9, -999.000,9,   2310.4,4,   2422.6,2,   7.5877,2,    0.093,2,    0.004,   -227.2,2,      2.8,   1.1673,  27.7807
    49MR0505_1,   P03,    74,  1,      9, X12021,2,20051111,1523, 24.2823,-141.1493, 4991,   3999.7,2,   1.4642,2,   1.46431,2,  34.6869,2,  34.6869,6,   139.11,1,   147.30,2,   3999.8,2,   148.02,2,   147.53,2,   156.49,2,     0.46,    36.52,2,     0.14,     0.00,2,     0.01,    2.551,2,    0.016,    0.003,2,    0.004,2,    0.000,2,   2329.9,2,   2418.4,2,   7.5926,2,    0.125,2,    0.004,   -221.1,2,      2.8,   1.1463,  27.7839
    49MR0505_1,   P03,    74,  1,      8, X12020,2,20051111,1523, 24.2823,-141.1493, 4991,   4251.0,2,   1.4781,2,   1.47820,2,  34.6882,2,  34.6884,2,   141.94,1,   149.97,2,   4251.0,2,   150.62,2,   150.16,2,   154.80,2,     0.46,    36.38,2,     0.13,     0.00,2,     0.01,    2.535,2,    0.016, -999.000,9, -999.000,9, -999.000,9,   2328.3,6,   2417.1,2,   7.5964,2,    0.155,2,    0.002,   -218.5,2,      3.0,   1.1321,  27.7859
    49MR0505_1,   P03,    74,  1,      7, X12019,2,20051111,1523, 24.2823,-141.1493, 4991,   4500.8,2,   1.5021,2,   1.50219,2,  34.6888,2,  34.6886,2,   143.55,1,   151.05,2,   4500.8,2,   151.69,2,   151.33,2,   154.03,2,     0.46,    36.30,2,     0.13,     0.00,2,     0.01,    2.530,2,    0.016,    0.006,2,    0.006,2,    0.000,2,   2327.8,2,   2418.9,6,   7.5997,2,    0.143,2,    0.005,   -216.1,2,      2.8,   1.1270,  27.7868
    49MR0505_1,   P03,    74,  1,      6, X12018,2,20051111,1523, 24.2823,-141.1493, 4991,   4750.3,2,   1.5193,2,   1.51926,2,  34.6896,2,  34.6895,2,   146.39,1,   153.24,2,   4750.2,2,   153.72,2,   153.41,2,   152.28,2,     0.45,    36.15,2,     0.13,     0.00,2,     0.01,    2.518,2,    0.016, -999.000,9, -999.000,9, -999.000,9,   2323.7,2,   2412.0,2,   7.6010,6,    0.155,2,    0.004,   -220.8,2,      3.0,   1.1144,  27.7882
    49MR0505_1,   P03,    74,  1,      5, X12043,2,20051111,1523, 24.2823,-141.1493, 4991,   5000.4,2,   1.4867,2,   1.48671,2,  34.6936,2,  34.6936,2,   156.47,1,   163.05,2,   5000.4,2,   162.91,2,   163.16,2,   144.56,2,     0.44,    35.37,2,     0.13,     0.00,2,     0.01,    2.466,2,    0.016, -999.000,9, -999.000,9, -999.000,9,   2313.8,2,   2410.1,2,   7.6091,2,    0.226,2,    0.006,   -215.6,2,      4.0,   1.0528,  27.7956
    49MR0505_1,   P03,    74,  1,      4, X12010,9,20051111,1523, 24.2823,-141.1493, 4991,     49.5,2,  22.8313,2,  22.83135,2,  35.1323,2,-999.0000,9,   204.99,1,   216.98,2,     48.7,2,   216.42,2,  -999.00,9,  -999.00,9,  -999.00,  -999.00,9,  -999.00,  -999.00,9,  -999.00, -999.000,9, -999.000, -999.000,9, -999.000,9, -999.000,9,   -999.0,9,   -999.0,9,-999.0000,9, -999.000,9, -999.000,   -999.0,9,   -999.0,  22.8213,  24.0854
    49MR0505_1,   P03,    74,  1,      3, X12015,9,20051111,1523, 24.2823,-141.1493, 4991,      9.5,2,  22.8235,2,  22.82405,2,  35.1314,2,-999.0000,9,   205.14,1,   217.26,2,      8.9,2,   216.91,2,  -999.00,9,  -999.00,9,  -999.00,  -999.00,9,  -999.00,  -999.00,9,  -999.00, -999.000,9, -999.000, -999.000,9, -999.000,9, -999.000,9,   -999.0,9,   -999.0,9,-999.0000,9, -999.000,9, -999.000,   -999.0,9,   -999.0,  22.8216,  24.0846
    49MR0505_1,   P03,    74,  1,      2, X12014,2,20051111,1523, 24.2823,-141.1493, 4991,   2000.7,2,   2.1148,2,   2.11479,2,  34.6197,2,  34.6197,2,    77.69,1,    82.52,2,   2001.2,2,    82.56,2,    82.59,2,   157.65,2,     0.47,    40.71,2,     0.15,     0.00,2,     0.01,    2.910,2,    0.017, -999.000,9, -999.000,9, -999.000,9,   2364.0,2,   2415.7,2,   7.4853,2,   -0.212,2,    0.004,   -211.3,4,      2.8,   1.9766,  27.6688
    49MR0505_1,   P03,    74,  1,      1, X12013,2,20051111,1523, 24.2823,-141.1493, 4991,   5066.1,2,   1.4797,2,   1.47965,2,  34.6945,2,  34.6946,6,   159.26,1,   165.65,2,   5066.1,2,   164.93,2,   165.38,2,   142.77,2,     0.43,    35.24,2,     0.13,     0.00,2,     0.01,    2.456,2,    0.016,    0.003,2,    0.004,2,    0.000,2,   2310.9,2,   2408.5,2,   7.6108,2,    0.235,2,    0.004,   -201.5,2,      2.8,   1.0381,  27.7974