BOTTLE,20100316JAMSTECRIGC
EXPOCODE,SECT,STNNBR,CASTNO,SAMPNO,BTLNBR,BTLNBR_FLAG_W,DATE,TIME,LATITUDE,LONGITUDE,DEPTH,CTDPRS,CTDPRS_FLAG_W,CTDTMP,CTDTMP_FLAG_W,SBE35,SBE35_FLAG_W,CTDSAL,CTDSAL_FLAG_W,SALNTY,SALNTY_FLAG_W,CTDOXY,CTDOXY_FLAG_W,OPTOXY,OPTOXY_FLAG_W,DWNPRS,DWNPRS_FLAG_W,DWNOXY,DWNOXY_FLAG_W,OXYGEN,OXYGEN_FLAG_W,SILCAT,SILCAT_FLAG_W,SILUNC,NITRAT,NITRAT_FLAG_W,NRAUNC,NITRIT,NITRIT_FLAG_W,NRIUNC,PHSPHT,PHSPHT_FLAG_W,PHPUNC,CFC-11,CFC-11_FLAG_W,CFC-12,CFC-12_FLAG_W,CFC113,CFC113_FLAG_W,TCARBN,TCARBN_FLAG_W,ALKALI,ALKALI_FLAG_W,PH,PH_FLAG_W,DELC13,DELC13_FLAG_W,C13ERR,DELC14,DELC14_FLAG_W,C14ERR,THETA,SIG0
,,,,,,,,UTC,DEG,DEG,M,DBAR,,ITS-90,,ITS-90,,PSS-78,,PSS-78,,UMOL/KG,,UMOL/KG,,DBAR,,UMOL/KG,,UMOL/KG,,UMOL/KG,,UMOL/KG,UMOL/KG,,UMOL/KG,UMOL/KG,,UMOL/KG,UMOL/KG,,UMOL/KG,PMOL/KG,,PMOL/KG,,PMOL/KG,,UMOL/KG,,UMOL/KG,,,,/MILLE,,/MILLE,/MILLE,,/MILLE,DEG C,KG/CUM
    49MR0505_1,   P03,   100,  1,      0,   -999,9,20051115,0953, 24.2680,-151.3197, 5458,   -999.0,9,-999.0000,9,-999.00000,9,-999.0000,9,  35.3461,2,  -999.00,9,  -999.00,9,   -999.0,9,  -999.00,9,  -999.00,9,  -999.00,9,  -999.00,  -999.00,9,  -999.00,  -999.00,9,  -999.00, -999.000,9, -999.000, -999.000,9, -999.000,9, -999.000,9,   -999.0,9,   -999.0,9,-999.0000,9, -999.000,9, -999.000,   -999.0,9,   -999.0,-999.0000,-999.0000
    49MR0505_1,   P03,   100,  1,     36, X12048,2,20051115,0953, 24.2680,-151.3197, 5458,      9.3,2,  24.3620,2,  24.36206,2,  35.3357,2,  35.3361,2,   195.95,1,   211.04,2,     11.2,2,   211.71,2,   211.13,2,     0.94,2,     0.12,     0.02,2,     0.03,     0.00,2,     0.01,    0.048,2,    0.035,    1.736,2,    1.068,2, -999.000,5,   -999.0,9,   -999.0,9,-999.0000,9, -999.000,9, -999.000,   -999.0,9,   -999.0,  24.3600,  23.7882
    49MR0505_1,   P03,   100,  1,     35, X12047,2,20051115,0953, 24.2680,-151.3197, 5458,     50.1,2,  24.3392,2,  24.33967,2,  35.3270,2,  35.3273,2,   196.00,1,   211.07,2,     49.2,2,   211.16,2,   211.12,2,     0.93,2,     0.12,     0.02,2,     0.03,     0.00,2,     0.01,    0.048,2,    0.035,    1.748,2,    1.073,2, -999.000,5,   -999.0,9,   -999.0,9,-999.0000,9, -999.000,9, -999.000,   -999.0,9,   -999.0,  24.3285,  23.7911
    49MR0505_1,   P03,   100,  1,     34, X12046,2,20051115,0953, 24.2680,-151.3197, 5458,    100.9,2,  22.6931,2,  22.71755,2,  35.2435,2,  35.2429,2,   202.63,1,   218.97,2,    108.0,2,   215.93,2,   217.02,2,     1.14,2,     0.12,     0.02,2,     0.03,     0.01,2,     0.01,    0.050,2,    0.034,    1.944,2,    1.184,2, -999.000,5,   -999.0,9,   -999.0,9,-999.0000,9, -999.000,9, -999.000,   -999.0,9,   -999.0,  22.6727,  24.2123
    49MR0505_1,   P03,   100,  1,     33, X12003,2,20051115,0953, 24.2680,-151.3197, 5458,    150.3,2,  20.3521,2,  20.35111,2,  35.1018,2,  35.1002,2,   183.09,1,   196.83,2,    162.2,2,   195.44,2,   197.25,2,     1.81,2,     0.12,     1.37,2,     0.04,     0.04,2,     0.01,    0.179,2,    0.017,    2.155,2,    1.273,2, -999.000,5,   -999.0,9,   -999.0,9,-999.0000,9, -999.000,9, -999.000,   -999.0,9,   -999.0,  20.3240,  24.7535
    49MR0505_1,   P03,   100,  1,     32, X12044,2,20051115,0953, 24.2680,-151.3197, 5458,    200.9,2,  17.8278,2,  17.82743,2,  34.8344,2,  34.7923,2,   192.51,1,   206.57,2,    205.0,2,   206.77,2,   206.71,2,     3.29,2,     0.13,     2.57,2,     0.04,     0.02,2,     0.01,    0.270,2,    0.015,    2.443,2,    1.392,2, -999.000,5,   -999.0,9,   -999.0,9,-999.0000,9, -999.000,9, -999.000,   -999.0,9,   -999.0,  17.7936,  25.1959
    49MR0505_1,   P03,   100,  1,     31, X12051,2,20051115,0953, 24.2680,-151.3197, 5458,    250.4,2,  14.2056,2,  14.20655,2,  34.3951,2,  34.3857,2,   195.26,1,   208.86,2,    258.1,2,   208.65,2,   209.66,2,     6.59,2,     0.13,     7.10,2,     0.05,     0.01,2,     0.01,    0.561,2,    0.013,    2.830,6,    1.553,6,    0.078,6,   -999.0,9,   -999.0,9,-999.0000,9, -999.000,9, -999.000,   -999.0,9,   -999.0,  14.1692,  25.6840
    49MR0505_1,   P03,   100,  1,     30, X12042,2,20051115,0953, 24.2680,-151.3197, 5458,    299.3,2,  12.3891,2,  12.38817,2,  34.2448,2,  34.2401,2,   198.77,1,   212.38,2,    304.5,2,   212.34,2,   212.96,2,     9.93,2,     0.14,    10.21,2,     0.06,     0.01,2,     0.01,    0.765,2,    0.013,    3.048,2,    1.631,2,    0.076,2,   -999.0,9,   -999.0,9,-999.0000,9, -999.000,9, -999.000,   -999.0,9,   -999.0,  12.3494,  25.9356
    49MR0505_1,   P03,   100,  1,     29, X12041,2,20051115,0953, 24.2680,-151.3197, 5458,    400.3,2,   9.4699,2,   9.47023,2,  34.1115,2,  34.1104,2,   168.35,1,   179.90,2,    407.3,2,   188.05,2,   179.68,2,    23.91,2,     0.17,    19.54,2,     0.09,     0.01,2,     0.01,    1.425,2,    0.014,    2.944,2,    1.467,2,    0.092,2,   -999.0,9,   -999.0,9,-999.0000,9, -999.000,9, -999.000,   -999.0,9,   -999.0,   9.4250,  26.3538
    49MR0505_1,   P03,   100,  1,     28, X12016,2,20051115,0953, 24.2680,-151.3197, 5458,    500.4,2,   7.3041,2,   7.30383,2,  34.0362,2,  34.0363,6,   118.40,1,   126.88,2,    499.7,2,   135.59,2,   125.97,2,    44.34,2,     0.22,    28.96,2,     0.11,     0.00,2,     0.01,    2.098,2,    0.015,    2.053,2,    0.957,2,    0.060,2,   -999.0,9,   -999.0,9,-999.0000,9, -999.000,9, -999.000,   -999.0,9,   -999.0,   7.2558,  26.6241
    49MR0505_1,   P03,   100,  1,     27, X12039,2,20051115,0953, 24.2680,-151.3197, 5458,    599.8,2,   5.6822,2,   5.68140,2,  34.0558,2,  34.0573,2,    68.40,1,    73.63,2,    599.6,2,    72.41,2,    72.57,2,    69.22,2,     0.27,    36.54,2,     0.14,     0.01,2,     0.01,    2.667,2,    0.017,    0.912,2,    0.422,2,    0.026,2,   -999.0,9,   -999.0,9,-999.0000,9, -999.000,9, -999.000,   -999.0,9,   -999.0,   5.6313,  26.8522
    49MR0505_1,   P03,   100,  1,     26, X12038,2,20051115,0953, 24.2680,-151.3197, 5458,    699.5,2,   4.9359,2,   4.93609,2,  34.1706,2,  34.1721,2,    27.58,1,    29.66,2,    699.6,2,    29.25,2,    29.17,2,    89.09,2,     0.31,    41.42,2,     0.15,     0.00,2,     0.01,    3.053,2,    0.018,    0.187,2,    0.087,2,    0.000,2,   -999.0,9,   -999.0,9,-999.0000,9, -999.000,9, -999.000,   -999.0,9,   -999.0,   4.8799,  27.0314
    49MR0505_1,   P03,   100,  1,     25, X12037,2,20051115,0953, 24.2680,-151.3197, 5458,    800.9,2,   4.5082,2,   4.50864,2,  34.2921,2,  34.2925,2,    18.42,1,    20.28,2,    802.8,2,    19.86,2,    19.96,2,   101.51,2,     0.34,    42.83,2,     0.15,     0.01,2,     0.01,    3.161,2,    0.018,    0.044,6,    0.018,6,    0.000,6,   -999.0,9,   -999.0,9,-999.0000,9, -999.000,9, -999.000,   -999.0,9,   -999.0,   4.4459,  27.1759
    49MR0505_1,   P03,   100,  1,     24, X12008,2,20051115,0953, 24.2680,-151.3197, 5458,    900.4,2,   4.2263,2,   4.22615,2,  34.3884,2,  34.3883,2,    23.53,1,    25.61,2,    901.1,2,    26.61,2,    25.05,2,   108.34,2,     0.36,    43.08,2,     0.15,     0.00,2,     0.01,    3.151,2,    0.018,    0.016,2,    0.008,2,    0.000,2,   -999.0,9,   -999.0,9,-999.0000,9, -999.000,9, -999.000,   -999.0,9,   -999.0,   4.1574,  27.2832
    49MR0505_1,   P03,   100,  1,     23, X12035,2,20051115,0953, 24.2680,-151.3197, 5458,    999.9,2,   3.9558,2,   3.95576,2,  34.4512,2,  34.4511,6,    32.20,1,    34.78,2,   1000.4,2,    35.14,2,    35.15,2,   113.87,2,     0.37,    42.87,2,     0.15,     0.00,2,     0.01,    3.123,2,    0.018,    0.020,2,    0.005,2,    0.000,2,   -999.0,9,   -999.0,9,-999.0000,9, -999.000,9, -999.000,   -999.0,9,   -999.0,   3.8806,  27.3619
    49MR0505_1,   P03,   100,  1,     22, X12034,2,20051115,0953, 24.2680,-151.3197, 5458,   1199.5,2,   3.4609,2,   3.46073,2,  34.5171,2,  34.5170,2,    46.10,1,    49.78,2,   1198.7,2,    49.85,2,    49.74,2,   123.73,2,     0.39,    42.39,2,     0.15,     0.00,2,     0.01,    3.070,2,    0.018,    0.010,2,    0.001,2,    0.000,2,   -999.0,9,   -999.0,9,-999.0000,9, -999.000,9, -999.000,   -999.0,9,   -999.0,   3.3733,  27.4646
    49MR0505_1,   P03,   100,  1,     21, X12033,2,20051115,0953, 24.2680,-151.3197, 5458,   1401.2,2,   3.0567,2,   3.05656,2,  34.5528,2,  34.5525,2,    54.80,1,    59.20,2,   1400.9,2,    59.02,2,    59.21,2,   132.73,2,     0.41,    42.01,2,     0.15,     0.00,2,     0.01,    3.031,2,    0.018,    0.000,2,    0.000,2,    0.000,2,   -999.0,9,   -999.0,9,-999.0000,9, -999.000,9, -999.000,   -999.0,9,   -999.0,   2.9565,  27.5321
    49MR0505_1,   P03,   100,  1,     20, X12032,2,20051115,0953, 24.2680,-151.3197, 5458,   1600.8,2,   2.6933,2,   2.69349,2,  34.5768,2,  34.5766,2,    63.01,1,    68.31,2,   1600.4,2,    68.02,2,    68.15,2,   141.26,2,     0.43,    41.51,2,     0.15,     0.00,2,     0.01,    2.989,2,    0.017,    0.000,2,    0.000,2,    0.000,2,   -999.0,9,   -999.0,9,-999.0000,9, -999.000,9, -999.000,   -999.0,9,   -999.0,   2.5807,  27.5846
    49MR0505_1,   P03,   100,  1,     19, X12001,2,20051115,0953, 24.2680,-151.3197, 5458,   1799.5,2,   2.4021,2,   2.40226,2,  34.5974,2,  34.5974,2,    70.42,1,    76.61,2,   1799.1,2,    76.19,2,    76.47,2,   148.38,2,     0.45,    41.16,2,     0.15,     0.00,2,     0.01,    2.940,2,    0.017,    0.001,2,    0.000,2,    0.000,2,   -999.0,9,   -999.0,9,-999.0000,9, -999.000,9, -999.000,   -999.0,9,   -999.0,   2.2767,  27.6267
    49MR0505_1,   P03,   100,  1,     18, X12030,2,20051115,0953, 24.2680,-151.3197, 5458,   2001.0,2,   2.1542,2,   2.15408,2,  34.6149,2,  34.6150,2,    77.20,1,    84.08,2,   2000.7,2,    83.76,2,    83.66,2,   154.99,2,     0.46,    40.66,2,     0.15,     0.00,2,     0.01,    2.895,2,    0.017,    0.006,2,    0.000,2,    0.000,2,   -999.0,9,   -999.0,9,-999.0000,9, -999.000,9, -999.000,   -999.0,9,   -999.0,   2.0154,  27.6619
    49MR0505_1,   P03,   100,  1,     17, X12049,2,20051115,0953, 24.2680,-151.3197, 5458,   2200.4,2,   1.9932,2,   1.99351,2,  34.6306,2,  34.6302,6,    86.49,1,    94.58,2,   2199.8,2,    94.19,2,    94.24,2,   156.97,2,     0.46,    40.02,2,     0.14,     0.00,2,     0.01,    2.845,2,    0.017,    0.010,2,    0.000,2,    0.000,2,   -999.0,9,   -999.0,9,-999.0000,9, -999.000,9, -999.000,   -999.0,9,   -999.0,   1.8398,  27.6883
    49MR0505_1,   P03,   100,  1,     16, X12028,2,20051115,0953, 24.2680,-151.3197, 5458,   2400.9,2,   1.8624,2,   1.86254,2,  34.6404,2,  34.6405,2,    92.18,1,   100.74,2,   2400.5,2,   100.06,2,   100.60,2,   159.89,2,     0.47,    39.69,2,     0.14,     0.00,2,     0.01,    2.810,2,    0.017,    0.002,2,    0.000,2,    0.000,2,   -999.0,9,   -999.0,9,-999.0000,9, -999.000,9, -999.000,   -999.0,9,   -999.0,   1.6936,  27.7073
    49MR0505_1,   P03,   100,  1,     15, X12006,2,20051115,0953, 24.2680,-151.3197, 5458,   2600.7,2,   1.7688,2,   1.76901,2,  34.6487,2,  34.6484,2,    96.79,1,   105.61,2,   2600.3,2,   105.54,2,   105.55,2,   162.35,2,     0.48,    39.32,2,     0.14,     0.01,2,     0.01,    2.778,2,    0.017, -999.000,9, -999.000,9, -999.000,9,   -999.0,9,   -999.0,9,-999.0000,9, -999.000,9, -999.000,   -999.0,9,   -999.0,   1.5837,  27.7221
    49MR0505_1,   P03,   100,  1,     14, X12026,2,20051115,0953, 24.2680,-151.3197, 5458,   2799.5,2,   1.6834,2,   1.68346,2,  34.6574,2,  34.6572,2,   102.92,1,   112.40,2,   2798.5,2,   112.92,2,   112.38,2,   163.61,2,     0.48,    38.89,2,     0.14,     0.00,2,     0.01,    2.745,2,    0.017,    0.000,2,    0.000,2,    0.000,2,   -999.0,9,   -999.0,9,-999.0000,9, -999.000,9, -999.000,   -999.0,9,   -999.0,   1.4817,  27.7366
    49MR0505_1,   P03,   100,  1,     13, X12025,2,20051115,0953, 24.2680,-151.3197, 5458,   2999.4,2,   1.6079,2,   1.60805,2,  34.6658,2,  34.6658,2,   109.47,1,   119.82,2,   2998.8,2,   119.98,2,   119.71,2,   163.94,2,     0.48,    38.48,2,     0.14,     0.01,2,     0.01,    2.703,2,    0.017, -999.000,9, -999.000,9, -999.000,9,   -999.0,9,   -999.0,9,-999.0000,9, -999.000,9, -999.000,   -999.0,9,   -999.0,   1.3888,  27.7500
    49MR0505_1,   P03,   100,  1,     12, X12024,2,20051115,0953, 24.2680,-151.3197, 5458,   3250.2,2,   1.5577,2,   1.55784,2,  34.6726,2,  34.6724,6,   116.12,1,   127.13,2,   3249.7,2,   127.19,2,   126.77,2,   163.13,2,     0.48,    38.01,2,     0.14,     0.00,2,     0.01,    2.654,2,    0.017,    0.000,2,    0.000,2,    0.000,2,   -999.0,9,   -999.0,9,-999.0000,9, -999.000,9, -999.000,   -999.0,9,   -999.0,   1.3153,  27.7607
    49MR0505_1,   P03,   100,  1,     11, X12023,2,20051115,0953, 24.2680,-151.3197, 5458,   3501.4,2,   1.5238,2,   1.52397,2,  34.6779,2,  34.6776,2,   122.01,1,   133.42,2,   3500.8,2,   133.60,2,   133.23,2,   161.85,2,     0.48,    37.48,2,     0.14,     0.00,2,     0.01,    2.627,2,    0.017, -999.000,9, -999.000,9, -999.000,9,   -999.0,9,   -999.0,9,-999.0000,9, -999.000,9, -999.000,   -999.0,9,   -999.0,   1.2569,  27.7691
    49MR0505_1,   P03,   100,  1,     10, X12022,2,20051115,0953, 24.2680,-151.3197, 5458,   3751.5,2,   1.5027,2,   1.50283,2,  34.6817,2,  34.6814,2,   127.29,1,   138.84,2,   3751.4,2,   138.58,2,   138.81,2,   160.40,2,     0.47,    37.24,2,     0.14,     0.00,2,     0.01,    2.601,2,    0.016,    0.000,2,    0.000,2,    0.000,2,   -999.0,9,   -999.0,9,-999.0000,9, -999.000,9, -999.000,   -999.0,9,   -999.0,   1.2104,  27.7753
    49MR0505_1,   P03,   100,  1,      9, X12021,2,20051115,0953, 24.2680,-151.3197, 5458,   4000.4,2,   1.4882,2,   1.48829,2,  34.6849,2,  34.6847,2,   132.63,1,   144.25,2,   4000.3,2,   144.11,2,   144.22,2,   157.81,2,     0.47,    36.90,2,     0.14,     0.00,2,     0.01,    2.573,2,    0.016, -999.000,9, -999.000,9, -999.000,9,   -999.0,9,   -999.0,9,-999.0000,9, -999.000,9, -999.000,   -999.0,9,   -999.0,   1.1696,  27.7807
    49MR0505_1,   P03,   100,  1,      8, X12020,2,20051115,0953, 24.2680,-151.3197, 5458,   4250.6,2,   1.4884,2,   1.48849,2,  34.6873,2,  34.6870,2,   136.84,1,   148.39,2,   4250.6,2,   148.42,2,   148.52,2,   155.42,2,     0.46,    36.49,2,     0.13,     0.01,2,     0.01,    2.546,2,    0.016,    0.000,2,    0.001,2,    0.000,2,   -999.0,9,   -999.0,9,-999.0000,9, -999.000,9, -999.000,   -999.0,9,   -999.0,   1.1421,  27.7845
    49MR0505_1,   P03,   100,  1,      7, X12019,3,20051115,0953, 24.2680,-151.3197, 5458,   4500.9,2,   1.4907,2,   1.49087,2,  34.6894,2,  34.6898,6,   141.38,1,   152.81,2,   4500.8,2,   153.11,2,   153.05,2,   151.84,2,     0.45,    36.20,2,     0.13,     0.01,2,     0.01,    2.523,2,    0.016, -999.000,9, -999.000,9, -999.000,9,   -999.0,9,   -999.0,9,-999.0000,9, -999.000,9, -999.000,   -999.0,9,   -999.0,   1.1159,  27.7880
    49MR0505_1,   P03,   100,  1,      6, X12018,2,20051115,0953, 24.2680,-151.3197, 5458,   4750.5,2,   1.4883,2,   1.48855,2,  34.6917,2,  34.6916,2,   146.57,1,   157.90,2,   4750.4,2,   158.03,2,   158.01,2,   147.94,2,     0.44,    35.81,2,     0.13,     0.00,2,     0.01,    2.497,2,    0.016,    0.000,2,    0.000,2,    0.000,2,   -999.0,9,   -999.0,9,-999.0000,9, -999.000,9, -999.000,   -999.0,9,   -999.0,   1.0844,  27.7919
    49MR0505_1,   P03,   100,  1,      5, X12043,2,20051115,0953, 24.2680,-151.3197, 5458,   5000.8,2,   1.4894,2,   1.48960,2,  34.6936,2,  34.6936,2,   151.39,1,   162.42,2,   5000.7,2,   162.80,2,   162.58,2,   144.81,2,     0.44,    35.47,2,     0.13,     0.00,2,     0.01,    2.469,2,    0.016, -999.000,9, -999.000,9, -999.000,9,   -999.0,9,   -999.0,9,-999.0000,9, -999.000,9, -999.000,   -999.0,9,   -999.0,   1.0554,  27.7955
    49MR0505_1,   P03,   100,  1,      4, X12010,2,20051115,0953, 24.2680,-151.3197, 5458,   5250.2,2,   1.5005,2,   1.50069,2,  34.6950,2,  34.6949,2,   155.20,1,   165.66,2,   5250.2,2,   165.69,2,   165.81,2,   142.14,2,     0.43,    35.30,2,     0.13,     0.00,2,     0.01,    2.459,2,    0.016,    0.003,2,    0.002,2,    0.000,2,   -999.0,9,   -999.0,9,-999.0000,9, -999.000,9, -999.000,   -999.0,9,   -999.0,   1.0354,  27.7979
    49MR0505_1,   P03,   100,  1,      3, X12015,2,20051115,0953, 24.2680,-151.3197, 5458,   5500.5,2,   1.5262,2,   1.52630,2,  34.6954,2,  34.6952,2,   157.35,1,   166.77,2,   5500.5,2,   166.94,2,   166.88,2,   141.46,2,     0.43,    35.24,2,     0.13,     0.00,2,     0.01,    2.442,2,    0.016, -999.000,9, -999.000,9, -999.000,9,   -999.0,9,   -999.0,9,-999.0000,9, -999.000,9, -999.000,   -999.0,9,   -999.0,   1.0286,  27.7986
    49MR0505_1,   P03,   100,  1,      2, X12014,9,20051115,0953, 24.2680,-151.3197, 5458,      9.7,2,  24.3585,2,  24.35924,2,  35.3360,2,-999.0000,9,   196.11,1,   211.22,2,     11.8,2,   211.53,2,  -999.00,9,  -999.00,9,  -999.00,  -999.00,9,  -999.00,  -999.00,9,  -999.00, -999.000,9, -999.000, -999.000,9, -999.000,9, -999.000,9,   -999.0,9,   -999.0,9,-999.0000,9, -999.000,9, -999.000,   -999.0,9,   -999.0,  24.3564,  23.7895
    49MR0505_1,   P03,   100,  1,      1, X12013,2,20051115,0953, 24.2680,-151.3197, 5458,   5563.5,2,   1.5337,2,   1.53380,2,  34.6954,2,  34.6953,6,   158.19,1,   167.41,2,   5563.5,2,   167.08,2,   167.16,2,   141.21,2,     0.43,    35.27,2,     0.13,     0.00,2,     0.01,    2.449,2,    0.016,    0.000,2,    0.001,2,    0.000,2,   -999.0,9,   -999.0,9,-999.0000,9, -999.000,9, -999.000,   -999.0,9,   -999.0,   1.0277,  27.7987