BOTTLE,20100316JAMSTECRIGC
EXPOCODE,SECT,STNNBR,CASTNO,SAMPNO,BTLNBR,BTLNBR_FLAG_W,DATE,TIME,LATITUDE,LONGITUDE,DEPTH,CTDPRS,CTDPRS_FLAG_W,CTDTMP,CTDTMP_FLAG_W,SBE35,SBE35_FLAG_W,CTDSAL,CTDSAL_FLAG_W,SALNTY,SALNTY_FLAG_W,CTDOXY,CTDOXY_FLAG_W,OPTOXY,OPTOXY_FLAG_W,DWNPRS,DWNPRS_FLAG_W,DWNOXY,DWNOXY_FLAG_W,OXYGEN,OXYGEN_FLAG_W,SILCAT,SILCAT_FLAG_W,SILUNC,NITRAT,NITRAT_FLAG_W,NRAUNC,NITRIT,NITRIT_FLAG_W,NRIUNC,PHSPHT,PHSPHT_FLAG_W,PHPUNC,CFC-11,CFC-11_FLAG_W,CFC-12,CFC-12_FLAG_W,CFC113,CFC113_FLAG_W,TCARBN,TCARBN_FLAG_W,ALKALI,ALKALI_FLAG_W,PH,PH_FLAG_W,DELC13,DELC13_FLAG_W,C13ERR,DELC14,DELC14_FLAG_W,C14ERR,THETA,SIG0
,,,,,,,,UTC,DEG,DEG,M,DBAR,,ITS-90,,ITS-90,,PSS-78,,PSS-78,,UMOL/KG,,UMOL/KG,,DBAR,,UMOL/KG,,UMOL/KG,,UMOL/KG,,UMOL/KG,UMOL/KG,,UMOL/KG,UMOL/KG,,UMOL/KG,UMOL/KG,,UMOL/KG,PMOL/KG,,PMOL/KG,,PMOL/KG,,UMOL/KG,,UMOL/KG,,,,/MILLE,,/MILLE,/MILLE,,/MILLE,DEG C,KG/CUM
    49MR0505_1,   P03,    98,  1,      0,   -999,9,20051115,0333, 24.2525,-150.6395, 5374,   -999.0,9,-999.0000,9,-999.00000,9,-999.0000,9,  35.4170,2,  -999.00,9,  -999.00,9,   -999.0,9,  -999.00,9,  -999.00,9,  -999.00,9,  -999.00,  -999.00,9,  -999.00,  -999.00,9,  -999.00, -999.000,9, -999.000, -999.000,9, -999.000,9, -999.000,9,   -999.0,9,   -999.0,9,-999.0000,9, -999.000,9, -999.000,   -999.0,9,   -999.0,-999.0000,-999.0000
    49MR0505_1,   P03,    98,  1,     36, X12048,2,20051115,0333, 24.2525,-150.6395, 5374,     10.5,2,  23.9870,2,  23.98705,2,  35.3962,2,  35.3959,2,   198.60,1,   212.91,2,     13.5,2,   213.47,2,   212.91,2,     1.06,2,     0.12,     0.02,2,     0.03,     0.00,2,     0.01,    0.038,2,    0.042,    1.734,2,    1.058,2, -999.000,5,   2002.0,2,   2325.6,2,   8.0811,6, -999.000,9, -999.000,   -999.0,9,   -999.0,  23.9848,  23.9458
    49MR0505_1,   P03,    98,  1,     35, X12047,2,20051115,0333, 24.2525,-150.6395, 5374,     49.8,2,  23.9402,2,  23.94092,2,  35.3931,2,  35.3932,2,   198.32,1,   212.75,2,     49.1,2,   213.07,2,   213.06,2,     1.05,2,     0.12,     0.04,2,     0.03,     0.00,2,     0.01,    0.043,2,    0.038,    1.741,2,    1.061,2, -999.000,5,   2001.5,6,   2321.8,2,   8.0810,2, -999.000,9, -999.000,   -999.0,9,   -999.0,  23.9297,  23.9598
    49MR0505_1,   P03,    98,  1,     34, X12046,2,20051115,0333, 24.2525,-150.6395, 5374,    100.3,2,  21.2154,2,  21.21247,2,  35.1636,2,  35.1434,2,   201.66,1,   215.68,2,    103.2,2,   212.63,2,   216.05,2,     1.74,2,     0.12,     0.20,2,     0.03,     0.04,2,     0.01,    0.089,2,    0.023,    2.079,2,    1.250,2, -999.000,5,   2021.8,2,   2303.8,6,   8.0257,2, -999.000,9, -999.000,   -999.0,9,   -999.0,  21.1961,  24.5650
    49MR0505_1,   P03,    98,  1,     33, X12003,2,20051115,0333, 24.2525,-150.6395, 5374,    150.5,2,  18.8978,2,  18.91269,2,  34.9692,2,  34.9575,2,   195.99,1,   210.07,2,    144.3,2,   207.52,2,   210.06,2,     2.54,2,     0.12,     1.18,2,     0.04,     0.02,2,     0.01,    0.172,2,    0.017,    2.260,2,    1.317,2, -999.000,5,   2034.2,2,   2292.5,2,   7.9851,6, -999.000,9, -999.000,   -999.0,9,   -999.0,  18.8711,  25.0305
    49MR0505_1,   P03,    98,  1,     32, X12044,2,20051115,0333, 24.2525,-150.6395, 5374,    199.7,2,  16.0682,2,  16.06642,2,  34.5911,2,  34.5759,2,   191.24,1,   204.28,2,    198.9,2,   206.51,2,   205.12,2,     4.59,2,     0.13,     4.60,2,     0.05,     0.01,2,     0.01,    0.401,2,    0.013,    2.597,2,    1.455,2, -999.000,5,   2047.1,2,   2275.2,2,   7.9194,2, -999.000,9, -999.000,   -999.0,9,   -999.0,  16.0366,  25.4247
    49MR0505_1,   P03,    98,  1,     31, X12051,2,20051115,0333, 24.2525,-150.6395, 5374,    248.9,2,  13.3693,2,  13.36844,2,  34.2839,2,  34.2757,2,   196.49,1,   209.77,2,    250.8,2,   211.07,2,   210.17,2,     7.87,2,     0.14,     8.39,2,     0.06,     0.01,2,     0.01,    0.657,2,    0.013,    2.883,6,    1.570,6,    0.069,6,   2063.6,2,   2254.3,2,   7.8629,2, -999.000,9, -999.000,   -999.0,9,   -999.0,  13.3346,  25.7708
    49MR0505_1,   P03,    98,  1,     30, X12042,2,20051115,0333, 24.2525,-150.6395, 5374,    300.5,2,  11.9409,2,  11.94025,2,  34.2191,2,  34.2181,2,   200.71,1,   214.02,2,    300.6,2,   214.52,2,   214.48,2,    11.20,2,     0.14,    11.17,2,     0.06,     0.00,2,     0.01,    0.828,2,    0.013,    3.043,2,    1.631,2,    0.074,2,   2075.9,2,   2252.5,2,   7.8334,2, -999.000,9, -999.000,   -999.0,9,   -999.0,  11.9020,  26.0011
    49MR0505_1,   P03,    98,  1,     29, X12041,2,20051115,0333, 24.2525,-150.6395, 5374,    399.9,2,   9.7472,2,   9.74763,2,  34.1330,2,  34.1311,2,   185.13,1,   197.29,2,    396.6,2,   196.84,2,   196.78,2,    21.68,2,     0.17,    17.62,2,     0.08,     0.00,2,     0.01,    1.268,2,    0.014,    3.025,2,    1.537,2,    0.087,2,   2118.1,2,   2265.1,2,   7.7489,2, -999.000,9, -999.000,   -999.0,9,   -999.0,   9.7016,  26.3250
    49MR0505_1,   P03,    98,  1,     28, X12016,2,20051115,0333, 24.2525,-150.6395, 5374,    500.1,2,   7.2794,2,   7.27896,2,  34.0298,2,  34.0285,6,   132.65,1,   140.77,2,    499.3,2,   140.08,2,   139.19,2,    44.97,2,     0.22,    28.04,2,     0.11,     0.00,2,     0.01,    2.012,2,    0.015,    2.212,2,    1.049,2,    0.085,2,   2193.1,2,   2271.7,2,   7.5865,2, -999.000,9, -999.000,   -999.0,9,   -999.0,   7.2312,  26.6225
    49MR0505_1,   P03,    98,  1,     27, X12039,2,20051115,0333, 24.2525,-150.6395, 5374,    599.9,2,   5.6564,2,   5.65659,2,  34.0500,2,  34.0548,2,    76.60,1,    80.60,2,    602.7,2,    84.56,2,    79.33,2,    69.54,2,     0.27,    35.97,2,     0.13,     0.00,2,     0.01,    2.625,2,    0.017,    0.948,2,    0.445,2,    0.040,2,   2265.6,2,   2293.3,2,   7.4490,2, -999.000,9, -999.000,   -999.0,9,   -999.0,   5.6056,  26.8507
    49MR0505_1,   P03,    98,  1,     26, X12038,2,20051115,0333, 24.2525,-150.6395, 5374,    700.0,2,   4.9644,2,   4.96457,2,  34.1759,2,  34.1789,2,    27.46,1,    29.39,2,    705.8,2,    31.87,2,    28.74,2,    89.35,2,     0.32,    41.42,2,     0.15,     0.00,2,     0.01,    3.063,2,    0.018,    0.158,2,    0.069,2,    0.014,2,   2317.0,6,   2313.9,2,   7.3562,2, -999.000,9, -999.000,   -999.0,9,   -999.0,   4.9082,  27.0323
    49MR0505_1,   P03,    98,  1,     25, X12037,2,20051115,0333, 24.2525,-150.6395, 5374,    800.0,2,   4.3270,2,   4.32726,2,  34.2820,2,  34.2855,2,    18.27,1,    19.93,2,    804.6,2,    20.11,2,    19.58,2,   105.81,2,     0.35,    43.04,2,     0.15,     0.00,2,     0.01,    3.167,2,    0.018,    0.039,6,    0.012,6,    0.011,6,   2344.4,2,   2338.4,6,   7.3466,2, -999.000,9, -999.000,   -999.0,9,   -999.0,   4.2659,  27.1871
    49MR0505_1,   P03,    98,  1,     24, X12008,2,20051115,0333, 24.2525,-150.6395, 5374,    902.4,2,   3.9949,2,   3.99518,2,  34.3668,2,  34.3675,2,    20.95,1,    22.80,2,    903.1,2,    22.22,2,    22.33,2,   114.33,2,     0.37,    43.34,2,     0.15,     0.00,2,     0.01,    3.173,2,    0.018, -999.000,5, -999.000,5, -999.000,5,   2351.4,2,   2352.5,2,   7.3579,6, -999.000,9, -999.000,   -999.0,9,   -999.0,   3.9275,  27.2899
    49MR0505_1,   P03,    98,  1,     23, X12035,2,20051115,0333, 24.2525,-150.6395, 5374,   1002.2,2,   3.9637,2,   3.96360,2,  34.4626,2,  34.4617,6,    35.76,1,    38.32,2,   1001.2,2,    38.65,2,    38.19,2,   113.36,2,     0.37,    42.53,2,     0.15,     0.00,2,     0.01,    3.112,2,    0.018,    0.005,2,    0.000,2,    0.000,2,   2345.2,2,   2361.2,2,   7.4010,2, -999.000,9, -999.000,   -999.0,9,   -999.0,   3.8882,  27.3702
    49MR0505_1,   P03,    98,  1,     22, X12034,2,20051115,0333, 24.2525,-150.6395, 5374,   1202.3,2,   3.5000,2,   3.49990,2,  34.5195,2,  34.5183,2,    45.54,1,    48.88,2,   1201.0,2,    49.94,2,    48.72,2,   122.81,2,     0.39,    42.40,2,     0.15,     0.00,2,     0.01,    3.084,2,    0.018,    0.004,2,    0.000,2,    0.000,2,   2352.9,2,   2378.2,2,   7.4239,2, -999.000,9, -999.000,   -999.0,9,   -999.0,   3.4118,  27.4628
    49MR0505_1,   P03,    98,  1,     21, X12033,2,20051115,0333, 24.2525,-150.6395, 5374,   1400.2,2,   3.0245,2,   3.02463,2,  34.5541,2,  34.5537,2,    55.41,1,    59.87,2,   1399.1,2,    60.53,2,    59.76,2,   133.64,2,     0.41,    41.94,2,     0.15,     0.00,2,     0.01,    3.036,2,    0.018,    0.001,2,    0.000,2,    0.000,2,   2358.3,2,   2390.7,2,   7.4415,2, -999.000,9, -999.000,   -999.0,9,   -999.0,   2.9247,  27.5360
    49MR0505_1,   P03,    98,  1,     20, X12032,2,20051115,0333, 24.2525,-150.6395, 5374,   1601.7,2,   2.6843,2,   2.68445,2,  34.5798,2,  34.5798,2,    64.19,1,    69.41,2,   1602.2,2,    69.05,2,    69.20,2,   141.30,2,     0.43,    41.46,2,     0.15,     0.00,2,     0.01,    2.985,2,    0.017,    0.004,2,    0.000,2,    0.000,2,   2361.2,2,   2397.1,2,   7.4581,2, -999.000,9, -999.000,   -999.0,9,   -999.0,   2.5718,  27.5877
    49MR0505_1,   P03,    98,  1,     19, X12001,2,20051115,0333, 24.2525,-150.6395, 5374,   1800.6,2,   2.3998,2,   2.40012,2,  34.5997,2,  34.5998,2,    71.85,1,    77.92,2,   1800.8,2,    77.59,2,    77.80,2,   148.14,2,     0.44,    40.94,2,     0.15,     0.00,2,     0.01,    2.942,2,    0.017,    0.003,2,    0.000,2,    0.000,2,   2361.1,2,   2403.3,2,   7.4728,2, -999.000,9, -999.000,   -999.0,9,   -999.0,   2.2744,  27.6288
    49MR0505_1,   P03,    98,  1,     18, X12030,2,20051115,0333, 24.2525,-150.6395, 5374,   2000.0,2,   2.1417,2,   2.14186,2,  34.6173,2,  34.6171,2,    80.04,1,    87.12,2,   2000.6,2,    86.23,2,    86.70,2,   154.26,2,     0.46,    40.44,2,     0.15,     0.00,2,     0.01,    2.890,2,    0.017,    0.001,2,    0.000,2,    0.000,2,   2358.6,2,   2413.8,2,   7.4875,2, -999.000,9, -999.000,   -999.0,9,   -999.0,   2.0032,  27.6648
    49MR0505_1,   P03,    98,  1,     17, X12049,2,20051115,0333, 24.2525,-150.6395, 5374,   2200.3,2,   1.9563,2,   1.95612,2,  34.6316,2,  34.6316,6,    87.30,1,    95.13,2,   2200.2,2,    94.84,2,    94.85,2,   158.20,2,     0.47,    40.05,2,     0.14,     0.00,2,     0.01,    2.849,2,    0.017,    0.000,2,    0.000,2,    0.000,2,   2360.7,2,   2412.3,2,   7.5016,2, -999.000,9, -999.000,   -999.0,9,   -999.0,   1.8035,  27.6918
    49MR0505_1,   P03,    98,  1,     16, X12028,2,20051115,0333, 24.2525,-150.6395, 5374,   2400.7,2,   1.8230,2,   1.82312,2,  34.6432,2,  34.6430,2,    94.16,1,   102.49,2,   2401.0,2,   101.99,2,   102.50,2,   160.51,2,     0.47,    39.63,2,     0.14,     0.00,2,     0.01,    2.813,2,    0.017,    0.004,2,    0.000,2,    0.000,2,   2356.5,6,   2415.9,2,   7.5138,2, -999.000,9, -999.000,   -999.0,9,   -999.0,   1.6549,  27.7124
    49MR0505_1,   P03,    98,  1,     15, X12006,2,20051115,0333, 24.2525,-150.6395, 5374,   2600.1,2,   1.7350,2,   1.73528,2,  34.6517,2,  34.6516,2,    99.62,1,   108.50,2,   2599.9,2,   108.40,2,   108.35,2,   162.38,2,     0.48,    39.14,2,     0.14,     0.00,2,     0.01,    2.770,2,    0.017, -999.000,9, -999.000,9, -999.000,9,   2353.9,2,   2420.5,6,   7.5244,2, -999.000,9, -999.000,   -999.0,9,   -999.0,   1.5506,  27.7270
    49MR0505_1,   P03,    98,  1,     14, X12026,2,20051115,0333, 24.2525,-150.6395, 5374,   2801.4,2,   1.6537,2,   1.65375,2,  34.6601,2,  34.6599,2,   105.79,1,   115.34,2,   2801.3,2,   115.18,2,   115.24,2,   163.37,2,     0.48,    38.68,2,     0.14,     0.00,2,     0.01,    2.730,2,    0.017, -999.000,9, -999.000,9, -999.000,9,   2354.6,2,   2421.5,2,   7.5368,6, -999.000,9, -999.000,   -999.0,9,   -999.0,   1.4524,  27.7409
    49MR0505_1,   P03,    98,  1,     13, X12025,2,20051115,0333, 24.2525,-150.6395, 5374,   3000.2,2,   1.5921,2,   1.59225,2,  34.6670,2,  34.6668,2,   111.61,1,   121.73,2,   3000.1,2,   121.38,2,   121.49,2,   163.50,2,     0.48,    38.29,2,     0.14,     0.00,2,     0.01,    2.703,2,    0.017, -999.000,9, -999.000,9, -999.000,9,   2347.4,2,   2422.1,2,   7.5484,2, -999.000,9, -999.000,   -999.0,9,   -999.0,   1.3733,  27.7520
    49MR0505_1,   P03,    98,  1,     12, X12024,2,20051115,0333, 24.2525,-150.6395, 5374,   3249.8,2,   1.5461,2,   1.54616,2,  34.6735,2,  34.6731,6,   117.86,1,   128.39,2,   3249.4,2,   128.85,2,   128.35,2,   162.72,2,     0.48,    37.89,2,     0.14,     0.00,2,     0.01,    2.660,2,    0.017, -999.000,9, -999.000,9, -999.000,9,   2344.6,2,   2422.4,2,   7.5606,2, -999.000,9, -999.000,   -999.0,9,   -999.0,   1.3040,  27.7622
    49MR0505_1,   P03,    98,  1,     11, X12023,2,20051115,0333, 24.2525,-150.6395, 5374,   3500.8,2,   1.5151,2,   1.51517,2,  34.6780,2,  34.6778,2,   123.44,1,   134.16,2,   3500.6,2,   134.51,2,   134.34,2,   161.58,2,     0.47,    37.52,2,     0.14,     0.00,2,     0.01,    2.633,2,    0.017, -999.000,9, -999.000,9, -999.000,9,   2342.9,2,   2420.5,2,   7.5694,2, -999.000,9, -999.000,   -999.0,9,   -999.0,   1.2485,  27.7697
    49MR0505_1,   P03,    98,  1,     10, X12022,2,20051115,0333, 24.2525,-150.6395, 5374,   3750.1,2,   1.4939,2,   1.49411,2,  34.6821,2,  34.6818,2,   128.84,1,   139.74,2,   3750.0,2,   140.01,2,   140.10,2,   159.94,2,     0.47,    37.12,2,     0.14,     0.00,2,     0.01,    2.600,2,    0.016, -999.000,9, -999.000,9, -999.000,9,   2338.1,2,   2418.6,2,   7.5786,2, -999.000,9, -999.000,   -999.0,9,   -999.0,   1.2020,  27.7762
    49MR0505_1,   P03,    98,  1,      9, X12021,2,20051115,0333, 24.2525,-150.6395, 5374,   4002.1,2,   1.4820,2,   1.48222,2,  34.6852,2,  34.6849,6,   134.11,1,   145.03,2,   4002.1,2,   145.33,2,   145.31,2,   157.33,2,     0.47,    36.74,2,     0.14,     0.00,2,     0.01,    2.573,2,    0.016, -999.000,9, -999.000,9, -999.000,9,   2333.5,2,   2421.7,2,   7.5868,2, -999.000,9, -999.000,   -999.0,9,   -999.0,   1.1634,  27.7814
    49MR0505_1,   P03,    98,  1,      8, X12020,2,20051115,0333, 24.2525,-150.6395, 5374,   4249.2,2,   1.4847,2,   1.48483,2,  34.6874,2,  34.6872,2,   138.01,1,   148.98,2,   4249.0,2,   149.55,2,   149.13,2,   155.14,2,     0.46,    36.48,2,     0.13,     0.00,2,     0.01,    2.554,2,    0.016, -999.000,9, -999.000,9, -999.000,9,   2328.7,6,   2416.6,2,   7.5919,2, -999.000,9, -999.000,   -999.0,9,   -999.0,   1.1387,  27.7848
    49MR0505_1,   P03,    98,  1,      7, X12019,2,20051115,0333, 24.2525,-150.6395, 5374,   4500.4,2,   1.4838,2,   1.48414,2,  34.6900,2,  34.6893,2,   142.99,1,   153.85,2,   4500.5,2,   153.69,2,   154.01,2,   151.47,2,     0.45,    36.12,2,     0.13,     0.00,2,     0.01,    2.526,2,    0.016, -999.000,9, -999.000,9, -999.000,9,   2321.9,2,   2416.5,6,   7.5990,2, -999.000,9, -999.000,   -999.0,9,   -999.0,   1.1093,  27.7889
    49MR0505_1,   P03,    98,  1,      6, X12018,2,20051115,0333, 24.2525,-150.6395, 5374,   4750.9,2,   1.4824,2,   1.48258,2,  34.6919,2,  34.6917,2,   148.05,1,   158.60,2,   4750.9,2,   158.70,2,   158.78,2,   147.75,2,     0.44,    35.80,2,     0.13,     0.00,2,     0.01,    2.500,2,    0.016, -999.000,9, -999.000,9, -999.000,9,   2321.4,2,   2411.4,2,   7.6042,6, -999.000,9, -999.000,   -999.0,9,   -999.0,   1.0786,  27.7925
    49MR0505_1,   P03,    98,  1,      5, X12043,2,20051115,0333, 24.2525,-150.6395, 5374,   5001.9,2,   1.4820,2,   1.48216,2,  34.6941,2,  34.6937,2,   153.22,1,   163.63,2,   5001.8,2,   163.76,2,   163.69,2,   144.07,2,     0.44,    35.42,2,     0.13,     0.00,2,     0.01,    2.476,2,    0.016, -999.000,9, -999.000,9, -999.000,9,   2315.9,2,   2407.0,2,   7.6085,2, -999.000,9, -999.000,   -999.0,9,   -999.0,   1.0481,  27.7963
    49MR0505_1,   P03,    98,  1,      4, X12010,2,20051115,0333, 24.2525,-150.6395, 5374,   5250.5,2,   1.5020,2,   1.50217,2,  34.6950,2,  34.6947,2,   155.80,1,   165.40,2,   5250.5,2,   165.53,2,   165.48,2,   142.88,2,     0.43,    35.31,2,     0.13,     0.00,2,     0.01,    2.465,2,    0.016, -999.000,9, -999.000,9, -999.000,9,   2312.2,2,   2404.3,2,   7.6103,2, -999.000,9, -999.000,   -999.0,9,   -999.0,   1.0368,  27.7978
    49MR0505_1,   P03,    98,  1,      3, X12015,9,20051115,0333, 24.2525,-150.6395, 5374,     50.9,2,  23.9395,2,  23.93992,2,  35.3932,2,-999.0000,9,   198.22,1,   212.71,2,     50.2,2,   213.21,2,  -999.00,9,  -999.00,9,  -999.00,  -999.00,9,  -999.00,  -999.00,9,  -999.00, -999.000,9, -999.000, -999.000,9, -999.000,9, -999.000,9,   -999.0,9,   -999.0,9,-999.0000,9, -999.000,9, -999.000,   -999.0,9,   -999.0,  23.9288,  23.9602
    49MR0505_1,   P03,    98,  1,      2, X12014,9,20051115,0333, 24.2525,-150.6395, 5374,     10.6,2,  23.9645,2,  23.96574,2,  35.3951,2,-999.0000,9,   198.06,1,   213.06,2,     14.0,2,   213.68,2,  -999.00,9,  -999.00,9,  -999.00,  -999.00,9,  -999.00,  -999.00,9,  -999.00, -999.000,9, -999.000, -999.000,9, -999.000,9, -999.000,9,   -999.0,9,   -999.0,9,-999.0000,9, -999.000,9, -999.000,   -999.0,9,   -999.0,  23.9623,  23.9517
    49MR0505_1,   P03,    98,  1,      1, X12013,2,20051115,0333, 24.2525,-150.6395, 5374,   5465.4,2,   1.5290,2,   1.52896,2,  34.6948,2,  34.6945,6,   157.32,1,   166.20,2,   5465.3,2,   165.82,2,   165.85,2,   142.48,2,     0.43,    35.30,2,     0.13,     0.00,2,     0.01,    2.465,2,    0.016,    0.004,2,    0.001,2,    0.000,2,   2314.4,2,   2409.4,2,   7.6098,2, -999.000,9, -999.000,   -999.0,9,   -999.0,   1.0358,  27.7978