BOTTLE,20100316JAMSTECRIGC
EXPOCODE,SECT,STNNBR,CASTNO,SAMPNO,BTLNBR,BTLNBR_FLAG_W,DATE,TIME,LATITUDE,LONGITUDE,DEPTH,CTDPRS,CTDPRS_FLAG_W,CTDTMP,CTDTMP_FLAG_W,SBE35,SBE35_FLAG_W,CTDSAL,CTDSAL_FLAG_W,SALNTY,SALNTY_FLAG_W,CTDOXY,CTDOXY_FLAG_W,OPTOXY,OPTOXY_FLAG_W,DWNPRS,DWNPRS_FLAG_W,DWNOXY,DWNOXY_FLAG_W,OXYGEN,OXYGEN_FLAG_W,SILCAT,SILCAT_FLAG_W,SILUNC,NITRAT,NITRAT_FLAG_W,NRAUNC,NITRIT,NITRIT_FLAG_W,NRIUNC,PHSPHT,PHSPHT_FLAG_W,PHPUNC,CFC-11,CFC-11_FLAG_W,CFC-12,CFC-12_FLAG_W,CFC113,CFC113_FLAG_W,TCARBN,TCARBN_FLAG_W,ALKALI,ALKALI_FLAG_W,PH,PH_FLAG_W,DELC13,DELC13_FLAG_W,C13ERR,DELC14,DELC14_FLAG_W,C14ERR,THETA,SIG0
,,,,,,,,UTC,DEG,DEG,M,DBAR,,ITS-90,,ITS-90,,PSS-78,,PSS-78,,UMOL/KG,,UMOL/KG,,DBAR,,UMOL/KG,,UMOL/KG,,UMOL/KG,,UMOL/KG,UMOL/KG,,UMOL/KG,UMOL/KG,,UMOL/KG,UMOL/KG,,UMOL/KG,PMOL/KG,,PMOL/KG,,PMOL/KG,,UMOL/KG,,UMOL/KG,,,,/MILLE,,/MILLE,/MILLE,,/MILLE,DEG C,KG/CUM
    49MR0505_1,   P03,   132,  1,      0,   -999,9,20051120,0626, 25.2738,-162.7240, 5006,   -999.0,9,-999.0000,9,-999.00000,9,-999.0000,9,  35.3322,2,  -999.00,9,  -999.00,9,   -999.0,9,  -999.00,9,  -999.00,9,  -999.00,9,  -999.00,  -999.00,9,  -999.00,  -999.00,9,  -999.00, -999.000,9, -999.000, -999.000,9, -999.000,9, -999.000,9,   -999.0,9,   -999.0,9,-999.0000,9, -999.000,9, -999.000,   -999.0,9,   -999.0,-999.0000,-999.0000
    49MR0505_1,   P03,   132,  1,     36, X12048,2,20051120,0626, 25.2738,-162.7240, 5006,     10.5,2,  25.5215,2,  25.52877,2,  35.3213,2,  35.3253,2,   190.27,1,   206.73,2,     22.5,2,   207.13,2,   207.82,2,     1.13,2,     0.12,     0.05,2,     0.03,     0.01,2,     0.01,    0.032,2,    0.048,    1.641,2,    1.035,2, -999.000,5,   -999.0,9,   -999.0,9,-999.0000,9, -999.000,9, -999.000,   -999.0,9,   -999.0,  25.5192,  23.4250
    49MR0505_1,   P03,   132,  1,     35, X12047,2,20051120,0626, 25.2738,-162.7240, 5006,     50.3,2,  23.1756,2,  23.14460,2,  35.1792,2,  35.1725,2,   207.50,1,   227.24,2,     71.2,2,   224.86,2,   227.03,2,     1.71,2,     0.12,     0.04,2,     0.03,     0.01,2,     0.01,    0.044,2,    0.038,    1.962,2,    1.251,2, -999.000,5,   -999.0,9,   -999.0,9,-999.0000,9, -999.000,9, -999.000,   -999.0,9,   -999.0,  23.1653,  24.0217
    49MR0505_1,   P03,   132,  1,     34, X12046,2,20051120,0626, 25.2738,-162.7240, 5006,    100.0,2,  17.7803,2,  17.78391,2,  34.8299,2,  34.8256,2,   212.45,1,   229.45,2,    118.6,2,   230.43,2,   229.19,2,     3.03,2,     0.13,     0.38,2,     0.03,     0.19,2,     0.01,    0.139,2,    0.019,    2.391,2,    1.416,2, -999.000,5,   -999.0,9,   -999.0,9,-999.0000,9, -999.000,9, -999.000,   -999.0,9,   -999.0,  17.7633,  25.1998
    49MR0505_1,   P03,   132,  1,     33, X12003,2,20051120,0626, 25.2738,-162.7240, 5006,    150.1,2,  15.8192,2,  15.81799,2,  34.6221,2,  34.6249,2,   188.78,1,   203.97,2,    161.6,2,   203.37,2,   205.75,2,     5.38,2,     0.13,     5.57,2,     0.05,     0.02,2,     0.01,    0.446,2,    0.013,    2.563,2,    1.459,2,    0.083,4,   -999.0,9,   -999.0,9,-999.0000,9, -999.000,9, -999.000,   -999.0,9,   -999.0,  15.7957,  25.5034
    49MR0505_1,   P03,   132,  1,     32, X12044,2,20051120,0626, 25.2738,-162.7240, 5006,    200.1,2,  14.6948,2,  14.69817,2,  34.5438,2,  34.5347,2,   199.55,1,   214.59,2,    204.0,2,   217.46,2,   215.80,2,     6.63,2,     0.13,     6.58,2,     0.05,     0.01,2,     0.01,    0.500,2,    0.013,    2.668,2,    1.491,2,    0.100,2,   -999.0,9,   -999.0,9,-999.0000,9, -999.000,9, -999.000,   -999.0,9,   -999.0,  14.6650,  25.6930
    49MR0505_1,   P03,   132,  1,     31, X12051,2,20051120,0626, 25.2738,-162.7240, 5006,    250.6,2,  13.2787,2,  13.27868,2,  34.4035,2,  34.4025,2,   190.07,1,   205.18,2,    254.8,2,   205.80,2,   205.94,2,    10.19,2,     0.14,     9.94,2,     0.06,     0.01,2,     0.01,    0.736,2,    0.013,    2.746,6,    1.472,6,    0.070,6,   -999.0,9,   -999.0,9,-999.0000,9, -999.000,9, -999.000,   -999.0,9,   -999.0,  13.2439,  25.8817
    49MR0505_1,   P03,   132,  1,     30, X12042,2,20051120,0626, 25.2738,-162.7240, 5006,    301.3,2,  12.3443,2,  12.34530,2,  34.3557,2,  34.3545,2,   195.06,1,   210.49,2,    305.5,2,   210.89,2,   211.27,2,    12.71,2,     0.15,    11.45,2,     0.06,     0.01,2,     0.01,    0.829,2,    0.013,    2.821,2,    1.489,2,    0.077,2,   -999.0,9,   -999.0,9,-999.0000,9, -999.000,9, -999.000,   -999.0,9,   -999.0,  12.3044,  26.0304
    49MR0505_1,   P03,   132,  1,     29, X12041,2,20051120,0626, 25.2738,-162.7240, 5006,    400.9,2,   9.9596,2,   9.95771,2,  34.1764,2,  34.1759,2,   174.60,1,   188.21,2,    406.1,2,   198.01,2,   188.85,2,    23.36,2,     0.17,    17.88,2,     0.08,     0.01,2,     0.01,    1.286,2,    0.014,    2.762,2,    1.367,2,    0.111,2,   -999.0,9,   -999.0,9,-999.0000,9, -999.000,9, -999.000,   -999.0,9,   -999.0,   9.9132,  26.3235
    49MR0505_1,   P03,   132,  1,     28, X12016,2,20051120,0626, 25.2738,-162.7240, 5006,    499.6,2,   7.6799,2,   7.67748,2,  34.0797,2,  34.0787,6,   132.55,1,   143.11,2,    511.8,2,   151.82,2,   142.20,2,    43.30,2,     0.21,    26.65,2,     0.11,     0.01,2,     0.01,    1.924,2,    0.015,    2.076,2,    0.991,2,    0.074,2,   -999.0,9,   -999.0,9,-999.0000,9, -999.000,9, -999.000,   -999.0,9,   -999.0,   7.6302,  26.6051
    49MR0505_1,   P03,   132,  1,     27, X12039,2,20051120,0626, 25.2738,-162.7240, 5006,    600.2,2,   6.1860,2,   6.18517,2,  34.0705,2,  34.0708,2,    91.86,1,    99.60,2,    599.4,2,    99.65,2,    99.19,2,    62.77,2,     0.26,    33.25,2,     0.13,     0.01,2,     0.01,    2.411,2,    0.016,    1.310,2,    0.604,2,    0.042,2,   -999.0,9,   -999.0,9,-999.0000,9, -999.000,9, -999.000,   -999.0,9,   -999.0,   6.1327,  26.8013
    49MR0505_1,   P03,   132,  1,     26, X12038,2,20051120,0626, 25.2738,-162.7240, 5006,    699.8,2,   5.1084,2,   5.10948,2,  34.1435,2,  34.1447,2,    52.74,1,    57.25,2,    701.5,2,    58.28,2,    56.61,2,    84.12,2,     0.30,    38.82,2,     0.14,     0.01,2,     0.01,    2.826,2,    0.017,    0.539,2,    0.251,2,    0.020,2,   -999.0,9,   -999.0,9,-999.0000,9, -999.000,9, -999.000,   -999.0,9,   -999.0,   5.0515,  26.9903
    49MR0505_1,   P03,   132,  1,     25, X12037,2,20051120,0626, 25.2738,-162.7240, 5006,    800.4,2,   4.4382,2,   4.43803,2,  34.2679,2,  34.2671,2,    33.76,1,    36.94,2,    803.6,2,    39.25,2,    36.73,2,   101.34,2,     0.34,    41.64,2,     0.15,     0.01,2,     0.01,    3.032,2,    0.018,    0.171,6,    0.081,6,    0.000,6,   -999.0,9,   -999.0,9,-999.0000,9, -999.000,9, -999.000,   -999.0,9,   -999.0,   4.3764,  27.1641
    49MR0505_1,   P03,   132,  1,     24, X12008,2,20051120,0626, 25.2738,-162.7240, 5006,    899.4,2,   4.0832,2,   4.08299,2,  34.3508,2,  34.3508,2,    32.41,1,    35.44,2,    901.8,2,    35.58,2,    35.04,2,   110.38,2,     0.36,    42.21,2,     0.15,     0.01,2,     0.01,    3.073,2,    0.018,    0.070,2,    0.030,2,    0.000,2,   -999.0,9,   -999.0,9,-999.0000,9, -999.000,9, -999.000,   -999.0,9,   -999.0,   4.0155,  27.2681
    49MR0505_1,   P03,   132,  1,     23, X12035,2,20051120,0626, 25.2738,-162.7240, 5006,   1000.6,2,   3.7770,2,   3.77810,2,  34.4159,2,  34.4158,6,    36.26,1,    39.66,2,   1003.1,2,    38.90,2,    39.34,2,   117.38,2,     0.38,    42.46,2,     0.15,     0.01,2,     0.01,    3.072,2,    0.018,    0.031,2,    0.013,2,    0.000,2,   -999.0,9,   -999.0,9,-999.0000,9, -999.000,9, -999.000,   -999.0,9,   -999.0,   3.7032,  27.3516
    49MR0505_1,   P03,   132,  1,     22, X12034,2,20051120,0626, 25.2738,-162.7240, 5006,   1199.8,2,   3.3648,2,   3.36470,2,  34.5022,2,  34.5019,2,    48.72,1,    53.22,2,   1200.7,2,    53.05,2,    52.93,2,   126.09,2,     0.40,    41.95,2,     0.15,     0.01,2,     0.01,    3.030,2,    0.018,    0.008,2,    0.003,2,    0.000,2,   -999.0,9,   -999.0,9,-999.0000,9, -999.000,9, -999.000,   -999.0,9,   -999.0,   3.2781,  27.4618
    49MR0505_1,   P03,   132,  1,     21, X12033,2,20051120,0626, 25.2738,-162.7240, 5006,   1400.5,2,   2.9777,2,   2.97686,2,  34.5355,2,  34.5356,2,    55.28,1,    60.52,2,   1400.2,2,    60.98,2,    60.34,2,   135.25,2,     0.42,    41.78,2,     0.15,     0.01,2,     0.01,    3.005,2,    0.017,    0.001,2,    0.000,2,    0.000,2,   -999.0,9,   -999.0,9,-999.0000,9, -999.000,9, -999.000,   -999.0,9,   -999.0,   2.8784,  27.5253
    49MR0505_1,   P03,   132,  1,     20, X12032,2,20051120,0626, 25.2738,-162.7240, 5006,   1601.3,2,   2.6063,2,   2.60604,2,  34.5697,2,  34.5694,2,    64.56,1,    70.73,2,   1602.7,2,    69.31,2,    70.55,2,   143.35,2,     0.43,    41.21,2,     0.15,     0.01,2,     0.01,    2.957,2,    0.017,    0.001,2,    0.000,2,    0.000,2,   -999.0,9,   -999.0,9,-999.0000,9, -999.000,9, -999.000,   -999.0,9,   -999.0,   2.4948,  27.5863
    49MR0505_1,   P03,   132,  1,     19, X12001,2,20051120,0626, 25.2738,-162.7240, 5006,   1799.6,2,   2.2864,2,   2.28599,2,  34.5946,2,  34.5949,2,    72.62,1,    79.74,2,   1800.6,2,    79.92,2,    79.65,2,   151.07,2,     0.45,    40.85,2,     0.15,     0.01,2,     0.01,    2.914,2,    0.017,    0.000,2,    0.001,2,    0.000,2,   -999.0,9,   -999.0,9,-999.0000,9, -999.000,9, -999.000,   -999.0,9,   -999.0,   2.1626,  27.6339
    49MR0505_1,   P03,   132,  1,     18, X12030,2,20051120,0626, 25.2738,-162.7240, 5006,   2002.0,2,   2.0308,2,   2.03042,2,  34.6152,2,  34.6153,6,    80.29,1,    88.34,2,   2003.2,2,    86.90,2,    87.95,2,   157.25,2,     0.46,    40.37,2,     0.15,     0.01,2,     0.01,    2.868,2,    0.017,    0.000,2,    0.002,2,    0.000,2,   -999.0,9,   -999.0,9,-999.0000,9, -999.000,9, -999.000,   -999.0,9,   -999.0,   1.8938,  27.6717
    49MR0505_1,   P03,   132,  1,     17, X12049,2,20051120,0626, 25.2738,-162.7240, 5006,   2199.7,2,   1.8822,2,   1.88205,2,  34.6288,2,  34.6292,2,    86.84,1,    95.55,2,   2200.1,2,    94.91,2,    95.28,2,   160.22,2,     0.47,    39.98,2,     0.14,     0.01,2,     0.01,    2.830,2,    0.017, -999.000,9, -999.000,9, -999.000,9,   -999.0,9,   -999.0,9,-999.0000,9, -999.000,9, -999.000,   -999.0,9,   -999.0,   1.7307,  27.6951
    49MR0505_1,   P03,   132,  1,     16, X12028,2,20051120,0626, 25.2738,-162.7240, 5006,   2400.2,2,   1.7581,2,   1.75776,2,  34.6415,2,  34.6418,2,    94.66,1,   104.04,2,   2400.2,2,   104.00,2,   104.05,2,   161.66,2,     0.47,    39.44,2,     0.14,     0.01,2,     0.01,    2.785,2,    0.017, -999.000,9, -999.000,9, -999.000,9,   -999.0,9,   -999.0,9,-999.0000,9, -999.000,9, -999.000,   -999.0,9,   -999.0,   1.5912,  27.7158
    49MR0505_1,   P03,   132,  1,     15, X12006,2,20051120,0626, 25.2738,-162.7240, 5006,   2602.1,2,   1.6681,2,   1.66803,2,  34.6521,2,  34.6520,2,   102.25,1,   112.40,2,   2601.9,2,   112.70,2,   112.34,2,   161.60,2,     0.47,    38.84,2,     0.14,     0.01,2,     0.01,    2.742,2,    0.017, -999.000,9, -999.000,9, -999.000,9,   -999.0,9,   -999.0,9,-999.0000,9, -999.000,9, -999.000,   -999.0,9,   -999.0,   1.4849,  27.7321
    49MR0505_1,   P03,   132,  1,     14, X12026,2,20051120,0626, 25.2738,-162.7240, 5006,   2803.3,2,   1.6026,2,   1.60260,2,  34.6598,2,  34.6596,2,   108.80,1,   119.70,2,   2803.1,2,   119.10,2,   119.53,2,   160.95,2,     0.47,    38.41,2,     0.14,     0.01,2,     0.01,    2.704,2,    0.017,    0.000,2,    0.000,2,    0.000,2,   -999.0,9,   -999.0,9,-999.0000,9, -999.000,9, -999.000,   -999.0,9,   -999.0,   1.4022,  27.7442
    49MR0505_1,   P03,   132,  1,     13, X12025,2,20051120,0626, 25.2738,-162.7240, 5006,   3002.3,2,   1.5493,2,   1.54915,2,  34.6668,2,  34.6669,6,   115.15,1,   126.79,2,   3002.3,2,   126.24,2,   126.48,2,   160.19,2,     0.47,    37.88,2,     0.14,     0.01,2,     0.01,    2.669,2,    0.017, -999.000,9, -999.000,9, -999.000,9,   -999.0,9,   -999.0,9,-999.0000,9, -999.000,9, -999.000,   -999.0,9,   -999.0,   1.3312,  27.7549
    49MR0505_1,   P03,   132,  1,     12, X12024,2,20051120,0626, 25.2738,-162.7240, 5006,   3252.1,2,   1.5118,2,   1.51168,2,  34.6732,2,  34.6732,2,   121.08,1,   132.96,2,   3251.8,2,   133.27,2,   133.00,2,   158.64,2,     0.47,    37.48,2,     0.14,     0.01,2,     0.01,    2.626,2,    0.017, -999.000,9, -999.000,9, -999.000,9,   -999.0,9,   -999.0,9,-999.0000,9, -999.000,9, -999.000,   -999.0,9,   -999.0,   1.2703,  27.7643
    49MR0505_1,   P03,   132,  1,     11, X12023,2,20051120,0626, 25.2738,-162.7240, 5006,   3501.2,2,   1.4834,2,   1.48333,2,  34.6777,2,  34.6777,2,   126.85,1,   139.02,2,   3501.1,2,   139.19,2,   139.11,2,   157.14,2,     0.46,    37.08,2,     0.14,     0.01,2,     0.01,    2.600,2,    0.016,    0.017,2,    0.000,2,    0.000,2,   -999.0,9,   -999.0,9,-999.0000,9, -999.000,9, -999.000,   -999.0,9,   -999.0,   1.2176,  27.7716
    49MR0505_1,   P03,   132,  1,     10, X12022,2,20051120,0626, 25.2738,-162.7240, 5006,   3751.4,2,   1.4709,2,   1.47075,2,  34.6814,2,  34.6817,2,   131.47,1,   143.73,2,   3751.1,2,   144.16,2,   143.78,2,   155.65,2,     0.46,    36.75,2,     0.14,     0.01,2,     0.01,    2.577,2,    0.016, -999.000,9, -999.000,9, -999.000,9,   -999.0,9,   -999.0,9,-999.0000,9, -999.000,9, -999.000,   -999.0,9,   -999.0,   1.1794,  27.7772
    49MR0505_1,   P03,   132,  1,      9, X12021,2,20051120,0626, 25.2738,-162.7240, 5006,   4000.4,2,   1.4657,2,   1.46570,2,  34.6846,2,  34.6845,6,   135.50,1,   147.81,2,   4000.3,2,   147.98,2,   147.89,2,   154.34,2,     0.46,    36.48,2,     0.13,     0.01,2,     0.01,    2.547,2,    0.016, -999.000,9, -999.000,9, -999.000,9,   -999.0,9,   -999.0,9,-999.0000,9, -999.000,9, -999.000,   -999.0,9,   -999.0,   1.1477,  27.7820
    49MR0505_1,   P03,   132,  1,      8, X12020,2,20051120,0626, 25.2738,-162.7240, 5006,   4251.6,2,   1.4713,2,   1.47133,2,  34.6870,2,  34.6870,2,   138.74,1,   150.82,2,   4251.7,2,   150.74,2,   150.97,2,   153.16,2,     0.46,    36.26,2,     0.13,     0.01,2,     0.01,    2.539,2,    0.016,    0.013,2,    0.001,2,    0.000,2,   -999.0,9,   -999.0,9,-999.0000,9, -999.000,9, -999.000,   -999.0,9,   -999.0,   1.1254,  27.7854
    49MR0505_1,   P03,   132,  1,      7, X12019,2,20051120,0626, 25.2738,-162.7240, 5006,   4501.3,2,   1.4831,2,   1.48306,2,  34.6886,2,  34.6886,2,   141.48,1,   153.17,2,   4501.3,2,   153.29,2,   153.48,2,   151.93,2,     0.45,    36.06,2,     0.13,     0.01,2,     0.01,    2.524,2,    0.016, -999.000,9, -999.000,9, -999.000,9,   -999.0,9,   -999.0,9,-999.0000,9, -999.000,9, -999.000,   -999.0,9,   -999.0,   1.1085,  27.7878
    49MR0505_1,   P03,   132,  1,      6, X12018,2,20051120,0626, 25.2738,-162.7240, 5006,   4749.2,2,   1.5009,2,   1.50080,2,  34.6896,2,  34.6897,2,   143.99,1,   155.26,2,   4749.2,2,   155.40,2,   155.39,2,   150.54,2,     0.45,    35.93,2,     0.13,     0.01,2,     0.01,    2.518,2,    0.016, -999.000,9, -999.000,9, -999.000,9,   -999.0,9,   -999.0,9,-999.0000,9, -999.000,9, -999.000,   -999.0,9,   -999.0,   1.0967,  27.7894
    49MR0505_1,   P03,   132,  1,      5, X12043,2,20051120,0626, 25.2738,-162.7240, 5006,   5000.4,2,   1.5216,2,   1.52143,2,  34.6905,2,  34.6905,2,   146.64,1,   157.21,2,   5000.4,2,   157.34,2,   157.29,2,   149.58,2,     0.45,    35.64,2,     0.13,     0.01,2,     0.01,    2.507,2,    0.016, -999.000,9, -999.000,9, -999.000,9,   -999.0,9,   -999.0,9,-999.0000,9, -999.000,9, -999.000,   -999.0,9,   -999.0,   1.0866,  27.7909
    49MR0505_1,   P03,   132,  1,      4, X12010,9,20051120,0626, 25.2738,-162.7240, 5006,     10.2,2,  25.5200,2,  25.53647,2,  35.3220,2,-999.0000,9,   190.60,1,   206.42,2,     22.4,2,   207.14,2,  -999.00,9,  -999.00,9,  -999.00,  -999.00,9,  -999.00,  -999.00,9,  -999.00, -999.000,9, -999.000, -999.000,9, -999.000,9, -999.000,9,   -999.0,9,   -999.0,9,-999.0000,9, -999.000,9, -999.000,   -999.0,9,   -999.0,  25.5178,  23.4259
    49MR0505_1,   P03,   132,  1,      3, X12015,9,20051120,0626, 25.2738,-162.7240, 5006,     50.8,2,  23.1029,2,  23.08582,2,  35.1779,2,-999.0000,9,   207.99,1,   226.60,2,     71.4,2,   225.30,2,  -999.00,9,  -999.00,9,  -999.00,  -999.00,9,  -999.00,  -999.00,9,  -999.00, -999.000,9, -999.000, -999.000,9, -999.000,9, -999.000,9,   -999.0,9,   -999.0,9,-999.0000,9, -999.000,9, -999.000,   -999.0,9,   -999.0,  23.0925,  24.0418
    49MR0505_1,   P03,   132,  1,      2, X12014,9,20051120,0626, 25.2738,-162.7240, 5006,    100.0,2,  17.7874,2,  17.78747,2,  34.8304,2,-999.0000,9,   212.43,1,   229.85,2,    118.6,2,   230.44,2,  -999.00,9,  -999.00,9,  -999.00,  -999.00,9,  -999.00,  -999.00,9,  -999.00, -999.000,9, -999.000, -999.000,9, -999.000,9, -999.000,9,   -999.0,9,   -999.0,9,-999.0000,9, -999.000,9, -999.000,   -999.0,9,   -999.0,  17.7704,  25.1985
    49MR0505_1,   P03,   132,  1,      1, X12013,2,20051120,0626, 25.2738,-162.7240, 5006,   5078.1,2,   1.5272,2,   1.52700,2,  34.6908,2,  34.6908,6,   147.95,1,   158.04,2,   5078.1,2,   158.11,2,   157.92,2,   148.83,2,     0.45,    35.80,2,     0.13,     0.00,2,     0.01,    2.499,2,    0.016,    0.012,2,    0.006,2,    0.000,2,   -999.0,9,   -999.0,9,-999.0000,9, -999.000,9, -999.000,   -999.0,9,   -999.0,   1.0825,  27.7914