BOTTLE,20100316JAMSTECRIGC
EXPOCODE,SECT,STNNBR,CASTNO,SAMPNO,BTLNBR,BTLNBR_FLAG_W,DATE,TIME,LATITUDE,LONGITUDE,DEPTH,CTDPRS,CTDPRS_FLAG_W,CTDTMP,CTDTMP_FLAG_W,SBE35,SBE35_FLAG_W,CTDSAL,CTDSAL_FLAG_W,SALNTY,SALNTY_FLAG_W,CTDOXY,CTDOXY_FLAG_W,OPTOXY,OPTOXY_FLAG_W,DWNPRS,DWNPRS_FLAG_W,DWNOXY,DWNOXY_FLAG_W,OXYGEN,OXYGEN_FLAG_W,SILCAT,SILCAT_FLAG_W,SILUNC,NITRAT,NITRAT_FLAG_W,NRAUNC,NITRIT,NITRIT_FLAG_W,NRIUNC,PHSPHT,PHSPHT_FLAG_W,PHPUNC,CFC-11,CFC-11_FLAG_W,CFC-12,CFC-12_FLAG_W,CFC113,CFC113_FLAG_W,TCARBN,TCARBN_FLAG_W,ALKALI,ALKALI_FLAG_W,PH,PH_FLAG_W,DELC13,DELC13_FLAG_W,C13ERR,DELC14,DELC14_FLAG_W,C14ERR,THETA,SIG0
,,,,,,,,UTC,DEG,DEG,M,DBAR,,ITS-90,,ITS-90,,PSS-78,,PSS-78,,UMOL/KG,,UMOL/KG,,DBAR,,UMOL/KG,,UMOL/KG,,UMOL/KG,,UMOL/KG,UMOL/KG,,UMOL/KG,UMOL/KG,,UMOL/KG,UMOL/KG,,UMOL/KG,PMOL/KG,,PMOL/KG,,PMOL/KG,,UMOL/KG,,UMOL/KG,,,,/MILLE,,/MILLE,/MILLE,,/MILLE,DEG C,KG/CUM
    49MR0505_1,   P03,    92,  1,      0,   -999,9,20051114,0742, 24.2558,-148.4378, 5474,   -999.0,9,-999.0000,9,-999.00000,9,-999.0000,9,  35.3225,2,  -999.00,9,  -999.00,9,   -999.0,9,  -999.00,9,  -999.00,9,  -999.00,9,  -999.00,  -999.00,9,  -999.00,  -999.00,9,  -999.00, -999.000,9, -999.000, -999.000,9, -999.000,9, -999.000,9,   -999.0,9,   -999.0,9,-999.0000,9, -999.000,9, -999.000,   -999.0,9,   -999.0,-999.0000,-999.0000
    49MR0505_1,   P03,    92,  1,     36, X12048,2,20051114,0742, 24.2558,-148.4378, 5474,      9.1,2,  23.8849,2,  23.88668,2,  35.3018,2,  35.3019,2,   199.25,1,   213.13,2,      4.5,2,   213.54,2,   212.89,2,     1.04,2,     0.12,     0.04,2,     0.03,     0.00,2,     0.01,    0.052,2,    0.033,    1.825,2,    1.054,2, -999.000,5,   -999.0,9,   -999.0,9,-999.0000,9, -999.000,9, -999.000,   -999.0,9,   -999.0,  23.8830,  23.9046
    49MR0505_1,   P03,    92,  1,     35, X12047,2,20051114,0742, 24.2558,-148.4378, 5474,     50.0,2,  23.8944,2,  23.89565,2,  35.3024,2,  35.3050,2,   199.12,1,   213.19,2,     45.5,2,   212.86,2,   212.82,2,     1.01,2,     0.12,     0.02,2,     0.03,     0.00,2,     0.01,    0.050,2,    0.034,    1.867,2,    1.080,2, -999.000,5,   -999.0,9,   -999.0,9,-999.0000,9, -999.000,9, -999.000,   -999.0,9,   -999.0,  23.8839,  23.9047
    49MR0505_1,   P03,    92,  1,     34, X12046,2,20051114,0742, 24.2558,-148.4378, 5474,    100.2,2,  20.7636,2,  20.75618,2,  35.1442,2,  35.1271,2,   192.85,1,   204.73,2,    104.3,2,   204.20,2,   204.27,2,     1.66,2,     0.12,     0.61,2,     0.03,     0.05,2,     0.01,    0.110,2,    0.021,    2.236,2,    1.243,2, -999.000,5,   -999.0,9,   -999.0,9,-999.0000,9, -999.000,9, -999.000,   -999.0,9,   -999.0,  20.7446,  24.6730
    49MR0505_1,   P03,    92,  1,     33, X12003,2,20051114,0742, 24.2558,-148.4378, 5474,    149.5,2,  17.8775,2,  17.84480,2,  34.7775,2,  34.7675,2,   187.95,1,   198.86,2,    161.3,2,   200.11,2,   200.29,2,     3.11,2,     0.13,     2.87,2,     0.04,     0.02,2,     0.01,    0.281,2,    0.014,    2.528,2,    1.389,2, -999.000,5,   -999.0,9,   -999.0,9,-999.0000,9, -999.000,9, -999.000,   -999.0,9,   -999.0,  17.8520,  25.1380
    49MR0505_1,   P03,    92,  1,     32, X12044,2,20051114,0742, 24.2558,-148.4378, 5474,    200.6,2,  14.8962,2,  14.89585,2,  34.4618,2,  34.4436,2,   196.63,1,   208.92,2,    211.7,2,   209.04,2,   209.72,2,     5.69,2,     0.13,     5.94,2,     0.05,     0.01,2,     0.01,    0.491,2,    0.013,    2.862,2,    1.544,2, -999.000,5,   -999.0,9,   -999.0,9,-999.0000,9, -999.000,9, -999.000,   -999.0,9,   -999.0,  14.8661,  25.5862
    49MR0505_1,   P03,    92,  1,     31, X12051,2,20051114,0742, 24.2558,-148.4378, 5474,    248.8,2,  12.5859,2,  12.58551,2,  34.2175,2,  34.2203,2,   199.02,1,   211.45,2,    252.0,2,   213.57,2,   212.16,2,     9.10,2,     0.14,     9.59,2,     0.06,     0.00,2,     0.01,    0.738,2,    0.013,    3.107,6,    1.650,6,    0.103,6,   -999.0,9,   -999.0,9,-999.0000,9, -999.000,9, -999.000,   -999.0,9,   -999.0,  12.5526,  25.8750
    49MR0505_1,   P03,    92,  1,     30, X12042,2,20051114,0742, 24.2558,-148.4378, 5474,    298.9,2,  11.2761,2,  11.27408,2,  34.1872,2,  34.1864,2,   200.75,1,   213.29,2,    300.4,2,   215.10,2,   213.39,2,    13.35,2,     0.15,    12.69,2,     0.07,     0.00,2,     0.01,    0.930,2,    0.013,    3.240,2,    1.690,2,    0.105,2,   -999.0,9,   -999.0,9,-999.0000,9, -999.000,9, -999.000,   -999.0,9,   -999.0,  11.2388,  26.0993
    49MR0505_1,   P03,    92,  1,     29, X12041,2,20051114,0742, 24.2558,-148.4378, 5474,    401.7,2,   8.9701,2,   8.96810,2,  34.1009,2,  34.0999,2,   169.58,1,   179.89,2,    402.0,2,   180.25,2,   179.88,2,    27.42,2,     0.18,    20.73,2,     0.09,     0.00,2,     0.01,    1.488,2,    0.014,    3.021,2,    1.475,2,    0.128,2,   -999.0,9,   -999.0,9,-999.0000,9, -999.000,9, -999.000,   -999.0,9,   -999.0,   8.9266,  26.4257
    49MR0505_1,   P03,    92,  1,     28, X12016,2,20051114,0742, 24.2558,-148.4378, 5474,    500.4,2,   6.8777,2,   6.87821,2,  34.0255,2,  34.0251,6,   116.59,1,   123.57,2,    501.7,2,   129.68,2,   122.43,2,    49.51,2,     0.23,    30.15,2,     0.12,     0.00,2,     0.01,    2.177,2,    0.015,    2.054,2,    0.926,2,    0.089,2,   -999.0,9,   -999.0,9,-999.0000,9, -999.000,9, -999.000,   -999.0,9,   -999.0,   6.8310,  26.6741
    49MR0505_1,   P03,    92,  1,     27, X12039,2,20051114,0742, 24.2558,-148.4378, 5474,    600.7,2,   5.4412,2,   5.44021,2,  34.0851,2,  34.0876,2,    53.36,1,    56.27,2,    600.0,2,    56.31,2,    55.58,2,    75.61,2,     0.29,    38.40,2,     0.14,    -0.01,2,     0.01,    2.821,2,    0.017,    0.610,2,    0.289,2,    0.035,2,   -999.0,9,   -999.0,9,-999.0000,9, -999.000,9, -999.000,   -999.0,9,   -999.0,   5.3913,  26.9042
    49MR0505_1,   P03,    92,  1,     26, X12038,2,20051114,0742, 24.2558,-148.4378, 5474,   5566.4,2,   1.5326,2,   1.53269,2,  34.6955,2,  34.6958,2,   159.19,1,   167.65,2,   5566.5,2,   167.24,2,   167.24,2,   141.25,2,     0.43,    35.15,2,     0.13,    -0.01,2,     0.01,    2.459,2,    0.016, -999.000,9, -999.000,9, -999.000,9,   -999.0,9,   -999.0,9,-999.0000,9, -999.000,9, -999.000,   -999.0,9,   -999.0,   1.0263,  27.7989
    49MR0505_1,   P03,    92,  1,     25, X12037,2,20051114,0742, 24.2558,-148.4378, 5474,    801.0,2,   4.4767,2,   4.47684,2,  34.3464,2,  34.3491,2,    19.28,1,    21.19,2,    801.4,2,    20.95,2,    20.86,2,   103.05,2,     0.35,    42.97,2,     0.15,     0.00,2,     0.01,    3.175,2,    0.018,    0.020,6,    0.013,6,    0.010,6,   -999.0,9,   -999.0,9,-999.0000,9, -999.000,9, -999.000,   -999.0,9,   -999.0,   4.4146,  27.2224
    49MR0505_1,   P03,    92,  1,     24, X12008,2,20051114,0742, 24.2558,-148.4378, 5474,    899.9,2,   4.3457,2,   4.34668,2,  34.4354,2,  34.4353,2,    30.07,1,    32.34,2,    899.5,2,    33.00,2,    32.02,2,   104.98,2,     0.35,    42.53,2,     0.15,     0.00,2,     0.01,    3.119,2,    0.018,    0.017,2,    0.007,2,    0.010,2,   -999.0,9,   -999.0,9,-999.0000,9, -999.000,9, -999.000,   -999.0,9,   -999.0,   4.2760,  27.3080
    49MR0505_1,   P03,    92,  1,     23, X12035,2,20051114,0742, 24.2558,-148.4378, 5474,   1000.2,2,   4.1219,2,   4.12202,2,  34.4800,2,  34.4798,6,    36.58,1,    39.15,2,    999.3,2,    39.05,2,    39.06,2,   108.93,2,     0.36,    42.42,2,     0.15,     0.00,2,     0.01,    3.118,2,    0.018,    0.005,2,    0.004,2,    0.006,2,   -999.0,9,   -999.0,9,-999.0000,9, -999.000,9, -999.000,   -999.0,9,   -999.0,   4.0453,  27.3678
    49MR0505_1,   P03,    92,  1,     22, X12034,2,20051114,0742, 24.2558,-148.4378, 5474,   1200.8,2,   3.5554,2,   3.55552,2,  34.5261,2,  34.5262,2,    46.13,1,    49.49,2,   1198.7,2,    50.41,2,    49.46,2,   121.48,2,     0.39,    42.41,2,     0.15,     0.00,2,     0.01,    3.089,2,    0.018,    0.005,2,    0.001,2,    0.000,2,   -999.0,9,   -999.0,9,-999.0000,9, -999.000,9, -999.000,   -999.0,9,   -999.0,   3.4668,  27.4628
    49MR0505_1,   P03,    92,  1,     21, X12033,2,20051114,0742, 24.2558,-148.4378, 5474,   1399.1,2,   3.0752,2,   3.07583,2,  34.5525,2,  34.5525,2,    54.45,1,    58.56,2,   1398.6,2,    59.04,2,    58.52,2,   132.59,2,     0.41,    41.97,2,     0.15,     0.00,2,     0.01,    3.049,2,    0.018,    0.000,2,    0.000,2,    0.000,2,   -999.0,9,   -999.0,9,-999.0000,9, -999.000,9, -999.000,   -999.0,9,   -999.0,   2.9749,  27.5302
    49MR0505_1,   P03,    92,  1,     20, X12032,2,20051114,0742, 24.2558,-148.4378, 5474,   1599.6,2,   2.6669,2,   2.66718,2,  34.5790,2,  34.5789,2,    64.03,1,    69.09,2,   1600.7,2,    68.31,2,    68.94,2,   141.85,2,     0.43,    41.51,2,     0.15,     0.00,2,     0.01,    2.993,2,    0.017,    0.000,2,    0.000,2,    0.000,2,   -999.0,9,   -999.0,9,-999.0000,9, -999.000,9, -999.000,   -999.0,9,   -999.0,   2.5548,  27.5886
    49MR0505_1,   P03,    92,  1,     19, X12001,2,20051114,0742, 24.2558,-148.4378, 5474,   1801.3,2,   2.3634,2,   2.36351,2,  34.6000,2,  34.6001,2,    71.46,1,    77.28,2,   1802.6,2,    76.43,2,    77.11,2,   149.53,2,     0.45,    41.03,2,     0.15,     0.00,2,     0.01,    2.943,2,    0.017,    0.000,2,    0.000,2,    0.000,2,   -999.0,9,   -999.0,9,-999.0000,9, -999.000,9, -999.000,   -999.0,9,   -999.0,   2.2384,  27.6320
    49MR0505_1,   P03,    92,  1,     18, X12030,2,20051114,0742, 24.2558,-148.4378, 5474,   1999.0,2,   2.1244,2,   2.12427,2,  34.6168,2,  34.6168,6,    78.54,1,    85.03,2,   2000.1,2,    84.20,2,    84.75,2,   156.07,2,     0.46,    40.52,2,     0.15,    -0.01,2,     0.01,    2.898,2,    0.017,    0.000,2,    0.000,2,    0.000,2,   -999.0,9,   -999.0,9,-999.0000,9, -999.000,9, -999.000,   -999.0,9,   -999.0,   1.9862,  27.6658
    49MR0505_1,   P03,    92,  1,     17, X12049,2,20051114,0742, 24.2558,-148.4378, 5474,   2199.1,2,   1.9340,2,   1.93419,2,  34.6315,2,  34.6316,2,    85.55,1,    92.95,2,   2199.4,2,    91.45,2,    92.73,2,   160.85,2,     0.47,    40.20,2,     0.15,     0.00,2,     0.01,    2.860,2,    0.017, -999.000,9, -999.000,9, -999.000,9,   -999.0,9,   -999.0,9,-999.0000,9, -999.000,9, -999.000,   -999.0,9,   -999.0,   1.7817,  27.6934
    49MR0505_1,   P03,    92,  1,     16, X12028,2,20051114,0742, 24.2558,-148.4378, 5474,   2399.3,2,   1.8112,2,   1.81126,2,  34.6432,2,  34.6434,2,    93.05,1,   101.04,2,   2399.4,2,   100.82,2,   100.88,2,   162.44,2,     0.48,    39.47,2,     0.14,     0.00,2,     0.01,    2.815,2,    0.017,    0.000,2,    0.000,2,    0.006,2,   -999.0,9,   -999.0,9,-999.0000,9, -999.000,9, -999.000,   -999.0,9,   -999.0,   1.6435,  27.7133
    49MR0505_1,   P03,    92,  1,     15, X12006,2,20051114,0742, 24.2558,-148.4378, 5474,   2599.3,2,   1.6979,2,   1.69807,2,  34.6534,2,  34.6535,2,    99.22,1,   107.85,2,   2599.0,2,   108.09,2,   107.69,2,   165.21,2,     0.48,    39.11,2,     0.14,     0.00,2,     0.01,    2.777,2,    0.017, -999.000,9, -999.000,9, -999.000,9,   -999.0,9,   -999.0,9,-999.0000,9, -999.000,9, -999.000,   -999.0,9,   -999.0,   1.5143,  27.7310
    49MR0505_1,   P03,    92,  1,     14, X12026,2,20051114,0742, 24.2558,-148.4378, 5474,   2800.0,2,   1.6195,2,   1.61958,2,  34.6619,2,  34.6622,2,   106.40,1,   115.91,2,   2800.1,2,   116.42,2,   115.71,2,   165.10,2,     0.48,    38.67,2,     0.14,     0.00,2,     0.01,    2.729,2,    0.017,    0.001,2,    0.000,2,    0.008,2,   -999.0,9,   -999.0,9,-999.0000,9, -999.000,9, -999.000,   -999.0,9,   -999.0,   1.4190,  27.7447
    49MR0505_1,   P03,    92,  1,     13, X12025,2,20051114,0742, 24.2558,-148.4378, 5474,   2999.6,2,   1.5712,2,   1.57131,2,  34.6692,2,  34.6693,2,   113.12,1,   123.22,2,   2999.6,2,   123.42,2,   122.86,2,   164.22,2,     0.48,    38.18,2,     0.14,     0.00,2,     0.01,    2.694,2,    0.017, -999.000,9, -999.000,9, -999.000,9,   -999.0,9,   -999.0,9,-999.0000,9, -999.000,9, -999.000,   -999.0,9,   -999.0,   1.3529,  27.7553
    49MR0505_1,   P03,    92,  1,     12, X12024,2,20051114,0742, 24.2558,-148.4378, 5474,   3249.1,2,   1.5259,2,   1.52605,2,  34.6757,2,  34.6756,6,   119.99,1,   130.62,2,   3249.1,2,   130.25,2,   130.32,2,   162.76,2,     0.48,    37.60,2,     0.14,    -0.01,2,     0.01,    2.644,2,    0.017, -999.000,9, -999.000,9, -999.000,9,   -999.0,9,   -999.0,9,-999.0000,9, -999.000,9, -999.000,   -999.0,9,   -999.0,   1.2844,  27.7653
    49MR0505_1,   P03,    92,  1,     11, X12023,2,20051114,0742, 24.2558,-148.4378, 5474,   3500.2,2,   1.4965,2,   1.49666,2,  34.6794,2,  34.6791,2,   124.85,1,   135.60,2,   3500.3,2,   135.36,2,   135.60,2,   161.84,2,     0.48,    37.34,2,     0.14,     0.00,2,     0.01,    2.630,2,    0.017,    0.003,2,    0.001,2,    0.010,2,   -999.0,9,   -999.0,9,-999.0000,9, -999.000,9, -999.000,   -999.0,9,   -999.0,   1.2304,  27.7721
    49MR0505_1,   P03,    92,  1,     10, X12022,2,20051114,0742, 24.2558,-148.4378, 5474,   3749.1,2,   1.4844,2,   1.48447,2,  34.6834,2,  34.6833,2,   130.91,1,   141.86,2,   3749.1,2,   141.93,2,   142.24,2,   158.58,2,     0.47,    36.96,2,     0.14,    -0.01,2,     0.01,    2.593,2,    0.016, -999.000,9, -999.000,9, -999.000,9,   -999.0,9,   -999.0,9,-999.0000,9, -999.000,9, -999.000,   -999.0,9,   -999.0,   1.1928,  27.7779
    49MR0505_1,   P03,    92,  1,      9, X12021,2,20051114,0742, 24.2558,-148.4378, 5474,   4000.1,2,   1.4730,2,   1.47312,2,  34.6861,2,  34.6859,2,   135.27,1,   146.29,2,   4000.2,2,   146.37,2,   146.39,2,   157.09,2,     0.46,    36.64,2,     0.14,     0.00,2,     0.01,    2.574,2,    0.016, -999.000,9, -999.000,9, -999.000,9,   -999.0,9,   -999.0,9,-999.0000,9, -999.000,9, -999.000,   -999.0,9,   -999.0,   1.1548,  27.7827
    49MR0505_1,   P03,    92,  1,      8, X12020,2,20051114,0742, 24.2558,-148.4378, 5474,   4248.3,2,   1.4740,2,   1.47410,2,  34.6885,2,  34.6881,2,   139.91,1,   150.97,2,   4248.5,2,   150.82,2,   150.95,2,   153.41,2,     0.46,    36.30,2,     0.13,    -0.01,2,     0.01,    2.544,2,    0.016, -999.000,9, -999.000,9, -999.000,9,   -999.0,9,   -999.0,9,-999.0000,9, -999.000,9, -999.000,   -999.0,9,   -999.0,   1.1284,  27.7864
    49MR0505_1,   P03,    92,  1,      7, X12019,2,20051114,0742, 24.2558,-148.4378, 5474,   4499.7,2,   1.4715,2,   1.47161,2,  34.6908,2,  34.6905,2,   145.12,1,   156.05,2,   4499.6,2,   156.56,2,   156.12,2,   149.84,2,     0.45,    35.91,2,     0.13,     0.00,2,     0.01,    2.521,2,    0.016,    0.002,2,    0.003,2,    0.013,2,   -999.0,9,   -999.0,9,-999.0000,9, -999.000,9, -999.000,   -999.0,9,   -999.0,   1.0974,  27.7904
    49MR0505_1,   P03,    92,  1,      6, X12018,2,20051114,0742, 24.2558,-148.4378, 5474,   4750.2,2,   1.4664,2,   1.46653,2,  34.6932,2,  34.6931,6,   150.67,1,   161.53,2,   4750.0,2,   162.00,2,   161.54,2,   145.54,2,     0.44,    35.50,2,     0.13,     0.00,2,     0.01,    2.487,2,    0.016, -999.000,9, -999.000,9, -999.000,9,   -999.0,9,   -999.0,9,-999.0000,9, -999.000,9, -999.000,   -999.0,9,   -999.0,   1.0632,  27.7946
    49MR0505_1,   P03,    92,  1,      5, X12043,2,20051114,0742, 24.2558,-148.4378, 5474,   4999.3,2,   1.4758,2,   1.47605,2,  34.6947,2,  34.6946,2,   154.29,1,   164.65,2,   4999.2,2,   165.05,2,   164.75,2,   143.33,2,     0.43,    35.34,2,     0.13,     0.00,2,     0.01,    2.471,2,    0.016, -999.000,9, -999.000,9, -999.000,9,   -999.0,9,   -999.0,9,-999.0000,9, -999.000,9, -999.000,   -999.0,9,   -999.0,   1.0424,  27.7972
    49MR0505_1,   P03,    92,  1,      4, X12010,2,20051114,0742, 24.2558,-148.4378, 5474,   5249.6,2,   1.4997,2,   1.49994,2,  34.6952,2,  34.6950,2,   156.28,1,   166.02,2,   5249.6,2,   166.12,2,   165.94,2,   142.35,2,     0.43,    35.10,2,     0.13,     0.00,2,     0.01,    2.463,2,    0.016, -999.000,9, -999.000,9, -999.000,9,   -999.0,9,   -999.0,9,-999.0000,9, -999.000,9, -999.000,   -999.0,9,   -999.0,   1.0347,  27.7981
    49MR0505_1,   P03,    92,  1,      3, X12015,2,20051114,0742, 24.2558,-148.4378, 5474,   5498.2,2,   1.5259,2,   1.52599,2,  34.6954,2,  34.6953,2,   158.28,1,   166.95,2,   5498.2,2,   166.84,2,   166.82,2,   141.52,2,     0.43,    35.11,2,     0.13,     0.00,2,     0.01,    2.460,2,    0.016, -999.000,9, -999.000,9, -999.000,9,   -999.0,9,   -999.0,9,-999.0000,9, -999.000,9, -999.000,   -999.0,9,   -999.0,   1.0286,  27.7986
    49MR0505_1,   P03,    92,  1,      2, X12014,2,20051114,0742, 24.2558,-148.4378, 5474,    699.5,2,   4.7728,2,   4.77284,2,  34.2007,2,  34.2011,2,    22.54,1,    24.01,2,    699.8,2,    24.12,2,    24.02,2,    93.82,2,     0.33,    42.09,2,     0.15,     0.00,2,     0.01,    3.110,2,    0.018,    0.120,2,    0.062,2,    0.009,2,   -999.0,9,   -999.0,9,-999.0000,9, -999.000,9, -999.000,   -999.0,9,   -999.0,   4.7176,  27.0734
    49MR0505_1,   P03,    92,  1,      1, X12013,2,20051114,0742, 24.2558,-148.4378, 5474,   5566.1,2,   1.5324,2,   1.53262,2,  34.6956,2,  34.6955,6,   159.39,1,   167.66,2,   5566.2,2,   167.23,2,   167.28,2,   141.48,2,     0.43,    35.08,2,     0.13,     0.00,2,     0.01,    2.463,2,    0.016,    0.002,2,    0.000,2,    0.000,2,   -999.0,9,   -999.0,9,-999.0000,9, -999.000,9, -999.000,   -999.0,9,   -999.0,   1.0261,  27.7990