BOTTLE,20100316JAMSTECRIGC
EXPOCODE,SECT,STNNBR,CASTNO,SAMPNO,BTLNBR,BTLNBR_FLAG_W,DATE,TIME,LATITUDE,LONGITUDE,DEPTH,CTDPRS,CTDPRS_FLAG_W,CTDTMP,CTDTMP_FLAG_W,SBE35,SBE35_FLAG_W,CTDSAL,CTDSAL_FLAG_W,SALNTY,SALNTY_FLAG_W,CTDOXY,CTDOXY_FLAG_W,OPTOXY,OPTOXY_FLAG_W,DWNPRS,DWNPRS_FLAG_W,DWNOXY,DWNOXY_FLAG_W,OXYGEN,OXYGEN_FLAG_W,SILCAT,SILCAT_FLAG_W,SILUNC,NITRAT,NITRAT_FLAG_W,NRAUNC,NITRIT,NITRIT_FLAG_W,NRIUNC,PHSPHT,PHSPHT_FLAG_W,PHPUNC,CFC-11,CFC-11_FLAG_W,CFC-12,CFC-12_FLAG_W,CFC113,CFC113_FLAG_W,TCARBN,TCARBN_FLAG_W,ALKALI,ALKALI_FLAG_W,PH,PH_FLAG_W,DELC13,DELC13_FLAG_W,C13ERR,DELC14,DELC14_FLAG_W,C14ERR,THETA,SIG0
,,,,,,,,UTC,DEG,DEG,M,DBAR,,ITS-90,,ITS-90,,PSS-78,,PSS-78,,UMOL/KG,,UMOL/KG,,DBAR,,UMOL/KG,,UMOL/KG,,UMOL/KG,,UMOL/KG,UMOL/KG,,UMOL/KG,UMOL/KG,,UMOL/KG,UMOL/KG,,UMOL/KG,PMOL/KG,,PMOL/KG,,PMOL/KG,,UMOL/KG,,UMOL/KG,,,,/MILLE,,/MILLE,/MILLE,,/MILLE,DEG C,KG/CUM
    49MR0505_1,   P03,   128,  1,      0,   -999,9,20051119,1215, 25.8452,-161.2560, 4996,   -999.0,9,-999.0000,9,-999.00000,9,-999.0000,9,  35.3565,2,  -999.00,9,  -999.00,9,   -999.0,9,  -999.00,9,  -999.00,9,  -999.00,9,  -999.00,  -999.00,9,  -999.00,  -999.00,9,  -999.00, -999.000,9, -999.000, -999.000,9, -999.000,9, -999.000,9,   -999.0,9,   -999.0,9,-999.0000,9, -999.000,9, -999.000,   -999.0,9,   -999.0,-999.0000,-999.0000
    49MR0505_1,   P03,   128,  1,     36, X12048,2,20051119,1215, 25.8452,-161.2560, 4996,      9.3,2,  25.4558,2,  25.45594,2,  35.3335,2,  35.3338,2,   190.45,1,   206.04,2,     11.1,2,   208.07,2,   207.34,2,     0.97,2,     0.12,     0.05,2,     0.03,     0.01,2,     0.01,    0.044,2,    0.038,    1.679,2,    1.009,2, -999.000,5,   1985.7,2,   2321.7,2,   8.1024,6, -999.000,9, -999.000,   -999.0,9,   -999.0,  25.4538,  23.4543
    49MR0505_1,   P03,   128,  1,     35, X12047,2,20051119,1215, 25.8452,-161.2560, 4996,     49.5,2,  25.3842,2,  25.38310,2,  35.3458,2,  35.3223,2,   190.94,1,   208.70,2,     51.2,2,   209.55,2,   211.36,2,     1.11,2,     0.12,     0.04,2,     0.03,     0.01,2,     0.01,    0.036,2,    0.044,    1.737,2,    1.041,2, -999.000,5,   1991.3,6,   2322.1,2,   8.0958,2, -999.000,9, -999.000,   -999.0,9,   -999.0,  25.3733,  23.4884
    49MR0505_1,   P03,   128,  1,     34, X12046,2,20051119,1215, 25.8452,-161.2560, 4996,     99.2,2,  19.3348,2,  19.33172,2,  34.9528,2,  34.9442,2,   212.27,1,   229.84,2,    100.1,2,   229.70,2,   229.73,2,     2.45,2,     0.12,     0.15,2,     0.03,     0.03,2,     0.01,    0.095,2,    0.023,    2.343,2,    1.339,2, -999.000,5,   2020.2,2,   2299.3,6,   8.0132,2, -999.000,9, -999.000,   -999.0,9,   -999.0,  19.3169,  24.9038
    49MR0505_1,   P03,   128,  1,     33, X12003,2,20051119,1215, 25.8452,-161.2560, 4996,    149.1,2,  16.6003,2,  16.59985,2,  34.7378,2,  34.7398,2,   196.25,1,   211.71,2,    150.1,2,   212.82,2,   212.86,2,     4.12,2,     0.13,     3.62,2,     0.04,     0.02,2,     0.01,    0.321,2,    0.014,    2.518,2,    1.427,2,    0.212,4,   2041.3,2,   2281.8,2,   7.9517,6, -999.000,9, -999.000,   -999.0,9,   -999.0,  16.5762,  25.4128
    49MR0505_1,   P03,   128,  1,     32, X12044,2,20051119,1215, 25.8452,-161.2560, 4996,    198.8,2,  15.1448,2,  15.14601,2,  34.5931,2,  34.5865,2,   196.17,1,   211.50,2,    196.2,2,   214.25,2,   212.63,2,     6.39,2,     0.13,     6.39,2,     0.05,     0.01,2,     0.01,    0.495,2,    0.013,    2.665,2,    1.492,2,    0.125,2,   2053.3,2,   2276.0,2,   7.9180,2, -999.000,9, -999.000,   -999.0,9,   -999.0,  15.1146,  25.6331
    49MR0505_1,   P03,   128,  1,     31, X12051,2,20051119,1215, 25.8452,-161.2560, 4996,    249.7,2,  13.2434,2,  13.24501,2,  34.4166,2,  34.4158,2,   198.58,1,   213.90,2,    253.6,2,   215.10,2,   215.05,2,     9.55,2,     0.14,     9.26,2,     0.06,     0.01,2,     0.01,    0.692,2,    0.013,    2.840,2,    1.572,2,    0.116,2,   2065.1,2,   2268.3,2,   7.8738,2, -999.000,9, -999.000,   -999.0,9,   -999.0,  13.2088,  25.8989
    49MR0505_1,   P03,   128,  1,     30, X12042,2,20051119,1215, 25.8452,-161.2560, 4996,    303.9,2,  12.1447,2,  12.14630,2,  34.3214,2,  34.3251,2,   198.44,1,   213.83,2,    303.5,2,   213.14,2,   215.14,2,    12.07,2,     0.15,    11.17,2,     0.06,     0.00,2,     0.01,    0.822,2,    0.013,    2.951,2,    1.614,2,    0.133,2,   2080.8,2,   2265.3,2,   7.8445,2, -999.000,9, -999.000,   -999.0,9,   -999.0,  12.1048,  26.0420
    49MR0505_1,   P03,   128,  1,     29, X12041,2,20051119,1215, 25.8452,-161.2560, 4996,    401.5,2,   9.4134,2,   9.41328,2,  34.1396,2,  34.1395,2,   170.60,1,   183.48,2,    396.8,2,   182.25,2,   184.32,2,    25.96,2,     0.18,    19.28,2,     0.09,     0.00,2,     0.01,    1.402,2,    0.014,    2.813,2,    1.444,2,    0.116,2,   2135.6,2,   2269.5,2,   7.7237,2, -999.000,9, -999.000,   -999.0,9,   -999.0,   9.3685,  26.3851
    49MR0505_1,   P03,   128,  1,     28, X12016,2,20051119,1215, 25.8452,-161.2560, 4996,    499.8,2,   7.3509,2,   7.34929,2,  34.0624,2,  34.0632,6,   127.06,1,   137.19,2,    506.8,2,   132.95,2,   136.81,2,    45.71,2,     0.22,    27.66,2,     0.11,     0.01,2,     0.01,    2.005,2,    0.015,    2.081,2,    1.002,2,    0.097,2,   2196.7,2,   2280.6,2,   7.5898,2, -999.000,9, -999.000,   -999.0,9,   -999.0,   7.3025,  26.6382
    49MR0505_1,   P03,   128,  1,     27, X12039,2,20051119,1215, 25.8452,-161.2560, 4996,    599.2,2,   5.8660,2,   5.86517,2,  34.0550,2,  34.0563,2,    73.91,1,    79.86,2,    600.6,2,    78.81,2,    79.34,2,    66.26,2,     0.26,    35.59,2,     0.13,     0.00,2,     0.01,    2.599,2,    0.016,    0.960,2,    0.472,2,    0.040,2,   2260.8,2,   2293.3,2,   7.4453,2, -999.000,9, -999.000,   -999.0,9,   -999.0,   5.8143,  26.8291
    49MR0505_1,   P03,   128,  1,     26, X12038,2,20051119,1215, 25.8452,-161.2560, 4996,    699.3,2,   5.0010,2,   5.00054,2,  34.1737,2,  34.1755,2,    32.08,1,    34.96,2,    704.2,2,    35.82,2,    34.19,2,    87.52,2,     0.31,    40.87,2,     0.15,     0.00,2,     0.01,    3.011,2,    0.017,    0.201,2,    0.108,2,    0.021,2,   2315.2,6,   2322.3,2,   7.3699,2, -999.000,9, -999.000,   -999.0,9,   -999.0,   4.9446,  27.0264
    49MR0505_1,   P03,   128,  1,     25, X12037,2,20051119,1215, 25.8452,-161.2560, 4996,    798.5,2,   4.4057,2,   4.40512,2,  34.2727,2,  34.2731,2,    20.45,1,    22.67,2,    799.5,2,    20.62,2,    21.98,2,   103.25,2,     0.35,    42.78,2,     0.15,     0.00,2,     0.01,    3.145,2,    0.018,    0.054,6,    0.034,6,    0.008,6,   2344.1,2,   2341.6,6,   7.3487,2, -999.000,9, -999.000,   -999.0,9,   -999.0,   4.3443,  27.1714
    49MR0505_1,   P03,   128,  1,     24, X12008,2,20051119,1215, 25.8452,-161.2560, 4996,    899.2,2,   4.0537,2,   4.05343,2,  34.3645,2,  34.3646,2,    23.66,1,    26.05,2,    898.6,2,    24.53,2,    25.48,2,   112.11,2,     0.37,    42.92,2,     0.15,     0.00,2,     0.01,    3.139,2,    0.018,    0.021,2,    0.013,2,    0.000,2,   2353.9,2,   2356.1,2,   7.3632,6, -999.000,9, -999.000,   -999.0,9,   -999.0,   3.9862,  27.2820
    49MR0505_1,   P03,   128,  1,     23, X12035,2,20051119,1215, 25.8452,-161.2560, 4996,   1001.0,2,   3.7935,2,   3.79327,2,  34.4305,2,  34.4302,6,    31.41,1,    34.32,2,    998.2,2,    34.08,2,    33.90,2,   118.13,2,     0.38,    42.80,2,     0.15,     0.01,2,     0.01,    3.126,2,    0.018,    0.012,2,    0.011,2,    0.000,2,   2353.9,2,   2370.4,2,   7.3843,2, -999.000,9, -999.000,   -999.0,9,   -999.0,   3.7195,  27.3616
    49MR0505_1,   P03,   128,  1,     22, X12034,2,20051119,1215, 25.8452,-161.2560, 4996,   1201.9,2,   3.3678,2,   3.36776,2,  34.5039,2,  34.5035,2,    45.11,1,    49.19,2,   1199.2,2,    49.10,2,    48.95,2,   126.54,2,     0.40,    42.19,2,     0.15,     0.00,2,     0.01,    3.057,2,    0.018,    0.000,2,    0.001,2,    0.000,2,   2355.9,2,   2382.7,2,   7.4193,2, -999.000,9, -999.000,   -999.0,9,   -999.0,   3.2809,  27.4629
    49MR0505_1,   P03,   128,  1,     21, X12033,2,20051119,1215, 25.8452,-161.2560, 4996,   1398.5,2,   2.9515,2,   2.95117,2,  34.5443,2,  34.5446,2,    55.29,1,    60.42,2,   1398.1,2,    59.40,2,    60.25,2,   135.64,2,     0.42,    41.77,2,     0.15,     0.01,2,     0.01,    3.013,2,    0.017,    0.001,2,    0.000,2,    0.000,2,   2364.2,2,   2395.1,2,   7.4384,2, -999.000,9, -999.000,   -999.0,9,   -999.0,   2.8526,  27.5347
    49MR0505_1,   P03,   128,  1,     20, X12032,2,20051119,1215, 25.8452,-161.2560, 4996,   1601.1,2,   2.5621,2,   2.56208,2,  34.5762,2,  34.5764,2,    64.87,1,    70.94,2,   1599.9,2,    70.46,2,    70.79,2,   144.96,2,     0.44,    41.21,2,     0.15,     0.01,2,     0.01,    2.968,2,    0.017,    0.003,2,    0.000,2,    0.000,2,   2363.1,2,   2402.2,2,   7.4573,6, -999.000,9, -999.000,   -999.0,9,   -999.0,   2.4511,  27.5952
    49MR0505_1,   P03,   128,  1,     19, X12001,2,20051119,1215, 25.8452,-161.2560, 4996,   1800.8,2,   2.3019,2,   2.30178,2,  34.5969,2,  34.5971,6,    71.78,1,    78.62,2,   1799.6,2,    78.26,2,    78.15,2,   151.22,2,     0.45,    40.86,2,     0.15,     0.00,2,     0.01,    2.921,2,    0.017,    0.000,2,    0.000,2,    0.000,2,   2364.0,2,   2411.0,2,   7.4701,2, -999.000,9, -999.000,   -999.0,9,   -999.0,   2.1778,  27.6345
    49MR0505_1,   P03,   128,  1,     18, X12030,2,20051119,1215, 25.8452,-161.2560, 4996,   1999.9,2,   2.0534,2,   2.05338,2,  34.6162,2,  34.6161,2,    79.65,1,    87.42,2,   1999.4,2,    86.55,2,    86.96,2,   157.14,2,     0.46,    40.24,2,     0.15,     0.01,2,     0.01,    2.875,2,    0.017,    0.000,2,    0.000,2,    0.000,2,   2364.7,2,   2413.7,2,   7.4847,2, -999.000,9, -999.000,   -999.0,9,   -999.0,   1.9162,  27.6707
    49MR0505_1,   P03,   128,  1,     17, X12049,2,20051119,1215, 25.8452,-161.2560, 4996,   2200.0,2,   1.8962,2,   1.89609,2,  34.6301,2,  34.6304,2,    87.53,1,    96.19,2,   2199.0,2,    96.22,2,    95.75,2,   159.73,2,     0.47,    39.78,2,     0.14,     0.01,2,     0.01,    2.835,2,    0.017, -999.000,9, -999.000,9, -999.000,9,   2364.9,2,   2420.6,2,   7.5000,2, -999.000,9, -999.000,   -999.0,9,   -999.0,   1.7444,  27.6951
    49MR0505_1,   P03,   128,  1,     16, X12028,2,20051119,1215, 25.8452,-161.2560, 4996,   2400.9,2,   1.7731,2,   1.77290,2,  34.6417,2,  34.6416,2,    94.89,1,   104.02,2,   2400.0,2,   104.27,2,   103.89,2,   160.82,2,     0.47,    39.25,2,     0.14,     0.01,2,     0.01,    2.792,2,    0.017,    0.000,2,    0.000,2,    0.000,2,   2359.8,6,   2422.0,2,   7.5138,2, -999.000,9, -999.000,   -999.0,9,   -999.0,   1.6059,  27.7148
    49MR0505_1,   P03,   128,  1,     15, X12006,2,20051119,1215, 25.8452,-161.2560, 4996,   2599.7,2,   1.6787,2,   1.67867,2,  34.6520,2,  34.6518,6,   101.85,1,   111.87,2,   2598.5,2,   112.97,2,   111.61,2,   161.65,2,     0.47,    38.77,2,     0.14,     0.01,2,     0.01,    2.745,2,    0.017, -999.000,9, -999.000,9, -999.000,9,   2353.7,2,   2426.1,6,   7.5279,2, -999.000,9, -999.000,   -999.0,9,   -999.0,   1.4955,  27.7312
    49MR0505_1,   P03,   128,  1,     14, X12026,2,20051119,1215, 25.8452,-161.2560, 4996,   2799.8,2,   1.5994,2,   1.59922,2,  34.6601,2,  34.6604,2,   109.14,1,   119.80,2,   2799.6,2,   119.29,2,   119.58,2,   161.01,2,     0.47,    38.24,2,     0.14,     0.01,2,     0.01,    2.705,2,    0.017, -999.000,9, -999.000,9, -999.000,9,   2351.4,2,   2426.4,2,   7.5413,6, -999.000,9, -999.000,   -999.0,9,   -999.0,   1.3994,  27.7447
    49MR0505_1,   P03,   128,  1,     13, X12025,2,20051119,1215, 25.8452,-161.2560, 4996,   3000.4,2,   1.5462,2,   1.54609,2,  34.6666,2,  34.6663,2,   115.38,1,   126.69,2,   3000.1,2,   126.41,2,   126.36,2,   159.82,2,     0.47,    37.82,2,     0.14,     0.00,2,     0.01,    2.674,2,    0.017,    0.002,2,    0.000,2,    0.000,2,   2349.8,2,   2423.9,2,   7.5524,2, -999.000,9, -999.000,   -999.0,9,   -999.0,   1.3284,  27.7549
    49MR0505_1,   P03,   128,  1,     12, X12024,2,20051119,1215, 25.8452,-161.2560, 4996,   3250.2,2,   1.4978,2,   1.49773,2,  34.6737,2,  34.6733,2,   122.52,1,   134.25,2,   3250.0,2,   134.10,2,   134.19,2,   157.91,2,     0.47,    37.23,2,     0.14,     0.00,2,     0.01,    2.623,2,    0.017, -999.000,9, -999.000,9, -999.000,9,   2345.2,2,   2428.2,2,   7.5658,2, -999.000,9, -999.000,   -999.0,9,   -999.0,   1.2568,  27.7656
    49MR0505_1,   P03,   128,  1,     11, X12023,2,20051119,1215, 25.8452,-161.2560, 4996,   3500.3,2,   1.4779,2,   1.47786,2,  34.6782,2,  34.6776,2,   127.56,1,   139.68,2,   3499.8,2,   140.29,2,   139.71,2,   156.75,2,     0.46,    36.89,2,     0.14,     0.00,2,     0.01,    2.596,2,    0.016, -999.000,9, -999.000,9, -999.000,9,   2336.2,2,   2423.9,2,   7.5743,2, -999.000,9, -999.000,   -999.0,9,   -999.0,   1.2123,  27.7724
    49MR0505_1,   P03,   128,  1,     10, X12022,2,20051119,1215, 25.8452,-161.2560, 4996,   3751.5,2,   1.4621,2,   1.46201,2,  34.6823,2,  34.6821,2,   132.50,1,   144.68,2,   3751.3,2,   144.84,2,   144.80,2,   155.48,2,     0.46,    36.51,2,     0.14,     0.01,2,     0.01,    2.566,2,    0.016,    0.004,2,    0.000,2,    0.000,2,   2335.4,2,   2426.2,2,   7.5828,2, -999.000,9, -999.000,   -999.0,9,   -999.0,   1.1709,  27.7785
    49MR0505_1,   P03,   128,  1,      9, X12021,2,20051119,1215, 25.8452,-161.2560, 4996,   4000.8,2,   1.4641,2,   1.46408,2,  34.6849,2,  34.6844,6,   135.86,1,   148.04,2,   4000.6,2,   148.43,2,   148.17,2,   154.16,2,     0.46,    36.37,2,     0.13,     0.01,2,     0.01,    2.562,2,    0.016, -999.000,9, -999.000,9, -999.000,9,   2332.6,2,   2424.5,2,   7.5879,2, -999.000,9, -999.000,   -999.0,9,   -999.0,   1.1461,  27.7823
    49MR0505_1,   P03,   128,  1,      8, X12020,2,20051119,1215, 25.8452,-161.2560, 4996,   4251.5,2,   1.4712,2,   1.47114,2,  34.6869,2,  34.6863,2,   138.88,1,   150.85,2,   4251.5,2,   150.84,2,   150.90,2,   153.17,2,     0.46,    36.16,2,     0.13,     0.01,2,     0.01,    2.537,2,    0.016, -999.000,9, -999.000,9, -999.000,9,   2331.7,6,   2421.1,2,   7.5922,2, -999.000,9, -999.000,   -999.0,9,   -999.0,   1.1253,  27.7853
    49MR0505_1,   P03,   128,  1,      7, X12019,2,20051119,1215, 25.8452,-161.2560, 4996,   4499.1,2,   1.4853,2,   1.48513,2,  34.6883,2,  34.6885,2,   141.41,1,   153.07,2,   4499.2,2,   152.73,2,   153.00,2,   152.27,2,     0.45,    36.01,2,     0.13,     0.01,2,     0.01,    2.529,2,    0.016,    0.000,2,    0.000,2,    0.000,2,   2329.0,2,   2421.0,6,   7.5957,2, -999.000,9, -999.000,   -999.0,9,   -999.0,   1.1109,  27.7874
    49MR0505_1,   P03,   128,  1,      6, X12018,2,20051119,1215, 25.8452,-161.2560, 4996,   4749.1,2,   1.5074,2,   1.50732,2,  34.6891,2,  34.6891,2,   143.31,1,   154.31,2,   4749.1,2,   154.37,2,   154.41,2,   151.42,2,     0.45,    35.94,2,     0.13,     0.00,2,     0.01,    2.526,2,    0.016, -999.000,9, -999.000,9, -999.000,9,   2328.3,2,   2424.6,2,   7.5985,2, -999.000,9, -999.000,   -999.0,9,   -999.0,   1.1030,  27.7886
    49MR0505_1,   P03,   128,  1,      5, X12043,2,20051119,1215, 25.8452,-161.2560, 4996,   5000.6,2,   1.5302,2,   1.53014,2,  34.6899,2,  34.6901,2,   145.39,1,   155.72,2,   5000.6,2,   155.72,2,   155.62,2,   150.65,2,     0.45,    35.81,2,     0.13,     0.01,2,     0.01,    2.509,2,    0.016, -999.000,9, -999.000,9, -999.000,9,   2324.3,2,   2417.2,2,   7.5994,2, -999.000,9, -999.000,   -999.0,9,   -999.0,   1.0949,  27.7898
    49MR0505_1,   P03,   128,  1,      4, X12010,9,20051119,1215, 25.8452,-161.2560, 4996,     99.3,2,  19.3401,2,  19.33623,2,  34.9538,2,-999.0000,9,   212.48,1,   229.96,2,    100.1,2,   229.69,2,  -999.00,9,  -999.00,9,  -999.00,  -999.00,9,  -999.00,  -999.00,9,  -999.00, -999.000,9, -999.000, -999.000,9, -999.000,9, -999.000,9,   -999.0,9,   -999.0,9,-999.0000,9, -999.000,9, -999.000,   -999.0,9,   -999.0,  19.3222,  24.9032
    49MR0505_1,   P03,   128,  1,      3, X12015,9,20051119,1215, 25.8452,-161.2560, 4996,     49.5,2,  25.3841,2,  25.37816,2,  35.3469,2,-999.0000,9,   191.13,1,   207.87,2,     51.2,2,   209.55,2,  -999.00,9,  -999.00,9,  -999.00,  -999.00,9,  -999.00,  -999.00,9,  -999.00, -999.000,9, -999.000, -999.000,9, -999.000,9, -999.000,9,   -999.0,9,   -999.0,9,-999.0000,9, -999.000,9, -999.000,   -999.0,9,   -999.0,  25.3732,  23.4892
    49MR0505_1,   P03,   128,  1,      2, X12014,9,20051119,1215, 25.8452,-161.2560, 4996,      9.0,2,  25.4534,2,  25.45400,2,  35.3335,2,-999.0000,9,   190.54,1,   206.01,2,     10.9,2,   208.11,2,  -999.00,9,  -999.00,9,  -999.00,  -999.00,9,  -999.00,  -999.00,9,  -999.00, -999.000,9, -999.000, -999.000,9, -999.000,9, -999.000,9,   -999.0,9,   -999.0,9,-999.0000,9, -999.000,9, -999.000,   -999.0,9,   -999.0,  25.4514,  23.4551
    49MR0505_1,   P03,   128,  1,      1, X12013,2,20051119,1215, 25.8452,-161.2560, 4996,   5068.2,2,   1.5367,2,   1.53665,2,  34.6901,2,  34.6903,6,   146.23,1,   155.98,2,   5068.2,2,   156.03,2,   156.18,2,   150.31,2,     0.45,    35.75,2,     0.13,     0.00,2,     0.01,    2.510,2,    0.016,    0.000,2,    0.000,2,    0.000,2,   2327.2,2,   2423.0,2,   7.6002,2, -999.000,9, -999.000,   -999.0,9,   -999.0,   1.0929,  27.7901