BOTTLE,20100316JAMSTECRIGC
EXPOCODE,SECT,STNNBR,CASTNO,SAMPNO,BTLNBR,BTLNBR_FLAG_W,DATE,TIME,LATITUDE,LONGITUDE,DEPTH,CTDPRS,CTDPRS_FLAG_W,CTDTMP,CTDTMP_FLAG_W,SBE35,SBE35_FLAG_W,CTDSAL,CTDSAL_FLAG_W,SALNTY,SALNTY_FLAG_W,CTDOXY,CTDOXY_FLAG_W,OPTOXY,OPTOXY_FLAG_W,DWNPRS,DWNPRS_FLAG_W,DWNOXY,DWNOXY_FLAG_W,OXYGEN,OXYGEN_FLAG_W,SILCAT,SILCAT_FLAG_W,SILUNC,NITRAT,NITRAT_FLAG_W,NRAUNC,NITRIT,NITRIT_FLAG_W,NRIUNC,PHSPHT,PHSPHT_FLAG_W,PHPUNC,CFC-11,CFC-11_FLAG_W,CFC-12,CFC-12_FLAG_W,CFC113,CFC113_FLAG_W,TCARBN,TCARBN_FLAG_W,ALKALI,ALKALI_FLAG_W,PH,PH_FLAG_W,DELC13,DELC13_FLAG_W,C13ERR,DELC14,DELC14_FLAG_W,C14ERR,THETA,SIG0
,,,,,,,,UTC,DEG,DEG,M,DBAR,,ITS-90,,ITS-90,,PSS-78,,PSS-78,,UMOL/KG,,UMOL/KG,,DBAR,,UMOL/KG,,UMOL/KG,,UMOL/KG,,UMOL/KG,UMOL/KG,,UMOL/KG,UMOL/KG,,UMOL/KG,UMOL/KG,,UMOL/KG,PMOL/KG,,PMOL/KG,,PMOL/KG,,UMOL/KG,,UMOL/KG,,,,/MILLE,,/MILLE,/MILLE,,/MILLE,DEG C,KG/CUM
    49MR0505_1,   P03,    84,  1,      0,   -999,9,20051113,0458, 24.3025,-145.4755, 5172,   -999.0,9,-999.0000,9,-999.00000,9,-999.0000,9,  35.2805,2,  -999.00,9,  -999.00,9,   -999.0,9,  -999.00,9,  -999.00,9,  -999.00,9,  -999.00,  -999.00,9,  -999.00,  -999.00,9,  -999.00, -999.000,9, -999.000, -999.000,9, -999.000,9, -999.000,9,   -999.0,9,   -999.0,9,-999.0000,9, -999.000,9, -999.000,   -999.0,9,   -999.0,-999.0000,-999.0000
    49MR0505_1,   P03,    84,  1,     36, X12048,2,20051113,0458, 24.3025,-145.4755, 5172,     10.1,2,  23.2716,2,  23.27225,2,  35.2878,2,  35.2881,2,   202.77,1,   215.61,2,     14.1,2,   216.59,2,   215.70,2,     1.15,2,     0.12,     0.05,2,     0.03,     0.01,2,     0.01,    0.064,2,    0.029,    1.782,2,    1.111,2, -999.000,5,   2006.0,2,   2324.1,2,   8.0728,2, -999.000,9, -999.000,   -999.0,9,   -999.0,  23.2695,  24.0738
    49MR0505_1,   P03,    84,  1,     35, X12047,2,20051113,0458, 24.3025,-145.4755, 5172,     50.8,2,  23.2731,2,  23.27445,2,  35.2866,2,  35.2872,2,   202.58,1,   215.82,2,     51.8,2,   215.65,2,   215.61,2,     1.11,2,     0.12,     0.04,2,     0.03,     0.01,2,     0.01,    0.067,2,    0.028,    1.788,2,    1.108,2, -999.000,5,   2005.1,6,   2320.5,2,   8.0722,2, -999.000,9, -999.000,   -999.0,9,   -999.0,  23.2626,  24.0749
    49MR0505_1,   P03,    84,  1,     34, X12046,2,20051113,0458, 24.3025,-145.4755, 5172,    100.4,2,  21.0683,2,  21.06869,2,  35.1767,2,  35.1769,2,   208.99,1,   222.69,2,    105.3,2,   221.08,2,   222.26,2,     1.51,2,     0.12,     0.04,2,     0.03,     0.01,2,     0.01,    0.054,2,    0.033,    2.049,2,    1.243,2, -999.000,5,   2018.0,2,   2314.7,6,   8.0389,2, -999.000,9, -999.000,   -999.0,9,   -999.0,  21.0490,  24.6151
    49MR0505_1,   P03,    84,  1,     33, X12003,2,20051113,0458, 24.3025,-145.4755, 5172,    149.8,2,  19.2296,2,  19.22841,2,  34.9405,2,  34.9405,2,   200.57,1,   213.01,2,    154.3,2,   212.96,2,   212.79,2,     2.05,2,     0.12,     0.64,2,     0.03,     0.10,2,     0.01,    0.129,2,    0.019,    2.203,2,    1.320,2, -999.000,5,   2031.7,2,   2299.4,2,   7.9934,6, -999.000,9, -999.000,   -999.0,9,   -999.0,  19.2027,  24.9238
    49MR0505_1,   P03,    84,  1,     32, X12044,2,20051113,0458, 24.3025,-145.4755, 5172,    201.7,2,  16.0490,2,  16.05161,2,  34.5041,2,  34.5035,2,   193.22,1,   204.75,2,    199.0,2,   204.09,2,   205.05,2,     4.15,2,     0.13,     4.03,2,     0.04,     0.02,2,     0.01,    0.380,2,    0.013,    2.538,2,    1.490,2, -999.000,5,   2047.4,2,   2270.5,2,   7.9188,2, -999.000,9, -999.000,   -999.0,9,   -999.0,  16.0171,  25.3622
    49MR0505_1,   P03,    84,  1,     31, X12051,2,20051113,0458, 24.3025,-145.4755, 5172,    250.3,2,  12.8698,2,  12.87582,2,  34.2104,2,  34.2137,2,   200.69,1,   212.20,2,    251.0,2,   213.13,2,   212.42,2,     8.04,2,     0.14,     8.53,2,     0.06,     0.01,2,     0.01,    0.673,2,    0.013,    2.868,6,    1.645,6,    0.107,6,   2062.5,2,   2256.8,2,   7.8580,2, -999.000,9, -999.000,   -999.0,9,   -999.0,  12.8358,  25.8138
    49MR0505_1,   P03,    84,  1,     30, X12042,2,20051113,0458, 24.3025,-145.4755, 5172,    300.2,2,  11.4156,2,  11.42317,2,  34.1643,2,  34.1657,2,   201.56,1,   213.17,2,    297.4,2,   213.25,2,   213.38,2,    12.22,2,     0.15,    12.04,2,     0.07,     0.01,2,     0.01,    0.893,2,    0.013,    2.992,2,    1.714,2,    0.110,2,   2081.4,2,   2255.3,2,   7.8190,2, -999.000,9, -999.000,   -999.0,9,   -999.0,  11.3779,  26.0561
    49MR0505_1,   P03,    84,  1,     29, X12041,2,20051113,0458, 24.3025,-145.4755, 5172,    399.2,2,   9.0867,2,   9.08263,2,  34.0974,2,  34.1012,2,   174.32,1,   184.35,2,    396.1,2,   181.00,2,   184.94,2,    25.54,2,     0.18,    19.82,2,     0.09,     0.01,2,     0.01,    1.421,2,    0.014,    2.892,2,    1.542,2,    0.115,2,   2133.7,2,   2262.3,2,   7.7147,2, -999.000,9, -999.000,   -999.0,9,   -999.0,   9.0431,  26.4044
    49MR0505_1,   P03,    84,  1,     28, X12016,2,20051113,0458, 24.3025,-145.4755, 5172,    501.2,2,   6.6715,2,   6.66938,2,  34.0234,2,  34.0253,6,   106.17,1,   113.47,2,    502.9,2,   114.07,2,   112.73,2,    51.79,2,     0.23,    31.32,2,     0.12,     0.01,2,     0.01,    2.272,2,    0.016,    1.717,2,    0.830,2,    0.072,2,   2219.6,2,   2277.7,2,   7.5246,2, -999.000,9, -999.000,   -999.0,9,   -999.0,   6.6255,  26.7000
    49MR0505_1,   P03,    84,  1,     27, X12039,2,20051113,0458, 24.3025,-145.4755, 5172,    601.0,2,   5.4659,2,   5.46766,2,  34.1154,2,  34.1144,2,    43.88,1,    46.92,2,    603.9,2,    49.12,2,    46.79,2,    76.09,2,     0.29,    38.98,2,     0.14,     0.01,2,     0.01,    2.873,2,    0.017,    0.417,2,    0.221,2,    0.019,2,   2289.7,2,   2303.5,2,   7.3899,2, -999.000,9, -999.000,   -999.0,9,   -999.0,   5.4158,  26.9253
    49MR0505_1,   P03,    84,  1,     26, X12038,2,20051113,0458, 24.3025,-145.4755, 5172,    702.1,2,   4.9127,2,   4.91361,2,  34.2534,2,  34.2519,2,    19.32,1,    20.82,2,    703.6,2,    21.13,2,    20.37,2,    92.24,2,     0.32,    42.04,2,     0.15,     0.01,2,     0.01,    3.128,2,    0.018,    0.051,2,    0.036,2,    0.009,2,   2325.7,6,   2328.2,2,   7.3516,2, -999.000,9, -999.000,   -999.0,9,   -999.0,   4.8565,  27.0997
    49MR0505_1,   P03,    84,  1,     25, X12037,2,20051113,0458, 24.3025,-145.4755, 5172,    800.2,2,   4.4790,2,   4.47898,2,  34.3526,2,  34.3523,2,    18.50,1,    20.03,2,    801.0,2,    19.78,2,    19.95,2,   102.69,2,     0.34,    43.19,2,     0.15,     0.01,2,     0.01,    3.190,2,    0.018,    0.010,6,    0.007,6,    0.000,6,   2341.8,2,   2345.4,6,   7.3609,2, -999.000,9, -999.000,   -999.0,9,   -999.0,   4.4169,  27.2271
    49MR0505_1,   P03,    84,  1,     24, X12008,2,20051113,0458, 24.3025,-145.4755, 5172,   5278.3,2,   1.4945,2,   1.49455,2,  34.6954,2,  34.6957,2,   160.04,1,   167.82,2,   5278.3,2,   167.42,2,   167.36,2,   140.96,2,     0.43,    35.06,2,     0.13,     0.01,2,     0.01,    2.443,2,    0.016, -999.000,9, -999.000,9, -999.000,9,   2310.1,2,   2409.6,2,   7.6093,2, -999.000,9, -999.000,   -999.0,9,   -999.0,   1.0261,  27.7988
    49MR0505_1,   P03,    84,  1,     23, X12035,2,20051113,0458, 24.3025,-145.4755, 5172,   1000.5,2,   3.9694,2,   3.96973,2,  34.4866,2,  34.4864,6,    37.36,1,    39.69,2,   1001.3,2,    39.71,2,    39.73,2,   112.31,2,     0.37,    42.74,2,     0.15,     0.01,2,     0.01,    3.105,2,    0.018,    0.003,2,    0.001,2,    0.000,2,   2345.4,2,   2370.7,2,   7.4113,2, -999.000,9, -999.000,   -999.0,9,   -999.0,   3.8940,  27.3887
    49MR0505_1,   P03,    84,  1,     22, X12034,2,20051113,0458, 24.3025,-145.4755, 5172,   1201.1,2,   3.4578,2,   3.45809,2,  34.5321,2,  34.5322,2,    45.66,1,    48.47,2,   1202.1,2,    48.70,2,    48.67,2,   123.92,2,     0.39,    42.52,2,     0.15,     0.01,2,     0.01,    3.102,2,    0.018,    0.000,2,    0.000,2,    0.000,2,   2354.4,2,   2379.8,2,   7.4243,2, -999.000,9, -999.000,   -999.0,9,   -999.0,   3.3701,  27.4769
    49MR0505_1,   P03,    84,  1,     21, X12033,2,20051113,0458, 24.3025,-145.4755, 5172,   1398.7,2,   3.0616,2,   3.06146,2,  34.5577,2,  34.5580,2,    53.63,1,    57.11,2,   1399.3,2,    57.17,2,    57.16,2,   132.98,2,     0.41,    42.31,2,     0.15,     0.01,2,     0.01,    3.055,2,    0.018,    0.000,2,    0.000,2,    0.000,2,   2358.3,2,   2391.4,2,   7.4399,2, -999.000,9, -999.000,   -999.0,9,   -999.0,   2.9615,  27.5355
    49MR0505_1,   P03,    84,  1,     20, X12032,2,20051113,0458, 24.3025,-145.4755, 5172,   1602.5,2,   2.6964,2,   2.69678,2,  34.5800,2,  34.5801,2,    62.20,1,    66.46,2,   1602.6,2,    65.99,2,    66.54,2,   141.63,2,     0.43,    41.78,2,     0.15,     0.01,2,     0.01,    3.004,2,    0.017,    0.000,2,    0.000,2,    0.000,2,   2360.4,2,   2400.2,2,   7.4539,6, -999.000,9, -999.000,   -999.0,9,   -999.0,   2.5836,  27.5869
    49MR0505_1,   P03,    84,  1,     19, X12001,2,20051113,0458, 24.3025,-145.4755, 5172,   1799.8,2,   2.3882,2,   2.38854,2,  34.5991,2,  34.5994,2,    69.11,1,    74.18,2,   1799.8,2,    74.72,2,    74.21,2,   149.86,2,     0.45,    41.34,2,     0.15,     0.01,2,     0.01,    2.963,2,    0.017,    0.000,2,    0.000,2,    0.000,2,   2363.6,2,   2409.4,2,   7.4660,2, -999.000,9, -999.000,   -999.0,9,   -999.0,   2.2630,  27.6292
    49MR0505_1,   P03,    84,  1,     18, X12030,2,20051113,0458, 24.3025,-145.4755, 5172,   1999.8,2,   2.1359,2,   2.13603,2,  34.6165,2,  34.6168,6,    76.95,1,    82.59,2,   1999.8,2,    82.46,2,    82.47,2,   156.67,2,     0.46,    40.82,2,     0.15,     0.01,2,     0.01,    2.912,2,    0.017,    0.000,2,    0.000,2,    0.000,2,   2365.6,2,   2410.6,2,   7.4801,2, -999.000,9, -999.000,   -999.0,9,   -999.0,   1.9975,  27.6646
    49MR0505_1,   P03,    84,  1,     17, X12049,2,20051113,0458, 24.3025,-145.4755, 5172,   2198.9,2,   1.9510,2,   1.95134,2,  34.6310,2,  34.6310,2,    84.20,1,    90.65,2,   2198.4,2,    91.34,2,    90.43,2,   161.44,2,     0.47,    40.36,2,     0.15,     0.01,2,     0.01,    2.869,2,    0.017,    0.000,2,    0.000,2,    0.000,2,   2363.3,2,   2418.8,2,   7.4953,2, -999.000,9, -999.000,   -999.0,9,   -999.0,   1.7984,  27.6917
    49MR0505_1,   P03,    84,  1,     16, X12028,2,20051113,0458, 24.3025,-145.4755, 5172,   2399.8,2,   1.7951,2,   1.79525,2,  34.6448,2,  34.6451,2,    93.36,1,   100.59,2,   2399.2,2,   100.76,2,   100.35,2,   164.06,2,     0.48,    39.66,2,     0.14,     0.01,2,     0.01,    2.815,2,    0.017, -999.000,9, -999.000,9, -999.000,9,   2360.3,6,   2424.7,2,   7.5137,2, -999.000,9, -999.000,   -999.0,9,   -999.0,   1.6276,  27.7157
    49MR0505_1,   P03,    84,  1,     15, X12006,2,20051113,0458, 24.3025,-145.4755, 5172,   2599.9,2,   1.6808,2,   1.68093,2,  34.6553,2,  34.6554,2,   101.00,1,   108.81,2,   2599.5,2,   109.01,2,   108.79,2,   165.98,2,     0.48,    39.16,2,     0.14,     0.01,2,     0.01,    2.766,2,    0.017,    0.007,2,    0.003,2,    0.000,2,   2356.8,2,   2423.1,2,   7.5269,2, -999.000,9, -999.000,   -999.0,9,   -999.0,   1.4975,  27.7337
    49MR0505_1,   P03,    84,  1,     14, X12026,2,20051113,0458, 24.3025,-145.4755, 5172,   2800.2,2,   1.6011,2,   1.60117,2,  34.6630,2,  34.6633,6,   107.52,1,   116.03,2,   2799.7,2,   116.24,2,   115.96,2,   166.83,2,     0.49,    38.85,2,     0.14,     0.01,2,     0.01,    2.735,2,    0.017, -999.000,9, -999.000,9, -999.000,9,   2353.0,2,   2425.1,2,   7.5401,6, -999.000,9, -999.000,   -999.0,9,   -999.0,   1.4010,  27.7469
    49MR0505_1,   P03,    84,  1,     13, X12025,2,20051113,0458, 24.3025,-145.4755, 5172,   3002.0,2,   1.5437,2,   1.54374,2,  34.6696,2,  34.6697,2,   114.50,1,   123.36,2,   3001.6,2,   123.88,2,   123.32,2,   165.58,2,     0.48,    38.23,2,     0.14,     0.01,2,     0.01,    2.692,2,    0.017,    0.000,2,    0.000,2,    0.000,2,   2349.3,2,   2425.3,2,   7.5528,2, -999.000,9, -999.000,   -999.0,9,   -999.0,   1.3258,  27.7575
    49MR0505_1,   P03,    84,  1,     12, X12024,2,20051113,0458, 24.3025,-145.4755, 5172,   3251.5,2,   1.5002,2,   1.50026,2,  34.6770,2,  34.6769,2,   122.79,1,   132.17,2,   3251.5,2,   131.58,2,   132.29,2,   162.70,2,     0.48,    37.49,2,     0.14,     0.01,2,     0.01,    2.633,2,    0.017, -999.000,9, -999.000,9, -999.000,9,   2344.4,2,   2427.3,2,   7.5686,2, -999.000,9, -999.000,   -999.0,9,   -999.0,   1.2590,  27.7681
    49MR0505_1,   P03,    84,  1,     11, X12023,2,20051113,0458, 24.3025,-145.4755, 5172,   3501.7,2,   1.4795,2,   1.47955,2,  34.6810,2,  34.6811,2,   128.29,1,   138.23,2,   3501.5,2,   137.87,2,   138.09,2,   161.26,2,     0.47,    37.25,2,     0.14,     0.01,2,     0.01,    2.602,2,    0.016,    0.000,2,    0.001,2,    0.000,2,   2339.2,2,   2425.9,2,   7.5781,2, -999.000,9, -999.000,   -999.0,9,   -999.0,   1.2137,  27.7745
    49MR0505_1,   P03,    84,  1,     10, X12022,2,20051113,0458, 24.3025,-145.4755, 5172,   3752.1,2,   1.4648,2,   1.46492,2,  34.6842,2,  34.6844,2,   133.41,1,   143.43,2,   3752.0,2,   143.14,2,   143.45,2,   158.77,2,     0.47,    36.91,2,     0.14,     0.01,2,     0.01,    2.579,2,    0.016, -999.000,9, -999.000,9, -999.000,9,   2334.4,2,   2424.2,2,   7.5860,2, -999.000,9, -999.000,   -999.0,9,   -999.0,   1.1734,  27.7798
    49MR0505_1,   P03,    84,  1,      9, X12021,2,20051113,0458, 24.3025,-145.4755, 5172,   4002.7,2,   1.4633,2,   1.46347,2,  34.6870,2,  34.6870,2,   137.86,1,   147.92,2,   4002.7,2,   147.55,2,   147.83,2,   156.07,2,     0.46,    36.64,2,     0.14,     0.01,2,     0.01,    2.555,2,    0.016,    0.001,2,    0.003,2,    0.000,2,   2330.7,2,   2424.2,2,   7.5922,2, -999.000,9, -999.000,   -999.0,9,   -999.0,   1.1451,  27.7841
    49MR0505_1,   P03,    84,  1,      8, X12020,2,20051113,0458, 24.3025,-145.4755, 5172,   4250.3,2,   1.4738,2,   1.47384,2,  34.6885,2,  34.6885,6,   141.20,1,   151.05,2,   4250.3,2,   151.13,2,   150.98,2,   154.08,2,     0.46,    36.40,2,     0.13,     0.01,2,     0.01,    2.536,2,    0.016, -999.000,9, -999.000,9, -999.000,9,   2328.2,6,   2422.5,2,   7.5964,2, -999.000,9, -999.000,   -999.0,9,   -999.0,   1.1280,  27.7864
    49MR0505_1,   P03,    84,  1,      7, X12019,2,20051113,0458, 24.3025,-145.4755, 5172,   4500.3,2,   1.4761,2,   1.47613,2,  34.6905,2,  34.6908,2,   146.04,1,   155.78,2,   4500.4,2,   155.50,2,   155.73,2,   150.35,2,     0.45,    36.04,2,     0.13,     0.01,2,     0.01,    2.511,2,    0.016,    0.005,2,    0.007,2,    0.000,2,   2323.7,2,   2417.6,6,   7.6015,2, -999.000,9, -999.000,   -999.0,9,   -999.0,   1.1018,  27.7898
    49MR0505_1,   P03,    84,  1,      6, X12018,2,20051113,0458, 24.3025,-145.4755, 5172,   4752.3,2,   1.4809,2,   1.48097,2,  34.6924,2,  34.6923,2,   150.62,1,   160.03,2,   4752.2,2,   159.96,2,   159.91,2,   147.11,2,     0.44,    35.78,2,     0.13,     0.01,2,     0.01,    2.486,2,    0.016, -999.000,9, -999.000,9, -999.000,9,   2317.9,2,   2413.0,2,   7.6067,6, -999.000,9, -999.000,   -999.0,9,   -999.0,   1.0770,  27.7930
    49MR0505_1,   P03,    84,  1,      5, X12043,2,20051113,0458, 24.3025,-145.4755, 5172,   4999.7,2,   1.4759,2,   1.47601,2,  34.6946,2,  34.6947,2,   156.19,1,   165.37,2,   4999.7,2,   164.92,2,   164.91,2,   143.03,2,     0.43,    35.34,2,     0.13,     0.01,2,     0.01,    2.460,2,    0.016, -999.000,9, -999.000,9, -999.000,9,   2312.6,2,   2409.1,2,   7.6105,2, -999.000,9, -999.000,   -999.0,9,   -999.0,   1.0425,  27.7971
    49MR0505_1,   P03,    84,  1,      4, X12010,2,20051113,0458, 24.3025,-145.4755, 5172,   5252.0,2,   1.4911,2,   1.49113,2,  34.6955,2,  34.6958,2,   159.58,1,   167.32,2,   5252.1,2,   167.37,2,   167.36,2,   141.42,2,     0.43,    35.15,2,     0.13,     0.01,2,     0.01,    2.445,2,    0.016,    0.001,2,    0.002,2,    0.000,2,   2308.3,2,   2410.3,2,   7.6128,2, -999.000,9, -999.000,   -999.0,9,   -999.0,   1.0261,  27.7989
    49MR0505_1,   P03,    84,  1,      3, X12015,9,20051113,0458, 24.3025,-145.4755, 5172,   5252.2,2,   1.4911,2,   1.49117,2,  34.6954,2,-999.0000,9,   159.61,1,   167.29,2,   5252.2,2,   167.37,2,  -999.00,9,  -999.00,9,  -999.00,  -999.00,9,  -999.00,  -999.00,9,  -999.00, -999.000,9, -999.000, -999.000,9, -999.000,9, -999.000,9,   -999.0,9,   -999.0,9,-999.0000,9, -999.000,9, -999.000,   -999.0,9,   -999.0,   1.0261,  27.7988
    49MR0505_1,   P03,    84,  1,      2, X12014,2,20051113,0458, 24.3025,-145.4755, 5172,    901.0,2,   4.2195,2,   4.21888,2,  34.4451,2,  34.4441,2,    30.93,1,    32.82,2,    902.0,2,    31.43,2,    32.84,2,   107.72,2,     0.36,    42.86,2,     0.15,     0.01,2,     0.01,    3.133,2,    0.018,    0.006,2,    0.003,2,    0.000,2,   2340.7,2,   2358.4,2,   7.3956,6, -999.000,9, -999.000,   -999.0,9,   -999.0,   4.1506,  27.3290
    49MR0505_1,   P03,    84,  1,      1, X12013,2,20051113,0458, 24.3025,-145.4755, 5172,   5278.0,2,   1.4944,2,   1.49443,2,  34.6954,2,  34.6955,6,   160.20,1,   167.80,2,   5278.0,2,   167.49,2,   167.34,2,   141.26,2,     0.43,    35.19,2,     0.13,     0.01,2,     0.01,    2.451,2,    0.016,    0.006,2,    0.003,2,    0.000,2,   2308.5,2,   2409.9,2,   7.6102,2, -999.000,9, -999.000,   -999.0,9,   -999.0,   1.0260,  27.7988