BOTTLE,20100316JAMSTECRIGC
EXPOCODE,SECT,STNNBR,CASTNO,SAMPNO,BTLNBR,BTLNBR_FLAG_W,DATE,TIME,LATITUDE,LONGITUDE,DEPTH,CTDPRS,CTDPRS_FLAG_W,CTDTMP,CTDTMP_FLAG_W,SBE35,SBE35_FLAG_W,CTDSAL,CTDSAL_FLAG_W,SALNTY,SALNTY_FLAG_W,CTDOXY,CTDOXY_FLAG_W,OPTOXY,OPTOXY_FLAG_W,DWNPRS,DWNPRS_FLAG_W,DWNOXY,DWNOXY_FLAG_W,OXYGEN,OXYGEN_FLAG_W,SILCAT,SILCAT_FLAG_W,SILUNC,NITRAT,NITRAT_FLAG_W,NRAUNC,NITRIT,NITRIT_FLAG_W,NRIUNC,PHSPHT,PHSPHT_FLAG_W,PHPUNC,CFC-11,CFC-11_FLAG_W,CFC-12,CFC-12_FLAG_W,CFC113,CFC113_FLAG_W,TCARBN,TCARBN_FLAG_W,ALKALI,ALKALI_FLAG_W,PH,PH_FLAG_W,DELC13,DELC13_FLAG_W,C13ERR,DELC14,DELC14_FLAG_W,C14ERR,THETA,SIG0
,,,,,,,,UTC,DEG,DEG,M,DBAR,,ITS-90,,ITS-90,,PSS-78,,PSS-78,,UMOL/KG,,UMOL/KG,,DBAR,,UMOL/KG,,UMOL/KG,,UMOL/KG,,UMOL/KG,UMOL/KG,,UMOL/KG,UMOL/KG,,UMOL/KG,UMOL/KG,,UMOL/KG,PMOL/KG,,PMOL/KG,,PMOL/KG,,UMOL/KG,,UMOL/KG,,,,/MILLE,,/MILLE,/MILLE,,/MILLE,DEG C,KG/CUM
    49MR0505_1,   P03,   142,  1,      0,   -999,9,20051121,1435, 25.1642,-166.0558, 5019,   -999.0,9,-999.0000,9,-999.00000,9,-999.0000,9,  35.2631,2,  -999.00,9,  -999.00,9,   -999.0,9,  -999.00,9,  -999.00,9,  -999.00,9,  -999.00,  -999.00,9,  -999.00,  -999.00,9,  -999.00, -999.000,9, -999.000, -999.000,9, -999.000,9, -999.000,9,   -999.0,9,   -999.0,9,-999.0000,9, -999.000,9, -999.000,   -999.0,9,   -999.0,-999.0000,-999.0000
    49MR0505_1,   P03,   142,  1,     36, X12048,2,20051121,1435, 25.1642,-166.0558, 5019,      9.3,2,  25.7947,2,  25.79417,2,  35.2502,2,  35.2496,2,   188.08,1,   204.97,2,     10.1,2,   206.13,2,   205.68,2,     0.88,2,     0.12,     0.04,2,     0.03,     0.00,2,     0.01,    0.013,2,    0.108,    1.626,2,    0.984,2, -999.000,5,   1984.0,2,   2321.3,2,   8.1007,6, -999.000,9, -999.000,   -999.0,9,   -999.0,  25.7926,  23.2867
    49MR0505_1,   P03,   142,  1,     35, X12047,2,20051121,1435, 25.1642,-166.0558, 5019,     50.0,2,  25.8024,2,  25.80289,2,  35.2492,2,  35.2492,2,   188.36,1,   204.86,2,     50.5,2,   205.60,2,   205.58,2,     0.82,2,     0.12,     0.04,2,     0.03,     0.00,2,     0.01,    0.006,2,    0.130,    1.623,2,    0.979,2, -999.000,5,   1985.7,2,   2322.8,2,   8.1016,2, -999.000,9, -999.000,   -999.0,9,   -999.0,  25.7913,  23.2863
    49MR0505_1,   P03,   142,  1,     34, X12046,2,20051121,1435, 25.1642,-166.0558, 5019,     99.8,2,  23.5580,2,  23.55744,2,  35.1866,2,  35.1882,2,   192.28,1,   208.98,2,    110.3,2,   208.64,2,   209.35,2,     1.10,2,     0.12,     0.08,2,     0.03,     0.12,2,     0.01,    0.038,2,    0.042,    1.885,2,    1.122,2, -999.000,5,   2005.0,2,   2313.8,6,   8.0613,2, -999.000,9, -999.000,   -999.0,9,   -999.0,  23.5373,  23.9190
    49MR0505_1,   P03,   142,  1,     33, X12003,2,20051121,1435, 25.1642,-166.0558, 5019,    149.5,2,  20.6412,2,  20.64011,2,  35.1300,2,  35.1281,2,   182.88,1,   198.16,2,    148.7,2,   197.80,2,   199.13,2,     1.81,2,     0.12,     1.39,2,     0.04,     0.03,2,     0.01,    0.141,2,    0.018,    2.085,2,    1.215,2, -999.000,5,   2032.7,2,   2309.6,2,   8.0057,6, -999.000,9, -999.000,   -999.0,9,   -999.0,  20.6129,  24.6976
    49MR0505_1,   P03,   142,  1,     32, X12044,2,20051121,1435, 25.1642,-166.0558, 5019,    198.9,2,  18.2992,2,  18.30574,2,  34.9201,2,  34.9170,2,   187.42,1,   203.08,2,    201.0,2,   205.66,2,   204.28,2,     2.99,2,     0.13,     2.78,2,     0.04,     0.01,2,     0.01,    0.241,2,    0.015,    2.296,2,    1.324,2, -999.000,5,   2040.0,2,   2296.2,2,   7.9711,2, -999.000,9, -999.000,   -999.0,9,   -999.0,  18.2647,  25.1453
    49MR0505_1,   P03,   142,  1,     31, X12051,2,20051121,1435, 25.1642,-166.0558, 5019,    249.7,2,  16.4819,2,  16.48013,2,  34.7227,2,  34.7170,2,   191.76,1,   208.19,2,    247.5,2,   211.25,2,   208.59,2,     4.60,2,     0.13,     4.58,2,     0.05,     0.01,2,     0.01,    0.361,2,    0.014,    2.466,6,    1.405,6, -999.000,5,   2045.0,2,   2283.3,2,   7.9411,2, -999.000,9, -999.000,   -999.0,9,   -999.0,  16.4416,  25.4325
    49MR0505_1,   P03,   142,  1,     30, X12042,2,20051121,1435, 25.1642,-166.0558, 5019,    300.1,2,  14.6999,2,  14.70031,2,  34.5392,2,  34.5373,2,   193.15,1,   208.76,2,    301.5,2,   211.98,2,   210.07,2,     7.10,2,     0.13,     7.17,2,     0.05,     0.01,2,     0.01,    0.531,2,    0.013,    2.626,2,    1.472,2,    0.099,2,   2057.1,2,   2275.5,2,   7.9034,2, -999.000,9, -999.000,   -999.0,9,   -999.0,  14.6551,  25.6916
    49MR0505_1,   P03,   142,  1,     29, X12041,2,20051121,1435, 25.1642,-166.0558, 5019,    400.1,2,  11.8456,2,  11.84440,2,  34.2823,2,  34.2828,2,   187.18,1,   202.45,2,    391.7,2,   202.25,2,   203.21,2,    14.12,2,     0.15,    12.73,2,     0.07,     0.00,2,     0.01,    0.917,2,    0.013,    2.808,2,    1.528,2,    0.104,2,   2089.4,2,   2263.2,2,   7.8181,2, -999.000,9, -999.000,   -999.0,9,   -999.0,  11.7938,  26.0706
    49MR0505_1,   P03,   142,  1,     28, X12016,2,20051121,1435, 25.1642,-166.0558, 5019,    501.2,2,   9.9585,2,   9.96018,2,  34.1644,2,  34.1651,6,   172.68,1,   186.97,2,    483.2,2,   181.22,2,   187.99,2,    22.55,2,     0.17,    17.81,2,     0.08,     0.00,2,     0.01,    1.274,2,    0.014,    2.762,2,    1.447,2,    0.105,2,   2125.7,2,   2266.9,2,   7.7434,2, -999.000,9, -999.000,   -999.0,9,   -999.0,   9.9002,  26.3163
    49MR0505_1,   P03,   142,  1,     27, X12039,2,20051121,1435, 25.1642,-166.0558, 5019,    599.8,2,   7.5771,2,   7.58171,2,  34.0716,2,  34.0716,2,   126.81,1,   137.56,2,    580.5,2,   118.56,2,   137.06,2,    43.71,2,     0.22,    27.27,2,     0.11,     0.00,2,     0.01,    1.962,2,    0.015, -999.000,5, -999.000,5, -999.000,5,   2194.3,2,   2277.9,2,   7.5960,2, -999.000,9, -999.000,   -999.0,9,   -999.0,   7.5176,  26.6149
    49MR0505_1,   P03,   142,  1,     26, X12038,2,20051121,1435, 25.1642,-166.0558, 5019,    699.3,2,   5.9236,2,   5.92423,2,  34.1040,2,  34.1046,2,    70.92,1,    77.38,2,    686.6,2,    71.60,2,    77.07,2,    68.56,2,     0.27,    35.63,2,     0.13,     0.00,2,     0.01,    2.598,2,    0.016,    0.903,2,    0.443,2,    0.035,2,   2261.4,6,   2300.0,2,   7.4545,2, -999.000,9, -999.000,   -999.0,9,   -999.0,   5.8624,  26.8618
    49MR0505_1,   P03,   142,  1,     25, X12037,2,20051121,1435, 25.1642,-166.0558, 5019,    799.1,2,   4.7868,2,   4.78695,2,  34.2300,2,  34.2306,2,    40.32,1,    44.42,2,    793.8,2,    43.07,2,    44.02,2,    93.15,2,     0.32,    40.47,2,     0.15,     0.00,2,     0.01,    2.949,2,    0.017,    0.286,6,    0.149,6,    0.017,6,   2316.3,2,   2330.7,6,   7.3926,2, -999.000,9, -999.000,   -999.0,9,   -999.0,   4.7231,  27.0961
    49MR0505_1,   P03,   142,  1,     24, X12008,2,20051121,1435, 25.1642,-166.0558, 5019,    900.5,2,   4.2705,2,   4.27190,2,  34.3280,2,  34.3255,2,    33.69,1,    37.03,2,    893.3,2,    36.26,2,    36.30,2,   105.75,2,     0.35,    41.98,2,     0.15,     0.00,2,     0.01,    3.047,2,    0.018,    0.108,2,    0.056,2,    0.011,2,   2338.3,2,   2350.3,2,   7.3832,6, -999.000,9, -999.000,   -999.0,9,   -999.0,   4.2014,  27.2305
    49MR0505_1,   P03,   142,  1,     23, X12035,2,20051121,1435, 25.1642,-166.0558, 5019,   1001.8,2,   4.0059,2,   4.00637,2,  34.3899,2,  34.3886,6,    34.43,1,    37.88,2,    991.9,2,    40.64,2,    37.25,2,   112.26,2,     0.37,    42.26,2,     0.15,     0.00,2,     0.01,    3.074,2,    0.018,    0.051,2,    0.022,2,    0.013,2,   2344.0,2,   2360.8,2,   7.3890,2, -999.000,9, -999.000,   -999.0,9,   -999.0,   3.9302,  27.3080
    49MR0505_1,   P03,   142,  1,     22, X12034,2,20051121,1435, 25.1642,-166.0558, 5019,   1200.0,2,   3.5103,2,   3.51038,2,  34.4781,2,  34.4781,2,    43.63,1,    48.01,2,   1194.1,2,    53.43,2,    47.59,2,   123.12,2,     0.39,    42.16,2,     0.15,     0.00,2,     0.01,    3.044,2,    0.018,    0.013,2,    0.003,2,    0.000,2,   2350.6,2,   2380.7,2,   7.4153,2, -999.000,9, -999.000,   -999.0,9,   -999.0,   3.4223,  27.4288
    49MR0505_1,   P03,   142,  1,     21, X12033,2,20051121,1435, 25.1642,-166.0558, 5019,   1400.1,2,   2.9835,2,   2.98290,2,  34.5335,2,  34.5336,2,    56.07,1,    61.75,2,   1398.1,2,    61.95,2,    61.48,2,   134.42,2,     0.41,    41.58,2,     0.15,     0.00,2,     0.01,    2.986,2,    0.017,    0.005,2,    0.003,2,    0.000,2,   2359.6,2,   2390.9,2,   7.4401,2, -999.000,9, -999.000,   -999.0,9,   -999.0,   2.8842,  27.5232
    49MR0505_1,   P03,   142,  1,     20, X12032,2,20051121,1435, 25.1642,-166.0558, 5019,   1602.9,2,   2.5403,2,   2.54056,2,  34.5650,2,  34.5650,2,    64.56,1,    71.15,2,   1602.8,2,    71.66,2,    70.82,2,   144.82,2,     0.44,    41.24,2,     0.15,     0.00,2,     0.01,    2.939,2,    0.017,    0.004,2,    0.002,2,    0.000,2,   2361.1,2,   2401.1,2,   7.4548,6, -999.000,9, -999.000,   -999.0,9,   -999.0,   2.4295,  27.5881
    49MR0505_1,   P03,   142,  1,     19, X12001,2,20051121,1435, 25.1642,-166.0558, 5019,   1802.9,2,   2.2122,2,   2.21218,2,  34.5979,2,  34.5982,2,    74.42,1,    82.23,2,   1803.9,2,    81.89,2,    81.90,2,   152.00,2,     0.45,    40.68,2,     0.15,     0.00,2,     0.01,    2.894,2,    0.017,    0.002,2,    0.000,2,    0.000,2,   2365.2,2,   2407.9,2,   7.4748,2, -999.000,9, -999.000,   -999.0,9,   -999.0,   2.0892,  27.6424
    49MR0505_1,   P03,   142,  1,     18, X12030,2,20051121,1435, 25.1642,-166.0558, 5019,   2000.3,2,   2.0090,2,   2.00908,2,  34.6148,2,  34.6144,2,    80.93,1,    89.61,2,   2001.3,2,    88.71,2,    89.06,2,   156.22,2,     0.46,    40.28,2,     0.15,     0.00,2,     0.01,    2.853,2,    0.017,    0.001,2,    0.004,2,    0.000,2,   2363.1,2,   2416.2,2,   7.4878,2, -999.000,9, -999.000,   -999.0,9,   -999.0,   1.8725,  27.6730
    49MR0505_1,   P03,   142,  1,     17, X12049,2,20051121,1435, 25.1642,-166.0558, 5019,   2200.0,2,   1.8774,2,   1.87726,2,  34.6275,2,  34.6274,6,    87.32,1,    96.65,2,   2200.1,2,    96.60,2,    96.25,2,   158.63,2,     0.47,    39.85,2,     0.14,     0.00,2,     0.01,    2.817,2,    0.017,    0.000,2,    0.000,2,    0.000,2,   2360.5,2,   2415.4,2,   7.5001,2, -999.000,9, -999.000,   -999.0,9,   -999.0,   1.7260,  27.6944
    49MR0505_1,   P03,   142,  1,     16, X12028,2,20051121,1435, 25.1642,-166.0558, 5019,   2399.4,2,   1.7554,2,   1.75522,2,  34.6404,2,  34.6402,2,    95.51,1,   105.64,2,   2400.7,2,   104.31,2,   105.38,2,   159.67,2,     0.47,    39.23,2,     0.14,     0.00,2,     0.01,    2.766,2,    0.017,    0.000,2,    0.000,2,    0.000,2,   2357.5,2,   2420.7,2,   7.5150,2, -999.000,9, -999.000,   -999.0,9,   -999.0,   1.5887,  27.7151
    49MR0505_1,   P03,   142,  1,     15, X12006,2,20051121,1435, 25.1642,-166.0558, 5019,   2600.5,2,   1.6771,2,   1.67689,2,  34.6500,2,  34.6499,2,   102.80,1,   113.81,2,   2600.8,2,   113.28,2,   113.34,2,   159.20,2,     0.47,    38.74,2,     0.14,     0.00,2,     0.01,    2.726,2,    0.017, -999.000,9, -999.000,9, -999.000,9,   2354.0,2,   2421.3,6,   7.5297,2, -999.000,9, -999.000,   -999.0,9,   -999.0,   1.4938,  27.7297
    49MR0505_1,   P03,   142,  1,     14, X12026,2,20051121,1435, 25.1642,-166.0558, 5019,   2800.8,2,   1.5992,2,   1.59903,2,  34.6591,2,  34.6591,2,   109.57,1,   121.21,2,   2801.0,2,   121.20,2,   120.80,2,   159.02,2,     0.47,    38.21,2,     0.14,     0.00,2,     0.01,    2.689,2,    0.017, -999.000,9, -999.000,9, -999.000,9,   2348.9,2,   2421.0,2,   7.5418,2, -999.000,9, -999.000,   -999.0,9,   -999.0,   1.3991,  27.7439
    49MR0505_1,   P03,   142,  1,     13, X12025,2,20051121,1435, 25.1642,-166.0558, 5019,   3001.5,2,   1.5447,2,   1.54471,2,  34.6666,2,  34.6667,2,   115.76,1,   128.04,2,   3001.8,2,   127.62,2,   127.56,2,   158.22,2,     0.47,    37.86,2,     0.14,     0.00,2,     0.01,    2.657,2,    0.017, -999.000,9, -999.000,9, -999.000,9,   2343.7,2,   2421.1,2,   7.5533,2, -999.000,9, -999.000,   -999.0,9,   -999.0,   1.3268,  27.7550
    49MR0505_1,   P03,   142,  1,     12, X12024,2,20051121,1435, 25.1642,-166.0558, 5019,   3250.7,2,   1.4854,2,   1.48554,2,  34.6747,2,  34.6743,6,   123.84,1,   136.58,2,   3251.2,2,   136.03,2,   136.54,2,   156.37,2,     0.46,    37.31,2,     0.14,     0.01,2,     0.01,    2.603,2,    0.016,    0.000,2,    0.000,2,    0.000,2,   2340.0,2,   2420.9,2,   7.5700,2, -999.000,9, -999.000,   -999.0,9,   -999.0,   1.2447,  27.7673
    49MR0505_1,   P03,   142,  1,     11, X12023,2,20051121,1435, 25.1642,-166.0558, 5019,   3500.3,2,   1.4658,2,   1.46586,2,  34.6792,2,  34.6792,2,   128.80,1,   141.75,2,   3500.2,2,   141.99,2,   141.85,2,   154.79,2,     0.46,    36.89,2,     0.14,     0.01,2,     0.01,    2.578,2,    0.016, -999.000,9, -999.000,9, -999.000,9,   2332.7,2,   2423.2,2,   7.5770,2, -999.000,9, -999.000,   -999.0,9,   -999.0,   1.2005,  27.7740
    49MR0505_1,   P03,   142,  1,     10, X12022,2,20051121,1435, 25.1642,-166.0558, 5019,   3749.7,2,   1.4499,2,   1.44986,2,  34.6833,2,  34.6833,2,   133.56,1,   146.58,2,   3749.7,2,   147.15,2,   146.73,2,   153.49,2,     0.46,    36.53,2,     0.14,     0.00,2,     0.01,    2.546,2,    0.016, -999.000,9, -999.000,9, -999.000,9,   2329.0,2,   2416.3,2,   7.5856,2, -999.000,9, -999.000,   -999.0,9,   -999.0,   1.1592,  27.7801
    49MR0505_1,   P03,   142,  1,      9, X12021,2,20051121,1435, 25.1642,-166.0558, 5019,   4000.1,2,   1.4461,2,   1.44607,2,  34.6865,2,  34.6864,6,   137.50,1,   150.56,2,   4000.3,2,   150.66,2,   150.75,2,   152.48,2,     0.45,    36.22,2,     0.13,     0.01,2,     0.01,    2.530,2,    0.016,    0.003,2,    0.001,2,    0.000,2,   2328.7,2,   2417.8,2,   7.5919,2, -999.000,9, -999.000,   -999.0,9,   -999.0,   1.1287,  27.7848
    49MR0505_1,   P03,   142,  1,      8, X12020,2,20051121,1435, 25.1642,-166.0558, 5019,   4250.9,2,   1.4574,2,   1.45736,2,  34.6882,2,  34.6882,2,   140.12,1,   152.93,2,   4250.9,2,   153.28,2,   153.06,2,   151.28,2,     0.45,    36.10,2,     0.13,     0.01,2,     0.01,    2.512,2,    0.016, -999.000,9, -999.000,9, -999.000,9,   2327.5,6,   2416.1,2,   7.5958,2, -999.000,9, -999.000,   -999.0,9,   -999.0,   1.1120,  27.7872
    49MR0505_1,   P03,   142,  1,      7, X12019,2,20051121,1435, 25.1642,-166.0558, 5019,   4499.4,2,   1.4788,2,   1.47879,2,  34.6890,2,  34.6891,2,   141.74,1,   154.08,2,   4499.4,2,   154.36,2,   154.13,2,   150.68,2,     0.45,    36.06,2,     0.13,     0.01,2,     0.01,    2.511,2,    0.016, -999.000,9, -999.000,9, -999.000,9,   2324.5,2,   2417.9,6,   7.5983,2, -999.000,9, -999.000,   -999.0,9,   -999.0,   1.1045,  27.7884
    49MR0505_1,   P03,   142,  1,      6, X12018,2,20051121,1435, 25.1642,-166.0558, 5019,   4749.5,2,   1.5061,2,   1.50603,2,  34.6892,2,  34.6893,2,   142.85,1,   154.60,2,   4749.6,2,   154.70,2,   154.73,2,   150.25,2,     0.45,    36.00,2,     0.13,     0.01,2,     0.01,    2.507,2,    0.016,    0.000,2,    0.000,2,    0.000,2,   2324.8,2,   2417.0,2,   7.5996,6, -999.000,9, -999.000,   -999.0,9,   -999.0,   1.1017,  27.7888
    49MR0505_1,   P03,   142,  1,      5, X12043,2,20051121,1435, 25.1642,-166.0558, 5019,   5000.7,2,   1.5326,2,   1.53257,2,  34.6896,2,  34.6899,2,   144.41,1,   155.36,2,   5000.7,2,   155.35,2,   155.39,2,   150.04,2,     0.45,    35.96,2,     0.13,     0.01,2,     0.01,    2.504,2,    0.016, -999.000,9, -999.000,9, -999.000,9,   2328.2,2,   2413.6,2,   7.5999,2, -999.000,9, -999.000,   -999.0,9,   -999.0,   1.0972,  27.7894
    49MR0505_1,   P03,   142,  1,      4, X12010,9,20051121,1435, 25.1642,-166.0558, 5019,     99.8,2,  23.5448,2,  23.53748,2,  35.1875,2,-999.0000,9,   192.23,1,   208.95,2,    110.4,2,   208.68,2,  -999.00,9,  -999.00,9,  -999.00,  -999.00,9,  -999.00,  -999.00,9,  -999.00, -999.000,9, -999.000, -999.000,9, -999.000,9, -999.000,9,   -999.0,9,   -999.0,9,-999.0000,9, -999.000,9, -999.000,   -999.0,9,   -999.0,  23.5241,  23.9235
    49MR0505_1,   P03,   142,  1,      3, X12015,9,20051121,1435, 25.1642,-166.0558, 5019,     50.4,2,  25.8027,2,  25.80206,2,  35.2494,2,-999.0000,9,   188.18,1,   204.70,2,     50.9,2,   205.57,2,  -999.00,9,  -999.00,9,  -999.00,  -999.00,9,  -999.00,  -999.00,9,  -999.00, -999.000,9, -999.000, -999.000,9, -999.000,9, -999.000,9,   -999.0,9,   -999.0,9,-999.0000,9, -999.000,9, -999.000,   -999.0,9,   -999.0,  25.7915,  23.2864
    49MR0505_1,   P03,   142,  1,      2, X12014,9,20051121,1435, 25.1642,-166.0558, 5019,      9.5,2,  25.7961,2,  25.79590,2,  35.2504,2,-999.0000,9,   188.40,1,   205.22,2,     10.2,2,   206.12,2,  -999.00,9,  -999.00,9,  -999.00,  -999.00,9,  -999.00,  -999.00,9,  -999.00, -999.000,9, -999.000, -999.000,9, -999.000,9, -999.000,9,   -999.0,9,   -999.0,9,-999.0000,9, -999.000,9, -999.000,   -999.0,9,   -999.0,  25.7940,  23.2864
    49MR0505_1,   P03,   142,  1,      1, X12013,2,20051121,1435, 25.1642,-166.0558, 5019,   5088.9,2,   1.5403,2,   1.54024,2,  34.6899,2,  34.6901,6,   145.52,1,   156.34,2,   5088.9,2,   155.73,2,   155.98,2,   149.57,2,     0.45,    35.90,2,     0.13,     0.01,2,     0.01,    2.496,2,    0.016,    0.000,2,    0.000,2,    0.000,2,   2327.7,2,   2420.2,2,   7.6008,2, -999.000,9, -999.000,   -999.0,9,   -999.0,   1.0938,  27.7899