BOTTLE,20100316JAMSTECRIGC
EXPOCODE,SECT,STNNBR,CASTNO,SAMPNO,BTLNBR,BTLNBR_FLAG_W,DATE,TIME,LATITUDE,LONGITUDE,DEPTH,CTDPRS,CTDPRS_FLAG_W,CTDTMP,CTDTMP_FLAG_W,SBE35,SBE35_FLAG_W,CTDSAL,CTDSAL_FLAG_W,SALNTY,SALNTY_FLAG_W,CTDOXY,CTDOXY_FLAG_W,OPTOXY,OPTOXY_FLAG_W,DWNPRS,DWNPRS_FLAG_W,DWNOXY,DWNOXY_FLAG_W,OXYGEN,OXYGEN_FLAG_W,SILCAT,SILCAT_FLAG_W,SILUNC,NITRAT,NITRAT_FLAG_W,NRAUNC,NITRIT,NITRIT_FLAG_W,NRIUNC,PHSPHT,PHSPHT_FLAG_W,PHPUNC,CFC-11,CFC-11_FLAG_W,CFC-12,CFC-12_FLAG_W,CFC113,CFC113_FLAG_W,TCARBN,TCARBN_FLAG_W,ALKALI,ALKALI_FLAG_W,PH,PH_FLAG_W,DELC13,DELC13_FLAG_W,C13ERR,DELC14,DELC14_FLAG_W,C14ERR,THETA,SIG0
,,,,,,,,UTC,DEG,DEG,M,DBAR,,ITS-90,,ITS-90,,PSS-78,,PSS-78,,UMOL/KG,,UMOL/KG,,DBAR,,UMOL/KG,,UMOL/KG,,UMOL/KG,,UMOL/KG,UMOL/KG,,UMOL/KG,UMOL/KG,,UMOL/KG,UMOL/KG,,UMOL/KG,PMOL/KG,,PMOL/KG,,PMOL/KG,,UMOL/KG,,UMOL/KG,,,,/MILLE,,/MILLE,/MILLE,,/MILLE,DEG C,KG/CUM
    49MR0505_1,   P03,   110,  1,      0,   -999,9,20051116,1740, 24.2502,-154.6325, 4681,   -999.0,9,-999.0000,9,-999.00000,9,-999.0000,9,  35.1722,2,  -999.00,9,  -999.00,9,   -999.0,9,  -999.00,9,  -999.00,9,  -999.00,9,  -999.00,  -999.00,9,  -999.00,  -999.00,9,  -999.00, -999.000,9, -999.000, -999.000,9, -999.000,9, -999.000,9,   -999.0,9,   -999.0,9,-999.0000,9, -999.000,9, -999.000,   -999.0,9,   -999.0,-999.0000,-999.0000
    49MR0505_1,   P03,   110,  1,     36, X12048,2,20051116,1740, 24.2502,-154.6325, 4681,      9.0,2,  24.5860,2,  24.58638,2,  35.1686,2,  35.1684,2,   194.50,1,   209.88,2,      9.8,2,   210.30,2,   210.34,2,     0.91,2,     0.12,     0.05,2,     0.03,     0.00,2,     0.01,    0.086,2,    0.024,    1.693,2,    1.037,2, -999.000,5,   1993.1,2,   2321.7,2,   8.0852,2, -999.000,9, -999.000,   -999.0,9,   -999.0,  24.5841,  23.5946
    49MR0505_1,   P03,   110,  1,     35, X12047,2,20051116,1740, 24.2502,-154.6325, 4681,     49.2,2,  24.5796,2,  24.57938,2,  35.2442,2,  35.2452,2,   194.76,1,   210.69,2,     47.5,2,   210.40,2,   210.76,2,     0.86,2,     0.12,     0.04,2,     0.03,     0.00,2,     0.01,    0.076,2,    0.026,    1.698,2,    1.032,2, -999.000,5,   1996.2,6,   2322.1,2,   8.0871,2, -999.000,9, -999.000,   -999.0,9,   -999.0,  24.5691,  23.6563
    49MR0505_1,   P03,   110,  1,     34, X12046,2,20051116,1740, 24.2502,-154.6325, 4681,     98.9,2,  23.3857,2,  23.35871,2,  35.2574,2,  35.2585,2,   204.38,1,   220.89,2,    101.5,2,   219.44,2,   220.62,2,     1.08,2,     0.12,     0.04,2,     0.03,     0.00,2,     0.01,    0.071,2,    0.027,    1.880,2,    1.134,2, -999.000,5,   2005.5,2,   2322.0,6,   8.0713,2, -999.000,9, -999.000,   -999.0,9,   -999.0,  23.3653,  24.0229
    49MR0505_1,   P03,   110,  1,     33, X12003,2,20051116,1740, 24.2502,-154.6325, 4681,    148.5,2,  21.5273,2,  21.52272,2,  35.2522,2,  35.2509,2,   188.01,1,   202.84,2,    151.8,2,   202.41,2,   203.38,2,     1.26,2,     0.12,     0.61,2,     0.03,     0.03,2,     0.01,    0.124,2,    0.020,    1.968,2,    1.180,2, -999.000,5,   2027.6,2,   2323.6,2,   8.0300,6, -999.000,9, -999.000,   -999.0,9,   -999.0,  21.4983,  24.5492
    49MR0505_1,   P03,   110,  1,     32, X12044,2,20051116,1740, 24.2502,-154.6325, 4681,    199.7,2,  18.8754,2,  18.87895,2,  34.9364,2,  34.9305,2,   184.86,1,   199.10,2,    202.9,2,   200.48,2,   200.30,2,     2.53,2,     0.12,     2.25,2,     0.04,     0.01,2,     0.01,    0.248,2,    0.015,    2.251,2,    1.319,2, -999.000,5,   2044.7,2,   2299.0,2,   7.9699,2, -999.000,9, -999.000,   -999.0,9,   -999.0,  18.8400,  25.0133
    49MR0505_1,   P03,   110,  1,     31, X12051,2,20051116,1740, 24.2502,-154.6325, 4681,    249.1,2,  16.4454,2,  16.44633,2,  34.6390,2,  34.6311,2,   189.83,1,   204.28,2,    255.0,2,   205.40,2,   205.39,2,     4.16,2,     0.13,     4.05,2,     0.04,     0.01,2,     0.01,    0.379,2,    0.013,    2.499,6,    1.432,6, -999.000,5,   2047.1,2,   2281.2,2,   7.9296,2, -999.000,9, -999.000,   -999.0,9,   -999.0,  16.4053,  25.3767
    49MR0505_1,   P03,   110,  1,     30, X12042,2,20051116,1740, 24.2502,-154.6325, 4681,    300.7,2,  13.8992,2,  13.90186,2,  34.3889,2,  34.3886,2,   195.76,1,   210.58,2,    300.5,2,   213.11,2,   211.42,2,     7.14,2,     0.13,     7.54,2,     0.05,     0.00,2,     0.01,    0.598,2,    0.013,    2.733,2,    1.548,2,    0.100,2,   2059.9,2,   2264.2,2,   7.8820,2, -999.000,9, -999.000,   -999.0,9,   -999.0,  13.8560,  25.7448
    49MR0505_1,   P03,   110,  1,     29, X12041,2,20051116,1740, 24.2502,-154.6325, 4681,    398.7,2,  10.3961,2,  10.39596,2,  34.1303,2,  34.1303,2,   182.41,1,   196.98,2,    399.0,2,   209.90,2,   196.49,2,    17.43,2,     0.16,    15.74,2,     0.08,     0.00,2,     0.01,    1.178,2,    0.013,    2.961,2,    1.583,2,    0.113,2,   2109.5,2,   2262.0,2,   7.7631,2, -999.000,9, -999.000,   -999.0,9,   -999.0,  10.3487,  26.2131
    49MR0505_1,   P03,   110,  1,     28, X12016,2,20051116,1740, 24.2502,-154.6325, 4681,    499.6,2,   7.9448,2,   7.94620,2,  34.0596,2,  34.0598,6,   139.61,1,   149.40,2,    500.5,2,   145.59,2,   148.00,2,    37.61,2,     0.20,    25.63,2,     0.10,     0.00,2,     0.01,    1.857,2,    0.015,    2.365,2,    1.161,2,    0.101,2,   2178.5,2,   2275.3,2,   7.6196,2, -999.000,9, -999.000,   -999.0,9,   -999.0,   7.8942,  26.5509
    49MR0505_1,   P03,   110,  1,     27, X12039,2,20051116,1740, 24.2502,-154.6325, 4681,    600.4,2,   6.2007,2,   6.19751,2,  34.0408,2,  34.0406,2,    81.90,1,    88.45,2,    599.9,2,    87.18,2,    88.05,2,    59.48,2,     0.25,    34.19,2,     0.13,     0.00,2,     0.01,    2.497,2,    0.016,    1.195,2,    0.578,2,    0.044,2,   2247.0,2,   2286.7,2,   7.4683,2, -999.000,9, -999.000,   -999.0,9,   -999.0,   6.1473,  26.7760
    49MR0505_1,   P03,   110,  1,     26, X12038,2,20051116,1740, 24.2502,-154.6325, 4681,    700.5,2,   5.0766,2,   5.07721,2,  34.1436,2,  34.1420,2,    33.44,1,    36.55,2,    703.0,2,    36.89,2,    36.27,2,    84.66,2,     0.31,    40.65,2,     0.15,     0.00,2,     0.01,    2.981,2,    0.017,    0.264,2,    0.134,2,    0.018,2,   2308.2,6,   2315.9,2,   7.3652,2, -999.000,9, -999.000,   -999.0,9,   -999.0,   5.0198,  26.9940
    49MR0505_1,   P03,   110,  1,     25, X12037,2,20051116,1740, 24.2502,-154.6325, 4681,    801.4,2,   4.4548,2,   4.45504,2,  34.2651,2,  34.2645,2,    18.45,1,    20.51,2,    804.8,2,    18.78,2,    19.77,2,   101.93,2,     0.34,    42.93,2,     0.15,     0.00,2,     0.01,    3.150,2,    0.018,    0.053,6,    0.026,6,    0.012,6,   2338.7,2,   2340.6,6,   7.3449,2, -999.000,9, -999.000,   -999.0,9,   -999.0,   4.3929,  27.1601
    49MR0505_1,   P03,   110,  1,     24, X12008,2,20051116,1740, 24.2502,-154.6325, 4681,    900.4,2,   4.2644,2,   4.26466,2,  34.3692,2,  34.3682,2,    21.50,1,    23.66,2,    900.8,2,    23.48,2,    22.85,2,   107.84,2,     0.36,    43.10,2,     0.15,     0.00,2,     0.01,    3.165,2,    0.018,    0.019,2,    0.006,2,    0.000,2,   2345.6,2,   2352.2,2,   7.3624,6, -999.000,9, -999.000,   -999.0,9,   -999.0,   4.1953,  27.2639
    49MR0505_1,   P03,   110,  1,     23, X12035,2,20051116,1740, 24.2502,-154.6325, 4681,   1001.9,2,   4.0099,2,   4.01054,2,  34.4454,2,  34.4442,6,    32.46,1,    35.01,2,   1002.2,2,    34.81,2,    34.42,2,   112.56,2,     0.37,    42.74,2,     0.15,     0.00,2,     0.01,    3.118,2,    0.018,    0.018,2,    0.007,2,    0.000,2,   2349.2,2,   2364.5,2,   7.3925,2, -999.000,9, -999.000,   -999.0,9,   -999.0,   3.9341,  27.3518
    49MR0505_1,   P03,   110,  1,     22, X12034,2,20051116,1740, 24.2502,-154.6325, 4681,   1201.9,2,   3.6225,2,   3.62240,2,  34.5166,2,  34.5166,2,    46.29,1,    50.15,2,   1200.8,2,    49.79,2,    49.84,2,   119.64,2,     0.38,    42.22,2,     0.15,     0.00,2,     0.01,    3.065,2,    0.018,    0.010,2,    0.002,2,    0.000,2,   2349.4,2,   2378.4,2,   7.4281,2, -999.000,9, -999.000,   -999.0,9,   -999.0,   3.5332,  27.4487
    49MR0505_1,   P03,   110,  1,     21, X12033,2,20051116,1740, 24.2502,-154.6325, 4681,   1401.1,2,   3.1709,2,   3.17008,2,  34.5483,2,  34.5476,2,    53.72,1,    58.34,2,   1400.1,2,    58.71,2,    58.01,2,   129.43,2,     0.40,    41.99,2,     0.15,     0.00,2,     0.01,    3.034,2,    0.018,    0.004,2,    0.000,2,    0.000,2,   2354.8,2,   2397.8,2,   7.4399,2, -999.000,9, -999.000,   -999.0,9,   -999.0,   3.0695,  27.5181
    49MR0505_1,   P03,   110,  1,     20, X12032,2,20051116,1740, 24.2502,-154.6325, 4681,   1601.2,2,   2.7444,2,   2.74433,2,  34.5737,2,  34.5741,2,    62.95,1,    68.37,2,   1599.9,2,    68.20,2,    68.15,2,   139.85,2,     0.43,    41.46,2,     0.15,     0.00,2,     0.01,    2.977,2,    0.017,    0.011,2,    0.005,2,    0.000,2,   2362.0,2,   2403.3,2,   7.4556,6, -999.000,9, -999.000,   -999.0,9,   -999.0,   2.6312,  27.5777
    49MR0505_1,   P03,   110,  1,     19, X12001,2,20051116,1740, 24.2502,-154.6325, 4681,   1800.8,2,   2.4185,2,   2.41846,2,  34.5935,2,  34.5935,2,    69.96,1,    76.27,2,   1800.0,2,    76.06,2,    75.95,2,   148.10,2,     0.44,    41.08,2,     0.15,     0.00,2,     0.01,    2.934,2,    0.017,    0.005,2,    0.000,2,    0.000,2,   2364.0,2,   2407.3,2,   7.4679,2, -999.000,9, -999.000,   -999.0,9,   -999.0,   2.2928,  27.6223
    49MR0505_1,   P03,   110,  1,     18, X12030,2,20051116,1740, 24.2502,-154.6325, 4681,   2001.1,2,   2.1449,2,   2.14495,2,  34.6116,2,  34.6118,2,    76.80,1,    83.82,2,   2000.8,2,    83.34,2,    83.51,2,   155.74,2,     0.46,    40.63,2,     0.15,     0.00,2,     0.01,    2.895,2,    0.017,    0.000,2,    0.000,2,    0.000,2,   2364.6,2,   2415.6,2,   7.4808,2, -999.000,9, -999.000,   -999.0,9,   -999.0,   2.0062,  27.6600
    49MR0505_1,   P03,   110,  1,     17, X12049,2,20051116,1740, 24.2502,-154.6325, 4681,   2199.6,2,   1.9616,2,   1.96135,2,  34.6258,2,  34.6261,6,    82.79,1,    90.55,2,   2199.0,2,    90.28,2,    90.21,2,   160.42,2,     0.47,    40.36,2,     0.15,     0.00,2,     0.01,    2.863,2,    0.017, -999.000,9, -999.000,9, -999.000,9,   2364.9,2,   2417.5,2,   7.4925,2, -999.000,9, -999.000,   -999.0,9,   -999.0,   1.8088,  27.6868
    49MR0505_1,   P03,   110,  1,     16, X12028,2,20051116,1740, 24.2502,-154.6325, 4681,   2398.0,2,   1.7984,2,   1.79867,2,  34.6412,2,  34.6413,2,    91.79,1,   100.36,2,   2398.3,2,    99.34,2,   100.01,2,   163.10,2,     0.48,    39.61,2,     0.14,     0.00,2,     0.01,    2.806,2,    0.017,    0.000,2,    0.000,2,    0.000,2,   2363.5,6,   2422.7,2,   7.5087,2, -999.000,9, -999.000,   -999.0,9,   -999.0,   1.6310,  27.7126
    49MR0505_1,   P03,   110,  1,     15, X12006,2,20051116,1740, 24.2502,-154.6325, 4681,   2600.6,2,   1.6962,2,   1.69607,2,  34.6529,2,  34.6531,2,   100.25,1,   109.52,2,   2600.5,2,   109.06,2,   109.17,2,   163.42,2,     0.48,    39.04,2,     0.14,     0.00,2,     0.01,    2.758,2,    0.017, -999.000,9, -999.000,9, -999.000,9,   2358.8,2,   2422.6,6,   7.5253,2, -999.000,9, -999.000,   -999.0,9,   -999.0,   1.5125,  27.7307
    49MR0505_1,   P03,   110,  1,     14, X12026,2,20051116,1740, 24.2502,-154.6325, 4681,   2800.2,2,   1.6136,2,   1.61369,2,  34.6599,2,  34.6601,2,   106.73,1,   116.82,2,   2800.1,2,   116.45,2,   116.48,2,   163.72,2,     0.48,    38.57,2,     0.14,     0.00,2,     0.01,    2.719,2,    0.017, -999.000,9, -999.000,9, -999.000,9,   2357.0,2,   2426.8,2,   7.5372,6, -999.000,9, -999.000,   -999.0,9,   -999.0,   1.4132,  27.7435
    49MR0505_1,   P03,   110,  1,     13, X12025,2,20051116,1740, 24.2502,-154.6325, 4681,   3000.8,2,   1.5696,2,   1.56969,2,  34.6677,2,  34.6678,2,   112.75,1,   123.16,2,   3000.3,2,   124.44,2,   122.97,2,   163.20,2,     0.48,    38.19,2,     0.14,     0.00,2,     0.01,    2.688,2,    0.017, -999.000,9, -999.000,9, -999.000,9,   2351.8,2,   2425.4,2,   7.5500,2, -999.000,9, -999.000,   -999.0,9,   -999.0,   1.3512,  27.7542
    49MR0505_1,   P03,   110,  1,     12, X12024,2,20051116,1740, 24.2502,-154.6325, 4681,   3249.8,2,   1.5185,2,   1.51858,2,  34.6739,2,  34.6740,6,   120.23,1,   131.18,2,   3249.7,2,   130.60,2,   131.01,2,   161.39,2,     0.47,    37.65,2,     0.14,     0.00,2,     0.01,    2.646,2,    0.017,    0.000,2,    0.000,2,    0.000,2,   2345.3,2,   2426.8,2,   7.5652,2, -999.000,9, -999.000,   -999.0,9,   -999.0,   1.2771,  27.7644
    49MR0505_1,   P03,   110,  1,     11, X12023,2,20051116,1740, 24.2502,-154.6325, 4681,   3500.3,2,   1.4835,2,   1.48348,2,  34.6787,2,  34.6789,2,   126.84,1,   138.19,2,   3500.2,2,   138.90,2,   138.05,2,   159.09,2,     0.47,    37.19,2,     0.14,     0.00,2,     0.01,    2.602,2,    0.016, -999.000,9, -999.000,9, -999.000,9,   2339.0,2,   2425.4,2,   7.5744,2, -999.000,9, -999.000,   -999.0,9,   -999.0,   1.2178,  27.7724
    49MR0505_1,   P03,   110,  1,     10, X12022,2,20051116,1740, 24.2502,-154.6325, 4681,   3751.8,2,   1.4671,2,   1.46714,2,  34.6821,2,  34.6820,2,   132.43,1,   143.58,2,   3751.9,2,   143.75,2,   143.77,2,   156.60,2,     0.46,    36.79,2,     0.14,     0.00,2,     0.01,    2.574,2,    0.016, -999.000,9, -999.000,9, -999.000,9,   2337.3,2,   2421.8,2,   7.5826,2, -999.000,9, -999.000,   -999.0,9,   -999.0,   1.1757,  27.7780
    49MR0505_1,   P03,   110,  1,      9, X12021,2,20051116,1740, 24.2502,-154.6325, 4681,   3999.3,2,   1.4600,2,   1.45998,2,  34.6851,2,  34.6855,2,   137.26,1,   148.41,2,   3999.2,2,   148.77,2,   148.61,2,   154.09,2,     0.46,    36.45,2,     0.13,     0.00,2,     0.01,    2.548,2,    0.016, -999.000,9, -999.000,9, -999.000,9,   2331.6,2,   2421.7,2,   7.5898,2, -999.000,9, -999.000,   -999.0,9,   -999.0,   1.1423,  27.7828
    49MR0505_1,   P03,   110,  1,      8, X12020,2,20051116,1740, 24.2502,-154.6325, 4681,   4251.1,2,   1.4609,2,   1.46090,2,  34.6880,2,  34.6881,2,   141.28,1,   152.22,2,   4251.1,2,   152.38,2,   152.29,2,   152.47,2,     0.45,    36.10,2,     0.13,     0.00,2,     0.01,    2.533,2,    0.016,    0.002,2,    0.001,2,    0.000,2,   2329.7,6,   2422.4,2,   7.5956,2, -999.000,9, -999.000,   -999.0,9,   -999.0,   1.1154,  27.7869
    49MR0505_1,   P03,   110,  1,      7, X12019,2,20051116,1740, 24.2502,-154.6325, 4681,   4498.0,2,   1.4770,2,   1.47691,2,  34.6890,2,  34.6895,6,   143.76,1,   154.17,2,   4498.1,2,   154.30,2,   154.32,2,   151.19,2,     0.45,    36.12,2,     0.13,     0.00,2,     0.01,    2.518,2,    0.016, -999.000,9, -999.000,9, -999.000,9,   2326.7,2,   2419.8,6,   7.5988,2, -999.000,9, -999.000,   -999.0,9,   -999.0,   1.1030,  27.7885
    49MR0505_1,   P03,   110,  1,      6, X12018,9,20051116,1740, 24.2502,-154.6325, 4681,    200.0,2,  18.8603,2,  18.86707,2,  34.9348,2,-999.0000,9,   184.83,1,   199.01,2,    203.1,2,   200.41,2,  -999.00,9,  -999.00,9,  -999.00,  -999.00,9,  -999.00,  -999.00,9,  -999.00, -999.000,9, -999.000, -999.000,9, -999.000,9, -999.000,9,   -999.0,9,   -999.0,9,-999.0000,9, -999.000,9, -999.000,   -999.0,9,   -999.0,  18.8248,  25.0159
    49MR0505_1,   P03,   110,  1,      5, X12043,9,20051116,1740, 24.2502,-154.6325, 4681,    149.0,2,  21.5193,2,  21.51538,2,  35.2515,2,-999.0000,9,   187.98,1,   202.75,2,    152.0,2,   202.36,2,  -999.00,9,  -999.00,9,  -999.00,  -999.00,9,  -999.00,  -999.00,9,  -999.00, -999.000,9, -999.000, -999.000,9, -999.000,9, -999.000,9,   -999.0,9,   -999.0,9,-999.0000,9, -999.000,9, -999.000,   -999.0,9,   -999.0,  21.4903,  24.5509
    49MR0505_1,   P03,   110,  1,      4, X12010,9,20051116,1740, 24.2502,-154.6325, 4681,     99.5,2,  23.4160,2,  23.41379,2,  35.2596,2,-999.0000,9,   204.05,1,   220.18,2,    101.5,2,   219.42,2,  -999.00,9,  -999.00,9,  -999.00,  -999.00,9,  -999.00,  -999.00,9,  -999.00, -999.000,9, -999.000, -999.000,9, -999.000,9, -999.000,9,   -999.0,9,   -999.0,9,-999.0000,9, -999.000,9, -999.000,   -999.0,9,   -999.0,  23.3954,  24.0158
    49MR0505_1,   P03,   110,  1,      3, X12015,9,20051116,1740, 24.2502,-154.6325, 4681,     49.8,2,  24.5817,2,  24.58179,2,  35.2451,2,-999.0000,9,   194.64,1,   210.15,2,     48.0,2,   210.33,2,  -999.00,9,  -999.00,9,  -999.00,  -999.00,9,  -999.00,  -999.00,9,  -999.00, -999.000,9, -999.000, -999.000,9, -999.000,9, -999.000,9,   -999.0,9,   -999.0,9,-999.0000,9, -999.000,9, -999.000,   -999.0,9,   -999.0,  24.5710,  23.6564
    49MR0505_1,   P03,   110,  1,      2, X12014,9,20051116,1740, 24.2502,-154.6325, 4681,      9.2,2,  24.5856,2,  24.58564,2,  35.1687,2,-999.0000,9,   194.19,1,   209.91,2,     10.0,2,   210.37,2,  -999.00,9,  -999.00,9,  -999.00,  -999.00,9,  -999.00,  -999.00,9,  -999.00, -999.000,9, -999.000, -999.000,9, -999.000,9, -999.000,9,   -999.0,9,   -999.0,9,-999.0000,9, -999.000,9, -999.000,   -999.0,9,   -999.0,  24.5836,  23.5948
    49MR0505_1,   P03,   110,  1,      1, X12013,2,20051116,1740, 24.2502,-154.6325, 4681,   4741.8,2,   1.4905,2,   1.49039,2,  34.6905,2,  34.6911,6,   147.21,1,   157.19,2,   4741.8,2,   156.64,2,   157.03,2,   149.40,2,     0.45,    35.88,2,     0.13,     0.00,2,     0.01,    2.503,2,    0.016,    0.000,2,    0.002,2,    0.000,2,   2325.8,2,   2419.1,2,   7.6026,2, -999.000,9, -999.000,   -999.0,9,   -999.0,   1.0876,  27.7908