BOTTLE,20100316JAMSTECRIGC
EXPOCODE,SECT,STNNBR,CASTNO,SAMPNO,BTLNBR,BTLNBR_FLAG_W,DATE,TIME,LATITUDE,LONGITUDE,DEPTH,CTDPRS,CTDPRS_FLAG_W,CTDTMP,CTDTMP_FLAG_W,SBE35,SBE35_FLAG_W,CTDSAL,CTDSAL_FLAG_W,SALNTY,SALNTY_FLAG_W,CTDOXY,CTDOXY_FLAG_W,OPTOXY,OPTOXY_FLAG_W,DWNPRS,DWNPRS_FLAG_W,DWNOXY,DWNOXY_FLAG_W,OXYGEN,OXYGEN_FLAG_W,SILCAT,SILCAT_FLAG_W,SILUNC,NITRAT,NITRAT_FLAG_W,NRAUNC,NITRIT,NITRIT_FLAG_W,NRIUNC,PHSPHT,PHSPHT_FLAG_W,PHPUNC,CFC-11,CFC-11_FLAG_W,CFC-12,CFC-12_FLAG_W,CFC113,CFC113_FLAG_W,TCARBN,TCARBN_FLAG_W,ALKALI,ALKALI_FLAG_W,PH,PH_FLAG_W,DELC13,DELC13_FLAG_W,C13ERR,DELC14,DELC14_FLAG_W,C14ERR,THETA,SIG0
,,,,,,,,UTC,DEG,DEG,M,DBAR,,ITS-90,,ITS-90,,PSS-78,,PSS-78,,UMOL/KG,,UMOL/KG,,DBAR,,UMOL/KG,,UMOL/KG,,UMOL/KG,,UMOL/KG,UMOL/KG,,UMOL/KG,UMOL/KG,,UMOL/KG,UMOL/KG,,UMOL/KG,PMOL/KG,,PMOL/KG,,PMOL/KG,,UMOL/KG,,UMOL/KG,,,,/MILLE,,/MILLE,/MILLE,,/MILLE,DEG C,KG/CUM
    49MR0505_1,   P03,   126,  1,      0,   -999,9,20051118,2345, 25.8455,-160.5448, 5077,   -999.0,9,-999.0000,9,-999.00000,9,-999.0000,9,  35.3557,2,  -999.00,9,  -999.00,9,   -999.0,9,  -999.00,9,  -999.00,9,  -999.00,9,  -999.00,  -999.00,9,  -999.00,  -999.00,9,  -999.00, -999.000,9, -999.000, -999.000,9, -999.000,9, -999.000,9,   -999.0,9,   -999.0,9,-999.0000,9, -999.000,9, -999.000,   -999.0,9,   -999.0,-999.0000,-999.0000
    49MR0505_1,   P03,   126,  1,     36, X12048,2,20051118,2345, 25.8455,-160.5448, 5077,     10.3,2,  25.5950,2,  25.59423,2,  35.3369,2,  35.3373,2,   190.93,1,   206.66,2,      6.8,2,   208.10,2,   207.28,2,     0.96,2,     0.12,     0.05,2,     0.03,     0.00,2,     0.01,    0.028,2,    0.054,    1.666,2,    1.016,2, -999.000,5,   1986.5,2,   2322.6,2,   8.1031,6,    0.927,4,    0.004,   -999.0,5,   -999.0,  25.5927,  23.4140
    49MR0505_1,   P03,   126,  1,     35, X12047,2,20051118,2345, 25.8455,-160.5448, 5077,     49.8,2,  25.5202,2,  25.51966,2,  35.3360,2,  35.3369,2,   190.90,1,   206.91,2,     48.9,2,   207.50,2,   207.49,2,     0.94,2,     0.12,     0.04,2,     0.03,     0.01,2,     0.01,    0.031,2,    0.050,    1.663,2,    1.017,2, -999.000,5,   1987.0,6,   2323.1,2,   8.1027,2,    1.015,4,    0.003,   -999.0,5,   -999.0,  25.5092,  23.4391
    49MR0505_1,   P03,   126,  1,     34, X12046,2,20051118,2345, 25.8455,-160.5448, 5077,    100.3,2,  22.8946,2,  22.89400,2,  35.1744,2,  35.1709,2,   214.14,1,   232.88,2,     94.6,2,   230.79,2,   232.12,2,     1.71,2,     0.12,     0.03,2,     0.03,     0.00,2,     0.01,    0.035,2,    0.045,    2.047,2,    1.296,2, -999.000,5,   2002.1,2,   2313.1,6,   8.0643,2,    0.704,4,    0.002,   -999.0,5,   -999.0,  22.8742,  24.1021
    49MR0505_1,   P03,   126,  1,     33, X12003,2,20051118,2345, 25.8455,-160.5448, 5077,    150.1,2,  17.9936,2,  17.99552,2,  34.8849,2,  34.8840,2,   203.13,1,   220.01,2,    145.2,2,   215.66,2,   219.74,2,     2.94,2,     0.13,     0.88,2,     0.04,     0.12,2,     0.01,    0.162,2,    0.017,    2.382,2,    1.382,2, -999.000,5,   2032.5,2,   2292.7,2,   7.9863,6,    0.362,4,    0.005,   -999.0,5,   -999.0,  17.9679,  25.1918
    49MR0505_1,   P03,   126,  1,     32, X12044,2,20051118,2345, 25.8455,-160.5448, 5077,    199.6,2,  15.4368,2,  15.43089,2,  34.6203,2,  34.6194,2,   196.75,1,   211.73,2,    200.5,2,   213.90,2,   212.24,2,     5.80,2,     0.13,     5.82,2,     0.05,     0.01,2,     0.01,    0.449,2,    0.013,    2.618,2,    1.460,2, -999.000,5,   2050.5,2,   2278.3,2,   7.9264,2,   -2.736,4,    0.001,   -999.0,5,   -999.0,  15.4061,  25.5895
    49MR0505_1,   P03,   126,  1,     31, X12051,2,20051118,2345, 25.8455,-160.5448, 5077,    252.7,2,  13.5378,2,  13.53752,2,  34.4005,2,  34.3969,2,   193.99,1,   208.69,2,    260.4,2,   210.70,2,   209.23,2,     8.59,2,     0.14,     8.81,2,     0.06,     0.00,2,     0.01,    0.662,2,    0.013,    2.755,6,    1.504,6,    0.065,6,   2066.9,2,   2267.4,2,   7.8727,2,   -1.638,4,    0.004,   -999.0,5,   -999.0,  13.5022,  25.8268
    49MR0505_1,   P03,   126,  1,     30, X12042,2,20051118,2345, 25.8455,-160.5448, 5077,    302.4,2,  12.1521,2,  12.14512,2,  34.2951,2,  34.3017,2,   194.25,1,   209.69,2,    311.1,2,   209.40,2,   209.73,2,    11.89,2,     0.15,    11.38,2,     0.06,     0.00,2,     0.01,    0.834,2,    0.013,    2.928,2,    1.552,2,    0.075,2,   2082.3,2,   2260.7,2,   7.8381,2,    0.049,4,    0.001,   -999.0,5,   -999.0,  12.1124,  26.0202
    49MR0505_1,   P03,   126,  1,     29, X12041,2,20051118,2345, 25.8455,-160.5448, 5077,    401.4,2,   9.7659,2,   9.77237,2,  34.1540,2,  34.1585,2,   176.33,1,   190.79,2,    413.5,2,   192.79,2,   190.80,2,    22.61,2,     0.17,    17.84,2,     0.08,     0.00,2,     0.01,    1.286,2,    0.014,    2.897,2,    1.466,2,    0.086,2,   2124.6,2,   2267.3,2,   7.7458,2,   -0.147,4,    0.001,   -999.0,5,   -999.0,   9.7200,  26.3383
    49MR0505_1,   P03,   126,  1,     28, X12016,2,20051118,2345, 25.8455,-160.5448, 5077,    501.4,2,   7.1062,2,   7.10684,2,  34.0463,2,  34.0466,6,   110.73,1,   120.07,2,    516.4,2,   133.40,2,   119.78,2,    47.33,2,     0.22,    29.79,2,     0.12,     0.00,2,     0.01,    2.157,2,    0.015,    1.833,2,    0.844,2,    0.066,2,   2214.0,2,   2277.9,2,   7.5483,2,   -0.894,4,    0.002,   -999.0,5,   -999.0,   7.0585,  26.6594
    49MR0505_1,   P03,   126,  1,     27, X12039,2,20051118,2345, 25.8455,-160.5448, 5077,    603.9,2,   5.7632,2,   5.76372,2,  34.0680,2,  34.0672,2,    66.10,1,    72.25,2,    616.3,2,    86.52,2,    72.21,2,    68.24,2,     0.27,    36.42,2,     0.13,     0.00,2,     0.01,    2.660,2,    0.017,    0.880,2,    0.402,2,    0.027,2,   2269.3,2,   2296.8,2,   7.4347,2,   -2.074,4,    0.003,   -999.0,5,   -999.0,   5.7115,  26.8520
    49MR0505_1,   P03,   126,  1,     26, X12038,2,20051118,2345, 25.8455,-160.5448, 5077,    701.0,2,   5.0194,2,   5.01936,2,  34.1626,2,  34.1619,2,    34.36,1,    37.59,2,    709.3,2,    43.35,2,    37.22,2,    86.56,2,     0.31,    40.65,2,     0.15,     0.00,2,     0.01,    2.985,2,    0.017,    0.265,2,    0.129,2,    0.007,2,   2310.7,6,   2317.4,2,   7.3690,2,   -0.796,4,    0.005,   -999.0,5,   -999.0,   4.9628,  27.0156
    49MR0505_1,   P03,   126,  1,     25, X12037,2,20051118,2345, 25.8455,-160.5448, 5077,    800.2,2,   4.5443,2,   4.54328,2,  34.2456,2,  34.2454,2,    24.11,1,    26.62,2,    806.7,2,    29.08,2,    26.27,2,    99.21,2,     0.34,    42.25,2,     0.15,     0.01,2,     0.01,    3.102,2,    0.018,    0.101,6,    0.047,6,    0.000,6,   2333.4,2,   2337.6,6,   7.3542,2,   -1.251,4,    0.006,   -999.0,5,   -999.0,   4.4819,  27.1350
    49MR0505_1,   P03,   126,  1,     24, X12008,2,20051118,2345, 25.8455,-160.5448, 5077,    900.3,2,   4.1618,2,   4.16251,2,  34.3545,2,  34.3533,2,    24.37,1,    26.77,2,    905.5,2,    26.69,2,    26.32,2,   109.41,2,     0.36,    42.88,2,     0.15,     0.00,2,     0.01,    3.130,2,    0.018,    0.030,2,    0.011,2,    0.000,2,   2347.2,2,   2351.5,2,   7.3640,6,   -0.717,4,    0.003,   -999.0,5,   -999.0,   4.0935,  27.2629
    49MR0505_1,   P03,   126,  1,     23, X12035,2,20051118,2345, 25.8455,-160.5448, 5077,   1000.7,2,   3.8656,2,   3.86589,2,  34.4195,2,  34.4185,6,    30.17,1,    32.93,2,   1002.2,2,    33.90,2,    32.54,2,   116.24,2,     0.37,    42.93,2,     0.15,     0.00,2,     0.01,    3.130,2,    0.018,    0.009,2,    0.009,2,    0.000,2,   2352.6,2,   2364.9,2,   7.3813,2,   -0.902,4,    0.005,   -999.0,5,   -999.0,   3.7911,  27.3457
    49MR0505_1,   P03,   126,  1,     22, X12034,2,20051118,2345, 25.8455,-160.5448, 5077,   1201.2,2,   3.4217,2,   3.42201,2,  34.4995,2,  34.4993,2,    44.19,1,    48.28,2,   1200.2,2,    49.83,2,    48.16,2,   125.50,2,     0.40,    42.33,2,     0.15,     0.00,2,     0.01,    3.068,2,    0.018,    0.004,2,    0.002,2,    0.000,2,   2355.5,2,   2381.1,2,   7.4175,2,   -0.555,4,    0.003,   -999.0,5,   -999.0,   3.3344,  27.4543
    49MR0505_1,   P03,   126,  1,     21, X12033,2,20051118,2345, 25.8455,-160.5448, 5077,   1402.4,2,   2.9880,2,   2.98784,2,  34.5481,2,  34.5481,2,    56.32,1,    61.58,2,   1404.1,2,    60.97,2,    61.46,2,   134.67,2,     0.42,    41.76,2,     0.15,     0.00,2,     0.01,    3.007,2,    0.017,    0.010,2,    0.001,2,    0.000,2,   2358.7,2,   2389.8,2,   7.4414,2,   -1.213,4,    0.004,   -999.0,5,   -999.0,   2.8884,  27.5345
    49MR0505_1,   P03,   126,  1,     20, X12032,2,20051118,2345, 25.8455,-160.5448, 5077,   1601.7,2,   2.6453,2,   2.64532,2,  34.5740,2,  34.5743,2,    64.43,1,    70.47,2,   1603.7,2,    69.57,2,    70.44,2,   142.45,2,     0.43,    41.27,2,     0.15,     0.00,2,     0.01,    2.966,2,    0.017,    0.000,2,    0.000,2,    0.000,2,   2362.2,2,   2400.2,2,   7.4567,6,   -2.854,4,    0.004,   -999.0,5,   -999.0,   2.5333,  27.5864
    49MR0505_1,   P03,   126,  1,     19, X12001,2,20051118,2345, 25.8455,-160.5448, 5077,   1801.3,2,   2.3687,2,   2.36881,2,  34.5946,2,  34.5949,6,    71.53,1,    78.47,2,   1801.7,2,    78.21,2,    78.25,2,   149.30,2,     0.45,    40.85,2,     0.15,     0.00,2,     0.01,    2.927,2,    0.017,    0.006,2,    0.000,2,    0.000,2,   2361.9,2,   2407.4,2,   7.4704,2,   -0.804,4,    0.003,   -999.0,5,   -999.0,   2.2437,  27.6273
    49MR0505_1,   P03,   126,  1,     18, X12030,2,20051118,2345, 25.8455,-160.5448, 5077,   2002.6,2,   2.1195,2,   2.12059,2,  34.6145,2,  34.6144,2,    78.71,1,    86.45,2,   2003.6,2,    85.65,2,    86.18,2,   155.16,2,     0.46,    40.52,2,     0.15,     0.00,2,     0.01,    2.881,2,    0.017,    0.008,2,    0.000,2,    0.000,2,   2364.6,2,   2414.9,2,   7.4830,2,   -1.785,4,    0.003,   -999.0,5,   -999.0,   1.9811,  27.6643
    49MR0505_1,   P03,   126,  1,     17, X12049,2,20051118,2345, 25.8455,-160.5448, 5077,   2201.9,2,   1.9323,2,   1.93239,2,  34.6291,2,  34.6290,2,    85.21,1,    93.72,2,   2202.7,2,    92.80,2,    93.49,2,   159.63,2,     0.47,    40.04,2,     0.14,     0.00,2,     0.01,    2.844,2,    0.017, -999.000,9, -999.000,9, -999.000,9,   2363.6,2,   2419.3,2,   7.4972,2,   -2.880,4,    0.003,   -999.0,5,   -999.0,   1.7798,  27.6916
    49MR0505_1,   P03,   126,  1,     16, X12028,2,20051118,2345, 25.8455,-160.5448, 5077,   2400.2,2,   1.7872,2,   1.78729,2,  34.6419,2,  34.6421,2,    92.81,1,   102.13,2,   2400.6,2,   101.26,2,   102.07,2,   162.50,2,     0.48,    39.49,2,     0.14,     0.00,2,     0.01,    2.793,2,    0.017, -999.000,9, -999.000,9, -999.000,9,   2360.5,6,   2418.9,2,   7.5101,2,   -1.234,4,    0.003,   -999.0,5,   -999.0,   1.6198,  27.7140
    49MR0505_1,   P03,   126,  1,     15, X12006,2,20051118,2345, 25.8455,-160.5448, 5077,   2600.5,2,   1.7192,2,   1.71921,2,  34.6495,2,  34.6492,2,    98.09,1,   107.86,2,   2600.4,2,   107.86,2,   107.88,2,   163.48,2,     0.48,    39.11,2,     0.14,     0.00,2,     0.01,    2.767,2,    0.017, -999.000,9, -999.000,9, -999.000,9,   2358.6,2,   2422.0,6,   7.5211,2,   -1.157,4,    0.004,   -999.0,5,   -999.0,   1.5351,  27.7263
    49MR0505_1,   P03,   126,  1,     14, X12026,2,20051118,2345, 25.8455,-160.5448, 5077,   2802.0,2,   1.6304,2,   1.63019,2,  34.6585,2,  34.6587,2,   105.79,1,   116.43,2,   2801.3,2,   117.11,2,   116.40,2,   162.65,2,     0.48,    38.58,2,     0.14,     0.00,2,     0.01,    2.726,2,    0.017,    0.000,2,    0.001,2,    0.000,2,   2353.7,2,   2427.7,2,   7.5355,2,   -0.176,4,    0.003,   -999.0,5,   -999.0,   1.4295,  27.7412
    49MR0505_1,   P03,   126,  1,     13, X12025,2,20051118,2345, 25.8455,-160.5448, 5077,   3000.0,2,   1.5786,2,   1.57856,2,  34.6645,2,  34.6640,2,   112.38,1,   123.62,2,   2999.6,2,   123.41,2,   123.51,2,   160.87,2,     0.47,    38.20,2,     0.14,     0.00,2,     0.01,    2.682,2,    0.017, -999.000,9, -999.000,9, -999.000,9,   2350.4,2,   2424.3,2,   7.5479,2,   -0.360,4,    0.001,   -999.0,5,   -999.0,   1.3601,  27.7510
    49MR0505_1,   P03,   126,  1,     12, X12024,2,20051118,2345, 25.8455,-160.5448, 5077,   3249.6,2,   1.5355,2,   1.53568,2,  34.6711,2,  34.6706,6,   118.65,1,   130.31,2,   3249.1,2,   130.99,2,   130.49,2,   159.13,2,     0.47,    37.66,2,     0.14,     0.00,2,     0.01,    2.638,2,    0.017, -999.000,9, -999.000,9, -999.000,9,   2346.6,2,   2422.3,2,   7.5600,2,   -0.902,4,    0.003,   -999.0,5,   -999.0,   1.2937,  27.7610
    49MR0505_1,   P03,   126,  1,     11, X12023,2,20051118,2345, 25.8455,-160.5448, 5077,   3500.7,2,   1.5072,2,   1.50729,2,  34.6759,2,  34.6757,2,   124.39,1,   136.33,2,   3500.7,2,   136.36,2,   136.36,2,   157.93,2,     0.47,    37.26,2,     0.14,     0.00,2,     0.01,    2.612,2,    0.017,    0.000,2,    0.001,2,    0.000,2,   2340.6,2,   2420.3,2,   7.5693,2,   -3.148,4,    0.003,   -999.0,5,   -999.0,   1.2408,  27.7685
    49MR0505_1,   P03,   126,  1,     10, X12022,2,20051118,2345, 25.8455,-160.5448, 5077,   3749.8,2,   1.4867,2,   1.48678,2,  34.6802,2,  34.6800,2,   129.59,1,   141.63,2,   3749.6,2,   141.90,2,   141.92,2,   156.28,2,     0.46,    36.79,2,     0.14,     0.00,2,     0.01,    2.582,2,    0.016, -999.000,9, -999.000,9, -999.000,9,   2337.1,2,   2420.3,2,   7.5784,2,   -0.979,4,    0.001,   -999.0,5,   -999.0,   1.1950,  27.7752
    49MR0505_1,   P03,   126,  1,      9, X12021,2,20051118,2345, 25.8455,-160.5448, 5077,   3998.4,2,   1.4807,2,   1.48069,2,  34.6832,2,  34.6832,6,   133.60,1,   145.57,2,   3998.3,2,   145.96,2,   145.86,2,   154.87,2,     0.46,    36.56,2,     0.14,     0.00,2,     0.01,    2.566,2,    0.016, -999.000,9, -999.000,9, -999.000,9,   2332.1,2,   2420.4,2,   7.5848,2,   -0.291,4,    0.004,   -999.0,5,   -999.0,   1.1625,  27.7798
    49MR0505_1,   P03,   126,  1,      8, X12020,2,20051118,2345, 25.8455,-160.5448, 5077,   4250.1,2,   1.4838,2,   1.48382,2,  34.6858,2,  34.6859,2,   136.83,1,   148.74,2,   4250.1,2,   148.96,2,   148.93,2,   153.99,2,     0.46,    36.47,2,     0.13,     0.00,2,     0.01,    2.553,2,    0.016,    0.000,2,    0.000,2,    0.000,2,   2332.0,6,   2422.4,2,   7.5902,2,   -1.140,4,    0.003,   -999.0,5,   -999.0,   1.1377,  27.7836
    49MR0505_1,   P03,   126,  1,      7, X12019,2,20051118,2345, 25.8455,-160.5448, 5077,   4500.8,2,   1.4891,2,   1.48901,2,  34.6880,2,  34.6882,2,   140.38,1,   152.11,2,   4500.9,2,   152.33,2,   152.37,2,   152.66,2,     0.45,    36.19,2,     0.13,     0.00,2,     0.01,    2.533,2,    0.016, -999.000,9, -999.000,9, -999.000,9,   2330.1,2,   2421.1,6,   7.5946,2,   -0.672,4,    0.005,   -999.0,5,   -999.0,   1.1144,  27.7869
    49MR0505_1,   P03,   126,  1,      6, X12018,2,20051118,2345, 25.8455,-160.5448, 5077,   4751.7,2,   1.5084,2,   1.50831,2,  34.6890,2,  34.6891,2,   142.54,1,   153.82,2,   4751.7,2,   154.23,2,   153.93,2,   151.70,2,     0.45,    36.11,2,     0.13,     0.00,2,     0.01,    2.522,2,    0.016, -999.000,9, -999.000,9, -999.000,9,   2326.2,2,   2419.1,2,   7.5977,6,   -0.346,4,    0.002,   -999.0,5,   -999.0,   1.1037,  27.7885
    49MR0505_1,   P03,   126,  1,      5, X12043,2,20051118,2345, 25.8455,-160.5448, 5077,   4999.7,2,   1.5319,2,   1.53192,2,  34.6896,2,  34.6896,2,   144.46,1,   155.06,2,   4999.6,2,   155.63,2,   155.16,2,   150.87,2,     0.45,    35.89,2,     0.13,     0.00,2,     0.01,    2.512,2,    0.016, -999.000,9, -999.000,9, -999.000,9,   2325.8,2,   2418.3,2,   7.5997,2,   -1.629,4,    0.001,   -999.0,5,   -999.0,   1.0966,  27.7895
    49MR0505_1,   P03,   126,  1,      4, X12010,9,20051118,2345, 25.8455,-160.5448, 5077,    101.1,2,  22.9093,2,  22.91316,2,  35.1771,2,-999.0000,9,   213.66,1,   232.02,2,     94.6,2,   230.79,2,  -999.00,9,  -999.00,9,  -999.00,  -999.00,9,  -999.00,  -999.00,9,  -999.00, -999.000,9, -999.000, -999.000,9, -999.000,9, -999.000,9,   -999.0,9,   -999.0,9,-999.0000,9, -999.000,9, -999.000,   -999.0,9,   -999.0,  22.8887,  24.1000
    49MR0505_1,   P03,   126,  1,      3, X12015,9,20051118,2345, 25.8455,-160.5448, 5077,     49.2,2,  25.5172,2,  25.51779,2,  35.3365,2,-999.0000,9,   191.04,1,   206.68,2,     48.6,2,   207.59,2,  -999.00,9,  -999.00,9,  -999.00,  -999.00,9,  -999.00,  -999.00,9,  -999.00, -999.000,9, -999.000, -999.000,9, -999.000,9, -999.000,9,   -999.0,9,   -999.0,9,-999.0000,9, -999.000,9, -999.000,   -999.0,9,   -999.0,  25.5064,  23.4404
    49MR0505_1,   P03,   126,  1,      2, X12014,9,20051118,2345, 25.8455,-160.5448, 5077,     10.1,2,  25.5960,2,  25.59578,2,  35.3373,2,-999.0000,9,   190.86,1,   207.40,2,      6.7,2,   208.07,2,  -999.00,9,  -999.00,9,  -999.00,  -999.00,9,  -999.00,  -999.00,9,  -999.00, -999.000,9, -999.000, -999.000,9, -999.000,9, -999.000,9,   -999.0,9,   -999.0,9,-999.0000,9, -999.000,9, -999.000,   -999.0,9,   -999.0,  25.5938,  23.4140
    49MR0505_1,   P03,   126,  1,      1, X12013,2,20051118,2345, 25.8455,-160.5448, 5077,   5161.0,2,   1.5470,2,   1.54688,2,  34.6900,2,  34.6903,6,   146.10,1,   156.24,2,   5161.0,2,   156.20,2,   156.14,2,   149.88,2,     0.45,    35.91,2,     0.13,     0.01,2,     0.01,    2.513,2,    0.016,    0.000,2,    0.000,2,    0.000,2,   2323.6,2,   2419.3,2,   7.6010,2,   -0.716,4,    0.003,   -999.0,5,   -999.0,   1.0914,  27.7902