BOTTLE,20100316JAMSTECRIGC
EXPOCODE,SECT,STNNBR,CASTNO,SAMPNO,BTLNBR,BTLNBR_FLAG_W,DATE,TIME,LATITUDE,LONGITUDE,DEPTH,CTDPRS,CTDPRS_FLAG_W,CTDTMP,CTDTMP_FLAG_W,SBE35,SBE35_FLAG_W,CTDSAL,CTDSAL_FLAG_W,SALNTY,SALNTY_FLAG_W,CTDOXY,CTDOXY_FLAG_W,OPTOXY,OPTOXY_FLAG_W,DWNPRS,DWNPRS_FLAG_W,DWNOXY,DWNOXY_FLAG_W,OXYGEN,OXYGEN_FLAG_W,SILCAT,SILCAT_FLAG_W,SILUNC,NITRAT,NITRAT_FLAG_W,NRAUNC,NITRIT,NITRIT_FLAG_W,NRIUNC,PHSPHT,PHSPHT_FLAG_W,PHPUNC,CFC-11,CFC-11_FLAG_W,CFC-12,CFC-12_FLAG_W,CFC113,CFC113_FLAG_W,TCARBN,TCARBN_FLAG_W,ALKALI,ALKALI_FLAG_W,PH,PH_FLAG_W,DELC13,DELC13_FLAG_W,C13ERR,DELC14,DELC14_FLAG_W,C14ERR,THETA,SIG0
,,,,,,,,UTC,DEG,DEG,M,DBAR,,ITS-90,,ITS-90,,PSS-78,,PSS-78,,UMOL/KG,,UMOL/KG,,DBAR,,UMOL/KG,,UMOL/KG,,UMOL/KG,,UMOL/KG,UMOL/KG,,UMOL/KG,UMOL/KG,,UMOL/KG,UMOL/KG,,UMOL/KG,PMOL/KG,,PMOL/KG,,PMOL/KG,,UMOL/KG,,UMOL/KG,,,,/MILLE,,/MILLE,/MILLE,,/MILLE,DEG C,KG/CUM
    49MR0505_1,   P03,    14,  1,      0,   -999,9,20051102,0323, 31.8482,-119.3600, 1741,   -999.0,9,-999.0000,9,-999.00000,9,-999.0000,9,  33.3871,2,  -999.00,9,  -999.00,9,   -999.0,9,  -999.00,9,  -999.00,9,  -999.00,9,  -999.00,  -999.00,9,  -999.00,  -999.00,9,  -999.00, -999.000,9, -999.000, -999.000,9, -999.000,9, -999.000,9,   -999.0,9,   -999.0,9,-999.0000,9, -999.000,9, -999.000,   -999.0,9,   -999.0,-999.0000,-999.0000
    49MR0505_1,   P03,    14,  1,     36, X12048,2,20051102,0323, 31.8482,-119.3600, 1741,     10.4,2,  17.8803,2,  17.87919,2,  33.3824,2,  33.3824,2,   237.34,1,   244.25,2,     11.9,2,   243.27,2,   243.28,2,     1.54,2,     0.12,     0.04,2,     0.03,     0.00,2,     0.01,    0.255,2,    0.015,    2.454,2,    1.420,2, -999.000,5,   1990.4,2,   2238.7,2,   7.9705,2, -999.000,9, -999.000,   -999.0,9,   -999.0,  17.8785,  24.0631
    49MR0505_1,   P03,    14,  1,     35, X12047,2,20051102,0323, 31.8482,-119.3600, 1741,     50.2,2,  12.7520,2,  12.72335,2,  33.4491,2,  33.4491,2,   196.68,1,   196.63,2,     53.9,2,   192.19,2,   198.89,2,     9.17,2,     0.14,    11.04,2,     0.06,     0.16,2,     0.01,    1.055,2,    0.013,    3.006,2,    1.634,2, -999.000,5,   2080.7,6,   2231.8,2,   7.7696,2, -999.000,9, -999.000,   -999.0,9,   -999.0,  12.7453,  25.2416
    49MR0505_1,   P03,    14,  1,     34, X12046,2,20051102,0323, 31.8482,-119.3600, 1741,    100.9,2,   9.5847,2,   9.58541,2,  33.6924,2,  33.7097,2,   142.76,1,   144.00,2,     96.0,2,   134.98,2,   142.87,2,    22.70,2,     0.17,    22.41,2,     0.10,     0.01,2,     0.01,    1.771,2,    0.015,    3.108,2,    1.611,2,    0.167,2,   2154.9,2,   2243.0,6,   7.5977,2, -999.000,9, -999.000,   -999.0,9,   -999.0,   9.5736,  26.0018
    49MR0505_1,   P03,    14,  1,     33, X12003,2,20051102,0323, 31.8482,-119.3600, 1741,    149.8,2,   8.8116,2,   8.81375,2,  33.9650,2,  33.9678,2,   115.03,1,   116.22,2,    153.4,2,   119.69,2,   116.29,2,    31.38,2,     0.19,    26.69,2,     0.11,     0.01,2,     0.01,    2.017,2,    0.015,    2.773,2,    1.394,2,    0.127,2,   2190.3,2,   2259.9,2,   7.5450,6, -999.000,9, -999.000,   -999.0,9,   -999.0,   8.7958,  26.3399
    49MR0505_1,   P03,    14,  1,     32, X12044,2,20051102,0323, 31.8482,-119.3600, 1741,    199.7,2,   8.6054,2,   8.60586,2,  34.1386,2,  34.1407,2,    82.71,1,    83.32,2,    197.9,2,    67.90,2,    83.50,2,    38.44,2,     0.20,    29.03,2,     0.11,     0.01,2,     0.01,    2.286,2,    0.016,    2.030,2,    0.998,2,    0.095,2,   2222.6,2,   2276.1,2,   7.4909,2, -999.000,9, -999.000,   -999.0,9,   -999.0,   8.5845,  26.5087
    49MR0505_1,   P03,    14,  1,     31, X12051,2,20051102,0323, 31.8482,-119.3600, 1741,    248.9,2,   8.6634,2,   8.65168,2,  34.2638,2,  34.2515,2,    52.24,1,    53.86,2,    248.6,2,    54.94,2,    53.55,2,    43.58,2,     0.21,    30.59,2,     0.12,     0.01,2,     0.01,    2.533,2,    0.016,    1.349,6,    0.651,6,    0.052,6,   2251.7,2,   2287.2,2,   7.4495,2, -999.000,9, -999.000,   -999.0,9,   -999.0,   8.6372,  26.5987
    49MR0505_1,   P03,    14,  1,     30, X12042,2,20051102,0323, 31.8482,-119.3600, 1741,    300.6,2,   8.1468,2,   8.14767,2,  34.2957,2,  34.2881,2,    36.10,1,    37.29,2,    299.6,2,    37.28,2,    37.59,2,    49.38,2,     0.23,    32.40,2,     0.12,     0.01,2,     0.01,    2.706,2,    0.017,    0.910,2,    0.435,2,    0.030,2,   2268.6,2,   2297.1,2,   7.4156,2, -999.000,9, -999.000,   -999.0,9,   -999.0,   8.1162,  26.7033
    49MR0505_1,   P03,    14,  1,     29, X12041,2,20051102,0323, 31.8482,-119.3600, 1741,    400.1,2,   7.0070,2,   7.00697,2,  34.2923,2,  34.2897,2,    23.50,1,    23.31,2,    397.9,2,    23.63,2,    23.44,2,    62.96,2,     0.26,    36.20,2,     0.13,     0.00,2,     0.01,    2.944,2,    0.017,    0.424,2,    0.199,2,    0.000,2,   2294.9,2,   2309.6,2,   7.3778,2, -999.000,9, -999.000,   -999.0,9,   -999.0,   6.9694,  26.8655
    49MR0505_1,   P03,    14,  1,     28, X12016,2,20051102,0323, 31.8482,-119.3600, 1741,    500.2,2,   6.0683,2,   6.06817,2,  34.2864,2,  34.2873,6,    16.36,1,    16.13,2,    500.5,2,    16.85,2,    16.46,2,    75.84,2,     0.29,    39.19,2,     0.14,     0.00,2,     0.01,    3.089,2,    0.018,    0.213,2,    0.103,2,    0.000,2,   2313.7,2,   2319.6,2,   7.3558,2, -999.000,9, -999.000,   -999.0,9,   -999.0,   6.0245,  26.9856
    49MR0505_1,   P03,    14,  1,     27, X12039,2,20051102,0323, 31.8482,-119.3600, 1741,    599.8,2,   5.5778,2,   5.57770,2,  34.3565,2,  34.3588,2,    10.20,1,     9.91,2,    602.2,2,    10.66,2,    10.18,2,    86.03,2,     0.31,    40.84,2,     0.15,     0.00,2,     0.01,    3.201,2,    0.018,    0.063,2,    0.023,2,    0.000,2,   2331.6,2,   2333.7,2,   7.3504,2, -999.000,9, -999.000,   -999.0,9,   -999.0,   5.5271,  27.1028
    49MR0505_1,   P03,    14,  1,     26, X12038,2,20051102,0323, 31.8482,-119.3600, 1741,    699.6,2,   5.0963,2,   5.09615,2,  34.4025,2,  34.4039,2,    10.67,1,    10.26,2,    699.6,2,    11.01,2,    10.79,2,    94.87,2,     0.33,    42.09,2,     0.15,     0.00,2,     0.01,    3.244,2,    0.018,    0.031,2,    0.016,2,    0.000,2,   2343.2,6,   2347.6,2,   7.3553,2, -999.000,9, -999.000,   -999.0,9,   -999.0,   5.0391,  27.1970
    49MR0505_1,   P03,    14,  1,     25, X12037,2,20051102,0323, 31.8482,-119.3600, 1741,    800.6,2,   4.5893,2,   4.58916,2,  34.4420,2,  34.4424,2,    14.66,1,    14.04,2,    802.6,2,    14.51,2,    14.82,2,   104.95,2,     0.35,    42.80,2,     0.15,     0.00,2,     0.01,    3.260,2,    0.018,    0.035,6,    0.016,6,    0.000,6,   2352.5,2,   2360.7,6,   7.3620,2, -999.000,9, -999.000,   -999.0,9,   -999.0,   4.5264,  27.2862
    49MR0505_1,   P03,    14,  1,     24, X12008,2,20051102,0323, 31.8482,-119.3600, 1741,    899.9,2,   4.2477,2,   4.24777,2,  34.4665,2,  34.4665,2,    18.67,1,    17.94,2,    902.0,2,    18.55,2,    18.98,2,   112.00,2,     0.37,    43.15,2,     0.15,     0.00,2,     0.01,    3.255,2,    0.018,    0.027,2,    0.020,2,    0.000,2,   2357.8,2,   2366.4,2,   7.3679,6, -999.000,9, -999.000,   -999.0,9,   -999.0,   4.1786,  27.3431
    49MR0505_1,   P03,    14,  1,     23, X12035,2,20051102,0323, 31.8482,-119.3600, 1741,   1000.3,2,   3.9888,2,   3.98881,2,  34.4868,2,  34.4881,6,    23.03,1,    22.35,2,   1002.0,2,    22.70,2,    23.51,2,   117.41,2,     0.38,    43.33,2,     0.15,     0.00,2,     0.01,    3.245,2,    0.018,    0.022,2,    0.016,2,    0.000,2,   2362.0,2,   2375.1,2,   7.3748,2, -999.000,9, -999.000,   -999.0,9,   -999.0,   3.9132,  27.3869
    49MR0505_1,   P03,    14,  1,     22, X12034,2,20051102,0323, 31.8482,-119.3600, 1741,   1200.8,2,   3.5181,2,   3.51803,2,  34.5209,2,  34.5219,2,    31.61,1,    30.82,2,   1201.2,2,    31.83,2,    31.94,2,   128.63,2,     0.40,    43.16,2,     0.15,     0.00,2,     0.01,    3.207,2,    0.018,    0.027,2,    0.018,2,    0.000,2,   2369.1,2,   2386.0,2,   7.3916,2, -999.000,9, -999.000,   -999.0,9,   -999.0,   3.4298,  27.4622
    49MR0505_1,   P03,    14,  1,     21, X12033,2,20051102,0323, 31.8482,-119.3600, 1741,   1401.5,2,   3.0429,2,   3.04370,2,  34.5543,2,  34.5541,2,    42.77,1,    41.78,2,   1401.0,2,    43.60,2,    43.07,2,   139.77,2,     0.43,    42.78,2,     0.15,     0.00,2,     0.01,    3.154,2,    0.018,    0.027,2,    0.023,2,    0.000,2,   2372.5,2,   2399.4,2,   7.4112,2, -999.000,9, -999.000,   -999.0,9,   -999.0,   2.9428,  27.5346
    49MR0505_1,   P03,    14,  1,     20, X12032,2,20051102,0323, 31.8482,-119.3600, 1741,   1600.0,2,   2.6350,2,   2.63461,2,  34.5851,2,  34.5858,2,    56.53,1,    55.70,2,   1599.9,2,    57.14,2,    57.19,2,   149.35,2,     0.45,    42.05,2,     0.15,     0.00,2,     0.01,    3.071,2,    0.018,    0.013,2,    0.013,2,    0.000,2,   2377.8,2,   2411.7,2,   7.4353,6, -999.000,9, -999.000,   -999.0,9,   -999.0,   2.5232,  27.5962
    49MR0505_1,   P03,    14,  1,     19, X12001,9,20051102,0323, 31.8482,-119.3600, 1741,    101.1,2,   9.5857,2,   9.58580,2,  33.6923,2,-999.0000,9,   142.80,1,   144.60,2,     96.1,2,   134.94,2,  -999.00,9,  -999.00,9,  -999.00,  -999.00,9,  -999.00,  -999.00,9,  -999.00, -999.000,9, -999.000, -999.000,9, -999.000,9, -999.000,9,   -999.0,9,   -999.0,9,-999.0000,9, -999.000,9, -999.000,   -999.0,9,   -999.0,   9.5745,  26.0016
    49MR0505_1,   P03,    14,  1,     18, X12030,9,20051102,0323, 31.8482,-119.3600, 1741,    149.8,2,   8.8131,2,   8.81412,2,  33.9654,2,-999.0000,9,   114.73,1,   116.45,2,    153.4,2,   119.70,2,  -999.00,9,  -999.00,9,  -999.00,  -999.00,9,  -999.00,  -999.00,9,  -999.00, -999.000,9, -999.000, -999.000,9, -999.000,9, -999.000,9,   -999.0,9,   -999.0,9,-999.0000,9, -999.000,9, -999.000,   -999.0,9,   -999.0,   8.7973,  26.3399
    49MR0505_1,   P03,    14,  1,     17, X12049,9,20051102,0323, 31.8482,-119.3600, 1741,    199.7,2,   8.6058,2,   8.60281,2,  34.1385,2,-999.0000,9,    82.65,1,    83.92,2,    197.8,2,    68.05,2,  -999.00,9,  -999.00,9,  -999.00,  -999.00,9,  -999.00,  -999.00,9,  -999.00, -999.000,9, -999.000, -999.000,9, -999.000,9, -999.000,9,   -999.0,9,   -999.0,9,-999.0000,9, -999.000,9, -999.000,   -999.0,9,   -999.0,   8.5849,  26.5086
    49MR0505_1,   P03,    14,  1,     16, X12028,9,20051102,0323, 31.8482,-119.3600, 1741,    249.5,2,   8.6300,2,   8.60274,2,  34.2561,2,-999.0000,9,    53.66,1,    54.23,2,    248.7,2,    54.94,2,  -999.00,9,  -999.00,9,  -999.00,  -999.00,9,  -999.00,  -999.00,9,  -999.00, -999.000,9, -999.000, -999.000,9, -999.000,9, -999.000,9,   -999.0,9,   -999.0,9,-999.0000,9, -999.000,9, -999.000,   -999.0,9,   -999.0,   8.6038,  26.5979
    49MR0505_1,   P03,    14,  1,     15, X12006,9,20051102,0323, 31.8482,-119.3600, 1741,    301.4,2,   8.1435,2,   8.14301,2,  34.2962,2,-999.0000,9,    35.89,1,    36.94,2,    300.6,2,    37.13,2,  -999.00,9,  -999.00,9,  -999.00,  -999.00,9,  -999.00,  -999.00,9,  -999.00, -999.000,9, -999.000, -999.000,9, -999.000,9, -999.000,9,   -999.0,9,   -999.0,9,-999.0000,9, -999.000,9, -999.000,   -999.0,9,   -999.0,   8.1128,  26.7042
    49MR0505_1,   P03,    14,  1,     14, X12026,9,20051102,0323, 31.8482,-119.3600, 1741,    399.8,2,   7.0061,2,   7.00594,2,  34.2927,2,-999.0000,9,    23.35,1,    23.35,2,    397.8,2,    23.65,2,  -999.00,9,  -999.00,9,  -999.00,  -999.00,9,  -999.00,  -999.00,9,  -999.00, -999.000,9, -999.000, -999.000,9, -999.000,9, -999.000,9,   -999.0,9,   -999.0,9,-999.0000,9, -999.000,9, -999.000,   -999.0,9,   -999.0,   6.9685,  26.8659
    49MR0505_1,   P03,    14,  1,     13, X12025,9,20051102,0323, 31.8482,-119.3600, 1741,    500.3,2,   6.0674,2,   6.06671,2,  34.2865,2,-999.0000,9,    16.31,1,    16.16,2,    500.6,2,    16.84,2,  -999.00,9,  -999.00,9,  -999.00,  -999.00,9,  -999.00,  -999.00,9,  -999.00, -999.000,9, -999.000, -999.000,9, -999.000,9, -999.000,9,   -999.0,9,   -999.0,9,-999.0000,9, -999.000,9, -999.000,   -999.0,9,   -999.0,   6.0236,  26.9858
    49MR0505_1,   P03,    14,  1,     12, X12024,9,20051102,0323, 31.8482,-119.3600, 1741,    599.9,2,   5.5774,2,   5.57739,2,  34.3566,2,-999.0000,9,    10.20,1,     9.91,2,    602.2,2,    10.66,2,  -999.00,9,  -999.00,9,  -999.00,  -999.00,9,  -999.00,  -999.00,9,  -999.00, -999.000,9, -999.000, -999.000,9, -999.000,9, -999.000,9,   -999.0,9,   -999.0,9,-999.0000,9, -999.000,9, -999.000,   -999.0,9,   -999.0,   5.5266,  27.1029
    49MR0505_1,   P03,    14,  1,     11, X12023,9,20051102,0323, 31.8482,-119.3600, 1741,    699.7,2,   5.1030,2,   5.10325,2,  34.4020,2,-999.0000,9,    10.63,1,    10.25,2,    699.3,2,    10.99,2,  -999.00,9,  -999.00,9,  -999.00,  -999.00,9,  -999.00,  -999.00,9,  -999.00, -999.000,9, -999.000, -999.000,9, -999.000,9, -999.000,9,   -999.0,9,   -999.0,9,-999.0000,9, -999.000,9, -999.000,   -999.0,9,   -999.0,   5.0458,  27.1958
    49MR0505_1,   P03,    14,  1,     10, X12022,9,20051102,0323, 31.8482,-119.3600, 1741,    801.0,2,   4.5851,2,   4.58561,2,  34.4425,2,-999.0000,9,    14.69,1,    14.02,2,    803.2,2,    14.51,2,  -999.00,9,  -999.00,9,  -999.00,  -999.00,9,  -999.00,  -999.00,9,  -999.00, -999.000,9, -999.000, -999.000,9, -999.000,9, -999.000,9,   -999.0,9,   -999.0,9,-999.0000,9, -999.000,9, -999.000,   -999.0,9,   -999.0,   4.5222,  27.2870
    49MR0505_1,   P03,    14,  1,      9, X12021,9,20051102,0323, 31.8482,-119.3600, 1741,    801.0,2,   4.5892,2,   4.58932,2,  34.4420,2,-999.0000,9,    14.68,1,    14.06,2,    803.0,2,    14.51,2,  -999.00,9,  -999.00,9,  -999.00,  -999.00,9,  -999.00,  -999.00,9,  -999.00, -999.000,9, -999.000, -999.000,9, -999.000,9, -999.000,9,   -999.0,9,   -999.0,9,-999.0000,9, -999.000,9, -999.000,   -999.0,9,   -999.0,   4.5262,  27.2862
    49MR0505_1,   P03,    14,  1,      8, X12020,9,20051102,0323, 31.8482,-119.3600, 1741,    899.6,2,   4.2506,2,   4.25044,2,  34.4662,2,-999.0000,9,    18.66,1,    17.91,2,    901.6,2,    18.52,2,  -999.00,9,  -999.00,9,  -999.00,  -999.00,9,  -999.00,  -999.00,9,  -999.00, -999.000,9, -999.000, -999.000,9, -999.000,9, -999.000,9,   -999.0,9,   -999.0,9,-999.0000,9, -999.000,9, -999.000,   -999.0,9,   -999.0,   4.1815,  27.3426
    49MR0505_1,   P03,    14,  1,      7, X12019,9,20051102,0323, 31.8482,-119.3600, 1741,    900.0,2,   4.2502,2,   4.25013,2,  34.4663,2,-999.0000,9,    18.67,1,    17.96,2,    902.0,2,    18.55,2,  -999.00,9,  -999.00,9,  -999.00,  -999.00,9,  -999.00,  -999.00,9,  -999.00, -999.000,9, -999.000, -999.000,9, -999.000,9, -999.000,9,   -999.0,9,   -999.0,9,-999.0000,9, -999.000,9, -999.000,   -999.0,9,   -999.0,   4.1811,  27.3427
    49MR0505_1,   P03,    14,  1,      6, X12018,9,20051102,0323, 31.8482,-119.3600, 1741,   1000.6,2,   3.9882,2,   3.98806,2,  34.4871,2,-999.0000,9,    22.97,1,    22.22,2,   1002.3,2,    22.71,2,  -999.00,9,  -999.00,9,  -999.00,  -999.00,9,  -999.00,  -999.00,9,  -999.00, -999.000,9, -999.000, -999.000,9, -999.000,9, -999.000,9,   -999.0,9,   -999.0,9,-999.0000,9, -999.000,9, -999.000,   -999.0,9,   -999.0,   3.9126,  27.3872
    49MR0505_1,   P03,    14,  1,      5, X12043,9,20051102,0323, 31.8482,-119.3600, 1741,   1000.5,2,   3.9908,2,   3.99052,2,  34.4868,2,-999.0000,9,    22.95,1,    22.27,2,   1002.2,2,    22.70,2,  -999.00,9,  -999.00,9,  -999.00,  -999.00,9,  -999.00,  -999.00,9,  -999.00, -999.000,9, -999.000, -999.000,9, -999.000,9, -999.000,9,   -999.0,9,   -999.0,9,-999.0000,9, -999.000,9, -999.000,   -999.0,9,   -999.0,   3.9152,  27.3867
    49MR0505_1,   P03,    14,  1,      4, X12010,9,20051102,0323, 31.8482,-119.3600, 1741,   1201.5,2,   3.5202,2,   3.52003,2,  34.5207,2,-999.0000,9,    31.60,1,    30.68,2,   1201.8,2,    31.85,2,  -999.00,9,  -999.00,9,  -999.00,  -999.00,9,  -999.00,  -999.00,9,  -999.00, -999.000,9, -999.000, -999.000,9, -999.000,9, -999.000,9,   -999.0,9,   -999.0,9,-999.0000,9, -999.000,9, -999.000,   -999.0,9,   -999.0,   3.4319,  27.4618
    49MR0505_1,   P03,    14,  1,      3, X12015,9,20051102,0323, 31.8482,-119.3600, 1741,   1201.0,2,   3.5203,2,   3.52048,2,  34.5206,2,-999.0000,9,    31.60,1,    30.77,2,   1201.3,2,    31.83,2,  -999.00,9,  -999.00,9,  -999.00,  -999.00,9,  -999.00,  -999.00,9,  -999.00, -999.000,9, -999.000, -999.000,9, -999.000,9, -999.000,9,   -999.0,9,   -999.0,9,-999.0000,9, -999.000,9, -999.000,   -999.0,9,   -999.0,   3.4320,  27.4617
    49MR0505_1,   P03,    14,  1,      2, X12014,9,20051102,0323, 31.8482,-119.3600, 1741,   1693.7,2,   2.4736,2,   2.47348,2,  34.5970,2,-999.0000,9,    62.94,1,    61.57,2,   1693.7,2,    63.37,2,  -999.00,9,  -999.00,9,  -999.00,  -999.00,9,  -999.00,  -999.00,9,  -999.00, -999.000,9, -999.000, -999.000,9, -999.000,9, -999.000,9,   -999.0,9,   -999.0,9,-999.0000,9, -999.000,9, -999.000,   -999.0,9,   -999.0,   2.3561,  27.6199
    49MR0505_1,   P03,    14,  1,      1, X12013,2,20051102,0323, 31.8482,-119.3600, 1741,   1694.1,2,   2.4719,2,   2.47053,2,  34.5972,2,  34.5974,6,    62.77,1,    61.50,2,   1694.2,2,    63.33,2,    63.19,2,   152.89,2,     0.46,    41.63,2,     0.15,     0.01,2,     0.01,    3.037,2,    0.018,    0.015,2,    0.012,2,    0.000,2,   2372.9,2,   2411.5,2,   7.4473,2, -999.000,9, -999.000,   -999.0,9,   -999.0,   2.3544,  27.6202