BOTTLE,20100316JAMSTECRIGC
EXPOCODE,SECT,STNNBR,CASTNO,SAMPNO,BTLNBR,BTLNBR_FLAG_W,DATE,TIME,LATITUDE,LONGITUDE,DEPTH,CTDPRS,CTDPRS_FLAG_W,CTDTMP,CTDTMP_FLAG_W,SBE35,SBE35_FLAG_W,CTDSAL,CTDSAL_FLAG_W,SALNTY,SALNTY_FLAG_W,CTDOXY,CTDOXY_FLAG_W,OPTOXY,OPTOXY_FLAG_W,DWNPRS,DWNPRS_FLAG_W,DWNOXY,DWNOXY_FLAG_W,OXYGEN,OXYGEN_FLAG_W,SILCAT,SILCAT_FLAG_W,SILUNC,NITRAT,NITRAT_FLAG_W,NRAUNC,NITRIT,NITRIT_FLAG_W,NRIUNC,PHSPHT,PHSPHT_FLAG_W,PHPUNC,CFC-11,CFC-11_FLAG_W,CFC-12,CFC-12_FLAG_W,CFC113,CFC113_FLAG_W,TCARBN,TCARBN_FLAG_W,ALKALI,ALKALI_FLAG_W,PH,PH_FLAG_W,DELC13,DELC13_FLAG_W,C13ERR,DELC14,DELC14_FLAG_W,C14ERR,THETA,SIG0
,,,,,,,,UTC,DEG,DEG,M,DBAR,,ITS-90,,ITS-90,,PSS-78,,PSS-78,,UMOL/KG,,UMOL/KG,,DBAR,,UMOL/KG,,UMOL/KG,,UMOL/KG,,UMOL/KG,UMOL/KG,,UMOL/KG,UMOL/KG,,UMOL/KG,UMOL/KG,,UMOL/KG,PMOL/KG,,PMOL/KG,,PMOL/KG,,UMOL/KG,,UMOL/KG,,,,/MILLE,,/MILLE,/MILLE,,/MILLE,DEG C,KG/CUM
    49MR0505_1,   P03,   112,  1,      0,   -999,9,20051116,2344, 24.3017,-155.2850, 4583,   -999.0,9,-999.0000,9,-999.00000,9,-999.0000,9,  35.3272,2,  -999.00,9,  -999.00,9,   -999.0,9,  -999.00,9,  -999.00,9,  -999.00,9,  -999.00,  -999.00,9,  -999.00,  -999.00,9,  -999.00, -999.000,9, -999.000, -999.000,9, -999.000,9, -999.000,9,   -999.0,9,   -999.0,9,-999.0000,9, -999.000,9, -999.000,   -999.0,9,   -999.0,-999.0000,-999.0000
    49MR0505_1,   P03,   112,  1,     36, X12048,2,20051116,2344, 24.3017,-155.2850, 4583,     10.1,2,  25.0206,2,  25.02117,2,  35.3034,2,  35.3040,2,   193.64,1,   208.98,2,      6.7,2,   209.70,2,   209.56,2,     0.88,2,     0.12,     0.04,2,     0.03,     0.00,2,     0.01,    0.042,2,    0.039,    1.700,2,    1.029,2, -999.000,5,   -999.0,9,   -999.0,9,-999.0000,9, -999.000,9, -999.000,   -999.0,9,   -999.0,  25.0184,  23.5649
    49MR0505_1,   P03,   112,  1,     35, X12047,2,20051116,2344, 24.3017,-155.2850, 4583,     49.8,2,  24.9538,2,  24.95450,2,  35.3483,2,  35.3484,2,   193.71,1,   209.10,2,     49.7,2,   209.49,2,   209.50,2,     0.84,2,     0.12,     0.04,2,     0.03,     0.00,2,     0.01,    0.037,2,    0.043,    1.699,2,    1.024,2, -999.000,5,   -999.0,9,   -999.0,9,-999.0000,9, -999.000,9, -999.000,   -999.0,9,   -999.0,  24.9430,  23.6218
    49MR0505_1,   P03,   112,  1,     34, X12046,2,20051116,2344, 24.3017,-155.2850, 4583,    100.2,2,  23.1654,2,  23.16630,2,  35.2303,2,  35.2226,2,   203.80,1,   220.37,2,     94.7,2,   219.06,2,   219.91,2,     1.18,2,     0.12,     0.03,2,     0.03,     0.01,2,     0.01,    0.049,2,    0.035,    1.957,2,    1.182,2, -999.000,5,   -999.0,9,   -999.0,9,-999.0000,9, -999.000,9, -999.000,   -999.0,9,   -999.0,  23.1448,  24.0664
    49MR0505_1,   P03,   112,  1,     33, X12003,2,20051116,2344, 24.3017,-155.2850, 4583,    150.2,2,  19.9729,2,  19.97384,2,  35.0686,2,  35.0684,2,   188.59,1,   203.68,2,    158.5,2,   201.66,2,   203.98,2,     2.02,2,     0.12,     1.20,2,     0.04,     0.08,2,     0.01,    0.165,2,    0.017,    2.189,2,    1.278,2, -999.000,5,   -999.0,9,   -999.0,9,-999.0000,9, -999.000,9, -999.000,   -999.0,9,   -999.0,  19.9452,  24.8285
    49MR0505_1,   P03,   112,  1,     32, X12044,2,20051116,2344, 24.3017,-155.2850, 4583,    202.4,2,  17.3660,2,  17.36626,2,  34.8150,2,  34.8228,2,   196.70,1,   210.92,2,    202.3,2,   211.41,2,   211.41,2,     3.43,2,     0.13,     2.56,2,     0.04,     0.02,2,     0.01,    0.254,2,    0.015,    2.416,2,    1.377,2, -999.000,5,   -999.0,9,   -999.0,9,-999.0000,9, -999.000,9, -999.000,   -999.0,9,   -999.0,  17.3321,  25.2929
    49MR0505_1,   P03,   112,  1,     31, X12051,2,20051116,2344, 24.3017,-155.2850, 4583,    252.7,2,  15.5132,2,  15.51451,2,  34.6092,2,  34.6106,2,   197.74,1,   212.15,2,    255.7,2,   213.64,2,   213.18,2,     5.30,2,     0.13,     5.11,2,     0.05,     0.01,2,     0.01,    0.416,2,    0.013,    2.603,2,    1.450,2,    0.149,4,   -999.0,9,   -999.0,9,-999.0000,9, -999.000,9, -999.000,   -999.0,9,   -999.0,  15.4741,  25.5657
    49MR0505_1,   P03,   112,  1,     30, X12042,2,20051116,2344, 24.3017,-155.2850, 4583,    301.9,2,  13.5106,2,  13.50818,2,  34.4061,2,  34.3963,2,   196.94,1,   211.60,2,    306.0,2,   211.27,2,   212.16,2,     8.57,2,     0.14,     8.73,2,     0.06,     0.01,2,     0.01,    0.652,2,    0.013,    2.831,2,    1.544,2,    0.088,2,   -999.0,9,   -999.0,9,-999.0000,9, -999.000,9, -999.000,   -999.0,9,   -999.0,  13.4681,  25.8381
    49MR0505_1,   P03,   112,  1,     29, X12041,2,20051116,2344, 24.3017,-155.2850, 4583,    402.5,2,   9.9382,2,   9.93611,2,  34.1211,2,  34.1270,2,   182.85,1,   196.54,2,    410.0,2,   199.71,2,   197.79,2,    19.33,2,     0.16,    16.62,2,     0.08,     0.01,2,     0.01,    1.206,2,    0.013,    3.060,2,    1.555,2,    0.088,2,   -999.0,9,   -999.0,9,-999.0000,9, -999.000,9, -999.000,   -999.0,9,   -999.0,   9.8917,  26.2839
    49MR0505_1,   P03,   112,  1,     28, X12016,2,20051116,2344, 24.3017,-155.2850, 4583,    500.8,2,   7.8415,2,   7.84874,2,  34.0546,2,  34.0538,6,   131.79,1,   142.87,2,    501.5,2,   143.76,2,   141.62,2,    39.37,2,     0.21,    26.54,2,     0.11,     0.00,2,     0.01,    1.920,2,    0.015,    2.242,2,    1.047,2,    0.092,2,   -999.0,9,   -999.0,9,-999.0000,9, -999.000,9, -999.000,   -999.0,9,   -999.0,   7.7911,  26.5621
    49MR0505_1,   P03,   112,  1,     27, X12039,2,20051116,2344, 24.3017,-155.2850, 4583,    601.5,2,   5.8701,2,   5.87201,2,  34.0437,2,  34.0446,2,    80.79,1,    87.91,2,    603.8,2,    91.74,2,    87.80,2,    64.36,2,     0.26,    34.84,2,     0.13,     0.01,2,     0.01,    2.537,2,    0.016,    1.133,2,    0.516,2,    0.036,2,   -999.0,9,   -999.0,9,-999.0000,9, -999.000,9, -999.000,   -999.0,9,   -999.0,   5.8182,  26.8196
    49MR0505_1,   P03,   112,  1,     26, X12038,2,20051116,2344, 24.3017,-155.2850, 4583,    702.7,2,   4.9464,2,   4.93942,2,  34.1468,2,  34.1368,2,    38.18,1,    43.02,2,    700.5,2,    33.32,2,    44.13,2,    87.16,2,     0.31,    40.14,2,     0.15,     0.01,2,     0.01,    2.939,2,    0.017,    0.358,2,    0.161,2,    0.000,2,   -999.0,9,   -999.0,9,-999.0000,9, -999.000,9, -999.000,   -999.0,9,   -999.0,   4.8901,  27.0113
    49MR0505_1,   P03,   112,  1,     25, X12037,2,20051116,2344, 24.3017,-155.2850, 4583,    801.7,2,   4.4828,2,   4.48294,2,  34.2623,2,  34.2621,2,    20.79,1,    22.83,2,    798.1,2,    21.89,2,    22.27,2,   101.29,2,     0.34,    42.63,2,     0.15,     0.00,2,     0.01,    3.138,2,    0.018,    0.058,6,    0.032,6,    0.000,6,   -999.0,9,   -999.0,9,-999.0000,9, -999.000,9, -999.000,   -999.0,9,   -999.0,   4.4207,  27.1549
    49MR0505_1,   P03,   112,  1,     24, X12008,2,20051116,2344, 24.3017,-155.2850, 4583,    903.1,2,   4.3305,2,   4.33030,2,  34.3684,2,  34.3677,2,    25.66,1,    27.84,2,    899.2,2,    27.43,2,    27.40,2,   105.52,2,     0.35,    42.64,2,     0.15,     0.01,2,     0.01,    3.122,2,    0.018,    0.021,2,    0.012,2,    0.000,2,   -999.0,9,   -999.0,9,-999.0000,9, -999.000,9, -999.000,   -999.0,9,   -999.0,   4.2607,  27.2564
    49MR0505_1,   P03,   112,  1,     23, X12035,2,20051116,2344, 24.3017,-155.2850, 4583,   1003.3,2,   3.9678,2,   3.96757,2,  34.4364,2,  34.4342,6,    32.59,1,    35.05,2,   1000.5,2,    36.44,2,    34.76,2,   113.57,2,     0.37,    42.72,2,     0.15,     0.01,2,     0.01,    3.116,2,    0.018,    0.003,2,    0.003,2,    0.000,2,   -999.0,9,   -999.0,9,-999.0000,9, -999.000,9, -999.000,   -999.0,9,   -999.0,   3.8922,  27.3489
    49MR0505_1,   P03,   112,  1,     22, X12034,2,20051116,2344, 24.3017,-155.2850, 4583,   1204.9,2,   3.5273,2,   3.52754,2,  34.5090,2,  34.5080,2,    45.68,1,    49.24,2,   1201.8,2,    49.70,2,    49.29,2,   122.10,2,     0.39,    42.29,2,     0.15,     0.01,2,     0.01,    3.055,2,    0.018,    0.002,2,    0.002,2,    0.000,2,   -999.0,9,   -999.0,9,-999.0000,9, -999.000,9, -999.000,   -999.0,9,   -999.0,   3.4386,  27.4518
    49MR0505_1,   P03,   112,  1,     21, X12033,2,20051116,2344, 24.3017,-155.2850, 4583,   1401.9,2,   3.0512,2,   3.05133,2,  34.5506,2,  34.5503,2,    56.71,1,    61.34,2,   1401.0,2,    60.39,2,    61.19,2,   132.50,2,     0.41,    41.71,2,     0.15,     0.01,2,     0.01,    3.012,2,    0.017,    0.000,2,    0.000,2,    0.000,2,   -999.0,9,   -999.0,9,-999.0000,9, -999.000,9, -999.000,   -999.0,9,   -999.0,   2.9510,  27.5308
    49MR0505_1,   P03,   112,  1,     20, X12032,2,20051116,2344, 24.3017,-155.2850, 4583,   1600.4,2,   2.7127,2,   2.71254,2,  34.5741,2,  34.5740,2,    63.70,1,    69.17,2,   1598.8,2,    69.10,2,    69.04,2,   140.57,2,     0.43,    41.47,2,     0.15,     0.01,2,     0.01,    2.972,2,    0.017,    0.000,2,    0.000,2,    0.000,2,   -999.0,9,   -999.0,9,-999.0000,9, -999.000,9, -999.000,   -999.0,9,   -999.0,   2.5999,  27.5808
    49MR0505_1,   P03,   112,  1,     19, X12001,2,20051116,2344, 24.3017,-155.2850, 4583,   1801.5,2,   2.3872,2,   2.38740,2,  34.5963,2,  34.5963,2,    71.14,1,    77.34,2,   1800.1,2,    77.43,2,    77.18,2,   148.56,2,     0.45,    40.91,2,     0.15,     0.01,2,     0.01,    2.932,2,    0.017,    0.001,2,    0.000,2,    0.000,2,   -999.0,9,   -999.0,9,-999.0000,9, -999.000,9, -999.000,   -999.0,9,   -999.0,   2.2619,  27.6271
    49MR0505_1,   P03,   112,  1,     18, X12030,2,20051116,2344, 24.3017,-155.2850, 4583,   1998.6,2,   2.1223,2,   2.12230,2,  34.6150,2,  34.6151,2,    78.37,1,    85.42,2,   1998.0,2,    84.87,2,    85.27,2,   155.73,2,     0.46,    40.56,2,     0.15,     0.00,2,     0.01,    2.891,2,    0.017,    0.005,2,    0.000,2,    0.000,2,   -999.0,9,   -999.0,9,-999.0000,9, -999.000,9, -999.000,   -999.0,9,   -999.0,   1.9842,  27.6644
    49MR0505_1,   P03,   112,  1,     17, X12049,2,20051116,2344, 24.3017,-155.2850, 4583,   2201.9,2,   1.9603,2,   1.95997,2,  34.6275,2,  34.6270,6,    83.34,1,    90.82,2,   2201.1,2,    91.39,2,    90.47,2,   160.17,2,     0.47,    40.21,2,     0.15,     0.01,2,     0.01,    2.857,2,    0.017, -999.000,9, -999.000,9, -999.000,9,   -999.0,9,   -999.0,9,-999.0000,9, -999.000,9, -999.000,   -999.0,9,   -999.0,   1.8073,  27.6882
    49MR0505_1,   P03,   112,  1,     16, X12028,2,20051116,2344, 24.3017,-155.2850, 4583,   2401.1,2,   1.8054,2,   1.80526,2,  34.6410,2,  34.6410,2,    91.85,1,   100.30,2,   2401.6,2,    98.80,2,   100.05,2,   162.73,2,     0.48,    39.63,2,     0.14,     0.01,2,     0.01,    2.809,2,    0.017, -999.000,9, -999.000,9, -999.000,9,   -999.0,9,   -999.0,9,-999.0000,9, -999.000,9, -999.000,   -999.0,9,   -999.0,   1.6376,  27.7119
    49MR0505_1,   P03,   112,  1,     15, X12006,2,20051116,2344, 24.3017,-155.2850, 4583,   2600.6,2,   1.6870,2,   1.68724,2,  34.6516,2,  34.6518,2,   100.33,1,   109.28,2,   2600.4,2,   108.72,2,   109.33,2,   163.38,2,     0.48,    39.10,2,     0.14,     0.01,2,     0.01,    2.755,2,    0.017, -999.000,9, -999.000,9, -999.000,9,   -999.0,9,   -999.0,9,-999.0000,9, -999.000,9, -999.000,   -999.0,9,   -999.0,   1.5035,  27.7303
    49MR0505_1,   P03,   112,  1,     14, X12026,2,20051116,2344, 24.3017,-155.2850, 4583,   2803.5,2,   1.6064,2,   1.60631,2,  34.6598,2,  34.6598,2,   108.08,1,   117.85,2,   2803.9,2,   116.56,2,   117.78,2,   162.59,2,     0.48,    38.48,2,     0.14,     0.01,2,     0.01,    2.712,2,    0.017,    0.002,2,    0.001,2,    0.000,2,   -999.0,9,   -999.0,9,-999.0000,9, -999.000,9, -999.000,   -999.0,9,   -999.0,   1.4059,  27.7440
    49MR0505_1,   P03,   112,  1,     13, X12025,2,20051116,2344, 24.3017,-155.2850, 4583,   3003.9,2,   1.5511,2,   1.55123,2,  34.6677,2,  34.6677,2,   114.92,1,   125.22,2,   3004.3,2,   124.18,2,   125.18,2,   161.78,2,     0.47,    38.02,2,     0.14,     0.00,2,     0.01,    2.676,2,    0.017, -999.000,9, -999.000,9, -999.000,9,   -999.0,9,   -999.0,9,-999.0000,9, -999.000,9, -999.000,   -999.0,9,   -999.0,   1.3328,  27.7555
    49MR0505_1,   P03,   112,  1,     12, X12024,2,20051116,2344, 24.3017,-155.2850, 4583,   3249.2,2,   1.5075,2,   1.50750,2,  34.6741,2,  34.6740,6,   121.77,1,   132.45,2,   3249.4,2,   131.56,2,   132.48,2,   159.69,2,     0.47,    37.49,2,     0.14,     0.01,2,     0.01,    2.622,2,    0.017, -999.000,9, -999.000,9, -999.000,9,   -999.0,9,   -999.0,9,-999.0000,9, -999.000,9, -999.000,   -999.0,9,   -999.0,   1.2664,  27.7653
    49MR0505_1,   P03,   112,  1,     11, X12023,2,20051116,2344, 24.3017,-155.2850, 4583,   3501.1,2,   1.4804,2,   1.48025,2,  34.6786,2,  34.6788,2,   127.87,1,   138.79,2,   3501.4,2,   138.12,2,   139.07,2,   157.91,2,     0.47,    37.06,2,     0.14,     0.01,2,     0.01,    2.594,2,    0.016, -999.000,9, -999.000,9, -999.000,9,   -999.0,9,   -999.0,9,-999.0000,9, -999.000,9, -999.000,   -999.0,9,   -999.0,   1.2147,  27.7725
    49MR0505_1,   P03,   112,  1,     10, X12022,2,20051116,2344, 24.3017,-155.2850, 4583,   3750.1,2,   1.4725,2,   1.47256,2,  34.6820,2,  34.6820,2,   132.21,1,   143.05,2,   3750.2,2,   143.46,2,   143.41,2,   156.13,2,     0.46,    36.80,2,     0.14,     0.00,2,     0.01,    2.576,2,    0.016,    0.000,2,    0.002,2,    0.000,2,   -999.0,9,   -999.0,9,-999.0000,9, -999.000,9, -999.000,   -999.0,9,   -999.0,   1.1811,  27.7776
    49MR0505_1,   P03,   112,  1,      9, X12021,2,20051116,2344, 24.3017,-155.2850, 4583,   3999.8,2,   1.4757,2,   1.47563,2,  34.6842,2,  34.6842,2,   135.73,1,   146.30,2,   3999.7,2,   147.04,2,   146.77,2,   154.83,2,     0.46,    36.59,2,     0.14,     0.01,2,     0.01,    2.558,2,    0.016, -999.000,9, -999.000,9, -999.000,9,   -999.0,9,   -999.0,9,-999.0000,9, -999.000,9, -999.000,   -999.0,9,   -999.0,   1.1575,  27.7810
    49MR0505_1,   P03,   112,  1,      8, X12020,2,20051116,2344, 24.3017,-155.2850, 4583,   4251.9,2,   1.4905,2,   1.49050,2,  34.6857,2,  34.6855,6,   138.02,1,   148.32,2,   4251.9,2,   148.87,2,   148.72,2,   153.84,2,     0.46,    36.39,2,     0.13,     0.00,2,     0.01,    2.550,2,    0.016, -999.000,9, -999.000,9, -999.000,9,   -999.0,9,   -999.0,9,-999.0000,9, -999.000,9, -999.000,   -999.0,9,   -999.0,   1.1440,  27.7831
    49MR0505_1,   P03,   112,  1,      7, X12019,2,20051116,2344, 24.3017,-155.2850, 4583,   4499.9,2,   1.5129,2,   1.51316,2,  34.6864,2,  34.6862,2,   139.58,1,   149.23,2,   4499.9,2,   149.96,2,   149.50,2,   153.34,2,     0.46,    36.36,2,     0.13,     0.00,2,     0.01,    2.540,2,    0.016, -999.000,9, -999.000,9, -999.000,9,   -999.0,9,   -999.0,9,-999.0000,9, -999.000,9, -999.000,   -999.0,9,   -999.0,   1.1375,  27.7841
    49MR0505_1,   P03,   112,  1,      6, X12018,9,20051116,2344, 24.3017,-155.2850, 4583,     50.1,2,  24.9556,2,  24.95588,2,  35.3488,2,-999.0000,9,   193.42,1,   208.82,2,     50.0,2,   209.52,2,  -999.00,9,  -999.00,9,  -999.00,  -999.00,9,  -999.00,  -999.00,9,  -999.00, -999.000,9, -999.000, -999.000,9, -999.000,9, -999.000,9,   -999.0,9,   -999.0,9,-999.0000,9, -999.000,9, -999.000,   -999.0,9,   -999.0,  24.9447,  23.6217
    49MR0505_1,   P03,   112,  1,      5, X12043,9,20051116,2344, 24.3017,-155.2850, 4583,     10.0,2,  25.0193,2,  25.01967,2,  35.3025,2,-999.0000,9,   193.69,1,   209.50,2,      6.6,2,   209.68,2,  -999.00,9,  -999.00,9,  -999.00,  -999.00,9,  -999.00,  -999.00,9,  -999.00, -999.000,9, -999.000, -999.000,9, -999.000,9, -999.000,9,   -999.0,9,   -999.0,9,-999.0000,9, -999.000,9, -999.000,   -999.0,9,   -999.0,  25.0171,  23.5646
    49MR0505_1,   P03,   112,  1,      4, X12010,2,20051116,2344, 24.3017,-155.2850, 4583,   1999.5,2,   2.1221,2,   2.12212,2,  34.6151,2,-999.0000,9,    78.39,1,    85.43,2,   1998.9,2,    84.83,2,  -999.00,9,  -999.00,9,  -999.00,  -999.00,9,  -999.00,  -999.00,9,  -999.00, -999.000,9, -999.000, -999.000,9, -999.000,9, -999.000,9,   -999.0,9,   -999.0,9,-999.0000,9, -999.000,9, -999.000,   -999.0,9,   -999.0,   1.9839,  27.6645
    49MR0505_1,   P03,   112,  1,      3, X12015,2,20051116,2344, 24.3017,-155.2850, 4583,   4001.0,2,   1.4755,2,   1.47569,2,  34.6844,2,-999.0000,9,   135.73,1,   146.33,2,   4001.0,2,   147.07,2,  -999.00,9,  -999.00,9,  -999.00,  -999.00,9,  -999.00,  -999.00,9,  -999.00, -999.000,9, -999.000, -999.000,9, -999.000,9, -999.000,9,   -999.0,9,   -999.0,9,-999.0000,9, -999.000,9, -999.000,   -999.0,9,   -999.0,   1.1572,  27.7812
    49MR0505_1,   P03,   112,  1,      2, X12014,2,20051116,2344, 24.3017,-155.2850, 4583,   4645.1,2,   1.5139,2,   1.51387,2,  34.6875,2,-999.0000,9,   142.27,1,   151.76,2,   4645.1,2,   151.63,2,  -999.00,9,  -999.00,9,  -999.00,  -999.00,9,  -999.00,  -999.00,9,  -999.00, -999.000,9, -999.000, -999.000,9, -999.000,9, -999.000,9,   -999.0,9,   -999.0,9,-999.0000,9, -999.000,9, -999.000,   -999.0,9,   -999.0,   1.1216,  27.7861
    49MR0505_1,   P03,   112,  1,      1, X12013,2,20051116,2344, 24.3017,-155.2850, 4583,   4645.9,2,   1.5139,2,   1.51390,2,  34.6877,2,  34.6878,6,   142.20,1,   151.72,2,   4646.0,2,   151.70,2,   151.69,2,   152.50,2,     0.45,    36.22,2,     0.13,     0.00,2,     0.01,    2.531,2,    0.016,    0.000,2,    0.001,2,    0.000,2,   -999.0,9,   -999.0,9,-999.0000,9, -999.000,9, -999.000,   -999.0,9,   -999.0,   1.1215,  27.7862