BOTTLE,20100316JAMSTECRIGC
EXPOCODE,SECT,STNNBR,CASTNO,SAMPNO,BTLNBR,BTLNBR_FLAG_W,DATE,TIME,LATITUDE,LONGITUDE,DEPTH,CTDPRS,CTDPRS_FLAG_W,CTDTMP,CTDTMP_FLAG_W,SBE35,SBE35_FLAG_W,CTDSAL,CTDSAL_FLAG_W,SALNTY,SALNTY_FLAG_W,CTDOXY,CTDOXY_FLAG_W,OPTOXY,OPTOXY_FLAG_W,DWNPRS,DWNPRS_FLAG_W,DWNOXY,DWNOXY_FLAG_W,OXYGEN,OXYGEN_FLAG_W,SILCAT,SILCAT_FLAG_W,SILUNC,NITRAT,NITRAT_FLAG_W,NRAUNC,NITRIT,NITRIT_FLAG_W,NRIUNC,PHSPHT,PHSPHT_FLAG_W,PHPUNC,CFC-11,CFC-11_FLAG_W,CFC-12,CFC-12_FLAG_W,CFC113,CFC113_FLAG_W,TCARBN,TCARBN_FLAG_W,ALKALI,ALKALI_FLAG_W,PH,PH_FLAG_W,DELC13,DELC13_FLAG_W,C13ERR,DELC14,DELC14_FLAG_W,C14ERR,THETA,SIG0
,,,,,,,,UTC,DEG,DEG,M,DBAR,,ITS-90,,ITS-90,,PSS-78,,PSS-78,,UMOL/KG,,UMOL/KG,,DBAR,,UMOL/KG,,UMOL/KG,,UMOL/KG,,UMOL/KG,UMOL/KG,,UMOL/KG,UMOL/KG,,UMOL/KG,UMOL/KG,,UMOL/KG,PMOL/KG,,PMOL/KG,,PMOL/KG,,UMOL/KG,,UMOL/KG,,,,/MILLE,,/MILLE,/MILLE,,/MILLE,DEG C,KG/CUM
    49MR0505_1,   P03,    66,  1,      0,   -999,9,20051109,0454, 24.2347,-137.2307, 4828,   -999.0,9,-999.0000,9,-999.00000,9,-999.0000,9,  35.2588,2,  -999.00,9,  -999.00,9,   -999.0,9,  -999.00,9,  -999.00,9,  -999.00,9,  -999.00,  -999.00,9,  -999.00,  -999.00,9,  -999.00, -999.000,9, -999.000, -999.000,9, -999.000,9, -999.000,9,   -999.0,9,   -999.0,9,-999.0000,9, -999.000,9, -999.000,   -999.0,9,   -999.0,-999.0000,-999.0000
    49MR0505_1,   P03,    66,  1,     36, X12048,2,20051109,0454, 24.2347,-137.2307, 4828,     10.3,2,  22.1755,2,  22.17636,2,  35.2308,2,  35.2304,2,   209.26,1,   221.02,2,      9.9,2,   221.16,2,   220.42,2,     1.34,2,     0.12,     0.03,2,     0.03,     0.00,2,     0.01,    0.090,2,    0.023,    1.900,2,    1.170,2, -999.000,5,   -999.0,9,   -999.0,9,-999.0000,9, -999.000,9, -999.000,   -999.0,9,   -999.0,  22.1735,  24.3444
    49MR0505_1,   P03,    66,  1,     35, X12047,2,20051109,0454, 24.2347,-137.2307, 4828,     51.2,2,  22.1888,2,  22.18907,2,  35.2310,2,  35.2313,2,   208.98,1,   220.84,2,     51.2,2,   220.40,2,   220.35,2,     1.36,2,     0.12,     0.02,2,     0.03,     0.00,2,     0.01,    0.089,2,    0.023, -999.000,9, -999.000,9, -999.000,9,   -999.0,9,   -999.0,9,-999.0000,9, -999.000,9, -999.000,   -999.0,9,   -999.0,  22.1786,  24.3432
    49MR0505_1,   P03,    66,  1,     34, X12046,2,20051109,0454, 24.2347,-137.2307, 4828,    100.7,2,  20.6494,2,  20.65365,2,  35.0436,2,  35.0402,2,   221.78,1,   234.46,2,     97.8,2,   231.76,2,   233.02,2,     1.59,2,     0.12,     0.02,2,     0.03,     0.00,2,     0.01,    0.073,2,    0.027,    2.126,2,    1.284,2, -999.000,5,   -999.0,9,   -999.0,9,-999.0000,9, -999.000,9, -999.000,   -999.0,9,   -999.0,  20.6304,  24.6271
    49MR0505_1,   P03,    66,  1,     33, X12003,2,20051109,0454, 24.2347,-137.2307, 4828,    150.5,2,  18.3435,2,  18.32537,2,  34.7515,2,  34.7699,2,   205.17,1,   217.27,2,    147.3,2,   214.05,2,   216.10,2,     2.23,2,     0.12,     0.61,2,     0.03,     0.13,2,     0.01,    0.179,2,    0.017, -999.000,9, -999.000,9, -999.000,9,   -999.0,9,   -999.0,9,-999.0000,9, -999.000,9, -999.000,   -999.0,9,   -999.0,  18.3174,  25.0031
    49MR0505_1,   P03,    66,  1,     32, X12044,2,20051109,0454, 24.2347,-137.2307, 4828,    199.7,2,  14.5771,2,  14.57497,2,  34.3102,2,  34.3102,2,   198.20,1,   208.10,2,    196.5,2,   208.33,2,   208.22,2,     5.39,2,     0.13,     5.70,2,     0.05,     0.01,2,     0.01,    0.500,2,    0.013,    2.795,2,    1.543,2,    0.100,4,   -999.0,9,   -999.0,9,-999.0000,9, -999.000,9, -999.000,   -999.0,9,   -999.0,  14.5476,  25.5380
    49MR0505_1,   P03,    66,  1,     31, X12051,2,20051109,0454, 24.2347,-137.2307, 4828,    251.2,2,  11.9372,2,  11.93541,2,  34.1424,2,  34.1414,2,   205.07,1,   214.84,2,    255.2,2,   214.49,2,   215.04,2,    10.15,2,     0.14,    10.51,2,     0.06,     0.01,2,     0.01,    0.798,2,    0.013, -999.000,9, -999.000,9, -999.000,9,   -999.0,9,   -999.0,9,-999.0000,9, -999.000,9, -999.000,   -999.0,9,   -999.0,  11.9048,  25.9410
    49MR0505_1,   P03,    66,  1,     30, X12042,2,20051109,0454, 24.2347,-137.2307, 4828,    303.0,2,  10.4413,2,  10.44270,2,  34.0813,2,  34.0857,2,   198.71,1,   208.47,2,    306.9,2,   210.61,2,   208.62,2,    15.31,2,     0.15,    14.35,2,     0.07,     0.00,2,     0.01,    1.052,2,    0.013,    3.235,2,    1.693,2,    0.095,2,   -999.0,9,   -999.0,9,-999.0000,9, -999.000,9, -999.000,   -999.0,9,   -999.0,  10.4054,  26.1650
    49MR0505_1,   P03,    66,  1,     29, X12041,2,20051109,0454, 24.2347,-137.2307, 4828,    399.5,2,   8.2393,2,   8.24194,2,  34.0517,2,  34.0521,2,   151.63,1,   159.32,2,    401.9,2,   162.51,2,   159.23,2,    33.47,2,     0.19,    24.10,2,     0.10,     0.00,2,     0.01,    1.725,2,    0.014,    2.771,2,    1.366,2,    0.089,2,   -999.0,9,   -999.0,9,-999.0000,9, -999.000,9, -999.000,   -999.0,9,   -999.0,   8.1982,  26.4995
    49MR0505_1,   P03,    66,  1,     28, X12016,2,20051109,0454, 24.2347,-137.2307, 4828,    501.3,2,   6.1675,2,   6.16724,2,  34.0211,2,  34.0214,6,    93.35,1,    98.09,2,    503.3,2,    96.85,2,    97.93,2,    58.35,2,     0.25,    33.60,2,     0.13,     0.00,2,     0.01,    2.438,2,    0.016,    1.475,2,    0.682,2,    0.039,2,   -999.0,9,   -999.0,9,-999.0000,9, -999.000,9, -999.000,   -999.0,9,   -999.0,   6.1234,  26.7635
    49MR0505_1,   P03,    66,  1,     27, X12039,2,20051109,0454, 24.2347,-137.2307, 4828,    600.6,2,   5.0040,2,   5.00364,2,  34.1143,2,  34.1154,2,    41.40,1,    43.23,2,    603.3,2,    46.20,2,    43.52,2,    84.49,2,     0.30,    40.12,2,     0.15,     0.00,2,     0.01,    2.945,2,    0.017,    0.386,2,    0.173,2,    0.000,2,   -999.0,9,   -999.0,9,-999.0000,9, -999.000,9, -999.000,   -999.0,9,   -999.0,   4.9561,  26.9781
    49MR0505_1,   P03,    66,  1,     26, X12038,2,20051109,0454, 24.2347,-137.2307, 4828,    699.3,2,   4.5705,2,   4.57042,2,  34.2704,2,  34.2679,2,    16.45,1,    17.40,2,    701.0,2,    18.10,2,    17.39,2,    99.88,2,     0.34,    42.71,2,     0.15,     0.00,2,     0.01,    3.181,2,    0.018,    0.044,2,    0.019,2,    0.000,2,   -999.0,9,   -999.0,9,-999.0000,9, -999.000,9, -999.000,   -999.0,9,   -999.0,   4.5164,  27.1510
    49MR0505_1,   P03,    66,  1,     25, X12037,2,20051109,0454, 24.2347,-137.2307, 4828,    800.7,2,   4.3133,2,   4.31058,2,  34.3872,2,  34.3855,2,    20.10,1,    21.08,2,    804.5,2,    21.14,2,    21.28,2,   106.97,2,     0.35,    43.19,2,     0.15,     0.00,2,     0.01,    3.194,2,    0.018,    0.013,2,    0.004,2,    0.000,2,   -999.0,9,   -999.0,9,-999.0000,9, -999.000,9, -999.000,   -999.0,9,   -999.0,   4.2521,  27.2723
    49MR0505_1,   P03,    66,  1,     24, X12008,2,20051109,0454, 24.2347,-137.2307, 4828,    899.5,2,   4.2213,2,   4.22130,2,  34.4608,2,  34.4608,2,    27.06,1,    28.33,2,    903.2,2,    28.45,2,    28.56,2,   108.11,2,     0.36,    43.18,2,     0.15,     0.00,2,     0.01,    3.178,2,    0.018,    0.003,2,    0.001,2,    0.000,2,   -999.0,9,   -999.0,9,-999.0000,9, -999.000,9, -999.000,   -999.0,9,   -999.0,   4.1525,  27.3413
    49MR0505_1,   P03,    66,  1,     23, X12035,2,20051109,0454, 24.2347,-137.2307, 4828,   1000.7,2,   3.9731,2,   3.97318,2,  34.4919,2,  34.4915,6,    33.61,1,    34.99,2,   1002.9,2,    35.46,2,    35.28,2,   113.36,2,     0.37,    43.09,2,     0.15,     0.00,2,     0.01,    3.158,2,    0.018,    0.000,2,    0.000,2,    0.000,2,   -999.0,9,   -999.0,9,-999.0000,9, -999.000,9, -999.000,   -999.0,9,   -999.0,   3.8976,  27.3925
    49MR0505_1,   P03,    66,  1,     22, X12034,2,20051109,0454, 24.2347,-137.2307, 4828,   1200.9,2,   3.4196,2,   3.42039,2,  34.5336,2,  34.5330,2,    41.46,1,    43.22,2,   1203.3,2,    43.22,2,    43.80,2,   126.26,2,     0.40,    43.03,2,     0.15,     0.00,2,     0.01,    3.138,2,    0.018,    0.004,2,    0.000,2,    0.000,2,   -999.0,9,   -999.0,9,-999.0000,9, -999.000,9, -999.000,   -999.0,9,   -999.0,   3.3322,  27.4817
    49MR0505_1,   P03,    66,  1,     21, X12033,2,20051109,0454, 24.2347,-137.2307, 4828,   1400.1,2,   3.0204,2,   3.02053,2,  34.5619,2,  34.5616,2,    48.74,1,    51.00,2,   1400.3,2,    52.03,2,    51.42,2,   136.17,2,     0.42,    42.59,2,     0.15,     0.00,2,     0.01,    3.108,2,    0.018,    0.000,2,    0.004,2,    0.000,2,   -999.0,9,   -999.0,9,-999.0000,9, -999.000,9, -999.000,   -999.0,9,   -999.0,   2.9206,  27.5426
    49MR0505_1,   P03,    66,  1,     20, X12032,2,20051109,0454, 24.2347,-137.2307, 4828,   1600.5,2,   2.6583,2,   2.65817,2,  34.5874,2,  34.5872,2,    58.50,1,    61.50,2,   1601.0,2,    61.85,2,  -999.00,5,   144.78,2,     0.44,    42.15,2,     0.15,     0.00,2,     0.01,    3.047,2,    0.018,    0.003,2,    0.001,2,    0.000,2,   -999.0,9,   -999.0,9,-999.0000,9, -999.000,9, -999.000,   -999.0,9,   -999.0,   2.5462,  27.5960
    49MR0505_1,   P03,    66,  1,     19, X12001,2,20051109,0454, 24.2347,-137.2307, 4828,   1800.2,2,   2.3464,2,   2.34726,2,  34.6088,2,  34.6084,2,    69.71,1,    73.61,2,   1800.0,2,    74.05,2,    73.74,2,   152.00,2,     0.45,    41.49,2,     0.15,     0.00,2,     0.01,    2.975,2,    0.017,    0.000,2,    0.000,2,    0.000,2,   -999.0,9,   -999.0,9,-999.0000,9, -999.000,9, -999.000,   -999.0,9,   -999.0,   2.2217,  27.6404
    49MR0505_1,   P03,    66,  1,     18, X12030,2,20051109,0454, 24.2347,-137.2307, 4828,   2001.2,2,   2.1040,2,   2.10413,2,  34.6255,2,  34.6252,6,    80.32,1,    84.98,2,   2001.4,2,    84.97,2,    84.93,2,   156.67,2,     0.46,    40.66,2,     0.15,     0.00,2,     0.01,    2.908,2,    0.017,    0.002,2,    0.000,2,    0.000,2,   -999.0,9,   -999.0,9,-999.0000,9, -999.000,9, -999.000,   -999.0,9,   -999.0,   1.9659,  27.6743
    49MR0505_1,   P03,    66,  1,     17, X12049,2,20051109,0454, 24.2347,-137.2307, 4828,   2199.4,2,   1.9295,2,   1.92956,2,  34.6385,2,  34.6384,2,    88.42,1,    93.90,2,   2199.6,2,    93.62,2,    93.77,2,   160.89,2,     0.47,    40.05,2,     0.14,     0.00,2,     0.01,    2.851,2,    0.017, -999.000,9, -999.000,9, -999.000,9,   -999.0,9,   -999.0,9,-999.0000,9, -999.000,9, -999.000,   -999.0,9,   -999.0,   1.7772,  27.6994
    49MR0505_1,   P03,    66,  1,     16, X12028,2,20051109,0454, 24.2347,-137.2307, 4828,   2400.4,2,   1.7812,2,   1.78127,2,  34.6491,2,  34.6489,2,    96.39,1,   102.28,2,   2401.0,2,   101.26,2,   102.28,2,   163.74,2,     0.48,    39.60,2,     0.14,     0.00,2,     0.01,    2.807,2,    0.017, -999.000,9, -999.000,9, -999.000,9,   -999.0,9,   -999.0,9,-999.0000,9, -999.000,9, -999.000,   -999.0,9,   -999.0,   1.6139,  27.7202
    49MR0505_1,   P03,    66,  1,     15, X12009,2,20051109,0454, 24.2347,-137.2307, 4828,   2600.5,2,   1.6774,2,   1.67747,2,  34.6570,2,  34.6566,2,   102.98,1,   109.35,2,   2600.5,2,   109.37,2,   109.38,2,   166.14,2,     0.48,    39.13,2,     0.14,     0.00,2,     0.01,    2.765,2,    0.017, -999.000,9, -999.000,9, -999.000,9,   -999.0,9,   -999.0,9,-999.0000,9, -999.000,9, -999.000,   -999.0,9,   -999.0,   1.4941,  27.7354
    49MR0505_1,   P03,    66,  1,     14, X12026,2,20051109,0454, 24.2347,-137.2307, 4828,   4902.6,2,   1.4786,2,   1.47850,2,  34.6936,2,  34.6939,2,   157.25,1,   163.24,2,   4902.6,2,   162.85,2,   162.85,2,   145.11,2,     0.44,    35.58,2,     0.13,     0.00,2,     0.01,    2.471,2,    0.016, -999.000,9, -999.000,9, -999.000,9,   -999.0,9,   -999.0,9,-999.0000,9, -999.000,9, -999.000,   -999.0,9,   -999.0,   1.0568,  27.7953
    49MR0505_1,   P03,    66,  1,     13, X12025,2,20051109,0454, 24.2347,-137.2307, 4828,   3002.5,2,   1.5449,2,   1.54497,2,  34.6706,2,  34.6705,6,   116.64,1,   123.97,2,   3002.5,2,   123.74,2,   123.93,2,   165.80,2,     0.48,    38.12,2,     0.14,     0.00,2,     0.01,    2.680,2,    0.017, -999.000,9, -999.000,9, -999.000,9,   -999.0,9,   -999.0,9,-999.0000,9, -999.000,9, -999.000,   -999.0,9,   -999.0,   1.3269,  27.7582
    49MR0505_1,   P03,    66,  1,     12, X12024,2,20051109,0454, 24.2347,-137.2307, 4828,   3250.6,2,   1.5067,2,   1.50675,2,  34.6761,2,  34.6760,2,   123.29,1,   130.83,2,   3251.0,2,   130.13,2,   130.97,2,   164.48,2,     0.48,    37.70,2,     0.14,     0.00,2,     0.01,    2.637,2,    0.017, -999.000,9, -999.000,9, -999.000,9,   -999.0,9,   -999.0,9,-999.0000,9, -999.000,9, -999.000,   -999.0,9,   -999.0,   1.2655,  27.7670
    49MR0505_1,   P03,    66,  1,     11, X12023,2,20051109,0454, 24.2347,-137.2307, 4828,   3500.8,2,   1.4874,2,   1.48738,2,  34.6801,2,  34.6802,2,   128.69,1,   136.27,2,   3500.8,2,   136.24,2,   136.18,2,   162.50,2,     0.48,    37.43,2,     0.14,     0.00,2,     0.01,    2.612,2,    0.017, -999.000,9, -999.000,9, -999.000,9,   -999.0,9,   -999.0,9,-999.0000,9, -999.000,9, -999.000,   -999.0,9,   -999.0,   1.2215,  27.7733
    49MR0505_1,   P03,    66,  1,     10, X12022,2,20051109,0454, 24.2347,-137.2307, 4828,   3749.4,2,   1.4749,2,   1.47482,2,  34.6836,2,  34.6832,2,   134.13,1,   141.58,2,   3749.4,2,   141.62,2,   141.73,2,   160.15,2,     0.47,    37.07,2,     0.14,     0.00,2,     0.01,    2.586,2,    0.016, -999.000,9, -999.000,9, -999.000,9,   -999.0,9,   -999.0,9,-999.0000,9, -999.000,9, -999.000,   -999.0,9,   -999.0,   1.1835,  27.7787
    49MR0505_1,   P03,    66,  1,      9, X12021,2,20051109,0454, 24.2347,-137.2307, 4828,   3999.5,2,   1.4763,2,   1.47632,2,  34.6861,2,  34.6858,6,   138.38,1,   145.71,2,   3999.4,2,   146.25,2,   145.81,2,   158.07,2,     0.47,    36.78,2,     0.14,     0.00,2,     0.01,    2.564,2,    0.016, -999.000,9, -999.000,9, -999.000,9,   -999.0,9,   -999.0,9,-999.0000,9, -999.000,9, -999.000,   -999.0,9,   -999.0,   1.1581,  27.7824
    49MR0505_1,   P03,    66,  1,      8, X12020,2,20051109,0454, 24.2347,-137.2307, 4828,   4250.4,2,   1.4841,2,   1.48405,2,  34.6879,2,  34.6878,2,   142.12,1,   149.19,2,   4250.6,2,   149.11,2,   149.38,2,   155.66,2,     0.46,    36.60,2,     0.14,     0.00,2,     0.01,    2.544,2,    0.016, -999.000,9, -999.000,9, -999.000,9,   -999.0,9,   -999.0,9,-999.0000,9, -999.000,9, -999.000,   -999.0,9,   -999.0,   1.1380,  27.7853
    49MR0505_1,   P03,    66,  1,      7, X12019,2,20051109,0454, 24.2347,-137.2307, 4828,   4500.7,2,   1.4862,2,   1.48628,2,  34.6899,2,  34.6900,2,   147.06,1,   153.80,2,   4500.6,2,   154.21,2,   153.75,2,   151.38,2,     0.45,    36.33,2,     0.13,     0.00,2,     0.01,    2.518,2,    0.016, -999.000,9, -999.000,9, -999.000,9,   -999.0,9,   -999.0,9,-999.0000,9, -999.000,9, -999.000,   -999.0,9,   -999.0,   1.1116,  27.7887
    49MR0505_1,   P03,    66,  1,      6, X12018,2,20051109,0454, 24.2347,-137.2307, 4828,   4751.0,2,   1.4750,2,   1.47499,2,  34.6927,2,  34.6929,2,   154.05,1,   160.35,2,   4751.1,2,   160.00,2,   160.34,2,   146.92,2,     0.44,    35.74,2,     0.13,     0.00,2,     0.01,    2.483,2,    0.016, -999.000,9, -999.000,9, -999.000,9,   -999.0,9,   -999.0,9,-999.0000,9, -999.000,9, -999.000,   -999.0,9,   -999.0,   1.0714,  27.7936
    49MR0505_1,   P03,    66,  1,      5, X12043,9,20051109,0454, 24.2347,-137.2307, 4828,   1001.6,2,   3.9735,2,   3.97351,2,  34.4919,2,-999.0000,9,    33.57,1,    34.98,2,   1003.6,2,    35.47,2,  -999.00,9,  -999.00,9,  -999.00,  -999.00,9,  -999.00,  -999.00,9,  -999.00, -999.000,9, -999.000, -999.000,9, -999.000,9, -999.000,9,   -999.0,9,   -999.0,9,-999.0000,9, -999.000,9, -999.000,   -999.0,9,   -999.0,   3.8979,  27.3925
    49MR0505_1,   P03,    66,  1,      4, X12010,9,20051109,0454, 24.2347,-137.2307, 4828,   1002.9,2,   3.9733,2,   3.97356,2,  34.4919,2,-999.0000,9,    33.61,1,    34.96,2,   1004.9,2,    35.59,2,  -999.00,9,  -999.00,9,  -999.00,  -999.00,9,  -999.00,  -999.00,9,  -999.00, -999.000,9, -999.000, -999.000,9, -999.000,9, -999.000,9,   -999.0,9,   -999.0,9,-999.0000,9, -999.000,9, -999.000,   -999.0,9,   -999.0,   3.8976,  27.3925
    49MR0505_1,   P03,    66,  1,      3, X12015,9,20051109,0454, 24.2347,-137.2307, 4828,   2800.4,2,   1.6088,2,   1.60879,2,  34.6633,2,-999.0000,9,   108.93,1,   115.71,2,   2800.3,2,   115.91,2,  -999.00,9,  -999.00,9,  -999.00,  -999.00,9,  -999.00,  -999.00,9,  -999.00, -999.000,9, -999.000, -999.000,9, -999.000,9, -999.000,9,   -999.0,9,   -999.0,9,-999.0000,9, -999.000,9, -999.000,   -999.0,9,   -999.0,   1.4085,  27.7466
    49MR0505_1,   P03,    66,  1,      2, X12014,2,20051109,0454, 24.2347,-137.2307, 4828,   2800.1,2,   1.6087,2,   1.60865,2,  34.6632,2,  34.6631,2,   108.99,1,   115.78,2,   2799.9,2,   115.88,2,   115.50,2,   166.78,2,     0.49,    38.72,2,     0.14,     0.00,2,     0.01,    2.728,2,    0.017, -999.000,9, -999.000,9, -999.000,9,   -999.0,9,   -999.0,9,-999.0000,9, -999.000,9, -999.000,   -999.0,9,   -999.0,   1.4084,  27.7465
    49MR0505_1,   P03,    66,  1,      1, X12013,2,20051109,0454, 24.2347,-137.2307, 4828,   4902.2,2,   1.4784,2,   1.47835,2,  34.6937,2,  34.6939,6,   157.24,1,   163.29,2,   4902.2,2,   162.89,2,   162.74,2,   144.83,2,     0.44,    35.54,2,     0.13,     0.00,2,     0.01,    2.465,2,    0.016, -999.000,9, -999.000,9, -999.000,9,   -999.0,9,   -999.0,9,-999.0000,9, -999.000,9, -999.000,   -999.0,9,   -999.0,   1.0567,  27.7954