BOTTLE,20100316JAMSTECRIGC
EXPOCODE,SECT,STNNBR,CASTNO,SAMPNO,BTLNBR,BTLNBR_FLAG_W,DATE,TIME,LATITUDE,LONGITUDE,DEPTH,CTDPRS,CTDPRS_FLAG_W,CTDTMP,CTDTMP_FLAG_W,SBE35,SBE35_FLAG_W,CTDSAL,CTDSAL_FLAG_W,SALNTY,SALNTY_FLAG_W,CTDOXY,CTDOXY_FLAG_W,OPTOXY,OPTOXY_FLAG_W,DWNPRS,DWNPRS_FLAG_W,DWNOXY,DWNOXY_FLAG_W,OXYGEN,OXYGEN_FLAG_W,SILCAT,SILCAT_FLAG_W,SILUNC,NITRAT,NITRAT_FLAG_W,NRAUNC,NITRIT,NITRIT_FLAG_W,NRIUNC,PHSPHT,PHSPHT_FLAG_W,PHPUNC,CFC-11,CFC-11_FLAG_W,CFC-12,CFC-12_FLAG_W,CFC113,CFC113_FLAG_W,TCARBN,TCARBN_FLAG_W,ALKALI,ALKALI_FLAG_W,PH,PH_FLAG_W,DELC13,DELC13_FLAG_W,C13ERR,DELC14,DELC14_FLAG_W,C14ERR,THETA,SIG0
,,,,,,,,UTC,DEG,DEG,M,DBAR,,ITS-90,,ITS-90,,PSS-78,,PSS-78,,UMOL/KG,,UMOL/KG,,DBAR,,UMOL/KG,,UMOL/KG,,UMOL/KG,,UMOL/KG,UMOL/KG,,UMOL/KG,UMOL/KG,,UMOL/KG,UMOL/KG,,UMOL/KG,PMOL/KG,,PMOL/KG,,PMOL/KG,,UMOL/KG,,UMOL/KG,,,,/MILLE,,/MILLE,/MILLE,,/MILLE,DEG C,KG/CUM
    49MR0505_1,   P03,    16,  1,      0,   -999,9,20051102,0628, 31.7645,-119.5327, 2885,   -999.0,9,-999.0000,9,-999.00000,9,-999.0000,9,  33.5748,2,  -999.00,9,  -999.00,9,   -999.0,9,  -999.00,9,  -999.00,9,  -999.00,9,  -999.00,  -999.00,9,  -999.00,  -999.00,9,  -999.00, -999.000,9, -999.000, -999.000,9, -999.000,9, -999.000,9,   -999.0,9,   -999.0,9,-999.0000,9, -999.000,9, -999.000,   -999.0,9,   -999.0,-999.0000,-999.0000
    49MR0505_1,   P03,    16,  1,     36, X12048,2,20051102,0628, 31.7645,-119.5327, 2885,      9.8,2,  18.0531,2,  18.05145,2,  33.5574,2,  33.5595,2,   233.80,1,   240.89,2,      9.9,2,   240.14,2,   239.95,2,     1.71,2,     0.12,     0.02,2,     0.03,     0.01,2,     0.01,    0.233,2,    0.015,    2.366,2,    1.370,2, -999.000,5,   -999.0,9,   -999.0,9,-999.0000,9, -999.000,9, -999.000,   -999.0,9,   -999.0,  18.0514,  24.1549
    49MR0505_1,   P03,    16,  1,     35, X12047,3,20051102,0628, 31.7645,-119.5327, 2885,     50.4,2,  13.6371,2,  13.65751,2,  33.4238,2,  33.4299,2,   210.99,1,   213.07,2,     46.4,2,   203.75,2,   213.23,2,     7.05,2,     0.13,     7.93,2,     0.06,     0.14,2,     0.01,    0.842,2,    0.013, -999.000,9, -999.000,9, -999.000,9,   -999.0,9,   -999.0,9,-999.0000,9, -999.000,9, -999.000,   -999.0,9,   -999.0,  13.6301,  25.0453
    49MR0505_1,   P03,    16,  1,     34, X12046,2,20051102,0628, 31.7645,-119.5327, 2885,    100.7,2,   9.5390,2,   9.54284,2,  33.7948,2,  33.8318,2,   128.58,1,   130.02,2,    105.5,2,   137.34,2,   125.69,2,    25.08,2,     0.17,    23.83,2,     0.10,     0.02,2,     0.01,    1.886,2,    0.015, -999.000,9, -999.000,9, -999.000,9,   -999.0,9,   -999.0,9,-999.0000,9, -999.000,9, -999.000,   -999.0,9,   -999.0,   9.5279,  26.0894
    49MR0505_1,   P03,    16,  1,     33, X12003,2,20051102,0628, 31.7645,-119.5327, 2885,    149.7,2,   9.6633,2,   9.66216,2,  34.0926,2,  34.0987,2,    92.52,1,    94.38,2,    149.7,2,    88.74,2,    93.47,2,    30.24,2,     0.19,    25.94,2,     0.11,     0.01,2,     0.01,    2.116,2,    0.015,    2.320,2,    1.167,2,    0.095,2,   -999.0,9,   -999.0,9,-999.0000,9, -999.000,9, -999.000,   -999.0,9,   -999.0,   9.6465,  26.3026
    49MR0505_1,   P03,    16,  1,     32, X12044,2,20051102,0628, 31.7645,-119.5327, 2885,    199.2,2,   9.6561,2,   9.65654,2,  34.2763,2,  34.2790,2,    60.05,1,    61.14,2,    195.4,2,    59.55,2,    60.92,2,    35.71,2,     0.20,    27.79,2,     0.11,     0.01,2,     0.01,    2.378,2,    0.016, -999.000,9, -999.000,9, -999.000,9,   -999.0,9,   -999.0,9,-999.0000,9, -999.000,9, -999.000,   -999.0,9,   -999.0,   9.6337,  26.4484
    49MR0505_1,   P03,    16,  1,     31, X12051,2,20051102,0628, 31.7645,-119.5327, 2885,    249.9,2,   9.1551,2,   9.15486,2,  34.3622,2,  34.3533,2,    34.89,1,    36.47,2,    249.7,2,    41.25,2,    37.20,2,    42.75,2,     0.21,    30.02,2,     0.12,     0.02,2,     0.01,    2.627,2,    0.017,    1.001,6,    0.480,6,    0.040,6,   -999.0,9,   -999.0,9,-999.0000,9, -999.000,9, -999.000,   -999.0,9,   -999.0,   9.1278,  26.5982
    49MR0505_1,   P03,    16,  1,     30, X12042,2,20051102,0628, 31.7645,-119.5327, 2885,    300.4,2,   8.0376,2,   8.03629,2,  34.2808,2,  34.2852,2,    37.61,1,    37.47,2,    300.4,2,    34.06,2,    37.68,2,    50.07,2,     0.23,    32.65,2,     0.12,     0.01,2,     0.01,    2.713,2,    0.017, -999.000,9, -999.000,9, -999.000,9,   -999.0,9,   -999.0,9,-999.0000,9, -999.000,9, -999.000,   -999.0,9,   -999.0,   8.0072,  26.7079
    49MR0505_1,   P03,    16,  1,     29, X12041,2,20051102,0628, 31.7645,-119.5327, 2885,    400.2,2,   6.8800,2,   6.88011,2,  34.2635,2,  34.2664,2,    25.38,1,    25.21,2,    402.2,2,    26.39,2,    25.04,2,    63.65,2,     0.26,    36.60,2,     0.14,     0.01,2,     0.01,    2.934,2,    0.017,    0.453,2,    0.213,2,    0.016,2,   -999.0,9,   -999.0,9,-999.0000,9, -999.000,9, -999.000,   -999.0,9,   -999.0,   6.8428,  26.8601
    49MR0505_1,   P03,    16,  1,     28, X12016,2,20051102,0628, 31.7645,-119.5327, 2885,    501.2,2,   6.0070,2,   6.00793,2,  34.2981,2,  34.3006,6,    14.43,1,    14.31,2,    506.8,2,    16.03,2,    14.52,2,    77.40,2,     0.29,    39.44,2,     0.14,     0.01,2,     0.01,    3.114,2,    0.018, -999.000,9, -999.000,9, -999.000,9,   -999.0,9,   -999.0,9,-999.0000,9, -999.000,9, -999.000,   -999.0,9,   -999.0,   5.9633,  27.0026
    49MR0505_1,   P03,    16,  1,     27, X12039,2,20051102,0628, 31.7645,-119.5327, 2885,    602.4,2,   5.4364,2,   5.43780,2,  34.3307,2,  34.3327,2,    11.17,1,    10.96,2,    605.2,2,    11.88,2,    11.30,2,    86.81,2,     0.31,    41.05,2,     0.15,     0.01,2,     0.01,    3.183,2,    0.018,    0.079,2,    0.041,2,    0.000,2,   -999.0,9,   -999.0,9,-999.0000,9, -999.000,9, -999.000,   -999.0,9,   -999.0,   5.3861,  27.0993
    49MR0505_1,   P03,    16,  1,     26, X12038,2,20051102,0628, 31.7645,-119.5327, 2885,    700.2,2,   5.1102,2,   5.11019,2,  34.3916,2,  34.3956,2,    10.48,1,    10.15,2,    699.6,2,    10.92,2,    10.56,2,    94.13,2,     0.33,    42.16,2,     0.15,     0.01,2,     0.01,    3.244,2,    0.018, -999.000,9, -999.000,9, -999.000,9,   -999.0,9,   -999.0,9,-999.0000,9, -999.000,9, -999.000,   -999.0,9,   -999.0,   5.0529,  27.1868
    49MR0505_1,   P03,    16,  1,     25, X12037,2,20051102,0628, 31.7645,-119.5327, 2885,    801.3,2,   4.6556,2,   4.65744,2,  34.4354,2,  34.4351,2,    13.86,1,    13.28,2,    799.7,2,    14.67,2,    14.02,2,   103.38,2,     0.35,    42.85,2,     0.15,     0.01,2,     0.01,    3.256,2,    0.018,    0.033,6,    0.016,6,    0.000,6,   -999.0,9,   -999.0,9,-999.0000,9, -999.000,9, -999.000,   -999.0,9,   -999.0,   4.5922,  27.2737
    49MR0505_1,   P03,    16,  1,     24, X12008,2,20051102,0628, 31.7645,-119.5327, 2885,    901.0,2,   4.3170,2,   4.31731,2,  34.4646,2,  34.4640,2,    17.89,1,    17.28,2,    900.3,2,    18.59,2,    18.15,2,   109.96,2,     0.36,    43.19,2,     0.15,     0.01,2,     0.01,    3.250,2,    0.018, -999.000,9, -999.000,9, -999.000,9,   -999.0,9,   -999.0,9,-999.0000,9, -999.000,9, -999.000,   -999.0,9,   -999.0,   4.2474,  27.3343
    49MR0505_1,   P03,    16,  1,     23, X12035,2,20051102,0628, 31.7645,-119.5327, 2885,   1001.2,2,   4.0613,2,   4.06102,2,  34.4820,2,  34.4821,6,    21.63,1,    20.95,2,   1002.2,2,    21.65,2,    22.07,2,   115.99,2,     0.37,    43.25,2,     0.15,     0.01,2,     0.01,    3.238,2,    0.018,    0.035,2,    0.021,2,    0.000,2,   -999.0,9,   -999.0,9,-999.0000,9, -999.000,9, -999.000,   -999.0,9,   -999.0,   3.9851,  27.3756
    49MR0505_1,   P03,    16,  1,     22, X12034,2,20051102,0628, 31.7645,-119.5327, 2885,   1202.7,2,   3.4691,2,   3.46918,2,  34.5243,2,  34.5244,2,    32.36,1,    31.61,2,   1204.4,2,    32.06,2,    32.71,2,   129.90,2,     0.40,    43.23,2,     0.15,     0.01,2,     0.01,    3.200,2,    0.018, -999.000,9, -999.000,9, -999.000,9,   -999.0,9,   -999.0,9,-999.0000,9, -999.000,9, -999.000,   -999.0,9,   -999.0,   3.3811,  27.4696
    49MR0505_1,   P03,    16,  1,     21, X12033,2,20051102,0628, 31.7645,-119.5327, 2885,   1401.5,2,   3.0609,2,   3.06090,2,  34.5473,2,  34.5477,2,    40.40,1,    39.83,2,   1401.9,2,    41.11,2,    41.06,2,   139.74,2,     0.43,    43.03,2,     0.15,     0.00,2,     0.01,    3.156,2,    0.018, -999.000,9, -999.000,9, -999.000,9,   -999.0,9,   -999.0,9,-999.0000,9, -999.000,9, -999.000,   -999.0,9,   -999.0,   2.9606,  27.5273
    49MR0505_1,   P03,    16,  1,     20, X12032,2,20051102,0628, 31.7645,-119.5327, 2885,   1601.7,2,   2.6598,2,   2.65968,2,  34.5833,2,  34.5834,6,    54.59,1,    54.31,2,   1602.7,2,    54.60,2,    55.49,2,   149.34,2,     0.45,    42.22,2,     0.15,     0.01,2,     0.01,    3.079,2,    0.018,    0.020,2,    0.014,2,    0.000,2,   -999.0,9,   -999.0,9,-999.0000,9, -999.000,9, -999.000,   -999.0,9,   -999.0,   2.5476,  27.5926
    49MR0505_1,   P03,    16,  1,     19, X12001,2,20051102,0628, 31.7645,-119.5327, 2885,   1802.0,2,   2.3667,2,   2.36674,2,  34.6042,2,  34.6040,2,    66.03,1,    65.98,2,   1802.9,2,    66.25,2,    66.79,2,   155.74,2,     0.46,    41.61,2,     0.15,     0.01,2,     0.01,    3.010,2,    0.017, -999.000,9, -999.000,9, -999.000,9,   -999.0,9,   -999.0,9,-999.0000,9, -999.000,9, -999.000,   -999.0,9,   -999.0,   2.2416,  27.6351
    49MR0505_1,   P03,    16,  1,     18, X12030,2,20051102,0628, 31.7645,-119.5327, 2885,   2002.0,2,   2.0969,2,   2.09688,2,  34.6255,2,  34.6257,2,    79.11,1,    79.50,2,   2002.8,2,    79.61,2,    80.27,2,   161.04,2,     0.47,    40.82,2,     0.15,     0.00,2,     0.01,    2.933,2,    0.017, -999.000,9, -999.000,9, -999.000,9,   -999.0,9,   -999.0,9,-999.0000,9, -999.000,9, -999.000,   -999.0,9,   -999.0,   1.9588,  27.6749
    49MR0505_1,   P03,    16,  1,     17, X12049,2,20051102,0628, 31.7645,-119.5327, 2885,   2200.9,2,   1.9887,2,   1.98853,2,  34.6374,2,  34.6378,6,    87.39,1,    87.88,2,   2201.0,2,    88.67,2,    88.68,2,   162.43,2,     0.48,    40.28,2,     0.15,     0.01,2,     0.01,    2.883,2,    0.017,    0.005,2,    0.002,2,    0.000,2,   -999.0,9,   -999.0,9,-999.0000,9, -999.000,9, -999.000,   -999.0,9,   -999.0,   1.8353,  27.6941
    49MR0505_1,   P03,    16,  1,     16, X12028,2,20051102,0628, 31.7645,-119.5327, 2885,   2400.8,2,   1.8793,2,   1.87919,2,  34.6480,2,  34.6481,2,    95.91,1,    96.37,2,   2400.2,2,    98.04,2,    97.11,2,   163.81,2,     0.48,    39.75,2,     0.14,     0.01,2,     0.01,    2.831,2,    0.017, -999.000,9, -999.000,9, -999.000,9,   -999.0,9,   -999.0,9,-999.0000,9, -999.000,9, -999.000,   -999.0,9,   -999.0,   1.7102,  27.7121
    49MR0505_1,   P03,    16,  1,     15, X12006,2,20051102,0628, 31.7645,-119.5327, 2885,   2601.4,2,   1.7918,2,   1.79189,2,  34.6555,2,  34.6551,2,   102.78,1,   102.79,2,   2601.5,2,   104.03,2,   104.08,2,   165.13,2,     0.48,    39.33,2,     0.14,     0.01,2,     0.01,    2.798,2,    0.017, -999.000,9, -999.000,9, -999.000,9,   -999.0,9,   -999.0,9,-999.0000,9, -999.000,9, -999.000,   -999.0,9,   -999.0,   1.6062,  27.7259
    49MR0505_1,   P03,    16,  1,     14, X12026,9,20051102,0628, 31.7645,-119.5327, 2885,   2402.4,2,   1.8758,2,   1.87578,2,  34.6483,2,-999.0000,9,    96.10,1,    96.52,2,   2401.8,2,    98.18,2,  -999.00,9,  -999.00,9,  -999.00,  -999.00,9,  -999.00,  -999.00,9,  -999.00, -999.000,9, -999.000, -999.000,9, -999.000,9, -999.000,9,   -999.0,9,   -999.0,9,-999.0000,9, -999.000,9, -999.000,   -999.0,9,   -999.0,   1.7066,  27.7126
    49MR0505_1,   P03,    16,  1,     13, X12025,9,20051102,0628, 31.7645,-119.5327, 2885,     50.4,2,  13.5694,2,  13.59583,2,  33.4211,2,-999.0000,9,   210.39,1,   214.26,2,     46.8,2,   202.38,2,  -999.00,9,  -999.00,9,  -999.00,  -999.00,9,  -999.00,  -999.00,9,  -999.00, -999.000,9, -999.000, -999.000,9, -999.000,9, -999.000,9,   -999.0,9,   -999.0,9,-999.0000,9, -999.000,9, -999.000,   -999.0,9,   -999.0,  13.5624,  25.0570
    49MR0505_1,   P03,    16,  1,     12, X12024,9,20051102,0628, 31.7645,-119.5327, 2885,    100.7,2,   9.5476,2,   9.54645,2,  33.7934,2,-999.0000,9,   128.71,1,   130.88,2,    105.3,2,   137.38,2,  -999.00,9,  -999.00,9,  -999.00,  -999.00,9,  -999.00,  -999.00,9,  -999.00, -999.000,9, -999.000, -999.000,9, -999.000,9, -999.000,9,   -999.0,9,   -999.0,9,-999.0000,9, -999.000,9, -999.000,   -999.0,9,   -999.0,   9.5365,  26.0869
    49MR0505_1,   P03,    16,  1,     11, X12023,9,20051102,0628, 31.7645,-119.5327, 2885,    150.1,2,   9.6763,2,   9.67742,2,  34.0930,2,-999.0000,9,    92.23,1,    94.45,2,    149.6,2,    89.05,2,  -999.00,9,  -999.00,9,  -999.00,  -999.00,9,  -999.00,  -999.00,9,  -999.00, -999.000,9, -999.000, -999.000,9, -999.000,9, -999.000,9,   -999.0,9,   -999.0,9,-999.0000,9, -999.000,9, -999.000,   -999.0,9,   -999.0,   9.6595,  26.3008
    49MR0505_1,   P03,    16,  1,     10, X12022,9,20051102,0628, 31.7645,-119.5327, 2885,    199.4,2,   9.6557,2,   9.65583,2,  34.2761,2,-999.0000,9,    60.11,1,    61.44,2,    195.4,2,    59.28,2,  -999.00,9,  -999.00,9,  -999.00,  -999.00,9,  -999.00,  -999.00,9,  -999.00, -999.000,9, -999.000, -999.000,9, -999.000,9, -999.000,9,   -999.0,9,   -999.0,9,-999.0000,9, -999.000,9, -999.000,   -999.0,9,   -999.0,   9.6333,  26.4483
    49MR0505_1,   P03,    16,  1,      9, X12021,9,20051102,0628, 31.7645,-119.5327, 2885,    249.6,2,   9.1552,2,   9.15512,2,  34.3625,2,-999.0000,9,    34.75,1,    36.15,2,    249.4,2,    41.27,2,  -999.00,9,  -999.00,9,  -999.00,  -999.00,9,  -999.00,  -999.00,9,  -999.00, -999.000,9, -999.000, -999.000,9, -999.000,9, -999.000,9,   -999.0,9,   -999.0,9,-999.0000,9, -999.000,9, -999.000,   -999.0,9,   -999.0,   9.1279,  26.5984
    49MR0505_1,   P03,    16,  1,      8, X12020,9,20051102,0628, 31.7645,-119.5327, 2885,    300.9,2,   8.0364,2,   8.03560,2,  34.2805,2,-999.0000,9,    37.53,1,    37.80,2,    300.6,2,    33.90,2,  -999.00,9,  -999.00,9,  -999.00,  -999.00,9,  -999.00,  -999.00,9,  -999.00, -999.000,9, -999.000, -999.000,9, -999.000,9, -999.000,9,   -999.0,9,   -999.0,9,-999.0000,9, -999.000,9, -999.000,   -999.0,9,   -999.0,   8.0060,  26.7078
    49MR0505_1,   P03,    16,  1,      7, X12019,9,20051102,0628, 31.7645,-119.5327, 2885,    400.9,2,   6.8426,2,   6.84486,2,  34.2607,2,-999.0000,9,    25.41,1,    25.33,2,    403.2,2,    26.31,2,  -999.00,9,  -999.00,9,  -999.00,  -999.00,9,  -999.00,  -999.00,9,  -999.00, -999.000,9, -999.000, -999.000,9, -999.000,9, -999.000,9,   -999.0,9,   -999.0,9,-999.0000,9, -999.000,9, -999.000,   -999.0,9,   -999.0,   6.8054,  26.8629
    49MR0505_1,   P03,    16,  1,      6, X12018,9,20051102,0628, 31.7645,-119.5327, 2885,    501.6,2,   6.0036,2,   6.00402,2,  34.2985,2,-999.0000,9,    14.40,1,    14.31,2,    507.1,2,    15.97,2,  -999.00,9,  -999.00,9,  -999.00,  -999.00,9,  -999.00,  -999.00,9,  -999.00, -999.000,9, -999.000, -999.000,9, -999.000,9, -999.000,9,   -999.0,9,   -999.0,9,-999.0000,9, -999.000,9, -999.000,   -999.0,9,   -999.0,   5.9599,  27.0034
    49MR0505_1,   P03,    16,  1,      5, X12043,9,20051102,0628, 31.7645,-119.5327, 2885,    602.7,2,   5.4362,2,   5.43677,2,  34.3304,2,-999.0000,9,    11.15,1,    10.92,2,    605.4,2,    11.88,2,  -999.00,9,  -999.00,9,  -999.00,  -999.00,9,  -999.00,  -999.00,9,  -999.00, -999.000,9, -999.000, -999.000,9, -999.000,9, -999.000,9,   -999.0,9,   -999.0,9,-999.0000,9, -999.000,9, -999.000,   -999.0,9,   -999.0,   5.3859,  27.0991
    49MR0505_1,   P03,    16,  1,      4, X12010,9,20051102,0628, 31.7645,-119.5327, 2885,    700.1,2,   5.1068,2,   5.10632,2,  34.3920,2,-999.0000,9,    10.49,1,    10.15,2,    699.7,2,    10.92,2,  -999.00,9,  -999.00,9,  -999.00,  -999.00,9,  -999.00,  -999.00,9,  -999.00, -999.000,9, -999.000, -999.000,9, -999.000,9, -999.000,9,   -999.0,9,   -999.0,9,-999.0000,9, -999.000,9, -999.000,   -999.0,9,   -999.0,   5.0495,  27.1875
    49MR0505_1,   P03,    16,  1,      3, X12015,9,20051102,0628, 31.7645,-119.5327, 2885,    801.2,2,   4.6527,2,   4.65267,2,  34.4361,2,-999.0000,9,    13.84,1,    13.31,2,    799.7,2,    14.67,2,  -999.00,9,  -999.00,9,  -999.00,  -999.00,9,  -999.00,  -999.00,9,  -999.00, -999.000,9, -999.000, -999.000,9, -999.000,9, -999.000,9,   -999.0,9,   -999.0,9,-999.0000,9, -999.000,9, -999.000,   -999.0,9,   -999.0,   4.5893,  27.2746
    49MR0505_1,   P03,    16,  1,      2, X12014,9,20051102,0628, 31.7645,-119.5327, 2885,   2823.0,2,   1.6994,2,   1.69925,2,  34.6634,2,-999.0000,9,   110.76,1,   110.30,2,   2823.0,2,   112.14,2,  -999.00,9,  -999.00,9,  -999.00,  -999.00,9,  -999.00,  -999.00,9,  -999.00, -999.000,9, -999.000, -999.000,9, -999.000,9, -999.000,9,   -999.0,9,   -999.0,9,-999.0000,9, -999.000,9, -999.000,   -999.0,9,   -999.0,   1.4951,  27.7404
    49MR0505_1,   P03,    16,  1,      1, X12013,2,20051102,0628, 31.7645,-119.5327, 2885,   2822.2,2,   1.7002,2,   1.69984,2,  34.6635,2,  34.6636,6,   110.78,1,   110.26,2,   2822.2,2,   112.10,2,   111.74,2,   166.53,2,     0.49,    38.87,2,     0.14,     0.01,2,     0.01,    2.755,2,    0.017,    0.002,2,    0.007,2,    0.000,2,   -999.0,9,   -999.0,9,-999.0000,9, -999.000,9, -999.000,   -999.0,9,   -999.0,   1.4960,  27.7404