BOTTLE,20100316JAMSTECRIGC
EXPOCODE,SECT,STNNBR,CASTNO,SAMPNO,BTLNBR,BTLNBR_FLAG_W,DATE,TIME,LATITUDE,LONGITUDE,DEPTH,CTDPRS,CTDPRS_FLAG_W,CTDTMP,CTDTMP_FLAG_W,SBE35,SBE35_FLAG_W,CTDSAL,CTDSAL_FLAG_W,SALNTY,SALNTY_FLAG_W,CTDOXY,CTDOXY_FLAG_W,OPTOXY,OPTOXY_FLAG_W,DWNPRS,DWNPRS_FLAG_W,DWNOXY,DWNOXY_FLAG_W,OXYGEN,OXYGEN_FLAG_W,SILCAT,SILCAT_FLAG_W,SILUNC,NITRAT,NITRAT_FLAG_W,NRAUNC,NITRIT,NITRIT_FLAG_W,NRIUNC,PHSPHT,PHSPHT_FLAG_W,PHPUNC,CFC-11,CFC-11_FLAG_W,CFC-12,CFC-12_FLAG_W,CFC113,CFC113_FLAG_W,TCARBN,TCARBN_FLAG_W,ALKALI,ALKALI_FLAG_W,PH,PH_FLAG_W,DELC13,DELC13_FLAG_W,C13ERR,DELC14,DELC14_FLAG_W,C14ERR,THETA,SIG0
,,,,,,,,UTC,DEG,DEG,M,DBAR,,ITS-90,,ITS-90,,PSS-78,,PSS-78,,UMOL/KG,,UMOL/KG,,DBAR,,UMOL/KG,,UMOL/KG,,UMOL/KG,,UMOL/KG,UMOL/KG,,UMOL/KG,UMOL/KG,,UMOL/KG,UMOL/KG,,UMOL/KG,PMOL/KG,,PMOL/KG,,PMOL/KG,,UMOL/KG,,UMOL/KG,,,,/MILLE,,/MILLE,/MILLE,,/MILLE,DEG C,KG/CUM
    49MR0505_1,   P03,   120,  1,      0,   -999,9,20051118,0124, 25.0053,-158.0025, 4630,   -999.0,9,-999.0000,9,-999.00000,9,-999.0000,9,  35.3577,2,  -999.00,9,  -999.00,9,   -999.0,9,  -999.00,9,  -999.00,9,  -999.00,9,  -999.00,  -999.00,9,  -999.00,  -999.00,9,  -999.00, -999.000,9, -999.000, -999.000,9, -999.000,9, -999.000,9,   -999.0,9,   -999.0,9,-999.0000,9, -999.000,9, -999.000,   -999.0,9,   -999.0,-999.0000,-999.0000
    49MR0505_1,   P03,   120,  1,     36, X12048,2,20051118,0124, 25.0053,-158.0025, 4630,      9.5,2,  25.1184,2,  25.12255,2,  35.3391,2,  35.3397,2,   192.77,1,   208.42,2,     11.5,2,   209.10,2,   209.19,2,     1.04,2,     0.12,     0.02,2,     0.03,     0.01,2,     0.01,    0.023,2,    0.063,    1.685,2,    1.027,2, -999.000,5,   -999.0,9,   -999.0,9,-999.0000,9, -999.000,9, -999.000,   -999.0,9,   -999.0,  25.1163,  23.5620
    49MR0505_1,   P03,   120,  1,     35, X12047,2,20051118,0124, 25.0053,-158.0025, 4630,     50.7,2,  25.0420,2,  25.04134,2,  35.3324,2,  35.3333,2,   192.69,1,   208.68,2,     49.0,2,   208.51,2,   209.18,2,     1.01,2,     0.12,     0.02,2,     0.03,     0.01,2,     0.01,    0.029,2,    0.052,    1.689,2,    1.042,2, -999.000,5,   -999.0,9,   -999.0,9,-999.0000,9, -999.000,9, -999.000,   -999.0,9,   -999.0,  25.0310,  23.5830
    49MR0505_1,   P03,   120,  1,     34, X12046,2,20051118,0124, 25.0053,-158.0025, 4630,     99.9,2,  21.2521,2,  21.23401,2,  35.0912,2,  35.0948,2,   211.99,1,   230.20,2,    108.6,2,   229.09,2,   230.68,2,     1.89,2,     0.12,     0.02,2,     0.03,     0.01,2,     0.01,    0.044,2,    0.038,    2.148,2,    1.316,2, -999.000,5,   -999.0,9,   -999.0,9,-999.0000,9, -999.000,9, -999.000,   -999.0,9,   -999.0,  21.2328,  24.4998
    49MR0505_1,   P03,   120,  1,     33, X12003,2,20051118,0124, 25.0053,-158.0025, 4630,    151.1,2,  18.2172,2,  18.21812,2,  34.8958,2,  34.8959,2,   193.43,1,   209.39,2,    164.3,2,   213.31,2,   209.52,2,     2.89,2,     0.13,     1.92,2,     0.04,     0.03,2,     0.01,    0.216,2,    0.016,    2.338,2,    1.349,2, -999.000,5,   -999.0,9,   -999.0,9,-999.0000,9, -999.000,9, -999.000,   -999.0,9,   -999.0,  18.1911,  25.1450
    49MR0505_1,   P03,   120,  1,     32, X12044,2,20051118,0124, 25.0053,-158.0025, 4630,    201.8,2,  16.1083,2,  16.11939,2,  34.6095,2,  34.6262,2,   187.75,1,   202.63,2,    206.4,2,   203.80,2,   203.84,2,     4.38,2,     0.13,     4.48,2,     0.05,     0.02,2,     0.01,    0.399,2,    0.013,    2.555,2,    1.444,2,    0.143,4,   -999.0,9,   -999.0,9,-999.0000,9, -999.000,9, -999.000,   -999.0,9,   -999.0,  16.0763,  25.4298
    49MR0505_1,   P03,   120,  1,     31, X12051,2,20051118,0124, 25.0053,-158.0025, 4630,    250.8,2,  14.3554,2,  14.35602,2,  34.4356,2,  34.4456,2,   190.93,1,   206.03,2,    250.4,2,   206.71,2,   206.60,2,     6.79,2,     0.13,     7.31,2,     0.05,     0.01,2,     0.01,    0.571,2,    0.013,    2.739,6,    1.502,6,    0.083,6,   -999.0,9,   -999.0,9,-999.0000,9, -999.000,9, -999.000,   -999.0,9,   -999.0,  14.3186,  25.6837
    49MR0505_1,   P03,   120,  1,     30, X12042,2,20051118,0124, 25.0053,-158.0025, 4630,    301.4,2,  12.6764,2,  12.67682,2,  34.3152,2,  34.3197,2,   195.14,1,   209.77,2,    302.8,2,   211.50,2,   210.88,2,    10.11,2,     0.14,    10.20,2,     0.06,     0.01,2,     0.01,    0.762,2,    0.013,    2.875,2,    1.543,2,    0.082,2,   -999.0,9,   -999.0,9,-999.0000,9, -999.000,9, -999.000,   -999.0,9,   -999.0,  12.6357,  25.9345
    49MR0505_1,   P03,   120,  1,     29, X12041,2,20051118,0124, 25.0053,-158.0025, 4630,    401.3,2,  10.3702,2,  10.36755,2,  34.1761,2,  34.1760,2,   183.99,1,   197.56,2,    406.6,2,   203.00,2,   198.68,2,    19.05,2,     0.16,    16.16,2,     0.08,     0.01,2,     0.01,    1.165,2,    0.013,    2.987,2,    1.529,2,    0.104,2,   -999.0,9,   -999.0,9,-999.0000,9, -999.000,9, -999.000,   -999.0,9,   -999.0,  10.3225,  26.2533
    49MR0505_1,   P03,   120,  1,     28, X12016,2,20051118,0124, 25.0053,-158.0025, 4630,    501.4,2,   7.7806,2,   7.78044,2,  34.0680,2,  34.0688,6,   137.70,1,   148.32,2,    502.9,2,   152.46,2,   148.70,2,    40.26,2,     0.21,    25.99,2,     0.11,     0.00,2,     0.01,    1.856,2,    0.015,    2.276,2,    1.079,2,    0.073,2,   -999.0,9,   -999.0,9,-999.0000,9, -999.000,9, -999.000,   -999.0,9,   -999.0,   7.7304,  26.5814
    49MR0505_1,   P03,   120,  1,     27, X12039,2,20051118,0124, 25.0053,-158.0025, 4630,    599.8,2,   6.4579,2,   6.45704,2,  34.0539,2,  34.0549,2,    97.27,1,   104.56,2,    590.2,2,    93.78,2,   103.84,2,    57.74,2,     0.25,    32.49,2,     0.12,     0.01,2,     0.01,    2.359,2,    0.016,    1.438,2,    0.666,2,    0.055,2,   -999.0,9,   -999.0,9,-999.0000,9, -999.000,9, -999.000,   -999.0,9,   -999.0,   6.4034,  26.7533
    49MR0505_1,   P03,   120,  1,     26, X12038,2,20051118,0124, 25.0053,-158.0025, 4630,    701.9,2,   5.2033,2,   5.20298,2,  34.1204,2,  34.1199,2,    52.30,1,    56.64,2,    696.1,2,    51.31,2,    56.49,2,    80.63,2,     0.30,    38.79,2,     0.14,     0.01,2,     0.01,    2.831,2,    0.017,    0.557,2,    0.263,2,    0.017,2,   -999.0,9,   -999.0,9,-999.0000,9, -999.000,9, -999.000,   -999.0,9,   -999.0,   5.1457,  26.9611
    49MR0505_1,   P03,   120,  1,     25, X12037,2,20051118,0124, 25.0053,-158.0025, 4630,    801.4,2,   4.5219,2,   4.52088,2,  34.2289,2,  34.2267,2,    30.01,1,    32.60,2,    796.3,2,    29.44,2,    32.62,2,    98.58,2,     0.34,    41.73,2,     0.15,     0.01,2,     0.01,    3.054,2,    0.018,    0.162,6,    0.079,6,    0.016,6,   -999.0,9,   -999.0,9,-999.0000,9, -999.000,9, -999.000,   -999.0,9,   -999.0,   4.4596,  27.1242
    49MR0505_1,   P03,   120,  1,     24, X12008,2,20051118,0124, 25.0053,-158.0025, 4630,    900.2,2,   4.1509,2,   4.15096,2,  34.3147,2,  34.3151,2,    24.94,1,    27.29,2,    896.5,2,    26.54,2,    26.72,2,   109.18,2,     0.36,    42.89,2,     0.15,     0.00,2,     0.01,    3.115,2,    0.018,    0.055,2,    0.033,2,    0.000,2,   -999.0,9,   -999.0,9,-999.0000,9, -999.000,9, -999.000,   -999.0,9,   -999.0,   4.0827,  27.2324
    49MR0505_1,   P03,   120,  1,     23, X12035,2,20051118,0124, 25.0053,-158.0025, 4630,   1002.2,2,   3.8317,2,   3.83179,2,  34.3791,2,  34.3790,6,    26.23,1,    28.60,2,    999.0,2,    28.70,2,    28.07,2,   117.67,2,     0.38,    43.11,2,     0.15,     0.00,2,     0.01,    3.144,2,    0.018,    0.022,2,    0.005,2,    0.000,2,   -999.0,9,   -999.0,9,-999.0000,9, -999.000,9, -999.000,   -999.0,9,   -999.0,   3.7574,  27.3169
    49MR0505_1,   P03,   120,  1,     22, X12034,2,20051118,0124, 25.0053,-158.0025, 4630,   1202.5,2,   3.2781,2,   3.27814,2,  34.4911,2,  34.4913,2,    41.82,1,    45.47,2,   1198.3,2,    47.45,2,    45.25,2,   129.74,2,     0.40,    42.50,2,     0.15,     0.00,2,     0.01,    3.075,2,    0.018,    0.014,2,    0.010,2,    0.000,2,   -999.0,9,   -999.0,9,-999.0000,9, -999.000,9, -999.000,   -999.0,9,   -999.0,   3.1920,  27.4611
    49MR0505_1,   P03,   120,  1,     21, X12033,2,20051118,0124, 25.0053,-158.0025, 4630,   1401.4,2,   2.9170,2,   2.91684,2,  34.5400,2,  34.5402,2,    53.76,1,    58.49,2,   1398.4,2,    60.63,2,    58.25,2,   137.51,2,     0.42,    41.97,2,     0.15,     0.00,2,     0.01,    3.021,2,    0.018,    0.003,2,    0.000,2,    0.000,2,   -999.0,9,   -999.0,9,-999.0000,9, -999.000,9, -999.000,   -999.0,9,   -999.0,   2.8183,  27.5343
    49MR0505_1,   P03,   120,  1,     20, X12032,2,20051118,0124, 25.0053,-158.0025, 4630,   1603.0,2,   2.5608,2,   2.56016,2,  34.5756,2,  34.5758,2,    65.30,1,    71.23,2,   1601.1,2,    72.16,2,    71.05,2,   144.90,2,     0.44,    41.38,2,     0.15,     0.00,2,     0.01,    2.954,2,    0.017,    0.003,2,    0.007,2,    0.000,2,   -999.0,9,   -999.0,9,-999.0000,9, -999.000,9, -999.000,   -999.0,9,   -999.0,   2.4497,  27.5948
    49MR0505_1,   P03,   120,  1,     19, X12001,2,20051118,0124, 25.0053,-158.0025, 4630,   1803.6,2,   2.2730,2,   2.27243,2,  34.5991,2,  34.5992,6,    73.57,1,    80.40,2,   1803.2,2,    80.20,2,    80.14,2,   150.98,2,     0.45,    40.90,2,     0.15,     0.01,2,     0.01,    2.912,2,    0.017,    0.002,2,    0.002,2,    0.000,2,   -999.0,9,   -999.0,9,-999.0000,9, -999.000,9, -999.000,   -999.0,9,   -999.0,   2.1491,  27.6386
    49MR0505_1,   P03,   120,  1,     18, X12030,2,20051118,0124, 25.0053,-158.0025, 4630,   1999.3,2,   2.0410,2,   2.04087,2,  34.6157,2,  34.6157,2,    79.19,1,    86.66,2,   1998.9,2,    86.61,2,    86.37,2,   158.25,2,     0.47,    40.49,2,     0.15,     0.00,2,     0.01,    2.882,2,    0.017,    0.000,2,    0.000,2,    0.000,2,   -999.0,9,   -999.0,9,-999.0000,9, -999.000,9, -999.000,   -999.0,9,   -999.0,   1.9041,  27.6713
    49MR0505_1,   P03,   120,  1,     17, X12049,2,20051118,0124, 25.0053,-158.0025, 4630,   2201.6,2,   1.8639,2,   1.86354,2,  34.6335,2,  34.6328,2,    87.93,1,    96.32,2,   2201.9,2,    95.40,2,    95.85,2,   161.65,2,     0.47,    39.95,2,     0.14,     0.01,2,     0.01,    2.835,2,    0.017, -999.000,9, -999.000,9, -999.000,9,   -999.0,9,   -999.0,9,-999.0000,9, -999.000,9, -999.000,   -999.0,9,   -999.0,   1.7125,  27.7003
    49MR0505_1,   P03,   120,  1,     16, X12028,2,20051118,0124, 25.0053,-158.0025, 4630,   2399.0,2,   1.7610,2,   1.76091,2,  34.6436,2,  34.6438,2,    94.21,1,   103.08,2,   2399.2,2,   102.23,2,   102.67,2,   163.44,2,     0.48,    39.53,2,     0.14,     0.00,2,     0.01,    2.793,2,    0.017,    0.000,2,    0.000,2,    0.000,2,   -999.0,9,   -999.0,9,-999.0000,9, -999.000,9, -999.000,   -999.0,9,   -999.0,   1.5942,  27.7172
    49MR0505_1,   P03,   120,  1,     15, X12006,2,20051118,0124, 25.0053,-158.0025, 4630,   2599.7,2,   1.6434,2,   1.64342,2,  34.6554,2,  34.6550,2,   103.79,1,   113.52,2,   2599.9,2,   112.69,2,   113.39,2,   163.19,2,     0.48,    38.85,2,     0.14,     0.00,2,     0.01,    2.735,2,    0.017, -999.000,9, -999.000,9, -999.000,9,   -999.0,9,   -999.0,9,-999.0000,9, -999.000,9, -999.000,   -999.0,9,   -999.0,   1.4608,  27.7365
    49MR0505_1,   P03,   120,  1,     14, X12026,2,20051118,0124, 25.0053,-158.0025, 4630,   2800.3,2,   1.5895,2,   1.58938,2,  34.6618,2,  34.6620,6,   109.69,1,   119.93,2,   2800.5,2,   119.11,2,   119.70,2,   162.41,2,     0.48,    38.51,2,     0.14,     0.00,2,     0.01,    2.709,2,    0.017, -999.000,9, -999.000,9, -999.000,9,   -999.0,9,   -999.0,9,-999.0000,9, -999.000,9, -999.000,   -999.0,9,   -999.0,   1.3896,  27.7468
    49MR0505_1,   P03,   120,  1,     13, X12025,2,20051118,0124, 25.0053,-158.0025, 4630,   3001.8,2,   1.5462,2,   1.54625,2,  34.6679,2,  34.6675,2,   115.34,1,   125.96,2,   3001.4,2,   126.86,2,   125.79,2,   161.60,2,     0.47,    37.97,2,     0.14,     0.00,2,     0.01,    2.672,2,    0.017,    0.000,2,    0.000,2,    0.000,2,   -999.0,9,   -999.0,9,-999.0000,9, -999.000,9, -999.000,   -999.0,9,   -999.0,   1.3283,  27.7559
    49MR0505_1,   P03,   120,  1,     12, X12024,2,20051118,0124, 25.0053,-158.0025, 4630,   3248.3,2,   1.5037,2,   1.50368,2,  34.6738,2,  34.6737,2,   122.43,1,   133.37,2,   3248.3,2,   133.24,2,   133.40,2,   158.93,2,     0.47,    37.44,2,     0.14,     0.00,2,     0.01,    2.620,2,    0.017, -999.000,9, -999.000,9, -999.000,9,   -999.0,9,   -999.0,9,-999.0000,9, -999.000,9, -999.000,   -999.0,9,   -999.0,   1.2628,  27.7653
    49MR0505_1,   P03,   120,  1,     11, X12023,2,20051118,0124, 25.0053,-158.0025, 4630,   3500.8,2,   1.4717,2,   1.47156,2,  34.6790,2,  34.6791,2,   129.08,1,   140.13,2,   3501.0,2,   140.10,2,   140.40,2,   157.10,2,     0.47,    37.04,2,     0.14,     0.01,2,     0.01,    2.595,2,    0.017, -999.000,9, -999.000,9, -999.000,9,   -999.0,9,   -999.0,9,-999.0000,9, -999.000,9, -999.000,   -999.0,9,   -999.0,   1.2062,  27.7734
    49MR0505_1,   P03,   120,  1,     10, X12022,2,20051118,0124, 25.0053,-158.0025, 4630,   3750.4,2,   1.4594,2,   1.45935,2,  34.6828,2,  34.6827,2,   133.88,1,   145.03,2,   3750.5,2,   145.30,2,   145.31,2,   155.42,2,     0.46,    36.76,2,     0.14,     0.00,2,     0.01,    2.569,2,    0.016,    0.002,2,    0.000,2,    0.000,2,   -999.0,9,   -999.0,9,-999.0000,9, -999.000,9, -999.000,   -999.0,9,   -999.0,   1.1683,  27.7791
    49MR0505_1,   P03,   120,  1,      9, X12021,2,20051118,0124, 25.0053,-158.0025, 4630,   3998.0,2,   1.4594,2,   1.45934,2,  34.6854,2,  34.6855,6,   137.65,1,   148.57,2,   3998.1,2,   148.67,2,   148.79,2,   153.93,2,     0.46,    36.54,2,     0.14,     0.01,2,     0.01,    2.552,2,    0.016, -999.000,9, -999.000,9, -999.000,9,   -999.0,9,   -999.0,9,-999.0000,9, -999.000,9, -999.000,   -999.0,9,   -999.0,   1.1419,  27.7830
    49MR0505_1,   P03,   120,  1,      8, X12020,2,20051118,0124, 25.0053,-158.0025, 4630,   4249.2,2,   1.4647,2,   1.46466,2,  34.6876,2,  34.6876,2,   141.13,1,   151.83,2,   4249.3,2,   152.20,2,   152.00,2,   152.56,2,     0.45,    36.26,2,     0.13,     0.01,2,     0.01,    2.533,2,    0.016, -999.000,9, -999.000,9, -999.000,9,   -999.0,9,   -999.0,9,-999.0000,9, -999.000,9, -999.000,   -999.0,9,   -999.0,   1.1193,  27.7863
    49MR0505_1,   P03,   120,  1,      7, X12019,2,20051118,0124, 25.0053,-158.0025, 4630,   4501.7,2,   1.4793,2,   1.47935,2,  34.6890,2,  34.6891,2,   143.86,1,   153.91,2,   4501.8,2,   154.41,2,   154.15,2,   151.44,2,     0.45,    36.11,2,     0.13,     0.01,2,     0.01,    2.510,2,    0.016, -999.000,9, -999.000,9, -999.000,9,   -999.0,9,   -999.0,9,-999.0000,9, -999.000,9, -999.000,   -999.0,9,   -999.0,   1.1048,  27.7884
    49MR0505_1,   P03,   120,  1,      6, X12018,9,20051118,0124, 25.0053,-158.0025, 4630,     49.3,2,  25.0432,2,  25.04263,2,  35.3327,2,-999.0000,9,   192.63,1,   208.43,2,     47.6,2,   208.58,2,  -999.00,9,  -999.00,9,  -999.00,  -999.00,9,  -999.00,  -999.00,9,  -999.00, -999.000,9, -999.000, -999.000,9, -999.000,9, -999.000,9,   -999.0,9,   -999.0,9,-999.0000,9, -999.000,9, -999.000,   -999.0,9,   -999.0,  25.0325,  23.5828
    49MR0505_1,   P03,   120,  1,      5, X12043,2,20051118,0124, 25.0053,-158.0025, 4630,     11.4,2,  25.1073,2,  25.10716,2,  35.3379,2,-999.0000,9,   192.69,1,   208.55,2,     13.2,2,   208.64,2,  -999.00,9,  -999.00,9,  -999.00,  -999.00,9,  -999.00,  -999.00,9,  -999.00, -999.000,9, -999.000, -999.000,9, -999.000,9, -999.000,9,   -999.0,9,   -999.0,9,-999.0000,9, -999.000,9, -999.000,   -999.0,9,   -999.0,  25.1048,  23.5647
    49MR0505_1,   P03,   120,  1,      4, X12010,2,20051118,0124, 25.0053,-158.0025, 4630,    150.5,2,  18.2188,2,  18.21888,2,  34.8961,2,-999.0000,9,   193.38,1,   209.07,2,    164.2,2,   213.35,2,  -999.00,9,  -999.00,9,  -999.00,  -999.00,9,  -999.00,  -999.00,9,  -999.00, -999.000,9, -999.000, -999.000,9, -999.000,9, -999.000,9,   -999.0,9,   -999.0,9,-999.0000,9, -999.000,9, -999.000,   -999.0,9,   -999.0,  18.1928,  25.1448
    49MR0505_1,   P03,   120,  1,      3, X12015,2,20051118,0124, 25.0053,-158.0025, 4630,    201.5,2,  16.0696,2,  16.06686,2,  34.6031,2,-999.0000,9,   187.77,1,   202.81,2,    206.5,2,   203.86,2,  -999.00,9,  -999.00,9,  -999.00,  -999.00,9,  -999.00,  -999.00,9,  -999.00, -999.000,9, -999.000, -999.000,9, -999.000,9, -999.000,9,   -999.0,9,   -999.0,9,-999.0000,9, -999.000,9, -999.000,   -999.0,9,   -999.0,  16.0377,  25.4337
    49MR0505_1,   P03,   120,  1,      2, X12014,2,20051118,0124, 25.0053,-158.0025, 4630,    249.9,2,  14.4146,2,  14.41049,2,  34.4430,2,-999.0000,9,   191.07,1,   205.55,2,    249.4,2,   206.81,2,  -999.00,9,  -999.00,9,  -999.00,  -999.00,9,  -999.00,  -999.00,9,  -999.00, -999.000,9, -999.000, -999.000,9, -999.000,9, -999.000,9,   -999.0,9,   -999.0,9,-999.0000,9, -999.000,9, -999.000,   -999.0,9,   -999.0,  14.3779,  25.6768
    49MR0505_1,   P03,   120,  1,      1, X12013,2,20051118,0124, 25.0053,-158.0025, 4630,   4652.3,2,   1.4954,2,   1.49530,2,  34.6891,2,  34.6891,6,   144.89,1,   154.62,2,   4652.3,2,   154.79,2,   154.52,2,   151.48,2,     0.45,    36.18,2,     0.13,     0.01,2,     0.01,    2.521,2,    0.016,    0.002,2,    0.002,2,    0.000,2,   -999.0,9,   -999.0,9,-999.0000,9, -999.000,9, -999.000,   -999.0,9,   -999.0,   1.1028,  27.7886