BOTTLE,20100316JAMSTECRIGC
EXPOCODE,SECT,STNNBR,CASTNO,SAMPNO,BTLNBR,BTLNBR_FLAG_W,DATE,TIME,LATITUDE,LONGITUDE,DEPTH,CTDPRS,CTDPRS_FLAG_W,CTDTMP,CTDTMP_FLAG_W,SBE35,SBE35_FLAG_W,CTDSAL,CTDSAL_FLAG_W,SALNTY,SALNTY_FLAG_W,CTDOXY,CTDOXY_FLAG_W,OPTOXY,OPTOXY_FLAG_W,DWNPRS,DWNPRS_FLAG_W,DWNOXY,DWNOXY_FLAG_W,OXYGEN,OXYGEN_FLAG_W,SILCAT,SILCAT_FLAG_W,SILUNC,NITRAT,NITRAT_FLAG_W,NRAUNC,NITRIT,NITRIT_FLAG_W,NRIUNC,PHSPHT,PHSPHT_FLAG_W,PHPUNC,CFC-11,CFC-11_FLAG_W,CFC-12,CFC-12_FLAG_W,CFC113,CFC113_FLAG_W,TCARBN,TCARBN_FLAG_W,ALKALI,ALKALI_FLAG_W,PH,PH_FLAG_W,DELC13,DELC13_FLAG_W,C13ERR,DELC14,DELC14_FLAG_W,C14ERR,THETA,SIG0
,,,,,,,,UTC,DEG,DEG,M,DBAR,,ITS-90,,ITS-90,,PSS-78,,PSS-78,,UMOL/KG,,UMOL/KG,,DBAR,,UMOL/KG,,UMOL/KG,,UMOL/KG,,UMOL/KG,UMOL/KG,,UMOL/KG,UMOL/KG,,UMOL/KG,UMOL/KG,,UMOL/KG,PMOL/KG,,PMOL/KG,,PMOL/KG,,UMOL/KG,,UMOL/KG,,,,/MILLE,,/MILLE,/MILLE,,/MILLE,DEG C,KG/CUM
    49MR0505_1,   P03,    94,  1,      0,   -999,9,20051114,1414, 24.2515,-149.1583, 5337,   -999.0,9,-999.0000,9,-999.00000,9,-999.0000,9,  35.3457,2,  -999.00,9,  -999.00,9,   -999.0,9,  -999.00,9,  -999.00,9,  -999.00,9,  -999.00,  -999.00,9,  -999.00,  -999.00,9,  -999.00, -999.000,9, -999.000, -999.000,9, -999.000,9, -999.000,9,   -999.0,9,   -999.0,9,-999.0000,9, -999.000,9, -999.000,   -999.0,9,   -999.0,-999.0000,-999.0000
    49MR0505_1,   P03,    94,  1,     36, X12048,2,20051114,1414, 24.2515,-149.1583, 5337,      9.7,2,  23.8633,2,  23.86185,2,  35.3262,2,  35.3290,2,   198.73,1,   212.89,2,      8.8,2,   212.99,2,   212.67,2,     1.01,2,     0.12,     0.05,2,     0.03,     0.00,2,     0.01,    0.065,2,    0.029,    1.808,2,    1.071,2, -999.000,5,   2002.2,2,   2327.5,2,   8.0824,6, -999.000,9, -999.000,   -999.0,9,   -999.0,  23.8613,  23.9294
    49MR0505_1,   P03,    94,  1,     35, X12047,2,20051114,1414, 24.2515,-149.1583, 5337,     49.7,2,  23.8225,2,  23.82109,2,  35.3728,2,  35.3763,2,   199.35,1,   213.08,2,     52.3,2,   213.29,2,   213.26,2,     1.00,2,     0.12,     0.05,2,     0.03,     0.00,2,     0.01,    0.050,2,    0.034,    1.839,2,    1.085,2, -999.000,5,   2005.1,6,   2328.7,2,   8.0812,2, -999.000,9, -999.000,   -999.0,9,   -999.0,  23.8121,  23.9792
    49MR0505_1,   P03,    94,  1,     34, X12046,2,20051114,1414, 24.2515,-149.1583, 5337,    100.1,2,  21.2637,2,  21.27611,2,  35.1787,2,  35.1663,2,   207.18,1,   221.38,2,     97.5,2,   220.65,2,   221.59,2,     1.50,2,     0.12,     0.05,2,     0.03,     0.00,2,     0.01,    0.063,2,    0.029,    2.149,2,    1.237,2, -999.000,5,   2017.8,2,   2312.0,6,   8.0391,2, -999.000,9, -999.000,   -999.0,9,   -999.0,  21.2444,  24.5632
    49MR0505_1,   P03,    94,  1,     33, X12003,2,20051114,1414, 24.2515,-149.1583, 5337,    150.0,2,  18.7824,2,  18.78435,2,  34.8884,2,  34.8881,2,   190.93,1,   203.80,2,    145.3,2,   201.96,2,   204.20,2,     2.44,2,     0.12,     1.47,2,     0.04,     0.03,2,     0.01,    0.206,2,    0.016,    2.364,2,    1.342,2, -999.000,5,   2040.2,2,   2289.3,2,   7.9729,6, -999.000,9, -999.000,   -999.0,9,   -999.0,  18.7559,  24.9979
    49MR0505_1,   P03,    94,  1,     32, X12044,2,20051114,1414, 24.2515,-149.1583, 5337,    198.9,2,  15.4649,2,  15.47649,2,  34.4670,2,  34.4603,2,   189.91,1,   202.23,2,    197.8,2,   203.26,2,   202.93,2,     4.89,2,     0.13,     5.21,2,     0.05,     0.00,2,     0.01,    0.455,2,    0.013,    2.715,2,    1.509,2, -999.000,5,   2056.5,2,   2263.7,2,   7.9029,2, -999.000,9, -999.000,   -999.0,9,   -999.0,  15.4343,  25.4651
    49MR0505_1,   P03,    94,  1,     31, X12051,2,20051114,1414, 24.2515,-149.1583, 5337,    250.0,2,  12.7965,2,  12.80036,2,  34.2554,2,  34.2567,2,   202.16,1,   215.00,2,    246.7,2,   215.61,2,   215.35,2,     8.52,2,     0.14,     8.87,2,     0.06,     0.00,2,     0.01,    0.689,2,    0.013,    2.997,6,    1.645,6,    0.105,6,   2066.1,2,   2255.1,2,   7.8594,2, -999.000,9, -999.000,   -999.0,9,   -999.0,  12.7627,  25.8631
    49MR0505_1,   P03,    94,  1,     30, X12042,2,20051114,1414, 24.2515,-149.1583, 5337,    300.7,2,  11.3601,2,  11.35568,2,  34.1850,2,  34.1855,2,   202.42,1,   215.31,2,    301.7,2,   215.52,2,   215.72,2,    12.56,2,     0.15,    12.08,2,     0.07,     0.00,2,     0.01,    0.896,2,    0.013,    3.147,2,    1.706,2,    0.118,2,   2084.5,2,   2254.0,2,   7.8218,2, -999.000,9, -999.000,   -999.0,9,   -999.0,  11.3224,  26.0824
    49MR0505_1,   P03,    94,  1,     29, X12041,2,20051114,1414, 24.2515,-149.1583, 5337,    398.9,2,   8.9816,2,   8.98152,2,  34.1004,2,  34.0993,2,   171.86,1,   182.71,2,    406.1,2,   188.66,2,   182.74,2,    27.25,2,     0.18,    20.36,2,     0.09,     0.00,2,     0.01,    1.462,2,    0.014,    2.979,2,    1.493,2,    0.122,2,   2141.2,2,   2261.9,2,   7.7117,2, -999.000,9, -999.000,   -999.0,9,   -999.0,   8.9383,  26.4235
    49MR0505_1,   P03,    94,  1,     28, X12016,2,20051114,1414, 24.2515,-149.1583, 5337,    499.6,2,   6.6770,2,   6.68197,2,  34.0155,2,  34.0170,6,   117.85,1,   126.04,2,    503.6,2,   128.28,2,   125.06,2,    51.24,2,     0.23,    30.25,2,     0.12,     0.00,2,     0.01,    2.185,2,    0.015,    2.047,2,    0.951,2,    0.100,2,   2212.4,2,   2275.8,2,   7.5507,2, -999.000,9, -999.000,   -999.0,9,   -999.0,   6.6312,  26.6930
    49MR0505_1,   P03,    94,  1,     27, X12039,2,20051114,1414, 24.2515,-149.1583, 5337,    600.2,2,   5.4416,2,   5.44208,2,  34.1146,2,  34.1137,2,    44.35,1,    47.64,2,    602.2,2,    46.24,2,    47.40,2,    76.41,2,     0.29,    38.98,2,     0.14,     0.00,2,     0.01,    2.873,2,    0.017,    0.441,2,    0.220,2,    0.021,2,   2291.1,2,   2306.0,2,   7.3917,2, -999.000,9, -999.000,   -999.0,9,   -999.0,   5.3917,  26.9276
    49MR0505_1,   P03,    94,  1,     26, X12038,2,20051114,1414, 24.2515,-149.1583, 5337,    700.8,2,   4.7182,2,   4.71912,2,  34.2288,2,  34.2296,2,    21.20,1,    22.99,2,    701.1,2,    23.04,2,    22.32,2,    95.33,2,     0.33,    42.19,2,     0.15,     0.00,2,     0.01,    3.123,2,    0.018,    0.087,2,    0.046,2,    0.000,2,   2331.0,6,   2325.2,2,   7.3494,2, -999.000,9, -999.000,   -999.0,9,   -999.0,   4.6632,  27.1018
    49MR0505_1,   P03,    94,  1,     25, X12037,2,20051114,1414, 24.2515,-149.1583, 5337,    800.8,2,   4.4176,2,   4.41850,2,  34.3385,2,  34.3371,2,    20.55,1,    22.28,2,    801.5,2,    22.76,2,    21.66,2,   103.74,2,     0.35,    42.95,2,     0.15,     0.00,2,     0.01,    3.172,2,    0.018,    0.031,6,    0.017,6,    0.000,6,   2343.6,2,   2343.5,6,   7.3598,2, -999.000,9, -999.000,   -999.0,9,   -999.0,   4.3558,  27.2224
    49MR0505_1,   P03,    94,  1,     24, X12008,2,20051114,1414, 24.2515,-149.1583, 5337,    900.5,2,   4.1012,2,   4.10186,2,  34.4097,2,  34.4094,2,    25.60,1,    27.38,2,    901.1,2,    28.23,2,    27.02,2,   110.84,2,     0.36,    43.06,2,     0.15,    -0.01,2,     0.01,    3.153,2,    0.018,    0.004,2,    0.001,2,    0.000,2,   2349.7,2,   2353.4,2,   7.3791,2, -999.000,9, -999.000,   -999.0,9,   -999.0,   4.0332,  27.3131
    49MR0505_1,   P03,    94,  1,     23, X12035,2,20051114,1414, 24.2515,-149.1583, 5337,   1000.2,2,   3.9254,2,   3.92580,2,  34.4801,2,  34.4804,6,    38.92,1,    41.59,2,   1000.6,2,    41.86,2,    41.26,2,   112.77,2,     0.37,    42.49,2,     0.15,     0.00,2,     0.01,    3.102,2,    0.018,    0.000,2,    0.000,2,    0.000,2,   2344.8,2,   2363.3,2,   7.4101,2, -999.000,9, -999.000,   -999.0,9,   -999.0,   3.8503,  27.3880
    49MR0505_1,   P03,    94,  1,     22, X12034,2,20051114,1414, 24.2515,-149.1583, 5337,   1199.3,2,   3.4598,2,   3.46010,2,  34.5333,2,  34.5334,2,    47.92,1,    51.34,2,   1200.4,2,    51.44,2,    51.19,2,   122.63,2,     0.39,    42.30,2,     0.15,     0.00,2,     0.01,    3.082,2,    0.018,    0.000,2,    0.000,2,    0.000,2,   2354.1,2,   2381.3,2,   7.4305,2, -999.000,9, -999.000,   -999.0,9,   -999.0,   3.3722,  27.4776
    49MR0505_1,   P03,    94,  1,     21, X12033,2,20051114,1414, 24.2515,-149.1583, 5337,   1400.4,2,   3.0466,2,   3.04682,2,  34.5558,2,  34.5556,2,    55.50,1,    59.58,2,   1401.2,2,    59.45,2,    59.54,2,   132.37,2,     0.41,    41.93,2,     0.15,     0.00,2,     0.01,    3.035,2,    0.018,    0.000,2,    0.000,2,    0.000,2,   2358.0,2,   2390.0,2,   7.4433,2, -999.000,9, -999.000,   -999.0,9,   -999.0,   2.9465,  27.5353
    49MR0505_1,   P03,    94,  1,     20, X12032,2,20051114,1414, 24.2515,-149.1583, 5337,   1601.9,2,   2.6654,2,   2.66544,2,  34.5787,2,  34.5786,2,    63.69,1,    68.54,2,   1602.2,2,    68.88,2,    68.61,2,   141.49,2,     0.43,    41.46,2,     0.15,     0.00,2,     0.01,    2.986,2,    0.017,    0.001,2,    0.006,2,    0.000,2,   2359.0,2,   2398.5,2,   7.4561,6, -999.000,9, -999.000,   -999.0,9,   -999.0,   2.5531,  27.5885
    49MR0505_1,   P03,    94,  1,     19, X12001,2,20051114,1414, 24.2515,-149.1583, 5337,   1803.8,2,   2.3467,2,   2.34685,2,  34.6008,2,  34.6010,2,    72.35,1,    78.23,2,   1804.9,2,    77.43,2,    77.83,2,   149.10,2,     0.45,    40.90,2,     0.15,     0.00,2,     0.01,    2.940,2,    0.017,    0.000,2,    0.000,2,    0.000,2,   2364.3,2,   2402.6,2,   7.4729,2, -999.000,9, -999.000,   -999.0,9,   -999.0,   2.2217,  27.6340
    49MR0505_1,   P03,    94,  1,     18, X12030,2,20051114,1414, 24.2515,-149.1583, 5337,   1999.9,2,   2.0918,2,   2.09177,2,  34.6183,2,  34.6184,2,    79.53,1,    86.14,2,   2001.5,2,    84.61,2,    85.71,2,   156.01,2,     0.46,    40.39,2,     0.15,     0.00,2,     0.01,    2.894,2,    0.017,    0.000,2,    0.000,2,    0.000,2,   2363.6,2,   2413.0,2,   7.4866,2, -999.000,9, -999.000,   -999.0,9,   -999.0,   1.9540,  27.6695
    49MR0505_1,   P03,    94,  1,     17, X12049,2,20051114,1414, 24.2515,-149.1583, 5337,   2199.5,2,   1.9178,2,   1.91775,2,  34.6331,2,  34.6337,6,    87.70,1,    95.28,2,   2200.1,2,    93.53,2,    94.81,2,   159.47,2,     0.47,    39.90,2,     0.14,     0.00,2,     0.01,    2.848,2,    0.017,    0.000,2,    0.001,2,    0.000,2,   2360.6,2,   2418.2,2,   7.5033,2, -999.000,9, -999.000,   -999.0,9,   -999.0,   1.7657,  27.6960
    49MR0505_1,   P03,    94,  1,     16, X12028,2,20051114,1414, 24.2515,-149.1583, 5337,   2400.3,2,   1.7866,2,   1.78659,2,  34.6452,2,  34.6455,2,    95.27,1,   103.40,2,   2400.6,2,   101.90,2,   103.11,2,   161.67,2,     0.47,    39.38,2,     0.14,     0.00,2,     0.01,    2.800,2,    0.017, -999.000,9, -999.000,9, -999.000,9,   2359.8,2,   2418.8,2,   7.5169,2, -999.000,9, -999.000,   -999.0,9,   -999.0,   1.6192,  27.7167
    49MR0505_1,   P03,    94,  1,     15, X12006,2,20051114,1414, 24.2515,-149.1583, 5337,   2599.5,2,   1.6965,2,   1.69635,2,  34.6536,2,  34.6537,2,   101.12,1,   109.79,2,   2599.4,2,   109.74,2,   109.57,2,   162.87,2,     0.48,    39.03,2,     0.14,     0.00,2,     0.01,    2.764,2,    0.017,    0.000,2,    0.000,2,    0.000,2,   2357.3,2,   2423.7,6,   7.5283,2, -999.000,9, -999.000,   -999.0,9,   -999.0,   1.5129,  27.7312
    49MR0505_1,   P03,    94,  1,     14, X12026,2,20051114,1414, 24.2515,-149.1583, 5337,   2799.8,2,   1.6263,2,   1.62630,2,  34.6618,2,  34.6620,2,   107.56,1,   116.94,2,   2799.9,2,   116.46,2,   116.75,2,   162.97,2,     0.48,    38.47,2,     0.14,     0.00,2,     0.01,    2.727,2,    0.017, -999.000,9, -999.000,9, -999.000,9,   2355.2,2,   2420.7,2,   7.5410,6, -999.000,9, -999.000,   -999.0,9,   -999.0,   1.4257,  27.7442
    49MR0505_1,   P03,    94,  1,     13, X12025,2,20051114,1414, 24.2515,-149.1583, 5337,   3000.0,2,   1.5755,2,   1.57549,2,  34.6682,2,  34.6683,2,   112.85,1,   122.82,2,   3000.0,2,   122.67,2,   122.52,2,   163.13,2,     0.48,    38.18,2,     0.14,     0.00,2,     0.01,    2.697,2,    0.017,    0.000,2,    0.000,2,    0.000,2,   2351.1,2,   2424.4,2,   7.5516,2, -999.000,9, -999.000,   -999.0,9,   -999.0,   1.3571,  27.7542
    49MR0505_1,   P03,    94,  1,     12, X12024,2,20051114,1414, 24.2515,-149.1583, 5337,   3250.5,2,   1.5232,2,   1.52328,2,  34.6752,2,  34.6751,6,   119.99,1,   130.45,2,   3250.7,2,   130.08,2,   130.35,2,   162.32,2,     0.48,    37.64,2,     0.14,     0.00,2,     0.01,    2.642,2,    0.017, -999.000,9, -999.000,9, -999.000,9,   2344.7,2,   2425.2,2,   7.5651,2, -999.000,9, -999.000,   -999.0,9,   -999.0,   1.2816,  27.7651
    49MR0505_1,   P03,    94,  1,     11, X12023,2,20051114,1414, 24.2515,-149.1583, 5337,   3500.7,2,   1.4986,2,   1.49872,2,  34.6794,2,  34.6797,2,   125.20,1,   135.82,2,   3500.8,2,   135.56,2,   135.86,2,   161.05,2,     0.47,    37.35,2,     0.14,     0.00,2,     0.01,    2.621,2,    0.017, -999.000,9, -999.000,9, -999.000,9,   2339.9,2,   2427.0,2,   7.5739,2, -999.000,9, -999.000,   -999.0,9,   -999.0,   1.2324,  27.7719
    49MR0505_1,   P03,    94,  1,     10, X12022,2,20051114,1414, 24.2515,-149.1583, 5337,   3750.8,2,   1.4822,2,   1.48210,2,  34.6827,2,  34.6832,6,   130.29,1,   141.01,2,   3750.8,2,   141.25,2,   141.26,2,   158.96,2,     0.47,    36.92,2,     0.14,     0.00,2,     0.01,    2.592,2,    0.016,    0.000,2,    0.000,2,    0.000,2,   2339.6,2,   2424.5,2,   7.5819,2, -999.000,9, -999.000,   -999.0,9,   -999.0,   1.1905,  27.7775
    49MR0505_1,   P03,    94,  1,      9, X12021,2,20051114,1414, 24.2515,-149.1583, 5337,   4000.6,2,   1.4755,2,   1.47534,2,  34.6853,2,  34.6861,2,   135.05,1,   145.84,2,   4000.6,2,   146.09,2,   146.10,2,   156.56,2,     0.46,    36.51,2,     0.14,     0.00,2,     0.01,    2.567,2,    0.016, -999.000,9, -999.000,9, -999.000,9,   2331.2,2,   2425.8,2,   7.5889,2, -999.000,9, -999.000,   -999.0,9,   -999.0,   1.1572,  27.7819
    49MR0505_1,   P03,    94,  1,      8, X12020,2,20051114,1414, 24.2515,-149.1583, 5337,   4250.9,2,   1.4804,2,   1.48033,2,  34.6876,2,  34.6878,2,   138.82,1,   149.55,2,   4251.0,2,   149.92,2,   149.91,2,   154.21,2,     0.46,    36.30,2,     0.13,     0.00,2,     0.01,    2.554,2,    0.016,    0.000,2,    0.003,2,    0.000,2,   2331.5,6,   2421.2,2,   7.5947,2, -999.000,9, -999.000,   -999.0,9,   -999.0,   1.1343,  27.7853
    49MR0505_1,   P03,    94,  1,      7, X12019,2,20051114,1414, 24.2515,-149.1583, 5337,   4500.0,2,   1.4852,2,   1.48525,2,  34.6896,2,  34.6895,2,   143.03,1,   153.69,2,   4500.1,2,   153.94,2,   153.94,2,   150.93,2,     0.45,    36.06,2,     0.13,     0.00,2,     0.01,    2.531,2,    0.016, -999.000,9, -999.000,9, -999.000,9,   2325.5,2,   2418.3,6,   7.5997,2, -999.000,9, -999.000,   -999.0,9,   -999.0,   1.1107,  27.7885
    49MR0505_1,   P03,    94,  1,      6, X12018,2,20051114,1414, 24.2515,-149.1583, 5337,   4751.0,2,   1.4828,2,   1.48282,2,  34.6917,2,  34.6920,2,   148.21,1,   158.74,2,   4751.1,2,   158.89,2,   159.07,2,   147.02,2,     0.44,    35.66,2,     0.13,     0.00,2,     0.01,    2.501,2,    0.016,    0.005,2,    0.004,2,    0.000,2,   2319.0,2,   2419.0,2,   7.6058,6, -999.000,9, -999.000,   -999.0,9,   -999.0,   1.0790,  27.7923
    49MR0505_1,   P03,    94,  1,      5, X12043,2,20051114,1414, 24.2515,-149.1583, 5337,   5000.3,2,   1.4825,2,   1.48259,2,  34.6938,2,  34.6940,2,   153.31,1,   163.33,2,   5000.3,2,   163.82,2,   163.63,2,   143.31,2,     0.43,    35.36,2,     0.13,     0.00,2,     0.01,    2.472,2,    0.016, -999.000,9, -999.000,9, -999.000,9,   2316.2,2,   2413.1,2,   7.6094,2, -999.000,9, -999.000,   -999.0,9,   -999.0,   1.0488,  27.7961
    49MR0505_1,   P03,    94,  1,      4, X12010,2,20051114,1414, 24.2515,-149.1583, 5337,   5248.6,2,   1.5017,2,   1.50162,2,  34.6947,2,  34.6947,2,   156.11,1,   165.54,2,   5248.6,2,   165.95,2,   165.69,2,   141.92,2,     0.43,    35.13,2,     0.13,     0.00,2,     0.01,    2.467,2,    0.016, -999.000,9, -999.000,9, -999.000,9,   2312.5,2,   2411.4,2,   7.6107,2, -999.000,9, -999.000,   -999.0,9,   -999.0,   1.0368,  27.7976
    49MR0505_1,   P03,    94,  1,      3, X12015,9,20051114,1414, 24.2515,-149.1583, 5337,     49.5,2,  23.8207,2,  23.81844,2,  35.3730,2,-999.0000,9,   199.01,1,   213.20,2,     52.3,2,   213.29,2,  -999.00,9,  -999.00,9,  -999.00,  -999.00,9,  -999.00,  -999.00,9,  -999.00, -999.000,9, -999.000, -999.000,9, -999.000,9, -999.000,9,   -999.0,9,   -999.0,9,-999.0000,9, -999.000,9, -999.000,   -999.0,9,   -999.0,  23.8103,  23.9799
    49MR0505_1,   P03,    94,  1,      2, X12014,9,20051114,1414, 24.2515,-149.1583, 5337,      9.4,2,  23.8611,2,  23.85976,2,  35.3267,2,-999.0000,9,   199.01,1,   212.59,2,      8.8,2,   213.00,2,  -999.00,9,  -999.00,9,  -999.00,  -999.00,9,  -999.00,  -999.00,9,  -999.00, -999.000,9, -999.000, -999.000,9, -999.000,9, -999.000,9,   -999.0,9,   -999.0,9,-999.0000,9, -999.000,9, -999.000,   -999.0,9,   -999.0,  23.8591,  23.9305
    49MR0505_1,   P03,    94,  1,      1, X12013,2,20051114,1414, 24.2515,-149.1583, 5337,   5417.9,2,   1.5206,2,   1.52063,2,  34.6951,2,  34.6952,6,   157.49,1,   166.36,2,   5418.0,2,   166.26,2,   166.21,2,   141.38,2,     0.43,    35.16,2,     0.13,    -0.01,2,     0.01,    2.470,2,    0.016,    0.006,2,    0.001,2,    0.000,2,   2313.6,2,   2409.3,2,   7.6113,2, -999.000,9, -999.000,   -999.0,9,   -999.0,   1.0337,  27.7981