BOTTLE,20100316JAMSTECRIGC
EXPOCODE,SECT,STNNBR,CASTNO,SAMPNO,BTLNBR,BTLNBR_FLAG_W,DATE,TIME,LATITUDE,LONGITUDE,DEPTH,CTDPRS,CTDPRS_FLAG_W,CTDTMP,CTDTMP_FLAG_W,SBE35,SBE35_FLAG_W,CTDSAL,CTDSAL_FLAG_W,SALNTY,SALNTY_FLAG_W,CTDOXY,CTDOXY_FLAG_W,OPTOXY,OPTOXY_FLAG_W,DWNPRS,DWNPRS_FLAG_W,DWNOXY,DWNOXY_FLAG_W,OXYGEN,OXYGEN_FLAG_W,SILCAT,SILCAT_FLAG_W,SILUNC,NITRAT,NITRAT_FLAG_W,NRAUNC,NITRIT,NITRIT_FLAG_W,NRIUNC,PHSPHT,PHSPHT_FLAG_W,PHPUNC,CFC-11,CFC-11_FLAG_W,CFC-12,CFC-12_FLAG_W,CFC113,CFC113_FLAG_W,TCARBN,TCARBN_FLAG_W,ALKALI,ALKALI_FLAG_W,PH,PH_FLAG_W,DELC13,DELC13_FLAG_W,C13ERR,DELC14,DELC14_FLAG_W,C14ERR,THETA,SIG0
,,,,,,,,UTC,DEG,DEG,M,DBAR,,ITS-90,,ITS-90,,PSS-78,,PSS-78,,UMOL/KG,,UMOL/KG,,DBAR,,UMOL/KG,,UMOL/KG,,UMOL/KG,,UMOL/KG,UMOL/KG,,UMOL/KG,UMOL/KG,,UMOL/KG,UMOL/KG,,UMOL/KG,PMOL/KG,,PMOL/KG,,PMOL/KG,,UMOL/KG,,UMOL/KG,,,,/MILLE,,/MILLE,/MILLE,,/MILLE,DEG C,KG/CUM
    49MR0505_1,   P03,    20,  1,      0,   -999,9,20051102,1423, 31.4987,-120.0455, 3729,   -999.0,9,-999.0000,9,-999.00000,9,-999.0000,9,  33.2583,2,  -999.00,9,  -999.00,9,   -999.0,9,  -999.00,9,  -999.00,9,  -999.00,9,  -999.00,  -999.00,9,  -999.00,  -999.00,9,  -999.00, -999.000,9, -999.000, -999.000,9, -999.000,9, -999.000,9,   -999.0,9,   -999.0,9,-999.0000,9, -999.000,9, -999.000,   -999.0,9,   -999.0,-999.0000,-999.0000
    49MR0505_1,   P03,    20,  1,     36, X12048,2,20051102,1423, 31.4987,-120.0455, 3729,      9.7,2,  16.9533,2,  16.94191,2,  33.2490,2,  33.2467,2,   241.48,1,   250.28,2,      7.4,2,   249.64,2,   249.67,2,     1.83,2,     0.12,     0.05,2,     0.03,     0.00,2,     0.01,    0.290,2,    0.014,    2.547,2,    1.505,2, -999.000,5,   -999.0,9,   -999.0,9,-999.0000,9, -999.000,9, -999.000,   -999.0,9,   -999.0,  16.9517,  24.1820
    49MR0505_1,   P03,    20,  1,     35, X12047,2,20051102,1423, 31.4987,-120.0455, 3729,     48.7,2,  13.0654,2,  13.06881,2,  33.1871,2,  33.1960,2,   231.68,1,   236.06,2,     51.2,2,   237.22,2,   235.85,2,     4.55,2,     0.13,     4.47,2,     0.05,     0.29,2,     0.01,    0.682,2,    0.013, -999.000,9, -999.000,9, -999.000,9,   -999.0,9,   -999.0,9,-999.0000,9, -999.000,9, -999.000,   -999.0,9,   -999.0,  13.0588,  24.9770
    49MR0505_1,   P03,    20,  1,     34, X12046,2,20051102,1423, 31.4987,-120.0455, 3729,     99.9,2,   9.8938,2,   9.89021,2,  33.3912,2,  33.4007,2,   183.41,1,   187.54,2,     93.2,2,   174.46,2,   186.67,2,    15.36,2,     0.15,    16.96,2,     0.08,     0.02,2,     0.01,    1.392,2,    0.014,    3.344,2,    1.807,2,    0.220,2,   -999.0,9,   -999.0,9,-999.0000,9, -999.000,9, -999.000,   -999.0,9,   -999.0,   9.8826,  25.7154
    49MR0505_1,   P03,    20,  1,     33, X12003,2,20051102,1423, 31.4987,-120.0455, 3729,    150.9,2,   8.9584,2,   8.96146,2,  33.8976,2,  33.8968,2,   127.29,1,   130.44,2,    152.5,2,   127.63,2,   130.55,2,    28.14,2,     0.18,    24.96,2,     0.10,     0.01,2,     0.01,    1.897,2,    0.015, -999.000,9, -999.000,9, -999.000,9,   -999.0,9,   -999.0,9,-999.0000,9, -999.000,9, -999.000,   -999.0,9,   -999.0,   8.9423,  26.2640
    49MR0505_1,   P03,    20,  1,     32, X12044,2,20051102,1423, 31.4987,-120.0455, 3729,    199.5,2,   8.4794,2,   8.47893,2,  34.0434,2,  34.0448,2,   101.43,1,   104.19,2,    198.9,2,   101.05,2,   103.56,2,    35.79,2,     0.20,    28.33,2,     0.11,     0.01,2,     0.01,    2.135,2,    0.015, -999.000,9, -999.000,9, -999.000,9,   -999.0,9,   -999.0,9,-999.0000,9, -999.000,9, -999.000,   -999.0,9,   -999.0,   8.4588,  26.4534
    49MR0505_1,   P03,    20,  1,     31, X12051,2,20051102,1423, 31.4987,-120.0455, 3729,    249.9,2,   7.9078,2,   7.90662,2,  34.0898,2,  34.0898,2,    83.86,1,    85.97,2,    248.2,2,    86.23,2,    85.77,2,    42.89,2,     0.21,    30.90,2,     0.12,     0.01,2,     0.01,    2.331,2,    0.016,    2.011,6,    0.977,6,    0.086,6,   -999.0,9,   -999.0,9,-999.0000,9, -999.000,9, -999.000,   -999.0,9,   -999.0,   7.8829,  26.5762
    49MR0505_1,   P03,    20,  1,     30, X12042,2,20051102,1423, 31.4987,-120.0455, 3729,    299.0,2,   7.2338,2,   7.23226,2,  34.0865,2,  34.0862,2,    70.62,1,    72.67,2,    299.8,2,    69.88,2,    73.31,2,    50.30,2,     0.23,    33.33,2,     0.13,     0.00,2,     0.01,    2.500,2,    0.016, -999.000,9, -999.000,9, -999.000,9,   -999.0,9,   -999.0,9,-999.0000,9, -999.000,9, -999.000,   -999.0,9,   -999.0,   7.2055,  26.6707
    49MR0505_1,   P03,    20,  1,     29, X12041,2,20051102,1423, 31.4987,-120.0455, 3729,    399.9,2,   6.6043,2,   6.60289,2,  34.1985,2,  34.1977,2,    33.60,1,    34.16,2,    399.8,2,    38.85,2,    33.96,2,    64.37,2,     0.26,    37.01,2,     0.14,     0.00,2,     0.01,    2.874,2,    0.017,    0.671,2,    0.316,2,    0.026,2,   -999.0,9,   -999.0,9,-999.0000,9, -999.000,9, -999.000,   -999.0,9,   -999.0,   6.5680,  26.8457
    49MR0505_1,   P03,    20,  1,     28, X12016,2,20051102,1423, 31.4987,-120.0455, 3729,    499.8,2,   5.7952,2,   5.79592,2,  34.2334,2,  34.2348,6,    19.26,1,    19.31,2,    499.3,2,    19.20,2,    19.20,2,    78.11,2,     0.29,    39.83,2,     0.14,     0.00,2,     0.01,    3.069,2,    0.018, -999.000,9, -999.000,9, -999.000,9,   -999.0,9,   -999.0,9,-999.0000,9, -999.000,9, -999.000,   -999.0,9,   -999.0,   5.7525,  26.9778
    49MR0505_1,   P03,    20,  1,     27, X12039,2,20051102,1423, 31.4987,-120.0455, 3729,    599.0,2,   5.4010,2,   5.40099,2,  34.3145,2,  34.3145,2,    11.68,1,    11.67,2,    597.6,2,    11.47,2,    11.72,2,    87.58,2,     0.31,    41.29,2,     0.15,     0.00,2,     0.01,    3.178,2,    0.018,    0.089,2,    0.045,2,    0.000,2,   -999.0,9,   -999.0,9,-999.0000,9, -999.000,9, -999.000,   -999.0,9,   -999.0,   5.3512,  27.0907
    49MR0505_1,   P03,    20,  1,     26, X12038,2,20051102,1423, 31.4987,-120.0455, 3729,    701.6,2,   5.1229,2,   5.12285,2,  34.3933,2,  34.3922,2,    10.52,1,    10.46,2,    702.2,2,    10.80,2,    10.52,2,    95.00,2,     0.33,    41.77,2,     0.15,     0.00,2,     0.01,    3.229,2,    0.018, -999.000,9, -999.000,9, -999.000,9,   -999.0,9,   -999.0,9,-999.0000,9, -999.000,9, -999.000,   -999.0,9,   -999.0,   5.0654,  27.1867
    49MR0505_1,   P03,    20,  1,     25, X12037,2,20051102,1423, 31.4987,-120.0455, 3729,    802.4,2,   4.6930,2,   4.69318,2,  34.4252,2,  34.4246,2,    12.95,1,    12.70,2,    803.9,2,    12.82,2,    13.03,2,   103.04,2,     0.35,    42.73,2,     0.15,     0.00,2,     0.01,    3.260,2,    0.018,    0.034,6,    0.024,6,    0.000,6,   -999.0,9,   -999.0,9,-999.0000,9, -999.000,9, -999.000,   -999.0,9,   -999.0,   4.6293,  27.2615
    49MR0505_1,   P03,    20,  1,     24, X12008,2,20051102,1423, 31.4987,-120.0455, 3729,    901.7,2,   4.3835,2,   4.38372,2,  34.4521,2,  34.4515,2,    16.57,1,    16.22,2,    901.9,2,    16.57,2,    16.70,2,   108.94,2,     0.36,    43.12,2,     0.15,     0.00,2,     0.01,    3.243,2,    0.018, -999.000,9, -999.000,9, -999.000,9,   -999.0,9,   -999.0,9,-999.0000,9, -999.000,9, -999.000,   -999.0,9,   -999.0,   4.3134,  27.3173
    49MR0505_1,   P03,    20,  1,     23, X12035,2,20051102,1423, 31.4987,-120.0455, 3729,   1002.5,2,   4.0411,2,   4.04083,2,  34.4806,2,  34.4797,6,    21.25,1,    20.87,2,   1003.0,2,    21.31,2,    21.82,2,   117.05,2,     0.38,    43.27,2,     0.15,     0.00,2,     0.01,    3.227,2,    0.018,    0.028,2,    0.020,2,    0.000,2,   -999.0,9,   -999.0,9,-999.0000,9, -999.000,9, -999.000,   -999.0,9,   -999.0,   3.9650,  27.3766
    49MR0505_1,   P03,    20,  1,     22, X12034,2,20051102,1423, 31.4987,-120.0455, 3729,   1203.2,2,   3.5055,2,   3.50564,2,  34.5207,2,  34.5204,2,    31.00,1,    30.63,2,   1201.9,2,    32.15,2,    31.75,2,   129.31,2,     0.40,    43.18,2,     0.15,     0.00,2,     0.01,    3.195,2,    0.018, -999.000,9, -999.000,9, -999.000,9,   -999.0,9,   -999.0,9,-999.0000,9, -999.000,9, -999.000,   -999.0,9,   -999.0,   3.4172,  27.4633
    49MR0505_1,   P03,    20,  1,     21, X12033,2,20051102,1423, 31.4987,-120.0455, 3729,   1402.6,2,   3.0623,2,   3.06194,2,  34.5505,2,  34.5497,2,    40.81,1,    40.57,2,   1401.7,2,    42.33,2,    41.64,2,   139.77,2,     0.43,    42.94,2,     0.15,     0.00,2,     0.01,    3.149,2,    0.018,    0.013,2,    0.011,2,    0.000,2,   -999.0,9,   -999.0,9,-999.0000,9, -999.000,9, -999.000,   -999.0,9,   -999.0,   2.9619,  27.5298
    49MR0505_1,   P03,    20,  1,     20, X12032,2,20051102,1423, 31.4987,-120.0455, 3729,   1601.6,2,   2.7155,2,   2.71544,2,  34.5773,2,  34.5765,6,    51.20,1,    51.38,2,   1601.3,2,    52.29,2,    52.48,2,   148.25,2,     0.45,    42.50,2,     0.15,     0.00,2,     0.01,    3.090,2,    0.018, -999.000,9, -999.000,9, -999.000,9,   -999.0,9,   -999.0,9,-999.0000,9, -999.000,9, -999.000,   -999.0,9,   -999.0,   2.6026,  27.5831
    49MR0505_1,   P03,    20,  1,     19, X12001,2,20051102,1423, 31.4987,-120.0455, 3729,   1801.1,2,   2.3939,2,   2.39386,2,  34.5994,2,  34.5992,2,    62.65,1,    63.41,2,   1800.8,2,    64.38,2,    64.10,2,   156.05,2,     0.46,    41.77,2,     0.15,     0.00,2,     0.01,    3.020,2,    0.018,    0.000,2,    0.001,2,    0.000,2,   -999.0,9,   -999.0,9,-999.0000,9, -999.000,9, -999.000,   -999.0,9,   -999.0,   2.2685,  27.6291
    49MR0505_1,   P03,    20,  1,     18, X12030,2,20051102,1423, 31.4987,-120.0455, 3729,   2001.1,2,   2.1395,2,   2.13955,2,  34.6203,2,  34.6203,2,    74.90,1,    76.32,2,   2000.8,2,    77.31,2,    76.72,2,   161.06,2,     0.47,    41.01,2,     0.15,     0.00,2,     0.01,    2.945,2,    0.017, -999.000,9, -999.000,9, -999.000,9,   -999.0,9,   -999.0,9,-999.0000,9, -999.000,9, -999.000,   -999.0,9,   -999.0,   2.0009,  27.6674
    49MR0505_1,   P03,    20,  1,     17, X12049,2,20051102,1423, 31.4987,-120.0455, 3729,   2201.6,2,   1.9501,2,   1.95011,2,  34.6393,2,  34.6389,6,    87.70,1,    89.56,2,   2202.0,2,    89.39,2,    89.96,2,   163.36,2,     0.48,    40.31,2,     0.15,     0.00,2,     0.01,    2.871,2,    0.017,    0.000,2,    0.000,2,    0.000,2,   -999.0,9,   -999.0,9,-999.0000,9, -999.000,9, -999.000,   -999.0,9,   -999.0,   1.7973,  27.6985
    49MR0505_1,   P03,    20,  1,     16, X12028,2,20051102,1423, 31.4987,-120.0455, 3729,   2401.0,2,   1.8536,2,   1.85372,2,  34.6489,2,  34.6486,2,    95.22,1,    97.30,2,   2401.0,2,    97.95,2,    97.64,2,   164.54,2,     0.48,    39.81,2,     0.14,     0.00,2,     0.01,    2.828,2,    0.017, -999.000,9, -999.000,9, -999.000,9,   -999.0,9,   -999.0,9,-999.0000,9, -999.000,9, -999.000,   -999.0,9,   -999.0,   1.6849,  27.7147
    49MR0505_1,   P03,    20,  1,     15, X12006,2,20051102,1423, 31.4987,-120.0455, 3729,   2599.8,2,   1.7632,2,   1.76307,2,  34.6572,2,  34.6560,3,   102.59,1,   104.75,2,   2600.1,2,   104.91,2,   105.24,2,   165.47,2,     0.48,    39.31,2,     0.14,     0.00,2,     0.01,    2.787,2,    0.017,    0.003,2,    0.002,2,    0.000,2,   -999.0,9,   -999.0,9,-999.0000,9, -999.000,9, -999.000,   -999.0,9,   -999.0,   1.5783,  27.7293
    49MR0505_1,   P03,    20,  1,     14, X12026,2,20051102,1423, 31.4987,-120.0455, 3729,   2799.1,2,   1.7142,2,   1.71430,2,  34.6623,2,  34.6623,2,   107.48,1,   109.60,2,   2799.0,2,   110.49,2,   110.09,2,   166.28,2,     0.48,    39.02,2,     0.14,     0.00,2,     0.01,    2.754,2,    0.017, -999.000,9, -999.000,9, -999.000,9,   -999.0,9,   -999.0,9,-999.0000,9, -999.000,9, -999.000,   -999.0,9,   -999.0,   1.5119,  27.7383
    49MR0505_1,   P03,    20,  1,     13, X12025,2,20051102,1423, 31.4987,-120.0455, 3729,   2999.9,2,   1.6544,2,   1.65434,2,  34.6670,2,  34.6671,2,   112.72,1,   114.71,2,   3000.0,2,   115.40,2,   115.24,2,   167.45,2,     0.49,    38.67,2,     0.14,     0.00,2,     0.01,    2.733,2,    0.017,    0.002,2,    0.000,2,    0.000,2,   -999.0,9,   -999.0,9,-999.0000,9, -999.000,9, -999.000,   -999.0,9,   -999.0,   1.4343,  27.7477
    49MR0505_1,   P03,    20,  1,     12, X12024,2,20051102,1423, 31.4987,-120.0455, 3729,   3249.2,2,   1.6046,2,   1.60460,2,  34.6720,2,  34.6719,6,   118.43,1,   120.33,2,   3249.4,2,   120.89,2,   120.91,2,   167.87,2,     0.49,    38.22,2,     0.14,     0.00,2,     0.01,    2.695,2,    0.017, -999.000,9, -999.000,9, -999.000,9,   -999.0,9,   -999.0,9,-999.0000,9, -999.000,9, -999.000,   -999.0,9,   -999.0,   1.3612,  27.7570
    49MR0505_1,   P03,    20,  1,     11, X12023,2,20051102,1423, 31.4987,-120.0455, 3729,   3499.9,2,   1.5799,2,   1.57972,2,  34.6753,2,  34.6755,2,   122.57,1,   124.03,2,   3499.9,2,   124.73,2,   124.74,2,   168.94,2,     0.49,    38.01,2,     0.14,     0.00,2,     0.01,    2.671,2,    0.017,    0.013,2,    0.010,2,    0.000,2,   -999.0,9,   -999.0,9,-999.0000,9, -999.000,9, -999.000,   -999.0,9,   -999.0,   1.3118,  27.7631
    49MR0505_1,   P03,    20,  1,     10, X12022,9,20051102,1423, 31.4987,-120.0455, 3729,      9.6,2,  16.9535,2,  16.95029,2,  33.2497,2,-999.0000,9,   241.39,1,   249.92,2,      7.4,2,   249.53,2,  -999.00,9,  -999.00,9,  -999.00,  -999.00,9,  -999.00,  -999.00,9,  -999.00, -999.000,9, -999.000, -999.000,9, -999.000,9, -999.000,9,   -999.0,9,   -999.0,9,-999.0000,9, -999.000,9, -999.000,   -999.0,9,   -999.0,  16.9519,  24.1825
    49MR0505_1,   P03,    20,  1,      9, X12021,9,20051102,1423, 31.4987,-120.0455, 3729,     49.1,2,  13.0774,2,  13.07941,2,  33.1948,2,-999.0000,9,   231.24,1,   236.76,2,     51.4,2,   236.58,2,  -999.00,9,  -999.00,9,  -999.00,  -999.00,9,  -999.00,  -999.00,9,  -999.00, -999.000,9, -999.000, -999.000,9, -999.000,9, -999.000,9,   -999.0,9,   -999.0,9,-999.0000,9, -999.000,9, -999.000,   -999.0,9,   -999.0,  13.0708,  24.9806
    49MR0505_1,   P03,    20,  1,      8, X12020,9,20051102,1423, 31.4987,-120.0455, 3729,    100.0,2,   9.8910,2,   9.89260,2,  33.3920,2,-999.0000,9,   183.25,1,   187.47,2,     93.5,2,   174.36,2,  -999.00,9,  -999.00,9,  -999.00,  -999.00,9,  -999.00,  -999.00,9,  -999.00, -999.000,9, -999.000, -999.000,9, -999.000,9, -999.000,9,   -999.0,9,   -999.0,9,-999.0000,9, -999.000,9, -999.000,   -999.0,9,   -999.0,   9.8798,  25.7166
    49MR0505_1,   P03,    20,  1,      7, X12019,9,20051102,1423, 31.4987,-120.0455, 3729,    150.6,2,   8.9595,2,   8.96055,2,  33.8997,2,-999.0000,9,   127.23,1,   130.68,2,    152.5,2,   127.62,2,  -999.00,9,  -999.00,9,  -999.00,  -999.00,9,  -999.00,  -999.00,9,  -999.00, -999.000,9, -999.000, -999.000,9, -999.000,9, -999.000,9,   -999.0,9,   -999.0,9,-999.0000,9, -999.000,9, -999.000,   -999.0,9,   -999.0,   8.9435,  26.2655
    49MR0505_1,   P03,    20,  1,      6, X12018,9,20051102,1423, 31.4987,-120.0455, 3729,    200.1,2,   8.4552,2,   8.46521,2,  34.0500,2,-999.0000,9,   100.03,1,   103.83,2,    200.1,2,    99.82,2,  -999.00,9,  -999.00,9,  -999.00,  -999.00,9,  -999.00,  -999.00,9,  -999.00, -999.000,9, -999.000, -999.000,9, -999.000,9, -999.000,9,   -999.0,9,   -999.0,9,-999.0000,9, -999.000,9, -999.000,   -999.0,9,   -999.0,   8.4345,  26.4623
    49MR0505_1,   P03,    20,  1,      5, X12043,9,20051102,1423, 31.4987,-120.0455, 3729,    250.3,2,   7.8944,2,   7.89407,2,  34.0891,2,-999.0000,9,    84.00,1,    86.08,2,    248.5,2,    86.21,2,  -999.00,9,  -999.00,9,  -999.00,  -999.00,9,  -999.00,  -999.00,9,  -999.00, -999.000,9, -999.000, -999.000,9, -999.000,9, -999.000,9,   -999.0,9,   -999.0,9,-999.0000,9, -999.000,9, -999.000,   -999.0,9,   -999.0,   7.8695,  26.5776
    49MR0505_1,   P03,    20,  1,      4, X12010,9,20051102,1423, 31.4987,-120.0455, 3729,    298.9,2,   7.2277,2,   7.22820,2,  34.0877,2,-999.0000,9,    70.89,1,    72.83,2,    300.0,2,    69.82,2,  -999.00,9,  -999.00,9,  -999.00,  -999.00,9,  -999.00,  -999.00,9,  -999.00, -999.000,9, -999.000, -999.000,9, -999.000,9, -999.000,9,   -999.0,9,   -999.0,9,-999.0000,9, -999.000,9, -999.000,   -999.0,9,   -999.0,   7.1994,  26.6725
    49MR0505_1,   P03,    20,  1,      3, X12015,9,20051102,1423, 31.4987,-120.0455, 3729,    400.2,2,   6.5398,2,   6.54143,2,  34.1888,2,-999.0000,9,    33.83,1,    34.37,2,    400.2,2,    38.83,2,  -999.00,9,  -999.00,9,  -999.00,  -999.00,9,  -999.00,  -999.00,9,  -999.00, -999.000,9, -999.000, -999.000,9, -999.000,9, -999.000,9,   -999.0,9,   -999.0,9,-999.0000,9, -999.000,9, -999.000,   -999.0,9,   -999.0,   6.5037,  26.8466
    49MR0505_1,   P03,    20,  1,      2, X12014,9,20051102,1423, 31.4987,-120.0455, 3729,    500.0,2,   5.8013,2,   5.80221,2,  34.2334,2,-999.0000,9,    19.21,1,    19.31,2,    499.4,2,    19.19,2,  -999.00,9,  -999.00,9,  -999.00,  -999.00,9,  -999.00,  -999.00,9,  -999.00, -999.000,9, -999.000, -999.000,9, -999.000,9, -999.000,9,   -999.0,9,   -999.0,9,-999.0000,9, -999.000,9, -999.000,   -999.0,9,   -999.0,   5.7586,  26.9770
    49MR0505_1,   P03,    20,  1,      1, X12013,2,20051102,1423, 31.4987,-120.0455, 3729,   3763.4,2,   1.5539,2,   1.55375,2,  34.6791,2,  34.6791,6,   126.67,1,   127.59,2,   3763.4,2,   128.12,2,   128.14,2,   170.37,2,     0.49,    37.77,2,     0.14,     0.00,2,     0.01,    2.662,2,    0.017, -999.000,5, -999.000,5, -999.000,5,   -999.0,9,   -999.0,9,-999.0000,9, -999.000,9, -999.000,   -999.0,9,   -999.0,   1.2590,  27.7698