BOTTLE,20100316JAMSTECRIGC
EXPOCODE,SECT,STNNBR,CASTNO,SAMPNO,BTLNBR,BTLNBR_FLAG_W,DATE,TIME,LATITUDE,LONGITUDE,DEPTH,CTDPRS,CTDPRS_FLAG_W,CTDTMP,CTDTMP_FLAG_W,SBE35,SBE35_FLAG_W,CTDSAL,CTDSAL_FLAG_W,SALNTY,SALNTY_FLAG_W,CTDOXY,CTDOXY_FLAG_W,OPTOXY,OPTOXY_FLAG_W,DWNPRS,DWNPRS_FLAG_W,DWNOXY,DWNOXY_FLAG_W,OXYGEN,OXYGEN_FLAG_W,SILCAT,SILCAT_FLAG_W,SILUNC,NITRAT,NITRAT_FLAG_W,NRAUNC,NITRIT,NITRIT_FLAG_W,NRIUNC,PHSPHT,PHSPHT_FLAG_W,PHPUNC,CFC-11,CFC-11_FLAG_W,CFC-12,CFC-12_FLAG_W,CFC113,CFC113_FLAG_W,TCARBN,TCARBN_FLAG_W,ALKALI,ALKALI_FLAG_W,PH,PH_FLAG_W,DELC13,DELC13_FLAG_W,C13ERR,DELC14,DELC14_FLAG_W,C14ERR,THETA,SIG0
,,,,,,,,UTC,DEG,DEG,M,DBAR,,ITS-90,,ITS-90,,PSS-78,,PSS-78,,UMOL/KG,,UMOL/KG,,DBAR,,UMOL/KG,,UMOL/KG,,UMOL/KG,,UMOL/KG,UMOL/KG,,UMOL/KG,UMOL/KG,,UMOL/KG,UMOL/KG,,UMOL/KG,PMOL/KG,,PMOL/KG,,PMOL/KG,,UMOL/KG,,UMOL/KG,,,,/MILLE,,/MILLE,/MILLE,,/MILLE,DEG C,KG/CUM
    49MR0505_1,   P03,   118,  1,      0,   -999,9,20051117,1832, 24.2767,-157.4922, 4484,   -999.0,9,-999.0000,9,-999.00000,9,-999.0000,9,  35.3787,2,  -999.00,9,  -999.00,9,   -999.0,9,  -999.00,9,  -999.00,9,  -999.00,9,  -999.00,  -999.00,9,  -999.00,  -999.00,9,  -999.00, -999.000,9, -999.000, -999.000,9, -999.000,9, -999.000,9,   -999.0,9,   -999.0,9,-999.0000,9, -999.000,9, -999.000,   -999.0,9,   -999.0,-999.0000,-999.0000
    49MR0505_1,   P03,   118,  1,     36, X12048,2,20051117,1832, 24.2767,-157.4922, 4484,     10.0,2,  24.9209,2,  24.92116,2,  35.3969,2,  35.3969,2,   193.38,1,   208.87,2,     16.6,2,   209.90,2,   209.75,2,     1.08,2,     0.12,     0.03,2,     0.03,     0.00,2,     0.01,    0.027,2,    0.055,    1.652,2,    1.023,2, -999.000,5,   1992.3,2,   2326.2,2,   8.0945,6, -999.000,9, -999.000,   -999.0,9,   -999.0,  24.9187,  23.6659
    49MR0505_1,   P03,   118,  1,     35, X12047,2,20051117,1832, 24.2767,-157.4922, 4484,     98.8,2,  20.6345,2,  20.63264,2,  35.0116,2,  35.0138,2,   218.85,1,   234.81,2,    101.2,2,   204.46,2,   236.45,2,     2.21,2,     0.12,     0.11,2,     0.03,     0.01,2,     0.01,    0.068,2,    0.028,    2.162,2,    1.296,2, -999.000,5,   2009.1,6,   2298.7,2,   8.0338,2, -999.000,9, -999.000,   -999.0,9,   -999.0,  20.6158,  24.6066
    49MR0505_1,   P03,   118,  1,     34, X12046,2,20051117,1832, 24.2767,-157.4922, 4484,     50.2,2,  24.9047,2,  24.90549,2,  35.3955,2,  35.3955,2,   192.89,1,   209.51,2,     50.9,2,   209.80,2,   209.80,2,     1.06,2,     0.12,    -0.01,2,     0.03,     0.00,2,     0.01,    0.040,2,    0.040,    1.661,2,    1.023,2, -999.000,5,   1991.1,2,   2325.8,2,   8.0951,2, -999.000,9, -999.000,   -999.0,9,   -999.0,  24.8938,  23.6724
    49MR0505_1,   P03,   118,  1,     33, X12003,2,20051117,1832, 24.2767,-157.4922, 4484,    150.0,2,  18.2517,2,  18.25204,2,  34.9221,2,  34.9105,2,   189.81,1,   204.98,2,    150.4,2,   205.33,2,   205.72,2,     3.06,2,     0.13,     2.48,2,     0.04,     0.02,2,     0.01,    0.252,2,    0.015,    2.093,4,    1.226,4, -999.000,5,   2038.9,2,   2291.5,2,   7.9712,6, -999.000,9, -999.000,   -999.0,9,   -999.0,  18.2257,  25.1566
    49MR0505_1,   P03,   118,  1,     32, X12044,2,20051117,1832, 24.2767,-157.4922, 4484,    199.0,2,  16.2035,2,  16.19676,2,  34.6843,2,  34.6825,2,   191.68,1,   206.25,2,    190.6,2,   207.33,2,   207.17,2,     4.79,2,     0.13,     4.81,2,     0.05,     0.01,2,     0.01,    0.401,2,    0.013,    2.454,2,    1.437,2, -999.000,5,   2047.1,2,   2284.8,2,   7.9331,2, -999.000,9, -999.000,   -999.0,9,   -999.0,  16.1718,  25.4654
    49MR0505_1,   P03,   118,  1,     31, X12051,2,20051117,1832, 24.2767,-157.4922, 4484,    249.5,2,  14.2000,2,  14.20267,2,  34.4524,2,  34.4527,2,   193.05,1,   207.95,2,    244.8,2,   208.60,2,   208.74,2,     7.37,2,     0.14,     7.69,2,     0.05,     0.01,2,     0.01,    0.604,2,    0.013,    2.652,6,    1.524,6,    0.086,6,   2060.5,2,   2266.2,4,   7.8876,2, -999.000,9, -999.000,   -999.0,9,   -999.0,  14.1637,  25.7295
    49MR0505_1,   P03,   118,  1,     30, X12042,2,20051117,1832, 24.2767,-157.4922, 4484,    299.5,2,  12.5539,2,  12.55328,2,  34.3395,2,  34.3399,2,   194.17,1,   208.82,2,    298.2,2,   215.21,2,   209.70,2,    11.45,2,     0.14,    10.88,2,     0.06,     0.00,2,     0.01,    0.814,2,    0.013,    2.783,2,    1.563,2,    0.096,2,   2076.2,2,   2267.1,2,   7.8470,2, -999.000,9, -999.000,   -999.0,9,   -999.0,  12.5138,  25.9772
    49MR0505_1,   P03,   118,  1,     29, X12041,2,20051117,1832, 24.2767,-157.4922, 4484,    401.2,2,   9.9508,2,   9.94985,2,  34.1638,2,  34.1623,2,   178.46,1,   191.54,2,    400.2,2,   193.76,2,   192.14,2,    22.27,2,     0.17,    17.58,2,     0.08,     0.00,2,     0.01,    1.283,2,    0.014,    2.800,2,    1.499,2,    0.108,2,   2120.4,2,   2262.2,2,   7.7494,2, -999.000,9, -999.000,   -999.0,9,   -999.0,   9.9044,  26.3151
    49MR0505_1,   P03,   118,  1,     28, X12016,2,20051117,1832, 24.2767,-157.4922, 4484,    499.2,2,   7.8348,2,   7.83376,2,  34.0603,2,  34.0598,6,   136.78,1,   146.97,2,    502.4,2,   152.59,2,   146.62,2,    39.20,2,     0.21,    26.06,2,     0.11,     0.00,2,     0.01,    1.879,2,    0.015,    2.274,2,    1.134,2,    0.092,2,   2179.5,2,   2266.0,2,   7.6154,2, -999.000,9, -999.000,   -999.0,9,   -999.0,   7.7846,  26.5675
    49MR0505_1,   P03,   118,  1,     27, X12039,2,20051117,1832, 24.2767,-157.4922, 4484,    599.9,2,   5.9847,2,   5.98352,2,  34.0530,2,  34.0524,2,    78.69,1,    85.09,2,    602.0,2,    86.72,2,    84.78,2,    63.83,2,     0.26,    34.96,2,     0.13,     0.00,2,     0.01,    2.544,2,    0.016,    1.061,2,    0.522,2,    0.040,2,   2251.2,2,   2294.2,2,   7.4641,2, -999.000,9, -999.000,   -999.0,9,   -999.0,   5.9324,  26.8128
    49MR0505_1,   P03,   118,  1,     26, X12038,2,20051117,1832, 24.2767,-157.4922, 4484,    698.7,2,   5.2304,2,   5.23011,2,  34.1460,2,  34.1492,2,    38.68,1,    41.48,2,    690.5,2,    36.35,2,    40.52,2,    82.20,2,     0.30,    40.06,2,     0.14,     0.00,2,     0.01,    2.941,2,    0.017,    0.294,2,    0.156,2,    0.015,2,   2301.3,6,   2310.9,2,   7.3783,2, -999.000,9, -999.000,   -999.0,9,   -999.0,   5.1729,  26.9782
    49MR0505_1,   P03,   118,  1,     25, X12037,2,20051117,1832, 24.2767,-157.4922, 4484,    799.6,2,   4.7317,2,   4.73167,2,  34.3231,2,  34.3225,2,    24.98,1,    27.36,2,    798.9,2,    28.36,2,    26.91,2,    96.53,2,     0.33,    42.02,2,     0.15,     0.00,2,     0.01,    3.094,2,    0.018,    0.054,6,    0.029,6,    0.000,6,   2330.1,2,   2338.9,6,   7.3718,2, -999.000,9, -999.000,   -999.0,9,   -999.0,   4.6681,  27.1761
    49MR0505_1,   P03,   118,  1,     24, X12008,2,20051117,1832, 24.2767,-157.4922, 4484,    900.2,2,   4.4480,2,   4.44837,2,  34.4096,2,  34.4086,2,    29.75,1,    32.56,2,    902.3,2,    32.89,2,    31.99,2,   102.89,2,     0.35,    42.36,2,     0.15,     0.00,2,     0.01,    3.101,2,    0.018,    0.023,2,    0.009,2,    0.000,2,   2337.3,2,   2355.5,2,   7.3893,2, -999.000,9, -999.000,   -999.0,9,   -999.0,   4.3776,  27.2766
    49MR0505_1,   P03,   118,  1,     23, X12035,2,20051117,1832, 24.2767,-157.4922, 4484,   1001.1,2,   4.0578,2,   4.05675,2,  34.4554,2,  34.4550,6,    36.49,1,    39.67,2,   1002.8,2,    39.94,2,    39.45,2,   110.93,2,     0.36,    42.35,2,     0.15,     0.00,2,     0.01,    3.091,2,    0.018,    0.014,2,    0.008,2,    0.000,2,   2339.8,3,   2365.9,2,   7.4034,2, -999.000,9, -999.000,   -999.0,9,   -999.0,   3.9817,  27.3548
    49MR0505_1,   P03,   118,  1,     22, X12034,2,20051117,1832, 24.2767,-157.4922, 4484,   1201.1,2,   3.4737,2,   3.47333,2,  34.5192,2,  34.5188,2,    47.91,1,    51.92,2,   1204.2,2,    51.07,2,    51.78,2,   122.97,2,     0.39,    42.11,2,     0.15,     0.00,2,     0.01,    3.052,2,    0.018,    0.002,2,    0.000,2,    0.000,2,   2350.0,2,   2382.1,2,   7.4307,2, -999.000,9, -999.000,   -999.0,9,   -999.0,   3.3858,  27.4651
    49MR0505_1,   P03,   118,  1,     21, X12033,2,20051117,1832, 24.2767,-157.4922, 4484,   1398.4,2,   2.9962,2,   2.99567,2,  34.5472,2,  34.5473,2,    56.54,1,    61.35,2,   1399.3,2,    55.02,4,    61.02,2,   134.32,2,     0.41,    41.80,2,     0.15,     0.00,2,     0.01,    3.006,2,    0.017,    0.003,2,    0.004,2,    0.000,2,   2352.7,2,   2391.9,2,   7.4429,2, -999.000,9, -999.000,   -999.0,9,   -999.0,   2.8969,  27.5330
    49MR0505_1,   P03,   118,  1,     20, X12032,2,20051117,1832, 24.2767,-157.4922, 4484,   1601.9,2,   2.5893,2,   2.58940,2,  34.5779,2,  34.5781,2,    65.68,1,    71.53,2,   1604.6,2,    70.67,2,    71.22,2,   143.67,2,     0.44,    41.28,2,     0.15,     0.00,2,     0.01,    2.956,2,    0.017,    0.002,2,    0.000,2,    0.000,2,   2357.9,2,   2408.6,2,   7.4594,6, -999.000,9, -999.000,   -999.0,9,   -999.0,   2.4779,  27.5943
    49MR0505_1,   P03,   118,  1,     19, X12001,2,20051117,1832, 24.2767,-157.4922, 4484,   1802.1,2,   2.3096,2,   2.30970,2,  34.5992,2,  34.5995,6,    72.63,1,    79.16,2,   1803.9,2,    78.89,2,    78.81,2,   150.99,2,     0.45,    40.80,2,     0.15,     0.00,2,     0.01,    2.919,2,    0.017,    0.000,2,    0.000,2,    0.000,2,   2361.0,2,   2411.9,2,   7.4724,2, -999.000,9, -999.000,   -999.0,9,   -999.0,   2.1853,  27.6357
    49MR0505_1,   P03,   118,  1,     18, X12030,2,20051117,1832, 24.2767,-157.4922, 4484,   1999.8,2,   2.0691,2,   2.07013,2,  34.6172,2,  34.6170,2,    79.57,1,    86.89,2,   2001.3,2,    86.56,2,    86.55,2,   156.99,2,     0.46,    40.49,2,     0.15,     0.00,2,     0.01,    2.878,2,    0.017,    0.000,2,    0.000,2,    0.000,2,   2361.0,2,   2415.0,2,   7.4851,2, -999.000,9, -999.000,   -999.0,9,   -999.0,   1.9317,  27.6703
    49MR0505_1,   P03,   118,  1,     17, X12049,2,20051117,1832, 24.2767,-157.4922, 4484,   2201.0,2,   1.9204,2,   1.92045,2,  34.6295,2,  34.6297,2,    85.71,1,    93.69,2,   2201.0,2,    94.10,2,    93.40,2,   160.44,2,     0.47,    40.12,2,     0.15,     0.01,2,     0.01,    2.846,2,    0.017, -999.000,9, -999.000,9, -999.000,9,   2359.9,2,   2419.8,2,   7.4991,2, -999.000,9, -999.000,   -999.0,9,   -999.0,   1.7681,  27.6928
    49MR0505_1,   P03,   118,  1,     16, X12028,2,20051117,1832, 24.2767,-157.4922, 4484,   2401.9,2,   1.7676,2,   1.76763,2,  34.6429,2,  34.6430,2,    93.62,1,   102.18,2,   2402.5,2,   101.91,2,   101.85,2,   163.56,2,     0.48,    39.55,2,     0.14,     0.00,2,     0.01,    2.790,2,    0.017, -999.000,9, -999.000,9, -999.000,9,   2358.0,6,   2418.1,2,   7.5117,2, -999.000,9, -999.000,   -999.0,9,   -999.0,   1.6004,  27.7162
    49MR0505_1,   P03,   118,  1,     15, X12006,2,20051117,1832, 24.2767,-157.4922, 4484,   2601.1,2,   1.6525,2,   1.65254,2,  34.6553,2,  34.6553,6,   103.03,1,   112.56,2,   2601.9,2,   111.53,2,   112.21,2,   163.42,2,     0.48,    38.84,2,     0.14,     0.00,2,     0.01,    2.735,2,    0.017,    0.000,2,    0.000,2,    0.000,2,   2352.7,2,   2422.5,6,   7.5298,2, -999.000,9, -999.000,   -999.0,9,   -999.0,   1.4696,  27.7358
    49MR0505_1,   P03,   118,  1,     14, X12026,2,20051117,1832, 24.2767,-157.4922, 4484,   2800.3,2,   1.5816,2,   1.58154,2,  34.6634,2,  34.6636,2,   110.44,1,   120.69,2,   2801.0,2,   119.59,2,   120.29,2,   162.53,2,     0.48,    38.39,2,     0.14,     0.00,2,     0.01,    2.698,2,    0.017, -999.000,9, -999.000,9, -999.000,9,   2349.6,2,   2424.9,2,   7.5442,6, -999.000,9, -999.000,   -999.0,9,   -999.0,   1.3819,  27.7486
    49MR0505_1,   P03,   118,  1,     13, X12025,2,20051117,1832, 24.2767,-157.4922, 4484,   3001.3,2,   1.5347,2,   1.53478,2,  34.6700,2,  34.6700,2,   116.26,1,   126.89,2,   3001.6,2,   126.85,2,   126.79,2,   161.84,2,     0.48,    38.00,2,     0.14,     0.00,2,     0.01,    2.669,2,    0.017, -999.000,9, -999.000,9, -999.000,9,   2344.5,2,   2424.6,2,   7.5552,2, -999.000,9, -999.000,   -999.0,9,   -999.0,   1.3170,  27.7584
    49MR0505_1,   P03,   118,  1,     12, X12024,2,20051117,1832, 24.2767,-157.4922, 4484,   3250.3,2,   1.4960,2,   1.49607,2,  34.6755,2,  34.6756,2,   122.82,1,   133.69,2,   3250.8,2,   132.88,2,   133.70,2,   160.03,2,     0.47,    37.57,2,     0.14,     0.00,2,     0.01,    2.622,2,    0.017, -999.000,9, -999.000,9, -999.000,9,   2339.7,2,   2419.8,2,   7.5695,2, -999.000,9, -999.000,   -999.0,9,   -999.0,   1.2551,  27.7672
    49MR0505_1,   P03,   118,  1,     11, X12023,2,20051117,1832, 24.2767,-157.4922, 4484,   3498.6,2,   1.4752,2,   1.47515,2,  34.6797,2,  34.6798,2,   128.27,1,   139.28,2,   3498.6,2,   139.79,2,   139.29,2,   158.35,2,     0.47,    37.06,2,     0.14,     0.00,2,     0.01,    2.597,2,    0.016,    0.002,2,    0.000,2,    0.000,2,   2335.9,2,   2426.3,2,   7.5771,2, -999.000,9, -999.000,   -999.0,9,   -999.0,   1.2098,  27.7737
    49MR0505_1,   P03,   118,  1,     10, X12022,2,20051117,1832, 24.2767,-157.4922, 4484,   3748.5,2,   1.4532,2,   1.45322,2,  34.6839,2,  34.6843,6,   134.55,1,   145.53,2,   3749.0,2,   145.00,2,   145.89,2,   155.48,2,     0.46,    36.70,2,     0.14,     0.00,2,     0.01,    2.565,2,    0.016, -999.000,9, -999.000,9, -999.000,9,   2330.1,2,   2422.0,2,   7.5860,2, -999.000,9, -999.000,   -999.0,9,   -999.0,   1.1625,  27.7804
    49MR0505_1,   P03,   118,  1,      9, X12021,2,20051117,1832, 24.2767,-157.4922, 4484,   3999.5,2,   1.4614,2,   1.46139,2,  34.6855,2,  34.6855,2,   137.48,1,   148.31,2,   3999.4,2,   149.02,2,   148.48,2,   153.94,2,     0.46,    36.49,2,     0.13,     0.00,2,     0.01,    2.552,2,    0.016, -999.000,9, -999.000,9, -999.000,9,   2327.9,2,   2420.0,2,   7.5907,2, -999.000,9, -999.000,   -999.0,9,   -999.0,   1.1436,  27.7830
    49MR0505_1,   P03,   118,  1,      8, X12020,2,20051117,1832, 24.2767,-157.4922, 4484,   4249.8,2,   1.4724,2,   1.47230,2,  34.6872,2,  34.6875,2,   140.39,1,   150.83,2,   4249.9,2,   151.10,2,   151.14,2,   152.68,2,     0.45,    36.35,2,     0.13,     0.00,2,     0.01,    2.537,2,    0.016, -999.000,9, -999.000,9, -999.000,9,   2326.8,6,   2425.1,2,   7.5944,2, -999.000,9, -999.000,   -999.0,9,   -999.0,   1.1267,  27.7854
    49MR0505_1,   P03,   118,  1,      7, X12019,9,20051117,1832, 24.2767,-157.4922, 4484,    250.7,2,  14.1930,2,  14.19620,2,  34.4516,2,-999.0000,9,   193.06,1,   207.62,2,    245.5,2,   208.69,2,  -999.00,9,  -999.00,9,  -999.00,  -999.00,9,  -999.00,  -999.00,9,  -999.00, -999.000,9, -999.000, -999.000,9, -999.000,9, -999.000,9,   -999.0,9,   -999.0,9,-999.0000,9, -999.000,9, -999.000,   -999.0,9,   -999.0,  14.1565,  25.7303
    49MR0505_1,   P03,   118,  1,      6, X12018,9,20051117,1832, 24.2767,-157.4922, 4484,    199.6,2,  16.1382,2,  16.14363,2,  34.6761,2,-999.0000,9,   191.86,1,   206.33,2,    191.7,2,   207.31,2,  -999.00,9,  -999.00,9,  -999.00,  -999.00,9,  -999.00,  -999.00,9,  -999.00, -999.000,9, -999.000, -999.000,9, -999.000,9, -999.000,9,   -999.0,9,   -999.0,9,-999.0000,9, -999.000,9, -999.000,   -999.0,9,   -999.0,  16.1065,  25.4741
    49MR0505_1,   P03,   118,  1,      5, X12043,9,20051117,1832, 24.2767,-157.4922, 4484,    150.4,2,  18.2535,2,  18.25240,2,  34.9223,2,-999.0000,9,   189.99,1,   204.55,2,    150.5,2,   205.36,2,  -999.00,9,  -999.00,9,  -999.00,  -999.00,9,  -999.00,  -999.00,9,  -999.00, -999.000,9, -999.000, -999.000,9, -999.000,9, -999.000,9,   -999.0,9,   -999.0,9,-999.0000,9, -999.000,9, -999.000,   -999.0,9,   -999.0,  18.2275,  25.1563
    49MR0505_1,   P03,   118,  1,      4, X12010,9,20051117,1832, 24.2767,-157.4922, 4484,     99.6,2,  20.6096,2,  20.61117,2,  35.0137,2,-999.0000,9,   215.53,1,   235.71,2,    102.0,2,   204.23,2,  -999.00,9,  -999.00,9,  -999.00,  -999.00,9,  -999.00,  -999.00,9,  -999.00, -999.000,9, -999.000, -999.000,9, -999.000,9, -999.000,9,   -999.0,9,   -999.0,9,-999.0000,9, -999.000,9, -999.000,   -999.0,9,   -999.0,  20.5908,  24.6149
    49MR0505_1,   P03,   118,  1,      3, X12015,9,20051117,1832, 24.2767,-157.4922, 4484,     50.5,2,  24.9047,2,  24.90595,2,  35.3959,2,-999.0000,9,   193.38,1,   209.52,2,     51.2,2,   209.75,2,  -999.00,9,  -999.00,9,  -999.00,  -999.00,9,  -999.00,  -999.00,9,  -999.00, -999.000,9, -999.000, -999.000,9, -999.000,9, -999.000,9,   -999.0,9,   -999.0,9,-999.0000,9, -999.000,9, -999.000,   -999.0,9,   -999.0,  24.8938,  23.6728
    49MR0505_1,   P03,   118,  1,      2, X12014,9,20051117,1832, 24.2767,-157.4922, 4484,      9.8,2,  24.9224,2,  24.92121,2,  35.3969,2,-999.0000,9,   193.52,1,   208.91,2,     16.2,2,   209.85,2,  -999.00,9,  -999.00,9,  -999.00,  -999.00,9,  -999.00,  -999.00,9,  -999.00, -999.000,9, -999.000, -999.000,9, -999.000,9, -999.000,9,   -999.0,9,   -999.0,9,-999.0000,9, -999.000,9, -999.000,   -999.0,9,   -999.0,  24.9203,  23.6655
    49MR0505_1,   P03,   118,  1,      1, X12013,2,20051117,1832, 24.2767,-157.4922, 4484,   4538.1,2,   1.5011,2,   1.50103,2,  34.6876,2,  34.6884,6,   142.12,1,   151.95,2,   4538.1,2,   151.90,2,   151.83,2,   152.43,2,     0.45,    36.25,2,     0.13,     0.00,2,     0.01,    2.533,2,    0.016,    0.000,2,    0.003,2,    0.000,2,   2324.3,2,   2419.4,2,   7.5958,2, -999.000,9, -999.000,   -999.0,9,   -999.0,   1.1217,  27.7861