BOTTLE,20100316JAMSTECRIGC
EXPOCODE,SECT,STNNBR,CASTNO,SAMPNO,BTLNBR,BTLNBR_FLAG_W,DATE,TIME,LATITUDE,LONGITUDE,DEPTH,CTDPRS,CTDPRS_FLAG_W,CTDTMP,CTDTMP_FLAG_W,SBE35,SBE35_FLAG_W,CTDSAL,CTDSAL_FLAG_W,SALNTY,SALNTY_FLAG_W,CTDOXY,CTDOXY_FLAG_W,OPTOXY,OPTOXY_FLAG_W,DWNPRS,DWNPRS_FLAG_W,DWNOXY,DWNOXY_FLAG_W,OXYGEN,OXYGEN_FLAG_W,SILCAT,SILCAT_FLAG_W,SILUNC,NITRAT,NITRAT_FLAG_W,NRAUNC,NITRIT,NITRIT_FLAG_W,NRIUNC,PHSPHT,PHSPHT_FLAG_W,PHPUNC,CFC-11,CFC-11_FLAG_W,CFC-12,CFC-12_FLAG_W,CFC113,CFC113_FLAG_W,TCARBN,TCARBN_FLAG_W,ALKALI,ALKALI_FLAG_W,PH,PH_FLAG_W,DELC13,DELC13_FLAG_W,C13ERR,DELC14,DELC14_FLAG_W,C14ERR,THETA,SIG0
,,,,,,,,UTC,DEG,DEG,M,DBAR,,ITS-90,,ITS-90,,PSS-78,,PSS-78,,UMOL/KG,,UMOL/KG,,DBAR,,UMOL/KG,,UMOL/KG,,UMOL/KG,,UMOL/KG,UMOL/KG,,UMOL/KG,UMOL/KG,,UMOL/KG,UMOL/KG,,UMOL/KG,PMOL/KG,,PMOL/KG,,PMOL/KG,,UMOL/KG,,UMOL/KG,,,,/MILLE,,/MILLE,/MILLE,,/MILLE,DEG C,KG/CUM
    49MR0505_1,   P03,    42,  1,      0,   -999,9,20051105,1438, 26.1828,-127.5927, 4554,   -999.0,9,-999.0000,9,-999.00000,9,-999.0000,9,  34.1720,2,  -999.00,9,  -999.00,9,   -999.0,9,  -999.00,9,  -999.00,9,  -999.00,9,  -999.00,  -999.00,9,  -999.00,  -999.00,9,  -999.00, -999.000,9, -999.000, -999.000,9, -999.000,9, -999.000,9,   -999.0,9,   -999.0,9,-999.0000,9, -999.000,9, -999.000,   -999.0,9,   -999.0,-999.0000,-999.0000
    49MR0505_1,   P03,    42,  1,     36, X12048,2,20051105,1438, 26.1828,-127.5927, 4554,      9.6,2,  20.9131,2,  20.91306,2,  34.1741,2,  34.1744,2,   216.57,1,   226.46,2,     12.3,2,   226.82,2,   226.33,2,     1.43,2,     0.12,     0.03,2,     0.03,     0.00,2,     0.01,    0.239,2,    0.015,    2.030,2,    1.215,2, -999.000,5,   2012.3,2,   2290.6,2,   8.0079,6, -999.000,9, -999.000,   -999.0,9,   -999.0,  20.9113,  23.8893
    49MR0505_1,   P03,    42,  1,     35, X12047,2,20051105,1438, 26.1828,-127.5927, 4554,     49.6,2,  20.9226,2,  20.92239,2,  34.1734,2,  34.1738,2,   216.28,1,   226.70,2,     52.4,2,   226.46,2,   226.29,2,     1.42,2,     0.12,     0.02,2,     0.03,     0.00,2,     0.01,    0.231,2,    0.015,    2.050,2,    1.224,2, -999.000,5,   2012.1,6,   -999.0,9,   8.0084,2, -999.000,9, -999.000,   -999.0,9,   -999.0,  20.9132,  23.8882
    49MR0505_1,   P03,    42,  1,     34, X12046,2,20051105,1438, 26.1828,-127.5927, 4554,    100.2,2,  18.8469,2,  18.84662,2,  34.2529,2,  34.2586,2,   226.45,1,   237.22,2,     99.3,2,   235.58,2,   235.75,2,     1.66,2,     0.12,     0.02,2,     0.03,     0.00,2,     0.01,    0.198,2,    0.016,    2.332,2,    1.366,2, -999.000,5,   2017.5,2,   2273.9,6,   7.9897,2, -999.000,9, -999.000,   -999.0,9,   -999.0,  18.8292,  24.4935
    49MR0505_1,   P03,    42,  1,     33, X12003,2,20051105,1438, 26.1828,-127.5927, 4554,    150.8,2,  15.1316,2,  15.13348,2,  33.8860,2,  33.8862,2,   209.91,1,   218.67,2,    152.9,2,   215.44,2,   218.45,2,     3.67,2,     0.13,     2.90,2,     0.04,     0.03,2,     0.01,    0.458,2,    0.013,    2.713,2,    1.561,2, -999.000,5,   2037.7,2,   2246.4,2,   7.9017,6, -999.000,9, -999.000,   -999.0,9,   -999.0,  15.1089,  25.0894
    49MR0505_1,   P03,    42,  1,     32, X12044,2,20051105,1438, 26.1828,-127.5927, 4554,    198.6,2,  11.3781,2,  11.38119,2,  33.6138,2,  33.6183,2,   197.94,1,   205.24,2,    197.2,2,   203.38,2,   204.48,2,    10.14,2,     0.14,    11.21,2,     0.06,     0.00,2,     0.01,    0.975,2,    0.013,    3.121,2,    1.764,2,    0.181,2,   2076.3,2,   2226.2,2,   7.7839,2, -999.000,9, -999.000,   -999.0,9,   -999.0,  11.3535,  25.6324
    49MR0505_1,   P03,    42,  1,     31, X12051,2,20051105,1438, 26.1828,-127.5927, 4554,    250.0,2,   9.5421,2,   9.54406,2,  33.8814,2,  33.8819,2,   171.71,1,   178.10,2,    246.3,2,   180.84,2,   178.47,2,    20.14,2,     0.16,    18.78,2,     0.09,     0.00,2,     0.01,    1.433,2,    0.014,    3.113,6,    1.686,6,    0.121,6,   2128.0,2,   2239.4,2,   7.6913,2, -999.000,9, -999.000,   -999.0,9,   -999.0,   9.5143,  26.1593
    49MR0505_1,   P03,    42,  1,     30, X12042,2,20051105,1438, 26.1828,-127.5927, 4554,    302.0,2,   8.8029,2,   8.80058,2,  34.0781,2,  34.0758,2,   124.88,1,   129.81,2,    300.0,2,   130.15,2,   130.19,2,    31.29,2,     0.19,    25.04,2,     0.10,     0.00,2,     0.01,    1.894,2,    0.015,    2.541,2,    1.275,2,    0.095,2,   2180.3,2,   2261.6,2,   7.5938,2, -999.000,9, -999.000,   -999.0,9,   -999.0,   8.7707,  26.4324
    49MR0505_1,   P03,    42,  1,     29, X12041,2,20051105,1438, 26.1828,-127.5927, 4554,    403.2,2,   7.6295,2,   7.62799,2,  34.1720,2,  34.1519,2,    65.20,1,    68.71,2,    398.6,2,    75.92,2,    70.74,2,    48.62,2,     0.23,    32.15,2,     0.12,     0.01,2,     0.01,    2.498,2,    0.016,    1.308,2,    0.636,2,    0.046,2,   2245.0,2,   2282.5,2,   7.4613,2, -999.000,9, -999.000,   -999.0,9,   -999.0,   7.5898,  26.6835
    49MR0505_1,   P03,    42,  1,     28, X12016,2,20051105,1438, 26.1828,-127.5927, 4554,    501.4,2,   6.0835,2,   6.08537,2,  34.1440,2,  34.1434,6,    43.93,1,    45.84,2,    498.5,2,    40.62,2,    46.22,2,    67.62,2,     0.27,    37.44,2,     0.14,     0.00,2,     0.01,    2.822,2,    0.017,    0.550,2,    0.284,2,    0.021,2,   2284.1,2,   2297.6,2,   7.3956,2, -999.000,9, -999.000,   -999.0,9,   -999.0,   6.0397,  26.8712
    49MR0505_1,   P03,    42,  1,     27, X12039,2,20051105,1438, 26.1828,-127.5927, 4554,    599.7,2,   5.5753,2,   5.57605,2,  34.2791,2,  34.2806,2,    16.75,1,    17.29,2,    596.3,2,    15.43,2,    17.54,2,    81.60,2,     0.30,    40.49,2,     0.15,     0.00,2,     0.01,    3.107,2,    0.018,    0.097,2,    0.054,2,    0.010,2,   2319.0,2,   2323.7,2,   7.3571,2, -999.000,9, -999.000,   -999.0,9,   -999.0,   5.5246,  27.0418
    49MR0505_1,   P03,    42,  1,     26, X12038,2,20051105,1438, 26.1828,-127.5927, 4554,    700.5,2,   5.2543,2,   5.25503,2,  34.3776,2,  34.3751,2,    11.68,1,    12.12,2,    695.8,2,    11.47,2,    12.31,2,    89.48,2,     0.32,    41.88,2,     0.15,     0.00,2,     0.01,    3.202,2,    0.018,    0.018,2,    0.012,2,    0.000,2,   2333.4,6,   2335.1,2,   7.3557,2, -999.000,9, -999.000,   -999.0,9,   -999.0,   5.1962,  27.1590
    49MR0505_1,   P03,    42,  1,     25, X12037,2,20051105,1438, 26.1828,-127.5927, 4554,    801.1,2,   4.9921,2,   4.99234,2,  34.4425,2,  34.4414,2,    11.53,1,    11.87,2,    797.2,2,    12.26,2,    12.36,2,    95.60,2,     0.33,    42.60,2,     0.15,     0.00,2,     0.01,    3.244,2,    0.018,    0.007,2,    0.005,2,    0.000,2,   2344.1,2,   2348.8,6,   7.3622,2, -999.000,9, -999.000,   -999.0,9,   -999.0,   4.9266,  27.2417
    49MR0505_1,   P03,    42,  1,     24, X12008,2,20051105,1438, 26.1828,-127.5927, 4554,    901.3,2,   4.5021,2,   4.50261,2,  34.4699,2,  34.4695,2,    16.73,1,    16.98,2,    899.9,2,    17.35,2,    17.36,2,   104.88,2,     0.35,    43.32,2,     0.15,     0.00,2,     0.01,    3.256,2,    0.018, -999.000,5, -999.000,5, -999.000,5,   2350.9,2,   2357.4,2,   7.3688,6, -999.000,9, -999.000,   -999.0,9,   -999.0,   4.4311,  27.3187
    49MR0505_1,   P03,    42,  1,     23, X12035,2,20051105,1438, 26.1828,-127.5927, 4554,   1002.2,2,   4.1655,2,   4.16518,2,  34.4927,2,  34.4915,6,    20.95,1,    21.30,2,   1000.1,2,    22.24,2,    21.85,2,   111.70,2,     0.36,    43.49,2,     0.15,     0.00,2,     0.01,    3.242,2,    0.018,    0.009,2,    0.003,2,    0.000,2,   2358.4,2,   2366.1,2,   7.3769,2, -999.000,9, -999.000,   -999.0,9,   -999.0,   4.0884,  27.3734
    49MR0505_1,   P03,    42,  1,     22, X12034,2,20051105,1438, 26.1828,-127.5927, 4554,   1203.9,2,   3.6103,2,   3.61044,2,  34.5265,2,  34.5260,2,    30.73,1,    31.19,2,   1201.4,2,    32.71,2,    31.42,2,   124.34,2,     0.39,    43.40,2,     0.15,     0.00,2,     0.01,    3.213,2,    0.018,    0.005,4,    0.003,4,    0.000,4,   2365.5,2,   2380.3,2,   7.3945,2, -999.000,9, -999.000,   -999.0,9,   -999.0,   3.5209,  27.4578
    49MR0505_1,   P03,    42,  1,     21, X12033,2,20051105,1438, 26.1828,-127.5927, 4554,   1398.9,2,   3.1059,2,   3.10553,2,  34.5585,2,  34.5581,2,    41.34,1,    42.29,2,   1397.6,2,    43.58,2,    42.64,2,   136.56,2,     0.42,    42.96,2,     0.15,     0.00,2,     0.01,    3.149,2,    0.018,    0.000,2,    0.000,2,    0.000,2,   2374.3,3,   2396.0,2,   7.4104,2, -999.000,9, -999.000,   -999.0,9,   -999.0,   3.0053,  27.5321
    49MR0505_1,   P03,    42,  1,     20, X12032,2,20051105,1438, 26.1828,-127.5927, 4554,   1599.9,2,   2.7079,2,   2.70826,2,  34.5836,2,  34.5835,2,    53.18,1,    54.84,2,   1597.9,2,    56.66,2,    55.16,2,   145.98,2,     0.44,    42.35,2,     0.15,     0.00,2,     0.01,    3.082,2,    0.018,    0.006,2,    0.002,2,    0.000,2,   2371.9,2,   2400.2,2,   7.4322,2, -999.000,9, -999.000,   -999.0,9,   -999.0,   2.5952,  27.5888
    49MR0505_1,   P03,    42,  1,     19, X12001,2,20051105,1438, 26.1828,-127.5927, 4554,   1800.9,2,   2.3977,2,   2.39774,2,  34.6077,2,  34.6076,6,    65.59,1,    68.01,2,   1800.5,2,    68.78,2,    68.36,2,   152.37,2,     0.45,    41.63,2,     0.15,     0.00,2,     0.01,    2.996,2,    0.017,    0.000,2,    0.000,2,    0.000,2,   2372.3,2,   2409.8,2,   7.4566,2, -999.000,9, -999.000,   -999.0,9,   -999.0,   2.2723,  27.6354
    49MR0505_1,   P03,    42,  1,     18, X12030,2,20051105,1438, 26.1828,-127.5927, 4554,   2001.2,2,   2.1572,2,   2.15700,2,  34.6284,2,  34.6286,2,    77.97,1,    81.19,2,   2002.0,2,    80.44,2,    81.35,2,   156.22,2,     0.46,    40.74,2,     0.15,     0.00,2,     0.01,    2.925,2,    0.017,    0.000,2,    0.000,2,    0.000,2,   2365.8,4,   2427.7,2,   7.4797,2, -999.000,9, -999.000,   -999.0,9,   -999.0,   2.0183,  27.6725
    49MR0505_1,   P03,    42,  1,     17, X12049,2,20051105,1438, 26.1828,-127.5927, 4554,   2199.7,2,   1.9844,2,   1.98426,2,  34.6416,2,  34.6419,2,    87.93,1,    91.89,2,   2200.2,2,    91.43,2,    92.08,2,   159.03,2,     0.47,    40.11,2,     0.15,     0.00,2,     0.01,    2.855,2,    0.017,    0.000,2,    0.001,4,    0.000,2,   2367.2,2,   2428.3,2,   7.5006,2, -999.000,9, -999.000,   -999.0,9,   -999.0,   1.8311,  27.6978
    49MR0505_1,   P03,    42,  1,     16, X12028,2,20051105,1438, 26.1828,-127.5927, 4554,   2400.7,2,   1.8547,2,   1.85471,2,  34.6478,2,  34.6484,2,    93.99,1,    98.32,2,   2400.8,2,    99.47,2,    98.41,2,   162.68,2,     0.48,    39.75,2,     0.14,     0.00,2,     0.01,    2.824,2,    0.017,    0.000,2,    0.000,4,    0.000,2,   2363.6,6,   2432.2,2,   7.5106,2, -999.000,9, -999.000,   -999.0,9,   -999.0,   1.6860,  27.7137
    49MR0505_1,   P03,    42,  1,     15, X12006,2,20051105,1438, 26.1828,-127.5927, 4554,   2599.6,2,   1.7426,2,   1.74257,2,  34.6544,2,  34.6538,2,    99.89,1,   104.43,2,   2599.8,2,   104.52,2,   104.80,2,   165.84,2,     0.48,    39.31,2,     0.14,     0.00,2,     0.01,    2.788,2,    0.017,    0.000,2,    0.000,2,    0.000,2,   2360.0,2,   2437.4,6,   7.5214,2, -999.000,9, -999.000,   -999.0,9,   -999.0,   1.5581,  27.7285
    49MR0505_1,   P03,    42,  1,     14, X12026,2,20051105,1438, 26.1828,-127.5927, 4554,   2800.0,2,   1.6476,2,   1.64753,2,  34.6610,2,  34.6610,2,   106.24,1,   111.17,2,   2799.9,2,   111.78,2,   111.50,2,   167.70,2,     0.49,    38.86,2,     0.14,     0.00,2,     0.01,    2.748,2,    0.017,    0.000,2,    0.000,2,    0.000,2,   2357.8,2,   2437.1,2,   7.5324,6, -999.000,9, -999.000,   -999.0,9,   -999.0,   1.4466,  27.7420
    49MR0505_1,   P03,    42,  1,     13, X12025,2,20051105,1438, 26.1828,-127.5927, 4554,   3000.9,2,   1.5737,2,   1.57367,2,  34.6680,2,  34.6681,2,   113.54,1,   118.84,2,   3001.1,2,   118.73,2,   118.85,2,   168.27,2,     0.49,    38.39,2,     0.14,     0.00,2,     0.01,    2.712,2,    0.017,    0.003,2,    0.004,2,    0.000,2,   2354.0,2,   2438.7,2,   7.5462,2, -999.000,9, -999.000,   -999.0,9,   -999.0,   1.3552,  27.7542
    49MR0505_1,   P03,    42,  1,     12, X12024,2,20051105,1438, 26.1828,-127.5927, 4554,   3250.0,2,   1.5167,2,   1.51659,2,  34.6747,2,  34.6751,6,   121.55,1,   127.13,2,   3250.0,2,   127.57,2,   127.31,2,   167.08,2,     0.49,    37.84,2,     0.14,     0.00,2,     0.01,    2.660,2,    0.017,    0.001,2,    0.000,2,    0.000,2,   2348.8,2,   2434.4,2,   7.5619,2, -999.000,9, -999.000,   -999.0,9,   -999.0,   1.2753,  27.7652
    49MR0505_1,   P03,    42,  1,     11, X12023,2,20051105,1438, 26.1828,-127.5927, 4554,   3503.0,2,   1.4920,2,   1.49203,2,  34.6799,2,  34.6801,2,   127.74,1,   133.44,2,   3503.0,2,   133.76,2,   133.53,2,   165.97,2,     0.48,    37.52,2,     0.14,     0.00,2,     0.01,    2.623,2,    0.017,    0.007,2,    0.009,2,    0.000,2,   2344.6,2,   2438.9,2,   7.5722,2, -999.000,9, -999.000,   -999.0,9,   -999.0,   1.2258,  27.7728
    49MR0505_1,   P03,    42,  1,     10, X12022,2,20051105,1438, 26.1828,-127.5927, 4554,   3751.5,2,   1.4908,2,   1.49069,2,  34.6826,2,  34.6829,2,   132.14,1,   137.61,2,   3751.6,2,   138.04,2,   137.95,2,   163.93,2,     0.48,    37.18,2,     0.14,     0.00,2,     0.01,    2.601,2,    0.016,    0.004,2,    0.007,2,    0.000,2,   2340.9,2,   2440.8,2,   7.5801,2, -999.000,9, -999.000,   -999.0,9,   -999.0,   1.1988,  27.7768
    49MR0505_1,   P03,    42,  1,      9, X12021,2,20051105,1438, 26.1828,-127.5927, 4554,   4003.0,2,   1.5061,2,   1.50597,2,  34.6841,2,  34.6841,6,   134.64,1,   139.87,2,   4003.0,2,   140.18,2,   140.11,2,   163.14,2,     0.48,    37.04,2,     0.14,     0.00,2,     0.01,    2.595,2,    0.016,    0.001,2,    0.012,2,    0.000,2,   2339.8,2,   2439.1,2,   7.5832,2, -999.000,9, -999.000,   -999.0,9,   -999.0,   1.1867,  27.7789
    49MR0505_1,   P03,    42,  1,      8, X12020,2,20051105,1438, 26.1828,-127.5927, 4554,   4253.4,2,   1.5294,2,   1.52935,2,  34.6850,2,  34.6848,2,   136.17,1,   140.97,2,   4253.4,2,   141.17,2,   141.19,2,   162.54,2,     0.48,    36.95,2,     0.14,     0.00,2,     0.01,    2.583,2,    0.016,    0.004,2,    0.005,2,    0.000,2,   2338.2,6,   2439.6,2,   7.5849,2, -999.000,9, -999.000,   -999.0,9,   -999.0,   1.1816,  27.7799
    49MR0505_1,   P03,    42,  1,      7, X12019,2,20051105,1438, 26.1828,-127.5927, 4554,   4500.9,2,   1.5584,2,   1.55825,2,  34.6850,2,  34.6851,2,   136.92,1,   141.01,2,   4500.9,2,   141.23,2,   141.22,2,   162.48,2,     0.48,    37.02,2,     0.14,     0.00,2,     0.01,    2.583,2,    0.016,    0.000,2,    0.008,2,    0.000,2,   2338.7,2,   2435.5,2,   7.5856,2, -999.000,9, -999.000,   -999.0,9,   -999.0,   1.1815,  27.7799
    49MR0505_1,   P03,    42,  1,      6, X12018,2,20051105,1438, 26.1828,-127.5927, 4554,    250.0,2,   9.5401,2,   9.54103,2,  33.8822,2,-999.0000,9,   171.81,1,   178.23,2,    246.4,2,   180.82,2,  -999.00,9,  -999.00,9,  -999.00,  -999.00,9,  -999.00,  -999.00,9,  -999.00, -999.000,9, -999.000, -999.000,9, -999.000,9, -999.000,9,   -999.0,9,   -999.0,9,-999.0000,9, -999.000,9, -999.000,   -999.0,9,   -999.0,   9.5123,  26.1603
    49MR0505_1,   P03,    42,  1,      5, X12043,2,20051105,1438, 26.1828,-127.5927, 4554,    198.5,2,  11.3999,2,  11.39073,2,  33.6143,2,-999.0000,9,   198.06,1,   205.16,2,    197.0,2,   203.21,2,  -999.00,9,  -999.00,9,  -999.00,  -999.00,9,  -999.00,  -999.00,9,  -999.00, -999.000,9, -999.000, -999.000,9, -999.000,9, -999.000,9,   -999.0,9,   -999.0,9,-999.0000,9, -999.000,9, -999.000,   -999.0,9,   -999.0,  11.3752,  25.6288
    49MR0505_1,   P03,    42,  1,      4, X12010,2,20051105,1438, 26.1828,-127.5927, 4554,    150.8,2,  15.1264,2,  15.12386,2,  33.8839,2,-999.0000,9,   209.92,1,   218.57,2,    152.9,2,   215.44,2,  -999.00,9,  -999.00,9,  -999.00,  -999.00,9,  -999.00,  -999.00,9,  -999.00, -999.000,9, -999.000, -999.000,9, -999.000,9, -999.000,9,   -999.0,9,   -999.0,9,-999.0000,9, -999.000,9, -999.000,   -999.0,9,   -999.0,  15.1037,  25.0889
    49MR0505_1,   P03,    42,  1,      3, X12015,2,20051105,1438, 26.1828,-127.5927, 4554,      9.3,2,  20.9121,2,  20.91240,2,  34.1742,2,-999.0000,9,   216.60,1,   226.47,2,     12.1,2,   226.91,2,  -999.00,9,  -999.00,9,  -999.00,  -999.00,9,  -999.00,  -999.00,9,  -999.00, -999.000,9, -999.000, -999.000,9, -999.000,9, -999.000,9,   -999.0,9,   -999.0,9,-999.0000,9, -999.000,9, -999.000,   -999.0,9,   -999.0,  20.9103,  23.8896
    49MR0505_1,   P03,    42,  1,      2, X12014,2,20051105,1438, 26.1828,-127.5927, 4554,      3.1,2,  20.9133,2,  20.91262,2,  34.1745,2,  34.1736,2,   216.89,1,   226.69,2,      6.9,2,   226.85,2,   226.41,2,     1.49,2,     0.12,     0.03,2,     0.03,     0.00,2,     0.01,    0.235,2,    0.015, -999.000,9, -999.000,9, -999.000,9,   -999.0,9,   -999.0,9,-999.0000,9, -999.000,9, -999.000,   -999.0,9,   -999.0,  20.9127,  23.8892
    49MR0505_1,   P03,    42,  1,      1, X12013,2,20051105,1438, 26.1828,-127.5927, 4554,   4669.2,2,   1.5784,2,   1.57840,2,  34.6850,2,  34.6853,6,   137.61,1,   141.23,2,   4669.1,2,   140.93,2,   141.25,2,   163.00,2,     0.48,    36.91,2,     0.14,     0.00,2,     0.01,    2.591,2,    0.016,    0.006,2,    0.016,2,    0.000,2,   2340.1,2,   2439.6,2,   7.5875,2, -999.000,9, -999.000,   -999.0,9,   -999.0,   1.1812,  27.7800