BOTTLE,20100316JAMSTECRIGC
EXPOCODE,SECT,STNNBR,CASTNO,SAMPNO,BTLNBR,BTLNBR_FLAG_W,DATE,TIME,LATITUDE,LONGITUDE,DEPTH,CTDPRS,CTDPRS_FLAG_W,CTDTMP,CTDTMP_FLAG_W,SBE35,SBE35_FLAG_W,CTDSAL,CTDSAL_FLAG_W,SALNTY,SALNTY_FLAG_W,CTDOXY,CTDOXY_FLAG_W,OPTOXY,OPTOXY_FLAG_W,DWNPRS,DWNPRS_FLAG_W,DWNOXY,DWNOXY_FLAG_W,OXYGEN,OXYGEN_FLAG_W,SILCAT,SILCAT_FLAG_W,SILUNC,NITRAT,NITRAT_FLAG_W,NRAUNC,NITRIT,NITRIT_FLAG_W,NRIUNC,PHSPHT,PHSPHT_FLAG_W,PHPUNC,CFC-11,CFC-11_FLAG_W,CFC-12,CFC-12_FLAG_W,CFC113,CFC113_FLAG_W,TCARBN,TCARBN_FLAG_W,ALKALI,ALKALI_FLAG_W,PH,PH_FLAG_W,DELC13,DELC13_FLAG_W,C13ERR,DELC14,DELC14_FLAG_W,C14ERR,THETA,SIG0
,,,,,,,,UTC,DEG,DEG,M,DBAR,,ITS-90,,ITS-90,,PSS-78,,PSS-78,,UMOL/KG,,UMOL/KG,,DBAR,,UMOL/KG,,UMOL/KG,,UMOL/KG,,UMOL/KG,UMOL/KG,,UMOL/KG,UMOL/KG,,UMOL/KG,UMOL/KG,,UMOL/KG,PMOL/KG,,PMOL/KG,,PMOL/KG,,UMOL/KG,,UMOL/KG,,,,/MILLE,,/MILLE,/MILLE,,/MILLE,DEG C,KG/CUM
    49MR0505_1,   P03,    67,  1,      0,   -999,9,20051109,1117, 24.2362,-138.0088, 4944,   -999.0,9,-999.0000,9,-999.00000,9,-999.0000,9,  35.2484,2,  -999.00,9,  -999.00,9,   -999.0,9,  -999.00,9,  -999.00,9,  -999.00,9,  -999.00,  -999.00,9,  -999.00,  -999.00,9,  -999.00, -999.000,9, -999.000, -999.000,9, -999.000,9, -999.000,9,   -999.0,9,   -999.0,9,-999.0000,9, -999.000,9, -999.000,   -999.0,9,   -999.0,-999.0000,-999.0000
    49MR0505_1,   P03,    67,  1,     36, X12048,2,20051109,1117, 24.2362,-138.0088, 4944,      9.4,2,  22.7705,2,  22.77138,2,  35.2270,2,  35.2263,2,   205.92,1,   217.91,2,     12.2,2,   217.88,2,   217.44,2,     1.23,2,     0.12,     0.04,2,     0.03,     0.00,2,     0.01,    0.095,2,    0.023,    1.836,2,    1.122,2, -999.000,5,   -999.0,9,   -999.0,9,-999.0000,9, -999.000,9, -999.000,   -999.0,9,   -999.0,  22.7686,  24.1724
    49MR0505_1,   P03,    67,  1,     35, X12047,2,20051109,1117, 24.2362,-138.0088, 4944,     49.7,2,  22.7817,2,  22.78293,2,  35.2263,2,  35.2261,2,   205.96,1,   217.80,2,     52.2,2,   217.49,2,   217.46,2,     1.23,2,     0.12,     0.04,2,     0.03,     0.00,2,     0.01,    0.097,2,    0.022, -999.000,9, -999.000,9, -999.000,9,   -999.0,9,   -999.0,9,-999.0000,9, -999.000,9, -999.000,   -999.0,9,   -999.0,  22.7716,  24.1710
    49MR0505_1,   P03,    67,  1,     34, X12046,2,20051109,1117, 24.2362,-138.0088, 4944,    101.5,2,  20.8615,2,  20.86210,2,  35.0727,2,  35.0735,2,   216.92,1,   229.32,2,     97.9,2,   227.46,2,   228.53,2,     1.58,2,     0.12,     0.03,2,     0.03,     0.00,2,     0.01,    0.085,2,    0.024,    2.088,2,    1.268,2, -999.000,5,   -999.0,9,   -999.0,9,-999.0000,9, -999.000,9, -999.000,   -999.0,9,   -999.0,  20.8422,  24.5921
    49MR0505_1,   P03,    67,  1,     33, X12003,2,20051109,1117, 24.2362,-138.0088, 4944,    148.5,2,  19.1698,2,  19.16048,2,  34.9069,2,  34.9106,2,   205.28,1,   216.92,2,    143.7,2,   211.21,2,   216.69,2,     2.01,2,     0.12,     0.19,2,     0.03,     0.14,2,     0.01,    0.131,2,    0.019, -999.000,9, -999.000,9, -999.000,9,   -999.0,9,   -999.0,9,-999.0000,9, -999.000,9, -999.000,   -999.0,9,   -999.0,  19.1432,  24.9134
    49MR0505_1,   P03,    67,  1,     32, X12044,2,20051109,1117, 24.2362,-138.0088, 4944,    198.1,2,  15.9054,2,  15.90646,2,  34.4317,2,  34.4265,2,   198.29,1,   208.81,2,    181.7,2,   208.26,2,   208.78,2,     4.03,2,     0.13,     3.80,2,     0.04,     0.01,2,     0.01,    0.389,2,    0.013,    2.598,2,    1.496,2,    0.161,4,   -999.0,9,   -999.0,9,-999.0000,9, -999.000,9, -999.000,   -999.0,9,   -999.0,  15.8743,  25.3391
    49MR0505_1,   P03,    67,  1,     31, X12051,2,20051109,1117, 24.2362,-138.0088, 4944,    249.7,2,  12.7226,2,  12.72338,2,  34.1844,2,  34.1826,2,   203.71,1,   213.58,2,    240.0,2,   215.47,2,   214.08,2,     8.30,2,     0.14,     8.81,2,     0.06,     0.00,2,     0.01,    0.700,2,    0.013, -999.000,9, -999.000,9, -999.000,9,   -999.0,9,   -999.0,9,-999.0000,9, -999.000,9, -999.000,   -999.0,9,   -999.0,  12.6889,  25.8226
    49MR0505_1,   P03,    67,  1,     30, X12042,2,20051109,1117, 24.2362,-138.0088, 4944,    299.8,2,  10.7599,2,  10.76160,2,  34.0817,2,  34.0848,2,   202.08,1,   212.02,2,    297.3,2,   212.10,2,   212.06,2,    13.86,2,     0.15,    13.24,2,     0.07,     0.00,2,     0.01,    0.991,2,    0.013,    3.141,2,    1.690,2,    0.105,2,   -999.0,9,   -999.0,9,-999.0000,9, -999.000,9, -999.000,   -999.0,9,   -999.0,  10.7237,  26.1096
    49MR0505_1,   P03,    67,  1,     29, X12041,2,20051109,1117, 24.2362,-138.0088, 4944,    400.8,2,   8.5942,2,   8.59712,2,  34.0730,2,  34.0745,2,   164.12,1,   171.68,2,    396.9,2,   167.95,2,   170.83,2,    30.20,2,     0.19,    22.22,2,     0.10,     0.00,2,     0.01,    1.600,2,    0.014,    2.779,2,    1.403,2,    0.100,2,   -999.0,9,   -999.0,9,-999.0000,9, -999.000,9, -999.000,   -999.0,9,   -999.0,   8.5519,  26.4624
    49MR0505_1,   P03,    67,  1,     28, X12016,2,20051109,1117, 24.2362,-138.0088, 4944,    501.1,2,   6.3211,2,   6.32119,2,  34.0340,2,  34.0338,6,    88.03,1,    92.71,2,    504.4,2,    96.31,2,    92.78,2,    57.65,2,     0.25,    33.63,2,     0.13,     0.00,2,     0.01,    2.460,2,    0.016,    1.409,2,    0.664,2,    0.049,2,   -999.0,9,   -999.0,9,-999.0000,9, -999.000,9, -999.000,   -999.0,9,   -999.0,   6.2765,  26.7541
    49MR0505_1,   P03,    67,  1,     27, X12039,2,20051109,1117, 24.2362,-138.0088, 4944,    600.2,2,   5.1912,2,   5.19173,2,  34.1422,2,  34.1415,2,    35.63,1,    37.42,2,    604.3,2,    39.29,2,    37.14,2,    82.65,2,     0.30,    40.17,2,     0.15,     0.00,2,     0.01,    2.968,2,    0.017,    0.337,2,    0.140,2,    0.017,2,   -999.0,9,   -999.0,9,-999.0000,9, -999.000,9, -999.000,   -999.0,9,   -999.0,   5.1424,  26.9787
    49MR0505_1,   P03,    67,  1,     26, X12038,2,20051109,1117, 24.2362,-138.0088, 4944,    698.9,2,   4.8100,2,   4.80976,2,  34.2802,2,  34.2793,2,    17.13,1,    18.16,2,    701.5,2,    18.09,2,    17.80,2,    95.40,2,     0.33,    42.39,2,     0.15,     0.00,2,     0.01,    3.159,2,    0.018,    0.061,2,    0.027,2,    0.000,2,   -999.0,9,   -999.0,9,-999.0000,9, -999.000,9, -999.000,   -999.0,9,   -999.0,   4.7546,  27.1324
    49MR0505_1,   P03,    67,  1,     25, X12037,2,20051109,1117, 24.2362,-138.0088, 4944,    799.6,2,   4.5911,2,   4.59130,2,  34.3892,2,  34.3888,2,    20.12,1,    21.31,2,    799.4,2,    20.82,2,    21.03,2,   100.92,2,     0.34,    42.90,2,     0.15,     0.00,2,     0.01,    3.185,2,    0.018,    0.006,2,    0.014,2,    0.000,2,   -999.0,9,   -999.0,9,-999.0000,9, -999.000,9, -999.000,   -999.0,9,   -999.0,   4.5283,  27.2440
    49MR0505_1,   P03,    67,  1,     24, X12008,2,20051109,1117, 24.2362,-138.0088, 4944,    901.4,2,   4.3503,2,   4.35047,2,  34.4581,2,  34.4560,2,    27.13,1,    28.27,2,    900.5,2,    27.59,2,    28.08,2,   105.05,2,     0.35,    42.89,2,     0.15,     0.00,2,     0.01,    3.161,2,    0.018,    0.004,2,    0.001,2,    0.000,2,   -999.0,9,   -999.0,9,-999.0000,9, -999.000,9, -999.000,   -999.0,9,   -999.0,   4.2804,  27.3256
    49MR0505_1,   P03,    67,  1,     23, X12035,2,20051109,1117, 24.2362,-138.0088, 4944,   1002.3,2,   4.0851,2,   4.08612,2,  34.4892,2,  34.4883,6,    31.03,1,    32.42,2,   1001.5,2,    32.64,2,    32.40,2,   110.70,2,     0.36,    42.97,2,     0.15,     0.00,2,     0.01,    3.159,2,    0.018,    0.000,2,    0.005,2,    0.000,2,   -999.0,9,   -999.0,9,-999.0000,9, -999.000,9, -999.000,   -999.0,9,   -999.0,   4.0086,  27.3790
    49MR0505_1,   P03,    67,  1,     22, X12034,2,20051109,1117, 24.2362,-138.0088, 4944,   1200.9,2,   3.5531,2,   3.55332,2,  34.5310,2,  34.5310,2,    39.70,1,    41.59,2,   1200.2,2,    41.28,2,    41.85,2,   122.67,2,     0.39,    42.91,2,     0.15,     0.00,2,     0.01,    3.138,2,    0.018,    0.002,2,    0.000,2,    0.000,2,   -999.0,9,   -999.0,9,-999.0000,9, -999.000,9, -999.000,   -999.0,9,   -999.0,   3.4645,  27.4669
    49MR0505_1,   P03,    67,  1,     21, X12033,2,20051109,1117, 24.2362,-138.0088, 4944,   1401.6,2,   3.1115,2,   3.11199,2,  34.5582,2,  34.5576,2,    47.10,1,    49.35,2,   1401.3,2,    49.56,2,    49.56,2,   133.72,2,     0.41,    42.59,2,     0.15,     0.00,2,     0.01,    3.108,2,    0.018,    0.002,2,    0.001,2,    0.000,2,   -999.0,9,   -999.0,9,-999.0000,9, -999.000,9, -999.000,   -999.0,9,   -999.0,   3.0106,  27.5315
    49MR0505_1,   P03,    67,  1,     20, X12032,2,20051109,1117, 24.2362,-138.0088, 4944,   1601.7,2,   2.7107,2,   2.71076,2,  34.5833,2,  34.5831,2,    57.03,1,    60.02,2,   1600.5,2,    60.87,2,    60.29,2,   143.66,2,     0.44,    42.06,2,     0.15,     0.00,2,     0.01,    3.046,2,    0.018,    0.000,2,    0.000,2,    0.000,2,   -999.0,9,   -999.0,9,-999.0000,9, -999.000,9, -999.000,   -999.0,9,   -999.0,   2.5978,  27.5883
    49MR0505_1,   P03,    67,  1,     19, X12001,2,20051109,1117, 24.2362,-138.0088, 4944,   1800.6,2,   2.3991,2,   2.39869,2,  34.6056,2,  34.6053,2,    67.58,1,    71.33,2,   1800.3,2,    71.38,2,    71.26,2,   150.52,2,     0.45,    41.31,2,     0.15,     0.00,2,     0.01,    2.976,2,    0.017,    0.000,2,    0.000,2,    0.000,2,   -999.0,9,   -999.0,9,-999.0000,9, -999.000,9, -999.000,   -999.0,9,   -999.0,   2.2737,  27.6335
    49MR0505_1,   P03,    67,  1,     18, X12030,2,20051109,1117, 24.2362,-138.0088, 4944,   2002.1,2,   2.1330,2,   2.13308,2,  34.6236,2,  34.6234,2,    78.43,1,    83.05,2,   2003.0,2,    81.95,2,    83.01,2,   156.49,2,     0.46,    40.59,2,     0.15,     0.00,2,     0.01,    2.913,2,    0.017,    0.000,2,    0.000,2,    0.000,2,   -999.0,9,   -999.0,9,-999.0000,9, -999.000,9, -999.000,   -999.0,9,   -999.0,   1.9944,  27.6705
    49MR0505_1,   P03,    67,  1,     17, X12049,2,20051109,1117, 24.2362,-138.0088, 4944,   2198.5,2,   1.9572,2,   1.95710,2,  34.6365,2,  34.6363,2,    87.00,1,    92.46,2,   2198.2,2,    92.24,2,    92.31,2,   160.02,2,     0.47,    40.00,2,     0.14,     0.00,2,     0.01,    2.859,2,    0.017, -999.000,9, -999.000,9, -999.000,9,   -999.0,9,   -999.0,9,-999.0000,9, -999.000,9, -999.000,   -999.0,9,   -999.0,   1.8045,  27.6957
    49MR0505_1,   P03,    67,  1,     16, X12028,2,20051109,1117, 24.2362,-138.0088, 4944,   2398.5,2,   1.8170,2,   1.81708,2,  34.6462,2,  34.6463,6,    94.43,1,   100.30,2,   2398.3,2,   100.12,2,   100.10,2,   162.98,2,     0.48,    39.66,2,     0.14,     0.00,2,     0.01,    2.813,2,    0.017, -999.000,9, -999.000,9, -999.000,9,   -999.0,9,   -999.0,9,-999.0000,9, -999.000,9, -999.000,   -999.0,9,   -999.0,   1.6492,  27.7152
    49MR0505_1,   P03,    67,  1,     15, X12009,2,20051109,1117, 24.2362,-138.0088, 4944,   5013.3,2,   1.4769,2,   1.47691,2,  34.6946,2,  34.6950,2,   159.24,1,   165.43,2,   5013.3,2,   165.15,2,   165.13,2,   143.44,2,     0.43,    35.21,2,     0.13,     0.00,2,     0.01,    2.461,2,    0.016, -999.000,9, -999.000,9, -999.000,9,   -999.0,9,   -999.0,9,-999.0000,9, -999.000,9, -999.000,   -999.0,9,   -999.0,   1.0418,  27.7972
    49MR0505_1,   P03,    67,  1,     14, X12026,2,20051109,1117, 24.2362,-138.0088, 4944,   2800.4,2,   1.6137,2,   1.61368,2,  34.6635,2,  34.6634,2,   108.93,1,   116.05,2,   2800.3,2,   115.78,2,   115.82,2,   166.22,2,     0.48,    38.58,2,     0.14,     0.00,2,     0.01,    2.722,2,    0.017, -999.000,9, -999.000,9, -999.000,9,   -999.0,9,   -999.0,9,-999.0000,9, -999.000,9, -999.000,   -999.0,9,   -999.0,   1.4133,  27.7464
    49MR0505_1,   P03,    67,  1,     13, X12025,2,20051109,1117, 24.2362,-138.0088, 4944,   2999.1,2,   1.5548,2,   1.55478,2,  34.6700,2,  34.6694,2,   115.67,1,   123.29,2,   2999.0,2,   123.05,2,   123.01,2,   165.53,2,     0.48,    38.14,2,     0.14,     0.00,2,     0.01,    2.688,2,    0.017, -999.000,9, -999.000,9, -999.000,9,   -999.0,9,   -999.0,9,-999.0000,9, -999.000,9, -999.000,   -999.0,9,   -999.0,   1.3369,  27.7570
    49MR0505_1,   P03,    67,  1,     12, X12024,2,20051109,1117, 24.2362,-138.0088, 4944,   3249.7,2,   1.5114,2,   1.51148,2,  34.6762,2,  34.6754,6,   122.74,1,   130.70,2,   3249.7,2,   130.30,2,   130.59,2,   163.86,2,     0.48,    37.70,2,     0.14,     0.00,2,     0.01,    2.641,2,    0.017, -999.000,9, -999.000,9, -999.000,9,   -999.0,9,   -999.0,9,-999.0000,9, -999.000,9, -999.000,   -999.0,9,   -999.0,   1.2701,  27.7667
    49MR0505_1,   P03,    67,  1,     11, X12023,2,20051109,1117, 24.2362,-138.0088, 4944,   3500.0,2,   1.4862,2,   1.48619,2,  34.6806,2,  34.6802,2,   128.81,1,   136.90,2,   3499.9,2,   136.84,2,   136.82,2,   162.09,2,     0.48,    37.15,2,     0.14,     0.00,2,     0.01,    2.609,2,    0.016, -999.000,9, -999.000,9, -999.000,9,   -999.0,9,   -999.0,9,-999.0000,9, -999.000,9, -999.000,   -999.0,9,   -999.0,   1.2204,  27.7737
    49MR0505_1,   P03,    67,  1,     10, X12022,2,20051109,1117, 24.2362,-138.0088, 4944,   3751.2,2,   1.4792,2,   1.47924,2,  34.6836,2,  34.6833,2,   133.43,1,   141.52,2,   3751.2,2,   141.40,2,   141.49,2,   160.33,2,     0.47,    36.93,2,     0.14,     0.00,2,     0.01,    2.586,2,    0.016, -999.000,9, -999.000,9, -999.000,9,   -999.0,9,   -999.0,9,-999.0000,9, -999.000,9, -999.000,   -999.0,9,   -999.0,   1.1875,  27.7784
    49MR0505_1,   P03,    67,  1,      9, X12021,2,20051109,1117, 24.2362,-138.0088, 4944,   4000.3,2,   1.4785,2,   1.47854,2,  34.6860,2,  34.6853,2,   137.71,1,   145.71,2,   4000.4,2,   145.59,2,   145.69,2,   157.84,2,     0.47,    36.61,2,     0.14,     0.00,2,     0.01,    2.568,2,    0.016, -999.000,9, -999.000,9, -999.000,9,   -999.0,9,   -999.0,9,-999.0000,9, -999.000,9, -999.000,   -999.0,9,   -999.0,   1.1602,  27.7822
    49MR0505_1,   P03,    67,  1,      8, X12020,2,20051109,1117, 24.2362,-138.0088, 4944,   4250.3,2,   1.4874,2,   1.48735,2,  34.6876,2,  34.6873,6,   141.15,1,   148.87,2,   4250.2,2,   148.99,2,   148.85,2,   155.87,2,     0.46,    36.42,2,     0.13,     0.00,2,     0.01,    2.548,2,    0.016, -999.000,9, -999.000,9, -999.000,9,   -999.0,9,   -999.0,9,-999.0000,9, -999.000,9, -999.000,   -999.0,9,   -999.0,   1.1412,  27.7848
    49MR0505_1,   P03,    67,  1,      7, X12019,2,20051109,1117, 24.2362,-138.0088, 4944,   4500.2,2,   1.4925,2,   1.49253,2,  34.6895,2,  34.6892,2,   145.56,1,   152.94,2,   4500.3,2,   152.57,2,   152.89,2,   152.78,2,     0.46,    36.14,2,     0.13,     0.00,2,     0.01,    2.524,2,    0.016, -999.000,9, -999.000,9, -999.000,9,   -999.0,9,   -999.0,9,-999.0000,9, -999.000,9, -999.000,   -999.0,9,   -999.0,   1.1177,  27.7880
    49MR0505_1,   P03,    67,  1,      6, X12018,2,20051109,1117, 24.2362,-138.0088, 4944,   4750.4,2,   1.4818,2,   1.48176,2,  34.6922,2,  34.6920,2,   152.45,1,   159.56,2,   4750.3,2,   159.41,2,   159.23,2,   147.60,2,     0.44,    35.71,2,     0.13,     0.00,2,     0.01,    2.492,2,    0.016, -999.000,9, -999.000,9, -999.000,9,   -999.0,9,   -999.0,9,-999.0000,9, -999.000,9, -999.000,   -999.0,9,   -999.0,   1.0781,  27.7928
    49MR0505_1,   P03,    67,  1,      5, X12043,9,20051109,1117, 24.2362,-138.0088, 4944,   1002.1,2,   4.0845,2,   4.08423,2,  34.4892,2,-999.0000,9,    31.10,1,    32.41,2,   1001.3,2,    32.62,2,  -999.00,9,  -999.00,9,  -999.00,  -999.00,9,  -999.00,  -999.00,9,  -999.00, -999.000,9, -999.000, -999.000,9, -999.000,9, -999.000,9,   -999.0,9,   -999.0,9,-999.0000,9, -999.000,9, -999.000,   -999.0,9,   -999.0,   4.0080,  27.3790
    49MR0505_1,   P03,    67,  1,      4, X12010,9,20051109,1117, 24.2362,-138.0088, 4944,   1002.1,2,   4.0822,2,   4.08239,2,  34.4894,2,-999.0000,9,    31.07,1,    32.41,2,   1001.4,2,    32.62,2,  -999.00,9,  -999.00,9,  -999.00,  -999.00,9,  -999.00,  -999.00,9,  -999.00, -999.000,9, -999.000, -999.000,9, -999.000,9, -999.000,9,   -999.0,9,   -999.0,9,-999.0000,9, -999.000,9, -999.000,   -999.0,9,   -999.0,   4.0058,  27.3794
    49MR0505_1,   P03,    67,  1,      3, X12015,9,20051109,1117, 24.2362,-138.0088, 4944,   2599.8,2,   1.7044,2,   1.70446,2,  34.6553,2,-999.0000,9,   101.49,1,   107.90,2,   2599.4,2,   108.15,2,  -999.00,9,  -999.00,9,  -999.00,  -999.00,9,  -999.00,  -999.00,9,  -999.00, -999.000,9, -999.000, -999.000,9, -999.000,9, -999.000,9,   -999.0,9,   -999.0,9,-999.0000,9, -999.000,9, -999.000,   -999.0,9,   -999.0,   1.5206,  27.7321
    49MR0505_1,   P03,    67,  1,      2, X12014,2,20051109,1117, 24.2362,-138.0088, 4944,   2599.7,2,   1.7045,2,   1.70450,2,  34.6553,2,  34.6550,2,   101.47,1,   107.94,2,   2599.3,2,   108.15,2,   108.04,2,   165.22,2,     0.48,    39.08,2,     0.14,     0.00,2,     0.01,    2.769,2,    0.017, -999.000,9, -999.000,9, -999.000,9,   -999.0,9,   -999.0,9,-999.0000,9, -999.000,9, -999.000,   -999.0,9,   -999.0,   1.5208,  27.7320
    49MR0505_1,   P03,    67,  1,      1, X12013,2,20051109,1117, 24.2362,-138.0088, 4944,   5013.0,2,   1.4772,2,   1.47712,2,  34.6946,2,  34.6944,6,   159.45,1,   165.58,2,   5013.0,2,   165.22,2,   165.11,2,   143.14,2,     0.43,    35.25,2,     0.13,     0.00,2,     0.01,    2.462,2,    0.016, -999.000,9, -999.000,9, -999.000,9,   -999.0,9,   -999.0,9,-999.0000,9, -999.000,9, -999.000,   -999.0,9,   -999.0,   1.0421,  27.7971