BOTTLE,20100316JAMSTECRIGC
EXPOCODE,SECT,STNNBR,CASTNO,SAMPNO,BTLNBR,BTLNBR_FLAG_W,DATE,TIME,LATITUDE,LONGITUDE,DEPTH,CTDPRS,CTDPRS_FLAG_W,CTDTMP,CTDTMP_FLAG_W,SBE35,SBE35_FLAG_W,CTDSAL,CTDSAL_FLAG_W,SALNTY,SALNTY_FLAG_W,CTDOXY,CTDOXY_FLAG_W,OPTOXY,OPTOXY_FLAG_W,DWNPRS,DWNPRS_FLAG_W,DWNOXY,DWNOXY_FLAG_W,OXYGEN,OXYGEN_FLAG_W,SILCAT,SILCAT_FLAG_W,SILUNC,NITRAT,NITRAT_FLAG_W,NRAUNC,NITRIT,NITRIT_FLAG_W,NRIUNC,PHSPHT,PHSPHT_FLAG_W,PHPUNC,CFC-11,CFC-11_FLAG_W,CFC-12,CFC-12_FLAG_W,CFC113,CFC113_FLAG_W,TCARBN,TCARBN_FLAG_W,ALKALI,ALKALI_FLAG_W,PH,PH_FLAG_W,DELC13,DELC13_FLAG_W,C13ERR,DELC14,DELC14_FLAG_W,C14ERR,THETA,SIG0
,,,,,,,,UTC,DEG,DEG,M,DBAR,,ITS-90,,ITS-90,,PSS-78,,PSS-78,,UMOL/KG,,UMOL/KG,,DBAR,,UMOL/KG,,UMOL/KG,,UMOL/KG,,UMOL/KG,UMOL/KG,,UMOL/KG,UMOL/KG,,UMOL/KG,UMOL/KG,,UMOL/KG,PMOL/KG,,PMOL/KG,,PMOL/KG,,UMOL/KG,,UMOL/KG,,,,/MILLE,,/MILLE,/MILLE,,/MILLE,DEG C,KG/CUM
    49MR0505_1,   P03,    71,  1,      0,   -999,9,20051110,0045, 24.2562,-139.6283, 4723,   -999.0,9,-999.0000,9,-999.00000,9,-999.0000,9,  35.1712,2,  -999.00,9,  -999.00,9,   -999.0,9,  -999.00,9,  -999.00,9,  -999.00,9,  -999.00,  -999.00,9,  -999.00,  -999.00,9,  -999.00, -999.000,9, -999.000, -999.000,9, -999.000,9, -999.000,9,   -999.0,9,   -999.0,9,-999.0000,9, -999.000,9, -999.000,   -999.0,9,   -999.0,-999.0000,-999.0000
    49MR0505_1,   P03,    71,  1,     36, X12048,2,20051110,0045, 24.2562,-139.6283, 4723,     10.8,2,  22.9453,2,  22.94492,2,  35.1401,2,  35.1393,2,   205.16,1,   217.20,2,      8.0,2,   216.97,2,   216.91,2,     1.23,2,     0.12,     0.03,2,     0.03,     0.00,2,     0.01,    0.114,2,    0.020,    1.836,2,    1.113,2, -999.000,5,   -999.0,9,   -999.0,9,-999.0000,9, -999.000,9, -999.000,   -999.0,9,   -999.0,  22.9431,  24.0563
    49MR0505_1,   P03,    71,  1,     35, X12047,2,20051110,0045, 24.2562,-139.6283, 4723,     49.7,2,  22.9633,2,  22.96407,2,  35.1423,2,  35.1440,2,   205.08,1,   216.88,2,     46.5,2,   216.96,2,   216.99,2,     1.23,2,     0.12,     0.02,2,     0.03,     0.00,2,     0.01,    0.110,2,    0.021, -999.000,9, -999.000,9, -999.000,9,   -999.0,9,   -999.0,9,-999.0000,9, -999.000,9, -999.000,   -999.0,9,   -999.0,  22.9532,  24.0551
    49MR0505_1,   P03,    71,  1,     34, X12046,2,20051110,0045, 24.2562,-139.6283, 4723,    100.6,2,  21.2910,2,  21.29165,2,  35.0452,2,  35.0464,2,   216.63,1,   229.01,2,    103.5,2,   225.91,2,   228.91,2,     1.54,2,     0.12,     0.02,2,     0.03,     0.00,2,     0.01,    0.099,2,    0.022,    2.090,2,    1.249,2, -999.000,5,   -999.0,9,   -999.0,9,-999.0000,9, -999.000,9, -999.000,   -999.0,9,   -999.0,  21.2716,  24.4542
    49MR0505_1,   P03,    71,  1,     33, X12003,2,20051110,0045, 24.2562,-139.6283, 4723,    149.2,2,  19.1415,2,  19.13292,2,  34.8021,2,  34.8040,2,   197.88,1,   209.00,2,    151.2,2,   210.68,2,   208.95,2,     2.15,2,     0.12,     0.79,2,     0.04,     0.11,2,     0.01,    0.223,2,    0.015, -999.000,9, -999.000,9, -999.000,9,   -999.0,9,   -999.0,9,-999.0000,9, -999.000,9, -999.000,   -999.0,9,   -999.0,  19.1148,  24.8406
    49MR0505_1,   P03,    71,  1,     32, X12044,2,20051110,0045, 24.2562,-139.6283, 4723,    200.7,2,  15.2472,2,  15.26318,2,  34.1988,2,  34.1949,2,   192.37,1,   202.71,2,    204.7,2,   204.11,2,   202.51,2,     4.70,2,     0.13,     4.92,2,     0.05,     0.01,2,     0.01,    0.522,2,    0.013,    2.685,2,    1.541,2, -999.000,5,   -999.0,9,   -999.0,9,-999.0000,9, -999.000,9, -999.000,   -999.0,9,   -999.0,  15.2167,  25.3067
    49MR0505_1,   P03,    71,  1,     31, X12051,2,20051110,0045, 24.2562,-139.6283, 4723,    250.2,2,  11.9373,2,  11.93748,2,  33.9028,2,  33.9022,2,   194.35,1,   204.11,2,    246.3,2,   204.13,2,   204.09,2,     9.57,2,     0.14,    10.23,2,     0.06,     0.00,2,     0.01,    0.867,2,    0.013,    3.055,6,    1.716,6,    0.136,4,   -999.0,9,   -999.0,9,-999.0000,9, -999.000,9, -999.000,   -999.0,9,   -999.0,  11.9051,  25.7548
    49MR0505_1,   P03,    71,  1,     30, X12042,2,20051110,0045, 24.2562,-139.6283, 4723,    300.3,2,  10.5365,2,  10.53166,2,  34.0032,2,  34.0024,2,   193.35,1,   202.95,2,    294.6,2,   206.37,2,   202.52,2,    14.70,2,     0.15,    14.22,2,     0.07,     0.00,2,     0.01,    1.090,2,    0.013,    3.148,2,    1.742,2,    0.125,2,   -999.0,9,   -999.0,9,-999.0000,9, -999.000,9, -999.000,   -999.0,9,   -999.0,  10.5007,  26.0875
    49MR0505_1,   P03,    71,  1,     29, X12041,2,20051110,0045, 24.2562,-139.6283, 4723,    401.4,2,   8.1132,2,   8.11697,2,  34.0491,2,  34.0504,2,   140.38,1,   147.64,2,    397.7,2,   144.20,2,   148.47,2,    34.56,2,     0.20,    25.10,2,     0.10,     0.00,2,     0.01,    1.821,2,    0.015, -999.000,9, -999.000,9, -999.000,9,   -999.0,9,   -999.0,9,-999.0000,9, -999.000,9, -999.000,   -999.0,9,   -999.0,   8.0723,  26.5163
    49MR0505_1,   P03,    71,  1,     28, X12016,2,20051110,0045, 24.2562,-139.6283, 4723,    500.1,2,   6.1038,2,   6.10341,2,  34.0528,2,  34.0498,6,    76.89,1,    81.09,2,    501.6,2,    80.40,2,    81.72,2,    61.81,2,     0.25,    34.97,2,     0.13,     0.00,2,     0.01,    2.562,2,    0.016,    1.083,2,    0.542,2,    0.041,2,   -999.0,9,   -999.0,9,-999.0000,9, -999.000,9, -999.000,   -999.0,9,   -999.0,   6.0601,  26.7966
    49MR0505_1,   P03,    71,  1,     27, X12039,2,20051110,0045, 24.2562,-139.6283, 4723,    601.3,2,   5.4182,2,   5.41870,2,  34.2138,2,  34.2128,2,    26.83,1,    28.39,2,    601.6,2,    29.29,2,    28.46,2,    81.40,2,     0.30,    40.30,2,     0.15,     0.00,2,     0.01,    3.021,2,    0.018, -999.000,9, -999.000,9, -999.000,9,   -999.0,9,   -999.0,9,-999.0000,9, -999.000,9, -999.000,   -999.0,9,   -999.0,   5.3682,  27.0089
    49MR0505_1,   P03,    71,  1,     26, X12038,2,20051110,0045, 24.2562,-139.6283, 4723,    700.7,2,   5.0025,2,   5.00267,2,  34.3360,2,  34.3345,2,    20.29,1,    21.55,2,    700.2,2,    22.16,2,    21.23,2,    91.65,2,     0.32,    42.07,2,     0.15,     0.00,2,     0.01,    3.132,2,    0.018,    0.025,2,    0.011,2,    0.000,2,   -999.0,9,   -999.0,9,-999.0000,9, -999.000,9, -999.000,   -999.0,9,   -999.0,   4.9458,  27.1550
    49MR0505_1,   P03,    71,  1,     25, X12037,2,20051110,0045, 24.2562,-139.6283, 4723,    798.6,2,   4.6779,2,   4.67819,2,  34.4207,2,  34.4208,2,    24.44,1,    25.75,2,    801.0,2,    25.97,2,    25.71,2,    98.33,2,     0.34,    42.61,2,     0.15,     0.00,2,     0.01,    3.149,2,    0.018,    0.006,6,    0.007,6,    0.000,6,   -999.0,9,   -999.0,9,-999.0000,9, -999.000,9, -999.000,   -999.0,9,   -999.0,   4.6146,  27.2595
    49MR0505_1,   P03,    71,  1,     24, X12008,2,20051110,0045, 24.2562,-139.6283, 4723,    900.3,2,   4.3826,2,   4.38329,2,  34.4680,2,  34.4676,2,    29.03,1,    30.45,2,    902.1,2,    30.54,2,    30.54,2,   104.10,2,     0.35,    42.88,2,     0.15,     0.00,2,     0.01,    3.146,2,    0.018,    0.000,2,    0.001,2,    0.000,2,   -999.0,9,   -999.0,9,-999.0000,9, -999.000,9, -999.000,   -999.0,9,   -999.0,   4.3126,  27.3300
    49MR0505_1,   P03,    71,  1,     23, X12035,2,20051110,0045, 24.2562,-139.6283, 4723,   1000.6,2,   4.1191,2,   4.11981,2,  34.4899,2,  34.4894,6,    33.31,1,    34.79,2,    999.8,2,    35.04,2,    34.93,2,   109.59,2,     0.36,    42.89,2,     0.15,     0.00,2,     0.01,    3.146,2,    0.018,    0.003,2,    0.002,2,    0.000,2,   -999.0,9,   -999.0,9,-999.0000,9, -999.000,9, -999.000,   -999.0,9,   -999.0,   4.0425,  27.3760
    49MR0505_1,   P03,    71,  1,     22, X12034,2,20051110,0045, 24.2562,-139.6283, 4723,   1201.9,2,   3.5980,2,   3.59820,2,  34.5289,2,  34.5286,2,    41.05,1,    42.92,2,   1201.8,2,    43.86,2,    43.30,2,   121.28,2,     0.39,    42.76,2,     0.15,     0.00,2,     0.01,    3.128,2,    0.018,    0.000,2,    0.000,2,    0.000,2,   -999.0,9,   -999.0,9,-999.0000,9, -999.000,9, -999.000,   -999.0,9,   -999.0,   3.5089,  27.4609
    49MR0505_1,   P03,    71,  1,     21, X12033,2,20051110,0045, 24.2562,-139.6283, 4723,   1399.8,2,   3.1601,2,   3.16032,2,  34.5556,2,  34.5550,2,    47.39,1,    49.68,2,   1399.0,2,    51.07,2,    49.99,2,   132.14,2,     0.41,    42.62,2,     0.15,    -0.01,2,     0.01,    3.102,2,    0.018,    0.000,2,    0.000,2,    0.000,2,   -999.0,9,   -999.0,9,-999.0000,9, -999.000,9, -999.000,   -999.0,9,   -999.0,   3.0589,  27.5250
    49MR0505_1,   P03,    71,  1,     20, X12032,2,20051110,0045, 24.2562,-139.6283, 4723,   1600.1,2,   2.7325,2,   2.73259,2,  34.5833,2,  34.5828,2,    56.96,1,    59.91,2,   1601.7,2,    59.89,2,    60.26,2,   142.62,2,     0.43,    42.07,2,     0.15,     0.00,2,     0.01,    3.049,2,    0.018,    0.000,2,    0.000,2,    0.000,2,   -999.0,9,   -999.0,9,-999.0000,9, -999.000,9, -999.000,   -999.0,9,   -999.0,   2.6195,  27.5864
    49MR0505_1,   P03,    71,  1,     19, X12001,2,20051110,0045, 24.2562,-139.6283, 4723,   1798.8,2,   2.3721,2,   2.37216,2,  34.6050,2,  34.6046,6,    69.42,1,    73.36,2,   1799.8,2,    73.09,2,    73.54,2,   150.75,2,     0.45,    41.23,2,     0.15,    -0.01,2,     0.01,    2.966,2,    0.017,    0.005,2,    0.000,2,    0.000,2,   -999.0,9,   -999.0,9,-999.0000,9, -999.000,9, -999.000,   -999.0,9,   -999.0,   2.2472,  27.6352
    49MR0505_1,   P03,    71,  1,     18, X12030,2,20051110,0045, 24.2562,-139.6283, 4723,   2002.7,2,   2.1397,2,   2.13984,2,  34.6218,2,  34.6213,2,    78.19,1,    82.81,2,   2003.6,2,    82.54,2,    82.98,2,   156.17,2,     0.46,    40.74,2,     0.15,     0.00,2,     0.01,    2.909,2,    0.017,    0.001,2,    0.000,2,    0.000,2,   -999.0,9,   -999.0,9,-999.0000,9, -999.000,9, -999.000,   -999.0,9,   -999.0,   2.0009,  27.6686
    49MR0505_1,   P03,    71,  1,     17, X12049,2,20051110,0045, 24.2562,-139.6283, 4723,   2202.4,2,   1.9554,2,   1.95534,2,  34.6356,2,  34.6352,2,    86.74,1,    91.97,2,   2203.4,2,    91.35,2,    92.10,2,   160.33,2,     0.47,    40.15,2,     0.15,     0.00,2,     0.01,    2.859,2,    0.017, -999.000,9, -999.000,9, -999.000,9,   -999.0,9,   -999.0,9,-999.0000,9, -999.000,9, -999.000,   -999.0,9,   -999.0,   1.8024,  27.6951
    49MR0505_1,   P03,    71,  1,     16, X12028,2,20051110,0045, 24.2562,-139.6283, 4723,   2401.8,2,   1.8145,2,   1.81486,2,  34.6466,2,  34.6464,2,    94.53,1,   100.33,2,   2402.5,2,    99.77,2,   100.40,2,   163.07,2,     0.48,    39.58,2,     0.14,     0.00,2,     0.01,    2.808,2,    0.017, -999.000,9, -999.000,9, -999.000,9,   -999.0,9,   -999.0,9,-999.0000,9, -999.000,9, -999.000,   -999.0,9,   -999.0,   1.6465,  27.7158
    49MR0505_1,   P03,    71,  1,     15, X12009,2,20051110,0045, 24.2562,-139.6283, 4723,   2601.5,2,   1.7089,2,   1.70898,2,  34.6546,2,  34.6544,6,   101.06,1,   107.12,2,   2601.6,2,   107.58,2,   107.34,2,   165.60,2,     0.48,    39.16,2,     0.14,    -0.01,2,     0.01,    2.772,2,    0.017, -999.000,9, -999.000,9, -999.000,9,   -999.0,9,   -999.0,9,-999.0000,9, -999.000,9, -999.000,   -999.0,9,   -999.0,   1.5249,  27.7312
    49MR0505_1,   P03,    71,  1,     14, X12026,2,20051110,0045, 24.2562,-139.6283, 4723,   2800.7,2,   1.6211,2,   1.62141,2,  34.6626,2,  34.6621,2,   108.16,1,   114.74,2,   2800.9,2,   114.82,2,   114.80,2,   166.35,2,     0.48,    38.70,2,     0.14,     0.00,2,     0.01,    2.732,2,    0.017, -999.000,9, -999.000,9, -999.000,9,   -999.0,9,   -999.0,9,-999.0000,9, -999.000,9, -999.000,   -999.0,9,   -999.0,   1.4205,  27.7452
    49MR0505_1,   P03,    71,  1,     13, X12025,2,20051110,0045, 24.2562,-139.6283, 4723,   3001.6,2,   1.5621,2,   1.56222,2,  34.6693,2,  34.6686,2,   115.15,1,   122.26,2,   3001.6,2,   122.37,2,   122.31,2,   165.54,2,     0.48,    38.24,2,     0.14,    -0.01,2,     0.01,    2.688,2,    0.017, -999.000,9, -999.000,9, -999.000,9,   -999.0,9,   -999.0,9,-999.0000,9, -999.000,9, -999.000,   -999.0,9,   -999.0,   1.3438,  27.7560
    49MR0505_1,   P03,    71,  1,     12, X12024,2,20051110,0045, 24.2562,-139.6283, 4723,   3249.6,2,   1.5147,2,   1.51464,2,  34.6756,2,  34.6752,2,   122.62,1,   130.02,2,   3249.9,2,   129.54,2,   129.94,2,   164.05,2,     0.48,    37.69,2,     0.14,     0.00,2,     0.01,    2.635,2,    0.017, -999.000,9, -999.000,9, -999.000,9,   -999.0,9,   -999.0,9,-999.0000,9, -999.000,9, -999.000,   -999.0,9,   -999.0,   1.2734,  27.7660
    49MR0505_1,   P03,    71,  1,     11, X12023,2,20051110,0045, 24.2562,-139.6283, 4723,   3501.0,2,   1.4881,2,   1.48814,2,  34.6802,2,  34.6797,2,   128.82,1,   136.19,2,   3501.2,2,   135.93,2,   136.29,2,   162.26,2,     0.48,    37.28,2,     0.14,     0.00,2,     0.01,    2.612,2,    0.017, -999.000,9, -999.000,9, -999.000,9,   -999.0,9,   -999.0,9,-999.0000,9, -999.000,9, -999.000,   -999.0,9,   -999.0,   1.2222,  27.7733
    49MR0505_1,   P03,    71,  1,     10, X12022,2,20051110,0045, 24.2562,-139.6283, 4723,   3750.8,2,   1.4821,2,   1.48212,2,  34.6830,2,  34.6825,6,   133.38,1,   140.56,2,   3750.9,2,   140.77,2,   140.71,2,   160.45,2,     0.47,    36.97,2,     0.14,     0.00,2,     0.01,    2.594,2,    0.016, -999.000,9, -999.000,9, -999.000,9,   -999.0,9,   -999.0,9,-999.0000,9, -999.000,9, -999.000,   -999.0,9,   -999.0,   1.1904,  27.7778
    49MR0505_1,   P03,    71,  1,      9, X12021,2,20051110,0045, 24.2562,-139.6283, 4723,   4000.7,2,   1.4800,2,   1.48012,2,  34.6859,2,  34.6852,2,   138.06,1,   144.94,2,   4000.9,2,   145.15,2,   145.24,2,   157.85,2,     0.47,    36.73,2,     0.14,     0.00,2,     0.01,    2.570,2,    0.016, -999.000,9, -999.000,9, -999.000,9,   -999.0,9,   -999.0,9,-999.0000,9, -999.000,9, -999.000,   -999.0,9,   -999.0,   1.1616,  27.7820
    49MR0505_1,   P03,    71,  1,      8, X12020,2,20051110,0045, 24.2562,-139.6283, 4723,   4251.9,2,   1.4875,2,   1.48753,2,  34.6877,2,  34.6872,2,   141.86,1,   148.62,2,   4251.9,2,   148.89,2,   148.61,2,   155.80,2,     0.46,    36.41,2,     0.13,     0.00,2,     0.01,    2.548,2,    0.016, -999.000,9, -999.000,9, -999.000,9,   -999.0,9,   -999.0,9,-999.0000,9, -999.000,9, -999.000,   -999.0,9,   -999.0,   1.1411,  27.7849
    49MR0505_1,   P03,    71,  1,      7, X12019,2,20051110,0045, 24.2562,-139.6283, 4723,   4499.9,2,   1.4952,2,   1.49526,2,  34.6893,2,  34.6890,2,   145.96,1,   152.13,2,   4500.0,2,   152.33,2,   152.33,2,   153.15,2,     0.46,    36.12,2,     0.13,     0.00,2,     0.01,    2.525,2,    0.016, -999.000,9, -999.000,9, -999.000,9,   -999.0,9,   -999.0,9,-999.0000,9, -999.000,9, -999.000,   -999.0,9,   -999.0,   1.1204,  27.7876
    49MR0505_1,   P03,    71,  1,      6, X12018,9,20051110,0045, 24.2562,-139.6283, 4723,     50.3,2,  22.9614,2,  22.96145,2,  35.1402,2,-999.0000,9,   205.22,1,   216.90,2,     46.9,2,   216.92,2,  -999.00,9,  -999.00,9,  -999.00,  -999.00,9,  -999.00,  -999.00,9,  -999.00, -999.000,9, -999.000, -999.000,9, -999.000,9, -999.000,9,   -999.0,9,   -999.0,9,-999.0000,9, -999.000,9, -999.000,   -999.0,9,   -999.0,  22.9511,  24.0540
    49MR0505_1,   P03,    71,  1,      5, X12043,2,20051110,0045, 24.2562,-139.6283, 4723,    251.0,2,  11.9298,2,  11.92909,2,  33.9029,2,-999.0000,9,   194.30,1,   204.19,2,    246.8,2,   203.95,2,  -999.00,9,  -999.00,9,  -999.00,  -999.00,9,  -999.00,  -999.00,9,  -999.00, -999.000,9, -999.000, -999.000,9, -999.000,9, -999.000,9,   -999.0,9,   -999.0,9,-999.0000,9, -999.000,9, -999.000,   -999.0,9,   -999.0,  11.8975,  25.7563
    49MR0505_1,   P03,    71,  1,      4, X12010,2,20051110,0045, 24.2562,-139.6283, 4723,    199.8,2,  15.2515,2,  15.24506,2,  34.1987,2,-999.0000,9,   192.48,1,   202.49,2,    204.5,2,   204.20,2,  -999.00,9,  -999.00,9,  -999.00,  -999.00,9,  -999.00,  -999.00,9,  -999.00, -999.000,9, -999.000, -999.000,9, -999.000,9, -999.000,9,   -999.0,9,   -999.0,9,-999.0000,9, -999.000,9, -999.000,   -999.0,9,   -999.0,  15.2211,  25.3057
    49MR0505_1,   P03,    71,  1,      3, X12015,2,20051110,0045, 24.2562,-139.6283, 4723,    150.6,2,  19.0654,2,  19.06470,2,  34.7903,2,-999.0000,9,   197.80,1,   209.38,2,    152.9,2,   209.79,2,  -999.00,9,  -999.00,9,  -999.00,  -999.00,9,  -999.00,  -999.00,9,  -999.00, -999.000,9, -999.000, -999.000,9, -999.000,9, -999.000,9,   -999.0,9,   -999.0,9,-999.0000,9, -999.000,9, -999.000,   -999.0,9,   -999.0,  19.0385,  24.8511
    49MR0505_1,   P03,    71,  1,      2, X12014,2,20051110,0045, 24.2562,-139.6283, 4723,     11.3,2,  22.9492,2,  22.94950,2,  35.1407,2,-999.0000,9,   205.33,1,   217.39,2,      8.3,2,   216.90,2,  -999.00,9,  -999.00,9,  -999.00,  -999.00,9,  -999.00,  -999.00,9,  -999.00, -999.000,9, -999.000, -999.000,9, -999.000,9, -999.000,9,   -999.0,9,   -999.0,9,-999.0000,9, -999.000,9, -999.000,   -999.0,9,   -999.0,  22.9469,  24.0556
    49MR0505_1,   P03,    71,  1,      1, X12013,2,20051110,0045, 24.2562,-139.6283, 4723,   4719.9,2,   1.4975,2,   1.49735,2,  34.6909,2,  34.6906,6,   150.65,1,   156.30,2,   4719.9,2,   156.12,2,   156.05,2,   149.95,2,     0.45,    35.94,2,     0.13,     0.00,2,     0.01,    2.511,2,    0.016, -999.000,9, -999.000,9, -999.000,9,   -999.0,9,   -999.0,9,-999.0000,9, -999.000,9, -999.000,   -999.0,9,   -999.0,   1.0969,  27.7904