BOTTLE,20100316JAMSTECRIGC
EXPOCODE,SECT,STNNBR,CASTNO,SAMPNO,BTLNBR,BTLNBR_FLAG_W,DATE,TIME,LATITUDE,LONGITUDE,DEPTH,CTDPRS,CTDPRS_FLAG_W,CTDTMP,CTDTMP_FLAG_W,SBE35,SBE35_FLAG_W,CTDSAL,CTDSAL_FLAG_W,SALNTY,SALNTY_FLAG_W,CTDOXY,CTDOXY_FLAG_W,OPTOXY,OPTOXY_FLAG_W,DWNPRS,DWNPRS_FLAG_W,DWNOXY,DWNOXY_FLAG_W,OXYGEN,OXYGEN_FLAG_W,SILCAT,SILCAT_FLAG_W,SILUNC,NITRAT,NITRAT_FLAG_W,NRAUNC,NITRIT,NITRIT_FLAG_W,NRIUNC,PHSPHT,PHSPHT_FLAG_W,PHPUNC,CFC-11,CFC-11_FLAG_W,CFC-12,CFC-12_FLAG_W,CFC113,CFC113_FLAG_W,TCARBN,TCARBN_FLAG_W,ALKALI,ALKALI_FLAG_W,PH,PH_FLAG_W,DELC13,DELC13_FLAG_W,C13ERR,DELC14,DELC14_FLAG_W,C14ERR,THETA,SIG0
,,,,,,,,UTC,DEG,DEG,M,DBAR,,ITS-90,,ITS-90,,PSS-78,,PSS-78,,UMOL/KG,,UMOL/KG,,DBAR,,UMOL/KG,,UMOL/KG,,UMOL/KG,,UMOL/KG,UMOL/KG,,UMOL/KG,UMOL/KG,,UMOL/KG,UMOL/KG,,UMOL/KG,PMOL/KG,,PMOL/KG,,PMOL/KG,,UMOL/KG,,UMOL/KG,,,,/MILLE,,/MILLE,/MILLE,,/MILLE,DEG C,KG/CUM
    49MR0505_1,   P03,   124,  1,      0,   -999,9,20051118,1724, 25.8397,-159.7873, 4535,   -999.0,9,-999.0000,9,-999.00000,9,-999.0000,9,  35.3203,2,  -999.00,9,  -999.00,9,   -999.0,9,  -999.00,9,  -999.00,9,  -999.00,9,  -999.00,  -999.00,9,  -999.00,  -999.00,9,  -999.00, -999.000,9, -999.000, -999.000,9, -999.000,9, -999.000,9,   -999.0,9,   -999.0,9,-999.0000,9, -999.000,9, -999.000,   -999.0,9,   -999.0,-999.0000,-999.0000
    49MR0505_1,   P03,   124,  1,     36, X12048,2,20051118,1724, 25.8397,-159.7873, 4535,      9.7,2,  25.4810,2,  25.48094,2,  35.3076,2,  35.3075,2,   190.67,1,   206.33,2,      7.0,2,   207.13,2,   207.12,2,     0.94,2,     0.12,     0.08,2,     0.03,     0.00,2,     0.01,    0.030,2,    0.051,    1.621,2,    1.002,2, -999.000,5,   -999.0,9,   -999.0,9,-999.0000,9, -999.000,9, -999.000,   -999.0,9,   -999.0,  25.4789,  23.4270
    49MR0505_1,   P03,   124,  1,     35, X12047,2,20051118,1724, 25.8397,-159.7873, 4535,     49.5,2,  25.4653,2,  25.46568,2,  35.3063,2,  35.3070,2,   190.79,1,   206.91,2,     48.3,2,   207.05,2,   207.15,2,     0.92,2,     0.12,     0.06,2,     0.03,     0.00,2,     0.01,    0.029,2,    0.053,    1.608,2,    1.003,2, -999.000,5,   -999.0,9,   -999.0,9,-999.0000,9, -999.000,9, -999.000,   -999.0,9,   -999.0,  25.4544,  23.4336
    49MR0505_1,   P03,   124,  1,     34, X12046,2,20051118,1724, 25.8397,-159.7873, 4535,     99.6,2,  21.4291,2,  21.40740,2,  35.0706,2,  35.0680,2,   212.42,1,   230.38,2,    103.7,2,   228.71,2,   230.45,2,     1.88,2,     0.12,     0.09,2,     0.03,     0.01,2,     0.01,    0.054,2,    0.033,    2.102,2,    1.261,2, -999.000,5,   -999.0,9,   -999.0,9,-999.0000,9, -999.000,9, -999.000,   -999.0,9,   -999.0,  21.4098,  24.4355
    49MR0505_1,   P03,   124,  1,     33, X12003,2,20051118,1724, 25.8397,-159.7873, 4535,    150.4,2,  18.9272,2,  18.92510,2,  34.9410,2,  34.9396,2,   202.08,1,   218.73,2,    144.5,2,   214.82,2,   217.82,2,     2.55,2,     0.12,     0.92,2,     0.04,     0.10,2,     0.01,    0.143,2,    0.018,    2.230,2,    1.323,2, -999.000,5,   -999.0,9,   -999.0,9,-999.0000,9, -999.000,9, -999.000,   -999.0,9,   -999.0,  18.9005,  25.0014
    49MR0505_1,   P03,   124,  1,     32, X12044,2,20051118,1724, 25.8397,-159.7873, 4535,    199.9,2,  16.4231,2,  16.42933,2,  34.7164,2,  34.7102,2,   196.81,1,   212.13,2,    201.1,2,   211.00,2,   213.01,2,     4.40,2,     0.13,     4.04,2,     0.04,     0.01,2,     0.01,    0.335,2,    0.014,    2.418,2,    1.430,2, -999.000,5,   -999.0,9,   -999.0,9,-999.0000,9, -999.000,9, -999.000,   -999.0,9,   -999.0,  16.3910,  25.4394
    49MR0505_1,   P03,   124,  1,     31, X12051,2,20051118,1724, 25.8397,-159.7873, 4535,    248.2,2,  14.5207,2,  14.52083,2,  34.5093,2,  34.5038,2,   195.34,1,   210.72,2,    252.5,2,   212.13,2,   211.23,2,     7.09,2,     0.13,     7.26,2,     0.05,     0.00,2,     0.01,    0.548,2,    0.013,    2.602,6,    1.509,6,    0.102,6,   -999.0,9,   -999.0,9,-999.0000,9, -999.000,9, -999.000,   -999.0,9,   -999.0,  14.4840,  25.7053
    49MR0505_1,   P03,   124,  1,     30, X12042,2,20051118,1724, 25.8397,-159.7873, 4535,    299.0,2,  12.9965,2,  12.99549,2,  34.3405,2,  34.3408,2,   193.91,1,   208.71,2,    300.8,2,   212.36,2,   209.80,2,     9.65,2,     0.14,     9.75,2,     0.06,     0.00,2,     0.01,    0.757,4, -999.000,    2.738,2,    1.558,2,    0.089,2,   -999.0,9,   -999.0,9,-999.0000,9, -999.000,9, -999.000,   -999.0,9,   -999.0,  12.9555,  25.8908
    49MR0505_1,   P03,   124,  1,     29, X12041,2,20051118,1724, 25.8397,-159.7873, 4535,    401.1,2,  10.3854,2,  10.37966,2,  34.1575,2,  34.1638,2,   180.62,1,   194.30,2,    404.4,2,   197.20,2,   194.70,2,    18.40,2,     0.16,    16.05,2,     0.08,     0.00,2,     0.01,    1.172,2,    0.013,    2.846,2,    1.553,2,    0.107,2,   -999.0,9,   -999.0,9,-999.0000,9, -999.000,9, -999.000,   -999.0,9,   -999.0,  10.3377,  26.2362
    49MR0505_1,   P03,   124,  1,     28, X12016,2,20051118,1724, 25.8397,-159.7873, 4535,    501.5,2,   8.1349,2,   8.13368,2,  34.0747,2,  34.0755,6,   143.50,1,   154.44,2,    504.4,2,   159.52,2,   155.52,2,    35.96,2,     0.20,    24.60,2,     0.10,     0.00,2,     0.01,    1.761,2,    0.015,    2.372,2,    1.204,2,    0.102,2,   -999.0,9,   -999.0,9,-999.0000,9, -999.000,9, -999.000,   -999.0,9,   -999.0,   8.0833,  26.5347
    49MR0505_1,   P03,   124,  1,     27, X12039,2,20051118,1724, 25.8397,-159.7873, 4535,    599.7,2,   5.9948,2,   5.99306,2,  34.0412,2,  34.0425,2,    90.11,1,    97.02,2,    601.6,2,   100.13,2,    96.72,2,    63.53,2,     0.26,    33.89,2,     0.13,     0.00,2,     0.01,    2.454,2,    0.016,    1.267,2,    0.619,2,    0.060,2,   -999.0,9,   -999.0,9,-999.0000,9, -999.000,9, -999.000,   -999.0,9,   -999.0,   5.9425,  26.8022
    49MR0505_1,   P03,   124,  1,     26, X12038,2,20051118,1724, 25.8397,-159.7873, 4535,    700.9,2,   4.9476,2,   4.94752,2,  34.1302,2,  34.1301,2,    43.63,1,    47.56,2,    703.5,2,    50.73,2,    47.18,2,    86.26,2,     0.31,    39.95,2,     0.14,     0.00,2,     0.01,    2.906,2,    0.017,    0.389,2,    0.203,2,    0.022,2,   -999.0,9,   -999.0,9,-999.0000,9, -999.000,9, -999.000,   -999.0,9,   -999.0,   4.8914,  26.9980
    49MR0505_1,   P03,   124,  1,     25, X12037,2,20051118,1724, 25.8397,-159.7873, 4535,    800.9,2,   4.4532,2,   4.45353,2,  34.2416,2,  34.2399,2,    25.57,1,    28.04,2,    804.1,2,    28.72,2,    27.61,2,   100.82,2,     0.34,    42.29,2,     0.15,     0.00,2,     0.01,    3.090,2,    0.018,    0.112,6,    0.062,6,    0.000,6,   -999.0,9,   -999.0,9,-999.0000,9, -999.000,9, -999.000,   -999.0,9,   -999.0,   4.3913,  27.1416
    49MR0505_1,   P03,   124,  1,     24, X12008,2,20051118,1724, 25.8397,-159.7873, 4535,    900.1,2,   4.1728,2,   4.17368,2,  34.3368,2,  34.3347,2,    23.40,1,    25.66,2,    901.7,2,    26.00,2,    25.18,2,   109.00,2,     0.36,    42.95,2,     0.15,     0.00,2,     0.01,    3.121,2,    0.018,    0.035,2,    0.023,2,    0.000,2,   -999.0,9,   -999.0,9,-999.0000,9, -999.000,9, -999.000,   -999.0,9,   -999.0,   4.1044,  27.2477
    49MR0505_1,   P03,   124,  1,     23, X12035,2,20051118,1724, 25.8397,-159.7873, 4535,   1002.1,2,   3.8840,2,   3.88382,2,  34.4105,2,  34.4100,6,    28.72,1,    31.31,2,   1002.6,2,    32.15,2,    31.00,2,   116.25,2,     0.37,    42.91,2,     0.15,     0.00,2,     0.01,    3.132,2,    0.018,    0.018,2,    0.011,2,    0.000,2,   -999.0,9,   -999.0,9,-999.0000,9, -999.000,9, -999.000,   -999.0,9,   -999.0,   3.8092,  27.3367
    49MR0505_1,   P03,   124,  1,     22, X12034,2,20051118,1724, 25.8397,-159.7873, 4535,   1201.2,2,   3.3578,2,   3.35771,2,  34.5160,2,  34.5155,2,    48.28,1,    52.26,2,   1203.3,2,    52.10,2,    52.26,2,   126.10,2,     0.40,    42.11,2,     0.15,     0.00,2,     0.01,    3.039,2,    0.018,    0.002,2,    0.003,2,    0.000,2,   -999.0,9,   -999.0,9,-999.0000,9, -999.000,9, -999.000,   -999.0,9,   -999.0,   3.2710,  27.4735
    49MR0505_1,   P03,   124,  1,     21, X12033,2,20051118,1724, 25.8397,-159.7873, 4535,   1400.9,2,   2.9737,2,   2.97346,2,  34.5497,2,  34.5496,2,    56.99,1,    62.08,2,   1402.7,2,    62.04,2,    61.85,2,   134.65,2,     0.42,    41.71,2,     0.15,     0.00,2,     0.01,    2.999,2,    0.017,    0.000,2,    0.002,2,    0.000,2,   -999.0,9,   -999.0,9,-999.0000,9, -999.000,9, -999.000,   -999.0,9,   -999.0,   2.8744,  27.5370
    49MR0505_1,   P03,   124,  1,     20, X12032,2,20051118,1724, 25.8397,-159.7873, 4535,   1601.9,2,   2.6229,2,   2.62272,2,  34.5766,2,  34.5765,2,    65.36,1,    71.30,2,   1603.5,2,    71.03,2,    71.21,2,   142.54,2,     0.43,    41.22,2,     0.15,     0.00,2,     0.01,    2.958,2,    0.017,    0.000,2,    0.001,2,    0.000,2,   -999.0,9,   -999.0,9,-999.0000,9, -999.000,9, -999.000,   -999.0,9,   -999.0,   2.5111,  27.5904
    49MR0505_1,   P03,   124,  1,     19, X12001,2,20051118,1724, 25.8397,-159.7873, 4535,   1799.5,2,   2.3379,2,   2.33759,2,  34.5956,2,  34.5955,6,    71.90,1,    78.50,2,   1799.3,2,    79.34,2,    78.26,2,   149.68,2,     0.45,    40.91,2,     0.15,     0.00,2,     0.01,    2.915,2,    0.017,    0.000,2,    0.001,2,    0.000,2,   -999.0,9,   -999.0,9,-999.0000,9, -999.000,9, -999.000,   -999.0,9,   -999.0,   2.2134,  27.6305
    49MR0505_1,   P03,   124,  1,     18, X12030,2,20051118,1724, 25.8397,-159.7873, 4535,   1999.6,2,   2.0732,2,   2.07266,2,  34.6160,2,  34.6162,2,    79.62,1,    87.23,2,   2000.4,2,    87.00,2,    86.77,2,   156.46,2,     0.46,    40.31,2,     0.15,     0.00,2,     0.01,    2.871,2,    0.017,    0.002,2,    0.002,2,    0.000,2,   -999.0,9,   -999.0,9,-999.0000,9, -999.000,9, -999.000,   -999.0,9,   -999.0,   1.9357,  27.6690
    49MR0505_1,   P03,   124,  1,     17, X12049,2,20051118,1724, 25.8397,-159.7873, 4535,   2199.2,2,   1.9100,2,   1.90994,2,  34.6297,2,  34.6296,2,    86.25,1,    94.52,2,   2200.6,2,    93.56,2,    94.25,2,   160.13,2,     0.47,    39.91,2,     0.14,     0.00,2,     0.01,    2.838,2,    0.017, -999.000,9, -999.000,9, -999.000,9,   -999.0,9,   -999.0,9,-999.0000,9, -999.000,9, -999.000,   -999.0,9,   -999.0,   1.7581,  27.6938
    49MR0505_1,   P03,   124,  1,     16, X12028,2,20051118,1724, 25.8397,-159.7873, 4535,   2401.6,2,   1.8049,2,   1.80514,2,  34.6406,2,  34.6401,2,    92.20,1,   100.94,2,   2402.7,2,   100.40,2,   100.73,2,   162.10,2,     0.48,    39.59,2,     0.14,     0.00,2,     0.01,    2.797,2,    0.017,    0.001,2,    0.003,2,    0.000,2,   -999.0,9,   -999.0,9,-999.0000,9, -999.000,9, -999.000,   -999.0,9,   -999.0,   1.6371,  27.7116
    49MR0505_1,   P03,   124,  1,     15, X12006,2,20051118,1724, 25.8397,-159.7873, 4535,   2598.9,2,   1.6791,2,   1.67896,2,  34.6518,2,  34.6518,2,   101.13,1,   110.58,2,   2600.3,2,   108.58,2,   110.57,2,   162.64,2,     0.48,    38.93,2,     0.14,     0.00,2,     0.01,    2.746,2,    0.017, -999.000,9, -999.000,9, -999.000,9,   -999.0,9,   -999.0,9,-999.0000,9, -999.000,9, -999.000,   -999.0,9,   -999.0,   1.4959,  27.7310
    49MR0505_1,   P03,   124,  1,     14, X12026,2,20051118,1724, 25.8397,-159.7873, 4535,   2800.7,2,   1.6134,2,   1.61328,2,  34.6592,2,  34.6590,6,   107.69,1,   117.78,2,   2801.1,2,   117.32,2,   117.84,2,   161.99,2,     0.48,    38.44,2,     0.14,     0.00,2,     0.01,    2.708,2,    0.017, -999.000,9, -999.000,9, -999.000,9,   -999.0,9,   -999.0,9,-999.0000,9, -999.000,9, -999.000,   -999.0,9,   -999.0,   1.4130,  27.7430
    49MR0505_1,   P03,   124,  1,     13, X12025,2,20051118,1724, 25.8397,-159.7873, 4535,   2999.4,2,   1.5617,2,   1.56167,2,  34.6658,2,  34.6656,2,   113.98,1,   124.53,2,   2999.7,2,   124.28,2,   124.27,2,   160.74,2,     0.47,    38.07,2,     0.14,     0.00,2,     0.01,    2.674,2,    0.017,    0.001,2,    0.000,2,    0.000,2,   -999.0,9,   -999.0,9,-999.0000,9, -999.000,9, -999.000,   -999.0,9,   -999.0,   1.3437,  27.7532
    49MR0505_1,   P03,   124,  1,     12, X12024,2,20051118,1724, 25.8397,-159.7873, 4535,   3250.7,2,   1.5302,2,   1.53025,2,  34.6711,2,  34.6708,2,   119.73,1,   130.57,2,   3251.0,2,   130.32,2,   130.40,2,   159.25,2,     0.47,    37.59,2,     0.14,     0.00,2,     0.01,    2.626,2,    0.017, -999.000,9, -999.000,9, -999.000,9,   -999.0,9,   -999.0,9,-999.0000,9, -999.000,9, -999.000,   -999.0,9,   -999.0,   1.2884,  27.7613
    49MR0505_1,   P03,   124,  1,     11, X12023,2,20051118,1724, 25.8397,-159.7873, 4535,   3498.6,2,   1.4963,2,   1.49625,2,  34.6766,2,  34.6766,2,   126.33,1,   137.40,2,   3499.2,2,   136.66,2,   137.39,2,   157.47,2,     0.47,    37.14,2,     0.14,     0.00,2,     0.01,    2.600,2,    0.016,    0.002,2,    0.000,2,    0.000,2,   -999.0,9,   -999.0,9,-999.0000,9, -999.000,9, -999.000,   -999.0,9,   -999.0,   1.2304,  27.7698
    49MR0505_1,   P03,   124,  1,     10, X12022,2,20051118,1724, 25.8397,-159.7873, 4535,   3750.9,2,   1.4918,2,   1.49169,2,  34.6797,2,  34.6797,6,   130.21,1,   141.14,2,   3751.0,2,   141.64,2,   141.22,2,   156.25,2,     0.46,    36.90,2,     0.14,     0.00,2,     0.01,    2.585,2,    0.016, -999.000,9, -999.000,9, -999.000,9,   -999.0,9,   -999.0,9,-999.0000,9, -999.000,9, -999.000,   -999.0,9,   -999.0,   1.1998,  27.7744
    49MR0505_1,   P03,   124,  1,      9, X12021,2,20051118,1724, 25.8397,-159.7873, 4535,   3999.4,2,   1.4781,2,   1.47806,2,  34.6835,2,  34.6833,2,   135.18,1,   145.99,2,   3999.8,2,   145.90,2,   146.19,2,   154.72,2,     0.46,    36.54,2,     0.14,     0.00,2,     0.01,    2.550,2,    0.016, -999.000,9, -999.000,9, -999.000,9,   -999.0,9,   -999.0,9,-999.0000,9, -999.000,9, -999.000,   -999.0,9,   -999.0,   1.1599,  27.7803
    49MR0505_1,   P03,   124,  1,      8, X12020,2,20051118,1724, 25.8397,-159.7873, 4535,   4248.5,2,   1.4788,2,   1.47879,2,  34.6862,2,  34.6862,2,   139.10,1,   149.67,2,   4248.7,2,   149.80,2,   149.80,2,   153.07,2,     0.46,    36.28,2,     0.13,     0.00,2,     0.01,    2.528,2,    0.016, -999.000,9, -999.000,9, -999.000,9,   -999.0,9,   -999.0,9,-999.0000,9, -999.000,9, -999.000,   -999.0,9,   -999.0,   1.1331,  27.7842
    49MR0505_1,   P03,   124,  1,      7, X12019,2,20051118,1724, 25.8397,-159.7873, 4535,   4499.4,2,   1.4965,2,   1.49648,2,  34.6873,2,  34.6876,2,   141.33,1,   151.34,2,   4499.5,2,   151.62,2,   151.45,2,   152.30,2,     0.45,    36.17,2,     0.13,     0.00,2,     0.01,    2.528,2,    0.016, -999.000,9, -999.000,9, -999.000,9,   -999.0,9,   -999.0,9,-999.0000,9, -999.000,9, -999.000,   -999.0,9,   -999.0,   1.1217,  27.7859
    49MR0505_1,   P03,   124,  1,      6, X12018,9,20051118,1724, 25.8397,-159.7873, 4535,   4500.4,2,   1.4967,2,   1.49660,2,  34.6872,2,-999.0000,9,   141.29,1,   151.33,2,   4500.5,2,   151.62,2,  -999.00,9,  -999.00,9,  -999.00,  -999.00,9,  -999.00,  -999.00,9,  -999.00, -999.000,9, -999.000, -999.000,9, -999.000,9, -999.000,9,   -999.0,9,   -999.0,9,-999.0000,9, -999.000,9, -999.000,   -999.0,9,   -999.0,   1.1218,  27.7858
    49MR0505_1,   P03,   124,  1,      5, X12043,9,20051118,1724, 25.8397,-159.7873, 4535,      9.6,2,  25.4795,2,  25.48030,2,  35.3076,2,-999.0000,9,   190.84,1,   206.34,2,      7.0,2,   207.14,2,  -999.00,9,  -999.00,9,  -999.00,  -999.00,9,  -999.00,  -999.00,9,  -999.00, -999.000,9, -999.000, -999.000,9, -999.000,9, -999.000,9,   -999.0,9,   -999.0,9,-999.0000,9, -999.000,9, -999.000,   -999.0,9,   -999.0,  25.4774,  23.4275
    49MR0505_1,   P03,   124,  1,      4, X12010,2,20051118,1724, 25.8397,-159.7873, 4535,   2000.0,2,   2.0710,2,   2.07111,2,  34.6163,2,-999.0000,9,    79.68,1,    87.19,2,   2000.9,2,    87.06,2,  -999.00,9,  -999.00,9,  -999.00,  -999.00,9,  -999.00,  -999.00,9,  -999.00, -999.000,9, -999.000, -999.000,9, -999.000,9, -999.000,9,   -999.0,9,   -999.0,9,-999.0000,9, -999.000,9, -999.000,   -999.0,9,   -999.0,   1.9335,  27.6695
    49MR0505_1,   P03,   124,  1,      3, X12015,2,20051118,1724, 25.8397,-159.7873, 4535,   4000.2,2,   1.4779,2,   1.47784,2,  34.6835,2,-999.0000,9,   135.17,1,   145.94,2,   4000.6,2,   145.92,2,  -999.00,9,  -999.00,9,  -999.00,  -999.00,9,  -999.00,  -999.00,9,  -999.00, -999.000,9, -999.000, -999.000,9, -999.000,9, -999.000,9,   -999.0,9,   -999.0,9,-999.0000,9, -999.000,9, -999.000,   -999.0,9,   -999.0,   1.1596,  27.7803
    49MR0505_1,   P03,   124,  1,      2, X12014,2,20051118,1724, 25.8397,-159.7873, 4535,   4619.6,2,   1.5071,2,   1.50687,2,  34.6874,2,-999.0000,9,   142.50,1,   152.13,2,   4619.6,2,   152.37,2,  -999.00,9,  -999.00,9,  -999.00,  -999.00,9,  -999.00,  -999.00,9,  -999.00, -999.000,9, -999.000, -999.000,9, -999.000,9, -999.000,9,   -999.0,9,   -999.0,9,-999.0000,9, -999.000,9, -999.000,   -999.0,9,   -999.0,   1.1180,  27.7862
    49MR0505_1,   P03,   124,  1,      1, X12013,2,20051118,1724, 25.8397,-159.7873, 4535,   4620.1,2,   1.5071,2,   1.50695,2,  34.6874,2,  34.6877,6,   142.49,1,   152.21,2,   4620.1,2,   152.38,2,   152.02,2,   152.17,2,     0.45,    36.15,2,     0.13,    -0.01,2,     0.01,    2.526,2,    0.016,    0.000,2,    0.001,2,    0.000,2,   -999.0,9,   -999.0,9,-999.0000,9, -999.000,9, -999.000,   -999.0,9,   -999.0,   1.1180,  27.7862