BOTTLE,20100316JAMSTECRIGC
EXPOCODE,SECT,STNNBR,CASTNO,SAMPNO,BTLNBR,BTLNBR_FLAG_W,DATE,TIME,LATITUDE,LONGITUDE,DEPTH,CTDPRS,CTDPRS_FLAG_W,CTDTMP,CTDTMP_FLAG_W,SBE35,SBE35_FLAG_W,CTDSAL,CTDSAL_FLAG_W,SALNTY,SALNTY_FLAG_W,CTDOXY,CTDOXY_FLAG_W,OPTOXY,OPTOXY_FLAG_W,DWNPRS,DWNPRS_FLAG_W,DWNOXY,DWNOXY_FLAG_W,OXYGEN,OXYGEN_FLAG_W,SILCAT,SILCAT_FLAG_W,SILUNC,NITRAT,NITRAT_FLAG_W,NRAUNC,NITRIT,NITRIT_FLAG_W,NRIUNC,PHSPHT,PHSPHT_FLAG_W,PHPUNC,CFC-11,CFC-11_FLAG_W,CFC-12,CFC-12_FLAG_W,CFC113,CFC113_FLAG_W,TCARBN,TCARBN_FLAG_W,ALKALI,ALKALI_FLAG_W,PH,PH_FLAG_W,DELC13,DELC13_FLAG_W,C13ERR,DELC14,DELC14_FLAG_W,C14ERR,THETA,SIG0
,,,,,,,,UTC,DEG,DEG,M,DBAR,,ITS-90,,ITS-90,,PSS-78,,PSS-78,,UMOL/KG,,UMOL/KG,,DBAR,,UMOL/KG,,UMOL/KG,,UMOL/KG,,UMOL/KG,UMOL/KG,,UMOL/KG,UMOL/KG,,UMOL/KG,UMOL/KG,,UMOL/KG,PMOL/KG,,PMOL/KG,,PMOL/KG,,UMOL/KG,,UMOL/KG,,,,/MILLE,,/MILLE,/MILLE,,/MILLE,DEG C,KG/CUM
    49MR0505_1,   P03,    48,  1,      0,   -999,9,20051106,1143, 24.7175,-129.4235, 4484,   -999.0,9,-999.0000,9,-999.00000,9,-999.0000,9,  34.7156,2,  -999.00,9,  -999.00,9,   -999.0,9,  -999.00,9,  -999.00,9,  -999.00,9,  -999.00,  -999.00,9,  -999.00,  -999.00,9,  -999.00, -999.000,9, -999.000, -999.000,9, -999.000,9, -999.000,9,   -999.0,9,   -999.0,9,-999.0000,9, -999.000,9, -999.000,   -999.0,9,   -999.0,-999.0000,-999.0000
    49MR0505_1,   P03,    48,  1,     36, X12048,2,20051106,1143, 24.7175,-129.4235, 4484,      9.2,2,  21.6689,2,  21.66878,2,  34.7290,2,  34.7286,2,   211.96,1,   222.01,2,      9.7,2,   222.07,2,   222.05,2,     1.35,2,     0.12,     0.04,2,     0.03,     0.00,2,     0.01,    0.181,2,    0.017,    1.910,2,    1.178,2, -999.000,5,   -999.0,9,   -999.0,9,-999.0000,9, -999.000,9, -999.000,   -999.0,9,   -999.0,  21.6671,  24.1046
    49MR0505_1,   P03,    48,  1,     35, X12047,2,20051106,1143, 24.7175,-129.4235, 4484,     49.6,2,  21.6756,2,  21.67604,2,  34.7281,2,  34.7286,2,   212.16,1,   222.01,2,     49.9,2,   221.97,2,   221.92,2,     1.33,2,     0.12,     0.04,2,     0.03,     0.00,2,     0.01,    0.185,2,    0.016,    1.916,2,    1.178,2, -999.000,5,   -999.0,9,   -999.0,9,-999.0000,9, -999.000,9, -999.000,   -999.0,9,   -999.0,  21.6659,  24.1043
    49MR0505_1,   P03,    48,  1,     34, X12046,2,20051106,1143, 24.7175,-129.4235, 4484,    100.2,2,  19.8043,2,  19.80006,2,  34.5887,2,  34.5922,2,   216.69,1,   227.08,2,     98.0,2,   229.38,2,   226.41,2,     1.67,2,     0.12,     0.03,2,     0.03,     0.00,2,     0.01,    0.187,2,    0.016,    2.185,2,    1.321,2, -999.000,5,   -999.0,9,   -999.0,9,-999.0000,9, -999.000,9, -999.000,   -999.0,9,   -999.0,  19.7860,  24.5041
    49MR0505_1,   P03,    48,  1,     33, X12003,2,20051106,1143, 24.7175,-129.4235, 4484,    149.3,2,  17.3264,2,  17.31776,2,  34.4204,2,  34.3880,2,   208.31,1,   218.37,2,    153.2,2,   216.35,2,   217.93,2,     2.63,2,     0.12,     1.41,2,     0.04,     0.07,2,     0.01,    0.284,2,    0.014,    2.474,2,    1.437,2,    0.307,4,   -999.0,9,   -999.0,9,-999.0000,9, -999.000,9, -999.000,   -999.0,9,   -999.0,  17.3016,  24.9975
    49MR0505_1,   P03,    48,  1,     32, X12044,2,20051106,1143, 24.7175,-129.4235, 4484,    200.3,2,  11.0066,2,  11.00795,2,  33.7009,2,  33.7060,2,   193.19,1,   200.84,2,    206.1,2,   201.66,2,   200.91,2,    11.60,2,     0.14,    12.37,2,     0.07,     0.00,2,     0.01,    1.038,2,    0.013,    3.187,2,    1.702,2,    0.139,2,   -999.0,9,   -999.0,9,-999.0000,9, -999.000,9, -999.000,   -999.0,9,   -999.0,  10.9823,  25.7671
    49MR0505_1,   P03,    48,  1,     31, X12051,2,20051106,1143, 24.7175,-129.4235, 4484,    249.4,2,   9.7360,2,   9.73624,2,  33.9180,2,  33.9336,2,   179.50,1,   186.36,2,    256.3,2,   186.32,2,   186.31,2,    19.13,2,     0.16,    17.60,2,     0.08,     0.00,2,     0.01,    1.335,2,    0.014,    3.178,6,    1.647,6,    0.103,6,   -999.0,9,   -999.0,9,-999.0000,9, -999.000,9, -999.000,   -999.0,9,   -999.0,   9.7079,  26.1560
    49MR0505_1,   P03,    48,  1,     30, X12042,2,20051106,1143, 24.7175,-129.4235, 4484,    299.7,2,   8.6610,2,   8.66196,2,  34.0611,2,  34.0618,2,   142.88,1,   147.44,2,    303.9,2,   152.87,2,   147.93,2,    31.06,2,     0.19,    24.00,2,     0.10,     0.00,2,     0.01,    1.771,2,    0.015,    2.676,2,    1.315,2,    0.092,2,   -999.0,9,   -999.0,9,-999.0000,9, -999.000,9, -999.000,   -999.0,9,   -999.0,   8.6294,  26.4411
    49MR0505_1,   P03,    48,  1,     29, X12041,2,20051106,1143, 24.7175,-129.4235, 4484,    398.9,2,   7.1510,2,   7.15109,2,  34.1191,2,  34.1178,2,    71.80,1,    75.61,2,    401.7,2,    84.00,2,    76.49,2,    51.58,2,     0.23,    32.79,2,     0.12,     0.00,2,     0.01,    2.492,2,    0.016,    1.271,2,    0.620,2,    0.027,2,   -999.0,9,   -999.0,9,-999.0000,9, -999.000,9, -999.000,   -999.0,9,   -999.0,   7.1132,  26.7092
    49MR0505_1,   P03,    48,  1,     28, X12016,2,20051106,1143, 24.7175,-129.4235, 4484,    500.3,2,   6.5059,2,   6.50558,2,  34.2761,2,  34.2782,6,    21.76,1,    22.62,2,    500.1,2,    25.43,2,    22.24,2,    67.79,2,     0.27,    37.76,2,     0.14,     0.00,2,     0.01,    2.984,2,    0.017,    0.220,2,    0.108,2,    0.000,2,   -999.0,9,   -999.0,9,-999.0000,9, -999.000,9, -999.000,   -999.0,9,   -999.0,   6.4604,  26.9212
    49MR0505_1,   P03,    48,  1,     27, X12039,2,20051106,1143, 24.7175,-129.4235, 4484,    600.5,2,   6.0263,2,   6.02575,2,  34.3721,2,  34.3726,2,     9.72,1,    10.38,2,    602.0,2,    10.94,2,    10.09,2,    77.77,2,     0.29,    40.01,2,     0.14,     0.00,2,     0.01,    3.153,2,    0.018,    0.025,2,    0.026,2,    0.000,2,   -999.0,9,   -999.0,9,-999.0000,9, -999.000,9, -999.000,   -999.0,9,   -999.0,   5.9734,  27.0599
    49MR0505_1,   P03,    48,  1,     26, X12038,2,20051106,1143, 24.7175,-129.4235, 4484,    699.8,2,   5.3500,2,   5.35005,2,  34.4048,2,  34.4050,2,    12.97,1,    13.50,2,    701.6,2,    14.78,2,    13.52,2,    87.44,2,     0.31,    41.89,2,     0.15,     0.00,2,     0.01,    3.191,2,    0.018,    0.000,2,    0.013,2,    0.000,2,   -999.0,9,   -999.0,9,-999.0000,9, -999.000,9, -999.000,   -999.0,9,   -999.0,   5.2915,  27.1693
    49MR0505_1,   P03,    48,  1,     25, X12037,2,20051106,1143, 24.7175,-129.4235, 4484,    799.5,2,   4.9498,2,   4.95003,2,  34.4457,2,  34.4457,2,    16.26,1,    16.75,2,    801.2,2,    17.22,2,    17.05,2,    94.40,2,     0.33,    42.87,2,     0.15,     0.00,2,     0.01,    3.213,2,    0.018,    0.000,6,    0.004,6,    0.000,6,   -999.0,9,   -999.0,9,-999.0000,9, -999.000,9, -999.000,   -999.0,9,   -999.0,   4.8847,  27.2490
    49MR0505_1,   P03,    48,  1,     24, X12008,2,20051106,1143, 24.7175,-129.4235, 4484,    900.3,2,   4.5872,2,   4.58718,2,  34.4744,2,  34.4743,2,    20.84,1,    21.41,2,    903.5,2,    21.70,2,    21.91,2,   101.42,2,     0.34,    43.33,2,     0.15,     0.00,2,     0.01,    3.224,2,    0.018,    0.001,2,    0.004,2,    0.000,2,   -999.0,9,   -999.0,9,-999.0000,9, -999.000,9, -999.000,   -999.0,9,   -999.0,   4.5157,  27.3131
    49MR0505_1,   P03,    48,  1,     23, X12035,2,20051106,1143, 24.7175,-129.4235, 4484,   1000.9,2,   4.2648,2,   4.26509,2,  34.4953,2,  34.4948,6,    25.16,1,    25.66,2,   1003.7,2,    25.61,2,    26.22,2,   107.96,2,     0.36,    43.42,2,     0.15,     0.00,2,     0.01,    3.221,2,    0.018,    0.000,2,    0.006,2,    0.000,2,   -999.0,9,   -999.0,9,-999.0000,9, -999.000,9, -999.000,   -999.0,9,   -999.0,   4.1870,  27.3651
    49MR0505_1,   P03,    48,  1,     22, X12034,2,20051106,1143, 24.7175,-129.4235, 4484,   1200.1,2,   3.6754,2,   3.67518,2,  34.5288,2,  34.5290,2,    33.92,1,    34.67,2,   1200.7,2,    35.47,2,    35.46,2,   121.11,2,     0.39,    43.33,2,     0.15,     0.00,2,     0.01,    3.190,2,    0.018,    0.000,2,    0.006,2,    0.000,2,   -999.0,9,   -999.0,9,-999.0000,9, -999.000,9, -999.000,   -999.0,9,   -999.0,   3.5857,  27.4533
    49MR0505_1,   P03,    48,  1,     21, X12033,2,20051106,1143, 24.7175,-129.4235, 4484,   1400.8,2,   3.1977,2,   3.19765,2,  34.5610,2,  34.5613,2,    42.22,1,    43.33,2,   1401.8,2,    43.74,2,    44.19,2,   132.70,2,     0.41,    43.09,2,     0.15,     0.00,2,     0.01,    3.154,2,    0.018,    0.000,2,    0.005,2,    0.000,2,   -999.0,9,   -999.0,9,-999.0000,9, -999.000,9, -999.000,   -999.0,9,   -999.0,   3.0960,  27.5258
    49MR0505_1,   P03,    48,  1,     20, X12032,2,20051106,1143, 24.7175,-129.4235, 4484,   1601.8,2,   2.7918,2,   2.79152,2,  34.5864,2,  34.5867,2,    53.22,1,    55.08,2,   1602.4,2,    55.47,2,    55.78,2,   142.62,2,     0.43,    42.47,2,     0.15,     0.00,2,     0.01,    3.086,2,    0.018,    0.000,2,    0.004,2,    0.000,2,   -999.0,9,   -999.0,9,-999.0000,9, -999.000,9, -999.000,   -999.0,9,   -999.0,   2.6779,  27.5838
    49MR0505_1,   P03,    48,  1,     19, X12001,2,20051106,1143, 24.7175,-129.4235, 4484,   1800.1,2,   2.4539,2,   2.45340,2,  34.6089,2,  34.6090,2,    65.27,1,    67.78,2,   1801.9,2,    66.80,2,    68.30,2,   149.97,2,     0.45,    41.67,2,     0.15,     0.00,2,     0.01,    3.012,2,    0.017,    0.000,2,    0.001,2,    0.000,2,   -999.0,9,   -999.0,9,-999.0000,9, -999.000,9, -999.000,   -999.0,9,   -999.0,   2.3277,  27.6317
    49MR0505_1,   P03,    48,  1,     18, X12030,2,20051106,1143, 24.7175,-129.4235, 4484,   1999.9,2,   2.1880,2,   2.18794,2,  34.6258,2,  34.6260,6,    78.16,1,    81.37,2,   2000.6,2,    81.31,2,    82.00,2,   154.48,2,     0.46,    40.90,2,     0.15,     0.00,2,     0.01,    2.922,2,    0.017,    0.000,2,    0.000,2,    0.000,2,   -999.0,9,   -999.0,9,-999.0000,9, -999.000,9, -999.000,   -999.0,9,   -999.0,   2.0487,  27.6680
    49MR0505_1,   P03,    48,  1,     17, X12049,2,20051106,1143, 24.7175,-129.4235, 4484,   2201.8,2,   2.0133,2,   2.01330,2,  34.6380,2,  34.6379,2,    87.04,1,    90.96,2,   2202.2,2,    91.14,2,    91.42,2,   157.72,2,     0.47,    40.16,2,     0.15,     0.00,2,     0.01,    2.861,2,    0.017, -999.000,9, -999.000,9, -999.000,9,   -999.0,9,   -999.0,9,-999.0000,9, -999.000,9, -999.000,   -999.0,9,   -999.0,   1.8594,  27.6927
    49MR0505_1,   P03,    48,  1,     16, X12028,2,20051106,1143, 24.7175,-129.4235, 4484,   2401.2,2,   1.8694,2,   1.86951,2,  34.6468,2,  34.6468,2,    93.49,1,    97.86,2,   2401.4,2,    98.33,2,    98.23,2,   162.02,2,     0.48,    39.77,2,     0.14,     0.00,2,     0.01,    2.824,2,    0.017, -999.000,9, -999.000,9, -999.000,9,   -999.0,9,   -999.0,9,-999.0000,9, -999.000,9, -999.000,   -999.0,9,   -999.0,   1.7004,  27.7119
    49MR0505_1,   P03,    48,  1,     15, X12006,2,20051106,1143, 24.7175,-129.4235, 4484,   2601.1,2,   1.7462,2,   1.74612,2,  34.6547,2,  34.6550,2,   100.73,1,   105.25,2,   2601.1,2,   105.81,2,   105.86,2,   165.13,2,     0.48,    39.17,2,     0.14,     0.00,2,     0.01,    2.788,2,    0.017, -999.000,9, -999.000,9, -999.000,9,   -999.0,9,   -999.0,9,-999.0000,9, -999.000,9, -999.000,   -999.0,9,   -999.0,   1.5615,  27.7286
    49MR0505_1,   P03,    48,  1,     14, X12026,2,20051106,1143, 24.7175,-129.4235, 4484,   2800.2,2,   1.6452,2,   1.64534,2,  34.6617,2,  34.6616,6,   107.31,1,   112.37,2,   2800.3,2,   112.73,2,   112.71,2,   167.32,2,     0.49,    38.89,2,     0.14,     0.00,2,     0.01,    2.741,2,    0.017, -999.000,9, -999.000,9, -999.000,9,   -999.0,9,   -999.0,9,-999.0000,9, -999.000,9, -999.000,   -999.0,9,   -999.0,   1.4442,  27.7428
    49MR0505_1,   P03,    48,  1,     13, X12025,2,20051106,1143, 24.7175,-129.4235, 4484,   3001.6,2,   1.5773,2,   1.57730,2,  34.6678,2,  34.6681,2,   113.76,1,   119.03,2,   3001.4,2,   119.89,2,   119.47,2,   167.74,2,     0.49,    38.34,2,     0.14,     0.00,2,     0.01,    2.707,2,    0.017, -999.000,9, -999.000,9, -999.000,9,   -999.0,9,   -999.0,9,-999.0000,9, -999.000,9, -999.000,   -999.0,9,   -999.0,   1.3587,  27.7537
    49MR0505_1,   P03,    48,  1,     12, X12024,2,20051106,1143, 24.7175,-129.4235, 4484,   3251.4,2,   1.5177,2,   1.51768,2,  34.6746,2,  34.6749,2,   122.11,1,   127.78,2,   3251.3,2,   128.34,2,   128.15,2,   166.51,2,     0.49,    37.90,2,     0.14,     0.00,2,     0.01,    2.659,2,    0.017, -999.000,9, -999.000,9, -999.000,9,   -999.0,9,   -999.0,9,-999.0000,9, -999.000,9, -999.000,   -999.0,9,   -999.0,   1.2761,  27.7650
    49MR0505_1,   P03,    48,  1,     11, X12023,2,20051106,1143, 24.7175,-129.4235, 4484,   3501.0,2,   1.4918,2,   1.49180,2,  34.6799,2,  34.6797,2,   128.97,1,   134.62,2,   3501.2,2,   134.86,2,   135.04,2,   164.18,2,     0.48,    37.47,2,     0.14,     0.00,2,     0.01,    2.621,2,    0.017, -999.000,9, -999.000,9, -999.000,9,   -999.0,9,   -999.0,9,-999.0000,9, -999.000,9, -999.000,   -999.0,9,   -999.0,   1.2258,  27.7728
    49MR0505_1,   P03,    48,  1,     10, X12022,2,20051106,1143, 24.7175,-129.4235, 4484,   3751.2,2,   1.4913,2,   1.49127,2,  34.6825,2,  34.6827,6,   133.12,1,   138.54,2,   3751.2,2,   139.04,2,   139.15,2,   163.00,2,     0.48,    37.15,2,     0.14,     0.00,2,     0.01,    2.601,2,    0.016, -999.000,9, -999.000,9, -999.000,9,   -999.0,9,   -999.0,9,-999.0000,9, -999.000,9, -999.000,   -999.0,9,   -999.0,   1.1993,  27.7768
    49MR0505_1,   P03,    48,  1,      9, X12021,2,20051106,1143, 24.7175,-129.4235, 4484,   4002.9,2,   1.5062,2,   1.50617,2,  34.6841,2,  34.6840,2,   135.58,1,   140.48,2,   4002.9,2,   141.16,2,   141.09,2,   161.91,2,     0.48,    37.04,2,     0.14,     0.00,2,     0.01,    2.584,2,    0.016, -999.000,9, -999.000,9, -999.000,9,   -999.0,9,   -999.0,9,-999.0000,9, -999.000,9, -999.000,   -999.0,9,   -999.0,   1.1868,  27.7788
    49MR0505_1,   P03,    48,  1,      8, X12020,2,20051106,1143, 24.7175,-129.4235, 4484,   4250.3,2,   1.5250,2,   1.52500,2,  34.6850,2,  34.6853,2,   138.05,1,   142.53,2,   4250.3,2,   143.19,2,   143.03,2,   160.15,2,     0.47,    36.88,2,     0.14,     0.00,2,     0.01,    2.572,2,    0.016, -999.000,9, -999.000,9, -999.000,9,   -999.0,9,   -999.0,9,-999.0000,9, -999.000,9, -999.000,   -999.0,9,   -999.0,   1.1777,  27.7802
    49MR0505_1,   P03,    48,  1,      7, X12019,2,20051106,1143, 24.7175,-129.4235, 4484,   4500.1,2,   1.5415,2,   1.54136,2,  34.6860,2,  34.6863,2,   141.44,1,   145.14,2,   4500.1,2,   145.90,2,   145.80,2,   157.91,2,     0.47,    36.69,2,     0.14,     0.00,2,     0.01,    2.562,2,    0.016, -999.000,9, -999.000,9, -999.000,9,   -999.0,9,   -999.0,9,-999.0000,9, -999.000,9, -999.000,   -999.0,9,   -999.0,   1.1652,  27.7819
    49MR0505_1,   P03,    48,  1,      6, X12018,9,20051106,1143, 24.7175,-129.4235, 4484,   3001.4,2,   1.5771,2,   1.57707,2,  34.6678,2,-999.0000,9,   113.75,1,   119.03,2,   3001.1,2,   119.88,2,  -999.00,9,  -999.00,9,  -999.00,  -999.00,9,  -999.00,  -999.00,9,  -999.00, -999.000,9, -999.000, -999.000,9, -999.000,9, -999.000,9,   -999.0,9,   -999.0,9,-999.0000,9, -999.000,9, -999.000,   -999.0,9,   -999.0,   1.3585,  27.7537
    49MR0505_1,   P03,    48,  1,      5, X12043,9,20051106,1143, 24.7175,-129.4235, 4484,   3251.0,2,   1.5177,2,   1.51759,2,  34.6746,2,-999.0000,9,   122.14,1,   127.81,2,   3251.0,2,   128.32,2,  -999.00,9,  -999.00,9,  -999.00,  -999.00,9,  -999.00,  -999.00,9,  -999.00, -999.000,9, -999.000, -999.000,9, -999.000,9, -999.000,9,   -999.0,9,   -999.0,9,-999.0000,9, -999.000,9, -999.000,   -999.0,9,   -999.0,   1.2762,  27.7650
    49MR0505_1,   P03,    48,  1,      4, X12010,2,20051106,1143, 24.7175,-129.4235, 4484,   4556.4,2,   1.5473,2,   1.54710,2,  34.6860,2,  34.6866,2,   141.97,1,   145.64,2,   4556.4,2,   145.97,2,   146.01,2,   157.61,2,     0.47,    36.65,2,     0.14,     0.00,2,     0.01,    2.557,2,    0.016, -999.000,9, -999.000,9, -999.000,9,   -999.0,9,   -999.0,9,-999.0000,9, -999.000,9, -999.000,   -999.0,9,   -999.0,   1.1643,  27.7820
    49MR0505_1,   P03,    48,  1,      3, X12015,9,20051106,1143, 24.7175,-129.4235, 4484,     49.5,2,  21.6755,2,  21.67539,2,  34.7283,2,-999.0000,9,   212.15,1,   221.91,2,     49.9,2,   221.96,2,  -999.00,9,  -999.00,9,  -999.00,  -999.00,9,  -999.00,  -999.00,9,  -999.00, -999.000,9, -999.000, -999.000,9, -999.000,9, -999.000,9,   -999.0,9,   -999.0,9,-999.0000,9, -999.000,9, -999.000,   -999.0,9,   -999.0,  21.6658,  24.1044
    49MR0505_1,   P03,    48,  1,      2, X12014,9,20051106,1143, 24.7175,-129.4235, 4484,      9.5,2,  21.6640,2,  21.66488,2,  34.7291,2,-999.0000,9,   211.90,1,   221.98,2,     10.2,2,   221.92,2,  -999.00,9,  -999.00,9,  -999.00,  -999.00,9,  -999.00,  -999.00,9,  -999.00, -999.000,9, -999.000, -999.000,9, -999.000,9, -999.000,9,   -999.0,9,   -999.0,9,-999.0000,9, -999.000,9, -999.000,   -999.0,9,   -999.0,  21.6621,  24.1060
    49MR0505_1,   P03,    48,  1,      1, X12013,2,20051106,1143, 24.7175,-129.4235, 4484,   4556.3,2,   1.5473,2,   1.54718,2,  34.6860,2,  34.6864,6,   142.10,1,   145.66,2,   4556.3,2,   145.99,2,   146.04,2,   157.77,2,     0.47,    36.64,2,     0.14,     0.00,2,     0.01,    2.561,2,    0.016, -999.000,9, -999.000,9, -999.000,9,   -999.0,9,   -999.0,9,-999.0000,9, -999.000,9, -999.000,   -999.0,9,   -999.0,   1.1643,  27.7820