BOTTLE,20100316JAMSTECRIGC
EXPOCODE,SECT,STNNBR,CASTNO,SAMPNO,BTLNBR,BTLNBR_FLAG_W,DATE,TIME,LATITUDE,LONGITUDE,DEPTH,CTDPRS,CTDPRS_FLAG_W,CTDTMP,CTDTMP_FLAG_W,SBE35,SBE35_FLAG_W,CTDSAL,CTDSAL_FLAG_W,SALNTY,SALNTY_FLAG_W,CTDOXY,CTDOXY_FLAG_W,OPTOXY,OPTOXY_FLAG_W,DWNPRS,DWNPRS_FLAG_W,DWNOXY,DWNOXY_FLAG_W,OXYGEN,OXYGEN_FLAG_W,SILCAT,SILCAT_FLAG_W,SILUNC,NITRAT,NITRAT_FLAG_W,NRAUNC,NITRIT,NITRIT_FLAG_W,NRIUNC,PHSPHT,PHSPHT_FLAG_W,PHPUNC,CFC-11,CFC-11_FLAG_W,CFC-12,CFC-12_FLAG_W,CFC113,CFC113_FLAG_W,TCARBN,TCARBN_FLAG_W,ALKALI,ALKALI_FLAG_W,PH,PH_FLAG_W,DELC13,DELC13_FLAG_W,C13ERR,DELC14,DELC14_FLAG_W,C14ERR,THETA,SIG0
,,,,,,,,UTC,DEG,DEG,M,DBAR,,ITS-90,,ITS-90,,PSS-78,,PSS-78,,UMOL/KG,,UMOL/KG,,DBAR,,UMOL/KG,,UMOL/KG,,UMOL/KG,,UMOL/KG,UMOL/KG,,UMOL/KG,UMOL/KG,,UMOL/KG,UMOL/KG,,UMOL/KG,PMOL/KG,,PMOL/KG,,PMOL/KG,,UMOL/KG,,UMOL/KG,,,,/MILLE,,/MILLE,/MILLE,,/MILLE,DEG C,KG/CUM
    49MR0505_1,   P03,     8,  1,      0,   -999,9,20051101,1814, 32.3657,-118.3362,  677,   -999.0,9,-999.0000,9,-999.00000,9,-999.0000,9,  33.3696,2,  -999.00,9,  -999.00,9,   -999.0,9,  -999.00,9,  -999.00,9,  -999.00,9,  -999.00,  -999.00,9,  -999.00,  -999.00,9,  -999.00, -999.000,9, -999.000, -999.000,9, -999.000,9, -999.000,9,   -999.0,9,   -999.0,9,-999.0000,9, -999.000,9, -999.000,   -999.0,9,   -999.0,-999.0000,-999.0000
    49MR0505_1,   P03,     8,  1,     36, X12048,2,20051101,1814, 32.3657,-118.3362,  677,      9.8,2,  18.0890,2,  18.08871,2,  33.3654,2,  33.3649,2,   238.48,1,   244.85,2,      9.5,2,   244.13,2,   244.35,2,     1.59,2,     0.12,     0.03,2,     0.03,     0.01,2,     0.01,    0.223,2,    0.015,    2.397,2,    1.421,2,    0.114,2,   1977.4,2,   2232.1,2,   7.9933,2, -999.000,9, -999.000,   -999.0,9,   -999.0,  18.0873,  23.9992
    49MR0505_1,   P03,     8,  1,     35, X12047,2,20051101,1814, 32.3657,-118.3362,  677,     49.5,2,  13.1928,2,  13.20856,2,  33.2025,2,  33.2092,2,   229.97,1,   234.52,2,     50.1,2,   218.63,2,   232.76,2,     5.12,2,     0.13,     4.36,2,     0.05,     0.18,2,     0.01,    0.697,2,    0.013,    3.042,2,    1.713,2,    0.205,2,   2039.1,6,   2217.3,2,   7.8460,2, -999.000,9, -999.000,   -999.0,9,   -999.0,  13.1861,  24.9637
    49MR0505_1,   P03,     8,  1,     34, X12046,2,20051101,1814, 32.3657,-118.3362,  677,     99.5,2,  11.1291,2,  11.13074,2,  33.7880,2,  33.8055,2,   104.55,1,   104.31,2,     99.0,2,    82.67,2,    99.45,2,    23.81,2,     0.17,    21.48,2,     0.09,     0.03,2,     0.01,    1.964,2,    0.015,    2.701,2,    1.462,2,    0.138,2,   2177.3,2,   2247.2,6,   7.5522,2, -999.000,9, -999.000,   -999.0,9,   -999.0,  11.1170,  25.8107
    49MR0505_1,   P03,     8,  1,     33, X12003,2,20051101,1814, 32.3657,-118.3362,  677,    150.3,2,  10.6210,2,  10.62149,2,  34.1486,2,  34.1513,2,    65.06,1,    66.45,2,    149.4,2,    67.73,2,    65.47,2,    30.84,2,     0.19,    25.31,2,     0.10,     0.02,2,     0.01,    2.286,2,    0.016,    2.114,2,    1.109,2,    0.096,2,   2217.5,2,   2268.8,2,   7.4916,6, -999.000,9, -999.000,   -999.0,9,   -999.0,  10.6031,  26.1830
    49MR0505_1,   P03,     8,  1,     32, X12044,2,20051101,1814, 32.3657,-118.3362,  677,    199.9,2,  10.3688,2,  10.36577,2,  34.3596,2,  34.3578,2,    43.81,1,    45.19,2,    200.3,2,    61.80,2,    44.67,2,    35.04,2,     0.20,    27.20,2,     0.11,     0.02,2,     0.01,    2.487,2,    0.016,    1.455,2,    0.743,2,    0.056,2,   2241.5,2,   2284.7,2,   7.4652,2, -999.000,9, -999.000,   -999.0,9,   -999.0,  10.3452,  26.3926
    49MR0505_1,   P03,     8,  1,     31, X12051,2,20051101,1814, 32.3657,-118.3362,  677,    249.5,2,   9.1217,2,   9.12239,2,  34.2173,2,  34.2205,2,    68.46,1,    69.07,2,    250.5,2,    67.76,2,    68.93,2,    37.24,2,     0.20,    28.47,2,     0.11,     0.01,2,     0.01,    2.369,2,    0.016,    1.754,6,    0.874,6,    0.051,6,   2228.4,2,   2280.4,2,   7.4823,2, -999.000,9, -999.000,   -999.0,9,   -999.0,   9.0946,  26.4901
    49MR0505_1,   P03,     8,  1,     30, X12042,2,20051101,1814, 32.3657,-118.3362,  677,    299.5,2,   8.7761,2,   8.77906,2,  34.2754,2,  34.2827,2,    50.51,1,    50.27,2,    299.2,2,    47.97,2,    50.37,2,    42.66,2,     0.21,    30.19,2,     0.12,     0.01,2,     0.01,    2.559,2,    0.016,    1.264,2,    0.625,2,    0.040,2,   2252.0,2,   2289.3,2,   7.4467,2, -999.000,9, -999.000,   -999.0,9,   -999.0,   8.7442,  26.5912
    49MR0505_1,   P03,     8,  1,     29, X12041,2,20051101,1814, 32.3657,-118.3362,  677,    399.6,2,   7.4887,2,   7.49248,2,  34.2552,2,  34.2548,2,    35.52,1,    35.58,2,    398.9,2,    36.22,2,    35.94,2,    55.43,2,     0.24,    34.26,2,     0.13,     0.01,2,     0.01,    2.793,2,    0.017,    0.754,2,    0.359,2,    0.030,2,   2276.6,2,   2295.6,2,   7.4007,2, -999.000,9, -999.000,   -999.0,9,   -999.0,   7.4497,  26.7690
    49MR0505_1,   P03,     8,  1,     28, X12016,2,20051101,1814, 32.3657,-118.3362,  677,    501.1,2,   6.6252,2,   6.63090,2,  34.2779,2,  34.2779,6,    22.56,1,    22.36,2,    500.8,2,    22.36,2,    22.52,2,    67.65,2,     0.27,    37.30,2,     0.14,     0.01,2,     0.01,    2.989,2,    0.017,    0.369,2,    0.180,2,    0.000,2,   2299.4,2,   2309.2,2,   7.3699,2, -999.000,9, -999.000,   -999.0,9,   -999.0,   6.5792,  26.9069
    49MR0505_1,   P03,     8,  1,     27, X12039,2,20051101,1814, 32.3657,-118.3362,  677,    599.3,2,   6.0959,2,   6.09367,2,  34.3021,2,  34.3019,2,    15.97,1,    15.61,2,    600.8,2,    16.04,2,    16.03,2,    76.29,2,     0.29,    39.10,2,     0.14,     0.01,2,     0.01,    3.101,2,    0.018,    0.197,2,    0.102,2,    0.000,2,   2313.4,2,   2320.5,2,   7.3575,2, -999.000,9, -999.000,   -999.0,9,   -999.0,   6.0429,  26.9958
    49MR0505_1,   P03,     8,  1,     26, X12038,9,20051101,1814, 32.3657,-118.3362,  677,   -999.0,9,-999.0000,9,-999.00000,9,-999.0000,9,-999.0000,9,  -999.00,9,  -999.00,9,   -999.0,9,  -999.00,9,  -999.00,9,  -999.00,9,  -999.00,  -999.00,9,  -999.00,  -999.00,9,  -999.00, -999.000,9, -999.000, -999.000,9, -999.000,9, -999.000,9,   -999.0,9,   -999.0,9,-999.0000,9, -999.000,9, -999.000,   -999.0,9,   -999.0,-999.0000,-999.0000
    49MR0505_1,   P03,     8,  1,     25, X12037,9,20051101,1814, 32.3657,-118.3362,  677,   -999.0,9,-999.0000,9,-999.00000,9,-999.0000,9,-999.0000,9,  -999.00,9,  -999.00,9,   -999.0,9,  -999.00,9,  -999.00,9,  -999.00,9,  -999.00,  -999.00,9,  -999.00,  -999.00,9,  -999.00, -999.000,9, -999.000, -999.000,9, -999.000,9, -999.000,9,   -999.0,9,   -999.0,9,-999.0000,9, -999.000,9, -999.000,   -999.0,9,   -999.0,-999.0000,-999.0000
    49MR0505_1,   P03,     8,  1,     24, X12008,9,20051101,1814, 32.3657,-118.3362,  677,   -999.0,9,-999.0000,9,-999.00000,9,-999.0000,9,-999.0000,9,  -999.00,9,  -999.00,9,   -999.0,9,  -999.00,9,  -999.00,9,  -999.00,9,  -999.00,  -999.00,9,  -999.00,  -999.00,9,  -999.00, -999.000,9, -999.000, -999.000,9, -999.000,9, -999.000,9,   -999.0,9,   -999.0,9,-999.0000,9, -999.000,9, -999.000,   -999.0,9,   -999.0,-999.0000,-999.0000
    49MR0505_1,   P03,     8,  1,     23, X12035,9,20051101,1814, 32.3657,-118.3362,  677,   -999.0,9,-999.0000,9,-999.00000,9,-999.0000,9,-999.0000,9,  -999.00,9,  -999.00,9,   -999.0,9,  -999.00,9,  -999.00,9,  -999.00,9,  -999.00,  -999.00,9,  -999.00,  -999.00,9,  -999.00, -999.000,9, -999.000, -999.000,9, -999.000,9, -999.000,9,   -999.0,9,   -999.0,9,-999.0000,9, -999.000,9, -999.000,   -999.0,9,   -999.0,-999.0000,-999.0000
    49MR0505_1,   P03,     8,  1,     22, X12034,9,20051101,1814, 32.3657,-118.3362,  677,   -999.0,9,-999.0000,9,-999.00000,9,-999.0000,9,-999.0000,9,  -999.00,9,  -999.00,9,   -999.0,9,  -999.00,9,  -999.00,9,  -999.00,9,  -999.00,  -999.00,9,  -999.00,  -999.00,9,  -999.00, -999.000,9, -999.000, -999.000,9, -999.000,9, -999.000,9,   -999.0,9,   -999.0,9,-999.0000,9, -999.000,9, -999.000,   -999.0,9,   -999.0,-999.0000,-999.0000
    49MR0505_1,   P03,     8,  1,     21, X12033,9,20051101,1814, 32.3657,-118.3362,  677,   -999.0,9,-999.0000,9,-999.00000,9,-999.0000,9,-999.0000,9,  -999.00,9,  -999.00,9,   -999.0,9,  -999.00,9,  -999.00,9,  -999.00,9,  -999.00,  -999.00,9,  -999.00,  -999.00,9,  -999.00, -999.000,9, -999.000, -999.000,9, -999.000,9, -999.000,9,   -999.0,9,   -999.0,9,-999.0000,9, -999.000,9, -999.000,   -999.0,9,   -999.0,-999.0000,-999.0000
    49MR0505_1,   P03,     8,  1,     20, X12032,9,20051101,1814, 32.3657,-118.3362,  677,   -999.0,9,-999.0000,9,-999.00000,9,-999.0000,9,-999.0000,9,  -999.00,9,  -999.00,9,   -999.0,9,  -999.00,9,  -999.00,9,  -999.00,9,  -999.00,  -999.00,9,  -999.00,  -999.00,9,  -999.00, -999.000,9, -999.000, -999.000,9, -999.000,9, -999.000,9,   -999.0,9,   -999.0,9,-999.0000,9, -999.000,9, -999.000,   -999.0,9,   -999.0,-999.0000,-999.0000
    49MR0505_1,   P03,     8,  1,     19, X12001,9,20051101,1814, 32.3657,-118.3362,  677,    668.4,2,   5.4434,2,   5.44636,2,  34.3644,2,-999.0000,9,    11.22,1,    10.15,2,    666.7,2,    11.25,2,  -999.00,9,  -999.00,9,  -999.00,  -999.00,9,  -999.00,  -999.00,9,  -999.00, -999.000,9, -999.000, -999.000,9, -999.000,9, -999.000,9,   -999.0,9,   -999.0,9,-999.0000,9, -999.000,9, -999.000,   -999.0,9,   -999.0,   5.3872,  27.1259
    49MR0505_1,   P03,     8,  1,     18, X12030,9,20051101,1814, 32.3657,-118.3362,  677,      9.4,2,  18.0905,2,  18.09048,2,  33.3658,2,-999.0000,9,   238.52,1,   244.59,2,      8.8,2,   244.20,2,  -999.00,9,  -999.00,9,  -999.00,  -999.00,9,  -999.00,  -999.00,9,  -999.00, -999.000,9, -999.000, -999.000,9, -999.000,9, -999.000,9,   -999.0,9,   -999.0,9,-999.0000,9, -999.000,9, -999.000,   -999.0,9,   -999.0,  18.0889,  23.9991
    49MR0505_1,   P03,     8,  1,     17, X12049,9,20051101,1814, 32.3657,-118.3362,  677,     49.8,2,  13.1744,2,  13.18493,2,  33.2315,2,-999.0000,9,   228.70,1,   233.22,2,     50.7,2,   217.69,2,  -999.00,9,  -999.00,9,  -999.00,  -999.00,9,  -999.00,  -999.00,9,  -999.00, -999.000,9, -999.000, -999.000,9, -999.000,9, -999.000,9,   -999.0,9,   -999.0,9,-999.0000,9, -999.000,9, -999.000,   -999.0,9,   -999.0,  13.1676,  24.9898
    49MR0505_1,   P03,     8,  1,     16, X12028,9,20051101,1814, 32.3657,-118.3362,  677,     99.5,2,  11.1248,2,  11.12543,2,  33.7868,2,-999.0000,9,   104.50,1,   105.49,2,     98.9,2,    83.49,2,  -999.00,9,  -999.00,9,  -999.00,  -999.00,9,  -999.00,  -999.00,9,  -999.00, -999.000,9, -999.000, -999.000,9, -999.000,9, -999.000,9,   -999.0,9,   -999.0,9,-999.0000,9, -999.000,9, -999.000,   -999.0,9,   -999.0,  11.1127,  25.8106
    49MR0505_1,   P03,     8,  1,     15, X12006,9,20051101,1814, 32.3657,-118.3362,  677,    150.1,2,  10.6136,2,  10.60752,2,  34.1477,2,-999.0000,9,    65.02,1,    66.65,2,    149.3,2,    67.75,2,  -999.00,9,  -999.00,9,  -999.00,  -999.00,9,  -999.00,  -999.00,9,  -999.00, -999.000,9, -999.000, -999.000,9, -999.000,9, -999.000,9,   -999.0,9,   -999.0,9,-999.0000,9, -999.000,9, -999.000,   -999.0,9,   -999.0,  10.5957,  26.1836
    49MR0505_1,   P03,     8,  1,     14, X12026,9,20051101,1814, 32.3657,-118.3362,  677,    200.3,2,  10.3550,2,  10.35336,2,  34.3565,2,-999.0000,9,    43.80,1,    45.10,2,    200.6,2,    61.88,2,  -999.00,9,  -999.00,9,  -999.00,  -999.00,9,  -999.00,  -999.00,9,  -999.00, -999.000,9, -999.000, -999.000,9, -999.000,9, -999.000,9,   -999.0,9,   -999.0,9,-999.0000,9, -999.000,9, -999.000,   -999.0,9,   -999.0,  10.3314,  26.3926
    49MR0505_1,   P03,     8,  1,     13, X12025,9,20051101,1814, 32.3657,-118.3362,  677,    249.5,2,   9.1257,2,   9.12539,2,  34.2182,2,-999.0000,9,    68.60,1,    69.27,2,    250.5,2,    67.75,2,  -999.00,9,  -999.00,9,  -999.00,  -999.00,9,  -999.00,  -999.00,9,  -999.00, -999.000,9, -999.000, -999.000,9, -999.000,9, -999.000,9,   -999.0,9,   -999.0,9,-999.0000,9, -999.000,9, -999.000,   -999.0,9,   -999.0,   9.0986,  26.4902
    49MR0505_1,   P03,     8,  1,     12, X12024,9,20051101,1814, 32.3657,-118.3362,  677,    299.5,2,   8.7696,2,   8.76978,2,  34.2735,2,-999.0000,9,    50.70,1,    50.80,2,    299.1,2,    48.13,2,  -999.00,9,  -999.00,9,  -999.00,  -999.00,9,  -999.00,  -999.00,9,  -999.00, -999.000,9, -999.000, -999.000,9, -999.000,9, -999.000,9,   -999.0,9,   -999.0,9,-999.0000,9, -999.000,9, -999.000,   -999.0,9,   -999.0,   8.7377,  26.5907
    49MR0505_1,   P03,     8,  1,     11, X12023,9,20051101,1814, 32.3657,-118.3362,  677,    400.0,2,   7.4917,2,   7.49125,2,  34.2555,2,-999.0000,9,    35.52,1,    35.57,2,    399.3,2,    36.23,2,  -999.00,9,  -999.00,9,  -999.00,  -999.00,9,  -999.00,  -999.00,9,  -999.00, -999.000,9, -999.000, -999.000,9, -999.000,9, -999.000,9,   -999.0,9,   -999.0,9,-999.0000,9, -999.000,9, -999.000,   -999.0,9,   -999.0,   7.4527,  26.7689
    49MR0505_1,   P03,     8,  1,     10, X12022,9,20051101,1814, 32.3657,-118.3362,  677,    501.1,2,   6.5982,2,   6.60783,2,  34.2783,2,-999.0000,9,    22.01,1,    22.15,2,    501.3,2,    22.34,2,  -999.00,9,  -999.00,9,  -999.00,  -999.00,9,  -999.00,  -999.00,9,  -999.00, -999.000,9, -999.000, -999.000,9, -999.000,9, -999.000,9,   -999.0,9,   -999.0,9,-999.0000,9, -999.000,9, -999.000,   -999.0,9,   -999.0,   6.5523,  26.9108
    49MR0505_1,   P03,     8,  1,      9, X12021,9,20051101,1814, 32.3657,-118.3362,  677,    599.7,2,   6.0828,2,   6.08230,2,  34.3032,2,-999.0000,9,    15.86,1,    15.53,2,    601.3,2,    15.96,2,  -999.00,9,  -999.00,9,  -999.00,  -999.00,9,  -999.00,  -999.00,9,  -999.00, -999.000,9, -999.000, -999.000,9, -999.000,9, -999.000,9,   -999.0,9,   -999.0,9,-999.0000,9, -999.000,9, -999.000,   -999.0,9,   -999.0,   6.0298,  26.9983
    49MR0505_1,   P03,     8,  1,      8, X12020,9,20051101,1814, 32.3657,-118.3362,  677,   -999.0,9,-999.0000,9,-999.00000,9,-999.0000,9,-999.0000,9,  -999.00,9,  -999.00,9,   -999.0,9,  -999.00,9,  -999.00,9,  -999.00,9,  -999.00,  -999.00,9,  -999.00,  -999.00,9,  -999.00, -999.000,9, -999.000, -999.000,9, -999.000,9, -999.000,9,   -999.0,9,   -999.0,9,-999.0000,9, -999.000,9, -999.000,   -999.0,9,   -999.0,-999.0000,-999.0000
    49MR0505_1,   P03,     8,  1,      7, X12019,9,20051101,1814, 32.3657,-118.3362,  677,   -999.0,9,-999.0000,9,-999.00000,9,-999.0000,9,-999.0000,9,  -999.00,9,  -999.00,9,   -999.0,9,  -999.00,9,  -999.00,9,  -999.00,9,  -999.00,  -999.00,9,  -999.00,  -999.00,9,  -999.00, -999.000,9, -999.000, -999.000,9, -999.000,9, -999.000,9,   -999.0,9,   -999.0,9,-999.0000,9, -999.000,9, -999.000,   -999.0,9,   -999.0,-999.0000,-999.0000
    49MR0505_1,   P03,     8,  1,      6, X12018,9,20051101,1814, 32.3657,-118.3362,  677,   -999.0,9,-999.0000,9,-999.00000,9,-999.0000,9,-999.0000,9,  -999.00,9,  -999.00,9,   -999.0,9,  -999.00,9,  -999.00,9,  -999.00,9,  -999.00,  -999.00,9,  -999.00,  -999.00,9,  -999.00, -999.000,9, -999.000, -999.000,9, -999.000,9, -999.000,9,   -999.0,9,   -999.0,9,-999.0000,9, -999.000,9, -999.000,   -999.0,9,   -999.0,-999.0000,-999.0000
    49MR0505_1,   P03,     8,  1,      5, X12043,9,20051101,1814, 32.3657,-118.3362,  677,   -999.0,9,-999.0000,9,-999.00000,9,-999.0000,9,-999.0000,9,  -999.00,9,  -999.00,9,   -999.0,9,  -999.00,9,  -999.00,9,  -999.00,9,  -999.00,  -999.00,9,  -999.00,  -999.00,9,  -999.00, -999.000,9, -999.000, -999.000,9, -999.000,9, -999.000,9,   -999.0,9,   -999.0,9,-999.0000,9, -999.000,9, -999.000,   -999.0,9,   -999.0,-999.0000,-999.0000
    49MR0505_1,   P03,     8,  1,      4, X12010,9,20051101,1814, 32.3657,-118.3362,  677,   -999.0,9,-999.0000,9,-999.00000,9,-999.0000,9,-999.0000,9,  -999.00,9,  -999.00,9,   -999.0,9,  -999.00,9,  -999.00,9,  -999.00,9,  -999.00,  -999.00,9,  -999.00,  -999.00,9,  -999.00, -999.000,9, -999.000, -999.000,9, -999.000,9, -999.000,9,   -999.0,9,   -999.0,9,-999.0000,9, -999.000,9, -999.000,   -999.0,9,   -999.0,-999.0000,-999.0000
    49MR0505_1,   P03,     8,  1,      3, X12015,9,20051101,1814, 32.3657,-118.3362,  677,   -999.0,9,-999.0000,9,-999.00000,9,-999.0000,9,-999.0000,9,  -999.00,9,  -999.00,9,   -999.0,9,  -999.00,9,  -999.00,9,  -999.00,9,  -999.00,  -999.00,9,  -999.00,  -999.00,9,  -999.00, -999.000,9, -999.000, -999.000,9, -999.000,9, -999.000,9,   -999.0,9,   -999.0,9,-999.0000,9, -999.000,9, -999.000,   -999.0,9,   -999.0,-999.0000,-999.0000
    49MR0505_1,   P03,     8,  1,      2, X12014,9,20051101,1814, 32.3657,-118.3362,  677,   -999.0,9,-999.0000,9,-999.00000,9,-999.0000,9,-999.0000,9,  -999.00,9,  -999.00,9,   -999.0,9,  -999.00,9,  -999.00,9,  -999.00,9,  -999.00,  -999.00,9,  -999.00,  -999.00,9,  -999.00, -999.000,9, -999.000, -999.000,9, -999.000,9, -999.000,9,   -999.0,9,   -999.0,9,-999.0000,9, -999.000,9, -999.000,   -999.0,9,   -999.0,-999.0000,-999.0000
    49MR0505_1,   P03,     8,  1,      1, X12013,2,20051101,1814, 32.3657,-118.3362,  677,    668.6,2,   5.4468,2,   5.44564,2,  34.3641,2,  34.3643,6,    11.22,1,    10.10,2,    666.8,2,    11.25,2,    11.38,2,    88.37,2,     0.31,    41.03,2,     0.15,     0.01,2,     0.01,    3.210,2,    0.018,    0.073,2,    0.040,2,    0.000,2,   2331.1,2,   2337.2,2,-999.0000,9, -999.000,9, -999.000,   -999.0,9,   -999.0,   5.3906,  27.1252