BOTTLE,20100316JAMSTECRIGC
EXPOCODE,SECT,STNNBR,CASTNO,SAMPNO,BTLNBR,BTLNBR_FLAG_W,DATE,TIME,LATITUDE,LONGITUDE,DEPTH,CTDPRS,CTDPRS_FLAG_W,CTDTMP,CTDTMP_FLAG_W,SBE35,SBE35_FLAG_W,CTDSAL,CTDSAL_FLAG_W,SALNTY,SALNTY_FLAG_W,CTDOXY,CTDOXY_FLAG_W,OPTOXY,OPTOXY_FLAG_W,DWNPRS,DWNPRS_FLAG_W,DWNOXY,DWNOXY_FLAG_W,OXYGEN,OXYGEN_FLAG_W,SILCAT,SILCAT_FLAG_W,SILUNC,NITRAT,NITRAT_FLAG_W,NRAUNC,NITRIT,NITRIT_FLAG_W,NRIUNC,PHSPHT,PHSPHT_FLAG_W,PHPUNC,CFC-11,CFC-11_FLAG_W,CFC-12,CFC-12_FLAG_W,CFC113,CFC113_FLAG_W,TCARBN,TCARBN_FLAG_W,ALKALI,ALKALI_FLAG_W,PH,PH_FLAG_W,DELC13,DELC13_FLAG_W,C13ERR,DELC14,DELC14_FLAG_W,C14ERR,THETA,SIG0
,,,,,,,,UTC,DEG,DEG,M,DBAR,,ITS-90,,ITS-90,,PSS-78,,PSS-78,,UMOL/KG,,UMOL/KG,,DBAR,,UMOL/KG,,UMOL/KG,,UMOL/KG,,UMOL/KG,UMOL/KG,,UMOL/KG,UMOL/KG,,UMOL/KG,UMOL/KG,,UMOL/KG,PMOL/KG,,PMOL/KG,,PMOL/KG,,UMOL/KG,,UMOL/KG,,,,/MILLE,,/MILLE,/MILLE,,/MILLE,DEG C,KG/CUM
    49MR0505_1,   P03,    36,  1,      0,   -999,9,20051104,2016, 27.5980,-125.7693, 4494,   -999.0,9,-999.0000,9,-999.00000,9,-999.0000,9,  34.1298,2,  -999.00,9,  -999.00,9,   -999.0,9,  -999.00,9,  -999.00,9,  -999.00,9,  -999.00,  -999.00,9,  -999.00,  -999.00,9,  -999.00, -999.000,9, -999.000, -999.000,9, -999.000,9, -999.000,9,   -999.0,9,   -999.0,9,-999.0000,9, -999.000,9, -999.000,   -999.0,9,   -999.0,-999.0000,-999.0000
    49MR0505_1,   P03,    36,  1,     36, X12048,2,20051104,2016, 27.5980,-125.7693, 4494,     10.0,2,  20.3801,2,  20.38036,2,  34.0502,2,  34.0498,2,   220.06,1,   229.95,2,      3.2,2,   230.36,2,   229.65,2,     1.72,2,     0.12,     0.04,2,     0.03,     0.01,2,     0.01,    0.234,2,    0.015,    2.121,2,    1.268,2, -999.000,5,   -999.0,9,   -999.0,9,-999.0000,9, -999.000,9, -999.000,   -999.0,9,   -999.0,  20.3782,  23.9376
    49MR0505_1,   P03,    36,  1,     35, X12047,2,20051104,2016, 27.5980,-125.7693, 4494,     49.4,2,  20.4248,2,  20.42422,2,  34.0794,2,  34.0699,2,   219.77,1,   230.37,2,     44.9,2,   230.19,2,   229.84,2,     1.66,2,     0.12,     0.03,2,     0.03,     0.00,2,     0.01,    0.230,2,    0.015,    2.111,2,    1.289,2, -999.000,5,   -999.0,9,   -999.0,9,-999.0000,9, -999.000,9, -999.000,   -999.0,9,   -999.0,  20.4156,  23.9499
    49MR0505_1,   P03,    36,  1,     34, X12046,2,20051104,2016, 27.5980,-125.7693, 4494,     99.1,2,  17.5730,2,  17.57421,2,  33.9561,2,  33.9538,2,   231.20,1,   241.81,2,    100.7,2,   239.23,2,   240.60,2,     1.98,2,     0.12,     0.03,2,     0.03,     0.00,2,     0.01,    0.231,2,    0.015,    2.484,2,    1.464,2, -999.000,5,   -999.0,9,   -999.0,9,-999.0000,9, -999.000,9, -999.000,   -999.0,9,   -999.0,  17.5564,  24.5804
    49MR0505_1,   P03,    36,  1,     33, X12003,2,20051104,2016, 27.5980,-125.7693, 4494,    149.5,2,  13.4744,2,  13.46566,2,  33.5996,2,  33.6002,2,   215.36,1,   223.43,2,    150.4,2,   222.83,2,   222.97,2,     5.07,2,     0.13,     4.75,2,     0.05,     0.02,2,     0.01,    0.597,2,    0.013,    2.965,2,    1.662,2,    0.282,4,   -999.0,9,   -999.0,9,-999.0000,9, -999.000,9, -999.000,   -999.0,9,   -999.0,  13.4537,  25.2171
    49MR0505_1,   P03,    36,  1,     32, X12044,2,20051104,2016, 27.5980,-125.7693, 4494,    201.5,2,  10.1777,2,  10.18177,2,  33.6054,2,  33.5992,2,   191.29,1,   197.95,2,    200.9,2,   197.75,2,   198.74,2,    14.18,2,     0.15,    14.68,2,     0.07,     0.01,2,     0.01,    1.202,2,    0.013,    3.338,2,    1.791,2,    0.170,2,   -999.0,9,   -999.0,9,-999.0000,9, -999.000,9, -999.000,   -999.0,9,   -999.0,  10.1545,  25.8369
    49MR0505_1,   P03,    36,  1,     31, X12051,2,20051104,2016, 27.5980,-125.7693, 4494,    249.9,2,   9.0178,2,   9.01742,2,  33.8834,2,  33.9023,2,   154.70,1,   159.53,2,    249.1,2,   157.37,2,   156.68,2,    25.80,2,     0.18,    22.42,2,     0.10,     0.01,2,     0.01,    1.687,2,    0.014,    3.042,6,    1.577,6,    0.114,6,   -999.0,9,   -999.0,9,-999.0000,9, -999.000,9, -999.000,   -999.0,9,   -999.0,   8.9909,  26.2452
    49MR0505_1,   P03,    36,  1,     30, X12042,2,20051104,2016, 27.5980,-125.7693, 4494,    300.5,2,   8.1881,2,   8.18871,2,  34.0311,2,  34.0328,2,   128.39,1,   133.01,2,    301.0,2,   121.76,2,   131.01,2,    35.72,2,     0.20,    26.68,2,     0.11,     0.00,2,     0.01,    1.959,2,    0.015,    2.582,2,    1.270,2,    0.087,2,   -999.0,9,   -999.0,9,-999.0000,9, -999.000,9, -999.000,   -999.0,9,   -999.0,   8.1575,  26.4894
    49MR0505_1,   P03,    36,  1,     29, X12041,2,20051104,2016, 27.5980,-125.7693, 4494,    402.8,2,   6.6478,2,   6.64608,2,  34.0982,2,  34.0984,2,    60.40,1,    62.84,2,    407.1,2,    67.19,2,    62.17,2,    57.97,2,     0.25,    35.24,2,     0.13,     0.00,2,     0.01,    2.653,2,    0.017,    1.200,2,    0.560,2,    0.040,2,   -999.0,9,   -999.0,9,-999.0000,9, -999.000,9, -999.000,   -999.0,9,   -999.0,   6.6111,  26.7609
    49MR0505_1,   P03,    36,  1,     28, X12016,2,20051104,2016, 27.5980,-125.7693, 4494,    502.6,2,   5.8456,2,   5.84985,2,  34.1688,2,  34.1689,6,    32.04,1,    32.78,2,    505.2,2,    36.02,2,    32.41,2,    73.51,2,     0.28,    38.95,2,     0.14,     0.00,2,     0.01,    2.950,2,    0.017,    0.476,2,    0.219,2,    0.014,2,   -999.0,9,   -999.0,9,-999.0000,9, -999.000,9, -999.000,   -999.0,9,   -999.0,   5.8025,  26.9205
    49MR0505_1,   P03,    36,  1,     27, X12039,2,20051104,2016, 27.5980,-125.7693, 4494,    601.5,2,   5.2791,2,   5.27920,2,  34.2526,2,  34.2527,2,    16.54,1,    16.99,2,    604.3,2,    18.22,2,    16.72,2,    87.03,2,     0.31,    41.20,2,     0.15,     0.00,2,     0.01,    3.132,2,    0.018,    0.137,2,    0.065,2,    0.000,2,   -999.0,9,   -999.0,9,-999.0000,9, -999.000,9, -999.000,   -999.0,9,   -999.0,   5.2297,  27.0560
    49MR0505_1,   P03,    36,  1,     26, X12038,2,20051104,2016, 27.5980,-125.7693, 4494,    701.1,2,   4.8316,2,   4.83164,2,  34.3404,2,  34.3414,2,    12.06,1,    12.31,2,    703.0,2,    12.72,2,    12.07,2,    97.65,2,     0.33,    42.64,2,     0.15,     0.00,2,     0.01,    3.222,2,    0.018,    0.025,2,    0.013,2,    0.000,2,   -999.0,9,   -999.0,9,-999.0000,9, -999.000,9, -999.000,   -999.0,9,   -999.0,   4.7758,  27.1778
    49MR0505_1,   P03,    36,  1,     25, X12037,2,20051104,2016, 27.5980,-125.7693, 4494,    801.1,2,   4.4565,2,   4.45644,2,  34.4099,2,  34.4097,2,    15.12,1,    15.31,2,    804.2,2,    14.99,2,    15.37,2,   105.55,2,     0.35,    43.28,2,     0.15,     0.00,2,     0.01,    3.242,2,    0.018,    0.007,6,    0.005,6,    0.000,6,   -999.0,9,   -999.0,9,-999.0000,9, -999.000,9, -999.000,   -999.0,9,   -999.0,   4.3944,  27.2750
    49MR0505_1,   P03,    36,  1,     24, X12008,2,20051104,2016, 27.5980,-125.7693, 4494,    901.6,2,   4.2372,2,   4.23707,2,  34.4534,2,  34.4516,2,    19.49,1,    19.75,2,    903.2,2,    19.91,2,    19.91,2,   110.32,2,     0.36,    43.40,2,     0.15,     0.00,2,     0.01,    3.225,2,    0.018,    0.010,2,    0.006,2,    0.000,2,   -999.0,9,   -999.0,9,-999.0000,9, -999.000,9, -999.000,   -999.0,9,   -999.0,   4.1681,  27.3337
    49MR0505_1,   P03,    36,  1,     23, X12035,2,20051104,2016, 27.5980,-125.7693, 4494,   1001.1,2,   3.9075,2,   3.90718,2,  34.4830,2,  34.4826,6,    25.87,1,    26.21,2,   1002.5,2,    26.23,2,    26.68,2,   117.05,2,     0.38,    43.48,2,     0.15,     0.00,2,     0.01,    3.209,2,    0.018,    0.007,2,    0.006,2,    0.000,2,   -999.0,9,   -999.0,9,-999.0000,9, -999.000,9, -999.000,   -999.0,9,   -999.0,   3.8325,  27.3920
    49MR0505_1,   P03,    36,  1,     22, X12034,2,20051104,2016, 27.5980,-125.7693, 4494,   1201.4,2,   3.4110,2,   3.41075,2,  34.5275,2,  34.5273,2,    34.88,1,    35.44,2,   1203.2,2,    35.66,2,    35.97,2,   129.07,2,     0.40,    43.33,2,     0.15,     0.00,2,     0.01,    3.178,2,    0.018,    0.008,2,    0.007,2,    0.000,2,   -999.0,9,   -999.0,9,-999.0000,9, -999.000,9, -999.000,   -999.0,9,   -999.0,   3.3237,  27.4776
    49MR0505_1,   P03,    36,  1,     21, X12033,2,20051104,2016, 27.5980,-125.7693, 4494,   1400.7,2,   2.9631,2,   2.96295,2,  34.5599,2,  34.5601,2,    45.28,1,    46.28,2,   1402.0,2,    46.36,2,    46.94,2,   140.13,2,     0.43,    42.75,2,     0.15,     0.00,2,     0.01,    3.129,2,    0.018,    0.007,2,    0.008,2,    0.013,2,   -999.0,9,   -999.0,9,-999.0000,9, -999.000,9, -999.000,   -999.0,9,   -999.0,   2.8639,  27.5461
    49MR0505_1,   P03,    36,  1,     20, X12032,2,20051104,2016, 27.5980,-125.7693, 4494,   1599.6,2,   2.6560,2,   2.65583,2,  34.5820,2,  34.5824,2,    54.71,1,    56.38,2,   1599.6,2,    56.89,2,    57.09,2,   147.26,2,     0.44,    42.23,2,     0.15,     0.00,2,     0.01,    3.064,2,    0.018,    0.006,2,    0.004,2,    0.000,2,   -999.0,9,   -999.0,9,-999.0000,9, -999.000,9, -999.000,   -999.0,9,   -999.0,   2.5440,  27.5919
    49MR0505_1,   P03,    36,  1,     19, X12001,2,20051104,2016, 27.5980,-125.7693, 4494,   1799.4,2,   2.3399,2,   2.33969,2,  34.6072,2,  34.6075,6,    66.84,1,    69.37,2,   1799.8,2,    69.60,2,    69.71,2,   154.23,2,     0.46,    41.51,2,     0.15,     0.00,2,     0.01,    2.991,2,    0.017,    0.005,2,    0.005,2,    0.000,2,   -999.0,9,   -999.0,9,-999.0000,9, -999.000,9, -999.000,   -999.0,9,   -999.0,   2.2154,  27.6396
    49MR0505_1,   P03,    36,  1,     18, X12030,2,20051104,2016, 27.5980,-125.7693, 4494,   2001.3,2,   2.1263,2,   2.12614,2,  34.6250,2,  34.6251,2,    77.32,1,    80.30,2,   2000.4,2,    82.06,2,    80.63,2,   158.68,2,     0.47,    40.83,2,     0.15,     0.00,2,     0.01,    2.930,2,    0.017,    0.000,2,    0.000,2,    0.000,2,   -999.0,9,   -999.0,9,-999.0000,9, -999.000,9, -999.000,   -999.0,9,   -999.0,   1.9879,  27.6722
    49MR0505_1,   P03,    36,  1,     17, X12049,2,20051104,2016, 27.5980,-125.7693, 4494,   2200.6,2,   1.9708,2,   1.97061,2,  34.6399,2,  34.6403,2,    87.22,1,    90.85,2,   2200.5,2,    91.37,2,    91.07,2,   160.83,2,     0.47,    40.23,2,     0.15,     0.00,2,     0.01,    2.874,2,    0.017,    0.002,2,    0.000,2,    0.000,2,   -999.0,9,   -999.0,9,-999.0000,9, -999.000,9, -999.000,   -999.0,9,   -999.0,   1.8177,  27.6974
    49MR0505_1,   P03,    36,  1,     16, X12028,2,20051104,2016, 27.5980,-125.7693, 4494,   2401.2,2,   1.8416,2,   1.84153,2,  34.6506,2,  34.6510,2,    95.64,1,    99.72,2,   2401.4,2,    99.82,2,   100.07,2,   162.82,2,     0.48,    39.63,2,     0.14,     0.00,2,     0.01,    2.820,2,    0.017, -999.000,9, -999.000,9, -999.000,9,   -999.0,9,   -999.0,9,-999.0000,9, -999.000,9, -999.000,   -999.0,9,   -999.0,   1.6731,  27.7169
    49MR0505_1,   P03,    36,  1,     15, X12006,2,20051104,2016, 27.5980,-125.7693, 4494,   2600.8,2,   1.7456,2,   1.74547,2,  34.6572,2,  34.6569,2,   101.77,1,   106.16,2,   2600.9,2,   106.53,2,   106.54,2,   164.84,2,     0.48,    39.17,2,     0.14,     0.00,2,     0.01,    2.776,2,    0.017, -999.000,9, -999.000,9, -999.000,9,   -999.0,9,   -999.0,9,-999.0000,9, -999.000,9, -999.000,   -999.0,9,   -999.0,   1.5609,  27.7306
    49MR0505_1,   P03,    36,  1,     14, X12026,2,20051104,2016, 27.5980,-125.7693, 4494,   2800.5,2,   1.6606,2,   1.66055,2,  34.6636,2,  34.6634,6,   108.10,1,   112.73,2,   2800.8,2,   112.79,2,   113.11,2,   166.62,2,     0.49,    38.81,2,     0.14,     0.00,2,     0.01,    2.748,2,    0.017,    0.009,2,    0.001,2,    0.000,2,   -999.0,9,   -999.0,9,-999.0000,9, -999.000,9, -999.000,   -999.0,9,   -999.0,   1.4592,  27.7432
    49MR0505_1,   P03,    36,  1,     13, X12025,2,20051104,2016, 27.5980,-125.7693, 4494,   3000.9,2,   1.5968,2,   1.59676,2,  34.6686,2,  34.6687,2,   113.78,1,   118.68,2,   3000.8,2,   119.29,2,   118.92,2,   167.59,2,     0.49,    38.43,2,     0.14,     0.00,2,     0.01,    2.715,2,    0.017, -999.000,9, -999.000,9, -999.000,9,   -999.0,9,   -999.0,9,-999.0000,9, -999.000,9, -999.000,   -999.0,9,   -999.0,   1.3778,  27.7530
    49MR0505_1,   P03,    36,  1,     12, X12024,2,20051104,2016, 27.5980,-125.7693, 4494,   3249.7,2,   1.5437,2,   1.54359,2,  34.6740,2,  34.6739,2,   120.12,1,   125.13,2,   3249.7,2,   125.47,2,   125.31,2,   167.97,2,     0.49,    38.01,2,     0.14,     0.00,2,     0.01,    2.676,2,    0.017, -999.000,9, -999.000,9, -999.000,9,   -999.0,9,   -999.0,9,-999.0000,9, -999.000,9, -999.000,   -999.0,9,   -999.0,   1.3017,  27.7628
    49MR0505_1,   P03,    36,  1,     11, X12023,2,20051104,2016, 27.5980,-125.7693, 4494,   3499.5,2,   1.5127,2,   1.51261,2,  34.6787,2,  34.6788,2,   125.84,1,   130.99,2,   3499.4,2,   131.62,2,   131.27,2,   167.25,2,     0.49,    37.71,2,     0.14,     0.00,2,     0.01,    2.644,2,    0.017,    0.011,2,    0.004,2,    0.000,2,   -999.0,9,   -999.0,9,-999.0000,9, -999.000,9, -999.000,   -999.0,9,   -999.0,   1.2463,  27.7704
    49MR0505_1,   P03,    36,  1,     10, X12022,2,20051104,2016, 27.5980,-125.7693, 4494,   3750.3,2,   1.5018,2,   1.50167,2,  34.6822,2,  34.6821,6,   130.72,1,   135.63,2,   3750.2,2,   136.05,2,   136.01,2,   166.20,2,     0.48,    37.34,2,     0.14,     0.00,2,     0.01,    2.621,2,    0.017, -999.000,9, -999.000,9, -999.000,9,   -999.0,9,   -999.0,9,-999.0000,9, -999.000,9, -999.000,   -999.0,9,   -999.0,   1.2096,  27.7758
    49MR0505_1,   P03,    36,  1,      9, X12021,2,20051104,2016, 27.5980,-125.7693, 4494,   4001.4,2,   1.5179,2,   1.51771,2,  34.6834,2,  34.6835,2,   133.02,1,   137.52,2,   4001.4,2,   137.83,2,   137.96,2,   165.43,2,     0.48,    37.31,2,     0.14,     0.00,2,     0.01,    2.614,2,    0.017, -999.000,9, -999.000,9, -999.000,9,   -999.0,9,   -999.0,9,-999.0000,9, -999.000,9, -999.000,   -999.0,9,   -999.0,   1.1984,  27.7775
    49MR0505_1,   P03,    36,  1,      8, X12020,2,20051104,2016, 27.5980,-125.7693, 4494,   4251.7,2,   1.5421,2,   1.54201,2,  34.6840,2,  34.6840,2,   134.22,1,   138.16,2,   4251.7,2,   138.42,2,   138.49,2,   165.15,2,     0.48,    37.22,2,     0.14,     0.00,2,     0.01,    2.609,2,    0.016, -999.000,9, -999.000,9, -999.000,9,   -999.0,9,   -999.0,9,-999.0000,9, -999.000,9, -999.000,   -999.0,9,   -999.0,   1.1941,  27.7782
    49MR0505_1,   P03,    36,  1,      7, X12019,9,20051104,2016, 27.5980,-125.7693, 4494,     50.2,2,  20.4305,2,  20.43120,2,  34.0810,2,-999.0000,9,   219.70,1,   229.91,2,     45.5,2,   230.22,2,  -999.00,9,  -999.00,9,  -999.00,  -999.00,9,  -999.00,  -999.00,9,  -999.00, -999.000,9, -999.000, -999.000,9, -999.000,9, -999.000,9,   -999.0,9,   -999.0,9,-999.0000,9, -999.000,9, -999.000,   -999.0,9,   -999.0,  20.4211,  23.9497
    49MR0505_1,   P03,    36,  1,      6, X12018,9,20051104,2016, 27.5980,-125.7693, 4494,     10.1,2,  20.3830,2,  20.38241,2,  34.0503,2,-999.0000,9,   220.08,1,   229.94,2,      3.3,2,   230.40,2,  -999.00,9,  -999.00,9,  -999.00,  -999.00,9,  -999.00,  -999.00,9,  -999.00, -999.000,9, -999.000, -999.000,9, -999.000,9, -999.000,9,   -999.0,9,   -999.0,9,-999.0000,9, -999.000,9, -999.000,   -999.0,9,   -999.0,  20.3811,  23.9369
    49MR0505_1,   P03,    36,  1,      5, X12043,9,20051104,2016, 27.5980,-125.7693, 4494,   3250.3,2,   1.5445,2,   1.54426,2,  34.6738,2,-999.0000,9,   120.06,1,   125.19,2,   3250.3,2,   125.48,2,  -999.00,9,  -999.00,9,  -999.00,  -999.00,9,  -999.00,  -999.00,9,  -999.00, -999.000,9, -999.000, -999.000,9, -999.000,9, -999.000,9,   -999.0,9,   -999.0,9,-999.0000,9, -999.000,9, -999.000,   -999.0,9,   -999.0,   1.3024,  27.7626
    49MR0505_1,   P03,    36,  1,      4, X12010,2,20051104,2016, 27.5980,-125.7693, 4494,   4000.7,2,   1.5178,2,   1.51770,2,  34.6835,2,-999.0000,9,   132.95,1,   137.42,2,   4000.7,2,   137.84,2,  -999.00,9,  -999.00,9,  -999.00,  -999.00,9,  -999.00,  -999.00,9,  -999.00, -999.000,9, -999.000, -999.000,9, -999.000,9, -999.000,9,   -999.0,9,   -999.0,9,-999.0000,9, -999.000,9, -999.000,   -999.0,9,   -999.0,   1.1983,  27.7776
    49MR0505_1,   P03,    36,  1,      3, X12015,2,20051104,2016, 27.5980,-125.7693, 4494,   2001.2,2,   2.1264,2,   2.12630,2,  34.6250,2,-999.0000,9,    77.31,1,    80.28,2,   2000.2,2,    82.06,2,  -999.00,9,  -999.00,9,  -999.00,  -999.00,9,  -999.00,  -999.00,9,  -999.00, -999.000,9, -999.000, -999.000,9, -999.000,9, -999.000,9,   -999.0,9,   -999.0,9,-999.0000,9, -999.000,9, -999.000,   -999.0,9,   -999.0,   1.9880,  27.6722
    49MR0505_1,   P03,    36,  1,      2, X12014,2,20051104,2016, 27.5980,-125.7693, 4494,   4521.7,2,   1.5690,2,   1.56912,2,  34.6844,2,-999.0000,9,   136.00,1,   139.23,2,   4521.7,2,   138.71,2,  -999.00,9,  -999.00,9,  -999.00,  -999.00,9,  -999.00,  -999.00,9,  -999.00, -999.000,9, -999.000, -999.000,9, -999.000,9, -999.000,9,   -999.0,9,   -999.0,9,-999.0000,9, -999.000,9, -999.000,   -999.0,9,   -999.0,   1.1894,  27.7789
    49MR0505_1,   P03,    36,  1,      1, X12013,2,20051104,2016, 27.5980,-125.7693, 4494,   4521.5,2,   1.5689,2,   1.56878,2,  34.6844,2,  34.6842,6,   135.97,1,   139.23,2,   4521.5,2,   138.71,2,   139.34,2,   164.71,2,     0.48,    37.14,2,     0.14,     0.00,2,     0.01,    2.605,2,    0.016,    0.014,2,    0.013,2,    0.023,2,   -999.0,9,   -999.0,9,-999.0000,9, -999.000,9, -999.000,   -999.0,9,   -999.0,   1.1893,  27.7789