BOTTLE,20100316JAMSTECRIGC
EXPOCODE,SECT,STNNBR,CASTNO,SAMPNO,BTLNBR,BTLNBR_FLAG_W,DATE,TIME,LATITUDE,LONGITUDE,DEPTH,CTDPRS,CTDPRS_FLAG_W,CTDTMP,CTDTMP_FLAG_W,SBE35,SBE35_FLAG_W,CTDSAL,CTDSAL_FLAG_W,SALNTY,SALNTY_FLAG_W,CTDOXY,CTDOXY_FLAG_W,OPTOXY,OPTOXY_FLAG_W,DWNPRS,DWNPRS_FLAG_W,DWNOXY,DWNOXY_FLAG_W,OXYGEN,OXYGEN_FLAG_W,SILCAT,SILCAT_FLAG_W,SILUNC,NITRAT,NITRAT_FLAG_W,NRAUNC,NITRIT,NITRIT_FLAG_W,NRIUNC,PHSPHT,PHSPHT_FLAG_W,PHPUNC,CFC-11,CFC-11_FLAG_W,CFC-12,CFC-12_FLAG_W,CFC113,CFC113_FLAG_W,TCARBN,TCARBN_FLAG_W,ALKALI,ALKALI_FLAG_W,PH,PH_FLAG_W,DELC13,DELC13_FLAG_W,C13ERR,DELC14,DELC14_FLAG_W,C14ERR,THETA,SIG0
,,,,,,,,UTC,DEG,DEG,M,DBAR,,ITS-90,,ITS-90,,PSS-78,,PSS-78,,UMOL/KG,,UMOL/KG,,DBAR,,UMOL/KG,,UMOL/KG,,UMOL/KG,,UMOL/KG,UMOL/KG,,UMOL/KG,UMOL/KG,,UMOL/KG,UMOL/KG,,UMOL/KG,PMOL/KG,,PMOL/KG,,PMOL/KG,,UMOL/KG,,UMOL/KG,,,,/MILLE,,/MILLE,/MILLE,,/MILLE,DEG C,KG/CUM
    49MR0505_1,   P03,    24,  1,      0,   -999,9,20051103,0105, 30.8785,-121.2347, 3960,   -999.0,9,-999.0000,9,-999.00000,9,-999.0000,9,  33.2161,2,  -999.00,9,  -999.00,9,   -999.0,9,  -999.00,9,  -999.00,9,  -999.00,9,  -999.00,  -999.00,9,  -999.00,  -999.00,9,  -999.00, -999.000,9, -999.000, -999.000,9, -999.000,9, -999.000,9,   -999.0,9,   -999.0,9,-999.0000,9, -999.000,9, -999.000,   -999.0,9,   -999.0,-999.0000,-999.0000
    49MR0505_1,   P03,    24,  1,     36, X12048,2,20051103,0105, 30.8785,-121.2347, 3960,     11.3,2,  18.0085,2,  18.00808,2,  33.1843,2,  33.1837,2,   234.14,1,   242.90,2,     12.4,2,   241.94,2,   241.92,2,     1.93,2,     0.12,     0.03,2,     0.03,     0.00,2,     0.01,    0.299,2,    0.014,    2.408,2,    1.410,2, -999.000,5,   1982.1,2,   2223.9,2,   7.9648,2,    1.646,2,    0.004,     45.6,2,      3.3,  18.0066,  23.8803
    49MR0505_1,   P03,    24,  1,     35, X12047,2,20051103,0105, 30.8785,-121.2347, 3960,     49.4,2,  16.7688,2,  16.76690,2,  33.2480,2,  33.2470,2,   241.86,1,   252.05,2,     49.9,2,   251.31,2,   250.02,2,     1.65,2,     0.12,     0.02,2,     0.03,     0.00,2,     0.01,    0.290,2,    0.014,    2.603,2,    1.507,2, -999.000,5,   1988.2,6,   2228.3,2,   7.9606,2,    1.606,2,    0.005,     48.7,2,      3.3,  16.7609,  24.2258
    49MR0505_1,   P03,    24,  1,     34, X12046,2,20051103,0105, 30.8785,-121.2347, 3960,     99.7,2,  11.8872,2,  11.88937,2,  33.2323,2,  33.2408,2,   218.56,1,   223.92,2,     98.3,2,   221.63,2,   224.10,2,     6.58,2,     0.13,     7.56,2,     0.05,     0.02,2,     0.01,    0.819,2,    0.013,    3.149,2,    1.785,2,    0.295,2,   2043.7,2,   2215.6,6,   7.8161,2,    0.887,2,    0.004,     51.0,2,      3.2,  11.8746,  25.2399
    49MR0505_1,   P03,    24,  1,     33, X12003,2,20051103,0105, 30.8785,-121.2347, 3960,    150.6,2,   9.4972,2,   9.49671,2,  33.5534,2,  33.5556,2,   181.95,1,   185.67,2,    145.4,2,   185.45,2,   186.82,2,    17.49,2,     0.16,    17.99,2,     0.08,     0.01,2,     0.01,    1.427,2,    0.014,    3.331,2,    1.824,2,    0.186,2,   2044.8,4,   2231.8,2,   7.6869,6,    0.317,2,    0.003,     41.8,2,      3.2,   9.4806,  25.9084
    49MR0505_1,   P03,    24,  1,     32, X12044,2,20051103,0105, 30.8785,-121.2347, 3960,    200.7,2,   9.1175,2,   9.11759,2,  33.9776,2,  33.9870,2,   110.48,1,   112.97,2,    193.2,2,   111.94,2,   112.67,2,    30.21,2,     0.19,    26.05,2,     0.11,     0.01,2,     0.01,    2.028,2,    0.015,    2.658,2,    1.360,2,    0.139,2,   2192.1,2,   2260.9,2,   7.5519,2,   -0.165,6,    0.037,     19.3,6,      2.3,   9.0958,  26.3023
    49MR0505_1,   P03,    24,  1,     31, X12051,2,20051103,0105, 30.8785,-121.2347, 3960,    251.3,2,   8.2881,2,   8.28717,2,  34.0615,2,  34.0629,2,    92.76,1,    94.83,2,    247.6,2,    93.64,2,    94.41,2,    38.57,2,     0.20,    29.70,2,     0.12,     0.00,2,     0.01,    2.234,2,    0.016,    2.310,6,    1.154,6,    0.118,6,   2214.4,2,   2271.4,2,   7.5029,2,   -0.277,2,    0.005,     -4.0,2,      3.2,   8.2624,  26.4975
    49MR0505_1,   P03,    24,  1,     30, X12042,2,20051103,0105, 30.8785,-121.2347, 3960,    301.0,2,   7.6094,2,   7.61296,2,  34.0809,2,  34.0794,2,    78.95,1,    81.02,2,    297.9,2,    79.09,2,    81.09,2,    45.51,2,     0.22,    32.05,2,     0.12,     0.00,2,     0.01,    2.402,2,    0.016,    1.933,2,    0.953,2,    0.085,2,   2230.0,2,   2277.1,2,   7.4689,2,   -0.317,2,    0.005,    -16.6,2,      3.1,   7.5800,  26.6133
    49MR0505_1,   P03,    24,  1,     29, X12041,2,20051103,0105, 30.8785,-121.2347, 3960,    402.3,2,   6.2946,2,   6.29456,2,  34.1313,2,  34.1303,2,    44.16,1,    45.13,2,    403.0,2,    46.86,2,    45.46,2,    64.64,2,     0.26,    37.17,2,     0.14,     0.00,2,     0.01,    2.815,2,    0.017,    0.770,2,    0.406,2,    0.042,2,   2300.8,4,   2297.7,2,   7.3894,2,   -0.421,2,    0.004,    -79.2,2,      3.0,   6.2591,  26.8332
    49MR0505_1,   P03,    24,  1,     28, X12016,2,20051103,0105, 30.8785,-121.2347, 3960,    499.7,2,   5.8696,2,   5.86763,2,  34.2361,2,  34.2394,6,    18.93,1,    18.95,2,    500.2,2,    18.90,2,    18.84,2,    77.39,2,     0.29,    39.71,2,     0.14,     0.00,2,     0.01,    3.072,2,    0.018,    0.249,2,    0.139,2,    0.015,2,   2330.2,4,   2317.9,2,   7.3529,2,   -0.458,2,    0.002,   -125.3,2,      3.0,   5.8267,  26.9707
    49MR0505_1,   P03,    24,  1,     27, X12039,2,20051103,0105, 30.8785,-121.2347, 3960,    600.0,2,   5.3347,2,   5.33459,2,  34.3119,2,  34.3131,2,    10.59,1,    10.60,2,    602.8,2,    11.06,2,    10.87,2,    89.28,2,     0.32,    41.32,2,     0.15,     0.00,2,     0.01,    3.189,2,    0.018,    0.079,2,    0.045,2,    0.000,2,   2328.3,2,   2332.8,2,   7.3448,2,   -0.458,2,    0.004,   -150.3,2,      2.9,   5.2851,  27.0964
    49MR0505_1,   P03,    24,  1,     26, X12038,2,20051103,0105, 30.8785,-121.2347, 3960,    702.7,2,   4.8446,2,   4.84538,2,  34.3609,2,  34.3606,2,     9.97,1,     9.90,2,    702.6,2,    10.01,2,    10.09,2,    99.20,2,     0.34,    42.55,2,     0.15,     0.00,2,     0.01,    3.243,2,    0.018,    0.033,2,    0.023,2,    0.000,2,   2342.6,2,   2349.2,2,   7.3422,2,   -0.474,2,    0.005,   -172.9,2,      2.7,   4.7886,  27.1926
    49MR0505_1,   P03,    24,  1,     25, X12037,2,20051103,0105, 30.8785,-121.2347, 3960,    798.9,2,   4.5112,2,   4.51110,2,  34.4157,2,  34.4162,2,    12.41,1,    12.30,2,    799.8,2,    12.51,2,    12.58,2,   107.15,2,     0.35,    43.08,2,     0.15,     0.00,2,     0.01,    3.262,2,    0.018,    0.032,6,    0.017,6,    0.000,6,   2361.0,4,   2358.5,6,   7.3523,2,   -0.440,2,    0.002,   -194.0,2,      2.8,   4.4489,  27.2738
    49MR0505_1,   P03,    24,  1,     24, X12008,2,20051103,0105, 30.8785,-121.2347, 3960,    900.5,2,   4.1378,2,   4.13641,2,  34.4501,2,  34.4509,2,    16.94,1,    16.80,2,    899.5,2,    17.54,2,    17.31,2,   114.43,2,     0.37,    43.46,2,     0.15,     0.00,2,     0.01,    3.239,2,    0.018,    0.027,2,    0.017,2,    0.000,2,   2363.6,4,   2367.5,2,   7.3609,6,   -0.414,2,    0.006,   -196.5,2,      2.6,   4.0695,  27.3415
    49MR0505_1,   P03,    24,  1,     23, X12035,2,20051103,0105, 30.8785,-121.2347, 3960,   1002.4,2,   3.8356,2,   3.83475,2,  34.4802,2,  34.4804,6,    22.23,1,    22.09,2,   1003.3,2,    22.46,2,    22.68,2,   121.19,2,     0.39,    43.57,2,     0.15,     0.00,2,     0.01,    3.227,2,    0.018,    0.019,2,    0.011,2,    0.000,2,   2363.3,2,   2376.2,2,   7.3721,2,   -0.395,2,    0.005,   -206.6,2,      2.6,   3.7611,  27.3971
    49MR0505_1,   P03,    24,  1,     22, X12034,2,20051103,0105, 30.8785,-121.2347, 3960,   1201.1,2,   3.2827,2,   3.28284,2,  34.5276,2,  34.5279,2,    33.96,1,    33.97,2,   1201.8,2,    34.73,2,    34.70,2,   133.96,2,     0.41,    43.35,2,     0.15,     0.00,2,     0.01,    3.180,2,    0.018,    0.012,2,    0.012,2,    0.000,2,   2372.2,2,   2392.3,2,   7.3957,2,   -0.376,2,    0.002,   -223.2,2,      2.5,   3.1966,  27.4898
    49MR0505_1,   P03,    24,  1,     21, X12033,2,20051103,0105, 30.8785,-121.2347, 3960,   1401.0,2,   2.9068,2,   2.90617,2,  34.5601,2,  34.5605,2,    44.63,1,    44.98,2,   1402.0,2,    45.28,2,    45.78,2,   143.10,2,     0.43,    42.80,2,     0.15,     0.00,2,     0.01,    3.125,2,    0.018,    0.009,2,    0.008,2,    0.000,2,   2374.3,2,   2401.5,2,   7.4132,2,   -0.377,2,    0.003,   -228.0,2,      2.7,   2.8082,  27.5512
    49MR0505_1,   P03,    24,  1,     20, X12032,2,20051103,0105, 30.8785,-121.2347, 3960,   1600.8,2,   2.5695,2,   2.56912,2,  34.5875,2,  34.5875,2,    56.41,1,    57.26,2,   1601.3,2,    58.06,2,    58.07,2,   150.80,2,     0.45,    42.11,2,     0.15,     0.00,2,     0.01,    3.059,2,    0.018,    0.001,2,    0.004,2,    0.000,2,   2374.1,2,   -999.0,5,   7.4365,6,   -0.312,2,    0.002,   -236.3,2,      2.6,   2.4584,  27.6036
    49MR0505_1,   P03,    24,  1,     19, X12001,2,20051103,0105, 30.8785,-121.2347, 3960,   1800.4,2,   2.2708,2,   2.27052,2,  34.6101,2,  34.6102,2,    68.59,1,    70.14,2,   1801.0,2,    70.64,2,    70.55,2,   157.10,2,     0.46,    41.43,2,     0.15,     0.00,2,     0.01,    2.987,2,    0.017,    0.000,2,    0.000,2,    0.000,2,   2377.8,2,   2418.8,2,   7.4586,2,   -0.260,2,    0.007,   -238.2,2,      2.6,   2.1471,  27.6475
    49MR0505_1,   P03,    24,  1,     18, X12030,2,20051103,0105, 30.8785,-121.2347, 3960,   2000.9,2,   2.0697,2,   2.06979,2,  34.6276,2,  34.6278,6,    79.42,1,    81.37,2,   2001.6,2,    81.70,2,    81.85,2,   161.09,2,     0.47,    40.74,2,     0.15,     0.00,2,     0.01,    2.915,2,    0.017,    0.000,2,    0.000,2,    0.000,2,   2369.6,2,   2424.7,2,   7.4809,2,   -0.206,2,    0.003,   -249.4,2,      2.7,   1.9321,  27.6787
    49MR0505_1,   P03,    24,  1,     17, X12049,2,20051103,0105, 30.8785,-121.2347, 3960,   2201.3,2,   1.9239,2,   1.92392,2,  34.6420,2,  34.6419,2,    89.44,1,    91.97,2,   2202.1,2,    91.50,2,    92.34,2,   162.97,2,     0.48,    40.11,2,     0.15,     0.00,2,     0.01,    2.861,2,    0.017,    0.001,2,    0.000,2,    0.000,2,   2365.7,2,   2430.9,2,   7.5010,2,   -0.169,2,    0.003,   -243.8,2,      2.5,   1.7715,  27.7026
    49MR0505_1,   P03,    24,  1,     16, X12028,2,20051103,0105, 30.8785,-121.2347, 3960,   2402.6,2,   1.8220,2,   1.82199,2,  34.6518,2,  34.6523,2,    97.47,1,   100.19,2,   2403.1,2,   100.55,2,   100.59,2,   164.04,2,     0.48,    39.58,2,     0.14,     0.00,2,     0.01,    2.814,2,    0.017, -999.000,9, -999.000,9, -999.000,9,   2363.1,6,   2428.2,2,   7.5150,2,   -0.125,2,    0.003,   -241.8,2,      2.5,   1.6537,  27.7194
    49MR0505_1,   P03,    24,  1,     15, X12006,2,20051103,0105, 30.8785,-121.2347, 3960,   2600.0,2,   1.7529,2,   1.75267,2,  34.6582,2,  34.6589,2,   103.17,1,   106.12,2,   2600.4,2,   106.47,2,   106.41,2,   164.99,2,     0.48,    39.18,2,     0.14,     0.00,2,     0.01,    2.783,2,    0.017, -999.000,9, -999.000,9, -999.000,9,   2360.4,2,   2430.2,6,   7.5262,2,   -0.095,2,    0.005,   -239.1,2,      2.5,   1.5682,  27.7309
    49MR0505_1,   P03,    24,  1,     14, X12026,2,20051103,0105, 30.8785,-121.2347, 3960,   2800.1,2,   1.6908,2,   1.69071,2,  34.6639,2,  34.6640,2,   108.61,1,   111.55,2,   2800.1,2,   112.28,2,   112.04,2,   166.15,2,     0.48,    38.85,2,     0.14,    -0.01,2,     0.01,    2.748,2,    0.017, -999.000,9, -999.000,9, -999.000,9,   2376.8,4,   2430.9,2,   7.5363,6,   -0.064,2,    0.005,   -242.5,2,      2.7,   1.4888,  27.7413
    49MR0505_1,   P03,    24,  1,     13, X12025,2,20051103,0105, 30.8785,-121.2347, 3960,   3000.2,2,   1.6389,2,   1.63884,2,  34.6683,2,  34.6683,2,   113.50,1,   116.47,2,   3000.5,2,   116.89,2,   116.77,2,   167.06,2,     0.49,    38.51,2,     0.14,     0.00,2,     0.01,    2.722,2,    0.017,    0.001,2,    0.004,2,    0.000,2,   2372.7,4,   2432.9,2,   7.5448,2,   -0.054,6,    0.011,   -235.4,6,      5.9,   1.4191,  27.7499
    49MR0505_1,   P03,    24,  1,     12, X12024,2,20051103,0105, 30.8785,-121.2347, 3960,   3251.1,2,   1.5967,2,   1.59654,2,  34.6723,2,  34.6723,6,   118.43,1,   121.18,2,   3251.2,2,   121.78,2,   121.67,2,   167.68,2,     0.49,    38.24,2,     0.14,     0.00,2,     0.01,    2.690,2,    0.017, -999.000,9, -999.000,9, -999.000,9,   2362.2,4,   2434.5,2,   7.5546,2,   -0.028,2,    0.004,   -235.1,2,      2.6,   1.3533,  27.7578
    49MR0505_1,   P03,    24,  1,     11, X12023,2,20051103,0105, 30.8785,-121.2347, 3960,   3503.5,2,   1.5611,2,   1.56112,2,  34.6762,2,  34.6759,2,   123.26,1,   125.95,2,   3503.6,2,   126.20,2,   126.20,2,   168.46,2,     0.49,    37.93,2,     0.14,     0.00,2,     0.01,    2.668,2,    0.017, -999.000,9, -999.000,9, -999.000,9,   2362.2,4,   2436.9,2,   7.5612,2,    0.006,2,    0.004,   -229.6,2,      2.6,   1.2931,  27.7652
    49MR0505_1,   P03,    24,  1,     10, X12022,2,20051103,0105, 30.8785,-121.2347, 3960,   3750.0,2,   1.5499,2,   1.54965,2,  34.6789,2,  34.6788,6,   127.11,1,   129.39,2,   3750.0,2,   129.57,2,   129.74,2,   168.50,2,     0.49,    37.76,2,     0.14,     0.00,2,     0.01,    2.655,2,    0.017, -999.000,9, -999.000,9, -999.000,9,   2350.2,2,   2435.4,2,   7.5679,2,    0.021,2,    0.006,   -228.4,2,      2.6,   1.2565,  27.7699
    49MR0505_1,   P03,    24,  1,      9, X12021,9,20051103,0105, 30.8785,-121.2347, 3960,   -999.0,9,-999.0000,9,-999.00000,9,-999.0000,9,-999.0000,9,  -999.00,9,  -999.00,9,   -999.0,9,  -999.00,9,  -999.00,9,  -999.00,9,  -999.00,  -999.00,9,  -999.00,  -999.00,9,  -999.00, -999.000,9, -999.000, -999.000,9, -999.000,9, -999.000,9,   -999.0,9,   -999.0,9,-999.0000,9, -999.000,9, -999.000,   -999.0,9,   -999.0,-999.0000,-999.0000
    49MR0505_1,   P03,    24,  1,      8, X12020,9,20051103,0105, 30.8785,-121.2347, 3960,    301.0,2,   7.6108,2,   7.60465,2,  34.0807,2,-999.0000,9,    79.17,1,    81.25,2,    297.9,2,    79.10,2,  -999.00,9,  -999.00,9,  -999.00,  -999.00,9,  -999.00,  -999.00,9,  -999.00, -999.000,9, -999.000, -999.000,9, -999.000,9, -999.000,9,   -999.0,9,   -999.0,9,-999.0000,9, -999.000,9, -999.000,   -999.0,9,   -999.0,   7.5814,  26.6129
    49MR0505_1,   P03,    24,  1,      7, X12019,9,20051103,0105, 30.8785,-121.2347, 3960,    250.4,2,   8.3083,2,   8.30486,2,  34.0611,2,-999.0000,9,    92.92,1,    95.21,2,    246.7,2,    94.05,2,  -999.00,9,  -999.00,9,  -999.00,  -999.00,9,  -999.00,  -999.00,9,  -999.00, -999.000,9, -999.000, -999.000,9, -999.000,9, -999.000,9,   -999.0,9,   -999.0,9,-999.0000,9, -999.000,9, -999.000,   -999.0,9,   -999.0,   8.2826,  26.4941
    49MR0505_1,   P03,    24,  1,      6, X12018,9,20051103,0105, 30.8785,-121.2347, 3960,    200.6,2,   9.1183,2,   9.11798,2,  33.9774,2,-999.0000,9,   110.78,1,   113.54,2,    193.2,2,   111.97,2,  -999.00,9,  -999.00,9,  -999.00,  -999.00,9,  -999.00,  -999.00,9,  -999.00, -999.000,9, -999.000, -999.000,9, -999.000,9, -999.000,9,   -999.0,9,   -999.0,9,-999.0000,9, -999.000,9, -999.000,   -999.0,9,   -999.0,   9.0966,  26.3020
    49MR0505_1,   P03,    24,  1,      5, X12043,9,20051103,0105, 30.8785,-121.2347, 3960,    151.1,2,   9.4950,2,   9.49629,2,  33.5542,2,-999.0000,9,   180.55,1,   185.80,2,    145.6,2,   185.33,2,  -999.00,9,  -999.00,9,  -999.00,  -999.00,9,  -999.00,  -999.00,9,  -999.00, -999.000,9, -999.000, -999.000,9, -999.000,9, -999.000,9,   -999.0,9,   -999.0,9,-999.0000,9, -999.000,9, -999.000,   -999.0,9,   -999.0,   9.4784,  25.9094
    49MR0505_1,   P03,    24,  1,      4, X12010,9,20051103,0105, 30.8785,-121.2347, 3960,    101.0,2,  11.8347,2,  11.84619,2,  33.2358,2,-999.0000,9,   218.36,1,   224.36,2,     99.3,2,   222.09,2,  -999.00,9,  -999.00,9,  -999.00,  -999.00,9,  -999.00,  -999.00,9,  -999.00, -999.000,9, -999.000, -999.000,9, -999.000,9, -999.000,9,   -999.0,9,   -999.0,9,-999.0000,9, -999.000,9, -999.000,   -999.0,9,   -999.0,  11.8219,  25.2524
    49MR0505_1,   P03,    24,  1,      3, X12015,9,20051103,0105, 30.8785,-121.2347, 3960,     50.3,2,  16.7602,2,  16.75793,2,  33.2480,2,-999.0000,9,   242.19,1,   251.50,2,     50.2,2,   251.55,2,  -999.00,9,  -999.00,9,  -999.00,  -999.00,9,  -999.00,  -999.00,9,  -999.00, -999.000,9, -999.000, -999.000,9, -999.000,9, -999.000,9,   -999.0,9,   -999.0,9,-999.0000,9, -999.000,9, -999.000,   -999.0,9,   -999.0,  16.7521,  24.2279
    49MR0505_1,   P03,    24,  1,      2, X12014,9,20051103,0105, 30.8785,-121.2347, 3960,     11.2,2,  18.0094,2,  18.00918,2,  33.1842,2,-999.0000,9,   234.08,1,   242.84,2,     12.3,2,   241.97,2,  -999.00,9,  -999.00,9,  -999.00,  -999.00,9,  -999.00,  -999.00,9,  -999.00, -999.000,9, -999.000, -999.000,9, -999.000,9, -999.000,9,   -999.0,9,   -999.0,9,-999.0000,9, -999.000,9, -999.000,   -999.0,9,   -999.0,  18.0075,  23.8800
    49MR0505_1,   P03,    24,  1,      1, X12013,2,20051103,0105, 30.8785,-121.2347, 3960,   4007.5,2,   1.5560,2,   1.55585,2,  34.6807,2,  34.6808,6,   130.05,1,   131.72,2,   4007.5,2,   131.45,2,   132.01,2,   168.30,2,     0.49,    37.61,2,     0.14,     0.00,2,     0.01,    2.646,2,    0.017,    0.014,2,    0.012,2,    0.000,2,   2345.9,2,   2437.7,2,   7.5720,2,    0.021,2,    0.003,   -228.1,2,      2.6,   1.2347,  27.7728