BOTTLE,20100316JAMSTECRIGC
EXPOCODE,SECT,STNNBR,CASTNO,SAMPNO,BTLNBR,BTLNBR_FLAG_W,DATE,TIME,LATITUDE,LONGITUDE,DEPTH,CTDPRS,CTDPRS_FLAG_W,CTDTMP,CTDTMP_FLAG_W,SBE35,SBE35_FLAG_W,CTDSAL,CTDSAL_FLAG_W,SALNTY,SALNTY_FLAG_W,CTDOXY,CTDOXY_FLAG_W,OPTOXY,OPTOXY_FLAG_W,DWNPRS,DWNPRS_FLAG_W,DWNOXY,DWNOXY_FLAG_W,OXYGEN,OXYGEN_FLAG_W,SILCAT,SILCAT_FLAG_W,SILUNC,NITRAT,NITRAT_FLAG_W,NRAUNC,NITRIT,NITRIT_FLAG_W,NRIUNC,PHSPHT,PHSPHT_FLAG_W,PHPUNC,CFC-11,CFC-11_FLAG_W,CFC-12,CFC-12_FLAG_W,CFC113,CFC113_FLAG_W,TCARBN,TCARBN_FLAG_W,ALKALI,ALKALI_FLAG_W,PH,PH_FLAG_W,DELC13,DELC13_FLAG_W,C13ERR,DELC14,DELC14_FLAG_W,C14ERR,THETA,SIG0
,,,,,,,,UTC,DEG,DEG,M,DBAR,,ITS-90,,ITS-90,,PSS-78,,PSS-78,,UMOL/KG,,UMOL/KG,,DBAR,,UMOL/KG,,UMOL/KG,,UMOL/KG,,UMOL/KG,UMOL/KG,,UMOL/KG,UMOL/KG,,UMOL/KG,UMOL/KG,,UMOL/KG,PMOL/KG,,PMOL/KG,,PMOL/KG,,UMOL/KG,,UMOL/KG,,,,/MILLE,,/MILLE,/MILLE,,/MILLE,DEG C,KG/CUM
    49MR0505_1,   P03,   104,  1,      0,   -999,9,20051115,2307, 24.2697,-152.6385, 5260,   -999.0,9,-999.0000,9,-999.00000,9,-999.0000,9,  35.1627,2,  -999.00,9,  -999.00,9,   -999.0,9,  -999.00,9,  -999.00,9,  -999.00,9,  -999.00,  -999.00,9,  -999.00,  -999.00,9,  -999.00, -999.000,9, -999.000, -999.000,9, -999.000,9, -999.000,9,   -999.0,9,   -999.0,9,-999.0000,9, -999.000,9, -999.000,   -999.0,9,   -999.0,-999.0000,-999.0000
    49MR0505_1,   P03,   104,  1,     36, X12048,2,20051115,2307, 24.2697,-152.6385, 5260,      9.1,2,  24.6408,2,  24.64190,2,  35.1776,2,  35.1790,2,   194.93,1,   210.87,2,      9.1,2,   211.03,2,   210.94,2,     0.96,2,     0.12,     0.04,2,     0.03,     0.01,2,     0.01,    0.086,2,    0.024,    1.697,2,    1.032,2, -999.000,5,   -999.0,9,   -999.0,9,-999.0000,9, -999.000,9, -999.000,   -999.0,9,   -999.0,  24.6388,  23.5848
    49MR0505_1,   P03,   104,  1,     35, X12047,2,20051115,2307, 24.2697,-152.6385, 5260,     50.0,2,  24.5907,2,  24.59118,2,  35.3113,2,  35.3137,2,   195.75,1,   211.14,2,     51.2,2,   211.60,2,   211.55,2,     0.95,2,     0.12,     0.03,2,     0.03,     0.00,2,     0.01,    0.057,2,    0.031,    1.690,2,    1.023,2, -999.000,5,   -999.0,9,   -999.0,9,-999.0000,9, -999.000,9, -999.000,   -999.0,9,   -999.0,  24.5800,  23.7037
    49MR0505_1,   P03,   104,  1,     34, X12046,2,20051115,2307, 24.2697,-152.6385, 5260,     98.5,2,  22.4031,2,  22.39969,2,  35.2438,2,  35.2438,2,   195.91,1,   211.03,2,    101.8,2,   213.40,2,   211.49,2,     1.20,2,     0.12,     0.03,2,     0.03,     0.01,2,     0.01,    0.065,2,    0.028,    1.914,2,    1.149,2, -999.000,5,   -999.0,9,   -999.0,9,-999.0000,9, -999.000,9, -999.000,   -999.0,9,   -999.0,  22.3834,  24.2950
    49MR0505_1,   P03,   104,  1,     33, X12003,2,20051115,2307, 24.2697,-152.6385, 5260,    151.1,2,  20.6638,2,  20.67231,2,  35.1415,2,  35.1454,2,   181.89,1,   195.59,2,    154.0,2,   194.51,2,   196.39,2,     1.69,2,     0.12,     1.24,2,     0.04,     0.03,2,     0.01,    0.170,2,    0.017,    2.065,2,    1.223,2, -999.000,5,   -999.0,9,   -999.0,9,-999.0000,9, -999.000,9, -999.000,   -999.0,9,   -999.0,  20.6352,  24.7004
    49MR0505_1,   P03,   104,  1,     32, X12044,2,20051115,2307, 24.2697,-152.6385, 5260,    199.6,2,  18.6741,2,  18.66239,2,  34.9078,2,  34.9098,2,   184.54,1,   198.07,2,    195.4,2,   199.17,2,   199.04,2,     2.66,2,     0.12,     2.46,2,     0.04,     0.02,2,     0.01,    0.261,2,    0.015,    2.282,2,    1.326,2, -999.000,5,   -999.0,9,   -999.0,9,-999.0000,9, -999.000,9, -999.000,   -999.0,9,   -999.0,  18.6389,  25.0422
    49MR0505_1,   P03,   104,  1,     31, X12051,2,20051115,2307, 24.2697,-152.6385, 5260,    250.7,2,  16.4402,2,  16.44866,2,  34.6423,2,  34.6379,2,   191.03,1,   205.52,2,    244.2,2,   203.78,2,   206.01,2,     4.20,2,     0.13,     4.03,2,     0.04,     0.01,2,     0.01,    0.368,2,    0.014,    2.493,6,    1.414,6, -999.000,5,   -999.0,9,   -999.0,9,-999.0000,9, -999.000,9, -999.000,   -999.0,9,   -999.0,  16.3998,  25.3805
    49MR0505_1,   P03,   104,  1,     30, X12042,2,20051115,2307, 24.2697,-152.6385, 5260,    301.7,2,  13.5443,2,  13.54497,2,  34.3330,2,  34.3370,2,   196.09,1,   210.35,2,    301.7,2,   211.00,2,   210.98,2,     7.47,2,     0.14,     7.94,2,     0.06,     0.01,2,     0.01,    0.625,2,    0.013,    2.806,2,    1.528,2,    0.078,2,   -999.0,9,   -999.0,9,-999.0000,9, -999.000,9, -999.000,   -999.0,9,   -999.0,  13.5018,  25.7747
    49MR0505_1,   P03,   104,  1,     29, X12041,2,20051115,2307, 24.2697,-152.6385, 5260,    401.7,2,  10.5294,2,  10.53103,2,  34.1392,2,  34.1402,2,   185.19,1,   199.31,2,    399.6,2,   198.40,2,   199.50,2,    16.83,2,     0.16,    15.36,2,     0.08,     0.00,2,     0.01,    1.137,2,    0.013,    3.042,2,    1.565,2,    0.089,2,   -999.0,9,   -999.0,9,-999.0000,9, -999.000,9, -999.000,   -999.0,9,   -999.0,  10.4813,  26.1970
    49MR0505_1,   P03,   104,  1,     28, X12016,2,20051115,2307, 24.2697,-152.6385, 5260,    502.5,2,   8.0178,2,   8.01976,2,  34.0551,2,  34.0537,6,   139.16,1,   150.81,2,    502.6,2,   150.17,2,   151.30,2,    35.93,2,     0.20,    25.32,2,     0.10,     0.00,2,     0.01,    1.819,2,    0.015,    2.456,2,    1.165,2,    0.092,2,   -999.0,9,   -999.0,9,-999.0000,9, -999.000,9, -999.000,   -999.0,9,   -999.0,   7.9666,  26.5367
    49MR0505_1,   P03,   104,  1,     27, X12039,2,20051115,2307, 24.2697,-152.6385, 5260,    598.8,2,   6.1561,2,   6.15564,2,  34.0359,2,  34.0382,2,    83.33,1,    89.97,2,    598.1,2,    87.98,2,    87.86,2,    60.82,2,     0.25,    34.59,2,     0.13,     0.00,2,     0.01,    2.517,2,    0.016,    1.189,2,    0.552,2,    0.046,2,   -999.0,9,   -999.0,9,-999.0000,9, -999.000,9, -999.000,   -999.0,9,   -999.0,   6.1031,  26.7778
    49MR0505_1,   P03,   104,  1,     26, X12038,2,20051115,2307, 24.2697,-152.6385, 5260,    700.2,2,   5.0526,2,   5.05292,2,  34.1463,2,  34.1470,2,    34.39,1,    37.07,2,    702.1,2,    36.15,2,    36.55,2,    85.22,2,     0.31,    40.69,2,     0.15,     0.00,2,     0.01,    2.990,2,    0.017,    0.267,2,    0.121,2,    0.019,2,   -999.0,9,   -999.0,9,-999.0000,9, -999.000,9, -999.000,   -999.0,9,   -999.0,   4.9959,  26.9989
    49MR0505_1,   P03,   104,  1,     25, X12037,2,20051115,2307, 24.2697,-152.6385, 5260,    801.4,2,   4.4955,2,   4.49592,2,  34.2631,2,  34.2630,2,    20.51,1,    22.51,2,    802.7,2,    21.73,2,    21.95,2,   100.77,2,     0.34,    42.78,2,     0.15,     0.00,2,     0.01,    3.140,2,    0.018,    0.059,6,    0.027,6,    0.000,6,   -999.0,9,   -999.0,9,-999.0000,9, -999.000,9, -999.000,   -999.0,9,   -999.0,   4.4333,  27.1542
    49MR0505_1,   P03,   104,  1,     24, X12008,2,20051115,2307, 24.2697,-152.6385, 5260,    901.3,2,   4.2282,2,   4.22802,2,  34.3759,2,  34.3736,2,    22.20,1,    24.27,2,    903.4,2,    23.85,2,    23.60,2,   108.16,2,     0.36,    43.10,2,     0.15,     0.00,2,     0.01,    3.157,2,    0.018,    0.014,2,    0.015,2,    0.000,2,   -999.0,9,   -999.0,9,-999.0000,9, -999.000,9, -999.000,   -999.0,9,   -999.0,   4.1593,  27.2731
    49MR0505_1,   P03,   104,  1,     23, X12035,2,20051115,2307, 24.2697,-152.6385, 5260,   1001.8,2,   3.9597,2,   3.95970,2,  34.4488,2,  34.4489,6,    31.83,1,    34.53,2,   1003.4,2,    37.01,2,    34.25,2,   113.58,2,     0.37,    42.83,2,     0.15,     0.00,2,     0.01,    3.133,2,    0.018,    0.007,2,    0.007,2,    0.000,2,   -999.0,9,   -999.0,9,-999.0000,9, -999.000,9, -999.000,   -999.0,9,   -999.0,   3.8843,  27.3596
    49MR0505_1,   P03,   104,  1,     22, X12034,2,20051115,2307, 24.2697,-152.6385, 5260,   1201.4,2,   3.5151,2,   3.51536,2,  34.5227,2,  34.5221,2,    47.10,1,    50.98,2,   1203.9,2,    50.06,2,    50.83,2,   121.94,2,     0.39,    42.24,2,     0.15,     0.00,2,     0.01,    3.062,2,    0.018,    0.000,2,    0.005,2,    0.000,2,   -999.0,9,   -999.0,9,-999.0000,9, -999.000,9, -999.000,   -999.0,9,   -999.0,   3.4268,  27.4639
    49MR0505_1,   P03,   104,  1,     21, X12033,2,20051115,2307, 24.2697,-152.6385, 5260,   1400.5,2,   3.0408,2,   3.04124,2,  34.5545,2,  34.5539,2,    55.13,1,    59.76,2,   1400.6,2,    59.70,2,    59.66,2,   132.95,2,     0.41,    41.91,2,     0.15,     0.00,2,     0.01,    3.035,2,    0.018,    0.009,2,    0.000,2,    0.000,2,   -999.0,9,   -999.0,9,-999.0000,9, -999.000,9, -999.000,   -999.0,9,   -999.0,   2.9408,  27.5349
    49MR0505_1,   P03,   104,  1,     20, X12032,2,20051115,2307, 24.2697,-152.6385, 5260,   1601.4,2,   2.6710,2,   2.67114,2,  34.5828,2,  34.5824,2,    64.94,1,    70.76,2,   1602.7,2,    69.53,2,    70.51,2,   141.02,2,     0.43,    41.44,2,     0.15,     0.00,2,     0.01,    2.976,2,    0.017,    0.000,2,    0.000,2,    0.000,2,   -999.0,9,   -999.0,9,-999.0000,9, -999.000,9, -999.000,   -999.0,9,   -999.0,   2.5586,  27.5913
    49MR0505_1,   P03,   104,  1,     19, X12001,2,20051115,2307, 24.2697,-152.6385, 5260,   1801.2,2,   2.3720,2,   2.37222,2,  34.5996,2,  34.5996,2,    71.40,1,    77.83,2,   1801.7,2,    78.69,2,    77.58,2,   148.73,2,     0.45,    40.97,2,     0.15,     0.01,2,     0.01,    2.933,2,    0.017,    0.002,2,    0.000,2,    0.000,2,   -999.0,9,   -999.0,9,-999.0000,9, -999.000,9, -999.000,   -999.0,9,   -999.0,   2.2469,  27.6310
    49MR0505_1,   P03,   104,  1,     18, X12030,2,20051115,2307, 24.2697,-152.6385, 5260,   2000.5,2,   2.1439,2,   2.14396,2,  34.6166,2,  34.6165,6,    79.30,1,    86.67,2,   2000.7,2,    82.84,2,    86.43,2,   153.75,2,     0.46,    40.53,2,     0.15,     0.00,2,     0.01,    2.886,2,    0.017,    0.004,2,    0.000,2,    0.000,2,   -999.0,9,   -999.0,9,-999.0000,9, -999.000,9, -999.000,   -999.0,9,   -999.0,   2.0053,  27.6641
    49MR0505_1,   P03,   104,  1,     17, X12049,2,20051115,2307, 24.2697,-152.6385, 5260,   2201.6,2,   1.9511,2,   1.95136,2,  34.6301,2,  34.6299,2,    84.36,1,    92.38,2,   2202.0,2,    92.51,2,    92.13,2,   159.95,2,     0.47,    40.12,2,     0.15,     0.00,2,     0.01,    2.852,2,    0.017, -999.000,9, -999.000,9, -999.000,9,   -999.0,9,   -999.0,9,-999.0000,9, -999.000,9, -999.000,   -999.0,9,   -999.0,   1.7983,  27.6910
    49MR0505_1,   P03,   104,  1,     16, X12028,2,20051115,2307, 24.2697,-152.6385, 5260,   2402.1,2,   1.8269,2,   1.82729,2,  34.6415,2,  34.6415,2,    92.14,1,   100.94,2,   2402.5,2,   100.17,2,   100.63,2,   161.31,2,     0.47,    39.63,2,     0.14,     0.01,2,     0.01,    2.815,2,    0.017,    0.000,2,    0.001,2,    0.000,2,   -999.0,9,   -999.0,9,-999.0000,9, -999.000,9, -999.000,   -999.0,9,   -999.0,   1.6586,  27.7108
    49MR0505_1,   P03,   104,  1,     15, X12006,2,20051115,2307, 24.2697,-152.6385, 5260,   2600.5,2,   1.7312,2,   1.73133,2,  34.6509,2,  34.6510,2,    98.45,1,   107.84,2,   2600.3,2,   108.42,2,   107.68,2,   162.79,2,     0.48,    39.20,2,     0.14,     0.00,2,     0.01,    2.772,2,    0.017, -999.000,9, -999.000,9, -999.000,9,   -999.0,9,   -999.0,9,-999.0000,9, -999.000,9, -999.000,   -999.0,9,   -999.0,   1.5469,  27.7266
    49MR0505_1,   P03,   104,  1,     14, X12026,2,20051115,2307, 24.2697,-152.6385, 5260,   2801.8,2,   1.6477,2,   1.64792,2,  34.6586,2,  34.6585,2,   103.67,1,   113.54,2,   2801.3,2,   113.94,2,   113.31,2,   164.60,2,     0.48,    38.82,2,     0.14,     0.00,2,     0.01,    2.739,2,    0.017, -999.000,9, -999.000,9, -999.000,9,   -999.0,9,   -999.0,9,-999.0000,9, -999.000,9, -999.000,   -999.0,9,   -999.0,   1.4465,  27.7401
    49MR0505_1,   P03,   104,  1,     13, X12025,2,20051115,2307, 24.2697,-152.6385, 5260,   3001.3,2,   1.5919,2,   1.59213,2,  34.6654,2,  34.6653,2,   109.50,1,   120.11,2,   3000.7,2,   120.69,2,   119.91,2,   164.09,2,     0.48,    38.48,2,     0.14,     0.00,2,     0.01,    2.713,2,    0.017, -999.000,9, -999.000,9, -999.000,9,   -999.0,9,   -999.0,9,-999.0000,9, -999.000,9, -999.000,   -999.0,9,   -999.0,   1.3730,  27.7508
    49MR0505_1,   P03,   104,  1,     12, X12024,2,20051115,2307, 24.2697,-152.6385, 5260,   3252.1,2,   1.5291,2,   1.52916,2,  34.6733,2,  34.6731,6,   117.85,1,   129.12,2,   3251.9,2,   129.17,2,   129.09,2,   162.16,2,     0.48,    37.71,2,     0.14,     0.00,2,     0.01,    2.649,2,    0.017,    0.000,2,    0.001,2,    0.000,2,   -999.0,9,   -999.0,9,-999.0000,9, -999.000,9, -999.000,   -999.0,9,   -999.0,   1.2872,  27.7632
    49MR0505_1,   P03,   104,  1,     11, X12023,2,20051115,2307, 24.2697,-152.6385, 5260,   3501.2,2,   1.4964,2,   1.49651,2,  34.6784,2,  34.6785,2,   124.25,1,   135.97,2,   3501.2,2,   135.80,2,   136.16,2,   160.37,2,     0.47,    37.40,2,     0.14,     0.00,2,     0.01,    2.621,2,    0.017, -999.000,9, -999.000,9, -999.000,9,   -999.0,9,   -999.0,9,-999.0000,9, -999.000,9, -999.000,   -999.0,9,   -999.0,   1.2302,  27.7713
    49MR0505_1,   P03,   104,  1,     10, X12022,2,20051115,2307, 24.2697,-152.6385, 5260,   3751.1,2,   1.4809,2,   1.48109,2,  34.6820,2,  34.6818,2,   129.35,1,   141.08,2,   3751.1,2,   141.26,2,   141.46,2,   158.14,2,     0.47,    36.97,2,     0.14,     0.00,2,     0.01,    2.592,2,    0.016, -999.000,9, -999.000,9, -999.000,9,   -999.0,9,   -999.0,9,-999.0000,9, -999.000,9, -999.000,   -999.0,9,   -999.0,   1.1892,  27.7770
    49MR0505_1,   P03,   104,  1,      9, X12021,2,20051115,2307, 24.2697,-152.6385, 5260,   3999.7,2,   1.4744,2,   1.47452,2,  34.6853,2,  34.6850,2,   134.09,1,   145.98,2,   3999.6,2,   146.66,2,   146.34,2,   156.39,2,     0.46,    36.64,2,     0.14,     0.00,2,     0.01,    2.571,2,    0.016, -999.000,9, -999.000,9, -999.000,9,   -999.0,9,   -999.0,9,-999.0000,9, -999.000,9, -999.000,   -999.0,9,   -999.0,   1.1562,  27.7819
    49MR0505_1,   P03,   104,  1,      8, X12020,2,20051115,2307, 24.2697,-152.6385, 5260,   4250.2,2,   1.4742,2,   1.47431,2,  34.6879,2,  34.6877,2,   138.49,1,   150.43,2,   4250.4,2,   150.10,2,   150.81,2,   153.61,2,     0.46,    36.42,2,     0.13,     0.00,2,     0.01,    2.539,2,    0.016,    0.000,2,    0.000,2,    0.000,2,   -999.0,9,   -999.0,9,-999.0000,9, -999.000,9, -999.000,   -999.0,9,   -999.0,   1.1284,  27.7859
    49MR0505_1,   P03,   104,  1,      7, X12019,2,20051115,2307, 24.2697,-152.6385, 5260,   4501.4,2,   1.4821,2,   1.48223,2,  34.6898,2,  34.6897,2,   142.16,1,   153.94,2,   4501.3,2,   154.44,2,   154.33,2,   151.20,2,     0.45,    36.08,2,     0.13,     0.00,2,     0.01,    2.523,2,    0.016, -999.000,9, -999.000,9, -999.000,9,   -999.0,9,   -999.0,9,-999.0000,9, -999.000,9, -999.000,   -999.0,9,   -999.0,   1.1075,  27.7889
    49MR0505_1,   P03,   104,  1,      6, X12018,2,20051115,2307, 24.2697,-152.6385, 5260,   4749.9,2,   1.4873,2,   1.48739,2,  34.6915,2,  34.6915,6,   146.18,1,   157.70,2,   4750.0,2,   158.22,2,   158.15,2,   148.40,2,     0.45,    35.82,2,     0.13,     0.00,2,     0.01,    2.507,2,    0.016, -999.000,9, -999.000,9, -999.000,9,   -999.0,9,   -999.0,9,-999.0000,9, -999.000,9, -999.000,   -999.0,9,   -999.0,   1.0835,  27.7918
    49MR0505_1,   P03,   104,  1,      5, X12043,2,20051115,2307, 24.2697,-152.6385, 5260,   5002.2,2,   1.4936,2,   1.49371,2,  34.6933,2,  34.6933,2,   150.65,1,   161.84,2,   5002.3,2,   162.20,2,   162.20,2,   145.34,2,     0.44,    35.51,2,     0.13,     0.00,2,     0.01,    2.482,2,    0.016, -999.000,9, -999.000,9, -999.000,9,   -999.0,9,   -999.0,9,-999.0000,9, -999.000,9, -999.000,   -999.0,9,   -999.0,   1.0593,  27.7950
    49MR0505_1,   P03,   104,  1,      4, X12010,2,20051115,2307, 24.2697,-152.6385, 5260,   5249.6,2,   1.5070,2,   1.50700,2,  34.6945,2,  34.6945,2,   154.19,1,   164.75,2,   5249.8,2,   165.00,2,   165.04,2,   143.11,2,     0.43,    35.34,2,     0.13,     0.00,2,     0.01,    2.471,2,    0.016,    0.001,2,    0.000,2,    0.000,2,   -999.0,9,   -999.0,9,-999.0000,9, -999.000,9, -999.000,   -999.0,9,   -999.0,   1.0417,  27.7971
    49MR0505_1,   P03,   104,  1,      3, X12015,9,20051115,2307, 24.2697,-152.6385, 5260,     50.2,2,  24.5913,2,  24.59177,2,  35.3119,2,-999.0000,9,   195.77,1,   210.74,2,     51.5,2,   211.64,2,  -999.00,9,  -999.00,9,  -999.00,  -999.00,9,  -999.00,  -999.00,9,  -999.00, -999.000,9, -999.000, -999.000,9, -999.000,9, -999.000,9,   -999.0,9,   -999.0,9,-999.0000,9, -999.000,9, -999.000,   -999.0,9,   -999.0,  24.5805,  23.7040
    49MR0505_1,   P03,   104,  1,      2, X12014,9,20051115,2307, 24.2697,-152.6385, 5260,      9.4,2,  24.6463,2,  24.64668,2,  35.1749,2,-999.0000,9,   194.96,1,   210.53,2,      8.8,2,   211.09,2,  -999.00,9,  -999.00,9,  -999.00,  -999.00,9,  -999.00,  -999.00,9,  -999.00, -999.000,9, -999.000, -999.000,9, -999.000,9, -999.000,9,   -999.0,9,   -999.0,9,-999.0000,9, -999.000,9, -999.000,   -999.0,9,   -999.0,  24.6443,  23.5811
    49MR0505_1,   P03,   104,  1,      1, X12013,2,20051115,2307, 24.2697,-152.6385, 5260,   5407.6,2,   1.5263,2,   1.52624,2,  34.6945,2,  34.6949,6,   155.22,1,   165.33,2,   5407.6,2,   165.18,2,   165.20,2,   142.76,2,     0.43,    35.42,2,     0.13,     0.00,2,     0.01,    2.467,2,    0.016,    0.008,2,    0.001,2,    0.000,2,   -999.0,9,   -999.0,9,-999.0000,9, -999.000,9, -999.000,   -999.0,9,   -999.0,   1.0405,  27.7972