BOTTLE,20100316JAMSTECRIGC
EXPOCODE,SECT,STNNBR,CASTNO,SAMPNO,BTLNBR,BTLNBR_FLAG_W,DATE,TIME,LATITUDE,LONGITUDE,DEPTH,CTDPRS,CTDPRS_FLAG_W,CTDTMP,CTDTMP_FLAG_W,SBE35,SBE35_FLAG_W,CTDSAL,CTDSAL_FLAG_W,SALNTY,SALNTY_FLAG_W,CTDOXY,CTDOXY_FLAG_W,OPTOXY,OPTOXY_FLAG_W,DWNPRS,DWNPRS_FLAG_W,DWNOXY,DWNOXY_FLAG_W,OXYGEN,OXYGEN_FLAG_W,SILCAT,SILCAT_FLAG_W,SILUNC,NITRAT,NITRAT_FLAG_W,NRAUNC,NITRIT,NITRIT_FLAG_W,NRIUNC,PHSPHT,PHSPHT_FLAG_W,PHPUNC,CFC-11,CFC-11_FLAG_W,CFC-12,CFC-12_FLAG_W,CFC113,CFC113_FLAG_W,TCARBN,TCARBN_FLAG_W,ALKALI,ALKALI_FLAG_W,PH,PH_FLAG_W,DELC13,DELC13_FLAG_W,C13ERR,DELC14,DELC14_FLAG_W,C14ERR,THETA,SIG0
,,,,,,,,UTC,DEG,DEG,M,DBAR,,ITS-90,,ITS-90,,PSS-78,,PSS-78,,UMOL/KG,,UMOL/KG,,DBAR,,UMOL/KG,,UMOL/KG,,UMOL/KG,,UMOL/KG,UMOL/KG,,UMOL/KG,UMOL/KG,,UMOL/KG,UMOL/KG,,UMOL/KG,PMOL/KG,,PMOL/KG,,PMOL/KG,,UMOL/KG,,UMOL/KG,,,,/MILLE,,/MILLE,/MILLE,,/MILLE,DEG C,KG/CUM
    49MR0505_1,   P03,   134,  1,      0,   -999,9,20051120,1327, 25.5153,-163.4787, 4999,   -999.0,9,-999.0000,9,-999.00000,9,-999.0000,9,  35.3705,2,  -999.00,9,  -999.00,9,   -999.0,9,  -999.00,9,  -999.00,9,  -999.00,9,  -999.00,  -999.00,9,  -999.00,  -999.00,9,  -999.00, -999.000,9, -999.000, -999.000,9, -999.000,9, -999.000,9,   -999.0,9,   -999.0,9,-999.0000,9, -999.000,9, -999.000,   -999.0,9,   -999.0,-999.0000,-999.0000
    49MR0505_1,   P03,   134,  1,     36, X12048,2,20051120,1327, 25.5153,-163.4787, 4999,     10.1,2,  25.2034,2,  25.20313,2,  35.3743,2,  35.3737,2,   191.61,1,   207.95,2,      5.4,2,   209.00,2,   209.02,2,     1.21,2,     0.12,     0.04,2,     0.03,     0.00,2,     0.01,    0.054,2,    0.032,    1.695,2,    1.017,2, -999.000,5,   1992.9,2,   2326.8,2,   8.0927,6, -999.000,9, -999.000,   -999.0,9,   -999.0,  25.2012,  23.5627
    49MR0505_1,   P03,   134,  1,     35, X12047,2,20051120,1327, 25.5153,-163.4787, 4999,     50.4,2,  24.9984,2,  24.99784,2,  35.3381,2,  35.3245,2,   193.17,1,   210.94,2,     48.7,2,   210.74,2,   212.14,2,     1.40,2,     0.12,     0.04,2,     0.03,     0.00,2,     0.01,    0.057,2,    0.031,    1.759,2,    1.051,2, -999.000,5,   1994.1,6,   2326.1,2,   8.0870,2, -999.000,9, -999.000,   -999.0,9,   -999.0,  24.9875,  23.6006
    49MR0505_1,   P03,   134,  1,     34, X12046,2,20051120,1327, 25.5153,-163.4787, 4999,    100.4,2,  19.0393,2,  19.03932,2,  34.9338,2,  34.9255,2,   208.64,1,   226.78,2,     92.6,2,   227.22,2,   226.67,2,     2.52,2,     0.12,     0.17,2,     0.03,     0.04,2,     0.01,    0.126,2,    0.019,    2.315,2,    1.332,2, -999.000,5,   2022.2,2,   2294.9,6,   8.0081,2, -999.000,9, -999.000,   -999.0,9,   -999.0,  19.0214,  24.9651
    49MR0505_1,   P03,   134,  1,     33, X12003,2,20051120,1327, 25.5153,-163.4787, 4999,    150.2,2,  16.5020,2,  16.49578,2,  34.7324,2,  34.7290,2,   202.68,1,   218.99,2,    145.3,2,   219.43,2,   219.80,2,     4.05,2,     0.13,     2.76,2,     0.04,     0.11,2,     0.01,    0.308,2,    0.014,    2.495,2,    1.433,2,    0.228,4,   2037.7,2,   2282.3,2,   7.9586,2, -999.000,9, -999.000,   -999.0,9,   -999.0,  16.4778,  25.4316
    49MR0505_1,   P03,   134,  1,     32, X12044,2,20051120,1327, 25.5153,-163.4787, 4999,    199.2,2,  15.3315,2,  15.33346,2,  34.6040,2,  34.5952,2,   199.20,1,   215.06,2,    196.8,2,   216.84,2,   215.93,2,     5.52,2,     0.13,     5.32,2,     0.05,     0.01,2,     0.01,    0.454,2,    0.013,    2.618,2,    1.490,2,    0.144,4,   2048.7,2,   -999.0,5,   7.9256,2, -999.000,9, -999.000,   -999.0,9,   -999.0,  15.3010,  25.6003
    49MR0505_1,   P03,   134,  1,     31, X12051,2,20051120,1327, 25.5153,-163.4787, 4999,    249.3,2,  13.7663,2,  13.76744,2,  34.4506,2,  34.4462,2,   191.00,1,   206.53,2,    250.1,2,   208.07,2,   207.02,2,     9.10,2,     0.14,     9.04,2,     0.06,     0.01,2,     0.01,    0.699,2,    0.013,    2.710,6,    1.505,6,    0.092,6,   2069.1,2,   2267.4,2,   7.8748,2, -999.000,9, -999.000,   -999.0,9,   -999.0,  13.7308,  25.8185
    49MR0505_1,   P03,   134,  1,     30, X12042,2,20051120,1327, 25.5153,-163.4787, 4999,    297.5,2,  12.6800,2,  12.67860,2,  34.3814,2,  34.3777,2,   195.05,1,   210.39,2,    299.3,2,   210.41,2,   211.58,2,    11.73,2,     0.14,    10.75,2,     0.06,     0.00,2,     0.01,    0.804,2,    0.013,    2.787,2,    1.546,2,    0.103,2,   2078.4,2,   2271.6,2,   7.8536,2, -999.000,9, -999.000,   -999.0,9,   -999.0,  12.6398,  25.9850
    49MR0505_1,   P03,   134,  1,     29, X12041,2,20051120,1327, 25.5153,-163.4787, 4999,    400.2,2,  10.0760,2,  10.07631,2,  34.1866,2,  34.1860,2,   181.40,1,   196.02,2,    404.8,2,   199.62,2,   196.59,2,    22.02,2,     0.17,    16.98,2,     0.08,     0.00,2,     0.01,    1.245,2,    0.013,    2.813,2,    1.498,2,    0.121,2,   2118.3,2,   2270.7,2,   7.7616,2, -999.000,9, -999.000,   -999.0,9,   -999.0,  10.0293,  26.3118
    49MR0505_1,   P03,   134,  1,     28, X12016,2,20051120,1327, 25.5153,-163.4787, 4999,    499.3,2,   7.4935,2,   7.48795,2,  34.0623,2,  34.0622,6,   135.34,1,   146.28,2,    506.2,2,   154.79,2,   146.29,2,    43.90,2,     0.22,    26.55,2,     0.11,     0.00,2,     0.01,    1.930,2,    0.015,    2.194,2,    1.082,2,    0.103,2,   2188.4,2,   2278.9,2,   7.6112,2, -999.000,9, -999.000,   -999.0,9,   -999.0,   7.4446,  26.6180
    49MR0505_1,   P03,   134,  1,     27, X12039,2,20051120,1327, 25.5153,-163.4787, 4999,    600.9,2,   5.9888,2,   5.98359,2,  34.0633,2,  34.0635,2,    89.95,1,    98.01,2,    607.8,2,   106.48,2,    97.65,2,    65.54,2,     0.26,    33.68,2,     0.13,     0.00,2,     0.01,    2.449,2,    0.016,    1.273,2,    0.634,2,    0.054,2,   2248.3,2,   2299.1,2,   7.4918,2, -999.000,9, -999.000,   -999.0,9,   -999.0,   5.9363,  26.8204
    49MR0505_1,   P03,   134,  1,     26, X12038,2,20051120,1327, 25.5153,-163.4787, 4999,    701.3,2,   4.9529,2,   4.95160,2,  34.1610,2,  34.1597,2,    49.66,1,    54.24,2,    712.0,2,    64.48,2,    53.86,2,    87.33,2,     0.31,    39.19,2,     0.14,     0.00,2,     0.01,    2.856,2,    0.017,    0.463,2,    0.237,2,    0.022,2,   2300.6,6,   2323.9,2,   7.4029,2, -999.000,9, -999.000,   -999.0,9,   -999.0,   4.8966,  27.0218
    49MR0505_1,   P03,   134,  1,     25, X12037,2,20051120,1327, 25.5153,-163.4787, 4999,    799.8,2,   4.5637,2,   4.56441,2,  34.2842,2,  34.2857,2,    32.09,1,    35.17,2,    802.3,2,    38.62,2,    34.48,2,    99.03,2,     0.34,    41.56,2,     0.15,     0.00,2,     0.01,    3.045,2,    0.018,    0.132,6,    0.072,6,    0.003,6,   2329.1,2,   2342.0,6,   7.3782,2, -999.000,9, -999.000,   -999.0,9,   -999.0,   4.5012,  27.1636
    49MR0505_1,   P03,   134,  1,     24, X12008,2,20051120,1327, 25.5153,-163.4787, 4999,    901.8,2,   4.0958,2,   4.09569,2,  34.3442,2,  34.3447,2,    32.64,1,    35.84,2,    905.4,2,    35.73,2,    35.33,2,   110.04,2,     0.36,    42.25,2,     0.15,     0.00,2,     0.01,    3.070,2,    0.018,    0.078,2,    0.042,2,    0.000,2,   2341.4,2,   2355.4,2,   7.3806,6, -999.000,9, -999.000,   -999.0,9,   -999.0,   4.0278,  27.2616
    49MR0505_1,   P03,   134,  1,     23, X12035,2,20051120,1327, 25.5153,-163.4787, 4999,   1001.2,2,   3.9731,2,   3.97323,2,  34.4383,2,  34.4368,6,    39.16,1,    42.82,2,   1003.8,2,    41.18,2,    42.06,2,   112.35,2,     0.37,    42.08,2,     0.15,     0.00,2,     0.01,    3.067,2,    0.018,    0.024,2,    0.012,2,    0.000,2,   2344.1,2,   2368.0,2,   7.4033,2, -999.000,9, -999.000,   -999.0,9,   -999.0,   3.8977,  27.3498
    49MR0505_1,   P03,   134,  1,     22, X12034,2,20051120,1327, 25.5153,-163.4787, 4999,   1200.8,2,   3.4323,2,   3.43203,2,  34.5010,2,  34.5007,2,    48.35,1,    52.84,2,   1201.5,2,    53.83,2,    52.70,2,   124.34,2,     0.39,    41.81,2,     0.15,     0.00,2,     0.01,    3.034,2,    0.018,    0.010,2,    0.004,2,    0.000,2,   2351.6,2,   2382.8,2,   7.4278,2, -999.000,9, -999.000,   -999.0,9,   -999.0,   3.3449,  27.4545
    49MR0505_1,   P03,   134,  1,     21, X12033,2,20051120,1327, 25.5153,-163.4787, 4999,   1400.2,2,   2.8920,2,   2.89159,2,  34.5341,2,  34.5342,2,    54.81,1,    60.19,2,   1401.2,2,    60.04,2,    59.82,2,   137.76,2,     0.42,    41.67,2,     0.15,     0.00,2,     0.01,    3.003,2,    0.017,    0.007,2,    0.003,2,    0.000,2,   2360.4,2,   2397.7,2,   7.4359,2, -999.000,9, -999.000,   -999.0,9,   -999.0,   2.7937,  27.5318
    49MR0505_1,   P03,   134,  1,     20, X12032,2,20051120,1327, 25.5153,-163.4787, 4999,   1599.9,2,   2.4878,2,   2.48826,2,  34.5762,2,  34.5761,2,    66.73,1,    73.33,2,   1601.7,2,    73.10,2,    73.07,2,   146.34,2,     0.44,    41.15,2,     0.15,     0.00,2,     0.01,    2.947,2,    0.017,    0.003,2,    0.000,2,    0.000,2,   2362.1,2,   2404.0,2,   7.4605,6, -999.000,9, -999.000,   -999.0,9,   -999.0,   2.3778,  27.6014
    49MR0505_1,   P03,   134,  1,     19, X12001,2,20051120,1327, 25.5153,-163.4787, 4999,   1800.4,2,   2.2771,2,   2.27758,2,  34.6008,2,  34.6008,2,    75.42,1,    82.96,2,   1801.8,2,    82.11,2,    82.83,2,   150.06,2,     0.45,    40.62,2,     0.15,     0.00,2,     0.01,    2.908,2,    0.017,    0.004,2,    0.000,2,    0.000,2,   2360.7,2,   2410.5,2,   7.4778,2, -999.000,9, -999.000,   -999.0,9,   -999.0,   2.1534,  27.6396
    49MR0505_1,   P03,   134,  1,     18, X12030,2,20051120,1327, 25.5153,-163.4787, 4999,   2000.5,2,   2.0115,2,   2.01122,2,  34.6161,2,  34.6159,2,    81.32,1,    89.68,2,   2002.7,2,    89.55,2,    89.41,2,   156.50,2,     0.46,    40.29,2,     0.15,     0.00,2,     0.01,    2.863,2,    0.017,    0.000,2,    0.000,2,    0.000,2,   2361.6,2,   2419.1,2,   7.4890,2, -999.000,9, -999.000,   -999.0,9,   -999.0,   1.8749,  27.6739
    49MR0505_1,   P03,   134,  1,     17, X12049,2,20051120,1327, 25.5153,-163.4787, 4999,   2200.8,2,   1.8690,2,   1.86882,2,  34.6326,2,  34.6321,6,    89.47,1,    98.58,2,   2202.9,2,    96.35,2,    98.38,2,   158.96,2,     0.47,    39.59,2,     0.14,     0.00,2,     0.01,    2.815,2,    0.017, -999.000,9, -999.000,9, -999.000,9,   2360.3,2,   2417.9,2,   7.5057,2, -999.000,9, -999.000,   -999.0,9,   -999.0,   1.7176,  27.6992
    49MR0505_1,   P03,   134,  1,     16, X12028,2,20051120,1327, 25.5153,-163.4787, 4999,   2400.7,2,   1.7529,2,   1.75269,2,  34.6436,2,  34.6432,2,    96.35,1,   106.05,2,   2402.8,2,   104.53,2,   106.00,2,   160.58,2,     0.47,    39.18,2,     0.14,     0.00,2,     0.01,    2.774,2,    0.017,    0.001,2,    0.000,2,    0.000,2,   2357.2,6,   2418.6,2,   7.5174,2, -999.000,9, -999.000,   -999.0,9,   -999.0,   1.5861,  27.7178
    49MR0505_1,   P03,   134,  1,     15, X12006,2,20051120,1327, 25.5153,-163.4787, 4999,   2601.0,2,   1.6677,2,   1.66764,2,  34.6525,2,  34.6524,2,   102.76,1,   113.27,2,   2602.0,2,   111.95,2,   113.17,2,   160.90,2,     0.47,    38.71,2,     0.14,     0.00,2,     0.01,    2.740,2,    0.017, -999.000,9, -999.000,9, -999.000,9,   2354.3,2,   2425.9,6,   7.5298,2, -999.000,9, -999.000,   -999.0,9,   -999.0,   1.4846,  27.7324
    49MR0505_1,   P03,   134,  1,     14, X12026,2,20051120,1327, 25.5153,-163.4787, 4999,   2799.7,2,   1.5886,2,   1.58838,2,  34.6606,2,  34.6605,2,   109.65,1,   120.92,2,   2800.8,2,   119.69,2,   120.73,2,   160.30,2,     0.47,    38.24,2,     0.14,     0.00,2,     0.01,    2.701,2,    0.017, -999.000,9, -999.000,9, -999.000,9,   2351.3,2,   2427.0,2,   7.5424,6, -999.000,9, -999.000,   -999.0,9,   -999.0,   1.3888,  27.7458
    49MR0505_1,   P03,   134,  1,     13, X12025,2,20051120,1327, 25.5153,-163.4787, 4999,   3000.6,2,   1.5353,2,   1.53526,2,  34.6679,2,  34.6673,2,   116.02,1,   127.78,2,   3001.6,2,   126.27,2,   127.72,2,   159.25,2,     0.47,    37.80,2,     0.14,     0.00,2,     0.01,    2.662,2,    0.017,    0.000,2,    0.001,2,    0.000,2,   2346.0,2,   2424.4,2,   7.5547,2, -999.000,9, -999.000,   -999.0,9,   -999.0,   1.3177,  27.7567
    49MR0505_1,   P03,   134,  1,     12, X12024,2,20051120,1327, 25.5153,-163.4787, 4999,   3250.8,2,   1.4931,2,   1.49305,2,  34.6744,2,  34.6738,2,   122.96,1,   135.22,2,   3251.1,2,   135.06,2,   135.18,2,   157.54,2,     0.47,    37.24,2,     0.14,     0.00,2,     0.01,    2.622,2,    0.017, -999.000,9, -999.000,9, -999.000,9,   2340.8,2,   2427.3,2,   7.5681,2, -999.000,9, -999.000,   -999.0,9,   -999.0,   1.2522,  27.7665
    49MR0505_1,   P03,   134,  1,     11, X12023,2,20051120,1327, 25.5153,-163.4787, 4999,   3501.2,2,   1.4644,2,   1.46439,2,  34.6797,2,  34.6790,2,   128.82,1,   141.53,2,   3501.4,2,   141.59,2,   141.58,2,   155.87,2,     0.46,    36.76,2,     0.14,     0.00,2,     0.01,    2.585,2,    0.016, -999.000,9, -999.000,9, -999.000,9,   2337.8,2,   2422.8,2,   7.5775,2, -999.000,9, -999.000,   -999.0,9,   -999.0,   1.1990,  27.7745
    49MR0505_1,   P03,   134,  1,     10, X12022,2,20051120,1327, 25.5153,-163.4787, 4999,   3750.2,2,   1.4546,2,   1.45457,2,  34.6831,2,  34.6822,6,   132.92,1,   145.72,2,   3750.3,2,   145.73,2,   145.74,2,   154.87,2,     0.46,    36.53,2,     0.14,     0.00,2,     0.01,    2.567,2,    0.016,    0.000,2,    0.000,2,    0.000,2,   2333.6,2,   2419.4,2,   7.5843,2, -999.000,9, -999.000,   -999.0,9,   -999.0,   1.1637,  27.7797
    49MR0505_1,   P03,   134,  1,      9, X12021,2,20051120,1327, 25.5153,-163.4787, 4999,   4001.6,2,   1.4546,2,   1.45443,2,  34.6856,2,  34.6851,2,   136.19,1,   148.96,2,   4001.7,2,   149.33,2,   148.91,2,   154.24,2,     0.46,    36.31,2,     0.13,     0.00,2,     0.01,    2.557,2,    0.016, -999.000,9, -999.000,9, -999.000,9,   2330.6,2,   2429.1,3,   7.5903,2, -999.000,9, -999.000,   -999.0,9,   -999.0,   1.1368,  27.7835
    49MR0505_1,   P03,   134,  1,      8, X12020,2,20051120,1327, 25.5153,-163.4787, 4999,   4251.2,2,   1.4632,2,   1.46306,2,  34.6876,2,  34.6873,2,   139.22,1,   151.82,2,   4251.1,2,   152.27,2,   151.85,2,   152.97,2,     0.46,    36.10,2,     0.13,     0.00,2,     0.01,    2.533,2,    0.016, -999.000,9, -999.000,9, -999.000,9,   2329.1,6,   2423.5,2,   7.5940,2, -999.000,9, -999.000,   -999.0,9,   -999.0,   1.1176,  27.7864
    49MR0505_1,   P03,   134,  1,      7, X12019,2,20051120,1327, 25.5153,-163.4787, 4999,   4500.9,2,   1.4772,2,   1.47715,2,  34.6892,2,  34.6884,2,   141.82,1,   154.04,2,   4500.9,2,   154.12,2,   154.19,2,   151.76,2,     0.45,    35.93,2,     0.13,     0.00,2,     0.01,    2.523,2,    0.016,    0.000,2,    0.000,2,    0.000,2,   2328.1,2,   2425.0,6,   7.5982,2, -999.000,9, -999.000,   -999.0,9,   -999.0,   1.1028,  27.7887
    49MR0505_1,   P03,   134,  1,      6, X12018,2,20051120,1327, 25.5153,-163.4787, 4999,   4750.2,2,   1.4957,2,   1.49564,2,  34.6902,2,  34.6893,2,   144.41,1,   156.11,2,   4750.2,2,   156.10,2,   156.06,2,   150.06,2,     0.45,    35.74,2,     0.13,     0.00,2,     0.01,    2.514,2,    0.016, -999.000,9, -999.000,9, -999.000,9,   2325.7,2,   2423.5,2,   7.6005,6, -999.000,9, -999.000,   -999.0,9,   -999.0,   1.0916,  27.7903
    49MR0505_1,   P03,   134,  1,      5, X12043,2,20051120,1327, 25.5153,-163.4787, 4999,   5000.0,2,   1.5134,2,   1.51332,2,  34.6914,2,  34.6906,6,   147.62,1,   158.70,2,   5000.1,2,   158.66,2,   158.55,2,   148.06,2,     0.44,    35.55,2,     0.13,     0.00,2,     0.01,    2.501,2,    0.016, -999.000,9, -999.000,9, -999.000,9,   2322.9,2,   2422.0,2,   7.6032,2, -999.000,9, -999.000,   -999.0,9,   -999.0,   1.0787,  27.7921
    49MR0505_1,   P03,   134,  1,      4, X12010,2,20051120,1327, 25.5153,-163.4787, 4999,    150.2,2,  16.4896,2,  16.48525,2,  34.7315,2,-999.0000,9,   202.40,1,   219.19,2,    145.7,2,   219.26,2,  -999.00,9,  -999.00,9,  -999.00,  -999.00,9,  -999.00,  -999.00,9,  -999.00, -999.000,9, -999.000, -999.000,9, -999.000,9, -999.000,9,   -999.0,9,   -999.0,9,-999.0000,9, -999.000,9, -999.000,   -999.0,9,   -999.0,  16.4654,  25.4337
    49MR0505_1,   P03,   134,  1,      3, X12015,2,20051120,1327, 25.5153,-163.4787, 4999,    198.7,2,  15.3566,2,  15.35505,2,  34.6062,2,-999.0000,9,   199.20,1,   214.97,2,    196.2,2,   216.64,2,  -999.00,9,  -999.00,9,  -999.00,  -999.00,9,  -999.00,  -999.00,9,  -999.00, -999.000,9, -999.000, -999.000,9, -999.000,9, -999.000,9,   -999.0,9,   -999.0,9,-999.0000,9, -999.000,9, -999.000,   -999.0,9,   -999.0,  15.3261,  25.5964
    49MR0505_1,   P03,   134,  1,      2, X12014,2,20051120,1327, 25.5153,-163.4787, 4999,    249.3,2,  13.7909,2,  13.79068,2,  34.4526,2,-999.0000,9,   191.00,1,   205.93,2,    249.6,2,   208.14,2,  -999.00,9,  -999.00,9,  -999.00,  -999.00,9,  -999.00,  -999.00,9,  -999.00, -999.000,9, -999.000, -999.000,9, -999.000,9, -999.000,9,   -999.0,9,   -999.0,9,-999.0000,9, -999.000,9, -999.000,   -999.0,9,   -999.0,  13.7553,  25.8150
    49MR0505_1,   P03,   134,  1,      1, X12013,2,20051120,1327, 25.5153,-163.4787, 4999,   5070.8,2,   1.5218,2,   1.52175,2,  34.6915,2,  34.6911,6,   148.15,1,   158.85,2,   5070.9,2,   158.48,2,   158.70,2,   147.90,2,     0.44,    35.62,2,     0.13,     0.00,2,     0.01,    2.498,2,    0.016,    0.000,2,    0.002,2,    0.000,2,   2321.9,2,   2419.8,2,   7.6036,2, -999.000,9, -999.000,   -999.0,9,   -999.0,   1.0782,  27.7922