BOTTLE,20100316JAMSTECRIGC
EXPOCODE,SECT,STNNBR,CASTNO,SAMPNO,BTLNBR,BTLNBR_FLAG_W,DATE,TIME,LATITUDE,LONGITUDE,DEPTH,CTDPRS,CTDPRS_FLAG_W,CTDTMP,CTDTMP_FLAG_W,SBE35,SBE35_FLAG_W,CTDSAL,CTDSAL_FLAG_W,SALNTY,SALNTY_FLAG_W,CTDOXY,CTDOXY_FLAG_W,OPTOXY,OPTOXY_FLAG_W,DWNPRS,DWNPRS_FLAG_W,DWNOXY,DWNOXY_FLAG_W,OXYGEN,OXYGEN_FLAG_W,SILCAT,SILCAT_FLAG_W,SILUNC,NITRAT,NITRAT_FLAG_W,NRAUNC,NITRIT,NITRIT_FLAG_W,NRIUNC,PHSPHT,PHSPHT_FLAG_W,PHPUNC,CFC-11,CFC-11_FLAG_W,CFC-12,CFC-12_FLAG_W,CFC113,CFC113_FLAG_W,TCARBN,TCARBN_FLAG_W,ALKALI,ALKALI_FLAG_W,PH,PH_FLAG_W,DELC13,DELC13_FLAG_W,C13ERR,DELC14,DELC14_FLAG_W,C14ERR,THETA,SIG0
,,,,,,,,UTC,DEG,DEG,M,DBAR,,ITS-90,,ITS-90,,PSS-78,,PSS-78,,UMOL/KG,,UMOL/KG,,DBAR,,UMOL/KG,,UMOL/KG,,UMOL/KG,,UMOL/KG,UMOL/KG,,UMOL/KG,UMOL/KG,,UMOL/KG,UMOL/KG,,UMOL/KG,PMOL/KG,,PMOL/KG,,PMOL/KG,,UMOL/KG,,UMOL/KG,,,,/MILLE,,/MILLE,/MILLE,,/MILLE,DEG C,KG/CUM
    49MR0505_1,   P03,    46,  1,      0,   -999,9,20051106,0515, 25.2143,-128.8245, 4675,   -999.0,9,-999.0000,9,-999.00000,9,-999.0000,9,  34.4859,2,  -999.00,9,  -999.00,9,   -999.0,9,  -999.00,9,  -999.00,9,  -999.00,9,  -999.00,  -999.00,9,  -999.00,  -999.00,9,  -999.00, -999.000,9, -999.000, -999.000,9, -999.000,9, -999.000,9,   -999.0,9,   -999.0,9,-999.0000,9, -999.000,9, -999.000,   -999.0,9,   -999.0,-999.0000,-999.0000
    49MR0505_1,   P03,    46,  1,     36, X12048,2,20051106,0515, 25.2143,-128.8245, 4675,     10.5,2,  21.1057,2,  21.10602,2,  34.4346,2,  34.4358,2,   215.85,1,   225.75,2,      8.2,2,   225.73,2,   225.76,2,     1.50,2,     0.12,     0.05,2,     0.03,     0.00,2,     0.01,    0.205,2,    0.016,    2.000,2,    1.232,2, -999.000,5,   2018.1,2,   2293.0,2,   8.0168,6, -999.000,9, -999.000,   -999.0,9,   -999.0,  21.1037,  24.0354
    49MR0505_1,   P03,    46,  1,     35, X12047,2,20051106,0515, 25.2143,-128.8245, 4675,     50.2,2,  21.2356,2,  21.23536,2,  34.5049,2,  34.4922,2,   215.14,1,   225.74,2,     48.0,2,   226.57,2,   226.53,2,     1.46,2,     0.12,     0.05,2,     0.03,     0.01,2,     0.01,    0.200,2,    0.016,    2.013,2,    1.244,2, -999.000,5,   2016.6,6,   2292.3,2,   8.0199,2, -999.000,9, -999.000,   -999.0,9,   -999.0,  21.2260,  24.0555
    49MR0505_1,   P03,    46,  1,     34, X12046,2,20051106,0515, 25.2143,-128.8245, 4675,     99.5,2,  18.6898,2,  18.68422,2,  34.3813,2,  34.3734,2,   221.40,1,   232.28,2,     96.9,2,   230.38,2,   231.40,2,     1.88,2,     0.12,     0.06,2,     0.03,     0.01,2,     0.01,    0.194,2,    0.016,    2.347,2,    1.421,2, -999.000,5,   2022.2,2,   2275.9,6,   7.9856,2, -999.000,9, -999.000,   -999.0,9,   -999.0,  18.6724,  24.6311
    49MR0505_1,   P03,    46,  1,     33, X12003,2,20051106,0515, 25.2143,-128.8245, 4675,    150.3,2,  14.8957,2,  14.89130,2,  33.9374,2,  33.9364,2,   209.55,1,   218.51,2,    150.6,2,   217.98,2,   218.67,2,     3.98,2,     0.13,     3.40,2,     0.04,     0.03,2,     0.01,    0.458,2,    0.013,    2.791,2,    1.575,2,    0.267,4,   2037.9,2,   2241.9,2,   7.9009,6, -999.000,9, -999.000,   -999.0,9,   -999.0,  14.8733,  25.1803
    49MR0505_1,   P03,    46,  1,     32, X12044,2,20051106,0515, 25.2143,-128.8245, 4675,    199.0,2,  11.5751,2,  11.56619,2,  33.7881,2,  33.7839,2,   204.90,1,   212.76,2,    199.5,2,   214.32,2,   212.85,2,     9.58,2,     0.14,    10.21,2,     0.06,     0.01,2,     0.01,    0.860,2,    0.013,    3.227,2,    1.726,2,    0.141,2,   2070.5,2,   2232.1,2,   7.8107,2, -999.000,9, -999.000,   -999.0,9,   -999.0,  11.5501,  25.7318
    49MR0505_1,   P03,    46,  1,     31, X12051,2,20051106,0515, 25.2143,-128.8245, 4675,    249.2,2,   9.6879,2,   9.68676,2,  33.9619,2,  33.9637,2,   190.21,1,   197.28,2,    260.1,2,   198.91,2,   197.55,2,    18.69,2,     0.16,    16.79,2,     0.08,     0.01,2,     0.01,    1.257,2,    0.013,    3.275,6,    1.696,6,    0.119,6,   2113.6,2,   2251.5,2,   7.7377,2, -999.000,9, -999.000,   -999.0,9,   -999.0,   9.6599,  26.1983
    49MR0505_1,   P03,    46,  1,     30, X12042,2,20051106,0515, 25.2143,-128.8245, 4675,    301.5,2,   8.5901,2,   8.58831,2,  34.0419,2,  34.0415,2,   155.84,1,   161.53,2,    305.4,2,   163.46,2,   161.36,2,    29.90,2,     0.18,    23.01,2,     0.10,     0.00,2,     0.01,    1.665,2,    0.014,    2.890,2,    1.417,2,    0.109,2,   2159.2,2,   2259.3,2,   7.6504,2, -999.000,9, -999.000,   -999.0,9,   -999.0,   8.5585,  26.4370
    49MR0505_1,   P03,    46,  1,     29, X12041,2,20051106,0515, 25.2143,-128.8245, 4675,    401.3,2,   6.8148,2,   6.81376,2,  34.0347,2,  34.0356,2,    97.43,1,   101.61,2,    399.2,2,    92.11,2,   101.01,2,    51.08,2,     0.23,    31.90,2,     0.12,     0.01,2,     0.01,    2.335,2,    0.016,    1.774,2,    0.847,2,    0.082,2,   2228.3,2,   2279.0,2,   7.5007,2, -999.000,9, -999.000,   -999.0,9,   -999.0,   6.7778,  26.6885
    49MR0505_1,   P03,    46,  1,     28, X12016,2,20051106,0515, 25.2143,-128.8245, 4675,    500.8,2,   5.8098,2,   5.81095,2,  34.1146,2,  34.1155,6,    48.65,1,    50.40,2,    497.6,2,    43.54,2,    50.29,2,    70.49,2,     0.27,    37.72,2,     0.14,     0.01,2,     0.01,    2.829,2,    0.017,    0.642,2,    0.307,2,    0.016,2,   2284.7,2,   2300.4,2,   7.3985,2, -999.000,9, -999.000,   -999.0,9,   -999.0,   5.7671,  26.8820
    49MR0505_1,   P03,    46,  1,     27, X12039,2,20051106,0515, 25.2143,-128.8245, 4675,    600.1,2,   5.4963,2,   5.49658,2,  34.2821,2,  34.2845,2,    16.54,1,    17.08,2,    597.3,2,    17.60,2,    17.04,2,    83.36,2,     0.30,    40.78,2,     0.15,     0.00,2,     0.01,    3.123,2,    0.018,    0.067,2,    0.025,2,    0.000,2,   2321.7,2,   2321.6,2,   7.3571,2, -999.000,9, -999.000,   -999.0,9,   -999.0,   5.4460,  27.0537
    49MR0505_1,   P03,    46,  1,     26, X12038,2,20051106,0515, 25.2143,-128.8245, 4675,    701.8,2,   5.1718,2,   5.17205,2,  34.3804,2,  34.3799,2,    12.11,1,    12.50,2,    699.3,2,    13.10,2,    12.52,2,    91.17,2,     0.32,    42.04,2,     0.15,     0.00,2,     0.01,    3.204,2,    0.018,    0.007,2,    0.002,2,    0.000,2,   2334.9,6,   2334.4,2,   7.3586,2, -999.000,9, -999.000,   -999.0,9,   -999.0,   5.1141,  27.1708
    49MR0505_1,   P03,    46,  1,     25, X12037,2,20051106,0515, 25.2143,-128.8245, 4675,    801.4,2,   4.7739,2,   4.77394,2,  34.4367,2,  34.4368,2,    16.23,1,    16.67,2,    801.5,2,    17.01,2,    17.01,2,    98.35,2,     0.34,    42.94,2,     0.15,     0.01,2,     0.01,    3.215,2,    0.018,    0.004,6,    0.000,6,    0.000,6,   2344.4,2,   2348.5,6,   7.3700,2, -999.000,9, -999.000,   -999.0,9,   -999.0,   4.7098,  27.2616
    49MR0505_1,   P03,    46,  1,     24, X12008,2,20051106,0515, 25.2143,-128.8245, 4675,    900.8,2,   4.4064,2,   4.40652,2,  34.4699,2,  34.4698,2,    21.39,1,    21.95,2,    900.3,2,    22.38,2,    22.16,2,   105.44,2,     0.35,    43.27,2,     0.15,     0.00,2,     0.01,    3.216,2,    0.018,    0.000,2,    0.002,2,    0.000,2,   2351.5,2,   2364.9,2,   7.3792,6, -999.000,9, -999.000,   -999.0,9,   -999.0,   4.3361,  27.3290
    49MR0505_1,   P03,    46,  1,     23, X12035,2,20051106,0515, 25.2143,-128.8245, 4675,   1001.1,2,   4.1122,2,   4.11259,2,  34.4928,2,  34.4927,6,    26.14,1,    26.68,2,   1000.9,2,    27.37,2,    27.10,2,   111.68,2,     0.36,    43.38,2,     0.15,     0.00,2,     0.01,    3.207,2,    0.018,    0.000,2,    0.001,2,    0.000,2,   2355.4,2,   2367.6,2,   7.3881,2, -999.000,9, -999.000,   -999.0,9,   -999.0,   4.0356,  27.3790
    49MR0505_1,   P03,    46,  1,     22, X12034,2,20051106,0515, 25.2143,-128.8245, 4675,   1203.0,2,   3.5275,2,   3.52769,2,  34.5288,2,  34.5285,2,    35.13,1,    35.86,2,   1202.9,2,    37.20,2,    36.60,2,   125.11,2,     0.39,    43.26,2,     0.15,     0.00,2,     0.01,    3.176,2,    0.018,    0.000,2,    0.000,2,    0.000,2,   2362.9,2,   2381.2,2,   7.4030,2, -999.000,9, -999.000,   -999.0,9,   -999.0,   3.4390,  27.4676
    49MR0505_1,   P03,    46,  1,     21, X12033,2,20051106,0515, 25.2143,-128.8245, 4675,   1401.9,2,   3.1103,2,   3.11020,2,  34.5574,2,  34.5573,2,    42.59,1,    43.76,2,   1399.9,2,    45.80,2,    44.39,2,   136.19,2,     0.42,    42.85,2,     0.15,     0.01,2,     0.01,    3.147,2,    0.018,    0.001,2,    0.002,2,    0.000,2,   2371.0,2,   2397.2,2,   7.4157,2, -999.000,9, -999.000,   -999.0,9,   -999.0,   3.0094,  27.5309
    49MR0505_1,   P03,    46,  1,     20, X12032,2,20051106,0515, 25.2143,-128.8245, 4675,   1600.2,2,   2.7118,2,   2.71182,2,  34.5858,2,  34.5860,2,    53.71,1,    55.51,2,   1599.6,2,    56.83,2,    56.42,2,   145.48,2,     0.44,    42.15,2,     0.15,     0.01,2,     0.01,    3.083,2,    0.018,    0.011,2,    0.000,2,    0.000,2,   2371.9,2,   2402.9,2,   7.4360,6, -999.000,9, -999.000,   -999.0,9,   -999.0,   2.5990,  27.5902
    49MR0505_1,   P03,    46,  1,     19, X12001,2,20051106,0515, 25.2143,-128.8245, 4675,   1800.7,2,   2.4113,2,   2.41154,2,  34.6094,2,  34.6095,2,    66.04,1,    68.71,2,   1801.1,2,    68.05,2,    69.23,2,   151.81,2,     0.45,    41.40,2,     0.15,     0.01,2,     0.01,    2.997,2,    0.017,    0.029,2,    0.000,2,    0.000,2,   2371.5,2,   2411.5,2,   7.4591,2, -999.000,9, -999.000,   -999.0,9,   -999.0,   2.2857,  27.6356
    49MR0505_1,   P03,    46,  1,     18, X12030,2,20051106,0515, 25.2143,-128.8245, 4675,   1999.8,2,   2.1868,2,   2.18673,2,  34.6261,2,  34.6264,6,    76.98,1,    80.44,2,   2000.4,2,    79.93,2,    80.97,2,   155.51,2,     0.46,    40.87,2,     0.15,     0.00,2,     0.01,    2.915,2,    0.017,    0.003,2,    0.000,2,    0.000,2,   2370.2,2,   2413.7,2,   7.4818,2, -999.000,9, -999.000,   -999.0,9,   -999.0,   2.0476,  27.6683
    49MR0505_1,   P03,    46,  1,     17, X12049,2,20051106,0515, 25.2143,-128.8245, 4675,   2200.1,2,   1.9796,2,   1.97961,2,  34.6411,2,  34.6414,2,    88.02,1,    92.29,2,   2201.5,2,    90.49,2,    92.70,2,   159.25,2,     0.47,    40.07,2,     0.14,     0.01,2,     0.01,    2.857,2,    0.017, -999.000,9, -999.000,9, -999.000,9,   2366.5,2,   2422.1,2,   7.5037,2, -999.000,9, -999.000,   -999.0,9,   -999.0,   1.8264,  27.6977
    49MR0505_1,   P03,    46,  1,     16, X12028,2,20051106,0515, 25.2143,-128.8245, 4675,   2401.0,2,   1.8303,2,   1.83035,2,  34.6500,2,  34.6499,2,    96.18,1,   100.83,2,   2402.3,2,    99.30,2,   101.21,2,   162.50,2,     0.48,    39.47,2,     0.14,     0.01,2,     0.01,    2.805,2,    0.017, -999.000,9, -999.000,9, -999.000,9,   2363.3,6,   2420.4,3,   7.5170,2, -999.000,9, -999.000,   -999.0,9,   -999.0,   1.6620,  27.7173
    49MR0505_1,   P03,    46,  1,     15, X12006,2,20051106,0515, 25.2143,-128.8245, 4675,   2599.5,2,   1.7301,2,   1.73005,2,  34.6568,2,  34.6568,2,   102.01,1,   107.05,2,   2600.0,2,   106.52,2,   107.57,2,   165.07,2,     0.48,    39.13,2,     0.14,     0.01,2,     0.01,    2.767,2,    0.017, -999.000,9, -999.000,9, -999.000,9,   2359.5,2,   2432.0,2,   7.5280,2, -999.000,9, -999.000,   -999.0,9,   -999.0,   1.5459,  27.7314
    49MR0505_1,   P03,    46,  1,     14, X12026,2,20051106,0515, 25.2143,-128.8245, 4675,   2800.8,2,   1.6253,2,   1.62529,2,  34.6637,2,  34.6636,2,   109.08,1,   114.49,2,   2801.6,2,   113.12,2,   114.90,2,   167.39,2,     0.49,    38.65,2,     0.14,     0.00,2,     0.01,    2.724,2,    0.017, -999.000,9, -999.000,9, -999.000,9,   2356.3,2,   2425.3,2,   7.5399,2, -999.000,9, -999.000,   -999.0,9,   -999.0,   1.4246,  27.7458
    49MR0505_1,   P03,    46,  1,     13, X12025,2,20051106,0515, 25.2143,-128.8245, 4675,   2999.7,2,   1.5661,2,   1.56611,2,  34.6687,2,  34.6689,6,   114.38,1,   120.15,2,   3000.2,2,   119.41,2,   120.51,2,   168.51,2,     0.49,    38.22,2,     0.14,     0.00,2,     0.01,    2.696,2,    0.017, -999.000,9, -999.000,9, -999.000,9,   2356.2,3,   2425.0,2,   7.5500,2, -999.000,9, -999.000,   -999.0,9,   -999.0,   1.3479,  27.7552
    49MR0505_1,   P03,    46,  1,     12, X12024,2,20051106,0515, 25.2143,-128.8245, 4675,   3250.4,2,   1.5072,2,   1.50719,2,  34.6757,2,  34.6758,2,   122.75,1,   128.83,2,   3250.5,2,   128.49,2,   129.16,2,   166.43,2,     0.49,    37.72,2,     0.14,     0.00,2,     0.01,    2.638,2,    0.017, -999.000,9, -999.000,9, -999.000,9,   2347.7,2,   2425.0,2,   7.5651,2, -999.000,9, -999.000,   -999.0,9,   -999.0,   1.2660,  27.7666
    49MR0505_1,   P03,    46,  1,     11, X12023,2,20051106,0515, 25.2143,-128.8245, 4675,   3501.2,2,   1.4888,2,   1.48883,2,  34.6799,2,  34.6800,2,   128.29,1,   134.39,2,   3501.0,2,   135.02,2,   134.84,2,   165.07,2,     0.48,    37.35,2,     0.14,     0.00,2,     0.01,    2.615,2,    0.017, -999.000,9, -999.000,9, -999.000,9,   2343.5,2,   2427.3,2,   7.5741,2, -999.000,9, -999.000,   -999.0,9,   -999.0,   1.2228,  27.7730
    49MR0505_1,   P03,    46,  1,     10, X12022,2,20051106,0515, 25.2143,-128.8245, 4675,   3751.3,2,   1.4918,2,   1.49168,2,  34.6824,2,  34.6825,2,   132.21,1,   138.16,2,   3751.2,2,   138.73,2,   138.57,2,   163.58,2,     0.48,    37.15,2,     0.14,     0.01,2,     0.01,    2.600,2,    0.016, -999.000,9, -999.000,9, -999.000,9,   2340.5,2,   2424.4,2,   7.5808,2, -999.000,9, -999.000,   -999.0,9,   -999.0,   1.1998,  27.7766
    49MR0505_1,   P03,    46,  1,      9, X12021,2,20051106,0515, 25.2143,-128.8245, 4675,   3999.5,2,   1.5049,2,   1.50487,2,  34.6843,2,  34.6842,6,   134.89,1,   140.52,2,   3999.6,2,   141.00,2,   140.99,2,   162.14,2,     0.48,    36.93,2,     0.14,     0.01,2,     0.01,    2.576,2,    0.016, -999.000,9, -999.000,9, -999.000,9,   2339.7,2,   2424.4,2,   7.5849,2, -999.000,9, -999.000,   -999.0,9,   -999.0,   1.1859,  27.7791
    49MR0505_1,   P03,    46,  1,      8, X12020,2,20051106,0515, 25.2143,-128.8245, 4675,   4252.0,2,   1.5266,2,   1.52657,2,  34.6849,2,  34.6844,2,   136.89,1,   142.08,2,   4252.1,2,   142.63,2,   142.61,2,   161.25,2,     0.47,    36.86,2,     0.14,     0.01,2,     0.01,    2.579,2,    0.016, -999.000,9, -999.000,9, -999.000,9,   2338.7,2,   2428.8,2,   7.5869,2, -999.000,9, -999.000,   -999.0,9,   -999.0,   1.1791,  27.7800
    49MR0505_1,   P03,    46,  1,      7, X12019,2,20051106,0515, 25.2143,-128.8245, 4675,   4500.0,2,   1.5506,2,   1.55042,2,  34.6852,2,  34.6852,2,   138.67,1,   143.41,2,   4500.2,2,   143.59,2,   143.83,2,   159.84,2,     0.47,    36.69,2,     0.14,     0.00,2,     0.01,    2.570,2,    0.016, -999.000,9, -999.000,9, -999.000,9,   2336.1,2,   2427.0,6,   7.5889,2, -999.000,9, -999.000,   -999.0,9,   -999.0,   1.1741,  27.7807
    49MR0505_1,   P03,    46,  1,      6, X12018,2,20051106,0515, 25.2143,-128.8245, 4675,   4748.7,2,   1.5707,2,   1.57058,2,  34.6860,2,  34.6860,2,   141.46,1,   145.10,2,   4748.7,2,   146.23,2,   145.80,2,   158.40,2,     0.47,    36.61,2,     0.14,     0.01,2,     0.01,    2.556,2,    0.016, -999.000,9, -999.000,9, -999.000,9,   2337.3,2,   2426.1,2,   7.5912,6, -999.000,9, -999.000,   -999.0,9,   -999.0,   1.1644,  27.7819
    49MR0505_1,   P03,    46,  1,      5, X12043,9,20051106,0515, 25.2143,-128.8245, 4675,   3000.1,2,   1.5666,2,   1.56650,2,  34.6686,2,-999.0000,9,   114.39,1,   120.15,2,   3000.6,2,   119.42,2,  -999.00,9,  -999.00,9,  -999.00,  -999.00,9,  -999.00,  -999.00,9,  -999.00, -999.000,9, -999.000, -999.000,9, -999.000,9, -999.000,9,   -999.0,9,   -999.0,9,-999.0000,9, -999.000,9, -999.000,   -999.0,9,   -999.0,   1.3484,  27.7551
    49MR0505_1,   P03,    46,  1,      4, X12010,9,20051106,0515, 25.2143,-128.8245, 4675,   3251.2,2,   1.5056,2,   1.50553,2,  34.6759,2,-999.0000,9,   122.80,1,   128.87,2,   3251.4,2,   128.54,2,  -999.00,9,  -999.00,9,  -999.00,  -999.00,9,  -999.00,  -999.00,9,  -999.00, -999.000,9, -999.000, -999.000,9, -999.000,9, -999.000,9,   -999.0,9,   -999.0,9,-999.0000,9, -999.000,9, -999.000,   -999.0,9,   -999.0,   1.2643,  27.7669
    49MR0505_1,   P03,    46,  1,      3, X12015,9,20051106,0515, 25.2143,-128.8245, 4675,     50.3,2,  21.2367,2,  21.23751,2,  34.5054,2,-999.0000,9,   215.20,1,   225.52,2,     48.2,2,   226.55,2,  -999.00,9,  -999.00,9,  -999.00,  -999.00,9,  -999.00,  -999.00,9,  -999.00, -999.000,9, -999.000, -999.000,9, -999.000,9, -999.000,9,   -999.0,9,   -999.0,9,-999.0000,9, -999.000,9, -999.000,   -999.0,9,   -999.0,  21.2270,  24.0556
    49MR0505_1,   P03,    46,  1,      2, X12014,9,20051106,0515, 25.2143,-128.8245, 4675,     10.5,2,  21.1023,2,  21.10238,2,  34.4357,2,-999.0000,9,   215.94,1,   225.94,2,      8.6,2,   225.57,2,  -999.00,9,  -999.00,9,  -999.00,  -999.00,9,  -999.00,  -999.00,9,  -999.00, -999.000,9, -999.000, -999.000,9, -999.000,9, -999.000,9,   -999.0,9,   -999.0,9,-999.0000,9, -999.000,9, -999.000,   -999.0,9,   -999.0,  21.1003,  24.0371
    49MR0505_1,   P03,    46,  1,      1, X12013,2,20051106,0515, 25.2143,-128.8245, 4675,   4805.5,2,   1.5778,2,   1.57783,2,  34.6860,2,  34.6859,6,   141.91,1,   145.63,2,   4805.5,2,   146.09,2,   145.71,2,   158.20,2,     0.47,    36.66,2,     0.14,     0.00,2,     0.01,    2.562,2,    0.016, -999.000,9, -999.000,9, -999.000,9,   2334.4,2,   2425.8,2,   7.5902,2, -999.000,9, -999.000,   -999.0,9,   -999.0,   1.1645,  27.7819