BOTTLE,20100316JAMSTECRIGC
EXPOCODE,SECT,STNNBR,CASTNO,SAMPNO,BTLNBR,BTLNBR_FLAG_W,DATE,TIME,LATITUDE,LONGITUDE,DEPTH,CTDPRS,CTDPRS_FLAG_W,CTDTMP,CTDTMP_FLAG_W,SBE35,SBE35_FLAG_W,CTDSAL,CTDSAL_FLAG_W,SALNTY,SALNTY_FLAG_W,CTDOXY,CTDOXY_FLAG_W,OPTOXY,OPTOXY_FLAG_W,DWNPRS,DWNPRS_FLAG_W,DWNOXY,DWNOXY_FLAG_W,OXYGEN,OXYGEN_FLAG_W,SILCAT,SILCAT_FLAG_W,SILUNC,NITRAT,NITRAT_FLAG_W,NRAUNC,NITRIT,NITRIT_FLAG_W,NRIUNC,PHSPHT,PHSPHT_FLAG_W,PHPUNC,CFC-11,CFC-11_FLAG_W,CFC-12,CFC-12_FLAG_W,CFC113,CFC113_FLAG_W,TCARBN,TCARBN_FLAG_W,ALKALI,ALKALI_FLAG_W,PH,PH_FLAG_W,DELC13,DELC13_FLAG_W,C13ERR,DELC14,DELC14_FLAG_W,C14ERR,THETA,SIG0
,,,,,,,,UTC,DEG,DEG,M,DBAR,,ITS-90,,ITS-90,,PSS-78,,PSS-78,,UMOL/KG,,UMOL/KG,,DBAR,,UMOL/KG,,UMOL/KG,,UMOL/KG,,UMOL/KG,UMOL/KG,,UMOL/KG,UMOL/KG,,UMOL/KG,UMOL/KG,,UMOL/KG,PMOL/KG,,PMOL/KG,,PMOL/KG,,UMOL/KG,,UMOL/KG,,,,/MILLE,,/MILLE,/MILLE,,/MILLE,DEG C,KG/CUM
    49MR0505_1,   P03,    26,  1,      0,   -999,9,20051103,0727, 30.4782,-122.0330, 3854,   -999.0,9,-999.0000,9,-999.00000,9,-999.0000,9,  33.1829,2,  -999.00,9,  -999.00,9,   -999.0,9,  -999.00,9,  -999.00,9,  -999.00,9,  -999.00,  -999.00,9,  -999.00,  -999.00,9,  -999.00, -999.000,9, -999.000, -999.000,9, -999.000,9, -999.000,9,   -999.0,9,   -999.0,9,-999.0000,9, -999.000,9, -999.000,   -999.0,9,   -999.0,-999.0000,-999.0000
    49MR0505_1,   P03,    26,  1,     36, X12048,2,20051103,0727, 30.4782,-122.0330, 3854,      9.8,2,  18.2391,2,  18.23914,2,  33.1667,2,  33.1657,2,   232.35,1,   241.61,2,     10.0,2,   240.18,2,   240.17,2,     2.08,2,     0.12,     0.03,2,     0.03,     0.00,2,     0.01,    0.293,2,    0.014,    2.323,2,    1.358,2, -999.000,5,   -999.0,9,   -999.0,9,-999.0000,9, -999.000,9, -999.000,   -999.0,9,   -999.0,  18.2374,  23.8104
    49MR0505_1,   P03,    26,  1,     35, X12047,2,20051103,0727, 30.4782,-122.0330, 3854,     50.5,2,  16.9260,2,  16.91833,2,  33.0937,2,  33.1060,2,   240.69,1,   250.08,2,     56.3,2,   247.27,2,   249.31,2,     1.75,2,     0.12,     0.03,2,     0.03,     0.01,2,     0.01,    0.311,2,    0.014,    2.493,2,    1.431,2, -999.000,5,   -999.0,9,   -999.0,9,-999.0000,9, -999.000,9, -999.000,   -999.0,9,   -999.0,  16.9178,  24.0708
    49MR0505_1,   P03,    26,  1,     34, X12046,2,20051103,0727, 30.4782,-122.0330, 3854,    100.1,2,  14.0862,2,  14.09332,2,  33.4911,2,  33.4797,2,   232.42,1,   240.05,2,    101.1,2,   233.99,2,   238.64,2,     3.39,2,     0.13,     1.61,2,     0.04,     0.17,2,     0.01,    0.439,2,    0.013,    2.889,2,    1.642,2, -999.000,5,   -999.0,9,   -999.0,9,-999.0000,9, -999.000,9, -999.000,   -999.0,9,   -999.0,  14.0719,  25.0062
    49MR0505_1,   P03,    26,  1,     33, X12003,2,20051103,0727, 30.4782,-122.0330, 3854,    149.8,2,  10.2679,2,  10.26925,2,  33.5179,2,  33.5186,2,   193.79,1,   198.48,2,    154.0,2,   196.00,2,   198.85,2,    13.42,2,     0.15,    14.54,2,     0.07,     0.01,2,     0.01,    1.200,2,    0.013,    3.335,2,    1.789,2,    0.187,2,   -999.0,9,   -999.0,9,-999.0000,9, -999.000,9, -999.000,   -999.0,9,   -999.0,  10.2506,  25.7523
    49MR0505_1,   P03,    26,  1,     32, X12044,2,20051103,0727, 30.4782,-122.0330, 3854,    200.2,2,   8.9496,2,   8.94958,2,  33.9047,2,  33.9102,2,   141.83,1,   146.21,2,    206.9,2,   149.22,2,   146.32,2,    26.88,2,     0.18,    23.51,2,     0.10,     0.01,2,     0.01,    1.769,2,    0.015,    3.006,2,    1.527,2,    0.120,2,   -999.0,9,   -999.0,9,-999.0000,9, -999.000,9, -999.000,   -999.0,9,   -999.0,   8.9282,  26.2718
    49MR0505_1,   P03,    26,  1,     31, X12051,2,20051103,0727, 30.4782,-122.0330, 3854,    252.5,2,   8.3430,2,   8.34229,2,  34.0194,2,  34.0191,2,   122.87,1,   125.48,2,    253.1,2,   128.36,2,   125.01,2,    34.20,2,     0.19,    26.72,2,     0.11,     0.01,2,     0.01,    1.977,2,    0.015,    2.670,6,    1.320,6,    0.109,6,   -999.0,9,   -999.0,9,-999.0000,9, -999.000,9, -999.000,   -999.0,9,   -999.0,   8.3171,  26.4562
    49MR0505_1,   P03,    26,  1,     30, X12042,2,20051103,0727, 30.4782,-122.0330, 3854,    300.6,2,   7.6097,2,   7.60815,2,  34.0591,2,  34.0586,2,    87.97,1,    90.20,2,    302.5,2,    90.16,2,    90.13,2,    44.48,2,     0.22,    31.34,2,     0.12,     0.01,2,     0.01,    2.326,2,    0.016,    2.122,2,    1.019,2,    0.092,2,   -999.0,9,   -999.0,9,-999.0000,9, -999.000,9, -999.000,   -999.0,9,   -999.0,   7.5804,  26.5961
    49MR0505_1,   P03,    26,  1,     29, X12041,2,20051103,0727, 30.4782,-122.0330, 3854,    401.5,2,   6.2387,2,   6.23953,2,  34.0918,2,  34.0929,2,    53.32,1,    54.37,2,    403.1,2,    54.39,2,    54.28,2,    63.49,2,     0.26,    36.79,2,     0.14,     0.01,2,     0.01,    2.749,2,    0.017,    1.051,2,    0.486,2,    0.045,2,   -999.0,9,   -999.0,9,-999.0000,9, -999.000,9, -999.000,   -999.0,9,   -999.0,   6.2034,  26.8091
    49MR0505_1,   P03,    26,  1,     28, X12016,2,20051103,0727, 30.4782,-122.0330, 3854,    500.4,2,   5.5512,2,   5.55031,2,  34.1934,2,  34.1935,6,    24.92,1,    25.08,2,    504.4,2,    29.14,2,    25.35,2,    79.86,2,     0.29,    40.01,2,     0.14,     0.00,2,     0.01,    3.035,2,    0.018,    0.293,2,    0.143,2,    0.012,2,   -999.0,9,   -999.0,9,-999.0000,9, -999.000,9, -999.000,   -999.0,9,   -999.0,   5.5095,  26.9758
    49MR0505_1,   P03,    26,  1,     27, X12039,2,20051103,0727, 30.4782,-122.0330, 3854,    601.1,2,   5.2416,2,   5.24471,2,  34.2946,2,  34.2981,2,    12.99,1,    12.92,2,    603.4,2,    13.33,2,    13.13,2,    89.48,2,     0.32,    41.41,2,     0.15,     0.00,2,     0.01,    3.176,2,    0.018,    0.068,2,    0.034,2,    0.000,2,   -999.0,9,   -999.0,9,-999.0000,9, -999.000,9, -999.000,   -999.0,9,   -999.0,   5.1923,  27.0937
    49MR0505_1,   P03,    26,  1,     26, X12038,2,20051103,0727, 30.4782,-122.0330, 3854,    703.8,2,   4.8388,2,   4.83875,2,  34.3737,2,  34.3720,2,    10.49,1,    10.41,2,    706.4,2,    10.51,2,    10.49,2,    98.80,2,     0.34,    42.37,2,     0.15,     0.00,2,     0.01,    3.233,2,    0.018,    0.033,2,    0.022,2,    0.000,2,   -999.0,9,   -999.0,9,-999.0000,9, -999.000,9, -999.000,   -999.0,9,   -999.0,   4.7827,  27.2034
    49MR0505_1,   P03,    26,  1,     25, X12037,2,20051103,0727, 30.4782,-122.0330, 3854,    801.3,2,   4.4731,2,   4.47314,2,  34.4205,2,  34.4197,2,    13.96,1,    13.78,2,    803.0,2,    13.51,2,    14.17,2,   106.48,2,     0.35,    43.06,2,     0.15,     0.00,2,     0.01,    3.246,2,    0.018,    0.016,6,    0.012,6,    0.000,6,   -999.0,9,   -999.0,9,-999.0000,9, -999.000,9, -999.000,   -999.0,9,   -999.0,   4.4108,  27.2817
    49MR0505_1,   P03,    26,  1,     24, X12008,2,20051103,0727, 30.4782,-122.0330, 3854,    900.1,2,   4.1148,2,   4.11448,2,  34.4490,2,  34.4488,2,    18.20,1,    18.06,2,    902.0,2,    18.28,2,    18.63,2,   113.90,2,     0.37,    43.36,2,     0.15,     0.00,2,     0.01,    3.234,2,    0.018,    0.017,2,    0.013,2,    0.015,2,   -999.0,9,   -999.0,9,-999.0000,9, -999.000,9, -999.000,   -999.0,9,   -999.0,   4.0467,  27.3430
    49MR0505_1,   P03,    26,  1,     23, X12035,2,20051103,0727, 30.4782,-122.0330, 3854,   1000.6,2,   3.8527,2,   3.85319,2,  34.4793,2,  34.4789,6,    22.78,1,    22.57,2,   1001.8,2,    22.45,2,    23.24,2,   120.23,2,     0.38,    43.43,2,     0.15,     0.01,2,     0.01,    3.227,2,    0.018,    0.016,2,    0.007,2,    0.000,2,   -999.0,9,   -999.0,9,-999.0000,9, -999.000,9, -999.000,   -999.0,9,   -999.0,   3.7782,  27.3946
    49MR0505_1,   P03,    26,  1,     22, X12034,2,20051103,0727, 30.4782,-122.0330, 3854,   1200.3,2,   3.3834,2,   3.38322,2,  34.5248,2,  34.5249,2,    33.63,1,    33.51,2,   1200.0,2,    34.34,2,    34.39,2,   130.94,2,     0.41,    43.25,2,     0.15,     0.00,2,     0.01,    3.186,2,    0.018, -999.000,9, -999.000,9, -999.000,9,   -999.0,9,   -999.0,9,-999.0000,9, -999.000,9, -999.000,   -999.0,9,   -999.0,   3.2964,  27.4781
    49MR0505_1,   P03,    26,  1,     21, X12033,2,20051103,0727, 30.4782,-122.0330, 3854,   1399.0,2,   2.9929,2,   2.99261,2,  34.5540,2,  34.5542,2,    42.50,1,    42.76,2,   1397.8,2,    44.07,2,    43.61,2,   141.10,2,     0.43,    42.85,2,     0.15,     0.00,2,     0.01,    3.140,2,    0.018,    0.011,2,    0.011,2,    0.000,2,   -999.0,9,   -999.0,9,-999.0000,9, -999.000,9, -999.000,   -999.0,9,   -999.0,   2.8935,  27.5387
    49MR0505_1,   P03,    26,  1,     20, X12032,2,20051103,0727, 30.4782,-122.0330, 3854,   1599.5,2,   2.5742,2,   2.57400,2,  34.5865,2,  34.5870,2,    55.86,1,    56.72,2,   1600.2,2,    56.32,2,    57.63,2,   150.74,2,     0.45,    42.09,2,     0.15,     0.00,2,     0.01,    3.060,2,    0.018, -999.000,9, -999.000,9, -999.000,9,   -999.0,9,   -999.0,9,-999.0000,9, -999.000,9, -999.000,   -999.0,9,   -999.0,   2.4632,  27.6024
    49MR0505_1,   P03,    26,  1,     19, X12001,2,20051103,0727, 30.4782,-122.0330, 3854,   1800.0,2,   2.2781,2,   2.27780,2,  34.6088,2,  34.6089,6,    67.82,1,    69.41,2,   1800.1,2,    69.80,2,    69.86,2,   157.47,2,     0.47,    41.34,2,     0.15,     0.01,2,     0.01,    2.983,2,    0.017,    0.000,2,    0.000,2,    0.000,2,   -999.0,9,   -999.0,9,-999.0000,9, -999.000,9, -999.000,   -999.0,9,   -999.0,   2.1544,  27.6459
    49MR0505_1,   P03,    26,  1,     18, X12030,2,20051103,0727, 30.4782,-122.0330, 3854,   2001.1,2,   2.0959,2,   2.09589,2,  34.6278,2,  34.6280,2,    79.31,1,    81.28,2,   2000.3,2,    82.58,2,    81.70,2,   160.03,2,     0.47,    40.62,2,     0.15,     0.00,2,     0.01,    2.922,2,    0.017, -999.000,9, -999.000,9, -999.000,9,   -999.0,9,   -999.0,9,-999.0000,9, -999.000,9, -999.000,   -999.0,9,   -999.0,   1.9579,  27.6768
    49MR0505_1,   P03,    26,  1,     17, X12049,2,20051103,0727, 30.4782,-122.0330, 3854,   2200.2,2,   1.9445,2,   1.94441,2,  34.6422,2,  34.6421,2,    89.43,1,    91.88,2,   2200.1,2,    92.19,2,    92.21,2,   161.96,2,     0.48,    39.94,2,     0.14,     0.00,2,     0.01,    2.861,2,    0.017,    0.000,2,    0.001,2,    0.000,2,   -999.0,9,   -999.0,9,-999.0000,9, -999.000,9, -999.000,   -999.0,9,   -999.0,   1.7919,  27.7012
    49MR0505_1,   P03,    26,  1,     16, X12028,2,20051103,0727, 30.4782,-122.0330, 3854,   2400.4,2,   1.8049,2,   1.80470,2,  34.6528,2,  34.6533,6,    98.82,1,   101.58,2,   2400.6,2,   101.49,2,   102.08,2,   164.17,2,     0.48,    39.33,2,     0.14,     0.00,2,     0.01,    2.804,2,    0.017, -999.000,9, -999.000,9, -999.000,9,   -999.0,9,   -999.0,9,-999.0000,9, -999.000,9, -999.000,   -999.0,9,   -999.0,   1.6371,  27.7214
    49MR0505_1,   P03,    26,  1,     15, X12006,2,20051103,0727, 30.4782,-122.0330, 3854,   2601.1,2,   1.7332,2,   1.73304,2,  34.6594,2,  34.6589,2,   104.72,1,   107.46,2,   2600.8,2,   108.43,2,   108.07,2,   165.10,2,     0.48,    38.95,2,     0.14,     0.00,2,     0.01,    2.769,2,    0.017,    0.000,2,    0.000,2,    0.000,2,   -999.0,9,   -999.0,9,-999.0000,9, -999.000,9, -999.000,   -999.0,9,   -999.0,   1.5488,  27.7333
    49MR0505_1,   P03,    26,  1,     14, X12026,2,20051103,0727, 30.4782,-122.0330, 3854,   2801.4,2,   1.6935,2,   1.69347,2,  34.6633,2,  34.6636,2,   108.76,1,   111.48,2,   2801.5,2,   111.91,2,   112.14,2,   165.57,2,     0.48,    38.73,2,     0.14,     0.00,2,     0.01,    2.744,2,    0.017, -999.000,9, -999.000,9, -999.000,9,   -999.0,9,   -999.0,9,-999.0000,9, -999.000,9, -999.000,   -999.0,9,   -999.0,   1.4914,  27.7406
    49MR0505_1,   P03,    26,  1,     13, X12025,2,20051103,0727, 30.4782,-122.0330, 3854,   3001.7,2,   1.6551,2,   1.65510,2,  34.6670,2,  34.6669,2,   112.71,1,   115.48,2,   3002.1,2,   115.49,2,   116.00,2,   166.41,2,     0.49,    38.54,2,     0.14,     0.00,2,     0.01,    2.722,2,    0.017,    0.007,2,    0.002,2,    0.000,2,   -999.0,9,   -999.0,9,-999.0000,9, -999.000,9, -999.000,   -999.0,9,   -999.0,   1.4348,  27.7477
    49MR0505_1,   P03,    26,  1,     12, X12024,2,20051103,0727, 30.4782,-122.0330, 3854,   3252.6,2,   1.5885,2,   1.58859,2,  34.6727,2,  34.6727,6,   119.27,1,   121.94,2,   3252.9,2,   122.42,2,   122.43,2,   167.57,2,     0.49,    38.21,2,     0.14,     0.00,2,     0.01,    2.689,2,    0.017, -999.000,9, -999.000,9, -999.000,9,   -999.0,9,   -999.0,9,-999.0000,9, -999.000,9, -999.000,   -999.0,9,   -999.0,   1.3452,  27.7587
    49MR0505_1,   P03,    26,  1,     11, X12023,2,20051103,0727, 30.4782,-122.0330, 3854,   3499.9,2,   1.5625,2,   1.56237,2,  34.6761,2,  34.6759,2,   123.79,1,   126.19,2,   3500.0,2,   126.89,2,   126.67,2,   167.77,2,     0.49,    37.80,2,     0.14,     0.00,2,     0.01,    2.664,2,    0.017,    0.010,2,    0.006,2,    0.000,2,   -999.0,9,   -999.0,9,-999.0000,9, -999.000,9, -999.000,   -999.0,9,   -999.0,   1.2948,  27.7650
    49MR0505_1,   P03,    26,  1,     10, X12022,2,20051103,0727, 30.4782,-122.0330, 3854,   3748.1,2,   1.5464,2,   1.54629,2,  34.6791,2,  34.6792,2,   128.09,1,   130.01,2,   3748.4,2,   130.35,2,   130.58,2,   168.09,2,     0.49,    37.60,2,     0.14,     0.00,2,     0.01,    2.645,2,    0.017, -999.000,9, -999.000,9, -999.000,9,   -999.0,9,   -999.0,9,-999.0000,9, -999.000,9, -999.000,   -999.0,9,   -999.0,   1.2533,  27.7702
    49MR0505_1,   P03,    26,  1,      9, X12021,9,20051103,0727, 30.4782,-122.0330, 3854,    401.2,2,   6.2391,2,   6.23779,2,  34.0917,2,-999.0000,9,    53.30,1,    54.53,2,    402.9,2,    54.42,2,  -999.00,9,  -999.00,9,  -999.00,  -999.00,9,  -999.00,  -999.00,9,  -999.00, -999.000,9, -999.000, -999.000,9, -999.000,9, -999.000,9,   -999.0,9,   -999.0,9,-999.0000,9, -999.000,9, -999.000,   -999.0,9,   -999.0,   6.2039,  26.8090
    49MR0505_1,   P03,    26,  1,      8, X12020,9,20051103,0727, 30.4782,-122.0330, 3854,    300.3,2,   7.6063,2,   7.60602,2,  34.0595,2,-999.0000,9,    88.00,1,    90.25,2,    302.4,2,    90.21,2,  -999.00,9,  -999.00,9,  -999.00,  -999.00,9,  -999.00,  -999.00,9,  -999.00, -999.000,9, -999.000, -999.000,9, -999.000,9, -999.000,9,   -999.0,9,   -999.0,9,-999.0000,9, -999.000,9, -999.000,   -999.0,9,   -999.0,   7.5770,  26.5969
    49MR0505_1,   P03,    26,  1,      7, X12019,9,20051103,0727, 30.4782,-122.0330, 3854,    251.7,2,   8.3545,2,   8.35303,2,  34.0190,2,-999.0000,9,   122.53,1,   125.70,2,    252.5,2,   128.95,2,  -999.00,9,  -999.00,9,  -999.00,  -999.00,9,  -999.00,  -999.00,9,  -999.00, -999.000,9, -999.000, -999.000,9, -999.000,9, -999.000,9,   -999.0,9,   -999.0,9,-999.0000,9, -999.000,9, -999.000,   -999.0,9,   -999.0,   8.3286,  26.4541
    49MR0505_1,   P03,    26,  1,      6, X12018,9,20051103,0727, 30.4782,-122.0330, 3854,    200.9,2,   8.9371,2,   8.93928,2,  33.9097,2,-999.0000,9,   141.51,1,   146.15,2,    207.5,2,   148.83,2,  -999.00,9,  -999.00,9,  -999.00,  -999.00,9,  -999.00,  -999.00,9,  -999.00, -999.000,9, -999.000, -999.000,9, -999.000,9, -999.000,9,   -999.0,9,   -999.0,9,-999.0000,9, -999.000,9, -999.000,   -999.0,9,   -999.0,   8.9157,  26.2777
    49MR0505_1,   P03,    26,  1,      5, X12043,9,20051103,0727, 30.4782,-122.0330, 3854,    150.3,2,  10.2546,2,  10.26058,2,  33.5195,2,-999.0000,9,   193.19,1,   198.66,2,    154.3,2,   195.82,2,  -999.00,9,  -999.00,9,  -999.00,  -999.00,9,  -999.00,  -999.00,9,  -999.00, -999.000,9, -999.000, -999.000,9, -999.000,9, -999.000,9,   -999.0,9,   -999.0,9,-999.0000,9, -999.000,9, -999.000,   -999.0,9,   -999.0,  10.2372,  25.7558
    49MR0505_1,   P03,    26,  1,      4, X12010,9,20051103,0727, 30.4782,-122.0330, 3854,    100.6,2,  14.1558,2,  14.13231,2,  33.4927,2,-999.0000,9,   231.90,1,   239.80,2,    100.8,2,   234.84,2,  -999.00,9,  -999.00,9,  -999.00,  -999.00,9,  -999.00,  -999.00,9,  -999.00, -999.000,9, -999.000, -999.000,9, -999.000,9, -999.000,9,   -999.0,9,   -999.0,9,-999.0000,9, -999.000,9, -999.000,   -999.0,9,   -999.0,  14.1414,  24.9930
    49MR0505_1,   P03,    26,  1,      3, X12015,9,20051103,0727, 30.4782,-122.0330, 3854,     50.7,2,  16.9385,2,  16.93852,2,  33.0909,2,-999.0000,9,   240.66,1,   249.83,2,     56.0,2,   247.34,2,  -999.00,9,  -999.00,9,  -999.00,  -999.00,9,  -999.00,  -999.00,9,  -999.00, -999.000,9, -999.000, -999.000,9, -999.000,9, -999.000,9,   -999.0,9,   -999.0,9,-999.0000,9, -999.000,9, -999.000,   -999.0,9,   -999.0,  16.9303,  24.0658
    49MR0505_1,   P03,    26,  1,      2, X12014,9,20051103,0727, 30.4782,-122.0330, 3854,      9.5,2,  18.2380,2,  18.23832,2,  33.1672,2,-999.0000,9,   232.42,1,   241.03,2,      9.8,2,   240.21,2,  -999.00,9,  -999.00,9,  -999.00,  -999.00,9,  -999.00,  -999.00,9,  -999.00, -999.000,9, -999.000, -999.000,9, -999.000,9, -999.000,9,   -999.0,9,   -999.0,9,-999.0000,9, -999.000,9, -999.000,   -999.0,9,   -999.0,  18.2364,  23.8110
    49MR0505_1,   P03,    26,  1,      1, X12013,2,20051103,0727, 30.4782,-122.0330, 3854,   3847.9,2,   1.5478,2,   1.54759,2,  34.6798,2,  34.6803,6,   129.53,1,   131.13,2,   3847.9,2,   131.98,2,   131.54,2,   168.06,2,     0.49,    37.48,2,     0.14,     0.00,2,     0.01,    2.639,2,    0.017,    0.023,2,    0.010,2,    0.002,2,   -999.0,9,   -999.0,9,-999.0000,9, -999.000,9, -999.000,   -999.0,9,   -999.0,   1.2440,  27.7714