BOTTLE,20100316JAMSTECRIGC
EXPOCODE,SECT,STNNBR,CASTNO,SAMPNO,BTLNBR,BTLNBR_FLAG_W,DATE,TIME,LATITUDE,LONGITUDE,DEPTH,CTDPRS,CTDPRS_FLAG_W,CTDTMP,CTDTMP_FLAG_W,SBE35,SBE35_FLAG_W,CTDSAL,CTDSAL_FLAG_W,SALNTY,SALNTY_FLAG_W,CTDOXY,CTDOXY_FLAG_W,OPTOXY,OPTOXY_FLAG_W,DWNPRS,DWNPRS_FLAG_W,DWNOXY,DWNOXY_FLAG_W,OXYGEN,OXYGEN_FLAG_W,SILCAT,SILCAT_FLAG_W,SILUNC,NITRAT,NITRAT_FLAG_W,NRAUNC,NITRIT,NITRIT_FLAG_W,NRIUNC,PHSPHT,PHSPHT_FLAG_W,PHPUNC,CFC-11,CFC-11_FLAG_W,CFC-12,CFC-12_FLAG_W,CFC113,CFC113_FLAG_W,TCARBN,TCARBN_FLAG_W,ALKALI,ALKALI_FLAG_W,PH,PH_FLAG_W,DELC13,DELC13_FLAG_W,C13ERR,DELC14,DELC14_FLAG_W,C14ERR,THETA,SIG0
,,,,,,,,UTC,DEG,DEG,M,DBAR,,ITS-90,,ITS-90,,PSS-78,,PSS-78,,UMOL/KG,,UMOL/KG,,DBAR,,UMOL/KG,,UMOL/KG,,UMOL/KG,,UMOL/KG,UMOL/KG,,UMOL/KG,UMOL/KG,,UMOL/KG,UMOL/KG,,UMOL/KG,PMOL/KG,,PMOL/KG,,PMOL/KG,,UMOL/KG,,UMOL/KG,,,,/MILLE,,/MILLE,/MILLE,,/MILLE,DEG C,KG/CUM
    49MR0505_1,   P03,   114,  1,      0,   -999,9,20051117,0539, 24.2822,-155.9577, 4515,   -999.0,9,-999.0000,9,-999.00000,9,-999.0000,9,  35.2374,2,  -999.00,9,  -999.00,9,   -999.0,9,  -999.00,9,  -999.00,9,  -999.00,9,  -999.00,  -999.00,9,  -999.00,  -999.00,9,  -999.00, -999.000,9, -999.000, -999.000,9, -999.000,9, -999.000,9,   -999.0,9,   -999.0,9,-999.0000,9, -999.000,9, -999.000,   -999.0,9,   -999.0,-999.0000,-999.0000
    49MR0505_1,   P03,   114,  1,     36, X12048,2,20051117,0539, 24.2822,-155.9577, 4515,      9.8,2,  25.1673,2,  25.16603,2,  35.2082,2,  35.2116,2,   191.87,1,   207.77,2,     11.0,2,   208.88,2,   208.49,2,     0.93,2,     0.12,     0.02,2,     0.03,     0.01,2,     0.01,    0.059,2,    0.030,    1.645,2,    1.010,2, -999.000,5,   1984.2,2,   2315.1,2,   8.0997,6,    1.204,2,    0.005,     74.3,2,      3.7,  25.1652,  23.4482
    49MR0505_1,   P03,   114,  1,     35, X12047,2,20051117,0539, 24.2822,-155.9577, 4515,     49.9,2,  25.1043,2,  25.10130,2,  35.3163,2,  35.3215,2,   192.30,1,   208.81,2,     50.9,2,   209.00,2,   208.92,2,     0.87,2,     0.12,     0.03,2,     0.03,     0.01,2,     0.01,    0.038,2,    0.042,    1.657,2,    1.009,2, -999.000,5,   1989.5,6,   2323.3,2,   8.0999,2,    1.195,2,    0.003,     64.3,2,      3.8,  25.0934,  23.5518
    49MR0505_1,   P03,   114,  1,     34, X12046,2,20051117,0539, 24.2822,-155.9577, 4515,    101.1,2,  21.5892,2,  21.58909,2,  35.1800,2,  35.1797,2,   197.21,1,   213.32,2,    107.9,2,   211.65,2,   213.39,2,     1.40,2,     0.12,     0.04,2,     0.03,     0.02,2,     0.01,    0.072,2,    0.027,    2.026,2,    1.207,2, -999.000,5,   2020.0,2,   2311.9,6,   8.0358,2,    0.978,2,    0.006,     92.2,2,      3.8,  21.5695,  24.4746
    49MR0505_1,   P03,   114,  1,     33, X12003,2,20051117,0539, 24.2822,-155.9577, 4515,    151.4,2,  19.0743,2,  19.06949,2,  34.9658,2,  34.9615,2,   183.53,1,   198.20,2,    157.7,2,   196.40,2,   199.32,2,     2.42,2,     0.12,     2.23,2,     0.04,     0.03,2,     0.01,    0.242,2,    0.015,    2.235,2,    1.307,2, -999.000,5,   2044.0,2,   2288.8,2,   7.9728,2,    0.766,2,    0.002,     93.8,2,      3.8,  19.0473,  24.9830
    49MR0505_1,   P03,   114,  1,     32, X12044,2,20051117,0539, 24.2822,-155.9577, 4515,    200.2,2,  16.6557,2,  16.65956,2,  34.7403,2,  34.7380,2,   199.42,1,   214.76,2,    202.9,2,   215.60,2,   215.68,2,     3.89,2,     0.13,     2.92,2,     0.04,     0.02,2,     0.01,    0.294,2,    0.014,    2.438,2,    1.416,2, -999.000,5,   2038.4,4,   2279.9,2,   7.9556,2,    0.684,6,    0.005,     87.1,6,      7.8,  16.6232,  25.4038
    49MR0505_1,   P03,   114,  1,     31, X12051,2,20051117,0539, 24.2822,-155.9577, 4515,    248.8,2,  14.9377,2,  14.92723,2,  34.5532,2,  34.5585,2,   196.36,1,   211.80,2,    251.4,2,   213.80,2,   212.79,2,     6.09,2,     0.13,     6.19,2,     0.05,     0.01,2,     0.01,    0.496,2,    0.013,    2.591,6,    1.484,6, -999.000,5,   2051.5,2,   2276.8,2,   7.9146,2,    0.576,2,    0.003,     87.1,2,      3.7,  14.9002,  25.6492
    49MR0505_1,   P03,   114,  1,     30, X12042,2,20051117,0539, 24.2822,-155.9577, 4515,    301.0,2,  13.2743,2,  13.27159,2,  34.3964,2,  34.3931,2,   194.16,1,   208.74,2,    305.7,2,   209.58,2,   209.65,2,     9.69,2,     0.14,     9.61,2,     0.06,     0.01,2,     0.01,    0.721,2,    0.013,    2.747,2,    1.539,2,    0.090,2,   2070.5,2,   2265.8,2,   7.8657,2,    0.483,2,    0.003,     77.2,2,      4.0,  13.2324,  25.8785
    49MR0505_1,   P03,   114,  1,     29, X12041,2,20051117,0539, 24.2822,-155.9577, 4515,    399.2,2,  10.3974,2,  10.39794,2,  34.1633,2,  34.1601,2,   186.76,1,   200.83,2,    406.9,2,   204.96,2,   200.61,2,    18.14,2,     0.16,    15.73,2,     0.08,     0.01,2,     0.01,    1.159,2,    0.013,    2.938,2,    1.576,2,    0.108,2,   2110.4,2,   2259.8,2,   7.7723,2,    0.355,2,    0.002,     55.0,2,      3.7,  10.3499,  26.2387
    49MR0505_1,   P03,   114,  1,     28, X12016,2,20051117,0539, 24.2822,-155.9577, 4515,    500.4,2,   7.8151,2,   7.81456,2,  34.0549,2,  34.0547,6,   131.13,1,   141.54,2,    502.9,2,   145.95,2,   141.50,2,    38.66,2,     0.20,    26.44,2,     0.11,     0.01,2,     0.01,    1.932,2,    0.015,    2.291,2,    1.120,2,    0.095,2,   2188.1,2,   2275.9,2,   7.6029,2,    0.018,2,    0.004,      5.0,2,      3.6,   7.7649,  26.5661
    49MR0505_1,   P03,   114,  1,     27, X12039,2,20051117,0539, 24.2822,-155.9577, 4515,    600.1,2,   6.0365,2,   6.04683,2,  34.0487,2,  34.0495,2,    78.30,1,    84.93,2,    600.4,2,    89.68,2,    84.42,2,    62.04,2,     0.26,    34.68,2,     0.13,     0.01,2,     0.01,    2.554,2,    0.016,    1.097,2,    0.536,2,    0.043,2,   2252.2,2,   2289.5,2,   7.4617,2,   -0.373,2,    0.006,    -48.1,2,      3.3,   5.9839,  26.8030
    49MR0505_1,   P03,   114,  1,     26, X12038,2,20051117,0539, 24.2822,-155.9577, 4515,    699.7,2,   4.9766,2,   4.97481,2,  34.1074,2,  34.1097,2,    47.57,1,    51.13,2,    698.9,2,    50.83,2,    50.84,2,    84.62,2,     0.31,    39.47,2,     0.14,     0.01,2,     0.01,    2.892,2,    0.017,    0.428,2,    0.222,2,    0.026,2,   2298.5,6,   2317.3,2,   7.3891,2,   -0.529,2,    0.003,   -115.7,2,      3.2,   4.9204,  26.9766
    49MR0505_1,   P03,   114,  1,     25, X12037,2,20051117,0539, 24.2822,-155.9577, 4515,    800.4,2,   4.6142,2,   4.61439,2,  34.2835,2,  34.2854,2,    21.13,1,    23.29,2,    801.1,2,    23.52,2,    22.72,2,    98.91,2,     0.34,    42.30,2,     0.15,     0.01,2,     0.01,    3.141,2,    0.018,    0.050,6,    0.026,6,    0.000,6,   2337.0,2,   2335.4,6,   7.3556,2,   -0.443,2,    0.004,   -156.9,2,      2.9,   4.5513,  27.1575
    49MR0505_1,   P03,   114,  1,     24, X12008,2,20051117,0539, 24.2822,-155.9577, 4515,    900.2,2,   4.1316,2,   4.13205,2,  34.3666,2,  34.3657,2,    21.59,1,    23.75,2,    901.7,2,    23.68,2,    23.20,2,   110.67,2,     0.36,    43.13,2,     0.15,     0.00,2,     0.01,    3.171,2,    0.018,    0.015,2,    0.008,2,    0.000,2,   2352.1,2,   2354.9,2,   7.3604,6,   -0.435,2,    0.005,   -181.2,2,      2.9,   4.0635,  27.2757
    49MR0505_1,   P03,   114,  1,     23, X12035,2,20051117,0539, 24.2822,-155.9577, 4515,    998.3,2,   3.8528,2,   3.85307,2,  34.4298,2,  34.4304,6,    29.16,1,    32.08,2,    999.1,2,    31.36,2,    31.43,2,   117.07,2,     0.38,    42.90,2,     0.15,     0.01,2,     0.01,    3.141,2,    0.018,    0.009,2,    0.003,2,    0.000,2,   2352.1,2,   2369.3,2,   7.3821,2,   -0.367,2,    0.002,   -192.1,2,      2.8,   3.7785,  27.3552
    49MR0505_1,   P03,   114,  1,     22, X12034,2,20051117,0539, 24.2822,-155.9577, 4515,   1200.8,2,   3.4288,2,   3.42896,2,  34.5082,2,  34.5082,2,    44.45,1,    48.22,2,   1200.4,2,    48.78,2,    48.11,2,   125.03,2,     0.39,    42.26,2,     0.15,     0.01,2,     0.01,    3.072,2,    0.018,    0.004,2,    0.002,2,    0.000,2,   2352.4,2,   2382.1,2,   7.4211,2,   -0.334,2,    0.005,   -209.9,2,      3.0,   3.3414,  27.4606
    49MR0505_1,   P03,   114,  1,     21, X12033,2,20051117,0539, 24.2822,-155.9577, 4515,   1402.8,2,   2.9758,2,   2.97714,2,  34.5503,2,  34.5501,2,    55.37,1,    60.13,2,   1401.1,2,    61.49,2,    60.09,2,   134.94,2,     0.42,    41.81,2,     0.15,     0.01,2,     0.01,    3.031,2,    0.018,    0.001,2,    0.001,2,    0.000,2,   2360.4,2,   2395.4,2,   7.4405,2,   -0.321,2,    0.003,   -215.7,2,      2.8,   2.8763,  27.5374
    49MR0505_1,   P03,   114,  1,     20, X12032,2,20051117,0539, 24.2822,-155.9577, 4515,   1602.3,2,   2.6171,2,   2.61679,2,  34.5787,2,  34.5786,2,    64.91,1,    70.67,2,   1600.3,2,    72.13,2,    70.43,2,   143.21,2,     0.43,    41.22,2,     0.15,     0.01,2,     0.01,    2.978,2,    0.017,    0.000,2,    0.000,2,    0.000,2,   2362.2,2,   2402.2,2,   7.4583,6,   -0.231,2,    0.004,   -224.0,2,      2.9,   2.5053,  27.5926
    49MR0505_1,   P03,   114,  1,     19, X12001,2,20051117,0539, 24.2822,-155.9577, 4515,   1801.2,2,   2.3284,2,   2.32836,2,  34.5997,2,  34.5997,2,    72.70,1,    79.35,2,   1801.7,2,    78.90,2,    78.93,2,   149.76,2,     0.45,    40.70,2,     0.15,     0.01,2,     0.01,    2.929,2,    0.017,    0.000,2,    0.000,2,    0.000,2,   2365.3,2,   2410.5,2,   7.4723,2,   -0.189,2,    0.002,   -236.7,2,      2.9,   2.2039,  27.6346
    49MR0505_1,   P03,   114,  1,     18, X12030,2,20051117,0539, 24.2822,-155.9577, 4515,   2001.8,2,   2.0726,2,   2.07248,2,  34.6186,2,  34.6184,6,    80.30,1,    87.71,2,   2002.9,2,    86.68,2,    87.26,2,   156.66,2,     0.46,    40.22,2,     0.15,     0.01,2,     0.01,    2.886,2,    0.017,    0.000,2,    0.001,2,    0.000,2,   2366.5,2,   2421.4,4,   7.4876,2,   -0.182,2,    0.004,   -235.5,2,      3.0,   1.9350,  27.6712
    49MR0505_1,   P03,   114,  1,     17, X12049,2,20051117,0539, 24.2822,-155.9577, 4515,   2202.2,2,   1.9107,2,   1.91104,2,  34.6314,2,  34.6314,2,    86.29,1,    94.36,2,   2202.9,2,    93.46,2,    94.01,2,   160.75,2,     0.47,    39.95,2,     0.14,     0.01,2,     0.01,    2.849,2,    0.017, -999.000,9, -999.000,9, -999.000,9,   2363.1,2,   2417.9,2,   7.4984,2,   -0.140,2,    0.002,   -235.2,2,      2.9,   1.7585,  27.6952
    49MR0505_1,   P03,   114,  1,     16, X12028,2,20051117,0539, 24.2822,-155.9577, 4515,   2402.8,2,   1.7721,2,   1.77227,2,  34.6441,2,  34.6441,2,    93.60,1,   102.23,2,   2403.5,2,   101.23,2,   102.05,2,   163.35,2,     0.48,    39.40,2,     0.14,     0.01,2,     0.01,    2.810,2,    0.017,    0.000,2,    0.000,2,    0.000,2,   2361.1,6,   2421.1,2,   7.5120,2,   -0.145,2,    0.002,   -230.2,2,      3.1,   1.6047,  27.7169
    49MR0505_1,   P03,   114,  1,     15, X12006,2,20051117,0539, 24.2822,-155.9577, 4515,   2600.9,2,   1.6458,2,   1.64587,2,  34.6564,2,  34.6565,6,   103.20,1,   112.74,2,   2600.8,2,   112.54,2,   112.58,2,   163.79,2,     0.48,    38.79,2,     0.14,     0.01,2,     0.01,    2.753,2,    0.017, -999.000,9, -999.000,9, -999.000,9,   2357.1,2,   2423.9,6,   7.5304,2,   -0.109,2,    0.004,   -236.6,2,      2.8,   1.4631,  27.7371
    49MR0505_1,   P03,   114,  1,     14, X12026,2,20051117,0539, 24.2822,-155.9577, 4515,   2800.9,2,   1.5916,2,   1.59172,2,  34.6630,2,  34.6629,2,   109.31,1,   119.47,2,   2800.7,2,   119.36,2,   119.21,2,   163.32,2,     0.48,    38.25,2,     0.14,     0.01,2,     0.01,    2.713,2,    0.017, -999.000,9, -999.000,9, -999.000,9,   2352.5,2,   2422.5,2,   7.5418,6,   -0.155,2,    0.005,   -228.2,2,      2.8,   1.3916,  27.7476
    49MR0505_1,   P03,   114,  1,     13, X12025,2,20051117,0539, 24.2822,-155.9577, 4515,   3001.0,2,   1.5462,2,   1.54623,2,  34.6684,2,  34.6684,2,   115.14,1,   125.75,2,   3000.6,2,   126.41,2,   125.61,2,   161.94,2,     0.48,    37.83,2,     0.14,     0.01,2,     0.01,    2.675,2,    0.017, -999.000,9, -999.000,9, -999.000,9,   2349.9,2,   2421.3,2,   7.5529,2,   -0.022,6,    0.014,   -230.2,6,      2.1,   1.3283,  27.7564
    49MR0505_1,   P03,   114,  1,     12, X12024,2,20051117,0539, 24.2822,-155.9577, 4515,   3252.8,2,   1.4966,2,   1.49657,2,  34.6748,2,  34.6749,2,   123.06,1,   134.23,2,   3252.6,2,   134.07,2,   134.04,2,   159.34,2,     0.47,    37.35,2,     0.14,     0.01,2,     0.01,    2.635,2,    0.017,    0.005,2,    0.001,2,    0.000,2,   2341.3,2,   2421.1,2,   7.5669,2,    0.047,2,    0.004,   -219.3,2,      2.9,   1.2554,  27.7666
    49MR0505_1,   P03,   114,  1,     11, X12023,2,20051117,0539, 24.2822,-155.9577, 4515,   3500.0,2,   1.4641,2,   1.46416,2,  34.6805,2,  34.6801,2,   129.80,1,   140.81,2,   3500.2,2,   140.57,2,   140.95,2,   157.13,2,     0.46,    36.89,2,     0.14,     0.01,2,     0.01,    2.597,2,    0.016, -999.000,9, -999.000,9, -999.000,9,   2334.6,2,   2425.3,2,   7.5781,2,    0.098,2,    0.004,   -213.2,2,      3.0,   1.1989,  27.7752
    49MR0505_1,   P03,   114,  1,     10, X12022,2,20051117,0539, 24.2822,-155.9577, 4515,   3750.1,2,   1.4617,2,   1.46182,2,  34.6831,2,  34.6825,2,   133.65,1,   144.65,2,   3750.1,2,   144.82,2,   144.79,2,   155.58,2,     0.46,    36.51,2,     0.14,     0.01,2,     0.01,    2.580,2,    0.016, -999.000,9, -999.000,9, -999.000,9,   2334.1,2,   2421.3,2,   7.5837,2,    0.125,2,    0.003,   -208.6,2,      3.0,   1.1706,  27.7792
    49MR0505_1,   P03,   114,  1,      9, X12021,2,20051117,0539, 24.2822,-155.9577, 4515,   3998.5,2,   1.4616,2,   1.46166,2,  34.6859,2,  34.6855,6,   137.53,1,   148.32,2,   3998.6,2,   148.39,2,   148.58,2,   154.09,2,     0.46,    36.29,2,     0.13,     0.01,2,     0.01,    2.556,2,    0.016, -999.000,9, -999.000,9, -999.000,9,   2330.6,2,   2420.4,2,   7.5899,2,    0.140,2,    0.004,   -211.5,2,      2.8,   1.1439,  27.7833
    49MR0505_1,   P03,   114,  1,      8, X12020,2,20051117,0539, 24.2822,-155.9577, 4515,   4250.5,2,   1.4766,2,   1.47667,2,  34.6872,2,  34.6869,2,   139.89,1,   150.45,2,   4250.6,2,   150.50,2,   150.48,2,   153.28,2,     0.46,    36.26,2,     0.13,     0.01,2,     0.01,    2.548,2,    0.016,    0.004,2,    0.000,2,    0.000,2,   2330.5,6,   2418.1,2,   7.5933,2,    0.152,2,    0.005,   -207.7,2,      2.8,   1.1307,  27.7852
    49MR0505_1,   P03,   114,  1,      7, X12019,2,20051117,0539, 24.2822,-155.9577, 4515,   4499.2,2,   1.4884,2,   1.48844,2,  34.6886,2,  34.6885,2,   142.89,1,   152.72,2,   4499.3,2,   152.76,2,   152.73,2,   152.07,2,     0.45,    36.10,2,     0.13,     0.00,2,     0.01,    2.533,2,    0.016, -999.000,9, -999.000,9, -999.000,9,   2330.2,2,   2418.3,6,   7.5969,2,    0.136,2,    0.003,   -205.7,2,      2.8,   1.1139,  27.7875
    49MR0505_1,   P03,   114,  1,      6, X12018,9,20051117,0539, 24.2822,-155.9577, 4515,    199.6,2,  16.6553,2,  16.65684,2,  34.7403,2,-999.0000,9,   199.48,1,   215.17,2,    202.7,2,   215.71,2,  -999.00,9,  -999.00,9,  -999.00,  -999.00,9,  -999.00,  -999.00,9,  -999.00, -999.000,9, -999.000, -999.000,9, -999.000,9, -999.000,9,   -999.0,9,   -999.0,9,-999.0000,9, -999.000,9, -999.000,   -999.0,9,   -999.0,  16.6229,  25.4038
    49MR0505_1,   P03,   114,  1,      5, X12043,9,20051117,0539, 24.2822,-155.9577, 4515,    151.5,2,  19.0850,2,  19.09040,2,  34.9680,2,-999.0000,9,   183.37,1,   198.17,2,    157.6,2,   196.39,2,  -999.00,9,  -999.00,9,  -999.00,  -999.00,9,  -999.00,  -999.00,9,  -999.00, -999.000,9, -999.000, -999.000,9, -999.000,9, -999.000,9,   -999.0,9,   -999.0,9,-999.0000,9, -999.000,9, -999.000,   -999.0,9,   -999.0,  19.0579,  24.9819
    49MR0505_1,   P03,   114,  1,      4, X12010,9,20051117,0539, 24.2822,-155.9577, 4515,    100.5,2,  21.5949,2,  21.59480,2,  35.1805,2,-999.0000,9,   197.06,1,   213.47,2,    107.8,2,   211.70,2,  -999.00,9,  -999.00,9,  -999.00,  -999.00,9,  -999.00,  -999.00,9,  -999.00, -999.000,9, -999.000, -999.000,9, -999.000,9, -999.000,9,   -999.0,9,   -999.0,9,-999.0000,9, -999.000,9, -999.000,   -999.0,9,   -999.0,  21.5753,  24.4733
    49MR0505_1,   P03,   114,  1,      3, X12015,9,20051117,0539, 24.2822,-155.9577, 4515,     50.2,2,  25.1090,2,  25.10683,2,  35.3166,2,-999.0000,9,   192.00,1,   208.52,2,     51.0,2,   209.03,2,  -999.00,9,  -999.00,9,  -999.00,  -999.00,9,  -999.00,  -999.00,9,  -999.00, -999.000,9, -999.000, -999.000,9, -999.000,9, -999.000,9,   -999.0,9,   -999.0,9,-999.0000,9, -999.000,9, -999.000,   -999.0,9,   -999.0,  25.0981,  23.5506
    49MR0505_1,   P03,   114,  1,      2, X12014,9,20051117,0539, 24.2822,-155.9577, 4515,     10.1,2,  25.1704,2,  25.17053,2,  35.2083,2,-999.0000,9,   191.93,1,   208.15,2,     11.0,2,   208.87,2,  -999.00,9,  -999.00,9,  -999.00,  -999.00,9,  -999.00,  -999.00,9,  -999.00, -999.000,9, -999.000, -999.000,9, -999.000,9, -999.000,9,   -999.0,9,   -999.0,9,-999.0000,9, -999.000,9, -999.000,   -999.0,9,   -999.0,  25.1682,  23.4474
    49MR0505_1,   P03,   114,  1,      1, X12013,2,20051117,0539, 24.2822,-155.9577, 4515,   4602.3,2,   1.4983,2,   1.49818,2,  34.6888,2,  34.6886,6,   143.84,1,   153.49,2,   4602.3,2,   153.15,2,   153.16,2,   151.92,2,     0.45,    36.05,2,     0.13,     0.00,2,     0.01,    2.534,2,    0.016,    0.000,2,    0.000,2,    0.000,2,   2328.3,2,   2420.1,2,   7.5979,2,    0.132,2,    0.002,   -199.5,2,      2.8,   1.1115,  27.7878