BOTTLE,20100316JAMSTECRIGC
EXPOCODE,SECT,STNNBR,CASTNO,SAMPNO,BTLNBR,BTLNBR_FLAG_W,DATE,TIME,LATITUDE,LONGITUDE,DEPTH,CTDPRS,CTDPRS_FLAG_W,CTDTMP,CTDTMP_FLAG_W,SBE35,SBE35_FLAG_W,CTDSAL,CTDSAL_FLAG_W,SALNTY,SALNTY_FLAG_W,CTDOXY,CTDOXY_FLAG_W,OPTOXY,OPTOXY_FLAG_W,DWNPRS,DWNPRS_FLAG_W,DWNOXY,DWNOXY_FLAG_W,OXYGEN,OXYGEN_FLAG_W,SILCAT,SILCAT_FLAG_W,SILUNC,NITRAT,NITRAT_FLAG_W,NRAUNC,NITRIT,NITRIT_FLAG_W,NRIUNC,PHSPHT,PHSPHT_FLAG_W,PHPUNC,CFC-11,CFC-11_FLAG_W,CFC-12,CFC-12_FLAG_W,CFC113,CFC113_FLAG_W,TCARBN,TCARBN_FLAG_W,ALKALI,ALKALI_FLAG_W,PH,PH_FLAG_W,DELC13,DELC13_FLAG_W,C13ERR,DELC14,DELC14_FLAG_W,C14ERR,THETA,SIG0
,,,,,,,,UTC,DEG,DEG,M,DBAR,,ITS-90,,ITS-90,,PSS-78,,PSS-78,,UMOL/KG,,UMOL/KG,,DBAR,,UMOL/KG,,UMOL/KG,,UMOL/KG,,UMOL/KG,UMOL/KG,,UMOL/KG,UMOL/KG,,UMOL/KG,UMOL/KG,,UMOL/KG,PMOL/KG,,PMOL/KG,,PMOL/KG,,UMOL/KG,,UMOL/KG,,,,/MILLE,,/MILLE,/MILLE,,/MILLE,DEG C,KG/CUM
    49MR0505_1,   P03,   116,  1,      0,   -999,9,20051117,1205, 24.2607,-156.7257, 4405,   -999.0,9,-999.0000,9,-999.00000,9,-999.0000,9,  35.3600,2,  -999.00,9,  -999.00,9,   -999.0,9,  -999.00,9,  -999.00,9,  -999.00,9,  -999.00,  -999.00,9,  -999.00,  -999.00,9,  -999.00, -999.000,9, -999.000, -999.000,9, -999.000,9, -999.000,9,   -999.0,9,   -999.0,9,-999.0000,9, -999.000,9, -999.000,   -999.0,9,   -999.0,-999.0000,-999.0000
    49MR0505_1,   P03,   116,  1,     36, X12048,9,20051117,1205, 24.2607,-156.7257, 4405,      9.2,2,  25.0648,2,  25.06512,2,  35.3521,2,-999.0000,9,   192.75,1,   208.13,2,     11.4,2,   211.41,2,  -999.00,9,  -999.00,9,  -999.00,  -999.00,9,  -999.00,  -999.00,9,  -999.00, -999.000,9, -999.000, -999.000,9, -999.000,9, -999.000,9,   -999.0,9,   -999.0,9,-999.0000,9, -999.000,9, -999.000,   -999.0,9,   -999.0,  25.0628,  23.5882
    49MR0505_1,   P03,   116,  1,     35, X12047,2,20051117,1205, 24.2607,-156.7257, 4405,     50.0,2,  25.0757,2,  25.07623,2,  35.3510,2,  35.3517,2,   192.63,1,   208.18,2,     51.7,2,   211.15,2,   208.82,2,     0.92,2,     0.12,     0.03,2,     0.03,     0.01,2,     0.01,    0.033,2,    0.047,    1.684,2,    1.019,2, -999.000,5,   -999.0,9,   -999.0,9,-999.0000,9, -999.000,9, -999.000,   -999.0,9,   -999.0,  25.0648,  23.5868
    49MR0505_1,   P03,   116,  1,     34, X12046,2,20051117,1205, 24.2607,-156.7257, 4405,    100.5,2,  21.5515,2,  21.55330,2,  35.1824,2,  35.1840,2,   191.53,1,   207.16,2,    107.2,2,   207.44,2,   207.57,2,     1.39,2,     0.12,     0.13,2,     0.03,     0.05,2,     0.01,    0.101,2,    0.022,    2.028,2,    1.228,2, -999.000,5,   -999.0,9,   -999.0,9,-999.0000,9, -999.000,9, -999.000,   -999.0,9,   -999.0,  21.5319,  24.4868
    49MR0505_1,   P03,   116,  1,     33, X12003,2,20051117,1205, 24.2607,-156.7257, 4405,    150.4,2,  18.6738,2,  18.67489,2,  34.9350,2,  34.9341,2,   190.19,1,   204.84,2,    151.2,2,   209.83,2,   205.19,2,     2.66,2,     0.12,     2.02,2,     0.04,     0.03,2,     0.01,    0.225,2,    0.015,    2.294,2,    1.327,2, -999.000,5,   -999.0,9,   -999.0,9,-999.0000,9, -999.000,9, -999.000,   -999.0,9,   -999.0,  18.6473,  25.0609
    49MR0505_1,   P03,   116,  1,     32, X12044,2,20051117,1205, 24.2607,-156.7257, 4405,    199.2,2,  15.7510,2,  15.74390,2,  34.6106,2,  34.6106,2,   196.72,1,   211.63,2,    205.9,2,   211.45,2,   212.76,2,     4.89,2,     0.13,     4.58,2,     0.05,     0.02,2,     0.01,    0.389,2,    0.013,    2.590,2,    1.457,2,    0.141,2,   -999.0,9,   -999.0,9,-999.0000,9, -999.000,9, -999.000,   -999.0,9,   -999.0,  15.7199,  25.5116
    49MR0505_1,   P03,   116,  1,     31, X12051,2,20051117,1205, 24.2607,-156.7257, 4405,    249.7,2,  14.4319,2,  14.43158,2,  34.5150,2,  34.5156,2,   205.19,1,   220.24,2,    253.4,2,   220.86,2,   221.14,2,     6.53,2,     0.13,     6.27,2,     0.05,     0.02,2,     0.01,    0.481,2,    0.013,    2.715,6,    1.516,6,    0.155,6,   -999.0,9,   -999.0,9,-999.0000,9, -999.000,9, -999.000,   -999.0,9,   -999.0,  14.3952,  25.7287
    49MR0505_1,   P03,   116,  1,     30, X12042,2,20051117,1205, 24.2607,-156.7257, 4405,    300.9,2,  12.8312,2,  12.83849,2,  34.3614,2,  34.3643,2,   200.09,1,   215.12,2,    304.1,2,   215.72,2,   216.21,2,     9.83,2,     0.14,     9.65,2,     0.06,     0.01,2,     0.01,    0.712,2,    0.013,    2.884,2,    1.571,2,    0.092,2,   -999.0,9,   -999.0,9,-999.0000,9, -999.000,9, -999.000,   -999.0,9,   -999.0,  12.7903,  25.9398
    49MR0505_1,   P03,   116,  1,     29, X12041,2,20051117,1205, 24.2607,-156.7257, 4405,    404.2,2,  10.4205,2,  10.42419,2,  34.1892,2,  34.1918,2,   187.06,1,   200.78,2,    405.9,2,   201.30,2,   201.31,2,    18.81,2,     0.16,    15.72,2,     0.08,     0.01,2,     0.01,    1.127,2,    0.013,    2.976,2,    1.539,2,    0.108,2,   -999.0,9,   -999.0,9,-999.0000,9, -999.000,9, -999.000,   -999.0,9,   -999.0,  10.3723,  26.2549
    49MR0505_1,   P03,   116,  1,     28, X12016,2,20051117,1205, 24.2607,-156.7257, 4405,    499.9,2,   7.8699,2,   7.87046,2,  34.0621,2,  34.0622,6,   139.69,1,   150.37,2,    501.6,2,   152.05,2,   150.32,2,    38.31,2,     0.20,    25.58,2,     0.10,     0.01,2,     0.01,    1.828,2,    0.015,    2.342,2,    1.126,2,    0.090,2,   -999.0,9,   -999.0,9,-999.0000,9, -999.000,9, -999.000,   -999.0,9,   -999.0,   7.8195,  26.5638
    49MR0505_1,   P03,   116,  1,     27, X12039,2,20051117,1205, 24.2607,-156.7257, 4405,    600.7,2,   5.9223,2,   5.92210,2,  34.0519,2,  34.0523,2,    82.21,1,    88.73,2,    605.7,2,    95.13,2,    88.40,2,    64.83,2,     0.26,    34.68,2,     0.13,     0.01,2,     0.01,    2.516,2,    0.016,    1.155,2,    0.520,2,    0.036,2,   -999.0,9,   -999.0,9,-999.0000,9, -999.000,9, -999.000,   -999.0,9,   -999.0,   5.8702,  26.8197
    49MR0505_1,   P03,   116,  1,     26, X12038,2,20051117,1205, 24.2607,-156.7257, 4405,    701.5,2,   4.8839,2,   4.88401,2,  34.1343,2,  34.1337,2,    47.29,1,    51.29,2,    700.0,2,    49.84,2,    50.94,2,    86.98,2,     0.31,    39.60,2,     0.14,     0.01,2,     0.01,    2.887,2,    0.017,    0.485,2,    0.225,2,    0.000,2,   -999.0,9,   -999.0,9,-999.0000,9, -999.000,9, -999.000,   -999.0,9,   -999.0,   4.8280,  27.0084
    49MR0505_1,   P03,   116,  1,     25, X12037,2,20051117,1205, 24.2607,-156.7257, 4405,    799.8,2,   4.3400,2,   4.33785,2,  34.2490,2,  34.2469,2,    26.41,1,    28.84,2,    802.0,2,    28.15,2,    28.43,2,   103.30,2,     0.35,    42.32,2,     0.15,     0.01,2,     0.01,    3.082,2,    0.018,    0.122,6,    0.060,6,    0.000,6,   -999.0,9,   -999.0,9,-999.0000,9, -999.000,9, -999.000,   -999.0,9,   -999.0,   4.2789,  27.1595
    49MR0505_1,   P03,   116,  1,     24, X12008,2,20051117,1205, 24.2607,-156.7257, 4405,    902.5,2,   4.0953,2,   4.09629,2,  34.3869,2,  34.3866,2,    26.53,1,    28.93,2,    905.5,2,    28.50,2,    28.46,2,   110.59,2,     0.36,    42.80,2,     0.15,     0.01,2,     0.01,    3.129,2,    0.018,    0.023,2,    0.009,2,    0.000,2,   -999.0,9,   -999.0,9,-999.0000,9, -999.000,9, -999.000,   -999.0,9,   -999.0,   4.0272,  27.2956
    49MR0505_1,   P03,   116,  1,     23, X12035,2,20051117,1205, 24.2607,-156.7257, 4405,   1002.8,2,   3.7671,2,   3.76704,2,  34.4449,2,  34.4446,6,    31.36,1,    34.03,2,   1007.4,2,    33.58,2,    33.48,2,   118.23,2,     0.38,    42.93,2,     0.15,     0.01,2,     0.01,    3.125,2,    0.018,    0.007,2,    0.000,2,    0.000,2,   -999.0,9,   -999.0,9,-999.0000,9, -999.000,9, -999.000,   -999.0,9,   -999.0,   3.6931,  27.3757
    49MR0505_1,   P03,   116,  1,     22, X12034,2,20051117,1205, 24.2607,-156.7257, 4405,   1200.1,2,   3.3006,2,   3.30047,2,  34.5207,2,  34.5206,2,    48.68,1,    52.76,2,   1203.6,2,    50.15,2,    52.63,2,   126.58,2,     0.40,    42.05,2,     0.15,     0.01,2,     0.01,    3.050,2,    0.018,    0.000,2,    0.001,2,    0.000,2,   -999.0,9,   -999.0,9,-999.0000,9, -999.000,9, -999.000,   -999.0,9,   -999.0,   3.2144,  27.4826
    49MR0505_1,   P03,   116,  1,     21, X12033,2,20051117,1205, 24.2607,-156.7257, 4405,   1401.4,2,   2.9178,2,   2.91751,2,  34.5557,2,  34.5558,2,    58.39,1,    63.26,2,   1403.3,2,    62.10,2,    63.13,2,   135.01,2,     0.42,    41.67,2,     0.15,     0.01,2,     0.01,    3.001,2,    0.017,    0.000,2,    0.000,2,    0.000,2,   -999.0,9,   -999.0,9,-999.0000,9, -999.000,9, -999.000,   -999.0,9,   -999.0,   2.8190,  27.5468
    49MR0505_1,   P03,   116,  1,     20, X12032,2,20051117,1205, 24.2607,-156.7257, 4405,   1600.7,2,   2.5985,2,   2.59855,2,  34.5793,2,  34.5797,2,    65.80,1,    71.55,2,   1601.6,2,    70.56,2,    71.60,2,   142.72,2,     0.43,    41.15,2,     0.15,     0.01,2,     0.01,    2.955,2,    0.017,    0.000,2,    0.001,2,    0.000,2,   -999.0,9,   -999.0,9,-999.0000,9, -999.000,9, -999.000,   -999.0,9,   -999.0,   2.4871,  27.5946
    49MR0505_1,   P03,   116,  1,     19, X12001,2,20051117,1205, 24.2607,-156.7257, 4405,   1801.4,2,   2.3292,2,   2.32872,2,  34.5968,2,  34.5981,2,    70.92,1,    77.28,2,   1800.7,2,    77.44,2,    77.11,2,   150.00,2,     0.45,    40.93,2,     0.15,     0.01,2,     0.01,    2.932,2,    0.017,    0.000,2,    0.001,2,    0.000,2,   -999.0,9,   -999.0,9,-999.0000,9, -999.000,9, -999.000,   -999.0,9,   -999.0,   2.2047,  27.6322
    49MR0505_1,   P03,   116,  1,     18, X12030,2,20051117,1205, 24.2607,-156.7257, 4405,   2000.1,2,   2.0774,2,   2.07756,2,  34.6154,2,  34.6157,6,    78.28,1,    85.31,2,   1998.8,2,    85.94,2,    85.07,2,   156.48,2,     0.46,    40.50,2,     0.15,     0.01,2,     0.01,    2.874,2,    0.017,    0.000,2,    0.000,2,    0.000,2,   -999.0,9,   -999.0,9,-999.0000,9, -999.000,9, -999.000,   -999.0,9,   -999.0,   1.9398,  27.6682
    49MR0505_1,   P03,   116,  1,     17, X12049,2,20051117,1205, 24.2607,-156.7257, 4405,   2201.8,2,   1.8973,2,   1.89737,2,  34.6328,2,  34.6331,2,    87.49,1,    95.45,2,   2200.4,2,    96.23,2,    95.23,2,   159.84,2,     0.47,    39.83,2,     0.14,     0.01,2,     0.01,    2.814,2,    0.017, -999.000,9, -999.000,9, -999.000,9,   -999.0,9,   -999.0,9,-999.0000,9, -999.000,9, -999.000,   -999.0,9,   -999.0,   1.7453,  27.6972
    49MR0505_1,   P03,   116,  1,     16, X12028,2,20051117,1205, 24.2607,-156.7257, 4405,   2401.3,2,   1.7709,2,   1.77114,2,  34.6437,2,  34.6440,2,    94.41,1,   102.79,2,   2400.2,2,   103.89,2,   102.52,2,   161.97,2,     0.48,    39.42,2,     0.14,     0.01,2,     0.01,    2.788,2,    0.017, -999.000,9, -999.000,9, -999.000,9,   -999.0,9,   -999.0,9,-999.0000,9, -999.000,9, -999.000,   -999.0,9,   -999.0,   1.6037,  27.7166
    49MR0505_1,   P03,   116,  1,     15, X12006,2,20051117,1205, 24.2607,-156.7257, 4405,   2601.7,2,   1.6640,2,   1.66374,2,  34.6546,2,  34.6549,2,   102.66,1,   111.89,2,   2601.1,2,   112.39,2,   111.69,2,   162.30,2,     0.48,    38.83,2,     0.14,     0.01,2,     0.01,    2.742,2,    0.017, -999.000,9, -999.000,9, -999.000,9,   -999.0,9,   -999.0,9,-999.0000,9, -999.000,9, -999.000,   -999.0,9,   -999.0,   1.4809,  27.7344
    49MR0505_1,   P03,   116,  1,     14, X12026,2,20051117,1205, 24.2607,-156.7257, 4405,   2802.5,2,   1.5958,2,   1.59599,2,  34.6625,2,  34.6624,6,   109.55,1,   119.33,2,   2802.1,2,   119.63,2,   119.16,2,   162.03,2,     0.48,    38.32,2,     0.14,     0.01,2,     0.01,    2.697,2,    0.017,    0.002,2,    0.000,2,    0.000,2,   -999.0,9,   -999.0,9,-999.0000,9, -999.000,9, -999.000,   -999.0,9,   -999.0,   1.3956,  27.7469
    49MR0505_1,   P03,   116,  1,     13, X12025,2,20051117,1205, 24.2607,-156.7257, 4405,   3001.7,2,   1.5425,2,   1.54252,2,  34.6689,2,  34.6687,2,   116.03,1,   126.37,2,   3002.0,2,   125.31,2,   126.13,2,   160.75,2,     0.47,    37.99,2,     0.14,     0.01,2,     0.01,    2.662,2,    0.017, -999.000,9, -999.000,9, -999.000,9,   -999.0,9,   -999.0,9,-999.0000,9, -999.000,9, -999.000,   -999.0,9,   -999.0,   1.3246,  27.7570
    49MR0505_1,   P03,   116,  1,     12, X12024,2,20051117,1205, 24.2607,-156.7257, 4405,   3251.5,2,   1.4997,2,   1.49960,2,  34.6752,2,  34.6755,2,   122.83,1,   133.43,2,   3251.6,2,   132.56,2,   133.32,2,   158.99,2,     0.47,    37.40,2,     0.14,     0.01,2,     0.01,    2.624,2,    0.017, -999.000,9, -999.000,9, -999.000,9,   -999.0,9,   -999.0,9,-999.0000,9, -999.000,9, -999.000,   -999.0,9,   -999.0,   1.2585,  27.7667
    49MR0505_1,   P03,   116,  1,     11, X12023,2,20051117,1205, 24.2607,-156.7257, 4405,   3500.4,2,   1.4770,2,   1.47682,2,  34.6791,2,  34.6794,2,   128.66,1,   139.28,2,   3500.3,2,   139.31,2,   139.38,2,   157.06,2,     0.46,    36.94,2,     0.14,     0.01,2,     0.01,    2.589,2,    0.016, -999.000,9, -999.000,9, -999.000,9,   -999.0,9,   -999.0,9,-999.0000,9, -999.000,9, -999.000,   -999.0,9,   -999.0,   1.2114,  27.7731
    49MR0505_1,   P03,   116,  1,     10, X12022,2,20051117,1205, 24.2607,-156.7257, 4405,   3751.4,2,   1.4597,2,   1.45969,2,  34.6832,2,  34.6833,6,   134.29,1,   144.88,2,   3751.4,2,   144.95,2,   145.18,2,   154.55,2,     0.46,    36.63,2,     0.14,     0.01,2,     0.01,    2.566,2,    0.016,    0.010,2,    0.000,2,    0.000,2,   -999.0,9,   -999.0,9,-999.0000,9, -999.000,9, -999.000,   -999.0,9,   -999.0,   1.1685,  27.7794
    49MR0505_1,   P03,   116,  1,      9, X12021,2,20051117,1205, 24.2607,-156.7257, 4405,   4000.6,2,   1.4648,2,   1.46489,2,  34.6854,2,  34.6851,2,   137.68,1,   147.91,2,   4000.6,2,   147.94,2,   148.23,2,   153.39,2,     0.46,    36.50,2,     0.13,     0.01,2,     0.01,    2.548,2,    0.016, -999.000,9, -999.000,9, -999.000,9,   -999.0,9,   -999.0,9,-999.0000,9, -999.000,9, -999.000,   -999.0,9,   -999.0,   1.1468,  27.7827
    49MR0505_1,   P03,   116,  1,      8, X12020,2,20051117,1205, 24.2607,-156.7257, 4405,   4252.8,2,   1.4813,2,   1.48126,2,  34.6865,2,  34.6864,2,   139.95,1,   149.77,2,   4252.8,2,   149.91,2,   149.84,2,   152.54,2,     0.45,    36.25,2,     0.13,     0.01,2,     0.01,    2.532,2,    0.016, -999.000,9, -999.000,9, -999.000,9,   -999.0,9,   -999.0,9,-999.0000,9, -999.000,9, -999.000,   -999.0,9,   -999.0,   1.1350,  27.7843
    49MR0505_1,   P03,   116,  1,      7, X12019,9,20051117,1205, 24.2607,-156.7257, 4405,    249.3,2,  14.4306,2,  14.43124,2,  34.5151,2,-999.0000,9,   205.17,1,   220.25,2,    253.3,2,   220.83,2,  -999.00,9,  -999.00,9,  -999.00,  -999.00,9,  -999.00,  -999.00,9,  -999.00, -999.000,9, -999.000, -999.000,9, -999.000,9, -999.000,9,   -999.0,9,   -999.0,9,-999.0000,9, -999.000,9, -999.000,   -999.0,9,   -999.0,  14.3939,  25.7290
    49MR0505_1,   P03,   116,  1,      6, X12018,9,20051117,1205, 24.2607,-156.7257, 4405,    199.4,2,  15.7230,2,  15.71688,2,  34.6109,2,-999.0000,9,   196.64,1,   212.58,2,    206.3,2,   212.02,2,  -999.00,9,  -999.00,9,  -999.00,  -999.00,9,  -999.00,  -999.00,9,  -999.00, -999.000,9, -999.000, -999.000,9, -999.000,9, -999.000,9,   -999.0,9,   -999.0,9,-999.0000,9, -999.000,9, -999.000,   -999.0,9,   -999.0,  15.6919,  25.5182
    49MR0505_1,   P03,   116,  1,      5, X12043,9,20051117,1205, 24.2607,-156.7257, 4405,    150.6,2,  18.6646,2,  18.66555,2,  34.9346,2,-999.0000,9,   189.92,1,   205.34,2,    151.7,2,   209.69,2,  -999.00,9,  -999.00,9,  -999.00,  -999.00,9,  -999.00,  -999.00,9,  -999.00, -999.000,9, -999.000, -999.000,9, -999.000,9, -999.000,9,   -999.0,9,   -999.0,9,-999.0000,9, -999.000,9, -999.000,   -999.0,9,   -999.0,  18.6381,  25.0630
    49MR0505_1,   P03,   116,  1,      4, X12010,9,20051117,1205, 24.2607,-156.7257, 4405,     99.9,2,  21.5640,2,  21.56167,2,  35.1830,2,-999.0000,9,   191.73,1,   207.55,2,    107.0,2,   207.46,2,  -999.00,9,  -999.00,9,  -999.00,  -999.00,9,  -999.00,  -999.00,9,  -999.00, -999.000,9, -999.000, -999.000,9, -999.000,9, -999.000,9,   -999.0,9,   -999.0,9,-999.0000,9, -999.000,9, -999.000,   -999.0,9,   -999.0,  21.5445,  24.4838
    49MR0505_1,   P03,   116,  1,      3, X12015,9,20051117,1205, 24.2607,-156.7257, 4405,     49.5,2,  25.0756,2,  25.07513,2,  35.3512,2,-999.0000,9,   193.03,1,   208.62,2,     51.2,2,   210.93,2,  -999.00,9,  -999.00,9,  -999.00,  -999.00,9,  -999.00,  -999.00,9,  -999.00, -999.000,9, -999.000, -999.000,9, -999.000,9, -999.000,9,   -999.0,9,   -999.0,9,-999.0000,9, -999.000,9, -999.000,   -999.0,9,   -999.0,  25.0648,  23.5869
    49MR0505_1,   P03,   116,  1,      2, X12014,9,20051117,1205, 24.2607,-156.7257, 4405,      9.3,2,  25.0662,2,  25.06456,2,  35.3520,2,-999.0000,9,   192.77,1,   208.14,2,     11.5,2,   211.39,2,  -999.00,9,  -999.00,9,  -999.00,  -999.00,9,  -999.00,  -999.00,9,  -999.00, -999.000,9, -999.000, -999.000,9, -999.000,9, -999.000,9,   -999.0,9,   -999.0,9,-999.0000,9, -999.000,9, -999.000,   -999.0,9,   -999.0,  25.0642,  23.5877
    49MR0505_1,   P03,   116,  1,      1, X12013,2,20051117,1205, 24.2607,-156.7257, 4405,   4423.8,2,   1.4814,2,   1.48141,2,  34.6882,2,  34.6882,6,   143.28,1,   152.84,2,   4423.8,2,   152.70,2,   152.63,2,   150.98,2,     0.45,    36.11,2,     0.13,     0.01,2,     0.01,    2.530,2,    0.016,    0.000,2,    0.001,2,    0.000,2,   -999.0,9,   -999.0,9,-999.0000,9, -999.000,9, -999.000,   -999.0,9,   -999.0,   1.1157,  27.7870