BOTTLE,20100316JAMSTECRIGC
EXPOCODE,SECT,STNNBR,CASTNO,SAMPNO,BTLNBR,BTLNBR_FLAG_W,DATE,TIME,LATITUDE,LONGITUDE,DEPTH,CTDPRS,CTDPRS_FLAG_W,CTDTMP,CTDTMP_FLAG_W,SBE35,SBE35_FLAG_W,CTDSAL,CTDSAL_FLAG_W,SALNTY,SALNTY_FLAG_W,CTDOXY,CTDOXY_FLAG_W,OPTOXY,OPTOXY_FLAG_W,DWNPRS,DWNPRS_FLAG_W,DWNOXY,DWNOXY_FLAG_W,OXYGEN,OXYGEN_FLAG_W,SILCAT,SILCAT_FLAG_W,SILUNC,NITRAT,NITRAT_FLAG_W,NRAUNC,NITRIT,NITRIT_FLAG_W,NRIUNC,PHSPHT,PHSPHT_FLAG_W,PHPUNC,CFC-11,CFC-11_FLAG_W,CFC-12,CFC-12_FLAG_W,CFC113,CFC113_FLAG_W,TCARBN,TCARBN_FLAG_W,ALKALI,ALKALI_FLAG_W,PH,PH_FLAG_W,DELC13,DELC13_FLAG_W,C13ERR,DELC14,DELC14_FLAG_W,C14ERR,THETA,SIG0
,,,,,,,,UTC,DEG,DEG,M,DBAR,,ITS-90,,ITS-90,,PSS-78,,PSS-78,,UMOL/KG,,UMOL/KG,,DBAR,,UMOL/KG,,UMOL/KG,,UMOL/KG,,UMOL/KG,UMOL/KG,,UMOL/KG,UMOL/KG,,UMOL/KG,UMOL/KG,,UMOL/KG,PMOL/KG,,PMOL/KG,,PMOL/KG,,UMOL/KG,,UMOL/KG,,,,/MILLE,,/MILLE,/MILLE,,/MILLE,DEG C,KG/CUM
    49MR0505_1,   P03,    28,  1,      0,   -999,9,20051103,1319, 30.0147,-122.5888, 4319,   -999.0,9,-999.0000,9,-999.00000,9,-999.0000,9,  33.5792,2,  -999.00,9,  -999.00,9,   -999.0,9,  -999.00,9,  -999.00,9,  -999.00,9,  -999.00,  -999.00,9,  -999.00,  -999.00,9,  -999.00, -999.000,9, -999.000, -999.000,9, -999.000,9, -999.000,9,   -999.0,9,   -999.0,9,-999.0000,9, -999.000,9, -999.000,   -999.0,9,   -999.0,-999.0000,-999.0000
    49MR0505_1,   P03,    28,  1,     36, X12048,2,20051103,1319, 30.0147,-122.5888, 4319,     10.1,2,  19.2159,2,  19.21619,2,  33.5446,2,  33.5446,2,   226.52,1,   235.98,2,      8.1,2,   234.85,2,   234.68,2,     1.88,2,     0.12,     0.02,2,     0.03,     0.00,2,     0.01,    0.266,2,    0.015,    2.234,2,    1.331,2, -999.000,5,   1993.6,2,   2236.7,2,   7.9778,6, -999.000,9, -999.000,   -999.0,9,   -999.0,  19.2141,  23.8548
    49MR0505_1,   P03,    28,  1,     35, X12047,2,20051103,1319, 30.0147,-122.5888, 4319,     49.8,2,  19.2557,2,  19.25631,2,  33.5592,2,  33.5604,2,   226.03,1,   235.98,2,     48.8,2,   234.64,2,   234.62,2,     1.83,2,     0.12,     0.03,2,     0.03,     0.00,2,     0.01,    0.270,2,    0.015,    2.234,2,    1.326,2, -999.000,5,   1994.3,6,   2237.3,2,   7.9790,2, -999.000,9, -999.000,   -999.0,9,   -999.0,  19.2468,  23.8576
    49MR0505_1,   P03,    28,  1,     34, X12046,2,20051103,1319, 30.0147,-122.5888, 4319,     99.0,2,  16.2105,2,  16.20823,2,  33.6945,2,  33.6949,2,   238.55,1,   247.99,2,     97.9,2,   244.87,2,   246.67,2,     2.12,2,     0.12,     0.02,2,     0.03,     0.01,2,     0.01,    0.257,2,    0.015,    2.676,2,    1.551,2, -999.000,5,   2004.9,2,   2235.3,6,   7.9545,2, -999.000,9, -999.000,   -999.0,9,   -999.0,  16.1949,  24.6992
    49MR0505_1,   P03,    28,  1,     33, X12003,2,20051103,1319, 30.0147,-122.5888, 4319,    150.5,2,  11.2748,2,  11.27340,2,  33.3159,2,  33.3220,2,   199.41,1,   205.45,2,    148.5,2,   201.09,2,   204.66,2,     9.87,2,     0.14,    11.72,2,     0.07,     0.01,2,     0.01,    1.078,2,    0.013,    3.220,2,    1.804,2,    0.260,2,   2073.4,2,   2210.2,2,   7.7620,2, -999.000,9, -999.000,   -999.0,9,   -999.0,  11.2563,  25.4183
    49MR0505_1,   P03,    28,  1,     32, X12044,2,20051103,1319, 30.0147,-122.5888, 4319,    200.2,2,   9.3619,2,   9.36360,2,  33.7255,2,  33.7204,2,   156.23,1,   161.08,2,    201.7,2,   160.81,2,   161.15,2,    21.60,2,     0.17,    21.10,2,     0.09,     0.01,2,     0.01,    1.642,2,    0.014,    3.182,2,    1.717,2,    0.137,2,   2141.1,2,   2234.9,2,   7.6367,2, -999.000,9, -999.000,   -999.0,9,   -999.0,   9.3400,  26.0658
    49MR0505_1,   P03,    28,  1,     31, X12051,2,20051103,1319, 30.0147,-122.5888, 4319,    249.9,2,   8.7398,2,   8.73966,2,  33.9636,2,  33.9651,2,   133.22,1,   137.18,2,    247.7,2,   134.65,2,   136.51,2,    29.66,2,     0.18,    24.93,2,     0.10,     0.00,2,     0.01,    1.868,2,    0.015,    2.857,6,    1.479,6,    0.126,6,   2173.4,2,   2256.3,2,   7.5909,2, -999.000,9, -999.000,   -999.0,9,   -999.0,   8.7134,  26.3516
    49MR0505_1,   P03,    28,  1,     30, X12042,2,20051103,1319, 30.0147,-122.5888, 4319,    299.6,2,   8.0042,2,   8.00472,2,  34.0522,2,  34.0520,2,   103.28,1,   106.67,2,    303.3,2,   108.09,2,   106.59,2,    39.25,2,     0.21,    29.12,2,     0.11,     0.01,2,     0.01,    2.169,2,    0.015,    2.329,2,    1.147,2,    0.104,2,   2208.0,2,   2268.8,2,   7.5255,2, -999.000,9, -999.000,   -999.0,9,   -999.0,   7.9741,  26.5333
    49MR0505_1,   P03,    28,  1,     29, X12041,2,20051103,1319, 30.0147,-122.5888, 4319,    399.1,2,   6.8430,2,   6.84318,2,  34.1187,2,  34.1189,2,    55.64,1,    57.33,2,    400.5,2,    57.42,2,    57.07,2,    56.48,2,     0.24,    35.14,2,     0.13,     0.00,2,     0.01,    2.669,2,    0.017,    1.164,2,    0.589,2,    0.055,2,   2262.7,2,   2285.2,2,   7.4168,2, -999.000,9, -999.000,   -999.0,9,   -999.0,   6.8061,  26.7509
    49MR0505_1,   P03,    28,  1,     28, X12016,2,20051103,1319, 30.0147,-122.5888, 4319,    500.1,2,   6.0527,2,   6.05779,2,  34.1889,2,  34.1878,6,    29.79,1,    30.54,2,    498.7,2,    28.72,2,    30.82,2,    71.17,2,     0.28,    38.49,2,     0.14,     0.00,2,     0.01,    2.954,2,    0.017,    0.445,2,    0.238,2,    0.022,2,   2296.8,2,   2303.3,2,   7.3710,2, -999.000,9, -999.000,   -999.0,9,   -999.0,   6.0091,  26.9106
    49MR0505_1,   P03,    28,  1,     27, X12039,2,20051103,1319, 30.0147,-122.5888, 4319,    599.8,2,   5.4661,2,   5.46608,2,  34.2575,2,  34.2581,2,    16.20,1,    16.46,2,    598.5,2,    16.14,2,    16.62,2,    84.29,2,     0.30,    40.85,2,     0.15,     0.00,2,     0.01,    3.128,2,    0.018,    0.139,2,    0.058,2,    0.012,2,   2321.0,2,   2320.4,2,   7.3475,2, -999.000,9, -999.000,   -999.0,9,   -999.0,   5.4160,  27.0378
    49MR0505_1,   P03,    28,  1,     26, X12038,2,20051103,1319, 30.0147,-122.5888, 4319,    699.3,2,   5.1251,2,   5.12401,2,  34.3330,2,  34.3325,2,    11.06,1,    11.17,2,    699.1,2,    11.22,2,    11.09,2,    92.34,2,     0.32,    41.98,2,     0.15,     0.00,2,     0.01,    3.208,2,    0.018,    0.036,4,    0.024,4,    0.000,4,   2334.2,6,   2335.0,2,   7.3447,2, -999.000,9, -999.000,   -999.0,9,   -999.0,   5.0679,  27.1386
    49MR0505_1,   P03,    28,  1,     25, X12037,2,20051103,1319, 30.0147,-122.5888, 4319,    801.2,2,   4.8525,2,   4.85289,2,  34.4191,2,  34.4207,2,    11.23,1,    11.23,2,    800.4,2,    11.21,2,    11.26,2,    98.79,2,     0.34,    42.69,2,     0.15,     0.00,2,     0.01,    3.260,2,    0.018,    0.017,6,    0.012,6,    0.000,6,   2343.6,2,   2350.5,6,   7.3588,2, -999.000,9, -999.000,   -999.0,9,   -999.0,   4.7879,  27.2389
    49MR0505_1,   P03,    28,  1,     24, X12008,2,20051103,1319, 30.0147,-122.5888, 4319,    900.7,2,   4.5246,2,   4.52622,2,  34.4633,2,  34.4629,2,    14.73,1,    14.61,2,    900.6,2,    14.89,2,    14.82,2,   105.17,2,     0.35,    43.25,2,     0.15,     0.00,2,     0.01,    3.260,2,    0.018,    0.005,2,    0.008,2,    0.000,2,   2352.4,2,   2358.3,2,   7.3636,6, -999.000,9, -999.000,   -999.0,9,   -999.0,   4.4535,  27.3110
    49MR0505_1,   P03,    28,  1,     23, X12035,2,20051103,1319, 30.0147,-122.5888, 4319,   1001.3,2,   4.1353,2,   4.13480,2,  34.4900,2,  34.4900,6,    19.91,1,    19.86,2,   1001.0,2,    20.08,2,    20.51,2,   113.68,2,     0.37,    43.50,2,     0.15,     0.00,2,     0.01,    3.258,2,    0.018,    0.011,2,    0.009,2,    0.000,2,   2359.2,2,   2367.7,2,   7.3721,2, -999.000,9, -999.000,   -999.0,9,   -999.0,   4.0585,  27.3744
    49MR0505_1,   P03,    28,  1,     22, X12034,2,20051103,1319, 30.0147,-122.5888, 4319,   1201.6,2,   3.4133,2,   3.41330,2,  34.5229,2,  34.5228,2,    33.07,1,    33.13,2,   1203.6,2,    32.67,2,    33.87,2,   129.89,2,     0.40,    43.26,2,     0.15,     0.00,2,     0.01,    3.187,2,    0.018,    0.018,2,    0.015,2,    0.000,2,   2367.8,2,   2383.4,2,   7.3948,2, -999.000,9, -999.000,   -999.0,9,   -999.0,   3.3259,  27.4737
    49MR0505_1,   P03,    28,  1,     21, X12033,2,20051103,1319, 30.0147,-122.5888, 4319,   1400.4,2,   2.9979,2,   2.99789,2,  34.5615,2,  34.5614,2,    42.83,1,    43.31,2,   1402.2,2,    42.43,2,    44.19,2,   140.31,2,     0.43,    42.87,2,     0.15,     0.00,2,     0.01,    3.136,2,    0.018,    0.011,2,    0.011,2,    0.000,2,   2372.3,2,   2395.8,2,   7.4124,2, -999.000,9, -999.000,   -999.0,9,   -999.0,   2.8984,  27.5443
    49MR0505_1,   P03,    28,  1,     20, X12032,2,20051103,1319, 30.0147,-122.5888, 4319,   1601.6,2,   2.6029,2,   2.60285,2,  34.5792,2,  34.5796,2,    52.78,1,    53.73,2,   1602.5,2,    53.34,2,    54.47,2,   150.59,2,     0.45,    42.25,2,     0.15,     0.00,2,     0.01,    3.073,2,    0.018,    0.005,2,    0.007,2,    0.000,2,   2375.7,2,   2406.2,2,   7.4295,6, -999.000,9, -999.000,   -999.0,9,   -999.0,   2.4914,  27.5942
    49MR0505_1,   P03,    28,  1,     19, X12001,2,20051103,1319, 30.0147,-122.5888, 4319,   1800.5,2,   2.3162,2,   2.31612,2,  34.6035,2,  34.6040,2,    64.79,1,    66.46,2,   1799.5,2,    67.55,2,    66.98,2,   157.22,2,     0.46,    41.62,2,     0.15,     0.00,2,     0.01,    3.002,2,    0.017,    0.009,2,    0.009,2,    0.000,2,   2375.9,2,   2413.1,2,   7.4532,2, -999.000,9, -999.000,   -999.0,9,   -999.0,   2.1919,  27.6386
    49MR0505_1,   P03,    28,  1,     18, X12030,2,20051103,1319, 30.0147,-122.5888, 4319,   2001.1,2,   2.0931,2,   2.09306,2,  34.6247,2,  34.6246,2,    77.35,1,    79.77,2,   2000.1,2,    81.58,2,    80.23,2,   160.57,2,     0.47,    40.79,2,     0.15,     0.00,2,     0.01,    2.928,2,    0.017,    0.000,2,    0.003,2,    0.000,2,   2369.4,2,   2421.3,2,   7.4777,2, -999.000,9, -999.000,   -999.0,9,   -999.0,   1.9552,  27.6745
    49MR0505_1,   P03,    28,  1,     17, X12049,2,20051103,1319, 30.0147,-122.5888, 4319,   2199.6,2,   1.9672,2,   1.96715,2,  34.6387,2,  34.6386,6,    86.96,1,    89.82,2,   2199.1,2,    90.41,2,    90.25,2,   161.70,2,     0.47,    40.19,2,     0.15,     0.01,2,     0.01,    2.881,2,    0.017,    0.000,2,    0.000,2,    0.000,2,   2366.7,2,   2421.7,2,   7.4978,2, -999.000,9, -999.000,   -999.0,9,   -999.0,   1.8143,  27.6967
    49MR0505_1,   P03,    28,  1,     16, X12028,2,20051103,1319, 30.0147,-122.5888, 4319,   2401.9,2,   1.8632,2,   1.86313,2,  34.6489,2,  34.6490,2,    94.60,1,    97.74,2,   2401.6,2,    98.09,2,    98.10,2,   162.74,2,     0.48,    39.81,2,     0.14,     0.01,2,     0.01,    2.827,2,    0.017,    0.001,2,    0.001,2,    0.000,2,   2362.9,6,   2422.5,2,   7.5117,2, -999.000,9, -999.000,   -999.0,9,   -999.0,   1.6943,  27.7140
    49MR0505_1,   P03,    28,  1,     15, X12006,2,20051103,1319, 30.0147,-122.5888, 4319,   2601.1,2,   1.7765,2,   1.77654,2,  34.6565,2,  34.6570,2,   101.16,1,   104.49,2,   2600.7,2,   104.95,2,   104.98,2,   164.11,2,     0.48,    39.33,2,     0.14,     0.00,2,     0.01,    2.792,2,    0.017,    0.002,2,    0.000,2,    0.000,2,   2359.7,2,   2426.0,6,   7.5233,2, -999.000,9, -999.000,   -999.0,9,   -999.0,   1.5912,  27.7278
    49MR0505_1,   P03,    28,  1,     14, X12026,2,20051103,1319, 30.0147,-122.5888, 4319,   2798.8,2,   1.7114,2,   1.71133,2,  34.6618,2,  34.6619,2,   106.46,1,   110.14,2,   2798.6,2,   110.37,2,   110.45,2,   165.25,2,     0.48,    38.97,2,     0.14,     0.00,2,     0.01,    2.759,2,    0.017, -999.000,9, -999.000,9, -999.000,9,   2357.4,2,   2427.6,2,   7.5330,6, -999.000,9, -999.000,   -999.0,9,   -999.0,   1.5091,  27.7381
    49MR0505_1,   P03,    28,  1,     13, X12025,2,20051103,1319, 30.0147,-122.5888, 4319,   3000.3,2,   1.6353,2,   1.63523,2,  34.6668,2,  34.6669,2,   112.00,1,   115.88,2,   3000.0,2,   116.22,2,   116.13,2,   167.10,2,     0.49,    38.58,2,     0.14,     0.00,2,     0.01,    2.724,2,    0.017, -999.000,9, -999.000,9, -999.000,9,   2352.3,2,   2426.9,2,   7.5435,2, -999.000,9, -999.000,   -999.0,9,   -999.0,   1.4155,  27.7489
    49MR0505_1,   P03,    28,  1,     12, X12024,2,20051103,1319, 30.0147,-122.5888, 4319,   3249.2,2,   1.5845,2,   1.58440,2,  34.6717,2,  34.6718,6,   117.82,1,   121.83,2,   3249.1,2,   122.01,2,   121.99,2,   167.23,2,     0.49,    38.10,2,     0.14,     0.00,2,     0.01,    2.692,2,    0.017, -999.000,9, -999.000,9, -999.000,9,   2351.4,2,   2428.8,2,   7.5550,2, -999.000,9, -999.000,   -999.0,9,   -999.0,   1.3416,  27.7581
    49MR0505_1,   P03,    28,  1,     11, X12023,2,20051103,1319, 30.0147,-122.5888, 4319,   3499.5,2,   1.5448,2,   1.54474,2,  34.6764,2,  34.6764,2,   123.43,1,   127.43,2,   3499.6,2,   127.40,2,   127.59,2,   167.82,2,     0.49,    37.58,2,     0.14,     0.01,2,     0.01,    2.672,2,    0.017,    0.005,2,    0.010,2,    0.000,2,   2350.3,2,   2428.7,2,   7.5630,2, -999.000,9, -999.000,   -999.0,9,   -999.0,   1.2776,  27.7664
    49MR0505_1,   P03,    28,  1,     10, X12022,2,20051103,1319, 30.0147,-122.5888, 4319,   3752.1,2,   1.5348,2,   1.53473,2,  34.6794,2,  34.6797,2,   127.39,1,   131.16,2,   3752.1,2,   131.25,2,   131.22,2,   167.82,2,     0.49,    37.66,2,     0.14,     0.00,2,     0.01,    2.649,2,    0.017, -999.000,9, -999.000,9, -999.000,9,   2346.9,2,   2426.9,2,   7.5694,2, -999.000,9, -999.000,   -999.0,9,   -999.0,   1.2416,  27.7713
    49MR0505_1,   P03,    28,  1,      9, X12021,2,20051103,1319, 30.0147,-122.5888, 4319,   3999.9,2,   1.5360,2,   1.53592,2,  34.6817,2,  34.6818,6,   130.61,1,   134.02,2,   3999.9,2,   134.09,2,   134.09,2,   167.43,2,     0.49,    37.41,2,     0.14,     0.00,2,     0.01,    2.638,2,    0.017, -999.000,9, -999.000,9, -999.000,9,   2344.9,2,   2426.7,2,   7.5745,2, -999.000,9, -999.000,   -999.0,9,   -999.0,   1.2161,  27.7749
    49MR0505_1,   P03,    28,  1,      8, X12020,2,20051103,1319, 30.0147,-122.5888, 4319,   4250.3,2,   1.5520,2,   1.55194,2,  34.6828,2,  34.6830,2,   132.94,1,   135.81,2,   4250.3,2,   135.85,2,   135.87,2,   167.00,2,     0.49,    37.28,2,     0.14,     0.00,2,     0.01,    2.625,2,    0.017, -999.000,9, -999.000,9, -999.000,9,   2344.9,6,   2428.6,2,   7.5775,2, -999.000,9, -999.000,   -999.0,9,   -999.0,   1.2039,  27.7766
    49MR0505_1,   P03,    28,  1,      7, X12019,9,20051103,1319, 30.0147,-122.5888, 4319,      9.9,2,  19.2116,2,  19.21149,2,  33.5444,2,-999.0000,9,   226.62,1,   235.88,2,      8.1,2,   234.84,2,  -999.00,9,  -999.00,9,  -999.00,  -999.00,9,  -999.00,  -999.00,9,  -999.00, -999.000,9, -999.000, -999.000,9, -999.000,9, -999.000,9,   -999.0,9,   -999.0,9,-999.0000,9, -999.000,9, -999.000,   -999.0,9,   -999.0,  19.2098,  23.8557
    49MR0505_1,   P03,    28,  1,      6, X12018,5,20051103,1319, 30.0147,-122.5888, 4319,    250.0,2,   8.7393,2,   8.73669,2,  33.9637,2,-999.0000,9,   133.35,1,   137.35,2,    247.7,2,   134.64,2,  -999.00,9,  -999.00,9,  -999.00,  -999.00,9,  -999.00,  -999.00,9,  -999.00, -999.000,9, -999.000, -999.000,9, -999.000,9, -999.000,9,   -999.0,9,   -999.0,9,-999.0000,9, -999.000,9, -999.000,   -999.0,9,   -999.0,   8.7129,  26.3517
    49MR0505_1,   P03,    28,  1,      5, X12043,5,20051103,1319, 30.0147,-122.5888, 4319,    199.6,2,   9.3616,2,   9.36158,2,  33.7257,2,-999.0000,9,   156.27,1,   161.15,2,    201.5,2,   161.28,2,  -999.00,9,  -999.00,9,  -999.00,  -999.00,9,  -999.00,  -999.00,9,  -999.00, -999.000,9, -999.000, -999.000,9, -999.000,9, -999.000,9,   -999.0,9,   -999.0,9,-999.0000,9, -999.000,9, -999.000,   -999.0,9,   -999.0,   9.3397,  26.0660
    49MR0505_1,   P03,    28,  1,      4, X12010,2,20051103,1319, 30.0147,-122.5888, 4319,    150.7,2,  11.2735,2,  11.27503,2,  33.3154,2,-999.0000,9,   199.31,1,   205.29,2,    148.6,2,   200.99,2,  -999.00,9,  -999.00,9,  -999.00,  -999.00,9,  -999.00,  -999.00,9,  -999.00, -999.000,9, -999.000, -999.000,9, -999.000,9, -999.000,9,   -999.0,9,   -999.0,9,-999.0000,9, -999.000,9, -999.000,   -999.0,9,   -999.0,  11.2550,  25.4181
    49MR0505_1,   P03,    28,  1,      3, X12015,2,20051103,1319, 30.0147,-122.5888, 4319,     10.0,2,  19.2123,2,  19.21350,2,  33.5444,2,-999.0000,9,   226.36,1,   235.80,2,      8.1,2,   234.84,2,  -999.00,9,  -999.00,9,  -999.00,  -999.00,9,  -999.00,  -999.00,9,  -999.00, -999.000,9, -999.000, -999.000,9, -999.000,9, -999.000,9,   -999.0,9,   -999.0,9,-999.0000,9, -999.000,9, -999.000,   -999.0,9,   -999.0,  19.2105,  23.8555
    49MR0505_1,   P03,    28,  1,      2, X12014,2,20051103,1319, 30.0147,-122.5888, 4319,     19.9,2,  19.2251,2,  19.22560,2,  33.5445,2,  33.5459,2,   226.37,1,   235.36,2,     17.6,2,   234.89,2,   234.55,2,     1.87,2,     0.12,     0.04,2,     0.03,     0.00,2,     0.01,    0.275,2,    0.014, -999.000,9, -999.000,9, -999.000,9,   -999.0,9,   -999.0,9,-999.0000,9, -999.000,9, -999.000,   -999.0,9,   -999.0,  19.2216,  23.8528
    49MR0505_1,   P03,    28,  1,      1, X12013,2,20051103,1319, 30.0147,-122.5888, 4319,   4358.4,2,   1.5582,2,   1.55818,2,  34.6834,2,  34.6829,6,   134.31,1,   136.46,2,   4358.5,2,   136.74,2,   136.68,2,   166.08,2,     0.48,    37.19,2,     0.14,     0.00,2,     0.01,    2.612,2,    0.017,    0.009,2,    0.011,2,    0.000,2,   2343.4,2,   2428.6,2,   7.5796,2, -999.000,9, -999.000,   -999.0,9,   -999.0,   1.1977,  27.7775