BOTTLE,20100316JAMSTECRIGC
EXPOCODE,SECT,STNNBR,CASTNO,SAMPNO,BTLNBR,BTLNBR_FLAG_W,DATE,TIME,LATITUDE,LONGITUDE,DEPTH,CTDPRS,CTDPRS_FLAG_W,CTDTMP,CTDTMP_FLAG_W,SBE35,SBE35_FLAG_W,CTDSAL,CTDSAL_FLAG_W,SALNTY,SALNTY_FLAG_W,CTDOXY,CTDOXY_FLAG_W,OPTOXY,OPTOXY_FLAG_W,DWNPRS,DWNPRS_FLAG_W,DWNOXY,DWNOXY_FLAG_W,OXYGEN,OXYGEN_FLAG_W,SILCAT,SILCAT_FLAG_W,SILUNC,NITRAT,NITRAT_FLAG_W,NRAUNC,NITRIT,NITRIT_FLAG_W,NRIUNC,PHSPHT,PHSPHT_FLAG_W,PHPUNC,CFC-11,CFC-11_FLAG_W,CFC-12,CFC-12_FLAG_W,CFC113,CFC113_FLAG_W,TCARBN,TCARBN_FLAG_W,ALKALI,ALKALI_FLAG_W,PH,PH_FLAG_W,DELC13,DELC13_FLAG_W,C13ERR,DELC14,DELC14_FLAG_W,C14ERR,THETA,SIG0
,,,,,,,,UTC,DEG,DEG,M,DBAR,,ITS-90,,ITS-90,,PSS-78,,PSS-78,,UMOL/KG,,UMOL/KG,,DBAR,,UMOL/KG,,UMOL/KG,,UMOL/KG,,UMOL/KG,UMOL/KG,,UMOL/KG,UMOL/KG,,UMOL/KG,UMOL/KG,,UMOL/KG,PMOL/KG,,PMOL/KG,,PMOL/KG,,UMOL/KG,,UMOL/KG,,,,/MILLE,,/MILLE,/MILLE,,/MILLE,DEG C,KG/CUM
    49MR0505_1,   P03,    76,  1,      0,   -999,9,20051111,2133, 24.2607,-141.8557, 4613,   -999.0,9,-999.0000,9,-999.00000,9,-999.0000,9,  35.1116,2,  -999.00,9,  -999.00,9,   -999.0,9,  -999.00,9,  -999.00,9,  -999.00,9,  -999.00,  -999.00,9,  -999.00,  -999.00,9,  -999.00, -999.000,9, -999.000, -999.000,9, -999.000,9, -999.000,9,   -999.0,9,   -999.0,9,-999.0000,9, -999.000,9, -999.000,   -999.0,9,   -999.0,-999.0000,-999.0000
    49MR0505_1,   P03,    76,  1,     36, X12048,2,20051111,2133, 24.2607,-141.8557, 4613,      9.3,2,  22.7540,2,  22.75626,2,  35.1110,2,  35.1109,2,   206.08,1,   218.47,2,      8.3,2,   217.41,2,   218.06,2,     1.14,2,     0.12,     0.05,2,     0.03,     0.00,2,     0.01,    0.112,2,    0.021, -999.000,5, -999.000,5, -999.000,5,   -999.0,9,   -999.0,9,-999.0000,9, -999.000,9, -999.000,   -999.0,9,   -999.0,  22.7521,  24.0891
    49MR0505_1,   P03,    76,  1,     35, X12047,2,20051111,2133, 24.2607,-141.8557, 4613,     49.6,2,  22.8022,2,  22.80422,2,  35.1492,2,  35.1490,2,   205.68,1,   217.62,2,     51.6,2,   217.49,2,   217.44,2,     1.12,2,     0.12,     0.04,2,     0.03,     0.00,2,     0.01,    0.107,2,    0.021,    1.887,2,    1.104,2, -999.000,5,   -999.0,9,   -999.0,9,-999.0000,9, -999.000,9, -999.000,   -999.0,9,   -999.0,  22.7921,  24.1065
    49MR0505_1,   P03,    76,  1,     34, X12046,2,20051111,2133, 24.2607,-141.8557, 4613,     99.7,2,  20.7573,2,  20.75609,2,  35.0109,2,  35.0122,2,   211.76,1,   223.83,2,    103.9,2,   224.02,2,   223.49,2,     1.44,2,     0.12,     0.04,2,     0.03,     0.01,2,     0.01,    0.109,2,    0.021,    2.149,2,    1.244,2, -999.000,5,   -999.0,9,   -999.0,9,-999.0000,9, -999.000,9, -999.000,   -999.0,9,   -999.0,  20.7384,  24.5731
    49MR0505_1,   P03,    76,  1,     33, X12003,2,20051111,2133, 24.2607,-141.8557, 4613,    151.3,2,  19.7741,2,  19.78217,2,  35.0196,2,  35.0203,2,   202.73,1,   214.80,2,    151.7,2,   213.38,2,   214.18,2,     1.71,2,     0.12,     0.24,2,     0.03,     0.18,2,     0.01,    0.121,2,    0.020,    2.224,2,    1.270,2, -999.000,5,   -999.0,9,   -999.0,9,-999.0000,9, -999.000,9, -999.000,   -999.0,9,   -999.0,  19.7464,  24.8433
    49MR0505_1,   P03,    76,  1,     32, X12044,2,20051111,2133, 24.2607,-141.8557, 4613,    202.6,2,  16.0131,2,  16.01866,2,  34.3793,2,  34.3673,2,   195.66,1,   205.95,2,    200.9,2,   205.81,2,   205.91,2,     3.78,2,     0.13,     3.72,2,     0.04,     0.01,2,     0.01,    0.402,2,    0.013,    2.614,2,    1.496,2, -999.000,5,   -999.0,9,   -999.0,9,-999.0000,9, -999.000,9, -999.000,   -999.0,9,   -999.0,  15.9812,  25.2744
    49MR0505_1,   P03,    76,  1,     31, X12051,2,20051111,2133, 24.2607,-141.8557, 4613,    251.0,2,  12.3156,2,  12.32015,2,  33.9880,2,  33.9955,2,   196.06,1,   206.01,2,    253.0,2,   206.57,2,   205.86,2,     8.53,2,     0.14,     9.17,2,     0.06,     0.00,2,     0.01,    0.769,2,    0.013,    3.138,6,    1.625,6,    0.086,6,   -999.0,9,   -999.0,9,-999.0000,9, -999.000,9, -999.000,   -999.0,9,   -999.0,  12.2826,  25.7492
    49MR0505_1,   P03,    76,  1,     30, X12042,2,20051111,2133, 24.2607,-141.8557, 4613,    302.8,2,  10.9286,2,  10.92950,2,  34.0136,2,  34.0145,2,   198.14,1,   208.09,2,    298.0,2,   209.11,2,   208.26,2,    12.84,2,     0.15,    12.73,2,     0.07,     0.00,2,     0.01,    0.975,2,    0.013,    3.338,2,    1.678,2,    0.085,2,   -999.0,9,   -999.0,9,-999.0000,9, -999.000,9, -999.000,   -999.0,9,   -999.0,  10.8917,  26.0267
    49MR0505_1,   P03,    76,  1,     29, X12041,2,20051111,2133, 24.2607,-141.8557, 4613,    401.1,2,   8.5138,2,   8.51438,2,  34.0715,2,  34.0723,2,   161.98,1,   170.16,2,    398.1,2,   163.74,2,   170.51,2,    30.72,2,     0.19,    22.35,2,     0.10,     0.00,2,     0.01,    1.598,2,    0.014,    2.897,2,    1.363,2,    0.086,2,   -999.0,9,   -999.0,9,-999.0000,9, -999.000,9, -999.000,   -999.0,9,   -999.0,   8.4717,  26.4735
    49MR0505_1,   P03,    76,  1,     28, X12016,2,20051111,2133, 24.2607,-141.8557, 4613,    500.6,2,   6.2054,2,   6.20365,2,  34.0379,2,  34.0356,6,    82.26,1,    87.67,2,    504.5,2,    89.56,2,    89.09,2,    58.81,2,     0.25,    34.09,2,     0.13,     0.00,2,     0.01,    2.483,2,    0.016,    1.379,2,    0.612,2,    0.035,2,   -999.0,9,   -999.0,9,-999.0000,9, -999.000,9, -999.000,   -999.0,9,   -999.0,   6.1612,  26.7719
    49MR0505_1,   P03,    76,  1,     27, X12039,2,20051111,2133, 24.2607,-141.8557, 4613,    598.3,2,   5.4525,2,   5.45245,2,  34.1437,2,  34.1431,2,    36.00,1,    38.05,2,    597.4,2,    36.29,2,    38.13,2,    78.36,2,     0.29,    39.50,2,     0.14,     0.00,2,     0.01,    2.941,2,    0.017,    0.375,2,    0.184,2,    0.017,2,   -999.0,9,   -999.0,9,-999.0000,9, -999.000,9, -999.000,   -999.0,9,   -999.0,   5.4027,  26.9493
    49MR0505_1,   P03,    76,  1,     26, X12038,2,20051111,2133, 24.2607,-141.8557, 4613,    699.1,2,   4.8489,2,   4.84898,2,  34.2733,2,  34.2735,2,    18.40,1,    19.56,2,    701.9,2,    19.96,2,    19.38,2,    94.02,2,     0.33,    42.26,2,     0.15,     0.00,2,     0.01,    3.153,2,    0.018,    0.039,2,    0.022,2,    0.000,2,   -999.0,9,   -999.0,9,-999.0000,9, -999.000,9, -999.000,   -999.0,9,   -999.0,   4.7933,  27.1226
    49MR0505_1,   P03,    76,  1,     25, X12037,2,20051111,2133, 24.2607,-141.8557, 4613,    799.9,2,   4.6949,2,   4.69471,2,  34.3983,2,  34.3983,2,    22.24,1,    23.51,2,    799.7,2,    23.47,2,    23.47,2,    98.16,2,     0.33,    42.67,2,     0.15,     0.00,2,     0.01,    3.162,2,    0.018,    0.004,6,    0.002,6,    0.000,6,   -999.0,9,   -999.0,9,-999.0000,9, -999.000,9, -999.000,   -999.0,9,   -999.0,   4.6314,  27.2399
    49MR0505_1,   P03,    76,  1,     24, X12008,2,20051111,2133, 24.2607,-141.8557, 4613,    899.9,2,   4.4332,2,   4.43173,2,  34.4593,2,  34.4574,2,    29.81,1,    31.27,2,    899.9,2,    31.54,2,    31.32,2,   102.56,2,     0.34,    42.63,2,     0.15,     0.00,2,     0.01,    3.132,2,    0.018,    0.001,2,    0.000,2,    0.000,2,   -999.0,9,   -999.0,9,-999.0000,9, -999.000,9, -999.000,   -999.0,9,   -999.0,   4.3629,  27.3177
    49MR0505_1,   P03,    76,  1,     23, X12035,2,20051111,2133, 24.2607,-141.8557, 4613,    999.7,2,   4.1732,2,   4.17350,2,  34.4871,2,  34.4870,6,    34.42,1,    36.03,2,    997.8,2,    35.74,2,    36.46,2,   108.44,2,     0.36,    42.80,2,     0.15,     0.00,2,     0.01,    3.137,2,    0.018,    0.000,2,    0.000,2,    0.000,2,   -999.0,9,   -999.0,9,-999.0000,9, -999.000,9, -999.000,   -999.0,9,   -999.0,   4.0963,  27.3681
    49MR0505_1,   P03,    76,  1,     22, X12034,2,20051111,2133, 24.2607,-141.8557, 4613,   1198.4,2,   3.6417,2,   3.64203,2,  34.5273,2,  34.5272,2,    42.67,1,    44.75,2,   1198.0,2,    45.48,2,    45.19,2,   119.68,2,     0.38,    42.79,2,     0.15,     0.00,2,     0.01,    3.113,2,    0.018,    0.002,2,    0.000,2,    0.000,2,   -999.0,9,   -999.0,9,-999.0000,9, -999.000,9, -999.000,   -999.0,9,   -999.0,   3.5525,  27.4553
    49MR0505_1,   P03,    76,  1,     21, X12033,2,20051111,2133, 24.2607,-141.8557, 4613,   1400.6,2,   3.1283,2,   3.12968,2,  34.5579,2,  34.5578,2,    50.12,1,    52.67,2,   1400.3,2,    53.66,2,    53.28,2,   131.85,2,     0.41,    42.42,2,     0.15,     0.00,2,     0.01,    3.081,2,    0.018,    0.000,2,    0.000,2,    0.000,2,   -999.0,9,   -999.0,9,-999.0000,9, -999.000,9, -999.000,   -999.0,9,   -999.0,   3.0273,  27.5297
    49MR0505_1,   P03,    76,  1,     20, X12032,2,20051111,2133, 24.2607,-141.8557, 4613,   1606.3,2,   2.6929,2,   2.69278,2,  34.5831,2,  34.5828,2,    60.43,1,    63.64,2,   1606.5,2,    63.84,2,    63.84,2,   142.27,2,     0.43,    41.95,2,     0.15,     0.00,2,     0.01,    3.025,2,    0.018,    0.000,2,    0.002,2,    0.000,2,   -999.0,9,   -999.0,9,-999.0000,9, -999.000,9, -999.000,   -999.0,9,   -999.0,   2.5799,  27.5897
    49MR0505_1,   P03,    76,  1,     19, X12001,2,20051111,2133, 24.2607,-141.8557, 4613,   4697.3,2,   1.5025,2,   1.50251,2,  34.6904,2,  34.6907,2,   149.07,1,   155.46,2,   4697.3,2,   155.02,2,   155.22,2,   150.56,2,     0.45,    36.02,2,     0.13,     0.00,2,     0.01,    2.509,2,    0.016, -999.000,9, -999.000,9, -999.000,9,   -999.0,9,   -999.0,9,-999.0000,9, -999.000,9, -999.000,   -999.0,9,   -999.0,   1.1044,  27.7895
    49MR0505_1,   P03,    76,  1,     18, X12030,2,20051111,2133, 24.2607,-141.8557, 4613,   2003.2,2,   2.1482,2,   2.14832,2,  34.6213,2,  34.6213,6,    77.83,1,    82.48,2,   2003.4,2,    82.50,2,    82.51,2,   155.59,2,     0.46,    40.81,2,     0.15,     0.00,2,     0.01,    2.911,2,    0.017,    0.001,2,    0.001,2,    0.000,2,   -999.0,9,   -999.0,9,-999.0000,9, -999.000,9, -999.000,   -999.0,9,   -999.0,   2.0093,  27.6675
    49MR0505_1,   P03,    76,  1,     17, X12049,2,20051111,2133, 24.2607,-141.8557, 4613,   2200.9,2,   1.9600,2,   1.96015,2,  34.6354,2,  34.6353,2,    86.56,1,    91.99,2,   2201.9,2,    91.14,2,    91.97,2,   160.24,2,     0.47,    40.12,2,     0.15,     0.00,2,     0.01,    2.856,2,    0.017,    0.001,2,    0.000,2,    0.000,2,   -999.0,9,   -999.0,9,-999.0000,9, -999.000,9, -999.000,   -999.0,9,   -999.0,   1.8071,  27.6946
    49MR0505_1,   P03,    76,  1,     16, X12028,2,20051111,2133, 24.2607,-141.8557, 4613,   2396.7,2,   1.8070,2,   1.80709,2,  34.6457,2,  34.6457,2,    94.35,1,   100.38,2,   2396.9,2,   100.21,2,   100.28,2,   163.65,2,     0.48,    39.57,2,     0.14,     0.00,2,     0.01,    2.808,2,    0.017, -999.000,9, -999.000,9, -999.000,9,   -999.0,9,   -999.0,9,-999.0000,9, -999.000,9, -999.000,   -999.0,9,   -999.0,   1.6396,  27.7156
    49MR0505_1,   P03,    76,  1,     15, X12009,2,20051111,2133, 24.2607,-141.8557, 4613,   2597.2,2,   1.7131,2,   1.71333,2,  34.6530,2,  34.6529,2,    99.93,1,   106.14,2,   2597.0,2,   106.76,2,   106.24,2,   165.96,2,     0.48,    39.27,2,     0.14,     0.00,2,     0.01,    2.777,2,    0.017, -999.000,9, -999.000,9, -999.000,9,   -999.0,9,   -999.0,9,-999.0000,9, -999.000,9, -999.000,   -999.0,9,   -999.0,   1.5294,  27.7296
    49MR0505_1,   P03,    76,  1,     14, X12026,2,20051111,2133, 24.2607,-141.8557, 4613,   2798.6,2,   1.6142,2,   1.61428,2,  34.6618,2,  34.6620,6,   107.85,1,   114.76,2,   2799.0,2,   114.26,2,   114.70,2,   166.82,2,     0.49,    38.74,2,     0.14,     0.00,2,     0.01,    2.732,2,    0.017,    0.000,2,    0.000,2,    0.000,2,   -999.0,9,   -999.0,9,-999.0000,9, -999.000,9, -999.000,   -999.0,9,   -999.0,   1.4140,  27.7450
    49MR0505_1,   P03,    76,  1,     13, X12025,2,20051111,2133, 24.2607,-141.8557, 4613,   2998.4,2,   1.5643,2,   1.56441,2,  34.6680,2,  34.6679,2,   114.15,1,   121.45,2,   2998.9,2,   120.51,2,   121.44,2,   165.97,2,     0.48,    38.31,2,     0.14,     0.00,2,     0.01,    2.697,2,    0.017, -999.000,9, -999.000,9, -999.000,9,   -999.0,9,   -999.0,9,-999.0000,9, -999.000,9, -999.000,   -999.0,9,   -999.0,   1.3463,  27.7548
    49MR0505_1,   P03,    76,  1,     12, X12024,2,20051111,2133, 24.2607,-141.8557, 4613,   3250.8,2,   1.5031,2,   1.50325,2,  34.6759,2,  34.6759,2,   123.32,1,   131.14,2,   3251.2,2,   130.32,2,   130.79,2,   163.69,2,     0.48,    37.62,2,     0.14,     0.00,2,     0.01,    2.634,2,    0.017,    0.010,2,    0.011,2,    0.000,2,   -999.0,9,   -999.0,9,-999.0000,9, -999.000,9, -999.000,   -999.0,9,   -999.0,   1.2619,  27.7671
    49MR0505_1,   P03,    76,  1,     11, X12023,2,20051111,2133, 24.2607,-141.8557, 4613,   3500.7,2,   1.4780,2,   1.47795,2,  34.6803,2,  34.6802,2,   129.52,1,   137.51,2,   3500.8,2,   137.37,2,   137.17,2,   161.62,2,     0.47,    37.25,2,     0.14,     0.00,2,     0.01,    2.603,2,    0.016, -999.000,9, -999.000,9, -999.000,9,   -999.0,9,   -999.0,9,-999.0000,9, -999.000,9, -999.000,   -999.0,9,   -999.0,   1.2124,  27.7741
    49MR0505_1,   P03,    76,  1,     10, X12022,2,20051111,2133, 24.2607,-141.8557, 4613,   3751.2,2,   1.4673,2,   1.46749,2,  34.6840,2,  34.6838,6,   134.87,1,   142.62,2,   3751.5,2,   142.30,2,   142.66,2,   159.25,2,     0.47,    36.82,2,     0.14,     0.00,2,     0.01,    2.572,2,    0.016,    0.013,2,    0.006,2,    0.000,2,   -999.0,9,   -999.0,9,-999.0000,9, -999.000,9, -999.000,   -999.0,9,   -999.0,   1.1759,  27.7795
    49MR0505_1,   P03,    76,  1,      9, X12021,2,20051111,2133, 24.2607,-141.8557, 4613,   4002.4,2,   1.4717,2,   1.47177,2,  34.6859,2,  34.6865,2,   138.75,1,   146.18,2,   4002.4,2,   146.65,2,   146.18,2,   157.23,2,     0.46,    36.64,2,     0.14,     0.00,2,     0.01,    2.558,2,    0.016, -999.000,9, -999.000,9, -999.000,9,   -999.0,9,   -999.0,9,-999.0000,9, -999.000,9, -999.000,   -999.0,9,   -999.0,   1.1533,  27.7826
    49MR0505_1,   P03,    76,  1,      8, X12020,2,20051111,2133, 24.2607,-141.8557, 4613,   4251.4,2,   1.4853,2,   1.48536,2,  34.6876,2,  34.6876,2,   141.65,1,   148.91,2,   4251.4,2,   149.41,2,   148.66,2,   155.43,2,     0.46,    36.53,2,     0.14,     0.00,2,     0.01,    2.543,2,    0.016,    0.014,2,    0.012,2,    0.000,2,   -999.0,9,   -999.0,9,-999.0000,9, -999.000,9, -999.000,   -999.0,9,   -999.0,   1.1390,  27.7849
    49MR0505_1,   P03,    76,  1,      7, X12019,2,20051111,2133, 24.2607,-141.8557, 4613,   4500.0,2,   1.4983,2,   1.49827,2,  34.6888,2,  34.6890,2,   145.08,1,   151.70,2,   4500.1,2,   151.87,2,   151.56,2,   153.38,2,     0.46,    36.22,2,     0.13,     0.00,2,     0.01,    2.526,2,    0.016, -999.000,9, -999.000,9, -999.000,9,   -999.0,9,   -999.0,9,-999.0000,9, -999.000,9, -999.000,   -999.0,9,   -999.0,   1.1234,  27.7870
    49MR0505_1,   P03,    76,  1,      6, X12018,9,20051111,2133, 24.2607,-141.8557, 4613,    151.5,2,  19.7628,2,  19.77003,2,  35.0165,2,-999.0000,9,   202.63,1,   214.76,2,    151.9,2,   213.41,2,  -999.00,9,  -999.00,9,  -999.00,  -999.00,9,  -999.00,  -999.00,9,  -999.00, -999.000,9, -999.000, -999.000,9, -999.000,9, -999.000,9,   -999.0,9,   -999.0,9,-999.0000,9, -999.000,9, -999.000,   -999.0,9,   -999.0,  19.7350,  24.8439
    49MR0505_1,   P03,    76,  1,      5, X12043,9,20051111,2133, 24.2607,-141.8557, 4613,     99.6,2,  20.7657,2,  20.76697,2,  35.0140,2,-999.0000,9,   211.95,1,   223.84,2,    103.9,2,   224.02,2,  -999.00,9,  -999.00,9,  -999.00,  -999.00,9,  -999.00,  -999.00,9,  -999.00, -999.000,9, -999.000, -999.000,9, -999.000,9, -999.000,9,   -999.0,9,   -999.0,9,-999.0000,9, -999.000,9, -999.000,   -999.0,9,   -999.0,  20.7468,  24.5732
    49MR0505_1,   P03,    76,  1,      4, X12010,9,20051111,2133, 24.2607,-141.8557, 4613,     49.5,2,  22.8024,2,  22.80325,2,  35.1489,2,-999.0000,9,   205.45,1,   217.58,2,     51.4,2,   217.53,2,  -999.00,9,  -999.00,9,  -999.00,  -999.00,9,  -999.00,  -999.00,9,  -999.00, -999.000,9, -999.000, -999.000,9, -999.000,9, -999.000,9,   -999.0,9,   -999.0,9,-999.0000,9, -999.000,9, -999.000,   -999.0,9,   -999.0,  22.7924,  24.1062
    49MR0505_1,   P03,    76,  1,      3, X12015,9,20051111,2133, 24.2607,-141.8557, 4613,      9.4,2,  22.7567,2,  22.75614,2,  35.1111,2,-999.0000,9,   206.00,1,   218.48,2,      8.2,2,   217.38,2,  -999.00,9,  -999.00,9,  -999.00,  -999.00,9,  -999.00,  -999.00,9,  -999.00, -999.000,9, -999.000, -999.000,9, -999.000,9, -999.000,9,   -999.0,9,   -999.0,9,-999.0000,9, -999.000,9, -999.000,   -999.0,9,   -999.0,  22.7548,  24.0884
    49MR0505_1,   P03,    76,  1,      2, X12014,2,20051111,2133, 24.2607,-141.8557, 4613,   1807.5,2,   2.4127,2,   2.41329,2,  34.6011,2,  34.6015,2,    68.71,1,    72.59,2,   1807.3,2,    73.37,2,    72.46,2,   149.04,2,     0.45,    41.29,2,     0.15,     0.00,2,     0.01,    2.973,2,    0.017,    0.006,2,    0.004,2,    0.000,2,   -999.0,9,   -999.0,9,-999.0000,9, -999.000,9, -999.000,   -999.0,9,   -999.0,   2.2865,  27.6289
    49MR0505_1,   P03,    76,  1,      1, X12013,2,20051111,2133, 24.2607,-141.8557, 4613,   4697.3,2,   1.5025,2,   1.50240,2,  34.6904,2,  34.6905,6,   149.16,1,   155.35,2,   4697.3,2,   155.04,2,   155.07,2,   150.67,2,     0.45,    35.96,2,     0.13,     0.00,2,     0.01,    2.510,2,    0.016,    0.011,2,    0.013,2,    0.000,2,   -999.0,9,   -999.0,9,-999.0000,9, -999.000,9, -999.000,   -999.0,9,   -999.0,   1.1044,  27.7895