BOTTLE,20100316JAMSTECRIGC
EXPOCODE,SECT,STNNBR,CASTNO,SAMPNO,BTLNBR,BTLNBR_FLAG_W,DATE,TIME,LATITUDE,LONGITUDE,DEPTH,CTDPRS,CTDPRS_FLAG_W,CTDTMP,CTDTMP_FLAG_W,SBE35,SBE35_FLAG_W,CTDSAL,CTDSAL_FLAG_W,SALNTY,SALNTY_FLAG_W,CTDOXY,CTDOXY_FLAG_W,OPTOXY,OPTOXY_FLAG_W,DWNPRS,DWNPRS_FLAG_W,DWNOXY,DWNOXY_FLAG_W,OXYGEN,OXYGEN_FLAG_W,SILCAT,SILCAT_FLAG_W,SILUNC,NITRAT,NITRAT_FLAG_W,NRAUNC,NITRIT,NITRIT_FLAG_W,NRIUNC,PHSPHT,PHSPHT_FLAG_W,PHPUNC,CFC-11,CFC-11_FLAG_W,CFC-12,CFC-12_FLAG_W,CFC113,CFC113_FLAG_W,TCARBN,TCARBN_FLAG_W,ALKALI,ALKALI_FLAG_W,PH,PH_FLAG_W,DELC13,DELC13_FLAG_W,C13ERR,DELC14,DELC14_FLAG_W,C14ERR,THETA,SIG0
,,,,,,,,UTC,DEG,DEG,M,DBAR,,ITS-90,,ITS-90,,PSS-78,,PSS-78,,UMOL/KG,,UMOL/KG,,DBAR,,UMOL/KG,,UMOL/KG,,UMOL/KG,,UMOL/KG,UMOL/KG,,UMOL/KG,UMOL/KG,,UMOL/KG,UMOL/KG,,UMOL/KG,PMOL/KG,,PMOL/KG,,PMOL/KG,,UMOL/KG,,UMOL/KG,,,,/MILLE,,/MILLE,/MILLE,,/MILLE,DEG C,KG/CUM
    49MR0505_1,   P03,    10,  1,      0,   -999,9,20051101,2110, 32.1495,-118.7608, 1300,   -999.0,9,-999.0000,9,-999.00000,9,-999.0000,9,  33.3570,2,  -999.00,9,  -999.00,9,   -999.0,9,  -999.00,9,  -999.00,9,  -999.00,9,  -999.00,  -999.00,9,  -999.00,  -999.00,9,  -999.00, -999.000,9, -999.000, -999.000,9, -999.000,9, -999.000,9,   -999.0,9,   -999.0,9,-999.0000,9, -999.000,9, -999.000,   -999.0,9,   -999.0,-999.0000,-999.0000
    49MR0505_1,   P03,    10,  1,     36, X12048,2,20051101,2110, 32.1495,-118.7608, 1300,      9.7,2,  18.1752,2,  18.18657,2,  33.3457,2,  33.3401,2,   240.26,1,   246.86,2,      5.3,2,   246.65,2,   246.55,2,     1.64,2,     0.12,     0.04,2,     0.03,     0.01,2,     0.01,    0.239,2,    0.015,    2.427,2,    1.416,2, -999.000,5,   -999.0,9,   -999.0,9,-999.0000,9, -999.000,9, -999.000,   -999.0,9,   -999.0,  18.1735,  23.9630
    49MR0505_1,   P03,    10,  1,     35, X12047,2,20051101,2110, 32.1495,-118.7608, 1300,     49.1,2,  14.2115,2,  14.21271,2,  33.1693,2,  33.1709,2,   250.39,1,   254.79,2,     48.3,2,   247.96,2,   254.51,2,     3.15,2,     0.13,     1.00,2,     0.04,     0.06,2,     0.01,    0.459,2,    0.013, -999.000,9, -999.000,9, -999.000,9,   -999.0,9,   -999.0,9,-999.0000,9, -999.000,9, -999.000,   -999.0,9,   -999.0,  14.2045,  24.7301
    49MR0505_1,   P03,    10,  1,     34, X12046,2,20051101,2110, 32.1495,-118.7608, 1300,    100.4,2,  10.5232,2,  10.52320,2,  33.5861,2,  33.5810,2,   148.79,1,   152.29,2,    103.1,2,   163.64,2,   155.47,2,    18.01,2,     0.16,    19.09,2,     0.09,     0.02,2,     0.01,    1.594,2,    0.014,    3.126,2,    1.672,2,    0.187,2,   -999.0,9,   -999.0,9,-999.0000,9, -999.000,9, -999.000,   -999.0,9,   -999.0,  10.5114,  25.7605
    49MR0505_1,   P03,    10,  1,     33, X12003,2,20051101,2110, 32.1495,-118.7608, 1300,    150.2,2,   9.5750,2,   9.57520,2,  34.0020,2,  34.0017,2,   114.78,1,   116.79,2,    151.9,2,   117.14,2,   116.51,2,    27.53,2,     0.18,    24.32,2,     0.10,     0.01,2,     0.01,    1.955,2,    0.015, -999.000,9, -999.000,9, -999.000,9,   -999.0,9,   -999.0,9,-999.0000,9, -999.000,9, -999.000,   -999.0,9,   -999.0,   9.5583,  26.2464
    49MR0505_1,   P03,    10,  1,     32, X12044,2,20051101,2110, 32.1495,-118.7608, 1300,    202.8,2,   9.1960,2,   9.19940,2,  34.1803,2,  34.1792,2,    81.26,1,    83.01,2,    201.4,2,    88.43,2,    82.87,2,    35.04,2,     0.20,    27.51,2,     0.11,     0.01,2,     0.01,    2.248,2,    0.016, -999.000,9, -999.000,9, -999.000,9,   -999.0,9,   -999.0,9,-999.0000,9, -999.000,9, -999.000,   -999.0,9,   -999.0,   9.1739,  26.4484
    49MR0505_1,   P03,    10,  1,     31, X12051,2,20051101,2110, 32.1495,-118.7608, 1300,    253.9,2,   9.1098,2,   9.10771,2,  34.3087,2,  34.2850,2,    49.51,1,    51.18,2,    253.1,2,    44.89,2,    53.72,2,    40.36,2,     0.21,    29.48,2,     0.12,     0.01,2,     0.01,    2.500,2,    0.016,    1.364,6,    0.667,6,    0.042,6,   -999.0,9,   -999.0,9,-999.0000,9, -999.000,9, -999.000,   -999.0,9,   -999.0,   9.0822,  26.5637
    49MR0505_1,   P03,    10,  1,     30, X12042,2,20051101,2110, 32.1495,-118.7608, 1300,    303.5,2,   8.4625,2,   8.46722,2,  34.3218,2,  34.3282,2,    34.92,1,    35.06,2,    304.9,2,    34.51,2,    34.84,2,    46.97,2,     0.22,    31.33,2,     0.12,     0.01,2,     0.01,    2.705,2,    0.017, -999.000,9, -999.000,9, -999.000,9,   -999.0,9,   -999.0,9,-999.0000,9, -999.000,9, -999.000,   -999.0,9,   -999.0,   8.4308,  26.6761
    49MR0505_1,   P03,    10,  1,     29, X12041,2,20051101,2110, 32.1495,-118.7608, 1300,    402.4,2,   7.1942,2,   7.19438,2,  34.2913,2,  34.2912,2,    25.11,1,    25.02,2,    402.2,2,    24.66,2,    25.08,2,    60.48,2,     0.25,    35.50,2,     0.13,     0.01,2,     0.01,    2.915,2,    0.017, -999.000,9, -999.000,9, -999.000,9,   -999.0,9,   -999.0,9,-999.0000,9, -999.000,9, -999.000,   -999.0,9,   -999.0,   7.1558,  26.8389
    49MR0505_1,   P03,    10,  1,     28, X12016,2,20051101,2110, 32.1495,-118.7608, 1300,    501.8,2,   6.4150,2,   6.41512,2,  34.3177,2,  34.3176,6,    14.99,1,    14.73,2,    501.0,2,    15.20,2,    15.34,2,    71.93,2,     0.28,    38.15,2,     0.14,     0.01,2,     0.01,    3.080,2,    0.018,    0.205,2,    0.103,2,    0.014,2,   -999.0,9,   -999.0,9,-999.0000,9, -999.000,9, -999.000,   -999.0,9,   -999.0,   6.3697,  26.9659
    49MR0505_1,   P03,    10,  1,     27, X12039,2,20051101,2110, 32.1495,-118.7608, 1300,    601.7,2,   5.8875,2,   5.88774,2,  34.3514,2,  34.3514,2,    10.39,1,    10.02,2,    600.3,2,    10.54,2,    10.68,2,    80.79,2,     0.30,    39.95,2,     0.14,     0.01,2,     0.01,    3.170,2,    0.018, -999.000,9, -999.000,9, -999.000,9,   -999.0,9,   -999.0,9,-999.0000,9, -999.000,9, -999.000,   -999.0,9,   -999.0,   5.8352,  27.0609
    49MR0505_1,   P03,    10,  1,     26, X12038,2,20051101,2110, 32.1495,-118.7608, 1300,    703.6,2,   5.3288,2,   5.32840,2,  34.3917,2,  34.3907,2,     9.71,1,     9.23,2,    703.5,2,    10.07,2,     9.81,2,    90.48,2,     0.32,    41.57,2,     0.15,     0.01,2,     0.01,    3.234,2,    0.018,    0.036,2,    0.017,2,    0.000,2,   -999.0,9,   -999.0,9,-999.0000,9, -999.000,9, -999.000,   -999.0,9,   -999.0,   5.2700,  27.1614
    49MR0505_1,   P03,    10,  1,     25, X12037,2,20051101,2110, 32.1495,-118.7608, 1300,    802.6,2,   4.8720,2,   4.87184,2,  34.4206,2,  34.4211,2,    12.25,1,    11.56,2,    801.9,2,    12.71,2,    12.47,2,    99.50,2,     0.34,    42.40,2,     0.15,     0.01,2,     0.01,    3.254,2,    0.018,    0.028,6,    0.018,6,    0.000,6,   -999.0,9,   -999.0,9,-999.0000,9, -999.000,9, -999.000,   -999.0,9,   -999.0,   4.8072,  27.2379
    49MR0505_1,   P03,    10,  1,     24, X12008,2,20051101,2110, 32.1495,-118.7608, 1300,    902.8,2,   4.4983,2,   4.49839,2,  34.4506,2,  34.4503,2,    15.87,1,    15.02,2,    903.3,2,    16.16,2,    16.10,2,   107.14,2,     0.35,    42.97,2,     0.15,     0.01,2,     0.01,    3.264,2,    0.018, -999.000,9, -999.000,9, -999.000,9,   -999.0,9,   -999.0,9,-999.0000,9, -999.000,9, -999.000,   -999.0,9,   -999.0,   4.4273,  27.3038
    49MR0505_1,   P03,    10,  1,     23, X12035,2,20051101,2110, 32.1495,-118.7608, 1300,   1001.9,2,   4.1879,2,   4.18769,2,  34.4741,2,  34.4742,6,    20.00,1,    19.04,2,   1001.9,2,    20.29,2,    20.04,2,   114.24,2,     0.37,    43.06,2,     0.15,     0.01,2,     0.01,    3.257,2,    0.018,    0.044,2,    0.033,2,    0.034,2,   -999.0,9,   -999.0,9,-999.0000,9, -999.000,9, -999.000,   -999.0,9,   -999.0,   4.1107,  27.3563
    49MR0505_1,   P03,    10,  1,     22, X12034,2,20051101,2110, 32.1495,-118.7608, 1300,   1201.4,2,   3.4902,2,   3.49014,2,  34.5234,2,  34.5243,2,    31.32,1,    30.03,2,   1201.3,2,    31.56,2,    31.29,2,   131.58,2,     0.41,    42.83,2,     0.15,     0.01,2,     0.01,    3.215,2,    0.018, -999.000,9, -999.000,9, -999.000,9,   -999.0,9,   -999.0,9,-999.0000,9, -999.000,9, -999.000,   -999.0,9,   -999.0,   3.4022,  27.4669
    49MR0505_1,   P03,    10,  1,     21, X12033,9,20051101,2110, 32.1495,-118.7608, 1300,    202.4,2,   9.2002,2,   9.20020,2,  34.1813,2,-999.0000,9,    81.30,1,    82.83,2,    201.3,2,    88.48,2,  -999.00,9,  -999.00,9,  -999.00,  -999.00,9,  -999.00,  -999.00,9,  -999.00, -999.000,9, -999.000, -999.000,9, -999.000,9, -999.000,9,   -999.0,9,   -999.0,9,-999.0000,9, -999.000,9, -999.000,   -999.0,9,   -999.0,   9.1781,  26.4485
    49MR0505_1,   P03,    10,  1,     20, X12032,9,20051101,2110, 32.1495,-118.7608, 1300,      9.7,2,  18.1558,2,  18.15793,2,  33.3448,2,-999.0000,9,   240.19,1,   246.87,2,      5.6,2,   246.70,2,  -999.00,9,  -999.00,9,  -999.00,  -999.00,9,  -999.00,  -999.00,9,  -999.00, -999.000,9, -999.000, -999.000,9, -999.000,9, -999.000,9,   -999.0,9,   -999.0,9,-999.0000,9, -999.000,9, -999.000,   -999.0,9,   -999.0,  18.1541,  23.9671
    49MR0505_1,   P03,    10,  1,     19, X12001,9,20051101,2110, 32.1495,-118.7608, 1300,     49.1,2,  14.2261,2,  14.22712,2,  33.1714,2,-999.0000,9,   250.39,1,   254.88,2,     48.0,2,   248.77,2,  -999.00,9,  -999.00,9,  -999.00,  -999.00,9,  -999.00,  -999.00,9,  -999.00, -999.000,9, -999.000, -999.000,9, -999.000,9, -999.000,9,   -999.0,9,   -999.0,9,-999.0000,9, -999.000,9, -999.000,   -999.0,9,   -999.0,  14.2191,  24.7286
    49MR0505_1,   P03,    10,  1,     18, X12030,9,20051101,2110, 32.1495,-118.7608, 1300,    100.7,2,  10.5248,2,  10.52594,2,  33.5863,2,-999.0000,9,   148.41,1,   151.73,2,    103.1,2,   163.63,2,  -999.00,9,  -999.00,9,  -999.00,  -999.00,9,  -999.00,  -999.00,9,  -999.00, -999.000,9, -999.000, -999.000,9, -999.000,9, -999.000,9,   -999.0,9,   -999.0,9,-999.0000,9, -999.000,9, -999.000,   -999.0,9,   -999.0,  10.5130,  25.7604
    49MR0505_1,   P03,    10,  1,     17, X12049,9,20051101,2110, 32.1495,-118.7608, 1300,    150.3,2,   9.5763,2,   9.57621,2,  34.0016,2,-999.0000,9,   114.73,1,   116.76,2,    151.9,2,   117.14,2,  -999.00,9,  -999.00,9,  -999.00,  -999.00,9,  -999.00,  -999.00,9,  -999.00, -999.000,9, -999.000, -999.000,9, -999.000,9, -999.000,9,   -999.0,9,   -999.0,9,-999.0000,9, -999.000,9, -999.000,   -999.0,9,   -999.0,   9.5596,  26.2459
    49MR0505_1,   P03,    10,  1,     16, X12028,9,20051101,2110, 32.1495,-118.7608, 1300,    203.0,2,   9.1861,2,   9.18658,2,  34.1795,2,-999.0000,9,    81.30,1,    83.11,2,    201.8,2,    88.31,2,  -999.00,9,  -999.00,9,  -999.00,  -999.00,9,  -999.00,  -999.00,9,  -999.00, -999.000,9, -999.000, -999.000,9, -999.000,9, -999.000,9,   -999.0,9,   -999.0,9,-999.0000,9, -999.000,9, -999.000,   -999.0,9,   -999.0,   9.1640,  26.4493
    49MR0505_1,   P03,    10,  1,     15, X12006,9,20051101,2110, 32.1495,-118.7608, 1300,    253.9,2,   9.0959,2,   9.09301,2,  34.3044,2,-999.0000,9,    48.18,1,    49.70,2,    252.8,2,    45.12,2,  -999.00,9,  -999.00,9,  -999.00,  -999.00,9,  -999.00,  -999.00,9,  -999.00, -999.000,9, -999.000, -999.000,9, -999.000,9, -999.000,9,   -999.0,9,   -999.0,9,-999.0000,9, -999.000,9, -999.000,   -999.0,9,   -999.0,   9.0683,  26.5625
    49MR0505_1,   P03,    10,  1,     14, X12026,9,20051101,2110, 32.1495,-118.7608, 1300,    304.1,2,   8.4607,2,   8.47054,2,  34.3241,2,-999.0000,9,    34.41,1,    35.14,2,    305.6,2,    34.58,2,  -999.00,9,  -999.00,9,  -999.00,  -999.00,9,  -999.00,  -999.00,9,  -999.00, -999.000,9, -999.000, -999.000,9, -999.000,9, -999.000,9,   -999.0,9,   -999.0,9,-999.0000,9, -999.000,9, -999.000,   -999.0,9,   -999.0,   8.4290,  26.6782
    49MR0505_1,   P03,    10,  1,     13, X12025,9,20051101,2110, 32.1495,-118.7608, 1300,    403.2,2,   7.1935,2,   7.19375,2,  34.2912,2,-999.0000,9,    25.18,1,    25.10,2,    402.6,2,    24.63,2,  -999.00,9,  -999.00,9,  -999.00,  -999.00,9,  -999.00,  -999.00,9,  -999.00, -999.000,9, -999.000, -999.000,9, -999.000,9, -999.000,9,   -999.0,9,   -999.0,9,-999.0000,9, -999.000,9, -999.000,   -999.0,9,   -999.0,   7.1550,  26.8389
    49MR0505_1,   P03,    10,  1,     12, X12024,9,20051101,2110, 32.1495,-118.7608, 1300,    403.0,2,   7.1945,2,   7.19454,2,  34.2912,2,-999.0000,9,    25.15,1,    25.07,2,    402.5,2,    24.64,2,  -999.00,9,  -999.00,9,  -999.00,  -999.00,9,  -999.00,  -999.00,9,  -999.00, -999.000,9, -999.000, -999.000,9, -999.000,9, -999.000,9,   -999.0,9,   -999.0,9,-999.0000,9, -999.000,9, -999.000,   -999.0,9,   -999.0,   7.1560,  26.8388
    49MR0505_1,   P03,    10,  1,     11, X12023,9,20051101,2110, 32.1495,-118.7608, 1300,    502.2,2,   6.4190,2,   6.41870,2,  34.3178,2,-999.0000,9,    14.97,1,    14.69,2,    501.2,2,    15.17,2,  -999.00,9,  -999.00,9,  -999.00,  -999.00,9,  -999.00,  -999.00,9,  -999.00, -999.000,9, -999.000, -999.000,9, -999.000,9, -999.000,9,   -999.0,9,   -999.0,9,-999.0000,9, -999.000,9, -999.000,   -999.0,9,   -999.0,   6.3737,  26.9655
    49MR0505_1,   P03,    10,  1,     10, X12022,9,20051101,2110, 32.1495,-118.7608, 1300,    502.3,2,   6.4157,2,   6.41579,2,  34.3177,2,-999.0000,9,    14.98,1,    14.70,2,    501.3,2,    15.15,2,  -999.00,9,  -999.00,9,  -999.00,  -999.00,9,  -999.00,  -999.00,9,  -999.00, -999.000,9, -999.000, -999.000,9, -999.000,9, -999.000,9,   -999.0,9,   -999.0,9,-999.0000,9, -999.000,9, -999.000,   -999.0,9,   -999.0,   6.3704,  26.9658
    49MR0505_1,   P03,    10,  1,      9, X12021,9,20051101,2110, 32.1495,-118.7608, 1300,    601.6,2,   5.8858,2,   5.88596,2,  34.3516,2,-999.0000,9,    10.41,1,    10.00,2,    600.3,2,    10.54,2,  -999.00,9,  -999.00,9,  -999.00,  -999.00,9,  -999.00,  -999.00,9,  -999.00, -999.000,9, -999.000, -999.000,9, -999.000,9, -999.000,9,   -999.0,9,   -999.0,9,-999.0000,9, -999.000,9, -999.000,   -999.0,9,   -999.0,   5.8335,  27.0612
    49MR0505_1,   P03,    10,  1,      8, X12020,9,20051101,2110, 32.1495,-118.7608, 1300,    703.7,2,   5.3233,2,   5.32497,2,  34.3919,2,-999.0000,9,     9.72,1,     9.22,2,    703.7,2,    10.07,2,  -999.00,9,  -999.00,9,  -999.00,  -999.00,9,  -999.00,  -999.00,9,  -999.00, -999.000,9, -999.000, -999.000,9, -999.000,9, -999.000,9,   -999.0,9,   -999.0,9,-999.0000,9, -999.000,9, -999.000,   -999.0,9,   -999.0,   5.2646,  27.1622
    49MR0505_1,   P03,    10,  1,      7, X12019,9,20051101,2110, 32.1495,-118.7608, 1300,    803.1,2,   4.8714,2,   4.87140,2,  34.4209,2,-999.0000,9,    12.23,1,    11.57,2,    802.4,2,    12.71,2,  -999.00,9,  -999.00,9,  -999.00,  -999.00,9,  -999.00,  -999.00,9,  -999.00, -999.000,9, -999.000, -999.000,9, -999.000,9, -999.000,9,   -999.0,9,   -999.0,9,-999.0000,9, -999.000,9, -999.000,   -999.0,9,   -999.0,   4.8065,  27.2382
    49MR0505_1,   P03,    10,  1,      6, X12018,9,20051101,2110, 32.1495,-118.7608, 1300,    903.4,2,   4.4942,2,   4.49452,2,  34.4508,2,-999.0000,9,    15.91,1,    15.03,2,    903.9,2,    16.20,2,  -999.00,9,  -999.00,9,  -999.00,  -999.00,9,  -999.00,  -999.00,9,  -999.00, -999.000,9, -999.000, -999.000,9, -999.000,9, -999.000,9,   -999.0,9,   -999.0,9,-999.0000,9, -999.000,9, -999.000,   -999.0,9,   -999.0,   4.4231,  27.3044
    49MR0505_1,   P03,    10,  1,      5, X12043,9,20051101,2110, 32.1495,-118.7608, 1300,   1002.5,2,   4.1876,2,   4.18740,2,  34.4741,2,-999.0000,9,    19.99,1,    19.02,2,   1002.5,2,    20.31,2,  -999.00,9,  -999.00,9,  -999.00,  -999.00,9,  -999.00,  -999.00,9,  -999.00, -999.000,9, -999.000, -999.000,9, -999.000,9, -999.000,9,   -999.0,9,   -999.0,9,-999.0000,9, -999.000,9, -999.000,   -999.0,9,   -999.0,   4.1103,  27.3563
    49MR0505_1,   P03,    10,  1,      4, X12010,9,20051101,2110, 32.1495,-118.7608, 1300,   1201.4,2,   3.4906,2,   3.49032,2,  34.5239,2,-999.0000,9,    31.28,1,    30.00,2,   1201.3,2,    31.56,2,  -999.00,9,  -999.00,9,  -999.00,  -999.00,9,  -999.00,  -999.00,9,  -999.00, -999.000,9, -999.000, -999.000,9, -999.000,9, -999.000,9,   -999.0,9,   -999.0,9,-999.0000,9, -999.000,9, -999.000,   -999.0,9,   -999.0,   3.4025,  27.4672
    49MR0505_1,   P03,    10,  1,      3, X12015,9,20051101,2110, 32.1495,-118.7608, 1300,    202.5,2,   9.2018,2,   9.20172,2,  34.1812,2,-999.0000,9,    81.01,1,    82.97,2,    201.3,2,    88.47,2,  -999.00,9,  -999.00,9,  -999.00,  -999.00,9,  -999.00,  -999.00,9,  -999.00, -999.000,9, -999.000, -999.000,9, -999.000,9, -999.000,9,   -999.0,9,   -999.0,9,-999.0000,9, -999.000,9, -999.000,   -999.0,9,   -999.0,   9.1797,  26.4481
    49MR0505_1,   P03,    10,  1,      2, X12014,9,20051101,2110, 32.1495,-118.7608, 1300,   1304.8,2,   3.2596,2,   3.25933,2,  34.5416,2,-999.0000,9,    35.34,1,    33.44,2,   1304.8,2,    35.62,2,  -999.00,9,  -999.00,9,  -999.00,  -999.00,9,  -999.00,  -999.00,9,  -999.00, -999.000,9, -999.000, -999.000,9, -999.000,9, -999.000,9,   -999.0,9,   -999.0,9,-999.0000,9, -999.000,9, -999.000,   -999.0,9,   -999.0,   3.1652,  27.5039
    49MR0505_1,   P03,    10,  1,      1, X12013,2,20051101,2110, 32.1495,-118.7608, 1300,   1304.6,2,   3.2591,2,   3.25891,2,  34.5418,2,  34.5420,6,    35.37,1,    33.44,2,   1304.5,2,    35.60,2,    35.48,2,   138.80,2,     0.42,    42.58,2,     0.15,     0.01,2,     0.01,    3.204,2,    0.018,    0.075,2,    0.167,2,    0.044,2,   -999.0,9,   -999.0,9,-999.0000,9, -999.000,9, -999.000,   -999.0,9,   -999.0,   3.1647,  27.5041