BOTTLE,20100316JAMSTECRIGC
EXPOCODE,SECT,STNNBR,CASTNO,SAMPNO,BTLNBR,BTLNBR_FLAG_W,DATE,TIME,LATITUDE,LONGITUDE,DEPTH,CTDPRS,CTDPRS_FLAG_W,CTDTMP,CTDTMP_FLAG_W,SBE35,SBE35_FLAG_W,CTDSAL,CTDSAL_FLAG_W,SALNTY,SALNTY_FLAG_W,CTDOXY,CTDOXY_FLAG_W,OPTOXY,OPTOXY_FLAG_W,DWNPRS,DWNPRS_FLAG_W,DWNOXY,DWNOXY_FLAG_W,OXYGEN,OXYGEN_FLAG_W,SILCAT,SILCAT_FLAG_W,SILUNC,NITRAT,NITRAT_FLAG_W,NRAUNC,NITRIT,NITRIT_FLAG_W,NRIUNC,PHSPHT,PHSPHT_FLAG_W,PHPUNC,CFC-11,CFC-11_FLAG_W,CFC-12,CFC-12_FLAG_W,CFC113,CFC113_FLAG_W,TCARBN,TCARBN_FLAG_W,ALKALI,ALKALI_FLAG_W,PH,PH_FLAG_W,DELC13,DELC13_FLAG_W,C13ERR,DELC14,DELC14_FLAG_W,C14ERR,THETA,SIG0
,,,,,,,,UTC,DEG,DEG,M,DBAR,,ITS-90,,ITS-90,,PSS-78,,PSS-78,,UMOL/KG,,UMOL/KG,,DBAR,,UMOL/KG,,UMOL/KG,,UMOL/KG,,UMOL/KG,UMOL/KG,,UMOL/KG,UMOL/KG,,UMOL/KG,UMOL/KG,,UMOL/KG,PMOL/KG,,PMOL/KG,,PMOL/KG,,UMOL/KG,,UMOL/KG,,,,/MILLE,,/MILLE,/MILLE,,/MILLE,DEG C,KG/CUM
    49MR0505_1,   P03,    96,  1,      0,   -999,9,20051114,2053, 24.2530,-149.8938, 5346,   -999.0,9,-999.0000,9,-999.00000,9,-999.0000,9,  35.3938,2,  -999.00,9,  -999.00,9,   -999.0,9,  -999.00,9,  -999.00,9,  -999.00,9,  -999.00,  -999.00,9,  -999.00,  -999.00,9,  -999.00, -999.000,9, -999.000, -999.000,9, -999.000,9, -999.000,9,   -999.0,9,   -999.0,9,-999.0000,9, -999.000,9, -999.000,   -999.0,9,   -999.0,-999.0000,-999.0000
    49MR0505_1,   P03,    96,  1,     36, X12048,2,20051114,2053, 24.2530,-149.8938, 5346,      9.6,2,  23.8987,2,  23.90362,2,  35.3676,2,  35.3668,2,   199.04,1,   213.30,2,      9.6,2,   214.83,2,   213.56,2,     1.06,2,     0.12,     0.03,2,     0.03,     0.00,2,     0.01,    0.038,2,    0.042,    1.799,2,    1.091,2, -999.000,5,   -999.0,9,   -999.0,9,-999.0000,9, -999.000,9, -999.000,   -999.0,9,   -999.0,  23.8967,  23.9503
    49MR0505_1,   P03,    96,  1,     35, X12047,2,20051114,2053, 24.2530,-149.8938, 5346,     49.8,2,  23.7364,2,  23.73677,2,  35.4016,2,  35.4020,2,   199.35,1,   214.77,2,     48.4,2,   214.20,2,   214.16,2,     1.06,2,     0.12,     0.03,2,     0.03,     0.00,2,     0.01,    0.041,2,    0.040,    1.811,2,    1.096,2, -999.000,5,   -999.0,9,   -999.0,9,-999.0000,9, -999.000,9, -999.000,   -999.0,9,   -999.0,  23.7260,  24.0265
    49MR0505_1,   P03,    96,  1,     34, X12046,2,20051114,2053, 24.2530,-149.8938, 5346,    100.2,2,  20.8298,2,  20.82768,2,  35.1374,2,  35.1372,2,   205.32,1,   219.61,2,    107.2,2,   215.22,2,   219.36,2,     1.61,2,     0.12,     0.04,2,     0.03,     0.01,2,     0.01,    0.064,2,    0.029,    2.138,2,    1.263,2, -999.000,5,   -999.0,9,   -999.0,9,-999.0000,9, -999.000,9, -999.000,   -999.0,9,   -999.0,  20.8107,  24.6499
    49MR0505_1,   P03,    96,  1,     33, X12003,2,20051114,2053, 24.2530,-149.8938, 5346,    150.9,2,  17.9452,2,  17.95059,2,  34.7946,2,  34.7971,2,   189.53,1,   202.88,2,    161.9,2,   203.01,2,   203.01,2,     2.97,2,     0.13,     2.33,2,     0.04,     0.02,2,     0.01,    0.250,2,    0.015,    2.392,2,    1.388,2, -999.000,5,   -999.0,9,   -999.0,9,-999.0000,9, -999.000,9, -999.000,   -999.0,9,   -999.0,  17.9194,  25.1345
    49MR0505_1,   P03,    96,  1,     32, X12044,2,20051114,2053, 24.2530,-149.8938, 5346,    199.7,2,  14.9395,2,  14.93945,2,  34.4314,2,  34.4342,2,   193.18,1,   205.96,2,    210.8,2,   203.76,2,   206.26,2,     5.37,2,     0.13,     5.66,2,     0.05,     0.01,2,     0.01,    0.481,2,    0.013,    2.709,2,    1.534,2,    0.117,4,   -999.0,9,   -999.0,9,-999.0000,9, -999.000,9, -999.000,   -999.0,9,   -999.0,  14.9095,  25.5533
    49MR0505_1,   P03,    96,  1,     31, X12051,2,20051114,2053, 24.2530,-149.8938, 5346,    249.2,2,  12.8358,2,  12.84000,2,  34.2404,2,  34.2411,2,   199.62,1,   212.83,2,    255.4,2,   212.18,2,   213.00,2,     8.41,2,     0.14,     8.85,2,     0.06,     0.00,2,     0.01,    0.681,2,    0.013,    2.930,2,    1.644,2,    0.100,2,   -999.0,9,   -999.0,9,-999.0000,9, -999.000,9, -999.000,   -999.0,9,   -999.0,  12.8020,  25.8437
    49MR0505_1,   P03,    96,  1,     30, X12042,2,20051114,2053, 24.2530,-149.8938, 5346,    302.2,2,  11.2220,2,  11.22509,2,  34.1659,2,  34.1665,2,   198.91,1,   212.24,2,    308.1,2,   212.72,2,   212.48,2,    13.02,2,     0.15,    12.61,2,     0.07,     0.00,2,     0.01,    0.931,2,    0.013,    3.068,6,    1.678,6,    0.105,6,   -999.0,9,   -999.0,9,-999.0000,9, -999.000,9, -999.000,   -999.0,9,   -999.0,  11.1844,  26.0926
    49MR0505_1,   P03,    96,  1,     29, X12041,2,20051114,2053, 24.2530,-149.8938, 5346,    399.9,2,   9.2295,2,   9.22759,2,  34.1055,2,  34.1054,2,   174.09,1,   185.51,2,    401.4,2,   187.36,2,   185.51,2,    25.04,2,     0.17,    19.59,2,     0.09,     0.00,2,     0.01,    1.408,2,    0.014,    2.918,2,    1.517,2,    0.126,2,   -999.0,9,   -999.0,9,-999.0000,9, -999.000,9, -999.000,   -999.0,9,   -999.0,   9.1854,  26.3880
    49MR0505_1,   P03,    96,  1,     28, X12016,2,20051114,2053, 24.2530,-149.8938, 5346,    499.7,2,   6.8297,2,   6.82981,2,  34.0203,2,  34.0204,6,   121.09,1,   129.65,2,    499.6,2,   127.89,2,   128.81,2,    49.51,2,     0.23,    29.67,2,     0.12,     0.00,2,     0.01,    2.140,2,    0.015,    2.029,2,    0.964,2,    0.080,2,   -999.0,9,   -999.0,9,-999.0000,9, -999.000,9, -999.000,   -999.0,9,   -999.0,   6.7833,  26.6765
    49MR0505_1,   P03,    96,  1,     27, X12039,2,20051114,2053, 24.2530,-149.8938, 5346,    602.5,2,   5.1875,2,   5.18784,2,  34.0559,2,  34.0544,2,    66.05,1,    71.32,2,    606.6,2,    70.15,2,    71.06,2,    76.70,2,     0.29,    37.55,2,     0.14,     0.00,2,     0.01,    2.730,2,    0.017,    0.768,2,    0.386,2,    0.038,2,   -999.0,9,   -999.0,9,-999.0000,9, -999.000,9, -999.000,   -999.0,9,   -999.0,   5.1386,  26.9108
    49MR0505_1,   P03,    96,  1,     26, X12038,9,20051114,2053, 24.2530,-149.8938, 5346,   -999.0,9,-999.0000,9,-999.00000,9,-999.0000,9,-999.0000,9,  -999.00,9,  -999.00,9,   -999.0,9,  -999.00,9,  -999.00,9,  -999.00,9,  -999.00,  -999.00,9,  -999.00,  -999.00,9,  -999.00, -999.000,9, -999.000, -999.000,9, -999.000,9, -999.000,9,   -999.0,9,   -999.0,9,-999.0000,9, -999.000,9, -999.000,   -999.0,9,   -999.0,-999.0000,-999.0000
    49MR0505_1,   P03,    96,  1,     25, X12037,2,20051114,2053, 24.2530,-149.8938, 5346,    800.5,2,   4.4481,2,   4.44848,2,  34.3284,2,  34.3281,2,    20.87,1,    22.71,2,    803.1,2,    21.78,2,    22.16,2,   103.28,2,     0.35,    42.84,2,     0.15,     0.00,2,     0.01,    3.162,2,    0.018,    0.022,6,    0.016,6,    0.010,6,   -999.0,9,   -999.0,9,-999.0000,9, -999.000,9, -999.000,   -999.0,9,   -999.0,   4.3862,  27.2112
    49MR0505_1,   P03,    96,  1,     24, X12008,2,20051114,2053, 24.2530,-149.8938, 5346,    900.3,2,   4.2295,2,   4.23003,2,  34.4072,2,  34.4070,2,    27.52,1,    29.61,2,    899.9,2,    29.92,2,    29.11,2,   107.98,2,     0.36,    42.75,2,     0.15,     0.00,2,     0.01,    3.126,2,    0.018,    0.009,2,    0.009,2,    0.000,2,   -999.0,9,   -999.0,9,-999.0000,9, -999.000,9, -999.000,   -999.0,9,   -999.0,   4.1606,  27.2978
    49MR0505_1,   P03,    96,  1,     23, X12035,2,20051114,2053, 24.2530,-149.8938, 5346,   1002.7,2,   3.9560,2,   3.95620,2,  34.4625,2,  34.4621,6,    34.50,1,    36.98,2,   1000.8,2,    38.49,2,    36.81,2,   113.21,2,     0.37,    42.51,2,     0.15,     0.00,2,     0.01,    3.107,2,    0.018,    0.007,2,    0.007,2,    0.000,2,   -999.0,9,   -999.0,9,-999.0000,9, -999.000,9, -999.000,   -999.0,9,   -999.0,   3.8805,  27.3709
    49MR0505_1,   P03,    96,  1,     22, X12034,2,20051114,2053, 24.2530,-149.8938, 5346,   1198.9,2,   3.4883,2,   3.48852,2,  34.5291,2,  34.5300,2,    47.36,1,    51.03,2,   1198.7,2,    51.29,2,    50.84,2,   122.98,2,     0.39,    42.27,2,     0.15,     0.00,2,     0.01,    3.070,2,    0.018,    0.002,2,    0.001,2,    0.000,2,   -999.0,9,   -999.0,9,-999.0000,9, -999.000,9, -999.000,   -999.0,9,   -999.0,   3.4005,  27.4716
    49MR0505_1,   P03,    96,  1,     21, X12033,2,20051114,2053, 24.2530,-149.8938, 5346,   1402.8,2,   3.0250,2,   3.02506,2,  34.5615,2,  34.5617,2,    56.11,1,    60.46,2,   1404.0,2,    59.98,2,    60.39,2,   133.53,2,     0.41,    41.93,2,     0.15,     0.00,2,     0.01,    3.023,2,    0.018,    0.000,2,    0.000,2,    0.000,2,   -999.0,9,   -999.0,9,-999.0000,9, -999.000,9, -999.000,   -999.0,9,   -999.0,   2.9250,  27.5419
    49MR0505_1,   P03,    96,  1,     20, X12032,2,20051114,2053, 24.2530,-149.8938, 5346,   1601.5,2,   2.6465,2,   2.64614,2,  34.5801,2,  34.5803,2,    64.11,1,    69.36,2,   1603.2,2,    68.36,2,    69.11,2,   142.65,2,     0.43,    41.41,2,     0.15,     0.00,2,     0.01,    2.983,2,    0.017,    0.000,2,    0.000,2,    0.000,2,   -999.0,9,   -999.0,9,-999.0000,9, -999.000,9, -999.000,   -999.0,9,   -999.0,   2.5344,  27.5912
    49MR0505_1,   P03,    96,  1,     19, X12001,2,20051114,2053, 24.2530,-149.8938, 5346,   1800.7,2,   2.3583,2,   2.35876,2,  34.5988,2,  34.5988,6,    70.48,1,    76.36,2,   1801.3,2,    76.21,2,    76.23,2,   150.45,2,     0.45,    41.07,2,     0.15,     0.00,2,     0.01,    2.948,2,    0.017,    0.000,2,    0.000,2,    0.000,2,   -999.0,9,   -999.0,9,-999.0000,9, -999.000,9, -999.000,   -999.0,9,   -999.0,   2.2334,  27.6314
    49MR0505_1,   P03,    96,  1,     18, X12030,2,20051114,2053, 24.2530,-149.8938, 5346,   2001.0,2,   2.1092,2,   2.10926,2,  34.6170,2,  34.6171,2,    78.57,1,    85.35,2,   2001.4,2,    84.17,2,    84.97,2,   156.61,2,     0.46,    40.55,2,     0.15,     0.00,2,     0.01,    2.892,2,    0.017,    0.000,2,    0.000,2,    0.000,2,   -999.0,9,   -999.0,9,-999.0000,9, -999.000,9, -999.000,   -999.0,9,   -999.0,   1.9711,  27.6671
    49MR0505_1,   P03,    96,  1,     17, X12049,2,20051114,2053, 24.2530,-149.8938, 5346,   2200.6,2,   1.9205,2,   1.92063,2,  34.6331,2,  34.6332,2,    86.96,1,    94.82,2,   2200.6,2,    94.32,2,    94.46,2,   160.71,2,     0.47,    39.95,2,     0.14,    -0.01,2,     0.01,    2.842,2,    0.017, -999.000,9, -999.000,9, -999.000,9,   -999.0,9,   -999.0,9,-999.0000,9, -999.000,9, -999.000,   -999.0,9,   -999.0,   1.7683,  27.6957
    49MR0505_1,   P03,    96,  1,     16, X12028,2,20051114,2053, 24.2530,-149.8938, 5346,   2400.5,2,   1.7918,2,   1.79195,2,  34.6442,2,  34.6445,2,    94.39,1,   102.73,2,   2400.2,2,   102.67,2,   102.31,2,   162.60,2,     0.48,    39.53,2,     0.14,     0.00,2,     0.01,    2.798,2,    0.017,    0.001,2,    0.000,2,    0.000,2,   -999.0,9,   -999.0,9,-999.0000,9, -999.000,9, -999.000,   -999.0,9,   -999.0,   1.6243,  27.7155
    49MR0505_1,   P03,    96,  1,     15, X12006,2,20051114,2053, 24.2530,-149.8938, 5346,   2600.6,2,   1.7011,2,   1.70123,2,  34.6538,2,  34.6535,2,   100.97,1,   109.99,2,   2600.5,2,   109.47,2,   109.64,2,   163.53,2,     0.48,    38.98,2,     0.14,     0.00,2,     0.01,    2.763,2,    0.017, -999.000,9, -999.000,9, -999.000,9,   -999.0,9,   -999.0,9,-999.0000,9, -999.000,9, -999.000,   -999.0,9,   -999.0,   1.5173,  27.7311
    49MR0505_1,   P03,    96,  1,     14, X12026,2,20051114,2053, 24.2530,-149.8938, 5346,   2800.2,2,   1.6461,2,   1.64621,2,  34.6602,2,  34.6601,2,   105.87,1,   115.28,2,   2799.6,2,   115.65,2,   115.08,2,   163.28,2,     0.48,    38.62,2,     0.14,     0.00,2,     0.01,    2.724,2,    0.017, -999.000,9, -999.000,9, -999.000,9,   -999.0,9,   -999.0,9,-999.0000,9, -999.000,9, -999.000,   -999.0,9,   -999.0,   1.4451,  27.7415
    49MR0505_1,   P03,    96,  1,     13, X12025,2,20051114,2053, 24.2530,-149.8938, 5346,   3000.6,2,   1.5863,2,   1.58648,2,  34.6671,2,  34.6668,6,   111.67,1,   121.98,2,   3000.3,2,   121.75,2,   121.37,2,   164.14,2,     0.48,    38.26,2,     0.14,     0.00,2,     0.01,    2.699,2,    0.017,    0.001,2,    0.000,2,    0.000,2,   -999.0,9,   -999.0,9,-999.0000,9, -999.000,9, -999.000,   -999.0,9,   -999.0,   1.3676,  27.7525
    49MR0505_1,   P03,    96,  1,     12, X12024,2,20051114,2053, 24.2530,-149.8938, 5346,   3251.1,2,   1.5370,2,   1.53719,2,  34.6739,2,  34.6741,2,   118.33,1,   129.05,2,   3250.9,2,   128.76,2,   128.53,2,   163.19,2,     0.48,    37.85,2,     0.14,     0.00,2,     0.01,    2.650,2,    0.017, -999.000,9, -999.000,9, -999.000,9,   -999.0,9,   -999.0,9,-999.0000,9, -999.000,9, -999.000,   -999.0,9,   -999.0,   1.2950,  27.7631
    49MR0505_1,   P03,    96,  1,     11, X12023,2,20051114,2053, 24.2530,-149.8938, 5346,   3500.9,2,   1.5064,2,   1.50652,2,  34.6787,2,  34.6786,2,   124.18,1,   135.28,2,   3500.6,2,   135.32,2,   134.75,2,   161.80,2,     0.47,    37.42,2,     0.14,     0.00,2,     0.01,    2.623,2,    0.017,    0.003,2,    0.000,2,    0.000,2,   -999.0,9,   -999.0,9,-999.0000,9, -999.000,9, -999.000,   -999.0,9,   -999.0,   1.2400,  27.7709
    49MR0505_1,   P03,    96,  1,     10, X12022,2,20051114,2053, 24.2530,-149.8938, 5346,   3750.0,2,   1.4893,2,   1.48945,2,  34.6823,2,  34.6825,2,   129.62,1,   140.76,2,   3749.8,2,   140.89,2,   140.56,2,   159.43,2,     0.47,    37.04,2,     0.14,     0.00,2,     0.01,    2.592,2,    0.016, -999.000,9, -999.000,9, -999.000,9,   -999.0,9,   -999.0,9,-999.0000,9, -999.000,9, -999.000,   -999.0,9,   -999.0,   1.1975,  27.7767
    49MR0505_1,   P03,    96,  1,      9, X12021,2,20051114,2053, 24.2530,-149.8938, 5346,   4000.3,2,   1.4783,2,   1.47848,2,  34.6856,2,  34.6856,2,   134.52,1,   145.89,2,   4000.2,2,   145.78,2,   145.78,2,   157.34,2,     0.47,    36.67,2,     0.14,     0.00,2,     0.01,    2.564,2,    0.016,    0.001,2,    0.003,2,    0.000,2,   -999.0,9,   -999.0,9,-999.0000,9, -999.000,9, -999.000,   -999.0,9,   -999.0,   1.1600,  27.7819
    49MR0505_1,   P03,    96,  1,      8, X12020,2,20051114,2053, 24.2530,-149.8938, 5346,   4249.7,2,   1.4791,2,   1.47918,2,  34.6880,2,  34.6877,2,   138.97,1,   150.27,2,   4249.8,2,   149.80,2,   150.21,2,   154.45,2,     0.46,    36.40,2,     0.13,    -0.01,2,     0.01,    2.547,2,    0.016, -999.000,9, -999.000,9, -999.000,9,   -999.0,9,   -999.0,9,-999.0000,9, -999.000,9, -999.000,   -999.0,9,   -999.0,   1.1332,  27.7856
    49MR0505_1,   P03,    96,  1,      7, X12019,2,20051114,2053, 24.2530,-149.8938, 5346,   4499.7,2,   1.4796,2,   1.47972,2,  34.6901,2,  34.6898,6,   143.60,1,   154.88,2,   4499.9,2,   154.22,2,   154.70,2,   151.23,2,     0.45,    36.06,2,     0.13,     0.00,2,     0.01,    2.520,2,    0.016,    0.000,2,    0.002,2,    0.000,2,   -999.0,9,   -999.0,9,-999.0000,9, -999.000,9, -999.000,   -999.0,9,   -999.0,   1.1053,  27.7893
    49MR0505_1,   P03,    96,  1,      6, X12018,2,20051114,2053, 24.2530,-149.8938, 5346,   4748.2,2,   1.4810,2,   1.48112,2,  34.6919,2,  34.6920,2,   148.25,1,   159.11,2,   4748.2,2,   159.39,2,   159.13,2,   148.02,2,     0.44,    35.78,2,     0.13,     0.00,2,     0.01,    2.496,2,    0.016, -999.000,9, -999.000,9, -999.000,9,   -999.0,9,   -999.0,9,-999.0000,9, -999.000,9, -999.000,   -999.0,9,   -999.0,   1.0776,  27.7926
    49MR0505_1,   P03,    96,  1,      5, X12043,2,20051114,2053, 24.2530,-149.8938, 5346,   4997.4,2,   1.4818,2,   1.48207,2,  34.6941,2,  34.6939,2,   153.36,1,   164.06,2,   4997.6,2,   163.36,2,   163.72,2,   143.69,2,     0.44,    35.41,2,     0.13,     0.00,2,     0.01,    2.467,2,    0.016,    0.000,2,    0.003,2,    0.000,2,   -999.0,9,   -999.0,9,-999.0000,9, -999.000,9, -999.000,   -999.0,9,   -999.0,   1.0485,  27.7963
    49MR0505_1,   P03,    96,  1,      4, X12010,2,20051114,2053, 24.2530,-149.8938, 5346,   5249.7,2,   1.4971,2,   1.49731,2,  34.6953,2,  34.6954,2,   156.68,1,   166.72,2,   5249.7,2,   166.56,2,   166.37,2,   142.39,2,     0.43,    35.17,2,     0.13,     0.00,2,     0.01,    2.453,2,    0.016, -999.000,9, -999.000,9, -999.000,9,   -999.0,9,   -999.0,9,-999.0000,9, -999.000,9, -999.000,   -999.0,9,   -999.0,   1.0322,  27.7983
    49MR0505_1,   P03,    96,  1,      3, X12015,2,20051114,2053, 24.2530,-149.8938, 5346,    150.5,2,  17.9286,2,  17.92084,2,  34.7928,2,  34.7969,2,   189.61,1,   202.32,2,    161.8,2,   202.98,2,   203.07,2,     3.29,2,     0.13,     2.39,2,     0.04,     0.02,2,     0.01,    0.277,2,    0.014, -999.000,9, -999.000,9, -999.000,9,   -999.0,9,   -999.0,9,-999.0000,9, -999.000,9, -999.000,   -999.0,9,   -999.0,  17.9029,  25.1372
    49MR0505_1,   P03,    96,  1,      2, X12014,2,20051114,2053, 24.2530,-149.8938, 5346,      9.8,2,  23.8797,2,  23.88086,2,  35.3668,2,-999.0000,9,   199.02,1,   213.35,2,      9.8,2,   214.89,2,  -999.00,9,  -999.00,9,  -999.00,  -999.00,9,  -999.00,  -999.00,9,  -999.00, -999.000,9, -999.000, -999.000,9, -999.000,9, -999.000,9,   -999.0,9,   -999.0,9,-999.0000,9, -999.000,9, -999.000,   -999.0,9,   -999.0,  23.8776,  23.9553
    49MR0505_1,   P03,    96,  1,      1, X12013,2,20051114,2053, 24.2530,-149.8938, 5346,   5422.7,2,   1.5194,2,   1.51950,2,  34.6952,2,  34.6952,6,   157.69,1,   166.80,2,   5422.7,2,   166.38,2,   166.39,2,   142.39,2,     0.43,    35.22,2,     0.13,     0.00,2,     0.01,    2.461,2,    0.016,    0.000,2,    0.002,2,    0.000,2,   -999.0,9,   -999.0,9,-999.0000,9, -999.000,9, -999.000,   -999.0,9,   -999.0,   1.0319,  27.7983