BOTTLE,20151116SIOCCHCBG
EXPOCODE,SECT_ID,STNNBR,CASTNO,BTLNBR,BTLNBR_FLAG_W,DATE,TIME,LATITUDE,LONGITUDE,DEPTH,CTDPRS,CTDTMP,CTDSAL,CTDSAL_FLAG_W,SALNTY,SALNTY_FLAG_W,CTDOXY,CTDOXY_FLAG_W,OXYGEN,OXYGEN_FLAG_W,SILCAT,SILCAT_FLAG_W,NITRAT,NITRAT_FLAG_W,PHSPHT,PHSPHT_FLAG_W,CFC-11,CFC-11_FLAG_W,CFC-12,CFC-12_FLAG_W,ALKALI,ALKALI_FLAG_W,PH_TOT,PH_TOT_FLAG_W,PH_TMP,THETA
,,,,,,,,,,METERS,DBAR,ITS-90,PSS-78,,PSS-78,,UMOL/KG,,UMOL/KG,,UMOL/KG,,UMOL/KG,,UMOL/KG,,PMOL/KG,,PMOL/KG,,UMOL/KG,,,,DEG C,DEG C
29AH20120622,      OVIDE,      15,          1,          1,2,20120626,       0000,    40.7873,   -13.1003,       5335,  5432.9,   2.5626,  34.8972,2,  34.8980,2,    241.6,2,   242.7,2,   46.79,2,   22.22,2,    1.44,2,-999.000,9,-999.000,9,  2356.7,2,   7.7442,2,    25.00,   2.0347
29AH20120622,      OVIDE,      15,          1,          2,2,20120626,       0000,    40.7873,   -13.1003,       5335,  5001.5,   2.5177,  34.8989,2,  34.8983,2,    241.5,2,   247.0,4,   46.41,2,   22.08,2,    1.41,2,-999.000,9,-999.000,9,  2354.4,2,   7.7431,2,    25.00,   2.0474
29AH20120622,      OVIDE,      15,          1,          3,2,20120626,       0000,    40.7873,   -13.1003,       5335,  4498.4,   2.5120,  34.9051,2,  34.9049,2,    240.8,2,   242.7,2,   45.43,2,   22.03,2,    1.43,2,-999.000,9,-999.000,9,  2352.5,2,   7.7429,2,    25.00,   2.1044
29AH20120622,      OVIDE,      15,          1,          4,2,20120626,       0000,    40.7873,   -13.1003,       5335,  3999.3,   2.5267,  34.9122,2,  34.9108,2,    240.8,2,   241.4,2,   44.25,2,   21.87,2,    1.40,2,-999.000,9,-999.000,9,  2351.3,2,   7.7425,2,    25.00,   2.1777
29AH20120622,      OVIDE,      15,          1,          5,2,20120626,       0000,    40.7873,   -13.1003,       5335,  3499.5,   2.5646,  34.9213,2,  34.9210,2,    242.3,2,   248.7,4,   41.96,2,   21.55,2,    1.38,2,-999.000,9,-999.000,9,  2346.5,2,   7.7438,2,    25.00,   2.2705
29AH20120622,      OVIDE,      15,          1,          6,2,20120626,       0000,    40.7873,   -13.1003,       5335,  3000.6,   2.8054,  34.9464,2,  34.9464,2,    246.0,2,   253.8,4,   35.82,2,   20.54,2,    1.30,2,-999.000,9,-999.000,9,  2338.5,2,   7.7458,2,    25.00,   2.5587
29AH20120622,      OVIDE,      15,          1,          7,2,20120626,       0000,    40.7873,   -13.1003,       5335,  2499.9,   3.2655,  34.9837,2,  34.9848,2,    250.1,2,   250.3,2,   27.24,2,   19.31,2,    1.21,2,-999.000,9,-999.000,9,  2330.6,2,   7.7478,2,    25.00,   3.0605
29AH20120622,      OVIDE,      15,          1,          8,2,20120626,       0000,    40.7873,   -13.1003,       5335,  2251.6,   3.5654,  35.0056,2,  35.0198,4,    252.7,2,   252.7,2,   23.26,2,   18.92,2,    1.15,2,-999.000,9,-999.000,9,  2326.6,2,   7.7437,2,    25.00,   3.3798
29AH20120622,      OVIDE,      15,          1,          9,2,20120626,       0000,    40.7873,   -13.1003,       5335,  1997.0,   3.9007,  35.0236,2,  35.0267,2,    254.9,2,   256.4,2,   17.96,2,   18.07,2,    1.11,2,-999.000,9,-999.000,9,  2321.2,2,   7.7417,2,    25.00,   3.7347
29AH20120622,      OVIDE,      15,          1,         10,2,20120626,       0000,    40.7873,   -13.1003,       5335,  1802.3,   4.3221,  35.0655,2,  35.0686,2,    254.2,2,   252.8,2,   15.55,2,   17.80,2,    1.09,2,-999.000,9,-999.000,9,  2318.1,2,   7.7390,2,    25.00,   4.1691
29AH20120622,      OVIDE,      15,          1,         11,2,20120626,       0000,    40.7873,   -13.1003,       5335,  1600.6,   5.7923,  35.2980,2,  35.3020,2,    235.1,2,   233.2,2,   13.98,2,   17.55,2,    1.05,2,-999.000,9,-999.000,9,  2334.6,2,   7.7522,2,    25.00,   5.6408
29AH20120622,      OVIDE,      15,          1,         12,2,20120626,       0000,    40.7873,   -13.1003,       5335,  1399.5,   7.6070,  35.5971,2,  35.5926,2,    209.3,2,   213.1,2,   12.40,2,   17.01,2,    0.99,2,-999.000,9,-999.000,9,  2354.8,2,   7.7626,2,    25.00,   7.4573
29AH20120622,      OVIDE,      15,          1,         13,2,20120626,       0000,    40.7873,   -13.1003,       5335,  1201.1,  10.0844,  36.0211,2,  36.0196,2,    187.0,2,   187.1,2,   10.66,2,   16.10,2,    0.91,2,-999.000,9,-999.000,9,  2382.3,2,   7.7904,2,    25.00,   9.9356
29AH20120622,      OVIDE,      15,          1,         14,2,20120626,       0000,    40.7873,   -13.1003,       5335,  1000.0,  10.7481,  36.0477,2,  36.0463,2,    178.8,2,   180.6,2,    9.95,2,   15.90,2,    0.89,2,-999.000,9,-999.000,9,  2383.1,2,   7.7933,2,    25.00,  10.6206
29AH20120622,      OVIDE,      15,          1,         15,2,20120626,       0000,    40.7873,   -13.1003,       5335,   798.5,  11.2934,  35.9931,2,  35.9956,2,    178.2,2,   178.9,2,    8.80,2,   15.51,2,    0.86,2,-999.000,9,-999.000,9,  2374.2,2,   7.7967,2,    25.00,  11.1895
29AH20120622,      OVIDE,      15,          1,         16,2,20120626,       0000,    40.7873,   -13.1003,       5335,   699.6,  11.3668,  35.8750,2,  35.8756,2,    180.2,2,  -999.0,9,    8.19,2,   15.33,2,    0.83,2,-999.000,9,-999.000,9,  2361.4,2,   7.7923,2,    25.00,  11.2759
29AH20120622,      OVIDE,      15,          1,         17,2,20120626,       0000,    40.7873,   -13.1003,       5335,   599.7,  11.0461,  35.6620,2,  35.6649,2,    186.0,2,   186.8,2,    7.76,2,   15.44,2,    0.86,2,-999.000,9,-999.000,9,  2346.6,2,   7.7826,2,    25.00,  10.9700
29AH20120622,      OVIDE,      15,          1,         18,2,20120626,       0000,    40.7873,   -13.1003,       5335,   499.2,  11.4470,  35.6560,2,  35.6582,2,    204.9,2,   204.6,2,    5.76,2,   13.22,2,    0.70,2,-999.000,9,-999.000,9,  2342.8,2,   7.8035,2,    25.00,  11.3826
29AH20120622,      OVIDE,      15,          1,         19,2,20120626,       0000,    40.7873,   -13.1003,       5335,   400.1,  11.7299,  35.6565,2,  35.6565,2,    217.8,2,   217.6,2,    4.42,2,   11.49,2,    0.62,2,-999.000,9,-999.000,9,  2341.2,2,   7.8188,2,    25.00,  11.6777
29AH20120622,      OVIDE,      15,          1,         20,2,20120626,       0000,    40.7873,   -13.1003,       5335,   299.7,  12.2034,  35.7142,2,  35.7114,2,    216.8,2,   217.5,2,    3.86,2,   10.74,2,    0.55,2,-999.000,9,-999.000,9,  2344.0,2,   7.8301,2,    25.00,  12.1634
29AH20120622,      OVIDE,      15,          1,         21,2,20120626,       0000,    40.7873,   -13.1003,       5335,   199.6,  12.9337,  35.8309,2,  35.8258,4,    228.7,2,   233.0,2,    2.86,3,    8.34,3,    0.42,3,-999.000,9,-999.000,9,  2352.8,2,   7.8650,2,    25.00,  12.9061
29AH20120622,      OVIDE,      15,          1,         22,2,20120626,       0000,    40.7873,   -13.1003,       5335,    99.7,  13.8543,  35.9835,2,  35.9797,2,    234.3,2,   234.7,2,    1.74,2,    4.75,2,    0.19,2,-999.000,9,-999.000,9,  2360.1,2,   7.9006,2,    25.00,  13.8399
29AH20120622,      OVIDE,      15,          1,         23,2,20120626,       0000,    40.7873,   -13.1003,       5335,    60.5,  14.6628,  36.0502,2,  36.0479,2,    243.9,2,   250.9,3,    1.27,2,    1.05,2,    0.05,2,-999.000,9,-999.000,9,  2365.7,2,   7.9411,2,    25.00,  14.6537
29AH20120622,      OVIDE,      15,          1,         24,2,20120626,       0000,    40.7873,   -13.1003,       5335,     4.5,  18.8839,  35.9641,2,  35.9649,2,    239.8,2,   239.6,2,    0.58,3,    0.00,2,    0.01,2,-999.000,9,-999.000,9,  2362.4,2,   7.9891,2,    25.00,  18.8831
29AH20120622,      OVIDE,      16,          1,          1,2,20120627,       0000,    41.0846,   -13.4923,       5345,  5443.8,   2.5718,  34.8979,2,  34.8984,2,    240.8,2,   242.6,2,   44.67,2,   21.80,2,    1.43,2,   0.013,2,   0.010,2,  -999.0,9,   7.7442,2,    25.00,   2.0421
29AH20120622,      OVIDE,      16,          1,          2,2,20120627,       0000,    41.0846,   -13.4923,       5345,  4999.2,   2.5202,  34.8992,2,  34.8991,2,    240.8,2,   242.1,2,   44.54,2,   21.86,2,    1.43,2,   0.011,6,   0.012,6,  -999.0,9,   7.7433,2,    25.00,   2.0501
29AH20120622,      OVIDE,      16,          1,          3,2,20120627,       0000,    41.0846,   -13.4923,       5345,  4499.2,   2.4896,  34.9028,2,  34.9023,2,    240.8,2,   242.8,2,   43.68,2,   21.63,2,    1.42,2,   0.014,2,   0.012,2,  -999.0,9,   7.7417,2,    25.00,   2.0826
29AH20120622,      OVIDE,      16,          1,          4,2,20120627,       0000,    41.0846,   -13.4923,       5345,  3999.4,   2.5339,  34.9132,2,  34.9130,2,    241.2,2,   242.8,2,   41.42,2,   21.36,2,    1.40,2,   0.029,2,   0.019,2,  -999.0,9,   7.7428,2,    25.00,   2.1846
29AH20120622,      OVIDE,      16,          1,          5,2,20120627,       0000,    41.0846,   -13.4923,       5345,  3501.0,   2.6458,  34.9285,2,  34.9325,2,    243.0,2,   244.9,2,   36.35,2,   20.50,2,    1.34,2,   0.084,2,   0.046,2,  -999.0,9,   7.7423,2,    25.00,   2.3495
29AH20120622,      OVIDE,      16,          1,          6,2,20120627,       0000,    41.0846,   -13.4923,       5345,  3000.5,   2.8973,  34.9532,2,  34.9568,2,    246.5,2,   247.0,2,   31.44,2,   19.84,2,    1.28,2,   0.188,2,   0.101,2,  -999.0,9,   7.7436,2,    25.00,   2.6486
29AH20120622,      OVIDE,      16,          1,          7,2,20120627,       0000,    41.0846,   -13.4923,       5345,  2500.3,   3.3567,  34.9895,2,  34.9898,2,    250.9,2,   251.3,2,   23.68,2,   18.65,2,    1.18,2,-999.000,9,-999.000,9,  -999.0,9,   7.7402,2,    25.00,   3.1500
29AH20120622,      OVIDE,      16,          1,          8,2,20120627,       0000,    41.0846,   -13.4923,       5345,  2250.2,   3.5915,  34.9993,2,  34.9996,2,    255.2,2,   255.1,2,   19.64,2,   18.10,2,    1.12,2,-999.000,9,-999.000,9,  -999.0,9,   7.7387,2,    25.00,   3.4056
29AH20120622,      OVIDE,      16,          1,          9,2,20120627,       0000,    41.0846,   -13.4923,       5345,  2001.0,   3.9501,  35.0185,2,  35.0199,2,    257.0,2,   258.0,2,   14.93,2,   17.40,2,    1.07,2,   1.788,2,   0.891,2,  -999.0,9,   7.7379,2,    25.00,   3.7830
29AH20120622,      OVIDE,      16,          1,         10,2,20120627,       0000,    41.0846,   -13.4923,       5345,  1800.0,   4.5823,  35.1000,2,  35.0981,2,    252.0,2,   250.5,2,   13.38,2,   17.53,2,    1.06,2,   2.010,2,   1.007,2,  -999.0,9,   7.7379,2,    25.00,   4.4260
29AH20120622,      OVIDE,      16,          1,         11,2,20120627,       0000,    41.0846,   -13.4923,       5345,  1600.1,   5.7212,  35.2729,2,  35.2740,2,    237.4,2,   235.7,2,   12.36,2,   17.18,2,    1.03,2,-999.000,9,-999.000,9,  -999.0,9,   7.7454,2,    25.00,   5.5706
29AH20120622,      OVIDE,      16,          1,         12,2,20120627,       0000,    41.0846,   -13.4923,       5345,  1399.9,   7.6383,  35.5861,2,  35.5889,2,    212.1,2,   212.2,2,   11.47,2,   16.89,2,    0.98,2,   1.844,2,   0.986,2,  -999.0,9,   7.7599,2,    25.00,   7.4883
29AH20120622,      OVIDE,      16,          1,         13,2,20120627,       0000,    41.0846,   -13.4923,       5345,  1200.3,   9.7542,  35.9367,2,  35.9336,2,    188.7,2,   190.5,2,   10.11,2,   16.01,2,    0.90,2,   1.683,2,   0.917,2,  -999.0,9,   7.7820,2,    25.00,   9.6084
29AH20120622,      OVIDE,      16,          1,         14,2,20120627,       0000,    41.0846,   -13.4923,       5345,  1070.2,  10.5027,  36.0137,2,  36.0106,2,    181.4,2,   182.8,2,    9.55,2,   15.76,2,    0.88,2,   1.678,2,   0.928,2,  -999.0,9,   7.7877,2,    25.00,  10.3678
29AH20120622,      OVIDE,      16,          1,         15,2,20120627,       0000,    41.0846,   -13.4923,       5345,   800.4,  11.2023,  35.9195,2,  35.9245,4,    180.7,2,   180.4,2,    8.11,2,   15.15,2,    0.83,2,   1.930,2,   1.090,2,  -999.0,9,   7.7908,2,    25.00,  11.0987
29AH20120622,      OVIDE,      16,          1,         16,2,20120627,       0000,    41.0846,   -13.4923,       5345,   699.4,  11.3583,  35.7986,2,  35.8089,4,    184.1,2,   184.9,2,    7.17,2,   14.87,2,    0.80,2,-999.000,9,-999.000,9,  -999.0,9,   7.7894,2,    25.00,  11.2676
29AH20120622,      OVIDE,      16,          1,         17,2,20120627,       0000,    41.0846,   -13.4923,       5345,   601.2,  11.2726,  35.6695,2,  35.6706,2,    204.1,2,   197.4,4,    6.14,2,   13.86,2,    0.75,2,-999.000,9,-999.000,9,  -999.0,9,   7.7934,2,    25.00,  11.1954
29AH20120622,      OVIDE,      16,          1,         18,2,20120627,       0000,    41.0846,   -13.4923,       5345,   500.5,  11.4369,  35.6246,2,  35.6243,2,    221.6,2,   219.1,2,    4.53,2,   11.57,2,    0.60,2,   2.704,2,   1.601,2,  -999.0,9,   7.8138,2,    25.00,  11.3723
29AH20120622,      OVIDE,      16,          1,         19,2,20120627,       0000,    41.0846,   -13.4923,       5345,   399.9,  11.7724,  35.6525,2,  35.6515,2,    224.2,2,   225.0,2,    3.74,2,   10.48,2,    0.53,2,-999.000,9,-999.000,9,  -999.0,9,   7.8262,2,    25.00,  11.7201
29AH20120622,      OVIDE,      16,          1,         20,2,20120627,       0000,    41.0846,   -13.4923,       5345,   300.5,  12.2228,  35.6994,2,  35.6977,2,    220.9,2,   222.9,2,    3.57,2,    9.98,2,    0.48,2,-999.000,9,-999.000,9,  -999.0,9,   7.8392,2,    25.00,  12.1827
29AH20120622,      OVIDE,      16,          1,         21,2,20120627,       0000,    41.0846,   -13.4923,       5345,   199.8,  12.8094,  35.7743,2,  35.7695,4,    221.4,2,   221.5,2,    3.15,2,    8.89,2,    0.39,2,   2.662,2,   1.619,2,  -999.0,9,   7.8549,2,    25.00,  12.7820
29AH20120622,      OVIDE,      16,          1,         22,2,20120627,       0000,    41.0846,   -13.4923,       5345,    98.8,  13.8579,  35.9401,2,  35.9376,2,    235.1,2,   240.9,3,    1.53,2,    3.83,2,    0.11,2,-999.000,9,-999.000,9,  -999.0,9,   7.9120,2,    25.00,  13.8436
29AH20120622,      OVIDE,      16,          1,         23,2,20120627,       0000,    41.0846,   -13.4923,       5345,    43.9,  14.5792,  35.9671,2,  35.9500,4,    249.6,2,   249.7,2,    0.96,2,    1.45,2,    0.02,2,-999.000,9,-999.000,9,  -999.0,9,   7.9363,2,    25.00,  14.5727
29AH20120622,      OVIDE,      16,          1,         24,2,20120627,       0000,    41.0846,   -13.4923,       5345,     5.5,  18.6631,  35.8751,2,  35.8799,4,    243.1,2,   241.6,2,    0.43,3,    0.00,2,    0.00,2,   2.256,2,   1.408,2,  -999.0,9,   7.9965,2,    25.00,  18.6621