BOTTLE,20151116SIOCCHCBG
EXPOCODE,SECT_ID,STNNBR,CASTNO,BTLNBR,BTLNBR_FLAG_W,DATE,TIME,LATITUDE,LONGITUDE,DEPTH,CTDPRS,CTDTMP,CTDSAL,CTDSAL_FLAG_W,SALNTY,SALNTY_FLAG_W,CTDOXY,CTDOXY_FLAG_W,OXYGEN,OXYGEN_FLAG_W,SILCAT,SILCAT_FLAG_W,NITRAT,NITRAT_FLAG_W,PHSPHT,PHSPHT_FLAG_W,CFC-11,CFC-11_FLAG_W,CFC-12,CFC-12_FLAG_W,ALKALI,ALKALI_FLAG_W,PH_TOT,PH_TOT_FLAG_W,PH_TMP,THETA
,,,,,,,,,,METERS,DBAR,ITS-90,PSS-78,,PSS-78,,UMOL/KG,,UMOL/KG,,UMOL/KG,,UMOL/KG,,UMOL/KG,,PMOL/KG,,PMOL/KG,,UMOL/KG,,,,DEG C,DEG C
29AH20120622,      OVIDE,      39,          1,          1,2,20120705,       0000,    48.7867,   -21.4303,       4075,  4131.5,   2.6079,  34.9185,2,  34.9169,2,    240.8,2,   241.4,2,   40.80,2,   22.01,2,    1.41,2,-999.000,9,-999.000,9,  2349.3,2,   7.7402,2,    25.00,   2.2412
29AH20120622,      OVIDE,      39,          1,          2,2,20120705,       0000,    48.7867,   -21.4303,       4075,  3747.1,   2.6546,  34.9269,2,  34.9260,2,    245.3,2,   245.6,2,   36.78,2,   21.11,2,    1.35,2,-999.000,9,-999.000,9,  2344.5,2,   7.7391,2,    25.00,   2.3308
29AH20120622,      OVIDE,      39,          1,          3,2,20120705,       0000,    48.7867,   -21.4303,       4075,  3503.4,   2.7356,  34.9363,2,  34.9367,2,    251.6,2,   252.7,2,   30.54,2,   20.31,2,    1.26,2,-999.000,9,-999.000,9,  2336.8,2,   7.7344,2,    25.00,   2.4368
29AH20120622,      OVIDE,      39,          1,          4,2,20120705,       0000,    48.7867,   -21.4303,       4075,  3249.3,   2.8035,  34.9417,2,  34.9420,2,    256.1,2,   256.6,2,   26.58,2,   18.79,2,    1.23,2,-999.000,9,-999.000,9,  2331.1,2,   7.7342,2,    25.00,   2.5306
29AH20120622,      OVIDE,      39,          1,          5,2,20120705,       0000,    48.7867,   -21.4303,       4075,  3000.7,   2.9364,  34.9442,2,  34.9444,2,    263.6,2,   265.4,2,   20.19,2,   17.75,2,    1.12,2,-999.000,9,-999.000,9,  2319.3,2,   7.7323,2,    25.00,   2.6869
29AH20120622,      OVIDE,      39,          1,          6,2,20120705,       0000,    48.7867,   -21.4303,       4075,  2752.3,   3.0525,  34.9360,2,  34.9369,2,    269.2,2,   269.9,2,   16.27,2,   17.07,2,    1.08,2,-999.000,9,-999.000,9,  2312.6,2,   7.7306,2,    25.00,   2.8263
29AH20120622,      OVIDE,      39,          1,          7,2,20120705,       0000,    48.7867,   -21.4303,       4075,  2499.8,   3.1753,  34.9236,2,  34.9222,2,    272.1,2,   274.0,2,   14.12,2,   17.01,2,    1.06,2,-999.000,9,-999.000,9,  2308.7,2,   7.7316,2,    25.00,   2.9722
29AH20120622,      OVIDE,      39,          1,          8,2,20120705,       0000,    48.7867,   -21.4303,       4075,  2251.7,   3.3208,  34.9155,2,  34.9164,2,    273.4,2,   274.1,2,   12.47,2,   16.95,2,    1.06,2,-999.000,9,-999.000,9,  2305.4,2,   7.7301,2,    25.00,   3.1395
29AH20120622,      OVIDE,      39,          1,          9,2,20120705,       0000,    48.7867,   -21.4303,       4075,  1997.6,   3.5543,  34.9190,2,  34.9230,2,    271.0,2,   272.4,2,   11.86,2,   17.28,2,    1.09,2,-999.000,9,-999.000,9,  2305.0,2,   7.7262,2,    25.00,   3.3937
29AH20120622,      OVIDE,      39,          1,         10,2,20120705,       0000,    48.7867,   -21.4303,       4075,  1801.6,   3.7644,  34.9260,2,  34.9277,2,    268.9,2,   269.9,2,   11.21,2,   17.29,2,    1.09,2,-999.000,9,-999.000,9,  2304.6,2,   7.7222,2,    25.00,   3.6193
29AH20120622,      OVIDE,      39,          1,         11,2,20120705,       0000,    48.7867,   -21.4303,       4075,  1599.9,   3.9740,  34.9348,2,-999.0000,9,    265.5,2,  -999.0,9,   10.58,3,   17.41,3,    1.09,3,-999.000,9,-999.000,9,  -999.0,9,-999.0000,9,  -999.00,   3.8450
29AH20120622,      OVIDE,      39,          1,         12,2,20120705,       0000,    48.7867,   -21.4303,       4075,  1400.8,   4.4101,  34.9784,2,  34.9774,2,    257.9,2,   261.0,2,   10.47,2,   17.50,2,    1.09,2,-999.000,9,-999.000,9,  2309.0,2,   7.7186,2,    25.00,   4.2945
29AH20120622,      OVIDE,      39,          1,         13,2,20120705,       0000,    48.7867,   -21.4303,       4075,  1201.1,   5.3475,  35.0837,2,  35.0831,2,    236.3,2,   242.8,3,   10.55,2,   17.81,2,    1.11,2,-999.000,9,-999.000,9,  2315.9,2,   7.7190,2,    25.00,   5.2414
29AH20120622,      OVIDE,      39,          1,         14,2,20120705,       0000,    48.7867,   -21.4303,       4075,   999.6,   6.6865,  35.2123,2,  35.2114,2,    211.7,2,   217.0,3,   10.65,2,   18.47,2,    1.14,2,-999.000,9,-999.000,9,  2325.4,2,   7.7218,2,    25.00,   6.5895
29AH20120622,      OVIDE,      39,          1,         15,2,20120705,       0000,    48.7867,   -21.4303,       4075,   899.1,   7.2862,  35.2143,2,-999.0000,9,    201.3,2,  -999.0,9,   10.55,3,   18.98,3,    1.17,3,-999.000,9,-999.000,9,  -999.0,9,-999.0000,9,  -999.00,   7.1955
29AH20120622,      OVIDE,      39,          1,         16,2,20120705,       0000,    48.7867,   -21.4303,       4075,   800.9,   7.6423,  35.1270,2,  35.1256,2,    189.9,2,   191.9,2,   11.03,2,   19.77,2,    1.22,2,-999.000,9,-999.000,9,  2318.2,2,   7.7057,2,    25.00,   7.5601
29AH20120622,      OVIDE,      39,          1,         17,2,20120705,       0000,    48.7867,   -21.4303,       4075,   601.2,   9.6412,  35.2440,2,  35.2408,2,    200.4,2,   198.4,2,    8.26,2,   16.88,2,    1.02,2,-999.000,9,-999.000,9,  2322.8,2,   7.7515,2,    25.00,   9.5713
29AH20120622,      OVIDE,      39,          1,         18,2,20120705,       0000,    48.7867,   -21.4303,       4075,   498.1,  10.9218,  35.4499,2,  35.4516,2,    217.5,2,   226.4,3,    5.21,2,   12.50,2,    0.70,2,-999.000,9,-999.000,9,  2335.7,2,   7.8116,2,    25.00,  10.8595
29AH20120622,      OVIDE,      39,          1,         19,2,20120705,       0000,    48.7867,   -21.4303,       4075,   401.3,  11.3174,  35.5053,2,  35.5024,2,    207.4,2,   230.8,3,    4.60,2,   11.48,2,    0.64,2,-999.000,9,-999.000,9,  2335.7,2,   7.8239,2,    25.00,  11.2663
29AH20120622,      OVIDE,      39,          1,         20,2,20120705,       0000,    48.7867,   -21.4303,       4075,   300.5,  11.4405,  35.4699,2,  35.4681,2,    224.7,2,   225.6,2,    4.90,2,   11.89,2,    0.67,2,-999.000,9,-999.000,9,  2332.8,2,   7.8241,2,    25.00,  11.4021
29AH20120622,      OVIDE,      39,          1,         21,2,20120705,       0000,    48.7867,   -21.4303,       4075,   203.8,  12.2040,  35.5703,2,  35.5651,4,    240.1,2,   237.9,2,    3.50,2,    9.18,2,    0.47,2,-999.000,9,-999.000,9,  2339.4,2,   7.8566,2,    25.00,  12.1769
29AH20120622,      OVIDE,      39,          1,         22,2,20120705,       0000,    48.7867,   -21.4303,       4075,   101.6,  12.5591,  35.5767,2,  35.5763,2,    238.4,2,   240.9,2,    3.16,2,    8.25,2,    0.39,2,-999.000,9,-999.000,9,  2339.7,2,   7.8723,2,    25.00,  12.5454
29AH20120622,      OVIDE,      39,          1,         23,2,20120705,       0000,    48.7867,   -21.4303,       4075,    51.4,  13.2134,  35.6312,2,  35.6279,2,    249.4,2,   242.5,3,    2.07,2,    6.33,2,    0.25,2,-999.000,9,-999.000,9,  2344.1,2,   7.8944,2,    25.00,  13.2062
29AH20120622,      OVIDE,      39,          1,         24,2,20120705,       0000,    48.7867,   -21.4303,       4075,     9.6,  14.9029,  35.4882,2,  35.4871,2,    250.5,2,   253.7,2,    0.56,2,    0.24,2,    0.01,2,-999.000,9,-999.000,9,  2341.0,2,   7.9822,2,    25.00,  14.9015
29AH20120622,      OVIDE,      40,          1,          1,2,20120705,       0000,    49.1588,   -21.7264,       4428,  4408.0,   2.5862,  34.9133,2,  34.9137,2,    238.9,2,   240.8,2,   42.56,2,   21.91,2,    1.44,2,   0.118,2,   0.061,2,  -999.0,9,   7.7397,2,    25.00,   2.1872
29AH20120622,      OVIDE,      40,          1,          2,2,20120705,       0000,    49.1588,   -21.7264,       4428,  3998.8,   2.5788,  34.9174,2,  34.9180,2,    240.4,2,   240.2,2,   41.18,2,   21.41,2,    1.40,2,   0.214,2,   0.108,2,  -999.0,9,   7.7396,2,    25.00,   2.2283
29AH20120622,      OVIDE,      40,          1,          3,2,20120705,       0000,    49.1588,   -21.7264,       4428,  3749.2,   2.6059,  34.9226,2,  34.9214,2,    243.0,2,   243.7,2,   38.63,2,   21.10,2,    1.38,2,-999.000,9,-999.000,9,  -999.0,9,   7.7385,2,    25.00,   2.2831
29AH20120622,      OVIDE,      40,          1,          4,2,20120705,       0000,    49.1588,   -21.7264,       4428,  3499.3,   2.6744,  34.9312,2,  34.9326,2,    247.8,2,   247.8,2,   33.95,2,   20.04,2,    1.29,2,-999.000,9,-999.000,9,  -999.0,9,   7.7368,2,    25.00,   2.3776
29AH20120622,      OVIDE,      40,          1,          5,2,20120705,       0000,    49.1588,   -21.7264,       4428,  3000.9,   2.9042,  34.9451,2,  34.9438,2,    261.6,2,   261.1,2,   21.77,2,   18.02,2,    1.13,2,   1.622,2,   0.813,2,  -999.0,9,   7.7336,2,    25.00,   2.6553
29AH20120622,      OVIDE,      40,          1,          6,2,20120705,       0000,    49.1588,   -21.7264,       4428,  2749.2,   3.0347,  34.9394,2,  34.9396,2,    267.9,2,   267.6,2,   17.24,2,   17.16,2,    1.09,2,-999.000,9,-999.000,9,  -999.0,9,   7.7344,2,    25.00,   2.8091
29AH20120622,      OVIDE,      40,          1,          7,2,20120705,       0000,    49.1588,   -21.7264,       4428,  2498.0,   3.1604,  34.9260,2,  34.9250,2,    271.7,2,   272.0,2,   14.26,2,   16.83,2,    1.05,2,   2.372,2,   1.182,2,  -999.0,9,   7.7339,2,    25.00,   2.9578
29AH20120622,      OVIDE,      40,          1,          8,2,20120705,       0000,    49.1588,   -21.7264,       4428,  2248.7,   3.3048,  34.9149,2,  34.9146,2,    273.6,2,   273.2,2,   12.61,2,   17.02,2,    1.05,2,-999.000,9,-999.000,9,  -999.0,9,   7.7319,2,    25.00,   3.1241
29AH20120622,      OVIDE,      40,          1,          9,2,20120705,       0000,    49.1588,   -21.7264,       4428,  1998.8,   3.4792,  34.9142,2,  34.9143,2,    272.8,2,   272.8,2,   11.88,2,   17.06,2,    1.02,2,   2.852,2,   1.427,2,  -999.0,9,   7.7286,2,    25.00,   3.3197
29AH20120622,      OVIDE,      40,          1,         10,2,20120705,       0000,    49.1588,   -21.7264,       4428,  1799.5,   3.6541,  34.9181,2,  34.9172,2,    270.7,2,   270.1,2,   11.44,2,   17.29,2,    1.06,2,   3.038,2,   1.535,2,  -999.0,9,   7.7249,2,    25.00,   3.5107
29AH20120622,      OVIDE,      40,          1,         11,2,20120705,       0000,    49.1588,   -21.7264,       4428,  1599.9,   3.8036,  34.9195,2,  34.9128,4,    270.2,2,   269.8,2,   10.92,2,   17.24,2,    1.06,2,-999.000,9,-999.000,9,  -999.0,9,   7.7222,2,    25.00,   3.6767
29AH20120622,      OVIDE,      40,          1,         12,2,20120705,       0000,    49.1588,   -21.7264,       4428,  1401.0,   4.0937,  34.9382,2,  34.9381,2,    266.8,2,   265.7,2,   10.52,2,   17.11,2,    1.06,2,   3.455,2,   1.813,2,  -999.0,9,   7.7202,2,    25.00,   3.9815
29AH20120622,      OVIDE,      40,          1,         13,2,20120705,       0000,    49.1588,   -21.7264,       4428,  1198.5,   4.5766,  34.9800,2,  34.9788,2,    255.4,2,   256.6,2,   10.30,2,   17.55,2,    1.07,2,   3.366,2,   1.768,2,  -999.0,9,   7.7159,2,    25.00,   4.4779
29AH20120622,      OVIDE,      40,          1,         14,2,20120705,       0000,    49.1588,   -21.7264,       4428,   998.2,   6.0008,  35.1539,2,  35.1549,2,    228.0,2,   229.3,2,   10.67,2,   18.02,2,    1.09,2,   2.760,2,   1.465,2,  -999.0,9,   7.7202,2,    25.00,   5.9091
29AH20120622,      OVIDE,      40,          1,         15,2,20120705,       0000,    49.1588,   -21.7264,       4428,   895.8,   6.4353,  35.1703,2,  35.1729,2,    218.9,2,   219.2,2,   10.74,2,   18.26,2,    1.12,2,-999.000,9,-999.000,9,  -999.0,9,   7.7193,2,    25.00,   6.3507
29AH20120622,      OVIDE,      40,          1,         16,2,20120705,       0000,    49.1588,   -21.7264,       4428,   798.7,   7.4071,  35.2475,2,  35.2510,2,    202.3,2,   203.7,2,   10.71,2,   18.78,2,    1.12,2,   2.353,2,   1.262,2,  -999.0,9,   7.7209,2,    25.00,   7.3263
29AH20120622,      OVIDE,      40,          1,         17,2,20120705,       0000,    49.1588,   -21.7264,       4428,   599.8,   9.2539,  35.3317,2,  35.3287,2,    187.6,2,   189.4,2,    9.26,2,   17.84,2,    1.04,2,-999.000,9,-999.000,9,  -999.0,9,   7.7409,2,    25.00,   9.1858
29AH20120622,      OVIDE,      40,          1,         18,2,20120705,       0000,    49.1588,   -21.7264,       4428,   499.5,   9.9367,  35.3425,2,  35.3398,2,    205.4,2,   204.3,2,    7.49,2,   15.68,2,    0.87,2,   2.575,2,   1.462,2,  -999.0,9,   7.7681,2,    25.00,   9.8778
29AH20120622,      OVIDE,      40,          1,         19,2,20120705,       0000,    49.1588,   -21.7264,       4428,   399.1,  10.5841,  35.3850,2,  35.3894,2,    217.7,2,   218.6,2,    6.10,2,   13.66,2,    0.71,2,-999.000,9,-999.000,9,  -999.0,9,   7.7980,2,    25.00,  10.5354
29AH20120622,      OVIDE,      40,          1,         20,2,20120705,       0000,    49.1588,   -21.7264,       4428,   299.2,  11.3357,  35.4887,2,  35.4881,2,    229.0,2,   231.8,2,    4.53,2,   11.21,2,    0.56,2,-999.000,9,-999.000,9,  -999.0,9,   7.8306,2,    25.00,  11.2977
29AH20120622,      OVIDE,      40,          1,         21,2,20120705,       0000,    49.1588,   -21.7264,       4428,   199.4,  11.7833,  35.5317,2,  35.5314,2,    240.6,2,   238.6,2,    3.67,2,    9.59,2,    0.42,2,   2.690,2,   1.549,2,  -999.0,9,   7.8493,2,    25.00,  11.7574
29AH20120622,      OVIDE,      40,          1,         22,2,20120705,       0000,    49.1588,   -21.7264,       4428,    98.3,  11.8820,  35.4569,2,  35.4585,2,    249.2,2,   249.2,2,    2.83,2,    8.19,2,    0.27,2,-999.000,9,-999.000,9,  -999.0,9,   7.8656,2,    25.00,  11.8692
29AH20120622,      OVIDE,      40,          1,         23,2,20120705,       0000,    49.1588,   -21.7264,       4428,    39.4,  14.8060,  35.4836,2,  35.4852,2,    249.4,2,   253.1,2,    0.46,2,    0.24,2,    0.01,2,-999.000,9,-999.000,9,  -999.0,9,   7.9831,2,    25.00,  14.8001
29AH20120622,      OVIDE,      40,          1,         24,2,20120705,       0000,    49.1588,   -21.7264,       4428,     9.9,  14.8211,  35.4850,2,  35.4845,2,    252.1,2,   253.1,2,    0.44,2,    0.19,2,    0.00,2,   2.618,2,   1.576,2,  -999.0,9,   7.9838,2,    25.00,  14.8196