BOTTLE,20151116SIOCCHCBG
EXPOCODE,SECT_ID,STNNBR,CASTNO,BTLNBR,BTLNBR_FLAG_W,DATE,TIME,LATITUDE,LONGITUDE,DEPTH,CTDPRS,CTDTMP,CTDSAL,CTDSAL_FLAG_W,SALNTY,SALNTY_FLAG_W,CTDOXY,CTDOXY_FLAG_W,OXYGEN,OXYGEN_FLAG_W,SILCAT,SILCAT_FLAG_W,NITRAT,NITRAT_FLAG_W,PHSPHT,PHSPHT_FLAG_W,CFC-11,CFC-11_FLAG_W,CFC-12,CFC-12_FLAG_W,ALKALI,ALKALI_FLAG_W,PH_TOT,PH_TOT_FLAG_W,PH_TMP,THETA
,,,,,,,,,,METERS,DBAR,ITS-90,PSS-78,,PSS-78,,UMOL/KG,,UMOL/KG,,UMOL/KG,,UMOL/KG,,UMOL/KG,,PMOL/KG,,PMOL/KG,,UMOL/KG,,,,DEG C,DEG C
29AH20120622,      OVIDE,       3,          1,          1,2,20120623,       0000,    40.3344,    -9.7678,        822,   810.6,  11.6260,  36.1565,2,  36.1594,2,    179.3,2,   180.7,2,    7.34,2,   14.19,2,    0.73,2,-999.000,9,-999.000,9,  2382.2,2,   7.8081,2,    25.00,  11.5184
29AH20120622,      OVIDE,       3,          1,          2,2,20120623,       0000,    40.3344,    -9.7678,        822,   810.5,  11.6266,  36.1566,2,-999.0000,9,    179.3,2,  -999.0,9, -999.00,9, -999.00,9, -999.00,9,-999.000,9,-999.000,9,  -999.0,9,-999.0000,9,  -999.00,  11.5190
29AH20120622,      OVIDE,       3,          1,          3,2,20120623,       0000,    40.3344,    -9.7678,        822,   700.9,  11.6722,  36.0822,2,  36.0841,2,    179.5,2,   180.7,2,    7.33,2,   14.87,2,    0.79,2,-999.000,9,-999.000,9,  2376.7,2,   7.8055,2,    25.00,  11.5794
29AH20120622,      OVIDE,       3,          1,          4,2,20120623,       0000,    40.3344,    -9.7678,        822,   700.8,  11.6828,  36.0799,2,-999.0000,9,    179.5,2,  -999.0,9, -999.00,9, -999.00,9, -999.00,9,-999.000,9,-999.000,9,  -999.0,9,-999.0000,9,  -999.00,  11.5900
29AH20120622,      OVIDE,       3,          1,          5,2,20120623,       0000,    40.3344,    -9.7678,        822,   601.2,  11.6501,  35.9329,2,  35.9353,2,    181.0,2,   181.9,2,    7.18,2,   15.07,2,    0.81,2,-999.000,9,-999.000,9,  2363.5,2,   7.7991,2,    25.00,  11.5711
29AH20120622,      OVIDE,       3,          1,          6,2,20120623,       0000,    40.3344,    -9.7678,        822,   601.3,  11.6502,  35.9329,2,-999.0000,9,    181.0,2,  -999.0,9, -999.00,9, -999.00,9, -999.00,9,-999.000,9,-999.000,9,  -999.0,9,-999.0000,9,  -999.00,  11.5712
29AH20120622,      OVIDE,       3,          1,          7,2,20120623,       0000,    40.3344,    -9.7678,        822,   500.4,  11.6059,  35.7767,2,  35.7788,2,    189.1,2,   187.9,2,    6.37,2,   14.77,2,    0.78,2,-999.000,9,-999.000,9,  2348.8,2,   7.7957,2,    25.00,  11.5407
29AH20120622,      OVIDE,       3,          1,          8,2,20120623,       0000,    40.3344,    -9.7678,        822,   500.4,  11.6044,  35.7765,2,-999.0000,9,    189.1,2,  -999.0,9, -999.00,9, -999.00,9, -999.00,9,-999.000,9,-999.000,9,  -999.0,9,-999.0000,9,  -999.00,  11.5392
29AH20120622,      OVIDE,       3,          1,          9,2,20120623,       0000,    40.3344,    -9.7678,        822,   400.8,  11.6280,  35.6683,2,  35.6714,2,    210.4,2,   213.0,2,    4.74,2,   12.68,2,    0.66,2,-999.000,9,-999.000,9,  2340.1,2,   7.8113,2,    25.00,  11.5760
29AH20120622,      OVIDE,       3,          1,         10,2,20120623,       0000,    40.3344,    -9.7678,        822,   400.9,  11.6279,  35.6683,2,-999.0000,9,    210.4,2,  -999.0,9, -999.00,9, -999.00,9, -999.00,9,-999.000,9,-999.000,9,  -999.0,9,-999.0000,9,  -999.00,  11.5758
29AH20120622,      OVIDE,       3,          1,         11,2,20120623,       0000,    40.3344,    -9.7678,        822,   302.5,  12.1815,  35.7192,2,  35.7228,2,    214.1,2,   216.4,2,    3.75,2,   11.09,2,    0.57,2,-999.000,9,-999.000,9,  2344.2,2,   7.8286,2,    25.00,  12.1412
29AH20120622,      OVIDE,       3,          1,         12,2,20120623,       0000,    40.3344,    -9.7678,        822,   302.5,  12.1836,  35.7197,2,-999.0000,9,    214.1,2,  -999.0,9, -999.00,9, -999.00,9, -999.00,9,-999.000,9,-999.000,9,  -999.0,9,-999.0000,9,  -999.00,  12.1433
29AH20120622,      OVIDE,       3,          1,         13,2,20120623,       0000,    40.3344,    -9.7678,        822,   201.3,  12.8291,  35.8128,2,  35.8138,2,    227.2,2,   226.9,2,    2.69,2,    8.46,2,    0.40,2,-999.000,9,-999.000,9,  2348.1,2,   7.8601,2,    25.00,  12.8014
29AH20120622,      OVIDE,       3,          1,         14,2,20120623,       0000,    40.3344,    -9.7678,        822,   201.4,  12.8293,  35.8128,2,-999.0000,9,    227.2,2,  -999.0,9, -999.00,9, -999.00,9, -999.00,9,-999.000,9,-999.000,9,  -999.0,9,-999.0000,9,  -999.00,  12.8016
29AH20120622,      OVIDE,       3,          1,         15,2,20120623,       0000,    40.3344,    -9.7678,        822,   149.7,  13.2341,  35.8802,2,  35.8816,2,    232.1,2,   232.5,2,    2.21,2,    6.79,2,    0.30,2,-999.000,9,-999.000,9,  2352.2,2,   7.8772,2,    25.00,  13.2131
29AH20120622,      OVIDE,       3,          1,         16,2,20120623,       0000,    40.3344,    -9.7678,        822,   149.9,  13.2359,  35.8804,2,-999.0000,9,    232.0,2,  -999.0,9, -999.00,9, -999.00,9, -999.00,9,-999.000,9,-999.000,9,  -999.0,9,-999.0000,9,  -999.00,  13.2149
29AH20120622,      OVIDE,       3,          1,         17,2,20120623,       0000,    40.3344,    -9.7678,        822,    98.1,  13.8177,  35.9673,2,  35.9687,2,    234.8,2,   236.7,2,    1.65,2,    4.74,2,    0.20,2,-999.000,9,-999.000,9,  2360.6,2,   7.8997,2,    25.00,  13.8036
29AH20120622,      OVIDE,       3,          1,         18,2,20120623,       0000,    40.3344,    -9.7678,        822,    98.2,  13.8186,  35.9673,2,-999.0000,9,    234.8,2,  -999.0,9, -999.00,9, -999.00,9, -999.00,9,-999.000,9,-999.000,9,  -999.0,9,-999.0000,9,  -999.00,  13.8045
29AH20120622,      OVIDE,       3,          1,         19,2,20120623,       0000,    40.3344,    -9.7678,        822,    57.2,  15.1327,  36.0007,2,-999.0000,9,    252.2,2,   261.1,3, -999.00,9, -999.00,9, -999.00,9,-999.000,9,-999.000,9,  -999.0,9,-999.0000,9,  -999.00,  15.1239
29AH20120622,      OVIDE,       3,          1,         20,2,20120623,       0000,    40.3344,    -9.7678,        822,    57.2,  15.1300,  36.0015,2,  36.0070,4,    252.2,2,   262.2,3,    0.83,3,    0.14,2,    0.00,2,-999.000,9,-999.000,9,  2364.6,2,   7.9560,2,    25.00,  15.1213
29AH20120622,      OVIDE,       3,          1,         21,2,20120623,       0000,    40.3344,    -9.7678,        822,     4.9,  18.3086,  35.8961,2,-999.0000,9,    240.6,2,  -999.0,9, -999.00,9, -999.00,9, -999.00,9,-999.000,9,-999.000,9,  -999.0,9,-999.0000,9,  -999.00,  18.3077
29AH20120622,      OVIDE,       3,          1,         22,2,20120623,       0000,    40.3344,    -9.7678,        822,     5.0,  18.3083,  35.8961,2,-999.0000,9,    240.6,2,  -999.0,9, -999.00,9, -999.00,9, -999.00,9,-999.000,9,-999.000,9,  -999.0,9,-999.0000,9,  -999.00,  18.3074
29AH20120622,      OVIDE,       3,          1,         23,2,20120623,       0000,    40.3344,    -9.7678,        822,     4.9,  18.3081,  35.8957,2,  35.8999,4,    240.6,2,   240.5,2,    0.88,3,    0.00,2,    0.00,2,-999.000,9,-999.000,9,  2360.0,2,   7.9970,2,    25.00,  18.3072
29AH20120622,      OVIDE,       3,          1,         24,2,20120623,       0000,    40.3344,    -9.7678,        822,     4.9,  18.3086,  35.8955,2,-999.0000,9,    240.6,2,  -999.0,9, -999.00,9, -999.00,9, -999.00,9,-999.000,9,-999.000,9,  -999.0,9,-999.0000,9,  -999.00,  18.3077
29AH20120622,      OVIDE,       4,          1,          1,2,20120623,       0000,    40.3336,    -9.8020,       1340,  1330.7,  10.2837,  36.1392,2,  36.0927,4,    186.8,2,   190.7,2,    9.42,3,   14.07,2,    0.81,2,   1.776,2,   1.004,2,  -999.0,9,   7.8160,2,    25.00,  10.1158
29AH20120622,      OVIDE,       4,          1,          2,2,20120623,       0000,    40.3336,    -9.8020,       1340,  1330.7,  10.2839,  36.1393,2,-999.0000,9,    186.8,2,  -999.0,9, -999.00,9, -999.00,9, -999.00,9,-999.000,9,-999.000,9,  -999.0,9,-999.0000,9,  -999.00,  10.1160
29AH20120622,      OVIDE,       4,          1,          3,2,20120623,       0000,    40.3336,    -9.8020,       1340,  1200.5,  10.6945,  36.2005,2,  36.2010,2,    182.4,2,   183.3,2,   11.24,2,   15.61,2,    0.85,2,-999.000,9,-999.000,9,  -999.0,9,   7.8020,2,    25.00,  10.5403
29AH20120622,      OVIDE,       4,          1,          4,2,20120623,       0000,    40.3336,    -9.8020,       1340,  1200.5,  10.6947,  36.2003,2,-999.0000,9,    182.4,2,  -999.0,9, -999.00,9, -999.00,9, -999.00,9,-999.000,9,-999.000,9,  -999.0,9,-999.0000,9,  -999.00,  10.5405
29AH20120622,      OVIDE,       4,          1,          5,2,20120623,       0000,    40.3336,    -9.8020,       1340,  1000.4,  11.3257,  36.1900,2,  36.1920,2,    178.4,2,   179.3,2,   10.53,2,   14.34,3,    0.76,2,   1.677,2,   0.923,2,  -999.0,9,   7.8040,2,    25.00,  11.1940
29AH20120622,      OVIDE,       4,          1,          6,2,20120623,       0000,    40.3336,    -9.8020,       1340,  1000.4,  11.3260,  36.1900,2,-999.0000,9,    178.4,2,  -999.0,9, -999.00,9, -999.00,9, -999.00,9,-999.000,9,-999.000,9,  -999.0,9,-999.0000,9,  -999.00,  11.1943
29AH20120622,      OVIDE,       4,          1,          7,2,20120623,       0000,    40.3336,    -9.8020,       1340,   900.7,  11.4776,  36.1648,2,  36.1677,2,    178.5,2,   179.2,2,   10.14,2,   14.46,3,    0.74,2,-999.000,9,-999.000,9,  -999.0,9,   7.8052,2,    25.00,  11.3586
29AH20120622,      OVIDE,       4,          1,          8,2,20120623,       0000,    40.3336,    -9.8020,       1340,   799.2,  11.5668,  36.1202,2,  36.1227,2,    178.5,2,   179.1,2,    9.66,2,   14.34,2,    0.77,2,-999.000,9,-999.000,9,  -999.0,9,   7.8055,2,    25.00,  11.4612
29AH20120622,      OVIDE,       4,          1,          9,2,20120623,       0000,    40.3336,    -9.8020,       1340,   799.2,  11.5665,  36.1203,2,-999.0000,9,    178.5,2,  -999.0,9, -999.00,9, -999.00,9, -999.00,9,-999.000,9,-999.000,9,  -999.0,9,-999.0000,9,  -999.00,  11.4609
29AH20120622,      OVIDE,       4,          1,         10,2,20120623,       0000,    40.3336,    -9.8020,       1340,   700.6,  11.6014,  36.0347,2,  36.0373,2,    179.5,2,   180.2,2,    9.06,2,   14.31,2,    0.76,2,-999.000,9,-999.000,9,  -999.0,9,   7.8028,2,    25.00,  11.5091
29AH20120622,      OVIDE,       4,          1,         11,2,20120623,       0000,    40.3336,    -9.8020,       1340,   599.5,  11.6208,  35.9207,2,  35.9237,2,    181.0,2,   180.5,2,    8.63,2,   14.60,2,    0.80,2,-999.000,9,-999.000,9,  -999.0,9,   7.7990,2,    25.00,  11.5421
29AH20120622,      OVIDE,       4,          1,         12,2,20120623,       0000,    40.3336,    -9.8020,       1340,   501.1,  11.5229,  35.7569,2,  35.7616,2,    189.7,2,   188.5,2,    7.68,2,   14.48,2,    0.77,2,   2.262,2,   1.304,2,  -999.0,9,   7.7941,2,    25.00,  11.4579
29AH20120622,      OVIDE,       4,          1,         13,2,20120623,       0000,    40.3336,    -9.8020,       1340,   501.0,  11.5241,  35.7570,2,-999.0000,9,    189.7,2,  -999.0,9, -999.00,9, -999.00,9, -999.00,9,-999.000,9,-999.000,9,  -999.0,9,-999.0000,9,  -999.00,  11.4591
29AH20120622,      OVIDE,       4,          1,         14,2,20120623,       0000,    40.3336,    -9.8020,       1340,   400.7,  11.6780,  35.6839,2,  35.6848,2,    210.4,2,   204.8,4,    6.00,2,   12.73,2,    0.67,2,-999.000,9,-999.000,9,  -999.0,9,   7.8073,2,    25.00,  11.6258
29AH20120622,      OVIDE,       4,          1,         15,2,20120623,       0000,    40.3336,    -9.8020,       1340,   400.8,  11.6806,  35.6836,2,-999.0000,9,    210.4,2,  -999.0,9, -999.00,9, -999.00,9, -999.00,9,-999.000,9,-999.000,9,  -999.0,9,-999.0000,9,  -999.00,  11.6284
29AH20120622,      OVIDE,       4,          1,         16,2,20120623,       0000,    40.3336,    -9.8020,       1340,   301.2,  12.1488,  35.7179,2,  35.7201,2,    215.8,2,   215.3,2,    4.60,2,   10.67,2,    0.54,2,-999.000,9,-999.000,9,  -999.0,9,   7.8279,2,    25.00,  12.1087
29AH20120622,      OVIDE,       4,          1,         17,2,20120623,       0000,    40.3336,    -9.8020,       1340,   201.7,  12.7775,  35.8041,2,-999.0000,9,    227.6,2,  -999.0,9,    3.38,2,    8.08,2,    0.39,2,-999.000,9,-999.000,9,  -999.0,9,-999.0000,9,  -999.00,  12.7498
29AH20120622,      OVIDE,       4,          1,         18,2,20120623,       0000,    40.3336,    -9.8020,       1340,   201.8,  12.7753,  35.8038,2,  35.8062,2,    227.6,2,   227.0,2, -999.00,9, -999.00,9, -999.00,9,   2.700,2,   1.567,2,  -999.0,9,   7.8595,2,    25.00,  12.7476
29AH20120622,      OVIDE,       4,          1,         19,2,20120623,       0000,    40.3336,    -9.8020,       1340,   150.6,  13.2003,  35.8740,2,  35.8742,2,    233.5,2,   232.0,2,    2.74,2,    6.52,2,    0.29,2,-999.000,9,-999.000,9,  -999.0,9,   7.8790,2,    25.00,  13.1792
29AH20120622,      OVIDE,       4,          1,         20,2,20120623,       0000,    40.3336,    -9.8020,       1340,   100.9,  13.5990,  35.9313,2,  35.9347,2,    235.1,2,   234.5,2,    2.09,2,    5.01,2,    0.21,2,-999.000,9,-999.000,9,  -999.0,9,   7.8934,2,    25.00,  13.5846
29AH20120622,      OVIDE,       4,          1,         21,2,20120623,       0000,    40.3336,    -9.8020,       1340,    60.6,  14.1379,  36.0039,2,-999.0000,9,    255.4,2,   239.5,3,    1.66,2,    3.41,2,    0.12,2,-999.000,9,-999.000,9,  -999.0,9,-999.0000,9,  -999.00,  14.1290
29AH20120622,      OVIDE,       4,          1,         22,2,20120623,       0000,    40.3336,    -9.8020,       1340,    60.6,  14.1375,  36.0038,2,  36.0059,2,    255.4,2,   239.4,3, -999.00,9, -999.00,9, -999.00,9,-999.000,9,-999.000,9,  -999.0,9,   7.9140,2,    25.00,  14.1286
29AH20120622,      OVIDE,       4,          1,         23,2,20120623,       0000,    40.3336,    -9.8020,       1340,     5.3,  18.1126,  35.8208,2,  35.8231,2,    243.3,2,   242.8,2, -999.00,9, -999.00,9, -999.00,9,   2.302,2,   1.400,2,  -999.0,9,   7.9942,2,    25.00,  18.1117
29AH20120622,      OVIDE,       4,          1,         24,2,20120623,       0000,    40.3336,    -9.8020,       1340,     5.4,  18.1144,  35.8208,2,-999.0000,9,    243.3,2,  -999.0,9,    1.17,3,    0.00,2,    0.00,2,-999.000,9,-999.000,9,  -999.0,9,-999.0000,9,  -999.00,  18.1135