BOTTLE,20151116SIOCCHCBG
EXPOCODE,SECT_ID,STNNBR,CASTNO,BTLNBR,BTLNBR_FLAG_W,DATE,TIME,LATITUDE,LONGITUDE,DEPTH,CTDPRS,CTDTMP,CTDSAL,CTDSAL_FLAG_W,SALNTY,SALNTY_FLAG_W,CTDOXY,CTDOXY_FLAG_W,OXYGEN,OXYGEN_FLAG_W,SILCAT,SILCAT_FLAG_W,NITRAT,NITRAT_FLAG_W,PHSPHT,PHSPHT_FLAG_W,CFC-11,CFC-11_FLAG_W,CFC-12,CFC-12_FLAG_W,ALKALI,ALKALI_FLAG_W,PH_TOT,PH_TOT_FLAG_W,PH_TMP,THETA
,,,,,,,,,,METERS,DBAR,ITS-90,PSS-78,,PSS-78,,UMOL/KG,,UMOL/KG,,UMOL/KG,,UMOL/KG,,UMOL/KG,,PMOL/KG,,PMOL/KG,,UMOL/KG,,,,DEG C,DEG C
29AH20120622,      OVIDE,      81,          1,          1,2,20120716,       0000,    59.7577,   -40.9047,       2272,  2289.4,   1.9660,  34.8999,2,  34.9004,2,    297.1,2,   298.5,2,    8.62,2,   13.73,2,    0.98,2,-999.000,9,-999.000,9,  2301.3,2,   7.7224,2,    25.00,   1.8042
29AH20120622,      OVIDE,      81,          1,          2,2,20120716,       0000,    59.7577,   -40.9047,       2272,  2239.7,   1.9637,  34.9000,2,  34.8986,2,    297.1,2,   298.2,2,    8.55,2,   13.74,2,    0.90,2,-999.000,9,-999.000,9,  2301.1,2,   7.7244,2,    25.00,   1.8063
29AH20120622,      OVIDE,      81,          1,          3,2,20120716,       0000,    59.7577,   -40.9047,       2272,  2190.4,   1.9906,  34.8960,2,  34.8960,2,    297.6,2,   299.1,2,    8.61,2,   13.78,2,    0.93,2,-999.000,9,-999.000,9,  2301.2,2,   7.7234,2,    25.00,   1.8371
29AH20120622,      OVIDE,      81,          1,          4,2,20120716,       0000,    59.7577,   -40.9047,       2272,  2000.6,   2.6344,  34.9096,2,  34.9108,2,    287.2,2,   289.0,2,   10.06,2,   14.76,2,    0.98,2,-999.000,9,-999.000,9,  2301.8,2,   7.7284,2,    25.00,   2.4873
29AH20120622,      OVIDE,      81,          1,          5,2,20120716,       0000,    59.7577,   -40.9047,       2272,  1799.8,   3.0486,  34.9235,2,  34.9256,2,    280.1,2,   281.0,2,   11.13,2,   15.82,2,    1.03,2,-999.000,9,-999.000,9,  2304.1,2,   7.7296,2,    25.00,   2.9134
29AH20120622,      OVIDE,      81,          1,          6,2,20120716,       0000,    59.7577,   -40.9047,       2272,  1600.9,   3.2916,  34.9293,2,  34.9293,2,    275.9,2,   277.6,2,   11.10,2,   16.12,2,    1.05,2,-999.000,9,-999.000,9,  2305.6,2,   7.7267,2,    25.00,   3.1708
29AH20120622,      OVIDE,      81,          1,          7,2,20120716,       0000,    59.7577,   -40.9047,       2272,  1400.8,   3.4817,  34.9280,2,  34.9282,2,    278.4,2,   281.6,2,    9.87,2,   15.71,2,    1.01,2,-999.000,9,-999.000,9,  2304.6,2,   7.7275,2,    25.00,   3.3761
29AH20120622,      OVIDE,      81,          1,          8,2,20120716,       0000,    59.7577,   -40.9047,       2272,  1201.2,   3.7376,  34.9350,2,-999.0000,9,    276.0,2,  -999.0,9,    9.40,3,   15.88,3,    1.03,3,-999.000,9,-999.000,9,  -999.0,9,-999.0000,9,  -999.00,   3.6464
29AH20120622,      OVIDE,      81,          1,          9,2,20120716,       0000,    59.7577,   -40.9047,       2272,  1000.1,   3.9017,  34.9322,2,  34.9323,2,    276.7,2,   278.1,2,    9.43,2,   15.92,2,    1.04,2,-999.000,9,-999.000,9,  2303.0,2,   7.7243,2,    25.00,   3.8261
29AH20120622,      OVIDE,      81,          1,         10,2,20120716,       0000,    59.7577,   -40.9047,       2272,   897.6,   4.0019,  34.9321,2,  34.9332,2,    277.3,2,   280.5,2,    8.99,2,   15.84,2,    1.03,2,-999.000,9,-999.000,9,  -999.0,9,   7.7238,2,    25.00,   3.9340
29AH20120622,      OVIDE,      81,          1,         11,2,20120716,       0000,    59.7577,   -40.9047,       2272,   801.1,   4.0983,  34.9337,2,  34.9329,2,    280.7,2,   280.7,2,    8.86,2,   15.98,2,    1.03,2,-999.000,9,-999.000,9,  2303.9,2,   7.7245,2,    25.00,   4.0377
29AH20120622,      OVIDE,      81,          1,         12,2,20120716,       0000,    59.7577,   -40.9047,       2272,   700.5,   4.2058,  34.9382,2,  34.9374,2,    285.7,2,   287.6,2,    8.57,2,   15.93,2,    1.03,2,-999.000,9,-999.000,9,  -999.0,9,   7.7268,2,    25.00,   4.1527
29AH20120622,      OVIDE,      81,          1,         13,2,20120716,       0000,    59.7577,   -40.9047,       2272,   599.7,   4.3337,  34.9503,2,  34.9493,2,    287.1,2,   289.4,2,    8.23,2,   15.89,2,    1.03,2,-999.000,9,-999.000,9,  2304.2,2,   7.7290,2,    25.00,   4.2881
29AH20120622,      OVIDE,      81,          1,         14,2,20120716,       0000,    59.7577,   -40.9047,       2272,   500.3,   4.4892,  34.9620,2,  34.9619,2,    285.7,2,   287.1,2,    8.00,2,   15.99,2,    1.02,2,-999.000,9,-999.000,9,  -999.0,9,   7.7308,2,    25.00,   4.4509
29AH20120622,      OVIDE,      81,          1,         15,2,20120716,       0000,    59.7577,   -40.9047,       2272,   399.2,   4.7185,  34.9798,2,  34.9628,4,    282.7,2,   286.8,2,    8.13,2,   15.87,2,    1.01,2,-999.000,9,-999.000,9,  2305.1,2,   7.7297,2,    25.00,   4.6875
29AH20120622,      OVIDE,      81,          1,         16,2,20120716,       0000,    59.7577,   -40.9047,       2272,   301.4,   4.9746,  35.0022,2,  35.0026,2,    282.7,2,   284.2,2,    7.82,2,   15.49,2,    0.99,2,-999.000,9,-999.000,9,  -999.0,9,   7.7381,2,    25.00,   4.9508
29AH20120622,      OVIDE,      81,          1,         17,2,20120716,       0000,    59.7577,   -40.9047,       2272,   200.0,   5.3965,  35.0370,2,  35.0352,2,    284.4,2,   287.5,2,    7.59,2,   15.20,2,    0.97,2,-999.000,9,-999.000,9,  2310.2,2,   7.7455,2,    25.00,   5.3802
29AH20120622,      OVIDE,      81,          1,         18,2,20120716,       0000,    59.7577,   -40.9047,       2272,   149.6,   5.5959,  35.0481,2,  35.0476,2,    285.3,2,   287.0,2,    7.28,2,   15.09,2,    0.96,2,-999.000,9,-999.000,9,  2310.9,2,   7.7497,2,    25.00,   5.5835
29AH20120622,      OVIDE,      81,          1,         19,2,20120716,       0000,    59.7577,   -40.9047,       2272,    98.2,   5.7767,  35.0503,2,  35.0508,2,    286.3,2,   288.7,2,    6.68,2,   14.71,2,    0.90,2,-999.000,9,-999.000,9,  2310.5,2,   7.7550,2,    25.00,   5.7685
29AH20120622,      OVIDE,      81,          1,         20,2,20120716,       0000,    59.7577,   -40.9047,       2272,    37.0,   6.1954,  35.0291,2,  35.0269,2,    297.7,2,   298.6,2,    4.09,2,   11.34,2,    0.74,2,-999.000,9,-999.000,9,  -999.0,9,   7.7901,2,    25.00,   6.1922
29AH20120622,      OVIDE,      81,          1,         21,2,20120716,       0000,    59.7577,   -40.9047,       2272,     4.9,  10.2122,  34.7311,2,-999.0000,9,    295.7,2,  -999.0,9, -999.00,9, -999.00,9, -999.00,9,-999.000,9,-999.000,9,  -999.0,9,-999.0000,9,  -999.00,  10.2116
29AH20120622,      OVIDE,      81,          1,         22,2,20120716,       0000,    59.7577,   -40.9047,       2272,     4.9,  10.2325,  34.7308,2,-999.0000,9,    295.7,2,  -999.0,9, -999.00,9, -999.00,9, -999.00,9,-999.000,9,-999.000,9,  -999.0,9,-999.0000,9,  -999.00,  10.2319
29AH20120622,      OVIDE,      81,          1,         23,2,20120716,       0000,    59.7577,   -40.9047,       2272,     4.9,  10.2505,  34.7310,2,-999.0000,9,    295.7,2,  -999.0,9, -999.00,9, -999.00,9, -999.00,9,-999.000,9,-999.000,9,  -999.0,9,-999.0000,9,  -999.00,  10.2499
29AH20120622,      OVIDE,      81,          1,         24,2,20120716,       0000,    59.7577,   -40.9047,       2272,     4.8,  10.2605,  34.7311,2,  34.9204,4,    295.7,2,   290.5,3,    4.92,2,   11.53,2,    0.63,2,-999.000,9,-999.000,9,  2306.8,2,   7.8625,2,    25.00,  10.2599
29AH20120622,      OVIDE,      82,          1,          1,2,20120716,       0000,    59.7732,   -41.3009,       2035,  2049.1,   2.2256,  34.8995,2,  34.8988,2,    293.8,2,   294.5,2,    9.28,2,   14.21,2,    0.90,2,   3.931,2,   2.048,2,  -999.0,9,   7.7229,2,    25.00,   2.0806
29AH20120622,      OVIDE,      82,          1,          2,2,20120716,       0000,    59.7732,   -41.3009,       2035,  2000.4,   2.3102,  34.9003,2,  34.8997,2,    291.5,2,   292.4,2,    9.41,2,   14.38,2,    0.94,2,   3.873,2,   2.010,2,  -999.0,9,   7.7233,2,    25.00,   2.1681
29AH20120622,      OVIDE,      82,          1,          3,2,20120716,       0000,    59.7732,   -41.3009,       2035,  1950.3,   2.4549,  34.9047,2,  34.9041,2,    289.8,2,   289.6,2,    9.83,2,   14.70,2,    0.96,2,-999.000,9,-999.000,9,  -999.0,9,   7.7237,2,    25.00,   2.3150
29AH20120622,      OVIDE,      82,          1,          4,2,20120716,       0000,    59.7732,   -41.3009,       2035,  1800.6,   2.6423,  34.9111,2,  34.9105,2,    285.9,2,   286.7,2,   10.48,2,   14.88,2,    0.98,2,   3.554,2,   1.828,2,  -999.0,9,   7.7251,2,    25.00,   2.5126
29AH20120622,      OVIDE,      82,          1,          5,2,20120716,       0000,    59.7732,   -41.3009,       2035,  1600.2,   3.0681,  34.9206,2,-999.0000,9,    280.9,2,  -999.0,9,   10.67,3,   15.82,3,    1.01,3,-999.000,9,-999.000,9,  -999.0,9,-999.0000,9,  -999.00,   2.9501
29AH20120622,      OVIDE,      82,          1,          6,2,20120716,       0000,    59.7732,   -41.3009,       2035,  1400.9,   3.3890,  34.9297,2,  34.9294,2,    275.4,2,   275.4,2,   11.27,2,   16.40,2,    1.02,2,   3.268,3,   1.680,3,  -999.0,9,   7.7243,2,    25.00,   3.2843
29AH20120622,      OVIDE,      82,          1,          7,2,20120716,       0000,    59.7732,   -41.3009,       2035,  1199.5,   3.6210,  34.9338,2,  34.9343,2,    276.7,2,   277.5,2,   10.17,2,   16.02,2,    1.02,2,   3.634,2,   1.884,2,  -999.0,9,   7.7237,2,    25.00,   3.5311
29AH20120622,      OVIDE,      82,          1,          8,2,20120716,       0000,    59.7732,   -41.3009,       2035,  1199.6,   3.6215,  34.9338,2,-999.0000,9,    276.7,2,  -999.0,9, -999.00,9, -999.00,9, -999.00,9,-999.000,9,-999.000,9,  -999.0,9,-999.0000,9,  -999.00,   3.5316
29AH20120622,      OVIDE,      82,          1,          9,2,20120716,       0000,    59.7732,   -41.3009,       2035,  1000.8,   3.7725,  34.9293,2,  34.9295,2,    274.2,2,   275.5,2,   10.35,2,   16.56,2,    1.05,2,   3.707,2,   1.916,2,  -999.0,9,   7.7214,2,    25.00,   3.6978
29AH20120622,      OVIDE,      82,          1,         10,2,20120716,       0000,    59.7732,   -41.3009,       2035,  1000.8,   3.7724,  34.9294,2,-999.0000,9,    274.2,2,  -999.0,9, -999.00,9, -999.00,9, -999.00,9,-999.000,9,-999.000,9,  -999.0,9,-999.0000,9,  -999.00,   3.6977
29AH20120622,      OVIDE,      82,          1,         11,2,20120716,       0000,    59.7732,   -41.3009,       2035,   800.4,   3.9797,  34.9304,2,  34.9295,2,    277.4,2,   279.0,2,    9.78,2,   16.14,2,    1.04,2,   3.942,2,   2.080,2,  -999.0,9,   7.7232,2,    25.00,   3.9199
29AH20120622,      OVIDE,      82,          1,         12,2,20120716,       0000,    59.7732,   -41.3009,       2035,   800.4,   3.9800,  34.9305,2,-999.0000,9,    277.4,2,  -999.0,9, -999.00,9, -999.00,9, -999.00,9,-999.000,9,-999.000,9,  -999.0,9,-999.0000,9,  -999.00,   3.9202
29AH20120622,      OVIDE,      82,          1,         13,2,20120716,       0000,    59.7732,   -41.3009,       2035,   700.7,   4.1319,  34.9384,2,-999.0000,9,    278.1,2,  -999.0,9, -999.00,9, -999.00,9, -999.00,9,-999.000,9,-999.000,9,  -999.0,9,-999.0000,9,  -999.00,   4.0792
29AH20120622,      OVIDE,      82,          1,         14,2,20120716,       0000,    59.7732,   -41.3009,       2035,   700.7,   4.1319,  34.9384,2,  34.9378,2,    278.1,2,   277.8,2,    9.45,2,   16.12,2,    1.02,2,-999.000,9,-999.000,9,  -999.0,9,   7.7232,2,    25.00,   4.0792
29AH20120622,      OVIDE,      82,          1,         15,2,20120716,       0000,    59.7732,   -41.3009,       2035,   700.6,   4.1323,  34.9385,2,-999.0000,9,    278.1,2,  -999.0,9, -999.00,9, -999.00,9, -999.00,9,-999.000,9,-999.000,9,  -999.0,9,-999.0000,9,  -999.00,   4.0796
29AH20120622,      OVIDE,      82,          1,         16,2,20120716,       0000,    59.7732,   -41.3009,       2035,   600.2,   4.2465,  34.9445,2,  34.9431,2,    279.1,2,   280.0,2,    9.24,2,   16.02,2,    1.02,2,-999.000,9,-999.000,9,  -999.0,9,   7.7260,2,    25.00,   4.2013
29AH20120622,      OVIDE,      82,          1,         17,2,20120716,       0000,    59.7732,   -41.3009,       2035,   500.0,   4.4164,  34.9561,2,  34.9572,2,    283.3,2,   283.9,2,    8.88,2,   15.91,2,    1.00,2,   4.068,2,   2.196,2,  -999.0,9,   7.7287,2,    25.00,   4.3784
29AH20120622,      OVIDE,      82,          1,         18,2,20120716,       0000,    59.7732,   -41.3009,       2035,   399.7,   4.6074,  34.9713,2,  34.9699,2,    285.1,2,   284.8,2,    8.38,2,   15.83,2,    1.02,2,-999.000,9,-999.000,9,  -999.0,9,   7.7317,2,    25.00,   4.5768
29AH20120622,      OVIDE,      82,          1,         19,2,20120716,       0000,    59.7732,   -41.3009,       2035,   299.8,   4.8429,  34.9905,2,  34.9896,2,    284.2,2,   285.6,2,    8.35,2,   15.80,2,    1.00,2,-999.000,9,-999.000,9,  -999.0,9,   7.7351,2,    25.00,   4.8196
29AH20120622,      OVIDE,      82,          1,         20,2,20120716,       0000,    59.7732,   -41.3009,       2035,   200.5,   5.1236,  35.0154,2,  35.0115,2,    285.6,2,   286.4,2,    8.04,2,   15.75,2,    0.98,2,   4.079,2,   2.234,2,  -999.0,9,   7.7412,2,    25.00,   5.1077
29AH20120622,      OVIDE,      82,          1,         21,2,20120716,       0000,    59.7732,   -41.3009,       2035,   150.2,   5.3462,  35.0277,2,  35.0270,2,    286.3,2,   288.4,2,    7.89,2,   15.52,2,    0.94,2,-999.000,9,-999.000,9,  -999.0,9,   7.7418,2,    25.00,   5.3341
29AH20120622,      OVIDE,      82,          1,         22,2,20120716,       0000,    59.7732,   -41.3009,       2035,   100.4,   5.5626,  35.0331,2,  35.0332,2,    289.1,2,   289.4,2,    7.38,2,   15.11,2,    0.87,2,-999.000,9,-999.000,9,  -999.0,9,   7.7497,2,    25.00,   5.5544
29AH20120622,      OVIDE,      82,          1,         23,2,20120716,       0000,    59.7732,   -41.3009,       2035,    21.1,   7.4281,  34.8684,2,  34.9006,4,    302.8,2,   306.3,2,    2.76,2,    8.08,2,    0.41,2,-999.000,9,-999.000,9,  -999.0,9,   7.8414,2,    25.00,   7.4261
29AH20120622,      OVIDE,      82,          1,         24,2,20120716,       0000,    59.7732,   -41.3009,       2035,     5.4,   9.9984,  34.7609,2,  34.7634,2,    297.4,2,   300.6,2,    1.05,2,    5.50,2,    0.16,2,   3.818,2,   2.142,2,  -999.0,9,   7.8776,2,    25.00,   9.9978