BOTTLE,20151116SIOCCHCBG
EXPOCODE,SECT_ID,STNNBR,CASTNO,BTLNBR,BTLNBR_FLAG_W,DATE,TIME,LATITUDE,LONGITUDE,DEPTH,CTDPRS,CTDTMP,CTDSAL,CTDSAL_FLAG_W,SALNTY,SALNTY_FLAG_W,CTDOXY,CTDOXY_FLAG_W,OXYGEN,OXYGEN_FLAG_W,SILCAT,SILCAT_FLAG_W,NITRAT,NITRAT_FLAG_W,PHSPHT,PHSPHT_FLAG_W,CFC-11,CFC-11_FLAG_W,CFC-12,CFC-12_FLAG_W,ALKALI,ALKALI_FLAG_W,PH_TOT,PH_TOT_FLAG_W,PH_TMP,THETA
,,,,,,,,,,METERS,DBAR,ITS-90,PSS-78,,PSS-78,,UMOL/KG,,UMOL/KG,,UMOL/KG,,UMOL/KG,,UMOL/KG,,PMOL/KG,,PMOL/KG,,UMOL/KG,,,,DEG C,DEG C
29AH20120622,      OVIDE,      53,          1,          1,2,20120709,       0000,    54.7611,   -26.1227,       3607,  3652.3,   2.8509,  34.9714,2,  34.9693,2,    264.3,2,   264.6,2,   21.59,2,   17.25,2,    1.14,3,-999.000,9,-999.000,9,  2320.6,2,   7.7246,2,    25.00,   2.5324
29AH20120622,      OVIDE,      53,          1,          2,2,20120709,       0000,    54.7611,   -26.1227,       3607,  3249.6,   2.8731,  34.9590,2,  34.9568,2,    265.3,2,   264.8,2,   20.71,2,   17.52,2,    1.12,2,-999.000,9,-999.000,9,  2318.5,2,   7.7296,2,    25.00,   2.5985
29AH20120622,      OVIDE,      53,          1,          3,2,20120709,       0000,    54.7611,   -26.1227,       3607,  3249.6,   2.8725,  34.9591,2,  34.9562,2,    265.3,2,   264.8,2,   20.36,2,   17.34,2,    1.16,2,-999.000,9,-999.000,9,  2317.6,2,   7.7283,2,    25.00,   2.5979
29AH20120622,      OVIDE,      53,          1,          4,2,20120709,       0000,    54.7611,   -26.1227,       3607,  2999.8,   2.9806,  34.9617,2,  34.9597,2,    269.6,2,   270.0,2,   16.62,2,   16.49,2,    1.08,2,-999.000,9,-999.000,9,  2312.0,2,   7.7296,2,    25.00,   2.7301
29AH20120622,      OVIDE,      53,          1,          5,2,20120709,       0000,    54.7611,   -26.1227,       3607,  2749.6,   3.0581,  34.9556,2,  34.9518,2,    271.8,2,   273.0,2,   14.93,2,   16.62,2,    1.07,2,-999.000,9,-999.000,9,  2307.4,2,   7.7314,2,    25.00,   2.8320
29AH20120622,      OVIDE,      53,          1,          6,2,20120709,       0000,    54.7611,   -26.1227,       3607,  2500.1,   3.1700,  34.9462,2,  34.9469,2,    273.6,2,   274.4,2,   13.12,2,   16.23,2,    1.06,2,-999.000,9,-999.000,9,  2305.6,2,   7.7299,2,    25.00,   2.9669
29AH20120622,      OVIDE,      53,          1,          7,2,20120709,       0000,    54.7611,   -26.1227,       3607,  2249.1,   3.2863,  34.9326,2,  34.9340,2,    273.9,2,   274.6,2,   12.32,2,   16.44,2,    1.06,2,-999.000,9,-999.000,9,  2304.1,2,   7.7322,2,    25.00,   3.1058
29AH20120622,      OVIDE,      53,          1,          8,2,20120709,       0000,    54.7611,   -26.1227,       3607,  1998.1,   3.4011,  34.9201,2,  34.9193,2,    273.4,2,   273.1,2,   11.89,2,   16.68,2,    1.14,2,-999.000,9,-999.000,9,  2302.3,2,   7.7297,2,    25.00,   3.2428
29AH20120622,      OVIDE,      53,          1,          9,2,20120709,       0000,    54.7611,   -26.1227,       3607,  1799.4,   3.5312,  34.9198,2,  34.9205,2,    272.2,2,   273.1,2,   11.52,2,   17.03,2,    1.07,2,-999.000,9,-999.000,9,  2301.9,2,   7.7262,2,    25.00,   3.3895
29AH20120622,      OVIDE,      53,          1,         10,2,20120709,       0000,    54.7611,   -26.1227,       3607,  1599.3,   3.6603,  34.9183,2,  34.9159,2,    271.6,2,   271.0,2,   11.33,2,   17.01,2,    1.11,2,-999.000,9,-999.000,9,  2302.6,2,   7.7236,2,    25.00,   3.5352
29AH20120622,      OVIDE,      53,          1,         11,2,20120709,       0000,    54.7611,   -26.1227,       3607,  1399.8,   3.7824,  34.9142,2,  34.9123,2,    272.3,2,   271.2,2,   10.89,2,   17.05,2,    1.09,2,-999.000,9,-999.000,9,  2301.6,2,   7.7225,2,    25.00,   3.6737
29AH20120622,      OVIDE,      53,          1,         12,2,20120709,       0000,    54.7611,   -26.1227,       3607,  1199.2,   3.9033,  34.9105,2,  34.9098,2,    274.5,2,   273.9,2,   10.30,2,   16.98,2,    1.11,2,-999.000,9,-999.000,9,  2300.1,2,   7.7184,2,    25.00,   3.8108
29AH20120622,      OVIDE,      53,          1,         13,2,20120709,       0000,    54.7611,   -26.1227,       3607,   999.0,   4.1553,  34.9244,2,  34.9248,2,    269.2,2,   269.8,2,   10.25,2,   17.15,2,    1.10,2,-999.000,9,-999.000,9,  2302.0,2,   7.7156,2,    25.00,   4.0778
29AH20120622,      OVIDE,      53,          1,         14,2,20120709,       0000,    54.7611,   -26.1227,       3607,   899.2,   4.3606,  34.9373,2,  34.9355,2,    264.9,2,   263.2,2,   10.18,2,   17.21,2,    1.11,2,-999.000,9,-999.000,9,  2303.2,2,   7.7122,2,    25.00,   4.2901
29AH20120622,      OVIDE,      53,          1,         15,2,20120709,       0000,    54.7611,   -26.1227,       3607,   799.6,   4.7302,  34.9697,2,  34.9645,2,    258.9,2,   254.2,3,   10.65,2,   17.67,2,    1.12,2,-999.000,9,-999.000,9,  2305.7,2,   7.7111,2,    25.00,   4.6658
29AH20120622,      OVIDE,      53,          1,         16,2,20120709,       0000,    54.7611,   -26.1227,       3607,   599.1,   5.7696,  35.0407,2,  35.0374,2,    228.2,2,   228.3,2,   11.17,2,   18.41,2,    1.19,2,-999.000,9,-999.000,9,  2309.6,2,   7.7042,2,    25.00,   5.7174
29AH20120622,      OVIDE,      53,          1,         17,2,20120709,       0000,    54.7611,   -26.1227,       3607,   499.3,   6.6122,  35.0878,2,  35.0889,2,    211.7,2,   213.0,2,   11.19,2,   18.86,2,    1.19,2,-999.000,9,-999.000,9,  2312.5,2,   7.7066,2,    25.00,   6.5658
29AH20120622,      OVIDE,      53,          1,         18,2,20120709,       0000,    54.7611,   -26.1227,       3607,   399.7,   6.9482,  35.0125,2,  35.0674,4,    225.5,2,   210.7,4,   10.67,2,   18.54,2,    1.15,2,-999.000,9,-999.000,9,  2308.2,2,   7.7120,2,    25.00,   6.9103
29AH20120622,      OVIDE,      53,          1,         19,2,20120709,       0000,    54.7611,   -26.1227,       3607,   299.0,   7.4393,  34.9130,2,  34.9198,4,    232.1,2,   232.9,2,    8.85,2,   16.30,2,    1.02,2,-999.000,9,-999.000,9,  2302.2,2,   7.7331,2,    25.00,   7.4101
29AH20120622,      OVIDE,      53,          1,         20,2,20120709,       0000,    54.7611,   -26.1227,       3607,   199.6,   8.9066,  35.0843,2,-999.0000,9,    255.8,2,  -999.0,9,    6.24,3,   13.89,3,    0.84,3,-999.000,9,-999.000,9,  -999.0,9,-999.0000,9,  -999.00,   8.8850
29AH20120622,      OVIDE,      53,          1,         21,2,20120709,       0000,    54.7611,   -26.1227,       3607,   100.4,   9.9577,  35.1749,2,  35.1544,4,    256.9,2,   255.6,2,    3.60,2,   10.91,2,    0.62,2,-999.000,9,-999.000,9,  2316.8,2,   7.8159,2,    25.00,   9.9461
29AH20120622,      OVIDE,      53,          1,         22,2,20120709,       0000,    54.7611,   -26.1227,       3607,    40.1,  10.2400,  35.0485,2,  35.0752,4,    252.8,2,   252.7,2,    3.06,2,    9.73,2,    0.51,2,-999.000,9,-999.000,9,  2312.8,2,   7.8266,2,    25.00,  10.2353
29AH20120622,      OVIDE,      53,          1,         23,2,20120709,       0000,    54.7611,   -26.1227,       3607,     7.4,  13.6826,  34.9874,2,  34.9892,2,    263.8,2,   268.0,2,    0.30,2,    0.56,2,    0.03,2,-999.000,9,-999.000,9,  2313.2,2,   7.9686,2,    25.00,  13.6816
29AH20120622,      OVIDE,      53,          1,         24,2,20120709,       0000,    54.7611,   -26.1227,       3607,     7.5,  13.6814,  34.9883,2,  34.9894,2,    263.8,2,   268.0,2,    0.32,2,    0.56,2,    0.03,2,-999.000,9,-999.000,9,  2313.9,2,   7.9660,2,    25.00,  13.6803
29AH20120622,      OVIDE,      54,          1,          1,2,20120709,       0000,    55.3286,   -26.5593,       3346,  3391.0,   2.8362,  34.9742,2,  34.9770,2,    265.1,2,   265.0,2,   20.97,2,   16.44,2,    1.12,3,   2.373,2,   1.228,2,  -999.0,9,   7.7234,2,    25.00,   2.5470
29AH20120622,      OVIDE,      54,          1,          2,2,20120709,       0000,    55.3286,   -26.5593,       3346,  3001.5,   2.8594,  34.9494,2,  34.9487,2,    264.4,2,   261.1,4,   23.16,3,   17.41,2,    1.18,3,   1.830,2,   0.924,2,  -999.0,9,   7.7314,2,    25.00,   2.6114
29AH20120622,      OVIDE,      54,          1,          3,2,20120709,       0000,    55.3286,   -26.5593,       3346,  2752.3,   3.0589,  34.9532,2,  34.9542,2,    270.9,2,   270.5,2,   15.65,2,   16.17,2,    1.11,3,   2.416,2,   1.226,2,  -999.0,9,   7.7314,2,    25.00,   2.8325
29AH20120622,      OVIDE,      54,          1,          4,2,20120709,       0000,    55.3286,   -26.5593,       3346,  2752.4,   3.0609,  34.9534,2,  34.9519,2,    270.9,2,   270.1,2,   15.68,2,   16.29,2,    1.11,3,-999.000,9,-999.000,9,  -999.0,9,-999.0000,9,  -999.00,   2.8344
29AH20120622,      OVIDE,      54,          1,          5,2,20120709,       0000,    55.3286,   -26.5593,       3346,  2501.0,   3.1693,  34.9363,2,  34.9359,2,    273.3,2,   273.3,2,   13.47,2,   16.00,2,    1.08,3,-999.000,9,-999.000,9,  -999.0,9,   7.7329,2,    25.00,   2.9661
29AH20120622,      OVIDE,      54,          1,          6,2,20120709,       0000,    55.3286,   -26.5593,       3346,  2249.4,   3.2813,  34.9241,2,  34.9237,2,    273.8,2,   274.4,2,   12.85,2,   16.34,2,    1.09,3,   2.699,2,   1.353,2,  -999.0,9,   7.7304,2,    25.00,   3.1009
29AH20120622,      OVIDE,      54,          1,          7,2,20120709,       0000,    55.3286,   -26.5593,       3346,  2000.7,   3.4562,  34.9189,2,  34.9184,2,    272.8,2,   272.5,2,   12.08,2,   16.59,2,    1.09,3,   2.883,2,   1.444,2,  -999.0,9,-999.0000,9,  -999.00,   3.2968
29AH20120622,      OVIDE,      54,          1,          8,2,20120709,       0000,    55.3286,   -26.5593,       3346,  2000.8,   3.4608,  34.9187,2,  34.9181,2,    272.8,2,   273.3,2,   12.11,2,   16.60,2,    1.08,3,-999.000,9,-999.000,9,  -999.0,9,   7.7255,2,    25.00,   3.3013
29AH20120622,      OVIDE,      54,          1,          9,2,20120709,       0000,    55.3286,   -26.5593,       3346,  1800.2,   3.6147,  34.9185,2,  34.9185,2,    271.1,2,   271.3,2,   11.99,2,   16.82,2,    1.09,3,-999.000,9,-999.000,9,  -999.0,9,   7.7225,2,    25.00,   3.4718
29AH20120622,      OVIDE,      54,          1,         10,2,20120709,       0000,    55.3286,   -26.5593,       3346,  1599.5,   3.7443,  34.9164,2,  34.9226,4,    271.8,2,   272.0,2,   11.22,2,   16.87,2,    1.08,3,   3.329,2,   1.715,2,  -999.0,9,   7.7196,2,    25.00,   3.6182
29AH20120622,      OVIDE,      54,          1,         11,2,20120709,       0000,    55.3286,   -26.5593,       3346,  1400.7,   3.8832,  34.9142,2,  34.9145,2,    272.1,2,   272.2,2,   10.48,2,   16.86,2,    1.06,3,   3.590,2,   1.889,2,  -999.0,9,   7.7158,2,    25.00,   3.7733
29AH20120622,      OVIDE,      54,          1,         12,2,20120709,       0000,    55.3286,   -26.5593,       3346,  1199.0,   4.0868,  34.9247,2,  34.9228,2,    269.0,2,   268.3,2,   10.17,2,   16.74,2,    1.07,3,   3.648,2,   1.941,2,  -999.0,9,   7.7168,2,    25.00,   3.9927
29AH20120622,      OVIDE,      54,          1,         13,2,20120709,       0000,    55.3286,   -26.5593,       3346,  1001.1,   4.5370,  34.9563,2,  34.9573,2,    258.8,2,   259.0,2,   10.04,2,   17.17,2,    1.09,3,-999.000,9,-999.000,9,  -999.0,9,   7.7079,2,    25.00,   4.4564
29AH20120622,      OVIDE,      54,          1,         14,2,20120709,       0000,    55.3286,   -26.5593,       3346,   897.4,   4.8271,  34.9714,2,  34.9737,2,    254.3,2,   253.4,2,    9.99,2,   17.17,2,    1.10,3,   3.422,2,   1.848,2,  -999.0,9,   7.7089,2,    25.00,   4.7535
29AH20120622,      OVIDE,      54,          1,         15,2,20120709,       0000,    55.3286,   -26.5593,       3346,   799.9,   5.4630,  35.0306,2,  35.0235,4,    235.4,2,   236.7,2,   10.36,2,   17.72,2,    1.13,3,-999.000,9,-999.000,9,  -999.0,9,   7.7066,2,    25.00,   5.3940
29AH20120622,      OVIDE,      54,          1,         16,2,20120709,       0000,    55.3286,   -26.5593,       3346,   600.7,   6.8123,  35.0377,2,  35.0373,2,    216.3,2,   211.4,3,    9.88,2,   18.22,2,    1.14,3,-999.000,9,-999.000,9,  -999.0,9,   7.7022,2,    25.00,   6.7552
29AH20120622,      OVIDE,      54,          1,         17,2,20120709,       0000,    55.3286,   -26.5593,       3346,   496.1,   7.5154,  35.0211,2,  35.0207,2,    241.7,2,   236.8,3,    7.98,2,   15.60,2,    1.00,3,-999.000,9,-999.000,9,  -999.0,9,   7.7375,2,    25.00,   7.4660
29AH20120622,      OVIDE,      54,          1,         18,2,20120709,       0000,    55.3286,   -26.5593,       3346,   400.5,   8.1940,  35.0786,2,  35.0778,2,    271.7,2,   271.9,2,    5.76,2,   12.59,2,    0.77,3,-999.000,9,-999.000,9,  -999.0,9,   7.7850,2,    25.00,   8.1523
29AH20120622,      OVIDE,      54,          1,         19,2,20120709,       0000,    55.3286,   -26.5593,       3346,   301.0,   8.1723,  35.0719,2,  35.0717,2,    272.5,2,   272.6,2,    5.79,2,   12.83,2,    0.76,3,   3.473,2,   2.001,2,  -999.0,9,   7.7840,2,    25.00,   8.1412
29AH20120622,      OVIDE,      54,          1,         20,2,20120709,       0000,    55.3286,   -26.5593,       3346,   200.9,   8.2616,  35.0705,2,  35.0713,2,    268.6,2,   268.8,2,    5.78,2,   12.81,2,    0.75,3,-999.000,9,-999.000,9,  -999.0,9,   7.7798,2,    25.00,   8.2408
29AH20120622,      OVIDE,      54,          1,         21,2,20120709,       0000,    55.3286,   -26.5593,       3346,   100.5,   8.9360,  35.1105,2,  35.1056,2,    263.6,2,   264.3,2,    4.03,2,   11.74,2,    0.64,3,-999.000,9,-999.000,9,  -999.0,9,   7.7978,2,    25.00,   8.9252
29AH20120622,      OVIDE,      54,          1,         22,2,20120709,       0000,    55.3286,   -26.5593,       3346,    35.4,  10.2621,  35.0673,2,  35.0739,4,    269.0,2,   269.8,2,    0.95,2,    7.06,2,    0.37,3,-999.000,9,-999.000,9,  -999.0,9,   7.8510,2,    25.00,  10.2580
29AH20120622,      OVIDE,      54,          1,         23,2,20120709,       0000,    55.3286,   -26.5593,       3346,     6.0,  13.4441,  35.0012,2,  34.9988,2,    266.1,2,   266.5,2,    0.24,2,    1.40,2,    0.07,3,   2.949,2,   1.745,2,  -999.0,9,-999.0000,9,  -999.00,  13.4433
29AH20120622,      OVIDE,      54,          1,         24,2,20120709,       0000,    55.3286,   -26.5593,       3346,     6.0,  13.4483,  35.0001,2,  34.9972,2,    266.1,2,   266.6,2,    0.23,2,    1.38,2,    0.04,3,-999.000,9,-999.000,9,  -999.0,9,   7.9375,2,    25.00,  13.4475