BOTTLE,20151116SIOCCHCBG
EXPOCODE,SECT_ID,STNNBR,CASTNO,BTLNBR,BTLNBR_FLAG_W,DATE,TIME,LATITUDE,LONGITUDE,DEPTH,CTDPRS,CTDTMP,CTDSAL,CTDSAL_FLAG_W,SALNTY,SALNTY_FLAG_W,CTDOXY,CTDOXY_FLAG_W,OXYGEN,OXYGEN_FLAG_W,SILCAT,SILCAT_FLAG_W,NITRAT,NITRAT_FLAG_W,PHSPHT,PHSPHT_FLAG_W,CFC-11,CFC-11_FLAG_W,CFC-12,CFC-12_FLAG_W,ALKALI,ALKALI_FLAG_W,PH_TOT,PH_TOT_FLAG_W,PH_TMP,THETA
,,,,,,,,,,METERS,DBAR,ITS-90,PSS-78,,PSS-78,,UMOL/KG,,UMOL/KG,,UMOL/KG,,UMOL/KG,,UMOL/KG,,PMOL/KG,,PMOL/KG,,UMOL/KG,,,,DEG C,DEG C
29AH20120622,      OVIDE,      25,          1,          1,2,20120630,       0000,    43.7792,   -17.0307,       4008,  4062.0,   2.5809,  34.9162,2,  34.9158,2,    239.5,2,   241.8,2,   43.08,2,   21.82,2,    1.43,2,-999.000,9,-999.000,9,  2353.3,2,   7.7409,2,    25.00,   2.2231
29AH20120622,      OVIDE,      25,          1,          2,2,20120630,       0000,    43.7792,   -17.0307,       4008,  3500.0,   2.6431,  34.9280,2,  34.9280,2,    243.4,2,   245.4,2,   39.16,2,   21.11,2,    1.36,2,-999.000,9,-999.000,9,  2344.7,2,   7.7401,2,    25.00,   2.3470
29AH20120622,      OVIDE,      25,          1,          3,2,20120630,       0000,    43.7792,   -17.0307,       4008,  3250.7,   2.7472,  34.9382,2,  34.9377,2,    246.4,2,   247.4,2,   34.85,2,   20.43,2,    1.31,2,-999.000,9,-999.000,9,  2339.9,2,   7.7422,2,    25.00,   2.4755
29AH20120622,      OVIDE,      25,          1,          4,2,20120630,       0000,    43.7792,   -17.0307,       4008,  3000.5,   2.9035,  34.9501,2,  34.9491,2,    249.8,2,   251.2,2,   30.75,2,   19.78,2,    1.26,2,-999.000,9,-999.000,9,  2331.3,2,   7.7357,2,    25.00,   2.6547
29AH20120622,      OVIDE,      25,          1,          5,2,20120630,       0000,    43.7792,   -17.0307,       4008,  2501.7,   3.2224,  34.9436,2,  34.9437,2,    264.3,2,   266.0,2,   18.79,2,   17.63,2,    1.11,2,-999.000,9,-999.000,9,  2315.6,2,   7.7385,2,    25.00,   3.0182
29AH20120622,      OVIDE,      25,          1,          6,2,20120630,       0000,    43.7792,   -17.0307,       4008,  2248.4,   3.4244,  34.9377,2,  34.9387,2,    269.0,2,   268.8,2,   15.23,2,   17.50,2,    1.06,2,-999.000,9,-999.000,9,  2308.8,2,   7.7360,2,    25.00,   3.2417
29AH20120622,      OVIDE,      25,          1,          7,2,20120630,       0000,    43.7792,   -17.0307,       4008,  2001.5,   3.8729,  34.9774,2,  34.9790,2,    264.0,2,   263.8,2,   13.64,2,   17.50,2,    1.08,2,-999.000,9,-999.000,9,  2309.5,2,   7.7343,2,    25.00,   3.7071
29AH20120622,      OVIDE,      25,          1,          8,2,20120630,       0000,    43.7792,   -17.0307,       4008,  1799.8,   4.5726,  35.0692,2,  35.0699,2,    253.4,2,   253.6,2,   13.09,2,   17.69,2,    1.08,2,-999.000,9,-999.000,9,  2316.4,2,   7.7329,2,    25.00,   4.4165
29AH20120622,      OVIDE,      25,          1,          9,2,20120630,       0000,    43.7792,   -17.0307,       4008,  1601.9,   5.0954,  35.1227,2,  35.1289,4,    249.8,2,   248.1,2,   11.94,2,   17.46,2,    1.07,2,-999.000,9,-999.000,9,  2321.9,2,   7.7322,2,    25.00,   4.9524
29AH20120622,      OVIDE,      25,          1,         10,2,20120630,       0000,    43.7792,   -17.0307,       4008,  1400.5,   7.1470,  35.4646,2,  35.4656,2,    217.1,2,   218.0,2,   11.40,2,   17.38,2,    1.02,2,-999.000,9,-999.000,9,  2343.9,2,   7.7513,2,    25.00,   7.0021
29AH20120622,      OVIDE,      25,          1,         11,2,20120630,       0000,    43.7792,   -17.0307,       4008,  1201.4,   8.5225,  35.6124,2,-999.0000,9,    197.2,2,  -999.0,9,   10.33,3,   17.07,3,    1.02,3,-999.000,9,-999.000,9,  -999.0,9,-999.0000,9,  -999.00,   8.3876
29AH20120622,      OVIDE,      25,          1,         12,2,20120630,       0000,    43.7792,   -17.0307,       4008,  1096.6,   9.2478,  35.6796,2,  35.6797,2,    189.2,2,   191.0,2,   10.06,2,   16.84,2,    1.01,2,-999.000,9,-999.000,9,  2360.0,2,   7.7629,2,    25.00,   9.1196
29AH20120622,      OVIDE,      25,          1,         13,2,20120630,       0000,    43.7792,   -17.0307,       4008,  1000.9,   9.7872,  35.7090,2,  35.7089,2,    183.2,2,   186.0,2,    9.67,2,   16.88,2,    0.99,2,-999.000,9,-999.000,9,  2357.7,2,   7.7662,2,    25.00,   9.6668
29AH20120622,      OVIDE,      25,          1,         14,2,20120630,       0000,    43.7792,   -17.0307,       4008,   935.2,  10.3217,  35.7439,2,  35.7425,2,    181.3,2,   182.8,2,    9.07,2,   16.28,2,    0.94,2,-999.000,9,-999.000,9,  2357.5,2,   7.7727,2,    25.00,  10.2060
29AH20120622,      OVIDE,      25,          1,         15,2,20120630,       0000,    43.7792,   -17.0307,       4008,   800.6,  10.5030,  35.5696,2,  35.5688,2,    188.0,2,   191.8,2,    7.88,2,   15.78,2,    0.89,2,-999.000,9,-999.000,9,  2341.5,2,   7.7722,2,    25.00,  10.4037
29AH20120622,      OVIDE,      25,          1,         16,2,20120630,       0000,    43.7792,   -17.0307,       4008,   701.0,  10.9225,  35.5522,2,  35.5509,2,    206.7,2,   212.4,3,    5.79,2,   13.26,2,    0.71,2,-999.000,9,-999.000,9,  2338.8,2,   7.7964,2,    25.00,  10.8339
29AH20120622,      OVIDE,      25,          1,         17,2,20120630,       0000,    43.7792,   -17.0307,       4008,   600.2,  11.3225,  35.5889,2,  35.5879,2,    226.1,2,   229.8,2,    4.34,2,   10.96,2,    0.57,2,-999.000,9,-999.000,9,  2339.8,2,   7.8229,2,    25.00,  11.2453
29AH20120622,      OVIDE,      25,          1,         18,2,20120630,       0000,    43.7792,   -17.0307,       4008,   498.4,  11.6693,  35.6284,2,  35.6272,2,    231.2,2,   231.8,2,    3.95,2,   10.24,2,    0.49,2,-999.000,9,-999.000,9,  2340.8,2,   7.8327,2,    25.00,  11.6042
29AH20120622,      OVIDE,      25,          1,         19,2,20120630,       0000,    43.7792,   -17.0307,       4008,   398.6,  11.9695,  35.6508,2,  35.6505,2,    229.6,2,   228.8,2,    3.84,2,   10.09,2,    0.47,2,-999.000,9,-999.000,9,  2341.2,2,   7.8371,2,    25.00,  11.9168
29AH20120622,      OVIDE,      25,          1,         20,2,20120630,       0000,    43.7792,   -17.0307,       4008,   300.1,  12.3556,  35.6827,2,  35.6819,2,    229.7,2,   233.3,2,    3.27,2,    8.88,2,    0.37,2,-999.000,9,-999.000,9,  2343.0,2,   7.8543,2,    25.00,  12.3152
29AH20120622,      OVIDE,      25,          1,         21,2,20120630,       0000,    43.7792,   -17.0307,       4008,   198.8,  12.9756,  35.7709,2,  35.7691,2,    243.6,2,   247.1,2,    2.02,2,    5.51,2,    0.19,2,-999.000,9,-999.000,9,  2349.8,2,   7.8935,2,    25.00,  12.9481
29AH20120622,      OVIDE,      25,          1,         22,2,20120630,       0000,    43.7792,   -17.0307,       4008,    98.1,  13.1120,  35.7807,2,  35.7802,2,    244.0,2,   244.4,2,    1.92,2,    5.43,2,    0.17,2,-999.000,9,-999.000,9,  2350.0,2,   7.8929,2,    25.00,  13.0984
29AH20120622,      OVIDE,      25,          1,         23,2,20120630,       0000,    43.7792,   -17.0307,       4008,    35.4,  15.4211,  35.7960,2,  35.7941,2,    240.6,2,   241.6,2,    0.48,2,    0.39,2,    0.03,2,-999.000,9,-999.000,9,  2354.8,2,   7.9510,2,    25.00,  15.4156
29AH20120622,      OVIDE,      25,          1,         24,2,20120630,       0000,    43.7792,   -17.0307,       4008,     6.0,  17.2698,  35.8717,2,  35.8717,2,    241.3,2,   241.9,2,    0.50,3,    0.00,2,    0.01,2,-999.000,9,-999.000,9,  2359.0,2,   7.9908,2,    25.00,  17.2688
29AH20120622,      OVIDE,      26,          1,          1,2,20120630,       0000,    44.0771,   -17.4241,       3778,  3818.6,   2.6033,  34.9213,2,  34.9214,2,    241.3,2,   242.4,2,   40.45,2,   21.43,2,    1.39,2,   0.160,2,   0.085,2,  -999.0,9,   7.7415,2,    25.00,   2.2728
29AH20120622,      OVIDE,      26,          1,          2,2,20120630,       0000,    44.0771,   -17.4241,       3778,  3500.3,   2.6692,  34.9300,2,  34.9293,2,    244.0,2,   243.6,2,   37.57,2,   20.71,2,    1.34,2,   0.225,2,   0.117,2,  -999.0,9,   7.7410,2,    25.00,   2.3724
29AH20120622,      OVIDE,      26,          1,          3,2,20120630,       0000,    44.0771,   -17.4241,       3778,  3000.2,   2.8955,  34.9503,2,  34.9500,2,    250.5,2,   249.4,2,   30.64,2,   19.73,2,    1.27,2,   0.420,2,   0.215,2,  -999.0,9,   7.7427,2,    25.00,   2.6469
29AH20120622,      OVIDE,      26,          1,          4,2,20120630,       0000,    44.0771,   -17.4241,       3778,  2750.2,   3.0899,  34.9557,2,  34.9545,2,    256.3,2,   256.4,2,   24.41,2,   18.41,2,    1.18,2,   0.903,2,   0.452,2,  -999.0,9,   7.7408,2,    25.00,   2.8631
29AH20120622,      OVIDE,      26,          1,          5,2,20120630,       0000,    44.0771,   -17.4241,       3778,  2501.0,   3.2986,  34.9498,2,  34.9486,2,    264.0,2,   263.5,2,   18.65,2,   17.88,2,    1.11,2,-999.000,9,-999.000,9,  -999.0,9,   7.7400,2,    25.00,   3.0930
29AH20120622,      OVIDE,      26,          1,          6,2,20120630,       0000,    44.0771,   -17.4241,       3778,  2249.9,   3.4915,  34.9458,2,  34.5256,4,    267.6,2,  -999.0,9,   16.01,3,   17.72,3,    1.09,3,   2.157,3,   1.150,3,  -999.0,9,-999.0000,9,  -999.00,   3.3075
29AH20120622,      OVIDE,      26,          1,          7,2,20120630,       0000,    44.0771,   -17.4241,       3778,  2000.0,   3.9536,  34.9963,2,  34.9954,2,    261.1,2,   261.2,2,   14.39,2,   17.57,2,    1.07,2,   2.272,6,   1.122,6,  -999.0,9,   7.7355,2,    25.00,   3.7867
29AH20120622,      OVIDE,      26,          1,          8,2,20120630,       0000,    44.0771,   -17.4241,       3778,  1800.8,   4.5586,  35.0676,2,  35.0672,2,    253.1,2,   255.4,2,   13.02,2,   17.68,2,    1.07,2,-999.000,9,-999.000,9,  -999.0,9,   7.7332,2,    25.00,   4.4026
29AH20120622,      OVIDE,      26,          1,          9,2,20120630,       0000,    44.0771,   -17.4241,       3778,  1596.1,   4.9147,  35.0858,2,  35.0887,2,    246.3,2,   249.6,2,   11.93,2,   17.30,2,    1.05,2,   2.868,2,   1.472,2,  -999.0,9,   7.7298,2,    25.00,   4.7745
29AH20120622,      OVIDE,      26,          1,         10,2,20120630,       0000,    44.0771,   -17.4241,       3778,  1398.0,   6.2698,  35.2819,2,  35.2838,2,    226.8,2,   228.1,2,   11.71,2,   17.57,2,    1.03,2,   2.503,2,   1.307,2,  -999.0,9,   7.7371,2,    25.00,   6.1345
29AH20120622,      OVIDE,      26,          1,         11,2,20120630,       0000,    44.0771,   -17.4241,       3778,  1198.7,   8.0511,  35.5364,2,  35.5367,2,    200.8,2,   203.7,2,   11.17,2,   17.51,2,    1.02,2,   2.109,2,   1.122,2,  -999.0,9,   7.7516,2,    25.00,   7.9207
29AH20120622,      OVIDE,      26,          1,         12,2,20120630,       0000,    44.0771,   -17.4241,       3778,  1100.7,   9.0291,  35.6741,2,  35.6715,2,    190.5,2,   193.4,2,   10.82,2,   17.24,2,    0.98,2,-999.000,9,-999.000,9,  -999.0,9,   7.7616,2,    25.00,   8.9021
29AH20120622,      OVIDE,      26,          1,         13,2,20120630,       0000,    44.0771,   -17.4241,       3778,   999.4,   9.9380,  35.7491,2,  35.7494,2,    183.9,2,   183.7,2,   10.00,2,   16.86,2,    0.95,2,-999.000,9,-999.000,9,  -999.0,9,   7.7687,2,    25.00,   9.8167
29AH20120622,      OVIDE,      26,          1,         14,2,20120630,       0000,    44.0771,   -17.4241,       3778,   900.3,  10.3761,  35.7385,2,  35.7356,2,    181.4,2,   182.0,2,    9.26,2,   16.62,2,    0.92,2,-999.000,9,-999.000,9,  -999.0,9,   7.7722,2,    25.00,  10.2646
29AH20120622,      OVIDE,      26,          1,         15,2,20120630,       0000,    44.0771,   -17.4241,       3778,   800.7,  10.3785,  35.5896,2,  35.5887,2,    186.1,2,   186.5,2,    8.66,2,   16.45,2,    0.90,2,-999.000,9,-999.000,9,  -999.0,9,   7.7674,2,    25.00,  10.2799
29AH20120622,      OVIDE,      26,          1,         16,2,20120630,       0000,    44.0771,   -17.4241,       3778,   700.9,  10.8680,  35.5816,2,  35.5807,2,    197.1,2,   193.9,2,    7.40,2,   15.24,2,    0.80,2,-999.000,9,-999.000,9,  -999.0,9,   7.7808,2,    25.00,  10.7797
29AH20120622,      OVIDE,      26,          1,         17,2,20120630,       0000,    44.0771,   -17.4241,       3778,   597.9,  11.2053,  35.5793,2,  35.5793,2,    217.3,2,   215.5,2,    5.40,2,   12.59,2,    0.63,2,   2.763,2,   1.571,2,  -999.0,9,   7.8078,2,    25.00,  11.1289
29AH20120622,      OVIDE,      26,          1,         18,2,20120630,       0000,    44.0771,   -17.4241,       3778,   501.2,  11.5885,  35.6190,2,  35.6180,2,    224.6,2,   225.9,2,    4.24,2,   10.99,2,    0.52,2,-999.000,9,-999.000,9,  -999.0,9,   7.8269,2,    25.00,  11.5233
29AH20120622,      OVIDE,      26,          1,         19,2,20120630,       0000,    44.0771,   -17.4241,       3778,   400.2,  11.9773,  35.6596,2,  35.6560,2,    223.3,2,   224.5,2,    3.92,2,   10.42,2,    0.47,2,-999.000,9,-999.000,9,  -999.0,9,   7.8361,2,    25.00,  11.9244
29AH20120622,      OVIDE,      26,          1,         20,2,20120630,       0000,    44.0771,   -17.4241,       3778,   300.7,  12.4631,  35.7152,2,  35.7143,2,    226.0,2,   225.5,2,    3.53,2,    9.50,2,    0.38,2,   2.836,2,   1.644,2,  -999.0,9,   7.8515,2,    25.00,  12.4224
29AH20120622,      OVIDE,      26,          1,         21,2,20120630,       0000,    44.0771,   -17.4241,       3778,   197.9,  12.9457,  35.7633,2,  35.7598,2,    240.8,2,   240.5,2,    2.48,2,    6.50,2,    0.21,2,-999.000,9,-999.000,9,  -999.0,9,   7.8851,2,    25.00,  12.9184
29AH20120622,      OVIDE,      26,          1,         22,2,20120630,       0000,    44.0771,   -17.4241,       3778,    98.3,  13.8115,  35.9206,2,  35.9211,2,    240.1,2,   241.2,2,    1.69,2,    4.14,2,    0.09,2,-999.000,9,-999.000,9,  -999.0,9,   7.9128,2,    25.00,  13.7973
29AH20120622,      OVIDE,      26,          1,         23,2,20120630,       0000,    44.0771,   -17.4241,       3778,    38.1,  16.6043,  35.8408,2,  35.8460,4,    239.6,2,   240.6,2,    0.45,2,    0.02,2,    0.01,2,-999.000,9,-999.000,9,  -999.0,9,   7.9821,2,    25.00,  16.5981
29AH20120622,      OVIDE,      26,          1,         24,2,20120630,       0000,    44.0771,   -17.4241,       3778,     6.0,  17.6248,  35.8672,2,  35.8670,2,    240.4,2,   242.1,2,    0.42,2,    0.01,2,    0.02,2,   2.407,2,   1.440,2,  -999.0,9,   7.9909,2,    25.00,  17.6238