BOTTLE,20151116SIOCCHCBG
EXPOCODE,SECT_ID,STNNBR,CASTNO,BTLNBR,BTLNBR_FLAG_W,DATE,TIME,LATITUDE,LONGITUDE,DEPTH,CTDPRS,CTDTMP,CTDSAL,CTDSAL_FLAG_W,SALNTY,SALNTY_FLAG_W,CTDOXY,CTDOXY_FLAG_W,OXYGEN,OXYGEN_FLAG_W,SILCAT,SILCAT_FLAG_W,NITRAT,NITRAT_FLAG_W,PHSPHT,PHSPHT_FLAG_W,CFC-11,CFC-11_FLAG_W,CFC-12,CFC-12_FLAG_W,ALKALI,ALKALI_FLAG_W,PH_TOT,PH_TOT_FLAG_W,PH_TMP,THETA
,,,,,,,,,,METERS,DBAR,ITS-90,PSS-78,,PSS-78,,UMOL/KG,,UMOL/KG,,UMOL/KG,,UMOL/KG,,UMOL/KG,,PMOL/KG,,PMOL/KG,,UMOL/KG,,,,DEG C,DEG C
29AH20120622,      OVIDE,     103,          1,          1,2,20120718,       0000,    59.5019,   -45.6192,        495,   484.3,   4.9017,  34.9523,2,  34.9526,2,    285.7,2,   288.1,2,    7.41,2,   14.31,2,    0.87,2,-999.000,9,-999.000,9,  2305.8,2,   7.7423,2,    25.00,   4.8632
29AH20120622,      OVIDE,     103,          1,          2,2,20120718,       0000,    59.5019,   -45.6192,        495,   400.3,   5.0760,  34.9580,2,  34.9586,2,    286.3,2,   287.2,2,    7.11,2,   14.33,2,    0.89,2,   4.071,2,   2.290,2,  2306.2,2,   7.7478,2,    25.00,   5.0439
29AH20120622,      OVIDE,     103,          1,          3,2,20120718,       0000,    59.5019,   -45.6192,        495,   300.8,   4.7399,  34.8646,2,  34.8630,2,    291.9,2,   293.1,2,    6.44,2,   13.33,2,    0.83,2,   4.195,2,   2.370,2,  -999.0,9,   7.7508,2,    25.00,   4.7168
29AH20120622,      OVIDE,     103,          1,          4,2,20120718,       0000,    59.5019,   -45.6192,        495,   300.8,   4.7389,  34.8646,2,-999.0000,9,    291.9,2,  -999.0,9, -999.00,9, -999.00,9, -999.00,9,-999.000,9,-999.000,9,  -999.0,9,-999.0000,9,  -999.00,   4.7158
29AH20120622,      OVIDE,     103,          1,          5,2,20120718,       0000,    59.5019,   -45.6192,        495,   200.5,   3.3277,  34.5676,2,  34.5653,2,    305.1,2,   304.6,2,    5.85,2,   11.53,2,    0.77,2,   4.629,2,   2.594,2,  2289.1,2,   7.7476,2,    25.00,   3.3148
29AH20120622,      OVIDE,     103,          1,          6,2,20120718,       0000,    59.5019,   -45.6192,        495,   200.5,   3.3294,  34.5681,2,-999.0000,9,    305.1,2,  -999.0,9, -999.00,9, -999.00,9, -999.00,9,-999.000,9,-999.000,9,  -999.0,9,-999.0000,9,  -999.00,   3.3165
29AH20120622,      OVIDE,     103,          1,          7,2,20120718,       0000,    59.5019,   -45.6192,        495,   151.6,   4.7347,  34.6479,2,  34.6545,4,    303.0,2,   304.2,2,    4.46,2,   10.17,2,    0.67,2,-999.000,9,-999.000,9,  -999.0,9,   7.7800,2,    25.00,   4.7233
29AH20120622,      OVIDE,     103,          1,          8,2,20120718,       0000,    59.5019,   -45.6192,        495,   151.6,   4.7321,  34.6477,2,-999.0000,9,    303.0,2,  -999.0,9, -999.00,9, -999.00,9, -999.00,9,-999.000,9,-999.000,9,  -999.0,9,-999.0000,9,  -999.00,   4.7207
29AH20120622,      OVIDE,     103,          1,          9,2,20120718,       0000,    59.5019,   -45.6192,        495,   101.2,   4.2925,  34.4879,2,  34.4897,2,    311.4,2,   311.3,2,    3.93,2,    9.15,2,    0.62,2,-999.000,9,-999.000,9,  2282.0,2,   7.7861,2,    25.00,   4.2853
29AH20120622,      OVIDE,     103,          1,         10,2,20120718,       0000,    59.5019,   -45.6192,        495,   101.2,   4.2927,  34.4876,2,-999.0000,9,    311.4,2,  -999.0,9, -999.00,9, -999.00,9, -999.00,9,-999.000,9,-999.000,9,  -999.0,9,-999.0000,9,  -999.00,   4.2855
29AH20120622,      OVIDE,     103,          1,         11,2,20120718,       0000,    59.5019,   -45.6192,        495,    50.8,   2.8265,  34.0935,2,  34.0908,2,    322.5,2,   322.3,2,    3.61,2,    7.79,2,    0.55,2,-999.000,9,-999.000,9,  -999.0,9,   7.7782,2,    25.00,   2.8235
29AH20120622,      OVIDE,     103,          1,         12,2,20120718,       0000,    59.5019,   -45.6192,        495,    50.8,   2.8328,  34.0937,2,-999.0000,9,    322.5,2,  -999.0,9, -999.00,9, -999.00,9, -999.00,9,-999.000,9,-999.000,9,  -999.0,9,-999.0000,9,  -999.00,   2.8298
29AH20120622,      OVIDE,     103,          1,         13,2,20120718,       0000,    59.5019,   -45.6192,        495,     5.4,   3.6359,  32.9870,2,-999.0000,9,    345.1,2,  -999.0,9, -999.00,9, -999.00,9, -999.00,9,-999.000,9,-999.000,9,  -999.0,9,-999.0000,9,  -999.00,   3.6356
29AH20120622,      OVIDE,     103,          1,         14,2,20120718,       0000,    59.5019,   -45.6192,        495,     5.6,   3.6504,  32.9841,2,-999.0000,9,    344.9,2,  -999.0,9, -999.00,9, -999.00,9, -999.00,9,-999.000,9,-999.000,9,  -999.0,9,-999.0000,9,  -999.00,   3.6500
29AH20120622,      OVIDE,     103,          1,         15,2,20120718,       0000,    59.5019,   -45.6192,        495,     5.5,   3.6506,  32.9848,2,-999.0000,9,    345.0,2,  -999.0,9, -999.00,9, -999.00,9, -999.00,9,-999.000,9,-999.000,9,  -999.0,9,-999.0000,9,  -999.00,   3.6503
29AH20120622,      OVIDE,     103,          1,         16,2,20120718,       0000,    59.5019,   -45.6192,        495,     5.5,   3.6296,  32.9901,2,-999.0000,9,    345.0,2,  -999.0,9, -999.00,9, -999.00,9, -999.00,9,-999.000,9,-999.000,9,  -999.0,9,-999.0000,9,  -999.00,   3.6293
29AH20120622,      OVIDE,     103,          1,         17,2,20120718,       0000,    59.5019,   -45.6192,        495,     5.6,   3.6333,  32.9900,2,-999.0000,9,    344.9,2,  -999.0,9, -999.00,9, -999.00,9, -999.00,9,-999.000,9,-999.000,9,  -999.0,9,-999.0000,9,  -999.00,   3.6330
29AH20120622,      OVIDE,     103,          1,         18,2,20120718,       0000,    59.5019,   -45.6192,        495,     5.6,   3.6589,  32.9851,2,-999.0000,9,    344.9,2,  -999.0,9, -999.00,9, -999.00,9, -999.00,9,-999.000,9,-999.000,9,  -999.0,9,-999.0000,9,  -999.00,   3.6585
29AH20120622,      OVIDE,     103,          1,         19,2,20120718,       0000,    59.5019,   -45.6192,        495,     5.7,   3.6569,  32.9865,2,-999.0000,9,    344.8,2,  -999.0,9, -999.00,9, -999.00,9, -999.00,9,-999.000,9,-999.000,9,  -999.0,9,-999.0000,9,  -999.00,   3.6565
29AH20120622,      OVIDE,     103,          1,         20,2,20120718,       0000,    59.5019,   -45.6192,        495,     5.7,   3.6229,  32.9935,2,-999.0000,9,    344.8,2,  -999.0,9, -999.00,9, -999.00,9, -999.00,9,-999.000,9,-999.000,9,  -999.0,9,-999.0000,9,  -999.00,   3.6225
29AH20120622,      OVIDE,     103,          1,         21,2,20120718,       0000,    59.5019,   -45.6192,        495,     5.7,   3.7040,  32.9729,2,-999.0000,9,    344.8,2,  -999.0,9, -999.00,9, -999.00,9, -999.00,9,-999.000,9,-999.000,9,  -999.0,9,-999.0000,9,  -999.00,   3.7036
29AH20120622,      OVIDE,     103,          1,         22,2,20120718,       0000,    59.5019,   -45.6192,        495,     5.6,   3.7375,  32.9655,2,-999.0000,9,    344.9,2,  -999.0,9, -999.00,9, -999.00,9, -999.00,9,-999.000,9,-999.000,9,  -999.0,9,-999.0000,9,  -999.00,   3.7371
29AH20120622,      OVIDE,     103,          1,         23,2,20120718,       0000,    59.5019,   -45.6192,        495,     5.6,   3.7886,  32.9544,2,-999.0000,9,    344.9,2,  -999.0,9, -999.00,9, -999.00,9, -999.00,9,-999.000,9,-999.000,9,  -999.0,9,-999.0000,9,  -999.00,   3.7882
29AH20120622,      OVIDE,     103,          1,         24,2,20120718,       0000,    59.5019,   -45.6192,        495,     5.6,   3.7952,  32.9614,2,  32.9798,4,    344.9,2,   343.0,2,    2.01,2,    4.28,2,    0.35,2,   5.120,2,   2.837,2,  2201.3,2,   7.8498,2,    25.00,   3.7948
29AH20120622,      OVIDE,     104,          1,          1,2,20120718,       0000,    59.4634,   -45.6490,       1078,  1036.7,   4.5224,  34.9587,2,  34.9592,2,    282.3,2,   284.7,2,    8.56,2,   15.47,2,    0.96,2,   3.960,2,   2.186,2,  -999.0,9,   7.7340,2,    25.00,   4.4387
29AH20120622,      OVIDE,     104,          1,          2,2,20120718,       0000,    59.4634,   -45.6490,       1078,  1036.6,   4.5222,  34.9588,2,-999.0000,9,    282.3,2,  -999.0,9, -999.00,9, -999.00,9, -999.00,9,-999.000,9,-999.000,9,  -999.0,9,-999.0000,9,  -999.00,   4.4386
29AH20120622,      OVIDE,     104,          1,          3,2,20120718,       0000,    59.4634,   -45.6490,       1078,   901.0,   4.5765,  34.9622,2,  34.9630,2,    281.5,2,  -999.0,9,    8.56,2,   15.31,2,    0.94,2,   3.946,2,   2.213,2,  -999.0,9,   7.7356,2,    25.00,   4.5043
29AH20120622,      OVIDE,     104,          1,          4,2,20120718,       0000,    59.4634,   -45.6490,       1078,   900.9,   4.5753,  34.9621,2,-999.0000,9,    281.5,2,  -999.0,9, -999.00,9, -999.00,9, -999.00,9,-999.000,9,-999.000,9,  -999.0,9,-999.0000,9,  -999.00,   4.5031
29AH20120622,      OVIDE,     104,          1,          5,2,20120718,       0000,    59.4634,   -45.6490,       1078,   799.8,   4.5909,  34.9636,2,  34.9638,2,    281.7,2,   285.0,2,    8.49,2,   15.37,2,    0.94,2,   3.937,2,   2.196,2,  -999.0,9,   7.7335,2,    25.00,   4.5273
29AH20120622,      OVIDE,     104,          1,          6,2,20120718,       0000,    59.4634,   -45.6490,       1078,   799.9,   4.5910,  34.9636,2,-999.0000,9,    281.7,2,  -999.0,9, -999.00,9, -999.00,9, -999.00,9,-999.000,9,-999.000,9,  -999.0,9,-999.0000,9,  -999.00,   4.5274
29AH20120622,      OVIDE,     104,          1,          7,2,20120718,       0000,    59.4634,   -45.6490,       1078,   700.6,   4.7892,  34.9780,2,  34.9792,2,    282.0,2,   284.7,2,    8.30,2,   15.29,2,    0.92,2,   3.954,6,   2.228,6,  -999.0,9,   7.7367,2,    25.00,   4.7329
29AH20120622,      OVIDE,     104,          1,          8,2,20120718,       0000,    59.4634,   -45.6490,       1078,   700.6,   4.7885,  34.9780,2,-999.0000,9,    282.0,2,  -999.0,9, -999.00,9, -999.00,9, -999.00,9,-999.000,9,-999.000,9,  -999.0,9,-999.0000,9,  -999.00,   4.7322
29AH20120622,      OVIDE,     104,          1,          9,2,20120718,       0000,    59.4634,   -45.6490,       1078,   602.1,   5.0101,  34.9850,2,  34.9904,2,    283.6,2,   286.5,2,    7.91,2,   15.04,2,    0.90,2,   3.962,2,   2.217,2,  -999.0,9,   7.7391,2,    25.00,   4.9611
29AH20120622,      OVIDE,     104,          1,         10,2,20120718,       0000,    59.4634,   -45.6490,       1078,   602.2,   5.0097,  34.9849,2,-999.0000,9,    283.6,2,  -999.0,9, -999.00,9, -999.00,9, -999.00,9,-999.000,9,-999.000,9,  -999.0,9,-999.0000,9,  -999.00,   4.9607
29AH20120622,      OVIDE,     104,          1,         11,2,20120718,       0000,    59.4634,   -45.6490,       1078,   400.5,   5.0404,  34.9603,2,  34.9629,2,    286.0,2,   289.4,2,    7.39,2,   14.56,2,    0.87,2,   4.053,2,   2.300,2,  -999.0,9,   7.7449,2,    25.00,   5.0083
29AH20120622,      OVIDE,     104,          1,         12,2,20120718,       0000,    59.4634,   -45.6490,       1078,   400.4,   5.0394,  34.9602,2,-999.0000,9,    286.0,2,  -999.0,9, -999.00,9, -999.00,9, -999.00,9,-999.000,9,-999.000,9,  -999.0,9,-999.0000,9,  -999.00,   5.0074
29AH20120622,      OVIDE,     104,          1,         13,2,20120718,       0000,    59.4634,   -45.6490,       1078,   301.1,   4.9058,  34.9112,2,  34.9198,4,    289.0,2,   292.7,2,    6.88,2,   13.93,2,    0.84,2,   4.297,2,   2.341,2,  -999.0,9,   7.7510,2,    25.00,   4.8823
29AH20120622,      OVIDE,     104,          1,         14,2,20120718,       0000,    59.4634,   -45.6490,       1078,   301.1,   4.9059,  34.9113,2,-999.0000,9,    289.0,2,  -999.0,9, -999.00,9, -999.00,9, -999.00,9,-999.000,9,-999.000,9,  -999.0,9,-999.0000,9,  -999.00,   4.8824
29AH20120622,      OVIDE,     104,          1,         15,2,20120718,       0000,    59.4634,   -45.6490,       1078,   201.5,   3.9541,  34.7072,2,  34.7098,2,    299.3,2,   299.8,2,    6.07,2,   12.54,2,    0.77,2,   4.620,2,   2.503,2,  -999.0,9,   7.7540,2,    25.00,   3.9401
29AH20120622,      OVIDE,     104,          1,         16,2,20120718,       0000,    59.4634,   -45.6490,       1078,   201.5,   3.9521,  34.7068,2,-999.0000,9,    299.3,2,  -999.0,9, -999.00,9, -999.00,9, -999.00,9,-999.000,9,-999.000,9,  -999.0,9,-999.0000,9,  -999.00,   3.9381
29AH20120622,      OVIDE,     104,          1,         17,2,20120718,       0000,    59.4634,   -45.6490,       1078,   150.5,   3.4791,  34.6068,2,  34.6121,2,    304.7,2,   306.5,2,    5.87,2,   11.62,2,    0.73,2,-999.000,9,-999.000,9,  -999.0,9,   7.7500,2,    25.00,   3.4693
29AH20120622,      OVIDE,     104,          1,         18,2,20120718,       0000,    59.4634,   -45.6490,       1078,   150.6,   3.4782,  34.6066,2,-999.0000,9,    304.6,2,  -999.0,9, -999.00,9, -999.00,9, -999.00,9,-999.000,9,-999.000,9,  -999.0,9,-999.0000,9,  -999.00,   3.4684
29AH20120622,      OVIDE,     104,          1,         19,2,20120718,       0000,    59.4634,   -45.6490,       1078,   101.1,   4.5990,  34.6697,2,  34.6561,4,    302.4,2,   305.6,2,    4.89,2,   10.68,2,    0.67,2,-999.000,9,-999.000,9,  -999.0,9,   7.7731,2,    25.00,   4.5915
29AH20120622,      OVIDE,     104,          1,         20,2,20120718,       0000,    59.4634,   -45.6490,       1078,   101.0,   4.6037,  34.6703,2,-999.0000,9,    302.4,2,  -999.0,9, -999.00,9, -999.00,9, -999.00,9,-999.000,9,-999.000,9,  -999.0,9,-999.0000,9,  -999.00,   4.5962
29AH20120622,      OVIDE,     104,          1,         21,2,20120718,       0000,    59.4634,   -45.6490,       1078,    51.8,   4.1053,  34.4178,2,  34.4366,4,    308.8,2,   314.2,3, -999.00,9, -999.00,9, -999.00,9,-999.000,9,-999.000,9,  -999.0,9,   7.7850,2,    25.00,   4.1017
29AH20120622,      OVIDE,     104,          1,         22,2,20120718,       0000,    59.4634,   -45.6490,       1078,    51.9,   4.1130,  34.4184,2,-999.0000,9,    308.7,2,  -999.0,9,    3.99,2,    9.07,2,    0.53,2,-999.000,9,-999.000,9,  -999.0,9,-999.0000,9,  -999.00,   4.1094
29AH20120622,      OVIDE,     104,          1,         23,2,20120718,       0000,    59.4634,   -45.6490,       1078,     4.9,   5.4981,  33.7266,2,-999.0000,9,    331.6,2,  -999.0,9, -999.00,9, -999.00,9, -999.00,9,-999.000,9,-999.000,9,  -999.0,9,-999.0000,9,  -999.00,   5.4977
29AH20120622,      OVIDE,     104,          1,         24,2,20120718,       0000,    59.4634,   -45.6490,       1078,     4.9,   5.4951,  33.7273,2,  33.7347,4,    331.6,2,   329.7,2,    2.39,2,    5.84,2,    0.23,2,   4.783,2,   2.608,2,  -999.0,9,   7.8540,2,    25.00,   5.4947