BOTTLE,20151116SIOCCHCBG
EXPOCODE,SECT_ID,STNNBR,CASTNO,BTLNBR,BTLNBR_FLAG_W,DATE,TIME,LATITUDE,LONGITUDE,DEPTH,CTDPRS,CTDTMP,CTDSAL,CTDSAL_FLAG_W,SALNTY,SALNTY_FLAG_W,CTDOXY,CTDOXY_FLAG_W,OXYGEN,OXYGEN_FLAG_W,SILCAT,SILCAT_FLAG_W,NITRAT,NITRAT_FLAG_W,PHSPHT,PHSPHT_FLAG_W,CFC-11,CFC-11_FLAG_W,CFC-12,CFC-12_FLAG_W,ALKALI,ALKALI_FLAG_W,PH_TOT,PH_TOT_FLAG_W,PH_TMP,THETA
,,,,,,,,,,METERS,DBAR,ITS-90,PSS-78,,PSS-78,,UMOL/KG,,UMOL/KG,,UMOL/KG,,UMOL/KG,,UMOL/KG,,PMOL/KG,,PMOL/KG,,UMOL/KG,,,,DEG C,DEG C
29AH20120622,      OVIDE,      59,          1,          1,2,20120711,       0000,    57.3778,   -28.1725,       2612,  2636.5,   2.7944,  34.9884,2,  34.9874,2,    271.7,2,   270.9,2,   15.78,2,   15.93,2,    1.05,2,-999.000,9,-999.000,9,  2314.3,2,   7.7228,2,    25.00,   2.5846
29AH20120622,      OVIDE,      59,          1,          2,2,20120711,       0000,    57.3778,   -28.1725,       2612,  2500.3,   2.8806,  34.9878,2,  34.9868,2,    272.2,2,   271.4,2,   14.45,2,   15.95,2,    1.05,2,-999.000,9,-999.000,9,  2310.0,2,   7.7242,2,    25.00,   2.6826
29AH20120622,      OVIDE,      59,          1,          3,2,20120711,       0000,    57.3778,   -28.1725,       2612,  2250.0,   3.1332,  34.9758,2,  34.9756,2,    272.1,2,   271.8,2,   13.19,2,   15.90,2,    1.06,2,-999.000,9,-999.000,9,  2306.4,2,   7.7292,2,    25.00,   2.9550
29AH20120622,      OVIDE,      59,          1,          4,2,20120711,       0000,    57.3778,   -28.1725,       2612,  1999.8,   3.4361,  34.9566,2,-999.0000,9,    273.4,2,  -999.0,9,   11.87,3,   16.48,3,    1.08,3,-999.000,9,-999.000,9,  -999.0,9,-999.0000,9,  -999.00,   3.2770
29AH20120622,      OVIDE,      59,          1,          5,2,20120711,       0000,    57.3778,   -28.1725,       2612,  1799.9,   3.5553,  34.9369,2,  34.9369,2,    272.5,2,   273.2,2,   11.61,2,   16.74,2,    1.09,2,-999.000,9,-999.000,9,  2302.3,2,   7.7307,2,    25.00,   3.4132
29AH20120622,      OVIDE,      59,          1,          6,2,20120711,       0000,    57.3778,   -28.1725,       2612,  1600.0,   3.6705,  34.9243,2,  34.9243,2,    271.5,2,   271.4,2,   11.52,2,   16.96,2,    1.10,2,-999.000,9,-999.000,9,  2303.7,2,   7.7236,2,    25.00,   3.5452
29AH20120622,      OVIDE,      59,          1,          7,2,20120711,       0000,    57.3778,   -28.1725,       2612,  1400.7,   3.7798,  34.9177,2,  34.9179,2,    271.8,2,   271.3,2,   11.10,2,   16.95,2,    1.09,2,-999.000,9,-999.000,9,  2303.0,2,   7.7214,2,    25.00,   3.6710
29AH20120622,      OVIDE,      59,          1,          8,2,20120711,       0000,    57.3778,   -28.1725,       2612,  1200.8,   3.9928,  34.9299,2,  34.9321,2,    271.1,2,   268.6,2,   10.70,2,   16.99,2,    1.08,2,-999.000,9,-999.000,9,  2302.1,2,   7.7196,2,    25.00,   3.8993
29AH20120622,      OVIDE,      59,          1,          9,2,20120711,       0000,    57.3778,   -28.1725,       2612,  1200.9,   3.9933,  34.9299,2,  34.9326,2,    271.1,2,   268.6,2,   10.75,2,   16.99,2,    1.08,2,-999.000,9,-999.000,9,  -999.0,9,-999.0000,9,  -999.00,   3.8998
29AH20120622,      OVIDE,      59,          1,         10,2,20120711,       0000,    57.3778,   -28.1725,       2612,   999.8,   4.1602,  34.9307,2,  34.9297,2,    267.6,2,   265.3,2,   10.57,2,   17.32,2,    1.09,2,-999.000,9,-999.000,9,  2302.5,2,   7.7132,2,    25.00,   4.0826
29AH20120622,      OVIDE,      59,          1,         11,2,20120711,       0000,    57.3778,   -28.1725,       2612,   900.6,   4.3391,  34.9420,2,  34.9423,2,    262.6,2,   262.6,2,   10.60,2,   17.26,2,    1.10,2,-999.000,9,-999.000,9,  -999.0,9,   7.7121,2,    25.00,   4.2686
29AH20120622,      OVIDE,      59,          1,         12,2,20120711,       0000,    57.3778,   -28.1725,       2612,   800.1,   4.5658,  34.9566,2,  34.9607,2,    256.0,2,   256.7,2,   10.72,2,   17.53,2,    1.11,2,-999.000,9,-999.000,9,  2304.4,2,   7.7096,2,    25.00,   4.5024
29AH20120622,      OVIDE,      59,          1,         13,2,20120711,       0000,    57.3778,   -28.1725,       2612,   699.4,   4.9484,  34.9830,2,  34.9830,2,    246.2,2,   246.7,2,   10.93,2,   17.86,2,    1.13,2,-999.000,9,-999.000,9,  -999.0,9,   7.7059,2,    25.00,   4.8914
29AH20120622,      OVIDE,      59,          1,         14,2,20120711,       0000,    57.3778,   -28.1725,       2612,   600.6,   5.4938,  35.0228,2,  35.0234,2,    234.6,2,   233.9,2,   11.11,2,   18.20,2,    1.15,2,-999.000,9,-999.000,9,  2311.0,2,   7.7046,2,    25.00,   5.4427
29AH20120622,      OVIDE,      59,          1,         15,2,20120711,       0000,    57.3778,   -28.1725,       2612,   500.7,   6.1623,  35.0404,2,  35.0403,2,    224.8,2,   223.6,2,   10.93,2,   18.39,2,    1.15,2,-999.000,9,-999.000,9,  -999.0,9,   7.7048,2,    25.00,   6.1175
29AH20120622,      OVIDE,      59,          1,         16,2,20120711,       0000,    57.3778,   -28.1725,       2612,   400.5,   7.0539,  35.1287,2,  35.1279,2,    251.3,2,   255.3,2,    8.17,2,   15.43,2,    0.97,2,-999.000,9,-999.000,9,  2313.3,2,   7.7524,2,    25.00,   7.0156
29AH20120622,      OVIDE,      59,          1,         17,2,20120711,       0000,    57.3778,   -28.1725,       2612,   300.1,   6.9954,  35.0510,2,  35.0561,2,    241.3,2,   239.2,2,    9.14,2,   16.57,2,    1.04,2,-999.000,9,-999.000,9,  -999.0,9,   7.7332,2,    25.00,   6.9671
29AH20120622,      OVIDE,      59,          1,         18,2,20120711,       0000,    57.3778,   -28.1725,       2612,   199.5,   7.1042,  34.9771,2,  34.9772,2,    259.1,2,   258.9,2,    7.65,2,   14.95,2,    0.92,2,-999.000,9,-999.000,9,  -999.0,9,   7.7505,2,    25.00,   7.0854
29AH20120622,      OVIDE,      59,          1,         19,2,20120711,       0000,    57.3778,   -28.1725,       2612,   150.2,   7.8412,  35.0426,2,  35.0437,2,    258.2,2,   257.0,2,    6.98,2,   14.17,2,    0.85,2,-999.000,9,-999.000,9,  -999.0,9,   7.7644,2,    25.00,   7.8262
29AH20120622,      OVIDE,      59,          1,         20,2,20120711,       0000,    57.3778,   -28.1725,       2612,   100.2,   8.2506,  35.0470,2,  35.0466,2,    261.0,2,   260.2,2,    5.71,2,   13.09,2,    0.74,2,-999.000,9,-999.000,9,  2310.0,2,   7.7798,2,    25.00,   8.2403
29AH20120622,      OVIDE,      59,          1,         21,2,20120711,       0000,    57.3778,   -28.1725,       2612,    35.3,  10.7741,  34.9904,2,  34.9983,4,    285.3,2,   281.3,3,    1.36,2,    5.48,2,    0.28,2,-999.000,9,-999.000,9,  2309.8,2,   7.8857,2,    25.00,  10.7698
29AH20120622,      OVIDE,      59,          1,         22,2,20120711,       0000,    57.3778,   -28.1725,       2612,     6.5,  13.2914,  34.9184,2,-999.0000,9,    275.6,2,  -999.0,9, -999.00,9, -999.00,9, -999.00,9,-999.000,9,-999.000,9,  -999.0,9,-999.0000,9,  -999.00,  13.2905
29AH20120622,      OVIDE,      59,          1,         23,2,20120711,       0000,    57.3778,   -28.1725,       2612,     6.5,  13.2918,  34.9183,2,-999.0000,9,    275.6,2,  -999.0,9, -999.00,9, -999.00,9, -999.00,9,-999.000,9,-999.000,9,  -999.0,9,-999.0000,9,  -999.00,  13.2909
29AH20120622,      OVIDE,      59,          1,         24,2,20120711,       0000,    57.3778,   -28.1725,       2612,     6.6,  13.2922,  34.9184,2,  34.9200,2,    275.6,2,   274.2,2,    0.32,2,    2.47,2,    0.05,2,-999.000,9,-999.000,9,  2300.9,2,   7.9429,2,    25.00,  13.2913
29AH20120622,      OVIDE,      60,          1,          1,2,20120712,       0000,    57.6749,   -28.7308,       2466,  2485.1,   2.9235,  34.9919,2,  34.9893,2,    273.0,2,   274.6,2,   13.69,2,   15.58,2,    1.05,2,   2.860,2,   1.489,2,  -999.0,9,   7.7233,2,    25.00,   2.7262
29AH20120622,      OVIDE,      60,          1,          2,2,20120712,       0000,    57.6749,   -28.7308,       2466,  2247.7,   3.1114,  34.9879,2,  34.9850,2,    273.3,2,   274.8,2,   12.48,2,   15.82,2,    1.05,2,-999.000,9,-999.000,9,  -999.0,9,   7.7284,2,    25.00,   2.9338
29AH20120622,      OVIDE,      60,          1,          3,2,20120712,       0000,    57.6749,   -28.7308,       2466,  1998.7,   3.4645,  34.9629,2,  34.9636,2,    273.3,2,   273.2,2,   11.43,2,   16.16,2,    1.06,2,   2.939,2,   1.487,2,  -999.0,9,   7.7298,2,    25.00,   3.3050
29AH20120622,      OVIDE,      60,          1,          4,2,20120712,       0000,    57.6749,   -28.7308,       2466,  1803.2,   3.5097,  34.9312,2,  34.9301,2,    273.1,2,   273.5,2,   11.65,2,   16.76,2,    1.10,2,   2.995,2,   1.498,2,  -999.0,9,   7.7357,2,    25.00,   3.3679
29AH20120622,      OVIDE,      60,          1,          5,2,20120712,       0000,    57.6749,   -28.7308,       2466,  1601.8,   3.6455,  34.9213,2,  34.9200,2,    271.8,2,   272.2,2,   11.34,2,   17.06,2,    1.11,2,-999.000,9,-999.000,9,  -999.0,9,   7.7267,2,    25.00,   3.5203
29AH20120622,      OVIDE,      60,          1,          6,2,20120712,       0000,    57.6749,   -28.7308,       2466,  1402.6,   3.8006,  34.9186,2,  34.9164,2,    272.1,2,   273.5,2,   10.84,2,   17.04,2,    1.12,2,   3.486,2,   1.799,2,  -999.0,9,   7.7202,2,    25.00,   3.6914
29AH20120622,      OVIDE,      60,          1,          7,2,20120712,       0000,    57.6749,   -28.7308,       2466,  1200.8,   3.9717,  34.9190,2,  34.9175,2,    272.0,2,   271.5,2,   10.31,2,   17.04,2,    1.11,2,   3.675,2,   1.940,2,  -999.0,9,   7.7197,2,    25.00,   3.8785
29AH20120622,      OVIDE,      60,          1,          8,2,20120712,       0000,    57.6749,   -28.7308,       2466,  1000.0,   4.3314,  34.9389,2,  34.9413,2,    263.8,2,   264.9,2,   10.17,2,   17.32,2,    1.13,2,   3.635,2,   1.941,2,  -999.0,9,   7.7125,2,    25.00,   4.2525
29AH20120622,      OVIDE,      60,          1,          9,2,20120712,       0000,    57.6749,   -28.7308,       2466,   900.0,   4.5984,  34.9577,2,  34.9554,2,    258.2,2,   257.3,2,   10.31,2,   17.64,2,    1.15,2,-999.000,9,-999.000,9,  -999.0,9,   7.7071,2,    25.00,   4.5262
29AH20120622,      OVIDE,      60,          1,         10,2,20120712,       0000,    57.6749,   -28.7308,       2466,   899.7,   4.5997,  34.9577,2,  34.9577,2,    258.2,2,   256.2,2,   10.52,2,   17.57,2,    1.14,2,-999.000,9,-999.000,9,  -999.0,9,   7.7090,2,    25.00,   4.5275
29AH20120622,      OVIDE,      60,          1,         11,2,20120712,       0000,    57.6749,   -28.7308,       2466,   799.5,   4.8915,  34.9749,2,  34.9728,2,    249.3,2,   250.0,2,   10.54,2,   17.68,2,    1.16,2,   3.374,2,   1.801,2,  -999.0,9,   7.7057,2,    25.00,   4.8261
29AH20120622,      OVIDE,      60,          1,         12,2,20120712,       0000,    57.6749,   -28.7308,       2466,   700.1,   5.4523,  35.0102,2,  35.0095,2,    236.3,2,   235.7,2,   10.89,2,   18.37,2,    1.18,2,-999.000,9,-999.000,9,  -999.0,9,   7.7037,2,    25.00,   5.3925
29AH20120622,      OVIDE,      60,          1,         13,2,20120712,       0000,    57.6749,   -28.7308,       2466,   602.0,   6.0920,  35.0271,2,  35.0246,2,    227.1,2,   227.4,2,   10.79,2,   18.47,2,    1.18,2,-999.000,9,-999.000,9,  -999.0,9,   7.7056,2,    25.00,   6.0380
29AH20120622,      OVIDE,      60,          1,         14,2,20120712,       0000,    57.6749,   -28.7308,       2466,   500.5,   7.3354,  35.1595,2,  35.1580,2,    263.1,2,   266.0,2,    7.31,2,   14.62,2,    0.95,2,   3.418,2,   1.946,2,  -999.0,9,   7.7700,2,    25.00,   7.2861
29AH20120622,      OVIDE,      60,          1,         15,2,20120712,       0000,    57.6749,   -28.7308,       2466,   402.1,   7.4497,  35.1530,2,  35.1543,2,    270.6,2,   270.8,2,    6.98,2,   14.32,2,    0.92,2,-999.000,9,-999.000,9,  -999.0,9,   7.7708,2,    25.00,   7.4100
29AH20120622,      OVIDE,      60,          1,         16,2,20120712,       0000,    57.6749,   -28.7308,       2466,   303.5,   7.4526,  35.1154,2,  35.1139,2,    267.2,2,   265.9,2,    7.22,2,   14.51,2,    0.94,2,-999.000,9,-999.000,9,  -999.0,9,   7.7671,2,    25.00,   7.4229
29AH20120622,      OVIDE,      60,          1,         17,2,20120712,       0000,    57.6749,   -28.7308,       2466,   199.6,   7.5641,  35.0368,2,  35.0336,2,    258.5,2,   258.8,2,    7.35,2,   14.56,2,    0.96,2,   3.379,2,   1.925,2,  -999.0,9,   7.7611,2,    25.00,   7.5445
29AH20120622,      OVIDE,      60,          1,         18,2,20120712,       0000,    57.6749,   -28.7308,       2466,   150.7,   8.3126,  35.0993,2,  35.0963,2,    254.5,2,   255.3,2,    6.53,2,   13.85,2,    0.89,2,-999.000,9,-999.000,9,  -999.0,9,   7.7755,2,    25.00,   8.2970
29AH20120622,      OVIDE,      60,          1,         19,2,20120712,       0000,    57.6749,   -28.7308,       2466,   101.2,   8.7386,  35.1080,2,  35.1046,2,    260.1,2,   260.1,2,    4.94,2,   12.49,2,    0.79,2,-999.000,9,-999.000,9,  -999.0,9,   7.7943,2,    25.00,   8.7278
29AH20120622,      OVIDE,      60,          1,         20,2,20120712,       0000,    57.6749,   -28.7308,       2466,    50.3,   8.9308,  35.0686,2,  35.0618,4,    268.2,2,   265.0,2,    3.99,2,   11.60,2,    0.71,2,-999.000,9,-999.000,9,  -999.0,9,   7.8014,2,    25.00,   8.9254
29AH20120622,      OVIDE,      60,          1,         21,2,20120712,       0000,    57.6749,   -28.7308,       2466,     5.4,  12.5023,  34.9385,2,  34.9355,2,    277.4,2,   278.2,2,    0.41,2,    3.06,2,    0.17,2,   3.110,2,   1.818,2,  -999.0,9,   7.9279,2,    25.00,  12.5016
29AH20120622,      OVIDE,      60,          1,         22,2,20120712,       0000,    57.6749,   -28.7308,       2466,     5.4,  12.5022,  34.9387,2,-999.0000,9,    277.4,2,  -999.0,9, -999.00,9, -999.00,9, -999.00,9,-999.000,9,-999.000,9,  -999.0,9,-999.0000,9,  -999.00,  12.5015
29AH20120622,      OVIDE,      60,          1,         23,2,20120712,       0000,    57.6749,   -28.7308,       2466,     5.4,  12.5018,  34.9391,2,-999.0000,9,    277.4,2,  -999.0,9, -999.00,9, -999.00,9, -999.00,9,-999.000,9,-999.000,9,  -999.0,9,-999.0000,9,  -999.00,  12.5011
29AH20120622,      OVIDE,      60,          1,         24,2,20120712,       0000,    57.6749,   -28.7308,       2466,     5.3,  12.5020,  34.9391,2,-999.0000,9,    277.4,2,  -999.0,9, -999.00,9, -999.00,9, -999.00,9,-999.000,9,-999.000,9,  -999.0,9,-999.0000,9,  -999.00,  12.5013