BOTTLE,20151116SIOCCHCBG
EXPOCODE,SECT_ID,STNNBR,CASTNO,BTLNBR,BTLNBR_FLAG_W,DATE,TIME,LATITUDE,LONGITUDE,DEPTH,CTDPRS,CTDTMP,CTDSAL,CTDSAL_FLAG_W,SALNTY,SALNTY_FLAG_W,CTDOXY,CTDOXY_FLAG_W,OXYGEN,OXYGEN_FLAG_W,SILCAT,SILCAT_FLAG_W,NITRAT,NITRAT_FLAG_W,PHSPHT,PHSPHT_FLAG_W,CFC-11,CFC-11_FLAG_W,CFC-12,CFC-12_FLAG_W,ALKALI,ALKALI_FLAG_W,PH_TOT,PH_TOT_FLAG_W,PH_TMP,THETA
,,,,,,,,,,METERS,DBAR,ITS-90,PSS-78,,PSS-78,,UMOL/KG,,UMOL/KG,,UMOL/KG,,UMOL/KG,,UMOL/KG,,PMOL/KG,,PMOL/KG,,UMOL/KG,,,,DEG C,DEG C
29AH20120622,      OVIDE,      71,          1,          1,2,20120714,       0000,    59.1643,   -34.4746,       2485,  2512.6,   3.0217,  34.9411,2,  34.9412,2,    275.3,2,   275.2,2,   13.33,2,   16.20,2,    1.04,2,-999.000,9,-999.000,9,  2308.6,2,   7.7313,2,    25.00,   2.8201
29AH20120622,      OVIDE,      71,          1,          2,2,20120714,       0000,    59.1643,   -34.4746,       2485,  2463.3,   3.0322,  34.9413,2,  34.9439,2,    275.2,2,  -999.0,9,   12.92,3,   16.17,3,    1.05,3,-999.000,9,-999.000,9,  -999.0,9,-999.0000,9,  -999.00,   2.8352
29AH20120622,      OVIDE,      71,          1,          3,2,20120714,       0000,    59.1643,   -34.4746,       2485,  2411.2,   3.0490,  34.9418,2,  34.9422,2,    275.1,2,   275.1,2,   13.18,2,   16.08,2,    1.05,2,-999.000,9,-999.000,9,  2308.0,2,   7.7314,2,    25.00,   2.8568
29AH20120622,      OVIDE,      71,          1,          4,2,20120714,       0000,    59.1643,   -34.4746,       2485,  2249.7,   3.0922,  34.9424,2,-999.0000,9,    275.1,2,   275.8,2,   12.74,2,   16.22,2,    1.06,2,-999.000,9,-999.000,9,  2309.6,2,   7.7308,2,    25.00,   2.9148
29AH20120622,      OVIDE,      71,          1,          5,2,20120714,       0000,    59.1643,   -34.4746,       2485,  2000.8,   3.2833,  34.9423,2,  34.9435,2,    274.9,2,   274.5,2,   11.80,2,   16.30,2,    1.04,2,-999.000,9,-999.000,9,  2307.1,2,   7.7305,2,    25.00,   3.1264
29AH20120622,      OVIDE,      71,          1,          6,2,20120714,       0000,    59.1643,   -34.4746,       2485,  1798.4,   3.4375,  34.9454,2,  34.9456,2,    274.0,2,   275.0,2,   11.25,2,   16.32,2,    1.05,2,-999.000,9,-999.000,9,  2306.3,2,   7.7285,2,    25.00,   3.2971
29AH20120622,      OVIDE,      71,          1,          7,2,20120714,       0000,    59.1643,   -34.4746,       2485,  1599.0,   3.6210,  34.9547,2,  34.9563,2,    272.6,2,   273.3,2,   10.91,2,   16.19,2,    1.05,2,-999.000,9,-999.000,9,  2306.4,2,   7.7281,2,    25.00,   3.4963
29AH20120622,      OVIDE,      71,          1,          8,2,20120714,       0000,    59.1643,   -34.4746,       2485,  1399.3,   3.7668,  34.9551,2,  34.9564,2,    271.6,2,   271.5,2,   10.65,2,   16.28,2,    1.05,2,-999.000,9,-999.000,9,  2306.7,2,   7.7250,2,    25.00,   3.6582
29AH20120622,      OVIDE,      71,          1,          9,2,20120714,       0000,    59.1643,   -34.4746,       2485,  1199.7,   3.8464,  34.9370,2,  34.9360,2,    271.9,2,   272.2,2,   10.32,2,   16.32,2,    1.06,2,-999.000,9,-999.000,9,  2305.5,2,   7.7219,2,    25.00,   3.7544
29AH20120622,      OVIDE,      71,          1,         10,2,20120714,       0000,    59.1643,   -34.4746,       2485,   999.4,   3.8874,  34.9122,2,  34.9117,2,    283.2,2,   283.1,2,    9.19,2,   16.04,2,    1.05,2,-999.000,9,-999.000,9,  2303.8,2,   7.7204,2,    25.00,   3.8120
29AH20120622,      OVIDE,      71,          1,         11,2,20120714,       0000,    59.1643,   -34.4746,       2485,   897.9,   4.0124,  34.9206,2,  34.9175,2,    285.2,2,   288.6,2,    8.79,2,   16.00,2,    1.03,2,-999.000,9,-999.000,9,  -999.0,9,   7.7252,2,    25.00,   3.9444
29AH20120622,      OVIDE,      71,          1,         12,2,20120714,       0000,    59.1643,   -34.4746,       2485,   799.8,   4.1372,  34.9309,2,  34.9300,2,    292.0,2,   286.9,3,    8.85,2,   16.06,2,    1.02,2,-999.000,9,-999.000,9,  2304.8,2,   7.7266,2,    25.00,   4.0765
29AH20120622,      OVIDE,      71,          1,         13,2,20120714,       0000,    59.1643,   -34.4746,       2485,   698.8,   4.2303,  34.9330,2,  34.9308,2,    289.0,2,   287.0,2,    8.77,2,   16.08,2,    1.03,2,-999.000,9,-999.000,9,  2302.7,2,   7.7248,2,    25.00,   4.1773
29AH20120622,      OVIDE,      71,          1,         14,2,20120714,       0000,    59.1643,   -34.4746,       2485,   599.5,   4.4380,  34.9480,2,-999.0000,9,    282.6,2,  -999.0,9,    8.74,3,   16.32,3,    1.04,3,-999.000,9,-999.000,9,  -999.0,9,-999.0000,9,  -999.00,   4.3920
29AH20120622,      OVIDE,      71,          1,         15,2,20120714,       0000,    59.1643,   -34.4746,       2485,   499.9,   4.7485,  34.9685,2,  34.9673,2,    275.6,2,   274.0,2,    9.21,2,   16.55,2,    1.05,2,-999.000,9,-999.000,9,  -999.0,9,   7.7218,2,    25.00,   4.7093
29AH20120622,      OVIDE,      71,          1,         16,2,20120714,       0000,    59.1643,   -34.4746,       2485,   399.4,   5.0039,  34.9699,2,  34.9715,2,    273.8,2,   275.6,2,    9.05,2,   16.47,2,    1.04,2,-999.000,9,-999.000,9,  2306.2,2,   7.7234,2,    25.00,   4.9720
29AH20120622,      OVIDE,      71,          1,         17,2,20120714,       0000,    59.1643,   -34.4746,       2485,   299.3,   5.2873,  34.9742,2,  34.9731,2,    279.8,2,   277.8,2,    8.58,2,   16.09,2,    1.01,2,-999.000,9,-999.000,9,  -999.0,9,   7.7305,2,    25.00,   5.2630
29AH20120622,      OVIDE,      71,          1,         18,2,20120714,       0000,    59.1643,   -34.4746,       2485,   198.8,   5.7158,  34.9926,2,  34.9929,2,    274.7,2,   275.4,2,    8.21,2,   15.68,2,    0.99,2,-999.000,9,-999.000,9,  2308.3,2,   7.7389,2,    25.00,   5.6991
29AH20120622,      OVIDE,      71,          1,         19,2,20120714,       0000,    59.1643,   -34.4746,       2485,   148.9,   5.8436,  34.9889,2,  34.9896,2,    282.3,2,   279.5,2,    7.83,2,   15.34,2,    0.95,2,-999.000,9,-999.000,9,  2308.6,2,   7.7440,2,    25.00,   5.8310
29AH20120622,      OVIDE,      71,          1,         20,2,20120714,       0000,    59.1643,   -34.4746,       2485,    99.0,   6.1067,  34.9950,2,  34.9924,2,    284.0,2,   282.0,2,    7.55,2,   14.91,2,    0.91,2,-999.000,9,-999.000,9,  2308.8,2,   7.7521,2,    25.00,   6.0982
29AH20120622,      OVIDE,      71,          1,         21,2,20120714,       0000,    59.1643,   -34.4746,       2485,    39.2,   7.0779,  34.9250,2,  34.9242,2,    295.9,2,   292.6,2,    3.76,2,   11.18,2,    0.68,2,-999.000,9,-999.000,9,  -999.0,9,   7.7892,2,    25.00,   7.0743
29AH20120622,      OVIDE,      71,          1,         22,2,20120714,       0000,    59.1643,   -34.4746,       2485,     6.5,  11.9209,  34.8460,2,-999.0000,9,    282.5,2,  -999.0,9, -999.00,9, -999.00,9, -999.00,9,-999.000,9,-999.000,9,  -999.0,9,-999.0000,9,  -999.00,  11.9201
29AH20120622,      OVIDE,      71,          1,         23,2,20120714,       0000,    59.1643,   -34.4746,       2485,     6.5,  11.9219,  34.8461,2,-999.0000,9,    282.5,2,  -999.0,9, -999.00,9, -999.00,9, -999.00,9,-999.000,9,-999.000,9,  -999.0,9,-999.0000,9,  -999.00,  11.9211
29AH20120622,      OVIDE,      71,          1,         24,2,20120714,       0000,    59.1643,   -34.4746,       2485,     6.5,  11.9198,  34.8462,2,  34.8475,2,    282.5,2,   292.8,3,    1.40,2,    5.69,2,    0.25,2,-999.000,9,-999.000,9,  2301.0,2,   7.8966,2,    25.00,  11.9190
29AH20120622,      OVIDE,      72,          1,          1,2,20120714,       0000,    59.2286,   -35.0407,       2924,  2960.9,   2.9047,  34.9359,2,  34.9337,2,    276.9,2,   278.5,2,   13.62,2,   15.88,2,    1.04,2,   2.739,2,   1.377,2,  -999.0,9,   7.7310,2,    25.00,   2.6600
29AH20120622,      OVIDE,      72,          1,          2,2,20120714,       0000,    59.2286,   -35.0407,       2924,  2909.8,   2.9039,  34.9360,2,  34.9342,2,    276.7,2,   278.8,2,   13.56,2,   15.88,2,    1.06,2,-999.000,9,-999.000,9,  -999.0,9,   7.7313,2,    25.00,   2.6646
29AH20120622,      OVIDE,      72,          1,          3,2,20120714,       0000,    59.2286,   -35.0407,       2924,  2860.9,   2.9023,  34.9362,2,  34.9354,2,    276.7,2,   278.3,2,   13.79,2,   16.00,2,    1.05,2,-999.000,9,-999.000,9,  -999.0,9,   7.7326,2,    25.00,   2.6680
29AH20120622,      OVIDE,      72,          1,          4,2,20120714,       0000,    59.2286,   -35.0407,       2924,  2750.0,   2.9871,  34.9390,2,  34.9369,2,    275.7,2,   277.4,2,   13.86,2,   16.19,2,    1.06,2,   2.702,2,   1.356,2,  -999.0,9,   7.7301,2,    25.00,   2.7624
29AH20120622,      OVIDE,      72,          1,          5,2,20120714,       0000,    59.2286,   -35.0407,       2924,  2500.9,   3.0930,  34.9431,2,-999.0000,9,    274.9,2,  -999.0,9,   13.12,3,   16.32,3,    1.07,3,-999.000,9,-999.000,9,  -999.0,9,-999.0000,9,  -999.00,   2.8912
29AH20120622,      OVIDE,      72,          1,          6,2,20120714,       0000,    59.2286,   -35.0407,       2924,  2251.2,   3.2276,  34.9465,2,  34.9461,2,    274.5,2,   276.7,2,   12.96,2,   16.38,2,    1.07,2,   2.852,2,   1.431,2,  -999.0,9,   7.7294,2,    25.00,   3.0478
29AH20120622,      OVIDE,      72,          1,          7,2,20120714,       0000,    59.2286,   -35.0407,       2924,  2000.9,   3.3393,  34.9340,2,  34.9336,2,    275.3,2,   276.5,2,   11.88,2,   16.33,2,    1.07,2,   3.007,2,   1.499,2,  -999.0,9,   7.7285,2,    25.00,   3.1816
29AH20120622,      OVIDE,      72,          1,          8,2,20120714,       0000,    59.2286,   -35.0407,       2924,  1797.3,   3.4625,  34.9324,2,  34.9327,2,    274.7,2,   275.4,2,   11.58,2,   16.48,2,    1.08,2,-999.000,9,-999.000,9,  -999.0,9,   7.7175,3,    25.00,   3.3219
29AH20120622,      OVIDE,      72,          1,          9,2,20120714,       0000,    59.2286,   -35.0407,       2924,  1603.8,   3.5750,  34.9226,2,  34.9218,2,    273.7,2,   275.3,2,   11.20,2,   16.81,2,    1.06,2,   3.275,2,   1.666,2,  -999.0,9,   7.7225,2,    25.00,   3.4505
29AH20120622,      OVIDE,      72,          1,         10,2,20120714,       0000,    59.2286,   -35.0407,       2924,  1402.4,   3.7780,  34.9287,2,  34.9310,2,    274.8,2,   276.5,2,   10.78,2,   16.80,2,    1.06,2,   3.516,2,   1.825,2,  -999.0,9,   7.7191,2,    25.00,   3.6691
29AH20120622,      OVIDE,      72,          1,         11,2,20120714,       0000,    59.2286,   -35.0407,       2924,  1200.3,   3.8258,  34.9083,2,  34.9072,2,    278.6,2,   279.0,2,   10.03,2,   16.43,2,    1.05,2,   3.896,2,   2.063,2,  -999.0,9,   7.7177,2,    25.00,   3.7340
29AH20120622,      OVIDE,      72,          1,         12,2,20120714,       0000,    59.2286,   -35.0407,       2924,  1002.4,   3.9691,  34.9145,2,  34.9151,2,    293.6,2,   293.5,2,    8.94,2,   16.00,2,    1.02,2,-999.000,9,-999.000,9,  -999.0,9,   7.7231,2,    25.00,   3.8928
29AH20120622,      OVIDE,      72,          1,         13,2,20120714,       0000,    59.2286,   -35.0407,       2924,   802.1,   4.0116,  34.9154,2,  34.9153,2,    296.1,2,   298.2,2,    8.57,2,   15.82,2,    1.00,2,   4.276,6,   2.365,6,  -999.0,9,   7.7261,2,    25.00,   3.9515
29AH20120622,      OVIDE,      72,          1,         14,2,20120714,       0000,    59.2286,   -35.0407,       2924,   701.3,   4.1000,  34.9242,2,  34.9231,2,    294.7,2,   293.8,2,    8.73,2,   15.89,2,    1.00,2,-999.000,9,-999.000,9,  -999.0,9,   7.7251,2,    25.00,   4.0475
29AH20120622,      OVIDE,      72,          1,         15,2,20120714,       0000,    59.2286,   -35.0407,       2924,   601.3,   4.1924,  34.9311,2,  34.9295,2,    292.6,2,   291.8,2,    8.67,2,   16.03,2,    1.01,2,   4.193,2,   2.312,2,  -999.0,9,   7.7249,2,    25.00,   4.1474
29AH20120622,      OVIDE,      72,          1,         16,2,20120714,       0000,    59.2286,   -35.0407,       2924,   504.0,   4.3492,  34.9436,2,  34.9426,2,    289.3,2,   288.3,2,    8.89,2,   16.12,2,    1.02,2,-999.000,9,-999.000,9,  -999.0,9,   7.7242,2,    25.00,   4.3112
29AH20120622,      OVIDE,      72,          1,         17,2,20120714,       0000,    59.2286,   -35.0407,       2924,   401.6,   4.6004,  34.9532,2,  34.9501,2,    284.5,2,   284.6,2,    8.77,2,   16.31,2,    1.03,2,-999.000,9,-999.000,9,  -999.0,9,   7.7237,2,    25.00,   4.5696
29AH20120622,      OVIDE,      72,          1,         18,2,20120714,       0000,    59.2286,   -35.0407,       2924,   302.5,   4.9429,  34.9739,2,  34.9748,2,    281.6,2,   279.5,2,    8.88,2,   16.18,2,    1.02,2,   3.887,2,   2.132,2,  -999.0,9,   7.7252,2,    25.00,   4.9191
29AH20120622,      OVIDE,      72,          1,         19,2,20120714,       0000,    59.2286,   -35.0407,       2924,   202.6,   5.1082,  34.9567,2,  34.9668,4,    282.8,2,   284.4,2,    8.29,2,   15.76,2,    0.99,2,-999.000,9,-999.000,9,  -999.0,9,   7.7305,2,    25.00,   5.0922
29AH20120622,      OVIDE,      72,          1,         20,2,20120714,       0000,    59.2286,   -35.0407,       2924,   150.5,   5.3316,  34.9636,2,  34.9675,2,    281.8,2,   283.6,2,    8.25,2,   15.75,2,    0.98,2,-999.000,9,-999.000,9,  -999.0,9,   7.7334,2,    25.00,   5.3195
29AH20120622,      OVIDE,      72,          1,         21,2,20120714,       0000,    59.2286,   -35.0407,       2924,   101.8,   5.8294,  34.9967,2,  34.9943,2,    284.5,2,   281.3,2,    7.87,2,   15.25,2,    0.94,2,-999.000,9,-999.000,9,  -999.0,9,   7.7407,2,    25.00,   5.8208
29AH20120622,      OVIDE,      72,          1,         22,2,20120714,       0000,    59.2286,   -35.0407,       2924,    50.9,   6.4527,  34.9277,2,  34.9322,2,    293.9,2,   292.6,2,    4.27,2,   12.47,2,    0.75,2,-999.000,9,-999.000,9,  -999.0,9,   7.7705,2,    25.00,   6.4482
29AH20120622,      OVIDE,      72,          1,         23,2,20120714,       0000,    59.2286,   -35.0407,       2924,     5.1,  11.1445,  34.8548,2,-999.0000,9,    291.4,2,  -999.0,9, -999.00,9, -999.00,9, -999.00,9,-999.000,9,-999.000,9,  -999.0,9,-999.0000,9,  -999.00,  11.1439
29AH20120622,      OVIDE,      72,          1,         24,2,20120714,       0000,    59.2286,   -35.0407,       2924,     5.1,  11.1143,  34.8559,2,  34.8536,2,    291.4,2,   293.2,2,    0.90,2,    5.88,2,    0.21,2,   3.480,2,   1.990,2,  -999.0,9,   7.8898,2,    25.00,  11.1137