BOTTLE,20151116SIOCCHCBG
EXPOCODE,SECT_ID,STNNBR,CASTNO,BTLNBR,BTLNBR_FLAG_W,DATE,TIME,LATITUDE,LONGITUDE,DEPTH,CTDPRS,CTDTMP,CTDSAL,CTDSAL_FLAG_W,SALNTY,SALNTY_FLAG_W,CTDOXY,CTDOXY_FLAG_W,OXYGEN,OXYGEN_FLAG_W,SILCAT,SILCAT_FLAG_W,NITRAT,NITRAT_FLAG_W,PHSPHT,PHSPHT_FLAG_W,CFC-11,CFC-11_FLAG_W,CFC-12,CFC-12_FLAG_W,ALKALI,ALKALI_FLAG_W,PH_TOT,PH_TOT_FLAG_W,PH_TMP,THETA
,,,,,,,,,,METERS,DBAR,ITS-90,PSS-78,,PSS-78,,UMOL/KG,,UMOL/KG,,UMOL/KG,,UMOL/KG,,UMOL/KG,,PMOL/KG,,PMOL/KG,,UMOL/KG,,,,DEG C,DEG C
29AH20120622,      OVIDE,     107,          1,          1,2,20120719,       0000,    57.4553,   -47.0882,       3017,  3051.9,   1.4989,  34.9046,2,  34.9046,2,    301.4,2,   303.2,2,    8.28,2,   12.96,2,    0.80,2,-999.000,9,-999.000,9,  2300.7,2,   7.7211,2,    25.00,   1.2760
29AH20120622,      OVIDE,     107,          1,          2,2,20120719,       0000,    57.4553,   -47.0882,       3017,  3051.9,   1.4990,  34.9046,2,  34.9027,2,    301.4,2,  -999.0,9, -999.00,9, -999.00,9, -999.00,9,-999.000,9,-999.000,9,  -999.0,9,-999.0000,9,  -999.00,   1.2761
29AH20120622,      OVIDE,     107,          1,          3,2,20120719,       0000,    57.4553,   -47.0882,       3017,  2999.6,   1.5978,  34.9033,2,-999.0000,9,    300.5,2,   299.9,2,    7.99,2,   13.13,2,    0.82,2,-999.000,9,-999.000,9,  2300.0,2,   7.7225,2,    25.00,   1.3777
29AH20120622,      OVIDE,     107,          1,          4,2,20120719,       0000,    57.4553,   -47.0882,       3017,  2749.8,   2.4295,  34.9135,2,  34.9134,2,    282.2,2,   282.1,2,   13.56,2,   15.30,2,    0.94,2,-999.000,9,-999.000,9,  2308.5,2,   7.7353,2,    25.00,   2.2161
29AH20120622,      OVIDE,     107,          1,          5,2,20120719,       0000,    57.4553,   -47.0882,       3017,  2498.9,   2.8240,  34.9242,2,  34.9245,2,    280.0,2,   279.9,2,   11.83,2,   15.38,2,    0.96,2,   2.873,2,   1.479,2,  2305.6,2,   7.7332,2,    25.00,   2.6274
29AH20120622,      OVIDE,     107,          1,          6,2,20120719,       0000,    57.4553,   -47.0882,       3017,  2249.6,   3.0550,  34.9239,2,  34.9250,2,    277.2,2,   277.7,2,   11.28,2,   15.61,2,    0.97,2,   2.887,2,   1.480,2,  2306.4,2,   7.7324,2,    25.00,   2.8783
29AH20120622,      OVIDE,     107,          1,          7,2,20120719,       0000,    57.4553,   -47.0882,       3017,  1999.8,   3.2683,  34.9203,2,  34.9183,2,    276.7,2,   276.8,2,   10.35,2,   15.71,2,    0.99,2,   3.145,2,   1.626,2,  2304.2,2,   7.7319,2,    25.00,   3.1118
29AH20120622,      OVIDE,     107,          1,          8,2,20120719,       0000,    57.4553,   -47.0882,       3017,  1800.5,   3.4363,  34.9203,2,  34.9204,2,    274.9,2,   274.9,2,   10.25,2,   15.82,2,    1.00,2,   3.202,2,   1.639,2,  2303.0,2,   7.7303,2,    25.00,   3.2958
29AH20120622,      OVIDE,     107,          1,          9,2,20120719,       0000,    57.4553,   -47.0882,       3017,  1599.8,   3.6204,  34.9231,2,  34.9237,2,    273.4,2,   274.1,2,    9.79,2,   15.89,2,    1.00,2,   3.407,2,   1.775,2,  2304.8,2,   7.7258,2,    25.00,   3.4957
29AH20120622,      OVIDE,     107,          1,         10,2,20120719,       0000,    57.4553,   -47.0882,       3017,  1400.5,   3.6962,  34.9114,2,  34.9120,2,    275.5,2,   277.0,2,    9.41,2,   15.99,2,    1.05,2,   3.681,2,   1.952,2,  2304.4,2,   7.7231,2,    25.00,   3.5883
29AH20120622,      OVIDE,     107,          1,         11,2,20120719,       0000,    57.4553,   -47.0882,       3017,  1201.6,   3.7323,  34.8947,2,-999.0000,9,    280.2,2,  -999.0,9,    8.58,3,   15.48,3,    1.00,3,-999.000,9,-999.000,9,  -999.0,9,-999.0000,9,  -999.00,   3.6412
29AH20120622,      OVIDE,     107,          1,         12,2,20120719,       0000,    57.4553,   -47.0882,       3017,  1001.1,   3.7001,  34.8753,2,  34.8742,2,    287.4,2,   292.4,2,    8.11,2,   15.19,2,    0.97,2,   4.271,2,   2.354,2,  2300.3,2,   7.7253,2,    25.00,   3.6260
29AH20120622,      OVIDE,     107,          1,         13,2,20120719,       0000,    57.4553,   -47.0882,       3017,   900.9,   3.7071,  34.8732,2,  34.8694,2,    291.0,2,   292.8,2,    7.90,2,   15.16,2,    0.95,2,-999.000,9,-999.000,9,  -999.0,9,   7.7241,2,    25.00,   3.6411
29AH20120622,      OVIDE,     107,          1,         14,2,20120719,       0000,    57.4553,   -47.0882,       3017,   800.2,   3.6529,  34.8627,2,  34.8608,2,    292.4,2,   296.2,2,    7.62,2,   15.14,2,    0.94,2,   4.336,2,   2.406,2,  2300.6,2,   7.7262,2,    25.00,   3.5952
29AH20120622,      OVIDE,     107,          1,         15,2,20120719,       0000,    57.4553,   -47.0882,       3017,   699.8,   3.7363,  34.8729,2,  34.8711,2,    292.5,2,   293.3,2,    7.57,2,   14.98,2,    0.94,2,   4.322,2,   2.411,2,  -999.0,9,   7.7260,2,    25.00,   3.6859
29AH20120622,      OVIDE,     107,          1,         16,2,20120719,       0000,    57.4553,   -47.0882,       3017,   599.5,   3.8590,  34.8862,2,  34.8863,2,    292.7,2,   293.1,2,    7.44,2,   15.00,2,    0.92,2,   4.265,2,   2.382,2,  2302.8,2,   7.7263,2,    25.00,   3.8157
29AH20120622,      OVIDE,     107,          1,         17,2,20120719,       0000,    57.4553,   -47.0882,       3017,   501.2,   3.7885,  34.8697,2,  34.8694,2,    293.2,2,   292.8,2,    7.41,2,   15.12,2,    0.93,2,   4.286,2,   2.385,2,  -999.0,9,   7.7269,2,    25.00,   3.7530
29AH20120622,      OVIDE,     107,          1,         18,2,20120719,       0000,    57.4553,   -47.0882,       3017,   400.4,   4.0328,  34.8984,2,  34.8973,2,    292.2,2,   291.9,2,    7.34,2,   14.87,2,    0.93,2,-999.000,9,-999.000,9,  2305.4,2,   7.7321,2,    25.00,   4.0040
29AH20120622,      OVIDE,     107,          1,         19,2,20120719,       0000,    57.4553,   -47.0882,       3017,   300.3,   4.0169,  34.8844,2,  34.8836,2,    292.0,2,   291.8,2,    7.15,2,   14.82,2,    0.90,2,   4.260,2,   2.388,2,  -999.0,9,   7.7331,2,    25.00,   3.9955
29AH20120622,      OVIDE,     107,          1,         20,2,20120719,       0000,    57.4553,   -47.0882,       3017,   201.8,   4.1593,  34.8829,2,  34.8830,2,    292.6,2,   293.0,2,    6.99,2,   14.76,2,    0.88,2,   4.263,2,   2.403,2,  2305.1,2,   7.7305,2,    25.00,   4.1449
29AH20120622,      OVIDE,     107,          1,         21,2,20120719,       0000,    57.4553,   -47.0882,       3017,    99.7,   4.1024,  34.7885,2,  34.7896,2,    298.7,2,   298.6,2,    6.66,2,   13.24,2,    0.83,2,   4.461,2,   2.502,2,  2303.3,2,   7.7310,2,    25.00,   4.0954
29AH20120622,      OVIDE,     107,          1,         22,2,20120719,       0000,    57.4553,   -47.0882,       3017,    49.9,   4.4613,  34.6933,2,  34.7008,4,    309.6,2,   305.8,2,    5.65,2,    8.63,2,    0.63,2,-999.000,9,-999.000,9,  -999.0,9,   7.7705,2,    25.00,   4.4577
29AH20120622,      OVIDE,     107,          1,         23,2,20120719,       0000,    57.4553,   -47.0882,       3017,     5.4,   9.4294,  34.4558,2,-999.0000,9,    300.5,2,  -999.0,9, -999.00,9, -999.00,9, -999.00,9,-999.000,9,-999.000,9,  -999.0,9,-999.0000,9,  -999.00,   9.4288
29AH20120622,      OVIDE,     107,          1,         24,2,20120719,       0000,    57.4553,   -47.0882,       3017,     5.4,   9.4279,  34.4554,2,  34.4551,2,    300.5,2,   300.1,2,    0.39,2,    0.43,2,    0.04,2,   3.713,2,   2.142,2,  2291.9,2,   7.9137,2,    25.00,   9.4273
29AH20120622,      OVIDE,     108,          1,          1,2,20120720,       0000,    53.6917,   -49.4339,       3712,  3751.6,   1.7688,  34.8965,2,  34.8965,2,    297.1,2,   295.6,2, -999.00,9, -999.00,9, -999.00,9,   3.943,2,   2.084,2,  2306.6,2,   7.7185,2,    25.00,   1.4680
29AH20120622,      OVIDE,     108,          1,          2,2,20120720,       0000,    53.6917,   -49.4339,       3712,  3500.0,   1.9382,  34.8979,2,-999.0000,9,    294.5,2,  -999.0,9, -999.00,9, -999.00,9, -999.00,9,-999.000,9,-999.000,9,  -999.0,9,-999.0000,9,  -999.00,   1.6598
29AH20120622,      OVIDE,     108,          1,          3,2,20120720,       0000,    53.6917,   -49.4339,       3712,  3250.6,   2.3958,  34.9080,2,  34.9073,2,    285.1,2,   284.0,2, -999.00,9, -999.00,9, -999.00,9,   3.024,2,   1.583,2,  -999.0,9,   7.7271,2,    25.00,   2.1324
29AH20120622,      OVIDE,     108,          1,          4,2,20120720,       0000,    53.6917,   -49.4339,       3712,  3000.6,   2.6720,  34.9194,2,  34.9163,2,    280.6,2,   280.5,2, -999.00,9, -999.00,9, -999.00,9,   3.418,4,   1.995,4,  2309.6,2,   7.7328,2,    25.00,   2.4283
29AH20120622,      OVIDE,     108,          1,          5,2,20120720,       0000,    53.6917,   -49.4339,       3712,  2751.1,   2.8699,  34.9205,2,  34.9192,2,    279.9,2,   279.8,2, -999.00,9, -999.00,9, -999.00,9,   2.846,2,   1.458,2,  -999.0,9,   7.7331,2,    25.00,   2.6475
29AH20120622,      OVIDE,     108,          1,          6,2,20120720,       0000,    53.6917,   -49.4339,       3712,  2501.0,   3.0205,  34.9205,2,  34.9211,2,    278.8,2,   276.9,2, -999.00,9, -999.00,9, -999.00,9,   2.700,2,   1.389,2,  2308.5,2,   7.7323,2,    25.00,   2.8201
29AH20120622,      OVIDE,     108,          1,          7,2,20120720,       0000,    53.6917,   -49.4339,       3712,  2250.3,   3.1940,  34.9189,2,  34.9261,4,    276.6,2,   276.6,2, -999.00,9, -999.00,9, -999.00,9,-999.000,9,-999.000,9,  -999.0,9,   7.7331,2,    25.00,   3.0150
29AH20120622,      OVIDE,     108,          1,          8,2,20120720,       0000,    53.6917,   -49.4339,       3712,  2000.5,   3.3439,  34.9181,2,  34.9189,2,    275.5,2,   276.1,2, -999.00,9, -999.00,9, -999.00,9,   3.006,2,   1.543,2,  2307.2,2,   7.7209,3,    25.00,   3.1862
29AH20120622,      OVIDE,     108,          1,          9,2,20120720,       0000,    53.6917,   -49.4339,       3712,  1800.8,   3.4930,  34.9202,2,  34.9222,2,    273.9,2,   273.5,2, -999.00,9, -999.00,9, -999.00,9,   3.104,2,   1.599,2,  -999.0,9,   7.7266,2,    25.00,   3.3517
29AH20120622,      OVIDE,     108,          1,         10,2,20120720,       0000,    53.6917,   -49.4339,       3712,  1598.5,   3.6258,  34.9218,2,  34.9191,2,    273.1,2,   273.9,2, -999.00,9, -999.00,9, -999.00,9,   3.263,2,   1.700,2,  2308.5,2,   7.7270,2,    25.00,   3.5012
29AH20120622,      OVIDE,     108,          1,         11,2,20120720,       0000,    53.6917,   -49.4339,       3712,  1401.8,   3.7194,  34.9153,2,-999.0000,9,    275.2,2,  -999.0,9, -999.00,9, -999.00,9, -999.00,9,-999.000,9,-999.000,9,  -999.0,9,-999.0000,9,  -999.00,   3.6112
29AH20120622,      OVIDE,     108,          1,         12,2,20120720,       0000,    53.6917,   -49.4339,       3712,  1200.7,   3.7970,  34.9079,2,  34.9060,2,    276.8,2,  -999.0,9, -999.00,9, -999.00,9, -999.00,9,   3.767,2,   2.023,2,  2307.2,2,   7.7187,2,    25.00,   3.7054
29AH20120622,      OVIDE,     108,          1,         13,2,20120720,       0000,    53.6917,   -49.4339,       3712,  1001.0,   3.8594,  34.9005,2,  34.8995,2,    279.7,2,   280.2,2, -999.00,9, -999.00,9, -999.00,9,-999.000,9,-999.000,9,  -999.0,9,   7.7189,2,    25.00,   3.7841
29AH20120622,      OVIDE,     108,          1,         14,2,20120720,       0000,    53.6917,   -49.4339,       3712,   901.0,   3.9219,  34.9025,2,-999.0000,9,    279.6,2,  -999.0,9, -999.00,9, -999.00,9, -999.00,9,-999.000,9,-999.000,9,  -999.0,9,-999.0000,9,  -999.00,   3.8543
29AH20120622,      OVIDE,     108,          1,         15,2,20120720,       0000,    53.6917,   -49.4339,       3712,   800.9,   3.8522,  34.8819,2,  34.8813,2,    282.6,2,   285.6,2, -999.00,9, -999.00,9, -999.00,9,   4.162,2,   2.297,2,  -999.0,9,   7.7220,2,    25.00,   3.7932
29AH20120622,      OVIDE,     108,          1,         16,2,20120720,       0000,    53.6917,   -49.4339,       3712,   699.5,   3.8450,  34.8719,2,  34.8719,2,    287.2,2,   287.7,2, -999.00,9, -999.00,9, -999.00,9,-999.000,9,-999.000,9,  -999.0,9,   7.7213,2,    25.00,   3.7941
29AH20120622,      OVIDE,     108,          1,         17,2,20120720,       0000,    53.6917,   -49.4339,       3712,   600.6,   3.9198,  34.8752,2,  34.8756,2,    282.9,2,   285.4,2, -999.00,9, -999.00,9, -999.00,9,   4.160,2,   2.310,2,  -999.0,9,   7.7220,2,    25.00,   3.8762
29AH20120622,      OVIDE,     108,          1,         18,2,20120720,       0000,    53.6917,   -49.4339,       3712,   500.4,   3.9729,  34.8695,2,  34.8756,4,    282.2,2,   283.5,2, -999.00,9, -999.00,9, -999.00,9,-999.000,9,-999.000,9,  2303.9,2,   7.7181,2,    25.00,   3.9367
29AH20120622,      OVIDE,     108,          1,         19,2,20120720,       0000,    53.6917,   -49.4339,       3712,   401.0,   4.2054,  34.8813,2,  34.8808,2,    277.5,2,   277.3,2, -999.00,9, -999.00,9, -999.00,9,   3.982,2,   2.212,2,  -999.0,9,   7.7206,2,    25.00,   4.1760
29AH20120622,      OVIDE,     108,          1,         20,2,20120720,       0000,    53.6917,   -49.4339,       3712,   300.6,   4.2428,  34.8494,2,  34.8541,2,    273.5,2,   272.9,2, -999.00,9, -999.00,9, -999.00,9,   3.926,2,   2.196,2,  -999.0,9,   7.7168,2,    25.00,   4.2209
29AH20120622,      OVIDE,     108,          1,         21,2,20120720,       0000,    53.6917,   -49.4339,       3712,   201.3,   4.3639,  34.7729,2,  34.7716,2,    275.1,2,   273.7,2, -999.00,9, -999.00,9, -999.00,9,-999.000,9,-999.000,9,  -999.0,9,   7.7120,2,    25.00,   4.3492
29AH20120622,      OVIDE,     108,          1,         22,2,20120720,       0000,    53.6917,   -49.4339,       3712,   100.1,   5.1586,  34.7042,2,  34.7003,2,    278.9,2,   258.4,3, -999.00,9, -999.00,9, -999.00,9,   3.681,2,   2.081,2,  -999.0,9,   7.7113,2,    25.00,   5.1508
29AH20120622,      OVIDE,     108,          1,         23,2,20120720,       0000,    53.6917,   -49.4339,       3712,    50.4,   5.4162,  34.5092,2,  34.5091,2,    297.2,2,   277.4,3, -999.00,9, -999.00,9, -999.00,9,-999.000,9,-999.000,9,  -999.0,9,   7.7314,2,    25.00,   5.4122
29AH20120622,      OVIDE,     108,          1,         24,2,20120720,       0000,    53.6917,   -49.4339,       3712,     5.1,  10.6913,  33.9879,2,  33.9894,2,    280.6,2,   283.1,2, -999.00,9, -999.00,9, -999.00,9,-999.000,9,-999.000,9,  2268.1,2,   7.9127,2,    25.00,  10.6907