BOTTLE,20151116SIOCCHCBG
EXPOCODE,SECT_ID,STNNBR,CASTNO,BTLNBR,BTLNBR_FLAG_W,DATE,TIME,LATITUDE,LONGITUDE,DEPTH,CTDPRS,CTDTMP,CTDSAL,CTDSAL_FLAG_W,SALNTY,SALNTY_FLAG_W,CTDOXY,CTDOXY_FLAG_W,OXYGEN,OXYGEN_FLAG_W,SILCAT,SILCAT_FLAG_W,NITRAT,NITRAT_FLAG_W,PHSPHT,PHSPHT_FLAG_W,CFC-11,CFC-11_FLAG_W,CFC-12,CFC-12_FLAG_W,ALKALI,ALKALI_FLAG_W,PH_TOT,PH_TOT_FLAG_W,PH_TMP,THETA
,,,,,,,,,,METERS,DBAR,ITS-90,PSS-78,,PSS-78,,UMOL/KG,,UMOL/KG,,UMOL/KG,,UMOL/KG,,UMOL/KG,,PMOL/KG,,PMOL/KG,,UMOL/KG,,,,DEG C,DEG C
29AH20120622,      OVIDE,      89,          1,          1,2,20120717,       0000,    59.8306,   -42.5196,        230,   216.7,   2.3149,  34.3443,2,  34.3443,2,    312.7,2,   312.6,2,    5.08,2,   10.40,2,    0.70,2,-999.000,9,-999.000,9,  2275.0,2,   7.7440,2,    25.00,   2.3028
29AH20120622,      OVIDE,      89,          1,          2,2,20120717,       0000,    59.8306,   -42.5196,        230,   150.4,   2.5561,  34.3276,2,  34.3272,2,    313.8,2,   314.5,2,    4.78,2,    9.84,2,    0.67,2,-999.000,9,-999.000,9,  2274.0,2,   7.7549,2,    25.00,   2.5475
29AH20120622,      OVIDE,      89,          1,          3,2,20120717,       0000,    59.8306,   -42.5196,        230,   100.0,   2.4547,  34.1564,2,  34.1617,2,    319.6,2,   319.9,2,    4.11,2,    8.47,2,    0.60,2,-999.000,9,-999.000,9,  2268.2,2,   7.7688,2,    25.00,   2.4491
29AH20120622,      OVIDE,      89,          1,          4,2,20120717,       0000,    59.8306,   -42.5196,        230,    40.8,  -0.2342,  33.4888,2,  33.4821,4,    346.7,2,   344.5,2,    3.66,2,    6.47,2,    0.59,2,-999.000,9,-999.000,9,  2240.7,2,   7.7390,2,    25.00,  -0.2355
29AH20120622,      OVIDE,      89,          1,          5,2,20120717,       0000,    59.8306,   -42.5196,        230,     6.4,   1.4455,  31.8044,2,  31.8164,4,    401.6,2,   413.4,3, -999.00,9, -999.00,9, -999.00,9,-999.000,9,-999.000,9,  -999.0,9,-999.0000,9,  -999.00,   1.4452
29AH20120622,      OVIDE,      89,          1,          6,2,20120717,       0000,    59.8306,   -42.5196,        230,     6.5,   1.4537,  31.8057,2,-999.0000,9,    401.5,2,  -999.0,9, -999.00,9, -999.00,9, -999.00,9,-999.000,9,-999.000,9,  -999.0,9,-999.0000,9,  -999.00,   1.4534
29AH20120622,      OVIDE,      89,          1,          7,2,20120717,       0000,    59.8306,   -42.5196,        230,     6.5,   1.4508,  31.8057,2,-999.0000,9,    401.5,2,  -999.0,9, -999.00,9, -999.00,9, -999.00,9,-999.000,9,-999.000,9,  -999.0,9,-999.0000,9,  -999.00,   1.4505
29AH20120622,      OVIDE,      89,          1,          8,2,20120717,       0000,    59.8306,   -42.5196,        230,     6.5,   1.4501,  31.8063,2,-999.0000,9,    401.5,2,  -999.0,9, -999.00,9, -999.00,9, -999.00,9,-999.000,9,-999.000,9,  -999.0,9,-999.0000,9,  -999.00,   1.4498
29AH20120622,      OVIDE,      89,          1,          9,2,20120717,       0000,    59.8306,   -42.5196,        230,     6.5,   1.4676,  31.8091,2,-999.0000,9,    401.5,2,  -999.0,9, -999.00,9, -999.00,9, -999.00,9,-999.000,9,-999.000,9,  -999.0,9,-999.0000,9,  -999.00,   1.4673
29AH20120622,      OVIDE,      89,          1,         10,2,20120717,       0000,    59.8306,   -42.5196,        230,     6.5,   1.4707,  31.8103,2,-999.0000,9,    401.5,2,  -999.0,9, -999.00,9, -999.00,9, -999.00,9,-999.000,9,-999.000,9,  -999.0,9,-999.0000,9,  -999.00,   1.4704
29AH20120622,      OVIDE,      89,          1,         11,2,20120717,       0000,    59.8306,   -42.5196,        230,     6.5,   1.4775,  31.8121,2,-999.0000,9,    401.5,2,  -999.0,9, -999.00,9, -999.00,9, -999.00,9,-999.000,9,-999.000,9,  -999.0,9,-999.0000,9,  -999.00,   1.4772
29AH20120622,      OVIDE,      89,          1,         12,2,20120717,       0000,    59.8306,   -42.5196,        230,     6.5,   1.4782,  31.8125,2,-999.0000,9,    401.5,2,  -999.0,9, -999.00,9, -999.00,9, -999.00,9,-999.000,9,-999.000,9,  -999.0,9,-999.0000,9,  -999.00,   1.4779
29AH20120622,      OVIDE,      89,          1,         13,2,20120717,       0000,    59.8306,   -42.5196,        230,     6.4,   1.4652,  31.8120,2,-999.0000,9,    401.6,2,  -999.0,9, -999.00,9, -999.00,9, -999.00,9,-999.000,9,-999.000,9,  -999.0,9,-999.0000,9,  -999.00,   1.4649
29AH20120622,      OVIDE,      89,          1,         14,2,20120717,       0000,    59.8306,   -42.5196,        230,     6.5,   1.5011,  31.8184,2,-999.0000,9,    401.5,2,  -999.0,9, -999.00,9, -999.00,9, -999.00,9,-999.000,9,-999.000,9,  -999.0,9,-999.0000,9,  -999.00,   1.5008
29AH20120622,      OVIDE,      89,          1,         15,2,20120717,       0000,    59.8306,   -42.5196,        230,     6.6,   1.5288,  31.8235,2,-999.0000,9,    401.4,2,  -999.0,9, -999.00,9, -999.00,9, -999.00,9,-999.000,9,-999.000,9,  -999.0,9,-999.0000,9,  -999.00,   1.5285
29AH20120622,      OVIDE,      89,          1,         16,2,20120717,       0000,    59.8306,   -42.5196,        230,     6.5,   1.5356,  31.8253,2,-999.0000,9,    401.5,2,  -999.0,9, -999.00,9, -999.00,9, -999.00,9,-999.000,9,-999.000,9,  -999.0,9,-999.0000,9,  -999.00,   1.5353
29AH20120622,      OVIDE,      89,          1,         17,2,20120717,       0000,    59.8306,   -42.5196,        230,     6.5,   1.5608,  31.8292,2,-999.0000,9,    401.5,2,  -999.0,9, -999.00,9, -999.00,9, -999.00,9,-999.000,9,-999.000,9,  -999.0,9,-999.0000,9,  -999.00,   1.5605
29AH20120622,      OVIDE,      89,          1,         18,2,20120717,       0000,    59.8306,   -42.5196,        230,     6.5,   1.5657,  31.8302,2,-999.0000,9,    401.5,2,  -999.0,9, -999.00,9, -999.00,9, -999.00,9,-999.000,9,-999.000,9,  -999.0,9,-999.0000,9,  -999.00,   1.5654
29AH20120622,      OVIDE,      89,          1,         19,2,20120717,       0000,    59.8306,   -42.5196,        230,     6.5,   1.5825,  31.8339,2,-999.0000,9,    401.5,2,  -999.0,9, -999.00,9, -999.00,9, -999.00,9,-999.000,9,-999.000,9,  -999.0,9,-999.0000,9,  -999.00,   1.5822
29AH20120622,      OVIDE,      89,          1,         20,2,20120717,       0000,    59.8306,   -42.5196,        230,     6.5,   1.5918,  31.8349,2,-999.0000,9,    401.5,2,  -999.0,9, -999.00,9, -999.00,9, -999.00,9,-999.000,9,-999.000,9,  -999.0,9,-999.0000,9,  -999.00,   1.5915
29AH20120622,      OVIDE,      89,          1,         21,2,20120717,       0000,    59.8306,   -42.5196,        230,     6.5,   1.5794,  31.8326,2,-999.0000,9,    401.5,2,  -999.0,9, -999.00,9, -999.00,9, -999.00,9,-999.000,9,-999.000,9,  -999.0,9,-999.0000,9,  -999.00,   1.5791
29AH20120622,      OVIDE,      89,          1,         22,2,20120717,       0000,    59.8306,   -42.5196,        230,     6.5,   1.5484,  31.8276,2,-999.0000,9,    401.5,2,  -999.0,9, -999.00,9, -999.00,9, -999.00,9,-999.000,9,-999.000,9,  -999.0,9,-999.0000,9,  -999.00,   1.5481
29AH20120622,      OVIDE,      89,          1,         23,2,20120717,       0000,    59.8306,   -42.5196,        230,     6.5,   1.5372,  31.8258,2,-999.0000,9,    401.5,2,  -999.0,9, -999.00,9, -999.00,9, -999.00,9,-999.000,9,-999.000,9,  -999.0,9,-999.0000,9,  -999.00,   1.5369
29AH20120622,      OVIDE,      89,          1,         24,2,20120717,       0000,    59.8306,   -42.5196,        230,     6.6,   1.5284,  31.8241,2,-999.0000,9,    401.4,2,   414.4,3,    0.28,2,    0.02,2,    0.07,2,-999.000,9,-999.000,9,  2151.5,2,   7.9259,2,    25.00,   1.5281
29AH20120622,      OVIDE,      90,          1,          1,2,20120717,       0000,    59.9141,   -43.0769,        167,   152.8,   1.7167,  34.0847,2,  34.0779,4,    322.2,2,   323.5,2,    4.67,2,    8.86,2,    0.60,2,-999.000,9,-999.000,9,  2262.9,2,   7.7508,2,    25.00,   1.7091
29AH20120622,      OVIDE,      90,          1,          2,2,20120717,       0000,    59.9141,   -43.0769,        167,   152.8,   1.7186,  34.0852,2,-999.0000,9,    322.2,2,  -999.0,9, -999.00,9, -999.00,9, -999.00,9,-999.000,9,-999.000,9,  -999.0,9,-999.0000,9,  -999.00,   1.7110
29AH20120622,      OVIDE,      90,          1,          3,2,20120717,       0000,    59.9141,   -43.0769,        167,   100.7,   0.9020,  33.7312,2,  33.7331,2,    339.6,2,   337.2,2,    3.77,2,    7.03,2,    0.54,2,-999.000,9,-999.000,9,  2250.0,2,   7.7602,2,    25.00,   0.8978
29AH20120622,      OVIDE,      90,          1,          4,2,20120717,       0000,    59.9141,   -43.0769,        167,   100.7,   0.9023,  33.7314,2,-999.0000,9,    339.6,2,  -999.0,9, -999.00,9, -999.00,9, -999.00,9,-999.000,9,-999.000,9,  -999.0,9,-999.0000,9,  -999.00,   0.8981
29AH20120622,      OVIDE,      90,          1,          5,2,20120717,       0000,    59.9141,   -43.0769,        167,    39.1,  -0.4193,  32.3363,2,  32.3178,4,    412.7,2,   420.0,3,    0.33,2,    0.30,2,    0.12,2,-999.000,9,-999.000,9,  2180.6,2,   7.8912,2,    25.00,  -0.4204
29AH20120622,      OVIDE,      90,          1,          6,2,20120717,       0000,    59.9141,   -43.0769,        167,    39.0,  -0.4175,  32.3390,2,-999.0000,9,    412.8,2,  -999.0,9, -999.00,9, -999.00,9, -999.00,9,-999.000,9,-999.000,9,  -999.0,9,-999.0000,9,  -999.00,  -0.4186
29AH20120622,      OVIDE,      90,          1,          7,2,20120717,       0000,    59.9141,   -43.0769,        167,     5.3,   1.4332,  30.4654,2,-999.0000,9,    396.0,2,  -999.0,9, -999.00,9, -999.00,9, -999.00,9,-999.000,9,-999.000,9,  -999.0,9,-999.0000,9,  -999.00,   1.4330
29AH20120622,      OVIDE,      90,          1,          8,2,20120717,       0000,    59.9141,   -43.0769,        167,     5.4,   1.4214,  30.4665,2,-999.0000,9,    396.0,2,  -999.0,9, -999.00,9, -999.00,9, -999.00,9,-999.000,9,-999.000,9,  -999.0,9,-999.0000,9,  -999.00,   1.4212
29AH20120622,      OVIDE,      90,          1,          9,2,20120717,       0000,    59.9141,   -43.0769,        167,     5.3,   1.6844,  30.3332,2,-999.0000,9,    396.0,2,  -999.0,9, -999.00,9, -999.00,9, -999.00,9,-999.000,9,-999.000,9,  -999.0,9,-999.0000,9,  -999.00,   1.6842
29AH20120622,      OVIDE,      90,          1,         10,2,20120717,       0000,    59.9141,   -43.0769,        167,     5.3,   1.4078,  30.4653,2,-999.0000,9,    396.0,2,  -999.0,9, -999.00,9, -999.00,9, -999.00,9,-999.000,9,-999.000,9,  -999.0,9,-999.0000,9,  -999.00,   1.4076
29AH20120622,      OVIDE,      90,          1,         11,2,20120717,       0000,    59.9141,   -43.0769,        167,     5.3,   1.3804,  30.4690,2,-999.0000,9,    396.0,2,  -999.0,9, -999.00,9, -999.00,9, -999.00,9,-999.000,9,-999.000,9,  -999.0,9,-999.0000,9,  -999.00,   1.3802
29AH20120622,      OVIDE,      90,          1,         12,2,20120717,       0000,    59.9141,   -43.0769,        167,     5.3,   1.4817,  30.4175,2,-999.0000,9,    396.0,2,  -999.0,9, -999.00,9, -999.00,9, -999.00,9,-999.000,9,-999.000,9,  -999.0,9,-999.0000,9,  -999.00,   1.4815
29AH20120622,      OVIDE,      90,          1,         13,2,20120717,       0000,    59.9141,   -43.0769,        167,     5.4,   1.3077,  30.4874,2,-999.0000,9,    396.0,2,  -999.0,9, -999.00,9, -999.00,9, -999.00,9,-999.000,9,-999.000,9,  -999.0,9,-999.0000,9,  -999.00,   1.3075
29AH20120622,      OVIDE,      90,          1,         14,2,20120717,       0000,    59.9141,   -43.0769,        167,     5.4,   1.1855,  30.5429,2,-999.0000,9,    396.0,2,  -999.0,9, -999.00,9, -999.00,9, -999.00,9,-999.000,9,-999.000,9,  -999.0,9,-999.0000,9,  -999.00,   1.1853
29AH20120622,      OVIDE,      90,          1,         15,2,20120717,       0000,    59.9141,   -43.0769,        167,     5.4,   1.3676,  30.4490,2,-999.0000,9,    396.0,2,  -999.0,9, -999.00,9, -999.00,9, -999.00,9,-999.000,9,-999.000,9,  -999.0,9,-999.0000,9,  -999.00,   1.3674
29AH20120622,      OVIDE,      90,          1,         16,2,20120717,       0000,    59.9141,   -43.0769,        167,     5.4,   1.2752,  30.4902,2,-999.0000,9,    396.0,2,  -999.0,9, -999.00,9, -999.00,9, -999.00,9,-999.000,9,-999.000,9,  -999.0,9,-999.0000,9,  -999.00,   1.2750
29AH20120622,      OVIDE,      90,          1,         17,2,20120717,       0000,    59.9141,   -43.0769,        167,     5.4,   1.2278,  30.5148,2,-999.0000,9,    396.0,2,  -999.0,9, -999.00,9, -999.00,9, -999.00,9,-999.000,9,-999.000,9,  -999.0,9,-999.0000,9,  -999.00,   1.2276
29AH20120622,      OVIDE,      90,          1,         18,2,20120717,       0000,    59.9141,   -43.0769,        167,     5.5,   1.4061,  30.4256,2,-999.0000,9,    396.1,2,  -999.0,9, -999.00,9, -999.00,9, -999.00,9,-999.000,9,-999.000,9,  -999.0,9,-999.0000,9,  -999.00,   1.4059
29AH20120622,      OVIDE,      90,          1,         19,2,20120717,       0000,    59.9141,   -43.0769,        167,     5.4,   1.3468,  30.4667,2,-999.0000,9,    396.0,2,  -999.0,9, -999.00,9, -999.00,9, -999.00,9,-999.000,9,-999.000,9,  -999.0,9,-999.0000,9,  -999.00,   1.3466
29AH20120622,      OVIDE,      90,          1,         20,2,20120717,       0000,    59.9141,   -43.0769,        167,     5.4,   1.3220,  30.4768,2,-999.0000,9,    396.0,2,  -999.0,9, -999.00,9, -999.00,9, -999.00,9,-999.000,9,-999.000,9,  -999.0,9,-999.0000,9,  -999.00,   1.3218
29AH20120622,      OVIDE,      90,          1,         21,2,20120717,       0000,    59.9141,   -43.0769,        167,     5.4,   1.2412,  30.5111,2,-999.0000,9,    396.0,2,  -999.0,9, -999.00,9, -999.00,9, -999.00,9,-999.000,9,-999.000,9,  -999.0,9,-999.0000,9,  -999.00,   1.2410
29AH20120622,      OVIDE,      90,          1,         22,2,20120717,       0000,    59.9141,   -43.0769,        167,     5.4,   1.1344,  30.5516,2,-999.0000,9,    396.0,2,  -999.0,9, -999.00,9, -999.00,9, -999.00,9,-999.000,9,-999.000,9,  -999.0,9,-999.0000,9,  -999.00,   1.1342
29AH20120622,      OVIDE,      90,          1,         23,2,20120717,       0000,    59.9141,   -43.0769,        167,     5.5,   1.6099,  30.3291,2,-999.0000,9,    396.1,2,  -999.0,9, -999.00,9, -999.00,9, -999.00,9,-999.000,9,-999.000,9,  -999.0,9,-999.0000,9,  -999.00,   1.6097
29AH20120622,      OVIDE,      90,          1,         24,2,20120717,       0000,    59.9141,   -43.0769,        167,     5.5,   1.1980,  30.4870,2,  30.4364,4,    396.1,2,   396.2,2,    0.31,2,    0.02,2,    0.04,2,-999.000,9,-999.000,9,  2062.8,2,   7.9427,2,    25.00,   1.1978