BOTTLE,20151116SIOCCHCBG
# changed expocode from 29AH20120623 to 29AH20120622
# changed flag to 9 for empty values in PHSPHT and NITRAT
# BOTTLE,20150813PRINUNIVRMK
# Original header:
# 25/05/2015 Initialized README file 
# Data source: Fiz F.Perez, 05/05/2015 
# SHIP: Sarmiento de Gamboa 
# Cruise: CATARINA 
# Section: OVIDE 
# Region: North Atlantic	 
# EXPOCODE: 29AH20120622	 
# DATES: 20120623-20120720 
# Chief Scientist: Aida F. Rios 
# 108 stations with 24 place Rosette 
# Hydro: Who - P.Lherminier/P.Branellec/M.Gilcoto/G.Roson ; Status - final 
# 	Notes: CSIC, Instituto de Investigaciones Marinas de Vigo; LPO/IFREMER Brest, France; University of Vigo, Spain 
# Nutrients:  Who - F.Alonso-Perez/M. de la Paz/M. Castano-Carrera/M.Galindo; Status - final 
# 	Notes: CSIC, Instituto de Investigaciones Marinas de Vigo 
# O2:    Who - A.Velo; Status - final 
# 	Notes: CSIC, Instituto de Investigaciones Marinas de Vigo 
# TA: Who -  M.I.Garcia-Ibanez/Fiz F. Perez/ N.M. Fajar; Status - final 
# 	Notes: CSIC, Instituto de Investigaciones Marinas de Vigo 
# pH: Who - Fiz F. Perez/M.I. Garcia-Ibanez/N.M.Fajar ; Status - final 
# 	Notes: Total sacale @ 25C, the correction of DelValls and Dickson (1998) was added (+0.0047) 
# CFC: Who - R. Steinfeldt; Status - final 
# 	Notes: U.Bremen data rcd and merged 8/12/2015 
# References: 	 
# CATARINA Cruise Report (http://catarina.iim.csic.es/sites/default/files/CATARINA%20cruise%20report_0.pdf) 
EXPOCODE,SECT_ID,STNNBR,CASTNO,BTLNBR,BTLNBR_FLAG_W,DATE,TIME,LATITUDE,LONGITUDE,DEPTH,CTDPRS,CTDTMP,CTDSAL,CTDSAL_FLAG_W,SALNTY,SALNTY_FLAG_W,CTDOXY,CTDOXY_FLAG_W,OXYGEN,OXYGEN_FLAG_W,SILCAT,SILCAT_FLAG_W,NITRAT,NITRAT_FLAG_W,PHSPHT,PHSPHT_FLAG_W,CFC-11,CFC-11_FLAG_W,CFC-12,CFC-12_FLAG_W,ALKALI,ALKALI_FLAG_W,PH_TOT,PH_TOT_FLAG_W,PH_TMP,THETA
,,,,,,,,,,METERS,DBAR,ITS-90,PSS-78,,PSS-78,,UMOL/KG,,UMOL/KG,,UMOL/KG,,UMOL/KG,,UMOL/KG,,PMOL/KG,,PMOL/KG,,UMOL/KG,,,,DEG C,DEG C
29AH20120622,      OVIDE,       1,          1,          1,2,20120623,       0000,    40.3326,    -9.4594,        155,   144.5,  13.3207,  35.9163,2,  35.9188,2,    201.2,2,   201.1,2,    4.25,2,    9.29,2,    0.42,2,-999.000,9,-999.000,9,  2352.5,2,   7.8320,2,    25.00,  13.3004
29AH20120622,      OVIDE,       1,          1,          2,2,20120623,       0000,    40.3326,    -9.4594,        155,   144.5,  13.3200,  35.9161,2,  35.9191,2,    201.2,2,   198.8,2, -999.00,9, -999.00,9, -999.00,9,-999.000,9,-999.000,9,  -999.0,9,   7.8315,2,    25.00,  13.2997
29AH20120622,      OVIDE,       1,          1,          3,2,20120623,       0000,    40.3326,    -9.4594,        155,   144.5,  13.3206,  35.9163,2,-999.0000,9,    201.2,2,  -999.0,9, -999.00,9, -999.00,9, -999.00,9,-999.000,9,-999.000,9,  -999.0,9,   7.8299,2,    25.00,  13.3003
29AH20120622,      OVIDE,       1,          1,          4,2,20120623,       0000,    40.3326,    -9.4594,        155,   144.5,  13.3211,  35.9162,2,-999.0000,9,    201.2,2,  -999.0,9, -999.00,9, -999.00,9, -999.00,9,-999.000,9,-999.000,9,  -999.0,9,   7.8301,2,    25.00,  13.3008
29AH20120622,      OVIDE,       1,          1,          5,2,20120623,       0000,    40.3326,    -9.4594,        155,   144.6,  13.3207,  35.9162,2,-999.0000,9,    201.2,2,  -999.0,9, -999.00,9, -999.00,9, -999.00,9,-999.000,9,-999.000,9,  -999.0,9,   7.8297,2,    25.00,  13.3003
29AH20120622,      OVIDE,       1,          1,          6,2,20120623,       0000,    40.3326,    -9.4594,        155,   144.5,  13.3203,  35.9161,2,-999.0000,9,    201.2,2,  -999.0,9, -999.00,9, -999.00,9, -999.00,9,-999.000,9,-999.000,9,  -999.0,9,   7.8297,2,    25.00,  13.3000
29AH20120622,      OVIDE,       1,          1,          7,2,20120623,       0000,    40.3326,    -9.4594,        155,    99.4,  13.4866,  35.9365,2,  35.9393,2,    214.7,2,   214.0,2,    3.12,2,    7.82,2,    0.37,2,-999.000,9,-999.000,9,  2351.3,2,   7.8544,2,    25.00,  13.4725
29AH20120622,      OVIDE,       1,          1,          8,2,20120623,       0000,    40.3326,    -9.4594,        155,    99.4,  13.4872,  35.9365,2,  35.9381,2,    214.7,2,   214.2,2, -999.00,9, -999.00,9, -999.00,9,-999.000,9,-999.000,9,  -999.0,9,   7.8544,2,    25.00,  13.4731
29AH20120622,      OVIDE,       1,          1,          9,2,20120623,       0000,    40.3326,    -9.4594,        155,    99.5,  13.4880,  35.9366,2,-999.0000,9,    214.7,2,  -999.0,9, -999.00,9, -999.00,9, -999.00,9,-999.000,9,-999.000,9,  -999.0,9,   7.8581,2,    25.00,  13.4739
29AH20120622,      OVIDE,       1,          1,         10,2,20120623,       0000,    40.3326,    -9.4594,        155,    99.5,  13.4884,  35.9367,2,-999.0000,9,    214.7,2,  -999.0,9, -999.00,9, -999.00,9, -999.00,9,-999.000,9,-999.000,9,  -999.0,9,   7.8570,2,    25.00,  13.4743
29AH20120622,      OVIDE,       1,          1,         11,2,20120623,       0000,    40.3326,    -9.4594,        155,    99.4,  13.4887,  35.9367,2,-999.0000,9,    214.7,2,  -999.0,9, -999.00,9, -999.00,9, -999.00,9,-999.000,9,-999.000,9,  -999.0,9,   7.8578,2,    25.00,  13.4746
29AH20120622,      OVIDE,       1,          1,         12,2,20120623,       0000,    40.3326,    -9.4594,        155,    99.4,  13.4885,  35.9367,2,-999.0000,9,    214.7,2,  -999.0,9, -999.00,9, -999.00,9, -999.00,9,-999.000,9,-999.000,9,  -999.0,9,   7.8574,2,    25.00,  13.4744
29AH20120622,      OVIDE,       1,          1,         13,2,20120623,       0000,    40.3326,    -9.4594,        155,    44.2,  14.3075,  35.9606,2,  35.9615,2,    248.1,2,   240.2,3,    1.45,2,    1.87,2,    0.07,2,-999.000,9,-999.000,9,  2354.3,2,   7.9130,2,    25.00,  14.3010
29AH20120622,      OVIDE,       1,          1,         14,2,20120623,       0000,    40.3326,    -9.4594,        155,    44.1,  14.3231,  35.9612,2,  35.9633,2,    248.3,2,   240.9,3, -999.00,9, -999.00,9, -999.00,9,-999.000,9,-999.000,9,  -999.0,9,   7.9153,2,    25.00,  14.3166
29AH20120622,      OVIDE,       1,          1,         15,2,20120623,       0000,    40.3326,    -9.4594,        155,    44.2,  14.3465,  35.9631,2,-999.0000,9,    248.1,2,  -999.0,9, -999.00,9, -999.00,9, -999.00,9,-999.000,9,-999.000,9,  -999.0,9,   7.9161,2,    25.00,  14.3400
29AH20120622,      OVIDE,       1,          1,         16,2,20120623,       0000,    40.3326,    -9.4594,        155,    44.2,  14.3580,  35.9641,2,-999.0000,9,    248.1,2,  -999.0,9, -999.00,9, -999.00,9, -999.00,9,-999.000,9,-999.000,9,  -999.0,9,   7.9176,2,    25.00,  14.3515
29AH20120622,      OVIDE,       1,          1,         17,2,20120623,       0000,    40.3326,    -9.4594,        155,    44.2,  14.3533,  35.9631,2,-999.0000,9,    248.1,2,  -999.0,9, -999.00,9, -999.00,9, -999.00,9,-999.000,9,-999.000,9,  -999.0,9,   7.9175,2,    25.00,  14.3468
29AH20120622,      OVIDE,       1,          1,         18,2,20120623,       0000,    40.3326,    -9.4594,        155,    44.1,  14.3505,  35.9631,2,-999.0000,9,    248.3,2,  -999.0,9, -999.00,9, -999.00,9, -999.00,9,-999.000,9,-999.000,9,  -999.0,9,   7.9239,2,    25.00,  14.3440
29AH20120622,      OVIDE,       1,          1,         19,2,20120623,       0000,    40.3326,    -9.4594,        155,     4.1,  18.4173,  35.6094,2,  35.6123,2,    243.2,2,   241.0,2,    1.01,2,    0.06,2,    0.01,2,-999.000,9,-999.000,9,  2341.7,2,   7.9966,2,    25.00,  18.4166
29AH20120622,      OVIDE,       1,          1,         20,2,20120623,       0000,    40.3326,    -9.4594,        155,     4.1,  18.4181,  35.6096,2,  35.6231,4,    243.2,2,   244.0,2, -999.00,9, -999.00,9, -999.00,9,-999.000,9,-999.000,9,  -999.0,9,   7.9987,2,    25.00,  18.4174
29AH20120622,      OVIDE,       1,          1,         21,2,20120623,       0000,    40.3326,    -9.4594,        155,     4.1,  18.4178,  35.6096,2,-999.0000,9,    243.2,2,  -999.0,9, -999.00,9, -999.00,9, -999.00,9,-999.000,9,-999.000,9,  -999.0,9,   7.9992,2,    25.00,  18.4171
29AH20120622,      OVIDE,       1,          1,         22,2,20120623,       0000,    40.3326,    -9.4594,        155,     4.0,  18.4167,  35.6096,2,-999.0000,9,    243.2,2,  -999.0,9, -999.00,9, -999.00,9, -999.00,9,-999.000,9,-999.000,9,  -999.0,9,   7.9973,2,    25.00,  18.4160
29AH20120622,      OVIDE,       1,          1,         23,2,20120623,       0000,    40.3326,    -9.4594,        155,     4.1,  18.4131,  35.6093,2,-999.0000,9,    243.2,2,  -999.0,9, -999.00,9, -999.00,9, -999.00,9,-999.000,9,-999.000,9,  -999.0,9,   7.9938,2,    25.00,  18.4124
29AH20120622,      OVIDE,       1,          1,         24,2,20120623,       0000,    40.3326,    -9.4594,        155,     4.1,  18.4046,  35.6087,2,-999.0000,9,    243.2,2,  -999.0,9, -999.00,9, -999.00,9, -999.00,9,-999.000,9,-999.000,9,  -999.0,9,   7.9990,2,    25.00,  18.4039
29AH20120622,      OVIDE,       2,          1,          1,2,20120623,       0000,    40.3332,    -9.6369,        389,   372.0,  11.7874,  35.7385,2,  35.7411,2,    198.4,2,  -999.0,9,    5.78,2,   13.58,2,    0.66,2,   2.469,2,   1.425,2,  -999.0,9,   7.8076,2,    25.00,  11.7387
29AH20120622,      OVIDE,       2,          1,          2,2,20120623,       0000,    40.3332,    -9.6369,        389,   372.0,  11.7884,  35.7386,2,  35.7412,2,    198.4,2,  -999.0,9, -999.00,9, -999.00,9, -999.00,9,-999.000,9,-999.000,9,  -999.0,9,-999.0000,9,  -999.00,  11.7397
29AH20120622,      OVIDE,       2,          1,          3,2,20120623,       0000,    40.3332,    -9.6369,        389,   372.0,  11.7922,  35.7391,2,-999.0000,9,    198.4,2,  -999.0,9, -999.00,9, -999.00,9, -999.00,9,-999.000,9,-999.000,9,  -999.0,9,-999.0000,9,  -999.00,  11.7435
29AH20120622,      OVIDE,       2,          1,          4,2,20120623,       0000,    40.3332,    -9.6369,        389,   295.8,  12.0608,  35.7359,2,  35.7377,2,    203.5,2,   205.5,2,    4.74,2,   12.30,2,    0.63,2,-999.000,9,-999.000,9,  -999.0,9,   7.8132,2,    25.00,  12.0216
29AH20120622,      OVIDE,       2,          1,          5,2,20120623,       0000,    40.3332,    -9.6369,        389,   295.8,  12.0622,  35.7360,2,-999.0000,9,    203.5,2,  -999.0,9, -999.00,9, -999.00,9, -999.00,9,-999.000,9,-999.000,9,  -999.0,9,-999.0000,9,  -999.00,  12.0230
29AH20120622,      OVIDE,       2,          1,          6,2,20120623,       0000,    40.3332,    -9.6369,        389,   295.8,  12.0612,  35.7361,2,-999.0000,9,    203.5,2,  -999.0,9, -999.00,9, -999.00,9, -999.00,9,-999.000,9,-999.000,9,  -999.0,9,-999.0000,9,  -999.00,  12.0220
29AH20120622,      OVIDE,       2,          1,          7,2,20120623,       0000,    40.3332,    -9.6369,        389,   200.3,  12.7458,  35.8071,2,  35.8097,2,    213.3,2,   215.9,2,    3.23,2,    9.44,2,    0.48,2,-999.000,9,-999.000,9,  -999.0,9,   7.8428,2,    25.00,  12.7184
29AH20120622,      OVIDE,       2,          1,          8,2,20120623,       0000,    40.3332,    -9.6369,        389,   200.3,  12.7475,  35.8075,2,-999.0000,9,    213.3,2,  -999.0,9, -999.00,9, -999.00,9, -999.00,9,   2.601,2,   1.517,2,  -999.0,9,-999.0000,9,  -999.00,  12.7201
29AH20120622,      OVIDE,       2,          1,          9,2,20120623,       0000,    40.3332,    -9.6369,        389,   200.3,  12.7582,  35.8088,2,-999.0000,9,    213.3,2,  -999.0,9, -999.00,9, -999.00,9, -999.00,9,-999.000,9,-999.000,9,  -999.0,9,-999.0000,9,  -999.00,  12.7308
29AH20120622,      OVIDE,       2,          1,         10,2,20120623,       0000,    40.3332,    -9.6369,        389,   150.2,  13.3844,  35.9175,2,  35.9174,2,    210.4,2,   210.5,2,    3.18,2,    8.40,2,    0.45,2,-999.000,9,-999.000,9,  -999.0,9,   7.8461,2,    25.00,  13.3632
29AH20120622,      OVIDE,       2,          1,         11,2,20120623,       0000,    40.3332,    -9.6369,        389,   150.2,  13.3844,  35.9178,2,-999.0000,9,    210.4,2,  -999.0,9, -999.00,9, -999.00,9, -999.00,9,-999.000,9,-999.000,9,  -999.0,9,-999.0000,9,  -999.00,  13.3632
29AH20120622,      OVIDE,       2,          1,         12,2,20120623,       0000,    40.3332,    -9.6369,        389,   150.2,  13.3805,  35.9173,2,-999.0000,9,    210.4,2,  -999.0,9, -999.00,9, -999.00,9, -999.00,9,-999.000,9,-999.000,9,  -999.0,9,-999.0000,9,  -999.00,  13.3593
29AH20120622,      OVIDE,       2,          1,         13,2,20120623,       0000,    40.3332,    -9.6369,        389,   100.6,  13.7607,  35.9288,2,  35.9283,2,    222.8,2,   217.1,3,    2.04,2,    6.21,2,    0.31,2,-999.000,9,-999.000,9,  -999.0,9,   7.8677,2,    25.00,  13.7463
29AH20120622,      OVIDE,       2,          1,         14,2,20120623,       0000,    40.3332,    -9.6369,        389,   100.6,  13.7633,  35.9289,2,-999.0000,9,    222.8,2,  -999.0,9, -999.00,9, -999.00,9, -999.00,9,-999.000,9,-999.000,9,  -999.0,9,-999.0000,9,  -999.00,  13.7489
29AH20120622,      OVIDE,       2,          1,         15,2,20120623,       0000,    40.3332,    -9.6369,        389,   100.5,  13.7641,  35.9290,2,-999.0000,9,    222.9,2,  -999.0,9, -999.00,9, -999.00,9, -999.00,9,-999.000,9,-999.000,9,  -999.0,9,-999.0000,9,  -999.00,  13.7497
29AH20120622,      OVIDE,       2,          1,         16,2,20120623,       0000,    40.3332,    -9.6369,        389,    60.3,  15.1910,  36.0424,2,-999.0000,9,    253.5,2,   255.4,2,    0.78,2,    0.47,2,    0.05,2,-999.000,9,-999.000,9,  -999.0,9,   7.9524,2,    25.00,  15.1817
29AH20120622,      OVIDE,       2,          1,         17,2,20120623,       0000,    40.3332,    -9.6369,        389,    60.3,  15.1609,  36.0457,2,-999.0000,9,    253.5,2,  -999.0,9, -999.00,9, -999.00,9, -999.00,9,-999.000,9,-999.000,9,  -999.0,9,-999.0000,9,  -999.00,  15.1517
29AH20120622,      OVIDE,       2,          1,         18,2,20120623,       0000,    40.3332,    -9.6369,        389,    60.3,  15.1209,  36.0446,2,-999.0000,9,    253.5,2,  -999.0,9, -999.00,9, -999.00,9, -999.00,9,-999.000,9,-999.000,9,  -999.0,9,-999.0000,9,  -999.00,  15.1117
29AH20120622,      OVIDE,       2,          1,         19,2,20120623,       0000,    40.3332,    -9.6369,        389,     5.2,  18.4223,  35.7342,2,  35.7366,2,    242.2,2,   240.6,2,    0.79,3,    0.00,2,    0.02,2,   2.218,2,   1.362,2,  -999.0,9,   7.9975,2,    25.00,  18.4214
29AH20120622,      OVIDE,       2,          1,         20,2,20120623,       0000,    40.3332,    -9.6369,        389,     5.2,  18.4209,  35.7344,2,-999.0000,9,    242.2,2,  -999.0,9, -999.00,9, -999.00,9, -999.00,9,-999.000,9,-999.000,9,  -999.0,9,-999.0000,9,  -999.00,  18.4200