BOTTLE,20151116SIOCCHCBG
EXPOCODE,SECT_ID,STNNBR,CASTNO,BTLNBR,BTLNBR_FLAG_W,DATE,TIME,LATITUDE,LONGITUDE,DEPTH,CTDPRS,CTDTMP,CTDSAL,CTDSAL_FLAG_W,SALNTY,SALNTY_FLAG_W,CTDOXY,CTDOXY_FLAG_W,OXYGEN,OXYGEN_FLAG_W,SILCAT,SILCAT_FLAG_W,NITRAT,NITRAT_FLAG_W,PHSPHT,PHSPHT_FLAG_W,CFC-11,CFC-11_FLAG_W,CFC-12,CFC-12_FLAG_W,ALKALI,ALKALI_FLAG_W,PH_TOT,PH_TOT_FLAG_W,PH_TMP,THETA
,,,,,,,,,,METERS,DBAR,ITS-90,PSS-78,,PSS-78,,UMOL/KG,,UMOL/KG,,UMOL/KG,,UMOL/KG,,UMOL/KG,,PMOL/KG,,PMOL/KG,,UMOL/KG,,,,DEG C,DEG C
29AH20120622,      OVIDE,      43,          1,          1,2,20120706,       0000,    50.4038,   -22.7030,       3460,  3503.9,   2.6286,  34.9271,2,  34.9260,2,    245.8,2,   245.9,2,   36.10,2,   20.61,2,    1.36,2,-999.000,9,-999.000,9,  2352.4,2,   7.7368,2,    25.00,   2.3324
29AH20120622,      OVIDE,      43,          1,          2,2,20120706,       0000,    50.4038,   -22.7030,       3460,  3250.3,   2.8015,  34.9429,2,  34.9449,2,    256.6,2,   257.9,2,   26.57,2,   18.51,2,    1.24,2,-999.000,9,-999.000,9,  2330.7,2,   7.7326,2,    25.00,   2.5285
29AH20120622,      OVIDE,      43,          1,          3,2,20120706,       0000,    50.4038,   -22.7030,       3460,  2999.5,   2.9800,  34.9443,2,  34.9452,2,    264.3,2,   264.0,2,   19.85,2,   17.68,2,    1.15,2,-999.000,9,-999.000,9,  2319.7,2,   7.7323,2,    25.00,   2.7296
29AH20120622,      OVIDE,      43,          1,          4,2,20120706,       0000,    50.4038,   -22.7030,       3460,  2749.2,   3.1109,  34.9371,2,  34.9398,2,    271.6,2,   272.6,2,   14.84,2,   16.68,2,    1.11,2,-999.000,9,-999.000,9,  2314.3,2,   7.7322,2,    25.00,   2.8838
29AH20120622,      OVIDE,      43,          1,          5,2,20120706,       0000,    50.4038,   -22.7030,       3460,  2499.7,   3.2637,  34.9229,2,  34.9238,2,    273.5,2,   273.7,2,   12.82,2,   16.63,2,    1.09,2,-999.000,9,-999.000,9,  2307.3,2,   7.7307,2,    25.00,   3.0590
29AH20120622,      OVIDE,      43,          1,          6,2,20120706,       0000,    50.4038,   -22.7030,       3460,  2250.1,   3.4156,  34.9177,2,  34.9179,2,    272.8,2,   273.9,2,   12.22,2,   16.78,2,    1.10,2,-999.000,9,-999.000,9,  2312.3,3,   7.7285,2,    25.00,   3.2329
29AH20120622,      OVIDE,      43,          1,          7,2,20120706,       0000,    50.4038,   -22.7030,       3460,  1999.7,   3.6112,  34.9178,2,  34.9172,2,    271.2,2,   272.0,2,   11.67,2,   17.04,2,    1.11,2,-999.000,9,-999.000,9,  2305.2,2,   7.7262,2,    25.00,   3.4496
29AH20120622,      OVIDE,      43,          1,          8,2,20120706,       0000,    50.4038,   -22.7030,       3460,  1798.8,   3.7523,  34.9187,2,  34.9184,2,    270.4,2,   271.4,2,   11.12,2,   17.05,2,    1.11,2,-999.000,9,-999.000,9,  2307.1,2,   7.7212,2,    25.00,   3.6077
29AH20120622,      OVIDE,      43,          1,          9,2,20120706,       0000,    50.4038,   -22.7030,       3460,  1599.3,   3.9179,  34.9173,2,-999.0000,9,    271.3,2,  -999.0,9,   10.41,3,   17.12,3,    1.11,3,-999.000,9,-999.000,9,  -999.0,9,-999.0000,9,  -999.00,   3.7897
29AH20120622,      OVIDE,      43,          1,         10,2,20120706,       0000,    50.4038,   -22.7030,       3460,  1399.3,   4.2292,  34.9388,2,  34.9389,2,    266.0,2,   267.7,2,   10.23,2,   17.14,2,    1.10,2,-999.000,9,-999.000,9,  2307.2,2,   7.7154,2,    25.00,   4.1157
29AH20120622,      OVIDE,      43,          1,         11,2,20120706,       0000,    50.4038,   -22.7030,       3460,  1198.9,   4.5906,  34.9623,2,  34.9625,2,    258.4,2,   258.3,2,   10.23,2,   17.28,2,    1.13,2,-999.000,9,-999.000,9,  2308.8,2,   7.7133,2,    25.00,   4.4918
29AH20120622,      OVIDE,      43,          1,         12,2,20120706,       0000,    50.4038,   -22.7030,       3460,  1099.4,   4.8469,  34.9675,2,  34.9683,2,    251.3,2,   251.7,2,   10.27,2,   17.46,2,    1.13,2,-999.000,9,-999.000,9,  2306.6,2,   7.7082,2,    25.00,   4.7550
29AH20120622,      OVIDE,      43,          1,         13,2,20120706,       0000,    50.4038,   -22.7030,       3460,   999.3,   6.1848,  35.1479,2,  35.1456,2,    226.4,2,   225.5,2,   10.75,2,   17.97,2,    1.16,2,-999.000,9,-999.000,9,  2322.0,2,   7.7171,2,    25.00,   6.0916
29AH20120622,      OVIDE,      43,          1,         14,2,20120706,       0000,    50.4038,   -22.7030,       3460,   899.6,   6.7909,  35.1608,2,  35.1555,4,    212.1,2,   211.4,2,   10.92,2,   18.47,2,    1.24,2,-999.000,9,-999.000,9,  2322.5,2,   7.7143,2,    25.00,   6.7035
29AH20120622,      OVIDE,      43,          1,         15,2,20120706,       0000,    50.4038,   -22.7030,       3460,   798.2,   7.7984,  35.2217,2,  35.2204,2,    195.2,2,   196.7,2,   10.65,2,   18.64,2,    1.20,2,-999.000,9,-999.000,9,  2325.8,2,   7.7183,2,    25.00,   7.7154
29AH20120622,      OVIDE,      43,          1,         16,2,20120706,       0000,    50.4038,   -22.7030,       3460,   699.0,   8.6763,  35.2278,2,  35.2278,2,    189.8,2,   191.9,2,    9.70,2,   18.08,2,    1.16,2,-999.000,9,-999.000,9,  2322.8,2,   7.7273,2,    25.00,   8.5996
29AH20120622,      OVIDE,      43,          1,         17,2,20120706,       0000,    50.4038,   -22.7030,       3460,   599.1,   9.8963,  35.3443,2,  35.3427,2,    202.7,2,   207.1,2,    7.43,2,   15.28,2,    0.96,2,-999.000,9,-999.000,9,  2328.4,2,   7.7686,2,    25.00,   9.8255
29AH20120622,      OVIDE,      43,          1,         18,2,20120706,       0000,    50.4038,   -22.7030,       3460,   499.5,  10.8253,  35.4495,2,  35.4451,2,    225.5,2,   233.4,3,    4.93,2,   11.62,2,    0.70,2,-999.000,9,-999.000,9,  2332.3,2,   7.8154,2,    25.00,  10.7632
29AH20120622,      OVIDE,      43,          1,         19,2,20120706,       0000,    50.4038,   -22.7030,       3460,   399.5,  11.2831,  35.5069,2,  35.5067,2,    246.4,2,   246.3,2,    3.85,2,    9.84,2,    0.59,2,-999.000,9,-999.000,9,  2333.3,2,   7.8401,2,    25.00,  11.2323
29AH20120622,      OVIDE,      43,          1,         20,2,20120706,       0000,    50.4038,   -22.7030,       3460,   298.5,  11.4341,  35.5041,2,  35.5036,2,    238.6,2,   252.4,4,    2.99,2,    8.91,2,    0.52,2,-999.000,9,-999.000,9,  2337.6,2,   7.8505,2,    25.00,  11.3960
29AH20120622,      OVIDE,      43,          1,         21,2,20120706,       0000,    50.4038,   -22.7030,       3460,   200.3,  11.5815,  35.4689,2,  35.4693,2,    245.6,2,   246.4,2,    2.93,2,    9.02,2,    0.53,2,-999.000,9,-999.000,9,  2334.3,2,   7.8506,2,    25.00,  11.5558
29AH20120622,      OVIDE,      43,          1,         22,2,20120706,       0000,    50.4038,   -22.7030,       3460,    99.4,  12.1373,  35.5073,2,  35.5035,2,    238.9,2,   240.4,2,    3.50,2,    8.82,2,    0.51,2,-999.000,9,-999.000,9,  2334.9,2,   7.8603,2,    25.00,  12.1242
29AH20120622,      OVIDE,      43,          1,         23,2,20120706,       0000,    50.4038,   -22.7030,       3460,    39.2,  13.0961,  35.5495,2,  35.5545,4,    245.0,2,   242.8,2,    2.05,2,    6.05,2,    0.31,2,-999.000,9,-999.000,9,  2341.3,2,   7.8968,2,    25.00,  13.0907
29AH20120622,      OVIDE,      43,          1,         24,2,20120706,       0000,    50.4038,   -22.7030,       3460,     9.6,  14.2139,  35.4390,2,  35.4391,2,    258.0,2,   259.2,2,    0.68,2,    1.20,2,    0.05,2,-999.000,9,-999.000,9,  2338.6,2,   7.9703,2,    25.00,  14.2125
29AH20120622,      OVIDE,      44,          1,          1,2,20120707,       0000,    50.9020,   -23.0916,       3916,  3970.8,   2.6591,  34.9252,2,  34.9243,2,    244.4,2,   247.0,2,   37.08,2,   20.54,2,    1.37,2,   0.548,2,   0.280,2,  -999.0,9,   7.7372,2,    25.00,   2.3096
29AH20120622,      OVIDE,      44,          1,          2,2,20120707,       0000,    50.9020,   -23.0916,       3916,  3746.8,   2.8118,  34.9422,2,  34.9421,2,    255.3,2,   256.1,2,   27.43,2,   18.61,2,    1.23,2,-999.000,9,-999.000,9,  -999.0,9,   7.7345,2,    25.00,   2.4838
29AH20120622,      OVIDE,      44,          1,          3,2,20120707,       0000,    50.9020,   -23.0916,       3916,  3502.8,   2.8624,  34.9451,2,  34.9457,2,    258.1,2,   258.5,2,   24.54,2,   18.24,2,    1.19,2,-999.000,9,-999.000,9,  -999.0,9,   7.7340,2,    25.00,   2.5605
29AH20120622,      OVIDE,      44,          1,          4,2,20120707,       0000,    50.9020,   -23.0916,       3916,  3250.9,   2.9991,  34.9476,2,  34.9470,2,    265.3,2,   266.7,2,   18.68,2,   17.23,2,    1.13,2,-999.000,9,-999.000,9,  -999.0,9,   7.7346,2,    25.00,   2.7215
29AH20120622,      OVIDE,      44,          1,          5,2,20120707,       0000,    50.9020,   -23.0916,       3916,  3001.6,   3.0964,  34.9396,2,  34.9430,2,    268.7,2,   270.1,2,   15.92,2,   16.85,2,    1.10,2,   2.170,2,   1.089,2,  -999.0,9,   7.7339,2,    25.00,   2.8433
29AH20120622,      OVIDE,      44,          1,          6,2,20120707,       0000,    50.9020,   -23.0916,       3916,  2750.7,   3.2241,  34.9266,2,  34.9265,2,    271.4,2,   273.9,2,   13.81,2,   16.74,2,    1.10,2,   2.393,2,   1.192,2,  -999.0,9,   7.7341,2,    25.00,   2.9947
29AH20120622,      OVIDE,      44,          1,          7,2,20120707,       0000,    50.9020,   -23.0916,       3916,  2500.3,   3.3576,  34.9162,2,  34.9164,2,    273.3,2,   275.4,2,   12.20,2,   16.72,2,    1.09,2,-999.000,9,-999.000,9,  -999.0,9,   7.7340,2,    25.00,   3.1512
29AH20120622,      OVIDE,      44,          1,          8,2,20120707,       0000,    50.9020,   -23.0916,       3916,  2251.6,   3.5506,  34.9183,2,  34.9198,2,    271.9,2,   273.1,2,   11.41,2,   16.83,2,    1.09,2,   2.900,2,   1.448,2,  -999.0,9,   7.7289,2,    25.00,   3.3655
29AH20120622,      OVIDE,      44,          1,          9,2,20120707,       0000,    50.9020,   -23.0916,       3916,  1998.9,   3.7235,  34.9180,2,  34.9235,2,    270.9,2,   272.1,2,   10.92,2,   16.90,2,    1.11,2,   3.178,2,   1.625,2,  -999.0,9,   7.7260,2,    25.00,   3.5603
29AH20120622,      OVIDE,      44,          1,         10,2,20120707,       0000,    50.9020,   -23.0916,       3916,  1800.8,   3.8427,  34.9136,2,  34.9200,4,    272.4,2,   273.0,2,   10.32,2,   16.78,2,    1.09,2,-999.000,9,-999.000,9,  -999.0,9,   7.7227,2,    25.00,   3.6967
29AH20120622,      OVIDE,      44,          1,         11,2,20120707,       0000,    50.9020,   -23.0916,       3916,  1600.9,   3.9900,  34.9148,2,  34.9175,2,    272.0,2,   273.4,2,    9.80,2,   16.66,2,    1.08,2,   3.691,2,   1.963,2,  -999.0,9,   7.7200,2,    25.00,   3.8608
29AH20120622,      OVIDE,      44,          1,         12,2,20120707,       0000,    50.9020,   -23.0916,       3916,  1400.8,   4.2324,  34.9260,2,  34.9260,2,    269.5,2,   272.2,2,    9.58,2,   16.67,2,    1.08,2,   3.710,2,   1.996,2,  -999.0,9,   7.7161,2,    25.00,   4.1188
29AH20120622,      OVIDE,      44,          1,         13,2,20120707,       0000,    50.9020,   -23.0916,       3916,  1201.3,   5.1643,  35.0288,2,  35.0313,2,    242.5,2,   245.4,2,   10.30,2,   17.56,2,    1.12,2,   3.155,2,   1.682,2,  -999.0,9,   7.7130,2,    25.00,   5.0600
29AH20120622,      OVIDE,      44,          1,         14,2,20120707,       0000,    50.9020,   -23.0916,       3916,  1000.5,   6.8022,  35.1951,2,  35.1968,2,    206.8,2,   213.8,3,   10.53,2,   18.14,2,    1.15,2,-999.000,9,-999.000,9,  -999.0,9,   7.7202,2,    25.00,   6.7042
29AH20120622,      OVIDE,      44,          1,         15,2,20120707,       0000,    50.9020,   -23.0916,       3916,   900.5,   7.9909,  35.2758,2,  35.2761,2,    193.2,2,   196.6,2,   10.37,2,   18.36,2,    1.15,2,   2.286,2,   1.234,2,  -999.0,9,   7.7242,2,    25.00,   7.8953
29AH20120622,      OVIDE,      44,          1,         16,2,20120707,       0000,    50.9020,   -23.0916,       3916,   801.4,   8.6645,  35.2610,2,  35.2609,2,    189.2,2,   191.5,2,    9.62,2,   18.15,2,    1.13,2,-999.000,9,-999.000,9,  -999.0,9,   7.7290,2,    25.00,   8.5761
29AH20120622,      OVIDE,      44,          1,         17,2,20120707,       0000,    50.9020,   -23.0916,       3916,   600.0,  10.8821,  35.4808,2,  35.4804,2,    227.6,2,   233.0,3,    4.80,2,   11.57,2,    0.69,2,   2.842,2,   1.634,2,  -999.0,9,   7.8143,2,    25.00,  10.8069
29AH20120622,      OVIDE,      44,          1,         18,2,20120707,       0000,    50.9020,   -23.0916,       3916,   500.3,  11.1994,  35.5064,2,  35.5057,2,    241.3,2,   246.2,3,    3.82,2,   10.02,2,    0.56,2,-999.000,9,-999.000,9,  -999.0,9,   7.8370,2,    25.00,  11.1358
29AH20120622,      OVIDE,      44,          1,         19,2,20120707,       0000,    50.9020,   -23.0916,       3916,   401.7,  11.3515,  35.5263,2,  35.5271,2,    251.4,2,   255.2,2,    3.38,2,    9.12,2,    0.49,2,-999.000,9,-999.000,9,  -999.0,9,   7.8430,2,    25.00,  11.3002
29AH20120622,      OVIDE,      44,          1,         20,2,20120707,       0000,    50.9020,   -23.0916,       3916,   300.7,  11.3399,  35.5136,2,  35.5131,2,    255.4,2,   257.6,2,    3.00,2,    8.80,2,    0.48,2,   3.020,2,   1.769,2,  -999.0,9,   7.8541,2,    25.00,  11.3017
29AH20120622,      OVIDE,      44,          1,         21,2,20120707,       0000,    50.9020,   -23.0916,       3916,   201.1,  11.3781,  35.5069,2,  35.5058,2,    251.0,2,   253.9,2,    3.09,2,    9.11,2,    0.52,2,-999.000,9,-999.000,9,  -999.0,9,   7.8483,2,    25.00,  11.3526
29AH20120622,      OVIDE,      44,          1,         22,2,20120707,       0000,    50.9020,   -23.0916,       3916,   100.9,  11.4641,  35.4854,2,  35.4861,2,    244.9,2,   252.4,3,    2.36,2,    8.82,2,    0.49,2,-999.000,9,-999.000,9,  -999.0,9,   7.8495,2,    25.00,  11.4513
29AH20120622,      OVIDE,      44,          1,         23,2,20120707,       0000,    50.9020,   -23.0916,       3916,    40.2,  11.8519,  35.4721,2,  35.4731,2,    251.5,2,   249.2,2,    2.60,2,    8.27,2,    0.41,2,-999.000,9,-999.000,9,  -999.0,9,   7.8601,2,    25.00,  11.8467
29AH20120622,      OVIDE,      44,          1,         24,2,20120707,       0000,    50.9020,   -23.0916,       3916,     6.2,  14.0960,  35.4352,2,  35.4374,2,    257.0,2,   259.4,2,    0.57,2,    1.26,2,    0.05,2,   2.739,2,   1.629,2,  -999.0,9,   7.9695,2,    25.00,  14.0951