BOTTLE,20151116SIOCCHCBG
EXPOCODE,SECT_ID,STNNBR,CASTNO,BTLNBR,BTLNBR_FLAG_W,DATE,TIME,LATITUDE,LONGITUDE,DEPTH,CTDPRS,CTDTMP,CTDSAL,CTDSAL_FLAG_W,SALNTY,SALNTY_FLAG_W,CTDOXY,CTDOXY_FLAG_W,OXYGEN,OXYGEN_FLAG_W,SILCAT,SILCAT_FLAG_W,NITRAT,NITRAT_FLAG_W,PHSPHT,PHSPHT_FLAG_W,CFC-11,CFC-11_FLAG_W,CFC-12,CFC-12_FLAG_W,ALKALI,ALKALI_FLAG_W,PH_TOT,PH_TOT_FLAG_W,PH_TMP,THETA
,,,,,,,,,,METERS,DBAR,ITS-90,PSS-78,,PSS-78,,UMOL/KG,,UMOL/KG,,UMOL/KG,,UMOL/KG,,UMOL/KG,,PMOL/KG,,PMOL/KG,,UMOL/KG,,,,DEG C,DEG C
29AH20120622,      OVIDE,      51,          1,          1,2,20120709,       0000,    53.6393,   -25.2359,       3568,  3685.5,   2.7271,  34.9402,2,  34.9378,2,    253.3,2,   251.6,2,   31.73,2,   19.09,2,    1.27,2,-999.000,9,-999.000,9,  2334.9,2,   7.7331,2,    25.00,   2.4082
29AH20120622,      OVIDE,      51,          1,          2,2,20120709,       0000,    53.6393,   -25.2359,       3568,  3501.2,   2.8884,  34.9549,2,  34.9580,2,    262.2,2,   262.6,2,   21.94,2,   17.33,2,    1.15,2,-999.000,9,-999.000,9,  2319.9,2,   7.7269,2,    25.00,   2.5859
29AH20120622,      OVIDE,      51,          1,          3,2,20120709,       0000,    53.6393,   -25.2359,       3568,  3250.4,   3.0537,  34.9606,2,  34.9613,2,    270.9,2,   269.9,2,   15.78,2,   16.22,2,    1.07,2,-999.000,9,-999.000,9,  2310.7,2,   7.7324,2,    25.00,   2.7748
29AH20120622,      OVIDE,      51,          1,          4,2,20120709,       0000,    53.6393,   -25.2359,       3568,  2999.9,   3.0743,  34.9516,2,  34.9512,2,    270.7,2,   273.2,2,   15.80,2,   16.31,2,    1.07,2,-999.000,9,-999.000,9,  2310.2,2,   7.7345,2,    25.00,   2.8218
29AH20120622,      OVIDE,      51,          1,          5,2,20120709,       0000,    53.6393,   -25.2359,       3568,  2750.2,   3.1186,  34.9441,2,  34.9440,2,    272.1,2,   272.4,2,   14.99,2,   16.34,2,    1.08,2,-999.000,9,-999.000,9,  2307.8,2,   7.7341,2,    25.00,   2.8912
29AH20120622,      OVIDE,      51,          1,          6,2,20120709,       0000,    53.6393,   -25.2359,       3568,  2499.9,   3.2330,  34.9305,2,  34.9291,2,    273.8,2,   273.0,2,   13.48,2,   16.23,2,    1.08,2,-999.000,9,-999.000,9,  2306.8,2,   7.7305,2,    25.00,   3.0288
29AH20120622,      OVIDE,      51,          1,          7,2,20120709,       0000,    53.6393,   -25.2359,       3568,  2249.6,   3.4586,  34.9264,2,  34.9268,2,    272.7,2,   273.4,2,   12.22,2,   16.33,2,    1.09,2,-999.000,9,-999.000,9,  2304.9,2,   7.7303,2,    25.00,   3.2752
29AH20120622,      OVIDE,      51,          1,          8,2,20120709,       0000,    53.6393,   -25.2359,       3568,  2000.2,   3.5686,  34.9178,2,  34.9181,2,    271.5,2,   271.3,2,   12.13,2,   16.52,2,    1.10,2,-999.000,9,-999.000,9,  2303.4,2,   7.7269,2,    25.00,   3.4076
29AH20120622,      OVIDE,      51,          1,          9,2,20120709,       0000,    53.6393,   -25.2359,       3568,  1800.3,   3.6812,  34.9172,2,  34.9177,2,    271.4,2,   271.8,2,   11.67,2,   16.52,2,    1.09,2,-999.000,9,-999.000,9,  2303.4,2,   7.7251,2,    25.00,   3.5374
29AH20120622,      OVIDE,      51,          1,         10,2,20120709,       0000,    53.6393,   -25.2359,       3568,  1599.6,   3.7631,  34.9152,2,  34.9145,2,    271.5,2,   270.8,2,   11.37,2,   16.52,2,    1.10,2,-999.000,9,-999.000,9,  2304.7,2,   7.7242,2,    25.00,   3.6367
29AH20120622,      OVIDE,      51,          1,         11,2,20120709,       0000,    53.6393,   -25.2359,       3568,  1399.6,   3.8889,  34.9140,2,  34.9154,2,    272.5,2,   272.8,2,   10.74,2,   16.36,2,    1.09,2,-999.000,9,-999.000,9,  2302.8,2,   7.7223,2,    25.00,   3.7791
29AH20120622,      OVIDE,      51,          1,         12,2,20120709,       0000,    53.6393,   -25.2359,       3568,  1199.9,   4.1240,  34.9238,2,  34.9227,2,    270.5,2,   270.9,2,   10.38,2,   16.33,2,    1.09,2,-999.000,9,-999.000,9,  2305.3,2,   7.7178,2,    25.00,   4.0294
29AH20120622,      OVIDE,      51,          1,         13,2,20120709,       0000,    53.6393,   -25.2359,       3568,  1100.3,   4.3160,  34.9346,2,  34.9356,2,    263.8,2,   266.6,2,   10.37,2,   16.37,2,    1.09,2,-999.000,9,-999.000,9,  2304.9,2,   7.7164,2,    25.00,   4.2285
29AH20120622,      OVIDE,      51,          1,         14,2,20120709,       0000,    53.6393,   -25.2359,       3568,  1000.4,   4.6493,  34.9590,2,  34.9599,2,    260.4,2,   258.4,2,   10.65,2,   16.69,2,    1.12,2,-999.000,9,-999.000,9,  2307.6,2,   7.7127,2,    25.00,   4.5679
29AH20120622,      OVIDE,      51,          1,         15,2,20120709,       0000,    53.6393,   -25.2359,       3568,   900.9,   5.0369,  34.9870,2,  34.9854,2,    253.4,2,   247.6,3,   10.87,2,   17.24,2,    1.13,2,-999.000,9,-999.000,9,  2310.5,2,   7.7106,2,    25.00,   4.9615
29AH20120622,      OVIDE,      51,          1,         16,2,20120709,       0000,    53.6393,   -25.2359,       3568,   798.4,   5.4378,  34.9853,2,  34.9880,2,    235.7,2,   234.6,2,   11.21,2,   17.63,2,    1.17,2,-999.000,9,-999.000,9,  2310.1,2,   7.7050,2,    25.00,   5.3691
29AH20120622,      OVIDE,      51,          1,         17,2,20120709,       0000,    53.6393,   -25.2359,       3568,   595.1,   7.5234,  35.1134,2,  35.1118,2,    197.5,2,   199.8,2,   11.36,2,   18.30,2,    1.18,2,-999.000,9,-999.000,9,  2320.6,2,   7.7104,2,    25.00,   7.4636
29AH20120622,      OVIDE,      51,          1,         18,2,20120709,       0000,    53.6393,   -25.2359,       3568,   500.0,   7.9986,  35.0307,2,  35.0384,4,    198.9,2,   205.4,3,   10.25,2,   17.20,2,    1.10,2,-999.000,9,-999.000,9,  2314.0,2,   7.7242,2,    25.00,   7.9470
29AH20120622,      OVIDE,      51,          1,         19,2,20120709,       0000,    53.6393,   -25.2359,       3568,   398.7,   9.5313,  35.1965,2,  35.2003,2,    235.7,2,   253.6,3,    5.81,2,   11.46,2,    0.71,2,-999.000,9,-999.000,9,  2322.3,2,   7.8051,2,    25.00,   9.4858
29AH20120622,      OVIDE,      51,          1,         20,2,20120709,       0000,    53.6393,   -25.2359,       3568,   301.9,  10.1108,  35.2587,2,  35.2589,2,    239.6,2,   251.1,3,    4.61,2,   10.79,2,    0.62,2,-999.000,9,-999.000,9,  2324.3,2,   7.8219,2,    25.00,  10.0752
29AH20120622,      OVIDE,      51,          1,         21,2,20120709,       0000,    53.6393,   -25.2359,       3568,   203.0,  11.1045,  35.4116,2,  35.4101,2,    249.2,2,   251.1,2,    3.90,2,    9.35,2,    0.46,2,-999.000,9,-999.000,9,  2329.1,2,   7.8424,2,    25.00,  11.0792
29AH20120622,      OVIDE,      51,          1,         22,2,20120709,       0000,    53.6393,   -25.2359,       3568,   105.0,  10.8767,  35.2808,2,  35.2760,2,    251.7,2,   252.1,2,    3.50,2,    9.20,2,    0.52,2,-999.000,9,-999.000,9,  2326.6,2,   7.8426,2,    25.00,  10.8639
29AH20120622,      OVIDE,      51,          1,         23,2,20120709,       0000,    53.6393,   -25.2359,       3568,    51.9,  11.2628,  35.3178,2,  35.3217,2,    245.3,2,   248.2,2,    3.10,2,    8.88,2,    0.46,2,-999.000,9,-999.000,9,  2329.1,2,   7.8490,2,    25.00,  11.2563
29AH20120622,      OVIDE,      51,          1,         24,2,20120709,       0000,    53.6393,   -25.2359,       3568,     9.1,  13.9234,  35.3225,2,  35.3213,2,    262.1,2,   266.5,2,    0.80,2,    0.65,2,    0.03,2,-999.000,9,-999.000,9,  2334.6,2,   7.9785,2,    25.00,  13.9221
29AH20120622,      OVIDE,      52,          1,          1,2,20120709,       0000,    54.2667,   -25.7271,       2449,  2471.7,   2.9530,  34.9440,2,  34.9419,2,    265.9,2,   267.6,2,   19.23,2,   17.42,2,    1.16,2,   2.054,2,   1.037,2,  -999.0,9,   7.7319,2,    25.00,   2.7567
29AH20120622,      OVIDE,      52,          1,          2,2,20120709,       0000,    54.2667,   -25.7271,       2449,  2471.7,   2.9532,  34.9439,2,  34.9421,2,    265.9,2,   266.4,2,   19.32,2,   17.21,2,    1.12,2,-999.000,9,-999.000,9,  -999.0,9,   7.7324,2,    25.00,   2.7568
29AH20120622,      OVIDE,      52,          1,          3,2,20120709,       0000,    54.2667,   -25.7271,       2449,  2250.3,   3.0769,  34.9381,2,  34.9362,2,    270.9,2,   272.5,2,   15.39,2,   16.81,2,    1.09,2,   2.390,2,   1.207,2,  -999.0,9,   7.7307,2,    25.00,   2.8998
29AH20120622,      OVIDE,      52,          1,          4,2,20120709,       0000,    54.2667,   -25.7271,       2449,  1998.9,   3.4062,  34.9200,2,  34.9171,2,    272.8,2,   273.5,2,   12.43,2,   16.85,2,    1.08,2,-999.000,9,-999.000,9,  -999.0,9,   7.7275,2,    25.00,   3.2477
29AH20120622,      OVIDE,      52,          1,          5,2,20120709,       0000,    54.2667,   -25.7271,       2449,  1801.2,   3.5517,  34.9190,2,  34.9171,2,    271.2,2,   272.1,2,   11.90,2,   16.75,2,    1.09,2,-999.000,9,-999.000,9,  -999.0,9,   7.7240,2,    25.00,   3.4096
29AH20120622,      OVIDE,      52,          1,          6,2,20120709,       0000,    54.2667,   -25.7271,       2449,  1600.7,   3.7233,  34.9216,2,  34.9206,2,    270.0,2,   270.3,2,   11.72,2,   17.14,2,    1.10,2,   3.093,2,   1.552,2,  -999.0,9,   7.7198,2,    25.00,   3.5973
29AH20120622,      OVIDE,      52,          1,          7,2,20120709,       0000,    54.2667,   -25.7271,       2449,  1402.3,   3.8061,  34.9142,2,  34.9132,2,    272.0,2,   271.8,2,   10.81,2,   16.87,2,    1.09,2,   3.483,2,   1.817,2,  -999.0,9,   7.7208,2,    25.00,   3.6969
29AH20120622,      OVIDE,      52,          1,          8,2,20120709,       0000,    54.2667,   -25.7271,       2449,  1200.8,   4.0278,  34.9234,2,  34.9225,2,    269.4,2,   269.1,2,   10.46,2,   17.09,2,    1.09,2,   3.599,2,   1.907,2,  -999.0,9,   7.7162,2,    25.00,   3.9340
29AH20120622,      OVIDE,      52,          1,          9,2,20120709,       0000,    54.2667,   -25.7271,       2449,  1100.7,   4.2175,  34.9401,2,  34.9382,2,    264.5,2,   265.6,2,   10.53,2,   17.28,2,    1.12,2,-999.000,9,-999.000,9,  -999.0,9,   7.7155,2,    25.00,   4.1308
29AH20120622,      OVIDE,      52,          1,         10,2,20120709,       0000,    54.2667,   -25.7271,       2449,   999.9,   4.2078,  34.9228,2,  34.9243,2,    270.6,2,   272.2,2,    9.79,2,   16.60,2,    1.08,2,   3.774,2,   2.055,2,  -999.0,9,   7.7148,2,    25.00,   4.1298
29AH20120622,      OVIDE,      52,          1,         11,2,20120709,       0000,    54.2667,   -25.7271,       2449,   898.5,   4.4453,  34.9384,2,  34.9762,4,    264.0,2,  -999.0,9,    9.89,3,   17.18,3,    1.10,3,-999.000,9,-999.000,9,  -999.0,9,-999.0000,9,  -999.00,   4.3743
29AH20120622,      OVIDE,      52,          1,         12,2,20120709,       0000,    54.2667,   -25.7271,       2449,   797.7,   4.7493,  34.9643,2,  34.9638,2,    251.7,2,   253.3,2,   10.42,2,   17.63,2,    1.11,2,-999.000,9,-999.000,9,  -999.0,9,   7.7097,2,    25.00,   4.6849
29AH20120622,      OVIDE,      52,          1,         13,2,20120709,       0000,    54.2667,   -25.7271,       2449,   701.1,   5.3121,  35.0143,2,  35.0169,2,    238.4,2,   239.8,2,   10.73,2,   18.14,2,    1.16,2,-999.000,9,-999.000,9,  -999.0,9,   7.7069,2,    25.00,   5.2529
29AH20120622,      OVIDE,      52,          1,         14,2,20120709,       0000,    54.2667,   -25.7271,       2449,   596.8,   5.8033,  35.0296,2,  35.0271,2,    226.0,2,   227.9,2,   10.90,2,   18.48,2,    1.19,2,   2.929,2,   1.585,2,  -999.0,9,   7.7038,2,    25.00,   5.7511
29AH20120622,      OVIDE,      52,          1,         15,2,20120709,       0000,    54.2667,   -25.7271,       2449,   498.7,   6.5431,  35.0609,2,  35.0599,2,    213.1,2,   213.5,2,   10.91,2,   18.81,2,    1.20,2,-999.000,9,-999.000,9,  -999.0,9,   7.7039,2,    25.00,   6.4970
29AH20120622,      OVIDE,      52,          1,         16,2,20120709,       0000,    54.2667,   -25.7271,       2449,   401.1,   7.1193,  35.0196,2,  35.0206,2,    217.1,2,   221.1,2,    9.81,2,   17.77,2,    1.15,2,-999.000,9,-999.000,9,  -999.0,9,   7.7192,2,    25.00,   7.0808
29AH20120622,      OVIDE,      52,          1,         17,2,20120709,       0000,    54.2667,   -25.7271,       2449,   300.6,   7.3141,  34.8898,2,  34.8837,4,    216.6,2,   216.5,2,    9.91,2,   17.60,2,    1.14,2,   2.842,2,   1.581,2,  -999.0,9,   7.7147,2,    25.00,   7.2851
29AH20120622,      OVIDE,      52,          1,         18,2,20120709,       0000,    54.2667,   -25.7271,       2449,   200.6,   8.1021,  34.8887,2,  34.8985,4,    232.5,2,   234.6,2,    7.71,2,   14.74,2,    0.97,2,-999.000,9,-999.000,9,  -999.0,9,   7.7557,2,    25.00,   8.0817
29AH20120622,      OVIDE,      52,          1,         19,2,20120709,       0000,    54.2667,   -25.7271,       2449,   150.5,   8.9448,  34.9591,2,  34.9506,4,    233.8,2,   234.4,2,    6.80,2,   13.53,2,    0.85,2,-999.000,9,-999.000,9,  -999.0,9,   7.7702,2,    25.00,   8.9286
29AH20120622,      OVIDE,      52,          1,         20,2,20120709,       0000,    54.2667,   -25.7271,       2449,   101.0,   9.7005,  35.0246,2,  34.9848,4,    239.8,2,   238.0,2,    5.67,2,   11.96,2,    0.75,2,-999.000,9,-999.000,9,  -999.0,9,   7.7905,2,    25.00,   9.6891
29AH20120622,      OVIDE,      52,          1,         21,2,20120709,       0000,    54.2667,   -25.7271,       2449,    50.6,  11.0518,  35.0770,2,  35.1033,4,    247.5,2,   239.0,4,    3.36,2,    8.73,2,    0.51,2,-999.000,9,-999.000,9,  -999.0,9,   7.8292,2,    25.00,  11.0456
29AH20120622,      OVIDE,      52,          1,         22,2,20120709,       0000,    54.2667,   -25.7271,       2449,     4.4,  13.9109,  35.0806,2,  35.0804,2,    268.5,2,   270.9,2,    0.38,2,    0.09,2,    0.01,2,   2.817,2,   1.673,2,  -999.0,9,   7.9941,2,    25.00,  13.9103
29AH20120622,      OVIDE,      52,          1,         23,2,20120709,       0000,    54.2667,   -25.7271,       2449,     4.4,  13.9096,  35.0803,2,  35.0806,2,    268.5,2,   271.0,2,    0.41,2,    0.14,2,    0.02,2,-999.000,9,-999.000,9,  -999.0,9,   7.9962,2,    25.00,  13.9090
29AH20120622,      OVIDE,      52,          1,         24,2,20120709,       0000,    54.2667,   -25.7271,       2449,     4.4,  13.9169,  35.0802,2,-999.0000,9,    268.5,2,  -999.0,9, -999.00,9, -999.00,9, -999.00,9,-999.000,9,-999.000,9,  -999.0,9,-999.0000,9,  -999.00,  13.9163