BOTTLE,20151116SIOCCHCBG
EXPOCODE,SECT_ID,STNNBR,CASTNO,BTLNBR,BTLNBR_FLAG_W,DATE,TIME,LATITUDE,LONGITUDE,DEPTH,CTDPRS,CTDTMP,CTDSAL,CTDSAL_FLAG_W,SALNTY,SALNTY_FLAG_W,CTDOXY,CTDOXY_FLAG_W,OXYGEN,OXYGEN_FLAG_W,SILCAT,SILCAT_FLAG_W,NITRAT,NITRAT_FLAG_W,PHSPHT,PHSPHT_FLAG_W,CFC-11,CFC-11_FLAG_W,CFC-12,CFC-12_FLAG_W,ALKALI,ALKALI_FLAG_W,PH_TOT,PH_TOT_FLAG_W,PH_TMP,THETA
,,,,,,,,,,METERS,DBAR,ITS-90,PSS-78,,PSS-78,,UMOL/KG,,UMOL/KG,,UMOL/KG,,UMOL/KG,,UMOL/KG,,PMOL/KG,,PMOL/KG,,UMOL/KG,,,,DEG C,DEG C
29AH20120622,      OVIDE,      69,          1,          1,2,20120713,       0000,    59.0405,   -33.1963,       2284,  2295.6,   3.2147,  34.9484,2,  34.9454,2,    274.2,2,   276.4,2,   13.06,2,   16.25,2,    1.07,2,-999.000,9,-999.000,9,  2310.1,2,   7.7302,2,    25.00,   3.0309
29AH20120622,      OVIDE,      69,          1,          2,2,20120713,       0000,    59.0405,   -33.1963,       2284,  2250.3,   3.2188,  34.9487,2,  34.9461,2,    274.2,2,   275.4,2,   12.75,2,   16.23,2,    1.07,2,-999.000,9,-999.000,9,  2310.1,2,   7.7293,2,    25.00,   3.0393
29AH20120622,      OVIDE,      69,          1,          3,2,20120713,       0000,    59.0405,   -33.1963,       2284,  2206.1,   3.2252,  34.9490,2,  34.9470,2,    274.1,2,   274.7,2,   12.69,2,   16.33,2,    1.07,2,-999.000,9,-999.000,9,  2309.7,2,   7.7287,2,    25.00,   3.0498
29AH20120622,      OVIDE,      69,          1,          4,2,20120713,       0000,    59.0405,   -33.1963,       2284,  1999.4,   3.3016,  34.9511,2,  34.9492,2,    273.9,2,   275.9,2,   12.16,2,   16.18,2,    1.06,2,-999.000,9,-999.000,9,  2308.8,2,   7.7291,2,    25.00,   3.1445
29AH20120622,      OVIDE,      69,          1,          5,2,20120713,       0000,    59.0405,   -33.1963,       2284,  1802.9,   3.4955,  34.9539,2,  34.9503,2,    273.4,2,   275.7,2,   11.49,2,   16.13,2,    1.06,2,-999.000,9,-999.000,9,  2308.3,2,   7.7277,2,    25.00,   3.3539
29AH20120622,      OVIDE,      69,          1,          6,2,20120713,       0000,    59.0405,   -33.1963,       2284,  1599.6,   3.6425,  34.9588,2,  34.9567,2,    272.1,2,   274.0,2,   11.16,2,   16.08,2,    1.06,2,-999.000,9,-999.000,9,  2307.9,2,   7.7247,2,    25.00,   3.5175
29AH20120622,      OVIDE,      69,          1,          7,2,20120713,       0000,    59.0405,   -33.1963,       2284,  1401.8,   3.7781,  34.9603,2,  34.9615,2,    271.3,2,   274.4,2,   10.78,2,   16.36,2,    1.07,2,-999.000,9,-999.000,9,  2308.0,2,   7.7247,2,    25.00,   3.6691
29AH20120622,      OVIDE,      69,          1,          8,2,20120713,       0000,    59.0405,   -33.1963,       2284,  1401.8,   3.7784,  34.9602,2,-999.0000,9,    271.3,2,  -999.0,9, -999.00,9, -999.00,9, -999.00,9,-999.000,9,-999.000,9,  -999.0,9,-999.0000,9,  -999.00,   3.6694
29AH20120622,      OVIDE,      69,          1,          9,2,20120713,       0000,    59.0405,   -33.1963,       2284,  1200.9,   3.8571,  34.9391,2,  34.9374,2,    273.2,2,   273.4,2,   10.52,2,   16.33,2,    1.08,2,-999.000,9,-999.000,9,  2305.9,2,   7.7221,2,    25.00,   3.7649
29AH20120622,      OVIDE,      69,          1,         10,2,20120713,       0000,    59.0405,   -33.1963,       2284,  1000.2,   3.9296,  34.9167,2,  34.9141,2,    287.1,2,   284.0,2,    9.33,2,   16.11,2,    1.07,2,-999.000,9,-999.000,9,  2305.8,2,   7.7212,2,    25.00,   3.8538
29AH20120622,      OVIDE,      69,          1,         11,2,20120713,       0000,    59.0405,   -33.1963,       2284,  1000.2,   3.9302,  34.9166,2,-999.0000,9,    287.1,2,  -999.0,9, -999.00,9, -999.00,9, -999.00,9,-999.000,9,-999.000,9,  -999.0,9,-999.0000,9,  -999.00,   3.8544
29AH20120622,      OVIDE,      69,          1,         12,2,20120713,       0000,    59.0405,   -33.1963,       2284,   900.8,   4.0036,  34.9197,2,  34.9158,2,    292.7,2,   292.7,2,    8.70,2,   16.00,2,    1.05,2,-999.000,9,-999.000,9,  -999.0,9,   7.7246,2,    25.00,   3.9355
29AH20120622,      OVIDE,      69,          1,         13,2,20120713,       0000,    59.0405,   -33.1963,       2284,   801.2,   4.0895,  34.9260,2,  34.9255,2,    289.6,2,   292.4,2,    8.68,2,   15.81,2,    1.05,2,-999.000,9,-999.000,9,  -999.0,9,   7.7254,2,    25.00,   4.0290
29AH20120622,      OVIDE,      69,          1,         14,2,20120713,       0000,    59.0405,   -33.1963,       2284,   700.5,   4.2536,  34.9399,2,  34.9382,2,    281.8,2,   281.0,2,    9.27,2,   16.40,2,    1.07,2,-999.000,9,-999.000,9,  2307.3,2,   7.7210,2,    25.00,   4.2003
29AH20120622,      OVIDE,      69,          1,         15,2,20120713,       0000,    59.0405,   -33.1963,       2284,   601.9,   4.5121,  34.9557,2,  34.9531,2,    277.9,2,   277.0,2,    9.17,2,   16.35,2,    1.08,2,-999.000,9,-999.000,9,  -999.0,9,   7.7217,2,    25.00,   4.4655
29AH20120622,      OVIDE,      69,          1,         16,2,20120713,       0000,    59.0405,   -33.1963,       2284,   501.1,   4.8467,  34.9749,2,  34.9725,2,    276.7,2,   277.3,2,    9.01,2,   16.41,2,    1.06,2,-999.000,9,-999.000,9,  2309.0,2,   7.7249,2,    25.00,   4.8070
29AH20120622,      OVIDE,      69,          1,         17,2,20120713,       0000,    59.0405,   -33.1963,       2284,   401.7,   5.2837,  34.9946,2,  34.9932,2,    266.9,2,   276.5,4,    8.73,2,   16.13,2,    1.06,2,-999.000,9,-999.000,9,  -999.0,9,   7.7283,2,    25.00,   5.2508
29AH20120622,      OVIDE,      69,          1,         18,2,20120713,       0000,    59.0405,   -33.1963,       2284,   300.7,   5.7005,  35.0077,2,  35.0079,2,    267.1,2,   267.2,2,    8.69,2,   16.17,2,    1.06,2,-999.000,9,-999.000,9,  2309.9,2,   7.7306,2,    25.00,   5.6751
29AH20120622,      OVIDE,      69,          1,         19,2,20120713,       0000,    59.0405,   -33.1963,       2284,   200.5,   6.1498,  35.0366,2,  35.0276,4,    277.3,2,   275.9,2,    7.85,2,   15.21,2,    1.00,2,-999.000,9,-999.000,9,  2313.6,2,   7.7435,2,    25.00,   6.1323
29AH20120622,      OVIDE,      69,          1,         20,2,20120713,       0000,    59.0405,   -33.1963,       2284,   150.5,   6.4290,  35.0543,2,  35.0620,4,    272.2,2,   276.4,2,    7.41,2,   14.77,2,    0.96,2,-999.000,9,-999.000,9,  2313.9,2,   7.7506,2,    25.00,   6.4156
29AH20120622,      OVIDE,      69,          1,         21,2,20120713,       0000,    59.0405,   -33.1963,       2284,   100.9,   6.5709,  35.0373,2,  35.0381,2,    281.3,2,   277.9,2,    6.99,2,   14.44,2,    0.94,2,-999.000,9,-999.000,9,  2314.4,2,   7.7553,2,    25.00,   6.5618
29AH20120622,      OVIDE,      69,          1,         22,2,20120713,       0000,    59.0405,   -33.1963,       2284,    20.8,   8.6417,  34.9179,2,  34.9147,2,    310.9,2,   316.6,3,    1.76,2,    7.31,2,    0.45,2,-999.000,9,-999.000,9,  -999.0,9,   7.8624,2,    25.00,   8.6395
29AH20120622,      OVIDE,      69,          1,         23,2,20120713,       0000,    59.0405,   -33.1963,       2284,     5.4,  11.9562,  34.8261,2,-999.0000,9,    286.0,2,  -999.0,9, -999.00,9, -999.00,9, -999.00,9,-999.000,9,-999.000,9,  -999.0,9,-999.0000,9,  -999.00,  11.9555
29AH20120622,      OVIDE,      69,          1,         24,2,20120713,       0000,    59.0405,   -33.1963,       2284,     5.4,  11.9405,  34.8261,2,  34.8262,2,    286.0,2,   290.9,3,    1.31,2,    4.97,2,    0.30,2,-999.000,9,-999.000,9,  2299.4,2,   7.9006,2,    25.00,  11.9398
29AH20120622,      OVIDE,      70,          1,          1,2,20120714,       0000,    59.1025,   -33.8262,       2276,  2296.4,   3.1378,  34.9489,2,  34.9475,2,    274.5,2,   275.0,2,   12.87,2,   16.08,2,    1.06,2,-999.000,9,-999.000,9,  -999.0,9,   7.7298,2,    25.00,   2.9552
29AH20120622,      OVIDE,      70,          1,          2,2,20120714,       0000,    59.1025,   -33.8262,       2276,  2250.5,   3.1338,  34.9489,2,  34.9473,2,    274.5,2,   274.1,2,   12.67,2,   16.03,2,    1.05,2,-999.000,9,-999.000,9,  -999.0,9,   7.7307,2,    25.00,   2.9557
29AH20120622,      OVIDE,      70,          1,          3,2,20120714,       0000,    59.1025,   -33.8262,       2276,  2200.7,   3.1320,  34.9491,2,  34.9483,2,    274.3,2,   275.4,2,   12.41,2,   16.07,2,    1.05,2,-999.000,9,-999.000,9,  -999.0,9,   7.7287,2,    25.00,   2.9586
29AH20120622,      OVIDE,      70,          1,          4,2,20120714,       0000,    59.1025,   -33.8262,       2276,  1999.9,   3.3555,  34.9647,2,  34.9492,4,    273.6,2,   274.0,2,   11.51,2,   15.84,2,    1.05,2,   2.957,2,   1.501,2,  -999.0,9,   7.7281,2,    25.00,   3.1975
29AH20120622,      OVIDE,      70,          1,          5,2,20120714,       0000,    59.1025,   -33.8262,       2276,  1801.2,   3.4603,  34.9652,2,  34.9650,2,    273.2,2,   273.8,2,   10.98,2,   15.89,2,    1.04,2,-999.000,9,-999.000,9,  -999.0,9,   7.7283,2,    25.00,   3.3193
29AH20120622,      OVIDE,      70,          1,          6,2,20120714,       0000,    59.1025,   -33.8262,       2276,  1600.0,   3.5637,  34.9564,2,  34.9531,2,    273.1,2,   272.8,2,   10.65,2,   16.03,2,    1.05,2,   3.124,2,   1.586,2,  -999.0,9,   7.7268,2,    25.00,   3.4396
29AH20120622,      OVIDE,      70,          1,          7,2,20120714,       0000,    59.1025,   -33.8262,       2276,  1399.7,   3.6378,  34.9470,2,  34.9453,2,    272.4,2,   273.2,2,   10.34,2,   15.98,2,    1.06,2,   3.235,2,   1.644,2,  -999.0,9,   7.7267,2,    25.00,   3.5305
29AH20120622,      OVIDE,      70,          1,          8,2,20120714,       0000,    59.1025,   -33.8262,       2276,  1399.7,   3.6379,  34.9470,2,-999.0000,9,    272.4,2,  -999.0,9, -999.00,9, -999.00,9, -999.00,9,-999.000,9,-999.000,9,  -999.0,9,-999.0000,9,  -999.00,   3.5306
29AH20120622,      OVIDE,      70,          1,          9,2,20120714,       0000,    59.1025,   -33.8262,       2276,  1200.6,   3.7904,  34.9384,2,  34.9398,2,    272.8,2,   273.2,2,    9.85,2,   16.12,2,    1.07,2,   3.460,2,   1.771,2,  -999.0,9,   7.7218,2,    25.00,   3.6988
29AH20120622,      OVIDE,      70,          1,         10,2,20120714,       0000,    59.1025,   -33.8262,       2276,  1000.1,   3.8180,  34.9148,2,  34.9132,2,    276.0,2,   275.4,2,    9.45,2,   16.26,2,    1.07,2,-999.000,9,-999.000,9,  -999.0,9,   7.7184,2,    25.00,   3.7430
29AH20120622,      OVIDE,      70,          1,         11,2,20120714,       0000,    59.1025,   -33.8262,       2276,   900.2,   3.9205,  34.9162,2,  34.9152,2,    278.7,2,   276.9,2,    9.16,2,   16.05,2,    1.08,2,   3.835,2,   2.006,2,  -999.0,9,   7.7190,2,    25.00,   3.8530
29AH20120622,      OVIDE,      70,          1,         12,2,20120714,       0000,    59.1025,   -33.8262,       2276,   900.2,   3.9205,  34.9162,2,-999.0000,9,    278.7,2,  -999.0,9, -999.00,9, -999.00,9, -999.00,9,-999.000,9,-999.000,9,  -999.0,9,-999.0000,9,  -999.00,   3.8530
29AH20120622,      OVIDE,      70,          1,         13,2,20120714,       0000,    59.1025,   -33.8262,       2276,   801.3,   4.0304,  34.9194,2,  34.9183,2,    283.9,2,   284.2,2,    8.70,2,   15.78,2,    1.06,2,-999.000,9,-999.000,9,  -999.0,9,   7.7225,2,    25.00,   3.9702
29AH20120622,      OVIDE,      70,          1,         14,2,20120714,       0000,    59.1025,   -33.8262,       2276,   700.6,   4.2845,  34.9409,2,  34.9376,2,    266.8,2,   269.1,2,    9.48,2,   16.63,2,    1.09,2,-999.000,9,-999.000,9,  -999.0,9,   7.7157,2,    25.00,   4.2310
29AH20120622,      OVIDE,      70,          1,         15,2,20120714,       0000,    59.1025,   -33.8262,       2276,   600.9,   4.4403,  34.9477,2,  34.9470,2,    266.6,2,   266.8,2,    9.45,2,   16.79,2,    1.09,2,-999.000,9,-999.000,9,  -999.0,9,   7.7133,2,    25.00,   4.3941
29AH20120622,      OVIDE,      70,          1,         16,2,20120714,       0000,    59.1025,   -33.8262,       2276,   501.3,   4.6961,  34.9573,2,  34.9555,2,    271.0,2,   273.5,2,    8.77,2,   16.31,2,    1.06,2,-999.000,9,-999.000,9,  -999.0,9,   7.7210,2,    25.00,   4.6570
29AH20120622,      OVIDE,      70,          1,         17,2,20120714,       0000,    59.1025,   -33.8262,       2276,   401.4,   5.0301,  34.9711,2,  34.9689,2,    266.5,2,   270.3,2,    8.70,2,   16.32,2,    1.06,2,-999.000,9,-999.000,9,  -999.0,9,   7.7218,2,    25.00,   4.9980
29AH20120622,      OVIDE,      70,          1,         18,2,20120714,       0000,    59.1025,   -33.8262,       2276,   300.5,   5.3463,  34.9801,2,  34.9783,2,    277.1,2,   280.1,2,    7.88,2,   15.62,2,    1.02,2,   3.905,2,   2.168,2,  -999.0,9,   7.7364,2,    25.00,   5.3218
29AH20120622,      OVIDE,      70,          1,         19,2,20120714,       0000,    59.1025,   -33.8262,       2276,   200.5,   5.7272,  34.9887,2,  34.9881,2,    279.5,2,   278.4,2,    7.67,2,   15.29,2,    1.00,2,-999.000,9,-999.000,9,  -999.0,9,   7.7410,2,    25.00,   5.7104
29AH20120622,      OVIDE,      70,          1,         20,2,20120714,       0000,    59.1025,   -33.8262,       2276,   150.3,   6.0693,  35.0190,2,  35.0168,2,    281.1,2,   277.3,3,    7.39,2,   15.10,2,    0.97,2,-999.000,9,-999.000,9,  -999.0,9,   7.7473,2,    25.00,   6.0563
29AH20120622,      OVIDE,      70,          1,         21,2,20120714,       0000,    59.1025,   -33.8262,       2276,   100.7,   6.1839,  34.9871,2,  34.9848,2,    281.8,2,   282.0,2,    7.15,2,   14.64,2,    0.91,2,-999.000,9,-999.000,9,  -999.0,9,   7.7508,2,    25.00,   6.1752
29AH20120622,      OVIDE,      70,          1,         22,2,20120714,       0000,    59.1025,   -33.8262,       2276,    33.3,   7.6511,  34.8705,2,  34.8706,2,    307.4,2,   302.3,3,    2.57,2,    9.10,2,    0.56,2,-999.000,9,-999.000,9,  -999.0,9,   7.8193,2,    25.00,   7.6479
29AH20120622,      OVIDE,      70,          1,         23,2,20120714,       0000,    59.1025,   -33.8262,       2276,     5.9,  12.1708,  34.8327,2,-999.0000,9,    285.0,2,  -999.0,9, -999.00,9, -999.00,9, -999.00,9,-999.000,9,-999.000,9,  -999.0,9,-999.0000,9,  -999.00,  12.1700
29AH20120622,      OVIDE,      70,          1,         24,2,20120714,       0000,    59.1025,   -33.8262,       2276,     5.8,  12.1772,  34.8331,2,  34.8379,4,    285.0,2,   282.9,2,    1.36,2,    5.52,2,    0.21,2,   3.299,2,   1.894,2,  -999.0,9,   7.8995,2,    25.00,  12.1764