BOTTLE,20151116SIOCCHCBG
EXPOCODE,SECT_ID,STNNBR,CASTNO,BTLNBR,BTLNBR_FLAG_W,DATE,TIME,LATITUDE,LONGITUDE,DEPTH,CTDPRS,CTDTMP,CTDSAL,CTDSAL_FLAG_W,SALNTY,SALNTY_FLAG_W,CTDOXY,CTDOXY_FLAG_W,OXYGEN,OXYGEN_FLAG_W,SILCAT,SILCAT_FLAG_W,NITRAT,NITRAT_FLAG_W,PHSPHT,PHSPHT_FLAG_W,CFC-11,CFC-11_FLAG_W,CFC-12,CFC-12_FLAG_W,ALKALI,ALKALI_FLAG_W,PH_TOT,PH_TOT_FLAG_W,PH_TMP,THETA
,,,,,,,,,,METERS,DBAR,ITS-90,PSS-78,,PSS-78,,UMOL/KG,,UMOL/KG,,UMOL/KG,,UMOL/KG,,UMOL/KG,,PMOL/KG,,PMOL/KG,,UMOL/KG,,,,DEG C,DEG C
29AH20120622,      OVIDE,      35,          1,          1,2,20120703,       0000,    47.2899,   -20.2614,       4514,  4585.1,   2.5525,  34.9080,2,  34.9086,2,    239.9,2,   241.4,2,   43.88,2,   21.96,2,    1.48,2,-999.000,9,-999.000,9,  2353.7,2,   7.7409,2,    25.00,   2.1331
29AH20120622,      OVIDE,      35,          1,          2,2,20120703,       0000,    47.2899,   -20.2614,       4514,  4002.4,   2.5473,  34.9145,2,  34.9144,2,    240.4,2,   240.9,2,   42.11,2,   22.03,2,    1.47,2,-999.000,9,-999.000,9,  2351.0,2,   7.7396,2,    25.00,   2.1973
29AH20120622,      OVIDE,      35,          1,          3,2,20120703,       0000,    47.2899,   -20.2614,       4514,  3502.2,   2.6289,  34.9269,2,  34.9279,2,    245.5,2,   246.3,2,   37.18,2,   20.72,2,    1.40,2,-999.000,9,-999.000,9,  2344.3,2,   7.7397,2,    25.00,   2.3329
29AH20120622,      OVIDE,      35,          1,          4,2,20120703,       0000,    47.2899,   -20.2614,       4514,  3247.5,   2.7374,  34.9374,2,  34.9415,2,    250.8,2,   251.4,2,   31.64,2,   19.88,2,    1.34,2,-999.000,9,-999.000,9,  2334.7,2,   7.7387,2,    25.00,   2.4662
29AH20120622,      OVIDE,      35,          1,          5,2,20120703,       0000,    47.2899,   -20.2614,       4514,  3000.6,   2.8650,  34.9445,2,  34.9456,2,    257.3,2,  -999.0,9,   26.28,2,   18.86,2,    1.28,2,-999.000,9,-999.000,9,  2328.1,2,   7.7371,2,    25.00,   2.6170
29AH20120622,      OVIDE,      35,          1,          6,2,20120703,       0000,    47.2899,   -20.2614,       4514,  2751.2,   2.9864,  34.9411,2,  34.9404,2,    263.9,2,   264.9,2,   20.43,2,   17.88,2,    1.18,2,-999.000,9,-999.000,9,  2312.8,2,   7.7360,2,    25.00,   2.7616
29AH20120622,      OVIDE,      35,          1,          7,2,20120703,       0000,    47.2899,   -20.2614,       4514,  2499.7,   3.1461,  34.9329,2,  34.9334,2,    270.0,2,   270.5,2,   16.22,2,   17.32,2,    1.15,2,-999.000,9,-999.000,9,  2314.2,2,   7.7370,2,    25.00,   2.9435
29AH20120622,      OVIDE,      35,          1,          8,2,20120703,       0000,    47.2899,   -20.2614,       4514,  2250.5,   3.2627,  34.9189,2,  34.9198,2,    274.5,2,   273.2,2,   13.52,2,   17.19,2,    1.11,2,-999.000,9,-999.000,9,  2306.9,2,   7.7337,2,    25.00,   3.0825
29AH20120622,      OVIDE,      35,          1,          9,2,20120703,       0000,    47.2899,   -20.2614,       4514,  2001.9,   3.4416,  34.9151,2,  34.9188,2,    273.5,2,   273.4,2,   12.27,2,   17.13,2,    1.12,2,-999.000,9,-999.000,9,  2306.0,2,   7.7248,2,    25.00,   3.2823
29AH20120622,      OVIDE,      35,          1,         10,2,20120703,       0000,    47.2899,   -20.2614,       4514,  1799.4,   3.6368,  34.9190,2,  34.9204,2,    271.9,2,   272.6,2,   11.65,2,   17.21,2,    1.12,2,-999.000,9,-999.000,9,  2304.3,2,   7.7263,2,    25.00,   3.4937
29AH20120622,      OVIDE,      35,          1,         11,2,20120703,       0000,    47.2899,   -20.2614,       4514,  1600.8,   3.8919,  34.9366,2,  34.9428,4,    269.2,2,   267.8,2,   10.87,2,   17.18,2,    1.13,2,-999.000,9,-999.000,9,  2306.3,2,   7.7232,2,    25.00,   3.7638
29AH20120622,      OVIDE,      35,          1,         12,2,20120703,       0000,    47.2899,   -20.2614,       4514,  1399.9,   4.2978,  34.9772,2,  34.9789,2,    261.8,2,  -999.0,9,   11.03,2,   17.46,2,    1.13,2,-999.000,9,-999.000,9,  2307.9,2,   7.7218,2,    25.00,   4.1835
29AH20120622,      OVIDE,      35,          1,         13,2,20120703,       0000,    47.2899,   -20.2614,       4514,  1201.7,   5.0781,  35.0696,2,  35.0713,2,    246.6,2,   246.4,2,   10.94,2,   17.65,2,    1.15,2,-999.000,9,-999.000,9,  2314.6,2,   7.7224,2,    25.00,   4.9744
29AH20120622,      OVIDE,      35,          1,         14,2,20120703,       0000,    47.2899,   -20.2614,       4514,  1001.4,   5.9652,  35.1520,2,  35.1536,2,    231.0,2,   230.8,2,   10.94,2,   18.22,2,    1.16,2,-999.000,9,-999.000,9,  2320.6,2,   7.7224,2,    25.00,   5.8734
29AH20120622,      OVIDE,      35,          1,         15,2,20120703,       0000,    47.2899,   -20.2614,       4514,   900.1,   6.6822,  35.2104,2,  35.2107,2,    216.0,2,   217.7,2,   11.04,2,   18.46,2,    1.15,2,-999.000,9,-999.000,9,  2323.9,2,   7.7225,2,    25.00,   6.5954
29AH20120622,      OVIDE,      35,          1,         16,2,20120703,       0000,    47.2899,   -20.2614,       4514,   799.5,   7.1790,  35.2089,2,  35.2066,2,    205.1,2,   206.1,2,   11.09,2,   18.83,2,    1.19,2,-999.000,9,-999.000,9,  2323.5,2,   7.7181,2,    25.00,   7.0995
29AH20120622,      OVIDE,      35,          1,         17,2,20120703,       0000,    47.2899,   -20.2614,       4514,   599.7,   9.2839,  35.3126,2,  35.3117,2,    186.5,2,   188.9,2,    9.43,2,   18.11,2,    1.09,2,-999.000,9,-999.000,9,  2327.0,2,   7.7396,2,    25.00,   9.2157
29AH20120622,      OVIDE,      35,          1,         18,2,20120703,       0000,    47.2899,   -20.2614,       4514,   500.1,   9.8865,  35.3198,2,  35.3191,2,    205.9,2,   197.4,3,    8.31,2,   16.60,2,    0.98,2,-999.000,9,-999.000,9,  2325.5,2,   7.7593,2,    25.00,   9.8277
29AH20120622,      OVIDE,      35,          1,         19,2,20120703,       0000,    47.2899,   -20.2614,       4514,   401.9,  10.9227,  35.4432,2,  35.4419,2,    213.3,2,   216.8,2,    5.97,2,   13.42,2,    0.73,2,-999.000,9,-999.000,9,  2330.8,2,   7.8031,2,    25.00,  10.8726
29AH20120622,      OVIDE,      35,          1,         20,2,20120703,       0000,    47.2899,   -20.2614,       4514,   300.0,  11.4389,  35.5123,2,  35.5113,2,    225.4,2,   229.2,2,    4.76,2,   11.40,2,    0.59,2,-999.000,9,-999.000,9,  2335.4,2,   7.8284,2,    25.00,  11.4006
29AH20120622,      OVIDE,      35,          1,         21,2,20120703,       0000,    47.2899,   -20.2614,       4514,   199.6,  11.9791,  35.5712,2,  35.5729,2,    242.0,2,   232.7,3,    3.94,2,   10.07,2,    0.45,2,-999.000,9,-999.000,9,  2337.2,2,   7.8468,2,    25.00,  11.9529
29AH20120622,      OVIDE,      35,          1,         22,2,20120703,       0000,    47.2899,   -20.2614,       4514,    99.6,  12.9329,  35.7075,2,  35.7089,2,    242.6,2,   243.0,2,    2.53,2,    6.77,2,    0.18,2,-999.000,9,-999.000,9,  2348.9,2,   7.8855,2,    25.00,  12.9192
29AH20120622,      OVIDE,      35,          1,         23,2,20120703,       0000,    47.2899,   -20.2614,       4514,    22.0,  15.3921,  35.5524,2,  35.5501,2,    249.3,2,   249.8,2,    0.66,2,    0.24,2,    0.00,2,-999.000,9,-999.000,9,  2341.9,2,   7.9828,2,    25.00,  15.3887
29AH20120622,      OVIDE,      35,          1,         24,2,20120703,       0000,    47.2899,   -20.2614,       4514,     5.0,  15.5380,  35.5461,2,  35.5464,2,    249.4,2,   251.6,2,    0.61,3,    0.00,2,    0.00,2,-999.000,9,-999.000,9,  2340.9,2,   7.9896,2,    25.00,  15.5372
29AH20120622,      OVIDE,      36,          1,          1,2,20120703,       0000,    47.6653,   -20.5532,       4352,  4419.3,   2.5296,  34.9077,2,  34.9094,2,    239.8,2,   239.0,2,   43.25,2,   22.14,2,    1.49,2,   0.051,2,   0.030,2,  -999.0,9,   7.7441,2,    25.00,   2.1310
29AH20120622,      OVIDE,      36,          1,          2,2,20120703,       0000,    47.6653,   -20.5532,       4352,  3998.2,   2.5189,  34.9118,2,  34.9192,4,    239.5,2,   238.7,2,   42.38,2,   21.78,2,    1.48,2,   0.085,2,   0.045,2,  -999.0,9,   7.7422,2,    25.00,   2.1702
29AH20120622,      OVIDE,      36,          1,          3,2,20120703,       0000,    47.6653,   -20.5532,       4352,  3750.0,   2.5426,  34.9167,2,  34.9169,2,    240.9,2,   241.0,2,   40.43,2,   21.88,2,    1.46,2,-999.000,9,-999.000,9,  -999.0,9,   7.7407,2,    25.00,   2.2214
29AH20120622,      OVIDE,      36,          1,          4,2,20120703,       0000,    47.6653,   -20.5532,       4352,  3499.3,   2.5946,  34.9240,2,  34.9273,2,    243.2,2,   243.0,2,   38.17,2,   21.11,2,    1.40,2,   0.225,2,   0.117,2,  -999.0,9,   7.7410,2,    25.00,   2.2998
29AH20120622,      OVIDE,      36,          1,          5,2,20120703,       0000,    47.6653,   -20.5532,       4352,  3000.3,   2.8091,  34.9425,2,  34.9449,2,    252.8,2,   252.5,2,   28.56,2,   19.44,2,    1.29,2,-999.000,9,-999.000,9,  -999.0,9,   7.7401,2,    25.00,   2.5624
29AH20120622,      OVIDE,      36,          1,          6,2,20120703,       0000,    47.6653,   -20.5532,       4352,  2750.2,   2.9579,  34.9454,2,  34.9532,4,    260.1,2,   259.3,2,   22.14,2,   18.27,2,    1.19,2,-999.000,9,-999.000,9,  -999.0,9,   7.7387,2,    25.00,   2.7337
29AH20120622,      OVIDE,      36,          1,          7,2,20120703,       0000,    47.6653,   -20.5532,       4352,  2495.6,   3.1355,  34.9374,2,-999.0000,9,    265.6,2,  -999.0,9,   17.56,3,   17.85,3,    1.16,3,   2.653,4,   1.543,4,  -999.0,9,-999.0000,9,  -999.00,   2.9335
29AH20120622,      OVIDE,      36,          1,          8,2,20120703,       0000,    47.6653,   -20.5532,       4352,  2249.3,   3.2952,  34.9235,2,  34.9240,2,    271.9,2,   270.8,2,   13.83,2,   17.42,2,    1.13,2,-999.000,9,-999.000,9,  -999.0,9,   7.7333,2,    25.00,   3.1146
29AH20120622,      OVIDE,      36,          1,          9,2,20120703,       0000,    47.6653,   -20.5532,       4352,  2000.0,   3.4947,  34.9213,2,  34.9259,2,    271.6,2,   270.8,2,   12.32,2,   17.14,2,    1.12,2,   2.702,2,   1.351,2,  -999.0,9,   7.7290,2,    25.00,   3.3348
29AH20120622,      OVIDE,      36,          1,         10,2,20120703,       0000,    47.6653,   -20.5532,       4352,  1798.9,   3.7391,  34.9286,2,  34.9296,2,    269.8,2,   269.1,2,   11.42,2,   17.37,2,    1.10,2,   2.988,2,   1.512,2,  -999.0,9,   7.7250,2,    25.00,   3.5946
29AH20120622,      OVIDE,      36,          1,         11,2,20120703,       0000,    47.6653,   -20.5532,       4352,  1600.1,   3.9751,  34.9386,2,  34.9405,2,    267.7,2,   266.8,2,   10.75,2,   17.13,2,    1.13,2,-999.000,9,-999.000,9,  -999.0,9,   7.7205,2,    25.00,   3.8461
29AH20120622,      OVIDE,      36,          1,         12,2,20120703,       0000,    47.6653,   -20.5532,       4352,  1399.3,   4.5540,  35.0014,2,  35.0036,2,    255.2,2,   257.0,2,   10.58,2,   17.51,2,    1.12,2,   3.170,2,   1.657,2,  -999.0,9,   7.7170,2,    25.00,   4.4370
29AH20120622,      OVIDE,      36,          1,         13,2,20120703,       0000,    47.6653,   -20.5532,       4352,  1200.5,   5.4955,  35.1151,2,  35.1167,2,    235.7,2,   238.5,2,   10.65,2,   17.65,2,    1.14,2,   2.760,2,   1.467,2,  -999.0,9,   7.7191,2,    25.00,   5.3881
29AH20120622,      OVIDE,      36,          1,         14,2,20120703,       0000,    47.6653,   -20.5532,       4352,  1000.6,   7.4852,  35.3708,2,  35.3748,2,    207.6,2,   207.4,2,   10.45,2,   18.09,2,    1.16,2,   2.245,2,   1.210,2,  -999.0,9,   7.7328,2,    25.00,   7.3819
29AH20120622,      OVIDE,      36,          1,         15,2,20120703,       0000,    47.6653,   -20.5532,       4352,   899.1,   8.1518,  35.4082,2,  35.4093,2,    195.6,2,   198.3,2,   10.16,2,   18.15,2,    1.13,2,-999.000,9,-999.000,9,  -999.0,9,   7.7331,2,    25.00,   8.0552
29AH20120622,      OVIDE,      36,          1,         16,2,20120703,       0000,    47.6653,   -20.5532,       4352,   798.8,   8.8656,  35.4377,2,  35.4406,2,    191.3,2,   190.8,2,    9.74,2,   18.13,2,    1.11,2,   2.160,2,   1.254,2,  -999.0,9,   7.7390,2,    25.00,   8.7761
29AH20120622,      OVIDE,      36,          1,         17,2,20120703,       0000,    47.6653,   -20.5532,       4352,   600.0,  10.0585,  35.3946,2,  35.3939,2,    200.4,2,   200.0,2,    7.39,2,   15.97,2,    0.96,2,-999.000,9,-999.000,9,  -999.0,9,   7.7644,2,    25.00,   9.9869
29AH20120622,      OVIDE,      36,          1,         18,2,20120703,       0000,    47.6653,   -20.5532,       4352,   501.5,  10.9440,  35.5044,2,  35.5045,2,    221.7,2,   234.8,3,    4.51,2,   11.46,2,    0.66,2,   2.846,2,   1.674,2,  -999.0,9,   7.8178,2,    25.00,  10.8811
29AH20120622,      OVIDE,      36,          1,         19,2,20120703,       0000,    47.6653,   -20.5532,       4352,   400.8,  11.2093,  35.5230,2,  35.5250,2,    240.4,2,   239.5,2,    3.98,2,   10.65,2,    0.61,3,-999.000,9,-999.000,9,  -999.0,9,   7.8284,2,    25.00,  11.1585
29AH20120622,      OVIDE,      36,          1,         20,2,20120703,       0000,    47.6653,   -20.5532,       4352,   301.1,  11.6119,  35.5647,2,  35.5693,2,    239.4,2,   246.1,4,    3.31,2,    9.41,2,    0.51,2,-999.000,9,-999.000,9,  -999.0,9,   7.8498,2,    25.00,  11.5730
29AH20120622,      OVIDE,      36,          1,         21,2,20120703,       0000,    47.6653,   -20.5532,       4352,   200.5,  12.0340,  35.6110,2,  35.6111,2,    240.5,2,   239.2,2,    3.27,2,    9.16,2,    0.48,2,   2.789,2,   1.667,2,  -999.0,9,   7.8530,2,    25.00,  12.0076
29AH20120622,      OVIDE,      36,          1,         22,2,20120703,       0000,    47.6653,   -20.5532,       4352,    99.9,  12.6444,  35.6541,2,  35.6528,2,    239.0,2,   243.0,2,    2.67,2,    7.42,2,    0.36,2,-999.000,9,-999.000,9,  -999.0,9,   7.8770,2,    25.00,  12.6309
29AH20120622,      OVIDE,      36,          1,         23,2,20120703,       0000,    47.6653,   -20.5532,       4352,    31.0,  14.8552,  35.5680,2,  35.5669,2,    250.8,2,   247.2,2,    0.80,2,    0.90,2,    0.01,2,-999.000,9,-999.000,9,  -999.0,9,   7.9655,2,    25.00,  14.8505
29AH20120622,      OVIDE,      36,          1,         24,2,20120703,       0000,    47.6653,   -20.5532,       4352,     8.0,  15.3548,  35.5016,2,  35.5035,2,    253.5,2,   254.4,2,    0.53,2,    0.02,2,    0.01,2,   2.589,2,   1.588,2,  -999.0,9,   7.9930,2,    25.00,  15.3536