BOTTLE,20151116SIOCCHCBG
EXPOCODE,SECT_ID,STNNBR,CASTNO,BTLNBR,BTLNBR_FLAG_W,DATE,TIME,LATITUDE,LONGITUDE,DEPTH,CTDPRS,CTDTMP,CTDSAL,CTDSAL_FLAG_W,SALNTY,SALNTY_FLAG_W,CTDOXY,CTDOXY_FLAG_W,OXYGEN,OXYGEN_FLAG_W,SILCAT,SILCAT_FLAG_W,NITRAT,NITRAT_FLAG_W,PHSPHT,PHSPHT_FLAG_W,CFC-11,CFC-11_FLAG_W,CFC-12,CFC-12_FLAG_W,ALKALI,ALKALI_FLAG_W,PH_TOT,PH_TOT_FLAG_W,PH_TMP,THETA
,,,,,,,,,,METERS,DBAR,ITS-90,PSS-78,,PSS-78,,UMOL/KG,,UMOL/KG,,UMOL/KG,,UMOL/KG,,UMOL/KG,,PMOL/KG,,PMOL/KG,,UMOL/KG,,,,DEG C,DEG C
29AH20120622,      OVIDE,      87,          1,          1,2,20120717,       0000,    59.8177,   -42.3125,        539,   575.9,   4.9131,  34.9777,2,  34.9753,2,    281.8,2,   283.6,2,    7.93,2,   15.24,2,    0.91,2,-999.000,9,-999.000,9,  2308.7,2,   7.7426,2,    25.00,   4.8668
29AH20120622,      OVIDE,      87,          1,          2,2,20120717,       0000,    59.8177,   -42.3125,        539,   400.2,   4.9809,  34.9736,2,  34.9720,2,    283.2,2,   286.1,2,    7.67,2,   15.06,2,    0.94,2,-999.000,9,-999.000,9,  2307.7,2,   7.7412,2,    25.00,   4.9491
29AH20120622,      OVIDE,      87,          1,          3,2,20120717,       0000,    59.8177,   -42.3125,        539,   299.9,   5.0698,  34.9794,2,  34.9789,2,    283.1,2,   285.7,2,    7.62,2,   14.99,2,    0.97,2,-999.000,9,-999.000,9,  -999.0,9,   7.7428,2,    25.00,   5.0459
29AH20120622,      OVIDE,      87,          1,          4,2,20120717,       0000,    59.8177,   -42.3125,        539,   200.5,   4.8669,  34.8965,2,  34.8942,2,    289.3,2,   290.8,2,    6.55,2,   14.04,2,    0.90,2,-999.000,9,-999.000,9,  2303.4,2,   7.7498,2,    25.00,   4.8514
29AH20120622,      OVIDE,      87,          1,          5,2,20120717,       0000,    59.8177,   -42.3125,        539,   150.2,   3.5421,  34.6245,2,  34.6209,2,    306.3,2,   304.5,2,    5.93,2,   12.30,2,    0.81,2,-999.000,9,-999.000,9,  -999.0,9,   7.7495,2,    25.00,   3.5322
29AH20120622,      OVIDE,      87,          1,          6,2,20120717,       0000,    59.8177,   -42.3125,        539,    96.7,   1.8421,  34.2665,2,  34.2712,2,    317.9,2,  -999.0,9,    5.72,2,   10.68,2,    0.73,2,-999.000,9,-999.000,9,  2274.4,2,   7.7421,2,    25.00,   1.8372
29AH20120622,      OVIDE,      87,          1,          7,2,20120717,       0000,    59.8177,   -42.3125,        539,    41.0,   1.4357,  33.7500,2,  33.7300,4,    339.6,2,   347.6,3,    2.03,2,    4.46,2,    0.38,2,-999.000,9,-999.000,9,  -999.0,9,   7.8144,2,    25.00,   1.4338
29AH20120622,      OVIDE,      87,          1,          8,2,20120717,       0000,    59.8177,   -42.3125,        539,     6.8,   1.0590,  32.6484,2,-999.0000,9,    381.2,2,  -999.0,9, -999.00,9, -999.00,9, -999.00,9,-999.000,9,-999.000,9,  -999.0,9,-999.0000,9,  -999.00,   1.0587
29AH20120622,      OVIDE,      87,          1,          9,2,20120717,       0000,    59.8177,   -42.3125,        539,     6.8,   0.9257,  32.6786,2,-999.0000,9,    381.2,2,  -999.0,9, -999.00,9, -999.00,9, -999.00,9,-999.000,9,-999.000,9,  -999.0,9,-999.0000,9,  -999.00,   0.9254
29AH20120622,      OVIDE,      87,          1,         10,2,20120717,       0000,    59.8177,   -42.3125,        539,     6.8,   0.7836,  32.6956,2,-999.0000,9,    381.2,2,  -999.0,9, -999.00,9, -999.00,9, -999.00,9,-999.000,9,-999.000,9,  -999.0,9,-999.0000,9,  -999.00,   0.7833
29AH20120622,      OVIDE,      87,          1,         11,2,20120717,       0000,    59.8177,   -42.3125,        539,     6.7,   0.6653,  32.7009,2,-999.0000,9,    381.5,2,  -999.0,9, -999.00,9, -999.00,9, -999.00,9,-999.000,9,-999.000,9,  -999.0,9,-999.0000,9,  -999.00,   0.6651
29AH20120622,      OVIDE,      87,          1,         12,2,20120717,       0000,    59.8177,   -42.3125,        539,     6.8,   0.6164,  32.6975,2,-999.0000,9,    381.2,2,  -999.0,9, -999.00,9, -999.00,9, -999.00,9,-999.000,9,-999.000,9,  -999.0,9,-999.0000,9,  -999.00,   0.6161
29AH20120622,      OVIDE,      87,          1,         13,2,20120717,       0000,    59.8177,   -42.3125,        539,     6.7,   0.6969,  32.6766,2,-999.0000,9,    381.5,2,  -999.0,9, -999.00,9, -999.00,9, -999.00,9,-999.000,9,-999.000,9,  -999.0,9,-999.0000,9,  -999.00,   0.6966
29AH20120622,      OVIDE,      87,          1,         14,2,20120717,       0000,    59.8177,   -42.3125,        539,     6.7,   0.7082,  32.6723,2,-999.0000,9,    381.5,2,  -999.0,9, -999.00,9, -999.00,9, -999.00,9,-999.000,9,-999.000,9,  -999.0,9,-999.0000,9,  -999.00,   0.7079
29AH20120622,      OVIDE,      87,          1,         15,2,20120717,       0000,    59.8177,   -42.3125,        539,     6.7,   0.7044,  32.6691,2,-999.0000,9,    381.5,2,  -999.0,9, -999.00,9, -999.00,9, -999.00,9,-999.000,9,-999.000,9,  -999.0,9,-999.0000,9,  -999.00,   0.7041
29AH20120622,      OVIDE,      87,          1,         16,2,20120717,       0000,    59.8177,   -42.3125,        539,     6.6,   0.7007,  32.6746,2,-999.0000,9,    381.7,2,  -999.0,9, -999.00,9, -999.00,9, -999.00,9,-999.000,9,-999.000,9,  -999.0,9,-999.0000,9,  -999.00,   0.7005
29AH20120622,      OVIDE,      87,          1,         17,2,20120717,       0000,    59.8177,   -42.3125,        539,     6.7,   0.6920,  32.6822,2,-999.0000,9,    381.5,2,  -999.0,9, -999.00,9, -999.00,9, -999.00,9,-999.000,9,-999.000,9,  -999.0,9,-999.0000,9,  -999.00,   0.6917
29AH20120622,      OVIDE,      87,          1,         18,2,20120717,       0000,    59.8177,   -42.3125,        539,     6.7,   0.7873,  32.6774,2,-999.0000,9,    381.5,2,  -999.0,9, -999.00,9, -999.00,9, -999.00,9,-999.000,9,-999.000,9,  -999.0,9,-999.0000,9,  -999.00,   0.7870
29AH20120622,      OVIDE,      87,          1,         19,2,20120717,       0000,    59.8177,   -42.3125,        539,     6.7,   0.8417,  32.6808,2,-999.0000,9,    381.5,2,  -999.0,9, -999.00,9, -999.00,9, -999.00,9,-999.000,9,-999.000,9,  -999.0,9,-999.0000,9,  -999.00,   0.8414
29AH20120622,      OVIDE,      87,          1,         20,2,20120717,       0000,    59.8177,   -42.3125,        539,     6.7,   0.8984,  32.6797,2,-999.0000,9,    381.5,2,  -999.0,9, -999.00,9, -999.00,9, -999.00,9,-999.000,9,-999.000,9,  -999.0,9,-999.0000,9,  -999.00,   0.8981
29AH20120622,      OVIDE,      87,          1,         21,2,20120717,       0000,    59.8177,   -42.3125,        539,     6.7,   0.9675,  32.6826,2,-999.0000,9,    381.5,2,  -999.0,9, -999.00,9, -999.00,9, -999.00,9,-999.000,9,-999.000,9,  -999.0,9,-999.0000,9,  -999.00,   0.9672
29AH20120622,      OVIDE,      87,          1,         22,2,20120717,       0000,    59.8177,   -42.3125,        539,     6.8,   0.9506,  32.6900,2,-999.0000,9,    381.2,2,  -999.0,9, -999.00,9, -999.00,9, -999.00,9,-999.000,9,-999.000,9,  -999.0,9,-999.0000,9,  -999.00,   0.9503
29AH20120622,      OVIDE,      87,          1,         23,2,20120717,       0000,    59.8177,   -42.3125,        539,     6.7,   0.8389,  32.6920,2,  32.6842,4,    381.5,2,   391.0,3,    0.36,2,    0.21,2,    0.16,2,-999.000,9,-999.000,9,  2207.4,2,   7.8494,2,    25.00,   0.8386
29AH20120622,      OVIDE,      87,          1,         24,2,20120717,       0000,    59.8177,   -42.3125,        539,     6.7,   0.7051,  32.6968,2,-999.0000,9,    381.5,2,  -999.0,9, -999.00,9, -999.00,9, -999.00,9,-999.000,9,-999.000,9,  -999.0,9,-999.0000,9,  -999.00,   0.7048
29AH20120622,      OVIDE,      88,          1,          1,2,20120717,       0000,    59.8228,   -42.3987,        306,   293.9,   4.9097,  34.9029,2,  34.8963,4,    289.6,2,   291.6,2,    6.74,2,   13.94,2,    0.82,2,-999.000,9,-999.000,9,  -999.0,9,   7.7503,2,    25.00,   4.8867
29AH20120622,      OVIDE,      88,          1,          2,2,20120717,       0000,    59.8228,   -42.3987,        306,   200.3,   3.4732,  34.6064,2,  34.6019,2,    304.6,2,   303.7,2,    6.09,2,   12.29,2,    0.78,2,   4.559,6,   2.573,6,  -999.0,9,   7.7482,2,    25.00,   3.4601
29AH20120622,      OVIDE,      88,          1,          3,2,20120717,       0000,    59.8228,   -42.3987,        306,   150.0,   2.3072,  34.3382,2,  34.3407,2,    315.2,2,   315.5,2,    5.56,2,   10.52,2,    0.72,2,-999.000,9,-999.000,9,  -999.0,9,   7.7377,2,    25.00,   2.2989
29AH20120622,      OVIDE,      88,          1,          4,2,20120717,       0000,    59.8228,   -42.3987,        306,   100.2,   1.9670,  34.2010,2,  34.2208,4,    314.0,2,   319.1,2,    4.98,2,    9.58,2,    0.65,2,-999.000,9,-999.000,9,  -999.0,9,   7.7571,2,    25.00,   1.9618
29AH20120622,      OVIDE,      88,          1,          5,2,20120717,       0000,    59.8228,   -42.3987,        306,    51.1,   0.0311,  33.7483,2,  33.7225,4,    344.3,2,   340.7,2,    3.92,2,    7.18,2,    0.49,2,-999.000,9,-999.000,9,  -999.0,9,   7.7406,2,    25.00,   0.0294
29AH20120622,      OVIDE,      88,          1,          6,2,20120717,       0000,    59.8228,   -42.3987,        306,     5.5,   2.1245,  32.1646,2,-999.0000,9,    409.8,2,  -999.0,9, -999.00,9, -999.00,9, -999.00,9,-999.000,9,-999.000,9,  -999.0,9,-999.0000,9,  -999.00,   2.1242
29AH20120622,      OVIDE,      88,          1,          7,2,20120717,       0000,    59.8228,   -42.3987,        306,     5.6,   2.1381,  32.1650,2,-999.0000,9,    409.9,2,  -999.0,9, -999.00,9, -999.00,9, -999.00,9,-999.000,9,-999.000,9,  -999.0,9,-999.0000,9,  -999.00,   2.1378
29AH20120622,      OVIDE,      88,          1,          8,2,20120717,       0000,    59.8228,   -42.3987,        306,     5.6,   2.1179,  32.1663,2,-999.0000,9,    409.9,2,  -999.0,9, -999.00,9, -999.00,9, -999.00,9,-999.000,9,-999.000,9,  -999.0,9,-999.0000,9,  -999.00,   2.1176
29AH20120622,      OVIDE,      88,          1,          9,2,20120717,       0000,    59.8228,   -42.3987,        306,     5.7,   2.1151,  32.1667,2,-999.0000,9,    410.0,2,  -999.0,9, -999.00,9, -999.00,9, -999.00,9,-999.000,9,-999.000,9,  -999.0,9,-999.0000,9,  -999.00,   2.1148
29AH20120622,      OVIDE,      88,          1,         10,2,20120717,       0000,    59.8228,   -42.3987,        306,     5.6,   2.1486,  32.1654,2,-999.0000,9,    409.9,2,  -999.0,9, -999.00,9, -999.00,9, -999.00,9,-999.000,9,-999.000,9,  -999.0,9,-999.0000,9,  -999.00,   2.1483
29AH20120622,      OVIDE,      88,          1,         11,2,20120717,       0000,    59.8228,   -42.3987,        306,     5.6,   2.1509,  32.1658,2,-999.0000,9,    409.9,2,  -999.0,9, -999.00,9, -999.00,9, -999.00,9,-999.000,9,-999.000,9,  -999.0,9,-999.0000,9,  -999.00,   2.1506
29AH20120622,      OVIDE,      88,          1,         12,2,20120717,       0000,    59.8228,   -42.3987,        306,     5.6,   2.1437,  32.1667,2,-999.0000,9,    409.9,2,  -999.0,9, -999.00,9, -999.00,9, -999.00,9,-999.000,9,-999.000,9,  -999.0,9,-999.0000,9,  -999.00,   2.1434
29AH20120622,      OVIDE,      88,          1,         13,2,20120717,       0000,    59.8228,   -42.3987,        306,     5.6,   2.1327,  32.1672,2,-999.0000,9,    409.9,2,  -999.0,9, -999.00,9, -999.00,9, -999.00,9,-999.000,9,-999.000,9,  -999.0,9,-999.0000,9,  -999.00,   2.1324
29AH20120622,      OVIDE,      88,          1,         14,2,20120717,       0000,    59.8228,   -42.3987,        306,     5.7,   2.1378,  32.1673,2,-999.0000,9,    410.0,2,  -999.0,9, -999.00,9, -999.00,9, -999.00,9,-999.000,9,-999.000,9,  -999.0,9,-999.0000,9,  -999.00,   2.1375
29AH20120622,      OVIDE,      88,          1,         15,2,20120717,       0000,    59.8228,   -42.3987,        306,     5.6,   2.1343,  32.1680,2,-999.0000,9,    409.9,2,  -999.0,9, -999.00,9, -999.00,9, -999.00,9,-999.000,9,-999.000,9,  -999.0,9,-999.0000,9,  -999.00,   2.1340
29AH20120622,      OVIDE,      88,          1,         16,2,20120717,       0000,    59.8228,   -42.3987,        306,     5.6,   2.1433,  32.1678,2,-999.0000,9,    409.9,2,  -999.0,9, -999.00,9, -999.00,9, -999.00,9,-999.000,9,-999.000,9,  -999.0,9,-999.0000,9,  -999.00,   2.1430
29AH20120622,      OVIDE,      88,          1,         17,2,20120717,       0000,    59.8228,   -42.3987,        306,     5.6,   2.1538,  32.1678,2,-999.0000,9,    409.9,2,  -999.0,9, -999.00,9, -999.00,9, -999.00,9,-999.000,9,-999.000,9,  -999.0,9,-999.0000,9,  -999.00,   2.1535
29AH20120622,      OVIDE,      88,          1,         18,2,20120717,       0000,    59.8228,   -42.3987,        306,     5.6,   2.1698,  32.1673,2,-999.0000,9,    409.9,2,  -999.0,9, -999.00,9, -999.00,9, -999.00,9,-999.000,9,-999.000,9,  -999.0,9,-999.0000,9,  -999.00,   2.1695
29AH20120622,      OVIDE,      88,          1,         19,2,20120717,       0000,    59.8228,   -42.3987,        306,     5.6,   2.1763,  32.1674,2,-999.0000,9,    409.9,2,  -999.0,9, -999.00,9, -999.00,9, -999.00,9,-999.000,9,-999.000,9,  -999.0,9,-999.0000,9,  -999.00,   2.1760
29AH20120622,      OVIDE,      88,          1,         20,2,20120717,       0000,    59.8228,   -42.3987,        306,     5.6,   2.1905,  32.1671,2,-999.0000,9,    409.9,2,  -999.0,9, -999.00,9, -999.00,9, -999.00,9,-999.000,9,-999.000,9,  -999.0,9,-999.0000,9,  -999.00,   2.1902
29AH20120622,      OVIDE,      88,          1,         21,2,20120717,       0000,    59.8228,   -42.3987,        306,     5.7,   2.2059,  32.1669,2,-999.0000,9,    410.0,2,  -999.0,9, -999.00,9, -999.00,9, -999.00,9,-999.000,9,-999.000,9,  -999.0,9,-999.0000,9,  -999.00,   2.2056
29AH20120622,      OVIDE,      88,          1,         22,2,20120717,       0000,    59.8228,   -42.3987,        306,     5.7,   2.1634,  32.1683,2,-999.0000,9,    410.0,2,  -999.0,9, -999.00,9, -999.00,9, -999.00,9,-999.000,9,-999.000,9,  -999.0,9,-999.0000,9,  -999.00,   2.1631
29AH20120622,      OVIDE,      88,          1,         23,2,20120717,       0000,    59.8228,   -42.3987,        306,     5.7,   2.1351,  32.1691,2,-999.0000,9,    410.0,2,  -999.0,9, -999.00,9, -999.00,9, -999.00,9,-999.000,9,-999.000,9,  -999.0,9,-999.0000,9,  -999.00,   2.1348
29AH20120622,      OVIDE,      88,          1,         24,2,20120717,       0000,    59.8228,   -42.3987,        306,     5.7,   2.1271,  32.1690,2,  32.1720,2,    410.0,2,   398.2,3,    0.37,2,    0.18,2,    0.08,2,   5.835,2,   3.193,2,  -999.0,9,   7.9026,2,    25.00,   2.1268