BOTTLE,20151116SIOCCHCBG
EXPOCODE,SECT_ID,STNNBR,CASTNO,BTLNBR,BTLNBR_FLAG_W,DATE,TIME,LATITUDE,LONGITUDE,DEPTH,CTDPRS,CTDTMP,CTDSAL,CTDSAL_FLAG_W,SALNTY,SALNTY_FLAG_W,CTDOXY,CTDOXY_FLAG_W,OXYGEN,OXYGEN_FLAG_W,SILCAT,SILCAT_FLAG_W,NITRAT,NITRAT_FLAG_W,PHSPHT,PHSPHT_FLAG_W,CFC-11,CFC-11_FLAG_W,CFC-12,CFC-12_FLAG_W,ALKALI,ALKALI_FLAG_W,PH_TOT,PH_TOT_FLAG_W,PH_TMP,THETA
,,,,,,,,,,METERS,DBAR,ITS-90,PSS-78,,PSS-78,,UMOL/KG,,UMOL/KG,,UMOL/KG,,UMOL/KG,,UMOL/KG,,PMOL/KG,,PMOL/KG,,UMOL/KG,,,,DEG C,DEG C
29AH20120622,      OVIDE,      27,          1,          1,2,20120630,       0000,    44.3776,   -17.8146,       4854,  5003.0,   2.6591,  34.9129,2,  34.9165,2,    238.5,2,   238.6,2,   43.44,2,   22.29,2,    1.43,2,-999.000,9,-999.000,9,  2352.2,2,   7.7419,2,    25.00,   2.1838
29AH20120622,      OVIDE,      27,          1,          2,2,20120630,       0000,    44.3776,   -17.8146,       4854,  4502.3,   2.5999,  34.9137,2,  34.9138,2,    238.4,2,   238.9,2,   42.92,2,   21.94,2,    1.44,2,-999.000,9,-999.000,9,  2352.2,2,   7.7407,2,    25.00,   2.1891
29AH20120622,      OVIDE,      27,          1,          3,2,20120630,       0000,    44.3776,   -17.8146,       4854,  3999.3,   2.5753,  34.9173,2,  34.9188,2,    239.5,2,   240.5,2,   41.63,2,   21.59,2,    1.43,2,-999.000,9,-999.000,9,  2349.7,2,   7.7371,2,    25.00,   2.2249
29AH20120622,      OVIDE,      27,          1,          4,2,20120630,       0000,    44.3776,   -17.8146,       4854,  3498.7,   2.6350,  34.9275,2,  34.9274,2,    244.0,2,   244.7,2,   37.55,2,   20.80,2,    1.35,2,-999.000,9,-999.000,9,  2340.4,2,   7.7404,2,    25.00,   2.3392
29AH20120622,      OVIDE,      27,          1,          5,2,20120630,       0000,    44.3776,   -17.8146,       4854,  3245.6,   2.7491,  34.9379,2,  34.9401,2,    249.0,2,   249.4,2,   32.54,2,   19.92,2,    1.27,2,-999.000,9,-999.000,9,  2334.9,2,   7.7409,2,    25.00,   2.4779
29AH20120622,      OVIDE,      27,          1,          6,2,20120630,       0000,    44.3776,   -17.8146,       4854,  2997.2,   2.9026,  34.9493,2,  34.9475,2,    251.1,2,   251.4,2,   29.03,2,   19.33,2,    1.25,2,-999.000,9,-999.000,9,  2328.3,2,   7.7415,2,    25.00,   2.6541
29AH20120622,      OVIDE,      27,          1,          7,2,20120630,       0000,    44.3776,   -17.8146,       4854,  2500.0,   3.2207,  34.9442,2,  34.9443,2,    266.6,2,   264.9,2,   18.31,2,   17.62,2,    1.09,2,-999.000,9,-999.000,9,  2316.0,2,   7.7388,2,    25.00,   3.0167
29AH20120622,      OVIDE,      27,          1,          8,2,20120630,       0000,    44.3776,   -17.8146,       4854,  2244.6,   3.3440,  34.9218,2,  34.9217,2,    272.2,2,   271.4,2,   14.01,2,   17.15,2,    1.06,2,-999.000,9,-999.000,9,  2307.1,2,   7.7329,2,    25.00,   3.1630
29AH20120622,      OVIDE,      27,          1,          9,2,20120630,       0000,    44.3776,   -17.8146,       4854,  1995.0,   3.5983,  34.9325,2,  34.9319,2,    269.9,2,   269.6,2,   12.90,2,   17.32,2,    1.07,2,-999.000,9,-999.000,9,  2307.8,2,   7.7305,2,    25.00,   3.4373
29AH20120622,      OVIDE,      27,          1,         10,2,20120630,       0000,    44.3776,   -17.8146,       4854,  1799.0,   3.9649,  34.9746,2,  34.9780,2,    264.3,2,   263.2,2,   12.42,2,   17.41,2,    1.07,2,-999.000,9,-999.000,9,  2308.2,2,   7.7303,2,    25.00,   3.8172
29AH20120622,      OVIDE,      27,          1,         11,2,20120630,       0000,    44.3776,   -17.8146,       4854,  1598.6,   4.5052,  35.0382,2,  35.0390,2,    253.3,2,   255.9,2,   11.76,2,   17.31,2,    1.08,2,-999.000,9,-999.000,9,  2314.2,2,   7.7290,2,    25.00,   4.3697
29AH20120622,      OVIDE,      27,          1,         12,2,20120630,       0000,    44.3776,   -17.8146,       4854,  1399.9,   6.5928,  35.3867,2,  35.3867,2,    224.0,2,   224.2,2,   11.78,2,   17.39,2,    1.05,2,-999.000,9,-999.000,9,  2338.7,2,   7.7486,2,    25.00,   6.4538
29AH20120622,      OVIDE,      27,          1,         13,2,20120630,       0000,    44.3776,   -17.8146,       4854,  1200.6,   7.0155,  35.3639,2,  35.3631,2,    214.8,2,   215.7,2,   11.15,2,   17.68,2,    1.06,2,-999.000,9,-999.000,9,  2335.7,2,   7.7381,2,    25.00,   6.8942
29AH20120622,      OVIDE,      27,          1,         14,2,20120630,       0000,    44.3776,   -17.8146,       4854,  1030.1,   8.6964,  35.5834,2,  35.5861,2,    192.9,2,   195.0,2,   10.77,2,   17.56,2,    1.03,2,-999.000,9,-999.000,9,  2349.7,2,   7.7530,2,    25.00,   8.5805
29AH20120622,      OVIDE,      27,          1,         15,2,20120630,       0000,    44.3776,   -17.8146,       4854,   799.7,   9.7686,  35.5257,2,  35.5266,2,    182.8,2,   183.2,2,    9.68,2,   17.78,2,    1.03,2,-999.000,9,-999.000,9,  2341.7,2,   7.7535,2,    25.00,   9.6737
29AH20120622,      OVIDE,      27,          1,         16,2,20120630,       0000,    44.3776,   -17.8146,       4854,   701.3,  10.2234,  35.4791,2,  35.4727,4,    186.7,2,   186.1,2,    8.60,2,   16.88,2,    0.97,2,-999.000,9,-999.000,9,  2334.1,2,   7.7594,2,    25.00,  10.1383
29AH20120622,      OVIDE,      27,          1,         17,2,20120630,       0000,    44.3776,   -17.8146,       4854,   601.6,  10.6912,  35.4864,2,  35.4865,2,    201.4,2,   200.2,2,    7.04,2,   15.00,2,    0.84,2,-999.000,9,-999.000,9,  2332.8,2,   7.7811,2,    25.00,  10.6166
29AH20120622,      OVIDE,      27,          1,         18,2,20120630,       0000,    44.3776,   -17.8146,       4854,   502.0,  11.4013,  35.5624,2,  35.5601,2,    213.6,2,   212.4,2,    5.40,2,   12.66,2,    0.67,2,-999.000,9,-999.000,9,  2336.7,2,   7.8102,2,    25.00,  11.3367
29AH20120622,      OVIDE,      27,          1,         19,2,20120630,       0000,    44.3776,   -17.8146,       4854,   401.1,  11.9069,  35.6133,2,  35.6156,2,    220.4,2,   218.2,2,    4.68,2,   11.30,2,    0.58,2,-999.000,9,-999.000,9,  2341.2,2,   7.8283,2,    25.00,  11.8541
29AH20120622,      OVIDE,      27,          1,         20,2,20120630,       0000,    44.3776,   -17.8146,       4854,   300.6,  12.3898,  35.6740,2,  35.6743,2,    221.4,2,   220.7,2,    4.13,2,   10.47,2,    0.50,2,-999.000,9,-999.000,9,  2342.2,2,   7.8434,2,    25.00,  12.3493
29AH20120622,      OVIDE,      27,          1,         21,2,20120630,       0000,    44.3776,   -17.8146,       4854,   201.3,  13.0443,  35.7484,2,  35.7498,2,    232.7,2,   226.5,3,    3.24,2,    8.50,2,    0.36,2,-999.000,9,-999.000,9,  2347.3,2,   7.8696,2,    25.00,  13.0163
29AH20120622,      OVIDE,      27,          1,         22,2,20120630,       0000,    44.3776,   -17.8146,       4854,   100.2,  13.5498,  35.7705,2,  35.7705,2,    237.8,2,   234.5,2,    2.55,2,    6.45,2,    0.21,2,-999.000,9,-999.000,9,  2352.3,2,   7.8933,2,    25.00,  13.5356
29AH20120622,      OVIDE,      27,          1,         23,2,20120630,       0000,    44.3776,   -17.8146,       4854,    36.2,  15.1918,  35.8968,2,  35.8956,2,    245.5,2,   249.5,2,    0.74,2,    0.04,2,    0.01,2,-999.000,9,-999.000,9,  2360.3,2,   7.9626,2,    25.00,  15.1863
29AH20120622,      OVIDE,      27,          1,         24,2,20120630,       0000,    44.3776,   -17.8146,       4854,     5.2,  17.2157,  35.7991,2,  35.7998,2,    243.9,2,   244.2,2,    0.54,2,    0.01,2,    0.00,2,-999.000,9,-999.000,9,  2353.7,2,   7.9957,2,    25.00,  17.2148
29AH20120622,      OVIDE,      28,          1,          1,2,20120701,       0000,    44.6737,   -18.2100,       4820,  4906.6,   2.6437,  34.9125,2,-999.0000,9,    238.2,2,   238.8,2,   43.38,2,   21.87,2,    1.48,2,   0.089,2,   0.050,2,  -999.0,9,   7.7430,2,    25.00,   2.1812
29AH20120622,      OVIDE,      28,          1,          2,2,20120701,       0000,    44.6737,   -18.2100,       4820,  4498.3,   2.5941,  34.9130,2,  34.9142,2,    238.3,2,   238.2,2,   42.98,2,   21.92,2,    1.44,2,   0.091,2,   0.049,2,  -999.0,9,   7.7420,2,    25.00,   2.1839
29AH20120622,      OVIDE,      28,          1,          3,2,20120701,       0000,    44.6737,   -18.2100,       4820,  4000.7,   2.5696,  34.9168,2,  34.9166,2,    239.5,2,   240.1,2,   41.79,2,   21.73,2,    1.40,2,   0.137,2,   0.070,2,  -999.0,9,   7.7420,2,    25.00,   2.2192
29AH20120622,      OVIDE,      28,          1,          4,2,20120701,       0000,    44.6737,   -18.2100,       4820,  3501.1,   2.6382,  34.9279,2,  34.9280,2,    244.2,2,   243.4,2,   37.23,2,   20.69,2,    1.36,2,-999.000,9,-999.000,9,  -999.0,9,   7.7426,2,    25.00,   2.3421
29AH20120622,      OVIDE,      28,          1,          5,2,20120701,       0000,    44.6737,   -18.2100,       4820,  3248.6,   2.7141,  34.9359,2,  34.9348,2,    248.4,2,   246.9,2,   33.63,2,   20.12,2,    1.31,2,-999.000,9,-999.000,9,  -999.0,9,   7.7418,2,    25.00,   2.4434
29AH20120622,      OVIDE,      28,          1,          6,2,20120701,       0000,    44.6737,   -18.2100,       4820,  2998.6,   2.8392,  34.9450,2,  34.9442,2,    252.0,2,   251.3,2,   29.17,2,   19.37,2,    1.25,2,   0.667,2,   0.329,2,  -999.0,9,   7.7414,2,    25.00,   2.5920
29AH20120622,      OVIDE,      28,          1,          7,2,20120701,       0000,    44.6737,   -18.2100,       4820,  2501.1,   3.2037,  34.9480,2,  34.9470,2,    265.1,2,   262.8,2,   19.25,2,   17.71,2,    1.11,2,   1.522,2,   0.759,2,  -999.0,9,   7.7395,2,    25.00,   2.9999
29AH20120622,      OVIDE,      28,          1,          8,2,20120701,       0000,    44.6737,   -18.2100,       4820,  2251.0,   3.3077,  34.9244,2,  34.9239,2,    272.3,2,   271.0,2,   14.21,2,   17.10,2,    1.08,2,-999.000,9,-999.000,9,  -999.0,9,   7.7350,2,    25.00,   3.1267
29AH20120622,      OVIDE,      28,          1,          9,2,20120701,       0000,    44.6737,   -18.2100,       4820,  1999.9,   3.5921,  34.9350,2,  34.9367,2,    269.5,2,   268.7,2,   12.67,2,   17.15,2,    1.07,2,   2.693,2,   1.312,2,  -999.0,9,   7.7320,2,    25.00,   3.4307
29AH20120622,      OVIDE,      28,          1,         10,2,20120701,       0000,    44.6737,   -18.2100,       4820,  1800.6,   4.0012,  34.9750,2,  34.9743,2,    263.4,2,   262.8,2,   12.36,2,   17.40,2,    1.08,2,   2.795,2,   1.391,2,  -999.0,9,   7.7298,2,    25.00,   3.8529
29AH20120622,      OVIDE,      28,          1,         11,2,20120701,       0000,    44.6737,   -18.2100,       4820,  1597.4,   4.4601,  35.0260,2,  35.0258,2,    259.8,2,   256.2,3,   11.49,2,   17.25,2,    1.07,2,-999.000,9,-999.000,9,  -999.0,9,   7.7282,2,    25.00,   4.3253
29AH20120622,      OVIDE,      28,          1,         12,2,20120701,       0000,    44.6737,   -18.2100,       4820,  1398.8,   5.6064,  35.1870,2,  35.1879,2,    244.3,2,   238.8,3,   11.60,2,   17.39,2,    1.06,2,   2.696,2,   1.387,2,  -999.0,9,   7.7330,2,    25.00,   5.4780
29AH20120622,      OVIDE,      28,          1,         13,2,20120701,       0000,    44.6737,   -18.2100,       4820,  1198.1,   6.5922,  35.2860,2,  35.2827,2,    227.7,2,   221.7,3,   11.01,2,   17.59,2,    1.08,2,   2.536,2,   1.325,2,  -999.0,9,   7.7339,2,    25.00,   6.4750
29AH20120622,      OVIDE,      28,          1,         14,2,20120701,       0000,    44.6737,   -18.2100,       4820,   998.8,   8.2359,  35.4637,2,  35.4650,2,    200.1,2,   198.7,2,   10.49,2,   17.61,2,    1.07,2,   2.166,2,   1.148,2,  -999.0,9,   7.7439,2,    25.00,   8.1272
29AH20120622,      OVIDE,      28,          1,         15,2,20120701,       0000,    44.6737,   -18.2100,       4820,   900.7,   8.2921,  35.3503,2,  35.3499,2,    192.8,2,   193.2,2,    9.91,2,   17.98,2,    1.11,2,-999.000,9,-999.000,9,  -999.0,9,   7.7329,2,    25.00,   8.1945
29AH20120622,      OVIDE,      28,          1,         16,2,20120701,       0000,    44.6737,   -18.2100,       4820,   800.1,   9.4949,  35.4601,2,  35.4645,2,    184.7,2,   184.9,2,    8.86,2,   17.18,2,    1.04,2,   2.153,2,   1.157,2,  -999.0,9,   7.7488,2,    25.00,   9.4016
29AH20120622,      OVIDE,      28,          1,         17,2,20120701,       0000,    44.6737,   -18.2100,       4820,   599.9,  10.8347,  35.4813,2,  35.4816,2,    208.1,2,   210.2,2,    5.86,2,   13.49,2,    0.75,2,-999.000,9,-999.000,9,  -999.0,9,   7.7965,2,    25.00,  10.7597
29AH20120622,      OVIDE,      28,          1,         18,2,20120701,       0000,    44.6737,   -18.2100,       4820,   501.2,  11.3669,  35.5559,2,  35.5549,2,    220.3,2,   219.8,2,    5.03,2,   11.96,2,    0.62,2,   2.789,2,   1.599,2,  -999.0,9,   7.8170,2,    25.00,  11.3025
29AH20120622,      OVIDE,      28,          1,         19,2,20120701,       0000,    44.6737,   -18.2100,       4820,   399.4,  11.9434,  35.6272,2,  35.6284,2,    230.6,2,   227.2,2,    4.47,2,   10.62,2,    0.50,2,-999.000,9,-999.000,9,  -999.0,9,   7.8405,2,    25.00,  11.8907
29AH20120622,      OVIDE,      28,          1,         20,2,20120701,       0000,    44.6737,   -18.2100,       4820,   299.2,  12.3339,  35.6586,2,  35.6583,2,    228.5,2,   228.5,2,    4.13,2,    9.97,2,    0.45,2,-999.000,9,-999.000,9,  -999.0,9,   7.8526,2,    25.00,  12.2937
29AH20120622,      OVIDE,      28,          1,         21,2,20120701,       0000,    44.6737,   -18.2100,       4820,   199.2,  12.8188,  35.6992,2,  35.7025,2,    240.2,2,   240.3,2,    3.03,2,    7.32,2,    0.29,2,   2.815,2,   1.655,2,  -999.0,9,   7.8826,2,    25.00,  12.7915
29AH20120622,      OVIDE,      28,          1,         22,2,20120701,       0000,    44.6737,   -18.2100,       4820,   100.1,  13.1110,  35.6860,2,  35.6850,2,    242.2,2,   242.8,2,    2.79,2,    6.68,2,    0.18,2,-999.000,9,-999.000,9,  -999.0,9,   7.8921,2,    25.00,  13.0971
29AH20120622,      OVIDE,      28,          1,         23,2,20120701,       0000,    44.6737,   -18.2100,       4820,    22.1,  15.9879,  35.6829,2,  35.6840,2,    247.5,2,   246.6,2,    0.84,2,    0.12,2,    0.02,2,-999.000,9,-999.000,9,  -999.0,9,   7.9855,2,    25.00,  15.9844
29AH20120622,      OVIDE,      28,          1,         24,2,20120701,       0000,    44.6737,   -18.2100,       4820,     7.1,  16.1193,  35.6815,2,  35.6820,2,    248.5,2,   247.0,2,    0.81,2,    0.02,2,    0.01,2,   2.535,2,   1.532,2,  -999.0,9,   7.9893,2,    25.00,  16.1182