BOTTLE,20151116SIOCCHCBG
EXPOCODE,SECT_ID,STNNBR,CASTNO,BTLNBR,BTLNBR_FLAG_W,DATE,TIME,LATITUDE,LONGITUDE,DEPTH,CTDPRS,CTDTMP,CTDSAL,CTDSAL_FLAG_W,SALNTY,SALNTY_FLAG_W,CTDOXY,CTDOXY_FLAG_W,OXYGEN,OXYGEN_FLAG_W,SILCAT,SILCAT_FLAG_W,NITRAT,NITRAT_FLAG_W,PHSPHT,PHSPHT_FLAG_W,CFC-11,CFC-11_FLAG_W,CFC-12,CFC-12_FLAG_W,ALKALI,ALKALI_FLAG_W,PH_TOT,PH_TOT_FLAG_W,PH_TMP,THETA
,,,,,,,,,,METERS,DBAR,ITS-90,PSS-78,,PSS-78,,UMOL/KG,,UMOL/KG,,UMOL/KG,,UMOL/KG,,UMOL/KG,,PMOL/KG,,PMOL/KG,,UMOL/KG,,,,DEG C,DEG C
29AH20120622,      OVIDE,      33,          1,          1,2,20120702,       0000,    46.5448,   -19.6710,       4479,  4582.6,   2.5792,  34.9107,2,  34.9079,2,    238.2,2,   240.7,2,   43.76,2,   22.34,2,    1.50,2,-999.000,9,-999.000,9,  2353.6,2,   7.7435,2,    25.00,   2.1592
29AH20120622,      OVIDE,      33,          1,          2,2,20120702,       0000,    46.5448,   -19.6710,       4479,  4000.8,   2.5809,  34.9179,2,  34.9173,2,    239.9,2,   241.5,2,   41.55,2,   21.77,2,    1.44,2,-999.000,9,-999.000,9,  2353.2,2,   7.7405,2,    25.00,   2.2301
29AH20120622,      OVIDE,      33,          1,          3,2,20120702,       0000,    46.5448,   -19.6710,       4479,  3498.4,   2.7154,  34.9340,2,  34.9347,2,    246.9,2,  -999.0,9,   34.19,2,   20.55,2,    1.36,2,-999.000,9,-999.000,9,  2341.3,2,   7.7387,2,    25.00,   2.4176
29AH20120622,      OVIDE,      33,          1,          4,2,20120702,       0000,    46.5448,   -19.6710,       4479,  3250.2,   2.8328,  34.9428,2,  34.9424,2,    252.6,2,   248.8,3,   29.10,2,   19.44,2,    1.29,2,-999.000,9,-999.000,9,  2332.8,2,   7.7391,2,    25.00,   2.5591
29AH20120622,      OVIDE,      33,          1,          5,2,20120702,       0000,    46.5448,   -19.6710,       4479,  2995.2,   2.9814,  34.9452,2,-999.0000,9,    259.7,2,   254.6,3,   22.82,3,   18.51,3,    1.24,3,-999.000,9,-999.000,9,  -999.0,9,-999.0000,9,  -999.00,   2.7315
29AH20120622,      OVIDE,      33,          1,          6,2,20120702,       0000,    46.5448,   -19.6710,       4479,  2749.2,   3.1030,  34.9319,2,  34.9310,2,    269.7,2,   271.0,2,   16.48,2,   17.43,2,    1.17,2,-999.000,9,-999.000,9,  2310.8,2,   7.7363,2,    25.00,   2.8761
29AH20120622,      OVIDE,      33,          1,          7,2,20120702,       0000,    46.5448,   -19.6710,       4479,  2501.5,   3.3013,  34.9285,2,  34.9296,2,    269.9,2,   271.0,2,   14.94,2,   17.36,2,    1.14,2,-999.000,9,-999.000,9,  2307.7,2,   7.7347,2,    25.00,   3.0957
29AH20120622,      OVIDE,      33,          1,          8,2,20120702,       0000,    46.5448,   -19.6710,       4479,  2251.3,   3.3994,  34.9131,2,  34.9136,2,    273.5,2,   274.7,2,   12.54,2,   17.14,2,    1.12,2,-999.000,9,-999.000,9,  2305.8,2,   7.7302,2,    25.00,   3.2169
29AH20120622,      OVIDE,      33,          1,          9,2,20120702,       0000,    46.5448,   -19.6710,       4479,  2001.2,   3.6144,  34.9159,2,  34.9203,2,    272.0,2,   272.2,2,   11.89,2,   17.32,2,    1.13,2,-999.000,9,-999.000,9,  2304.2,2,   7.7278,2,    25.00,   3.4526
29AH20120622,      OVIDE,      33,          1,         10,2,20120702,       0000,    46.5448,   -19.6710,       4479,  1800.3,   3.7745,  34.9181,2,  34.9197,2,    271.3,2,   272.6,2,   11.32,2,   17.48,2,    1.12,2,-999.000,9,-999.000,9,  2301.6,2,   7.7228,2,    25.00,   3.6294
29AH20120622,      OVIDE,      33,          1,         11,2,20120702,       0000,    46.5448,   -19.6710,       4479,  1600.3,   3.9855,  34.9280,2,  34.9270,2,    269.3,2,   269.6,2,   10.79,2,   17.33,2,    1.13,2,-999.000,9,-999.000,9,  2304.8,2,   7.7196,2,    25.00,   3.8564
29AH20120622,      OVIDE,      33,          1,         12,2,20120702,       0000,    46.5448,   -19.6710,       4479,  1399.4,   4.3778,  34.9609,2,  34.9605,2,    260.3,2,   262.3,2,   10.69,2,   17.47,2,    1.12,2,-999.000,9,-999.000,9,  2304.1,2,   7.7178,2,    25.00,   4.2627
29AH20120622,      OVIDE,      33,          1,         13,2,20120702,       0000,    46.5448,   -19.6710,       4479,  1201.1,   5.4147,  35.0825,2,  35.0778,2,    237.7,2,   241.7,2,   10.83,2,   17.92,2,    1.15,2,-999.000,9,-999.000,9,  2314.8,2,   7.7201,2,    25.00,   5.3080
29AH20120622,      OVIDE,      33,          1,         14,2,20120702,       0000,    46.5448,   -19.6710,       4479,   999.2,   7.5583,  35.3375,2,  35.3363,2,    199.2,2,   206.6,3,   10.93,2,   18.17,2,    1.15,2,-999.000,9,-999.000,9,  2332.3,2,   7.7327,2,    25.00,   7.4547
29AH20120622,      OVIDE,      33,          1,         15,2,20120702,       0000,    46.5448,   -19.6710,       4479,   886.0,   8.7249,  35.4404,2,  35.4409,2,    188.0,2,   190.4,2,   10.46,2,   18.23,2,    1.16,2,-999.000,9,-999.000,9,  2339.3,2,   7.7409,2,    25.00,   8.6260
29AH20120622,      OVIDE,      33,          1,         16,2,20120702,       0000,    46.5448,   -19.6710,       4479,   802.2,   9.0974,  35.3832,2,  35.3786,2,    183.8,2,   186.9,2,   10.09,2,   18.35,2,    1.15,2,-999.000,9,-999.000,9,  2332.8,2,   7.7380,2,    25.00,   9.0062
29AH20120622,      OVIDE,      33,          1,         17,2,20120702,       0000,    46.5448,   -19.6710,       4479,   599.9,  10.5486,  35.3980,2,  35.3925,4,    211.4,2,   201.0,3,    7.33,2,   15.48,2,    0.94,2,-999.000,9,-999.000,9,  2329.4,2,   7.7781,2,    25.00,  10.4749
29AH20120622,      OVIDE,      33,          1,         18,2,20120702,       0000,    46.5448,   -19.6710,       4479,   501.3,  11.6160,  35.5843,2,  35.5818,2,    227.7,2,   228.6,2,    4.39,2,   11.06,2,    0.62,2,-999.000,9,-999.000,9,  2337.2,2,   7.8314,2,    25.00,  11.5507
29AH20120622,      OVIDE,      33,          1,         19,2,20120702,       0000,    46.5448,   -19.6710,       4479,   401.3,  12.0318,  35.6326,2,  35.6298,2,    234.8,2,   234.2,2,    3.73,2,    9.79,2,    0.53,2,-999.000,9,-999.000,9,  2341.6,2,   7.8485,2,    25.00,  11.9786
29AH20120622,      OVIDE,      33,          1,         20,2,20120702,       0000,    46.5448,   -19.6710,       4479,   300.9,  12.3151,  35.6464,2,  35.6439,2,    233.2,2,   235.6,2,    3.48,2,    9.08,2,    0.47,2,-999.000,9,-999.000,9,  2343.3,2,   7.8600,2,    25.00,  12.2747
29AH20120622,      OVIDE,      33,          1,         21,2,20120702,       0000,    46.5448,   -19.6710,       4479,   200.7,  12.7967,  35.7023,2,-999.0000,9,    245.2,2,  -999.0,9,    3.01,3,    8.32,3,    0.40,3,-999.000,9,-999.000,9,  -999.0,9,-999.0000,9,  -999.00,  12.7692
29AH20120622,      OVIDE,      33,          1,         22,2,20120702,       0000,    46.5448,   -19.6710,       4479,   101.0,  12.8511,  35.6545,2,  35.6538,2,    240.7,2,   242.0,2,    2.74,2,    7.20,2,    0.31,2,-999.000,9,-999.000,9,  2343.5,2,   7.8835,2,    25.00,  12.8373
29AH20120622,      OVIDE,      33,          1,         23,2,20120702,       0000,    46.5448,   -19.6710,       4479,    33.5,  15.5163,  35.5949,2,  35.5962,2,    250.1,2,   250.5,2,    0.83,2,    0.32,2,    0.01,2,-999.000,9,-999.000,9,  2343.8,2,   7.9791,2,    25.00,  15.5111
29AH20120622,      OVIDE,      33,          1,         24,2,20120702,       0000,    46.5448,   -19.6710,       4479,     4.8,  15.5975,  35.6007,2,  35.6002,2,    252.5,2,   253.2,2,    0.76,2,    0.03,2,    0.02,2,-999.000,9,-999.000,9,  2342.3,2,   7.9866,2,    25.00,  15.5968
29AH20120622,      OVIDE,      34,          1,          1,2,20120703,       0000,    46.9171,   -19.9695,       4497,  4571.7,   2.5793,  34.9107,2,  34.9106,2,    238.1,2,   239.9,2,   43.30,2,   22.41,2,    1.49,2,   0.077,2,   0.040,2,  -999.0,9,   7.7421,2,    25.00,   2.1607
29AH20120622,      OVIDE,      34,          1,          2,2,20120703,       0000,    46.9171,   -19.9695,       4497,  4001.1,   2.5572,  34.9155,2,  34.9144,2,    239.2,2,   239.5,2,   41.99,2,   22.03,2,    1.51,2,   0.133,2,   0.068,2,  -999.0,9,   7.7404,2,    25.00,   2.2071
29AH20120622,      OVIDE,      34,          1,          3,2,20120703,       0000,    46.9171,   -19.9695,       4497,  3499.7,   2.6367,  34.9275,2,  34.9268,2,    244.6,2,   246.1,2,   37.34,2,   21.26,2,    1.39,2,   0.391,2,   0.197,2,  -999.0,9,   7.7386,2,    25.00,   2.3408
29AH20120622,      OVIDE,      34,          1,          4,2,20120703,       0000,    46.9171,   -19.9695,       4497,  3250.1,   2.7427,  34.9377,2,  34.9365,2,    249.6,2,   249.6,2,   32.67,2,   20.21,2,    1.33,2,-999.000,9,-999.000,9,  -999.0,9,   7.7368,2,    25.00,   2.4712
29AH20120622,      OVIDE,      34,          1,          5,2,20120703,       0000,    46.9171,   -19.9695,       4497,  2999.8,   2.8903,  34.9457,2,  34.9444,2,    256.4,2,   256.0,2,   26.29,2,   18.90,2,    1.24,2,   1.083,2,   0.540,2,  -999.0,9,   7.7354,2,    25.00,   2.6419
29AH20120622,      OVIDE,      34,          1,          6,2,20120703,       0000,    46.9171,   -19.9695,       4497,  2750.7,   3.0454,  34.9435,2,  34.9424,2,    263.0,2,   263.8,2,   20.51,2,   18.19,2,    1.18,2,   1.569,2,   0.784,2,  -999.0,9,   7.7348,2,    25.00,   2.8194
29AH20120622,      OVIDE,      34,          1,          7,2,20120703,       0000,    46.9171,   -19.9695,       4497,  2501.3,   3.1754,  34.9261,2,-999.0000,9,    271.9,2,  -999.0,9,   16.33,3,   17.82,3,    1.14,3,-999.000,9,-999.000,9,  -999.0,9,-999.0000,9,  -999.00,   2.9721
29AH20120622,      OVIDE,      34,          1,          8,2,20120703,       0000,    46.9171,   -19.9695,       4497,  2249.6,   3.3359,  34.9149,2,  34.9061,4,    273.7,2,   274.2,2,   13.20,2,   17.47,2,    1.11,2,   2.607,2,   1.284,2,  -999.0,9,   7.7293,2,    25.00,   3.1546
29AH20120622,      OVIDE,      34,          1,          9,2,20120703,       0000,    46.9171,   -19.9695,       4497,  2000.8,   3.5339,  34.9157,2,  34.9152,2,    272.5,2,   272.3,2,   12.28,2,   17.59,2,    1.11,2,   2.851,2,   1.414,2,  -999.0,9,   7.7266,2,    25.00,   3.3734
29AH20120622,      OVIDE,      34,          1,         10,2,20120703,       0000,    46.9171,   -19.9695,       4497,  1800.9,   3.7116,  34.9209,2,  34.9329,4,    271.0,2,   267.7,2,   11.27,2,   17.60,2,    1.12,2,-999.000,9,-999.000,9,  -999.0,9,   7.7212,2,    25.00,   3.5673
29AH20120622,      OVIDE,      34,          1,         11,2,20120703,       0000,    46.9171,   -19.9695,       4497,  1601.2,   3.9842,  34.9406,2,  34.9425,2,    269.3,2,   266.6,2,   11.21,2,   17.66,2,    1.12,2,   3.276,2,   1.688,2,  -999.0,9,   7.7204,2,    25.00,   3.8549
29AH20120622,      OVIDE,      34,          1,         12,2,20120703,       0000,    46.9171,   -19.9695,       4497,  1399.8,   4.5685,  35.0077,2,  35.0076,2,    260.0,2,   256.0,3,   11.12,2,   17.93,2,    1.12,2,   3.165,2,   1.639,2,  -999.0,9,   7.7174,2,    25.00,   4.4513
29AH20120622,      OVIDE,      34,          1,         13,2,20120703,       0000,    46.9171,   -19.9695,       4497,  1201.1,   5.3658,  35.1000,2,  35.1012,2,    244.9,2,   240.5,3,   11.07,2,   18.18,2,    1.11,2,   2.929,2,   1.533,2,  -999.0,9,   7.7205,2,    25.00,   5.2595
29AH20120622,      OVIDE,      34,          1,         14,2,20120703,       0000,    46.9171,   -19.9695,       4497,   999.9,   7.1468,  35.3456,2,  35.3503,2,    214.0,2,   212.9,2,   10.91,2,   18.23,2,    1.12,2,-999.000,9,-999.000,9,  -999.0,9,   7.7344,2,    25.00,   7.0461
29AH20120622,      OVIDE,      34,          1,         15,2,20120703,       0000,    46.9171,   -19.9695,       4497,   900.1,   7.6964,  35.3241,2,  35.3204,2,    198.8,2,   201.1,2,   10.94,2,   18.62,2,    1.14,2,   2.254,2,   1.194,2,  -999.0,9,   7.7282,2,    25.00,   7.6028
29AH20120622,      OVIDE,      34,          1,         16,2,20120703,       0000,    46.9171,   -19.9695,       4497,   800.3,   8.6236,  35.3777,2,  35.3961,4,    189.4,2,   190.9,2,   10.34,2,   18.45,2,    1.11,2,-999.000,9,-999.000,9,  -999.0,9,   7.7369,2,    25.00,   8.5354
29AH20120622,      OVIDE,      34,          1,         17,2,20120703,       0000,    46.9171,   -19.9695,       4497,   601.6,  10.4596,  35.4723,2,  35.4713,2,    207.4,2,   213.0,3,    6.45,2,   14.48,2,    0.82,2,   2.674,2,   1.520,2,  -999.0,9,   7.7870,2,    25.00,  10.3860
29AH20120622,      OVIDE,      34,          1,         18,2,20120703,       0000,    46.9171,   -19.9695,       4497,   501.2,  10.9599,  35.5069,2,  35.5065,2,    227.9,2,   234.6,3,    4.69,2,   11.49,2,    0.65,2,-999.000,9,-999.000,9,  -999.0,9,   7.8210,2,    25.00,  10.8970
29AH20120622,      OVIDE,      34,          1,         19,2,20120703,       0000,    46.9171,   -19.9695,       4497,   400.5,  11.5004,  35.5781,2,  35.5748,2,    239.8,2,   224.7,4,    4.52,2,   11.45,2,    0.60,2,-999.000,9,-999.000,9,  -999.0,9,   7.8229,2,    25.00,  11.4488
29AH20120622,      OVIDE,      34,          1,         20,2,20120703,       0000,    46.9171,   -19.9695,       4497,   301.0,  11.9755,  35.6256,2,  35.6245,2,    227.5,2,   234.1,3,    3.70,2,    9.67,2,    0.49,2,   2.841,2,   1.651,2,  -999.0,9,   7.8465,2,    25.00,  11.9359
29AH20120622,      OVIDE,      34,          1,         21,2,20120703,       0000,    46.9171,   -19.9695,       4497,   202.8,  12.0252,  35.5810,2,-999.0000,9,    234.4,2,  -999.0,9,    3.28,3,    9.07,3,    0.44,3,-999.000,9,-999.000,9,  -999.0,9,-999.0000,9,  -999.00,  11.9985
29AH20120622,      OVIDE,      34,          1,         22,2,20120703,       0000,    46.9171,   -19.9695,       4497,   100.9,  12.5904,  35.6288,2,  35.6261,2,    239.0,2,   242.6,2,    2.85,2,    7.57,2,    0.31,2,-999.000,9,-999.000,9,  -999.0,9,   7.8757,2,    25.00,  12.5768
29AH20120622,      OVIDE,      34,          1,         23,2,20120703,       0000,    46.9171,   -19.9695,       4497,    37.5,  15.3456,  35.5412,2,  35.5407,2,    242.2,2,   252.2,3,    0.67,2,    0.18,2,    0.02,2,-999.000,9,-999.000,9,  -999.0,9,   7.9818,2,    25.00,  15.3398
29AH20120622,      OVIDE,      34,          1,         24,2,20120703,       0000,    46.9171,   -19.9695,       4497,     6.2,  15.5208,  35.5401,2,  35.5386,2,    251.6,2,   252.0,2,    0.63,2,    0.01,2,    0.01,2,   2.571,2,   1.552,2,  -999.0,9,   7.9878,2,    25.00,  15.5198