BOTTLE,20151116SIOCCHCBG
EXPOCODE,SECT_ID,STNNBR,CASTNO,BTLNBR,BTLNBR_FLAG_W,DATE,TIME,LATITUDE,LONGITUDE,DEPTH,CTDPRS,CTDTMP,CTDSAL,CTDSAL_FLAG_W,SALNTY,SALNTY_FLAG_W,CTDOXY,CTDOXY_FLAG_W,OXYGEN,OXYGEN_FLAG_W,SILCAT,SILCAT_FLAG_W,NITRAT,NITRAT_FLAG_W,PHSPHT,PHSPHT_FLAG_W,CFC-11,CFC-11_FLAG_W,CFC-12,CFC-12_FLAG_W,ALKALI,ALKALI_FLAG_W,PH_TOT,PH_TOT_FLAG_W,PH_TMP,THETA
,,,,,,,,,,METERS,DBAR,ITS-90,PSS-78,,PSS-78,,UMOL/KG,,UMOL/KG,,UMOL/KG,,UMOL/KG,,UMOL/KG,,PMOL/KG,,PMOL/KG,,UMOL/KG,,,,DEG C,DEG C
29AH20120622,      OVIDE,      79,          1,          1,2,20120715,       0000,    59.6857,   -39.5990,       2795,  2822.4,   1.4412,  34.9020,2,  34.9024,2,    302.8,2,   303.1,2,    7.99,2,   13.45,2,    0.90,2,-999.000,9,-999.000,9,  2303.4,2,   7.7198,2,    25.00,   1.2412
29AH20120622,      OVIDE,      79,          1,          2,2,20120715,       0000,    59.6857,   -39.5990,       2795,  2771.0,   1.6750,  34.9012,2,  34.9042,2,    300.5,2,   300.4,2,    8.03,2,   13.52,2,    0.88,2,-999.000,9,-999.000,9,  2304.1,2,   7.7217,2,    25.00,   1.4749
29AH20120622,      OVIDE,      79,          1,          3,2,20120715,       0000,    59.6857,   -39.5990,       2795,  2749.1,   1.8064,  34.9022,2,  34.9034,2,    297.6,2,   298.0,2,    8.49,2,   13.74,2,    0.90,2,-999.000,9,-999.000,9,  2304.9,2,   7.7214,2,    25.00,   1.6057
29AH20120622,      OVIDE,      79,          1,          4,2,20120715,       0000,    59.6857,   -39.5990,       2795,  2500.4,   2.6814,  34.9292,2,  34.9298,2,    278.9,2,   278.7,2,   13.21,2,   15.87,2,    1.04,2,-999.000,9,-999.000,9,  2308.3,2,   7.7295,2,    25.00,   2.4873
29AH20120622,      OVIDE,      79,          1,          5,2,20120715,       0000,    59.6857,   -39.5990,       2795,  2251.7,   2.9576,  34.9359,2,  34.9365,2,    275.7,2,   276.2,2,   13.09,2,   16.40,2,    1.06,2,-999.000,9,-999.000,9,  2308.6,2,   7.7330,2,    25.00,   2.7823
29AH20120622,      OVIDE,      79,          1,          6,2,20120715,       0000,    59.6857,   -39.5990,       2795,  1960.9,   3.1700,  34.9338,2,  34.9343,2,    275.3,2,   275.3,2,   12.04,2,   16.40,2,    1.07,2,-999.000,9,-999.000,9,  2306.0,2,   7.7300,2,    25.00,   3.0185
29AH20120622,      OVIDE,      79,          1,          7,2,20120715,       0000,    59.6857,   -39.5990,       2795,  1800.6,   3.2596,  34.9300,2,  34.9313,2,    275.3,2,   276.1,2,   11.54,2,   16.70,2,    1.06,2,-999.000,9,-999.000,9,  2306.1,2,   7.7295,2,    25.00,   3.1214
29AH20120622,      OVIDE,      79,          1,          8,2,20120715,       0000,    59.6857,   -39.5990,       2795,  1601.0,   3.3733,  34.9277,2,  34.9133,4,    274.6,2,   275.7,2,   11.11,2,   16.70,2,    1.07,2,-999.000,9,-999.000,9,  2305.2,2,   7.7274,2,    25.00,   3.2515
29AH20120622,      OVIDE,      79,          1,          9,2,20120715,       0000,    59.6857,   -39.5990,       2795,  1403.8,   3.5308,  34.9301,2,  34.9331,2,    273.1,2,   273.6,2,   10.88,2,   16.65,2,    1.08,2,-999.000,9,-999.000,9,  2304.8,2,   7.7250,2,    25.00,   3.4244
29AH20120622,      OVIDE,      79,          1,         10,2,20120715,       0000,    59.6857,   -39.5990,       2795,  1199.9,   3.6607,  34.9278,2,  34.9278,2,    272.7,2,   273.1,2,   10.51,2,   16.86,2,    1.09,2,-999.000,9,-999.000,9,  2304.2,2,   7.7228,2,    25.00,   3.5704
29AH20120622,      OVIDE,      79,          1,         11,2,20120715,       0000,    59.6857,   -39.5990,       2795,  1000.7,   3.6938,  34.9126,2,  34.9128,2,    276.3,2,   276.4,2,    9.98,2,   16.85,2,    1.08,2,-999.000,9,-999.000,9,  2303.8,2,   7.7218,2,    25.00,   3.6198
29AH20120622,      OVIDE,      79,          1,         12,2,20120715,       0000,    59.6857,   -39.5990,       2795,   898.9,   3.7018,  34.9026,2,  34.9027,2,    278.1,2,   278.0,2,    9.67,2,   16.74,2,    1.07,2,-999.000,9,-999.000,9,  -999.0,9,   7.7199,2,    25.00,   3.6359
29AH20120622,      OVIDE,      79,          1,         13,2,20120715,       0000,    59.6857,   -39.5990,       2795,   800.5,   3.7295,  34.8985,2,  34.8995,2,    280.6,2,   279.7,2,    9.31,2,   16.46,2,    1.07,2,-999.000,9,-999.000,9,  2303.0,2,   7.7193,2,    25.00,   3.6713
29AH20120622,      OVIDE,      79,          1,         14,2,20120715,       0000,    59.6857,   -39.5990,       2795,   700.7,   3.8519,  34.9092,2,  34.9098,2,    290.4,2,   288.8,2,    8.81,2,   16.22,2,    1.04,2,-999.000,9,-999.000,9,  -999.0,9,   7.7235,2,    25.00,   3.8008
29AH20120622,      OVIDE,      79,          1,         15,2,20120715,       0000,    59.6857,   -39.5990,       2795,   601.6,   3.9218,  34.9161,2,  34.9166,2,    291.1,2,   291.0,2,    8.65,2,   16.21,2,    1.04,2,-999.000,9,-999.000,9,  2304.0,2,   7.7253,2,    25.00,   3.8780
29AH20120622,      OVIDE,      79,          1,         16,2,20120715,       0000,    59.6857,   -39.5990,       2795,   500.6,   3.9435,  34.9151,2,  34.9160,2,    290.3,2,   290.2,2,    8.63,2,   16.26,2,    1.06,2,-999.000,9,-999.000,9,  -999.0,9,   7.7228,2,    25.00,   3.9074
29AH20120622,      OVIDE,      79,          1,         17,2,20120715,       0000,    59.6857,   -39.5990,       2795,   400.9,   4.0048,  34.9201,2,  34.9209,2,    291.8,2,   293.1,2,    8.42,2,   16.25,2,    1.03,2,-999.000,9,-999.000,9,  2303.6,2,   7.7258,2,    25.00,   3.9760
29AH20120622,      OVIDE,      79,          1,         18,2,20120715,       0000,    59.6857,   -39.5990,       2795,   300.1,   4.0739,  34.9239,2,  34.9240,2,    290.5,2,   290.2,2,    8.43,2,   16.09,2,    1.06,2,-999.000,9,-999.000,9,  -999.0,9,   7.7243,2,    25.00,   4.0524
29AH20120622,      OVIDE,      79,          1,         19,2,20120715,       0000,    59.6857,   -39.5990,       2795,   202.7,   4.2124,  34.9288,2,  34.9277,2,    292.3,2,   292.5,2,    8.26,2,   16.27,2,    1.05,2,-999.000,9,-999.000,9,  2303.2,2,   7.7235,2,    25.00,   4.1978
29AH20120622,      OVIDE,      79,          1,         20,2,20120715,       0000,    59.6857,   -39.5990,       2795,   150.1,   4.3783,  34.9289,2,  34.9284,2,    294.1,2,   293.8,2,    8.10,2,   16.38,2,    1.03,2,-999.000,9,-999.000,9,  -999.0,9,   7.7265,2,    25.00,   4.3674
29AH20120622,      OVIDE,      79,          1,         21,2,20120715,       0000,    59.6857,   -39.5990,       2795,    96.6,   4.6852,  34.9190,2,  34.9191,2,    299.4,2,   300.1,2,    7.77,2,   15.12,2,    0.97,2,-999.000,9,-999.000,9,  2301.3,2,   7.7380,2,    25.00,   4.6780
29AH20120622,      OVIDE,      79,          1,         22,2,20120715,       0000,    59.6857,   -39.5990,       2795,    50.4,   6.1365,  34.8836,2,  34.8873,2,    304.7,2,   304.9,2,    2.71,2,   10.19,2,    0.76,2,-999.000,9,-999.000,9,  -999.0,9,   7.7932,2,    25.00,   6.1322
29AH20120622,      OVIDE,      79,          1,         23,2,20120715,       0000,    59.6857,   -39.5990,       2795,     5.9,  10.8110,  34.7597,2,-999.0000,9,    289.4,2,  -999.0,9, -999.00,9, -999.00,9, -999.00,9,-999.000,9,-999.000,9,  -999.0,9,-999.0000,9,  -999.00,  10.8103
29AH20120622,      OVIDE,      79,          1,         24,2,20120715,       0000,    59.6857,   -39.5990,       2795,     5.8,  10.8110,  34.7598,2,  34.7610,2,    289.3,2,   291.0,2,    0.31,2,    5.69,2,    0.31,2,-999.000,9,-999.000,9,  2298.1,2,   7.8708,2,    25.00,  10.8103
29AH20120622,      OVIDE,      80,          1,          1,2,20120716,       0000,    59.7228,   -40.2524,       2658,  2686.9,   1.5401,  34.8954,2,  34.8951,2,    303.6,2,   304.4,2,    7.87,2,   13.20,2,    0.87,2,   4.246,2,   2.228,2,  -999.0,9,   7.7213,2,    25.00,   1.3506
29AH20120622,      OVIDE,      80,          1,          2,2,20120716,       0000,    59.7228,   -40.2524,       2658,  2635.7,   1.6163,  34.8936,2,  34.8957,2,    303.2,2,   302.2,2,    7.79,2,   13.35,2,    0.87,2,-999.000,9,-999.000,9,  -999.0,9,   7.7201,2,    25.00,   1.4299
29AH20120622,      OVIDE,      80,          1,          3,2,20120716,       0000,    59.7228,   -40.2524,       2658,  2584.9,   1.7131,  34.8929,2,  34.8904,2,    301.8,2,   302.6,2,    7.89,2,   13.29,2,    0.87,2,-999.000,9,-999.000,9,  -999.0,9,   7.7187,2,    25.00,   1.5295
29AH20120622,      OVIDE,      80,          1,          4,2,20120716,       0000,    59.7228,   -40.2524,       2658,  2500.3,   1.9156,  34.8945,2,  34.8924,2,    299.5,2,   299.0,2,    8.12,2,   13.54,2,    0.91,2,-999.000,9,-999.000,9,  -999.0,9,   7.7215,2,    25.00,   1.7358
29AH20120622,      OVIDE,      80,          1,          5,2,20120716,       0000,    59.7228,   -40.2524,       2658,  2250.9,   2.6095,  34.9081,2,  34.9076,2,    288.4,2,   287.8,2,    9.76,2,   14.70,2,    0.99,2,   3.559,2,   1.851,2,  -999.0,9,   7.7261,2,    25.00,   2.4402
29AH20120622,      OVIDE,      80,          1,          6,2,20120716,       0000,    59.7228,   -40.2524,       2658,  2000.5,   3.1396,  34.9282,2,  34.9269,2,    276.5,2,   277.3,2,   11.28,2,   15.78,2,    1.05,2,-999.000,9,-999.000,9,  -999.0,9,   7.7284,2,    25.00,   2.9849
29AH20120622,      OVIDE,      80,          1,          7,2,20120716,       0000,    59.7228,   -40.2524,       2658,  1800.3,   3.3468,  34.9285,2,  34.9274,2,    279.5,2,   277.0,2,   10.65,2,   15.83,2,    1.06,2,-999.000,9,-999.000,9,  -999.0,9,   7.7271,2,    25.00,   3.2075
29AH20120622,      OVIDE,      80,          1,          8,2,20120716,       0000,    59.7228,   -40.2524,       2658,  1600.7,   3.5593,  34.9309,2,  34.9314,2,    277.7,2,   278.5,2,    9.64,2,   15.55,2,    1.03,2,   3.579,2,   1.860,2,  -999.0,9,   7.7247,2,    25.00,   3.4352
29AH20120622,      OVIDE,      80,          1,          9,2,20120716,       0000,    59.7228,   -40.2524,       2658,  1401.4,   3.7296,  34.9360,2,  34.9343,2,    276.3,2,   276.3,2,    9.85,2,   15.87,2,    1.04,2,   3.547,2,   1.831,2,  -999.0,9,   7.7228,2,    25.00,   3.6212
29AH20120622,      OVIDE,      80,          1,         10,2,20120716,       0000,    59.7228,   -40.2524,       2658,  1201.5,   3.8084,  34.9231,2,  34.9224,2,    276.1,2,   276.3,2,    9.73,2,   16.16,2,    1.04,2,   3.758,2,   1.956,2,  -999.0,9,   7.7219,2,    25.00,   3.7166
29AH20120622,      OVIDE,      80,          1,         11,2,20120716,       0000,    59.7228,   -40.2524,       2658,  1000.7,   3.9420,  34.9195,2,  34.9175,2,    281.3,2,   280.0,2,    9.51,2,   16.39,2,    1.03,2,-999.000,9,-999.000,9,  -999.0,9,   7.7210,2,    25.00,   3.8660
29AH20120622,      OVIDE,      80,          1,         12,2,20120716,       0000,    59.7228,   -40.2524,       2658,   900.0,   3.9784,  34.9167,2,  34.9144,2,    287.5,2,   292.7,2,    8.85,2,   15.97,2,    1.02,2,   4.218,2,   2.280,2,  -999.0,9,   7.7250,2,    25.00,   3.9105
29AH20120622,      OVIDE,      80,          1,         13,2,20120716,       0000,    59.7228,   -40.2524,       2658,   800.8,   3.9570,  34.9102,2,  34.9097,2,    294.7,2,   296.6,2,    8.73,2,   15.77,2,    1.02,2,-999.000,9,-999.000,9,  -999.0,9,   7.7267,2,    25.00,   3.8973
29AH20120622,      OVIDE,      80,          1,         14,2,20120716,       0000,    59.7228,   -40.2524,       2658,   700.0,   4.0218,  34.9168,2,  34.9155,2,    288.9,2,   295.2,3,    8.52,2,   16.01,2,    1.02,2,-999.000,9,-999.000,9,  -999.0,9,   7.7262,2,    25.00,   3.9698
29AH20120622,      OVIDE,      80,          1,         15,2,20120716,       0000,    59.7228,   -40.2524,       2658,   600.3,   4.1441,  34.9297,2,  34.9289,2,    284.6,2,   290.3,3,    8.47,2,   16.06,2,    1.02,2,-999.000,9,-999.000,9,  -999.0,9,   7.7263,2,    25.00,   4.0994
29AH20120622,      OVIDE,      80,          1,         16,2,20120716,       0000,    59.7228,   -40.2524,       2658,   500.1,   4.3429,  34.9500,2,  34.9496,2,    287.0,2,   285.2,2,    8.74,2,   15.93,2,    1.02,2,-999.000,9,-999.000,9,  -999.0,9,   7.7275,2,    25.00,   4.3052
29AH20120622,      OVIDE,      80,          1,         17,2,20120716,       0000,    59.7228,   -40.2524,       2658,   400.4,   4.4468,  34.9585,2,  34.9579,2,    287.0,2,   285.3,2,    8.60,2,   15.97,2,    1.01,2,-999.000,9,-999.000,9,  -999.0,9,   7.7307,2,    25.00,   4.4166
29AH20120622,      OVIDE,      80,          1,         18,2,20120716,       0000,    59.7228,   -40.2524,       2658,   299.5,   4.6183,  34.9717,2,  34.9704,2,    286.2,2,   286.3,2,    8.38,2,   15.75,2,    1.01,2,   4.084,2,   2.233,2,  -999.0,9,   7.7313,2,    25.00,   4.5955
29AH20120622,      OVIDE,      80,          1,         19,2,20120716,       0000,    59.7228,   -40.2524,       2658,   200.0,   5.0019,  35.0041,2,  35.0017,2,    284.8,2,   284.4,2,    8.15,2,   15.57,2,    0.99,2,-999.000,9,-999.000,9,  -999.0,9,   7.7373,2,    25.00,   4.9862
29AH20120622,      OVIDE,      80,          1,         20,2,20120716,       0000,    59.7228,   -40.2524,       2658,   149.8,   5.2479,  35.0256,2,  35.0230,2,    289.0,2,   285.0,2,    7.96,2,   15.59,2,    0.97,2,-999.000,9,-999.000,9,  -999.0,9,   7.7430,2,    25.00,   5.2359
29AH20120622,      OVIDE,      80,          1,         21,2,20120716,       0000,    59.7228,   -40.2524,       2658,   100.6,   5.5588,  35.0432,2,  35.0404,2,    291.1,2,   287.0,2,    7.39,2,   15.28,2,    0.89,2,-999.000,9,-999.000,9,  -999.0,9,   7.7489,2,    25.00,   5.5506
29AH20120622,      OVIDE,      80,          1,         22,2,20120716,       0000,    59.7228,   -40.2524,       2658,    30.2,   6.8163,  34.8692,2,  34.8765,4,    310.9,2,   320.2,3,    1.04,2,    7.80,2,    0.42,2,-999.000,9,-999.000,9,  -999.0,9,   7.8449,2,    25.00,   6.8136
29AH20120622,      OVIDE,      80,          1,         23,2,20120716,       0000,    59.7228,   -40.2524,       2658,     7.2,  10.0598,  34.6470,2,-999.0000,9,    291.1,2,  -999.0,9, -999.00,9, -999.00,9, -999.00,9,-999.000,9,-999.000,9,  -999.0,9,-999.0000,9,  -999.00,  10.0590
29AH20120622,      OVIDE,      80,          1,         24,2,20120716,       0000,    59.7228,   -40.2524,       2658,     7.0,  10.0647,  34.6463,2,  34.6542,4,    291.1,2,   294.8,2,    0.68,2,    4.71,2,    0.08,2,   3.759,2,   2.109,2,  -999.0,9,-999.0000,9,  -999.00,  10.0639