BOTTLE,20151116SIOCCHCBG
EXPOCODE,SECT_ID,STNNBR,CASTNO,BTLNBR,BTLNBR_FLAG_W,DATE,TIME,LATITUDE,LONGITUDE,DEPTH,CTDPRS,CTDTMP,CTDSAL,CTDSAL_FLAG_W,SALNTY,SALNTY_FLAG_W,CTDOXY,CTDOXY_FLAG_W,OXYGEN,OXYGEN_FLAG_W,SILCAT,SILCAT_FLAG_W,NITRAT,NITRAT_FLAG_W,PHSPHT,PHSPHT_FLAG_W,CFC-11,CFC-11_FLAG_W,CFC-12,CFC-12_FLAG_W,ALKALI,ALKALI_FLAG_W,PH_TOT,PH_TOT_FLAG_W,PH_TMP,THETA
,,,,,,,,,,METERS,DBAR,ITS-90,PSS-78,,PSS-78,,UMOL/KG,,UMOL/KG,,UMOL/KG,,UMOL/KG,,UMOL/KG,,PMOL/KG,,PMOL/KG,,UMOL/KG,,,,DEG C,DEG C
29AH20120622,      OVIDE,      67,          1,          1,2,20120713,       0000,    58.9107,   -31.9078,       1665,  1676.2,   3.8196,  34.9674,2,  34.9656,2,    270.7,2,   270.9,2,   11.59,2,   16.61,2,    1.03,2,-999.000,9,-999.000,9,  2307.6,2,   7.7245,2,    25.00,   3.6854
29AH20120622,      OVIDE,      67,          1,          2,2,20120713,       0000,    58.9107,   -31.9078,       1665,  1598.8,   3.8249,  34.9676,2,  34.9671,2,    270.5,2,   271.7,2,   11.46,2,   16.64,2,    1.06,2,-999.000,9,-999.000,9,  2307.0,2,   7.7246,2,    25.00,   3.6977
29AH20120622,      OVIDE,      67,          1,          3,2,20120713,       0000,    58.9107,   -31.9078,       1665,  1598.9,   3.8254,  34.9675,2,  34.9661,2,    270.5,2,   270.8,2,   11.45,2,   16.38,2,    1.05,2,-999.000,9,-999.000,9,  -999.0,9,   7.7238,2,    25.00,   3.6982
29AH20120622,      OVIDE,      67,          1,          4,2,20120713,       0000,    58.9107,   -31.9078,       1665,  1399.4,   3.8483,  34.9629,2,  34.9611,2,    270.6,2,   270.1,2,   11.17,2,   16.48,2,    1.07,2,-999.000,9,-999.000,9,  2308.1,2,   7.7217,2,    25.00,   3.7388
29AH20120622,      OVIDE,      67,          1,          5,2,20120713,       0000,    58.9107,   -31.9078,       1665,  1199.6,   3.9257,  34.9551,2,  34.9547,2,    270.3,2,   270.4,2,   10.85,2,   16.68,2,    1.06,2,-999.000,9,-999.000,9,  2306.6,2,   7.7198,2,    25.00,   3.8329
29AH20120622,      OVIDE,      67,          1,          6,2,20120713,       0000,    58.9107,   -31.9078,       1665,  1000.2,   3.9772,  34.9256,2,  34.9254,2,    276.8,2,   276.2,2,   10.12,2,   16.58,2,    1.04,2,-999.000,9,-999.000,9,  2302.8,2,   7.7187,2,    25.00,   3.9010
29AH20120622,      OVIDE,      67,          1,          7,2,20120713,       0000,    58.9107,   -31.9078,       1665,   900.5,   4.1248,  34.9315,2,  34.9312,2,    279.5,2,   279.4,2,    9.73,2,   16.48,2,    1.05,2,-999.000,9,-999.000,9,  -999.0,9,   7.7206,2,    25.00,   4.0558
29AH20120622,      OVIDE,      67,          1,          8,2,20120713,       0000,    58.9107,   -31.9078,       1665,   799.8,   4.2784,  34.9381,2,  34.9416,2,    281.6,2,   281.8,2,    9.44,2,   16.39,2,    1.02,2,-999.000,9,-999.000,9,  2303.6,2,   7.7202,2,    25.00,   4.2168
29AH20120622,      OVIDE,      67,          1,          9,2,20120713,       0000,    58.9107,   -31.9078,       1665,   700.4,   4.5916,  34.9587,2,  34.9570,2,    266.3,2,   265.0,2,   10.08,2,   17.28,2,    1.08,2,-999.000,9,-999.000,9,  -999.0,9,   7.7107,2,    25.00,   4.5364
29AH20120622,      OVIDE,      67,          1,         10,2,20120713,       0000,    58.9107,   -31.9078,       1665,   600.4,   4.9236,  34.9740,2,  34.9761,2,    267.2,2,   267.4,2,    9.70,2,   16.85,2,    1.08,2,-999.000,9,-999.000,9,  2305.1,2,   7.7131,2,    25.00,   4.8752
29AH20120622,      OVIDE,      67,          1,         11,2,20120713,       0000,    58.9107,   -31.9078,       1665,   500.0,   5.2320,  34.9899,2,  34.9908,2,    271.3,2,   270.8,2,    9.12,2,   16.43,2,    1.04,2,-999.000,9,-999.000,9,  2309.1,2,   7.7252,2,    25.00,   5.1909
29AH20120622,      OVIDE,      67,          1,         12,2,20120713,       0000,    58.9107,   -31.9078,       1665,   499.7,   5.2392,  34.9903,2,-999.0000,9,    271.2,2,  -999.0,9, -999.00,9, -999.00,9, -999.00,9,-999.000,9,-999.000,9,  -999.0,9,-999.0000,9,  -999.00,   5.1981
29AH20120622,      OVIDE,      67,          1,         13,2,20120713,       0000,    58.9107,   -31.9078,       1665,   400.0,   6.0034,  35.0606,2,  35.0602,2,    244.6,2,   239.1,2,   10.17,2,   17.66,2,    1.09,2,-999.000,9,-999.000,9,  2314.0,2,   7.7160,2,    25.00,   5.9684
29AH20120622,      OVIDE,      67,          1,         14,2,20120713,       0000,    58.9107,   -31.9078,       1665,   300.1,   6.5135,  35.0815,2,  35.0801,2,    270.4,2,   268.8,2,    8.02,2,   15.28,2,    0.98,2,-999.000,9,-999.000,9,  -999.0,9,   7.7484,2,    25.00,   6.4862
29AH20120622,      OVIDE,      67,          1,         15,2,20120713,       0000,    58.9107,   -31.9078,       1665,   200.7,   6.4450,  35.0292,2,  35.0272,2,    275.1,2,   274.4,2,    7.76,2,   15.08,2,    0.95,2,-999.000,9,-999.000,9,  2311.3,2,   7.7505,2,    25.00,   6.4270
29AH20120622,      OVIDE,      67,          1,         16,2,20120713,       0000,    58.9107,   -31.9078,       1665,   149.7,   6.4783,  35.0014,2,  35.0034,2,    280.4,2,   275.8,3,    7.35,2,   14.70,2,    0.92,2,-999.000,9,-999.000,9,  -999.0,9,   7.7495,2,    25.00,   6.4649
29AH20120622,      OVIDE,      67,          1,         17,2,20120713,       0000,    58.9107,   -31.9078,       1665,    99.9,   6.4216,  34.9344,2,  34.9322,2,    279.9,2,   278.6,2,    7.09,2,   14.43,2,    0.87,2,-999.000,9,-999.000,9,  2305.6,2,   7.7516,2,    25.00,   6.4128
29AH20120622,      OVIDE,      67,          1,         18,2,20120713,       0000,    58.9107,   -31.9078,       1665,    25.7,   9.6101,  34.8591,2,  34.8634,2,    290.1,2,   294.2,2,    2.09,2,    6.59,2,    0.31,2,-999.000,9,-999.000,9,  -999.0,9,   7.8649,2,    25.00,   9.6072
29AH20120622,      OVIDE,      67,          1,         19,2,20120713,       0000,    58.9107,   -31.9078,       1665,     6.0,  12.1804,  34.8186,2,-999.0000,9,    282.3,2,  -999.0,9, -999.00,9, -999.00,9, -999.00,9,-999.000,9,-999.000,9,  -999.0,9,-999.0000,9,  -999.00,  12.1796
29AH20120622,      OVIDE,      67,          1,         20,2,20120713,       0000,    58.9107,   -31.9078,       1665,     6.0,  12.1812,  34.8187,2,-999.0000,9,    282.3,2,  -999.0,9, -999.00,9, -999.00,9, -999.00,9,-999.000,9,-999.000,9,  -999.0,9,-999.0000,9,  -999.00,  12.1804
29AH20120622,      OVIDE,      67,          1,         21,2,20120713,       0000,    58.9107,   -31.9078,       1665,     6.1,  12.1813,  34.8187,2,-999.0000,9,    282.3,2,  -999.0,9, -999.00,9, -999.00,9, -999.00,9,-999.000,9,-999.000,9,  -999.0,9,-999.0000,9,  -999.00,  12.1805
29AH20120622,      OVIDE,      67,          1,         22,2,20120713,       0000,    58.9107,   -31.9078,       1665,     6.0,  12.1826,  34.8187,2,-999.0000,9,    282.3,2,  -999.0,9, -999.00,9, -999.00,9, -999.00,9,-999.000,9,-999.000,9,  -999.0,9,-999.0000,9,  -999.00,  12.1818
29AH20120622,      OVIDE,      67,          1,         23,2,20120713,       0000,    58.9107,   -31.9078,       1665,     5.9,  12.1828,  34.8186,2,-999.0000,9,    282.3,2,  -999.0,9, -999.00,9, -999.00,9, -999.00,9,-999.000,9,-999.000,9,  -999.0,9,-999.0000,9,  -999.00,  12.1820
29AH20120622,      OVIDE,      67,          1,         24,2,20120713,       0000,    58.9107,   -31.9078,       1665,     5.9,  12.1839,  34.8186,2,  34.8236,4,    282.3,2,   281.3,2,    1.30,2,    4.60,2,    0.14,2,-999.000,9,-999.000,9,  2300.8,2,   7.9052,2,    25.00,  12.1831
29AH20120622,      OVIDE,      68,          1,          1,2,20120713,       0000,    58.9736,   -32.5555,       1854,  1894.6,   3.4916,  34.9597,2,  34.9577,2,    273.0,2,   274.2,2,   11.98,2,   16.22,2,    1.06,2,   3.026,2,   1.538,2,  -999.0,9,   7.7279,2,    25.00,   3.3415
29AH20120622,      OVIDE,      68,          1,          2,2,20120713,       0000,    58.9736,   -32.5555,       1854,  1843.4,   3.5610,  34.9605,2,  34.9592,2,    272.7,2,   273.2,2,   11.49,2,   16.10,2,    1.03,2,-999.000,9,-999.000,9,  -999.0,9,   7.7284,2,    25.00,   3.4147
29AH20120622,      OVIDE,      68,          1,          3,2,20120713,       0000,    58.9736,   -32.5555,       1854,  1794.3,   3.5771,  34.9603,2,  34.9601,2,    272.8,2,   273.5,2,   11.70,2,   16.18,2,    1.04,2,-999.000,9,-999.000,9,  -999.0,9,   7.7254,2,    25.00,   3.4351
29AH20120622,      OVIDE,      68,          1,          4,2,20120713,       0000,    58.9736,   -32.5555,       1854,  1600.0,   3.6637,  34.9512,2,  34.9487,2,    272.3,2,   272.7,2,   11.10,2,   16.34,2,    1.05,2,-999.000,9,-999.000,9,  -999.0,9,   7.7247,2,    25.00,   3.5384
29AH20120622,      OVIDE,      68,          1,          5,2,20120713,       0000,    58.9736,   -32.5555,       1854,  1401.1,   3.7776,  34.9375,2,  34.9385,2,    272.8,2,   273.7,2,   10.59,2,   16.27,2,    1.06,2,-999.000,9,-999.000,9,  -999.0,9,   7.7229,2,    25.00,   3.6688
29AH20120622,      OVIDE,      68,          1,          6,2,20120713,       0000,    58.9736,   -32.5555,       1854,  1199.1,   3.8982,  34.9296,2,  34.9286,2,    272.7,2,   272.2,2,   10.41,2,   16.60,2,    1.07,2,   3.609,2,   1.875,2,  -999.0,9,   7.7194,2,    25.00,   3.8058
29AH20120622,      OVIDE,      68,          1,          7,2,20120713,       0000,    58.9736,   -32.5555,       1854,  1199.1,   3.8982,  34.9296,2,-999.0000,9,    272.7,2,  -999.0,9, -999.00,9, -999.00,9, -999.00,9,-999.000,9,-999.000,9,  -999.0,9,-999.0000,9,  -999.00,   3.8058
29AH20120622,      OVIDE,      68,          1,          8,2,20120713,       0000,    58.9736,   -32.5555,       1854,   999.7,   3.9833,  34.9144,2,  34.9134,2,    295.7,2,   295.6,2,    8.51,2,   15.47,2,    1.02,2,   4.260,2,   2.347,2,  -999.0,9,   7.7264,2,    25.00,   3.9071
29AH20120622,      OVIDE,      68,          1,          9,2,20120713,       0000,    58.9736,   -32.5555,       1854,   899.0,   4.0066,  34.9143,2,  34.9127,2,    297.7,2,   297.2,2,    8.30,2,   15.34,2,    1.02,2,-999.000,9,-999.000,9,  -999.0,9,   7.7285,2,    25.00,   3.9386
29AH20120622,      OVIDE,      68,          1,         10,2,20120713,       0000,    58.9736,   -32.5555,       1854,   898.9,   4.0067,  34.9142,2,-999.0000,9,    297.7,2,  -999.0,9, -999.00,9, -999.00,9, -999.00,9,-999.000,9,-999.000,9,  -999.0,9,-999.0000,9,  -999.00,   3.9387
29AH20120622,      OVIDE,      68,          1,         11,2,20120713,       0000,    58.9736,   -32.5555,       1854,   799.5,   4.0682,  34.9198,2,  34.9197,2,    293.9,2,   295.0,2,    8.31,2,   15.49,2,    1.01,2,   4.257,2,   2.348,2,  -999.0,9,   7.7283,2,    25.00,   4.0079
29AH20120622,      OVIDE,      68,          1,         12,2,20120713,       0000,    58.9736,   -32.5555,       1854,   698.5,   4.2361,  34.9351,2,-999.0000,9,    281.7,2,  -999.0,9,    8.48,3,   15.92,3,    1.04,3,-999.000,9,-999.000,9,  -999.0,9,-999.0000,9,  -999.00,   4.1830
29AH20120622,      OVIDE,      68,          1,         13,2,20120713,       0000,    58.9736,   -32.5555,       1854,   600.7,   4.5842,  34.9573,2,  34.9544,2,    274.8,2,   266.2,3,    9.66,2,   16.81,2,    1.10,2,-999.000,9,-999.000,9,  -999.0,9,   7.7140,2,    25.00,   4.5374
29AH20120622,      OVIDE,      68,          1,         14,2,20120713,       0000,    58.9736,   -32.5555,       1854,   600.6,   4.5839,  34.9574,2,-999.0000,9,    274.8,2,  -999.0,9, -999.00,9, -999.00,9, -999.00,9,-999.000,9,-999.000,9,  -999.0,9,-999.0000,9,  -999.00,   4.5371
29AH20120622,      OVIDE,      68,          1,         15,2,20120713,       0000,    58.9736,   -32.5555,       1854,   498.2,   4.9364,  34.9694,2,  34.9670,2,    264.0,2,   264.0,2,    9.19,2,   16.67,2,    1.10,2,   3.675,6,   1.998,6,  -999.0,9,   7.7147,2,    25.00,   4.8966
29AH20120622,      OVIDE,      68,          1,         16,2,20120713,       0000,    58.9736,   -32.5555,       1854,   399.2,   5.2754,  34.9776,2,  34.9799,2,    271.1,2,   270.2,2,    8.29,2,   16.03,2,    1.05,2,-999.000,9,-999.000,9,  -999.0,9,   7.7253,2,    25.00,   5.2427
29AH20120622,      OVIDE,      68,          1,         17,2,20120713,       0000,    58.9736,   -32.5555,       1854,   300.1,   5.8331,  35.0055,2,-999.0000,9,    277.0,2,  -999.0,9, -999.00,9, -999.00,9, -999.00,9,-999.000,9,-999.000,9,  -999.0,9,-999.0000,9,  -999.00,   5.8074
29AH20120622,      OVIDE,      68,          1,         18,2,20120713,       0000,    58.9736,   -32.5555,       1854,   300.1,   5.8332,  35.0054,2,  35.0005,2,    277.0,2,   276.2,2,    7.58,2,   15.17,2,    1.02,2,-999.000,9,-999.000,9,  -999.0,9,   7.7395,2,    25.00,   5.8075
29AH20120622,      OVIDE,      68,          1,         19,2,20120713,       0000,    58.9736,   -32.5555,       1854,   199.6,   6.2820,  35.0341,2,  35.0326,2,    278.3,2,   275.7,2,    7.39,2,   14.95,2,    0.99,2,   3.764,2,   2.110,2,  -999.0,9,   7.7490,2,    25.00,   6.2644
29AH20120622,      OVIDE,      68,          1,         20,2,20120713,       0000,    58.9736,   -32.5555,       1854,   150.1,   6.3574,  35.0166,2,  35.0204,2,    280.3,2,   276.3,3,    7.03,2,   14.86,2,    0.94,2,-999.000,9,-999.000,9,  -999.0,9,   7.7493,2,    25.00,   6.3441
29AH20120622,      OVIDE,      68,          1,         21,2,20120713,       0000,    58.9736,   -32.5555,       1854,    99.6,   6.3675,  34.9633,2,  34.9624,2,    279.2,2,   276.9,2,    6.80,2,   14.32,2,    0.89,2,-999.000,9,-999.000,9,  -999.0,9,   7.7503,2,    25.00,   6.3587
29AH20120622,      OVIDE,      68,          1,         22,2,20120713,       0000,    58.9736,   -32.5555,       1854,    29.6,   6.8024,  34.8894,2,  34.8892,2,    297.0,2,   284.2,3,    5.37,2,   12.69,2,    0.70,2,-999.000,9,-999.000,9,  -999.0,9,   7.7679,2,    25.00,   6.7997
29AH20120622,      OVIDE,      68,          1,         23,2,20120713,       0000,    58.9736,   -32.5555,       1854,     7.8,  11.4428,  34.8336,2,  34.8366,2,    293.1,2,   292.4,2,    1.46,2,    5.33,2,    0.19,2,   3.423,2,   1.955,2,  -999.0,9,   7.9036,2,    25.00,  11.4418
29AH20120622,      OVIDE,      68,          1,         24,2,20120713,       0000,    58.9736,   -32.5555,       1854,     7.7,  11.4701,  34.8333,2,-999.0000,9,    293.1,2,  -999.0,9, -999.00,9, -999.00,9, -999.00,9,-999.000,9,-999.000,9,  -999.0,9,-999.0000,9,  -999.00,  11.4691