BOTTLE,20151116SIOCCHCBG
EXPOCODE,SECT_ID,STNNBR,CASTNO,BTLNBR,BTLNBR_FLAG_W,DATE,TIME,LATITUDE,LONGITUDE,DEPTH,CTDPRS,CTDTMP,CTDSAL,CTDSAL_FLAG_W,SALNTY,SALNTY_FLAG_W,CTDOXY,CTDOXY_FLAG_W,OXYGEN,OXYGEN_FLAG_W,SILCAT,SILCAT_FLAG_W,NITRAT,NITRAT_FLAG_W,PHSPHT,PHSPHT_FLAG_W,CFC-11,CFC-11_FLAG_W,CFC-12,CFC-12_FLAG_W,ALKALI,ALKALI_FLAG_W,PH_TOT,PH_TOT_FLAG_W,PH_TMP,THETA
,,,,,,,,,,METERS,DBAR,ITS-90,PSS-78,,PSS-78,,UMOL/KG,,UMOL/KG,,UMOL/KG,,UMOL/KG,,UMOL/KG,,PMOL/KG,,PMOL/KG,,UMOL/KG,,,,DEG C,DEG C
29AH20120622,      OVIDE,      77,          1,          1,2,20120715,       0000,    59.5565,   -38.3166,       3040,  3076.2,   1.4338,  34.9054,2,  34.8985,4,    301.5,2,   303.5,2,    8.58,2,   13.02,2,    0.90,2,-999.000,9,-999.000,9,  2302.8,2,   7.7193,2,    25.00,   1.2100
29AH20120622,      OVIDE,      77,          1,          2,2,20120715,       0000,    59.5565,   -38.3166,       3040,  3024.9,   1.7757,  34.9044,2,  34.9024,2,    297.6,2,   296.8,2,    9.12,2,   13.54,2,    0.94,2,-999.000,9,-999.000,9,  2302.0,2,   7.7217,2,    25.00,   1.5493
29AH20120622,      OVIDE,      77,          1,          3,2,20120715,       0000,    59.5565,   -38.3166,       3040,  2975.5,   2.1485,  34.9084,2,  34.9091,2,    291.2,2,   289.9,2,   10.59,2,   14.28,2,    0.98,2,-999.000,9,-999.000,9,  2303.8,2,   7.7249,2,    25.00,   1.9187
29AH20120622,      OVIDE,      77,          1,          4,2,20120715,       0000,    59.5565,   -38.3166,       3040,  2750.8,   2.7594,  34.9291,2,  34.9246,2,    279.4,2,   279.6,2,   12.96,2,   15.58,2,    1.04,2,-999.000,9,-999.000,9,  2305.8,2,   7.7305,2,    25.00,   2.5392
29AH20120622,      OVIDE,      77,          1,          5,2,20120715,       0000,    59.5565,   -38.3166,       3040,  2499.9,   2.9858,  34.9337,2,  34.9376,2,    276.5,2,   276.8,2,   12.58,2,   15.89,2,    1.06,2,-999.000,9,-999.000,9,  2308.8,2,   7.7316,2,    25.00,   2.7861
29AH20120622,      OVIDE,      77,          1,          6,2,20120715,       0000,    59.5565,   -38.3166,       3040,  2250.5,   3.1440,  34.9340,2,  34.9328,2,    276.0,2,   275.5,2,   11.93,2,   15.97,2,    1.06,2,-999.000,9,-999.000,9,  2305.1,2,   7.7291,2,    25.00,   2.9657
29AH20120622,      OVIDE,      77,          1,          7,2,20120715,       0000,    59.5565,   -38.3166,       3040,  1999.8,   3.2910,  34.9292,2,  34.9287,2,    275.7,2,   276.4,2,   11.01,2,   15.91,2,    1.08,2,-999.000,9,-999.000,9,  2304.7,2,   7.7285,2,    25.00,   3.1341
29AH20120622,      OVIDE,      77,          1,          8,2,20120715,       0000,    59.5565,   -38.3166,       3040,  1800.7,   3.4447,  34.9311,2,  34.9305,2,    274.6,2,   275.2,2,   10.65,2,   16.09,2,    1.08,2,-999.000,9,-999.000,9,  2304.9,2,   7.7264,2,    25.00,   3.3040
29AH20120622,      OVIDE,      77,          1,          9,2,20120715,       0000,    59.5565,   -38.3166,       3040,  1600.4,   3.6075,  34.9317,2,  34.9307,2,    273.2,2,   274.4,2,   10.10,2,   16.05,2,    1.09,2,-999.000,9,-999.000,9,  2305.4,2,   7.7227,2,    25.00,   3.4829
29AH20120622,      OVIDE,      77,          1,         10,2,20120715,       0000,    59.5565,   -38.3166,       3040,  1400.2,   3.7095,  34.9242,2,  34.9268,2,    273.3,2,   274.5,2,   10.58,2,   15.95,3,    1.10,2,-999.000,9,-999.000,9,  2305.4,2,   7.7223,2,    25.00,   3.6015
29AH20120622,      OVIDE,      77,          1,         11,2,20120715,       0000,    59.5565,   -38.3166,       3040,  1200.4,   3.7381,  34.9041,2,  34.9034,2,    277.5,2,   277.8,2,    9.74,2,   15.65,3,    1.09,2,-999.000,9,-999.000,9,  2304.4,2,   7.7194,2,    25.00,   3.6471
29AH20120622,      OVIDE,      77,          1,         12,2,20120715,       0000,    59.5565,   -38.3166,       3040,   999.9,   3.9272,  34.9139,2,  34.9137,2,    289.5,2,   292.6,2,    9.04,2,   15.31,3,    1.06,2,-999.000,9,-999.000,9,  2303.1,2,   7.7253,2,    25.00,   3.8514
29AH20120622,      OVIDE,      77,          1,         13,2,20120715,       0000,    59.5565,   -38.3166,       3040,   900.6,   3.9452,  34.9131,2,  34.9139,2,    292.6,2,   294.1,2,    8.55,2,   15.58,3,    1.05,2,-999.000,9,-999.000,9,  -999.0,9,   7.7274,2,    25.00,   3.8775
29AH20120622,      OVIDE,      77,          1,         14,2,20120715,       0000,    59.5565,   -38.3166,       3040,   801.5,   3.9386,  34.9093,2,  34.9078,2,    292.9,2,   294.3,2,    8.37,2,   15.68,2,    1.03,2,-999.000,9,-999.000,9,  2302.3,2,   7.7256,2,    25.00,   3.8790
29AH20120622,      OVIDE,      77,          1,         15,2,20120715,       0000,    59.5565,   -38.3166,       3040,   699.9,   3.9565,  34.9105,2,  34.9102,2,    293.2,2,   297.0,2,    7.86,2,   15.33,2,    1.03,2,-999.000,9,-999.000,9,  -999.0,9,   7.7290,2,    25.00,   3.9049
29AH20120622,      OVIDE,      77,          1,         16,2,20120715,       0000,    59.5565,   -38.3166,       3040,   600.8,   4.0165,  34.9181,2,  34.9181,2,    295.8,2,   296.5,2,    7.83,2,   15.48,2,    1.06,2,-999.000,9,-999.000,9,  2302.7,2,   7.7283,2,    25.00,   3.9724
29AH20120622,      OVIDE,      77,          1,         17,2,20120715,       0000,    59.5565,   -38.3166,       3040,   501.4,   4.0138,  34.9153,2,  34.9146,2,    294.5,2,   295.2,2,    8.27,2,   15.38,2,    1.04,2,-999.000,9,-999.000,9,  -999.0,9,   7.7269,2,    25.00,   3.9774
29AH20120622,      OVIDE,      77,          1,         18,2,20120715,       0000,    59.5565,   -38.3166,       3040,   400.7,   4.0829,  34.9202,2,  34.9200,2,    293.5,2,   294.5,2,    8.36,2,   15.88,2,    1.04,2,-999.000,9,-999.000,9,  2304.6,2,   7.7283,2,    25.00,   4.0539
29AH20120622,      OVIDE,      77,          1,         19,2,20120715,       0000,    59.5565,   -38.3166,       3040,   300.1,   4.2258,  34.9327,2,  34.9321,2,    290.1,2,   290.4,2,    8.06,2,   15.81,2,    1.05,2,-999.000,9,-999.000,9,  -999.0,9,   7.7250,2,    25.00,   4.2039
29AH20120622,      OVIDE,      77,          1,         20,2,20120715,       0000,    59.5565,   -38.3166,       3040,   200.8,   4.5117,  34.9514,2,  34.9523,2,    286.2,2,   285.5,2,    8.13,2,   15.91,2,    1.05,2,-999.000,9,-999.000,9,  2305.2,2,   7.7242,2,    25.00,   4.4968
29AH20120622,      OVIDE,      77,          1,         21,2,20120715,       0000,    59.5565,   -38.3166,       3040,   149.9,   4.6093,  34.9428,2,  34.9428,2,    288.5,2,   286.7,2,    8.06,2,   15.78,2,    1.05,2,-999.000,9,-999.000,9,  -999.0,9,   7.7253,2,    25.00,   4.5981
29AH20120622,      OVIDE,      77,          1,         22,2,20120715,       0000,    59.5565,   -38.3166,       3040,   100.0,   4.9410,  34.9573,2,  34.9569,2,    285.2,2,   286.3,2,    8.00,2,   15.77,2,    1.01,2,-999.000,9,-999.000,9,  2305.5,2,   7.7296,2,    25.00,   4.9333
29AH20120622,      OVIDE,      77,          1,         23,2,20120715,       0000,    59.5565,   -38.3166,       3040,    40.1,   5.8649,  34.8368,2,  34.8354,2,    316.3,2,   310.6,3,    1.68,2,    9.42,2,    0.68,2,-999.000,9,-999.000,9,  -999.0,9,   7.7961,2,    25.00,   5.8615
29AH20120622,      OVIDE,      77,          1,         24,2,20120715,       0000,    59.5565,   -38.3166,       3040,     5.6,  10.0540,  34.7320,2,  34.7322,2,    287.9,2,   292.2,2,    0.20,2,    5.29,2,    0.22,2,-999.000,9,-999.000,9,  2299.0,2,   7.8696,2,    25.00,  10.0534
29AH20120622,      OVIDE,      78,          1,          1,2,20120715,       0000,    59.6237,   -38.9582,       2928,  2959.8,   1.5081,  34.8972,2,  34.8973,2,    304.5,2,   304.1,2,    8.40,2,   13.25,2,    0.85,3,   4.258,2,   2.253,2,  -999.0,9,   7.7210,2,    25.00,   1.2938
29AH20120622,      OVIDE,      78,          1,          2,2,20120715,       0000,    59.6237,   -38.9582,       2928,  2908.2,   1.6317,  34.8973,2,  34.8963,2,    302.4,2,   301.8,2,    8.38,2,   13.49,2,    0.85,3,-999.000,9,-999.000,9,  -999.0,9,   7.7213,2,    25.00,   1.4197
29AH20120622,      OVIDE,      78,          1,          3,2,20120715,       0000,    59.6237,   -38.9582,       2928,  2860.7,   1.8675,  34.9015,2,  34.8998,2,    298.0,2,   299.6,2,    8.60,2,   13.65,2,    0.88,2,-999.000,9,-999.000,9,  -999.0,9,   7.7220,2,    25.00,   1.6550
29AH20120622,      OVIDE,      78,          1,          4,2,20120715,       0000,    59.6237,   -38.9582,       2928,  2749.6,   2.4454,  34.9158,2,  34.9157,2,    284.9,2,   285.7,2,   12.12,2,   15.19,2,    1.00,2,   3.219,2,   1.658,2,  -999.0,9,   7.7273,2,    25.00,   2.2317
29AH20120622,      OVIDE,      78,          1,          5,2,20120715,       0000,    59.6237,   -38.9582,       2928,  2499.7,   2.8584,  34.9336,2,  34.9315,2,    277.1,2,   277.2,2,   13.50,2,   15.94,2,    1.05,2,-999.000,9,-999.000,9,  -999.0,9,   7.7308,2,    25.00,   2.6611
29AH20120622,      OVIDE,      78,          1,          6,2,20120715,       0000,    59.6237,   -38.9582,       2928,  2250.0,   3.0380,  34.9343,2,  34.9346,2,    275.9,2,   276.1,2,   13.14,2,   16.22,2,    1.08,2,   2.716,2,   1.356,2,  -999.0,9,   7.7299,2,    25.00,   2.8615
29AH20120622,      OVIDE,      78,          1,          7,2,20120715,       0000,    59.6237,   -38.9582,       2928,  1999.7,   3.1905,  34.9311,2,  34.9324,2,    275.6,2,   275.7,2,   12.44,2,   16.25,2,    1.08,2,   2.930,2,   1.482,2,  -999.0,9,   7.7300,2,    25.00,   3.0351
29AH20120622,      OVIDE,      78,          1,          8,2,20120715,       0000,    59.6237,   -38.9582,       2928,  1799.9,   3.3283,  34.9306,2,  34.9304,2,    275.1,2,   276.3,2,   11.89,2,   16.33,2,    1.09,2,-999.000,9,-999.000,9,  -999.0,9,   7.7322,2,    25.00,   3.1893
29AH20120622,      OVIDE,      78,          1,          9,2,20120715,       0000,    59.6237,   -38.9582,       2928,  1599.4,   3.4833,  34.9296,2,  34.9298,2,    273.9,2,   275.1,2,   11.44,2,   16.58,2,    1.11,2,   3.178,2,   1.607,2,  -999.0,9,   7.7245,2,    25.00,   3.3603
29AH20120622,      OVIDE,      78,          1,         10,2,20120715,       0000,    59.6237,   -38.9582,       2928,  1398.9,   3.6475,  34.9287,2,  34.9279,2,    272.9,2,   274.1,2,   11.11,2,   16.67,2,    1.10,2,   3.408,2,   1.729,2,  -999.0,9,   7.7219,2,    25.00,   3.5403
29AH20120622,      OVIDE,      78,          1,         11,2,20120715,       0000,    59.6237,   -38.9582,       2928,  1200.1,   3.7140,  34.9132,2,  34.9115,2,    275.7,2,   277.3,2,   10.49,2,   16.56,2,    1.12,2,   3.762,6,   1.949,6,  -999.0,9,   7.7179,2,    25.00,   3.6232
29AH20120622,      OVIDE,      78,          1,         12,2,20120715,       0000,    59.6237,   -38.9582,       2928,   999.8,   3.7629,  34.8982,2,  34.8970,2,    280.9,2,   279.5,2,    9.96,2,   16.58,2,    1.11,2,-999.000,9,-999.000,9,  -999.0,9,   7.7171,2,    25.00,   3.6884
29AH20120622,      OVIDE,      78,          1,         13,2,20120715,       0000,    59.6237,   -38.9582,       2928,   900.1,   3.8541,  34.9034,2,  34.9040,2,    289.5,2,   290.2,2,    9.29,2,   15.99,2,    1.08,2,   4.203,2,   2.257,2,  -999.0,9,   7.7212,2,    25.00,   3.7871
29AH20120622,      OVIDE,      78,          1,         14,2,20120715,       0000,    59.6237,   -38.9582,       2928,   799.9,   3.9024,  34.9062,2,  34.9060,2,    294.0,2,   293.9,2,    8.79,2,   15.69,2,    1.06,2,-999.000,9,-999.000,9,  -999.0,9,   7.7252,2,    25.00,   3.8431
29AH20120622,      OVIDE,      78,          1,         15,2,20120715,       0000,    59.6237,   -38.9582,       2928,   700.2,   3.8790,  34.9000,2,  34.8984,2,    296.2,2,   298.2,2,    8.57,2,   15.77,2,    1.05,2,-999.000,9,-999.000,9,  -999.0,9,   7.7258,2,    25.00,   3.8278
29AH20120622,      OVIDE,      78,          1,         16,2,20120715,       0000,    59.6237,   -38.9582,       2928,   600.1,   3.9053,  34.9030,2,  34.9020,2,    296.1,2,   296.0,2,    8.44,2,   15.70,2,    1.06,2,   4.331,2,   2.370,2,  -999.0,9,   7.7249,2,    25.00,   3.8617
29AH20120622,      OVIDE,      78,          1,         17,2,20120715,       0000,    59.6237,   -38.9582,       2928,   499.9,   3.9575,  34.9087,2,  34.9087,2,    295.3,2,   295.8,2,    8.47,2,   15.56,2,    1.06,2,-999.000,9,-999.000,9,  -999.0,9,   7.7258,2,    25.00,   3.9214
29AH20120622,      OVIDE,      78,          1,         18,2,20120715,       0000,    59.6237,   -38.9582,       2928,   400.2,   3.9719,  34.9073,2,  34.9082,2,    294.1,2,   295.3,2,    8.36,2,   15.79,2,    1.03,2,-999.000,9,-999.000,9,  -999.0,9,   7.7260,2,    25.00,   3.9433
29AH20120622,      OVIDE,      78,          1,         19,2,20120715,       0000,    59.6237,   -38.9582,       2928,   299.6,   4.1061,  34.9207,2,-999.0000,9,    292.0,2,   292.4,2,    8.17,3,   15.91,3,    1.03,3,   4.265,2,   2.336,2,  -999.0,9,-999.0000,9,  -999.00,   4.0846
29AH20120622,      OVIDE,      78,          1,         20,2,20120715,       0000,    59.6237,   -38.9582,       2928,   199.5,   4.3229,  34.9343,2,  34.9340,2,    289.5,2,   288.6,2,    8.40,2,   15.99,2,    1.01,2,-999.000,9,-999.000,9,  -999.0,9,   7.7246,2,    25.00,   4.3084
29AH20120622,      OVIDE,      78,          1,         21,2,20120715,       0000,    59.6237,   -38.9582,       2928,   149.6,   4.3593,  34.9174,2,  34.9162,2,    292.7,2,   291.4,2,    8.36,2,   16.26,2,    1.07,2,-999.000,9,-999.000,9,  -999.0,9,   7.7252,2,    25.00,   4.3484
29AH20120622,      OVIDE,      78,          1,         22,2,20120715,       0000,    59.6237,   -38.9582,       2928,   100.5,   4.6163,  34.9234,2,  34.9222,2,    293.1,2,   291.4,2,    8.24,2,   15.95,2,    1.06,2,-999.000,9,-999.000,9,  -999.0,9,   7.7293,2,    25.00,   4.6088
29AH20120622,      OVIDE,      78,          1,         23,2,20120715,       0000,    59.6237,   -38.9582,       2928,    49.8,   5.7352,  34.8661,2,  34.8689,2,    306.1,2,   306.7,2,    2.52,2,   11.35,2,    0.96,2,-999.000,9,-999.000,9,  -999.0,9,   7.7765,2,    25.00,   5.7311
29AH20120622,      OVIDE,      78,          1,         24,2,20120715,       0000,    59.6237,   -38.9582,       2928,     6.7,  10.1980,  34.7537,2,  34.7570,2,    289.5,2,   294.4,2,    0.29,2,    5.53,2,    0.34,2,   3.650,2,   2.074,2,  -999.0,9,   7.8774,2,    25.00,  10.1972