BOTTLE,20151116SIOCCHCBG
EXPOCODE,SECT_ID,STNNBR,CASTNO,BTLNBR,BTLNBR_FLAG_W,DATE,TIME,LATITUDE,LONGITUDE,DEPTH,CTDPRS,CTDTMP,CTDSAL,CTDSAL_FLAG_W,SALNTY,SALNTY_FLAG_W,CTDOXY,CTDOXY_FLAG_W,OXYGEN,OXYGEN_FLAG_W,SILCAT,SILCAT_FLAG_W,NITRAT,NITRAT_FLAG_W,PHSPHT,PHSPHT_FLAG_W,CFC-11,CFC-11_FLAG_W,CFC-12,CFC-12_FLAG_W,ALKALI,ALKALI_FLAG_W,PH_TOT,PH_TOT_FLAG_W,PH_TMP,THETA
,,,,,,,,,,METERS,DBAR,ITS-90,PSS-78,,PSS-78,,UMOL/KG,,UMOL/KG,,UMOL/KG,,UMOL/KG,,UMOL/KG,,PMOL/KG,,PMOL/KG,,UMOL/KG,,,,DEG C,DEG C
29AH20120622,      OVIDE,      37,          1,          1,2,20120703,       0000,    48.0383,   -20.8461,       4452,  4526.1,   2.5534,  34.9088,2,  34.9276,4,    239.6,2,   242.9,2,   37.85,2,   21.19,2,    1.41,2,-999.000,9,-999.000,9,  2348.7,2,   7.7383,2,    25.00,   2.1411
29AH20120622,      OVIDE,      37,          1,          2,2,20120703,       0000,    48.0383,   -20.8461,       4452,  4001.0,   2.5476,  34.9147,2,  34.9184,2,    240.3,2,   239.3,2,   41.57,2,   21.99,2,    1.46,2,-999.000,9,-999.000,9,  2350.4,2,   7.7379,2,    25.00,   2.1977
29AH20120622,      OVIDE,      37,          1,          3,2,20120703,       0000,    48.0383,   -20.8461,       4452,  3750.0,   2.5649,  34.9190,2,  34.9202,2,    241.9,2,   242.0,2,   40.24,2,   21.54,2,    1.42,2,-999.000,9,-999.000,9,  2348.3,2,   7.7368,2,    25.00,   2.2431
29AH20120622,      OVIDE,      37,          1,          4,2,20120703,       0000,    48.0383,   -20.8461,       4452,  3501.8,   2.6365,  34.9277,2,-999.0000,9,    245.5,2,  -999.0,9,   35.83,3,   20.86,3,    1.37,3,-999.000,9,-999.000,9,  -999.0,9,-999.0000,9,  -999.00,   2.3404
29AH20120622,      OVIDE,      37,          1,          5,2,20120703,       0000,    48.0383,   -20.8461,       4452,  3001.0,   2.8626,  34.9447,2,  34.9482,2,    257.0,2,   255.7,2,   25.50,2,   18.98,2,    1.21,2,-999.000,9,-999.000,9,  2326.8,2,   7.7330,2,    25.00,   2.6146
29AH20120622,      OVIDE,      37,          1,          6,2,20120703,       0000,    48.0383,   -20.8461,       4452,  2750.1,   3.0264,  34.9442,2,  34.9450,2,    261.6,2,   260.4,2,   21.02,2,   18.10,2,    1.18,2,-999.000,9,-999.000,9,  2320.0,2,   7.7317,2,    25.00,   2.8009
29AH20120622,      OVIDE,      37,          1,          7,2,20120703,       0000,    48.0383,   -20.8461,       4452,  2500.7,   3.1797,  34.9327,2,-999.0000,9,    268.5,2,  -999.0,9,   16.98,3,   17.72,3,    1.15,3,-999.000,9,-999.000,9,  -999.0,9,-999.0000,9,  -999.00,   2.9764
29AH20120622,      OVIDE,      37,          1,          8,2,20120703,       0000,    48.0383,   -20.8461,       4452,  2249.8,   3.3738,  34.9230,2,  34.9250,2,    272.6,2,   270.8,2,   13.51,2,   17.31,2,    1.11,2,-999.000,9,-999.000,9,  2306.0,2,   7.7304,2,    25.00,   3.1918
29AH20120622,      OVIDE,      37,          1,          9,2,20120703,       0000,    48.0383,   -20.8461,       4452,  2000.6,   3.6254,  34.9265,2,  34.9283,2,    270.7,2,   269.4,2,   12.11,2,   17.27,2,    1.09,2,-999.000,9,-999.000,9,  2306.1,2,   7.7266,2,    25.00,   3.4635
29AH20120622,      OVIDE,      37,          1,         10,2,20120703,       0000,    48.0383,   -20.8461,       4452,  1801.3,   3.9745,  34.9534,2,  34.9595,4,    265.6,2,   264.8,2,   11.75,2,   17.48,2,    1.11,2,-999.000,9,-999.000,9,  2307.5,2,   7.7229,2,    25.00,   3.8266
29AH20120622,      OVIDE,      37,          1,         11,2,20120703,       0000,    48.0383,   -20.8461,       4452,  1599.5,   4.4021,  34.9824,2,  34.9855,2,    261.7,2,   258.9,2,   10.71,2,   17.57,2,    1.09,2,-999.000,9,-999.000,9,  2308.4,2,   7.7193,2,    25.00,   4.2679
29AH20120622,      OVIDE,      37,          1,         12,2,20120703,       0000,    48.0383,   -20.8461,       4452,  1400.2,   5.1252,  35.0721,2,  35.0734,2,    244.4,2,   245.5,2,   10.79,2,   17.79,2,    1.10,2,-999.000,9,-999.000,9,  2313.8,2,   7.7212,2,    25.00,   5.0019
29AH20120622,      OVIDE,      37,          1,         13,2,20120703,       0000,    48.0383,   -20.8461,       4452,  1201.1,   6.7861,  35.2867,2,  35.2903,2,    218.3,2,   218.3,2,   10.76,2,   18.11,2,    1.11,2,-999.000,9,-999.000,9,  2329.2,2,   7.7304,2,    25.00,   6.6669
29AH20120622,      OVIDE,      37,          1,         14,2,20120703,       0000,    48.0383,   -20.8461,       4452,  1000.6,   7.9738,  35.3376,2,  35.3376,2,    195.9,2,   197.9,2,   10.42,2,   18.70,2,    1.13,2,-999.000,9,-999.000,9,  2331.7,2,   7.7285,2,    25.00,   7.8670
29AH20120622,      OVIDE,      37,          1,         15,2,20120703,       0000,    48.0383,   -20.8461,       4452,   900.5,   9.0566,  35.4431,2,  35.4440,2,    188.6,2,   190.8,2,    9.69,2,   17.92,2,    1.07,2,-999.000,9,-999.000,9,  2336.7,2,   7.7424,2,    25.00,   8.9539
29AH20120622,      OVIDE,      37,          1,         16,2,20120703,       0000,    48.0383,   -20.8461,       4452,   800.8,   9.7969,  35.4382,2,  35.4399,2,    192.9,2,  -999.0,9,    8.38,2,   16.90,2,    0.98,2,-999.000,9,-999.000,9,  2333.4,2,   7.7567,2,    25.00,   9.7018
29AH20120622,      OVIDE,      37,          1,         17,2,20120703,       0000,    48.0383,   -20.8461,       4452,   600.5,  11.0209,  35.5145,2,  35.5150,2,    228.2,2,   231.0,2,    4.67,2,   11.66,2,    0.62,2,-999.000,9,-999.000,9,  2334.5,2,   7.8172,2,    25.00,  10.9450
29AH20120622,      OVIDE,      37,          1,         18,2,20120703,       0000,    48.0383,   -20.8461,       4452,   500.0,  11.3143,  35.5412,2,  35.5455,2,    246.3,2,   247.0,2,    3.53,2,    9.93,2,    0.50,2,-999.000,9,-999.000,9,  2336.7,2,   7.8427,2,    25.00,  11.2503
29AH20120622,      OVIDE,      37,          1,         19,2,20120703,       0000,    48.0383,   -20.8461,       4452,   400.8,  11.5554,  35.5547,2,  35.5567,2,    238.7,2,   241.6,2,    3.63,2,    9.99,2,    0.52,2,-999.000,9,-999.000,9,  2338.0,2,   7.8428,2,    25.00,  11.5036
29AH20120622,      OVIDE,      37,          1,         20,2,20120703,       0000,    48.0383,   -20.8461,       4452,   301.2,  11.7751,  35.5511,2,  35.5536,2,    235.0,2,   235.7,2,    3.80,2,   10.04,2,    0.50,2,-999.000,9,-999.000,9,  2336.5,2,   7.8441,2,    25.00,  11.7359
29AH20120622,      OVIDE,      37,          1,         21,2,20120703,       0000,    48.0383,   -20.8461,       4452,   201.0,  12.3554,  35.5940,2,-999.0000,9,    236.9,2,  -999.0,9,    3.03,3,    8.55,3,    0.39,3,-999.000,9,-999.000,9,  -999.0,9,-999.0000,9,  -999.00,  12.3285
29AH20120622,      OVIDE,      37,          1,         22,2,20120703,       0000,    48.0383,   -20.8461,       4452,    99.8,  12.7554,  35.6236,2,  35.6260,2,    247.4,2,   244.8,2,    2.62,2,    7.11,2,    0.28,2,-999.000,9,-999.000,9,  2340.9,2,   7.8805,2,    25.00,  12.7418
29AH20120622,      OVIDE,      37,          1,         23,2,20120703,       0000,    48.0383,   -20.8461,       4452,    31.7,  15.2229,  35.5715,2,  35.5782,4,    245.8,2,   249.1,2,    0.71,2,    0.32,2,    0.01,2,-999.000,9,-999.000,9,  2343.2,2,   7.9798,2,    25.00,  15.2181
29AH20120622,      OVIDE,      37,          1,         24,2,20120703,       0000,    48.0383,   -20.8461,       4452,     6.2,  15.2775,  35.5706,2,  35.5757,4,    250.2,2,   249.8,2,    0.67,2,    0.10,2,    0.00,2,-999.000,9,-999.000,9,  2343.5,2,   7.9844,2,    25.00,  15.2766
29AH20120622,      OVIDE,      38,          1,          1,2,20120705,       0000,    48.4131,   -21.1414,       4333,  4405.0,   2.5717,  34.9122,2,  34.9106,2,    238.3,2,   239.2,2,   42.42,2,   21.79,2,    1.46,2,   0.096,2,   0.052,2,  -999.0,9,   7.7394,2,    25.00,   2.1736
29AH20120622,      OVIDE,      38,          1,          2,2,20120705,       0000,    48.4131,   -21.1414,       4333,  3999.7,   2.5970,  34.9194,2,  34.9164,2,    240.2,2,   241.4,2,   39.76,2,   21.46,2,    1.42,2,   0.220,2,   0.110,2,  -999.0,9,   7.7414,2,    25.00,   2.2459
29AH20120622,      OVIDE,      38,          1,          3,2,20120705,       0000,    48.4131,   -21.1414,       4333,  3750.2,   2.6365,  34.9254,2,  34.9232,2,    243.2,2,   244.8,2,   37.01,2,   20.70,2,    1.39,2,-999.000,9,-999.000,9,  -999.0,9,   7.7390,2,    25.00,   2.3128
29AH20120622,      OVIDE,      38,          1,          4,2,20120705,       0000,    48.4131,   -21.1414,       4333,  3501.1,   2.7370,  34.9358,2,  34.9356,2,    248.4,2,   250.5,2,   31.81,2,   19.86,2,    1.36,2,   0.768,6,   0.390,6,  -999.0,9,   7.7411,2,    25.00,   2.4384
29AH20120622,      OVIDE,      38,          1,          5,2,20120705,       0000,    48.4131,   -21.1414,       4333,  3000.5,   3.0141,  34.9424,2,  34.9387,2,    262.9,2,   264.2,2,   19.17,2,   17.72,2,    1.15,2,-999.000,9,-999.000,9,  -999.0,9,   7.7369,2,    25.00,   2.7629
29AH20120622,      OVIDE,      38,          1,          6,2,20120705,       0000,    48.4131,   -21.1414,       4333,  2750.5,   3.1336,  34.9293,2,  34.9279,2,    269.1,2,   271.6,2,   15.21,2,   17.05,2,    1.17,2,-999.000,9,-999.000,9,  -999.0,9,   7.7354,2,    25.00,   2.9060
29AH20120622,      OVIDE,      38,          1,          7,2,20120705,       0000,    48.4131,   -21.1414,       4333,  2501.6,   3.2637,  34.9181,2,  34.9144,2,    271.0,2,   273.6,2,   13.21,2,   17.01,2,    1.09,2,   2.472,2,   1.234,2,  -999.0,9,   7.7350,2,    25.00,   3.0588
29AH20120622,      OVIDE,      38,          1,          8,2,20120705,       0000,    48.4131,   -21.1414,       4333,  2250.3,   3.4431,  34.9137,2,  34.9143,2,    270.3,2,   274.6,2,   12.11,2,   17.00,2,    1.11,2,-999.000,9,-999.000,9,  -999.0,9,   7.7323,2,    25.00,   3.2600
29AH20120622,      OVIDE,      38,          1,          9,2,20120705,       0000,    48.4131,   -21.1414,       4333,  2000.8,   3.7010,  34.9195,2,  34.9194,2,    267.9,2,   270.7,2,   11.30,2,   17.21,2,    1.15,2,   3.013,2,   1.534,2,  -999.0,9,   7.7273,2,    25.00,   3.5380
29AH20120622,      OVIDE,      38,          1,         10,2,20120705,       0000,    48.4131,   -21.1414,       4333,  1801.8,   3.9698,  34.9374,2,  34.9356,2,    263.9,2,   267.4,2,   10.90,2,   17.33,2,    1.09,2,   3.227,2,   1.662,2,  -999.0,9,   7.7244,2,    25.00,   3.8219
29AH20120622,      OVIDE,      38,          1,         11,2,20120705,       0000,    48.4131,   -21.1414,       4333,  1600.5,   4.2230,  34.9493,2,  34.9481,2,    260.3,2,   263.8,2,   10.42,2,   17.48,2,    1.12,2,-999.000,9,-999.000,9,  -999.0,9,   7.7207,2,    25.00,   4.0909
29AH20120622,      OVIDE,      38,          1,         12,2,20120705,       0000,    48.4131,   -21.1414,       4333,  1401.4,   4.9350,  35.0301,2,  35.0297,2,    245.3,2,   249.6,2,   10.47,2,   17.49,2,    1.13,2,   3.112,2,   1.651,2,  -999.0,9,   7.7209,2,    25.00,   4.8137
29AH20120622,      OVIDE,      38,          1,         13,2,20120705,       0000,    48.4131,   -21.1414,       4333,  1201.7,   6.1477,  35.1801,2,  35.1793,2,    213.7,2,   227.4,3,   10.61,2,   17.91,2,    1.14,2,   2.700,2,   1.433,2,  -999.0,9,   7.7253,2,    25.00,   6.0343
29AH20120622,      OVIDE,      38,          1,         14,2,20120705,       0000,    48.4131,   -21.1414,       4333,  1001.3,   8.0445,  35.3301,2,  35.3278,2,    190.3,2,   195.2,3,   10.31,2,   18.51,2,    1.18,2,-999.000,9,-999.000,9,  -999.0,9,   7.7313,2,    25.00,   7.9371
29AH20120622,      OVIDE,      38,          1,         15,2,20120705,       0000,    48.4131,   -21.1414,       4333,   900.2,   9.1130,  35.3801,2,  35.3773,2,    183.3,2,   188.6,3,    9.49,2,   17.90,2,    1.09,2,-999.000,9,-999.000,9,  -999.0,9,   7.7426,2,    25.00,   9.0100
29AH20120622,      OVIDE,      38,          1,         16,2,20120705,       0000,    48.4131,   -21.1414,       4333,   801.3,   9.6459,  35.3570,2,  35.3535,2,    181.8,2,   187.8,3,    8.78,2,   17.54,2,    1.06,2,   2.275,2,   1.262,2,  -999.0,9,   7.7475,2,    25.00,   9.5517
29AH20120622,      OVIDE,      38,          1,         17,2,20120705,       0000,    48.4131,   -21.1414,       4333,   601.0,  11.1417,  35.5289,2,  35.5297,2,    229.2,2,   245.4,3,    3.78,2,   10.21,2,    0.56,2,-999.000,9,-999.000,9,  -999.0,9,   7.8386,2,    25.00,  11.0652
29AH20120622,      OVIDE,      38,          1,         18,2,20120705,       0000,    48.4131,   -21.1414,       4333,   502.1,  11.2626,  35.5298,2,  35.5045,4,    250.4,2,   250.4,2,    3.32,2,    9.60,2,    0.52,2,-999.000,9,-999.000,9,  -999.0,9,   7.8470,2,    25.00,  11.1985
29AH20120622,      OVIDE,      38,          1,         19,2,20120705,       0000,    48.4131,   -21.1414,       4333,   402.4,  11.5752,  35.5868,2,  35.5846,2,    254.6,2,   255.1,2,    2.69,2,    8.42,2,    0.44,2,-999.000,9,-999.000,9,  -999.0,9,   7.8609,2,    25.00,  11.5231
29AH20120622,      OVIDE,      38,          1,         20,2,20120705,       0000,    48.4131,   -21.1414,       4333,   300.5,  11.5558,  35.5496,2,  35.5475,2,    241.9,2,   241.7,2,    3.36,2,    9.45,2,    0.50,2,-999.000,9,-999.000,9,  -999.0,9,   7.8512,2,    25.00,  11.5171
29AH20120622,      OVIDE,      38,          1,         21,2,20120705,       0000,    48.4131,   -21.1414,       4333,   201.6,  11.8711,  35.5689,2,  35.5668,2,    245.7,2,   246.2,3,    3.30,2,    9.13,2,    0.51,2,   2.859,2,   1.686,2,  -999.0,9,   7.8564,2,    25.00,  11.8448
29AH20120622,      OVIDE,      38,          1,         22,2,20120705,       0000,    48.4131,   -21.1414,       4333,   101.5,  12.4929,  35.6137,2,  35.6106,2,    244.9,2,   245.6,2,    2.91,2,    7.62,2,    0.35,2,-999.000,9,-999.000,9,  -999.0,9,   7.8772,2,    25.00,  12.4793
29AH20120622,      OVIDE,      38,          1,         23,2,20120705,       0000,    48.4131,   -21.1414,       4333,    33.7,  14.9874,  35.5624,2,  35.5673,4,    250.5,2,   250.3,2,    0.67,2,    0.44,2,    0.01,2,-999.000,9,-999.000,9,  -999.0,9,   7.9793,2,    25.00,  14.9823
29AH20120622,      OVIDE,      38,          1,         24,2,20120705,       0000,    48.4131,   -21.1414,       4333,    10.0,  15.1077,  35.5560,2,  35.5562,2,    251.3,2,   250.9,2,    0.61,2,    0.22,2,    0.00,2,   2.573,2,   1.539,2,  -999.0,9,   7.9831,2,    25.00,  15.1062