BOTTLE,20151116SIOCCHCBG
EXPOCODE,SECT_ID,STNNBR,CASTNO,BTLNBR,BTLNBR_FLAG_W,DATE,TIME,LATITUDE,LONGITUDE,DEPTH,CTDPRS,CTDTMP,CTDSAL,CTDSAL_FLAG_W,SALNTY,SALNTY_FLAG_W,CTDOXY,CTDOXY_FLAG_W,OXYGEN,OXYGEN_FLAG_W,SILCAT,SILCAT_FLAG_W,NITRAT,NITRAT_FLAG_W,PHSPHT,PHSPHT_FLAG_W,CFC-11,CFC-11_FLAG_W,CFC-12,CFC-12_FLAG_W,ALKALI,ALKALI_FLAG_W,PH_TOT,PH_TOT_FLAG_W,PH_TMP,THETA
,,,,,,,,,,METERS,DBAR,ITS-90,PSS-78,,PSS-78,,UMOL/KG,,UMOL/KG,,UMOL/KG,,UMOL/KG,,UMOL/KG,,PMOL/KG,,PMOL/KG,,UMOL/KG,,,,DEG C,DEG C
29AH20120622,      OVIDE,      57,          1,          1,2,20120710,       0000,    56.6278,   -27.5793,       2720,  2743.7,   2.7958,  34.9839,2,  34.9801,2,    269.7,2,   269.4,2,   17.25,2,   16.04,2,    1.10,2,-999.000,9,-999.000,9,  2315.1,2,   7.7189,2,    25.00,   2.5754
29AH20120622,      OVIDE,      57,          1,          2,2,20120710,       0000,    56.6278,   -27.5793,       2720,  2500.1,   2.9190,  34.9712,2,  34.9678,2,    269.4,2,   268.8,2,   16.68,2,   16.41,2,    1.08,2,-999.000,9,-999.000,9,  2313.4,2,   7.7263,2,    25.00,   2.7204
29AH20120622,      OVIDE,      57,          1,          3,2,20120710,       0000,    56.6278,   -27.5793,       2720,  2250.2,   3.1066,  34.9588,2,  34.9576,2,    272.5,2,   272.1,2,   13.85,2,   16.27,2,    1.07,2,-999.000,9,-999.000,9,  2310.0,2,   7.7298,2,    25.00,   2.9289
29AH20120622,      OVIDE,      57,          1,          4,2,20120710,       0000,    56.6278,   -27.5793,       2720,  2000.2,   3.2632,  34.9380,2,  34.9360,2,    274.1,2,   274.4,2,   12.57,2,   16.29,2,    1.07,2,-999.000,9,-999.000,9,  2306.1,2,   7.7294,2,    25.00,   3.1067
29AH20120622,      OVIDE,      57,          1,          5,2,20120710,       0000,    56.6278,   -27.5793,       2720,  1800.5,   3.4106,  34.9324,2,  34.9318,2,    273.8,2,   272.9,2,   12.00,2,   16.47,2,    1.08,2,-999.000,9,-999.000,9,  2305.6,2,   7.7284,2,    25.00,   3.2704
29AH20120622,      OVIDE,      57,          1,          6,2,20120710,       0000,    56.6278,   -27.5793,       2720,  1599.0,   3.5543,  34.9247,2,  34.9227,2,    272.5,2,   271.4,2,   11.71,2,   16.80,2,    1.10,2,-999.000,9,-999.000,9,  2302.2,2,   7.7252,2,    25.00,   3.4305
29AH20120622,      OVIDE,      57,          1,          7,2,20120710,       0000,    56.6278,   -27.5793,       2720,  1599.0,   3.5543,  34.9248,2,  34.9239,2,    272.5,2,   271.9,2,   11.73,2,   16.82,2,    1.10,2,-999.000,9,-999.000,9,  -999.0,9,-999.0000,9,  -999.00,   3.4305
29AH20120622,      OVIDE,      57,          1,          8,2,20120710,       0000,    56.6278,   -27.5793,       2720,  1400.1,   3.6661,  34.9166,2,  34.9157,2,    272.2,2,   271.7,2,   11.47,2,   17.11,2,    1.10,2,-999.000,9,-999.000,9,  2301.6,2,   7.7218,2,    25.00,   3.5586
29AH20120622,      OVIDE,      57,          1,          9,2,20120710,       0000,    56.6278,   -27.5793,       2720,  1199.7,   3.7736,  34.9088,2,  34.9013,4,    273.9,2,   271.9,2,   10.88,2,   16.90,2,    1.09,2,-999.000,9,-999.000,9,  2299.8,2,   7.7174,2,    25.00,   3.6823
29AH20120622,      OVIDE,      57,          1,         10,2,20120710,       0000,    56.6278,   -27.5793,       2720,   998.9,   3.9346,  34.9107,2,  34.9138,2,    273.3,2,   272.0,2,   10.38,2,   16.85,2,    1.08,2,-999.000,9,-999.000,9,  2299.8,2,   7.7123,2,    25.00,   3.8588
29AH20120622,      OVIDE,      57,          1,         11,2,20120710,       0000,    56.6278,   -27.5793,       2720,   899.6,   4.0243,  34.9142,2,  34.9130,2,    272.3,2,   272.2,2,   10.26,2,   16.89,2,    1.10,2,-999.000,9,-999.000,9,  2300.2,2,   7.7129,2,    25.00,   3.9561
29AH20120622,      OVIDE,      57,          1,         12,2,20120710,       0000,    56.6278,   -27.5793,       2720,   798.9,   4.1961,  34.9251,2,  34.9246,2,    266.8,2,   267.0,2,   10.35,2,   17.09,2,    1.09,2,-999.000,9,-999.000,9,  2299.6,2,   7.7081,2,    25.00,   4.1351
29AH20120622,      OVIDE,      57,          1,         13,2,20120710,       0000,    56.6278,   -27.5793,       2720,   700.0,   4.3627,  34.9330,2,  34.9336,2,    262.5,2,   262.4,2,   10.37,2,   17.21,2,    1.13,2,-999.000,9,-999.000,9,  2301.4,2,   7.7038,2,    25.00,   4.3088
29AH20120622,      OVIDE,      57,          1,         14,2,20120710,       0000,    56.6278,   -27.5793,       2720,   599.4,   4.7325,  34.9563,2,  34.9541,2,    253.6,2,   252.1,2,   10.54,2,   17.57,2,    1.13,2,-999.000,9,-999.000,9,  2302.5,2,   7.7008,2,    25.00,   4.6851
29AH20120622,      OVIDE,      57,          1,         15,2,20120710,       0000,    56.6278,   -27.5793,       2720,   500.1,   5.1618,  34.9763,2,  34.9743,2,    244.0,2,   243.0,2,   10.39,2,   17.88,2,    1.15,2,-999.000,9,-999.000,9,  2306.0,2,   7.7001,2,    25.00,   5.1209
29AH20120622,      OVIDE,      57,          1,         16,2,20120710,       0000,    56.6278,   -27.5793,       2720,   399.9,   5.5422,  34.9659,2,  34.9646,2,    235.3,2,   234.2,2,   10.59,2,   18.15,2,    1.16,2,-999.000,9,-999.000,9,  2301.0,2,   7.6964,2,    25.00,   5.5086
29AH20120622,      OVIDE,      57,          1,         17,2,20120710,       0000,    56.6278,   -27.5793,       2720,   299.6,   6.0896,  34.9655,2,  34.9672,2,    257.1,2,   260.6,2,    8.61,2,   16.08,2,    1.01,2,-999.000,9,-999.000,9,  2302.5,2,   7.7279,2,    25.00,   6.0634
29AH20120622,      OVIDE,      57,          1,         18,2,20120710,       0000,    56.6278,   -27.5793,       2720,   199.2,   6.2409,  34.9076,2,  34.9135,4,    272.0,2,   267.6,3,    8.00,2,   15.15,2,    0.94,2,-999.000,9,-999.000,9,  2297.7,2,   7.7376,2,    25.00,   6.2234
29AH20120622,      OVIDE,      57,          1,         19,2,20120710,       0000,    56.6278,   -27.5793,       2720,   150.1,   6.3490,  34.8823,2,  34.8849,2,    278.5,2,   275.5,2,    7.54,2,   14.33,2,    0.86,2,-999.000,9,-999.000,9,  2298.4,2,   7.7448,2,    25.00,   6.3358
29AH20120622,      OVIDE,      57,          1,         20,2,20120710,       0000,    56.6278,   -27.5793,       2720,    99.7,   6.5055,  34.8541,2,  34.8554,2,    285.1,2,   287.6,2,    5.63,2,   12.86,2,    0.76,2,-999.000,9,-999.000,9,  2299.3,2,   7.7653,2,    25.00,   6.4966
29AH20120622,      OVIDE,      57,          1,         21,2,20120710,       0000,    56.6278,   -27.5793,       2720,    49.0,   8.5497,  34.8650,2,  34.8623,2,    289.0,2,   286.7,2,    3.05,2,    8.00,2,    0.42,2,-999.000,9,-999.000,9,  2298.5,2,   7.8207,2,    25.00,   8.5446
29AH20120622,      OVIDE,      57,          1,         22,2,20120710,       0000,    56.6278,   -27.5793,       2720,     6.0,  13.8488,  34.8445,2,-999.0000,9,    275.9,2,   276.4,2, -999.00,9, -999.00,9, -999.00,9,-999.000,9,-999.000,9,  -999.0,9,-999.0000,9,  -999.00,  13.8479
29AH20120622,      OVIDE,      57,          1,         23,2,20120710,       0000,    56.6278,   -27.5793,       2720,     5.9,  13.8110,  34.8488,2,-999.0000,9,    275.8,2,  -999.0,9, -999.00,9, -999.00,9, -999.00,9,-999.000,9,-999.000,9,  -999.0,9,-999.0000,9,  -999.00,  13.8102
29AH20120622,      OVIDE,      57,          1,         24,2,20120710,       0000,    56.6278,   -27.5793,       2720,     6.0,  13.8181,  34.8500,2,  34.8548,4,    275.9,2,  -999.0,9,    0.64,2,    2.87,2,    0.11,2,-999.000,9,-999.000,9,  2300.6,2,   7.9391,2,    25.00,  13.8172
29AH20120622,      OVIDE,      58,          1,          1,2,20120710,       0000,    57.0040,   -27.8788,       2752,  2778.0,   2.8203,  34.9868,2,  34.9842,2,    271.8,2,   273.0,2,   15.56,2,   15.85,2,    1.05,2,   2.770,2,   1.444,2,  -999.0,9,   7.7223,2,    25.00,   2.5959
29AH20120622,      OVIDE,      58,          1,          2,2,20120710,       0000,    57.0040,   -27.8788,       2752,  2501.0,   2.9357,  34.9779,2,  34.9818,2,    270.6,2,   272.6,2,   15.48,2,   16.11,2,    1.06,2,-999.000,9,-999.000,9,  -999.0,9,   7.7255,2,    25.00,   2.7366
29AH20120622,      OVIDE,      58,          1,          3,2,20120710,       0000,    57.0040,   -27.8788,       2752,  2250.1,   3.1886,  34.9695,2,  34.9728,2,    272.8,2,   273.1,2,   12.90,2,   16.07,2,    1.06,2,   2.758,2,   1.408,2,  -999.0,9,   7.7301,2,    25.00,   3.0095
29AH20120622,      OVIDE,      58,          1,          4,2,20120710,       0000,    57.0040,   -27.8788,       2752,  1999.3,   3.3677,  34.9464,2,  34.9527,4,    273.8,2,   275.1,2,   12.02,2,   16.28,2,    1.08,2,   2.848,2,   1.429,2,  -999.0,9,   7.7297,2,    25.00,   3.2097
29AH20120622,      OVIDE,      58,          1,          5,2,20120710,       0000,    57.0040,   -27.8788,       2752,  1800.6,   3.4431,  34.9251,2,  34.9280,2,    273.2,2,   277.0,2,   11.97,2,   16.75,2,    1.10,2,-999.000,9,-999.000,9,  -999.0,9,   7.7281,2,    25.00,   3.3025
29AH20120622,      OVIDE,      58,          1,          6,2,20120710,       0000,    57.0040,   -27.8788,       2752,  1601.9,   3.5852,  34.9218,2,  34.9263,2,    272.0,2,   273.2,2,   11.56,2,   16.78,2,    1.11,2,   3.103,2,   1.558,2,  -999.0,9,   7.7225,2,    25.00,   3.4607
29AH20120622,      OVIDE,      58,          1,          7,2,20120710,       0000,    57.0040,   -27.8788,       2752,  1400.4,   3.7035,  34.9174,2,  34.9167,2,    272.4,2,   272.1,2,   11.06,2,   16.89,2,    1.09,2,   3.387,2,   1.726,2,  -999.0,9,   7.7219,2,    25.00,   3.5956
29AH20120622,      OVIDE,      58,          1,          8,2,20120710,       0000,    57.0040,   -27.8788,       2752,  1400.5,   3.7037,  34.9174,2,  34.9181,2,    272.4,2,   273.0,2,   11.03,2,   16.91,2,    1.10,2,-999.000,9,-999.000,9,  -999.0,9,   7.7178,2,    25.00,   3.5957
29AH20120622,      OVIDE,      58,          1,          9,2,20120710,       0000,    57.0040,   -27.8788,       2752,  1201.0,   3.8094,  34.9078,2,  34.9062,2,    274.0,2,   275.2,2,   10.50,2,   16.86,2,    1.08,2,   3.703,2,   1.931,2,  -999.0,9,   7.7188,2,    25.00,   3.7177
29AH20120622,      OVIDE,      58,          1,         10,2,20120710,       0000,    57.0040,   -27.8788,       2752,  1001.1,   3.9931,  34.9130,2,  34.9123,2,    272.1,2,   272.8,2,   10.26,2,   16.90,2,    1.09,2,-999.000,9,-999.000,9,  -999.0,9,   7.7139,2,    25.00,   3.9167
29AH20120622,      OVIDE,      58,          1,         11,2,20120710,       0000,    57.0040,   -27.8788,       2752,   898.7,   4.1762,  34.9257,2,  34.9288,2,    269.1,2,   268.1,2,   10.32,2,   17.14,2,    1.12,2,   3.725,2,   1.982,2,  -999.0,9,   7.7111,2,    25.00,   4.1070
29AH20120622,      OVIDE,      58,          1,         12,2,20120710,       0000,    57.0040,   -27.8788,       2752,   798.6,   4.4208,  34.9445,2,  34.9436,2,    261.4,2,   261.9,2,   10.42,2,   17.37,2,    1.13,2,-999.000,9,-999.000,9,  -999.0,9,   7.7088,2,    25.00,   4.3584
29AH20120622,      OVIDE,      58,          1,         13,2,20120710,       0000,    57.0040,   -27.8788,       2752,   700.1,   4.5618,  34.9477,2,  34.9509,2,    255.4,2,   256.6,2,   10.44,2,   17.62,2,    1.13,2,-999.000,9,-999.000,9,  -999.0,9,   7.7054,2,    25.00,   4.5068
29AH20120622,      OVIDE,      58,          1,         14,2,20120710,       0000,    57.0040,   -27.8788,       2752,   601.5,   5.1013,  34.9923,2,  34.9904,2,    241.8,2,   243.8,2,   10.80,2,   18.12,2,    1.15,2,   3.277,2,   1.750,2,  -999.0,9,   7.7032,2,    25.00,   5.0520
29AH20120622,      OVIDE,      58,          1,         15,2,20120710,       0000,    57.0040,   -27.8788,       2752,   501.5,   5.5348,  35.0106,2,  35.0089,2,    234.3,2,   237.6,2,   10.68,2,   18.31,2,    1.15,2,-999.000,9,-999.000,9,  -999.0,9,   7.7039,2,    25.00,   5.4923
29AH20120622,      OVIDE,      58,          1,         16,2,20120710,       0000,    57.0040,   -27.8788,       2752,   400.8,   6.0353,  35.0157,2,  35.0135,2,    222.8,2,   227.1,2,   10.95,2,   18.50,2,    1.19,2,-999.000,9,-999.000,9,  -999.0,9,   7.6997,2,    25.00,   6.0001
29AH20120622,      OVIDE,      58,          1,         17,2,20120710,       0000,    57.0040,   -27.8788,       2752,   300.2,   6.6389,  35.0311,2,  35.0296,2,    246.0,2,   237.3,4,    9.67,2,   17.16,2,    1.09,2,   3.136,2,   1.735,2,  -999.0,9,   7.7233,2,    25.00,   6.6114
29AH20120622,      OVIDE,      58,          1,         18,2,20120710,       0000,    57.0040,   -27.8788,       2752,   200.4,   6.2892,  34.9077,2,  34.9063,2,    279.3,2,   275.2,3,    7.60,2,   14.70,2,    0.94,2,-999.000,9,-999.000,9,  -999.0,9,   7.7453,2,    25.00,   6.2715
29AH20120622,      OVIDE,      58,          1,         19,2,20120710,       0000,    57.0040,   -27.8788,       2752,   150.0,   6.5153,  34.8836,2,  34.8834,2,    286.6,2,   285.1,2,    6.28,2,   13.55,2,    0.85,2,-999.000,9,-999.000,9,  -999.0,9,   7.7619,2,    25.00,   6.5019
29AH20120622,      OVIDE,      58,          1,         20,2,20120710,       0000,    57.0040,   -27.8788,       2752,   100.0,   7.0299,  34.8572,2,  34.8584,2,    286.0,2,   286.5,2,    4.49,2,   12.31,2,    0.77,2,-999.000,9,-999.000,9,  -999.0,9,   7.7757,2,    25.00,   7.0206
29AH20120622,      OVIDE,      58,          1,         21,2,20120710,       0000,    57.0040,   -27.8788,       2752,    49.9,   9.2947,  34.8462,2,  34.8475,2,    284.5,2,   286.0,2,    3.04,2,    7.49,2,    0.51,2,-999.000,9,-999.000,9,  -999.0,9,   7.8375,2,    25.00,   9.2892
29AH20120622,      OVIDE,      58,          1,         22,2,20120710,       0000,    57.0040,   -27.8788,       2752,     6.1,  13.2277,  34.8623,2,  34.8612,2,    278.2,2,   280.8,2,    0.15,2,    1.29,2,    0.06,2,   3.050,2,   1.792,2,  -999.0,9,   7.9600,2,    25.00,  13.2269
29AH20120622,      OVIDE,      58,          1,         23,2,20120710,       0000,    57.0040,   -27.8788,       2752,     6.2,  13.2454,  34.8624,2,-999.0000,9,    278.2,2,  -999.0,9, -999.00,9, -999.00,9, -999.00,9,-999.000,9,-999.000,9,  -999.0,9,-999.0000,9,  -999.00,  13.2445
29AH20120622,      OVIDE,      58,          1,         24,2,20120710,       0000,    57.0040,   -27.8788,       2752,     6.1,  13.2521,  34.8621,2,-999.0000,9,    278.2,2,  -999.0,9, -999.00,9, -999.00,9, -999.00,9,-999.000,9,-999.000,9,  -999.0,9,-999.0000,9,  -999.00,  13.2513