BOTTLE,20151116SIOCCHCBG
EXPOCODE,SECT_ID,STNNBR,CASTNO,BTLNBR,BTLNBR_FLAG_W,DATE,TIME,LATITUDE,LONGITUDE,DEPTH,CTDPRS,CTDTMP,CTDSAL,CTDSAL_FLAG_W,SALNTY,SALNTY_FLAG_W,CTDOXY,CTDOXY_FLAG_W,OXYGEN,OXYGEN_FLAG_W,SILCAT,SILCAT_FLAG_W,NITRAT,NITRAT_FLAG_W,PHSPHT,PHSPHT_FLAG_W,CFC-11,CFC-11_FLAG_W,CFC-12,CFC-12_FLAG_W,ALKALI,ALKALI_FLAG_W,PH_TOT,PH_TOT_FLAG_W,PH_TMP,THETA
,,,,,,,,,,METERS,DBAR,ITS-90,PSS-78,,PSS-78,,UMOL/KG,,UMOL/KG,,UMOL/KG,,UMOL/KG,,UMOL/KG,,PMOL/KG,,PMOL/KG,,UMOL/KG,,,,DEG C,DEG C
29AH20120622,      OVIDE,      31,          1,          1,2,20120702,       0000,    45.7935,   -19.0897,       4513,  4592.6,   2.6070,  34.9130,2,  34.9112,2,    238.5,2,   238.7,2,   43.14,2,   22.44,2,    1.44,2,-999.000,9,-999.000,9,  2352.3,2,   7.7406,2,    25.00,   2.1849
29AH20120622,      OVIDE,      31,          1,          2,2,20120702,       0000,    45.7935,   -19.0897,       4513,  3994.7,   2.5981,  34.9192,2,  34.9172,2,    240.7,2,   242.2,2,   41.01,2,   21.86,2,    1.38,2,-999.000,9,-999.000,9,  2348.7,2,   7.7375,2,    25.00,   2.2476
29AH20120622,      OVIDE,      31,          1,          3,2,20120702,       0000,    45.7935,   -19.0897,       4513,  3501.0,   2.7262,  34.9348,2,  34.9330,2,    247.9,2,   247.8,2,   34.29,2,   20.52,2,    1.28,2,-999.000,9,-999.000,9,  2338.7,2,   7.7360,2,    25.00,   2.4279
29AH20120622,      OVIDE,      31,          1,          4,2,20120702,       0000,    45.7935,   -19.0897,       4513,  3249.9,   2.8509,  34.9430,2,  34.9408,2,    254.0,2,   254.8,2,   28.71,2,   19.21,2,    1.21,2,-999.000,9,-999.000,9,  2326.6,2,   7.7371,2,    25.00,   2.5769
29AH20120622,      OVIDE,      31,          1,          5,2,20120702,       0000,    45.7935,   -19.0897,       4513,  2999.8,   3.0114,  34.9442,2,  34.9444,2,    259.5,2,   262.4,2,   21.97,2,   18.31,2,    1.12,2,-999.000,9,-999.000,9,  2319.2,2,   7.7352,2,    25.00,   2.7603
29AH20120622,      OVIDE,      31,          1,          6,2,20120702,       0000,    45.7935,   -19.0897,       4513,  2750.5,   3.2053,  34.9401,2,  34.9404,2,    266.3,2,   266.0,2,   18.31,2,   17.71,2,    1.10,2,-999.000,9,-999.000,9,  2311.5,2,   7.7349,2,    25.00,   2.9762
29AH20120622,      OVIDE,      31,          1,          7,2,20120702,       0000,    45.7935,   -19.0897,       4513,  2498.6,   3.3853,  34.9333,2,  34.9333,2,    268.8,2,   268.8,2,   15.18,2,   17.58,2,    1.07,2,-999.000,9,-999.000,9,  2308.9,2,   7.7316,2,    25.00,   3.1785
29AH20120622,      OVIDE,      31,          1,          8,2,20120702,       0000,    45.7935,   -19.0897,       4513,  2251.2,   3.6729,  34.9518,2,  34.9523,2,    267.1,2,   267.2,2,   13.90,2,   17.93,2,    1.07,2,-999.000,9,-999.000,9,  2307.2,2,   7.7311,2,    25.00,   3.4857
29AH20120622,      OVIDE,      31,          1,          9,2,20120702,       0000,    45.7935,   -19.0897,       4513,  1998.6,   3.7702,  34.9274,2,  34.9275,2,    269.5,2,   269.3,2,   12.15,2,   17.41,2,    1.05,2,-999.000,9,-999.000,9,  2303.7,2,   7.7247,2,    25.00,   3.6063
29AH20120622,      OVIDE,      31,          1,         10,2,20120702,       0000,    45.7935,   -19.0897,       4513,  1800.0,   3.9749,  34.9388,2,  34.9419,2,    267.9,2,   266.8,2,   11.67,2,   17.59,2,    1.05,2,-999.000,9,-999.000,9,  2304.4,2,   7.7221,2,    25.00,   3.8271
29AH20120622,      OVIDE,      31,          1,         11,2,20120702,       0000,    45.7935,   -19.0897,       4513,  1599.7,   4.3779,  34.9824,2,  34.9824,2,    259.4,2,   260.4,2,   11.43,2,   17.74,2,    1.04,2,-999.000,9,-999.000,9,  2308.4,2,   7.7207,2,    25.00,   4.2440
29AH20120622,      OVIDE,      31,          1,         12,2,20120702,       0000,    45.7935,   -19.0897,       4513,  1400.4,   5.3168,  35.0923,2,  35.0879,2,    240.5,2,   242.8,2,   11.35,2,   17.90,2,    1.07,2,-999.000,9,-999.000,9,  2314.4,2,   7.7216,2,    25.00,   5.1915
29AH20120622,      OVIDE,      31,          1,         13,2,20120702,       0000,    45.7935,   -19.0897,       4513,  1200.8,   6.8877,  35.2830,2,  35.2843,2,    210.8,2,   215.8,3,   11.45,2,   18.51,2,    1.07,2,-999.000,9,-999.000,9,  2328.8,2,   7.7287,2,    25.00,   6.7676
29AH20120622,      OVIDE,      31,          1,         14,2,20120702,       0000,    45.7935,   -19.0897,       4513,   999.0,   9.2074,  35.5285,2,  35.5287,2,    186.2,2,   186.6,2,   10.43,2,   18.13,2,    1.02,2,-999.000,9,-999.000,9,  2343.4,2,   7.7482,2,    25.00,   9.0917
29AH20120622,      OVIDE,      31,          1,         15,2,20120702,       0000,    45.7935,   -19.0897,       4513,   899.8,   9.4896,  35.4367,2,  35.4365,2,    184.0,2,   184.8,2,   10.01,2,   18.30,2,    1.01,2,-999.000,9,-999.000,9,  2334.8,2,   7.7444,2,    25.00,   9.3842
29AH20120622,      OVIDE,      31,          1,         16,2,20120702,       0000,    45.7935,   -19.0897,       4513,   799.4,  10.4626,  35.4914,2,  35.4907,2,    192.4,2,   198.4,3,    7.68,2,   15.76,2,    0.83,2,-999.000,9,-999.000,9,  2335.2,2,   7.7743,2,    25.00,  10.3638
29AH20120622,      OVIDE,      31,          1,         17,2,20120702,       0000,    45.7935,   -19.0897,       4513,   598.2,  11.5157,  35.6005,2,  35.5996,2,    231.0,2,   230.3,2,    4.28,2,   10.69,2,    0.52,2,-999.000,9,-999.000,9,  2337.9,2,   7.8301,2,    25.00,  11.4379
29AH20120622,      OVIDE,      31,          1,         18,2,20120702,       0000,    45.7935,   -19.0897,       4513,   500.4,  11.8689,  35.6377,2,  35.6381,2,    229.7,2,   229.3,2,    4.02,2,   10.33,2,    0.49,2,-999.000,9,-999.000,9,  2340.3,2,   7.8382,2,    25.00,  11.8028
29AH20120622,      OVIDE,      31,          1,         19,2,20120702,       0000,    45.7935,   -19.0897,       4513,   399.1,  12.2341,  35.6786,2,  35.6789,2,    232.5,2,   235.1,2,    3.57,2,    9.21,2,    0.41,2,-999.000,9,-999.000,9,  2343.5,2,   7.8543,2,    25.00,  12.1806
29AH20120622,      OVIDE,      31,          1,         20,2,20120702,       0000,    45.7935,   -19.0897,       4513,   301.4,  12.3417,  35.6633,2,  35.6629,2,    233.6,2,   233.9,2,    3.53,2,    9.16,2,    0.39,2,-999.000,9,-999.000,9,  2343.2,2,   7.8563,2,    25.00,  12.3012
29AH20120622,      OVIDE,      31,          1,         21,2,20120702,       0000,    45.7935,   -19.0897,       4513,   199.0,  12.8141,  35.7214,2,  35.7206,2,    244.8,2,   246.0,2,    2.41,2,    6.42,2,    0.25,2,-999.000,9,-999.000,9,  2347.2,2,   7.8868,2,    25.00,  12.7868
29AH20120622,      OVIDE,      31,          1,         22,2,20120702,       0000,    45.7935,   -19.0897,       4513,   102.0,  12.9507,  35.7015,2,  35.7011,2,    245.5,2,   243.6,2,    2.48,2,    6.54,2,    0.21,2,-999.000,9,-999.000,9,  2344.6,2,   7.8875,2,    25.00,  12.9367
29AH20120622,      OVIDE,      31,          1,         23,2,20120702,       0000,    45.7935,   -19.0897,       4513,    39.4,  15.5278,  35.7099,2,  35.7116,2,    242.3,2,   241.8,2,    0.77,2,    0.68,2,    0.02,2,-999.000,9,-999.000,9,  2349.7,2,   7.9556,2,    25.00,  15.5217
29AH20120622,      OVIDE,      31,          1,         24,2,20120702,       0000,    45.7935,   -19.0897,       4513,     5.9,  16.1883,  35.7211,2,  35.7217,2,    246.7,2,   245.4,2,    0.56,3,    0.00,2,    0.01,2,-999.000,9,-999.000,9,  2349.9,2,   7.9810,2,    25.00,  16.1874
29AH20120622,      OVIDE,      32,          1,          1,2,20120702,       0000,    46.1703,   -19.3804,       4602,  4682.8,   2.6005,  34.9114,2,  34.9101,2,    238.1,2,   241.0,2,   45.04,2,   21.88,2,    1.47,2,   0.083,2,   0.043,2,  -999.0,9,   7.7406,2,    25.00,   2.1675
29AH20120622,      OVIDE,      32,          1,          2,2,20120702,       0000,    46.1703,   -19.3804,       4602,  3999.4,   2.5888,  34.9185,2,  34.9162,2,    240.2,2,   241.8,2,   43.33,2,   21.94,2,    1.42,2,   0.193,2,   0.102,2,  -999.0,9,   7.7390,2,    25.00,   2.2380
29AH20120622,      OVIDE,      32,          1,          3,2,20120702,       0000,    46.1703,   -19.3804,       4602,  3500.4,   2.7346,  34.9355,2,  34.9334,2,    248.1,2,   249.0,2,   35.48,2,   20.36,2,    1.29,2,-999.000,9,-999.000,9,  -999.0,9,   7.7381,2,    25.00,   2.4361
29AH20120622,      OVIDE,      32,          1,          4,2,20120702,       0000,    46.1703,   -19.3804,       4602,  3250.8,   2.8713,  34.9441,2,  34.9447,2,    254.4,2,   255.7,2,   29.44,2,   19.37,2,    1.23,3,-999.000,9,-999.000,9,  -999.0,9,   7.7376,2,    25.00,   2.5967
29AH20120622,      OVIDE,      32,          1,          5,2,20120702,       0000,    46.1703,   -19.3804,       4602,  3000.0,   3.0462,  34.9476,2,  34.9460,2,    258.3,2,   259.0,2,   25.27,2,   18.90,2,    1.21,3,-999.000,9,-999.000,9,  -999.0,9,   7.7392,2,    25.00,   2.7944
29AH20120622,      OVIDE,      32,          1,          6,2,20120702,       0000,    46.1703,   -19.3804,       4602,  2749.1,   3.2060,  34.9395,2,-999.0000,9,    265.6,2,  -999.0,9,   19.43,3,   18.29,3,    1.16,3,-999.000,9,-999.000,9,  -999.0,9,-999.0000,9,  -999.00,   2.9770
29AH20120622,      OVIDE,      32,          1,          7,2,20120702,       0000,    46.1703,   -19.3804,       4602,  2499.9,   3.3257,  34.9210,2,  34.8972,4,    272.0,2,   272.6,2,   15.42,2,   17.70,2,    1.11,3,-999.000,9,-999.000,9,  -999.0,9,   7.7340,2,    25.00,   3.1199
29AH20120622,      OVIDE,      32,          1,          8,2,20120702,       0000,    46.1703,   -19.3804,       4602,  2250.9,   3.5092,  34.9200,2,  34.9220,2,    271.9,2,   271.5,2,   14.01,2,   17.85,2,    1.10,3,   2.680,2,   1.337,2,  -999.0,9,   7.7298,2,    25.00,   3.3249
29AH20120622,      OVIDE,      32,          1,          9,2,20120702,       0000,    46.1703,   -19.3804,       4602,  1999.7,   3.7612,  34.9280,2,  34.9279,2,    269.8,2,   268.7,2,   13.02,2,   17.84,2,    1.09,3,-999.000,9,-999.000,9,  -999.0,9,   7.7268,2,    25.00,   3.5974
29AH20120622,      OVIDE,      32,          1,         10,2,20120702,       0000,    46.1703,   -19.3804,       4602,  1799.5,   4.0298,  34.9500,2,  34.9498,2,    266.8,2,   266.7,2,   12.47,2,   18.00,2,    1.09,3,-999.000,9,-999.000,9,  -999.0,9,   7.7232,2,    25.00,   3.8813
29AH20120622,      OVIDE,      32,          1,         11,2,20120702,       0000,    46.1703,   -19.3804,       4602,  1600.2,   4.3765,  34.9740,2,  34.9734,2,    261.2,2,   261.3,2,   12.06,2,   17.67,2,    1.12,3,-999.000,9,-999.000,9,  -999.0,9,   7.7194,2,    25.00,   4.2426
29AH20120622,      OVIDE,      32,          1,         12,2,20120702,       0000,    46.1703,   -19.3804,       4602,  1400.6,   5.3778,  35.1074,2,  35.1071,2,    242.7,2,   241.2,2,   11.98,2,   18.02,2,    1.10,3,   2.884,2,   1.524,2,  -999.0,9,   7.7226,2,    25.00,   5.2518
29AH20120622,      OVIDE,      32,          1,         13,2,20120702,       0000,    46.1703,   -19.3804,       4602,  1200.6,   7.2225,  35.3695,2,  35.3713,2,    210.7,2,   213.1,2,   11.91,2,   18.42,2,    1.10,3,-999.000,9,-999.000,9,  -999.0,9,   7.7362,2,    25.00,   7.0994
29AH20120622,      OVIDE,      32,          1,         14,2,20120702,       0000,    46.1703,   -19.3804,       4602,  1000.9,   9.2090,  35.5703,2,  35.5737,2,    187.6,2,   189.4,2,   11.03,2,   18.05,2,    1.06,3,-999.000,9,-999.000,9,  -999.0,9,   7.7525,2,    25.00,   9.0929
29AH20120622,      OVIDE,      32,          1,         15,2,20120702,       0000,    46.1703,   -19.3804,       4602,   900.2,  10.1419,  35.6404,2,  35.6386,2,    181.7,2,   183.0,2,    9.97,2,   17.55,2,    0.99,3,   2.041,2,   1.146,2,  -999.0,9,   7.7625,2,    25.00,  10.0320
29AH20120622,      OVIDE,      32,          1,         16,2,20120702,       0000,    46.1703,   -19.3804,       4602,   801.1,   9.8792,  35.4301,2,  35.4290,2,    184.2,2,   186.1,2,    9.64,2,   17.80,2,    1.01,3,-999.000,9,-999.000,9,  -999.0,9,   7.7512,2,    25.00,   9.7836
29AH20120622,      OVIDE,      32,          1,         17,2,20120702,       0000,    46.1703,   -19.3804,       4602,   600.3,  11.4478,  35.5986,2,  35.6002,2,    223.4,2,   225.2,2,    4.69,2,   11.61,2,    0.60,3,   2.813,2,   1.645,2,  -999.0,9,   7.8212,2,    25.00,  11.3700
29AH20120622,      OVIDE,      32,          1,         18,2,20120702,       0000,    46.1703,   -19.3804,       4602,   501.2,  11.7557,  35.6309,2,  35.6302,2,    224.9,2,   228.3,2,    4.31,2,   10.98,2,    0.55,3,-999.000,9,-999.000,9,  -999.0,9,   7.8316,2,    25.00,  11.6899
29AH20120622,      OVIDE,      32,          1,         19,2,20120702,       0000,    46.1703,   -19.3804,       4602,   400.8,  11.9206,  35.6111,2,  35.6110,2,    222.6,2,   224.9,2,    4.52,2,   11.13,2,    0.53,3,-999.000,9,-999.000,9,  -999.0,9,   7.8322,2,    25.00,  11.8678
29AH20120622,      OVIDE,      32,          1,         20,2,20120702,       0000,    46.1703,   -19.3804,       4602,   300.4,  12.5355,  35.6882,2,  35.6886,2,    226.0,2,   228.6,2,    3.70,2,    9.47,2,    0.43,3,   2.733,2,   1.626,2,  -999.0,9,   7.8554,2,    25.00,  12.4947
29AH20120622,      OVIDE,      32,          1,         21,2,20120702,       0000,    46.1703,   -19.3804,       4602,   200.0,  12.8534,  35.6928,2,  35.6918,2,    222.2,2,   224.4,2,    3.88,2,    9.55,2,    0.40,3,-999.000,9,-999.000,9,  -999.0,9,   7.8602,2,    25.00,  12.8259
29AH20120622,      OVIDE,      32,          1,         22,2,20120702,       0000,    46.1703,   -19.3804,       4602,   100.9,  13.7004,  35.7875,2,  35.7825,4,    232.3,2,   233.5,2,    2.74,2,    6.83,2,    0.19,3,-999.000,9,-999.000,9,  -999.0,9,   7.8944,2,    25.00,  13.6860
29AH20120622,      OVIDE,      32,          1,         23,2,20120702,       0000,    46.1703,   -19.3804,       4602,    30.0,  15.7727,  35.6304,2,  35.6309,2,    241.9,2,   248.2,3,    0.67,2,    0.01,2,    0.06,3,-999.000,9,-999.000,9,  -999.0,9,   7.9845,2,    25.00,  15.7680
29AH20120622,      OVIDE,      32,          1,         24,2,20120702,       0000,    46.1703,   -19.3804,       4602,     5.7,  15.8625,  35.6308,2,  35.6311,2,    250.5,2,   249.5,2,    0.66,3,    0.00,2,    0.06,3,   2.970,4,   1.603,4,  -999.0,9,   7.9861,2,    25.00,  15.8616