BOTTLE,20151116SIOCCHCBG
EXPOCODE,SECT_ID,STNNBR,CASTNO,BTLNBR,BTLNBR_FLAG_W,DATE,TIME,LATITUDE,LONGITUDE,DEPTH,CTDPRS,CTDTMP,CTDSAL,CTDSAL_FLAG_W,SALNTY,SALNTY_FLAG_W,CTDOXY,CTDOXY_FLAG_W,OXYGEN,OXYGEN_FLAG_W,SILCAT,SILCAT_FLAG_W,NITRAT,NITRAT_FLAG_W,PHSPHT,PHSPHT_FLAG_W,CFC-11,CFC-11_FLAG_W,CFC-12,CFC-12_FLAG_W,ALKALI,ALKALI_FLAG_W,PH_TOT,PH_TOT_FLAG_W,PH_TMP,THETA
,,,,,,,,,,METERS,DBAR,ITS-90,PSS-78,,PSS-78,,UMOL/KG,,UMOL/KG,,UMOL/KG,,UMOL/KG,,UMOL/KG,,PMOL/KG,,PMOL/KG,,UMOL/KG,,,,DEG C,DEG C
29AH20120622,      OVIDE,      23,          1,          1,2,20120629,       0000,    43.1808,   -16.2435,       5130,  5218.2,   2.5545,  34.8999,2,  34.9010,2,    241.6,2,   241.3,2,   45.37,2,   22.04,2,    1.49,2,-999.000,9,-999.000,9,  2360.0,2,   7.7460,2,    25.00,   2.0550
29AH20120622,      OVIDE,      23,          1,          2,2,20120629,       0000,    43.1808,   -16.2435,       5130,  5000.8,   2.5285,  34.9003,2,  34.8990,2,    241.4,2,   242.8,2,   45.35,2,   22.18,2,    1.47,2,-999.000,9,-999.000,9,  2356.5,2,   7.7446,2,    25.00,   2.0579
29AH20120622,      OVIDE,      23,          1,          3,2,20120629,       0000,    43.1808,   -16.2435,       5130,  4499.7,   2.4926,  34.9035,2,  34.9037,2,    241.2,2,   242.4,2,   45.30,2,   21.97,2,    1.46,2,-999.000,9,-999.000,9,  2356.3,2,   7.7439,2,    25.00,   2.0855
29AH20120622,      OVIDE,      23,          1,          4,2,20120629,       0000,    43.1808,   -16.2435,       5130,  4000.4,   2.5252,  34.9128,2,  34.9110,2,    241.0,2,   241.8,2,   45.03,2,   22.01,2,    1.45,2,-999.000,9,-999.000,9,  2353.7,2,   7.7425,2,    25.00,   2.1761
29AH20120622,      OVIDE,      23,          1,          5,2,20120629,       0000,    43.1808,   -16.2435,       5130,  3500.6,   2.6069,  34.9254,2,  34.9251,2,    243.1,2,   242.8,2,   41.03,2,   21.45,2,    1.40,2,-999.000,9,-999.000,9,  2347.8,2,   7.7416,2,    25.00,   2.3116
29AH20120622,      OVIDE,      23,          1,          6,2,20120629,       0000,    43.1808,   -16.2435,       5130,  3000.6,   2.8149,  34.9451,2,  34.9437,2,    249.2,2,   249.7,2,   33.54,2,   20.24,2,    1.28,2,-999.000,9,-999.000,9,  2338.0,2,   7.7418,2,    25.00,   2.5680
29AH20120622,      OVIDE,      23,          1,          7,2,20120629,       0000,    43.1808,   -16.2435,       5130,  2499.3,   3.1841,  34.9639,2,  34.9636,2,    256.5,2,   256.0,2,   24.77,2,   18.95,2,    1.19,2,-999.000,9,-999.000,9,  2327.1,2,   7.7417,2,    25.00,   2.9807
29AH20120622,      OVIDE,      23,          1,          8,2,20120629,       0000,    43.1808,   -16.2435,       5130,  2249.3,   3.3904,  34.9582,2,  34.9571,2,    263.9,2,   265.2,2,   18.99,2,   18.15,2,    1.12,2,-999.000,9,-999.000,9,  2318.5,2,   7.7375,2,    25.00,   3.2081
29AH20120622,      OVIDE,      23,          1,          9,2,20120629,       0000,    43.1808,   -16.2435,       5130,  1999.3,   3.5917,  34.9485,2,  34.9471,2,    268.1,2,   267.4,2,   14.84,2,   17.66,2,    1.11,2,-999.000,9,-999.000,9,  2313.8,2,   7.7330,2,    25.00,   3.4303
29AH20120622,      OVIDE,      23,          1,         10,2,20120629,       0000,    43.1808,   -16.2435,       5130,  1798.8,   4.0304,  34.9964,2,  35.0002,2,    260.6,2,   260.9,2,   13.97,2,   17.60,2,    1.10,2,-999.000,9,-999.000,9,  2314.8,2,   7.7306,2,    25.00,   3.8818
29AH20120622,      OVIDE,      23,          1,         11,2,20120629,       0000,    43.1808,   -16.2435,       5130,  1598.8,   4.7971,  35.1051,2,  35.1056,2,    247.4,2,   250.5,2,   13.29,2,   17.78,2,    1.09,2,-999.000,9,-999.000,9,  -999.0,9,   7.7333,2,    25.00,   4.6580
29AH20120622,      OVIDE,      23,          1,         12,2,20120629,       0000,    43.1808,   -16.2435,       5130,  1399.9,   6.1004,  35.2918,2,  35.2909,2,    225.7,2,   231.5,3,   12.58,2,   17.61,2,    1.08,2,-999.000,9,-999.000,9,  2333.2,2,   7.7400,2,    25.00,   5.9666
29AH20120622,      OVIDE,      23,          1,         13,2,20120629,       0000,    43.1808,   -16.2435,       5130,  1200.6,   7.9816,  35.5714,2,  35.5666,2,    205.3,2,   207.0,2,   11.81,2,   17.50,2,    1.03,2,-999.000,9,-999.000,9,  2350.8,2,   7.7544,2,    25.00,   7.8515
29AH20120622,      OVIDE,      23,          1,         14,2,20120629,       0000,    43.1808,   -16.2435,       5130,   998.1,   9.2857,  35.7034,2,  35.7022,2,    189.1,2,   189.7,2,   11.02,2,   17.37,2,    1.01,2,-999.000,9,-999.000,9,  2360.8,2,   7.7620,2,    25.00,   9.1693
29AH20120622,      OVIDE,      23,          1,         15,2,20120629,       0000,    43.1808,   -16.2435,       5130,   799.7,  10.0139,  35.6373,2,  35.6345,2,    183.5,2,   183.8,2,    9.96,2,   17.24,2,    0.99,2,-999.000,9,-999.000,9,  2350.5,2,   7.7616,2,    25.00,   9.9175
29AH20120622,      OVIDE,      23,          1,         16,2,20120629,       0000,    43.1808,   -16.2435,       5130,   701.0,  10.3583,  35.5653,2,  35.5651,2,    188.6,2,   188.8,2,    8.90,2,   16.39,2,    0.94,2,-999.000,9,-999.000,9,  2343.8,2,   7.7654,2,    25.00,  10.2725
29AH20120622,      OVIDE,      23,          1,         17,2,20120629,       0000,    43.1808,   -16.2435,       5130,   598.8,  10.8706,  35.5512,2,  35.5653,4,    204.5,2,   206.5,2,    6.77,2,   14.15,2,    0.78,2,-999.000,9,-999.000,9,  2342.4,2,   7.7888,2,    25.00,  10.7955
29AH20120622,      OVIDE,      23,          1,         18,2,20120629,       0000,    43.1808,   -16.2435,       5130,   499.0,  11.2241,  35.5588,2,  35.5528,4,    221.9,2,   221.7,2,    5.22,2,   12.17,2,    0.64,2,-999.000,9,-999.000,9,  2339.5,2,   7.8127,2,    25.00,  11.1605
29AH20120622,      OVIDE,      23,          1,         19,2,20120629,       0000,    43.1808,   -16.2435,       5130,   400.0,  11.6825,  35.6231,2,  35.5575,4,    226.3,2,   225.6,2,    4.30,2,   10.74,2,    0.55,2,-999.000,9,-999.000,9,  2342.5,2,   7.8271,2,    25.00,  11.6304
29AH20120622,      OVIDE,      23,          1,         20,2,20120629,       0000,    43.1808,   -16.2435,       5130,   302.1,  12.0979,  35.6702,2,  35.6199,4,    235.5,2,   233.9,2,    3.54,2,    9.14,2,    0.41,2,-999.000,9,-999.000,9,  2346.2,2,   7.8443,2,    25.00,  12.0578
29AH20120622,      OVIDE,      23,          1,         21,2,20120629,       0000,    43.1808,   -16.2435,       5130,   199.8,  12.5530,  35.7299,2,  35.7397,4,    238.5,2,  -999.0,9,    2.80,3,    7.87,3,    0.35,3,-999.000,9,-999.000,9,  -999.0,9,-999.0000,9,  -999.00,  12.5259
29AH20120622,      OVIDE,      23,          1,         22,2,20120629,       0000,    43.1808,   -16.2435,       5130,   100.2,  13.1490,  35.8054,2,  35.8028,2,    243.8,2,   242.8,2,    1.97,2,    5.57,2,    0.21,2,-999.000,9,-999.000,9,  2354.1,2,   7.8912,2,    25.00,  13.1351
29AH20120622,      OVIDE,      23,          1,         23,2,20120629,       0000,    43.1808,   -16.2435,       5130,    39.5,  14.7898,  35.7522,2,  35.7550,2,    248.4,2,   247.6,2,    0.80,2,    0.89,2,    0.06,2,-999.000,9,-999.000,9,  2354.0,2,   7.9364,2,    25.00,  14.7839
29AH20120622,      OVIDE,      23,          1,         24,2,20120629,       0000,    43.1808,   -16.2435,       5130,     6.9,  16.9899,  35.7651,2,  35.7657,2,    246.3,2,   245.8,2,    0.56,3,    0.00,2,    0.02,2,-999.000,9,-999.000,9,  2352.7,2,   7.9946,2,    25.00,  16.9888
29AH20120622,      OVIDE,      24,          1,          1,2,20120630,       0000,    43.4783,   -16.6360,       4174,  4235.8,   2.5305,  34.9100,2,  34.9082,2,    240.3,2,   240.6,2,   43.58,2,   21.80,2,    1.47,2,-999.000,9,-999.000,9,  -999.0,9,   7.7443,2,    25.00,   2.1538
29AH20120622,      OVIDE,      24,          1,          2,2,20120630,       0000,    43.4783,   -16.6360,       4174,  4000.6,   2.5657,  34.9161,2,  34.9160,2,    240.6,2,   240.9,2,   42.27,2,   21.62,2,    1.44,2,   0.107,2,   0.057,2,  -999.0,9,   7.7419,2,    25.00,   2.2154
29AH20120622,      OVIDE,      24,          1,          3,2,20120630,       0000,    43.4783,   -16.6360,       4174,  3500.6,   2.6214,  34.9260,2,  34.9249,2,    243.1,2,   243.8,2,   39.17,2,   21.05,2,    1.39,2,   0.213,2,   0.110,2,  -999.0,9,   7.7409,2,    25.00,   2.3258
29AH20120622,      OVIDE,      24,          1,          4,2,20120630,       0000,    43.4783,   -16.6360,       4174,  3000.9,   2.8498,  34.9462,2,  34.9461,2,    250.7,2,   251.0,2,   30.50,2,   19.66,2,    1.29,2,-999.000,9,-999.000,9,  -999.0,9,   7.7423,2,    25.00,   2.6021
29AH20120622,      OVIDE,      24,          1,          5,2,20120630,       0000,    43.4783,   -16.6360,       4174,  2499.9,   3.1807,  34.9460,2,  34.9451,2,    264.1,2,   262.6,2,   19.28,2,   17.84,2,    1.14,2,   1.540,2,   0.766,2,  -999.0,9,   7.7395,2,    25.00,   2.9774
29AH20120622,      OVIDE,      24,          1,          6,2,20120630,       0000,    43.4783,   -16.6360,       4174,  2249.6,   3.4538,  34.9578,2,  34.9582,2,    264.4,2,   263.4,2,   16.94,2,   17.46,2,    1.12,2,-999.000,9,-999.000,9,  -999.0,9,   7.7388,2,    25.00,   3.2704
29AH20120622,      OVIDE,      24,          1,          7,2,20120630,       0000,    43.4783,   -16.6360,       4174,  1999.6,   3.8054,  34.9752,2,  34.9741,2,    263.8,2,   262.3,2,   14.06,2,   17.48,2,    1.10,2,   2.303,2,   1.141,2,  -999.0,9,   7.7349,2,    25.00,   3.6408
29AH20120622,      OVIDE,      24,          1,          8,2,20120630,       0000,    43.4783,   -16.6360,       4174,  1800.5,   4.2609,  35.0279,2,  35.0289,2,    257.9,2,   256.4,2,   13.10,2,   17.28,2,    1.10,2,   2.472,2,   1.229,2,  -999.0,9,   7.7330,2,    25.00,   4.1090
29AH20120622,      OVIDE,      24,          1,          9,2,20120630,       0000,    43.4783,   -16.6360,       4174,  1600.8,   5.0985,  35.1439,2,  35.1456,2,    246.9,2,   245.4,2,   12.53,2,   17.47,2,    1.08,2,-999.000,9,-999.000,9,  -999.0,9,   7.7369,2,    25.00,   4.9555
29AH20120622,      OVIDE,      24,          1,         10,2,20120630,       0000,    43.4783,   -16.6360,       4174,  1400.1,   5.8472,  35.2232,2,  35.2225,2,    234.8,2,   234.6,2,   11.82,2,   17.61,2,    1.07,2,   2.621,2,   1.364,2,  -999.0,9,   7.7352,2,    25.00,   5.7162
29AH20120622,      OVIDE,      24,          1,         11,2,20120630,       0000,    43.4783,   -16.6360,       4174,  1200.5,   8.1644,  35.5930,2,  35.5934,2,    206.9,2,   203.6,2,   11.08,2,   17.37,2,    1.02,2,   2.014,2,   1.065,2,  -999.0,9,   7.7592,2,    25.00,   8.0327
29AH20120622,      OVIDE,      24,          1,         12,2,20120630,       0000,    43.4783,   -16.6360,       4174,  1099.3,   8.8670,  35.6475,2,  35.6477,2,    193.7,2,   193.9,2,   10.46,2,   17.10,2,    1.01,2,-999.000,9,-999.000,9,  -999.0,9,   7.7614,2,    25.00,   8.7415
29AH20120622,      OVIDE,      24,          1,         13,2,20120630,       0000,    43.4783,   -16.6360,       4174,  1000.9,   9.3820,  35.6801,2,  35.6812,2,    186.1,2,   188.2,2,   10.24,2,   17.13,2,    1.00,2,-999.000,9,-999.000,9,  -999.0,9,   7.7642,2,    25.00,   9.2646
29AH20120622,      OVIDE,      24,          1,         14,2,20120630,       0000,    43.4783,   -16.6360,       4174,   900.9,   9.9356,  35.6807,2,  35.6792,2,    182.7,2,   182.9,2,    9.78,2,   16.97,2,    0.99,2,-999.000,9,-999.000,9,  -999.0,9,   7.7656,2,    25.00,   9.8269
29AH20120622,      OVIDE,      24,          1,         15,2,20120630,       0000,    43.4783,   -16.6360,       4174,   800.6,  10.4672,  35.6325,2,  35.6311,2,    182.3,2,   183.2,2,    8.76,2,   16.45,2,    0.93,2,   2.089,2,   1.159,2,  -999.0,9,   7.7704,2,    25.00,  10.3681
29AH20120622,      OVIDE,      24,          1,         16,2,20120630,       0000,    43.4783,   -16.6360,       4174,   699.9,  10.8514,  35.5733,2,  35.5718,2,    192.3,2,   193.6,2,    7.28,2,   15.23,2,    0.83,2,-999.000,9,-999.000,9,  -999.0,9,   7.7816,2,    25.00,  10.7633
29AH20120622,      OVIDE,      24,          1,         17,2,20120630,       0000,    43.4783,   -16.6360,       4174,   600.0,  11.2576,  35.5803,2,  35.5784,2,    214.4,2,   213.9,2,    5.31,2,   12.67,2,    0.65,2,-999.000,9,-999.000,9,  -999.0,9,   7.8086,2,    25.00,  11.1807
29AH20120622,      OVIDE,      24,          1,         18,2,20120630,       0000,    43.4783,   -16.6360,       4174,   500.5,  11.6154,  35.6169,2,  35.6168,2,    222.2,2,   222.2,2,    4.40,2,   11.22,2,    0.55,2,-999.000,9,-999.000,9,  -999.0,9,   7.8264,2,    25.00,  11.5502
29AH20120622,      OVIDE,      24,          1,         19,2,20120630,       0000,    43.4783,   -16.6360,       4174,   401.0,  12.0047,  35.6628,2,  35.6610,2,    223.0,2,   224.0,2,    3.91,2,   10.41,2,    0.49,2,-999.000,9,-999.000,9,  -999.0,9,   7.8361,2,    25.00,  11.9516
29AH20120622,      OVIDE,      24,          1,         20,2,20120630,       0000,    43.4783,   -16.6360,       4174,   301.0,  12.3136,  35.6832,2,  35.6820,2,    226.5,2,   230.4,2,    3.41,2,    9.18,2,    0.41,2,-999.000,9,-999.000,9,  -999.0,9,   7.8546,2,    25.00,  12.2732
29AH20120622,      OVIDE,      24,          1,         21,2,20120630,       0000,    43.4783,   -16.6360,       4174,   201.2,  12.8555,  35.7570,2,  35.7551,2,    237.2,2,   240.0,2,    2.52,2,    6.69,2,    0.25,2,-999.000,9,-999.000,9,  -999.0,9,   7.8835,2,    25.00,  12.8278
29AH20120622,      OVIDE,      24,          1,         22,2,20120630,       0000,    43.4783,   -16.6360,       4174,    99.9,  13.4753,  35.8451,2,  35.8438,2,    240.8,2,   240.5,2,    1.81,2,    4.97,2,    0.14,2,-999.000,9,-999.000,9,  -999.0,9,   7.9018,2,    25.00,  13.4612
29AH20120622,      OVIDE,      24,          1,         23,2,20120630,       0000,    43.4783,   -16.6360,       4174,    45.3,  15.2733,  35.7974,2,  35.7976,2,    240.9,2,   240.1,2,    0.59,2,    0.46,2,    0.02,2,-999.000,9,-999.000,9,  -999.0,9,   7.9481,2,    25.00,  15.2663
29AH20120622,      OVIDE,      24,          1,         24,2,20120630,       0000,    43.4783,   -16.6360,       4174,     5.0,  16.9508,  35.7854,2,  35.7867,2,    243.3,2,   243.7,2,    0.50,3,    0.00,2,    0.00,2,   0.014,4,   0.013,4,  -999.0,9,   7.9914,2,    25.00,  16.9500