BOTTLE,20151116SIOCCHCBG
EXPOCODE,SECT_ID,STNNBR,CASTNO,BTLNBR,BTLNBR_FLAG_W,DATE,TIME,LATITUDE,LONGITUDE,DEPTH,CTDPRS,CTDTMP,CTDSAL,CTDSAL_FLAG_W,SALNTY,SALNTY_FLAG_W,CTDOXY,CTDOXY_FLAG_W,OXYGEN,OXYGEN_FLAG_W,SILCAT,SILCAT_FLAG_W,NITRAT,NITRAT_FLAG_W,PHSPHT,PHSPHT_FLAG_W,CFC-11,CFC-11_FLAG_W,CFC-12,CFC-12_FLAG_W,ALKALI,ALKALI_FLAG_W,PH_TOT,PH_TOT_FLAG_W,PH_TMP,THETA
,,,,,,,,,,METERS,DBAR,ITS-90,PSS-78,,PSS-78,,UMOL/KG,,UMOL/KG,,UMOL/KG,,UMOL/KG,,UMOL/KG,,PMOL/KG,,PMOL/KG,,UMOL/KG,,,,DEG C,DEG C
29AH20120622,      OVIDE,      11,          1,          1,2,20120625,       0000,    40.3324,   -11.3410,       5096,  5186.7,   2.5350,  34.8974,2,  34.8947,2,    241.9,2,   245.9,2,   47.43,2,   22.31,2,    1.48,3,-999.000,9,-999.000,9,  2354.6,2,   7.7449,2,    25.00,   2.0404
29AH20120622,      OVIDE,      11,          1,          2,2,20120625,       0000,    40.3324,   -11.3410,       5096,  4499.1,   2.4712,  34.9006,2,  34.8990,2,    242.2,2,   243.5,2,   46.29,2,   22.00,2,    1.48,2,-999.000,9,-999.000,9,  2353.5,2,   7.7429,2,    25.00,   2.0648
29AH20120622,      OVIDE,      11,          1,          3,2,20120625,       0000,    40.3324,   -11.3410,       5096,  3999.2,   2.4982,  34.9093,2,  34.9069,2,    242.6,2,   242.5,2,   44.59,2,   21.98,2,    1.45,2,-999.000,9,-999.000,9,  2348.4,2,   7.7442,2,    25.00,   2.1500
29AH20120622,      OVIDE,      11,          1,          4,2,20120625,       0000,    40.3324,   -11.3410,       5096,  3500.5,   2.6055,  34.9247,2,  34.9228,2,    243.6,2,   243.8,2,   41.39,2,   20.94,2,    1.44,2,-999.000,9,-999.000,9,  2347.9,2,   7.7438,2,    25.00,   2.3103
29AH20120622,      OVIDE,      11,          1,          5,2,20120625,       0000,    40.3324,   -11.3410,       5096,  3248.5,   2.7106,  34.9367,2,  34.9357,2,    244.5,2,   245.1,2,   38.46,2,   20.63,2,    1.41,2,-999.000,9,-999.000,9,  2344.4,2,   7.7454,2,    25.00,   2.4400
29AH20120622,      OVIDE,      11,          1,          6,2,20120625,       0000,    40.3324,   -11.3410,       5096,  2999.2,   2.8524,  34.9512,2,  34.9508,2,    245.8,2,   246.2,2,   35.31,2,   20.03,2,    1.38,2,-999.000,9,-999.000,9,  2339.7,2,   7.7474,2,    25.00,   2.6048
29AH20120622,      OVIDE,      11,          1,          7,2,20120625,       0000,    40.3324,   -11.3410,       5096,  2500.5,   3.3191,  34.9962,2,  34.9949,2,    248.8,2,   246.6,2,   28.34,2,   18.95,2,    1.34,2,-999.000,9,-999.000,9,  2334.5,2,   7.7492,2,    25.00,   3.1130
29AH20120622,      OVIDE,      11,          1,          8,2,20120625,       0000,    40.3324,   -11.3410,       5096,  2250.3,   3.6528,  35.0251,2,  35.0243,2,    250.5,2,   250.8,2,   23.61,2,   18.40,2,    1.26,2,-999.000,9,-999.000,9,  2329.1,2,   7.7450,2,    25.00,   3.4658
29AH20120622,      OVIDE,      11,          1,          9,2,20120625,       0000,    40.3324,   -11.3410,       5096,  1999.7,   4.2414,  35.0917,2,  35.0917,2,    248.3,2,   248.3,2,   18.74,2,   17.63,2,    1.15,2,-999.000,9,-999.000,9,  2326.7,2,   7.7450,2,    25.00,   4.0699
29AH20120622,      OVIDE,      11,          1,         10,2,20120625,       0000,    40.3324,   -11.3410,       5096,  1800.6,   5.2119,  35.2356,2,  35.2370,2,    239.5,2,   238.4,2,   15.75,2,   17.24,2,    1.09,2,-999.000,9,-999.000,9,  2336.8,2,   7.7504,2,    25.00,   5.0468
29AH20120622,      OVIDE,      11,          1,         11,2,20120625,       0000,    40.3324,   -11.3410,       5096,  1600.9,   6.4739,  35.4267,2,  35.4305,2,    225.2,2,   224.5,2,   13.50,2,   16.95,2,    1.06,2,-999.000,9,-999.000,9,  2347.7,2,   7.7588,2,    25.00,   6.3141
29AH20120622,      OVIDE,      11,          1,         12,2,20120625,       0000,    40.3324,   -11.3410,       5096,  1399.2,   8.3283,  35.7220,2,  35.7281,4,    204.0,2,   204.6,2,   11.60,2,   16.20,2,    0.99,2,-999.000,9,-999.000,9,  2364.8,2,   7.7714,2,    25.00,   8.1712
29AH20120622,      OVIDE,      11,          1,         13,2,20120625,       0000,    40.3324,   -11.3410,       5096,  1202.5,  10.7777,  36.1683,2,  36.1684,2,    182.4,2,   182.3,2,    9.75,2,   14.80,2,    0.89,2,-999.000,9,-999.000,9,  2396.1,2,   7.8001,2,    25.00,  10.6226
29AH20120622,      OVIDE,      11,          1,         14,2,20120625,       0000,    40.3324,   -11.3410,       5096,  1000.0,  10.9328,  36.0513,2,  36.0479,2,    178.5,2,   180.4,2,    9.51,2,   15.18,2,    0.90,2,-999.000,9,-999.000,9,  2386.3,2,   7.7950,2,    25.00,  10.8040
29AH20120622,      OVIDE,      11,          1,         15,2,20120625,       0000,    40.3324,   -11.3410,       5096,   899.2,  11.1816,  36.0390,2,  36.0391,2,    177.8,2,   179.2,2,    9.19,2,   15.13,2,    0.89,2,-999.000,9,-999.000,9,  2378.7,2,   7.7986,2,    25.00,  11.0648
29AH20120622,      OVIDE,      11,          1,         16,2,20120625,       0000,    40.3324,   -11.3410,       5096,   801.5,  11.3853,  35.9971,2,  36.0012,2,    179.0,2,   179.8,2,    8.48,2,   14.68,2,    0.86,2,-999.000,9,-999.000,9,  2371.3,2,   7.7983,2,    25.00,  11.2805
29AH20120622,      OVIDE,      11,          1,         17,2,20120625,       0000,    40.3324,   -11.3410,       5096,   599.7,  11.3012,  35.6943,2,  35.6930,2,    197.7,2,   194.3,2,    6.62,2,   13.75,2,    0.81,2,-999.000,9,-999.000,9,  2345.3,2,   7.7933,2,    25.00,  11.2240
29AH20120622,      OVIDE,      11,          1,         18,2,20120625,       0000,    40.3324,   -11.3410,       5096,   498.8,  11.5470,  35.6501,2,  35.6433,4,    214.2,2,   212.5,2,    5.02,2,   11.74,2,    0.67,2,-999.000,9,-999.000,9,  2340.4,2,   7.8138,2,    25.00,  11.4823
29AH20120622,      OVIDE,      11,          1,         19,2,20120625,       0000,    40.3324,   -11.3410,       5096,   401.8,  11.8528,  35.6665,2,  35.6675,2,    219.8,2,   217.4,2,    4.01,2,   10.54,2,    0.59,2,-999.000,9,-999.000,9,  2339.1,2,   7.8252,2,    25.00,  11.8000
29AH20120622,      OVIDE,      11,          1,         20,2,20120625,       0000,    40.3324,   -11.3410,       5096,   300.2,  12.2263,  35.7085,2,  35.7054,2,    222.6,2,   221.9,2,    3.42,2,    9.50,2,    0.53,2,-999.000,9,-999.000,9,  2343.1,2,   7.8397,2,    25.00,  12.1862
29AH20120622,      OVIDE,      11,          1,         21,2,20120625,       0000,    40.3324,   -11.3410,       5096,   200.0,  13.0219,  35.8326,2,  35.8197,4,    230.5,2,   231.0,2,    2.44,2,    6.73,2,    0.35,2,-999.000,9,-999.000,9,  2348.2,2,   7.8698,2,    25.00,  12.9941
29AH20120622,      OVIDE,      11,          1,         22,2,20120625,       0000,    40.3324,   -11.3410,       5096,    99.1,  13.9049,  35.9517,2,  35.9525,2,    236.2,2,   235.6,2,    1.64,2,    4.19,2,    0.19,2,-999.000,9,-999.000,9,  2357.7,2,   7.9057,2,    25.00,  13.8906
29AH20120622,      OVIDE,      11,          1,         23,2,20120625,       0000,    40.3324,   -11.3410,       5096,    53.1,  15.2202,  36.0401,2,  36.0507,4,    257.1,2,   252.3,3,    0.83,2,    1.08,2,    0.02,2,-999.000,9,-999.000,9,  2364.4,2,   7.9534,2,    25.00,  15.2120
29AH20120622,      OVIDE,      11,          1,         24,2,20120625,       0000,    40.3324,   -11.3410,       5096,     5.3,  18.4878,  35.9916,2,  35.9922,2,    239.6,2,   241.1,2,    0.48,2,    0.09,2,    0.02,2,-999.000,9,-999.000,9,  2363.9,2,   7.9911,2,    25.00,  18.4869
29AH20120622,      OVIDE,      12,          1,          1,2,20120625,       0000,    40.3334,   -11.7795,       5212,  5304.8,   2.5511,  34.8976,2,  34.8970,2,    241.7,2,   241.7,2,   45.09,3,   22.30,2,    1.46,2,-999.000,9,-999.000,9,  -999.0,9,   7.7470,2,    25.00,   2.0405
29AH20120622,      OVIDE,      12,          1,          2,2,20120625,       0000,    40.3334,   -11.7795,       5212,  5000.4,   2.5126,  34.8981,2,  34.8987,2,    241.8,2,   241.8,2,   45.12,3,   22.39,2,    1.47,2,   0.013,2,   0.010,2,  -999.0,9,   7.7443,2,    25.00,   2.0426
29AH20120622,      OVIDE,      12,          1,          3,2,20120625,       0000,    40.3334,   -11.7795,       5212,  4500.9,   2.4798,  34.9016,2,  34.9004,2,    241.8,2,   241.6,2,   44.34,3,   22.32,2,    1.46,2,-999.000,9,-999.000,9,  -999.0,9,   7.7440,2,    25.00,   2.0729
29AH20120622,      OVIDE,      12,          1,          4,2,20120625,       0000,    40.3334,   -11.7795,       5212,  4000.4,   2.5110,  34.9105,2,  34.9106,2,    242.0,2,   241.6,2,   41.94,3,   21.49,2,    1.43,2,   0.026,6,   0.018,6,  -999.0,9,   7.7428,2,    25.00,   2.1623
29AH20120622,      OVIDE,      12,          1,          5,2,20120625,       0000,    40.3334,   -11.7795,       5212,  3500.7,   2.6197,  34.9261,2,  34.9250,2,    243.7,2,   243.2,2,   38.54,3,   20.63,2,    1.38,2,   0.063,2,   0.035,2,  -999.0,9,   7.7448,2,    25.00,   2.3241
29AH20120622,      OVIDE,      12,          1,          6,2,20120625,       0000,    40.3334,   -11.7795,       5212,  3001.0,   2.8273,  34.9477,2,-999.0000,9,    247.1,2,  -999.0,9,   33.38,3,   21.65,3,    1.34,2,   1.975,4,   1.162,4,  -999.0,9,-999.0000,9,  -999.00,   2.5801
29AH20120622,      OVIDE,      12,          1,          7,2,20120625,       0000,    40.3334,   -11.7795,       5212,  2501.2,   3.2745,  34.9854,2,  34.9847,2,    251.2,2,   249.5,2,   25.57,3,   19.66,2,    1.24,2,   0.448,2,   0.233,2,  -999.0,9,   7.7479,2,    25.00,   3.0692
29AH20120622,      OVIDE,      12,          1,          8,2,20120625,       0000,    40.3334,   -11.7795,       5212,  2250.8,   3.5963,  35.0044,2,  35.0042,2,    255.8,2,   253.8,2,   20.34,3,   18.66,2,    1.18,2,-999.000,9,-999.000,9,  -999.0,9,   7.7446,2,    25.00,   3.4103
29AH20120622,      OVIDE,      12,          1,          9,2,20120625,       0000,    40.3334,   -11.7795,       5212,  2000.3,   4.1208,  35.0503,2,  35.0510,2,    254.5,2,   254.4,2,   15.99,3,   17.97,2,    1.12,2,   1.627,2,   0.825,2,  -999.0,9,   7.7426,2,    25.00,   3.9512
29AH20120622,      OVIDE,      12,          1,         10,2,20120625,       0000,    40.3334,   -11.7795,       5212,  1800.1,   4.8733,  35.1548,2,  35.1540,2,    242.9,2,   244.9,2,   13.97,3,   17.86,2,    1.06,2,   1.847,2,   0.950,2,  -999.0,9,   7.7436,2,    25.00,   4.7129
29AH20120622,      OVIDE,      12,          1,         11,2,20120625,       0000,    40.3334,   -11.7795,       5212,  1601.0,   6.7719,  35.4662,2,  35.4684,2,    219.9,2,   221.9,2,   12.53,3,   17.47,2,    1.03,2,-999.000,9,-999.000,9,  -999.0,9,   7.7604,2,    25.00,   6.6085
29AH20120622,      OVIDE,      12,          1,         12,2,20120625,       0000,    40.3334,   -11.7795,       5212,  1401.0,   9.2420,  35.9124,2,  35.9141,2,    193.3,2,   195.3,2,   10.79,3,   16.65,2,    0.94,2,   1.558,2,   0.855,2,  -999.0,9,   7.7845,2,    25.00,   9.0753
29AH20120622,      OVIDE,      12,          1,         13,2,20120625,       0000,    40.3334,   -11.7795,       5212,  1250.0,  10.6368,  36.1617,2,  36.1616,2,    181.3,2,   183.9,2,    9.47,3,   15.97,2,    0.86,2,   1.589,2,   0.893,2,  -999.0,9,   7.8012,2,    25.00,  10.4765
29AH20120622,      OVIDE,      12,          1,         14,2,20120625,       0000,    40.3334,   -11.7795,       5212,  1001.2,  11.3783,  36.1320,2,  36.1284,2,    176.6,2,   177.6,2,    8.53,3,   15.58,2,    0.85,2,   1.705,2,   0.981,2,  -999.0,9,   7.8030,2,    25.00,  11.2462
29AH20120622,      OVIDE,      12,          1,         15,2,20120625,       0000,    40.3334,   -11.7795,       5212,   800.6,  11.8144,  36.0749,2,  36.0767,2,    179.0,2,   179.7,2,    7.51,3,   14.34,2,    0.80,2,   1.923,2,   1.114,2,  -999.0,9,   7.8081,2,    25.00,  11.7072
29AH20120622,      OVIDE,      12,          1,         16,2,20120625,       0000,    40.3334,   -11.7795,       5212,   700.8,  11.5424,  35.8853,2,  35.8850,2,    180.5,2,   182.7,2,    7.32,3,   14.50,2,    0.84,2,-999.000,9,-999.000,9,  -999.0,9,   7.7968,2,    25.00,  11.4505
29AH20120622,      OVIDE,      12,          1,         17,2,20120625,       0000,    40.3334,   -11.7795,       5212,   600.5,  11.3674,  35.7274,2,  35.7304,2,    187.5,2,   191.8,2,    6.57,3,   14.19,2,    0.80,2,-999.000,9,-999.000,9,  -999.0,9,   7.7934,2,    25.00,  11.2898
29AH20120622,      OVIDE,      12,          1,         18,2,20120625,       0000,    40.3334,   -11.7795,       5212,   501.1,  11.4262,  35.6343,2,  35.6345,2,    211.3,2,   216.3,3,    4.51,3,   11.75,2,    0.75,2,   2.687,2,   1.589,2,  -999.0,9,   7.8129,2,    25.00,  11.3616
29AH20120622,      OVIDE,      12,          1,         19,2,20120625,       0000,    40.3334,   -11.7795,       5212,   401.1,  11.7179,  35.6454,2,  35.6459,2,    222.2,2,   218.9,2,    3.90,3,   11.05,2,    0.60,2,-999.000,9,-999.000,9,  -999.0,9,   7.8195,2,    25.00,  11.6656
29AH20120622,      OVIDE,      12,          1,         20,2,20120625,       0000,    40.3334,   -11.7795,       5212,   300.5,  12.2240,  35.6994,2,  35.6978,2,    217.8,2,   219.0,2,    3.50,3,   10.11,2,    0.53,2,-999.000,9,-999.000,9,  -999.0,9,   7.8356,2,    25.00,  12.1839
29AH20120622,      OVIDE,      12,          1,         21,2,20120625,       0000,    40.3334,   -11.7795,       5212,   200.1,  12.9151,  35.7944,2,  35.7970,2,    225.8,2,   223.6,2,    2.82,3,    8.31,2,    0.39,2,   2.658,6,   1.607,6,  -999.0,9,   7.8595,2,    25.00,  12.8875
29AH20120622,      OVIDE,      12,          1,         22,2,20120625,       0000,    40.3334,   -11.7795,       5212,   100.7,  14.2320,  36.0455,2,  36.0463,2,    230.5,2,   235.9,3,    1.38,3,    4.35,2,    0.12,2,-999.000,9,-999.000,9,  -999.0,9,   7.9130,2,    25.00,  14.2172
29AH20120622,      OVIDE,      12,          1,         23,2,20120625,       0000,    40.3334,   -11.7795,       5212,    45.1,  15.6082,  36.0534,2,  36.0551,2,    252.0,2,   258.7,3,    0.63,3,    1.73,2,    0.01,2,-999.000,9,-999.000,9,  -999.0,9,   7.9712,2,    25.00,  15.6012
29AH20120622,      OVIDE,      12,          1,         24,2,20120625,       0000,    40.3334,   -11.7795,       5212,     5.4,  18.5506,  36.0804,2,  36.0807,2,    239.9,2,   238.3,2,    0.60,3,    0.00,2,    0.00,2,   2.183,2,   1.331,2,  -999.0,9,   7.9872,2,    25.00,  18.5497