BOTTLE,20151116SIOCCHCBG
EXPOCODE,SECT_ID,STNNBR,CASTNO,BTLNBR,BTLNBR_FLAG_W,DATE,TIME,LATITUDE,LONGITUDE,DEPTH,CTDPRS,CTDTMP,CTDSAL,CTDSAL_FLAG_W,SALNTY,SALNTY_FLAG_W,CTDOXY,CTDOXY_FLAG_W,OXYGEN,OXYGEN_FLAG_W,SILCAT,SILCAT_FLAG_W,NITRAT,NITRAT_FLAG_W,PHSPHT,PHSPHT_FLAG_W,CFC-11,CFC-11_FLAG_W,CFC-12,CFC-12_FLAG_W,ALKALI,ALKALI_FLAG_W,PH_TOT,PH_TOT_FLAG_W,PH_TMP,THETA
,,,,,,,,,,METERS,DBAR,ITS-90,PSS-78,,PSS-78,,UMOL/KG,,UMOL/KG,,UMOL/KG,,UMOL/KG,,UMOL/KG,,PMOL/KG,,PMOL/KG,,UMOL/KG,,,,DEG C,DEG C
29AH20120622,      OVIDE,      47,          1,          1,2,20120708,       0000,    52.1475,   -24.0723,       3914,  3958.0,   2.6348,  34.9241,2,  34.9231,2,    244.7,2,   244.6,2,   39.91,2,   20.99,2,    1.37,2,-999.000,9,-999.000,9,  2345.2,2,   7.7377,2,    25.00,   2.2875
29AH20120622,      OVIDE,      47,          1,          2,2,20120708,       0000,    52.1475,   -24.0723,       3914,  3750.8,   2.7458,  34.9394,2,  34.9380,2,    252.9,2,   253.3,2,   32.91,2,   19.56,2,    1.25,2,-999.000,9,-999.000,9,  2333.6,2,   7.7326,2,    25.00,   2.4191
29AH20120622,      OVIDE,      47,          1,          3,2,20120708,       0000,    52.1475,   -24.0723,       3914,  3500.0,   2.8284,  34.9511,2,  34.9521,2,    261.0,2,   260.8,2,   25.26,2,   18.09,2,    1.18,2,-999.000,9,-999.000,9,  2322.4,2,   7.7319,2,    25.00,   2.5276
29AH20120622,      OVIDE,      47,          1,          4,2,20120708,       0000,    52.1475,   -24.0723,       3914,  3001.0,   2.9750,  34.9569,2,  34.9550,2,    269.0,2,   269.0,2,   18.07,2,   17.08,2,    1.08,2,-999.000,9,-999.000,9,  2313.0,2,   7.7311,2,    25.00,   2.7245
29AH20120622,      OVIDE,      47,          1,          5,2,20120708,       0000,    52.1475,   -24.0723,       3914,  2749.8,   3.0797,  34.9493,2,  34.9482,2,    272.0,2,   272.3,2,   14.95,2,   16.63,2,    1.04,2,-999.000,9,-999.000,9,  2307.1,2,   7.7328,2,    25.00,   2.8531
29AH20120622,      OVIDE,      47,          1,          6,2,20120708,       0000,    52.1475,   -24.0723,       3914,  2500.4,   3.1562,  34.9322,2,  34.9310,2,    272.7,2,   273.2,2,   14.61,2,   16.95,2,    1.04,2,-999.000,9,-999.000,9,  2305.9,2,   7.7319,2,    25.00,   2.9534
29AH20120622,      OVIDE,      47,          1,          7,2,20120708,       0000,    52.1475,   -24.0723,       3914,  2249.1,   3.2879,  34.9233,2,  34.9254,2,    273.6,2,   274.6,2,   13.53,2,   16.93,2,    1.06,2,-999.000,9,-999.000,9,  2303.3,2,   7.7319,2,    25.00,   3.1074
29AH20120622,      OVIDE,      47,          1,          8,2,20120708,       0000,    52.1475,   -24.0723,       3914,  1999.1,   3.4264,  34.9184,2,  34.9182,2,    273.0,2,   273.9,2,   12.78,2,   17.14,2,    1.08,2,-999.000,9,-999.000,9,  2302.5,2,   7.7290,2,    25.00,   3.2676
29AH20120622,      OVIDE,      47,          1,          9,2,20120708,       0000,    52.1475,   -24.0723,       3914,  1798.7,   3.5742,  34.9188,2,  34.9190,2,    271.8,2,   272.4,2,   12.28,2,   17.12,2,    1.09,2,-999.000,9,-999.000,9,  2302.9,2,   7.7259,2,    25.00,   3.4320
29AH20120622,      OVIDE,      47,          1,         10,2,20120708,       0000,    52.1475,   -24.0723,       3914,  1600.1,   3.6867,  34.9171,2,  34.9181,2,    271.2,2,   271.3,2,   11.85,2,   17.17,2,    1.10,2,-999.000,9,-999.000,9,  2302.7,2,   7.7237,2,    25.00,   3.5612
29AH20120622,      OVIDE,      47,          1,         11,2,20120708,       0000,    52.1475,   -24.0723,       3914,  1399.2,   3.7879,  34.9150,2,-999.0000,9,    271.7,2,  -999.0,9,   11.16,3,   17.23,3,    1.08,3,-999.000,9,-999.000,9,  -999.0,9,-999.0000,9,  -999.00,   3.6792
29AH20120622,      OVIDE,      47,          1,         12,2,20120708,       0000,    52.1475,   -24.0723,       3914,  1199.7,   3.9617,  34.9202,2,  34.9205,2,    270.5,2,   271.0,2,   11.00,2,   17.25,2,    1.06,2,-999.000,9,-999.000,9,  2302.8,2,   7.7192,2,    25.00,   3.8686
29AH20120622,      OVIDE,      47,          1,         13,2,20120708,       0000,    52.1475,   -24.0723,       3914,  1099.4,   4.1127,  34.9302,2,  34.9350,2,    268.3,2,   269.0,2,   10.82,2,   17.33,2,    1.06,2,-999.000,9,-999.000,9,  2302.9,2,   7.7175,2,    25.00,   4.0270
29AH20120622,      OVIDE,      47,          1,         14,2,20120708,       0000,    52.1475,   -24.0723,       3914,  1000.3,   4.3301,  34.9483,2,  34.9490,2,    263.1,2,   262.6,2,   10.74,2,   17.24,2,    1.07,2,-999.000,9,-999.000,9,  2304.3,2,   7.7170,2,    25.00,   4.2511
29AH20120622,      OVIDE,      47,          1,         15,2,20120708,       0000,    52.1475,   -24.0723,       3914,   899.7,   4.5979,  34.9729,2,  34.9729,2,    258.8,2,   256.6,2,   10.75,2,   17.70,2,    1.08,2,-999.000,9,-999.000,9,  2307.2,2,   7.7140,2,    25.00,   4.5257
29AH20120622,      OVIDE,      47,          1,         16,2,20120708,       0000,    52.1475,   -24.0723,       3914,   799.8,   4.8723,  34.9945,2,  34.9934,2,    251.9,2,   251.4,2,   10.81,2,   17.71,2,    1.11,2,-999.000,9,-999.000,9,  2307.2,2,   7.7136,2,    25.00,   4.8070
29AH20120622,      OVIDE,      47,          1,         17,2,20120708,       0000,    52.1475,   -24.0723,       3914,   599.3,   5.5702,  35.0099,2,  35.0084,2,    234.2,2,   231.8,2,   11.29,2,   18.32,2,    1.16,2,-999.000,9,-999.000,9,  2310.1,2,   7.7051,2,    25.00,   5.5189
29AH20120622,      OVIDE,      47,          1,         18,2,20120708,       0000,    52.1475,   -24.0723,       3914,   499.4,   6.1205,  35.0018,2,  35.0047,2,    212.8,2,   218.1,3,   11.45,2,   19.01,2,    1.17,2,-999.000,9,-999.000,9,  2310.5,2,   7.6992,2,    25.00,   6.0760
29AH20120622,      OVIDE,      47,          1,         19,2,20120708,       0000,    52.1475,   -24.0723,       3914,   399.0,   6.7078,  34.9590,2,  34.9591,2,    212.8,2,   216.5,2,   10.71,2,   18.51,2,    1.13,2,-999.000,9,-999.000,9,  2308.3,2,   7.7066,2,    25.00,   6.6708
29AH20120622,      OVIDE,      47,          1,         20,2,20120708,       0000,    52.1475,   -24.0723,       3914,   299.5,   7.7353,  34.9693,2,  34.9635,4,    214.8,2,   214.5,2,    9.81,2,   17.63,2,    1.04,2,-999.000,9,-999.000,9,  2307.3,2,   7.7225,2,    25.00,   7.7054
29AH20120622,      OVIDE,      47,          1,         21,2,20120708,       0000,    52.1475,   -24.0723,       3914,   199.7,   9.4494,  35.1131,2,  35.1126,2,    224.5,2,   230.8,3,    6.56,2,   13.91,2,    0.79,2,-999.000,9,-999.000,9,  2317.0,2,   7.7809,2,    25.00,   9.4270
29AH20120622,      OVIDE,      47,          1,         22,2,20120708,       0000,    52.1475,   -24.0723,       3914,   101.3,  10.2363,  35.1312,2,  35.1278,2,    248.6,2,   250.4,2,    4.32,2,   10.25,2,    0.50,2,-999.000,9,-999.000,9,  2318.3,2,   7.8246,2,    25.00,  10.2244
29AH20120622,      OVIDE,      47,          1,         23,2,20120708,       0000,    52.1475,   -24.0723,       3914,    34.1,  13.6031,  35.1633,2,  35.1651,2,    254.7,2,   256.8,2,    0.30,2,    0.60,2,    0.02,2,-999.000,9,-999.000,9,  2323.0,2,   7.9596,2,    25.00,  13.5983
29AH20120622,      OVIDE,      47,          1,         24,2,20120708,       0000,    52.1475,   -24.0723,       3914,     8.0,  13.9034,  35.0324,2,  35.0330,2,    259.9,2,   262.1,2,    0.27,2,    0.40,2,    0.02,2,-999.000,9,-999.000,9,  2316.3,2,   7.9564,2,    25.00,  13.9023
29AH20120622,      OVIDE,      48,          1,          1,2,20120708,       0000,    52.5200,   -24.3583,       3610,  3642.4,   2.6736,  34.9329,2,  34.9308,2,    250.6,2,   249.8,2,   35.82,2,   19.91,2,    1.30,2,-999.000,9,-999.000,9,  -999.0,9,   7.7340,2,    25.00,   2.3610
29AH20120622,      OVIDE,      48,          1,          2,2,20120708,       0000,    52.5200,   -24.3583,       3610,  3501.5,   2.7635,  34.9448,2,  34.9457,2,    256.1,2,   256.5,2,   29.12,2,   18.65,2,    1.18,2,   1.498,2,   0.749,2,  -999.0,9,   7.7315,2,    25.00,   2.4641
29AH20120622,      OVIDE,      48,          1,          3,2,20120708,       0000,    52.5200,   -24.3583,       3610,  3245.5,   2.8757,  34.9545,2,  34.9528,2,    263.6,2,   265.2,2,   22.03,2,   17.37,2,    1.10,2,-999.000,9,-999.000,9,  -999.0,9,   7.7316,2,    25.00,   2.6015
29AH20120622,      OVIDE,      48,          1,          4,2,20120708,       0000,    52.5200,   -24.3583,       3610,  3000.1,   2.9660,  34.9560,2,  34.9538,2,    267.9,2,   269.4,2,   18.12,2,   16.91,2,    1.05,2,-999.000,9,-999.000,9,  -999.0,9,   7.7311,2,    25.00,   2.7158
29AH20120622,      OVIDE,      48,          1,          5,2,20120708,       0000,    52.5200,   -24.3583,       3610,  2751.3,   3.0820,  34.9500,2,  34.9488,2,    272.0,2,   273.5,2,   14.50,2,   16.33,2,    1.04,2,   2.561,2,   1.279,2,  -999.0,9,   7.7330,2,    25.00,   2.8552
29AH20120622,      OVIDE,      48,          1,          6,2,20120708,       0000,    52.5200,   -24.3583,       3610,  2502.1,   3.1407,  34.9354,2,  34.9334,2,    272.8,2,   273.3,2,   14.21,2,   16.57,2,    1.06,2,-999.000,9,-999.000,9,  -999.0,9,   7.7328,2,    25.00,   2.9380
29AH20120622,      OVIDE,      48,          1,          7,2,20120708,       0000,    52.5200,   -24.3583,       3610,  2252.2,   3.2483,  34.9251,2,  34.9235,2,    273.3,2,   274.2,2,   13.36,2,   16.68,2,    1.07,2,-999.000,9,-999.000,9,  -999.0,9,   7.7320,2,    25.00,   3.0682
29AH20120622,      OVIDE,      48,          1,          8,2,20120708,       0000,    52.5200,   -24.3583,       3610,  2000.4,   3.4017,  34.9201,2,  34.9178,2,    272.7,2,   274.3,2,   12.49,2,   16.88,2,    1.06,2,   2.856,2,   1.411,2,  -999.0,9,   7.7298,2,    25.00,   3.2432
29AH20120622,      OVIDE,      48,          1,          9,2,20120708,       0000,    52.5200,   -24.3583,       3610,  1802.4,   3.5375,  34.9179,2,  34.9168,2,    271.8,2,   272.6,2,   12.20,2,   17.01,2,    1.05,2,-999.000,9,-999.000,9,  -999.0,9,   7.7281,2,    25.00,   3.3955
29AH20120622,      OVIDE,      48,          1,         10,2,20120708,       0000,    52.5200,   -24.3583,       3610,  1602.0,   3.6814,  34.9172,2,  34.9194,2,    271.1,2,   271.9,2,   11.72,2,   17.16,2,    1.08,2,-999.000,9,-999.000,9,  -999.0,9,   7.7226,2,    25.00,   3.5558
29AH20120622,      OVIDE,      48,          1,         11,2,20120708,       0000,    52.5200,   -24.3583,       3610,  1400.2,   3.7793,  34.9135,2,  34.9133,2,    271.9,2,   273.4,2,   11.13,2,   16.94,2,    1.08,2,   3.513,2,   1.801,2,  -999.0,9,   7.7210,2,    25.00,   3.6706
29AH20120622,      OVIDE,      48,          1,         12,2,20120708,       0000,    52.5200,   -24.3583,       3610,  1200.3,   3.9163,  34.9163,2,  34.9152,2,    271.8,2,   272.8,2,   10.79,2,   17.02,2,    1.08,2,   3.657,6,   1.912,6,  -999.0,9,   7.7175,2,    25.00,   3.8236
29AH20120622,      OVIDE,      48,          1,         13,2,20120708,       0000,    52.5200,   -24.3583,       3610,  1093.2,   4.0236,  34.9197,2,  34.9200,2,    271.3,2,   271.9,2,   10.62,2,   16.90,2,    1.06,2,-999.000,9,-999.000,9,  -999.0,9,   7.7154,2,    25.00,   3.9392
29AH20120622,      OVIDE,      48,          1,         14,2,20120708,       0000,    52.5200,   -24.3583,       3610,  1001.3,   4.1801,  34.9317,2,  34.9297,2,    269.5,2,   267.9,2,   10.80,2,   17.15,2,    1.06,2,-999.000,9,-999.000,9,  -999.0,9,   7.7153,2,    25.00,   4.1022
29AH20120622,      OVIDE,      48,          1,         15,2,20120708,       0000,    52.5200,   -24.3583,       3610,   900.4,   4.3284,  34.9376,2,  34.9371,2,    266.9,2,   265.7,2,   10.51,2,   17.11,2,    1.06,2,   3.684,2,   1.962,2,  -999.0,9,   7.7137,2,    25.00,   4.2580
29AH20120622,      OVIDE,      48,          1,         16,2,20120708,       0000,    52.5200,   -24.3583,       3610,   801.7,   4.4883,  34.9427,2,  34.9418,2,    262.4,2,   263.1,2,   10.44,2,   17.27,2,    1.08,2,-999.000,9,-999.000,9,  -999.0,9,   7.7127,2,    25.00,   4.4252
29AH20120622,      OVIDE,      48,          1,         17,2,20120708,       0000,    52.5200,   -24.3583,       3610,   602.5,   5.1278,  34.9579,2,  34.9566,2,    240.4,2,   243.8,2,   11.04,2,   17.96,2,    1.10,2,-999.000,9,-999.000,9,  -999.0,9,   7.7032,2,    25.00,   5.0783
29AH20120622,      OVIDE,      48,          1,         18,2,20120708,       0000,    52.5200,   -24.3583,       3610,   501.3,   6.0409,  35.0038,2,  35.0090,2,    226.2,2,   221.2,3,   11.46,2,   18.72,2,    1.16,2,-999.000,9,-999.000,9,  -999.0,9,   7.7017,2,    25.00,   5.9965
29AH20120622,      OVIDE,      48,          1,         19,2,20120708,       0000,    52.5200,   -24.3583,       3610,   401.9,   6.9171,  34.9990,2,  34.9693,4,    210.2,2,   217.7,3,   10.70,2,   18.09,2,    1.09,2,-999.000,9,-999.000,9,  -999.0,9,   7.7060,2,    25.00,   6.8791
29AH20120622,      OVIDE,      48,          1,         20,2,20120708,       0000,    52.5200,   -24.3583,       3610,   301.4,   8.3948,  35.1010,2,  35.0960,2,    209.7,2,   206.8,2,    9.61,2,   17.38,2,    1.03,2,   2.676,2,   1.479,2,  -999.0,9,   7.7293,2,    25.00,   8.3631
29AH20120622,      OVIDE,      48,          1,         21,2,20120708,       0000,    52.5200,   -24.3583,       3610,   201.3,   9.4019,  35.1044,2,  35.0930,4,    220.0,2,   222.1,2,    7.69,2,   14.69,2,    0.78,2,-999.000,9,-999.000,9,  -999.0,9,   7.7674,2,    25.00,   9.3794
29AH20120622,      OVIDE,      48,          1,         22,2,20120708,       0000,    52.5200,   -24.3583,       3610,   100.9,   9.9770,  35.0590,2,  35.0514,4,    246.6,2,   252.8,3,    4.59,2,   10.29,2,    0.53,2,-999.000,9,-999.000,9,  -999.0,9,   7.8176,2,    25.00,   9.9654
29AH20120622,      OVIDE,      48,          1,         23,2,20120708,       0000,    52.5200,   -24.3583,       3610,    51.1,  12.7795,  35.1463,2,  35.1371,4,    245.2,2,   253.7,3,    0.90,2,    2.99,2,    0.06,2,-999.000,9,-999.000,9,  -999.0,9,   7.9086,2,    25.00,  12.7726
29AH20120622,      OVIDE,      48,          1,         24,2,20120708,       0000,    52.5200,   -24.3583,       3610,     5.0,  14.0495,  35.1393,2,  35.1397,2,    260.0,2,   263.2,2,    0.23,2,    0.06,2,    0.00,2,   2.738,2,   1.670,2,  -999.0,9,   7.9680,2,    25.00,  14.0488