BOTTLE,20151116SIOCCHCBG
EXPOCODE,SECT_ID,STNNBR,CASTNO,BTLNBR,BTLNBR_FLAG_W,DATE,TIME,LATITUDE,LONGITUDE,DEPTH,CTDPRS,CTDTMP,CTDSAL,CTDSAL_FLAG_W,SALNTY,SALNTY_FLAG_W,CTDOXY,CTDOXY_FLAG_W,OXYGEN,OXYGEN_FLAG_W,SILCAT,SILCAT_FLAG_W,NITRAT,NITRAT_FLAG_W,PHSPHT,PHSPHT_FLAG_W,CFC-11,CFC-11_FLAG_W,CFC-12,CFC-12_FLAG_W,ALKALI,ALKALI_FLAG_W,PH_TOT,PH_TOT_FLAG_W,PH_TMP,THETA
,,,,,,,,,,METERS,DBAR,ITS-90,PSS-78,,PSS-78,,UMOL/KG,,UMOL/KG,,UMOL/KG,,UMOL/KG,,UMOL/KG,,PMOL/KG,,PMOL/KG,,UMOL/KG,,,,DEG C,DEG C
29AH20120622,      OVIDE,      93,          1,          1,2,20120717,       0000,    59.8765,   -42.7956,        185,   173.3,   4.5831,  34.7578,2,  34.7341,4,    298.6,2,   300.0,2,    5.18,2,   11.74,2,    0.79,2,-999.000,9,-999.000,9,  2294.9,2,   7.7616,2,    25.00,   4.5702
29AH20120622,      OVIDE,      93,          1,          2,2,20120717,       0000,    59.8765,   -42.7956,        185,   173.3,   4.5772,  34.7556,2,-999.0000,9,    298.6,2,  -999.0,9, -999.00,9, -999.00,9, -999.00,9,-999.000,9,-999.000,9,  -999.0,9,-999.0000,9,  -999.00,   4.5643
29AH20120622,      OVIDE,      93,          1,          3,2,20120717,       0000,    59.8765,   -42.7956,        185,   150.6,   3.5662,  34.5460,2,  34.5744,4,    305.3,2,   306.5,2,    5.11,2,   11.16,2,    0.74,2,-999.000,9,-999.000,9,  -999.0,9,   7.7598,2,    25.00,   3.5563
29AH20120622,      OVIDE,      93,          1,          4,2,20120717,       0000,    59.8765,   -42.7956,        185,   150.5,   3.5654,  34.5457,2,-999.0000,9,    305.3,2,  -999.0,9, -999.00,9, -999.00,9, -999.00,9,-999.000,9,-999.000,9,  -999.0,9,-999.0000,9,  -999.00,   3.5555
29AH20120622,      OVIDE,      93,          1,          5,2,20120717,       0000,    59.8765,   -42.7956,        185,   100.5,   4.5757,  34.4080,2,  34.4149,4,    310.8,2,   312.2,2,    3.36,2,    8.09,2,    0.54,2,-999.000,9,-999.000,9,  2279.3,2,   7.8032,2,    25.00,   4.5683
29AH20120622,      OVIDE,      93,          1,          6,2,20120717,       0000,    59.8765,   -42.7956,        185,   100.5,   4.5751,  34.4079,2,-999.0000,9,    310.8,2,  -999.0,9, -999.00,9, -999.00,9, -999.00,9,-999.000,9,-999.000,9,  -999.0,9,-999.0000,9,  -999.00,   4.5677
29AH20120622,      OVIDE,      93,          1,          7,2,20120717,       0000,    59.8765,   -42.7956,        185,    21.7,  -0.3456,  33.0172,2,  33.0385,4,    365.4,2,   357.1,3,    1.82,2,    3.94,2,    0.44,2,-999.000,9,-999.000,9,  -999.0,9,   7.7625,2,    25.00,  -0.3462
29AH20120622,      OVIDE,      93,          1,          8,2,20120717,       0000,    59.8765,   -42.7956,        185,    21.8,  -0.3406,  33.0163,2,-999.0000,9,    365.2,2,  -999.0,9, -999.00,9, -999.00,9, -999.00,9,-999.000,9,-999.000,9,  -999.0,9,-999.0000,9,  -999.00,  -0.3412
29AH20120622,      OVIDE,      93,          1,          9,2,20120717,       0000,    59.8765,   -42.7956,        185,     5.9,   1.7071,  32.2745,2,-999.0000,9,    376.2,2,  -999.0,9, -999.00,9, -999.00,9, -999.00,9,-999.000,9,-999.000,9,  -999.0,9,-999.0000,9,  -999.00,   1.7068
29AH20120622,      OVIDE,      93,          1,         10,2,20120717,       0000,    59.8765,   -42.7956,        185,     5.7,   1.7605,  32.2584,2,-999.0000,9,    376.1,2,  -999.0,9, -999.00,9, -999.00,9, -999.00,9,-999.000,9,-999.000,9,  -999.0,9,-999.0000,9,  -999.00,   1.7602
29AH20120622,      OVIDE,      93,          1,         11,2,20120717,       0000,    59.8765,   -42.7956,        185,     5.8,   1.7683,  32.2567,2,-999.0000,9,    376.2,2,  -999.0,9, -999.00,9, -999.00,9, -999.00,9,-999.000,9,-999.000,9,  -999.0,9,-999.0000,9,  -999.00,   1.7680
29AH20120622,      OVIDE,      93,          1,         12,2,20120717,       0000,    59.8765,   -42.7956,        185,     5.8,   1.7880,  32.2515,2,-999.0000,9,    376.2,2,  -999.0,9, -999.00,9, -999.00,9, -999.00,9,-999.000,9,-999.000,9,  -999.0,9,-999.0000,9,  -999.00,   1.7877
29AH20120622,      OVIDE,      93,          1,         13,2,20120717,       0000,    59.8765,   -42.7956,        185,     5.8,   1.8173,  32.2436,2,-999.0000,9,    376.2,2,  -999.0,9, -999.00,9, -999.00,9, -999.00,9,-999.000,9,-999.000,9,  -999.0,9,-999.0000,9,  -999.00,   1.8170
29AH20120622,      OVIDE,      93,          1,         14,2,20120717,       0000,    59.8765,   -42.7956,        185,     5.8,   1.8323,  32.2385,2,-999.0000,9,    376.2,2,  -999.0,9, -999.00,9, -999.00,9, -999.00,9,-999.000,9,-999.000,9,  -999.0,9,-999.0000,9,  -999.00,   1.8320
29AH20120622,      OVIDE,      93,          1,         15,2,20120717,       0000,    59.8765,   -42.7956,        185,     5.8,   1.8180,  32.2422,2,-999.0000,9,    376.2,2,  -999.0,9, -999.00,9, -999.00,9, -999.00,9,-999.000,9,-999.000,9,  -999.0,9,-999.0000,9,  -999.00,   1.8177
29AH20120622,      OVIDE,      93,          1,         16,2,20120717,       0000,    59.8765,   -42.7956,        185,     5.9,   1.8084,  32.2461,2,-999.0000,9,    376.2,2,  -999.0,9, -999.00,9, -999.00,9, -999.00,9,-999.000,9,-999.000,9,  -999.0,9,-999.0000,9,  -999.00,   1.8081
29AH20120622,      OVIDE,      93,          1,         17,2,20120717,       0000,    59.8765,   -42.7956,        185,     5.8,   1.8290,  32.2400,2,-999.0000,9,    376.2,2,  -999.0,9, -999.00,9, -999.00,9, -999.00,9,-999.000,9,-999.000,9,  -999.0,9,-999.0000,9,  -999.00,   1.8287
29AH20120622,      OVIDE,      93,          1,         18,2,20120717,       0000,    59.8765,   -42.7956,        185,     5.7,   1.8489,  32.2337,2,-999.0000,9,    376.1,2,  -999.0,9, -999.00,9, -999.00,9, -999.00,9,-999.000,9,-999.000,9,  -999.0,9,-999.0000,9,  -999.00,   1.8486
29AH20120622,      OVIDE,      93,          1,         19,2,20120717,       0000,    59.8765,   -42.7956,        185,     5.7,   1.8665,  32.2278,2,-999.0000,9,    376.1,2,  -999.0,9, -999.00,9, -999.00,9, -999.00,9,-999.000,9,-999.000,9,  -999.0,9,-999.0000,9,  -999.00,   1.8662
29AH20120622,      OVIDE,      93,          1,         20,2,20120717,       0000,    59.8765,   -42.7956,        185,     5.8,   1.8772,  32.2242,2,-999.0000,9,    376.2,2,  -999.0,9, -999.00,9, -999.00,9, -999.00,9,-999.000,9,-999.000,9,  -999.0,9,-999.0000,9,  -999.00,   1.8769
29AH20120622,      OVIDE,      93,          1,         21,2,20120717,       0000,    59.8765,   -42.7956,        185,     5.8,   1.8930,  32.2201,2,-999.0000,9,    376.2,2,  -999.0,9, -999.00,9, -999.00,9, -999.00,9,-999.000,9,-999.000,9,  -999.0,9,-999.0000,9,  -999.00,   1.8927
29AH20120622,      OVIDE,      93,          1,         22,2,20120717,       0000,    59.8765,   -42.7956,        185,     5.8,   1.9136,  32.2136,2,-999.0000,9,    376.2,2,  -999.0,9, -999.00,9, -999.00,9, -999.00,9,-999.000,9,-999.000,9,  -999.0,9,-999.0000,9,  -999.00,   1.9133
29AH20120622,      OVIDE,      93,          1,         23,2,20120717,       0000,    59.8765,   -42.7956,        185,     5.8,   1.9212,  32.2117,2,-999.0000,9,    376.2,2,  -999.0,9, -999.00,9, -999.00,9, -999.00,9,-999.000,9,-999.000,9,  -999.0,9,-999.0000,9,  -999.00,   1.9209
29AH20120622,      OVIDE,      93,          1,         24,2,20120717,       0000,    59.8765,   -42.7956,        185,     5.8,   1.9251,  32.2111,2,  32.2110,2,    376.2,2,   376.5,2,    0.64,2,    0.87,2,    0.13,2,-999.000,9,-999.000,9,  -999.0,9,-999.0000,9,  -999.00,   1.9248
29AH20120622,      OVIDE,      94,          1,          1,2,20120717,       0000,    59.8602,   -42.7019,        188,   175.6,   2.4287,  34.3852,2,  34.3100,4,    317.1,2,   313.6,2,    5.72,2,   10.92,2,    0.67,2,-999.000,9,-999.000,9,  -999.0,9,   7.7426,2,    25.00,   2.4188
29AH20120622,      OVIDE,      94,          1,          2,2,20120717,       0000,    59.8602,   -42.7019,        188,   175.5,   2.4770,  34.3987,2,-999.0000,9,    317.1,2,  -999.0,9, -999.00,9, -999.00,9, -999.00,9,-999.000,9,-999.000,9,  -999.0,9,-999.0000,9,  -999.00,   2.4670
29AH20120622,      OVIDE,      94,          1,          3,2,20120717,       0000,    59.8602,   -42.7019,        188,   100.4,   0.9307,  34.0274,2,  34.0387,4,    326.5,2,   323.7,2,    5.50,2,    9.79,2,    0.66,2,-999.000,9,-999.000,9,  -999.0,9,   7.7396,2,    25.00,   0.9264
29AH20120622,      OVIDE,      94,          1,          4,2,20120717,       0000,    59.8602,   -42.7019,        188,   100.3,   0.9328,  34.0269,2,-999.0000,9,    326.5,2,  -999.0,9, -999.00,9, -999.00,9, -999.00,9,-999.000,9,-999.000,9,  -999.0,9,-999.0000,9,  -999.00,   0.9285
29AH20120622,      OVIDE,      94,          1,          5,2,20120717,       0000,    59.8602,   -42.7019,        188,    24.1,  -0.4602,  33.1637,2,  33.1565,4,    356.5,2,   351.7,3,    2.34,2,    4.75,2,    0.51,2,-999.000,9,-999.000,9,  -999.0,9,   7.7552,2,    25.00,  -0.4609
29AH20120622,      OVIDE,      94,          1,          6,2,20120717,       0000,    59.8602,   -42.7019,        188,    24.1,  -0.4550,  33.1628,2,-999.0000,9,    356.5,2,  -999.0,9, -999.00,9, -999.00,9, -999.00,9,-999.000,9,-999.000,9,  -999.0,9,-999.0000,9,  -999.00,  -0.4557
29AH20120622,      OVIDE,      94,          1,          7,2,20120717,       0000,    59.8602,   -42.7019,        188,     5.5,   1.1102,  32.6588,2,-999.0000,9,    386.5,2,  -999.0,9, -999.00,9, -999.00,9, -999.00,9,-999.000,9,-999.000,9,  -999.0,9,-999.0000,9,  -999.00,   1.1100
29AH20120622,      OVIDE,      94,          1,          8,2,20120717,       0000,    59.8602,   -42.7019,        188,     5.5,   1.1468,  32.6546,2,-999.0000,9,    386.5,2,  -999.0,9, -999.00,9, -999.00,9, -999.00,9,-999.000,9,-999.000,9,  -999.0,9,-999.0000,9,  -999.00,   1.1466
29AH20120622,      OVIDE,      94,          1,          9,2,20120717,       0000,    59.8602,   -42.7019,        188,     5.5,   1.1842,  32.6481,2,-999.0000,9,    386.5,2,  -999.0,9, -999.00,9, -999.00,9, -999.00,9,-999.000,9,-999.000,9,  -999.0,9,-999.0000,9,  -999.00,   1.1840
29AH20120622,      OVIDE,      94,          1,         10,2,20120717,       0000,    59.8602,   -42.7019,        188,     5.5,   1.2202,  32.6434,2,-999.0000,9,    386.5,2,  -999.0,9, -999.00,9, -999.00,9, -999.00,9,-999.000,9,-999.000,9,  -999.0,9,-999.0000,9,  -999.00,   1.2200
29AH20120622,      OVIDE,      94,          1,         11,2,20120717,       0000,    59.8602,   -42.7019,        188,     5.4,   1.2239,  32.6425,2,-999.0000,9,    386.5,2,  -999.0,9, -999.00,9, -999.00,9, -999.00,9,-999.000,9,-999.000,9,  -999.0,9,-999.0000,9,  -999.00,   1.2237
29AH20120622,      OVIDE,      94,          1,         12,2,20120717,       0000,    59.8602,   -42.7019,        188,     5.5,   1.2225,  32.6434,2,-999.0000,9,    386.5,2,  -999.0,9, -999.00,9, -999.00,9, -999.00,9,-999.000,9,-999.000,9,  -999.0,9,-999.0000,9,  -999.00,   1.2223
29AH20120622,      OVIDE,      94,          1,         13,2,20120717,       0000,    59.8602,   -42.7019,        188,     5.5,   1.2289,  32.6420,2,-999.0000,9,    386.5,2,  -999.0,9, -999.00,9, -999.00,9, -999.00,9,-999.000,9,-999.000,9,  -999.0,9,-999.0000,9,  -999.00,   1.2287
29AH20120622,      OVIDE,      94,          1,         14,2,20120717,       0000,    59.8602,   -42.7019,        188,     5.5,   1.2385,  32.6380,2,-999.0000,9,    386.5,2,  -999.0,9, -999.00,9, -999.00,9, -999.00,9,-999.000,9,-999.000,9,  -999.0,9,-999.0000,9,  -999.00,   1.2383
29AH20120622,      OVIDE,      94,          1,         15,2,20120717,       0000,    59.8602,   -42.7019,        188,     5.5,   1.2415,  32.6371,2,-999.0000,9,    386.5,2,  -999.0,9, -999.00,9, -999.00,9, -999.00,9,-999.000,9,-999.000,9,  -999.0,9,-999.0000,9,  -999.00,   1.2413
29AH20120622,      OVIDE,      94,          1,         16,2,20120717,       0000,    59.8602,   -42.7019,        188,     5.5,   1.2665,  32.6319,2,-999.0000,9,    386.5,2,  -999.0,9, -999.00,9, -999.00,9, -999.00,9,-999.000,9,-999.000,9,  -999.0,9,-999.0000,9,  -999.00,   1.2663
29AH20120622,      OVIDE,      94,          1,         17,2,20120717,       0000,    59.8602,   -42.7019,        188,     5.4,   1.2958,  32.6267,2,-999.0000,9,    386.5,2,  -999.0,9, -999.00,9, -999.00,9, -999.00,9,-999.000,9,-999.000,9,  -999.0,9,-999.0000,9,  -999.00,   1.2956
29AH20120622,      OVIDE,      94,          1,         18,2,20120717,       0000,    59.8602,   -42.7019,        188,     5.5,   1.3117,  32.6244,2,-999.0000,9,    386.5,2,  -999.0,9, -999.00,9, -999.00,9, -999.00,9,-999.000,9,-999.000,9,  -999.0,9,-999.0000,9,  -999.00,   1.3115
29AH20120622,      OVIDE,      94,          1,         19,2,20120717,       0000,    59.8602,   -42.7019,        188,     5.6,   1.3341,  32.6195,2,-999.0000,9,    386.4,2,  -999.0,9, -999.00,9, -999.00,9, -999.00,9,-999.000,9,-999.000,9,  -999.0,9,-999.0000,9,  -999.00,   1.3339
29AH20120622,      OVIDE,      94,          1,         20,2,20120717,       0000,    59.8602,   -42.7019,        188,     5.6,   1.3459,  32.6213,2,-999.0000,9,    386.4,2,  -999.0,9, -999.00,9, -999.00,9, -999.00,9,-999.000,9,-999.000,9,  -999.0,9,-999.0000,9,  -999.00,   1.3457
29AH20120622,      OVIDE,      94,          1,         21,2,20120717,       0000,    59.8602,   -42.7019,        188,     5.5,   1.3695,  32.6184,2,-999.0000,9,    386.5,2,  -999.0,9, -999.00,9, -999.00,9, -999.00,9,-999.000,9,-999.000,9,  -999.0,9,-999.0000,9,  -999.00,   1.3693
29AH20120622,      OVIDE,      94,          1,         22,2,20120717,       0000,    59.8602,   -42.7019,        188,     5.4,   1.3795,  32.6176,2,-999.0000,9,    386.5,2,  -999.0,9, -999.00,9, -999.00,9, -999.00,9,-999.000,9,-999.000,9,  -999.0,9,-999.0000,9,  -999.00,   1.3793
29AH20120622,      OVIDE,      94,          1,         23,2,20120717,       0000,    59.8602,   -42.7019,        188,     5.5,   1.3742,  32.6178,2,-999.0000,9,    386.5,2,  -999.0,9, -999.00,9, -999.00,9, -999.00,9,-999.000,9,-999.000,9,  -999.0,9,-999.0000,9,  -999.00,   1.3740
29AH20120622,      OVIDE,      94,          1,         24,2,20120717,       0000,    59.8602,   -42.7019,        188,     5.5,   1.3755,  32.6183,2,  32.6241,2,    386.5,2,   386.4,2,    0.46,2,    0.45,2,    0.14,2,-999.000,9,-999.000,9,  -999.0,9,   7.8708,2,    25.00,   1.3753