BOTTLE,20151116SIOCCHCBG
EXPOCODE,SECT_ID,STNNBR,CASTNO,BTLNBR,BTLNBR_FLAG_W,DATE,TIME,LATITUDE,LONGITUDE,DEPTH,CTDPRS,CTDTMP,CTDSAL,CTDSAL_FLAG_W,SALNTY,SALNTY_FLAG_W,CTDOXY,CTDOXY_FLAG_W,OXYGEN,OXYGEN_FLAG_W,SILCAT,SILCAT_FLAG_W,NITRAT,NITRAT_FLAG_W,PHSPHT,PHSPHT_FLAG_W,CFC-11,CFC-11_FLAG_W,CFC-12,CFC-12_FLAG_W,ALKALI,ALKALI_FLAG_W,PH_TOT,PH_TOT_FLAG_W,PH_TMP,THETA
,,,,,,,,,,METERS,DBAR,ITS-90,PSS-78,,PSS-78,,UMOL/KG,,UMOL/KG,,UMOL/KG,,UMOL/KG,,UMOL/KG,,PMOL/KG,,PMOL/KG,,UMOL/KG,,,,DEG C,DEG C
29AH20120622,      OVIDE,      21,          1,          1,2,20120628,       0000,    42.5817,   -15.4591,       5055,  5068.7,   2.5273,  34.8993,2,  34.9005,2,    241.0,2,  -999.0,9,   44.78,2,   21.72,2,    1.41,2,-999.000,9,-999.000,9,  2356.4,2,   7.7447,2,    25.00,   2.0481
29AH20120622,      OVIDE,      21,          1,          2,2,20120628,       0000,    42.5817,   -15.4591,       5055,  4998.7,   2.5200,  34.8996,2,  34.9014,2,    240.9,2,   241.7,2,   45.16,2,   21.83,2,    1.41,2,-999.000,9,-999.000,9,  2355.5,2,   7.7452,2,    25.00,   2.0500
29AH20120622,      OVIDE,      21,          1,          3,2,20120628,       0000,    42.5817,   -15.4591,       5055,  4501.6,   2.4888,  34.9032,2,  34.9029,2,    241.0,2,   242.3,2,   44.07,2,   21.49,2,    1.41,2,-999.000,9,-999.000,9,  2350.4,2,   7.7434,2,    25.00,   2.0815
29AH20120622,      OVIDE,      21,          1,          4,2,20120628,       0000,    42.5817,   -15.4591,       5055,  3999.9,   2.5220,  34.9127,2,  34.9138,2,    241.1,2,   241.2,2,   42.27,2,   21.46,2,    1.40,2,-999.000,9,-999.000,9,  2350.7,2,   7.7453,2,    25.00,   2.1730
29AH20120622,      OVIDE,      21,          1,          5,2,20120628,       0000,    42.5817,   -15.4591,       5055,  3497.9,   2.6333,  34.9281,2,  34.9272,2,    242.7,2,   243.4,2,   38.76,2,   21.09,2,    1.34,2,-999.000,9,-999.000,9,  2346.4,2,   7.7445,2,    25.00,   2.3377
29AH20120622,      OVIDE,      21,          1,          6,2,20120628,       0000,    42.5817,   -15.4591,       5055,  3000.0,   2.8485,  34.9502,2,  34.9496,2,    245.9,2,   246.0,2,   33.21,2,   20.10,2,    1.29,2,-999.000,9,-999.000,9,  2337.7,2,   7.7449,2,    25.00,   2.6009
29AH20120622,      OVIDE,      21,          1,          7,2,20120628,       0000,    42.5817,   -15.4591,       5055,  2498.5,   3.2900,  34.9830,2,  34.9827,2,    251.3,2,  -999.0,9,   25.23,2,   19.11,2,    1.19,2,-999.000,9,-999.000,9,  2332.9,2,   7.7457,2,    25.00,   3.0847
29AH20120622,      OVIDE,      21,          1,          8,2,20120628,       0000,    42.5817,   -15.4591,       5055,  2249.1,   3.5863,  34.9951,2,  34.9957,2,    255.9,2,   255.7,2,   19.77,2,   18.07,2,    1.11,2,-999.000,9,-999.000,9,  2320.3,2,   7.7450,2,    25.00,   3.4006
29AH20120622,      OVIDE,      21,          1,          9,2,20120628,       0000,    42.5817,   -15.4591,       5055,  2002.3,   4.0346,  35.0355,2,  35.0364,2,    254.2,2,   254.8,2,   16.24,2,   17.86,2,    1.08,2,-999.000,9,-999.000,9,  2318.8,2,   7.7397,2,    25.00,   3.8661
29AH20120622,      OVIDE,      21,          1,         10,2,20120628,       0000,    42.5817,   -15.4591,       5055,  1801.0,   4.7021,  35.1137,2,  35.1153,2,    249.4,2,   249.0,2,   13.81,2,   17.37,2,    1.05,2,-999.000,9,-999.000,9,  2322.1,2,   7.7391,2,    25.00,   4.5440
29AH20120622,      OVIDE,      21,          1,         11,2,20120628,       0000,    42.5817,   -15.4591,       5055,  1602.4,   5.5283,  35.2287,2,  35.2279,2,    234.9,2,   238.3,2,   12.38,2,   17.28,2,    1.03,2,-999.000,9,-999.000,9,  2326.4,2,   7.7426,2,    25.00,   5.3798
29AH20120622,      OVIDE,      21,          1,         12,2,20120628,       0000,    42.5817,   -15.4591,       5055,  1402.1,   7.4800,  35.5601,2,  35.5610,2,    208.3,2,   213.3,3,   11.72,2,   16.92,2,    0.98,2,-999.000,9,-999.000,9,  2350.8,2,   7.7601,2,    25.00,   7.3314
29AH20120622,      OVIDE,      21,          1,         13,2,20120628,       0000,    42.5817,   -15.4591,       5055,  1199.6,   9.9149,  35.9855,2,  35.9863,2,    185.9,2,   187.4,2,   10.34,2,   16.09,2,    0.89,2,-999.000,9,-999.000,9,  2381.8,2,   7.7873,2,    25.00,   9.7677
29AH20120622,      OVIDE,      21,          1,         14,2,20120628,       0000,    42.5817,   -15.4591,       5055,  1000.6,  10.0523,  35.8344,2,  35.8228,4,    180.4,2,   181.2,2,   10.04,2,   16.68,2,    0.92,2,-999.000,9,-999.000,9,  2368.9,2,   7.7757,2,    25.00,   9.9299
29AH20120622,      OVIDE,      21,          1,         15,2,20120628,       0000,    42.5817,   -15.4591,       5055,   798.0,  10.9596,  35.8260,2,  35.8181,4,    179.3,2,  -999.0,9,    8.12,3,   15.58,3,    0.84,3,-999.000,9,-999.000,9,  -999.0,9,-999.0000,9,  -999.00,  10.8578
29AH20120622,      OVIDE,      21,          1,         16,2,20120628,       0000,    42.5817,   -15.4591,       5055,   700.9,  11.1284,  35.7201,2,  35.7213,2,    188.3,2,   189.6,2,    7.27,2,   14.82,2,    0.77,2,-999.000,9,-999.000,9,  2352.1,2,   7.7891,2,    25.00,  11.0387
29AH20120622,      OVIDE,      21,          1,         17,2,20120628,       0000,    42.5817,   -15.4591,       5055,   599.4,  11.3007,  35.6291,2,  35.6260,2,    202.4,2,   208.4,4,    5.53,2,   12.90,2,    0.65,2,-999.000,9,-999.000,9,  2343.2,2,   7.8044,2,    25.00,  11.2236
29AH20120622,      OVIDE,      21,          1,         18,2,20120628,       0000,    42.5817,   -15.4591,       5055,   501.8,  11.4936,  35.6223,2,  35.6222,2,    224.1,2,   223.3,2,    4.24,2,   10.96,2,    0.53,2,-999.000,9,-999.000,9,  2341.9,2,   7.8232,2,    25.00,  11.4287
29AH20120622,      OVIDE,      21,          1,         19,2,20120628,       0000,    42.5817,   -15.4591,       5055,   401.2,  11.7724,  35.6536,2,  35.6537,2,    223.7,2,   224.3,2,    3.78,2,   10.49,2,    0.49,2,-999.000,9,-999.000,9,  2342.2,2,   7.8289,2,    25.00,  11.7199
29AH20120622,      OVIDE,      21,          1,         20,2,20120628,       0000,    42.5817,   -15.4591,       5055,   299.1,  12.2813,  35.7212,2,  35.7202,2,    225.8,2,   225.6,2,    3.28,2,    9.32,2,    0.41,2,-999.000,9,-999.000,9,  2346.1,2,   7.8426,2,    25.00,  12.2412
29AH20120622,      OVIDE,      21,          1,         21,2,20120628,       0000,    42.5817,   -15.4591,       5055,   199.5,  12.8573,  35.8032,2,  35.8038,2,    231.3,2,   231.3,2,    2.60,2,    7.47,2,    0.28,2,-999.000,9,-999.000,9,  2351.0,2,   7.8686,2,    25.00,  12.8298
29AH20120622,      OVIDE,      21,          1,         22,2,20120628,       0000,    42.5817,   -15.4591,       5055,   102.4,  13.4287,  35.8697,2,  35.8684,2,    238.3,2,   237.6,2,    1.83,2,    5.23,2,    0.16,2,-999.000,9,-999.000,9,  2354.3,2,   7.8945,2,    25.00,  13.4142
29AH20120622,      OVIDE,      21,          1,         23,2,20120628,       0000,    42.5817,   -15.4591,       5055,    40.9,  15.4716,  35.8900,2,  35.9001,4,    248.8,2,   250.1,2,    0.45,2,    0.12,2,    0.02,2,-999.000,9,-999.000,9,  2357.8,2,   7.9607,2,    25.00,  15.4653
29AH20120622,      OVIDE,      21,          1,         24,2,20120628,       0000,    42.5817,   -15.4591,       5055,    10.8,  17.8862,  35.9022,2,-999.0000,9,    243.2,2,  -999.0,9,    0.44,3,    0.41,3,    0.03,3,-999.000,9,-999.000,9,  -999.0,9,-999.0000,9,  -999.00,  17.8844
29AH20120622,      OVIDE,      22,          1,          1,2,20120629,       0000,    42.8797,   -15.8498,       4204,  4268.3,   2.4826,  34.9050,2,  34.9093,2,    240.9,2,   243.4,2,   44.91,2,   22.27,2,    1.47,2,-999.000,9,-999.000,9,  -999.0,9,   7.7441,2,    25.00,   2.1034
29AH20120622,      OVIDE,      22,          1,          2,2,20120629,       0000,    42.8797,   -15.8498,       4204,  4000.9,   2.5076,  34.9110,2,  34.9126,2,    241.2,2,   243.2,2,   43.59,2,   21.86,2,    1.45,2,-999.000,9,-999.000,9,  -999.0,9,   7.7439,2,    25.00,   2.1589
29AH20120622,      OVIDE,      22,          1,          3,2,20120629,       0000,    42.8797,   -15.8498,       4204,  3501.1,   2.6111,  34.9259,2,  34.9256,2,    242.9,2,   243.0,2,   39.89,2,   21.53,2,    1.41,2,-999.000,9,-999.000,9,  -999.0,9,   7.7447,2,    25.00,   2.3157
29AH20120622,      OVIDE,      22,          1,          4,2,20120629,       0000,    42.8797,   -15.8498,       4204,  2999.8,   2.8111,  34.9460,2,  34.9459,2,    247.4,2,   248.8,2,   33.63,2,   20.39,2,    1.33,2,-999.000,9,-999.000,9,  -999.0,9,   7.7457,2,    25.00,   2.5644
29AH20120622,      OVIDE,      22,          1,          5,2,20120629,       0000,    42.8797,   -15.8498,       4204,  2500.2,   3.2639,  34.9774,2,  34.9804,2,    253.7,2,   253.1,2,   24.63,2,   19.22,2,    1.22,2,-999.000,9,-999.000,9,  -999.0,9,   7.7452,2,    25.00,   3.0589
29AH20120622,      OVIDE,      22,          1,          6,2,20120629,       0000,    42.8797,   -15.8498,       4204,  2249.8,   3.4986,  34.9764,2,  34.9796,2,    260.5,2,   260.4,2,   18.67,2,   18.29,2,    1.14,2,-999.000,9,-999.000,9,  -999.0,9,   7.7410,2,    25.00,   3.3144
29AH20120622,      OVIDE,      22,          1,          7,2,20120629,       0000,    42.8797,   -15.8498,       4204,  2000.8,   3.8787,  35.0036,2,  35.0048,2,    260.9,2,   260.3,2,   15.31,2,   17.80,2,    1.11,2,-999.000,9,-999.000,9,  -999.0,9,   7.7395,2,    25.00,   3.7128
29AH20120622,      OVIDE,      22,          1,          8,2,20120629,       0000,    42.8797,   -15.8498,       4204,  1801.0,   4.3714,  35.0572,2,  35.0597,2,    255.1,2,   255.8,2,   13.67,2,   17.72,2,    1.11,2,-999.000,9,-999.000,9,  -999.0,9,   7.7366,2,    25.00,   4.2179
29AH20120622,      OVIDE,      22,          1,          9,2,20120629,       0000,    42.8797,   -15.8498,       4204,  1599.1,   5.2053,  35.1735,2,  35.1747,2,    243.5,2,   243.4,2,   12.72,2,   17.52,2,    1.08,2,-999.000,9,-999.000,9,  -999.0,9,   7.7389,2,    25.00,   5.0611
29AH20120622,      OVIDE,      22,          1,         10,2,20120629,       0000,    42.8797,   -15.8498,       4204,  1400.9,   7.2972,  35.5211,2,  35.5240,2,    216.3,2,   217.6,2,   12.01,2,   17.45,2,    1.05,2,-999.000,9,-999.000,9,  -999.0,9,   7.7579,2,    25.00,   7.1506
29AH20120622,      OVIDE,      22,          1,         11,2,20120629,       0000,    42.8797,   -15.8498,       4204,  1202.5,   9.5798,  35.9018,2,  35.9044,2,    189.2,2,   192.9,2,   10.73,2,   16.71,2,    0.97,2,-999.000,9,-999.000,9,  -999.0,9,   7.7817,2,    25.00,   9.4352
29AH20120622,      OVIDE,      22,          1,         12,2,20120629,       0000,    42.8797,   -15.8498,       4204,  1097.9,  10.3360,  36.0045,2,  36.0042,2,    181.7,2,   182.8,2,   10.17,2,   16.20,2,    0.94,2,-999.000,9,-999.000,9,  -999.0,9,   7.7900,2,    25.00,  10.1987
29AH20120622,      OVIDE,      22,          1,         13,2,20120629,       0000,    42.8797,   -15.8498,       4204,   999.7,  10.8269,  36.0366,2,  36.0398,2,    178.1,2,   179.6,2,    9.69,2,   16.08,2,    0.93,2,-999.000,9,-999.000,9,  -999.0,9,   7.7939,2,    25.00,  10.6989
29AH20120622,      OVIDE,      22,          1,         14,2,20120629,       0000,    42.8797,   -15.8498,       4204,   901.0,  11.0228,  35.9767,2,  35.9782,2,    177.5,2,   178.3,2,    9.15,2,   15.80,2,    0.92,2,-999.000,9,-999.000,9,  -999.0,9,   7.7927,2,    25.00,  10.9068
29AH20120622,      OVIDE,      22,          1,         15,2,20120629,       0000,    42.8797,   -15.8498,       4204,   796.8,  11.0265,  35.8357,2,  35.8343,2,    178.1,2,   180.3,2,    8.71,2,   16.09,2,    0.93,2,-999.000,9,-999.000,9,  -999.0,9,   7.7861,2,    25.00,  10.9245
29AH20120622,      OVIDE,      22,          1,         16,2,20120629,       0000,    42.8797,   -15.8498,       4204,   700.7,  11.0914,  35.7239,2,  35.7224,2,    183.3,2,   185.4,2,    7.94,2,   15.69,2,    0.90,2,-999.000,9,-999.000,9,  -999.0,9,   7.7839,2,    25.00,  11.0019
29AH20120622,      OVIDE,      22,          1,         17,2,20120629,       0000,    42.8797,   -15.8498,       4204,   600.5,  11.2180,  35.6301,2,  35.6287,2,    200.1,2,   200.7,2,    6.34,2,   14.09,2,    0.79,2,-999.000,9,-999.000,9,  -999.0,9,   7.7955,2,    25.00,  11.1411
29AH20120622,      OVIDE,      22,          1,         18,2,20120629,       0000,    42.8797,   -15.8498,       4204,   500.6,  11.5510,  35.6278,2,  35.6298,2,    220.1,2,   221.9,2,    4.45,2,   11.58,2,    0.63,2,-999.000,9,-999.000,9,  -999.0,9,   7.8209,2,    25.00,  11.4860
29AH20120622,      OVIDE,      22,          1,         19,2,20120629,       0000,    42.8797,   -15.8498,       4204,   399.2,  11.9407,  35.6741,2,  35.6741,2,    221.5,2,   222.6,2,    3.87,2,   10.80,2,    0.57,2,-999.000,9,-999.000,9,  -999.0,9,   7.8292,2,    25.00,  11.8880
29AH20120622,      OVIDE,      22,          1,         20,2,20120629,       0000,    42.8797,   -15.8498,       4204,   300.9,  12.2823,  35.7099,2,  35.7099,2,    222.2,2,   223.8,2,    3.60,2,    9.88,2,    0.51,2,-999.000,9,-999.000,9,  -999.0,9,   7.8436,2,    25.00,  12.2420
29AH20120622,      OVIDE,      22,          1,         21,2,20120629,       0000,    42.8797,   -15.8498,       4204,   198.8,  12.8594,  35.7969,2,  35.7973,2,    230.6,2,   231.8,2,    2.79,2,    7.72,2,    0.36,2,-999.000,9,-999.000,9,  -999.0,9,   7.8681,2,    25.00,  12.8320
29AH20120622,      OVIDE,      22,          1,         22,2,20120629,       0000,    42.8797,   -15.8498,       4204,    99.6,  13.5602,  35.8933,2,  35.8931,2,    236.2,2,   240.0,2,    1.77,2,    4.68,2,    0.18,2,-999.000,9,-999.000,9,  -999.0,9,   7.9018,2,    25.00,  13.5460
29AH20120622,      OVIDE,      22,          1,         23,2,20120629,       0000,    42.8797,   -15.8498,       4204,    41.8,  15.1967,  35.9002,2,  35.8993,2,    248.6,2,   252.4,2,    0.53,2,    0.05,2,    0.02,2,-999.000,9,-999.000,9,  -999.0,9,   7.9591,2,    25.00,  15.1903
29AH20120622,      OVIDE,      22,          1,         24,2,20120629,       0000,    42.8797,   -15.8498,       4204,     5.0,  17.5394,  35.8291,2,  35.8311,2,    245.0,2,   244.5,2,    0.44,3,    0.00,2,    0.01,2,-999.000,9,-999.000,9,  -999.0,9,   8.0026,2,    25.00,  17.5386