BOTTLE,20151116SIOCCHCBG
EXPOCODE,SECT_ID,STNNBR,CASTNO,BTLNBR,BTLNBR_FLAG_W,DATE,TIME,LATITUDE,LONGITUDE,DEPTH,CTDPRS,CTDTMP,CTDSAL,CTDSAL_FLAG_W,SALNTY,SALNTY_FLAG_W,CTDOXY,CTDOXY_FLAG_W,OXYGEN,OXYGEN_FLAG_W,SILCAT,SILCAT_FLAG_W,NITRAT,NITRAT_FLAG_W,PHSPHT,PHSPHT_FLAG_W,CFC-11,CFC-11_FLAG_W,CFC-12,CFC-12_FLAG_W,ALKALI,ALKALI_FLAG_W,PH_TOT,PH_TOT_FLAG_W,PH_TMP,THETA
,,,,,,,,,,METERS,DBAR,ITS-90,PSS-78,,PSS-78,,UMOL/KG,,UMOL/KG,,UMOL/KG,,UMOL/KG,,UMOL/KG,,PMOL/KG,,PMOL/KG,,UMOL/KG,,,,DEG C,DEG C
29AH20120622,      OVIDE,     105,          1,          1,2,20120718,       0000,    59.4348,   -45.6657,       1681,  1642.3,   3.2907,  34.9251,2,  34.9270,2,    277.8,2,   278.8,2,   10.78,2,   15.68,2,    0.95,2,   3.509,2,   1.789,2,  2305.8,2,   7.7291,2,    25.00,   3.1662
29AH20120622,      OVIDE,     105,          1,          2,2,20120718,       0000,    59.4348,   -45.6657,       1681,  1400.3,   3.7739,  34.9289,2,  34.9346,2,    276.9,2,   277.8,2,   10.11,2,   16.01,2,    0.97,2,   3.818,2,   1.975,2,  2305.9,2,   7.7256,2,    25.00,   3.6652
29AH20120622,      OVIDE,     105,          1,          3,2,20120718,       0000,    59.4348,   -45.6657,       1681,  1201.1,   4.0110,  34.9267,2,  34.9278,2,    279.4,2,   281.3,2,    9.38,2,   15.89,2,    0.95,2,   4.071,2,   2.156,2,  2306.5,2,   7.7248,2,    25.00,   3.9174
29AH20120622,      OVIDE,     105,          1,          4,2,20120718,       0000,    59.4348,   -45.6657,       1681,  1001.1,   4.3335,  34.9476,2,  34.9480,2,    281.1,2,   283.3,2,    8.82,2,   15.51,2,    0.92,2,   4.119,2,   2.209,2,  2306.3,2,   7.7292,2,    25.00,   4.2544
29AH20120622,      OVIDE,     105,          1,          5,2,20120718,       0000,    59.4348,   -45.6657,       1681,  1001.1,   4.3336,  34.9475,2,-999.0000,9,    281.1,2,  -999.0,9, -999.00,9, -999.00,9, -999.00,9,-999.000,9,-999.000,9,  -999.0,9,-999.0000,9,  -999.00,   4.2545
29AH20120622,      OVIDE,     105,          1,          6,2,20120718,       0000,    59.4348,   -45.6657,       1681,   900.2,   4.4284,  34.9539,2,  34.9566,2,    281.7,2,   284.1,2,    8.66,2,   15.60,2,    0.93,2,   4.165,2,   2.237,2,  -999.0,9,   7.7291,2,    25.00,   4.3573
29AH20120622,      OVIDE,     105,          1,          7,2,20120718,       0000,    59.4348,   -45.6657,       1681,   900.2,   4.4321,  34.9539,2,-999.0000,9,    281.7,2,  -999.0,9, -999.00,9, -999.00,9, -999.00,9,-999.000,9,-999.000,9,  -999.0,9,-999.0000,9,  -999.00,   4.3610
29AH20120622,      OVIDE,     105,          1,          8,2,20120718,       0000,    59.4348,   -45.6657,       1681,   800.4,   4.6285,  34.9673,2,  34.9681,2,    281.4,2,   284.2,2,    8.41,2,   15.26,2,    0.93,2,   4.112,2,   2.214,2,  2307.5,2,   7.7338,2,    25.00,   4.5646
29AH20120622,      OVIDE,     105,          1,          9,2,20120718,       0000,    59.4348,   -45.6657,       1681,   800.5,   4.6321,  34.9673,2,-999.0000,9,    281.4,2,  -999.0,9, -999.00,9, -999.00,9, -999.00,9,-999.000,9,-999.000,9,  -999.0,9,-999.0000,9,  -999.00,   4.5682
29AH20120622,      OVIDE,     105,          1,         10,2,20120718,       0000,    59.4348,   -45.6657,       1681,   700.4,   4.8377,  34.9823,2,  34.9833,2,    282.2,2,   285.2,2,    8.20,2,   15.19,2,    0.92,2,   4.134,2,   2.261,2,  -999.0,9,   7.7378,2,    25.00,   4.7812
29AH20120622,      OVIDE,     105,          1,         11,2,20120718,       0000,    59.4348,   -45.6657,       1681,   700.3,   4.8380,  34.9823,2,-999.0000,9,    282.2,2,  -999.0,9, -999.00,9, -999.00,9, -999.00,9,-999.000,9,-999.000,9,  -999.0,9,-999.0000,9,  -999.00,   4.7815
29AH20120622,      OVIDE,     105,          1,         12,2,20120718,       0000,    59.4348,   -45.6657,       1681,   600.4,   4.8605,  34.9763,2,  34.9774,2,    282.8,2,   284.7,2,    8.05,2,   15.13,2,    0.88,2,   4.137,2,   2.243,2,  2308.9,2,   7.7414,2,    25.00,   4.8124
29AH20120622,      OVIDE,     105,          1,         13,2,20120718,       0000,    59.4348,   -45.6657,       1681,   600.4,   4.8597,  34.9763,2,-999.0000,9,    282.8,2,  -999.0,9, -999.00,9, -999.00,9, -999.00,9,-999.000,9,-999.000,9,  -999.0,9,-999.0000,9,  -999.00,   4.8116
29AH20120622,      OVIDE,     105,          1,         14,2,20120718,       0000,    59.4348,   -45.6657,       1681,   400.1,   4.8730,  34.9540,2,  34.9553,2,    285.0,2,   287.1,2,    7.47,2,   14.46,2,    0.88,2,-999.000,9,-999.000,9,  2308.5,2,   7.7431,2,    25.00,   4.8415
29AH20120622,      OVIDE,     105,          1,         15,2,20120718,       0000,    59.4348,   -45.6657,       1681,   400.1,   4.8731,  34.9539,2,-999.0000,9,    285.0,2,  -999.0,9, -999.00,9, -999.00,9, -999.00,9,-999.000,9,-999.000,9,  -999.0,9,-999.0000,9,  -999.00,   4.8416
29AH20120622,      OVIDE,     105,          1,         16,2,20120718,       0000,    59.4348,   -45.6657,       1681,   300.0,   5.0015,  34.9593,2,  34.9577,2,    287.2,2,   288.5,2,    7.34,2,   14.48,2,    0.84,2,   4.218,2,   2.310,2,  -999.0,9,   7.7448,2,    25.00,   4.9778
29AH20120622,      OVIDE,     105,          1,         17,2,20120718,       0000,    59.4348,   -45.6657,       1681,   300.0,   5.0032,  34.9593,2,-999.0000,9,    287.2,2,  -999.0,9, -999.00,9, -999.00,9, -999.00,9,-999.000,9,-999.000,9,  -999.0,9,-999.0000,9,  -999.00,   4.9795
29AH20120622,      OVIDE,     105,          1,         18,2,20120718,       0000,    59.4348,   -45.6657,       1681,   200.6,   5.0762,  34.9401,2,  34.9412,2,    288.4,2,   289.6,2,    6.90,2,   14.17,2,    0.82,2,-999.000,9,-999.000,9,  2308.1,2,   7.7512,2,    25.00,   5.0604
29AH20120622,      OVIDE,     105,          1,         19,2,20120718,       0000,    59.4348,   -45.6657,       1681,   150.7,   4.4435,  34.7794,2,  34.8010,4,    299.1,2,   296.2,2,    6.03,2,   12.78,2,    0.75,2,-999.000,9,-999.000,9,  -999.0,9,   7.7572,2,    25.00,   4.4325
29AH20120622,      OVIDE,     105,          1,         20,2,20120718,       0000,    59.4348,   -45.6657,       1681,   100.4,   3.3251,  34.5178,2,  34.5614,4,    305.7,2,   306.8,2,    5.47,2,   11.17,2,    0.68,2,   4.806,2,   2.602,2,  2288.4,2,   7.7553,2,    25.00,   3.3187
29AH20120622,      OVIDE,     105,          1,         21,2,20120718,       0000,    59.4348,   -45.6657,       1681,   100.5,   3.3286,  34.5183,2,-999.0000,9,    305.7,2,  -999.0,9, -999.00,9, -999.00,9, -999.00,9,-999.000,9,-999.000,9,  -999.0,9,-999.0000,9,  -999.00,   3.3222
29AH20120622,      OVIDE,     105,          1,         22,2,20120718,       0000,    59.4348,   -45.6657,       1681,    25.8,   6.8239,  34.8435,2,  34.8281,4,    304.8,2,   301.7,2,    3.56,2,    9.18,2,    0.50,2,-999.000,9,-999.000,9,  -999.0,9,   7.8145,2,    25.00,   6.8216
29AH20120622,      OVIDE,     105,          1,         23,2,20120718,       0000,    59.4348,   -45.6657,       1681,    25.8,   6.8284,  34.8441,2,-999.0000,9,    304.8,2,  -999.0,9, -999.00,9, -999.00,9, -999.00,9,-999.000,9,-999.000,9,  -999.0,9,-999.0000,9,  -999.00,   6.8261
29AH20120622,      OVIDE,     105,          1,         24,2,20120718,       0000,    59.4348,   -45.6657,       1681,     5.5,   6.5504,  34.2443,2,  34.2453,2,    320.6,2,   318.5,2,    2.62,2,    6.74,2,    0.31,2,   4.295,2,   2.424,2,  2271.6,2,   7.8547,2,    25.00,   6.5499
29AH20120622,      OVIDE,     106,          1,          1,2,20120718,       0000,    59.0676,   -46.0833,       2473,  2498.9,   2.2843,  34.9082,2,  34.9083,2,    287.9,2,   288.2,2,   11.52,2,   14.59,2,    0.91,2,   3.415,2,   1.803,2,  -999.0,9,   7.7245,2,    25.00,   2.0977
29AH20120622,      OVIDE,     106,          1,          2,2,20120718,       0000,    59.0676,   -46.0833,       2473,  2250.3,   2.6119,  34.9219,2,  34.9237,2,    281.0,2,   280.2,2,   12.90,2,   15.11,2,    0.93,2,-999.000,9,-999.000,9,  -999.0,9,   7.7314,2,    25.00,   2.4426
29AH20120622,      OVIDE,     106,          1,          3,2,20120718,       0000,    59.0676,   -46.0833,       2473,  2000.3,   2.9246,  34.9217,2,  34.9211,2,    279.3,2,   279.6,2,   11.75,2,   15.37,2,    0.94,2,   3.022,2,   1.581,2,  -999.0,9,   7.7284,2,    25.00,   2.7732
29AH20120622,      OVIDE,     106,          1,          4,2,20120718,       0000,    59.0676,   -46.0833,       2473,  1799.9,   3.1449,  34.9232,2,  34.9223,2,    278.4,2,   279.9,2,   10.94,2,   15.31,2,    0.94,2,   3.214,2,   1.689,2,  -999.0,9,   7.7287,2,    25.00,   3.0084
29AH20120622,      OVIDE,     106,          1,          5,2,20120718,       0000,    59.0676,   -46.0833,       2473,  1799.7,   3.1454,  34.9232,2,-999.0000,9,    278.4,2,  -999.0,9, -999.00,9, -999.00,9, -999.00,9,-999.000,9,-999.000,9,  -999.0,9,-999.0000,9,  -999.00,   3.0089
29AH20120622,      OVIDE,     106,          1,          6,2,20120718,       0000,    59.0676,   -46.0833,       2473,  1598.3,   3.3776,  34.9256,2,  34.9242,2,    275.8,2,   276.7,2,   10.87,2,   15.67,2,    0.97,2,   3.261,2,   1.719,2,  -999.0,9,   7.7248,2,    25.00,   3.2560
29AH20120622,      OVIDE,     106,          1,          7,2,20120718,       0000,    59.0676,   -46.0833,       2473,  1598.3,   3.3777,  34.9256,2,-999.0000,9,    275.8,2,  -999.0,9, -999.00,9, -999.00,9, -999.00,9,-999.000,9,-999.000,9,  -999.0,9,-999.0000,9,  -999.00,   3.2561
29AH20120622,      OVIDE,     106,          1,          8,2,20120718,       0000,    59.0676,   -46.0833,       2473,  1397.3,   3.6265,  34.9302,2,  34.9329,2,    273.9,2,   276.3,2,   10.36,2,   15.87,2,    0.97,2,   3.449,2,   1.835,2,  -999.0,9,   7.7228,2,    25.00,   3.5196
29AH20120622,      OVIDE,     106,          1,          9,2,20120718,       0000,    59.0676,   -46.0833,       2473,  1397.3,   3.6265,  34.9302,2,-999.0000,9,    273.9,2,  -999.0,9, -999.00,9, -999.00,9, -999.00,9,-999.000,9,-999.000,9,  -999.0,9,-999.0000,9,  -999.00,   3.5196
29AH20120622,      OVIDE,     106,          1,         10,2,20120718,       0000,    59.0676,   -46.0833,       2473,  1199.8,   3.7334,  34.9216,2,  34.9202,2,    274.5,2,   275.6,2,   10.11,2,   15.91,2,    0.93,2,   3.642,2,   1.954,2,  -999.0,9,   7.7207,2,    25.00,   3.6424
29AH20120622,      OVIDE,     106,          1,         11,2,20120718,       0000,    59.0676,   -46.0833,       2473,  1200.0,   3.7338,  34.9216,2,-999.0000,9,    274.5,2,  -999.0,9, -999.00,9, -999.00,9, -999.00,9,-999.000,9,-999.000,9,  -999.0,9,-999.0000,9,  -999.00,   3.6428
29AH20120622,      OVIDE,     106,          1,         12,2,20120718,       0000,    59.0676,   -46.0833,       2473,  1000.1,   3.9077,  34.9216,2,  34.9189,2,    277.8,2,   279.5,2,    9.47,2,   15.71,2,    0.96,2,-999.000,9,-999.000,9,  -999.0,9,   7.7226,2,    25.00,   3.8320
29AH20120622,      OVIDE,     106,          1,         13,2,20120718,       0000,    59.0676,   -46.0833,       2473,   900.0,   3.9970,  34.9250,2,  34.9257,2,    279.5,2,   281.1,2,    9.26,2,   15.76,2,    0.97,2,   3.926,2,   2.187,2,  -999.0,9,   7.7229,2,    25.00,   3.9290
29AH20120622,      OVIDE,     106,          1,         14,2,20120718,       0000,    59.0676,   -46.0833,       2473,   799.4,   4.0729,  34.9283,2,  34.9265,2,    284.0,2,   285.8,2,    8.87,2,   15.70,2,    0.96,2,   4.041,2,   2.246,2,  -999.0,9,   7.7251,2,    25.00,   4.0126
29AH20120622,      OVIDE,     106,          1,         15,2,20120718,       0000,    59.0676,   -46.0833,       2473,   699.5,   4.2044,  34.9384,2,  34.9360,2,    285.1,2,   285.5,2,    8.76,2,   15.46,2,    0.94,2,   4.021,2,   2.268,2,  -999.0,9,   7.7254,2,    25.00,   4.1514
29AH20120622,      OVIDE,     106,          1,         16,2,20120718,       0000,    59.0676,   -46.0833,       2473,   599.8,   4.3475,  34.9511,2,  34.9538,2,    284.2,2,   285.6,2,    8.53,2,   15.46,2,    0.93,2,   4.001,2,   2.269,2,  -999.0,9,   7.7273,2,    25.00,   4.3018
29AH20120622,      OVIDE,     106,          1,         17,2,20120718,       0000,    59.0676,   -46.0833,       2473,   500.0,   4.3255,  34.9368,2,  34.9379,2,    284.5,2,   286.9,2,    8.18,2,   15.27,2,    0.91,2,   4.090,2,   2.324,2,  -999.0,9,   7.7291,2,    25.00,   4.2879
29AH20120622,      OVIDE,     106,          1,         18,2,20120718,       0000,    59.0676,   -46.0833,       2473,   399.7,   4.5305,  34.9587,2,  34.9571,2,    286.3,2,   286.8,2,    8.17,2,   15.33,2,    0.91,2,   4.049,2,   2.317,2,  -999.0,9,   7.7312,2,    25.00,   4.5001
29AH20120622,      OVIDE,     106,          1,         19,2,20120718,       0000,    59.0676,   -46.0833,       2473,   299.9,   4.8572,  34.9892,2,  34.9862,2,    286.0,2,   287.4,2,    8.08,2,   15.09,2,    0.89,2,   4.014,2,   2.293,2,  -999.0,9,   7.7374,2,    25.00,   4.8338
29AH20120622,      OVIDE,     106,          1,         20,2,20120718,       0000,    59.0676,   -46.0833,       2473,   200.4,   5.1175,  34.9965,2,  34.9940,2,    289.1,2,   286.8,2,    7.71,2,   14.81,2,    0.85,2,   3.998,2,   2.301,2,  -999.0,9,   7.7424,2,    25.00,   5.1016
29AH20120622,      OVIDE,     106,          1,         21,2,20120718,       0000,    59.0676,   -46.0833,       2473,   149.9,   5.1498,  34.9716,2,  34.9707,2,    291.3,2,   288.4,2,    7.12,2,   14.40,2,    0.83,2,-999.000,9,-999.000,9,  -999.0,9,   7.7477,2,    25.00,   5.1380
29AH20120622,      OVIDE,     106,          1,         22,2,20120718,       0000,    59.0676,   -46.0833,       2473,   100.7,   5.5826,  34.8874,2,  34.8902,2,    289.6,2,   292.6,2,    5.79,2,   12.60,2,    0.68,2,   4.110,2,   2.337,2,  -999.0,9,   7.7685,2,    25.00,   5.5743
29AH20120622,      OVIDE,     106,          1,         23,2,20120718,       0000,    59.0676,   -46.0833,       2473,    29.9,   6.4375,  34.5779,2,  34.5791,2,    307.4,2,   309.3,2,    2.31,2,    4.44,2,    0.30,2,-999.000,9,-999.000,9,  -999.0,9,   7.8525,2,    25.00,   6.4349
29AH20120622,      OVIDE,     106,          1,         24,2,20120718,       0000,    59.0676,   -46.0833,       2473,     7.6,   7.2839,  34.5734,2,  34.5745,2,    304.4,2,   311.8,3,    2.09,2,    4.01,2,    0.21,2,   4.180,2,   2.358,2,  -999.0,9,   7.8634,2,    25.00,   7.2832