BOTTLE,20151116SIOCCHCBG
EXPOCODE,SECT_ID,STNNBR,CASTNO,BTLNBR,BTLNBR_FLAG_W,DATE,TIME,LATITUDE,LONGITUDE,DEPTH,CTDPRS,CTDTMP,CTDSAL,CTDSAL_FLAG_W,SALNTY,SALNTY_FLAG_W,CTDOXY,CTDOXY_FLAG_W,OXYGEN,OXYGEN_FLAG_W,SILCAT,SILCAT_FLAG_W,NITRAT,NITRAT_FLAG_W,PHSPHT,PHSPHT_FLAG_W,CFC-11,CFC-11_FLAG_W,CFC-12,CFC-12_FLAG_W,ALKALI,ALKALI_FLAG_W,PH_TOT,PH_TOT_FLAG_W,PH_TMP,THETA
,,,,,,,,,,METERS,DBAR,ITS-90,PSS-78,,PSS-78,,UMOL/KG,,UMOL/KG,,UMOL/KG,,UMOL/KG,,UMOL/KG,,PMOL/KG,,PMOL/KG,,UMOL/KG,,,,DEG C,DEG C
29AH20120622,      OVIDE,      63,          1,          1,2,20120712,       0000,    58.4080,   -30.1029,       2179,  2194.4,   3.3438,  34.9927,2,  34.9862,4,    274.5,2,   274.6,2,   10.68,2,   15.67,2,    1.06,2,-999.000,9,-999.000,9,  2308.5,2,   7.7295,2,    25.00,   3.1674
29AH20120622,      OVIDE,      63,          1,          2,2,20120712,       0000,    58.4080,   -30.1029,       2179,  2000.9,   3.3965,  34.9913,2,  34.9922,2,    274.2,2,   276.3,2,   10.90,2,   15.52,2,    1.06,2,-999.000,9,-999.000,9,  2308.7,2,   7.7268,2,    25.00,   3.2377
29AH20120622,      OVIDE,      63,          1,          3,2,20120712,       0000,    58.4080,   -30.1029,       2179,  1802.7,   3.4730,  34.9878,2,  34.9855,2,    273.8,2,   276.1,2,   10.79,2,   15.53,2,    1.04,2,-999.000,9,-999.000,9,  2308.6,2,   7.7270,2,    25.00,   3.3316
29AH20120622,      OVIDE,      63,          1,          4,2,20120712,       0000,    58.4080,   -30.1029,       2179,  1601.9,   3.6334,  34.9730,2,  34.9729,2,    272.4,2,   273.3,2,   10.85,2,   15.77,2,    1.06,2,-999.000,9,-999.000,9,  2306.1,2,   7.7281,2,    25.00,   3.5082
29AH20120622,      OVIDE,      63,          1,          5,2,20120712,       0000,    58.4080,   -30.1029,       2179,  1403.1,   3.9530,  34.9653,2,  34.9636,2,    269.8,2,   270.4,2,   10.59,2,   16.30,2,    1.13,2,-999.000,9,-999.000,9,  2305.8,2,   7.7235,2,    25.00,   3.8421
29AH20120622,      OVIDE,      63,          1,          6,2,20120712,       0000,    58.4080,   -30.1029,       2179,  1202.6,   4.0086,  34.9345,2,  34.9337,2,    268.9,2,   270.7,2,   10.51,2,   16.63,2,    1.12,2,-999.000,9,-999.000,9,  2305.2,2,   7.7174,2,    25.00,   3.9148
29AH20120622,      OVIDE,      63,          1,          7,2,20120712,       0000,    58.4080,   -30.1029,       2179,  1000.4,   4.3540,  34.9464,2,  34.9454,2,    261.9,2,   263.9,2,   10.39,2,   16.95,2,    1.15,2,-999.000,9,-999.000,9,  2305.7,2,   7.7123,2,    25.00,   4.2748
29AH20120622,      OVIDE,      63,          1,          8,2,20120712,       0000,    58.4080,   -30.1029,       2179,   899.7,   4.6665,  34.9672,2,  34.9658,2,    254.9,2,   257.6,2,   10.51,2,   17.32,2,    1.14,2,-999.000,9,-999.000,9,  2307.3,2,   7.7091,2,    25.00,   4.5938
29AH20120622,      OVIDE,      63,          1,          9,2,20120712,       0000,    58.4080,   -30.1029,       2179,   800.7,   5.2117,  35.0148,2,  35.0137,2,    245.0,2,   247.3,2,   10.63,2,   17.54,2,    1.15,2,-999.000,9,-999.000,9,  2310.8,2,   7.7111,2,    25.00,   5.1442
29AH20120622,      OVIDE,      63,          1,         10,2,20120712,       0000,    58.4080,   -30.1029,       2179,   697.8,   5.8983,  35.0591,2,  35.0379,4,    241.9,2,  -999.0,9,    9.89,3,   17.28,3,    1.14,3,-999.000,9,-999.000,9,  -999.0,9,-999.0000,9,  -999.00,   5.8363
29AH20120622,      OVIDE,      63,          1,         11,2,20120712,       0000,    58.4080,   -30.1029,       2179,   600.9,   6.3329,  35.0724,2,  35.0696,2,    239.7,2,   242.7,2,    9.70,2,   17.02,2,    1.12,2,-999.000,9,-999.000,9,  -999.0,9,   7.7242,2,    25.00,   6.2779
29AH20120622,      OVIDE,      63,          1,         12,2,20120712,       0000,    58.4080,   -30.1029,       2179,   500.6,   6.9903,  35.1348,2,  35.1330,2,    264.7,2,   267.9,2,    7.69,2,   14.69,2,    1.00,2,-999.000,9,-999.000,9,  2315.7,2,   7.7579,2,    25.00,   6.9423
29AH20120622,      OVIDE,      63,          1,         13,2,20120712,       0000,    58.4080,   -30.1029,       2179,   500.0,   6.9906,  35.1348,2,  35.1374,2,    264.7,2,   266.6,2,    7.54,2,   14.96,2,    0.98,2,-999.000,9,-999.000,9,  -999.0,9,   7.7585,2,    25.00,   6.9427
29AH20120622,      OVIDE,      63,          1,         14,2,20120712,       0000,    58.4080,   -30.1029,       2179,   401.9,   7.3467,  35.1676,2,  35.1742,4,    271.0,2,   273.8,2,    6.84,2,   13.96,2,    0.93,2,-999.000,9,-999.000,9,  2317.2,2,   7.7721,2,    25.00,   7.3073
29AH20120622,      OVIDE,      63,          1,         15,2,20120712,       0000,    58.4080,   -30.1029,       2179,   302.6,   7.3358,  35.1369,2,  35.1398,2,    269.6,2,   270.4,2,    7.07,2,   14.13,2,    0.95,2,-999.000,9,-999.000,9,  -999.0,9,   7.7678,2,    25.00,   7.3064
29AH20120622,      OVIDE,      63,          1,         16,2,20120712,       0000,    58.4080,   -30.1029,       2179,   200.5,   7.2622,  35.0755,2,  35.0748,2,    262.1,2,   264.6,2,    7.45,2,   14.67,2,    0.97,2,-999.000,9,-999.000,9,  2311.9,2,   7.7587,2,    25.00,   7.2430
29AH20120622,      OVIDE,      63,          1,         17,2,20120712,       0000,    58.4080,   -30.1029,       2179,   152.2,   7.4352,  35.0569,2,  35.0541,2,    260.0,2,   262.8,2,    7.27,2,   14.39,2,    0.95,2,-999.000,9,-999.000,9,  -999.0,9,   7.7605,2,    25.00,   7.4205
29AH20120622,      OVIDE,      63,          1,         18,2,20120712,       0000,    58.4080,   -30.1029,       2179,   100.3,   7.8400,  35.0359,2,  35.0343,2,    263.5,2,   265.3,2,    6.32,2,   13.45,2,    0.88,2,-999.000,9,-999.000,9,  2310.8,2,   7.7729,2,    25.00,   7.8300
29AH20120622,      OVIDE,      63,          1,         19,2,20120712,       0000,    58.4080,   -30.1029,       2179,    50.9,   8.5187,  35.0405,2,  35.0387,2,    263.6,2,   265.7,2,    4.81,2,   12.02,2,    0.76,2,-999.000,9,-999.000,9,  2312.1,2,   7.7927,2,    25.00,   8.5134
29AH20120622,      OVIDE,      63,          1,         20,2,20120712,       0000,    58.4080,   -30.1029,       2179,     5.6,  12.0940,  34.8770,2,-999.0000,9,    276.1,2,  -999.0,9, -999.00,9, -999.00,9, -999.00,9,-999.000,9,-999.000,9,  -999.0,9,-999.0000,9,  -999.00,  12.0933
29AH20120622,      OVIDE,      63,          1,         21,2,20120712,       0000,    58.4080,   -30.1029,       2179,     5.7,  12.0945,  34.8769,2,-999.0000,9,    276.1,2,  -999.0,9, -999.00,9, -999.00,9, -999.00,9,-999.000,9,-999.000,9,  -999.0,9,-999.0000,9,  -999.00,  12.0938
29AH20120622,      OVIDE,      63,          1,         22,2,20120712,       0000,    58.4080,   -30.1029,       2179,     5.5,  12.0943,  34.8769,2,-999.0000,9,    276.1,2,  -999.0,9, -999.00,9, -999.00,9, -999.00,9,-999.000,9,-999.000,9,  -999.0,9,-999.0000,9,  -999.00,  12.0936
29AH20120622,      OVIDE,      63,          1,         23,2,20120712,       0000,    58.4080,   -30.1029,       2179,     5.5,  12.0946,  34.8770,2,-999.0000,9,    276.1,2,  -999.0,9, -999.00,9, -999.00,9, -999.00,9,-999.000,9,-999.000,9,  -999.0,9,-999.0000,9,  -999.00,  12.0939
29AH20120622,      OVIDE,      63,          1,         24,2,20120712,       0000,    58.4080,   -30.1029,       2179,     5.7,  12.0956,  34.8770,2,  34.8760,2,    276.1,2,   277.5,2,    1.02,2,    4.27,2,    0.27,2,-999.000,9,-999.000,9,  2305.9,2,   7.9195,2,    25.00,  12.0949
29AH20120622,      OVIDE,      64,          1,          1,2,20120713,       0000,    58.5499,   -30.3624,       1582,  1589.7,   3.8332,  34.9850,2,  34.9844,2,    270.9,2,   272.9,2,   10.65,2,   15.87,2,    1.07,2,   3.220,2,   1.686,2,  -999.0,9,   7.7268,2,    25.00,   3.7067
29AH20120622,      OVIDE,      64,          1,          2,2,20120713,       0000,    58.5499,   -30.3624,       1582,  1500.3,   3.8463,  34.9833,2,  34.9831,2,    270.5,2,   270.8,2,   10.86,2,   15.95,2,    1.05,2,-999.000,9,-999.000,9,  -999.0,9,   7.7276,2,    25.00,   3.7278
29AH20120622,      OVIDE,      64,          1,          3,2,20120713,       0000,    58.5499,   -30.3624,       1582,  1399.9,   3.8764,  34.9829,2,  34.9820,2,    270.1,2,   271.1,2,   10.92,2,   16.04,2,    1.07,2,   3.223,2,   1.699,2,  -999.0,9,   7.7248,2,    25.00,   3.7665
29AH20120622,      OVIDE,      64,          1,          4,2,20120713,       0000,    58.5499,   -30.3624,       1582,  1200.2,   4.0720,  34.9738,2,  34.9751,2,    267.8,2,   268.1,2,   10.93,2,   16.47,2,    1.08,2,   3.306,2,   1.737,2,  -999.0,9,   7.7230,2,    25.00,   3.9778
29AH20120622,      OVIDE,      64,          1,          5,2,20120713,       0000,    58.5499,   -30.3624,       1582,  1000.1,   4.6749,  34.9961,2,  34.9944,2,    257.1,2,   258.1,2,   10.77,2,   17.11,2,    1.11,2,   3.365,2,   1.799,2,  -999.0,9,   7.7180,2,    25.00,   4.5932
29AH20120622,      OVIDE,      64,          1,          6,2,20120713,       0000,    58.5499,   -30.3624,       1582,   901.6,   5.0753,  35.0177,2,  35.0173,2,    250.1,2,   250.5,2,   10.83,2,   17.31,2,    1.12,2,-999.000,9,-999.000,9,  -999.0,9,   7.7141,2,    25.00,   4.9995
29AH20120622,      OVIDE,      64,          1,          7,2,20120713,       0000,    58.5499,   -30.3624,       1582,   800.7,   5.5385,  35.0424,2,  35.0394,2,    239.6,2,   243.9,2,   10.73,2,   17.60,2,    1.13,2,   3.170,2,   1.719,2,  -999.0,9,   7.7153,2,    25.00,   5.4690
29AH20120622,      OVIDE,      64,          1,          8,2,20120713,       0000,    58.5499,   -30.3624,       1582,   700.0,   6.1431,  35.0641,2,  35.0709,4,    245.4,2,   246.7,2,   10.00,2,   17.23,2,    1.08,2,-999.000,9,-999.000,9,  -999.0,9,   7.7242,2,    25.00,   6.0796
29AH20120622,      OVIDE,      64,          1,          9,2,20120713,       0000,    58.5499,   -30.3624,       1582,   600.2,   6.7708,  35.1084,2,  35.1128,2,    265.1,2,   265.6,2,    8.16,2,   15.50,2,    0.97,2,-999.000,9,-999.000,9,  -999.0,9,   7.7522,2,    25.00,   6.7139
29AH20120622,      OVIDE,      64,          1,         10,2,20120713,       0000,    58.5499,   -30.3624,       1582,   500.1,   7.2507,  35.1609,2,  35.1618,2,    268.5,2,   270.1,2,    7.30,2,   14.41,2,    0.93,2,   3.467,2,   1.975,2,  -999.0,9,   7.7702,2,    25.00,   7.2017
29AH20120622,      OVIDE,      64,          1,         11,2,20120713,       0000,    58.5499,   -30.3624,       1582,   401.0,   7.3653,  35.1608,2,  35.1593,2,    272.6,2,   273.5,2,    7.07,2,   14.28,2,    0.90,2,-999.000,9,-999.000,9,  -999.0,9,   7.7739,2,    25.00,   7.3260
29AH20120622,      OVIDE,      64,          1,         12,2,20120713,       0000,    58.5499,   -30.3624,       1582,   299.9,   7.3401,  35.1379,2,  35.1368,2,    274.1,2,   275.0,2,    7.01,2,   14.12,2,    0.91,2,-999.000,9,-999.000,9,  -999.0,9,   7.7732,2,    25.00,   7.3110
29AH20120622,      OVIDE,      64,          1,         13,2,20120713,       0000,    58.5499,   -30.3624,       1582,   201.5,   7.3809,  35.1235,2,  35.1265,2,    273.0,2,   274.1,2,    7.10,2,   14.16,2,    0.92,2,   3.527,2,   2.016,2,  -999.0,9,   7.7699,2,    25.00,   7.3614
29AH20120622,      OVIDE,      64,          1,         14,2,20120713,       0000,    58.5499,   -30.3624,       1582,   201.5,   7.3807,  35.1231,2,  35.1250,2,    273.0,2,   272.6,2,    7.10,2,   14.25,2,    0.91,2,-999.000,9,-999.000,9,  -999.0,9,   7.7708,2,    25.00,   7.3612
29AH20120622,      OVIDE,      64,          1,         15,2,20120713,       0000,    58.5499,   -30.3624,       1582,   150.5,   7.2906,  35.0744,2,  35.0783,2,    271.7,2,   272.4,2,    7.12,2,   14.17,2,    0.91,2,-999.000,9,-999.000,9,  -999.0,9,   7.7665,2,    25.00,   7.2762
29AH20120622,      OVIDE,      64,          1,         16,2,20120713,       0000,    58.5499,   -30.3624,       1582,   100.0,   7.2564,  35.0251,2,  35.0233,2,    271.7,2,   271.2,2,    6.95,2,   13.91,2,    0.85,2,-999.000,9,-999.000,9,  -999.0,9,   7.7662,2,    25.00,   7.2469
29AH20120622,      OVIDE,      64,          1,         17,2,20120713,       0000,    58.5499,   -30.3624,       1582,    30.2,   9.4513,  35.0011,2,  35.0035,2,    281.4,2,   283.0,2,    3.06,2,    8.10,2,    0.48,2,-999.000,9,-999.000,9,  -999.0,9,   7.8501,2,    25.00,   9.4479
29AH20120622,      OVIDE,      64,          1,         18,2,20120713,       0000,    58.5499,   -30.3624,       1582,     6.3,  11.8197,  34.9475,2,-999.0000,9,    278.3,2,  -999.0,9, -999.00,9, -999.00,9, -999.00,9,   3.236,2,   1.882,2,  -999.0,9,-999.0000,9,  -999.00,  11.8189
29AH20120622,      OVIDE,      64,          1,         19,2,20120713,       0000,    58.5499,   -30.3624,       1582,     6.6,  11.8207,  34.9475,2,-999.0000,9,    278.3,2,  -999.0,9, -999.00,9, -999.00,9, -999.00,9,-999.000,9,-999.000,9,  -999.0,9,-999.0000,9,  -999.00,  11.8199
29AH20120622,      OVIDE,      64,          1,         20,2,20120713,       0000,    58.5499,   -30.3624,       1582,     6.5,  11.8217,  34.9475,2,-999.0000,9,    278.3,2,  -999.0,9, -999.00,9, -999.00,9, -999.00,9,-999.000,9,-999.000,9,  -999.0,9,-999.0000,9,  -999.00,  11.8209
29AH20120622,      OVIDE,      64,          1,         21,2,20120713,       0000,    58.5499,   -30.3624,       1582,     6.5,  11.8215,  34.9476,2,-999.0000,9,    278.3,2,  -999.0,9, -999.00,9, -999.00,9, -999.00,9,-999.000,9,-999.000,9,  -999.0,9,-999.0000,9,  -999.00,  11.8207
29AH20120622,      OVIDE,      64,          1,         22,2,20120713,       0000,    58.5499,   -30.3624,       1582,     6.4,  11.8213,  34.9476,2,-999.0000,9,    278.3,2,  -999.0,9, -999.00,9, -999.00,9, -999.00,9,-999.000,9,-999.000,9,  -999.0,9,-999.0000,9,  -999.00,  11.8205
29AH20120622,      OVIDE,      64,          1,         23,2,20120713,       0000,    58.5499,   -30.3624,       1582,     6.7,  11.8215,  34.9475,2,-999.0000,9,    278.4,2,  -999.0,9, -999.00,9, -999.00,9, -999.00,9,-999.000,9,-999.000,9,  -999.0,9,-999.0000,9,  -999.00,  11.8206
29AH20120622,      OVIDE,      64,          1,         24,2,20120713,       0000,    58.5499,   -30.3624,       1582,     7.0,  11.8215,  34.9476,2,  34.9576,4,    278.4,2,   277.7,2,    1.66,2,    5.35,2,    0.27,2,-999.000,9,-999.000,9,  -999.0,9,   7.9067,2,    25.00,  11.8206