BOTTLE,20151116SIOCCHCBG
EXPOCODE,SECT_ID,STNNBR,CASTNO,BTLNBR,BTLNBR_FLAG_W,DATE,TIME,LATITUDE,LONGITUDE,DEPTH,CTDPRS,CTDTMP,CTDSAL,CTDSAL_FLAG_W,SALNTY,SALNTY_FLAG_W,CTDOXY,CTDOXY_FLAG_W,OXYGEN,OXYGEN_FLAG_W,SILCAT,SILCAT_FLAG_W,NITRAT,NITRAT_FLAG_W,PHSPHT,PHSPHT_FLAG_W,CFC-11,CFC-11_FLAG_W,CFC-12,CFC-12_FLAG_W,ALKALI,ALKALI_FLAG_W,PH_TOT,PH_TOT_FLAG_W,PH_TMP,THETA
,,,,,,,,,,METERS,DBAR,ITS-90,PSS-78,,PSS-78,,UMOL/KG,,UMOL/KG,,UMOL/KG,,UMOL/KG,,UMOL/KG,,PMOL/KG,,PMOL/KG,,UMOL/KG,,,,DEG C,DEG C
29AH20120622,      OVIDE,      73,          1,          1,2,20120714,       0000,    59.2998,   -35.7621,       3100,  3136.4,   2.1302,  34.9118,2,  34.9099,2,    290.4,2,   289.8,2,   10.98,2,   14.40,2,    0.98,2,-999.000,9,-999.000,9,  2306.4,2,   7.7245,2,    25.00,   1.8847
29AH20120622,      OVIDE,      73,          1,          2,2,20120714,       0000,    59.2998,   -35.7621,       3100,  3084.8,   2.4012,  34.9179,2,  34.9168,2,    284.9,2,   285.3,2,   11.93,2,   15.13,2,    0.98,2,-999.000,9,-999.000,9,  2306.7,2,   7.7268,2,    25.00,   2.1548
29AH20120622,      OVIDE,      73,          1,          3,2,20120714,       0000,    59.2998,   -35.7621,       3100,  3034.8,   2.5897,  34.9245,2,  34.9218,2,    281.6,2,   282.0,2,   13.02,2,   15.37,2,    1.01,2,-999.000,9,-999.000,9,  2307.0,2,   7.7287,2,    25.00,   2.3443
29AH20120622,      OVIDE,      73,          1,          4,2,20120714,       0000,    59.2998,   -35.7621,       3100,  2750.1,   2.9103,  34.9403,2,  34.9400,2,    275.5,2,   275.1,2,   13.95,2,   16.12,2,    1.05,2,-999.000,9,-999.000,9,  2308.4,2,   7.7289,2,    25.00,   2.6871
29AH20120622,      OVIDE,      73,          1,          5,2,20120714,       0000,    59.2998,   -35.7621,       3100,  2500.2,   3.0174,  34.9390,2,  34.9363,2,    275.3,2,   275.7,2,   13.28,2,   15.97,2,    1.05,2,-999.000,9,-999.000,9,  2307.8,2,   7.7317,2,    25.00,   2.8171
29AH20120622,      OVIDE,      73,          1,          6,2,20120714,       0000,    59.2998,   -35.7621,       3100,  2250.7,   3.1170,  34.9321,2,  34.9316,2,    276.3,2,   276.9,2,   12.43,2,   16.05,2,    1.07,2,-999.000,9,-999.000,9,  2307.0,2,   7.7290,2,    25.00,   2.9392
29AH20120622,      OVIDE,      73,          1,          7,2,20120714,       0000,    59.2998,   -35.7621,       3100,  1999.1,   3.3027,  34.9342,2,  34.9324,2,    275.2,2,   275.9,2,   11.79,2,   16.33,2,    1.06,2,-999.000,9,-999.000,9,  2305.8,2,   7.7291,2,    25.00,   3.1457
29AH20120622,      OVIDE,      73,          1,          8,2,20120714,       0000,    59.2998,   -35.7621,       3100,  1798.9,   3.4275,  34.9317,2,  34.9322,2,    274.5,2,   275.4,2,   11.46,2,   16.42,2,    1.06,2,-999.000,9,-999.000,9,  2304.4,2,   7.7264,2,    25.00,   3.2872
29AH20120622,      OVIDE,      73,          1,          9,2,20120714,       0000,    59.2998,   -35.7621,       3100,  1583.6,   3.6614,  34.9467,2,  34.9436,2,    272.7,2,   273.3,2,   11.10,2,   16.38,2,    1.06,2,-999.000,9,-999.000,9,  2306.6,2,   7.7258,2,    25.00,   3.5376
29AH20120622,      OVIDE,      73,          1,         10,2,20120714,       0000,    59.2998,   -35.7621,       3100,  1399.3,   3.7364,  34.9352,2,  34.9325,2,    273.5,2,   272.9,2,   10.86,2,   16.63,2,    1.09,2,-999.000,9,-999.000,9,  2304.8,2,   7.7218,2,    25.00,   3.6282
29AH20120622,      OVIDE,      73,          1,         11,2,20120714,       0000,    59.2998,   -35.7621,       3100,  1199.4,   3.7419,  34.9109,2,  34.9104,2,    276.7,2,   276.9,2,   10.20,2,   16.40,2,    1.06,2,-999.000,9,-999.000,9,  2304.4,2,   7.7187,2,    25.00,   3.6509
29AH20120622,      OVIDE,      73,          1,         12,2,20120714,       0000,    59.2998,   -35.7621,       3100,   999.8,   3.9077,  34.9126,2,  34.9110,2,    284.1,2,   285.2,2,    9.43,2,   16.32,2,    1.03,2,-999.000,9,-999.000,9,  2303.3,2,   7.7212,2,    25.00,   3.8321
29AH20120622,      OVIDE,      73,          1,         13,2,20120714,       0000,    59.2998,   -35.7621,       3100,   899.4,   3.9684,  34.9156,2,  34.9117,2,    293.7,2,   296.0,2,    8.66,2,   15.84,2,    0.99,2,-999.000,9,-999.000,9,  -999.0,9,   7.7275,2,    25.00,   3.9006
29AH20120622,      OVIDE,      73,          1,         14,2,20120714,       0000,    59.2998,   -35.7621,       3100,   799.9,   4.0072,  34.9183,2,  34.9160,2,    294.5,2,   296.5,2,    8.48,2,   15.90,2,    1.04,2,-999.000,9,-999.000,9,  2303.5,2,   7.7277,2,    25.00,   3.9473
29AH20120622,      OVIDE,      73,          1,         15,2,20120714,       0000,    59.2998,   -35.7621,       3100,   698.3,   4.0117,  34.9167,2,  34.9143,2,    295.0,2,   295.9,2,    8.52,2,   15.67,2,    1.00,2,-999.000,9,-999.000,9,  -999.0,9,   7.7285,2,    25.00,   3.9599
29AH20120622,      OVIDE,      73,          1,         16,2,20120714,       0000,    59.2998,   -35.7621,       3100,   599.6,   4.0199,  34.9142,2,  34.9128,2,    292.6,2,   292.3,2,    8.63,2,   15.84,2,    1.01,2,-999.000,9,-999.000,9,  2303.5,2,   7.7266,2,    25.00,   3.9758
29AH20120622,      OVIDE,      73,          1,         17,2,20120714,       0000,    59.2998,   -35.7621,       3100,   499.8,   4.1590,  34.9267,2,  34.9252,2,    290.8,2,   287.9,2,    8.96,2,   16.11,2,    1.03,2,-999.000,9,-999.000,9,  2305.2,2,   7.7237,2,    25.00,   4.1221
29AH20120622,      OVIDE,      73,          1,         18,2,20120714,       0000,    59.2998,   -35.7621,       3100,   400.3,   4.3311,  34.9377,2,  34.9396,2,    281.6,2,   279.0,2,    9.28,2,   16.41,2,    1.05,2,-999.000,9,-999.000,9,  2304.9,2,   7.7209,2,    25.00,   4.3013
29AH20120622,      OVIDE,      73,          1,         19,2,20120714,       0000,    59.2998,   -35.7621,       3100,   300.3,   4.3806,  34.9205,2,  34.9206,2,    288.7,2,   288.4,2,    8.55,2,   15.92,2,    1.01,2,-999.000,9,-999.000,9,  -999.0,9,   7.7262,2,    25.00,   4.3584
29AH20120622,      OVIDE,      73,          1,         20,2,20120714,       0000,    59.2998,   -35.7621,       3100,   200.4,   4.8776,  34.9546,2,-999.0000,9,    290.3,2,  -999.0,9,    8.35,3,   16.07,3,    1.00,3,-999.000,9,-999.000,9,  -999.0,9,-999.0000,9,  -999.00,   4.8621
29AH20120622,      OVIDE,      73,          1,         21,2,20120714,       0000,    59.2998,   -35.7621,       3100,   149.7,   4.9946,  34.9515,2,  34.9517,2,    286.8,2,   283.4,2,    8.56,2,   16.08,2,    0.99,2,-999.000,9,-999.000,9,  -999.0,9,   7.7331,2,    25.00,   4.9830
29AH20120622,      OVIDE,      73,          1,         22,2,20120714,       0000,    59.2998,   -35.7621,       3100,   100.2,   5.3459,  34.9540,2,  34.9552,2,    295.8,2,   282.8,3,    8.12,2,   15.58,2,    0.96,2,-999.000,9,-999.000,9,  2306.9,2,   7.7328,2,    25.00,   5.3379
29AH20120622,      OVIDE,      73,          1,         23,2,20120714,       0000,    59.2998,   -35.7621,       3100,    49.9,   6.1190,  34.8458,2,  34.8549,4,    331.4,2,   313.4,3,    1.31,2,    9.56,2,    0.60,2,-999.000,9,-999.000,9,  -999.0,9,   7.8042,2,    25.00,   6.1147
29AH20120622,      OVIDE,      73,          1,         24,2,20120714,       0000,    59.2998,   -35.7621,       3100,     8.6,  11.4260,  34.7751,2,  34.7798,2,    285.7,2,   287.1,2,    0.95,2,    5.67,2,    0.23,2,-999.000,9,-999.000,9,  2298.5,2,   7.8842,2,    25.00,  11.4249
29AH20120622,      OVIDE,      74,          1,          1,2,20120714,       0000,    59.3627,   -36.3966,       3095,  3130.4,   2.3651,  34.9165,2,  34.9166,2,    284.8,2,   287.3,2,   12.03,2,   14.92,2,    1.01,2,   3.293,2,   1.704,2,  -999.0,9,   7.7260,2,    25.00,   2.1149
29AH20120622,      OVIDE,      74,          1,          2,2,20120714,       0000,    59.3627,   -36.3966,       3095,  3080.4,   2.5669,  34.9237,2,  34.9234,2,    281.5,2,   283.7,2,   12.91,2,   15.44,2,    1.04,2,-999.000,9,-999.000,9,  -999.0,9,   7.7268,2,    25.00,   2.3173
29AH20120622,      OVIDE,      74,          1,          3,2,20120714,       0000,    59.3627,   -36.3966,       3095,  3030.9,   2.6644,  34.9285,2,  34.9300,2,    279.2,2,   281.2,2,   13.20,2,   15.62,2,    1.05,2,-999.000,9,-999.000,9,  -999.0,9,   7.7274,2,    25.00,   2.4177
29AH20120622,      OVIDE,      74,          1,          4,2,20120714,       0000,    59.3627,   -36.3966,       3095,  2748.6,   2.8604,  34.9368,2,  34.9349,2,    276.1,2,   278.2,2,   13.38,2,   15.90,2,    1.08,2,   2.655,2,   1.333,2,  -999.0,9,   7.7300,2,    25.00,   2.6384
29AH20120622,      OVIDE,      74,          1,          5,2,20120714,       0000,    59.3627,   -36.3966,       3095,  2499.9,   2.9963,  34.9330,2,  34.9350,2,    276.4,2,   277.0,2,   12.40,2,   16.05,2,    1.07,2,-999.000,9,-999.000,9,  -999.0,9,   7.7312,2,    25.00,   2.7964
29AH20120622,      OVIDE,      74,          1,          6,2,20120714,       0000,    59.3627,   -36.3966,       3095,  2249.2,   3.1460,  34.9326,2,  34.9301,2,    276.0,2,   278.5,2,   11.53,2,   16.00,2,    1.08,2,   2.820,2,   1.395,2,  -999.0,9,   7.7295,2,    25.00,   2.9678
29AH20120622,      OVIDE,      74,          1,          7,2,20120714,       0000,    59.3627,   -36.3966,       3095,  2001.1,   3.2820,  34.9279,2,  34.9284,2,    275.6,2,   276.5,2,   10.75,2,   16.04,2,    1.09,2,   2.997,2,   1.492,2,  -999.0,9,   7.7290,2,    25.00,   3.1251
29AH20120622,      OVIDE,      74,          1,          8,2,20120714,       0000,    59.3627,   -36.3966,       3095,  1801.3,   3.4303,  34.9295,2,  34.9291,2,    275.0,2,   276.3,2,   10.36,2,   15.81,2,    1.09,2,-999.000,9,-999.000,9,  -999.0,9,   7.7273,2,    25.00,   3.2898
29AH20120622,      OVIDE,      74,          1,          9,2,20120714,       0000,    59.3627,   -36.3966,       3095,  1600.0,   3.5903,  34.9309,2,  34.9299,2,    273.9,2,   275.5,2,   10.85,2,   16.23,2,    1.11,2,   3.277,2,   1.651,2,  -999.0,9,   7.7241,2,    25.00,   3.4659
29AH20120622,      OVIDE,      74,          1,         10,2,20120714,       0000,    59.3627,   -36.3966,       3095,  1401.2,   3.7099,  34.9201,2,  34.9220,2,    274.5,2,   276.0,2,   10.37,2,   16.36,2,    1.10,2,   3.579,2,   1.826,2,  -999.0,9,   7.7203,2,    25.00,   3.6018
29AH20120622,      OVIDE,      74,          1,         11,2,20120714,       0000,    59.3627,   -36.3966,       3095,  1198.3,   3.7244,  34.8996,2,  34.8995,2,    279.5,2,   279.8,2,    9.47,2,   16.14,2,    1.08,2,   4.002,2,   2.068,2,  -999.0,9,   7.7186,2,    25.00,   3.6337
29AH20120622,      OVIDE,      74,          1,         12,2,20120714,       0000,    59.3627,   -36.3966,       3095,  1000.7,   3.9023,  34.9095,2,  34.9092,2,    293.1,2,   292.4,2,    8.65,2,   15.68,2,    1.06,2,-999.000,9,-999.000,9,  -999.0,9,   7.7237,2,    25.00,   3.8266
29AH20120622,      OVIDE,      74,          1,         13,2,20120714,       0000,    59.3627,   -36.3966,       3095,   900.9,   3.9334,  34.9111,2,  34.9095,2,    296.3,2,   296.6,2,    8.51,2,   15.70,2,    1.05,2,   4.337,2,   2.352,2,  -999.0,9,   7.7267,2,    25.00,   3.8658
29AH20120622,      OVIDE,      74,          1,         14,2,20120714,       0000,    59.3627,   -36.3966,       3095,   799.4,   3.9282,  34.9070,2,  34.9076,2,    298.8,2,   298.2,2,    8.18,2,   15.55,2,    1.04,2,-999.000,9,-999.000,9,  -999.0,9,   7.7271,2,    25.00,   3.8688
29AH20120622,      OVIDE,      74,          1,         15,2,20120714,       0000,    59.3627,   -36.3966,       3095,   700.8,   3.9088,  34.9017,2,  34.9073,2,    299.4,2,   290.3,4,    9.02,2,   15.96,2,    1.05,2,-999.000,9,-999.000,9,  -999.0,9,   7.7257,2,    25.00,   3.8574
29AH20120622,      OVIDE,      74,          1,         16,2,20120714,       0000,    59.3627,   -36.3966,       3095,   602.1,   3.9340,  34.9031,2,  34.9019,2,    297.4,2,   296.0,2,    8.21,2,   15.60,2,    1.04,2,   4.335,2,   2.345,2,  -999.0,9,   7.7258,2,    25.00,   3.8902
29AH20120622,      OVIDE,      74,          1,         17,2,20120714,       0000,    59.3627,   -36.3966,       3095,   502.3,   3.9715,  34.9056,2,  34.9051,2,    296.8,2,   293.5,2,    8.29,2,   15.71,2,    1.06,2,-999.000,9,-999.000,9,  -999.0,9,   7.7248,2,    25.00,   3.9352
29AH20120622,      OVIDE,      74,          1,         18,2,20120714,       0000,    59.3627,   -36.3966,       3095,   399.6,   4.0446,  34.9092,2,  34.9090,2,    292.6,2,   294.1,2,    8.40,2,   15.81,2,    1.05,2,-999.000,9,-999.000,9,  -999.0,9,   7.7243,2,    25.00,   4.0158
29AH20120622,      OVIDE,      74,          1,         19,2,20120714,       0000,    59.3627,   -36.3966,       3095,   298.2,   4.1838,  34.9169,2,  34.9144,2,    290.8,2,   290.3,2,    8.46,2,   16.03,2,    1.05,2,   4.244,2,   2.324,2,  -999.0,9,   7.7233,2,    25.00,   4.1622
29AH20120622,      OVIDE,      74,          1,         20,2,20120714,       0000,    59.3627,   -36.3966,       3095,   200.4,   4.4565,  34.9304,2,  34.9294,2,    291.3,2,   289.9,2,    8.27,2,   16.05,2,    1.05,2,-999.000,9,-999.000,9,  -999.0,9,   7.7251,2,    25.00,   4.4417
29AH20120622,      OVIDE,      74,          1,         21,2,20120714,       0000,    59.3627,   -36.3966,       3095,   149.1,   4.5615,  34.9233,2,  34.9221,2,    292.2,2,   291.8,2,    8.21,2,   16.01,2,    1.06,2,-999.000,9,-999.000,9,  -999.0,9,   7.7277,2,    25.00,   4.5504
29AH20120622,      OVIDE,      74,          1,         22,2,20120714,       0000,    59.3627,   -36.3966,       3095,    95.5,   4.8830,  34.9343,2,  34.9346,2,    289.3,2,   288.5,2,    8.14,2,   15.95,2,    1.04,2,-999.000,9,-999.000,9,  -999.0,9,   7.7261,2,    25.00,   4.8757
29AH20120622,      OVIDE,      74,          1,         23,2,20120714,       0000,    59.3627,   -36.3966,       3095,    37.5,   6.1617,  34.8672,2,  34.8716,2,    323.6,2,   309.4,3,    2.14,2,   10.52,2,    0.77,2,-999.000,9,-999.000,9,  -999.0,9,   7.7919,2,    25.00,   6.1585
29AH20120622,      OVIDE,      74,          1,         24,2,20120714,       0000,    59.3627,   -36.3966,       3095,     4.7,  11.3302,  34.7990,2,  34.8005,2,    287.9,2,   289.8,2,    0.66,2,    5.80,2,    0.33,2,   3.488,2,   1.977,2,  -999.0,9,   7.8891,2,    25.00,  11.3296