BOTTLE,20151116SIOCCHCBG
EXPOCODE,SECT_ID,STNNBR,CASTNO,BTLNBR,BTLNBR_FLAG_W,DATE,TIME,LATITUDE,LONGITUDE,DEPTH,CTDPRS,CTDTMP,CTDSAL,CTDSAL_FLAG_W,SALNTY,SALNTY_FLAG_W,CTDOXY,CTDOXY_FLAG_W,OXYGEN,OXYGEN_FLAG_W,SILCAT,SILCAT_FLAG_W,NITRAT,NITRAT_FLAG_W,PHSPHT,PHSPHT_FLAG_W,CFC-11,CFC-11_FLAG_W,CFC-12,CFC-12_FLAG_W,ALKALI,ALKALI_FLAG_W,PH_TOT,PH_TOT_FLAG_W,PH_TMP,THETA
,,,,,,,,,,METERS,DBAR,ITS-90,PSS-78,,PSS-78,,UMOL/KG,,UMOL/KG,,UMOL/KG,,UMOL/KG,,UMOL/KG,,PMOL/KG,,PMOL/KG,,UMOL/KG,,,,DEG C,DEG C
29AH20120622,      OVIDE,       9,          1,          1,2,20120625,       0000,    40.3368,   -10.5774,       4360,  4438.9,   2.4673,  34.9003,2,  34.9022,2,    241.9,2,   243.2,2,   44.35,2,   21.97,2,    1.38,2,-999.000,9,-999.000,9,  2355.7,2,   7.7407,2,    25.00,   2.0683
29AH20120622,      OVIDE,       9,          1,          2,2,20120625,       0000,    40.3368,   -10.5774,       4360,  3997.8,   2.4904,  34.9082,2,  34.9080,2,    242.3,2,   242.3,2,   42.54,2,   21.80,2,    1.46,2,-999.000,9,-999.000,9,  2352.6,2,   7.7402,2,    25.00,   2.1426
29AH20120622,      OVIDE,       9,          1,          3,2,20120625,       0000,    40.3368,   -10.5774,       4360,  3498.9,   2.5641,  34.9206,2,  34.9206,2,    243.6,2,   244.4,2,   39.30,2,   21.07,2,    1.43,2,-999.000,9,-999.000,9,  2348.2,2,   7.7420,2,    25.00,   2.2701
29AH20120622,      OVIDE,       9,          1,          4,2,20120625,       0000,    40.3368,   -10.5774,       4360,  2999.1,   2.8480,  34.9524,2,  34.9522,2,    245.3,2,   245.3,2,   34.16,2,   20.54,2,    1.38,2,-999.000,9,-999.000,9,  2340.4,2,   7.7427,2,    25.00,   2.6005
29AH20120622,      OVIDE,       9,          1,          5,2,20120625,       0000,    40.3368,   -10.5774,       4360,  2499.5,   3.4162,  35.0154,2,  35.0163,2,    246.4,2,   246.0,2,   26.53,2,   19.35,2,    1.31,2,-999.000,9,-999.000,9,  2328.7,2,   7.7444,2,    25.00,   3.2084
29AH20120622,      OVIDE,       9,          1,          6,2,20120625,       0000,    40.3368,   -10.5774,       4360,  2250.0,   3.5700,  35.0078,2,  35.0078,2,    254.5,2,   253.4,2,   20.96,2,   18.17,2,    1.20,2,-999.000,9,-999.000,9,  2328.2,2,   7.7475,2,    25.00,   3.3845
29AH20120622,      OVIDE,       9,          1,          7,2,20120625,       0000,    40.3368,   -10.5774,       4360,  1999.5,   4.5193,  35.1414,2,  35.1435,2,    245.8,2,   245.0,2,   17.14,2,   17.95,2,    1.16,2,-999.000,9,-999.000,9,  2333.8,2,   7.7425,2,    25.00,   4.3436
29AH20120622,      OVIDE,       9,          1,          8,2,20120625,       0000,    40.3368,   -10.5774,       4360,  1799.9,   5.3610,  35.2552,2,  35.2567,2,    240.0,2,   239.0,2,   14.07,2,   17.34,2,    1.12,2,-999.000,9,-999.000,9,  2334.8,2,   7.7460,2,    25.00,   5.1939
29AH20120622,      OVIDE,       9,          1,          9,2,20120625,       0000,    40.3368,   -10.5774,       4360,  1599.9,   8.0453,  35.7303,2,  35.7307,2,    208.6,2,   208.8,2,   12.08,2,   16.42,2,    1.02,2,-999.000,9,-999.000,9,  2365.6,2,   7.7734,2,    25.00,   7.8669
29AH20120622,      OVIDE,       9,          1,         10,2,20120625,       0000,    40.3368,   -10.5774,       4360,  1348.6,  11.0448,  36.3098,2,  36.3105,2,    180.1,2,   183.1,2,    9.34,2,   14.84,2,    0.84,2,-999.000,9,-999.000,9,  2405.0,2,   7.8062,2,    25.00,  10.8671
29AH20120622,      OVIDE,       9,          1,         11,2,20120625,       0000,    40.3368,   -10.5774,       4360,  1196.8,  11.2651,  36.2681,2,  36.2699,2,    177.9,2,   179.3,2,    9.03,2,   14.96,2,    0.84,2,-999.000,9,-999.000,9,  2402.5,2,   7.8036,2,    25.00,  11.1066
29AH20120622,      OVIDE,       9,          1,         12,2,20120625,       0000,    40.3368,   -10.5774,       4360,  1100.5,  11.3066,  36.2086,2,  36.2091,2,    177.7,2,   179.8,2,    8.65,2,   15.02,2,    0.85,2,-999.000,9,-999.000,9,  2394.6,2,   7.8170,3,    25.00,  11.1612
29AH20120622,      OVIDE,       9,          1,         13,2,20120625,       0000,    40.3368,   -10.5774,       4360,  1000.2,  11.5520,  36.2055,2,  36.2027,2,    178.8,2,   180.7,2,    8.31,2,   14.68,2,    0.81,2,-999.000,9,-999.000,9,  2393.1,2,   7.8018,2,    25.00,  11.4187
29AH20120622,      OVIDE,       9,          1,         14,2,20120625,       0000,    40.3368,   -10.5774,       4360,   900.8,  11.7820,  36.1878,2,  36.1877,2,    179.8,2,   182.0,2,    7.68,2,   14.15,2,    0.77,2,-999.000,9,-999.000,9,  2390.2,2,   7.8093,2,    25.00,  11.6610
29AH20120622,      OVIDE,       9,          1,         15,2,20120625,       0000,    40.3368,   -10.5774,       4360,   800.9,  11.9342,  36.1359,2,  36.1326,2,    180.6,2,   182.7,2,    7.20,2,   13.98,2,    0.77,2,-999.000,9,-999.000,9,  2386.0,2,   7.8074,2,    25.00,  11.8263
29AH20120622,      OVIDE,       9,          1,         16,2,20120625,       0000,    40.3368,   -10.5774,       4360,   701.2,  11.8885,  36.0314,2,  36.0340,2,    181.0,2,   181.9,2,    7.15,2,   14.30,2,    0.78,2,-999.000,9,-999.000,9,  2373.2,2,   7.8218,3,    25.00,  11.7947
29AH20120622,      OVIDE,       9,          1,         17,2,20120625,       0000,    40.3368,   -10.5774,       4360,   600.7,  11.5938,  35.8425,2,  35.8466,2,    183.6,2,   184.7,2,    7.03,2,   14.72,2,    0.83,2,-999.000,9,-999.000,9,  2359.4,2,   7.8104,2,    25.00,  11.5151
29AH20120622,      OVIDE,       9,          1,         18,2,20120625,       0000,    40.3368,   -10.5774,       4360,   500.9,  11.4545,  35.6571,2,  35.6582,2,    210.1,2,   211.4,2,    5.08,2,   12.65,2,    0.68,2,-999.000,9,-999.000,9,  2347.2,2,   7.8256,2,    25.00,  11.3898
29AH20120622,      OVIDE,       9,          1,         19,2,20120625,       0000,    40.3368,   -10.5774,       4360,   399.9,  11.9254,  35.6877,2,  35.6865,2,    211.6,2,   213.2,2,    4.22,2,   11.66,2,    0.62,2,-999.000,9,-999.000,9,  2342.5,2,   7.8150,2,    25.00,  11.8726
29AH20120622,      OVIDE,       9,          1,         20,2,20120625,       0000,    40.3368,   -10.5774,       4360,   300.2,  12.5380,  35.7613,2,  35.7551,4,    212.6,2,   215.2,2,    3.53,2,   10.32,2,    0.52,2,-999.000,9,-999.000,9,  2346.0,2,   7.8519,2,    25.00,  12.4972
29AH20120622,      OVIDE,       9,          1,         21,2,20120625,       0000,    40.3368,   -10.5774,       4360,   199.5,  13.3753,  35.9109,2,  35.9093,2,    229.6,2,   227.5,2,    2.44,2,    7.16,2,    0.32,2,-999.000,9,-999.000,9,  2354.8,2,   7.8724,2,    25.00,  13.3471
29AH20120622,      OVIDE,       9,          1,         22,2,20120625,       0000,    40.3368,   -10.5774,       4360,    98.5,  14.2964,  36.0621,2,-999.0000,9,    233.9,2,   232.2,2,    1.70,2,    4.55,2,    0.17,2,-999.000,9,-999.000,9,  2362.4,2,   7.8985,2,    25.00,  14.2819
29AH20120622,      OVIDE,       9,          1,         23,2,20120625,       0000,    40.3368,   -10.5774,       4360,    57.0,  14.8816,  36.1250,2,  36.0565,4,    253.9,2,   246.0,3,    1.03,2,    1.56,2,    0.05,2,-999.000,9,-999.000,9,  2367.9,2,   7.9400,2,    25.00,  14.8730
29AH20120622,      OVIDE,       9,          1,         24,2,20120625,       0000,    40.3368,   -10.5774,       4360,     4.3,  18.4781,  36.1422,2,  36.1231,4,    237.7,2,   239.0,2,    0.63,3,    0.00,2,    0.00,2,-999.000,9,-999.000,9,  2371.2,2,   7.9864,2,    25.00,  18.4773
29AH20120622,      OVIDE,      10,          1,          1,2,20120625,       0000,    40.3314,   -10.9065,       4848,  4933.6,   2.5085,  34.8982,2,-999.0000,9,    241.9,2,  -999.0,9,   46.09,3,   22.00,3,    1.49,3,   2.180,4,   1.326,4,  -999.0,9,-999.0000,9,  -999.00,   2.0471
29AH20120622,      OVIDE,      10,          1,          2,2,20120625,       0000,    40.3314,   -10.9065,       4848,  4497.4,   2.4807,  34.9013,2,  34.9047,2,    242.1,2,   241.3,2,   44.74,2,   21.70,2,    1.48,2,   0.016,2,   0.013,2,  -999.0,9,   7.7441,2,    25.00,   2.0742
29AH20120622,      OVIDE,      10,          1,          3,2,20120625,       0000,    40.3314,   -10.9065,       4848,  4001.3,   2.5030,  34.9096,2,  34.9091,2,    242.6,2,   242.4,2,   42.39,2,   21.25,2,    1.46,2,   0.024,2,   0.017,2,  -999.0,9,   7.7421,2,    25.00,   2.1544
29AH20120622,      OVIDE,      10,          1,          4,2,20120625,       0000,    40.3314,   -10.9065,       4848,  3000.5,   2.8479,  34.9516,2,  34.9510,2,    245.7,2,   244.1,2,   34.21,2,   20.14,2,    1.34,2,   0.800,2,   0.464,2,  -999.0,9,   7.7443,2,    25.00,   2.6003
29AH20120622,      OVIDE,      10,          1,          5,2,20120625,       0000,    40.3314,   -10.9065,       4848,  2504.1,   3.4348,  35.0177,2,  35.0167,2,    245.6,2,   244.8,2,   27.07,2,   19.05,2,    1.25,2,-999.000,9,-999.000,9,  -999.0,9,   7.7470,2,    25.00,   3.2262
29AH20120622,      OVIDE,      10,          1,          6,2,20120625,       0000,    40.3314,   -10.9065,       4848,  2000.8,   4.6482,  35.1698,2,  35.1711,2,    241.6,2,   240.7,2,   18.66,2,   18.35,2,    1.14,2,-999.000,9,-999.000,9,  -999.0,9,   7.7522,2,    25.00,   4.4704
29AH20120622,      OVIDE,      10,          1,          7,2,20120625,       0000,    40.3314,   -10.9065,       4848,  1800.8,   5.6374,  35.3199,2,  35.3230,2,    233.0,2,   231.7,2,   15.72,2,   18.28,2,    1.12,3,   1.344,2,   0.691,2,  -999.0,9,   7.7554,2,    25.00,   5.4664
29AH20120622,      OVIDE,      10,          1,          8,2,20120625,       0000,    40.3314,   -10.9065,       4848,  1600.9,   7.2450,  35.5772,2,  35.6147,4,    219.3,2,   213.7,4,   13.10,2,   17.54,2,    1.06,3,   1.459,2,   0.749,2,  -999.0,9,   7.7683,2,    25.00,   7.0759
29AH20120622,      OVIDE,      10,          1,          9,2,20120625,       0000,    40.3314,   -10.9065,       4848,  1500.8,   8.2553,  35.7484,2,  35.7497,2,    205.6,2,   205.0,2,   12.10,2,   17.09,2,    1.01,3,-999.000,9,-999.000,9,  -999.0,9,   7.7741,2,    25.00,   8.0866
29AH20120622,      OVIDE,      10,          1,         10,2,20120625,       0000,    40.3314,   -10.9065,       4848,  1400.2,   9.9604,  36.0932,2,  36.0938,2,    186.9,2,   189.6,2,   10.69,2,   16.15,2,    0.88,2,   1.468,2,   0.795,2,  -999.0,9,   7.7945,2,    25.00,   9.7864
29AH20120622,      OVIDE,      10,          1,         11,2,20120625,       0000,    40.3314,   -10.9065,       4848,  1201.0,  11.1643,  36.2817,2,  36.2823,2,    178.2,2,   179.1,2,    9.40,2,   15.67,2,    0.82,2,   1.578,2,   0.870,2,  -999.0,9,   7.8090,2,    25.00,  11.0061
29AH20120622,      OVIDE,      10,          1,         12,2,20120625,       0000,    40.3314,   -10.9065,       4848,  1100.9,  11.3095,  36.2426,2,  36.2424,2,    177.9,2,   177.9,2,    9.09,2,   15.62,2,    0.80,2,-999.000,9,-999.000,9,  -999.0,9,   7.8036,2,    25.00,  11.1640
29AH20120622,      OVIDE,      10,          1,         13,2,20120625,       0000,    40.3314,   -10.9065,       4848,  1000.7,  11.3397,  36.1770,2,  36.1743,2,    177.6,2,   178.0,2,    8.91,2,   15.86,2,    0.82,2,   1.705,2,   0.967,2,  -999.0,9,   7.8006,2,    25.00,  11.2078
29AH20120622,      OVIDE,      10,          1,         14,2,20120625,       0000,    40.3314,   -10.9065,       4848,   900.1,  11.4755,  36.1172,2,  36.1169,2,    177.7,2,   177.8,2,    8.55,2,   15.68,2,    0.80,2,-999.000,9,-999.000,9,  -999.0,9,   7.8012,2,    25.00,  11.3566
29AH20120622,      OVIDE,      10,          1,         15,2,20120625,       0000,    40.3314,   -10.9065,       4848,   799.9,  11.6741,  36.0686,2,  36.0749,4,    179.1,2,   179.2,2,    7.67,2,   14.99,2,    0.79,2,   1.911,2,   1.081,2,  -999.0,9,   7.8029,2,    25.00,  11.5678
29AH20120622,      OVIDE,      10,          1,         16,2,20120625,       0000,    40.3314,   -10.9065,       4848,   701.2,  11.7512,  35.9694,2,  35.9723,2,    179.7,2,   180.2,2,    7.15,2,   14.88,2,    0.78,2,-999.000,9,-999.000,9,  -999.0,9,   7.7990,2,    25.00,  11.6581
29AH20120622,      OVIDE,      10,          1,         17,2,20120625,       0000,    40.3314,   -10.9065,       4848,   600.1,  11.4621,  35.7613,2,  35.7804,4,    188.9,2,   188.3,2,    6.63,2,   14.69,2,    0.75,2,-999.000,9,-999.000,9,  -999.0,9,   7.7933,2,    25.00,  11.3842
29AH20120622,      OVIDE,      10,          1,         18,2,20120625,       0000,    40.3314,   -10.9065,       4848,   500.8,  11.7266,  35.7118,2,  35.7099,2,    195.5,2,   196.7,2,    5.36,2,   13.60,2,    0.67,2,   2.485,2,   1.419,2,  -999.0,9,   7.8015,2,    25.00,  11.6609
29AH20120622,      OVIDE,      10,          1,         19,2,20120625,       0000,    40.3314,   -10.9065,       4848,   400.4,  12.0297,  35.7010,2,  35.6994,2,    210.1,2,   209.4,2,    4.07,2,   11.74,2,    0.61,2,-999.000,9,-999.000,9,  -999.0,9,   7.8164,2,    25.00,  11.9766
29AH20120622,      OVIDE,      10,          1,         20,2,20120625,       0000,    40.3314,   -10.9065,       4848,   300.1,  12.6808,  35.7886,2,  35.7892,2,    206.9,2,   208.7,2,    3.49,2,   10.47,2,    0.45,2,-999.000,9,-999.000,9,  -999.0,9,   7.8284,2,    25.00,  12.6397
29AH20120622,      OVIDE,      10,          1,         21,2,20120625,       0000,    40.3314,   -10.9065,       4848,   200.9,  13.5169,  35.9343,2,  35.9319,2,    218.6,2,   219.2,2,    2.48,2,    7.51,2,    0.25,2,   2.644,2,   1.590,2,  -999.0,9,   7.8700,2,    25.00,  13.4883
29AH20120622,      OVIDE,      10,          1,         22,2,20120625,       0000,    40.3314,   -10.9065,       4848,   100.5,  14.5487,  36.1176,2,  36.1142,2,    229.1,2,   230.1,2,    1.57,2,    4.05,2,    0.04,2,-999.000,9,-999.000,9,  -999.0,9,   7.9131,2,    25.00,  14.5337
29AH20120622,      OVIDE,      10,          1,         23,2,20120625,       0000,    40.3314,   -10.9065,       4848,    58.1,  15.7828,  36.1618,2,  36.1580,2,    246.7,2,   256.9,3,    0.81,2,    0.06,2,    0.00,2,-999.000,9,-999.000,9,  -999.0,9,   7.9737,2,    25.00,  15.7736
29AH20120622,      OVIDE,      10,          1,         24,2,20120625,       0000,    40.3314,   -10.9065,       4848,     5.4,  18.5903,  36.1456,2,  36.1472,2,    237.0,2,   237.3,2,    0.65,2,    0.01,2,    0.01,2,   2.222,2,   1.367,2,  -999.0,9,   7.9878,2,    25.00,  18.5893