BOTTLE,20151116SIOCCHCBG
EXPOCODE,SECT_ID,STNNBR,CASTNO,BTLNBR,BTLNBR_FLAG_W,DATE,TIME,LATITUDE,LONGITUDE,DEPTH,CTDPRS,CTDTMP,CTDSAL,CTDSAL_FLAG_W,SALNTY,SALNTY_FLAG_W,CTDOXY,CTDOXY_FLAG_W,OXYGEN,OXYGEN_FLAG_W,SILCAT,SILCAT_FLAG_W,NITRAT,NITRAT_FLAG_W,PHSPHT,PHSPHT_FLAG_W,CFC-11,CFC-11_FLAG_W,CFC-12,CFC-12_FLAG_W,ALKALI,ALKALI_FLAG_W,PH_TOT,PH_TOT_FLAG_W,PH_TMP,THETA
,,,,,,,,,,METERS,DBAR,ITS-90,PSS-78,,PSS-78,,UMOL/KG,,UMOL/KG,,UMOL/KG,,UMOL/KG,,UMOL/KG,,PMOL/KG,,PMOL/KG,,UMOL/KG,,,,DEG C,DEG C
29AH20120622,      OVIDE,      83,          1,          1,2,20120716,       0000,    59.7946,   -41.7310,       1845,  1857.3,   2.5958,  34.9092,2,  34.9102,2,    287.1,2,   288.3,2,   10.02,2,   15.03,2,    0.95,2,-999.000,9,-999.000,9,  2304.7,2,   7.7284,2,    25.00,   2.4619
29AH20120622,      OVIDE,      83,          1,          2,2,20120716,       0000,    59.7946,   -41.7310,       1845,  1804.6,   2.7800,  34.9152,2,  34.9151,2,    283.7,2,   285.5,2,   10.47,2,   15.15,2,    0.98,2,-999.000,9,-999.000,9,  2305.4,2,   7.7278,2,    25.00,   2.6480
29AH20120622,      OVIDE,      83,          1,          3,2,20120716,       0000,    59.7946,   -41.7310,       1845,  1753.8,   2.9303,  34.9206,2,  34.9208,2,    281.6,2,   281.4,2,   10.86,2,   15.47,2,    1.00,2,-999.000,9,-999.000,9,  2305.8,2,   7.7274,2,    25.00,   2.8007
29AH20120622,      OVIDE,      83,          1,          4,2,20120716,       0000,    59.7946,   -41.7310,       1845,  1599.8,   2.9684,  34.9165,2,  34.9157,2,    283.0,2,   283.5,2,   10.09,2,   15.31,2,    0.99,2,-999.000,9,-999.000,9,  2303.6,2,   7.7262,2,    25.00,   2.8516
29AH20120622,      OVIDE,      83,          1,          5,2,20120716,       0000,    59.7946,   -41.7310,       1845,  1400.6,   3.3456,  34.9293,2,  34.9289,2,    276.9,2,   278.6,2,   10.31,2,   16.03,2,    1.04,2,-999.000,9,-999.000,9,  2306.5,2,   7.7267,2,    25.00,   3.2414
29AH20120622,      OVIDE,      83,          1,          6,2,20120716,       0000,    59.7946,   -41.7310,       1845,  1199.5,   3.6263,  34.9380,2,  34.9367,2,    274.8,2,   276.5,2,    9.91,2,   16.04,2,    1.00,2,-999.000,9,-999.000,9,  2305.1,2,   7.7244,2,    25.00,   3.5363
29AH20120622,      OVIDE,      83,          1,          7,2,20120716,       0000,    59.7946,   -41.7310,       1845,  1199.7,   3.6273,  34.9382,2,-999.0000,9,    274.8,2,  -999.0,9, -999.00,9, -999.00,9, -999.00,9,-999.000,9,-999.000,9,  -999.0,9,-999.0000,9,  -999.00,   3.5373
29AH20120622,      OVIDE,      83,          1,          8,2,20120716,       0000,    59.7946,   -41.7310,       1845,  1000.0,   3.8007,  34.9335,2,-999.0000,9,    274.9,2,  -999.0,9, -999.00,9, -999.00,9, -999.00,9,-999.000,9,-999.000,9,  -999.0,9,-999.0000,9,  -999.00,   3.7258
29AH20120622,      OVIDE,      83,          1,          9,2,20120716,       0000,    59.7946,   -41.7310,       1845,  1000.2,   3.8005,  34.9335,2,  34.9339,2,    274.9,2,   275.9,2,    9.47,2,   16.15,2,    1.03,2,-999.000,9,-999.000,9,  2305.4,2,   7.7225,2,    25.00,   3.7256
29AH20120622,      OVIDE,      83,          1,         10,2,20120716,       0000,    59.7946,   -41.7310,       1845,   900.5,   3.8527,  34.9248,2,  34.9241,2,    276.2,2,   277.3,2,    9.44,2,   16.34,2,    1.04,2,-999.000,9,-999.000,9,  -999.0,9,   7.7208,2,    25.00,   3.7856
29AH20120622,      OVIDE,      83,          1,         11,2,20120716,       0000,    59.7946,   -41.7310,       1845,   900.5,   3.8523,  34.9249,2,-999.0000,9,    276.2,2,  -999.0,9, -999.00,9, -999.00,9, -999.00,9,-999.000,9,-999.000,9,  -999.0,9,-999.0000,9,  -999.00,   3.7852
29AH20120622,      OVIDE,      83,          1,         12,2,20120716,       0000,    59.7946,   -41.7310,       1845,   800.1,   3.9502,  34.9233,2,  34.9215,2,    277.7,2,   279.1,2,    9.19,2,   16.18,2,    1.05,2,-999.000,9,-999.000,9,  2303.3,2,   7.7214,2,    25.00,   3.8906
29AH20120622,      OVIDE,      83,          1,         13,2,20120716,       0000,    59.7946,   -41.7310,       1845,   800.0,   3.9502,  34.9233,2,-999.0000,9,    277.7,2,  -999.0,9, -999.00,9, -999.00,9, -999.00,9,-999.000,9,-999.000,9,  -999.0,9,-999.0000,9,    25.00,   3.8906
29AH20120622,      OVIDE,      83,          1,         14,2,20120716,       0000,    59.7946,   -41.7310,       1845,   700.4,   4.0950,  34.9311,2,  34.9293,2,    280.0,2,   281.8,2,    8.86,2,   16.11,2,    1.03,2,-999.000,9,-999.000,9,  -999.0,9,   7.7230,2,    25.00,   4.0426
29AH20120622,      OVIDE,      83,          1,         15,2,20120716,       0000,    59.7946,   -41.7310,       1845,   700.4,   4.0956,  34.9312,2,-999.0000,9,    280.0,2,  -999.0,9, -999.00,9, -999.00,9, -999.00,9,-999.000,9,-999.000,9,  -999.0,9,-999.0000,9,  -999.00,   4.0432
29AH20120622,      OVIDE,      83,          1,         16,2,20120716,       0000,    59.7946,   -41.7310,       1845,   600.4,   4.2870,  34.9447,2,  34.9425,2,    281.2,2,   283.2,2,    8.52,2,   15.93,2,    1.03,2,-999.000,9,-999.000,9,  2305.0,2,   7.7249,2,    25.00,   4.2416
29AH20120622,      OVIDE,      83,          1,         17,2,20120716,       0000,    59.7946,   -41.7310,       1845,   500.0,   4.4473,  34.9595,2,  34.9586,2,    286.2,2,   287.3,2,    8.22,2,   15.94,2,    1.01,2,-999.000,9,-999.000,9,  -999.0,9,   7.7312,2,    25.00,   4.4092
29AH20120622,      OVIDE,      83,          1,         18,2,20120716,       0000,    59.7946,   -41.7310,       1845,   400.8,   4.6440,  34.9751,2,  34.9720,2,    285.2,2,   286.2,2,    8.06,2,   15.76,2,    1.01,2,-999.000,9,-999.000,9,  2307.3,2,   7.7329,2,    25.00,   4.6132
29AH20120622,      OVIDE,      83,          1,         19,2,20120716,       0000,    59.7946,   -41.7310,       1845,   300.4,   4.8878,  34.9948,2,  34.9928,2,    284.2,2,   285.8,2,    7.80,2,   15.65,2,    0.97,2,-999.000,9,-999.000,9,  -999.0,9,   7.7366,2,    25.00,   4.8643
29AH20120622,      OVIDE,      83,          1,         20,2,20120716,       0000,    59.7946,   -41.7310,       1845,   200.8,   5.1552,  35.0178,2,  35.0173,2,    286.0,2,   286.6,2,    7.66,2,   15.49,2,    0.98,2,-999.000,9,-999.000,9,  2309.3,2,   7.7417,2,    25.00,   5.1392
29AH20120622,      OVIDE,      83,          1,         21,2,20120716,       0000,    59.7946,   -41.7310,       1845,   150.2,   5.4160,  35.0378,2,  35.0364,2,    286.8,2,   286.8,2,    7.14,2,   15.14,2,    0.91,2,-999.000,9,-999.000,9,  -999.0,9,   7.7461,2,    25.00,   5.4038
29AH20120622,      OVIDE,      83,          1,         22,2,20120716,       0000,    59.7946,   -41.7310,       1845,   100.0,   5.7135,  35.0538,2,  35.0514,2,    288.5,2,   285.6,2,    7.49,2,   15.28,2,    0.91,2,-999.000,9,-999.000,9,  2312.3,2,   7.7521,2,    25.00,   5.7052
29AH20120622,      OVIDE,      83,          1,         23,2,20120716,       0000,    59.7946,   -41.7310,       1845,    30.9,   7.2877,  34.9336,2,  34.9486,4,    297.1,2,   299.3,2,    3.25,2,    8.84,2,    0.47,2,-999.000,9,-999.000,9,  -999.0,9,   7.8275,2,    25.00,   7.2848
29AH20120622,      OVIDE,      83,          1,         24,2,20120716,       0000,    59.7946,   -41.7310,       1845,     5.3,   9.7088,  34.7840,2,  34.7854,2,    300.2,2,   299.4,2,    1.22,2,    5.40,2,    0.14,2,-999.000,9,-999.000,9,  2294.0,2,   7.8851,2,    25.00,   9.7082
29AH20120622,      OVIDE,      84,          1,          1,2,20120716,       0000,    59.7992,   -42.0029,       1722,  1730.0,   3.0138,  34.9185,2,  34.9191,2,    282.3,2,   284.4,2,   10.77,2,   15.60,3,    1.04,2,   3.526,2,   1.808,2,  -999.0,9,   7.7278,2,    25.00,   2.8852
29AH20120622,      OVIDE,      84,          1,          2,2,20120716,       0000,    59.7992,   -42.0029,       1722,  1679.6,   3.0832,  34.9258,2,  34.9274,2,    279.2,2,   281.0,2,    9.81,2,   15.83,2,    1.03,2,-999.000,9,-999.000,9,  -999.0,9,   7.7285,2,    25.00,   2.9581
29AH20120622,      OVIDE,      84,          1,          3,2,20120716,       0000,    59.7992,   -42.0029,       1722,  1630.3,   3.1123,  34.9210,2,  34.9206,2,    281.5,2,   281.9,2,    9.53,2,   15.55,2,    1.02,2,   3.501,2,   1.789,2,  -999.0,9,   7.7266,2,    25.00,   2.9911
29AH20120622,      OVIDE,      84,          1,          4,2,20120716,       0000,    59.7992,   -42.0029,       1722,  1401.0,   3.4165,  34.9287,2,-999.0000,9,    277.6,2,  -999.0,9,    9.76,3,   16.15,3,    1.04,3,-999.000,9,-999.000,9,  -999.0,9,-999.0000,9,  -999.00,   3.3115
29AH20120622,      OVIDE,      84,          1,          5,2,20120716,       0000,    59.7992,   -42.0029,       1722,  1200.2,   3.7142,  34.9389,2,  34.9393,2,    273.8,2,   275.2,2,    9.90,2,   16.58,2,    1.06,2,-999.000,9,-999.000,9,  -999.0,9,   7.7250,2,    25.00,   3.6233
29AH20120622,      OVIDE,      84,          1,          6,2,20120716,       0000,    59.7992,   -42.0029,       1722,  1200.3,   3.7144,  34.9390,2,-999.0000,9,    273.8,2,  -999.0,9, -999.00,9, -999.00,9, -999.00,9,   3.576,2,   1.834,2,  -999.0,9,-999.0000,9,  -999.00,   3.6235
29AH20120622,      OVIDE,      84,          1,          7,2,20120716,       0000,    59.7992,   -42.0029,       1722,  1001.2,   3.8497,  34.9276,2,  34.9266,2,    276.2,2,   278.8,2,    9.30,2,   16.44,2,    1.06,2,-999.000,9,-999.000,9,  -999.0,9,   7.7228,2,    25.00,   3.7744
29AH20120622,      OVIDE,      84,          1,          8,2,20120716,       0000,    59.7992,   -42.0029,       1722,  1001.3,   3.8496,  34.9275,2,-999.0000,9,    276.2,2,  -999.0,9, -999.00,9, -999.00,9, -999.00,9,-999.000,9,-999.000,9,  -999.0,9,-999.0000,9,  -999.00,   3.7743
29AH20120622,      OVIDE,      84,          1,          9,2,20120716,       0000,    59.7992,   -42.0029,       1722,   900.3,   3.9502,  34.9235,2,  34.9230,2,    277.3,2,   279.1,2,    9.01,2,   16.46,2,    1.04,2,-999.000,9,-999.000,9,  -999.0,9,   7.7218,2,    25.00,   3.8825
29AH20120622,      OVIDE,      84,          1,         10,2,20120716,       0000,    59.7992,   -42.0029,       1722,   900.4,   3.9508,  34.9237,2,-999.0000,9,    277.3,2,  -999.0,9, -999.00,9, -999.00,9, -999.00,9,-999.000,9,-999.000,9,  -999.0,9,-999.0000,9,  -999.00,   3.8831
29AH20120622,      OVIDE,      84,          1,         11,2,20120716,       0000,    59.7992,   -42.0029,       1722,   800.6,   4.0638,  34.9272,2,  34.9252,2,    280.4,2,   282.2,2,    8.85,2,   16.63,2,    1.04,2,   4.077,2,   2.176,2,  -999.0,9,   7.7210,2,    25.00,   4.0035
29AH20120622,      OVIDE,      84,          1,         12,2,20120716,       0000,    59.7992,   -42.0029,       1722,   800.8,   4.0630,  34.9271,2,-999.0000,9,    280.4,2,  -999.0,9, -999.00,9, -999.00,9, -999.00,9,-999.000,9,-999.000,9,  -999.0,9,-999.0000,9,  -999.00,   4.0026
29AH20120622,      OVIDE,      84,          1,         13,2,20120716,       0000,    59.7992,   -42.0029,       1722,   701.6,   4.2157,  34.9392,2,  34.9379,2,    281.4,2,   283.3,2,    8.56,2,   16.31,2,    1.02,2,-999.000,9,-999.000,9,  -999.0,9,   7.7255,2,    25.00,   4.1625
29AH20120622,      OVIDE,      84,          1,         14,2,20120716,       0000,    59.7992,   -42.0029,       1722,   701.7,   4.2157,  34.9393,2,-999.0000,9,    281.4,2,  -999.0,9, -999.00,9, -999.00,9, -999.00,9,-999.000,9,-999.000,9,  -999.0,9,-999.0000,9,  -999.00,   4.1625
29AH20120622,      OVIDE,      84,          1,         15,2,20120716,       0000,    59.7992,   -42.0029,       1722,   602.0,   4.4161,  34.9554,2,  34.9535,2,    280.6,2,   284.0,2,    8.52,2,   16.31,2,    1.03,2,-999.000,9,-999.000,9,  -999.0,9,   7.7215,2,    25.00,   4.3700
29AH20120622,      OVIDE,      84,          1,         16,2,20120716,       0000,    59.7992,   -42.0029,       1722,   602.1,   4.4156,  34.9553,2,-999.0000,9,    280.6,2,  -999.0,9, -999.00,9, -999.00,9, -999.00,9,-999.000,9,-999.000,9,  -999.0,9,-999.0000,9,  -999.00,   4.3694
29AH20120622,      OVIDE,      84,          1,         17,2,20120716,       0000,    59.7992,   -42.0029,       1722,   501.6,   4.5740,  34.9674,2,  34.9676,2,    283.1,2,   283.5,2,    8.47,2,   16.33,2,    1.03,2,   4.079,2,   2.209,2,  -999.0,9,   7.7313,2,    25.00,   4.5353
29AH20120622,      OVIDE,      84,          1,         18,2,20120716,       0000,    59.7992,   -42.0029,       1722,   401.7,   4.7518,  34.9842,2,  34.9818,2,    283.6,2,   286.0,2,    8.10,2,   16.04,2,    1.02,2,-999.000,9,-999.000,9,  -999.0,9,   7.7344,2,    25.00,   4.7205
29AH20120622,      OVIDE,      84,          1,         19,2,20120716,       0000,    59.7992,   -42.0029,       1722,   301.1,   4.9820,  35.0043,2,  35.0049,2,    284.7,2,   285.9,2,    7.86,2,   16.05,2,    1.02,2,-999.000,9,-999.000,9,  -999.0,9,   7.7375,2,    25.00,   4.9582
29AH20120622,      OVIDE,      84,          1,         20,2,20120716,       0000,    59.7992,   -42.0029,       1722,   201.0,   5.2430,  35.0278,2,  35.0262,2,    285.9,2,   287.1,2,    7.51,2,   15.85,2,    1.00,2,   4.050,2,   2.218,2,  -999.0,9,   7.7424,2,    25.00,   5.2269
29AH20120622,      OVIDE,      84,          1,         21,2,20120716,       0000,    59.7992,   -42.0029,       1722,   150.7,   5.4840,  35.0387,2,  35.0450,4,    286.5,2,   287.8,2,    6.85,2,   15.35,2,    0.98,2,-999.000,9,-999.000,9,  -999.0,9,   7.7458,2,    25.00,   5.4717
29AH20120622,      OVIDE,      84,          1,         22,2,20120716,       0000,    59.7992,   -42.0029,       1722,   101.3,   5.7060,  35.0346,2,  35.0347,2,    288.5,2,   289.6,2,    5.94,2,   14.53,2,    0.93,2,-999.000,9,-999.000,9,  -999.0,9,   7.7576,2,    25.00,   5.6976
29AH20120622,      OVIDE,      84,          1,         23,2,20120716,       0000,    59.7992,   -42.0029,       1722,    31.2,   6.8574,  35.0170,2,  35.0191,2,    296.8,2,   296.2,2,    3.89,2,   10.90,2,    0.71,2,-999.000,9,-999.000,9,  -999.0,9,   7.8005,2,    25.00,   6.8545
29AH20120622,      OVIDE,      84,          1,         24,2,20120716,       0000,    59.7992,   -42.0029,       1722,     4.9,   9.6111,  34.8375,2,  34.8387,2,    296.7,2,   300.4,2,    1.55,2,    5.96,2,    0.29,2,   3.821,2,   2.132,2,  -999.0,9,   7.8781,2,    25.00,   9.6106