BOTTLE,20151116SIOCCHCBG
EXPOCODE,SECT_ID,STNNBR,CASTNO,BTLNBR,BTLNBR_FLAG_W,DATE,TIME,LATITUDE,LONGITUDE,DEPTH,CTDPRS,CTDTMP,CTDSAL,CTDSAL_FLAG_W,SALNTY,SALNTY_FLAG_W,CTDOXY,CTDOXY_FLAG_W,OXYGEN,OXYGEN_FLAG_W,SILCAT,SILCAT_FLAG_W,NITRAT,NITRAT_FLAG_W,PHSPHT,PHSPHT_FLAG_W,CFC-11,CFC-11_FLAG_W,CFC-12,CFC-12_FLAG_W,ALKALI,ALKALI_FLAG_W,PH_TOT,PH_TOT_FLAG_W,PH_TMP,THETA
,,,,,,,,,,METERS,DBAR,ITS-90,PSS-78,,PSS-78,,UMOL/KG,,UMOL/KG,,UMOL/KG,,UMOL/KG,,UMOL/KG,,PMOL/KG,,PMOL/KG,,UMOL/KG,,,,DEG C,DEG C
29AH20120622,      OVIDE,      75,          1,          1,2,20120715,       0000,    59.4278,   -37.0394,       3117,  3154.1,   1.4775,  34.9059,2,  34.9068,2,    301.7,2,   303.1,2,    8.59,2,   13.19,2,    0.98,2,-999.000,9,-999.000,9,  2305.5,2,   7.7199,2,    25.00,   1.2452
29AH20120622,      OVIDE,      75,          1,          2,2,20120715,       0000,    59.4278,   -37.0394,       3117,  3104.9,   1.6463,  34.9052,2,  34.9084,2,    297.8,2,   297.9,2,    8.35,2,   13.21,2,    0.93,2,-999.000,9,-999.000,9,  2306.9,2,   7.7207,2,    25.00,   1.4149
29AH20120622,      OVIDE,      75,          1,          3,2,20120715,       0000,    59.4278,   -37.0394,       3117,  3054.9,   2.2315,  34.9091,2,  34.9106,2,    290.5,2,   290.8,2,    9.83,2,   13.90,2,    1.01,2,-999.000,9,-999.000,9,  2306.5,2,   7.7252,2,    25.00,   1.9920
29AH20120622,      OVIDE,      75,          1,          4,2,20120715,       0000,    59.4278,   -37.0394,       3117,  3000.4,   2.4206,  34.9158,2,  34.9160,2,    284.5,2,   285.4,2,   12.89,2,   15.02,2,    1.03,2,-999.000,9,-999.000,9,  2307.5,2,   7.7288,2,    25.00,   2.1824
29AH20120622,      OVIDE,      75,          1,          5,2,20120715,       0000,    59.4278,   -37.0394,       3117,  2751.0,   2.8120,  34.9350,2,  34.9355,2,    276.0,2,   277.1,2,   14.01,2,   16.05,3,    1.06,2,-999.000,9,-999.000,9,  2307.9,2,   7.7331,2,    25.00,   2.5907
29AH20120622,      OVIDE,      75,          1,          6,2,20120715,       0000,    59.4278,   -37.0394,       3117,  2500.0,   2.9609,  34.9351,2,  34.9341,2,    276.6,2,   275.2,2,   13.93,2,   16.18,2,    1.07,2,-999.000,9,-999.000,9,  2308.5,2,   7.7317,2,    25.00,   2.7617
29AH20120622,      OVIDE,      75,          1,          7,2,20120715,       0000,    59.4278,   -37.0394,       3117,  2250.1,   3.0933,  34.9270,2,  34.9263,2,    276.7,2,   277.4,2,   12.73,2,   16.12,2,    1.08,2,-999.000,9,-999.000,9,  2306.2,2,   7.7334,2,    25.00,   2.9159
29AH20120622,      OVIDE,      75,          1,          8,2,20120715,       0000,    59.4278,   -37.0394,       3117,  2000.4,   3.2585,  34.9278,2,  34.9324,2,    275.9,2,   275.7,2,   12.06,2,   16.34,2,    1.08,2,-999.000,9,-999.000,9,  2305.2,2,   7.7295,2,    25.00,   3.1020
29AH20120622,      OVIDE,      75,          1,          9,2,20120715,       0000,    59.4278,   -37.0394,       3117,  1799.9,   3.3931,  34.9255,2,  34.9275,2,    275.5,2,   275.8,2,   11.75,2,   16.44,2,    1.09,2,-999.000,9,-999.000,9,  2306.4,2,   7.7278,2,    25.00,   3.2532
29AH20120622,      OVIDE,      75,          1,         10,2,20120715,       0000,    59.4278,   -37.0394,       3117,  1600.5,   3.5777,  34.9300,2,  34.9300,2,    273.4,2,   273.5,2,   11.56,2,   16.66,2,    1.09,2,-999.000,9,-999.000,9,  2305.4,2,   7.7257,2,    25.00,   3.4534
29AH20120622,      OVIDE,      75,          1,         11,2,20120715,       0000,    59.4278,   -37.0394,       3117,  1400.2,   3.6341,  34.9156,2,  34.9158,2,    275.2,2,   274.0,2,   11.12,2,   16.78,2,    1.09,2,-999.000,9,-999.000,9,  2304.8,2,   7.7234,2,    25.00,   3.5269
29AH20120622,      OVIDE,      75,          1,         12,2,20120715,       0000,    59.4278,   -37.0394,       3117,  1200.1,   3.6669,  34.9025,2,  34.9032,2,    279.0,2,   281.1,2,   10.59,2,   16.59,2,    1.08,2,-999.000,9,-999.000,9,  2303.0,2,   7.7202,2,    25.00,   3.5766
29AH20120622,      OVIDE,      75,          1,         13,2,20120715,       0000,    59.4278,   -37.0394,       3117,  1000.7,   3.7284,  34.8910,2,-999.0000,9,    284.1,2,  -999.0,9,    9.38,3,   16.16,3,    1.05,3,-999.000,9,-999.000,9,  -999.0,9,-999.0000,9,  -999.00,   3.6541
29AH20120622,      OVIDE,      75,          1,         14,2,20120715,       0000,    59.4278,   -37.0394,       3117,   900.2,   3.7903,  34.8942,2,  34.8935,2,    289.7,2,   288.0,2,    9.37,2,   16.00,2,    1.04,2,-999.000,9,-999.000,9,  2302.0,2,   7.7223,2,    25.00,   3.7237
29AH20120622,      OVIDE,      75,          1,         15,2,20120715,       0000,    59.4278,   -37.0394,       3117,   800.2,   3.7922,  34.8896,2,  34.8898,2,    294.8,2,   294.2,2,    8.95,2,   15.89,2,    1.03,2,-999.000,9,-999.000,9,  2303.8,2,   7.7224,2,    25.00,   3.7336
29AH20120622,      OVIDE,      75,          1,         16,2,20120715,       0000,    59.4278,   -37.0394,       3117,   700.3,   3.8389,  34.8935,2,  34.8940,2,    297.4,2,   295.1,2,    8.82,2,   15.85,2,    1.02,2,-999.000,9,-999.000,9,  -999.0,9,   7.7265,2,    25.00,   3.7879
29AH20120622,      OVIDE,      75,          1,         17,2,20120715,       0000,    59.4278,   -37.0394,       3117,   599.9,   3.8625,  34.8958,2,  34.8961,2,    296.8,2,   297.2,2,    8.67,2,   15.74,2,    1.03,2,-999.000,9,-999.000,9,  2303.4,2,   7.7268,2,    25.00,   3.8192
29AH20120622,      OVIDE,      75,          1,         18,2,20120715,       0000,    59.4278,   -37.0394,       3117,   500.6,   3.8406,  34.8898,2,  34.8899,2,    296.0,2,   294.3,2,    8.85,2,   15.86,2,    1.01,2,-999.000,9,-999.000,9,  -999.0,9,   7.7249,2,    25.00,   3.8049
29AH20120622,      OVIDE,      75,          1,         19,2,20120715,       0000,    59.4278,   -37.0394,       3117,   400.6,   3.8940,  34.8922,2,  34.8968,2,    292.9,2,   291.8,2,    8.80,2,   16.01,2,    1.03,2,-999.000,9,-999.000,9,  2302.2,2,   7.7240,2,    25.00,   3.8656
29AH20120622,      OVIDE,      75,          1,         20,2,20120715,       0000,    59.4278,   -37.0394,       3117,   300.1,   3.9416,  34.8872,2,-999.0000,9,    291.3,2,  -999.0,9,    8.44,3,   15.94,3,    1.02,3,-999.000,9,-999.000,9,  -999.0,9,-999.0000,9,  -999.00,   3.9204
29AH20120622,      OVIDE,      75,          1,         21,2,20120715,       0000,    59.4278,   -37.0394,       3117,   200.5,   3.9976,  34.8677,2,  34.8678,2,    295.4,2,   298.2,2,    8.39,2,   15.67,2,    0.99,2,-999.000,9,-999.000,9,  2298.8,2,   7.7259,2,    25.00,   3.9835
29AH20120622,      OVIDE,      75,          1,         22,2,20120715,       0000,    59.4278,   -37.0394,       3117,   100.9,   4.8676,  34.9182,2,  34.9178,2,    293.1,2,   292.2,2,    8.41,2,   15.82,2,    0.97,2,-999.000,9,-999.000,9,  2304.8,2,   7.7293,2,    25.00,   4.8599
29AH20120622,      OVIDE,      75,          1,         23,2,20120715,       0000,    59.4278,   -37.0394,       3117,    45.1,   6.7119,  34.8233,2,  34.8283,2,    324.8,2,   324.3,2,    1.01,2,    8.60,2,    0.50,2,-999.000,9,-999.000,9,  2302.5,2,   7.8288,2,    25.00,   6.7078
29AH20120622,      OVIDE,      75,          1,         24,2,20120715,       0000,    59.4278,   -37.0394,       3117,     6.0,  10.4121,  34.7697,2,  34.7723,2,    289.3,2,   288.1,2,    0.55,2,    6.53,2,    0.22,2,-999.000,9,-999.000,9,  2301.0,2,   7.8617,2,    25.00,  10.4114
29AH20120622,      OVIDE,      76,          1,          1,2,20120715,       0000,    59.4914,   -37.6807,       3112,  3151.3,   1.4466,  34.9048,2,  34.9045,2,    302.9,2,   303.2,2,    8.46,2,   12.98,2,    0.91,2,   4.185,2,   2.193,2,  -999.0,9,   7.7180,2,    25.00,   1.2152
29AH20120622,      OVIDE,      76,          1,          2,2,20120715,       0000,    59.4914,   -37.6807,       3112,  3101.5,   1.4927,  34.9045,2,  34.9034,2,    301.2,2,   301.9,2,    8.04,2,   13.06,2,    0.90,2,-999.000,9,-999.000,9,  -999.0,9,   7.7195,2,    25.00,   1.2651
29AH20120622,      OVIDE,      76,          1,          3,2,20120715,       0000,    59.4914,   -37.6807,       3112,  3050.1,   1.9395,  34.9033,2,  34.9045,2,    297.0,2,   297.8,2,    8.42,2,   13.59,2,    0.95,2,-999.000,9,-999.000,9,  -999.0,9,   7.7214,2,    25.00,   1.7069
29AH20120622,      OVIDE,      76,          1,          4,2,20120715,       0000,    59.4914,   -37.6807,       3112,  2998.1,   2.2102,  34.9067,2,  34.9075,2,    291.1,2,   292.2,2,    9.43,2,   13.99,2,    0.98,2,-999.000,9,-999.000,9,  -999.0,9,   7.7241,2,    25.00,   1.9768
29AH20120622,      OVIDE,      76,          1,          5,2,20120715,       0000,    59.4914,   -37.6807,       3112,  2747.7,   2.8103,  34.9324,2,  34.9327,2,    277.8,2,   279.7,2,   12.98,2,   15.56,2,    1.08,2,   2.736,2,   1.380,2,  -999.0,9,   7.7316,2,    25.00,   2.5894
29AH20120622,      OVIDE,      76,          1,          6,2,20120715,       0000,    59.4914,   -37.6807,       3112,  2500.2,   3.0058,  34.9338,2,  34.9334,2,    276.6,2,   278.0,2,   12.26,2,   15.63,2,    1.08,2,-999.000,9,-999.000,9,  -999.0,9,   7.7303,2,    25.00,   2.8057
29AH20120622,      OVIDE,      76,          1,          7,2,20120715,       0000,    59.4914,   -37.6807,       3112,  2250.1,   3.1796,  34.9367,2,  34.9380,2,    276.2,2,   275.6,2,   11.58,2,   16.00,2,    1.08,2,   2.833,2,   1.415,2,  -999.0,9,   7.7302,2,    25.00,   3.0008
29AH20120622,      OVIDE,      76,          1,          8,2,20120715,       0000,    59.4914,   -37.6807,       3112,  1999.5,   3.3341,  34.9330,2,  34.9350,2,    275.7,2,   275.1,2,   10.73,2,   15.86,2,    1.10,2,   2.993,2,   1.505,2,  -999.0,9,   7.7288,2,    25.00,   3.1766
29AH20120622,      OVIDE,      76,          1,          9,2,20120715,       0000,    59.4914,   -37.6807,       3112,  1800.0,   3.4928,  34.9361,2,  34.9377,2,    274.5,2,   275.8,2,   10.75,2,   16.01,2,    1.10,2,-999.000,9,-999.000,9,  -999.0,9,   7.7250,2,    25.00,   3.3515
29AH20120622,      OVIDE,      76,          1,         10,2,20120715,       0000,    59.4914,   -37.6807,       3112,  1599.3,   3.6507,  34.9365,2,  34.9366,2,    273.3,2,   274.4,2,   10.54,2,   16.23,2,    1.10,2,   3.299,2,   1.684,2,  -999.0,9,   7.7239,2,    25.00,   3.5256
29AH20120622,      OVIDE,      76,          1,         11,2,20120715,       0000,    59.4914,   -37.6807,       3112,  1400.0,   3.7344,  34.9246,2,  34.9241,2,    274.7,2,   275.5,2,   10.11,2,   16.30,2,    1.09,2,   3.545,2,   1.838,2,  -999.0,9,   7.7214,2,    25.00,   3.6261
29AH20120622,      OVIDE,      76,          1,         12,2,20120715,       0000,    59.4914,   -37.6807,       3112,  1199.4,   3.7421,  34.9002,2,  34.8994,2,    279.3,2,   280.8,2,    9.42,2,   15.92,2,    1.09,2,   3.964,2,   2.078,2,  -999.0,9,   7.7188,2,    25.00,   3.6511
29AH20120622,      OVIDE,      76,          1,         13,2,20120715,       0000,    59.4914,   -37.6807,       3112,   998.7,   3.8982,  34.9078,2,  34.9087,2,    290.5,2,   292.3,2,    8.67,2,   15.56,2,    1.07,2,-999.000,9,-999.000,9,  -999.0,9,   7.7244,2,    25.00,   3.8227
29AH20120622,      OVIDE,      76,          1,         14,2,20120715,       0000,    59.4914,   -37.6807,       3112,   899.9,   3.9034,  34.9048,2,  34.9063,2,    295.8,2,   295.3,2,    8.48,2,   15.70,2,    1.05,2,   4.256,2,   2.314,2,  -999.0,9,   7.7263,2,    25.00,   3.8360
29AH20120622,      OVIDE,      76,          1,         15,2,20120715,       0000,    59.4914,   -37.6807,       3112,   799.2,   3.9194,  34.9050,2,  34.9063,2,    297.5,2,   298.1,2,    8.29,2,   15.48,2,    1.03,2,-999.000,9,-999.000,9,  -999.0,9,   7.7283,2,    25.00,   3.8601
29AH20120622,      OVIDE,      76,          1,         16,2,20120715,       0000,    59.4914,   -37.6807,       3112,   698.1,   3.9658,  34.9108,2,  34.9110,2,    298.2,2,   298.2,2,    8.15,2,   15.53,2,    1.05,2,-999.000,9,-999.000,9,  -999.0,9,   7.7285,2,    25.00,   3.9143
29AH20120622,      OVIDE,      76,          1,         17,2,20120715,       0000,    59.4914,   -37.6807,       3112,   599.7,   3.9391,  34.9051,2,  34.9085,2,    297.3,2,   297.1,2,    8.07,2,   15.20,2,    1.04,2,   4.319,2,   2.366,2,  -999.0,9,   7.7269,2,    25.00,   3.8954
29AH20120622,      OVIDE,      76,          1,         18,2,20120715,       0000,    59.4914,   -37.6807,       3112,   498.9,   4.0052,  34.9115,2,  34.9126,2,    294.8,2,   295.6,2,    8.12,2,   15.25,2,    1.03,2,-999.000,9,-999.000,9,  -999.0,9,   7.7246,2,    25.00,   3.9690
29AH20120622,      OVIDE,      76,          1,         19,2,20120715,       0000,    59.4914,   -37.6807,       3112,   400.6,   4.0574,  34.9134,2,  34.9141,2,    293.9,2,   293.4,2,    8.32,2,   15.66,2,    1.05,2,-999.000,9,-999.000,9,  -999.0,9,   7.7246,2,    25.00,   4.0285
29AH20120622,      OVIDE,      76,          1,         20,2,20120715,       0000,    59.4914,   -37.6807,       3112,   300.2,   4.1890,  34.9198,2,  34.9203,2,    291.7,2,   291.2,2,    8.45,2,   15.68,2,    1.05,2,   4.182,2,   2.291,2,  -999.0,9,   7.7216,2,    25.00,   4.1672
29AH20120622,      OVIDE,      76,          1,         21,2,20120715,       0000,    59.4914,   -37.6807,       3112,   199.3,   4.4293,  34.9270,2,  34.9272,2,    291.0,2,   291.5,2,    8.53,2,   15.72,2,    1.04,2,-999.000,9,-999.000,9,  -999.0,9,   7.7234,2,    25.00,   4.4146
29AH20120622,      OVIDE,      76,          1,         22,2,20120715,       0000,    59.4914,   -37.6807,       3112,   100.6,   5.0341,  34.9499,2,  34.9516,2,    291.2,2,   290.0,2,    8.41,2,   15.78,2,    1.02,2,-999.000,9,-999.000,9,  -999.0,9,   7.7308,2,    25.00,   5.0263
29AH20120622,      OVIDE,      76,          1,         23,2,20120715,       0000,    59.4914,   -37.6807,       3112,    50.0,   5.8958,  34.9283,2,  34.9327,2,    310.6,2,   298.8,3,    4.05,2,   11.90,2,    0.84,2,-999.000,9,-999.000,9,  -999.0,9,   7.7679,2,    25.00,   5.8916
29AH20120622,      OVIDE,      76,          1,         24,2,20120715,       0000,    59.4914,   -37.6807,       3112,     7.7,  10.5124,  34.8169,2,  34.8194,2,    287.7,2,   290.1,2,    0.33,2,    5.79,2,    0.25,2,   3.526,2,   2.038,2,  -999.0,9,   7.8768,2,    25.00,  10.5115