BOTTLE,20151116SIOCCHCBG
EXPOCODE,SECT_ID,STNNBR,CASTNO,BTLNBR,BTLNBR_FLAG_W,DATE,TIME,LATITUDE,LONGITUDE,DEPTH,CTDPRS,CTDTMP,CTDSAL,CTDSAL_FLAG_W,SALNTY,SALNTY_FLAG_W,CTDOXY,CTDOXY_FLAG_W,OXYGEN,OXYGEN_FLAG_W,SILCAT,SILCAT_FLAG_W,NITRAT,NITRAT_FLAG_W,PHSPHT,PHSPHT_FLAG_W,CFC-11,CFC-11_FLAG_W,CFC-12,CFC-12_FLAG_W,ALKALI,ALKALI_FLAG_W,PH_TOT,PH_TOT_FLAG_W,PH_TMP,THETA
,,,,,,,,,,METERS,DBAR,ITS-90,PSS-78,,PSS-78,,UMOL/KG,,UMOL/KG,,UMOL/KG,,UMOL/KG,,UMOL/KG,,PMOL/KG,,PMOL/KG,,UMOL/KG,,,,DEG C,DEG C
29AH20120622,      OVIDE,      29,          1,          1,2,20120701,       0000,    45.0513,   -18.5036,       4764,  4677.7,   2.6132,  34.9126,2,  34.9129,2,    238.1,2,   238.1,2,   43.80,2,   22.04,2,    1.42,2,-999.000,9,-999.000,9,  2352.0,2,   7.7423,2,    25.00,   2.1804
29AH20120622,      OVIDE,      29,          1,          2,2,20120701,       0000,    45.0513,   -18.5036,       4764,  4499.6,   2.5948,  34.9132,2,  34.9125,2,    238.1,2,   237.8,2,   43.68,2,   22.01,2,    1.42,2,-999.000,9,-999.000,9,  2353.5,2,   7.7422,2,    25.00,   2.1845
29AH20120622,      OVIDE,      29,          1,          3,2,20120701,       0000,    45.0513,   -18.5036,       4764,  3999.0,   2.5741,  34.9172,2,  34.9172,2,    239.4,2,   240.1,2,   42.35,2,   21.71,2,    1.42,2,-999.000,9,-999.000,9,  2348.9,2,   7.7407,2,    25.00,   2.2237
29AH20120622,      OVIDE,      29,          1,          4,2,20120701,       0000,    45.0513,   -18.5036,       4764,  3499.8,   2.6436,  34.9282,2,  34.9278,2,    244.3,2,   244.6,2,   37.64,2,   20.85,2,    1.34,2,-999.000,9,-999.000,9,  2343.7,2,   7.7406,2,    25.00,   2.3475
29AH20120622,      OVIDE,      29,          1,          5,2,20120701,       0000,    45.0513,   -18.5036,       4764,  3250.1,   2.7488,  34.9382,2,  34.9378,2,    249.8,2,   248.4,2,   32.72,2,   20.08,2,    1.27,2,-999.000,9,-999.000,9,  2335.7,2,   7.7400,2,    25.00,   2.4771
29AH20120622,      OVIDE,      29,          1,          6,2,20120701,       0000,    45.0513,   -18.5036,       4764,  3000.1,   2.8796,  34.9449,2,  34.9439,2,    255.7,2,   254.9,2,   27.49,2,   18.66,2,    1.19,2,-999.000,9,-999.000,9,  2329.6,2,   7.7391,2,    25.00,   2.6314
29AH20120622,      OVIDE,      29,          1,          7,2,20120701,       0000,    45.0513,   -18.5036,       4764,  2499.7,   3.2373,  34.9390,2,  34.9399,2,    268.6,2,   264.6,3,   17.69,2,   17.50,2,    1.09,2,-999.000,9,-999.000,9,  2315.3,2,   7.7381,2,    25.00,   3.0330
29AH20120622,      OVIDE,      29,          1,          8,2,20120701,       0000,    45.0513,   -18.5036,       4764,  2249.7,   3.4095,  34.9253,2,  34.9275,2,    270.3,2,   270.8,2,   14.17,2,   17.26,2,    1.05,2,-999.000,9,-999.000,9,  2309.7,2,   7.7341,2,    25.00,   3.2269
29AH20120622,      OVIDE,      29,          1,          9,2,20120701,       0000,    45.0513,   -18.5036,       4764,  2000.1,   3.5998,  34.9225,2,  34.9236,2,    270.6,2,   269.8,2,   12.72,2,   17.06,2,    1.05,2,-999.000,9,-999.000,9,  2307.3,2,   7.7282,2,    25.00,   3.4383
29AH20120622,      OVIDE,      29,          1,         10,2,20120701,       0000,    45.0513,   -18.5036,       4764,  1800.0,   3.7813,  34.9278,2,  34.9275,2,    269.4,2,   267.9,2,   11.91,2,   17.27,2,    1.03,2,-999.000,9,-999.000,9,  2308.8,2,   7.7261,2,    25.00,   3.6362
29AH20120622,      OVIDE,      29,          1,         11,2,20120701,       0000,    45.0513,   -18.5036,       4764,  1600.7,   4.0341,  34.9427,2,  34.9425,2,    266.1,2,   266.4,2,   11.42,2,   17.28,2,    1.05,2,-999.000,9,-999.000,9,  2308.2,2,   7.7237,2,    25.00,   3.9043
29AH20120622,      OVIDE,      29,          1,         12,2,20120701,       0000,    45.0513,   -18.5036,       4764,  1400.4,   4.5956,  35.0036,2,  35.0050,2,    254.8,2,   254.8,2,   11.28,2,   17.36,2,    1.06,2,-999.000,9,-999.000,9,  2310.5,2,   7.7215,2,    25.00,   4.4780
29AH20120622,      OVIDE,      29,          1,         13,2,20120701,       0000,    45.0513,   -18.5036,       4764,  1200.4,   5.9510,  35.1900,2,  35.1926,2,    231.5,2,   231.1,2,   11.40,2,   17.98,2,    1.07,2,-999.000,9,-999.000,9,  2324.9,2,   7.7285,2,    25.00,   5.8394
29AH20120622,      OVIDE,      29,          1,         14,2,20120701,       0000,    45.0513,   -18.5036,       4764,  1000.8,   7.6207,  35.3606,2,  35.3603,2,    204.7,2,   204.4,2,   11.24,2,   18.12,2,    1.06,2,-999.000,9,-999.000,9,  2335.7,2,   7.7338,2,    25.00,   7.5164
29AH20120622,      OVIDE,      29,          1,         15,2,20120701,       0000,    45.0513,   -18.5036,       4764,   900.7,   8.5129,  35.3951,2,  35.3952,2,    191.5,2,   190.6,2,   10.96,2,   18.32,2,    1.06,2,-999.000,9,-999.000,9,  2337.2,2,   7.7371,2,    25.00,   8.4138
29AH20120622,      OVIDE,      29,          1,         16,2,20120701,       0000,    45.0513,   -18.5036,       4764,   799.3,   9.6022,  35.4506,2,  35.4511,2,    183.7,2,   183.9,2,    9.81,2,   17.89,2,    0.99,2,-999.000,9,-999.000,9,  2337.7,2,   7.7468,2,    25.00,   9.5084
29AH20120622,      OVIDE,      29,          1,         17,2,20120701,       0000,    45.0513,   -18.5036,       4764,   599.7,  10.6678,  35.4419,2,  35.4422,2,    214.3,2,   215.4,2,    6.45,2,   13.43,2,    0.72,2,-999.000,9,-999.000,9,  2332.6,2,   7.7958,2,    25.00,  10.5935
29AH20120622,      OVIDE,      29,          1,         18,2,20120701,       0000,    45.0513,   -18.5036,       4764,   500.1,  11.0910,  35.4741,2,  35.4739,2,    228.7,2,   223.7,3,    5.51,2,   12.28,2,    0.61,2,-999.000,9,-999.000,9,  2333.4,2,   7.8152,2,    25.00,  11.0278
29AH20120622,      OVIDE,      29,          1,         19,2,20120701,       0000,    45.0513,   -18.5036,       4764,   400.4,  11.6506,  35.5518,2,  35.5531,2,    235.8,2,   232.2,2,    4.49,2,   10.63,2,    0.50,2,-999.000,9,-999.000,9,  2337.2,2,   7.8380,2,    25.00,  11.5986
29AH20120622,      OVIDE,      29,          1,         20,2,20120701,       0000,    45.0513,   -18.5036,       4764,   301.5,  12.4770,  35.7045,2,  35.7039,2,    228.7,2,   226.4,2,    3.70,2,    9.51,2,    0.45,2,-999.000,9,-999.000,9,  2345.5,2,   7.8521,2,    25.00,  12.4362
29AH20120622,      OVIDE,      29,          1,         21,2,20120701,       0000,    45.0513,   -18.5036,       4764,   200.3,  12.7340,  35.7005,2,  35.7026,2,    240.6,2,   239.9,2,    3.03,2,    7.61,2,    0.42,2,-999.000,9,-999.000,9,  2345.9,2,   7.8791,2,    25.00,  12.7066
29AH20120622,      OVIDE,      29,          1,         22,2,20120701,       0000,    45.0513,   -18.5036,       4764,    99.8,  12.9733,  35.6857,2,  35.6873,2,    245.0,2,   241.6,2,    2.60,2,    6.60,2,    0.21,2,-999.000,9,-999.000,9,  2345.7,2,   7.8877,2,    25.00,  12.9595
29AH20120622,      OVIDE,      29,          1,         23,2,20120701,       0000,    45.0513,   -18.5036,       4764,    25.5,  16.0150,  35.6482,2,  35.6492,2,    245.3,2,   246.2,2,    0.65,2,    0.02,2,    0.01,2,-999.000,9,-999.000,9,  2346.6,2,   7.9881,2,    25.00,  16.0110
29AH20120622,      OVIDE,      29,          1,         24,2,20120701,       0000,    45.0513,   -18.5036,       4764,     5.3,  16.1218,  35.6512,2,  35.6517,2,    249.9,2,   248.3,2,    0.65,3,    0.00,2,    0.00,2,-999.000,9,-999.000,9,  2346.8,2,   7.9894,2,    25.00,  16.1210
29AH20120622,      OVIDE,      30,          1,          1,2,20120701,       0000,    45.4205,   -18.7958,       4565,  4642.1,   2.5959,  34.9114,2,  34.9105,2,    238.0,2,   239.5,2,   43.18,2,   22.02,2,    1.46,2,   0.082,2,   0.042,2,  -999.0,9,   7.7390,2,    25.00,   2.1681
29AH20120622,      OVIDE,      30,          1,          2,2,20120701,       0000,    45.4205,   -18.7958,       4565,  4396.9,   2.5856,  34.9135,2,  34.9112,2,    238.3,2,   239.8,2,   41.95,2,   21.95,2,    1.44,2,   0.105,2,   0.054,2,  -999.0,9,   7.7365,2,    25.00,   2.1880
29AH20120622,      OVIDE,      30,          1,          3,2,20120701,       0000,    45.4205,   -18.7958,       4565,  3998.5,   2.5860,  34.9182,2,  34.9194,2,    239.9,2,   241.7,2,   39.76,2,   21.61,2,    1.41,2,   0.186,2,   0.097,2,  -999.0,9,   7.7376,2,    25.00,   2.2354
29AH20120622,      OVIDE,      30,          1,          4,2,20120701,       0000,    45.4205,   -18.7958,       4565,  3499.4,   2.6928,  34.9322,2,  34.9312,2,    247.5,2,   248.1,2,   33.83,2,   20.22,2,    1.32,2,   0.553,2,   0.278,2,  -999.0,9,   7.7364,2,    25.00,   2.3955
29AH20120622,      OVIDE,      30,          1,          5,2,20120701,       0000,    45.4205,   -18.7958,       4565,  3248.1,   2.8132,  34.9418,2,  34.9430,2,    253.0,2,   252.9,2,   28.37,2,   19.22,2,    1.25,2,-999.000,9,-999.000,9,  -999.0,9,   7.7339,2,    25.00,   2.5402
29AH20120622,      OVIDE,      30,          1,          6,2,20120701,       0000,    45.4205,   -18.7958,       4565,  2999.0,   2.9566,  34.9468,2,  34.9448,2,    257.8,2,   257.7,2,   23.83,2,   18.60,2,    1.20,2,   1.139,2,   0.567,2,  -999.0,9,   7.7367,2,    25.00,   2.7068
29AH20120622,      OVIDE,      30,          1,          7,2,20120701,       0000,    45.4205,   -18.7958,       4565,  2501.1,   3.2684,  34.9334,2,  34.9338,2,    269.2,2,   269.8,2,   15.45,2,   17.44,2,    1.10,2,   2.037,2,   1.009,2,  -999.0,9,   7.7352,2,    25.00,   3.0634
29AH20120622,      OVIDE,      30,          1,          8,2,20120701,       0000,    45.4205,   -18.7958,       4565,  2246.1,   3.4918,  34.9294,2,  34.9337,2,    271.4,2,   271.5,2,   13.16,2,   17.39,2,    1.08,2,-999.000,9,-999.000,9,  -999.0,9,   7.7303,2,    25.00,   3.3082
29AH20120622,      OVIDE,      30,          1,          9,2,20120701,       0000,    45.4205,   -18.7958,       4565,  1999.3,   3.7148,  34.9327,2,  34.9333,2,    270.0,2,   268.7,2,   11.77,2,   17.27,2,    1.07,2,   2.789,2,   1.422,2,  -999.0,9,   7.7268,2,    25.00,   3.5517
29AH20120622,      OVIDE,      30,          1,         10,2,20120701,       0000,    45.4205,   -18.7958,       4565,  1792.6,   3.9876,  34.9539,2,  34.9544,2,    267.3,2,   265.9,2,   11.28,2,   17.23,2,    1.08,2,-999.000,9,-999.000,9,  -999.0,9,   7.7237,2,    25.00,   3.8403
29AH20120622,      OVIDE,      30,          1,         11,2,20120701,       0000,    45.4205,   -18.7958,       4565,  1596.2,   4.2008,  34.9564,2,  35.0010,4,    263.2,2,  -999.0,9,   10.56,2,   17.53,2,    1.08,2,-999.000,9,-999.000,9,  -999.0,9,   7.7195,2,    25.00,   4.0694
29AH20120622,      OVIDE,      30,          1,         12,2,20120701,       0000,    45.4205,   -18.7958,       4565,  1401.1,   4.7319,  35.0030,2,  35.0046,2,    253.6,2,   253.7,2,   10.54,2,   17.44,2,    1.08,2,   3.157,2,   1.687,2,  -999.0,9,   7.7168,2,    25.00,   4.6128
29AH20120622,      OVIDE,      30,          1,         13,2,20120701,       0000,    45.4205,   -18.7958,       4565,  1198.7,   6.4884,  35.2451,2,  35.2445,2,    221.1,2,   223.4,2,   10.73,2,   17.85,2,    1.09,2,-999.000,9,-999.000,9,  -999.0,9,   7.7288,2,    25.00,   6.3721
29AH20120622,      OVIDE,      30,          1,         14,2,20120701,       0000,    45.4205,   -18.7958,       4565,   999.5,   8.2325,  35.4047,2,  35.4064,2,    190.7,2,   196.8,4,   10.51,2,   18.18,2,    1.10,2,   2.158,2,   1.181,2,  -999.0,9,   7.7365,2,    25.00,   8.1239
29AH20120622,      OVIDE,      30,          1,         15,2,20120701,       0000,    45.4205,   -18.7958,       4565,   899.1,   9.4979,  35.5379,2,  35.5333,2,    183.6,2,   185.1,2,    9.60,2,   17.81,2,    1.04,2,-999.000,9,-999.000,9,  -999.0,9,   7.7499,2,    25.00,   9.3924
29AH20120622,      OVIDE,      30,          1,         16,2,20120701,       0000,    45.4205,   -18.7958,       4565,   799.8,  10.0082,  35.4896,2,  35.4893,2,    187.5,2,   186.2,2,    8.41,2,   17.12,2,    0.99,2,   2.179,2,   1.207,2,  -999.0,9,   7.7569,2,    25.00,   9.9119
29AH20120622,      OVIDE,      30,          1,         17,2,20120701,       0000,    45.4205,   -18.7958,       4565,   595.9,  11.0716,  35.5118,2,  35.5099,2,    226.3,2,   220.9,3,    5.11,2,   12.30,2,    0.67,2,-999.000,9,-999.000,9,  -999.0,9,   7.8108,2,    25.00,  10.9961
29AH20120622,      OVIDE,      30,          1,         18,2,20120701,       0000,    45.4205,   -18.7958,       4565,   500.2,  11.6962,  35.6072,2,  35.6019,4,    229.0,2,   228.4,2,    3.91,2,   10.76,2,    0.55,2,   2.782,2,   1.633,2,  -999.0,9,   7.8321,2,    25.00,  11.6308
29AH20120622,      OVIDE,      30,          1,         19,2,20120701,       0000,    45.4205,   -18.7958,       4565,   380.3,  12.1286,  35.6541,2,  35.6567,2,    227.4,2,   227.3,2,    3.65,2,   10.13,2,    0.51,2,-999.000,9,-999.000,9,  -999.0,9,   7.8437,2,    25.00,  12.0779
29AH20120622,      OVIDE,      30,          1,         20,2,20120701,       0000,    45.4205,   -18.7958,       4565,   302.0,  12.5317,  35.7045,2,  35.7026,2,    233.0,2,   236.3,2,    2.95,2,    8.20,2,    0.39,2,-999.000,9,-999.000,9,  -999.0,9,   7.8645,2,    25.00,  12.4907
29AH20120622,      OVIDE,      30,          1,         21,2,20120701,       0000,    45.4205,   -18.7958,       4565,   202.0,  13.0409,  35.7749,2,  35.7740,2,    241.3,2,   244.0,2,    2.10,2,    5.96,2,    0.26,2,   2.751,2,   1.641,2,  -999.0,9,   7.8902,2,    25.00,  13.0128
29AH20120622,      OVIDE,      30,          1,         22,2,20120701,       0000,    45.4205,   -18.7958,       4565,   102.0,  13.3880,  35.7483,2,  35.7474,2,    238.1,2,   233.0,3,    2.71,2,    7.34,2,    0.31,2,-999.000,9,-999.000,9,  -999.0,9,   7.8864,2,    25.00,  13.3736
29AH20120622,      OVIDE,      30,          1,         23,2,20120701,       0000,    45.4205,   -18.7958,       4565,    45.9,  15.1178,  35.7590,2,  35.7527,4,    240.2,2,   240.6,2,    0.77,2,    1.25,2,    0.03,2,-999.000,9,-999.000,9,  -999.0,9,   7.9531,2,    25.00,  15.1108
29AH20120622,      OVIDE,      30,          1,         24,2,20120701,       0000,    45.4205,   -18.7958,       4565,     5.3,  16.1828,  35.7009,2,  35.7018,2,    248.2,2,   246.8,2,    0.49,3,    0.00,2,    0.00,2,   2.447,2,   1.488,2,  -999.0,9,   7.9884,2,    25.00,  16.1820