BOTTLE,20151116SIOCCHCBG
EXPOCODE,SECT_ID,STNNBR,CASTNO,BTLNBR,BTLNBR_FLAG_W,DATE,TIME,LATITUDE,LONGITUDE,DEPTH,CTDPRS,CTDTMP,CTDSAL,CTDSAL_FLAG_W,SALNTY,SALNTY_FLAG_W,CTDOXY,CTDOXY_FLAG_W,OXYGEN,OXYGEN_FLAG_W,SILCAT,SILCAT_FLAG_W,NITRAT,NITRAT_FLAG_W,PHSPHT,PHSPHT_FLAG_W,CFC-11,CFC-11_FLAG_W,CFC-12,CFC-12_FLAG_W,ALKALI,ALKALI_FLAG_W,PH_TOT,PH_TOT_FLAG_W,PH_TMP,THETA
,,,,,,,,,,METERS,DBAR,ITS-90,PSS-78,,PSS-78,,UMOL/KG,,UMOL/KG,,UMOL/KG,,UMOL/KG,,UMOL/KG,,PMOL/KG,,PMOL/KG,,UMOL/KG,,,,DEG C,DEG C
29AH20120622,      OVIDE,      61,          1,          1,2,20120712,       0000,    57.9720,   -29.2795,       2130,  2151.1,   2.9491,  34.9934,2,  34.9930,2,    273.5,2,   273.8,2,   13.00,2,   15.81,2,    1.03,2,-999.000,9,-999.000,9,  2311.8,2,   7.7225,2,    25.00,   2.7832
29AH20120622,      OVIDE,      61,          1,          2,2,20120712,       0000,    57.9720,   -29.2795,       2130,  2000.5,   3.1437,  34.9895,2,  34.9889,2,    273.7,2,   274.5,2,   11.65,2,   15.84,2,    1.04,2,-999.000,9,-999.000,9,  2309.7,2,   7.7246,2,    25.00,   2.9888
29AH20120622,      OVIDE,      61,          1,          3,2,20120712,       0000,    57.9720,   -29.2795,       2130,  1800.9,   3.4577,  34.9647,2,  34.9631,2,    273.1,2,   273.5,2,   11.33,2,   16.45,2,    1.06,2,-999.000,9,-999.000,9,  2307.0,2,   7.7263,2,    25.00,   3.3167
29AH20120622,      OVIDE,      61,          1,          4,2,20120712,       0000,    57.9720,   -29.2795,       2130,  1600.0,   3.7867,  34.9653,2,  34.9628,2,    270.6,2,   271.9,2,   10.91,2,   16.68,2,    1.06,2,-999.000,9,-999.000,9,  2306.4,2,   7.7250,2,    25.00,   3.6599
29AH20120622,      OVIDE,      61,          1,          5,2,20120712,       0000,    57.9720,   -29.2795,       2130,  1401.8,   3.8676,  34.9310,2,  34.9303,2,    270.7,2,   271.7,2,   10.75,2,   16.83,2,    1.09,2,-999.000,9,-999.000,9,  2304.7,2,   7.7209,2,    25.00,   3.7578
29AH20120622,      OVIDE,      61,          1,          6,2,20120712,       0000,    57.9720,   -29.2795,       2130,  1201.8,   4.0374,  34.9250,2,  34.9239,2,    269.2,2,   270.6,2,   10.63,2,   16.97,2,    1.11,2,-999.000,9,-999.000,9,  2303.6,2,   7.7140,2,    25.00,   3.9435
29AH20120622,      OVIDE,      61,          1,          7,2,20120712,       0000,    57.9720,   -29.2795,       2130,  1001.5,   4.7502,  34.9970,2,  34.9962,2,    256.9,2,   257.1,2,   10.38,2,   16.99,2,    1.10,2,-999.000,9,-999.000,9,  2308.0,2,   7.7149,2,    25.00,   4.6678
29AH20120622,      OVIDE,      61,          1,          8,2,20120712,       0000,    57.9720,   -29.2795,       2130,   901.8,   4.9696,  34.9863,2,  34.9856,2,    248.3,2,   249.2,2,   10.68,2,   17.74,2,    1.15,2,-999.000,9,-999.000,9,  2307.7,2,   7.7056,2,    25.00,   4.8946
29AH20120622,      OVIDE,      61,          1,          9,2,20120712,       0000,    57.9720,   -29.2795,       2130,   800.9,   5.5294,  35.0296,2,  35.0457,4,    238.8,2,   243.6,3,    9.78,2,   17.42,2,    1.11,2,-999.000,9,-999.000,9,  2312.9,2,   7.7184,2,    25.00,   5.4599
29AH20120622,      OVIDE,      61,          1,         10,2,20120712,       0000,    57.9720,   -29.2795,       2130,   699.9,   6.0838,  35.0462,2,  35.0605,4,    241.9,2,   236.2,4,   10.04,2,   17.63,2,    1.13,2,-999.000,9,-999.000,9,  -999.0,9,   7.7160,2,    25.00,   6.0206
29AH20120622,      OVIDE,      61,          1,         11,2,20120712,       0000,    57.9720,   -29.2795,       2130,   700.3,   6.0886,  35.0468,2,  35.0497,2,    241.9,2,   243.4,2,    9.70,2,   17.25,2,    1.12,2,-999.000,9,-999.000,9,  -999.0,9,   7.7181,2,    25.00,   6.0253
29AH20120622,      OVIDE,      61,          1,         12,2,20120712,       0000,    57.9720,   -29.2795,       2130,   600.1,   6.9027,  35.1231,2,  35.1218,2,    264.0,2,   263.8,2,    7.69,2,   15.23,2,    0.98,2,-999.000,9,-999.000,9,  2313.7,2,   7.7536,2,    25.00,   6.8452
29AH20120622,      OVIDE,      61,          1,         13,2,20120712,       0000,    57.9720,   -29.2795,       2130,   501.3,   7.2771,  35.1554,2,  35.1563,2,    272.2,2,   271.7,2,    6.86,2,   14.33,2,    0.91,2,-999.000,9,-999.000,9,  -999.0,9,   7.7699,2,    25.00,   7.2279
29AH20120622,      OVIDE,      61,          1,         14,2,20120712,       0000,    57.9720,   -29.2795,       2130,   402.1,   7.3675,  35.1552,2,  35.1549,2,    273.8,2,   275.5,2,    6.52,2,   13.93,2,    0.88,2,-999.000,9,-999.000,9,  2316.4,2,   7.7732,2,    25.00,   7.3281
29AH20120622,      OVIDE,      61,          1,         15,2,20120712,       0000,    57.9720,   -29.2795,       2130,   301.8,   7.3980,  35.1321,2,  35.1307,2,    272.5,2,   274.4,2,    6.53,2,   13.99,2,    0.91,2,-999.000,9,-999.000,9,  -999.0,9,   7.7706,2,    25.00,   7.3685
29AH20120622,      OVIDE,      61,          1,         16,2,20120712,       0000,    57.9720,   -29.2795,       2130,   201.5,   7.1158,  35.0020,2,  35.0008,2,    271.4,2,   258.5,3,    7.45,2,   15.07,2,    0.97,2,-999.000,9,-999.000,9,  2309.4,2,   7.7491,2,    25.00,   7.0967
29AH20120622,      OVIDE,      61,          1,         17,2,20120712,       0000,    57.9720,   -29.2795,       2130,   151.4,   7.5183,  35.0239,2,  35.0201,2,    253.3,2,   254.7,2,    7.31,2,   14.80,2,    0.93,2,-999.000,9,-999.000,9,  -999.0,9,   7.7541,2,    25.00,   7.5036
29AH20120622,      OVIDE,      61,          1,         18,2,20120712,       0000,    57.9720,   -29.2795,       2130,   101.2,   7.9028,  35.0171,2,  35.0189,2,    257.8,2,   269.6,3,    5.40,2,   12.72,2,    0.71,2,-999.000,9,-999.000,9,  2308.9,2,   7.7840,2,    25.00,   7.8927
29AH20120622,      OVIDE,      61,          1,         19,2,20120712,       0000,    57.9720,   -29.2795,       2130,    35.7,   9.1749,  34.9298,2,-999.0000,9,    273.7,2,  -999.0,9,    3.79,3,    9.94,3,    0.55,3,-999.000,9,-999.000,9,  -999.0,9,-999.0000,9,  -999.00,   9.1710
29AH20120622,      OVIDE,      61,          1,         20,2,20120712,       0000,    57.9720,   -29.2795,       2130,    14.5,  12.5360,  34.8840,2,  34.8895,4,    275.5,2,   277.7,2,    0.28,2,    2.69,2,    0.11,2,-999.000,9,-999.000,9,  2307.5,2,   7.9357,2,    25.00,  12.5341
29AH20120622,      OVIDE,      61,          1,         21,2,20120712,       0000,    57.9720,   -29.2795,       2130,     4.7,  12.6656,  34.8835,2,-999.0000,9,    275.2,2,  -999.0,9, -999.00,9, -999.00,9, -999.00,9,-999.000,9,-999.000,9,  -999.0,9,-999.0000,9,  -999.00,  12.6650
29AH20120622,      OVIDE,      61,          1,         22,2,20120712,       0000,    57.9720,   -29.2795,       2130,     4.8,  12.6659,  34.8836,2,-999.0000,9,    275.2,2,  -999.0,9, -999.00,9, -999.00,9, -999.00,9,-999.000,9,-999.000,9,  -999.0,9,-999.0000,9,  -999.00,  12.6653
29AH20120622,      OVIDE,      61,          1,         23,2,20120712,       0000,    57.9720,   -29.2795,       2130,     4.8,  12.6661,  34.8836,2,-999.0000,9,    275.2,2,  -999.0,9, -999.00,9, -999.00,9, -999.00,9,-999.000,9,-999.000,9,  -999.0,9,-999.0000,9,  -999.00,  12.6655
29AH20120622,      OVIDE,      61,          1,         24,2,20120712,       0000,    57.9720,   -29.2795,       2130,     4.7,  12.6659,  34.8836,2,  34.8870,2,    275.2,2,   276.9,2,    0.21,2,    2.46,2,    0.04,2,-999.000,9,-999.000,9,  2308.9,2,   7.9394,2,    25.00,  12.6653
29AH20120622,      OVIDE,      62,          1,          1,2,20120712,       0000,    58.2080,   -29.7257,       2223,  2241.5,   3.1147,  34.9946,2,  34.9919,2,    273.8,2,   276.3,2,   12.30,2,   15.59,2,    1.02,2,   2.952,2,   1.542,2,  -999.0,9,   7.7262,2,    25.00,   2.9376
29AH20120622,      OVIDE,      62,          1,          2,2,20120712,       0000,    58.2080,   -29.7257,       2223,  1982.2,   3.2307,  34.9879,2,  34.9833,2,    273.4,2,   274.7,2,   11.64,2,   15.55,2,    1.04,2,   2.944,2,   1.522,2,  -999.0,9,   7.7282,2,    25.00,   3.0762
29AH20120622,      OVIDE,      62,          1,          3,2,20120712,       0000,    58.2080,   -29.7257,       2223,  1799.8,   3.3584,  34.9627,2,  34.9596,2,    273.1,2,   274.1,2,   11.76,2,   16.01,2,    1.06,2,-999.000,9,-999.000,9,  -999.0,9,   7.7300,2,    25.00,   3.2189
29AH20120622,      OVIDE,      62,          1,          4,2,20120712,       0000,    58.2080,   -29.7257,       2223,  1599.1,   3.8118,  34.9788,2,  34.9788,2,    271.1,2,   274.8,2,   10.34,2,   15.90,2,    1.05,2,   3.223,6,   1.669,6,  -999.0,9,   7.7281,2,    25.00,   3.6847
29AH20120622,      OVIDE,      62,          1,          5,2,20120712,       0000,    58.2080,   -29.7257,       2223,  1389.1,   3.8306,  34.9354,2,  34.9327,2,    270.4,2,   271.5,2,   10.92,2,   16.80,2,    1.10,2,   3.341,2,   1.720,2,  -999.0,9,   7.7236,2,    25.00,   3.7223
29AH20120622,      OVIDE,      62,          1,          6,2,20120712,       0000,    58.2080,   -29.7257,       2223,  1199.8,   4.0399,  34.9316,2,  34.9287,2,    269.3,2,   269.8,2,   10.36,2,   16.81,2,    1.10,2,   3.601,2,   1.888,2,  -999.0,9,   7.7165,2,    25.00,   3.9461
29AH20120622,      OVIDE,      62,          1,          7,2,20120712,       0000,    58.2080,   -29.7257,       2223,   998.5,   4.4393,  34.9608,2,  34.9591,2,    259.7,2,   261.6,2,   10.40,2,   17.17,2,    1.10,2,-999.000,9,-999.000,9,  -999.0,9,   7.7144,2,    25.00,   4.3596
29AH20120622,      OVIDE,      62,          1,          8,2,20120712,       0000,    58.2080,   -29.7257,       2223,   899.5,   4.6983,  34.9753,2,  34.9751,2,    253.2,2,   255.7,2,   10.53,2,   17.48,2,    1.13,2,   3.432,2,   1.818,2,  -999.0,9,   7.7104,2,    25.00,   4.6254
29AH20120622,      OVIDE,      62,          1,          9,2,20120712,       0000,    58.2080,   -29.7257,       2223,   798.8,   5.2414,  35.0279,2,  35.0268,2,    245.5,2,   248.7,2,   10.32,2,   17.36,2,    1.11,2,-999.000,9,-999.000,9,  -999.0,9,   7.7152,2,    25.00,   5.1739
29AH20120622,      OVIDE,      62,          1,         10,2,20120712,       0000,    58.2080,   -29.7257,       2223,   699.8,   5.8788,  35.0591,2,  35.0612,2,    244.1,2,   241.0,2,   10.10,2,   17.38,2,    1.13,2,-999.000,9,-999.000,9,  -999.0,9,   7.7176,2,    25.00,   5.8167
29AH20120622,      OVIDE,      62,          1,         11,2,20120712,       0000,    58.2080,   -29.7257,       2223,   597.8,   6.5692,  35.1064,2,  35.1034,2,    252.1,2,   252.9,2,    8.73,2,   16.29,2,    1.04,2,   3.297,2,   1.838,2,  -999.0,9,   7.7398,2,    25.00,   6.5134
29AH20120622,      OVIDE,      62,          1,         12,2,20120712,       0000,    58.2080,   -29.7257,       2223,   597.8,   6.5730,  35.1067,2,  35.1044,2,    252.1,2,   254.0,2,    8.69,2,   16.17,2,    1.02,2,-999.000,9,-999.000,9,  -999.0,9,   7.7386,2,    25.00,   6.5172
29AH20120622,      OVIDE,      62,          1,         13,2,20120712,       0000,    58.2080,   -29.7257,       2223,   597.9,   6.5732,  35.1068,2,-999.0000,9,    252.1,2,  -999.0,9, -999.00,9, -999.00,9, -999.00,9,-999.000,9,-999.000,9,  -999.0,9,-999.0000,9,  -999.00,   6.5174
29AH20120622,      OVIDE,      62,          1,         14,2,20120712,       0000,    58.2080,   -29.7257,       2223,   499.6,   6.9942,  35.1342,2,  35.1319,2,    262.9,2,   262.5,2,    7.78,2,   15.21,2,    0.95,2,-999.000,9,-999.000,9,  -999.0,9,   7.7536,2,    25.00,   6.9463
29AH20120622,      OVIDE,      62,          1,         15,2,20120712,       0000,    58.2080,   -29.7257,       2223,   398.7,   7.3037,  35.1569,2,  35.1537,2,    267.5,2,   270.6,2,    6.97,2,   14.33,2,    0.91,2,-999.000,9,-999.000,9,  -999.0,9,   7.7639,2,    25.00,   7.2648
29AH20120622,      OVIDE,      62,          1,         16,2,20120712,       0000,    58.2080,   -29.7257,       2223,   298.4,   7.2126,  35.1111,2,  35.1075,2,    265.7,2,   268.2,2,    7.11,2,   14.51,2,    0.93,2,   3.477,2,   1.985,2,  -999.0,9,   7.7574,2,    25.00,   7.1839
29AH20120622,      OVIDE,      62,          1,         17,2,20120712,       0000,    58.2080,   -29.7257,       2223,   199.6,   7.2090,  35.0510,2,  35.0503,2,    263.7,2,   266.0,2,    7.16,2,   14.63,2,    0.90,2,-999.000,9,-999.000,9,  -999.0,9,   7.7602,2,    25.00,   7.1900
29AH20120622,      OVIDE,      62,          1,         18,2,20120712,       0000,    58.2080,   -29.7257,       2223,   150.3,   7.4366,  35.0417,2,  35.0402,2,    269.7,2,   269.1,2,    6.41,2,   13.92,2,    0.87,2,-999.000,9,-999.000,9,  -999.0,9,   7.7696,2,    25.00,   7.4221
29AH20120622,      OVIDE,      62,          1,         19,2,20120712,       0000,    58.2080,   -29.7257,       2223,    98.3,   7.7382,  35.0330,2,  35.0313,2,    268.5,2,   267.4,2,    5.93,2,   13.39,2,    0.81,2,-999.000,9,-999.000,9,  -999.0,9,   7.7755,2,    25.00,   7.7285
29AH20120622,      OVIDE,      62,          1,         20,2,20120712,       0000,    58.2080,   -29.7257,       2223,    49.0,   8.7686,  34.9913,2,  34.9890,2,    285.4,2,   283.3,2,    3.07,2,    8.82,2,    0.53,2,-999.000,9,-999.000,9,  -999.0,9,   7.8277,2,    25.00,   8.7634
29AH20120622,      OVIDE,      62,          1,         21,2,20120712,       0000,    58.2080,   -29.7257,       2223,    49.1,   8.7712,  34.9913,2,-999.0000,9,    285.3,2,  -999.0,9, -999.00,9, -999.00,9, -999.00,9,-999.000,9,-999.000,9,  -999.0,9,-999.0000,9,  -999.00,   8.7660
29AH20120622,      OVIDE,      62,          1,         22,2,20120712,       0000,    58.2080,   -29.7257,       2223,    48.8,   8.7751,  34.9916,2,-999.0000,9,    285.5,2,  -999.0,9, -999.00,9, -999.00,9, -999.00,9,-999.000,9,-999.000,9,  -999.0,9,-999.0000,9,  -999.00,   8.7699
29AH20120622,      OVIDE,      62,          1,         23,2,20120712,       0000,    58.2080,   -29.7257,       2223,    11.2,  12.5670,  34.8997,2,-999.0000,9,    274.8,2,  -999.0,9, -999.00,9, -999.00,9, -999.00,9,-999.000,9,-999.000,9,  -999.0,9,-999.0000,9,  -999.00,  12.5655
29AH20120622,      OVIDE,      62,          1,         24,2,20120712,       0000,    58.2080,   -29.7257,       2223,    11.1,  12.5688,  34.8998,2,  34.8999,2,    274.8,2,   277.9,2,    0.43,2,    3.45,2,    0.13,2,-999.000,9,-999.000,9,  -999.0,9,   7.9300,2,    25.00,  12.5673