BOTTLE,20151116SIOCCHCBG
EXPOCODE,SECT_ID,STNNBR,CASTNO,BTLNBR,BTLNBR_FLAG_W,DATE,TIME,LATITUDE,LONGITUDE,DEPTH,CTDPRS,CTDTMP,CTDSAL,CTDSAL_FLAG_W,SALNTY,SALNTY_FLAG_W,CTDOXY,CTDOXY_FLAG_W,OXYGEN,OXYGEN_FLAG_W,SILCAT,SILCAT_FLAG_W,NITRAT,NITRAT_FLAG_W,PHSPHT,PHSPHT_FLAG_W,CFC-11,CFC-11_FLAG_W,CFC-12,CFC-12_FLAG_W,ALKALI,ALKALI_FLAG_W,PH_TOT,PH_TOT_FLAG_W,PH_TMP,THETA
,,,,,,,,,,METERS,DBAR,ITS-90,PSS-78,,PSS-78,,UMOL/KG,,UMOL/KG,,UMOL/KG,,UMOL/KG,,UMOL/KG,,PMOL/KG,,PMOL/KG,,UMOL/KG,,,,DEG C,DEG C
29AH20120622,      OVIDE,      17,          1,          1,2,20120627,       0000,    41.3836,   -13.8890,       5344,  5439.3,   2.5715,  34.8979,2,  34.8999,2,    241.6,2,  -999.0,9,   45.75,2,   21.98,2,    1.43,2,-999.000,9,-999.000,9,  2356.8,2,   7.7442,2,    25.00,   2.0424
29AH20120622,      OVIDE,      17,          1,          2,2,20120627,       0000,    41.3836,   -13.8890,       5344,  5000.2,   2.5212,  34.8993,2,  34.9015,2,    241.5,2,   241.9,2,   46.21,2,   22.12,2,    1.42,2,-999.000,9,-999.000,9,  2355.0,2,   7.7424,2,    25.00,   2.0509
29AH20120622,      OVIDE,      17,          1,          3,2,20120627,       0000,    41.3836,   -13.8890,       5344,  4500.7,   2.4953,  34.9034,2,  34.9030,2,    241.5,2,   242.4,2,   45.28,2,   21.85,2,    1.40,2,-999.000,9,-999.000,9,  2352.4,2,   7.7423,2,    25.00,   2.0880
29AH20120622,      OVIDE,      17,          1,          4,2,20120627,       0000,    41.3836,   -13.8890,       5344,  4001.6,   2.5349,  34.9131,2,  34.9157,2,    242.0,2,   242.2,2,   43.68,2,   21.77,2,    1.38,2,-999.000,9,-999.000,9,  2348.4,2,   7.7439,2,    25.00,   2.1853
29AH20120622,      OVIDE,      17,          1,          5,2,20120627,       0000,    41.3836,   -13.8890,       5344,  3499.9,   2.6394,  34.9281,2,  34.9287,2,    243.9,2,   244.5,2,   39.73,2,   21.22,2,    1.33,2,-999.000,9,-999.000,9,  2345.7,2,   7.7413,2,    25.00,   2.3434
29AH20120622,      OVIDE,      17,          1,          6,2,20120627,       0000,    41.3836,   -13.8890,       5344,  2999.8,   2.8616,  34.9507,2,  34.9509,2,    247.5,2,   247.3,2,   33.90,2,   20.30,2,    1.27,2,-999.000,9,-999.000,9,  2336.6,2,   7.7441,2,    25.00,   2.6137
29AH20120622,      OVIDE,      17,          1,          7,2,20120627,       0000,    41.3836,   -13.8890,       5344,  2501.1,   3.3069,  34.9853,2,  34.9865,2,    252.6,2,   251.2,2,   25.41,2,   19.16,2,    1.17,2,-999.000,9,-999.000,9,  2325.3,2,   7.7465,2,    25.00,   3.1010
29AH20120622,      OVIDE,      17,          1,          8,2,20120627,       0000,    41.3836,   -13.8890,       5344,  2250.6,   3.5426,  34.9923,2,  34.9933,2,    257.4,2,   256.9,2,   20.18,2,   18.27,2,    1.11,2,-999.000,9,-999.000,9,  2321.2,2,   7.7418,2,    25.00,   3.3575
29AH20120622,      OVIDE,      17,          1,          9,2,20120627,       0000,    41.3836,   -13.8890,       5344,  2000.1,   3.8896,  35.0133,2,  35.0158,2,    259.0,2,   259.0,2,   16.29,2,   17.75,2,    1.06,2,-999.000,9,-999.000,9,  2316.0,2,   7.7404,2,    25.00,   3.7235
29AH20120622,      OVIDE,      17,          1,         10,2,20120627,       0000,    41.3836,   -13.8890,       5344,  1800.6,   4.4973,  35.0885,2,  35.0914,2,    249.8,2,   251.8,2,   14.52,2,   17.63,2,    1.05,2,-999.000,9,-999.000,9,  2321.3,2,   7.7386,2,    25.00,   4.3421
29AH20120622,      OVIDE,      17,          1,         11,2,20120627,       0000,    41.3836,   -13.8890,       5344,  1599.7,   5.8267,  35.2945,2,  35.2920,2,    232.8,2,   234.4,2,   13.58,2,   17.57,2,    1.01,2,-999.000,9,-999.000,9,  2334.5,2,   7.7466,2,    25.00,   5.6749
29AH20120622,      OVIDE,      17,          1,         12,2,20120627,       0000,    41.3836,   -13.8890,       5344,  1400.4,   8.2003,  35.7041,2,  35.7099,4,    204.2,2,   206.3,2,   12.07,2,   16.81,2,    0.94,2,-999.000,9,-999.000,9,  2362.4,2,   7.7696,2,    25.00,   8.0444
29AH20120622,      OVIDE,      17,          1,         13,2,20120627,       0000,    41.3836,   -13.8890,       5344,  1200.4,  10.2514,  36.0507,2,  36.0526,2,    184.3,2,   185.9,2,   10.61,2,   15.90,2,    0.85,2,-999.000,9,-999.000,9,  2384.4,2,   7.7917,2,    25.00,  10.1012
29AH20120622,      OVIDE,      17,          1,         14,2,20120627,       0000,    41.3836,   -13.8890,       5344,  1001.1,  11.0502,  36.0954,2,  36.1018,4,    177.7,2,   179.2,2,    9.66,2,   15.56,2,    0.84,2,-999.000,9,-999.000,9,  2386.7,2,   7.7990,2,    25.00,  10.9204
29AH20120622,      OVIDE,      17,          1,         15,2,20120627,       0000,    41.3836,   -13.8890,       5344,   800.3,  11.2618,  35.9309,2,  35.9272,2,    178.3,2,   178.3,2,    8.84,2,   15.56,2,    0.83,2,-999.000,9,-999.000,9,  2368.7,2,   7.7909,2,    25.00,  11.1579
29AH20120622,      OVIDE,      17,          1,         16,2,20120627,       0000,    41.3836,   -13.8890,       5344,   701.0,  10.9747,  35.7290,2,  35.7349,4,    180.3,2,   181.0,2,    8.61,2,   16.22,2,    0.87,2,-999.000,9,-999.000,9,  2352.0,2,   7.7787,2,    25.00,  10.8857
29AH20120622,      OVIDE,      17,          1,         17,2,20120627,       0000,    41.3836,   -13.8890,       5344,   600.9,  11.0858,  35.6387,2,  35.6389,2,    190.7,2,   190.3,2,    7.39,2,   15.06,2,    0.79,2,-999.000,9,-999.000,9,  2344.9,2,   7.7841,2,    25.00,  11.0094
29AH20120622,      OVIDE,      17,          1,         18,2,20120627,       0000,    41.3836,   -13.8890,       5344,   500.3,  11.5733,  35.6654,2,  35.6670,2,    214.2,2,   206.5,3,    5.36,2,   12.76,2,    0.63,2,-999.000,9,-999.000,9,  2345.7,2,   7.8071,2,    25.00,  11.5083
29AH20120622,      OVIDE,      17,          1,         19,2,20120627,       0000,    41.3836,   -13.8890,       5344,   400.9,  11.8234,  35.6675,2,  35.6672,2,    218.7,2,   219.8,2,    4.21,2,   10.89,2,    0.52,2,-999.000,9,-999.000,9,  -999.0,9,   7.8231,2,    25.00,  11.7708
29AH20120622,      OVIDE,      17,          1,         20,2,20120627,       0000,    41.3836,   -13.8890,       5344,   300.5,  12.2810,  35.7228,2,  35.7217,2,    221.3,2,   223.9,2,    3.56,2,    9.69,2,    0.43,2,-999.000,9,-999.000,9,  2344.7,2,   7.8403,2,    25.00,  12.2407
29AH20120622,      OVIDE,      17,          1,         21,2,20120627,       0000,    41.3836,   -13.8890,       5344,   200.4,  12.7414,  35.7644,2,  35.7772,4,    226.8,2,   226.0,2,    3.20,2,    8.51,2,    0.34,2,-999.000,9,-999.000,9,  2347.4,2,   7.8598,2,    25.00,  12.7140
29AH20120622,      OVIDE,      17,          1,         22,2,20120627,       0000,    41.3836,   -13.8890,       5344,   100.2,  13.5942,  35.8986,2,  35.9018,2,    241.2,2,   240.1,2,    1.75,2,    4.58,2,    0.13,2,-999.000,9,-999.000,9,  2355.9,2,   7.9005,2,    25.00,  13.5799
29AH20120622,      OVIDE,      17,          1,         23,2,20120627,       0000,    41.3836,   -13.8890,       5344,    36.1,  14.7027,  36.0079,2,  36.0190,4,    255.3,2,   248.8,3,    0.88,2,    0.82,2,    0.02,2,-999.000,9,-999.000,9,  2364.6,2,   7.9445,2,    25.00,  14.6973
29AH20120622,      OVIDE,      17,          1,         24,2,20120627,       0000,    41.3836,   -13.8890,       5344,     5.4,  18.6184,  35.9391,2,  35.9405,2,    237.8,2,   241.7,2,    0.64,3,    0.00,2,    0.00,2,-999.000,9,-999.000,9,  2361.8,2,   7.9908,2,    25.00,  18.6174
29AH20120622,      OVIDE,      18,          1,          1,2,20120627,       0000,    41.6819,   -14.2770,       5336,  5432.2,   2.5677,  34.8977,2,  34.8991,2,    241.5,2,   243.7,2,   44.87,2,   21.94,2,    1.52,2,   0.013,2,   0.011,2,  -999.0,9,   7.7438,2,    25.00,   2.0397
29AH20120622,      OVIDE,      18,          1,          2,2,20120627,       0000,    41.6819,   -14.2770,       5336,  5000.3,   2.5191,  34.8992,2,  34.9032,2,    241.4,2,   244.1,2,   44.99,2,   22.00,2,    1.47,2,   0.012,2,   0.011,2,  -999.0,9,   7.7433,2,    25.00,   2.0489
29AH20120622,      OVIDE,      18,          1,          3,2,20120627,       0000,    41.6819,   -14.2770,       5336,  4499.8,   2.4922,  34.9032,2,  34.9034,2,    241.4,2,   242.5,2,   44.04,2,   21.76,2,    1.44,2,-999.000,9,-999.000,9,  -999.0,9,   7.7420,2,    25.00,   2.0851
29AH20120622,      OVIDE,      18,          1,          4,2,20120627,       0000,    41.6819,   -14.2770,       5336,  3999.6,   2.5279,  34.9127,2,  34.9130,2,    241.8,2,   243.2,2,   42.66,2,   21.76,2,    1.44,2,   0.030,2,   0.019,2,  -999.0,9,   7.7420,2,    25.00,   2.1788
29AH20120622,      OVIDE,      18,          1,          5,2,20120627,       0000,    41.6819,   -14.2770,       5336,  3500.0,   2.6315,  34.9274,2,  34.9270,2,    243.5,2,   246.0,2,   38.78,2,   21.04,2,    1.39,2,   0.071,2,   0.039,2,  -999.0,9,   7.7424,2,    25.00,   2.3357
29AH20120622,      OVIDE,      18,          1,          6,2,20120627,       0000,    41.6819,   -14.2770,       5336,  3000.9,   2.8493,  34.9495,2,  34.9510,2,    247.2,2,   248.1,2,   32.93,2,   20.29,2,    1.31,2,   0.158,2,   0.087,2,  -999.0,9,   7.7438,2,    25.00,   2.6016
29AH20120622,      OVIDE,      18,          1,          7,2,20120627,       0000,    41.6819,   -14.2770,       5336,  2500.3,   3.2816,  34.9788,2,  34.9830,2,    254.5,2,   252.9,2,   24.07,2,   18.74,2,    1.19,2,   0.640,2,   0.321,2,  -999.0,9,   7.7433,2,    25.00,   3.0763
29AH20120622,      OVIDE,      18,          1,          8,2,20120627,       0000,    41.6819,   -14.2770,       5336,  2249.8,   3.5492,  34.9891,2,  34.9932,2,    257.8,2,   257.9,2,   19.04,2,   18.14,2,    1.14,2,-999.000,9,-999.000,9,  -999.0,9,   7.7401,2,    25.00,   3.3641
29AH20120622,      OVIDE,      18,          1,          9,2,20120627,       0000,    41.6819,   -14.2770,       5336,  1999.4,   3.9348,  35.0139,2,  35.0151,2,    260.0,2,   261.0,2,   15.42,2,   17.53,2,    1.10,2,-999.000,9,-999.000,9,  -999.0,9,   7.7370,2,    25.00,   3.7681
29AH20120622,      OVIDE,      18,          1,         10,2,20120627,       0000,    41.6819,   -14.2770,       5336,  1800.8,   4.5455,  35.0962,2,  35.0971,2,    251.6,2,   251.4,2,   14.10,2,   17.64,2,    1.08,2,   1.986,2,   1.006,2,  -999.0,9,   7.7388,2,    25.00,   4.3896
29AH20120622,      OVIDE,      18,          1,         11,2,20120627,       0000,    41.6819,   -14.2770,       5336,  1600.5,   5.7600,  35.2879,2,  35.2873,2,    233.0,2,   235.4,2,   12.90,2,   17.39,2,    1.05,2,-999.000,9,-999.000,9,  -999.0,9,   7.7477,2,    25.00,   5.6089
29AH20120622,      OVIDE,      18,          1,         12,2,20120627,       0000,    41.6819,   -14.2770,       5336,  1399.9,   7.7722,  35.6206,2,  35.6220,2,    209.7,2,   211.1,2,   11.60,2,   16.94,2,    1.00,2,   1.759,2,   0.931,2,  -999.0,9,   7.7653,2,    25.00,   7.6208
29AH20120622,      OVIDE,      18,          1,         13,2,20120627,       0000,    41.6819,   -14.2770,       5336,  1201.6,   8.9605,  35.7585,2,  35.7633,2,    195.1,2,   197.7,2,   10.78,2,   16.85,2,    0.97,2,-999.000,9,-999.000,9,  -999.0,9,   7.7689,2,    25.00,   8.8215
29AH20120622,      OVIDE,      18,          1,         14,2,20120627,       0000,    41.6819,   -14.2770,       5336,   997.3,  10.0644,  35.8302,2,  35.8307,2,    181.2,2,   183.0,2,    9.96,2,   16.78,2,    0.97,2,   1.688,2,   0.922,2,  -999.0,9,   7.7760,2,    25.00,   9.9424
29AH20120622,      OVIDE,      18,          1,         15,2,20120627,       0000,    41.6819,   -14.2770,       5336,   800.1,  10.9987,  35.8208,2,  35.8232,2,    179.0,2,   180.4,2,    8.57,2,   16.02,2,    0.92,2,   1.950,2,   1.087,2,  -999.0,9,   7.7827,2,    25.00,  10.8964
29AH20120622,      OVIDE,      18,          1,         16,2,20120627,       0000,    41.6819,   -14.2770,       5336,   701.5,  11.0557,  35.7275,2,  35.7235,2,    182.3,2,   183.1,2,    7.95,2,   16.01,2,    0.89,2,-999.000,9,-999.000,9,  -999.0,9,   7.7812,2,    25.00,  10.9662
29AH20120622,      OVIDE,      18,          1,         17,2,20120627,       0000,    41.6819,   -14.2770,       5336,   599.0,  11.2597,  35.6381,2,  35.6385,2,    205.7,2,   204.4,2,    5.84,2,   13.55,2,    0.74,2,-999.000,9,-999.000,9,  -999.0,9,   7.7995,2,    25.00,  11.1829
29AH20120622,      OVIDE,      18,          1,         18,2,20120627,       0000,    41.6819,   -14.2770,       5336,   501.1,  11.5719,  35.6344,2,  35.6362,2,    225.7,2,   226.4,2,    3.96,2,   10.68,2,    0.56,2,   2.807,2,   1.667,2,  -999.0,9,   7.8242,2,    25.00,  11.5068
29AH20120622,      OVIDE,      18,          1,         19,2,20120627,       0000,    41.6819,   -14.2770,       5336,   400.1,  12.0024,  35.6817,2,  35.6813,2,    224.5,2,   223.6,2,    3.57,2,   10.38,2,    0.52,2,-999.000,9,-999.000,9,  -999.0,9,   7.8313,2,    25.00,  11.9494
29AH20120622,      OVIDE,      18,          1,         20,2,20120627,       0000,    41.6819,   -14.2770,       5336,   300.3,  12.5583,  35.7571,2,  35.7599,2,    230.7,2,   229.2,2,    2.93,2,    8.50,2,    0.41,2,-999.000,9,-999.000,9,  -999.0,9,   7.8553,2,    25.00,  12.5175
29AH20120622,      OVIDE,      18,          1,         21,2,20120627,       0000,    41.6819,   -14.2770,       5336,   198.7,  12.9451,  35.7939,2,  35.7944,2,    237.1,2,   233.6,2,    2.54,2,    7.28,2,    0.32,2,-999.000,9,-999.000,9,  -999.0,9,   7.8725,2,    25.00,  12.9176
29AH20120622,      OVIDE,      18,          1,         22,2,20120627,       0000,    41.6819,   -14.2770,       5336,   100.6,  13.8041,  35.9231,2,  35.9229,2,    243.2,2,   245.9,2,    1.45,2,    3.73,2,    0.11,2,-999.000,9,-999.000,9,  -999.0,9,   7.9135,2,    25.00,  13.7896
29AH20120622,      OVIDE,      18,          1,         23,2,20120627,       0000,    41.6819,   -14.2770,       5336,    46.1,  15.4347,  35.9855,2,  35.9728,4,    254.0,2,   260.7,3,    0.55,2,    0.01,2,    0.01,2,-999.000,9,-999.000,9,  -999.0,9,   7.9690,2,    25.00,  15.4276
29AH20120622,      OVIDE,      18,          1,         24,2,20120627,       0000,    41.6819,   -14.2770,       5336,     4.7,  18.9302,  35.9213,2,  35.9235,2,    242.3,2,   242.9,2,    0.42,3,    0.00,2,    0.01,2,   2.295,2,   1.419,2,  -999.0,9,   7.9967,2,    25.00,  18.9294