BOTTLE,20151116SIOCCHCBG
EXPOCODE,SECT_ID,STNNBR,CASTNO,BTLNBR,BTLNBR_FLAG_W,DATE,TIME,LATITUDE,LONGITUDE,DEPTH,CTDPRS,CTDTMP,CTDSAL,CTDSAL_FLAG_W,SALNTY,SALNTY_FLAG_W,CTDOXY,CTDOXY_FLAG_W,OXYGEN,OXYGEN_FLAG_W,SILCAT,SILCAT_FLAG_W,NITRAT,NITRAT_FLAG_W,PHSPHT,PHSPHT_FLAG_W,CFC-11,CFC-11_FLAG_W,CFC-12,CFC-12_FLAG_W,ALKALI,ALKALI_FLAG_W,PH_TOT,PH_TOT_FLAG_W,PH_TMP,THETA
,,,,,,,,,,METERS,DBAR,ITS-90,PSS-78,,PSS-78,,UMOL/KG,,UMOL/KG,,UMOL/KG,,UMOL/KG,,UMOL/KG,,PMOL/KG,,PMOL/KG,,UMOL/KG,,,,DEG C,DEG C
29AH20120622,      OVIDE,      65,          1,          1,2,20120713,       0000,    58.7243,   -30.6978,       1443,  1447.7,   3.9435,  34.9929,2,  34.9928,2,    269.4,2,   268.6,2,   10.68,2,   15.89,2,    1.04,2,-999.000,9,-999.000,9,  2307.6,2,   7.7237,2,    25.00,   3.8286
29AH20120622,      OVIDE,      65,          1,          2,2,20120713,       0000,    58.7243,   -30.6978,       1443,  1398.5,   3.9408,  34.9931,2,  34.9921,2,    269.2,2,   269.2,2,   10.58,2,   15.79,2,    1.05,2,-999.000,9,-999.000,9,  2309.0,2,   7.7242,2,    25.00,   3.8303
29AH20120622,      OVIDE,      65,          1,          3,2,20120713,       0000,    58.7243,   -30.6978,       1443,  1199.7,   3.9767,  34.9909,2,  34.9909,2,    268.5,2,   269.0,2,   10.50,2,   16.05,2,    1.08,2,-999.000,9,-999.000,9,  2307.7,2,   7.7222,2,    25.00,   3.8834
29AH20120622,      OVIDE,      65,          1,          4,2,20120713,       0000,    58.7243,   -30.6978,       1443,  1000.3,   4.3507,  34.9745,2,  34.9728,2,    263.2,2,   263.2,2,   10.26,2,   16.67,2,    1.08,2,-999.000,9,-999.000,9,  2308.2,2,   7.7180,2,    25.00,   4.2715
29AH20120622,      OVIDE,      65,          1,          5,2,20120713,       0000,    58.7243,   -30.6978,       1443,   900.2,   4.7215,  34.9994,2,  34.9989,2,    256.8,2,   257.1,2,   10.00,2,   16.80,2,    1.09,2,-999.000,9,-999.000,9,  2307.1,2,   7.7160,2,    25.00,   4.6483
29AH20120622,      OVIDE,      65,          1,          6,2,20120713,       0000,    58.7243,   -30.6978,       1443,   800.0,   4.8615,  34.9838,2,  34.9814,2,    251.0,2,   251.6,2,   10.23,2,   17.52,2,    1.13,2,-999.000,9,-999.000,9,  2308.0,2,   7.7070,2,    25.00,   4.7962
29AH20120622,      OVIDE,      65,          1,          7,2,20120713,       0000,    58.7243,   -30.6978,       1443,   699.9,   5.3886,  35.0246,2,  35.0249,2,    245.7,2,   247.2,2,    9.95,2,   16.98,2,    1.12,2,-999.000,9,-999.000,9,  -999.0,9,   7.7121,2,    25.00,   5.3291
29AH20120622,      OVIDE,      65,          1,          8,2,20120713,       0000,    58.7243,   -30.6978,       1443,   599.2,   5.6707,  35.0121,2,  35.0119,2,    259.4,2,   259.9,2,    8.93,2,   16.48,2,    1.07,2,-999.000,9,-999.000,9,  2308.1,2,   7.7235,2,    25.00,   5.6189
29AH20120622,      OVIDE,      65,          1,          9,2,20120713,       0000,    58.7243,   -30.6978,       1443,   500.3,   5.8754,  34.9922,2,  34.9967,2,    268.3,2,   274.0,3,    7.80,2,   15.44,2,    1.01,2,-999.000,9,-999.000,9,  -999.0,9,   7.7389,2,    25.00,   5.8318
29AH20120622,      OVIDE,      65,          1,         10,2,20120713,       0000,    58.7243,   -30.6978,       1443,   398.6,   6.3976,  35.0379,2,  35.0366,2,    277.3,2,   277.4,2,    7.33,2,   14.71,2,    0.98,2,-999.000,9,-999.000,9,  2310.5,2,   7.7514,2,    25.00,   6.3615
29AH20120622,      OVIDE,      65,          1,         11,2,20120713,       0000,    58.7243,   -30.6978,       1443,   297.9,   6.6526,  35.0348,2,  35.0337,2,    274.3,2,   274.3,2,    7.34,2,   14.62,2,    1.00,2,-999.000,9,-999.000,9,  -999.0,9,   7.7531,2,    25.00,   6.6253
29AH20120622,      OVIDE,      65,          1,         12,2,20120713,       0000,    58.7243,   -30.6978,       1443,   199.5,   6.9554,  35.0566,2,  35.0558,2,    275.1,2,   274.8,2,    7.01,2,   14.33,2,    0.93,2,-999.000,9,-999.000,9,  2310.8,2,   7.7624,2,    25.00,   6.9368
29AH20120622,      OVIDE,      65,          1,         13,2,20120713,       0000,    58.7243,   -30.6978,       1443,   149.5,   6.7162,  34.9815,2,  34.9797,2,    277.5,2,   279.3,2,    6.66,2,   14.05,2,    0.95,2,-999.000,9,-999.000,9,  -999.0,9,   7.7598,2,    25.00,   6.7026
29AH20120622,      OVIDE,      65,          1,         14,2,20120713,       0000,    58.7243,   -30.6978,       1443,    99.6,   7.0662,  34.9700,2,  34.9685,2,    283.1,2,   280.6,2,    5.73,2,   13.13,2,    0.79,2,-999.000,9,-999.000,9,  2306.9,2,   7.7719,2,    25.00,   7.0569
29AH20120622,      OVIDE,      65,          1,         15,2,20120713,       0000,    58.7243,   -30.6978,       1443,    50.1,   7.7699,  34.8831,2,  34.8839,2,    288.2,2,   288.8,2,    3.69,2,   10.22,2,    0.57,2,-999.000,9,-999.000,9,  2299.9,2,   7.8041,2,    25.00,   7.7650
29AH20120622,      OVIDE,      65,          1,         16,2,20120713,       0000,    58.7243,   -30.6978,       1443,     9.5,  12.0927,  34.8667,2,-999.0000,9,    279.3,2,   282.2,2, -999.00,9, -999.00,9, -999.00,9,-999.000,9,-999.000,9,  -999.0,9,-999.0000,9,  -999.00,  12.0915
29AH20120622,      OVIDE,      65,          1,         17,2,20120713,       0000,    58.7243,   -30.6978,       1443,     9.4,  12.0935,  34.8669,2,-999.0000,9,    279.3,2,  -999.0,9, -999.00,9, -999.00,9, -999.00,9,-999.000,9,-999.000,9,  -999.0,9,-999.0000,9,  -999.00,  12.0923
29AH20120622,      OVIDE,      65,          1,         18,2,20120713,       0000,    58.7243,   -30.6978,       1443,     9.5,  12.0950,  34.8669,2,-999.0000,9,    279.3,2,  -999.0,9, -999.00,9, -999.00,9, -999.00,9,-999.000,9,-999.000,9,  -999.0,9,-999.0000,9,  -999.00,  12.0938
29AH20120622,      OVIDE,      65,          1,         19,2,20120713,       0000,    58.7243,   -30.6978,       1443,     9.5,  12.0976,  34.8671,2,-999.0000,9,    279.3,2,  -999.0,9, -999.00,9, -999.00,9, -999.00,9,-999.000,9,-999.000,9,  -999.0,9,-999.0000,9,  -999.00,  12.0964
29AH20120622,      OVIDE,      65,          1,         20,2,20120713,       0000,    58.7243,   -30.6978,       1443,     9.5,  12.1011,  34.8671,2,-999.0000,9,    279.3,2,  -999.0,9, -999.00,9, -999.00,9, -999.00,9,-999.000,9,-999.000,9,  -999.0,9,-999.0000,9,  -999.00,  12.0999
29AH20120622,      OVIDE,      65,          1,         21,2,20120713,       0000,    58.7243,   -30.6978,       1443,     9.5,  12.1038,  34.8671,2,-999.0000,9,    279.3,2,  -999.0,9, -999.00,9, -999.00,9, -999.00,9,-999.000,9,-999.000,9,  -999.0,9,-999.0000,9,  -999.00,  12.1026
29AH20120622,      OVIDE,      65,          1,         22,2,20120713,       0000,    58.7243,   -30.6978,       1443,     9.5,  12.1048,  34.8670,2,-999.0000,9,    279.3,2,  -999.0,9, -999.00,9, -999.00,9, -999.00,9,-999.000,9,-999.000,9,  -999.0,9,-999.0000,9,  -999.00,  12.1036
29AH20120622,      OVIDE,      65,          1,         23,2,20120713,       0000,    58.7243,   -30.6978,       1443,     9.5,  12.1048,  34.8670,2,-999.0000,9,    279.3,2,  -999.0,9, -999.00,9, -999.00,9, -999.00,9,-999.000,9,-999.000,9,  -999.0,9,-999.0000,9,  -999.00,  12.1036
29AH20120622,      OVIDE,      65,          1,         24,2,20120713,       0000,    58.7243,   -30.6978,       1443,     9.5,  12.1054,  34.8670,2,  34.8681,2,    279.3,2,  -999.0,9,    0.61,2,    4.31,2,    0.19,2,-999.000,9,-999.000,9,  2304.1,2,   7.9165,2,    25.00,  12.1042
29AH20120622,      OVIDE,      66,          1,          1,2,20120713,       0000,    58.8427,   -31.2655,       1342,  1338.5,   3.9440,  34.9916,2,  34.9890,2,    269.2,2,   269.8,2,   10.72,2,   15.91,2,    1.05,2,   3.241,2,   1.679,2,  -999.0,9,   7.7246,2,    25.00,   3.8388
29AH20120622,      OVIDE,      66,          1,          2,2,20120713,       0000,    58.8427,   -31.2655,       1342,  1338.6,   3.9440,  34.9915,2,  34.9898,2,    269.2,2,   270.0,2,   10.75,2,   16.04,2,    1.03,2,-999.000,9,-999.000,9,  -999.0,9,   7.7249,2,    25.00,   3.8388
29AH20120622,      OVIDE,      66,          1,          3,2,20120713,       0000,    58.8427,   -31.2655,       1342,  1200.4,   3.9951,  34.9908,2,  34.9891,2,    268.1,2,   269.2,2,   10.65,2,   16.01,2,    1.05,2,   3.275,2,   1.706,2,  -999.0,9,   7.7233,2,    25.00,   3.9015
29AH20120622,      OVIDE,      66,          1,          4,2,20120713,       0000,    58.8427,   -31.2655,       1342,  1002.2,   4.0384,  34.9509,2,  34.9504,2,    268.8,2,   269.4,2,   10.63,2,   16.67,2,    1.07,2,   3.481,2,   1.812,2,  -999.0,9,   7.7177,2,    25.00,   3.9615
29AH20120622,      OVIDE,      66,          1,          5,2,20120713,       0000,    58.8427,   -31.2655,       1342,   900.4,   4.1276,  34.9369,2,  34.9370,2,    271.9,2,   272.9,2,   10.16,2,   16.76,2,    1.07,2,-999.000,9,-999.000,9,  -999.0,9,   7.7165,2,    25.00,   4.0586
29AH20120622,      OVIDE,      66,          1,          6,2,20120713,       0000,    58.8427,   -31.2655,       1342,   801.4,   4.2411,  34.9361,2,  34.9348,2,    274.8,2,   275.2,2,    9.73,2,   16.51,2,    1.08,2,   3.829,2,   2.043,2,  -999.0,9,   7.7163,2,    25.00,   4.1796
29AH20120622,      OVIDE,      66,          1,          7,2,20120713,       0000,    58.8427,   -31.2655,       1342,   700.1,   4.6020,  34.9694,2,  34.9681,2,    257.8,2,   260.9,2,   10.26,2,   17.18,2,    1.11,2,-999.000,9,-999.000,9,  -999.0,9,   7.7125,2,    25.00,   4.5468
29AH20120622,      OVIDE,      66,          1,          8,2,20120713,       0000,    58.8427,   -31.2655,       1342,   600.9,   4.9861,  34.9802,2,  34.9788,2,    256.1,2,   256.9,2,   10.01,2,   17.15,2,    1.10,2,-999.000,9,-999.000,9,  -999.0,9,   7.7102,2,    25.00,   4.9374
29AH20120622,      OVIDE,      66,          1,          9,2,20120713,       0000,    58.8427,   -31.2655,       1342,   500.8,   5.4664,  34.9992,2,  34.9987,2,    255.9,2,   256.8,2,    9.56,2,   16.96,2,    1.12,2,   3.460,2,   1.875,2,  -999.0,9,   7.7168,2,    25.00,   5.4243
29AH20120622,      OVIDE,      66,          1,         10,2,20120713,       0000,    58.8427,   -31.2655,       1342,   400.6,   6.2098,  35.0590,2,  35.0563,2,    263.5,2,   264.9,2,    8.37,2,   15.87,2,    1.04,2,-999.000,9,-999.000,9,  -999.0,9,   7.7394,2,    25.00,   6.1741
29AH20120622,      OVIDE,      66,          1,         11,2,20120713,       0000,    58.8427,   -31.2655,       1342,   301.9,   6.6035,  35.0887,2,-999.0000,9,    270.4,2,  -999.0,9,    7.70,3,   15.37,3,    1.01,3,-999.000,9,-999.000,9,  -999.0,9,-999.0000,9,  -999.00,   6.5759
29AH20120622,      OVIDE,      66,          1,         12,2,20120713,       0000,    58.8427,   -31.2655,       1342,   200.5,   6.3254,  34.9973,2,  34.9948,2,    279.4,2,   279.2,2,    7.35,2,   14.67,2,    0.97,2,   3.771,2,   2.119,2,  -999.0,9,   7.7484,2,    25.00,   6.3076
29AH20120622,      OVIDE,      66,          1,         13,2,20120713,       0000,    58.8427,   -31.2655,       1342,   151.0,   6.4233,  34.9793,2,  34.9768,2,    279.5,2,   281.8,2,    6.89,2,   14.38,2,    0.92,2,-999.000,9,-999.000,9,  -999.0,9,   7.7529,2,    25.00,   6.4099
29AH20120622,      OVIDE,      66,          1,         14,2,20120713,       0000,    58.8427,   -31.2655,       1342,   100.2,   6.4413,  34.9187,2,  34.9190,2,    284.6,2,   285.0,2,    6.10,2,   13.78,2,    0.82,2,-999.000,9,-999.000,9,  -999.0,9,   7.7592,2,    25.00,   6.4324
29AH20120622,      OVIDE,      66,          1,         15,2,20120713,       0000,    58.8427,   -31.2655,       1342,    50.9,   7.7375,  34.8770,2,  34.8759,2,    295.5,2,   294.2,2,    3.26,2,    9.43,2,    0.52,2,-999.000,9,-999.000,9,  -999.0,9,   7.8096,2,    25.00,   7.7325
29AH20120622,      OVIDE,      66,          1,         16,2,20120713,       0000,    58.8427,   -31.2655,       1342,     5.4,  12.3142,  34.8562,2,-999.0000,9,    282.3,2,  -999.0,9, -999.00,9, -999.00,9, -999.00,9,   3.211,2,   1.859,2,  -999.0,9,-999.0000,9,  -999.00,  12.3135
29AH20120622,      OVIDE,      66,          1,         17,2,20120713,       0000,    58.8427,   -31.2655,       1342,     5.4,  12.3135,  34.8561,2,-999.0000,9,    282.3,2,  -999.0,9, -999.00,9, -999.00,9, -999.00,9,-999.000,9,-999.000,9,  -999.0,9,-999.0000,9,  -999.00,  12.3128
29AH20120622,      OVIDE,      66,          1,         18,2,20120713,       0000,    58.8427,   -31.2655,       1342,     5.3,  12.3134,  34.8561,2,-999.0000,9,    282.3,2,  -999.0,9, -999.00,9, -999.00,9, -999.00,9,-999.000,9,-999.000,9,  -999.0,9,-999.0000,9,  -999.00,  12.3127
29AH20120622,      OVIDE,      66,          1,         19,2,20120713,       0000,    58.8427,   -31.2655,       1342,     5.5,  12.3135,  34.8559,2,-999.0000,9,    282.3,2,  -999.0,9, -999.00,9, -999.00,9, -999.00,9,-999.000,9,-999.000,9,  -999.0,9,-999.0000,9,  -999.00,  12.3128
29AH20120622,      OVIDE,      66,          1,         20,2,20120713,       0000,    58.8427,   -31.2655,       1342,     5.3,  12.3129,  34.8560,2,-999.0000,9,    282.3,2,  -999.0,9, -999.00,9, -999.00,9, -999.00,9,-999.000,9,-999.000,9,  -999.0,9,-999.0000,9,  -999.00,  12.3122
29AH20120622,      OVIDE,      66,          1,         21,2,20120713,       0000,    58.8427,   -31.2655,       1342,     5.3,  12.3129,  34.8560,2,-999.0000,9,    282.3,2,  -999.0,9, -999.00,9, -999.00,9, -999.00,9,-999.000,9,-999.000,9,  -999.0,9,-999.0000,9,  -999.00,  12.3122
29AH20120622,      OVIDE,      66,          1,         22,2,20120713,       0000,    58.8427,   -31.2655,       1342,     5.4,  12.3137,  34.8559,2,-999.0000,9,    282.3,2,  -999.0,9, -999.00,9, -999.00,9, -999.00,9,-999.000,9,-999.000,9,  -999.0,9,-999.0000,9,  -999.00,  12.3130
29AH20120622,      OVIDE,      66,          1,         23,2,20120713,       0000,    58.8427,   -31.2655,       1342,     5.4,  12.3147,  34.8558,2,-999.0000,9,    282.3,2,  -999.0,9, -999.00,9, -999.00,9, -999.00,9,-999.000,9,-999.000,9,  -999.0,9,-999.0000,9,  -999.00,  12.3140
29AH20120622,      OVIDE,      66,          1,         24,2,20120713,       0000,    58.8427,   -31.2655,       1342,     5.4,  12.3160,  34.8560,2,  34.8557,2,    282.3,2,   281.7,2,    0.82,2,    4.04,2,    0.16,2,-999.000,9,-999.000,9,  -999.0,9,   7.9206,2,    25.00,  12.3153