BOTTLE,20151116SIOCCHCBG
EXPOCODE,SECT_ID,STNNBR,CASTNO,BTLNBR,BTLNBR_FLAG_W,DATE,TIME,LATITUDE,LONGITUDE,DEPTH,CTDPRS,CTDTMP,CTDSAL,CTDSAL_FLAG_W,SALNTY,SALNTY_FLAG_W,CTDOXY,CTDOXY_FLAG_W,OXYGEN,OXYGEN_FLAG_W,SILCAT,SILCAT_FLAG_W,NITRAT,NITRAT_FLAG_W,PHSPHT,PHSPHT_FLAG_W,CFC-11,CFC-11_FLAG_W,CFC-12,CFC-12_FLAG_W,ALKALI,ALKALI_FLAG_W,PH_TOT,PH_TOT_FLAG_W,PH_TMP,THETA
,,,,,,,,,,METERS,DBAR,ITS-90,PSS-78,,PSS-78,,UMOL/KG,,UMOL/KG,,UMOL/KG,,UMOL/KG,,UMOL/KG,,PMOL/KG,,PMOL/KG,,UMOL/KG,,,,DEG C,DEG C
29AH20120622,      OVIDE,      55,          1,          1,2,20120710,       0000,    55.8826,   -26.9985,       2882,  2912.6,   2.7869,  34.9889,2,  34.9869,2,    271.7,2,   271.6,2,   15.82,2,   15.81,2,    1.04,2,-999.000,9,-999.000,9,  2314.5,2,   7.7200,2,    25.00,   2.5495
29AH20120622,      OVIDE,      55,          1,          2,2,20120710,       0000,    55.8826,   -26.9985,       2882,  2500.0,   3.0621,  34.9650,2,  34.9631,2,    270.8,2,   271.5,2,   14.52,2,   16.10,2,    1.06,2,-999.000,9,-999.000,9,  2312.3,2,   7.7305,2,    25.00,   2.8609
29AH20120622,      OVIDE,      55,          1,          3,2,20120710,       0000,    55.8826,   -26.9985,       2882,  2249.3,   3.2794,  34.9518,2,  34.9516,2,    273.2,2,   273.5,2,   12.41,2,   15.96,2,    1.06,2,-999.000,9,-999.000,9,  2308.0,2,   7.7304,2,    25.00,   3.0989
29AH20120622,      OVIDE,      55,          1,          4,2,20120710,       0000,    55.8826,   -26.9985,       2882,  1998.5,   3.3684,  34.9259,2,  34.9245,2,    273.7,2,   274.2,2,   12.21,2,   16.38,2,    1.08,2,-999.000,9,-999.000,9,  2306.2,2,   7.7286,2,    25.00,   3.2105
29AH20120622,      OVIDE,      55,          1,          5,2,20120710,       0000,    55.8826,   -26.9985,       2882,  1998.5,   3.3684,  34.9260,2,  34.9242,2,    273.7,2,  -999.0,9,   12.53,2,   16.44,2,    1.07,2,-999.000,9,-999.000,9,  2304.6,2,   7.7289,2,    25.00,   3.2105
29AH20120622,      OVIDE,      55,          1,          6,2,20120710,       0000,    55.8826,   -26.9985,       2882,  1799.5,   3.5187,  34.9220,2,  34.9203,2,    272.4,2,   272.4,2,   12.36,2,   16.81,2,    1.07,2,-999.000,9,-999.000,9,  2305.1,2,   7.7258,2,    25.00,   3.3772
29AH20120622,      OVIDE,      55,          1,          7,2,20120710,       0000,    55.8826,   -26.9985,       2882,  1599.0,   3.6521,  34.9178,2,  34.9166,2,    271.7,2,   271.6,2,   11.90,2,   17.00,2,    1.08,2,-999.000,9,-999.000,9,  2303.4,2,   7.7236,2,    25.00,   3.5271
29AH20120622,      OVIDE,      55,          1,          8,2,20120710,       0000,    55.8826,   -26.9985,       2882,  1398.2,   3.7543,  34.9124,2,  34.9124,2,    272.7,2,   271.7,2,   11.36,2,   16.84,2,    1.07,2,-999.000,9,-999.000,9,  2302.9,2,   7.7193,2,    25.00,   3.6460
29AH20120622,      OVIDE,      55,          1,          9,2,20120710,       0000,    55.8826,   -26.9985,       2882,  1199.4,   3.8800,  34.9108,2,  34.9110,2,    272.5,2,   272.7,2,   10.94,2,   16.84,2,    1.07,2,-999.000,9,-999.000,9,  2303.4,2,   7.7163,2,    25.00,   3.7877
29AH20120622,      OVIDE,      55,          1,         10,2,20120710,       0000,    55.8826,   -26.9985,       2882,   999.5,   4.1260,  34.9228,2,  34.9223,2,    268.9,2,   267.9,2,   10.77,2,   16.98,2,    1.10,2,-999.000,9,-999.000,9,  2304.6,2,   7.7115,2,    25.00,   4.0487
29AH20120622,      OVIDE,      55,          1,         11,2,20120710,       0000,    55.8826,   -26.9985,       2882,   899.7,   4.2879,  34.9311,2,  34.9293,2,    265.1,2,   263.6,2,   10.74,2,   16.99,2,    1.14,2,-999.000,9,-999.000,9,  2304.2,2,   7.7107,2,    25.00,   4.2179
29AH20120622,      OVIDE,      55,          1,         12,2,20120710,       0000,    55.8826,   -26.9985,       2882,   799.7,   4.4926,  34.9427,2,  34.9415,2,    259.5,2,   258.3,2,   10.80,2,   17.24,2,    1.11,2,-999.000,9,-999.000,9,  2303.6,2,   7.7073,2,    25.00,   4.4297
29AH20120622,      OVIDE,      55,          1,         13,2,20120710,       0000,    55.8826,   -26.9985,       2882,   699.4,   4.8757,  34.9661,2,  34.9653,2,    250.1,2,   245.9,3,   11.04,2,   17.73,2,    1.15,2,-999.000,9,-999.000,9,  2305.1,2,   7.7029,2,    25.00,   4.8191
29AH20120622,      OVIDE,      55,          1,         14,2,20120710,       0000,    55.8826,   -26.9985,       2882,   599.6,   5.3282,  34.9867,2,  34.9829,2,    238.5,2,   236.9,2,   11.17,2,   18.10,2,    1.16,2,-999.000,9,-999.000,9,  2308.3,2,   7.6979,2,    25.00,   5.2780
29AH20120622,      OVIDE,      55,          1,         15,2,20120710,       0000,    55.8826,   -26.9985,       2882,   499.8,   6.1265,  35.0314,2,  35.0255,4,    229.3,2,   229.1,2,   10.82,2,   17.95,2,    1.14,2,-999.000,9,-999.000,9,  2310.0,2,   7.7061,2,    25.00,   6.0819
29AH20120622,      OVIDE,      55,          1,         16,2,20120710,       0000,    55.8826,   -26.9985,       2882,   399.6,   6.8177,  35.0670,2,  35.0648,2,    258.7,2,   260.4,2,    8.26,2,   14.97,2,    0.98,2,-999.000,9,-999.000,9,  2311.4,2,   7.7502,2,    25.00,   6.7802
29AH20120622,      OVIDE,      55,          1,         17,2,20120710,       0000,    55.8826,   -26.9985,       2882,   299.5,   6.5746,  34.9666,2,  34.9674,2,    273.2,2,   266.1,3,    8.16,2,   14.70,2,    0.96,2,-999.000,9,-999.000,9,  2304.7,2,   7.7438,2,    25.00,   6.5473
29AH20120622,      OVIDE,      55,          1,         18,2,20120710,       0000,    55.8826,   -26.9985,       2882,   200.3,   6.8827,  34.9425,2,  34.9420,2,    266.2,2,   268.9,2,    7.47,2,   14.10,2,    0.91,2,-999.000,9,-999.000,9,  2304.0,2,   7.7528,2,    25.00,   6.8641
29AH20120622,      OVIDE,      55,          1,         19,2,20120710,       0000,    55.8826,   -26.9985,       2882,   150.0,   7.1610,  34.9038,2,  34.9157,4,    264.3,2,   262.4,2,    6.96,2,   13.68,2,    0.85,2,-999.000,9,-999.000,9,  2302.6,2,   7.7549,2,    25.00,   7.1468
29AH20120622,      OVIDE,      55,          1,         20,2,20120710,       0000,    55.8826,   -26.9985,       2882,    99.8,   7.5485,  34.8606,2,  34.8586,2,    263.5,2,   264.1,2,    6.13,2,   12.91,2,    0.70,2,-999.000,9,-999.000,9,  2300.2,2,   7.7627,2,    25.00,   7.5388
29AH20120622,      OVIDE,      55,          1,         21,2,20120710,       0000,    55.8826,   -26.9985,       2882,    30.2,  11.8683,  34.8427,2,  34.8440,2,    281.4,2,   280.6,2,    0.79,2,    3.37,2,    0.09,2,-999.000,9,-999.000,9,  2302.9,2,   7.9115,2,    25.00,  11.8644
29AH20120622,      OVIDE,      55,          1,         22,2,20120710,       0000,    55.8826,   -26.9985,       2882,     6.4,  13.6196,  34.8711,2,  34.8655,4,    276.9,2,   275.5,2,    0.23,2,    1.38,2,    0.00,2,-999.000,9,-999.000,9,  2306.9,2,   7.9525,2,    25.00,  13.6187
29AH20120622,      OVIDE,      55,          1,         23,2,20120710,       0000,    55.8826,   -26.9985,       2882,     6.3,  13.6245,  34.8716,2,-999.0000,9,    276.9,2,  -999.0,9, -999.00,9, -999.00,9, -999.00,9,-999.000,9,-999.000,9,  -999.0,9,-999.0000,9,  -999.00,  13.6236
29AH20120622,      OVIDE,      56,          1,          1,2,20120710,       0000,    56.2520,   -27.2924,       2746,  2769.7,   2.8085,  34.9853,2,  34.9874,2,    270.6,2,   271.0,2,   16.45,2,   16.08,2,    1.07,2,   2.718,2,   1.435,2,  -999.0,9,   7.7216,2,    25.00,   2.5852
29AH20120622,      OVIDE,      56,          1,          2,2,20120710,       0000,    56.2520,   -27.2924,       2746,  2497.3,   2.9277,  34.9692,2,  34.9714,2,    268.8,2,   269.2,2,   16.81,2,   16.59,2,    1.06,2,-999.000,9,-999.000,9,  -999.0,9,   7.7270,2,    25.00,   2.7292
29AH20120622,      OVIDE,      56,          1,          3,2,20120710,       0000,    56.2520,   -27.2924,       2746,  2214.8,   3.1707,  34.9546,2,  34.9546,2,    272.7,2,   272.6,2,   13.54,2,   16.43,2,    1.06,2,   2.645,2,   1.339,2,  -999.0,9,   7.7304,2,    25.00,   2.9953
29AH20120622,      OVIDE,      56,          1,          4,2,20120710,       0000,    56.2520,   -27.2924,       2746,  2002.6,   3.3079,  34.9350,2,  34.9371,2,    273.9,2,   274.2,2,   12.46,2,   16.60,2,    1.06,2,   2.772,2,   1.404,2,  -999.0,9,   7.7294,2,    25.00,   3.1505
29AH20120622,      OVIDE,      56,          1,          5,2,20120710,       0000,    56.2520,   -27.2924,       2746,  1801.1,   3.4963,  34.9363,2,  34.9381,2,    272.9,2,   272.9,2,   11.84,2,   16.84,2,    1.08,2,-999.000,9,-999.000,9,  -999.0,9,   7.7288,2,    25.00,   3.3549
29AH20120622,      OVIDE,      56,          1,          6,2,20120710,       0000,    56.2520,   -27.2924,       2746,  1801.1,   3.4967,  34.9363,2,  34.9354,2,    272.9,2,   273.3,2,   11.76,2,   16.68,2,    1.07,2,-999.000,9,-999.000,9,  -999.0,9,   7.7265,2,    25.00,   3.3553
29AH20120622,      OVIDE,      56,          1,          7,2,20120710,       0000,    56.2520,   -27.2924,       2746,  1602.1,   3.6035,  34.9221,2,  34.9232,2,    271.7,2,   272.0,2,   11.65,2,   16.96,2,    1.10,2,   3.107,2,   1.561,2,  -999.0,9,-999.0000,9,  -999.00,   3.4788
29AH20120622,      OVIDE,      56,          1,          8,2,20120710,       0000,    56.2520,   -27.2924,       2746,  1399.9,   3.7199,  34.9135,2,  34.9174,2,    272.6,2,   271.6,2,   11.16,2,   17.05,2,    1.10,2,   3.452,2,   1.777,2,  -999.0,9,   7.7190,2,    25.00,   3.6118
29AH20120622,      OVIDE,      56,          1,          9,2,20120710,       0000,    56.2520,   -27.2924,       2746,  1201.4,   3.8107,  34.9072,2,  34.9141,4,    273.7,2,   273.0,2,   10.60,2,   17.00,2,    1.09,2,   3.685,2,   1.952,2,  -999.0,9,   7.7190,2,    25.00,   3.7189
29AH20120622,      OVIDE,      56,          1,         10,2,20120710,       0000,    56.2520,   -27.2924,       2746,  1000.6,   3.9904,  34.9132,2,  34.9176,2,    272.2,2,   270.7,2,   10.38,2,   17.10,2,    1.10,2,-999.000,9,-999.000,9,  -999.0,9,   7.7143,2,    25.00,   3.9141
29AH20120622,      OVIDE,      56,          1,         11,2,20120710,       0000,    56.2520,   -27.2924,       2746,   899.8,   4.1135,  34.9186,2,  34.9184,2,    271.2,2,   270.0,2,   10.21,2,   17.05,2,    1.10,2,   3.778,6,   2.034,6,  -999.0,9,   7.7113,2,    25.00,   4.0447
29AH20120622,      OVIDE,      56,          1,         12,2,20120710,       0000,    56.2520,   -27.2924,       2746,   800.3,   4.2601,  34.9257,2,  34.9277,2,    265.8,2,   266.4,2,   10.22,2,   17.22,2,    1.08,2,-999.000,9,-999.000,9,  -999.0,9,   7.7098,2,    25.00,   4.1986
29AH20120622,      OVIDE,      56,          1,         13,2,20120710,       0000,    56.2520,   -27.2924,       2746,   700.5,   4.4745,  34.9353,2,  34.9355,2,    260.0,2,   260.7,2,   10.28,2,   17.49,2,    1.08,2,-999.000,9,-999.000,9,  -999.0,9,   7.7052,2,    25.00,   4.4200
29AH20120622,      OVIDE,      56,          1,         14,2,20120710,       0000,    56.2520,   -27.2924,       2746,   600.2,   4.7954,  34.9507,2,  34.9341,4,    248.9,2,   250.0,2,   10.55,2,   17.90,2,    1.08,2,   3.484,2,   1.884,2,  -999.0,9,   7.7006,2,    25.00,   4.7476
29AH20120622,      OVIDE,      56,          1,         15,2,20120710,       0000,    56.2520,   -27.2924,       2746,   500.0,   5.3231,  34.9597,2,  34.9603,2,    238.1,2,   237.8,2,   10.46,2,   18.29,2,    1.13,2,-999.000,9,-999.000,9,  -999.0,9,   7.6964,2,    25.00,   5.2816
29AH20120622,      OVIDE,      56,          1,         16,2,20120710,       0000,    56.2520,   -27.2924,       2746,   403.6,   6.1672,  35.0092,2,  35.0111,2,    253.3,2,   256.0,2,    8.82,2,   16.68,2,    1.04,2,-999.000,9,-999.000,9,  -999.0,9,   7.7297,2,    25.00,   6.1314
29AH20120622,      OVIDE,      56,          1,         17,2,20120710,       0000,    56.2520,   -27.2924,       2746,   301.0,   6.2449,  34.9398,2,  34.9474,4,    268.3,2,   266.1,2,    7.95,2,   15.61,2,    0.96,2,   3.602,2,   2.029,2,  -999.0,9,   7.7373,2,    25.00,   6.2182
29AH20120622,      OVIDE,      56,          1,         18,2,20120710,       0000,    56.2520,   -27.2924,       2746,   200.6,   6.4787,  34.8946,2,  34.8946,2,    275.5,2,   277.2,2,    7.44,2,   14.45,2,    0.88,2,-999.000,9,-999.000,9,  -999.0,9,   7.7486,2,    25.00,   6.4607
29AH20120622,      OVIDE,      56,          1,         19,2,20120710,       0000,    56.2520,   -27.2924,       2746,   121.1,   6.8939,  34.8696,2,  34.8717,2,    276.5,2,   272.8,4,    6.08,2,   13.64,2,    0.81,2,-999.000,9,-999.000,9,  -999.0,9,   7.7603,2,    25.00,   6.8827
29AH20120622,      OVIDE,      56,          1,         20,2,20120710,       0000,    56.2520,   -27.2924,       2746,   101.2,   7.4823,  34.9292,2,  34.9418,4,    267.0,2,   268.9,2,    5.75,2,   13.22,2,    0.74,2,-999.000,9,-999.000,9,  -999.0,9,   7.7713,2,    25.00,   7.4725
29AH20120622,      OVIDE,      56,          1,         21,2,20120710,       0000,    56.2520,   -27.2924,       2746,    50.6,   9.1883,  34.9086,2,  34.9034,4,    284.0,2,   283.8,2,    2.88,2,    7.62,2,    0.39,2,-999.000,9,-999.000,9,  -999.0,9,   7.8338,2,    25.00,   9.1828
29AH20120622,      OVIDE,      56,          1,         22,2,20120710,       0000,    56.2520,   -27.2924,       2746,     5.4,  13.3754,  34.8262,2,-999.0000,9,    273.4,2,   275.2,2, -999.00,9, -999.00,9, -999.00,9,   3.035,2,   1.786,2,  -999.0,9,-999.0000,9,  -999.00,  13.3746
29AH20120622,      OVIDE,      56,          1,         23,2,20120710,       0000,    56.2520,   -27.2924,       2746,     5.5,  13.3767,  34.8262,2,-999.0000,9,    273.4,2,   275.2,2, -999.00,9, -999.00,9, -999.00,9,-999.000,9,-999.000,9,  -999.0,9,-999.0000,9,  -999.00,  13.3759
29AH20120622,      OVIDE,      56,          1,         24,2,20120710,       0000,    56.2520,   -27.2924,       2746,     5.5,  13.3743,  34.8263,2,  34.8271,2,    273.4,2,   274.4,2,    0.42,2,    2.52,2,    0.08,2,-999.000,9,-999.000,9,  -999.0,9,   7.9399,2,    25.00,  13.3735