BOTTLE,20151116SIOCCHCBG
EXPOCODE,SECT_ID,STNNBR,CASTNO,BTLNBR,BTLNBR_FLAG_W,DATE,TIME,LATITUDE,LONGITUDE,DEPTH,CTDPRS,CTDTMP,CTDSAL,CTDSAL_FLAG_W,SALNTY,SALNTY_FLAG_W,CTDOXY,CTDOXY_FLAG_W,OXYGEN,OXYGEN_FLAG_W,SILCAT,SILCAT_FLAG_W,NITRAT,NITRAT_FLAG_W,PHSPHT,PHSPHT_FLAG_W,CFC-11,CFC-11_FLAG_W,CFC-12,CFC-12_FLAG_W,ALKALI,ALKALI_FLAG_W,PH_TOT,PH_TOT_FLAG_W,PH_TMP,THETA
,,,,,,,,,,METERS,DBAR,ITS-90,PSS-78,,PSS-78,,UMOL/KG,,UMOL/KG,,UMOL/KG,,UMOL/KG,,UMOL/KG,,PMOL/KG,,PMOL/KG,,UMOL/KG,,,,DEG C,DEG C
29AH20120622,      OVIDE,      95,          1,          1,2,20120717,       0000,    59.8461,   -42.6155,        200,   188.5,   2.4989,  34.3903,2,  34.3483,4,    313.1,2,   312.0,2,    5.77,2,   10.94,2,    0.67,2,-999.000,9,-999.000,9,  2276.3,2,   7.7454,2,    25.00,   2.4881
29AH20120622,      OVIDE,      95,          1,          2,2,20120717,       0000,    59.8461,   -42.6155,        200,   188.6,   2.5016,  34.3907,2,-999.0000,9,    313.0,2,  -999.0,9, -999.00,9, -999.00,9, -999.00,9,-999.000,9,-999.000,9,  -999.0,9,-999.0000,9,  -999.00,   2.4908
29AH20120622,      OVIDE,      95,          1,          3,2,20120717,       0000,    59.8461,   -42.6155,        200,   150.4,   3.2065,  34.2567,2,  34.2659,4,    316.1,2,   318.4,2,    3.92,2,    8.40,2,    0.55,2,-999.000,9,-999.000,9,  -999.0,9,   7.7865,2,    25.00,   3.1971
29AH20120622,      OVIDE,      95,          1,          4,2,20120717,       0000,    59.8461,   -42.6155,        200,   150.4,   3.2234,  34.2588,2,-999.0000,9,    316.1,2,  -999.0,9, -999.00,9, -999.00,9, -999.00,9,-999.000,9,-999.000,9,  -999.0,9,-999.0000,9,  -999.00,   3.2140
29AH20120622,      OVIDE,      95,          1,          5,2,20120717,       0000,    59.8461,   -42.6155,        200,   100.0,   3.7737,  34.2520,2,  34.2555,2,    314.5,2,   317.6,2,    3.18,2,    7.37,2,    0.48,2,-999.000,9,-999.000,9,  2273.4,2,   7.8017,2,    25.00,   3.7670
29AH20120622,      OVIDE,      95,          1,          6,2,20120717,       0000,    59.8461,   -42.6155,        200,   100.0,   3.7825,  34.2532,2,-999.0000,9,    314.5,2,  -999.0,9, -999.00,9, -999.00,9, -999.00,9,-999.000,9,-999.000,9,  -999.0,9,-999.0000,9,  -999.00,   3.7758
29AH20120622,      OVIDE,      95,          1,          7,2,20120717,       0000,    59.8461,   -42.6155,        200,    50.1,  -0.6557,  33.5500,2,  33.5526,2,    341.9,2,   338.1,2,    5.04,2,    8.15,2,    0.61,2,-999.000,9,-999.000,9,  -999.0,9,   7.7246,2,    25.00,  -0.6571
29AH20120622,      OVIDE,      95,          1,          8,2,20120717,       0000,    59.8461,   -42.6155,        200,    50.0,  -0.6555,  33.5495,2,-999.0000,9,    342.0,2,  -999.0,9, -999.00,9, -999.00,9, -999.00,9,-999.000,9,-999.000,9,  -999.0,9,-999.0000,9,  -999.00,  -0.6569
29AH20120622,      OVIDE,      95,          1,          9,2,20120717,       0000,    59.8461,   -42.6155,        200,     5.6,   1.9158,  31.8208,2,-999.0000,9,    399.6,2,  -999.0,9, -999.00,9, -999.00,9, -999.00,9,-999.000,9,-999.000,9,  -999.0,9,-999.0000,9,  -999.00,   1.9155
29AH20120622,      OVIDE,      95,          1,         10,2,20120717,       0000,    59.8461,   -42.6155,        200,     5.5,   1.9333,  31.8159,2,-999.0000,9,    399.7,2,  -999.0,9, -999.00,9, -999.00,9, -999.00,9,-999.000,9,-999.000,9,  -999.0,9,-999.0000,9,  -999.00,   1.9330
29AH20120622,      OVIDE,      95,          1,         11,2,20120717,       0000,    59.8461,   -42.6155,        200,     5.6,   1.9359,  31.8102,2,-999.0000,9,    399.6,2,  -999.0,9, -999.00,9, -999.00,9, -999.00,9,-999.000,9,-999.000,9,  -999.0,9,-999.0000,9,  -999.00,   1.9356
29AH20120622,      OVIDE,      95,          1,         12,2,20120717,       0000,    59.8461,   -42.6155,        200,     5.5,   1.9581,  31.8069,2,-999.0000,9,    399.7,2,  -999.0,9, -999.00,9, -999.00,9, -999.00,9,-999.000,9,-999.000,9,  -999.0,9,-999.0000,9,  -999.00,   1.9578
29AH20120622,      OVIDE,      95,          1,         13,2,20120717,       0000,    59.8461,   -42.6155,        200,     5.6,   1.9556,  31.8017,2,-999.0000,9,    399.6,2,  -999.0,9, -999.00,9, -999.00,9, -999.00,9,-999.000,9,-999.000,9,  -999.0,9,-999.0000,9,  -999.00,   1.9553
29AH20120622,      OVIDE,      95,          1,         14,2,20120717,       0000,    59.8461,   -42.6155,        200,     5.6,   1.9688,  31.8039,2,-999.0000,9,    399.6,2,  -999.0,9, -999.00,9, -999.00,9, -999.00,9,-999.000,9,-999.000,9,  -999.0,9,-999.0000,9,  -999.00,   1.9685
29AH20120622,      OVIDE,      95,          1,         15,2,20120717,       0000,    59.8461,   -42.6155,        200,     5.5,   1.9840,  31.8013,2,-999.0000,9,    399.7,2,  -999.0,9, -999.00,9, -999.00,9, -999.00,9,-999.000,9,-999.000,9,  -999.0,9,-999.0000,9,  -999.00,   1.9837
29AH20120622,      OVIDE,      95,          1,         16,2,20120717,       0000,    59.8461,   -42.6155,        200,     5.5,   1.9970,  31.8029,2,-999.0000,9,    399.7,2,  -999.0,9, -999.00,9, -999.00,9, -999.00,9,-999.000,9,-999.000,9,  -999.0,9,-999.0000,9,  -999.00,   1.9967
29AH20120622,      OVIDE,      95,          1,         17,2,20120717,       0000,    59.8461,   -42.6155,        200,     5.5,   2.0014,  31.8013,2,-999.0000,9,    399.7,2,  -999.0,9, -999.00,9, -999.00,9, -999.00,9,-999.000,9,-999.000,9,  -999.0,9,-999.0000,9,  -999.00,   2.0011
29AH20120622,      OVIDE,      95,          1,         18,2,20120717,       0000,    59.8461,   -42.6155,        200,     5.6,   1.9923,  31.8034,2,-999.0000,9,    399.6,2,  -999.0,9, -999.00,9, -999.00,9, -999.00,9,-999.000,9,-999.000,9,  -999.0,9,-999.0000,9,  -999.00,   1.9920
29AH20120622,      OVIDE,      95,          1,         19,2,20120717,       0000,    59.8461,   -42.6155,        200,     5.5,   2.0075,  31.8015,2,-999.0000,9,    399.7,2,  -999.0,9, -999.00,9, -999.00,9, -999.00,9,-999.000,9,-999.000,9,  -999.0,9,-999.0000,9,  -999.00,   2.0072
29AH20120622,      OVIDE,      95,          1,         20,2,20120717,       0000,    59.8461,   -42.6155,        200,     5.6,   1.9982,  31.8045,2,-999.0000,9,    399.6,2,  -999.0,9, -999.00,9, -999.00,9, -999.00,9,-999.000,9,-999.000,9,  -999.0,9,-999.0000,9,  -999.00,   1.9979
29AH20120622,      OVIDE,      95,          1,         21,2,20120717,       0000,    59.8461,   -42.6155,        200,     5.5,   2.0087,  31.8045,2,-999.0000,9,    399.7,2,  -999.0,9, -999.00,9, -999.00,9, -999.00,9,-999.000,9,-999.000,9,  -999.0,9,-999.0000,9,  -999.00,   2.0084
29AH20120622,      OVIDE,      95,          1,         22,2,20120717,       0000,    59.8461,   -42.6155,        200,     5.5,   1.9991,  31.8038,2,-999.0000,9,    399.7,2,  -999.0,9, -999.00,9, -999.00,9, -999.00,9,-999.000,9,-999.000,9,  -999.0,9,-999.0000,9,  -999.00,   1.9988
29AH20120622,      OVIDE,      95,          1,         23,2,20120717,       0000,    59.8461,   -42.6155,        200,     5.6,   1.9900,  31.8046,2,-999.0000,9,    399.6,2,  -999.0,9, -999.00,9, -999.00,9, -999.00,9,-999.000,9,-999.000,9,  -999.0,9,-999.0000,9,  -999.00,   1.9897
29AH20120622,      OVIDE,      95,          1,         24,2,20120717,       0000,    59.8461,   -42.6155,        200,     5.5,   2.0057,  31.8004,2,  31.7938,4,    399.7,2,   410.4,3,    0.27,2,    0.14,2,    0.06,2,-999.000,9,-999.000,9,  2153.2,2,   7.9320,2,    25.00,   2.0054
29AH20120622,      OVIDE,     101,          1,          1,2,20120718,       0000,    59.7973,   -45.0297,        200,   120.9,   1.5625,  33.8743,2,  33.8584,4,    328.3,2,   326.4,2,    4.68,2,    7.46,2,    0.56,2,-999.000,9,-999.000,9,  2253.1,2,   7.7598,2,    25.00,   1.5567
29AH20120622,      OVIDE,     101,          1,          2,2,20120718,       0000,    59.7973,   -45.0297,        200,   120.9,   1.5594,  33.8738,2,-999.0000,9,    328.3,2,  -999.0,9, -999.00,9, -999.00,9, -999.00,9,-999.000,9,-999.000,9,  -999.0,9,-999.0000,9,  -999.00,   1.5536
29AH20120622,      OVIDE,     101,          1,          3,2,20120718,       0000,    59.7973,   -45.0297,        200,    99.7,   0.3999,  33.3225,2,  33.3192,2,    344.4,2,   343.3,2,    3.00,2,    5.33,2,    0.52,2,-999.000,9,-999.000,9,  2229.6,2,   7.7562,2,    25.00,   0.3962
29AH20120622,      OVIDE,     101,          1,          4,2,20120718,       0000,    59.7973,   -45.0297,        200,    99.7,   0.3990,  33.3212,2,-999.0000,9,    344.4,2,  -999.0,9, -999.00,9, -999.00,9, -999.00,9,-999.000,9,-999.000,9,  -999.0,9,-999.0000,9,  -999.00,   0.3953
29AH20120622,      OVIDE,     101,          1,          5,2,20120718,       0000,    59.7973,   -45.0297,        200,    80.5,  -0.3161,  32.9571,2,  32.9474,4,    359.8,2,   355.4,3,    2.13,2,    3.77,2,    0.45,2,-999.000,9,-999.000,9,  -999.0,9,   7.7641,2,    25.00,  -0.3185
29AH20120622,      OVIDE,     101,          1,          6,2,20120718,       0000,    59.7973,   -45.0297,        200,    80.5,  -0.3167,  32.9569,2,-999.0000,9,    359.8,2,  -999.0,9, -999.00,9, -999.00,9, -999.00,9,-999.000,9,-999.000,9,  -999.0,9,-999.0000,9,  -999.00,  -0.3191
29AH20120622,      OVIDE,     101,          1,          7,2,20120718,       0000,    59.7973,   -45.0297,        200,     6.1,   2.4236,  31.0532,2,-999.0000,9,    377.6,2,  -999.0,9, -999.00,9, -999.00,9, -999.00,9,-999.000,9,-999.000,9,  -999.0,9,-999.0000,9,  -999.00,   2.4233
29AH20120622,      OVIDE,     101,          1,          8,2,20120718,       0000,    59.7973,   -45.0297,        200,     6.1,   2.4199,  31.0538,2,-999.0000,9,    377.6,2,  -999.0,9, -999.00,9, -999.00,9, -999.00,9,-999.000,9,-999.000,9,  -999.0,9,-999.0000,9,  -999.00,   2.4196
29AH20120622,      OVIDE,     101,          1,          9,2,20120718,       0000,    59.7973,   -45.0297,        200,     6.1,   2.4190,  31.0538,2,-999.0000,9,    377.6,2,  -999.0,9, -999.00,9, -999.00,9, -999.00,9,-999.000,9,-999.000,9,  -999.0,9,-999.0000,9,  -999.00,   2.4187
29AH20120622,      OVIDE,     101,          1,         10,2,20120718,       0000,    59.7973,   -45.0297,        200,     6.1,   2.4193,  31.0543,2,-999.0000,9,    377.6,2,  -999.0,9, -999.00,9, -999.00,9, -999.00,9,-999.000,9,-999.000,9,  -999.0,9,-999.0000,9,  -999.00,   2.4190
29AH20120622,      OVIDE,     101,          1,         11,2,20120718,       0000,    59.7973,   -45.0297,        200,     6.1,   2.4223,  31.0543,2,-999.0000,9,    377.6,2,  -999.0,9, -999.00,9, -999.00,9, -999.00,9,-999.000,9,-999.000,9,  -999.0,9,-999.0000,9,  -999.00,   2.4220
29AH20120622,      OVIDE,     101,          1,         12,2,20120718,       0000,    59.7973,   -45.0297,        200,     6.1,   2.4317,  31.0544,2,-999.0000,9,    377.6,2,  -999.0,9, -999.00,9, -999.00,9, -999.00,9,-999.000,9,-999.000,9,  -999.0,9,-999.0000,9,  -999.00,   2.4314
29AH20120622,      OVIDE,     101,          1,         13,2,20120718,       0000,    59.7973,   -45.0297,        200,     6.0,   2.4439,  31.0540,2,-999.0000,9,    377.6,2,  -999.0,9, -999.00,9, -999.00,9, -999.00,9,-999.000,9,-999.000,9,  -999.0,9,-999.0000,9,  -999.00,   2.4436
29AH20120622,      OVIDE,     101,          1,         14,2,20120718,       0000,    59.7973,   -45.0297,        200,     6.0,   2.4486,  31.0538,2,-999.0000,9,    377.6,2,  -999.0,9, -999.00,9, -999.00,9, -999.00,9,-999.000,9,-999.000,9,  -999.0,9,-999.0000,9,  -999.00,   2.4483
29AH20120622,      OVIDE,     101,          1,         15,2,20120718,       0000,    59.7973,   -45.0297,        200,     6.1,   2.4513,  31.0538,2,-999.0000,9,    377.6,2,  -999.0,9, -999.00,9, -999.00,9, -999.00,9,-999.000,9,-999.000,9,  -999.0,9,-999.0000,9,  -999.00,   2.4510
29AH20120622,      OVIDE,     101,          1,         16,2,20120718,       0000,    59.7973,   -45.0297,        200,     6.1,   2.4557,  31.0535,2,-999.0000,9,    377.6,2,  -999.0,9, -999.00,9, -999.00,9, -999.00,9,-999.000,9,-999.000,9,  -999.0,9,-999.0000,9,  -999.00,   2.4554
29AH20120622,      OVIDE,     101,          1,         17,2,20120718,       0000,    59.7973,   -45.0297,        200,     6.1,   2.4600,  31.0525,2,-999.0000,9,    377.6,2,  -999.0,9, -999.00,9, -999.00,9, -999.00,9,-999.000,9,-999.000,9,  -999.0,9,-999.0000,9,  -999.00,   2.4597
29AH20120622,      OVIDE,     101,          1,         18,2,20120718,       0000,    59.7973,   -45.0297,        200,     6.1,   2.4611,  31.0521,2,-999.0000,9,    377.6,2,  -999.0,9, -999.00,9, -999.00,9, -999.00,9,-999.000,9,-999.000,9,  -999.0,9,-999.0000,9,  -999.00,   2.4608
29AH20120622,      OVIDE,     101,          1,         19,2,20120718,       0000,    59.7973,   -45.0297,        200,     6.1,   2.4622,  31.0518,2,-999.0000,9,    377.6,2,  -999.0,9, -999.00,9, -999.00,9, -999.00,9,-999.000,9,-999.000,9,  -999.0,9,-999.0000,9,  -999.00,   2.4619
29AH20120622,      OVIDE,     101,          1,         20,2,20120718,       0000,    59.7973,   -45.0297,        200,     6.1,   2.4628,  31.0511,2,-999.0000,9,    377.6,2,  -999.0,9, -999.00,9, -999.00,9, -999.00,9,-999.000,9,-999.000,9,  -999.0,9,-999.0000,9,  -999.00,   2.4625
29AH20120622,      OVIDE,     101,          1,         21,2,20120718,       0000,    59.7973,   -45.0297,        200,     6.1,   2.4642,  31.0503,2,-999.0000,9,    377.6,2,  -999.0,9, -999.00,9, -999.00,9, -999.00,9,-999.000,9,-999.000,9,  -999.0,9,-999.0000,9,  -999.00,   2.4639
29AH20120622,      OVIDE,     101,          1,         22,2,20120718,       0000,    59.7973,   -45.0297,        200,     6.1,   2.4632,  31.0500,2,-999.0000,9,    377.6,2,  -999.0,9, -999.00,9, -999.00,9, -999.00,9,-999.000,9,-999.000,9,  -999.0,9,-999.0000,9,  -999.00,   2.4629
29AH20120622,      OVIDE,     101,          1,         23,2,20120718,       0000,    59.7973,   -45.0297,        200,     6.1,   2.4596,  31.0506,2,-999.0000,9,    377.6,2,  -999.0,9, -999.00,9, -999.00,9, -999.00,9,-999.000,9,-999.000,9,  -999.0,9,-999.0000,9,  -999.00,   2.4593
29AH20120622,      OVIDE,     101,          1,         24,2,20120718,       0000,    59.7973,   -45.0297,        200,     6.1,   2.4583,  31.0506,2,-999.0000,9,    377.6,2,   375.7,2,    0.59,2,    0.42,2,    0.14,2,-999.000,9,-999.000,9,  2094.8,2,   7.8933,2,    25.00,   2.4580
29AH20120622,      OVIDE,     102,          1,          1,2,20120718,       0000,    59.7399,   -45.1478,        136,   121.4,   2.3007,  34.0750,2,  34.0813,4,    321.7,2,   321.2,2,    4.26,2,    8.20,2,    0.57,2,-999.000,9,-999.000,9,  -999.0,9,   7.7634,2,    25.00,   2.2941
29AH20120622,      OVIDE,     102,          1,          2,2,20120718,       0000,    59.7399,   -45.1478,        136,    99.8,  -0.6787,  33.2432,2,  33.3163,4,    351.5,2,   344.2,3,    3.60,2,    5.88,2,    0.56,2,-999.000,9,-999.000,9,  -999.0,9,   7.7403,2,    25.00,  -0.6815
29AH20120622,      OVIDE,     102,          1,          3,2,20120718,       0000,    59.7399,   -45.1478,        136,    49.7,   0.0973,  32.2572,2,  32.2595,2,    373.8,2,   370.9,2,    0.88,2,    1.46,2,    0.31,2,-999.000,9,-999.000,9,  -999.0,9,   7.8255,2,    25.00,   0.0957
29AH20120622,      OVIDE,     102,          1,         24,2,20120718,       0000,    59.7399,   -45.1478,        136,     6.4,   1.8944,  30.8391,2,  30.7811,4,    378.2,2,   377.0,2,    0.52,2,    0.35,2,    0.11,2,-999.000,9,-999.000,9,  -999.0,9,   7.9093,2,    25.00,   1.8941