BOTTLE,20151116SIOCCHCBG
EXPOCODE,SECT_ID,STNNBR,CASTNO,BTLNBR,BTLNBR_FLAG_W,DATE,TIME,LATITUDE,LONGITUDE,DEPTH,CTDPRS,CTDTMP,CTDSAL,CTDSAL_FLAG_W,SALNTY,SALNTY_FLAG_W,CTDOXY,CTDOXY_FLAG_W,OXYGEN,OXYGEN_FLAG_W,SILCAT,SILCAT_FLAG_W,NITRAT,NITRAT_FLAG_W,PHSPHT,PHSPHT_FLAG_W,CFC-11,CFC-11_FLAG_W,CFC-12,CFC-12_FLAG_W,ALKALI,ALKALI_FLAG_W,PH_TOT,PH_TOT_FLAG_W,PH_TMP,THETA
,,,,,,,,,,METERS,DBAR,ITS-90,PSS-78,,PSS-78,,UMOL/KG,,UMOL/KG,,UMOL/KG,,UMOL/KG,,UMOL/KG,,PMOL/KG,,PMOL/KG,,UMOL/KG,,,,DEG C,DEG C
29AH20120622,      OVIDE,      13,          1,          1,2,20120626,       0000,    40.3322,   -12.2194,       5251,  5352.1,   2.5531,  34.8972,2,  34.8965,2,    241.9,2,   242.5,2,   45.99,3,   22.02,2,    1.54,2,-999.000,9,-999.000,9,  2353.6,2,   7.7450,2,    25.00,   2.0362
29AH20120622,      OVIDE,      13,          1,          2,2,20120626,       0000,    40.3322,   -12.2194,       5251,  4999.5,   2.5097,  34.8979,2,  34.8973,2,    241.8,2,   242.0,2,   45.28,3,   21.79,2,    1.51,2,-999.000,9,-999.000,9,  2354.8,2,   7.7434,2,    25.00,   2.0399
29AH20120622,      OVIDE,      13,          1,          3,2,20120626,       0000,    40.3322,   -12.2194,       5251,  4498.9,   2.4705,  34.9007,2,-999.0000,9,    241.8,2,  -999.0,9,   43.73,3,   21.95,3,    1.49,2,-999.000,9,-999.000,9,  -999.0,9,-999.0000,9,  -999.00,   2.0641
29AH20120622,      OVIDE,      13,          1,          4,2,20120626,       0000,    40.3322,   -12.2194,       5251,  4000.7,   2.4900,  34.9086,2,  34.9073,2,    242.1,2,   243.2,2,   43.49,3,   21.83,2,    1.49,2,-999.000,9,-999.000,9,  2350.9,2,   7.7435,2,    25.00,   2.1418
29AH20120622,      OVIDE,      13,          1,          5,2,20120626,       0000,    40.3322,   -12.2194,       5251,  3499.8,   2.5968,  34.9239,2,  34.9232,2,    243.5,2,   244.6,2,   40.39,3,   21.58,2,    1.45,2,-999.000,9,-999.000,9,  2347.7,2,   7.7429,2,    25.00,   2.3019
29AH20120622,      OVIDE,      13,          1,          6,2,20120626,       0000,    40.3322,   -12.2194,       5251,  3000.0,   2.8020,  34.9460,2,  34.9446,2,    246.7,2,   246.6,2,   34.62,3,   20.59,2,    1.37,2,-999.000,9,-999.000,9,  2339.4,2,   7.7456,2,    25.00,   2.5554
29AH20120622,      OVIDE,      13,          1,          7,2,20120626,       0000,    40.3322,   -12.2194,       5251,  2499.4,   3.2869,  34.9876,2,  34.9886,2,    250.1,2,   249.8,2,   26.46,3,   18.64,2,    1.26,2,-999.000,9,-999.000,9,  2332.4,2,   7.7466,2,    25.00,   3.0815
29AH20120622,      OVIDE,      13,          1,          8,2,20120626,       0000,    40.3322,   -12.2194,       5251,  2249.9,   3.7505,  35.0343,2,  35.0330,2,    249.5,2,   250.5,2,   21.74,3,   17.99,2,    1.21,2,-999.000,9,-999.000,9,  2329.8,2,   7.7456,2,    25.00,   3.5619
29AH20120622,      OVIDE,      13,          1,          9,2,20120626,       0000,    40.3322,   -12.2194,       5251,  2001.1,   4.5516,  35.1388,2,  35.1374,2,    246.0,2,   245.3,2,   17.72,3,   17.33,2,    1.17,2,-999.000,9,-999.000,9,  2329.6,2,   7.7463,2,    25.00,   4.3753
29AH20120622,      OVIDE,      13,          1,         10,2,20120626,       0000,    40.3322,   -12.2194,       5251,  1797.3,   5.4623,  35.2711,2,  35.2782,4,    231.3,2,   236.4,2,   14.84,3,   16.87,2,    1.10,2,-999.000,9,-999.000,9,  2334.3,2,   7.7507,2,    25.00,   5.2942
29AH20120622,      OVIDE,      13,          1,         11,2,20120626,       0000,    40.3322,   -12.2194,       5251,  1599.5,   7.6006,  35.6138,2,  35.6069,4,    206.9,2,   213.2,3,   12.39,3,   16.57,2,    1.02,2,-999.000,9,-999.000,9,  2355.8,2,   7.7677,2,    25.00,   7.4276
29AH20120622,      OVIDE,      13,          1,         12,2,20120626,       0000,    40.3322,   -12.2194,       5251,  1349.9,  11.0448,  36.2520,2,  36.2522,2,    179.8,2,   181.0,2,    9.66,3,   15.35,2,    0.84,2,-999.000,9,-999.000,9,  2399.1,2,   7.8056,2,    25.00,  10.8670
29AH20120622,      OVIDE,      13,          1,         13,2,20120626,       0000,    40.3322,   -12.2194,       5251,  1200.1,  11.2741,  36.2423,2,  36.2416,2,    177.4,2,   179.2,2,    9.24,3,   15.59,2,    0.82,2,-999.000,9,-999.000,9,  2397.6,2,   7.8052,2,    25.00,  11.1151
29AH20120622,      OVIDE,      13,          1,         14,2,20120626,       0000,    40.3322,   -12.2194,       5251,  1000.2,  11.4998,  36.1713,2,  36.1713,2,    176.9,2,   180.6,2,    8.36,3,   14.70,2,    0.77,2,-999.000,9,-999.000,9,  2390.4,2,   7.8033,2,    25.00,  11.3669
29AH20120622,      OVIDE,      13,          1,         15,2,20120626,       0000,    40.3322,   -12.2194,       5251,   799.9,  11.8919,  36.1269,2,  36.1267,2,    177.8,2,   179.0,2,    7.55,3,   13.70,2,    0.83,2,-999.000,9,-999.000,9,  2383.5,2,   7.8074,2,    25.00,  11.7843
29AH20120622,      OVIDE,      13,          1,         16,2,20120626,       0000,    40.3322,   -12.2194,       5251,   699.5,  12.0333,  36.0816,2,  36.0815,2,    180.1,2,   180.8,2,    7.10,3,   13.00,2,    0.79,2,-999.000,9,-999.000,9,  2382.8,2,   7.8081,2,    25.00,  11.9390
29AH20120622,      OVIDE,      13,          1,         17,2,20120626,       0000,    40.3322,   -12.2194,       5251,   600.6,  11.3378,  35.7718,2,  35.7757,2,    189.4,2,   186.7,2,    6.98,3,   13.23,2,    0.84,2,-999.000,9,-999.000,9,  2356.2,2,   7.7910,2,    25.00,  11.2603
29AH20120622,      OVIDE,      13,          1,         18,2,20120626,       0000,    40.3322,   -12.2194,       5251,   499.8,  11.3084,  35.6452,2,  35.6473,2,    214.5,2,   208.4,4,    5.58,3,   12.01,2,    0.72,2,-999.000,9,-999.000,9,  2344.4,2,   7.8041,2,    25.00,  11.2444
29AH20120622,      OVIDE,      13,          1,         19,2,20120626,       0000,    40.3322,   -12.2194,       5251,   399.9,  11.6627,  35.6479,2,  35.6456,2,    221.6,2,   224.9,2,    4.21,3,   10.76,2,    0.57,2,-999.000,9,-999.000,9,  2339.1,2,   7.8194,2,    25.00,  11.6107
29AH20120622,      OVIDE,      13,          1,         20,2,20120626,       0000,    40.3322,   -12.2194,       5251,   300.0,  12.1735,  35.7103,2,  35.7081,2,    225.8,2,   225.9,2,    3.36,3,    8.79,2,    0.45,2,-999.000,9,-999.000,9,  2345.8,2,   7.8381,2,    25.00,  12.1335
29AH20120622,      OVIDE,      13,          1,         21,2,20120626,       0000,    40.3322,   -12.2194,       5251,   199.6,  12.8449,  35.7963,2,  35.7856,4,    227.8,2,   228.4,2,    2.95,3,    7.41,2,    0.36,2,-999.000,9,-999.000,9,  2351.4,2,   7.8592,2,    25.00,  12.8174
29AH20120622,      OVIDE,      13,          1,         22,2,20120626,       0000,    40.3322,   -12.2194,       5251,    98.9,  14.1645,  36.0351,2,  36.0331,2,    234.0,2,   234.5,2,    1.57,3,    4.44,2,    0.12,2,-999.000,9,-999.000,9,  2362.0,2,   7.9089,2,    25.00,  14.1500
29AH20120622,      OVIDE,      13,          1,         23,2,20120626,       0000,    40.3322,   -12.2194,       5251,    59.7,  14.7390,  36.0722,2,  36.0820,4,    257.3,2,   243.0,3,    1.09,3,    1.39,2,    0.01,2,-999.000,9,-999.000,9,  2368.7,2,   7.9340,2,    25.00,  14.7300
29AH20120622,      OVIDE,      13,          1,         24,2,20120626,       0000,    40.3322,   -12.2194,       5251,     4.8,  18.6191,  35.9987,2,  35.9995,2,    237.9,2,   239.0,2,    0.51,3,    0.00,2,    0.00,2,-999.000,9,-999.000,9,  2364.6,2,   7.9890,2,    25.00,  18.6183
29AH20120622,      OVIDE,      14,          1,          1,2,20120626,       0000,    40.5515,   -12.6346,       5301,  5398.8,   2.5579,  34.8971,2,  34.8955,2,    241.8,2,   242.8,2,   44.92,2,   21.90,2,    1.45,2,-999.000,9,-999.000,9,  -999.0,9,   7.7457,2,    25.00,   2.0347
29AH20120622,      OVIDE,      14,          1,          2,2,20120626,       0000,    40.5515,   -12.6346,       5301,  5000.3,   2.5105,  34.8979,2,  34.8964,2,    241.6,2,   242.2,2,   44.68,2,   21.69,2,    1.44,2,   0.014,2,   0.011,2,  -999.0,9,   7.7441,2,    25.00,   2.0406
29AH20120622,      OVIDE,      14,          1,          3,2,20120626,       0000,    40.5515,   -12.6346,       5301,  4500.5,   2.4733,  34.9010,2,  34.8989,2,    241.5,2,   241.9,2,   44.27,2,   21.80,2,    1.44,2,-999.000,9,-999.000,9,  -999.0,9,   7.7428,2,    25.00,   2.0667
29AH20120622,      OVIDE,      14,          1,          4,2,20120626,       0000,    40.5515,   -12.6346,       5301,  4000.1,   2.5112,  34.9107,2,  34.9082,2,    241.9,2,   242.9,2,   42.56,2,   21.31,2,    1.40,2,   0.029,2,   0.019,2,  -999.0,9,   7.7431,2,    25.00,   2.1625
29AH20120622,      OVIDE,      14,          1,          5,2,20120626,       0000,    40.5515,   -12.6346,       5301,  3501.0,   2.6258,  34.9267,2,  34.9257,2,    243.6,2,   244.1,2,   38.76,2,   21.03,2,    1.37,2,   0.067,2,   0.037,2,  -999.0,9,   7.7437,2,    25.00,   2.3300
29AH20120622,      OVIDE,      14,          1,          6,2,20120626,       0000,    40.5515,   -12.6346,       5301,  3000.7,   2.8074,  34.9463,2,  34.9465,2,    246.5,2,   246.8,2,   33.69,2,   20.15,2,    1.30,2,   0.131,2,   0.072,2,  -999.0,9,   7.7452,2,    25.00,   2.5606
29AH20120622,      OVIDE,      14,          1,          7,2,20120626,       0000,    40.5515,   -12.6346,       5301,  2500.0,   3.2220,  34.9822,2,  34.9820,2,    250.1,2,   249.7,2,   26.23,2,   19.05,2,    1.22,2,-999.000,9,-999.000,9,  -999.0,9,   7.7472,2,    25.00,   3.0178
29AH20120622,      OVIDE,      14,          1,          8,2,20120626,       0000,    40.5515,   -12.6346,       5301,  2250.4,   3.5141,  35.0057,2,  35.0050,2,    252.5,2,   251.5,2,   22.07,2,   18.64,2,    1.18,2,-999.000,9,-999.000,9,  -999.0,9,   7.7459,2,    25.00,   3.3294
29AH20120622,      OVIDE,      14,          1,          9,2,20120626,       0000,    40.5515,   -12.6346,       5301,  1999.9,   4.0348,  35.0552,2,  35.0549,2,    252.3,2,   252.2,2,   17.93,2,   17.94,2,    1.13,2,   1.347,2,   0.674,2,  -999.0,9,   7.7437,2,    25.00,   3.8665
29AH20120622,      OVIDE,      14,          1,         10,2,20120626,       0000,    40.5515,   -12.6346,       5301,  1800.1,   4.9637,  35.1902,2,  35.1918,2,    242.0,2,   242.0,2,   15.17,2,   17.55,2,    1.09,2,-999.000,9,-999.000,9,  -999.0,9,   7.7480,2,    25.00,   4.8020
29AH20120622,      OVIDE,      14,          1,         11,2,20120626,       0000,    40.5515,   -12.6346,       5301,  1600.6,   6.4308,  35.4240,2,  35.4233,2,    224.1,2,   226.4,2,   13.30,2,   17.29,2,    1.05,2,-999.000,9,-999.000,9,  -999.0,9,   7.7592,2,    25.00,   6.2715
29AH20120622,      OVIDE,      14,          1,         12,2,20120626,       0000,    40.5515,   -12.6346,       5301,  1400.3,   8.7264,  35.8247,2,  35.8192,4,    196.0,2,   200.6,4,   11.33,2,   16.32,2,    0.97,2,-999.000,9,-999.000,9,  -999.0,9,   7.7792,2,    25.00,   8.5650
29AH20120622,      OVIDE,      14,          1,         13,2,20120626,       0000,    40.5515,   -12.6346,       5301,  1200.2,  10.8104,  36.1983,2,  36.1984,2,    180.6,2,   181.9,2,    9.63,2,   15.08,2,    0.86,2,   1.591,2,   0.887,2,  -999.0,9,   7.8032,2,    25.00,  10.6553
29AH20120622,      OVIDE,      14,          1,         14,2,20120626,       0000,    40.5515,   -12.6346,       5301,  1000.7,  11.2641,  36.1433,2,  36.1434,2,    177.1,2,   178.4,2,    9.02,2,   15.19,2,    0.87,2,   1.691,2,   0.952,2,  -999.0,9,   7.8013,2,    25.00,  11.1328
29AH20120622,      OVIDE,      14,          1,         15,2,20120626,       0000,    40.5515,   -12.6346,       5301,   800.4,  11.8343,  36.0609,2,  36.0612,2,    179.0,2,   180.4,2,    7.63,2,   14.32,2,    0.84,2,   1.959,2,   1.133,2,  -999.0,9,   7.8067,2,    25.00,  11.7271
29AH20120622,      OVIDE,      14,          1,         16,2,20120626,       0000,    40.5515,   -12.6346,       5301,   700.6,  11.6093,  35.8848,2,  35.8861,2,    182.1,2,   183.0,2,    7.25,2,   14.68,2,    0.84,2,-999.000,9,-999.000,9,  -999.0,9,   7.7974,2,    25.00,  11.5171
29AH20120622,      OVIDE,      14,          1,         17,2,20120626,       0000,    40.5515,   -12.6346,       5301,   600.2,  11.3848,  35.6730,2,  35.6779,4,    194.7,2,   199.8,4,    5.89,2,   13.43,2,    0.76,2,-999.000,9,-999.000,9,  -999.0,9,   7.7999,2,    25.00,  11.3072
29AH20120622,      OVIDE,      14,          1,         18,2,20120626,       0000,    40.5515,   -12.6346,       5301,   499.3,  11.6459,  35.6552,2,  35.6519,2,    219.7,2,   218.8,2,    4.35,2,   11.29,2,    0.61,2,   2.721,2,   1.613,2,  -999.0,9,   7.8202,2,    25.00,  11.5807
29AH20120622,      OVIDE,      14,          1,         19,2,20120626,       0000,    40.5515,   -12.6346,       5301,   398.8,  12.0981,  35.7047,2,  35.6987,4,    211.9,2,   210.4,2,    4.18,2,   11.36,2,    0.62,2,-999.000,9,-999.000,9,  -999.0,9,   7.8206,2,    25.00,  12.0450
29AH20120622,      OVIDE,      14,          1,         20,2,20120626,       0000,    40.5515,   -12.6346,       5301,   299.6,  12.7142,  35.7917,2,  35.7844,4,    220.8,2,   231.2,4,    2.71,2,    7.77,2,    0.40,2,-999.000,9,-999.000,9,  -999.0,9,   7.8613,2,    25.00,  12.6731
29AH20120622,      OVIDE,      14,          1,         21,2,20120626,       0000,    40.5515,   -12.6346,       5301,   199.8,  13.3157,  35.8999,2,  35.8893,4,    229.0,2,   230.2,2,    2.35,2,    6.66,2,    0.31,2,   2.667,2,   1.612,2,  -999.0,9,   7.8767,2,    25.00,  13.2875
29AH20120622,      OVIDE,      14,          1,         22,2,20120626,       0000,    40.5515,   -12.6346,       5301,   100.7,  14.0685,  36.0268,2,  36.0250,2,    234.0,2,   233.6,2,    1.74,2,    4.42,2,    0.19,2,-999.000,9,-999.000,9,  -999.0,9,   7.9056,2,    25.00,  14.0538
29AH20120622,      OVIDE,      14,          1,         23,2,20120626,       0000,    40.5515,   -12.6346,       5301,    38.7,  16.2197,  36.0425,2,  36.0485,4,    261.2,2,   262.0,2,    0.60,2,    0.02,2,    0.00,2,-999.000,9,-999.000,9,  -999.0,9,   7.9760,2,    25.00,  16.2135
29AH20120622,      OVIDE,      14,          1,         24,2,20120626,       0000,    40.5515,   -12.6346,       5301,     4.9,  18.8885,  36.0723,2,  36.0731,2,    236.0,2,   236.5,2,    0.69,3,    0.00,2,    0.00,2,   2.195,2,   1.362,2,  -999.0,9,   7.9850,2,    25.00,  18.8876