BOTTLE,20151116SIOCCHCBG
EXPOCODE,SECT_ID,STNNBR,CASTNO,BTLNBR,BTLNBR_FLAG_W,DATE,TIME,LATITUDE,LONGITUDE,DEPTH,CTDPRS,CTDTMP,CTDSAL,CTDSAL_FLAG_W,SALNTY,SALNTY_FLAG_W,CTDOXY,CTDOXY_FLAG_W,OXYGEN,OXYGEN_FLAG_W,SILCAT,SILCAT_FLAG_W,NITRAT,NITRAT_FLAG_W,PHSPHT,PHSPHT_FLAG_W,CFC-11,CFC-11_FLAG_W,CFC-12,CFC-12_FLAG_W,ALKALI,ALKALI_FLAG_W,PH_TOT,PH_TOT_FLAG_W,PH_TMP,THETA
,,,,,,,,,,METERS,DBAR,ITS-90,PSS-78,,PSS-78,,UMOL/KG,,UMOL/KG,,UMOL/KG,,UMOL/KG,,UMOL/KG,,PMOL/KG,,PMOL/KG,,UMOL/KG,,,,DEG C,DEG C
29AH20120622,      OVIDE,      41,          1,          1,2,20120706,       0000,    49.5306,   -22.0166,       4195,  4267.6,   2.5710,  34.9134,2,  34.9162,2,    239.2,2,   239.1,2,   42.78,2,   21.48,2,    1.45,2,-999.000,9,-999.000,9,  2355.0,2,   7.7404,2,    25.00,   2.1893
29AH20120622,      OVIDE,      41,          1,          2,2,20120706,       0000,    49.5306,   -22.0166,       4195,  4000.8,   2.5612,  34.9157,2,  34.9173,2,    239.9,2,   239.9,2,   41.74,2,   21.53,2,    1.43,2,-999.000,9,-999.000,9,  2352.0,2,   7.7401,2,    25.00,   2.2110
29AH20120622,      OVIDE,      41,          1,          3,2,20120706,       0000,    49.5306,   -22.0166,       4195,  3752.2,   2.5797,  34.9202,2,  34.9238,2,    242.0,2,   241.4,2,   39.99,2,   21.19,2,    1.40,2,-999.000,9,-999.000,9,  2350.1,2,   7.7401,2,    25.00,   2.2573
29AH20120622,      OVIDE,      41,          1,          4,2,20120706,       0000,    49.5306,   -22.0166,       4195,  3500.9,   2.6324,  34.9276,2,  34.9325,2,    246.4,2,   244.8,2,   36.30,2,   20.19,2,    1.36,2,-999.000,9,-999.000,9,  2344.3,2,   7.7388,2,    25.00,   2.3364
29AH20120622,      OVIDE,      41,          1,          5,2,20120706,       0000,    49.5306,   -22.0166,       4195,  3000.1,   2.8511,  34.9450,2,  34.9438,2,    258.5,2,   258.9,2,   24.44,2,   17.92,2,    1.21,2,-999.000,9,-999.000,9,  2324.4,2,   7.7358,2,    25.00,   2.6035
29AH20120622,      OVIDE,      41,          1,          6,2,20120706,       0000,    49.5306,   -22.0166,       4195,  2749.4,   3.0175,  34.9411,2,  34.9411,2,    265.2,2,   266.5,2,   18.46,2,   17.20,2,    1.10,2,-999.000,9,-999.000,9,  2317.1,2,   7.7334,2,    25.00,   2.7922
29AH20120622,      OVIDE,      41,          1,          7,2,20120706,       0000,    49.5306,   -22.0166,       4195,  2501.0,   3.1612,  34.9280,2,  34.9252,2,    270.0,2,   271.2,2,   15.00,2,   16.70,2,    1.06,2,-999.000,9,-999.000,9,  2310.0,2,   7.7336,2,    25.00,   2.9582
29AH20120622,      OVIDE,      41,          1,          8,2,20120706,       0000,    49.5306,   -22.0166,       4195,  2252.4,   3.3325,  34.9187,2,  34.9199,2,    272.3,2,   272.0,2,   13.17,2,   16.96,2,    1.09,2,-999.000,9,-999.000,9,  2306.0,2,   7.7294,2,    25.00,   3.1510
29AH20120622,      OVIDE,      41,          1,          9,2,20120706,       0000,    49.5306,   -22.0166,       4195,  2001.0,   3.5341,  34.9164,2,  34.9162,2,    271.4,2,   271.7,2,   11.81,2,   17.05,2,    1.09,2,-999.000,9,-999.000,9,  2305.6,2,   7.7262,2,    25.00,   3.3735
29AH20120622,      OVIDE,      41,          1,         10,2,20120706,       0000,    49.5306,   -22.0166,       4195,  1801.3,   3.6738,  34.9184,2,  34.9175,2,    270.6,2,   270.3,2,   11.45,2,   16.81,2,    1.08,2,-999.000,9,-999.000,9,  2306.1,2,   7.7233,2,    25.00,   3.5300
29AH20120622,      OVIDE,      41,          1,         11,2,20120706,       0000,    49.5306,   -22.0166,       4195,  1600.8,   3.8432,  34.9248,2,  34.9253,2,    269.4,2,   268.5,2,   11.06,2,   16.85,2,    1.08,2,-999.000,9,-999.000,9,  2307.3,2,   7.7215,2,    25.00,   3.7157
29AH20120622,      OVIDE,      41,          1,         12,2,20120706,       0000,    49.5306,   -22.0166,       4195,  1400.8,   4.1192,  34.9398,2,  34.9403,2,    264.6,2,   265.3,2,   10.58,2,   17.05,2,    1.08,2,-999.000,9,-999.000,9,  2306.0,2,   7.7183,2,    25.00,   4.0068
29AH20120622,      OVIDE,      41,          1,         13,2,20120706,       0000,    49.5306,   -22.0166,       4195,  1200.5,   4.7421,  35.0052,2,  35.0055,2,    252.7,2,   252.0,2,   10.73,2,   17.26,2,    1.11,2,-999.000,9,-999.000,9,  2312.7,2,   7.7160,2,    25.00,   4.6417
29AH20120622,      OVIDE,      41,          1,         14,2,20120706,       0000,    49.5306,   -22.0166,       4195,  1000.8,   6.1271,  35.1853,2,  35.1865,2,    225.9,2,   227.2,2,   10.91,2,   17.85,2,    1.11,2,-999.000,9,-999.000,9,  2322.1,2,   7.7233,2,    25.00,   6.0341
29AH20120622,      OVIDE,      41,          1,         15,2,20120706,       0000,    49.5306,   -22.0166,       4195,   901.3,   6.6884,  35.2243,2,  35.2230,2,    212.2,2,   217.4,3,   11.01,2,   18.09,2,    1.13,2,-999.000,9,-999.000,9,  2326.0,2,   7.7225,2,    25.00,   6.6015
29AH20120622,      OVIDE,      41,          1,         16,2,20120706,       0000,    49.5306,   -22.0166,       4195,   799.7,   7.4305,  35.3008,2,  35.2991,2,    198.8,2,   204.8,3,   10.93,2,   18.17,2,    1.13,2,-999.000,9,-999.000,9,  2331.4,2,   7.7269,2,    25.00,   7.3494
29AH20120622,      OVIDE,      41,          1,         17,2,20120706,       0000,    49.5306,   -22.0166,       4195,   599.9,   8.9410,  35.3042,2,  35.3020,2,    187.7,2,   189.2,2,    9.67,2,   17.89,2,    1.12,2,-999.000,9,-999.000,9,  2327.6,2,   7.7345,2,    25.00,   8.8743
29AH20120622,      OVIDE,      41,          1,         18,2,20120706,       0000,    49.5306,   -22.0166,       4195,   502.9,   9.8154,  35.3379,2,  35.3398,2,    204.6,2,   204.1,2,    7.62,2,   15.57,2,    0.93,2,-999.000,9,-999.000,9,  2328.1,2,   7.7649,2,    25.00,   9.7566
29AH20120622,      OVIDE,      41,          1,         19,2,20120706,       0000,    49.5306,   -22.0166,       4195,   401.7,  10.4815,  35.3857,2,  35.3836,2,    218.2,2,   218.3,2,    6.09,2,   13.47,2,    0.78,2,-999.000,9,-999.000,9,  2327.7,2,   7.7937,2,    25.00,  10.4328
29AH20120622,      OVIDE,      41,          1,         20,2,20120706,       0000,    49.5306,   -22.0166,       4195,   300.5,  11.1090,  35.4529,2,  35.4534,2,    232.6,2,   233.1,2,    4.71,2,   11.20,2,    0.64,2,-999.000,9,-999.000,9,  2333.4,2,   7.8238,2,    25.00,  11.0713
29AH20120622,      OVIDE,      41,          1,         21,2,20120706,       0000,    49.5306,   -22.0166,       4195,   200.8,  11.3960,  35.4540,2,  35.4522,2,    241.9,2,   244.0,2,    3.60,2,    9.65,2,    0.52,2,-999.000,9,-999.000,9,  2332.9,2,   7.8433,2,    25.00,  11.3705
29AH20120622,      OVIDE,      41,          1,         22,2,20120706,       0000,    49.5306,   -22.0166,       4195,    99.6,  12.0705,  35.5203,2,  35.5191,2,    239.5,2,   244.1,2,    3.10,2,    8.24,2,    0.37,2,-999.000,9,-999.000,9,  2336.9,2,   7.8631,2,    25.00,  12.0574
29AH20120622,      OVIDE,      41,          1,         23,2,20120706,       0000,    49.5306,   -22.0166,       4195,    27.7,  14.7655,  35.4698,2,  35.4708,2,    248.8,2,   252.5,2,    0.47,2,    0.34,2,    0.00,2,-999.000,9,-999.000,9,  2340.0,2,   7.9801,2,    25.00,  14.7614
29AH20120622,      OVIDE,      41,          1,         24,2,20120706,       0000,    49.5306,   -22.0166,       4195,     6.4,  14.7693,  35.4723,2,  35.4777,4,    251.4,2,   253.7,2,    0.41,2,    0.12,2,    0.00,2,-999.000,9,-999.000,9,  2341.2,2,   7.9805,2,    25.00,  14.7683
29AH20120622,      OVIDE,      42,          1,          1,2,20120706,       0000,    49.9043,   -22.3116,       4004,  4053.2,   2.5546,  34.9142,2,  34.9134,2,    239.3,2,   241.7,2,   41.71,2,   21.69,2,    1.42,2,   0.145,2,   0.075,2,  -999.0,9,   7.7390,2,    25.00,   2.1985
29AH20120622,      OVIDE,      42,          1,          2,2,20120706,       0000,    49.9043,   -22.3116,       4004,  3749.9,   2.5907,  34.9209,2,  34.9197,2,    242.2,2,   243.4,2,   39.09,2,   21.07,2,    1.41,2,   0.350,2,   0.178,2,  -999.0,9,   7.7380,2,    25.00,   2.2683
29AH20120622,      OVIDE,      42,          1,          3,2,20120706,       0000,    49.9043,   -22.3116,       4004,  3501.2,   2.6258,  34.9270,2,  34.9267,2,    246.3,2,   246.4,2,   36.09,2,   20.40,2,    1.34,2,-999.000,9,-999.000,9,  -999.0,9,   7.7369,2,    25.00,   2.3300
29AH20120622,      OVIDE,      42,          1,          4,2,20120706,       0000,    49.9043,   -22.3116,       4004,  3250.0,   2.7009,  34.9364,2,  34.9353,2,    251.9,2,   250.9,2,   31.11,2,   19.47,2,    1.29,2,-999.000,9,-999.000,9,  -999.0,9,   7.7354,2,    25.00,   2.4304
29AH20120622,      OVIDE,      42,          1,          5,2,20120706,       0000,    49.9043,   -22.3116,       4004,  3001.5,   2.8171,  34.9445,2,  34.9439,2,    257.9,2,   259.0,2,   24.88,2,   18.29,2,    1.20,2,-999.000,9,-999.000,9,  -999.0,9,   7.7332,2,    25.00,   2.5701
29AH20120622,      OVIDE,      42,          1,          6,2,20120706,       0000,    49.9043,   -22.3116,       4004,  2753.3,   2.9116,  34.9453,2,  34.9438,2,    262.4,2,   263.2,2,   21.46,2,   17.84,2,    1.15,2,   1.689,6,   0.848,6,  -999.0,9,   7.7319,2,    25.00,   2.6880
29AH20120622,      OVIDE,      42,          1,          7,2,20120706,       0000,    49.9043,   -22.3116,       4004,  2502.3,   3.0741,  34.9364,2,  34.9374,2,    269.1,2,   271.5,2,   15.70,2,   16.86,2,    1.08,2,-999.000,9,-999.000,9,  -999.0,9,   7.7343,2,    25.00,   2.8726
29AH20120622,      OVIDE,      42,          1,          8,2,20120706,       0000,    49.9043,   -22.3116,       4004,  2250.9,   3.1940,  34.9251,2,  34.9265,2,    272.0,2,   272.3,2,   13.96,2,   16.91,2,    1.07,2,   2.373,2,   1.196,2,  -999.0,9,   7.7329,2,    25.00,   3.0149
29AH20120622,      OVIDE,      42,          1,          9,2,20120706,       0000,    49.9043,   -22.3116,       4004,  1999.2,   3.3639,  34.9176,2,-999.0000,9,    272.0,2,  -999.0,9,   12.68,3,   17.08,3,    1.10,3,-999.000,9,-999.000,9,  -999.0,9,-999.0000,9,  -999.00,   3.2060
29AH20120622,      OVIDE,      42,          1,         10,2,20120706,       0000,    49.9043,   -22.3116,       4004,  1798.1,   3.5676,  34.9215,2,  34.9248,2,    270.1,2,   271.7,2,   12.20,2,   17.18,2,    1.11,2,-999.000,9,-999.000,9,  -999.0,9,   7.7276,2,    25.00,   3.4255
29AH20120622,      OVIDE,      42,          1,         11,2,20120706,       0000,    49.9043,   -22.3116,       4004,  1601.3,   3.8336,  34.9351,2,  34.9361,2,    267.6,2,   268.1,2,   11.68,2,   17.43,2,    1.10,2,-999.000,9,-999.000,9,  -999.0,9,   7.7249,2,    25.00,   3.7062
29AH20120622,      OVIDE,      42,          1,         12,2,20120706,       0000,    49.9043,   -22.3116,       4004,  1401.6,   4.2022,  34.9617,2,  34.9615,2,    262.3,2,   263.4,2,   10.99,2,   17.11,2,    1.09,2,   3.223,2,   1.699,2,  -999.0,9,   7.7223,2,    25.00,   4.0888
29AH20120622,      OVIDE,      42,          1,         13,2,20120706,       0000,    49.9043,   -22.3116,       4004,  1197.2,   4.7854,  35.0163,2,  35.0163,2,    248.6,2,   252.0,2,   10.60,2,   17.52,2,    1.10,2,   3.137,2,   1.657,2,  -999.0,9,   7.7193,2,    25.00,   4.6849
29AH20120622,      OVIDE,      42,          1,         14,2,20120706,       0000,    49.9043,   -22.3116,       4004,  1001.1,   6.1782,  35.2028,2,  35.2028,2,    223.3,2,   227.9,2,   10.72,2,   17.79,2,    1.13,2,-999.000,9,-999.000,9,  -999.0,9,   7.7280,2,    25.00,   6.0848
29AH20120622,      OVIDE,      42,          1,         15,2,20120706,       0000,    49.9043,   -22.3116,       4004,   893.1,   6.8011,  35.2570,2,  35.2600,2,    214.7,2,   217.5,2,   10.94,2,   18.16,2,    1.13,2,   2.449,2,   1.310,2,  -999.0,9,   7.7273,2,    25.00,   6.7142
29AH20120622,      OVIDE,      42,          1,         16,2,20120706,       0000,    49.9043,   -22.3116,       4004,   802.5,   7.2954,  35.2813,2,  35.2787,2,    206.1,2,   207.6,2,   10.90,2,   18.11,2,    1.13,2,-999.000,9,-999.000,9,  -999.0,9,   7.7278,2,    25.00,   7.2148
29AH20120622,      OVIDE,      42,          1,         17,2,20120706,       0000,    49.9043,   -22.3116,       4004,   601.5,   8.6046,  35.2520,2,  35.2505,2,    188.5,2,   188.1,2,   10.13,2,   18.57,2,    1.14,2,-999.000,9,-999.000,9,  -999.0,9,   7.7248,2,    25.00,   8.5392
29AH20120622,      OVIDE,      42,          1,         18,2,20120706,       0000,    49.9043,   -22.3116,       4004,   502.0,   9.1929,  35.2241,2,  35.2424,4,    190.9,2,   195.2,2,    8.94,2,   17.39,2,    1.05,2,-999.000,9,-999.000,9,  -999.0,9,   7.7425,2,    25.00,   9.1365
29AH20120622,      OVIDE,      42,          1,         19,2,20120706,       0000,    49.9043,   -22.3116,       4004,   400.4,  10.5049,  35.4026,2,  35.3906,4,    210.9,2,   217.6,3,    6.27,2,   13.46,2,    0.79,2,-999.000,9,-999.000,9,  -999.0,9,   7.7927,2,    25.00,  10.4563
29AH20120622,      OVIDE,      42,          1,         20,2,20120706,       0000,    49.9043,   -22.3116,       4004,   300.1,  11.0758,  35.4491,2,  35.4476,2,    223.5,2,   222.0,2,    5.46,2,   12.46,2,    0.70,2,   2.694,2,   1.574,2,  -999.0,9,   7.8111,2,    25.00,  11.0383
29AH20120622,      OVIDE,      42,          1,         21,2,20120706,       0000,    49.9043,   -22.3116,       4004,   201.9,  11.5096,  35.4987,2,  35.4966,2,    237.9,2,   240.1,2,    4.00,2,    9.96,2,    0.54,2,-999.000,9,-999.000,9,  -999.0,9,   7.8402,2,    25.00,  11.4838
29AH20120622,      OVIDE,      42,          1,         22,2,20120706,       0000,    49.9043,   -22.3116,       4004,   100.0,  11.8513,  35.4894,2,  35.4887,2,    245.3,2,   247.0,2,    3.12,2,    8.44,2,    0.43,2,-999.000,9,-999.000,9,  -999.0,9,   7.8580,2,    25.00,  11.8383
29AH20120622,      OVIDE,      42,          1,         23,2,20120706,       0000,    49.9043,   -22.3116,       4004,    50.3,  12.3117,  35.5015,2,  35.5013,2,    252.2,2,   251.6,2,    1.97,2,    6.84,2,    0.31,2,-999.000,9,-999.000,9,  -999.0,9,   7.8770,2,    25.00,  12.3050
29AH20120622,      OVIDE,      42,          1,         24,2,20120706,       0000,    49.9043,   -22.3116,       4004,     5.3,  14.8327,  35.4640,2,  35.4636,2,    249.8,2,   253.1,2,    0.40,2,    0.15,2,    0.02,2,   2.597,2,   1.561,2,  -999.0,9,   7.9824,2,    25.00,  14.8319