BOTTLE,20151116SIOCCHCBG
EXPOCODE,SECT_ID,STNNBR,CASTNO,BTLNBR,BTLNBR_FLAG_W,DATE,TIME,LATITUDE,LONGITUDE,DEPTH,CTDPRS,CTDTMP,CTDSAL,CTDSAL_FLAG_W,SALNTY,SALNTY_FLAG_W,CTDOXY,CTDOXY_FLAG_W,OXYGEN,OXYGEN_FLAG_W,SILCAT,SILCAT_FLAG_W,NITRAT,NITRAT_FLAG_W,PHSPHT,PHSPHT_FLAG_W,CFC-11,CFC-11_FLAG_W,CFC-12,CFC-12_FLAG_W,ALKALI,ALKALI_FLAG_W,PH_TOT,PH_TOT_FLAG_W,PH_TMP,THETA
,,,,,,,,,,METERS,DBAR,ITS-90,PSS-78,,PSS-78,,UMOL/KG,,UMOL/KG,,UMOL/KG,,UMOL/KG,,UMOL/KG,,PMOL/KG,,PMOL/KG,,UMOL/KG,,,,DEG C,DEG C
29AH20120622,      OVIDE,       7,          1,          1,2,20120624,       0000,    40.3343,   -10.0359,       3511,  3575.9,   2.5609,  34.9189,2,  34.9198,2,    243.1,2,   243.8,2,   38.80,2,   20.40,2,    1.36,2,-999.000,9,-999.000,9,  2345.8,2,   7.7408,2,    25.00,   2.2586
29AH20120622,      OVIDE,       7,          1,          2,2,20120624,       0000,    40.3343,   -10.0359,       3511,  3252.2,   2.6568,  34.9315,2,  34.9326,2,    244.1,2,   243.8,2,   36.17,2,   20.19,2,    1.38,2,-999.000,9,-999.000,9,  2345.6,2,   7.7426,2,    25.00,   2.3871
29AH20120622,      OVIDE,       7,          1,          3,2,20120624,       0000,    40.3343,   -10.0359,       3511,  3000.6,   2.8543,  34.9528,2,  34.9556,2,    245.3,2,   244.8,2,   32.89,2,   19.90,2,    1.37,2,-999.000,9,-999.000,9,  2340.1,2,   7.7443,2,    25.00,   2.6065
29AH20120622,      OVIDE,       7,          1,          4,2,20120624,       0000,    40.3343,   -10.0359,       3511,  2749.4,   3.1402,  34.9840,2,  34.9845,2,    245.9,2,   245.6,2,   29.31,2,   19.15,2,    1.34,2,-999.000,9,-999.000,9,  2336.8,2,   7.7450,2,    25.00,   2.9123
29AH20120622,      OVIDE,       7,          1,          5,2,20120624,       0000,    40.3343,   -10.0359,       3511,  2501.3,   3.4088,  35.0075,2,  35.0085,2,    248.1,2,   248.1,2,   24.57,2,   18.40,2,    1.27,2,-999.000,9,-999.000,9,  2332.9,2,   7.7457,2,    25.00,   3.2010
29AH20120622,      OVIDE,       7,          1,          6,2,20120624,       0000,    40.3343,   -10.0359,       3511,  2249.5,   3.7371,  35.0410,2,  35.0427,2,    249.2,2,   248.9,2,   20.98,2,   18.10,2,    1.24,2,-999.000,9,-999.000,9,  2326.9,2,   7.7454,2,    25.00,   3.5487
29AH20120622,      OVIDE,       7,          1,          7,2,20120624,       0000,    40.3343,   -10.0359,       3511,  1999.7,   4.1984,  35.0791,2,  35.0804,2,    251.6,2,   250.4,2,   16.04,2,   17.41,2,    1.17,2,-999.000,9,-999.000,9,  2325.3,2,   7.7432,2,    25.00,   4.0276
29AH20120622,      OVIDE,       7,          1,          8,2,20120624,       0000,    40.3343,   -10.0359,       3511,  1798.8,   5.4138,  35.2692,2,  35.2666,2,    236.2,2,   237.2,2,   13.75,2,   17.13,2,    1.13,2,-999.000,9,-999.000,9,  2335.0,2,   7.7494,2,    25.00,   5.2461
29AH20120622,      OVIDE,       7,          1,          9,2,20120624,       0000,    40.3343,   -10.0359,       3511,  1599.8,   7.2512,  35.5825,2,  35.5891,4,    219.2,2,   217.3,2,   11.83,2,   16.65,2,    1.06,2,-999.000,9,-999.000,9,  2356.6,2,   7.7670,2,    25.00,   7.0822
29AH20120622,      OVIDE,       7,          1,         10,2,20120624,       0000,    40.3343,   -10.0359,       3511,  1400.2,  10.1066,  36.1206,2,  36.1196,2,    190.6,2,   190.0,2,    9.56,2,   15.25,2,    0.93,2,-999.000,9,-999.000,9,  2392.6,2,   7.7975,2,    25.00,   9.9311
29AH20120622,      OVIDE,       7,          1,         11,2,20120624,       0000,    40.3343,   -10.0359,       3511,  1219.0,  11.0462,  36.2322,2,  36.2320,2,    179.3,2,   180.8,2,    8.45,2,   14.82,2,    0.88,2,-999.000,9,-999.000,9,  2398.2,2,   7.8037,2,    25.00,  10.8865
29AH20120622,      OVIDE,       7,          1,         12,2,20120624,       0000,    40.3343,   -10.0359,       3511,   999.0,  11.3814,  36.1699,2,  36.1706,2,    178.0,2,   179.5,2,    8.02,2,   14.71,2,    0.88,2,-999.000,9,-999.000,9,  2390.4,2,   7.8036,2,    25.00,  11.2495
29AH20120622,      OVIDE,       7,          1,         13,2,20120624,       0000,    40.3343,   -10.0359,       3511,   899.8,  11.5073,  36.1387,2,  36.1441,4,    178.3,2,   179.7,2,    7.51,2,   14.44,2,    0.86,2,-999.000,9,-999.000,9,  2386.0,2,   7.8048,2,    25.00,  11.3882
29AH20120622,      OVIDE,       7,          1,         14,2,20120624,       0000,    40.3343,   -10.0359,       3511,   797.5,  11.8303,  36.1204,2,  36.1345,4,    178.9,2,   181.6,2,    6.91,2,   14.02,2,    0.82,2,-999.000,9,-999.000,9,  2383.8,2,   7.8106,2,    25.00,  11.7234
29AH20120622,      OVIDE,       7,          1,         15,2,20120624,       0000,    40.3343,   -10.0359,       3511,   700.3,  11.7797,  35.9995,2,  36.0040,2,    180.2,2,   182.0,2,    6.70,2,   14.38,2,    0.84,2,-999.000,9,-999.000,9,  2373.2,2,   7.8039,2,    25.00,  11.6866
29AH20120622,      OVIDE,       7,          1,         16,2,20120624,       0000,    40.3343,   -10.0359,       3511,   600.2,  11.5418,  35.8260,2,  35.8209,4,    182.3,2,  -999.0,9,    6.77,2,   14.51,2,    0.72,2,-999.000,9,-999.000,9,  2358.3,2,   7.7940,2,    25.00,  11.4634
29AH20120622,      OVIDE,       7,          1,         17,2,20120624,       0000,    40.3343,   -10.0359,       3511,   499.7,  11.5350,  35.6800,2,  35.6796,2,    192.0,2,   204.2,4,    5.37,2,   13.08,2,    0.70,2,-999.000,9,-999.000,9,  2346.9,2,   7.8032,2,    25.00,  11.4702
29AH20120622,      OVIDE,       7,          1,         18,2,20120624,       0000,    40.3343,   -10.0359,       3511,   399.5,  11.8122,  35.6663,2,  35.6612,4,    224.7,2,   222.4,2,    3.87,2,   11.09,2,    0.57,2,-999.000,9,-999.000,9,  2343.0,2,   7.8273,2,    25.00,  11.7598
29AH20120622,      OVIDE,       7,          1,         19,2,20120624,       0000,    40.3343,   -10.0359,       3511,   298.4,  12.3812,  35.7404,2,  35.7419,2,    221.0,2,   221.6,2,    3.29,2,    9.67,2,    0.49,2,-999.000,9,-999.000,9,  2345.0,2,   7.8397,2,    25.00,  12.3410
29AH20120622,      OVIDE,       7,          1,         20,2,20120624,       0000,    40.3343,   -10.0359,       3511,   199.2,  13.2190,  35.8814,2,  35.8807,2,    226.6,2,   228.9,2,    2.49,2,    6.89,2,    0.34,2,-999.000,9,-999.000,9,  2355.0,2,   7.8718,2,    25.00,  13.1911
29AH20120622,      OVIDE,       7,          1,         21,2,20120624,       0000,    40.3343,   -10.0359,       3511,   149.7,  13.6926,  35.9662,2,  35.9575,4,    225.4,2,   223.1,2,    2.53,2,    7.12,2,    0.32,2,-999.000,9,-999.000,9,  2358.1,2,   7.8763,2,    25.00,  13.6711
29AH20120622,      OVIDE,       7,          1,         22,2,20120624,       0000,    40.3343,   -10.0359,       3511,   100.5,  14.0600,  36.0271,2,  36.0216,4,    235.5,2,   232.0,2,    1.92,2,    5.11,2,    0.21,2,-999.000,9,-999.000,9,  2360.7,2,   7.8994,2,    25.00,  14.0453
29AH20120622,      OVIDE,       7,          1,         23,2,20120624,       0000,    40.3343,   -10.0359,       3511,    39.2,  15.2103,  36.0846,2,  36.0841,2,    244.8,2,   264.7,3,    0.73,2,    0.56,2,    0.03,2,-999.000,9,-999.000,9,  2369.0,2,   7.9572,2,    25.00,  15.2043
29AH20120622,      OVIDE,       7,          1,         24,2,20120624,       0000,    40.3343,   -10.0359,       3511,     4.9,  18.1302,  36.0175,2,  36.0213,2,    241.5,2,   242.4,2,    0.54,3,    0.00,2,    0.00,2,-999.000,9,-999.000,9,  2366.6,2,   7.9906,2,    25.00,  18.1294
29AH20120622,      OVIDE,       8,          1,          1,2,20120624,       0000,    40.3350,   -10.3012,       3897,  3948.0,   2.4569,  34.9049,2,  34.9056,2,    242.1,2,   242.2,2,   45.04,2,   22.32,2,    1.43,3,   0.060,2,   0.101,2,  -999.0,9,   7.7446,2,    25.00,   2.1157
29AH20120622,      OVIDE,       8,          1,          2,2,20120624,       0000,    40.3350,   -10.3012,       3897,  3500.6,   2.5681,  34.9207,2,  34.9190,2,    243.2,2,   243.8,2,   40.42,2,   21.44,2,    1.39,2,   0.041,2,   0.027,2,  -999.0,9,   7.7436,2,    25.00,   2.2738
29AH20120622,      OVIDE,       8,          1,          3,2,20120624,       0000,    40.3350,   -10.3012,       3897,  3249.7,   2.6873,  34.9345,2,  34.9347,2,    244.1,2,   244.8,2,   38.33,2,   21.28,2,    1.41,2,-999.000,9,-999.000,9,  -999.0,9,   7.7448,2,    25.00,   2.4171
29AH20120622,      OVIDE,       8,          1,          4,2,20120624,       0000,    40.3350,   -10.3012,       3897,  3000.4,   2.9201,  34.9587,2,  34.9585,2,    245.4,2,   245.2,2,   34.00,2,   20.54,2,    1.39,2,   0.124,2,   0.070,2,  -999.0,9,   7.7447,2,    25.00,   2.6709
29AH20120622,      OVIDE,       8,          1,          5,2,20120624,       0000,    40.3350,   -10.3012,       3897,  2500.6,   3.4084,  35.0040,2,  35.0050,2,    248.3,2,   248.8,2,   26.04,2,   19.44,2,    1.27,2,   0.451,2,   0.226,2,  -999.0,9,   7.7471,2,    25.00,   3.2006
29AH20120622,      OVIDE,       8,          1,          6,2,20120624,       0000,    40.3350,   -10.3012,       3897,  2250.3,   3.8744,  35.0577,2,  35.0583,2,    251.0,2,   248.9,2,   21.57,2,   18.82,2,    1.24,2,   0.747,2,   0.371,2,  -999.0,9,   7.7493,2,    25.00,   3.6836
29AH20120622,      OVIDE,       8,          1,          7,2,20120624,       0000,    40.3350,   -10.3012,       3897,  2000.1,   4.7694,  35.1873,2,  35.1868,2,    241.9,2,   241.4,2,   17.80,2,   18.25,2,    1.20,2,   0.971,2,   0.483,2,  -999.0,9,   7.7540,2,    25.00,   4.5899
29AH20120622,      OVIDE,       8,          1,          8,2,20120624,       0000,    40.3350,   -10.3012,       3897,  1800.2,   6.0295,  35.3841,2,  35.3842,2,    231.8,2,   228.4,2,   14.92,2,   17.83,2,    1.11,2,-999.000,9,-999.000,9,  -999.0,9,   7.7569,2,    25.00,   5.8533
29AH20120622,      OVIDE,       8,          1,          9,2,20120624,       0000,    40.3350,   -10.3012,       3897,  1601.0,   7.8740,  35.7015,2,  35.7013,2,    206.7,2,   210.2,2,   12.55,2,   16.93,2,    1.04,2,-999.000,9,-999.000,9,  -999.0,9,   7.7727,2,    25.00,   7.6975
29AH20120622,      OVIDE,       8,          1,         10,2,20120624,       0000,    40.3350,   -10.3012,       3897,  1350.3,  10.5527,  36.1930,2,  36.1922,2,    183.8,2,   185.8,2,    9.98,2,   15.34,2,    0.88,2,-999.000,9,-999.000,9,  -999.0,9,   7.8011,2,    25.00,  10.3795
29AH20120622,      OVIDE,       8,          1,         11,2,20120624,       0000,    40.3350,   -10.3012,       3897,  1200.7,  11.1917,  36.2648,2,  36.2640,2,    178.4,2,   180.1,2,    9.23,2,   14.91,2,    0.86,2,   1.589,2,   0.885,2,  -999.0,9,   7.8025,2,    25.00,  11.0333
29AH20120622,      OVIDE,       8,          1,         12,2,20120624,       0000,    40.3350,   -10.3012,       3897,  1100.4,  11.2781,  36.2146,2,  36.2158,2,    178.4,2,   180.1,2,    9.07,2,   15.07,2,    0.87,2,-999.000,9,-999.000,9,  -999.0,9,   7.8044,2,    25.00,  11.1329
29AH20120622,      OVIDE,       8,          1,         13,2,20120624,       0000,    40.3350,   -10.3012,       3897,  1000.2,  11.4101,  36.1675,2,  36.1679,2,    178.0,2,   179.4,2,    8.57,2,   14.98,2,    0.85,2,   1.704,2,   0.936,2,  -999.0,9,   7.8053,2,    25.00,  11.2778
29AH20120622,      OVIDE,       8,          1,         14,2,20120624,       0000,    40.3350,   -10.3012,       3897,   900.4,  11.7117,  36.1686,2,  36.1689,2,    179.4,2,   180.4,2,    8.18,2,   14.68,2,    0.82,2,-999.000,9,-999.000,9,  -999.0,9,   7.8095,2,    25.00,  11.5912
29AH20120622,      OVIDE,       8,          1,         15,2,20120624,       0000,    40.3350,   -10.3012,       3897,   800.7,  11.8882,  36.1288,2,  36.1298,2,    180.8,2,   182.8,2,    7.63,2,   14.27,2,    0.78,2,   1.918,2,   1.079,2,  -999.0,9,   7.8121,2,    25.00,  11.7806
29AH20120622,      OVIDE,       8,          1,         16,2,20120624,       0000,    40.3350,   -10.3012,       3897,   700.6,  11.8710,  36.0378,2,  36.0433,4,    180.9,2,   183.0,2,    7.36,2,   14.31,2,    0.81,2,-999.000,9,-999.000,9,  -999.0,9,   7.8072,2,    25.00,  11.7774
29AH20120622,      OVIDE,       8,          1,         17,2,20120624,       0000,    40.3350,   -10.3012,       3897,   600.4,  11.6240,  35.8204,2,  35.8229,2,    184.1,2,   184.8,2,    6.93,2,   14.78,2,    0.82,2,-999.000,9,-999.000,9,  -999.0,9,   7.7961,2,    25.00,  11.5453
29AH20120622,      OVIDE,       8,          1,         18,2,20120624,       0000,    40.3350,   -10.3012,       3897,   500.8,  11.7832,  35.7279,2,  35.7305,2,    194.1,2,   196.4,2,    5.65,2,   13.77,2,    0.76,2,   2.453,2,   1.423,2,  -999.0,9,   7.8044,2,    25.00,  11.7173
29AH20120622,      OVIDE,       8,          1,         19,2,20120624,       0000,    40.3350,   -10.3012,       3897,   400.6,  11.9421,  35.6839,2,  35.6801,2,    221.7,2,   222.1,2,    3.74,2,   10.65,2,    0.56,2,-999.000,9,-999.000,9,  -999.0,9,   7.8279,2,    25.00,  11.8892
29AH20120622,      OVIDE,       8,          1,         20,2,20120624,       0000,    40.3350,   -10.3012,       3897,   300.8,  12.5412,  35.7679,2,  35.7643,2,    206.7,2,   222.6,4,    3.29,2,    9.58,2,    0.49,2,-999.000,9,-999.000,9,  -999.0,9,   7.8448,2,    25.00,  12.5003
29AH20120622,      OVIDE,       8,          1,         21,2,20120624,       0000,    40.3350,   -10.3012,       3897,   200.2,  13.3483,  35.9080,2,  35.9008,4,    211.4,2,   213.8,2,    3.10,2,    8.85,2,    0.42,2,   2.561,2,   1.504,2,  -999.0,9,   7.8588,2,    25.00,  13.3200
29AH20120622,      OVIDE,       8,          1,         22,2,20120624,       0000,    40.3350,   -10.3012,       3897,   101.1,  14.4154,  36.1075,2,  36.1095,2,    228.4,2,   228.4,2,    1.84,2,    4.91,2,    0.19,2,-999.000,9,-999.000,9,  -999.0,9,   7.9046,2,    25.00,  14.4004
29AH20120622,      OVIDE,       8,          1,         23,2,20120624,       0000,    40.3350,   -10.3012,       3897,    45.4,  15.3377,  36.1691,2,  36.1668,2,    251.6,2,   256.5,3,    1.02,2,    0.24,2,    0.02,2,-999.000,9,-999.000,9,  -999.0,9,   7.9617,2,    25.00,  15.3307
29AH20120622,      OVIDE,       8,          1,         24,2,20120624,       0000,    40.3350,   -10.3012,       3897,     5.2,  18.5853,  36.1872,2,  36.1907,2,    237.3,2,   239.0,2,    0.64,3,    0.00,2,    0.00,2,   2.178,2,   1.324,2,  -999.0,9,   7.9889,2,    25.00,  18.5844