BOTTLE,20151116SIOCCHCBG
EXPOCODE,SECT_ID,STNNBR,CASTNO,BTLNBR,BTLNBR_FLAG_W,DATE,TIME,LATITUDE,LONGITUDE,DEPTH,CTDPRS,CTDTMP,CTDSAL,CTDSAL_FLAG_W,SALNTY,SALNTY_FLAG_W,CTDOXY,CTDOXY_FLAG_W,OXYGEN,OXYGEN_FLAG_W,SILCAT,SILCAT_FLAG_W,NITRAT,NITRAT_FLAG_W,PHSPHT,PHSPHT_FLAG_W,CFC-11,CFC-11_FLAG_W,CFC-12,CFC-12_FLAG_W,ALKALI,ALKALI_FLAG_W,PH_TOT,PH_TOT_FLAG_W,PH_TMP,THETA
,,,,,,,,,,METERS,DBAR,ITS-90,PSS-78,,PSS-78,,UMOL/KG,,UMOL/KG,,UMOL/KG,,UMOL/KG,,UMOL/KG,,PMOL/KG,,PMOL/KG,,UMOL/KG,,,,DEG C,DEG C
29AH20120622,      OVIDE,      85,          1,          1,2,20120716,       0000,    59.8085,   -42.2354,       1190,  1208.2,   4.0740,  34.9359,2,  34.9358,2,    277.6,2,   277.9,2,    9.34,2,   16.00,2,    1.03,2,-999.000,9,-999.000,9,  2304.4,2,   7.7256,2,    25.00,   3.9791
29AH20120622,      OVIDE,      85,          1,          2,2,20120716,       0000,    59.8085,   -42.2354,       1190,  1151.0,   4.2203,  34.9436,2,  34.9438,2,    277.6,2,   276.8,2,    9.22,2,   16.06,2,    1.02,2,-999.000,9,-999.000,9,  -999.0,9,   7.7263,2,    25.00,   4.1291
29AH20120622,      OVIDE,      85,          1,          3,2,20120716,       0000,    59.8085,   -42.2354,       1190,  1100.7,   4.2591,  34.9447,2,  34.9455,2,    278.7,2,   277.7,2,    9.12,2,   16.05,2,    1.05,2,-999.000,9,-999.000,9,  -999.0,9,   7.7254,2,    25.00,   4.1720
29AH20120622,      OVIDE,      85,          1,          4,2,20120716,       0000,    59.8085,   -42.2354,       1190,  1000.1,   4.2825,  34.9465,2,  34.9485,2,    279.2,2,   278.9,2,    9.07,2,   15.97,2,    1.05,2,-999.000,9,-999.000,9,  2306.2,2,   7.7256,2,    25.00,   4.2039
29AH20120622,      OVIDE,      85,          1,          5,2,20120716,       0000,    59.8085,   -42.2354,       1190,   899.4,   4.3486,  34.9502,2,  34.9511,2,    279.8,2,   278.8,2,    8.96,2,   15.95,2,    1.02,2,-999.000,9,-999.000,9,  -999.0,9,   7.7270,2,    25.00,   4.2781
29AH20120622,      OVIDE,      85,          1,          6,2,20120716,       0000,    59.8085,   -42.2354,       1190,   899.4,   4.3486,  34.9502,2,-999.0000,9,    279.8,2,  -999.0,9, -999.00,9, -999.00,9, -999.00,9,-999.000,9,-999.000,9,  -999.0,9,-999.0000,9,  -999.00,   4.2781
29AH20120622,      OVIDE,      85,          1,          7,2,20120716,       0000,    59.8085,   -42.2354,       1190,   800.9,   4.4443,  34.9560,2,  34.9583,2,    280.4,2,   280.2,2,    8.76,2,   15.77,2,    1.04,2,-999.000,9,-999.000,9,  2307.0,2,   7.7288,2,    25.00,   4.3815
29AH20120622,      OVIDE,      85,          1,          8,2,20120716,       0000,    59.8085,   -42.2354,       1190,   801.0,   4.4454,  34.9561,2,-999.0000,9,    280.4,2,  -999.0,9, -999.00,9, -999.00,9, -999.00,9,-999.000,9,-999.000,9,  -999.0,9,-999.0000,9,  -999.00,   4.3826
29AH20120622,      OVIDE,      85,          1,          9,2,20120716,       0000,    59.8085,   -42.2354,       1190,   700.5,   4.5628,  34.9644,2,  34.9640,2,    281.9,2,   280.4,2,    8.49,2,   15.81,2,    1.01,2,-999.000,9,-999.000,9,  -999.0,9,   7.7310,2,    25.00,   4.5078
29AH20120622,      OVIDE,      85,          1,         10,2,20120716,       0000,    59.8085,   -42.2354,       1190,   700.5,   4.5630,  34.9645,2,-999.0000,9,    281.9,2,  -999.0,9, -999.00,9, -999.00,9, -999.00,9,-999.000,9,-999.000,9,  -999.0,9,-999.0000,9,  -999.00,   4.5080
29AH20120622,      OVIDE,      85,          1,         11,2,20120716,       0000,    59.8085,   -42.2354,       1190,   600.9,   4.7794,  34.9842,2,  34.9836,2,    282.8,2,   282.0,2,    8.08,2,   15.71,2,    1.01,2,-999.000,9,-999.000,9,  2308.8,2,   7.7344,2,    25.00,   4.7316
29AH20120622,      OVIDE,      85,          1,         12,2,20120716,       0000,    59.8085,   -42.2354,       1190,   600.9,   4.7794,  34.9842,2,-999.0000,9,    282.8,2,  -999.0,9, -999.00,9, -999.00,9, -999.00,9,-999.000,9,-999.000,9,  -999.0,9,-999.0000,9,  -999.00,   4.7316
29AH20120622,      OVIDE,      85,          1,         13,2,20120716,       0000,    59.8085,   -42.2354,       1190,   501.3,   4.8571,  34.9835,2,  34.9821,2,    282.4,2,   281.6,2,    7.94,2,   15.43,2,    1.01,2,-999.000,9,-999.000,9,  -999.0,9,   7.7377,2,    25.00,   4.8173
29AH20120622,      OVIDE,      85,          1,         14,2,20120716,       0000,    59.8085,   -42.2354,       1190,   501.3,   4.8560,  34.9835,2,-999.0000,9,    282.4,2,  -999.0,9, -999.00,9, -999.00,9, -999.00,9,-999.000,9,-999.000,9,  -999.0,9,-999.0000,9,  -999.00,   4.8162
29AH20120622,      OVIDE,      85,          1,         15,2,20120716,       0000,    59.8085,   -42.2354,       1190,   401.0,   5.1240,  35.0132,2,  35.0134,2,    281.9,2,   281.6,2,    7.77,2,   15.48,2,    0.99,2,-999.000,9,-999.000,9,  2309.6,2,   7.7401,2,    25.00,   5.0916
29AH20120622,      OVIDE,      85,          1,         16,2,20120716,       0000,    59.8085,   -42.2354,       1190,   400.9,   5.1241,  35.0134,2,-999.0000,9,    282.0,2,  -999.0,9, -999.00,9, -999.00,9, -999.00,9,-999.000,9,-999.000,9,  -999.0,9,-999.0000,9,  -999.00,   5.0917
29AH20120622,      OVIDE,      85,          1,         17,2,20120716,       0000,    59.8085,   -42.2354,       1190,   301.4,   5.4158,  35.0377,2,  35.0376,2,    281.4,2,   280.7,2,    7.54,2,   15.19,2,    1.00,2,-999.000,9,-999.000,9,  -999.0,9,   7.7446,2,    25.00,   5.3910
29AH20120622,      OVIDE,      85,          1,         18,2,20120716,       0000,    59.8085,   -42.2354,       1190,   201.5,   5.0614,  34.9408,2,  34.9447,2,    285.7,2,   286.2,2,    6.50,2,   14.05,2,    0.91,2,-999.000,9,-999.000,9,  2303.1,2,   7.7481,2,    25.00,   5.0455
29AH20120622,      OVIDE,      85,          1,         19,2,20120716,       0000,    59.8085,   -42.2354,       1190,   201.6,   5.0622,  34.9408,2,-999.0000,9,    285.7,2,  -999.0,9, -999.00,9, -999.00,9, -999.00,9,-999.000,9,-999.000,9,  -999.0,9,-999.0000,9,  -999.00,   5.0463
29AH20120622,      OVIDE,      85,          1,         20,2,20120716,       0000,    59.8085,   -42.2354,       1190,   150.1,   4.5851,  34.8321,2,  34.8321,2,    300.5,2,   291.8,3,    5.86,2,   13.16,2,    0.84,2,-999.000,9,-999.000,9,  -999.0,9,   7.7511,2,    25.00,   4.5739
29AH20120622,      OVIDE,      85,          1,         21,2,20120716,       0000,    59.8085,   -42.2354,       1190,   100.6,   3.1805,  34.5634,2,  34.5692,2,    313.9,2,   304.6,3,    5.38,2,   11.57,2,    0.77,2,-999.000,9,-999.000,9,  2286.7,2,   7.7476,2,    25.00,   3.1742
29AH20120622,      OVIDE,      85,          1,         22,2,20120716,       0000,    59.8085,   -42.2354,       1190,    21.8,   5.6989,  34.4110,2,  34.4033,4,    314.1,2,   317.0,2,    1.82,2,    6.12,2,    0.31,2,-999.000,9,-999.000,9,  -999.0,9,   7.8445,2,    25.00,   5.6971
29AH20120622,      OVIDE,      85,          1,         23,2,20120716,       0000,    59.8085,   -42.2354,       1190,     6.6,   4.9542,  33.7519,2,-999.0000,9,    332.4,2,  -999.0,9, -999.00,9, -999.00,9, -999.00,9,-999.000,9,-999.000,9,  -999.0,9,-999.0000,9,  -999.00,   4.9537
29AH20120622,      OVIDE,      85,          1,         24,2,20120716,       0000,    59.8085,   -42.2354,       1190,     6.7,   4.9835,  33.7547,2,  33.7738,4,    332.3,2,   346.8,3,    0.97,2,    2.77,2,    0.08,2,-999.000,9,-999.000,9,  2249.1,2,   7.8795,2,    25.00,   4.9830
29AH20120622,      OVIDE,      86,          1,          1,2,20120717,       0000,    59.8155,   -42.2751,        891,   897.0,   4.5597,  34.9616,2,  34.9616,2,    280.4,2,   280.3,2,    8.79,2,   15.74,2,    0.95,3,-999.000,9,-999.000,9,  -999.0,9,   7.7322,2,    25.00,   4.4880
29AH20120622,      OVIDE,      86,          1,          2,2,20120717,       0000,    59.8155,   -42.2751,        891,   897.1,   4.5596,  34.9615,2,-999.0000,9,    280.4,2,  -999.0,9, -999.00,9, -999.00,9, -999.00,9,-999.000,9,-999.000,9,  -999.0,9,-999.0000,9,  -999.00,   4.4879
29AH20120622,      OVIDE,      86,          1,          3,2,20120717,       0000,    59.8155,   -42.2751,        891,   800.5,   4.6566,  34.9673,2,  34.9676,2,    280.8,2,   280.1,2,    8.58,2,   15.74,2,    0.97,2,   4.070,2,   2.204,2,  -999.0,9,   7.7358,2,    25.00,   4.5926
29AH20120622,      OVIDE,      86,          1,          4,2,20120717,       0000,    59.8155,   -42.2751,        891,   800.6,   4.6572,  34.9675,2,-999.0000,9,    280.8,2,  -999.0,9, -999.00,9, -999.00,9, -999.00,9,-999.000,9,-999.000,9,  -999.0,9,-999.0000,9,  -999.00,   4.5931
29AH20120622,      OVIDE,      86,          1,          5,2,20120717,       0000,    59.8155,   -42.2751,        891,   700.2,   4.7076,  34.9705,2,  34.9707,2,    281.1,2,   280.6,2,    8.58,2,   15.67,2,    0.98,2,-999.000,9,-999.000,9,  -999.0,9,   7.7359,2,    25.00,   4.6518
29AH20120622,      OVIDE,      86,          1,          6,2,20120717,       0000,    59.8155,   -42.2751,        891,   700.2,   4.7075,  34.9704,2,-999.0000,9,    281.1,2,  -999.0,9, -999.00,9, -999.00,9, -999.00,9,-999.000,9,-999.000,9,  -999.0,9,-999.0000,9,  -999.00,   4.6517
29AH20120622,      OVIDE,      86,          1,          7,2,20120717,       0000,    59.8155,   -42.2751,        891,   600.8,   4.8164,  34.9755,2,  34.9739,2,    281.6,2,   281.4,2,    8.34,2,   15.52,2,    0.98,2,-999.000,9,-999.000,9,  -999.0,9,   7.7382,2,    25.00,   4.7685
29AH20120622,      OVIDE,      86,          1,          8,2,20120717,       0000,    59.8155,   -42.2751,        891,   600.7,   4.8160,  34.9756,2,-999.0000,9,    281.6,2,  -999.0,9, -999.00,9, -999.00,9, -999.00,9,-999.000,9,-999.000,9,  -999.0,9,-999.0000,9,  -999.00,   4.7681
29AH20120622,      OVIDE,      86,          1,          9,2,20120717,       0000,    59.8155,   -42.2751,        891,   500.5,   4.8211,  34.9756,2,  34.9767,2,    282.1,2,   282.2,2,    8.24,2,   15.56,2,    0.99,2,   4.084,2,   2.239,2,  -999.0,9,   7.7371,2,    25.00,   4.7815
29AH20120622,      OVIDE,      86,          1,         10,2,20120717,       0000,    59.8155,   -42.2751,        891,   500.5,   4.8211,  34.9756,2,-999.0000,9,    282.1,2,  -999.0,9, -999.00,9, -999.00,9, -999.00,9,-999.000,9,-999.000,9,  -999.0,9,-999.0000,9,  -999.00,   4.7815
29AH20120622,      OVIDE,      86,          1,         11,2,20120717,       0000,    59.8155,   -42.2751,        891,   400.7,   4.9053,  34.9758,2,  34.9754,2,    282.8,2,   282.8,2,    8.13,2,   15.39,2,    0.99,2,-999.000,9,-999.000,9,  -999.0,9,   7.7410,2,    25.00,   4.8736
29AH20120622,      OVIDE,      86,          1,         12,2,20120717,       0000,    59.8155,   -42.2751,        891,   400.6,   4.9053,  34.9758,2,-999.0000,9,    282.8,2,  -999.0,9, -999.00,9, -999.00,9, -999.00,9,-999.000,9,-999.000,9,  -999.0,9,-999.0000,9,  -999.00,   4.8737
29AH20120622,      OVIDE,      86,          1,         13,2,20120717,       0000,    59.8155,   -42.2751,        891,   300.6,   4.9739,  34.9558,2,  34.9595,2,    285.4,2,   284.4,2,    7.46,2,   14.97,2,    0.96,2,-999.000,9,-999.000,9,  -999.0,9,   7.7424,2,    25.00,   4.9502
29AH20120622,      OVIDE,      86,          1,         14,2,20120717,       0000,    59.8155,   -42.2751,        891,   300.6,   4.9761,  34.9561,2,-999.0000,9,    285.4,2,  -999.0,9, -999.00,9, -999.00,9, -999.00,9,-999.000,9,-999.000,9,  -999.0,9,-999.0000,9,  -999.00,   4.9524
29AH20120622,      OVIDE,      86,          1,         15,2,20120717,       0000,    59.8155,   -42.2751,        891,   201.4,   4.7599,  34.8786,2,  34.8792,2,    295.0,2,   289.2,3,    6.67,2,   14.01,2,    0.91,2,   4.282,2,   2.354,2,  -999.0,9,   7.7501,2,    25.00,   4.7445
29AH20120622,      OVIDE,      86,          1,         16,2,20120717,       0000,    59.8155,   -42.2751,        891,   201.5,   4.7667,  34.8800,2,-999.0000,9,    294.9,2,  -999.0,9, -999.00,9, -999.00,9, -999.00,9,-999.000,9,-999.000,9,  -999.0,9,-999.0000,9,  -999.00,   4.7513
29AH20120622,      OVIDE,      86,          1,         17,2,20120717,       0000,    59.8155,   -42.2751,        891,   150.7,   3.0377,  34.5372,2,  34.5412,2,    308.6,2,   304.6,2,    5.83,2,   11.96,2,    0.80,2,-999.000,9,-999.000,9,  -999.0,9,   7.7482,2,    25.00,   3.0284
29AH20120622,      OVIDE,      86,          1,         18,2,20120717,       0000,    59.8155,   -42.2751,        891,   150.5,   3.0359,  34.5370,2,-999.0000,9,    308.6,2,  -999.0,9, -999.00,9, -999.00,9, -999.00,9,-999.000,9,-999.000,9,  -999.0,9,-999.0000,9,  -999.00,   3.0266
29AH20120622,      OVIDE,      86,          1,         19,2,20120717,       0000,    59.8155,   -42.2751,        891,   100.7,   1.9850,  34.3112,2,  34.3119,2,    317.1,2,   313.8,2,    5.76,2,   10.92,2,    0.75,2,-999.000,9,-999.000,9,  -999.0,9,   7.7414,2,    25.00,   1.9798
29AH20120622,      OVIDE,      86,          1,         20,2,20120717,       0000,    59.8155,   -42.2751,        891,   100.7,   1.9907,  34.3128,2,-999.0000,9,    317.1,2,  -999.0,9, -999.00,9, -999.00,9, -999.00,9,-999.000,9,-999.000,9,  -999.0,9,-999.0000,9,  -999.00,   1.9855
29AH20120622,      OVIDE,      86,          1,         21,2,20120717,       0000,    59.8155,   -42.2751,        891,    21.4,   2.7439,  33.6459,2,  33.6422,2,    353.7,2,   348.3,3,    1.28,2,    3.35,2,    0.25,2,-999.000,9,-999.000,9,  -999.0,9,   7.8456,2,    25.00,   2.7427
29AH20120622,      OVIDE,      86,          1,         22,2,20120717,       0000,    59.8155,   -42.2751,        891,    21.4,   2.7547,  33.6473,2,-999.0000,9,    353.7,2,  -999.0,9, -999.00,9, -999.00,9, -999.00,9,-999.000,9,-999.000,9,  -999.0,9,-999.0000,9,  -999.00,   2.7535
29AH20120622,      OVIDE,      86,          1,         23,2,20120717,       0000,    59.8155,   -42.2751,        891,     6.1,   2.6993,  33.2715,2,-999.0000,9,    372.3,2,  -999.0,9, -999.00,9, -999.00,9, -999.00,9,-999.000,9,-999.000,9,  -999.0,9,-999.0000,9,  -999.00,   2.6990
29AH20120622,      OVIDE,      86,          1,         24,2,20120717,       0000,    59.8155,   -42.2751,        891,     6.1,   2.7078,  33.2708,2,  34.9204,4,    372.3,2,   365.2,3,    0.78,2,    1.11,2,    0.11,2,   5.284,2,   2.931,2,  -999.0,9,   7.8823,2,    25.00,   2.7075