BOTTLE,20020306WHPSIOdm
EXPOCODE,SECT_ID,STNNBR,CASTNO,SAMPNO,BTLNBR,BTLNBR_FLAG_W,DATE,TIME,LATITUDE,LONGITUDE,DEPTH,CTDPRS,CTDTMP,CTDSAL,CTDSAL_FLAG_W,SALNTY,SALNTY_FLAG_W,CTDOXY,CTDOXY_FLAG_W,OXYGEN,OXYGEN_FLAG_W,SILCAT,SILCAT_FLAG_W,NITRAT,NITRAT_FLAG_W,NITRIT,NITRIT_FLAG_W,PHSPHT,PHSPHT_FLAG_W,CFC-11,CFC-11_FLAG_W,CFC-12,CFC-12_FLAG_W,TRITUM,TRITUM_FLAG_W,HELIUM,HELIUM_FLAG_W,DELHE3,DELHE3_FLAG_W,DELC14,DELC14_FLAG_W,NEON,NEON_FLAG_W,TCARBN,TCARBN_FLAG_W,CTDRAW,C14ERR,REVTMP,HELIER,DELHER,REVPRS,NEONER,THETA,TRITER
,,,,,,,,,,,,DBAR,ITS-90,PSS-78,,PSS-78,,UMOL/KG,,UMOL/KG,,UMOL/KG,,UMOL/KG,,UMOL/KG,,UMOL/KG,,PMOL/KG,,PMOL/KG,,TU,,NMOL/KG,,PERCNT,,/MILLE,,NMOL/KG,,UMOL/KG,,,/MILLE,ITS-90,NMOL/KG,PERCNT,DBAR,NMOL/KG,DEG C,TU
    49RY9407_1,   P09,     3,  2,     22,    227,2,19940708,2256, 34.0102, 136.9760,  945,      1.7,  27.1856,  34.0944,3,  34.1229,2,    225.8,3,   -999.0,9,  -999.00,9,  -999.00,9,  -999.00,9,  -999.00,9, -999.000,9, -999.000,9,    1.655,2,   1.6690,2,    -1.48,2,   -999.0,9,   6.542,2,   -999.0,9,   -999,  -999.0,-999.000,  0.0022,   0.210,  -999.0,   0.013, 27.1852,   0.018
    49RY9407_1,   P09,     3,  2,     21,    226,2,19940708,2256, 34.0102, 136.9760,  945,     24.5,  23.4968,  34.6643,3,  34.6388,2,    226.7,3,   -999.0,9,  -999.00,9,  -999.00,9,  -999.00,9,  -999.00,9, -999.000,9, -999.000,9,    1.537,2,   1.6854,2,    -0.29,2,   -999.0,9,   6.720,2,   -999.0,9,   -999,  -999.0,-999.000,  0.0022,   0.210,  -999.0,   0.014, 23.4918,   0.017
    49RY9407_1,   P09,     3,  2,     19,    224,2,19940708,2256, 34.0102, 136.9760,  945,     49.9,  21.1770,  34.5249,2,  34.5348,2,    231.9,3,   -999.0,9,  -999.00,9,  -999.00,9,  -999.00,9,  -999.00,9, -999.000,9, -999.000,9,    1.667,2,   1.7011,2,    -0.18,2,   -999.0,9,   6.849,2,   -999.0,9,   -999,  -999.0,-999.000,  0.0022,   0.200,  -999.0,   0.014, 21.1674,   0.019
    49RY9407_1,   P09,     3,  2,     20,    225,2,19940708,2256, 34.0102, 136.9760,  945,     49.9,  21.1770,  34.5249,2,  34.5342,2,    231.9,3,   -999.0,9,  -999.00,9,  -999.00,9,  -999.00,9,  -999.00,9, -999.000,9, -999.000,9,    1.664,2,   1.6710,2,     0.24,2,   -999.0,9,   6.745,2,   -999.0,9,   -999,  -999.0,-999.000,  0.0022,   0.210,  -999.0,   0.014, 21.1674,   0.019
    49RY9407_1,   P09,     3,  2,     18,    223,2,19940708,2256, 34.0102, 136.9760,  945,     74.5,  17.7292,  34.6517,2,  34.6605,2,    211.7,3,   -999.0,9,  -999.00,9,  -999.00,9,  -999.00,9,  -999.00,9, -999.000,9, -999.000,9,    1.701,2,   1.6959,2,     1.43,2,   -999.0,9,   6.930,2,   -999.0,9,   -999,  -999.0,-999.000,  0.0022,   0.210,  -999.0,   0.014, 17.7166,   0.019
    49RY9407_1,   P09,     3,  2,     17,    222,2,19940708,2256, 34.0102, 136.9760,  945,    100.1,  16.4055,  34.6775,2,  34.6693,2,    199.9,3,   -999.0,9,  -999.00,9,  -999.00,9,  -999.00,9,  -999.00,9, -999.000,9, -999.000,9, -999.000,5,   1.7246,2,     3.98,2,   -999.0,9,   7.083,2,   -999.0,9,   -999,  -999.0,-999.000,  0.0027,   0.230,  -999.0,   0.014, 16.3895,-999.000
    49RY9407_1,   P09,     3,  2,     16,    221,2,19940708,2256, 34.0102, 136.9760,  945,    150.3,  14.7697,  34.5756,2,  34.5767,2,    190.4,3,   -999.0,9,  -999.00,9,  -999.00,9,  -999.00,9,  -999.00,9, -999.000,9, -999.000,9,    2.148,2,   1.7799,2,     5.38,2,   -999.0,9,   7.344,3,   -999.0,9,   -999,  -999.0,  14.790,  0.0023,   0.200,   152.0,   0.015, 14.7473,   0.024
    49RY9407_1,   P09,     3,  2,     14,    219,2,19940708,2256, 34.0102, 136.9760,  945,    201.0,  12.9104,  34.5062,2,-999.0000,9,    183.3,3,   -999.0,9,  -999.00,9,  -999.00,9,  -999.00,9,  -999.00,9, -999.000,9, -999.000,9, -999.000,9,-999.0000,9,  -999.00,9,   -999.0,9,-999.000,9,   -999.0,9,   -999,  -999.0,-999.000,-999.0000,-999.000,  -999.0,-999.000, 12.8830,-999.000
    49RY9407_1,   P09,     3,  2,     15,    220,2,19940708,2256, 34.0102, 136.9760,  945,    201.9,  12.8912,  34.5036,2,  34.4950,3,    182.7,3,   -999.0,9,  -999.00,9,  -999.00,9,  -999.00,9,  -999.00,9, -999.000,9, -999.000,9,    1.648,2,   1.7192,2,     8.71,2,   -999.0,9,   7.216,2,   -999.0,9,   -999,  -999.0,-999.000,  0.0022,   0.200,  -999.0,   0.015, 12.8637,   0.019
    49RY9407_1,   P09,     3,  2,     12,    217,2,19940708,2256, 34.0102, 136.9760,  945,    299.9,   8.9713,  34.2688,2,-999.0000,9,    160.2,3,   -999.0,9,  -999.00,9,  -999.00,9,  -999.00,9,  -999.00,9, -999.000,9, -999.000,9, -999.000,9,-999.0000,9,  -999.00,9,   -999.0,9,-999.000,9,   -999.0,9,   -999,  -999.0,-999.000,-999.0000,-999.000,  -999.0,-999.000,  8.9389,-999.000
    49RY9407_1,   P09,     3,  2,     13,    218,2,19940708,2256, 34.0102, 136.9760,  945,    300.4,   8.9724,  34.2590,2,-999.0000,5,    160.3,3,   -999.0,9,  -999.00,9,  -999.00,9,  -999.00,9,  -999.00,9, -999.000,9, -999.000,9,    1.445,2,   1.7663,2,    12.98,2,   -999.0,9,   7.496,2,   -999.0,9,   -999,  -999.0,-999.000,  0.0021,   0.200,  -999.0,   0.015,  8.9400,   0.016
    49RY9407_1,   P09,     3,  2,     10,    214,2,19940708,2256, 34.0102, 136.9760,  945,    402.6,   6.8417,  34.1941,2,-999.0000,9,    127.4,3,   -999.0,9,  -999.00,9,  -999.00,9,  -999.00,9,  -999.00,9, -999.000,9, -999.000,9, -999.000,9,-999.0000,9,  -999.00,9,   -999.0,9,-999.000,9,   -999.0,9,   -999,  -999.0,-999.000,-999.0000,-999.000,  -999.0,-999.000,  6.8044,-999.000
    49RY9407_1,   P09,     3,  2,     11,    216,2,19940708,2256, 34.0102, 136.9760,  945,    403.1,   6.8404,  34.1942,2,  34.1944,2,    127.4,3,   -999.0,9,  -999.00,9,  -999.00,9,  -999.00,9,  -999.00,9, -999.000,9, -999.000,9,    1.062,2,   1.8240,2,    14.30,2,   -999.0,9,   7.781,3,   -999.0,9,   -999,  -999.0,-999.000,  0.0024,   0.200,  -999.0,   0.016,  6.8031,   0.012
    49RY9407_1,   P09,     3,  2,      8,    212,2,19940708,2256, 34.0102, 136.9760,  945,    502.8,   5.6824,  34.2376,2,-999.0000,9,     98.9,3,   -999.0,9,  -999.00,9,  -999.00,9,  -999.00,9,  -999.00,9, -999.000,9, -999.000,9, -999.000,9,-999.0000,9,  -999.00,9,   -999.0,9,-999.000,9,   -999.0,9,   -999,  -999.0,-999.000,-999.0000,-999.000,  -999.0,-999.000,  5.6399,-999.000
    49RY9407_1,   P09,     3,  2,      9,    213,2,19940708,2256, 34.0102, 136.9760,  945,    503.0,   5.6821,  34.2387,2,  34.2367,2,     98.9,3,   -999.0,9,  -999.00,9,  -999.00,9,  -999.00,9,  -999.00,9, -999.000,9, -999.000,9,    0.694,2,   1.7985,2,    15.42,2,   -999.0,9,   7.707,2,   -999.0,9,   -999,  -999.0,   5.679,  0.0023,   0.200,   501.0,   0.016,  5.6395,   0.009
    49RY9407_1,   P09,     3,  2,      6,    209,2,19940708,2256, 34.0102, 136.9760,  945,    603.9,   4.9756,  34.2965,2,-999.0000,9,     83.4,3,   -999.0,9,  -999.00,9,  -999.00,9,  -999.00,9,  -999.00,9, -999.000,9, -999.000,9, -999.000,9,-999.0000,9,  -999.00,9,   -999.0,9,-999.000,9,   -999.0,9,   -999,  -999.0,-999.000,-999.0000,-999.000,  -999.0,-999.000,  4.9273,-999.000
    49RY9407_1,   P09,     3,  2,      7,    210,2,19940708,2256, 34.0102, 136.9760,  945,    604.0,   4.9729,  34.2997,2,  34.2972,2,     83.4,3,   -999.0,9,  -999.00,9,  -999.00,9,  -999.00,9,  -999.00,9, -999.000,9, -999.000,9,    0.481,2,   1.8312,2,    15.97,2,   -999.0,9,   7.783,2,   -999.0,9,   -999,  -999.0,-999.000,  0.0024,   0.200,  -999.0,   0.016,  4.9247,   0.006
    49RY9407_1,   P09,     3,  2,      4,    206,2,19940708,2256, 34.0102, 136.9760,  945,    704.5,   4.3598,  34.3323,2,-999.0000,9,     71.3,3,   -999.0,9,  -999.00,9,  -999.00,9,  -999.00,9,  -999.00,9, -999.000,9, -999.000,9, -999.000,9,-999.0000,9,  -999.00,9,   -999.0,9,-999.000,9,   -999.0,9,   -999,  -999.0,-999.000,-999.0000,-999.000,  -999.0,-999.000,  4.3063,-999.000
    49RY9407_1,   P09,     3,  2,      5,    207,2,19940708,2256, 34.0102, 136.9760,  945,    704.6,   4.3561,  34.3332,2,  34.3305,2,     70.4,3,   -999.0,9,  -999.00,9,  -999.00,9,  -999.00,9,  -999.00,9, -999.000,9, -999.000,9,    0.327,2,   1.8205,2,    14.19,2,   -999.0,9,   7.733,2,   -999.0,9,   -999,  -999.0,-999.000,  0.0024,   0.200,  -999.0,   0.016,  4.3026,   0.005
    49RY9407_1,   P09,     3,  2,      2,    204,2,19940708,2256, 34.0102, 136.9760,  945,    805.5,   3.8360,  34.3796,2,-999.0000,9,     65.2,3,   -999.0,9,  -999.00,9,  -999.00,9,  -999.00,9,  -999.00,9, -999.000,9, -999.000,9, -999.000,9,-999.0000,9,  -999.00,9,   -999.0,9,-999.000,9,   -999.0,9,   -999,  -999.0,   3.831,-999.0000,-999.000,   803.0,-999.000,  3.7774,-999.000
    49RY9407_1,   P09,     3,  2,      3,    205,2,19940708,2256, 34.0102, 136.9760,  945,    805.7,   3.8360,  34.3813,2,  34.3783,2,     65.2,3,   -999.0,9,  -999.00,9,  -999.00,9,  -999.00,9,  -999.00,9, -999.000,9, -999.000,9, -999.000,5,   4.8306,4,     5.05,4,   -999.0,9,  22.235,4,   -999.0,9,   -999,  -999.0,-999.000,  0.0064,   0.180,  -999.0,   0.045,  3.7774,-999.000
    49RY9407_1,   P09,     3,  2,      1,    201,4,19940708,2256, 34.0102, 136.9760,  945,    938.3,   3.4017,  34.4266,2,  34.4255,2,     58.0,3,   -999.0,9,  -999.00,9,  -999.00,9,  -999.00,9,  -999.00,9, -999.000,9, -999.000,9,    0.137,2,   1.8483,2,    16.95,2,   -999.0,9,   7.901,2,   -999.0,9,   -999,  -999.0,-999.000,  0.0030,   0.220,  -999.0,   0.016,  3.3357,   0.003
    49RY9407_1,   P09,     4,  1,     15,    220,2,19940709,0142, 33.8315, 136.9637, 1795,     10.2,  26.4428,  33.9263,3,  33.9093,2,    219.5,3,   -999.0,9,  -999.00,9,  -999.00,9,  -999.00,9,  -999.00,9, -999.000,9, -999.000,9, -999.000,9,-999.0000,9,  -999.00,9,   -999.0,9,-999.000,9,   -999.0,9,   -999,  -999.0,-999.000,-999.0000,-999.000,  -999.0,-999.000, 26.4405,-999.000
    49RY9407_1,   P09,     4,  1,     16,    221,2,19940709,0142, 33.8315, 136.9637, 1795,     10.2,  26.4428,  33.9263,3,-999.0000,5,    219.5,3,   -999.0,9,  -999.00,9,  -999.00,9,  -999.00,9,  -999.00,9, -999.000,9, -999.000,9, -999.000,9,-999.0000,9,  -999.00,9,   -999.0,9,-999.000,9,   -999.0,9,   -999,  -999.0,-999.000,-999.0000,-999.000,  -999.0,-999.000, 26.4405,-999.000
    49RY9407_1,   P09,     4,  1,     14,    219,2,19940709,0142, 33.8315, 136.9637, 1795,     51.2,  21.3400,  34.5258,2,  34.5330,2,    184.4,3,   -999.0,9,  -999.00,9,  -999.00,9,  -999.00,9,  -999.00,9, -999.000,9, -999.000,9, -999.000,9,-999.0000,9,  -999.00,9,   -999.0,9,-999.000,9,   -999.0,9,   -999,  -999.0,-999.000,-999.0000,-999.000,  -999.0,-999.000, 21.3302,-999.000
    49RY9407_1,   P09,     4,  1,     13,    218,4,19940709,0142, 33.8315, 136.9637, 1795,    100.5,  15.1592,  34.6003,2,  34.6025,2,    178.0,3,   -999.0,9,  -999.00,9,  -999.00,9,  -999.00,9,  -999.00,9, -999.000,9, -999.000,9, -999.000,9,-999.0000,9,  -999.00,9,   -999.0,9,-999.000,9,   -999.0,9,   -999,  -999.0,-999.000,-999.0000,-999.000,  -999.0,-999.000, 15.1440,-999.000
    49RY9407_1,   P09,     4,  1,     12,    217,2,19940709,0142, 33.8315, 136.9637, 1795,    201.2,  12.5750,  34.4784,2,  34.4783,2,    160.3,3,   -999.0,9,  -999.00,9,  -999.00,9,  -999.00,9,  -999.00,9, -999.000,9, -999.000,9, -999.000,9,-999.0000,9,  -999.00,9,   -999.0,9,-999.000,9,   -999.0,9,   -999,  -999.0,-999.000,-999.0000,-999.000,  -999.0,-999.000, 12.5481,-999.000
    49RY9407_1,   P09,     4,  1,     11,    216,2,19940709,0142, 33.8315, 136.9637, 1795,    302.1,   9.1099,  34.3302,2,  34.3252,2,    131.8,3,   -999.0,9,  -999.00,9,  -999.00,9,  -999.00,9,  -999.00,9, -999.000,9, -999.000,9, -999.000,9,-999.0000,9,  -999.00,9,   -999.0,9,-999.000,9,   -999.0,9,   -999,  -999.0,-999.000,-999.0000,-999.000,  -999.0,-999.000,  9.0769,-999.000
    49RY9407_1,   P09,     4,  1,     10,    214,2,19940709,0142, 33.8315, 136.9637, 1795,    402.0,   6.5525,  34.2148,2,  34.2078,2,    113.0,3,   -999.0,9,  -999.00,9,  -999.00,9,  -999.00,9,  -999.00,9, -999.000,9, -999.000,9, -999.000,9,-999.0000,9,  -999.00,9,   -999.0,9,-999.000,9,   -999.0,9,   -999,  -999.0,-999.000,-999.0000,-999.000,  -999.0,-999.000,  6.5161,-999.000
    49RY9407_1,   P09,     4,  1,      9,    213,2,19940709,0142, 33.8315, 136.9637, 1795,    503.1,   5.2490,  34.2380,2,  34.2379,2,     88.7,3,   -999.0,9,  -999.00,9,  -999.00,9,  -999.00,9,  -999.00,9, -999.000,9, -999.000,9, -999.000,9,-999.0000,9,  -999.00,9,   -999.0,9,-999.000,9,   -999.0,9,   -999,  -999.0,   5.257,-999.0000,-999.000,   502.0,-999.000,  5.2082,-999.000
    49RY9407_1,   P09,     4,  1,      8,    212,2,19940709,0142, 33.8315, 136.9637, 1795,    604.1,   4.6542,  34.2914,2,  34.2884,2,     77.9,3,   -999.0,9,  -999.00,9,  -999.00,9,  -999.00,9,  -999.00,9, -999.000,9, -999.000,9, -999.000,9,-999.0000,9,  -999.00,9,   -999.0,9,-999.000,9,   -999.0,9,   -999,  -999.0,-999.000,-999.0000,-999.000,  -999.0,-999.000,  4.6074,-999.000
    49RY9407_1,   P09,     4,  1,      7,    210,2,19940709,0142, 33.8315, 136.9637, 1795,    704.2,   4.1391,  34.3434,2,  34.3417,2,     70.0,3,   -999.0,9,  -999.00,9,  -999.00,9,  -999.00,9,  -999.00,9, -999.000,9, -999.000,9, -999.000,9,-999.0000,9,  -999.00,9,   -999.0,9,-999.000,9,   -999.0,9,   -999,  -999.0,-999.000,-999.0000,-999.000,  -999.0,-999.000,  4.0868,-999.000
    49RY9407_1,   P09,     4,  1,      6,    209,2,19940709,0142, 33.8315, 136.9637, 1795,    806.8,   3.7244,  34.3891,2,  34.3862,2,     66.5,3,   -999.0,9,  -999.00,9,  -999.00,9,  -999.00,9,  -999.00,9, -999.000,9, -999.000,9, -999.000,9,-999.0000,9,  -999.00,9,   -999.0,9,-999.000,9,   -999.0,9,   -999,  -999.0,-999.000,-999.0000,-999.000,  -999.0,-999.000,  3.6664,-999.000
    49RY9407_1,   P09,     4,  1,      5,    207,2,19940709,0142, 33.8315, 136.9637, 1795,   1009.7,   3.2042,  34.4501,2,  34.4436,2,     70.6,3,   -999.0,9,  -999.00,9,  -999.00,9,  -999.00,9,  -999.00,9, -999.000,9, -999.000,9, -999.000,9,-999.0000,9,  -999.00,9,   -999.0,9,-999.000,9,   -999.0,9,   -999,  -999.0,-999.000,-999.0000,-999.000,  -999.0,-999.000,  3.1340,-999.000
    49RY9407_1,   P09,     4,  1,      4,    206,2,19940709,0142, 33.8315, 136.9637, 1795,   1261.2,   2.7427,  34.5085,2,  34.4968,3,     80.2,3,   -999.0,9,  -999.00,9,  -999.00,9,  -999.00,9,  -999.00,9, -999.000,9, -999.000,9, -999.000,9,-999.0000,9,  -999.00,9,   -999.0,9,-999.000,9,   -999.0,9,   -999,  -999.0,-999.000,-999.0000,-999.000,  -999.0,-999.000,  2.6570,-999.000
    49RY9407_1,   P09,     4,  1,      2,    204,4,19940709,0142, 33.8315, 136.9637, 1795,   1515.2,   2.5007,  34.5388,2,  34.5391,2,     88.9,3,   -999.0,9,  -999.00,9,  -999.00,9,  -999.00,9,  -999.00,9, -999.000,9, -999.000,9, -999.000,9,-999.0000,9,  -999.00,9,   -999.0,9,-999.000,9,   -999.0,9,   -999,  -999.0,   2.496,-999.0000,-999.000,  1513.0,-999.000,  2.3975,-999.000
    49RY9407_1,   P09,     4,  1,      3,    205,2,19940709,0142, 33.8315, 136.9637, 1795,   1515.2,   2.5007,  34.5388,2,  34.5283,3,     88.9,3,   -999.0,9,  -999.00,9,  -999.00,9,  -999.00,9,  -999.00,9, -999.000,9, -999.000,9, -999.000,9,-999.0000,9,  -999.00,9,   -999.0,9,-999.000,9,   -999.0,9,   -999,  -999.0,-999.000,-999.0000,-999.000,  -999.0,-999.000,  2.3975,-999.000
    49RY9407_1,   P09,     4,  1,      1,    201,2,19940709,0142, 33.8315, 136.9637, 1795,   1832.4,   2.1789,  34.5830,2,  34.5811,2,     97.8,3,   -999.0,9,  -999.00,9,  -999.00,9,  -999.00,9,  -999.00,9, -999.000,9, -999.000,9, -999.000,9,-999.0000,9,  -999.00,9,   -999.0,9,-999.000,9,   -999.0,9,   -999,  -999.0,-999.000,-999.0000,-999.000,  -999.0,-999.000,  2.0539,-999.000