BOTTLE,20020306WHPSIOdm
EXPOCODE,SECT_ID,STNNBR,CASTNO,SAMPNO,BTLNBR,BTLNBR_FLAG_W,DATE,TIME,LATITUDE,LONGITUDE,DEPTH,CTDPRS,CTDTMP,CTDSAL,CTDSAL_FLAG_W,SALNTY,SALNTY_FLAG_W,CTDOXY,CTDOXY_FLAG_W,OXYGEN,OXYGEN_FLAG_W,SILCAT,SILCAT_FLAG_W,NITRAT,NITRAT_FLAG_W,NITRIT,NITRIT_FLAG_W,PHSPHT,PHSPHT_FLAG_W,CFC-11,CFC-11_FLAG_W,CFC-12,CFC-12_FLAG_W,TRITUM,TRITUM_FLAG_W,HELIUM,HELIUM_FLAG_W,DELHE3,DELHE3_FLAG_W,DELC14,DELC14_FLAG_W,NEON,NEON_FLAG_W,TCARBN,TCARBN_FLAG_W,CTDRAW,C14ERR,REVTMP,HELIER,DELHER,REVPRS,NEONER,THETA,TRITER
,,,,,,,,,,,,DBAR,ITS-90,PSS-78,,PSS-78,,UMOL/KG,,UMOL/KG,,UMOL/KG,,UMOL/KG,,UMOL/KG,,UMOL/KG,,PMOL/KG,,PMOL/KG,,TU,,NMOL/KG,,PERCNT,,/MILLE,,NMOL/KG,,UMOL/KG,,,/MILLE,ITS-90,NMOL/KG,PERCNT,DBAR,NMOL/KG,DEG C,TU
    49RY9407_1,   P09,    28,  2,      1,    201,2,19940714,2138, 26.5167, 136.9722, 5210,    503.5,  12.2144,  34.3919,2,  34.3938,2,    188.8,2,    189.5,2,    17.88,3,    14.18,2,     0.00,2,     0.99,2, -999.000,9, -999.000,9, -999.000,9,-999.0000,9,  -999.00,9,   -999.0,9,-999.000,9,   -999.0,9,   -999,  -999.0,-999.000,-999.0000,-999.000,  -999.0,-999.000, 12.1475,-999.000
    49RY9407_1,   P09,    28,  2,     24,    230,2,19940714,2138, 26.5167, 136.9722, 5210,    603.1,   9.4871,  34.2096,2,  34.2121,2,    178.7,3,    172.0,2,    32.25,3,    20.68,2,     0.00,2,     1.47,2, -999.000,9, -999.000,9, -999.000,9,-999.0000,9,  -999.00,9,   -999.0,9,-999.000,9,   -999.0,9,   -999,  -999.0,-999.000,-999.0000,-999.000,  -999.0,-999.000,  9.4186,-999.000
    49RY9407_1,   P09,    28,  2,     23,    228,2,19940714,2138, 26.5167, 136.9722, 5210,    705.6,   7.3307,  34.1023,2,  34.1040,2,    141.4,2,    143.8,6,    49.42,3,    27.29,6,     0.00,6,     1.95,6, -999.000,9, -999.000,9, -999.000,9,-999.0000,9,  -999.00,9,   -999.0,9,-999.000,9,   -999.0,9,   -999,  -999.0,-999.000,-999.0000,-999.000,  -999.0,-999.000,  7.2614,-999.000
    49RY9407_1,   P09,    28,  2,     22,    227,2,19940714,2138, 26.5167, 136.9722, 5210,    805.4,   5.7183,  34.1171,2,  34.1199,2,    109.6,2,    108.7,2,    74.39,3,    33.03,2,     0.00,2,     2.38,2, -999.000,9, -999.000,9, -999.000,9,-999.0000,9,  -999.00,9,   -999.0,9,-999.000,9,   -999.0,9,   -999,  -999.0,-999.000,-999.0000,-999.000,  -999.0,-999.000,  5.6485,-999.000
    49RY9407_1,   P09,    28,  2,     20,    225,2,19940714,2138, 26.5167, 136.9722, 5210,    905.5,   4.9948,  34.1531,2,  34.1551,2,     86.7,2,     87.3,2,    87.73,3,    36.18,6,     0.00,6,     2.60,6, -999.000,9, -999.000,9, -999.000,9,-999.0000,9,  -999.00,9,   -999.0,9,-999.000,9,   -999.0,9,   -999,  -999.0,-999.000,-999.0000,-999.000,  -999.0,-999.000,  4.9205,-999.000
    49RY9407_1,   P09,    28,  2,     21,    226,2,19940714,2138, 26.5167, 136.9722, 5210,    905.5,   4.9948,  34.1531,2,  34.1553,2,     86.7,2,     87.4,2,    87.59,3,    36.16,2,     0.00,2,     2.60,2, -999.000,9, -999.000,9, -999.000,9,-999.0000,9,  -999.00,9,   -999.0,9,-999.000,9,   -999.0,9,   -999,  -999.0,-999.000,-999.0000,-999.000,  -999.0,-999.000,  4.9205,-999.000
    49RY9407_1,   P09,    28,  2,     19,    224,2,19940714,2138, 26.5167, 136.9722, 5210,   1007.1,   4.3806,  34.2331,2,  34.2347,2,     61.9,3,     67.1,2,   102.49,3,    38.97,2,     0.00,2,     2.80,2, -999.000,9, -999.000,9, -999.000,9,-999.0000,9,  -999.00,9,   -999.0,9,-999.000,9,   -999.0,9,   -999,  -999.0,-999.000,-999.0000,-999.000,  -999.0,-999.000,  4.3018,-999.000
    49RY9407_1,   P09,    28,  2,     18,    223,2,19940714,2138, 26.5167, 136.9722, 5210,   1260.3,   3.3861,  34.3944,2,  34.3933,2,     53.9,2,     51.4,2,   126.50,3,    41.42,2,     0.00,2,     2.96,2, -999.000,9, -999.000,9, -999.000,9,-999.0000,9,  -999.00,9,   -999.0,9,-999.000,9,   -999.0,9,   -999,  -999.0,-999.000,-999.0000,-999.000,  -999.0,-999.000,  3.2945,-999.000
    49RY9407_1,   P09,    28,  2,     17,    222,2,19940714,2138, 26.5167, 136.9722, 5210,   1512.9,   2.7406,  34.4893,2,  34.4905,2,     62.6,2,     60.2,6,   140.35,3,    41.45,2,     0.00,2,     2.95,2, -999.000,9, -999.000,9, -999.000,9,-999.0000,9,  -999.00,9,   -999.0,9,-999.000,9,   -999.0,9,   -999,  -999.0,-999.000,-999.0000,-999.000,  -999.0,-999.000,  2.6349,-999.000
    49RY9407_1,   P09,    28,  2,     16,    221,2,19940714,2138, 26.5167, 136.9722, 5210,   1768.0,   2.2722,  34.5594,2,  34.5610,2,     88.2,2,     85.5,2,   145.00,3,    40.17,2,     0.00,2,     2.84,2, -999.000,9, -999.000,9, -999.000,9,-999.0000,9,  -999.00,9,   -999.0,9,-999.000,9,   -999.0,9,   -999,  -999.0,   2.269,-999.0000,-999.000,  1765.0,-999.000,  2.1513,-999.000
    49RY9407_1,   P09,    28,  2,     15,    220,2,19940714,2138, 26.5167, 136.9722, 5210,   2019.9,   2.0442,  34.5962,2,  34.5986,2,    108.9,3,    103.3,2,   144.45,3,    39.02,2,     0.00,2,     2.75,2, -999.000,9, -999.000,9, -999.000,9,-999.0000,9,  -999.00,9,   -999.0,9,-999.000,9,   -999.0,9,   -999,  -999.0,-999.000,-999.0000,-999.000,  -999.0,-999.000,  1.9056,-999.000
    49RY9407_1,   P09,    28,  2,     14,    219,2,19940714,2138, 26.5167, 136.9722, 5210,   2274.7,   1.9000,  34.6232,2,  34.6234,2,    120.3,2,    118.3,2,   142.88,3,    38.12,2,     0.00,2,     2.68,2, -999.000,9, -999.000,9, -999.000,9,-999.0000,9,  -999.00,9,   -999.0,9,-999.000,9,   -999.0,9,   -999,  -999.0,-999.000,-999.0000,-999.000,  -999.0,-999.000,  1.7417,-999.000
    49RY9407_1,   P09,    28,  2,     13,    218,2,19940714,2138, 26.5167, 136.9722, 5210,   2529.5,   1.7858,  34.6421,2,  34.6425,2,    130.6,2,    129.2,2,   142.55,3,    37.51,6,     0.00,6,     2.62,6, -999.000,9, -999.000,9, -999.000,9,-999.0000,9,  -999.00,9,   -999.0,9,-999.000,9,   -999.0,9,   -999,  -999.0,-999.000,-999.0000,-999.000,  -999.0,-999.000,  1.6069,-999.000
    49RY9407_1,   P09,    28,  2,     12,    217,2,19940714,2138, 26.5167, 136.9722, 5210,   2784.3,   1.6939,  34.6525,2,  34.6531,6,    136.2,2,    135.4,2,   141.71,3,    37.07,2,     0.00,2,     2.59,2, -999.000,9, -999.000,9, -999.000,9,-999.0000,9,  -999.00,9,   -999.0,9,-999.000,9,   -999.0,9,   -999,  -999.0,-999.000,-999.0000,-999.000,  -999.0,-999.000,  1.4934,-999.000
    49RY9407_1,   P09,    28,  2,     11,    216,2,19940714,2138, 26.5167, 136.9722, 5210,   3039.1,   1.6383,  34.6609,2,  34.6610,2,    143.0,2,    141.8,2,   141.32,3,    36.80,2,     0.00,2,     2.57,2, -999.000,9, -999.000,9, -999.000,9,-999.0000,9,  -999.00,9,   -999.0,9,-999.000,9,   -999.0,9,   -999,  -999.0,-999.000,-999.0000,-999.000,  -999.0,-999.000,  1.4148,-999.000
    49RY9407_1,   P09,    28,  2,     10,    214,2,19940714,2138, 26.5167, 136.9722, 5210,   3294.3,   1.5928,  34.6681,2,  34.6684,6,    145.5,2,    145.9,2,   140.97,3,    36.54,2,     0.00,2,     2.54,2, -999.000,9, -999.000,9, -999.000,9,-999.0000,9,  -999.00,9,   -999.0,9,-999.000,9,   -999.0,9,   -999,  -999.0,-999.000,-999.0000,-999.000,  -999.0,-999.000,  1.3452,-999.000
    49RY9407_1,   P09,    28,  2,      9,    213,2,19940714,2138, 26.5167, 136.9722, 5210,   3551.7,   1.5600,  34.6739,2,  34.6746,2,    151.6,2,    151.5,2,   140.35,3,    36.27,2,     0.00,2,     2.51,2, -999.000,9, -999.000,9, -999.000,9,-999.0000,9,  -999.00,9,   -999.0,9,-999.000,9,   -999.0,9,   -999,  -999.0,   1.558,-999.0000,-999.000,  3549.0,-999.000,  1.2870,-999.000
    49RY9407_1,   P09,    28,  2,      8,    212,2,19940714,2138, 26.5167, 136.9722, 5210,   3808.0,   1.5355,  34.6783,2,  34.6793,6,    154.1,2,    153.2,2,   139.72,3,    36.06,2,     0.00,2,     2.50,2, -999.000,9, -999.000,9, -999.000,9,-999.0000,9,  -999.00,9,   -999.0,9,-999.000,9,   -999.0,9,   -999,  -999.0,-999.000,-999.0000,-999.000,  -999.0,-999.000,  1.2363,-999.000
    49RY9407_1,   P09,    28,  2,      7,    210,4,19940714,2138, 26.5167, 136.9722, 5210,   4063.7,   1.5361,  34.6821,2,  34.6819,2,    157.1,2,    157.0,2,   139.34,3,    35.86,2,     0.00,2,     2.48,2, -999.000,9, -999.000,9, -999.000,9,-999.0000,9,  -999.00,9,   -999.0,9,-999.000,9,   -999.0,9,   -999,  -999.0,-999.000,-999.0000,-999.000,  -999.0,-999.000,  1.2093,-999.000
    49RY9407_1,   P09,    28,  2,      6,    209,2,19940714,2138, 26.5167, 136.9722, 5210,   4576.3,   1.5695,  34.6832,2,  34.6842,6,    159.1,2,    158.2,2,   138.87,3,    35.78,2,     0.00,2,     2.47,2, -999.000,9, -999.000,9, -999.000,9,-999.0000,9,  -999.00,9,   -999.0,9,-999.000,9,   -999.0,9,   -999,  -999.0,-999.000,-999.0000,-999.000,  -999.0,-999.000,  1.1835,-999.000
    49RY9407_1,   P09,    28,  2,      5,    229,2,19940714,2138, 26.5167, 136.9722, 5210,   4832.7,   1.5983,  34.6829,2,  34.6841,2,    161.0,2,    157.4,2,   139.47,3,    35.67,2,     0.00,2,     2.47,2, -999.000,9, -999.000,9, -999.000,9,-999.0000,9,  -999.00,9,   -999.0,9,-999.000,9,   -999.0,9,   -999,  -999.0,   1.597,-999.0000,-999.000,  4834.0,-999.000,  1.1811,-999.000
    49RY9407_1,   P09,    28,  2,      4,    206,2,19940714,2138, 26.5167, 136.9722, 5210,   5090.4,   1.6298,  34.6833,2,  34.6830,6,    160.6,2,    159.9,2,   139.35,3,    35.72,2,     0.00,2,     2.47,2, -999.000,9, -999.000,9, -999.000,9,-999.0000,9,  -999.00,9,   -999.0,9,-999.000,9,   -999.0,9,   -999,  -999.0,-999.000,-999.0000,-999.000,  -999.0,-999.000,  1.1801,-999.000
    49RY9407_1,   P09,    28,  2,      2,    204,2,19940714,2138, 26.5167, 136.9722, 5210,   5343.7,   1.6622,  34.6836,2,  34.6837,2,    165.5,3,    159.3,6,   139.65,3,    35.70,6,     0.01,6,     2.47,6, -999.000,9, -999.000,9, -999.000,9,-999.0000,9,  -999.00,9,   -999.0,9,-999.000,9,   -999.0,9,   -999,  -999.0,   1.660,-999.0000,-999.000,  5342.0,-999.000,  1.1797,-999.000
    49RY9407_1,   P09,    28,  2,      3,    205,2,19940714,2138, 26.5167, 136.9722, 5210,   5344.2,   1.6625,  34.6839,2,  34.6841,2,    165.5,3,    157.0,6,   139.67,3,    35.87,6,     0.00,6,     2.47,6, -999.000,9, -999.000,9, -999.000,9,-999.0000,9,  -999.00,9,   -999.0,9,-999.000,9,   -999.0,9,   -999,  -999.0,-999.000,-999.0000,-999.000,  -999.0,-999.000,  1.1800,-999.000
    49RY9407_1,   P09,    29,  1,      0,      0,2,19940715,0248, 25.9927, 136.9990, 5545,      0.7,  30.0732,  34.6193,2,-999.0000,9,    174.3,4,    194.0,2,     1.22,2,     0.03,2,     0.01,2,     0.00,2, -999.000,9, -999.000,9, -999.000,9,-999.0000,9,  -999.00,9,   -999.0,9,-999.000,9,   -999.0,9,   -999,  -999.0,-999.000,-999.0000,-999.000,  -999.0,-999.000, 30.0730,-999.000
    49RY9407_1,   P09,    29,  1,     12,    217,2,19940715,0248, 25.9927, 136.9990, 5545,     10.0,  29.7957,  34.6106,2,  34.6145,2,    184.1,4,    198.4,2,     1.29,6,     0.04,6,     0.00,6,     0.00,6, -999.000,9, -999.000,9, -999.000,9,-999.0000,9,  -999.00,9,   -999.0,9,-999.000,9,   -999.0,9,   -999,  -999.0,-999.000,-999.0000,-999.000,  -999.0,-999.000, 29.7932,-999.000
    49RY9407_1,   P09,    29,  1,     11,    216,2,19940715,0248, 25.9927, 136.9990, 5545,     24.9,  27.5953,  34.8643,2,  34.7842,2,    203.2,3,    212.4,2,     1.34,2,     0.01,2,     0.00,2,     0.00,2, -999.000,9, -999.000,9, -999.000,9,-999.0000,9,  -999.00,9,   -999.0,9,-999.000,9,   -999.0,9,   -999,  -999.0,-999.000,-999.0000,-999.000,  -999.0,-999.000, 27.5895,-999.000
    49RY9407_1,   P09,    29,  1,     10,    214,2,19940715,0248, 25.9927, 136.9990, 5545,     49.9,  23.3009,  35.0120,2,  35.0144,2,    246.6,3,    232.0,2,     1.55,2,     0.00,2,     0.00,2,     0.00,2, -999.000,9, -999.000,9, -999.000,9,-999.0000,9,  -999.00,9,   -999.0,9,-999.000,9,   -999.0,9,   -999,  -999.0,-999.000,-999.0000,-999.000,  -999.0,-999.000, 23.2906,-999.000
    49RY9407_1,   P09,    29,  1,      9,    213,2,19940715,0248, 25.9927, 136.9990, 5545,     75.0,  21.2718,  34.9799,2,  34.9911,2,    240.6,3,    227.2,2,     1.59,2,     0.01,2,     0.00,2,     0.00,2, -999.000,9, -999.000,9, -999.000,9,-999.0000,9,  -999.00,9,   -999.0,9,-999.000,9,   -999.0,9,   -999,  -999.0,  21.430,-999.0000,-999.000,    77.0,-999.000, 21.2573,-999.000
    49RY9407_1,   P09,    29,  1,      8,    212,2,19940715,0248, 25.9927, 136.9990, 5545,    101.3,  19.9098,  34.9255,2,  34.9522,2,    227.4,3,    215.2,2,     1.71,2,     0.02,2,     0.01,2,     0.04,2, -999.000,9, -999.000,9, -999.000,9,-999.0000,9,  -999.00,9,   -999.0,9,-999.000,9,   -999.0,9,   -999,  -999.0,-999.000,-999.0000,-999.000,  -999.0,-999.000, 19.8912,-999.000
    49RY9407_1,   P09,    29,  1,      7,    210,2,19940715,0248, 25.9927, 136.9990, 5545,    125.4,  19.0495,  34.8739,2,  34.9098,2,    220.5,3,    204.8,6,     2.66,2,     2.13,2,     0.04,2,     0.16,2, -999.000,9, -999.000,9, -999.000,9,-999.0000,9,  -999.00,9,   -999.0,9,-999.000,9,   -999.0,9,   -999,  -999.0,-999.000,-999.0000,-999.000,  -999.0,-999.000, 19.0271,-999.000
    49RY9407_1,   P09,    29,  1,      6,    209,2,19940715,0248, 25.9927, 136.9990, 5545,    150.0,  18.5668,  34.8900,2,  34.8822,2,    207.1,2,    202.9,2,     2.98,2,     3.03,2,     0.02,2,     0.22,2, -999.000,9, -999.000,9, -999.000,9,-999.0000,9,  -999.00,9,   -999.0,9,-999.000,9,   -999.0,9,   -999,  -999.0,-999.000,-999.0000,-999.000,  -999.0,-999.000, 18.5405,-999.000
    49RY9407_1,   P09,    29,  1,      5,    229,2,19940715,0248, 25.9927, 136.9990, 5545,    200.3,  17.5970,  34.8230,2,  34.8235,2,    208.3,2,    205.3,2,     3.77,2,     4.00,2,     0.01,2,     0.28,2, -999.000,9, -999.000,9, -999.000,9,-999.0000,9,  -999.00,9,   -999.0,9,-999.000,9,   -999.0,9,   -999,  -999.0,  17.598,-999.0000,-999.000,   198.0,-999.000, 17.5631,-999.000
    49RY9407_1,   P09,    29,  1,      4,    206,2,19940715,0248, 25.9927, 136.9990, 5545,    302.0,  16.4702,  34.7357,2,  34.7377,2,    200.7,2,    200.3,2,     5.63,2,     6.21,2,     0.01,2,     0.43,2, -999.000,9, -999.000,9, -999.000,9,-999.0000,9,  -999.00,9,   -999.0,9,-999.000,9,   -999.0,9,   -999,  -999.0,-999.000,-999.0000,-999.000,  -999.0,-999.000, 16.4214,-999.000
    49RY9407_1,   P09,    29,  1,      3,    205,2,19940715,0248, 25.9927, 136.9990, 5545,    402.4,  14.5403,  34.5775,2,  34.7562,4,    183.8,3,    192.9,2,    10.92,2,    10.01,2,     0.00,2,     0.69,2, -999.000,9, -999.000,9, -999.000,9,-999.0000,9,  -999.00,9,   -999.0,9,-999.000,9,   -999.0,9,   -999,  -999.0,-999.000,-999.0000,-999.000,  -999.0,-999.000, 14.4804,-999.000
    49RY9407_1,   P09,    29,  1,      2,    204,2,19940715,0248, 25.9927, 136.9990, 5545,    503.9,  11.8438,  34.3637,2,  34.3610,2,    174.4,3,    191.4,2,    18.50,2,    14.77,2,     0.00,2,     1.04,2, -999.000,9, -999.000,9, -999.000,9,-999.0000,9,  -999.00,9,   -999.0,9,-999.000,9,   -999.0,9,   -999,  -999.0,  11.843,-999.0000,-999.000,   501.0,-999.000, 11.7782,-999.000