BOTTLE,20020306WHPSIOdm
EXPOCODE,SECT_ID,STNNBR,CASTNO,SAMPNO,BTLNBR,BTLNBR_FLAG_W,DATE,TIME,LATITUDE,LONGITUDE,DEPTH,CTDPRS,CTDTMP,CTDSAL,CTDSAL_FLAG_W,SALNTY,SALNTY_FLAG_W,CTDOXY,CTDOXY_FLAG_W,OXYGEN,OXYGEN_FLAG_W,SILCAT,SILCAT_FLAG_W,NITRAT,NITRAT_FLAG_W,NITRIT,NITRIT_FLAG_W,PHSPHT,PHSPHT_FLAG_W,CFC-11,CFC-11_FLAG_W,CFC-12,CFC-12_FLAG_W,TRITUM,TRITUM_FLAG_W,HELIUM,HELIUM_FLAG_W,DELHE3,DELHE3_FLAG_W,DELC14,DELC14_FLAG_W,NEON,NEON_FLAG_W,TCARBN,TCARBN_FLAG_W,CTDRAW,C14ERR,REVTMP,HELIER,DELHER,REVPRS,NEONER,THETA,TRITER
,,,,,,,,,,,,DBAR,ITS-90,PSS-78,,PSS-78,,UMOL/KG,,UMOL/KG,,UMOL/KG,,UMOL/KG,,UMOL/KG,,UMOL/KG,,PMOL/KG,,PMOL/KG,,TU,,NMOL/KG,,PERCNT,,/MILLE,,NMOL/KG,,UMOL/KG,,,/MILLE,ITS-90,NMOL/KG,PERCNT,DBAR,NMOL/KG,DEG C,TU
    49RY9407_1,   P09,    43,  2,      8,    212,3,19940723,1605, 19.0123, 137.0148, 4840,    402.3,  13.6860,  34.4999,2,  34.6776,4,    187.6,3,    199.1,2,     3.26,4,     2.09,4,     0.01,4,     0.18,4, -999.000,9, -999.000,9, -999.000,9,-999.0000,9,  -999.00,9,   -999.0,9,-999.000,9,   -999.0,9,   -999,  -999.0,-999.000,-999.0000,-999.000,  -999.0,-999.000, 13.6286,-999.000
    49RY9407_1,   P09,    43,  2,      7,    220,2,19940723,1605, 19.0123, 137.0148, 4840,    503.0,   9.7549,  34.2429,2,  34.2382,2,    173.7,2,    169.2,2,    31.02,2,    20.52,2,     0.01,2,     1.45,2, -999.000,9, -999.000,9, -999.000,9,-999.0000,9,  -999.00,9,   -999.0,9,-999.000,9,   -999.0,9,   -999,  -999.0,-999.000,-999.0000,-999.000,  -999.0,-999.000,  9.6970,-999.000
    49RY9407_1,   P09,    43,  2,      6,    209,2,19940723,1605, 19.0123, 137.0148, 4840,    603.4,   6.7306,  34.1485,2,  34.1474,2,    122.5,3,    105.9,2,    60.85,2,    31.87,2,     0.00,2,     2.30,2, -999.000,9, -999.000,9, -999.000,9,-999.0000,9,  -999.00,9,   -999.0,9,-999.000,9,   -999.0,9,   -999,  -999.0,-999.000,-999.0000,-999.000,  -999.0,-999.000,  6.6745,-999.000
    49RY9407_1,   P09,    43,  2,      5,    218,2,19940723,1605, 19.0123, 137.0148, 4840,    706.1,   5.4882,  34.2511,2,  34.2497,2,     76.9,3,     69.5,6,    81.07,2,    37.57,2,     0.00,2,     2.72,2, -999.000,9, -999.000,9, -999.000,9,-999.0000,9,  -999.00,9,   -999.0,9,-999.000,9,   -999.0,9,   -999,  -999.0,-999.000,-999.0000,-999.000,  -999.0,-999.000,  5.4286,-999.000
    49RY9407_1,   P09,    43,  2,      4,    206,2,19940723,1605, 19.0123, 137.0148, 4840,    803.9,   4.9065,  34.3531,2,  34.3531,2,     66.9,2,     62.7,2,    92.86,2,    39.33,2,     0.00,2,     2.84,2, -999.000,9, -999.000,9, -999.000,9,-999.0000,9,  -999.00,9,   -999.0,9,-999.000,9,   -999.0,9,   -999,  -999.0,-999.000,-999.0000,-999.000,  -999.0,-999.000,  4.8414,-999.000
    49RY9407_1,   P09,    43,  2,      3,    205,2,19940723,1605, 19.0123, 137.0148, 4840,    906.5,   4.3764,  34.4296,2,  34.4291,2,     71.9,3,     64.1,2,   103.20,6,    39.89,6,     0.01,6,     2.86,6, -999.000,9, -999.000,9, -999.000,9,-999.0000,9,  -999.00,9,   -999.0,9,-999.000,9,   -999.0,9,   -999,  -999.0,-999.000,-999.0000,-999.000,  -999.0,-999.000,  4.3059,-999.000
    49RY9407_1,   P09,    43,  2,      2,    216,2,19940723,1605, 19.0123, 137.0148, 4840,   1007.9,   3.8550,  34.4624,2,  34.4623,2,     77.8,3,     70.5,2,   113.69,2,    39.98,2,     0.00,2,     2.86,2, -999.000,9, -999.000,9, -999.000,9,-999.0000,9,  -999.00,9,   -999.0,9,-999.000,9,   -999.0,9,   -999,  -999.0,-999.000,-999.0000,-999.000,  -999.0,-999.000,  3.7799,-999.000
    49RY9407_1,   P09,    43,  2,      1,    201,2,19940723,1605, 19.0123, 137.0148, 4840,   1260.6,   2.9128,  34.5308,2,  34.5334,2,     90.1,3,     82.0,2,   132.08,2,    39.97,2,     0.01,2,     2.85,2, -999.000,9, -999.000,9, -999.000,9,-999.0000,9,  -999.00,9,   -999.0,9,-999.000,9,   -999.0,9,   -999,  -999.0,-999.000,-999.0000,-999.000,  -999.0,-999.000,  2.8255,-999.000
    49RY9407_1,   P09,    43,  2,     24,    230,2,19940723,1605, 19.0123, 137.0148, 4840,   1512.4,   2.5290,  34.5839,2,  34.5848,2,    103.9,2,    102.2,2,   136.12,2,    39.11,2,     0.01,2,     2.78,2, -999.000,9, -999.000,9, -999.000,9,-999.0000,9,  -999.00,9,   -999.0,9,-999.000,9,   -999.0,9,   -999,  -999.0,-999.000,-999.0000,-999.000,  -999.0,-999.000,  2.4256,-999.000
    49RY9407_1,   P09,    43,  2,     23,    228,2,19940723,1605, 19.0123, 137.0148, 4840,   1767.7,   2.2707,  34.6046,2,  34.6055,2,    110.0,2,    105.8,2,   139.25,6,    38.95,6,     0.01,6,     2.75,6, -999.000,9, -999.000,9, -999.000,9,-999.0000,9,  -999.00,9,   -999.0,9,-999.000,9,   -999.0,9,   -999,  -999.0,-999.000,-999.0000,-999.000,  -999.0,-999.000,  2.1498,-999.000
    49RY9407_1,   P09,    43,  2,     21,    226,2,19940723,1605, 19.0123, 137.0148, 4840,   2020.9,   2.0325,  34.6253,2,  34.6254,2,    118.7,2,    119.5,3,   142.32,4,    38.54,4,     0.00,4,     2.72,4, -999.000,9, -999.000,9, -999.000,9,-999.0000,9,  -999.00,9,   -999.0,9,-999.000,9,   -999.0,9,   -999,  -999.0,-999.000,-999.0000,-999.000,  -999.0,-999.000,  1.8939,-999.000
    49RY9407_1,   P09,    43,  2,     22,    227,2,19940723,1605, 19.0123, 137.0148, 4840,   2020.9,   2.0325,  34.6253,2,  34.6258,2,    118.7,2,    115.5,6,   142.23,2,    38.65,2,     0.00,2,     2.71,2, -999.000,9, -999.000,9, -999.000,9,-999.0000,9,  -999.00,9,   -999.0,9,-999.000,9,   -999.0,9,   -999,  -999.0,-999.000,-999.0000,-999.000,  -999.0,-999.000,  1.8939,-999.000
    49RY9407_1,   P09,    43,  2,     20,    225,2,19940723,1605, 19.0123, 137.0148, 4840,   2274.2,   1.8699,  34.6403,2,  34.6406,2,    123.1,2,    123.6,2,   144.24,2,    38.27,2,     0.00,2,     2.67,2, -999.000,9, -999.000,9, -999.000,9,-999.0000,9,  -999.00,9,   -999.0,9,-999.000,9,   -999.0,9,   -999,  -999.0,-999.000,-999.0000,-999.000,  -999.0,-999.000,  1.7121,-999.000
    49RY9407_1,   P09,    43,  2,     19,    224,2,19940723,1605, 19.0123, 137.0148, 4840,   2531.4,   1.7506,  34.6519,2,  34.6520,2,    130.6,2,    130.7,2,   144.25,2,    37.72,2,     0.00,2,     2.64,2, -999.000,9, -999.000,9, -999.000,9,-999.0000,9,  -999.00,9,   -999.0,9,-999.000,9,   -999.0,9,   -999,  -999.0,-999.000,-999.0000,-999.000,  -999.0,-999.000,  1.5721,-999.000
    49RY9407_1,   P09,    43,  2,     18,    223,2,19940723,1605, 19.0123, 137.0148, 4840,   2784.9,   1.6752,  34.6607,2,  34.6603,2,    135.9,2,    138.3,2,   143.76,2,    37.42,2,     0.00,2,     2.61,2, -999.000,9, -999.000,9, -999.000,9,-999.0000,9,  -999.00,9,   -999.0,9,-999.000,9,   -999.0,9,   -999,  -999.0,-999.000,-999.0000,-999.000,  -999.0,-999.000,  1.4750,-999.000
    49RY9407_1,   P09,    43,  2,     17,    203,2,19940723,1605, 19.0123, 137.0148, 4840,   3038.8,   1.6206,  34.6662,2,  34.6670,2,    141.4,2,    142.8,2,   143.25,2,    37.09,2,     0.00,2,     2.59,2, -999.000,9, -999.000,9, -999.000,9,-999.0000,9,  -999.00,9,   -999.0,9,-999.000,9,   -999.0,9,   -999,  -999.0,-999.000,-999.0000,-999.000,  3035.0,-999.000,  1.3974,-999.000
    49RY9407_1,   P09,    43,  2,     16,    210,2,19940723,1605, 19.0123, 137.0148, 4840,   3294.3,   1.5742,  34.6722,2,  34.6721,2,    146.2,2,    147.9,2,   142.60,2,    36.84,2,     0.00,2,     2.56,2, -999.000,9, -999.000,9, -999.000,9,-999.0000,9,  -999.00,9,   -999.0,9,-999.000,9,   -999.0,9,   -999,  -999.0,-999.000,-999.0000,-999.000,  -999.0,-999.000,  1.3270,-999.000
    49RY9407_1,   P09,    43,  2,     15,    221,2,19940723,1605, 19.0123, 137.0148, 4840,   3602.4,   1.5390,  34.6781,2,  34.6792,2,    151.5,2,    150.9,2,   142.16,2,    36.57,2,     0.00,2,     2.53,2, -999.000,9, -999.000,9, -999.000,9,-999.0000,9,  -999.00,9,   -999.0,9,-999.000,9,   -999.0,9,   -999,  -999.0,   1.534,-999.0000,-999.000,  3602.0,-999.000,  1.2614,-999.000
    49RY9407_1,   P09,    43,  2,     14,    219,2,19940723,1605, 19.0123, 137.0148, 4840,   3806.5,   1.5141,  34.6819,2,  34.6811,2,    154.3,2,    155.3,2,   140.68,4,    36.17,6,     0.01,6,     2.50,6, -999.000,9, -999.000,9, -999.000,9,-999.0000,9,  -999.00,9,   -999.0,9,-999.000,9,   -999.0,9,   -999,  -999.0,-999.000,-999.0000,-999.000,  -999.0,-999.000,  1.2156,-999.000
    49RY9407_1,   P09,    43,  2,     13,    229,2,19940723,1605, 19.0123, 137.0148, 4840,   4063.3,   1.5025,  34.6847,2,  34.6835,2,    158.9,2,    160.5,2,   140.36,2,    36.09,2,     0.00,2,     2.49,2, -999.000,9, -999.000,9, -999.000,9,-999.0000,9,  -999.00,9,   -999.0,9,-999.000,9,   -999.0,9,   -999,  -999.0,   1.500,-999.0000,-999.000,  4062.0,-999.000,  1.1766,-999.000
    49RY9407_1,   P09,    43,  2,     12,    217,2,19940723,1605, 19.0123, 137.0148, 4840,   4318.8,   1.5148,  34.6856,2,  34.6863,2,    160.6,2,    160.2,2,   139.48,2,    35.95,2,     0.00,2,     2.48,2, -999.000,9, -999.000,9, -999.000,9,-999.0000,9,  -999.00,9,   -999.0,9,-999.000,9,   -999.0,9,   -999,  -999.0,-999.000,-999.0000,-999.000,  -999.0,-999.000,  1.1600,-999.000
    49RY9407_1,   P09,    43,  2,     11,    204,3,19940723,1605, 19.0123, 137.0148, 4840,   4576.5,   1.5350,  34.6862,2,  34.7779,4,    160.8,2,    169.7,4,    12.25,4,     5.20,4,     0.01,4,     0.39,4, -999.000,9, -999.000,9, -999.000,9,-999.0000,9,  -999.00,9,   -999.0,9,-999.000,9,   -999.0,9,   -999,  -999.0,   1.555,-999.0000,-999.000,  4832.0,-999.000,  1.1501,-999.000
    49RY9407_1,   P09,    43,  2,     10,    214,2,19940723,1605, 19.0123, 137.0148, 4840,   4831.6,   1.5586,  34.6863,2,  34.6857,2,    162.9,2,    160.4,2,   139.17,2,    35.92,2,     0.00,2,     2.48,2, -999.000,9, -999.000,9, -999.000,9,-999.0000,9,  -999.00,9,   -999.0,9,-999.000,9,   -999.0,9,   -999,  -999.0,-999.000,-999.0000,-999.000,  -999.0,-999.000,  1.1427,-999.000
    49RY9407_1,   P09,    43,  2,      9,    213,4,19940723,1605, 19.0123, 137.0148, 4840,   4953.4,   1.5738,  34.6865,2,  34.6857,2,    165.3,2,    161.6,2,   139.11,2,    35.79,2,     0.00,2,     2.47,2, -999.000,9, -999.000,9, -999.000,9,-999.0000,9,  -999.00,9,   -999.0,9,-999.000,9,   -999.0,9,   -999,  -999.0,-999.000,-999.0000,-999.000,  4948.0,-999.000,  1.1428,-999.000
    49RY9407_1,   P09,    44,  1,      0,      0,2,19940723,2052, 18.5127, 137.0020, 4915,      0.0,  29.4467,  34.1562,2,-999.0000,9,    209.7,4,    195.3,6,     1.35,6,     0.02,6,     0.00,6,     0.01,6, -999.000,9, -999.000,9, -999.000,9,-999.0000,9,  -999.00,9,   -999.0,9,-999.000,9,   -999.0,9,   -999,  -999.0,-999.000,-999.0000,-999.000,  -999.0,-999.000, 29.4467,-999.000
    49RY9407_1,   P09,    44,  1,     18,    223,2,19940723,2052, 18.5127, 137.0020, 4915,      9.8,  29.4473,  34.1752,2,  34.1797,2,    195.9,2,    197.6,2,     1.33,2,     0.01,2,     0.00,2,     0.00,2, -999.000,9, -999.000,9, -999.000,9,-999.0000,9,  -999.00,9,   -999.0,9,-999.000,9,   -999.0,9,   -999,  -999.0,-999.000,-999.0000,-999.000,  -999.0,-999.000, 29.4449,-999.000
    49RY9407_1,   P09,    44,  1,     17,    203,2,19940723,2052, 18.5127, 137.0020, 4915,     24.5,  29.4527,  34.1803,2,  34.1812,2,    200.5,2,    196.2,2,     1.23,2,     0.01,2,     0.00,2,     0.01,2, -999.000,9, -999.000,9, -999.000,9,-999.0000,9,  -999.00,9,   -999.0,9,-999.000,9,   -999.0,9,   -999,  -999.0,-999.000,-999.0000,-999.000,    30.0,-999.000, 29.4467,-999.000
    49RY9407_1,   P09,    44,  1,     16,    210,2,19940723,2052, 18.5127, 137.0020, 4915,     48.5,  28.6792,  34.2958,2,  34.2919,2,    207.1,2,    205.6,6,     1.17,2,     0.01,2,     0.00,2,     0.03,2, -999.000,9, -999.000,9, -999.000,9,-999.0000,9,  -999.00,9,   -999.0,9,-999.000,9,   -999.0,9,   -999,  -999.0,-999.000,-999.0000,-999.000,  -999.0,-999.000, 28.6676,-999.000
    49RY9407_1,   P09,    44,  1,     15,    221,2,19940723,2052, 18.5127, 137.0020, 4915,     74.5,  27.5928,  34.6537,2,  34.6528,2,    217.4,3,    207.2,2,     1.03,2,     0.01,2,     0.00,2,     0.04,2, -999.000,9, -999.000,9, -999.000,9,-999.0000,9,  -999.00,9,   -999.0,9,-999.000,9,   -999.0,9,   -999,  -999.0,  27.570,-999.0000,-999.000,    78.0,-999.000, 27.5754,-999.000
    49RY9407_1,   P09,    44,  1,     14,    219,2,19940723,2052, 18.5127, 137.0020, 4915,     99.1,  26.3561,  34.8931,2,  34.8881,2,    213.6,3,    203.1,2,     1.06,2,     0.00,2,     0.00,2,     0.04,2, -999.000,9, -999.000,9, -999.000,9,-999.0000,9,  -999.00,9,   -999.0,9,-999.000,9,   -999.0,9,   -999,  -999.0,-999.000,-999.0000,-999.000,  -999.0,-999.000, 26.3337,-999.000
    49RY9407_1,   P09,    44,  1,     13,    229,2,19940723,2052, 18.5127, 137.0020, 4915,    126.2,  25.4723,  35.0232,2,  35.0262,2,    214.2,3,    204.6,2,     1.12,2,     0.00,2,     0.02,2,     0.02,2, -999.000,9, -999.000,9, -999.000,9,-999.0000,9,  -999.00,9,   -999.0,9,-999.000,9,   -999.0,9,   -999,  -999.0,  25.460,-999.0000,-999.000,   122.0,-999.000, 25.4445,-999.000
    49RY9407_1,   P09,    44,  1,     12,    217,2,19940723,2052, 18.5127, 137.0020, 4915,    150.7,  24.0745,  35.0445,2,  35.0484,6,    201.5,3,    190.2,2,     1.20,2,     0.46,2,     0.02,2,     0.08,2, -999.000,9, -999.000,9, -999.000,9,-999.0000,9,  -999.00,9,   -999.0,9,-999.000,9,   -999.0,9,   -999,  -999.0,-999.000,-999.0000,-999.000,  -999.0,-999.000, 24.0427,-999.000
    49RY9407_1,   P09,    44,  1,     11,    204,2,19940723,2052, 18.5127, 137.0020, 4915,    201.1,  20.8702,  35.0196,2,  35.0201,2,    198.7,3,    187.3,2,     2.19,2,     2.05,2,     0.01,2,     0.20,2, -999.000,9, -999.000,9, -999.000,9,-999.0000,9,  -999.00,9,   -999.0,9,-999.000,9,   -999.0,9,   -999,  -999.0,  20.920,-999.0000,-999.000,   202.0,-999.000, 20.8318,-999.000
    49RY9407_1,   P09,    44,  1,     10,    214,2,19940723,2052, 18.5127, 137.0020, 4915,    300.3,  16.4761,  34.7350,2,  34.7363,2,    203.1,3,    197.9,2,     5.64,2,     6.22,2,     0.00,2,     0.44,2, -999.000,9, -999.000,9, -999.000,9,-999.0000,9,  -999.00,9,   -999.0,9,-999.000,9,   -999.0,9,   -999,  -999.0,-999.000,-999.0000,-999.000,   300.0,-999.000, 16.4276,-999.000
    49RY9407_1,   P09,    44,  1,      9,    213,2,19940723,2052, 18.5127, 137.0020, 4915,    401.9,  12.4670,  34.4173,2,  34.4147,2,    174.6,3,    164.9,2,    17.02,6,    15.72,6,     0.00,6,     1.15,6, -999.000,9, -999.000,9, -999.000,9,-999.0000,9,  -999.00,9,   -999.0,9,-999.000,9,   -999.0,9,   -999,  -999.0,-999.000,-999.0000,-999.000,   402.0,-999.000, 12.4131,-999.000