BOTTLE,20020306WHPSIOdm
EXPOCODE,SECT_ID,STNNBR,CASTNO,SAMPNO,BTLNBR,BTLNBR_FLAG_W,DATE,TIME,LATITUDE,LONGITUDE,DEPTH,CTDPRS,CTDTMP,CTDSAL,CTDSAL_FLAG_W,SALNTY,SALNTY_FLAG_W,CTDOXY,CTDOXY_FLAG_W,OXYGEN,OXYGEN_FLAG_W,SILCAT,SILCAT_FLAG_W,NITRAT,NITRAT_FLAG_W,NITRIT,NITRIT_FLAG_W,PHSPHT,PHSPHT_FLAG_W,CFC-11,CFC-11_FLAG_W,CFC-12,CFC-12_FLAG_W,TRITUM,TRITUM_FLAG_W,HELIUM,HELIUM_FLAG_W,DELHE3,DELHE3_FLAG_W,DELC14,DELC14_FLAG_W,NEON,NEON_FLAG_W,TCARBN,TCARBN_FLAG_W,CTDRAW,C14ERR,REVTMP,HELIER,DELHER,REVPRS,NEONER,THETA,TRITER
,,,,,,,,,,,,DBAR,ITS-90,PSS-78,,PSS-78,,UMOL/KG,,UMOL/KG,,UMOL/KG,,UMOL/KG,,UMOL/KG,,UMOL/KG,,PMOL/KG,,PMOL/KG,,TU,,NMOL/KG,,PERCNT,,/MILLE,,NMOL/KG,,UMOL/KG,,,/MILLE,ITS-90,NMOL/KG,PERCNT,DBAR,NMOL/KG,DEG C,TU
    49RY9407_2,   P09,    69,  2,     10,    224,2,19940808,1325,  7.3337, 136.8383, 6580,    906.7,   5.0251,  34.5395,2,  34.5381,2,   -999.0,9,     89.9,2,    82.06,2,    37.87,3,     0.00,2,     2.64,3, -999.000,9, -999.000,9, -999.000,9,-999.0000,9,  -999.00,9,   -999.0,9,-999.000,9,   -999.0,9,   -999,  -999.0,-999.000,-999.0000,-999.000,  -999.0,-999.000,  4.9499,-999.000
    49RY9407_2,   P09,    69,  2,      9,    223,2,19940808,1325,  7.3337, 136.8383, 6580,   1006.5,   4.4190,  34.5499,2,  34.5470,2,   -999.0,9,     87.8,2,    94.73,2,    38.65,2,     0.00,2,     2.76,2, -999.000,9, -999.000,9, -999.000,9,-999.0000,9,  -999.00,9,   -999.0,9,-999.000,9,   -999.0,9,   -999,  -999.0,-999.000,-999.0000,-999.000,  -999.0,-999.000,  4.3395,-999.000
    49RY9407_2,   P09,    69,  2,      8,    212,2,19940808,1325,  7.3337, 136.8383, 6580,   1260.6,   3.4254,  34.5859,2,  34.5787,3,   -999.0,9,     95.0,2,   113.73,2,    38.98,2,     0.00,2,     2.76,2, -999.000,9, -999.000,9, -999.000,9,-999.0000,9,  -999.00,9,   -999.0,9,-999.000,9,   -999.0,9,   -999,  -999.0,-999.000,-999.0000,-999.000,  -999.0,-999.000,  3.3329,-999.000
    49RY9407_2,   P09,    69,  2,      6,    209,4,19940808,1325,  7.3337, 136.8383, 6580,   1512.6,   2.8934,  34.5993,2,  34.6001,2,   -999.0,9,    100.9,2,   124.46,2,    39.08,2,     0.00,2,     2.76,2, -999.000,9, -999.000,9, -999.000,9,-999.0000,9,  -999.00,9,   -999.0,9,-999.000,9,   -999.0,9,   -999,  -999.0,-999.000,-999.0000,-999.000,  -999.0,-999.000,  2.7857,-999.000
    49RY9407_2,   P09,    69,  2,      7,    220,2,19940808,1325,  7.3337, 136.8383, 6580,   1512.6,   2.8934,  34.5993,2,  34.5989,2,   -999.0,9,    100.9,2,   124.84,2,    39.02,2,     0.00,2,     2.75,2, -999.000,9, -999.000,9, -999.000,9,-999.0000,9,  -999.00,9,   -999.0,9,-999.000,9,   -999.0,9,   -999,  -999.0,-999.000,-999.0000,-999.000,  -999.0,-999.000,  2.7857,-999.000
    49RY9407_2,   P09,    69,  2,      5,    218,2,19940808,1325,  7.3337, 136.8383, 6580,   2020.6,   2.2370,  34.6319,2,  34.6316,2,   -999.0,9,    115.0,2,   136.40,2,    38.49,2,     0.00,2,     2.72,2, -999.000,9, -999.000,9, -999.000,9,-999.0000,9,  -999.00,9,   -999.0,9,-999.000,9,   -999.0,9,   -999,  -999.0,-999.000,-999.0000,-999.000,  -999.0,-999.000,  2.0952,-999.000
    49RY9407_2,   P09,    69,  2,      4,    206,2,19940808,1325,  7.3337, 136.8383, 6580,   2275.7,   1.9450,  34.6477,2,  34.6485,2,   -999.0,9,    124.4,2,   140.32,6,    38.05,6,     0.00,6,     2.68,6, -999.000,9, -999.000,9, -999.000,9,-999.0000,9,  -999.00,9,   -999.0,9,-999.000,9,   -999.0,9,   -999,  -999.0,-999.000,-999.0000,-999.000,  -999.0,-999.000,  1.7857,-999.000
    49RY9407_2,   P09,    69,  2,      3,    205,2,19940808,1325,  7.3337, 136.8383, 6580,   2530.2,   1.7858,  34.6567,2,  34.6572,2,   -999.0,9,    131.4,2,   142.50,2,    37.68,2,     0.00,2,     2.52,3, -999.000,9, -999.000,9, -999.000,9,-999.0000,9,  -999.00,9,   -999.0,9,-999.000,9,   -999.0,9,   -999,  -999.0,-999.000,-999.0000,-999.000,  -999.0,-999.000,  1.6068,-999.000
    49RY9407_2,   P09,    69,  2,      2,    216,2,19940808,1325,  7.3337, 136.8383, 6580,   2785.1,   1.6705,  34.6658,2,  34.6654,2,   -999.0,9,    138.4,2,   142.61,2,    37.26,2,     0.00,2,     2.60,2, -999.000,9, -999.000,9, -999.000,9,-999.0000,9,  -999.00,9,   -999.0,9,-999.000,9,   -999.0,9,   -999,  -999.0,-999.000,-999.0000,-999.000,  -999.0,-999.000,  1.4703,-999.000
    49RY9407_2,   P09,    69,  2,      1,    201,2,19940808,1325,  7.3337, 136.8383, 6580,   3039.4,   1.6234,  34.6693,2,  34.6695,2,   -999.0,9,    142.2,6,   142.69,2,    37.05,2,     0.00,2,     2.57,2, -999.000,9, -999.000,9, -999.000,9,-999.0000,9,  -999.00,9,   -999.0,9,-999.000,9,   -999.0,9,   -999,  -999.0,-999.000,-999.0000,-999.000,  -999.0,-999.000,  1.4001,-999.000
    49RY9407_2,   P09,    69,  2,     24,    222,2,19940808,1325,  7.3337, 136.8383, 6580,   3294.2,   1.5857,  34.6728,2,  34.6729,2,   -999.0,9,    145.0,2,   143.15,3,    36.89,2,     0.00,2,     2.48,3, -999.000,9, -999.000,9, -999.000,9,-999.0000,9,  -999.00,9,   -999.0,9,-999.000,9,   -999.0,9,   -999,  -999.0,-999.000,-999.0000,-999.000,  -999.0,-999.000,  1.3382,-999.000
    49RY9407_2,   P09,    69,  2,     22,    227,2,19940808,1325,  7.3337, 136.8383, 6580,   3550.3,   1.5446,  34.6773,2,  34.6776,2,   -999.0,9,    150.1,2,   142.08,2,    36.59,2,     0.00,2,     2.54,2, -999.000,9, -999.000,9, -999.000,9,-999.0000,9,  -999.00,9,   -999.0,9,-999.000,9,   -999.0,9,   -999,  -999.0,-999.000,-999.0000,-999.000,  -999.0,-999.000,  1.2722,-999.000
    49RY9407_2,   P09,    69,  2,     23,    228,2,19940808,1325,  7.3337, 136.8383, 6580,   3550.3,   1.5446,  34.6773,2,  34.6770,2,   -999.0,9,    150.2,2,   142.09,2,    36.57,2,     0.00,2,     2.52,2, -999.000,9, -999.000,9, -999.000,9,-999.0000,9,  -999.00,9,   -999.0,9,-999.000,9,   -999.0,9,   -999,  -999.0,-999.000,-999.0000,-999.000,  -999.0,-999.000,  1.2722,-999.000
    49RY9407_2,   P09,    69,  2,     21,    226,2,19940808,1325,  7.3337, 136.8383, 6580,   3806.6,   1.5094,  34.6816,2,  34.6812,2,   -999.0,9,    154.2,2,   141.17,2,    36.27,2,     0.00,2,     2.52,2, -999.000,9, -999.000,9, -999.000,9,-999.0000,9,  -999.00,9,   -999.0,9,-999.000,9,   -999.0,9,   -999,  -999.0,-999.000,-999.0000,-999.000,  -999.0,-999.000,  1.2111,-999.000
    49RY9407_2,   P09,    69,  2,     20,    203,2,19940808,1325,  7.3337, 136.8383, 6580,   4061.6,   1.4949,  34.6850,2,  34.6845,2,   -999.0,9,    157.8,2,   140.01,2,    36.04,2,     0.00,2,     2.49,2, -999.000,9, -999.000,9, -999.000,9,-999.0000,9,  -999.00,9,   -999.0,9,-999.000,9,   -999.0,9,   -999,  -999.0,-999.000,-999.0000,-999.000,  4061.0,-999.000,  1.1694,-999.000
    49RY9407_2,   P09,    69,  2,     19,    210,2,19940808,1325,  7.3337, 136.8383, 6580,   4317.6,   1.4905,  34.6875,2,  34.6863,2,   -999.0,9,    160.9,2,   139.04,2,    35.82,2,     0.00,2,     2.48,2, -999.000,9, -999.000,9, -999.000,9,-999.0000,9,  -999.00,9,   -999.0,9,-999.000,9,   -999.0,9,   -999,  -999.0,-999.000,-999.0000,-999.000,  -999.0,-999.000,  1.1367,-999.000
    49RY9407_2,   P09,    69,  2,     18,    221,2,19940808,1325,  7.3337, 136.8383, 6580,   4575.7,   1.4963,  34.6890,2,  34.6882,2,   -999.0,9,    163.3,2,   138.14,2,    35.70,2,     0.00,2,     2.47,2, -999.000,9, -999.000,9, -999.000,9,-999.0000,9,  -999.00,9,   -999.0,9,-999.000,9,   -999.0,9,   -999,  -999.0,-999.000,-999.0000,-999.000,  4577.0,-999.000,  1.1127,-999.000
    49RY9407_2,   P09,    69,  2,     17,    219,2,19940808,1325,  7.3337, 136.8383, 6580,   4832.7,   1.4859,  34.6920,2,  34.6912,2,   -999.0,9,    168.1,2,   136.01,6,    35.30,6,     0.00,6,     2.44,6, -999.000,9, -999.000,9, -999.000,9,-999.0000,9,  -999.00,9,   -999.0,9,-999.000,9,   -999.0,9,   -999,  -999.0,-999.000,-999.0000,-999.000,  -999.0,-999.000,  1.0722,-999.000
    49RY9407_2,   P09,    69,  2,     16,    229,2,19940808,1325,  7.3337, 136.8383, 6580,   5089.8,   1.4874,  34.6938,2,  34.6931,6,   -999.0,9,    171.0,2,   134.87,2,    35.15,2,     0.00,2,     2.40,2, -999.000,9, -999.000,9, -999.000,9,-999.0000,9,  -999.00,9,   -999.0,9,-999.000,9,   -999.0,9,   -999,  -999.0,   1.481,-999.0000,-999.000,  5089.0,-999.000,  1.0426,-999.000
    49RY9407_2,   P09,    69,  2,     15,    217,2,19940808,1325,  7.3337, 136.8383, 6580,   5345.9,   1.5102,  34.6941,2,  34.6943,2,   -999.0,9,    172.7,2,   134.24,2,    35.01,2,     0.00,2,     2.41,2, -999.000,9, -999.000,9, -999.000,9,-999.0000,9,  -999.00,9,   -999.0,9,-999.000,9,   -999.0,9,   -999,  -999.0,-999.000,-999.0000,-999.000,  -999.0,-999.000,  1.0327,-999.000
    49RY9407_2,   P09,    69,  2,     14,    204,2,19940808,1325,  7.3337, 136.8383, 6580,   5604.8,   1.5392,  34.6947,2,  34.6949,2,   -999.0,9,    173.1,2,   133.77,2,    34.95,2,     0.00,2,     2.32,3, -999.000,9, -999.000,9, -999.000,9,-999.0000,9,  -999.00,9,   -999.0,9,-999.000,9,   -999.0,9,   -999,  -999.0,   1.536,-999.0000,-999.000,  5606.0,-999.000,  1.0277,-999.000
    49RY9407_2,   P09,    69,  2,     13,    214,2,19940808,1325,  7.3337, 136.8383, 6580,   5862.1,   1.5744,  34.6955,2,  34.6947,2,   -999.0,9,    173.4,2,   133.66,2,    34.95,2,     0.00,2,     2.40,2, -999.000,9, -999.000,9, -999.000,9,-999.0000,9,  -999.00,9,   -999.0,9,-999.000,9,   -999.0,9,   -999,  -999.0,-999.000,-999.0000,-999.000,   559.0,-999.000,  1.0279,-999.000
    49RY9407_2,   P09,    69,  2,     12,    213,4,19940808,1325,  7.3337, 136.8383, 6580,   6122.6,   1.6093,  34.6956,2,  34.6938,6,   -999.0,9,    173.0,6,   133.74,6,    34.88,6,     0.00,6,     2.41,6, -999.000,9, -999.000,9, -999.000,9,-999.0000,9,  -999.00,9,   -999.0,9,-999.000,9,   -999.0,9,   -999,  -999.0,-999.000,-999.0000,-999.000,  6117.0,-999.000,  1.0266,-999.000
    49RY9407_2,   P09,    70,  1,      0,      0,2,19940808,1729,  7.0027, 136.9965, 4230,      0.0,  29.4017,  33.5321,2,-999.0000,9,   -999.0,9,    196.8,6,     1.35,2,     0.01,2,     0.00,2,     0.00,2, -999.000,9, -999.000,9, -999.000,9,-999.0000,9,  -999.00,9,     87.5,3,-999.000,9,   1867.2,2,   -999,    10.1,-999.000,-999.0000,-999.000,  -999.0,-999.000, 29.4018,-999.000
    49RY9407_2,   P09,    70,  1,     19,    210,2,19940808,1729,  7.0027, 136.9965, 4230,     11.6,  29.2672,  33.6936,2,  34.2783,4,   -999.0,9,    196.4,2,     1.31,2,     0.02,2,     0.00,2,     0.00,2, -999.000,9, -999.000,9, -999.000,9,-999.0000,9,  -999.00,9,     77.2,3,-999.000,9,   1869.8,2,   -999,    13.3,-999.000,-999.0000,-999.000,  -999.0,-999.000, 29.2644,-999.000
    49RY9407_2,   P09,    70,  1,     18,    221,2,19940808,1729,  7.0027, 136.9965, 4230,     26.6,  29.2055,  33.7037,2,  33.7051,2,   -999.0,9,    198.6,2,     1.37,2,     0.01,2,     0.00,2,     0.00,2, -999.000,9, -999.000,9, -999.000,9,-999.0000,9,  -999.00,9,     95.9,3,-999.000,9,   1870.3,2,   -999,    10.2,-999.000,-999.0000,-999.000,    30.0,-999.000, 29.1991,-999.000
    49RY9407_2,   P09,    70,  1,     17,    219,2,19940808,1729,  7.0027, 136.9965, 4230,     51.5,  28.3832,  34.2651,2,-999.0000,5,   -999.0,9,    200.8,2,     1.65,6,     0.01,6,     0.00,6,     0.03,6, -999.000,9, -999.000,9, -999.000,9,-999.0000,9,  -999.00,9,    101.7,3,-999.000,9,   1905.3,6,   -999,     8.8,-999.000,-999.0000,-999.000,  -999.0,-999.000, 28.3710,-999.000
    49RY9407_2,   P09,    70,  1,     16,    229,2,19940808,1729,  7.0027, 136.9965, 4230,     76.3,  24.3055,  34.5046,2,  34.5460,2,   -999.0,9,    185.5,2,     3.39,2,     0.69,2,     0.05,2,     0.16,2, -999.000,9, -999.000,9, -999.000,9,-999.0000,9,  -999.00,9,    100.8,3,-999.000,9,   1980.6,2,   -999,     8.7,  24.650,-999.0000,-999.000,    72.0,-999.000, 24.2894,-999.000
    49RY9407_2,   P09,    70,  1,     15,    217,2,19940808,1729,  7.0027, 136.9965, 4230,    102.3,  20.8178,  34.6689,2,  34.6835,2,   -999.0,9,    157.4,6,     7.10,2,     6.86,2,     0.13,2,     0.57,2, -999.000,9, -999.000,9, -999.000,9,-999.0000,9,  -999.00,9,     65.6,3,-999.000,9,   2041.4,2,   -999,     9.1,-999.000,-999.0000,-999.000,  -999.0,-999.000, 20.7984,-999.000
    49RY9407_2,   P09,    70,  1,     14,    204,2,19940808,1729,  7.0027, 136.9965, 4230,    127.4,  15.6300,  34.6316,2,  34.6341,2,   -999.0,9,    131.3,2,    15.20,2,    15.40,2,     0.02,2,     1.09,2, -999.000,9, -999.000,9, -999.000,9,-999.0000,9,  -999.00,9,   -999.0,1,-999.000,9,   2109.0,2,   -999,  -999.0,  15.660,-999.0000,-999.000,   122.0,-999.000, 15.6102,-999.000
    49RY9407_2,   P09,    70,  1,     13,    214,2,19940808,1729,  7.0027, 136.9965, 4230,    152.6,  13.3697,  34.5484,2,  34.5568,2,   -999.0,9,    126.0,2,    20.07,2,    19.06,2,     0.00,2,     1.30,2, -999.000,9, -999.000,9, -999.000,9,-999.0000,9,  -999.00,9,     19.6,3,-999.000,9,   2134.5,2,   -999,     9.5,-999.000,-999.0000,-999.000,   152.0,-999.000, 13.3484,-999.000
    49RY9407_2,   P09,    70,  1,     12,    213,2,19940808,1729,  7.0027, 136.9965, 4230,    202.9,  10.4303,  34.5449,2,  34.5356,2,   -999.0,9,     83.2,2,    32.68,6,    28.66,6,     0.00,6,     1.96,6, -999.000,9, -999.000,9, -999.000,9,-999.0000,9,  -999.00,9,    -50.4,3,-999.000,9,   2200.2,2,   -999,     8.7,-999.000,-999.0000,-999.000,   204.0,-999.000, 10.4063,-999.000