BOTTLE,20020306WHPSIOdm
EXPOCODE,SECT_ID,STNNBR,CASTNO,SAMPNO,BTLNBR,BTLNBR_FLAG_W,DATE,TIME,LATITUDE,LONGITUDE,DEPTH,CTDPRS,CTDTMP,CTDSAL,CTDSAL_FLAG_W,SALNTY,SALNTY_FLAG_W,CTDOXY,CTDOXY_FLAG_W,OXYGEN,OXYGEN_FLAG_W,SILCAT,SILCAT_FLAG_W,NITRAT,NITRAT_FLAG_W,NITRIT,NITRIT_FLAG_W,PHSPHT,PHSPHT_FLAG_W,CFC-11,CFC-11_FLAG_W,CFC-12,CFC-12_FLAG_W,TRITUM,TRITUM_FLAG_W,HELIUM,HELIUM_FLAG_W,DELHE3,DELHE3_FLAG_W,DELC14,DELC14_FLAG_W,NEON,NEON_FLAG_W,TCARBN,TCARBN_FLAG_W,CTDRAW,C14ERR,REVTMP,HELIER,DELHER,REVPRS,NEONER,THETA,TRITER
,,,,,,,,,,,,DBAR,ITS-90,PSS-78,,PSS-78,,UMOL/KG,,UMOL/KG,,UMOL/KG,,UMOL/KG,,UMOL/KG,,UMOL/KG,,PMOL/KG,,PMOL/KG,,TU,,NMOL/KG,,PERCNT,,/MILLE,,NMOL/KG,,UMOL/KG,,,/MILLE,ITS-90,NMOL/KG,PERCNT,DBAR,NMOL/KG,DEG C,TU
    49RY9407_2,   P09,    74,  1,      0,      0,2,19940809,1900,  5.5563, 138.4370, 4565,      0.4,  29.4923,  33.6239,2,-999.0000,9,   -999.0,9,    197.2,6,     1.48,6,     0.01,6,     0.00,6,     0.02,6, -999.000,9, -999.000,9, -999.000,9,-999.0000,9,  -999.00,9,   -999.0,9,-999.000,9,   -999.0,9,   -999,  -999.0,-999.000,-999.0000,-999.000,  -999.0,-999.000, 29.4922,-999.000
    49RY9407_2,   P09,    74,  1,     20,    203,2,19940809,1900,  5.5563, 138.4370, 4565,     11.7,  29.1632,  33.6079,2,  33.6176,2,   -999.0,9,    198.3,2,     1.51,2,     0.02,2,     0.00,2,     0.02,2, -999.000,9, -999.000,9, -999.000,9,-999.0000,9,  -999.00,9,   -999.0,9,-999.000,9,   -999.0,9,   -999,  -999.0,-999.000,-999.0000,-999.000,    16.0,-999.000, 29.1604,-999.000
    49RY9407_2,   P09,    74,  1,     19,    210,2,19940809,1900,  5.5563, 138.4370, 4565,     27.0,  28.6394,  33.6080,2,  33.6007,2,   -999.0,9,    199.8,2,     1.50,2,     0.01,2,     0.00,2,     0.02,2, -999.000,9, -999.000,9, -999.000,9,-999.0000,9,  -999.00,9,   -999.0,9,-999.000,9,   -999.0,9,   -999,  -999.0,-999.000,-999.0000,-999.000,  -999.0,-999.000, 28.6330,-999.000
    49RY9407_2,   P09,    74,  1,     18,    221,2,19940809,1900,  5.5563, 138.4370, 4565,     51.8,  27.4674,  34.2090,2,  34.2017,2,   -999.0,9,    202.9,2,     1.77,2,     0.02,2,     0.00,2,     0.05,2, -999.000,9, -999.000,9, -999.000,9,-999.0000,9,  -999.00,9,   -999.0,9,-999.000,9,   -999.0,9,   -999,  -999.0,-999.000,-999.0000,-999.000,    55.0,-999.000, 27.4554,-999.000
    49RY9407_2,   P09,    74,  1,     17,    219,2,19940809,1900,  5.5563, 138.4370, 4565,     76.2,  24.2647,  34.7682,2,  34.7865,2,   -999.0,9,    195.0,2,     2.52,2,     0.04,2,     0.00,2,     0.14,2, -999.000,9, -999.000,9, -999.000,9,-999.0000,9,  -999.00,9,   -999.0,9,-999.000,9,   -999.0,9,   -999,  -999.0,-999.000,-999.0000,-999.000,  -999.0,-999.000, 24.2486,-999.000
    49RY9407_2,   P09,    74,  1,     16,    229,2,19940809,1900,  5.5563, 138.4370, 4565,    101.4,  18.5247,  34.8138,2,  34.8190,2,   -999.0,9,    162.5,6,     7.10,2,     7.37,2,     0.05,2,     0.60,2, -999.000,9, -999.000,9, -999.000,9,-999.0000,9,  -999.00,9,   -999.0,9,-999.000,9,   -999.0,9,   -999,  -999.0,  18.518,-999.0000,-999.000,    97.0,-999.000, 18.5070,-999.000
    49RY9407_2,   P09,    74,  1,     15,    217,2,19940809,1900,  5.5563, 138.4370, 4565,    127.8,  15.1372,  34.6936,2,  34.6985,6,   -999.0,9,    136.9,2,    15.93,2,    15.52,2,     0.02,2,     1.09,2, -999.000,9, -999.000,9, -999.000,9,-999.0000,9,  -999.00,9,   -999.0,9,-999.000,9,   -999.0,9,   -999,  -999.0,-999.000,-999.0000,-999.000,  -999.0,-999.000, 15.1178,-999.000
    49RY9407_2,   P09,    74,  1,     14,    204,2,19940809,1900,  5.5563, 138.4370, 4565,    151.2,  12.6954,  34.5667,2,  34.5600,2,   -999.0,9,    114.8,2,    23.52,2,    21.31,2,     0.00,2,     1.52,2, -999.000,9, -999.000,9, -999.000,9,-999.0000,9,  -999.00,9,   -999.0,9,-999.000,9,   -999.0,9,   -999,  -999.0,  12.736,-999.0000,-999.000,   150.0,-999.000, 12.6751,-999.000
    49RY9407_2,   P09,    74,  1,     13,    214,2,19940809,1900,  5.5563, 138.4370, 4565,    202.7,  10.0823,  34.5468,2,  34.5442,2,   -999.0,9,     81.7,2,    34.22,6,    29.19,6,     0.00,6,     2.06,6, -999.000,9, -999.000,9, -999.000,9,-999.0000,9,  -999.00,9,   -999.0,9,-999.000,9,   -999.0,9,   -999,  -999.0,-999.000,-999.0000,-999.000,  -999.0,-999.000, 10.0588,-999.000
    49RY9407_2,   P09,    74,  1,     12,    213,2,19940809,1900,  5.5563, 138.4370, 4565,    303.4,   8.6342,  34.6017,2,  34.5936,2,   -999.0,9,     63.7,2,    39.86,6,    33.96,6,     0.00,6,     2.37,6, -999.000,9, -999.000,9, -999.000,9,-999.0000,9,  -999.00,9,   -999.0,9,-999.000,9,   -999.0,9,   -999,  -999.0,-999.000,-999.0000,-999.000,   304.0,-999.000,  8.6020,-999.000
    49RY9407_2,   P09,    74,  2,     10,    224,2,19940809,2046,  5.5613, 138.4523, 4575,    402.4,   7.9175,  34.5751,2,  34.5745,2,   -999.0,9,     73.7,2,    43.72,2,    34.93,2,     0.00,2,     2.42,2, -999.000,9, -999.000,9, -999.000,9,-999.0000,9,  -999.00,9,   -999.0,9,-999.000,9,   -999.0,9,   -999,  -999.0,-999.000,-999.0000,-999.000,  -999.0,-999.000,  7.8768,-999.000
    49RY9407_2,   P09,    74,  2,      9,    223,2,19940809,2046,  5.5613, 138.4523, 4575,    504.1,   7.2323,  34.5610,2,  34.5611,6,   -999.0,9,     82.4,3,    47.40,2,    35.52,2,     0.00,2,     2.46,2, -999.000,9, -999.000,9, -999.000,9,-999.0000,9,  -999.00,9,   -999.0,9,-999.000,9,   -999.0,9,   -999,  -999.0,-999.000,-999.0000,-999.000,  -999.0,-999.000,  7.1835,-999.000
    49RY9407_2,   P09,    74,  2,      8,    212,2,19940809,2046,  5.5613, 138.4523, 4575,    604.4,   6.6827,  34.5444,2,  34.5442,2,   -999.0,9,     76.2,2,    56.30,2,    36.94,2,     0.00,2,     2.57,2, -999.000,9, -999.000,9, -999.000,9,-999.0000,9,  -999.00,9,   -999.0,9,-999.000,9,   -999.0,9,   -999,  -999.0,-999.000,-999.0000,-999.000,  -999.0,-999.000,  6.6263,-999.000
    49RY9407_2,   P09,    74,  2,      6,    209,4,19940809,2046,  5.5613, 138.4523, 4575,    704.9,   5.8364,  34.5294,2,  34.5293,2,   -999.0,9,     90.0,2,    65.67,2,    37.08,2,     0.00,2,     2.57,2, -999.000,9, -999.000,9, -999.000,9,-999.0000,9,  -999.00,9,   -999.0,9,-999.000,9,   -999.0,9,   -999,  -999.0,-999.000,-999.0000,-999.000,  -999.0,-999.000,  5.7746,-999.000
    49RY9407_2,   P09,    74,  2,      7,    220,2,19940809,2046,  5.5613, 138.4523, 4575,    704.9,   5.8364,  34.5294,2,  34.5297,2,   -999.0,9,     90.5,2,    65.48,2,    37.02,2,     0.00,2,     2.58,2, -999.000,9, -999.000,9, -999.000,9,-999.0000,9,  -999.00,9,   -999.0,9,-999.000,9,   -999.0,9,   -999,  -999.0,-999.000,-999.0000,-999.000,  -999.0,-999.000,  5.7746,-999.000
    49RY9407_2,   P09,    74,  2,      5,    218,2,19940809,2046,  5.5613, 138.4523, 4575,    906.6,   4.7722,  34.5403,2,  34.5409,2,   -999.0,9,     89.7,2,    87.17,2,    38.32,2,     0.00,2,     2.67,2, -999.000,9, -999.000,9, -999.000,9,-999.0000,9,  -999.00,9,   -999.0,9,-999.000,9,   -999.0,9,   -999,  -999.0,-999.000,-999.0000,-999.000,  -999.0,-999.000,  4.6988,-999.000
    49RY9407_2,   P09,    74,  2,      4,    206,2,19940809,2046,  5.5613, 138.4523, 4575,   1008.3,   4.3080,  34.5564,2,  34.5574,2,   -999.0,9,     94.7,2,    95.12,6,    38.45,6,     0.00,6,     2.70,6, -999.000,9, -999.000,9, -999.000,9,-999.0000,9,  -999.00,9,   -999.0,9,-999.000,9,   -999.0,9,   -999,  -999.0,-999.000,-999.0000,-999.000,  -999.0,-999.000,  4.2292,-999.000
    49RY9407_2,   P09,    74,  2,      3,    205,2,19940809,2046,  5.5613, 138.4523, 4575,   1261.1,   3.5203,  34.5777,2,  34.5793,6,   -999.0,9,     95.9,2,   111.30,2,    39.17,2,     0.00,2,     2.73,2, -999.000,9, -999.000,9, -999.000,9,-999.0000,9,  -999.00,9,   -999.0,9,-999.000,9,   -999.0,9,   -999,  -999.0,-999.000,-999.0000,-999.000,  -999.0,-999.000,  3.4269,-999.000
    49RY9407_2,   P09,    74,  2,      2,    216,2,19940809,2046,  5.5613, 138.4523, 4575,   1514.8,   2.9601,  34.5999,2,  34.6019,2,   -999.0,9,     98.8,2,   123.37,2,    39.41,2,     0.00,2,     2.75,2, -999.000,9, -999.000,9, -999.000,9,-999.0000,9,  -999.00,9,   -999.0,9,-999.000,9,   -999.0,9,   -999,  -999.0,-999.000,-999.0000,-999.000,  -999.0,-999.000,  2.8514,-999.000
    49RY9407_2,   P09,    74,  2,      1,    201,2,19940809,2046,  5.5613, 138.4523, 4575,   1768.3,   2.5594,  34.6163,2,  34.6180,2,   -999.0,9,    106.0,2,   131.41,2,    39.16,2,     0.00,2,     2.67,2, -999.000,9, -999.000,9, -999.000,9,-999.0000,9,  -999.00,9,   -999.0,9,-999.000,9,   -999.0,9,   -999,  -999.0,-999.000,-999.0000,-999.000,  -999.0,-999.000,  2.4344,-999.000
    49RY9407_2,   P09,    74,  2,     24,    222,2,19940809,2046,  5.5613, 138.4523, 4575,   2020.9,   2.1850,  34.6365,2,  34.6375,2,   -999.0,9,    114.0,2,   138.29,2,    38.91,2,     0.00,2,     2.64,2, -999.000,9, -999.000,9, -999.000,9,-999.0000,9,  -999.00,9,   -999.0,9,-999.000,9,   -999.0,9,   -999,  -999.0,-999.000,-999.0000,-999.000,  -999.0,-999.000,  2.0440,-999.000
    49RY9407_2,   P09,    74,  2,     22,    227,2,19940809,2046,  5.5613, 138.4523, 4575,   2276.1,   1.9817,  34.6478,2,  34.6486,6,   -999.0,9,    122.3,2,   140.68,2,    38.45,2,     0.00,2,     2.63,2, -999.000,9, -999.000,9, -999.000,9,-999.0000,9,  -999.00,9,   -999.0,9,-999.000,9,   -999.0,9,   -999,  -999.0,-999.000,-999.0000,-999.000,  -999.0,-999.000,  1.8218,-999.000
    49RY9407_2,   P09,    74,  2,     23,    228,2,19940809,2046,  5.5613, 138.4523, 4575,   2276.1,   1.9817,  34.6478,2,  34.6479,2,   -999.0,9,    122.5,6,   140.64,2,    38.39,2,     0.00,2,     2.63,2, -999.000,9, -999.000,9, -999.000,9,-999.0000,9,  -999.00,9,   -999.0,9,-999.000,9,   -999.0,9,   -999,  -999.0,-999.000,-999.0000,-999.000,  -999.0,-999.000,  1.8218,-999.000
    49RY9407_2,   P09,    74,  2,     21,    226,2,19940809,2046,  5.5613, 138.4523, 4575,   2529.3,   1.7492,  34.6610,2,  34.6613,2,   -999.0,9,    132.7,2,   142.15,2,    37.72,2,     0.00,2,     2.60,2, -999.000,9, -999.000,9, -999.000,9,-999.0000,9,  -999.00,9,   -999.0,9,-999.000,9,   -999.0,9,   -999,  -999.0,-999.000,-999.0000,-999.000,  -999.0,-999.000,  1.5709,-999.000
    49RY9407_2,   P09,    74,  2,     20,    203,2,19940809,2046,  5.5613, 138.4523, 4575,   2785.5,   1.6523,  34.6669,2,  34.6680,2,   -999.0,9,    138.7,2,   142.87,6,    37.36,6,     0.00,6,     2.56,6, -999.000,9, -999.000,9, -999.000,9,-999.0000,9,  -999.00,9,   -999.0,9,-999.000,9,   -999.0,9,   -999,  -999.0,-999.000,-999.0000,-999.000,  2782.0,-999.000,  1.4525,-999.000
    49RY9407_2,   P09,    74,  2,     19,    210,2,19940809,2046,  5.5613, 138.4523, 4575,   3040.3,   1.5909,  34.6715,2,  34.6721,6,   -999.0,9,    143.2,2,   142.84,2,    37.11,2,     0.00,2,     2.54,2, -999.000,9, -999.000,9, -999.000,9,-999.0000,9,  -999.00,9,   -999.0,9,-999.000,9,   -999.0,9,   -999,  -999.0,-999.000,-999.0000,-999.000,  -999.0,-999.000,  1.3683,-999.000
    49RY9407_2,   P09,    74,  2,     18,    221,2,19940809,2046,  5.5613, 138.4523, 4575,   3295.2,   1.5623,  34.6755,2,  34.6755,2,   -999.0,9,    146.5,2,   142.62,2,    36.85,2,     0.00,2,     2.53,2, -999.000,9, -999.000,9, -999.000,9,-999.0000,9,  -999.00,9,   -999.0,9,-999.000,9,   -999.0,9,   -999,  -999.0,-999.000,-999.0000,-999.000,  3296.0,-999.000,  1.3153,-999.000
    49RY9407_2,   P09,    74,  2,     17,    219,2,19940809,2046,  5.5613, 138.4523, 4575,   3550.5,   1.5317,  34.6795,2,  34.6790,2,   -999.0,9,    150.0,2,   142.08,2,    36.58,2,     0.00,2,     2.49,2, -999.000,9, -999.000,9, -999.000,9,-999.0000,9,  -999.00,9,   -999.0,9,-999.000,9,   -999.0,9,   -999,  -999.0,-999.000,-999.0000,-999.000,  -999.0,-999.000,  1.2596,-999.000
    49RY9407_2,   P09,    74,  2,     16,    229,2,19940809,2046,  5.5613, 138.4523, 4575,   3807.1,   1.5133,  34.6823,2,  34.6822,6,   -999.0,9,    153.7,2,   141.52,2,    36.39,2,     0.00,2,     2.49,2, -999.000,9, -999.000,9, -999.000,9,-999.0000,9,  -999.00,9,   -999.0,9,-999.000,9,   -999.0,9,   -999,  -999.0,   1.505,-999.0000,-999.000,  3808.0,-999.000,  1.2148,-999.000
    49RY9407_2,   P09,    74,  2,     15,    217,2,19940809,2046,  5.5613, 138.4523, 4575,   4063.0,   1.5101,  34.6852,2,  34.6847,2,   -999.0,9,    156.3,6,   141.28,2,    36.29,2,     0.00,2,     2.47,2, -999.000,9, -999.000,9, -999.000,9,-999.0000,9,  -999.00,9,   -999.0,9,-999.000,9,   -999.0,9,   -999,  -999.0,-999.000,-999.0000,-999.000,  -999.0,-999.000,  1.1840,-999.000
    49RY9407_2,   P09,    74,  2,     14,    204,2,19940809,2046,  5.5613, 138.4523, 4575,   4319.9,   1.5193,  34.6862,2,  34.6861,2,   -999.0,9,    158.2,2,   140.26,2,    36.13,2,     0.00,2,     2.46,2, -999.000,9, -999.000,9, -999.000,9,-999.0000,9,  -999.00,9,   -999.0,9,-999.000,9,   -999.0,9,   -999,  -999.0,   1.517,-999.0000,-999.000,  4319.0,-999.000,  1.1643,-999.000
    49RY9407_2,   P09,    74,  2,     13,    214,2,19940809,2046,  5.5613, 138.4523, 4575,   4577.1,   1.5331,  34.6874,2,  34.6865,2,   -999.0,9,    159.6,2,   139.76,6,    36.05,6,     0.00,6,     2.46,6, -999.000,9, -999.000,9, -999.000,9,-999.0000,9,  -999.00,9,   -999.0,9,-999.000,9,   -999.0,9,   -999,  -999.0,-999.000,-999.0000,-999.000,  4577.0,-999.000,  1.1481,-999.000
    49RY9407_2,   P09,    74,  2,     12,    213,4,19940809,2046,  5.5613, 138.4523, 4575,   4647.7,   1.5394,  34.6880,2,  34.6873,6,   -999.0,9,    159.6,2,   140.08,6,    36.01,6,     0.00,6,     2.45,6, -999.000,9, -999.000,9, -999.000,9,-999.0000,9,  -999.00,9,   -999.0,9,-999.000,9,   -999.0,9,   -999,  -999.0,-999.000,-999.0000,-999.000,  4645.0,-999.000,  1.1459,-999.000
    49RY9407_2,   P09,    75,  1,      0,      0,2,19940810,0114,  5.1887, 138.8182, 4205,      0.0,  29.2308,  33.4640,2,-999.0000,9,   -999.0,9,    198.6,6,     1.54,2,     0.00,2,     0.00,2,     0.01,2, -999.000,9, -999.000,9, -999.000,9,-999.0000,9,  -999.00,9,   -999.0,9,-999.000,9,   1861.0,2,   -999,  -999.0,-999.000,-999.0000,-999.000,  -999.0,-999.000, 29.2308,-999.000
    49RY9407_2,   P09,    75,  1,     19,    210,2,19940810,0114,  5.1887, 138.8182, 4205,     11.3,  29.2567,  33.5146,2,  33.5232,2,   -999.0,9,    198.6,2,     1.49,6,     0.04,6,     0.00,6,     0.00,6, -999.000,9, -999.000,9, -999.000,9,-999.0000,9,  -999.00,9,   -999.0,9,-999.000,9,   1864.4,2,   -999,  -999.0,-999.000,-999.0000,-999.000,  -999.0,-999.000, 29.2540,-999.000
    49RY9407_2,   P09,    75,  1,     18,    221,2,19940810,0114,  5.1887, 138.8182, 4205,     26.9,  28.8637,  33.5990,2,  33.6041,2,   -999.0,9,    200.2,2,     1.54,2,     0.01,2,     0.00,2,     0.00,2, -999.000,9, -999.000,9, -999.000,9,-999.0000,9,  -999.00,9,   -999.0,9,-999.000,9,   1866.9,6,   -999,  -999.0,-999.000,-999.0000,-999.000,    33.0,-999.000, 28.8573,-999.000
    49RY9407_2,   P09,    75,  1,     17,    219,2,19940810,0114,  5.1887, 138.8182, 4205,     51.3,  28.6239,  33.7017,2,  33.7055,2,   -999.0,9,    199.3,2,     1.53,2,     0.00,2,     0.00,2,     0.01,2, -999.000,9, -999.000,9, -999.000,9,-999.0000,9,  -999.00,9,   -999.0,9,-999.000,9,   1874.3,2,   -999,  -999.0,-999.000,-999.0000,-999.000,  -999.0,-999.000, 28.6117,-999.000
    49RY9407_2,   P09,    75,  1,     16,    229,2,19940810,0114,  5.1887, 138.8182, 4205,     75.8,  25.1284,  34.6582,2,  34.6511,2,   -999.0,9,    198.3,2,     2.31,2,     0.04,2,     0.00,2,     0.10,2, -999.000,9, -999.000,9, -999.000,9,-999.0000,9,  -999.00,9,   -999.0,9,-999.000,9,   1963.0,2,   -999,  -999.0,  26.230,-999.0000,-999.000,    71.0,-999.000, 25.1119,-999.000
    49RY9407_2,   P09,    75,  1,     15,    217,2,19940810,0114,  5.1887, 138.8182, 4205,    101.7,  19.2151,  34.8202,2,  34.8251,2,   -999.0,9,    160.2,2,     6.57,2,     6.65,2,     0.07,2,     0.56,2, -999.000,9, -999.000,9, -999.000,9,-999.0000,9,  -999.00,9,   -999.0,9,-999.000,9,   2056.8,2,   -999,  -999.0,-999.000,-999.0000,-999.000,  -999.0,-999.000, 19.1969,-999.000
    49RY9407_2,   P09,    75,  1,     14,    204,2,19940810,0114,  5.1887, 138.8182, 4205,    126.7,  14.7677,  34.6198,2,  34.6200,2,   -999.0,9,    138.3,6,    15.57,2,    15.26,2,     0.01,2,     1.07,2, -999.000,9, -999.000,9, -999.000,9,-999.0000,9,  -999.00,9,   -999.0,9,-999.000,9,   2107.0,2,   -999,  -999.0,  14.751,-999.0000,-999.000,   127.0,-999.000, 14.7488,-999.000
    49RY9407_2,   P09,    75,  1,     13,    214,2,19940810,0114,  5.1887, 138.8182, 4205,    151.9,  12.2414,  34.5533,2,  34.5464,2,   -999.0,9,    110.0,2,    24.68,2,    22.09,2,     0.00,2,     1.55,2, -999.000,9, -999.000,9, -999.000,9,-999.0000,9,  -999.00,9,   -999.0,9,-999.000,9,   2155.6,2,   -999,  -999.0,-999.000,-999.0000,-999.000,  -999.0,-999.000, 12.2214,-999.000
    49RY9407_2,   P09,    75,  1,     12,    213,2,19940810,0114,  5.1887, 138.8182, 4205,    203.0,   9.9394,  34.5441,2,  34.5326,2,   -999.0,9,     85.5,2,    35.58,6,    28.99,6,     0.00,6,     2.04,6, -999.000,9, -999.000,9, -999.000,9,-999.0000,9,  -999.00,9,   -999.0,9,-999.000,9,   2205.5,2,   -999,  -999.0,-999.000,-999.0000,-999.000,   205.0,-999.000,  9.9161,-999.000