BOTTLE,20020306WHPSIOdm
EXPOCODE,SECT_ID,STNNBR,CASTNO,SAMPNO,BTLNBR,BTLNBR_FLAG_W,DATE,TIME,LATITUDE,LONGITUDE,DEPTH,CTDPRS,CTDTMP,CTDSAL,CTDSAL_FLAG_W,SALNTY,SALNTY_FLAG_W,CTDOXY,CTDOXY_FLAG_W,OXYGEN,OXYGEN_FLAG_W,SILCAT,SILCAT_FLAG_W,NITRAT,NITRAT_FLAG_W,NITRIT,NITRIT_FLAG_W,PHSPHT,PHSPHT_FLAG_W,CFC-11,CFC-11_FLAG_W,CFC-12,CFC-12_FLAG_W,TRITUM,TRITUM_FLAG_W,HELIUM,HELIUM_FLAG_W,DELHE3,DELHE3_FLAG_W,DELC14,DELC14_FLAG_W,NEON,NEON_FLAG_W,TCARBN,TCARBN_FLAG_W,CTDRAW,C14ERR,REVTMP,HELIER,DELHER,REVPRS,NEONER,THETA,TRITER
,,,,,,,,,,,,DBAR,ITS-90,PSS-78,,PSS-78,,UMOL/KG,,UMOL/KG,,UMOL/KG,,UMOL/KG,,UMOL/KG,,UMOL/KG,,PMOL/KG,,PMOL/KG,,TU,,NMOL/KG,,PERCNT,,/MILLE,,NMOL/KG,,UMOL/KG,,,/MILLE,ITS-90,NMOL/KG,PERCNT,DBAR,NMOL/KG,DEG C,TU
    49RY9407_1,   P09,    22,  2,     24,    230,2,19940713,0118, 29.4877, 137.1928, 4615,    402.5,  15.9010,  34.6900,2,  34.6906,2,    199.0,2,    193.7,2,     8.09,2,     8.01,2,     0.00,2,     0.54,2, -999.000,9, -999.000,9, -999.000,9,-999.0000,9,  -999.00,9,   -999.0,9,-999.000,9,   -999.0,9,   -999,  -999.0,-999.000,-999.0000,-999.000,  -999.0,-999.000, 15.8373,-999.000
    49RY9407_1,   P09,    22,  2,     23,    228,2,19940713,0118, 29.4877, 137.1928, 4615,    501.9,  13.0368,  34.4833,2,  34.4808,2,    182.3,2,    178.7,2,    18.48,2,    14.29,2,     0.00,2,     0.95,2, -999.000,9, -999.000,9, -999.000,9,-999.0000,9,  -999.00,9,   -999.0,9,-999.000,9,   -999.0,9,   -999,  -999.0,-999.000,-999.0000,-999.000,  -999.0,-999.000, 12.9672,-999.000
    49RY9407_1,   P09,    22,  2,     21,    226,2,19940713,0118, 29.4877, 137.1928, 4615,    603.7,  10.2165,  34.3065,2,  34.3102,2,    158.6,2,    158.6,2,    34.57,2,    21.05,2,     0.00,2,     1.45,2, -999.000,9, -999.000,9, -999.000,9,-999.0000,9,  -999.00,9,   -999.0,9,-999.000,9,   -999.0,9,   -999,  -999.0,-999.000,-999.0000,-999.000,  -999.0,-999.000, 10.1447,-999.000
    49RY9407_1,   P09,    22,  2,     22,    227,2,19940713,0118, 29.4877, 137.1928, 4615,    603.7,  10.2165,  34.3065,2,  34.3089,2,    158.6,2,    158.5,2,    34.53,2,    21.10,2,     0.00,2,     1.45,2, -999.000,9, -999.000,9, -999.000,9,-999.0000,9,  -999.00,9,   -999.0,9,-999.000,9,   -999.0,9,   -999,  -999.0,-999.000,-999.0000,-999.000,  -999.0,-999.000, 10.1447,-999.000
    49RY9407_1,   P09,    22,  2,     20,    225,2,19940713,0118, 29.4877, 137.1928, 4615,    704.9,   7.9026,  34.2522,2,  34.2597,2,    127.6,2,    125.0,6,    57.44,2,    28.17,2,     0.00,2,     1.97,2, -999.000,9, -999.000,9, -999.000,9,-999.0000,9,  -999.00,9,   -999.0,9,-999.000,9,   -999.0,9,   -999,  -999.0,-999.000,-999.0000,-999.000,  -999.0,-999.000,  7.8303,-999.000
    49RY9407_1,   P09,    22,  2,     19,    224,2,19940713,0118, 29.4877, 137.1928, 4615,    805.8,   6.0128,  34.2296,2,  34.2207,2,    103.5,2,     98.7,2,    79.07,2,    33.90,2,     0.00,2,     2.39,2, -999.000,9, -999.000,9, -999.000,9,-999.0000,9,  -999.00,9,   -999.0,9,-999.000,9,   -999.0,9,   -999,  -999.0,-999.000,-999.0000,-999.000,  -999.0,-999.000,  5.9409,-999.000
    49RY9407_1,   P09,    22,  2,     18,    223,2,19940713,0118, 29.4877, 137.1928, 4615,    906.5,   4.7987,  34.2779,2,  34.2764,2,     75.1,2,     75.2,2,    99.29,2,    37.92,2,     0.00,2,     2.68,2, -999.000,9, -999.000,9, -999.000,9,-999.0000,9,  -999.00,9,   -999.0,9,-999.000,9,   -999.0,9,   -999,  -999.0,-999.000,-999.0000,-999.000,  -999.0,-999.000,  4.7255,-999.000
    49RY9407_1,   P09,    22,  2,     17,    222,2,19940713,0118, 29.4877, 137.1928, 4615,   1007.3,   4.0871,  34.3350,2,  34.3344,2,     61.7,2,   -999.0,5,   113.44,6,    39.75,6,     0.00,6,     2.85,6, -999.000,9, -999.000,9, -999.000,9,-999.0000,9,  -999.00,9,   -999.0,9,-999.000,9,   -999.0,9,   -999,  -999.0,-999.000,-999.0000,-999.000,  -999.0,-999.000,  4.0105,-999.000
    49RY9407_1,   P09,    22,  2,     15,    220,2,19940713,0118, 29.4877, 137.1928, 4615,   1260.0,   3.0865,  34.4484,2,  34.4484,2,     62.0,2,     63.7,6,   134.09,2,    41.17,2,     0.00,2,     2.95,2, -999.000,9, -999.000,9, -999.000,9,-999.0000,9,  -999.00,9,   -999.0,9,-999.000,9,   -999.0,9,   -999,  -999.0,-999.000,-999.0000,-999.000,  -999.0,-999.000,  2.9976,-999.000
    49RY9407_1,   P09,    22,  2,     16,    221,2,19940713,0118, 29.4877, 137.1928, 4615,   1260.4,   3.0859,  34.4489,2,  34.4495,2,     62.0,2,     66.7,2,   133.90,6,    41.21,6,     0.00,6,     2.94,6, -999.000,9, -999.000,9, -999.000,9,-999.0000,9,  -999.00,9,   -999.0,9,-999.000,9,   -999.0,9,   -999,  -999.0,   3.079,-999.0000,-999.000,  1263.0,-999.000,  2.9970,-999.000
    49RY9407_1,   P09,    22,  2,     14,    219,2,19940713,0118, 29.4877, 137.1928, 4615,   1514.2,   2.5792,  34.5207,2,  34.5194,2,     77.2,2,     80.8,2,   141.79,2,    40.73,2,     0.00,2,     2.89,2, -999.000,9, -999.000,9, -999.000,9,-999.0000,9,  -999.00,9,   -999.0,9,-999.000,9,   -999.0,9,   -999,  -999.0,-999.000,-999.0000,-999.000,  -999.0,-999.000,  2.4752,-999.000
    49RY9407_1,   P09,    22,  2,     13,    218,4,19940713,0118, 29.4877, 137.1928, 4615,   1768.0,   2.2490,  34.5676,2,  34.5671,2,     92.6,2,     96.1,2,   144.50,2,    39.94,2,     0.00,2,     2.83,2, -999.000,9, -999.000,9, -999.000,9,-999.0000,9,  -999.00,9,   -999.0,9,-999.000,9,   -999.0,9,   -999,  -999.0,-999.000,-999.0000,-999.000,  -999.0,-999.000,  2.1284,-999.000
    49RY9407_1,   P09,    22,  2,     11,    216,4,19940713,0118, 29.4877, 137.1928, 4615,   2277.0,   1.8632,  34.6246,2,  34.6256,2,    123.9,2,    121.5,2,   144.93,2,    38.35,2,     0.00,2,     2.69,2, -999.000,9, -999.000,9, -999.000,9,-999.0000,9,  -999.00,9,   -999.0,9,-999.000,9,   -999.0,9,   -999,  -999.0,-999.000,-999.0000,-999.000,  -999.0,-999.000,  1.7053,-999.000
    49RY9407_1,   P09,    22,  2,     12,    217,2,19940713,0118, 29.4877, 137.1928, 4615,   2277.0,   1.8632,  34.6246,2,  34.6244,2,    123.9,2,    121.0,2,   145.08,2,    38.49,2,     0.00,2,     2.69,2, -999.000,9, -999.000,9, -999.000,9,-999.0000,9,  -999.00,9,   -999.0,9,-999.000,9,   -999.0,9,   -999,  -999.0,-999.000,-999.0000,-999.000,  -999.0,-999.000,  1.7053,-999.000
    49RY9407_1,   P09,    22,  2,     10,    214,2,19940713,0118, 29.4877, 137.1928, 4615,   2784.7,   1.6420,  34.6562,2,  34.6559,2,    141.5,2,    139.3,2,   144.63,2,    37.42,2,     0.00,2,     2.61,2, -999.000,9, -999.000,9, -999.000,9,-999.0000,9,  -999.00,9,   -999.0,9,-999.000,9,   -999.0,9,   -999,  -999.0,-999.000,-999.0000,-999.000,  -999.0,-999.000,  1.4426,-999.000
    49RY9407_1,   P09,    22,  2,      9,    213,2,19940713,0118, 29.4877, 137.1928, 4615,   3040.9,   1.5775,  34.6663,2,  34.6656,2,    147.5,2,    145.4,6,   144.14,2,    37.09,2,     0.00,2,     2.58,2, -999.000,9, -999.000,9, -999.000,9,-999.0000,9,  -999.00,9,   -999.0,9,-999.000,9,   -999.0,9,   -999,  -999.0,   1.573,-999.0000,-999.000,  3040.0,-999.000,  1.3551,-999.000
    49RY9407_1,   P09,    22,  2,      7,    210,4,19940713,0118, 29.4877, 137.1928, 4615,   3295.3,   1.5374,  34.6720,2,  34.6729,2,    152.9,2,    148.7,2,   143.50,6,    36.79,6,     0.00,6,     2.55,6, -999.000,9, -999.000,9, -999.000,9,-999.0000,9,  -999.00,9,   -999.0,9,-999.000,9,   -999.0,9,   -999,  -999.0,-999.000,-999.0000,-999.000,  -999.0,-999.000,  1.2911,-999.000
    49RY9407_1,   P09,    22,  2,      8,    212,2,19940713,0118, 29.4877, 137.1928, 4615,   3295.3,   1.5374,  34.6720,2,  34.6738,2,    152.9,2,    149.5,2,   143.49,2,    36.85,2,     0.00,2,     2.56,2, -999.000,9, -999.000,9, -999.000,9,-999.0000,9,  -999.00,9,   -999.0,9,-999.000,9,   -999.0,9,   -999,  -999.0,-999.000,-999.0000,-999.000,  -999.0,-999.000,  1.2911,-999.000
    49RY9407_1,   P09,    22,  2,      6,    209,2,19940713,0118, 29.4877, 137.1928, 4615,   3807.5,   1.5276,  34.6793,2,  34.6764,2,    157.4,2,    155.7,2,   143.33,2,    36.61,2,     0.00,2,     2.54,2, -999.000,9, -999.000,9, -999.000,9,-999.0000,9,  -999.00,9,   -999.0,9,-999.000,9,   -999.0,9,   -999,  -999.0,-999.000,-999.0000,-999.000,  -999.0,-999.000,  1.2286,-999.000
    49RY9407_1,   P09,    22,  2,      5,    207,2,19940713,0118, 29.4877, 137.1928, 4615,   4063.1,   1.5423,  34.6807,2,  34.6778,2,    156.2,2,    153.8,2,   142.91,2,    36.49,2,     0.00,2,     2.54,2, -999.000,9, -999.000,9, -999.000,9,-999.0000,9,  -999.00,9,   -999.0,9,-999.000,9,   -999.0,9,   -999,  -999.0,-999.000,-999.0000,-999.000,  -999.0,-999.000,  1.2153,-999.000
    49RY9407_1,   P09,    22,  2,      4,    206,2,19940713,0118, 29.4877, 137.1928, 4615,   4319.5,   1.5645,  34.6811,2,  34.6796,2,    157.0,2,    155.0,2,   143.03,2,    36.39,2,     0.00,2,     2.52,2, -999.000,9, -999.000,9, -999.000,9,-999.0000,9,  -999.00,9,   -999.0,9,-999.000,9,   -999.0,9,   -999,  -999.0,-999.000,-999.0000,-999.000,  -999.0,-999.000,  1.2083,-999.000
    49RY9407_1,   P09,    22,  2,      3,    205,2,19940713,0118, 29.4877, 137.1928, 4615,   4576.9,   1.5903,  34.6814,2,  34.6819,2,    157.3,2,    155.0,2,   142.50,2,    36.40,2,     0.00,2,     2.52,2, -999.000,9, -999.000,9, -999.000,9,-999.0000,9,  -999.00,9,   -999.0,9,-999.000,9,   -999.0,9,   -999,  -999.0,-999.000,-999.0000,-999.000,  -999.0,-999.000,  1.2037,-999.000
    49RY9407_1,   P09,    22,  2,      2,    204,2,19940713,0118, 29.4877, 137.1928, 4615,   4687.4,   1.6025,  34.6807,2,  34.6798,2,    154.3,2,   -999.0,5,   142.40,6,    36.32,6,     0.00,6,     2.50,6, -999.000,9, -999.000,9, -999.000,9,-999.0000,9,  -999.00,9,   -999.0,9,-999.000,9,   -999.0,9,   -999,  -999.0,   1.599,-999.0000,-999.000,  4687.0,-999.000,  1.2025,-999.000
    49RY9407_1,   P09,    22,  2,      1,    201,2,19940713,0118, 29.4877, 137.1928, 4615,   4687.9,   1.6029,  34.6808,2,  34.6833,2,    154.3,2,    156.4,6,   142.34,6,    36.39,6,     0.00,6,     2.51,6, -999.000,9, -999.000,9, -999.000,9,-999.0000,9,  -999.00,9,   -999.0,9,-999.000,9,   -999.0,9,   -999,  -999.0,-999.000,-999.0000,-999.000,  -999.0,-999.000,  1.2028,-999.000
    49RY9407_1,   P09,    23,  1,      0,      0,2,19940713,0555, 28.9973, 136.9940, 4550,      0.4,  30.0241,  34.8984,2,-999.0000,9,    109.0,4,    199.1,6,     1.47,2,     0.03,2,     0.00,2,     0.00,2, -999.000,9, -999.000,9, -999.000,9,-999.0000,9,  -999.00,9,   -999.0,9,-999.000,9,   -999.0,9,   -999,  -999.0,-999.000,-999.0000,-999.000,  -999.0,-999.000, 30.0240,-999.000
    49RY9407_1,   P09,    23,  1,      9,    213,2,19940713,0555, 28.9973, 136.9940, 4550,     10.1,  29.1422,  34.9293,2,  34.9323,2,    193.9,3,    199.0,2,     1.47,2,     0.02,2,     0.00,2,     0.00,2, -999.000,9, -999.000,9, -999.000,9,-999.0000,9,  -999.00,9,   -999.0,9,-999.000,9,   -999.0,9,   -999,  -999.0,  29.130,-999.0000,-999.000,    16.0,-999.000, 29.1398,-999.000
    49RY9407_1,   P09,    23,  1,      8,    212,2,19940713,0555, 28.9973, 136.9940, 4550,     25.3,  25.0714,  34.8751,2,  34.8659,2,    219.5,2,    223.1,2,     1.58,2,     0.01,2,     0.00,2,     0.00,2, -999.000,9, -999.000,9, -999.000,9,-999.0000,9,  -999.00,9,   -999.0,9,-999.000,9,   -999.0,9,   -999,  -999.0,-999.000,-999.0000,-999.000,  -999.0,-999.000, 25.0659,-999.000
    49RY9407_1,   P09,    23,  1,      7,    210,2,19940713,0555, 28.9973, 136.9940, 4550,     49.9,  22.0680,  35.1212,2,  34.9726,2,    232.8,2,    232.1,2,     1.66,2,     0.01,2,     0.00,2,     0.00,2, -999.000,9, -999.000,9, -999.000,9,-999.0000,9,  -999.00,9,   -999.0,9,-999.000,9,   -999.0,9,   -999,  -999.0,-999.000,-999.0000,-999.000,  -999.0,-999.000, 22.0581,-999.000
    49RY9407_1,   P09,    23,  1,      6,    209,2,19940713,0555, 28.9973, 136.9940, 4550,     75.4,  20.6032,  34.9602,2,  34.9515,2,    229.5,2,    229.4,2,     1.89,6,     0.01,6,     0.00,6,     0.01,6, -999.000,9, -999.000,9, -999.000,9,-999.0000,9,  -999.00,9,   -999.0,9,-999.000,9,   -999.0,9,   -999,  -999.0,-999.000,-999.0000,-999.000,  -999.0,-999.000, 20.5890,-999.000
    49RY9407_1,   P09,    23,  1,      5,    229,2,19940713,0555, 28.9973, 136.9940, 4550,    100.7,  19.6783,  34.9356,2,  34.9371,2,    226.4,2,    223.4,2,     1.97,2,     0.00,2,     0.00,2,     0.03,2, -999.000,9, -999.000,9, -999.000,9,-999.0000,9,  -999.00,9,   -999.0,9,-999.000,9,   -999.0,9,   -999,  -999.0,  19.693,-999.0000,-999.000,    95.0,-999.000, 19.6599,-999.000
    49RY9407_1,   P09,    23,  1,      4,    206,2,19940713,0555, 28.9973, 136.9940, 4550,    126.5,  19.1263,  34.9226,2,  34.9227,2,    208.8,2,    208.5,2,     2.53,2,     1.90,2,     0.04,2,     0.14,2, -999.000,9, -999.000,9, -999.000,9,-999.0000,9,  -999.00,9,   -999.0,9,-999.000,9,   -999.0,9,   -999,  -999.0,-999.000,-999.0000,-999.000,  -999.0,-999.000, 19.1037,-999.000
    49RY9407_1,   P09,    23,  1,      3,    205,2,19940713,0555, 28.9973, 136.9940, 4550,    151.1,  18.8209,  34.9083,2,  34.9053,2,    204.2,3,    211.3,2,     2.72,2,     2.08,2,     0.04,2,     0.15,2, -999.000,9, -999.000,9, -999.000,9,-999.0000,9,  -999.00,9,   -999.0,9,-999.000,9,   -999.0,9,   -999,  -999.0,-999.000,-999.0000,-999.000,  -999.0,-999.000, 18.7942,-999.000
    49RY9407_1,   P09,    23,  1,      2,    204,2,19940713,0555, 28.9973, 136.9940, 4550,    201.6,  18.2897,  34.8982,2,  34.8958,2,    215.1,2,    214.6,2,     2.88,2,     2.48,2,     0.02,2,     0.17,2, -999.000,9, -999.000,9, -999.000,9,-999.0000,9,  -999.00,9,   -999.0,9,-999.000,9,   -999.0,9,   -999,  -999.0,  18.290,-999.0000,-999.000,   201.0,-999.000, 18.2547,-999.000