BOTTLE,20020306WHPSIOdm
EXPOCODE,SECT_ID,STNNBR,CASTNO,SAMPNO,BTLNBR,BTLNBR_FLAG_W,DATE,TIME,LATITUDE,LONGITUDE,DEPTH,CTDPRS,CTDTMP,CTDSAL,CTDSAL_FLAG_W,SALNTY,SALNTY_FLAG_W,CTDOXY,CTDOXY_FLAG_W,OXYGEN,OXYGEN_FLAG_W,SILCAT,SILCAT_FLAG_W,NITRAT,NITRAT_FLAG_W,NITRIT,NITRIT_FLAG_W,PHSPHT,PHSPHT_FLAG_W,CFC-11,CFC-11_FLAG_W,CFC-12,CFC-12_FLAG_W,TRITUM,TRITUM_FLAG_W,HELIUM,HELIUM_FLAG_W,DELHE3,DELHE3_FLAG_W,DELC14,DELC14_FLAG_W,NEON,NEON_FLAG_W,TCARBN,TCARBN_FLAG_W,CTDRAW,C14ERR,REVTMP,HELIER,DELHER,REVPRS,NEONER,THETA,TRITER
,,,,,,,,,,,,DBAR,ITS-90,PSS-78,,PSS-78,,UMOL/KG,,UMOL/KG,,UMOL/KG,,UMOL/KG,,UMOL/KG,,UMOL/KG,,PMOL/KG,,PMOL/KG,,TU,,NMOL/KG,,PERCNT,,/MILLE,,NMOL/KG,,UMOL/KG,,,/MILLE,ITS-90,NMOL/KG,PERCNT,DBAR,NMOL/KG,DEG C,TU
    49RY9407_1,   P09,    52,  2,      8,    212,2,19940726,1006, 14.5300, 137.0045, 4380,    603.8,   7.1294,  34.4097,2,  34.4092,2,     66.6,2,     69.0,6,  -999.00,9,  -999.00,9,  -999.00,9,  -999.00,9, -999.000,9, -999.000,9, -999.000,9,-999.0000,9,  -999.00,9,   -999.0,9,-999.000,9,   -999.0,9,   -999,  -999.0,-999.000,-999.0000,-999.000,  -999.0,-999.000,  7.0712,-999.000
    49RY9407_1,   P09,    52,  2,      6,    209,2,19940726,1006, 14.5300, 137.0045, 4380,    704.3,   6.0515,  34.4562,2,  34.4523,2,     73.6,2,     73.0,6,    72.44,2,    37.40,2,     0.00,2,     2.69,2, -999.000,9, -999.000,9, -999.000,9,-999.0000,9,  -999.00,9,   -999.0,9,-999.000,9,   -999.0,9,   -999,  -999.0,-999.000,-999.0000,-999.000,  -999.0,-999.000,  5.9887,-999.000
    49RY9407_1,   P09,    52,  2,      7,    220,2,19940726,1006, 14.5300, 137.0045, 4380,    706.8,   6.0354,  34.4498,2,  34.4529,2,     73.8,2,     73.9,6,    73.10,6,    37.40,6,     0.00,6,     2.69,6, -999.000,9, -999.000,9, -999.000,9,-999.0000,9,  -999.00,9,   -999.0,9,-999.000,9,   -999.0,9,   -999,  -999.0,-999.000,-999.0000,-999.000,  -999.0,-999.000,  5.9725,-999.000
    49RY9407_1,   P09,    52,  2,      5,    218,2,19940726,1006, 14.5300, 137.0045, 4380,    804.2,   5.4655,  34.4878,2,  34.4834,2,     78.3,2,     78.4,6,    80.70,6,    38.18,6,     0.00,6,     2.74,6, -999.000,9, -999.000,9, -999.000,9,-999.0000,9,  -999.00,9,   -999.0,9,-999.000,9,   -999.0,9,   -999,  -999.0,-999.000,-999.0000,-999.000,  -999.0,-999.000,  5.3968,-999.000
    49RY9407_1,   P09,    52,  2,      4,    206,2,19940726,1006, 14.5300, 137.0045, 4380,    905.2,   5.0086,  34.5052,2,  34.5019,2,     84.0,2,     83.1,2,    88.30,2,    38.78,2,     0.00,2,     2.77,2, -999.000,9, -999.000,9, -999.000,9,-999.0000,9,  -999.00,9,   -999.0,9,-999.000,9,   -999.0,9,   -999,  -999.0,-999.000,-999.0000,-999.000,  -999.0,-999.000,  4.9337,-999.000
    49RY9407_1,   P09,    52,  2,      3,    205,2,19940726,1006, 14.5300, 137.0045, 4380,   1007.5,   4.6373,  34.5195,2,  34.5196,6,     85.9,2,     83.7,2,    94.57,2,    38.85,2,     0.00,2,     2.79,2, -999.000,9, -999.000,9, -999.000,9,-999.0000,9,  -999.00,9,   -999.0,9,-999.000,9,   -999.0,9,   -999,  -999.0,-999.000,-999.0000,-999.000,  -999.0,-999.000,  4.5560,-999.000
    49RY9407_1,   P09,    52,  2,      2,    216,2,19940726,1006, 14.5300, 137.0045, 4380,   1261.4,   3.6945,  34.5547,2,  34.5547,2,     92.7,2,     91.0,2,   113.71,2,    39.08,2,     0.00,2,     2.80,2, -999.000,9, -999.000,9, -999.000,9,-999.0000,9,  -999.00,9,   -999.0,9,-999.000,9,   -999.0,9,   -999,  -999.0,-999.000,-999.0000,-999.000,  -999.0,-999.000,  3.5995,-999.000
    49RY9407_1,   P09,    52,  2,      1,    201,2,19940726,1006, 14.5300, 137.0045, 4380,   1514.6,   3.0826,  34.5782,2,  34.5775,2,     98.3,2,     96.2,2,   125.57,2,    39.28,2,     0.00,2,     2.81,2, -999.000,9, -999.000,9, -999.000,9,-999.0000,9,  -999.00,9,   -999.0,9,-999.000,9,   -999.0,9,   -999,  -999.0,-999.000,-999.0000,-999.000,  -999.0,-999.000,  2.9726,-999.000
    49RY9407_1,   P09,    52,  2,     24,    230,2,19940726,1006, 14.5300, 137.0045, 4380,   1768.6,   2.4950,  34.6047,2,  34.6035,2,    107.3,2,   -999.0,5,   137.03,2,    39.15,2,     0.00,2,     2.79,2, -999.000,9, -999.000,9, -999.000,9,-999.0000,9,  -999.00,9,   -999.0,9,-999.000,9,   -999.0,9,   -999,  -999.0,-999.000,-999.0000,-999.000,  -999.0,-999.000,  2.3709,-999.000
    49RY9407_1,   P09,    52,  2,     23,    228,2,19940726,1006, 14.5300, 137.0045, 4380,   2020.1,   2.1780,  34.6263,2,  34.6251,6,    113.3,2,    114.7,2,   141.23,6,    38.89,6,     0.00,6,     2.75,6, -999.000,9, -999.000,9, -999.000,9,-999.0000,9,  -999.00,9,   -999.0,9,-999.000,9,   -999.0,9,   -999,  -999.0,-999.000,-999.0000,-999.000,  -999.0,-999.000,  2.0372,-999.000
    49RY9407_1,   P09,    52,  2,     22,    227,2,19940726,1006, 14.5300, 137.0045, 4380,   2275.2,   1.9587,  34.6404,2,  34.6402,2,    120.0,2,    122.0,2,   144.70,2,    38.64,2,     0.00,2,     2.72,2, -999.000,9, -999.000,9, -999.000,9,-999.0000,9,  -999.00,9,   -999.0,9,-999.000,9,   -999.0,9,   -999,  -999.0,-999.000,-999.0000,-999.000,  -999.0,-999.000,  1.7993,-999.000
    49RY9407_1,   P09,    52,  2,     21,    226,2,19940726,1006, 14.5300, 137.0045, 4380,   2530.8,   1.8203,  34.6508,2,  34.6510,2,    126.4,2,    126.5,2,   146.41,2,    38.08,2,     0.00,2,     2.69,2, -999.000,9, -999.000,9, -999.000,9,-999.0000,9,  -999.00,9,   -999.0,9,-999.000,9,   -999.0,9,   -999,  -999.0,-999.000,-999.0000,-999.000,  -999.0,-999.000,  1.6406,-999.000
    49RY9407_1,   P09,    52,  2,     20,    203,2,19940726,1006, 14.5300, 137.0045, 4380,   2783.3,   1.7227,  34.6604,2,  34.6585,2,    132.1,2,    132.2,2,   146.83,2,    37.67,2,     0.00,2,     2.66,2, -999.000,9, -999.000,9, -999.000,9,-999.0000,9,  -999.00,9,   -999.0,9,-999.000,9,   -999.0,9,   -999,  -999.0,-999.000,-999.0000,-999.000,  2784.0,-999.000,  1.5217,-999.000
    49RY9407_1,   P09,    52,  2,     18,    221,2,19940726,1006, 14.5300, 137.0045, 4380,   3037.6,   1.6707,  34.6647,2,  34.6656,2,    136.4,2,    138.0,2,   146.48,2,    37.57,2,     0.00,2,     2.64,2, -999.000,9, -999.000,9, -999.000,9,-999.0000,9,  -999.00,9,   -999.0,9,-999.000,9,   -999.0,9,   -999,  -999.0,   1.675,-999.0000,-999.000,  3030.0,-999.000,  1.4466,-999.000
    49RY9407_1,   P09,    52,  2,     19,    210,2,19940726,1006, 14.5300, 137.0045, 4380,   3037.6,   1.6707,  34.6647,2,  34.6641,6,    136.4,2,    137.8,2,   146.41,2,    37.55,2,     0.00,2,     2.64,2, -999.000,9, -999.000,9, -999.000,9,-999.0000,9,  -999.00,9,   -999.0,9,-999.000,9,   -999.0,9,   -999,  -999.0,-999.000,-999.0000,-999.000,  -999.0,-999.000,  1.4466,-999.000
    49RY9407_1,   P09,    52,  2,     17,    219,4,19940726,1006, 14.5300, 137.0045, 4380,   3293.0,   1.6215,  34.6715,2,  34.6699,2,    141.3,2,    143.3,2,   145.32,2,    37.00,2,     0.00,2,     2.60,2, -999.000,9, -999.000,9, -999.000,9,-999.0000,9,  -999.00,9,   -999.0,9,-999.000,9,   -999.0,9,   -999,  -999.0,-999.000,-999.0000,-999.000,  -999.0,-999.000,  1.3734,-999.000
    49RY9407_1,   P09,    52,  2,     15,    217,2,19940726,1006, 14.5300, 137.0045, 4380,   3804.9,   1.5574,  34.6798,2,  34.6770,6,    152.0,2,    150.9,2,   143.82,2,    36.65,2,     0.00,2,     2.56,2, -999.000,9, -999.000,9, -999.000,9,-999.0000,9,  -999.00,9,   -999.0,9,-999.000,9,   -999.0,9,   -999,  -999.0,-999.000,-999.0000,-999.000,  -999.0,-999.000,  1.2580,-999.000
    49RY9407_1,   P09,    52,  2,     16,    229,2,19940726,1006, 14.5300, 137.0045, 4380,   3804.9,   1.5574,  34.6798,2,  34.6776,2,    152.0,2,    150.9,2,   144.05,2,    36.65,2,     0.00,2,     2.56,2, -999.000,9, -999.000,9, -999.000,9,-999.0000,9,  -999.00,9,   -999.0,9,-999.000,9,   -999.0,9,   -999,  -999.0,   1.554,-999.0000,-999.000,  3804.0,-999.000,  1.2580,-999.000
    49RY9407_1,   P09,    52,  2,     14,    204,2,19940726,1006, 14.5300, 137.0045, 4380,   4063.2,   1.5346,  34.6832,2,  34.6815,2,    155.5,2,    155.4,6,   142.70,6,    36.47,6,     0.00,6,     2.55,6, -999.000,9, -999.000,9, -999.000,9,-999.0000,9,  -999.00,9,   -999.0,9,-999.000,9,   -999.0,9,   -999,  -999.0,   1.534,-999.0000,-999.000,  4057.0,-999.000,  1.2078,-999.000
    49RY9407_1,   P09,    52,  2,     13,    214,2,19940726,1006, 14.5300, 137.0045, 4380,   4318.8,   1.5085,  34.6867,2,  34.6853,2,    159.1,2,    159.5,6,   140.97,6,    36.10,6,     0.00,6,     2.50,6, -999.000,9, -999.000,9, -999.000,9,-999.0000,9,  -999.00,9,   -999.0,9,-999.000,9,   -999.0,9,   -999,  -999.0,-999.000,-999.0000,-999.000,  4314.0,-999.000,  1.1540,-999.000
    49RY9407_1,   P09,    52,  2,     12,    213,3,19940726,1006, 14.5300, 137.0045, 4380,   4513.6,   1.5154,  34.6880,2,  34.6869,6,    161.3,2,    162.6,6,   140.04,6,    35.89,6,     0.00,6,     2.49,6, -999.000,9, -999.000,9, -999.000,9,-999.0000,9,  -999.00,9,   -999.0,9,-999.000,9,   -999.0,9,   -999,  -999.0,-999.000,-999.0000,-999.000,  4508.0,-999.000,  1.1384,-999.000
    49RY9407_1,   P09,    53,  1,      0,      0,2,19940726,1512, 13.9997, 137.0187, 4950,      2.7,  29.8568,  34.2133,2,-999.0000,9,    195.0,2,    198.0,6,     1.34,2,     0.01,2,     0.00,2,     0.00,2, -999.000,9, -999.000,9, -999.000,9,-999.0000,9,  -999.00,9,   -999.0,9,-999.000,9,   -999.0,9,   -999,  -999.0,-999.000,-999.0000,-999.000,  -999.0,-999.000, 29.8562,-999.000
    49RY9407_1,   P09,    53,  1,     23,    228,2,19940726,1512, 13.9997, 137.0187, 4950,     10.7,  29.8602,  34.2151,2,  34.2115,2,    196.9,2,    195.3,2,     1.38,2,     0.01,2,     0.00,2,     0.00,2, -999.000,9, -999.000,9, -999.000,9,-999.0000,9,  -999.00,9,   -999.0,9,-999.000,9,   -999.0,9,   -999,  -999.0,-999.000,-999.0000,-999.000,  -999.0,-999.000, 29.8575,-999.000
    49RY9407_1,   P09,    53,  1,     22,    227,2,19940726,1512, 13.9997, 137.0187, 4950,     24.5,  29.8689,  34.2139,2,  34.2131,2,    198.4,2,    196.7,2,     1.35,2,     0.00,2,     0.00,2,     0.01,2, -999.000,9, -999.000,9, -999.000,9,-999.0000,9,  -999.00,9,   -999.0,9,-999.000,9,   -999.0,9,   -999,  -999.0,-999.000,-999.0000,-999.000,  -999.0,-999.000, 29.8628,-999.000
    49RY9407_1,   P09,    53,  1,     21,    226,2,19940726,1512, 13.9997, 137.0187, 4950,     51.4,  29.3590,  34.2493,2,  34.2607,2,    204.7,2,    204.4,2,     1.39,2,     0.00,2,     0.00,2,     0.01,2, -999.000,9, -999.000,9, -999.000,9,-999.0000,9,  -999.00,9,   -999.0,9,-999.000,9,   -999.0,9,   -999,  -999.0,-999.000,-999.0000,-999.000,  -999.0,-999.000, 29.3465,-999.000
    49RY9407_1,   P09,    53,  1,     20,    203,2,19940726,1512, 13.9997, 137.0187, 4950,     75.4,  28.1567,  34.5077,2,  34.5019,2,    207.5,2,    206.9,2,     1.40,2,     0.01,2,     0.00,2,     0.05,2, -999.000,9, -999.000,9, -999.000,9,-999.0000,9,  -999.00,9,   -999.0,9,-999.000,9,   -999.0,9,   -999,  -999.0,-999.000,-999.0000,-999.000,    79.0,-999.000, 28.1389,-999.000
    49RY9407_1,   P09,    53,  1,     19,    210,2,19940726,1512, 13.9997, 137.0187, 4950,    100.8,  26.9988,  34.8159,2,  34.8120,2,    204.1,2,    207.5,2,     1.31,2,     0.00,2,     0.00,2,     0.03,2, -999.000,9, -999.000,9, -999.000,9,-999.0000,9,  -999.00,9,   -999.0,9,-999.000,9,   -999.0,9,   -999,  -999.0,-999.000,-999.0000,-999.000,  -999.0,-999.000, 26.9757,-999.000
    49RY9407_1,   P09,    53,  1,     18,    221,2,19940726,1512, 13.9997, 137.0187, 4950,    127.0,  25.7751,  34.9094,2,  34.9094,2,    196.3,2,    198.3,2,     1.43,2,     0.01,2,     0.18,2,     0.09,2, -999.000,9, -999.000,9, -999.000,9,-999.0000,9,  -999.00,9,   -999.0,9,-999.000,9,   -999.0,9,   -999,  -999.0,  25.770,-999.0000,-999.000,   128.0,-999.000, 25.7469,-999.000
    49RY9407_1,   P09,    53,  1,     17,    219,2,19940726,1512, 13.9997, 137.0187, 4950,    150.5,  24.3832,  35.0336,2,  35.0393,2,    191.6,2,    189.7,2,     1.58,2,     0.47,2,     0.04,2,     0.11,2, -999.000,9, -999.000,9, -999.000,9,-999.0000,9,  -999.00,9,   -999.0,9,-999.000,9,   -999.0,9,   -999,  -999.0,-999.000,-999.0000,-999.000,  -999.0,-999.000, 24.3511,-999.000
    49RY9407_1,   P09,    53,  1,     15,    217,2,19940726,1512, 13.9997, 137.0187, 4950,    202.1,  20.5948,  35.0189,2,  35.0101,2,    180.9,2,    183.4,2,     2.85,2,     2.76,2,     0.01,2,     0.25,2, -999.000,9, -999.000,9, -999.000,9,-999.0000,9,  -999.00,9,   -999.0,9,-999.000,9,   -999.0,9,   -999,  -999.0,-999.000,-999.0000,-999.000,  -999.0,-999.000, 20.5567,-999.000
    49RY9407_1,   P09,    53,  1,     16,    229,4,19940726,1512, 13.9997, 137.0187, 4950,    202.1,  20.5948,  35.0189,2,  35.0101,2,    180.9,2,    181.6,2,     2.75,2,     2.73,2,     0.01,2,     0.26,2, -999.000,9, -999.000,9, -999.000,9,-999.0000,9,  -999.00,9,   -999.0,9,-999.000,9,   -999.0,9,   -999,  -999.0,  20.500,-999.0000,-999.000,   198.0,-999.000, 20.5567,-999.000
    49RY9407_1,   P09,    53,  1,     14,    204,2,19940726,1512, 13.9997, 137.0187, 4950,    401.8,  10.0553,  34.3033,2,  34.3073,2,    129.7,2,    125.4,2,    30.42,2,    23.96,2,     0.00,2,     1.75,2, -999.000,9, -999.000,9, -999.000,9,-999.0000,9,  -999.00,9,   -999.0,9,-999.000,9,   -999.0,9,   -999,  -999.0,  10.089,-999.0000,-999.000,   398.0,-999.000, 10.0084,-999.000
    49RY9407_1,   P09,    53,  1,     12,    213,2,19940726,1512, 13.9997, 137.0187, 4950,    503.2,   7.5206,  34.3011,2,  34.2984,2,     83.7,3,     88.8,2,    53.04,2,    32.69,2,     0.00,2,     2.38,2, -999.000,9, -999.000,9, -999.000,9,-999.0000,9,  -999.00,9,   -999.0,9,-999.000,9,   -999.0,9,   -999,  -999.0,-999.000,-999.0000,-999.000,   502.0,-999.000,  7.4710,-999.000
    49RY9407_1,   P09,    53,  1,     13,    214,4,19940726,1512, 13.9997, 137.0187, 4950,    503.2,   7.5206,  34.3011,2,  34.2988,2,     83.7,3,     84.8,2,    54.22,2,    32.78,2,     0.00,2,     2.38,2, -999.000,9, -999.000,9, -999.000,9,-999.0000,9,  -999.00,9,   -999.0,9,-999.000,9,   -999.0,9,   -999,  -999.0,-999.000,-999.0000,-999.000,   491.0,-999.000,  7.4710,-999.000