BOTTLE,20020306WHPSIOdm
EXPOCODE,SECT_ID,STNNBR,CASTNO,SAMPNO,BTLNBR,BTLNBR_FLAG_W,DATE,TIME,LATITUDE,LONGITUDE,DEPTH,CTDPRS,CTDTMP,CTDSAL,CTDSAL_FLAG_W,SALNTY,SALNTY_FLAG_W,CTDOXY,CTDOXY_FLAG_W,OXYGEN,OXYGEN_FLAG_W,SILCAT,SILCAT_FLAG_W,NITRAT,NITRAT_FLAG_W,NITRIT,NITRIT_FLAG_W,PHSPHT,PHSPHT_FLAG_W,CFC-11,CFC-11_FLAG_W,CFC-12,CFC-12_FLAG_W,TRITUM,TRITUM_FLAG_W,HELIUM,HELIUM_FLAG_W,DELHE3,DELHE3_FLAG_W,DELC14,DELC14_FLAG_W,NEON,NEON_FLAG_W,TCARBN,TCARBN_FLAG_W,CTDRAW,C14ERR,REVTMP,HELIER,DELHER,REVPRS,NEONER,THETA,TRITER
,,,,,,,,,,,,DBAR,ITS-90,PSS-78,,PSS-78,,UMOL/KG,,UMOL/KG,,UMOL/KG,,UMOL/KG,,UMOL/KG,,UMOL/KG,,PMOL/KG,,PMOL/KG,,TU,,NMOL/KG,,PERCNT,,/MILLE,,NMOL/KG,,UMOL/KG,,,/MILLE,ITS-90,NMOL/KG,PERCNT,DBAR,NMOL/KG,DEG C,TU
    49RY9407_2,   P09,    94,  2,      9,    223,2,19940815,0116, -0.2438, 142.0195, 3275,    152.7,  20.4936,  35.2619,2,  35.2506,2,   -999.0,9,    139.4,2,     5.83,2,     9.98,2,     0.02,2,     0.76,2, -999.000,9, -999.000,9, -999.000,9,-999.0000,9,  -999.00,9,   -999.0,9,-999.000,9,   -999.0,9,   -999,  -999.0,-999.000,-999.0000,-999.000,  -999.0,-999.000, 20.4649,-999.000
    49RY9407_2,   P09,    94,  2,      8,    212,2,19940815,0116, -0.2438, 142.0195, 3275,    201.5,  17.2583,  35.2122,2,  35.2094,2,   -999.0,9,    138.9,2,     8.74,2,    13.49,2,     0.01,2,     1.01,2, -999.000,9, -999.000,9, -999.000,9,-999.0000,9,  -999.00,9,   -999.0,9,-999.000,9,   -999.0,9,   -999,  -999.0,-999.000,-999.0000,-999.000,  -999.0,-999.000, 17.2246,-999.000
    49RY9407_2,   P09,    94,  2,      7,    220,2,19940815,0116, -0.2438, 142.0195, 3275,    201.7,  17.2557,  35.2105,2,  35.2092,2,   -999.0,9,    138.6,2,     8.72,2,    13.49,2,     0.01,2,     1.01,2, -999.000,9, -999.000,9, -999.000,9,-999.0000,9,  -999.00,9,   -999.0,9,-999.000,9,   -999.0,9,   -999,  -999.0,-999.000,-999.0000,-999.000,  -999.0,-999.000, 17.2220,-999.000
    49RY9407_2,   P09,    94,  2,      6,    209,2,19940815,0116, -0.2438, 142.0195, 3275,    301.5,  11.4531,  34.8783,2,  34.8688,2,   -999.0,9,    142.4,2,    15.42,2,    21.73,2,     0.00,2,     1.52,2, -999.000,9, -999.000,9, -999.000,9,-999.0000,9,  -999.00,9,   -999.0,9,-999.000,9,   -999.0,9,   -999,  -999.0,-999.000,-999.0000,-999.000,  -999.0,-999.000, 11.4148,-999.000
    49RY9407_2,   P09,    94,  2,      5,    218,2,19940815,0116, -0.2438, 142.0195, 3275,    403.2,   8.9347,  34.6388,2,  34.6396,2,   -999.0,9,    126.8,2,    30.03,2,    28.19,2,     0.00,2,     1.94,2, -999.000,9, -999.000,9, -999.000,9,-999.0000,9,  -999.00,9,   -999.0,9,-999.000,9,   -999.0,9,   -999,  -999.0,-999.000,-999.0000,-999.000,  -999.0,-999.000,  8.8908,-999.000
    49RY9407_2,   P09,    94,  2,      4,    206,2,19940815,0116, -0.2438, 142.0195, 3275,    503.7,   7.5181,  34.5731,2,  34.5718,2,   -999.0,9,    136.5,6,    34.06,6,    30.03,6,     0.00,6,     2.07,6, -999.000,9, -999.000,9, -999.000,9,-999.0000,9,  -999.00,9,   -999.0,9,-999.000,9,   -999.0,9,   -999,  -999.0,-999.000,-999.0000,-999.000,  -999.0,-999.000,  7.4682,-999.000
    49RY9407_2,   P09,    94,  2,      3,    205,2,19940815,0116, -0.2438, 142.0195, 3275,    604.7,   6.7176,  34.5367,2,  34.5352,2,   -999.0,9,    143.9,2,    37.18,2,    31.18,2,     0.00,2,     2.13,2, -999.000,9, -999.000,9, -999.000,9,-999.0000,9,  -999.00,9,   -999.0,9,-999.000,9,   -999.0,9,   -999,  -999.0,-999.000,-999.0000,-999.000,  -999.0,-999.000,  6.6610,-999.000
    49RY9407_2,   P09,    94,  2,      2,    216,2,19940815,0116, -0.2438, 142.0195, 3275,    705.5,   5.9397,  34.5346,2,  34.5340,2,   -999.0,9,    108.2,2,    54.51,2,    35.93,2,     0.00,2,     2.50,2, -999.000,9, -999.000,9, -999.000,9,-999.0000,9,  -999.00,9,   -999.0,9,-999.000,9,   -999.0,9,   -999,  -999.0,-999.000,-999.0000,-999.000,  -999.0,-999.000,  5.8773,-999.000
    49RY9407_2,   P09,    94,  2,      1,    201,2,19940815,0116, -0.2438, 142.0195, 3275,    806.9,   5.3995,  34.5398,2,  34.5385,2,   -999.0,9,     97.6,2,    65.50,2,    37.77,2,     0.00,2,     2.64,2, -999.000,9, -999.000,9, -999.000,9,-999.0000,9,  -999.00,9,   -999.0,9,-999.000,9,   -999.0,9,   -999,  -999.0,-999.000,-999.0000,-999.000,  -999.0,-999.000,  5.3309,-999.000
    49RY9407_2,   P09,    94,  2,     24,    222,2,19940815,0116, -0.2438, 142.0195, 3275,    907.4,   4.7320,  34.5440,2,  34.5433,2,   -999.0,9,    103.5,2,    77.27,2,    37.85,2,     0.00,2,     2.65,2, -999.000,9, -999.000,9, -999.000,9,-999.0000,9,  -999.00,9,   -999.0,9,-999.000,9,   -999.0,9,   -999,  -999.0,-999.000,-999.0000,-999.000,  -999.0,-999.000,  4.6588,-999.000
    49RY9407_2,   P09,    94,  2,     23,    228,2,19940815,0116, -0.2438, 142.0195, 3275,   1008.8,   4.5197,  34.5514,2,  34.5511,2,   -999.0,9,     99.5,2,    83.62,2,    38.27,2,     0.00,2,     2.70,2, -999.000,9, -999.000,9, -999.000,9,-999.0000,9,  -999.00,9,   -999.0,9,-999.000,9,   -999.0,9,   -999,  -999.0,-999.000,-999.0000,-999.000,  -999.0,-999.000,  4.4392,-999.000
    49RY9407_2,   P09,    94,  2,     21,    226,2,19940815,0116, -0.2438, 142.0195, 3275,   1261.3,   3.5995,  34.5755,2,  34.5749,2,   -999.0,9,    105.9,6,   101.24,2,    38.65,2,     0.00,2,     2.72,2, -999.000,9, -999.000,9, -999.000,9,-999.0000,9,  -999.00,9,   -999.0,9,-999.000,9,   -999.0,9,   -999,  -999.0,-999.000,-999.0000,-999.000,  -999.0,-999.000,  3.5053,-999.000
    49RY9407_2,   P09,    94,  2,     22,    227,2,19940815,0116, -0.2438, 142.0195, 3275,   1261.3,   3.5995,  34.5755,2,  34.5751,2,   -999.0,9,    106.0,2,   101.41,6,    38.65,6,     0.00,6,     2.73,6, -999.000,9, -999.000,9, -999.000,9,-999.0000,9,  -999.00,9,   -999.0,9,-999.000,9,   -999.0,9,   -999,  -999.0,-999.000,-999.0000,-999.000,  -999.0,-999.000,  3.5053,-999.000
    49RY9407_2,   P09,    94,  2,     20,    203,2,19940815,0116, -0.2438, 142.0195, 3275,   1513.9,   3.0285,  34.5993,2,  34.5991,2,   -999.0,9,    106.5,2,   117.10,2,    38.76,2,     0.00,2,     2.74,2, -999.000,9, -999.000,9, -999.000,9,-999.0000,9,  -999.00,9,   -999.0,9,-999.000,9,   -999.0,9,   -999,  -999.0,-999.000,-999.0000,-999.000,  1510.0,-999.000,  2.9192,-999.000
    49RY9407_2,   P09,    94,  2,     19,    215,2,19940815,0116, -0.2438, 142.0195, 3275,   1767.9,   2.5456,  34.6207,2,  34.6206,2,   -999.0,9,    112.7,2,   127.42,2,    38.72,2,     0.00,2,     2.72,2, -999.000,9, -999.000,9, -999.000,9,-999.0000,9,  -999.00,9,   -999.0,9,-999.000,9,   -999.0,9,   -999,  -999.0,-999.000,-999.0000,-999.000,  -999.0,-999.000,  2.4209,-999.000
    49RY9407_2,   P09,    94,  2,     18,    221,2,19940815,0116, -0.2438, 142.0195, 3275,   2021.7,   2.1850,  34.6384,2,  34.6387,2,   -999.0,9,    121.4,2,   134.48,2,    38.37,2,     0.00,2,     2.68,2, -999.000,9, -999.000,9, -999.000,9,-999.0000,9,  -999.00,9,   -999.0,9,-999.000,9,   -999.0,9,   -999,  -999.0,-999.000,-999.0000,-999.000,  -999.0,-999.000,  2.0439,-999.000
    49RY9407_2,   P09,    94,  2,     17,    219,2,19940815,0116, -0.2438, 142.0195, 3275,   2276.6,   1.9550,  34.6490,2,  34.6465,3,   -999.0,9,    126.2,2,   139.49,2,    38.04,2,     0.00,2,     2.66,2, -999.000,9, -999.000,9, -999.000,9,-999.0000,9,  -999.00,9,   -999.0,9,-999.000,9,   -999.0,9,   -999,  -999.0,-999.000,-999.0000,-999.000,  -999.0,-999.000,  1.7955,-999.000
    49RY9407_2,   P09,    94,  2,     16,    229,2,19940815,0116, -0.2438, 142.0195, 3275,   2530.2,   1.7674,  34.6605,2,  34.6591,2,   -999.0,9,    133.8,2,   141.59,6,    37.62,6,     0.00,6,     2.62,6, -999.000,9, -999.000,9, -999.000,9,-999.0000,9,  -999.00,9,   -999.0,9,-999.000,9,   -999.0,9,   -999,  -999.0,   1.759,-999.0000,-999.000,  2528.0,-999.000,  1.5887,-999.000
    49RY9407_2,   P09,    94,  2,     15,    217,2,19940815,0116, -0.2438, 142.0195, 3275,   2785.5,   1.6561,  34.6673,2,  34.6664,2,   -999.0,9,    140.3,2,   142.29,2,    37.24,2,     0.00,2,     2.58,2, -999.000,9, -999.000,9, -999.000,9,-999.0000,9,  -999.00,9,   -999.0,9,-999.000,9,   -999.0,9,   -999,  -999.0,-999.000,-999.0000,-999.000,  -999.0,-999.000,  1.4562,-999.000
    49RY9407_2,   P09,    94,  2,     13,    214,2,19940815,0116, -0.2438, 142.0195, 3275,   3040.8,   1.5882,  34.6727,2,  34.6723,2,   -999.0,9,    144.3,2,   142.71,2,    36.79,2,     0.00,2,     2.55,2, -999.000,9, -999.000,9, -999.000,9,-999.0000,9,  -999.00,9,   -999.0,9,-999.000,9,   -999.0,9,   -999,  -999.0,-999.000,-999.0000,-999.000,  3027.0,-999.000,  1.3656,-999.000
    49RY9407_2,   P09,    94,  2,     14,    204,2,19940815,0116, -0.2438, 142.0195, 3275,   3040.9,   1.5882,  34.6722,2,  34.6711,2,   -999.0,9,    144.5,2,   142.75,2,    36.93,2,     0.00,2,     2.56,2, -999.000,9, -999.000,9, -999.000,9,-999.0000,9,  -999.00,9,   -999.0,9,-999.000,9,   -999.0,9,   -999,  -999.0,   1.587,-999.0000,-999.000,  3039.0,-999.000,  1.3656,-999.000
    49RY9407_2,   P09,    94,  2,     12,    213,4,19940815,0116, -0.2438, 142.0195, 3275,   3309.8,   1.5822,  34.6752,2,  34.6740,6,   -999.0,9,    145.2,6,   143.08,2,    36.83,2,     0.00,2,     2.55,2, -999.000,9, -999.000,9, -999.000,9,-999.0000,9,  -999.00,9,   -999.0,9,-999.000,9,   -999.0,9,   -999,  -999.0,-999.000,-999.0000,-999.000,  3307.0,-999.000,  1.3333,-999.000
    49RY9407_2,   P09,    95,  1,      0,      0,2,19940815,0439, -0.4993, 142.0015, 3380,      0.0,  29.0978,  33.8816,2,-999.0000,9,   -999.0,9,    197.9,2,     1.29,2,     0.00,2,     0.00,2,     0.04,2, -999.000,9, -999.000,9, -999.000,9,-999.0000,9,  -999.00,9,   -999.0,9,-999.000,9,   -999.0,9,   -999,  -999.0,-999.000,-999.0000,-999.000,  -999.0,-999.000, 29.0979,-999.000
    49RY9407_2,   P09,    95,  1,     20,    203,2,19940815,0439, -0.4993, 142.0015, 3380,     11.0,  29.0172,  33.8936,2,-999.0000,5,   -999.0,9,    198.1,2,     1.32,2,     0.01,2,     0.00,2,     0.04,2, -999.000,9, -999.000,9, -999.000,9,-999.0000,9,  -999.00,9,   -999.0,9,-999.000,9,   -999.0,9,   -999,  -999.0,-999.000,-999.0000,-999.000,    18.0,-999.000, 29.0145,-999.000
    49RY9407_2,   P09,    95,  1,     19,    215,2,19940815,0439, -0.4993, 142.0015, 3380,     25.7,  29.0224,  34.1067,2,  34.1053,2,   -999.0,9,    198.3,2,     1.25,2,     0.02,2,     0.00,2,     0.04,2, -999.000,9, -999.000,9, -999.000,9,-999.0000,9,  -999.00,9,   -999.0,9,-999.000,9,   -999.0,9,   -999,  -999.0,-999.000,-999.0000,-999.000,  -999.0,-999.000, 29.0162,-999.000
    49RY9407_2,   P09,    95,  1,     18,    221,2,19940815,0439, -0.4993, 142.0015, 3380,     50.7,  28.8607,  34.3968,2,  34.3956,2,   -999.0,9,    197.0,6,     1.24,6,     0.01,6,     0.00,6,     0.10,6, -999.000,9, -999.000,9, -999.000,9,-999.0000,9,  -999.00,9,   -999.0,9,-999.000,9,   -999.0,9,   -999,  -999.0,-999.000,-999.0000,-999.000,    56.0,-999.000, 28.8485,-999.000
    49RY9407_2,   P09,    95,  1,     17,    219,2,19940815,0439, -0.4993, 142.0015, 3380,     76.4,  28.6837,  34.5235,2,  34.5220,2,   -999.0,9,    192.7,2,     1.27,2,     0.01,2,     0.00,2,     0.13,2, -999.000,9, -999.000,9, -999.000,9,-999.0000,9,  -999.00,9,   -999.0,9,-999.000,9,   -999.0,9,   -999,  -999.0,-999.000,-999.0000,-999.000,  -999.0,-999.000, 28.6655,-999.000
    49RY9407_2,   P09,    95,  1,     16,    229,2,19940815,0439, -0.4993, 142.0015, 3380,    101.5,  27.8945,  35.0432,2,  35.0445,2,   -999.0,9,    174.9,2,     1.80,2,     2.07,2,     0.31,2,     0.35,2, -999.000,9, -999.000,9, -999.000,9,-999.0000,9,  -999.00,9,   -999.0,9,-999.000,9,   -999.0,9,   -999,  -999.0,  27.860,-999.0000,-999.000,    99.0,-999.000, 27.8706,-999.000
    49RY9407_2,   P09,    95,  1,     15,    217,2,19940815,0439, -0.4993, 142.0015, 3380,    126.4,  22.9188,  35.1248,2,  35.0964,3,   -999.0,9,    135.6,2,     4.73,2,     8.53,2,     0.03,2,     0.66,2, -999.000,9, -999.000,9, -999.000,9,-999.0000,9,  -999.00,9,   -999.0,9,-999.000,9,   -999.0,9,   -999,  -999.0,-999.000,-999.0000,-999.000,  -999.0,-999.000, 22.8930,-999.000
    49RY9407_2,   P09,    95,  1,     14,    204,2,19940815,0439, -0.4993, 142.0015, 3380,    150.6,  21.0496,  35.4062,2,  35.3955,2,   -999.0,9,    137.7,2,     4.32,2,     9.60,2,     0.02,2,     0.75,2, -999.000,9, -999.000,9, -999.000,9,-999.0000,9,  -999.00,9,   -999.0,9,-999.000,9,   -999.0,9,   -999,  -999.0,  21.090,-999.0000,-999.000,   150.0,-999.000, 21.0206,-999.000
    49RY9407_2,   P09,    95,  1,     12,    213,2,19940815,0439, -0.4993, 142.0015, 3380,    202.5,  17.7640,  35.2959,2,  35.2864,2,   -999.0,9,    139.1,2,     7.19,2,    12.58,2,     0.01,2,     0.95,2, -999.000,9, -999.000,9, -999.000,9,-999.0000,9,  -999.00,9,   -999.0,9,-999.000,9,   -999.0,9,   -999,  -999.0,-999.000,-999.0000,-999.000,   207.0,-999.000, 17.7294,-999.000
    49RY9407_2,   P09,    95,  1,     13,    214,2,19940815,0439, -0.4993, 142.0015, 3380,    203.7,  17.7412,  35.2937,2,  35.2854,2,   -999.0,9,    139.0,2,     7.24,2,    12.60,2,     0.01,2,     0.96,2, -999.000,9, -999.000,9, -999.000,9,-999.0000,9,  -999.00,9,   -999.0,9,-999.000,9,   -999.0,9,   -999,  -999.0,-999.000,-999.0000,-999.000,   196.0,-999.000, 17.7065,-999.000