BOTTLE,20020306WHPSIOdm
EXPOCODE,SECT_ID,STNNBR,CASTNO,SAMPNO,BTLNBR,BTLNBR_FLAG_W,DATE,TIME,LATITUDE,LONGITUDE,DEPTH,CTDPRS,CTDTMP,CTDSAL,CTDSAL_FLAG_W,SALNTY,SALNTY_FLAG_W,CTDOXY,CTDOXY_FLAG_W,OXYGEN,OXYGEN_FLAG_W,SILCAT,SILCAT_FLAG_W,NITRAT,NITRAT_FLAG_W,NITRIT,NITRIT_FLAG_W,PHSPHT,PHSPHT_FLAG_W,CFC-11,CFC-11_FLAG_W,CFC-12,CFC-12_FLAG_W,TRITUM,TRITUM_FLAG_W,HELIUM,HELIUM_FLAG_W,DELHE3,DELHE3_FLAG_W,DELC14,DELC14_FLAG_W,NEON,NEON_FLAG_W,TCARBN,TCARBN_FLAG_W,CTDRAW,C14ERR,REVTMP,HELIER,DELHER,REVPRS,NEONER,THETA,TRITER
,,,,,,,,,,,,DBAR,ITS-90,PSS-78,,PSS-78,,UMOL/KG,,UMOL/KG,,UMOL/KG,,UMOL/KG,,UMOL/KG,,UMOL/KG,,PMOL/KG,,PMOL/KG,,TU,,NMOL/KG,,PERCNT,,/MILLE,,NMOL/KG,,UMOL/KG,,,/MILLE,ITS-90,NMOL/KG,PERCNT,DBAR,NMOL/KG,DEG C,TU
    49RY9407_1,   P09,    35,  2,      7,    220,2,19940717,0303, 23.0563, 137.3102, 5195,    603.5,   7.3722,  34.1433,2,  34.1445,2,    135.4,2,    133.6,2,    52.85,2,    28.58,2,     0.00,2,     2.02,2, -999.000,9, -999.000,9, -999.000,9,-999.0000,9,  -999.00,9,   -999.0,9,-999.000,9,   -999.0,9,   -999,  -999.0,-999.000,-999.0000,-999.000,  -999.0,-999.000,  7.3132,-999.000
    49RY9407_1,   P09,    35,  2,      6,    209,2,19940717,0303, 23.0563, 137.3102, 5195,    704.8,   6.0673,  34.1653,2,  34.1665,2,     83.2,3,     94.9,6,    70.89,2,    34.48,2,     0.00,2,     2.46,2, -999.000,9, -999.000,9, -999.000,9,-999.0000,9,  -999.00,9,   -999.0,9,-999.000,9,   -999.0,9,   -999,  -999.0,-999.000,-999.0000,-999.000,  -999.0,-999.000,  6.0048,-999.000
    49RY9407_1,   P09,    35,  2,      5,    218,2,19940717,0303, 23.0563, 137.3102, 5195,    804.8,   5.1630,  34.2412,2,  34.2406,2,     58.3,3,     68.2,2,    87.95,2,    38.39,2,     0.00,2,     2.74,2, -999.000,9, -999.000,9, -999.000,9,-999.0000,9,  -999.00,9,   -999.0,9,-999.000,9,   -999.0,9,   -999,  -999.0,-999.000,-999.0000,-999.000,  -999.0,-999.000,  5.0965,-999.000
    49RY9407_1,   P09,    35,  2,      4,    206,2,19940717,0303, 23.0563, 137.3102, 5195,    907.6,   4.3848,  34.3168,2,  34.3163,2,     53.3,2,     60.1,2,   104.47,6,    40.32,6,     0.00,6,     2.86,6, -999.000,9, -999.000,9, -999.000,9,-999.0000,9,  -999.00,9,   -999.0,9,-999.000,9,   -999.0,9,   -999,  -999.0,-999.000,-999.0000,-999.000,  -999.0,-999.000,  4.3144,-999.000
    49RY9407_1,   P09,    35,  2,      3,    205,2,19940717,0303, 23.0563, 137.3102, 5195,   1007.9,   3.8706,  34.3942,2,  34.3944,2,     53.8,3,     59.0,6,   116.00,2,    41.01,2,     0.00,2,     2.93,2, -999.000,9, -999.000,9, -999.000,9,-999.0000,9,  -999.00,9,   -999.0,9,-999.000,9,   -999.0,9,   -999,  -999.0,-999.000,-999.0000,-999.000,  -999.0,-999.000,  3.7955,-999.000
    49RY9407_1,   P09,    35,  2,      2,    216,2,19940717,0303, 23.0563, 137.3102, 5195,   1259.8,   3.0731,  34.4729,2,  34.4736,2,     65.7,2,     66.9,6,   132.88,2,    41.43,2,     0.00,2,     2.93,2, -999.000,9, -999.000,9, -999.000,9,-999.0000,9,  -999.00,9,   -999.0,9,-999.000,9,   -999.0,9,   -999,  -999.0,-999.000,-999.0000,-999.000,  -999.0,-999.000,  2.9844,-999.000
    49RY9407_1,   P09,    35,  2,      1,    201,2,19940717,0303, 23.0563, 137.3102, 5195,   1512.9,   2.5361,  34.5370,2,  34.5275,3,     84.1,2,     84.4,2,   141.03,2,    40.71,2,     0.00,2,     2.87,2, -999.000,9, -999.000,9, -999.000,9,-999.0000,9,  -999.00,9,   -999.0,9,-999.000,9,   -999.0,9,   -999,  -999.0,-999.000,-999.0000,-999.000,  -999.0,-999.000,  2.4327,-999.000
    49RY9407_1,   P09,    35,  2,     24,    230,2,19940717,0303, 23.0563, 137.3102, 5195,   1768.0,   2.1753,  34.5942,2,  34.5939,2,    104.7,2,    104.1,2,   142.63,2,    39.42,2,     0.00,2,     2.76,2, -999.000,9, -999.000,9, -999.000,9,-999.0000,9,  -999.00,9,   -999.0,9,-999.000,9,   -999.0,9,   -999,  -999.0,-999.000,-999.0000,-999.000,  -999.0,-999.000,  2.0557,-999.000
    49RY9407_1,   P09,    35,  2,     23,    228,2,19940717,0303, 23.0563, 137.3102, 5195,   2021.1,   2.0068,  34.6181,2,  34.6171,2,    119.7,2,    115.0,2,   142.84,6,    38.91,6,     0.00,6,     2.71,6, -999.000,9, -999.000,9, -999.000,9,-999.0000,9,  -999.00,9,   -999.0,9,-999.000,9,   -999.0,9,   -999,  -999.0,-999.000,-999.0000,-999.000,  -999.0,-999.000,  1.8685,-999.000
    49RY9407_1,   P09,    35,  2,     21,    226,2,19940717,0303, 23.0563, 137.3102, 5195,   2275.4,   1.8748,  34.6343,2,  34.6350,2,    124.7,2,    123.2,2,   143.53,2,    38.44,2,     0.00,2,     2.68,2, -999.000,9, -999.000,9, -999.000,9,-999.0000,9,  -999.00,9,   -999.0,9,-999.000,9,   -999.0,9,   -999,  -999.0,-999.000,-999.0000,-999.000,  -999.0,-999.000,  1.7169,-999.000
    49RY9407_1,   P09,    35,  2,     22,    227,2,19940717,0303, 23.0563, 137.3102, 5195,   2275.4,   1.8748,  34.6343,2,  34.6339,2,    124.7,2,    124.9,2,   143.71,2,    38.47,2,     0.00,2,     2.68,2, -999.000,9, -999.000,9, -999.000,9,-999.0000,9,  -999.00,9,   -999.0,9,-999.000,9,   -999.0,9,   -999,  -999.0,-999.000,-999.0000,-999.000,  -999.0,-999.000,  1.7169,-999.000
    49RY9407_1,   P09,    35,  2,     20,    225,2,19940717,0303, 23.0563, 137.3102, 5195,   2530.3,   1.7611,  34.6480,2,  34.6478,2,    129.9,2,    134.1,3,   144.04,2,    38.10,2,     0.00,2,     2.64,2, -999.000,9, -999.000,9, -999.000,9,-999.0000,9,  -999.00,9,   -999.0,9,-999.000,9,   -999.0,9,   -999,  -999.0,-999.000,-999.0000,-999.000,  -999.0,-999.000,  1.5826,-999.000
    49RY9407_1,   P09,    35,  2,     19,    224,2,19940717,0303, 23.0563, 137.3102, 5195,   2785.8,   1.7006,  34.6562,2,  34.6547,2,    136.7,2,    135.7,2,   144.00,2,    37.78,2,     0.00,2,     2.62,2, -999.000,9, -999.000,9, -999.000,9,-999.0000,9,  -999.00,9,   -999.0,9,-999.000,9,   -999.0,9,   -999,  -999.0,-999.000,-999.0000,-999.000,  -999.0,-999.000,  1.4998,-999.000
    49RY9407_1,   P09,    35,  2,     18,    223,2,19940717,0303, 23.0563, 137.3102, 5195,   3042.1,   1.6465,  34.6636,2,  34.6605,2,    143.5,2,    141.2,2,   143.81,2,    37.53,2,     0.00,2,     2.60,2, -999.000,9, -999.000,9, -999.000,9,-999.0000,9,  -999.00,9,   -999.0,9,-999.000,9,   -999.0,9,   -999,  -999.0,-999.000,-999.0000,-999.000,  -999.0,-999.000,  1.4224,-999.000
    49RY9407_1,   P09,    35,  2,     17,    203,2,19940717,0303, 23.0563, 137.3102, 5195,   3295.6,   1.6050,  34.6694,2,  34.6666,2,    145.9,2,    144.2,2,   143.44,6,    37.21,6,     0.00,6,     2.57,6, -999.000,9, -999.000,9, -999.000,9,-999.0000,9,  -999.00,9,   -999.0,9,-999.000,9,   -999.0,9,   -999,  -999.0,-999.000,-999.0000,-999.000,  3293.0,-999.000,  1.3570,-999.000
    49RY9407_1,   P09,    35,  2,     16,    210,2,19940717,0303, 23.0563, 137.3102, 5195,   3551.0,   1.5790,  34.6736,2,  34.6721,2,    149.0,2,    147.4,2,   142.86,2,    37.03,2,     0.00,2,     2.55,2, -999.000,9, -999.000,9, -999.000,9,-999.0000,9,  -999.00,9,   -999.0,9,-999.000,9,   -999.0,9,   -999,  -999.0,-999.000,-999.0000,-999.000,  -999.0,-999.000,  1.3057,-999.000
    49RY9407_1,   P09,    35,  2,     15,    221,2,19940717,0303, 23.0563, 137.3102, 5195,   3807.0,   1.5408,  34.6794,2,  34.6776,2,    153.5,2,    153.1,2,   141.61,2,    36.65,2,     0.00,2,     2.52,2, -999.000,9, -999.000,9, -999.000,9,-999.0000,9,  -999.00,9,   -999.0,9,-999.000,9,   -999.0,9,   -999,  -999.0,   1.538,-999.0000,-999.000,  3806.0,-999.000,  1.2416,-999.000
    49RY9407_1,   P09,    35,  2,     14,    219,3,19940717,0303, 23.0563, 137.3102, 5195,   4063.3,   1.5341,  34.6818,2,  34.6804,2,    155.5,2,    155.9,2,   141.28,2,    36.55,2,     0.00,2,     2.51,2, -999.000,9, -999.000,9, -999.000,9,-999.0000,9,  -999.00,9,   -999.0,9,-999.000,9,   -999.0,9,   -999,  -999.0,-999.000,-999.0000,-999.000,  -999.0,-999.000,  1.2073,-999.000
    49RY9407_1,   P09,    35,  2,     13,    229,2,19940717,0303, 23.0563, 137.3102, 5195,   4321.0,   1.5470,  34.6839,2,  34.6833,2,    158.2,2,    157.4,2,   141.15,2,    36.51,2,     0.00,2,     2.50,2, -999.000,9, -999.000,9, -999.000,9,-999.0000,9,  -999.00,9,   -999.0,9,-999.000,9,   -999.0,9,   -999,  -999.0,   1.541,-999.0000,-999.000,  4318.0,-999.000,  1.1911,-999.000
    49RY9407_1,   P09,    35,  2,     12,    217,2,19940717,0303, 23.0563, 137.3102, 5195,   4577.0,   1.5691,  34.6840,2,  34.6841,2,    159.2,2,    158.3,2,   140.82,2,    36.44,2,     0.00,2,     2.50,2, -999.000,9, -999.000,9, -999.000,9,-999.0000,9,  -999.00,9,   -999.0,9,-999.000,9,   -999.0,9,   -999,  -999.0,-999.000,-999.0000,-999.000,  -999.0,-999.000,  1.1830,-999.000
    49RY9407_1,   P09,    35,  2,     11,    204,2,19940717,0303, 23.0563, 137.3102, 5195,   4830.7,   1.5936,  34.6840,2,  34.6841,2,    159.0,2,    160.1,2,   141.01,2,    36.36,2,     0.00,2,     2.50,2, -999.000,9, -999.000,9, -999.000,9,-999.0000,9,  -999.00,9,   -999.0,9,-999.000,9,   -999.0,9,   -999,  -999.0,   1.592,-999.0000,-999.000,  4828.0,-999.000,  1.1767,-999.000
    49RY9407_1,   P09,    35,  2,     10,    214,2,19940717,0303, 23.0563, 137.3102, 5195,   4833.6,   1.5940,  34.6848,2,  34.6851,2,    160.0,2,    158.4,6,   140.92,6,    36.40,6,     0.00,6,     2.50,6, -999.000,9, -999.000,9, -999.000,9,-999.0000,9,  -999.00,9,   -999.0,9,-999.000,9,   -999.0,9,   -999,  -999.0,-999.000,-999.0000,-999.000,  -999.0,-999.000,  1.1768,-999.000
    49RY9407_1,   P09,    35,  2,      9,    213,4,19940717,0303, 23.0563, 137.3102, 5195,   5140.3,   1.6316,  34.6845,2,  34.6845,2,    160.4,2,    158.9,2,   140.75,6,    36.41,6,     0.00,6,     2.49,6, -999.000,9, -999.000,9, -999.000,9,-999.0000,9,  -999.00,9,   -999.0,9,-999.000,9,   -999.0,9,   -999,  -999.0,   1.629,-999.0000,-999.000,  5135.0,-999.000,  1.1757,-999.000
    49RY9407_1,   P09,    36,  1,      0,      0,2,19940717,0851, 22.5152, 137.3203, 4620,      0.0,  30.1384,  34.4056,2,-999.0000,9,    178.6,4,    196.4,2,     1.23,2,     0.05,2,     0.00,2,     0.00,2, -999.000,9, -999.000,9, -999.000,9,-999.0000,9,  -999.00,9,   -999.0,1,-999.000,9,   1907.7,2,   -999,  -999.0,-999.000,-999.0000,-999.000,  -999.0,-999.000, 30.1387,-999.000
    49RY9407_1,   P09,    36,  1,     19,    224,2,19940717,0851, 22.5152, 137.3203, 4620,      9.9,  30.1518,  34.4953,2,  34.4962,2,    185.8,4,    194.3,2,     1.23,2,     0.01,2,     0.00,2,     0.00,2, -999.000,9, -999.000,9, -999.000,9,-999.0000,9,  -999.00,9,   -999.0,1,-999.000,9,   1909.2,6,   -999,  -999.0,-999.000,-999.0000,-999.000,  -999.0,-999.000, 30.1493,-999.000
    49RY9407_1,   P09,    36,  1,     18,    223,2,19940717,0851, 22.5152, 137.3203, 4620,     24.9,  29.8580,  34.6075,2,  34.6120,2,    188.7,4,    196.5,2,     1.27,2,     0.00,2,     0.00,2,     0.00,2, -999.000,9, -999.000,9, -999.000,9,-999.0000,9,  -999.00,9,   -999.0,1,-999.000,9,   1919.1,2,   -999,  -999.0,-999.000,-999.0000,-999.000,  -999.0,-999.000, 29.8518,-999.000
    49RY9407_1,   P09,    36,  1,     17,    203,2,19940717,0851, 22.5152, 137.3203, 4620,     51.0,  25.7655,  34.7264,2,  34.7470,2,    223.2,3,    220.9,2,     1.49,6,     0.03,6,     0.00,6,     0.00,6, -999.000,9, -999.000,9, -999.000,9,-999.0000,9,  -999.00,9,   -999.0,1,-999.000,9,   1943.4,2,   -999,  -999.0,-999.000,-999.0000,-999.000,    57.0,-999.000, 25.7542,-999.000
    49RY9407_1,   P09,    36,  1,     16,    210,2,19940717,0851, 22.5152, 137.3203, 4620,     76.7,  22.5113,  34.9523,2,  34.9315,3,    233.5,3,    230.3,6,     1.76,2,     0.01,2,     0.00,2,     0.00,2, -999.000,9, -999.000,9, -999.000,9,-999.0000,9,  -999.00,9,   -999.0,1,-999.000,9,   1960.0,2,   -999,  -999.0,-999.000,-999.0000,-999.000,  -999.0,-999.000, 22.4959,-999.000
    49RY9407_1,   P09,    36,  1,     15,    221,2,19940717,0851, 22.5152, 137.3203, 4620,    101.9,  21.1187,  34.9444,2,  34.9453,2,    231.5,3,    224.8,2,     1.90,2,     0.02,2,     0.00,2,     0.01,2, -999.000,9, -999.000,9, -999.000,9,-999.0000,9,  -999.00,9,   -999.0,1,-999.000,9,   1971.7,2,   -999,  -999.0,  20.940,-999.0000,-999.000,   110.0,-999.000, 21.0992,-999.000
    49RY9407_1,   P09,    36,  1,     14,    219,2,19940717,0851, 22.5152, 137.3203, 4620,    127.4,  20.1583,  34.9265,2,  34.9223,2,    216.3,2,    212.3,2,     2.07,2,     0.01,2,     0.01,2,     0.04,2, -999.000,9, -999.000,9, -999.000,9,-999.0000,9,  -999.00,9,   -999.0,1,-999.000,9,   1988.2,2,   -999,  -999.0,-999.000,-999.0000,-999.000,  -999.0,-999.000, 20.1347,-999.000
    49RY9407_1,   P09,    36,  1,     13,    229,2,19940717,0851, 22.5152, 137.3203, 4620,    152.8,  19.4678,  34.9080,2,  34.9071,2,    205.3,2,    207.7,2,     2.62,2,     1.79,2,     0.07,2,     0.14,2, -999.000,9, -999.000,9, -999.000,9,-999.0000,9,  -999.00,9,   -999.0,1,-999.000,9,   1999.1,2,   -999,  -999.0,  19.408,-999.0000,-999.000,   155.0,-999.000, 19.4401,-999.000
    49RY9407_1,   P09,    36,  1,     12,    217,2,19940717,0851, 22.5152, 137.3203, 4620,    203.2,  18.5881,  34.8798,2,  34.8781,2,    203.3,2,    206.3,2,     3.16,2,     2.89,2,     0.02,2,     0.20,2, -999.000,9, -999.000,9, -999.000,9,-999.0000,9,  -999.00,9,   -999.0,1,-999.000,9,   2006.2,2,   -999,  -999.0,-999.000,-999.0000,-999.000,  -999.0,-999.000, 18.5524,-999.000
    49RY9407_1,   P09,    36,  1,     11,    204,2,19940717,0851, 22.5152, 137.3203, 4620,    303.5,  16.5192,  34.7368,2,  34.7369,2,    191.2,2,    195.4,2,     6.10,2,     6.64,2,     0.01,2,     0.46,2, -999.000,9, -999.000,9, -999.000,9,-999.0000,9,  -999.00,9,   -999.0,1,-999.000,9,   2034.5,2,   -999,  -999.0,  16.519,-999.0000,-999.000,   305.0,-999.000, 16.4700,-999.000
    49RY9407_1,   P09,    36,  1,     10,    214,2,19940717,0851, 22.5152, 137.3203, 4620,    400.5,  13.7566,  34.5241,2,  34.5238,2,    177.3,3,    184.0,2,    13.51,2,    12.10,2,     0.00,2,     0.83,2, -999.000,9, -999.000,9, -999.000,9,-999.0000,9,  -999.00,9,   -999.0,1,-999.000,9,   2076.4,2,   -999,  -999.0,-999.000,-999.0000,-999.000,   374.0,-999.000, 13.6993,-999.000
    49RY9407_1,   P09,    36,  1,      9,    213,2,19940717,0851, 22.5152, 137.3203, 4620,    497.1,  10.4001,  34.2811,2,  34.2910,2,    163.0,3,    172.4,2,    27.08,2,    19.10,2,     0.00,2,     1.33,2, -999.000,9, -999.000,9, -999.000,9,-999.0000,9,  -999.00,9,   -999.0,1,-999.000,9,   2121.5,2,   -999,  -999.0,  10.632,-999.0000,-999.000,   493.0,-999.000, 10.3406,-999.000