BOTTLE,20020306WHPSIOdm
EXPOCODE,SECT_ID,STNNBR,CASTNO,SAMPNO,BTLNBR,BTLNBR_FLAG_W,DATE,TIME,LATITUDE,LONGITUDE,DEPTH,CTDPRS,CTDTMP,CTDSAL,CTDSAL_FLAG_W,SALNTY,SALNTY_FLAG_W,CTDOXY,CTDOXY_FLAG_W,OXYGEN,OXYGEN_FLAG_W,SILCAT,SILCAT_FLAG_W,NITRAT,NITRAT_FLAG_W,NITRIT,NITRIT_FLAG_W,PHSPHT,PHSPHT_FLAG_W,CFC-11,CFC-11_FLAG_W,CFC-12,CFC-12_FLAG_W,TRITUM,TRITUM_FLAG_W,HELIUM,HELIUM_FLAG_W,DELHE3,DELHE3_FLAG_W,DELC14,DELC14_FLAG_W,NEON,NEON_FLAG_W,TCARBN,TCARBN_FLAG_W,CTDRAW,C14ERR,REVTMP,HELIER,DELHER,REVPRS,NEONER,THETA,TRITER
,,,,,,,,,,,,DBAR,ITS-90,PSS-78,,PSS-78,,UMOL/KG,,UMOL/KG,,UMOL/KG,,UMOL/KG,,UMOL/KG,,UMOL/KG,,PMOL/KG,,PMOL/KG,,TU,,NMOL/KG,,PERCNT,,/MILLE,,NMOL/KG,,UMOL/KG,,,/MILLE,ITS-90,NMOL/KG,PERCNT,DBAR,NMOL/KG,DEG C,TU
    49RY9407_1,   P09,    21,  2,     23,    228,2,19940712,1633, 30.0070, 137.0338, 4470,    299.9,  17.9660,  34.8534,2,  34.8544,2,    205.7,3,    211.6,2,     3.50,2,     3.39,2,     0.01,2,     0.24,2, -999.000,9, -999.000,9, -999.000,9,-999.0000,9,  -999.00,9,    116.5,3,-999.000,9,   2012.3,2,   -999,     8.2,-999.000,-999.0000,-999.000,  -999.0,-999.000, 17.9145,-999.000
    49RY9407_1,   P09,    21,  2,     22,    227,2,19940712,1633, 30.0070, 137.0338, 4470,    401.0,  16.2513,  34.7228,2,  34.7156,2,    190.0,3,    199.2,6,     6.65,6,     7.10,6,     0.00,6,     0.48,6, -999.000,9, -999.000,9, -999.000,9,-999.0000,9,  -999.00,9,   -999.0,1,-999.000,9,   2038.2,2,   -999,  -999.0,-999.000,-999.0000,-999.000,  -999.0,-999.000, 16.1869,-999.000
    49RY9407_1,   P09,    21,  2,     20,    225,2,19940712,1633, 30.0070, 137.0338, 4470,    503.7,  13.9579,  34.5339,2,  34.5334,2,    176.1,3,    187.9,2,    13.34,2,    11.82,2,     0.00,2,     0.81,2, -999.000,9, -999.000,9, -999.000,9,-999.0000,9,  -999.00,9,     80.5,3,-999.000,9,   2073.3,2,   -999,     8.7,-999.000,-999.0000,-999.000,  -999.0,-999.000, 13.8848,-999.000
    49RY9407_1,   P09,    21,  2,     21,    226,2,19940712,1633, 30.0070, 137.0338, 4470,    503.7,  13.9579,  34.5339,2,  34.5338,2,    176.1,3,    187.5,2,    13.36,2,    11.76,2,     0.00,2,     0.81,2, -999.000,9, -999.000,9, -999.000,9,-999.0000,9,  -999.00,9,     96.5,3,-999.000,9,   2071.7,2,   -999,     8.6,-999.000,-999.0000,-999.000,  -999.0,-999.000, 13.8848,-999.000
    49RY9407_1,   P09,    21,  2,     19,    224,2,19940712,1633, 30.0070, 137.0338, 4470,    604.4,  11.2126,  34.3806,2,  34.3750,2,    158.6,3,    164.8,2,    29.99,2,    19.06,2,     0.00,2,     1.35,2, -999.000,9, -999.000,9, -999.000,9,-999.0000,9,  -999.00,9,   -999.0,1,-999.000,9,   2132.4,2,   -999,  -999.0,-999.000,-999.0000,-999.000,  -999.0,-999.000, 11.1363,-999.000
    49RY9407_1,   P09,    21,  2,     18,    223,2,19940712,1633, 30.0070, 137.0338, 4470,    703.9,   9.3036,  34.2946,2,  34.2825,2,    138.2,3,    145.9,6,    43.08,2,    23.89,2,     0.00,2,     1.70,2, -999.000,9, -999.000,9, -999.000,9,-999.0000,9,  -999.00,9,    -22.5,3,-999.000,9,   2168.9,2,   -999,     7.4,-999.000,-999.0000,-999.000,  -999.0,-999.000,  9.2240,-999.000
    49RY9407_1,   P09,    21,  2,     17,    222,2,19940712,1633, 30.0070, 137.0338, 4470,    805.1,   7.1665,  34.2274,2,  34.2251,2,    114.3,2,    118.0,2,    64.04,2,    30.24,2,     0.00,2,     2.18,2, -999.000,9, -999.000,9, -999.000,9,-999.0000,9,  -999.00,9,   -999.0,1,-999.000,9,   2219.0,2,   -999,  -999.0,-999.000,-999.0000,-999.000,  -999.0,-999.000,  7.0877,-999.000
    49RY9407_1,   P09,    21,  2,     16,    221,2,19940712,1633, 30.0070, 137.0338, 4470,    907.2,   5.2515,  34.2396,2,  34.2373,2,     85.8,2,     85.7,2,    90.16,2,    36.42,2,     0.00,2,     2.62,2, -999.000,9, -999.000,9, -999.000,9,-999.0000,9,  -999.00,9,   -134.6,3,-999.000,9,   2280.5,2,   -999,     7.6,   5.246,-999.0000,-999.000,   906.0,-999.000,  5.1751,-999.000
    49RY9407_1,   P09,    21,  2,     15,    220,2,19940712,1633, 30.0070, 137.0338, 4470,   1007.9,   4.2318,  34.3463,2,  34.3450,2,     70.6,2,     73.2,2,   110.83,2,    39.18,2,     0.00,2,     2.81,2, -999.000,9, -999.000,9, -999.000,9,-999.0000,9,  -999.00,9,   -135.1,4,-999.000,9,   2318.9,6,   -999,     6.7,-999.000,-999.0000,-999.000,  -999.0,-999.000,  4.1539,-999.000
    49RY9407_1,   P09,    21,  2,     14,    219,2,19940712,1633, 30.0070, 137.0338, 4470,   1259.2,   3.0626,  34.4574,2,  34.4551,2,     64.9,2,     66.6,2,   133.76,6,    41.10,6,     0.00,6,     2.93,6, -999.000,9, -999.000,9, -999.000,9,-999.0000,9,  -999.00,9,   -204.5,3,-999.000,9,   2351.2,2,   -999,     6.1,-999.000,-999.0000,-999.000,  -999.0,-999.000,  2.9741,-999.000
    49RY9407_1,   P09,    21,  2,     13,    218,2,19940712,1633, 30.0070, 137.0338, 4470,   1513.6,   2.5720,  34.5234,2,  34.5222,2,     77.8,2,     79.3,2,   141.26,2,    40.71,2,     0.00,2,     2.90,2, -999.000,9, -999.000,9, -999.000,9,-999.0000,9,  -999.00,9,   -223.0,3,-999.000,9,   2353.3,2,   -999,     5.9,-999.000,-999.0000,-999.000,  -999.0,-999.000,  2.4681,-999.000
    49RY9407_1,   P09,    21,  2,     12,    217,4,19940712,1633, 30.0070, 137.0338, 4470,   1767.5,   2.2508,  34.5690,2,  34.5681,2,     93.8,2,     96.3,6,   144.05,2,    39.99,2,     0.00,2,     2.83,2, -999.000,9, -999.000,9, -999.000,9,-999.0000,9,  -999.00,9,   -223.7,3,-999.000,9,   2349.0,2,   -999,     5.9,-999.000,-999.0000,-999.000,  -999.0,-999.000,  2.1303,-999.000
    49RY9407_1,   P09,    21,  2,     11,    216,2,19940712,1633, 30.0070, 137.0338, 4470,   2275.0,   1.8789,  34.6237,2,  34.6246,2,    119.9,2,    121.0,2,   144.48,2,    38.46,2,     0.00,2,     2.70,2, -999.000,9, -999.000,9, -999.000,9,-999.0000,9,  -999.00,9,   -227.8,3,-999.000,9,   2339.7,2,   -999,     6.0,-999.000,-999.0000,-999.000,  -999.0,-999.000,  1.7209,-999.000
    49RY9407_1,   P09,    21,  2,     10,    214,2,19940712,1633, 30.0070, 137.0338, 4470,   2529.2,   1.7431,  34.6425,2,  34.6337,3,    129.6,2,    132.9,2,   144.48,2,    37.95,2,     0.00,2,     2.66,2, -999.000,9, -999.000,9, -999.000,9,-999.0000,9,  -999.00,9,   -223.9,3,-999.000,9,   2336.1,2,   -999,     5.8,-999.000,-999.0000,-999.000,  -999.0,-999.000,  1.5650,-999.000
    49RY9407_1,   P09,    21,  2,      9,    213,2,19940712,1633, 30.0070, 137.0338, 4470,   2785.3,   1.6534,  34.6547,2,  34.6538,2,    137.4,2,    138.4,2,   143.80,2,    37.44,2,     0.01,2,     2.62,2, -999.000,9, -999.000,9, -999.000,9,-999.0000,9,  -999.00,9,   -227.2,3,-999.000,9,   2334.0,2,   -999,     6.0,   1.651,-999.0000,-999.000,  2783.0,-999.000,  1.4536,-999.000
    49RY9407_1,   P09,    21,  2,      8,    212,2,19940712,1633, 30.0070, 137.0338, 4470,   3039.4,   1.5737,  34.6668,2,  34.6652,2,    144.1,2,    144.9,2,   143.57,6,    37.07,6,     0.00,6,     2.57,6, -999.000,9, -999.000,9, -999.000,9,-999.0000,9,  -999.00,9,   -234.6,3,-999.000,9,   2332.8,2,   -999,     6.1,-999.000,-999.0000,-999.000,  -999.0,-999.000,  1.3515,-999.000
    49RY9407_1,   P09,    21,  2,      6,    209,2,19940712,1633, 30.0070, 137.0338, 4470,   3295.6,   1.5289,  34.6750,2,  34.6699,3,    148.0,2,    149.3,2,   142.97,2,    36.90,2,     0.00,2,     2.55,2, -999.000,9, -999.000,9, -999.000,9,-999.0000,9,  -999.00,9,   -999.0,1,-999.000,9,   2328.0,2,   -999,  -999.0,-999.000,-999.0000,-999.000,  -999.0,-999.000,  1.2827,-999.000
    49RY9407_1,   P09,    21,  2,      7,    210,2,19940712,1633, 30.0070, 137.0338, 4470,   3295.6,   1.5289,  34.6750,2,  34.6709,3,    148.0,2,    151.6,2,   143.05,2,    36.80,2,     0.00,2,     2.56,2, -999.000,9, -999.000,9, -999.000,9,-999.0000,9,  -999.00,9,   -220.5,3,-999.000,9,   2326.0,2,   -999,     6.7,-999.000,-999.0000,-999.000,  -999.0,-999.000,  1.2827,-999.000
    49RY9407_1,   P09,    21,  2,      5,    207,2,19940712,1633, 30.0070, 137.0338, 4470,   3553.0,   1.5197,  34.6781,2,  34.6774,2,    153.0,2,    156.9,3,   142.37,2,    36.57,2,     0.00,2,     2.53,2, -999.000,9, -999.000,9, -999.000,9,-999.0000,9,  -999.00,9,   -225.7,3,-999.000,9,   2326.3,2,   -999,     6.7,-999.000,-999.0000,-999.000,  -999.0,-999.000,  1.2476,-999.000
    49RY9407_1,   P09,    21,  2,      4,    206,2,19940712,1633, 30.0070, 137.0338, 4470,   3807.7,   1.5250,  34.6802,2,  34.6802,2,    153.2,2,    156.2,2,   142.66,6,    36.56,6,     0.00,6,     2.52,6, -999.000,9, -999.000,9, -999.000,9,-999.0000,9,  -999.00,9,   -241.5,3,-999.000,9,   2326.4,6,   -999,     7.3,-999.000,-999.0000,-999.000,  -999.0,-999.000,  1.2262,-999.000
    49RY9407_1,   P09,    21,  2,      3,    205,2,19940712,1633, 30.0070, 137.0338, 4470,   4064.5,   1.5465,  34.6819,2,  34.6805,2,    154.6,2,    154.2,2,   142.41,2,    36.55,2,     0.00,2,     2.53,2, -999.000,9, -999.000,9, -999.000,9,-999.0000,9,  -999.00,9,   -225.0,3,-999.000,9,   2328.3,2,   -999,     6.3,-999.000,-999.0000,-999.000,  -999.0,-999.000,  1.2192,-999.000
    49RY9407_1,   P09,    21,  2,      2,    204,4,19940712,1633, 30.0070, 137.0338, 4470,   4320.7,   1.5717,  34.6807,2,  34.6809,2,    153.6,2,    156.8,2,   142.12,2,    36.52,2,     0.00,2,     2.52,2, -999.000,9, -999.000,9, -999.000,9,-999.0000,9,  -999.00,9,   -214.7,3,-999.000,9,   2329.2,2,   -999,     6.0,   1.568,-999.0000,-999.000,  4317.0,-999.000,  1.2150,-999.000
    49RY9407_1,   P09,    21,  3,     18,    223,2,19940712,1952, 29.9802, 137.0583, 4455,      2.1,  28.0578,  34.4041,2,  34.4037,2,    177.2,4,   -999.0,9,  -999.00,9,  -999.00,9,  -999.00,9,  -999.00,9,    1.735,2,    1.807,3,    1.528,2,   1.6586,2,    -1.48,2,   -999.0,9,   6.568,2,   -999.0,9,   -999,  -999.0,-999.000,  0.0024,   0.230,  -999.0,   0.016, 28.0573,   0.017
    49RY9407_1,   P09,    21,  3,     17,    222,2,19940712,1952, 29.9802, 137.0583, 4455,     23.6,  25.0103,  34.4574,2,  34.4482,2,    193.6,3,   -999.0,9,  -999.00,9,  -999.00,9,  -999.00,9,  -999.00,9,    1.935,2,    1.176,3,    1.674,2,   1.6791,2,    -1.25,2,   -999.0,9,   6.662,2,   -999.0,9,   -999,  -999.0,-999.000,  0.0024,   0.230,  -999.0,   0.016, 25.0052,   0.018
    49RY9407_1,   P09,    21,  3,     15,    220,4,19940712,1952, 29.9802, 137.0583, 4455,     49.9,  22.3609,  34.8115,2,  34.8120,2,    214.8,2,   -999.0,9,  -999.00,9,  -999.00,9,  -999.00,9,  -999.00,9,    2.105,2,    1.366,3, -999.000,5,   1.6593,2,    -0.49,2,   -999.0,9,   6.678,4,   -999.0,9,   -999,  -999.0,-999.000,  0.0022,   0.230,  -999.0,   0.017, 22.3509,-999.000
    49RY9407_1,   P09,    21,  3,     16,    221,2,19940712,1952, 29.9802, 137.0583, 4455,     49.9,  22.3609,  34.8115,2,  34.8116,2,    214.8,2,   -999.0,9,  -999.00,9,  -999.00,9,  -999.00,9,  -999.00,9,    2.130,2,    1.319,3,    1.779,2,   1.6848,2,    -0.66,2,   -999.0,9,   6.737,2,   -999.0,9,   -999,  -999.0,  22.380,  0.0022,   0.220,    55.0,   0.017, 22.3509,   0.020
    49RY9407_1,   P09,    21,  3,     14,    219,2,19940712,1952, 29.9802, 137.0583, 4455,     99.1,  20.3101,  34.9420,2,  34.9392,2,    208.2,2,   -999.0,9,  -999.00,9,  -999.00,9,  -999.00,9,  -999.00,9,    2.207,2,    1.446,3,    1.631,2,   1.7044,2,    -0.32,2,   -999.0,9,   6.874,2,   -999.0,9,   -999,  -999.0,-999.000,  0.0022,   0.220,  -999.0,   0.017, 20.2916,   0.018
    49RY9407_1,   P09,    21,  3,     13,    218,2,19940712,1952, 29.9802, 137.0583, 4455,    150.4,  19.3954,  34.9116,2,  34.9059,2,    202.5,2,   -999.0,9,  -999.00,9,  -999.00,9,  -999.00,9,  -999.00,9,    2.285,2,    1.405,3,    1.653,2,   1.6821,2,    -0.51,2,   -999.0,9,   6.840,2,   -999.0,9,   -999,  -999.0,-999.000,  0.0022,   0.220,  -999.0,   0.017, 19.3682,   0.019
    49RY9407_1,   P09,    21,  3,     12,    217,2,19940712,1952, 29.9802, 137.0583, 4455,    201.2,  18.8630,  34.9031,2,  34.8986,2,    206.1,2,   -999.0,9,  -999.00,9,  -999.00,9,  -999.00,9,  -999.00,9,    2.343,2,    1.501,3,    1.659,2,   1.6988,2,    -0.60,2,   -999.0,9,   6.942,2,   -999.0,9,   -999,  -999.0,-999.000,  0.0023,   0.230,  -999.0,   0.017, 18.8273,   0.019
    49RY9407_1,   P09,    21,  3,     11,    216,2,19940712,1952, 29.9802, 137.0583, 4455,    300.9,  18.0538,  34.8729,2,  34.8692,2,    203.2,2,   -999.0,9,  -999.00,9,  -999.00,9,  -999.00,9,  -999.00,9,    2.350,2,    1.553,3,    1.686,2,   1.6811,2,    -0.26,2,   -999.0,9,   6.888,2,   -999.0,9,   -999,  -999.0,-999.000,  0.0025,   0.230,  -999.0,   0.017, 18.0020,   0.019
    49RY9407_1,   P09,    21,  3,     10,    214,2,19940712,1952, 29.9802, 137.0583, 4455,    401.5,  16.5128,  34.7373,2,  34.7345,2,    191.0,2,   -999.0,9,  -999.00,9,  -999.00,9,  -999.00,9,  -999.00,9,    2.311,2,    1.418,3,    1.799,2,   1.7180,2,     2.82,2,   -999.0,9,   7.065,2,   -999.0,9,   -999,  -999.0,-999.000,  0.0030,   0.190,  -999.0,   0.018, 16.4476,   0.020
    49RY9407_1,   P09,    21,  3,      9,    213,2,19940712,1952, 29.9802, 137.0583, 4455,    501.2,  14.2240,  34.5667,2,  34.5576,2,    178.8,2,   -999.0,9,  -999.00,9,  -999.00,9,  -999.00,9,  -999.00,9,    2.072,2,    1.216,3,    1.770,2,   1.7288,2,     6.38,2,   -999.0,9,   7.194,2,   -999.0,9,   -999,  -999.0,  14.292,  0.0032,   0.190,   504.0,   0.018, 14.1503,   0.019
    49RY9407_1,   P09,    21,  3,      8,    212,2,19940712,1952, 29.9802, 137.0583, 4455,    604.1,  11.2462,  34.3772,2,  34.3771,2,    163.8,2,   -999.0,9,  -999.00,9,  -999.00,9,  -999.00,9,  -999.00,9,    1.724,2,    1.029,3,    1.670,2,   1.7492,2,    10.78,2,   -999.0,9,   7.332,2,   -999.0,9,   -999,  -999.0,-999.000,  0.0032,   0.190,  -999.0,   0.018, 11.1698,   0.019
    49RY9407_1,   P09,    21,  3,      6,    209,2,19940712,1952, 29.9802, 137.0583, 4455,    703.7,   9.3624,  34.2846,2,  34.2770,2,    142.4,2,   -999.0,9,  -999.00,9,  -999.00,9,  -999.00,9,  -999.00,9,    1.395,2,    0.865,3,    1.452,2,   1.7718,2,    12.97,2,   -999.0,9,   7.493,2,   -999.0,9,   -999,  -999.0,-999.000,  0.0033,   0.190,  -999.0,   0.019,  9.2826,   0.016
    49RY9407_1,   P09,    21,  3,      7,    210,2,19940712,1952, 29.9802, 137.0583, 4455,    703.7,   9.3624,  34.2846,2,  34.2819,2,    142.4,2,   -999.0,9,  -999.00,9,  -999.00,9,  -999.00,9,  -999.00,9,    1.382,2,    0.813,3,    1.451,2,   1.7783,2,    13.11,2,   -999.0,9,   7.507,2,   -999.0,9,   -999,  -999.0,-999.000,  0.0044,   0.190,  -999.0,   0.019,  9.2826,   0.016
    49RY9407_1,   P09,    21,  3,      5,    207,4,19940712,1952, 29.9802, 137.0583, 4455,    803.9,   7.0866,  34.2221,2,  34.2135,2,    121.7,2,   -999.0,9,  -999.00,9,  -999.00,9,  -999.00,9,  -999.00,9,    0.912,2,    0.513,3,    1.050,2,   1.8030,2,    14.67,2,   -999.0,9,   7.706,2,   -999.0,9,   -999,  -999.0,-999.000,  0.0033,   0.190,  -999.0,   0.019,  7.0084,   0.013
    49RY9407_1,   P09,    21,  3,      4,    206,2,19940712,1952, 29.9802, 137.0583, 4455,   1007.2,   4.3142,  34.3385,2,  34.3344,2,     72.9,2,   -999.0,9,  -999.00,9,  -999.00,9,  -999.00,9,  -999.00,9,    0.342,2,    0.337,3,    0.322,2,   1.8418,2,    16.48,2,   -999.0,9,   7.842,2,   -999.0,9,   -999,  -999.0,-999.000,  0.0044,   0.190,  -999.0,   0.019,  4.2357,   0.006
    49RY9407_1,   P09,    21,  3,      2,    204,4,19940712,1952, 29.9802, 137.0583, 4455,   1261.4,   3.1508,  34.4464,2,  34.4448,2,     65.0,2,   -999.0,9,  -999.00,9,  -999.00,9,  -999.00,9,  -999.00,9,    0.060,2,    0.852,4,    0.093,2,   1.8397,2,    17.06,2,   -999.0,9,   7.864,2,   -999.0,9,   -999,  -999.0,   3.148,  0.0034,   0.180,  1253.0,   0.019,  3.0612,   0.003
    49RY9407_1,   P09,    21,  3,      3,    205,2,19940712,1952, 29.9802, 137.0583, 4455,   1261.4,   3.1508,  34.4464,2,-999.0000,5,     65.0,2,   -999.0,9,  -999.00,9,  -999.00,9,  -999.00,9,  -999.00,9,    0.087,2,    0.775,4,    0.094,2,   1.8581,2,    16.61,2,   -999.0,9,   7.936,2,   -999.0,9,   -999,  -999.0,-999.000,  0.0043,   0.190,  -999.0,   0.020,  3.0612,   0.004
    49RY9407_1,   P09,    22,  1,      0,      0,2,19940712,2316, 29.5018, 137.1633, 4535,      0.0,  28.3263,  34.1828,2,-999.0000,9,    173.1,4,    201.5,2,     1.47,2,     0.00,2,     0.00,2,     0.00,2, -999.000,9, -999.000,9, -999.000,9,-999.0000,9,  -999.00,9,   -999.0,9,-999.000,9,   -999.0,9,   -999,  -999.0,-999.000,-999.0000,-999.000,  -999.0,-999.000, 28.3264,-999.000
    49RY9407_1,   P09,    22,  1,     10,    214,2,19940712,2316, 29.5018, 137.1633, 4535,      9.8,  27.1894,  34.3767,2,  34.3635,2,    204.8,3,    205.0,2,     1.47,2,     0.00,2,     0.00,2,     0.00,2, -999.000,9, -999.000,9, -999.000,9,-999.0000,9,  -999.00,9,   -999.0,9,-999.000,9,   -999.0,9,   -999,  -999.0,-999.000,-999.0000,-999.000,  -999.0,-999.000, 27.1872,-999.000
    49RY9407_1,   P09,    22,  1,      9,    213,2,19940712,2316, 29.5018, 137.1633, 4535,     24.9,  24.5267,  34.5895,2,  34.5885,2,    226.3,3,    217.3,6,     1.49,2,     0.02,2,     0.00,2,     0.00,2, -999.000,9, -999.000,9, -999.000,9,-999.0000,9,  -999.00,9,   -999.0,9,-999.000,9,   -999.0,9,   -999,  -999.0,-999.000,-999.0000,-999.000,  -999.0,-999.000, 24.5214,-999.000
    49RY9407_1,   P09,    22,  1,      8,    212,2,19940712,2316, 29.5018, 137.1633, 4535,     50.5,  22.7941,  34.8075,2,  34.8097,2,    227.9,3,    222.8,2,     1.74,6,     0.02,6,     0.00,6,     0.01,6, -999.000,9, -999.000,9, -999.000,9,-999.0000,9,  -999.00,9,   -999.0,9,-999.000,9,   -999.0,9,   -999,  -999.0,-999.000,-999.0000,-999.000,  -999.0,-999.000, 22.7839,-999.000
    49RY9407_1,   P09,    22,  1,      7,    210,2,19940712,2316, 29.5018, 137.1633, 4535,     75.6,  21.4725,  34.8666,2,  34.8720,2,    221.5,3,    212.2,2,     1.61,2,     0.01,2,     0.07,2,     0.05,2, -999.000,9, -999.000,9, -999.000,9,-999.0000,9,  -999.00,9,   -999.0,9,-999.000,9,   -999.0,9,   -999,  -999.0,-999.000,-999.0000,-999.000,  -999.0,-999.000, 21.4578,-999.000
    49RY9407_1,   P09,    22,  1,      6,    209,2,19940712,2316, 29.5018, 137.1633, 4535,    100.1,  20.5904,  34.9008,2,  34.9000,2,    214.2,3,    208.5,2,     2.43,2,     1.38,2,     0.11,2,     0.11,2, -999.000,9, -999.000,9, -999.000,9,-999.0000,9,  -999.00,9,   -999.0,9,-999.000,9,   -999.0,9,   -999,  -999.0,-999.000,-999.0000,-999.000,  -999.0,-999.000, 20.5715,-999.000
    49RY9407_1,   P09,    22,  1,      5,    207,2,19940712,2316, 29.5018, 137.1633, 4535,    125.5,  20.0648,  34.9025,2,  34.9035,2,    222.8,3,    211.4,2,     2.36,2,     1.24,2,     0.08,2,     0.09,2, -999.000,9, -999.000,9, -999.000,9,-999.0000,9,  -999.00,9,   -999.0,9,-999.000,9,   -999.0,9,   -999,  -999.0,-999.000,-999.0000,-999.000,  -999.0,-999.000, 20.0416,-999.000
    49RY9407_1,   P09,    22,  1,      4,    206,2,19940712,2316, 29.5018, 137.1633, 4535,    150.4,  19.6462,  34.9341,2,  34.9361,2,    223.2,3,    217.7,6,     2.31,6,     0.68,6,     0.18,6,     0.07,6, -999.000,9, -999.000,9, -999.000,9,-999.0000,9,  -999.00,9,   -999.0,9,-999.000,9,   -999.0,9,   -999,  -999.0,-999.000,-999.0000,-999.000,  -999.0,-999.000, 19.6188,-999.000
    49RY9407_1,   P09,    22,  1,      3,    205,2,19940712,2316, 29.5018, 137.1633, 4535,    201.7,  18.6714,  34.9048,2,  34.8988,2,    215.8,3,    213.2,2,     2.84,2,     2.24,2,     0.03,2,     0.16,2, -999.000,9, -999.000,9, -999.000,9,-999.0000,9,  -999.00,9,   -999.0,9,-999.000,9,   -999.0,9,   -999,  -999.0,-999.000,-999.0000,-999.000,  -999.0,-999.000, 18.6358,-999.000
    49RY9407_1,   P09,    22,  1,      2,    204,2,19940712,2316, 29.5018, 137.1633, 4535,    304.2,  17.5837,  34.8072,2,  34.8142,2,    210.2,3,    202.7,2,     4.43,2,     4.53,2,     0.00,2,     0.30,2, -999.000,9, -999.000,9, -999.000,9,-999.0000,9,  -999.00,9,   -999.0,9,-999.000,9,   -999.0,9,   -999,  -999.0,  17.652,-999.0000,-999.000,   304.0,-999.000, 17.5322,-999.000