BOTTLE,20020306WHPSIOdm
EXPOCODE,SECT_ID,STNNBR,CASTNO,SAMPNO,BTLNBR,BTLNBR_FLAG_W,DATE,TIME,LATITUDE,LONGITUDE,DEPTH,CTDPRS,CTDTMP,CTDSAL,CTDSAL_FLAG_W,SALNTY,SALNTY_FLAG_W,CTDOXY,CTDOXY_FLAG_W,OXYGEN,OXYGEN_FLAG_W,SILCAT,SILCAT_FLAG_W,NITRAT,NITRAT_FLAG_W,NITRIT,NITRIT_FLAG_W,PHSPHT,PHSPHT_FLAG_W,CFC-11,CFC-11_FLAG_W,CFC-12,CFC-12_FLAG_W,TRITUM,TRITUM_FLAG_W,HELIUM,HELIUM_FLAG_W,DELHE3,DELHE3_FLAG_W,DELC14,DELC14_FLAG_W,NEON,NEON_FLAG_W,TCARBN,TCARBN_FLAG_W,CTDRAW,C14ERR,REVTMP,HELIER,DELHER,REVPRS,NEONER,THETA,TRITER
,,,,,,,,,,,,DBAR,ITS-90,PSS-78,,PSS-78,,UMOL/KG,,UMOL/KG,,UMOL/KG,,UMOL/KG,,UMOL/KG,,UMOL/KG,,PMOL/KG,,PMOL/KG,,TU,,NMOL/KG,,PERCNT,,/MILLE,,NMOL/KG,,UMOL/KG,,,/MILLE,ITS-90,NMOL/KG,PERCNT,DBAR,NMOL/KG,DEG C,TU
    49RY9407_2,   P09,    99,  2,      9,    223,2,19940816,0338, -1.5022, 142.0182, 3500,    301.0,  12.1423,  34.9242,2,  34.9239,2,   -999.0,9,    137.1,2,    14.36,2,    20.93,2,     0.00,2,     1.48,2, -999.000,9, -999.000,9, -999.000,9,-999.0000,9,  -999.00,9,   -999.0,9,-999.000,9,   -999.0,9,   -999,  -999.0,-999.000,-999.0000,-999.000,  -999.0,-999.000, 12.1026,-999.000
    49RY9407_2,   P09,    99,  2,      8,    212,2,19940816,0338, -1.5022, 142.0182, 3500,    402.5,   8.9621,  34.6529,2,  34.6550,2,   -999.0,9,    134.5,2,    25.79,6,    27.23,6,     0.00,6,     1.88,6, -999.000,9, -999.000,9, -999.000,9,-999.0000,9,  -999.00,9,   -999.0,9,-999.000,9,   -999.0,9,   -999,  -999.0,-999.000,-999.0000,-999.000,  -999.0,-999.000,  8.9182,-999.000
    49RY9407_2,   P09,    99,  2,      7,    220,2,19940816,0338, -1.5022, 142.0182, 3500,    502.8,   7.5193,  34.5679,2,  34.5680,2,   -999.0,9,    151.6,2,    28.77,2,    28.61,2,     0.00,2,     1.93,2, -999.000,9, -999.000,9, -999.000,9,-999.0000,9,  -999.00,9,   -999.0,9,-999.000,9,   -999.0,9,   -999,  -999.0,-999.000,-999.0000,-999.000,  -999.0,-999.000,  7.4695,-999.000
    49RY9407_2,   P09,    99,  2,      6,    209,2,19940816,0338, -1.5022, 142.0182, 3500,    503.5,   7.5195,  34.5680,2,  34.5679,6,   -999.0,9,    151.8,2,    28.86,2,    28.51,2,     0.00,2,     1.96,2, -999.000,9, -999.000,9, -999.000,9,-999.0000,9,  -999.00,9,   -999.0,9,-999.000,9,   -999.0,9,   -999,  -999.0,-999.000,-999.0000,-999.000,  -999.0,-999.000,  7.4697,-999.000
    49RY9407_2,   P09,    99,  2,      5,    218,2,19940816,0338, -1.5022, 142.0182, 3500,    603.8,   6.5409,  34.5397,2,  34.5407,2,   -999.0,9,    120.1,2,    44.04,2,    33.69,2,     0.00,2,     2.34,2, -999.000,9, -999.000,9, -999.000,9,-999.0000,9,  -999.00,9,   -999.0,9,-999.000,9,   -999.0,9,   -999,  -999.0,-999.000,-999.0000,-999.000,  -999.0,-999.000,  6.4852,-999.000
    49RY9407_2,   P09,    99,  2,      4,    206,2,19940816,0338, -1.5022, 142.0182, 3500,    704.7,   5.7301,  34.5203,2,  34.5218,2,   -999.0,9,    126.7,6,    52.48,2,    34.48,2,     0.00,2,     2.40,2, -999.000,9, -999.000,9, -999.000,9,-999.0000,9,  -999.00,9,   -999.0,9,-999.000,9,   -999.0,9,   -999,  -999.0,-999.000,-999.0000,-999.000,  -999.0,-999.000,  5.6690,-999.000
    49RY9407_2,   P09,    99,  2,      3,    205,2,19940816,0338, -1.5022, 142.0182, 3500,    805.7,   5.3821,  34.5389,2,  34.5403,2,   -999.0,9,     95.2,2,    66.21,2,    37.83,2,     0.00,2,     2.66,2, -999.000,9, -999.000,9, -999.000,9,-999.0000,9,  -999.00,9,   -999.0,9,-999.000,9,   -999.0,9,   -999,  -999.0,-999.000,-999.0000,-999.000,  -999.0,-999.000,  5.3137,-999.000
    49RY9407_2,   P09,    99,  2,      2,    216,2,19940816,0338, -1.5022, 142.0182, 3500,    906.4,   4.8206,  34.5397,2,  34.5403,2,   -999.0,9,    105.1,2,    74.74,2,    37.50,2,     0.00,2,     2.64,2, -999.000,9, -999.000,9, -999.000,9,-999.0000,9,  -999.00,9,   -999.0,9,-999.000,9,   -999.0,9,   -999,  -999.0,-999.000,-999.0000,-999.000,  -999.0,-999.000,  4.7468,-999.000
    49RY9407_2,   P09,    99,  2,      1,    201,2,19940816,0338, -1.5022, 142.0182, 3500,   1007.9,   4.4929,  34.5477,2,  34.5495,2,   -999.0,9,    103.6,2,    82.46,2,    37.80,2,     0.00,2,     2.68,2, -999.000,9, -999.000,9, -999.000,9,-999.0000,9,  -999.00,9,   -999.0,9,-999.000,9,   -999.0,9,   -999,  -999.0,-999.000,-999.0000,-999.000,  -999.0,-999.000,  4.4127,-999.000
    49RY9407_2,   P09,    99,  2,     24,    222,2,19940816,0338, -1.5022, 142.0182, 3500,   1259.0,   3.6071,  34.5766,2,  34.5773,6,   -999.0,9,    102.3,2,   103.29,2,    38.73,2,     0.00,2,     2.75,2, -999.000,9, -999.000,9, -999.000,9,-999.0000,9,  -999.00,9,   -999.0,9,-999.000,9,   -999.0,9,   -999,  -999.0,-999.000,-999.0000,-999.000,  -999.0,-999.000,  3.5130,-999.000
    49RY9407_2,   P09,    99,  2,     23,    228,2,19940816,0338, -1.5022, 142.0182, 3500,   1514.5,   2.8988,  34.6039,2,  34.6050,2,   -999.0,9,    110.0,2,   118.74,2,    38.60,2,     0.00,2,     2.74,2, -999.000,9, -999.000,9, -999.000,9,-999.0000,9,  -999.00,9,   -999.0,9,-999.000,9,   -999.0,9,   -999,  -999.0,-999.000,-999.0000,-999.000,  -999.0,-999.000,  2.7909,-999.000
    49RY9407_2,   P09,    99,  2,     21,    226,2,19940816,0338, -1.5022, 142.0182, 3500,   1766.9,   2.4732,  34.6231,2,  34.6241,2,   -999.0,9,    115.8,6,   127.74,2,    38.41,2,     0.00,2,     2.71,2, -999.000,9, -999.000,9, -999.000,9,-999.0000,9,  -999.00,9,   -999.0,9,-999.000,9,   -999.0,9,   -999,  -999.0,-999.000,-999.0000,-999.000,  -999.0,-999.000,  2.3496,-999.000
    49RY9407_2,   P09,    99,  2,     22,    227,2,19940816,0338, -1.5022, 142.0182, 3500,   1766.9,   2.4732,  34.6231,2,  34.6243,2,   -999.0,9,    115.7,2,   127.68,2,    38.39,2,     0.00,2,     2.72,2, -999.000,9, -999.000,9, -999.000,9,-999.0000,9,  -999.00,9,   -999.0,9,-999.000,9,   -999.0,9,   -999,  -999.0,-999.000,-999.0000,-999.000,  -999.0,-999.000,  2.3496,-999.000
    49RY9407_2,   P09,    99,  2,     20,    203,2,19940816,0338, -1.5022, 142.0182, 3500,   2020.5,   2.2308,  34.6354,2,  34.6365,2,   -999.0,9,    119.4,2,   134.01,2,    38.29,2,     0.00,2,     2.69,2, -999.000,9, -999.000,9, -999.000,9,-999.0000,9,  -999.00,9,   -999.0,9,-999.000,9,   -999.0,9,   -999,  -999.0,-999.000,-999.0000,-999.000,  2013.0,-999.000,  2.0891,-999.000
    49RY9407_2,   P09,    99,  2,     19,    215,2,19940816,0338, -1.5022, 142.0182, 3500,   2275.7,   1.9410,  34.6503,2,  34.6507,6,   -999.0,9,    127.9,2,   139.08,2,    37.99,2,     0.00,2,     2.66,2, -999.000,9, -999.000,9, -999.000,9,-999.0000,9,  -999.00,9,   -999.0,9,-999.000,9,   -999.0,9,   -999,  -999.0,-999.000,-999.0000,-999.000,  -999.0,-999.000,  1.7818,-999.000
    49RY9407_2,   P09,    99,  2,     18,    221,2,19940816,0338, -1.5022, 142.0182, 3500,   2530.2,   1.7272,  34.6618,2,  34.6621,2,   -999.0,9,    136.6,2,   141.61,2,    37.21,2,     0.00,2,     2.65,2, -999.000,9, -999.000,9, -999.000,9,-999.0000,9,  -999.00,9,   -999.0,9,-999.000,9,   -999.0,9,   -999,  -999.0,-999.000,-999.0000,-999.000,  2525.0,-999.000,  1.5493,-999.000
    49RY9407_2,   P09,    99,  2,     17,    219,2,19940816,0338, -1.5022, 142.0182, 3500,   2785.3,   1.6299,  34.6685,2,  34.6692,2,   -999.0,9,    141.0,2,   142.34,2,    36.93,2,     0.00,2,     2.58,2, -999.000,9, -999.000,9, -999.000,9,-999.0000,9,  -999.00,9,   -999.0,9,-999.000,9,   -999.0,9,   -999,  -999.0,-999.000,-999.0000,-999.000,  -999.0,-999.000,  1.4306,-999.000
    49RY9407_2,   P09,    99,  2,     16,    229,2,19940816,0338, -1.5022, 142.0182, 3500,   3039.3,   1.5813,  34.6725,2,  34.6711,2,   -999.0,9,    144.7,2,   142.43,6,    36.69,6,     0.00,6,     2.57,6, -999.000,9, -999.000,9, -999.000,9,-999.0000,9,  -999.00,9,   -999.0,9,-999.000,9,   -999.0,9,   -999,  -999.0,   1.572,-999.0000,-999.000,  3038.0,-999.000,  1.3590,-999.000
    49RY9407_2,   P09,    99,  2,     14,    204,2,19940816,0338, -1.5022, 142.0182, 3500,   3292.5,   1.5830,  34.6738,2,  34.6753,3,   -999.0,9,    145.6,2,   142.80,2,    36.66,2,     0.00,2,     2.56,2, -999.000,9, -999.000,9, -999.000,9,-999.0000,9,  -999.00,9,   -999.0,9,-999.000,9,   -999.0,9,   -999,  -999.0,   1.580,-999.0000,-999.000,  3290.0,-999.000,  1.3358,-999.000
    49RY9407_2,   P09,    99,  2,     15,    217,2,19940816,0338, -1.5022, 142.0182, 3500,   3292.7,   1.5831,  34.6741,2,  34.6735,2,   -999.0,9,    145.5,2,   142.51,6,    36.72,6,     0.00,6,     2.56,6, -999.000,9, -999.000,9, -999.000,9,-999.0000,9,  -999.00,9,   -999.0,9,-999.000,9,   -999.0,9,   -999,  -999.0,-999.000,-999.0000,-999.000,  -999.0,-999.000,  1.3358,-999.000
    49RY9407_2,   P09,    99,  2,     12,    213,4,19940816,0338, -1.5022, 142.0182, 3500,   3532.2,   1.5787,  34.6761,2,  34.6763,6,   -999.0,9,    146.9,6,   142.69,2,    36.60,2,     0.00,2,     2.56,2, -999.000,9, -999.000,9, -999.000,9,-999.0000,9,  -999.00,9,   -999.0,9,-999.000,9,   -999.0,9,   -999,  -999.0,-999.000,-999.0000,-999.000,  3529.0,-999.000,  1.3073,-999.000
    49RY9407_2,   P09,    99,  2,     13,    214,2,19940816,0338, -1.5022, 142.0182, 3500,   3533.3,   1.5786,  34.6759,2,  34.6756,2,   -999.0,9,    147.2,6,   142.75,2,    36.72,2,     0.00,2,     2.56,2, -999.000,9, -999.000,9, -999.000,9,-999.0000,9,  -999.00,9,   -999.0,9,-999.000,9,   -999.0,9,   -999,  -999.0,-999.000,-999.0000,-999.000,  3522.0,-999.000,  1.3071,-999.000
    49RY9407_2,   P09,   100,  1,      0,      0,2,19940816,0718, -1.7452, 142.0067, 2850,      0.2,  29.0880,  34.0180,2,-999.0000,9,   -999.0,9,    199.2,2,     1.41,2,     0.04,2,     0.00,2,     0.06,2, -999.000,9, -999.000,9, -999.000,9,-999.0000,9,  -999.00,9,   -999.0,9,-999.000,9,   -999.0,9,   -999,  -999.0,-999.000,-999.0000,-999.000,  -999.0,-999.000, 29.0879,-999.000
    49RY9407_2,   P09,   100,  1,     20,    203,2,19940816,0718, -1.7452, 142.0067, 2850,     11.1,  28.8934,  34.0375,2,  34.0351,2,   -999.0,9,    197.9,2,     1.42,2,     0.03,2,     0.00,2,     0.06,2, -999.000,9, -999.000,9, -999.000,9,-999.0000,9,  -999.00,9,   -999.0,9,-999.000,9,   -999.0,9,   -999,  -999.0,-999.000,-999.0000,-999.000,    16.0,-999.000, 28.8907,-999.000
    49RY9407_2,   P09,   100,  1,     19,    215,2,19940816,0718, -1.7452, 142.0067, 2850,     26.1,  28.7955,  34.1062,2,  34.1028,2,   -999.0,9,    198.4,2,     1.40,2,     0.03,2,     0.00,2,     0.06,2, -999.000,9, -999.000,9, -999.000,9,-999.0000,9,  -999.00,9,   -999.0,9,-999.000,9,   -999.0,9,   -999,  -999.0,-999.000,-999.0000,-999.000,  -999.0,-999.000, 28.7892,-999.000
    49RY9407_2,   P09,   100,  1,     18,    221,2,19940816,0718, -1.7452, 142.0067, 2850,     51.4,  27.4189,  34.4920,2,  34.4906,2,   -999.0,9,    199.7,2,     1.12,2,     0.02,2,     0.00,2,     0.10,2, -999.000,9, -999.000,9, -999.000,9,-999.0000,9,  -999.00,9,   -999.0,9,-999.000,9,   -999.0,9,   -999,  -999.0,-999.000,-999.0000,-999.000,    55.0,-999.000, 27.4070,-999.000
    49RY9407_2,   P09,   100,  1,     17,    219,2,19940816,0718, -1.7452, 142.0067, 2850,     76.0,  26.4788,  34.6794,2,  34.6782,2,   -999.0,9,    186.2,2,     1.60,2,     0.97,2,     0.29,2,     0.21,2, -999.000,9, -999.000,9, -999.000,9,-999.0000,9,  -999.00,9,   -999.0,9,-999.000,9,   -999.0,9,   -999,  -999.0,-999.000,-999.0000,-999.000,  -999.0,-999.000, 26.4616,-999.000
    49RY9407_2,   P09,   100,  1,     16,    229,2,19940816,0718, -1.7452, 142.0067, 2850,    101.8,  24.6547,  35.2584,2,  35.2613,2,   -999.0,9,    157.2,6,     2.28,6,     5.35,6,     0.04,6,     0.47,6, -999.000,9, -999.000,9, -999.000,9,-999.0000,9,  -999.00,9,   -999.0,9,-999.000,9,   -999.0,9,   -999,  -999.0,  24.730,-999.0000,-999.000,    98.0,-999.000, 24.6328,-999.000
    49RY9407_2,   P09,   100,  1,     15,    217,2,19940816,0718, -1.7452, 142.0067, 2850,    127.7,  21.7838,  35.5010,2,  35.4986,2,   -999.0,9,    147.1,2,     2.97,2,     8.13,2,     0.02,2,     0.67,2, -999.000,9, -999.000,9, -999.000,9,-999.0000,9,  -999.00,9,   -999.0,9,-999.000,9,   -999.0,9,   -999,  -999.0,-999.000,-999.0000,-999.000,  -999.0,-999.000, 21.7587,-999.000
    49RY9407_2,   P09,   100,  1,     14,    204,2,19940816,0718, -1.7452, 142.0067, 2850,    152.2,  19.9076,  35.4843,2,  35.4818,2,   -999.0,9,    139.2,2,     4.45,2,    10.56,2,     0.01,2,     0.83,2, -999.000,9, -999.000,9, -999.000,9,-999.0000,9,  -999.00,9,   -999.0,9,-999.000,9,   -999.0,9,   -999,  -999.0,  19.901,-999.0000,-999.000,   152.0,-999.000, 19.8795,-999.000
    49RY9407_2,   P09,   100,  1,     12,    213,2,19940816,0718, -1.7452, 142.0067, 2850,    204.3,  17.9951,  35.4246,2,  35.4042,2,   -999.0,9,    137.6,2,     5.72,2,    12.61,2,     0.01,2,     0.97,2, -999.000,9, -999.000,9, -999.000,9,-999.0000,9,  -999.00,9,   -999.0,9,-999.000,9,   -999.0,9,   -999,  -999.0,-999.000,-999.0000,-999.000,   208.0,-999.000, 17.9599,-999.000
    49RY9407_2,   P09,   100,  1,     13,    214,2,19940816,0718, -1.7452, 142.0067, 2850,    204.8,  17.9376,  35.4089,2,  35.4095,2,   -999.0,9,    137.5,2,     5.83,2,    12.78,2,     0.01,2,     0.98,2, -999.000,9, -999.000,9, -999.000,9,-999.0000,9,  -999.00,9,   -999.0,9,-999.000,9,   -999.0,9,   -999,  -999.0,-999.000,-999.0000,-999.000,   204.0,-999.000, 17.9024,-999.000