BOTTLE,20020306WHPSIOdm
EXPOCODE,SECT_ID,STNNBR,CASTNO,SAMPNO,BTLNBR,BTLNBR_FLAG_W,DATE,TIME,LATITUDE,LONGITUDE,DEPTH,CTDPRS,CTDTMP,CTDSAL,CTDSAL_FLAG_W,SALNTY,SALNTY_FLAG_W,CTDOXY,CTDOXY_FLAG_W,OXYGEN,OXYGEN_FLAG_W,SILCAT,SILCAT_FLAG_W,NITRAT,NITRAT_FLAG_W,NITRIT,NITRIT_FLAG_W,PHSPHT,PHSPHT_FLAG_W,CFC-11,CFC-11_FLAG_W,CFC-12,CFC-12_FLAG_W,TRITUM,TRITUM_FLAG_W,HELIUM,HELIUM_FLAG_W,DELHE3,DELHE3_FLAG_W,DELC14,DELC14_FLAG_W,NEON,NEON_FLAG_W,TCARBN,TCARBN_FLAG_W,CTDRAW,C14ERR,REVTMP,HELIER,DELHER,REVPRS,NEONER,THETA,TRITER
,,,,,,,,,,,,DBAR,ITS-90,PSS-78,,PSS-78,,UMOL/KG,,UMOL/KG,,UMOL/KG,,UMOL/KG,,UMOL/KG,,UMOL/KG,,PMOL/KG,,PMOL/KG,,TU,,NMOL/KG,,PERCNT,,/MILLE,,NMOL/KG,,UMOL/KG,,,/MILLE,ITS-90,NMOL/KG,PERCNT,DBAR,NMOL/KG,DEG C,TU
    49RY9407_2,   P09,   105,  1,      0,      0,2,19940817,2250, -2.8655, 142.2807, 1740,      0.6,  28.1225,  34.1945,2,-999.0000,9,   -999.0,9,    199.2,2,     2.56,2,     0.01,2,     0.00,2,     0.09,2, -999.000,9, -999.000,9, -999.000,9,-999.0000,9,  -999.00,9,   -999.0,1,-999.000,9,   1910.4,2,   -999,  -999.0,-999.000,-999.0000,-999.000,  -999.0,-999.000, 28.1223,-999.000
    49RY9407_2,   P09,   105,  1,     10,    224,2,19940817,2250, -2.8655, 142.2807, 1740,     10.6,  28.1053,  34.2190,2,  34.2296,2,   -999.0,9,    199.3,2,     2.31,2,     0.02,2,     0.00,2,     0.08,2, -999.000,9, -999.000,9, -999.000,9,-999.0000,9,  -999.00,9,   -999.0,1,-999.000,9,   1910.9,2,   -999,  -999.0,-999.000,-999.0000,-999.000,  -999.0,-999.000, 28.1028,-999.000
    49RY9407_2,   P09,   105,  1,      9,    223,2,19940817,2250, -2.8655, 142.2807, 1740,     25.7,  27.6924,  34.3834,2,  34.3858,2,   -999.0,9,    199.6,2,     1.57,2,     0.01,2,     0.00,2,     0.07,2, -999.000,9, -999.000,9, -999.000,9,-999.0000,9,  -999.00,9,   -999.0,1,-999.000,9,   1913.2,6,   -999,  -999.0,-999.000,-999.0000,-999.000,  -999.0,-999.000, 27.6864,-999.000
    49RY9407_2,   P09,   105,  1,      8,    212,2,19940817,2250, -2.8655, 142.2807, 1740,     50.7,  26.8339,  34.5519,2,  34.5472,2,   -999.0,9,    189.5,6,     1.59,2,     0.70,2,     0.30,2,     0.14,2, -999.000,9, -999.000,9, -999.000,9,-999.0000,9,  -999.00,9,   -999.0,1,-999.000,9,   1936.1,2,   -999,  -999.0,-999.000,-999.0000,-999.000,  -999.0,-999.000, 26.8223,-999.000
    49RY9407_2,   P09,   105,  1,      6,    209,2,19940817,2250, -2.8655, 142.2807, 1740,     75.5,  26.3080,  34.6413,2,  34.6444,2,   -999.0,9,    187.5,2,     1.58,6,     1.11,6,     0.27,6,     0.19,6, -999.000,9, -999.000,9, -999.000,9,-999.0000,9,  -999.00,9,   -999.0,9,-999.000,9,   -999.0,9,   -999,  -999.0,-999.000,-999.0000,-999.000,  -999.0,-999.000, 26.2910,-999.000
    49RY9407_2,   P09,   105,  1,      7,    220,2,19940817,2250, -2.8655, 142.2807, 1740,     75.5,  26.2982,  34.6432,2,-999.0000,5,   -999.0,9,    187.9,6,     1.60,6,     1.10,6,     0.27,6,     0.19,6, -999.000,9, -999.000,9, -999.000,9,-999.0000,9,  -999.00,9,   -999.0,1,-999.000,9,   1945.5,2,   -999,  -999.0,-999.000,-999.0000,-999.000,  -999.0,-999.000, 26.2812,-999.000
    49RY9407_2,   P09,   105,  1,      5,    218,2,19940817,2250, -2.8655, 142.2807, 1740,    101.4,  25.2404,  34.8917,2,  34.8873,2,   -999.0,9,    179.3,2,     1.81,2,     2.46,2,     0.19,2,     0.27,2, -999.000,9, -999.000,9, -999.000,9,-999.0000,9,  -999.00,9,   -999.0,1,-999.000,9,   1973.7,2,   -999,  -999.0,-999.000,-999.0000,-999.000,  -999.0,-999.000, 25.2183,-999.000
    49RY9407_2,   P09,   105,  1,      4,    206,2,19940817,2250, -2.8655, 142.2807, 1740,    125.8,  24.1172,  35.1490,2,  35.1305,2,   -999.0,9,    172.8,2,     2.05,2,     3.85,2,     0.11,2,     0.34,2, -999.000,9, -999.000,9, -999.000,9,-999.0000,9,  -999.00,9,   -999.0,1,-999.000,9,   2000.8,2,   -999,  -999.0,-999.000,-999.0000,-999.000,  -999.0,-999.000, 24.0906,-999.000
    49RY9407_2,   P09,   105,  1,      3,    205,2,19940817,2250, -2.8655, 142.2807, 1740,    151.1,  21.0110,  35.5446,2,  35.5486,2,   -999.0,9,    140.9,2,     3.55,2,     9.37,2,     0.02,2,     0.69,2, -999.000,9, -999.000,9, -999.000,9,-999.0000,9,  -999.00,9,   -999.0,1,-999.000,9,   2081.9,2,   -999,  -999.0,-999.000,-999.0000,-999.000,  -999.0,-999.000, 20.9820,-999.000
    49RY9407_2,   P09,   105,  1,      2,    216,2,19940817,2250, -2.8655, 142.2807, 1740,    201.1,  16.5341,  35.3055,2,  35.3047,2,   -999.0,9,    148.9,2,     6.32,2,    13.26,2,     0.00,2,     0.96,2, -999.000,9, -999.000,9, -999.000,9,-999.0000,9,  -999.00,9,   -999.0,1,-999.000,9,   2110.4,2,   -999,  -999.0,-999.000,-999.0000,-999.000,  -999.0,-999.000, 16.5014,-999.000
    49RY9407_2,   P09,   105,  1,      1,    201,2,19940817,2250, -2.8655, 142.2807, 1740,    301.8,  13.2352,  35.0375,2,  35.0380,2,   -999.0,9,    151.2,2,    10.39,2,    17.87,2,     0.00,2,     1.16,2, -999.000,9, -999.000,9, -999.000,9,-999.0000,9,  -999.00,9,   -999.0,1,-999.000,9,   2134.0,2,   -999,  -999.0,-999.000,-999.0000,-999.000,  -999.0,-999.000, 13.1931,-999.000
    49RY9407_2,   P09,   105,  1,     24,    222,2,19940817,2250, -2.8655, 142.2807, 1740,    402.1,  10.0291,  34.7558,2,  34.7567,2,   -999.0,9,    156.8,2,    17.01,2,    23.33,2,     0.00,2,     1.51,2, -999.000,9, -999.000,9, -999.000,9,-999.0000,9,  -999.00,9,   -999.0,1,-999.000,9,   2158.1,2,   -999,  -999.0,-999.000,-999.0000,-999.000,  -999.0,-999.000,  9.9820,-999.000
    49RY9407_2,   P09,   105,  1,     23,    228,2,19940817,2250, -2.8655, 142.2807, 1740,    502.3,   8.0290,  34.6009,2,  34.6056,2,   -999.0,9,    156.2,2,    25.01,2,    27.61,2,     0.00,2,     1.63,3, -999.000,9, -999.000,9, -999.000,9,-999.0000,9,  -999.00,9,   -999.0,1,-999.000,9,   2178.7,2,   -999,  -999.0,-999.000,-999.0000,-999.000,  -999.0,-999.000,  7.9773,-999.000
    49RY9407_2,   P09,   105,  1,     22,    227,2,19940817,2250, -2.8655, 142.2807, 1740,    603.9,   6.8006,  34.5279,2,  34.5293,2,   -999.0,9,    159.2,2,    32.47,2,    29.75,2,     0.00,2,     1.94,2, -999.000,9, -999.000,9, -999.000,9,-999.0000,9,  -999.00,9,   -999.0,1,-999.000,9,   2194.8,2,   -999,  -999.0,-999.000,-999.0000,-999.000,  -999.0,-999.000,  6.7437,-999.000
    49RY9407_2,   P09,   105,  1,     21,    226,2,19940817,2250, -2.8655, 142.2807, 1740,    704.0,   5.9915,  34.5088,2,  34.5067,2,   -999.0,9,    155.1,2,    41.44,2,    31.76,2,     0.00,2,     2.05,2, -999.000,9, -999.000,9, -999.000,9,-999.0000,9,  -999.00,9,   -999.0,1,-999.000,9,   2208.4,6,   -999,  -999.0,-999.000,-999.0000,-999.000,  -999.0,-999.000,  5.9290,-999.000
    49RY9407_2,   P09,   105,  1,     19,    215,2,19940817,2250, -2.8655, 142.2807, 1740,    805.8,   5.4407,  34.5065,2,  34.5084,2,   -999.0,9,    144.4,6,    52.07,2,    33.52,2,     0.00,2,  -999.00,5, -999.000,9, -999.000,9, -999.000,9,-999.0000,9,  -999.00,9,   -999.0,1,-999.000,9,   2230.1,2,   -999,  -999.0,-999.000,-999.0000,-999.000,  -999.0,-999.000,  5.3720,-999.000
    49RY9407_2,   P09,   105,  1,     20,    203,2,19940817,2250, -2.8655, 142.2807, 1740,    805.8,   5.4407,  34.5065,2,  34.5081,2,   -999.0,9,    144.3,2,    52.03,2,    33.54,2,     0.00,2,     2.25,2, -999.000,9, -999.000,9, -999.000,9,-999.0000,9,  -999.00,9,   -999.0,1,-999.000,9,   2229.0,2,   -999,  -999.0,-999.000,-999.0000,-999.000,   802.0,-999.000,  5.3720,-999.000
    49RY9407_2,   P09,   105,  1,     18,    221,2,19940817,2250, -2.8655, 142.2807, 1740,    906.6,   4.7313,  34.5194,2,  34.5230,2,   -999.0,9,    130.9,6,    67.67,2,    35.51,2,     0.00,2,     2.36,2, -999.000,9, -999.000,9, -999.000,9,-999.0000,9,  -999.00,9,   -999.0,1,-999.000,9,   2253.4,2,   -999,  -999.0,-999.000,-999.0000,-999.000,   906.0,-999.000,  4.6582,-999.000
    49RY9407_2,   P09,   105,  1,     17,    219,2,19940817,2250, -2.8655, 142.2807, 1740,   1007.2,   4.4317,  34.5386,2,-999.0000,5,   -999.0,9,    121.3,6,    78.07,2,    36.88,2,     0.00,2,  -999.00,5, -999.000,9, -999.000,9, -999.000,9,-999.0000,9,  -999.00,9,   -999.0,1,-999.000,9,   2271.6,2,   -999,  -999.0,-999.000,-999.0000,-999.000,  -999.0,-999.000,  4.3521,-999.000
    49RY9407_2,   P09,   105,  1,     16,    229,2,19940817,2250, -2.8655, 142.2807, 1740,   1007.7,   4.4318,  34.5391,2,  34.5389,2,   -999.0,9,    120.8,6,    78.03,2,    36.83,2,     0.00,2,     2.26,3, -999.000,9, -999.000,9, -999.000,9,-999.0000,9,  -999.00,9,   -999.0,1,-999.000,9,   2266.7,3,   -999,  -999.0,   4.422,-999.0000,-999.000,  1005.0,-999.000,  4.3521,-999.000
    49RY9407_2,   P09,   105,  1,     15,    217,2,19940817,2250, -2.8655, 142.2807, 1740,   1261.4,   3.5279,  34.5799,2,  34.5806,2,   -999.0,9,    107.5,2,   103.73,6,    38.47,6,     0.00,6,     2.68,2, -999.000,9, -999.000,9, -999.000,9,-999.0000,9,  -999.00,9,   -999.0,1,-999.000,9,   2309.4,6,   -999,  -999.0,-999.000,-999.0000,-999.000,  -999.0,-999.000,  3.4344,-999.000
    49RY9407_2,   P09,   105,  1,     13,    214,2,19940817,2250, -2.8655, 142.2807, 1740,   1513.6,   2.9650,  34.6029,2,  34.6044,2,   -999.0,9,    109.2,6,   117.45,6,    38.74,6,     0.00,6,     2.71,2, -999.000,9, -999.000,9, -999.000,9,-999.0000,9,  -999.00,9,   -999.0,1,-999.000,9,   2323.8,2,   -999,  -999.0,-999.000,-999.0000,-999.000,  1503.0,-999.000,  2.8564,-999.000
    49RY9407_2,   P09,   105,  1,     14,    204,2,19940817,2250, -2.8655, 142.2807, 1740,   1513.8,   2.9667,  34.6034,2,  34.6040,2,   -999.0,9,    109.1,6,   117.40,6,    38.77,6,     0.00,6,     2.70,2, -999.000,9, -999.000,9, -999.000,9,-999.0000,9,  -999.00,9,   -999.0,9,-999.000,9,   2322.4,2,   -999,  -999.0,   2.969,-999.0000,-999.000,  1511.0,-999.000,  2.8580,-999.000
    49RY9407_2,   P09,   105,  1,     12,    213,4,19940817,2250, -2.8655, 142.2807, 1740,   1734.5,   2.4852,  34.6222,2,  34.6240,6,   -999.0,9,    114.6,2,   127.85,2,    38.87,2,     0.00,2,     2.62,2, -999.000,9, -999.000,9, -999.000,9,-999.0000,9,  -999.00,9,   -999.0,9,-999.000,9,   2330.5,2,   -999,  -999.0,-999.000,-999.0000,-999.000,  1731.0,-999.000,  2.3641,-999.000