BOTTLE,20020306WHPSIOdm
EXPOCODE,SECT_ID,STNNBR,CASTNO,SAMPNO,BTLNBR,BTLNBR_FLAG_W,DATE,TIME,LATITUDE,LONGITUDE,DEPTH,CTDPRS,CTDTMP,CTDSAL,CTDSAL_FLAG_W,SALNTY,SALNTY_FLAG_W,CTDOXY,CTDOXY_FLAG_W,OXYGEN,OXYGEN_FLAG_W,SILCAT,SILCAT_FLAG_W,NITRAT,NITRAT_FLAG_W,NITRIT,NITRIT_FLAG_W,PHSPHT,PHSPHT_FLAG_W,CFC-11,CFC-11_FLAG_W,CFC-12,CFC-12_FLAG_W,TRITUM,TRITUM_FLAG_W,HELIUM,HELIUM_FLAG_W,DELHE3,DELHE3_FLAG_W,DELC14,DELC14_FLAG_W,NEON,NEON_FLAG_W,TCARBN,TCARBN_FLAG_W,CTDRAW,C14ERR,REVTMP,HELIER,DELHER,REVPRS,NEONER,THETA,TRITER
,,,,,,,,,,,,DBAR,ITS-90,PSS-78,,PSS-78,,UMOL/KG,,UMOL/KG,,UMOL/KG,,UMOL/KG,,UMOL/KG,,UMOL/KG,,PMOL/KG,,PMOL/KG,,TU,,NMOL/KG,,PERCNT,,/MILLE,,NMOL/KG,,UMOL/KG,,,/MILLE,ITS-90,NMOL/KG,PERCNT,DBAR,NMOL/KG,DEG C,TU
    49RY9407_2,   P09,    77,  2,      8,    212,2,19940810,1423,  4.4753, 139.5982, 4130,    302.7,   8.6704,  34.5684,2,  34.5688,2,   -999.0,9,     79.8,2,    40.58,2,    32.57,2,     0.00,2,     2.26,2, -999.000,9, -999.000,9, -999.000,9,-999.0000,9,  -999.00,9,   -999.0,9,-999.000,9,   -999.0,9,   -999,  -999.0,-999.000,-999.0000,-999.000,  -999.0,-999.000,  8.6382,-999.000
    49RY9407_2,   P09,    77,  2,      6,    209,4,19940810,1423,  4.4753, 139.5982, 4130,    403.8,   8.0636,  34.5990,2,  34.5981,2,   -999.0,9,    119.6,2,    33.53,2,    30.42,2,     0.00,2,     2.05,2, -999.000,9, -999.000,9, -999.000,9,-999.0000,9,  -999.00,9,   -999.0,9,-999.000,9,   -999.0,9,   -999,  -999.0,-999.000,-999.0000,-999.000,  -999.0,-999.000,  8.0222,-999.000
    49RY9407_2,   P09,    77,  2,      7,    220,2,19940810,1423,  4.4753, 139.5982, 4130,    403.8,   8.0636,  34.5990,2,  34.5985,2,   -999.0,9,    119.7,2,    33.44,2,    30.39,2,     0.00,2,     2.04,2, -999.000,9, -999.000,9, -999.000,9,-999.0000,9,  -999.00,9,   -999.0,9,-999.000,9,   -999.0,9,   -999,  -999.0,-999.000,-999.0000,-999.000,  -999.0,-999.000,  8.0222,-999.000
    49RY9407_2,   P09,    77,  2,      5,    218,2,19940810,1423,  4.4753, 139.5982, 4130,    605.9,   6.7317,  34.5439,2,  34.5436,2,   -999.0,9,     75.5,2,    56.55,2,    36.69,2,     0.00,2,     2.55,2, -999.000,9, -999.000,9, -999.000,9,-999.0000,9,  -999.00,9,   -999.0,9,-999.000,9,   -999.0,9,   -999,  -999.0,-999.000,-999.0000,-999.000,  -999.0,-999.000,  6.6749,-999.000
    49RY9407_2,   P09,    77,  2,      4,    206,2,19940810,1423,  4.4753, 139.5982, 4130,    706.9,   5.9743,  34.5324,2,  34.5330,2,   -999.0,9,     85.7,2,    65.16,6,    37.18,6,     0.00,6,     2.60,6, -999.000,9, -999.000,9, -999.000,9,-999.0000,9,  -999.00,9,   -999.0,9,-999.000,9,   -999.0,9,   -999,  -999.0,-999.000,-999.0000,-999.000,  -999.0,-999.000,  5.9116,-999.000
    49RY9407_2,   P09,    77,  2,      3,    205,2,19940810,1423,  4.4753, 139.5982, 4130,    807.6,   5.4525,  34.5413,2,  34.5415,2,   -999.0,9,     84.1,2,    70.07,2,    38.40,2,     0.00,2,     2.66,2, -999.000,9, -999.000,9, -999.000,9,-999.0000,9,  -999.00,9,   -999.0,9,-999.000,9,   -999.0,9,   -999,  -999.0,-999.000,-999.0000,-999.000,  -999.0,-999.000,  5.3835,-999.000
    49RY9407_2,   P09,    77,  2,      2,    216,2,19940810,1423,  4.4753, 139.5982, 4130,    907.9,   4.8779,  34.5473,2,  34.5474,2,   -999.0,9,     88.3,2,    81.33,2,    38.61,2,     0.00,2,     2.69,2, -999.000,9, -999.000,9, -999.000,9,-999.0000,9,  -999.00,9,   -999.0,9,-999.000,9,   -999.0,9,   -999,  -999.0,-999.000,-999.0000,-999.000,  -999.0,-999.000,  4.8037,-999.000
    49RY9407_2,   P09,    77,  2,      1,    201,2,19940810,1423,  4.4753, 139.5982, 4130,   1009.1,   4.4860,  34.5541,2,  34.5529,2,   -999.0,9,     88.8,2,    89.53,2,    38.87,2,     0.00,2,     2.73,2, -999.000,9, -999.000,9, -999.000,9,-999.0000,9,  -999.00,9,   -999.0,9,-999.000,9,   -999.0,9,   -999,  -999.0,-999.000,-999.0000,-999.000,  -999.0,-999.000,  4.4058,-999.000
    49RY9407_2,   P09,    77,  2,     24,    222,2,19940810,1423,  4.4753, 139.5982, 4130,   1261.3,   3.6580,  34.5769,2,  34.5769,2,   -999.0,9,     95.0,2,   106.87,2,    39.17,2,     0.00,2,     2.72,2, -999.000,9, -999.000,9, -999.000,9,-999.0000,9,  -999.00,9,   -999.0,9,-999.000,9,   -999.0,9,   -999,  -999.0,-999.000,-999.0000,-999.000,  -999.0,-999.000,  3.5633,-999.000
    49RY9407_2,   P09,    77,  2,     23,    228,2,19940810,1423,  4.4753, 139.5982, 4130,   1514.8,   3.0557,  34.5974,2,  34.5979,2,   -999.0,9,    102.5,6,   119.03,6,    39.00,6,     0.00,6,     2.72,6, -999.000,9, -999.000,9, -999.000,9,-999.0000,9,  -999.00,9,   -999.0,9,-999.000,9,   -999.0,9,   -999,  -999.0,-999.000,-999.0000,-999.000,  -999.0,-999.000,  2.9460,-999.000
    49RY9407_2,   P09,    77,  2,     22,    227,2,19940810,1423,  4.4753, 139.5982, 4130,   1768.7,   2.5584,  34.6184,2,  34.6186,2,   -999.0,9,    109.2,2,   129.68,2,    38.74,2,     0.00,2,     2.63,3, -999.000,9, -999.000,9, -999.000,9,-999.0000,9,  -999.00,9,   -999.0,9,-999.000,9,   -999.0,9,   -999,  -999.0,-999.000,-999.0000,-999.000,  -999.0,-999.000,  2.4335,-999.000
    49RY9407_2,   P09,    77,  2,     20,    203,2,19940810,1423,  4.4753, 139.5982, 4130,   2022.1,   2.1808,  34.6371,2,  34.6373,2,   -999.0,9,    114.7,2,   138.27,2,    38.72,2,     0.00,2,     2.67,2, -999.000,9, -999.000,9, -999.000,9,-999.0000,9,  -999.00,9,   -999.0,9,-999.000,9,   -999.0,9,   -999,  -999.0,-999.000,-999.0000,-999.000,  2017.0,-999.000,  2.0397,-999.000
    49RY9407_2,   P09,    77,  2,     21,    226,3,19940810,1423,  4.4753, 139.5982, 4130,   2022.1,   2.1808,  34.6371,2,  34.5436,4,   -999.0,9,    128.2,4,    60.44,4,    32.33,4,     0.01,4,     2.17,4, -999.000,9, -999.000,9, -999.000,9,-999.0000,9,  -999.00,9,   -999.0,9,-999.000,9,   -999.0,9,   -999,  -999.0,-999.000,-999.0000,-999.000,  -999.0,-999.000,  2.0397,-999.000
    49RY9407_2,   P09,    77,  2,     19,    210,2,19940810,1423,  4.4753, 139.5982, 4130,   2275.3,   1.9532,  34.6498,2,  34.6505,2,   -999.0,9,    123.2,2,   141.25,2,    38.26,2,     0.00,2,     2.64,2, -999.000,9, -999.000,9, -999.000,5,   1.9450,2,    20.28,2,   -999.0,9,   8.842,4,   -999.0,9,   -999,  -999.0,-999.000,  0.0030,   0.190,  -999.0,   0.050,  1.7939,-999.000
    49RY9407_2,   P09,    77,  2,     18,    221,2,19940810,1423,  4.4753, 139.5982, 4130,   2529.4,   1.7608,  34.6604,2,  34.6611,2,   -999.0,9,    133.0,2,   142.13,2,    37.52,2,     0.00,2,     2.58,2, -999.000,9, -999.000,9, -999.000,9,-999.0000,9,  -999.00,9,   -999.0,9,-999.000,9,   -999.0,9,   -999,  -999.0,-999.000,-999.0000,-999.000,  2528.0,-999.000,  1.5824,-999.000
    49RY9407_2,   P09,    77,  2,     17,    219,2,19940810,1423,  4.4753, 139.5982, 4130,   2783.6,   1.6347,  34.6688,2,  34.6684,2,   -999.0,9,    140.6,2,   142.66,2,    37.05,2,     0.00,2,     2.51,2, -999.000,9, -999.000,9, -999.000,5,   1.8811,2,    19.23,2,   -999.0,9,   7.950,2,   -999.0,9,   -999,  -999.0,-999.000,  0.0029,   0.190,  -999.0,   0.045,  1.4354,-999.000
    49RY9407_2,   P09,    77,  2,     16,    229,2,19940810,1423,  4.4753, 139.5982, 4130,   3040.1,   1.5846,  34.6728,2,  34.6719,2,   -999.0,9,    143.8,2,   142.61,2,    36.85,2,     0.00,2,     2.49,2, -999.000,9, -999.000,9, -999.000,9,-999.0000,9,  -999.00,9,   -999.0,9,-999.000,9,   -999.0,9,   -999,  -999.0,   1.577,-999.0000,-999.000,  3039.0,-999.000,  1.3621,-999.000
    49RY9407_2,   P09,    77,  2,     15,    217,2,19940810,1423,  4.4753, 139.5982, 4130,   3294.3,   1.5576,  34.6759,2,  34.6758,2,   -999.0,9,    147.9,2,   142.29,2,    36.68,2,     0.00,2,     2.49,2, -999.000,9, -999.000,9, -999.000,5,   1.8796,2,    18.54,2,   -999.0,9,   7.980,2,   -999.0,9,   -999,  -999.0,-999.000,  0.0029,   0.190,  -999.0,   0.045,  1.3108,-999.000
    49RY9407_2,   P09,    77,  2,     14,    204,2,19940810,1423,  4.4753, 139.5982, 4130,   3550.2,   1.5418,  34.6788,2,  34.6788,2,   -999.0,9,    149.2,6,   142.29,6,    36.53,6,     0.00,6,     2.49,6, -999.000,9, -999.000,9, -999.000,9,-999.0000,9,  -999.00,9,   -999.0,9,-999.000,9,   -999.0,9,   -999,  -999.0,   1.540,-999.0000,-999.000,  3544.0,-999.000,  1.2695,-999.000
    49RY9407_2,   P09,    77,  2,     13,    214,2,19940810,1423,  4.4753, 139.5982, 4130,   3805.5,   1.5174,  34.6830,2,  34.6816,2,   -999.0,9,    153.8,2,   141.99,2,    36.37,2,     0.00,2,     2.45,2, -999.000,9, -999.000,9, -999.000,5,   1.8745,2,    17.24,2,   -999.0,9,   8.088,2,   -999.0,9,   -999,  -999.0,-999.000,  0.0029,   0.190,  3195.0,   0.046,  1.2189,-999.000
    49RY9407_2,   P09,    77,  2,     12,    213,4,19940810,1423,  4.4753, 139.5982, 4130,   4084.6,   1.5085,  34.6858,2,  34.6861,6,   -999.0,9,    155.6,2,   141.81,2,    36.15,2,     0.00,2,     2.45,2, -999.000,9, -999.000,9, -999.000,9,-999.0000,9,  -999.00,9,   -999.0,9,-999.000,9,   -999.0,9,   -999,  -999.0,-999.000,-999.0000,-999.000,  2527.0,-999.000,  1.1801,-999.000
    49RY9407_2,   P09,    77,  3,      7,    220,2,19940810,1712,  4.4718, 139.6793, 4100,      1.8,  29.0766,  33.5126,2,  33.5230,2,   -999.0,9,   -999.0,9,  -999.00,9,  -999.00,9,  -999.00,9,  -999.00,9,    1.531,2,    1.104,3,    1.275,2,   1.6787,2,    -1.15,2,   -999.0,9,   6.521,2,   -999.0,9,   -999,  -999.0,-999.000,  0.0026,   0.200,  -999.0,   0.037, 29.0761,   0.014
    49RY9407_2,   P09,    77,  3,      6,    209,2,19940810,1712,  4.4718, 139.6793, 4100,     24.4,  28.9731,  33.6827,2,  33.6961,2,   -999.0,9,   -999.0,9,  -999.00,9,  -999.00,9,  -999.00,9,  -999.00,9,    1.529,2,    1.054,3,    1.253,2,   1.6512,2,    -0.94,2,   -999.0,9,   6.436,4,   -999.0,9,   -999,  -999.0,-999.000,  0.0025,   0.200,  -999.0,   0.037, 28.9672,   0.014
    49RY9407_2,   P09,    77,  3,      5,    218,2,19940810,1712,  4.4718, 139.6793, 4100,     48.9,  28.1998,  34.0056,2,  33.9988,2,   -999.0,9,   -999.0,9,  -999.00,9,  -999.00,9,  -999.00,9,  -999.00,9,    1.578,2,    1.077,3,    1.301,2,   1.6872,2,    -0.41,2,   -999.0,9,   6.612,2,   -999.0,9,   -999,  -999.0,-999.000,  0.0029,   0.290,  -999.0,   0.017, 28.1882,   0.015
    49RY9407_2,   P09,    77,  3,      4,    206,2,19940810,1712,  4.4718, 139.6793, 4100,     73.4,  26.4746,  34.2924,2,  34.3070,2,   -999.0,9,   -999.0,9,  -999.00,9,  -999.00,9,  -999.00,9,  -999.00,9,    1.640,2,    1.281,3,    1.289,2,   1.6911,2,    -0.52,2,   -999.0,9,   6.593,2,   -999.0,9,   -999,  -999.0,-999.000,  0.0028,   0.290,  -999.0,   0.017, 26.4581,   0.014
    49RY9407_2,   P09,    77,  3,      3,    205,2,19940810,1712,  4.4718, 139.6793, 4100,    100.3,  23.2956,  34.8267,2,  34.8469,2,   -999.0,9,   -999.0,9,  -999.00,9,  -999.00,9,  -999.00,9,  -999.00,9,    1.895,2,    1.222,3,    1.520,2,   1.6400,2,     1.17,2,   -999.0,9,   6.932,3,   -999.0,9,   -999,  -999.0,-999.000,  0.0028,   0.290,  -999.0,   0.018, 23.2750,   0.017
    49RY9407_2,   P09,    77,  3,      2,    216,2,19940810,1712,  4.4718, 139.6793, 4100,    150.3,  14.4742,  34.6056,2,  34.5983,2,   -999.0,9,   -999.0,9,  -999.00,9,  -999.00,9,  -999.00,9,  -999.00,9,    1.514,2,    0.925,3,    1.471,2,   1.7409,2,     7.27,2,   -999.0,9,   7.258,2,   -999.0,9,   -999,  -999.0,-999.000,  0.0047,   0.230,  -999.0,   0.047, 14.4521,   0.016
    49RY9407_2,   P09,    77,  3,      1,    201,2,19940810,1712,  4.4718, 139.6793, 4100,    202.1,  10.1298,  34.4556,2,  34.4538,2,   -999.0,9,   -999.0,9,  -999.00,9,  -999.00,9,  -999.00,9,  -999.00,9,    0.721,2,    0.792,3,    0.944,2,   1.7425,2,    10.98,2,   -999.0,9,   7.412,2,   -999.0,9,   -999,  -999.0,-999.000,  0.0034,   0.180,  -999.0,   0.055, 10.1063,   0.011
    49RY9407_2,   P09,    77,  3,     24,    222,2,19940810,1712,  4.4718, 139.6793, 4100,    202.3,  10.1749,  34.4565,2,  34.4558,2,   -999.0,9,   -999.0,9,  -999.00,9,  -999.00,9,  -999.00,9,  -999.00,9,    0.725,6,    0.714,4, -999.000,9,-999.0000,9,  -999.00,9,   -999.0,9,-999.000,9,   -999.0,9,   -999,  -999.0,-999.000,-999.0000,-999.000,  -999.0,-999.000, 10.1513,-999.000
    49RY9407_2,   P09,    77,  3,     23,    228,2,19940810,1712,  4.4718, 139.6793, 4100,    303.0,   8.5878,  34.5698,2,  34.5702,2,   -999.0,9,   -999.0,9,  -999.00,9,  -999.00,9,  -999.00,9,  -999.00,9, -999.000,9, -999.000,9,    0.293,2,   1.7689,2,     8.45,2,   -999.0,9,   7.401,2,   -999.0,9,   -999,  -999.0,-999.000,  0.0027,   0.190,  -999.0,   0.042,  8.5558,   0.005
    49RY9407_2,   P09,    77,  3,     22,    227,2,19940810,1712,  4.4718, 139.6793, 4100,    402.5,   8.0799,  34.6004,2,  34.5997,2,   -999.0,9,   -999.0,9,  -999.00,9,  -999.00,9,  -999.00,9,  -999.00,9,    0.213,2,    0.178,3,    0.143,2,   1.7773,2,     6.53,2,   -999.0,9,   7.590,2,   -999.0,9,   -999,  -999.0,-999.000,  0.0028,   0.190,  -999.0,   0.043,  8.0387,   0.004
    49RY9407_2,   P09,    77,  3,     21,    226,2,19940810,1712,  4.4718, 139.6793, 4100,    502.3,   7.4061,  34.5652,2,  34.5635,2,   -999.0,9,   -999.0,9,  -999.00,9,  -999.00,9,  -999.00,9,  -999.00,9,    0.060,2,    0.075,3,    0.081,2,-999.0000,5,  -999.00,5,   -999.0,9,-999.000,9,   -999.0,9,   -999,  -999.0,-999.000,-999.0000,-999.000,  -999.0,-999.000,  7.3568,   0.004
    49RY9407_2,   P09,    77,  3,     19,    210,2,19940810,1712,  4.4718, 139.6793, 4100,    605.3,   6.4620,  34.5390,2,  34.5389,2,   -999.0,9,   -999.0,9,  -999.00,9,  -999.00,9,  -999.00,9,  -999.00,9, -999.000,9, -999.000,9,    0.059,2,   1.7851,2,     7.79,2,   -999.0,9,   7.668,2,   -999.0,9,   -999,  -999.0,-999.000,  0.0029,   0.180,  -999.0,   0.017,  6.4065,   0.003
    49RY9407_2,   P09,    77,  3,     20,    203,2,19940810,1712,  4.4718, 139.6793, 4100,    605.3,   6.4620,  34.5390,2,  34.5389,2,   -999.0,9,   -999.0,9,  -999.00,9,  -999.00,9,  -999.00,9,  -999.00,9,    0.032,2,    0.282,4,    0.058,2,-999.0000,5,  -999.00,5,   -999.0,9,-999.000,9,   -999.0,9,   -999,  -999.0,-999.000,-999.0000,-999.000,   611.0,-999.000,  6.4065,   0.003
    49RY9407_2,   P09,    77,  3,     18,    221,2,19940810,1712,  4.4718, 139.6793, 4100,    705.8,   5.6785,  34.5401,2,  34.5397,2,   -999.0,9,   -999.0,9,  -999.00,9,  -999.00,9,  -999.00,9,  -999.00,9,    0.009,2,    0.000,3,    0.020,2,   1.8091,2,    13.11,2,   -999.0,9,   7.686,2,   -999.0,9,   -999,  -999.0,-999.000,  0.0028,   0.190,   714.0,   0.044,  5.6175,   0.002
    49RY9407_2,   P09,    77,  3,     17,    219,2,19940810,1712,  4.4718, 139.6793, 4100,    807.1,   5.2991,  34.5410,2,  34.5425,2,   -999.0,9,   -999.0,9,  -999.00,9,  -999.00,9,  -999.00,9,  -999.00,9,    0.004,2,    0.000,3,    0.025,2,   1.8179,2,    14.29,2,   -999.0,9,   7.731,2,   -999.0,9,   -999,  -999.0,-999.000,  0.0028,   0.190,  -999.0,   0.044,  5.2311,   0.003
    49RY9407_2,   P09,    77,  3,     16,    229,2,19940810,1712,  4.4718, 139.6793, 4100,    906.5,   4.7300,  34.5504,2,  34.5533,2,   -999.0,9,   -999.0,9,  -999.00,9,  -999.00,9,  -999.00,9,  -999.00,9, -999.000,9, -999.000,9,    0.019,2,   1.8379,2,    16.88,2,   -999.0,9,   7.822,2,   -999.0,9,   -999,  -999.0,   4.718,  0.0029,   0.190,   908.0,   0.044,  4.6569,   0.003
    49RY9407_2,   P09,    77,  3,     15,    217,2,19940810,1712,  4.4718, 139.6793, 4100,   1007.0,   4.3861,  34.5570,2,  34.5588,2,   -999.0,9,   -999.0,9,  -999.00,9,  -999.00,9,  -999.00,9,  -999.00,9,    0.003,2,    0.088,4,    0.012,2,   1.8231,2,    17.82,2,   -999.0,9,   7.792,2,   -999.0,9,   -999,  -999.0,-999.000,  0.0028,   0.190,  -999.0,   0.044,  4.3068,   0.003
    49RY9407_2,   P09,    77,  3,     14,    204,2,19940810,1712,  4.4718, 139.6793, 4100,   1259.1,   3.5906,  34.5788,2,  34.5806,2,   -999.0,9,   -999.0,9,  -999.00,9,  -999.00,9,  -999.00,9,  -999.00,9,    0.000,2,    0.000,3,    0.015,2,   1.8575,2,    20.45,2,   -999.0,9,   7.876,2,   -999.0,9,   -999,  -999.0,   3.898,  0.0031,   0.180,  1189.0,   0.017,  3.4967,   0.003
    49RY9407_2,   P09,    77,  3,     13,    214,2,19940810,1712,  4.4718, 139.6793, 4100,   1511.8,   3.0001,  34.5985,2,  34.6005,2,   -999.0,9,   -999.0,9,  -999.00,9,  -999.00,9,  -999.00,9,  -999.00,9, -999.000,9, -999.000,9, -999.000,9,-999.0000,9,  -999.00,9,   -999.0,9,-999.000,9,   -999.0,9,   -999,  -999.0,-999.000,-999.0000,-999.000,  1498.0,-999.000,  2.8912,-999.000
    49RY9407_2,   P09,    77,  3,     12,    213,4,19940810,1712,  4.4718, 139.6793, 4100,   2020.6,   2.2436,  34.6342,2,  34.6349,2,   -999.0,9,    113.1,2,  -999.00,9,  -999.00,9,  -999.00,9,  -999.00,9,    0.000,2,    0.019,4,    0.019,2,   1.8761,2,    22.07,2,   -999.0,9,   7.852,2,   -999.0,9,   -999,  -999.0,-999.000,  0.0029,   0.190,  1743.0,   0.045,  2.1017,   0.002
    49RY9407_2,   P09,    78,  1,      0,      0,2,19940810,2026,  4.0883, 139.9313, 4250,      0.0,  29.0442,  33.9853,2,-999.0000,9,   -999.0,9,    200.1,6,     1.49,2,     0.01,2,     0.00,2,     0.02,2, -999.000,9, -999.000,9, -999.000,9,-999.0000,9,  -999.00,9,   -999.0,1,-999.000,9,   1889.7,2,   -999,  -999.0,-999.000,-999.0000,-999.000,  -999.0,-999.000, 29.0443,-999.000
    49RY9407_2,   P09,    78,  1,     19,    219,2,19940810,2026,  4.0883, 139.9313, 4250,     10.8,  29.0177,  34.0161,2,  34.0161,2,   -999.0,9,    199.6,2,     1.51,2,     0.00,2,     0.00,2,     0.01,2, -999.000,9, -999.000,9, -999.000,9,-999.0000,9,  -999.00,9,   -999.0,1,-999.000,9,   1888.5,2,   -999,  -999.0,-999.000,-999.0000,-999.000,  -999.0,-999.000, 29.0151,-999.000
    49RY9407_2,   P09,    78,  1,     18,    221,2,19940810,2026,  4.0883, 139.9313, 4250,     25.9,  29.0253,  34.0154,2,  34.0192,2,   -999.0,9,    200.2,2,     1.49,2,     0.02,2,     0.00,2,     0.01,2, -999.000,9, -999.000,9, -999.000,9,-999.0000,9,  -999.00,9,   -999.0,1,-999.000,9,   1889.4,6,   -999,  -999.0,-999.000,-999.0000,-999.000,    29.0,-999.000, 29.0191,-999.000
    49RY9407_2,   P09,    78,  1,     17,    210,2,19940810,2026,  4.0883, 139.9313, 4250,     51.0,  27.4492,  34.2922,2,  34.2600,2,   -999.0,9,    201.8,2,     1.40,2,     0.00,2,     0.00,2,     0.03,2, -999.000,9, -999.000,9, -999.000,9,-999.0000,9,  -999.00,9,   -999.0,1,-999.000,9,   1913.9,2,   -999,  -999.0,-999.000,-999.0000,-999.000,  -999.0,-999.000, 27.4374,-999.000
    49RY9407_2,   P09,    78,  1,     16,    229,2,19940810,2026,  4.0883, 139.9313, 4250,     74.8,  26.5495,  34.3169,2,  34.2883,2,   -999.0,9,    196.9,2,     1.83,6,     0.05,6,     0.08,6,     0.09,6, -999.000,9, -999.000,9, -999.000,9,-999.0000,9,  -999.00,9,   -999.0,1,-999.000,9,   1934.6,2,   -999,  -999.0,  26.590,-999.0000,-999.000,    71.0,-999.000, 26.5326,-999.000
    49RY9407_2,   P09,    78,  1,     15,    217,2,19940810,2026,  4.0883, 139.9313, 4250,    101.3,  24.6390,  34.8019,2,  34.8158,2,   -999.0,9,    157.5,2,     4.00,2,     5.08,2,     0.14,2,     0.45,2, -999.000,9, -999.000,9, -999.000,9,-999.0000,9,  -999.00,9,   -999.0,1,-999.000,9,   2005.2,2,   -999,  -999.0,-999.000,-999.0000,-999.000,  -999.0,-999.000, 24.6172,-999.000
    49RY9407_2,   P09,    78,  1,     14,    204,2,19940810,2026,  4.0883, 139.9313, 4250,    126.2,  21.8290,  34.8080,2,  34.8071,2,   -999.0,9,    166.0,2,     5.32,2,     4.50,2,     0.20,2,     0.44,2, -999.000,9, -999.000,9, -999.000,9,-999.0000,9,  -999.00,9,   -999.0,1,-999.000,9,   2027.0,2,   -999,  -999.0,  21.730,-999.0000,-999.000,   129.0,-999.000, 21.8042,-999.000
    49RY9407_2,   P09,    78,  1,     13,    214,2,19940810,2026,  4.0883, 139.9313, 4250,    151.9,  18.1401,  34.7952,2,  34.7884,2,   -999.0,9,    166.0,2,     6.82,2,     7.38,2,     0.06,2,     0.58,2, -999.000,9, -999.000,9, -999.000,9,-999.0000,9,  -999.00,9,   -999.0,1,-999.000,9,   2060.3,2,   -999,  -999.0,-999.000,-999.0000,-999.000,   158.0,-999.000, 18.1140,-999.000
    49RY9407_2,   P09,    78,  1,     12,    213,2,19940810,2026,  4.0883, 139.9313, 4250,    200.4,  13.0824,  34.5810,2,  34.5775,2,   -999.0,9,    126.3,2,    20.62,6,    19.27,6,     0.01,6,     1.36,6, -999.000,9, -999.000,9, -999.000,9,-999.0000,9,  -999.00,9,   -999.0,1,-999.000,9,   2136.9,2,   -999,  -999.0,-999.000,-999.0000,-999.000,   200.0,-999.000, 13.0549,-999.000