BOTTLE,20020306WHPSIOdm
EXPOCODE,SECT_ID,STNNBR,CASTNO,SAMPNO,BTLNBR,BTLNBR_FLAG_W,DATE,TIME,LATITUDE,LONGITUDE,DEPTH,CTDPRS,CTDTMP,CTDSAL,CTDSAL_FLAG_W,SALNTY,SALNTY_FLAG_W,CTDOXY,CTDOXY_FLAG_W,OXYGEN,OXYGEN_FLAG_W,SILCAT,SILCAT_FLAG_W,NITRAT,NITRAT_FLAG_W,NITRIT,NITRIT_FLAG_W,PHSPHT,PHSPHT_FLAG_W,CFC-11,CFC-11_FLAG_W,CFC-12,CFC-12_FLAG_W,TRITUM,TRITUM_FLAG_W,HELIUM,HELIUM_FLAG_W,DELHE3,DELHE3_FLAG_W,DELC14,DELC14_FLAG_W,NEON,NEON_FLAG_W,TCARBN,TCARBN_FLAG_W,CTDRAW,C14ERR,REVTMP,HELIER,DELHER,REVPRS,NEONER,THETA,TRITER
,,,,,,,,,,,,DBAR,ITS-90,PSS-78,,PSS-78,,UMOL/KG,,UMOL/KG,,UMOL/KG,,UMOL/KG,,UMOL/KG,,UMOL/KG,,PMOL/KG,,PMOL/KG,,TU,,NMOL/KG,,PERCNT,,/MILLE,,NMOL/KG,,UMOL/KG,,,/MILLE,ITS-90,NMOL/KG,PERCNT,DBAR,NMOL/KG,DEG C,TU
    49RY9407_2,   P09,    98,  1,      0,      0,2,19940815,2108, -1.2495, 141.9980, 3195,      0.0,  28.9339,  33.7600,2,-999.0000,9,   -999.0,9,    197.9,6,     1.39,6,     0.01,6,     0.00,6,     0.05,6, -999.000,9, -999.000,9, -999.000,9,-999.0000,9,  -999.00,9,   -999.0,9,-999.000,9,   -999.0,9,   -999,  -999.0,-999.000,-999.0000,-999.000,  -999.0,-999.000, 28.9340,-999.000
    49RY9407_2,   P09,    98,  1,     20,    203,2,19940815,2108, -1.2495, 141.9980, 3195,      9.4,  28.9404,  33.9697,2,  33.9707,2,   -999.0,9,    198.3,2,     1.41,2,     0.04,2,     0.00,2,     0.04,2, -999.000,9, -999.000,9, -999.000,9,-999.0000,9,  -999.00,9,   -999.0,9,-999.000,9,   -999.0,9,   -999,  -999.0,-999.000,-999.0000,-999.000,    14.0,-999.000, 28.9381,-999.000
    49RY9407_2,   P09,    98,  1,     19,    215,2,19940815,2108, -1.2495, 141.9980, 3195,     25.4,  28.9446,  33.9707,2,  33.9707,2,   -999.0,9,    197.9,2,     1.41,2,     0.00,2,     0.00,2,     0.04,2, -999.000,9, -999.000,9, -999.000,9,-999.0000,9,  -999.00,9,   -999.0,9,-999.000,9,   -999.0,9,   -999,  -999.0,-999.000,-999.0000,-999.000,  -999.0,-999.000, 28.9385,-999.000
    49RY9407_2,   P09,    98,  1,     18,    221,2,19940815,2108, -1.2495, 141.9980, 3195,     50.9,  29.2055,  34.2875,2,  34.2905,2,   -999.0,9,    199.2,2,     1.29,2,     0.00,2,     0.00,2,     0.09,2, -999.000,9, -999.000,9, -999.000,9,-999.0000,9,  -999.00,9,   -999.0,9,-999.000,9,   -999.0,9,   -999,  -999.0,-999.000,-999.0000,-999.000,    54.0,-999.000, 29.1931,-999.000
    49RY9407_2,   P09,    98,  1,     16,    229,4,19940815,2108, -1.2495, 141.9980, 3195,     75.7,  27.4679,  34.4695,2,  34.4601,2,   -999.0,9,    197.3,2,     1.31,2,     0.03,2,     0.01,2,     0.11,2, -999.000,9, -999.000,9, -999.000,9,-999.0000,9,  -999.00,9,   -999.0,9,-999.000,9,   -999.0,9,   -999,  -999.0,  27.660,-999.0000,-999.000,    72.0,-999.000, 27.4503,-999.000
    49RY9407_2,   P09,    98,  1,     17,    219,2,19940815,2108, -1.2495, 141.9980, 3195,     75.7,  27.4679,  34.4695,2,  34.4597,2,   -999.0,9,    197.5,2,     1.38,2,     0.00,2,     0.00,2,     0.10,2, -999.000,9, -999.000,9, -999.000,9,-999.0000,9,  -999.00,9,   -999.0,9,-999.000,9,   -999.0,9,   -999,  -999.0,-999.000,-999.0000,-999.000,  -999.0,-999.000, 27.4503,-999.000
    49RY9407_2,   P09,    98,  1,     15,    217,2,19940815,2108, -1.2495, 141.9980, 3195,    126.5,  23.7263,  35.2960,2,  35.2875,2,   -999.0,9,    144.0,2,     2.90,2,     7.09,2,     0.06,2,     0.62,2, -999.000,9, -999.000,9, -999.000,9,-999.0000,9,  -999.00,9,   -999.0,9,-999.000,9,   -999.0,9,   -999,  -999.0,-999.000,-999.0000,-999.000,  -999.0,-999.000, 23.6999,-999.000
    49RY9407_2,   P09,    98,  1,     14,    204,2,19940815,2108, -1.2495, 141.9980, 3195,    151.1,  21.6230,  35.5335,2,  35.5308,2,   -999.0,9,    147.2,6,     3.01,6,     7.95,6,     0.02,6,     0.65,6, -999.000,9, -999.000,9, -999.000,9,-999.0000,9,  -999.00,9,   -999.0,9,-999.000,9,   -999.0,9,   -999,  -999.0,  21.720,-999.0000,-999.000,   151.0,-999.000, 21.5934,-999.000
    49RY9407_2,   P09,    98,  1,     12,    213,2,19940815,2108, -1.2495, 141.9980, 3195,    202.9,  18.6175,  35.3808,2,  35.3787,2,   -999.0,9,    139.3,2,     5.86,2,    11.80,2,     0.01,2,     0.92,2, -999.000,9, -999.000,9, -999.000,9,-999.0000,9,  -999.00,9,   -999.0,9,-999.000,9,   -999.0,9,   -999,  -999.0,-999.000,-999.0000,-999.000,   207.0,-999.000, 18.5817,-999.000
    49RY9407_2,   P09,    98,  1,     13,    214,2,19940815,2108, -1.2495, 141.9980, 3195,    203.6,  18.5417,  35.3950,2,  35.3773,2,   -999.0,9,    139.1,2,     5.97,2,    11.91,2,     0.01,2,     0.92,2, -999.000,9, -999.000,9, -999.000,9,-999.0000,9,  -999.00,9,   -999.0,9,-999.000,9,   -999.0,9,   -999,  -999.0,-999.000,-999.0000,-999.000,   209.0,-999.000, 18.5059,-999.000
    49RY9407_2,   P09,    98,  2,     10,    224,2,19940815,2236, -1.2407, 142.0072, 3180,    101.2,  25.2999,  35.3041,2,  35.2962,2,   -999.0,9,    141.1,2,     2.93,2,     7.52,2,     0.07,2,     0.63,2, -999.000,9, -999.000,9, -999.000,9,-999.0000,9,  -999.00,9,   -999.0,9,-999.000,9,   -999.0,9,   -999,  -999.0,-999.000,-999.0000,-999.000,  -999.0,-999.000, 25.2777,-999.000
    49RY9407_2,   P09,    98,  2,      9,    223,2,19940815,2236, -1.2407, 142.0072, 3180,    126.2,  23.5988,  35.3703,2,  35.3746,2,   -999.0,9,    145.3,2,     2.81,2,     7.20,2,     0.03,2,     0.60,2, -999.000,9, -999.000,9, -999.000,9,-999.0000,9,  -999.00,9,   -999.0,9,-999.000,9,   -999.0,9,   -999,  -999.0,-999.000,-999.0000,-999.000,  -999.0,-999.000, 23.5726,-999.000
    49RY9407_2,   P09,    98,  2,      8,    212,2,19940815,2236, -1.2407, 142.0072, 3180,    301.8,  11.5608,  34.8767,2,  34.8808,2,   -999.0,9,    144.9,2,    14.50,2,    21.26,2,     0.00,2,     1.50,2, -999.000,9, -999.000,9, -999.000,9,-999.0000,9,  -999.00,9,   -999.0,9,-999.000,9,   -999.0,9,   -999,  -999.0,-999.000,-999.0000,-999.000,  -999.0,-999.000, 11.5222,-999.000
    49RY9407_2,   P09,    98,  2,      7,    220,2,19940815,2236, -1.2407, 142.0072, 3180,    402.3,   8.8818,  34.6236,2,  34.6239,2,   -999.0,9,    117.4,2,    34.17,2,    28.94,2,     0.00,2,     2.01,2, -999.000,9, -999.000,9, -999.000,9,-999.0000,9,  -999.00,9,   -999.0,9,-999.000,9,   -999.0,9,   -999,  -999.0,-999.000,-999.0000,-999.000,  -999.0,-999.000,  8.8382,-999.000
    49RY9407_2,   P09,    98,  2,      6,    209,2,19940815,2236, -1.2407, 142.0072, 3180,    402.6,   8.8816,  34.6228,2,  34.6229,2,   -999.0,9,    117.5,2,    34.26,2,    28.88,2,     0.00,2,     2.01,2, -999.000,9, -999.000,9, -999.000,9,-999.0000,9,  -999.00,9,   -999.0,9,-999.000,9,   -999.0,9,   -999,  -999.0,-999.000,-999.0000,-999.000,  -999.0,-999.000,  8.8379,-999.000
    49RY9407_2,   P09,    98,  2,      5,    218,2,19940815,2236, -1.2407, 142.0072, 3180,    503.1,   7.3232,  34.5659,2,  34.5584,2,   -999.0,9,    153.2,2,    29.42,2,    28.79,2,     0.00,2,     1.98,2, -999.000,9, -999.000,9, -999.000,9,-999.0000,9,  -999.00,9,   -999.0,9,-999.000,9,   -999.0,9,   -999,  -999.0,-999.000,-999.0000,-999.000,  -999.0,-999.000,  7.2742,-999.000
    49RY9407_2,   P09,    98,  2,      4,    206,2,19940815,2236, -1.2407, 142.0072, 3180,    603.6,   6.5746,  34.5395,2,  34.5407,2,   -999.0,9,    124.5,2,    42.79,2,    33.17,2,     0.00,2,     2.30,2, -999.000,9, -999.000,9, -999.000,9,-999.0000,9,  -999.00,9,   -999.0,9,-999.000,9,   -999.0,9,   -999,  -999.0,-999.000,-999.0000,-999.000,  -999.0,-999.000,  6.5188,-999.000
    49RY9407_2,   P09,    98,  2,      3,    205,2,19940815,2236, -1.2407, 142.0072, 3180,    704.5,   5.8903,  34.5176,2,  34.5138,2,   -999.0,9,    137.1,2,    46.77,6,    33.07,6,     0.00,6,     2.29,6, -999.000,9, -999.000,9, -999.000,9,-999.0000,9,  -999.00,9,   -999.0,9,-999.000,9,   -999.0,9,   -999,  -999.0,-999.000,-999.0000,-999.000,  -999.0,-999.000,  5.8283,-999.000
    49RY9407_2,   P09,    98,  2,      2,    216,2,19940815,2236, -1.2407, 142.0072, 3180,    805.5,   5.3823,  34.5400,2,  34.5385,2,   -999.0,9,     97.5,6,    65.62,2,    37.62,2,     0.00,2,     2.65,2, -999.000,9, -999.000,9, -999.000,9,-999.0000,9,  -999.00,9,   -999.0,9,-999.000,9,   -999.0,9,   -999,  -999.0,-999.000,-999.0000,-999.000,  -999.0,-999.000,  5.3140,-999.000
    49RY9407_2,   P09,    98,  2,      1,    201,2,19940815,2236, -1.2407, 142.0072, 3180,    906.3,   4.8380,  34.5412,2,  34.5403,2,   -999.0,9,    105.4,2,    74.16,2,    37.44,2,     0.00,2,     2.64,2, -999.000,9, -999.000,9, -999.000,9,-999.0000,9,  -999.00,9,   -999.0,9,-999.000,9,   -999.0,9,   -999,  -999.0,-999.000,-999.0000,-999.000,  -999.0,-999.000,  4.7642,-999.000
    49RY9407_2,   P09,    98,  2,     24,    222,2,19940815,2236, -1.2407, 142.0072, 3180,   1008.1,   4.3836,  34.5537,2,  34.5521,2,   -999.0,9,    102.9,2,    85.08,2,    37.97,2,     0.00,2,     2.71,2, -999.000,9, -999.000,9, -999.000,9,-999.0000,9,  -999.00,9,   -999.0,9,-999.000,9,   -999.0,9,   -999,  -999.0,-999.000,-999.0000,-999.000,  -999.0,-999.000,  4.3043,-999.000
    49RY9407_2,   P09,    98,  2,     23,    228,2,19940815,2236, -1.2407, 142.0072, 3180,   1259.9,   3.5436,  34.5772,2,  34.5765,2,   -999.0,9,    105.3,2,   103.02,2,    38.57,2,     0.00,2,     2.75,2, -999.000,9, -999.000,9, -999.000,9,-999.0000,9,  -999.00,9,   -999.0,9,-999.000,9,   -999.0,9,   -999,  -999.0,-999.000,-999.0000,-999.000,  -999.0,-999.000,  3.4501,-999.000
    49RY9407_2,   P09,    98,  2,     22,    227,2,19940815,2236, -1.2407, 142.0072, 3180,   1513.4,   2.8991,  34.6054,2,  34.6038,2,   -999.0,9,    109.9,2,   120.03,2,    38.49,2,     0.00,2,     2.75,2, -999.000,9, -999.000,9, -999.000,9,-999.0000,9,  -999.00,9,   -999.0,9,-999.000,9,   -999.0,9,   -999,  -999.0,-999.000,-999.0000,-999.000,  -999.0,-999.000,  2.7912,-999.000
    49RY9407_2,   P09,    98,  2,     21,    226,2,19940815,2236, -1.2407, 142.0072, 3180,   1767.2,   2.4874,  34.6223,2,  34.6247,2,   -999.0,9,    116.1,2,   127.11,6,    38.34,6,     0.00,6,     2.72,6, -999.000,9, -999.000,9, -999.000,9,-999.0000,9,  -999.00,9,   -999.0,9,-999.000,9,   -999.0,9,   -999,  -999.0,-999.000,-999.0000,-999.000,  -999.0,-999.000,  2.3635,-999.000
    49RY9407_2,   P09,    98,  2,     19,    215,2,19940815,2236, -1.2407, 142.0072, 3180,   2021.3,   2.2473,  34.6354,2,  34.6373,3,   -999.0,9,    119.5,6,   133.10,2,    38.21,2,     0.00,2,     2.71,2, -999.000,9, -999.000,9, -999.000,9,-999.0000,9,  -999.00,9,   -999.0,9,-999.000,9,   -999.0,9,   -999,  -999.0,-999.000,-999.0000,-999.000,  -999.0,-999.000,  2.1052,-999.000
    49RY9407_2,   P09,    98,  2,     20,    203,2,19940815,2236, -1.2407, 142.0072, 3180,   2021.3,   2.2473,  34.6354,2,  34.6351,2,   -999.0,9,    119.6,2,   133.41,2,    38.30,2,     0.00,2,     2.71,2, -999.000,9, -999.000,9, -999.000,9,-999.0000,9,  -999.00,9,   -999.0,9,-999.000,9,   -999.0,9,   -999,  -999.0,-999.000,-999.0000,-999.000,  2018.0,-999.000,  2.1052,-999.000
    49RY9407_2,   P09,    98,  2,     18,    221,2,19940815,2236, -1.2407, 142.0072, 3180,   2276.1,   1.9892,  34.6480,2,  34.6479,2,   -999.0,9,    125.8,2,   138.27,2,    37.94,2,     0.00,2,     2.68,2, -999.000,9, -999.000,9, -999.000,9,-999.0000,9,  -999.00,9,   -999.0,9,-999.000,9,   -999.0,9,   -999,  -999.0,-999.000,-999.0000,-999.000,  2278.0,-999.000,  1.8292,-999.000
    49RY9407_2,   P09,    98,  2,     17,    219,2,19940815,2236, -1.2407, 142.0072, 3180,   2531.0,   1.7493,  34.6617,2,-999.0000,5,   -999.0,9,    134.9,2,   141.03,2,    37.39,2,     0.00,2,     2.63,2, -999.000,9, -999.000,9, -999.000,9,-999.0000,9,  -999.00,9,   -999.0,9,-999.000,9,   -999.0,9,   -999,  -999.0,-999.000,-999.0000,-999.000,  -999.0,-999.000,  1.5709,-999.000
    49RY9407_2,   P09,    98,  2,     16,    229,2,19940815,2236, -1.2407, 142.0072, 3180,   2785.6,   1.6486,  34.6667,2,  34.6680,2,   -999.0,9,    140.0,2,   142.19,2,    37.05,2,     0.00,2,     2.60,2, -999.000,9, -999.000,9, -999.000,9,-999.0000,9,  -999.00,9,   -999.0,9,-999.000,9,   -999.0,9,   -999,  -999.0,   1.738,-999.0000,-999.000,  2556.0,-999.000,  1.4489,-999.000
    49RY9407_2,   P09,    98,  2,     14,    204,2,19940815,2236, -1.2407, 142.0072, 3180,   3041.2,   1.5784,  34.6721,2,  34.6719,2,   -999.0,9,    144.6,2,  -999.00,9,  -999.00,9,  -999.00,9,  -999.00,9, -999.000,9, -999.000,9, -999.000,9,-999.0000,9,  -999.00,9,   -999.0,9,-999.000,9,   -999.0,9,   -999,  -999.0,   1.647,-999.0000,-999.000,  3008.0,-999.000,  1.3559,-999.000
    49RY9407_2,   P09,    98,  2,     15,    217,2,19940815,2236, -1.2407, 142.0072, 3180,   3042.4,   1.5784,  34.6727,2,  34.6713,2,   -999.0,9,    144.6,2,   142.70,2,    36.65,2,     0.00,2,     2.57,2, -999.000,9, -999.000,9, -999.000,9,-999.0000,9,  -999.00,9,   -999.0,9,-999.000,9,   -999.0,9,   -999,  -999.0,-999.000,-999.0000,-999.000,  -999.0,-999.000,  1.3559,-999.000
    49RY9407_2,   P09,    98,  2,     12,    213,4,19940815,2236, -1.2407, 142.0072, 3180,   3221.8,   1.5732,  34.6739,2,  34.6741,2,   -999.0,9,    145.9,2,   142.51,6,    36.67,6,     0.00,6,     2.56,6, -999.000,9, -999.000,9, -999.000,9,-999.0000,9,  -999.00,9,   -999.0,9,-999.000,9,   -999.0,9,   -999,  -999.0,-999.000,-999.0000,-999.000,  3218.0,-999.000,  1.3332,-999.000
    49RY9407_2,   P09,    98,  2,     13,    214,2,19940815,2236, -1.2407, 142.0072, 3180,   3222.9,   1.5729,  34.6745,2,  34.6741,6,   -999.0,9,   -999.0,5,   142.60,6,    36.62,6,     0.00,6,     2.56,6, -999.000,9, -999.000,9, -999.000,9,-999.0000,9,  -999.00,9,   -999.0,9,-999.000,9,   -999.0,9,   -999,  -999.0,-999.000,-999.0000,-999.000,  3161.0,-999.000,  1.3328,-999.000
    49RY9407_2,   P09,    99,  1,      0,      0,2,19940816,0159, -1.5033, 142.0003, 3510,      0.3,  29.0284,  33.9278,2,-999.0000,9,   -999.0,9,    197.5,2,     1.32,2,     0.04,2,     0.00,2,     0.04,2, -999.000,9, -999.000,9, -999.000,9,-999.0000,9,  -999.00,9,   -999.0,9,-999.000,9,   -999.0,9,   -999,  -999.0,-999.000,-999.0000,-999.000,  -999.0,-999.000, 29.0284,-999.000
    49RY9407_2,   P09,    99,  1,     20,    203,2,19940816,0159, -1.5033, 142.0003, 3510,     11.6,  28.9968,  34.0464,2,  34.0455,2,   -999.0,9,    197.4,2,     1.25,2,     0.01,2,     0.00,2,     0.04,2, -999.000,9, -999.000,9, -999.000,9,-999.0000,9,  -999.00,9,   -999.0,9,-999.000,9,   -999.0,9,   -999,  -999.0,-999.000,-999.0000,-999.000,    16.0,-999.000, 28.9940,-999.000
    49RY9407_2,   P09,    99,  1,     19,    215,2,19940816,0159, -1.5033, 142.0003, 3510,     27.5,  28.9836,  34.0476,2,  34.0490,2,   -999.0,9,    197.6,2,     1.35,2,     0.04,2,     0.00,2,     0.04,2, -999.000,9, -999.000,9, -999.000,9,-999.0000,9,  -999.00,9,   -999.0,9,-999.000,9,   -999.0,9,   -999,  -999.0,-999.000,-999.0000,-999.000,  -999.0,-999.000, 28.9769,-999.000
    49RY9407_2,   P09,    99,  1,     18,    221,2,19940816,0159, -1.5033, 142.0003, 3510,     52.2,  28.2371,  34.2987,2,  34.2893,2,   -999.0,9,    199.6,2,     1.25,2,     0.02,2,     0.00,2,     0.07,2, -999.000,9, -999.000,9, -999.000,9,-999.0000,9,  -999.00,9,   -999.0,9,-999.000,9,   -999.0,9,   -999,  -999.0,-999.000,-999.0000,-999.000,    57.0,-999.000, 28.2248,-999.000
    49RY9407_2,   P09,    99,  1,     17,    219,2,19940816,0159, -1.5033, 142.0003, 3510,     76.1,  26.9517,  34.5852,2,  34.5863,2,   -999.0,9,    193.5,2,     1.06,2,     0.27,2,     0.10,2,     0.14,2, -999.000,9, -999.000,9, -999.000,9,-999.0000,9,  -999.00,9,   -999.0,9,-999.000,9,   -999.0,9,   -999,  -999.0,-999.000,-999.0000,-999.000,  -999.0,-999.000, 26.9342,-999.000
    49RY9407_2,   P09,    99,  1,     15,    217,4,19940816,0159, -1.5033, 142.0003, 3510,    103.4,  25.0341,  35.2556,2,  35.2522,2,   -999.0,9,    150.7,6,     2.49,6,     6.14,6,     0.05,6,     0.53,6, -999.000,9, -999.000,9, -999.000,9,-999.0000,9,  -999.00,9,   -999.0,9,-999.000,9,   -999.0,9,   -999,  -999.0,-999.000,-999.0000,-999.000,  -999.0,-999.000, 25.0117,-999.000
    49RY9407_2,   P09,    99,  1,     16,    229,2,19940816,0159, -1.5033, 142.0003, 3510,    103.4,  25.0341,  35.2556,2,  35.2528,2,   -999.0,9,    150.8,2,     2.50,2,     6.17,2,     0.05,2,     0.54,2, -999.000,9, -999.000,9, -999.000,9,-999.0000,9,  -999.00,9,   -999.0,9,-999.000,9,   -999.0,9,   -999,  -999.0,  25.030,-999.0000,-999.000,   100.0,-999.000, 25.0117,-999.000
    49RY9407_2,   P09,    99,  1,     14,    204,2,19940816,0159, -1.5033, 142.0003, 3510,    152.8,  20.8944,  35.5231,2,  35.5110,2,   -999.0,9,    140.5,2,     3.72,2,     9.43,2,     0.02,2,     0.74,2, -999.000,9, -999.000,9, -999.000,9,-999.0000,9,  -999.00,9,   -999.0,9,-999.000,9,   -999.0,9,   -999,  -999.0,  20.960,-999.0000,-999.000,   152.0,-999.000, 20.8652,-999.000
    49RY9407_2,   P09,    99,  1,     12,    213,2,19940816,0159, -1.5033, 142.0003, 3510,    203.8,  18.1227,  35.4313,2,  35.4216,2,   -999.0,9,    138.7,2,     5.42,2,    12.34,2,     0.01,2,     0.93,2, -999.000,9, -999.000,9, -999.000,9,-999.0000,9,  -999.00,9,   -999.0,9,-999.000,9,   -999.0,9,   -999,  -999.0,-999.000,-999.0000,-999.000,   207.0,-999.000, 18.0875,-999.000
    49RY9407_2,   P09,    99,  1,     13,    214,2,19940816,0159, -1.5033, 142.0003, 3510,    204.5,  18.1032,  35.4296,2,  35.4214,2,   -999.0,9,    138.3,2,     5.51,2,    12.41,2,     0.01,2,     0.94,2, -999.000,9, -999.000,9, -999.000,9,-999.0000,9,  -999.00,9,   -999.0,9,-999.000,9,   -999.0,9,   -999,  -999.0,-999.000,-999.0000,-999.000,   203.0,-999.000, 18.0679,-999.000