BOTTLE,20020306WHPSIOdm
EXPOCODE,SECT_ID,STNNBR,CASTNO,SAMPNO,BTLNBR,BTLNBR_FLAG_W,DATE,TIME,LATITUDE,LONGITUDE,DEPTH,CTDPRS,CTDTMP,CTDSAL,CTDSAL_FLAG_W,SALNTY,SALNTY_FLAG_W,CTDOXY,CTDOXY_FLAG_W,OXYGEN,OXYGEN_FLAG_W,SILCAT,SILCAT_FLAG_W,NITRAT,NITRAT_FLAG_W,NITRIT,NITRIT_FLAG_W,PHSPHT,PHSPHT_FLAG_W,CFC-11,CFC-11_FLAG_W,CFC-12,CFC-12_FLAG_W,TRITUM,TRITUM_FLAG_W,HELIUM,HELIUM_FLAG_W,DELHE3,DELHE3_FLAG_W,DELC14,DELC14_FLAG_W,NEON,NEON_FLAG_W,TCARBN,TCARBN_FLAG_W,CTDRAW,C14ERR,REVTMP,HELIER,DELHER,REVPRS,NEONER,THETA,TRITER
,,,,,,,,,,,,DBAR,ITS-90,PSS-78,,PSS-78,,UMOL/KG,,UMOL/KG,,UMOL/KG,,UMOL/KG,,UMOL/KG,,UMOL/KG,,PMOL/KG,,PMOL/KG,,TU,,NMOL/KG,,PERCNT,,/MILLE,,NMOL/KG,,UMOL/KG,,,/MILLE,ITS-90,NMOL/KG,PERCNT,DBAR,NMOL/KG,DEG C,TU
    49RY9407_1,   P09,    17,  2,     24,    230,2,19940711,1627, 31.3302, 137.0260, 4040,    301.0,  18.0083,  34.8575,2,  34.8544,2,    203.4,2,   -999.0,5,     3.47,2,     3.47,2,     0.01,2,     0.24,2, -999.000,9, -999.000,9, -999.000,9,-999.0000,9,  -999.00,9,   -999.0,9,-999.000,9,   -999.0,9,   -999,  -999.0,-999.000,-999.0000,-999.000,  -999.0,-999.000, 17.9566,-999.000
    49RY9407_1,   P09,    17,  2,     23,    228,2,19940711,1627, 31.3302, 137.0260, 4040,    404.4,  16.5310,  34.7346,2,  34.7351,2,    199.0,2,    196.6,2,     6.58,2,     6.88,2,     0.01,2,     0.46,2, -999.000,9, -999.000,9, -999.000,9,-999.0000,9,  -999.00,9,   -999.0,9,-999.000,9,   -999.0,9,   -999,  -999.0,-999.000,-999.0000,-999.000,  -999.0,-999.000, 16.4653,-999.000
    49RY9407_1,   P09,    17,  2,     21,    226,2,19940711,1627, 31.3302, 137.0260, 4040,    503.4,  14.5689,  34.5834,2,  34.5909,2,    186.2,2,    183.9,2,    13.12,6,    11.23,6,     0.00,6,     0.76,6, -999.000,9, -999.000,9, -999.000,9,-999.0000,9,  -999.00,9,   -999.0,9,-999.000,9,   -999.0,9,   -999,  -999.0,-999.000,-999.0000,-999.000,  -999.0,-999.000, 14.4937,-999.000
    49RY9407_1,   P09,    17,  2,     22,    227,2,19940711,1627, 31.3302, 137.0260, 4040,    503.4,  14.5689,  34.5834,2,  34.5895,2,    186.2,2,   -999.0,5,    13.20,2,    11.23,2,     0.01,2,     0.77,2, -999.000,9, -999.000,9, -999.000,9,-999.0000,9,  -999.00,9,   -999.0,9,-999.000,9,   -999.0,9,   -999,  -999.0,-999.000,-999.0000,-999.000,  -999.0,-999.000, 14.4937,-999.000
    49RY9407_1,   P09,    17,  2,     20,    225,2,19940711,1627, 31.3302, 137.0260, 4040,    603.2,  11.7012,  34.3861,2,  34.3809,2,    177.2,2,   -999.0,5,    23.66,2,    17.04,2,     0.00,2,     1.18,2, -999.000,9, -999.000,9, -999.000,9,-999.0000,9,  -999.00,9,   -999.0,9,-999.000,9,   -999.0,9,   -999,  -999.0,-999.000,-999.0000,-999.000,  -999.0,-999.000, 11.6229,-999.000
    49RY9407_1,   P09,    17,  2,     19,    224,2,19940711,1627, 31.3302, 137.0260, 4040,    702.6,   9.7827,  34.3063,2,  34.2927,2,    149.8,3,    155.5,2,    37.68,2,    22.30,2,     0.00,2,     1.57,2, -999.000,9, -999.000,9, -999.000,9,-999.0000,9,  -999.00,9,   -999.0,9,-999.000,9,   -999.0,9,   -999,  -999.0,-999.000,-999.0000,-999.000,  -999.0,-999.000,  9.7009,-999.000
    49RY9407_1,   P09,    17,  2,     18,    223,2,19940711,1627, 31.3302, 137.0260, 4040,    805.3,   6.9334,  34.1948,2,  34.1930,2,    124.2,3,    117.8,6,    64.01,2,    30.66,2,     0.00,2,     2.18,2, -999.000,9, -999.000,9, -999.000,9,-999.0000,9,  -999.00,9,   -999.0,9,-999.000,9,   -999.0,9,   -999,  -999.0,-999.000,-999.0000,-999.000,  -999.0,-999.000,  6.8560,-999.000
    49RY9407_1,   P09,    17,  2,     17,    222,2,19940711,1627, 31.3302, 137.0260, 4040,    906.7,   5.6516,  34.2465,2,  34.2441,2,     90.7,2,     87.1,2,    84.50,2,    35.47,2,     0.00,2,     2.53,2, -999.000,9, -999.000,9, -999.000,9,-999.0000,9,  -999.00,9,   -999.0,9,-999.000,9,   -999.0,9,   -999,  -999.0,-999.000,-999.0000,-999.000,  -999.0,-999.000,  5.5726,-999.000
    49RY9407_1,   P09,    17,  2,     16,    221,2,19940711,1627, 31.3302, 137.0260, 4040,   1007.8,   4.6318,  34.3098,2,  34.3118,2,     74.2,2,     77.2,2,   103.53,6,    38.30,6,     0.00,6,     2.73,6, -999.000,9, -999.000,9, -999.000,9,-999.0000,9,  -999.00,9,   -999.0,9,-999.000,9,   -999.0,9,   -999,  -999.0,   4.582,-999.0000,-999.000,  1009.0,-999.000,  4.5509,-999.000
    49RY9407_1,   P09,    17,  2,     15,    220,2,19940711,1627, 31.3302, 137.0260, 4040,   1261.2,   3.2923,  34.4393,2,  34.4356,2,     68.5,2,     69.2,2,   128.63,2,    40.55,2,     0.00,2,     2.89,2, -999.000,9, -999.000,9, -999.000,9,-999.0000,9,  -999.00,9,   -999.0,9,-999.000,9,   -999.0,9,   -999,  -999.0,-999.000,-999.0000,-999.000,  -999.0,-999.000,  3.2014,-999.000
    49RY9407_1,   P09,    17,  2,     14,    219,2,19940711,1627, 31.3302, 137.0260, 4040,   1514.1,   2.5984,  34.5239,2,  34.5255,2,     83.0,2,     84.0,2,   139.31,2,    40.22,2,     0.00,2,     2.84,2, -999.000,9, -999.000,9, -999.000,9,-999.0000,9,  -999.00,9,   -999.0,9,-999.000,9,   -999.0,9,   -999,  -999.0,-999.000,-999.0000,-999.000,  -999.0,-999.000,  2.4942,-999.000
    49RY9407_1,   P09,    17,  2,     13,    218,2,19940711,1627, 31.3302, 137.0260, 4040,   1769.7,   2.1659,  34.5800,2,  34.5813,2,    101.6,2,    102.3,2,   143.07,2,    39.32,2,     0.00,2,     2.77,2, -999.000,9, -999.000,9, -999.000,9,-999.0000,9,  -999.00,9,   -999.0,9,-999.000,9,   -999.0,9,   -999,  -999.0,-999.000,-999.0000,-999.000,  -999.0,-999.000,  2.0462,-999.000
    49RY9407_1,   P09,    17,  2,     12,    217,4,19940711,1627, 31.3302, 137.0260, 4040,   2022.8,   1.9137,  34.6143,2,  34.6134,2,    115.6,2,    116.5,2,   144.81,2,    38.83,2,     0.00,2,     2.72,2, -999.000,9, -999.000,9, -999.000,9,-999.0000,9,  -999.00,9,   -999.0,9,-999.000,9,   -999.0,9,   -999,  -999.0,-999.000,-999.0000,-999.000,  -999.0,-999.000,  1.7767,-999.000
    49RY9407_1,   P09,    17,  2,     11,    216,2,19940711,1627, 31.3302, 137.0260, 4040,   2531.5,   1.6605,  34.6512,2,  34.6496,2,    132.8,2,    136.6,2,   143.84,6,    37.55,6,     0.00,6,     2.61,6, -999.000,9, -999.000,9, -999.000,9,-999.0000,9,  -999.00,9,   -999.0,9,-999.000,9,   -999.0,9,   -999,  -999.0,-999.000,-999.0000,-999.000,  -999.0,-999.000,  1.4837,-999.000
    49RY9407_1,   P09,    17,  2,     10,    214,2,19940711,1627, 31.3302, 137.0260, 4040,   2784.7,   1.5781,  34.6631,2,  34.6626,2,    141.4,2,    143.1,2,   143.07,2,    37.09,2,     0.00,2,     2.59,2, -999.000,9, -999.000,9, -999.000,9,-999.0000,9,  -999.00,9,   -999.0,9,-999.000,9,   -999.0,9,   -999,  -999.0,-999.000,-999.0000,-999.000,  -999.0,-999.000,  1.3799,-999.000
    49RY9407_1,   P09,    17,  2,      9,    213,2,19940711,1627, 31.3302, 137.0260, 4040,   3042.5,   1.5218,  34.6717,2,  34.6701,2,    147.5,2,    148.8,2,   142.79,2,    36.76,2,     0.00,2,     2.57,2, -999.000,9, -999.000,9, -999.000,9,-999.0000,9,  -999.00,9,   -999.0,9,-999.000,9,   -999.0,9,   -999,  -999.0,   1.517,-999.0000,-999.000,  3033.0,-999.000,  1.3005,-999.000
    49RY9407_1,   P09,    17,  2,      7,    210,2,19940711,1627, 31.3302, 137.0260, 4040,   3297.2,   1.5030,  34.6755,2,  34.6764,2,    152.9,2,    153.7,2,   142.18,2,    36.60,2,     0.00,2,     2.53,2, -999.000,9, -999.000,9, -999.000,9,-999.0000,9,  -999.00,9,   -999.0,9,-999.000,9,   -999.0,9,   -999,  -999.0,-999.000,-999.0000,-999.000,  -999.0,-999.000,  1.2572,-999.000
    49RY9407_1,   P09,    17,  2,      8,    212,2,19940711,1627, 31.3302, 137.0260, 4040,   3297.2,   1.5030,  34.6755,2,  34.6762,2,    152.9,2,    152.4,2,   142.08,2,    36.57,2,     0.00,2,     2.53,2, -999.000,9, -999.000,9, -999.000,9,-999.0000,9,  -999.00,9,   -999.0,9,-999.000,9,   -999.0,9,   -999,  -999.0,-999.000,-999.0000,-999.000,  -999.0,-999.000,  1.2572,-999.000
    49RY9407_1,   P09,    17,  2,      6,    209,2,19940711,1627, 31.3302, 137.0260, 4040,   3550.8,   1.5039,  34.6789,2,  34.6786,2,    150.9,2,    153.5,2,   141.60,2,    36.46,2,     0.00,2,     2.52,2, -999.000,9, -999.000,9, -999.000,9,-999.0000,9,  -999.00,9,   -999.0,9,-999.000,9,   -999.0,9,   -999,  -999.0,-999.000,-999.0000,-999.000,  -999.0,-999.000,  1.2324,-999.000
    49RY9407_1,   P09,    17,  2,      5,    207,2,19940711,1627, 31.3302, 137.0260, 4040,   3809.1,   1.5146,  34.6805,2,  34.6815,2,    154.3,2,    156.0,6,   141.37,2,    36.39,2,     0.00,2,     2.51,2, -999.000,9, -999.000,9, -999.000,9,-999.0000,9,  -999.00,9,   -999.0,9,-999.000,9,   -999.0,9,   -999,  -999.0,-999.000,-999.0000,-999.000,  -999.0,-999.000,  1.2158,-999.000
    49RY9407_1,   P09,    17,  2,      4,    206,4,19940711,1627, 31.3302, 137.0260, 4040,   4064.5,   1.5326,  34.6811,2,  34.6807,2,    155.5,2,    165.9,4,   141.12,6,    36.31,6,     0.00,6,     2.50,6, -999.000,9, -999.000,9, -999.000,9,-999.0000,9,  -999.00,9,   -999.0,9,-999.000,9,   -999.0,9,   -999,  -999.0,-999.000,-999.0000,-999.000,  -999.0,-999.000,  1.2057,-999.000
    49RY9407_1,   P09,    18,  1,      0,      0,2,19940711,2031, 31.0078, 136.9950, 4175,      0.2,  27.4252,  34.1796,2,-999.0000,9,    198.7,3,    204.8,6,     1.40,2,     0.10,2,     0.00,2,     0.00,2, -999.000,9, -999.000,9, -999.000,9,-999.0000,9,  -999.00,9,   -999.0,9,-999.000,9,   -999.0,9,   -999,  -999.0,-999.000,-999.0000,-999.000,  -999.0,-999.000, 27.4252,-999.000
    49RY9407_1,   P09,    18,  1,     11,    216,2,19940711,2031, 31.0078, 136.9950, 4175,      9.9,  27.4186,  34.3104,2,  34.3161,2,    201.4,2,   -999.0,5,     1.39,2,     0.08,2,     0.00,2,     0.00,2, -999.000,9, -999.000,9, -999.000,9,-999.0000,9,  -999.00,9,   -999.0,9,-999.000,9,   -999.0,9,   -999,  -999.0,-999.000,-999.0000,-999.000,  -999.0,-999.000, 27.4163,-999.000
    49RY9407_1,   P09,    18,  1,     10,    214,2,19940711,2031, 31.0078, 136.9950, 4175,     24.6,  24.6999,  34.3126,2,  34.3216,2,    211.6,2,   -999.0,5,     1.46,2,     0.06,2,     0.00,2,     0.00,2, -999.000,9, -999.000,9, -999.000,9,-999.0000,9,  -999.00,9,   -999.0,9,-999.000,9,   -999.0,9,   -999,  -999.0,-999.000,-999.0000,-999.000,  -999.0,-999.000, 24.6947,-999.000
    49RY9407_1,   P09,    18,  1,      9,    213,2,19940711,2031, 31.0078, 136.9950, 4175,     49.3,  22.6300,  34.7786,2,  34.7105,2,    221.0,2,    221.0,2,     1.69,2,     0.08,2,     0.00,2,     0.02,2, -999.000,9, -999.000,9, -999.000,9,-999.0000,9,  -999.00,9,   -999.0,9,-999.000,9,   -999.0,9,   -999,  -999.0,  22.990,-999.0000,-999.000,    53.0,-999.000, 22.6201,-999.000
    49RY9407_1,   P09,    18,  1,      8,    212,2,19940711,2031, 31.0078, 136.9950, 4175,     75.2,  21.3665,  34.8536,2,  34.8497,2,    221.3,2,   -999.0,5,     1.82,2,     0.06,2,     0.00,2,     0.03,2, -999.000,9, -999.000,9, -999.000,9,-999.0000,9,  -999.00,9,   -999.0,9,-999.000,9,   -999.0,9,   -999,  -999.0,-999.000,-999.0000,-999.000,  -999.0,-999.000, 21.3520,-999.000
    49RY9407_1,   P09,    18,  1,      7,    210,2,19940711,2031, 31.0078, 136.9950, 4175,     98.8,  20.4554,  34.8972,2,  34.8976,2,    211.0,2,    213.7,2,     2.20,2,     1.21,2,     0.06,2,     0.10,2, -999.000,9, -999.000,9, -999.000,9,-999.0000,9,  -999.00,9,   -999.0,9,-999.000,9,   -999.0,9,   -999,  -999.0,-999.000,-999.0000,-999.000,  -999.0,-999.000, 20.4368,-999.000
    49RY9407_1,   P09,    18,  1,      6,    209,2,19940711,2031, 31.0078, 136.9950, 4175,    126.0,  19.9307,  34.9224,2,  34.9156,2,    211.9,2,   -999.0,5,     2.36,2,     1.66,2,     0.03,2,     0.13,2, -999.000,9, -999.000,9, -999.000,9,-999.0000,9,  -999.00,9,   -999.0,9,-999.000,9,   -999.0,9,   -999,  -999.0,-999.000,-999.0000,-999.000,  -999.0,-999.000, 19.9075,-999.000
    49RY9407_1,   P09,    18,  1,      5,    207,2,19940711,2031, 31.0078, 136.9950, 4175,    150.6,  19.5466,  34.9006,2,  34.8986,2,    207.2,2,    208.4,2,     2.75,2,     2.22,2,     0.02,2,     0.17,2, -999.000,9, -999.000,9, -999.000,9,-999.0000,9,  -999.00,9,   -999.0,9,-999.000,9,   -999.0,9,   -999,  -999.0,-999.000,-999.0000,-999.000,  -999.0,-999.000, 19.5192,-999.000
    49RY9407_1,   P09,    18,  1,      4,    206,2,19940711,2031, 31.0078, 136.9950, 4175,    203.7,  18.8584,  34.8906,2,  34.8913,2,    209.7,2,    210.0,2,     2.88,2,     2.47,2,     0.01,2,     0.18,2, -999.000,9, -999.000,9, -999.000,9,-999.0000,9,  -999.00,9,   -999.0,9,-999.000,9,   -999.0,9,   -999,  -999.0,-999.000,-999.0000,-999.000,  -999.0,-999.000, 18.8223,-999.000