BOTTLE,20020306WHPSIOdm
EXPOCODE,SECT_ID,STNNBR,CASTNO,SAMPNO,BTLNBR,BTLNBR_FLAG_W,DATE,TIME,LATITUDE,LONGITUDE,DEPTH,CTDPRS,CTDTMP,CTDSAL,CTDSAL_FLAG_W,SALNTY,SALNTY_FLAG_W,CTDOXY,CTDOXY_FLAG_W,OXYGEN,OXYGEN_FLAG_W,SILCAT,SILCAT_FLAG_W,NITRAT,NITRAT_FLAG_W,NITRIT,NITRIT_FLAG_W,PHSPHT,PHSPHT_FLAG_W,CFC-11,CFC-11_FLAG_W,CFC-12,CFC-12_FLAG_W,TRITUM,TRITUM_FLAG_W,HELIUM,HELIUM_FLAG_W,DELHE3,DELHE3_FLAG_W,DELC14,DELC14_FLAG_W,NEON,NEON_FLAG_W,TCARBN,TCARBN_FLAG_W,CTDRAW,C14ERR,REVTMP,HELIER,DELHER,REVPRS,NEONER,THETA,TRITER
,,,,,,,,,,,,DBAR,ITS-90,PSS-78,,PSS-78,,UMOL/KG,,UMOL/KG,,UMOL/KG,,UMOL/KG,,UMOL/KG,,UMOL/KG,,PMOL/KG,,PMOL/KG,,TU,,NMOL/KG,,PERCNT,,/MILLE,,NMOL/KG,,UMOL/KG,,,/MILLE,ITS-90,NMOL/KG,PERCNT,DBAR,NMOL/KG,DEG C,TU
    49RY9407_2,   P09,    82,  2,      4,    206,2,19940811,2335,  2.7672, 141.2780, 3050,    302.7,   9.1365,  34.4895,2,  34.5104,2,   -999.0,9,     89.7,6,    39.00,2,    30.11,2,     0.01,2,     2.09,2, -999.000,9, -999.000,9, -999.000,9,-999.0000,9,  -999.00,9,   -999.0,9,-999.000,9,   -999.0,9,   -999,  -999.0,-999.000,-999.0000,-999.000,  -999.0,-999.000,  9.1033,-999.000
    49RY9407_2,   P09,    82,  2,      3,    205,2,19940811,2335,  2.7672, 141.2780, 3050,    402.2,   8.0702,  34.5844,2,  34.5808,2,   -999.0,9,     96.9,2,    38.94,2,    32.26,2,     0.00,2,     2.21,2, -999.000,9, -999.000,9, -999.000,9,-999.0000,9,  -999.00,9,   -999.0,9,-999.000,9,   -999.0,9,   -999,  -999.0,-999.000,-999.0000,-999.000,  -999.0,-999.000,  8.0290,-999.000
    49RY9407_2,   P09,    82,  2,      2,    216,2,19940811,2335,  2.7672, 141.2780, 3050,    504.0,   7.3316,  34.5638,2,  34.5619,2,   -999.0,9,    131.3,2,    35.39,6,    30.69,6,     0.00,6,     2.08,6, -999.000,9, -999.000,9, -999.000,9,-999.0000,9,  -999.00,9,   -999.0,9,-999.000,9,   -999.0,9,   -999,  -999.0,-999.000,-999.0000,-999.000,  -999.0,-999.000,  7.2824,-999.000
    49RY9407_2,   P09,    82,  2,      1,    201,2,19940811,2335,  2.7672, 141.2780, 3050,    605.0,   6.5798,  34.5416,2,  34.5403,2,   -999.0,9,    105.8,2,    48.85,2,    34.37,2,     0.00,2,     2.37,2, -999.000,9, -999.000,9, -999.000,9,-999.0000,9,  -999.00,9,   -999.0,9,-999.000,9,   -999.0,9,   -999,  -999.0,-999.000,-999.0000,-999.000,  -999.0,-999.000,  6.5238,-999.000
    49RY9407_2,   P09,    82,  2,     24,    222,2,19940811,2335,  2.7672, 141.2780, 3050,    705.4,   5.8376,  34.5404,2,  34.5399,2,   -999.0,9,     81.9,2,    63.68,2,    37.90,2,     0.01,2,     2.63,2, -999.000,9, -999.000,9, -999.000,9,-999.0000,9,  -999.00,9,   -999.0,9,-999.000,9,   -999.0,9,   -999,  -999.0,-999.000,-999.0000,-999.000,  -999.0,-999.000,  5.7758,-999.000
    49RY9407_2,   P09,    82,  2,     23,    228,2,19940811,2335,  2.7672, 141.2780, 3050,    804.8,   5.1872,  34.5440,2,  34.5429,2,   -999.0,9,     84.0,2,    73.91,2,    38.74,2,     0.00,2,     2.70,2, -999.000,9, -999.000,9, -999.000,9,-999.0000,9,  -999.00,9,   -999.0,9,-999.000,9,   -999.0,9,   -999,  -999.0,-999.000,-999.0000,-999.000,  -999.0,-999.000,  5.1200,-999.000
    49RY9407_2,   P09,    82,  2,     22,    227,2,19940811,2335,  2.7672, 141.2780, 3050,    907.9,   4.8195,  34.5490,2,  34.5466,2,   -999.0,9,     84.9,2,    81.21,2,    39.04,2,     0.00,2,     2.73,2, -999.000,9, -999.000,9, -999.000,9,-999.0000,9,  -999.00,9,   -999.0,9,-999.000,9,   -999.0,9,   -999,  -999.0,-999.000,-999.0000,-999.000,  -999.0,-999.000,  4.7456,-999.000
    49RY9407_2,   P09,    82,  2,     20,    203,2,19940811,2335,  2.7672, 141.2780, 3050,   1008.2,   4.4651,  34.5568,2,  34.5562,2,   -999.0,9,     88.6,2,    88.27,6,    38.83,6,     0.00,6,     2.72,6, -999.000,9, -999.000,9, -999.000,9,-999.0000,9,  -999.00,9,   -999.0,9,-999.000,9,   -999.0,9,   -999,  -999.0,-999.000,-999.0000,-999.000,  1011.0,-999.000,  4.3851,-999.000
    49RY9407_2,   P09,    82,  2,     21,    226,2,19940811,2335,  2.7672, 141.2780, 3050,   1008.2,   4.4651,  34.5568,2,  34.5578,2,   -999.0,9,     88.6,6,    88.76,2,    38.92,2,     0.00,2,     2.73,2, -999.000,9, -999.000,9, -999.000,9,-999.0000,9,  -999.00,9,   -999.0,9,-999.000,9,   -999.0,9,   -999,  -999.0,-999.000,-999.0000,-999.000,  -999.0,-999.000,  4.3851,-999.000
    49RY9407_2,   P09,    82,  2,     19,    215,2,19940811,2335,  2.7672, 141.2780, 3050,   1260.4,   3.3755,  34.5856,2,  34.5853,2,   -999.0,9,     97.9,2,   111.07,2,    38.99,2,     0.00,2,     2.73,2, -999.000,9, -999.000,9, -999.000,9,-999.0000,9,  -999.00,9,   -999.0,9,-999.000,9,   -999.0,9,   -999,  -999.0,-999.000,-999.0000,-999.000,  -999.0,-999.000,  3.2835,-999.000
    49RY9407_2,   P09,    82,  2,     18,    221,2,19940811,2335,  2.7672, 141.2780, 3050,   1513.3,   2.7912,  34.6067,2,  34.6060,2,   -999.0,9,    106.8,2,   124.59,2,    38.75,2,     0.00,2,     2.70,2, -999.000,9, -999.000,9, -999.000,9,-999.0000,9,  -999.00,9,   -999.0,9,-999.000,9,   -999.0,9,   -999,  -999.0,-999.000,-999.0000,-999.000,  1516.0,-999.000,  2.6846,-999.000
    49RY9407_2,   P09,    82,  2,     17,    219,2,19940811,2335,  2.7672, 141.2780, 3050,   1767.1,   2.4539,  34.6232,2,  34.6215,2,   -999.0,9,    110.6,2,   130.63,2,    38.71,2,     0.00,2,     2.70,2, -999.000,9, -999.000,9, -999.000,9,-999.0000,9,  -999.00,9,   -999.0,9,-999.000,9,   -999.0,9,   -999,  -999.0,-999.000,-999.0000,-999.000,  -999.0,-999.000,  2.3305,-999.000
    49RY9407_2,   P09,    82,  2,     16,    229,2,19940811,2335,  2.7672, 141.2780, 3050,   2019.8,   2.0943,  34.6412,2,  34.6406,2,   -999.0,9,    120.4,2,   136.33,2,    38.19,2,     0.00,2,     2.63,2, -999.000,9, -999.000,9, -999.000,9,-999.0000,9,  -999.00,9,   -999.0,9,-999.000,9,   -999.0,9,   -999,  -999.0,   2.086,-999.0000,-999.000,  2017.0,-999.000,  1.9548,-999.000
    49RY9407_2,   P09,    82,  2,     15,    217,2,19940811,2335,  2.7672, 141.2780, 3050,   2274.5,   1.9381,  34.6511,2,  34.6507,2,   -999.0,9,    124.5,2,   139.34,2,    37.96,2,     0.00,2,     2.62,2, -999.000,9, -999.000,9, -999.000,9,-999.0000,9,  -999.00,9,   -999.0,9,-999.000,9,   -999.0,9,   -999,  -999.0,-999.000,-999.0000,-999.000,  -999.0,-999.000,  1.7791,-999.000
    49RY9407_2,   P09,    82,  2,     14,    204,2,19940811,2335,  2.7672, 141.2780, 3050,   2529.5,   1.7680,  34.6610,2,  34.6591,2,   -999.0,9,    131.9,2,   141.33,2,    37.64,2,     0.00,2,     2.60,2, -999.000,9, -999.000,9, -999.000,9,-999.0000,9,  -999.00,9,   -999.0,9,-999.000,9,   -999.0,9,   -999,  -999.0,   1.766,-999.0000,-999.000,  2528.0,-999.000,  1.5894,-999.000
    49RY9407_2,   P09,    82,  2,     13,    214,2,19940811,2335,  2.7672, 141.2780, 3050,   2786.3,   1.6581,  34.6677,2,  34.6672,2,   -999.0,9,    138.6,6,   141.68,6,    37.11,6,     0.00,6,     2.55,6, -999.000,9, -999.000,9, -999.000,9,-999.0000,9,  -999.00,9,   -999.0,9,-999.000,9,   -999.0,9,   -999,  -999.0,-999.000,-999.0000,-999.000,  2761.0,-999.000,  1.4580,-999.000
    49RY9407_2,   P09,    82,  2,     12,    213,4,19940811,2335,  2.7672, 141.2780, 3050,   3067.2,   1.5773,  34.6737,2,  34.6737,2,   -999.0,9,    143.4,6,   141.82,6,    36.70,6,     0.00,6,     2.51,6, -999.000,9, -999.000,9, -999.000,9,-999.0000,9,  -999.00,9,   -999.0,9,-999.000,9,   -999.0,9,   -999,  -999.0,-999.000,-999.0000,-999.000,  3062.0,-999.000,  1.3523,-999.000
    49RY9407_2,   P09,    83,  1,      0,      0,2,19940812,0316,  2.5080, 141.5087, 2690,      1.2,  29.4309,  33.9264,2,-999.0000,9,   -999.0,9,    197.3,2,     1.84,2,     0.01,2,     0.01,2,     0.04,2, -999.000,9, -999.000,9, -999.000,9,-999.0000,9,  -999.00,9,   -999.0,9,-999.000,9,   -999.0,9,   -999,  -999.0,-999.000,-999.0000,-999.000,  -999.0,-999.000, 29.4307,-999.000
    49RY9407_2,   P09,    83,  1,     11,    225,2,19940812,0316,  2.5080, 141.5087, 2690,     10.0,  29.2504,  33.9220,2,  33.9246,2,   -999.0,9,    196.9,2,     1.81,2,     0.02,2,     0.00,2,     0.01,2, -999.000,9, -999.000,9, -999.000,9,-999.0000,9,  -999.00,9,   -999.0,9,-999.000,9,   -999.0,9,   -999,  -999.0,-999.000,-999.0000,-999.000,  -999.0,-999.000, 29.2480,-999.000
    49RY9407_2,   P09,    83,  1,     10,    224,2,19940812,0316,  2.5080, 141.5087, 2690,     24.7,  29.2602,  33.9997,2,  34.0027,2,   -999.0,9,    197.6,6,     1.81,2,     0.01,2,     0.01,2,     0.02,2, -999.000,9, -999.000,9, -999.000,9,-999.0000,9,  -999.00,9,   -999.0,9,-999.000,9,   -999.0,9,   -999,  -999.0,-999.000,-999.0000,-999.000,  -999.0,-999.000, 29.2542,-999.000
    49RY9407_2,   P09,    83,  1,      9,    223,2,19940812,0316,  2.5080, 141.5087, 2690,     50.1,  28.2868,  34.2055,2,  34.2098,2,   -999.0,9,    199.8,2,     1.43,2,     0.01,2,     0.01,2,     0.02,2, -999.000,9, -999.000,9, -999.000,9,-999.0000,9,  -999.00,9,   -999.0,9,-999.000,9,   -999.0,9,   -999,  -999.0,-999.000,-999.0000,-999.000,  -999.0,-999.000, 28.2749,-999.000
    49RY9407_2,   P09,    83,  1,      8,    212,2,19940812,0316,  2.5080, 141.5087, 2690,     75.2,  27.3136,  34.4214,2,  34.4143,2,   -999.0,9,    189.0,2,     2.06,6,     0.22,6,     0.19,6,     0.08,6, -999.000,9, -999.000,9, -999.000,9,-999.0000,9,  -999.00,9,   -999.0,9,-999.000,9,   -999.0,9,   -999,  -999.0,-999.000,-999.0000,-999.000,  -999.0,-999.000, 27.2963,-999.000
    49RY9407_2,   P09,    83,  1,      7,    220,2,19940812,0316,  2.5080, 141.5087, 2690,    101.5,  26.5659,  35.0873,2,  35.0850,2,   -999.0,9,    155.5,2,     3.16,2,     4.91,2,     0.35,2,     0.45,2, -999.000,9, -999.000,9, -999.000,9,-999.0000,9,  -999.00,9,   -999.0,9,-999.000,9,   -999.0,9,   -999,  -999.0,-999.000,-999.0000,-999.000,  -999.0,-999.000, 26.5429,-999.000
    49RY9407_2,   P09,    83,  1,      6,    209,2,19940812,0316,  2.5080, 141.5087, 2690,    126.1,  24.1309,  35.1225,2,  35.1175,2,   -999.0,9,    139.4,2,     4.36,2,     7.66,2,     0.06,2,     0.59,2, -999.000,9, -999.000,9, -999.000,9,-999.0000,9,  -999.00,9,   -999.0,9,-999.000,9,   -999.0,9,   -999,  -999.0,-999.000,-999.0000,-999.000,  -999.0,-999.000, 24.1043,-999.000
    49RY9407_2,   P09,    83,  1,      5,    218,2,19940812,0316,  2.5080, 141.5087, 2690,    151.9,  21.8960,  35.0853,2,  35.0861,2,   -999.0,9,    135.7,2,     6.43,2,     9.48,2,     0.03,2,     0.66,2, -999.000,9, -999.000,9, -999.000,9,-999.0000,9,  -999.00,9,   -999.0,9,-999.000,9,   -999.0,9,   -999,  -999.0,-999.000,-999.0000,-999.000,  -999.0,-999.000, 21.8660,-999.000
    49RY9407_2,   P09,    83,  1,      4,    206,2,19940812,0316,  2.5080, 141.5087, 2690,    203.3,  18.5887,  35.0318,2,  35.0290,2,   -999.0,9,    145.3,6,     9.12,2,    10.88,2,     0.03,2,     0.77,2, -999.000,9, -999.000,9, -999.000,9,-999.0000,9,  -999.00,9,   -999.0,9,-999.000,9,   -999.0,9,   -999,  -999.0,-999.000,-999.0000,-999.000,  -999.0,-999.000, 18.5530,-999.000
    49RY9407_2,   P09,    83,  1,      3,    205,2,19940812,0316,  2.5080, 141.5087, 2690,    303.7,   9.4518,  34.5016,2,  34.5012,2,   -999.0,9,    101.6,2,    38.34,2,    28.47,2,     0.01,2,     1.98,2, -999.000,9, -999.000,9, -999.000,9,-999.0000,9,  -999.00,9,   -999.0,9,-999.000,9,   -999.0,9,   -999,  -999.0,-999.000,-999.0000,-999.000,  -999.0,-999.000,  9.4178,-999.000
    49RY9407_2,   P09,    83,  1,      2,    216,2,19940812,0316,  2.5080, 141.5087, 2690,    401.5,   8.0514,  34.5766,2,  34.5757,2,   -999.0,9,     75.1,2,    42.79,6,    34.17,6,     0.01,6,     2.26,6, -999.000,9, -999.000,9, -999.000,9,-999.0000,9,  -999.00,9,   -999.0,9,-999.000,9,   -999.0,9,   -999,  -999.0,-999.000,-999.0000,-999.000,  -999.0,-999.000,  8.0103,-999.000
    49RY9407_2,   P09,    83,  1,      1,    201,2,19940812,0316,  2.5080, 141.5087, 2690,    500.0,   7.2468,  34.5586,2,  34.5586,2,   -999.0,9,     92.0,2,    45.71,2,    34.11,2,     0.01,2,     2.36,2, -999.000,9, -999.000,9, -999.000,9,-999.0000,9,  -999.00,9,   -999.0,9,-999.000,9,   -999.0,9,   -999,  -999.0,-999.000,-999.0000,-999.000,  -999.0,-999.000,  7.1983,-999.000
    49RY9407_2,   P09,    83,  1,     24,    222,2,19940812,0316,  2.5080, 141.5087, 2690,    603.6,   6.4873,  34.5382,2,  34.5385,2,   -999.0,9,    102.7,2,    51.90,2,    34.71,2,     0.01,2,     2.31,2, -999.000,9, -999.000,9, -999.000,9,-999.0000,9,  -999.00,9,   -999.0,9,-999.000,9,   -999.0,9,   -999,  -999.0,-999.000,-999.0000,-999.000,  -999.0,-999.000,  6.4318,-999.000
    49RY9407_2,   P09,    83,  1,     23,    228,2,19940812,0316,  2.5080, 141.5087, 2690,    706.1,   6.0104,  34.5393,2,  34.5389,2,   -999.0,9,     88.4,2,    60.71,2,    36.98,2,     0.01,2,     2.51,2, -999.000,9, -999.000,9, -999.000,9,-999.0000,9,  -999.00,9,   -999.0,9,-999.000,9,   -999.0,9,   -999,  -999.0,-999.000,-999.0000,-999.000,  -999.0,-999.000,  5.9476,-999.000
    49RY9407_2,   P09,    83,  1,     22,    227,2,19940812,0316,  2.5080, 141.5087, 2690,    805.7,   5.4355,  34.5425,2,  34.5423,2,   -999.0,9,     81.7,2,    70.83,2,    38.69,2,     0.01,2,     2.70,2, -999.000,9, -999.000,9, -999.000,9,-999.0000,9,  -999.00,9,   -999.0,9,-999.000,9,   -999.0,9,   -999,  -999.0,-999.000,-999.0000,-999.000,  -999.0,-999.000,  5.3667,-999.000
    49RY9407_2,   P09,    83,  1,     21,    226,2,19940812,0316,  2.5080, 141.5087, 2690,    904.7,   4.8250,  34.5486,2,  34.5470,2,   -999.0,9,     86.8,6,    82.51,2,    38.78,2,     0.00,2,     2.69,2, -999.000,9, -999.000,9, -999.000,9,-999.0000,9,  -999.00,9,   -999.0,9,-999.000,9,   -999.0,9,   -999,  -999.0,-999.000,-999.0000,-999.000,  -999.0,-999.000,  4.7514,-999.000
    49RY9407_2,   P09,    83,  1,     19,    215,2,19940812,0316,  2.5080, 141.5087, 2690,   1007.8,   4.2001,  34.5613,2,  34.5617,2,   -999.0,9,     96.2,2,    94.39,2,    38.41,2,     0.00,2,     2.66,2, -999.000,9, -999.000,9, -999.000,9,-999.0000,9,  -999.00,9,   -999.0,9,-999.000,9,   -999.0,9,   -999,  -999.0,-999.000,-999.0000,-999.000,  -999.0,-999.000,  4.1222,-999.000
    49RY9407_2,   P09,    83,  1,     20,    203,2,19940812,0316,  2.5080, 141.5087, 2690,   1007.8,   4.2001,  34.5613,2,  34.5621,2,   -999.0,9,     94.9,2,    94.48,6,    38.43,6,     0.00,6,     2.67,6, -999.000,9, -999.000,9, -999.000,9,-999.0000,9,  -999.00,9,   -999.0,9,-999.000,9,   -999.0,9,   -999,  -999.0,-999.000,-999.0000,-999.000,  1003.0,-999.000,  4.1222,-999.000
    49RY9407_2,   P09,    83,  1,     18,    221,2,19940812,0316,  2.5080, 141.5087, 2690,   1259.8,   3.3961,  34.5834,2,  34.5850,2,   -999.0,9,    100.8,2,   112.01,2,    38.52,2,     0.00,2,     2.67,2, -999.000,9, -999.000,9, -999.000,9,-999.0000,9,  -999.00,9,   -999.0,9,-999.000,9,   -999.0,9,   -999,  -999.0,-999.000,-999.0000,-999.000,   466.0,-999.000,  3.3040,-999.000
    49RY9407_2,   P09,    83,  1,     17,    219,2,19940812,0316,  2.5080, 141.5087, 2690,   1513.6,   2.7826,  34.6085,2,  34.6097,2,   -999.0,9,    109.4,2,   121.71,2,    38.51,2,     0.00,2,     2.67,2, -999.000,9, -999.000,9, -999.000,9,-999.0000,9,  -999.00,9,   -999.0,9,-999.000,9,   -999.0,9,   -999,  -999.0,-999.000,-999.0000,-999.000,  -999.0,-999.000,  2.6761,-999.000
    49RY9407_2,   P09,    83,  1,     16,    229,2,19940812,0316,  2.5080, 141.5087, 2690,   1766.3,   2.4480,  34.6222,2,  34.6227,2,   -999.0,9,    111.8,2,   130.86,2,    38.44,2,     0.00,2,     2.66,2, -999.000,9, -999.000,9, -999.000,9,-999.0000,9,  -999.00,9,   -999.0,9,-999.000,9,   -999.0,9,   -999,  -999.0,   2.433,-999.0000,-999.000,  1766.0,-999.000,  2.3248,-999.000
    49RY9407_2,   P09,    83,  1,     15,    217,2,19940812,0316,  2.5080, 141.5087, 2690,   2020.3,   2.1065,  34.6402,2,  34.6408,2,   -999.0,9,    120.6,2,   136.54,2,    38.02,2,     0.00,2,     2.62,2, -999.000,9, -999.000,9, -999.000,9,-999.0000,9,  -999.00,9,   -999.0,9,-999.000,9,   -999.0,9,   -999,  -999.0,-999.000,-999.0000,-999.000,  -999.0,-999.000,  1.9667,-999.000
    49RY9407_2,   P09,    83,  1,     14,    204,2,19940812,0316,  2.5080, 141.5087, 2690,   2274.8,   1.9388,  34.6502,2,  34.6507,2,   -999.0,9,    124.4,6,   139.78,6,    37.88,6,     0.00,6,     2.61,6, -999.000,9, -999.000,9, -999.000,9,-999.0000,9,  -999.00,9,   -999.0,9,-999.000,9,   -999.0,9,   -999,  -999.0,   1.940,-999.0000,-999.000,  2273.0,-999.000,  1.7797,-999.000
    49RY9407_2,   P09,    83,  1,     13,    214,2,19940812,0316,  2.5080, 141.5087, 2690,   2529.3,   1.7513,  34.6611,2,  34.6607,2,   -999.0,9,    132.8,2,   141.44,2,    37.42,2,     0.00,2,     2.55,2, -999.000,9, -999.000,9, -999.000,9,-999.0000,9,  -999.00,9,   -999.0,9,-999.000,9,   -999.0,9,   -999,  -999.0,-999.000,-999.0000,-999.000,  2515.0,-999.000,  1.5730,-999.000
    49RY9407_2,   P09,    83,  1,     12,    213,4,19940812,0316,  2.5080, 141.5087, 2690,   2752.4,   1.6865,  34.6653,2,  34.6648,2,   -999.0,9,    137.1,2,   141.70,2,    37.23,2,     0.00,2,     2.50,2, -999.000,9, -999.000,9, -999.000,9,-999.0000,9,  -999.00,9,   -999.0,9,-999.000,9,   -999.0,9,   -999,  -999.0,-999.000,-999.0000,-999.000,  2747.0,-999.000,  1.4890,-999.000