BOTTLE,20020306WHPSIOdm
EXPOCODE,SECT_ID,STNNBR,CASTNO,SAMPNO,BTLNBR,BTLNBR_FLAG_W,DATE,TIME,LATITUDE,LONGITUDE,DEPTH,CTDPRS,CTDTMP,CTDSAL,CTDSAL_FLAG_W,SALNTY,SALNTY_FLAG_W,CTDOXY,CTDOXY_FLAG_W,OXYGEN,OXYGEN_FLAG_W,SILCAT,SILCAT_FLAG_W,NITRAT,NITRAT_FLAG_W,NITRIT,NITRIT_FLAG_W,PHSPHT,PHSPHT_FLAG_W,CFC-11,CFC-11_FLAG_W,CFC-12,CFC-12_FLAG_W,TRITUM,TRITUM_FLAG_W,HELIUM,HELIUM_FLAG_W,DELHE3,DELHE3_FLAG_W,DELC14,DELC14_FLAG_W,NEON,NEON_FLAG_W,TCARBN,TCARBN_FLAG_W,CTDRAW,C14ERR,REVTMP,HELIER,DELHER,REVPRS,NEONER,THETA,TRITER
,,,,,,,,,,,,DBAR,ITS-90,PSS-78,,PSS-78,,UMOL/KG,,UMOL/KG,,UMOL/KG,,UMOL/KG,,UMOL/KG,,UMOL/KG,,PMOL/KG,,PMOL/KG,,TU,,NMOL/KG,,PERCNT,,/MILLE,,NMOL/KG,,UMOL/KG,,,/MILLE,ITS-90,NMOL/KG,PERCNT,DBAR,NMOL/KG,DEG C,TU
    49RY9407_1,   P09,    40,  3,      0,      0,2,19940721,0515, 20.4500, 137.0850, 3995,      0.6,  29.4085,  34.3837,2,-999.0000,9,    189.7,3,    198.2,6,     1.27,2,     0.04,2,     0.00,2,     0.01,2, -999.000,9, -999.000,9, -999.000,9,-999.0000,9,  -999.00,9,   -999.0,9,-999.000,9,   -999.0,9,   -999,  -999.0,-999.000,-999.0000,-999.000,  -999.0,-999.000, 29.4084,-999.000
    49RY9407_1,   P09,    40,  3,      6,    209,2,19940721,0515, 20.4500, 137.0850, 3995,      9.3,  29.4044,  34.3814,2,  34.3858,2,    192.5,3,    195.9,2,     1.23,2,     0.01,2,     0.00,2,     0.00,2, -999.000,9, -999.000,9, -999.000,9,-999.0000,9,  -999.00,9,   -999.0,9,-999.000,9,   -999.0,9,   -999,  -999.0,-999.000,-999.0000,-999.000,  -999.0,-999.000, 29.4021,-999.000
    49RY9407_1,   P09,    40,  3,      5,    221,2,19940721,0515, 20.4500, 137.0850, 3995,     24.4,  29.4094,  34.4246,2,  34.4287,2,    188.5,3,    196.0,2,     1.21,2,     0.04,2,     0.00,2,     0.00,2, -999.000,9, -999.000,9, -999.000,9,-999.0000,9,  -999.00,9,   -999.0,9,-999.000,9,   -999.0,9,   -999,  -999.0,  29.390,-999.0000,-999.000,    28.0,-999.000, 29.4035,-999.000
    49RY9407_1,   P09,    40,  3,      4,    206,2,19940721,0515, 20.4500, 137.0850, 3995,     47.1,  28.0094,  34.8242,2,  34.7817,2,    208.8,3,    215.6,6,     1.17,2,     0.04,2,     0.00,2,     0.00,2, -999.000,9, -999.000,9, -999.000,9,-999.0000,9,  -999.00,9,   -999.0,9,-999.000,9,   -999.0,9,   -999,  -999.0,-999.000,-999.0000,-999.000,  -999.0,-999.000, 27.9984,-999.000
    49RY9407_1,   P09,    40,  3,      3,    229,2,19940721,0515, 20.4500, 137.0850, 3995,     72.1,  26.4158,  34.9034,2,  34.9010,2,    213.8,2,    213.1,2,     1.16,6,     0.00,6,     0.00,6,     0.00,6, -999.000,9, -999.000,9, -999.000,9,-999.0000,9,  -999.00,9,   -999.0,9,-999.000,9,   -999.0,9,   -999,  -999.0,  26.390,-999.0000,-999.000,    68.0,-999.000, 26.3995,-999.000
    49RY9407_1,   P09,    40,  3,      2,    216,2,19940721,0515, 20.4500, 137.0850, 3995,     99.5,  24.9797,  34.9355,2,  34.9256,2,    202.5,3,    208.3,2,     1.21,2,     0.00,2,     0.00,2,     0.02,2, -999.000,9, -999.000,9, -999.000,9,-999.0000,9,  -999.00,9,   -999.0,9,-999.000,9,   -999.0,9,   -999,  -999.0,-999.000,-999.0000,-999.000,  -999.0,-999.000, 24.9581,-999.000
    49RY9407_1,   P09,    40,  3,      1,    204,2,19940721,0515, 20.4500, 137.0850, 3995,    122.7,  23.7396,  34.8665,2,  34.8631,2,    197.1,2,    198.0,2,     1.43,2,     0.01,2,     0.03,2,     0.05,2, -999.000,9, -999.000,9, -999.000,9,-999.0000,9,  -999.00,9,   -999.0,9,-999.000,9,   -999.0,9,   -999,  -999.0,  23.850,-999.0000,-999.000,   124.0,-999.000, 23.7140,-999.000
    49RY9407_1,   P09,    40,  3,     12,    217,2,19940721,0515, 20.4500, 137.0850, 3995,    150.8,  22.9878,  34.9302,2,  34.9238,2,    193.8,2,    190.7,2,     1.60,2,     0.83,2,     0.08,2,     0.10,2, -999.000,9, -999.000,9, -999.000,9,-999.0000,9,  -999.00,9,   -999.0,9,-999.000,9,   -999.0,9,   -999,  -999.0,-999.000,-999.0000,-999.000,  -999.0,-999.000, 22.9570,-999.000
    49RY9407_1,   P09,    41,  1,      0,      0,2,19940722,2255, 20.0052, 137.0012, 4730,      1.1,  29.3481,  34.5136,2,-999.0000,9,    169.6,4,    196.5,6,     1.10,2,     0.01,2,     0.00,2,     0.00,2, -999.000,9, -999.000,9, -999.000,9,-999.0000,9,  -999.00,9,   -999.0,1,-999.000,9,   1905.1,2,   -999,  -999.0,-999.000,-999.0000,-999.000,  -999.0,-999.000, 29.3478,-999.000
    49RY9407_1,   P09,    41,  1,     18,    223,2,19940722,2255, 20.0052, 137.0012, 4730,      9.8,  29.3415,  34.5251,2,  34.5249,2,    185.9,3,    196.8,2,     1.14,2,     0.01,2,     0.00,2,     0.00,2, -999.000,9, -999.000,9, -999.000,9,-999.0000,9,  -999.00,9,   -999.0,1,-999.000,9,   1906.0,2,   -999,  -999.0,-999.000,-999.0000,-999.000,  -999.0,-999.000, 29.3391,-999.000
    49RY9407_1,   P09,    41,  1,     17,    203,2,19940722,2255, 20.0052, 137.0012, 4730,     25.9,  29.3441,  34.5240,2,  34.5261,2,    191.3,3,    196.6,2,     1.09,2,     0.01,2,     0.00,2,     0.00,2, -999.000,9, -999.000,9, -999.000,9,-999.0000,9,  -999.00,9,   -999.0,1,-999.000,9,   1906.7,2,   -999,  -999.0,-999.000,-999.0000,-999.000,    30.0,-999.000, 29.3378,-999.000
    49RY9407_1,   P09,    41,  1,     16,    210,2,19940722,2255, 20.0052, 137.0012, 4730,     50.1,  26.7225,  34.7635,2,  34.7675,2,    219.7,2,    216.6,2,     1.13,2,     0.01,2,     0.00,2,     0.00,2, -999.000,9, -999.000,9, -999.000,9,-999.0000,9,  -999.00,9,   -999.0,1,-999.000,9,   1925.5,6,   -999,  -999.0,-999.000,-999.0000,-999.000,  -999.0,-999.000, 26.7111,-999.000
    49RY9407_1,   P09,    41,  1,     15,    221,2,19940722,2255, 20.0052, 137.0012, 4730,     75.2,  25.4851,  34.8283,2,  34.8304,2,    214.7,2,    212.0,6,     1.22,6,     0.01,6,     0.00,6,     0.01,6, -999.000,9, -999.000,9, -999.000,9,-999.0000,9,  -999.00,9,   -999.0,1,-999.000,9,   1941.8,2,   -999,  -999.0,  25.470,-999.0000,-999.000,    78.0,-999.000, 25.4686,-999.000
    49RY9407_1,   P09,    41,  1,     14,    219,2,19940722,2255, 20.0052, 137.0012, 4730,    101.4,  24.3791,  34.8713,2,  34.8775,2,    206.9,2,    204.7,2,     1.24,2,     0.02,2,     0.00,2,     0.02,2, -999.000,9, -999.000,9, -999.000,9,-999.0000,9,  -999.00,9,   -999.0,1,-999.000,9,   1954.8,2,   -999,  -999.0,-999.000,-999.0000,-999.000,  -999.0,-999.000, 24.3576,-999.000
    49RY9407_1,   P09,    41,  1,     13,    229,2,19940722,2255, 20.0052, 137.0012, 4730,    126.3,  23.3535,  34.9248,2,  34.9205,2,    198.8,2,    193.9,2,     1.43,2,     0.19,2,     0.12,2,     0.06,2, -999.000,9, -999.000,9, -999.000,9,-999.0000,9,  -999.00,9,    120.0,3,-999.000,9,   1972.5,2,   -999,     9.0,  23.320,-999.0000,-999.000,   124.0,-999.000, 23.3274,-999.000
    49RY9407_1,   P09,    41,  1,     12,    217,2,19940722,2255, 20.0052, 137.0012, 4730,    151.9,  22.2360,  34.9185,2,  34.9175,2,    206.0,2,    206.4,2,     1.78,2,     0.26,2,     0.28,2,     0.07,2, -999.000,9, -999.000,9, -999.000,9,-999.0000,9,  -999.00,9,    123.0,3,-999.000,9,   1980.0,2,   -999,     9.0,-999.000,-999.0000,-999.000,  -999.0,-999.000, 22.2058,-999.000
    49RY9407_1,   P09,    41,  1,     11,    204,2,19940722,2255, 20.0052, 137.0012, 4730,    201.1,  20.1018,  34.9288,2,  34.9296,2,    214.9,2,    213.5,2,     1.77,2,     0.12,2,     0.18,2,     0.06,2, -999.000,9, -999.000,9, -999.000,9,-999.0000,9,  -999.00,9,    125.0,3,-999.000,9,   1987.0,2,   -999,     9.0,  20.090,-999.0000,-999.000,   200.0,-999.000, 20.0644,-999.000
    49RY9407_1,   P09,    41,  1,     10,    214,2,19940722,2255, 20.0052, 137.0012, 4730,    300.8,  17.4367,  34.8169,2,  34.8140,2,    191.9,3,    197.2,2,     4.21,2,     4.84,2,     0.01,2,     0.36,2, -999.000,9, -999.000,9, -999.000,9,-999.0000,9,  -999.00,9,    126.0,3,-999.000,9,   2033.7,2,   -999,     9.0,-999.000,-999.0000,-999.000,   285.0,-999.000, 17.3861,-999.000
    49RY9407_1,   P09,    41,  1,      9,    213,2,19940722,2255, 20.0052, 137.0012, 4730,    403.3,  13.8118,  34.4921,2,  34.5023,2,    158.3,4,    185.8,2,    11.73,2,    11.54,2,     0.01,2,     0.82,2, -999.000,9, -999.000,9, -999.000,9,-999.0000,9,  -999.00,9,   -999.0,1,-999.000,9,   -999.0,1,   -999,  -999.0,-999.000,-999.0000,-999.000,   403.0,-999.000, 13.7539,-999.000
    49RY9407_1,   P09,    41,  2,      7,    220,2,19940723,0107, 20.0207, 137.0228, 4675,    504.1,  10.4055,  34.2613,2,-999.0000,5,    165.1,2,    165.2,2,    25.10,2,    19.62,2,     0.00,2,     1.41,2, -999.000,9, -999.000,9, -999.000,9,-999.0000,9,  -999.00,9,   -999.0,1,-999.000,9,   2130.3,2,   -999,  -999.0,-999.000,-999.0000,-999.000,  -999.0,-999.000, 10.3451,-999.000
    49RY9407_1,   P09,    41,  2,      6,    209,2,19940723,0107, 20.0207, 137.0228, 4675,    604.5,   7.8721,  34.1560,2,-999.0000,5,    133.2,3,    126.7,2,    45.86,6,    28.21,6,     0.00,6,     2.02,6, -999.000,9, -999.000,9, -999.000,9,-999.0000,9,  -999.00,9,   -999.0,9,-999.000,9,   2190.8,2,   -999,  -999.0,-999.000,-999.0000,-999.000,  -999.0,-999.000,  7.8107,-999.000
    49RY9407_1,   P09,    41,  2,      5,    218,2,19940723,0107, 20.0207, 137.0228, 4675,    704.5,   6.1094,  34.1741,2,  34.1753,2,     93.5,3,     86.1,2,    70.08,2,    35.18,2,     0.00,2,     2.52,2, -999.000,9, -999.000,9, -999.000,9,-999.0000,9,  -999.00,9,   -999.0,1,-999.000,9,   -999.0,5,   -999,  -999.0,-999.000,-999.0000,-999.000,  -999.0,-999.000,  6.0467,-999.000
    49RY9407_1,   P09,    41,  2,      4,    206,2,19940723,0107, 20.0207, 137.0228, 4675,    805.2,   5.1180,  34.2511,2,  34.2510,2,     73.7,3,     68.3,6,    88.61,2,    38.60,2,     0.01,2,     2.77,2, -999.000,9, -999.000,9, -999.000,9,-999.0000,9,  -999.00,9,   -141.0,3,-999.000,9,   2292.9,3,   -999,     7.0,-999.000,-999.0000,-999.000,  -999.0,-999.000,  5.0517,-999.000
    49RY9407_1,   P09,    41,  2,      3,    205,2,19940723,0107, 20.0207, 137.0228, 4675,    907.9,   4.3977,  34.3580,2,  34.3586,2,     67.1,3,     59.0,2,   104.02,2,    40.39,2,     0.00,2,     2.88,2, -999.000,9, -999.000,9, -999.000,5,   1.8456,2,    16.75,2,   -173.0,3,   7.919,3,   2321.2,3,   -999,     7.0,-999.000,  0.0037,   0.260,  -999.0,   0.022,  4.3271,-999.000
    49RY9407_1,   P09,    41,  2,      2,    216,2,19940723,0107, 20.0207, 137.0228, 4675,   1008.5,   3.9483,  34.4286,2,  34.4273,2,     69.0,2,     66.2,2,   113.41,2,    40.67,2,     0.01,2,     2.91,2, -999.000,9, -999.000,9, -999.000,9,-999.0000,9,  -999.00,9,   -183.0,3,-999.000,9,   2329.1,3,   -999,     7.0,-999.000,-999.0000,-999.000,  -999.0,-999.000,  3.8725,-999.000
    49RY9407_1,   P09,    41,  2,      1,    201,2,19940723,0107, 20.0207, 137.0228, 4675,   1260.7,   2.9705,  34.5074,2,  34.5086,2,     77.6,2,     73.7,2,   133.18,2,    40.87,2,     0.00,2,     2.90,2, -999.000,9, -999.000,9, -999.000,9,-999.0000,9,  -999.00,9,   -999.0,1,-999.000,9,   2347.9,3,   -999,  -999.0,-999.000,-999.0000,-999.000,  -999.0,-999.000,  2.8827,-999.000
    49RY9407_1,   P09,    41,  2,     24,    230,2,19940723,0107, 20.0207, 137.0228, 4675,   1514.7,   2.5476,  34.5763,2,-999.0000,5,     97.4,2,     96.7,2,   137.32,6,    39.61,6,     0.00,6,     2.80,6, -999.000,9, -999.000,9, -999.000,9,-999.0000,9,  -999.00,9,   -216.0,3,-999.000,9,   2341.9,6,   -999,     7.0,-999.000,-999.0000,-999.000,  -999.0,-999.000,  2.4438,-999.000
    49RY9407_1,   P09,    41,  2,     23,    228,2,19940723,0107, 20.0207, 137.0228, 4675,   1767.6,   2.2454,  34.6066,2,  34.6077,2,    109.0,2,    109.0,2,   140.57,2,    39.20,2,     0.01,2,     2.76,2, -999.000,9, -999.000,9, -999.000,9,-999.0000,9,  -999.00,9,   -224.0,3,-999.000,9,   2339.8,2,   -999,     7.0,-999.000,-999.0000,-999.000,  -999.0,-999.000,  2.1248,-999.000
    49RY9407_1,   P09,    41,  2,     21,    226,2,19940723,0107, 20.0207, 137.0228, 4675,   2020.6,   2.0066,  34.6275,2,  34.6283,2,    117.2,2,    118.8,2,   143.07,2,    38.72,2,     0.00,2,     2.72,2, -999.000,9, -999.000,9, -999.000,9,-999.0000,9,  -999.00,9,   -210.0,3,-999.000,9,   2341.2,2,   -999,     7.0,-999.000,-999.0000,-999.000,  -999.0,-999.000,  1.8683,-999.000
    49RY9407_1,   P09,    41,  2,     22,    227,2,19940723,0107, 20.0207, 137.0228, 4675,   2020.6,   2.0066,  34.6275,2,  34.6260,2,    117.2,2,   -999.0,9,  -999.00,9,  -999.00,9,  -999.00,9,  -999.00,9, -999.000,9, -999.000,9, -999.000,5,   1.8878,2,    20.65,2,   -999.0,9,   8.004,2,   -999.0,9,   -999,  -999.0,-999.000,  0.0026,   0.220,  -999.0,   0.016,  1.8683,-999.000
    49RY9407_1,   P09,    41,  2,     20,    225,2,19940723,0107, 20.0207, 137.0228, 4675,   2022.5,   2.0069,  34.6268,2,  34.6277,2,    117.8,2,    116.1,2,   143.15,6,    38.74,6,     0.00,6,     2.72,6, -999.000,9, -999.000,9, -999.000,9,-999.0000,9,  -999.00,9,   -225.0,3,-999.000,9,   2341.5,2,   -999,     7.0,-999.000,-999.0000,-999.000,  -999.0,-999.000,  1.8684,-999.000
    49RY9407_1,   P09,    41,  2,     19,    224,2,19940723,0107, 20.0207, 137.0228, 4675,   2275.6,   1.8657,  34.6408,2,  34.6409,2,    124.6,2,    123.6,2,   144.37,2,    38.32,2,     0.00,2,     2.69,2, -999.000,9, -999.000,9, -999.000,5,   1.8866,2,    21.11,2,   -999.0,1,   8.138,3,   -999.0,9,   -999,  -999.0,-999.000,  0.0065,   0.260,  -999.0,   0.023,  1.7079,-999.000
    49RY9407_1,   P09,    41,  2,     18,    223,2,19940723,0107, 20.0207, 137.0228, 4675,   2529.1,   1.7459,  34.6527,2,  34.6530,2,    131.5,2,    130.9,2,   144.81,2,    37.96,2,     0.00,2,     2.66,2, -999.000,9, -999.000,9, -999.000,9,-999.0000,9,  -999.00,9,   -999.0,1,-999.000,9,   2333.4,2,   -999,  -999.0,-999.000,-999.0000,-999.000,  -999.0,-999.000,  1.5678,-999.000
    49RY9407_1,   P09,    41,  2,     17,    203,2,19940723,0107, 20.0207, 137.0228, 4675,   2785.2,   1.6854,  34.6594,2,  34.6601,2,    136.9,2,    136.0,2,   144.67,2,    37.66,2,     0.00,2,     2.63,2, -999.000,9, -999.000,9, -999.000,5,   1.8889,2,    20.72,2,   -999.0,1,   8.016,2,   -999.0,9,   -999,  -999.0,-999.000,  0.0026,   0.230,  2782.0,   0.016,  1.4850,-999.000
    49RY9407_1,   P09,    41,  2,     16,    210,2,19940723,0107, 20.0207, 137.0228, 4675,   3039.9,   1.6267,  34.6662,2,  34.6656,2,    141.3,2,    141.0,2,   144.23,2,    37.36,2,     0.00,2,     2.60,2, -999.000,9, -999.000,9, -999.000,9,-999.0000,9,  -999.00,9,   -999.0,1,-999.000,9,   2331.6,2,   -999,  -999.0,-999.000,-999.0000,-999.000,  -999.0,-999.000,  1.4033,-999.000
    49RY9407_1,   P09,    41,  2,     15,    221,2,19940723,0107, 20.0207, 137.0228, 4675,   3295.8,   1.5924,  34.6717,2,  34.6719,2,    147.6,2,    146.7,2,   143.67,2,    37.03,2,     0.00,2,     2.57,2, -999.000,9, -999.000,9, -999.000,9,-999.0000,1,  -999.00,1,   -211.0,3,-999.000,9,   -999.0,9,   -999,     7.0,   1.588,-999.0000,-999.000,  3296.0,-999.000,  1.3447,-999.000
    49RY9407_1,   P09,    41,  2,     14,    219,2,19940723,0107, 20.0207, 137.0228, 4675,   3551.4,   1.5685,  34.6759,2,-999.0000,5,    152.1,2,    149.8,2,   143.02,2,    36.87,2,     0.00,2,     2.56,2, -999.000,9, -999.000,9, -999.000,9,-999.0000,9,  -999.00,9,   -213.0,3,-999.000,9,   2331.6,2,   -999,     6.0,-999.000,-999.0000,-999.000,  -999.0,-999.000,  1.2954,-999.000
    49RY9407_1,   P09,    41,  2,     13,    229,2,19940723,0107, 20.0207, 137.0228, 4675,   3807.4,   1.5402,  34.6789,2,  34.6788,2,    153.1,2,    153.2,2,   142.31,6,    36.65,6,     0.00,6,     2.53,6, -999.000,9, -999.000,9, -999.000,5,   1.8854,2,    17.34,2,   -999.0,1,   8.004,2,   -999.0,9,   -999,  -999.0,   1.536,  0.0026,   0.230,  3805.0,   0.016,  1.2409,-999.000
    49RY9407_1,   P09,    41,  2,     12,    217,2,19940723,0107, 20.0207, 137.0228, 4675,   4062.8,   1.5079,  34.6838,2,  34.6853,2,    158.8,2,    157.3,2,   141.13,2,    36.29,2,     0.00,2,     2.52,2, -999.000,9, -999.000,9, -999.000,9,-999.0000,9,  -999.00,9,   -208.0,3,-999.000,9,   2318.5,6,   -999,     6.0,-999.000,-999.0000,-999.000,  -999.0,-999.000,  1.1819,-999.000
    49RY9407_1,   P09,    41,  2,     11,    204,2,19940723,0107, 20.0207, 137.0228, 4675,   4320.0,   1.5130,  34.6851,2,  34.6857,2,    163.6,2,    159.4,2,   140.55,2,    36.15,2,     0.00,2,     2.51,2, -999.000,9, -999.000,9, -999.000,9,-999.0000,1,  -999.00,1,   -201.0,3,-999.000,9,   -999.0,9,   -999,     7.0,   1.510,-999.0000,-999.000,  4319.0,-999.000,  1.1582,-999.000
    49RY9407_1,   P09,    41,  2,     10,    214,2,19940723,0107, 20.0207, 137.0228, 4675,   4576.5,   1.5378,  34.6861,2,  34.6880,2,    159.3,2,    161.6,6,   140.30,2,    36.17,2,     0.00,2,     2.50,2, -999.000,9, -999.000,9, -999.000,9,-999.0000,9,  -999.00,9,   -196.0,3,-999.000,9,   2317.5,2,   -999,     6.0,-999.000,-999.0000,-999.000,  4576.0,-999.000,  1.1528,-999.000
    49RY9407_1,   P09,    41,  2,      9,    213,4,19940723,0107, 20.0207, 137.0228, 4675,   4800.8,   1.5636,  34.6858,2,  34.6861,2,    160.4,2,    161.3,6,   140.63,2,    36.14,2,     0.00,2,     2.50,2, -999.000,9, -999.000,9, -999.000,9,-999.0000,9,  -999.00,9,   -999.0,9,-999.000,9,   -999.0,9,   -999,  -999.0,-999.000,-999.0000,-999.000,  4797.0,-999.000,  1.1513,-999.000