BOTTLE,20020306WHPSIOdm
EXPOCODE,SECT_ID,STNNBR,CASTNO,SAMPNO,BTLNBR,BTLNBR_FLAG_W,DATE,TIME,LATITUDE,LONGITUDE,DEPTH,CTDPRS,CTDTMP,CTDSAL,CTDSAL_FLAG_W,SALNTY,SALNTY_FLAG_W,CTDOXY,CTDOXY_FLAG_W,OXYGEN,OXYGEN_FLAG_W,SILCAT,SILCAT_FLAG_W,NITRAT,NITRAT_FLAG_W,NITRIT,NITRIT_FLAG_W,PHSPHT,PHSPHT_FLAG_W,CFC-11,CFC-11_FLAG_W,CFC-12,CFC-12_FLAG_W,TRITUM,TRITUM_FLAG_W,HELIUM,HELIUM_FLAG_W,DELHE3,DELHE3_FLAG_W,DELC14,DELC14_FLAG_W,NEON,NEON_FLAG_W,TCARBN,TCARBN_FLAG_W,CTDRAW,C14ERR,REVTMP,HELIER,DELHER,REVPRS,NEONER,THETA,TRITER
,,,,,,,,,,,,DBAR,ITS-90,PSS-78,,PSS-78,,UMOL/KG,,UMOL/KG,,UMOL/KG,,UMOL/KG,,UMOL/KG,,UMOL/KG,,PMOL/KG,,PMOL/KG,,TU,,NMOL/KG,,PERCNT,,/MILLE,,NMOL/KG,,UMOL/KG,,,/MILLE,ITS-90,NMOL/KG,PERCNT,DBAR,NMOL/KG,DEG C,TU
    49RY9407_2,   P09,    75,  2,     10,    224,2,19940810,0300,  5.2135, 138.8327, 4425,    302.1,   8.8176,  34.5937,2,  34.5910,2,   -999.0,9,     65.2,2,    39.49,2,    33.68,2,     0.01,2,     2.26,2, -999.000,9, -999.000,9, -999.000,9,-999.0000,9,  -999.00,9,   -999.0,9,-999.000,9,   2235.1,2,   -999,  -999.0,-999.000,-999.0000,-999.000,  -999.0,-999.000,  8.7851,-999.000
    49RY9407_2,   P09,    75,  2,      9,    223,2,19940810,0300,  5.2135, 138.8327, 4425,    402.5,   7.9422,  34.5794,2,  34.5802,2,   -999.0,9,     70.0,2,    43.99,2,    35.10,2,     0.00,2,     2.39,2, -999.000,9, -999.000,9, -999.000,9,-999.0000,9,  -999.00,9,   -999.0,9,-999.000,9,   2247.0,2,   -999,  -999.0,-999.000,-999.0000,-999.000,  -999.0,-999.000,  7.9014,-999.000
    49RY9407_2,   P09,    75,  2,      8,    212,2,19940810,0300,  5.2135, 138.8327, 4425,    502.9,   7.2287,  34.5676,2,  34.5663,2,   -999.0,9,     72.2,2,    48.25,2,    36.38,2,     0.00,2,     2.52,2, -999.000,9, -999.000,9, -999.000,9,-999.0000,9,  -999.00,9,   -999.0,9,-999.000,9,   2253.2,2,   -999,  -999.0,-999.000,-999.0000,-999.000,  -999.0,-999.000,  7.1800,-999.000
    49RY9407_2,   P09,    75,  2,      7,    220,2,19940810,0300,  5.2135, 138.8327, 4425,    604.0,   6.3830,  34.5339,2,  34.5364,2,   -999.0,9,     78.1,2,    60.94,2,    36.95,2,     0.00,2,     2.58,2, -999.000,9, -999.000,9, -999.000,9,-999.0000,9,  -999.00,9,   -999.0,9,-999.000,9,   2266.9,2,   -999,  -999.0,-999.000,-999.0000,-999.000,  -999.0,-999.000,  6.3280,-999.000
    49RY9407_2,   P09,    75,  2,      6,    209,2,19940810,0300,  5.2135, 138.8327, 4425,    704.6,   5.7383,  34.5295,2,  34.5301,2,   -999.0,9,     89.8,2,    67.49,2,    37.00,2,     0.00,2,     2.58,2, -999.000,9, -999.000,9, -999.000,9,-999.0000,9,  -999.00,9,   -999.0,9,-999.000,9,   2279.7,2,   -999,  -999.0,-999.000,-999.0000,-999.000,  -999.0,-999.000,  5.6771,-999.000
    49RY9407_2,   P09,    75,  2,      5,    218,2,19940810,0300,  5.2135, 138.8327, 4425,    805.8,   5.2549,  34.5375,2,  34.5385,2,   -999.0,9,     91.2,2,    75.59,2,    37.50,2,     0.00,2,     2.63,2, -999.000,9, -999.000,9, -999.000,9,-999.0000,9,  -999.00,9,   -999.0,9,-999.000,9,   -999.0,9,   -999,  -999.0,-999.000,-999.0000,-999.000,  -999.0,-999.000,  5.1872,-999.000
    49RY9407_2,   P09,    75,  2,      4,    206,2,19940810,0300,  5.2135, 138.8327, 4425,    907.4,   4.7485,  34.5483,2,  34.5486,2,   -999.0,9,     94.8,2,    84.78,6,    37.92,6,     0.00,6,     2.69,6, -999.000,9, -999.000,9, -999.000,9,-999.0000,9,  -999.00,9,   -999.0,9,-999.000,9,   -999.0,9,   -999,  -999.0,-999.000,-999.0000,-999.000,  -999.0,-999.000,  4.6752,-999.000
    49RY9407_2,   P09,    75,  2,      3,    205,2,19940810,0300,  5.2135, 138.8327, 4425,   1007.5,   4.3766,  34.5558,2,  34.5568,2,   -999.0,9,     95.1,2,    91.85,2,    38.31,2,     0.00,2,     2.72,2, -999.000,9, -999.000,9, -999.000,9,-999.0000,9,  -999.00,9,   -999.0,9,-999.000,9,   -999.0,9,   -999,  -999.0,-999.000,-999.0000,-999.000,  -999.0,-999.000,  4.2973,-999.000
    49RY9407_2,   P09,    75,  2,      2,    216,2,19940810,0300,  5.2135, 138.8327, 4425,   1260.9,   3.6481,  34.5748,2,  34.5753,2,   -999.0,9,     95.4,2,   108.42,2,    38.93,2,     0.00,2,     2.74,2, -999.000,9, -999.000,9, -999.000,9,-999.0000,9,  -999.00,9,   -999.0,9,-999.000,9,   -999.0,9,   -999,  -999.0,-999.000,-999.0000,-999.000,  -999.0,-999.000,  3.5535,-999.000
    49RY9407_2,   P09,    75,  2,      1,    201,2,19940810,0300,  5.2135, 138.8327, 4425,   1514.0,   2.9068,  34.6024,2,  34.6034,2,   -999.0,9,     98.8,2,   124.28,2,    39.34,2,     0.00,2,     2.76,2, -999.000,9, -999.000,9, -999.000,9,-999.0000,9,  -999.00,9,   -999.0,9,-999.000,9,   -999.0,9,   -999,  -999.0,-999.000,-999.0000,-999.000,  -999.0,-999.000,  2.7988,-999.000
    49RY9407_2,   P09,    75,  2,     24,    222,2,19940810,0300,  5.2135, 138.8327, 4425,   1768.0,   2.5243,  34.6198,2,  34.6213,2,   -999.0,9,    103.8,2,   132.53,2,    39.28,2,     0.00,2,     2.74,2, -999.000,9, -999.000,9, -999.000,9,-999.0000,9,  -999.00,9,   -999.0,9,-999.000,9,   -999.0,9,   -999,  -999.0,-999.000,-999.0000,-999.000,  -999.0,-999.000,  2.3999,-999.000
    49RY9407_2,   P09,    75,  2,     23,    228,2,19940810,0300,  5.2135, 138.8327, 4425,   2020.2,   2.1839,  34.6361,2,  34.6373,2,   -999.0,9,    115.6,6,   135.62,2,    38.59,2,     0.00,2,     2.68,2, -999.000,9, -999.000,9, -999.000,9,-999.0000,9,  -999.00,9,   -999.0,9,-999.000,9,   -999.0,9,   -999,  -999.0,-999.000,-999.0000,-999.000,  -999.0,-999.000,  2.0429,-999.000
    49RY9407_2,   P09,    75,  2,     21,    226,2,19940810,0300,  5.2135, 138.8327, 4425,   2275.6,   1.9503,  34.6499,2,  34.6503,2,   -999.0,9,    122.7,2,   141.21,2,    38.24,2,     0.00,2,     2.66,2, -999.000,9, -999.000,9, -999.000,9,-999.0000,9,  -999.00,9,   -999.0,9,-999.000,9,   -999.0,9,   -999,  -999.0,-999.000,-999.0000,-999.000,  -999.0,-999.000,  1.7910,-999.000
    49RY9407_2,   P09,    75,  2,     22,    227,2,19940810,0300,  5.2135, 138.8327, 4425,   2275.6,   1.9503,  34.6499,2,  34.6453,3,   -999.0,9,    119.8,2,   140.17,2,    38.37,2,     0.00,2,     2.62,2, -999.000,9, -999.000,9, -999.000,9,-999.0000,9,  -999.00,9,   -999.0,9,-999.000,9,   -999.0,9,   -999,  -999.0,-999.000,-999.0000,-999.000,  -999.0,-999.000,  1.7910,-999.000
    49RY9407_2,   P09,    75,  2,     20,    203,2,19940810,0300,  5.2135, 138.8327, 4425,   2530.1,   1.7639,  34.6594,2,  34.6605,2,   -999.0,9,    132.6,2,   142.09,6,    37.55,6,     0.00,6,     2.60,6, -999.000,9, -999.000,9, -999.000,9,-999.0000,9,  -999.00,9,   -999.0,9,-999.000,9,   -999.0,9,   -999,  -999.0,-999.000,-999.0000,-999.000,  2528.0,-999.000,  1.5853,-999.000
    49RY9407_2,   P09,    75,  2,     19,    210,2,19940810,0300,  5.2135, 138.8327, 4425,   2784.8,   1.6429,  34.6676,2,  34.6674,2,   -999.0,9,    139.5,2,   142.60,2,    37.14,2,     0.00,2,     2.53,2, -999.000,9, -999.000,9, -999.000,9,-999.0000,9,  -999.00,9,   -999.0,9,-999.000,9,   -999.0,9,   -999,  -999.0,-999.000,-999.0000,-999.000,  -999.0,-999.000,  1.4434,-999.000
    49RY9407_2,   P09,    75,  2,     18,    221,2,19940810,0300,  5.2135, 138.8327, 4425,   3040.9,   1.5788,  34.6726,2,  34.6715,2,   -999.0,9,    144.4,2,   142.48,2,    36.84,2,     0.00,2,     2.49,2, -999.000,9, -999.000,9, -999.000,9,-999.0000,9,  -999.00,9,   -999.0,9,-999.000,9,   -999.0,9,   -999,  -999.0,-999.000,-999.0000,-999.000,  3041.0,-999.000,  1.3564,-999.000
    49RY9407_2,   P09,    75,  2,     17,    219,2,19940810,0300,  5.2135, 138.8327, 4425,   3295.7,   1.5518,  34.6761,2,  34.6756,2,   -999.0,9,    147.3,2,   142.45,2,    36.62,2,     0.00,2,     2.50,2, -999.000,9, -999.000,9, -999.000,9,-999.0000,9,  -999.00,9,   -999.0,9,-999.000,9,   -999.0,9,   -999,  -999.0,-999.000,-999.0000,-999.000,  -999.0,-999.000,  1.3050,-999.000
    49RY9407_2,   P09,    75,  2,     16,    229,2,19940810,0300,  5.2135, 138.8327, 4425,   3551.6,   1.5337,  34.6792,2,  34.6760,3,   -999.0,9,    150.1,2,   141.73,2,    36.45,2,     0.00,2,     2.49,2, -999.000,9, -999.000,9, -999.000,9,-999.0000,9,  -999.00,9,   -999.0,9,-999.000,9,   -999.0,9,   -999,  -999.0,   1.525,-999.0000,-999.000,  3551.0,-999.000,  1.2614,-999.000
    49RY9407_2,   P09,    75,  2,     15,    217,2,19940810,0300,  5.2135, 138.8327, 4425,   3807.0,   1.5214,  34.6819,2,  34.6818,2,   -999.0,9,    153.1,6,   141.72,2,    36.31,2,     0.00,2,     2.46,2, -999.000,9, -999.000,9, -999.000,9,-999.0000,9,  -999.00,9,   -999.0,9,-999.000,9,   -999.0,9,   -999,  -999.0,-999.000,-999.0000,-999.000,  -999.0,-999.000,  1.2227,-999.000
    49RY9407_2,   P09,    75,  2,     14,    204,2,19940810,0300,  5.2135, 138.8327, 4425,   4064.0,   1.4998,  34.6864,2,  34.6855,2,   -999.0,9,    156.8,2,   140.77,6,    36.08,6,     0.00,6,     2.48,6, -999.000,9, -999.000,9, -999.000,9,-999.0000,9,  -999.00,9,   -999.0,9,-999.000,9,   -999.0,9,   -999,  -999.0,   1.497,-999.0000,-999.000,  4063.0,-999.000,  1.1739,-999.000
    49RY9407_2,   P09,    75,  2,     13,    214,2,19940810,0300,  5.2135, 138.8327, 4425,   4320.9,   1.5141,  34.6868,2,  34.6861,2,   -999.0,9,    158.5,2,   140.20,2,    36.02,2,     0.00,2,     2.47,2, -999.000,9, -999.000,9, -999.000,9,-999.0000,9,  -999.00,9,   -999.0,9,-999.000,9,   -999.0,9,   -999,  -999.0,-999.000,-999.0000,-999.000,  4319.0,-999.000,  1.1592,-999.000
    49RY9407_2,   P09,    75,  2,     12,    213,4,19940810,0300,  5.2135, 138.8327, 4425,   4412.5,   1.5206,  34.6879,2,  34.6871,6,   -999.0,9,    158.3,2,   140.22,2,    36.00,2,     0.00,2,     2.45,2, -999.000,9, -999.000,9, -999.000,9,-999.0000,9,  -999.00,9,   -999.0,9,-999.000,9,   -999.0,9,   -999,  -999.0,-999.000,-999.0000,-999.000,  4409.0,-999.000,  1.1550,-999.000
    49RY9407_2,   P09,    76,  1,      0,      0,2,19940810,0708,  4.8195, 139.1803, 4395,      0.0,  29.4152,  33.5541,2,-999.0000,9,   -999.0,9,    197.8,6,     1.56,2,     0.00,2,     0.00,2,     0.00,2, -999.000,9, -999.000,9, -999.000,9,-999.0000,9,  -999.00,9,   -999.0,9,-999.000,9,   -999.0,9,   -999,  -999.0,-999.000,-999.0000,-999.000,  -999.0,-999.000, 29.4154,-999.000
    49RY9407_2,   P09,    76,  1,     19,    210,2,19940810,0708,  4.8195, 139.1803, 4395,     10.1,  29.2534,  33.7446,2,  33.7371,2,   -999.0,9,    199.7,2,     1.41,2,     0.02,2,     0.00,2,     0.00,2, -999.000,9, -999.000,9, -999.000,9,-999.0000,9,  -999.00,9,   -999.0,9,-999.000,9,   -999.0,9,   -999,  -999.0,-999.000,-999.0000,-999.000,  -999.0,-999.000, 29.2510,-999.000
    49RY9407_2,   P09,    76,  1,     18,    221,2,19940810,0708,  4.8195, 139.1803, 4395,     24.7,  28.7986,  33.7299,2,  33.7357,2,   -999.0,9,    199.0,2,     1.45,6,     0.05,6,     0.00,6,     0.00,6, -999.000,9, -999.000,9, -999.000,9,-999.0000,9,  -999.00,9,   -999.0,9,-999.000,9,   -999.0,9,   -999,  -999.0,-999.000,-999.0000,-999.000,    28.0,-999.000, 28.7927,-999.000
    49RY9407_2,   P09,    76,  1,     17,    219,2,19940810,0708,  4.8195, 139.1803, 4395,     50.4,  28.5244,  33.7151,2,  33.7251,2,   -999.0,9,    200.5,2,     1.46,2,     0.00,2,     0.00,2,     0.01,2, -999.000,9, -999.000,9, -999.000,9,-999.0000,9,  -999.00,9,   -999.0,9,-999.000,9,   -999.0,9,   -999,  -999.0,-999.000,-999.0000,-999.000,  -999.0,-999.000, 28.5124,-999.000
    49RY9407_2,   P09,    76,  1,     16,    229,2,19940810,0708,  4.8195, 139.1803, 4395,     75.4,  26.3207,  34.4272,2,  34.4628,2,   -999.0,9,    203.6,2,     1.86,2,     0.02,2,     0.00,2,     0.07,2, -999.000,9, -999.000,9, -999.000,9,-999.0000,9,  -999.00,9,   -999.0,9,-999.000,9,   -999.0,9,   -999,  -999.0,  26.300,-999.0000,-999.000,    69.0,-999.000, 26.3037,-999.000
    49RY9407_2,   P09,    76,  1,     15,    217,2,19940810,0708,  4.8195, 139.1803, 4395,    100.4,  19.9842,  34.8008,2,  34.8160,2,   -999.0,9,    172.3,2,     5.20,2,     4.61,2,     0.17,2,     0.43,2, -999.000,9, -999.000,9, -999.000,9,-999.0000,9,  -999.00,9,   -999.0,9,-999.000,9,   -999.0,9,   -999,  -999.0,-999.000,-999.0000,-999.000,  -999.0,-999.000, 19.9657,-999.000
    49RY9407_2,   P09,    76,  1,     14,    204,2,19940810,0708,  4.8195, 139.1803, 4395,    125.8,  15.1933,  34.6250,2,  34.6300,2,   -999.0,9,    139.2,2,    14.09,2,    14.80,2,     0.02,2,     1.05,2, -999.000,9, -999.000,9, -999.000,9,-999.0000,9,  -999.00,9,   -999.0,9,-999.000,9,   -999.0,9,   -999,  -999.0,  15.194,-999.0000,-999.000,   126.0,-999.000, 15.1742,-999.000
    49RY9407_2,   P09,    76,  1,     13,    214,2,19940810,0708,  4.8195, 139.1803, 4395,    151.1,  12.1296,  34.4925,2,  34.4896,2,   -999.0,9,    120.7,6,    24.11,2,    21.69,2,     0.00,2,     1.51,2, -999.000,9, -999.000,9, -999.000,9,-999.0000,9,  -999.00,9,   -999.0,9,-999.000,9,   -999.0,9,   -999,  -999.0,-999.000,-999.0000,-999.000,   154.0,-999.000, 12.1099,-999.000
    49RY9407_2,   P09,    76,  1,     12,    213,2,19940810,0708,  4.8195, 139.1803, 4395,    199.9,  10.5602,  34.5388,2,  34.5318,2,   -999.0,9,     94.2,2,    32.35,6,    27.51,6,     0.00,6,     1.89,6, -999.000,9, -999.000,9, -999.000,9,-999.0000,9,  -999.00,9,   -999.0,9,-999.000,9,   -999.0,9,   -999,  -999.0,-999.000,-999.0000,-999.000,   201.0,-999.000, 10.5363,-999.000