BOTTLE,20020306WHPSIOdm
EXPOCODE,SECT_ID,STNNBR,CASTNO,SAMPNO,BTLNBR,BTLNBR_FLAG_W,DATE,TIME,LATITUDE,LONGITUDE,DEPTH,CTDPRS,CTDTMP,CTDSAL,CTDSAL_FLAG_W,SALNTY,SALNTY_FLAG_W,CTDOXY,CTDOXY_FLAG_W,OXYGEN,OXYGEN_FLAG_W,SILCAT,SILCAT_FLAG_W,NITRAT,NITRAT_FLAG_W,NITRIT,NITRIT_FLAG_W,PHSPHT,PHSPHT_FLAG_W,CFC-11,CFC-11_FLAG_W,CFC-12,CFC-12_FLAG_W,TRITUM,TRITUM_FLAG_W,HELIUM,HELIUM_FLAG_W,DELHE3,DELHE3_FLAG_W,DELC14,DELC14_FLAG_W,NEON,NEON_FLAG_W,TCARBN,TCARBN_FLAG_W,CTDRAW,C14ERR,REVTMP,HELIER,DELHER,REVPRS,NEONER,THETA,TRITER
,,,,,,,,,,,,DBAR,ITS-90,PSS-78,,PSS-78,,UMOL/KG,,UMOL/KG,,UMOL/KG,,UMOL/KG,,UMOL/KG,,UMOL/KG,,PMOL/KG,,PMOL/KG,,TU,,NMOL/KG,,PERCNT,,/MILLE,,NMOL/KG,,UMOL/KG,,,/MILLE,ITS-90,NMOL/KG,PERCNT,DBAR,NMOL/KG,DEG C,TU
    49RY9407_2,   P09,    87,  1,      0,      0,2,19940812,2128,  1.5073, 142.0338, 2835,      0.4,  28.8629,  33.9427,2,-999.0000,9,   -999.0,9,    197.8,2,     1.53,6,     0.06,6,     0.00,6,     0.05,6, -999.000,9, -999.000,9, -999.000,9,-999.0000,9,  -999.00,9,   -999.0,9,-999.000,9,   -999.0,9,   -999,  -999.0,-999.000,-999.0000,-999.000,  -999.0,-999.000, 28.8628,-999.000
    49RY9407_2,   P09,    87,  1,     11,    225,2,19940812,2128,  1.5073, 142.0338, 2835,     26.2,  28.7357,  34.1346,2,  34.1155,2,   -999.0,9,    198.0,2,     1.37,2,     0.01,2,     0.00,2,     0.05,2, -999.000,9, -999.000,9, -999.000,9,-999.0000,9,  -999.00,9,   -999.0,9,-999.000,9,   -999.0,9,   -999,  -999.0,-999.000,-999.0000,-999.000,  -999.0,-999.000, 28.7294,-999.000
    49RY9407_2,   P09,    87,  1,     10,    224,2,19940812,2128,  1.5073, 142.0338, 2835,     49.2,  28.5695,  34.5386,2,  34.5401,2,   -999.0,9,    192.7,2,     1.28,2,     0.05,2,     0.02,2,     0.14,2, -999.000,9, -999.000,9, -999.000,9,-999.0000,9,  -999.00,9,   -999.0,9,-999.000,9,   -999.0,9,   -999,  -999.0,-999.000,-999.0000,-999.000,  -999.0,-999.000, 28.5578,-999.000
    49RY9407_2,   P09,    87,  1,      9,    223,2,19940812,2128,  1.5073, 142.0338, 2835,     75.6,  28.4580,  34.8676,2,  34.8692,2,   -999.0,9,    182.4,2,     1.63,2,     0.92,2,     0.24,2,     0.26,2, -999.000,9, -999.000,9, -999.000,9,-999.0000,9,  -999.00,9,   -999.0,9,-999.000,9,   -999.0,9,   -999,  -999.0,-999.000,-999.0000,-999.000,  -999.0,-999.000, 28.4400,-999.000
    49RY9407_2,   P09,    87,  1,      8,    212,2,19940812,2128,  1.5073, 142.0338, 2835,    101.9,  27.2979,  35.1000,2,  35.1104,2,   -999.0,9,    161.0,6,     2.38,2,     4.26,2,     0.38,2,     0.47,2, -999.000,9, -999.000,9, -999.000,9,-999.0000,9,  -999.00,9,   -999.0,9,-999.000,9,   -999.0,9,   -999,  -999.0,-999.000,-999.0000,-999.000,  -999.0,-999.000, 27.2744,-999.000
    49RY9407_2,   P09,    87,  1,      7,    220,2,19940812,2128,  1.5073, 142.0338, 2835,    125.0,  24.2685,  35.0032,2,  34.9827,2,   -999.0,9,    139.1,2,     4.02,2,     7.20,2,     0.04,2,     0.57,2, -999.000,9, -999.000,9, -999.000,9,-999.0000,9,  -999.00,9,   -999.0,9,-999.000,9,   -999.0,9,   -999,  -999.0,-999.000,-999.0000,-999.000,  -999.0,-999.000, 24.2420,-999.000
    49RY9407_2,   P09,    87,  1,      6,    209,2,19940812,2128,  1.5073, 142.0338, 2835,    151.5,  20.4155,  35.1737,2,  35.1735,2,   -999.0,9,    139.7,2,     6.40,6,    10.26,6,     0.01,6,     0.75,6, -999.000,9, -999.000,9, -999.000,9,-999.0000,9,  -999.00,9,   -999.0,9,-999.000,9,   -999.0,9,   -999,  -999.0,-999.000,-999.0000,-999.000,  -999.0,-999.000, 20.3871,-999.000
    49RY9407_2,   P09,    87,  1,      5,    218,2,19940812,2128,  1.5073, 142.0338, 2835,    200.9,  16.4423,  35.0709,2,  35.0723,2,   -999.0,9,    137.1,2,    10.88,2,    14.56,2,     0.00,2,     1.05,2, -999.000,9, -999.000,9, -999.000,9,-999.0000,9,  -999.00,9,   -999.0,9,-999.000,9,   -999.0,9,   -999,  -999.0,-999.000,-999.0000,-999.000,  -999.0,-999.000, 16.4099,-999.000
    49RY9407_2,   P09,    87,  1,      4,    206,2,19940812,2128,  1.5073, 142.0338, 2835,    302.9,  11.0566,  34.8364,2,  34.8097,2,   -999.0,9,    142.1,2,    18.03,2,    22.71,2,     0.00,2,     1.55,2, -999.000,9, -999.000,9, -999.000,9,-999.0000,9,  -999.00,9,   -999.0,9,-999.000,9,   -999.0,9,   -999,  -999.0,-999.000,-999.0000,-999.000,  -999.0,-999.000, 11.0190,-999.000
    49RY9407_2,   P09,    87,  1,      3,    205,2,19940812,2128,  1.5073, 142.0338, 2835,    404.7,   8.5122,  34.5692,2,  34.5596,2,   -999.0,9,    105.3,2,    39.53,2,    30.56,2,     0.00,2,     2.10,2, -999.000,9, -999.000,9, -999.000,9,-999.0000,9,  -999.00,9,   -999.0,9,-999.000,9,   -999.0,9,   -999,  -999.0,-999.000,-999.0000,-999.000,  -999.0,-999.000,  8.4694,-999.000
    49RY9407_2,   P09,    87,  1,      2,    216,2,19940812,2128,  1.5073, 142.0338, 2835,    504.5,   7.7304,  34.5746,2,  34.5785,2,   -999.0,9,    128.8,2,    34.74,2,    30.15,2,     0.00,2,     2.05,2, -999.000,9, -999.000,9, -999.000,9,-999.0000,9,  -999.00,9,   -999.0,9,-999.000,9,   -999.0,9,   -999,  -999.0,-999.000,-999.0000,-999.000,  -999.0,-999.000,  7.6797,-999.000
    49RY9407_2,   P09,    87,  1,      1,    201,2,19940812,2128,  1.5073, 142.0338, 2835,    605.7,   6.4093,  34.5407,2,  34.5405,2,   -999.0,9,    112.5,6,    47.05,2,    34.61,2,     0.00,2,     2.37,2, -999.000,9, -999.000,9, -999.000,9,-999.0000,9,  -999.00,9,   -999.0,9,-999.000,9,   -999.0,9,   -999,  -999.0,-999.000,-999.0000,-999.000,  -999.0,-999.000,  6.3540,-999.000
    49RY9407_2,   P09,    87,  1,     24,    222,2,19940812,2128,  1.5073, 142.0338, 2835,    706.1,   5.9608,  34.5327,2,  34.5328,2,   -999.0,9,    111.4,2,    53.34,6,    35.48,6,     0.00,6,     2.44,6, -999.000,9, -999.000,9, -999.000,9,-999.0000,9,  -999.00,9,   -999.0,9,-999.000,9,   -999.0,9,   -999,  -999.0,-999.000,-999.0000,-999.000,  -999.0,-999.000,  5.8983,-999.000
    49RY9407_2,   P09,    87,  1,     23,    228,2,19940812,2128,  1.5073, 142.0338, 2835,    807.7,   5.6806,  34.5320,2,  34.5324,2,   -999.0,9,    109.8,2,    58.72,2,    36.01,2,     0.00,2,     2.47,2, -999.000,9, -999.000,9, -999.000,9,-999.0000,9,  -999.00,9,   -999.0,9,-999.000,9,   -999.0,9,   -999,  -999.0,-999.000,-999.0000,-999.000,  -999.0,-999.000,  5.6102,-999.000
    49RY9407_2,   P09,    87,  1,     22,    227,2,19940812,2128,  1.5073, 142.0338, 2835,    908.5,   4.8671,  34.5433,2,  34.5434,2,   -999.0,9,    103.9,2,    76.34,2,    37.45,2,     0.00,2,     2.60,2, -999.000,9, -999.000,9, -999.000,9,-999.0000,9,  -999.00,9,   -999.0,9,-999.000,9,   -999.0,9,   -999,  -999.0,-999.000,-999.0000,-999.000,  -999.0,-999.000,  4.7929,-999.000
    49RY9407_2,   P09,    87,  1,     21,    226,2,19940812,2128,  1.5073, 142.0338, 2835,   1009.7,   4.2206,  34.5614,2,  34.5619,2,   -999.0,9,     98.4,2,    93.27,2,    38.36,2,     0.00,2,     2.69,2, -999.000,9, -999.000,9, -999.000,9,-999.0000,9,  -999.00,9,   -999.0,9,-999.000,9,   -999.0,9,   -999,  -999.0,-999.000,-999.0000,-999.000,  -999.0,-999.000,  4.1423,-999.000
    49RY9407_2,   P09,    87,  1,     19,    215,2,19940812,2128,  1.5073, 142.0338, 2835,   1262.7,   3.4704,  34.5818,2,  34.5826,2,   -999.0,9,    100.7,2,   106.94,2,    39.00,2,     0.00,2,     2.73,2, -999.000,9, -999.000,9, -999.000,9,-999.0000,9,  -999.00,9,   -999.0,9,-999.000,9,   -999.0,9,   -999,  -999.0,-999.000,-999.0000,-999.000,  -999.0,-999.000,  3.3774,-999.000
    49RY9407_2,   P09,    87,  1,     20,    203,4,19940812,2128,  1.5073, 142.0338, 2835,   1262.7,   3.4704,  34.5818,2,  34.5832,2,   -999.0,9,    100.7,2,   106.77,2,    38.92,2,     0.00,2,     2.72,2, -999.000,9, -999.000,9, -999.000,9,-999.0000,9,  -999.00,9,   -999.0,9,-999.000,9,   -999.0,9,   -999,  -999.0,-999.000,-999.0000,-999.000,  1266.0,-999.000,  3.3774,-999.000
    49RY9407_2,   P09,    87,  1,     18,    221,2,19940812,2128,  1.5073, 142.0338, 2835,   1514.8,   2.7950,  34.6073,2,  34.6086,2,   -999.0,9,    109.3,6,   121.67,6,    38.69,6,     0.00,6,     2.70,6, -999.000,9, -999.000,9, -999.000,9,-999.0000,9,  -999.00,9,   -999.0,9,-999.000,9,   -999.0,9,   -999,  -999.0,-999.000,-999.0000,-999.000,  1518.0,-999.000,  2.6882,-999.000
    49RY9407_2,   P09,    87,  1,     17,    219,2,19940812,2128,  1.5073, 142.0338, 2835,   1768.2,   2.5663,  34.6185,2,  34.6198,2,   -999.0,9,    112.3,2,   126.74,2,    38.56,2,     0.00,2,     2.70,2, -999.000,9, -999.000,9, -999.000,9,-999.0000,9,  -999.00,9,   -999.0,9,-999.000,9,   -999.0,9,   -999,  -999.0,-999.000,-999.0000,-999.000,  -999.0,-999.000,  2.4413,-999.000
    49RY9407_2,   P09,    87,  1,     16,    229,2,19940812,2128,  1.5073, 142.0338, 2835,   2022.6,   2.1698,  34.6377,2,  34.6389,2,   -999.0,9,    120.4,2,   135.19,2,    38.27,2,     0.00,2,     2.66,2, -999.000,9, -999.000,9, -999.000,9,-999.0000,9,  -999.00,9,   -999.0,9,-999.000,9,   -999.0,9,   -999,  -999.0,   2.164,-999.0000,-999.000,  2019.0,-999.000,  2.0288,-999.000
    49RY9407_2,   P09,    87,  1,     15,    217,2,19940812,2128,  1.5073, 142.0338, 2835,   2275.0,   1.9668,  34.6491,2,  34.6495,2,   -999.0,9,    123.8,2,   139.73,2,    38.13,2,     0.00,2,     2.64,2, -999.000,9, -999.000,9, -999.000,9,-999.0000,9,  -999.00,9,   -999.0,9,-999.000,9,   -999.0,9,   -999,  -999.0,-999.000,-999.0000,-999.000,  -999.0,-999.000,  1.8073,-999.000
    49RY9407_2,   P09,    87,  1,     14,    204,2,19940812,2128,  1.5073, 142.0338, 2835,   2529.7,   1.7767,  34.6585,2,  34.6593,2,   -999.0,9,    133.7,2,   141.10,2,    37.58,2,     0.00,2,     2.58,2, -999.000,9, -999.000,9, -999.000,9,-999.0000,9,  -999.00,9,   -999.0,9,-999.000,9,   -999.0,9,   -999,  -999.0,   1.774,-999.0000,-999.000,  2522.0,-999.000,  1.5979,-999.000
    49RY9407_2,   P09,    87,  1,     13,    214,2,19940812,2128,  1.5073, 142.0338, 2835,   2847.1,   1.6466,  34.6681,2,  34.6676,2,   -999.0,9,    139.5,2,   141.43,2,    37.05,2,     0.00,2,     2.55,2, -999.000,9, -999.000,9, -999.000,9,-999.0000,9,  -999.00,9,   -999.0,9,-999.000,9,   -999.0,9,   -999,  -999.0,-999.000,-999.0000,-999.000,  2826.0,-999.000,  1.4412,-999.000
    49RY9407_2,   P09,    87,  1,     12,    213,2,19940812,2128,  1.5073, 142.0338, 2835,   2853.9,   1.6457,  34.6684,2,  34.6683,6,   -999.0,9,    139.7,2,   142.41,2,    37.10,2,     0.00,2,     2.56,2, -999.000,9, -999.000,9, -999.000,9,-999.0000,9,  -999.00,9,   -999.0,9,-999.000,9,   -999.0,9,   -999,  -999.0,-999.000,-999.0000,-999.000,  2841.0,-999.000,  1.4397,-999.000
    49RY9407_2,   P09,    88,  1,      0,      0,2,19940813,0103,  1.2533, 142.0025, 2940,      0.0,  29.2319,  33.9321,2,-999.0000,9,   -999.0,9,    197.1,2,     1.35,2,     0.02,2,     0.00,2,     0.03,2, -999.000,9, -999.000,9, -999.000,9,-999.0000,9,  -999.00,9,   -999.0,9,-999.000,9,   -999.0,9,   -999,  -999.0,-999.000,-999.0000,-999.000,  -999.0,-999.000, 29.2320,-999.000
    49RY9407_2,   P09,    88,  1,     19,    215,2,19940813,0103,  1.2533, 142.0025, 2940,     10.6,  29.2239,  34.0315,2,  34.0296,2,   -999.0,9,    196.7,2,     1.36,2,     0.00,2,     0.00,2,     0.03,2, -999.000,9, -999.000,9, -999.000,9,-999.0000,9,  -999.00,9,   -999.0,9,-999.000,9,   -999.0,9,   -999,  -999.0,-999.000,-999.0000,-999.000,  -999.0,-999.000, 29.2213,-999.000
    49RY9407_2,   P09,    88,  1,     18,    221,2,19940813,0103,  1.2533, 142.0025, 2940,     26.3,  29.2173,  34.0372,2,  34.0378,2,   -999.0,9,    197.2,2,     1.30,2,     0.00,2,     0.00,2,     0.03,2, -999.000,9, -999.000,9, -999.000,9,-999.0000,9,  -999.00,9,   -999.0,9,-999.000,9,   -999.0,9,   -999,  -999.0,-999.000,-999.0000,-999.000,    29.0,-999.000, 29.2109,-999.000
    49RY9407_2,   P09,    88,  1,     17,    219,2,19940813,0103,  1.2533, 142.0025, 2940,     51.0,  28.6654,  34.2234,2,  34.2216,2,   -999.0,9,    198.5,6,     1.24,2,     0.00,2,     0.00,2,     0.05,2, -999.000,9, -999.000,9, -999.000,9,-999.0000,9,  -999.00,9,   -999.0,9,-999.000,9,   -999.0,9,   -999,  -999.0,-999.000,-999.0000,-999.000,  -999.0,-999.000, 28.6532,-999.000
    49RY9407_2,   P09,    88,  1,     15,    217,4,19940813,0103,  1.2533, 142.0025, 2940,     76.5,  28.5781,  34.7087,2,  34.7162,2,   -999.0,9,    186.1,2,     1.38,6,     0.59,6,     0.19,6,     0.20,6, -999.000,9, -999.000,9, -999.000,9,-999.0000,9,  -999.00,9,   -999.0,9,-999.000,9,   -999.0,9,   -999,  -999.0,-999.000,-999.0000,-999.000,  -999.0,-999.000, 28.5598,-999.000
    49RY9407_2,   P09,    88,  1,     16,    229,2,19940813,0103,  1.2533, 142.0025, 2940,     76.5,  28.5781,  34.7087,2,  34.7069,2,   -999.0,9,    186.6,2,     1.38,2,     0.55,2,     0.18,2,     0.21,2, -999.000,9, -999.000,9, -999.000,9,-999.0000,9,  -999.00,9,   -999.0,9,-999.000,9,   -999.0,9,   -999,  -999.0,  28.370,-999.0000,-999.000,    74.0,-999.000, 28.5598,-999.000
    49RY9407_2,   P09,    88,  1,     14,    204,2,19940813,0103,  1.2533, 142.0025, 2940,    125.1,  24.0295,  35.0513,2,  35.0022,2,   -999.0,9,    138.6,2,     3.95,2,     7.39,2,     0.06,2,     0.57,2, -999.000,9, -999.000,9, -999.000,9,-999.0000,9,  -999.00,9,   -999.0,9,-999.000,9,   -999.0,9,   -999,  -999.0,  24.590,-999.0000,-999.000,   124.0,-999.000, 24.0032,-999.000
    49RY9407_2,   P09,    88,  1,     13,    214,2,19940813,0103,  1.2533, 142.0025, 2940,    150.7,  21.3044,  35.0508,2,  35.0526,2,   -999.0,9,    137.7,2,     6.41,2,     9.75,2,     0.02,2,     0.66,2, -999.000,9, -999.000,9, -999.000,9,-999.0000,9,  -999.00,9,   -999.0,9,-999.000,9,   -999.0,9,   -999,  -999.0,-999.000,-999.0000,-999.000,  -999.0,-999.000, 21.2753,-999.000
    49RY9407_2,   P09,    88,  1,     12,    213,2,19940813,0103,  1.2533, 142.0025, 2940,    205.7,  16.3684,  35.0642,2,  35.0623,6,   -999.0,9,    137.2,2,    11.12,2,    14.56,2,     0.01,2,     1.05,2, -999.000,9, -999.000,9, -999.000,9,-999.0000,9,  -999.00,9,   -999.0,9,-999.000,9,   -999.0,9,   -999,  -999.0,-999.000,-999.0000,-999.000,   210.0,-999.000, 16.3353,-999.000