BOTTLE,20020306WHPSIOdm
EXPOCODE,SECT_ID,STNNBR,CASTNO,SAMPNO,BTLNBR,BTLNBR_FLAG_W,DATE,TIME,LATITUDE,LONGITUDE,DEPTH,CTDPRS,CTDTMP,CTDSAL,CTDSAL_FLAG_W,SALNTY,SALNTY_FLAG_W,CTDOXY,CTDOXY_FLAG_W,OXYGEN,OXYGEN_FLAG_W,SILCAT,SILCAT_FLAG_W,NITRAT,NITRAT_FLAG_W,NITRIT,NITRIT_FLAG_W,PHSPHT,PHSPHT_FLAG_W,CFC-11,CFC-11_FLAG_W,CFC-12,CFC-12_FLAG_W,TRITUM,TRITUM_FLAG_W,HELIUM,HELIUM_FLAG_W,DELHE3,DELHE3_FLAG_W,DELC14,DELC14_FLAG_W,NEON,NEON_FLAG_W,TCARBN,TCARBN_FLAG_W,CTDRAW,C14ERR,REVTMP,HELIER,DELHER,REVPRS,NEONER,THETA,TRITER
,,,,,,,,,,,,DBAR,ITS-90,PSS-78,,PSS-78,,UMOL/KG,,UMOL/KG,,UMOL/KG,,UMOL/KG,,UMOL/KG,,UMOL/KG,,PMOL/KG,,PMOL/KG,,TU,,NMOL/KG,,PERCNT,,/MILLE,,NMOL/KG,,UMOL/KG,,,/MILLE,ITS-90,NMOL/KG,PERCNT,DBAR,NMOL/KG,DEG C,TU
    49RY9407_2,   P09,    92,  4,     11,    225,2,19940818,1644,  0.2438, 142.0038, 3395,    151.6,  19.8605,  35.2574,2,  35.2542,2,   -999.0,9,    138.6,2,     6.22,2,    10.71,2,     0.01,2,  -999.00,5, -999.000,9, -999.000,9, -999.000,9,-999.0000,9,  -999.00,9,   -999.0,9,-999.000,9,   -999.0,9,   -999,  -999.0,-999.000,-999.0000,-999.000,  -999.0,-999.000, 19.8325,-999.000
    49RY9407_2,   P09,    92,  4,     10,    224,2,19940818,1644,  0.2438, 142.0038, 3395,    201.1,  16.9869,  35.2028,2,  35.1942,2,   -999.0,9,    137.6,2,     9.16,2,    13.92,2,     0.01,2,  -999.00,5, -999.000,9, -999.000,9, -999.000,9,-999.0000,9,  -999.00,9,   -999.0,9,-999.000,9,   -999.0,9,   -999,  -999.0,-999.000,-999.0000,-999.000,  -999.0,-999.000, 16.9537,-999.000
    49RY9407_2,   P09,    92,  4,      9,    223,2,19940818,1644,  0.2438, 142.0038, 3395,    503.4,   7.6119,  34.5676,2,  34.5692,2,   -999.0,9,    125.5,2,    36.56,2,    30.51,2,     0.00,2,  -999.00,5, -999.000,9, -999.000,9, -999.000,9,-999.0000,9,  -999.00,9,   -999.0,9,-999.000,9,   -999.0,9,   -999,  -999.0,-999.000,-999.0000,-999.000,  -999.0,-999.000,  7.5617,-999.000
    49RY9407_2,   P09,    92,  4,      8,    212,2,19940818,1644,  0.2438, 142.0038, 3395,    604.3,   6.6383,  34.5335,2,  34.5360,2,   -999.0,9,    135.1,2,    39.90,2,    31.80,2,     0.00,2,  -999.00,5, -999.000,9, -999.000,9, -999.000,9,-999.0000,9,  -999.00,9,   -999.0,9,-999.000,9,   -999.0,9,   -999,  -999.0,-999.000,-999.0000,-999.000,  -999.0,-999.000,  6.5821,-999.000
    49RY9407_2,   P09,    92,  4,      7,    220,2,19940818,1644,  0.2438, 142.0038, 3395,    704.5,   5.9230,  34.5309,2,  34.5328,2,   -999.0,9,    110.9,6,    54.05,2,    35.34,2,     0.00,2,  -999.00,5, -999.000,9, -999.000,9, -999.000,9,-999.0000,9,  -999.00,9,   -999.0,9,-999.000,9,   -999.0,9,   -999,  -999.0,-999.000,-999.0000,-999.000,  -999.0,-999.000,  5.8609,-999.000
    49RY9407_2,   P09,    92,  4,      6,    209,2,19940818,1644,  0.2438, 142.0038, 3395,    704.8,   5.9218,  34.5301,2,  34.5330,2,   -999.0,9,    111.1,6,    54.00,2,    35.36,2,     0.00,2,  -999.00,5, -999.000,9, -999.000,9, -999.000,9,-999.0000,9,  -999.00,9,   -999.0,9,-999.000,9,   -999.0,9,   -999,  -999.0,-999.000,-999.0000,-999.000,  -999.0,-999.000,  5.8596,-999.000
    49RY9407_2,   P09,    92,  4,      5,    218,2,19940818,1644,  0.2438, 142.0038, 3395,    805.2,   5.3940,  34.5381,2,  34.5377,2,   -999.0,9,     98.6,2,    65.10,2,    37.42,2,     0.00,2,  -999.00,5, -999.000,9, -999.000,9, -999.000,9,-999.0000,9,  -999.00,9,   -999.0,9,-999.000,9,   -999.0,9,   -999,  -999.0,-999.000,-999.0000,-999.000,  -999.0,-999.000,  5.3256,-999.000
    49RY9407_2,   P09,    92,  4,      4,    206,2,19940818,1644,  0.2438, 142.0038, 3395,    906.8,   4.8469,  34.5395,2,  34.5387,2,   -999.0,9,    104.5,2,    74.06,2,    37.34,2,     0.00,2,     2.64,2, -999.000,9, -999.000,9, -999.000,9,-999.0000,9,  -999.00,9,   -999.0,9,-999.000,9,   -999.0,9,   -999,  -999.0,-999.000,-999.0000,-999.000,  -999.0,-999.000,  4.7730,-999.000
    49RY9407_2,   P09,    92,  4,      3,    205,2,19940818,1644,  0.2438, 142.0038, 3395,   1006.3,   4.4983,  34.5523,2,  34.5521,2,   -999.0,9,     98.8,6,    84.50,6,    38.00,6,     0.00,6,     2.69,4, -999.000,9, -999.000,9, -999.000,9,-999.0000,9,  -999.00,9,   -999.0,9,-999.000,9,   -999.0,9,   -999,  -999.0,-999.000,-999.0000,-999.000,  -999.0,-999.000,  4.4182,-999.000
    49RY9407_2,   P09,    92,  4,      2,    216,2,19940818,1644,  0.2438, 142.0038, 3395,   1006.9,   4.4985,  34.5521,2,  34.5521,2,   -999.0,9,     98.8,6,    84.80,6,    38.03,6,     0.00,6,  -999.00,5, -999.000,9, -999.000,9, -999.000,9,-999.0000,9,  -999.00,9,   -999.0,9,-999.000,9,   -999.0,9,   -999,  -999.0,-999.000,-999.0000,-999.000,  -999.0,-999.000,  4.4183,-999.000
    49RY9407_2,   P09,    92,  4,      1,    201,2,19940818,1644,  0.2438, 142.0038, 3395,   1260.9,   3.5652,  34.5785,2,  34.5777,2,   -999.0,9,    102.0,2,   103.63,6,    38.76,6,     0.00,6,     2.71,4, -999.000,9, -999.000,9, -999.000,9,-999.0000,9,  -999.00,9,   -999.0,9,-999.000,9,   -999.0,9,   -999,  -999.0,-999.000,-999.0000,-999.000,  -999.0,-999.000,  3.4714,-999.000
    49RY9407_2,   P09,    92,  4,     24,    222,2,19940818,1644,  0.2438, 142.0038, 3395,   1513.8,   2.8744,  34.6040,2,  34.6042,2,   -999.0,9,    110.9,2,   118.26,2,    38.51,2,     0.00,2,  -999.00,5, -999.000,9, -999.000,9, -999.000,9,-999.0000,9,  -999.00,9,   -999.0,9,-999.000,9,   -999.0,9,   -999,  -999.0,-999.000,-999.0000,-999.000,  -999.0,-999.000,  2.7668,-999.000
    49RY9407_2,   P09,    92,  4,     23,    228,2,19940818,1644,  0.2438, 142.0038, 3395,   1767.3,   2.4855,  34.6217,2,  34.6225,2,   -999.0,9,    113.4,2,   128.34,2,    38.49,2,     0.00,2,  -999.00,5, -999.000,9, -999.000,9, -999.000,9,-999.0000,9,  -999.00,9,   -999.0,9,-999.000,9,   -999.0,9,   -999,  -999.0,-999.000,-999.0000,-999.000,  -999.0,-999.000,  2.3617,-999.000
    49RY9407_2,   P09,    92,  4,     22,    227,2,19940818,1644,  0.2438, 142.0038, 3395,   2020.1,   2.1962,  34.6367,2,  34.6361,2,   -999.0,9,    119.5,2,   134.59,2,    38.25,2,     0.00,2,  -999.00,5, -999.000,9, -999.000,9, -999.000,9,-999.0000,9,  -999.00,9,   -999.0,9,-999.000,9,   -999.0,9,   -999,  -999.0,-999.000,-999.0000,-999.000,  -999.0,-999.000,  2.0551,-999.000
    49RY9407_2,   P09,    92,  4,     20,    203,2,19940818,1644,  0.2438, 142.0038, 3395,   2275.0,   1.9711,  34.6476,2,  34.6489,2,   -999.0,9,    133.8,3,   141.02,3,    37.37,3,     0.00,3,     2.60,3, -999.000,9, -999.000,9, -999.000,9,-999.0000,9,  -999.00,9,   -999.0,9,-999.000,9,   -999.0,9,   -999,  -999.0,-999.000,-999.0000,-999.000,  2525.0,-999.000,  1.8115,-999.000
    49RY9407_2,   P09,    92,  4,     21,    226,2,19940818,1644,  0.2438, 142.0038, 3395,   2275.0,   1.9711,  34.6476,2,  34.6483,2,   -999.0,9,    125.6,2,   138.62,2,    37.95,2,     0.00,2,     2.64,2, -999.000,9, -999.000,9, -999.000,9,-999.0000,9,  -999.00,9,   -999.0,9,-999.000,9,   -999.0,9,   -999,  -999.0,-999.000,-999.0000,-999.000,  -999.0,-999.000,  1.8115,-999.000
    49RY9407_2,   P09,    92,  4,     18,    221,2,19940818,1644,  0.2438, 142.0038, 3395,   2528.3,   1.7620,  34.6600,2,  34.6591,2,   -999.0,9,    134.1,2,   141.01,2,    37.37,2,     0.00,2,     2.60,2, -999.000,9, -999.000,9, -999.000,9,-999.0000,9,  -999.00,9,   -999.0,9,-999.000,9,   -999.0,9,   -999,  -999.0,-999.000,-999.0000,-999.000,  2527.0,-999.000,  1.5836,-999.000
    49RY9407_2,   P09,    92,  4,     19,    215,2,19940818,1644,  0.2438, 142.0038, 3395,   2528.8,   1.7641,  34.6592,2,-999.0000,9,   -999.0,9,   -999.0,9,  -999.00,9,  -999.00,9,  -999.00,9,  -999.00,9, -999.000,9, -999.000,9, -999.000,9,-999.0000,9,  -999.00,9,   -999.0,9,-999.000,9,   -999.0,9,   -999,  -999.0,-999.000,-999.0000,-999.000,  -999.0,-999.000,  1.5856,-999.000
    49RY9407_2,   P09,    92,  4,     17,    219,2,19940818,1644,  0.2438, 142.0038, 3395,   2784.1,   1.6409,  34.6669,2,  34.6672,2,   -999.0,9,    140.6,6,   141.86,6,    37.04,6,     0.00,6,     2.57,4, -999.000,9, -999.000,9, -999.000,9,-999.0000,9,  -999.00,9,   -999.0,9,-999.000,9,   -999.0,9,   -999,  -999.0,-999.000,-999.0000,-999.000,  -999.0,-999.000,  1.4414,-999.000
    49RY9407_2,   P09,    92,  4,     15,    217,2,19940818,1644,  0.2438, 142.0038, 3395,   3038.9,   1.5849,  34.6725,2,  34.6709,2,   -999.0,9,    144.2,2,   141.98,2,    36.79,2,     0.00,2,  -999.00,5, -999.000,9, -999.000,9, -999.000,9,-999.0000,9,  -999.00,9,   -999.0,9,-999.000,9,   -999.0,9,   -999,  -999.0,-999.000,-999.0000,-999.000,  -999.0,-999.000,  1.3625,-999.000
    49RY9407_2,   P09,    92,  4,     16,    229,2,19940818,1644,  0.2438, 142.0038, 3395,   3039.8,   1.5851,  34.6727,2,  34.6735,2,   -999.0,9,    144.8,6,   142.09,6,    36.73,6,     0.00,6,     2.55,2, -999.000,9, -999.000,9, -999.000,9,-999.0000,9,  -999.00,9,   -999.0,9,-999.000,9,   -999.0,9,   -999,  -999.0,   1.578,-999.0000,-999.000,  3040.0,-999.000,  1.3626,-999.000
    49RY9407_2,   P09,    92,  4,     14,    204,2,19940818,1644,  0.2438, 142.0038, 3395,   3295.1,   1.5854,  34.6745,2,  34.6727,2,   -999.0,9,    144.8,2,   142.48,2,    36.71,2,     0.00,2,  -999.00,5, -999.000,9, -999.000,9, -999.000,9,-999.0000,9,  -999.00,9,   -999.0,9,-999.000,9,   -999.0,9,   -999,  -999.0,   1.583,-999.0000,-999.000,  3293.0,-999.000,  1.3379,-999.000
    49RY9407_2,   P09,    92,  4,     13,    214,2,19940818,1644,  0.2438, 142.0038, 3395,   3295.6,   1.5852,  34.6742,2,  34.6729,2,   -999.0,9,    145.0,6,   142.47,2,    36.76,2,     0.00,2,  -999.00,5, -999.000,9, -999.000,9, -999.000,9,-999.0000,9,  -999.00,9,   -999.0,9,-999.000,9,   -999.0,9,   -999,  -999.0,-999.000,-999.0000,-999.000,  3285.0,-999.000,  1.3377,-999.000
    49RY9407_2,   P09,    92,  4,     12,    213,4,19940818,1644,  0.2438, 142.0038, 3395,   3433.3,   1.5885,  34.6757,2,  34.6751,6,   -999.0,9,    145.6,6,   142.31,2,    36.67,2,     0.00,2,  -999.00,5, -999.000,9, -999.000,9, -999.000,9,-999.0000,9,  -999.00,9,   -999.0,9,-999.000,9,   -999.0,9,   -999,  -999.0,-999.000,-999.0000,-999.000,  3429.0,-999.000,  1.3270,-999.000
    49RY9407_2,   P09,    93,  1,      0,      0,2,19940814,0336, -0.0002, 141.9968, 3370,      0.0,  29.3370,  33.4889,2,-999.0000,9,   -999.0,9,    199.9,2,     1.21,2,     0.02,2,     0.00,2,     0.04,2, -999.000,9, -999.000,9, -999.000,9,-999.0000,9,  -999.00,9,     92.6,3,-999.000,9,   1886.5,2,   -999,     8.4,-999.000,-999.0000,-999.000,  -999.0,-999.000, 29.3372,-999.000
    49RY9407_2,   P09,    93,  1,     19,    215,2,19940814,0336, -0.0002, 141.9968, 3370,      9.4,  28.8860,  33.9027,2,  33.9025,2,   -999.0,9,    197.8,2,     1.24,6,     0.02,6,     0.00,6,     0.03,6, -999.000,9, -999.000,9, -999.000,9,-999.0000,9,  -999.00,9,     56.6,3,-999.000,9,   1884.6,2,   -999,    10.9,-999.000,-999.0000,-999.000,  -999.0,-999.000, 28.8838,-999.000
    49RY9407_2,   P09,    93,  1,     18,    221,2,19940814,0336, -0.0002, 141.9968, 3370,     25.2,  28.8705,  33.9291,2,  33.9303,2,   -999.0,9,    198.0,2,     1.13,2,     0.00,2,     0.00,2,     0.03,2, -999.000,9, -999.000,9, -999.000,9,-999.0000,9,  -999.00,9,     66.5,3,-999.000,9,   1887.0,2,   -999,    12.0,-999.000,-999.0000,-999.000,    28.0,-999.000, 28.8645,-999.000
    49RY9407_2,   P09,    93,  1,     17,    219,2,19940814,0336, -0.0002, 141.9968, 3370,     50.6,  28.9940,  34.1120,2,  34.1120,2,   -999.0,9,    198.6,2,     1.13,2,     0.03,2,     0.00,2,     0.04,2, -999.000,9, -999.000,9, -999.000,9,-999.0000,9,  -999.00,9,     93.5,3,-999.000,9,   1899.4,6,   -999,     8.7,-999.000,-999.0000,-999.000,  -999.0,-999.000, 28.9818,-999.000
    49RY9407_2,   P09,    93,  1,     16,    229,2,19940814,0336, -0.0002, 141.9968, 3370,     75.1,  28.3238,  34.6336,2,  34.5377,2,   -999.0,9,    191.8,2,     1.36,2,     0.19,2,     0.04,2,     0.15,2, -999.000,9, -999.000,9, -999.000,9,-999.0000,9,  -999.00,9,     82.8,3,-999.000,9,   1942.5,2,   -999,    10.5,  28.460,-999.0000,-999.000,    72.0,-999.000, 28.3060,-999.000
    49RY9407_2,   P09,    93,  1,     15,    217,2,19940814,0336, -0.0002, 141.9968, 3370,    100.5,  27.2526,  34.9916,2,  34.9809,2,   -999.0,9,    164.7,6,     2.12,6,     2.70,6,     0.55,6,     0.39,6, -999.000,9, -999.000,9, -999.000,9,-999.0000,9,  -999.00,9,     93.4,3,-999.000,9,   1993.4,2,   -999,     9.8,-999.000,-999.0000,-999.000,  -999.0,-999.000, 27.2294,-999.000
    49RY9407_2,   P09,    93,  1,     14,    204,2,19940814,0336, -0.0002, 141.9968, 3370,    125.9,  22.5892,  35.0913,2,  35.0936,2,   -999.0,9,    136.1,2,     4.94,2,     8.86,2,     0.03,2,     0.67,2, -999.000,9, -999.000,9, -999.000,9,-999.0000,9,  -999.00,9,     92.8,3,-999.000,9,   2048.5,2,   -999,    10.7,  22.640,-999.0000,-999.000,   126.0,-999.000, 22.5639,-999.000
    49RY9407_2,   P09,    93,  1,     13,    214,2,19940814,0336, -0.0002, 141.9968, 3370,    150.6,  21.7253,  35.3054,2,  35.3120,2,   -999.0,9,    140.0,2,     4.36,2,     8.87,2,     0.02,2,     0.69,2, -999.000,9, -999.000,9, -999.000,9,-999.0000,9,  -999.00,9,    111.4,3,-999.000,9,   2063.7,2,   -999,     9.7,-999.000,-999.0000,-999.000,   157.0,-999.000, 21.6958,-999.000
    49RY9407_2,   P09,    93,  1,     12,    213,2,19940814,0336, -0.0002, 141.9968, 3370,    201.0,  17.4508,  35.2341,2,  35.2195,2,   -999.0,9,    139.3,2,     8.14,6,    12.89,6,     0.01,6,     0.97,6, -999.000,9, -999.000,9, -999.000,9,-999.0000,9,  -999.00,9,     68.8,3,-999.000,9,   2104.9,2,   -999,    10.1,-999.000,-999.0000,-999.000,   204.0,-999.000, 17.4169,-999.000