BOTTLE,20020306WHPSIOdm
EXPOCODE,SECT_ID,STNNBR,CASTNO,SAMPNO,BTLNBR,BTLNBR_FLAG_W,DATE,TIME,LATITUDE,LONGITUDE,DEPTH,CTDPRS,CTDTMP,CTDSAL,CTDSAL_FLAG_W,SALNTY,SALNTY_FLAG_W,CTDOXY,CTDOXY_FLAG_W,OXYGEN,OXYGEN_FLAG_W,SILCAT,SILCAT_FLAG_W,NITRAT,NITRAT_FLAG_W,NITRIT,NITRIT_FLAG_W,PHSPHT,PHSPHT_FLAG_W,CFC-11,CFC-11_FLAG_W,CFC-12,CFC-12_FLAG_W,TRITUM,TRITUM_FLAG_W,HELIUM,HELIUM_FLAG_W,DELHE3,DELHE3_FLAG_W,DELC14,DELC14_FLAG_W,NEON,NEON_FLAG_W,TCARBN,TCARBN_FLAG_W,CTDRAW,C14ERR,REVTMP,HELIER,DELHER,REVPRS,NEONER,THETA,TRITER
,,,,,,,,,,,,DBAR,ITS-90,PSS-78,,PSS-78,,UMOL/KG,,UMOL/KG,,UMOL/KG,,UMOL/KG,,UMOL/KG,,UMOL/KG,,PMOL/KG,,PMOL/KG,,TU,,NMOL/KG,,PERCNT,,/MILLE,,NMOL/KG,,UMOL/KG,,,/MILLE,ITS-90,NMOL/KG,PERCNT,DBAR,NMOL/KG,DEG C,TU
    49RY9407_1,   P09,    32,  2,      7,    220,2,19940716,0420, 24.5037, 136.9855, 5465,    705.2,   6.1734,  34.1091,2,  34.1260,2,    111.6,2,    113.5,2,    67.65,2,    32.19,2,     0.00,2,     2.31,2, -999.000,9, -999.000,9, -999.000,9,-999.0000,9,  -999.00,9,   -999.0,9,-999.000,9,   -999.0,9,   -999,  -999.0,-999.000,-999.0000,-999.000,  -999.0,-999.000,  6.1103,-999.000
    49RY9407_1,   P09,    32,  2,      6,    209,2,19940716,0420, 24.5037, 136.9855, 5465,    805.9,   5.1232,  34.2053,2,  34.2017,2,     87.8,3,     80.1,2,    86.74,2,    36.79,2,     0.00,2,     2.66,2, -999.000,9, -999.000,9, -999.000,9,-999.0000,9,  -999.00,9,   -999.0,9,-999.000,9,   -999.0,9,   -999,  -999.0,-999.000,-999.0000,-999.000,  -999.0,-999.000,  5.0568,-999.000
    49RY9407_1,   P09,    32,  2,      5,    218,2,19940716,0420, 24.5037, 136.9855, 5465,    908.1,   4.3229,  34.2622,2,  34.2648,2,     65.0,2,     62.8,2,   103.84,2,    39.68,2,     0.00,2,     2.85,2, -999.000,9, -999.000,9, -999.000,9,-999.0000,9,  -999.00,9,   -999.0,9,-999.000,9,   -999.0,9,   -999,  -999.0,-999.000,-999.0000,-999.000,  -999.0,-999.000,  4.2529,-999.000
    49RY9407_1,   P09,    32,  2,      4,    206,2,19940716,0420, 24.5037, 136.9855, 5465,   1008.7,   3.9078,  34.3679,2,  34.3504,3,     60.2,2,     59.2,2,   113.48,2,    40.49,2,     0.00,2,     2.91,2, -999.000,9, -999.000,9, -999.000,9,-999.0000,9,  -999.00,9,   -999.0,9,-999.000,9,   -999.0,9,   -999,  -999.0,-999.000,-999.0000,-999.000,  -999.0,-999.000,  3.8324,-999.000
    49RY9407_1,   P09,    32,  2,      3,    205,2,19940716,0420, 24.5037, 136.9855, 5465,   1260.6,   3.0885,  34.4593,2,  34.4613,2,     67.3,2,     63.7,6,   131.39,6,    41.08,6,     0.00,6,     2.93,6, -999.000,9, -999.000,9, -999.000,9,-999.0000,9,  -999.00,9,   -999.0,9,-999.000,9,   -999.0,9,   -999,  -999.0,-999.000,-999.0000,-999.000,  -999.0,-999.000,  2.9996,-999.000
    49RY9407_1,   P09,    32,  2,      2,    216,2,19940716,0420, 24.5037, 136.9855, 5465,   1513.7,   2.5341,  34.5427,2,  34.5387,2,     82.2,2,     83.3,2,   139.31,2,    40.26,2,     0.00,2,     2.85,2, -999.000,9, -999.000,9, -999.000,9,-999.0000,9,  -999.00,9,   -999.0,9,-999.000,9,   -999.0,9,   -999,  -999.0,-999.000,-999.0000,-999.000,  -999.0,-999.000,  2.4306,-999.000
    49RY9407_1,   P09,    32,  2,      1,    201,2,19940716,0420, 24.5037, 136.9855, 5465,   1767.7,   2.2499,  34.5822,2,  34.5824,2,    100.5,2,     99.5,2,   141.34,2,    39.37,2,     0.00,2,     2.78,2, -999.000,9, -999.000,9, -999.000,9,-999.0000,9,  -999.00,9,   -999.0,9,-999.000,9,   -999.0,9,   -999,  -999.0,-999.000,-999.0000,-999.000,  -999.0,-999.000,  2.1293,-999.000
    49RY9407_1,   P09,    32,  2,     24,    230,2,19940716,0420, 24.5037, 136.9855, 5465,   2020.7,   2.0510,  34.6151,2,  34.6142,2,    113.8,2,    113.8,2,   141.36,2,    38.50,2,     0.00,2,     2.71,2, -999.000,9, -999.000,9, -999.000,9,-999.0000,9,  -999.00,9,   -999.0,9,-999.000,9,   -999.0,9,   -999,  -999.0,-999.000,-999.0000,-999.000,  -999.0,-999.000,  1.9121,-999.000
    49RY9407_1,   P09,    32,  2,     23,    228,2,19940716,0420, 24.5037, 136.9855, 5465,   2277.2,   1.8861,  34.6312,2,  34.6299,2,    124.0,2,    123.2,2,   142.12,6,    38.11,6,     0.00,6,     2.67,6, -999.000,9, -999.000,9, -999.000,9,-999.0000,9,  -999.00,9,   -999.0,9,-999.000,9,   -999.0,9,   -999,  -999.0,-999.000,-999.0000,-999.000,  -999.0,-999.000,  1.7278,-999.000
    49RY9407_1,   P09,    32,  2,     21,    226,2,19940716,0420, 24.5037, 136.9855, 5465,   2530.7,   1.7631,  34.6448,2,  34.6451,2,    132.5,2,    129.8,2,   142.53,2,    37.60,2,     0.00,2,     2.63,2, -999.000,9, -999.000,9, -999.000,9,-999.0000,9,  -999.00,9,   -999.0,9,-999.000,9,   -999.0,9,   -999,  -999.0,-999.000,-999.0000,-999.000,  -999.0,-999.000,  1.5845,-999.000
    49RY9407_1,   P09,    32,  2,     22,    227,2,19940716,0420, 24.5037, 136.9855, 5465,   2530.7,   1.7631,  34.6448,2,  34.6445,2,    132.5,2,    130.9,2,   142.35,2,    37.60,2,     0.00,2,     2.63,2, -999.000,9, -999.000,9, -999.000,9,-999.0000,9,  -999.00,9,   -999.0,9,-999.000,9,   -999.0,9,   -999,  -999.0,-999.000,-999.0000,-999.000,  -999.0,-999.000,  1.5845,-999.000
    49RY9407_1,   P09,    32,  2,     20,    225,2,19940716,0420, 24.5037, 136.9855, 5465,   2785.0,   1.6978,  34.6544,2,  34.6532,2,    136.2,2,    136.7,2,   142.43,2,    37.25,2,     0.00,2,     2.60,2, -999.000,9, -999.000,9, -999.000,9,-999.0000,9,  -999.00,9,   -999.0,9,-999.000,9,   -999.0,9,   -999,  -999.0,-999.000,-999.0000,-999.000,  -999.0,-999.000,  1.4971,-999.000
    49RY9407_1,   P09,    32,  2,     19,    224,2,19940716,0420, 24.5037, 136.9855, 5465,   3040.3,   1.6309,  34.6618,2,  34.6616,2,    141.3,2,    141.5,2,   142.18,2,    36.98,2,     0.00,2,     2.57,2, -999.000,9, -999.000,9, -999.000,9,-999.0000,9,  -999.00,9,   -999.0,9,-999.000,9,   -999.0,9,   -999,  -999.0,-999.000,-999.0000,-999.000,  -999.0,-999.000,  1.4074,-999.000
    49RY9407_1,   P09,    32,  2,     18,    223,2,19940716,0420, 24.5037, 136.9855, 5465,   3295.8,   1.5927,  34.6692,2,  34.6681,2,    145.9,2,    145.0,2,   142.04,2,    36.75,2,     0.00,2,     2.55,2, -999.000,9, -999.000,9, -999.000,9,-999.0000,9,  -999.00,9,   -999.0,9,-999.000,9,   -999.0,9,   -999,  -999.0,-999.000,-999.0000,-999.000,  -999.0,-999.000,  1.3450,-999.000
    49RY9407_1,   P09,    32,  2,     17,    222,2,19940716,0420, 24.5037, 136.9855, 5465,   3550.6,   1.5531,  34.6749,2,  34.6748,2,    150.8,2,    149.9,2,   141.51,2,    36.43,2,     0.00,2,     2.53,2, -999.000,9, -999.000,9, -999.000,9,-999.0000,9,  -999.00,9,   -999.0,9,-999.000,9,   -999.0,9,   -999,  -999.0,-999.000,-999.0000,-999.000,  -999.0,-999.000,  1.2805,-999.000
    49RY9407_1,   P09,    32,  2,     16,    210,2,19940716,0420, 24.5037, 136.9855, 5465,   3807.6,   1.5312,  34.6788,2,  34.6798,2,    153.0,2,    155.3,2,   140.79,2,    36.15,2,     0.00,2,     2.51,2, -999.000,9, -999.000,9, -999.000,9,-999.0000,9,  -999.00,9,   -999.0,9,-999.000,9,   -999.0,9,   -999,  -999.0,-999.000,-999.0000,-999.000,  -999.0,-999.000,  1.2322,-999.000
    49RY9407_1,   P09,    32,  2,     15,    221,2,19940716,0420, 24.5037, 136.9855, 5465,   4064.7,   1.5305,  34.6812,2,  34.6815,2,    156.0,2,    156.7,2,   140.38,2,    36.04,2,     0.00,2,     2.49,2, -999.000,9, -999.000,9, -999.000,9,-999.0000,9,  -999.00,9,   -999.0,9,-999.000,9,   -999.0,9,   -999,  -999.0,   1.528,-999.0000,-999.000,  4065.0,-999.000,  1.2037,-999.000
    49RY9407_1,   P09,    32,  2,     14,    219,2,19940716,0420, 24.5037, 136.9855, 5465,   4319.2,   1.5471,  34.6823,2,  34.6831,2,    158.1,2,    156.1,2,   140.27,2,    36.02,2,     0.00,2,     2.50,2, -999.000,9, -999.000,9, -999.000,9,-999.0000,9,  -999.00,9,   -999.0,9,-999.000,9,   -999.0,9,   -999,  -999.0,-999.000,-999.0000,-999.000,  -999.0,-999.000,  1.1914,-999.000
    49RY9407_1,   P09,    32,  2,     13,    229,2,19940716,0420, 24.5037, 136.9855, 5465,   4577.5,   1.5704,  34.6836,2,  34.6827,2,    156.2,2,    156.6,2,   140.16,2,    35.95,2,     0.00,2,     2.49,2, -999.000,9, -999.000,9, -999.000,9,-999.0000,9,  -999.00,9,   -999.0,9,-999.000,9,   -999.0,9,   -999,  -999.0,   1.570,-999.0000,-999.000,  4578.0,-999.000,  1.1843,-999.000
    49RY9407_1,   P09,    32,  2,     12,    217,2,19940716,0420, 24.5037, 136.9855, 5465,   4833.3,   1.5982,  34.6842,2,  34.6828,6,    157.1,2,    158.6,2,   140.21,2,    35.98,2,     0.00,2,     2.49,2, -999.000,9, -999.000,9, -999.000,9,-999.0000,9,  -999.00,9,   -999.0,9,-999.000,9,   -999.0,9,   -999,  -999.0,-999.000,-999.0000,-999.000,  -999.0,-999.000,  1.1809,-999.000
    49RY9407_1,   P09,    32,  2,     11,    204,2,19940716,0420, 24.5037, 136.9855, 5465,   5091.6,   1.6300,  34.6833,2,  34.6837,6,    159.4,2,    158.8,6,   139.69,6,    35.94,6,     0.00,6,     2.48,6, -999.000,9, -999.000,9, -999.000,9,-999.0000,9,  -999.00,9,   -999.0,9,-999.000,9,   -999.0,9,   -999,  -999.0,   1.628,-999.0000,-999.000,  5089.0,-999.000,  1.1801,-999.000
    49RY9407_1,   P09,    32,  2,      9,    213,4,19940716,0420, 24.5037, 136.9855, 5465,   5348.3,   1.6632,  34.6826,2,  34.6837,2,    159.5,2,    158.5,2,   140.00,2,    36.00,2,     0.00,2,     2.48,2, -999.000,9, -999.000,9, -999.000,9,-999.0000,9,  -999.00,9,   -999.0,9,-999.000,9,   -999.0,9,   -999,  -999.0,   1.660,-999.0000,-999.000,  5343.0,-999.000,  1.1801,-999.000
    49RY9407_1,   P09,    32,  2,     10,    214,2,19940716,0420, 24.5037, 136.9855, 5465,   5348.3,   1.6634,  34.6831,2,  34.6837,2,    159.5,2,    157.8,6,   139.46,6,    35.95,6,     0.00,6,     2.48,6, -999.000,9, -999.000,9, -999.000,9,-999.0000,9,  -999.00,9,   -999.0,9,-999.000,9,   -999.0,9,   -999,  -999.0,-999.000,-999.0000,-999.000,  -999.0,-999.000,  1.1803,-999.000
    49RY9407_1,   P09,    33,  1,      0,      0,2,19940716,0918, 23.9972, 136.9970, 3915,      0.4,  29.9270,  34.5617,2,-999.0000,9,    192.3,2,   -999.0,5,     1.23,2,     0.02,2,     0.00,2,     0.00,2, -999.000,9, -999.000,9, -999.000,9,-999.0000,9,  -999.00,9,   -999.0,9,-999.000,9,   -999.0,9,   -999,  -999.0,-999.000,-999.0000,-999.000,  -999.0,-999.000, 29.9269,-999.000
    49RY9407_1,   P09,    33,  1,     17,    203,2,19940716,0918, 23.9972, 136.9970, 3915,     10.0,  28.0594,  34.7126,2,-999.0000,5,    191.5,2,   -999.0,9,  -999.00,9,  -999.00,9,  -999.00,9,  -999.00,9, -999.000,9, -999.000,9, -999.000,9,-999.0000,9,  -999.00,9,   -999.0,9,-999.000,9,   -999.0,9,   -999,  -999.0,-999.000,-999.0000,-999.000,  -999.0,-999.000, 28.0571,-999.000
    49RY9407_1,   P09,    33,  1,     16,    210,2,19940716,0918, 23.9972, 136.9970, 3915,     24.9,  24.6432,  35.0728,2,  34.8325,2,    227.0,2,    224.0,2,     1.42,2,     0.04,2,     0.00,2,     0.00,2, -999.000,9, -999.000,9, -999.000,9,-999.0000,9,  -999.00,9,   -999.0,9,-999.000,9,   -999.0,9,   -999,  -999.0,-999.000,-999.0000,-999.000,  -999.0,-999.000, 24.6379,-999.000
    49RY9407_1,   P09,    33,  1,     15,    221,2,19940716,0918, 23.9972, 136.9970, 3915,     49.9,  22.1667,  34.9312,2,  34.9402,2,    245.4,3,    231.2,2,     1.54,2,     0.00,2,     0.00,2,     0.00,2, -999.000,9, -999.000,9, -999.000,9,-999.0000,9,  -999.00,9,   -999.0,9,-999.000,9,   -999.0,9,   -999,  -999.0,  22.120,-999.0000,-999.000,    52.0,-999.000, 22.1568,-999.000
    49RY9407_1,   P09,    33,  1,     14,    219,2,19940716,0918, 23.9972, 136.9970, 3915,     75.6,  20.6106,  34.9447,2,  34.9414,2,    235.5,3,    219.2,2,     1.73,2,     0.03,2,     0.00,2,     0.02,2, -999.000,9, -999.000,9, -999.000,9,-999.0000,9,  -999.00,9,   -999.0,9,-999.000,9,   -999.0,9,   -999,  -999.0,-999.000,-999.0000,-999.000,  -999.0,-999.000, 20.5964,-999.000
    49RY9407_1,   P09,    33,  1,     13,    229,2,19940716,0918, 23.9972, 136.9970, 3915,    100.1,  20.0262,  34.9397,2,  34.9410,2,    230.5,3,    213.2,2,     2.09,2,     0.26,2,     0.04,2,     0.05,2, -999.000,9, -999.000,9, -999.000,9,-999.0000,9,  -999.00,9,   -999.0,9,-999.000,9,   -999.0,9,   -999,  -999.0,  20.010,-999.0000,-999.000,    97.0,-999.000, 20.0078,-999.000
    49RY9407_1,   P09,    33,  1,     12,    217,2,19940716,0918, 23.9972, 136.9970, 3915,    125.2,  19.5883,  34.9271,2,  34.9246,2,    219.2,3,    208.4,2,     2.28,2,     1.60,2,     0.03,2,     0.12,2, -999.000,9, -999.000,9, -999.000,9,-999.0000,9,  -999.00,9,   -999.0,9,-999.000,9,   -999.0,9,   -999,  -999.0,-999.000,-999.0000,-999.000,  -999.0,-999.000, 19.5655,-999.000
    49RY9407_1,   P09,    33,  1,     11,    204,2,19940716,0918, 23.9972, 136.9970, 3915,    151.0,  18.9469,  34.8913,2,  34.8885,2,    205.0,3,    196.2,2,     2.91,2,     3.16,2,     0.02,2,     0.23,2, -999.000,9, -999.000,9, -999.000,9,-999.0000,9,  -999.00,9,   -999.0,9,-999.000,9,   -999.0,9,   -999,  -999.0,  18.931,-999.0000,-999.000,   148.0,-999.000, 18.9201,-999.000
    49RY9407_1,   P09,    33,  1,     10,    214,2,19940716,0918, 23.9972, 136.9970, 3915,    201.8,  17.9358,  34.8288,2,  34.8313,2,    202.4,3,    199.1,2,     3.81,2,     4.26,2,     0.01,2,     0.29,2, -999.000,9, -999.000,9, -999.000,9,-999.0000,9,  -999.00,9,   -999.0,9,-999.000,9,   -999.0,9,   -999,  -999.0,-999.000,-999.0000,-999.000,  -999.0,-999.000, 17.9012,-999.000
    49RY9407_1,   P09,    33,  1,      9,    213,2,19940716,0918, 23.9972, 136.9970, 3915,    302.4,  15.7004,  34.6751,2,  34.6748,2,    214.8,3,    197.5,2,     7.33,2,     7.83,2,     0.01,2,     0.54,2, -999.000,9, -999.000,9, -999.000,9,-999.0000,9,  -999.00,9,   -999.0,9,-999.000,9,   -999.0,9,   -999,  -999.0,  15.754,-999.0000,-999.000,   305.0,-999.000, 15.6532,-999.000