BOTTLE,20020306WHPSIOdm
EXPOCODE,SECT_ID,STNNBR,CASTNO,SAMPNO,BTLNBR,BTLNBR_FLAG_W,DATE,TIME,LATITUDE,LONGITUDE,DEPTH,CTDPRS,CTDTMP,CTDSAL,CTDSAL_FLAG_W,SALNTY,SALNTY_FLAG_W,CTDOXY,CTDOXY_FLAG_W,OXYGEN,OXYGEN_FLAG_W,SILCAT,SILCAT_FLAG_W,NITRAT,NITRAT_FLAG_W,NITRIT,NITRIT_FLAG_W,PHSPHT,PHSPHT_FLAG_W,CFC-11,CFC-11_FLAG_W,CFC-12,CFC-12_FLAG_W,TRITUM,TRITUM_FLAG_W,HELIUM,HELIUM_FLAG_W,DELHE3,DELHE3_FLAG_W,DELC14,DELC14_FLAG_W,NEON,NEON_FLAG_W,TCARBN,TCARBN_FLAG_W,CTDRAW,C14ERR,REVTMP,HELIER,DELHER,REVPRS,NEONER,THETA,TRITER
,,,,,,,,,,,,DBAR,ITS-90,PSS-78,,PSS-78,,UMOL/KG,,UMOL/KG,,UMOL/KG,,UMOL/KG,,UMOL/KG,,UMOL/KG,,PMOL/KG,,PMOL/KG,,TU,,NMOL/KG,,PERCNT,,/MILLE,,NMOL/KG,,UMOL/KG,,,/MILLE,ITS-90,NMOL/KG,PERCNT,DBAR,NMOL/KG,DEG C,TU
    49RY9407_2,   P09,    57,  4,     12,    217,2,19940805,0613, 12.1045, 136.9903, 4510,    101.1,  26.8336,  34.6147,2,  34.6184,2,    203.8,2,   -999.0,9,  -999.00,9,  -999.00,9,  -999.00,9,  -999.00,9,    1.719,2,    1.133,3,    1.281,2,   1.6825,2,    -1.09,2,   -999.0,9,   7.092,4,   -999.0,9,   -999,  -999.0,-999.000,  0.0029,   0.280,  -999.0,   0.014, 26.8105,   0.016
    49RY9407_2,   P09,    57,  4,     11,    201,2,19940805,0613, 12.1045, 136.9903, 4510,    150.1,  22.3895,  34.7399,2,  34.7321,2,    169.1,2,   -999.0,9,  -999.00,9,  -999.00,9,  -999.00,9,  -999.00,9,    1.821,2,    1.140,3,    1.505,2,   1.7072,2,     1.26,2,   -999.0,9,   6.867,2,   -999.0,9,   -999,  -999.0,-999.000,  0.0025,   0.260,  -999.0,   0.013, 22.3595,   0.017
    49RY9407_2,   P09,    57,  4,     10,    214,2,19940805,0613, 12.1045, 136.9903, 4510,    201.6,  17.3483,  34.7455,2,  34.7796,3,    168.2,2,   -999.0,9,  -999.00,9,  -999.00,9,  -999.00,9,  -999.00,9,    2.147,2,    1.282,3,    1.755,2,   1.7238,2,     2.91,2,   -999.0,9,   7.075,2,   -999.0,9,   -999,  -999.0,-999.000,  0.0032,   0.280,  -999.0,   0.014, 17.3146,   0.020
    49RY9407_2,   P09,    57,  4,      9,    213,2,19940805,0613, 12.1045, 136.9903, 4510,    301.0,  10.6561,  34.3347,2,  34.3268,2,    131.3,2,   -999.0,9,  -999.00,9,  -999.00,9,  -999.00,9,  -999.00,9,    1.243,2,    0.709,3,    1.489,2,   1.7573,2,    10.69,2,   -999.0,9,   7.387,2,   -999.0,9,   -999,  -999.0,-999.000,  0.0025,   0.250,   305.0,   0.014, 10.6199,   0.018
    49RY9407_2,   P09,    57,  4,      8,    212,2,19940805,0613, 12.1045, 136.9903, 4510,    400.7,   8.2434,  34.3485,2,  34.3555,2,     88.3,2,   -999.0,9,  -999.00,9,  -999.00,9,  -999.00,9,  -999.00,9,    0.412,2,    0.287,3,    0.735,2,   1.7795,2,    12.36,2,   -999.0,9,   7.596,2,   -999.0,9,   -999,  -999.0,-999.000,  0.0031,   0.280,  -999.0,   0.015,  8.2020,   0.011
    49RY9407_2,   P09,    57,  4,      7,    203,2,19940805,0613, 12.1045, 136.9903, 4510,    501.6,   6.9935,  34.4454,2,  34.4469,2,     76.9,2,   -999.0,9,  -999.00,9,  -999.00,9,  -999.00,9,  -999.00,9,    0.123,2,    0.051,3,    0.292,2,   1.7925,2,    11.37,2,   -999.0,9,   7.622,2,   -999.0,9,   -999,  -999.0,-999.000,  0.0034,   0.280,   502.0,   0.015,  6.9459,   0.006
    49RY9407_2,   P09,    57,  4,      6,    209,2,19940805,0613, 12.1045, 136.9903, 4510,    601.5,   6.2906,  34.4757,2,  34.4727,2,     81.9,2,   -999.0,9,  -999.00,9,  -999.00,9,  -999.00,9,  -999.00,9,    0.075,2,    0.000,3,    0.167,2,   1.8044,2,    11.77,2,   -999.0,9,   7.689,2,   -999.0,9,   -999,  -999.0,-999.000,  0.0031,   0.280,  -999.0,   0.015,  6.2363,   0.005
    49RY9407_2,   P09,    57,  4,      5,    221,2,19940805,0613, 12.1045, 136.9903, 4510,    705.7,   5.7104,  34.5003,2,  34.5025,2,     85.7,2,   -999.0,9,  -999.00,9,  -999.00,9,  -999.00,9,  -999.00,9,    0.037,2,    0.000,3,    0.103,2,   1.7930,2,    11.67,2,   -999.0,9,   7.593,3,   -999.0,9,   -999,  -999.0,-999.000,  0.0026,   0.250,   708.0,   0.015,  5.6493,   0.005
    49RY9407_2,   P09,    57,  4,      4,    206,2,19940805,0613, 12.1045, 136.9903, 4510,    805.3,   5.1559,  34.5201,2,  34.5210,2,     87.0,2,   -999.0,9,  -999.00,9,  -999.00,9,  -999.00,9,  -999.00,9,    0.024,2,    0.000,3,    0.062,2,   1.8293,2,    15.22,2,   -999.0,9,   7.800,2,   -999.0,9,   -999,  -999.0,-999.000,  0.0036,   0.250,  -999.0,   0.015,  5.0890,   0.003
    49RY9407_2,   P09,    57,  4,      3,    229,2,19940805,0613, 12.1045, 136.9903, 4510,    907.8,   4.7367,  34.5314,2,  34.5322,2,     88.2,2,   -999.0,9,  -999.00,9,  -999.00,9,  -999.00,9,  -999.00,9,    0.069,4,    0.000,3,    0.047,2,   1.8400,2,    16.04,2,   -999.0,9,   7.771,2,   -999.0,9,   -999,  -999.0,   4.735,  0.0028,   0.250,   906.0,   0.015,  4.6634,   0.005
    49RY9407_2,   P09,    57,  4,      2,    216,2,19940805,0613, 12.1045, 136.9903, 4510,   1006.0,   4.3545,  34.5431,2,  34.5419,2,     88.3,2,   -999.0,9,  -999.00,9,  -999.00,9,  -999.00,9,  -999.00,9,    0.010,2,    0.000,3,    0.046,2,   1.8392,2,    16.98,2,   -999.0,9,   7.792,2,   -999.0,9,   -999,  -999.0,-999.000,  0.0027,   0.250,  -999.0,   0.015,  4.2755,   0.005
    49RY9407_2,   P09,    57,  4,      1,    204,2,19940805,0613, 12.1045, 136.9903, 4510,   1513.7,   2.8711,  34.5922,2,  34.5932,2,     97.8,2,   -999.0,9,  -999.00,9,  -999.00,9,  -999.00,9,  -999.00,9,    0.006,2,    0.031,4,    0.018,2,   1.8617,2,    20.61,2,   -999.0,9,   7.885,2,   -999.0,9,   -999,  -999.0,   2.868,  0.0048,   0.250,  1514.0,   0.015,  2.7636,   0.003
    49RY9407_2,   P09,    58,  1,     12,    217,2,19940804,1545, 11.5193, 136.9992, 4820,   2276.5,   1.9434,  34.6463,2,  34.6461,2,    120.9,2,    123.6,2,   142.02,2,    38.19,2,     0.00,2,     2.71,2, -999.000,9, -999.000,9, -999.000,9,-999.0000,9,  -999.00,9,   -999.0,9,-999.000,9,   -999.0,9,   -999,  -999.0,-999.000,-999.0000,-999.000,  -999.0,-999.000,  1.7841,-999.000
    49RY9407_2,   P09,    58,  1,     11,    201,2,19940804,1545, 11.5193, 136.9992, 4820,   2528.6,   1.7815,  34.6561,2,  34.6562,2,    127.4,2,    129.8,2,   143.29,6,    37.95,6,     0.00,6,     2.67,6, -999.000,9, -999.000,9, -999.000,9,-999.0000,9,  -999.00,9,   -999.0,9,-999.000,9,   -999.0,9,   -999,  -999.0,-999.000,-999.0000,-999.000,  -999.0,-999.000,  1.6027,-999.000
    49RY9407_2,   P09,    58,  1,     10,    214,2,19940804,1545, 11.5193, 136.9992, 4820,   2785.9,   1.6518,  34.6645,2,  34.6648,2,    135.8,2,    137.7,2,   144.31,2,    37.44,2,     0.00,2,     2.64,2, -999.000,9, -999.000,9, -999.000,9,-999.0000,9,  -999.00,9,   -999.0,9,-999.000,9,   -999.0,9,   -999,  -999.0,-999.000,-999.0000,-999.000,  -999.0,-999.000,  1.4519,-999.000
    49RY9407_2,   P09,    58,  1,      9,    213,2,19940804,1545, 11.5193, 136.9992, 4820,   3038.4,   1.5891,  34.6694,2,  34.6686,2,    141.4,2,    143.2,2,   143.36,2,    37.01,2,     0.00,2,     2.61,2, -999.000,9, -999.000,9, -999.000,9,-999.0000,9,  -999.00,9,   -999.0,9,-999.000,9,   -999.0,9,   -999,  -999.0,-999.000,-999.0000,-999.000,  3037.0,-999.000,  1.3667,-999.000
    49RY9407_2,   P09,    58,  1,      8,    212,2,19940804,1545, 11.5193, 136.9992, 4820,   3295.4,   1.5655,  34.6743,2,  34.6739,2,    147.4,2,    147.5,2,   142.74,2,    36.81,2,     0.00,2,     2.59,2, -999.000,9, -999.000,9, -999.000,9,-999.0000,9,  -999.00,9,   -999.0,9,-999.000,9,   -999.0,9,   -999,  -999.0,-999.000,-999.0000,-999.000,  -999.0,-999.000,  1.3184,-999.000
    49RY9407_2,   P09,    58,  1,      7,    203,2,19940804,1545, 11.5193, 136.9992, 4820,   3552.4,   1.5416,  34.6780,2,  34.6778,2,    149.6,2,    150.5,2,   142.03,2,    36.54,2,     0.00,2,     2.56,2, -999.000,9, -999.000,9, -999.000,9,-999.0000,9,  -999.00,9,   -999.0,9,-999.000,9,   -999.0,9,   -999,  -999.0,-999.000,-999.0000,-999.000,  3548.0,-999.000,  1.2691,-999.000
    49RY9407_2,   P09,    58,  1,      6,    209,2,19940804,1545, 11.5193, 136.9992, 4820,   3806.7,   1.5216,  34.6805,2,  34.6806,2,    153.9,2,    154.8,2,   140.89,2,    36.26,2,     0.00,2,     2.54,2, -999.000,9, -999.000,9, -999.000,9,-999.0000,9,  -999.00,9,   -999.0,9,-999.000,9,   -999.0,9,   -999,  -999.0,-999.000,-999.0000,-999.000,  -999.0,-999.000,  1.2230,-999.000
    49RY9407_2,   P09,    58,  1,      5,    221,2,19940804,1545, 11.5193, 136.9992, 4820,   4062.5,   1.5092,  34.6826,2,  34.6835,2,    157.5,2,    158.3,6,   139.82,2,    35.98,2,     0.00,2,     2.52,2, -999.000,9, -999.000,9, -999.000,9,-999.0000,9,  -999.00,9,   -999.0,9,-999.000,9,   -999.0,9,   -999,  -999.0,-999.000,-999.0000,-999.000,  4062.0,-999.000,  1.1832,-999.000
    49RY9407_2,   P09,    58,  1,      4,    206,2,19940804,1545, 11.5193, 136.9992, 4820,   4321.4,   1.5124,  34.6849,2,  34.6861,2,    160.4,2,    160.7,2,   138.96,2,    35.98,2,     0.00,2,     2.51,2, -999.000,9, -999.000,9, -999.000,9,-999.0000,9,  -999.00,9,   -999.0,9,-999.000,9,   -999.0,9,   -999,  -999.0,-999.000,-999.0000,-999.000,  -999.0,-999.000,  1.1575,-999.000
    49RY9407_2,   P09,    58,  1,      3,    229,2,19940804,1545, 11.5193, 136.9992, 4820,   4575.3,   1.5272,  34.6865,2,  34.6865,2,    162.0,2,    161.6,2,   138.66,2,    35.65,2,     0.00,2,     2.50,2, -999.000,9, -999.000,9, -999.000,9,-999.0000,9,  -999.00,9,   -999.0,9,-999.000,9,   -999.0,9,   -999,  -999.0,   1.522,-999.0000,-999.000,  4575.0,-999.000,  1.1427,-999.000
    49RY9407_2,   P09,    58,  1,      2,    216,2,19940804,1545, 11.5193, 136.9992, 4820,   4833.8,   1.5524,  34.6858,2,  34.6875,2,    166.0,2,    162.4,2,   138.34,2,    35.79,2,     0.00,2,     2.49,2, -999.000,9, -999.000,9, -999.000,9,-999.0000,9,  -999.00,9,   -999.0,9,-999.000,9,   -999.0,9,   -999,  -999.0,-999.000,-999.0000,-999.000,  -999.0,-999.000,  1.1365,-999.000
    49RY9407_2,   P09,    58,  1,      1,    204,2,19940804,1545, 11.5193, 136.9992, 4820,   4934.8,   1.5642,  34.6861,2,  34.6879,6,    164.9,2,    162.9,6,   138.25,6,    35.77,6,     0.00,6,     2.50,6, -999.000,9, -999.000,9, -999.000,9,-999.0000,9,  -999.00,9,   -999.0,9,-999.000,9,   -999.0,9,   -999,  -999.0,   1.560,-999.0000,-999.000,  4935.0,-999.000,  1.1357,-999.000
    49RY9407_2,   P09,    58,  2,     12,    217,2,19940804,1839, 11.5495, 137.0022, 4940,    299.9,  10.3615,  34.3700,2,  34.3655,2,    115.5,2,    113.2,2,    29.83,2,    24.71,2,     0.00,2,     1.79,2, -999.000,9, -999.000,9, -999.000,9,-999.0000,9,  -999.00,9,   -999.0,9,-999.000,9,   -999.0,9,   -999,  -999.0,-999.000,-999.0000,-999.000,  -999.0,-999.000, 10.3260,-999.000
    49RY9407_2,   P09,    58,  2,     11,    201,2,19940804,1839, 11.5495, 137.0022, 4940,    401.6,   7.8299,  34.4389,2,  34.4388,2,     80.8,3,     73.7,6,    50.88,2,    34.35,2,     0.00,2,     2.41,2, -999.000,9, -999.000,9, -999.000,9,-999.0000,9,  -999.00,9,   -999.0,9,-999.000,9,   -999.0,9,   -999,  -999.0,-999.000,-999.0000,-999.000,  -999.0,-999.000,  7.7896,-999.000
    49RY9407_2,   P09,    58,  2,     10,    214,2,19940804,1839, 11.5495, 137.0022, 4940,    504.0,   6.8553,  34.4616,2,  34.4613,2,     79.0,2,     78.1,2,    59.39,2,    36.10,2,     0.00,2,     2.52,2, -999.000,9, -999.000,9, -999.000,9,-999.0000,9,  -999.00,9,   -999.0,9,-999.000,9,   -999.0,9,   -999,  -999.0,-999.000,-999.0000,-999.000,  -999.0,-999.000,  6.8080,-999.000
    49RY9407_2,   P09,    58,  2,      9,    213,2,19940804,1839, 11.5495, 137.0022, 4940,    606.0,   6.1398,  34.4736,2,  34.4681,2,     84.6,2,     85.3,2,    66.59,2,    36.75,2,     0.00,2,     2.57,2, -999.000,9, -999.000,9, -999.000,9,-999.0000,9,  -999.00,9,   -999.0,9,-999.000,9,   -999.0,9,   -999,  -999.0,-999.000,-999.0000,-999.000,   606.0,-999.000,  6.0858,-999.000
    49RY9407_2,   P09,    58,  2,      8,    212,2,19940804,1839, 11.5495, 137.0022, 4940,    705.6,   5.6883,  34.4954,2,  34.4951,2,     87.8,2,     85.5,2,    72.28,2,    37.60,2,     0.00,2,     2.63,2, -999.000,9, -999.000,9, -999.000,9,-999.0000,9,  -999.00,9,   -999.0,9,-999.000,9,   -999.0,9,   -999,  -999.0,-999.000,-999.0000,-999.000,  -999.0,-999.000,  5.6273,-999.000
    49RY9407_2,   P09,    58,  2,      7,    203,2,19940804,1839, 11.5495, 137.0022, 4940,    807.1,   5.2600,  34.5155,2,  34.5155,2,     88.1,2,     86.7,2,    78.99,6,    38.03,6,     0.00,6,     2.68,6, -999.000,9, -999.000,9, -999.000,9,-999.0000,9,  -999.00,9,   -999.0,9,-999.000,9,   -999.0,9,   -999,  -999.0,-999.000,-999.0000,-999.000,   806.0,-999.000,  5.1923,-999.000
    49RY9407_2,   P09,    58,  2,      6,    209,2,19940804,1839, 11.5495, 137.0022, 4940,    907.9,   4.8738,  34.5296,2,  34.5295,2,     86.8,2,     86.5,2,    86.49,2,    38.73,2,     0.00,2,     2.73,2, -999.000,9, -999.000,9, -999.000,9,-999.0000,9,  -999.00,9,   -999.0,9,-999.000,9,   -999.0,9,   -999,  -999.0,-999.000,-999.0000,-999.000,  -999.0,-999.000,  4.7996,-999.000
    49RY9407_2,   P09,    58,  2,      5,    221,2,19940804,1839, 11.5495, 137.0022, 4940,   1008.6,   4.4569,  34.5377,2,  34.5364,2,     84.6,2,     85.3,2,    95.47,2,    39.43,2,     0.00,2,     2.78,2, -999.000,9, -999.000,9, -999.000,9,-999.0000,9,  -999.00,9,   -999.0,9,-999.000,9,   -999.0,9,   -999,  -999.0,-999.000,-999.0000,-999.000,  1006.0,-999.000,  4.3769,-999.000
    49RY9407_2,   P09,    58,  2,      4,    206,2,19940804,1839, 11.5495, 137.0022, 4940,   1260.2,   3.4793,  34.5679,2,  34.5657,2,     91.6,2,     90.6,2,   115.49,2,    39.76,2,     0.00,2,     2.80,2, -999.000,9, -999.000,9, -999.000,9,-999.0000,9,  -999.00,9,   -999.0,9,-999.000,9,   -999.0,9,   -999,  -999.0,-999.000,-999.0000,-999.000,  -999.0,-999.000,  3.3864,-999.000
    49RY9407_2,   P09,    58,  2,      3,    229,2,19940804,1839, 11.5495, 137.0022, 4940,   1515.6,   2.8202,  34.5926,2,  34.5936,2,     97.8,2,     97.7,2,   128.46,2,    39.78,2,     0.00,2,     2.80,2, -999.000,9, -999.000,9, -999.000,9,-999.0000,9,  -999.00,9,   -999.0,9,-999.000,9,   -999.0,9,   -999,  -999.0,   2.821,-999.0000,-999.000,  1511.0,-999.000,  2.7131,-999.000
    49RY9407_2,   P09,    58,  2,      2,    216,2,19940804,1839, 11.5495, 137.0022, 4940,   1768.8,   2.4417,  34.6178,2,  34.6168,2,    107.7,2,    107.6,2,   133.53,2,    39.56,2,     0.00,2,     2.75,2, -999.000,9, -999.000,9, -999.000,9,-999.0000,9,  -999.00,9,   -999.0,9,-999.000,9,   -999.0,9,   -999,  -999.0,-999.000,-999.0000,-999.000,  -999.0,-999.000,  2.3183,-999.000
    49RY9407_2,   P09,    58,  2,      1,    204,2,19940804,1839, 11.5495, 137.0022, 4940,   2020.8,   2.1359,  34.6353,2,  34.6343,2,    115.7,2,    116.0,6,   139.16,2,    38.92,2,     0.00,2,     2.72,2, -999.000,9, -999.000,9, -999.000,9,-999.0000,9,  -999.00,9,   -999.0,9,-999.000,9,   -999.0,9,   -999,  -999.0,   2.133,-999.0000,-999.000,  2019.0,-999.000,  1.9956,-999.000
    49RY9407_2,   P09,    58,  3,      0,      0,2,19940804,2000, 11.5645, 137.0045, 4960,      0.1,  28.9510,  33.9998,2,-999.0000,9,    199.9,2,    196.0,6,     1.27,6,     0.02,6,     0.00,6,     0.01,6, -999.000,9, -999.000,9, -999.000,9,-999.0000,9,  -999.00,9,   -999.0,9,-999.000,9,   -999.0,9,   -999,  -999.0,-999.000,-999.0000,-999.000,  -999.0,-999.000, 28.9510,-999.000
    49RY9407_2,   P09,    58,  3,      8,    212,2,19940804,2000, 11.5645, 137.0045, 4960,      9.3,  28.9556,  33.9988,2,  34.0007,2,    191.0,2,    195.2,2,     1.21,2,     0.01,2,     0.00,2,     0.01,2, -999.000,9, -999.000,9, -999.000,9,-999.0000,9,  -999.00,9,   -999.0,9,-999.000,9,   -999.0,9,   -999,  -999.0,-999.000,-999.0000,-999.000,  -999.0,-999.000, 28.9533,-999.000
    49RY9407_2,   P09,    58,  3,      7,    203,2,19940804,2000, 11.5645, 137.0045, 4960,     25.2,  28.9586,  33.9982,2,  33.9988,2,    193.4,2,    195.1,2,     1.19,2,     0.04,2,     0.00,2,     0.01,2, -999.000,9, -999.000,9, -999.000,9,-999.0000,9,  -999.00,9,   -999.0,9,-999.000,9,   -999.0,9,   -999,  -999.0,-999.000,-999.0000,-999.000,    32.0,-999.000, 28.9525,-999.000
    49RY9407_2,   P09,    58,  3,      6,    209,2,19940804,2000, 11.5645, 137.0045, 4960,     51.5,  28.9616,  34.0006,2,  34.0025,2,    194.9,2,    195.2,2,     1.22,2,     0.03,2,     0.00,2,     0.01,2, -999.000,9, -999.000,9, -999.000,9,-999.0000,9,  -999.00,9,   -999.0,9,-999.000,9,   -999.0,9,   -999,  -999.0,-999.000,-999.0000,-999.000,  -999.0,-999.000, 28.9492,-999.000
    49RY9407_2,   P09,    58,  3,      5,    221,2,19940804,2000, 11.5645, 137.0045, 4960,     76.0,  28.5961,  34.2825,2,  34.2842,2,    198.6,2,    202.1,2,     1.29,2,     0.03,2,     0.00,2,     0.04,2, -999.000,9, -999.000,9, -999.000,9,-999.0000,9,  -999.00,9,   -999.0,9,-999.000,9,   -999.0,9,   -999,  -999.0,-999.000,-999.0000,-999.000,    80.0,-999.000, 28.5779,-999.000
    49RY9407_2,   P09,    58,  3,      4,    206,2,19940804,2000, 11.5645, 137.0045, 4960,    101.3,  27.2652,  34.4010,2,  34.4052,2,    196.7,2,    197.0,2,     1.66,6,     0.03,6,     0.00,6,     0.07,6, -999.000,9, -999.000,9, -999.000,9,-999.0000,9,  -999.00,9,   -999.0,9,-999.000,9,   -999.0,9,   -999,  -999.0,-999.000,-999.0000,-999.000,  -999.0,-999.000, 27.2418,-999.000
    49RY9407_2,   P09,    58,  3,      3,    229,2,19940804,2000, 11.5645, 137.0045, 4960,    125.0,  24.5276,  34.6868,2,  34.6902,2,    181.9,2,    186.3,2,     2.52,2,     0.56,2,     0.18,2,     0.21,2, -999.000,9, -999.000,9, -999.000,9,-999.0000,9,  -999.00,9,   -999.0,9,-999.000,9,   -999.0,9,   -999,  -999.0,  24.660,-999.0000,-999.000,   123.0,-999.000, 24.5009,-999.000
    49RY9407_2,   P09,    58,  3,      2,    216,2,19940804,2000, 11.5645, 137.0045, 4960,    150.2,  21.6195,  34.8480,2,  34.8631,2,    172.8,2,    174.0,6,     3.45,2,     2.94,2,     0.05,2,     0.36,2, -999.000,9, -999.000,9, -999.000,9,-999.0000,9,  -999.00,9,   -999.0,9,-999.000,9,   -999.0,9,   -999,  -999.0,-999.000,-999.0000,-999.000,  -999.0,-999.000, 21.5902,-999.000
    49RY9407_2,   P09,    58,  3,      1,    204,2,19940804,2000, 11.5645, 137.0045, 4960,    201.4,  17.4393,  34.7947,2,  34.7947,2,    167.6,3,    174.6,2,     5.60,2,     6.89,2,     0.00,2,     0.54,2, -999.000,9, -999.000,9, -999.000,9,-999.0000,9,  -999.00,9,   -999.0,9,-999.000,9,   -999.0,9,   -999,  -999.0,  17.437,-999.0000,-999.000,   203.0,-999.000, 17.4055,-999.000