BOTTLE,20020306WHPSIOdm
EXPOCODE,SECT_ID,STNNBR,CASTNO,SAMPNO,BTLNBR,BTLNBR_FLAG_W,DATE,TIME,LATITUDE,LONGITUDE,DEPTH,CTDPRS,CTDTMP,CTDSAL,CTDSAL_FLAG_W,SALNTY,SALNTY_FLAG_W,CTDOXY,CTDOXY_FLAG_W,OXYGEN,OXYGEN_FLAG_W,SILCAT,SILCAT_FLAG_W,NITRAT,NITRAT_FLAG_W,NITRIT,NITRIT_FLAG_W,PHSPHT,PHSPHT_FLAG_W,CFC-11,CFC-11_FLAG_W,CFC-12,CFC-12_FLAG_W,TRITUM,TRITUM_FLAG_W,HELIUM,HELIUM_FLAG_W,DELHE3,DELHE3_FLAG_W,DELC14,DELC14_FLAG_W,NEON,NEON_FLAG_W,TCARBN,TCARBN_FLAG_W,CTDRAW,C14ERR,REVTMP,HELIER,DELHER,REVPRS,NEONER,THETA,TRITER
,,,,,,,,,,,,DBAR,ITS-90,PSS-78,,PSS-78,,UMOL/KG,,UMOL/KG,,UMOL/KG,,UMOL/KG,,UMOL/KG,,UMOL/KG,,PMOL/KG,,PMOL/KG,,TU,,NMOL/KG,,PERCNT,,/MILLE,,NMOL/KG,,UMOL/KG,,,/MILLE,ITS-90,NMOL/KG,PERCNT,DBAR,NMOL/KG,DEG C,TU
    49RY9407_1,   P09,    37,  2,      7,    220,2,19940722,0706, 22.0040, 137.3792, 4450,    404.5,  13.7268,  34.5112,2,  34.5094,2,    176.4,3,    186.4,2,    13.37,2,    12.15,2,     0.00,2,     0.86,2, -999.000,9, -999.000,9, -999.000,9,-999.0000,9,  -999.00,9,   -999.0,9,-999.000,9,   -999.0,9,   -999,  -999.0,-999.000,-999.0000,-999.000,  -999.0,-999.000, 13.6690,-999.000
    49RY9407_1,   P09,    37,  2,      6,    209,2,19940722,0706, 22.0040, 137.3792, 4450,    505.0,  10.3239,  34.2726,2,  34.2703,2,    163.6,2,    165.7,2,    28.13,6,    19.86,6,     0.00,6,     1.41,6, -999.000,9, -999.000,9, -999.000,9,-999.0000,9,  -999.00,9,   -999.0,9,-999.000,9,   -999.0,9,   -999,  -999.0,-999.000,-999.0000,-999.000,  -999.0,-999.000, 10.2637,-999.000
    49RY9407_1,   P09,    37,  2,      5,    218,2,19940722,0706, 22.0040, 137.3792, 4450,    605.6,   7.7727,  34.1632,2,  34.1626,2,    130.0,2,    130.1,2,    48.18,2,    27.82,2,     0.00,2,     2.00,2, -999.000,9, -999.000,9, -999.000,9,-999.0000,9,  -999.00,9,   -999.0,9,-999.000,9,   -999.0,9,   -999,  -999.0,-999.000,-999.0000,-999.000,  -999.0,-999.000,  7.7116,-999.000
    49RY9407_1,   P09,    37,  2,      4,    206,2,19940722,0706, 22.0040, 137.3792, 4450,    706.9,   6.0779,  34.1989,2,  34.1987,2,     93.5,3,     85.2,6,    71.50,2,    35.25,2,     0.00,2,     2.53,2, -999.000,9, -999.000,9, -999.000,9,-999.0000,9,  -999.00,9,   -999.0,9,-999.000,9,   -999.0,9,   -999,  -999.0,-999.000,-999.0000,-999.000,  -999.0,-999.000,  6.0150,-999.000
    49RY9407_1,   P09,    37,  2,      3,    205,2,19940722,0706, 22.0040, 137.3792, 4450,    808.0,   5.2622,  34.2706,2,  34.2715,2,     68.0,2,     66.4,2,    86.61,2,    38.16,2,     0.00,2,     2.75,2, -999.000,9, -999.000,9, -999.000,9,-999.0000,9,  -999.00,9,   -999.0,9,-999.000,9,   -999.0,9,   -999,  -999.0,-999.000,-999.0000,-999.000,  -999.0,-999.000,  5.1947,-999.000
    49RY9407_1,   P09,    37,  2,      2,    216,2,19940722,0706, 22.0040, 137.3792, 4450,    908.4,   4.6618,  34.3489,2,  34.3490,2,     59.6,2,     62.1,2,    98.94,2,    39.66,2,     0.00,2,     2.85,2, -999.000,9, -999.000,9, -999.000,9,-999.0000,9,  -999.00,9,   -999.0,9,-999.000,9,   -999.0,9,   -999,  -999.0,-999.000,-999.0000,-999.000,  -999.0,-999.000,  4.5893,-999.000
    49RY9407_1,   P09,    37,  2,      1,    201,2,19940722,0706, 22.0040, 137.3792, 4450,   1009.2,   4.1134,  34.4008,2,  34.4043,2,     62.2,2,     61.0,2,   110.49,2,    40.45,2,     0.00,2,     2.89,2, -999.000,9, -999.000,9, -999.000,9,-999.0000,9,  -999.00,9,   -999.0,9,-999.000,9,   -999.0,9,   -999,  -999.0,-999.000,-999.0000,-999.000,  -999.0,-999.000,  4.0362,-999.000
    49RY9407_1,   P09,    37,  2,     24,    230,2,19940722,0706, 22.0040, 137.3792, 4450,   1262.5,   3.0820,  34.4855,2,  34.4856,2,     70.0,2,     69.7,2,   131.76,6,    41.02,6,     0.00,6,     2.91,6, -999.000,9, -999.000,9, -999.000,9,-999.0000,9,  -999.00,9,   -999.0,9,-999.000,9,   -999.0,9,   -999,  -999.0,-999.000,-999.0000,-999.000,  -999.0,-999.000,  2.9929,-999.000
    49RY9407_1,   P09,    37,  2,     23,    228,2,19940722,0706, 22.0040, 137.3792, 4450,   1515.1,   2.5611,  34.5555,2,  34.5553,2,     90.4,2,     89.7,2,   138.81,2,    39.92,2,     0.00,2,     2.82,2, -999.000,9, -999.000,9, -999.000,9,-999.0000,9,  -999.00,9,   -999.0,9,-999.000,9,   -999.0,9,   -999,  -999.0,-999.000,-999.0000,-999.000,  -999.0,-999.000,  2.4571,-999.000
    49RY9407_1,   P09,    37,  2,     21,    226,2,19940722,0706, 22.0040, 137.3792, 4450,   1765.5,   2.2397,  34.5969,2,  34.5939,2,    105.8,2,    106.3,2,   140.92,2,    39.09,2,     0.00,2,     2.75,2, -999.000,9, -999.000,9, -999.000,5,   1.8786,2,    19.74,2,   -999.0,9,   7.947,2,   -999.0,9,   -999,  -999.0,-999.000,  0.0037,   0.250,  -999.0,   0.019,  2.1194,-999.000
    49RY9407_1,   P09,    37,  2,     22,    227,2,19940722,0706, 22.0040, 137.3792, 4450,   1765.5,   2.2397,  34.5969,2,  34.5954,2,    105.8,2,    107.5,6,   140.90,6,    39.13,6,     0.00,6,     2.75,6, -999.000,9, -999.000,9, -999.000,9,-999.0000,9,  -999.00,9,   -999.0,9,-999.000,9,   -999.0,9,   -999,  -999.0,-999.000,-999.0000,-999.000,  -999.0,-999.000,  2.1194,-999.000
    49RY9407_1,   P09,    37,  2,     20,    225,2,19940722,0706, 22.0040, 137.3792, 4450,   2019.2,   2.0135,  34.6246,2,  34.6246,2,    115.5,2,    117.4,2,   142.55,2,    38.65,2,     0.00,2,     2.70,2, -999.000,9, -999.000,9, -999.000,9,-999.0000,9,  -999.00,9,   -999.0,9,-999.000,9,   -999.0,9,   -999,  -999.0,-999.000,-999.0000,-999.000,  -999.0,-999.000,  1.8753,-999.000
    49RY9407_1,   P09,    37,  2,     19,    224,2,19940722,0706, 22.0040, 137.3792, 4450,   2273.5,   1.8494,  34.6411,2,  34.6402,2,    126.6,2,    125.7,2,   143.75,6,    38.24,6,     0.00,6,     2.66,6, -999.000,9, -999.000,9, -999.000,5,   1.8776,2,    20.54,2,   -999.0,9,   8.035,2,   -999.0,9,   -999,  -999.0,-999.000,  0.0025,   0.250,  -999.0,   0.020,  1.6920,-999.000
    49RY9407_1,   P09,    37,  2,     18,    223,2,19940722,0706, 22.0040, 137.3792, 4450,   2530.0,   1.7580,  34.6499,2,  34.6490,2,    132.4,2,    131.8,2,   144.19,2,    37.81,2,     0.00,2,     2.64,2, -999.000,9, -999.000,9, -999.000,9,-999.0000,9,  -999.00,9,   -999.0,9,-999.000,9,   -999.0,9,   -999,  -999.0,-999.000,-999.0000,-999.000,  -999.0,-999.000,  1.5795,-999.000
    49RY9407_1,   P09,    37,  2,     17,    203,2,19940722,0706, 22.0040, 137.3792, 4450,   2782.1,   1.6963,  34.6573,2,  34.6571,2,    135.6,2,    135.6,2,   143.92,2,    37.43,2,     0.00,2,     2.61,2, -999.000,9, -999.000,9, -999.000,5,   1.8738,2,    19.67,2,   -999.0,9,   8.021,2,   -999.0,9,   -999,  -999.0,-999.000,  0.0038,   0.260,  2779.0,   0.023,  1.4959,-999.000
    49RY9407_1,   P09,    37,  2,     16,    210,2,19940722,0706, 22.0040, 137.3792, 4450,   3038.8,   1.6404,  34.6641,2,  34.6571,3,    136.6,3,    142.1,6,   143.59,2,    37.51,2,     0.00,2,     2.58,2, -999.000,9, -999.000,9, -999.000,9,-999.0000,9,  -999.00,9,   -999.0,9,-999.000,9,   -999.0,9,   -999,  -999.0,-999.000,-999.0000,-999.000,  -999.0,-999.000,  1.4168,-999.000
    49RY9407_1,   P09,    37,  2,     15,    221,2,19940722,0706, 22.0040, 137.3792, 4450,   3295.3,   1.5928,  34.6695,2,  34.6695,2,    202.6,4,    146.1,2,   142.87,2,    37.22,2,     0.00,2,     2.55,2, -999.000,9, -999.000,9, -999.000,5,   1.8665,2,    18.16,2,   -999.0,9,   8.007,2,   -999.0,9,   -999,  -999.0,   1.588,  0.0025,   0.250,  3289.0,   0.019,  1.3451,-999.000
    49RY9407_1,   P09,    37,  2,     14,    219,2,19940722,0706, 22.0040, 137.3792, 4450,   3548.8,   1.5491,  34.6772,2,  34.6766,2,    150.1,2,    150.8,2,   142.43,2,    36.98,2,     0.00,2,     2.52,2, -999.000,9, -999.000,9, -999.000,9,-999.0000,9,  -999.00,9,   -999.0,9,-999.000,9,   -999.0,9,   -999,  -999.0,-999.000,-999.0000,-999.000,  -999.0,-999.000,  1.2768,-999.000
    49RY9407_1,   P09,    37,  2,     13,    229,2,19940722,0706, 22.0040, 137.3792, 4450,   3806.3,   1.5189,  34.6812,2,  34.6813,2,    154.2,2,    157.3,3,   141.43,6,    36.47,6,     0.00,6,     2.50,6, -999.000,9, -999.000,9, -999.000,5,   1.8752,2,    17.68,2,   -999.0,9,   8.048,2,   -999.0,9,   -999,  -999.0,   1.516,  0.0026,   0.250,  3804.0,   0.020,  1.2204,-999.000
    49RY9407_1,   P09,    37,  2,     12,    217,2,19940722,0706, 22.0040, 137.3792, 4450,   4063.0,   1.5332,  34.6815,2,  34.6819,6,    152.9,2,    156.3,2,   141.08,2,    36.51,2,     0.00,2,     2.50,2, -999.000,9, -999.000,9, -999.000,9,-999.0000,9,  -999.00,9,   -999.0,9,-999.000,9,   -999.0,9,   -999,  -999.0,-999.000,-999.0000,-999.000,  -999.0,-999.000,  1.2065,-999.000
    49RY9407_1,   P09,    37,  2,     11,    204,2,19940722,0706, 22.0040, 137.3792, 4450,   4316.6,   1.5475,  34.6834,2,  34.6821,6,    158.3,2,    158.1,2,   140.88,2,    36.42,2,     0.00,2,     2.50,2, -999.000,9, -999.000,9, -999.000,9,-999.0000,9,  -999.00,9,   -999.0,9,-999.000,9,   -999.0,9,   -999,  -999.0,   1.544,-999.0000,-999.000,  4311.0,-999.000,  1.1921,-999.000
    49RY9407_1,   P09,    37,  2,     10,    214,2,19940722,0706, 22.0040, 137.3792, 4450,   4318.4,   1.5474,  34.6836,2,  34.6831,6,    157.6,2,    158.1,6,   140.78,2,    36.46,2,     0.00,2,     2.50,2, -999.000,9, -999.000,9, -999.000,9,-999.0000,9,  -999.00,9,   -999.0,9,-999.000,9,   -999.0,9,   -999,  -999.0,-999.000,-999.0000,-999.000,  4315.0,-999.000,  1.1918,-999.000
    49RY9407_1,   P09,    37,  2,      9,    213,4,19940722,0706, 22.0040, 137.3792, 4450,   4541.6,   1.5630,  34.6839,2,  34.6846,6,    159.3,2,    160.5,6,   140.69,2,    36.32,2,     0.01,2,     2.49,2, -999.000,9, -999.000,9, -999.000,9,-999.0000,9,  -999.00,9,   -999.0,9,-999.000,9,   -999.0,9,   -999,  -999.0,-999.000,-999.0000,-999.000,  4536.0,-999.000,  1.1813,-999.000
    49RY9407_1,   P09,    37,  3,      2,    216,2,19940722,1022, 22.0078, 137.4482, 4270,      6.0,  27.5962,  34.6909,2,  34.6918,2,    182.1,3,   -999.0,9,  -999.00,9,  -999.00,9,  -999.00,9,  -999.00,9,    1.863,2,    1.186,3,    1.664,2,   1.6662,2,    -1.03,2,   -999.0,9,   6.558,2,   -999.0,9,   -999,  -999.0,-999.000,  0.0025,   0.240,  -999.0,   0.013, 27.5948,   0.019
    49RY9407_1,   P09,    37,  3,      1,    201,2,19940722,1022, 22.0078, 137.4482, 4270,     24.2,  27.5051,  34.7144,2,  34.7156,2,    188.2,3,   -999.0,9,  -999.00,9,  -999.00,9,  -999.00,9,  -999.00,9,    1.505,3,    0.938,4,    1.706,2,-999.0000,5,  -999.00,5,   -999.0,9,-999.000,9,   -999.0,9,   -999,  -999.0,-999.000,-999.0000,-999.000,  -999.0,-999.000, 27.4995,   0.019
    49RY9407_1,   P09,    37,  3,     24,    230,2,19940722,1022, 22.0078, 137.4482, 4270,     49.2,  25.6819,  34.8190,2,  34.7953,2,    209.1,2,   -999.0,9,  -999.00,9,  -999.00,9,  -999.00,9,  -999.00,9,    2.051,2,    1.291,3,    1.744,2,-999.0000,5,  -999.00,5,   -999.0,9,-999.000,9,   -999.0,9,   -999,  -999.0,-999.000,-999.0000,-999.000,  -999.0,-999.000, 25.6711,   0.021
    49RY9407_1,   P09,    37,  3,     23,    228,2,19940722,1022, 22.0078, 137.4482, 4270,     73.2,  21.8313,  34.9448,2,  34.9410,2,    221.0,2,   -999.0,9,  -999.00,9,  -999.00,9,  -999.00,9,  -999.00,9,    2.314,2,    1.427,3,    1.788,2,   1.7041,2,    -1.13,2,   -999.0,9,   6.856,3,   -999.0,9,   -999,  -999.0,-999.000,  0.0023,   0.240,  -999.0,   0.014, 21.8169,   0.022
    49RY9407_1,   P09,    37,  3,     22,    227,2,19940722,1022, 22.0078, 137.4482, 4270,    100.3,  20.7951,  34.9469,2,  34.9461,2,    215.9,2,   -999.0,9,  -999.00,9,  -999.00,9,  -999.00,9,  -999.00,9,    2.321,2,    1.402,3,    1.770,2,   1.6766,2,    -1.36,2,   -999.0,9,   6.803,2,   -999.0,9,   -999,  -999.0,-999.000,  0.0023,   0.240,  -999.0,   0.014, 20.7760,   0.021
    49RY9407_1,   P09,    37,  3,     21,    226,2,19940722,1022, 22.0078, 137.4482, 4270,    151.2,  19.5979,  34.9099,2,  34.9081,2,    186.9,2,   -999.0,9,  -999.00,9,  -999.00,9,  -999.00,9,  -999.00,9,    2.386,2,    1.433,3,    1.853,2,   1.6836,2,    -0.28,2,   -999.0,9,   6.856,2,   -999.0,9,   -999,  -999.0,-999.000,  0.0023,   0.260,  -999.0,   0.017, 19.5704,   0.023
    49RY9407_1,   P09,    37,  3,     20,    225,2,19940722,1022, 22.0078, 137.4482, 4270,    202.4,  18.6839,  34.8848,2,  34.8799,2,    195.7,2,   -999.0,9,  -999.00,9,  -999.00,9,  -999.00,9,  -999.00,9,    2.501,2,    1.530,3,    1.801,2,   1.7043,2,    -0.66,2,   -999.0,9,   6.974,2,   -999.0,9,   -999,  -999.0,-999.000,  0.0023,   0.230,  -999.0,   0.014, 18.6482,   0.021
    49RY9407_1,   P09,    37,  3,     19,    224,2,19940722,1022, 22.0078, 137.4482, 4270,    303.5,  16.7048,  34.7427,2,  34.7448,2,    185.4,2,   -999.0,9,  -999.00,9,  -999.00,9,  -999.00,9,  -999.00,9,    2.381,2,    1.379,3,    2.013,2,   1.7216,2,     1.82,2,   -999.0,9,   7.046,2,   -999.0,9,   -999,  -999.0,-999.000,  0.0023,   0.230,  -999.0,   0.014, 16.6552,   0.024
    49RY9407_1,   P09,    37,  3,     17,    203,2,19940722,1022, 22.0078, 137.4482, 4270,    404.9,  13.4646,  34.4946,2,  34.4863,2,    170.6,2,   -999.0,9,  -999.00,9,  -999.00,9,  -999.00,9,  -999.00,9,    2.139,2,    1.254,3,    2.026,2,   1.7316,2,     7.36,2,   -999.0,9,   7.204,2,   -999.0,9,   -999,  -999.0,-999.000,  0.0024,   0.230,   408.0,   0.014, 13.4075,   0.024
    49RY9407_1,   P09,    37,  3,     18,    223,2,19940722,1022, 22.0078, 137.4482, 4270,    404.9,  13.4646,  34.4946,2,  34.4893,2,    170.6,2,   -999.0,9,  -999.00,9,  -999.00,9,  -999.00,9,  -999.00,9,    2.119,2,    1.236,3,    2.031,2,   1.7330,2,     7.39,2,   -999.0,9,   7.236,2,   -999.0,9,   -999,  -999.0,-999.000,  0.0023,   0.260,  -999.0,   0.018, 13.4075,   0.024
    49RY9407_1,   P09,    37,  3,     16,    210,2,19940722,1022, 22.0078, 137.4482, 4270,    505.1,  10.6026,  34.2693,2,  34.2687,2,    151.0,2,   -999.0,9,  -999.00,9,  -999.00,9,  -999.00,9,  -999.00,9,    1.775,2,    1.086,3,    2.005,2,   1.7690,2,    10.71,2,   -999.0,9,   7.470,2,   -999.0,9,   -999,  -999.0,-999.000,  0.0024,   0.260,  -999.0,   0.018, 10.5414,   0.024
    49RY9407_1,   P09,    37,  3,     15,    221,2,19940722,1022, 22.0078, 137.4482, 4270,    604.3,   8.2809,  34.1862,2,  34.1801,2,    131.4,2,   -999.0,9,  -999.00,9,  -999.00,9,  -999.00,9,  -999.00,9,    1.107,2,    0.684,3, -999.000,5,   1.7823,2,    15.09,2,   -999.0,9,   7.600,2,   -999.0,9,   -999,  -999.0,   8.251,  0.0024,   0.230,   608.0,   0.015,  8.2176,-999.000
    49RY9407_1,   P09,    37,  3,     14,    219,2,19940722,1022, 22.0078, 137.4482, 4270,    706.4,   6.1023,  34.1877,2,  34.1869,2,     81.3,2,   -999.0,9,  -999.00,9,  -999.00,9,  -999.00,9,  -999.00,9,    0.417,2,    0.363,3,    0.797,2,   1.8059,2,    14.42,2,   -999.0,9,   7.733,2,   -999.0,9,   -999,  -999.0,-999.000,  0.0025,   0.230,  -999.0,   0.015,  6.0394,   0.011
    49RY9407_1,   P09,    37,  3,     13,    229,4,19940722,1022, 22.0078, 137.4482, 4270,    806.9,   5.2108,  34.2771,2,  34.2764,2,     59.8,2,   -999.0,9,  -999.00,9,  -999.00,9,  -999.00,9,  -999.00,9,    0.144,2,    0.076,3,    0.376,2,   1.8530,2,    12.84,2,   -999.0,9,   8.217,4,   -999.0,9,   -999,  -999.0,   5.205,  0.0027,   0.230,   803.0,   0.016,  5.1437,   0.007
    49RY9407_1,   P09,    37,  3,     12,    217,2,19940722,1022, 22.0078, 137.4482, 4270,   1009.4,   4.0566,  34.4147,2,  34.4116,2,     57.9,2,   -999.0,9,  -999.00,9,  -999.00,9,  -999.00,9,  -999.00,9,    0.035,2,    0.738,4,    0.089,2,   1.8135,2,    15.76,2,   -999.0,9,   7.753,2,   -999.0,9,   -999,  -999.0,-999.000,  0.0024,   0.230,  -999.0,   0.016,  3.9798,   0.004
    49RY9407_1,   P09,    37,  3,     11,    204,2,19940722,1022, 22.0078, 137.4482, 4270,   1259.8,   3.0468,  34.4889,2,  34.4883,2,     68.0,2,   -999.0,9,  -999.00,9,  -999.00,9,  -999.00,9,  -999.00,9,    0.016,2,    1.706,4,    0.044,2,   1.8608,2,    17.73,2,   -999.0,9,   7.913,2,   -999.0,9,   -999,  -999.0,   3.047,  0.0025,   0.260,  1255.0,   0.019,  2.9582,   0.004
    49RY9407_1,   P09,    37,  3,     10,    214,2,19940722,1022, 22.0078, 137.4482, 4270,   1506.5,   2.5842,  34.5523,2,  34.5511,2,     87.6,2,   -999.0,9,  -999.00,9,  -999.00,9,  -999.00,9,  -999.00,9,    0.000,2,    0.389,4,    0.034,2,   1.8560,2,    18.68,2,   -999.0,9,   7.916,2,   -999.0,9,   -999,  -999.0,-999.000,  0.0026,   0.250,  1482.0,   0.019,  2.4807,   0.005
    49RY9407_1,   P09,    37,  3,      9,    213,2,19940722,1022, 22.0078, 137.4482, 4270,   1509.6,   2.5800,  34.5533,2,  34.5543,2,     86.8,2,   -999.0,9,  -999.00,9,  -999.00,9,  -999.00,9,  -999.00,9, -999.000,9, -999.000,9, -999.000,9,-999.0000,9,  -999.00,9,   -999.0,9,-999.000,9,   -999.0,9,   -999,  -999.0,-999.000,-999.0000,-999.000,  1502.0,-999.000,  2.4763,-999.000