BOTTLE,20020306WHPSIOdm
EXPOCODE,SECT_ID,STNNBR,CASTNO,SAMPNO,BTLNBR,BTLNBR_FLAG_W,DATE,TIME,LATITUDE,LONGITUDE,DEPTH,CTDPRS,CTDTMP,CTDSAL,CTDSAL_FLAG_W,SALNTY,SALNTY_FLAG_W,CTDOXY,CTDOXY_FLAG_W,OXYGEN,OXYGEN_FLAG_W,SILCAT,SILCAT_FLAG_W,NITRAT,NITRAT_FLAG_W,NITRIT,NITRIT_FLAG_W,PHSPHT,PHSPHT_FLAG_W,CFC-11,CFC-11_FLAG_W,CFC-12,CFC-12_FLAG_W,TRITUM,TRITUM_FLAG_W,HELIUM,HELIUM_FLAG_W,DELHE3,DELHE3_FLAG_W,DELC14,DELC14_FLAG_W,NEON,NEON_FLAG_W,TCARBN,TCARBN_FLAG_W,CTDRAW,C14ERR,REVTMP,HELIER,DELHER,REVPRS,NEONER,THETA,TRITER
,,,,,,,,,,,,DBAR,ITS-90,PSS-78,,PSS-78,,UMOL/KG,,UMOL/KG,,UMOL/KG,,UMOL/KG,,UMOL/KG,,UMOL/KG,,PMOL/KG,,PMOL/KG,,TU,,NMOL/KG,,PERCNT,,/MILLE,,NMOL/KG,,UMOL/KG,,,/MILLE,ITS-90,NMOL/KG,PERCNT,DBAR,NMOL/KG,DEG C,TU
    49RY9407_2,   P09,    60,  2,     10,    224,2,19940803,1243, 10.5127, 137.0205, 4730,    602.9,   6.6939,  34.5109,2,  34.5112,2,     90.0,2,     91.2,2,    55.99,2,    35.16,2,     0.00,2,     2.51,2, -999.000,9, -999.000,9, -999.000,9,-999.0000,9,  -999.00,9,   -999.0,9,-999.000,9,   -999.0,9,   -999,  -999.0,-999.000,-999.0000,-999.000,  -999.0,-999.000,  6.6376,-999.000
    49RY9407_2,   P09,    60,  2,      9,    223,2,19940803,1243, 10.5127, 137.0205, 4730,    704.2,   5.9216,  34.4824,2,  34.4868,2,     93.1,3,     86.8,2,    69.36,2,    36.56,2,     0.00,2,     2.63,2, -999.000,9, -999.000,9, -999.000,9,-999.0000,9,  -999.00,9,   -999.0,9,-999.000,9,   -999.0,9,   -999,  -999.0,-999.000,-999.0000,-999.000,  -999.0,-999.000,  5.8595,-999.000
    49RY9407_2,   P09,    60,  2,      8,    212,2,19940803,1243, 10.5127, 137.0205, 4730,    805.9,   5.4917,  34.5102,2,  34.5116,2,     87.4,2,     86.8,2,    75.30,2,    37.46,2,     0.00,2,     2.69,2, -999.000,9, -999.000,9, -999.000,9,-999.0000,9,  -999.00,9,   -999.0,9,-999.000,9,   -999.0,9,   -999,  -999.0,-999.000,-999.0000,-999.000,  -999.0,-999.000,  5.4227,-999.000
    49RY9407_2,   P09,    60,  2,      6,    209,4,19940803,1243, 10.5127, 137.0205, 4730,    906.2,   4.9630,  34.5234,2,  34.5244,2,     88.1,2,     86.2,2,    84.69,2,    37.96,2,     0.00,2,     2.74,2, -999.000,9, -999.000,9, -999.000,9,-999.0000,9,  -999.00,9,   -999.0,9,-999.000,9,   -999.0,9,   -999,  -999.0,-999.000,-999.0000,-999.000,  -999.0,-999.000,  4.8884,-999.000
    49RY9407_2,   P09,    60,  2,      7,    220,2,19940803,1243, 10.5127, 137.0205, 4730,    906.2,   4.9630,  34.5234,2,  34.5183,2,     88.1,2,     86.3,2,    84.91,2,    38.14,2,     0.00,2,     2.74,2, -999.000,9, -999.000,9, -999.000,9,-999.0000,9,  -999.00,9,   -999.0,9,-999.000,9,   -999.0,9,   -999,  -999.0,-999.000,-999.0000,-999.000,  -999.0,-999.000,  4.8884,-999.000
    49RY9407_2,   P09,    60,  2,      5,    218,2,19940803,1243, 10.5127, 137.0205, 4730,   1260.8,   3.4590,  34.5711,2,  34.5712,2,     93.9,2,     93.2,6,   115.13,2,    39.12,2,     0.00,2,     2.81,2, -999.000,9, -999.000,9, -999.000,9,-999.0000,9,  -999.00,9,   -999.0,9,-999.000,9,   -999.0,9,   -999,  -999.0,-999.000,-999.0000,-999.000,  -999.0,-999.000,  3.3663,-999.000
    49RY9407_2,   P09,    60,  2,      4,    206,2,19940803,1243, 10.5127, 137.0205, 4730,   1514.6,   2.8136,  34.6018,2,  34.6017,2,    101.9,2,    104.5,2,   126.43,2,    39.19,2,     0.00,2,     2.80,2, -999.000,9, -999.000,9, -999.000,9,-999.0000,9,  -999.00,9,   -999.0,9,-999.000,9,   -999.0,9,   -999,  -999.0,-999.000,-999.0000,-999.000,  -999.0,-999.000,  2.7066,-999.000
    49RY9407_2,   P09,    60,  2,      3,    205,2,19940803,1243, 10.5127, 137.0205, 4730,   1768.1,   2.3869,  34.6237,2,  34.6231,2,    108.4,2,    110.9,2,   133.72,6,    38.82,6,     0.00,6,     2.78,6, -999.000,9, -999.000,9, -999.000,9,-999.0000,9,  -999.00,9,   -999.0,9,-999.000,9,   -999.0,9,   -999,  -999.0,-999.000,-999.0000,-999.000,  -999.0,-999.000,  2.2643,-999.000
    49RY9407_2,   P09,    60,  2,      2,    216,2,19940803,1243, 10.5127, 137.0205, 4730,   2023.1,   2.1337,  34.6368,2,  34.6365,2,    117.6,2,    117.2,2,   138.34,2,    38.44,2,     0.01,2,     2.74,2, -999.000,9, -999.000,9, -999.000,9,-999.0000,9,  -999.00,9,   -999.0,9,-999.000,9,   -999.0,9,   -999,  -999.0,-999.000,-999.0000,-999.000,  -999.0,-999.000,  1.9933,-999.000
    49RY9407_2,   P09,    60,  2,      1,    201,2,19940803,1243, 10.5127, 137.0205, 4730,   2274.4,   1.9016,  34.6489,2,  34.6487,2,    123.9,2,    125.3,2,   142.28,2,    37.98,2,     0.00,2,     2.71,2, -999.000,9, -999.000,9, -999.000,9,-999.0000,9,  -999.00,9,   -999.0,9,-999.000,9,   -999.0,9,   -999,  -999.0,-999.000,-999.0000,-999.000,  -999.0,-999.000,  1.7432,-999.000
    49RY9407_2,   P09,    60,  2,     24,    222,2,19940803,1243, 10.5127, 137.0205, 4730,   2529.6,   1.7488,  34.6589,2,  34.6577,2,    131.2,2,    130.9,2,   144.25,2,    37.84,2,     0.00,2,     2.67,2, -999.000,9, -999.000,9, -999.000,9,-999.0000,9,  -999.00,9,   -999.0,9,-999.000,9,   -999.0,9,   -999,  -999.0,-999.000,-999.0000,-999.000,  -999.0,-999.000,  1.5705,-999.000
    49RY9407_2,   P09,    60,  2,     23,    228,2,19940803,1243, 10.5127, 137.0205, 4730,   2784.7,   1.6672,  34.6643,2,  34.6638,2,    135.8,2,    134.8,2,   145.48,2,    37.43,2,     0.00,2,     2.65,2, -999.000,9, -999.000,9, -999.000,9,-999.0000,9,  -999.00,9,   -999.0,9,-999.000,9,   -999.0,9,   -999,  -999.0,-999.000,-999.0000,-999.000,  -999.0,-999.000,  1.4671,-999.000
    49RY9407_2,   P09,    60,  2,     22,    227,2,19940803,1243, 10.5127, 137.0205, 4730,   3038.5,   1.5855,  34.6719,2,  34.6692,2,    142.5,2,    144.9,2,   142.97,2,    36.85,2,     0.00,2,     2.60,2, -999.000,9, -999.000,9, -999.000,9,-999.0000,9,  -999.00,9,   -999.0,9,-999.000,9,   -999.0,9,   -999,  -999.0,-999.000,-999.0000,-999.000,  -999.0,-999.000,  1.3631,-999.000
    49RY9407_2,   P09,    60,  2,     21,    226,2,19940803,1243, 10.5127, 137.0205, 4730,   3296.1,   1.5604,  34.6754,2,  34.6745,2,    148.3,2,    147.4,2,   142.24,6,    36.65,6,     0.00,6,     2.58,6, -999.000,9, -999.000,9, -999.000,9,-999.0000,9,  -999.00,9,   -999.0,9,-999.000,9,   -999.0,9,   -999,  -999.0,-999.000,-999.0000,-999.000,  -999.0,-999.000,  1.3133,-999.000
    49RY9407_2,   P09,    60,  2,     20,    203,2,19940803,1243, 10.5127, 137.0205, 4730,   3551.4,   1.5407,  34.6779,2,  34.6760,2,    151.6,2,    150.5,2,   141.78,2,    36.46,2,     0.00,2,     2.57,2, -999.000,9, -999.000,9, -999.000,9,-999.0000,9,  -999.00,9,   -999.0,9,-999.000,9,   -999.0,9,   -999,  -999.0,-999.000,-999.0000,-999.000,  3549.0,-999.000,  1.2683,-999.000
    49RY9407_2,   P09,    60,  2,     18,    221,2,19940803,1243, 10.5127, 137.0205, 4730,   3808.1,   1.5336,  34.6801,2,  34.6794,2,    154.2,2,    154.5,2,   140.77,2,    36.10,2,     0.00,2,     2.55,2, -999.000,9, -999.000,9, -999.000,9,-999.0000,9,  -999.00,9,   -999.0,9,-999.000,9,   -999.0,9,   -999,  -999.0,-999.000,-999.0000,-999.000,  -999.0,-999.000,  1.2344,-999.000
    49RY9407_2,   P09,    60,  2,     19,    210,2,19940803,1243, 10.5127, 137.0205, 4730,   3808.1,   1.5336,  34.6801,2,  34.6758,3,    154.2,2,    152.8,2,   141.61,2,    36.50,2,     0.00,2,     2.57,2, -999.000,9, -999.000,9, -999.000,9,-999.0000,9,  -999.00,9,   -999.0,9,-999.000,9,   -999.0,9,   -999,  -999.0,-999.000,-999.0000,-999.000,  -999.0,-999.000,  1.2344,-999.000
    49RY9407_2,   P09,    60,  2,     17,    219,2,19940803,1243, 10.5127, 137.0205, 4730,   4063.2,   1.5330,  34.6828,2,  34.6800,3,    156.7,2,    156.9,2,   140.11,2,    36.07,2,     0.00,2,     2.53,2, -999.000,9, -999.000,9, -999.000,9,-999.0000,9,  -999.00,9,   -999.0,9,-999.000,9,   -999.0,9,   -999,  -999.0,-999.000,-999.0000,-999.000,  -999.0,-999.000,  1.2063,-999.000
    49RY9407_2,   P09,    60,  2,     16,    229,2,19940803,1243, 10.5127, 137.0205, 4730,   4320.0,   1.5471,  34.6838,2,  34.6832,6,    155.7,2,    157.9,2,   139.85,2,    36.03,2,     0.00,2,     2.58,3, -999.000,9, -999.000,9, -999.000,9,-999.0000,9,  -999.00,9,   -999.0,9,-999.000,9,   -999.0,9,   -999,  -999.0,   1.541,-999.0000,-999.000,  4321.0,-999.000,  1.1913,-999.000
    49RY9407_2,   P09,    60,  2,     15,    217,2,19940803,1243, 10.5127, 137.0205, 4730,   4575.4,   1.5553,  34.6850,2,  34.6851,2,    159.9,2,    159.5,2,   138.91,6,    35.93,6,     0.00,6,     2.52,6, -999.000,9, -999.000,9, -999.000,9,-999.0000,9,  -999.00,9,   -999.0,9,-999.000,9,   -999.0,9,   -999,  -999.0,-999.000,-999.0000,-999.000,  -999.0,-999.000,  1.1698,-999.000
    49RY9407_2,   P09,    60,  2,     14,    204,2,19940803,1243, 10.5127, 137.0205, 4730,   4832.9,   1.5639,  34.6866,2,  34.6853,3,    161.7,2,    164.2,3,   138.30,2,    35.80,2,     0.00,2,     2.51,2, -999.000,9, -999.000,9, -999.000,9,-999.0000,9,  -999.00,9,   -999.0,9,-999.000,9,   -999.0,9,   -999,  -999.0,   1.558,-999.0000,-999.000,  4832.0,-999.000,  1.1477,-999.000
    49RY9407_2,   P09,    60,  2,     13,    214,2,19940803,1243, 10.5127, 137.0205, 4730,   5098.6,   1.5866,  34.6834,2,  34.6865,6,    165.5,2,    162.3,2,   138.02,2,    35.65,2,     0.00,2,     2.49,2, -999.000,9, -999.000,9, -999.000,9,-999.0000,9,  -999.00,9,   -999.0,9,-999.000,9,   -999.0,9,   -999,  -999.0,-999.000,-999.0000,-999.000,  5107.0,-999.000,  1.1374,-999.000
    49RY9407_2,   P09,    60,  2,     12,    213,4,19940803,1243, 10.5127, 137.0205, 4730,   5099.2,   1.5861,  34.6858,2,  34.6869,2,    165.5,2,   -999.0,9,  -999.00,9,  -999.00,9,  -999.00,9,  -999.00,9, -999.000,9, -999.000,9, -999.000,9,-999.0000,9,  -999.00,9,   -999.0,9,-999.000,9,   -999.0,9,   -999,  -999.0,-999.000,-999.0000,-999.000,  5094.0,-999.000,  1.1368,-999.000
    49RY9407_2,   P09,    61,  1,      0,      0,2,19940803,0150,  9.9972, 136.9970, 4850,      1.2,  28.8580,  33.7806,2,-999.0000,9,    195.2,2,    196.8,6,     1.53,6,     0.07,6,     0.00,6,     0.03,6, -999.000,9, -999.000,9, -999.000,9,-999.0000,9,  -999.00,9,     89.5,3,-999.000,9,   1872.2,2,   -999,     8.9,-999.000,-999.0000,-999.000,  -999.0,-999.000, 28.8577,-999.000
    49RY9407_2,   P09,    61,  1,     21,    226,2,19940803,0150,  9.9972, 136.9970, 4850,      9.5,  28.8563,  33.7830,2,  33.7806,2,    193.7,2,    196.2,2,     1.49,2,     0.05,2,     0.00,2,     0.03,2, -999.000,9, -999.000,9, -999.000,9,-999.0000,9,  -999.00,9,     85.9,3,-999.000,9,   1873.5,6,   -999,     9.7,-999.000,-999.0000,-999.000,  -999.0,-999.000, 28.8540,-999.000
    49RY9407_2,   P09,    61,  1,     20,    203,3,19940803,0150,  9.9972, 136.9970, 4850,     24.4,  28.8576,  33.7809,2,-999.0000,9,    195.3,2,   -999.0,9,  -999.00,9,  -999.00,9,  -999.00,9,  -999.00,9, -999.000,9, -999.000,9, -999.000,9,-999.0000,9,  -999.00,9,   -999.0,9,-999.000,9,   -999.0,5,   -999,  -999.0,-999.000,-999.0000,-999.000,    28.0,-999.000, 28.8517,-999.000
    49RY9407_2,   P09,    61,  1,     19,    210,2,19940803,0150,  9.9972, 136.9970, 4850,     50.0,  28.8707,  33.8000,2,  33.7972,2,    194.6,2,    196.0,2,     1.58,2,     0.05,2,     0.00,2,     0.05,2, -999.000,9, -999.000,9, -999.000,9,-999.0000,9,  -999.00,9,     80.0,3,-999.000,9,   1874.6,2,   -999,     9.7,-999.000,-999.0000,-999.000,  -999.0,-999.000, 28.8587,-999.000
    49RY9407_2,   P09,    61,  1,     18,    221,2,19940803,0150,  9.9972, 136.9970, 4850,     75.3,  28.3686,  34.2324,2,  34.2196,2,    198.1,2,    199.7,2,     1.80,2,     0.04,2,     0.00,2,     0.06,2, -999.000,9, -999.000,9, -999.000,9,-999.0000,9,  -999.00,9,     91.7,3,-999.000,9,   1907.4,2,   -999,     9.1,-999.000,-999.0000,-999.000,    77.0,-999.000, 28.3507,-999.000
    49RY9407_2,   P09,    61,  1,     17,    219,3,19940803,0150,  9.9972, 136.9970, 4850,    100.5,  25.4639,  34.5513,2,-999.0000,9,    182.2,2,   -999.0,9,  -999.00,9,  -999.00,9,  -999.00,9,  -999.00,9, -999.000,9, -999.000,9, -999.000,9,-999.0000,9,  -999.00,9,   -999.0,9,-999.000,9,   -999.0,5,   -999,  -999.0,-999.000,-999.0000,-999.000,  -999.0,-999.000, 25.4418,-999.000
    49RY9407_2,   P09,    61,  1,     15,    217,2,19940803,0150,  9.9972, 136.9970, 4850,    124.9,  21.9419,  34.9584,2,  34.9588,2,    174.7,2,    179.3,2,     2.89,2,     1.88,2,     0.08,2,     0.31,2, -999.000,9, -999.000,9, -999.000,9,-999.0000,9,  -999.00,9,    107.9,3,-999.000,9,   2019.1,3,   -999,     8.6,-999.000,-999.0000,-999.000,  -999.0,-999.000, 21.9173,-999.000
    49RY9407_2,   P09,    61,  1,     16,    229,2,19940803,0150,  9.9972, 136.9970, 4850,    124.9,  21.9419,  34.9584,2,  34.9602,2,    174.7,2,    179.0,2,     2.89,2,     1.88,2,     0.08,2,     0.31,2, -999.000,9, -999.000,9, -999.000,9,-999.0000,9,  -999.00,9,    108.8,3,-999.000,9,   2022.4,2,   -999,     9.0,  21.950,-999.0000,-999.000,   121.0,-999.000, 21.9173,-999.000
    49RY9407_2,   P09,    61,  1,     14,    204,4,19940803,0150,  9.9972, 136.9970, 4850,    151.3,  17.9389,  34.8003,2,  34.8054,2,    163.2,2,    168.2,2,     6.38,2,     7.09,2,     0.02,2,     0.62,2, -999.000,9, -999.000,9, -999.000,9,-999.0000,9,  -999.00,9,     96.7,3,-999.000,9,   2058.2,2,   -999,     9.6,  17.953,-999.0000,-999.000,   149.0,-999.000, 17.9131,-999.000
    49RY9407_2,   P09,    61,  1,     13,    214,2,19940803,0150,  9.9972, 136.9970, 4850,    301.4,   9.8592,  34.4749,2,  34.4847,2,     88.0,2,     83.4,2,    35.88,6,    29.36,6,     0.01,6,     2.14,6, -999.000,9, -999.000,9, -999.000,9,-999.0000,9,  -999.00,9,    -47.7,3,-999.000,9,   2209.0,2,   -999,     7.7,-999.000,-999.0000,-999.000,   304.0,-999.000,  9.8246,-999.000
    49RY9407_2,   P09,    61,  1,     12,    213,2,19940803,0150,  9.9972, 136.9970, 4850,    404.3,   7.7851,  34.4580,2,  34.4587,2,     78.2,2,     81.1,2,    49.39,6,    33.27,6,     0.01,6,     2.41,6, -999.000,9, -999.000,9, -999.000,9,-999.0000,9,  -999.00,9,   -104.3,3,-999.000,9,   2238.3,2,   -999,     8.9,-999.000,-999.0000,-999.000,   403.0,-999.000,  7.7446,-999.000