BOTTLE,20020306WHPSIOdm
EXPOCODE,SECT_ID,STNNBR,CASTNO,SAMPNO,BTLNBR,BTLNBR_FLAG_W,DATE,TIME,LATITUDE,LONGITUDE,DEPTH,CTDPRS,CTDTMP,CTDSAL,CTDSAL_FLAG_W,SALNTY,SALNTY_FLAG_W,CTDOXY,CTDOXY_FLAG_W,OXYGEN,OXYGEN_FLAG_W,SILCAT,SILCAT_FLAG_W,NITRAT,NITRAT_FLAG_W,NITRIT,NITRIT_FLAG_W,PHSPHT,PHSPHT_FLAG_W,CFC-11,CFC-11_FLAG_W,CFC-12,CFC-12_FLAG_W,TRITUM,TRITUM_FLAG_W,HELIUM,HELIUM_FLAG_W,DELHE3,DELHE3_FLAG_W,DELC14,DELC14_FLAG_W,NEON,NEON_FLAG_W,TCARBN,TCARBN_FLAG_W,CTDRAW,C14ERR,REVTMP,HELIER,DELHER,REVPRS,NEONER,THETA,TRITER
,,,,,,,,,,,,DBAR,ITS-90,PSS-78,,PSS-78,,UMOL/KG,,UMOL/KG,,UMOL/KG,,UMOL/KG,,UMOL/KG,,UMOL/KG,,PMOL/KG,,PMOL/KG,,TU,,NMOL/KG,,PERCNT,,/MILLE,,NMOL/KG,,UMOL/KG,,,/MILLE,ITS-90,NMOL/KG,PERCNT,DBAR,NMOL/KG,DEG C,TU
    49RY9407_1,   P09,    50,  1,      0,      0,2,19940725,1751, 15.5052, 136.9992, 5130,      1.2,  29.8311,  34.1876,2,-999.0000,9,    157.4,4,    195.4,6,     1.36,2,     0.04,2,     0.00,2,     0.01,2, -999.000,9, -999.000,9, -999.000,9,-999.0000,9,  -999.00,9,   -999.0,9,-999.000,9,   -999.0,9,   -999,  -999.0,-999.000,-999.0000,-999.000,  -999.0,-999.000, 29.8308,-999.000
    49RY9407_1,   P09,    50,  1,     22,    227,2,19940725,1751, 15.5052, 136.9992, 5130,     10.3,  29.8430,  34.2151,2,  34.2145,2,    185.8,3,    194.3,2,     1.28,2,     0.01,2,     0.00,2,     0.01,2, -999.000,9, -999.000,9, -999.000,9,-999.0000,9,  -999.00,9,   -999.0,9,-999.000,9,   -999.0,9,   -999,  -999.0,-999.000,-999.0000,-999.000,  -999.0,-999.000, 29.8405,-999.000
    49RY9407_1,   P09,    50,  1,     21,    226,2,19940725,1751, 15.5052, 136.9992, 5130,     25.0,  29.8514,  34.2200,2,  34.2192,2,    191.2,3,    194.0,2,     1.27,2,     0.02,2,     0.00,2,     0.02,2, -999.000,9, -999.000,9, -999.000,9,-999.0000,9,  -999.00,9,   -999.0,9,-999.000,9,   -999.0,9,   -999,  -999.0,-999.000,-999.0000,-999.000,  -999.0,-999.000, 29.8452,-999.000
    49RY9407_1,   P09,    50,  1,     20,    203,2,19940725,1751, 15.5052, 136.9992, 5130,     49.6,  29.7626,  34.2452,2,  34.2406,2,    187.3,3,    196.0,2,     1.27,2,     0.04,2,     0.00,2,     0.01,2, -999.000,9, -999.000,9, -999.000,9,-999.0000,9,  -999.00,9,   -999.0,9,-999.000,9,   -999.0,9,   -999,  -999.0,-999.000,-999.0000,-999.000,    54.0,-999.000, 29.7504,-999.000
    49RY9407_1,   P09,    50,  1,     19,    210,2,19940725,1751, 15.5052, 136.9992, 5130,     75.2,  28.4282,  34.3478,2,  34.3214,2,    200.7,2,    203.7,2,     1.27,2,     0.00,2,     0.00,2,     0.04,2, -999.000,9, -999.000,9, -999.000,9,-999.0000,9,  -999.00,9,   -999.0,9,-999.000,9,   -999.0,9,   -999,  -999.0,-999.000,-999.0000,-999.000,  -999.0,-999.000, 28.4103,-999.000
    49RY9407_1,   P09,    50,  1,     18,    221,2,19940725,1751, 15.5052, 136.9992, 5130,    100.5,  27.5232,  34.6430,2,  34.6226,2,    196.4,3,    179.8,2,     1.15,2,     0.01,2,     0.00,2,     0.05,2, -999.000,9, -999.000,9, -999.000,9,-999.0000,9,  -999.00,9,   -999.0,9,-999.000,9,   -999.0,9,   -999,  -999.0,  27.550,-999.0000,-999.000,   102.0,-999.000, 27.4998,-999.000
    49RY9407_1,   P09,    50,  1,     17,    219,2,19940725,1751, 15.5052, 136.9992, 5130,    125.8,  26.4213,  34.8735,2,  34.8735,2,    199.8,2,    201.5,2,     1.11,6,     0.00,6,     0.00,6,     0.04,6, -999.000,9, -999.000,9, -999.000,9,-999.0000,9,  -999.00,9,   -999.0,9,-999.000,9,   -999.0,9,   -999,  -999.0,-999.000,-999.0000,-999.000,  -999.0,-999.000, 26.3929,-999.000
    49RY9407_1,   P09,    50,  1,     16,    229,2,19940725,1751, 15.5052, 136.9992, 5130,    150.1,  25.3208,  35.0152,2,  35.0164,2,    194.6,2,    196.2,2,     1.14,2,     0.00,2,     0.17,2,     0.05,2, -999.000,9, -999.000,9, -999.000,9,-999.0000,9,  -999.00,9,   -999.0,9,-999.000,9,   -999.0,9,   -999,  -999.0,  25.310,-999.0000,-999.000,   145.0,-999.000, 25.2879,-999.000
    49RY9407_1,   P09,    50,  1,     15,    217,2,19940725,1751, 15.5052, 136.9992, 5130,    201.1,  22.0031,  35.0829,2,  35.0728,2,    180.0,2,    182.1,6,     1.93,2,     1.35,2,     0.01,2,     0.18,2, -999.000,9, -999.000,9, -999.000,9,-999.0000,9,  -999.00,9,   -999.0,9,-999.000,9,   -999.0,9,   -999,  -999.0,-999.000,-999.0000,-999.000,  -999.0,-999.000, 21.9633,-999.000
    49RY9407_1,   P09,    50,  1,     14,    204,2,19940725,1751, 15.5052, 136.9992, 5130,    301.3,  14.1686,  34.5212,2,  34.5279,2,    161.6,2,    161.9,2,    12.56,2,    12.73,2,     0.00,2,     0.96,2, -999.000,9, -999.000,9, -999.000,9,-999.0000,9,  -999.00,9,   -999.0,9,-999.000,9,   -999.0,9,   -999,  -999.0,  14.244,-999.0000,-999.000,   298.0,-999.000, 14.1247,-999.000
    49RY9407_1,   P09,    50,  1,     13,    214,2,19940725,1751, 15.5052, 136.9992, 5130,    402.2,  10.2321,  34.3439,2,  34.3447,2,    114.5,2,    110.0,2,    30.42,2,    25.06,2,     0.00,2,     1.86,2, -999.000,9, -999.000,9, -999.000,9,-999.0000,9,  -999.00,9,   -999.0,9,-999.000,9,   -999.0,9,   -999,  -999.0,-999.000,-999.0000,-999.000,   402.0,-999.000, 10.1847,-999.000
    49RY9407_1,   P09,    50,  1,     12,    213,2,19940725,1751, 15.5052, 136.9992, 5130,    503.6,   8.0540,  34.3783,2,  34.3781,2,     69.7,2,     73.5,2,    49.15,2,    32.84,2,     0.00,2,     2.40,2, -999.000,9, -999.000,9, -999.000,9,-999.0000,9,  -999.00,9,   -999.0,9,-999.000,9,   -999.0,9,   -999,  -999.0,-999.000,-999.0000,-999.000,   503.0,-999.000,  8.0023,-999.000
    49RY9407_1,   P09,    50,  2,     10,    224,2,19940725,1959, 15.5088, 136.9905, 4955,    604.7,   6.9986,  34.3801,2,  34.3803,2,     73.0,2,     71.7,2,    61.10,2,    35.20,2,     0.00,2,     2.56,2, -999.000,9, -999.000,9, -999.000,9,-999.0000,9,  -999.00,9,   -999.0,9,-999.000,9,   -999.0,9,   -999,  -999.0,-999.000,-999.0000,-999.000,  -999.0,-999.000,  6.9409,-999.000
    49RY9407_1,   P09,    50,  2,      9,    223,2,19940725,1959, 15.5088, 136.9905, 4955,    706.2,   6.1509,  34.4400,2,  34.4397,2,     77.1,2,     72.1,2,    71.17,2,    36.79,2,     0.00,2,     2.67,2, -999.000,9, -999.000,9, -999.000,9,-999.0000,9,  -999.00,9,   -999.0,9,-999.000,9,   -999.0,9,   -999,  -999.0,-999.000,-999.0000,-999.000,  -999.0,-999.000,  6.0875,-999.000
    49RY9407_1,   P09,    50,  2,      8,    212,2,19940725,1959, 15.5088, 136.9905, 4955,    807.0,   5.5560,  34.4697,2,  34.4692,2,     84.4,3,     76.4,6,    78.93,6,    37.58,6,     0.00,6,     2.71,6, -999.000,9, -999.000,9, -999.000,9,-999.0000,9,  -999.00,9,   -999.0,9,-999.000,9,   -999.0,9,   -999,  -999.0,-999.000,-999.0000,-999.000,  -999.0,-999.000,  5.4865,-999.000
    49RY9407_1,   P09,    50,  2,      6,    209,2,19940725,1959, 15.5088, 136.9905, 4955,    907.4,   5.0063,  34.4940,2,  34.4948,2,     88.0,3,     81.9,2,    87.91,2,    38.08,2,     0.00,2,     2.75,2, -999.000,9, -999.000,9, -999.000,9,-999.0000,9,  -999.00,9,   -999.0,9,-999.000,9,   -999.0,9,   -999,  -999.0,-999.000,-999.0000,-999.000,  -999.0,-999.000,  4.9313,-999.000
    49RY9407_1,   P09,    50,  2,      7,    220,2,19940725,1959, 15.5088, 136.9905, 4955,    907.4,   5.0063,  34.4940,2,  34.4940,2,     88.0,3,     80.8,2,    87.80,2,    38.10,2,     0.00,2,     2.75,2, -999.000,9, -999.000,9, -999.000,9,-999.0000,9,  -999.00,9,   -999.0,9,-999.000,9,   -999.0,9,   -999,  -999.0,-999.000,-999.0000,-999.000,  -999.0,-999.000,  4.9313,-999.000
    49RY9407_1,   P09,    50,  2,      5,    218,4,19940725,1959, 15.5088, 136.9905, 4955,   1008.7,   4.5819,  34.5119,2,  34.5135,2,     91.3,3,     84.0,2,    95.63,2,    38.28,2,     0.00,2,     2.76,2, -999.000,9, -999.000,9, -999.000,9,-999.0000,9,  -999.00,9,   -999.0,9,-999.000,9,   -999.0,9,   -999,  -999.0,-999.000,-999.0000,-999.000,  -999.0,-999.000,  4.5010,-999.000
    49RY9407_1,   P09,    50,  2,      4,    206,2,19940725,1959, 15.5088, 136.9905, 4955,   1514.7,   3.0402,  34.5729,2,  34.5734,2,    101.7,2,     99.3,2,   125.62,2,    38.83,2,     0.00,2,     2.79,2, -999.000,9, -999.000,9, -999.000,9,-999.0000,9,  -999.00,9,   -999.0,9,-999.000,9,   -999.0,9,   -999,  -999.0,-999.000,-999.0000,-999.000,  -999.0,-999.000,  2.9306,-999.000
    49RY9407_1,   P09,    50,  2,      3,    205,2,19940725,1959, 15.5088, 136.9905, 4955,   1768.5,   2.5820,  34.5959,2,  34.5956,2,    105.1,2,    105.0,2,   134.75,2,    38.94,2,     0.00,2,     2.79,2, -999.000,9, -999.000,9, -999.000,9,-999.0000,9,  -999.00,9,   -999.0,9,-999.000,9,   -999.0,9,   -999,  -999.0,-999.000,-999.0000,-999.000,  -999.0,-999.000,  2.4568,-999.000
    49RY9407_1,   P09,    50,  2,      2,    216,2,19940725,1959, 15.5088, 136.9905, 4955,   2021.0,   2.2350,  34.6191,2,  34.6183,2,    112.7,2,    115.4,3,   139.97,2,    38.75,2,     0.00,2,     2.75,2, -999.000,9, -999.000,9, -999.000,9,-999.0000,9,  -999.00,9,   -999.0,9,-999.000,9,   -999.0,9,   -999,  -999.0,-999.000,-999.0000,-999.000,  -999.0,-999.000,  2.0932,-999.000
    49RY9407_1,   P09,    50,  2,      1,    201,2,19940725,1959, 15.5088, 136.9905, 4955,   2276.6,   1.9636,  34.6375,2,  34.6382,2,    120.1,2,    119.3,2,   143.64,6,    38.26,6,     0.00,6,     2.71,6, -999.000,9, -999.000,9, -999.000,9,-999.0000,9,  -999.00,9,   -999.0,9,-999.000,9,   -999.0,9,   -999,  -999.0,-999.000,-999.0000,-999.000,  -999.0,-999.000,  1.8040,-999.000
    49RY9407_1,   P09,    50,  2,     24,    230,2,19940725,1959, 15.5088, 136.9905, 4955,   2530.2,   1.8485,  34.6483,2,  34.6488,2,    126.4,2,    126.0,2,   145.20,2,    38.09,2,     0.00,2,     2.68,2, -999.000,9, -999.000,9, -999.000,9,-999.0000,9,  -999.00,9,   -999.0,9,-999.000,9,   -999.0,9,   -999,  -999.0,-999.000,-999.0000,-999.000,  -999.0,-999.000,  1.6683,-999.000
    49RY9407_1,   P09,    50,  2,     23,    228,2,19940725,1959, 15.5088, 136.9905, 4955,   2786.5,   1.7595,  34.6560,2,  34.6559,2,    132.7,2,    132.8,2,   145.81,2,    37.71,2,     0.00,2,     2.66,2, -999.000,9, -999.000,9, -999.000,9,-999.0000,9,  -999.00,9,   -999.0,9,-999.000,9,   -999.0,9,   -999,  -999.0,-999.000,-999.0000,-999.000,  -999.0,-999.000,  1.5574,-999.000
    49RY9407_1,   P09,    50,  2,     21,    226,2,19940725,1959, 15.5088, 136.9905, 4955,   3040.1,   1.6964,  34.6632,2,  34.6624,2,    137.6,2,    135.1,2,   145.93,2,    37.48,2,     0.00,2,     2.63,2, -999.000,9, -999.000,9, -999.000,9,-999.0000,9,  -999.00,9,   -999.0,9,-999.000,9,   -999.0,9,   -999,  -999.0,-999.000,-999.0000,-999.000,  -999.0,-999.000,  1.4715,-999.000
    49RY9407_1,   P09,    50,  2,     22,    227,2,19940725,1959, 15.5088, 136.9905, 4955,   3040.1,   1.6964,  34.6632,2,  34.6616,2,    137.6,2,    136.7,2,   145.92,2,    37.46,2,     0.00,2,     2.64,2, -999.000,9, -999.000,9, -999.000,9,-999.0000,9,  -999.00,9,   -999.0,9,-999.000,9,   -999.0,9,   -999,  -999.0,-999.000,-999.0000,-999.000,  -999.0,-999.000,  1.4715,-999.000
    49RY9407_1,   P09,    50,  2,     20,    203,4,19940725,1959, 15.5088, 136.9905, 4955,   3294.4,   1.6489,  34.6670,2,  34.6679,2,    141.3,2,    142.2,2,   145.38,2,    37.19,2,     0.00,2,     2.61,2, -999.000,9, -999.000,9, -999.000,9,-999.0000,9,  -999.00,9,   -999.0,9,-999.000,9,   -999.0,9,   -999,  -999.0,-999.000,-999.0000,-999.000,  3284.0,-999.000,  1.4000,-999.000
    49RY9407_1,   P09,    50,  2,     19,    210,2,19940725,1959, 15.5088, 136.9905, 4955,   3805.3,   1.5781,  34.6762,2,  34.6768,2,    151.0,2,    149.1,2,   143.17,2,    36.47,2,     0.00,2,     2.56,2, -999.000,9, -999.000,9, -999.000,9,-999.0000,9,  -999.00,9,   -999.0,9,-999.000,9,   -999.0,9,   -999,  -999.0,-999.000,-999.0000,-999.000,  -999.0,-999.000,  1.2780,-999.000
    49RY9407_1,   P09,    50,  2,     17,    219,2,19940725,1959, 15.5088, 136.9905, 4955,   4061.8,   1.5520,  34.6812,2,  34.6804,2,    154.7,2,    154.9,2,   141.73,6,    36.26,6,     0.00,6,     2.53,6, -999.000,9, -999.000,9, -999.000,9,-999.0000,9,  -999.00,9,   -999.0,9,-999.000,9,   -999.0,9,   -999,  -999.0,-999.000,-999.0000,-999.000,  -999.0,-999.000,  1.2248,-999.000
    49RY9407_1,   P09,    50,  2,     18,    221,2,19940725,1959, 15.5088, 136.9905, 4955,   4061.8,   1.5520,  34.6812,2,  34.6807,2,    154.7,2,    154.8,2,   142.16,2,    36.26,2,     0.00,2,     2.53,2, -999.000,9, -999.000,9, -999.000,9,-999.0000,9,  -999.00,9,   -999.0,9,-999.000,9,   -999.0,9,   -999,  -999.0,   1.548,-999.0000,-999.000,  4055.0,-999.000,  1.2248,-999.000
    49RY9407_1,   P09,    50,  2,     16,    229,2,19940725,1959, 15.5088, 136.9905, 4955,   4318.3,   1.5196,  34.6845,2,  34.6850,6,    163.0,2,    159.0,2,   140.61,2,    35.93,2,     0.00,2,     2.50,2, -999.000,9, -999.000,9, -999.000,9,-999.0000,9,  -999.00,9,   -999.0,9,-999.000,9,   -999.0,9,   -999,  -999.0,   1.516,-999.0000,-999.000,  4314.0,-999.000,  1.1648,-999.000
    49RY9407_1,   P09,    50,  2,     15,    217,2,19940725,1959, 15.5088, 136.9905, 4955,   4577.2,   1.5244,  34.6873,2,  34.6871,2,    162.3,2,    162.7,6,   139.87,2,    35.94,2,     0.00,2,     2.49,2, -999.000,9, -999.000,9, -999.000,9,-999.0000,9,  -999.00,9,   -999.0,9,-999.000,9,   -999.0,9,   -999,  -999.0,-999.000,-999.0000,-999.000,  -999.0,-999.000,  1.1397,-999.000
    49RY9407_1,   P09,    50,  2,     14,    204,2,19940725,1959, 15.5088, 136.9905, 4955,   4831.8,   1.5489,  34.6874,2,  34.6875,6,    162.6,2,    163.2,2,   139.57,2,    35.83,2,     0.00,2,     2.49,2, -999.000,9, -999.000,9, -999.000,9,-999.0000,9,  -999.00,9,   -999.0,9,-999.000,9,   -999.0,9,   -999,  -999.0,   1.546,-999.0000,-999.000,  4826.0,-999.000,  1.1333,-999.000
    49RY9407_1,   P09,    50,  2,     13,    214,2,19940725,1959, 15.5088, 136.9905, 4955,   5089.9,   1.5785,  34.6873,2,  34.6879,6,    162.8,2,    162.9,2,   139.69,2,    35.94,2,     0.00,2,     2.48,2, -999.000,9, -999.000,9, -999.000,9,-999.0000,9,  -999.00,9,   -999.0,9,-999.000,9,   -999.0,9,   -999,  -999.0,-999.000,-999.0000,-999.000,  -999.0,-999.000,  1.1306,-999.000
    49RY9407_1,   P09,    50,  2,     12,    213,4,19940725,1959, 15.5088, 136.9905, 4955,   5341.4,   1.6104,  34.6872,2,  34.6863,2,    163.3,2,    163.3,2,   138.91,2,    35.80,2,     0.00,2,     2.48,2, -999.000,9, -999.000,9, -999.000,9,-999.0000,9,  -999.00,9,   -999.0,9,-999.000,9,   -999.0,9,   -999,  -999.0,-999.000,-999.0000,-999.000,  5333.0,-999.000,  1.1300,-999.000
    49RY9407_1,   P09,    51,  1,      0,      0,2,19940726,0039, 15.0082, 136.9955, 5320,      1.8,  30.0127,  34.2332,2,-999.0000,9,    161.8,4,    195.7,6,     1.20,2,     0.00,2,     0.00,2,     0.01,2, -999.000,9, -999.000,9, -999.000,9,-999.0000,9,  -999.00,9,     59.3,3,-999.000,9,   1893.5,2,   -999,    11.3,-999.000,-999.0000,-999.000,  -999.0,-999.000, 30.0123,-999.000
    49RY9407_1,   P09,    51,  1,     23,    228,2,19940726,0039, 15.0082, 136.9955, 5320,      9.3,  30.0084,  34.2345,2,  34.2343,2,    178.8,4,    197.2,2,     1.16,2,     0.01,2,     0.00,2,     0.01,2, -999.000,9, -999.000,9, -999.000,9,-999.0000,9,  -999.00,9,   -999.0,3,-999.000,9,   1894.8,2,   -999,  -999.0,-999.000,-999.0000,-999.000,  -999.0,-999.000, 30.0061,-999.000
    49RY9407_1,   P09,    51,  1,     22,    227,2,19940726,0039, 15.0082, 136.9955, 5320,     25.0,  30.0139,  34.2370,2,  34.2373,2,    182.3,4,    195.9,2,     1.20,6,     0.01,6,     0.00,6,     0.00,6, -999.000,9, -999.000,9, -999.000,9,-999.0000,9,  -999.00,9,     71.9,3,-999.000,9,   1892.5,6,   -999,    11.2,-999.000,-999.0000,-999.000,  -999.0,-999.000, 30.0077,-999.000
    49RY9407_1,   P09,    51,  1,     21,    226,2,19940726,0039, 15.0082, 136.9955, 5320,     50.4,  29.7982,  34.2747,2,  34.2762,2,    190.3,4,    198.4,2,     1.13,2,     0.06,2,     0.00,2,     0.01,2, -999.000,9, -999.000,9, -999.000,9,-999.0000,9,  -999.00,9,     89.8,3,-999.000,9,   1894.8,2,   -999,    10.0,-999.000,-999.0000,-999.000,  -999.0,-999.000, 29.7858,-999.000
    49RY9407_1,   P09,    51,  1,     20,    203,2,19940726,0039, 15.0082, 136.9955, 5320,     75.6,  27.9458,  34.5826,2,  34.5773,2,    201.9,3,    209.2,2,     1.10,2,     0.09,2,     0.00,2,     0.05,2, -999.000,9, -999.000,9, -999.000,9,-999.0000,9,  -999.00,9,     79.6,3,-999.000,9,   1913.8,2,   -999,     9.5,-999.000,-999.0000,-999.000,    79.0,-999.000, 27.9280,-999.000
    49RY9407_1,   P09,    51,  1,     19,    210,2,19940726,0039, 15.0082, 136.9955, 5320,    100.8,  26.9791,  34.8318,2,  34.7864,3,    198.0,3,    207.0,2,     1.08,2,     0.16,2,     0.00,2,     0.05,2, -999.000,9, -999.000,9, -999.000,9,-999.0000,9,  -999.00,9,     98.8,3,-999.000,9,   1934.3,2,   -999,     9.8,-999.000,-999.0000,-999.000,  -999.0,-999.000, 26.9560,-999.000
    49RY9407_1,   P09,    51,  1,     18,    221,2,19940726,0039, 15.0082, 136.9955, 5320,    125.2,  25.9225,  34.9523,2,  34.9607,2,    195.9,3,    200.1,2,     0.99,2,     0.19,2,     0.03,2,     0.05,2, -999.000,9, -999.000,9, -999.000,9,-999.0000,9,  -999.00,9,     88.9,3,-999.000,9,   1956.2,2,   -999,     8.9,  25.910,-999.0000,-999.000,   128.0,-999.000, 25.8946,-999.000
    49RY9407_1,   P09,    51,  1,     17,    219,2,19940726,0039, 15.0082, 136.9955, 5320,    151.2,  24.4744,  35.0283,2,  35.0446,2,    187.3,2,    191.0,2,     1.18,2,     0.72,2,     0.04,2,     0.09,2, -999.000,9, -999.000,9, -999.000,9,-999.0000,9,  -999.00,9,    101.2,3,-999.000,9,   1976.7,2,   -999,    10.1,-999.000,-999.0000,-999.000,  -999.0,-999.000, 24.4421,-999.000
    49RY9407_1,   P09,    51,  1,     16,    229,2,19940726,0039, 15.0082, 136.9955, 5320,    201.0,  20.8452,  35.0448,2,  35.0278,2,    176.8,3,    181.9,2,     2.46,2,     3.10,2,     0.01,2,     0.25,2, -999.000,9, -999.000,9, -999.000,9,-999.0000,9,  -999.00,9,    112.7,3,-999.000,9,   2024.7,2,   -999,     8.0,  20.870,-999.0000,-999.000,   196.0,-999.000, 20.8069,-999.000
    49RY9407_1,   P09,    51,  1,     15,    217,2,19940726,0039, 15.0082, 136.9955, 5320,    301.5,  14.1554,  34.5054,2,  34.5297,2,    169.0,2,    172.3,2,    11.65,2,    12.72,2,     0.00,2,     0.89,2, -999.000,9, -999.000,9, -999.000,9,-999.0000,9,  -999.00,9,     72.3,3,-999.000,9,   2084.2,2,   -999,     9.3,-999.000,-999.0000,-999.000,  -999.0,-999.000, 14.1116,-999.000
    49RY9407_1,   P09,    51,  1,     14,    204,2,19940726,0039, 15.0082, 136.9955, 5320,    402.9,  10.0365,  34.3063,2,  34.3053,2,    130.6,2,    127.6,2,    30.14,2,    24.37,2,     0.00,2,     1.74,2, -999.000,9, -999.000,9, -999.000,9,-999.0000,9,  -999.00,9,     -4.7,3,-999.000,9,   2166.9,2,   -999,     6.8,  10.107,-999.0000,-999.000,   399.0,-999.000,  9.9896,-999.000
    49RY9407_1,   P09,    51,  1,     12,    213,2,19940726,0039, 15.0082, 136.9955, 5320,    503.7,   7.9646,  34.3797,2,  34.3812,2,     72.2,2,     70.7,2,    50.21,2,    34.08,2,     0.00,2,     2.45,2, -999.000,9, -999.000,9, -999.000,9,-999.0000,9,  -999.00,9,   -999.0,1,-999.000,9,   2243.8,3,   -999,  -999.0,-999.000,-999.0000,-999.000,   504.0,-999.000,  7.9132,-999.000
    49RY9407_1,   P09,    51,  1,     13,    214,4,19940726,0039, 15.0082, 136.9955, 5320,    503.7,   7.9646,  34.3797,2,  34.3809,2,     72.2,2,     68.3,2,    50.34,2,    34.26,2,     0.00,2,     2.45,2, -999.000,9, -999.000,9, -999.000,9,-999.0000,9,  -999.00,9,   -999.0,1,-999.000,9,   2242.8,2,   -999,  -999.0,-999.000,-999.0000,-999.000,   471.0,-999.000,  7.9132,-999.000