BOTTLE,20020306WHPSIOdm
EXPOCODE,SECT_ID,STNNBR,CASTNO,SAMPNO,BTLNBR,BTLNBR_FLAG_W,DATE,TIME,LATITUDE,LONGITUDE,DEPTH,CTDPRS,CTDTMP,CTDSAL,CTDSAL_FLAG_W,SALNTY,SALNTY_FLAG_W,CTDOXY,CTDOXY_FLAG_W,OXYGEN,OXYGEN_FLAG_W,SILCAT,SILCAT_FLAG_W,NITRAT,NITRAT_FLAG_W,NITRIT,NITRIT_FLAG_W,PHSPHT,PHSPHT_FLAG_W,CFC-11,CFC-11_FLAG_W,CFC-12,CFC-12_FLAG_W,TRITUM,TRITUM_FLAG_W,HELIUM,HELIUM_FLAG_W,DELHE3,DELHE3_FLAG_W,DELC14,DELC14_FLAG_W,NEON,NEON_FLAG_W,TCARBN,TCARBN_FLAG_W,CTDRAW,C14ERR,REVTMP,HELIER,DELHER,REVPRS,NEONER,THETA,TRITER
,,,,,,,,,,,,DBAR,ITS-90,PSS-78,,PSS-78,,UMOL/KG,,UMOL/KG,,UMOL/KG,,UMOL/KG,,UMOL/KG,,UMOL/KG,,PMOL/KG,,PMOL/KG,,TU,,NMOL/KG,,PERCNT,,/MILLE,,NMOL/KG,,UMOL/KG,,,/MILLE,ITS-90,NMOL/KG,PERCNT,DBAR,NMOL/KG,DEG C,TU
    49RY9407_2,   P09,    61,  2,     11,    225,2,19940803,0401, 10.0017, 137.0137, 4710,     25.2,  28.8884,  33.8190,2,  33.8186,2,    191.2,2,    195.6,2,     1.46,2,     0.05,2,     0.00,2,     0.05,2, -999.000,9, -999.000,9, -999.000,9,-999.0000,9,  -999.00,9,     93.0,3,-999.000,9,   1873.8,2,   -999,     9.0,-999.000,-999.0000,-999.000,  -999.0,-999.000, 28.8824,-999.000
    49RY9407_2,   P09,    61,  2,     10,    224,2,19940803,0401, 10.0017, 137.0137, 4710,    100.5,  26.2752,  34.4502,2,  34.4520,2,    193.2,2,    191.5,2,     2.37,2,     0.18,2,     0.02,2,     0.15,2, -999.000,9, -999.000,9, -999.000,9,-999.0000,9,  -999.00,9,     88.2,3,-999.000,9,   1949.9,2,   -999,     9.2,-999.000,-999.0000,-999.000,  -999.0,-999.000, 26.2526,-999.000
    49RY9407_2,   P09,    61,  2,      9,    223,2,19940803,0401, 10.0017, 137.0137, 4710,    503.8,   7.4751,  34.4867,2,  34.4929,2,     85.1,2,     82.2,6,    50.92,2,    34.24,2,     0.01,2,     2.44,2, -999.000,9, -999.000,9, -999.000,9,-999.0000,9,  -999.00,9,   -121.2,3,-999.000,9,   2237.0,3,   -999,     7.6,-999.000,-999.0000,-999.000,  -999.0,-999.000,  7.4255,-999.000
    49RY9407_2,   P09,    61,  2,      8,    212,2,19940803,0401, 10.0017, 137.0137, 4710,    604.3,   6.7311,  34.4886,2,  34.4884,2,     89.7,2,     88.9,2,    57.21,2,    35.07,2,     0.00,2,     2.50,2, -999.000,9, -999.000,9, -999.000,9,-999.0000,9,  -999.00,9,   -125.6,3,-999.000,9,   2250.6,2,   -999,     7.9,-999.000,-999.0000,-999.000,  -999.0,-999.000,  6.6746,-999.000
    49RY9407_2,   P09,    61,  2,      6,    209,4,19940803,0401, 10.0017, 137.0137, 4710,    704.5,   6.3292,  34.5084,2,  34.5082,2,     90.6,2,     89.0,6,    61.10,2,    36.12,2,     0.01,2,     2.57,2, -999.000,9, -999.000,9, -999.000,9,-999.0000,9,  -999.00,9,   -136.5,3,-999.000,9,   2260.8,2,   -999,     7.9,-999.000,-999.0000,-999.000,  -999.0,-999.000,  6.2649,-999.000
    49RY9407_2,   P09,    61,  2,      7,    220,2,19940803,0401, 10.0017, 137.0137, 4710,    704.5,   6.3292,  34.5084,2,  34.5084,2,     90.6,2,     92.0,2,    60.94,2,    36.04,2,     0.00,2,     2.57,2, -999.000,9, -999.000,9, -999.000,9,-999.0000,9,  -999.00,9,   -151.3,3,-999.000,9,   2260.6,2,   -999,     8.7,-999.000,-999.0000,-999.000,  -999.0,-999.000,  6.2649,-999.000
    49RY9407_2,   P09,    61,  2,      5,    218,2,19940803,0401, 10.0017, 137.0137, 4710,    907.5,   5.0557,  34.5270,2,  34.5269,2,     85.9,2,     83.1,2,    82.78,2,    38.20,2,     0.00,2,     2.74,2, -999.000,9, -999.000,9, -999.000,9,-999.0000,9,  -999.00,9,   -170.1,3,-999.000,9,   2287.2,2,   -999,     7.3,-999.000,-999.0000,-999.000,  -999.0,-999.000,  4.9802,-999.000
    49RY9407_2,   P09,    61,  2,      4,    206,2,19940803,0401, 10.0017, 137.0137, 4710,   1008.5,   4.5790,  34.5425,2,  34.5423,2,     86.5,2,     89.6,2,    92.04,6,    38.54,6,     0.00,6,     2.77,6, -999.000,9, -999.000,9, -999.000,9,-999.0000,9,  -999.00,9,   -181.7,3,-999.000,9,   2302.6,2,   -999,     7.3,-999.000,-999.0000,-999.000,  -999.0,-999.000,  4.4981,-999.000
    49RY9407_2,   P09,    61,  2,      3,    205,2,19940803,0401, 10.0017, 137.0137, 4710,   1261.1,   3.5313,  34.5735,2,  34.5731,2,     91.6,2,     95.9,2,   112.85,2,    39.15,2,     0.00,2,     2.81,2, -999.000,9, -999.000,9, -999.000,9,-999.0000,9,  -999.00,9,   -210.7,3,-999.000,9,   2319.7,6,   -999,     7.6,-999.000,-999.0000,-999.000,  -999.0,-999.000,  3.4378,-999.000
    49RY9407_2,   P09,    61,  2,      2,    216,2,19940803,0401, 10.0017, 137.0137, 4710,   1513.3,   2.8627,  34.6000,2,  34.5979,2,    100.5,2,    101.1,2,   125.76,2,    39.09,2,     0.00,2,     2.81,2, -999.000,9, -999.000,9, -999.000,9,-999.0000,9,  -999.00,9,   -230.4,3,-999.000,9,   2325.8,2,   -999,     6.8,-999.000,-999.0000,-999.000,  -999.0,-999.000,  2.7552,-999.000
    49RY9407_2,   P09,    61,  2,      1,    201,2,19940803,0401, 10.0017, 137.0137, 4710,   1766.9,   2.4291,  34.6202,2,  34.6200,2,    107.5,2,    111.1,2,   133.47,2,    38.96,2,     0.00,2,     2.78,2, -999.000,9, -999.000,9, -999.000,9,-999.0000,9,  -999.00,9,   -215.5,3,-999.000,9,   2335.1,2,   -999,    10.7,-999.000,-999.0000,-999.000,  -999.0,-999.000,  2.3060,-999.000
    49RY9407_2,   P09,    61,  2,     24,    230,2,19940803,0401, 10.0017, 137.0137, 4710,   2021.3,   2.1388,  34.6348,2,  34.6341,2,    115.7,2,    118.9,2,   138.19,6,    38.69,6,     0.00,6,     2.74,6, -999.000,9, -999.000,9, -999.000,5,   1.8776,2,    21.12,2,   -224.3,3,   7.988,2,   -999.0,9,   -999,     8.6,-999.000,  0.0027,   0.250,  -999.0,   0.019,  1.9984,-999.000
    49RY9407_2,   P09,    61,  2,     23,    228,2,19940803,0401, 10.0017, 137.0137, 4710,   2276.4,   1.9080,  34.6479,2,  34.6491,2,    125.0,2,    124.7,2,   141.81,2,    38.27,2,     0.00,2,     2.71,2, -999.000,9, -999.000,9, -999.000,9,-999.0000,9,  -999.00,9,   -222.9,3,-999.000,9,   2336.9,2,   -999,     8.1,-999.000,-999.0000,-999.000,  -999.0,-999.000,  1.7493,-999.000
    49RY9407_2,   P09,    61,  2,     22,    227,2,19940803,0401, 10.0017, 137.0137, 4710,   2531.2,   1.7570,  34.6569,2,  34.6573,2,    130.5,2,    133.1,2,   143.49,2,    37.79,2,     0.00,2,     2.68,2, -999.000,9, -999.000,9, -999.000,5,   1.8820,2,    21.68,2,   -233.5,3,   7.958,2,   -999.0,9,   -999,     8.5,-999.000,  0.0034,   0.280,  -999.0,   0.016,  1.5785,-999.000
    49RY9407_2,   P09,    61,  2,     20,    203,2,19940803,0401, 10.0017, 137.0137, 4710,   2784.7,   1.6494,  34.6645,2,  34.6648,2,    137.9,2,    139.3,2,   143.45,2,    37.26,2,     0.01,2,     2.72,4, -999.000,9, -999.000,9, -999.000,5,   1.8863,2,    20.81,2,   -243.4,3,   8.044,2,   -999.0,9,   -999,     8.6,-999.000,  0.0032,   0.280,  2780.0,   0.016,  1.4497,-999.000
    49RY9407_2,   P09,    61,  2,     21,    226,2,19940803,0401, 10.0017, 137.0137, 4710,   2784.7,   1.6494,  34.6645,2,  34.6658,2,    137.9,2,   -999.0,5,   143.52,2,    37.40,2,     0.00,2,     2.64,2, -999.000,9, -999.000,9, -999.000,9,-999.0000,9,  -999.00,9,   -238.7,3,-999.000,9,   2333.3,2,   -999,     7.7,-999.000,-999.0000,-999.000,  -999.0,-999.000,  1.4497,-999.000
    49RY9407_2,   P09,    61,  2,     19,    210,2,19940803,0401, 10.0017, 137.0137, 4710,   3039.7,   1.5918,  34.6705,2,  34.6707,2,    144.7,2,    143.2,2,   143.15,2,    37.05,2,     0.00,2,     2.61,2, -999.000,9, -999.000,9, -999.000,9,-999.0000,9,  -999.00,9,   -224.6,3,-999.000,9,   2326.8,2,   -999,     9.9,-999.000,-999.0000,-999.000,  -999.0,-999.000,  1.3692,-999.000
    49RY9407_2,   P09,    61,  2,     18,    221,2,19940803,0401, 10.0017, 137.0137, 4710,   3295.3,   1.5472,  34.6749,2,  34.6753,2,    148.3,2,    151.3,3,   141.94,2,    36.79,2,     0.00,2,     2.58,2, -999.000,9, -999.000,9, -999.000,5,   1.8774,2,    18.72,2,   -240.8,3,   7.993,2,   -999.0,9,   -999,     8.9,-999.000,  0.0044,   0.280,  -999.0,   0.016,  1.3005,-999.000
    49RY9407_2,   P09,    61,  2,     17,    219,2,19940803,0401, 10.0017, 137.0137, 4710,   3551.8,   1.5338,  34.6792,2,  34.6768,2,    153.8,2,    152.1,2,   141.18,2,    36.66,2,     0.00,2,     2.56,2, -999.000,9, -999.000,9, -999.000,9,-999.0000,9,  -999.00,9,   -223.7,3,-999.000,9,   2324.1,2,   -999,     6.4,-999.000,-999.0000,-999.000,  -999.0,-999.000,  1.2615,-999.000
    49RY9407_2,   P09,    61,  2,     16,    229,2,19940803,0401, 10.0017, 137.0137, 4710,   3807.6,   1.5344,  34.6797,2,  34.6810,2,    155.0,2,    156.5,3,   140.56,6,    36.24,6,     0.00,6,     2.54,6, -999.000,9, -999.000,9, -999.000,5,   1.8775,2,    17.96,2,   -219.4,3,   8.051,2,   -999.0,9,   -999,     6.7,   1.529,  0.0034,   0.280,  3807.0,   0.016,  1.2353,-999.000
    49RY9407_2,   P09,    61,  2,     15,    217,2,19940803,0401, 10.0017, 137.0137, 4710,   4063.5,   1.5285,  34.6831,2,  34.6833,2,    157.1,2,    156.8,2,   139.46,2,    36.12,2,     0.01,2,     2.53,2, -999.000,9, -999.000,9, -999.000,9,-999.0000,9,  -999.00,9,   -216.8,3,-999.000,9,   2317.4,6,   -999,     6.1,-999.000,-999.0000,-999.000,  -999.0,-999.000,  1.2019,-999.000
    49RY9407_2,   P09,    61,  2,     14,    204,2,19940803,0401, 10.0017, 137.0137, 4710,   4319.5,   1.5227,  34.6849,2,  34.6855,2,    161.7,2,    160.6,2,   138.20,2,    36.00,2,     0.01,2,     2.51,2, -999.000,9, -999.000,9, -999.000,5,   1.8845,2,    16.77,2,   -216.9,3,   8.082,2,   -999.0,9,   -999,     9.3,   1.517,  0.0033,   0.280,  4315.0,   0.016,  1.1677,-999.000
    49RY9407_2,   P09,    61,  2,     13,    214,2,19940803,0401, 10.0017, 137.0137, 4710,   4577.3,   1.5395,  34.6858,2,  34.6841,3,    162.1,2,    161.1,6,   138.28,2,    35.95,2,     0.00,2,     2.50,2, -999.000,9, -999.000,9, -999.000,9,-999.0000,9,  -999.00,9,   -223.7,3,-999.000,9,   2314.4,2,   -999,     7.9,-999.000,-999.0000,-999.000,  4573.0,-999.000,  1.1544,-999.000
    49RY9407_2,   P09,    61,  2,     12,    213,4,19940803,0401, 10.0017, 137.0137, 4710,   4862.7,   1.5643,  34.6865,2,  34.6861,6,    163.7,2,    162.3,6,   138.05,2,    35.67,2,     0.01,2,     2.50,2, -999.000,9, -999.000,9, -999.000,9,-999.0000,9,  -999.00,9,   -999.0,9,-999.000,9,   -999.0,9,   -999,  -999.0,-999.000,-999.0000,-999.000,  4858.0,-999.000,  1.1445,-999.000
    49RY9407_2,   P09,    61,  3,     10,    224,2,19940803,0659, 10.0128, 137.0420, 4650,      3.6,  28.8750,  33.8368,2,  33.8384,2,    183.9,4,   -999.0,9,  -999.00,9,  -999.00,9,  -999.00,9,  -999.00,9, -999.000,9, -999.000,9,    1.300,2,   1.6711,2,    -0.72,2,   -999.0,9,   6.481,2,   -999.0,9,   -999,  -999.0,-999.000,  0.0023,   0.210,  -999.0,   0.013, 28.8742,   0.018
    49RY9407_2,   P09,    61,  3,      9,    223,2,19940803,0659, 10.0128, 137.0420, 4650,     24.9,  28.8779,  33.8382,2,  33.8362,2,    197.6,2,   -999.0,9,  -999.00,9,  -999.00,9,  -999.00,9,  -999.00,9, -999.000,9, -999.000,9,    1.293,2,   1.6675,2,    -0.70,2,   -999.0,9,   6.506,2,   -999.0,9,   -999,  -999.0,-999.000,  0.0023,   0.210,  -999.0,   0.013, 28.8719,   0.015
    49RY9407_2,   P09,    61,  3,      8,    212,2,19940803,0659, 10.0128, 137.0420, 4650,     50.2,  28.8798,  33.8336,2,  33.8376,2,    197.1,2,   -999.0,9,  -999.00,9,  -999.00,9,  -999.00,9,  -999.00,9, -999.000,9, -999.000,9,    1.300,2,   1.6594,2,    -1.05,2,   -999.0,9,   6.451,2,   -999.0,9,   -999,  -999.0,-999.000,  0.0023,   0.210,  -999.0,   0.013, 28.8677,   0.015
    49RY9407_2,   P09,    61,  3,      7,    220,2,19940803,0659, 10.0128, 137.0420, 4650,     75.3,  26.5676,  34.4278,2,  34.4308,2,    198.6,2,   -999.0,9,  -999.00,9,  -999.00,9,  -999.00,9,  -999.00,9, -999.000,9, -999.000,9,    1.383,2,   1.6895,2,     0.44,2,   -999.0,9,   6.638,2,   -999.0,9,   -999,  -999.0,-999.000,  0.0022,   0.200,  -999.0,   0.014, 26.5505,   0.016
    49RY9407_2,   P09,    61,  3,      6,    209,2,19940803,0659, 10.0128, 137.0420, 4650,    100.5,  24.5358,  34.6777,2,  34.5851,3,    187.1,2,   -999.0,9,  -999.00,9,  -999.00,9,  -999.00,9,  -999.00,9, -999.000,9, -999.000,9,    1.475,2,   1.6821,2,     0.50,2,   -999.0,9,   6.697,2,   -999.0,9,   -999,  -999.0,-999.000,  0.0024,   0.250,  -999.0,   0.016, 24.5143,   0.017
    49RY9407_2,   P09,    61,  3,      5,    218,2,19940803,0659, 10.0128, 137.0420, 4650,    150.3,  18.2200,  34.7976,2,  34.8587,3,    165.9,2,   -999.0,9,  -999.00,9,  -999.00,9,  -999.00,9,  -999.00,9, -999.000,9, -999.000,9,    1.773,2,   1.8658,4,     1.47,4,   -999.0,9,   7.522,4,   -999.0,9,   -999,  -999.0,-999.000,  0.0025,   0.200,  -999.0,   0.015, 18.1940,   0.020
    49RY9407_2,   P09,    61,  3,      4,    206,2,19940803,0659, 10.0128, 137.0420, 4650,    200.6,  14.8190,  34.5927,2,  34.5932,2,    145.4,2,   -999.0,9,  -999.00,9,  -999.00,9,  -999.00,9,  -999.00,9, -999.000,9, -999.000,9,    1.746,2,   1.7230,2,     5.89,2,   -999.0,9,   7.167,2,   -999.0,9,   -999,  -999.0,-999.000,  0.0024,   0.200,  -999.0,   0.015, 14.7890,   0.019
    49RY9407_2,   P09,    61,  3,      3,    205,2,19940803,0659, 10.0128, 137.0420, 4650,    301.1,   9.3960,  34.5621,2,  34.5434,3,     77.2,2,   -999.0,9,  -999.00,9,  -999.00,9,  -999.00,9,  -999.00,9, -999.000,9, -999.000,9,    0.540,2,   1.7752,2,     9.49,2,   -999.0,9,   7.527,2,   -999.0,9,   -999,  -999.0,-999.000,  0.0031,   0.250,  -999.0,   0.018,  9.3624,   0.007
    49RY9407_2,   P09,    61,  3,      2,    216,2,19940803,0659, 10.0128, 137.0420, 4650,    402.0,   7.7102,  34.4776,2,  34.4766,2,     70.0,2,   -999.0,9,  -999.00,9,  -999.00,9,  -999.00,9,  -999.00,9, -999.000,9, -999.000,9,    0.381,2,   1.7975,2,    10.19,2,   -999.0,9,   7.524,2,   -999.0,9,   -999,  -999.0,-999.000,  0.0026,   0.250,  -999.0,   0.018,  7.6701,   0.006
    49RY9407_2,   P09,    61,  3,      1,    201,2,19940803,0659, 10.0128, 137.0420, 4650,    502.6,   7.3577,  34.5157,2,  34.5124,2,     82.6,2,   -999.0,9,  -999.00,9,  -999.00,9,  -999.00,9,  -999.00,9, -999.000,9, -999.000,9, -999.000,5,   1.7879,2,     9.61,2,   -999.0,9,   7.647,2,   -999.0,9,   -999,  -999.0,-999.000,  0.0024,   0.200,  -999.0,   0.016,  7.3086,-999.000
    49RY9407_2,   P09,    61,  3,     24,    222,2,19940803,0659, 10.0128, 137.0420, 4650,    603.6,   6.6967,  34.4868,2,  34.4880,2,     86.5,2,   -999.0,9,  -999.00,9,  -999.00,9,  -999.00,9,  -999.00,9, -999.000,9, -999.000,9,    0.183,2,   1.7709,2,    10.81,2,   -999.0,9,   7.544,3,   -999.0,9,   -999,  -999.0,-999.000,  0.0022,   0.200,  -999.0,   0.016,  6.6404,   0.004
    49RY9407_2,   P09,    61,  3,     23,    228,2,19940803,0659, 10.0128, 137.0420, 4650,    704.7,   6.3743,  34.5094,2,  34.5102,2,     88.1,2,   -999.0,9,  -999.00,9,  -999.00,9,  -999.00,9,  -999.00,9, -999.000,9, -999.000,9,    0.106,2,   1.7904,2,    11.35,2,   -999.0,9,   7.612,2,   -999.0,9,   -999,  -999.0,-999.000,  0.0026,   0.250,  -999.0,   0.018,  6.3098,   0.003
    49RY9407_2,   P09,    61,  3,     22,    227,2,19940803,0659, 10.0128, 137.0420, 4650,    805.9,   5.6515,  34.5090,2,  34.5090,2,     89.6,2,   -999.0,9,  -999.00,9,  -999.00,9,  -999.00,9,  -999.00,9, -999.000,9, -999.000,9,    0.088,2,-999.0000,5,  -999.00,5,   -999.0,9,-999.000,9,   -999.0,9,   -999,  -999.0,-999.000,-999.0000,-999.000,  -999.0,-999.000,  5.5814,   0.003
    49RY9407_2,   P09,    61,  3,     21,    226,2,19940803,0659, 10.0128, 137.0420, 4650,    906.7,   5.1066,  34.5231,2,  34.5232,2,     85.2,2,   -999.0,9,  -999.00,9,  -999.00,9,  -999.00,9,  -999.00,9, -999.000,9, -999.000,9,    0.042,2,-999.0000,5,  -999.00,5,   -999.0,9,-999.000,9,   -999.0,9,   -999,  -999.0,-999.000,-999.0000,-999.000,  -999.0,-999.000,  5.0309,   0.004
    49RY9407_2,   P09,    61,  3,     14,    204,2,19940803,0659, 10.0128, 137.0420, 4650,   1008.1,   4.6096,  34.5435,2,  34.5438,2,     85.6,2,   -999.0,9,  -999.00,9,  -999.00,9,  -999.00,9,  -999.00,9, -999.000,9, -999.000,9,    0.017,2,   1.8390,2,    16.13,2,   -999.0,9,   7.801,2,   -999.0,9,   -999,  -999.0,   4.604,  0.0026,   0.250,  1007.0,   0.019,  4.5285,   0.004
    49RY9407_2,   P09,    61,  3,     15,    217,2,19940803,0659, 10.0128, 137.0420, 4650,   1009.1,   4.6074,  34.5436,2,  34.5440,2,     86.1,2,   -999.0,9,  -999.00,9,  -999.00,9,  -999.00,9,  -999.00,9, -999.000,9, -999.000,9, -999.000,9,-999.0000,9,  -999.00,9,   -999.0,9,-999.000,9,   -999.0,9,   -999,  -999.0,-999.000,-999.0000,-999.000,  -999.0,-999.000,  4.5262,-999.000
    49RY9407_2,   P09,    61,  3,     16,    229,2,19940803,0659, 10.0128, 137.0420, 4650,   1009.2,   4.6082,  34.5431,2,  34.5442,2,     86.1,2,   -999.0,9,  -999.00,9,  -999.00,9,  -999.00,9,  -999.00,9, -999.000,9, -999.000,9, -999.000,9,-999.0000,9,  -999.00,9,   -999.0,9,-999.000,9,   -999.0,9,   -999,  -999.0,   4.602,-999.0000,-999.000,  1009.0,-999.000,  4.5270,-999.000
    49RY9407_2,   P09,    61,  3,     17,    219,2,19940803,0659, 10.0128, 137.0420, 4650,   1009.4,   4.6078,  34.5437,2,  34.5440,2,     86.1,2,   -999.0,9,  -999.00,9,  -999.00,9,  -999.00,9,  -999.00,9, -999.000,9, -999.000,9,    0.023,2,   1.8358,2,    16.37,2,   -999.0,9,   7.815,2,   -999.0,9,   -999,  -999.0,-999.000,  0.0032,   0.280,  -999.0,   0.016,  4.5266,   0.004
    49RY9407_2,   P09,    61,  3,     18,    221,2,19940803,0659, 10.0128, 137.0420, 4650,   1010.6,   4.6040,  34.5440,2,  34.5446,2,     85.9,2,   -999.0,9,  -999.00,9,  -999.00,9,  -999.00,9,  -999.00,9, -999.000,9, -999.000,9, -999.000,9,-999.0000,9,  -999.00,9,   -999.0,9,-999.000,9,   -999.0,9,   -999,  -999.0,-999.000,-999.0000,-999.000,  1009.0,-999.000,  4.5227,-999.000
    49RY9407_2,   P09,    61,  3,     19,    210,2,19940803,0659, 10.0128, 137.0420, 4650,   1010.8,   4.6036,  34.5427,2,  34.5423,2,     85.9,2,   -999.0,9,  -999.00,9,  -999.00,9,  -999.00,9,  -999.00,9, -999.000,9, -999.000,9, -999.000,9,-999.0000,9,  -999.00,9,   -999.0,9,-999.000,9,   -999.0,9,   -999,  -999.0,-999.000,-999.0000,-999.000,  -999.0,-999.000,  4.5223,-999.000
    49RY9407_2,   P09,    61,  3,     20,    203,2,19940803,0659, 10.0128, 137.0420, 4650,   1010.8,   4.6036,  34.5427,2,  34.5446,2,     85.9,2,   -999.0,9,  -999.00,9,  -999.00,9,  -999.00,9,  -999.00,9, -999.000,9, -999.000,9, -999.000,9,-999.0000,9,  -999.00,9,   -999.0,9,-999.000,9,   -999.0,9,   -999,  -999.0,-999.000,-999.0000,-999.000,  1007.0,-999.000,  4.5223,-999.000
    49RY9407_2,   P09,    61,  3,     13,    214,2,19940803,0659, 10.0128, 137.0420, 4650,   1260.9,   3.5056,  34.5719,2,  34.5710,2,     90.3,2,   -999.0,9,  -999.00,9,  -999.00,9,  -999.00,9,  -999.00,9, -999.000,9, -999.000,9,    0.022,2,   1.8574,2,    19.35,2,   -999.0,9,   7.857,2,   -999.0,9,   -999,  -999.0,-999.000,  0.0032,   0.280,  1250.0,   0.016,  3.4123,   0.004
    49RY9407_2,   P09,    61,  3,     12,    213,4,19940803,0659, 10.0128, 137.0420, 4650,   1513.1,   2.8452,  34.5993,2,  34.6003,2,     98.9,2,   -999.0,9,  -999.00,9,  -999.00,9,  -999.00,9,  -999.00,9, -999.000,9, -999.000,9,    0.022,2,   1.8661,2,    21.20,2,   -999.0,9,   7.903,2,   -999.0,9,   -999,  -999.0,-999.000,  0.0027,   0.250,  1511.0,   0.019,  2.7380,   0.004