BOTTLE,20020306WHPSIOdm
EXPOCODE,SECT_ID,STNNBR,CASTNO,SAMPNO,BTLNBR,BTLNBR_FLAG_W,DATE,TIME,LATITUDE,LONGITUDE,DEPTH,CTDPRS,CTDTMP,CTDSAL,CTDSAL_FLAG_W,SALNTY,SALNTY_FLAG_W,CTDOXY,CTDOXY_FLAG_W,OXYGEN,OXYGEN_FLAG_W,SILCAT,SILCAT_FLAG_W,NITRAT,NITRAT_FLAG_W,NITRIT,NITRIT_FLAG_W,PHSPHT,PHSPHT_FLAG_W,CFC-11,CFC-11_FLAG_W,CFC-12,CFC-12_FLAG_W,TRITUM,TRITUM_FLAG_W,HELIUM,HELIUM_FLAG_W,DELHE3,DELHE3_FLAG_W,DELC14,DELC14_FLAG_W,NEON,NEON_FLAG_W,TCARBN,TCARBN_FLAG_W,CTDRAW,C14ERR,REVTMP,HELIER,DELHER,REVPRS,NEONER,THETA,TRITER
,,,,,,,,,,,,DBAR,ITS-90,PSS-78,,PSS-78,,UMOL/KG,,UMOL/KG,,UMOL/KG,,UMOL/KG,,UMOL/KG,,UMOL/KG,,PMOL/KG,,PMOL/KG,,TU,,NMOL/KG,,PERCNT,,/MILLE,,NMOL/KG,,UMOL/KG,,,/MILLE,ITS-90,NMOL/KG,PERCNT,DBAR,NMOL/KG,DEG C,TU
    49RY9407_1,   P09,    15,  1,      0,      0,2,19940711,0217, 31.9965, 136.9950, 4230,      0.0,  28.8463,  34.1662,2,-999.0000,9,    201.1,2,    203.0,6,     1.36,6,     0.12,6,     0.00,6,     0.02,6, -999.000,9, -999.000,9, -999.000,9,-999.0000,9,  -999.00,9,   -999.0,1,-999.000,9,   1924.6,2,   -999,  -999.0,-999.000,-999.0000,-999.000,  -999.0,-999.000, 28.8463,-999.000
    49RY9407_1,   P09,    15,  1,      6,    209,2,19940711,0217, 31.9965, 136.9950, 4230,      9.3,  27.8758,  34.4071,2,  34.4297,2,    205.4,2,   -999.0,5,     1.25,2,     0.01,2,     0.00,2,     0.00,2, -999.000,9, -999.000,9, -999.000,9,-999.0000,9,  -999.00,9,   -999.0,1,-999.000,9,   1926.6,2,   -999,  -999.0,-999.000,-999.0000,-999.000,  -999.0,-999.000, 27.8736,-999.000
    49RY9407_1,   P09,    15,  1,      5,    207,2,19940711,0217, 31.9965, 136.9950, 4230,     25.2,  25.1436,  34.5118,2,  34.5436,2,    216.0,3,   -999.0,5,     1.26,2,     0.02,2,     0.00,2,     0.01,2, -999.000,9, -999.000,9, -999.000,9,-999.0000,9,  -999.00,9,   -999.0,1,-999.000,9,   1932.1,2,   -999,  -999.0,-999.000,-999.0000,-999.000,  -999.0,-999.000, 25.1381,-999.000
    49RY9407_1,   P09,    15,  1,      4,    206,2,19940711,0217, 31.9965, 136.9950, 4230,     50.0,  23.7787,  34.7478,2,  34.7509,2,    215.1,3,    223.9,2,     1.46,2,     0.00,2,     0.00,2,     0.01,2, -999.000,9, -999.000,9, -999.000,9,-999.0000,9,  -999.00,9,   -999.0,1,-999.000,9,   1952.5,2,   -999,  -999.0,-999.000,-999.0000,-999.000,  -999.0,-999.000, 23.7683,-999.000
    49RY9407_1,   P09,    15,  1,      3,    205,2,19940711,0217, 31.9965, 136.9950, 4230,     75.5,  21.5076,  34.9326,2,  34.9390,2,    218.0,3,   -999.0,5,     1.55,2,     0.02,2,     0.00,2,     0.02,2, -999.000,9, -999.000,9, -999.000,9,-999.0000,9,  -999.00,9,   -999.0,1,-999.000,9,   1970.8,6,   -999,  -999.0,-999.000,-999.0000,-999.000,  -999.0,-999.000, 21.4930,-999.000
    49RY9407_1,   P09,    15,  1,      2,    204,2,19940711,0217, 31.9965, 136.9950, 4230,    100.0,  20.7730,  34.9586,2,-999.0000,5,    216.7,3,    225.8,2,     1.61,6,     0.04,6,     0.01,6,     0.03,6, -999.000,9, -999.000,9, -999.000,9,-999.0000,9,  -999.00,9,   -999.0,1,-999.000,9,   1977.9,2,   -999,  -999.0,  20.820,-999.0000,-999.000,   100.0,-999.000, 20.7541,-999.000
    49RY9407_1,   P09,    15,  1,      1,    201,2,19940711,0217, 31.9965, 136.9950, 4230,    124.8,  20.2633,  34.9492,2,  34.9497,2,    212.6,2,   -999.0,5,     1.80,2,     0.32,2,     0.15,2,     0.07,2, -999.000,9, -999.000,9, -999.000,9,-999.0000,9,  -999.00,9,   -999.0,1,-999.000,9,   1979.2,2,   -999,  -999.0,-999.000,-999.0000,-999.000,  -999.0,-999.000, 20.2400,-999.000
    49RY9407_1,   P09,    15,  1,     24,    230,2,19940711,0217, 31.9965, 136.9950, 4230,    151.3,  19.8569,  34.9372,2,  34.9335,2,    205.1,2,    209.0,2,     2.02,2,     1.33,2,     0.04,2,     0.12,2, -999.000,9, -999.000,9, -999.000,9,-999.0000,9,  -999.00,9,   -999.0,1,-999.000,9,   1992.5,2,   -999,  -999.0,-999.000,-999.0000,-999.000,  -999.0,-999.000, 19.8291,-999.000
    49RY9407_1,   P09,    15,  1,     23,    228,2,19940711,0217, 31.9965, 136.9950, 4230,    202.0,  18.9484,  34.8768,2,  34.8773,2,    198.1,2,   -999.0,5,     3.24,3,     3.01,3,     0.01,3,     0.23,3, -999.000,9, -999.000,9, -999.000,9,-999.0000,9,  -999.00,9,   -999.0,1,-999.000,9,   2006.7,2,   -999,  -999.0,-999.000,-999.0000,-999.000,  -999.0,-999.000, 18.9125,-999.000
    49RY9407_1,   P09,    15,  2,      5,    207,2,19940711,0352, 31.9902, 136.9973, 4235,    302.2,  17.8610,  34.8258,2,  34.8513,2,    208.4,2,   -999.0,5,     3.17,2,     3.07,2,     0.01,2,     0.23,2, -999.000,9, -999.000,9, -999.000,9,-999.0000,9,  -999.00,9,   -999.0,1,-999.000,9,   2003.9,2,   -999,  -999.0,-999.000,-999.0000,-999.000,  -999.0,-999.000, 17.8093,-999.000
    49RY9407_1,   P09,    15,  2,      4,    206,2,19940711,0352, 31.9902, 136.9973, 4235,    401.3,  16.3638,  34.7070,2,  34.7188,2,    194.9,2,    196.4,2,     7.16,2,     7.36,2,     0.00,2,     0.50,2, -999.000,9, -999.000,9, -999.000,9,-999.0000,9,  -999.00,9,   -999.0,1,-999.000,9,   2038.4,2,   -999,  -999.0,-999.000,-999.0000,-999.000,  -999.0,-999.000, 16.2991,-999.000
    49RY9407_1,   P09,    15,  2,      3,    205,2,19940711,0352, 31.9902, 136.9973, 4235,    503.6,  14.1543,  34.5543,2,  34.5604,2,    182.1,2,   -999.0,5,    14.34,2,    11.98,2,     0.00,2,     0.83,2, -999.000,9, -999.000,9, -999.000,9,-999.0000,9,  -999.00,9,   -999.0,1,-999.000,9,   2071.9,2,   -999,  -999.0,-999.000,-999.0000,-999.000,  -999.0,-999.000, 14.0805,-999.000
    49RY9407_1,   P09,    15,  2,      2,    204,2,19940711,0352, 31.9902, 136.9973, 4235,    604.0,  11.6220,  34.4272,2,  34.4241,2,    166.6,2,    163.0,2,    28.50,2,    18.10,2,     0.00,2,     1.27,2, -999.000,9, -999.000,9, -999.000,9,-999.0000,9,  -999.00,9,   -999.0,1,-999.000,9,   2124.0,2,   -999,  -999.0,  11.731,-999.0000,-999.000,   604.0,-999.000, 11.5439,-999.000
    49RY9407_1,   P09,    15,  2,      1,    201,2,19940711,0352, 31.9902, 136.9973, 4235,    704.9,   8.8987,  34.2265,2,  34.2257,2,    149.0,2,   -999.0,5,    41.58,2,    24.22,2,     0.00,2,     1.71,2, -999.000,9, -999.000,9, -999.000,9,-999.0000,9,  -999.00,9,   -999.0,1,-999.000,9,   2160.5,2,   -999,  -999.0,-999.000,-999.0000,-999.000,  -999.0,-999.000,  8.8212,-999.000
    49RY9407_1,   P09,    15,  2,     24,    230,2,19940711,0352, 31.9902, 136.9973, 4235,    805.7,   7.0405,  34.1655,2,  34.1804,3,    123.6,2,    121.2,2,    60.71,2,    30.01,2,     0.00,2,     2.15,2, -999.000,9, -999.000,9, -999.000,9,-999.0000,9,  -999.00,9,   -999.0,1,-999.000,9,   2210.1,2,   -999,  -999.0,-999.000,-999.0000,-999.000,  -999.0,-999.000,  6.9625,-999.000
    49RY9407_1,   P09,    15,  2,     23,    228,2,19940711,0352, 31.9902, 136.9973, 4235,    907.6,   5.5389,  34.2370,2,  34.2365,2,     85.6,2,     86.3,6,    84.94,2,    35.89,2,     0.00,2,     2.58,2, -999.000,9, -999.000,9, -999.000,9,-999.0000,9,  -999.00,9,   -999.0,1,-999.000,9,   2268.3,2,   -999,  -999.0,-999.000,-999.0000,-999.000,  -999.0,-999.000,  5.4606,-999.000
    49RY9407_1,   P09,    15,  2,     22,    227,2,19940711,0352, 31.9902, 136.9973, 4235,   1008.6,   4.4212,  34.3142,2,  34.3122,2,     72.6,2,     68.8,2,   105.67,6,    39.15,6,     0.00,6,     2.80,6, -999.000,9, -999.000,9, -999.000,9,-999.0000,9,  -999.00,9,   -999.0,1,-999.000,9,   2315.0,2,   -999,  -999.0,-999.000,-999.0000,-999.000,  -999.0,-999.000,  4.3419,-999.000
    49RY9407_1,   P09,    15,  2,     20,    225,2,19940711,0352, 31.9902, 136.9973, 4235,   1260.4,   3.3427,  34.4322,2,  34.4338,2,     69.0,2,     66.9,2,   127.84,2,    40.71,2,     0.00,2,     2.92,2, -999.000,9, -999.000,9, -999.000,9,-999.0000,9,  -999.00,9,   -999.0,1,-999.000,9,   2342.5,2,   -999,  -999.0,-999.000,-999.0000,-999.000,  -999.0,-999.000,  3.2514,-999.000
    49RY9407_1,   P09,    15,  2,     21,    226,2,19940711,0352, 31.9902, 136.9973, 4235,   1260.4,   3.3427,  34.4322,2,-999.0000,5,     69.0,2,     66.4,2,   127.77,6,    40.69,6,     0.00,6,     2.91,6, -999.000,9, -999.000,9, -999.000,9,-999.0000,9,  -999.00,9,   -999.0,1,-999.000,9,   2344.5,6,   -999,  -999.0,-999.000,-999.0000,-999.000,  -999.0,-999.000,  3.2514,-999.000
    49RY9407_1,   P09,    15,  2,     19,    224,2,19940711,0352, 31.9902, 136.9973, 4235,   1514.2,   2.7563,  34.5050,2,  34.5064,2,     81.3,2,     78.2,2,   137.57,2,    40.59,2,     0.00,2,     2.91,2, -999.000,9, -999.000,9, -999.000,9,-999.0000,9,  -999.00,9,   -999.0,1,-999.000,9,   2349.9,2,   -999,  -999.0,-999.000,-999.0000,-999.000,  -999.0,-999.000,  2.6503,-999.000
    49RY9407_1,   P09,    15,  2,     18,    223,2,19940711,0352, 31.9902, 136.9973, 4235,   1766.6,   2.3670,  34.5549,2,  34.5561,2,     91.8,2,     92.6,2,   142.48,2,    39.99,2,     0.00,2,     2.85,2, -999.000,9, -999.000,9, -999.000,9,-999.0000,9,  -999.00,9,   -999.0,1,-999.000,9,   2343.6,2,   -999,  -999.0,-999.000,-999.0000,-999.000,  -999.0,-999.000,  2.2450,-999.000
    49RY9407_1,   P09,    15,  2,     17,    222,2,19940711,0352, 31.9902, 136.9973, 4235,   2020.7,   2.0720,  34.5967,2,  34.5939,2,    107.9,2,   -999.0,9,  -999.00,9,  -999.00,9,  -999.00,9,  -999.00,9, -999.000,9, -999.000,9,    0.015,2,   1.8617,2,    18.43,2,   -999.0,1,   7.941,2,   -999.0,9,   -999,  -999.0,-999.000,  0.0032,   0.240,  -999.0,   0.017,  1.9329,   0.003
    49RY9407_1,   P09,    15,  2,     16,    221,2,19940711,0352, 31.9902, 136.9973, 4235,   2021.3,   2.0697,  34.5946,2,  34.5954,2,    107.9,2,    107.8,2,   144.16,2,    39.25,2,     0.00,2,     2.78,2, -999.000,9, -999.000,9, -999.000,9,-999.0000,9,  -999.00,9,   -999.0,1,-999.000,9,   2346.2,2,   -999,  -999.0,   2.066,-999.0000,-999.000,  2019.0,-999.000,  1.9306,-999.000
    49RY9407_1,   P09,    15,  2,     15,    220,2,19940711,0352, 31.9902, 136.9973, 4235,   2276.3,   1.8766,  34.6209,2,  34.6195,2,    118.5,2,    118.5,2,   145.10,2,    38.75,2,     0.00,2,     2.73,2, -999.000,9, -999.000,9, -999.000,9,-999.0000,9,  -999.00,9,   -999.0,1,-999.000,9,   2345.3,2,   -999,  -999.0,-999.000,-999.0000,-999.000,  -999.0,-999.000,  1.7186,-999.000
    49RY9407_1,   P09,    15,  2,     14,    219,2,19940711,0352, 31.9902, 136.9973, 4235,   2529.6,   1.7994,  34.6341,2,  34.6337,2,    124.9,2,    127.2,2,   144.74,2,    38.22,2,     0.00,2,     2.70,2, -999.000,9, -999.000,9, -999.000,9,-999.0000,9,  -999.00,9,   -999.0,1,-999.000,9,   2341.5,2,   -999,  -999.0,-999.000,-999.0000,-999.000,  -999.0,-999.000,  1.6203,-999.000
    49RY9407_1,   P09,    15,  2,     13,    218,4,19940711,0352, 31.9902, 136.9973, 4235,   2784.4,   1.6930,  34.6502,2,  34.6512,2,    132.3,2,    134.6,2,   144.07,2,    37.73,2,     0.00,2,     2.64,2, -999.000,9, -999.000,9, -999.000,9,-999.0000,9,  -999.00,9,   -999.0,1,-999.000,9,   2337.1,2,   -999,  -999.0,-999.000,-999.0000,-999.000,  -999.0,-999.000,  1.4926,-999.000
    49RY9407_1,   P09,    15,  2,     12,    217,2,19940711,0352, 31.9902, 136.9973, 4235,   3295.1,   1.5540,  34.6706,2,  34.6729,2,    146.8,2,    148.7,2,   142.83,2,    37.00,2,     0.00,2,     2.58,2, -999.000,9, -999.000,9, -999.000,9,-999.0000,9,  -999.00,9,   -999.0,1,-999.000,9,   2333.6,2,   -999,  -999.0,-999.000,-999.0000,-999.000,  -999.0,-999.000,  1.3073,-999.000
    49RY9407_1,   P09,    15,  2,     11,    216,2,19940711,0352, 31.9902, 136.9973, 4235,   3550.0,   1.5341,  34.6746,2,  34.6770,2,    151.3,2,    154.6,2,   142.55,2,    36.68,2,     0.00,2,     2.56,2, -999.000,9, -999.000,9, -999.000,9,-999.0000,9,  -999.00,9,   -999.0,1,-999.000,9,   2329.0,2,   -999,  -999.0,-999.000,-999.0000,-999.000,  -999.0,-999.000,  1.2620,-999.000
    49RY9407_1,   P09,    15,  2,     10,    214,2,19940711,0352, 31.9902, 136.9973, 4235,   3807.1,   1.5316,  34.6779,2,-999.0000,5,    154.3,2,    156.3,2,   142.35,2,    36.67,2,     0.00,2,     2.55,2, -999.000,9, -999.000,9, -999.000,9,-999.0000,9,  -999.00,9,   -999.0,1,-999.000,9,   2324.5,2,   -999,  -999.0,-999.000,-999.0000,-999.000,  -999.0,-999.000,  1.2326,-999.000
    49RY9407_1,   P09,    15,  2,      8,    212,2,19940711,0352, 31.9902, 136.9973, 4235,   4062.7,   1.5474,  34.6802,2,-999.0000,5,    153.7,2,   -999.0,9,  -999.00,9,  -999.00,9,  -999.00,9,  -999.00,9, -999.000,9, -999.000,9,    0.009,2,   1.8726,2,    17.62,2,   -999.0,1,   8.015,2,   -999.0,9,   -999,  -999.0,-999.000,  0.0033,   0.240,  -999.0,   0.018,  1.2203,   0.003
    49RY9407_1,   P09,    15,  2,      9,    213,2,19940711,0352, 31.9902, 136.9973, 4235,   4063.3,   1.5475,  34.6800,2,-999.0000,5,    153.7,2,    161.4,3,   142.29,2,    36.55,2,     0.00,2,     2.54,2, -999.000,9, -999.000,9, -999.000,9,-999.0000,9,  -999.00,9,   -999.0,1,-999.000,9,   2327.3,2,   -999,  -999.0,   1.542,-999.0000,-999.000,  4059.0,-999.000,  1.2203,-999.000
    49RY9407_1,   P09,    15,  2,      7,    210,2,19940711,0352, 31.9902, 136.9973, 4235,   4306.8,   1.5721,  34.6795,2,  34.6792,2,    153.0,2,    155.5,6,   142.29,6,    36.53,6,     0.00,6,     2.53,6, -999.000,9, -999.000,9, -999.000,9,-999.0000,9,  -999.00,9,   -999.0,1,-999.000,9,   -999.0,9,   -999,  -999.0,-999.000,-999.0000,-999.000,  -999.0,-999.000,  1.2171,-999.000
    49RY9407_1,   P09,    15,  3,     20,    225,2,19940711,0647, 31.9933, 136.9997, 4230,      1.4,  29.1102,  34.4179,2,-999.0000,5,    160.3,4,   -999.0,9,  -999.00,9,  -999.00,9,  -999.00,9,  -999.00,9,    1.520,3,    1.340,4,    1.743,2,   1.6544,2,    -1.91,2,   -999.0,9,   6.522,2,   -999.0,9,   -999,  -999.0,-999.000,  0.0022,   0.260,  -999.0,   0.012, 29.1098,   0.020
    49RY9407_1,   P09,    15,  3,     19,    224,2,19940711,0647, 31.9933, 136.9997, 4230,     24.6,  25.8105,  34.4581,2,-999.0000,5,    204.3,2,   -999.0,9,  -999.00,9,  -999.00,9,  -999.00,9,  -999.00,9,    1.854,3,    1.652,4,    1.757,2,   1.6635,2,    -1.58,2,   -999.0,9,   6.572,2,   -999.0,9,   -999,  -999.0,-999.000,  0.0023,   0.250,  -999.0,   0.012, 25.8051,   0.020
    49RY9407_1,   P09,    15,  3,     18,    223,2,19940711,0647, 31.9933, 136.9997, 4230,     50.0,  23.4312,  34.8086,2,-999.0000,5,    213.0,2,   -999.0,9,  -999.00,9,  -999.00,9,  -999.00,9,  -999.00,9,    1.529,4,    1.312,4,    1.705,2,   1.6742,2,    -1.83,2,   -999.0,9,   6.620,4,   -999.0,9,   -999,  -999.0,-999.000,  0.0029,   0.250,  -999.0,   0.015, 23.4209,   0.019
    49RY9407_1,   P09,    15,  3,     17,    222,2,19940711,0647, 31.9933, 136.9997, 4230,     75.3,  21.9432,  34.9100,2,-999.0000,5,    213.9,2,   -999.0,9,  -999.00,9,  -999.00,9,  -999.00,9,  -999.00,9,    2.117,3,    1.794,4,    1.786,2,   1.6837,2,    -1.60,2,   -999.0,9,   6.765,2,   -999.0,9,   -999,  -999.0,-999.000,  0.0024,   0.250,  -999.0,   0.013, 21.9284,   0.020
    49RY9407_1,   P09,    15,  3,     15,    220,2,19940711,0647, 31.9933, 136.9997, 4230,     99.5,  21.1092,  34.9544,2,  34.9479,2,    209.0,2,   -999.0,9,  -999.00,9,  -999.00,9,  -999.00,9,  -999.00,9,    2.235,3,    1.898,4,    1.827,2,   1.6967,2,    -1.01,2,   -999.0,9,   6.854,2,   -999.0,9,   -999,  -999.0,-999.000,  0.0024,   0.250,  -999.0,   0.013, 21.0901,   0.021
    49RY9407_1,   P09,    15,  3,     16,    221,2,19940711,0647, 31.9933, 136.9997, 4230,     99.5,  21.1092,  34.9544,2,-999.0000,5,    209.0,2,   -999.0,9,  -999.00,9,  -999.00,9,  -999.00,9,  -999.00,9,    2.294,3,    1.717,4,    1.833,2,   1.7002,2,    -1.78,2,   -999.0,9,   6.856,2,   -999.0,9,   -999,  -999.0,  22.120,  0.0030,   0.250,    75.0,   0.015, 21.0901,   0.021
    49RY9407_1,   P09,    15,  3,     14,    219,2,19940711,0647, 31.9933, 136.9997, 4230,    150.4,  19.7680,  34.9260,2,  34.9290,2,    200.6,2,   -999.0,9,  -999.00,9,  -999.00,9,  -999.00,9,  -999.00,9,    2.396,3,    2.317,4,    1.286,2,   1.7018,2,    -0.62,2,   -999.0,9,   6.882,2,   -999.0,9,   -999,  -999.0,-999.000,  0.0023,   0.250,  -999.0,   0.013, 19.7404,   0.015
    49RY9407_1,   P09,    15,  3,     13,    218,2,19940711,0647, 31.9933, 136.9997, 4230,    200.6,  18.8613,  34.9016,2,  34.9039,2,    202.7,2,   -999.0,9,  -999.00,9,  -999.00,9,  -999.00,9,  -999.00,9,    2.451,3,    1.827,4,    1.283,2,   1.7008,2,    -0.29,2,   -999.0,9,   6.930,2,   -999.0,9,   -999,  -999.0,-999.000,  0.0024,   0.250,  -999.0,   0.013, 18.8257,   0.015
    49RY9407_1,   P09,    15,  3,     12,    217,2,19940711,0647, 31.9933, 136.9997, 4230,    301.4,  17.9092,  34.8661,2,  34.8651,2,    207.7,2,   -999.0,9,  -999.00,9,  -999.00,9,  -999.00,9,  -999.00,9,    2.579,3,    2.001,4,    1.907,2,   1.7069,2,    -0.10,2,   -999.0,9,   6.997,2,   -999.0,9,   -999,  -999.0,-999.000,  0.0024,   0.250,  -999.0,   0.013, 17.8576,   0.022
    49RY9407_1,   P09,    15,  3,     11,    216,4,19940711,0647, 31.9933, 136.9997, 4230,    402.3,  16.4334,  34.7271,2,  34.7304,2,    191.3,2,   -999.0,9,  -999.00,9,  -999.00,9,  -999.00,9,  -999.00,9,    2.463,3,    3.818,4,    2.059,2,   1.7104,2,     2.37,2,   -999.0,9,   7.021,2,   -999.0,9,   -999,  -999.0,-999.000,  0.0030,   0.250,  -999.0,   0.016, 16.3683,   0.023
    49RY9407_1,   P09,    15,  3,     10,    214,2,19940711,0647, 31.9933, 136.9997, 4230,    604.2,  11.3358,  34.3515,2,-999.0000,5,    155.9,2,   -999.0,9,  -999.00,9,  -999.00,9,  -999.00,9,  -999.00,9,    2.156,3,    2.800,4,    2.076,2,   1.7326,2,     5.81,2,   -999.0,9,   7.222,3,   -999.0,9,   -999,  -999.0,-999.000,  0.0030,   0.250,  -999.0,   0.016, 11.2590,   0.023
    49RY9407_1,   P09,    15,  3,      8,    212,4,19940711,0647, 31.9933, 136.9997, 4230,    705.0,   8.8423,  34.2203,2,  34.2263,2,    143.1,2,   -999.0,9,  -999.00,9,  -999.00,9,  -999.00,9,  -999.00,9,    1.373,3,    3.882,4,    1.381,2,   1.7763,2,    13.20,2,   -999.0,9,   7.538,2,   -999.0,9,   -999,  -999.0,-999.000,  0.0031,   0.250,  -999.0,   0.017,  8.7651,   0.015
    49RY9407_1,   P09,    15,  3,      9,    213,2,19940711,0647, 31.9933, 136.9997, 4230,    705.0,   8.8423,  34.2203,2,  34.2255,2,    143.1,2,   -999.0,9,  -999.00,9,  -999.00,9,  -999.00,9,  -999.00,9,    1.345,3,    1.135,4,    1.375,2,   1.7822,2,    13.32,2,   -999.0,9,   7.549,2,   -999.0,9,   -999,  -999.0,   8.888,  0.0034,   0.250,   706.0,   0.017,  8.7651,   0.015
    49RY9407_1,   P09,    15,  3,      7,    210,2,19940711,0647, 31.9933, 136.9997, 4230,    906.1,   5.5534,  34.2241,2,-999.0000,5,     87.7,2,   -999.0,9,  -999.00,9,  -999.00,9,  -999.00,9,  -999.00,9,    0.942,3,    2.127,4,    1.026,2,   1.7972,2,    13.68,2,   -999.0,9,   7.850,2,   -999.0,9,   -999,  -999.0,-999.000,  0.0032,   0.240,  -999.0,   0.017,  5.4751,   0.012
    49RY9407_1,   P09,    15,  3,      5,    207,4,19940711,0647, 31.9933, 136.9997, 4230,   1006.2,   4.5573,  34.3169,2,  34.3102,3,     72.9,2,   -999.0,9,  -999.00,9,  -999.00,9,  -999.00,9,  -999.00,9,    0.240,3,    0.809,4,    0.336,2,   1.8484,2,    15.21,2,   -999.0,9,   8.143,4,   -999.0,9,   -999,  -999.0,-999.000,  0.0033,   0.240,  -999.0,   0.018,  4.4772,   0.006
    49RY9407_1,   P09,    15,  3,      6,    209,2,19940711,0647, 31.9933, 136.9997, 4230,   1006.2,   4.5573,  34.3169,2,  34.3126,2,     72.9,2,   -999.0,9,  -999.00,9,  -999.00,9,  -999.00,9,  -999.00,9,    0.244,3,    0.654,4,    0.325,2,   1.8344,2,    15.94,2,   -999.0,9,   7.813,2,   -999.0,9,   -999,  -999.0,-999.000,  0.0032,   0.240,  -999.0,   0.017,  4.4772,   0.005
    49RY9407_1,   P09,    15,  3,      4,    206,2,19940711,0647, 31.9933, 136.9997, 4230,   1514.9,   2.7493,  34.5059,2,-999.0000,5,     81.3,2,   -999.0,9,  -999.00,9,  -999.00,9,  -999.00,9,  -999.00,9,    0.094,3,    0.644,4,   -0.025,2,   1.8075,3,    17.59,2,   -999.0,9,   7.692,4,   -999.0,9,   -999,  -999.0,-999.000,  0.0032,   0.240,  -999.0,   0.017,  2.6433,   0.004