BOTTLE,20020306WHPSIOdm
EXPOCODE,SECT_ID,STNNBR,CASTNO,SAMPNO,BTLNBR,BTLNBR_FLAG_W,DATE,TIME,LATITUDE,LONGITUDE,DEPTH,CTDPRS,CTDTMP,CTDSAL,CTDSAL_FLAG_W,SALNTY,SALNTY_FLAG_W,CTDOXY,CTDOXY_FLAG_W,OXYGEN,OXYGEN_FLAG_W,SILCAT,SILCAT_FLAG_W,NITRAT,NITRAT_FLAG_W,NITRIT,NITRIT_FLAG_W,PHSPHT,PHSPHT_FLAG_W,CFC-11,CFC-11_FLAG_W,CFC-12,CFC-12_FLAG_W,TRITUM,TRITUM_FLAG_W,HELIUM,HELIUM_FLAG_W,DELHE3,DELHE3_FLAG_W,DELC14,DELC14_FLAG_W,NEON,NEON_FLAG_W,TCARBN,TCARBN_FLAG_W,CTDRAW,C14ERR,REVTMP,HELIER,DELHER,REVPRS,NEONER,THETA,TRITER
,,,,,,,,,,,,DBAR,ITS-90,PSS-78,,PSS-78,,UMOL/KG,,UMOL/KG,,UMOL/KG,,UMOL/KG,,UMOL/KG,,UMOL/KG,,PMOL/KG,,PMOL/KG,,TU,,NMOL/KG,,PERCNT,,/MILLE,,NMOL/KG,,UMOL/KG,,,/MILLE,ITS-90,NMOL/KG,PERCNT,DBAR,NMOL/KG,DEG C,TU
    49RY9407_2,   P09,   103,  2,      8,    212,2,19940817,0338, -2.4863, 142.1730, 4170,    703.0,   5.9810,  34.5075,2,  34.5086,2,   -999.0,9,    146.7,2,    42.82,2,    31.69,2,     0.01,2,     2.13,3, -999.000,9, -999.000,9, -999.000,9,-999.0000,9,  -999.00,9,   -999.0,9,-999.000,9,   -999.0,9,   -999,  -999.0,-999.000,-999.0000,-999.000,  -999.0,-999.000,  5.9187,-999.000
    49RY9407_2,   P09,   103,  2,      7,    220,2,19940817,0338, -2.4863, 142.1730, 4170,    804.8,   5.2163,  34.5054,2,  34.5067,2,   -999.0,9,    142.0,2,    54.97,6,    33.30,6,     0.00,6,     2.30,3, -999.000,9, -999.000,9, -999.000,9,-999.0000,9,  -999.00,9,   -999.0,9,-999.000,9,   -999.0,9,   -999,  -999.0,-999.000,-999.0000,-999.000,  -999.0,-999.000,  5.1490,-999.000
    49RY9407_2,   P09,   103,  2,      6,    209,2,19940817,0338, -2.4863, 142.1730, 4170,    805.1,   5.2149,  34.5058,2,  34.5063,2,   -999.0,9,    142.4,2,    54.96,2,    33.29,2,     0.01,2,     2.29,3, -999.000,9, -999.000,9, -999.000,9,-999.0000,9,  -999.00,9,   -999.0,9,-999.000,9,   -999.0,9,   -999,  -999.0,-999.000,-999.0000,-999.000,  -999.0,-999.000,  5.1476,-999.000
    49RY9407_2,   P09,   103,  2,      5,    218,2,19940817,0338, -2.4863, 142.1730, 4170,    905.5,   4.7259,  34.5179,2,  34.5189,2,   -999.0,9,    134.6,2,    65.78,2,    34.47,2,     0.00,2,     2.37,3, -999.000,9, -999.000,9, -999.000,9,-999.0000,9,  -999.00,9,   -999.0,9,-999.000,9,   -999.0,9,   -999,  -999.0,-999.000,-999.0000,-999.000,  -999.0,-999.000,  4.6529,-999.000
    49RY9407_2,   P09,   103,  2,      4,    206,2,19940817,0338, -2.4863, 142.1730, 4170,   1006.6,   4.5133,  34.5371,2,  34.5372,2,   -999.0,9,    119.0,6,    76.20,2,    36.11,2,     0.00,2,     2.54,3, -999.000,9, -999.000,9, -999.000,9,-999.0000,9,  -999.00,9,   -999.0,9,-999.000,9,   -999.0,9,   -999,  -999.0,-999.000,-999.0000,-999.000,  -999.0,-999.000,  4.4331,-999.000
    49RY9407_2,   P09,   103,  2,      3,    205,2,19940817,0338, -2.4863, 142.1730, 4170,   1257.8,   3.4833,  34.5831,2,  34.5800,2,   -999.0,9,    105.8,2,   104.28,2,    37.99,2,     0.00,2,     2.67,3, -999.000,9, -999.000,9, -999.000,9,-999.0000,9,  -999.00,9,   -999.0,1,-999.000,9,   2312.0,2,   -999,  -999.0,-999.000,-999.0000,-999.000,  -999.0,-999.000,  3.3906,-999.000
    49RY9407_2,   P09,   103,  2,      2,    216,2,19940817,0338, -2.4863, 142.1730, 4170,   1512.5,   2.8670,  34.6063,2,  34.6058,2,   -999.0,9,    109.6,2,   118.60,2,    38.17,2,     0.00,2,     2.71,3, -999.000,9, -999.000,9, -999.000,9,-999.0000,9,  -999.00,9,   -999.0,1,-999.000,9,   2325.9,2,   -999,  -999.0,-999.000,-999.0000,-999.000,  -999.0,-999.000,  2.7596,-999.000
    49RY9407_2,   P09,   103,  2,      1,    201,2,19940817,0338, -2.4863, 142.1730, 4170,   1767.0,   2.4605,  34.6229,2,  34.6235,2,   -999.0,9,    115.5,2,   127.38,2,    38.04,2,     0.00,2,     2.73,3, -999.000,9, -999.000,9, -999.000,9,-999.0000,9,  -999.00,9,   -999.0,1,-999.000,9,   2327.7,2,   -999,  -999.0,-999.000,-999.0000,-999.000,  -999.0,-999.000,  2.3370,-999.000
    49RY9407_2,   P09,   103,  2,     24,    222,2,19940817,0338, -2.4863, 142.1730, 4170,   2020.8,   2.1999,  34.6362,2,  34.6369,2,   -999.0,9,    120.9,2,   132.82,6,    37.78,6,     0.00,6,     2.67,3, -999.000,9, -999.000,9, -999.000,9,-999.0000,9,  -999.00,9,   -999.0,1,-999.000,9,   2332.2,2,   -999,  -999.0,-999.000,-999.0000,-999.000,  -999.0,-999.000,  2.0586,-999.000
    49RY9407_2,   P09,   103,  2,     23,    228,2,19940817,0338, -2.4863, 142.1730, 4170,   2274.9,   1.9567,  34.6488,2,  34.6501,2,   -999.0,9,    127.6,2,   137.26,2,    37.50,2,     0.00,2,     2.65,3, -999.000,9, -999.000,9, -999.000,9,-999.0000,9,  -999.00,9,   -999.0,1,-999.000,9,   2333.6,6,   -999,  -999.0,-999.000,-999.0000,-999.000,  -999.0,-999.000,  1.7973,-999.000
    49RY9407_2,   P09,   103,  2,     21,    226,4,19940817,0338, -2.4863, 142.1730, 4170,   2529.1,   1.8288,  34.6573,2,  34.6579,2,   -999.0,9,    132.6,6,   138.84,2,    37.14,2,     0.00,2,     2.60,3, -999.000,9, -999.000,9, -999.000,9,-999.0000,9,  -999.00,9,   -999.0,1,-999.000,9,   2334.8,2,   -999,  -999.0,-999.000,-999.0000,-999.000,  -999.0,-999.000,  1.6490,-999.000
    49RY9407_2,   P09,   103,  2,     22,    227,2,19940817,0338, -2.4863, 142.1730, 4170,   2529.1,   1.8288,  34.6573,2,  34.6568,2,   -999.0,9,    132.4,2,   139.12,2,    37.14,2,     0.00,2,     2.60,3, -999.000,9, -999.000,9, -999.000,9,-999.0000,9,  -999.00,9,   -999.0,1,-999.000,9,   2331.1,2,   -999,  -999.0,-999.000,-999.0000,-999.000,  -999.0,-999.000,  1.6490,-999.000
    49RY9407_2,   P09,   103,  2,     19,    215,2,19940817,0338, -2.4863, 142.1730, 4170,   3040.1,   1.6034,  34.6721,2,  34.6727,2,   -999.0,9,    142.2,2,   141.49,2,    36.54,2,     0.01,2,     2.53,3, -999.000,9, -999.000,9, -999.000,9,-999.0000,9,  -999.00,9,   -999.0,1,-999.000,9,   2334.0,2,   -999,  -999.0,-999.000,-999.0000,-999.000,  -999.0,-999.000,  1.3805,-999.000
    49RY9407_2,   P09,   103,  2,     20,    203,2,19940817,0338, -2.4863, 142.1730, 4170,   3040.1,   1.6034,  34.6721,2,  34.6719,2,   -999.0,9,    142.3,2,   141.52,2,    36.54,2,     0.00,2,     2.52,3, -999.000,9, -999.000,9, -999.000,9,-999.0000,9,  -999.00,9,   -999.0,1,-999.000,9,   2334.6,2,   -999,  -999.0,-999.000,-999.0000,-999.000,  3035.0,-999.000,  1.3805,-999.000
    49RY9407_2,   P09,   103,  2,     18,    221,2,19940817,0338, -2.4863, 142.1730, 4170,   3295.4,   1.5798,  34.6749,2,  34.6751,2,   -999.0,9,    144.9,2,   141.67,6,    36.29,6,     0.00,6,     2.53,3, -999.000,9, -999.000,9, -999.000,9,-999.0000,9,  -999.00,9,   -999.0,1,-999.000,9,   2332.1,2,   -999,  -999.0,-999.000,-999.0000,-999.000,  3291.0,-999.000,  1.3324,-999.000
    49RY9407_2,   P09,   103,  2,     17,    219,2,19940817,0338, -2.4863, 142.1730, 4170,   3549.9,   1.5921,  34.6753,2,  34.6772,2,   -999.0,9,    146.3,2,   141.50,2,    36.23,2,     0.00,2,     2.51,3, -999.000,9, -999.000,9, -999.000,9,-999.0000,9,  -999.00,9,   -999.0,1,-999.000,9,   2329.9,2,   -999,  -999.0,-999.000,-999.0000,-999.000,  -999.0,-999.000,  1.3185,-999.000
    49RY9407_2,   P09,   103,  2,     15,    217,2,19940817,0338, -2.4863, 142.1730, 4170,   3806.2,   1.6136,  34.6769,2,  34.6762,2,   -999.0,9,    145.6,2,   141.77,2,    36.27,2,     0.00,2,     2.52,3, -999.000,9, -999.000,9, -999.000,9,-999.0000,9,  -999.00,9,   -999.0,1,-999.000,9,   2331.0,6,   -999,  -999.0,-999.000,-999.0000,-999.000,  -999.0,-999.000,  1.3125,-999.000
    49RY9407_2,   P09,   103,  2,     16,    229,2,19940817,0338, -2.4863, 142.1730, 4170,   3806.3,   1.6140,  34.6763,2,  34.6762,2,   -999.0,9,    146.1,2,   141.58,2,    36.36,2,     0.00,2,     2.51,3, -999.000,9, -999.000,9, -999.000,9,-999.0000,9,  -999.00,9,   -999.0,1,-999.000,9,   2333.5,2,   -999,  -999.0,  12.095,-999.0000,-999.000,  3802.0,-999.000,  1.3129,-999.000
    49RY9407_2,   P09,   103,  2,     14,    204,2,19940817,0338, -2.4863, 142.1730, 4170,   4062.6,   1.6411,  34.6764,2,  34.6744,3,   -999.0,9,    146.3,2,   141.68,2,    36.41,2,     0.00,2,     2.50,3, -999.000,9, -999.000,9, -999.000,9,-999.0000,9,  -999.00,9,   -999.0,9,-999.000,9,   -999.0,9,   -999,  -999.0,   7.877,-999.0000,-999.000,  4055.0,-999.000,  1.3114,-999.000
    49RY9407_2,   P09,   103,  2,     13,    214,2,19940817,0338, -2.4863, 142.1730, 4170,   4063.0,   1.6411,  34.6763,2,  34.6747,3,   -999.0,9,    146.6,2,   141.72,6,    36.23,6,     0.00,6,     2.51,3, -999.000,9, -999.000,9, -999.000,9,-999.0000,9,  -999.00,9,   -999.0,1,-999.000,9,   2334.0,2,   -999,  -999.0,-999.000,-999.0000,-999.000,  4004.0,-999.000,  1.3114,-999.000
    49RY9407_2,   P09,   103,  2,     12,    213,4,19940817,0338, -2.4863, 142.1730, 4170,   4225.1,   1.6596,  34.6768,2,  34.6758,6,   -999.0,9,    153.7,4,   141.63,6,    36.27,6,     0.00,6,     2.51,3, -999.000,9, -999.000,9, -999.000,9,-999.0000,9,  -999.00,9,   -999.0,9,-999.000,9,   -999.0,9,   -999,  -999.0,-999.000,-999.0000,-999.000,  4221.0,-999.000,  1.3112,-999.000
    49RY9407_2,   P09,   104,  1,      0,      0,2,19940817,0704, -2.7418, 142.2480, 3030,      0.0,  28.4643,  33.8045,2,-999.0000,9,   -999.0,9,    199.5,2,     2.72,2,     0.04,2,     0.00,2,     0.08,2, -999.000,9, -999.000,9, -999.000,9,-999.0000,9,  -999.00,9,   -999.0,9,-999.000,9,   -999.0,9,   -999,  -999.0,-999.000,-999.0000,-999.000,  -999.0,-999.000, 28.4645,-999.000
    49RY9407_2,   P09,   104,  1,     20,    203,2,19940817,0704, -2.7418, 142.2480, 3030,     11.2,  28.1725,  34.1331,2,  34.0910,3,   -999.0,9,    201.0,6,     2.82,6,     0.07,6,     0.00,6,     0.08,6, -999.000,9, -999.000,9, -999.000,9,-999.0000,9,  -999.00,9,   -999.0,9,-999.000,9,   -999.0,9,   -999,  -999.0,-999.000,-999.0000,-999.000,    18.0,-999.000, 28.1698,-999.000
    49RY9407_2,   P09,   104,  1,     19,    215,2,19940817,0704, -2.7418, 142.2480, 3030,     25.9,  27.8973,  34.3705,2,  34.3688,6,   -999.0,9,    200.1,2,     1.39,2,     0.06,2,     0.00,2,     0.06,2, -999.000,9, -999.000,9, -999.000,9,-999.0000,9,  -999.00,9,   -999.0,9,-999.000,9,   -999.0,9,   -999,  -999.0,-999.000,-999.0000,-999.000,  -999.0,-999.000, 27.8913,-999.000
    49RY9407_2,   P09,   104,  1,     18,    221,2,19940817,0704, -2.7418, 142.2480, 3030,     50.4,  27.2947,  34.4772,2,  34.4672,2,   -999.0,9,    200.2,2,     1.14,2,     0.03,2,     0.00,2,     0.08,2, -999.000,9, -999.000,9, -999.000,9,-999.0000,9,  -999.00,9,   -999.0,9,-999.000,9,   -999.0,9,   -999,  -999.0,-999.000,-999.0000,-999.000,    54.0,-999.000, 27.2830,-999.000
    49RY9407_2,   P09,   104,  1,     17,    219,2,19940817,0704, -2.7418, 142.2480, 3030,     76.7,  26.8286,  34.5242,2,  34.5261,2,   -999.0,9,    191.9,2,     1.39,2,     0.52,2,     0.28,2,     0.14,2, -999.000,9, -999.000,9, -999.000,9,-999.0000,9,  -999.00,9,   -999.0,9,-999.000,9,   -999.0,9,   -999,  -999.0,-999.000,-999.0000,-999.000,  -999.0,-999.000, 26.8112,-999.000
    49RY9407_2,   P09,   104,  1,     15,    217,4,19940817,0704, -2.7418, 142.2480, 3030,    101.6,  25.3198,  34.8818,2,  34.8832,2,   -999.0,9,    181.7,2,     1.63,2,     2.17,2,     0.19,2,     0.27,2, -999.000,9, -999.000,9, -999.000,9,-999.0000,9,  -999.00,9,   -999.0,9,-999.000,9,   -999.0,9,   -999,  -999.0,-999.000,-999.0000,-999.000,  -999.0,-999.000, 25.2976,-999.000
    49RY9407_2,   P09,   104,  1,     16,    229,2,19940817,0704, -2.7418, 142.2480, 3030,    101.6,  25.3198,  34.8818,2,  34.8838,6,   -999.0,9,    181.8,2,     1.62,2,     2.15,2,     0.19,2,     0.24,2, -999.000,9, -999.000,9, -999.000,9,-999.0000,9,  -999.00,9,   -999.0,9,-999.000,9,   -999.0,9,   -999,  -999.0,  25.280,-999.0000,-999.000,    99.0,-999.000, 25.2976,-999.000
    49RY9407_2,   P09,   104,  1,     14,    204,2,19940817,0704, -2.7418, 142.2480, 3030,    150.9,  21.6065,  35.4956,2,  35.4945,2,   -999.0,9,    149.7,2,     2.90,6,     7.86,6,     0.03,6,     0.62,6, -999.000,9, -999.000,9, -999.000,9,-999.0000,9,  -999.00,9,   -999.0,9,-999.000,9,   -999.0,9,   -999,  -999.0,  21.700,-999.0000,-999.000,   152.0,-999.000, 21.5769,-999.000
    49RY9407_2,   P09,   104,  1,     13,    214,2,19940817,0704, -2.7418, 142.2480, 3030,    200.8,  17.5162,  35.3742,2,  35.3679,2,   -999.0,9,    146.7,6,     5.47,2,    12.21,2,     0.01,2,     0.90,2, -999.000,9, -999.000,9, -999.000,9,-999.0000,9,  -999.00,9,   -999.0,9,-999.000,9,   -999.0,9,   -999,  -999.0,-999.000,-999.0000,-999.000,   200.0,-999.000, 17.4823,-999.000
    49RY9407_2,   P09,   104,  1,     12,    213,2,19940817,0704, -2.7418, 142.2480, 3030,    201.5,  17.5036,  35.3756,2,  35.3679,2,   -999.0,9,    146.9,2,     5.48,2,    12.17,2,     0.02,2,     0.90,2, -999.000,9, -999.000,9, -999.000,9,-999.0000,9,  -999.00,9,   -999.0,9,-999.000,9,   -999.0,9,   -999,  -999.0,-999.000,-999.0000,-999.000,   206.0,-999.000, 17.4696,-999.000