BOTTLE,20020306WHPSIOdm
EXPOCODE,SECT_ID,STNNBR,CASTNO,SAMPNO,BTLNBR,BTLNBR_FLAG_W,DATE,TIME,LATITUDE,LONGITUDE,DEPTH,CTDPRS,CTDTMP,CTDSAL,CTDSAL_FLAG_W,SALNTY,SALNTY_FLAG_W,CTDOXY,CTDOXY_FLAG_W,OXYGEN,OXYGEN_FLAG_W,SILCAT,SILCAT_FLAG_W,NITRAT,NITRAT_FLAG_W,NITRIT,NITRIT_FLAG_W,PHSPHT,PHSPHT_FLAG_W,CFC-11,CFC-11_FLAG_W,CFC-12,CFC-12_FLAG_W,TRITUM,TRITUM_FLAG_W,HELIUM,HELIUM_FLAG_W,DELHE3,DELHE3_FLAG_W,DELC14,DELC14_FLAG_W,NEON,NEON_FLAG_W,TCARBN,TCARBN_FLAG_W,CTDRAW,C14ERR,REVTMP,HELIER,DELHER,REVPRS,NEONER,THETA,TRITER
,,,,,,,,,,,,DBAR,ITS-90,PSS-78,,PSS-78,,UMOL/KG,,UMOL/KG,,UMOL/KG,,UMOL/KG,,UMOL/KG,,UMOL/KG,,PMOL/KG,,PMOL/KG,,TU,,NMOL/KG,,PERCNT,,/MILLE,,NMOL/KG,,UMOL/KG,,,/MILLE,ITS-90,NMOL/KG,PERCNT,DBAR,NMOL/KG,DEG C,TU
    49RY9407_1,   P09,    44,  2,      8,    212,2,19940723,2258, 18.5350, 137.0222, 4780,    502.8,   8.8589,  34.1959,2,  34.1997,2,    130.2,3,    143.9,2,    36.84,2,    24.80,2,     0.00,2,     1.79,2, -999.000,9, -999.000,9, -999.000,9,-999.0000,9,  -999.00,9,   -999.0,9,-999.000,9,   -999.0,9,   -999,  -999.0,-999.000,-999.0000,-999.000,  -999.0,-999.000,  8.8044,-999.000
    49RY9407_1,   P09,    44,  2,      7,    220,2,19940723,2258, 18.5350, 137.0222, 4780,    604.0,   6.7715,  34.1913,2,  34.1950,2,     86.7,3,     94.0,2,    61.13,2,    33.44,2,     0.00,2,     2.43,2, -999.000,9, -999.000,9, -999.000,9,-999.0000,9,  -999.00,9,   -999.0,9,-999.000,9,   -999.0,9,   -999,  -999.0,-999.000,-999.0000,-999.000,  -999.0,-999.000,  6.7151,-999.000
    49RY9407_1,   P09,    44,  2,      6,    209,2,19940723,2258, 18.5350, 137.0222, 4780,    705.2,   5.7397,  34.3007,2,  34.3022,2,     64.8,2,     68.8,2,    78.52,6,    37.63,6,     0.00,6,     2.73,6, -999.000,9, -999.000,9, -999.000,9,-999.0000,9,  -999.00,9,   -999.0,9,-999.000,9,   -999.0,9,   -999,  -999.0,-999.000,-999.0000,-999.000,  -999.0,-999.000,  5.6787,-999.000
    49RY9407_1,   P09,    44,  2,      5,    218,2,19940723,2258, 18.5350, 137.0222, 4780,    805.8,   4.9350,  34.3937,2,  34.3956,2,     67.2,2,     68.1,6,    93.67,2,    38.97,2,     0.00,2,     2.82,2, -999.000,9, -999.000,9, -999.000,9,-999.0000,9,  -999.00,9,   -999.0,9,-999.000,9,   -999.0,9,   -999,  -999.0,-999.000,-999.0000,-999.000,  -999.0,-999.000,  4.8696,-999.000
    49RY9407_1,   P09,    44,  2,      4,    206,2,19940723,2258, 18.5350, 137.0222, 4780,    907.0,   4.4669,  34.4411,2,  34.4875,4,     74.0,2,     74.3,2,   102.78,2,    39.22,2,     0.00,2,     2.84,2, -999.000,9, -999.000,9, -999.000,9,-999.0000,9,  -999.00,9,   -999.0,9,-999.000,9,   -999.0,9,   -999,  -999.0,-999.000,-999.0000,-999.000,  -999.0,-999.000,  4.3957,-999.000
    49RY9407_1,   P09,    44,  2,      3,    205,2,19940723,2258, 18.5350, 137.0222, 4780,   1008.0,   4.0187,  34.4864,2,  34.4426,4,     84.1,2,     79.5,2,   111.10,2,    39.10,2,     0.01,2,     2.82,2, -999.000,9, -999.000,9, -999.000,9,-999.0000,9,  -999.00,9,   -999.0,9,-999.000,9,   -999.0,9,   -999,  -999.0,-999.000,-999.0000,-999.000,  -999.0,-999.000,  3.9422,-999.000
    49RY9407_1,   P09,    44,  2,      2,    216,2,19940723,2258, 18.5350, 137.0222, 4780,   1260.7,   3.2122,  34.5441,2,  34.5450,2,     93.1,2,     94.4,2,   125.96,2,    39.22,2,     0.00,2,     2.81,2, -999.000,9, -999.000,9, -999.000,9,-999.0000,9,  -999.00,9,   -999.0,9,-999.000,9,   -999.0,9,   -999,  -999.0,-999.000,-999.0000,-999.000,  -999.0,-999.000,  3.1219,-999.000
    49RY9407_1,   P09,    44,  2,      1,    201,2,19940723,2258, 18.5350, 137.0222, 4780,   1513.8,   2.7677,  34.5753,2,  34.5777,2,    101.5,2,     99.6,2,   133.02,2,    39.01,2,     0.00,2,     2.79,2, -999.000,9, -999.000,9, -999.000,9,-999.0000,9,  -999.00,9,   -999.0,9,-999.000,9,   -999.0,9,   -999,  -999.0,-999.000,-999.0000,-999.000,  -999.0,-999.000,  2.6614,-999.000
    49RY9407_1,   P09,    44,  2,     23,    228,4,19940723,2258, 18.5350, 137.0222, 4780,   1767.5,   2.3314,  34.6022,2,  34.6029,2,    105.7,2,    106.8,2,   139.76,2,    39.13,2,     0.00,2,     2.78,2, -999.000,9, -999.000,9, -999.000,9,-999.0000,9,  -999.00,9,   -999.0,9,-999.000,9,   -999.0,9,   -999,  -999.0,-999.000,-999.0000,-999.000,  -999.0,-999.000,  2.2097,-999.000
    49RY9407_1,   P09,    44,  2,     24,    230,2,19940723,2258, 18.5350, 137.0222, 4780,   1767.5,   2.3314,  34.6022,2,  34.6033,2,    105.7,2,    106.1,2,   139.66,6,    39.09,6,     0.00,6,     2.78,6, -999.000,9, -999.000,9, -999.000,9,-999.0000,9,  -999.00,9,   -999.0,9,-999.000,9,   -999.0,9,   -999,  -999.0,-999.000,-999.0000,-999.000,  -999.0,-999.000,  2.2097,-999.000
    49RY9407_1,   P09,    44,  2,     21,    226,2,19940723,2258, 18.5350, 137.0222, 4780,   2276.4,   1.8894,  34.6387,2,  34.6394,2,    121.3,2,    122.5,2,   145.11,2,    38.34,2,     0.00,2,     2.71,2, -999.000,9, -999.000,9, -999.000,9,-999.0000,9,  -999.00,9,   -999.0,9,-999.000,9,   -999.0,9,   -999,  -999.0,-999.000,-999.0000,-999.000,  -999.0,-999.000,  1.7311,-999.000
    49RY9407_1,   P09,    44,  2,     22,    227,2,19940723,2258, 18.5350, 137.0222, 4780,   2276.4,   1.8894,  34.6387,2,  34.6386,2,    121.3,2,    122.4,6,   144.91,2,    38.23,2,     0.00,2,     2.71,2, -999.000,9, -999.000,9, -999.000,9,-999.0000,9,  -999.00,9,   -999.0,9,-999.000,9,   -999.0,9,   -999,  -999.0,-999.000,-999.0000,-999.000,  -999.0,-999.000,  1.7311,-999.000
    49RY9407_1,   P09,    44,  2,     20,    225,2,19940723,2258, 18.5350, 137.0222, 4780,   2530.7,   1.7837,  34.6500,2,  34.6504,2,    128.4,2,    129.3,2,   145.74,2,    38.11,2,     0.00,2,     2.68,2, -999.000,9, -999.000,9, -999.000,9,-999.0000,9,  -999.00,9,   -999.0,9,-999.000,9,   -999.0,9,   -999,  -999.0,-999.000,-999.0000,-999.000,  -999.0,-999.000,  1.6047,-999.000
    49RY9407_1,   P09,    44,  2,     19,    224,2,19940723,2258, 18.5350, 137.0222, 4780,   2783.8,   1.6862,  34.6580,2,  34.6597,2,    136.4,2,    135.7,2,   145.16,2,    37.54,2,     0.00,2,     2.65,2, -999.000,9, -999.000,9, -999.000,9,-999.0000,9,  -999.00,9,   -999.0,9,-999.000,9,   -999.0,9,   -999,  -999.0,-999.000,-999.0000,-999.000,  -999.0,-999.000,  1.4859,-999.000
    49RY9407_1,   P09,    44,  2,     18,    223,2,19940723,2258, 18.5350, 137.0222, 4780,   3039.5,   1.6203,  34.6662,2,  34.6668,2,    141.1,2,    141.5,2,   144.81,2,    37.17,2,     0.00,2,     2.62,2, -999.000,9, -999.000,9, -999.000,9,-999.0000,9,  -999.00,9,   -999.0,9,-999.000,9,   -999.0,9,   -999,  -999.0,-999.000,-999.0000,-999.000,  -999.0,-999.000,  1.3971,-999.000
    49RY9407_1,   P09,    44,  2,     17,    203,2,19940723,2258, 18.5350, 137.0222, 4780,   3296.8,   1.5860,  34.6700,2,  34.6717,2,    145.9,2,    144.0,2,   144.21,6,    36.94,6,     0.00,6,     2.59,6, -999.000,9, -999.000,9, -999.000,9,-999.0000,9,  -999.00,9,   -999.0,9,-999.000,9,   -999.0,9,   -999,  -999.0,-999.000,-999.0000,-999.000,  3292.0,-999.000,  1.3383,-999.000
    49RY9407_1,   P09,    44,  2,     16,    210,2,19940723,2258, 18.5350, 137.0222, 4780,   3549.8,   1.5548,  34.6760,2,  34.6766,2,    148.2,2,    149.5,2,   143.67,2,    36.69,2,     0.00,2,     2.57,2, -999.000,9, -999.000,9, -999.000,9,-999.0000,9,  -999.00,9,   -999.0,9,-999.000,9,   -999.0,9,   -999,  -999.0,-999.000,-999.0000,-999.000,  -999.0,-999.000,  1.2822,-999.000
    49RY9407_1,   P09,    44,  2,     15,    221,2,19940723,2258, 18.5350, 137.0222, 4780,   3807.3,   1.5293,  34.6803,2,  34.6802,2,    154.5,2,    153.0,2,   142.52,2,    36.49,2,     0.00,2,     2.55,2, -999.000,9, -999.000,9, -999.000,9,-999.0000,9,  -999.00,9,   -999.0,9,-999.000,9,   -999.0,9,   -999,  -999.0,   1.525,-999.0000,-999.000,  3808.0,-999.000,  1.2304,-999.000
    49RY9407_1,   P09,    44,  2,     14,    219,2,19940723,2258, 18.5350, 137.0222, 4780,   4064.1,   1.5097,  34.6822,2,  34.6839,2,    157.9,2,    157.9,2,   141.46,2,    36.16,2,     0.00,2,     2.53,2, -999.000,9, -999.000,9, -999.000,9,-999.0000,9,  -999.00,9,   -999.0,9,-999.000,9,   -999.0,9,   -999,  -999.0,-999.000,-999.0000,-999.000,  -999.0,-999.000,  1.1835,-999.000
    49RY9407_1,   P09,    44,  2,     13,    229,2,19940723,2258, 18.5350, 137.0222, 4780,   4320.2,   1.5150,  34.6853,2,  34.6851,2,    161.4,2,    159.4,2,   140.69,2,    36.07,2,     0.00,2,     2.51,2, -999.000,9, -999.000,9, -999.000,9,-999.0000,9,  -999.00,9,   -999.0,9,-999.000,9,   -999.0,9,   -999,  -999.0,   1.512,-999.0000,-999.000,  4321.0,-999.000,  1.1601,-999.000
    49RY9407_1,   P09,    44,  2,     12,    217,4,19940723,2258, 18.5350, 137.0222, 4780,   4576.4,   1.5348,  34.6861,2,  34.6867,2,    161.2,2,    160.1,2,   140.34,2,    36.00,2,     0.00,2,     2.50,2, -999.000,9, -999.000,9, -999.000,9,-999.0000,9,  -999.00,9,   -999.0,9,-999.000,9,   -999.0,9,   -999,  -999.0,-999.000,-999.0000,-999.000,  -999.0,-999.000,  1.1499,-999.000
    49RY9407_1,   P09,    44,  2,     10,    214,2,19940723,2258, 18.5350, 137.0222, 4780,   4921.0,   1.5731,  34.6859,2,  34.6871,2,    160.2,2,    160.5,6,   140.12,6,    35.94,6,     0.00,6,     2.49,6, -999.000,9, -999.000,9, -999.000,9,-999.0000,9,  -999.00,9,   -999.0,9,-999.000,9,   -999.0,9,   -999,  -999.0,-999.000,-999.0000,-999.000,  4927.0,-999.000,  1.1461,-999.000
    49RY9407_1,   P09,    44,  2,     11,    204,2,19940723,2258, 18.5350, 137.0222, 4780,   4922.0,   1.5733,  34.6865,2,  34.6865,2,    160.2,2,    160.8,6,   139.99,6,    36.00,6,     0.00,6,     2.49,6, -999.000,9, -999.000,9, -999.000,9,-999.0000,9,  -999.00,9,   -999.0,9,-999.000,9,   -999.0,9,   -999,  -999.0,   1.569,-999.0000,-999.000,  4921.0,-999.000,  1.1461,-999.000
    49RY9407_1,   P09,    45,  1,      0,      0,2,19940724,0342, 18.0070, 136.9970, 4915,      0.5,  30.1932,  34.1794,2,-999.0000,9,    150.3,4,    195.9,6,     1.34,2,     0.01,2,     0.00,2,     0.01,2, -999.000,9, -999.000,9, -999.000,9,-999.0000,9,  -999.00,9,   -999.0,9,-999.000,9,   -999.0,9,   -999,  -999.0,-999.000,-999.0000,-999.000,  -999.0,-999.000, 30.1930,-999.000
    49RY9407_1,   P09,    45,  1,     21,    226,2,19940724,0342, 18.0070, 136.9970, 4915,      9.8,  29.7272,  34.2166,2,  34.2156,2,    189.0,4,    195.0,2,     1.22,2,     0.03,2,     0.00,2,     0.00,2, -999.000,9, -999.000,9, -999.000,9,-999.0000,9,  -999.00,9,   -999.0,9,-999.000,9,   -999.0,9,   -999,  -999.0,-999.000,-999.0000,-999.000,  -999.0,-999.000, 29.7248,-999.000
    49RY9407_1,   P09,    45,  1,     20,    203,2,19940724,0342, 18.0070, 136.9970, 4915,     24.7,  29.6012,  34.2328,2,  34.2339,2,    194.2,2,    195.8,2,     1.23,2,     0.01,2,     0.00,2,     0.00,2, -999.000,9, -999.000,9, -999.000,9,-999.0000,9,  -999.00,9,   -999.0,9,-999.000,9,   -999.0,9,   -999,  -999.0,-999.000,-999.0000,-999.000,    28.0,-999.000, 29.5952,-999.000
    49RY9407_1,   P09,    45,  1,     19,    210,2,19940724,0342, 18.0070, 136.9970, 4915,     50.0,  29.5679,  34.3015,2,  34.3055,2,    191.5,3,    197.6,2,     1.20,2,     0.01,2,     0.00,2,     0.00,2, -999.000,9, -999.000,9, -999.000,9,-999.0000,9,  -999.00,9,   -999.0,9,-999.000,9,   -999.0,9,   -999,  -999.0,-999.000,-999.0000,-999.000,  -999.0,-999.000, 29.5556,-999.000
    49RY9407_1,   P09,    45,  1,     18,    221,2,19940724,0342, 18.0070, 136.9970, 4915,     75.0,  28.4130,  34.4883,2,  34.4877,2,    204.6,2,    209.6,2,     1.16,2,     0.04,2,     0.00,2,     0.03,2, -999.000,9, -999.000,9, -999.000,9,-999.0000,9,  -999.00,9,   -999.0,9,-999.000,9,   -999.0,9,   -999,  -999.0,  28.400,-999.0000,-999.000,    78.0,-999.000, 28.3952,-999.000
    49RY9407_1,   P09,    45,  1,     17,    219,2,19940724,0342, 18.0070, 136.9970, 4915,    100.3,  27.6561,  34.6828,2,  34.6823,2,    207.5,2,    209.4,2,     1.03,2,     0.03,2,     0.00,2,     0.03,2, -999.000,9, -999.000,9, -999.000,9,-999.0000,9,  -999.00,9,   -999.0,9,-999.000,9,   -999.0,9,   -999,  -999.0,-999.000,-999.0000,-999.000,  -999.0,-999.000, 27.6327,-999.000
    49RY9407_1,   P09,    45,  1,     16,    229,2,19940724,0342, 18.0070, 136.9970, 4915,    125.5,  27.0112,  34.7710,2,  34.7704,2,    208.4,2,    205.0,2,     1.12,2,     0.02,2,     0.00,2,     0.06,2, -999.000,9, -999.000,9, -999.000,9,-999.0000,9,  -999.00,9,   -999.0,9,-999.000,9,   -999.0,9,   -999,  -999.0,  27.000,-999.0000,-999.000,   115.0,-999.000, 26.9824,-999.000
    49RY9407_1,   P09,    45,  1,     15,    217,2,19940724,0342, 18.0070, 136.9970, 4915,    151.2,  25.6776,  34.9300,2,  34.9240,2,    201.8,3,    196.2,2,     1.19,2,     0.05,2,     0.18,2,     0.10,2, -999.000,9, -999.000,9, -999.000,9,-999.0000,9,  -999.00,9,   -999.0,9,-999.000,9,   -999.0,9,   -999,  -999.0,-999.000,-999.0000,-999.000,  -999.0,-999.000, 25.6441,-999.000
    49RY9407_1,   P09,    45,  1,     14,    204,2,19940724,0342, 18.0070, 136.9970, 4915,    201.9,  23.0766,  35.0561,2,  35.0614,2,    190.5,2,    188.8,2,     1.53,2,     0.82,2,     0.03,2,     0.13,2, -999.000,9, -999.000,9, -999.000,9,-999.0000,9,  -999.00,9,   -999.0,9,-999.000,9,   -999.0,9,   -999,  -999.0,  23.050,-999.0000,-999.000,   202.0,-999.000, 23.0352,-999.000
    49RY9407_1,   P09,    45,  1,     13,    214,2,19940724,0342, 18.0070, 136.9970, 4915,    302.1,  16.2619,  34.6700,2,  34.6760,2,    169.7,3,    162.6,2,     8.57,2,     9.61,2,     0.01,2,     0.77,2, -999.000,9, -999.000,9, -999.000,9,-999.0000,9,  -999.00,9,   -999.0,9,-999.000,9,   -999.0,9,   -999,  -999.0,-999.000,-999.0000,-999.000,   303.0,-999.000, 16.2136,-999.000
    49RY9407_1,   P09,    45,  1,     12,    213,2,19940724,0342, 18.0070, 136.9970, 4915,    403.5,  11.2992,  34.3316,2,  34.3291,2,    147.8,3,    153.2,2,    22.11,2,    18.98,2,     0.01,2,     1.40,2, -999.000,9, -999.000,9, -999.000,9,-999.0000,9,  -999.00,9,   -999.0,9,-999.000,9,   -999.0,9,   -999,  -999.0,-999.000,-999.0000,-999.000,   403.0,-999.000, 11.2485,-999.000