BOTTLE,20020306WHPSIOdm
EXPOCODE,SECT_ID,STNNBR,CASTNO,SAMPNO,BTLNBR,BTLNBR_FLAG_W,DATE,TIME,LATITUDE,LONGITUDE,DEPTH,CTDPRS,CTDTMP,CTDSAL,CTDSAL_FLAG_W,SALNTY,SALNTY_FLAG_W,CTDOXY,CTDOXY_FLAG_W,OXYGEN,OXYGEN_FLAG_W,SILCAT,SILCAT_FLAG_W,NITRAT,NITRAT_FLAG_W,NITRIT,NITRIT_FLAG_W,PHSPHT,PHSPHT_FLAG_W,CFC-11,CFC-11_FLAG_W,CFC-12,CFC-12_FLAG_W,TRITUM,TRITUM_FLAG_W,HELIUM,HELIUM_FLAG_W,DELHE3,DELHE3_FLAG_W,DELC14,DELC14_FLAG_W,NEON,NEON_FLAG_W,TCARBN,TCARBN_FLAG_W,CTDRAW,C14ERR,REVTMP,HELIER,DELHER,REVPRS,NEONER,THETA,TRITER
,,,,,,,,,,,,DBAR,ITS-90,PSS-78,,PSS-78,,UMOL/KG,,UMOL/KG,,UMOL/KG,,UMOL/KG,,UMOL/KG,,UMOL/KG,,PMOL/KG,,PMOL/KG,,TU,,NMOL/KG,,PERCNT,,/MILLE,,NMOL/KG,,UMOL/KG,,,/MILLE,ITS-90,NMOL/KG,PERCNT,DBAR,NMOL/KG,DEG C,TU
    49RY9407_1,   P09,    31,  2,      7,    220,2,19940715,2122, 25.0150, 136.9968, 5000,    502.5,  10.0373,  34.2482,2,  34.2563,2,    171.4,2,    173.2,2,    29.92,2,    19.83,2,     0.00,2,     1.38,2, -999.000,9, -999.000,9, -999.000,9,-999.0000,9,  -999.00,9,   -999.0,1,-999.000,9,   2134.7,2,   -999,  -999.0,-999.000,-999.0000,-999.000,  -999.0,-999.000,  9.9785,-999.000
    49RY9407_1,   P09,    31,  2,      8,    212,2,19940715,2122, 25.0150, 136.9968, 5000,    502.6,  10.0384,  34.2558,2,  34.2559,2,    175.1,2,    170.6,2,    30.01,2,    19.85,2,     0.01,2,     1.38,2, -999.000,9, -999.000,9, -999.000,9,-999.0000,9,  -999.00,9,   -999.0,1,-999.000,9,   2132.4,2,   -999,  -999.0,-999.000,-999.0000,-999.000,  -999.0,-999.000,  9.9796,-999.000
    49RY9407_1,   P09,    31,  2,      6,    209,2,19940715,2122, 25.0150, 136.9968, 5000,    603.9,   7.7283,  34.1331,2,  34.1388,2,    146.0,2,    147.1,2,    47.92,2,    26.05,2,     0.00,2,     1.84,2, -999.000,9, -999.000,9, -999.000,9,-999.0000,9,  -999.00,9,   -999.0,1,-999.000,9,   2187.2,2,   -999,  -999.0,-999.000,-999.0000,-999.000,  -999.0,-999.000,  7.6676,-999.000
    49RY9407_1,   P09,    31,  2,      5,    218,2,19940715,2122, 25.0150, 136.9968, 5000,    704.8,   6.0845,  34.1293,2,  34.1329,2,    107.2,2,    108.8,2,    68.59,6,    32.21,6,     0.00,6,     2.36,6, -999.000,9, -999.000,9, -999.000,9,-999.0000,9,  -999.00,9,    -85.2,3,-999.000,9,   2241.1,2,   -999,     7.3,-999.000,-999.0000,-999.000,  -999.0,-999.000,  6.0219,-999.000
    49RY9407_1,   P09,    31,  2,      4,    206,2,19940715,2122, 25.0150, 136.9968, 5000,    805.9,   4.9046,  34.1699,2,  34.1724,2,     79.3,2,     78.8,2,    89.64,6,    37.22,6,     0.00,6,     2.72,6, -999.000,9, -999.000,9, -999.000,9,-999.0000,9,  -999.00,9,   -127.7,3,-999.000,9,   2286.0,2,   -999,     7.7,-999.000,-999.0000,-999.000,  -999.0,-999.000,  4.8396,-999.000
    49RY9407_1,   P09,    31,  2,      3,    205,2,19940715,2122, 25.0150, 136.9968, 5000,    906.2,   4.4843,  34.2613,2,  34.2628,2,     65.0,2,     64.0,2,   101.09,6,    39.13,6,     0.00,6,     2.84,6, -999.000,9, -999.000,9, -999.000,9,-999.0000,9,  -999.00,9,   -150.3,3,-999.000,9,   2310.7,2,   -999,     6.8,-999.000,-999.0000,-999.000,  -999.0,-999.000,  4.4134,-999.000
    49RY9407_1,   P09,    31,  2,      2,    216,2,19940715,2122, 25.0150, 136.9968, 5000,   1007.3,   3.9017,  34.3486,2,-999.0000,5,     60.2,2,     57.2,6,   114.54,6,    40.55,6,     0.00,6,     2.94,6, -999.000,9, -999.000,9, -999.000,9,-999.0000,9,  -999.00,9,   -999.0,1,-999.000,9,   2331.1,2,   -999,  -999.0,-999.000,-999.0000,-999.000,  -999.0,-999.000,  3.8264,-999.000
    49RY9407_1,   P09,    31,  2,      1,    201,2,19940715,2122, 25.0150, 136.9968, 5000,   1260.7,   3.0002,  34.4660,2,  34.4688,2,     63.2,2,     64.3,2,   133.71,2,    40.88,2,     0.00,2,     2.95,2, -999.000,9, -999.000,9, -999.000,9,-999.0000,9,  -999.00,9,   -223.1,3,-999.000,9,   2351.5,6,   -999,     7.8,-999.000,-999.0000,-999.000,  -999.0,-999.000,  2.9121,-999.000
    49RY9407_1,   P09,    31,  2,     24,    230,2,19940715,2122, 25.0150, 136.9968, 5000,   1514.2,   2.4748,  34.5412,2,  34.5413,2,     80.4,2,     83.5,2,   140.75,2,    40.06,2,     0.00,2,     2.88,2, -999.000,9, -999.000,9, -999.000,9,-999.0000,9,  -999.00,9,   -239.7,3,-999.000,9,   -999.0,5,   -999,     7.9,-999.000,-999.0000,-999.000,  -999.0,-999.000,  2.3720,-999.000
    49RY9407_1,   P09,    31,  2,     23,    228,2,19940715,2122, 25.0150, 136.9968, 5000,   1767.2,   2.1717,  34.5859,2,  34.5846,2,     98.9,2,    103.6,2,   142.64,2,    39.21,2,     0.00,2,     2.80,2, -999.000,9, -999.000,9, -999.000,9,-999.0000,9,  -999.00,9,   -229.4,3,-999.000,9,   2348.0,2,   -999,     6.5,-999.000,-999.0000,-999.000,  -999.0,-999.000,  2.0522,-999.000
    49RY9407_1,   P09,    31,  2,     21,    226,2,19940715,2122, 25.0150, 136.9968, 5000,   2021.2,   2.0021,  34.6095,2,  34.6096,2,    111.3,2,    111.3,2,   143.82,2,    38.64,2,     0.00,2,     2.75,2, -999.000,9, -999.000,9, -999.000,9,-999.0000,9,  -999.00,9,   -225.4,3,-999.000,9,   2346.5,2,   -999,     7.7,-999.000,-999.0000,-999.000,  -999.0,-999.000,  1.8640,-999.000
    49RY9407_1,   P09,    31,  2,     22,    227,2,19940715,2122, 25.0150, 136.9968, 5000,   2021.2,   2.0021,  34.6095,2,  34.6086,2,    111.3,2,    111.3,2,   143.51,2,    38.57,2,     0.00,2,     2.78,2, -999.000,9, -999.000,9, -999.000,9,-999.0000,9,  -999.00,9,   -227.3,3,-999.000,9,   2343.7,2,   -999,     7.5,-999.000,-999.0000,-999.000,  -999.0,-999.000,  1.8640,-999.000
    49RY9407_1,   P09,    31,  2,     20,    225,2,19940715,2122, 25.0150, 136.9968, 5000,   2275.9,   1.8647,  34.6309,2,  34.6317,2,    120.9,2,    124.6,6,   142.99,2,    37.98,2,     0.00,2,     2.69,2, -999.000,9, -999.000,9, -999.000,9,-999.0000,9,  -999.00,9,   -224.1,3,-999.000,9,   2335.3,2,   -999,     5.9,-999.000,-999.0000,-999.000,  -999.0,-999.000,  1.7069,-999.000
    49RY9407_1,   P09,    31,  2,     19,    224,2,19940715,2122, 25.0150, 136.9968, 5000,   2529.2,   1.7629,  34.6451,2,  34.6443,2,    130.1,2,    130.7,2,   142.84,2,    37.52,2,     0.00,2,     2.65,2, -999.000,9, -999.000,9, -999.000,9,-999.0000,9,  -999.00,9,   -231.1,3,-999.000,9,   2336.7,2,   -999,     5.9,-999.000,-999.0000,-999.000,  -999.0,-999.000,  1.5844,-999.000
    49RY9407_1,   P09,    31,  2,     18,    223,2,19940715,2122, 25.0150, 136.9968, 5000,   2785.0,   1.6811,  34.6561,2,  34.6559,2,    135.7,2,    136.3,2,   142.76,2,    37.17,2,     0.00,2,     2.62,2, -999.000,9, -999.000,9, -999.000,9,-999.0000,9,  -999.00,9,   -237.3,3,-999.000,9,   2333.5,2,   -999,     5.9,-999.000,-999.0000,-999.000,  -999.0,-999.000,  1.4807,-999.000
    49RY9407_1,   P09,    31,  2,     17,    222,2,19940715,2122, 25.0150, 136.9968, 5000,   3040.5,   1.6368,  34.6628,2,  34.6642,2,    140.7,2,    141.5,2,   142.52,2,    36.96,2,     0.00,2,     2.60,2, -999.000,9, -999.000,9, -999.000,9,-999.0000,9,  -999.00,9,   -232.9,3,-999.000,9,   2332.0,2,   -999,     6.2,-999.000,-999.0000,-999.000,  -999.0,-999.000,  1.4132,-999.000
    49RY9407_1,   P09,    31,  2,     16,    210,2,19940715,2122, 25.0150, 136.9968, 5000,   3295.1,   1.6005,  34.6689,2,  34.6695,2,    139.5,2,    143.7,3,   142.37,2,    36.61,2,     0.00,2,     2.57,2, -999.000,9, -999.000,9, -999.000,9,-999.0000,9,  -999.00,9,   -220.6,3,-999.000,9,   2326.8,2,   -999,     7.8,-999.000,-999.0000,-999.000,  -999.0,-999.000,  1.3527,-999.000
    49RY9407_1,   P09,    31,  2,     15,    221,2,19940715,2122, 25.0150, 136.9968, 5000,   3551.2,   1.5617,  34.6746,2,  34.6737,2,    150.9,2,    149.3,2,   141.58,2,    36.44,2,     0.00,2,     2.55,2, -999.000,9, -999.000,9, -999.000,9,-999.0000,9,  -999.00,9,   -214.8,3,-999.000,9,   2327.8,2,   -999,     8.8,   1.559,-999.0000,-999.000,  3553.0,-999.000,  1.2888,-999.000
    49RY9407_1,   P09,    31,  2,     14,    219,2,19940715,2122, 25.0150, 136.9968, 5000,   3808.0,   1.5460,  34.6782,2,  34.6792,2,    153.2,2,    153.2,2,   141.30,2,    36.19,2,     0.00,2,     2.53,2, -999.000,9, -999.000,9, -999.000,9,-999.0000,9,  -999.00,9,   -212.3,3,-999.000,9,   2324.2,2,   -999,     6.4,-999.000,-999.0000,-999.000,  -999.0,-999.000,  1.2466,-999.000
    49RY9407_1,   P09,    31,  2,     13,    229,2,19940715,2122, 25.0150, 136.9968, 5000,   4063.2,   1.5367,  34.6812,2,-999.0000,5,    156.1,2,    154.9,2,   140.60,2,    36.03,2,     0.00,2,     2.51,2, -999.000,9, -999.000,9, -999.000,9,-999.0000,9,  -999.00,9,   -206.5,3,-999.000,9,   2321.9,6,   -999,     7.2,   1.537,-999.0000,-999.000,  4064.0,-999.000,  1.2099,-999.000
    49RY9407_1,   P09,    31,  2,     12,    217,2,19940715,2122, 25.0150, 136.9968, 5000,   4319.9,   1.5482,  34.6832,2,  34.6839,2,    157.3,2,    159.2,2,   140.21,6,    35.92,6,     0.00,6,     2.50,6, -999.000,9, -999.000,9, -999.000,9,-999.0000,9,  -999.00,9,   -999.0,1,-999.000,9,   2322.9,2,   -999,  -999.0,-999.000,-999.0000,-999.000,  -999.0,-999.000,  1.1924,-999.000
    49RY9407_1,   P09,    31,  2,     11,    204,2,19940715,2122, 25.0150, 136.9968, 5000,   4576.5,   1.5719,  34.6835,2,  34.6849,2,    157.6,2,    160.1,6,   140.20,2,    35.89,2,     0.00,2,     2.50,2, -999.000,9, -999.000,9, -999.000,9,-999.0000,9,  -999.00,9,   -208.4,3,-999.000,9,   2320.6,2,   -999,     6.2,   1.570,-999.0000,-999.000,  4577.0,-999.000,  1.1858,-999.000
    49RY9407_1,   P09,    31,  2,     10,    214,2,19940715,2122, 25.0150, 136.9968, 5000,   4834.5,   1.6002,  34.6834,2,  34.6853,2,    159.2,2,    157.4,2,   140.01,2,    35.89,2,     0.00,2,     2.49,2, -999.000,9, -999.000,9, -999.000,9,-999.0000,9,  -999.00,9,   -207.8,3,-999.000,9,   2320.9,2,   -999,     6.5,-999.000,-999.0000,-999.000,  -999.0,-999.000,  1.1827,-999.000
    49RY9407_1,   P09,    31,  2,      9,    213,4,19940715,2122, 25.0150, 136.9968, 5000,   5106.6,   1.6333,  34.6847,2,  34.6835,3,    163.6,2,    160.0,2,   139.88,2,    35.86,2,     0.00,2,     2.49,2, -999.000,9, -999.000,9, -999.000,9,-999.0000,9,  -999.00,9,   -999.0,9,-999.000,9,   -999.0,9,   -999,  -999.0,   1.630,-999.0000,-999.000,  5102.0,-999.000,  1.1815,-999.000
    49RY9407_1,   P09,    32,  1,      0,      0,2,19940716,0159, 24.5027, 137.0000, 5315,      0.0,  29.7200,  34.6184,2,-999.0000,9,    157.6,4,    199.8,2,     1.24,2,     0.02,2,     0.01,2,     0.01,2, -999.000,9, -999.000,9, -999.000,9,-999.0000,9,  -999.00,9,   -999.0,9,-999.000,9,   -999.0,9,   -999,  -999.0,-999.000,-999.0000,-999.000,  -999.0,-999.000, 29.7200,-999.000
    49RY9407_1,   P09,    32,  1,     20,    225,2,19940716,0159, 24.5027, 137.0000, 5315,      9.5,  29.2971,  34.6187,2,  34.6317,2,    181.6,3,    197.8,2,     1.39,2,     0.02,2,     0.00,2,     0.00,2, -999.000,9, -999.000,9, -999.000,9,-999.0000,9,  -999.00,9,   -999.0,9,-999.000,9,   -999.0,9,   -999,  -999.0,-999.000,-999.0000,-999.000,  -999.0,-999.000, 29.2948,-999.000
    49RY9407_1,   P09,    32,  1,     19,    224,2,19940716,0159, 24.5027, 137.0000, 5315,     25.4,  26.1939,  34.7642,2,  34.7753,2,    197.5,3,    220.5,2,     1.39,2,     0.00,2,     0.00,2,     0.00,2, -999.000,9, -999.000,9, -999.000,9,-999.0000,9,  -999.00,9,   -999.0,9,-999.000,9,   -999.0,9,   -999,  -999.0,-999.000,-999.0000,-999.000,  -999.0,-999.000, 26.1882,-999.000
    49RY9407_1,   P09,    32,  1,     18,    223,2,19940716,0159, 24.5027, 137.0000, 5315,     49.8,  23.1291,  34.9340,2,  34.9209,2,    230.8,3,    227.1,2,     1.59,2,     0.01,2,     0.00,2,     0.00,2, -999.000,9, -999.000,9, -999.000,9,-999.0000,9,  -999.00,9,   -999.0,9,-999.000,9,   -999.0,9,   -999,  -999.0,-999.000,-999.0000,-999.000,  -999.0,-999.000, 23.1189,-999.000
    49RY9407_1,   P09,    32,  1,     17,    222,2,19940716,0159, 24.5027, 137.0000, 5315,     74.6,  21.3483,  34.9478,2,  34.9418,2,    230.6,3,    213.3,2,     1.72,6,     0.02,6,     0.00,6,     0.03,6, -999.000,9, -999.000,9, -999.000,9,-999.0000,9,  -999.00,9,   -999.0,9,-999.000,9,   -999.0,9,   -999,  -999.0,-999.000,-999.0000,-999.000,  -999.0,-999.000, 21.3339,-999.000
    49RY9407_1,   P09,    32,  1,     16,    210,2,19940716,0159, 24.5027, 137.0000, 5315,    100.9,  20.5657,  34.9504,2,  34.9378,2,    211.3,2,    212.7,2,     1.78,2,     0.02,2,     0.02,2,     0.04,2, -999.000,9, -999.000,9, -999.000,9,-999.0000,9,  -999.00,9,   -999.0,9,-999.000,9,   -999.0,9,   -999,  -999.0,-999.000,-999.0000,-999.000,  -999.0,-999.000, 20.5467,-999.000
    49RY9407_1,   P09,    32,  1,     15,    221,2,19940716,0159, 24.5027, 137.0000, 5315,    125.8,  19.6362,  34.9593,2,  34.9252,2,    203.2,2,    201.2,2,     2.37,2,     0.79,2,     0.14,2,     0.11,2, -999.000,9, -999.000,9, -999.000,9,-999.0000,9,  -999.00,9,   -999.0,9,-999.000,9,   -999.0,9,   -999,  -999.0,  19.871,-999.0000,-999.000,   128.0,-999.000, 19.6133,-999.000
    49RY9407_1,   P09,    32,  1,     14,    219,2,19940716,0159, 24.5027, 137.0000, 5315,    150.0,  18.8928,  34.8918,2,  34.8868,2,    202.2,3,    193.0,2,     3.24,2,     3.51,2,     0.03,2,     0.26,2, -999.000,9, -999.000,9, -999.000,9,-999.0000,9,  -999.00,9,   -999.0,9,-999.000,9,   -999.0,9,   -999,  -999.0,-999.000,-999.0000,-999.000,  -999.0,-999.000, 18.8662,-999.000
    49RY9407_1,   P09,    32,  1,     13,    229,2,19940716,0159, 24.5027, 137.0000, 5315,    200.2,  17.7617,  34.8228,2,  34.8203,2,    203.9,2,    200.9,2,     3.99,2,     4.42,2,     0.01,2,     0.31,2, -999.000,9, -999.000,9, -999.000,9,-999.0000,9,  -999.00,9,   -999.0,9,-999.000,9,   -999.0,9,   -999,  -999.0,  17.777,-999.0000,-999.000,   197.0,-999.000, 17.7277,-999.000
    49RY9407_1,   P09,    32,  1,     12,    217,2,19940716,0159, 24.5027, 137.0000, 5315,    300.4,  15.6837,  34.6883,2,  34.6711,2,    192.5,2,    193.2,2,     7.69,2,     8.19,2,     0.01,2,     0.57,2, -999.000,9, -999.000,9, -999.000,9,-999.0000,9,  -999.00,9,   -999.0,9,-999.000,9,   -999.0,9,   -999,  -999.0,-999.000,-999.0000,-999.000,  -999.0,-999.000, 15.6368,-999.000
    49RY9407_1,   P09,    32,  1,     11,    204,2,19940716,0159, 24.5027, 137.0000, 5315,    402.2,  12.7663,  34.4177,2,  34.4470,2,    189.3,3,    181.8,2,    16.45,2,    13.95,2,     0.00,2,     0.97,2, -999.000,9, -999.000,9, -999.000,9,-999.0000,9,  -999.00,9,   -999.0,9,-999.000,9,   -999.0,9,   -999,  -999.0,  12.850,-999.0000,-999.000,   400.0,-999.000, 12.7116,-999.000
    49RY9407_1,   P09,    32,  1,     10,    214,2,19940716,0159, 24.5027, 137.0000, 5315,    503.2,   9.6075,  34.2272,2,  34.2300,2,    166.4,2,    168.5,2,    32.70,2,    20.99,2,     0.00,2,     1.48,2, -999.000,9, -999.000,9, -999.000,9,-999.0000,9,  -999.00,9,   -999.0,9,-999.000,9,   -999.0,9,   -999,  -999.0,-999.000,-999.0000,-999.000,  -999.0,-999.000,  9.5502,-999.000
    49RY9407_1,   P09,    32,  1,      9,    213,2,19940716,0159, 24.5027, 137.0000, 5315,    603.6,   7.4199,  34.1337,2,  34.1339,2,    151.9,3,    138.9,2,    51.29,2,    27.86,2,     0.00,2,     1.99,2, -999.000,9, -999.000,9, -999.000,9,-999.0000,9,  -999.00,9,   -999.0,9,-999.000,9,   -999.0,9,   -999,  -999.0,   7.423,-999.0000,-999.000,   603.0,-999.000,  7.3606,-999.000