BOTTLE,20020306WHPSIOdm
EXPOCODE,SECT_ID,STNNBR,CASTNO,SAMPNO,BTLNBR,BTLNBR_FLAG_W,DATE,TIME,LATITUDE,LONGITUDE,DEPTH,CTDPRS,CTDTMP,CTDSAL,CTDSAL_FLAG_W,SALNTY,SALNTY_FLAG_W,CTDOXY,CTDOXY_FLAG_W,OXYGEN,OXYGEN_FLAG_W,SILCAT,SILCAT_FLAG_W,NITRAT,NITRAT_FLAG_W,NITRIT,NITRIT_FLAG_W,PHSPHT,PHSPHT_FLAG_W,CFC-11,CFC-11_FLAG_W,CFC-12,CFC-12_FLAG_W,TRITUM,TRITUM_FLAG_W,HELIUM,HELIUM_FLAG_W,DELHE3,DELHE3_FLAG_W,DELC14,DELC14_FLAG_W,NEON,NEON_FLAG_W,TCARBN,TCARBN_FLAG_W,CTDRAW,C14ERR,REVTMP,HELIER,DELHER,REVPRS,NEONER,THETA,TRITER
,,,,,,,,,,,,DBAR,ITS-90,PSS-78,,PSS-78,,UMOL/KG,,UMOL/KG,,UMOL/KG,,UMOL/KG,,UMOL/KG,,UMOL/KG,,PMOL/KG,,PMOL/KG,,TU,,NMOL/KG,,PERCNT,,/MILLE,,NMOL/KG,,UMOL/KG,,,/MILLE,ITS-90,NMOL/KG,PERCNT,DBAR,NMOL/KG,DEG C,TU
    49RY9407_2,   P09,    88,  2,      5,    218,2,19940813,0232,  1.2660, 142.0248, 2960,    304.0,  11.0716,  34.8011,2,  34.7989,2,   -999.0,9,    138.5,2,    19.38,2,    23.03,2,     0.00,2,     1.57,2, -999.000,9, -999.000,9, -999.000,9,-999.0000,9,  -999.00,9,   -999.0,9,-999.000,9,   -999.0,9,   -999,  -999.0,-999.000,-999.0000,-999.000,  -999.0,-999.000, 11.0338,-999.000
    49RY9407_2,   P09,    88,  2,      3,    205,2,19940813,0232,  1.2660, 142.0248, 2960,    406.0,   8.8510,  34.6375,2,  34.6369,2,   -999.0,9,    125.3,6,    30.28,2,    28.29,2,     0.00,2,     1.93,2, -999.000,9, -999.000,9, -999.000,9,-999.0000,9,  -999.00,9,   -999.0,9,-999.000,9,   -999.0,9,   -999,  -999.0,-999.000,-999.0000,-999.000,  -999.0,-999.000,  8.8070,-999.000
    49RY9407_2,   P09,    88,  2,      4,    206,2,19940813,0232,  1.2660, 142.0248, 2960,    410.1,   8.7827,  34.6384,2,  34.6194,3,   -999.0,9,    117.2,6,    34.25,2,    29.19,2,     0.00,2,     1.98,2, -999.000,9, -999.000,9, -999.000,9,-999.0000,9,  -999.00,9,   -999.0,9,-999.000,9,   -999.0,9,   -999,  -999.0,-999.000,-999.0000,-999.000,  -999.0,-999.000,  8.7384,-999.000
    49RY9407_2,   P09,    88,  2,      2,    216,2,19940813,0232,  1.2660, 142.0248, 2960,    506.0,   7.7546,  34.5669,2,  34.5669,2,   -999.0,9,    113.4,2,    39.72,6,    31.47,6,     0.00,6,     2.13,6, -999.000,9, -999.000,9, -999.000,9,-999.0000,9,  -999.00,9,   -999.0,9,-999.000,9,   -999.0,9,   -999,  -999.0,-999.000,-999.0000,-999.000,  -999.0,-999.000,  7.7036,-999.000
    49RY9407_2,   P09,    88,  2,      1,    201,2,19940813,0232,  1.2660, 142.0248, 2960,    606.9,   6.4302,  34.5387,2,  34.5374,2,   -999.0,9,    118.3,2,    45.36,2,    34.04,2,     0.00,2,     2.32,2, -999.000,9, -999.000,9, -999.000,9,-999.0000,9,  -999.00,9,   -999.0,9,-999.000,9,   -999.0,9,   -999,  -999.0,-999.000,-999.0000,-999.000,  -999.0,-999.000,  6.3747,-999.000
    49RY9407_2,   P09,    88,  2,     24,    222,2,19940813,0232,  1.2660, 142.0248, 2960,    706.8,   6.0115,  34.5382,2,  34.5357,6,   -999.0,9,    105.2,2,    53.85,2,    36.03,2,     0.00,2,     2.49,2, -999.000,9, -999.000,9, -999.000,9,-999.0000,9,  -999.00,9,   -999.0,9,-999.000,9,   -999.0,9,   -999,  -999.0,-999.000,-999.0000,-999.000,  -999.0,-999.000,  5.9486,-999.000
    49RY9407_2,   P09,    88,  2,     23,    228,2,19940813,0232,  1.2660, 142.0248, 2960,    807.4,   5.6523,  34.5350,2,  34.5342,2,   -999.0,9,     99.6,2,    63.41,2,    36.82,2,     0.00,2,     2.54,2, -999.000,9, -999.000,9, -999.000,9,-999.0000,9,  -999.00,9,   -999.0,9,-999.000,9,   -999.0,9,   -999,  -999.0,-999.000,-999.0000,-999.000,  -999.0,-999.000,  5.5821,-999.000
    49RY9407_2,   P09,    88,  2,     22,    227,2,19940813,0232,  1.2660, 142.0248, 2960,    909.4,   4.9577,  34.5395,2,  34.5399,2,   -999.0,9,    104.1,2,    74.22,2,    37.19,2,     0.00,2,     2.57,2, -999.000,9, -999.000,9, -999.000,9,-999.0000,9,  -999.00,9,   -999.0,9,-999.000,9,   -999.0,9,   -999,  -999.0,-999.000,-999.0000,-999.000,  -999.0,-999.000,  4.8828,-999.000
    49RY9407_2,   P09,    88,  2,     21,    226,2,19940813,0232,  1.2660, 142.0248, 2960,   1010.2,   4.4331,  34.5542,2,  34.5543,2,   -999.0,9,     98.5,6,    86.82,2,    38.24,2,     0.00,2,     2.63,2, -999.000,9, -999.000,9, -999.000,9,-999.0000,9,  -999.00,9,   -999.0,9,-999.000,9,   -999.0,9,   -999,  -999.0,-999.000,-999.0000,-999.000,  -999.0,-999.000,  4.3532,-999.000
    49RY9407_2,   P09,    88,  2,     20,    203,2,19940813,0232,  1.2660, 142.0248, 2960,   1263.1,   3.6018,  34.5781,2,  34.5769,2,   -999.0,9,    100.4,2,   104.18,6,    38.93,6,     0.00,6,     2.73,6, -999.000,9, -999.000,9, -999.000,9,-999.0000,9,  -999.00,9,   -999.0,9,-999.000,9,   -999.0,9,   -999,  -999.0,-999.000,-999.0000,-999.000,  1254.0,-999.000,  3.5074,-999.000
    49RY9407_2,   P09,    88,  2,     19,    215,2,19940813,0232,  1.2660, 142.0248, 2960,   1515.9,   3.0082,  34.5988,2,  34.5993,6,   -999.0,9,    105.1,2,   118.62,2,    38.82,2,     0.00,2,     2.70,2, -999.000,9, -999.000,9, -999.000,9,-999.0000,9,  -999.00,9,   -999.0,9,-999.000,9,   -999.0,9,   -999,  -999.0,-999.000,-999.0000,-999.000,  -999.0,-999.000,  2.8989,-999.000
    49RY9407_2,   P09,    88,  2,     17,    219,2,19940813,0232,  1.2660, 142.0248, 2960,   1769.3,   2.5891,  34.6181,2,  34.6180,2,   -999.0,9,    112.0,2,   126.23,2,    38.62,2,     0.00,2,     2.67,2, -999.000,9, -999.000,9, -999.000,9,-999.0000,9,  -999.00,9,   -999.0,9,-999.000,9,   -999.0,9,   -999,  -999.0,-999.000,-999.0000,-999.000,  -999.0,-999.000,  2.4637,-999.000
    49RY9407_2,   P09,    88,  2,     18,    221,2,19940813,0232,  1.2660, 142.0248, 2960,   1769.3,   2.5891,  34.6181,2,  34.6182,2,   -999.0,9,    111.8,2,   125.94,2,    38.64,2,     0.00,2,     2.67,2, -999.000,9, -999.000,9, -999.000,9,-999.0000,9,  -999.00,9,   -999.0,9,-999.000,9,   -999.0,9,   -999,  -999.0,-999.000,-999.0000,-999.000,  1762.0,-999.000,  2.4637,-999.000
    49RY9407_2,   P09,    88,  2,     16,    229,2,19940813,0232,  1.2660, 142.0248, 2960,   2022.5,   2.1800,  34.6383,2,  34.6372,6,   -999.0,9,    119.7,2,   134.55,2,    38.31,2,     0.00,2,     2.65,2, -999.000,9, -999.000,9, -999.000,9,-999.0000,9,  -999.00,9,   -999.0,9,-999.000,9,   -999.0,9,   -999,  -999.0,   2.171,-999.0000,-999.000,  2017.0,-999.000,  2.0389,-999.000
    49RY9407_2,   P09,    88,  2,     15,    217,2,19940813,0232,  1.2660, 142.0248, 2960,   2277.0,   1.9271,  34.6511,2,  34.6509,2,   -999.0,9,    125.4,2,   140.26,2,    38.03,2,     0.00,2,     2.62,2, -999.000,9, -999.000,9, -999.000,9,-999.0000,9,  -999.00,9,   -999.0,9,-999.000,9,   -999.0,9,   -999,  -999.0,-999.000,-999.0000,-999.000,  -999.0,-999.000,  1.7681,-999.000
    49RY9407_2,   P09,    88,  2,     14,    204,2,19940813,0232,  1.2660, 142.0248, 2960,   2531.8,   1.7521,  34.6603,2,  34.6605,2,   -999.0,9,    134.0,2,   141.35,2,    37.46,2,     0.00,2,     2.57,2, -999.000,9, -999.000,9, -999.000,9,-999.0000,9,  -999.00,9,   -999.0,9,-999.000,9,   -999.0,9,   -999,  -999.0,   1.750,-999.0000,-999.000,  2527.0,-999.000,  1.5735,-999.000
    49RY9407_2,   P09,    88,  2,     13,    214,2,19940813,0232,  1.2660, 142.0248, 2960,   2785.7,   1.6551,  34.6672,2,  34.6678,2,   -999.0,9,    139.6,2,   142.04,6,    37.20,6,     0.00,6,     2.55,6, -999.000,9, -999.000,9, -999.000,9,-999.0000,9,  -999.00,9,   -999.0,9,-999.000,9,   -999.0,9,   -999,  -999.0,-999.000,-999.0000,-999.000,  2958.0,-999.000,  1.4552,-999.000
    49RY9407_2,   P09,    88,  2,     12,    213,4,19940813,0232,  1.2660, 142.0248, 2960,   2968.3,   1.5743,  34.6725,2,  34.6720,6,   -999.0,9,    143.7,2,   142.93,6,    36.93,6,     0.00,6,     2.53,6, -999.000,9, -999.000,9, -999.000,9,-999.0000,9,  -999.00,9,   -999.0,9,-999.000,9,   -999.0,9,   -999,  -999.0,-999.000,-999.0000,-999.000,  2963.0,-999.000,  1.3590,-999.000
    49RY9407_2,   P09,    89,  1,      0,      0,2,19940813,0547,  1.0092, 142.0027, 3060,      0.0,  29.1307,  33.8425,2,-999.0000,9,   -999.0,9,    197.9,2,     1.32,2,     0.02,2,     0.00,2,     0.03,2, -999.000,9, -999.000,9, -999.000,9,-999.0000,9,  -999.00,9,   -999.0,1,-999.000,9,   1889.0,2,   -999,  -999.0,-999.000,-999.0000,-999.000,  -999.0,-999.000, 29.1308,-999.000
    49RY9407_2,   P09,    89,  1,     19,    215,2,19940813,0547,  1.0092, 142.0027, 3060,     11.3,  29.1390,  33.9676,2,  33.9647,2,   -999.0,9,    197.5,2,     1.35,2,     0.04,2,     0.00,2,     0.00,2, -999.000,9, -999.000,9, -999.000,5,   1.8992,4,    22.25,4,   -999.0,1,   8.113,4,   1889.1,2,   -999,  -999.0,-999.000,  0.0032,   0.280,  -999.0,   0.021, 29.1363,-999.000
    49RY9407_2,   P09,    89,  1,     18,    221,2,19940813,0547,  1.0092, 142.0027, 3060,     27.4,  29.1606,  34.0718,2,  34.0702,2,   -999.0,9,    198.8,6,     1.30,2,     0.02,2,     0.00,2,     0.02,2, -999.000,9, -999.000,9, -999.000,9,-999.0000,9,  -999.00,9,   -999.0,1,-999.000,9,   1895.6,2,   -999,  -999.0,-999.000,-999.0000,-999.000,    32.0,-999.000, 29.1540,-999.000
    49RY9407_2,   P09,    89,  1,     17,    219,2,19940813,0547,  1.0092, 142.0027, 3060,     52.9,  28.6135,  34.6188,2,  34.6117,2,   -999.0,9,    190.5,2,     1.38,2,     0.25,2,     0.08,2,     0.16,2, -999.000,9, -999.000,9, -999.000,9,-999.0000,9,  -999.00,9,   -999.0,1,-999.000,9,   1940.3,6,   -999,  -999.0,-999.000,-999.0000,-999.000,  -999.0,-999.000, 28.6009,-999.000
    49RY9407_2,   P09,    89,  1,     16,    229,2,19940813,0547,  1.0092, 142.0027, 3060,     76.9,  27.7175,  35.0548,2,  35.0530,2,   -999.0,9,    166.6,2,     2.13,6,     3.15,6,     0.57,6,     0.39,6, -999.000,9, -999.000,9, -999.000,9,-999.0000,9,  -999.00,9,   -999.0,1,-999.000,9,   1992.9,2,   -999,  -999.0,  27.680,-999.0000,-999.000,    73.0,-999.000, 27.6995,-999.000
    49RY9407_2,   P09,    89,  1,     15,    217,2,19940813,0547,  1.0092, 142.0027, 3060,    102.1,  24.1557,  34.9831,2,  34.9856,2,   -999.0,9,    137.8,2,     4.50,2,     7.65,2,     0.06,2,     0.47,3, -999.000,9, -999.000,9, -999.000,9,-999.0000,9,  -999.00,9,   -999.0,1,-999.000,9,   2027.2,2,   -999,  -999.0,-999.000,-999.0000,-999.000,  -999.0,-999.000, 24.1341,-999.000
    49RY9407_2,   P09,    89,  1,     14,    204,2,19940813,0547,  1.0092, 142.0027, 3060,    127.1,  21.8424,  35.0492,2,  35.0518,2,   -999.0,9,    149.2,2,     6.03,2,     9.55,2,     0.02,2,     0.68,2, -999.000,9, -999.000,9, -999.000,9,-999.0000,9,  -999.00,9,   -999.0,1,-999.000,9,   2054.4,2,   -999,  -999.0,  22.310,-999.0000,-999.000,   127.0,-999.000, 21.8174,-999.000
    49RY9407_2,   P09,    89,  1,     13,    214,2,19940813,0547,  1.0092, 142.0027, 3060,    151.6,  20.2309,  35.1115,2,  35.0952,2,   -999.0,9,    138.3,2,     7.26,2,    10.51,2,     0.02,2,     0.72,2, -999.000,9, -999.000,9, -999.000,9,-999.0000,9,  -999.00,9,   -999.0,1,-999.000,9,   2070.1,2,   -999,  -999.0,-999.000,-999.0000,-999.000,   159.0,-999.000, 20.2026,-999.000
    49RY9407_2,   P09,    89,  1,     12,    213,2,19940813,0547,  1.0092, 142.0027, 3060,    203.6,  15.4998,  34.9702,2,  34.9572,3,   -999.0,9,    136.9,2,    13.53,2,    15.78,2,     0.01,2,     1.04,2, -999.000,9, -999.000,9, -999.000,9,-999.0000,9,  -999.00,9,   -999.0,1,-999.000,9,   2117.7,2,   -999,  -999.0,-999.000,-999.0000,-999.000,   208.0,-999.000, 15.4682,-999.000
    49RY9407_2,   P09,    89,  2,      6,    209,2,19940813,0713,  1.0183, 142.0248, 3045,    300.6,  10.2741,  34.7139,2,  34.7113,2,   -999.0,9,    124.8,6,    27.20,2,    25.61,2,     0.00,2,     1.75,2, -999.000,9, -999.000,9, -999.000,9,-999.0000,9,  -999.00,9,    -29.5,3,-999.000,9,   2180.7,2,   -999,     7.6,-999.000,-999.0000,-999.000,  -999.0,-999.000, 10.2386,-999.000
    49RY9407_2,   P09,    89,  2,      5,    218,2,19940813,0713,  1.0183, 142.0248, 3045,    402.7,   9.0132,  34.6660,2,  34.6636,2,   -999.0,9,    143.7,2,    22.44,6,    26.28,6,     0.00,6,     1.78,6, -999.000,9, -999.000,9, -999.000,9,-999.0000,9,  -999.00,9,   -999.0,1,-999.000,9,   2176.8,2,   -999,  -999.0,-999.000,-999.0000,-999.000,  -999.0,-999.000,  8.9691,-999.000
    49RY9407_2,   P09,    89,  2,      4,    206,2,19940813,0713,  1.0183, 142.0248, 3045,    503.7,   7.8000,  34.5767,2,  34.5763,2,   -999.0,9,    124.1,2,    35.85,2,    30.51,2,     0.00,2,     2.09,2, -999.000,9, -999.000,9, -999.000,9,-999.0000,9,  -999.00,9,   -999.0,1,-999.000,9,   2211.0,2,   -999,  -999.0,-999.000,-999.0000,-999.000,  -999.0,-999.000,  7.7491,-999.000
    49RY9407_2,   P09,    89,  2,      3,    205,2,19940813,0713,  1.0183, 142.0248, 3045,    603.6,   6.5352,  34.5383,2,  34.5381,2,   -999.0,9,    126.7,2,    42.50,2,    32.91,2,     0.00,2,     2.24,2, -999.000,9, -999.000,9, -999.000,9,-999.0000,9,  -999.00,9,   -999.0,1,-999.000,9,   2223.4,2,   -999,  -999.0,-999.000,-999.0000,-999.000,  -999.0,-999.000,  6.4795,-999.000
    49RY9407_2,   P09,    89,  2,      2,    216,2,19940813,0713,  1.0183, 142.0248, 3045,    704.6,   6.0130,  34.5385,2,  34.5389,2,   -999.0,9,    106.6,2,    53.28,2,    35.79,2,     0.00,2,     2.46,2, -999.000,9, -999.000,9, -999.000,9,-999.0000,9,  -999.00,9,   -152.2,3,-999.000,9,   2249.1,6,   -999,     6.4,-999.000,-999.0000,-999.000,  -999.0,-999.000,  5.9503,-999.000
    49RY9407_2,   P09,    89,  2,      1,    201,2,19940813,0713,  1.0183, 142.0248, 3045,    804.1,   5.6233,  34.5356,2,  34.5352,2,   -999.0,9,    107.0,2,    59.52,2,    36.29,2,     0.00,2,     2.51,2, -999.000,9, -999.000,9, -999.000,9,-999.0000,9,  -999.00,9,   -999.0,9,-999.000,9,   -999.0,9,   -999,  -999.0,-999.000,-999.0000,-999.000,  -999.0,-999.000,  5.5535,-999.000
    49RY9407_2,   P09,    89,  2,     24,    222,2,19940813,0713,  1.0183, 142.0248, 3045,    906.0,   4.9023,  34.5443,2,  34.5444,2,   -999.0,9,     98.3,2,    76.91,2,    37.77,2,     0.00,2,     2.64,2, -999.000,9, -999.000,9, -999.000,9,-999.0000,9,  -999.00,9,   -999.0,9,-999.000,9,   -999.0,9,   -999,  -999.0,-999.000,-999.0000,-999.000,  -999.0,-999.000,  4.8281,-999.000
    49RY9407_2,   P09,    89,  2,     23,    228,2,19940813,0713,  1.0183, 142.0248, 3045,   1007.2,   4.4316,  34.5536,2,  34.5541,2,   -999.0,9,     99.3,6,    85.47,6,    38.24,6,     0.00,6,     2.68,6, -999.000,9, -999.000,9, -999.000,9,-999.0000,9,  -999.00,9,   -999.0,9,-999.000,9,   -999.0,9,   -999,  -999.0,-999.000,-999.0000,-999.000,  -999.0,-999.000,  4.3519,-999.000
    49RY9407_2,   P09,    89,  2,     22,    227,2,19940813,0713,  1.0183, 142.0248, 3045,   1260.7,   3.5739,  34.5792,2,  34.5796,2,   -999.0,9,    101.4,2,   104.51,2,    38.81,2,     0.00,2,     2.71,2, -999.000,9, -999.000,9, -999.000,9,-999.0000,9,  -999.00,9,   -999.0,9,-999.000,9,   -999.0,9,   -999,  -999.0,-999.000,-999.0000,-999.000,  -999.0,-999.000,  3.4800,-999.000
    49RY9407_2,   P09,    89,  2,     21,    226,2,19940813,0713,  1.0183, 142.0248, 3045,   1514.2,   2.9728,  34.6006,2,  34.5993,2,   -999.0,9,    106.0,2,   118.62,2,    38.68,2,     0.00,2,     2.71,2, -999.000,9, -999.000,9, -999.000,9,-999.0000,9,  -999.00,9,   -999.0,9,-999.000,9,   -999.0,9,   -999,  -999.0,-999.000,-999.0000,-999.000,  -999.0,-999.000,  2.8640,-999.000
    49RY9407_2,   P09,    89,  2,     20,    203,2,19940813,0713,  1.0183, 142.0248, 3045,   1767.4,   2.5945,  34.6185,2,  34.6190,2,   -999.0,9,    115.2,2,   124.08,2,    38.40,2,     0.00,2,     2.68,2, -999.000,9, -999.000,9, -999.000,9,-999.0000,9,  -999.00,9,   -999.0,9,-999.000,9,   -999.0,9,   -999,  -999.0,-999.000,-999.0000,-999.000,  1762.0,-999.000,  2.4691,-999.000
    49RY9407_2,   P09,    89,  2,     19,    215,2,19940813,0713,  1.0183, 142.0248, 3045,   2021.2,   2.2285,  34.6371,2,  34.6369,2,   -999.0,9,    119.8,2,   133.42,2,    38.23,2,     0.00,2,     2.66,2, -999.000,9, -999.000,9, -999.000,9,-999.0000,1,  -999.00,1,   -999.0,9,-999.000,9,   -999.0,9,   -999,  -999.0,-999.000,-999.0000,-999.000,  -999.0,-999.000,  2.0868,-999.000
    49RY9407_2,   P09,    89,  2,     17,    219,2,19940813,0713,  1.0183, 142.0248, 3045,   2272.9,   2.0033,  34.6482,2,  34.6483,2,   -999.0,9,    124.0,6,   138.68,6,    38.05,6,     0.00,6,     2.64,6, -999.000,9, -999.000,9, -999.000,9,-999.0000,9,  -999.00,9,   -999.0,9,-999.000,9,   -999.0,9,   -999,  -999.0,-999.000,-999.0000,-999.000,  -999.0,-999.000,  1.8433,-999.000
    49RY9407_2,   P09,    89,  2,     18,    221,2,19940813,0713,  1.0183, 142.0248, 3045,   2272.9,   2.0033,  34.6482,2,  34.6469,2,   -999.0,9,    124.0,6,   138.78,6,    38.06,6,     0.00,6,     2.66,6, -999.000,9, -999.000,9, -999.000,9,-999.0000,9,  -999.00,9,   -999.0,9,-999.000,9,   -999.0,9,   -999,  -999.0,-999.000,-999.0000,-999.000,  2268.0,-999.000,  1.8433,-999.000
    49RY9407_2,   P09,    89,  2,     16,    229,2,19940813,0713,  1.0183, 142.0248, 3045,   2273.9,   2.0008,  34.6482,2,  34.6479,2,   -999.0,9,    123.2,2,   138.85,6,    38.07,6,     0.00,6,     2.64,6, -999.000,9, -999.000,9, -999.000,9,-999.0000,1,  -999.00,1,   -999.0,9,-999.000,9,   -999.0,9,   -999,  -999.0,   1.994,-999.0000,-999.000,  2271.0,-999.000,  1.8408,-999.000
    49RY9407_2,   P09,    89,  2,     15,    217,2,19940813,0713,  1.0183, 142.0248, 3045,   2528.6,   1.7583,  34.6600,2,  34.6605,2,   -999.0,9,    134.7,2,   141.41,2,    37.44,2,     0.00,2,     2.61,2, -999.000,9, -999.000,9, -999.000,9,-999.0000,9,  -999.00,9,   -999.0,9,-999.000,9,   -999.0,9,   -999,  -999.0,-999.000,-999.0000,-999.000,  -999.0,-999.000,  1.5799,-999.000
    49RY9407_2,   P09,    89,  2,     14,    204,2,19940813,0713,  1.0183, 142.0248, 3045,   2781.4,   1.6468,  34.6684,2,  34.6674,2,   -999.0,9,    140.3,2,   141.68,6,    37.04,6,     0.00,6,     2.56,6, -999.000,9, -999.000,9, -999.000,9,-999.0000,9,  -999.00,9,   -999.0,9,-999.000,9,   -999.0,9,   -999,  -999.0,   1.644,-999.0000,-999.000,  2780.0,-999.000,  1.4475,-999.000
    49RY9407_2,   P09,    89,  2,     13,    214,2,19940813,0713,  1.0183, 142.0248, 3045,   2783.3,   1.6460,  34.6675,2,  34.6676,2,   -999.0,9,    140.2,2,   141.69,6,    37.06,6,     0.00,6,     2.55,6, -999.000,9, -999.000,9, -999.000,9,-999.0000,1,  -999.00,1,   -999.0,9,-999.000,9,   -999.0,9,   -999,  -999.0,-999.000,-999.0000,-999.000,  2769.0,-999.000,  1.4465,-999.000
    49RY9407_2,   P09,    89,  2,     12,    213,4,19940813,0713,  1.0183, 142.0248, 3045,   3064.5,   1.5713,  34.6750,2,  34.6732,6,   -999.0,9,    144.2,2,   142.89,2,    36.84,2,     0.00,2,     2.52,2, -999.000,9, -999.000,9, -999.000,9,-999.0000,9,  -999.00,9,   -999.0,9,-999.000,9,   -999.0,9,   -999,  -999.0,-999.000,-999.0000,-999.000,  3058.0,-999.000,  1.3467,-999.000