BOTTLE,20020306WHPSIOdm
EXPOCODE,SECT_ID,STNNBR,CASTNO,SAMPNO,BTLNBR,BTLNBR_FLAG_W,DATE,TIME,LATITUDE,LONGITUDE,DEPTH,CTDPRS,CTDTMP,CTDSAL,CTDSAL_FLAG_W,SALNTY,SALNTY_FLAG_W,CTDOXY,CTDOXY_FLAG_W,OXYGEN,OXYGEN_FLAG_W,SILCAT,SILCAT_FLAG_W,NITRAT,NITRAT_FLAG_W,NITRIT,NITRIT_FLAG_W,PHSPHT,PHSPHT_FLAG_W,CFC-11,CFC-11_FLAG_W,CFC-12,CFC-12_FLAG_W,TRITUM,TRITUM_FLAG_W,HELIUM,HELIUM_FLAG_W,DELHE3,DELHE3_FLAG_W,DELC14,DELC14_FLAG_W,NEON,NEON_FLAG_W,TCARBN,TCARBN_FLAG_W,CTDRAW,C14ERR,REVTMP,HELIER,DELHER,REVPRS,NEONER,THETA,TRITER
,,,,,,,,,,,,DBAR,ITS-90,PSS-78,,PSS-78,,UMOL/KG,,UMOL/KG,,UMOL/KG,,UMOL/KG,,UMOL/KG,,UMOL/KG,,PMOL/KG,,PMOL/KG,,TU,,NMOL/KG,,PERCNT,,/MILLE,,NMOL/KG,,UMOL/KG,,,/MILLE,ITS-90,NMOL/KG,PERCNT,DBAR,NMOL/KG,DEG C,TU
    49RY9407_1,   P09,    26,  2,     24,    230,2,19940714,0531, 27.4937, 137.0360, 4385,    301.3,  17.0909,  34.7963,2,  34.7957,2,    208.6,2,    210.6,2,     4.21,2,     4.47,2,     0.00,2,     0.31,2, -999.000,9, -999.000,9, -999.000,9,-999.0000,9,  -999.00,9,    130.0,3,-999.000,9,   2019.7,2,   -999,     7.0,-999.000,-999.0000,-999.000,  -999.0,-999.000, 17.0410,-999.000
    49RY9407_1,   P09,    26,  2,     23,    228,2,19940714,0531, 27.4937, 137.0360, 4385,    401.9,  15.7534,  34.6787,2,  34.6786,2,    198.4,2,    196.9,6,     7.83,2,     7.90,2,     0.00,2,     0.54,2, -999.000,9, -999.000,9, -999.000,9,-999.0000,9,  -999.00,9,    128.0,3,-999.000,9,   2042.7,2,   -999,    10.0,-999.000,-999.0000,-999.000,  -999.0,-999.000, 15.6902,-999.000
    49RY9407_1,   P09,    26,  2,     22,    227,2,19940714,0531, 27.4937, 137.0360, 4385,    502.7,  13.5942,  34.4974,2,  34.5064,2,    189.0,2,    189.3,2,    14.13,6,    12.13,6,     0.00,6,     0.84,6, -999.000,9, -999.000,9, -999.000,9,-999.0000,9,  -999.00,9,    101.0,3,-999.000,9,   2075.8,2,   -999,     9.0,-999.000,-999.0000,-999.000,  -999.0,-999.000, 13.5225,-999.000
    49RY9407_1,   P09,    26,  2,     20,    225,2,19940714,0531, 27.4937, 137.0360, 4385,    604.4,  11.0635,  34.3087,2,  34.3181,2,    184.5,2,    185.1,2,    21.95,2,    16.56,2,     0.00,2,     1.16,2, -999.000,9, -999.000,9, -999.000,9,-999.0000,9,  -999.00,9,     56.0,3,-999.000,9,   2107.8,2,   -999,     9.0,-999.000,-999.0000,-999.000,  -999.0,-999.000, 10.9879,-999.000
    49RY9407_1,   P09,    26,  2,     21,    226,2,19940714,0531, 27.4937, 137.0360, 4385,    604.4,  11.0635,  34.3087,2,  34.3179,2,    184.5,2,    189.1,3,    21.84,2,    16.53,2,     0.00,2,     1.16,2, -999.000,9, -999.000,9, -999.000,9,-999.0000,9,  -999.00,9,     54.0,3,-999.000,9,   2108.2,2,   -999,     9.0,-999.000,-999.0000,-999.000,  -999.0,-999.000, 10.9879,-999.000
    49RY9407_1,   P09,    26,  2,     19,    224,2,19940714,0531, 27.4937, 137.0360, 4385,    704.6,   8.7084,  34.1777,2,  34.1887,2,    160.7,2,    161.2,2,    40.07,2,    23.40,2,     0.00,2,     1.67,2, -999.000,9, -999.000,9, -999.000,9,-999.0000,9,  -999.00,9,     -8.0,3,-999.000,9,   2160.2,2,   -999,     8.0,-999.000,-999.0000,-999.000,  -999.0,-999.000,  8.6320,-999.000
    49RY9407_1,   P09,    26,  2,     18,    223,2,19940714,0531, 27.4937, 137.0360, 4385,    805.7,   6.4989,  34.1266,2,  34.1215,2,    127.2,2,    130.1,6,    62.70,2,    30.24,2,     0.00,2,     2.17,2, -999.000,9, -999.000,9, -999.000,9,-999.0000,9,  -999.00,9,    -61.0,3,-999.000,9,   2217.9,2,   -999,     7.0,-999.000,-999.0000,-999.000,  -999.0,-999.000,  6.4242,-999.000
    49RY9407_1,   P09,    26,  2,     17,    222,2,19940714,0531, 27.4937, 137.0360, 4385,    905.9,   5.3244,  34.1551,2,  34.1464,2,     96.4,2,     96.7,2,    82.23,6,    35.12,6,     0.00,6,     2.52,6, -999.000,9, -999.000,9, -999.000,9,-999.0000,9,  -999.00,9,   -108.0,3,-999.000,9,   2265.6,2,   -999,     7.0,-999.000,-999.0000,-999.000,  -999.0,-999.000,  5.2479,-999.000
    49RY9407_1,   P09,    26,  2,     16,    221,2,19940714,0531, 27.4937, 137.0360, 4385,   1007.1,   4.4547,  34.2618,2,  34.2628,2,     74.0,3,     68.3,2,   103.84,2,    38.95,2,     0.00,2,     2.79,2, -999.000,9, -999.000,9, -999.000,9,-999.0000,9,  -999.00,9,   -157.0,3,-999.000,9,   2309.4,2,   -999,     6.0,   4.449,-999.0000,-999.000,  1009.0,-999.000,  4.3753,-999.000
    49RY9407_1,   P09,    26,  2,     15,    220,2,19940714,0531, 27.4937, 137.0360, 4385,   1260.5,   3.3474,  34.4108,2,  34.4068,2,     60.8,2,     58.2,2,   128.51,2,    41.21,2,     0.00,2,     2.95,2, -999.000,9, -999.000,9, -999.000,9,-999.0000,9,  -999.00,9,   -196.0,3,-999.000,9,   2347.1,6,   -999,     6.0,-999.000,-999.0000,-999.000,  -999.0,-999.000,  3.2561,-999.000
    49RY9407_1,   P09,    26,  2,     14,    219,2,19940714,0531, 27.4937, 137.0360, 4385,   1514.3,   2.6813,  34.4989,2,  34.4982,2,     71.3,2,     68.2,2,   141.76,2,    41.24,2,     0.00,2,     2.93,2, -999.000,9, -999.000,9, -999.000,9,-999.0000,9,  -999.00,9,   -214.0,3,-999.000,9,   2359.7,2,   -999,     6.0,-999.000,-999.0000,-999.000,  -999.0,-999.000,  2.5761,-999.000
    49RY9407_1,   P09,    26,  2,     13,    218,4,19940714,0531, 27.4937, 137.0360, 4385,   1767.3,   2.2955,  34.5583,2,  34.5594,2,     90.2,2,     90.9,2,   144.95,2,    40.17,2,     0.00,2,     2.84,2, -999.000,9, -999.000,9, -999.000,9,-999.0000,9,  -999.00,9,   -215.0,3,-999.000,9,   2354.2,2,   -999,     7.0,-999.000,-999.0000,-999.000,  -999.0,-999.000,  2.1743,-999.000
    49RY9407_1,   P09,    26,  2,     11,    216,4,19940714,0531, 27.4937, 137.0360, 4385,   2275.8,   1.8748,  34.6252,2,  34.6254,2,    120.6,2,    122.3,2,   144.18,2,    38.43,2,     0.00,2,     2.69,2, -999.000,9, -999.000,9, -999.000,9,-999.0000,9,  -999.00,9,   -217.0,3,-999.000,9,   2342.1,2,   -999,     7.0,-999.000,-999.0000,-999.000,  -999.0,-999.000,  1.7168,-999.000
    49RY9407_1,   P09,    26,  2,     12,    217,2,19940714,0531, 27.4937, 137.0360, 4385,   2275.8,   1.8748,  34.6252,2,  34.6256,2,    120.6,2,    121.7,6,   144.30,2,    38.41,2,     0.00,2,     2.69,2, -999.000,9, -999.000,9, -999.000,9,-999.0000,9,  -999.00,9,   -218.0,3,-999.000,9,   2337.5,2,   -999,     7.0,-999.000,-999.0000,-999.000,  -999.0,-999.000,  1.7168,-999.000
    49RY9407_1,   P09,    26,  2,     10,    214,2,19940714,0531, 27.4937, 137.0360, 4385,   2784.4,   1.6673,  34.6550,2,  34.6530,2,    137.0,2,    136.0,2,   143.77,6,    37.42,6,     0.00,6,     2.60,6, -999.000,9, -999.000,9, -999.000,9,-999.0000,9,  -999.00,9,   -214.0,3,-999.000,9,   2333.6,2,   -999,     7.0,-999.000,-999.0000,-999.000,  -999.0,-999.000,  1.4673,-999.000
    49RY9407_1,   P09,    26,  2,      9,    213,2,19940714,0531, 27.4937, 137.0360, 4385,   3040.3,   1.6058,  34.6647,2,  34.6648,2,    143.2,2,    143.5,2,   143.30,2,    37.11,2,     0.00,2,     2.58,2, -999.000,9, -999.000,9, -999.000,9,-999.0000,9,  -999.00,9,   -212.0,3,-999.000,9,   2328.3,2,   -999,     7.0,   1.603,-999.0000,-999.000,  3039.0,-999.000,  1.3829,-999.000
    49RY9407_1,   P09,    26,  2,      8,    212,2,19940714,0531, 27.4937, 137.0360, 4385,   3296.6,   1.5624,  34.6719,2,  34.6721,2,    148.5,2,    148.3,2,   143.06,2,    36.84,2,     0.00,2,     2.55,2, -999.000,9, -999.000,9, -999.000,9,-999.0000,9,  -999.00,9,   -219.0,3,-999.000,9,   2326.9,2,   -999,     7.0,-999.000,-999.0000,-999.000,  -999.0,-999.000,  1.3153,-999.000
    49RY9407_1,   P09,    26,  2,      7,    210,2,19940714,0531, 27.4937, 137.0360, 4385,   3552.0,   1.5178,  34.6780,2,  34.6788,2,    153.1,2,    154.0,2,   142.35,2,    36.57,2,     0.00,2,     2.52,2, -999.000,9, -999.000,9, -999.000,9,-999.0000,9,  -999.00,9,   -205.0,9,-999.000,9,   2327.7,2,   -999,     7.0,-999.000,-999.0000,-999.000,  -999.0,-999.000,  1.2459,-999.000
    49RY9407_1,   P09,    26,  2,      5,    229,4,19940714,0531, 27.4937, 137.0360, 4385,   3806.8,   1.5177,  34.6804,2,  34.6827,3,    155.9,2,    155.3,6,   142.31,2,    36.39,2,     0.00,2,     2.52,2, -999.000,9, -999.000,9, -999.000,9,-999.0000,9,  -999.00,9,   -201.0,3,-999.000,9,   2324.7,2,   -999,     7.0,   1.517,-999.0000,-999.000,  3806.0,-999.000,  1.2192,-999.000
    49RY9407_1,   P09,    26,  2,      6,    209,2,19940714,0531, 27.4937, 137.0360, 4385,   3806.8,   1.5177,  34.6804,2,  34.6837,3,    155.9,2,    154.4,2,   141.92,6,    36.37,6,     0.00,6,     2.51,6, -999.000,9, -999.000,9, -999.000,9,-999.0000,9,  -999.00,9,   -206.0,3,-999.000,9,   2324.6,2,   -999,     7.0,-999.000,-999.0000,-999.000,  -999.0,-999.000,  1.2192,-999.000
    49RY9407_1,   P09,    26,  2,      4,    206,2,19940714,0531, 27.4937, 137.0360, 4385,   4320.4,   1.5508,  34.6825,2,  34.6865,3,    157.6,2,    157.7,2,   141.83,2,    36.30,2,     0.00,2,     2.51,2, -999.000,9, -999.000,9, -999.000,9,-999.0000,9,  -999.00,9,   -999.0,1,-999.000,9,   2319.5,2,   -999,  -999.0,-999.000,-999.0000,-999.000,  -999.0,-999.000,  1.1948,-999.000
    49RY9407_1,   P09,    26,  2,      3,    205,2,19940714,0531, 27.4937, 137.0360, 4385,   4482.2,   1.5661,  34.6835,2,  34.6835,2,    157.9,2,    157.8,2,   141.59,2,    36.28,2,     0.00,2,     2.50,2, -999.000,9, -999.000,9, -999.000,9,-999.0000,9,  -999.00,9,   -999.0,1,-999.000,9,   2322.0,2,   -999,  -999.0,-999.000,-999.0000,-999.000,  -999.0,-999.000,  1.1912,-999.000
    49RY9407_1,   P09,    26,  2,      2,    204,2,19940714,0531, 27.4937, 137.0360, 4385,   4483.4,   1.5669,  34.6824,2,  34.6837,2,    157.9,2,    156.0,2,   141.62,2,    36.29,2,     0.00,2,     2.50,2, -999.000,9, -999.000,9, -999.000,9,-999.0000,9,  -999.00,9,   -999.0,1,-999.000,9,   2322.7,2,   -999,  -999.0,   1.563,-999.0000,-999.000,  4482.0,-999.000,  1.1918,-999.000
    49RY9407_1,   P09,    27,  1,      0,      0,2,19940714,1029, 26.9967, 136.9965, 4640,      0.0,  29.8514,  34.5816,2,-999.0000,9,    158.1,4,    197.2,2,     1.47,2,     0.04,2,     0.00,2,     0.00,2, -999.000,9, -999.000,9, -999.000,9,-999.0000,9,  -999.00,9,   -999.0,9,-999.000,9,   -999.0,9,   -999,  -999.0,-999.000,-999.0000,-999.000,  -999.0,-999.000, 29.8519,-999.000
    49RY9407_1,   P09,    27,  1,     10,    214,2,19940714,1029, 26.9967, 136.9965, 4640,      9.8,  28.8246,  34.9119,2,  34.8473,2,    207.6,3,    201.9,2,     1.56,2,     0.07,2,     0.00,2,     0.00,2, -999.000,9, -999.000,9, -999.000,9,-999.0000,9,  -999.00,9,   -999.0,9,-999.000,9,   -999.0,9,   -999,  -999.0,-999.000,-999.0000,-999.000,  -999.0,-999.000, 28.8222,-999.000
    49RY9407_1,   P09,    27,  1,      9,    213,2,19940714,1029, 26.9967, 136.9965, 4640,     24.4,  25.8908,  34.8885,2,  34.8207,2,    231.0,3,    216.4,6,     1.56,2,     0.04,2,     0.00,2,     0.00,2, -999.000,9, -999.000,9, -999.000,9,-999.0000,9,  -999.00,9,   -999.0,9,-999.000,9,   -999.0,9,   -999,  -999.0,  26.630,-999.0000,-999.000,    31.0,-999.000, 25.8853,-999.000
    49RY9407_1,   P09,    27,  1,      8,    212,2,19940714,1029, 26.9967, 136.9965, 4640,     50.2,  22.9464,  34.9656,2,  34.9639,2,    246.2,3,    229.7,2,     1.72,6,     0.06,6,     0.00,6,     0.00,6, -999.000,9, -999.000,9, -999.000,9,-999.0000,9,  -999.00,9,   -999.0,9,-999.000,9,   -999.0,9,   -999,  -999.0,-999.000,-999.0000,-999.000,  -999.0,-999.000, 22.9361,-999.000
    49RY9407_1,   P09,    27,  1,      7,    210,2,19940714,1029, 26.9967, 136.9965, 4640,     75.5,  21.2576,  35.0141,2,  35.0186,2,    241.7,3,    225.1,2,     1.81,2,     0.06,2,     0.00,2,     0.00,2, -999.000,9, -999.000,9, -999.000,9,-999.0000,9,  -999.00,9,   -999.0,9,-999.000,9,   -999.0,9,   -999,  -999.0,-999.000,-999.0000,-999.000,  -999.0,-999.000, 21.2431,-999.000
    49RY9407_1,   P09,    27,  1,      6,    209,2,19940714,1029, 26.9967, 136.9965, 4640,     99.6,  20.1226,  35.0011,2,  34.9974,2,    235.5,3,    213.2,2,     1.98,2,     0.20,2,     0.08,2,     0.04,2, -999.000,9, -999.000,9, -999.000,9,-999.0000,9,  -999.00,9,   -999.0,9,-999.000,9,   -999.0,9,   -999,  -999.0,-999.000,-999.0000,-999.000,  -999.0,-999.000, 20.1041,-999.000
    49RY9407_1,   P09,    27,  1,      5,    229,2,19940714,1029, 26.9967, 136.9965, 4640,    124.6,  19.3412,  34.9530,2,  34.9526,2,    230.9,3,    213.6,6,     2.42,2,     1.22,2,     0.04,2,     0.09,2, -999.000,9, -999.000,9, -999.000,9,-999.0000,9,  -999.00,9,   -999.0,9,-999.000,9,   -999.0,9,   -999,  -999.0,  19.349,-999.0000,-999.000,   123.0,-999.000, 19.3187,-999.000
    49RY9407_1,   P09,    27,  1,      4,    206,2,19940714,1029, 26.9967, 136.9965, 4640,    150.6,  18.7767,  34.9240,2,  34.9248,2,    224.3,3,    215.2,2,     2.54,2,     1.85,2,     0.05,2,     0.27,3, -999.000,9, -999.000,9, -999.000,9,-999.0000,9,  -999.00,9,   -999.0,9,-999.000,9,   -999.0,9,   -999,  -999.0,-999.000,-999.0000,-999.000,  -999.0,-999.000, 18.7501,-999.000
    49RY9407_1,   P09,    27,  1,      3,    205,2,19940714,1029, 26.9967, 136.9965, 4640,    200.8,  18.1645,  34.8793,2,  34.8783,2,    219.2,3,    213.5,2,     3.15,2,     2.83,2,     0.01,2,     0.20,2, -999.000,9, -999.000,9, -999.000,9,-999.0000,9,  -999.00,9,   -999.0,9,-999.000,9,   -999.0,9,   -999,  -999.0,-999.000,-999.0000,-999.000,  -999.0,-999.000, 18.1298,-999.000
    49RY9407_1,   P09,    27,  1,      2,    204,2,19940714,1029, 26.9967, 136.9965, 4640,    302.4,  17.0762,  34.7967,2,  34.7955,2,    213.5,2,    208.9,2,     4.74,2,     4.81,2,     0.01,2,     0.33,2, -999.000,9, -999.000,9, -999.000,9,-999.0000,9,  -999.00,9,   -999.0,9,-999.000,9,   -999.0,9,   -999,  -999.0,  17.082,-999.0000,-999.000,   304.0,-999.000, 17.0261,-999.000