BOTTLE,20020306WHPSIOdm
EXPOCODE,SECT_ID,STNNBR,CASTNO,SAMPNO,BTLNBR,BTLNBR_FLAG_W,DATE,TIME,LATITUDE,LONGITUDE,DEPTH,CTDPRS,CTDTMP,CTDSAL,CTDSAL_FLAG_W,SALNTY,SALNTY_FLAG_W,CTDOXY,CTDOXY_FLAG_W,OXYGEN,OXYGEN_FLAG_W,SILCAT,SILCAT_FLAG_W,NITRAT,NITRAT_FLAG_W,NITRIT,NITRIT_FLAG_W,PHSPHT,PHSPHT_FLAG_W,CFC-11,CFC-11_FLAG_W,CFC-12,CFC-12_FLAG_W,TRITUM,TRITUM_FLAG_W,HELIUM,HELIUM_FLAG_W,DELHE3,DELHE3_FLAG_W,DELC14,DELC14_FLAG_W,NEON,NEON_FLAG_W,TCARBN,TCARBN_FLAG_W,CTDRAW,C14ERR,REVTMP,HELIER,DELHER,REVPRS,NEONER,THETA,TRITER
,,,,,,,,,,,,DBAR,ITS-90,PSS-78,,PSS-78,,UMOL/KG,,UMOL/KG,,UMOL/KG,,UMOL/KG,,UMOL/KG,,UMOL/KG,,PMOL/KG,,PMOL/KG,,TU,,NMOL/KG,,PERCNT,,/MILLE,,NMOL/KG,,UMOL/KG,,,/MILLE,ITS-90,NMOL/KG,PERCNT,DBAR,NMOL/KG,DEG C,TU
    49RY9407_2,   P09,    79,  2,     13,    214,2,19940811,0334,  3.7315, 140.3535, 4180,   1516.6,   2.9021,  34.6030,2,-999.0000,9,   -999.0,9,   -999.0,9,  -999.00,9,  -999.00,9,  -999.00,9,  -999.00,9, -999.000,9, -999.000,9, -999.000,9,-999.0000,9,  -999.00,9,   -999.0,9,-999.000,9,   -999.0,9,   -999,  -999.0,-999.000,-999.0000,-999.000,  1506.0,-999.000,  2.7940,-999.000
    49RY9407_2,   P09,    79,  2,     14,    204,2,19940811,0334,  3.7315, 140.3535, 4180,   1517.0,   2.9017,  34.6045,2,-999.0000,9,   -999.0,9,   -999.0,9,  -999.00,9,  -999.00,9,  -999.00,9,  -999.00,9, -999.000,9, -999.000,9, -999.000,9,-999.0000,9,  -999.00,9,   -999.0,9,-999.000,9,   -999.0,9,   -999,  -999.0,   2.898,-999.0000,-999.000,  1514.0,-999.000,  2.7935,-999.000
    49RY9407_2,   P09,    79,  2,     24,    222,2,19940811,0334,  3.7315, 140.3535, 4180,   1517.1,   2.9017,  34.6039,2,-999.0000,9,   -999.0,9,   -999.0,9,  -999.00,9,  -999.00,9,  -999.00,9,  -999.00,9, -999.000,9, -999.000,9, -999.000,9,-999.0000,9,  -999.00,9,   -999.0,9,-999.000,9,   -999.0,9,   -999,  -999.0,-999.000,-999.0000,-999.000,  -999.0,-999.000,  2.7935,-999.000
    49RY9407_2,   P09,    79,  2,     18,    221,2,19940811,0334,  3.7315, 140.3535, 4180,   1517.2,   2.9013,  34.6037,2,-999.0000,9,   -999.0,9,   -999.0,9,  -999.00,9,  -999.00,9,  -999.00,9,  -999.00,9, -999.000,9, -999.000,9, -999.000,9,-999.0000,9,  -999.00,9,   -999.0,9,-999.000,9,   -999.0,9,   -999,  -999.0,-999.000,-999.0000,-999.000,  1515.0,-999.000,  2.7931,-999.000
    49RY9407_2,   P09,    79,  2,     12,    213,2,19940811,0334,  3.7315, 140.3535, 4180,   1517.3,   2.9020,  34.6042,2,-999.0000,9,   -999.0,9,   -999.0,9,  -999.00,9,  -999.00,9,  -999.00,9,  -999.00,9, -999.000,9, -999.000,9, -999.000,9,-999.0000,9,  -999.00,9,   -999.0,9,-999.000,9,   -999.0,9,   -999,  -999.0,-999.000,-999.0000,-999.000,  1514.0,-999.000,  2.7938,-999.000
    49RY9407_2,   P09,    79,  2,     20,    203,2,19940811,0334,  3.7315, 140.3535, 4180,   1517.3,   2.9013,  34.6031,2,-999.0000,9,   -999.0,9,   -999.0,9,  -999.00,9,  -999.00,9,  -999.00,9,  -999.00,9, -999.000,9, -999.000,9, -999.000,9,-999.0000,9,  -999.00,9,   -999.0,9,-999.000,9,   -999.0,9,   -999,  -999.0,-999.000,-999.0000,-999.000,  1512.0,-999.000,  2.7931,-999.000
    49RY9407_2,   P09,    79,  2,      7,    220,2,19940811,0334,  3.7315, 140.3535, 4180,   1517.3,   2.9057,  34.6033,2,-999.0000,9,   -999.0,9,   -999.0,9,  -999.00,9,  -999.00,9,  -999.00,9,  -999.00,9, -999.000,9, -999.000,9, -999.000,9,-999.0000,9,  -999.00,9,   -999.0,9,-999.000,9,   -999.0,9,   -999,  -999.0,-999.000,-999.0000,-999.000,  -999.0,-999.000,  2.7975,-999.000
    49RY9407_2,   P09,    79,  2,      8,    212,2,19940811,0334,  3.7315, 140.3535, 4180,   1517.3,   2.9057,  34.6033,2,-999.0000,9,   -999.0,9,   -999.0,9,  -999.00,9,  -999.00,9,  -999.00,9,  -999.00,9, -999.000,9, -999.000,9, -999.000,9,-999.0000,9,  -999.00,9,   -999.0,9,-999.000,9,   -999.0,9,   -999,  -999.0,-999.000,-999.0000,-999.000,  -999.0,-999.000,  2.7975,-999.000
    49RY9407_2,   P09,    79,  2,     17,    219,2,19940811,0334,  3.7315, 140.3535, 4180,   1517.4,   2.9010,  34.6033,2,-999.0000,9,   -999.0,9,   -999.0,9,  -999.00,9,  -999.00,9,  -999.00,9,  -999.00,9, -999.000,9, -999.000,9, -999.000,9,-999.0000,9,  -999.00,9,   -999.0,9,-999.000,9,   -999.0,9,   -999,  -999.0,-999.000,-999.0000,-999.000,  -999.0,-999.000,  2.7928,-999.000
    49RY9407_2,   P09,    79,  2,      2,    216,2,19940811,0334,  3.7315, 140.3535, 4180,   1517.4,   2.9014,  34.6033,2,-999.0000,9,   -999.0,9,   -999.0,9,  -999.00,9,  -999.00,9,  -999.00,9,  -999.00,9, -999.000,9, -999.000,9, -999.000,9,-999.0000,9,  -999.00,9,   -999.0,9,-999.000,9,   -999.0,9,   -999,  -999.0,-999.000,-999.0000,-999.000,  -999.0,-999.000,  2.7932,-999.000
    49RY9407_2,   P09,    79,  2,     11,    225,2,19940811,0334,  3.7315, 140.3535, 4180,   1517.4,   2.9090,  34.6027,2,-999.0000,9,   -999.0,9,   -999.0,9,  -999.00,9,  -999.00,9,  -999.00,9,  -999.00,9, -999.000,9, -999.000,9, -999.000,9,-999.0000,9,  -999.00,9,   -999.0,9,-999.000,9,   -999.0,9,   -999,  -999.0,-999.000,-999.0000,-999.000,  -999.0,-999.000,  2.8007,-999.000
    49RY9407_2,   P09,    79,  2,     19,    215,2,19940811,0334,  3.7315, 140.3535, 4180,   1517.5,   2.9009,  34.6029,2,-999.0000,9,   -999.0,9,   -999.0,9,  -999.00,9,  -999.00,9,  -999.00,9,  -999.00,9, -999.000,9, -999.000,9, -999.000,9,-999.0000,9,  -999.00,9,   -999.0,9,-999.000,9,   -999.0,9,   -999,  -999.0,-999.000,-999.0000,-999.000,  -999.0,-999.000,  2.7927,-999.000
    49RY9407_2,   P09,    79,  2,     15,    217,2,19940811,0334,  3.7315, 140.3535, 4180,   1517.6,   2.9013,  34.6037,2,-999.0000,9,   -999.0,9,   -999.0,9,  -999.00,9,  -999.00,9,  -999.00,9,  -999.00,9, -999.000,9, -999.000,9, -999.000,9,-999.0000,9,  -999.00,9,   -999.0,9,-999.000,9,   -999.0,9,   -999,  -999.0,-999.000,-999.0000,-999.000,  -999.0,-999.000,  2.7930,-999.000
    49RY9407_2,   P09,    79,  2,      9,    223,2,19940811,0334,  3.7315, 140.3535, 4180,   1517.6,   2.9065,  34.6032,2,-999.0000,9,   -999.0,9,   -999.0,9,  -999.00,9,  -999.00,9,  -999.00,9,  -999.00,9, -999.000,9, -999.000,9, -999.000,9,-999.0000,9,  -999.00,9,   -999.0,9,-999.000,9,   -999.0,9,   -999,  -999.0,-999.000,-999.0000,-999.000,  -999.0,-999.000,  2.7982,-999.000
    49RY9407_2,   P09,    79,  2,     21,    226,2,19940811,0334,  3.7315, 140.3535, 4180,   1517.7,   2.9013,  34.6033,2,-999.0000,9,   -999.0,9,   -999.0,9,  -999.00,9,  -999.00,9,  -999.00,9,  -999.00,9, -999.000,9, -999.000,9, -999.000,9,-999.0000,9,  -999.00,9,   -999.0,9,-999.000,9,   -999.0,9,   -999,  -999.0,-999.000,-999.0000,-999.000,  -999.0,-999.000,  2.7931,-999.000
    49RY9407_2,   P09,    79,  2,     23,    228,2,19940811,0334,  3.7315, 140.3535, 4180,   1517.7,   2.9021,  34.6028,2,-999.0000,9,   -999.0,9,   -999.0,9,  -999.00,9,  -999.00,9,  -999.00,9,  -999.00,9, -999.000,9, -999.000,9, -999.000,9,-999.0000,9,  -999.00,9,   -999.0,9,-999.000,9,   -999.0,9,   -999,  -999.0,-999.000,-999.0000,-999.000,  -999.0,-999.000,  2.7938,-999.000
    49RY9407_2,   P09,    79,  2,      1,    201,2,19940811,0334,  3.7315, 140.3535, 4180,   1517.7,   2.9016,  34.6036,2,-999.0000,9,   -999.0,9,   -999.0,9,  -999.00,9,  -999.00,9,  -999.00,9,  -999.00,9, -999.000,9, -999.000,9, -999.000,9,-999.0000,9,  -999.00,9,   -999.0,9,-999.000,9,   -999.0,9,   -999,  -999.0,-999.000,-999.0000,-999.000,  -999.0,-999.000,  2.7933,-999.000
    49RY9407_2,   P09,    79,  2,      5,    218,2,19940811,0334,  3.7315, 140.3535, 4180,   1517.7,   2.9034,  34.6030,2,-999.0000,9,   -999.0,9,   -999.0,9,  -999.00,9,  -999.00,9,  -999.00,9,  -999.00,9, -999.000,9, -999.000,9, -999.000,9,-999.0000,9,  -999.00,9,   -999.0,9,-999.000,9,   -999.0,9,   -999,  -999.0,-999.000,-999.0000,-999.000,  -999.0,-999.000,  2.7952,-999.000
    49RY9407_2,   P09,    79,  2,      6,    209,4,19940811,0334,  3.7315, 140.3535, 4180,   1517.7,   2.9050,  34.6030,2,-999.0000,9,   -999.0,9,   -999.0,9,  -999.00,9,  -999.00,9,  -999.00,9,  -999.00,9, -999.000,9, -999.000,9, -999.000,9,-999.0000,9,  -999.00,9,   -999.0,9,-999.000,9,   -999.0,9,   -999,  -999.0,-999.000,-999.0000,-999.000,  -999.0,-999.000,  2.7967,-999.000
    49RY9407_2,   P09,    79,  2,     16,    229,2,19940811,0334,  3.7315, 140.3535, 4180,   1517.9,   2.9011,  34.6035,2,-999.0000,9,   -999.0,9,   -999.0,9,  -999.00,9,  -999.00,9,  -999.00,9,  -999.00,9, -999.000,9, -999.000,9, -999.000,9,-999.0000,9,  -999.00,9,   -999.0,9,-999.000,9,   -999.0,9,   -999,  -999.0,   2.892,-999.0000,-999.000,  1514.0,-999.000,  2.7929,-999.000
    49RY9407_2,   P09,    79,  2,      3,    205,2,19940811,0334,  3.7315, 140.3535, 4180,   1517.9,   2.9019,  34.6029,2,-999.0000,9,   -999.0,9,   -999.0,9,  -999.00,9,  -999.00,9,  -999.00,9,  -999.00,9, -999.000,9, -999.000,9, -999.000,9,-999.0000,9,  -999.00,9,   -999.0,9,-999.000,9,   -999.0,9,   -999,  -999.0,-999.000,-999.0000,-999.000,  -999.0,-999.000,  2.7937,-999.000
    49RY9407_2,   P09,    79,  2,      4,    206,2,19940811,0334,  3.7315, 140.3535, 4180,   1518.2,   2.9017,  34.6033,2,-999.0000,9,   -999.0,9,   -999.0,9,  -999.00,9,  -999.00,9,  -999.00,9,  -999.00,9, -999.000,9, -999.000,9, -999.000,9,-999.0000,9,  -999.00,9,   -999.0,9,-999.000,9,   -999.0,9,   -999,  -999.0,-999.000,-999.0000,-999.000,  -999.0,-999.000,  2.7935,-999.000
    49RY9407_2,   P09,    79,  2,     22,    227,2,19940811,0334,  3.7315, 140.3535, 4180,   1518.5,   2.9009,  34.6035,2,-999.0000,9,   -999.0,9,   -999.0,9,  -999.00,9,  -999.00,9,  -999.00,9,  -999.00,9, -999.000,9, -999.000,9, -999.000,9,-999.0000,9,  -999.00,9,   -999.0,9,-999.000,9,   -999.0,9,   -999,  -999.0,-999.000,-999.0000,-999.000,  -999.0,-999.000,  2.7926,-999.000
    49RY9407_2,   P09,    79,  2,     10,    224,2,19940811,0334,  3.7315, 140.3535, 4180,   1518.5,   2.9063,  34.6039,2,-999.0000,9,   -999.0,9,   -999.0,9,  -999.00,9,  -999.00,9,  -999.00,9,  -999.00,9, -999.000,9, -999.000,9, -999.000,9,-999.0000,9,  -999.00,9,   -999.0,9,-999.000,9,   -999.0,9,   -999,  -999.0,-999.000,-999.0000,-999.000,  -999.0,-999.000,  2.7980,-999.000
    49RY9407_2,   P09,    79,  3,      9,    223,2,19940811,0623,  3.7302, 140.3122, 4170,    302.0,   8.8578,  34.5845,2,  34.5838,2,   -999.0,9,     71.9,2,    39.33,2,    33.14,2,     0.00,2,     2.27,2, -999.000,9, -999.000,9, -999.000,9,-999.0000,9,  -999.00,9,   -999.0,9,-999.000,9,   -999.0,9,   -999,  -999.0,-999.000,-999.0000,-999.000,  -999.0,-999.000,  8.8253,-999.000
    49RY9407_2,   P09,    79,  3,      7,    220,2,19940811,0623,  3.7302, 140.3122, 4170,    402.0,   7.6755,  34.5685,2,  34.5667,2,   -999.0,9,     93.2,2,    42.69,6,    33.65,6,     0.01,6,     2.32,6, -999.000,9, -999.000,9, -999.000,9,-999.0000,9,  -999.00,9,   -999.0,9,-999.000,9,   -999.0,9,   -999,  -999.0,-999.000,-999.0000,-999.000,  -999.0,-999.000,  7.6355,-999.000
    49RY9407_2,   P09,    79,  3,      8,    212,2,19940811,0623,  3.7302, 140.3122, 4170,    402.0,   7.6755,  34.5685,2,  34.5669,2,   -999.0,9,     93.9,6,    42.75,2,    33.55,2,     0.01,2,     2.32,2, -999.000,9, -999.000,9, -999.000,9,-999.0000,9,  -999.00,9,   -999.0,9,-999.000,9,   -999.0,9,   -999,  -999.0,-999.000,-999.0000,-999.000,  -999.0,-999.000,  7.6355,-999.000
    49RY9407_2,   P09,    79,  3,      6,    209,4,19940811,0623,  3.7302, 140.3122, 4170,    503.4,   6.9379,  34.5453,2,  34.5462,2,   -999.0,9,    140.2,4,    36.65,4,    31.00,4,     0.00,4,     2.09,4, -999.000,9, -999.000,9, -999.000,9,-999.0000,9,  -999.00,9,   -999.0,9,-999.000,9,   -999.0,9,   -999,  -999.0,-999.000,-999.0000,-999.000,  -999.0,-999.000,  6.8903,-999.000
    49RY9407_2,   P09,    79,  3,      5,    218,2,19940811,0623,  3.7302, 140.3122, 4170,    705.7,   5.9868,  34.5424,2,  34.5429,2,   -999.0,9,     81.9,2,    61.56,2,    37.95,2,     0.00,2,     2.63,2, -999.000,9, -999.000,9, -999.000,9,-999.0000,9,  -999.00,9,   -999.0,9,-999.000,9,   -999.0,9,   -999,  -999.0,-999.000,-999.0000,-999.000,  -999.0,-999.000,  5.9242,-999.000
    49RY9407_2,   P09,    79,  3,      4,    206,2,19940811,0623,  3.7302, 140.3122, 4170,    806.9,   5.4310,  34.5417,2,  34.5423,2,   -999.0,9,     85.7,2,    70.08,2,    38.49,2,     0.00,2,     2.67,2, -999.000,9, -999.000,9, -999.000,9,-999.0000,9,  -999.00,9,   -999.0,9,-999.000,9,   -999.0,9,   -999,  -999.0,-999.000,-999.0000,-999.000,  -999.0,-999.000,  5.3622,-999.000
    49RY9407_2,   P09,    79,  3,      3,    205,2,19940811,0623,  3.7302, 140.3122, 4170,    907.7,   4.9401,  34.5468,2,  34.5466,2,   -999.0,9,     86.9,2,    79.68,2,    38.70,2,     0.00,2,     2.70,2, -999.000,9, -999.000,9, -999.000,9,-999.0000,9,  -999.00,9,   -999.0,9,-999.000,9,   -999.0,9,   -999,  -999.0,-999.000,-999.0000,-999.000,  -999.0,-999.000,  4.8654,-999.000
    49RY9407_2,   P09,    79,  3,      2,    216,2,19940811,0623,  3.7302, 140.3122, 4170,   1008.3,   4.4815,  34.5533,2,  34.5553,2,   -999.0,9,     89.3,6,    89.92,2,    38.94,2,     0.00,2,     2.73,2, -999.000,9, -999.000,9, -999.000,9,-999.0000,9,  -999.00,9,   -999.0,9,-999.000,9,   -999.0,9,   -999,  -999.0,-999.000,-999.0000,-999.000,  -999.0,-999.000,  4.4014,-999.000
    49RY9407_2,   P09,    79,  3,      1,    201,2,19940811,0623,  3.7302, 140.3122, 4170,   1260.0,   3.5069,  34.5818,2,  34.5814,2,   -999.0,9,     94.3,2,   110.44,2,    39.49,2,     0.00,2,     2.77,2, -999.000,9, -999.000,9, -999.000,9,-999.0000,9,  -999.00,9,   -999.0,9,-999.000,9,   -999.0,9,   -999,  -999.0,-999.000,-999.0000,-999.000,  -999.0,-999.000,  3.4137,-999.000
    49RY9407_2,   P09,    79,  3,     24,    222,2,19940811,0623,  3.7302, 140.3122, 4170,   1514.4,   2.9638,  34.6018,2,  34.6025,2,   -999.0,9,     99.6,2,   122.45,2,    39.47,2,     0.00,2,     2.76,2, -999.000,9, -999.000,9, -999.000,9,-999.0000,9,  -999.00,9,   -999.0,9,-999.000,9,   -999.0,9,   -999,  -999.0,-999.000,-999.0000,-999.000,  -999.0,-999.000,  2.8551,-999.000
    49RY9407_2,   P09,    79,  3,     23,    228,2,19940811,0623,  3.7302, 140.3122, 4170,   1765.2,   2.5362,  34.6198,2,  34.6202,2,   -999.0,9,    109.3,2,   130.05,6,    38.95,6,     0.00,6,     2.72,6, -999.000,9, -999.000,9, -999.000,9,-999.0000,9,  -999.00,9,   -999.0,9,-999.000,9,   -999.0,9,   -999,  -999.0,-999.000,-999.0000,-999.000,  -999.0,-999.000,  2.4118,-999.000
    49RY9407_2,   P09,    79,  3,     21,    226,2,19940811,0623,  3.7302, 140.3122, 4170,   2020.6,   2.1748,  34.6369,2,  34.6377,2,   -999.0,9,    117.5,2,   137.22,2,    38.58,2,     0.00,2,     2.68,2, -999.000,9, -999.000,9, -999.000,9,-999.0000,9,  -999.00,9,   -999.0,9,-999.000,9,   -999.0,9,   -999,  -999.0,-999.000,-999.0000,-999.000,  -999.0,-999.000,  2.0339,-999.000
    49RY9407_2,   P09,    79,  3,     22,    227,2,19940811,0623,  3.7302, 140.3122, 4170,   2020.6,   2.1748,  34.6369,2,  34.6379,2,   -999.0,9,    117.5,2,   137.04,2,    38.58,2,     0.00,2,     2.68,2, -999.000,9, -999.000,9, -999.000,9,-999.0000,9,  -999.00,9,   -999.0,9,-999.000,9,   -999.0,9,   -999,  -999.0,-999.000,-999.0000,-999.000,  -999.0,-999.000,  2.0339,-999.000
    49RY9407_2,   P09,    79,  3,     20,    203,2,19940811,0623,  3.7302, 140.3122, 4170,   2275.2,   1.9597,  34.6494,2,  34.6501,2,   -999.0,9,    123.2,2,   141.02,2,    38.28,2,     0.00,2,     2.65,2, -999.000,9, -999.000,9, -999.000,9,-999.0000,9,  -999.00,9,   -999.0,9,-999.000,9,   -999.0,9,   -999,  -999.0,-999.000,-999.0000,-999.000,  2265.0,-999.000,  1.8003,-999.000
    49RY9407_2,   P09,    79,  3,     19,    215,2,19940811,0623,  3.7302, 140.3122, 4170,   2530.2,   1.7936,  34.6590,2,  34.6585,2,   -999.0,9,    131.5,2,   142.80,2,    37.80,2,     0.00,2,     2.60,2, -999.000,9, -999.000,9, -999.000,9,-999.0000,9,  -999.00,9,   -999.0,9,-999.000,9,   -999.0,9,   -999,  -999.0,-999.000,-999.0000,-999.000,  -999.0,-999.000,  1.6145,-999.000
    49RY9407_2,   P09,    79,  3,     18,    221,2,19940811,0623,  3.7302, 140.3122, 4170,   2784.8,   1.6508,  34.6674,2,  34.6672,2,   -999.0,9,    139.3,2,   142.82,2,    37.20,2,     0.00,2,     2.55,2, -999.000,9, -999.000,9, -999.000,9,-999.0000,9,  -999.00,9,   -999.0,9,-999.000,9,   -999.0,9,   -999,  -999.0,-999.000,-999.0000,-999.000,  -999.0,-999.000,  1.4511,-999.000
    49RY9407_2,   P09,    79,  3,     17,    219,2,19940811,0623,  3.7302, 140.3122, 4170,   3040.7,   1.5725,  34.6729,2,  34.6745,2,   -999.0,9,    144.6,6,   142.99,6,    37.01,6,     0.00,6,     2.55,6, -999.000,9, -999.000,9, -999.000,9,-999.0000,9,  -999.00,9,   -999.0,9,-999.000,9,   -999.0,9,   -999,  -999.0,-999.000,-999.0000,-999.000,  -999.0,-999.000,  1.3502,-999.000
    49RY9407_2,   P09,    79,  3,     16,    229,2,19940811,0623,  3.7302, 140.3122, 4170,   3295.9,   1.5479,  34.6769,2,  34.6768,2,   -999.0,9,    147.2,2,   142.71,2,    36.73,2,     0.00,2,     2.53,2, -999.000,9, -999.000,9, -999.000,9,-999.0000,9,  -999.00,9,   -999.0,9,-999.000,9,   -999.0,9,   -999,  -999.0,   1.540,-999.0000,-999.000,  3287.0,-999.000,  1.3012,-999.000
    49RY9407_2,   P09,    79,  3,     15,    217,2,19940811,0623,  3.7302, 140.3122, 4170,   3550.3,   1.5385,  34.6793,2,  34.6792,2,   -999.0,9,    149.2,2,   142.44,2,    36.58,2,     0.00,2,     2.52,2, -999.000,9, -999.000,9, -999.000,9,-999.0000,9,  -999.00,9,   -999.0,9,-999.000,9,   -999.0,9,   -999,  -999.0,-999.000,-999.0000,-999.000,  -999.0,-999.000,  1.2663,-999.000
    49RY9407_2,   P09,    79,  3,     14,    204,2,19940811,0623,  3.7302, 140.3122, 4170,   3805.9,   1.5282,  34.6830,2,  34.6825,6,   -999.0,9,    151.0,2,   143.03,2,    36.60,2,     0.00,2,     2.51,2, -999.000,9, -999.000,9, -999.000,9,-999.0000,9,  -999.00,9,   -999.0,9,-999.000,9,   -999.0,9,   -999,  -999.0,   1.524,-999.0000,-999.000,  3792.0,-999.000,  1.2294,-999.000
    49RY9407_2,   P09,    79,  3,     13,    214,2,19940811,0623,  3.7302, 140.3122, 4170,   4060.5,   1.5155,  34.6857,2,  34.6147,4,   -999.0,9,    127.6,3,  -999.00,9,    36.34,2,     0.00,2,     2.50,2, -999.000,9, -999.000,9, -999.000,9,-999.0000,9,  -999.00,9,   -999.0,9,-999.000,9,   -999.0,9,   -999,  -999.0,-999.000,-999.0000,-999.000,  3965.0,-999.000,  1.1895,-999.000
    49RY9407_2,   P09,    79,  3,     12,    213,4,19940811,0623,  3.7302, 140.3122, 4170,   4242.2,   1.5222,  34.6883,2,  34.6866,6,   -999.0,9,    155.2,2,   142.53,2,    36.27,2,     0.00,2,     2.50,2, -999.000,9, -999.000,9, -999.000,9,-999.0000,9,  -999.00,9,   -999.0,9,-999.000,9,   -999.0,9,   -999,  -999.0,-999.000,-999.0000,-999.000,  4233.0,-999.000,  1.1759,-999.000