BOTTLE,20020306WHPSIOdm
EXPOCODE,SECT_ID,STNNBR,CASTNO,SAMPNO,BTLNBR,BTLNBR_FLAG_W,DATE,TIME,LATITUDE,LONGITUDE,DEPTH,CTDPRS,CTDTMP,CTDSAL,CTDSAL_FLAG_W,SALNTY,SALNTY_FLAG_W,CTDOXY,CTDOXY_FLAG_W,OXYGEN,OXYGEN_FLAG_W,SILCAT,SILCAT_FLAG_W,NITRAT,NITRAT_FLAG_W,NITRIT,NITRIT_FLAG_W,PHSPHT,PHSPHT_FLAG_W,CFC-11,CFC-11_FLAG_W,CFC-12,CFC-12_FLAG_W,TRITUM,TRITUM_FLAG_W,HELIUM,HELIUM_FLAG_W,DELHE3,DELHE3_FLAG_W,DELC14,DELC14_FLAG_W,NEON,NEON_FLAG_W,TCARBN,TCARBN_FLAG_W,CTDRAW,C14ERR,REVTMP,HELIER,DELHER,REVPRS,NEONER,THETA,TRITER
,,,,,,,,,,,,DBAR,ITS-90,PSS-78,,PSS-78,,UMOL/KG,,UMOL/KG,,UMOL/KG,,UMOL/KG,,UMOL/KG,,UMOL/KG,,PMOL/KG,,PMOL/KG,,TU,,NMOL/KG,,PERCNT,,/MILLE,,NMOL/KG,,UMOL/KG,,,/MILLE,ITS-90,NMOL/KG,PERCNT,DBAR,NMOL/KG,DEG C,TU
    49RY9407_1,   P09,     5,  1,      0,      0,2,19940709,0400, 33.6585, 136.9952, 2015,      0.4,  25.8732,  34.1184,2,-999.0000,9,    210.3,2,    212.2,6,     1.85,6,     0.09,6,     0.00,6,     0.01,6, -999.000,9, -999.000,9, -999.000,9,-999.0000,9,  -999.00,9,   -999.0,9,-999.000,9,   -999.0,9,   -999,  -999.0,-999.000,-999.0000,-999.000,  -999.0,-999.000, 25.8731,-999.000
    49RY9407_1,   P09,     5,  1,     20,    225,2,19940709,0400, 33.6585, 136.9952, 2015,     10.3,  24.7556,  34.1473,3,  34.1313,2,    220.8,3,    216.8,2,     1.96,2,     0.00,2,     0.00,2,     0.01,2, -999.000,9, -999.000,9, -999.000,9,-999.0000,9,  -999.00,9,   -999.0,9,-999.000,9,   -999.0,9,   -999,  -999.0,-999.000,-999.0000,-999.000,  -999.0,-999.000, 24.7534,-999.000
    49RY9407_1,   P09,     5,  1,     18,    223,2,19940709,0400, 33.6585, 136.9952, 2015,     24.7,  22.3058,  34.3939,3,  34.4391,2,    223.9,2,    226.3,2,     2.11,2,     0.01,2,     0.00,2,     0.05,2, -999.000,9, -999.000,9, -999.000,9,-999.0000,9,  -999.00,9,   -999.0,9,-999.000,9,   -999.0,9,   -999,  -999.0,-999.000,-999.0000,-999.000,  -999.0,-999.000, 22.3009,-999.000
    49RY9407_1,   P09,     5,  1,     19,    224,2,19940709,0400, 33.6585, 136.9952, 2015,     24.7,  22.3058,  34.3939,3,  34.4448,2,    223.9,2,    227.2,2,     2.07,2,     0.01,2,     0.00,2,     0.04,2, -999.000,9, -999.000,9, -999.000,9,-999.0000,9,  -999.00,9,   -999.0,9,-999.000,9,   -999.0,9,   -999,  -999.0,-999.000,-999.0000,-999.000,  -999.0,-999.000, 22.3009,-999.000
    49RY9407_1,   P09,     5,  1,     17,    222,2,19940709,0400, 33.6585, 136.9952, 2015,     50.1,  18.3423,  34.6199,3,  34.6368,2,    214.9,3,    196.9,2,     6.44,2,     4.62,2,     0.21,2,     0.37,2, -999.000,9, -999.000,9, -999.000,9,-999.0000,9,  -999.00,9,   -999.0,9,-999.000,9,   -999.0,9,   -999,  -999.0,-999.000,-999.0000,-999.000,  -999.0,-999.000, 18.3337,-999.000
    49RY9407_1,   P09,     5,  1,     16,    221,4,19940709,0400, 33.6585, 136.9952, 2015,     74.9,  16.6152,  34.6487,2,  34.6469,2,    179.2,2,    177.7,6,    12.36,2,     9.24,2,     0.01,2,     0.65,2, -999.000,9, -999.000,9, -999.000,9,-999.0000,9,  -999.00,9,   -999.0,9,-999.000,9,   -999.0,9,   -999,  -999.0,  16.668,-999.0000,-999.000,    78.0,-999.000, 16.6031,-999.000
    49RY9407_1,   P09,     5,  1,     15,    220,2,19940709,0400, 33.6585, 136.9952, 2015,    125.3,  14.7322,  34.5877,2,  34.5870,2,    170.4,3,    180.1,2,    15.68,6,    11.65,6,     0.00,6,     0.81,6, -999.000,9, -999.000,9, -999.000,9,-999.0000,9,  -999.00,9,   -999.0,9,-999.000,9,   -999.0,9,   -999,  -999.0,-999.000,-999.0000,-999.000,  -999.0,-999.000, 14.7135,-999.000
    49RY9407_1,   P09,     5,  1,     14,    219,2,19940709,0400, 33.6585, 136.9952, 2015,    150.4,  13.8187,  34.5382,2,  34.5385,2,    171.4,2,    170.7,2,    20.00,2,    13.80,2,     0.00,2,     0.96,2, -999.000,9, -999.000,9, -999.000,9,-999.0000,9,  -999.00,9,   -999.0,9,-999.000,9,   -999.0,9,   -999,  -999.0,-999.000,-999.0000,-999.000,  -999.0,-999.000, 13.7972,-999.000
    49RY9407_1,   P09,     5,  1,     13,    218,2,19940709,0400, 33.6585, 136.9952, 2015,    200.3,  12.5620,  34.4830,2,  34.4832,2,    160.5,2,    161.8,2,    26.36,2,    16.68,2,     0.00,2,     1.21,2, -999.000,9, -999.000,9, -999.000,9,-999.0000,9,  -999.00,9,   -999.0,9,-999.000,9,   -999.0,9,   -999,  -999.0,-999.000,-999.0000,-999.000,  -999.0,-999.000, 12.5352,-999.000
    49RY9407_1,   P09,     5,  1,     12,    217,2,19940709,0400, 33.6585, 136.9952, 2015,    301.5,   9.5404,  34.3465,2,  34.3484,2,    139.6,2,    135.4,2,    45.86,2,    24.28,2,     0.00,2,     1.71,2, -999.000,9, -999.000,9, -999.000,9,-999.0000,9,  -999.00,9,   -999.0,9,-999.000,9,   -999.0,9,   -999,  -999.0,-999.000,-999.0000,-999.000,  -999.0,-999.000,  9.5065,-999.000
    49RY9407_1,   P09,     5,  1,     11,    216,2,19940709,0400, 33.6585, 136.9952, 2015,    401.3,   6.5574,  34.2745,3,  34.2613,2,     98.4,2,     99.9,2,    74.61,2,    32.57,2,     0.00,2,     2.32,2, -999.000,9, -999.000,9, -999.000,9,-999.0000,9,  -999.00,9,   -999.0,9,-999.000,9,   -999.0,9,   -999,  -999.0,-999.000,-999.0000,-999.000,  -999.0,-999.000,  6.5210,-999.000
    49RY9407_1,   P09,     5,  1,     10,    214,2,19940709,0400, 33.6585, 136.9952, 2015,    502.5,   4.9740,  34.2743,2,  34.2731,2,     77.5,2,     78.2,2,    95.02,2,    37.19,2,     0.00,2,     2.66,2, -999.000,9, -999.000,9, -999.000,9,-999.0000,9,  -999.00,9,   -999.0,9,-999.000,9,   -999.0,9,   -999,  -999.0,-999.000,-999.0000,-999.000,  -999.0,-999.000,  4.9343,-999.000
    49RY9407_1,   P09,     5,  1,      9,    213,2,19940709,0400, 33.6585, 136.9952, 2015,    604.2,   4.2016,  34.3216,2,  34.3236,2,     66.8,2,     65.3,2,   109.40,2,    39.32,2,     0.00,2,     2.82,2, -999.000,9, -999.000,9, -999.000,9,-999.0000,9,  -999.00,9,   -999.0,9,-999.000,9,   -999.0,9,   -999,  -999.0,   4.193,-999.0000,-999.000,   606.0,-999.000,  4.1569,-999.000
    49RY9407_1,   P09,     5,  1,      7,    210,2,19940709,0400, 33.6585, 136.9952, 2015,    704.9,   3.9437,  34.3498,2,  34.3511,2,     64.0,2,     62.4,2,   114.94,2,    39.95,2,     0.00,2,     2.86,2, -999.000,9, -999.000,9, -999.000,9,-999.0000,9,  -999.00,9,   -999.0,9,-999.000,9,   -999.0,9,   -999,  -999.0,-999.000,-999.0000,-999.000,  -999.0,-999.000,  3.8925,-999.000
    49RY9407_1,   P09,     5,  1,      8,    212,2,19940709,0400, 33.6585, 136.9952, 2015,    704.9,   3.9437,  34.3498,2,  34.3511,2,     64.0,2,     63.6,2,   114.87,2,    39.88,2,     0.00,2,     2.86,2, -999.000,9, -999.000,9, -999.000,9,-999.0000,9,  -999.00,9,   -999.0,9,-999.000,9,   -999.0,9,   -999,  -999.0,-999.000,-999.0000,-999.000,  -999.0,-999.000,  3.8925,-999.000
    49RY9407_1,   P09,     5,  1,      6,    209,2,19940709,0400, 33.6585, 136.9952, 2015,    805.4,   3.5098,  34.4063,2,  34.4076,2,     63.9,2,     64.2,6,   123.89,2,    40.43,2,     0.00,2,     2.89,2, -999.000,9, -999.000,9, -999.000,9,-999.0000,9,  -999.00,9,   -999.0,9,-999.000,9,   -999.0,9,   -999,  -999.0,-999.000,-999.0000,-999.000,  -999.0,-999.000,  3.4533,-999.000
    49RY9407_1,   P09,     5,  1,      5,    207,2,19940709,0400, 33.6585, 136.9952, 2015,    906.1,   3.2194,  34.4428,2,  34.4440,2,     67.8,2,     66.1,2,   129.33,6,    40.58,6,     0.00,6,     2.89,6, -999.000,9, -999.000,9, -999.000,9,-999.0000,9,  -999.00,9,   -999.0,9,-999.000,9,   -999.0,9,   -999,  -999.0,-999.000,-999.0000,-999.000,  -999.0,-999.000,  3.1571,-999.000
    49RY9407_1,   P09,     5,  1,      4,    206,2,19940709,0400, 33.6585, 136.9952, 2015,   1007.2,   3.0574,  34.4642,2,  34.4645,2,     68.9,2,     69.0,2,   132.37,2,    40.63,2,     0.00,2,     2.90,2, -999.000,9, -999.000,9, -999.000,9,-999.0000,9,  -999.00,9,   -999.0,9,-999.000,9,   -999.0,9,   -999,  -999.0,-999.000,-999.0000,-999.000,  -999.0,-999.000,  2.9886,-999.000
    49RY9407_1,   P09,     5,  1,      3,    205,2,19940709,0400, 33.6585, 136.9952, 2015,   1260.5,   2.6283,  34.5176,2,  34.5198,2,     80.2,2,     80.9,2,   138.76,2,    40.25,2,     0.00,2,     2.86,2, -999.000,9, -999.000,9, -999.000,9,-999.0000,9,  -999.00,9,   -999.0,9,-999.000,9,   -999.0,9,   -999,  -999.0,-999.000,-999.0000,-999.000,  -999.0,-999.000,  2.5438,-999.000
    49RY9407_1,   P09,     5,  1,      2,    204,4,19940709,0400, 33.6585, 136.9952, 2015,   1514.1,   2.3710,  34.5529,2,  34.5535,2,     91.0,2,     92.9,2,   141.35,2,    39.73,2,     0.00,2,     2.81,2, -999.000,9, -999.000,9, -999.000,9,-999.0000,9,  -999.00,9,   -999.0,9,-999.000,9,   -999.0,9,   -999,  -999.0,   2.368,-999.0000,-999.000,  1512.0,-999.000,  2.2693,-999.000
    49RY9407_1,   P09,     5,  1,      1,    201,2,19940709,0400, 33.6585, 136.9952, 2015,   2006.0,   1.8308,  34.6239,2,  34.6256,2,    120.9,2,    120.0,6,   144.94,6,    38.25,6,     0.00,6,     2.68,6, -999.000,9, -999.000,9, -999.000,9,-999.0000,9,  -999.00,9,   -999.0,9,-999.000,9,   -999.0,9,   -999,  -999.0,-999.000,-999.0000,-999.000,  -999.0,-999.000,  1.6965,-999.000
    49RY9407_1,   P09,     6,  1,     17,    222,4,19940709,0723, 33.4822, 137.0387, 2030,      9.7,  24.6107,  34.1438,2,  34.1411,2,    208.5,3,   -999.0,9,  -999.00,9,  -999.00,9,  -999.00,9,  -999.00,9, -999.000,9, -999.000,9, -999.000,9,-999.0000,9,  -999.00,9,   -999.0,9,-999.000,9,   -999.0,9,   -999,  -999.0,-999.000,-999.0000,-999.000,  -999.0,-999.000, 24.6086,-999.000
    49RY9407_1,   P09,     6,  1,     18,    223,2,19940709,0723, 33.4822, 137.0387, 2030,      9.7,  24.6107,  34.1438,2,  34.1482,2,    208.5,3,   -999.0,9,  -999.00,9,  -999.00,9,  -999.00,9,  -999.00,9, -999.000,9, -999.000,9, -999.000,9,-999.0000,9,  -999.00,9,   -999.0,9,-999.000,9,   -999.0,9,   -999,  -999.0,-999.000,-999.0000,-999.000,  -999.0,-999.000, 24.6086,-999.000
    49RY9407_1,   P09,     6,  1,     16,    221,2,19940709,0723, 33.4822, 137.0387, 2030,     50.2,  20.4545,  34.5858,2,  34.5885,2,    221.3,3,   -999.0,9,  -999.00,9,  -999.00,9,  -999.00,9,  -999.00,9, -999.000,9, -999.000,9, -999.000,9,-999.0000,9,  -999.00,9,   -999.0,9,-999.000,9,   -999.0,9,   -999,  -999.0,  20.470,-999.0000,-999.000,    52.0,-999.000, 20.4452,-999.000
    49RY9407_1,   P09,     6,  1,     15,    220,2,19940709,0723, 33.4822, 137.0387, 2030,    101.2,  17.1382,  34.6654,2,  34.6670,2,    176.9,3,   -999.0,9,  -999.00,9,  -999.00,9,  -999.00,9,  -999.00,9, -999.000,9, -999.000,9, -999.000,9,-999.0000,9,  -999.00,9,   -999.0,9,-999.000,9,   -999.0,9,   -999,  -999.0,-999.000,-999.0000,-999.000,  -999.0,-999.000, 17.1215,-999.000
    49RY9407_1,   P09,     6,  1,     14,    219,2,19940709,0723, 33.4822, 137.0387, 2030,    151.9,  13.9163,  34.5472,2,  34.5517,2,    171.4,3,   -999.0,9,  -999.00,9,  -999.00,9,  -999.00,9,  -999.00,9, -999.000,9, -999.000,9, -999.000,9,-999.0000,9,  -999.00,9,   -999.0,9,-999.000,9,   -999.0,9,   -999,  -999.0,-999.000,-999.0000,-999.000,  -999.0,-999.000, 13.8946,-999.000
    49RY9407_1,   P09,     6,  1,     13,    218,2,19940709,0723, 33.4822, 137.0387, 2030,    203.0,  12.2665,  34.4669,2,  34.4680,2,    162.4,3,   -999.0,9,  -999.00,9,  -999.00,9,  -999.00,9,  -999.00,9, -999.000,9, -999.000,9, -999.000,9,-999.0000,9,  -999.00,9,   -999.0,9,-999.000,9,   -999.0,9,   -999,  -999.0,-999.000,-999.0000,-999.000,  -999.0,-999.000, 12.2398,-999.000
    49RY9407_1,   P09,     6,  1,     12,    217,2,19940709,0723, 33.4822, 137.0387, 2030,    307.1,   9.6913,  34.3574,2,  34.3588,2,    140.5,3,   -999.0,9,  -999.00,9,  -999.00,9,  -999.00,9,  -999.00,9, -999.000,9, -999.000,9, -999.000,9,-999.0000,9,  -999.00,9,   -999.0,9,-999.000,9,   -999.0,9,   -999,  -999.0,-999.000,-999.0000,-999.000,  -999.0,-999.000,  9.6565,-999.000
    49RY9407_1,   P09,     6,  1,     11,    216,2,19940709,0723, 33.4822, 137.0387, 2030,    404.3,   6.9027,  34.2827,2,  34.2919,3,    114.6,3,   -999.0,9,  -999.00,9,  -999.00,9,  -999.00,9,  -999.00,9, -999.000,9, -999.000,9, -999.000,9,-999.0000,9,  -999.00,9,   -999.0,9,-999.000,9,   -999.0,9,   -999,  -999.0,-999.000,-999.0000,-999.000,  -999.0,-999.000,  6.8651,-999.000
    49RY9407_1,   P09,     6,  1,     10,    214,2,19940709,0723, 33.4822, 137.0387, 2030,    505.4,   5.2155,  34.2848,2,  34.2872,2,     73.8,3,   -999.0,9,  -999.00,9,  -999.00,9,  -999.00,9,  -999.00,9, -999.000,9, -999.000,9, -999.000,9,-999.0000,9,  -999.00,9,   -999.0,9,-999.000,9,   -999.0,9,   -999,  -999.0,-999.000,-999.0000,-999.000,  -999.0,-999.000,  5.1746,-999.000
    49RY9407_1,   P09,     6,  1,      9,    213,2,19940709,0723, 33.4822, 137.0387, 2030,    606.3,   4.6172,  34.3016,2,  34.3061,2,     57.2,3,   -999.0,9,  -999.00,9,  -999.00,9,  -999.00,9,  -999.00,9, -999.000,9, -999.000,9, -999.000,9,-999.0000,9,  -999.00,9,   -999.0,9,-999.000,9,   -999.0,9,   -999,  -999.0,   4.540,-999.0000,-999.000,   613.0,-999.000,  4.5704,-999.000
    49RY9407_1,   P09,     6,  1,      8,    212,2,19940709,0723, 33.4822, 137.0387, 2030,    706.8,   3.9757,  34.3543,2,  34.3576,2,     51.7,3,   -999.0,9,  -999.00,9,  -999.00,9,  -999.00,9,  -999.00,9, -999.000,9, -999.000,9, -999.000,9,-999.0000,9,  -999.00,9,   -999.0,9,-999.000,9,   -999.0,9,   -999,  -999.0,-999.000,-999.0000,-999.000,  -999.0,-999.000,  3.9241,-999.000
    49RY9407_1,   P09,     6,  1,      7,    210,2,19940709,0723, 33.4822, 137.0387, 2030,    808.1,   3.5837,  34.4004,2,  34.4019,2,     51.7,3,   -999.0,9,  -999.00,9,  -999.00,9,  -999.00,9,  -999.00,9, -999.000,9, -999.000,9, -999.000,9,-999.0000,9,  -999.00,9,   -999.0,9,-999.000,9,   -999.0,9,   -999,  -999.0,-999.000,-999.0000,-999.000,  -999.0,-999.000,  3.5265,-999.000
    49RY9407_1,   P09,     6,  1,      6,    209,2,19940709,0723, 33.4822, 137.0387, 2030,    908.4,   3.2046,  34.4434,2,  34.4466,2,     55.9,3,   -999.0,9,  -999.00,9,  -999.00,9,  -999.00,9,  -999.00,9, -999.000,9, -999.000,9, -999.000,9,-999.0000,9,  -999.00,9,   -999.0,9,-999.000,9,   -999.0,9,   -999,  -999.0,-999.000,-999.0000,-999.000,  -999.0,-999.000,  3.1422,-999.000
    49RY9407_1,   P09,     6,  1,      5,    207,2,19940709,0723, 33.4822, 137.0387, 2030,   1009.5,   2.9533,  34.4770,2,  34.4806,2,     61.2,3,   -999.0,9,  -999.00,9,  -999.00,9,  -999.00,9,  -999.00,9, -999.000,9, -999.000,9, -999.000,9,-999.0000,9,  -999.00,9,   -999.0,9,-999.000,9,   -999.0,9,   -999,  -999.0,-999.000,-999.0000,-999.000,  -999.0,-999.000,  2.8851,-999.000
    49RY9407_1,   P09,     6,  1,      4,    206,2,19940709,0723, 33.4822, 137.0387, 2030,   1259.3,   2.4296,  34.5417,2,  34.5417,2,     81.7,3,   -999.0,9,  -999.00,9,  -999.00,9,  -999.00,9,  -999.00,9, -999.000,9, -999.000,9, -999.000,9,-999.0000,9,  -999.00,9,   -999.0,9,-999.000,9,   -999.0,9,   -999,  -999.0,-999.000,-999.0000,-999.000,  -999.0,-999.000,  2.3470,-999.000
    49RY9407_1,   P09,     6,  1,      2,    204,4,19940709,0723, 33.4822, 137.0387, 2030,   1514.5,   2.1905,  34.5759,2,  34.5767,2,     99.7,3,   -999.0,9,  -999.00,9,  -999.00,9,  -999.00,9,  -999.00,9, -999.000,9, -999.000,9, -999.000,9,-999.0000,9,  -999.00,9,   -999.0,9,-999.000,9,   -999.0,9,   -999,  -999.0,   2.183,-999.0000,-999.000,  1515.0,-999.000,  2.0909,-999.000
    49RY9407_1,   P09,     6,  1,      3,    205,2,19940709,0723, 33.4822, 137.0387, 2030,   1514.5,   2.1905,  34.5759,2,  34.5759,2,     99.7,3,   -999.0,9,  -999.00,9,  -999.00,9,  -999.00,9,  -999.00,9, -999.000,9, -999.000,9, -999.000,9,-999.0000,9,  -999.00,9,   -999.0,9,-999.000,9,   -999.0,9,   -999,  -999.0,-999.000,-999.0000,-999.000,  -999.0,-999.000,  2.0909,-999.000
    49RY9407_1,   P09,     6,  1,      1,    201,2,19940709,0723, 33.4822, 137.0387, 2030,   2024.9,   1.8135,  34.6267,2,  34.6283,2,    123.6,3,   -999.0,9,  -999.00,9,  -999.00,9,  -999.00,9,  -999.00,9, -999.000,9, -999.000,9, -999.000,9,-999.0000,9,  -999.00,9,   -999.0,9,-999.000,9,   -999.0,9,   -999,  -999.0,-999.000,-999.0000,-999.000,  -999.0,-999.000,  1.6779,-999.000