BOTTLE,20020306WHPSIOdm
EXPOCODE,SECT_ID,STNNBR,CASTNO,SAMPNO,BTLNBR,BTLNBR_FLAG_W,DATE,TIME,LATITUDE,LONGITUDE,DEPTH,CTDPRS,CTDTMP,CTDSAL,CTDSAL_FLAG_W,SALNTY,SALNTY_FLAG_W,CTDOXY,CTDOXY_FLAG_W,OXYGEN,OXYGEN_FLAG_W,SILCAT,SILCAT_FLAG_W,NITRAT,NITRAT_FLAG_W,NITRIT,NITRIT_FLAG_W,PHSPHT,PHSPHT_FLAG_W,CFC-11,CFC-11_FLAG_W,CFC-12,CFC-12_FLAG_W,TRITUM,TRITUM_FLAG_W,HELIUM,HELIUM_FLAG_W,DELHE3,DELHE3_FLAG_W,DELC14,DELC14_FLAG_W,NEON,NEON_FLAG_W,TCARBN,TCARBN_FLAG_W,CTDRAW,C14ERR,REVTMP,HELIER,DELHER,REVPRS,NEONER,THETA,TRITER
,,,,,,,,,,,,DBAR,ITS-90,PSS-78,,PSS-78,,UMOL/KG,,UMOL/KG,,UMOL/KG,,UMOL/KG,,UMOL/KG,,UMOL/KG,,PMOL/KG,,PMOL/KG,,TU,,NMOL/KG,,PERCNT,,/MILLE,,NMOL/KG,,UMOL/KG,,,/MILLE,ITS-90,NMOL/KG,PERCNT,DBAR,NMOL/KG,DEG C,TU
    49RY9407_1,   P09,    16,  1,      0,      0,2,19940711,0928, 31.6743, 136.9913, 4170,      0.0,  28.2899,  34.3030,2,-999.0000,9,    167.8,4,    203.7,6,     1.43,2,     0.04,2,     0.00,2,     0.00,2, -999.000,9, -999.000,9, -999.000,9,-999.0000,9,  -999.00,9,   -999.0,9,-999.000,9,   -999.0,9,   -999,  -999.0,-999.000,-999.0000,-999.000,  -999.0,-999.000, 28.2904,-999.000
    49RY9407_1,   P09,    16,  1,      9,    213,2,19940711,0928, 31.6743, 136.9913, 4170,      9.5,  25.8871,  34.3522,2,  34.3569,2,    210.6,2,   -999.0,5,     1.42,6,     0.05,6,     0.00,6,     0.00,6, -999.000,9, -999.000,9, -999.000,9,-999.0000,9,  -999.00,9,   -999.0,9,-999.000,9,   -999.0,9,   -999,  -999.0,  26.360,-999.0000,-999.000,    18.0,-999.000, 25.8850,-999.000
    49RY9407_1,   P09,    16,  1,      8,    212,2,19940711,0928, 31.6743, 136.9913, 4170,     24.7,  24.2420,  34.5181,2,  34.5226,2,    215.3,2,   -999.0,5,     1.45,2,     0.02,2,     0.00,2,     0.01,2, -999.000,9, -999.000,9, -999.000,9,-999.0000,9,  -999.00,9,   -999.0,9,-999.000,9,   -999.0,9,   -999,  -999.0,-999.000,-999.0000,-999.000,  -999.0,-999.000, 24.2367,-999.000
    49RY9407_1,   P09,    16,  1,      7,    210,2,19940711,0928, 31.6743, 136.9913, 4170,     50.2,  23.0085,  34.7369,2,  34.7359,2,    217.2,2,    217.7,2,     1.52,2,     0.01,2,     0.00,2,     0.02,2, -999.000,9, -999.000,9, -999.000,9,-999.0000,9,  -999.00,9,   -999.0,9,-999.000,9,   -999.0,9,   -999,  -999.0,-999.000,-999.0000,-999.000,  -999.0,-999.000, 22.9983,-999.000
    49RY9407_1,   P09,    16,  1,      6,    209,2,19940711,0928, 31.6743, 136.9913, 4170,     74.2,  21.4526,  34.8586,2,  34.8641,2,    218.4,2,   -999.0,5,     1.58,2,     0.00,2,     0.00,2,     0.02,2, -999.000,9, -999.000,9, -999.000,9,-999.0000,9,  -999.00,9,   -999.0,9,-999.000,9,   -999.0,9,   -999,  -999.0,-999.000,-999.0000,-999.000,  -999.0,-999.000, 21.4382,-999.000
    49RY9407_1,   P09,    16,  1,      5,    207,2,19940711,0928, 31.6743, 136.9913, 4170,    100.0,  20.7070,  34.9027,2,  34.9029,2,    213.2,2,    213.7,2,     1.95,2,     0.76,2,     0.15,2,     0.08,2, -999.000,9, -999.000,9, -999.000,9,-999.0000,9,  -999.00,9,   -999.0,9,-999.000,9,   -999.0,9,   -999,  -999.0,-999.000,-999.0000,-999.000,  -999.0,-999.000, 20.6881,-999.000
    49RY9407_1,   P09,    16,  1,      4,    206,2,19940711,0928, 31.6743, 136.9913, 4170,    125.4,  20.3209,  34.9180,2,  34.9165,2,    212.9,2,   -999.0,5,     1.94,2,     1.03,2,     0.09,2,     0.09,2, -999.000,9, -999.000,9, -999.000,9,-999.0000,9,  -999.00,9,   -999.0,9,-999.000,9,   -999.0,9,   -999,  -999.0,-999.000,-999.0000,-999.000,  -999.0,-999.000, 20.2974,-999.000
    49RY9407_1,   P09,    16,  1,      3,    205,2,19940711,0928, 31.6743, 136.9913, 4170,    150.4,  19.9944,  34.9194,2,  34.9189,2,    208.3,2,    211.3,2,     2.11,6,     1.51,6,     0.03,6,     0.12,6, -999.000,9, -999.000,9, -999.000,9,-999.0000,9,  -999.00,9,   -999.0,9,-999.000,9,   -999.0,9,   -999,  -999.0,-999.000,-999.0000,-999.000,  -999.0,-999.000, 19.9666,-999.000
    49RY9407_1,   P09,    16,  1,      2,    204,2,19940711,0928, 31.6743, 136.9913, 4170,    201.4,  19.1417,  34.9014,2,  34.8976,2,    206.9,2,    211.7,2,     2.50,2,     2.05,2,     0.01,2,     0.15,2, -999.000,9, -999.000,9, -999.000,9,-999.0000,9,  -999.00,9,   -999.0,9,-999.000,9,   -999.0,9,   -999,  -999.0,  19.149,-999.0000,-999.000,   203.0,-999.000, 19.1056,-999.000
    49RY9407_1,   P09,    16,  2,     24,    230,2,19940711,1107, 31.6855, 137.0027, 4185,    300.4,  17.9656,  34.8311,2,  34.8347,2,    210.6,2,   -999.0,5,     3.71,2,     3.96,2,     0.01,2,     0.28,2, -999.000,9, -999.000,9, -999.000,9,-999.0000,9,  -999.00,9,   -999.0,9,-999.000,9,   -999.0,9,   -999,  -999.0,-999.000,-999.0000,-999.000,  -999.0,-999.000, 17.9140,-999.000
    49RY9407_1,   P09,    16,  2,     23,    228,2,19940711,1107, 31.6855, 137.0027, 4185,    401.4,  16.4320,  34.7138,2,  34.7204,2,    193.2,2,    191.6,2,     7.50,2,     7.45,2,     0.00,2,     0.51,2, -999.000,9, -999.000,9, -999.000,9,-999.0000,9,  -999.00,9,   -999.0,9,-999.000,9,   -999.0,9,   -999,  -999.0,-999.000,-999.0000,-999.000,  -999.0,-999.000, 16.3671,-999.000
    49RY9407_1,   P09,    16,  2,     21,    226,2,19940711,1107, 31.6855, 137.0027, 4185,    501.3,  14.5829,  34.5887,2,  34.5870,2,    183.4,2,    182.4,2,    12.95,2,    11.33,2,     0.00,2,     0.77,2, -999.000,9, -999.000,9, -999.000,9,-999.0000,9,  -999.00,9,   -999.0,9,-999.000,9,   -999.0,9,   -999,  -999.0,-999.000,-999.0000,-999.000,  -999.0,-999.000, 14.5080,-999.000
    49RY9407_1,   P09,    16,  2,     22,    227,2,19940711,1107, 31.6855, 137.0027, 4185,    501.3,  14.5829,  34.5887,2,  34.5876,2,    183.4,2,   -999.0,5,    12.94,2,    11.26,2,     0.00,2,     0.77,2, -999.000,9, -999.000,9, -999.000,9,-999.0000,9,  -999.00,9,   -999.0,9,-999.000,9,   -999.0,9,   -999,  -999.0,-999.000,-999.0000,-999.000,  -999.0,-999.000, 14.5080,-999.000
    49RY9407_1,   P09,    16,  2,     20,    225,2,19940711,1107, 31.6855, 137.0027, 4185,    603.0,  11.8460,  34.3861,2,  34.3988,2,    169.3,2,    172.9,2,    23.80,2,    16.99,2,     0.00,2,     1.18,2, -999.000,9, -999.000,9, -999.000,9,-999.0000,9,  -999.00,9,   -999.0,9,-999.000,9,   -999.0,9,   -999,  -999.0,-999.000,-999.0000,-999.000,  -999.0,-999.000, 11.7672,-999.000
    49RY9407_1,   P09,    16,  2,     19,    224,2,19940711,1107, 31.6855, 137.0027, 4185,    705.4,   9.0902,  34.2521,2,  34.2506,2,    144.7,2,    148.3,2,    41.44,2,    23.83,2,     0.00,2,     1.69,2, -999.000,9, -999.000,9, -999.000,9,-999.0000,9,  -999.00,9,   -999.0,9,-999.000,9,   -999.0,9,   -999,  -999.0,-999.000,-999.0000,-999.000,  -999.0,-999.000,  9.0116,-999.000
    49RY9407_1,   P09,    16,  2,     18,    223,2,19940711,1107, 31.6855, 137.0027, 4185,    807.3,   7.2536,  34.2286,2,  34.2280,2,    111.2,3,    116.9,6,    62.13,6,    30.11,6,     0.00,6,     2.14,6, -999.000,9, -999.000,9, -999.000,9,-999.0000,9,  -999.00,9,   -999.0,9,-999.000,9,   -999.0,9,   -999,  -999.0,-999.000,-999.0000,-999.000,  -999.0,-999.000,  7.1741,-999.000
    49RY9407_1,   P09,    16,  2,     17,    222,2,19940711,1107, 31.6855, 137.0027, 4185,    907.7,   5.6836,  34.2485,2,  34.2495,2,     80.3,3,     85.7,2,    83.57,2,    35.59,2,     0.00,2,     2.55,2, -999.000,9, -999.000,9, -999.000,9,-999.0000,9,  -999.00,9,   -999.0,9,-999.000,9,   -999.0,9,   -999,  -999.0,-999.000,-999.0000,-999.000,  -999.0,-999.000,  5.6043,-999.000
    49RY9407_1,   P09,    16,  2,     16,    221,2,19940711,1107, 31.6855, 137.0027, 4185,   1007.8,   4.4730,  34.3079,2,  34.3081,2,     67.5,2,     71.2,2,   105.32,2,    38.92,2,     0.00,2,     2.77,2, -999.000,9, -999.000,9, -999.000,9,-999.0000,9,  -999.00,9,   -999.0,9,-999.000,9,   -999.0,9,   -999,  -999.0,   4.472,-999.0000,-999.000,  1010.0,-999.000,  4.3934,-999.000
    49RY9407_1,   P09,    16,  2,     15,    220,2,19940711,1107, 31.6855, 137.0027, 4185,   1260.1,   3.2538,  34.4443,2,  34.4444,2,     64.6,3,     69.7,2,   129.36,6,    40.70,6,     0.00,6,     2.89,6, -999.000,9, -999.000,9, -999.000,9,-999.0000,9,  -999.00,9,   -999.0,9,-999.000,9,   -999.0,9,   -999,  -999.0,-999.000,-999.0000,-999.000,  -999.0,-999.000,  3.1633,-999.000
    49RY9407_1,   P09,    16,  2,     14,    219,2,19940711,1107, 31.6855, 137.0027, 4185,   1514.3,   2.6947,  34.5133,2,  34.5141,2,     76.8,2,     80.7,2,   138.56,2,    40.40,2,     0.00,2,     2.87,2, -999.000,9, -999.000,9, -999.000,9,-999.0000,9,  -999.00,9,   -999.0,9,-999.000,9,   -999.0,9,   -999,  -999.0,-999.000,-999.0000,-999.000,  -999.0,-999.000,  2.5894,-999.000
    49RY9407_1,   P09,    16,  2,     13,    218,2,19940711,1107, 31.6855, 137.0027, 4185,   1765.9,   2.3251,  34.5614,2,  34.5622,2,     93.3,2,     96.6,2,   142.67,2,    39.76,2,     0.00,2,     2.81,2, -999.000,9, -999.000,9, -999.000,9,-999.0000,9,  -999.00,9,   -999.0,9,-999.000,9,   -999.0,9,   -999,  -999.0,-999.000,-999.0000,-999.000,  -999.0,-999.000,  2.2037,-999.000
    49RY9407_1,   P09,    16,  2,     12,    217,4,19940711,1107, 31.6855, 137.0027, 4185,   2019.6,   2.0205,  34.6013,2,  34.6023,2,    108.8,2,    111.6,2,   144.01,2,    38.94,2,     0.00,2,     2.74,2, -999.000,9, -999.000,9, -999.000,9,-999.0000,9,  -999.00,9,   -999.0,9,-999.000,9,   -999.0,9,   -999,  -999.0,-999.000,-999.0000,-999.000,  -999.0,-999.000,  1.8822,-999.000
    49RY9407_1,   P09,    16,  2,     11,    216,2,19940711,1107, 31.6855, 137.0027, 4185,   2530.2,   1.7052,  34.6456,2,  34.6463,2,    132.0,2,    132.3,2,   144.19,2,    37.81,2,     0.00,2,     2.64,2, -999.000,9, -999.000,9, -999.000,9,-999.0000,9,  -999.00,9,   -999.0,9,-999.000,9,   -999.0,9,   -999,  -999.0,-999.000,-999.0000,-999.000,  -999.0,-999.000,  1.5277,-999.000
    49RY9407_1,   P09,    16,  2,      9,    213,4,19940711,1107, 31.6855, 137.0027, 4185,   2783.8,   1.6356,  34.6565,2,  34.6561,2,    139.3,2,    139.8,2,   143.66,2,    37.44,2,     0.00,2,     2.60,2, -999.000,9, -999.000,9, -999.000,9,-999.0000,9,  -999.00,9,   -999.0,9,-999.000,9,   -999.0,9,   -999,  -999.0,   1.631,-999.0000,-999.000,  2781.0,-999.000,  1.4363,-999.000
    49RY9407_1,   P09,    16,  2,     10,    214,2,19940711,1107, 31.6855, 137.0027, 4185,   2783.8,   1.6356,  34.6565,2,  34.6559,2,    139.3,2,    137.9,2,   143.81,6,    37.43,6,     0.00,6,     2.60,6, -999.000,9, -999.000,9, -999.000,9,-999.0000,9,  -999.00,9,   -999.0,9,-999.000,9,   -999.0,9,   -999,  -999.0,-999.000,-999.0000,-999.000,  -999.0,-999.000,  1.4363,-999.000
    49RY9407_1,   P09,    16,  2,      8,    212,2,19940711,1107, 31.6855, 137.0027, 4185,   3295.5,   1.5308,  34.6727,2,  34.6746,2,    149.8,2,    149.4,2,   142.61,2,    36.81,2,     0.00,2,     2.54,2, -999.000,9, -999.000,9, -999.000,9,-999.0000,9,  -999.00,9,   -999.0,9,-999.000,9,   -999.0,9,   -999,  -999.0,-999.000,-999.0000,-999.000,  -999.0,-999.000,  1.2846,-999.000
    49RY9407_1,   P09,    16,  2,      6,    209,4,19940711,1107, 31.6855, 137.0027, 4185,   3550.3,   1.5163,  34.6779,2,  34.6768,2,    153.2,2,    150.8,2,   142.19,2,    36.57,2,     0.00,2,     2.53,2, -999.000,9, -999.000,9, -999.000,9,-999.0000,9,  -999.00,9,   -999.0,9,-999.000,9,   -999.0,9,   -999,  -999.0,-999.000,-999.0000,-999.000,  -999.0,-999.000,  1.2446,-999.000
    49RY9407_1,   P09,    16,  2,      7,    210,2,19940711,1107, 31.6855, 137.0027, 4185,   3550.3,   1.5163,  34.6779,2,  34.6780,2,    153.2,2,    151.3,2,   142.21,2,    36.56,2,     0.00,2,     2.53,2, -999.000,9, -999.000,9, -999.000,9,-999.0000,9,  -999.00,9,   -999.0,9,-999.000,9,   -999.0,9,   -999,  -999.0,-999.000,-999.0000,-999.000,  -999.0,-999.000,  1.2446,-999.000
    49RY9407_1,   P09,    16,  2,      5,    207,2,19940711,1107, 31.6855, 137.0027, 4185,   4063.4,   1.5418,  34.6806,2,  34.6794,2,    156.2,2,    154.4,2,   141.91,2,    36.44,2,     0.00,2,     2.52,2, -999.000,9, -999.000,9, -999.000,9,-999.0000,9,  -999.00,9,   -999.0,9,-999.000,9,   -999.0,9,   -999,  -999.0,-999.000,-999.0000,-999.000,  -999.0,-999.000,  1.2148,-999.000
    49RY9407_1,   P09,    16,  2,      4,    206,2,19940711,1107, 31.6855, 137.0027, 4185,   4239.9,   1.5592,  34.6816,2,  34.6813,2,    154.6,2,    154.8,6,   141.71,6,    36.34,6,     0.00,6,     2.51,6, -999.000,9, -999.000,9, -999.000,9,-999.0000,9,  -999.00,9,   -999.0,9,-999.000,9,   -999.0,9,   -999,  -999.0,-999.000,-999.0000,-999.000,  -999.0,-999.000,  1.2120,-999.000
    49RY9407_1,   P09,    17,  1,      0,      0,2,19940711,1447, 31.3348, 137.0010, 4155,      1.8,  27.7961,  34.2844,2,-999.0000,9,    208.9,2,    205.8,6,     1.41,2,     0.06,2,     0.00,2,     0.00,2, -999.000,9, -999.000,9, -999.000,9,-999.0000,9,  -999.00,9,   -999.0,9,-999.000,9,   -999.0,9,   -999,  -999.0,-999.000,-999.0000,-999.000,  -999.0,-999.000, 27.7957,-999.000
    49RY9407_1,   P09,    17,  1,      9,    213,2,19940711,1447, 31.3348, 137.0010, 4155,     10.0,  27.4712,  34.2833,2,  34.2904,2,    213.2,2,   -999.0,5,     1.47,2,     0.04,2,     0.00,2,     0.00,2, -999.000,9, -999.000,9, -999.000,9,-999.0000,9,  -999.00,9,   -999.0,9,-999.000,9,   -999.0,9,   -999,  -999.0,  27.600,-999.0000,-999.000,    15.0,-999.000, 27.4689,-999.000
    49RY9407_1,   P09,    17,  1,      8,    212,2,19940711,1447, 31.3348, 137.0010, 4155,     24.7,  24.9535,  34.4345,2,  34.4330,2,    212.9,2,   -999.0,5,     1.50,6,     0.05,6,     0.00,6,     0.00,6, -999.000,9, -999.000,9, -999.000,9,-999.0000,9,  -999.00,9,   -999.0,9,-999.000,9,   -999.0,9,   -999,  -999.0,-999.000,-999.0000,-999.000,  -999.0,-999.000, 24.9482,-999.000
    49RY9407_1,   P09,    17,  1,      7,    210,2,19940711,1447, 31.3348, 137.0010, 4155,     50.0,  23.0404,  34.7404,2,  34.7365,2,    216.5,3,    222.8,2,     1.76,2,     0.04,2,     0.00,2,     0.01,2, -999.000,9, -999.000,9, -999.000,9,-999.0000,9,  -999.00,9,   -999.0,9,-999.000,9,   -999.0,9,   -999,  -999.0,-999.000,-999.0000,-999.000,  -999.0,-999.000, 23.0302,-999.000
    49RY9407_1,   P09,    17,  1,      6,    209,2,19940711,1447, 31.3348, 137.0010, 4155,     75.6,  21.5322,  34.8370,2,  34.8386,2,    220.3,2,   -999.0,5,     1.85,2,     0.07,2,     0.00,2,     0.02,2, -999.000,9, -999.000,9, -999.000,9,-999.0000,9,  -999.00,9,   -999.0,9,-999.000,9,   -999.0,9,   -999,  -999.0,-999.000,-999.0000,-999.000,  -999.0,-999.000, 21.5175,-999.000
    49RY9407_1,   P09,    17,  1,      5,    207,2,19940711,1447, 31.3348, 137.0010, 4155,    101.9,  20.6740,  34.8905,2,  34.8891,2,    211.1,2,    215.8,2,     2.11,2,     0.58,2,     0.19,2,     0.08,2, -999.000,9, -999.000,9, -999.000,9,-999.0000,9,  -999.00,9,   -999.0,9,-999.000,9,   -999.0,9,   -999,  -999.0,-999.000,-999.0000,-999.000,  -999.0,-999.000, 20.6547,-999.000
    49RY9407_1,   P09,    17,  1,      4,    206,2,19940711,1447, 31.3348, 137.0010, 4155,    126.4,  19.8200,  34.8954,2,  34.8958,2,    206.7,2,   -999.0,5,     2.78,2,     1.97,2,     0.03,2,     0.15,2, -999.000,9, -999.000,9, -999.000,9,-999.0000,9,  -999.00,9,   -999.0,9,-999.000,9,   -999.0,9,   -999,  -999.0,-999.000,-999.0000,-999.000,  -999.0,-999.000, 19.7968,-999.000
    49RY9407_1,   P09,    17,  1,      3,    205,2,19940711,1447, 31.3348, 137.0010, 4155,    151.6,  19.5422,  34.8811,2,  34.8775,2,    199.3,2,    202.9,2,     3.18,2,     2.57,2,     0.03,2,     0.19,2, -999.000,9, -999.000,9, -999.000,9,-999.0000,9,  -999.00,9,   -999.0,9,-999.000,9,   -999.0,9,   -999,  -999.0,-999.000,-999.0000,-999.000,  -999.0,-999.000, 19.5147,-999.000
    49RY9407_1,   P09,    17,  1,      2,    204,2,19940711,1447, 31.3348, 137.0010, 4155,    201.4,  18.8701,  34.8558,2,  34.8578,2,    200.4,2,    202.3,2,     3.84,6,     3.36,6,     0.02,6,     0.24,6, -999.000,9, -999.000,9, -999.000,9,-999.0000,9,  -999.00,9,   -999.0,9,-999.000,9,   -999.0,9,   -999,  -999.0,  18.851,-999.0000,-999.000,   200.0,-999.000, 18.8344,-999.000