BOTTLE,20020306WHPSIOdm
EXPOCODE,SECT_ID,STNNBR,CASTNO,SAMPNO,BTLNBR,BTLNBR_FLAG_W,DATE,TIME,LATITUDE,LONGITUDE,DEPTH,CTDPRS,CTDTMP,CTDSAL,CTDSAL_FLAG_W,SALNTY,SALNTY_FLAG_W,CTDOXY,CTDOXY_FLAG_W,OXYGEN,OXYGEN_FLAG_W,SILCAT,SILCAT_FLAG_W,NITRAT,NITRAT_FLAG_W,NITRIT,NITRIT_FLAG_W,PHSPHT,PHSPHT_FLAG_W,CFC-11,CFC-11_FLAG_W,CFC-12,CFC-12_FLAG_W,TRITUM,TRITUM_FLAG_W,HELIUM,HELIUM_FLAG_W,DELHE3,DELHE3_FLAG_W,DELC14,DELC14_FLAG_W,NEON,NEON_FLAG_W,TCARBN,TCARBN_FLAG_W,CTDRAW,C14ERR,REVTMP,HELIER,DELHER,REVPRS,NEONER,THETA,TRITER
,,,,,,,,,,,,DBAR,ITS-90,PSS-78,,PSS-78,,UMOL/KG,,UMOL/KG,,UMOL/KG,,UMOL/KG,,UMOL/KG,,UMOL/KG,,PMOL/KG,,PMOL/KG,,TU,,NMOL/KG,,PERCNT,,/MILLE,,NMOL/KG,,UMOL/KG,,,/MILLE,ITS-90,NMOL/KG,PERCNT,DBAR,NMOL/KG,DEG C,TU
    49RY9407_1,   P09,    23,  2,     24,    230,2,19940713,0749, 28.9938, 136.9857, 4570,    301.0,  17.0641,  34.7778,2,  34.7819,2,    204.8,2,    202.5,2,     4.96,6,     5.29,6,     0.01,6,     0.35,6, -999.000,9, -999.000,9, -999.000,9,-999.0000,9,  -999.00,9,   -999.0,9,-999.000,9,   -999.0,9,   -999,  -999.0,-999.000,-999.0000,-999.000,  -999.0,-999.000, 17.0142,-999.000
    49RY9407_1,   P09,    23,  2,     23,    228,2,19940713,0749, 28.9938, 136.9857, 4570,    401.8,  15.3710,  34.6432,2,  34.6482,2,    195.2,2,    191.2,2,     9.33,2,     8.99,2,     0.00,2,     0.61,2, -999.000,9, -999.000,9, -999.000,9,-999.0000,9,  -999.00,9,   -999.0,9,-999.000,9,   -999.0,9,   -999,  -999.0,-999.000,-999.0000,-999.000,  -999.0,-999.000, 15.3089,-999.000
    49RY9407_1,   P09,    23,  2,     22,    227,2,19940713,0749, 28.9938, 136.9857, 4570,    501.5,  13.2975,  34.4988,2,  34.4889,2,    186.5,2,    183.9,2,    15.91,2,    13.00,2,     0.00,2,     0.91,2, -999.000,9, -999.000,9, -999.000,9,-999.0000,9,  -999.00,9,   -999.0,9,-999.000,9,   -999.0,9,   -999,  -999.0,-999.000,-999.0000,-999.000,  -999.0,-999.000, 13.2270,-999.000
    49RY9407_1,   P09,    23,  2,     20,    225,2,19940713,0749, 28.9938, 136.9857, 4570,    603.1,  10.4570,  34.2957,2,  34.2923,2,    174.0,2,    172.1,2,    29.32,2,    19.16,2,     0.00,2,     1.36,2, -999.000,9, -999.000,9, -999.000,9,-999.0000,9,  -999.00,9,   -999.0,9,-999.000,9,   -999.0,9,   -999,  -999.0,-999.000,-999.0000,-999.000,  -999.0,-999.000, 10.3842,-999.000
    49RY9407_1,   P09,    23,  2,     21,    226,2,19940713,0749, 28.9938, 136.9857, 4570,    603.1,  10.4570,  34.2957,2,  34.2945,2,    174.0,2,    172.6,2,    29.22,2,    19.19,2,     0.00,2,     1.36,2, -999.000,9, -999.000,9, -999.000,9,-999.0000,9,  -999.00,9,   -999.0,9,-999.000,9,   -999.0,9,   -999,  -999.0,-999.000,-999.0000,-999.000,  -999.0,-999.000, 10.3842,-999.000
    49RY9407_1,   P09,    23,  2,     19,    224,2,19940713,0749, 28.9938, 136.9857, 4570,    704.2,   7.8419,  34.1462,2,  34.1401,2,    156.3,2,    152.7,2,    47.52,2,    25.79,2,     0.00,2,     1.85,2, -999.000,9, -999.000,9, -999.000,9,-999.0000,9,  -999.00,9,   -999.0,9,-999.000,9,   -999.0,9,   -999,  -999.0,-999.000,-999.0000,-999.000,  -999.0,-999.000,  7.7700,-999.000
    49RY9407_1,   P09,    23,  2,     18,    223,2,19940713,0749, 28.9938, 136.9857, 4570,    804.5,   5.8236,  34.1246,2,  34.1199,2,    118.4,3,    111.6,2,    73.59,2,    33.09,2,     0.00,2,     2.39,2, -999.000,9, -999.000,9, -999.000,9,-999.0000,9,  -999.00,9,   -999.0,9,-999.000,9,   -999.0,9,   -999,  -999.0,-999.000,-999.0000,-999.000,  -999.0,-999.000,  5.7531,-999.000
    49RY9407_1,   P09,    23,  2,     17,    222,2,19940713,0749, 28.9938, 136.9857, 4570,    906.9,   5.0274,  34.2337,2,  34.2369,2,     88.2,3,     80.0,6,    93.59,2,    36.97,2,     0.00,2,     2.67,2, -999.000,9, -999.000,9, -999.000,9,-999.0000,9,  -999.00,9,   -999.0,9,-999.000,9,   -999.0,9,   -999,  -999.0,-999.000,-999.0000,-999.000,  -999.0,-999.000,  4.9526,-999.000
    49RY9407_1,   P09,    23,  2,     16,    221,2,19940713,0749, 28.9938, 136.9857, 4570,   1007.6,   4.3955,  34.2840,2,  34.2862,2,     70.2,2,     68.2,2,   106.17,6,    39.21,6,     0.00,6,     2.81,6, -999.000,9, -999.000,9, -999.000,9,-999.0000,9,  -999.00,9,   -999.0,9,-999.000,9,   -999.0,9,   -999,  -999.0,   4.392,-999.0000,-999.000,  1007.0,-999.000,  4.3165,-999.000
    49RY9407_1,   P09,    23,  2,     15,    220,2,19940713,0749, 28.9938, 136.9857, 4570,   1260.1,   3.2448,  34.4261,2,  34.4255,2,     60.4,2,     61.1,2,   131.49,2,    41.48,2,     0.00,2,     2.96,2, -999.000,9, -999.000,9, -999.000,9,-999.0000,9,  -999.00,9,   -999.0,9,-999.000,9,   -999.0,9,   -999,  -999.0,-999.000,-999.0000,-999.000,  -999.0,-999.000,  3.1545,-999.000
    49RY9407_1,   P09,    23,  2,     14,    219,2,19940713,0749, 28.9938, 136.9857, 4570,   1512.2,   2.6176,  34.5164,2,  34.5167,2,     75.2,2,     77.7,2,   141.45,2,    40.84,2,     0.00,2,     2.90,2, -999.000,9, -999.000,9, -999.000,9,-999.0000,9,  -999.00,9,   -999.0,9,-999.000,9,   -999.0,9,   -999,  -999.0,-999.000,-999.0000,-999.000,  -999.0,-999.000,  2.5134,-999.000
    49RY9407_1,   P09,    23,  2,     13,    218,4,19940713,0749, 28.9938, 136.9857, 4570,   1765.9,   2.2940,  34.5622,2,  34.5629,2,     91.6,2,     92.3,6,   144.63,2,    40.13,2,     0.00,2,     2.84,2, -999.000,9, -999.000,9, -999.000,9,-999.0000,9,  -999.00,9,   -999.0,9,-999.000,9,   -999.0,9,   -999,  -999.0,-999.000,-999.0000,-999.000,  -999.0,-999.000,  2.1730,-999.000
    49RY9407_1,   P09,    23,  2,     12,    217,2,19940713,0749, 28.9938, 136.9857, 4570,   2274.3,   1.8578,  34.6268,2,  34.6254,2,    122.9,2,    122.8,2,   145.10,2,    38.62,2,     0.00,2,     2.70,2, -999.000,9, -999.000,9, -999.000,9,-999.0000,9,  -999.00,9,   -999.0,9,-999.000,9,   -999.0,9,   -999,  -999.0,-999.000,-999.0000,-999.000,  -999.0,-999.000,  1.7003,-999.000
    49RY9407_1,   P09,    23,  2,     11,    216,2,19940713,0749, 28.9938, 136.9857, 4570,   2530.3,   1.7480,  34.6421,2,  34.6417,2,    131.0,2,    129.2,2,   144.87,6,    37.96,6,     0.00,6,     2.65,6, -999.000,9, -999.000,9, -999.000,9,-999.0000,9,  -999.00,9,   -999.0,9,-999.000,9,   -999.0,9,   -999,  -999.0,-999.000,-999.0000,-999.000,  -999.0,-999.000,  1.5698,-999.000
    49RY9407_1,   P09,    23,  2,     10,    214,2,19940713,0749, 28.9938, 136.9857, 4570,   2783.4,   1.6526,  34.6556,2,  34.6549,2,    138.5,2,    139.1,2,   144.44,2,    37.73,2,     0.00,2,     2.62,2, -999.000,9, -999.000,9, -999.000,9,-999.0000,9,  -999.00,9,   -999.0,9,-999.000,9,   -999.0,9,   -999,  -999.0,-999.000,-999.0000,-999.000,  -999.0,-999.000,  1.4530,-999.000
    49RY9407_1,   P09,    23,  2,      9,    213,2,19940713,0749, 28.9938, 136.9857, 4570,   3040.1,   1.5900,  34.6653,2,  34.6642,2,    145.0,2,    146.0,2,   144.19,2,    37.25,2,     0.00,2,     2.59,2, -999.000,9, -999.000,9, -999.000,9,-999.0000,9,  -999.00,9,   -999.0,9,-999.000,9,   -999.0,9,   -999,  -999.0,   1.587,-999.0000,-999.000,  3035.0,-999.000,  1.3674,-999.000
    49RY9407_1,   P09,    23,  2,      8,    212,2,19940713,0749, 28.9938, 136.9857, 4570,   3295.3,   1.5381,  34.6731,2,  34.6721,2,    150.2,2,    149.9,2,   143.42,2,    36.85,2,     0.00,2,     2.56,2, -999.000,9, -999.000,9, -999.000,9,-999.0000,9,  -999.00,9,   -999.0,9,-999.000,9,   -999.0,9,   -999,  -999.0,-999.000,-999.0000,-999.000,  -999.0,-999.000,  1.2917,-999.000
    49RY9407_1,   P09,    23,  2,      7,    210,2,19940713,0749, 28.9938, 136.9857, 4570,   3551.0,   1.5199,  34.6768,2,  34.6740,3,    152.9,2,    153.2,2,   143.18,2,    36.64,2,     0.00,2,     2.54,2, -999.000,9, -999.000,9, -999.000,9,-999.0000,9,  -999.00,9,   -999.0,9,-999.000,9,   -999.0,9,   -999,  -999.0,-999.000,-999.0000,-999.000,  -999.0,-999.000,  1.2480,-999.000
    49RY9407_1,   P09,    23,  2,      5,    229,4,19940713,0749, 28.9938, 136.9857, 4570,   3807.3,   1.5222,  34.6799,2,  34.6798,2,    156.6,2,    155.1,2,   142.72,2,    36.48,2,     0.00,2,     2.54,2, -999.000,9, -999.000,9, -999.000,9,-999.0000,9,  -999.00,9,   -999.0,9,-999.000,9,   -999.0,9,   -999,  -999.0,   1.521,-999.0000,-999.000,  3806.0,-999.000,  1.2235,-999.000
    49RY9407_1,   P09,    23,  2,      6,    209,2,19940713,0749, 28.9938, 136.9857, 4570,   3807.3,   1.5222,  34.6799,2,  34.6802,2,    156.6,2,    155.1,2,   142.69,2,    36.60,2,     0.00,2,     2.53,2, -999.000,9, -999.000,9, -999.000,9,-999.0000,9,  -999.00,9,   -999.0,9,-999.000,9,   -999.0,9,   -999,  -999.0,-999.000,-999.0000,-999.000,  -999.0,-999.000,  1.2235,-999.000
    49RY9407_1,   P09,    23,  2,      4,    206,2,19940713,0749, 28.9938, 136.9857, 4570,   4321.4,   1.5587,  34.6810,2,  34.6811,2,    157.3,2,    155.3,2,   142.75,2,    36.52,2,     0.00,2,     2.53,2, -999.000,9, -999.000,9, -999.000,9,-999.0000,9,  -999.00,9,   -999.0,9,-999.000,9,   -999.0,9,   -999,  -999.0,-999.000,-999.0000,-999.000,  -999.0,-999.000,  1.2024,-999.000
    49RY9407_1,   P09,    23,  2,      3,    205,2,19940713,0749, 28.9938, 136.9857, 4570,   4577.0,   1.5811,  34.6832,2,  34.6815,2,    157.0,2,    155.8,2,   142.11,2,    36.40,2,     0.00,2,     2.52,2, -999.000,9, -999.000,9, -999.000,9,-999.0000,9,  -999.00,9,   -999.0,9,-999.000,9,   -999.0,9,   -999,  -999.0,-999.000,-999.0000,-999.000,  -999.0,-999.000,  1.1947,-999.000
    49RY9407_1,   P09,    23,  2,      2,    204,2,19940713,0749, 28.9938, 136.9857, 4570,   4650.7,   1.5898,  34.6826,2,  34.6827,2,    155.7,2,    158.5,6,   142.01,6,    36.32,6,     0.00,6,     2.51,6, -999.000,9, -999.000,9, -999.000,9,-999.0000,9,  -999.00,9,   -999.0,9,-999.000,9,   -999.0,9,   -999,  -999.0,   1.588,-999.0000,-999.000,  4649.0,-999.000,  1.1944,-999.000
    49RY9407_1,   P09,    24,  1,      0,      0,2,19940713,1209, 28.5038, 136.9982, 4525,      0.0,  29.1760,  34.4897,2,-999.0000,9,    137.0,4,    200.1,6,     1.46,6,     0.03,6,     0.00,6,     0.00,6, -999.000,9, -999.000,9, -999.000,9,-999.0000,9,  -999.00,9,   -999.0,9,-999.000,9,   -999.0,9,   -999,  -999.0,-999.000,-999.0000,-999.000,  -999.0,-999.000, 29.1763,-999.000
    49RY9407_1,   P09,    24,  1,     10,    214,2,19940713,1209, 28.5038, 136.9982, 4525,      9.1,  28.1149,  34.4506,2,  34.4739,2,    208.3,3,    204.9,2,     1.43,2,     0.01,2,     0.00,2,     0.00,2, -999.000,9, -999.000,9, -999.000,9,-999.0000,9,  -999.00,9,   -999.0,9,-999.000,9,   -999.0,9,   -999,  -999.0,-999.000,-999.0000,-999.000,  -999.0,-999.000, 28.1128,-999.000
    49RY9407_1,   P09,    24,  1,      9,    213,2,19940713,1209, 28.5038, 136.9982, 4525,     24.4,  23.9335,  34.6521,2,  34.6331,2,    227.9,3,    221.4,2,     1.47,2,     0.02,2,     0.00,2,     0.00,2, -999.000,9, -999.000,9, -999.000,9,-999.0000,9,  -999.00,9,   -999.0,9,-999.000,9,   -999.0,9,   -999,  -999.0,  24.140,-999.0000,-999.000,    31.0,-999.000, 23.9284,-999.000
    49RY9407_1,   P09,    24,  1,      8,    212,2,19940713,1209, 28.5038, 136.9982, 4525,     49.6,  21.3508,  34.9103,2,  34.9004,2,    245.7,4,    229.8,2,     1.72,2,     0.09,2,     0.00,2,     0.01,2, -999.000,9, -999.000,9, -999.000,9,-999.0000,9,  -999.00,9,   -999.0,9,-999.000,9,   -999.0,9,   -999,  -999.0,-999.000,-999.0000,-999.000,  -999.0,-999.000, 21.3412,-999.000
    49RY9407_1,   P09,    24,  1,      7,    210,2,19940713,1209, 28.5038, 136.9982, 4525,     75.9,  20.1624,  34.8977,2,  34.8998,2,    232.6,3,    222.5,6,     2.00,2,     0.03,2,     0.00,2,     0.03,2, -999.000,9, -999.000,9, -999.000,9,-999.0000,9,  -999.00,9,   -999.0,9,-999.000,9,   -999.0,9,   -999,  -999.0,-999.000,-999.0000,-999.000,  -999.0,-999.000, 20.1484,-999.000
    49RY9407_1,   P09,    24,  1,      6,    209,2,19940713,1209, 28.5038, 136.9982, 4525,    100.8,  19.5025,  34.9101,2,  34.9065,2,    225.2,3,    212.4,2,     2.33,2,     1.59,2,     0.04,2,     0.12,2, -999.000,9, -999.000,9, -999.000,9,-999.0000,9,  -999.00,9,   -999.0,9,-999.000,9,   -999.0,9,   -999,  -999.0,-999.000,-999.0000,-999.000,  -999.0,-999.000, 19.4842,-999.000
    49RY9407_1,   P09,    24,  1,      5,    229,2,19940713,1209, 28.5038, 136.9982, 4525,    124.9,  19.0233,  34.8841,2,  34.8836,2,    219.0,3,    208.1,2,     2.93,2,     2.47,2,     0.03,2,     0.18,2, -999.000,9, -999.000,9, -999.000,9,-999.0000,9,  -999.00,9,   -999.0,9,-999.000,9,   -999.0,9,   -999,  -999.0,  19.035,-999.0000,-999.000,   122.0,-999.000, 19.0010,-999.000
    49RY9407_1,   P09,    24,  1,      4,    206,2,19940713,1209, 28.5038, 136.9982, 4525,    151.4,  18.6952,  34.8828,2,  34.8816,2,    218.3,3,    208.9,2,     2.94,2,     2.65,2,     0.02,2,     0.19,2, -999.000,9, -999.000,9, -999.000,9,-999.0000,9,  -999.00,9,   -999.0,9,-999.000,9,   -999.0,9,   -999,  -999.0,-999.000,-999.0000,-999.000,  -999.0,-999.000, 18.6686,-999.000
    49RY9407_1,   P09,    24,  1,      3,    205,2,19940713,1209, 28.5038, 136.9982, 4525,    202.3,  18.2394,  34.8933,2,  34.8868,2,    222.0,3,    213.7,2,     2.94,6,     2.64,6,     0.01,6,     0.18,6, -999.000,9, -999.000,9, -999.000,9,-999.0000,9,  -999.00,9,   -999.0,9,-999.000,9,   -999.0,9,   -999,  -999.0,-999.000,-999.0000,-999.000,  -999.0,-999.000, 18.2044,-999.000