BOTTLE,20020306WHPSIOdm
EXPOCODE,SECT_ID,STNNBR,CASTNO,SAMPNO,BTLNBR,BTLNBR_FLAG_W,DATE,TIME,LATITUDE,LONGITUDE,DEPTH,CTDPRS,CTDTMP,CTDSAL,CTDSAL_FLAG_W,SALNTY,SALNTY_FLAG_W,CTDOXY,CTDOXY_FLAG_W,OXYGEN,OXYGEN_FLAG_W,SILCAT,SILCAT_FLAG_W,NITRAT,NITRAT_FLAG_W,NITRIT,NITRIT_FLAG_W,PHSPHT,PHSPHT_FLAG_W,CFC-11,CFC-11_FLAG_W,CFC-12,CFC-12_FLAG_W,TRITUM,TRITUM_FLAG_W,HELIUM,HELIUM_FLAG_W,DELHE3,DELHE3_FLAG_W,DELC14,DELC14_FLAG_W,NEON,NEON_FLAG_W,TCARBN,TCARBN_FLAG_W,CTDRAW,C14ERR,REVTMP,HELIER,DELHER,REVPRS,NEONER,THETA,TRITER
,,,,,,,,,,,,DBAR,ITS-90,PSS-78,,PSS-78,,UMOL/KG,,UMOL/KG,,UMOL/KG,,UMOL/KG,,UMOL/KG,,UMOL/KG,,PMOL/KG,,PMOL/KG,,TU,,NMOL/KG,,PERCNT,,/MILLE,,NMOL/KG,,UMOL/KG,,,/MILLE,ITS-90,NMOL/KG,PERCNT,DBAR,NMOL/KG,DEG C,TU
    49RY9407_1,   P09,    19,  2,     23,    228,4,19940712,0541, 30.6590, 137.0248, 4190,    299.9,  17.6870,  34.7933,2,  34.7951,2,    193.4,3,    200.3,2,     5.21,2,     5.30,2,     0.01,2,     0.36,2, -999.000,9, -999.000,9, -999.000,9,-999.0000,9,  -999.00,9,   -999.0,9,-999.000,9,   -999.0,9,   -999,  -999.0,-999.000,-999.0000,-999.000,  -999.0,-999.000, 17.6361,-999.000
    49RY9407_1,   P09,    19,  2,     24,    230,2,19940712,0541, 30.6590, 137.0248, 4190,    299.9,  17.6870,  34.7933,2,  34.7949,2,    193.4,3,    198.2,2,     5.25,2,     5.27,2,     0.01,2,     0.36,2, -999.000,9, -999.000,9, -999.000,9,-999.0000,9,  -999.00,9,   -999.0,9,-999.000,9,   -999.0,9,   -999,  -999.0,-999.000,-999.0000,-999.000,  -999.0,-999.000, 17.6361,-999.000
    49RY9407_1,   P09,    19,  2,     22,    227,2,19940712,0541, 30.6590, 137.0248, 4190,    502.5,  14.1491,  34.5552,2,  34.5562,2,    179.1,3,    186.1,2,    13.86,6,    11.97,6,     0.01,6,     0.82,6, -999.000,9, -999.000,9, -999.000,9,-999.0000,9,  -999.00,9,   -999.0,9,-999.000,9,   -999.0,9,   -999,  -999.0,-999.000,-999.0000,-999.000,  -999.0,-999.000, 14.0755,-999.000
    49RY9407_1,   P09,    19,  2,     20,    225,2,19940712,0541, 30.6590, 137.0248, 4190,    605.5,  10.7175,  34.3856,2,  34.3927,2,    163.6,3,    150.6,2,    36.50,2,    20.84,2,     0.00,2,     1.48,2, -999.000,9, -999.000,9, -999.000,9,-999.0000,9,  -999.00,9,   -999.0,9,-999.000,9,   -999.0,9,   -999,  -999.0,-999.000,-999.0000,-999.000,  -999.0,-999.000, 10.6432,-999.000
    49RY9407_1,   P09,    19,  2,     21,    226,2,19940712,0541, 30.6590, 137.0248, 4190,    605.5,  10.7175,  34.3856,2,  34.3942,2,    163.6,3,    150.6,6,    36.60,2,    20.81,2,     0.00,2,     1.48,2, -999.000,9, -999.000,9, -999.000,9,-999.0000,9,  -999.00,9,   -999.0,9,-999.000,9,   -999.0,9,   -999,  -999.0,-999.000,-999.0000,-999.000,  -999.0,-999.000, 10.6432,-999.000
    49RY9407_1,   P09,    19,  2,     19,    224,2,19940712,0541, 30.6590, 137.0248, 4190,    705.1,   8.3049,  34.2346,2,  34.2536,3,    141.0,2,    136.5,2,    51.30,2,    26.70,2,     0.00,2,     1.91,2, -999.000,9, -999.000,9, -999.000,9,-999.0000,9,  -999.00,9,   -999.0,9,-999.000,9,   -999.0,9,   -999,  -999.0,-999.000,-999.0000,-999.000,  -999.0,-999.000,  8.2305,-999.000
    49RY9407_1,   P09,    19,  2,     18,    223,2,19940712,0541, 30.6590, 137.0248, 4190,    806.1,   6.3712,  34.2050,2,  34.2052,2,    116.3,3,    106.1,6,    72.06,2,    32.57,2,     0.00,2,     2.35,2, -999.000,9, -999.000,9, -999.000,9,-999.0000,9,  -999.00,9,   -999.0,9,-999.000,9,   -999.0,9,   -999,  -999.0,-999.000,-999.0000,-999.000,  -999.0,-999.000,  6.2971,-999.000
    49RY9407_1,   P09,    19,  2,     17,    222,2,19940712,0541, 30.6590, 137.0248, 4190,    907.2,   5.1789,  34.2575,2,  34.2589,2,     88.5,2,     83.6,2,    91.98,2,    36.65,2,     0.00,2,     2.63,2, -999.000,9, -999.000,9, -999.000,9,-999.0000,9,  -999.00,9,   -999.0,9,-999.000,9,   -999.0,9,   -999,  -999.0,-999.000,-999.0000,-999.000,  -999.0,-999.000,  5.1030,-999.000
    49RY9407_1,   P09,    19,  2,     16,    221,2,19940712,0541, 30.6590, 137.0248, 4190,   1007.9,   4.3464,  34.3266,2,  34.3264,2,     72.4,2,     69.1,2,   107.75,6,    38.95,6,     0.00,6,     2.80,6, -999.000,9, -999.000,9, -999.000,9,-999.0000,9,  -999.00,9,   -999.0,9,-999.000,9,   -999.0,9,   -999,  -999.0,   4.342,-999.0000,-999.000,  1008.0,-999.000,  4.2676,-999.000
    49RY9407_1,   P09,    19,  2,     15,    220,2,19940712,0541, 30.6590, 137.0248, 4190,   1262.0,   3.1642,  34.4528,2,  34.4509,2,     71.2,2,     72.2,2,   130.61,2,    40.46,2,     0.00,2,     2.90,2, -999.000,9, -999.000,9, -999.000,9,-999.0000,9,  -999.00,9,   -999.0,9,-999.000,9,   -999.0,9,   -999,  -999.0,-999.000,-999.0000,-999.000,  -999.0,-999.000,  3.0744,-999.000
    49RY9407_1,   P09,    19,  2,     14,    219,2,19940712,0541, 30.6590, 137.0248, 4190,   1514.5,   2.5897,  34.5240,2,  34.5245,2,     85.1,2,     85.9,2,   139.64,2,    40.27,2,     0.00,2,     2.86,2, -999.000,9, -999.000,9, -999.000,9,-999.0000,9,  -999.00,9,   -999.0,9,-999.000,9,   -999.0,9,   -999,  -999.0,-999.000,-999.0000,-999.000,  -999.0,-999.000,  2.4856,-999.000
    49RY9407_1,   P09,    19,  2,     13,    218,4,19940712,0541, 30.6590, 137.0248, 4190,   1768.8,   2.2380,  34.5711,2,  34.5708,2,    100.4,2,     97.7,2,   143.67,2,    39.68,2,     0.01,2,     2.81,2, -999.000,9, -999.000,9, -999.000,9,-999.0000,9,  -999.00,9,   -999.0,9,-999.000,9,   -999.0,9,   -999,  -999.0,-999.000,-999.0000,-999.000,  -999.0,-999.000,  2.1175,-999.000
    49RY9407_1,   P09,    19,  2,     11,    216,4,19940712,0541, 30.6590, 137.0248, 4190,   2274.9,   1.8313,  34.6271,2,  34.6262,2,    124.2,2,    122.2,2,   144.43,2,    38.28,2,     0.00,2,     2.68,2, -999.000,9, -999.000,9, -999.000,9,-999.0000,9,  -999.00,9,   -999.0,9,-999.000,9,   -999.0,9,   -999,  -999.0,-999.000,-999.0000,-999.000,  -999.0,-999.000,  1.6741,-999.000
    49RY9407_1,   P09,    19,  2,     12,    217,2,19940712,0541, 30.6590, 137.0248, 4190,   2274.9,   1.8313,  34.6271,2,  34.6274,2,    124.2,2,    124.1,2,   144.31,2,    38.32,2,     0.00,2,     2.69,2, -999.000,9, -999.000,9, -999.000,9,-999.0000,9,  -999.00,9,   -999.0,9,-999.000,9,   -999.0,9,   -999,  -999.0,-999.000,-999.0000,-999.000,  -999.0,-999.000,  1.6741,-999.000
    49RY9407_1,   P09,    19,  2,     10,    214,2,19940712,0541, 30.6590, 137.0248, 4190,   2786.3,   1.6046,  34.6608,2,  34.6599,2,    142.4,2,    140.6,2,   143.46,2,    37.16,2,     0.00,2,     2.59,2, -999.000,9, -999.000,9, -999.000,9,-999.0000,9,  -999.00,9,   -999.0,9,-999.000,9,   -999.0,9,   -999,  -999.0,-999.000,-999.0000,-999.000,  -999.0,-999.000,  1.4057,-999.000
    49RY9407_1,   P09,    19,  2,      9,    213,2,19940712,0541, 30.6590, 137.0248, 4190,   3040.5,   1.5466,  34.6684,2,  34.6670,2,    147.6,2,    148.3,6,   142.90,2,    36.83,2,     0.00,2,     2.56,2, -999.000,9, -999.000,9, -999.000,9,-999.0000,9,  -999.00,9,   -999.0,9,-999.000,9,   -999.0,9,   -999,  -999.0,   1.543,-999.0000,-999.000,  3037.0,-999.000,  1.3249,-999.000
    49RY9407_1,   P09,    19,  2,      7,    210,2,19940712,0541, 30.6590, 137.0248, 4190,   3298.3,   1.5138,  34.6744,2,  34.6742,2,    152.5,2,    155.6,3,   142.44,2,    36.57,2,     0.00,2,     2.54,2, -999.000,9, -999.000,9, -999.000,9,-999.0000,9,  -999.00,9,   -999.0,9,-999.000,9,   -999.0,9,   -999,  -999.0,-999.000,-999.0000,-999.000,  -999.0,-999.000,  1.2677,-999.000
    49RY9407_1,   P09,    19,  2,      8,    212,2,19940712,0541, 30.6590, 137.0248, 4190,   3298.3,   1.5138,  34.6744,2,  34.6689,3,    152.5,2,    153.2,6,   142.42,2,    36.59,2,     0.00,2,     2.54,2, -999.000,9, -999.000,9, -999.000,9,-999.0000,9,  -999.00,9,   -999.0,9,-999.000,9,   -999.0,9,   -999,  -999.0,-999.000,-999.0000,-999.000,  -999.0,-999.000,  1.2677,-999.000
    49RY9407_1,   P09,    19,  2,      6,    209,2,19940712,0541, 30.6590, 137.0248, 4190,   3553.6,   1.5114,  34.6781,2,  34.6778,2,    154.2,2,    155.3,2,   141.87,2,    36.44,2,     0.00,2,     2.53,2, -999.000,9, -999.000,9, -999.000,9,-999.0000,9,  -999.00,9,   -999.0,9,-999.000,9,   -999.0,9,   -999,  -999.0,-999.000,-999.0000,-999.000,  -999.0,-999.000,  1.2395,-999.000
    49RY9407_1,   P09,    19,  2,      5,    207,2,19940712,0541, 30.6590, 137.0248, 4190,   3806.3,   1.5224,  34.6799,2,  34.6802,2,    154.6,2,    155.4,2,   141.75,2,    36.45,2,     0.00,2,     2.52,2, -999.000,9, -999.000,9, -999.000,9,-999.0000,9,  -999.00,9,   -999.0,9,-999.000,9,   -999.0,9,   -999,  -999.0,-999.000,-999.0000,-999.000,  -999.0,-999.000,  1.2237,-999.000
    49RY9407_1,   P09,    19,  2,      4,    206,4,19940712,0541, 30.6590, 137.0248, 4190,   4065.1,   1.5377,  34.6820,2,  34.6813,2,    152.5,2,    156.2,2,   141.17,6,    36.35,6,     0.00,6,     2.50,6, -999.000,9, -999.000,9, -999.000,9,-999.0000,9,  -999.00,9,   -999.0,9,-999.000,9,   -999.0,9,   -999,  -999.0,-999.000,-999.0000,-999.000,  -999.0,-999.000,  1.2106,-999.000
    49RY9407_1,   P09,    20,  1,      0,      0,2,19940712,0908, 30.3420, 137.0027, 4420,      0.0,  28.6583,  34.4272,2,-999.0000,9,    198.9,2,    200.7,2,     1.41,2,     0.04,2,     0.00,2,     0.00,2, -999.000,9, -999.000,9, -999.000,9,-999.0000,9,  -999.00,9,   -999.0,9,-999.000,9,   -999.0,9,   -999,  -999.0,-999.000,-999.0000,-999.000,  -999.0,-999.000, 28.6587,-999.000
    49RY9407_1,   P09,    20,  1,      9,    213,2,19940712,0908, 30.3420, 137.0027, 4420,     10.5,  27.7741,  34.3598,2,  34.4104,2,    207.1,2,    203.6,2,     1.42,6,     0.05,6,     0.00,6,     0.00,6, -999.000,9, -999.000,9, -999.000,9,-999.0000,9,  -999.00,9,   -999.0,9,-999.000,9,   -999.0,9,   -999,  -999.0,  28.050,-999.0000,-999.000,    16.0,-999.000, 27.7716,-999.000
    49RY9407_1,   P09,    20,  1,      8,    212,2,19940712,0908, 30.3420, 137.0027, 4420,     24.3,  25.1865,  34.5343,2,  34.5259,2,    219.3,3,    213.8,6,     1.52,2,     0.00,2,     0.00,2,     0.00,2, -999.000,9, -999.000,9, -999.000,9,-999.0000,9,  -999.00,9,   -999.0,9,-999.000,9,   -999.0,9,   -999,  -999.0,-999.000,-999.0000,-999.000,  -999.0,-999.000, 25.1812,-999.000
    49RY9407_1,   P09,    20,  1,      7,    210,2,19940712,0908, 30.3420, 137.0027, 4420,     50.1,  22.9259,  34.8111,2,  34.8047,2,    218.5,2,    216.9,2,     1.66,2,     0.05,2,     0.00,2,     0.02,2, -999.000,9, -999.000,9, -999.000,9,-999.0000,9,  -999.00,9,   -999.0,9,-999.000,9,   -999.0,9,   -999,  -999.0,-999.000,-999.0000,-999.000,  -999.0,-999.000, 22.9158,-999.000
    49RY9407_1,   P09,    20,  1,      6,    209,2,19940712,0908, 30.3420, 137.0027, 4420,     74.9,  21.1859,  34.8889,2,  34.8810,2,    218.3,2,    215.2,2,     2.02,2,     0.34,2,     0.11,2,     0.05,2, -999.000,9, -999.000,9, -999.000,9,-999.0000,9,  -999.00,9,   -999.0,9,-999.000,9,   -999.0,9,   -999,  -999.0,-999.000,-999.0000,-999.000,  -999.0,-999.000, 21.1715,-999.000
    49RY9407_1,   P09,    20,  1,      5,    207,2,19940712,0908, 30.3420, 137.0027, 4420,    100.6,  20.3806,  34.9421,2,  34.9382,2,    218.8,2,    216.6,2,     2.03,2,     0.64,2,     0.08,2,     0.06,2, -999.000,9, -999.000,9, -999.000,9,-999.0000,9,  -999.00,9,   -999.0,9,-999.000,9,   -999.0,9,   -999,  -999.0,-999.000,-999.0000,-999.000,  -999.0,-999.000, 20.3618,-999.000
    49RY9407_1,   P09,    20,  1,      4,    206,2,19940712,0908, 30.3420, 137.0027, 4420,    124.7,  20.0065,  34.9365,2,  34.9343,2,    214.9,2,    215.4,2,     2.10,6,     1.04,6,     0.03,6,     0.08,6, -999.000,9, -999.000,9, -999.000,9,-999.0000,9,  -999.00,9,   -999.0,9,-999.000,9,   -999.0,9,   -999,  -999.0,-999.000,-999.0000,-999.000,  -999.0,-999.000, 19.9835,-999.000
    49RY9407_1,   P09,    20,  1,      3,    205,2,19940712,0908, 30.3420, 137.0027, 4420,    151.5,  19.5171,  34.9091,2,  34.9313,2,    215.6,2,    215.9,2,     2.34,2,     1.48,2,     0.02,2,     0.11,2, -999.000,9, -999.000,9, -999.000,9,-999.0000,9,  -999.00,9,   -999.0,9,-999.000,9,   -999.0,9,   -999,  -999.0,-999.000,-999.0000,-999.000,  -999.0,-999.000, 19.4896,-999.000
    49RY9407_1,   P09,    20,  1,      2,    204,2,19940712,0908, 30.3420, 137.0027, 4420,    202.0,  18.7041,  34.9002,2,  34.8994,2,    214.2,2,    211.7,2,     2.82,2,     2.44,2,     0.01,2,     0.18,2, -999.000,9, -999.000,9, -999.000,9,-999.0000,9,  -999.00,9,   -999.0,9,-999.000,9,   -999.0,9,   -999,  -999.0,  18.715,-999.0000,-999.000,   204.0,-999.000, 18.6685,-999.000