BOTTLE,20020306WHPSIOdm
EXPOCODE,SECT_ID,STNNBR,CASTNO,SAMPNO,BTLNBR,BTLNBR_FLAG_W,DATE,TIME,LATITUDE,LONGITUDE,DEPTH,CTDPRS,CTDTMP,CTDSAL,CTDSAL_FLAG_W,SALNTY,SALNTY_FLAG_W,CTDOXY,CTDOXY_FLAG_W,OXYGEN,OXYGEN_FLAG_W,SILCAT,SILCAT_FLAG_W,NITRAT,NITRAT_FLAG_W,NITRIT,NITRIT_FLAG_W,PHSPHT,PHSPHT_FLAG_W,CFC-11,CFC-11_FLAG_W,CFC-12,CFC-12_FLAG_W,TRITUM,TRITUM_FLAG_W,HELIUM,HELIUM_FLAG_W,DELHE3,DELHE3_FLAG_W,DELC14,DELC14_FLAG_W,NEON,NEON_FLAG_W,TCARBN,TCARBN_FLAG_W,CTDRAW,C14ERR,REVTMP,HELIER,DELHER,REVPRS,NEONER,THETA,TRITER
,,,,,,,,,,,,DBAR,ITS-90,PSS-78,,PSS-78,,UMOL/KG,,UMOL/KG,,UMOL/KG,,UMOL/KG,,UMOL/KG,,UMOL/KG,,PMOL/KG,,PMOL/KG,,TU,,NMOL/KG,,PERCNT,,/MILLE,,NMOL/KG,,UMOL/KG,,,/MILLE,ITS-90,NMOL/KG,PERCNT,DBAR,NMOL/KG,DEG C,TU
    49RY9407_2,   P09,    85,  2,      6,    209,2,19940812,1241,  2.0308, 142.0528, 2610,      2.7,  28.8715,  33.8911,2,  33.8999,2,   -999.0,9,   -999.0,9,  -999.00,9,  -999.00,9,  -999.00,9,  -999.00,9,    1.838,2,    1.204,3,    1.480,2,   1.6712,2,    -0.94,2,   -999.0,9,   6.525,2,   -999.0,9,   -999,  -999.0,-999.000,  0.0028,   0.290,  -999.0,   0.017, 28.8709,   0.041
    49RY9407_2,   P09,    85,  2,      5,    218,2,19940812,1241,  2.0308, 142.0528, 2610,     27.6,  28.8137,  34.2148,2,  34.2106,2,   -999.0,9,   -999.0,9,  -999.00,9,  -999.00,9,  -999.00,9,  -999.00,9,    1.842,2,    1.165,3,    1.255,2,   1.6407,2,    -0.75,2,   -999.0,9,   6.525,2,   -999.0,9,   -999,  -999.0,-999.000,  0.0230,   0.230,  -999.0,   0.044, 28.8071,   0.014
    49RY9407_2,   P09,    85,  2,      4,    206,2,19940812,1241,  2.0308, 142.0528, 2610,     52.9,  28.7622,  34.4891,2,  34.4837,2,   -999.0,9,   -999.0,9,  -999.00,9,  -999.00,9,  -999.00,9,  -999.00,9,    1.804,2,    1.215,3, -999.000,5,   1.6728,2,    -0.64,2,   -999.0,9,   6.555,2,   -999.0,9,   -999,  -999.0,-999.000,  0.0028,   0.290,  -999.0,   0.017, 28.7495,-999.000
    49RY9407_2,   P09,    85,  2,      3,    205,2,19940812,1241,  2.0308, 142.0528, 2610,     77.7,  27.3915,  34.6104,2,  34.5452,2,   -999.0,9,   -999.0,9,  -999.00,9,  -999.00,9,  -999.00,9,  -999.00,9,    1.866,2,    1.173,3,    1.275,2,   1.6612,2,    -0.38,2,   -999.0,9,   6.102,4,   -999.0,9,   -999,  -999.0,-999.000,  0.0028,   0.290,  -999.0,   0.015, 27.3735,   0.014
    49RY9407_2,   P09,    85,  2,      2,    216,2,19940812,1241,  2.0308, 142.0528, 2610,    103.1,  26.5239,  35.1626,2,  35.1660,2,   -999.0,9,   -999.0,9,  -999.00,9,  -999.00,9,  -999.00,9,  -999.00,9,    1.805,2,    1.141,3,    1.081,2,   1.6722,2,     0.40,2,   -999.0,9,   6.660,2,   -999.0,9,   -999,  -999.0,-999.000,  0.0029,   0.290,  -999.0,   0.017, 26.5005,   0.012
    49RY9407_2,   P09,    85,  2,      1,    201,2,19940812,1241,  2.0308, 142.0528, 2610,    152.7,  21.6836,  35.1999,2,  35.2025,2,   -999.0,9,   -999.0,9,  -999.00,9,  -999.00,9,  -999.00,9,  -999.00,9,    1.807,2,    1.091,3,    1.057,2,   1.8048,2,     1.47,2,   -999.0,9,   7.246,4,   -999.0,9,   -999,  -999.0,-999.000,  0.0031,   0.290,  -999.0,   0.018, 21.6537,   0.012
    49RY9407_2,   P09,    85,  2,     23,    228,2,19940812,1241,  2.0308, 142.0528, 2610,    203.9,  17.4096,  34.8889,2,  34.8912,2,   -999.0,9,   -999.0,9,  -999.00,9,  -999.00,9,  -999.00,9,  -999.00,9,    2.025,3,    1.169,3,    1.595,3,   1.7874,2,     2.74,2,   -999.0,9,   7.585,4,   -999.0,9,   -999,  -999.0,-999.000,  0.0030,   0.290,  -999.0,   0.019, 17.3754,   0.018
    49RY9407_2,   P09,    85,  2,     24,    222,2,19940812,1241,  2.0308, 142.0528, 2610,    204.5,  17.4323,  34.9080,2,  34.9013,2,   -999.0,9,   -999.0,9,  -999.00,9,  -999.00,9,  -999.00,9,  -999.00,9,    1.978,3,    1.231,3, -999.000,9,-999.0000,9,  -999.00,9,   -999.0,9,-999.000,9,   -999.0,9,   -999,  -999.0,-999.000,-999.0000,-999.000,  -999.0,-999.000, 17.3980,-999.000
    49RY9407_2,   P09,    85,  2,     22,    227,2,19940812,1241,  2.0308, 142.0528, 2610,    304.6,  11.0729,  34.8060,2,  34.8064,2,   -999.0,9,   -999.0,9,  -999.00,9,  -999.00,9,  -999.00,9,  -999.00,9,    0.794,2,    0.428,3,    0.357,2,-999.0000,5,  -999.00,5,   -999.0,9,-999.000,9,   -999.0,9,   -999,  -999.0,-999.000,-999.0000,-999.000,  -999.0,-999.000, 11.0351,   0.005
    49RY9407_2,   P09,    85,  2,     21,    226,2,19940812,1241,  2.0308, 142.0528, 2610,    404.8,   8.5070,  34.4966,2,  34.4966,2,   -999.0,9,   -999.0,9,  -999.00,9,  -999.00,9,  -999.00,9,  -999.00,9,    0.429,2,    0.216,3,    0.486,2,   1.7867,2,    10.33,2,   -999.0,9,   7.417,2,   -999.0,9,   -999,  -999.0,-999.000,  0.0030,   0.280,  -999.0,   0.019,  8.4643,   0.007
    49RY9407_2,   P09,    85,  2,     19,    215,2,19940812,1241,  2.0308, 142.0528, 2610,    506.3,   7.1986,  34.5524,2,  34.5519,2,   -999.0,9,   -999.0,9,  -999.00,9,  -999.00,9,  -999.00,9,  -999.00,9,    0.150,2,    0.072,3,    0.119,2,   1.7713,2,     8.36,2,   -999.0,9,   7.632,2,   -999.0,9,   -999,  -999.0,-999.000,  0.0079,   0.220,  -999.0,   0.052,  7.1497,   0.003
    49RY9407_2,   P09,    85,  2,     20,    203,2,19940812,1241,  2.0308, 142.0528, 2610,    506.3,   7.1986,  34.5524,2,  34.5527,2,   -999.0,9,   -999.0,9,  -999.00,9,  -999.00,9,  -999.00,9,  -999.00,9,    0.152,2,    0.146,4,    0.118,2,   1.7791,2,     8.75,2,   -999.0,9,   7.654,2,   -999.0,9,   -999,  -999.0,-999.000,  0.0078,   0.220,   506.0,   0.052,  7.1497,   0.003
    49RY9407_2,   P09,    85,  2,     18,    221,2,19940812,1241,  2.0308, 142.0528, 2610,    607.0,   6.2705,  34.5306,2,  34.5307,2,   -999.0,9,   -999.0,9,  -999.00,9,  -999.00,9,  -999.00,9,  -999.00,9,    0.091,2,    0.066,4,    0.052,2,   1.7958,2,    10.36,2,   -999.0,9,   7.757,2,   -999.0,9,   -999,  -999.0,-999.000,  0.0056,   0.280,   609.0,   0.020,  6.2158,   0.003
    49RY9407_2,   P09,    85,  2,     17,    219,2,19940812,1241,  2.0308, 142.0528, 2610,    707.9,   6.0294,  34.5349,2,  34.5348,2,   -999.0,9,   -999.0,9,  -999.00,9,  -999.00,9,  -999.00,9,  -999.00,9,    0.051,2,    0.119,4,    0.056,2,-999.0000,5,  -999.00,5,   -999.0,9,-999.000,9,   -999.0,9,   -999,  -999.0,-999.000,-999.0000,-999.000,  -999.0,-999.000,  5.9663,   0.003
    49RY9407_2,   P09,    85,  2,     16,    229,2,19940812,1241,  2.0308, 142.0528, 2610,    807.6,   5.3112,  34.5383,2,  34.5387,2,   -999.0,9,   -999.0,9,  -999.00,9,  -999.00,9,  -999.00,9,  -999.00,9,    0.030,2,    0.207,4,    0.032,2,   1.8216,2,    14.35,2,   -999.0,9,   7.713,2,   -999.0,9,   -999,  -999.0,   5.300,  0.0036,   0.180,   807.0,   0.057,  5.2431,   0.003
    49RY9407_2,   P09,    85,  2,     15,    217,2,19940812,1241,  2.0308, 142.0528, 2610,    909.9,   4.8131,  34.5476,2,  34.5492,2,   -999.0,9,   -999.0,9,  -999.00,9,  -999.00,9,  -999.00,9,  -999.00,9,    0.008,2,    0.025,4,    0.022,2,   1.7996,2,    16.29,2,   -999.0,9,   7.739,2,   -999.0,9,   -999,  -999.0,-999.000,  0.0030,   0.180,  -999.0,   0.017,  4.7391,   0.003
    49RY9407_2,   P09,    85,  2,     14,    204,2,19940812,1241,  2.0308, 142.0528, 2610,   1009.6,   4.2387,  34.5604,2,  34.5604,2,   -999.0,9,   -999.0,9,  -999.00,9,  -999.00,9,  -999.00,9,  -999.00,9,    0.005,2,    0.000,3,    0.031,2,   1.8394,2,    18.46,2,   -999.0,9,   7.744,2,   -999.0,9,   -999,  -999.0,   4.231,  0.0036,   0.180,  1010.0,   0.057,  4.1603,   0.003
    49RY9407_2,   P09,    85,  2,     13,    214,2,19940812,1241,  2.0308, 142.0528, 2610,   1262.5,   3.4097,  34.5853,2,  34.5873,2,   -999.0,9,   -999.0,9,  -999.00,9,  -999.00,9,  -999.00,9,  -999.00,9, -999.000,9, -999.000,9,    0.031,2,   1.8576,2,    20.44,2,   -999.0,9,   7.860,2,   -999.0,9,   -999,  -999.0,-999.000,  0.0030,   0.180,  1253.0,   0.017,  3.3172,   0.003
    49RY9407_2,   P09,    85,  2,     12,    213,4,19940812,1241,  2.0308, 142.0528, 2610,   1513.4,   2.8698,  34.6051,2,  34.6054,2,   -999.0,9,   -999.0,9,  -999.00,9,  -999.00,9,  -999.00,9,  -999.00,9,    0.003,2,    0.016,4, -999.000,9,-999.0000,9,  -999.00,9,   -999.0,9,-999.000,9,   -999.0,9,   -999,  -999.0,-999.000,-999.0000,-999.000,  1509.0,-999.000,  2.7623,-999.000
    49RY9407_2,   P09,    86,  1,      0,      0,2,19940812,1707,  1.7523, 142.0122, 2760,      0.0,  28.8464,  34.0112,2,-999.0000,9,   -999.0,9,    198.9,2,     1.41,2,     0.03,2,     0.00,2,     0.05,2, -999.000,9, -999.000,9, -999.000,9,-999.0000,9,  -999.00,9,   -999.0,9,-999.000,9,   -999.0,9,   -999,  -999.0,-999.000,-999.0000,-999.000,  -999.0,-999.000, 28.8467,-999.000
    49RY9407_2,   P09,    86,  1,     11,    225,2,19940812,1707,  1.7523, 142.0122, 2760,     12.1,  28.8781,  34.0975,2,  34.0618,2,   -999.0,9,    197.7,2,     1.46,6,     0.02,6,     0.00,6,     0.03,6, -999.000,9, -999.000,9, -999.000,9,-999.0000,9,  -999.00,9,   -999.0,9,-999.000,9,   -999.0,9,   -999,  -999.0,-999.000,-999.0000,-999.000,  -999.0,-999.000, 28.8752,-999.000
    49RY9407_2,   P09,    86,  1,     10,    224,2,19940812,1707,  1.7523, 142.0122, 2760,     27.4,  28.5986,  34.1909,2,  34.1948,2,   -999.0,9,    198.9,2,     1.32,2,     0.00,2,     0.00,2,     0.04,2, -999.000,9, -999.000,9, -999.000,9,-999.0000,9,  -999.00,9,   -999.0,9,-999.000,9,   -999.0,9,   -999,  -999.0,-999.000,-999.0000,-999.000,  -999.0,-999.000, 28.5920,-999.000
    49RY9407_2,   P09,    86,  1,      9,    223,2,19940812,1707,  1.7523, 142.0122, 2760,     52.2,  28.6151,  34.5707,2,  34.5653,2,   -999.0,9,    192.8,2,     1.45,2,     0.11,2,     0.01,2,     0.09,2, -999.000,9, -999.000,9, -999.000,9,-999.0000,9,  -999.00,9,   -999.0,9,-999.000,9,   -999.0,9,   -999,  -999.0,-999.000,-999.0000,-999.000,  -999.0,-999.000, 28.6026,-999.000
    49RY9407_2,   P09,    86,  1,      8,    212,2,19940812,1707,  1.7523, 142.0122, 2760,     78.5,  27.8625,  34.5646,2,  34.5458,2,   -999.0,9,    187.8,2,     1.32,2,     0.79,2,     0.09,2,     0.17,2, -999.000,9, -999.000,9, -999.000,9,-999.0000,9,  -999.00,9,   -999.0,9,-999.000,9,   -999.0,9,   -999,  -999.0,-999.000,-999.0000,-999.000,  -999.0,-999.000, 27.8441,-999.000
    49RY9407_2,   P09,    86,  1,      7,    220,2,19940812,1707,  1.7523, 142.0122, 2760,    102.9,  27.7528,  35.0184,2,  35.0238,2,   -999.0,9,    170.7,6,     2.12,2,     2.65,2,     0.25,2,     0.37,2, -999.000,9, -999.000,9, -999.000,9,-999.0000,9,  -999.00,9,   -999.0,9,-999.000,9,   -999.0,9,   -999,  -999.0,-999.000,-999.0000,-999.000,  -999.0,-999.000, 27.7287,-999.000
    49RY9407_2,   P09,    86,  1,      6,    209,2,19940812,1707,  1.7523, 142.0122, 2760,    127.5,  22.5538,  35.0062,2,  35.0108,2,   -999.0,9,    135.3,2,     5.38,2,     8.90,2,     0.02,2,     0.65,2, -999.000,9, -999.000,9, -999.000,9,-999.0000,9,  -999.00,9,   -999.0,9,-999.000,9,   -999.0,9,   -999,  -999.0,-999.000,-999.0000,-999.000,  -999.0,-999.000, 22.5282,-999.000
    49RY9407_2,   P09,    86,  1,      5,    218,2,19940812,1707,  1.7523, 142.0122, 2760,    152.9,  20.6459,  35.1861,2,  35.1812,2,   -999.0,9,    139.8,2,     6.15,6,     9.95,6,     0.01,6,     0.73,6, -999.000,9, -999.000,9, -999.000,9,-999.0000,9,  -999.00,9,   -999.0,9,-999.000,9,   -999.0,9,   -999,  -999.0,-999.000,-999.0000,-999.000,  -999.0,-999.000, 20.6170,-999.000
    49RY9407_2,   P09,    86,  1,      4,    206,2,19940812,1707,  1.7523, 142.0122, 2760,    201.7,  17.5803,  35.0809,2,  35.1003,2,   -999.0,9,    139.6,2,     9.65,2,    13.02,2,     0.01,2,     0.94,2, -999.000,9, -999.000,9, -999.000,9,-999.0000,9,  -999.00,9,   -999.0,9,-999.000,9,   -999.0,9,   -999,  -999.0,-999.000,-999.0000,-999.000,  -999.0,-999.000, 17.5462,-999.000
    49RY9407_2,   P09,    86,  1,      3,    205,2,19940812,1707,  1.7523, 142.0122, 2760,    302.5,  11.1313,  34.8371,2,  34.8125,2,   -999.0,9,    142.2,2,    17.73,2,    22.61,2,     0.00,2,     1.53,2, -999.000,9, -999.000,9, -999.000,9,-999.0000,9,  -999.00,9,   -999.0,9,-999.000,9,   -999.0,9,   -999,  -999.0,-999.000,-999.0000,-999.000,  -999.0,-999.000, 11.0936,-999.000
    49RY9407_2,   P09,    86,  1,      2,    216,2,19940812,1707,  1.7523, 142.0122, 2760,    405.5,   8.2606,  34.5290,2,  34.5169,2,   -999.0,9,     91.6,2,    43.87,2,    31.95,2,     0.00,2,     2.21,2, -999.000,9, -999.000,9, -999.000,9,-999.0000,9,  -999.00,9,   -999.0,9,-999.000,9,   -999.0,9,   -999,  -999.0,-999.000,-999.0000,-999.000,  -999.0,-999.000,  8.2185,-999.000
    49RY9407_2,   P09,    86,  1,      1,    201,2,19940812,1707,  1.7523, 142.0122, 2760,    507.2,   6.8255,  34.5436,2,  34.5419,2,   -999.0,9,    105.9,2,    47.47,2,    33.97,2,     0.00,2,     2.33,2, -999.000,9, -999.000,9, -999.000,9,-999.0000,9,  -999.00,9,   -999.0,9,-999.000,9,   -999.0,9,   -999,  -999.0,-999.000,-999.0000,-999.000,  -999.0,-999.000,  6.7779,-999.000
    49RY9407_2,   P09,    86,  1,     24,    222,2,19940812,1707,  1.7523, 142.0122, 2760,    607.6,   6.1914,  34.5367,2,  34.5372,2,   -999.0,9,    107.5,6,    50.83,2,    35.45,2,     0.00,2,     2.39,2, -999.000,9, -999.000,9, -999.000,9,-999.0000,9,  -999.00,9,   -999.0,9,-999.000,9,   -999.0,9,   -999,  -999.0,-999.000,-999.0000,-999.000,  -999.0,-999.000,  6.1370,-999.000
    49RY9407_2,   P09,    86,  1,     23,    228,2,19940812,1707,  1.7523, 142.0122, 2760,    708.1,   5.9760,  34.5354,2,  34.5340,2,   -999.0,9,    100.5,2,    58.88,6,    36.01,6,     0.00,6,     2.47,6, -999.000,9, -999.000,9, -999.000,9,-999.0000,9,  -999.00,9,   -999.0,9,-999.000,9,   -999.0,9,   -999,  -999.0,-999.000,-999.0000,-999.000,  -999.0,-999.000,  5.9132,-999.000
    49RY9407_2,   P09,    86,  1,     22,    227,2,19940812,1707,  1.7523, 142.0122, 2760,    808.3,   5.5790,  34.5336,2,  34.5338,2,   -999.0,9,    105.0,2,    62.55,2,    36.46,2,     0.00,2,     2.51,2, -999.000,9, -999.000,9, -999.000,9,-999.0000,9,  -999.00,9,   -999.0,9,-999.000,9,   -999.0,9,   -999,  -999.0,-999.000,-999.0000,-999.000,  -999.0,-999.000,  5.5091,-999.000
    49RY9407_2,   P09,    86,  1,     21,    226,2,19940812,1707,  1.7523, 142.0122, 2760,    910.2,   4.9114,  34.5413,2,  34.5415,2,   -999.0,9,   -999.0,5,    75.27,2,    37.28,2,     0.00,2,     2.58,2, -999.000,9, -999.000,9, -999.000,9,-999.0000,9,  -999.00,9,   -999.0,9,-999.000,9,   -999.0,9,   -999,  -999.0,-999.000,-999.0000,-999.000,  -999.0,-999.000,  4.8367,-999.000
    49RY9407_2,   P09,    86,  1,     20,    203,2,19940812,1707,  1.7523, 142.0122, 2760,   1012.2,   4.3552,  34.5574,2,  34.5574,2,   -999.0,9,     92.3,2,    91.79,2,    38.69,2,     0.00,2,     2.70,2, -999.000,9, -999.000,9, -999.000,9,-999.0000,9,  -999.00,9,   -999.0,9,-999.000,9,   -999.0,9,   -999,  -999.0,-999.000,-999.0000,-999.000,  1010.0,-999.000,  4.2757,-999.000
    49RY9407_2,   P09,    86,  1,     19,    215,2,19940812,1707,  1.7523, 142.0122, 2760,   1264.0,   3.4898,  34.5815,2,  34.5810,2,   -999.0,9,    101.4,2,   106.27,2,    39.00,2,     0.00,2,     2.71,2, -999.000,9, -999.000,9, -999.000,9,-999.0000,9,  -999.00,9,   -999.0,9,-999.000,9,   -999.0,9,   -999,  -999.0,-999.000,-999.0000,-999.000,  -999.0,-999.000,  3.3964,-999.000
    49RY9407_2,   P09,    86,  1,     17,    219,2,19940812,1707,  1.7523, 142.0122, 2760,   1516.9,   2.8606,  34.6044,2,  34.6058,2,   -999.0,9,    108.3,2,   120.62,6,    38.66,6,     0.00,6,     2.69,6, -999.000,9, -999.000,9, -999.000,9,-999.0000,9,  -999.00,9,   -999.0,9,-999.000,9,   -999.0,9,   -999,  -999.0,-999.000,-999.0000,-999.000,  -999.0,-999.000,  2.7529,-999.000
    49RY9407_2,   P09,    86,  1,     18,    221,2,19940812,1707,  1.7523, 142.0122, 2760,   1516.9,   2.8606,  34.6044,2,  34.6058,2,   -999.0,9,    108.2,2,   120.66,2,    38.75,2,     0.00,2,     2.68,2, -999.000,9, -999.000,9, -999.000,9,-999.0000,9,  -999.00,9,   -999.0,9,-999.000,9,   -999.0,9,   -999,  -999.0,-999.000,-999.0000,-999.000,  1514.0,-999.000,  2.7529,-999.000
    49RY9407_2,   P09,    86,  1,     16,    229,2,19940812,1707,  1.7523, 142.0122, 2760,   1768.4,   2.5874,  34.6164,2,  34.6180,2,   -999.0,9,    111.5,6,   126.88,2,    38.75,2,     0.00,2,     2.67,2, -999.000,9, -999.000,9, -999.000,9,-999.0000,9,  -999.00,9,   -999.0,9,-999.000,9,   -999.0,9,   -999,  -999.0,   2.577,-999.0000,-999.000,  1767.0,-999.000,  2.4621,-999.000
    49RY9407_2,   P09,    86,  1,     15,    217,2,19940812,1707,  1.7523, 142.0122, 2760,   2022.9,   2.2354,  34.6336,2,  34.6339,2,   -999.0,9,    118.3,2,   134.20,2,    38.31,2,     0.00,2,     2.65,2, -999.000,9, -999.000,9, -999.000,9,-999.0000,9,  -999.00,9,   -999.0,9,-999.000,9,   -999.0,9,   -999,  -999.0,-999.000,-999.0000,-999.000,  -999.0,-999.000,  2.0935,-999.000
    49RY9407_2,   P09,    86,  1,     14,    204,2,19940812,1707,  1.7523, 142.0122, 2760,   2276.3,   2.0092,  34.6461,2,  34.6465,2,   -999.0,9,    123.3,2,   138.95,2,    38.14,2,     0.00,2,     2.60,2, -999.000,9, -999.000,9, -999.000,9,-999.0000,9,  -999.00,9,   -999.0,9,-999.000,9,   -999.0,9,   -999,  -999.0,   2.015,-999.0000,-999.000,  2264.0,-999.000,  1.8488,-999.000
    49RY9407_2,   P09,    86,  1,     13,    214,2,19940812,1707,  1.7523, 142.0122, 2760,   2530.1,   1.7800,  34.6584,2,  34.6585,2,   -999.0,9,    132.1,6,   141.52,2,    37.56,2,     0.00,2,     2.59,2, -999.000,9, -999.000,9, -999.000,9,-999.0000,9,  -999.00,9,   -999.0,9,-999.000,9,   -999.0,9,   -999,  -999.0,-999.000,-999.0000,-999.000,  2512.0,-999.000,  1.6011,-999.000
    49RY9407_2,   P09,    86,  1,     12,    213,4,19940812,1707,  1.7523, 142.0122, 2760,   2752.5,   1.6951,  34.6638,2,  34.6640,2,   -999.0,9,    136.9,6,   142.03,2,    37.19,2,     0.00,2,     2.53,2, -999.000,9, -999.000,9, -999.000,9,-999.0000,9,  -999.00,9,   -999.0,9,-999.000,9,   -999.0,9,   -999,  -999.0,-999.000,-999.0000,-999.000,  2739.0,-999.000,  1.4975,-999.000