BOTTLE,20020306WHPSIOdm
EXPOCODE,SECT_ID,STNNBR,CASTNO,SAMPNO,BTLNBR,BTLNBR_FLAG_W,DATE,TIME,LATITUDE,LONGITUDE,DEPTH,CTDPRS,CTDTMP,CTDSAL,CTDSAL_FLAG_W,SALNTY,SALNTY_FLAG_W,CTDOXY,CTDOXY_FLAG_W,OXYGEN,OXYGEN_FLAG_W,SILCAT,SILCAT_FLAG_W,NITRAT,NITRAT_FLAG_W,NITRIT,NITRIT_FLAG_W,PHSPHT,PHSPHT_FLAG_W,CFC-11,CFC-11_FLAG_W,CFC-12,CFC-12_FLAG_W,TRITUM,TRITUM_FLAG_W,HELIUM,HELIUM_FLAG_W,DELHE3,DELHE3_FLAG_W,DELC14,DELC14_FLAG_W,NEON,NEON_FLAG_W,TCARBN,TCARBN_FLAG_W,CTDRAW,C14ERR,REVTMP,HELIER,DELHER,REVPRS,NEONER,THETA,TRITER
,,,,,,,,,,,,DBAR,ITS-90,PSS-78,,PSS-78,,UMOL/KG,,UMOL/KG,,UMOL/KG,,UMOL/KG,,UMOL/KG,,UMOL/KG,,PMOL/KG,,PMOL/KG,,TU,,NMOL/KG,,PERCNT,,/MILLE,,NMOL/KG,,UMOL/KG,,,/MILLE,ITS-90,NMOL/KG,PERCNT,DBAR,NMOL/KG,DEG C,TU
    49RY9407_2,   P09,    93,  2,      7,    220,2,19940814,0501,  0.0087, 141.9997, 3380,    300.8,  11.2178,  34.8389,2,  34.8434,2,   -999.0,9,    141.8,2,    16.16,2,    22.20,2,     0.00,2,     1.55,2, -999.000,9, -999.000,9, -999.000,9,-999.0000,9,  -999.00,9,    -18.1,3,-999.000,9,   2157.3,2,   -999,    11.8,-999.000,-999.0000,-999.000,  -999.0,-999.000, 11.1801,-999.000
    49RY9407_2,   P09,    93,  2,      6,    209,2,19940814,0501,  0.0087, 141.9997, 3380,    401.2,   8.5208,  34.6296,2,  34.6270,2,   -999.0,9,    139.0,2,    26.48,2,    27.75,2,     0.00,2,     1.91,2, -999.000,9, -999.000,9, -999.000,9,-999.0000,9,  -999.00,9,    -58.2,3,-999.000,9,   2186.7,2,   -999,     7.8,-999.000,-999.0000,-999.000,  -999.0,-999.000,  8.4783,-999.000
    49RY9407_2,   P09,    93,  2,      5,    218,2,19940814,0501,  0.0087, 141.9997, 3380,    503.1,   7.5241,  34.5731,2,  34.5745,2,   -999.0,9,    135.7,2,    33.89,2,    30.01,2,     0.00,2,     2.06,2, -999.000,9, -999.000,9, -999.000,9,-999.0000,9,  -999.00,9,   -138.0,4,-999.000,9,   2202.1,2,   -999,    11.7,-999.000,-999.0000,-999.000,  -999.0,-999.000,  7.4743,-999.000
    49RY9407_2,   P09,    93,  2,      4,    206,2,19940814,0501,  0.0087, 141.9997, 3380,    603.5,   6.6508,  34.5359,2,  34.5362,2,   -999.0,9,    137.2,6,    39.51,6,    31.70,6,     0.00,6,     2.18,6, -999.000,9, -999.000,9, -999.000,9,-999.0000,9,  -999.00,9,   -999.0,1,-999.000,9,   2214.8,2,   -999,  -999.0,-999.000,-999.0000,-999.000,  -999.0,-999.000,  6.5946,-999.000
    49RY9407_2,   P09,    93,  2,      3,    205,2,19940814,0501,  0.0087, 141.9997, 3380,    703.7,   5.8970,  34.5344,2,  34.5340,2,   -999.0,9,    109.2,2,    54.49,2,    35.67,2,     0.00,2,     2.48,2, -999.000,9, -999.000,9, -999.000,9,-999.0000,9,  -999.00,9,   -127.5,3,-999.000,9,   2247.2,2,   -999,     8.1,-999.000,-999.0000,-999.000,  -999.0,-999.000,  5.8350,-999.000
    49RY9407_2,   P09,    93,  2,      2,    216,2,19940814,0501,  0.0087, 141.9997, 3380,    804.8,   5.2637,  34.5370,2,  34.5372,2,   -999.0,9,    102.8,2,    66.36,2,    37.19,2,     0.00,2,     2.61,2, -999.000,9, -999.000,9, -999.000,9,-999.0000,9,  -999.00,9,   -162.6,3,-999.000,9,   2266.7,2,   -999,     6.4,-999.000,-999.0000,-999.000,  -999.0,-999.000,  5.1961,-999.000
    49RY9407_2,   P09,    93,  2,      1,    201,2,19940814,0501,  0.0087, 141.9997, 3380,    905.7,   4.7505,  34.5437,2,  34.5427,2,   -999.0,9,    104.2,2,    76.27,2,    37.55,2,     0.00,2,     2.65,2, -999.000,9, -999.000,9, -999.000,9,-999.0000,9,  -999.00,9,   -178.4,3,-999.000,9,   2281.1,2,   -999,     6.1,-999.000,-999.0000,-999.000,  -999.0,-999.000,  4.6773,-999.000
    49RY9407_2,   P09,    93,  2,     24,    222,2,19940814,0501,  0.0087, 141.9997, 3380,   1007.0,   4.5134,  34.5519,2,  34.5509,2,   -999.0,9,     99.6,2,    83.59,2,    38.19,2,     0.00,2,     2.70,2, -999.000,9, -999.000,9, -999.000,9,-999.0000,9,  -999.00,9,   -189.0,3,-999.000,9,   2290.5,2,   -999,     6.9,-999.000,-999.0000,-999.000,  -999.0,-999.000,  4.4331,-999.000
    49RY9407_2,   P09,    93,  2,     23,    228,2,19940814,0501,  0.0087, 141.9997, 3380,   1259.5,   3.6887,  34.5743,2,  34.5745,2,   -999.0,9,    102.9,2,    99.74,2,    38.65,2,     0.00,2,     2.74,2, -999.000,9, -999.000,9, -999.000,9,-999.0000,9,  -999.00,9,   -198.8,3,-999.000,9,   2306.6,2,   -999,     6.7,-999.000,-999.0000,-999.000,  -999.0,-999.000,  3.5938,-999.000
    49RY9407_2,   P09,    93,  2,     22,    227,2,19940814,0501,  0.0087, 141.9997, 3380,   1512.6,   3.0310,  34.5991,2,  34.5991,2,   -999.0,9,    106.8,2,   116.33,2,    38.72,2,     0.00,2,     2.73,2, -999.000,9, -999.000,9, -999.000,9,-999.0000,9,  -999.00,9,   -211.7,3,-999.000,9,   2321.0,2,   -999,     6.7,-999.000,-999.0000,-999.000,  -999.0,-999.000,  2.9217,-999.000
    49RY9407_2,   P09,    93,  2,     21,    226,2,19940814,0501,  0.0087, 141.9997, 3380,   1766.4,   2.5372,  34.6190,2,  34.6209,2,   -999.0,9,    113.5,2,   124.02,2,    38.45,2,     0.01,2,     2.72,2, -999.000,9, -999.000,9, -999.000,9,-999.0000,9,  -999.00,9,   -230.6,3,-999.000,9,   2328.3,2,   -999,     5.9,-999.000,-999.0000,-999.000,  -999.0,-999.000,  2.4127,-999.000
    49RY9407_2,   P09,    93,  2,     19,    215,2,19940814,0501,  0.0087, 141.9997, 3380,   2019.6,   2.2755,  34.6342,2,  34.6371,3,   -999.0,9,    119.6,2,   132.17,2,    38.32,2,     0.01,2,     2.68,2, -999.000,9, -999.000,9, -999.000,9,-999.0000,9,  -999.00,9,   -227.2,3,-999.000,9,   2331.6,6,   -999,     6.5,-999.000,-999.0000,-999.000,  -999.0,-999.000,  2.1332,-999.000
    49RY9407_2,   P09,    93,  2,     20,    203,2,19940814,0501,  0.0087, 141.9997, 3380,   2019.6,   2.2755,  34.6342,2,  34.6345,2,   -999.0,9,    119.3,2,   131.97,2,    38.27,2,     0.01,2,     2.69,2, -999.000,9, -999.000,9, -999.000,9,-999.0000,1,  -999.00,1,   -233.0,3,-999.000,9,   -999.0,9,   -999,     5.8,-999.000,-999.0000,-999.000,  2016.0,-999.000,  2.1332,-999.000
    49RY9407_2,   P09,    93,  2,     18,    221,2,19940814,0501,  0.0087, 141.9997, 3380,   2273.4,   1.9985,  34.6476,2,  34.6481,2,   -999.0,9,    125.5,2,   138.60,2,    38.06,2,     0.01,2,     2.66,2, -999.000,9, -999.000,9, -999.000,5,   1.8850,2,    21.86,2,   -238.8,3,   8.063,2,   -999.0,9,   -999,     6.2,-999.000,  0.0086,   0.230,  2270.0,   0.042,  1.8386,-999.000
    49RY9407_2,   P09,    93,  2,     17,    219,2,19940814,0501,  0.0087, 141.9997, 3380,   2529.0,   1.7798,  34.6588,2,  34.6599,2,   -999.0,9,    133.3,2,   141.30,2,    37.54,2,     0.01,2,     2.61,2, -999.000,9, -999.000,9, -999.000,9,-999.0000,9,  -999.00,9,   -217.1,3,-999.000,9,   2335.4,2,   -999,     8.8,-999.000,-999.0000,-999.000,  -999.0,-999.000,  1.6010,-999.000
    49RY9407_2,   P09,    93,  2,     16,    229,2,19940814,0501,  0.0087, 141.9997, 3380,   2783.9,   1.6826,  34.6660,2,  34.6658,2,   -999.0,9,    138.7,6,   142.29,2,    37.24,2,     0.00,2,     2.59,2, -999.000,9, -999.000,9, -999.000,5,   1.9957,2,    18.58,2,   -240.3,3,   8.444,4,   -999.0,9,   -999,     6.7,   1.673,  0.0088,   0.220,  2784.0,   0.057,  1.4823,-999.000
    49RY9407_2,   P09,    93,  2,     15,    217,2,19940814,0501,  0.0087, 141.9997, 3380,   3038.4,   1.5818,  34.6734,2,  34.6747,3,   -999.0,9,    144.7,2,   142.34,2,    36.83,2,     0.01,2,     2.56,2, -999.000,9, -999.000,9, -999.000,9,-999.0000,9,  -999.00,9,   -228.1,3,-999.000,9,   2330.2,6,   -999,     5.6,-999.000,-999.0000,-999.000,  -999.0,-999.000,  1.3596,-999.000
    49RY9407_2,   P09,    93,  2,     13,    214,2,19940814,0501,  0.0087, 141.9997, 3380,   3295.6,   1.5848,  34.6754,2,  34.6743,2,   -999.0,9,    145.3,2,   142.77,2,    36.77,2,     0.00,2,     2.55,2, -999.000,9, -999.000,9, -999.000,9,-999.0000,9,  -999.00,9,   -232.0,9,-999.000,9,   2331.4,2,   -999,     6.8,-999.000,-999.0000,-999.000,  3285.0,-999.000,  1.3373,-999.000
    49RY9407_2,   P09,    93,  2,     14,    204,2,19940814,0501,  0.0087, 141.9997, 3380,   3295.9,   1.5848,  34.6753,2,  34.6745,2,   -999.0,9,    144.2,2,   142.80,2,    36.80,2,     0.01,2,     2.55,2, -999.000,9, -999.000,9, -999.000,9,-999.0000,9,  -999.00,9,   -999.0,9,-999.000,9,   -999.0,9,   -999,  -999.0,   1.583,-999.0000,-999.000,  3295.0,-999.000,  1.3372,-999.000
    49RY9407_2,   P09,    93,  2,     12,    213,4,19940814,0501,  0.0087, 141.9997, 3380,   3425.5,   1.5863,  34.6759,2,-999.0000,9,   -999.0,9,    147.1,2,   141.48,2,    36.40,2,     0.01,2,     2.52,2, -999.000,9, -999.000,9, -999.000,5,   2.0718,2,    17.42,2,   -999.0,9,   8.755,4,   -999.0,9,   -999,  -999.0,-999.000,  0.0091,   0.220,  3419.0,   0.059,  1.3256,-999.000
    49RY9407_2,   P09,    93,  3,      6,    209,2,19940814,0710,  0.0203, 142.0135, 3340,      2.1,  29.1822,  33.8694,2,  33.8739,2,   -999.0,9,   -999.0,9,  -999.00,9,  -999.00,9,  -999.00,9,  -999.00,9,    1.619,2,    1.046,3,    1.217,2,   1.6751,2,    -1.19,2,   -999.0,9,   6.514,2,   -999.0,9,   -999,  -999.0,-999.000,  0.0051,   0.240,  -999.0,   0.034, 29.1817,   0.015
    49RY9407_2,   P09,    93,  3,      5,    218,2,19940814,0710,  0.0203, 142.0135, 3340,     25.1,  29.0321,  34.0388,2,  34.0298,2,   -999.0,9,   -999.0,9,  -999.00,9,  -999.00,9,  -999.00,9,  -999.00,9,    1.604,2,    1.146,3,    1.122,2,   1.6669,2,    -1.03,2,   -999.0,9,   6.594,2,   -999.0,9,   -999,  -999.0,-999.000,  0.0044,   0.240,  -999.0,   0.035, 29.0261,   0.015
    49RY9407_2,   P09,    93,  3,      4,    206,2,19940814,0710,  0.0203, 142.0135, 3340,     49.8,  28.7571,  34.2626,2,  34.2510,2,   -999.0,9,   -999.0,9,  -999.00,9,  -999.00,9,  -999.00,9,  -999.00,9,    1.646,2,    1.027,3,    1.143,2,   1.6831,2,    -0.88,2,   -999.0,9,   7.198,4,   -999.0,9,   -999,  -999.0,-999.000,  0.0044,   0.240,  -999.0,   0.038, 28.7452,   0.014
    49RY9407_2,   P09,    93,  3,      3,    205,2,19940814,0710,  0.0203, 142.0135, 3340,     74.6,  28.3351,  34.7489,2,  34.7532,2,   -999.0,9,   -999.0,9,  -999.00,9,  -999.00,9,  -999.00,9,  -999.00,9,    1.620,2,    0.990,3,    1.083,2,   1.6680,2,    -0.67,2,   -999.0,9,   6.521,2,   -999.0,9,   -999,  -999.0,-999.000,  0.0046,   0.240,  -999.0,   0.035, 28.3173,   0.014
    49RY9407_2,   P09,    93,  3,      2,    216,2,19940814,0710,  0.0203, 142.0135, 3340,     99.7,  26.8965,  34.9755,2,  34.9941,2,   -999.0,9,   -999.0,9,  -999.00,9,  -999.00,9,  -999.00,9,  -999.00,9,    1.629,2,    0.994,3,    1.048,2,   1.6712,2,     0.03,2,   -999.0,9,   6.710,2,   -999.0,9,   -999,  -999.0,-999.000,  0.0042,   0.200,  -999.0,   0.024, 26.8737,   0.013
    49RY9407_2,   P09,    93,  3,      1,    201,2,19940814,0710,  0.0203, 142.0135, 3340,    150.7,  20.2929,  35.2063,2,  35.2214,2,   -999.0,9,   -999.0,9,  -999.00,9,  -999.00,9,  -999.00,9,  -999.00,9,    1.613,2,    0.945,3,    0.990,2,   1.6958,2,     2.39,2,   -999.0,9,   6.813,2,   -999.0,9,   -999,  -999.0,-999.000,  0.0071,   0.240,  -999.0,   0.036, 20.2648,   0.013
    49RY9407_2,   P09,    93,  3,     23,    228,2,19940814,0710,  0.0203, 142.0135, 3340,    200.3,  16.9332,  35.1891,2,  35.1855,2,   -999.0,9,   -999.0,9,  -999.00,9,  -999.00,9,  -999.00,9,  -999.00,9, -999.000,9, -999.000,9,    0.747,2,   1.7123,2,     3.04,2,   -999.0,9,   7.024,2,   -999.0,9,   -999,  -999.0,-999.000,  0.0045,   0.240,  -999.0,   0.037, 16.9002,   0.011
    49RY9407_2,   P09,    93,  3,     24,    222,2,19940814,0710,  0.0203, 142.0135, 3340,    200.3,  16.9260,  35.1887,2,  35.1818,2,   -999.0,9,   -999.0,9,  -999.00,9,  -999.00,9,  -999.00,9,  -999.00,9,    1.407,6,    0.933,3, -999.000,9,-999.0000,9,  -999.00,9,   -999.0,9,-999.000,9,   -999.0,9,   -999,  -999.0,-999.000,-999.0000,-999.000,  -999.0,-999.000, 16.8930,-999.000
    49RY9407_2,   P09,    93,  3,     22,    227,2,19940814,0710,  0.0203, 142.0135, 3340,    301.0,  10.7531,  34.8015,2,  34.8054,2,   -999.0,9,   -999.0,9,  -999.00,9,  -999.00,9,  -999.00,9,  -999.00,9,    0.637,2,    0.467,3,    0.299,2,   1.7354,2,     4.10,2,   -999.0,9,   7.285,2,   -999.0,9,   -999,  -999.0,-999.000,  0.0063,   0.240,  -999.0,   0.039, 10.7164,   0.005
    49RY9407_2,   P09,    93,  3,     21,    226,2,19940814,0710,  0.0203, 142.0135, 3340,    402.0,   8.5085,  34.6285,2,  34.6288,2,   -999.0,9,   -999.0,9,  -999.00,9,  -999.00,9,  -999.00,9,  -999.00,9,    0.338,2,    0.245,3,    0.002,4,   1.7553,2,     5.56,2,   -999.0,9,   7.448,2,   -999.0,9,   -999,  -999.0,-999.000,  0.0050,   0.240,  -999.0,   0.040,  8.4660,   0.004
    49RY9407_2,   P09,    93,  3,     20,    203,2,19940814,0710,  0.0203, 142.0135, 3340,    502.7,   7.4807,  34.5670,2,  34.5708,2,   -999.0,9,   -999.0,9,  -999.00,9,  -999.00,9,  -999.00,9,  -999.00,9,    0.208,2,    0.158,3,    0.130,2,   1.7719,2,     7.11,2,   -999.0,9,   7.569,2,   -999.0,9,   -999,  -999.0,-999.000,  0.0043,   0.200,   500.0,   0.026,  7.4311,   0.004
    49RY9407_2,   P09,    93,  3,     18,    221,2,19940814,0710,  0.0203, 142.0135, 3340,    603.9,   6.6539,  34.5374,2,  34.5448,3,   -999.0,9,   -999.0,9,  -999.00,9,  -999.00,9,  -999.00,9,  -999.00,9,    0.043,2,    0.084,4,    0.033,2,   1.8085,2,    11.33,2,   -999.0,9,   7.737,3,   -999.0,9,   -999,  -999.0,-999.000,  0.0047,   0.240,   654.0,   0.041,  6.5977,   0.014
    49RY9407_2,   P09,    93,  3,     19,    215,2,19940814,0710,  0.0203, 142.0135, 3340,    603.9,   6.6539,  34.5374,2,  34.5342,2,   -999.0,9,   -999.0,9,  -999.00,9,  -999.00,9,  -999.00,9,  -999.00,9,    0.132,2,    0.234,4,    0.074,2,   1.7857,2,     9.14,2,   -999.0,9,   7.596,2,   -999.0,9,   -999,  -999.0,-999.000,  0.0048,   0.240,  -999.0,   0.040,  6.5977,   0.014
    49RY9407_2,   P09,    93,  3,     17,    219,2,19940814,0710,  0.0203, 142.0135, 3340,    705.3,   5.9953,  34.5354,2,  34.5354,2,   -999.0,9,   -999.0,9,  -999.00,9,  -999.00,9,  -999.00,9,  -999.00,9,    0.024,2,    0.028,3,    0.043,2,   1.7954,2,    11.25,2,   -999.0,9,   7.686,2,   -999.0,9,   -999,  -999.0,-999.000,  0.0044,   0.200,  -999.0,   0.027,  5.9327,   0.015
    49RY9407_2,   P09,    93,  3,     16,    229,2,19940814,0710,  0.0203, 142.0135, 3340,    805.9,   5.2752,  34.5379,2,  34.5375,2,   -999.0,9,   -999.0,9,  -999.00,9,  -999.00,9,  -999.00,9,  -999.00,9,    0.014,2,    0.022,3,    0.032,2,   1.7703,2,    14.76,2,   -999.0,9,   7.255,4,   -999.0,9,   -999,  -999.0,   5.264,  0.0081,   0.240,   805.0,   0.038,  5.2075,   0.005
    49RY9407_2,   P09,    93,  3,     15,    217,2,19940814,0710,  0.0203, 142.0135, 3340,    907.1,   4.7695,  34.5428,2,  34.5417,2,   -999.0,9,   -999.0,9,  -999.00,9,  -999.00,9,  -999.00,9,  -999.00,9,    0.007,2,    0.000,3,    0.026,2,   1.8460,2,    16.38,2,   -999.0,9,   7.909,3,   -999.0,9,   -999,  -999.0,-999.000,  0.0052,   0.240,  -999.0,   0.042,  4.6961,   0.004
    49RY9407_2,   P09,    93,  3,     14,    204,2,19940814,0710,  0.0203, 142.0135, 3340,   1007.3,   4.5581,  34.5493,2,  34.5488,2,   -999.0,9,   -999.0,9,  -999.00,9,  -999.00,9,  -999.00,9,  -999.00,9,    0.007,3,    0.194,4, -999.000,5,   1.8222,2,    17.23,2,   -999.0,9,   7.764,2,   -999.0,9,   -999,  -999.0,   4.562,  0.0049,   0.190,  1006.0,   0.027,  4.4775,-999.000
    49RY9407_2,   P09,    93,  3,     13,    214,2,19940814,0710,  0.0203, 142.0135, 3340,   1261.4,   3.7045,  34.5739,2,  34.5741,2,   -999.0,9,   -999.0,9,  -999.00,9,  -999.00,9,  -999.00,9,  -999.00,9, -999.000,9, -999.000,9, -999.000,5,   1.8737,2,    20.62,2,   -999.0,9,   7.860,2,   -999.0,9,   -999,  -999.0,-999.000,  0.0049,   0.230,  1254.0,   0.041,  3.6094,-999.000
    49RY9407_2,   P09,    93,  3,     12,    213,4,19940814,0710,  0.0203, 142.0135, 3340,   1514.2,   3.0774,  34.5984,2,  34.5975,2,   -999.0,9,   -999.0,9,  -999.00,9,  -999.00,9,  -999.00,9,  -999.00,9,    0.000,2,    0.000,3, -999.000,9,-999.0000,9,  -999.00,9,   -999.0,9,-999.000,9,   -999.0,9,   -999,  -999.0,-999.000,-999.0000,-999.000,  1512.0,-999.000,  2.9674,-999.000
    49RY9407_2,   P09,    94,  1,      0,      0,2,19940814,2343, -0.2415, 142.0015, 3295,      0.0,  28.8863,  33.8925,2,-999.0000,9,   -999.0,9,    198.6,2,     1.25,2,     0.02,2,     0.00,2,     0.03,2, -999.000,9, -999.000,9, -999.000,9,-999.0000,9,  -999.00,9,   -999.0,9,-999.000,9,   -999.0,9,   -999,  -999.0,-999.000,-999.0000,-999.000,  -999.0,-999.000, 28.8864,-999.000
    49RY9407_2,   P09,    94,  1,     20,    203,2,19940814,2343, -0.2415, 142.0015, 3295,      9.6,  28.8559,  33.8920,2,  33.8937,2,   -999.0,9,    197.6,2,     1.24,2,     0.00,2,     0.00,2,     0.03,2, -999.000,9, -999.000,9, -999.000,9,-999.0000,9,  -999.00,9,   -999.0,9,-999.000,9,   -999.0,9,   -999,  -999.0,-999.000,-999.0000,-999.000,    15.0,-999.000, 28.8536,-999.000
    49RY9407_2,   P09,    94,  1,     19,    215,2,19940814,2343, -0.2415, 142.0015, 3295,     23.9,  28.9039,  34.0367,2,  34.0390,2,   -999.0,9,    197.4,2,     1.26,2,     0.03,2,     0.00,2,     0.04,2, -999.000,9, -999.000,9, -999.000,9,-999.0000,9,  -999.00,9,   -999.0,9,-999.000,9,   -999.0,9,   -999,  -999.0,-999.000,-999.0000,-999.000,  -999.0,-999.000, 28.8982,-999.000
    49RY9407_2,   P09,    94,  1,     18,    221,2,19940814,2343, -0.2415, 142.0015, 3295,     50.8,  28.4703,  34.4994,2,  34.4780,3,   -999.0,9,    195.0,2,     1.36,2,     0.03,2,     0.01,2,     0.11,2, -999.000,9, -999.000,9, -999.000,9,-999.0000,9,  -999.00,9,   -999.0,9,-999.000,9,   -999.0,9,   -999,  -999.0,-999.000,-999.0000,-999.000,    54.0,-999.000, 28.4582,-999.000
    49RY9407_2,   P09,    94,  1,     17,    219,2,19940814,2343, -0.2415, 142.0015, 3295,     76.1,  28.5482,  34.7694,2,  34.7721,2,   -999.0,9,    187.5,6,     1.29,6,     0.08,6,     0.02,6,     0.20,6, -999.000,9, -999.000,9, -999.000,9,-999.0000,9,  -999.00,9,   -999.0,9,-999.000,9,   -999.0,9,   -999,  -999.0,-999.000,-999.0000,-999.000,  -999.0,-999.000, 28.5301,-999.000
    49RY9407_2,   P09,    94,  1,     16,    229,2,19940814,2343, -0.2415, 142.0015, 3295,    100.3,  25.7416,  35.1482,2,  35.1514,2,   -999.0,9,    145.8,2,     3.18,2,     6.81,2,     0.13,2,     0.59,2, -999.000,9, -999.000,9, -999.000,9,-999.0000,9,  -999.00,9,   -999.0,9,-999.000,9,   -999.0,9,   -999,  -999.0,  25.690,-999.0000,-999.000,    97.0,-999.000, 25.7193,-999.000
    49RY9407_2,   P09,    94,  1,     15,    217,2,19940814,2343, -0.2415, 142.0015, 3295,    126.0,  22.3029,  35.1576,2,  35.1717,2,   -999.0,9,    137.1,2,     4.85,2,     8.98,2,     0.03,2,     0.68,2, -999.000,9, -999.000,9, -999.000,9,-999.0000,9,  -999.00,9,   -999.0,9,-999.000,9,   -999.0,9,   -999,  -999.0,-999.000,-999.0000,-999.000,  -999.0,-999.000, 22.2777,-999.000
    49RY9407_2,   P09,    94,  1,     14,    204,2,19940814,2343, -0.2415, 142.0015, 3295,    151.4,  20.6188,  35.2474,2,  35.2502,2,   -999.0,9,    138.8,2,     5.81,2,    10.02,2,     0.01,2,     0.76,2, -999.000,9, -999.000,9, -999.000,9,-999.0000,9,  -999.00,9,   -999.0,9,-999.000,9,   -999.0,9,   -999,  -999.0,  20.830,-999.0000,-999.000,   151.0,-999.000, 20.5902,-999.000
    49RY9407_2,   P09,    94,  1,     13,    214,2,19940814,2343, -0.2415, 142.0015, 3295,    201.3,  17.2724,  35.2123,2,  35.2126,2,   -999.0,9,    138.8,2,     8.58,6,    13.49,6,     0.01,6,     1.00,6, -999.000,9, -999.000,9, -999.000,9,-999.0000,9,  -999.00,9,   -999.0,9,-999.000,9,   -999.0,9,   -999,  -999.0,-999.000,-999.0000,-999.000,   205.0,-999.000, 17.2387,-999.000
    49RY9407_2,   P09,    94,  1,     12,    213,2,19940814,2343, -0.2415, 142.0015, 3295,    302.1,  11.7027,  34.9041,2,  34.8989,2,   -999.0,9,    143.2,2,    14.22,2,    21.02,2,     0.01,2,     1.47,2, -999.000,9, -999.000,9, -999.000,9,-999.0000,9,  -999.00,9,   -999.0,9,-999.000,9,   -999.0,9,   -999,  -999.0,-999.000,-999.0000,-999.000,   305.0,-999.000, 11.6638,-999.000