BOTTLE,20020306WHPSIOdm
EXPOCODE,SECT_ID,STNNBR,CASTNO,SAMPNO,BTLNBR,BTLNBR_FLAG_W,DATE,TIME,LATITUDE,LONGITUDE,DEPTH,CTDPRS,CTDTMP,CTDSAL,CTDSAL_FLAG_W,SALNTY,SALNTY_FLAG_W,CTDOXY,CTDOXY_FLAG_W,OXYGEN,OXYGEN_FLAG_W,SILCAT,SILCAT_FLAG_W,NITRAT,NITRAT_FLAG_W,NITRIT,NITRIT_FLAG_W,PHSPHT,PHSPHT_FLAG_W,CFC-11,CFC-11_FLAG_W,CFC-12,CFC-12_FLAG_W,TRITUM,TRITUM_FLAG_W,HELIUM,HELIUM_FLAG_W,DELHE3,DELHE3_FLAG_W,DELC14,DELC14_FLAG_W,NEON,NEON_FLAG_W,TCARBN,TCARBN_FLAG_W,CTDRAW,C14ERR,REVTMP,HELIER,DELHER,REVPRS,NEONER,THETA,TRITER
,,,,,,,,,,,,DBAR,ITS-90,PSS-78,,PSS-78,,UMOL/KG,,UMOL/KG,,UMOL/KG,,UMOL/KG,,UMOL/KG,,UMOL/KG,,PMOL/KG,,PMOL/KG,,TU,,NMOL/KG,,PERCNT,,/MILLE,,NMOL/KG,,UMOL/KG,,,/MILLE,ITS-90,NMOL/KG,PERCNT,DBAR,NMOL/KG,DEG C,TU
    49RY9407_2,   P09,    97,  2,      8,    212,2,19940815,1558, -0.9993, 142.0225, 3080,    301.3,  10.8095,  34.8126,2,  34.8129,2,   -999.0,9,    143.5,2,    16.51,6,    22.64,6,     0.00,6,     1.57,6, -999.000,9, -999.000,9, -999.000,9,-999.0000,9,  -999.00,9,   -999.0,1,-999.000,9,   2159.8,2,   -999,  -999.0,-999.000,-999.0000,-999.000,  -999.0,-999.000, 10.7727,-999.000
    49RY9407_2,   P09,    97,  2,      6,    209,2,19940815,1558, -0.9993, 142.0225, 3080,    401.9,   8.9183,  34.6276,2,  34.6253,2,   -999.0,9,    117.2,2,    34.02,2,    28.82,2,     0.00,2,     1.98,2, -999.000,9, -999.000,9, -999.000,9,-999.0000,9,  -999.00,9,   -999.0,1,-999.000,9,   2199.3,2,   -999,  -999.0,-999.000,-999.0000,-999.000,  -999.0,-999.000,  8.8746,-999.000
    49RY9407_2,   P09,    97,  2,      7,    220,2,19940815,1558, -0.9993, 142.0225, 3080,    402.9,   8.9193,  34.6280,2,  34.6263,2,   -999.0,9,    117.2,2,    34.00,2,    28.79,2,     0.00,2,     1.95,2, -999.000,9, -999.000,9, -999.000,9,-999.0000,9,  -999.00,9,   -999.0,1,-999.000,9,   2200.1,2,   -999,  -999.0,-999.000,-999.0000,-999.000,  -999.0,-999.000,  8.8755,-999.000
    49RY9407_2,   P09,    97,  2,      5,    218,2,19940815,1558, -0.9993, 142.0225, 3080,    501.9,   7.6989,  34.5795,2,  34.5787,2,   -999.0,9,    142.8,2,    30.34,2,    28.87,2,     0.00,2,     1.98,2, -999.000,9, -999.000,9, -999.000,9,-999.0000,9,  -999.00,9,   -999.0,1,-999.000,9,   2194.2,2,   -999,  -999.0,-999.000,-999.0000,-999.000,  -999.0,-999.000,  7.6485,-999.000
    49RY9407_2,   P09,    97,  2,      4,    206,2,19940815,1558, -0.9993, 142.0225, 3080,    602.5,   6.6403,  34.5363,2,  34.5340,2,   -999.0,9,    137.5,2,    39.64,2,    31.67,2,     0.00,2,     2.19,2, -999.000,9, -999.000,9, -999.000,9,-999.0000,9,  -999.00,9,   -999.0,1,-999.000,9,   2215.5,2,   -999,  -999.0,-999.000,-999.0000,-999.000,  -999.0,-999.000,  6.5843,-999.000
    49RY9407_2,   P09,    97,  2,      3,    205,2,19940815,1558, -0.9993, 142.0225, 3080,    704.0,   6.0879,  34.5446,2,  34.5427,2,   -999.0,9,     93.6,2,    55.06,2,    36.95,2,     0.00,2,     2.58,2, -999.000,9, -999.000,9, -999.000,9,-999.0000,9,  -999.00,9,   -999.0,1,-999.000,9,   2256.6,6,   -999,  -999.0,-999.000,-999.0000,-999.000,  -999.0,-999.000,  6.0248,-999.000
    49RY9407_2,   P09,    97,  2,      2,    216,2,19940815,1558, -0.9993, 142.0225, 3080,    805.0,   5.4824,  34.5396,2,  34.5385,2,   -999.0,9,     96.8,2,    63.99,6,    37.41,6,     0.00,6,     2.62,6, -999.000,9, -999.000,9, -999.000,9,-999.0000,9,  -999.00,9,   -999.0,9,-999.000,9,   -999.0,9,   -999,  -999.0,-999.000,-999.0000,-999.000,  -999.0,-999.000,  5.4134,-999.000
    49RY9407_2,   P09,    97,  2,      1,    201,2,19940815,1558, -0.9993, 142.0225, 3080,    906.6,   4.7873,  34.5410,2,  34.5409,2,   -999.0,9,    104.5,6,    75.53,2,    37.38,2,     0.00,2,     2.63,2, -999.000,9, -999.000,9, -999.000,9,-999.0000,9,  -999.00,9,   -999.0,9,-999.000,9,   -999.0,9,   -999,  -999.0,-999.000,-999.0000,-999.000,  -999.0,-999.000,  4.7138,-999.000
    49RY9407_2,   P09,    97,  2,     24,    222,2,19940815,1558, -0.9993, 142.0225, 3080,   1007.0,   4.4755,  34.5514,2,  34.5505,2,   -999.0,9,     99.7,2,    84.10,2,    38.15,2,     0.00,2,     2.71,2, -999.000,9, -999.000,9, -999.000,9,-999.0000,9,  -999.00,9,   -999.0,9,-999.000,9,   -999.0,9,   -999,  -999.0,-999.000,-999.0000,-999.000,  -999.0,-999.000,  4.3955,-999.000
    49RY9407_2,   P09,    97,  2,     23,    228,2,19940815,1558, -0.9993, 142.0225, 3080,   1259.3,   3.5510,  34.5795,2,  34.5783,2,   -999.0,9,    104.3,2,   103.76,2,    38.62,2,     0.00,2,     2.74,2, -999.000,9, -999.000,9, -999.000,9,-999.0000,9,  -999.00,9,   -999.0,9,-999.000,9,   -999.0,9,   -999,  -999.0,-999.000,-999.0000,-999.000,  -999.0,-999.000,  3.4575,-999.000
    49RY9407_2,   P09,    97,  2,     22,    227,2,19940815,1558, -0.9993, 142.0225, 3080,   1513.8,   2.9226,  34.6040,2,  34.6034,2,   -999.0,9,    109.8,2,   117.73,2,    38.51,2,     0.00,2,     2.69,3, -999.000,9, -999.000,9, -999.000,9,-999.0000,9,  -999.00,9,   -999.0,9,-999.000,9,   -999.0,9,   -999,  -999.0,-999.000,-999.0000,-999.000,  -999.0,-999.000,  2.8144,-999.000
    49RY9407_2,   P09,    97,  2,     21,    226,2,19940815,1558, -0.9993, 142.0225, 3080,   1767.0,   2.5291,  34.6223,2,  34.6211,2,   -999.0,9,    116.0,2,   126.47,2,    38.33,2,     0.00,2,     2.70,2, -999.000,9, -999.000,9, -999.000,9,-999.0000,9,  -999.00,9,   -999.0,9,-999.000,9,   -999.0,9,   -999,  -999.0,-999.000,-999.0000,-999.000,  -999.0,-999.000,  2.4046,-999.000
    49RY9407_2,   P09,    97,  2,     19,    215,2,19940815,1558, -0.9993, 142.0225, 3080,   2020.6,   2.2386,  34.6358,2,  34.6353,2,   -999.0,9,    120.1,2,   133.24,2,    38.00,2,     0.00,2,     2.67,2, -999.000,9, -999.000,9, -999.000,9,-999.0000,9,  -999.00,9,   -999.0,9,-999.000,9,   -999.0,9,   -999,  -999.0,-999.000,-999.0000,-999.000,  -999.0,-999.000,  2.0967,-999.000
    49RY9407_2,   P09,    97,  2,     20,    203,2,19940815,1558, -0.9993, 142.0225, 3080,   2020.6,   2.2386,  34.6358,2,  34.6345,2,   -999.0,9,    120.5,2,   133.17,6,    38.11,6,     0.00,6,     2.68,6, -999.000,9, -999.000,9, -999.000,5,   1.8703,2,    22.92,2,   -999.0,9,   7.872,2,   -999.0,9,   -999,  -999.0,-999.000,  0.0050,   0.170,  2016.0,   0.051,  2.0967,-999.000
    49RY9407_2,   P09,    97,  2,     18,    221,2,19940815,1558, -0.9993, 142.0225, 3080,   2273.7,   1.9481,  34.6510,2,  34.6495,2,   -999.0,9,    127.1,6,   138.33,2,    37.71,2,     0.00,2,     2.64,2, -999.000,9, -999.000,9, -999.000,9,-999.0000,9,  -999.00,9,   -999.0,9,-999.000,9,   -999.0,9,   -999,  -999.0,-999.000,-999.0000,-999.000,  2271.0,-999.000,  1.7890,-999.000
    49RY9407_2,   P09,    97,  2,     17,    219,4,19940815,1558, -0.9993, 142.0225, 3080,   2529.7,   1.7725,  34.6606,2,  34.6601,2,   -999.0,9,    134.9,2,   140.85,2,    37.10,2,     0.00,2,     2.60,2, -999.000,9, -999.000,9, -999.000,5,   1.8726,2,    19.96,2,   -999.0,9,   7.995,2,   -999.0,9,   -999,  -999.0,-999.000,  0.0051,   0.230,  -999.0,   0.043,  1.5937,-999.000
    49RY9407_2,   P09,    97,  2,     13,    214,2,19940815,1558, -0.9993, 142.0225, 3080,   2784.0,   1.6352,  34.6679,2,  34.6660,3,   -999.0,9,    141.5,2,   142.17,2,    36.85,2,     0.00,2,     2.57,2, -999.000,9, -999.000,9, -999.000,5,   1.8927,2,    19.81,2,   -999.0,9,   8.100,2,   -999.0,9,   -999,  -999.0,-999.000,  0.0050,   0.230,  2773.0,   0.043,  1.4359,-999.000
    49RY9407_2,   P09,    97,  2,     14,    204,2,19940815,1558, -0.9993, 142.0225, 3080,   2785.2,   1.6348,  34.6682,2,  34.6668,2,   -999.0,9,    140.8,2,   142.25,2,    36.97,2,     0.00,2,     2.57,2, -999.000,9, -999.000,9, -999.000,9,-999.0000,9,  -999.00,9,   -999.0,9,-999.000,9,   -999.0,9,   -999,  -999.0,   1.633,-999.0000,-999.000,  2785.0,-999.000,  1.4354,-999.000
    49RY9407_2,   P09,    97,  2,     15,    217,2,19940815,1558, -0.9993, 142.0225, 3080,   2785.4,   1.6350,  34.6683,2,  34.6674,2,   -999.0,9,    140.8,2,   142.18,2,    36.98,2,     0.00,2,     2.58,2, -999.000,9, -999.000,9, -999.000,9,-999.0000,9,  -999.00,9,   -999.0,9,-999.000,9,   -999.0,9,   -999,  -999.0,-999.000,-999.0000,-999.000,  -999.0,-999.000,  1.4356,-999.000
    49RY9407_2,   P09,    97,  2,     16,    229,2,19940815,1558, -0.9993, 142.0225, 3080,   2785.4,   1.6350,  34.6683,2,  34.6676,2,   -999.0,9,    140.7,2,   142.33,2,    36.78,2,     0.00,2,     2.58,2, -999.000,9, -999.000,9, -999.000,9,-999.0000,9,  -999.00,9,   -999.0,9,-999.000,9,   -999.0,9,   -999,  -999.0,   1.626,-999.0000,-999.000,  2786.0,-999.000,  1.4356,-999.000
    49RY9407_2,   P09,    97,  2,     12,    213,4,19940815,1558, -0.9993, 142.0225, 3080,   3075.5,   1.5740,  34.6729,2,  34.6721,6,   -999.0,9,    145.4,2,   142.70,2,    36.60,2,     0.00,2,     2.56,2, -999.000,9, -999.000,9, -999.000,9,-999.0000,9,  -999.00,9,   -999.0,9,-999.000,9,   -999.0,9,   -999,  -999.0,-999.000,-999.0000,-999.000,  3074.0,-999.000,  1.3483,-999.000
    49RY9407_2,   P09,    97,  3,      9,    223,2,19940815,1758, -1.0032, 142.0413, 3110,      0.6,  29.0059,  34.0428,2,  34.0431,2,   -999.0,9,   -999.0,9,  -999.00,9,  -999.00,9,  -999.00,9,  -999.00,9,    0.858,3,    0.482,3,    1.133,2,   1.6660,2,    -1.29,2,   -999.0,9,   6.527,2,   -999.0,9,   -999,  -999.0,-999.000,  0.0041,   0.190,  -999.0,   0.043, 29.0057,   0.013
    49RY9407_2,   P09,    97,  3,      8,    212,2,19940815,1758, -1.0032, 142.0413, 3110,     25.2,  29.0167,  34.0607,2,  34.0567,2,   -999.0,9,   -999.0,9,  -999.00,9,  -999.00,9,  -999.00,9,  -999.00,9,    0.856,3,    0.470,3,    1.133,2,   1.6493,2,    -1.14,2,   -999.0,9,   6.466,2,   -999.0,9,   -999,  -999.0,-999.000,  0.0046,   0.190,  -999.0,   0.042, 29.0106,   0.013
    49RY9407_2,   P09,    97,  3,      6,    209,2,19940815,1758, -1.0032, 142.0413, 3110,     50.2,  29.0292,  34.3182,2,  34.3225,2,   -999.0,9,   -999.0,9,  -999.00,9,  -999.00,9,  -999.00,9,  -999.00,9, -999.000,9, -999.000,9, -999.000,9,-999.0000,9,  -999.00,9,   -999.0,9,-999.000,9,   -999.0,9,   -999,  -999.0,-999.000,-999.0000,-999.000,  -999.0,-999.000, 29.0171,-999.000
    49RY9407_2,   P09,    97,  3,      7,    220,2,19940815,1758, -1.0032, 142.0413, 3110,     51.4,  29.0219,  34.3425,2,  34.3229,2,   -999.0,9,   -999.0,9,  -999.00,9,  -999.00,9,  -999.00,9,  -999.00,9, -999.000,9, -999.000,9,    1.131,2,   1.6637,2,    -0.85,2,   -999.0,9,   6.502,2,   -999.0,9,   -999,  -999.0,-999.000,  0.0039,   0.190,  -999.0,   0.042, 29.0095,   0.014
    49RY9407_2,   P09,    97,  3,      5,    218,2,19940815,1758, -1.0032, 142.0413, 3110,     75.2,  26.7156,  34.7612,2,  34.7500,2,   -999.0,9,   -999.0,9,  -999.00,9,  -999.00,9,  -999.00,9,  -999.00,9,    0.882,3,    0.480,3,    0.981,2,   1.6625,2,    -0.59,2,   -999.0,9,   6.608,2,   -999.0,9,   -999,  -999.0,-999.000,  0.0038,   0.190,  -999.0,   0.043, 26.6985,   0.012
    49RY9407_2,   P09,    97,  3,      4,    206,2,19940815,1758, -1.0032, 142.0413, 3110,    100.6,  26.0347,  35.2688,2,  35.2700,2,   -999.0,9,   -999.0,9,  -999.00,9,  -999.00,9,  -999.00,9,  -999.00,9,    0.852,3,    0.465,3,    1.150,3,   1.6831,2,     0.14,2,   -999.0,9,   6.732,2,   -999.0,9,   -999,  -999.0,-999.000,  0.0039,   0.190,  -999.0,   0.044, 26.0122,   0.013
    49RY9407_2,   P09,    97,  3,      3,    205,2,19940815,1758, -1.0032, 142.0413, 3110,    150.1,  20.1953,  35.4407,2,  35.4467,2,   -999.0,9,   -999.0,9,  -999.00,9,  -999.00,9,  -999.00,9,  -999.00,9,    0.803,3,    0.412,3,    0.811,2,   1.6921,2,     0.85,2,   -999.0,9,   6.845,2,   -999.0,9,   -999,  -999.0,-999.000,  0.0040,   0.180,  -999.0,   0.045, 20.1673,   0.009
    49RY9407_2,   P09,    97,  3,      1,    201,2,19940815,1758, -1.0032, 142.0413, 3110,    200.6,  17.6978,  35.3322,2,  35.3306,2,   -999.0,9,   -999.0,9,  -999.00,9,  -999.00,9,  -999.00,9,  -999.00,9,    0.702,3,    0.387,3, -999.000,9,-999.0000,9,  -999.00,9,   -999.0,9,-999.000,9,   -999.0,9,   -999,  -999.0,-999.000,-999.0000,-999.000,  -999.0,-999.000, 17.6637,-999.000
    49RY9407_2,   P09,    97,  3,      2,    216,2,19940815,1758, -1.0032, 142.0413, 3110,    202.4,  17.6662,  35.3330,2,  35.3321,2,   -999.0,9,   -999.0,9,  -999.00,9,  -999.00,9,  -999.00,9,  -999.00,9, -999.000,9, -999.000,9,    0.717,2,   1.7424,2,     2.16,2,   -999.0,9,   7.196,3,   -999.0,9,   -999,  -999.0,-999.000,  0.0043,   0.200,  -999.0,   0.025, 17.6318,   0.009
    49RY9407_2,   P09,    97,  3,     24,    222,2,19940815,1758, -1.0032, 142.0413, 3110,    301.0,  11.1424,  34.8386,2,  34.8420,2,   -999.0,9,   -999.0,9,  -999.00,9,  -999.00,9,  -999.00,9,  -999.00,9,    0.335,3,    0.137,3,    0.327,2,   1.7328,2,     3.07,2,   -999.0,9,   7.290,2,   -999.0,9,   -999,  -999.0,-999.000,  0.0050,   0.180,  -999.0,   0.047, 11.1048,   0.005
    49RY9407_2,   P09,    97,  3,     23,    228,2,19940815,1758, -1.0032, 142.0413, 3110,    402.3,   8.9709,  34.6326,2,  34.6341,2,   -999.0,9,   -999.0,9,  -999.00,9,  -999.00,9,  -999.00,9,  -999.00,9,    0.186,3,    0.106,3,    0.310,2,-999.0000,5,  -999.00,5,   -999.0,9,-999.000,9,   -999.0,9,   -999,  -999.0,-999.000,-999.0000,-999.000,  -999.0,-999.000,  8.9270,   0.005
    49RY9407_2,   P09,    97,  3,     22,    227,2,19940815,1758, -1.0032, 142.0413, 3110,    502.9,   7.7655,  34.5812,2,  34.5828,2,   -999.0,9,   -999.0,9,  -999.00,9,  -999.00,9,  -999.00,9,  -999.00,9,    0.129,3,    0.050,3,    0.126,2,   1.7892,2,     6.25,2,   -999.0,9,   7.553,2,   -999.0,9,   -999,  -999.0,-999.000,  0.0049,   0.240,  -999.0,   0.040,  7.7148,   0.006
    49RY9407_2,   P09,    97,  3,     21,    226,2,19940815,1758, -1.0032, 142.0413, 3110,    602.4,   6.6410,  34.5378,2,  34.5374,2,   -999.0,9,   -999.0,9,  -999.00,9,  -999.00,9,  -999.00,9,  -999.00,9,    0.056,3,    0.053,4,    0.068,2,   1.7807,2,     9.08,2,   -999.0,9,   7.529,2,   -999.0,9,   -999,  -999.0,-999.000,  0.0044,   0.180,  -999.0,   0.049,  6.5850,   0.006
    49RY9407_2,   P09,    97,  3,     19,    215,2,19940815,1758, -1.0032, 142.0413, 3110,    704.4,   5.8647,  34.5301,2,  34.5301,2,   -999.0,9,   -999.0,9,  -999.00,9,  -999.00,9,  -999.00,9,  -999.00,9,    0.021,3,    0.000,3,    0.043,2,   1.7916,2,    12.02,2,   -999.0,9,   7.724,2,   -999.0,9,   -999,  -999.0,-999.000,  0.0047,   0.240,  -999.0,   0.041,  5.8029,   0.004
    49RY9407_2,   P09,    97,  3,     20,    203,2,19940815,1758, -1.0032, 142.0413, 3110,    704.4,   5.8647,  34.5301,2,  34.5295,2,   -999.0,9,   -999.0,9,  -999.00,9,  -999.00,9,  -999.00,9,  -999.00,9,    0.020,3,    0.028,4, -999.000,5,   1.7955,2,    11.88,2,   -999.0,9,   7.641,2,   -999.0,9,   -999,  -999.0,-999.000,  0.0048,   0.240,   701.0,   0.041,  5.8029,-999.000
    49RY9407_2,   P09,    97,  3,     18,    221,2,19940815,1758, -1.0032, 142.0413, 3110,    805.7,   5.4512,  34.5376,2,  34.5377,2,   -999.0,9,   -999.0,9,  -999.00,9,  -999.00,9,  -999.00,9,  -999.00,9,    0.004,3,    0.033,4,    0.027,2,-999.0000,5,  -999.00,5,   -999.0,9,-999.000,9,   -999.0,9,   -999,  -999.0,-999.000,-999.0000,-999.000,   804.0,-999.000,  5.3824,   0.004
    49RY9407_2,   P09,    97,  3,     17,    219,2,19940815,1758, -1.0032, 142.0413, 3110,    905.9,   4.7826,  34.5426,2,  34.5423,2,   -999.0,9,   -999.0,9,  -999.00,9,  -999.00,9,  -999.00,9,  -999.00,9,    0.001,3,    0.000,3,    0.029,2,   1.7973,2,    16.36,2,   -999.0,9,   7.656,2,   -999.0,9,   -999,  -999.0,-999.000,  0.0051,   0.240,  -999.0,   0.041,  4.7092,   0.002
    49RY9407_2,   P09,    97,  3,     16,    229,4,19940815,1758, -1.0032, 142.0413, 3110,   1007.2,   4.5106,  34.5495,2,  34.5509,2,   -999.0,9,   -999.0,9,  -999.00,9,  -999.00,9,  -999.00,9,  -999.00,9, -999.000,9, -999.000,9, -999.000,9,-999.0000,9,  -999.00,9,   -999.0,9,-999.000,9,   -999.0,9,   -999,  -999.0,   4.500,-999.0000,-999.000,  1004.0,-999.000,  4.4303,-999.000
    49RY9407_2,   P09,    97,  3,     15,    217,2,19940815,1758, -1.0032, 142.0413, 3110,   1258.5,   3.5856,  34.5756,2,  34.5753,2,   -999.0,9,   -999.0,9,  -999.00,9,  -999.00,9,  -999.00,9,  -999.00,9, -999.000,9, -999.000,9,    0.017,2,   1.8596,2,    20.75,2,   -999.0,9,   7.894,2,   -999.0,9,   -999,  -999.0,-999.000,  0.0041,   0.170,  -999.0,   0.051,  3.4918,   0.004
    49RY9407_2,   P09,    97,  3,     14,    204,2,19940815,1758, -1.0032, 142.0413, 3110,   1259.6,   3.5857,  34.5760,2,  34.5751,2,   -999.0,9,   -999.0,9,  -999.00,9,  -999.00,9,  -999.00,9,  -999.00,9,    0.000,3,    0.000,3, -999.000,9,-999.0000,9,  -999.00,9,   -999.0,9,-999.000,9,   -999.0,9,   -999,  -999.0,   3.583,-999.0000,-999.000,  1257.0,-999.000,  3.4918,-999.000
    49RY9407_2,   P09,    97,  3,     12,    213,2,19940815,1758, -1.0032, 142.0413, 3110,   1514.2,   2.9472,  34.6030,2,  34.6027,2,   -999.0,9,   -999.0,9,  -999.00,9,  -999.00,9,  -999.00,9,  -999.00,9,    0.000,3,    0.000,3, -999.000,9,-999.0000,9,  -999.00,9,   -999.0,9,-999.000,9,   -999.0,9,   -999,  -999.0,-999.000,-999.0000,-999.000,  1514.0,-999.000,  2.8387,-999.000
    49RY9407_2,   P09,    97,  3,     13,    214,2,19940815,1758, -1.0032, 142.0413, 3110,   1514.5,   2.9464,  34.6030,2,  34.6023,2,   -999.0,9,   -999.0,9,  -999.00,9,  -999.00,9,  -999.00,9,  -999.00,9, -999.000,9, -999.000,9,    0.014,2,   1.8524,2,    19.19,2,   -999.0,9,   7.982,2,   -999.0,9,   -999,  -999.0,-999.000,  0.0042,   0.170,  1504.0,   0.052,  2.8379,   0.002