BOTTLE,20020306WHPSIOdm
EXPOCODE,SECT_ID,STNNBR,CASTNO,SAMPNO,BTLNBR,BTLNBR_FLAG_W,DATE,TIME,LATITUDE,LONGITUDE,DEPTH,CTDPRS,CTDTMP,CTDSAL,CTDSAL_FLAG_W,SALNTY,SALNTY_FLAG_W,CTDOXY,CTDOXY_FLAG_W,OXYGEN,OXYGEN_FLAG_W,SILCAT,SILCAT_FLAG_W,NITRAT,NITRAT_FLAG_W,NITRIT,NITRIT_FLAG_W,PHSPHT,PHSPHT_FLAG_W,CFC-11,CFC-11_FLAG_W,CFC-12,CFC-12_FLAG_W,TRITUM,TRITUM_FLAG_W,HELIUM,HELIUM_FLAG_W,DELHE3,DELHE3_FLAG_W,DELC14,DELC14_FLAG_W,NEON,NEON_FLAG_W,TCARBN,TCARBN_FLAG_W,CTDRAW,C14ERR,REVTMP,HELIER,DELHER,REVPRS,NEONER,THETA,TRITER
,,,,,,,,,,,,DBAR,ITS-90,PSS-78,,PSS-78,,UMOL/KG,,UMOL/KG,,UMOL/KG,,UMOL/KG,,UMOL/KG,,UMOL/KG,,PMOL/KG,,PMOL/KG,,TU,,NMOL/KG,,PERCNT,,/MILLE,,NMOL/KG,,UMOL/KG,,,/MILLE,ITS-90,NMOL/KG,PERCNT,DBAR,NMOL/KG,DEG C,TU
    49RY9407_2,   P09,    73,  2,      9,    223,2,19940809,1259,  5.9290, 138.0827, 4205,    402.6,   8.0663,  34.5748,2,  34.5765,2,   -999.0,9,     65.9,2,    43.78,2,    35.09,2,     0.00,2,     2.44,2, -999.000,9, -999.000,9, -999.000,9,-999.0000,9,  -999.00,9,   -999.0,9,-999.000,9,   -999.0,9,   -999,  -999.0,-999.000,-999.0000,-999.000,  -999.0,-999.000,  8.0251,-999.000
    49RY9407_2,   P09,    73,  2,      8,    212,2,19940809,1259,  5.9290, 138.0827, 4205,    503.9,   7.3694,  34.5558,2,  34.5566,2,   -999.0,9,     73.5,2,    48.74,2,    35.66,2,     0.00,2,     2.46,2, -999.000,9, -999.000,9, -999.000,9,-999.0000,9,  -999.00,9,   -999.0,9,-999.000,9,   -999.0,9,   -999,  -999.0,-999.000,-999.0000,-999.000,  -999.0,-999.000,  7.3201,-999.000
    49RY9407_2,   P09,    73,  2,      7,    220,2,19940809,1259,  5.9290, 138.0827, 4205,    603.7,   6.7926,  34.5430,2,  34.5446,2,   -999.0,9,     75.0,2,    55.62,2,    36.51,2,     0.00,2,     2.56,2, -999.000,9, -999.000,9, -999.000,9,-999.0000,9,  -999.00,9,   -999.0,9,-999.000,9,   -999.0,9,   -999,  -999.0,-999.000,-999.0000,-999.000,  -999.0,-999.000,  6.7358,-999.000
    49RY9407_2,   P09,    73,  2,      6,    209,2,19940809,1259,  5.9290, 138.0827, 4205,    704.9,   6.0875,  34.5346,2,  34.5446,4,   -999.0,9,     75.4,3,    55.67,2,    36.54,2,     0.00,2,     2.54,2, -999.000,9, -999.000,9, -999.000,9,-999.0000,9,  -999.00,9,   -999.0,9,-999.000,9,   -999.0,9,   -999,  -999.0,-999.000,-999.0000,-999.000,  -999.0,-999.000,  6.0244,-999.000
    49RY9407_2,   P09,    73,  2,      5,    218,2,19940809,1259,  5.9290, 138.0827, 4205,    806.1,   5.4471,  34.5338,2,  34.5342,2,   -999.0,9,     85.1,2,    73.40,2,    37.78,2,     0.00,2,     2.65,2, -999.000,9, -999.000,9, -999.000,9,-999.0000,9,  -999.00,9,   -999.0,9,-999.000,9,   -999.0,9,   -999,  -999.0,-999.000,-999.0000,-999.000,  -999.0,-999.000,  5.3783,-999.000
    49RY9407_2,   P09,    73,  2,      4,    206,2,19940809,1259,  5.9290, 138.0827, 4205,    906.8,   4.9868,  34.5403,2,  34.5403,2,   -999.0,9,     87.2,2,    82.71,2,    38.23,2,     0.00,2,     2.67,2, -999.000,9, -999.000,9, -999.000,9,-999.0000,9,  -999.00,9,   -999.0,9,-999.000,9,   -999.0,9,   -999,  -999.0,-999.000,-999.0000,-999.000,  -999.0,-999.000,  4.9119,-999.000
    49RY9407_2,   P09,    73,  2,      3,    205,2,19940809,1259,  5.9290, 138.0827, 4205,   1006.5,   4.4337,  34.5516,2,  34.5523,2,   -999.0,9,     95.9,3,    92.97,2,    38.37,2,     0.00,2,     2.70,2, -999.000,9, -999.000,9, -999.000,9,-999.0000,9,  -999.00,9,   -999.0,9,-999.000,9,   -999.0,9,   -999,  -999.0,-999.000,-999.0000,-999.000,  -999.0,-999.000,  4.3541,-999.000
    49RY9407_2,   P09,    73,  2,      2,    216,2,19940809,1259,  5.9290, 138.0827, 4205,   1260.8,   3.5497,  34.5783,2,  34.5790,2,   -999.0,9,     95.4,2,   110.57,2,    39.01,2,     0.00,2,     2.74,2, -999.000,9, -999.000,9, -999.000,9,-999.0000,9,  -999.00,9,   -999.0,9,-999.000,9,   -999.0,9,   -999,  -999.0,-999.000,-999.0000,-999.000,  -999.0,-999.000,  3.4561,-999.000
    49RY9407_2,   P09,    73,  2,      1,    201,2,19940809,1259,  5.9290, 138.0827, 4205,   1514.0,   2.9534,  34.6009,2,  34.6017,2,   -999.0,9,     98.8,2,   123.12,2,    39.31,2,     0.00,2,     2.76,2, -999.000,9, -999.000,9, -999.000,9,-999.0000,9,  -999.00,9,   -999.0,9,-999.000,9,   -999.0,9,   -999,  -999.0,-999.000,-999.0000,-999.000,  -999.0,-999.000,  2.8449,-999.000
    49RY9407_2,   P09,    73,  2,     24,    222,2,19940809,1259,  5.9290, 138.0827, 4205,   1767.9,   2.5697,  34.6179,2,  34.6186,2,   -999.0,9,    104.8,2,   131.16,2,    39.08,2,     0.00,2,     2.74,2, -999.000,9, -999.000,9, -999.000,9,-999.0000,9,  -999.00,9,   -999.0,9,-999.000,9,   -999.0,9,   -999,  -999.0,-999.000,-999.0000,-999.000,  -999.0,-999.000,  2.4447,-999.000
    49RY9407_2,   P09,    73,  2,     23,    228,2,19940809,1259,  5.9290, 138.0827, 4205,   2021.7,   2.2550,  34.6325,2,  34.6343,2,   -999.0,9,    113.3,2,   136.44,6,    38.77,6,     0.00,6,     2.71,6, -999.000,9, -999.000,9, -999.000,5,   1.8836,2,    21.86,2,   -999.0,9,   7.962,2,   -999.0,9,   -999,  -999.0,-999.000,  0.0024,   0.230,  -999.0,   0.031,  2.1128,-999.000
    49RY9407_2,   P09,    73,  2,     20,    203,2,19940809,1259,  5.9290, 138.0827, 4205,   2275.0,   1.9840,  34.6474,2,  34.6477,2,   -999.0,9,    122.3,2,   140.42,6,    38.21,6,     0.00,6,     2.64,6, -999.000,9, -999.000,9, -999.000,5,   1.8788,2,    21.69,2,   -999.0,9,   7.885,3,   -999.0,9,   -999,  -999.0,-999.000,  0.0026,   0.210,  2274.0,   0.014,  1.8242,-999.000
    49RY9407_2,   P09,    73,  2,     21,    226,2,19940809,1259,  5.9290, 138.0827, 4205,   2275.0,   1.9840,  34.6474,2,  34.6475,2,   -999.0,9,    122.2,6,   140.38,6,    38.21,6,     0.00,6,     2.65,6, -999.000,9, -999.000,9, -999.000,9,-999.0000,9,  -999.00,9,   -999.0,9,-999.000,9,   -999.0,9,   -999,  -999.0,-999.000,-999.0000,-999.000,  -999.0,-999.000,  1.8242,-999.000
    49RY9407_2,   P09,    73,  2,     22,    227,2,19940809,1259,  5.9290, 138.0827, 4205,   2275.3,   1.9840,  34.6478,2,  34.6485,2,   -999.0,9,    122.5,6,   140.37,6,    38.29,6,     0.00,6,     2.66,6, -999.000,9, -999.000,9, -999.000,9,-999.0000,9,  -999.00,9,   -999.0,9,-999.000,9,   -999.0,9,   -999,  -999.0,-999.000,-999.0000,-999.000,  -999.0,-999.000,  1.8241,-999.000
    49RY9407_2,   P09,    73,  2,     19,    210,2,19940809,1259,  5.9290, 138.0827, 4205,   2531.0,   1.7692,  34.6595,2,  34.6583,2,   -999.0,9,    132.1,2,   142.16,2,    37.57,2,     0.00,2,     2.60,2, -999.000,9, -999.000,9, -999.000,9,-999.0000,9,  -999.00,9,   -999.0,9,-999.000,9,   -999.0,9,   -999,  -999.0,-999.000,-999.0000,-999.000,  -999.0,-999.000,  1.5904,-999.000
    49RY9407_2,   P09,    73,  2,     18,    221,2,19940809,1259,  5.9290, 138.0827, 4205,   2783.9,   1.6586,  34.6669,2,  34.6660,2,   -999.0,9,    138.6,2,   142.76,2,    37.19,2,     0.00,2,     2.56,2, -999.000,9, -999.000,9, -999.000,5,   1.8911,2,    19.87,2,   -999.0,9,   8.023,2,   -999.0,9,   -999,  -999.0,-999.000,  0.0027,   0.210,  2785.0,   0.014,  1.4588,-999.000
    49RY9407_2,   P09,    73,  2,     17,    219,2,19940809,1259,  5.9290, 138.0827, 4205,   3039.4,   1.5906,  34.6722,2,  34.6711,2,   -999.0,9,    143.2,2,   142.85,2,    36.93,2,     0.00,2,     2.54,2, -999.000,9, -999.000,9, -999.000,9,-999.0000,9,  -999.00,9,   -999.0,9,-999.000,9,   -999.0,9,   -999,  -999.0,-999.000,-999.0000,-999.000,  -999.0,-999.000,  1.3680,-999.000
    49RY9407_2,   P09,    73,  2,     16,    229,2,19940809,1259,  5.9290, 138.0827, 4205,   3296.4,   1.5601,  34.6756,2,  34.6753,2,   -999.0,9,    146.3,2,   142.22,2,    36.68,2,     0.00,2,     2.51,2, -999.000,9, -999.000,9, -999.000,5,   1.8836,2,    18.96,2,   -999.0,9,   8.079,2,   -999.0,9,   -999,  -999.0,   1.552,  0.0027,   0.220,  3295.0,   0.014,  1.3130,-999.000
    49RY9407_2,   P09,    73,  2,     15,    217,2,19940809,1259,  5.9290, 138.0827, 4205,   3551.1,   1.5385,  34.6795,2,  34.6776,2,   -999.0,9,    150.0,2,   141.98,2,    36.45,2,     0.00,2,     2.50,2, -999.000,9, -999.000,9, -999.000,9,-999.0000,9,  -999.00,9,   -999.0,9,-999.000,9,   -999.0,9,   -999,  -999.0,-999.000,-999.0000,-999.000,  -999.0,-999.000,  1.2662,-999.000
    49RY9407_2,   P09,    73,  2,     14,    204,2,19940809,1259,  5.9290, 138.0827, 4205,   3807.2,   1.5243,  34.6819,2,  34.6814,2,   -999.0,9,    152.9,2,   141.42,2,    36.30,2,     0.00,2,     2.47,2, -999.000,9, -999.000,9, -999.000,5,   1.8805,2,    17.33,2,   -999.0,9,   8.039,2,   -999.0,9,   -999,  -999.0,   1.522,  0.0028,   0.170,  3805.0,   0.016,  1.2255,-999.000
    49RY9407_2,   P09,    73,  2,     13,    214,2,19940809,1259,  5.9290, 138.0827, 4205,   4063.7,   1.5171,  34.6846,2,  34.6812,3,   -999.0,9,    155.5,2,   140.52,2,    36.11,2,     0.00,2,     2.45,2, -999.000,9, -999.000,9, -999.000,5,   1.8862,2,    16.61,2,   -999.0,9,   8.045,2,   -999.0,9,   -999,  -999.0,-999.000,  0.0027,   0.170,  -999.0,   0.016,  1.1907,-999.000
    49RY9407_2,   P09,    73,  2,     12,    213,4,19940809,1259,  5.9290, 138.0827, 4205,   4261.6,   1.5163,  34.6870,2,  34.6856,6,   -999.0,9,    157.3,2,   139.92,2,    35.99,2,     0.00,2,     2.46,2, -999.000,9, -999.000,9, -999.000,9,-999.0000,9,  -999.00,9,   -999.0,9,-999.000,9,   -999.0,9,   -999,  -999.0,-999.000,-999.0000,-999.000,  4258.0,-999.000,  1.1680,-999.000
    49RY9407_2,   P09,    73,  3,      6,    209,2,19940809,1534,  5.9362, 138.0945, 4210,      1.7,  29.5763,  33.6535,2,  33.6589,2,   -999.0,9,   -999.0,9,  -999.00,9,  -999.00,9,  -999.00,9,  -999.00,9,    1.599,2,    1.031,3,    1.616,2,   1.6859,2,    -1.14,2,   -999.0,9,   6.327,4,   -999.0,9,   -999,  -999.0,-999.000,  0.0026,   0.230,  -999.0,   0.013, 29.5759,   0.018
    49RY9407_2,   P09,    73,  3,      5,    218,2,19940809,1534,  5.9362, 138.0945, 4210,     24.3,  28.8158,  33.6812,2,  33.6979,2,   -999.0,9,   -999.0,9,  -999.00,9,  -999.00,9,  -999.00,9,  -999.00,9,    1.633,2,    1.074,3,    1.585,2,   1.7748,3,    -2.05,3,   -999.0,9,   7.422,4,   -999.0,9,   -999,  -999.0,-999.000,  0.0028,   0.230,  -999.0,   0.015, 28.8100,   0.018
    49RY9407_2,   P09,    73,  3,      4,    206,2,19940809,1534,  5.9362, 138.0945, 4210,     49.7,  28.5575,  33.7224,2,  33.7359,2,   -999.0,9,   -999.0,9,  -999.00,9,  -999.00,9,  -999.00,9,  -999.00,9,    1.663,2,    1.109,3,    1.616,2,   1.6762,2,    -0.90,2,   -999.0,9,   6.574,2,   -999.0,9,   -999,  -999.0,-999.000,  0.0026,   0.230,  -999.0,   0.013, 28.5456,   0.018
    49RY9407_2,   P09,    73,  3,      3,    205,2,19940809,1534,  5.9362, 138.0945, 4210,     74.3,  24.7697,  34.6587,2,  34.6845,2,   -999.0,9,   -999.0,9,  -999.00,9,  -999.00,9,  -999.00,9,  -999.00,9,    1.948,2,    1.232,3,    1.675,2,   1.6713,2,     1.19,2,   -999.0,9,   6.618,2,   -999.0,9,   -999,  -999.0,-999.000,  0.0032,   0.230,  -999.0,   0.013, 24.7538,   0.019
    49RY9407_2,   P09,    73,  3,      2,    216,2,19940809,1534,  5.9362, 138.0945, 4210,     99.6,  18.4845,  34.8063,2,  34.8160,2,   -999.0,9,   -999.0,9,  -999.00,9,  -999.00,9,  -999.00,9,  -999.00,9,    1.867,2,    1.147,3,    1.847,2,   1.7096,2,     4.16,2,   -999.0,9,   7.017,2,   -999.0,9,   -999,  -999.0,-999.000,  0.0024,   0.240,  -999.0,   0.027, 18.4671,   0.021
    49RY9407_2,   P09,    73,  3,      1,    201,2,19940809,1534,  5.9362, 138.0945, 4210,    150.1,  14.2563,  34.6146,2,  34.6259,2,   -999.0,9,   -999.0,9,  -999.00,9,  -999.00,9,  -999.00,9,  -999.00,9,    1.402,2,    0.807,3,    1.506,2,   1.7401,2,     7.70,2,   -999.0,9,   7.208,2,   -999.0,9,   -999,  -999.0,-999.000,  0.0022,   0.240,  -999.0,   0.028, 14.2344,   0.017
    49RY9407_2,   P09,    73,  3,     24,    222,2,19940809,1534,  5.9362, 138.0945, 4210,    200.3,  11.1710,  34.5396,2,  34.5324,2,   -999.0,9,   -999.0,9,  -999.00,9,  -999.00,9,  -999.00,9,  -999.00,9,    0.799,6,    0.467,3, -999.000,9,-999.0000,9,  -999.00,9,   -999.0,9,-999.000,9,   -999.0,9,   -999,  -999.0,-999.000,-999.0000,-999.000,  -999.0,-999.000, 11.1461,-999.000
    49RY9407_2,   P09,    73,  3,     23,    228,2,19940809,1534,  5.9362, 138.0945, 4210,    200.6,  11.1931,  34.5316,2,  34.5322,2,   -999.0,9,   -999.0,9,  -999.00,9,  -999.00,9,  -999.00,9,  -999.00,9, -999.000,9, -999.000,9,    1.051,2,   1.7590,2,     9.99,2,   -999.0,9,   7.370,2,   -999.0,9,   -999,  -999.0,-999.000,  0.0026,   0.170,  -999.0,   0.015, 11.1682,   0.012
    49RY9407_2,   P09,    73,  3,     22,    227,2,19940809,1534,  5.9362, 138.0945, 4210,    300.9,   9.0559,  34.5871,2,  34.5899,2,   -999.0,9,   -999.0,9,  -999.00,9,  -999.00,9,  -999.00,9,  -999.00,9,    0.210,2,    0.165,3,    0.318,2,   1.7706,2,     8.00,2,   -999.0,9,   7.494,2,   -999.0,9,   -999,  -999.0,-999.000,  0.0023,   0.240,  -999.0,   0.030,  9.0231,   0.005
    49RY9407_2,   P09,    73,  3,     21,    226,2,19940809,1534,  5.9362, 138.0945, 4210,    401.6,   8.2141,  34.5822,2,  34.5859,2,   -999.0,9,   -999.0,9,  -999.00,9,  -999.00,9,  -999.00,9,  -999.00,9,    0.097,2,    0.106,3,    0.135,2,   1.7962,2,     7.81,2,   -999.0,9,   7.658,2,   -999.0,9,   -999,  -999.0,-999.000,  0.0028,   0.230,  -999.0,   0.015,  8.1725,   0.003
    49RY9407_2,   P09,    73,  3,     19,    210,2,19940809,1534,  5.9362, 138.0945, 4210,    502.2,   7.5005,  34.5626,2,  34.5633,2,   -999.0,9,   -999.0,9,  -999.00,9,  -999.00,9,  -999.00,9,  -999.00,9,    0.078,2,    0.068,3,    0.096,2,   1.7904,2,     8.59,2,   -999.0,9,   7.595,2,   -999.0,9,   -999,  -999.0,-999.000,  0.0023,   0.240,  -999.0,   0.030,  7.4509,   0.003
    49RY9407_2,   P09,    73,  3,     20,    203,2,19940809,1534,  5.9362, 138.0945, 4210,    502.2,   7.5005,  34.5626,2,  34.5637,2,   -999.0,9,   -999.0,9,  -999.00,9,  -999.00,9,  -999.00,9,  -999.00,9,    0.074,2,    0.084,3,    0.095,2,   1.7945,2,     9.10,2,   -999.0,9,   7.638,2,   -999.0,9,   -999,  -999.0,-999.000,  0.0024,   0.240,   503.0,   0.030,  7.4509,   0.003
    49RY9407_2,   P09,    73,  3,     18,    221,2,19940809,1534,  5.9362, 138.0945, 4210,    602.7,   6.8307,  34.5437,2,  34.5448,2,   -999.0,9,   -999.0,9,  -999.00,9,  -999.00,9,  -999.00,9,  -999.00,9,    0.039,2,    0.029,3,    0.079,2,   1.7938,2,    10.24,2,   -999.0,9,   7.599,2,   -999.0,9,   -999,  -999.0,-999.000,  0.0024,   0.240,   602.0,   0.030,  6.7738,   0.003
    49RY9407_2,   P09,    73,  3,     17,    219,2,19940809,1534,  5.9362, 138.0945, 4210,    702.8,   6.0683,  34.5353,2,  34.5360,2,   -999.0,9,   -999.0,9,  -999.00,9,  -999.00,9,  -999.00,9,  -999.00,9,    0.027,2,    0.130,4,    0.036,2,   1.7793,2,    12.76,2,   -999.0,9,   7.495,4,   -999.0,9,   -999,  -999.0,-999.000,  0.0023,   0.240,  -999.0,   0.029,  6.0055,   0.003
    49RY9407_2,   P09,    73,  3,     16,    229,2,19940809,1534,  5.9362, 138.0945, 4210,    804.8,   5.4081,  34.5343,2,  34.5360,2,   -999.0,9,   -999.0,9,  -999.00,9,  -999.00,9,  -999.00,9,  -999.00,9,    0.018,2,    0.129,4,    0.032,2,   1.9543,4,    12.70,4,   -999.0,9,   8.253,4,   -999.0,9,   -999,  -999.0,   5.399,  0.0025,   0.230,   802.0,   0.032,  5.3396,   0.003
    49RY9407_2,   P09,    73,  3,     15,    217,2,19940809,1534,  5.9362, 138.0945, 4210,    905.8,   5.0315,  34.5409,2,  34.5433,2,   -999.0,9,   -999.0,9,  -999.00,9,  -999.00,9,  -999.00,9,  -999.00,9,    0.010,2,    0.087,4, -999.000,5,   1.8313,2,    15.88,2,   -999.0,9,   7.756,2,   -999.0,9,   -999,  -999.0,-999.000,  0.0027,   0.220,  -999.0,   0.013,  4.9563,-999.000
    49RY9407_2,   P09,    73,  3,     14,    204,2,19940809,1534,  5.9362, 138.0945, 4210,   1006.7,   4.4442,  34.5509,2,  34.5529,2,   -999.0,9,   -999.0,9,  -999.00,9,  -999.00,9,  -999.00,9,  -999.00,9,    0.018,4,    0.082,4,    0.033,2,   1.8372,2,    17.53,2,   -999.0,9,   7.785,2,   -999.0,9,   -999,  -999.0,   4.442,  0.0026,   0.220,  1003.0,   0.013,  4.3644,   0.003
    49RY9407_2,   P09,    73,  3,     13,    214,2,19940809,1534,  5.9362, 138.0945, 4210,   1260.1,   3.5539,  34.5800,2,  34.5787,2,   -999.0,9,   -999.0,9,  -999.00,9,  -999.00,9,  -999.00,9,  -999.00,9, -999.000,9, -999.000,9,    0.019,2,   1.8534,2,    20.34,2,   -999.0,9,   7.859,2,   -999.0,9,   -999,  -999.0,-999.000,  0.0026,   0.220,  1253.0,   0.013,  3.4603,   0.002
    49RY9407_2,   P09,    73,  3,     12,    213,4,19940809,1534,  5.9362, 138.0945, 4210,   1514.6,   2.9539,  34.6022,2,  34.6017,2,   -999.0,9,   -999.0,9,  -999.00,9,  -999.00,9,  -999.00,9,  -999.00,9,    0.004,2,    0.117,4, -999.000,9,-999.0000,9,  -999.00,9,   -999.0,9,-999.000,9,   -999.0,9,   -999,  -999.0,-999.000,-999.0000,-999.000,  1511.0,-999.000,  2.8453,-999.000