BOTTLE,20020306WHPSIOdm
EXPOCODE,SECT_ID,STNNBR,CASTNO,SAMPNO,BTLNBR,BTLNBR_FLAG_W,DATE,TIME,LATITUDE,LONGITUDE,DEPTH,CTDPRS,CTDTMP,CTDSAL,CTDSAL_FLAG_W,SALNTY,SALNTY_FLAG_W,CTDOXY,CTDOXY_FLAG_W,OXYGEN,OXYGEN_FLAG_W,SILCAT,SILCAT_FLAG_W,NITRAT,NITRAT_FLAG_W,NITRIT,NITRIT_FLAG_W,PHSPHT,PHSPHT_FLAG_W,CFC-11,CFC-11_FLAG_W,CFC-12,CFC-12_FLAG_W,TRITUM,TRITUM_FLAG_W,HELIUM,HELIUM_FLAG_W,DELHE3,DELHE3_FLAG_W,DELC14,DELC14_FLAG_W,NEON,NEON_FLAG_W,TCARBN,TCARBN_FLAG_W,CTDRAW,C14ERR,REVTMP,HELIER,DELHER,REVPRS,NEONER,THETA,TRITER
,,,,,,,,,,,,DBAR,ITS-90,PSS-78,,PSS-78,,UMOL/KG,,UMOL/KG,,UMOL/KG,,UMOL/KG,,UMOL/KG,,UMOL/KG,,PMOL/KG,,PMOL/KG,,TU,,NMOL/KG,,PERCNT,,/MILLE,,NMOL/KG,,UMOL/KG,,,/MILLE,ITS-90,NMOL/KG,PERCNT,DBAR,NMOL/KG,DEG C,TU
    49RY9407_2,   P09,    55,  2,     10,    224,2,19940805,1938, 13.0378, 136.9777, 4780,    503.8,   7.0827,  34.4324,2,  34.4375,2,     73.9,2,     74.3,2,    57.70,3,    35.15,6,     0.00,6,     2.52,6, -999.000,9, -999.000,9, -999.000,9,-999.0000,9,  -999.00,9,   -999.0,9,-999.000,9,   -999.0,9,   -999,  -999.0,-999.000,-999.0000,-999.000,  -999.0,-999.000,  7.0346,-999.000
    49RY9407_2,   P09,    55,  2,      9,    223,2,19940805,1938, 13.0378, 136.9777, 4780,    603.8,   6.2254,  34.4387,2,  34.4532,2,     80.1,2,     78.3,2,    67.41,3,    36.38,2,     0.01,2,     2.62,2, -999.000,9, -999.000,9, -999.000,9,-999.0000,9,  -999.00,9,   -999.0,9,-999.000,9,   -999.0,9,   -999,  -999.0,-999.000,-999.0000,-999.000,  -999.0,-999.000,  6.1713,-999.000
    49RY9407_2,   P09,    55,  2,      8,    212,2,19940805,1938, 13.0378, 136.9777, 4780,    704.9,   5.7072,  34.4843,2,  34.4856,2,     83.3,2,     84.6,2,    72.68,3,    37.03,2,     0.00,2,     2.65,2, -999.000,9, -999.000,9, -999.000,9,-999.0000,9,  -999.00,9,   -999.0,9,-999.000,9,   -999.0,9,   -999,  -999.0,-999.000,-999.0000,-999.000,  -999.0,-999.000,  5.6462,-999.000
    49RY9407_2,   P09,    55,  2,      7,    220,2,19940805,1938, 13.0378, 136.9777, 4780,    803.4,   5.2043,  34.5097,2,  34.5071,2,     85.8,2,     85.8,6,    80.04,3,    37.62,2,     0.00,2,     2.70,2, -999.000,9, -999.000,9, -999.000,9,-999.0000,9,  -999.00,9,   -999.0,9,-999.000,9,   -999.0,9,   -999,  -999.0,-999.000,-999.0000,-999.000,  -999.0,-999.000,  5.1373,-999.000
    49RY9407_2,   P09,    55,  2,      6,    209,2,19940805,1938, 13.0378, 136.9777, 4780,    906.7,   4.7408,  34.5217,2,  34.5230,2,     84.9,2,     86.3,2,    89.17,3,    38.21,2,     0.00,2,     2.75,2, -999.000,9, -999.000,9, -999.000,9,-999.0000,9,  -999.00,9,   -999.0,9,-999.000,9,   -999.0,9,   -999,  -999.0,-999.000,-999.0000,-999.000,  -999.0,-999.000,  4.6676,-999.000
    49RY9407_2,   P09,    55,  2,      5,    218,2,19940805,1938, 13.0378, 136.9777, 4780,   1008.9,   4.3425,  34.5322,2,  34.5321,6,     87.4,2,     87.2,2,    97.86,3,    38.55,2,     0.00,2,     2.77,2, -999.000,9, -999.000,9, -999.000,9,-999.0000,9,  -999.00,9,   -999.0,9,-999.000,9,   -999.0,9,   -999,  -999.0,-999.000,-999.0000,-999.000,  -999.0,-999.000,  4.2634,-999.000
    49RY9407_2,   P09,    55,  2,      4,    206,2,19940805,1938, 13.0378, 136.9777, 4780,   1263.2,   3.5510,  34.5646,2,  34.5600,2,     87.4,2,     89.5,2,   114.07,3,    39.21,2,     0.00,2,     2.82,2, -999.000,9, -999.000,9, -999.000,9,-999.0000,9,  -999.00,9,   -999.0,9,-999.000,9,   -999.0,9,   -999,  -999.0,-999.000,-999.0000,-999.000,  -999.0,-999.000,  3.4571,-999.000
    49RY9407_2,   P09,    55,  2,      3,    205,2,19940805,1938, 13.0378, 136.9777, 4780,   1514.2,   2.9188,  34.5870,2,  34.5871,2,     94.3,2,     98.7,2,   126.21,3,    39.27,6,     0.00,6,     2.81,6, -999.000,9, -999.000,9, -999.000,9,-999.0000,9,  -999.00,9,   -999.0,9,-999.000,9,   -999.0,9,   -999,  -999.0,-999.000,-999.0000,-999.000,  -999.0,-999.000,  2.8107,-999.000
    49RY9407_2,   P09,    55,  2,      2,    216,2,19940805,1938, 13.0378, 136.9777, 4780,   1768.6,   2.4320,  34.6113,2,  34.6111,2,    106.0,2,    107.0,2,   135.02,3,    39.03,2,     0.00,2,     2.78,2, -999.000,9, -999.000,9, -999.000,9,-999.0000,9,  -999.00,9,   -999.0,9,-999.000,9,   -999.0,9,   -999,  -999.0,-999.000,-999.0000,-999.000,  -999.0,-999.000,  2.3088,-999.000
    49RY9407_2,   P09,    55,  2,      1,    201,2,19940805,1938, 13.0378, 136.9777, 4780,   2022.5,   2.1316,  34.6302,2,  34.6310,2,    113.4,2,    114.6,6,   139.48,3,    38.64,2,     0.00,2,     2.74,2, -999.000,9, -999.000,9, -999.000,9,-999.0000,9,  -999.00,9,   -999.0,9,-999.000,9,   -999.0,9,   -999,  -999.0,-999.000,-999.0000,-999.000,  -999.0,-999.000,  1.9913,-999.000
    49RY9407_2,   P09,    55,  2,     24,    222,2,19940805,1938, 13.0378, 136.9777, 4780,   2275.2,   1.9169,  34.6456,2,  34.6444,6,    122.5,2,    124.0,2,   142.20,3,    38.20,2,     0.00,2,     2.71,2, -999.000,9, -999.000,9, -999.000,9,-999.0000,9,  -999.00,9,   -999.0,9,-999.000,9,   -999.0,9,   -999,  -999.0,-999.000,-999.0000,-999.000,  -999.0,-999.000,  1.7582,-999.000
    49RY9407_2,   P09,    55,  2,     22,    227,2,19940805,1938, 13.0378, 136.9777, 4780,   2530.8,   1.7745,  34.6550,2,  34.6518,3,    128.5,2,    129.3,2,   144.60,3,    37.90,2,     0.00,2,     2.68,2, -999.000,9, -999.000,9, -999.000,9,-999.0000,9,  -999.00,9,   -999.0,9,-999.000,9,   -999.0,9,   -999,  -999.0,-999.000,-999.0000,-999.000,  -999.0,-999.000,  1.5956,-999.000
    49RY9407_2,   P09,    55,  2,     23,    228,2,19940805,1938, 13.0378, 136.9777, 4780,   2530.8,   1.7745,  34.6550,2,  34.6548,2,    128.5,2,    128.2,2,   144.55,3,    37.89,2,     0.00,2,     2.68,2, -999.000,9, -999.000,9, -999.000,9,-999.0000,9,  -999.00,9,   -999.0,9,-999.000,9,   -999.0,9,   -999,  -999.0,-999.000,-999.0000,-999.000,  -999.0,-999.000,  1.5956,-999.000
    49RY9407_2,   P09,    55,  2,     21,    226,2,19940805,1938, 13.0378, 136.9777, 4780,   2784.8,   1.6919,  34.6618,2,  34.6617,6,    132.2,2,    133.4,2,   145.30,3,    37.71,2,     0.00,2,     2.65,2, -999.000,9, -999.000,9, -999.000,9,-999.0000,9,  -999.00,9,   -999.0,9,-999.000,9,   -999.0,9,   -999,  -999.0,-999.000,-999.0000,-999.000,  -999.0,-999.000,  1.4913,-999.000
    49RY9407_2,   P09,    55,  2,     20,    203,2,19940805,1938, 13.0378, 136.9777, 4780,   3041.8,   1.6394,  34.6666,2,  34.6609,3,    137.0,2,    137.7,3,   144.91,3,    37.30,2,     0.00,2,     2.63,2, -999.000,9, -999.000,9, -999.000,9,-999.0000,9,  -999.00,9,   -999.0,9,-999.000,9,   -999.0,9,   -999,  -999.0,-999.000,-999.0000,-999.000,  3039.0,-999.000,  1.4156,-999.000
    49RY9407_2,   P09,    55,  2,     19,    210,2,19940805,1938, 13.0378, 136.9777, 4780,   3296.1,   1.5995,  34.6721,2,  34.6717,2,    143.4,2,    143.3,2,   143.27,3,    36.92,6,     0.00,6,     2.60,6, -999.000,9, -999.000,9, -999.000,9,-999.0000,9,  -999.00,9,   -999.0,9,-999.000,9,   -999.0,9,   -999,  -999.0,-999.000,-999.0000,-999.000,  -999.0,-999.000,  1.3515,-999.000
    49RY9407_2,   P09,    55,  2,     18,    221,2,19940805,1938, 13.0378, 136.9777, 4780,   3553.2,   1.5728,  34.6760,2,  34.6753,2,    146.7,2,    149.2,2,   142.21,3,    36.72,2,     0.00,2,     2.58,2, -999.000,9, -999.000,9, -999.000,9,-999.0000,9,  -999.00,9,   -999.0,9,-999.000,9,   -999.0,9,   -999,  -999.0,-999.000,-999.0000,-999.000,  3553.0,-999.000,  1.2994,-999.000
    49RY9407_2,   P09,    55,  2,     17,    219,2,19940805,1938, 13.0378, 136.9777, 4780,   3806.7,   1.5558,  34.6785,2,  34.6781,6,    151.8,2,    151.6,2,   141.50,3,    36.53,2,     0.00,2,     2.56,2, -999.000,9, -999.000,9, -999.000,9,-999.0000,9,  -999.00,9,   -999.0,9,-999.000,9,   -999.0,9,   -999,  -999.0,-999.000,-999.0000,-999.000,  -999.0,-999.000,  1.2562,-999.000
    49RY9407_2,   P09,    55,  2,     16,    229,2,19940805,1938, 13.0378, 136.9777, 4780,   4063.3,   1.5190,  34.6828,2,  34.6825,2,    157.9,2,    156.9,2,   140.12,3,    36.08,2,     0.00,2,     2.53,2, -999.000,9, -999.000,9, -999.000,9,-999.0000,9,  -999.00,9,   -999.0,9,-999.000,9,   -999.0,9,   -999,  -999.0,   1.514,-999.0000,-999.000,  4064.0,-999.000,  1.1926,-999.000
    49RY9407_2,   P09,    55,  2,     15,    217,2,19940805,1938, 13.0378, 136.9777, 4780,   4320.1,   1.5126,  34.6852,2,  34.6852,6,    161.2,2,    159.9,2,   139.10,3,    35.86,2,     0.00,2,     2.51,2, -999.000,9, -999.000,9, -999.000,9,-999.0000,9,  -999.00,9,   -999.0,9,-999.000,9,   -999.0,9,   -999,  -999.0,-999.000,-999.0000,-999.000,  -999.0,-999.000,  1.1578,-999.000
    49RY9407_2,   P09,    55,  2,     14,    204,2,19940805,1938, 13.0378, 136.9777, 4780,   4576.7,   1.5198,  34.6861,2,  34.6875,2,    163.6,2,    162.4,2,   137.98,3,    35.73,6,     0.00,6,     2.50,6, -999.000,9, -999.000,9, -999.000,9,-999.0000,9,  -999.00,9,   -999.0,9,-999.000,9,   -999.0,9,   -999,  -999.0,   1.516,-999.0000,-999.000,  4579.0,-999.000,  1.1353,-999.000
    49RY9407_2,   P09,    55,  2,     13,    214,2,19940805,1938, 13.0378, 136.9777, 4780,   4833.0,   1.5480,  34.6873,2,  34.6873,2,    164.2,2,    162.5,2,   138.22,3,    35.81,2,     0.00,2,     2.50,2, -999.000,9, -999.000,9, -999.000,9,-999.0000,9,  -999.00,9,   -999.0,9,-999.000,9,   -999.0,9,   -999,  -999.0,-999.000,-999.0000,-999.000,  4839.0,-999.000,  1.1324,-999.000
    49RY9407_2,   P09,    55,  2,     12,    213,4,19940805,1938, 13.0378, 136.9777, 4780,   4924.7,   1.5602,  34.6858,2,  34.6871,6,    164.1,2,    162.6,2,   138.27,3,    35.70,2,     0.00,2,     2.49,2, -999.000,9, -999.000,9, -999.000,9,-999.0000,9,  -999.00,9,   -999.0,9,-999.000,9,   -999.0,9,   -999,  -999.0,-999.000,-999.0000,-999.000,  4922.0,-999.000,  1.1331,-999.000
    49RY9407_2,   P09,    56,  1,     12,    217,2,19940805,1016, 12.5237, 136.9938, 4650,   2020.7,   2.1983,  34.6301,2,  34.6290,2,    113.9,2,    113.1,2,   138.91,6,    38.69,6,     0.00,6,     2.73,6, -999.000,9, -999.000,9, -999.000,9,-999.0000,9,  -999.00,9,   -999.0,1,-999.000,9,   2338.9,2,   -999,  -999.0,-999.000,-999.0000,-999.000,  -999.0,-999.000,  2.0571,-999.000
    49RY9407_2,   P09,    56,  1,     11,    201,2,19940805,1016, 12.5237, 136.9938, 4650,   2276.1,   2.0023,  34.6407,2,  34.6406,2,    119.9,2,    119.2,2,   142.69,2,    38.53,2,     0.00,2,     2.71,2, -999.000,9, -999.000,9, -999.000,9,-999.0000,9,  -999.00,9,   -999.0,1,-999.000,9,   2341.2,2,   -999,  -999.0,-999.000,-999.0000,-999.000,  -999.0,-999.000,  1.8421,-999.000
    49RY9407_2,   P09,    56,  1,     10,    214,2,19940805,1016, 12.5237, 136.9938, 4650,   2531.0,   1.8125,  34.6536,2,  34.6554,2,    129.1,2,    127.4,6,   144.80,2,    38.00,2,     0.00,2,     2.67,2, -999.000,9, -999.000,9, -999.000,9,-999.0000,9,  -999.00,9,   -999.0,1,-999.000,9,   2336.3,2,   -999,  -999.0,-999.000,-999.0000,-999.000,  -999.0,-999.000,  1.6329,-999.000
    49RY9407_2,   P09,    56,  1,      9,    213,2,19940805,1016, 12.5237, 136.9938, 4650,   2786.9,   1.7049,  34.6626,2,  34.6583,3,    133.1,2,    134.5,2,   144.80,2,    37.54,2,     0.01,2,     2.64,2, -999.000,9, -999.000,9, -999.000,9,-999.0000,9,  -999.00,9,   -999.0,1,-999.000,9,   2333.2,2,   -999,  -999.0,-999.000,-999.0000,-999.000,  2782.0,-999.000,  1.5039,-999.000
    49RY9407_2,   P09,    56,  1,      8,    212,2,19940805,1016, 12.5237, 136.9938, 4650,   3038.3,   1.6439,  34.6675,2,  34.6678,2,    139.5,2,    139.2,2,   144.59,2,    37.28,2,     0.00,2,     2.60,2, -999.000,9, -999.000,9, -999.000,9,-999.0000,9,  -999.00,9,   -999.0,1,-999.000,9,   2329.9,2,   -999,  -999.0,-999.000,-999.0000,-999.000,  -999.0,-999.000,  1.4203,-999.000
    49RY9407_2,   P09,    56,  1,      7,    203,2,19940805,1016, 12.5237, 136.9938, 4650,   3295.9,   1.5938,  34.6727,2,  34.6739,2,    146.2,2,    144.2,2,   143.61,2,    36.89,2,     0.00,2,     2.58,2, -999.000,9, -999.000,9, -999.000,9,-999.0000,9,  -999.00,9,   -999.0,1,-999.000,9,   2324.8,2,   -999,  -999.0,-999.000,-999.0000,-999.000,  3294.0,-999.000,  1.3460,-999.000
    49RY9407_2,   P09,    56,  1,      6,    209,2,19940805,1016, 12.5237, 136.9938, 4650,   3551.1,   1.5633,  34.6752,2,  34.6772,2,    150.1,2,    148.7,2,   142.76,2,    36.65,2,     0.00,2,     2.56,2, -999.000,9, -999.000,9, -999.000,9,-999.0000,9,  -999.00,9,   -999.0,1,-999.000,9,   2322.9,2,   -999,  -999.0,-999.000,-999.0000,-999.000,  -999.0,-999.000,  1.2903,-999.000
    49RY9407_2,   P09,    56,  1,      5,    221,2,19940805,1016, 12.5237, 136.9938, 4650,   3809.1,   1.5165,  34.6814,2,  34.6825,2,    154.4,2,    153.9,2,   141.79,2,    36.22,2,     0.00,2,     2.53,2, -999.000,9, -999.000,9, -999.000,9,-999.0000,9,  -999.00,9,   -999.0,1,-999.000,9,   2319.3,2,   -999,  -999.0,-999.000,-999.0000,-999.000,  3804.0,-999.000,  1.2177,-999.000
    49RY9407_2,   P09,    56,  1,      4,    206,2,19940805,1016, 12.5237, 136.9938, 4650,   4063.2,   1.4852,  34.6863,2,  34.6804,3,    160.3,2,    160.0,6,   139.64,6,    35.84,6,     0.00,6,     2.50,6, -999.000,9, -999.000,9, -999.000,9,-999.0000,9,  -999.00,9,   -999.0,1,-999.000,9,   2315.4,2,   -999,  -999.0,-999.000,-999.0000,-999.000,  -999.0,-999.000,  1.1598,-999.000
    49RY9407_2,   P09,    56,  1,      3,    229,2,19940805,1016, 12.5237, 136.9938, 4650,   4320.8,   1.4939,  34.6868,2,  34.6880,2,    158.8,2,    161.7,2,   138.82,2,    35.66,2,     0.00,2,     2.49,2, -999.000,9, -999.000,9, -999.000,9,-999.0000,9,  -999.00,9,   -999.0,1,-999.000,9,   2312.1,2,   -999,  -999.0,   1.488,-999.0000,-999.000,  4319.0,-999.000,  1.1396,-999.000
    49RY9407_2,   P09,    56,  1,      2,    216,2,19940805,1016, 12.5237, 136.9938, 4650,   4578.2,   1.5138,  34.6877,2,  34.6877,2,    164.5,2,    162.5,2,   138.90,2,    35.69,2,     0.00,2,     2.48,2, -999.000,9, -999.000,9, -999.000,9,-999.0000,9,  -999.00,9,   -999.0,1,-999.000,9,   2312.3,6,   -999,  -999.0,-999.000,-999.0000,-999.000,  -999.0,-999.000,  1.1293,-999.000
    49RY9407_2,   P09,    56,  1,      1,    204,2,19940805,1016, 12.5237, 136.9938, 4650,   4722.2,   1.5280,  34.6871,2,  34.6867,2,    167.5,2,    163.3,6,   138.30,6,    35.66,6,     0.00,6,     2.48,6, -999.000,9, -999.000,9, -999.000,9,-999.0000,9,  -999.00,9,   -999.0,1,-999.000,9,   2313.3,2,   -999,  -999.0,   1.523,-999.0000,-999.000,  4715.0,-999.000,  1.1262,-999.000
    49RY9407_2,   P09,    56,  2,     12,    217,2,19940805,1256, 12.5532, 136.9923, 4580,    201.7,  18.2432,  34.7763,2,  34.7817,2,    160.4,2,    159.2,6,     7.02,2,     7.94,2,     0.01,2,     0.64,2, -999.000,9, -999.000,9, -999.000,9,-999.0000,9,  -999.00,9,   -999.0,1,-999.000,9,   2063.1,2,   -999,  -999.0,-999.000,-999.0000,-999.000,  -999.0,-999.000, 18.2083,-999.000
    49RY9407_2,   P09,    56,  2,     11,    201,2,19940805,1256, 12.5532, 136.9923, 4580,    301.0,  11.3738,  34.3441,2,  34.3437,2,    145.3,2,    141.3,2,    22.06,2,    19.73,2,     0.01,2,     1.44,2, -999.000,9, -999.000,9, -999.000,9,-999.0000,9,  -999.00,9,   -999.0,1,-999.000,9,   2136.8,2,   -999,  -999.0,-999.000,-999.0000,-999.000,  -999.0,-999.000, 11.3360,-999.000
    49RY9407_2,   P09,    56,  2,     10,    214,2,19940805,1256, 12.5532, 136.9923, 4580,    402.1,   8.6045,  34.3743,2,  34.3722,2,     90.4,3,     80.9,2,    43.65,2,    31.06,2,     0.00,2,     2.26,2, -999.000,9, -999.000,9, -999.000,9,-999.0000,9,  -999.00,9,   -999.0,1,-999.000,9,   2220.0,2,   -999,  -999.0,-999.000,-999.0000,-999.000,  -999.0,-999.000,  8.5619,-999.000
    49RY9407_2,   P09,    56,  2,      9,    213,2,19940805,1256, 12.5532, 136.9923, 4580,    504.6,   7.1773,  34.4127,2,  34.4182,2,     78.2,3,     71.0,2,    57.94,2,    35.24,2,     0.00,2,     2.53,2, -999.000,9, -999.000,9, -999.000,9,-999.0000,9,  -999.00,9,   -999.0,1,-999.000,9,   2257.4,2,   -999,  -999.0,-999.000,-999.0000,-999.000,   504.0,-999.000,  7.1288,-999.000
    49RY9407_2,   P09,    56,  2,      8,    212,2,19940805,1256, 12.5532, 136.9923, 4580,    604.6,   6.3709,  34.4225,2,  34.4618,2,     80.9,2,     79.3,2,    65.30,6,    36.18,6,     0.00,6,     2.58,6, -999.000,9, -999.000,9, -999.000,9,-999.0000,9,  -999.00,9,   -999.0,1,-999.000,9,   2266.0,2,   -999,  -999.0,-999.000,-999.0000,-999.000,  -999.0,-999.000,  6.3160,-999.000
    49RY9407_2,   P09,    56,  2,      7,    203,2,19940805,1256, 12.5532, 136.9923, 4580,    704.0,   5.8466,  34.4964,2,  34.4972,2,     84.5,2,     82.7,6,    70.25,2,    37.03,2,     0.00,2,     2.64,2, -999.000,9, -999.000,9, -999.000,9,-999.0000,9,  -999.00,9,   -999.0,1,-999.000,9,   2270.2,2,   -999,  -999.0,-999.000,-999.0000,-999.000,   703.0,-999.000,  5.7849,-999.000
    49RY9407_2,   P09,    56,  2,      6,    209,2,19940805,1256, 12.5532, 136.9923, 4580,    806.8,   5.4093,  34.5094,2,  34.5116,2,     86.2,2,     84.1,2,    77.18,2,    37.66,2,     0.00,2,     2.69,2, -999.000,9, -999.000,9, -999.000,9,-999.0000,9,  -999.00,9,   -999.0,1,-999.000,9,   2279.2,2,   -999,  -999.0,-999.000,-999.0000,-999.000,  -999.0,-999.000,  5.3407,-999.000
    49RY9407_2,   P09,    56,  2,      5,    221,2,19940805,1256, 12.5532, 136.9923, 4580,    908.7,   4.9432,  34.5261,2,  34.5259,2,     86.9,2,     85.4,2,    85.52,2,    38.40,2,     0.00,2,     2.74,2, -999.000,9, -999.000,9, -999.000,9,-999.0000,9,  -999.00,9,   -999.0,1,-999.000,9,   2291.4,2,   -999,  -999.0,-999.000,-999.0000,-999.000,   909.0,-999.000,  4.8685,-999.000
    49RY9407_2,   P09,    56,  2,      4,    206,2,19940805,1256, 12.5532, 136.9923, 4580,   1005.7,   4.5681,  34.5435,2,  34.5368,2,     88.8,2,     85.6,2,    92.92,2,    38.68,2,     0.00,2,     2.77,2, -999.000,9, -999.000,9, -999.000,9,-999.0000,9,  -999.00,9,   -999.0,1,-999.000,9,   2301.5,2,   -999,  -999.0,-999.000,-999.0000,-999.000,  -999.0,-999.000,  4.4876,-999.000
    49RY9407_2,   P09,    56,  2,      3,    229,2,19940805,1256, 12.5532, 136.9923, 4580,   1262.1,   3.6608,  34.5617,2,  34.5627,2,     90.5,2,     88.4,2,   111.83,2,    39.22,2,     0.00,2,     2.81,2, -999.000,9, -999.000,9, -999.000,9,-999.0000,9,  -999.00,9,   -999.0,1,-999.000,9,   2319.8,2,   -999,  -999.0,   3.656,-999.0000,-999.000,  1261.0,-999.000,  3.5660,-999.000
    49RY9407_2,   P09,    56,  2,      2,    216,2,19940805,1256, 12.5532, 136.9923, 4580,   1515.9,   2.9089,  34.5880,2,  34.5903,2,     97.7,2,     97.2,2,   126.97,2,    39.43,2,     0.00,2,     2.80,2, -999.000,9, -999.000,9, -999.000,9,-999.0000,9,  -999.00,9,   -999.0,1,-999.000,9,   2330.7,6,   -999,  -999.0,-999.000,-999.0000,-999.000,  -999.0,-999.000,  2.8008,-999.000
    49RY9407_2,   P09,    56,  2,      1,    204,2,19940805,1256, 12.5532, 136.9923, 4580,   1769.7,   2.4569,  34.6139,2,  34.6152,2,    107.5,2,    106.4,2,   134.61,2,    39.17,2,     0.00,2,     2.76,2, -999.000,9, -999.000,9, -999.000,9,-999.0000,9,  -999.00,9,   -999.0,1,-999.000,9,   2335.6,2,   -999,  -999.0,   2.453,-999.0000,-999.000,  1775.0,-999.000,  2.3332,-999.000