BOTTLE,20020306WHPSIOdm
EXPOCODE,SECT_ID,STNNBR,CASTNO,SAMPNO,BTLNBR,BTLNBR_FLAG_W,DATE,TIME,LATITUDE,LONGITUDE,DEPTH,CTDPRS,CTDTMP,CTDSAL,CTDSAL_FLAG_W,SALNTY,SALNTY_FLAG_W,CTDOXY,CTDOXY_FLAG_W,OXYGEN,OXYGEN_FLAG_W,SILCAT,SILCAT_FLAG_W,NITRAT,NITRAT_FLAG_W,NITRIT,NITRIT_FLAG_W,PHSPHT,PHSPHT_FLAG_W,CFC-11,CFC-11_FLAG_W,CFC-12,CFC-12_FLAG_W,TRITUM,TRITUM_FLAG_W,HELIUM,HELIUM_FLAG_W,DELHE3,DELHE3_FLAG_W,DELC14,DELC14_FLAG_W,NEON,NEON_FLAG_W,TCARBN,TCARBN_FLAG_W,CTDRAW,C14ERR,REVTMP,HELIER,DELHER,REVPRS,NEONER,THETA,TRITER
,,,,,,,,,,,,DBAR,ITS-90,PSS-78,,PSS-78,,UMOL/KG,,UMOL/KG,,UMOL/KG,,UMOL/KG,,UMOL/KG,,UMOL/KG,,PMOL/KG,,PMOL/KG,,TU,,NMOL/KG,,PERCNT,,/MILLE,,NMOL/KG,,UMOL/KG,,,/MILLE,ITS-90,NMOL/KG,PERCNT,DBAR,NMOL/KG,DEG C,TU
    49RY9407_2,   P09,    70,  2,      9,    223,2,19940808,1912,  7.0015, 136.9817, 4270,    302.4,   9.1254,  34.5734,2,  34.5757,2,   -999.0,9,     63.5,6,    38.84,3,    33.55,2,     0.00,2,     2.28,2, -999.000,9, -999.000,9, -999.000,9,-999.0000,9,  -999.00,9,    -85.7,3,-999.000,9,   2235.2,2,   -999,     7.0,-999.000,-999.0000,-999.000,  -999.0,-999.000,  9.0922,-999.000
    49RY9407_2,   P09,    70,  2,      8,    212,2,19940808,1912,  7.0015, 136.9817, 4270,    402.6,   8.3328,  34.5845,2,  34.5818,2,   -999.0,9,     64.1,2,    42.15,3,    35.05,2,     0.00,2,     2.38,2, -999.000,9, -999.000,9, -999.000,9,-999.0000,9,  -999.00,9,   -101.5,3,-999.000,9,   2244.6,2,   -999,     6.7,-999.000,-999.0000,-999.000,  -999.0,-999.000,  8.2908,-999.000
    49RY9407_2,   P09,    70,  2,      6,    209,4,19940808,1912,  7.0015, 136.9817, 4270,    502.9,   7.4744,  34.5486,2,  34.5493,2,   -999.0,9,     78.9,2,    47.96,3,    35.33,2,     0.00,2,     2.41,2, -999.000,9, -999.000,9, -999.000,9,-999.0000,9,  -999.00,9,   -109.7,3,-999.000,9,   2245.2,2,   -999,     8.0,-999.000,-999.0000,-999.000,  -999.0,-999.000,  7.4248,-999.000
    49RY9407_2,   P09,    70,  2,      7,    220,2,19940808,1912,  7.0015, 136.9817, 4270,    502.9,   7.4744,  34.5486,2,  34.5490,2,   -999.0,9,     78.7,2,    48.16,3,    35.30,2,     0.00,2,     2.41,2, -999.000,9, -999.000,9, -999.000,9,-999.0000,9,  -999.00,9,   -111.5,3,-999.000,9,   2243.3,2,   -999,     6.9,-999.000,-999.0000,-999.000,  -999.0,-999.000,  7.4248,-999.000
    49RY9407_2,   P09,    70,  2,      5,    218,2,19940808,1912,  7.0015, 136.9817, 4270,    705.7,   6.2359,  34.5233,2,  34.5250,2,   -999.0,9,     80.9,2,    63.82,3,    37.20,6,     0.00,6,     2.56,6, -999.000,9, -999.000,9, -999.000,9,-999.0000,9,  -999.00,9,   -147.7,3,-999.000,9,   2266.2,2,   -999,     7.8,-999.000,-999.0000,-999.000,  -999.0,-999.000,  6.1720,-999.000
    49RY9407_2,   P09,    70,  2,      4,    206,2,19940808,1912,  7.0015, 136.9817, 4270,    806.1,   5.5837,  34.5296,2,  34.5309,2,   -999.0,9,     82.7,2,    73.72,3,    38.16,2,     0.00,2,     2.63,2, -999.000,9, -999.000,9, -999.000,9,-999.0000,9,  -999.00,9,   -151.8,3,-999.000,9,   2278.3,2,   -999,     8.1,-999.000,-999.0000,-999.000,  -999.0,-999.000,  5.5141,-999.000
    49RY9407_2,   P09,    70,  2,      3,    205,2,19940808,1912,  7.0015, 136.9817, 4270,    906.8,   5.1126,  34.5366,2,  34.5370,2,   -999.0,9,     85.1,2,    79.82,3,    38.63,2,     0.00,2,     2.65,2, -999.000,9, -999.000,9, -999.000,9,-999.0000,9,  -999.00,9,   -160.8,3,-999.000,9,   2290.5,2,   -999,     7.2,-999.000,-999.0000,-999.000,  -999.0,-999.000,  5.0369,-999.000
    49RY9407_2,   P09,    70,  2,      2,    216,2,19940808,1912,  7.0015, 136.9817, 4270,   1008.6,   4.5179,  34.5490,2,  34.5482,2,   -999.0,9,     90.0,2,    92.12,3,    38.82,2,     0.00,2,     2.67,2, -999.000,9, -999.000,9, -999.000,9,-999.0000,9,  -999.00,9,   -189.9,3,-999.000,9,   2301.6,2,   -999,     8.8,-999.000,-999.0000,-999.000,  -999.0,-999.000,  4.4374,-999.000
    49RY9407_2,   P09,    70,  2,      1,    201,2,19940808,1912,  7.0015, 136.9817, 4270,   1260.7,   3.5176,  34.5780,2,  34.5781,2,   -999.0,9,     95.3,2,   112.27,3,    39.42,2,     0.00,2,     2.74,2, -999.000,9, -999.000,9, -999.000,9,-999.0000,9,  -999.00,9,   -201.5,3,-999.000,9,   2317.1,2,   -999,     6.9,-999.000,-999.0000,-999.000,  -999.0,-999.000,  3.4242,-999.000
    49RY9407_2,   P09,    70,  2,     24,    222,2,19940808,1912,  7.0015, 136.9817, 4270,   1515.1,   2.9330,  34.5992,2,  34.6007,2,   -999.0,9,    101.2,2,   124.39,3,    39.49,2,     0.00,2,     2.73,2, -999.000,9, -999.000,9, -999.000,9,-999.0000,9,  -999.00,9,   -215.9,3,-999.000,9,   2332.1,2,   -999,     7.0,-999.000,-999.0000,-999.000,  -999.0,-999.000,  2.8246,-999.000
    49RY9407_2,   P09,    70,  2,     23,    228,2,19940808,1912,  7.0015, 136.9817, 4270,   1767.3,   2.5859,  34.6157,2,  34.6152,2,   -999.0,9,    107.8,2,   130.75,3,    39.30,2,     0.00,2,     2.71,2, -999.000,9, -999.000,9, -999.000,9,-999.0000,9,  -999.00,9,   -215.4,3,-999.000,9,   2333.2,2,   -999,     7.0,-999.000,-999.0000,-999.000,  -999.0,-999.000,  2.4606,-999.000
    49RY9407_2,   P09,    70,  2,     21,    226,2,19940808,1912,  7.0015, 136.9817, 4270,   2022.2,   2.2496,  34.6335,2,  34.6339,2,   -999.0,9,    112.8,2,   137.22,3,    39.27,2,     0.00,2,     2.69,2, -999.000,9, -999.000,9, -999.000,9,-999.0000,9,  -999.00,9,   -227.3,3,-999.000,9,   2338.2,2,   -999,     6.1,-999.000,-999.0000,-999.000,  -999.0,-999.000,  2.1075,-999.000
    49RY9407_2,   P09,    70,  2,     22,    227,2,19940808,1912,  7.0015, 136.9817, 4270,   2022.2,   2.2496,  34.6335,2,  34.6347,2,   -999.0,9,    113.5,2,   137.34,3,    39.13,6,     0.00,6,     2.68,6, -999.000,9, -999.000,9, -999.000,9,-999.0000,9,  -999.00,9,   -234.4,3,-999.000,9,   2336.1,6,   -999,     7.8,-999.000,-999.0000,-999.000,  -999.0,-999.000,  2.1075,-999.000
    49RY9407_2,   P09,    70,  2,     20,    203,2,19940808,1912,  7.0015, 136.9817, 4270,   2276.1,   1.9880,  34.6460,2,  34.6461,2,   -999.0,9,    123.3,2,   140.65,3,    38.54,2,     0.00,2,     2.62,2, -999.000,9, -999.000,9, -999.000,9,-999.0000,9,  -999.00,9,   -233.0,3,-999.000,9,   2333.4,2,   -999,     7.2,-999.000,-999.0000,-999.000,  2275.0,-999.000,  1.8280,-999.000
    49RY9407_2,   P09,    70,  2,     19,    210,2,19940808,1912,  7.0015, 136.9817, 4270,   2530.1,   1.7821,  34.6590,2,  34.6597,2,   -999.0,9,    131.9,2,   142.98,3,    38.10,2,     0.00,2,     2.56,2, -999.000,9, -999.000,9, -999.000,9,-999.0000,9,  -999.00,9,   -230.0,3,-999.000,9,   2335.4,2,   -999,     6.6,-999.000,-999.0000,-999.000,  -999.0,-999.000,  1.6031,-999.000
    49RY9407_2,   P09,    70,  2,     18,    221,2,19940808,1912,  7.0015, 136.9817, 4270,   2785.6,   1.6664,  34.6666,2,  34.6666,2,   -999.0,9,    138.2,2,   143.57,3,    37.65,2,     0.00,2,     2.55,2, -999.000,9, -999.000,9, -999.000,9,-999.0000,9,  -999.00,9,   -214.5,3,-999.000,9,   2333.3,2,   -999,     6.3,-999.000,-999.0000,-999.000,  2785.0,-999.000,  1.4662,-999.000
    49RY9407_2,   P09,    70,  2,     17,    219,2,19940808,1912,  7.0015, 136.9817, 4270,   3040.0,   1.6158,  34.6704,2,  34.6721,3,   -999.0,9,    142.4,6,   143.43,3,    37.34,2,     0.00,2,     2.51,2, -999.000,9, -999.000,9, -999.000,9,-999.0000,9,  -999.00,9,   -224.7,3,-999.000,9,   2330.8,2,   -999,     6.1,-999.000,-999.0000,-999.000,  -999.0,-999.000,  1.3926,-999.000
    49RY9407_2,   P09,    70,  2,     16,    229,2,19940808,1912,  7.0015, 136.9817, 4270,   3295.7,   1.5829,  34.6740,2,  34.6721,2,   -999.0,9,    145.2,2,   143.26,3,    37.16,2,     0.00,2,     2.52,2, -999.000,9, -999.000,9, -999.000,9,-999.0000,9,  -999.00,9,   -227.3,3,-999.000,9,   2327.1,2,   -999,     6.9,   1.577,-999.0000,-999.000,  3296.0,-999.000,  1.3354,-999.000
    49RY9407_2,   P09,    70,  2,     15,    217,2,19940808,1912,  7.0015, 136.9817, 4270,   3551.6,   1.5465,  34.6783,2,  34.6823,3,   -999.0,9,    149.5,2,   143.21,3,    36.86,2,     0.00,2,     2.52,2, -999.000,9, -999.000,9, -999.000,9,-999.0000,9,  -999.00,9,   -230.9,3,-999.000,9,   2323.7,2,   -999,     7.3,-999.000,-999.0000,-999.000,  -999.0,-999.000,  1.2739,-999.000
    49RY9407_2,   P09,    70,  2,     14,    204,2,19940808,1912,  7.0015, 136.9817, 4270,   3807.7,   1.5312,  34.6810,2,  34.6827,3,   -999.0,9,    154.7,2,   142.46,3,    36.68,6,     0.00,6,     2.48,6, -999.000,9, -999.000,9, -999.000,9,-999.0000,9,  -999.00,9,   -218.9,3,-999.000,9,   2322.8,6,   -999,     7.9,   1.528,-999.0000,-999.000,  3806.0,-999.000,  1.2322,-999.000
    49RY9407_2,   P09,    70,  2,     13,    214,2,19940808,1912,  7.0015, 136.9817, 4270,   4063.6,   1.5194,  34.6838,2,  34.6808,3,   -999.0,9,    155.9,6,   140.20,3,    36.32,2,     0.00,2,     2.45,2, -999.000,9, -999.000,9, -999.000,9,-999.0000,9,  -999.00,9,   -217.1,3,-999.000,9,   2322.5,2,   -999,     8.2,-999.000,-999.0000,-999.000,  4059.0,-999.000,  1.1930,-999.000
    49RY9407_2,   P09,    70,  2,     12,    213,4,19940808,1912,  7.0015, 136.9817, 4270,   4318.5,   1.4783,  34.6897,2,  34.6889,6,   -999.0,9,    162.1,6,   139.11,3,    35.99,2,     0.00,2,     2.43,2, -999.000,9, -999.000,9, -999.000,9,-999.0000,9,  -999.00,9,   -999.0,9,-999.000,9,   -999.0,9,   -999,  -999.0,-999.000,-999.0000,-999.000,  4314.0,-999.000,  1.1247,-999.000
    49RY9407_2,   P09,    71,  1,      0,      0,2,19940808,2332,  6.6467, 137.3503, 4105,      0.0,  29.4166,  33.6488,2,-999.0000,9,   -999.0,9,    196.2,6,     1.32,2,     0.01,2,     0.00,2,     0.00,2, -999.000,9, -999.000,9, -999.000,9,-999.0000,9,  -999.00,9,   -999.0,9,-999.000,9,   -999.0,9,   -999,  -999.0,-999.000,-999.0000,-999.000,  -999.0,-999.000, 29.4167,-999.000
    49RY9407_2,   P09,    71,  1,     20,    203,2,19940808,2332,  6.6467, 137.3503, 4105,     10.2,  29.3413,  33.6983,2,  33.7112,2,   -999.0,9,    196.3,2,     1.29,2,     0.01,2,     0.00,2,     0.00,2, -999.000,9, -999.000,9, -999.000,9,-999.0000,9,  -999.00,9,   -999.0,9,-999.000,9,   -999.0,9,   -999,  -999.0,-999.000,-999.0000,-999.000,    16.0,-999.000, 29.3388,-999.000
    49RY9407_2,   P09,    71,  1,     19,    210,2,19940808,2332,  6.6467, 137.3503, 4105,     25.3,  29.1414,  33.7132,2,  33.7181,2,   -999.0,9,    198.8,2,     1.31,2,     0.01,2,     0.00,2,     0.00,2, -999.000,9, -999.000,9, -999.000,9,-999.0000,9,  -999.00,9,   -999.0,9,-999.000,9,   -999.0,9,   -999,  -999.0,-999.000,-999.0000,-999.000,  -999.0,-999.000, 29.1353,-999.000
    49RY9407_2,   P09,    71,  1,     18,    221,2,19940808,2332,  6.6467, 137.3503, 4105,     50.3,  28.8708,  33.7149,2,  33.7235,2,   -999.0,9,    201.8,6,     1.29,2,     0.03,2,     0.00,2,     0.01,2, -999.000,9, -999.000,9, -999.000,9,-999.0000,9,  -999.00,9,   -999.0,9,-999.000,9,   -999.0,9,   -999,  -999.0,-999.000,-999.0000,-999.000,    55.0,-999.000, 28.8587,-999.000
    49RY9407_2,   P09,    71,  1,     17,    219,2,19940808,2332,  6.6467, 137.3503, 4105,     75.5,  24.5085,  34.7557,2,  34.7471,2,   -999.0,9,    195.3,2,     2.41,6,     0.04,6,     0.00,6,     0.14,6, -999.000,9, -999.000,9, -999.000,9,-999.0000,9,  -999.00,9,   -999.0,9,-999.000,9,   -999.0,9,   -999,  -999.0,-999.000,-999.0000,-999.000,  -999.0,-999.000, 24.4924,-999.000
    49RY9407_2,   P09,    71,  1,     16,    229,2,19940808,2332,  6.6467, 137.3503, 4105,    100.8,  20.4350,  34.8054,2,  34.8414,2,   -999.0,9,    168.5,2,     5.26,2,     3.94,2,     0.21,2,     0.43,2, -999.000,9, -999.000,9, -999.000,9,-999.0000,9,  -999.00,9,   -999.0,9,-999.000,9,   -999.0,9,   -999,  -999.0,  20.750,-999.0000,-999.000,    96.0,-999.000, 20.4161,-999.000
    49RY9407_2,   P09,    71,  1,     15,    217,2,19940808,2332,  6.6467, 137.3503, 4105,    126.2,  15.3233,  34.6621,2,  34.6841,2,   -999.0,9,    134.6,2,    15.38,2,    15.53,2,     0.02,2,     1.09,2, -999.000,9, -999.000,9, -999.000,9,-999.0000,9,  -999.00,9,   -999.0,9,-999.000,9,   -999.0,9,   -999,  -999.0,-999.000,-999.0000,-999.000,  -999.0,-999.000, 15.3040,-999.000
    49RY9407_2,   P09,    71,  1,     14,    204,2,19940808,2332,  6.6467, 137.3503, 4105,    150.4,  13.5690,  34.7006,2,  34.6038,2,   -999.0,9,    121.8,2,    20.14,2,    19.35,2,     0.00,2,     1.34,2, -999.000,9, -999.000,9, -999.000,9,-999.0000,9,  -999.00,9,   -999.0,9,-999.000,9,   -999.0,9,   -999,  -999.0,  13.810,-999.0000,-999.000,   149.0,-999.000, 13.5478,-999.000
    49RY9407_2,   P09,    71,  1,     13,    214,2,19940808,2332,  6.6467, 137.3503, 4105,    202.3,  10.8911,  34.5211,2,  34.5236,2,   -999.0,9,   -999.0,5,    31.13,2,    26.61,2,     0.00,2,     1.84,2, -999.000,9, -999.000,9, -999.000,9,-999.0000,9,  -999.00,9,   -999.0,9,-999.000,9,   -999.0,9,   -999,  -999.0,-999.000,-999.0000,-999.000,  -999.0,-999.000, 10.8664,-999.000
    49RY9407_2,   P09,    71,  1,     12,    213,2,19940808,2332,  6.6467, 137.3503, 4105,    302.6,   9.1338,  34.6056,2,  34.6050,2,   -999.0,9,     60.8,2,    37.33,6,    33.31,6,     0.00,6,     2.28,6, -999.000,9, -999.000,9, -999.000,9,-999.0000,9,  -999.00,9,   -999.0,9,-999.000,9,   -999.0,9,   -999,  -999.0,-999.000,-999.0000,-999.000,   303.0,-999.000,  9.1006,-999.000