BOTTLE,20020306WHPSIOdm
EXPOCODE,SECT_ID,STNNBR,CASTNO,SAMPNO,BTLNBR,BTLNBR_FLAG_W,DATE,TIME,LATITUDE,LONGITUDE,DEPTH,CTDPRS,CTDTMP,CTDSAL,CTDSAL_FLAG_W,SALNTY,SALNTY_FLAG_W,CTDOXY,CTDOXY_FLAG_W,OXYGEN,OXYGEN_FLAG_W,SILCAT,SILCAT_FLAG_W,NITRAT,NITRAT_FLAG_W,NITRIT,NITRIT_FLAG_W,PHSPHT,PHSPHT_FLAG_W,CFC-11,CFC-11_FLAG_W,CFC-12,CFC-12_FLAG_W,TRITUM,TRITUM_FLAG_W,HELIUM,HELIUM_FLAG_W,DELHE3,DELHE3_FLAG_W,DELC14,DELC14_FLAG_W,NEON,NEON_FLAG_W,TCARBN,TCARBN_FLAG_W,CTDRAW,C14ERR,REVTMP,HELIER,DELHER,REVPRS,NEONER,THETA,TRITER
,,,,,,,,,,,,DBAR,ITS-90,PSS-78,,PSS-78,,UMOL/KG,,UMOL/KG,,UMOL/KG,,UMOL/KG,,UMOL/KG,,UMOL/KG,,PMOL/KG,,PMOL/KG,,TU,,NMOL/KG,,PERCNT,,/MILLE,,NMOL/KG,,UMOL/KG,,,/MILLE,ITS-90,NMOL/KG,PERCNT,DBAR,NMOL/KG,DEG C,TU
    49RY9407_2,   P09,    54,  1,      0,      0,2,19940805,2349, 13.4905, 136.9957, 5105,      0.9,  28.9063,  34.1219,2,-999.0000,9,    160.7,4,    197.2,6,     1.34,6,     0.01,6,     0.00,6,     0.01,6, -999.000,9, -999.000,9, -999.000,9,-999.0000,9,  -999.00,9,   -999.0,9,-999.000,9,   -999.0,9,   -999,  -999.0,-999.000,-999.0000,-999.000,  -999.0,-999.000, 28.9061,-999.000
    49RY9407_2,   P09,    54,  1,     23,    228,2,19940805,2349, 13.4905, 136.9957, 5105,     10.5,  28.8966,  34.1249,2,  34.1285,2,    186.0,3,    197.2,2,     1.29,2,     0.00,2,     0.00,2,     0.00,2, -999.000,9, -999.000,9, -999.000,9,-999.0000,9,  -999.00,9,   -999.0,9,-999.000,9,   -999.0,9,   -999,  -999.0,-999.000,-999.0000,-999.000,  -999.0,-999.000, 28.8941,-999.000
    49RY9407_2,   P09,    54,  1,     22,    227,2,19940805,2349, 13.4905, 136.9957, 5105,     24.9,  28.8785,  34.1258,2,  34.1279,2,    192.7,3,    197.4,2,     1.30,2,     0.02,2,     0.00,2,     0.01,2, -999.000,9, -999.000,9, -999.000,9,-999.0000,9,  -999.00,9,   -999.0,9,-999.000,9,   -999.0,9,   -999,  -999.0,-999.000,-999.0000,-999.000,  -999.0,-999.000, 28.8725,-999.000
    49RY9407_2,   P09,    54,  1,     21,    226,2,19940805,2349, 13.4905, 136.9957, 5105,     50.4,  28.8814,  34.1243,2,  34.1277,2,    195.1,3,    197.6,2,     1.35,2,     0.03,2,     0.00,2,     0.01,2, -999.000,9, -999.000,9, -999.000,9,-999.0000,9,  -999.00,9,   -999.0,9,-999.000,9,   -999.0,9,   -999,  -999.0,-999.000,-999.0000,-999.000,  -999.0,-999.000, 28.8692,-999.000
    49RY9407_2,   P09,    54,  1,     20,    203,2,19940805,2349, 13.4905, 136.9957, 5105,     74.8,  28.8841,  34.1271,2,  34.1303,2,    193.6,3,    197.1,2,     1.29,2,     0.00,2,     0.00,2,     0.01,2, -999.000,9, -999.000,9, -999.000,9,-999.0000,9,  -999.00,9,   -999.0,9,-999.000,9,   -999.0,9,   -999,  -999.0,-999.000,-999.0000,-999.000,    78.0,-999.000, 28.8661,-999.000
    49RY9407_2,   P09,    54,  1,     19,    210,2,19940805,2349, 13.4905, 136.9957, 5105,    100.9,  27.9158,  34.6084,2,  34.5981,2,    203.0,3,    206.5,2,     1.29,2,     0.01,2,     0.01,2,     0.05,2, -999.000,9, -999.000,9, -999.000,9,-999.0000,9,  -999.00,9,   -999.0,9,-999.000,9,   -999.0,9,   -999,  -999.0,-999.000,-999.0000,-999.000,  -999.0,-999.000, 27.8921,-999.000
    49RY9407_2,   P09,    54,  1,     18,    221,2,19940805,2349, 13.4905, 136.9957, 5105,    126.6,  26.8670,  34.8259,2,  34.8077,2,    196.9,3,    202.5,2,     1.28,2,     0.02,2,     0.01,2,     0.05,2, -999.000,9, -999.000,9, -999.000,9,-999.0000,9,  -999.00,9,   -999.0,9,-999.000,9,   -999.0,9,   -999,  -999.0,-999.000,-999.0000,-999.000,   130.0,-999.000, 26.8381,-999.000
    49RY9407_2,   P09,    54,  1,     17,    219,2,19940805,2349, 13.4905, 136.9957, 5105,    151.5,  25.0557,  34.9931,2,  34.9888,2,    189.4,2,    192.1,2,     1.38,2,     0.29,2,     0.09,2,     0.10,2, -999.000,9, -999.000,9, -999.000,9,-999.0000,9,  -999.00,9,   -999.0,9,-999.000,9,   -999.0,9,   -999,  -999.0,-999.000,-999.0000,-999.000,  -999.0,-999.000, 25.0228,-999.000
    49RY9407_2,   P09,    54,  1,     15,    217,4,19940805,2349, 13.4905, 136.9957, 5105,    200.8,  19.1437,  34.9157,2,  34.9182,2,    168.2,2,    172.9,2,     4.26,2,     4.80,2,     0.01,2,     0.43,2, -999.000,9, -999.000,9, -999.000,9,-999.0000,9,  -999.00,9,   -999.0,9,-999.000,9,   -999.0,9,   -999,  -999.0,-999.000,-999.0000,-999.000,  -999.0,-999.000, 19.1077,-999.000
    49RY9407_2,   P09,    54,  1,     16,    229,2,19940805,2349, 13.4905, 136.9957, 5105,    200.8,  19.1437,  34.9157,2,  34.9170,2,    168.2,2,    172.8,2,     4.27,2,     4.84,2,     0.01,2,     0.43,2, -999.000,9, -999.000,9, -999.000,9,-999.0000,9,  -999.00,9,   -999.0,9,-999.000,9,   -999.0,9,   -999,  -999.0,  19.184,-999.0000,-999.000,   198.0,-999.000, 19.1077,-999.000
    49RY9407_2,   P09,    54,  1,     14,    204,2,19940805,2349, 13.4905, 136.9957, 5105,    402.8,   9.0016,  34.3332,2,  34.3371,2,    100.4,3,     92.3,2,    39.32,6,    28.92,6,     0.00,6,     2.13,6, -999.000,9, -999.000,9, -999.000,9,-999.0000,9,  -999.00,9,   -999.0,9,-999.000,9,   -999.0,9,   -999,  -999.0,   9.008,-999.0000,-999.000,   401.0,-999.000,  8.9577,-999.000
    49RY9407_2,   P09,    54,  1,     13,    214,2,19940805,2349, 13.4905, 136.9957, 5105,    502.8,   7.0831,  34.3758,2,  34.3773,2,     72.7,2,     69.5,2,    59.11,6,    34.65,6,     0.00,6,     2.54,6, -999.000,9, -999.000,9, -999.000,9,-999.0000,9,  -999.00,9,   -999.0,9,-999.000,9,   -999.0,9,   -999,  -999.0,-999.000,-999.0000,-999.000,  -999.0,-999.000,  7.0352,-999.000
    49RY9407_2,   P09,    54,  1,     12,    213,2,19940805,2349, 13.4905, 136.9957, 5105,    606.0,   6.3544,  34.4528,2,  34.4534,2,     69.9,2,     72.6,2,    66.56,6,    36.23,6,     0.00,6,     2.64,6, -999.000,9, -999.000,9, -999.000,9,-999.0000,9,  -999.00,9,   -999.0,9,-999.000,9,   -999.0,9,   -999,  -999.0,-999.000,-999.0000,-999.000,   606.0,-999.000,  6.2994,-999.000
    49RY9407_2,   P09,    54,  2,     10,    224,2,19940806,0202, 13.5087, 136.9908, 5030,    703.9,   5.6059,  34.4743,2,  34.4746,2,     77.1,2,     77.5,2,    77.32,2,    37.62,2,     0.01,2,     2.69,2, -999.000,9, -999.000,9, -999.000,9,-999.0000,9,  -999.00,9,   -999.0,9,-999.000,9,   -999.0,9,   -999,  -999.0,-999.000,-999.0000,-999.000,  -999.0,-999.000,  5.5455,-999.000
    49RY9407_2,   P09,    54,  2,      9,    223,2,19940806,0202, 13.5087, 136.9908, 5030,    807.0,   5.1774,  34.4929,2,  34.4951,2,     80.0,2,     79.2,2,    83.83,2,    38.11,2,     0.01,2,     2.72,2, -999.000,9, -999.000,9, -999.000,9,-999.0000,9,  -999.00,9,   -999.0,9,-999.000,9,   -999.0,9,   -999,  -999.0,-999.000,-999.0000,-999.000,  -999.0,-999.000,  5.1102,-999.000
    49RY9407_2,   P09,    54,  2,      8,    212,2,19940806,0202, 13.5087, 136.9908, 5030,    906.8,   4.7704,  34.5148,2,  34.5155,2,     82.5,2,     83.7,2,    90.78,6,    38.44,6,     0.01,6,     2.75,6, -999.000,9, -999.000,9, -999.000,9,-999.0000,9,  -999.00,9,   -999.0,9,-999.000,9,   -999.0,9,   -999,  -999.0,-999.000,-999.0000,-999.000,  -999.0,-999.000,  4.6970,-999.000
    49RY9407_2,   P09,    54,  2,      7,    220,2,19940806,0202, 13.5087, 136.9908, 5030,   1008.6,   4.3216,  34.5280,2,  34.5334,2,     84.9,2,     84.7,6,    99.58,6,    38.78,6,     0.00,6,     2.78,6, -999.000,9, -999.000,9, -999.000,9,-999.0000,9,  -999.00,9,   -999.0,9,-999.000,9,   -999.0,9,   -999,  -999.0,-999.000,-999.0000,-999.000,  -999.0,-999.000,  4.2427,-999.000
    49RY9407_2,   P09,    54,  2,      6,    209,2,19940806,0202, 13.5087, 136.9908, 5030,   1008.9,   4.3200,  34.5292,2,  34.5338,2,     84.9,2,     84.8,6,    99.53,6,    38.79,6,     0.00,6,     2.78,6, -999.000,9, -999.000,9, -999.000,9,-999.0000,9,  -999.00,9,   -999.0,9,-999.000,9,   -999.0,9,   -999,  -999.0,-999.000,-999.0000,-999.000,  -999.0,-999.000,  4.2411,-999.000
    49RY9407_2,   P09,    54,  2,      5,    218,2,19940806,0202, 13.5087, 136.9908, 5030,   1259.3,   3.5029,  34.5608,2,  34.5586,2,     91.0,2,     91.7,2,   115.84,6,    38.99,6,     0.00,6,     2.79,6, -999.000,9, -999.000,9, -999.000,9,-999.0000,9,  -999.00,9,   -999.0,9,-999.000,9,   -999.0,9,   -999,  -999.0,-999.000,-999.0000,-999.000,  -999.0,-999.000,  3.4099,-999.000
    49RY9407_2,   P09,    54,  2,      4,    206,2,19940806,0202, 13.5087, 136.9908, 5030,   1515.4,   2.8842,  34.5823,2,  34.5857,2,     99.4,2,     99.1,2,   128.19,2,    39.11,2,     0.00,2,     2.77,2, -999.000,9, -999.000,9, -999.000,9,-999.0000,9,  -999.00,9,   -999.0,9,-999.000,9,   -999.0,9,   -999,  -999.0,-999.000,-999.0000,-999.000,  -999.0,-999.000,  2.7764,-999.000
    49RY9407_2,   P09,    54,  2,      3,    205,2,19940806,0202, 13.5087, 136.9908, 5030,   1770.5,   2.4333,  34.6094,2,  34.6109,2,    106.1,2,    106.3,2,   136.23,2,    38.97,2,     0.00,2,     2.76,2, -999.000,9, -999.000,9, -999.000,9,-999.0000,9,  -999.00,9,   -999.0,9,-999.000,9,   -999.0,9,   -999,  -999.0,-999.000,-999.0000,-999.000,  -999.0,-999.000,  2.3099,-999.000
    49RY9407_2,   P09,    54,  2,      2,    216,2,19940806,0202, 13.5087, 136.9908, 5030,   2022.3,   2.1307,  34.6277,2,  34.6284,2,    114.7,2,    113.9,2,   140.96,2,    38.73,2,     0.00,2,     2.73,2, -999.000,9, -999.000,9, -999.000,9,-999.0000,9,  -999.00,9,   -999.0,9,-999.000,9,   -999.0,9,   -999,  -999.0,-999.000,-999.0000,-999.000,  -999.0,-999.000,  1.9903,-999.000
    49RY9407_2,   P09,    54,  2,      1,    201,2,19940806,0202, 13.5087, 136.9908, 5030,   2277.2,   1.9201,  34.6451,2,  34.6451,2,    122.9,2,    123.0,2,   143.31,2,    38.27,2,     0.00,2,     2.69,2, -999.000,9, -999.000,9, -999.000,9,-999.0000,9,  -999.00,9,   -999.0,9,-999.000,9,   -999.0,9,   -999,  -999.0,-999.000,-999.0000,-999.000,  -999.0,-999.000,  1.7612,-999.000
    49RY9407_2,   P09,    54,  2,     24,    222,2,19940806,0202, 13.5087, 136.9908, 5030,   2530.0,   1.7758,  34.6548,2,  34.6548,2,    129.0,2,    129.4,2,   145.14,2,    37.95,2,     0.00,2,     2.64,2, -999.000,9, -999.000,9, -999.000,9,-999.0000,9,  -999.00,9,   -999.0,9,-999.000,9,   -999.0,9,   -999,  -999.0,-999.000,-999.0000,-999.000,  -999.0,-999.000,  1.5970,-999.000
    49RY9407_2,   P09,    54,  2,     23,    228,2,19940806,0202, 13.5087, 136.9908, 5030,   2787.5,   1.7000,  34.6612,2,  34.6617,2,    133.4,2,    134.3,2,   145.66,2,    37.56,2,     0.00,2,     2.63,2, -999.000,9, -999.000,9, -999.000,9,-999.0000,9,  -999.00,9,   -999.0,9,-999.000,9,   -999.0,9,   -999,  -999.0,-999.000,-999.0000,-999.000,  -999.0,-999.000,  1.4990,-999.000
    49RY9407_2,   P09,    54,  2,     21,    226,2,19940806,0202, 13.5087, 136.9908, 5030,   3042.1,   1.6317,  34.6677,2,  34.6674,2,    137.7,2,    140.3,2,   144.81,2,    37.29,2,     0.00,2,     2.59,2, -999.000,9, -999.000,9, -999.000,9,-999.0000,9,  -999.00,9,   -999.0,9,-999.000,9,   -999.0,9,   -999,  -999.0,-999.000,-999.0000,-999.000,  -999.0,-999.000,  1.4080,-999.000
    49RY9407_2,   P09,    54,  2,     22,    227,2,19940806,0202, 13.5087, 136.9908, 5030,   3042.1,   1.6317,  34.6677,2,  34.6674,2,    137.7,2,    139.6,2,   144.93,2,    37.33,2,     0.00,2,     2.61,2, -999.000,9, -999.000,9, -999.000,9,-999.0000,9,  -999.00,9,   -999.0,9,-999.000,9,   -999.0,9,   -999,  -999.0,-999.000,-999.0000,-999.000,  -999.0,-999.000,  1.4080,-999.000
    49RY9407_2,   P09,    54,  2,     20,    203,2,19940806,0202, 13.5087, 136.9908, 5030,   3295.5,   1.5940,  34.6711,2,  34.6692,2,    140.8,2,    144.1,2,   143.60,2,    36.97,2,     0.00,2,     2.58,2, -999.000,9, -999.000,9, -999.000,9,-999.0000,9,  -999.00,9,   -999.0,9,-999.000,9,   -999.0,9,   -999,  -999.0,-999.000,-999.0000,-999.000,  3292.0,-999.000,  1.3463,-999.000
    49RY9407_2,   P09,    54,  2,     19,    210,2,19940806,0202, 13.5087, 136.9908, 5030,   3552.5,   1.5607,  34.6758,2,  34.6756,2,    147.5,2,    148.4,2,   143.17,2,    36.77,2,     0.00,2,     2.54,2, -999.000,9, -999.000,9, -999.000,9,-999.0000,9,  -999.00,9,   -999.0,9,-999.000,9,   -999.0,9,   -999,  -999.0,-999.000,-999.0000,-999.000,  -999.0,-999.000,  1.2877,-999.000
    49RY9407_2,   P09,    54,  2,     18,    221,2,19940806,0202, 13.5087, 136.9908, 5030,   3806.7,   1.5330,  34.6790,2,  34.6800,2,    151.9,2,    153.0,2,   142.25,2,    36.48,2,     0.00,2,     2.53,2, -999.000,9, -999.000,9, -999.000,9,-999.0000,9,  -999.00,9,   -999.0,9,-999.000,9,   -999.0,9,   -999,  -999.0,-999.000,-999.0000,-999.000,  3806.0,-999.000,  1.2341,-999.000
    49RY9407_2,   P09,    54,  2,     17,    219,4,19940806,0202, 13.5087, 136.9908, 5030,   4066.2,   1.5085,  34.6828,2,  34.6831,2,    156.6,2,    157.2,2,   140.32,2,    36.15,2,     0.00,2,     2.50,2, -999.000,9, -999.000,9, -999.000,9,-999.0000,9,  -999.00,9,   -999.0,9,-999.000,9,   -999.0,9,   -999,  -999.0,-999.000,-999.0000,-999.000,  -999.0,-999.000,  1.1821,-999.000
    49RY9407_2,   P09,    54,  2,     16,    229,2,19940806,0202, 13.5087, 136.9908, 5030,   4577.3,   1.5203,  34.6862,2,  34.6867,2,    161.7,2,    161.9,2,   139.02,2,    35.84,2,     0.00,2,     2.49,2, -999.000,9, -999.000,9, -999.000,9,-999.0000,9,  -999.00,9,   -999.0,9,-999.000,9,   -999.0,9,   -999,  -999.0,   1.515,-999.0000,-999.000,  4576.0,-999.000,  1.1357,-999.000
    49RY9407_2,   P09,    54,  2,     14,    204,2,19940806,0202, 13.5087, 136.9908, 5030,   4833.0,   1.5445,  34.6872,2,  34.6875,2,    160.8,2,    162.6,2,   138.97,6,    35.82,6,     0.01,6,     2.49,6, -999.000,9, -999.000,9, -999.000,9,-999.0000,9,  -999.00,9,   -999.0,9,-999.000,9,   -999.0,9,   -999,  -999.0,   1.542,-999.0000,-999.000,  4830.0,-999.000,  1.1290,-999.000
    49RY9407_2,   P09,    54,  2,     15,    217,2,19940806,0202, 13.5087, 136.9908, 5030,   4833.0,   1.5445,  34.6872,2,  34.6872,6,    160.8,2,    161.7,2,   139.15,2,    35.90,2,     0.00,2,     2.47,2, -999.000,9, -999.000,9, -999.000,9,-999.0000,9,  -999.00,9,   -999.0,9,-999.000,9,   -999.0,9,   -999,  -999.0,-999.000,-999.0000,-999.000,  -999.0,-999.000,  1.1290,-999.000
    49RY9407_2,   P09,    54,  2,     13,    214,2,19940806,0202, 13.5087, 136.9908, 5030,   5090.8,   1.5757,  34.6868,2,  34.6835,3,    162.6,2,    162.6,6,   138.78,6,    35.81,6,     0.01,6,     2.48,6, -999.000,9, -999.000,9, -999.000,9,-999.0000,9,  -999.00,9,   -999.0,9,-999.000,9,   -999.0,9,   -999,  -999.0,-999.000,-999.0000,-999.000,  5093.0,-999.000,  1.1278,-999.000
    49RY9407_2,   P09,    54,  2,     12,    213,4,19940806,0202, 13.5087, 136.9908, 5030,   5217.8,   1.5919,  34.6855,2,  34.6877,6,    162.8,2,    162.8,6,   138.75,6,    35.77,6,     0.01,6,     2.47,6, -999.000,9, -999.000,9, -999.000,9,-999.0000,9,  -999.00,9,   -999.0,9,-999.000,9,   -999.0,9,   -999,  -999.0,-999.000,-999.0000,-999.000,  5210.0,-999.000,  1.1277,-999.000
    49RY9407_2,   P09,    55,  1,      0,      0,2,19940805,1729, 13.0123, 136.9872, 4830,      0.0,  28.7400,  33.8860,2,-999.0000,9,    165.4,4,    198.4,6,     1.38,2,     0.03,2,     0.00,2,     0.01,2, -999.000,9, -999.000,9, -999.000,9,-999.0000,9,  -999.00,9,   -999.0,9,-999.000,9,   -999.0,9,   -999,  -999.0,-999.000,-999.0000,-999.000,  -999.0,-999.000, 28.7402,-999.000
    49RY9407_2,   P09,    55,  1,     21,    226,2,19940805,1729, 13.0123, 136.9872, 4830,      9.3,  28.7482,  33.8842,2,  33.8866,6,    198.9,2,    199.3,2,     1.38,6,     0.02,6,     0.00,6,     0.00,6, -999.000,9, -999.000,9, -999.000,9,-999.0000,9,  -999.00,9,   -999.0,9,-999.000,9,   -999.0,9,   -999,  -999.0,-999.000,-999.0000,-999.000,  -999.0,-999.000, 28.7460,-999.000
    49RY9407_2,   P09,    55,  1,     20,    203,2,19940805,1729, 13.0123, 136.9872, 4830,     23.4,  28.7525,  33.8867,2,  33.8880,2,    200.4,2,    199.4,2,     1.37,2,     0.00,2,     0.00,2,     0.01,2, -999.000,9, -999.000,9, -999.000,9,-999.0000,9,  -999.00,9,   -999.0,9,-999.000,9,   -999.0,9,   -999,  -999.0,-999.000,-999.0000,-999.000,    31.0,-999.000, 28.7469,-999.000
    49RY9407_2,   P09,    55,  1,     18,    221,4,19940805,1729, 13.0123, 136.9872, 4830,     50.0,  28.7693,  33.8927,2,  33.8950,2,    202.5,2,    198.2,2,     1.31,2,     0.03,2,     0.00,2,     0.01,2, -999.000,9, -999.000,9, -999.000,9,-999.0000,9,  -999.00,9,   -999.0,9,-999.000,9,   -999.0,9,   -999,  -999.0,-999.000,-999.0000,-999.000,    56.0,-999.000, 28.7573,-999.000
    49RY9407_2,   P09,    55,  1,     19,    210,2,19940805,1729, 13.0123, 136.9872, 4830,     50.0,  28.7693,  33.8927,2,  33.8943,2,    202.5,2,    198.2,2,     1.31,2,     0.02,2,     0.00,2,     0.01,2, -999.000,9, -999.000,9, -999.000,9,-999.0000,9,  -999.00,9,   -999.0,9,-999.000,9,   -999.0,9,   -999,  -999.0,-999.000,-999.0000,-999.000,  -999.0,-999.000, 28.7573,-999.000
    49RY9407_2,   P09,    55,  1,     17,    219,2,19940805,1729, 13.0123, 136.9872, 4830,    101.5,  27.4949,  34.6795,2,  34.6770,2,    206.1,2,    203.6,2,     1.31,2,     0.00,2,     0.00,2,     0.07,2, -999.000,9, -999.000,9, -999.000,9,-999.0000,9,  -999.00,9,   -999.0,9,-999.000,9,   -999.0,9,   -999,  -999.0,-999.000,-999.0000,-999.000,  -999.0,-999.000, 27.4713,-999.000
    49RY9407_2,   P09,    55,  1,     15,    217,4,19940805,1729, 13.0123, 136.9872, 4830,    126.2,  26.9535,  34.8550,2,  34.8499,2,    204.5,2,    201.2,2,     1.25,2,     0.02,2,     0.00,2,     0.07,2, -999.000,9, -999.000,9, -999.000,9,-999.0000,9,  -999.00,9,   -999.0,9,-999.000,9,   -999.0,9,   -999,  -999.0,-999.000,-999.0000,-999.000,  -999.0,-999.000, 26.9246,-999.000
    49RY9407_2,   P09,    55,  1,     16,    229,2,19940805,1729, 13.0123, 136.9872, 4830,    126.2,  26.9535,  34.8550,2,  34.8504,6,    204.5,2,    201.1,2,     1.25,2,     0.02,2,     0.00,2,     0.06,2, -999.000,9, -999.000,9, -999.000,9,-999.0000,9,  -999.00,9,   -999.0,9,-999.000,9,   -999.0,9,   -999,  -999.0,  27.200,-999.0000,-999.000,   121.0,-999.000, 26.9246,-999.000
    49RY9407_2,   P09,    55,  1,     14,    204,2,19940805,1729, 13.0123, 136.9872, 4830,    200.7,  20.1064,  34.8749,2,  34.8845,2,    174.9,2,    170.1,2,     4.10,2,     4.17,2,     0.01,2,     0.44,2, -999.000,9, -999.000,9, -999.000,9,-999.0000,9,  -999.00,9,   -999.0,9,-999.000,9,   -999.0,9,   -999,  -999.0,  24.680,-999.0000,-999.000,   168.0,-999.000, 20.0692,-999.000
    49RY9407_2,   P09,    55,  1,     13,    214,2,19940805,1729, 13.0123, 136.9872, 4830,    300.2,  11.3281,  34.3513,2,  34.3429,2,    145.9,2,    143.5,2,    22.34,6,    19.74,6,     0.00,6,     1.45,6, -999.000,9, -999.000,9, -999.000,9,-999.0000,9,  -999.00,9,   -999.0,9,-999.000,9,   -999.0,9,   -999,  -999.0,-999.000,-999.0000,-999.000,  -999.0,-999.000, 11.2905,-999.000
    49RY9407_2,   P09,    55,  1,     12,    213,2,19940805,1729, 13.0123, 136.9872, 4830,    402.5,   8.1062,  34.3898,2,  34.3866,6,     71.3,2,     72.8,2,    47.70,6,    32.87,6,     0.00,6,     2.40,6, -999.000,9, -999.000,9, -999.000,9,-999.0000,9,  -999.00,9,   -999.0,9,-999.000,9,   -999.0,9,   -999,  -999.0,-999.000,-999.0000,-999.000,   278.0,-999.000,  8.0650,-999.000