BOTTLE,20020306WHPSIOdm
EXPOCODE,SECT_ID,STNNBR,CASTNO,SAMPNO,BTLNBR,BTLNBR_FLAG_W,DATE,TIME,LATITUDE,LONGITUDE,DEPTH,CTDPRS,CTDTMP,CTDSAL,CTDSAL_FLAG_W,SALNTY,SALNTY_FLAG_W,CTDOXY,CTDOXY_FLAG_W,OXYGEN,OXYGEN_FLAG_W,SILCAT,SILCAT_FLAG_W,NITRAT,NITRAT_FLAG_W,NITRIT,NITRIT_FLAG_W,PHSPHT,PHSPHT_FLAG_W,CFC-11,CFC-11_FLAG_W,CFC-12,CFC-12_FLAG_W,TRITUM,TRITUM_FLAG_W,HELIUM,HELIUM_FLAG_W,DELHE3,DELHE3_FLAG_W,DELC14,DELC14_FLAG_W,NEON,NEON_FLAG_W,TCARBN,TCARBN_FLAG_W,CTDRAW,C14ERR,REVTMP,HELIER,DELHER,REVPRS,NEONER,THETA,TRITER
,,,,,,,,,,,,DBAR,ITS-90,PSS-78,,PSS-78,,UMOL/KG,,UMOL/KG,,UMOL/KG,,UMOL/KG,,UMOL/KG,,UMOL/KG,,PMOL/KG,,PMOL/KG,,TU,,NMOL/KG,,PERCNT,,/MILLE,,NMOL/KG,,UMOL/KG,,,/MILLE,ITS-90,NMOL/KG,PERCNT,DBAR,NMOL/KG,DEG C,TU
    49RY9407_1,   P09,    10,  1,      0,      0,2,19940710,0230, 32.8165, 137.0003, 3895,      0.0,  29.5475,  34.3524,2,-999.0000,9,    122.7,4,    199.4,2,     1.37,6,     0.06,6,     0.00,6,     0.00,6, -999.000,9, -999.000,9, -999.000,9,-999.0000,9,  -999.00,9,   -999.0,1,-999.000,9,   1908.2,2,   -999,  -999.0,-999.000,-999.0000,-999.000,  -999.0,-999.000, 29.5475,-999.000
    49RY9407_1,   P09,    10,  1,      2,    204,2,19940710,0230, 32.8165, 137.0003, 3895,      9.8,  28.8503,  34.3452,2,-999.0000,5,    195.0,2,   -999.0,5,     1.33,2,     0.00,2,     0.00,2,     0.00,2, -999.000,9, -999.000,9, -999.000,9,-999.0000,9,  -999.00,9,   -999.0,1,-999.000,9,   1907.8,2,   -999,  -999.0,  29.140,-999.0000,-999.000,    10.0,-999.000, 28.8479,-999.000
    49RY9407_1,   P09,    10,  1,      1,    201,2,19940710,0230, 32.8165, 137.0003, 3895,     24.8,  26.6826,  34.5635,2,  34.5438,2,    203.4,3,    210.9,2,     1.37,2,     0.03,2,     0.00,2,     0.00,2, -999.000,9, -999.000,9, -999.000,9,-999.0000,9,  -999.00,9,   -999.0,1,-999.000,9,   1923.0,2,   -999,  -999.0,-999.000,-999.0000,-999.000,  -999.0,-999.000, 26.6770,-999.000
    49RY9407_1,   P09,    10,  1,     24,    230,2,19940710,0230, 32.8165, 137.0003, 3895,     49.9,  24.7618,  34.7315,2,-999.0000,5,    201.4,3,    208.0,6,     1.48,2,     0.00,2,     0.00,2,     0.03,2, -999.000,9, -999.000,9, -999.000,9,-999.0000,9,  -999.00,9,   -999.0,1,-999.000,9,   1948.1,2,   -999,  -999.0,-999.000,-999.0000,-999.000,  -999.0,-999.000, 24.7510,-999.000
    49RY9407_1,   P09,    10,  1,     23,    228,2,19940710,0230, 32.8165, 137.0003, 3895,     75.7,  22.7310,  34.8716,2,  34.8751,2,    204.3,2,   -999.0,5,     1.56,2,     0.14,2,     0.06,2,     0.04,2, -999.000,9, -999.000,9, -999.000,9,-999.0000,9,  -999.00,9,   -999.0,1,-999.000,9,   1965.7,6,   -999,  -999.0,-999.000,-999.0000,-999.000,  -999.0,-999.000, 22.7157,-999.000
    49RY9407_1,   P09,    10,  1,     22,    227,2,19940710,0230, 32.8165, 137.0003, 3895,    100.0,  21.7441,  34.8739,2,  34.8718,2,    199.1,2,    200.1,2,     2.31,6,     1.61,6,     0.11,6,     0.14,6, -999.000,9, -999.000,9, -999.000,9,-999.0000,9,  -999.00,9,   -999.0,1,-999.000,9,   1985.2,2,   -999,  -999.0,-999.000,-999.0000,-999.000,  -999.0,-999.000, 21.7245,-999.000
    49RY9407_1,   P09,    10,  1,     21,    226,2,19940710,0230, 32.8165, 137.0003, 3895,    125.2,  21.1055,  34.8903,2,  34.8897,2,    193.9,2,   -999.0,5,     2.40,2,     1.69,2,     0.07,2,     0.14,2, -999.000,9, -999.000,9, -999.000,9,-999.0000,9,  -999.00,9,   -999.0,1,-999.000,9,   1988.6,2,   -999,  -999.0,-999.000,-999.0000,-999.000,  -999.0,-999.000, 21.0815,-999.000
    49RY9407_1,   P09,    10,  1,     19,    224,4,19940710,0230, 32.8165, 137.0003, 3895,    150.9,  20.2484,  34.8673,2,  34.8676,2,    191.7,2,    196.4,6,     3.83,2,     3.09,2,     0.04,2,     0.24,2, -999.000,9, -999.000,9, -999.000,9,-999.0000,9,  -999.00,9,   -999.0,1,-999.000,9,   2004.6,2,   -999,  -999.0,-999.000,-999.0000,-999.000,  -999.0,-999.000, 20.2203,-999.000
    49RY9407_1,   P09,    10,  1,     20,    225,2,19940710,0230, 32.8165, 137.0003, 3895,    150.9,  20.2484,  34.8673,2,  34.8676,2,    191.7,2,    196.2,2,     3.84,2,     3.05,2,     0.04,2,     0.23,2, -999.000,9, -999.000,9, -999.000,9,-999.0000,9,  -999.00,9,   -999.0,1,-999.000,9,   2003.9,2,   -999,  -999.0,-999.000,-999.0000,-999.000,  -999.0,-999.000, 20.2203,-999.000
    49RY9407_1,   P09,    10,  2,     21,    226,4,19940710,0416, 32.8068, 137.0777, 4015,    300.7,  16.4915,  34.7340,2,  34.7347,2,    188.3,3,    196.3,2,     6.17,2,     7.05,2,     0.01,2,     0.47,2, -999.000,9, -999.000,9, -999.000,9,-999.0000,9,  -999.00,9,   -999.0,1,-999.000,9,   2035.4,2,   -999,  -999.0,-999.000,-999.0000,-999.000,  -999.0,-999.000, 16.4429,-999.000
    49RY9407_1,   P09,    10,  2,     22,    227,2,19940710,0416, 32.8068, 137.0777, 4015,    300.7,  16.4915,  34.7340,2,  34.7347,2,    188.3,3,   -999.0,5,     6.15,2,     7.03,2,     0.01,2,     0.46,2, -999.000,9, -999.000,9, -999.000,9,-999.0000,9,  -999.00,9,   -999.0,1,-999.000,9,   2038.4,2,   -999,  -999.0,-999.000,-999.0000,-999.000,  -999.0,-999.000, 16.4429,-999.000
    49RY9407_1,   P09,    10,  2,     19,    224,2,19940710,0416, 32.8068, 137.0777, 4015,    502.8,   9.4830,  34.3114,2,  34.3010,3,    142.1,2,    144.8,6,    43.33,2,    23.93,2,     0.00,2,     1.68,2, -999.000,9, -999.000,9, -999.000,9,-999.0000,9,  -999.00,9,   -999.0,1,-999.000,9,   2170.0,2,   -999,  -999.0,-999.000,-999.0000,-999.000,  -999.0,-999.000,  9.4261,-999.000
    49RY9407_1,   P09,    10,  2,     20,    225,2,19940710,0416, 32.8068, 137.0777, 4015,    502.8,   9.4830,  34.3114,2,  34.3077,2,    142.1,2,   -999.0,5,    43.35,2,    23.87,2,     0.01,2,     1.67,2, -999.000,9, -999.000,9, -999.000,9,-999.0000,9,  -999.00,9,   -999.0,1,-999.000,9,   2167.7,2,   -999,  -999.0,-999.000,-999.0000,-999.000,  -999.0,-999.000,  9.4261,-999.000
    49RY9407_1,   P09,    10,  2,     18,    223,2,19940710,0416, 32.8068, 137.0777, 4015,    604.5,   6.7697,  34.2553,2,  34.2544,2,    106.5,2,   -999.0,5,    71.54,2,    32.02,2,     0.00,2,     2.27,2, -999.000,9, -999.000,9, -999.000,9,-999.0000,9,  -999.00,9,   -999.0,1,-999.000,9,   2239.2,2,   -999,  -999.0,-999.000,-999.0000,-999.000,  -999.0,-999.000,  6.7132,-999.000
    49RY9407_1,   P09,    10,  2,     17,    222,2,19940710,0416, 32.8068, 137.0777, 4015,    706.1,   6.0036,  34.2677,2,  34.2616,2,     93.4,2,     92.7,2,    81.69,2,    34.37,2,     0.01,2,     2.45,2, -999.000,9, -999.000,9, -999.000,9,-999.0000,9,  -999.00,9,   -999.0,1,-999.000,9,   2261.5,2,   -999,  -999.0,-999.000,-999.0000,-999.000,  -999.0,-999.000,  5.9411,-999.000
    49RY9407_1,   P09,    10,  2,     16,    221,2,19940710,0416, 32.8068, 137.0777, 4015,    806.6,   4.8611,  34.3032,2,  34.3061,2,     80.4,2,     76.2,2,    99.93,2,    37.99,2,     0.00,2,     2.71,2, -999.000,9, -999.000,9, -999.000,9,-999.0000,9,  -999.00,9,   -999.0,1,-999.000,9,   2301.1,2,   -999,  -999.0,-999.000,-999.0000,-999.000,  -999.0,-999.000,  4.7962,-999.000
    49RY9407_1,   P09,    10,  2,     15,    220,2,19940710,0416, 32.8068, 137.0777, 4015,    907.8,   4.0782,  34.3547,2,-999.0000,5,     73.4,3,     67.1,6,   113.34,6,    39.77,6,     0.00,6,     2.84,6, -999.000,9, -999.000,9, -999.000,9,-999.0000,9,  -999.00,9,   -999.0,1,-999.000,9,   2328.6,2,   -999,  -999.0,-999.000,-999.0000,-999.000,  -999.0,-999.000,  4.0098,-999.000
    49RY9407_1,   P09,    10,  2,     14,    219,2,19940710,0416, 32.8068, 137.0777, 4015,   1008.6,   3.6009,  34.4007,2,  34.4017,2,     69.4,3,     63.7,2,   122.70,2,    40.29,2,     0.00,2,     2.89,2, -999.000,9, -999.000,9, -999.000,9,-999.0000,9,  -999.00,9,   -999.0,1,-999.000,9,   2337.1,2,   -999,  -999.0,-999.000,-999.0000,-999.000,  -999.0,-999.000,  3.5278,-999.000
    49RY9407_1,   P09,    10,  2,     13,    218,4,19940710,0416, 32.8068, 137.0777, 4015,   1261.1,   2.9179,  34.4852,2,-999.0000,5,     78.4,2,     75.4,6,   134.81,2,    40.54,2,     0.00,2,     2.89,2, -999.000,9, -999.000,9, -999.000,9,-999.0000,9,  -999.00,9,   -999.0,1,-999.000,9,   2347.3,6,   -999,  -999.0,-999.000,-999.0000,-999.000,  -999.0,-999.000,  2.8305,-999.000
    49RY9407_1,   P09,    10,  2,     11,    216,4,19940710,0416, 32.8068, 137.0777, 4015,   1768.1,   2.1620,  34.5836,2,  34.5834,2,    106.0,2,    103.6,6,   143.55,2,    39.31,2,     0.00,2,     2.78,2, -999.000,9, -999.000,9, -999.000,9,-999.0000,9,  -999.00,9,   -999.0,1,-999.000,9,   2344.9,2,   -999,  -999.0,-999.000,-999.0000,-999.000,  -999.0,-999.000,  2.0426,-999.000
    49RY9407_1,   P09,    10,  2,     12,    217,2,19940710,0416, 32.8068, 137.0777, 4015,   1768.1,   2.1620,  34.5836,2,  34.5824,2,    106.0,2,    102.3,2,   143.59,2,    39.32,2,     0.00,2,     2.79,2, -999.000,9, -999.000,9, -999.000,9,-999.0000,9,  -999.00,9,   -999.0,1,-999.000,9,   2343.3,2,   -999,  -999.0,-999.000,-999.0000,-999.000,  -999.0,-999.000,  2.0426,-999.000
    49RY9407_1,   P09,    10,  2,      9,    213,4,19940710,0416, 32.8068, 137.0777, 4015,   2276.4,   1.7228,  34.6425,2,  34.6411,2,    131.2,2,    129.4,6,   144.01,6,    37.90,6,     0.00,6,     2.65,6, -999.000,9, -999.000,9, -999.000,9,-999.0000,9,  -999.00,9,   -999.0,1,-999.000,9,   2335.8,2,   -999,  -999.0,   1.725,-999.0000,-999.000,  2268.0,-999.000,  1.5674,-999.000
    49RY9407_1,   P09,    10,  2,     10,    214,2,19940710,0416, 32.8068, 137.0777, 4015,   2276.4,   1.7228,  34.6425,2,  34.6362,3,    131.2,2,    128.7,2,   143.97,2,    37.71,2,     0.00,2,     2.66,2, -999.000,9, -999.000,9, -999.000,9,-999.0000,9,  -999.00,9,   -999.0,1,-999.000,9,   2338.1,2,   -999,  -999.0,-999.000,-999.0000,-999.000,  -999.0,-999.000,  1.5674,-999.000
    49RY9407_1,   P09,    10,  2,      7,    210,4,19940710,0416, 32.8068, 137.0777, 4015,   2785.3,   1.5185,  34.6704,2,  34.6691,2,    147.9,2,    148.0,6,   142.75,2,    36.99,2,     0.00,2,     2.56,2, -999.000,9, -999.000,9, -999.000,9,-999.0000,9,  -999.00,9,   -999.0,1,-999.000,9,   2328.7,2,   -999,  -999.0,-999.000,-999.0000,-999.000,  -999.0,-999.000,  1.3214,-999.000
    49RY9407_1,   P09,    10,  2,      8,    212,2,19940710,0416, 32.8068, 137.0777, 4015,   2785.3,   1.5185,  34.6704,2,  34.6699,2,    147.9,2,    148.7,2,   142.80,2,    36.98,2,     0.00,2,     2.57,2, -999.000,9, -999.000,9, -999.000,9,-999.0000,9,  -999.00,9,   -999.0,1,-999.000,9,   -999.0,1,   -999,  -999.0,-999.000,-999.0000,-999.000,  -999.0,-999.000,  1.3214,-999.000
    49RY9407_1,   P09,    10,  2,      6,    209,2,19940710,0416, 32.8068, 137.0777, 4015,   3296.3,   1.5028,  34.6778,2,  34.6758,2,    153.4,2,    150.2,2,   142.34,2,    36.73,2,     0.00,2,     2.55,2, -999.000,9, -999.000,9, -999.000,9,-999.0000,9,  -999.00,9,   -999.0,1,-999.000,9,   -999.0,1,   -999,  -999.0,-999.000,-999.0000,-999.000,  -999.0,-999.000,  1.2571,-999.000
    49RY9407_1,   P09,    10,  2,      5,    207,2,19940710,0416, 32.8068, 137.0777, 4015,   3552.9,   1.4977,  34.6803,2,  34.6772,2,    154.5,2,    153.2,6,   142.26,2,    36.52,2,     0.00,2,     2.54,2, -999.000,9, -999.000,9, -999.000,9,-999.0000,9,  -999.00,9,   -999.0,1,-999.000,9,   2325.5,2,   -999,  -999.0,-999.000,-999.0000,-999.000,  -999.0,-999.000,  1.2262,-999.000
    49RY9407_1,   P09,    10,  2,      4,    206,2,19940710,0416, 32.8068, 137.0777, 4015,   3808.3,   1.5130,  34.6815,2,  34.6796,2,    154.6,2,    155.4,2,   141.81,2,    36.48,2,     0.00,2,     2.52,2, -999.000,9, -999.000,9, -999.000,9,-999.0000,9,  -999.00,9,   -999.0,1,-999.000,9,   2325.1,2,   -999,  -999.0,-999.000,-999.0000,-999.000,  -999.0,-999.000,  1.2144,-999.000
    49RY9407_1,   P09,    10,  2,      3,    205,2,19940710,0416, 32.8068, 137.0777, 4015,   4017.0,   1.5276,  34.6809,2,  34.6811,2,    154.1,2,    155.4,6,   141.46,6,    36.23,6,     0.00,6,     2.52,6, -999.000,9, -999.000,9, -999.000,9,-999.0000,9,  -999.00,9,   -999.0,1,-999.000,9,   2322.9,2,   -999,  -999.0,-999.000,-999.0000,-999.000,  -999.0,-999.000,  1.2061,-999.000
    49RY9407_1,   P09,    11,  1,      0,      0,2,19940710,0800, 32.6750, 137.0095, 4180,      0.0,  29.8191,  34.3149,2,-999.0000,9,    149.5,4,    201.3,6,     1.50,6,     0.07,6,     0.00,6,     0.06,6, -999.000,9, -999.000,9, -999.000,9,-999.0000,9,  -999.00,9,   -999.0,9,-999.000,9,   -999.0,9,   -999,  -999.0,-999.000,-999.0000,-999.000,  -999.0,-999.000, 29.8193,-999.000
    49RY9407_1,   P09,    11,  1,      8,    212,2,19940710,0800, 32.6750, 137.0095, 4180,      9.4,  27.6973,  34.2791,2,  34.3031,2,    200.2,2,   -999.0,5,     1.40,2,     0.07,2,     0.00,2,     0.00,2, -999.000,9, -999.000,9, -999.000,9,-999.0000,9,  -999.00,9,   -999.0,9,-999.000,9,   -999.0,9,   -999,  -999.0,-999.000,-999.0000,-999.000,  -999.0,-999.000, 27.6951,-999.000
    49RY9407_1,   P09,    11,  1,      7,    210,2,19940710,0800, 32.6750, 137.0095, 4180,     25.0,  26.8219,  34.5057,2,  34.5328,2,    202.1,2,   -999.0,5,     1.35,2,     0.09,2,     0.00,2,     0.01,2, -999.000,9, -999.000,9, -999.000,9,-999.0000,9,  -999.00,9,   -999.0,9,-999.000,9,   -999.0,9,   -999,  -999.0,-999.000,-999.0000,-999.000,  -999.0,-999.000, 26.8162,-999.000
    49RY9407_1,   P09,    11,  1,      6,    209,2,19940710,0800, 32.6750, 137.0095, 4180,     50.1,  24.8134,  34.7975,2,  34.7085,2,    204.4,3,    210.0,2,     1.45,2,     0.07,2,     0.00,2,     0.03,2, -999.000,9, -999.000,9, -999.000,9,-999.0000,9,  -999.00,9,   -999.0,9,-999.000,9,   -999.0,9,   -999,  -999.0,-999.000,-999.0000,-999.000,  -999.0,-999.000, 24.8026,-999.000
    49RY9407_1,   P09,    11,  1,      5,    207,2,19940710,0800, 32.6750, 137.0095, 4180,     75.4,  23.1488,  34.8022,2,  34.8004,2,    204.2,3,   -999.0,5,     1.39,2,     0.08,2,     0.00,2,     0.01,2, -999.000,9, -999.000,9, -999.000,9,-999.0000,9,  -999.00,9,   -999.0,9,-999.000,9,   -999.0,9,   -999,  -999.0,-999.000,-999.0000,-999.000,  -999.0,-999.000, 23.1334,-999.000
    49RY9407_1,   P09,    11,  1,      4,    206,2,19940710,0800, 32.6750, 137.0095, 4180,    100.7,  21.5363,  34.9115,2,  34.9106,2,    208.5,3,    217.6,2,     1.59,6,     0.09,6,     0.00,6,     0.04,6, -999.000,9, -999.000,9, -999.000,9,-999.0000,9,  -999.00,9,   -999.0,9,-999.000,9,   -999.0,9,   -999,  -999.0,-999.000,-999.0000,-999.000,  -999.0,-999.000, 21.5167,-999.000
    49RY9407_1,   P09,    11,  1,      3,    205,2,19940710,0800, 32.6750, 137.0095, 4180,    125.7,  20.5209,  34.9391,2,  34.9365,2,    204.4,3,   -999.0,5,     1.82,2,     0.50,2,     0.11,2,     0.07,2, -999.000,9, -999.000,9, -999.000,9,-999.0000,9,  -999.00,9,   -999.0,9,-999.000,9,   -999.0,9,   -999,  -999.0,-999.000,-999.0000,-999.000,  -999.0,-999.000, 20.4972,-999.000
    49RY9407_1,   P09,    11,  1,      2,    204,2,19940710,0800, 32.6750, 137.0095, 4180,    150.2,  19.8175,  34.9547,2,  34.9503,2,    204.4,3,    213.8,2,     1.88,2,     0.78,2,     0.11,2,     0.08,2, -999.000,9, -999.000,9, -999.000,9,-999.0000,9,  -999.00,9,   -999.0,9,-999.000,9,   -999.0,9,   -999,  -999.0,  19.846,-999.0000,-999.000,   150.0,-999.000, 19.7899,-999.000
    49RY9407_1,   P09,    11,  1,      1,    201,2,19940710,0800, 32.6750, 137.0095, 4180,    200.7,  18.8462,  34.9168,2,  34.9104,2,    204.4,3,    211.8,2,     2.37,2,     2.19,2,     0.01,2,     0.16,2, -999.000,9, -999.000,9, -999.000,9,-999.0000,9,  -999.00,9,   -999.0,9,-999.000,9,   -999.0,9,   -999,  -999.0,-999.000,-999.0000,-999.000,  -999.0,-999.000, 18.8106,-999.000