BOTTLE,20020306WHPSIOdm
EXPOCODE,SECT_ID,STNNBR,CASTNO,SAMPNO,BTLNBR,BTLNBR_FLAG_W,DATE,TIME,LATITUDE,LONGITUDE,DEPTH,CTDPRS,CTDTMP,CTDSAL,CTDSAL_FLAG_W,SALNTY,SALNTY_FLAG_W,CTDOXY,CTDOXY_FLAG_W,OXYGEN,OXYGEN_FLAG_W,SILCAT,SILCAT_FLAG_W,NITRAT,NITRAT_FLAG_W,NITRIT,NITRIT_FLAG_W,PHSPHT,PHSPHT_FLAG_W,CFC-11,CFC-11_FLAG_W,CFC-12,CFC-12_FLAG_W,TRITUM,TRITUM_FLAG_W,HELIUM,HELIUM_FLAG_W,DELHE3,DELHE3_FLAG_W,DELC14,DELC14_FLAG_W,NEON,NEON_FLAG_W,TCARBN,TCARBN_FLAG_W,CTDRAW,C14ERR,REVTMP,HELIER,DELHER,REVPRS,NEONER,THETA,TRITER
,,,,,,,,,,,,DBAR,ITS-90,PSS-78,,PSS-78,,UMOL/KG,,UMOL/KG,,UMOL/KG,,UMOL/KG,,UMOL/KG,,UMOL/KG,,PMOL/KG,,PMOL/KG,,TU,,NMOL/KG,,PERCNT,,/MILLE,,NMOL/KG,,UMOL/KG,,,/MILLE,ITS-90,NMOL/KG,PERCNT,DBAR,NMOL/KG,DEG C,TU
    49RY9407_1,   P09,    11,  2,     21,    226,2,19940710,0944, 32.6645, 137.0502, 4170,    301.1,  17.5388,  34.8236,2,  34.8189,2,    199.8,3,   -999.0,5,     3.83,2,     4.47,2,     0.01,2,     0.30,2, -999.000,9, -999.000,9, -999.000,9,-999.0000,9,  -999.00,9,   -999.0,9,-999.000,9,   -999.0,9,   -999,  -999.0,-999.000,-999.0000,-999.000,  -999.0,-999.000, 17.4879,-999.000
    49RY9407_1,   P09,    11,  2,     22,    227,4,19940710,0944, 32.6645, 137.0502, 4170,    301.1,  17.5388,  34.8236,2,  34.8203,2,    199.8,3,    206.0,2,     3.84,2,     4.42,2,     0.00,2,     0.29,2, -999.000,9, -999.000,9, -999.000,9,-999.0000,9,  -999.00,9,   -999.0,9,-999.000,9,   -999.0,9,   -999,  -999.0,-999.000,-999.0000,-999.000,  -999.0,-999.000, 17.4879,-999.000
    49RY9407_1,   P09,    11,  2,     20,    225,2,19940710,0944, 32.6645, 137.0502, 4170,    401.7,  14.9867,  34.6803,2,  34.6254,2,    184.5,2,    187.4,2,    10.04,2,    10.11,2,     0.00,2,     0.67,2, -999.000,9, -999.000,9, -999.000,9,-999.0000,9,  -999.00,9,   -999.0,9,-999.000,9,   -999.0,9,   -999,  -999.0,-999.000,-999.0000,-999.000,  -999.0,-999.000, 14.9257,-999.000
    49RY9407_1,   P09,    11,  2,     19,    224,2,19940710,0944, 32.6645, 137.0502, 4170,    502.8,  11.2591,  34.4158,2,  34.4157,2,    151.1,2,   -999.0,5,    33.50,2,    19.90,2,     0.00,2,     1.39,2, -999.000,9, -999.000,9, -999.000,9,-999.0000,9,  -999.00,9,   -999.0,9,-999.000,9,   -999.0,9,   -999,  -999.0,-999.000,-999.0000,-999.000,  -999.0,-999.000, 11.1957,-999.000
    49RY9407_1,   P09,    11,  2,     18,    223,2,19940710,0944, 32.6645, 137.0502, 4170,    604.6,   7.7630,  34.1723,2,  34.1688,2,    130.9,3,    141.2,2,    50.27,2,    27.03,2,     0.00,2,     1.91,2, -999.000,9, -999.000,9, -999.000,9,-999.0000,9,  -999.00,9,   -999.0,9,-999.000,9,   -999.0,9,   -999,  -999.0,-999.000,-999.0000,-999.000,  -999.0,-999.000,  7.7020,-999.000
    49RY9407_1,   P09,    11,  2,     17,    222,2,19940710,0944, 32.6645, 137.0502, 4170,    704.9,   6.4631,  34.2509,2,  34.2467,2,     94.6,2,   -999.0,5,    73.92,2,    32.86,2,     0.00,2,     2.34,2, -999.000,9, -999.000,9, -999.000,9,-999.0000,9,  -999.00,9,   -999.0,9,-999.000,9,   -999.0,9,   -999,  -999.0,-999.000,-999.0000,-999.000,  -999.0,-999.000,  6.3983,-999.000
    49RY9407_1,   P09,    11,  2,     16,    221,2,19940710,0944, 32.6645, 137.0502, 4170,    805.8,   5.5073,  34.2805,2,  34.2815,2,     81.9,2,     84.6,2,    89.22,2,    35.86,2,     0.00,2,     2.55,2, -999.000,9, -999.000,9, -999.000,9,-999.0000,9,  -999.00,9,   -999.0,9,-999.000,9,   -999.0,9,   -999,  -999.0,   5.491,-999.0000,-999.000,   809.0,-999.000,  5.4385,-999.000
    49RY9407_1,   P09,    11,  2,     15,    220,2,19940710,0944, 32.6645, 137.0502, 4170,    907.4,   4.5457,  34.3266,2,  34.3262,2,     69.3,2,     71.7,6,   105.05,2,    38.29,2,     0.00,2,     2.75,2, -999.000,9, -999.000,9, -999.000,9,-999.0000,9,  -999.00,9,   -999.0,9,-999.000,9,   -999.0,9,   -999,  -999.0,-999.000,-999.0000,-999.000,  -999.0,-999.000,  4.4741,-999.000
    49RY9407_1,   P09,    11,  2,     14,    219,2,19940710,0944, 32.6645, 137.0502, 4170,   1007.8,   3.9785,  34.3677,2,  34.3675,2,     65.0,2,     66.6,2,   115.16,6,    39.57,6,     0.00,6,     2.83,6, -999.000,9, -999.000,9, -999.000,9,-999.0000,9,  -999.00,9,   -999.0,9,-999.000,9,   -999.0,9,   -999,  -999.0,-999.000,-999.0000,-999.000,  -999.0,-999.000,  3.9026,-999.000
    49RY9407_1,   P09,    11,  2,     13,    218,2,19940710,0944, 32.6645, 137.0502, 4170,   1261.9,   3.1154,  34.4619,2,  34.4613,2,     70.7,2,     69.5,2,   131.43,6,    40.41,6,     0.00,6,     2.89,6, -999.000,9, -999.000,9, -999.000,9,-999.0000,9,  -999.00,9,   -999.0,9,-999.000,9,   -999.0,9,   -999,  -999.0,-999.000,-999.0000,-999.000,  -999.0,-999.000,  3.0261,-999.000
    49RY9407_1,   P09,    11,  2,     12,    217,2,19940710,0944, 32.6645, 137.0502, 4170,   1768.0,   2.1499,  34.5855,2,  34.5848,2,    101.6,2,    102.6,2,   143.61,2,    39.08,2,     0.00,2,     2.78,2, -999.000,9, -999.000,9, -999.000,9,-999.0000,9,  -999.00,9,   -999.0,9,-999.000,9,   -999.0,9,   -999,  -999.0,-999.000,-999.0000,-999.000,  -999.0,-999.000,  2.0306,-999.000
    49RY9407_1,   P09,    11,  2,     10,    214,2,19940710,0944, 32.6645, 137.0502, 4170,   2022.3,   1.9302,  34.6188,2,  34.6159,6,    115.2,2,    115.3,2,  -999.00,9,  -999.00,9,  -999.00,9,  -999.00,9, -999.000,9, -999.000,9, -999.000,9,-999.0000,9,  -999.00,9,   -999.0,9,-999.000,9,   -999.0,9,   -999,  -999.0,-999.000,-999.0000,-999.000,  -999.0,-999.000,  1.7930,-999.000
    49RY9407_1,   P09,    11,  2,     11,    216,4,19940710,0944, 32.6645, 137.0502, 4170,   2022.3,   1.9302,  34.6188,2,  34.6159,2,    115.2,2,    115.9,2,   143.78,2,    38.54,2,     0.00,2,     2.72,2, -999.000,9, -999.000,9, -999.000,9,-999.0000,9,  -999.00,9,   -999.0,9,-999.000,9,   -999.0,9,   -999,  -999.0,-999.000,-999.0000,-999.000,  -999.0,-999.000,  1.7930,-999.000
    49RY9407_1,   P09,    11,  2,      9,    213,2,19940710,0944, 32.6645, 137.0502, 4170,   2275.4,   1.7636,  34.6381,2,  34.6390,2,    127.1,2,    128.6,2,   143.56,6,    37.82,6,     0.00,6,     2.66,6, -999.000,9, -999.000,9, -999.000,9,-999.0000,9,  -999.00,9,   -999.0,9,-999.000,9,   -999.0,9,   -999,  -999.0,   1.756,-999.0000,-999.000,  2273.0,-999.000,  1.6075,-999.000
    49RY9407_1,   P09,    11,  2,      7,    210,2,19940710,0944, 32.6645, 137.0502, 4170,   2784.8,   1.5445,  34.6675,2,  34.6677,2,    143.8,2,    145.7,2,   142.90,2,    36.62,2,     0.00,2,     2.58,2, -999.000,9, -999.000,9, -999.000,9,-999.0000,9,  -999.00,9,   -999.0,9,-999.000,9,   -999.0,9,   -999,  -999.0,-999.000,-999.0000,-999.000,  -999.0,-999.000,  1.3469,-999.000
    49RY9407_1,   P09,    11,  2,      8,    212,4,19940710,0944, 32.6645, 137.0502, 4170,   2784.8,   1.5445,  34.6675,2,  34.6679,2,    143.8,2,    145.1,2,   142.71,2,    36.50,2,     0.00,2,     2.58,2, -999.000,9, -999.000,9, -999.000,9,-999.0000,9,  -999.00,9,   -999.0,9,-999.000,9,   -999.0,9,   -999,  -999.0,-999.000,-999.0000,-999.000,  -999.0,-999.000,  1.3469,-999.000
    49RY9407_1,   P09,    11,  2,      6,    209,2,19940710,0944, 32.6645, 137.0502, 4170,   3039.7,   1.5005,  34.6759,2,  34.6753,6,    150.0,2,    149.2,2,   142.25,2,    36.52,2,     0.00,2,     2.54,2, -999.000,9, -999.000,9, -999.000,9,-999.0000,9,  -999.00,9,   -999.0,9,-999.000,9,   -999.0,9,   -999,  -999.0,-999.000,-999.0000,-999.000,  -999.0,-999.000,  1.2799,-999.000
    49RY9407_1,   P09,    11,  2,      5,    207,2,19940710,0944, 32.6645, 137.0502, 4170,   3295.2,   1.4958,  34.6796,2,  34.6780,2,    151.6,2,    151.4,2,   141.91,2,    36.39,2,     0.00,2,     2.54,2, -999.000,9, -999.000,9, -999.000,9,-999.0000,9,  -999.00,9,   -999.0,9,-999.000,9,   -999.0,9,   -999,  -999.0,-999.000,-999.0000,-999.000,  -999.0,-999.000,  1.2504,-999.000
    49RY9407_1,   P09,    11,  2,      4,    206,2,19940710,0944, 32.6645, 137.0502, 4170,   3551.1,   1.5036,  34.6794,2,  34.6779,6,    154.7,2,    153.6,2,   142.10,2,    36.35,2,     0.00,2,     2.53,2, -999.000,9, -999.000,9, -999.000,9,-999.0000,9,  -999.00,9,   -999.0,9,-999.000,9,   -999.0,9,   -999,  -999.0,-999.000,-999.0000,-999.000,  -999.0,-999.000,  1.2322,-999.000
    49RY9407_1,   P09,    11,  2,      3,    205,2,19940710,0944, 32.6645, 137.0502, 4170,   3805.9,   1.5203,  34.6804,2,  34.6814,6,    155.3,2,    156.0,2,   141.71,2,    36.40,2,     0.00,2,     2.53,2, -999.000,9, -999.000,9, -999.000,9,-999.0000,9,  -999.00,9,   -999.0,9,-999.000,9,   -999.0,9,   -999,  -999.0,-999.000,-999.0000,-999.000,  -999.0,-999.000,  1.2218,-999.000
    49RY9407_1,   P09,    11,  2,      2,    204,2,19940710,0944, 32.6645, 137.0502, 4170,   4063.3,   1.5392,  34.6820,2,  34.6812,6,    155.6,2,    154.6,2,   141.43,2,    36.34,2,     0.00,2,     2.52,2, -999.000,9, -999.000,9, -999.000,9,-999.0000,9,  -999.00,9,   -999.0,9,-999.000,9,   -999.0,9,   -999,  -999.0,   1.534,-999.0000,-999.000,  4059.0,-999.000,  1.2123,-999.000
    49RY9407_1,   P09,    11,  2,      1,    201,2,19940710,0944, 32.6645, 137.0502, 4170,   4235.4,   1.5502,  34.6830,2,  34.6830,6,    152.6,2,    154.5,6,   141.15,6,    36.31,6,     0.00,6,     2.49,6, -999.000,9, -999.000,9, -999.000,9,-999.0000,9,  -999.00,9,   -999.0,9,-999.000,9,   -999.0,9,   -999,  -999.0,-999.000,-999.0000,-999.000,  -999.0,-999.000,  1.2039,-999.000
    49RY9407_1,   P09,    12,  1,     21,    226,2,19940710,1411, 32.5168, 137.0322, 4090,      9.6,  29.2251,  34.2786,2,  34.2982,2,    194.8,2,   -999.0,9,  -999.00,9,  -999.00,9,  -999.00,9,  -999.00,9, -999.000,9, -999.000,9, -999.000,9,-999.0000,9,  -999.00,9,   -999.0,9,-999.000,9,   -999.0,9,   -999,  -999.0,-999.000,-999.0000,-999.000,  -999.0,-999.000, 29.2228,-999.000
    49RY9407_1,   P09,    12,  1,     19,    224,4,19940710,1411, 32.5168, 137.0322, 4090,     49.6,  24.6041,  34.6708,2,  34.6608,2,    213.6,2,   -999.0,9,  -999.00,9,  -999.00,9,  -999.00,9,  -999.00,9, -999.000,9, -999.000,9, -999.000,9,-999.0000,9,  -999.00,9,   -999.0,9,-999.000,9,   -999.0,9,   -999,  -999.0,-999.000,-999.0000,-999.000,  -999.0,-999.000, 24.5935,-999.000
    49RY9407_1,   P09,    12,  1,     20,    225,2,19940710,1411, 32.5168, 137.0322, 4090,     49.6,  24.6041,  34.6708,2,  34.6614,2,    213.6,2,   -999.0,9,  -999.00,9,  -999.00,9,  -999.00,9,  -999.00,9, -999.000,9, -999.000,9, -999.000,9,-999.0000,9,  -999.00,9,   -999.0,9,-999.000,9,   -999.0,9,   -999,  -999.0,-999.000,-999.0000,-999.000,  -999.0,-999.000, 24.5935,-999.000
    49RY9407_1,   P09,    12,  1,     17,    222,2,19940710,1411, 32.5168, 137.0322, 4090,    151.2,  19.6488,  34.9368,2,  34.9375,2,    208.3,2,   -999.0,9,  -999.00,9,  -999.00,9,  -999.00,9,  -999.00,9, -999.000,9, -999.000,9, -999.000,9,-999.0000,9,  -999.00,9,   -999.0,9,-999.000,9,   -999.0,9,   -999,  -999.0,-999.000,-999.0000,-999.000,  -999.0,-999.000, 19.6212,-999.000
    49RY9407_1,   P09,    12,  1,     18,    223,2,19940710,1411, 32.5168, 137.0322, 4090,    151.2,  19.6488,  34.9368,2,  34.9386,2,    208.3,2,   -999.0,9,  -999.00,9,  -999.00,9,  -999.00,9,  -999.00,9, -999.000,9, -999.000,9, -999.000,9,-999.0000,9,  -999.00,9,   -999.0,9,-999.000,9,   -999.0,9,   -999,  -999.0,-999.000,-999.0000,-999.000,  -999.0,-999.000, 19.6212,-999.000
    49RY9407_1,   P09,    12,  1,     16,    221,2,19940710,1411, 32.5168, 137.0322, 4090,    199.6,  19.0361,  34.9218,2,  34.9165,2,    207.8,2,   -999.0,9,  -999.00,9,  -999.00,9,  -999.00,9,  -999.00,9, -999.000,9, -999.000,9, -999.000,9,-999.0000,9,  -999.00,9,   -999.0,9,-999.000,9,   -999.0,9,   -999,  -999.0,  19.047,-999.0000,-999.000,   203.0,-999.000, 19.0005,-999.000
    49RY9407_1,   P09,    12,  1,     15,    220,2,19940710,1411, 32.5168, 137.0322, 4090,    300.8,  18.2509,  34.8801,2,  34.8814,2,    208.2,2,   -999.0,9,  -999.00,9,  -999.00,9,  -999.00,9,  -999.00,9, -999.000,9, -999.000,9, -999.000,9,-999.0000,9,  -999.00,9,   -999.0,9,-999.000,9,   -999.0,9,   -999,  -999.0,-999.000,-999.0000,-999.000,  -999.0,-999.000, 18.1987,-999.000
    49RY9407_1,   P09,    12,  1,     14,    219,2,19940710,1411, 32.5168, 137.0322, 4090,    604.1,   9.3849,  34.2289,2,  34.2316,2,    151.4,2,   -999.0,9,  -999.00,9,  -999.00,9,  -999.00,9,  -999.00,9, -999.000,9, -999.000,9, -999.000,9,-999.0000,9,  -999.00,9,   -999.0,9,-999.000,9,   -999.0,9,   -999,  -999.0,-999.000,-999.0000,-999.000,  -999.0,-999.000,  9.3167,-999.000
    49RY9407_1,   P09,    12,  1,     13,    218,4,19940710,1411, 32.5168, 137.0322, 4090,    705.3,   7.4523,  34.1840,2,  34.1869,2,    129.1,2,   -999.0,9,  -999.00,9,  -999.00,9,  -999.00,9,  -999.00,9, -999.000,9, -999.000,9, -999.000,9,-999.0000,9,  -999.00,9,   -999.0,9,-999.000,9,   -999.0,9,   -999,  -999.0,-999.000,-999.0000,-999.000,  -999.0,-999.000,  7.3823,-999.000
    49RY9407_1,   P09,    12,  1,     11,    216,4,19940710,1411, 32.5168, 137.0322, 4090,   1007.5,   3.9308,  34.3662,2,  34.3671,2,     64.9,2,   -999.0,9,  -999.00,9,  -999.00,9,  -999.00,9,  -999.00,9, -999.000,9, -999.000,9, -999.000,9,-999.0000,9,  -999.00,9,   -999.0,9,-999.000,9,   -999.0,9,   -999,  -999.0,-999.000,-999.0000,-999.000,  -999.0,-999.000,  3.8553,-999.000
    49RY9407_1,   P09,    12,  1,     12,    217,2,19940710,1411, 32.5168, 137.0322, 4090,   1007.5,   3.9308,  34.3662,2,  34.3675,2,     64.9,2,   -999.0,9,  -999.00,9,  -999.00,9,  -999.00,9,  -999.00,9, -999.000,9, -999.000,9, -999.000,9,-999.0000,9,  -999.00,9,   -999.0,9,-999.000,9,   -999.0,9,   -999,  -999.0,-999.000,-999.0000,-999.000,  -999.0,-999.000,  3.8553,-999.000
    49RY9407_1,   P09,    12,  1,     10,    214,2,19940710,1411, 32.5168, 137.0322, 4090,   1513.9,   2.6030,  34.5237,2,  34.5234,2,     79.6,2,   -999.0,9,  -999.00,9,  -999.00,9,  -999.00,9,  -999.00,9, -999.000,9, -999.000,9, -999.000,9,-999.0000,9,  -999.00,9,   -999.0,9,-999.000,9,   -999.0,9,   -999,  -999.0,-999.000,-999.0000,-999.000,  -999.0,-999.000,  2.4987,-999.000
    49RY9407_1,   P09,    12,  1,      9,    213,2,19940710,1411, 32.5168, 137.0322, 4090,   1768.4,   2.2323,  34.5733,2,  34.5720,2,     97.9,2,   -999.0,9,  -999.00,9,  -999.00,9,  -999.00,9,  -999.00,9, -999.000,9, -999.000,9, -999.000,9,-999.0000,9,  -999.00,9,   -999.0,9,-999.000,9,   -999.0,9,   -999,  -999.0,   2.230,-999.0000,-999.000,  1767.0,-999.000,  2.1119,-999.000
    49RY9407_1,   P09,    12,  1,      8,    212,2,19940710,1411, 32.5168, 137.0322, 4090,   2021.5,   1.9412,  34.6111,2,  34.6104,2,    114.9,2,   -999.0,9,  -999.00,9,  -999.00,9,  -999.00,9,  -999.00,9, -999.000,9, -999.000,9, -999.000,9,-999.0000,9,  -999.00,9,   -999.0,9,-999.000,9,   -999.0,9,   -999,  -999.0,-999.000,-999.0000,-999.000,  -999.0,-999.000,  1.8040,-999.000
    49RY9407_1,   P09,    12,  1,      6,    209,4,19940710,1411, 32.5168, 137.0322, 4090,   2275.5,   1.7768,  34.6338,2,  34.6341,2,    126.3,2,   -999.0,9,  -999.00,9,  -999.00,9,  -999.00,9,  -999.00,9, -999.000,9, -999.000,9, -999.000,9,-999.0000,9,  -999.00,9,   -999.0,9,-999.000,9,   -999.0,9,   -999,  -999.0,-999.000,-999.0000,-999.000,  -999.0,-999.000,  1.6205,-999.000
    49RY9407_1,   P09,    12,  1,      7,    210,2,19940710,1411, 32.5168, 137.0322, 4090,   2275.5,   1.7768,  34.6338,2,  34.6354,2,    126.3,2,   -999.0,9,  -999.00,9,  -999.00,9,  -999.00,9,  -999.00,9, -999.000,9, -999.000,9, -999.000,9,-999.0000,9,  -999.00,9,   -999.0,9,-999.000,9,   -999.0,9,   -999,  -999.0,-999.000,-999.0000,-999.000,  -999.0,-999.000,  1.6205,-999.000
    49RY9407_1,   P09,    12,  1,      5,    207,2,19940710,1411, 32.5168, 137.0322, 4090,   2784.5,   1.5640,  34.6646,2,  34.6646,2,    141.5,2,   -999.0,9,  -999.00,9,  -999.00,9,  -999.00,9,  -999.00,9, -999.000,9, -999.000,9, -999.000,9,-999.0000,9,  -999.00,9,   -999.0,9,-999.000,9,   -999.0,9,   -999,  -999.0,-999.000,-999.0000,-999.000,  -999.0,-999.000,  1.3661,-999.000
    49RY9407_1,   P09,    12,  1,      4,    206,2,19940710,1411, 32.5168, 137.0322, 4090,   3040.1,   1.5114,  34.6730,2,  34.6742,2,    147.5,2,   -999.0,9,  -999.00,9,  -999.00,9,  -999.00,9,  -999.00,9, -999.000,9, -999.000,9, -999.000,9,-999.0000,9,  -999.00,9,   -999.0,9,-999.000,9,   -999.0,9,   -999,  -999.0,-999.000,-999.0000,-999.000,  -999.0,-999.000,  1.2905,-999.000
    49RY9407_1,   P09,    12,  1,      2,    204,4,19940710,1411, 32.5168, 137.0322, 4090,   3295.3,   1.4980,  34.6765,2,  34.6776,2,    149.7,2,   -999.0,9,  -999.00,9,  -999.00,9,  -999.00,9,  -999.00,9, -999.000,9, -999.000,9, -999.000,9,-999.0000,9,  -999.00,9,   -999.0,9,-999.000,9,   -999.0,9,   -999,  -999.0,   1.491,-999.0000,-999.000,  3293.0,-999.000,  1.2525,-999.000
    49RY9407_1,   P09,    12,  1,      3,    205,2,19940710,1411, 32.5168, 137.0322, 4090,   3295.3,   1.4980,  34.6765,2,  34.6776,2,    149.7,2,   -999.0,9,  -999.00,9,  -999.00,9,  -999.00,9,  -999.00,9, -999.000,9, -999.000,9, -999.000,9,-999.0000,9,  -999.00,9,   -999.0,9,-999.000,9,   -999.0,9,   -999,  -999.0,-999.000,-999.0000,-999.000,  -999.0,-999.000,  1.2525,-999.000
    49RY9407_1,   P09,    12,  1,      1,    201,2,19940710,1411, 32.5168, 137.0322, 4090,   3806.4,   1.5174,  34.6799,2,  34.6811,2,    153.0,2,   -999.0,9,  -999.00,9,  -999.00,9,  -999.00,9,  -999.00,9, -999.000,9, -999.000,9, -999.000,9,-999.0000,9,  -999.00,9,   -999.0,9,-999.000,9,   -999.0,9,   -999,  -999.0,-999.000,-999.0000,-999.000,  -999.0,-999.000,  1.2189,-999.000
    49RY9407_1,   P09,    12,  1,     24,    230,2,19940710,1411, 32.5168, 137.0322, 4090,   4063.1,   1.5364,  34.6801,2,  34.6823,2,    154.7,2,   -999.0,9,  -999.00,9,  -999.00,9,  -999.00,9,  -999.00,9, -999.000,9, -999.000,9, -999.000,9,-999.0000,9,  -999.00,9,   -999.0,9,-999.000,9,   -999.0,9,   -999,  -999.0,-999.000,-999.0000,-999.000,  -999.0,-999.000,  1.2096,-999.000
    49RY9407_1,   P09,    12,  1,     23,    228,2,19940710,1411, 32.5168, 137.0322, 4090,   4159.1,   1.5444,  34.6807,2,  34.6823,2,    153.5,2,   -999.0,9,  -999.00,9,  -999.00,9,  -999.00,9,  -999.00,9, -999.000,9, -999.000,9, -999.000,9,-999.0000,9,  -999.00,9,   -999.0,9,-999.000,9,   -999.0,9,   -999,  -999.0,-999.000,-999.0000,-999.000,  -999.0,-999.000,  1.2068,-999.000