BOTTLE,20020306WHPSIOdm
EXPOCODE,SECT_ID,STNNBR,CASTNO,SAMPNO,BTLNBR,BTLNBR_FLAG_W,DATE,TIME,LATITUDE,LONGITUDE,DEPTH,CTDPRS,CTDTMP,CTDSAL,CTDSAL_FLAG_W,SALNTY,SALNTY_FLAG_W,CTDOXY,CTDOXY_FLAG_W,OXYGEN,OXYGEN_FLAG_W,SILCAT,SILCAT_FLAG_W,NITRAT,NITRAT_FLAG_W,NITRIT,NITRIT_FLAG_W,PHSPHT,PHSPHT_FLAG_W,CFC-11,CFC-11_FLAG_W,CFC-12,CFC-12_FLAG_W,TRITUM,TRITUM_FLAG_W,HELIUM,HELIUM_FLAG_W,DELHE3,DELHE3_FLAG_W,DELC14,DELC14_FLAG_W,NEON,NEON_FLAG_W,TCARBN,TCARBN_FLAG_W,CTDRAW,C14ERR,REVTMP,HELIER,DELHER,REVPRS,NEONER,THETA,TRITER
,,,,,,,,,,,,DBAR,ITS-90,PSS-78,,PSS-78,,UMOL/KG,,UMOL/KG,,UMOL/KG,,UMOL/KG,,UMOL/KG,,UMOL/KG,,PMOL/KG,,PMOL/KG,,TU,,NMOL/KG,,PERCNT,,/MILLE,,NMOL/KG,,UMOL/KG,,,/MILLE,ITS-90,NMOL/KG,PERCNT,DBAR,NMOL/KG,DEG C,TU
    49RY9407_1,   P09,    33,  2,      6,    209,2,19940716,1052, 24.0065, 136.9967, 3900,    402.0,  12.0844,  34.4298,2,  34.3997,2,    173.6,3,    180.3,2,    18.62,6,    15.24,6,     0.00,6,     1.06,6, -999.000,9, -999.000,9, -999.000,9,-999.0000,9,  -999.00,9,   -999.0,9,-999.000,9,   -999.0,9,   -999,  -999.0,-999.000,-999.0000,-999.000,  -999.0,-999.000, 12.0316,-999.000
    49RY9407_1,   P09,    33,  2,      5,    218,2,19940716,1052, 24.0065, 136.9967, 3900,    503.7,   9.7617,  34.2514,2,  34.2459,2,    164.4,2,    166.0,2,    30.73,2,    20.82,2,     0.00,2,     1.48,2, -999.000,9, -999.000,9, -999.000,9,-999.0000,9,  -999.00,9,   -999.0,9,-999.000,9,   -999.0,9,   -999,  -999.0,-999.000,-999.0000,-999.000,  -999.0,-999.000,  9.7038,-999.000
    49RY9407_1,   P09,    33,  2,      4,    206,2,19940716,1052, 24.0065, 136.9967, 3900,    602.8,   7.4181,  34.1775,2,  34.1323,2,    139.9,2,    141.9,2,    50.34,2,    27.30,2,     0.00,2,     1.96,2, -999.000,9, -999.000,9, -999.000,9,-999.0000,9,  -999.00,9,   -999.0,9,-999.000,9,   -999.0,9,   -999,  -999.0,-999.000,-999.0000,-999.000,  -999.0,-999.000,  7.3588,-999.000
    49RY9407_1,   P09,    33,  2,      3,    205,2,19940716,1052, 24.0065, 136.9967, 3900,    704.8,   5.4330,  34.1596,2,  34.1364,2,    106.5,3,     97.8,2,    78.46,2,    34.81,2,     0.00,2,     2.51,2, -999.000,9, -999.000,9, -999.000,9,-999.0000,9,  -999.00,9,   -999.0,9,-999.000,9,   -999.0,9,   -999,  -999.0,-999.000,-999.0000,-999.000,  -999.0,-999.000,  5.3739,-999.000
    49RY9407_1,   P09,    33,  2,      2,    216,2,19940716,1052, 24.0065, 136.9967, 3900,    806.0,   4.5536,  34.2200,2,  34.2133,2,     74.1,2,     70.3,2,    98.27,2,    38.49,2,     0.00,2,     2.77,2, -999.000,9, -999.000,9, -999.000,9,-999.0000,9,  -999.00,9,   -999.0,9,-999.000,9,   -999.0,9,   -999,  -999.0,-999.000,-999.0000,-999.000,  -999.0,-999.000,  4.4907,-999.000
    49RY9407_1,   P09,    33,  2,      1,    201,2,19940716,1052, 24.0065, 136.9967, 3900,    905.3,   4.1372,  34.2866,2,  34.2803,2,     63.8,2,     60.7,2,   108.35,2,    39.92,2,     0.00,2,     2.88,2, -999.000,9, -999.000,9, -999.000,9,-999.0000,9,  -999.00,9,   -999.0,9,-999.000,9,   -999.0,9,   -999,  -999.0,-999.000,-999.0000,-999.000,  -999.0,-999.000,  4.0687,-999.000
    49RY9407_1,   P09,    33,  2,     24,    230,2,19940716,1052, 24.0065, 136.9967, 3900,   1007.6,   3.9078,  34.3735,2,  34.3673,2,     60.0,2,     58.4,6,   113.92,6,    40.60,6,     0.00,6,     2.91,6, -999.000,9, -999.000,9, -999.000,9,-999.0000,9,  -999.00,9,   -999.0,9,-999.000,9,   -999.0,9,   -999,  -999.0,-999.000,-999.0000,-999.000,  -999.0,-999.000,  3.8325,-999.000
    49RY9407_1,   P09,    33,  2,     21,    226,2,19940716,1052, 24.0065, 136.9967, 3900,   1260.8,   2.9455,  34.4805,2,  34.4810,2,     67.9,2,     66.9,6,   134.31,6,    41.01,6,     0.00,6,     2.92,6, -999.000,9, -999.000,9, -999.000,9,-999.0000,9,  -999.00,9,   -999.0,9,-999.000,9,   -999.0,9,   -999,  -999.0,-999.000,-999.0000,-999.000,  -999.0,-999.000,  2.8579,-999.000
    49RY9407_1,   P09,    33,  2,     22,    227,2,19940716,1052, 24.0065, 136.9967, 3900,   1260.8,   2.9455,  34.4805,2,  34.4804,2,     67.9,2,     68.4,6,   134.37,6,    41.03,6,     0.00,6,     2.92,6, -999.000,9, -999.000,9, -999.000,9,-999.0000,9,  -999.00,9,   -999.0,9,-999.000,9,   -999.0,9,   -999,  -999.0,-999.000,-999.0000,-999.000,  -999.0,-999.000,  2.8579,-999.000
    49RY9407_1,   P09,    33,  2,     23,    228,2,19940716,1052, 24.0065, 136.9967, 3900,   1260.8,   2.9456,  34.4820,2,  34.4806,2,     67.9,2,     66.3,6,   134.32,6,    41.09,6,     0.00,6,     2.93,6, -999.000,9, -999.000,9, -999.000,9,-999.0000,9,  -999.00,9,   -999.0,9,-999.000,9,   -999.0,9,   -999,  -999.0,-999.000,-999.0000,-999.000,  -999.0,-999.000,  2.8580,-999.000
    49RY9407_1,   P09,    33,  2,     20,    225,2,19940716,1052, 24.0065, 136.9967, 3900,   1512.8,   2.5035,  34.5493,2,  34.5462,2,     86.2,2,     84.6,2,   140.21,2,    40.10,2,     0.00,2,     2.85,2, -999.000,9, -999.000,9, -999.000,9,-999.0000,9,  -999.00,9,   -999.0,9,-999.000,9,   -999.0,9,   -999,  -999.0,-999.000,-999.0000,-999.000,  -999.0,-999.000,  2.4004,-999.000
    49RY9407_1,   P09,    33,  2,     19,    224,2,19940716,1052, 24.0065, 136.9967, 3900,   1767.8,   2.2187,  34.5923,2,  34.5909,2,    104.5,2,    106.6,2,   140.91,2,    39.02,2,     0.00,2,     2.75,2, -999.000,9, -999.000,9, -999.000,5,   1.8773,2,    19.27,2,   -999.0,9,   7.983,2,   -999.0,9,   -999,  -999.0,-999.000,  0.0025,   0.210,  -999.0,   0.030,  2.0984,-999.000
    49RY9407_1,   P09,    33,  2,     18,    223,2,19940716,1052, 24.0065, 136.9967, 3900,   2020.7,   2.0005,  34.6161,2,  34.6155,2,    117.3,2,    115.8,2,   142.24,2,    38.43,2,     0.00,2,     2.71,2, -999.000,9, -999.000,9, -999.000,9,-999.0000,9,  -999.00,9,   -999.0,9,-999.000,9,   -999.0,9,   -999,  -999.0,-999.000,-999.0000,-999.000,  -999.0,-999.000,  1.8623,-999.000
    49RY9407_1,   P09,    33,  2,     17,    203,2,19940716,1052, 24.0065, 136.9967, 3900,   2275.8,   1.8504,  34.6340,2,  34.6335,2,    124.4,2,    123.8,2,   142.75,2,    37.97,2,     0.00,2,     2.67,2, -999.000,9, -999.000,9, -999.000,5,   1.8825,2,    19.21,2,   -999.0,9,   8.024,2,   -999.0,9,   -999,  -999.0,-999.000,  0.0024,   0.210,  2272.0,   0.030,  1.6928,-999.000
    49RY9407_1,   P09,    33,  2,     16,    210,2,19940716,1052, 24.0065, 136.9967, 3900,   2530.1,   1.7655,  34.6470,2,  34.6449,2,    130.5,2,    135.2,3,   142.78,2,    37.48,2,     0.00,2,     2.63,2, -999.000,9, -999.000,9, -999.000,9,-999.0000,9,  -999.00,9,   -999.0,9,-999.000,9,   -999.0,9,   -999,  -999.0,-999.000,-999.0000,-999.000,  -999.0,-999.000,  1.5869,-999.000
    49RY9407_1,   P09,    33,  2,     15,    221,2,19940716,1052, 24.0065, 136.9967, 3900,   2785.0,   1.7022,  34.6543,2,  34.6541,2,    134.0,2,    140.7,3,   142.59,2,    37.28,2,     0.00,2,     2.60,2, -999.000,9, -999.000,9, -999.000,5,   1.8705,2,    19.21,2,   -999.0,9,   7.991,2,   -999.0,9,   -999,  -999.0,   1.705,  0.0026,   0.250,  2769.0,   0.014,  1.5015,-999.000
    49RY9407_1,   P09,    33,  2,     14,    219,2,19940716,1052, 24.0065, 136.9967, 3900,   3039.6,   1.6387,  34.6632,2,  34.6628,2,    140.2,2,    142.0,2,   142.55,2,    36.90,2,     0.00,2,     2.58,2, -999.000,9, -999.000,9, -999.000,9,-999.0000,9,  -999.00,9,   -999.0,9,-999.000,9,   -999.0,9,   -999,  -999.0,-999.000,-999.0000,-999.000,  -999.0,-999.000,  1.4151,-999.000
    49RY9407_1,   P09,    33,  2,     13,    229,4,19940716,1052, 24.0065, 136.9967, 3900,   3295.7,   1.5790,  34.6724,2,  34.6707,2,    144.5,2,    149.3,2,   142.19,2,    36.62,2,     0.00,2,     2.56,2, -999.000,9, -999.000,9, -999.000,5,   1.8842,2,    18.38,2,   -999.0,9,   8.048,2,   -999.0,9,   -999,  -999.0,   1.581,  0.0026,   0.250,  3296.0,   0.015,  1.3316,-999.000
    49RY9407_1,   P09,    33,  2,     11,    204,2,19940716,1052, 24.0065, 136.9967, 3900,   3807.2,   1.5058,  34.6832,2,  34.6805,2,    154.6,2,    156.3,2,   140.51,2,    36.11,2,     0.00,2,     2.50,2, -999.000,9, -999.000,9, -999.000,9,-999.0000,9,  -999.00,9,   -999.0,9,-999.000,9,   -999.0,9,   -999,  -999.0,   1.507,-999.0000,-999.000,  3806.0,-999.000,  1.2075,-999.000
    49RY9407_1,   P09,    33,  2,     12,    217,2,19940716,1052, 24.0065, 136.9967, 3900,   3807.2,   1.5058,  34.6832,2,  34.6817,2,    154.6,2,    155.8,2,   140.74,2,    36.01,2,     0.00,2,     2.50,2, -999.000,9, -999.000,9, -999.000,9,-999.0000,9,  -999.00,9,   -999.0,9,-999.000,9,   -999.0,9,   -999,  -999.0,-999.000,-999.0000,-999.000,  -999.0,-999.000,  1.2075,-999.000
    49RY9407_1,   P09,    33,  2,     10,    214,2,19940716,1052, 24.0065, 136.9967, 3900,   3807.4,   1.5059,  34.6828,2,  34.6811,2,    154.6,2,    157.6,6,   140.64,6,    36.16,6,     0.00,6,     2.50,6, -999.000,9, -999.000,9, -999.000,9,-999.0000,9,  -999.00,9,   -999.0,9,-999.000,9,   -999.0,9,   -999,  -999.0,-999.000,-999.0000,-999.000,  -999.0,-999.000,  1.2075,-999.000
    49RY9407_1,   P09,    33,  2,      9,    213,4,19940716,1052, 24.0065, 136.9967, 3900,   3943.1,   1.4989,  34.6844,2,  34.6843,2,    155.2,2,    158.3,6,   140.16,6,    36.09,6,     0.00,6,     2.48,6, -999.000,9, -999.000,9, -999.000,9,-999.0000,9,  -999.00,9,   -999.0,9,-999.000,9,   -999.0,9,   -999,  -999.0,   1.497,-999.0000,-999.000,  3940.0,-999.000,  1.1862,-999.000
    49RY9407_1,   P09,    33,  3,      1,    201,2,19940716,1323, 24.0227, 136.9942, 4015,      4.1,  29.9599,  34.6237,2,  34.6283,2,    184.6,4,   -999.0,9,  -999.00,9,  -999.00,9,  -999.00,9,  -999.00,9,    1.552,2,    2.446,4,    1.433,2,   1.6377,2,    -1.38,2,   -999.0,9,   6.409,2,   -999.0,9,   -999,  -999.0,-999.000,  0.0022,   0.260,  -999.0,   0.016, 29.9589,   0.016
    49RY9407_1,   P09,    33,  3,     24,    230,2,19940716,1323, 24.0227, 136.9942, 4015,     24.3,  25.7910,  34.8809,2,  34.8272,2,    216.9,2,   -999.0,9,  -999.00,9,  -999.00,9,  -999.00,9,  -999.00,9,    1.900,2,    1.228,3,    1.476,2,   1.6811,2,    -1.51,2,   -999.0,9,   6.719,2,   -999.0,9,   -999,  -999.0,-999.000,  0.0022,   0.260,  -999.0,   0.016, 25.7856,   0.017
    49RY9407_1,   P09,    33,  3,     23,    228,2,19940716,1323, 24.0227, 136.9942, 4015,     49.7,  23.2036,  34.9416,2,  34.9408,2,    238.3,2,   -999.0,9,  -999.00,9,  -999.00,9,  -999.00,9,  -999.00,9,    2.040,2,    1.352,3,    1.501,2,   1.6980,2,    -1.18,2,   -999.0,9,   6.868,2,   -999.0,9,   -999,  -999.0,-999.000,  0.0023,   0.260,  -999.0,   0.017, 23.1934,   0.017
    49RY9407_1,   P09,    33,  3,     22,    227,2,19940716,1323, 24.0227, 136.9942, 4015,     74.1,  20.9943,  34.9613,2,  34.9444,2,    235.6,2,   -999.0,9,  -999.00,9,  -999.00,9,  -999.00,9,  -999.00,9,    2.104,2,    1.316,3,    1.602,2,   1.7115,2,    -1.22,2,   -999.0,9,   6.917,2,   -999.0,9,   -999,  -999.0,-999.000,  0.0022,   0.260,  -999.0,   0.013, 20.9802,   0.019
    49RY9407_1,   P09,    33,  3,     21,    226,2,19940716,1323, 24.0227, 136.9942, 4015,     99.9,  19.8779,  34.9320,2,  34.9331,2,    221.1,2,   -999.0,9,  -999.00,9,  -999.00,9,  -999.00,9,  -999.00,9,    2.165,2,    1.341,3,    1.588,2,   1.8600,4,    -0.98,4,   -999.0,9,   7.539,4,   -999.0,9,   -999,  -999.0,-999.000,  0.0025,   0.260,  -999.0,   0.018, 19.8596,   0.019
    49RY9407_1,   P09,    33,  3,     20,    225,2,19940716,1323, 24.0227, 136.9942, 4015,    150.5,  18.7353,  34.8757,2,  34.8810,2,    198.5,2,   -999.0,9,  -999.00,9,  -999.00,9,  -999.00,9,  -999.00,9,    2.173,2,    1.351,3,    1.648,2,   1.7171,2,     0.17,2,   -999.0,9,   6.978,2,   -999.0,9,   -999,  -999.0,-999.000,  0.0024,   0.260,  -999.0,   0.017, 18.7087,   0.018
    49RY9407_1,   P09,    33,  3,     19,    224,2,19940716,1323, 24.0227, 136.9942, 4015,    200.0,  17.4938,  34.8375,2,  34.8089,2,    201.7,2,   -999.0,9,  -999.00,9,  -999.00,9,  -999.00,9,  -999.00,9,    2.227,2,    1.390,3,    1.672,2,   1.7140,2,     0.53,2,   -999.0,9,   7.008,3,   -999.0,9,   -999,  -999.0,-999.000,  0.0023,   0.260,  -999.0,   0.017, 17.4601,   0.018
    49RY9407_1,   P09,    33,  3,     17,    203,4,19940716,1323, 24.0227, 136.9942, 4015,    302.1,  15.5802,  34.6590,2,  34.6610,2,    194.5,2,   -999.0,9,  -999.00,9,  -999.00,9,  -999.00,9,  -999.00,9,    2.234,2,    1.292,4,    1.766,2,   1.7396,2,     2.94,2,   -999.0,9,   7.183,2,   -999.0,9,   -999,  -999.0,-999.000,  0.0027,   0.260,  -999.0,   0.013, 15.5332,   0.020
    49RY9407_1,   P09,    33,  3,     18,    223,2,19940716,1323, 24.0227, 136.9942, 4015,    302.1,  15.5802,  34.6590,2,  34.6616,2,    194.5,2,   -999.0,9,  -999.00,9,  -999.00,9,  -999.00,9,  -999.00,9,    2.240,2,    1.418,3,    1.798,2,   1.7247,2,     3.01,2,   -999.0,9,   7.113,3,   -999.0,9,   -999,  -999.0,-999.000,  0.0024,   0.260,  -999.0,   0.017, 15.5332,   0.020
    49RY9407_1,   P09,    33,  3,     15,    221,3,19940716,1323, 24.0227, 136.9942, 4015,    502.4,   9.7546,  34.2586,2,  34.2439,2,    168.6,2,   -999.0,9,  -999.00,9,  -999.00,9,  -999.00,9,  -999.00,9,    1.536,2,    0.798,3,    1.604,2,   1.7697,2,    12.61,2,   -999.0,9,   7.493,2,   -999.0,9,   -999,  -999.0,-999.000,  0.0039,   0.210,  -999.0,   0.015,  9.6968,   0.018
    49RY9407_1,   P09,    33,  3,     16,    210,2,19940716,1323, 24.0227, 136.9942, 4015,    502.4,   9.7546,  34.2586,2,  34.2441,2,    168.6,2,   -999.0,9,  -999.00,9,  -999.00,9,  -999.00,9,  -999.00,9,    1.579,2,    0.860,4,    1.615,2,   1.7769,2,    12.04,2,   -999.0,9,   7.503,2,   -999.0,9,   -999,  -999.0,-999.000,  0.0024,   0.220,  -999.0,   0.028,  9.6968,   0.018
    49RY9407_1,   P09,    33,  3,     14,    219,2,19940716,1323, 24.0227, 136.9942, 4015,    703.6,   5.7019,  34.1447,2,  34.1240,2,    112.4,2,   -999.0,9,  -999.00,9,  -999.00,9,  -999.00,9,  -999.00,9,    0.875,2,    0.531,3,    0.907,2,   1.8111,2,    15.02,2,   -999.0,9,   7.765,2,   -999.0,9,   -999,  -999.0,-999.000,  0.0024,   0.210,  -999.0,   0.016,  5.6415,   0.011
    49RY9407_1,   P09,    33,  3,     13,    229,2,19940716,1323, 24.0227, 136.9942, 4015,    805.7,   4.6099,  34.2088,2,  34.2074,2,     80.2,2,   -999.0,9,  -999.00,9,  -999.00,9,  -999.00,9,  -999.00,9,    0.416,2,    0.370,3,    0.487,2,   1.8268,2,    15.41,2,   -999.0,9,   7.824,2,   -999.0,9,   -999,  -999.0,-999.000,  0.0022,   0.210,  -999.0,   0.016,  4.5467,   0.008
    49RY9407_1,   P09,    33,  3,     12,    217,2,19940716,1323, 24.0227, 136.9942, 4015,    906.4,   4.1801,  34.2739,2,  34.2727,2,     67.0,2,   -999.0,9,  -999.00,9,  -999.00,9,  -999.00,9,  -999.00,9,    0.254,2,    0.078,3,    0.334,2,   1.8332,2,    15.80,2,   -999.0,9,   7.755,3,   -999.0,9,   -999,  -999.0,-999.000,  0.0025,   0.210,  -999.0,   0.016,  4.1113,   0.005
    49RY9407_1,   P09,    33,  3,     11,    204,2,19940716,1323, 24.0227, 136.9942, 4015,   1007.4,   3.9384,  34.3673,2,  34.3608,2,     66.6,2,   -999.0,9,  -999.00,9,  -999.00,9,  -999.00,9,  -999.00,9,    0.112,2,    0.912,4,    0.353,2,   1.8478,2,    15.86,2,   -999.0,9,   7.900,2,   -999.0,9,   -999,  -999.0,-999.000,  0.0026,   0.250,  -999.0,   0.014,  3.8628,   0.009
    49RY9407_1,   P09,    33,  3,     10,    214,2,19940716,1323, 24.0227, 136.9942, 4015,   1260.3,   3.0077,  34.4734,2,  34.4749,2,     71.9,2,   -999.0,9,  -999.00,9,  -999.00,9,  -999.00,9,  -999.00,9,    0.014,2,    0.027,3,    0.072,2,   1.8568,2,    17.78,2,   -999.0,9,   7.908,2,   -999.0,9,   -999,  -999.0,-999.000,  0.0027,   0.210,  -999.0,   0.016,  2.9196,   0.005
    49RY9407_1,   P09,    33,  3,      9,    213,2,19940716,1323, 24.0227, 136.9942, 4015,   1515.2,   2.4946,  34.5466,2,  34.5482,2,     88.5,2,   -999.0,9,  -999.00,9,  -999.00,9,  -999.00,9,  -999.00,9,    0.005,2,    0.027,3,    0.005,2,   1.8655,2,    18.73,2,   -999.0,9,   7.956,2,   -999.0,9,   -999,  -999.0,-999.000,  0.0025,   0.210,  -999.0,   0.016,  2.3915,   0.004