BOTTLE,20020306WHPSIOdm
EXPOCODE,SECT_ID,STNNBR,CASTNO,SAMPNO,BTLNBR,BTLNBR_FLAG_W,DATE,TIME,LATITUDE,LONGITUDE,DEPTH,CTDPRS,CTDTMP,CTDSAL,CTDSAL_FLAG_W,SALNTY,SALNTY_FLAG_W,CTDOXY,CTDOXY_FLAG_W,OXYGEN,OXYGEN_FLAG_W,SILCAT,SILCAT_FLAG_W,NITRAT,NITRAT_FLAG_W,NITRIT,NITRIT_FLAG_W,PHSPHT,PHSPHT_FLAG_W,CFC-11,CFC-11_FLAG_W,CFC-12,CFC-12_FLAG_W,TRITUM,TRITUM_FLAG_W,HELIUM,HELIUM_FLAG_W,DELHE3,DELHE3_FLAG_W,DELC14,DELC14_FLAG_W,NEON,NEON_FLAG_W,TCARBN,TCARBN_FLAG_W,CTDRAW,C14ERR,REVTMP,HELIER,DELHER,REVPRS,NEONER,THETA,TRITER
,,,,,,,,,,,,DBAR,ITS-90,PSS-78,,PSS-78,,UMOL/KG,,UMOL/KG,,UMOL/KG,,UMOL/KG,,UMOL/KG,,UMOL/KG,,PMOL/KG,,PMOL/KG,,TU,,NMOL/KG,,PERCNT,,/MILLE,,NMOL/KG,,UMOL/KG,,,/MILLE,ITS-90,NMOL/KG,PERCNT,DBAR,NMOL/KG,DEG C,TU
    49RY9407_1,   P09,    18,  2,      2,    204,2,19940711,2222, 30.9847, 136.9977, 4260,    198.1,  18.7676,  34.8845,2,-999.0000,9,    202.8,2,   -999.0,9,  -999.00,9,  -999.00,9,  -999.00,9,  -999.00,9, -999.000,9, -999.000,9, -999.000,9,-999.0000,9,  -999.00,9,   -999.0,9,-999.000,9,   -999.0,9,   -999,  -999.0,  18.770,-999.0000,-999.000,   198.0,-999.000, 18.7326,-999.000
    49RY9407_1,   P09,    18,  2,      1,    201,2,19940711,2222, 30.9847, 136.9977, 4260,    300.3,  17.6551,  34.8252,2,  34.8185,2,    199.4,2,   -999.0,5,     4.48,2,     4.47,2,     0.01,2,     0.31,2, -999.000,9, -999.000,9, -999.000,9,-999.0000,9,  -999.00,9,   -999.0,9,-999.000,9,   -999.0,9,   -999,  -999.0,-999.000,-999.0000,-999.000,  -999.0,-999.000, 17.6042,-999.000
    49RY9407_1,   P09,    18,  2,     24,    230,2,19940711,2222, 30.9847, 136.9977, 4260,    402.8,  16.2959,  34.7122,2,  34.7180,2,    188.8,3,    196.3,2,     7.22,2,     7.44,2,     0.00,2,     0.50,2, -999.000,9, -999.000,9, -999.000,9,-999.0000,9,  -999.00,9,   -999.0,9,-999.000,9,   -999.0,9,   -999,  -999.0,-999.000,-999.0000,-999.000,  -999.0,-999.000, 16.2311,-999.000
    49RY9407_1,   P09,    18,  2,     23,    228,2,19940711,2222, 30.9847, 136.9977, 4260,    505.6,  14.1965,  34.5584,2,  34.5622,2,    176.2,2,   -999.0,5,    14.18,2,    12.05,2,     0.00,2,     0.82,2, -999.000,9, -999.000,9, -999.000,9,-999.0000,9,  -999.00,9,   -999.0,9,-999.000,9,   -999.0,9,   -999,  -999.0,-999.000,-999.0000,-999.000,  -999.0,-999.000, 14.1222,-999.000
    49RY9407_1,   P09,    18,  2,     21,    226,2,19940711,2222, 30.9847, 136.9977, 4260,    603.8,  11.4590,  34.3506,2,  34.3535,2,    172.0,3,   -999.0,5,    23.20,2,    16.83,2,     0.00,2,     1.16,2, -999.000,9, -999.000,9, -999.000,9,-999.0000,9,  -999.00,9,   -999.0,9,-999.000,9,   -999.0,9,   -999,  -999.0,-999.000,-999.0000,-999.000,  -999.0,-999.000, 11.3817,-999.000
    49RY9407_1,   P09,    18,  2,     22,    227,2,19940711,2222, 30.9847, 136.9977, 4260,    603.8,  11.4590,  34.3506,2,  34.3541,2,    172.0,3,    179.3,2,    23.20,2,    16.91,2,     0.01,2,     1.17,2, -999.000,9, -999.000,9, -999.000,9,-999.0000,9,  -999.00,9,   -999.0,9,-999.000,9,   -999.0,9,   -999,  -999.0,-999.000,-999.0000,-999.000,  -999.0,-999.000, 11.3817,-999.000
    49RY9407_1,   P09,    18,  2,     20,    225,2,19940711,2222, 30.9847, 136.9977, 4260,    706.1,   8.6328,  34.2318,2,  34.2314,2,    142.8,2,    147.0,2,    46.08,2,    25.06,2,     0.00,2,     1.76,2, -999.000,9, -999.000,9, -999.000,9,-999.0000,9,  -999.00,9,   -999.0,9,-999.000,9,   -999.0,9,   -999,  -999.0,-999.000,-999.0000,-999.000,  -999.0,-999.000,  8.5565,-999.000
    49RY9407_1,   P09,    18,  2,     19,    224,2,19940711,2222, 30.9847, 136.9977, 4260,    805.7,   6.9206,  34.1897,2,  34.1913,2,    119.7,2,    118.5,6,    64.17,2,    30.46,2,     0.00,2,     2.17,2, -999.000,9, -999.000,9, -999.000,9,-999.0000,9,  -999.00,9,   -999.0,9,-999.000,9,   -999.0,9,   -999,  -999.0,-999.000,-999.0000,-999.000,  -999.0,-999.000,  6.8433,-999.000
    49RY9407_1,   P09,    18,  2,     18,    223,2,19940711,2222, 30.9847, 136.9977, 4260,    906.6,   5.3194,  34.2352,2,  34.2375,2,     90.9,3,     85.3,2,    89.22,2,    36.07,2,     0.00,2,     2.58,2, -999.000,9, -999.000,9, -999.000,9,-999.0000,9,  -999.00,9,   -999.0,9,-999.000,9,   -999.0,9,   -999,  -999.0,-999.000,-999.0000,-999.000,  -999.0,-999.000,  5.2427,-999.000
    49RY9407_1,   P09,    18,  2,     17,    222,2,19940711,2222, 30.9847, 136.9977, 4260,   1010.1,   4.4780,  34.3210,2,  34.3226,2,     75.8,2,     73.0,2,   105.81,2,    38.52,2,     0.00,2,     2.75,2, -999.000,9, -999.000,9, -999.000,9,-999.0000,9,  -999.00,9,   -999.0,9,-999.000,9,   -999.0,9,   -999,  -999.0,-999.000,-999.0000,-999.000,  -999.0,-999.000,  4.3981,-999.000
    49RY9407_1,   P09,    18,  2,     16,    221,2,19940711,2222, 30.9847, 136.9977, 4260,   1262.1,   3.1158,  34.4593,2,  34.4600,2,     71.8,2,     71.0,2,   131.97,2,    40.54,2,     0.00,2,     2.88,2, -999.000,9, -999.000,9, -999.000,9,-999.0000,9,  -999.00,9,   -999.0,9,-999.000,9,   -999.0,9,   -999,  -999.0,   3.379,-999.0000,-999.000,  1176.0,-999.000,  3.0265,-999.000
    49RY9407_1,   P09,    18,  2,     15,    220,2,19940711,2222, 30.9847, 136.9977, 4260,   1515.5,   2.5720,  34.5287,2,  34.5297,2,     87.3,2,     85.8,2,   139.88,2,    40.02,2,     0.00,2,     2.84,2, -999.000,9, -999.000,9, -999.000,9,-999.0000,9,  -999.00,9,   -999.0,9,-999.000,9,   -999.0,9,   -999,  -999.0,-999.000,-999.0000,-999.000,  -999.0,-999.000,  2.4680,-999.000
    49RY9407_1,   P09,    18,  2,     14,    219,2,19940711,2222, 30.9847, 136.9977, 4260,   1765.5,   2.1478,  34.5829,2,  34.5846,2,    105.0,2,    102.0,2,   143.71,2,    39.25,2,     0.00,2,     2.77,2, -999.000,9, -999.000,9, -999.000,9,-999.0000,9,  -999.00,9,   -999.0,9,-999.000,9,   -999.0,9,   -999,  -999.0,-999.000,-999.0000,-999.000,  -999.0,-999.000,  2.0287,-999.000
    49RY9407_1,   P09,    18,  2,     13,    218,2,19940711,2222, 30.9847, 136.9977, 4260,   2021.4,   1.9113,  34.6162,2,  34.6171,2,    116.8,2,    117.4,2,   144.57,2,    38.39,2,     0.00,2,     2.70,2, -999.000,9, -999.000,9, -999.000,9,-999.0000,9,  -999.00,9,   -999.0,9,-999.000,9,   -999.0,9,   -999,  -999.0,-999.000,-999.0000,-999.000,  -999.0,-999.000,  1.7745,-999.000
    49RY9407_1,   P09,    18,  2,     12,    217,2,19940711,2222, 30.9847, 136.9977, 4260,   2275.9,   1.7696,  34.6357,2,  34.6362,2,    126.1,2,    125.5,2,   144.43,2,    38.22,2,     0.00,2,     2.66,2, -999.000,9, -999.000,9, -999.000,9,-999.0000,9,  -999.00,9,   -999.0,9,-999.000,9,   -999.0,9,   -999,  -999.0,-999.000,-999.0000,-999.000,  -999.0,-999.000,  1.6134,-999.000
    49RY9407_1,   P09,    18,  2,     11,    216,4,19940711,2222, 30.9847, 136.9977, 4260,   2530.9,   1.6597,  34.6520,2,  34.6524,2,    136.0,2,    135.3,2,   144.12,2,    37.48,2,     0.00,2,     2.61,2, -999.000,9, -999.000,9, -999.000,9,-999.0000,9,  -999.00,9,   -999.0,9,-999.000,9,   -999.0,9,   -999,  -999.0,-999.000,-999.0000,-999.000,  -999.0,-999.000,  1.4830,-999.000
    49RY9407_1,   P09,    18,  2,      9,    213,4,19940711,2222, 30.9847, 136.9977, 4260,   3039.5,   1.5309,  34.6709,2,  34.6719,2,    148.5,2,    149.7,2,   142.99,2,    36.78,2,     0.00,2,     2.55,2, -999.000,9, -999.000,9, -999.000,9,-999.0000,9,  -999.00,9,   -999.0,9,-999.000,9,   -999.0,9,   -999,  -999.0,   1.529,-999.0000,-999.000,  3032.0,-999.000,  1.3097,-999.000
    49RY9407_1,   P09,    18,  2,     10,    214,2,19940711,2222, 30.9847, 136.9977, 4260,   3039.5,   1.5309,  34.6709,2,  34.6719,2,    148.5,2,    150.2,2,   142.97,2,    36.74,2,     0.00,2,     2.55,2, -999.000,9, -999.000,9, -999.000,9,-999.0000,9,  -999.00,9,   -999.0,9,-999.000,9,   -999.0,9,   -999,  -999.0,-999.000,-999.0000,-999.000,  -999.0,-999.000,  1.3097,-999.000
    49RY9407_1,   P09,    18,  2,      7,    210,2,19940711,2222, 30.9847, 136.9977, 4260,   3550.6,   1.5085,  34.6787,2,  34.6788,2,    153.0,2,    154.5,2,   142.18,2,    36.42,2,     0.01,2,     2.52,2, -999.000,9, -999.000,9, -999.000,9,-999.0000,9,  -999.00,9,   -999.0,9,-999.000,9,   -999.0,9,   -999,  -999.0,-999.000,-999.0000,-999.000,  -999.0,-999.000,  1.2370,-999.000
    49RY9407_1,   P09,    18,  2,      8,    212,2,19940711,2222, 30.9847, 136.9977, 4260,   3550.6,   1.5085,  34.6787,2,  34.6790,2,    153.0,2,    153.0,2,   141.80,2,    36.48,2,     0.01,2,     2.52,2, -999.000,9, -999.000,9, -999.000,9,-999.0000,9,  -999.00,9,   -999.0,9,-999.000,9,   -999.0,9,   -999,  -999.0,-999.000,-999.0000,-999.000,  -999.0,-999.000,  1.2370,-999.000
    49RY9407_1,   P09,    18,  2,      6,    209,2,19940711,2222, 30.9847, 136.9977, 4260,   3804.7,   1.5198,  34.6803,2,  34.6813,2,    153.4,2,    155.2,2,   141.90,2,    36.39,2,     0.00,2,     2.51,2, -999.000,9, -999.000,9, -999.000,9,-999.0000,9,  -999.00,9,   -999.0,9,-999.000,9,   -999.0,9,   -999,  -999.0,-999.000,-999.0000,-999.000,  -999.0,-999.000,  1.2214,-999.000
    49RY9407_1,   P09,    18,  2,      5,    207,2,19940711,2222, 30.9847, 136.9977, 4260,   4064.0,   1.5370,  34.6819,2,  34.6823,2,    154.9,2,   -999.0,9,  -999.00,9,  -999.00,9,  -999.00,9,  -999.00,9, -999.000,9, -999.000,9, -999.000,9,-999.0000,9,  -999.00,9,   -999.0,9,-999.000,9,   -999.0,9,   -999,  -999.0,-999.000,-999.0000,-999.000,  -999.0,-999.000,  1.2101,-999.000
    49RY9407_1,   P09,    18,  2,      3,    205,4,19940711,2222, 30.9847, 136.9977, 4260,   4365.6,   1.5636,  34.6824,2,  34.6827,2,    156.7,2,    156.5,2,   141.61,2,    36.28,2,     0.01,2,     2.50,2, -999.000,9, -999.000,9, -999.000,9,-999.0000,9,  -999.00,9,   -999.0,9,-999.000,9,   -999.0,9,   -999,  -999.0,-999.000,-999.0000,-999.000,  -999.0,-999.000,  1.2021,-999.000
    49RY9407_1,   P09,    18,  2,      4,    206,2,19940711,2222, 30.9847, 136.9977, 4260,   4368.8,   1.5636,  34.6821,2,  34.6831,2,    156.2,2,    157.3,6,   141.71,2,    36.22,2,     0.01,2,     2.50,2, -999.000,9, -999.000,9, -999.000,9,-999.0000,9,  -999.00,9,   -999.0,9,-999.000,9,   -999.0,9,   -999,  -999.0,-999.000,-999.0000,-999.000,  -999.0,-999.000,  1.2017,-999.000
    49RY9407_1,   P09,    18,  3,     20,    225,2,19940712,0130, 30.9472, 136.9970, 4440,      3.1,  27.9932,  34.3082,2,-999.0000,5,    200.3,2,   -999.0,9,  -999.00,9,  -999.00,9,  -999.00,9,  -999.00,9,    1.750,2,    2.693,4,    1.748,2,   1.6611,2,    -1.73,2,   -999.0,9,   6.594,2,   -999.0,9,   -999,  -999.0,-999.000,  0.0031,   0.220,  -999.0,   0.016, 27.9924,   0.019
    49RY9407_1,   P09,    18,  3,     19,    224,2,19940712,0130, 30.9472, 136.9970, 4440,     24.9,  24.6209,  34.4061,2,  34.3807,2,    216.4,2,   -999.0,9,  -999.00,9,  -999.00,9,  -999.00,9,  -999.00,9,    1.964,2,    2.730,4,    1.764,2,   1.6836,2,    -0.90,2,   -999.0,9,   6.706,2,   -999.0,9,   -999,  -999.0,-999.000,  0.0032,   0.220,  -999.0,   0.017, 24.6156,   0.019
    49RY9407_1,   P09,    18,  3,     17,    222,2,19940712,0130, 30.9472, 136.9970, 4440,     48.9,  22.5516,  34.8032,2,  34.7345,2,    217.6,2,   -999.0,9,  -999.00,9,  -999.00,9,  -999.00,9,  -999.00,9,    2.049,2,    2.371,4,    1.563,2,   1.6920,2,    -0.73,2,   -999.0,9,   6.847,2,   -999.0,9,   -999,  -999.0,-999.000,  0.0024,   0.250,  -999.0,   0.013, 22.5418,   0.017
    49RY9407_1,   P09,    18,  3,     18,    223,2,19940712,0130, 30.9472, 136.9970, 4440,     48.9,  22.5516,  34.8032,2,  34.7334,2,    217.6,2,   -999.0,9,  -999.00,9,  -999.00,9,  -999.00,9,  -999.00,9,    2.090,2,    1.684,4,    1.818,2,   1.6969,2,    -0.85,2,   -999.0,9,   6.788,2,   -999.0,9,   -999,  -999.0,-999.000,  0.0032,   0.220,  -999.0,   0.017, 22.5418,   0.020
    49RY9407_1,   P09,    18,  3,     16,    221,4,19940712,0130, 30.9472, 136.9970, 4440,     76.4,  21.0525,  34.8665,2,  34.8682,2,    216.5,2,   -999.0,9,  -999.00,9,  -999.00,9,  -999.00,9,  -999.00,9,    2.248,2,    2.628,4,    1.603,2,   1.7027,2,    -1.03,2,   -999.0,9,   6.875,2,   -999.0,9,   -999,  -999.0,  21.130,  0.0032,   0.220,    78.0,   0.017, 21.0379,   0.018
    49RY9407_1,   P09,    18,  3,     15,    220,2,19940712,0130, 30.9472, 136.9970, 4440,    151.4,  19.5299,  34.8946,2,  34.9004,2,    205.9,2,   -999.0,9,  -999.00,9,  -999.00,9,  -999.00,9,  -999.00,9,    2.220,2,    1.772,4,    1.633,2,-999.0000,5,    -0.38,2,   -999.0,9,   8.254,4,   -999.0,9,   -999,  -999.0,-999.000,-999.0000,   0.220,  -999.0,   0.025, 19.5024,   0.018
    49RY9407_1,   P09,    18,  3,     14,    219,2,19940712,0130, 30.9472, 136.9970, 4440,    200.8,  18.6545,  34.8800,2,  34.8793,2,    206.3,2,   -999.0,9,  -999.00,9,  -999.00,9,  -999.00,9,  -999.00,9,    2.326,2,    1.731,4,    1.952,2,   1.7137,2,    -0.18,2,   -999.0,9,   6.982,2,   -999.0,9,   -999,  -999.0,-999.000,  0.0032,   0.220,  -999.0,   0.017, 18.6192,   0.021
    49RY9407_1,   P09,    18,  3,     13,    218,2,19940712,0130, 30.9472, 136.9970, 4440,    300.2,  17.8639,  34.8698,2,  34.8546,2,    207.5,2,   -999.0,9,  -999.00,9,  -999.00,9,  -999.00,9,  -999.00,9,    2.413,2,    2.453,4,    2.403,2,   1.7047,2,    -0.43,2,   -999.0,9,   6.973,2,   -999.0,9,   -999,  -999.0,-999.000,  0.0032,   0.220,  -999.0,   0.017, 17.8125,   0.028
    49RY9407_1,   P09,    18,  3,     12,    217,2,19940712,0130, 30.9472, 136.9970, 4440,    401.5,  16.3210,  34.7179,2,  34.7150,2,    192.9,2,   -999.0,9,  -999.00,9,  -999.00,9,  -999.00,9,  -999.00,9,    2.250,2,    1.700,4,    2.166,2,   1.7161,2,     2.86,2,   -999.0,9,   7.056,2,   -999.0,9,   -999,  -999.0,-999.000,  0.0032,   0.220,  -999.0,   0.018, 16.2564,   0.024
    49RY9407_1,   P09,    18,  3,     11,    216,2,19940712,0130, 30.9472, 136.9970, 4440,    505.4,  14.2351,  34.5612,2,  34.5610,2,    180.7,2,   -999.0,9,  -999.00,9,  -999.00,9,  -999.00,9,  -999.00,9,    2.015,2,    1.586,4,    2.164,2,   1.7521,2,     6.04,2,   -999.0,9,   7.450,4,   -999.0,9,   -999,  -999.0,-999.000,  0.0033,   0.220,  -999.0,   0.019, 14.1608,   0.024
    49RY9407_1,   P09,    18,  3,     10,    214,2,19940712,0130, 30.9472, 136.9970, 4440,    603.9,  11.6055,  34.3588,2,  34.3586,2,    177.8,2,   -999.0,9,  -999.00,9,  -999.00,9,  -999.00,9,  -999.00,9,    1.959,3,    1.461,4,    2.138,2,   1.7487,2,     9.25,2,   -999.0,9,   7.374,2,   -999.0,9,   -999,  -999.0,-999.000,  0.0032,   0.220,  -999.0,   0.018, 11.5276,   0.024
    49RY9407_1,   P09,    18,  3,      9,    213,2,19940712,0130, 30.9472, 136.9970, 4440,    704.0,   8.6679,  34.2479,2,  34.2292,2,    151.5,2,   -999.0,9,  -999.00,9,  -999.00,9,  -999.00,9,  -999.00,9,    1.296,2,    1.095,4,    1.574,2,   1.7767,2,    13.82,2,   -999.0,9,   7.539,2,   -999.0,9,   -999,  -999.0,   8.689,  0.0032,   0.240,   703.0,   0.017,  8.5916,   0.018
    49RY9407_1,   P09,    18,  3,      8,    212,2,19940712,0130, 30.9472, 136.9970, 4440,    806.0,   6.8748,  34.1924,2,  34.1893,2,    125.7,2,   -999.0,9,  -999.00,9,  -999.00,9,  -999.00,9,  -999.00,9,    0.841,2,    0.880,4,    1.134,2,   1.7958,2,    14.53,2,   -999.0,9,   7.666,2,   -999.0,9,   -999,  -999.0,-999.000,  0.0031,   0.240,  -999.0,   0.017,  6.7978,   0.013
    49RY9407_1,   P09,    18,  3,      6,    209,4,19940712,0130, 30.9472, 136.9970, 4440,    907.0,   5.3658,  34.2325,2,  34.2302,2,     95.6,2,   -999.0,9,  -999.00,9,  -999.00,9,  -999.00,9,  -999.00,9,    0.478,2,    0.707,4,    0.665,2,   1.8061,2,    16.03,2,   -999.0,9,   7.698,2,   -999.0,9,   -999,  -999.0,-999.000,  0.0034,   0.210,  -999.0,   0.019,  5.2887,   0.008
    49RY9407_1,   P09,    18,  3,      7,    210,2,19940712,0130, 30.9472, 136.9970, 4440,    907.0,   5.3658,  34.2325,2,  34.2272,2,     95.6,2,   -999.0,9,  -999.00,9,  -999.00,9,  -999.00,9,  -999.00,9,    0.466,2,    0.666,4,    0.682,2,   1.8197,2,    15.96,2,   -999.0,9,   7.779,2,   -999.0,9,   -999,  -999.0,-999.000,  0.0034,   0.210,  -999.0,   0.019,  5.2887,   0.008
    49RY9407_1,   P09,    18,  3,      5,    207,2,19940712,0130, 30.9472, 136.9970, 4440,   1258.9,   3.1518,  34.4533,2,  34.4517,2,     71.7,2,   -999.0,9,  -999.00,9,  -999.00,9,  -999.00,9,  -999.00,9,    0.095,2,    0.529,4,    0.112,2,   1.8552,2,    17.09,2,   -999.0,9,   7.908,2,   -999.0,9,   -999,  -999.0,-999.000,  0.0035,   0.210,  -999.0,   0.020,  3.0624,   0.004
    49RY9407_1,   P09,    18,  3,      4,    206,2,19940712,0130, 30.9472, 136.9970, 4440,   1515.2,   2.6203,  34.5192,2,  34.5228,2,     83.6,2,   -999.0,9,  -999.00,9,  -999.00,9,  -999.00,9,  -999.00,9,    0.078,2,    0.581,4,    0.065,2,   1.8665,2,    17.94,2,   -999.0,9,   7.965,2,   -999.0,9,   -999,  -999.0,-999.000,  0.0026,   0.250,  -999.0,   0.015,  2.5157,   0.003
    49RY9407_1,   P09,    19,  1,      0,      0,2,19940712,0355, 30.6642, 136.9997, 4225,      1.1,  28.2778,  33.9788,2,-999.0000,9,    186.9,3,    202.7,2,     1.47,2,     0.08,2,     0.01,2,     0.00,2, -999.000,9, -999.000,9, -999.000,9,-999.0000,9,  -999.00,9,   -999.0,9,-999.000,9,   -999.0,9,   -999,  -999.0,-999.000,-999.0000,-999.000,  -999.0,-999.000, 28.2775,-999.000
    49RY9407_1,   P09,    19,  1,      9,    213,2,19940712,0355, 30.6642, 136.9997, 4225,      9.9,  27.6712,  34.3504,2,  34.3085,2,    195.9,3,    203.5,6,     1.34,2,     0.07,2,     0.00,2,     0.00,2, -999.000,9, -999.000,9, -999.000,9,-999.0000,9,  -999.00,9,   -999.0,9,-999.000,9,   -999.0,9,   -999,  -999.0,  27.760,-999.0000,-999.000,    15.0,-999.000, 27.6689,-999.000
    49RY9407_1,   P09,    19,  1,      8,    212,2,19940712,0355, 30.6642, 136.9997, 4225,     25.4,  25.0502,  34.4439,2,  34.4060,2,    208.8,3,    216.1,2,     1.53,2,     0.02,2,     0.00,2,     0.00,2, -999.000,9, -999.000,9, -999.000,9,-999.0000,9,  -999.00,9,   -999.0,9,-999.000,9,   -999.0,9,   -999,  -999.0,-999.000,-999.0000,-999.000,  -999.0,-999.000, 25.0447,-999.000
    49RY9407_1,   P09,    19,  1,      7,    210,2,19940712,0355, 30.6642, 136.9997, 4225,     50.1,  23.3485,  34.7111,2,  34.7105,2,    219.4,2,    221.3,2,     1.68,6,     0.05,6,     0.01,6,     0.01,6, -999.000,9, -999.000,9, -999.000,9,-999.0000,9,  -999.00,9,   -999.0,9,-999.000,9,   -999.0,9,   -999,  -999.0,-999.000,-999.0000,-999.000,  -999.0,-999.000, 23.3382,-999.000
    49RY9407_1,   P09,    19,  1,      6,    209,2,19940712,0355, 30.6642, 136.9997, 4225,     75.8,  21.5318,  34.8581,2,  34.8556,2,    217.3,2,    217.0,2,     1.68,2,     0.07,2,     0.04,2,     0.03,2, -999.000,9, -999.000,9, -999.000,9,-999.0000,9,  -999.00,9,   -999.0,9,-999.000,9,   -999.0,9,   -999,  -999.0,-999.000,-999.0000,-999.000,  -999.0,-999.000, 21.5170,-999.000
    49RY9407_1,   P09,    19,  1,      5,    207,2,19940712,0355, 30.6642, 136.9997, 4225,     99.7,  20.7076,  34.8937,2,  34.8935,2,    210.1,2,    213.9,2,     2.11,2,     0.95,2,     0.15,2,     0.09,2, -999.000,9, -999.000,9, -999.000,9,-999.0000,9,  -999.00,9,   -999.0,9,-999.000,9,   -999.0,9,   -999,  -999.0,-999.000,-999.0000,-999.000,  -999.0,-999.000, 20.6888,-999.000
    49RY9407_1,   P09,    19,  1,      4,    206,2,19940712,0355, 30.6642, 136.9997, 4225,    124.8,  20.2090,  34.9226,2,  34.9187,2,    204.9,3,    216.5,2,     2.01,2,     1.11,2,     0.10,2,     0.08,2, -999.000,9, -999.000,9, -999.000,9,-999.0000,9,  -999.00,9,   -999.0,9,-999.000,9,   -999.0,9,   -999,  -999.0,-999.000,-999.0000,-999.000,  -999.0,-999.000, 20.1858,-999.000
    49RY9407_1,   P09,    19,  1,      3,    205,2,19940712,0355, 30.6642, 136.9997, 4225,    151.7,  19.8178,  34.9038,2,  34.9150,2,    204.7,3,    213.0,2,     2.28,6,     1.63,6,     0.04,6,     0.12,6, -999.000,9, -999.000,9, -999.000,9,-999.0000,9,  -999.00,9,   -999.0,9,-999.000,9,   -999.0,9,   -999,  -999.0,-999.000,-999.0000,-999.000,  -999.0,-999.000, 19.7900,-999.000
    49RY9407_1,   P09,    19,  1,      2,    204,2,19940712,0355, 30.6642, 136.9997, 4225,    204.4,  19.0683,  34.8852,2,  34.8980,2,    204.4,3,    210.6,6,     2.73,2,     2.27,2,     0.02,2,     0.16,2, -999.000,9, -999.000,9, -999.000,9,-999.0000,9,  -999.00,9,   -999.0,9,-999.000,9,   -999.0,9,   -999,  -999.0,  19.102,-999.0000,-999.000,   201.0,-999.000, 19.0318,-999.000