BOTTLE,20020306WHPSIOdm
EXPOCODE,SECT_ID,STNNBR,CASTNO,SAMPNO,BTLNBR,BTLNBR_FLAG_W,DATE,TIME,LATITUDE,LONGITUDE,DEPTH,CTDPRS,CTDTMP,CTDSAL,CTDSAL_FLAG_W,SALNTY,SALNTY_FLAG_W,CTDOXY,CTDOXY_FLAG_W,OXYGEN,OXYGEN_FLAG_W,SILCAT,SILCAT_FLAG_W,NITRAT,NITRAT_FLAG_W,NITRIT,NITRIT_FLAG_W,PHSPHT,PHSPHT_FLAG_W,CFC-11,CFC-11_FLAG_W,CFC-12,CFC-12_FLAG_W,TRITUM,TRITUM_FLAG_W,HELIUM,HELIUM_FLAG_W,DELHE3,DELHE3_FLAG_W,DELC14,DELC14_FLAG_W,NEON,NEON_FLAG_W,TCARBN,TCARBN_FLAG_W,CTDRAW,C14ERR,REVTMP,HELIER,DELHER,REVPRS,NEONER,THETA,TRITER
,,,,,,,,,,,,DBAR,ITS-90,PSS-78,,PSS-78,,UMOL/KG,,UMOL/KG,,UMOL/KG,,UMOL/KG,,UMOL/KG,,UMOL/KG,,PMOL/KG,,PMOL/KG,,TU,,NMOL/KG,,PERCNT,,/MILLE,,NMOL/KG,,UMOL/KG,,,/MILLE,ITS-90,NMOL/KG,PERCNT,DBAR,NMOL/KG,DEG C,TU
    49RY9407_1,   P09,    53,  2,     10,    224,2,19940726,1744, 13.9988, 137.0673, 4870,    604.6,   6.5603,  34.4266,2,  34.4285,2,     66.0,2,     70.7,6,    66.43,2,    36.42,2,     0.00,2,     2.64,2, -999.000,9, -999.000,9, -999.000,9,-999.0000,9,  -999.00,9,   -999.0,9,-999.000,9,   -999.0,9,   -999,  -999.0,-999.000,-999.0000,-999.000,  -999.0,-999.000,  6.5046,-999.000
    49RY9407_1,   P09,    53,  2,      9,    223,2,19940726,1744, 13.9988, 137.0673, 4870,    705.8,   5.7883,  34.4632,2,  34.4649,2,     74.5,2,     74.8,2,    75.94,2,    37.40,2,     0.00,2,     2.70,2, -999.000,9, -999.000,9, -999.000,9,-999.0000,9,  -999.00,9,   -999.0,9,-999.000,9,   -999.0,9,   -999,  -999.0,-999.000,-999.0000,-999.000,  -999.0,-999.000,  5.7268,-999.000
    49RY9407_1,   P09,    53,  2,      8,    212,2,19940726,1744, 13.9988, 137.0673, 4870,    809.0,   5.3329,  34.4830,2,  34.4834,2,     82.6,2,     78.2,2,    82.38,6,    37.96,6,     0.00,6,     2.73,6, -999.000,9, -999.000,9, -999.000,9,-999.0000,9,  -999.00,9,   -999.0,9,-999.000,9,   -999.0,9,   -999,  -999.0,-999.000,-999.0000,-999.000,  -999.0,-999.000,  5.2646,-999.000
    49RY9407_1,   P09,    53,  2,      7,    220,2,19940726,1744, 13.9988, 137.0673, 4870,    906.3,   4.9199,  34.5061,2,  34.5052,2,     86.7,3,     80.8,2,    89.52,2,    38.29,2,     0.00,2,     2.77,2, -999.000,9, -999.000,9, -999.000,9,-999.0000,9,  -999.00,9,   -999.0,9,-999.000,9,   -999.0,9,   -999,  -999.0,-999.000,-999.0000,-999.000,  -999.0,-999.000,  4.8456,-999.000
    49RY9407_1,   P09,    53,  2,      6,    209,2,19940726,1744, 13.9988, 137.0673, 4870,   1010.3,   4.4553,  34.5226,2,  34.5202,2,     88.6,2,     84.0,2,    98.33,2,    38.56,2,     0.00,2,     2.78,2, -999.000,9, -999.000,9, -999.000,9,-999.0000,9,  -999.00,9,   -999.0,9,-999.000,9,   -999.0,9,   -999,  -999.0,-999.000,-999.0000,-999.000,  -999.0,-999.000,  4.3752,-999.000
    49RY9407_1,   P09,    53,  2,      5,    218,2,19940726,1744, 13.9988, 137.0673, 4870,   1262.7,   3.5757,  34.5575,2,  34.5578,2,     93.7,2,     90.7,2,   115.71,2,    38.90,2,     0.00,2,     2.80,2, -999.000,9, -999.000,9, -999.000,9,-999.0000,9,  -999.00,9,   -999.0,9,-999.000,9,   -999.0,9,   -999,  -999.0,-999.000,-999.0000,-999.000,  -999.0,-999.000,  3.4817,-999.000
    49RY9407_1,   P09,    53,  2,      4,    206,2,19940726,1744, 13.9988, 137.0673, 4870,   1514.8,   2.9720,  34.5805,2,  34.5805,2,     99.5,2,     97.3,2,   127.66,2,    38.87,2,     0.00,2,     2.79,2, -999.000,9, -999.000,9, -999.000,9,-999.0000,9,  -999.00,9,   -999.0,9,-999.000,9,   -999.0,9,   -999,  -999.0,-999.000,-999.0000,-999.000,  -999.0,-999.000,  2.8632,-999.000
    49RY9407_1,   P09,    53,  2,      3,    205,2,19940726,1744, 13.9988, 137.0673, 4870,   1768.9,   2.4890,  34.6064,2,  34.6055,2,    107.2,2,    106.4,2,   135.94,6,    39.00,6,     0.00,6,     2.78,6, -999.000,9, -999.000,9, -999.000,9,-999.0000,9,  -999.00,9,   -999.0,9,-999.000,9,   -999.0,9,   -999,  -999.0,-999.000,-999.0000,-999.000,  -999.0,-999.000,  2.3649,-999.000
    49RY9407_1,   P09,    53,  2,      2,    216,2,19940726,1744, 13.9988, 137.0673, 4870,   2021.8,   2.1852,  34.6248,2,  34.6238,2,    115.6,2,    115.3,2,   140.80,6,    38.69,6,     0.00,6,     2.75,6, -999.000,9, -999.000,9, -999.000,5,   1.8901,2,    21.93,2,   -999.0,9,   8.010,2,   -999.0,9,   -999,  -999.0,-999.000,  0.0025,   0.230,  -999.0,   0.018,  2.0442,-999.000
    49RY9407_1,   P09,    53,  2,      1,    201,2,19940726,1744, 13.9988, 137.0673, 4870,   2277.3,   1.9364,  34.6391,2,  34.6390,2,    120.9,2,    120.2,6,   144.61,6,    38.35,6,     0.00,6,     2.71,6, -999.000,9, -999.000,9, -999.000,9,-999.0000,9,  -999.00,9,   -999.0,9,-999.000,9,   -999.0,9,   -999,  -999.0,-999.000,-999.0000,-999.000,  -999.0,-999.000,  1.7772,-999.000
    49RY9407_1,   P09,    53,  2,     24,    230,2,19940726,1744, 13.9988, 137.0673, 4870,   2530.7,   1.7984,  34.6530,2,  34.6520,2,    126.5,2,    130.7,3,   145.40,6,    37.99,6,     0.00,6,     2.67,6, -999.000,9, -999.000,9, -999.000,5,   1.9027,2,    22.69,2,   -999.0,9,   8.015,2,   -999.0,9,   -999,  -999.0,-999.000,  0.0027,   0.250,  -999.0,   0.023,  1.6191,-999.000
    49RY9407_1,   P09,    53,  2,     23,    228,2,19940726,1744, 13.9988, 137.0673, 4870,   2782.5,   1.7144,  34.6609,2,  34.6597,2,    134.0,2,    132.9,2,   145.95,2,    37.55,2,     0.00,2,     2.65,2, -999.000,9, -999.000,9, -999.000,9,-999.0000,9,  -999.00,9,   -999.0,9,-999.000,9,   -999.0,9,   -999,  -999.0,-999.000,-999.0000,-999.000,  -999.0,-999.000,  1.5137,-999.000
    49RY9407_1,   P09,    53,  2,     22,    227,2,19940726,1744, 13.9988, 137.0673, 4870,   3039.6,   1.6499,  34.6660,2,  34.6652,2,    137.8,2,    138.8,2,   145.71,2,    37.28,2,     0.00,2,     2.62,2, -999.000,9, -999.000,9, -999.000,5,   1.8885,2,    21.87,2,   -999.0,9,   8.045,2,   -999.0,9,   -999,  -999.0,-999.000,  0.0029,   0.250,  -999.0,   0.023,  1.4261,-999.000
    49RY9407_1,   P09,    53,  2,     21,    226,2,19940726,1744, 13.9988, 137.0673, 4870,   3293.4,   1.6021,  34.6717,2,  34.6715,2,    143.6,2,    144.1,2,   144.40,2,    36.92,2,     0.00,2,     2.59,2, -999.000,9, -999.000,9, -999.000,9,-999.0000,9,  -999.00,9,   -999.0,9,-999.000,9,   -999.0,9,   -999,  -999.0,-999.000,-999.0000,-999.000,  -999.0,-999.000,  1.3543,-999.000
    49RY9407_1,   P09,    53,  2,     19,    210,2,19940726,1744, 13.9988, 137.0673, 4870,   3551.3,   1.5712,  34.6748,2,  34.6748,2,    147.5,2,    149.7,2,   143.57,2,    36.67,2,     0.00,2,     2.56,2, -999.000,9, -999.000,9, -999.000,9,-999.0000,9,  -999.00,9,   -999.0,9,-999.000,9,   -999.0,9,   -999,  -999.0,-999.000,-999.0000,-999.000,  -999.0,-999.000,  1.2980,-999.000
    49RY9407_1,   P09,    53,  2,     20,    203,2,19940726,1744, 13.9988, 137.0673, 4870,   3551.3,   1.5712,  34.6748,2,  34.6746,2,    147.5,2,    147.6,2,   143.56,2,    36.63,2,     0.00,2,     2.56,2, -999.000,9, -999.000,9, -999.000,5,   1.8635,2,    18.91,2,   -999.0,9,   7.989,2,   -999.0,9,   -999,  -999.0,-999.000,  0.0027,   0.250,  3546.0,   0.023,  1.2980,-999.000
    49RY9407_1,   P09,    53,  2,     18,    221,2,19940726,1744, 13.9988, 137.0673, 4870,   3806.6,   1.5563,  34.6787,2,  34.6778,2,    153.1,2,    153.7,3,   142.78,2,    36.48,2,     0.01,2,     2.54,2, -999.000,9, -999.000,9, -999.000,5,   1.8822,2,    18.26,2,   -999.0,9,   8.017,2,   -999.0,9,   -999,  -999.0,-999.000,  0.0025,   0.230,  3803.0,   0.018,  1.2567,-999.000
    49RY9407_1,   P09,    53,  2,     17,    219,2,19940726,1744, 13.9988, 137.0673, 4870,   4062.6,   1.5245,  34.6840,2,  34.6823,2,    155.9,2,    155.9,2,   141.56,2,    36.17,2,     0.00,2,     2.51,2, -999.000,9, -999.000,9, -999.000,9,-999.0000,9,  -999.00,9,   -999.0,9,-999.000,9,   -999.0,9,   -999,  -999.0,-999.000,-999.0000,-999.000,  -999.0,-999.000,  1.1981,-999.000
    49RY9407_1,   P09,    53,  2,     16,    229,2,19940726,1744, 13.9988, 137.0673, 4870,   4319.6,   1.5067,  34.6867,2,  34.6863,2,    160.4,2,    162.6,3,   140.33,2,    35.86,2,     0.00,2,     2.50,2, -999.000,9, -999.000,9, -999.000,5,   1.8922,2,    16.52,2,   -999.0,9,   8.127,3,   -999.0,9,   -999,  -999.0,   1.503,  0.0026,   0.230,  4318.0,   0.019,  1.1521,-999.000
    49RY9407_1,   P09,    53,  2,     15,    217,2,19940726,1744, 13.9988, 137.0673, 4870,   4574.2,   1.5145,  34.6883,2,  34.6872,2,    163.1,2,    161.7,2,   139.28,6,    35.77,6,     0.00,6,     2.49,6, -999.000,9, -999.000,9, -999.000,9,-999.0000,9,  -999.00,9,   -999.0,9,-999.000,9,   -999.0,9,   -999,  -999.0,-999.000,-999.0000,-999.000,  -999.0,-999.000,  1.1305,-999.000
    49RY9407_1,   P09,    53,  2,     14,    204,2,19940726,1744, 13.9988, 137.0673, 4870,   4833.5,   1.5413,  34.6880,2,  34.6874,2,    163.0,2,    164.6,2,   139.10,6,    35.78,6,     0.00,6,     2.48,6, -999.000,9, -999.000,9, -999.000,5,   1.8786,2,    16.54,2,   -999.0,9,   8.009,2,   -999.0,9,   -999,  -999.0,   1.539,  0.0027,   0.250,  4828.0,   0.023,  1.1258,-999.000
    49RY9407_1,   P09,    53,  2,     13,    214,2,19940726,1744, 13.9988, 137.0673, 4870,   5090.1,   1.5731,  34.6893,2,  34.6869,2,    162.8,2,    163.3,2,   139.22,6,    35.73,6,     0.00,6,     2.48,6, -999.000,9, -999.000,9, -999.000,9,-999.0000,9,  -999.00,9,   -999.0,9,-999.000,9,   -999.0,9,   -999,  -999.0,-999.000,-999.0000,-999.000,  5091.0,-999.000,  1.1254,-999.000
    49RY9407_1,   P09,    53,  2,     12,    213,4,19940726,1744, 13.9988, 137.0673, 4870,   5174.6,   1.5836,  34.6883,2,  34.6874,2,    164.1,2,    163.8,2,   138.78,6,    35.70,6,     0.00,6,     2.48,6, -999.000,9, -999.000,9, -999.000,9,-999.0000,9,  -999.00,9,   -999.0,9,-999.000,9,   -999.0,9,   -999,  -999.0,-999.000,-999.0000,-999.000,  5166.0,-999.000,  1.1251,-999.000
    49RY9407_1,   P09,    53,  3,      5,    218,2,19940726,2128, 13.9907, 137.0158, 4760,      3.6,  29.8177,  34.2205,2,  34.2196,2,    178.6,4,   -999.0,9,  -999.00,9,  -999.00,9,  -999.00,9,  -999.00,9,    1.457,2,    1.008,3,    1.266,2,   1.6601,2,    -0.74,2,   -999.0,9,   6.442,2,   -999.0,9,   -999,  -999.0,-999.000,  0.0024,   0.230,  -999.0,   0.016, 29.8168,   0.015
    49RY9407_1,   P09,    53,  3,      4,    206,2,19940726,2128, 13.9907, 137.0158, 4760,     25.3,  29.8264,  34.2208,2,  34.2202,2,    191.6,3,   -999.0,9,  -999.00,9,  -999.00,9,  -999.00,9,  -999.00,9,    1.491,2,    1.022,3,    1.258,2,   1.6576,2,    -0.61,2,   -999.0,9,   6.460,2,   -999.0,9,   -999,  -999.0,-999.000,  0.0024,   0.230,  -999.0,   0.016, 29.8202,   0.015
    49RY9407_1,   P09,    53,  3,      3,    205,2,19940726,2128, 13.9907, 137.0158, 4760,     49.2,  28.5149,  34.3968,2,  34.3893,2,    203.9,2,   -999.0,9,  -999.00,9,  -999.00,9,  -999.00,9,  -999.00,9,    2.539,4,    1.083,3,    1.342,2,   1.6884,2,    -0.94,2,   -999.0,9,   6.532,2,   -999.0,9,   -999,  -999.0,-999.000,  0.0024,   0.230,  -999.0,   0.017, 28.5032,   0.015
    49RY9407_1,   P09,    53,  3,      2,    216,2,19940726,2128, 13.9907, 137.0158, 4760,     75.3,  27.5136,  34.6760,2,  34.6754,2,    204.5,2,   -999.0,9,  -999.00,9,  -999.00,9,  -999.00,9,  -999.00,9,    1.675,2,    1.165,3,    1.275,2,   1.6852,2,    -0.15,2,   -999.0,9,   6.620,2,   -999.0,9,   -999,  -999.0,-999.000,  0.0039,   0.260,  -999.0,   0.019, 27.4961,   0.015
    49RY9407_1,   P09,    53,  3,      1,    201,2,19940726,2128, 13.9907, 137.0158, 4760,     99.9,  26.6564,  34.8675,2,  34.8560,2,    202.1,2,   -999.0,9,  -999.00,9,  -999.00,9,  -999.00,9,  -999.00,9,    1.693,2,    1.119,3,    1.352,2,   1.6821,2,    -0.40,2,   -999.0,9,   6.625,2,   -999.0,9,   -999,  -999.0,-999.000,  0.0027,   0.230,  -999.0,   0.017, 26.6337,   0.015
    49RY9407_1,   P09,    53,  3,     24,    230,2,19940726,2128, 13.9907, 137.0158, 4760,    150.4,  24.2382,  35.0550,2,  35.0450,2,    188.7,2,   -999.0,9,  -999.00,9,  -999.00,9,  -999.00,9,  -999.00,9,    1.866,2,    1.273,3,    1.650,2,   1.6890,2,    -0.78,2,   -999.0,9,   6.730,2,   -999.0,9,   -999,  -999.0,-999.000,  0.0024,   0.230,  -999.0,   0.017, 24.2063,   0.018
    49RY9407_1,   P09,    53,  3,     23,    228,2,19940726,2128, 13.9907, 137.0158, 4760,    200.2,  20.3976,  34.9604,2,  34.9963,2,    181.9,2,   -999.0,9,  -999.00,9,  -999.00,9,  -999.00,9,  -999.00,9,    2.131,2,    1.381,3,    1.899,2,   1.7032,2,     0.75,2,   -999.0,9,   6.874,2,   -999.0,9,   -999,  -999.0,-999.000,  0.0025,   0.220,  -999.0,   0.017, 20.3601,   0.021
    49RY9407_1,   P09,    53,  3,     22,    227,2,19940726,2128, 13.9907, 137.0158, 4760,    301.6,  13.3492,  34.4484,2,  34.4604,2,    171.5,2,   -999.0,9,  -999.00,9,  -999.00,9,  -999.00,9,  -999.00,9,    1.957,2,    1.219,3,    2.175,3,   1.7401,2,     7.21,2,   -999.0,9,   7.262,2,   -999.0,9,   -999,  -999.0,-999.000,  0.0025,   0.250,  -999.0,   0.021, 13.3071,   0.024
    49RY9407_1,   P09,    53,  3,     21,    226,2,19940726,2128, 13.9907, 137.0158, 4760,    401.9,   9.5179,  34.2892,2,  34.2988,2,    117.2,2,   -999.0,9,  -999.00,9,  -999.00,9,  -999.00,9,  -999.00,9,    0.887,2,    0.583,3,    1.356,2,   1.7787,2,    12.50,2,   -999.0,9,   7.574,2,   -999.0,9,   -999,  -999.0,-999.000,  0.0038,   0.220,  -999.0,   0.019,  9.4726,   0.015
    49RY9407_1,   P09,    53,  3,     20,    203,2,19940726,2128, 13.9907, 137.0158, 4760,    502.4,   7.4213,  34.3540,2,  34.3490,2,     78.2,2,   -999.0,9,  -999.00,9,  -999.00,9,  -999.00,9,  -999.00,9,    0.274,2,    0.180,3,    0.550,2,   1.7857,2,    12.41,2,   -999.0,9,   7.594,2,   -999.0,9,   -999,  -999.0,-999.000,  0.0026,   0.220,   505.0,   0.019,  7.3721,   0.007
    49RY9407_1,   P09,    53,  3,     19,    210,2,19940726,2128, 13.9907, 137.0158, 4760,    604.7,   6.5520,  34.4290,2,  34.4249,2,     67.7,2,   -999.0,9,  -999.00,9,  -999.00,9,  -999.00,9,  -999.00,9,    0.084,2,    0.045,3,    0.232,2,   1.8003,2,    11.59,2,   -999.0,9,   7.654,2,   -999.0,9,   -999,  -999.0,-999.000,  0.0026,   0.220,  -999.0,   0.019,  6.4962,   0.006
    49RY9407_1,   P09,    53,  3,     17,    219,4,19940726,2128, 13.9907, 137.0158, 4760,    705.5,   5.8638,  34.4667,2,  34.4682,2,     75.8,2,   -999.0,9,  -999.00,9,  -999.00,9,  -999.00,9,  -999.00,9,    0.048,2,    0.017,3,    0.134,2,   1.8058,2,    13.47,2,   -999.0,9,   7.716,2,   -999.0,9,   -999,  -999.0,-999.000,  0.0035,   0.250,  -999.0,   0.022,  5.8019,   0.005
    49RY9407_1,   P09,    53,  3,     18,    221,2,19940726,2128, 13.9907, 137.0158, 4760,    705.5,   5.8638,  34.4667,2,  34.4682,2,     75.8,2,   -999.0,9,  -999.00,9,  -999.00,9,  -999.00,9,  -999.00,9,    0.050,2,    0.014,3,    0.149,2,   1.7898,2,    12.82,2,   -999.0,9,   7.638,2,   -999.0,9,   -999,  -999.0,-999.000,  0.0026,   0.220,   707.0,   0.019,  5.8019,   0.013
    49RY9407_1,   P09,    53,  3,     16,    229,2,19940726,2128, 13.9907, 137.0158, 4760,    907.8,   4.8630,  34.5092,2,  34.5070,2,     86.3,2,   -999.0,9,  -999.00,9,  -999.00,9,  -999.00,9,  -999.00,9,    0.023,2,    0.024,4,    0.069,2,   1.8222,2,    15.71,2,   -999.0,9,   7.774,2,   -999.0,9,   -999,  -999.0,   4.857,  0.0027,   0.250,   907.0,   0.022,  4.7890,   0.004
    49RY9407_1,   P09,    53,  3,     14,    204,4,19940726,2128, 13.9907, 137.0158, 4760,   1007.0,   4.3473,  34.5317,2,  34.5281,2,     87.8,2,   -999.0,9,  -999.00,9,  -999.00,9,  -999.00,9,  -999.00,9,    0.010,2,    0.000,3,    0.042,2,   1.8476,2,    16.96,2,   -999.0,9,   7.959,3,   -999.0,9,   -999,  -999.0,   4.345,  0.0025,   0.230,  1007.0,   0.018,  4.2683,   0.004
    49RY9407_1,   P09,    53,  3,     15,    217,2,19940726,2128, 13.9907, 137.0158, 4760,   1007.0,   4.3473,  34.5317,2,  34.5285,2,     87.8,2,   -999.0,9,  -999.00,9,  -999.00,9,  -999.00,9,  -999.00,9,    0.013,2,    0.000,3,    0.052,2,   1.8401,2,    17.78,2,   -999.0,9,   7.788,2,   -999.0,9,   -999,  -999.0,-999.000,  0.0041,   0.250,  -999.0,   0.022,  4.2683,   0.004
    49RY9407_1,   P09,    53,  3,     13,    214,2,19940726,2128, 13.9907, 137.0158, 4760,   1514.7,   2.8948,  34.5859,2,  34.5840,2,    101.3,2,   -999.0,9,  -999.00,9,  -999.00,9,  -999.00,9,  -999.00,9, -999.000,9, -999.000,9,    0.033,2,   1.8733,2,    20.00,2,   -999.0,9,   7.922,2,   -999.0,9,   -999,  -999.0,-999.000,  0.0027,   0.250,  1501.0,   0.023,  2.7869,   0.005
    49RY9407_1,   P09,    53,  3,     12,    213,2,19940726,2128, 13.9907, 137.0158, 4760,   1515.6,   2.8945,  34.5862,2,  34.5850,2,    102.7,2,   -999.0,9,  -999.00,9,  -999.00,9,  -999.00,9,  -999.00,9,    0.005,2,    0.000,3, -999.000,5,   1.6677,4,    -1.26,4,   -999.0,9,   6.543,4,   -999.0,9,   -999,  -999.0,-999.000,  0.0032,   0.260,  1511.0,   0.012,  2.7865,-999.000