BOTTLE,20020306WHPSIOdm
EXPOCODE,SECT_ID,STNNBR,CASTNO,SAMPNO,BTLNBR,BTLNBR_FLAG_W,DATE,TIME,LATITUDE,LONGITUDE,DEPTH,CTDPRS,CTDTMP,CTDSAL,CTDSAL_FLAG_W,SALNTY,SALNTY_FLAG_W,CTDOXY,CTDOXY_FLAG_W,OXYGEN,OXYGEN_FLAG_W,SILCAT,SILCAT_FLAG_W,NITRAT,NITRAT_FLAG_W,NITRIT,NITRIT_FLAG_W,PHSPHT,PHSPHT_FLAG_W,CFC-11,CFC-11_FLAG_W,CFC-12,CFC-12_FLAG_W,TRITUM,TRITUM_FLAG_W,HELIUM,HELIUM_FLAG_W,DELHE3,DELHE3_FLAG_W,DELC14,DELC14_FLAG_W,NEON,NEON_FLAG_W,TCARBN,TCARBN_FLAG_W,CTDRAW,C14ERR,REVTMP,HELIER,DELHER,REVPRS,NEONER,THETA,TRITER
,,,,,,,,,,,,DBAR,ITS-90,PSS-78,,PSS-78,,UMOL/KG,,UMOL/KG,,UMOL/KG,,UMOL/KG,,UMOL/KG,,UMOL/KG,,PMOL/KG,,PMOL/KG,,TU,,NMOL/KG,,PERCNT,,/MILLE,,NMOL/KG,,UMOL/KG,,,/MILLE,ITS-90,NMOL/KG,PERCNT,DBAR,NMOL/KG,DEG C,TU
    49RY9407_2,   P09,    71,  2,      8,    212,2,19940809,0118,  6.6430, 137.3468, 4095,    403.4,   8.3318,  34.5889,2,  34.5885,2,   -999.0,9,     67.9,6,    41.02,6,    34.28,6,     0.00,6,     2.36,6, -999.000,9, -999.000,9, -999.000,9,-999.0000,9,  -999.00,9,   -999.0,9,-999.000,9,   -999.0,9,   -999,  -999.0,-999.000,-999.0000,-999.000,  -999.0,-999.000,  8.2897,-999.000
    49RY9407_2,   P09,    71,  2,      9,    223,2,19940809,0118,  6.6430, 137.3468, 4095,    403.4,   8.3316,  34.5884,2,  34.5893,2,   -999.0,9,     67.6,6,    40.98,6,    34.31,6,     0.00,6,     2.35,6, -999.000,9, -999.000,9, -999.000,9,-999.0000,9,  -999.00,9,   -999.0,9,-999.000,9,   -999.0,9,   -999,  -999.0,-999.000,-999.0000,-999.000,  -999.0,-999.000,  8.2895,-999.000
    49RY9407_2,   P09,    71,  2,      6,    209,4,19940809,0118,  6.6430, 137.3468, 4095,    504.0,   7.6659,  34.5652,2,  34.5684,2,   -999.0,9,     74.8,2,    45.20,2,    34.96,2,     0.00,2,     2.42,2, -999.000,9, -999.000,9, -999.000,9,-999.0000,9,  -999.00,9,   -999.0,9,-999.000,9,   -999.0,9,   -999,  -999.0,-999.000,-999.0000,-999.000,  -999.0,-999.000,  7.6154,-999.000
    49RY9407_2,   P09,    71,  2,      7,    220,2,19940809,0118,  6.6430, 137.3468, 4095,    504.0,   7.6659,  34.5652,2,  34.5676,2,   -999.0,9,     75.3,2,    45.33,2,    34.96,2,     0.00,2,     2.42,2, -999.000,9, -999.000,9, -999.000,9,-999.0000,9,  -999.00,9,   -999.0,9,-999.000,9,   -999.0,9,   -999,  -999.0,-999.000,-999.0000,-999.000,  -999.0,-999.000,  7.6154,-999.000
    49RY9407_2,   P09,    71,  2,      5,    218,2,19940809,0118,  6.6430, 137.3468, 4095,    704.9,   6.1894,  34.5249,2,  34.5293,2,   -999.0,9,     80.3,2,    63.59,2,    36.78,2,     0.00,2,     2.57,2, -999.000,9, -999.000,9, -999.000,9,-999.0000,9,  -999.00,9,   -999.0,9,-999.000,9,   -999.0,9,   -999,  -999.0,-999.000,-999.0000,-999.000,  -999.0,-999.000,  6.1258,-999.000
    49RY9407_2,   P09,    71,  2,      4,    206,2,19940809,0118,  6.6430, 137.3468, 4095,    805.2,   5.5981,  34.5277,2,  34.5299,2,   -999.0,9,     91.5,2,    70.03,2,    36.87,2,     0.00,2,     2.58,2, -999.000,9, -999.000,9, -999.000,9,-999.0000,9,  -999.00,9,   -999.0,9,-999.000,9,   -999.0,9,   -999,  -999.0,-999.000,-999.0000,-999.000,  -999.0,-999.000,  5.5285,-999.000
    49RY9407_2,   P09,    71,  2,      3,    205,2,19940809,0118,  6.6430, 137.3468, 4095,    907.5,   5.0782,  34.5389,2,  34.5383,2,   -999.0,9,     84.6,2,    81.32,2,    38.06,2,     0.00,2,     2.67,2, -999.000,9, -999.000,9, -999.000,9,-999.0000,9,  -999.00,9,   -999.0,9,-999.000,9,   -999.0,9,   -999,  -999.0,-999.000,-999.0000,-999.000,  -999.0,-999.000,  5.0026,-999.000
    49RY9407_2,   P09,    71,  2,      2,    216,2,19940809,0118,  6.6430, 137.3468, 4095,   1008.0,   4.5510,  34.5475,2,  34.5499,2,   -999.0,9,     87.2,2,    91.21,2,    38.39,2,     0.00,2,     2.64,2, -999.000,9, -999.000,9, -999.000,9,-999.0000,9,  -999.00,9,   -999.0,9,-999.000,9,   -999.0,9,   -999,  -999.0,-999.000,-999.0000,-999.000,  -999.0,-999.000,  4.4704,-999.000
    49RY9407_2,   P09,    71,  2,      1,    201,2,19940809,0118,  6.6430, 137.3468, 4095,   1261.8,   3.6149,  34.5717,2,  34.5745,2,   -999.0,9,     94.0,2,   109.70,2,    38.74,2,     0.00,2,     2.72,2, -999.000,9, -999.000,9, -999.000,9,-999.0000,9,  -999.00,9,   -999.0,9,-999.000,9,   -999.0,9,   -999,  -999.0,-999.000,-999.0000,-999.000,  -999.0,-999.000,  3.5205,-999.000
    49RY9407_2,   P09,    71,  2,     24,    222,2,19940809,0118,  6.6430, 137.3468, 4095,   1513.9,   2.9509,  34.5989,2,  34.6003,2,   -999.0,9,    100.5,2,   122.59,2,    38.91,2,     0.00,2,     2.73,2, -999.000,9, -999.000,9, -999.000,9,-999.0000,9,  -999.00,9,   -999.0,9,-999.000,9,   -999.0,9,   -999,  -999.0,-999.000,-999.0000,-999.000,  -999.0,-999.000,  2.8424,-999.000
    49RY9407_2,   P09,    71,  2,     22,    227,2,19940809,0118,  6.6430, 137.3468, 4095,   1767.8,   2.5300,  34.6147,2,  34.6176,2,   -999.0,9,    107.5,2,   130.51,2,    38.71,2,     0.00,2,     2.71,2, -999.000,9, -999.000,9, -999.000,9,-999.0000,9,  -999.00,9,   -999.0,9,-999.000,9,   -999.0,9,   -999,  -999.0,-999.000,-999.0000,-999.000,  -999.0,-999.000,  2.4055,-999.000
    49RY9407_2,   P09,    71,  2,     23,    228,2,19940809,0118,  6.6430, 137.3468, 4095,   1767.8,   2.5300,  34.6147,2,  34.6190,2,   -999.0,9,    107.4,2,   131.11,2,    38.70,2,     0.00,2,     2.71,2, -999.000,9, -999.000,9, -999.000,9,-999.0000,9,  -999.00,9,   -999.0,9,-999.000,9,   -999.0,9,   -999,  -999.0,-999.000,-999.0000,-999.000,  -999.0,-999.000,  2.4055,-999.000
    49RY9407_2,   P09,    71,  2,     21,    226,2,19940809,0118,  6.6430, 137.3468, 4095,   2022.0,   2.1996,  34.6350,2,  34.6355,2,   -999.0,9,    114.4,2,   136.63,6,    38.43,6,     0.00,6,     2.68,6, -999.000,9, -999.000,9, -999.000,9,-999.0000,9,  -999.00,9,   -999.0,9,-999.000,9,   -999.0,9,   -999,  -999.0,-999.000,-999.0000,-999.000,  -999.0,-999.000,  2.0583,-999.000
    49RY9407_2,   P09,    71,  2,     20,    203,2,19940809,0118,  6.6430, 137.3468, 4095,   2275.5,   1.9708,  34.6485,2,  34.6481,2,   -999.0,9,    122.5,2,   139.74,2,    37.96,2,     0.00,2,     2.63,2, -999.000,9, -999.000,9, -999.000,9,-999.0000,9,  -999.00,9,   -999.0,9,-999.000,9,   -999.0,9,   -999,  -999.0,-999.000,-999.0000,-999.000,  2272.0,-999.000,  1.8111,-999.000
    49RY9407_2,   P09,    71,  2,     19,    210,2,19940809,0118,  6.6430, 137.3468, 4095,   2529.3,   1.7679,  34.6589,2,  34.6589,2,   -999.0,9,    132.1,2,   141.35,2,    37.34,2,     0.00,2,     2.58,2, -999.000,9, -999.000,9, -999.000,9,-999.0000,9,  -999.00,9,   -999.0,9,-999.000,9,   -999.0,9,   -999,  -999.0,-999.000,-999.0000,-999.000,  -999.0,-999.000,  1.5893,-999.000
    49RY9407_2,   P09,    71,  2,     18,    221,2,19940809,0118,  6.6430, 137.3468, 4095,   2784.5,   1.6582,  34.6664,2,  34.6660,2,   -999.0,9,    138.5,6,   142.13,2,    37.00,2,     0.00,2,     2.56,2, -999.000,9, -999.000,9, -999.000,9,-999.0000,9,  -999.00,9,   -999.0,9,-999.000,9,   -999.0,9,   -999,  -999.0,-999.000,-999.0000,-999.000,  -999.0,-999.000,  1.4583,-999.000
    49RY9407_2,   P09,    71,  2,     17,    219,2,19940809,0118,  6.6430, 137.3468, 4095,   3040.8,   1.5853,  34.6714,2,  34.6709,2,   -999.0,9,    143.5,2,   141.96,2,    36.63,2,     0.00,2,     2.53,2, -999.000,9, -999.000,9, -999.000,9,-999.0000,9,  -999.00,9,   -999.0,9,-999.000,9,   -999.0,9,   -999,  -999.0,-999.000,-999.0000,-999.000,  -999.0,-999.000,  1.3627,-999.000
    49RY9407_2,   P09,    71,  2,     16,    229,2,19940809,0118,  6.6430, 137.3468, 4095,   3295.6,   1.5581,  34.6747,2,  34.6745,2,   -999.0,9,    146.9,2,   141.55,2,    36.42,2,     0.00,2,     2.51,2, -999.000,9, -999.000,9, -999.000,9,-999.0000,9,  -999.00,9,   -999.0,9,-999.000,9,   -999.0,9,   -999,  -999.0,   1.551,-999.0000,-999.000,  3296.0,-999.000,  1.3112,-999.000
    49RY9407_2,   P09,    71,  2,     15,    217,2,19940809,0118,  6.6430, 137.3468, 4095,   3551.2,   1.5480,  34.6779,2,  34.6778,2,   -999.0,9,    149.2,2,   141.49,6,    36.33,6,     0.00,6,     2.49,6, -999.000,9, -999.000,9, -999.000,9,-999.0000,9,  -999.00,9,   -999.0,9,-999.000,9,   -999.0,9,   -999,  -999.0,-999.000,-999.0000,-999.000,  -999.0,-999.000,  1.2754,-999.000
    49RY9407_2,   P09,    71,  2,     14,    204,4,19940809,0118,  6.6430, 137.3468, 4095,   3807.7,   1.5398,  34.6808,2,  34.6785,6,   -999.0,9,    151.2,2,   141.03,2,    36.18,2,     0.00,2,     2.49,2, -999.000,9, -999.000,9, -999.000,9,-999.0000,9,  -999.00,9,   -999.0,9,-999.000,9,   -999.0,9,   -999,  -999.0,   1.536,-999.0000,-999.000,  3804.0,-999.000,  1.2405,-999.000
    49RY9407_2,   P09,    71,  2,     12,    213,2,19940809,0118,  6.6430, 137.3468, 4095,   4150.8,   1.5067,  34.6850,2,  34.6850,6,   -999.0,9,    157.1,2,   139.52,2,    35.82,2,     0.00,2,     2.46,2, -999.000,9, -999.000,9, -999.000,9,-999.0000,9,  -999.00,9,   -999.0,9,-999.000,9,   -999.0,9,   -999,  -999.0,-999.000,-999.0000,-999.000,  4146.0,-999.000,  1.1711,-999.000
    49RY9407_2,   P09,    71,  2,     13,    214,2,19940809,0118,  6.6430, 137.3468, 4095,   4150.8,   1.5074,  34.6855,2,  34.6835,3,   -999.0,9,    155.5,2,   140.10,2,    35.93,2,     0.00,2,     2.46,2, -999.000,9, -999.000,9, -999.000,9,-999.0000,9,  -999.00,9,   -999.0,9,-999.000,9,   -999.0,9,   -999,  -999.0,-999.000,-999.0000,-999.000,  4146.0,-999.000,  1.1717,-999.000
    49RY9407_2,   P09,    72,  1,      0,      0,2,19940809,0533,  6.2847, 137.7242, 4385,      0.0,  30.0773,  33.5890,2,-999.0000,9,   -999.0,9,    199.9,6,     1.37,2,     0.02,2,     0.00,2,     0.01,2, -999.000,9, -999.000,9, -999.000,9,-999.0000,9,  -999.00,9,   -999.0,9,-999.000,9,   -999.0,9,   -999,  -999.0,-999.000,-999.0000,-999.000,  -999.0,-999.000, 30.0774,-999.000
    49RY9407_2,   P09,    72,  1,     19,    210,2,19940809,0533,  6.2847, 137.7242, 4385,      9.6,  29.3723,  33.6059,2,  33.6125,2,   -999.0,9,    198.3,2,     1.28,2,     0.02,2,     0.00,2,     0.00,2, -999.000,9, -999.000,9, -999.000,9,-999.0000,9,  -999.00,9,   -999.0,9,-999.000,9,   -999.0,9,   -999,  -999.0,-999.000,-999.0000,-999.000,  -999.0,-999.000, 29.3700,-999.000
    49RY9407_2,   P09,    72,  1,     18,    221,2,19940809,0533,  6.2847, 137.7242, 4385,     24.6,  28.9583,  33.6868,2,  33.6953,2,   -999.0,9,    201.3,2,     1.21,2,     0.00,2,     0.00,2,     0.00,2, -999.000,9, -999.000,9, -999.000,9,-999.0000,9,  -999.00,9,   -999.0,9,-999.000,9,   -999.0,9,   -999,  -999.0,-999.000,-999.0000,-999.000,    27.0,-999.000, 28.9524,-999.000
    49RY9407_2,   P09,    72,  1,     17,    219,2,19940809,0533,  6.2847, 137.7242, 4385,     50.3,  28.4639,  33.9510,2,  33.9366,2,   -999.0,9,    203.2,6,     1.26,2,     0.02,2,     0.00,2,     0.01,2, -999.000,9, -999.000,9, -999.000,9,-999.0000,9,  -999.00,9,   -999.0,9,-999.000,9,   -999.0,9,   -999,  -999.0,-999.000,-999.0000,-999.000,  -999.0,-999.000, 28.4519,-999.000
    49RY9407_2,   P09,    72,  1,     16,    229,2,19940809,0533,  6.2847, 137.7242, 4385,     74.8,  23.9337,  34.7694,2,  34.7782,2,   -999.0,9,    195.0,2,     2.33,2,     0.01,2,     0.00,2,     0.15,2, -999.000,9, -999.000,9, -999.000,9,-999.0000,9,  -999.00,9,   -999.0,9,-999.000,9,   -999.0,9,   -999,  -999.0,  24.910,-999.0000,-999.000,    70.0,-999.000, 23.9180,-999.000
    49RY9407_2,   P09,    72,  1,     15,    217,2,19940809,0533,  6.2847, 137.7242, 4385,    100.3,  19.6538,  34.8816,2,  34.8564,2,   -999.0,9,    160.4,2,     6.40,6,     6.58,6,     0.15,6,     0.55,6, -999.000,9, -999.000,9, -999.000,9,-999.0000,9,  -999.00,9,   -999.0,9,-999.000,9,   -999.0,9,   -999,  -999.0,-999.000,-999.0000,-999.000,  -999.0,-999.000, 19.6355,-999.000
    49RY9407_2,   P09,    72,  1,     14,    204,2,19940809,0533,  6.2847, 137.7242, 4385,    125.2,  16.9251,  34.7244,2,  34.7315,2,   -999.0,9,    139.1,2,    11.70,2,    12.78,2,     0.07,2,     0.92,2, -999.000,9, -999.000,9, -999.000,9,-999.0000,9,  -999.00,9,   -999.0,9,-999.000,9,   -999.0,9,   -999,  -999.0,  16.914,-999.0000,-999.000,   125.0,-999.000, 16.9045,-999.000
    49RY9407_2,   P09,    72,  1,     13,    214,2,19940809,0533,  6.2847, 137.7242, 4385,    150.7,  14.2743,  34.6319,2,  34.6333,2,   -999.0,9,    127.4,2,    17.69,2,    17.69,2,     0.03,2,     1.24,2, -999.000,9, -999.000,9, -999.000,9,-999.0000,9,  -999.00,9,   -999.0,9,-999.000,9,   -999.0,9,   -999,  -999.0,-999.000,-999.0000,-999.000,   144.0,-999.000, 14.2523,-999.000
    49RY9407_2,   P09,    72,  1,     12,    213,2,19940809,0533,  6.2847, 137.7242, 4385,    200.3,  10.4777,  34.5559,2,  34.5332,2,   -999.0,9,     87.3,2,    31.62,2,    27.65,2,     0.01,2,     1.94,2, -999.000,9, -999.000,9, -999.000,9,-999.0000,9,  -999.00,9,   -999.0,9,-999.000,9,   -999.0,9,   -999,  -999.0,-999.000,-999.0000,-999.000,   202.0,-999.000, 10.4539,-999.000