BOTTLE,20020306WHPSIOdm
EXPOCODE,SECT_ID,STNNBR,CASTNO,SAMPNO,BTLNBR,BTLNBR_FLAG_W,DATE,TIME,LATITUDE,LONGITUDE,DEPTH,CTDPRS,CTDTMP,CTDSAL,CTDSAL_FLAG_W,SALNTY,SALNTY_FLAG_W,CTDOXY,CTDOXY_FLAG_W,OXYGEN,OXYGEN_FLAG_W,SILCAT,SILCAT_FLAG_W,NITRAT,NITRAT_FLAG_W,NITRIT,NITRIT_FLAG_W,PHSPHT,PHSPHT_FLAG_W,CFC-11,CFC-11_FLAG_W,CFC-12,CFC-12_FLAG_W,TRITUM,TRITUM_FLAG_W,HELIUM,HELIUM_FLAG_W,DELHE3,DELHE3_FLAG_W,DELC14,DELC14_FLAG_W,NEON,NEON_FLAG_W,TCARBN,TCARBN_FLAG_W,CTDRAW,C14ERR,REVTMP,HELIER,DELHER,REVPRS,NEONER,THETA,TRITER
,,,,,,,,,,,,DBAR,ITS-90,PSS-78,,PSS-78,,UMOL/KG,,UMOL/KG,,UMOL/KG,,UMOL/KG,,UMOL/KG,,UMOL/KG,,PMOL/KG,,PMOL/KG,,TU,,NMOL/KG,,PERCNT,,/MILLE,,NMOL/KG,,UMOL/KG,,,/MILLE,ITS-90,NMOL/KG,PERCNT,DBAR,NMOL/KG,DEG C,TU
    49RY9407_1,   P09,    48,  2,     11,    225,2,19940725,0408, 16.4913, 136.9825, 5575,    705.9,   6.1100,  34.3678,2,  34.3690,2,     63.0,3,     69.8,2,    73.49,2,    36.92,2,     0.00,2,     2.70,2, -999.000,9, -999.000,9, -999.000,9,-999.0000,9,  -999.00,9,   -999.0,9,-999.000,9,   -999.0,9,   -999,  -999.0,-999.000,-999.0000,-999.000,  -999.0,-999.000,  6.0468,-999.000
    49RY9407_1,   P09,    48,  2,     10,    224,2,19940725,0408, 16.4913, 136.9825, 5575,    806.5,   5.5561,  34.4569,2,  34.4586,2,     75.4,2,     78.4,6,    79.48,2,    37.64,2,     0.00,2,     2.74,2, -999.000,9, -999.000,9, -999.000,9,-999.0000,9,  -999.00,9,   -999.0,9,-999.000,9,   -999.0,9,   -999,  -999.0,-999.000,-999.0000,-999.000,  -999.0,-999.000,  5.4867,-999.000
    49RY9407_1,   P09,    48,  2,      9,    223,2,19940725,0408, 16.4913, 136.9825, 5575,    906.7,   5.0376,  34.4893,2,  34.4903,2,     84.1,2,     82.4,2,    87.34,6,    38.27,6,     0.00,6,     2.74,6, -999.000,9, -999.000,9, -999.000,9,-999.0000,9,  -999.00,9,   -999.0,9,-999.000,9,   -999.0,9,   -999,  -999.0,-999.000,-999.0000,-999.000,  -999.0,-999.000,  4.9624,-999.000
    49RY9407_1,   P09,    48,  2,      8,    212,2,19940725,0408, 16.4913, 136.9825, 5575,   1009.0,   4.5188,  34.5117,2,  34.5094,2,     87.5,2,     86.2,2,    96.80,2,    38.40,2,     0.00,2,     2.77,2, -999.000,9, -999.000,9, -999.000,9,-999.0000,9,  -999.00,9,   -999.0,9,-999.000,9,   -999.0,9,   -999,  -999.0,-999.000,-999.0000,-999.000,  -999.0,-999.000,  4.4384,-999.000
    49RY9407_1,   P09,    48,  2,      7,    220,2,19940725,0408, 16.4913, 136.9825, 5575,   1260.7,   3.5709,  34.5450,2,  34.5448,2,     95.5,3,     89.9,2,   117.26,2,    39.00,2,     0.00,2,     2.80,2, -999.000,9, -999.000,9, -999.000,9,-999.0000,9,  -999.00,9,   -999.0,9,-999.000,9,   -999.0,9,   -999,  -999.0,-999.000,-999.0000,-999.000,  -999.0,-999.000,  3.4771,-999.000
    49RY9407_1,   P09,    48,  2,      6,    209,2,19940725,0408, 16.4913, 136.9825, 5575,   1515.6,   2.9158,  34.5749,2,  34.5754,2,    100.4,2,     97.9,2,   129.80,2,    39.03,2,     0.00,2,     2.80,2, -999.000,9, -999.000,9, -999.000,9,-999.0000,9,  -999.00,9,   -999.0,9,-999.000,9,   -999.0,9,   -999,  -999.0,-999.000,-999.0000,-999.000,  -999.0,-999.000,  2.8077,-999.000
    49RY9407_1,   P09,    48,  2,      5,    218,2,19940725,0408, 16.4913, 136.9825, 5575,   1768.4,   2.5052,  34.5974,2,  34.5994,2,    105.6,2,    106.2,2,   136.41,2,    39.07,2,     0.00,2,     2.79,2, -999.000,9, -999.000,9, -999.000,9,-999.0000,9,  -999.00,9,   -999.0,9,-999.000,9,   -999.0,9,   -999,  -999.0,-999.000,-999.0000,-999.000,  -999.0,-999.000,  2.3810,-999.000
    49RY9407_1,   P09,    48,  2,      4,    206,2,19940725,0408, 16.4913, 136.9825, 5575,   2021.7,   2.1877,  34.6201,2,  34.6212,2,    110.8,2,    114.0,2,   140.93,2,    38.92,2,     0.00,2,     2.77,2, -999.000,9, -999.000,9, -999.000,9,-999.0000,9,  -999.00,9,   -999.0,9,-999.000,9,   -999.0,9,   -999,  -999.0,-999.000,-999.0000,-999.000,  -999.0,-999.000,  2.0466,-999.000
    49RY9407_1,   P09,    48,  2,      3,    205,2,19940725,0408, 16.4913, 136.9825, 5575,   2274.6,   1.9630,  34.6361,2,  34.6370,2,    120.4,2,    118.5,2,   143.92,2,    38.47,2,     0.00,2,     2.72,2, -999.000,9, -999.000,9, -999.000,9,-999.0000,9,  -999.00,9,   -999.0,9,-999.000,9,   -999.0,9,   -999,  -999.0,-999.000,-999.0000,-999.000,  -999.0,-999.000,  1.8036,-999.000
    49RY9407_1,   P09,    48,  2,      2,    216,2,19940725,0408, 16.4913, 136.9825, 5575,   2530.4,   1.8211,  34.6495,2,  34.6500,2,    126.9,2,    128.7,3,   145.29,2,    38.05,2,     0.00,2,     2.69,2, -999.000,9, -999.000,9, -999.000,9,-999.0000,9,  -999.00,9,   -999.0,9,-999.000,9,   -999.0,9,   -999,  -999.0,-999.000,-999.0000,-999.000,  -999.0,-999.000,  1.6414,-999.000
    49RY9407_1,   P09,    48,  2,      1,    201,2,19940725,0408, 16.4913, 136.9825, 5575,   2784.9,   1.7368,  34.6581,2,  34.6585,2,    133.0,2,    132.2,2,   145.96,6,    37.77,6,     0.00,6,     2.66,6, -999.000,9, -999.000,9, -999.000,9,-999.0000,9,  -999.00,9,   -999.0,9,-999.000,9,   -999.0,9,   -999,  -999.0,-999.000,-999.0000,-999.000,  -999.0,-999.000,  1.5353,-999.000
    49RY9407_1,   P09,    48,  2,     24,    230,2,19940725,0408, 16.4913, 136.9825, 5575,   3038.9,   1.6627,  34.6649,2,  34.6648,2,    137.2,2,    138.4,2,   145.78,2,    37.51,2,     0.00,2,     2.63,2, -999.000,9, -999.000,9, -999.000,9,-999.0000,9,  -999.00,9,   -999.0,9,-999.000,9,   -999.0,9,   -999,  -999.0,-999.000,-999.0000,-999.000,  -999.0,-999.000,  1.4386,-999.000
    49RY9407_1,   P09,    48,  2,     23,    228,2,19940725,0408, 16.4913, 136.9825, 5575,   3294.8,   1.6190,  34.6694,2,  34.6681,2,    143.6,2,    142.5,2,   144.83,2,    37.13,2,     0.00,2,     2.61,2, -999.000,9, -999.000,9, -999.000,9,-999.0000,9,  -999.00,9,   -999.0,9,-999.000,9,   -999.0,9,   -999,  -999.0,-999.000,-999.0000,-999.000,  -999.0,-999.000,  1.3708,-999.000
    49RY9407_1,   P09,    48,  2,     22,    227,2,19940725,0408, 16.4913, 136.9825, 5575,   3548.9,   1.5854,  34.6745,2,  34.6733,2,    148.0,2,    146.0,2,   143.81,2,    36.86,2,     0.00,2,     2.58,2, -999.000,9, -999.000,9, -999.000,9,-999.0000,9,  -999.00,9,   -999.0,9,-999.000,9,   -999.0,9,   -999,  -999.0,-999.000,-999.0000,-999.000,  -999.0,-999.000,  1.3122,-999.000
    49RY9407_1,   P09,    48,  2,     21,    226,2,19940725,0408, 16.4913, 136.9825, 5575,   3806.1,   1.5407,  34.6795,2,  34.6786,2,    151.4,2,    152.3,2,   142.86,2,    36.63,2,     0.00,2,     2.55,2, -999.000,9, -999.000,9, -999.000,9,-999.0000,9,  -999.00,9,   -999.0,9,-999.000,9,   -999.0,9,   -999,  -999.0,-999.000,-999.0000,-999.000,  -999.0,-999.000,  1.2416,-999.000
    49RY9407_1,   P09,    48,  2,     20,    203,2,19940725,0408, 16.4913, 136.9825, 5575,   4063.5,   1.5230,  34.6822,2,  34.6825,2,    155.6,2,    157.4,2,   141.56,6,    36.11,6,     0.00,6,     2.53,6, -999.000,9, -999.000,9, -999.000,9,-999.0000,9,  -999.00,9,   -999.0,9,-999.000,9,   -999.0,9,   -999,  -999.0,-999.000,-999.0000,-999.000,  4057.0,-999.000,  1.1966,-999.000
    49RY9407_1,   P09,    48,  2,     19,    210,2,19940725,0408, 16.4913, 136.9825, 5575,   4319.8,   1.5134,  34.6851,2,  34.6861,2,    158.8,2,    159.1,2,   140.53,2,    35.97,2,     0.00,2,     2.52,2, -999.000,9, -999.000,9, -999.000,9,-999.0000,9,  -999.00,9,   -999.0,9,-999.000,9,   -999.0,9,   -999,  -999.0,-999.000,-999.0000,-999.000,  -999.0,-999.000,  1.1586,-999.000
    49RY9407_1,   P09,    48,  2,     18,    221,2,19940725,0408, 16.4913, 136.9825, 5575,   4575.5,   1.5300,  34.6856,2,  34.6869,6,    161.6,2,    160.9,2,   140.05,2,    35.93,2,     0.00,2,     2.51,2, -999.000,9, -999.000,9, -999.000,9,-999.0000,9,  -999.00,9,   -999.0,9,-999.000,9,   -999.0,9,   -999,  -999.0,   1.526,-999.0000,-999.000,  4575.0,-999.000,  1.1454,-999.000
    49RY9407_1,   P09,    48,  2,     16,    229,4,19940725,0408, 16.4913, 136.9825, 5575,   4832.4,   1.5561,  34.6857,2,  34.6863,6,    163.4,2,    161.9,2,   139.52,2,    35.83,2,     0.00,2,     2.51,2, -999.000,9, -999.000,9, -999.000,9,-999.0000,9,  -999.00,9,   -999.0,9,-999.000,9,   -999.0,9,   -999,  -999.0,   1.552,-999.0000,-999.000,  4827.0,-999.000,  1.1402,-999.000
    49RY9407_1,   P09,    48,  2,     17,    219,2,19940725,0408, 16.4913, 136.9825, 5575,   4832.4,   1.5561,  34.6857,2,  34.6871,2,    163.4,2,    161.7,2,   140.01,2,    35.91,2,     0.00,2,     2.51,2, -999.000,9, -999.000,9, -999.000,9,-999.0000,9,  -999.00,9,   -999.0,9,-999.000,9,   -999.0,9,   -999,  -999.0,-999.000,-999.0000,-999.000,  -999.0,-999.000,  1.1402,-999.000
    49RY9407_1,   P09,    48,  2,     15,    217,2,19940725,0408, 16.4913, 136.9825, 5575,   5346.3,   1.6183,  34.6857,2,  34.6872,2,    162.7,2,    163.7,2,   139.84,2,    35.87,2,     0.00,2,     2.50,2, -999.000,9, -999.000,9, -999.000,9,-999.0000,9,  -999.00,9,   -999.0,9,-999.000,9,   -999.0,9,   -999,  -999.0,-999.000,-999.0000,-999.000,  -999.0,-999.000,  1.1370,-999.000
    49RY9407_1,   P09,    48,  2,     14,    204,2,19940725,0408, 16.4913, 136.9825, 5575,   5606.6,   1.6498,  34.6865,2,  34.6876,2,    163.3,2,    161.7,2,   139.40,6,    35.69,6,     0.00,6,     2.49,6, -999.000,9, -999.000,9, -999.000,9,-999.0000,9,  -999.00,9,   -999.0,9,-999.000,9,   -999.0,9,   -999,  -999.0,   1.647,-999.0000,-999.000,  5603.0,-999.000,  1.1341,-999.000
    49RY9407_1,   P09,    48,  2,     13,    214,2,19940725,0408, 16.4913, 136.9825, 5575,   5696.7,   1.6615,  34.6871,2,  34.6884,2,    162.4,2,    162.4,6,   139.41,6,    35.71,6,     0.00,6,     2.49,6, -999.000,9, -999.000,9, -999.000,9,-999.0000,9,  -999.00,9,   -999.0,9,-999.000,9,   -999.0,9,   -999,  -999.0,-999.000,-999.0000,-999.000,  -999.0,-999.000,  1.1336,-999.000
    49RY9407_1,   P09,    48,  2,     12,    213,2,19940725,0408, 16.4913, 136.9825, 5575,   5697.3,   1.6619,  34.6868,2,  34.6828,4,    160.5,2,    162.7,6,   138.98,6,    35.71,6,     0.00,6,     2.49,6, -999.000,9, -999.000,9, -999.000,9,-999.0000,9,  -999.00,9,   -999.0,9,-999.000,9,   -999.0,9,   -999,  -999.0,-999.000,-999.0000,-999.000,  5690.0,-999.000,  1.1339,-999.000
    49RY9407_1,   P09,    49,  1,      0,      0,2,19940725,0906, 15.9960, 136.9962, 5180,      0.7,  29.9720,  34.1597,2,-999.0000,9,    196.5,2,    196.0,6,     1.28,2,     0.00,2,     0.00,2,     0.01,2, -999.000,9, -999.000,9, -999.000,9,-999.0000,9,  -999.00,9,   -999.0,9,-999.000,9,   -999.0,9,   -999,  -999.0,-999.000,-999.0000,-999.000,  -999.0,-999.000, 29.9719,-999.000
    49RY9407_1,   P09,    49,  1,     23,    228,2,19940725,0906, 15.9960, 136.9962, 5180,     10.0,  29.9693,  34.2212,2,  34.2202,2,    197.6,2,    195.2,2,     1.26,2,     0.01,2,     0.00,2,     0.01,2, -999.000,9, -999.000,9, -999.000,9,-999.0000,9,  -999.00,9,   -999.0,9,-999.000,9,   -999.0,9,   -999,  -999.0,-999.000,-999.0000,-999.000,  -999.0,-999.000, 29.9668,-999.000
    49RY9407_1,   P09,    49,  1,     22,    227,2,19940725,0906, 15.9960, 136.9962, 5180,     24.7,  29.9140,  34.2423,2,  34.2434,2,    199.8,2,    199.4,2,     1.33,2,     0.02,2,     0.00,2,     0.01,2, -999.000,9, -999.000,9, -999.000,9,-999.0000,9,  -999.00,9,   -999.0,9,-999.000,9,   -999.0,9,   -999,  -999.0,-999.000,-999.0000,-999.000,  -999.0,-999.000, 29.9079,-999.000
    49RY9407_1,   P09,    49,  1,     21,    226,2,19940725,0906, 15.9960, 136.9962, 5180,     50.2,  29.8259,  34.2567,2,  34.2581,2,    202.3,3,    196.8,2,     1.31,2,     0.00,2,     0.00,2,     0.00,2, -999.000,9, -999.000,9, -999.000,9,-999.0000,9,  -999.00,9,   -999.0,9,-999.000,9,   -999.0,9,   -999,  -999.0,-999.000,-999.0000,-999.000,  -999.0,-999.000, 29.8135,-999.000
    49RY9407_1,   P09,    49,  1,     20,    203,2,19940725,0906, 15.9960, 136.9962, 5180,     75.2,  29.0118,  34.2528,2,  34.2502,2,    208.9,2,    205.4,2,     1.27,2,     0.01,2,     0.00,2,     0.02,2, -999.000,9, -999.000,9, -999.000,9,-999.0000,9,  -999.00,9,   -999.0,9,-999.000,9,   -999.0,9,   -999,  -999.0,-999.000,-999.0000,-999.000,    71.0,-999.000, 28.9937,-999.000
    49RY9407_1,   P09,    49,  1,     19,    210,2,19940725,0906, 15.9960, 136.9962, 5180,    100.1,  28.1403,  34.4318,2,  34.4228,2,    207.4,2,    205.7,2,     1.31,2,     0.00,2,     0.00,2,     0.05,2, -999.000,9, -999.000,9, -999.000,9,-999.0000,9,  -999.00,9,   -999.0,9,-999.000,9,   -999.0,9,   -999,  -999.0,-999.000,-999.0000,-999.000,  -999.0,-999.000, 28.1166,-999.000
    49RY9407_1,   P09,    49,  1,     18,    221,2,19940725,0906, 15.9960, 136.9962, 5180,    124.8,  27.3026,  34.7406,2,  34.7312,2,    207.8,2,    207.1,2,     1.19,2,     0.01,2,     0.00,2,     0.05,2, -999.000,9, -999.000,9, -999.000,9,-999.0000,9,  -999.00,9,   -999.0,9,-999.000,9,   -999.0,9,   -999,  -999.0,  27.560,-999.0000,-999.000,   122.0,-999.000, 27.2737,-999.000
    49RY9407_1,   P09,    49,  1,     17,    219,2,19940725,0906, 15.9960, 136.9962, 5180,    151.1,  26.0160,  34.9500,2,  34.8941,3,    202.4,2,    199.4,6,     1.24,2,     0.01,2,     0.07,2,     0.07,2, -999.000,9, -999.000,9, -999.000,9,-999.0000,9,  -999.00,9,   -999.0,9,-999.000,9,   -999.0,9,   -999,  -999.0,-999.000,-999.0000,-999.000,  -999.0,-999.000, 25.9823,-999.000
    49RY9407_1,   P09,    49,  1,     16,    229,3,19940725,0906, 15.9960, 136.9962, 5180,    201.3,  22.6281,  35.0698,2,  35.0782,2,    188.5,3,    182.7,2,     1.76,6,     1.01,6,     0.00,6,     0.16,6, -999.000,9, -999.000,9, -999.000,9,-999.0000,9,  -999.00,9,   -999.0,9,-999.000,9,   -999.0,9,   -999,  -999.0,  23.600,-999.0000,-999.000,   196.0,-999.000, 22.5874,-999.000
    49RY9407_1,   P09,    49,  1,     15,    217,2,19940725,0906, 15.9960, 136.9962, 5180,    300.7,  15.1758,  34.5996,2,  34.6037,2,    163.9,2,    164.9,2,    10.01,2,    10.87,2,     0.00,2,     0.83,2, -999.000,9, -999.000,9, -999.000,9,-999.0000,9,  -999.00,9,   -999.0,9,-999.000,9,   -999.0,9,   -999,  -999.0,-999.000,-999.0000,-999.000,  -999.0,-999.000, 15.1299,-999.000
    49RY9407_1,   P09,    49,  1,     14,    204,2,19940725,0906, 15.9960, 136.9962, 5180,    402.7,  10.2814,  34.2919,2,  34.2967,2,    138.8,2,    140.3,2,    28.35,2,    22.19,2,     0.00,2,     1.60,2, -999.000,9, -999.000,9, -999.000,9,-999.0000,9,  -999.00,9,   -999.0,9,-999.000,9,   -999.0,9,   -999,  -999.0,  10.585,-999.0000,-999.000,   391.0,-999.000, 10.2337,-999.000
    49RY9407_1,   P09,    49,  1,     12,    213,2,19940725,0906, 15.9960, 136.9962, 5180,    504.3,   7.8008,  34.3279,2,  34.3277,2,     85.7,2,   -999.0,9,  -999.00,9,  -999.00,9,  -999.00,9,  -999.00,9, -999.000,9, -999.000,9, -999.000,9,-999.0000,9,  -999.00,9,   -999.0,9,-999.000,9,   -999.0,9,   -999,  -999.0,-999.000,-999.0000,-999.000,  -999.0,-999.000,  7.7500,-999.000
    49RY9407_1,   P09,    49,  1,     13,    214,2,19940725,0906, 15.9960, 136.9962, 5180,    504.3,   7.7969,  34.3288,2,  34.3269,2,     85.7,2,     82.9,2,    51.83,2,    32.55,2,     0.00,2,     2.35,2, -999.000,9, -999.000,9, -999.000,9,-999.0000,9,  -999.00,9,   -999.0,9,-999.000,9,   -999.0,9,   -999,  -999.0,-999.000,-999.0000,-999.000,   424.0,-999.000,  7.7461,-999.000