BOTTLE,20020306WHPSIOdm
EXPOCODE,SECT_ID,STNNBR,CASTNO,SAMPNO,BTLNBR,BTLNBR_FLAG_W,DATE,TIME,LATITUDE,LONGITUDE,DEPTH,CTDPRS,CTDTMP,CTDSAL,CTDSAL_FLAG_W,SALNTY,SALNTY_FLAG_W,CTDOXY,CTDOXY_FLAG_W,OXYGEN,OXYGEN_FLAG_W,SILCAT,SILCAT_FLAG_W,NITRAT,NITRAT_FLAG_W,NITRIT,NITRIT_FLAG_W,PHSPHT,PHSPHT_FLAG_W,CFC-11,CFC-11_FLAG_W,CFC-12,CFC-12_FLAG_W,TRITUM,TRITUM_FLAG_W,HELIUM,HELIUM_FLAG_W,DELHE3,DELHE3_FLAG_W,DELC14,DELC14_FLAG_W,NEON,NEON_FLAG_W,TCARBN,TCARBN_FLAG_W,CTDRAW,C14ERR,REVTMP,HELIER,DELHER,REVPRS,NEONER,THETA,TRITER
,,,,,,,,,,,,DBAR,ITS-90,PSS-78,,PSS-78,,UMOL/KG,,UMOL/KG,,UMOL/KG,,UMOL/KG,,UMOL/KG,,UMOL/KG,,PMOL/KG,,PMOL/KG,,TU,,NMOL/KG,,PERCNT,,/MILLE,,NMOL/KG,,UMOL/KG,,,/MILLE,ITS-90,NMOL/KG,PERCNT,DBAR,NMOL/KG,DEG C,TU
    49RY9407_2,   P09,    78,  2,      9,    223,2,19940810,2222,  4.0897, 139.9898, 4230,    302.0,   8.8937,  34.5788,2,  34.5773,2,   -999.0,9,     72.2,6,    39.28,2,    32.84,2,     0.00,2,     2.26,2, -999.000,9, -999.000,9, -999.000,9,-999.0000,9,  -999.00,9,   -999.0,1,-999.000,9,   2232.1,2,   -999,  -999.0,-999.000,-999.0000,-999.000,  -999.0,-999.000,  8.8611,-999.000
    49RY9407_2,   P09,    78,  2,      8,    212,2,19940810,2222,  4.0897, 139.9898, 4230,    403.2,   7.9123,  34.5825,2,  34.5822,2,   -999.0,9,    111.0,2,    37.24,2,    31.50,2,     0.00,2,     2.15,2, -999.000,9, -999.000,9, -999.000,9,-999.0000,9,  -999.00,9,   -999.0,1,-999.000,9,   2216.0,2,   -999,  -999.0,-999.000,-999.0000,-999.000,  -999.0,-999.000,  7.8715,-999.000
    49RY9407_2,   P09,    78,  2,      6,    209,4,19940810,2222,  4.0897, 139.9898, 4230,    506.4,   7.0339,  34.5551,2,  34.5531,2,   -999.0,9,    106.1,2,    44.12,6,    33.77,6,     0.00,6,     2.32,6, -999.000,9, -999.000,9, -999.000,9,-999.0000,9,  -999.00,9,   -999.0,1,-999.000,9,   2232.8,2,   -999,  -999.0,-999.000,-999.0000,-999.000,  -999.0,-999.000,  6.9857,-999.000
    49RY9407_2,   P09,    78,  2,      7,    220,2,19940810,2222,  4.0897, 139.9898, 4230,    506.4,   7.0339,  34.5551,2,  34.5541,2,   -999.0,9,    106.2,2,    44.02,2,    33.76,2,     0.00,2,     2.32,2, -999.000,9, -999.000,9, -999.000,9,-999.0000,9,  -999.00,9,   -999.0,1,-999.000,9,   2233.8,2,   -999,  -999.0,-999.000,-999.0000,-999.000,  -999.0,-999.000,  6.9857,-999.000
    49RY9407_2,   P09,    78,  2,      5,    218,2,19940810,2222,  4.0897, 139.9898, 4230,    706.8,   5.8882,  34.5443,2,  34.5427,2,   -999.0,9,     75.2,2,    63.86,2,    38.75,2,     0.00,2,     2.70,2, -999.000,9, -999.000,9, -999.000,9,-999.0000,9,  -999.00,9,   -999.0,1,-999.000,9,   2274.8,2,   -999,  -999.0,-999.000,-999.0000,-999.000,  -999.0,-999.000,  5.8260,-999.000
    49RY9407_2,   P09,    78,  2,      4,    206,2,19940810,2222,  4.0897, 139.9898, 4230,    808.1,   5.3964,  34.5410,2,  34.5421,2,   -999.0,9,     85.0,2,    71.45,2,    38.44,2,     0.00,2,     2.67,2, -999.000,9, -999.000,9, -999.000,9,-999.0000,9,  -999.00,9,   -999.0,1,-999.000,9,   2280.7,2,   -999,  -999.0,-999.000,-999.0000,-999.000,  -999.0,-999.000,  5.3277,-999.000
    49RY9407_2,   P09,    78,  2,      3,    205,2,19940810,2222,  4.0897, 139.9898, 4230,    909.0,   4.9616,  34.5426,2,  34.5436,2,   -999.0,9,     89.1,2,    81.55,2,    38.36,2,     0.00,2,     2.70,2, -999.000,9, -999.000,9, -999.000,9,-999.0000,9,  -999.00,9,   -999.0,1,-999.000,9,   2289.3,2,   -999,  -999.0,-999.000,-999.0000,-999.000,  -999.0,-999.000,  4.8867,-999.000
    49RY9407_2,   P09,    78,  2,      2,    216,2,19940810,2222,  4.0897, 139.9898, 4230,   1009.9,   4.5308,  34.5540,2,  34.5545,2,   -999.0,9,     90.3,2,    88.75,2,    39.50,2,     0.00,2,     2.74,2, -999.000,9, -999.000,9, -999.000,9,-999.0000,9,  -999.00,9,   -999.0,1,-999.000,9,   2300.0,2,   -999,  -999.0,-999.000,-999.0000,-999.000,  -999.0,-999.000,  4.4502,-999.000
    49RY9407_2,   P09,    78,  2,      1,    201,2,19940810,2222,  4.0897, 139.9898, 4230,   1262.0,   3.5536,  34.5786,2,-999.0000,5,   -999.0,9,     94.8,6,   109.49,2,    39.20,2,     0.00,2,     2.73,2, -999.000,9, -999.000,9, -999.000,9,-999.0000,9,  -999.00,9,   -999.0,1,-999.000,9,   2316.3,2,   -999,  -999.0,-999.000,-999.0000,-999.000,  -999.0,-999.000,  3.4598,-999.000
    49RY9407_2,   P09,    78,  2,     24,    222,2,19940810,2222,  4.0897, 139.9898, 4230,   1514.9,   2.9661,  34.6005,2,  34.6011,2,   -999.0,9,     97.7,2,   122.89,2,    39.62,2,     0.00,2,     2.76,2, -999.000,9, -999.000,9, -999.000,9,-999.0000,9,  -999.00,9,   -999.0,1,-999.000,9,   2331.2,2,   -999,  -999.0,-999.000,-999.0000,-999.000,  -999.0,-999.000,  2.8573,-999.000
    49RY9407_2,   P09,    78,  2,     23,    228,2,19940810,2222,  4.0897, 139.9898, 4230,   1769.7,   2.4966,  34.6206,2,  34.6225,2,   -999.0,9,    104.9,2,   132.22,2,    39.35,2,     0.00,2,     2.74,2, -999.000,9, -999.000,9, -999.000,9,-999.0000,9,  -999.00,9,   -999.0,1,-999.000,9,   2336.2,2,   -999,  -999.0,-999.000,-999.0000,-999.000,  -999.0,-999.000,  2.3723,-999.000
    49RY9407_2,   P09,    78,  2,     22,    227,2,19940810,2222,  4.0897, 139.9898, 4230,   2022.2,   2.1860,  34.6367,2,  34.6367,2,   -999.0,9,    115.1,2,   136.74,6,    38.68,6,     0.00,6,     2.70,6, -999.000,9, -999.000,9, -999.000,9,-999.0000,9,  -999.00,9,   -999.0,1,-999.000,9,   2339.2,2,   -999,  -999.0,-999.000,-999.0000,-999.000,  -999.0,-999.000,  2.0448,-999.000
    49RY9407_2,   P09,    78,  2,     20,    203,2,19940810,2222,  4.0897, 139.9898, 4230,   2275.9,   1.9554,  34.6498,2,  34.6505,2,   -999.0,9,    122.5,2,   140.75,2,    38.36,2,     0.00,2,     2.63,2, -999.000,9, -999.000,9, -999.000,9,-999.0000,9,  -999.00,9,   -999.0,1,-999.000,9,   2337.7,2,   -999,  -999.0,-999.000,-999.0000,-999.000,  2275.0,-999.000,  1.7959,-999.000
    49RY9407_2,   P09,    78,  2,     21,    226,2,19940810,2222,  4.0897, 139.9898, 4230,   2275.9,   1.9554,  34.6498,2,  34.6495,2,   -999.0,9,    122.5,2,   140.94,2,    38.31,2,     0.00,2,     2.66,2, -999.000,9, -999.000,9, -999.000,9,-999.0000,9,  -999.00,9,   -999.0,1,-999.000,9,   2340.0,6,   -999,  -999.0,-999.000,-999.0000,-999.000,  -999.0,-999.000,  1.7959,-999.000
    49RY9407_2,   P09,    78,  2,     19,    215,2,19940810,2222,  4.0897, 139.9898, 4230,   2531.1,   1.7715,  34.6592,2,  34.6607,2,   -999.0,9,    132.5,2,   141.66,2,    37.81,2,     0.00,2,     2.61,2, -999.000,9, -999.000,9, -999.000,9,-999.0000,9,  -999.00,9,   -999.0,1,-999.000,9,   2335.6,2,   -999,  -999.0,-999.000,-999.0000,-999.000,  -999.0,-999.000,  1.5926,-999.000
    49RY9407_2,   P09,    78,  2,     18,    221,2,19940810,2222,  4.0897, 139.9898, 4230,   2785.3,   1.6569,  34.6665,2,  34.6670,2,   -999.0,9,    139.1,2,   141.95,2,    37.18,2,     0.00,2,     2.57,2, -999.000,9, -999.000,9, -999.000,9,-999.0000,9,  -999.00,9,   -999.0,1,-999.000,9,   2332.7,2,   -999,  -999.0,-999.000,-999.0000,-999.000,  2785.0,-999.000,  1.4570,-999.000
    49RY9407_2,   P09,    78,  2,     17,    219,2,19940810,2222,  4.0897, 139.9898, 4230,   3040.0,   1.5767,  34.6729,2,  34.6735,2,   -999.0,9,    144.1,2,   142.26,2,    37.00,2,     0.00,2,     2.54,2, -999.000,9, -999.000,9, -999.000,9,-999.0000,9,  -999.00,9,   -999.0,1,-999.000,9,   2332.3,2,   -999,  -999.0,-999.000,-999.0000,-999.000,  -999.0,-999.000,  1.3544,-999.000
    49RY9407_2,   P09,    78,  2,     16,    229,2,19940810,2222,  4.0897, 139.9898, 4230,   3294.7,   1.5533,  34.6757,2,-999.0000,5,   -999.0,9,    147.0,6,   141.89,6,    36.72,6,     0.00,6,     2.52,6, -999.000,9, -999.000,9, -999.000,9,-999.0000,9,  -999.00,9,   -999.0,1,-999.000,9,   2329.2,2,   -999,  -999.0,   1.547,-999.0000,-999.000,  3293.0,-999.000,  1.3065,-999.000
    49RY9407_2,   P09,    78,  2,     15,    217,2,19940810,2222,  4.0897, 139.9898, 4230,   3550.7,   1.5431,  34.6789,2,  34.6786,2,   -999.0,9,    149.5,2,   142.04,2,    36.65,2,     0.00,2,     2.51,2, -999.000,9, -999.000,9, -999.000,9,-999.0000,9,  -999.00,9,   -999.0,1,-999.000,9,   2326.0,2,   -999,  -999.0,-999.000,-999.0000,-999.000,  -999.0,-999.000,  1.2707,-999.000
    49RY9407_2,   P09,    78,  2,     14,    204,2,19940810,2222,  4.0897, 139.9898, 4230,   3807.1,   1.5145,  34.6838,2,  34.6843,2,   -999.0,9,    151.8,2,   142.35,2,    36.51,2,     0.00,2,     2.49,2, -999.000,9, -999.000,9, -999.000,9,-999.0000,9,  -999.00,9,   -999.0,1,-999.000,9,   2328.0,6,   -999,  -999.0,   1.513,-999.0000,-999.000,  3802.0,-999.000,  1.2159,-999.000
    49RY9407_2,   P09,    78,  2,     13,    214,2,19940810,2222,  4.0897, 139.9898, 4230,   4063.0,   1.5061,  34.6859,2,  34.6861,2,   -999.0,9,    154.6,2,   142.35,2,    36.33,2,     0.00,2,     2.48,2, -999.000,9, -999.000,9, -999.000,9,-999.0000,9,  -999.00,9,   -999.0,1,-999.000,9,   2325.3,2,   -999,  -999.0,-999.000,-999.0000,-999.000,  -999.0,-999.000,  1.1801,-999.000
    49RY9407_2,   P09,    78,  2,     12,    213,4,19940810,2222,  4.0897, 139.9898, 4230,   4273.8,   1.5213,  34.6871,2,  34.6870,6,   -999.0,9,    155.0,2,   141.80,2,    36.35,2,     0.00,2,     2.48,2, -999.000,9, -999.000,9, -999.000,9,-999.0000,9,  -999.00,9,   -999.0,9,-999.000,9,   -999.0,9,   -999,  -999.0,-999.000,-999.0000,-999.000,  4267.0,-999.000,  1.1714,-999.000
    49RY9407_2,   P09,    79,  1,      0,      0,2,19940811,0218,  3.7183, 140.2893, 4230,      0.2,  29.1081,  34.0434,2,-999.0000,9,   -999.0,9,    198.1,6,     1.25,2,     0.01,2,     0.00,2,     0.03,2, -999.000,9, -999.000,9, -999.000,9,-999.0000,9,  -999.00,9,   -999.0,9,-999.000,9,   -999.0,9,   -999,  -999.0,-999.000,-999.0000,-999.000,  -999.0,-999.000, 29.1080,-999.000
    49RY9407_2,   P09,    79,  1,     19,    215,2,19940811,0218,  3.7183, 140.2893, 4230,     10.7,  28.9551,  34.1070,2,  34.1114,2,   -999.0,9,    198.2,2,     1.32,2,     0.00,2,     0.00,2,     0.02,2, -999.000,9, -999.000,9, -999.000,9,-999.0000,9,  -999.00,9,   -999.0,9,-999.000,9,   -999.0,9,   -999,  -999.0,-999.000,-999.0000,-999.000,  -999.0,-999.000, 28.9526,-999.000
    49RY9407_2,   P09,    79,  1,     18,    221,2,19940811,0218,  3.7183, 140.2893, 4230,     25.7,  28.0038,  34.2228,2,  34.2137,2,   -999.0,9,    201.8,2,     1.22,2,     0.00,2,     0.00,2,     0.03,2, -999.000,9, -999.000,9, -999.000,9,-999.0000,9,  -999.00,9,   -999.0,9,-999.000,9,   -999.0,9,   -999,  -999.0,-999.000,-999.0000,-999.000,    29.0,-999.000, 27.9978,-999.000
    49RY9407_2,   P09,    79,  1,     17,    219,2,19940811,0218,  3.7183, 140.2893, 4230,     50.8,  27.3374,  34.3940,2,  34.3980,2,   -999.0,9,    184.6,2,     1.72,2,     0.75,2,     0.43,2,     0.17,2, -999.000,9, -999.000,9, -999.000,9,-999.0000,9,  -999.00,9,   -999.0,9,-999.000,9,   -999.0,9,   -999,  -999.0,-999.000,-999.0000,-999.000,  -999.0,-999.000, 27.3256,-999.000
    49RY9407_2,   P09,    79,  1,     16,    229,3,19940811,0218,  3.7183, 140.2893, 4230,     76.1,  25.9886,  34.7762,2,  34.7178,2,   -999.0,9,    167.1,2,     2.81,2,     3.42,2,     0.24,2,     0.34,2, -999.000,9, -999.000,9, -999.000,9,-999.0000,9,  -999.00,9,   -999.0,9,-999.000,9,   -999.0,9,   -999,  -999.0,  25.880,-999.0000,-999.000,    72.0,-999.000, 25.9717,-999.000
    49RY9407_2,   P09,    79,  1,     15,    217,2,19940811,0218,  3.7183, 140.2893, 4230,    101.8,  24.5699,  35.1082,2,  35.1319,2,   -999.0,9,    146.8,2,     3.27,6,     6.49,6,     0.07,6,     0.53,6, -999.000,9, -999.000,9, -999.000,9,-999.0000,9,  -999.00,9,   -999.0,9,-999.000,9,   -999.0,9,   -999,  -999.0,-999.000,-999.0000,-999.000,  -999.0,-999.000, 24.5481,-999.000
    49RY9407_2,   P09,    79,  1,     14,    204,2,19940811,0218,  3.7183, 140.2893, 4230,    127.0,  23.6081,  35.1769,2,  35.1834,2,   -999.0,9,    143.1,2,     3.91,2,     7.45,2,     0.04,2,     0.59,2, -999.000,9, -999.000,9, -999.000,9,-999.0000,9,  -999.00,9,   -999.0,9,-999.000,9,   -999.0,9,   -999,  -999.0,  23.550,-999.0000,-999.000,   129.0,-999.000, 23.5816,-999.000
    49RY9407_2,   P09,    79,  1,     13,    214,2,19940811,0218,  3.7183, 140.2893, 4230,    151.7,  20.6775,  34.8508,2,  34.8257,2,   -999.0,9,    160.4,2,     6.61,2,     6.38,2,     0.04,2,     0.53,2, -999.000,9, -999.000,9, -999.000,9,-999.0000,9,  -999.00,9,   -999.0,9,-999.000,9,   -999.0,9,   -999,  -999.0,-999.000,-999.0000,-999.000,   154.0,-999.000, 20.6488,-999.000
    49RY9407_2,   P09,    79,  1,     12,    213,2,19940811,0218,  3.7183, 140.2893, 4230,    200.6,  15.4308,  34.6614,2,  34.6528,2,   -999.0,9,    160.2,2,    12.22,6,    11.82,6,     0.01,6,     0.83,6, -999.000,9, -999.000,9, -999.000,9,-999.0000,9,  -999.00,9,   -999.0,9,-999.000,9,   -999.0,9,   -999,  -999.0,-999.000,-999.0000,-999.000,   201.0,-999.000, 15.3999,-999.000