BOTTLE,20020306WHPSIOdm
EXPOCODE,SECT_ID,STNNBR,CASTNO,SAMPNO,BTLNBR,BTLNBR_FLAG_W,DATE,TIME,LATITUDE,LONGITUDE,DEPTH,CTDPRS,CTDTMP,CTDSAL,CTDSAL_FLAG_W,SALNTY,SALNTY_FLAG_W,CTDOXY,CTDOXY_FLAG_W,OXYGEN,OXYGEN_FLAG_W,SILCAT,SILCAT_FLAG_W,NITRAT,NITRAT_FLAG_W,NITRIT,NITRIT_FLAG_W,PHSPHT,PHSPHT_FLAG_W,CFC-11,CFC-11_FLAG_W,CFC-12,CFC-12_FLAG_W,TRITUM,TRITUM_FLAG_W,HELIUM,HELIUM_FLAG_W,DELHE3,DELHE3_FLAG_W,DELC14,DELC14_FLAG_W,NEON,NEON_FLAG_W,TCARBN,TCARBN_FLAG_W,CTDRAW,C14ERR,REVTMP,HELIER,DELHER,REVPRS,NEONER,THETA,TRITER
,,,,,,,,,,,,DBAR,ITS-90,PSS-78,,PSS-78,,UMOL/KG,,UMOL/KG,,UMOL/KG,,UMOL/KG,,UMOL/KG,,UMOL/KG,,PMOL/KG,,PMOL/KG,,TU,,NMOL/KG,,PERCNT,,/MILLE,,NMOL/KG,,UMOL/KG,,,/MILLE,ITS-90,NMOL/KG,PERCNT,DBAR,NMOL/KG,DEG C,TU
    49RY9407_2,   P09,    66,  1,     10,    224,2,19940807,1857,  8.0138, 137.0230, 3060,     75.2,  26.7810,  34.3992,2,  34.3942,2,    202.5,3,    195.3,2,     2.01,3,     0.00,2,     0.00,2,     0.09,2, -999.000,9, -999.000,9, -999.000,9,-999.0000,9,  -999.00,9,   -999.0,1,-999.000,9,   1939.7,2,   -999,  -999.0,-999.000,-999.0000,-999.000,  -999.0,-999.000, 26.7639,-999.000
    49RY9407_2,   P09,    66,  1,      9,    223,2,19940807,1857,  8.0138, 137.0230, 3060,    100.7,  23.7393,  34.7008,2,  34.6936,2,    191.7,3,    183.4,2,     2.90,3,     0.79,2,     0.18,2,     0.22,2, -999.000,9, -999.000,9, -999.000,9,-999.0000,9,  -999.00,9,   -999.0,1,-999.000,9,   1990.5,2,   -999,  -999.0,-999.000,-999.0000,-999.000,  -999.0,-999.000, 23.7183,-999.000
    49RY9407_2,   P09,    66,  1,      8,    212,2,19940807,1857,  8.0138, 137.0230, 3060,    125.2,  18.5513,  34.8091,2,  34.8079,2,    167.3,3,    156.7,2,     7.93,3,     8.65,2,     0.02,2,     0.68,2, -999.000,9, -999.000,9, -999.000,9,-999.0000,9,  -999.00,9,   -999.0,1,-999.000,9,   2063.9,2,   -999,  -999.0,-999.000,-999.0000,-999.000,  -999.0,-999.000, 18.5294,-999.000
    49RY9407_2,   P09,    66,  1,      7,    220,2,19940807,1857,  8.0138, 137.0230, 3060,    149.6,  16.0586,  34.6590,2,  34.6631,2,    155.0,2,    150.9,2,    11.16,3,    12.18,2,     0.01,2,     0.89,2, -999.000,9, -999.000,9, -999.000,9,-999.0000,9,  -999.00,9,   -999.0,1,-999.000,9,   2088.9,2,   -999,  -999.0,-999.000,-999.0000,-999.000,  -999.0,-999.000, 16.0350,-999.000
    49RY9407_2,   P09,    66,  1,      6,    209,2,19940807,1857,  8.0138, 137.0230, 3060,    200.3,  12.0788,  34.5139,2,  34.5232,2,    114.3,3,    109.2,2,    25.22,3,    23.35,6,     0.01,6,     1.64,6, -999.000,9, -999.000,9, -999.000,9,-999.0000,9,  -999.00,9,   -999.0,1,-999.000,9,   2160.8,2,   -999,  -999.0,-999.000,-999.0000,-999.000,  -999.0,-999.000, 12.0527,-999.000
    49RY9407_2,   P09,    66,  1,      5,    218,2,19940807,1857,  8.0138, 137.0230, 3060,    302.2,   9.3421,  34.5263,2,  34.5240,2,     73.7,2,     72.0,6,    38.48,3,    32.19,2,     0.00,2,     2.24,2, -999.000,9, -999.000,9, -999.000,9,-999.0000,9,  -999.00,9,   -999.0,1,-999.000,9,   2223.3,2,   -999,  -999.0,-999.000,-999.0000,-999.000,  -999.0,-999.000,  9.3085,-999.000
    49RY9407_2,   P09,    66,  1,      4,    206,2,19940807,1857,  8.0138, 137.0230, 3060,    402.6,   8.1291,  34.5407,2,  34.5421,2,     71.2,2,     70.2,2,    45.28,3,    35.08,2,     0.00,2,     2.42,2, -999.000,9, -999.000,9, -999.000,9,-999.0000,9,  -999.00,9,   -999.0,1,-999.000,9,   2245.9,2,   -999,  -999.0,-999.000,-999.0000,-999.000,  -999.0,-999.000,  8.0877,-999.000
    49RY9407_2,   P09,    66,  1,      3,    205,2,19940807,1857,  8.0138, 137.0230, 3060,    503.0,   7.1448,  34.5188,2,  34.5202,2,     78.7,2,     79.3,2,    53.13,3,    35.70,2,     0.00,2,     2.52,2, -999.000,9, -999.000,9, -999.000,9,-999.0000,9,  -999.00,9,   -999.0,1,-999.000,9,   2250.5,6,   -999,  -999.0,-999.000,-999.0000,-999.000,  -999.0,-999.000,  7.0965,-999.000
    49RY9407_2,   P09,    66,  1,      2,    216,2,19940807,1857,  8.0138, 137.0230, 3060,    603.9,   6.5259,  34.5294,2,  34.5297,2,     79.3,2,     76.3,2,    60.39,3,    37.17,2,     0.00,2,     2.63,2, -999.000,9, -999.000,9, -999.000,9,-999.0000,9,  -999.00,9,   -999.0,1,-999.000,9,   2264.6,2,   -999,  -999.0,-999.000,-999.0000,-999.000,  -999.0,-999.000,  6.4703,-999.000
    49RY9407_2,   P09,    66,  1,      1,    201,2,19940807,1857,  8.0138, 137.0230, 3060,    705.5,   5.9357,  34.5240,2,  34.5242,2,     81.4,2,     81.7,2,    67.99,3,    37.56,2,     0.00,2,     2.66,2, -999.000,9, -999.000,9, -999.000,9,-999.0000,9,  -999.00,9,   -999.0,9,-999.000,9,   -999.0,9,   -999,  -999.0,-999.000,-999.0000,-999.000,  -999.0,-999.000,  5.8734,-999.000
    49RY9407_2,   P09,    66,  1,     24,    222,2,19940807,1857,  8.0138, 137.0230, 3060,    806.0,   5.5551,  34.5274,2,  34.5289,2,     83.5,2,     81.8,2,    74.48,3,    38.19,2,     0.00,2,     2.71,2, -999.000,9, -999.000,9, -999.000,9,-999.0000,9,  -999.00,9,   -999.0,9,-999.000,9,   -999.0,9,   -999,  -999.0,-999.000,-999.0000,-999.000,  -999.0,-999.000,  5.4856,-999.000
    49RY9407_2,   P09,    66,  1,     23,    228,2,19940807,1857,  8.0138, 137.0230, 3060,    908.3,   4.9770,  34.5383,2,  34.5385,2,     86.7,2,     85.0,2,    83.58,3,    38.72,6,     0.00,6,     2.73,6, -999.000,9, -999.000,9, -999.000,9,-999.0000,9,  -999.00,9,   -999.0,9,-999.000,9,   -999.0,9,   -999,  -999.0,-999.000,-999.0000,-999.000,  -999.0,-999.000,  4.9021,-999.000
    49RY9407_2,   P09,    66,  1,     22,    227,2,19940807,1857,  8.0138, 137.0230, 3060,   1008.9,   4.2155,  34.5540,2,  34.5539,2,     88.1,2,     88.8,2,    99.18,3,    39.09,2,     0.00,2,     2.78,2, -999.000,9, -999.000,9, -999.000,9,-999.0000,9,  -999.00,9,   -999.0,9,-999.000,9,   -999.0,9,   -999,  -999.0,-999.000,-999.0000,-999.000,  -999.0,-999.000,  4.1373,-999.000
    49RY9407_2,   P09,    66,  1,     21,    226,2,19940807,1857,  8.0138, 137.0230, 3060,   1260.5,   3.5401,  34.5755,2,  34.5733,2,     96.2,2,     93.9,2,   111.11,3,    39.16,2,     0.00,2,     2.79,2, -999.000,9, -999.000,9, -999.000,9,-999.0000,9,  -999.00,9,   -999.0,9,-999.000,9,   -999.0,9,   -999,  -999.0,-999.000,-999.0000,-999.000,  -999.0,-999.000,  3.4466,-999.000
    49RY9407_2,   P09,    66,  1,     19,    210,2,19940807,1857,  8.0138, 137.0230, 3060,   1514.1,   2.8651,  34.6009,2,  34.6011,2,    103.4,2,    103.3,2,   125.87,3,    39.22,2,     0.00,2,     2.78,2, -999.000,9, -999.000,9, -999.000,9,-999.0000,9,  -999.00,9,   -999.0,9,-999.000,9,   -999.0,9,   -999,  -999.0,-999.000,-999.0000,-999.000,  -999.0,-999.000,  2.7576,-999.000
    49RY9407_2,   P09,    66,  1,     20,    203,2,19940807,1857,  8.0138, 137.0230, 3060,   1514.1,   2.8651,  34.6009,2,  34.6013,2,    103.4,2,    102.9,2,   125.92,3,    39.24,2,     0.00,2,     2.78,2, -999.000,9, -999.000,9, -999.000,9,-999.0000,9,  -999.00,9,   -999.0,9,-999.000,9,   -999.0,9,   -999,  -999.0,-999.000,-999.0000,-999.000,  1510.0,-999.000,  2.7576,-999.000
    49RY9407_2,   P09,    66,  1,     18,    221,2,19940807,1857,  8.0138, 137.0230, 3060,   1766.1,   2.4625,  34.6208,2,  34.6200,2,    108.4,2,    109.6,2,   133.43,3,    39.02,2,     0.00,2,     2.75,2, -999.000,9, -999.000,9, -999.000,5,   1.8630,2,    21.51,2,   -999.0,9,   7.879,2,   -999.0,9,   -999,  -999.0,-999.000,  0.0026,   0.200,  1766.0,   0.016,  2.3391,-999.000
    49RY9407_2,   P09,    66,  1,     17,    219,2,19940807,1857,  8.0138, 137.0230, 3060,   2020.0,   2.2744,  34.6302,2,  34.6296,2,    115.7,2,    114.4,6,   136.34,3,    38.91,6,     0.00,6,     2.73,6, -999.000,9, -999.000,9, -999.000,9,-999.0000,9,  -999.00,9,   -999.0,9,-999.000,9,   -999.0,9,   -999,  -999.0,-999.000,-999.0000,-999.000,  -999.0,-999.000,  2.1320,-999.000
    49RY9407_2,   P09,    66,  1,     16,    229,2,19940807,1857,  8.0138, 137.0230, 3060,   2276.6,   1.9954,  34.6471,2,  34.6463,2,    122.4,2,    123.6,2,   139.97,3,    38.37,6,     0.00,6,     2.70,6, -999.000,9, -999.000,9, -999.000,5,   1.8786,2,    21.45,2,   -999.0,9,   7.977,2,   -999.0,9,   -999,  -999.0,   1.993,  0.0031,   0.200,  2272.0,   0.016,  1.8352,-999.000
    49RY9407_2,   P09,    66,  1,     15,    217,2,19940807,1857,  8.0138, 137.0230, 3060,   2531.2,   1.8502,  34.6558,2,  34.6544,2,    130.6,2,    130.0,2,   142.33,3,    37.95,2,     0.00,2,     2.65,2, -999.000,9, -999.000,9, -999.000,9,-999.0000,9,  -999.00,9,   -999.0,9,-999.000,9,   -999.0,9,   -999,  -999.0,-999.000,-999.0000,-999.000,  -999.0,-999.000,  1.6699,-999.000
    49RY9407_2,   P09,    66,  1,     14,    204,2,19940807,1857,  8.0138, 137.0230, 3060,   2784.2,   1.6821,  34.6663,2,  34.6644,2,    139.8,2,    138.4,2,   143.76,3,    37.65,2,     0.00,2,     2.62,2, -999.000,9, -999.000,9, -999.000,9,-999.0000,9,  -999.00,9,   -999.0,9,-999.000,9,   -999.0,9,   -999,  -999.0,   1.681,-999.0000,-999.000,  2783.0,-999.000,  1.4818,-999.000
    49RY9407_2,   P09,    66,  1,     13,    214,2,19940807,1857,  8.0138, 137.0230, 3060,   3039.2,   1.6777,  34.6663,2,  34.6666,2,    140.6,2,    139.0,2,   144.02,3,    37.55,2,     0.00,2,     2.60,2, -999.000,9, -999.000,9, -999.000,5,   1.8950,2,    20.03,2,   -999.0,9,   8.060,2,   -999.0,9,   -999,  -999.0,-999.000,  0.0026,   0.200,  2752.0,   0.016,  1.4532,-999.000
    49RY9407_2,   P09,    66,  1,     12,    213,4,19940807,1857,  8.0138, 137.0230, 3060,   3182.0,   1.6698,  34.6678,2,  34.6674,2,    141.0,2,    140.3,2,   144.08,3,    37.46,2,     0.00,2,     2.59,2, -999.000,9, -999.000,9, -999.000,9,-999.0000,9,  -999.00,9,   -999.0,9,-999.000,9,   -999.0,9,   -999,  -999.0,-999.000,-999.0000,-999.000,  3177.0,-999.000,  1.4316,-999.000
    49RY9407_2,   P09,    66,  2,      0,      0,2,19940807,2115,  8.0307, 136.9918, 3710,      1.7,  29.0692,  34.0913,2,-999.0000,9,    200.7,2,    196.7,6,     1.25,3,     0.02,2,     0.00,2,     0.02,2, -999.000,9, -999.000,9, -999.000,9,-999.0000,9,  -999.00,9,   -999.0,1,-999.000,9,   1887.1,2,   -999,  -999.0,-999.000,-999.0000,-999.000,  -999.0,-999.000, 29.0688,-999.000
    49RY9407_2,   P09,    66,  2,     10,    224,2,19940807,2115,  8.0307, 136.9918, 3710,      3.0,  29.0741,  34.0924,2,  34.0969,2,    199.0,2,   -999.0,9,  -999.00,9,  -999.00,9,  -999.00,9,  -999.00,9,    1.584,2,    1.052,3,    1.115,2,   1.6652,2,    -1.03,2,   -999.0,9,   6.514,2,   -999.0,9,   -999,  -999.0,-999.000,  0.0023,   0.230,  -999.0,   0.011, 29.0734,   0.012
    49RY9407_2,   P09,    66,  2,      9,    223,2,19940807,2115,  8.0307, 136.9918, 3710,     10.0,  29.0722,  34.0935,2,  34.0932,2,    195.1,2,   -999.0,9,  -999.00,9,  -999.00,9,  -999.00,9,  -999.00,9, -999.000,9, -999.000,9, -999.000,9,-999.0000,9,  -999.00,9,   -999.0,9,-999.000,9,   -999.0,9,   -999,  -999.0,-999.000,-999.0000,-999.000,  -999.0,-999.000, 29.0698,-999.000
    49RY9407_2,   P09,    66,  2,      7,    220,2,19940807,2115,  8.0307, 136.9918, 3710,     24.5,  28.9653,  34.0931,2,  34.0894,2,    194.3,2,   -999.0,9,  -999.00,9,  -999.00,9,  -999.00,9,  -999.00,9, -999.000,9, -999.000,9, -999.000,9,-999.0000,9,  -999.00,9,   -999.0,9,-999.000,9,   -999.0,9,   -999,  -999.0,-999.000,-999.0000,-999.000,  -999.0,-999.000, 28.9594,-999.000
    49RY9407_2,   P09,    66,  2,      8,    212,2,19940807,2115,  8.0307, 136.9918, 3710,     24.8,  28.9756,  34.0899,2,  34.0930,2,    195.5,2,    196.7,2,     1.21,3,     0.01,2,     0.00,2,     0.01,2,    1.570,2,    1.019,3,    1.126,2,   1.6759,2,    -0.77,2,   -999.0,1,   6.745,2,   1888.8,2,   -999,  -999.0,-999.000,  0.0023,   0.230,  -999.0,   0.012, 28.9696,   0.012
    49RY9407_2,   P09,    66,  2,      6,    209,2,19940807,2115,  8.0307, 136.9918, 3710,     49.9,  28.7385,  34.1200,2,  34.1014,2,    199.0,2,    197.0,2,     1.21,3,     0.02,6,     0.00,6,     0.02,6,    1.608,2,    1.233,3,    1.216,2,   1.6710,2,    -1.29,2,   -999.0,1,   6.539,2,   1889.8,6,   -999,  -999.0,-999.000,  0.0021,   0.230,  -999.0,   0.011, 28.7265,   0.016
    49RY9407_2,   P09,    66,  2,      5,    218,2,19940807,2115,  8.0307, 136.9918, 3710,     50.5,  28.4979,  34.2166,2,  34.6884,4,    199.0,2,   -999.0,9,  -999.00,9,  -999.00,9,  -999.00,9,  -999.00,9, -999.000,9, -999.000,9, -999.000,9,-999.0000,9,  -999.00,9,   -999.0,9,-999.000,9,   -999.0,9,   -999,  -999.0,-999.000,-999.0000,-999.000,  -999.0,-999.000, 28.4859,-999.000
    49RY9407_2,   P09,    66,  2,      4,    206,2,19940807,2115,  8.0307, 136.9918, 3710,     75.6,  26.0420,  34.4599,2,  34.4691,2,    196.2,2,    197.5,6,     1.30,3,     0.00,2,     0.00,2,     0.02,2,    1.717,2,    1.197,3,    1.379,2,   1.6916,2,    -0.12,2,   -999.0,1,   6.712,2,   1894.2,2,   -999,  -999.0,-999.000,  0.0024,   0.230,  -999.0,   0.012, 26.0252,   0.016
    49RY9407_2,   P09,    66,  2,      3,    205,2,19940807,2115,  8.0307, 136.9918, 3710,    101.1,  23.1946,  34.7345,2,  34.7125,2,    180.1,2,   -999.0,9,  -999.00,9,  -999.00,9,  -999.00,9,  -999.00,9,    1.863,2,    1.220,3,    1.485,2,   1.6994,2,     0.86,2,   -999.0,9,   6.887,2,   -999.0,9,   -999,  -999.0,-999.000,  0.0024,   0.220,  -999.0,   0.012, 23.1739,   0.017
    49RY9407_2,   P09,    66,  2,      2,    216,2,19940807,2115,  8.0307, 136.9918, 3710,    151.0,  16.3908,  34.6738,2,  34.6849,2,    151.3,2,   -999.0,9,  -999.00,9,  -999.00,9,  -999.00,9,  -999.00,9,    1.887,2,    1.156,3,    1.635,2,   1.7057,2,     4.69,2,   -999.0,9,   7.068,2,   -999.0,9,   -999,  -999.0,-999.000,  0.0023,   0.220,  -999.0,   0.012, 16.3666,   0.018
    49RY9407_2,   P09,    66,  2,     24,    222,2,19940807,2115,  8.0307, 136.9918, 3710,    201.4,  12.2311,  34.5205,2,  34.5267,2,    111.6,2,   -999.0,9,  -999.00,9,  -999.00,9,  -999.00,9,  -999.00,9, -999.000,9, -999.000,9,    1.171,2,   1.7496,2,     8.84,2,   -999.0,9,   7.317,2,   -999.0,9,   -999,  -999.0,-999.000,  0.0024,   0.170,  -999.0,   0.014, 12.2046,   0.013
    49RY9407_2,   P09,    66,  2,      1,    201,2,19940807,2115,  8.0307, 136.9918, 3710,    202.2,  12.2283,  34.5224,2,  34.5252,2,    111.2,2,   -999.0,9,  -999.00,9,  -999.00,9,  -999.00,9,  -999.00,9,    1.071,2,    0.732,3,    1.206,2,-999.0000,5,  -999.00,5,   -999.0,9,-999.000,9,   -999.0,9,   -999,  -999.0,-999.000,-999.0000,-999.000,  -999.0,-999.000, 12.2017,   0.014
    49RY9407_2,   P09,    66,  2,     23,    228,2,19940807,2115,  8.0307, 136.9918, 3710,    301.1,   9.1317,  34.5228,2,  34.5254,2,     75.2,2,   -999.0,9,  -999.00,9,  -999.00,9,  -999.00,9,  -999.00,9,    0.297,2,    0.209,3, -999.000,9,-999.0000,9,  -999.00,9,   -999.0,9,-999.000,9,   -999.0,9,   -999,  -999.0,-999.000,-999.0000,-999.000,  -999.0,-999.000,  9.0987,-999.000
    49RY9407_2,   P09,    66,  2,     22,    227,2,19940807,2115,  8.0307, 136.9918, 3710,    402.3,   8.2528,  34.5290,2,  34.5317,2,     69.3,2,   -999.0,9,  -999.00,9,  -999.00,9,  -999.00,9,  -999.00,9,    0.159,2,    0.118,3,    0.293,2,   1.7824,2,     8.99,2,   -999.0,9,   7.543,2,   -999.0,9,   -999,  -999.0,-999.000,  0.0028,   0.170,  -999.0,   0.015,  8.2111,   0.006
    49RY9407_2,   P09,    66,  2,     21,    226,2,19940807,2115,  8.0307, 136.9918, 3710,    503.2,   7.4052,  34.5219,2,  34.5240,2,     77.3,2,   -999.0,9,  -999.00,9,  -999.00,9,  -999.00,9,  -999.00,9,    0.100,2,    0.081,3,    0.177,2,   1.7788,2,     9.50,2,   -999.0,9,   7.624,2,   -999.0,9,   -999,  -999.0,-999.000,  0.0029,   0.220,  -999.0,   0.013,  7.3559,   0.004
    49RY9407_2,   P09,    66,  2,     19,    210,2,19940807,2115,  8.0307, 136.9918, 3710,    602.9,   6.6285,  34.5145,2,  34.5155,2,     82.1,2,   -999.0,9,  -999.00,9,  -999.00,9,  -999.00,9,  -999.00,9,    0.065,2,    0.045,3,    0.109,2,   1.7771,2,    10.92,2,   -999.0,9,   7.562,3,   -999.0,9,   -999,  -999.0,-999.000,  0.0025,   0.200,  -999.0,   0.015,  6.5725,   0.004
    49RY9407_2,   P09,    66,  2,     20,    203,4,19940807,2115,  8.0307, 136.9918, 3710,    602.9,   6.6285,  34.5145,2,  34.5157,2,     82.1,2,   -999.0,9,  -999.00,9,  -999.00,9,  -999.00,9,  -999.00,9,    0.061,2,    0.030,3,    0.123,2,   1.7990,2,    10.68,2,   -999.0,9,   7.692,2,   -999.0,9,   -999,  -999.0,-999.000,  0.0025,   0.220,   603.0,   0.013,  6.5725,   0.004
    49RY9407_2,   P09,    66,  2,     18,    221,2,19940807,2115,  8.0307, 136.9918, 3710,    705.5,   6.2318,  34.5246,2,  34.5261,2,     80.6,2,   -999.0,9,  -999.00,9,  -999.00,9,  -999.00,9,  -999.00,9,    0.037,2,    0.040,3, -999.000,5,   1.8053,2,    11.75,2,   -999.0,9,   7.664,2,   -999.0,9,   -999,  -999.0,-999.000,  0.0027,   0.170,   706.0,   0.015,  6.1679,-999.000
    49RY9407_2,   P09,    66,  2,     17,    219,2,19940807,2115,  8.0307, 136.9918, 3710,    806.5,   5.6445,  34.5261,2,  34.5275,2,     81.6,2,   -999.0,9,  -999.00,9,  -999.00,9,  -999.00,9,  -999.00,9,    0.023,2,    0.023,3,    0.061,2,   1.8297,2,    13.11,2,   -999.0,9,   7.770,2,   -999.0,9,   -999,  -999.0,-999.000,  0.0032,   0.170,  -999.0,   0.015,  5.5745,   0.003
    49RY9407_2,   P09,    66,  2,     16,    229,2,19940807,2115,  8.0307, 136.9918, 3710,    907.0,   5.0121,  34.5362,2,  34.5389,2,     84.0,2,   -999.0,9,  -999.00,9,  -999.00,9,  -999.00,9,  -999.00,9,    0.017,2,    0.081,4,    0.042,2,   1.8283,2,    14.99,2,   -999.0,9,   7.737,2,   -999.0,9,   -999,  -999.0,   5.008,  0.0027,   0.170,   905.0,   0.015,  4.9370,   0.004
    49RY9407_2,   P09,    66,  2,     15,    217,2,19940807,2115,  8.0307, 136.9918, 3710,   1008.2,   4.4245,  34.5486,2,  34.5497,2,     87.7,2,   -999.0,9,  -999.00,9,  -999.00,9,  -999.00,9,  -999.00,9,    0.012,2,    0.359,4,    0.034,2,   1.8428,2,    17.18,2,   -999.0,9,   7.810,2,   -999.0,9,   -999,  -999.0,-999.000,  0.0027,   0.170,  -999.0,   0.015,  4.3448,   0.003
    49RY9407_2,   P09,    66,  2,     14,    204,2,19940807,2115,  8.0307, 136.9918, 3710,   1260.4,   3.5585,  34.5734,2,  34.5743,2,     94.3,2,   -999.0,9,  -999.00,9,  -999.00,9,  -999.00,9,  -999.00,9,    0.008,2,    0.188,4,    0.031,2,   1.8601,2,    19.15,2,   -999.0,9,   7.895,2,   -999.0,9,   -999,  -999.0,   3.564,  0.0024,   0.190,  1258.0,   0.017,  3.4648,   0.003
    49RY9407_2,   P09,    66,  2,     13,    214,2,19940807,2115,  8.0307, 136.9918, 3710,   1514.3,   2.8965,  34.5996,2,  34.6001,2,    101.3,2,   -999.0,9,  -999.00,9,  -999.00,9,  -999.00,9,  -999.00,9, -999.000,9, -999.000,9,    0.029,2,   1.8507,2,    20.75,2,   -999.0,9,   7.782,3,   -999.0,9,   -999,  -999.0,-999.000,  0.0030,   0.200,  1503.0,   0.016,  2.7886,   0.004
    49RY9407_2,   P09,    66,  2,     12,    213,3,19940807,2115,  8.0307, 136.9918, 3710,   1514.5,   2.8955,  34.5999,2,  34.5997,2,    101.3,2,   -999.0,9,  -999.00,9,  -999.00,9,  -999.00,9,  -999.00,9,    0.006,2,    0.000,3, -999.000,9,-999.0000,9,  -999.00,9,   -999.0,9,-999.000,9,   -999.0,9,   -999,  -999.0,-999.000,-999.0000,-999.000,  1511.0,-999.000,  2.7876,-999.000