BOTTLE,20020306WHPSIOdm
EXPOCODE,SECT_ID,STNNBR,CASTNO,SAMPNO,BTLNBR,BTLNBR_FLAG_W,DATE,TIME,LATITUDE,LONGITUDE,DEPTH,CTDPRS,CTDTMP,CTDSAL,CTDSAL_FLAG_W,SALNTY,SALNTY_FLAG_W,CTDOXY,CTDOXY_FLAG_W,OXYGEN,OXYGEN_FLAG_W,SILCAT,SILCAT_FLAG_W,NITRAT,NITRAT_FLAG_W,NITRIT,NITRIT_FLAG_W,PHSPHT,PHSPHT_FLAG_W,CFC-11,CFC-11_FLAG_W,CFC-12,CFC-12_FLAG_W,TRITUM,TRITUM_FLAG_W,HELIUM,HELIUM_FLAG_W,DELHE3,DELHE3_FLAG_W,DELC14,DELC14_FLAG_W,NEON,NEON_FLAG_W,TCARBN,TCARBN_FLAG_W,CTDRAW,C14ERR,REVTMP,HELIER,DELHER,REVPRS,NEONER,THETA,TRITER
,,,,,,,,,,,,DBAR,ITS-90,PSS-78,,PSS-78,,UMOL/KG,,UMOL/KG,,UMOL/KG,,UMOL/KG,,UMOL/KG,,UMOL/KG,,PMOL/KG,,PMOL/KG,,TU,,NMOL/KG,,PERCNT,,/MILLE,,NMOL/KG,,UMOL/KG,,,/MILLE,ITS-90,NMOL/KG,PERCNT,DBAR,NMOL/KG,DEG C,TU
    49RY9407_1,   P09,     7,  1,      0,      0,2,19940709,1022, 33.3255, 137.0138, 2740,      0.0,  27.0716,  34.0609,2,-999.0000,9,    226.0,3,    206.5,6,     2.34,6,     0.05,6,     0.00,6,     0.00,6, -999.000,9, -999.000,9, -999.000,9,-999.0000,9,  -999.00,9,   -999.0,9,-999.000,9,   -999.0,9,   -999,  -999.0,-999.000,-999.0000,-999.000,  -999.0,-999.000, 27.0716,-999.000
    49RY9407_1,   P09,     7,  1,     23,    228,2,19940709,1022, 33.3255, 137.0138, 2740,      9.6,  26.0756,  34.0604,2,  34.0820,2,    223.6,3,    210.4,2,     2.11,2,     0.01,2,     0.00,2,     0.00,2, -999.000,9, -999.000,9, -999.000,9,-999.0000,9,  -999.00,9,   -999.0,9,-999.000,9,   -999.0,9,   -999,  -999.0,-999.000,-999.0000,-999.000,  -999.0,-999.000, 26.0734,-999.000
    49RY9407_1,   P09,     7,  1,     21,    226,2,19940709,1022, 33.3255, 137.0138, 2740,     24.4,  23.0274,  34.2611,2,  34.2693,2,    228.4,3,    221.8,2,     2.23,2,     0.02,2,     0.00,2,     0.02,2, -999.000,9, -999.000,9, -999.000,9,-999.0000,9,  -999.00,9,   -999.0,9,-999.000,9,   -999.0,9,   -999,  -999.0,-999.000,-999.0000,-999.000,  -999.0,-999.000, 23.0224,-999.000
    49RY9407_1,   P09,     7,  1,     22,    227,2,19940709,1022, 33.3255, 137.0138, 2740,     24.4,  23.0274,  34.2611,2,  34.2707,2,    228.4,3,    221.7,2,     2.27,2,     0.02,2,     0.00,2,     0.01,2, -999.000,9, -999.000,9, -999.000,9,-999.0000,9,  -999.00,9,   -999.0,9,-999.000,9,   -999.0,9,   -999,  -999.0,-999.000,-999.0000,-999.000,  -999.0,-999.000, 23.0224,-999.000
    49RY9407_1,   P09,     7,  1,     20,    225,4,19940709,1022, 33.3255, 137.0138, 2740,     49.9,  19.9904,  34.6037,2,  34.5799,2,    217.1,3,    213.1,2,     3.74,2,     1.29,2,     0.22,2,     0.15,2, -999.000,9, -999.000,9, -999.000,9,-999.0000,9,  -999.00,9,   -999.0,9,-999.000,9,   -999.0,9,   -999,  -999.0,-999.000,-999.0000,-999.000,  -999.0,-999.000, 19.9813,-999.000
    49RY9407_1,   P09,     7,  1,     18,    223,2,19940709,1022, 33.3255, 137.0138, 2740,    100.9,  16.9012,  34.6400,2,  34.6384,2,    194.8,3,    187.4,2,    10.13,6,     7.89,6,     0.03,6,     0.54,6, -999.000,9, -999.000,9, -999.000,9,-999.0000,9,  -999.00,9,   -999.0,9,-999.000,9,   -999.0,9,   -999,  -999.0,-999.000,-999.0000,-999.000,  -999.0,-999.000, 16.8847,-999.000
    49RY9407_1,   P09,     7,  1,     19,    224,2,19940709,1022, 33.3255, 137.0138, 2740,    100.9,  16.9012,  34.6400,2,  34.6407,2,    194.8,3,    188.2,6,    10.14,2,     7.91,2,     0.03,2,     0.54,2, -999.000,9, -999.000,9, -999.000,9,-999.0000,9,  -999.00,9,   -999.0,9,-999.000,9,   -999.0,9,   -999,  -999.0,-999.000,-999.0000,-999.000,  -999.0,-999.000, 16.8847,-999.000
    49RY9407_1,   P09,     7,  1,     17,    222,2,19940709,1022, 33.3255, 137.0138, 2740,    125.4,  15.8759,  34.6153,2,  34.6268,2,    188.6,3,    182.3,2,    12.93,2,     9.67,2,     0.02,2,     0.66,2, -999.000,9, -999.000,9, -999.000,9,-999.0000,9,  -999.00,9,   -999.0,9,-999.000,9,   -999.0,9,   -999,  -999.0,-999.000,-999.0000,-999.000,  -999.0,-999.000, 15.8563,-999.000
    49RY9407_1,   P09,     7,  1,     16,    221,2,19940709,1022, 33.3255, 137.0138, 2740,    150.6,  15.2222,  34.5883,2,  34.5956,2,    180.3,3,    180.5,6,    14.93,2,    10.93,2,     0.01,2,     0.74,2, -999.000,9, -999.000,9, -999.000,9,-999.0000,9,  -999.00,9,   -999.0,9,-999.000,9,   -999.0,9,   -999,  -999.0,-999.000,-999.0000,-999.000,  -999.0,-999.000, 15.1993,-999.000
    49RY9407_1,   P09,     7,  1,     15,    220,2,19940709,1022, 33.3255, 137.0138, 2740,    200.7,  13.0311,  34.5051,2,  34.5066,2,    170.2,3,    164.7,2,    24.19,2,    15.61,2,     0.01,2,     1.07,2, -999.000,9, -999.000,9, -999.000,9,-999.0000,9,  -999.00,9,   -999.0,9,-999.000,9,   -999.0,9,   -999,  -999.0,-999.000,-999.0000,-999.000,  -999.0,-999.000, 13.0036,-999.000
    49RY9407_1,   P09,     7,  1,     14,    219,2,19940709,1022, 33.3255, 137.0138, 2740,    301.4,  10.3249,  34.3711,2,  34.3814,2,    149.3,3,    142.6,2,    41.28,2,    22.31,2,     0.01,2,     1.55,2, -999.000,9, -999.000,9, -999.000,9,-999.0000,9,  -999.00,9,   -999.0,9,-999.000,9,   -999.0,9,   -999,  -999.0,-999.000,-999.0000,-999.000,  -999.0,-999.000, 10.2893,-999.000
    49RY9407_1,   P09,     7,  1,     13,    218,4,19940709,1022, 33.3255, 137.0138, 2740,    402.2,   7.5145,  34.2873,2,  34.2992,2,    115.1,3,    114.0,2,    64.76,2,    29.71,2,     0.00,2,     2.09,2, -999.000,9, -999.000,9, -999.000,9,-999.0000,9,  -999.00,9,   -999.0,9,-999.000,9,   -999.0,9,   -999,  -999.0,-999.000,-999.0000,-999.000,  -999.0,-999.000,  7.4751,-999.000
    49RY9407_1,   P09,     7,  1,     11,    216,2,19940709,1022, 33.3255, 137.0138, 2740,    603.7,   4.6635,  34.2978,2,  34.2970,2,     73.7,2,     71.5,2,   101.34,2,    38.08,2,     0.00,2,     2.72,2, -999.000,9, -999.000,9, -999.000,9,-999.0000,9,  -999.00,9,   -999.0,9,-999.000,9,   -999.0,9,   -999,  -999.0,-999.000,-999.0000,-999.000,  -999.0,-999.000,  4.6167,-999.000
    49RY9407_1,   P09,     7,  1,     12,    217,2,19940709,1022, 33.3255, 137.0138, 2740,    603.7,   4.6635,  34.2978,2,  34.2972,2,     73.7,2,     73.0,2,   101.19,2,    38.05,2,     0.00,2,     2.72,2, -999.000,9, -999.000,9, -999.000,9,-999.0000,9,  -999.00,9,   -999.0,9,-999.000,9,   -999.0,9,   -999,  -999.0,-999.000,-999.0000,-999.000,  -999.0,-999.000,  4.6167,-999.000
    49RY9407_1,   P09,     7,  1,     10,    214,2,19940709,1022, 33.3255, 137.0138, 2740,    704.4,   4.0265,  34.3490,2,  34.3482,2,     66.0,2,     65.7,2,   113.72,2,    39.66,2,     0.00,2,     2.83,2, -999.000,9, -999.000,9, -999.000,9,-999.0000,9,  -999.00,9,   -999.0,9,-999.000,9,   -999.0,9,   -999,  -999.0,-999.000,-999.0000,-999.000,  -999.0,-999.000,  3.9749,-999.000
    49RY9407_1,   P09,     7,  1,      9,    213,4,19940709,1022, 33.3255, 137.0138, 2740,    805.6,   3.6598,  34.3796,2,  34.3828,2,     61.8,2,     62.4,2,   121.39,2,    40.38,2,     0.00,2,     2.89,2, -999.000,9, -999.000,9, -999.000,9,-999.0000,9,  -999.00,9,   -999.0,9,-999.000,9,   -999.0,9,   -999,  -999.0,   3.659,-999.0000,-999.000,   806.0,-999.000,  3.6023,-999.000
    49RY9407_1,   P09,     7,  1,      8,    212,2,19940709,1022, 33.3255, 137.0138, 2740,   1007.5,   3.0140,  34.4726,2,  34.4706,2,     68.7,2,     71.0,6,   132.72,6,    40.40,6,     0.00,6,     2.88,6, -999.000,9, -999.000,9, -999.000,9,-999.0000,9,  -999.00,9,   -999.0,9,-999.000,9,   -999.0,9,   -999,  -999.0,-999.000,-999.0000,-999.000,  -999.0,-999.000,  2.9455,-999.000
    49RY9407_1,   P09,     7,  1,      6,    209,4,19940709,1022, 33.3255, 137.0138, 2740,   1260.9,   2.4980,  34.5347,2,  34.5490,3,     83.9,2,     85.7,6,   140.40,2,    40.01,2,     0.00,2,     2.83,2, -999.000,9, -999.000,9, -999.000,9,-999.0000,9,  -999.00,9,   -999.0,9,-999.000,9,   -999.0,9,   -999,  -999.0,-999.000,-999.0000,-999.000,  -999.0,-999.000,  2.4147,-999.000
    49RY9407_1,   P09,     7,  1,      7,    210,2,19940709,1022, 33.3255, 137.0138, 2740,   1260.9,   2.4980,  34.5347,2,  34.5370,2,     83.9,2,     85.1,2,   140.27,6,    39.92,6,     0.00,6,     2.83,6, -999.000,9, -999.000,9, -999.000,9,-999.0000,9,  -999.00,9,   -999.0,9,-999.000,9,   -999.0,9,   -999,  -999.0,-999.000,-999.0000,-999.000,  -999.0,-999.000,  2.4147,-999.000
    49RY9407_1,   P09,     7,  1,      5,    207,2,19940709,1022, 33.3255, 137.0138, 2740,   1766.4,   2.0712,  34.5933,2,  34.5931,2,    107.0,2,    106.6,2,   143.63,2,    38.95,2,     0.00,2,     2.74,2, -999.000,9, -999.000,9, -999.000,9,-999.0000,9,  -999.00,9,   -999.0,9,-999.000,9,   -999.0,9,   -999,  -999.0,-999.000,-999.0000,-999.000,  -999.0,-999.000,  1.9531,-999.000
    49RY9407_1,   P09,     7,  1,      4,    206,2,19940709,1022, 33.3255, 137.0138, 2740,   2021.0,   1.8997,  34.6168,2,  34.6189,2,    117.9,2,    117.3,2,   143.99,2,    38.31,2,     0.00,2,     2.69,2, -999.000,9, -999.000,9, -999.000,9,-999.0000,9,  -999.00,9,   -999.0,9,-999.000,9,   -999.0,9,   -999,  -999.0,-999.000,-999.0000,-999.000,  -999.0,-999.000,  1.7631,-999.000
    49RY9407_1,   P09,     7,  1,      2,    204,4,19940709,1022, 33.3255, 137.0138, 2740,   2276.4,   1.8164,  34.6294,2,  34.6268,2,    124.4,2,    123.1,2,   144.12,2,    38.03,2,     0.00,2,     2.66,2, -999.000,9, -999.000,9, -999.000,9,-999.0000,9,  -999.00,9,   -999.0,9,-999.000,9,   -999.0,9,   -999,  -999.0,   1.811,-999.0000,-999.000,  2276.0,-999.000,  1.6594,-999.000
    49RY9407_1,   P09,     7,  1,      3,    205,2,19940709,1022, 33.3255, 137.0138, 2740,   2276.4,   1.8164,  34.6294,2,  34.6285,2,    124.4,2,    124.0,2,   144.15,2,    38.01,2,     0.00,2,     2.66,2, -999.000,9, -999.000,9, -999.000,9,-999.0000,9,  -999.00,9,   -999.0,9,-999.000,9,   -999.0,9,   -999,  -999.0,-999.000,-999.0000,-999.000,  -999.0,-999.000,  1.6594,-999.000
    49RY9407_1,   P09,     7,  1,      1,    201,2,19940709,1022, 33.3255, 137.0138, 2740,   2693.0,   1.6556,  34.6534,2,  34.6583,3,    136.3,2,    135.3,6,   143.80,6,    37.28,6,     0.00,6,     2.59,6, -999.000,9, -999.000,9, -999.000,9,-999.0000,9,  -999.00,9,   -999.0,9,-999.000,9,   -999.0,9,   -999,  -999.0,-999.000,-999.0000,-999.000,  -999.0,-999.000,  1.4643,-999.000
    49RY9407_1,   P09,     8,  1,     21,    226,2,19940709,1354, 33.1708, 137.0130, 2940,      9.7,  23.2282,  34.3140,2,  34.3169,2,    215.8,3,   -999.0,9,  -999.00,9,  -999.00,9,  -999.00,9,  -999.00,9, -999.000,9, -999.000,9, -999.000,9,-999.0000,9,  -999.00,9,   -999.0,9,-999.000,9,   -999.0,9,   -999,  -999.0,-999.000,-999.0000,-999.000,  -999.0,-999.000, 23.2262,-999.000
    49RY9407_1,   P09,     8,  1,     20,    225,2,19940709,1354, 33.1708, 137.0130, 2940,     25.2,  19.4484,  34.5468,2,  34.5206,2,    206.4,3,   -999.0,9,  -999.00,9,  -999.00,9,  -999.00,9,  -999.00,9, -999.000,9, -999.000,9, -999.000,9,-999.0000,9,  -999.00,9,   -999.0,9,-999.000,9,   -999.0,9,   -999,  -999.0,-999.000,-999.0000,-999.000,  -999.0,-999.000, 19.4439,-999.000
    49RY9407_1,   P09,     8,  1,     18,    223,2,19940709,1354, 33.1708, 137.0130, 2940,     49.7,  17.5349,  34.6555,2,  34.6488,2,    183.4,3,   -999.0,9,  -999.00,9,  -999.00,9,  -999.00,9,  -999.00,9, -999.000,9, -999.000,9, -999.000,9,-999.0000,9,  -999.00,9,   -999.0,9,-999.000,9,   -999.0,9,   -999,  -999.0,-999.000,-999.0000,-999.000,  -999.0,-999.000, 17.5266,-999.000
    49RY9407_1,   P09,     8,  1,     19,    224,2,19940709,1354, 33.1708, 137.0130, 2940,     49.7,  17.5349,  34.6555,2,  34.6486,2,    183.4,3,   -999.0,9,  -999.00,9,  -999.00,9,  -999.00,9,  -999.00,9, -999.000,9, -999.000,9, -999.000,9,-999.0000,9,  -999.00,9,   -999.0,9,-999.000,9,   -999.0,9,   -999,  -999.0,-999.000,-999.0000,-999.000,  -999.0,-999.000, 17.5266,-999.000
    49RY9407_1,   P09,     8,  1,     17,    222,2,19940709,1354, 33.1708, 137.0130, 2940,    100.2,  15.4533,  34.6126,2,  34.6149,2,    174.1,3,   -999.0,9,  -999.00,9,  -999.00,9,  -999.00,9,  -999.00,9, -999.000,9, -999.000,9, -999.000,9,-999.0000,9,  -999.00,9,   -999.0,9,-999.000,9,   -999.0,9,   -999,  -999.0,-999.000,-999.0000,-999.000,  -999.0,-999.000, 15.4379,-999.000
    49RY9407_1,   P09,     8,  1,     16,    221,2,19940709,1354, 33.1708, 137.0130, 2940,    200.9,  12.8453,  34.4984,2,  34.4938,2,    159.8,3,   -999.0,9,  -999.00,9,  -999.00,9,  -999.00,9,  -999.00,9, -999.000,9, -999.000,9, -999.000,9,-999.0000,9,  -999.00,9,   -999.0,9,-999.000,9,   -999.0,9,   -999,  -999.0,  12.852,-999.0000,-999.000,   203.0,-999.000, 12.8180,-999.000
    49RY9407_1,   P09,     8,  1,     15,    220,2,19940709,1354, 33.1708, 137.0130, 2940,    301.5,   9.8971,  34.3566,2,  34.3565,2,    137.7,3,   -999.0,9,  -999.00,9,  -999.00,9,  -999.00,9,  -999.00,9, -999.000,9, -999.000,9, -999.000,9,-999.0000,9,  -999.00,9,   -999.0,9,-999.000,9,   -999.0,9,   -999,  -999.0,-999.000,-999.0000,-999.000,  -999.0,-999.000,  9.8625,-999.000
    49RY9407_1,   P09,     8,  1,     14,    219,2,19940709,1354, 33.1708, 137.0130, 2940,    402.0,   7.8859,  34.2928,2,  34.2951,2,    111.2,3,   -999.0,9,  -999.00,9,  -999.00,9,  -999.00,9,  -999.00,9, -999.000,9, -999.000,9, -999.000,9,-999.0000,9,  -999.00,9,   -999.0,9,-999.000,9,   -999.0,9,   -999,  -999.0,-999.000,-999.0000,-999.000,  -999.0,-999.000,  7.8454,-999.000
    49RY9407_1,   P09,     8,  1,     13,    218,4,19940709,1354, 33.1708, 137.0130, 2940,    503.2,   5.8835,  34.2528,2,  34.2510,2,     88.5,3,   -999.0,9,  -999.00,9,  -999.00,9,  -999.00,9,  -999.00,9, -999.000,9, -999.000,9, -999.000,9,-999.0000,9,  -999.00,9,   -999.0,9,-999.000,9,   -999.0,9,   -999,  -999.0,-999.000,-999.0000,-999.000,  -999.0,-999.000,  5.8402,-999.000
    49RY9407_1,   P09,     8,  1,     12,    217,2,19940709,1354, 33.1708, 137.0130, 2940,    704.3,   4.2261,  34.3438,2,  34.3346,2,     63.8,3,   -999.0,9,  -999.00,9,  -999.00,9,  -999.00,9,  -999.00,9, -999.000,9, -999.000,9, -999.000,9,-999.0000,9,  -999.00,9,   -999.0,9,-999.000,9,   -999.0,9,   -999,  -999.0,-999.000,-999.0000,-999.000,  -999.0,-999.000,  4.1734,-999.000
    49RY9407_1,   P09,     8,  1,     11,    216,2,19940709,1354, 33.1708, 137.0130, 2940,    805.7,   3.8391,  34.3752,2,  34.3734,2,     59.2,3,   -999.0,9,  -999.00,9,  -999.00,9,  -999.00,9,  -999.00,9, -999.000,9, -999.000,9, -999.000,9,-999.0000,9,  -999.00,9,   -999.0,9,-999.000,9,   -999.0,9,   -999,  -999.0,-999.000,-999.0000,-999.000,  -999.0,-999.000,  3.7805,-999.000
    49RY9407_1,   P09,     8,  1,     10,    214,2,19940709,1354, 33.1708, 137.0130, 2940,    906.7,   3.4391,  34.4177,2,  34.4186,2,     59.6,3,   -999.0,9,  -999.00,9,  -999.00,9,  -999.00,9,  -999.00,9, -999.000,9, -999.000,9, -999.000,9,-999.0000,9,  -999.00,9,   -999.0,9,-999.000,9,   -999.0,9,   -999,  -999.0,-999.000,-999.0000,-999.000,  -999.0,-999.000,  3.3753,-999.000
    49RY9407_1,   P09,     8,  1,      9,    213,2,19940709,1354, 33.1708, 137.0130, 2940,   1007.5,   3.1379,  34.4534,2,  34.4525,2,     63.5,3,   -999.0,9,  -999.00,9,  -999.00,9,  -999.00,9,  -999.00,9, -999.000,9, -999.000,9, -999.000,9,-999.0000,9,  -999.00,9,   -999.0,9,-999.000,9,   -999.0,9,   -999,  -999.0,   3.143,-999.0000,-999.000,  1006.0,-999.000,  3.0685,-999.000
    49RY9407_1,   P09,     8,  1,      7,    210,2,19940709,1354, 33.1708, 137.0130, 2940,   1260.5,   2.6599,  34.5125,2,  34.5147,2,     77.7,3,   -999.0,9,  -999.00,9,  -999.00,9,  -999.00,9,  -999.00,9, -999.000,9, -999.000,9, -999.000,9,-999.0000,9,  -999.00,9,   -999.0,9,-999.000,9,   -999.0,9,   -999,  -999.0,-999.000,-999.0000,-999.000,  -999.0,-999.000,  2.5751,-999.000
    49RY9407_1,   P09,     8,  1,      8,    212,2,19940709,1354, 33.1708, 137.0130, 2940,   1260.5,   2.6599,  34.5125,2,  34.5145,2,     77.7,3,   -999.0,9,  -999.00,9,  -999.00,9,  -999.00,9,  -999.00,9, -999.000,9, -999.000,9, -999.000,9,-999.0000,9,  -999.00,9,   -999.0,9,-999.000,9,   -999.0,9,   -999,  -999.0,-999.000,-999.0000,-999.000,  -999.0,-999.000,  2.5751,-999.000
    49RY9407_1,   P09,     8,  1,      6,    209,4,19940709,1354, 33.1708, 137.0130, 2940,   1513.5,   2.3643,  34.5534,2,  34.5551,2,     91.5,3,   -999.0,9,  -999.00,9,  -999.00,9,  -999.00,9,  -999.00,9, -999.000,9, -999.000,9, -999.000,9,-999.0000,9,  -999.00,9,   -999.0,9,-999.000,9,   -999.0,9,   -999,  -999.0,-999.000,-999.0000,-999.000,  -999.0,-999.000,  2.2628,-999.000
    49RY9407_1,   P09,     8,  1,      4,    206,4,19940709,1354, 33.1708, 137.0130, 2940,   2021.2,   1.9478,  34.6102,2,  34.6106,2,    115.9,3,   -999.0,9,  -999.00,9,  -999.00,9,  -999.00,9,  -999.00,9, -999.000,9, -999.000,9, -999.000,9,-999.0000,9,  -999.00,9,   -999.0,9,-999.000,9,   -999.0,9,   -999,  -999.0,-999.000,-999.0000,-999.000,  -999.0,-999.000,  1.8105,-999.000
    49RY9407_1,   P09,     8,  1,      5,    207,2,19940709,1354, 33.1708, 137.0130, 2940,   2021.2,   1.9478,  34.6102,2,  34.6108,2,    115.9,3,   -999.0,9,  -999.00,9,  -999.00,9,  -999.00,9,  -999.00,9, -999.000,9, -999.000,9, -999.000,9,-999.0000,9,  -999.00,9,   -999.0,9,-999.000,9,   -999.0,9,   -999,  -999.0,-999.000,-999.0000,-999.000,  -999.0,-999.000,  1.8105,-999.000
    49RY9407_1,   P09,     8,  1,      2,    204,4,19940709,1354, 33.1708, 137.0130, 2940,   2530.6,   1.7063,  34.6447,2,  34.6451,2,    134.1,3,   -999.0,9,  -999.00,9,  -999.00,9,  -999.00,9,  -999.00,9, -999.000,9, -999.000,9, -999.000,9,-999.0000,9,  -999.00,9,   -999.0,9,-999.000,9,   -999.0,9,   -999,  -999.0,   1.706,-999.0000,-999.000,  2531.0,-999.000,  1.5288,-999.000
    49RY9407_1,   P09,     8,  1,      3,    205,2,19940709,1354, 33.1708, 137.0130, 2940,   2530.6,   1.7063,  34.6447,2,  34.6429,2,    134.1,3,   -999.0,9,  -999.00,9,  -999.00,9,  -999.00,9,  -999.00,9, -999.000,9, -999.000,9, -999.000,9,-999.0000,9,  -999.00,9,   -999.0,9,-999.000,9,   -999.0,9,   -999,  -999.0,-999.000,-999.0000,-999.000,  -999.0,-999.000,  1.5288,-999.000
    49RY9407_1,   P09,     8,  1,      1,    201,2,19940709,1354, 33.1708, 137.0130, 2940,   2951.0,   1.5475,  34.6672,2,  34.6697,2,    146.5,3,   -999.0,9,  -999.00,9,  -999.00,9,  -999.00,9,  -999.00,9, -999.000,9, -999.000,9, -999.000,9,-999.0000,9,  -999.00,9,   -999.0,9,-999.000,9,   -999.0,9,   -999,  -999.0,-999.000,-999.0000,-999.000,  -999.0,-999.000,  1.3343,-999.000