BOTTLE,20020306WHPSIOdm
EXPOCODE,SECT_ID,STNNBR,CASTNO,SAMPNO,BTLNBR,BTLNBR_FLAG_W,DATE,TIME,LATITUDE,LONGITUDE,DEPTH,CTDPRS,CTDTMP,CTDSAL,CTDSAL_FLAG_W,SALNTY,SALNTY_FLAG_W,CTDOXY,CTDOXY_FLAG_W,OXYGEN,OXYGEN_FLAG_W,SILCAT,SILCAT_FLAG_W,NITRAT,NITRAT_FLAG_W,NITRIT,NITRIT_FLAG_W,PHSPHT,PHSPHT_FLAG_W,CFC-11,CFC-11_FLAG_W,CFC-12,CFC-12_FLAG_W,TRITUM,TRITUM_FLAG_W,HELIUM,HELIUM_FLAG_W,DELHE3,DELHE3_FLAG_W,DELC14,DELC14_FLAG_W,NEON,NEON_FLAG_W,TCARBN,TCARBN_FLAG_W,CTDRAW,C14ERR,REVTMP,HELIER,DELHER,REVPRS,NEONER,THETA,TRITER
,,,,,,,,,,,,DBAR,ITS-90,PSS-78,,PSS-78,,UMOL/KG,,UMOL/KG,,UMOL/KG,,UMOL/KG,,UMOL/KG,,UMOL/KG,,PMOL/KG,,PMOL/KG,,TU,,NMOL/KG,,PERCNT,,/MILLE,,NMOL/KG,,UMOL/KG,,,/MILLE,ITS-90,NMOL/KG,PERCNT,DBAR,NMOL/KG,DEG C,TU
    49RY9407_1,   P09,    36,  2,      4,    206,2,19940717,1130, 22.6048, 137.2608, 5075,    603.0,   7.8455,  34.1601,2,  34.1588,2,    134.3,3,    141.3,2,    48.67,2,    27.21,2,     0.00,2,     1.92,2, -999.000,9, -999.000,9, -999.000,9,-999.0000,9,  -999.00,9,   -999.0,1,-999.000,9,   2187.5,2,   -999,  -999.0,-999.000,-999.0000,-999.000,  -999.0,-999.000,  7.7843,-999.000
    49RY9407_1,   P09,    36,  2,      3,    205,2,19940717,1130, 22.6048, 137.2608, 5075,    703.5,   6.2029,  34.1556,2,  34.1572,2,     86.4,3,     98.4,2,    69.09,2,    33.97,2,     0.00,2,     2.42,2, -999.000,9, -999.000,9, -999.000,9,-999.0000,9,  -999.00,9,   -999.0,1,-999.000,9,   2244.3,2,   -999,  -999.0,-999.000,-999.0000,-999.000,  -999.0,-999.000,  6.1398,-999.000
    49RY9407_1,   P09,    36,  2,      2,    216,2,19940717,1130, 22.6048, 137.2608, 5075,    803.2,   5.1872,  34.2571,2,  34.2546,2,     63.4,3,     68.4,6,    88.17,6,    38.57,6,     0.00,6,     2.74,6, -999.000,9, -999.000,9, -999.000,9,-999.0000,9,  -999.00,9,   -999.0,1,-999.000,9,   2289.6,2,   -999,  -999.0,-999.000,-999.0000,-999.000,  -999.0,-999.000,  5.1206,-999.000
    49RY9407_1,   P09,    36,  2,      1,    201,2,19940717,1130, 22.6048, 137.2608, 5075,    906.1,   4.5884,  34.3551,2,  34.3557,2,     56.4,3,     62.5,2,   100.66,2,    40.22,2,     0.00,2,     2.85,2, -999.000,9, -999.000,9, -999.000,9,-999.0000,9,  -999.00,9,   -999.0,1,-999.000,9,   2311.6,2,   -999,  -999.0,-999.000,-999.0000,-999.000,  -999.0,-999.000,  4.5166,-999.000
    49RY9407_1,   P09,    36,  2,     24,    230,2,19940717,1130, 22.6048, 137.2608, 5075,   1006.3,   4.0812,  34.4142,2,  34.4155,2,     60.7,2,     62.6,2,   111.53,2,    40.78,2,     0.00,2,     2.89,2, -999.000,9, -999.000,9, -999.000,9,-999.0000,9,  -999.00,9,   -999.0,1,-999.000,9,   2323.3,2,   -999,  -999.0,-999.000,-999.0000,-999.000,  -999.0,-999.000,  4.0046,-999.000
    49RY9407_1,   P09,    36,  2,     22,    227,2,19940717,1130, 22.6048, 137.2608, 5075,   1260.8,   3.2381,  34.4800,2,  34.4763,2,     69.8,2,     68.7,6,   129.16,2,    41.22,2,     0.00,2,     2.92,2, -999.000,9, -999.000,9, -999.000,9,-999.0000,9,  -999.00,9,   -999.0,1,-999.000,9,   2342.2,2,   -999,  -999.0,-999.000,-999.0000,-999.000,  -999.0,-999.000,  3.1476,-999.000
    49RY9407_1,   P09,    36,  2,     23,    228,2,19940717,1130, 22.6048, 137.2608, 5075,   1260.8,   3.2381,  34.4800,2,  34.4749,2,     69.8,2,     69.9,2,   129.26,2,    41.32,2,     0.00,2,     2.91,2, -999.000,9, -999.000,9, -999.000,9,-999.0000,9,  -999.00,9,   -999.0,1,-999.000,9,   2341.5,6,   -999,  -999.0,-999.000,-999.0000,-999.000,  -999.0,-999.000,  3.1476,-999.000
    49RY9407_1,   P09,    36,  2,     21,    226,2,19940717,1130, 22.6048, 137.2608, 5075,   1513.5,   2.5443,  34.5408,2,  34.5332,3,     83.8,2,     85.1,2,   140.07,6,    40.49,6,     0.01,6,     2.84,6, -999.000,9, -999.000,9, -999.000,9,-999.0000,9,  -999.00,9,   -999.0,1,-999.000,9,   2346.9,2,   -999,  -999.0,-999.000,-999.0000,-999.000,  -999.0,-999.000,  2.4407,-999.000
    49RY9407_1,   P09,    36,  2,     20,    225,2,19940717,1130, 22.6048, 137.2608, 5075,   1767.5,   2.2639,  34.5869,2,  34.5868,2,    101.8,2,    102.9,2,   142.40,2,    39.65,2,     0.00,2,     2.77,2, -999.000,9, -999.000,9, -999.000,9,-999.0000,9,  -999.00,9,   -999.0,1,-999.000,9,   2342.6,2,   -999,  -999.0,-999.000,-999.0000,-999.000,  -999.0,-999.000,  2.1431,-999.000
    49RY9407_1,   P09,    36,  2,     19,    224,2,19940717,1130, 22.6048, 137.2608, 5075,   2020.6,   2.0737,  34.6144,2,  34.6144,2,    114.2,2,    113.8,2,   143.24,2,    39.07,2,     0.00,2,     2.72,2, -999.000,9, -999.000,9, -999.000,9,-999.0000,9,  -999.00,9,   -999.0,1,-999.000,9,   2342.1,2,   -999,  -999.0,-999.000,-999.0000,-999.000,  -999.0,-999.000,  1.9345,-999.000
    49RY9407_1,   P09,    36,  2,     18,    223,2,19940717,1130, 22.6048, 137.2608, 5075,   2276.0,   1.8755,  34.6349,2,  34.6335,2,    124.5,2,    123.7,2,   143.60,2,    38.57,2,     0.00,2,     2.68,2, -999.000,9, -999.000,9, -999.000,9,-999.0000,9,  -999.00,9,   -999.0,1,-999.000,9,   2336.4,2,   -999,  -999.0,-999.000,-999.0000,-999.000,  -999.0,-999.000,  1.7175,-999.000
    49RY9407_1,   P09,    36,  2,     17,    203,2,19940717,1130, 22.6048, 137.2608, 5075,   2531.4,   1.7765,  34.6478,2,  34.6459,2,    129.1,2,    130.7,2,   144.02,2,    38.18,2,     0.00,2,     2.65,2, -999.000,9, -999.000,9, -999.000,9,-999.0000,9,  -999.00,9,   -999.0,1,-999.000,9,   2336.3,2,   -999,  -999.0,-999.000,-999.0000,-999.000,  2529.0,-999.000,  1.5976,-999.000
    49RY9407_1,   P09,    36,  2,     16,    210,2,19940717,1130, 22.6048, 137.2608, 5075,   2785.6,   1.7004,  34.6569,2,  34.6567,2,    135.6,2,    136.1,2,   144.87,2,    37.86,2,     0.00,2,     2.62,2, -999.000,9, -999.000,9, -999.000,9,-999.0000,9,  -999.00,9,   -999.0,1,-999.000,9,   2330.6,2,   -999,  -999.0,-999.000,-999.0000,-999.000,  -999.0,-999.000,  1.4996,-999.000
    49RY9407_1,   P09,    36,  2,     15,    221,4,19940717,1130, 22.6048, 137.2608, 5075,   3040.8,   1.6441,  34.6640,2,  34.6624,2,    141.8,2,    141.6,2,   143.58,2,    37.53,2,     0.00,2,     2.58,2, -999.000,9, -999.000,9, -999.000,9,-999.0000,9,  -999.00,9,   -999.0,1,-999.000,9,   2330.6,2,   -999,  -999.0,   1.642,-999.0000,-999.000,  3034.0,-999.000,  1.4202,-999.000
    49RY9407_1,   P09,    36,  2,     13,    229,2,19940717,1130, 22.6048, 137.2608, 5075,   3547.8,   1.5614,  34.6759,2,  34.6727,2,    149.5,2,    149.2,2,   142.29,6,    36.92,6,     0.01,6,     2.54,6, -999.000,9, -999.000,9, -999.000,9,-999.0000,9,  -999.00,9,   -999.0,1,-999.000,9,   2324.7,2,   -999,  -999.0,   1.567,-999.0000,-999.000,  3536.0,-999.000,  1.2888,-999.000
    49RY9407_1,   P09,    36,  2,     14,    219,2,19940717,1130, 22.6048, 137.2608, 5075,   3547.8,   1.5614,  34.6759,2,  34.6735,2,    149.5,2,    149.0,2,   142.48,2,    36.95,2,     0.00,2,     2.55,2, -999.000,9, -999.000,9, -999.000,9,-999.0000,9,  -999.00,9,   -999.0,1,-999.000,9,   2325.1,2,   -999,  -999.0,-999.000,-999.0000,-999.000,  -999.0,-999.000,  1.2888,-999.000
    49RY9407_1,   P09,    36,  2,     12,    217,2,19940717,1130, 22.6048, 137.2608, 5075,   3805.5,   1.5401,  34.6813,2,  34.6819,3,    152.1,2,    154.9,2,   141.55,2,    36.66,2,     0.00,2,     2.51,2, -999.000,9, -999.000,9, -999.000,9,-999.0000,9,  -999.00,9,   -999.0,1,-999.000,9,   2321.2,2,   -999,  -999.0,-999.000,-999.0000,-999.000,  -999.0,-999.000,  1.2411,-999.000
    49RY9407_1,   P09,    36,  2,     11,    204,2,19940717,1130, 22.6048, 137.2608, 5075,   4047.6,   1.5382,  34.6824,2,  34.6819,2,    154.8,2,    155.7,2,   141.58,6,    36.57,6,     0.00,6,     2.50,6, -999.000,9, -999.000,9, -999.000,9,-999.0000,9,  -999.00,9,   -999.0,1,-999.000,9,   2322.5,2,   -999,  -999.0,   1.537,-999.0000,-999.000,  3926.0,-999.000,  1.2130,-999.000
    49RY9407_1,   P09,    36,  2,     10,    214,2,19940717,1130, 22.6048, 137.2608, 5075,   4060.7,   1.5373,  34.6834,2,  34.6821,2,    154.5,2,    156.6,6,   141.27,6,    36.42,6,     0.00,6,     2.50,6, -999.000,9, -999.000,9, -999.000,9,-999.0000,9,  -999.00,9,   -999.0,1,-999.000,9,   2321.5,2,   -999,  -999.0,-999.000,-999.0000,-999.000,   447.0,-999.000,  1.2108,-999.000
    49RY9407_1,   P09,    36,  2,      9,    213,4,19940717,1130, 22.6048, 137.2608, 5075,   4307.5,   1.5464,  34.6859,2,  34.6829,2,    156.7,2,    157.9,6,  -999.00,9,  -999.00,9,  -999.00,9,  -999.00,9, -999.000,9, -999.000,9, -999.000,9,-999.0000,9,  -999.00,9,   -999.0,9,-999.000,9,   2320.5,2,   -999,  -999.0,   1.541,-999.0000,-999.000,  4281.0,-999.000,  1.1920,-999.000
    49RY9407_1,   P09,    37,  1,      0,      0,2,19940722,0505, 22.0015, 137.3415, 4280,      0.0,  27.7286,  34.6645,2,-999.0000,9,    190.1,3,    203.6,6,     1.17,2,     0.01,2,     0.00,2,     0.00,2, -999.000,9, -999.000,9, -999.000,9,-999.0000,9,  -999.00,9,   -999.0,9,-999.000,9,   -999.0,9,   -999,  -999.0,-999.000,-999.0000,-999.000,  -999.0,-999.000, 27.7287,-999.000
    49RY9407_1,   P09,    37,  1,     17,    203,2,19940722,0505, 22.0015, 137.3415, 4280,      9.4,  27.6140,  34.6676,2,  34.6843,2,    192.5,3,    205.1,2,     1.12,2,     0.01,2,     0.00,2,     0.00,2, -999.000,9, -999.000,9, -999.000,9,-999.0000,9,  -999.00,9,   -999.0,9,-999.000,9,   -999.0,9,   -999,  -999.0,-999.000,-999.0000,-999.000,    14.0,-999.000, 27.6118,-999.000
    49RY9407_1,   P09,    37,  1,     16,    210,2,19940722,0505, 22.0015, 137.3415, 4280,     24.4,  27.5362,  34.7088,2,  34.7121,2,    197.4,3,    207.8,2,     1.14,2,     0.00,2,     0.00,2,     0.00,2, -999.000,9, -999.000,9, -999.000,9,-999.0000,9,  -999.00,9,   -999.0,9,-999.000,9,   -999.0,9,   -999,  -999.0,-999.000,-999.0000,-999.000,  -999.0,-999.000, 27.5306,-999.000
    49RY9407_1,   P09,    37,  1,     15,    221,2,19940722,0505, 22.0015, 137.3415, 4280,     49.9,  24.6512,  34.9144,2,  34.8104,2,    215.6,2,    253.8,3,     1.28,2,     0.00,2,     0.00,2,     0.00,2, -999.000,9, -999.000,9, -999.000,9,-999.0000,9,  -999.00,9,   -999.0,9,-999.000,9,   -999.0,9,   -999,  -999.0,  24.910,-999.0000,-999.000,    51.0,-999.000, 24.6405,-999.000
    49RY9407_1,   P09,    37,  1,     14,    219,2,19940722,0505, 22.0015, 137.3415, 4280,     74.3,  21.8222,  34.9371,2,  34.9357,2,    226.0,2,    226.5,2,     1.56,2,     0.01,2,     0.00,2,     0.00,2, -999.000,9, -999.000,9, -999.000,9,-999.0000,9,  -999.00,9,   -999.0,9,-999.000,9,   -999.0,9,   -999,  -999.0,-999.000,-999.0000,-999.000,  -999.0,-999.000, 21.8076,-999.000
    49RY9407_1,   P09,    37,  1,     13,    229,2,19940722,0505, 22.0015, 137.3415, 4280,    101.1,  20.3818,  34.9420,2,  34.9463,2,    219.0,2,    217.8,2,     1.78,6,     0.07,6,     0.07,6,     0.03,6, -999.000,9, -999.000,9, -999.000,9,-999.0000,9,  -999.00,9,   -999.0,9,-999.000,9,   -999.0,9,   -999,  -999.0,  20.610,-999.0000,-999.000,    97.0,-999.000, 20.3629,-999.000
    49RY9407_1,   P09,    37,  1,     12,    217,2,19940722,0505, 22.0015, 137.3415, 4280,    124.7,  19.7076,  34.9175,2,  34.9150,2,    205.0,2,    201.8,6,     2.30,2,     1.88,2,     0.03,2,     0.16,2, -999.000,9, -999.000,9, -999.000,9,-999.0000,9,  -999.00,9,   -999.0,9,-999.000,9,   -999.0,9,   -999,  -999.0,-999.000,-999.0000,-999.000,  -999.0,-999.000, 19.6848,-999.000
    49RY9407_1,   P09,    37,  1,     11,    204,2,19940722,0505, 22.0015, 137.3415, 4280,    149.8,  19.1901,  34.8964,2,  34.8946,2,    198.2,2,    200.9,2,     2.61,2,     2.64,2,     0.02,2,     0.19,2, -999.000,9, -999.000,9, -999.000,9,-999.0000,9,  -999.00,9,   -999.0,9,-999.000,9,   -999.0,9,   -999,  -999.0,  19.207,-999.0000,-999.000,   147.0,-999.000, 19.1632,-999.000
    49RY9407_1,   P09,    37,  1,     10,    214,2,19940722,0505, 22.0015, 137.3415, 4280,    200.9,  18.4623,  34.8684,2,  34.8712,2,    197.5,3,    207.0,2,     3.02,2,     2.99,2,     0.01,2,     0.21,2, -999.000,9, -999.000,9, -999.000,9,-999.0000,9,  -999.00,9,   -999.0,9,-999.000,9,   -999.0,9,   -999,  -999.0,-999.000,-999.0000,-999.000,  -999.0,-999.000, 18.4272,-999.000
    49RY9407_1,   P09,    37,  1,      9,    213,2,19940722,0505, 22.0015, 137.3415, 4280,    302.2,  16.7255,  34.7573,2,  34.7543,2,    188.7,3,    197.8,2,     5.54,2,     6.13,2,     0.01,2,     0.43,2, -999.000,9, -999.000,9, -999.000,9,-999.0000,9,  -999.00,9,   -999.0,9,-999.000,9,   -999.0,9,   -999,  -999.0,-999.000,-999.0000,-999.000,   307.0,-999.000, 16.6762,-999.000