BOTTLE,20020306WHPSIOdm
EXPOCODE,SECT_ID,STNNBR,CASTNO,SAMPNO,BTLNBR,BTLNBR_FLAG_W,DATE,TIME,LATITUDE,LONGITUDE,DEPTH,CTDPRS,CTDTMP,CTDSAL,CTDSAL_FLAG_W,SALNTY,SALNTY_FLAG_W,CTDOXY,CTDOXY_FLAG_W,OXYGEN,OXYGEN_FLAG_W,SILCAT,SILCAT_FLAG_W,NITRAT,NITRAT_FLAG_W,NITRIT,NITRIT_FLAG_W,PHSPHT,PHSPHT_FLAG_W,CFC-11,CFC-11_FLAG_W,CFC-12,CFC-12_FLAG_W,TRITUM,TRITUM_FLAG_W,HELIUM,HELIUM_FLAG_W,DELHE3,DELHE3_FLAG_W,DELC14,DELC14_FLAG_W,NEON,NEON_FLAG_W,TCARBN,TCARBN_FLAG_W,CTDRAW,C14ERR,REVTMP,HELIER,DELHER,REVPRS,NEONER,THETA,TRITER
,,,,,,,,,,,,DBAR,ITS-90,PSS-78,,PSS-78,,UMOL/KG,,UMOL/KG,,UMOL/KG,,UMOL/KG,,UMOL/KG,,UMOL/KG,,PMOL/KG,,PMOL/KG,,TU,,NMOL/KG,,PERCNT,,/MILLE,,NMOL/KG,,UMOL/KG,,,/MILLE,ITS-90,NMOL/KG,PERCNT,DBAR,NMOL/KG,DEG C,TU
    49RY9407_2,   P09,    91,  1,      0,      0,2,19940813,1729,  0.5033, 141.9997, 3305,      0.0,  28.9560,  33.5398,2,-999.0000,9,   -999.0,9,    197.9,6,     1.34,2,     0.00,2,     0.00,2,     0.02,2, -999.000,9, -999.000,9, -999.000,9,-999.0000,9,  -999.00,9,   -999.0,9,-999.000,9,   -999.0,9,   -999,  -999.0,-999.000,-999.0000,-999.000,  -999.0,-999.000, 28.9560,-999.000
    49RY9407_2,   P09,    91,  1,     19,    215,2,19940813,1729,  0.5033, 141.9997, 3305,     10.9,  28.9664,  33.8857,2,  33.8886,2,   -999.0,9,    197.9,2,     1.33,2,     0.01,2,     0.00,2,     0.02,2, -999.000,9, -999.000,9, -999.000,9,-999.0000,9,  -999.00,9,   -999.0,9,-999.000,9,   -999.0,9,   -999,  -999.0,-999.000,-999.0000,-999.000,  -999.0,-999.000, 28.9638,-999.000
    49RY9407_2,   P09,    91,  1,     18,    221,2,19940813,1729,  0.5033, 141.9997, 3305,     26.4,  28.9821,  33.8973,2,  33.9029,2,   -999.0,9,    198.9,2,     1.35,6,     0.00,6,     0.00,6,     0.02,6, -999.000,9, -999.000,9, -999.000,9,-999.0000,9,  -999.00,9,   -999.0,9,-999.000,9,   -999.0,9,   -999,  -999.0,-999.000,-999.0000,-999.000,    26.0,-999.000, 28.9757,-999.000
    49RY9407_2,   P09,    91,  1,     17,    219,2,19940813,1729,  0.5033, 141.9997, 3305,     50.9,  28.5696,  34.1894,2,  34.1903,2,   -999.0,9,    199.2,2,     1.40,2,     0.01,2,     0.00,2,     0.05,2, -999.000,9, -999.000,9, -999.000,9,-999.0000,9,  -999.00,9,   -999.0,9,-999.000,9,   -999.0,9,   -999,  -999.0,-999.000,-999.0000,-999.000,  -999.0,-999.000, 28.5575,-999.000
    49RY9407_2,   P09,    91,  1,     16,    229,2,19940813,1729,  0.5033, 141.9997, 3305,     76.1,  27.9713,  34.8232,2,  34.8168,2,   -999.0,9,    173.2,2,     1.80,2,     1.51,2,     0.49,2,     0.29,2, -999.000,9, -999.000,9, -999.000,9,-999.0000,9,  -999.00,9,   -999.0,9,-999.000,9,   -999.0,9,   -999,  -999.0,  28.130,-999.0000,-999.000,    72.0,-999.000, 27.9534,-999.000
    49RY9407_2,   P09,    91,  1,     15,    217,2,19940813,1729,  0.5033, 141.9997, 3305,    101.0,  23.8299,  35.0310,2,  35.0288,2,   -999.0,9,    136.9,2,     4.29,2,     7.79,2,     0.06,2,     0.60,2, -999.000,9, -999.000,9, -999.000,9,-999.0000,9,  -999.00,9,   -999.0,9,-999.000,9,   -999.0,9,   -999,  -999.0,-999.000,-999.0000,-999.000,  -999.0,-999.000, 23.8087,-999.000
    49RY9407_2,   P09,    91,  1,     14,    204,2,19940813,1729,  0.5033, 141.9997, 3305,    126.5,  21.6400,  35.0943,2,  35.0968,2,   -999.0,9,    136.9,2,     5.74,2,     9.35,2,     0.02,2,     0.70,2, -999.000,9, -999.000,9, -999.000,9,-999.0000,9,  -999.00,9,   -999.0,9,-999.000,9,   -999.0,9,   -999,  -999.0,  22.140,-999.0000,-999.000,   125.0,-999.000, 21.6153,-999.000
    49RY9407_2,   P09,    91,  1,     13,    214,2,19940813,1729,  0.5033, 141.9997, 3305,    150.7,  19.5718,  35.2485,2,  35.2433,2,   -999.0,9,    139.5,6,     6.47,6,    10.77,6,     0.01,6,     0.82,6, -999.000,9, -999.000,9, -999.000,9,-999.0000,9,  -999.00,9,   -999.0,9,-999.000,9,   -999.0,9,   -999,  -999.0,-999.000,-999.0000,-999.000,  -999.0,-999.000, 19.5443,-999.000
    49RY9407_2,   P09,    91,  1,     12,    213,2,19940813,1729,  0.5033, 141.9997, 3305,    203.4,  16.4760,  35.1454,2,  35.1319,2,   -999.0,9,    139.2,2,     9.75,6,    14.06,6,     0.01,6,     1.04,6, -999.000,9, -999.000,9, -999.000,9,-999.0000,9,  -999.00,9,   -999.0,9,-999.000,9,   -999.0,9,   -999,  -999.0,-999.000,-999.0000,-999.000,   207.0,-999.000, 16.4431,-999.000
    49RY9407_2,   P09,    91,  2,      6,    209,2,19940813,1849,  0.5107, 142.0137, 3280,    302.1,  10.6203,  34.7349,2,  34.7337,2,   -999.0,9,    128.4,2,    25.73,2,    24.72,2,     0.00,2,     1.71,2, -999.000,9, -999.000,9, -999.000,9,-999.0000,9,  -999.00,9,   -999.0,9,-999.000,9,   -999.0,9,   -999,  -999.0,-999.000,-999.0000,-999.000,  -999.0,-999.000, 10.5838,-999.000
    49RY9407_2,   P09,    91,  2,      5,    218,2,19940813,1849,  0.5107, 142.0137, 3280,    402.2,   8.9360,  34.6556,2,  34.6552,2,   -999.0,9,    137.3,2,    24.95,2,    27.06,2,     0.00,2,     1.84,2, -999.000,9, -999.000,9, -999.000,9,-999.0000,9,  -999.00,9,   -999.0,9,-999.000,9,   -999.0,9,   -999,  -999.0,-999.000,-999.0000,-999.000,  -999.0,-999.000,  8.8921,-999.000
    49RY9407_2,   P09,    91,  2,      4,    206,2,19940813,1849,  0.5107, 142.0137, 3280,    503.5,   7.7229,  34.5795,2,  34.5781,2,   -999.0,9,    130.1,2,    34.44,2,    30.00,2,     0.00,2,     2.07,2, -999.000,9, -999.000,9, -999.000,9,-999.0000,9,  -999.00,9,   -999.0,9,-999.000,9,   -999.0,9,   -999,  -999.0,-999.000,-999.0000,-999.000,  -999.0,-999.000,  7.6722,-999.000
    49RY9407_2,   P09,    91,  2,      3,    205,2,19940813,1849,  0.5107, 142.0137, 3280,    604.8,   6.5994,  34.5372,2,  34.5366,2,   -999.0,9,    133.1,2,    40.97,2,    32.15,2,     0.00,2,     2.21,2, -999.000,9, -999.000,9, -999.000,9,-999.0000,9,  -999.00,9,   -999.0,9,-999.000,9,   -999.0,9,   -999,  -999.0,-999.000,-999.0000,-999.000,  -999.0,-999.000,  6.5433,-999.000
    49RY9407_2,   P09,    91,  2,      2,    216,2,19940813,1849,  0.5107, 142.0137, 3280,    705.0,   5.9818,  34.5342,2,  34.5340,2,   -999.0,9,    111.8,2,    53.41,2,    35.27,2,     0.00,2,     2.46,2, -999.000,9, -999.000,9, -999.000,9,-999.0000,9,  -999.00,9,   -999.0,9,-999.000,9,   -999.0,9,   -999,  -999.0,-999.000,-999.0000,-999.000,  -999.0,-999.000,  5.9192,-999.000
    49RY9407_2,   P09,    91,  2,      1,    201,2,19940813,1849,  0.5107, 142.0137, 3280,    805.8,   5.4407,  34.5356,2,  34.5358,2,   -999.0,9,    105.1,6,    65.29,6,    36.49,6,     0.00,6,     2.55,6, -999.000,9, -999.000,9, -999.000,9,-999.0000,9,  -999.00,9,   -999.0,9,-999.000,9,   -999.0,9,   -999,  -999.0,-999.000,-999.0000,-999.000,  -999.0,-999.000,  5.3720,-999.000
    49RY9407_2,   P09,    91,  2,     24,    222,2,19940813,1849,  0.5107, 142.0137, 3280,    906.2,   5.0232,  34.5343,2,  34.5360,2,   -999.0,9,    109.2,2,    69.68,2,    36.89,2,     0.00,2,     2.58,2, -999.000,9, -999.000,9, -999.000,9,-999.0000,9,  -999.00,9,   -999.0,9,-999.000,9,   -999.0,9,   -999,  -999.0,-999.000,-999.0000,-999.000,  -999.0,-999.000,  4.9481,-999.000
    49RY9407_2,   P09,    91,  2,     23,    228,2,19940813,1849,  0.5107, 142.0137, 3280,   1007.1,   4.5584,  34.5493,2,  34.5497,2,   -999.0,9,    100.3,2,    82.49,2,    38.02,2,     0.00,2,     2.68,2, -999.000,9, -999.000,9, -999.000,9,-999.0000,9,  -999.00,9,   -999.0,9,-999.000,9,   -999.0,9,   -999,  -999.0,-999.000,-999.0000,-999.000,  -999.0,-999.000,  4.4778,-999.000
    49RY9407_2,   P09,    91,  2,     22,    227,2,19940813,1849,  0.5107, 142.0137, 3280,   1260.2,   3.6056,  34.5788,2,  34.5779,2,   -999.0,9,    101.0,2,   104.61,2,    38.77,2,     0.00,2,     2.74,2, -999.000,9, -999.000,9, -999.000,9,-999.0000,9,  -999.00,9,   -999.0,9,-999.000,9,   -999.0,9,   -999,  -999.0,-999.000,-999.0000,-999.000,  -999.0,-999.000,  3.5115,-999.000
    49RY9407_2,   P09,    91,  2,     21,    226,2,19940813,1849,  0.5107, 142.0137, 3280,   1514.1,   2.9847,  34.6013,2,  34.6021,2,   -999.0,9,    107.7,2,   117.71,2,    38.65,2,     0.00,2,     2.73,2, -999.000,9, -999.000,9, -999.000,9,-999.0000,9,  -999.00,9,   -999.0,9,-999.000,9,   -999.0,9,   -999,  -999.0,-999.000,-999.0000,-999.000,  -999.0,-999.000,  2.8758,-999.000
    49RY9407_2,   P09,    91,  2,     19,    215,2,19940813,1849,  0.5107, 142.0137, 3280,   1766.5,   2.5700,  34.6198,2,  34.6196,2,   -999.0,9,    114.1,2,   126.12,6,    38.52,6,     0.00,6,     2.71,6, -999.000,9, -999.000,9, -999.000,9,-999.0000,9,  -999.00,9,   -999.0,9,-999.000,9,   -999.0,9,   -999,  -999.0,-999.000,-999.0000,-999.000,  -999.0,-999.000,  2.4451,-999.000
    49RY9407_2,   P09,    91,  2,     20,    203,2,19940813,1849,  0.5107, 142.0137, 3280,   1766.5,   2.5700,  34.6198,2,  34.6196,2,   -999.0,9,    113.8,2,   125.92,2,    38.42,2,     0.00,2,     2.71,2, -999.000,9, -999.000,9, -999.000,9,-999.0000,9,  -999.00,9,   -999.0,9,-999.000,9,   -999.0,9,   -999,  -999.0,-999.000,-999.0000,-999.000,  1762.0,-999.000,  2.4451,-999.000
    49RY9407_2,   P09,    91,  2,     18,    221,2,19940813,1849,  0.5107, 142.0137, 3280,   2020.9,   2.2511,  34.6351,2,  34.6349,2,   -999.0,9,    119.0,2,   133.59,2,    38.26,2,     0.00,2,     2.69,2, -999.000,9, -999.000,9, -999.000,9,-999.0000,9,  -999.00,9,   -999.0,9,-999.000,9,   -999.0,9,   -999,  -999.0,-999.000,-999.0000,-999.000,  2020.0,-999.000,  2.1091,-999.000
    49RY9407_2,   P09,    91,  2,     17,    219,2,19940813,1849,  0.5107, 142.0137, 3280,   2275.6,   2.0030,  34.6472,2,  34.6471,2,   -999.0,9,    125.0,6,   138.68,2,    37.96,2,     0.00,2,     2.66,2, -999.000,9, -999.000,9, -999.000,9,-999.0000,9,  -999.00,9,   -999.0,9,-999.000,9,   -999.0,9,   -999,  -999.0,-999.000,-999.0000,-999.000,  -999.0,-999.000,  1.8428,-999.000
    49RY9407_2,   P09,    91,  2,     16,    229,2,19940813,1849,  0.5107, 142.0137, 3280,   2531.0,   1.7818,  34.6597,2,  34.6583,2,   -999.0,9,    133.3,2,   141.25,2,    37.46,2,     0.00,2,     2.62,2, -999.000,9, -999.000,9, -999.000,9,-999.0000,9,  -999.00,9,   -999.0,9,-999.000,9,   -999.0,9,   -999,  -999.0,   1.773,-999.0000,-999.000,  2530.0,-999.000,  1.6028,-999.000
    49RY9407_2,   P09,    91,  2,     15,    217,2,19940813,1849,  0.5107, 142.0137, 3280,   2783.3,   1.6762,  34.6669,2,  34.6666,2,   -999.0,9,    139.1,2,   142.01,2,    37.10,2,     0.00,2,     2.58,2, -999.000,9, -999.000,9, -999.000,9,-999.0000,9,  -999.00,9,   -999.0,9,-999.000,9,   -999.0,9,   -999,  -999.0,-999.000,-999.0000,-999.000,  -999.0,-999.000,  1.4761,-999.000
    49RY9407_2,   P09,    91,  2,     14,    204,2,19940813,1849,  0.5107, 142.0137, 3280,   3038.9,   1.5734,  34.6741,2,  34.6731,2,   -999.0,9,    144.7,2,   142.72,2,    36.72,2,     0.00,2,     2.55,2, -999.000,9, -999.000,9, -999.000,9,-999.0000,9,  -999.00,9,   -999.0,9,-999.000,9,   -999.0,9,   -999,  -999.0,   1.570,-999.0000,-999.000,  3032.0,-999.000,  1.3513,-999.000
    49RY9407_2,   P09,    91,  2,     13,    214,2,19940813,1849,  0.5107, 142.0137, 3280,   3039.5,   1.5742,  34.6729,2,  34.6733,2,   -999.0,9,    144.9,2,   142.54,2,    36.79,2,     0.00,2,     2.55,2, -999.000,9, -999.000,9, -999.000,9,-999.0000,9,  -999.00,9,   -999.0,9,-999.000,9,   -999.0,9,   -999,  -999.0,-999.000,-999.0000,-999.000,  3028.0,-999.000,  1.3520,-999.000
    49RY9407_2,   P09,    91,  2,     12,    213,4,19940813,1849,  0.5107, 142.0137, 3280,   3319.0,   1.5885,  34.6738,2,  34.6745,2,   -999.0,9,    144.8,2,   142.79,2,    36.72,2,     0.00,2,     2.55,2, -999.000,9, -999.000,9, -999.000,9,-999.0000,9,  -999.00,9,   -999.0,9,-999.000,9,   -999.0,9,   -999,  -999.0,-999.000,-999.0000,-999.000,  3316.0,-999.000,  1.3386,-999.000
    49RY9407_2,   P09,    92,  1,      0,      0,2,19940813,2213,  0.2605, 141.9983, 3390,      0.0,  28.8814,  33.8953,2,-999.0000,9,   -999.0,9,    198.0,2,     1.44,6,     0.02,6,     0.00,6,     0.03,6, -999.000,9, -999.000,9, -999.000,9,-999.0000,9,  -999.00,9,   -999.0,9,-999.000,9,   -999.0,9,   -999,  -999.0,-999.000,-999.0000,-999.000,  -999.0,-999.000, 28.8814,-999.000
    49RY9407_2,   P09,    92,  1,     20,    203,2,19940813,2213,  0.2605, 141.9983, 3390,     10.8,  28.8782,  33.8959,2,  33.8956,2,   -999.0,9,    198.7,2,     1.43,2,     0.01,2,     0.00,2,     0.03,2, -999.000,9, -999.000,9, -999.000,9,-999.0000,9,  -999.00,9,   -999.0,9,-999.000,9,   -999.0,9,   -999,  -999.0,-999.000,-999.0000,-999.000,    15.0,-999.000, 28.8756,-999.000
    49RY9407_2,   P09,    92,  1,     19,    215,2,19940813,2213,  0.2605, 141.9983, 3390,     25.5,  29.0850,  34.0447,2,  34.0449,2,   -999.0,9,    198.1,2,     1.42,2,     0.01,2,     0.00,2,     0.04,2, -999.000,9, -999.000,9, -999.000,9,-999.0000,9,  -999.00,9,   -999.0,9,-999.000,9,   -999.0,9,   -999,  -999.0,-999.000,-999.0000,-999.000,  -999.0,-999.000, 29.0788,-999.000
    49RY9407_2,   P09,    92,  1,     18,    221,2,19940813,2213,  0.2605, 141.9983, 3390,     51.0,  28.7685,  34.2027,2,  34.2076,2,   -999.0,9,    198.4,2,     1.51,2,     0.00,2,     0.00,2,     0.06,2, -999.000,9, -999.000,9, -999.000,9,-999.0000,9,  -999.00,9,   -999.0,9,-999.000,9,   -999.0,9,   -999,  -999.0,-999.000,-999.0000,-999.000,    53.0,-999.000, 28.7563,-999.000
    49RY9407_2,   P09,    92,  1,     17,    219,2,19940813,2213,  0.2605, 141.9983, 3390,     76.7,  28.4123,  34.7793,2,  34.7841,2,   -999.0,9,    186.6,2,     1.60,2,     0.52,2,     0.13,2,     0.23,2, -999.000,9, -999.000,9, -999.000,9,-999.0000,9,  -999.00,9,   -999.0,9,-999.000,9,   -999.0,9,   -999,  -999.0,-999.000,-999.0000,-999.000,  -999.0,-999.000, 28.3940,-999.000
    49RY9407_2,   P09,    92,  1,     15,    217,4,19940813,2213,  0.2605, 141.9983, 3390,    101.9,  24.3894,  35.0488,2,  35.0195,2,   -999.0,9,    142.0,2,     3.90,2,     6.98,2,     0.09,2,     0.57,2, -999.000,9, -999.000,9, -999.000,9,-999.0000,9,  -999.00,9,   -999.0,9,-999.000,9,   -999.0,9,   -999,  -999.0,-999.000,-999.0000,-999.000,  -999.0,-999.000, 24.3676,-999.000
    49RY9407_2,   P09,    92,  1,     16,    229,2,19940813,2213,  0.2605, 141.9983, 3390,    101.9,  24.3894,  35.0488,2,  35.0201,2,   -999.0,9,    142.0,2,     3.82,2,     6.93,2,     0.09,2,     0.57,2, -999.000,9, -999.000,9, -999.000,9,-999.0000,9,  -999.00,9,   -999.0,9,-999.000,9,   -999.0,9,   -999,  -999.0,  27.620,-999.0000,-999.000,    96.0,-999.000, 24.3676,-999.000
    49RY9407_2,   P09,    92,  1,     14,    204,2,19940813,2213,  0.2605, 141.9983, 3390,    152.0,  19.4223,  35.2925,2,-999.0000,5,   -999.0,9,   -999.0,9,  -999.00,9,  -999.00,9,  -999.00,9,  -999.00,9, -999.000,9, -999.000,9, -999.000,9,-999.0000,9,  -999.00,9,   -999.0,9,-999.000,9,   -999.0,9,   -999,  -999.0,  19.487,-999.0000,-999.000,   150.0,-999.000, 19.3947,-999.000
    49RY9407_2,   P09,    92,  1,     12,    213,2,19940813,2213,  0.2605, 141.9983, 3390,    203.0,  16.6702,  35.1823,2,  35.1735,2,   -999.0,9,    139.6,6,     9.36,2,    14.17,2,     0.01,2,     1.04,2, -999.000,9, -999.000,9, -999.000,9,-999.0000,9,  -999.00,9,   -999.0,9,-999.000,9,   -999.0,9,   -999,  -999.0,-999.000,-999.0000,-999.000,   206.0,-999.000, 16.6371,-999.000
    49RY9407_2,   P09,    92,  1,     13,    214,4,19940813,2213,  0.2605, 141.9983, 3390,    203.0,  16.6702,  35.1823,2,  35.1735,2,   -999.0,9,    139.6,2,     9.33,2,    14.17,2,     0.01,2,     1.04,2, -999.000,9, -999.000,9, -999.000,9,-999.0000,9,  -999.00,9,   -999.0,9,-999.000,9,   -999.0,9,   -999,  -999.0,-999.000,-999.0000,-999.000,   205.0,-999.000, 16.6371,-999.000