BOTTLE,20020306WHPSIOdm
EXPOCODE,SECT_ID,STNNBR,CASTNO,SAMPNO,BTLNBR,BTLNBR_FLAG_W,DATE,TIME,LATITUDE,LONGITUDE,DEPTH,CTDPRS,CTDTMP,CTDSAL,CTDSAL_FLAG_W,SALNTY,SALNTY_FLAG_W,CTDOXY,CTDOXY_FLAG_W,OXYGEN,OXYGEN_FLAG_W,SILCAT,SILCAT_FLAG_W,NITRAT,NITRAT_FLAG_W,NITRIT,NITRIT_FLAG_W,PHSPHT,PHSPHT_FLAG_W,CFC-11,CFC-11_FLAG_W,CFC-12,CFC-12_FLAG_W,TRITUM,TRITUM_FLAG_W,HELIUM,HELIUM_FLAG_W,DELHE3,DELHE3_FLAG_W,DELC14,DELC14_FLAG_W,NEON,NEON_FLAG_W,TCARBN,TCARBN_FLAG_W,CTDRAW,C14ERR,REVTMP,HELIER,DELHER,REVPRS,NEONER,THETA,TRITER
,,,,,,,,,,,,DBAR,ITS-90,PSS-78,,PSS-78,,UMOL/KG,,UMOL/KG,,UMOL/KG,,UMOL/KG,,UMOL/KG,,UMOL/KG,,PMOL/KG,,PMOL/KG,,TU,,NMOL/KG,,PERCNT,,/MILLE,,NMOL/KG,,UMOL/KG,,,/MILLE,ITS-90,NMOL/KG,PERCNT,DBAR,NMOL/KG,DEG C,TU
    49RY9407_2,   P09,    92,  2,      8,    212,2,19940813,2351,  0.2707, 142.0103, 3385,    152.3,  19.7459,  35.2600,2,  35.2587,2,   -999.0,9,    138.5,6,     6.45,6,    10.94,6,     0.01,6,     0.81,6, -999.000,9, -999.000,9, -999.000,9,-999.0000,9,  -999.00,9,   -999.0,9,-999.000,9,   -999.0,9,   -999,  -999.0,-999.000,-999.0000,-999.000,  -999.0,-999.000, 19.7180,-999.000
    49RY9407_2,   P09,    92,  2,      7,    220,2,19940813,2351,  0.2707, 142.0103, 3385,    302.6,  10.7145,  34.7939,2,  34.7951,2,   -999.0,9,    141.0,2,    18.19,2,    23.16,2,     0.00,2,     1.59,2, -999.000,9, -999.000,9, -999.000,9,-999.0000,9,  -999.00,9,   -999.0,9,-999.000,9,   -999.0,9,   -999,  -999.0,-999.000,-999.0000,-999.000,  -999.0,-999.000, 10.6778,-999.000
    49RY9407_2,   P09,    92,  2,      6,    209,2,19940813,2351,  0.2707, 142.0103, 3385,    403.6,   8.6937,  34.6380,2,  34.6391,2,   -999.0,9,    138.3,2,    26.08,2,    27.39,2,     0.00,2,     1.87,2, -999.000,9, -999.000,9, -999.000,9,-999.0000,9,  -999.00,9,   -999.0,9,-999.000,9,   -999.0,9,   -999,  -999.0,-999.000,-999.0000,-999.000,  -999.0,-999.000,  8.6504,-999.000
    49RY9407_2,   P09,    92,  2,      5,    218,2,19940813,2351,  0.2707, 142.0103, 3385,    504.1,   7.6959,  34.5764,2,  34.5814,2,   -999.0,9,    131.3,2,    34.46,2,    29.97,2,     0.00,2,     2.06,2, -999.000,9, -999.000,9, -999.000,9,-999.0000,9,  -999.00,9,   -999.0,9,-999.000,9,   -999.0,9,   -999,  -999.0,-999.000,-999.0000,-999.000,  -999.0,-999.000,  7.6453,-999.000
    49RY9407_2,   P09,    92,  2,      4,    206,2,19940813,2351,  0.2707, 142.0103, 3385,    605.1,   6.6208,  34.5358,2,  34.5358,2,   -999.0,9,    134.3,2,    40.50,2,    32.03,2,     0.00,2,     2.20,2, -999.000,9, -999.000,9, -999.000,9,-999.0000,9,  -999.00,9,   -999.0,9,-999.000,9,   -999.0,9,   -999,  -999.0,-999.000,-999.0000,-999.000,  -999.0,-999.000,  6.5646,-999.000
    49RY9407_2,   P09,    92,  2,      3,    205,2,19940813,2351,  0.2707, 142.0103, 3385,    705.9,   6.0182,  34.5376,2,  34.5354,2,   -999.0,9,    108.1,6,    53.47,6,    35.54,6,     0.00,6,     2.47,6, -999.000,9, -999.000,9, -999.000,9,-999.0000,9,  -999.00,9,   -999.0,9,-999.000,9,   -999.0,9,   -999,  -999.0,-999.000,-999.0000,-999.000,  -999.0,-999.000,  5.9553,-999.000
    49RY9407_2,   P09,    92,  2,      2,    216,2,19940813,2351,  0.2707, 142.0103, 3385,    807.4,   5.3820,  34.5380,2,  34.5375,2,   -999.0,9,    100.4,2,    65.10,2,    37.21,2,     0.00,2,     2.60,2, -999.000,9, -999.000,9, -999.000,9,-999.0000,9,  -999.00,9,   -999.0,9,-999.000,9,   -999.0,9,   -999,  -999.0,-999.000,-999.0000,-999.000,  -999.0,-999.000,  5.3135,-999.000
    49RY9407_2,   P09,    92,  2,      1,    201,2,19940813,2351,  0.2707, 142.0103, 3385,    907.4,   4.8427,  34.5403,2,  34.5409,2,   -999.0,9,    105.7,2,    74.52,2,    37.30,2,     0.00,2,     2.62,2, -999.000,9, -999.000,9, -999.000,9,-999.0000,9,  -999.00,9,   -999.0,9,-999.000,9,   -999.0,9,   -999,  -999.0,-999.000,-999.0000,-999.000,  -999.0,-999.000,  4.7687,-999.000
    49RY9407_2,   P09,    92,  2,     24,    222,2,19940813,2351,  0.2707, 142.0103, 3385,   1009.0,   4.5090,  34.5511,2,  34.5515,2,   -999.0,9,     99.1,2,    84.30,2,    38.16,2,     0.00,2,     2.69,2, -999.000,9, -999.000,9, -999.000,9,-999.0000,9,  -999.00,9,   -999.0,9,-999.000,9,   -999.0,9,   -999,  -999.0,-999.000,-999.0000,-999.000,  -999.0,-999.000,  4.4286,-999.000
    49RY9407_2,   P09,    92,  2,     23,    228,2,19940813,2351,  0.2707, 142.0103, 3385,   1262.2,   3.6323,  34.5764,2,  34.5771,2,   -999.0,9,    101.2,2,   103.57,2,    38.69,2,     0.00,2,     2.74,2, -999.000,9, -999.000,9, -999.000,9,-999.0000,9,  -999.00,9,   -999.0,9,-999.000,9,   -999.0,9,   -999,  -999.0,-999.000,-999.0000,-999.000,  -999.0,-999.000,  3.5378,-999.000
    49RY9407_2,   P09,    92,  2,     21,    226,2,19940813,2351,  0.2707, 142.0103, 3385,   1515.0,   2.9079,  34.6040,2,  34.6058,2,   -999.0,9,    109.7,2,   118.30,6,    38.52,6,     0.00,6,     2.72,6, -999.000,9, -999.000,9, -999.000,9,-999.0000,9,  -999.00,9,   -999.0,9,-999.000,9,   -999.0,9,   -999,  -999.0,-999.000,-999.0000,-999.000,  -999.0,-999.000,  2.7998,-999.000
    49RY9407_2,   P09,    92,  2,     22,    227,2,19940813,2351,  0.2707, 142.0103, 3385,   1515.0,   2.9079,  34.6040,2,  34.6046,2,   -999.0,9,    109.7,2,   118.35,2,    38.57,2,     0.00,2,     2.72,2, -999.000,9, -999.000,9, -999.000,9,-999.0000,9,  -999.00,9,   -999.0,9,-999.000,9,   -999.0,9,   -999,  -999.0,-999.000,-999.0000,-999.000,  -999.0,-999.000,  2.7998,-999.000
    49RY9407_2,   P09,    92,  2,     20,    203,2,19940813,2351,  0.2707, 142.0103, 3385,   1767.5,   2.4441,  34.6241,2,  34.6251,2,   -999.0,9,    114.9,2,   129.27,2,    38.43,2,     0.00,2,     2.70,2, -999.000,9, -999.000,9, -999.000,9,-999.0000,9,  -999.00,9,   -999.0,9,-999.000,9,   -999.0,9,   -999,  -999.0,-999.000,-999.0000,-999.000,  1761.0,-999.000,  2.3207,-999.000
    49RY9407_2,   P09,    92,  2,     19,    215,2,19940813,2351,  0.2707, 142.0103, 3385,   2021.8,   2.1453,  34.6394,2,  34.6398,2,   -999.0,9,    121.4,2,   135.28,2,    38.11,2,     0.00,2,     2.67,2, -999.000,9, -999.000,9, -999.000,9,-999.0000,9,  -999.00,9,   -999.0,9,-999.000,9,   -999.0,9,   -999,  -999.0,-999.000,-999.0000,-999.000,  -999.0,-999.000,  2.0048,-999.000
    49RY9407_2,   P09,    92,  2,     18,    221,2,19940813,2351,  0.2707, 142.0103, 3385,   2276.5,   1.8871,  34.6519,2,  34.6526,2,   -999.0,9,    128.5,2,   140.18,2,    37.72,2,     0.00,2,     2.64,2, -999.000,9, -999.000,9, -999.000,9,-999.0000,9,  -999.00,9,   -999.0,9,-999.000,9,   -999.0,9,   -999,  -999.0,-999.000,-999.0000,-999.000,  2275.0,-999.000,  1.7288,-999.000
    49RY9407_2,   P09,    92,  2,     17,    219,2,19940813,2351,  0.2707, 142.0103, 3385,   2531.2,   1.7497,  34.6608,2,  34.6611,2,   -999.0,9,    133.7,2,   141.70,2,    37.42,2,     0.00,2,     2.61,2, -999.000,9, -999.000,9, -999.000,9,-999.0000,9,  -999.00,9,   -999.0,9,-999.000,9,   -999.0,9,   -999,  -999.0,-999.000,-999.0000,-999.000,  -999.0,-999.000,  1.5712,-999.000
    49RY9407_2,   P09,    92,  2,     16,    229,2,19940813,2351,  0.2707, 142.0103, 3385,   2786.5,   1.6528,  34.6665,2,  34.6674,2,   -999.0,9,    140.0,2,   142.37,2,    36.99,2,     0.00,2,     2.58,2, -999.000,9, -999.000,9, -999.000,9,-999.0000,9,  -999.00,9,   -999.0,9,-999.000,9,   -999.0,9,   -999,  -999.0,   1.643,-999.0000,-999.000,  2786.0,-999.000,  1.4529,-999.000
    49RY9407_2,   P09,    92,  2,     14,    204,2,19940813,2351,  0.2707, 142.0103, 3385,   3296.7,   1.5860,  34.6739,2,  34.6739,2,   -999.0,9,    144.5,2,   142.78,2,    36.71,2,     0.00,2,     2.55,2, -999.000,9, -999.000,9, -999.000,9,-999.0000,9,  -999.00,9,   -999.0,9,-999.000,9,   -999.0,9,   -999,  -999.0,   1.585,-999.0000,-999.000,  3295.0,-999.000,  1.3383,-999.000
    49RY9407_2,   P09,    92,  2,     15,    217,4,19940813,2351,  0.2707, 142.0103, 3385,   3296.7,   1.5860,  34.6739,2,  34.6721,3,   -999.0,9,    144.5,2,   142.49,2,    36.70,2,     0.00,2,     2.55,2, -999.000,9, -999.000,9, -999.000,9,-999.0000,9,  -999.00,9,   -999.0,9,-999.000,9,   -999.0,9,   -999,  -999.0,-999.000,-999.0000,-999.000,  -999.0,-999.000,  1.3383,-999.000
    49RY9407_2,   P09,    92,  2,     13,    214,3,19940813,2351,  0.2707, 142.0103, 3385,   3297.1,   1.5859,  34.6742,2,  34.4707,4,   -999.0,9,    140.6,4,    35.65,4,    18.11,4,     0.03,4,     1.31,4, -999.000,9, -999.000,9, -999.000,9,-999.0000,9,  -999.00,9,   -999.0,9,-999.000,9,   -999.0,9,   -999,  -999.0,-999.000,-999.0000,-999.000,  3286.0,-999.000,  1.3382,-999.000
    49RY9407_2,   P09,    92,  2,     12,    213,4,19940813,2351,  0.2707, 142.0103, 3385,   3417.6,   1.5893,  34.6750,2,  34.6750,6,   -999.0,9,    145.3,6,   142.90,2,    36.67,2,     0.00,2,     2.54,2, -999.000,9, -999.000,9, -999.000,9,-999.0000,9,  -999.00,9,   -999.0,9,-999.000,9,   -999.0,9,   -999,  -999.0,-999.000,-999.0000,-999.000,  3412.0,-999.000,  1.3294,-999.000
    49RY9407_2,   P09,    92,  3,      0,      0,2,19940818,1513,  0.2515, 141.9993, 3400,      0.7,  29.0243,  33.9592,2,-999.0000,9,   -999.0,9,    199.0,2,     1.36,2,     0.00,2,     0.00,2,     0.03,2, -999.000,9, -999.000,9, -999.000,9,-999.0000,9,  -999.00,9,   -999.0,9,-999.000,9,   -999.0,9,   -999,  -999.0,-999.000,-999.0000,-999.000,  -999.0,-999.000, 29.0241,-999.000
    49RY9407_2,   P09,    92,  3,     22,    227,2,19940818,1513,  0.2515, 141.9993, 3400,     11.3,  29.0290,  33.9815,2,  33.9821,2,   -999.0,9,    197.2,2,     1.35,2,     0.02,2,     0.00,2,     0.00,2, -999.000,9, -999.000,9, -999.000,9,-999.0000,9,  -999.00,9,   -999.0,9,-999.000,9,   -999.0,9,   -999,  -999.0,-999.000,-999.0000,-999.000,  -999.0,-999.000, 29.0263,-999.000
    49RY9407_2,   P09,    92,  3,     21,    226,2,19940818,1513,  0.2515, 141.9993, 3400,     26.3,  29.0269,  34.0055,2,  34.0098,2,   -999.0,9,    198.0,2,     1.35,2,     0.00,2,     0.00,2,     0.03,2, -999.000,9, -999.000,9, -999.000,9,-999.0000,9,  -999.00,9,   -999.0,9,-999.000,9,   -999.0,9,   -999,  -999.0,-999.000,-999.0000,-999.000,  -999.0,-999.000, 29.0206,-999.000
    49RY9407_2,   P09,    92,  3,     20,    203,2,19940818,1513,  0.2515, 141.9993, 3400,     51.1,  28.9576,  34.0877,2,  34.0898,2,   -999.0,9,    198.6,2,     1.36,2,     0.01,2,     0.00,2,     0.02,2, -999.000,9, -999.000,9, -999.000,9,-999.0000,9,  -999.00,9,   -999.0,9,-999.000,9,   -999.0,9,   -999,  -999.0,-999.000,-999.0000,-999.000,    56.0,-999.000, 28.9453,-999.000
    49RY9407_2,   P09,    92,  3,     18,    221,2,19940818,1513,  0.2515, 141.9993, 3400,     77.0,  28.2198,  34.8167,2,  34.8113,2,   -999.0,9,    186.2,2,     1.78,2,     1.00,2,     0.29,2,     0.22,2, -999.000,9, -999.000,9, -999.000,9,-999.0000,9,  -999.00,9,   -999.0,9,-999.000,9,   -999.0,9,   -999,  -999.0,-999.000,-999.0000,-999.000,    78.0,-999.000, 28.2015,-999.000
    49RY9407_2,   P09,    92,  3,     19,    215,2,19940818,1513,  0.2515, 141.9993, 3400,     77.0,  28.2198,  34.8167,2,  34.8006,2,   -999.0,9,    178.3,2,     1.77,2,     0.86,2,     0.26,2,     0.21,2, -999.000,9, -999.000,9, -999.000,9,-999.0000,9,  -999.00,9,   -999.0,9,-999.000,9,   -999.0,9,   -999,  -999.0,-999.000,-999.0000,-999.000,  -999.0,-999.000, 28.2015,-999.000
    49RY9407_2,   P09,    92,  3,     17,    219,2,19940818,1513,  0.2515, 141.9993, 3400,    101.3,  26.0775,  35.2666,2,  35.2735,2,   -999.0,9,    147.1,2,     2.77,6,     6.94,6,     0.07,6,     0.53,6, -999.000,9, -999.000,9, -999.000,9,-999.0000,9,  -999.00,9,   -999.0,9,-999.000,9,   -999.0,9,   -999,  -999.0,-999.000,-999.0000,-999.000,  -999.0,-999.000, 26.0548,-999.000
    49RY9407_2,   P09,    92,  3,     16,    229,2,19940818,1513,  0.2515, 141.9993, 3400,    127.0,  21.2194,  35.2316,2,  35.2416,2,   -999.0,9,    138.8,2,     5.55,2,     9.65,2,     0.02,2,     0.62,2, -999.000,9, -999.000,9, -999.000,9,-999.0000,9,  -999.00,9,   -999.0,9,-999.000,9,   -999.0,9,   -999,  -999.0,  22.520,-999.0000,-999.000,   122.0,-999.000, 21.1949,-999.000
    49RY9407_2,   P09,    92,  3,     15,    217,4,19940818,1513,  0.2515, 141.9993, 3400,    151.6,  19.5889,  35.2800,2,  35.2814,2,   -999.0,9,    139.8,2,     6.16,2,    10.88,2,     0.02,2,     0.64,2, -999.000,9, -999.000,9, -999.000,9,-999.0000,9,  -999.00,9,   -999.0,9,-999.000,9,   -999.0,9,   -999,  -999.0,-999.000,-999.0000,-999.000,  -999.0,-999.000, 19.5612,-999.000
    49RY9407_2,   P09,    92,  3,     13,    214,2,19940818,1513,  0.2515, 141.9993, 3400,    302.2,  12.7033,  34.9824,2,  34.9825,2,   -999.0,9,    148.0,6,    11.68,6,    18.93,6,     0.01,6,     1.21,6, -999.000,9, -999.000,9, -999.000,9,-999.0000,9,  -999.00,9,   -999.0,9,-999.000,9,   -999.0,9,   -999,  -999.0,-999.000,-999.0000,-999.000,   297.0,-999.000, 12.6622,-999.000
    49RY9407_2,   P09,    92,  3,     14,    204,2,19940818,1513,  0.2515, 141.9993, 3400,    302.2,  12.7033,  34.9824,2,  34.9829,2,   -999.0,9,    147.8,2,    11.70,2,    19.06,2,     0.01,2,     1.20,2, -999.000,9, -999.000,9, -999.000,9,-999.0000,9,  -999.00,9,   -999.0,9,-999.000,9,   -999.0,9,   -999,  -999.0,  12.705,-999.0000,-999.000,   301.0,-999.000, 12.6622,-999.000
    49RY9407_2,   P09,    92,  3,     11,    225,4,19940818,1513,  0.2515, 141.9993, 3400,    404.5,   9.3441,  34.7006,2,  34.6888,2,   -999.0,9,    138.1,2,    22.54,6,    26.21,6,     0.01,6,  -999.00,5, -999.000,9, -999.000,9, -999.000,9,-999.0000,9,  -999.00,9,   -999.0,9,-999.000,9,   -999.0,9,   -999,  -999.0,-999.000,-999.0000,-999.000,  -999.0,-999.000,  9.2988,-999.000
    49RY9407_2,   P09,    92,  3,     12,    213,2,19940818,1513,  0.2515, 141.9993, 3400,    404.5,   9.3383,  34.6935,2,  34.6880,2,   -999.0,9,    138.5,6,    22.63,6,    26.22,6,     0.01,6,     1.67,6, -999.000,9, -999.000,9, -999.000,9,-999.0000,9,  -999.00,9,   -999.0,9,-999.000,9,   -999.0,9,   -999,  -999.0,-999.000,-999.0000,-999.000,   405.0,-999.000,  9.2930,-999.000