BOTTLE,20020306WHPSIOdm
#code : jjward hyd_to_exchange.pl 
#original files copied from HTML directory: 20020306
#original HYD file: p09hy.txt   Wed Mar  6 08:41:42 2002
#original SUM file: p9su   Wed Mar  6 09:07:26 2002
EXPOCODE,SECT_ID,STNNBR,CASTNO,SAMPNO,BTLNBR,BTLNBR_FLAG_W,DATE,TIME,LATITUDE,LONGITUDE,DEPTH,CTDPRS,CTDTMP,CTDSAL,CTDSAL_FLAG_W,SALNTY,SALNTY_FLAG_W,CTDOXY,CTDOXY_FLAG_W,OXYGEN,OXYGEN_FLAG_W,SILCAT,SILCAT_FLAG_W,NITRAT,NITRAT_FLAG_W,NITRIT,NITRIT_FLAG_W,PHSPHT,PHSPHT_FLAG_W,CFC-11,CFC-11_FLAG_W,CFC-12,CFC-12_FLAG_W,TRITUM,TRITUM_FLAG_W,HELIUM,HELIUM_FLAG_W,DELHE3,DELHE3_FLAG_W,DELC14,DELC14_FLAG_W,NEON,NEON_FLAG_W,TCARBN,TCARBN_FLAG_W,CTDRAW,C14ERR,REVTMP,HELIER,DELHER,REVPRS,NEONER,THETA,TRITER
,,,,,,,,,,,,DBAR,ITS-90,PSS-78,,PSS-78,,UMOL/KG,,UMOL/KG,,UMOL/KG,,UMOL/KG,,UMOL/KG,,UMOL/KG,,PMOL/KG,,PMOL/KG,,TU,,NMOL/KG,,PERCNT,,/MILLE,,NMOL/KG,,UMOL/KG,,,/MILLE,ITS-90,NMOL/KG,PERCNT,DBAR,NMOL/KG,DEG C,TU
    49RY9407_1,   P09,     1,  1,      0,      0,2,19940708,1658, 34.2500, 137.0023,  150,      0.1,  26.1802,  33.9986,2,-999.0000,9,    211.3,2,    209.0,6,     1.59,6,     0.08,6,     0.00,6,     0.01,6, -999.000,9, -999.000,9, -999.000,9,-999.0000,9,  -999.00,9,   -999.0,9,-999.000,9,   -999.0,9,   -999,  -999.0,-999.000,-999.0000,-999.000,  -999.0,-999.000, 26.1802,-999.000
    49RY9407_1,   P09,     1,  1,      8,    212,2,19940708,1658, 34.2500, 137.0023,  150,     10.1,  24.4031,  34.1031,3,  34.0553,2,    214.3,2,    215.8,2,     1.75,2,     0.00,2,     0.00,2,     0.02,2, -999.000,9, -999.000,9, -999.000,9,-999.0000,9,  -999.00,9,   -999.0,9,-999.000,9,   -999.0,9,   -999,  -999.0,-999.000,-999.0000,-999.000,  -999.0,-999.000, 24.4009,-999.000
    49RY9407_1,   P09,     1,  1,      7,    210,2,19940708,1658, 34.2500, 137.0023,  150,     24.9,  22.4807,  34.4692,2,  34.4688,2,    219.3,2,    222.1,2,     1.40,2,     0.01,2,     0.00,2,     0.04,2, -999.000,9, -999.000,9, -999.000,9,-999.0000,9,  -999.00,9,   -999.0,9,-999.000,9,   -999.0,9,   -999,  -999.0,-999.000,-999.0000,-999.000,  -999.0,-999.000, 22.4757,-999.000
    49RY9407_1,   P09,     1,  1,      6,    209,2,19940708,1658, 34.2500, 137.0023,  150,     49.7,  19.0514,  34.7488,2,  34.7487,2,    187.4,2,    188.8,2,     5.41,2,     4.90,2,     0.03,2,     0.37,2, -999.000,9, -999.000,9, -999.000,9,-999.0000,9,  -999.00,9,   -999.0,9,-999.000,9,   -999.0,9,   -999,  -999.0,-999.000,-999.0000,-999.000,  -999.0,-999.000, 19.0426,-999.000
    49RY9407_1,   P09,     1,  1,      5,    207,2,19940708,1658, 34.2500, 137.0023,  150,     75.1,  17.2453,  34.6476,2,  34.6500,2,    179.2,2,    175.8,2,     8.21,2,     7.20,2,     0.01,2,     0.51,2, -999.000,9, -999.000,9, -999.000,9,-999.0000,9,  -999.00,9,   -999.0,9,-999.000,9,   -999.0,9,   -999,  -999.0,-999.000,-999.0000,-999.000,  -999.0,-999.000, 17.2329,-999.000
    49RY9407_1,   P09,     1,  1,      4,    206,2,19940708,1658, 34.2500, 137.0023,  150,    100.7,  16.0794,  34.6534,2,  34.6528,2,    192.2,2,    189.2,2,    10.49,2,     8.95,2,     0.01,2,     0.63,2, -999.000,9, -999.000,9, -999.000,9,-999.0000,9,  -999.00,9,   -999.0,9,-999.000,9,   -999.0,9,   -999,  -999.0,-999.000,-999.0000,-999.000,  -999.0,-999.000, 16.0635,-999.000
    49RY9407_1,   P09,     1,  1,      3,    205,2,19940708,1658, 34.2500, 137.0023,  150,    125.4,  14.5381,  34.5734,2,  34.5726,2,    184.4,2,    186.1,2,    17.29,2,    12.23,2,     0.06,2,     0.86,2, -999.000,9, -999.000,9, -999.000,9,-999.0000,9,  -999.00,9,   -999.0,9,-999.000,9,   -999.0,9,   -999,  -999.0,-999.000,-999.0000,-999.000,  -999.0,-999.000, 14.5196,-999.000
    49RY9407_1,   P09,     1,  1,      1,    201,2,19940708,1658, 34.2500, 137.0023,  150,    149.3,  14.0366,  34.5525,2,  34.5523,2,    171.1,2,    172.7,6,    20.13,6,    13.37,6,     0.06,6,     0.93,6, -999.000,9, -999.000,9, -999.000,9,-999.0000,9,  -999.00,9,   -999.0,9,-999.000,9,   -999.0,9,   -999,  -999.0,-999.000,-999.0000,-999.000,  -999.0,-999.000, 14.0151,-999.000
    49RY9407_1,   P09,     1,  1,      2,    204,2,19940708,1658, 34.2500, 137.0023,  150,    149.5,  14.0544,  34.5440,2,-999.0000,9,    171.1,2,   -999.0,9,  -999.00,9,  -999.00,9,  -999.00,9,  -999.00,9, -999.000,9, -999.000,9, -999.000,9,-999.0000,9,  -999.00,9,   -999.0,9,-999.000,9,   -999.0,9,   -999,  -999.0,  14.038,-999.0000,-999.000,   147.0,-999.000, 14.0329,-999.000
    49RY9407_1,   P09,     2,  1,      0,      0,2,19940708,1848, 34.1077, 136.9923, 1170,      0.5,  26.7011,  33.9777,2,-999.0000,9,    213.0,2,    209.1,6,     1.74,6,     0.16,6,     0.00,6,     0.01,6, -999.000,9, -999.000,9, -999.000,9,-999.0000,9,  -999.00,9,   -999.0,9,-999.000,9,   -999.0,9,   -999,  -999.0,-999.000,-999.0000,-999.000,  -999.0,-999.000, 26.7010,-999.000
    49RY9407_1,   P09,     2,  1,     17,    222,2,19940708,1848, 34.1077, 136.9923, 1170,     10.1,  26.0311,  34.0245,2,-999.0000,9,    213.7,2,   -999.0,5,     0.72,2,     0.06,2,     0.00,2,     0.01,2, -999.000,9, -999.000,9, -999.000,9,-999.0000,9,  -999.00,9,   -999.0,9,-999.000,9,   -999.0,9,   -999,  -999.0,-999.000,-999.0000,-999.000,  -999.0,-999.000, 26.0288,-999.000
    49RY9407_1,   P09,     2,  1,     15,    220,2,19940708,1848, 34.1077, 136.9923, 1170,     24.4,  23.2856,  34.3234,3,  34.2854,2,    216.2,2,    220.5,2,     1.62,2,     0.05,2,     0.00,2,     0.03,2, -999.000,9, -999.000,9, -999.000,9,-999.0000,9,  -999.00,9,   -999.0,9,-999.000,9,   -999.0,9,   -999,  -999.0,-999.000,-999.0000,-999.000,  -999.0,-999.000, 23.2806,-999.000
    49RY9407_1,   P09,     2,  1,     16,    221,2,19940708,1848, 34.1077, 136.9923, 1170,     24.4,  23.2856,  34.3234,3,  34.2853,6,    216.2,2,    219.8,2,     1.62,2,     0.04,2,     0.00,2,     0.03,2, -999.000,9, -999.000,9, -999.000,9,-999.0000,9,  -999.00,9,   -999.0,9,-999.000,9,   -999.0,9,   -999,  -999.0,  23.340,-999.0000,-999.000,    26.0,-999.000, 23.2806,-999.000
    49RY9407_1,   P09,     2,  1,     14,    219,4,19940708,1848, 34.1077, 136.9923, 1170,     50.8,  19.9616,  34.6099,2,  34.6114,2,    213.2,2,    205.3,2,     3.85,2,     2.62,2,     0.21,2,     0.24,2, -999.000,9, -999.000,9, -999.000,9,-999.0000,9,  -999.00,9,   -999.0,9,-999.000,9,   -999.0,9,   -999,  -999.0,-999.000,-999.0000,-999.000,  -999.0,-999.000, 19.9522,-999.000
    49RY9407_1,   P09,     2,  1,     13,    218,2,19940708,1848, 34.1077, 136.9923, 1170,    100.3,  16.2027,  34.6322,2,  34.6459,3,    187.1,2,    189.1,2,     8.35,2,     7.16,2,     0.02,2,     0.51,2, -999.000,9, -999.000,9, -999.000,9,-999.0000,9,  -999.00,9,   -999.0,9,-999.000,9,   -999.0,9,   -999,  -999.0,-999.000,-999.0000,-999.000,  -999.0,-999.000, 16.1868,-999.000
    49RY9407_1,   P09,     2,  1,     12,    217,2,19940708,1848, 34.1077, 136.9923, 1170,    125.9,  15.4881,  34.6336,2,  34.6305,2,    176.5,2,    178.7,2,    13.53,2,    10.63,2,     0.01,2,     0.74,2, -999.000,9, -999.000,9, -999.000,9,-999.0000,9,  -999.00,9,   -999.0,9,-999.000,9,   -999.0,9,   -999,  -999.0,-999.000,-999.0000,-999.000,  -999.0,-999.000, 15.4687,-999.000
    49RY9407_1,   P09,     2,  1,     11,    216,2,19940708,1848, 34.1077, 136.9923, 1170,    150.7,  14.3076,  34.5877,3,  34.5765,2,    172.9,2,    175.3,2,    16.32,2,    12.49,2,     0.01,2,     0.87,2, -999.000,9, -999.000,9, -999.000,9,-999.0000,9,  -999.00,9,   -999.0,9,-999.000,9,   -999.0,9,   -999,  -999.0,-999.000,-999.0000,-999.000,  -999.0,-999.000, 14.2856,-999.000
    49RY9407_1,   P09,     2,  1,      9,    213,4,19940708,1848, 34.1077, 136.9923, 1170,    201.3,  12.4643,  34.4767,2,  34.4705,3,    163.3,2,    162.5,2,    25.89,2,    16.87,2,     0.00,2,     1.17,2, -999.000,9, -999.000,9, -999.000,9,-999.0000,9,  -999.00,9,   -999.0,9,-999.000,9,   -999.0,9,   -999,  -999.0,  12.497,-999.0000,-999.000,   202.0,-999.000, 12.4375,-999.000
    49RY9407_1,   P09,     2,  1,     10,    214,2,19940708,1848, 34.1077, 136.9923, 1170,    201.3,  12.4643,  34.4767,2,  34.4744,6,    163.3,2,    162.3,2,    25.91,2,    16.83,2,     0.00,2,     1.18,2, -999.000,9, -999.000,9, -999.000,9,-999.0000,9,  -999.00,9,   -999.0,9,-999.000,9,   -999.0,9,   -999,  -999.0,-999.000,-999.0000,-999.000,  -999.0,-999.000, 12.4375,-999.000
    49RY9407_1,   P09,     2,  1,      7,    210,4,19940708,1848, 34.1077, 136.9923, 1170,    402.2,   7.2096,  34.2508,3,  34.2563,6,    112.4,2,    112.0,2,    65.10,2,    30.47,2,     0.00,2,     2.17,2, -999.000,9, -999.000,9, -999.000,9,-999.0000,9,  -999.00,9,   -999.0,9,-999.000,9,   -999.0,9,   -999,  -999.0,-999.000,-999.0000,-999.000,  -999.0,-999.000,  7.1712,-999.000
    49RY9407_1,   P09,     2,  1,      8,    212,2,19940708,1848, 34.1077, 136.9923, 1170,    402.2,   7.2096,  34.2508,3,  34.2563,6,    112.4,2,    111.7,2,    65.29,2,    30.46,2,     0.00,2,     2.18,2, -999.000,9, -999.000,9, -999.000,9,-999.0000,9,  -999.00,9,   -999.0,9,-999.000,9,   -999.0,9,   -999,  -999.0,-999.000,-999.0000,-999.000,  -999.0,-999.000,  7.1712,-999.000
    49RY9407_1,   P09,     2,  1,      6,    209,2,19940708,1848, 34.1077, 136.9923, 1170,    603.8,   5.1750,  34.2861,2,  34.2900,6,     81.3,2,     80.3,2,    94.17,2,    36.62,2,     0.00,2,     2.64,2, -999.000,9, -999.000,9, -999.000,9,-999.0000,9,  -999.00,9,   -999.0,9,-999.000,9,   -999.0,9,   -999,  -999.0,-999.000,-999.0000,-999.000,  -999.0,-999.000,  5.1258,-999.000
    49RY9407_1,   P09,     2,  1,      5,    207,2,19940708,1848, 34.1077, 136.9923, 1170,    704.9,   4.6251,  34.3167,2,  34.3161,6,     74.5,2,     72.6,2,   103.33,2,    38.11,2,     0.00,2,     2.75,2, -999.000,9, -999.000,9, -999.000,9,-999.0000,9,  -999.00,9,   -999.0,9,-999.000,9,   -999.0,9,   -999,  -999.0,-999.000,-999.0000,-999.000,  -999.0,-999.000,  4.5701,-999.000
    49RY9407_1,   P09,     2,  1,      4,    206,2,19940708,1848, 34.1077, 136.9923, 1170,    804.6,   4.1600,  34.3510,2,  34.3533,2,     68.8,2,     68.6,6,   112.18,6,    39.23,6,     0.00,6,     2.81,6, -999.000,9, -999.000,9, -999.000,9,-999.0000,9,  -999.00,9,   -999.0,9,-999.000,9,   -999.0,9,   -999,  -999.0,-999.000,-999.0000,-999.000,  -999.0,-999.000,  4.0995,-999.000
    49RY9407_1,   P09,     2,  1,      3,    205,2,19940708,1848, 34.1077, 136.9923, 1170,    905.9,   3.7216,  34.3905,2,  34.3925,6,     66.2,2,     67.7,2,   120.53,2,    39.94,2,     0.00,2,     2.87,2, -999.000,9, -999.000,9, -999.000,9,-999.0000,9,  -999.00,9,   -999.0,9,-999.000,9,   -999.0,9,   -999,  -999.0,-999.000,-999.0000,-999.000,  -999.0,-999.000,  3.6558,-999.000
    49RY9407_1,   P09,     2,  1,      2,    204,2,19940708,1848, 34.1077, 136.9923, 1170,   1007.3,   3.4545,  34.4180,2,  34.4228,6,     67.9,2,     68.8,2,   125.57,2,    40.25,2,     0.00,2,     2.90,2, -999.000,9, -999.000,9, -999.000,9,-999.0000,9,  -999.00,9,   -999.0,9,-999.000,9,   -999.0,9,   -999,  -999.0,   3.443,-999.0000,-999.000,  1005.0,-999.000,  3.3826,-999.000
    49RY9407_1,   P09,     2,  1,      1,    201,2,19940708,1848, 34.1077, 136.9923, 1170,   1177.6,   3.0840,  34.4635,2,  34.4656,6,     71.2,2,     71.3,6,   132.45,6,    40.50,6,     0.00,6,     2.90,6, -999.000,9, -999.000,9, -999.000,9,-999.0000,9,  -999.00,9,   -999.0,9,-999.000,9,   -999.0,9,   -999,  -999.0,-999.000,-999.0000,-999.000,  -999.0,-999.000,  3.0017,-999.000
    49RY9407_1,   P09,     3,  1,      0,      0,2,19940708,2127, 34.0017, 136.9858, 1010,      1.1,  27.1668,  34.0886,2,-999.0000,9,    168.1,4,    205.1,6,     1.90,6,     0.18,6,     0.02,6,     0.00,6, -999.000,9, -999.000,9, -999.000,9,-999.0000,9,  -999.00,9,     92.5,3,-999.000,9,   1919.0,2,   -999,     8.8,-999.000,-999.0000,-999.000,  -999.0,-999.000, 27.1665,-999.000
    49RY9407_1,   P09,     3,  1,     16,    221,2,19940708,2127, 34.0017, 136.9858, 1010,      9.9,  26.9180,  34.2008,3,  34.1313,2,    205.8,2,    206.8,2,     1.90,2,     0.07,2,     0.00,2,     0.04,2, -999.000,9, -999.000,9, -999.000,9,-999.0000,9,  -999.00,9,    101.2,3,-999.000,9,   1922.2,2,   -999,     9.0,-999.000,-999.0000,-999.000,  -999.0,-999.000, 26.9157,-999.000
    49RY9407_1,   P09,     3,  1,     15,    220,2,19940708,2127, 34.0017, 136.9858, 1010,     25.3,  24.6452,  34.4945,2,  34.5285,3,    209.1,2,    210.6,2,     1.96,2,     0.01,2,     0.00,2,     0.05,2, -999.000,9, -999.000,9, -999.000,9,-999.0000,9,  -999.00,9,    112.1,3,-999.000,9,   1944.8,2,   -999,     8.8,-999.000,-999.0000,-999.000,  -999.0,-999.000, 24.6398,-999.000
    49RY9407_1,   P09,     3,  1,     14,    219,2,19940708,2127, 34.0017, 136.9858, 1010,     50.3,  21.5517,  34.4904,2,  34.4923,2,    209.9,2,    208.1,2,     2.65,2,     0.71,2,     0.29,2,     0.13,2, -999.000,9, -999.000,9, -999.000,9,-999.0000,9,  -999.00,9,     92.2,3,-999.000,9,   1975.4,2,   -999,     8.4,-999.000,-999.0000,-999.000,  -999.0,-999.000, 21.5420,-999.000
    49RY9407_1,   P09,     3,  1,     13,    218,2,19940708,2127, 34.0017, 136.9858, 1010,     75.4,  17.4968,  34.6809,2,  34.6616,3,    191.2,2,    186.5,6,     8.79,2,     7.09,2,     0.04,2,     0.50,2, -999.000,9, -999.000,9, -999.000,9,-999.0000,9,  -999.00,9,     92.9,3,-999.000,9,   2033.5,2,   -999,     8.4,-999.000,-999.0000,-999.000,  -999.0,-999.000, 17.4841,-999.000
    49RY9407_1,   P09,     3,  1,     12,    217,2,19940708,2127, 34.0017, 136.9858, 1010,    100.3,  16.1974,  34.6654,2,  34.6614,2,    179.7,2,    181.8,2,    11.89,2,     9.40,2,     0.02,2,     0.65,2, -999.000,9, -999.000,9, -999.000,9,-999.0000,9,  -999.00,9,     67.7,3,-999.000,9,   2054.2,2,   -999,     8.5,-999.000,-999.0000,-999.000,  -999.0,-999.000, 16.1814,-999.000
    49RY9407_1,   P09,     3,  1,     11,    216,2,19940708,2127, 34.0017, 136.9858, 1010,    125.1,  15.7099,  34.6355,2,  34.6337,2,    180.3,2,    179.7,2,    13.35,6,    10.21,6,     0.01,6,     0.71,6, -999.000,9, -999.000,9, -999.000,9,-999.0000,9,  -999.00,9,     70.4,3,-999.000,9,   2059.7,2,   -999,     8.4,-999.000,-999.0000,-999.000,  -999.0,-999.000, 15.6904,-999.000
    49RY9407_1,   P09,     3,  1,     10,    214,2,19940708,2127, 34.0017, 136.9858, 1010,    151.0,  14.5720,  34.5689,2,  34.5728,2,    173.2,2,    177.2,2,    16.42,2,    12.11,2,     0.01,2,     0.83,2, -999.000,9, -999.000,9, -999.000,9,-999.0000,9,  -999.00,9,     42.7,3,-999.000,9,   2078.0,2,   -999,    10.9,-999.000,-999.0000,-999.000,  -999.0,-999.000, 14.5497,-999.000
    49RY9407_1,   P09,     3,  1,      9,    213,2,19940708,2127, 34.0017, 136.9858, 1010,    201.2,  12.6742,  34.4805,2,  34.4797,2,    167.0,2,    165.7,2,    24.29,2,    16.15,2,     0.01,2,     1.11,2, -999.000,9, -999.000,9, -999.000,9,-999.0000,9,  -999.00,9,     29.8,3,-999.000,9,   2105.9,2,   -999,     8.8,-999.000,-999.0000,-999.000,  -999.0,-999.000, 12.6472,-999.000
    49RY9407_1,   P09,     3,  1,      8,    212,2,19940708,2127, 34.0017, 136.9858, 1010,    301.7,   8.8318,  34.2472,2,  34.2489,2,    141.1,2,    145.0,6,    44.20,6,    24.75,6,     0.00,6,     1.74,6, -999.000,9, -999.000,9, -999.000,9,-999.0000,9,  -999.00,9,    -20.4,3,-999.000,9,   2173.5,2,   -999,     7.7,-999.000,-999.0000,-999.000,  -999.0,-999.000,  8.7995,-999.000
    49RY9407_1,   P09,     3,  1,      7,    210,2,19940708,2127, 34.0017, 136.9858, 1010,    402.5,   6.6494,  34.1950,2,  34.1952,2,    114.5,2,    113.2,2,    67.21,2,    31.46,2,     0.00,2,     2.24,2, -999.000,9, -999.000,9, -999.000,9,-999.0000,9,  -999.00,9,    -79.9,3,-999.000,9,   2227.9,2,   -999,     7.1,-999.000,-999.0000,-999.000,  -999.0,-999.000,  6.6127,-999.000
    49RY9407_1,   P09,     3,  1,      6,    209,2,19940708,2127, 34.0017, 136.9858, 1010,    503.3,   5.5803,  34.2397,2,  34.2410,2,     90.8,2,     85.9,2,    84.36,2,    35.77,2,     0.00,2,     2.56,2, -999.000,9, -999.000,9, -999.000,9,-999.0000,9,  -999.00,9,   -125.7,3,-999.000,9,   2272.0,2,   -999,     6.7,-999.000,-999.0000,-999.000,  -999.0,-999.000,  5.5382,-999.000
    49RY9407_1,   P09,     3,  1,      5,    207,2,19940708,2127, 34.0017, 136.9858, 1010,    603.8,   5.0445,  34.2929,2,  34.2917,2,     77.9,2,     77.6,2,    96.11,2,    37.22,2,     0.00,2,     2.68,2, -999.000,9, -999.000,9, -999.000,9,-999.0000,9,  -999.00,9,   -139.7,3,-999.000,9,   2291.8,2,   -999,     6.8,-999.000,-999.0000,-999.000,  -999.0,-999.000,  4.9959,-999.000
    49RY9407_1,   P09,     3,  1,      4,    206,2,19940708,2127, 34.0017, 136.9858, 1010,    704.9,   4.2935,  34.3375,2,  34.3397,2,     69.2,2,     71.1,6,   109.34,2,    39.00,2,     0.00,2,     2.81,2, -999.000,9, -999.000,9, -999.000,9,-999.0000,9,  -999.00,9,   -172.4,3,-999.000,9,   2314.4,2,   -999,     6.2,-999.000,-999.0000,-999.000,  -999.0,-999.000,  4.2403,-999.000
    49RY9407_1,   P09,     3,  1,      3,    205,2,19940708,2127, 34.0017, 136.9858, 1010,    805.4,   3.7531,  34.3849,2,  34.3875,2,     64.1,2,     66.0,2,   119.60,6,    40.06,6,     0.00,6,     2.88,6, -999.000,9, -999.000,9, -999.000,9,-999.0000,9,  -999.00,9,   -180.9,3,-999.000,9,   2329.1,2,   -999,     6.9,-999.000,-999.0000,-999.000,  -999.0,-999.000,  3.6951,-999.000
    49RY9407_1,   P09,     3,  1,      2,    204,2,19940708,2127, 34.0017, 136.9858, 1010,    906.9,   3.4185,  34.4203,2,  34.4238,2,     65.6,2,     66.7,2,   126.00,2,    40.41,2,     0.00,2,     2.91,2, -999.000,9, -999.000,9, -999.000,9,-999.0000,9,  -999.00,9,   -196.9,3,-999.000,9,   2337.2,2,   -999,     6.2,-999.000,-999.0000,-999.000,  -999.0,-999.000,  3.3547,-999.000
    49RY9407_1,   P09,     3,  1,      1,    201,2,19940708,2127, 34.0017, 136.9858, 1010,    977.3,   3.2377,  34.4425,2,  34.4430,2,     69.5,2,     67.2,6,   129.35,6,    40.52,6,     0.00,6,     2.90,6, -999.000,9, -999.000,9, -999.000,9,-999.0000,9,  -999.00,9,   -197.2,3,-999.000,9,   2341.8,2,   -999,     6.8,-999.000,-999.0000,-999.000,  -999.0,-999.000,  3.1698,-999.000