BOTTLE,20020306WHPSIOdm
EXPOCODE,SECT_ID,STNNBR,CASTNO,SAMPNO,BTLNBR,BTLNBR_FLAG_W,DATE,TIME,LATITUDE,LONGITUDE,DEPTH,CTDPRS,CTDTMP,CTDSAL,CTDSAL_FLAG_W,SALNTY,SALNTY_FLAG_W,CTDOXY,CTDOXY_FLAG_W,OXYGEN,OXYGEN_FLAG_W,SILCAT,SILCAT_FLAG_W,NITRAT,NITRAT_FLAG_W,NITRIT,NITRIT_FLAG_W,PHSPHT,PHSPHT_FLAG_W,CFC-11,CFC-11_FLAG_W,CFC-12,CFC-12_FLAG_W,TRITUM,TRITUM_FLAG_W,HELIUM,HELIUM_FLAG_W,DELHE3,DELHE3_FLAG_W,DELC14,DELC14_FLAG_W,NEON,NEON_FLAG_W,TCARBN,TCARBN_FLAG_W,CTDRAW,C14ERR,REVTMP,HELIER,DELHER,REVPRS,NEONER,THETA,TRITER
,,,,,,,,,,,,DBAR,ITS-90,PSS-78,,PSS-78,,UMOL/KG,,UMOL/KG,,UMOL/KG,,UMOL/KG,,UMOL/KG,,UMOL/KG,,PMOL/KG,,PMOL/KG,,TU,,NMOL/KG,,PERCNT,,/MILLE,,NMOL/KG,,UMOL/KG,,,/MILLE,ITS-90,NMOL/KG,PERCNT,DBAR,NMOL/KG,DEG C,TU
    49RY9407_2,   P09,    63,  1,      0,      0,2,19940807,0653,  8.9900, 136.9970, 3160,      0.0,  29.3955,  33.2831,2,-999.0000,9,    175.1,4,    197.1,6,     1.25,2,     0.03,2,     0.00,2,     0.01,2, -999.000,9, -999.000,9, -999.000,9,-999.0000,9,  -999.00,9,   -999.0,9,-999.000,9,   -999.0,9,   -999,  -999.0,-999.000,-999.0000,-999.000,  -999.0,-999.000, 29.3956,-999.000
    49RY9407_2,   P09,    63,  1,     19,    210,2,19940807,0653,  8.9900, 136.9970, 3160,      9.2,  28.9170,  33.7957,2,  33.7945,2,    192.0,2,    196.6,2,     1.28,2,     0.01,2,     0.00,2,     0.00,2, -999.000,9, -999.000,9, -999.000,9,-999.0000,9,  -999.00,9,   -999.0,9,-999.000,9,   -999.0,9,   -999,  -999.0,-999.000,-999.0000,-999.000,  -999.0,-999.000, 28.9148,-999.000
    49RY9407_2,   P09,    63,  1,     18,    221,2,19940807,0653,  8.9900, 136.9970, 3160,     24.9,  28.9061,  33.8819,2,  33.8709,2,    196.1,2,    196.5,2,     1.23,2,     0.04,2,     0.00,2,     0.01,2, -999.000,9, -999.000,9, -999.000,9,-999.0000,9,  -999.00,9,   -999.0,9,-999.000,9,   -999.0,9,   -999,  -999.0,-999.000,-999.0000,-999.000,    25.0,-999.000, 28.9001,-999.000
    49RY9407_2,   P09,    63,  1,     17,    219,2,19940807,0653,  8.9900, 136.9970, 3160,     49.7,  28.9021,  33.9410,2,  33.9417,2,    198.2,2,    196.5,2,     1.14,2,     0.01,2,     0.00,2,     0.01,2, -999.000,9, -999.000,9, -999.000,9,-999.0000,9,  -999.00,9,   -999.0,9,-999.000,9,   -999.0,9,   -999,  -999.0,-999.000,-999.0000,-999.000,  -999.0,-999.000, 28.8902,-999.000
    49RY9407_2,   P09,    63,  1,     16,    229,2,19940807,0653,  8.9900, 136.9970, 3160,     75.3,  27.6427,  34.4475,2,  34.4611,3,    209.0,2,    207.4,2,     1.09,2,     0.00,2,     0.00,2,     0.08,2, -999.000,9, -999.000,9, -999.000,9,-999.0000,9,  -999.00,9,   -999.0,9,-999.000,9,   -999.0,9,   -999,  -999.0,  27.630,-999.0000,-999.000,    71.0,-999.000, 27.6251,-999.000
    49RY9407_2,   P09,    63,  1,     15,    217,2,19940807,0653,  8.9900, 136.9970, 3160,     99.6,  26.3217,  34.8311,2,  34.8422,3,    210.4,3,    204.1,2,     1.27,2,     0.01,2,     0.00,2,     0.08,2, -999.000,9, -999.000,9, -999.000,9,-999.0000,9,  -999.00,9,   -999.0,9,-999.000,9,   -999.0,9,   -999,  -999.0,-999.000,-999.0000,-999.000,  -999.0,-999.000, 26.2993,-999.000
    49RY9407_2,   P09,    63,  1,     14,    204,2,19940807,0653,  8.9900, 136.9970, 3160,    125.8,  20.3139,  34.7355,2,  34.7398,2,    172.6,3,    162.4,2,     6.42,2,     6.21,2,     0.10,2,     0.56,2, -999.000,9, -999.000,9, -999.000,9,-999.0000,9,  -999.00,9,   -999.0,9,-999.000,9,   -999.0,9,   -999,  -999.0,  20.550,-999.0000,-999.000,   128.0,-999.000, 20.2904,-999.000
    49RY9407_2,   P09,    63,  1,     13,    214,2,19940807,0653,  8.9900, 136.9970, 3160,    152.1,  17.4819,  34.7433,2,  34.7623,2,    159.9,2,    161.9,2,     7.58,2,     8.60,2,     0.02,2,     0.67,2, -999.000,9, -999.000,9, -999.000,9,-999.0000,9,  -999.00,9,   -999.0,9,-999.000,9,   -999.0,9,   -999,  -999.0,-999.000,-999.0000,-999.000,   132.0,-999.000, 17.4564,-999.000
    49RY9407_2,   P09,    63,  1,     12,    213,2,19940807,0653,  8.9900, 136.9970, 3160,    201.4,  12.5486,  34.5041,2,  34.4986,2,    119.0,3,    124.2,2,    21.15,6,    20.04,6,     0.01,6,     1.46,6, -999.000,9, -999.000,9, -999.000,9,-999.0000,9,  -999.00,9,   -999.0,9,-999.000,9,   -999.0,9,   -999,  -999.0,-999.000,-999.0000,-999.000,   204.0,-999.000, 12.5217,-999.000
    49RY9407_2,   P09,    63,  2,      8,    212,2,19940807,0823,  8.9750, 136.9682, 3450,    300.7,   9.2039,  34.4747,2,  34.4760,2,     76.9,2,     79.0,2,    40.11,2,    31.40,2,     0.00,2,     2.22,2, -999.000,9, -999.000,9, -999.000,9,-999.0000,9,  -999.00,9,   -999.0,9,-999.000,9,   -999.0,9,   -999,  -999.0,-999.000,-999.0000,-999.000,  -999.0,-999.000,  9.1708,-999.000
    49RY9407_2,   P09,    63,  2,      7,    220,2,19940807,0823,  8.9750, 136.9682, 3450,    403.2,   8.0298,  34.5201,2,  34.5218,2,     72.6,2,     73.5,2,    46.56,2,    34.51,2,     0.00,2,     2.42,2, -999.000,9, -999.000,9, -999.000,9,-999.0000,9,  -999.00,9,   -999.0,9,-999.000,9,   -999.0,9,   -999,  -999.0,-999.000,-999.0000,-999.000,  -999.0,-999.000,  7.9887,-999.000
    49RY9407_2,   P09,    63,  2,      6,    209,2,19940807,0823,  8.9750, 136.9682, 3450,    503.0,   7.1343,  34.5194,2,  34.5214,2,     80.3,2,     80.5,2,    53.02,2,    35.62,2,     0.00,2,     2.50,2, -999.000,9, -999.000,9, -999.000,9,-999.0000,9,  -999.00,9,   -999.0,9,-999.000,9,   -999.0,9,   -999,  -999.0,-999.000,-999.0000,-999.000,  -999.0,-999.000,  7.0860,-999.000
    49RY9407_2,   P09,    63,  2,      5,    218,2,19940807,0823,  8.9750, 136.9682, 3450,    603.1,   6.4845,  34.5165,2,  34.5165,2,     83.3,2,     81.6,2,    60.69,2,    36.68,2,     0.00,2,     2.58,2, -999.000,9, -999.000,9, -999.000,9,-999.0000,9,  -999.00,9,   -999.0,9,-999.000,9,   -999.0,9,   -999,  -999.0,-999.000,-999.0000,-999.000,  -999.0,-999.000,  6.4292,-999.000
    49RY9407_2,   P09,    63,  2,      4,    206,2,19940807,0823,  8.9750, 136.9682, 3450,    705.1,   5.8848,  34.5220,2,  34.5242,2,     84.0,2,     81.7,2,    69.35,2,    37.75,2,     0.00,2,     2.67,2, -999.000,9, -999.000,9, -999.000,9,-999.0000,9,  -999.00,9,   -999.0,9,-999.000,9,   -999.0,9,   -999,  -999.0,-999.000,-999.0000,-999.000,  -999.0,-999.000,  5.8227,-999.000
    49RY9407_2,   P09,    63,  2,      3,    205,2,19940807,0823,  8.9750, 136.9682, 3450,    807.8,   5.2713,  34.5286,2,  34.5303,2,     84.4,2,     83.1,2,    79.42,2,    38.42,2,     0.00,2,     2.73,2, -999.000,9, -999.000,9, -999.000,9,-999.0000,9,  -999.00,9,   -999.0,9,-999.000,9,   -999.0,9,   -999,  -999.0,-999.000,-999.0000,-999.000,  -999.0,-999.000,  5.2034,-999.000
    49RY9407_2,   P09,    63,  2,      2,    216,2,19940807,0823,  8.9750, 136.9682, 3450,    906.7,   4.8514,  34.5390,2,  34.5411,2,     87.6,2,     85.1,2,    87.21,2,    38.92,2,     0.00,2,     2.76,2, -999.000,9, -999.000,9, -999.000,9,-999.0000,9,  -999.00,9,   -999.0,9,-999.000,9,   -999.0,9,   -999,  -999.0,-999.000,-999.0000,-999.000,  -999.0,-999.000,  4.7775,-999.000
    49RY9407_2,   P09,    63,  2,      1,    201,2,19940807,0823,  8.9750, 136.9682, 3450,   1008.7,   4.4000,  34.5475,2,  34.5488,2,     87.5,2,     87.5,2,    96.02,2,    39.11,2,     0.00,2,     2.78,2, -999.000,9, -999.000,9, -999.000,9,-999.0000,9,  -999.00,9,   -999.0,9,-999.000,9,   -999.0,9,   -999,  -999.0,-999.000,-999.0000,-999.000,  -999.0,-999.000,  4.3205,-999.000
    49RY9407_2,   P09,    63,  2,     24,    222,2,19940807,0823,  8.9750, 136.9682, 3450,   1260.8,   3.4295,  34.5759,2,  34.5767,2,     94.2,2,     93.7,2,   115.67,2,    39.56,2,     0.00,2,     2.80,2, -999.000,9, -999.000,9, -999.000,9,-999.0000,9,  -999.00,9,   -999.0,9,-999.000,9,   -999.0,9,   -999,  -999.0,-999.000,-999.0000,-999.000,  -999.0,-999.000,  3.3370,-999.000
    49RY9407_2,   P09,    63,  2,     22,    227,2,19940807,0823,  8.9750, 136.9682, 3450,   1514.6,   2.8837,  34.5997,2,  34.5983,2,    101.5,2,    102.0,2,   125.69,2,    39.50,2,     0.00,2,     2.78,2, -999.000,9, -999.000,9, -999.000,9,-999.0000,9,  -999.00,9,   -999.0,9,-999.000,9,   -999.0,9,   -999,  -999.0,-999.000,-999.0000,-999.000,  -999.0,-999.000,  2.7759,-999.000
    49RY9407_2,   P09,    63,  2,     23,    228,2,19940807,0823,  8.9750, 136.9682, 3450,   1514.6,   2.8837,  34.5997,2,  34.5989,2,    101.5,2,    102.0,2,   125.47,2,    39.45,2,     0.00,2,     2.76,2, -999.000,9, -999.000,9, -999.000,9,-999.0000,9,  -999.00,9,   -999.0,9,-999.000,9,   -999.0,9,   -999,  -999.0,-999.000,-999.0000,-999.000,  -999.0,-999.000,  2.7759,-999.000
    49RY9407_2,   P09,    63,  2,     21,    226,2,19940807,0823,  8.9750, 136.9682, 3450,   1767.6,   2.4202,  34.6226,2,  34.6209,2,    108.2,2,    110.2,2,   133.93,6,    39.24,6,     0.00,6,     2.76,6, -999.000,9, -999.000,9, -999.000,9,-999.0000,9,  -999.00,9,   -999.0,9,-999.000,9,   -999.0,9,   -999,  -999.0,-999.000,-999.0000,-999.000,  -999.0,-999.000,  2.2972,-999.000
    49RY9407_2,   P09,    63,  2,     20,    203,2,19940807,0823,  8.9750, 136.9682, 3450,   2020.4,   2.1574,  34.6362,2,  34.6353,2,    116.4,2,    117.6,2,   138.53,6,    38.90,6,     0.00,6,     2.73,6, -999.000,9, -999.000,9, -999.000,9,-999.0000,9,  -999.00,9,   -999.0,9,-999.000,9,   -999.0,9,   -999,  -999.0,-999.000,-999.0000,-999.000,  2018.0,-999.000,  2.0168,-999.000
    49RY9407_2,   P09,    63,  2,     18,    221,2,19940807,0823,  8.9750, 136.9682, 3450,   2276.1,   1.9939,  34.6461,2,  34.6459,2,    121.6,2,    123.4,6,   140.68,6,    38.54,6,     0.00,6,     2.70,6, -999.000,9, -999.000,9, -999.000,9,-999.0000,9,  -999.00,9,   -999.0,9,-999.000,9,   -999.0,9,   -999,  -999.0,-999.000,-999.0000,-999.000,  2276.0,-999.000,  1.8338,-999.000
    49RY9407_2,   P09,    63,  2,     19,    210,2,19940807,0823,  8.9750, 136.9682, 3450,   2276.4,   1.9917,  34.6430,2,  34.6457,2,    121.6,2,    123.9,6,   140.64,6,    38.58,6,     0.00,6,     2.70,6, -999.000,9, -999.000,9, -999.000,9,-999.0000,9,  -999.00,9,   -999.0,9,-999.000,9,   -999.0,9,   -999,  -999.0,-999.000,-999.0000,-999.000,  -999.0,-999.000,  1.8316,-999.000
    49RY9407_2,   P09,    63,  2,     17,    219,2,19940807,0823,  8.9750, 136.9682, 3450,   2530.4,   1.8046,  34.6558,2,  34.6556,2,    130.6,2,    130.7,2,   142.90,2,    38.19,2,     0.00,2,     2.66,2, -999.000,9, -999.000,9, -999.000,9,-999.0000,9,  -999.00,9,   -999.0,9,-999.000,9,   -999.0,9,   -999,  -999.0,-999.000,-999.0000,-999.000,  -999.0,-999.000,  1.6252,-999.000
    49RY9407_2,   P09,    63,  2,     16,    229,2,19940807,0823,  8.9750, 136.9682, 3450,   2785.5,   1.6789,  34.6654,2,  34.6640,2,    138.5,2,    137.7,2,   143.27,2,    37.70,2,     0.00,2,     2.62,2, -999.000,9, -999.000,9, -999.000,9,-999.0000,9,  -999.00,9,   -999.0,9,-999.000,9,   -999.0,9,   -999,  -999.0,   1.674,-999.0000,-999.000,  2784.0,-999.000,  1.4785,-999.000
    49RY9407_2,   P09,    63,  2,     15,    217,2,19940807,0823,  8.9750, 136.9682, 3450,   3040.7,   1.5734,  34.6729,2,  34.6717,2,    142.4,2,    145.0,2,   142.90,2,    37.29,2,     0.00,2,     2.58,2, -999.000,9, -999.000,9, -999.000,9,-999.0000,9,  -999.00,9,   -999.0,9,-999.000,9,   -999.0,9,   -999,  -999.0,-999.000,-999.0000,-999.000,  -999.0,-999.000,  1.3511,-999.000
    49RY9407_2,   P09,    63,  2,     14,    204,2,19940807,0823,  8.9750, 136.9682, 3450,   3294.4,   1.5431,  34.6763,2,  34.6753,2,    147.6,2,    148.7,6,   142.40,6,    37.03,6,     0.00,6,     2.57,6, -999.000,9, -999.000,9, -999.000,9,-999.0000,9,  -999.00,9,   -999.0,9,-999.000,9,   -999.0,9,   -999,  -999.0,   1.548,-999.0000,-999.000,  3292.0,-999.000,  1.2967,-999.000
    49RY9407_2,   P09,    63,  2,     13,    214,2,19940807,0823,  8.9750, 136.9682, 3450,   3550.7,   1.5408,  34.6773,2,  34.6768,2,    150.9,2,    150.9,6,   142.12,6,    36.81,6,     0.00,6,     2.55,6, -999.000,9, -999.000,9, -999.000,9,-999.0000,9,  -999.00,9,   -999.0,9,-999.000,9,   -999.0,9,   -999,  -999.0,-999.000,-999.0000,-999.000,  3477.0,-999.000,  1.2685,-999.000
    49RY9407_2,   P09,    63,  2,     12,    213,4,19940807,0823,  8.9750, 136.9682, 3450,   3748.7,   1.5553,  34.6780,2,  34.6774,2,    152.6,2,    151.7,6,   141.87,6,    36.75,6,     0.00,6,     2.55,6, -999.000,9, -999.000,9, -999.000,9,-999.0000,9,  -999.00,9,   -999.0,9,-999.000,9,   -999.0,9,   -999,  -999.0,-999.000,-999.0000,-999.000,  3744.0,-999.000,  1.2619,-999.000