BOTTLE,20020306WHPSIOdm
EXPOCODE,SECT_ID,STNNBR,CASTNO,SAMPNO,BTLNBR,BTLNBR_FLAG_W,DATE,TIME,LATITUDE,LONGITUDE,DEPTH,CTDPRS,CTDTMP,CTDSAL,CTDSAL_FLAG_W,SALNTY,SALNTY_FLAG_W,CTDOXY,CTDOXY_FLAG_W,OXYGEN,OXYGEN_FLAG_W,SILCAT,SILCAT_FLAG_W,NITRAT,NITRAT_FLAG_W,NITRIT,NITRIT_FLAG_W,PHSPHT,PHSPHT_FLAG_W,CFC-11,CFC-11_FLAG_W,CFC-12,CFC-12_FLAG_W,TRITUM,TRITUM_FLAG_W,HELIUM,HELIUM_FLAG_W,DELHE3,DELHE3_FLAG_W,DELC14,DELC14_FLAG_W,NEON,NEON_FLAG_W,TCARBN,TCARBN_FLAG_W,CTDRAW,C14ERR,REVTMP,HELIER,DELHER,REVPRS,NEONER,THETA,TRITER
,,,,,,,,,,,,DBAR,ITS-90,PSS-78,,PSS-78,,UMOL/KG,,UMOL/KG,,UMOL/KG,,UMOL/KG,,UMOL/KG,,UMOL/KG,,PMOL/KG,,PMOL/KG,,TU,,NMOL/KG,,PERCNT,,/MILLE,,NMOL/KG,,UMOL/KG,,,/MILLE,ITS-90,NMOL/KG,PERCNT,DBAR,NMOL/KG,DEG C,TU
    49RY9407_1,   P09,    42,  2,      7,    220,2,19940723,1010, 19.5037, 137.0252, 4515,    503.2,   9.4237,  34.2163,2,  34.2164,2,    155.2,2,    157.6,2,    32.21,2,    22.20,2,     0.00,2,     1.61,2, -999.000,9, -999.000,9, -999.000,9,-999.0000,9,  -999.00,9,   -999.0,9,-999.000,9,   -999.0,9,   -999,  -999.0,-999.000,-999.0000,-999.000,  -999.0,-999.000,  9.3671,-999.000
    49RY9407_1,   P09,    42,  2,      6,    209,2,19940723,1010, 19.5037, 137.0252, 4515,    604.5,   7.2080,  34.1478,2,  34.1553,2,    122.8,2,    119.5,2,    53.97,2,    29.84,2,     0.00,2,     2.18,2, -999.000,9, -999.000,9, -999.000,9,-999.0000,9,  -999.00,9,   -999.0,9,-999.000,9,   -999.0,9,   -999,  -999.0,-999.000,-999.0000,-999.000,  -999.0,-999.000,  7.1495,-999.000
    49RY9407_1,   P09,    42,  2,      5,    218,2,19940723,1010, 19.5037, 137.0252, 4515,    704.6,   5.5595,  34.2163,2,  34.2070,2,     85.3,3,     77.8,2,    79.66,2,    36.57,2,     0.00,2,     2.67,2, -999.000,9, -999.000,9, -999.000,9,-999.0000,9,  -999.00,9,   -999.0,9,-999.000,9,   -999.0,9,   -999,  -999.0,-999.000,-999.0000,-999.000,  -999.0,-999.000,  5.4996,-999.000
    49RY9407_1,   P09,    42,  2,      3,    205,2,19940723,1010, 19.5037, 137.0252, 4515,    804.6,   4.6505,  34.3308,2,  34.3279,2,     66.5,2,     62.9,6,    98.44,6,    39.61,6,     0.00,6,     2.88,6, -999.000,9, -999.000,9, -999.000,9,-999.0000,9,  -999.00,9,   -999.0,9,-999.000,9,   -999.0,9,   -999,  -999.0,-999.000,-999.0000,-999.000,  -999.0,-999.000,  4.5870,-999.000
    49RY9407_1,   P09,    42,  2,      4,    206,2,19940723,1010, 19.5037, 137.0252, 4515,    805.5,   4.6544,  34.3283,2,  34.3283,2,     66.5,2,     62.0,6,    98.61,6,    39.50,6,     0.00,6,     2.88,6, -999.000,9, -999.000,9, -999.000,9,-999.0000,9,  -999.00,9,   -999.0,9,-999.000,9,   -999.0,9,   -999,  -999.0,-999.000,-999.0000,-999.000,  -999.0,-999.000,  4.5908,-999.000
    49RY9407_1,   P09,    42,  2,      2,    216,2,19940723,1010, 19.5037, 137.0252, 4515,    907.7,   4.1803,  34.4164,2,  34.4155,2,     66.3,2,     64.3,2,   108.62,2,    40.04,2,     0.00,2,     2.90,2, -999.000,9, -999.000,9, -999.000,9,-999.0000,9,  -999.00,9,   -999.0,9,-999.000,9,   -999.0,9,   -999,  -999.0,-999.000,-999.0000,-999.000,  -999.0,-999.000,  4.1111,-999.000
    49RY9407_1,   P09,    42,  2,      1,    201,2,19940723,1010, 19.5037, 137.0252, 4515,   1008.1,   3.7764,  34.4616,2,  34.4606,2,     74.8,3,     69.4,2,   117.61,2,    40.21,2,     0.00,2,     2.92,2, -999.000,9, -999.000,9, -999.000,9,-999.0000,9,  -999.00,9,   -999.0,9,-999.000,9,   -999.0,9,   -999,  -999.0,-999.000,-999.0000,-999.000,  -999.0,-999.000,  3.7019,-999.000
    49RY9407_1,   P09,    42,  2,     24,    230,2,19940723,1010, 19.5037, 137.0252, 4515,   1260.9,   2.9922,  34.5357,2,  34.5338,2,     84.1,2,     83.8,2,   131.09,6,    39.82,6,     0.00,6,     2.86,6, -999.000,9, -999.000,9, -999.000,9,-999.0000,9,  -999.00,9,   -999.0,9,-999.000,9,   -999.0,9,   -999,  -999.0,-999.000,-999.0000,-999.000,  -999.0,-999.000,  2.9040,-999.000
    49RY9407_1,   P09,    42,  2,     23,    228,2,19940723,1010, 19.5037, 137.0252, 4515,   1514.4,   2.5685,  34.5727,2,  34.5726,2,     98.5,2,     96.5,6,   137.36,2,    39.38,2,     0.00,2,     2.82,2, -999.000,9, -999.000,9, -999.000,9,-999.0000,9,  -999.00,9,   -999.0,9,-999.000,9,   -999.0,9,   -999,  -999.0,-999.000,-999.0000,-999.000,  -999.0,-999.000,  2.4645,-999.000
    49RY9407_1,   P09,    42,  2,     22,    227,2,19940723,1010, 19.5037, 137.0252, 4515,   1767.3,   2.2351,  34.6071,2,  34.6071,2,    108.4,2,    109.9,2,   140.70,2,    38.89,2,     0.00,2,     2.78,2, -999.000,9, -999.000,9, -999.000,9,-999.0000,9,  -999.00,9,   -999.0,9,-999.000,9,   -999.0,9,   -999,  -999.0,-999.000,-999.0000,-999.000,  -999.0,-999.000,  2.1147,-999.000
    49RY9407_1,   P09,    42,  2,     21,    226,2,19940723,1010, 19.5037, 137.0252, 4515,   2021.9,   1.9968,  34.6268,2,  34.6283,2,    117.7,2,    118.0,2,   143.13,2,    38.46,2,     0.00,2,     2.74,2, -999.000,9, -999.000,9, -999.000,9,-999.0000,9,  -999.00,9,   -999.0,9,-999.000,9,   -999.0,9,   -999,  -999.0,-999.000,-999.0000,-999.000,  -999.0,-999.000,  1.8586,-999.000
    49RY9407_1,   P09,    42,  2,     19,    224,2,19940723,1010, 19.5037, 137.0252, 4515,   2276.1,   1.8370,  34.6417,2,  34.6413,2,    125.5,2,    125.2,2,   144.86,2,    38.14,2,     0.00,2,     2.70,2, -999.000,9, -999.000,9, -999.000,9,-999.0000,9,  -999.00,9,   -999.0,9,-999.000,9,   -999.0,9,   -999,  -999.0,-999.000,-999.0000,-999.000,  -999.0,-999.000,  1.6796,-999.000
    49RY9407_1,   P09,    42,  2,     20,    225,2,19940723,1010, 19.5037, 137.0252, 4515,   2276.1,   1.8370,  34.6417,2,  34.6415,2,    125.5,2,    124.8,2,   145.01,2,    38.04,2,     0.00,2,     2.70,2, -999.000,9, -999.000,9, -999.000,9,-999.0000,9,  -999.00,9,   -999.0,9,-999.000,9,   -999.0,9,   -999,  -999.0,-999.000,-999.0000,-999.000,  -999.0,-999.000,  1.6796,-999.000
    49RY9407_1,   P09,    42,  2,     18,    223,4,19940723,1010, 19.5037, 137.0252, 4515,   2529.5,   1.7411,  34.6535,2,  34.6526,2,    128.6,3,    133.7,2,   145.16,6,    37.69,6,     0.00,6,     2.66,6, -999.000,9, -999.000,9, -999.000,9,-999.0000,9,  -999.00,9,   -999.0,9,-999.000,9,   -999.0,9,   -999,  -999.0,-999.000,-999.0000,-999.000,  -999.0,-999.000,  1.5630,-999.000
    49RY9407_1,   P09,    42,  2,     16,    210,2,19940723,1010, 19.5037, 137.0252, 4515,   3038.1,   1.6246,  34.6667,2,  34.6652,2,    138.4,3,    143.7,2,   144.49,2,    37.19,2,     0.00,2,     2.61,2, -999.000,9, -999.000,9, -999.000,9,-999.0000,9,  -999.00,9,   -999.0,9,-999.000,9,   -999.0,9,   -999,  -999.0,-999.000,-999.0000,-999.000,  -999.0,-999.000,  1.4015,-999.000
    49RY9407_1,   P09,    42,  2,     17,    203,2,19940723,1010, 19.5037, 137.0252, 4515,   3038.1,   1.6246,  34.6667,2,  34.6634,3,    138.4,3,    142.0,2,   144.31,2,    37.18,2,     0.00,2,     2.62,2, -999.000,9, -999.000,9, -999.000,9,-999.0000,9,  -999.00,9,   -999.0,9,-999.000,9,   -999.0,9,   -999,  -999.0,-999.000,-999.0000,-999.000,  3037.0,-999.000,  1.4015,-999.000
    49RY9407_1,   P09,    42,  2,     15,    221,2,19940723,1010, 19.5037, 137.0252, 4515,   3295.0,   1.5853,  34.6724,2,  34.6711,2,    147.1,2,    146.9,2,   143.72,2,    36.92,2,     0.00,2,     2.58,2, -999.000,9, -999.000,9, -999.000,9,-999.0000,9,  -999.00,9,   -999.0,9,-999.000,9,   -999.0,9,   -999,  -999.0,   1.580,-999.0000,-999.000,  3296.0,-999.000,  1.3378,-999.000
    49RY9407_1,   P09,    42,  2,     14,    219,2,19940723,1010, 19.5037, 137.0252, 4515,   3550.4,   1.5540,  34.6768,2,  34.6756,2,    148.6,2,    151.9,2,   143.03,2,    36.74,2,     0.00,2,     2.58,2, -999.000,9, -999.000,9, -999.000,9,-999.0000,9,  -999.00,9,   -999.0,9,-999.000,9,   -999.0,9,   -999,  -999.0,-999.000,-999.0000,-999.000,  -999.0,-999.000,  1.2813,-999.000
    49RY9407_1,   P09,    42,  2,     13,    229,2,19940723,1010, 19.5037, 137.0252, 4515,   3806.7,   1.5231,  34.6807,2,  34.6800,2,    152.4,2,    153.7,2,   142.66,2,    36.47,2,     0.00,2,     2.55,2, -999.000,9, -999.000,9, -999.000,9,-999.0000,9,  -999.00,9,   -999.0,9,-999.000,9,   -999.0,9,   -999,  -999.0,   1.520,-999.0000,-999.000,  3806.0,-999.000,  1.2244,-999.000
    49RY9407_1,   P09,    42,  2,     12,    217,2,19940723,1010, 19.5037, 137.0252, 4515,   4063.6,   1.5059,  34.6840,2,  34.6855,2,    158.6,2,    160.1,2,   140.75,2,    36.02,2,     0.00,2,     2.51,2, -999.000,9, -999.000,9, -999.000,9,-999.0000,9,  -999.00,9,   -999.0,9,-999.000,9,   -999.0,9,   -999,  -999.0,-999.000,-999.0000,-999.000,  -999.0,-999.000,  1.1798,-999.000
    49RY9407_1,   P09,    42,  2,     10,    214,2,19940723,1010, 19.5037, 137.0252, 4515,   4319.7,   1.5139,  34.6860,2,  34.6867,2,    159.7,2,    160.9,6,   140.40,6,    35.90,6,     0.00,6,     2.50,6, -999.000,9, -999.000,9, -999.000,9,-999.0000,9,  -999.00,9,   -999.0,9,-999.000,9,   -999.0,9,   -999,  -999.0,-999.000,-999.0000,-999.000,  4558.0,-999.000,  1.1591,-999.000
    49RY9407_1,   P09,    42,  2,     11,    204,2,19940723,1010, 19.5037, 137.0252, 4515,   4320.5,   1.5134,  34.6867,2,  34.6851,2,    159.7,2,    160.3,2,   140.84,2,    36.09,2,     0.00,2,     2.51,2, -999.000,9, -999.000,9, -999.000,9,-999.0000,9,  -999.00,9,   -999.0,9,-999.000,9,   -999.0,9,   -999,  -999.0,   1.510,-999.0000,-999.000,  4320.0,-999.000,  1.1585,-999.000
    49RY9407_1,   P09,    42,  2,      9,    213,4,19940723,1010, 19.5037, 137.0252, 4515,   4565.5,   1.5341,  34.6871,2,  34.6861,2,    159.8,2,    160.3,2,   140.44,6,    35.90,6,     0.00,6,     2.50,6, -999.000,9, -999.000,9, -999.000,9,-999.0000,9,  -999.00,9,   -999.0,9,-999.000,9,   -999.0,9,   -999,  -999.0,-999.000,-999.0000,-999.000,  4562.0,-999.000,  1.1505,-999.000
    49RY9407_1,   P09,    43,  1,      0,      0,2,19940723,1414, 19.0105, 136.9992, 4695,      0.6,  29.7418,  34.4942,2,-999.0000,9,    148.6,4,    196.1,6,     1.15,2,     0.02,2,     0.00,2,     0.00,2, -999.000,9, -999.000,9, -999.000,9,-999.0000,9,  -999.00,9,   -999.0,9,-999.000,9,   -999.0,9,   -999,  -999.0,-999.000,-999.0000,-999.000,  -999.0,-999.000, 29.7416,-999.000
    49RY9407_1,   P09,    43,  1,     17,    203,2,19940723,1414, 19.0105, 136.9992, 4695,     10.0,  29.6514,  34.4881,2,  34.4907,2,    184.0,4,    194.6,2,     1.14,2,     0.02,2,     0.00,2,     0.00,2, -999.000,9, -999.000,9, -999.000,9,-999.0000,9,  -999.00,9,   -999.0,9,-999.000,9,   -999.0,9,   -999,  -999.0,-999.000,-999.0000,-999.000,    15.0,-999.000, 29.6489,-999.000
    49RY9407_1,   P09,    43,  1,     16,    210,2,19940723,1414, 19.0105, 136.9992, 4695,     24.7,  29.5849,  34.4868,2,  34.4905,2,    193.4,2,    195.3,6,     1.12,2,     0.01,2,     0.00,2,     0.00,2, -999.000,9, -999.000,9, -999.000,9,-999.0000,9,  -999.00,9,   -999.0,9,-999.000,9,   -999.0,9,   -999,  -999.0,-999.000,-999.0000,-999.000,  -999.0,-999.000, 29.5788,-999.000
    49RY9407_1,   P09,    43,  1,     15,    221,2,19940723,1414, 19.0105, 136.9992, 4695,     49.2,  27.6907,  34.8096,2,  34.8008,2,    217.4,2,    216.7,2,     1.17,6,     0.02,6,     0.00,6,     0.00,6, -999.000,9, -999.000,9, -999.000,9,-999.0000,9,  -999.00,9,   -999.0,9,-999.000,9,   -999.0,9,   -999,  -999.0,  27.690,-999.0000,-999.000,    53.0,-999.000, 27.6792,-999.000
    49RY9407_1,   P09,    43,  1,     14,    219,2,19940723,1414, 19.0105, 136.9992, 4695,     74.4,  26.0625,  34.9616,2,  34.9373,2,    220.2,2,    216.3,2,     1.09,2,     0.01,2,     0.00,2,     0.00,2, -999.000,9, -999.000,9, -999.000,9,-999.0000,9,  -999.00,9,   -999.0,9,-999.000,9,   -999.0,9,   -999,  -999.0,-999.000,-999.0000,-999.000,  -999.0,-999.000, 26.0459,-999.000
    49RY9407_1,   P09,    43,  1,     13,    229,2,19940723,1414, 19.0105, 136.9992, 4695,    100.4,  24.3831,  34.9096,2,  34.9110,2,    220.0,3,    206.7,2,     1.24,2,     0.00,2,     0.00,2,     0.02,2, -999.000,9, -999.000,9, -999.000,9,-999.0000,9,  -999.00,9,   -999.0,9,-999.000,9,   -999.0,9,   -999,  -999.0,  24.380,-999.0000,-999.000,    96.0,-999.000, 24.3618,-999.000
    49RY9407_1,   P09,    43,  1,     12,    217,2,19940723,1414, 19.0105, 136.9992, 4695,    124.8,  23.4406,  34.9527,2,  34.9546,2,    211.1,3,    201.6,2,     1.48,2,     0.02,2,     0.03,2,     0.04,2, -999.000,9, -999.000,9, -999.000,9,-999.0000,9,  -999.00,9,   -999.0,9,-999.000,9,   -999.0,9,   -999,  -999.0,-999.000,-999.0000,-999.000,  -999.0,-999.000, 23.4148,-999.000
    49RY9407_1,   P09,    43,  1,     11,    204,2,19940723,1414, 19.0105, 136.9992, 4695,    150.1,  22.8599,  35.0583,2,  35.0561,2,    202.2,3,    192.8,2,     1.57,2,     0.44,2,     0.07,2,     0.08,2, -999.000,9, -999.000,9, -999.000,9,-999.0000,9,  -999.00,9,   -999.0,9,-999.000,9,   -999.0,9,   -999,  -999.0,  22.860,-999.0000,-999.000,   150.0,-999.000, 22.8294,-999.000
    49RY9407_1,   P09,    43,  1,     10,    214,2,19940723,1414, 19.0105, 136.9992, 4695,    201.0,  20.3151,  34.9416,2,  34.9422,2,    210.8,2,    209.0,2,     2.09,2,     1.28,2,     0.02,2,     0.12,2, -999.000,9, -999.000,9, -999.000,9,-999.0000,9,  -999.00,9,   -999.0,9,-999.000,9,   -999.0,9,   -999,  -999.0,-999.000,-999.0000,-999.000,   207.0,-999.000, 20.2775,-999.000
    49RY9407_1,   P09,    43,  1,      9,    213,2,19940723,1414, 19.0105, 136.9992, 4695,    301.6,  17.1422,  34.7842,2,  34.7811,2,    197.1,2,    197.6,2,     4.85,6,     5.33,6,     0.01,6,     0.37,6, -999.000,9, -999.000,9, -999.000,9,-999.0000,9,  -999.00,9,   -999.0,9,-999.000,9,   -999.0,9,   -999,  -999.0,-999.000,-999.0000,-999.000,   304.0,-999.000, 17.0921,-999.000