BOTTLE,20020306WHPSIOdm
EXPOCODE,SECT_ID,STNNBR,CASTNO,SAMPNO,BTLNBR,BTLNBR_FLAG_W,DATE,TIME,LATITUDE,LONGITUDE,DEPTH,CTDPRS,CTDTMP,CTDSAL,CTDSAL_FLAG_W,SALNTY,SALNTY_FLAG_W,CTDOXY,CTDOXY_FLAG_W,OXYGEN,OXYGEN_FLAG_W,SILCAT,SILCAT_FLAG_W,NITRAT,NITRAT_FLAG_W,NITRIT,NITRIT_FLAG_W,PHSPHT,PHSPHT_FLAG_W,CFC-11,CFC-11_FLAG_W,CFC-12,CFC-12_FLAG_W,TRITUM,TRITUM_FLAG_W,HELIUM,HELIUM_FLAG_W,DELHE3,DELHE3_FLAG_W,DELC14,DELC14_FLAG_W,NEON,NEON_FLAG_W,TCARBN,TCARBN_FLAG_W,CTDRAW,C14ERR,REVTMP,HELIER,DELHER,REVPRS,NEONER,THETA,TRITER
,,,,,,,,,,,,DBAR,ITS-90,PSS-78,,PSS-78,,UMOL/KG,,UMOL/KG,,UMOL/KG,,UMOL/KG,,UMOL/KG,,UMOL/KG,,PMOL/KG,,PMOL/KG,,TU,,NMOL/KG,,PERCNT,,/MILLE,,NMOL/KG,,UMOL/KG,,,/MILLE,ITS-90,NMOL/KG,PERCNT,DBAR,NMOL/KG,DEG C,TU
    49RY9407_1,   P09,    41,  3,      7,    220,2,19940723,0407, 20.0323, 137.0668, 4355,      1.9,  29.6124,  34.5517,2,  34.5557,2,    161.2,4,   -999.0,9,  -999.00,9,  -999.00,9,  -999.00,9,  -999.00,9,    1.483,2,    1.034,3,    1.298,2,   1.6719,2,    -1.10,2,   -999.0,9,   6.476,2,   -999.0,9,   -999,  -999.0,-999.000,  0.0034,   0.260,  -999.0,   0.018, 29.6119,   0.015
    49RY9407_1,   P09,    41,  3,      6,    209,2,19940723,0407, 20.0323, 137.0668, 4355,     25.4,  29.3611,  34.5520,2,  34.5580,2,    190.8,3,   -999.0,9,  -999.00,9,  -999.00,9,  -999.00,9,  -999.00,9,    1.495,2,    1.012,3,    1.293,2,   1.6609,2,    -1.43,2,   -999.0,9,   6.476,2,   -999.0,9,   -999,  -999.0,-999.000,  0.0033,   0.260,  -999.0,   0.018, 29.3549,   0.015
    49RY9407_1,   P09,    41,  3,      5,    218,2,19940723,0407, 20.0323, 137.0668, 4355,     50.5,  28.3381,  34.7866,2,  34.7801,2,    207.8,2,   -999.0,9,  -999.00,9,  -999.00,9,  -999.00,9,  -999.00,9,    1.663,2,    1.140,3, -999.000,5,   1.6835,2,    -0.58,2,   -999.0,9,   6.604,2,   -999.0,9,   -999,  -999.0,-999.000,  0.0026,   0.190,  -999.0,   0.014, 28.3261,-999.000
    49RY9407_1,   P09,    41,  3,      4,    206,2,19940723,0407, 20.0323, 137.0668, 4355,     75.4,  25.9805,  34.9004,2,  34.8862,2,    217.1,2,   -999.0,9,  -999.00,9,  -999.00,9,  -999.00,9,  -999.00,9,    1.778,2,    1.193,3,    1.350,2,   1.6814,2,    -0.70,2,   -999.0,9,   6.640,2,   -999.0,9,   -999,  -999.0,-999.000,  0.0034,   0.190,  -999.0,   0.014, 25.9637,   0.016
    49RY9407_1,   P09,    41,  3,      3,    205,2,19940723,0407, 20.0323, 137.0668, 4355,    100.1,  24.6666,  34.9066,2,  34.8844,2,    211.5,2,   -999.0,9,  -999.00,9,  -999.00,9,  -999.00,9,  -999.00,9,    1.821,2,    1.232,3,    1.432,2,   1.6824,2,    -0.75,2,   -999.0,9,   6.671,2,   -999.0,9,   -999,  -999.0,-999.000,  0.0026,   0.200,  -999.0,   0.014, 24.6451,   0.017
    49RY9407_1,   P09,    41,  3,      2,    216,2,19940723,0407, 20.0323, 137.0668, 4355,    151.5,  23.0533,  34.9314,2,  34.9333,2,    196.3,2,   -999.0,9,  -999.00,9,  -999.00,9,  -999.00,9,  -999.00,9,    1.924,2,    1.528,4, -999.000,5,   1.7024,2,    -0.10,2,   -999.0,9,   6.822,2,   -999.0,9,   -999,  -999.0,-999.000,  0.0028,   0.190,  -999.0,   0.015, 23.0223,-999.000
    49RY9407_1,   P09,    41,  3,      1,    201,2,19940723,0407, 20.0323, 137.0668, 4355,    200.0,  20.4449,  34.9675,2,  34.9357,2,    211.7,2,   -999.0,9,  -999.00,9,  -999.00,9,  -999.00,9,  -999.00,9,    2.117,2,    1.331,3,    1.457,2,   1.6974,2,    -1.02,2,   -999.0,9,   6.867,2,   -999.0,9,   -999,  -999.0,-999.000,  0.0050,   0.260,  -999.0,   0.019, 20.4073,   0.016
    49RY9407_1,   P09,    41,  3,     24,    230,2,19940723,0407, 20.0323, 137.0668, 4355,    301.9,  17.2832,  34.7959,2,  34.7957,2,    191.4,2,   -999.0,9,  -999.00,9,  -999.00,9,  -999.00,9,  -999.00,9,    2.283,2,    1.489,3,    1.556,2,   1.7072,2,     1.22,2,   -999.0,9,   7.032,2,   -999.0,9,   -999,  -999.0,-999.000,  0.0035,   0.260,  -999.0,   0.020, 17.2327,   0.017
    49RY9407_1,   P09,    41,  3,     23,    228,2,19940723,0407, 20.0323, 137.0668, 4355,    403.7,  13.7603,  34.4981,2,  34.4980,2,    184.5,2,   -999.0,9,  -999.00,9,  -999.00,9,  -999.00,9,  -999.00,9,    2.084,2,    1.428,3, -999.000,5,   1.7139,2,     6.71,2,   -999.0,9,   7.185,2,   -999.0,9,   -999,  -999.0,-999.000,  0.0035,   0.260,  -999.0,   0.020, 13.7025,-999.000
    49RY9407_1,   P09,    41,  3,     22,    227,2,19940723,0407, 20.0323, 137.0668, 4355,    502.3,  10.8581,  34.2826,2,  34.2817,2,    166.4,2,   -999.0,9,  -999.00,9,  -999.00,9,  -999.00,9,  -999.00,9,    1.709,2,    1.239,3,    1.995,2,   1.7627,2,    10.70,2,   -999.0,9,   7.392,2,   -999.0,9,   -999,  -999.0,-999.000,  0.0038,   0.260,  -999.0,   0.021, 10.7963,   0.022
    49RY9407_1,   P09,    41,  3,     21,    226,2,19940723,0407, 20.0323, 137.0668, 4355,    605.0,   7.7307,  34.1498,2,  34.1498,2,    134.6,2,   -999.0,9,  -999.00,9,  -999.00,9,  -999.00,9,  -999.00,9,    0.944,2,    1.107,3,    1.307,2,   1.7843,2,    14.32,2,   -999.0,9,   7.617,2,   -999.0,9,   -999,  -999.0,-999.000,  0.0037,   0.260,  -999.0,   0.021,  7.6699,   0.016
    49RY9407_1,   P09,    41,  3,     20,    225,2,19940723,0407, 20.0323, 137.0668, 4355,    704.8,   6.3377,  34.1687,2,  34.1710,2,    101.5,2,   -999.0,9,  -999.00,9,  -999.00,9,  -999.00,9,  -999.00,9,    0.439,2,    0.506,3,    0.759,2,-999.0000,5,  -999.00,5,   -999.0,9,-999.000,9,   -999.0,9,   -999,  -999.0,-999.000,-999.0000,-999.000,  -999.0,-999.000,  6.2737,   0.009
    49RY9407_1,   P09,    41,  3,     19,    224,2,19940723,0407, 20.0323, 137.0668, 4355,    806.3,   5.1002,  34.2528,2,  34.2563,2,     79.9,2,   -999.0,9,  -999.00,9,  -999.00,9,  -999.00,9,  -999.00,9,    0.189,2,    0.399,3, -999.000,5,   1.8277,2,    14.61,2,   -999.0,9,   7.904,3,   -999.0,9,   -999,  -999.0,-999.000,  0.0028,   0.190,  -999.0,   0.017,  5.0338,-999.000
    49RY9407_1,   P09,    41,  3,     18,    223,2,19940723,0407, 20.0323, 137.0668, 4355,    907.3,   4.3646,  34.3624,2,  34.3620,2,     72.8,2,   -999.0,9,  -999.00,9,  -999.00,9,  -999.00,9,  -999.00,9,    0.059,2,    0.059,3,    0.156,2,   1.8156,3,    14.40,2,   -999.0,9,   7.742,3,   -999.0,9,   -999,  -999.0,-999.000,  0.0059,   0.260,  -999.0,   0.022,  4.2942,   0.004
    49RY9407_1,   P09,    41,  3,     16,    210,2,19940723,0407, 20.0323, 137.0668, 4355,   1007.5,   3.8777,  34.4318,2,-999.0000,9,     75.0,2,   -999.0,9,  -999.00,9,  -999.00,9,  -999.00,9,  -999.00,9, -999.000,9, -999.000,9, -999.000,9,-999.0000,9,  -999.00,9,   -999.0,9,-999.000,9,   -999.0,9,   -999,  -999.0,-999.000,-999.0000,-999.000,  -999.0,-999.000,  3.8025,-999.000
    49RY9407_1,   P09,    41,  3,     13,    229,2,19940723,0407, 20.0323, 137.0668, 4355,   1008.2,   3.8763,  34.4326,2,  34.4293,2,     75.0,2,   -999.0,9,  -999.00,9,  -999.00,9,  -999.00,9,  -999.00,9, -999.000,9, -999.000,9, -999.000,9,-999.0000,9,  -999.00,9,   -999.0,9,-999.000,9,   -999.0,9,   -999,  -999.0,   3.871,-999.0000,-999.000,  1005.0,-999.000,  3.8011,-999.000
    49RY9407_1,   P09,    41,  3,     12,    217,2,19940723,0407, 20.0323, 137.0668, 4355,   1008.8,   3.8744,  34.4327,2,  34.4338,2,     75.7,2,   -999.0,9,  -999.00,9,  -999.00,9,  -999.00,9,  -999.00,9, -999.000,9, -999.000,9, -999.000,9,-999.0000,9,  -999.00,9,   -999.0,9,-999.000,9,   -999.0,9,   -999,  -999.0,-999.000,-999.0000,-999.000,  -999.0,-999.000,  3.7991,-999.000
    49RY9407_1,   P09,    41,  3,     17,    203,2,19940723,0407, 20.0323, 137.0668, 4355,   1009.1,   3.8756,  34.4317,2,  34.4320,2,     75.7,2,   -999.0,9,  -999.00,9,  -999.00,9,  -999.00,9,  -999.00,9, -999.000,9, -999.000,9, -999.000,9,-999.0000,9,  -999.00,9,   -999.0,9,-999.000,9,   -999.0,9,   -999,  -999.0,-999.000,-999.0000,-999.000,  1006.0,-999.000,  3.8003,-999.000
    49RY9407_1,   P09,    41,  3,     15,    221,2,19940723,0407, 20.0323, 137.0668, 4355,   1009.3,   3.8766,  34.4324,2,-999.0000,9,     75.7,2,   -999.0,9,  -999.00,9,  -999.00,9,  -999.00,9,  -999.00,9, -999.000,9, -999.000,9, -999.000,9,-999.0000,9,  -999.00,9,   -999.0,9,-999.000,9,   -999.0,9,   -999,  -999.0,   3.871,-999.0000,-999.000,  1006.0,-999.000,  3.8013,-999.000
    49RY9407_1,   P09,    41,  3,     14,    219,2,19940723,0407, 20.0323, 137.0668, 4355,   1009.9,   3.8763,  34.4317,2,  34.4304,2,     75.3,2,   -999.0,9,  -999.00,9,  -999.00,9,  -999.00,9,  -999.00,9,    0.028,2,    0.053,4,    0.063,2,   1.8376,2,    15.51,2,   -999.0,9,   7.825,2,   -999.0,9,   -999,  -999.0,-999.000,  0.0025,   0.230,  -999.0,   0.016,  3.8009,   0.007
    49RY9407_1,   P09,    41,  3,     11,    204,2,19940723,0407, 20.0323, 137.0668, 4355,   1261.4,   2.9808,  34.5050,2,  34.5056,2,     79.6,2,   -999.0,9,  -999.00,9,  -999.00,9,  -999.00,9,  -999.00,9,    0.007,2,    0.063,4,    0.015,2,   1.8590,2,    17.71,2,   -999.0,9,   7.922,2,   -999.0,9,   -999,  -999.0,   2.985,  0.0031,   0.230,  1256.0,   0.016,  2.8928,   0.008
    49RY9407_1,   P09,    41,  3,     10,    214,2,19940723,0407, 20.0323, 137.0668, 4355,   1515.2,   2.5420,  34.5751,2,  34.5763,2,    101.2,2,   -999.0,9,  -999.00,9,  -999.00,9,  -999.00,9,  -999.00,9, -999.000,9, -999.000,9, -999.000,5,   1.8695,2,    19.28,2,   -999.0,9,   7.956,2,   -999.0,9,   -999,  -999.0,-999.000,  0.0038,   0.260,  1501.0,   0.022,  2.4383,-999.000
    49RY9407_1,   P09,    41,  3,      9,    213,2,19940723,0407, 20.0323, 137.0668, 4355,   1516.0,   2.5416,  34.5749,2,  34.5752,2,    101.1,2,   -999.0,9,  -999.00,9,  -999.00,9,  -999.00,9,  -999.00,9,    0.027,3,    0.089,4, -999.000,9,-999.0000,9,  -999.00,9,   -999.0,9,-999.000,9,   -999.0,9,   -999,  -999.0,-999.000,-999.0000,-999.000,  1512.0,-999.000,  2.4377,-999.000
    49RY9407_1,   P09,    42,  1,      0,      0,2,19940723,0812, 19.5057, 137.0015, 4560,      0.2,  29.7218,  34.5664,2,-999.0000,9,    191.1,3,    196.6,2,     1.02,2,     0.00,2,     0.00,2,     0.00,2, -999.000,9, -999.000,9, -999.000,9,-999.0000,9,  -999.00,9,   -999.0,9,-999.000,9,   -999.0,9,   -999,  -999.0,-999.000,-999.0000,-999.000,  -999.0,-999.000, 29.7217,-999.000
    49RY9407_1,   P09,    42,  1,     18,    223,2,19940723,0812, 19.5057, 137.0015, 4560,      9.8,  29.5331,  34.5666,2,  34.5698,2,    189.7,3,    198.3,2,     1.02,2,     0.03,2,     0.00,2,     0.00,2, -999.000,9, -999.000,9, -999.000,9,-999.0000,9,  -999.00,9,   -999.0,9,-999.000,9,   -999.0,9,   -999,  -999.0,-999.000,-999.0000,-999.000,  -999.0,-999.000, 29.5307,-999.000
    49RY9407_1,   P09,    42,  1,     17,    203,2,19940723,0812, 19.5057, 137.0015, 4560,     24.3,  29.4368,  34.5708,2,  34.5759,2,    191.4,3,    197.7,6,     1.03,2,     0.01,2,     0.00,2,     0.00,2, -999.000,9, -999.000,9, -999.000,9,-999.0000,9,  -999.00,9,   -999.0,9,-999.000,9,   -999.0,9,   -999,  -999.0,-999.000,-999.0000,-999.000,    29.0,-999.000, 29.4309,-999.000
    49RY9407_1,   P09,    42,  1,     16,    210,2,19940723,0812, 19.5057, 137.0015, 4560,     49.6,  27.1554,  34.7686,2,  34.7856,2,    217.1,2,    218.4,2,     1.12,6,     0.01,6,     0.00,6,     0.00,6, -999.000,9, -999.000,9, -999.000,9,-999.0000,9,  -999.00,9,   -999.0,9,-999.000,9,   -999.0,9,   -999,  -999.0,-999.000,-999.0000,-999.000,  -999.0,-999.000, 27.1440,-999.000
    49RY9407_1,   P09,    42,  1,     15,    221,2,19940723,0812, 19.5057, 137.0015, 4560,     75.0,  25.8610,  34.9100,2,  34.9110,2,    217.6,3,    210.2,2,     1.10,2,     0.00,2,     0.00,2,     0.01,2, -999.000,9, -999.000,9, -999.000,9,-999.0000,9,  -999.00,9,   -999.0,9,-999.000,9,   -999.0,9,   -999,  -999.0,  25.850,-999.0000,-999.000,    80.0,-999.000, 25.8444,-999.000
    49RY9407_1,   P09,    42,  1,     14,    219,2,19940723,0812, 19.5057, 137.0015, 4560,    100.9,  25.2636,  35.0010,2,  35.0059,2,    210.4,3,    202.4,2,     1.15,2,     0.02,2,     0.00,2,     0.03,2, -999.000,9, -999.000,9, -999.000,9,-999.0000,9,  -999.00,9,   -999.0,9,-999.000,9,   -999.0,9,   -999,  -999.0,-999.000,-999.0000,-999.000,  -999.0,-999.000, 25.2415,-999.000
    49RY9407_1,   P09,    42,  1,     13,    229,2,19940723,0812, 19.5057, 137.0015, 4560,    125.3,  24.3119,  35.0132,2,  35.0205,2,    205.3,2,    206.3,2,     1.11,2,     0.00,2,     0.13,2,     0.03,2, -999.000,9, -999.000,9, -999.000,9,-999.0000,9,  -999.00,9,   -999.0,9,-999.000,9,   -999.0,9,   -999,  -999.0,  24.310,-999.0000,-999.000,   123.0,-999.000, 24.2853,-999.000
    49RY9407_1,   P09,    42,  1,     12,    217,2,19940723,0812, 19.5057, 137.0015, 4560,    150.9,  22.6264,  34.9019,2,  34.9122,2,    206.7,3,    199.7,2,     1.50,2,     0.52,2,     0.15,2,     0.08,2, -999.000,9, -999.000,9, -999.000,9,-999.0000,9,  -999.00,9,   -999.0,9,-999.000,9,   -999.0,9,   -999,  -999.0,-999.000,-999.0000,-999.000,  -999.0,-999.000, 22.5960,-999.000
    49RY9407_1,   P09,    42,  1,     11,    204,2,19940723,0812, 19.5057, 137.0015, 4560,    201.0,  20.1636,  34.9875,2,  34.9895,2,    194.7,3,    189.0,2,     2.41,2,     2.34,2,     0.01,2,     0.21,2, -999.000,9, -999.000,9, -999.000,9,-999.0000,9,  -999.00,9,   -999.0,9,-999.000,9,   -999.0,9,   -999,  -999.0,  20.150,-999.0000,-999.000,   201.0,-999.000, 20.1262,-999.000
    49RY9407_1,   P09,    42,  1,     10,    214,2,19940723,0812, 19.5057, 137.0015, 4560,    301.1,  16.9975,  34.7659,2,  34.7769,2,    195.6,2,    195.1,2,     4.83,2,     5.60,2,     0.00,2,     0.42,2, -999.000,9, -999.000,9, -999.000,9,-999.0000,9,  -999.00,9,   -999.0,9,-999.000,9,   -999.0,9,   -999,  -999.0,-999.000,-999.0000,-999.000,   271.0,-999.000, 16.9477,-999.000
    49RY9407_1,   P09,    42,  1,      9,    213,2,19940723,0812, 19.5057, 137.0015, 4560,    404.1,  12.8787,  34.3806,2,  34.4407,2,    175.6,3,    183.4,2,    14.90,2,    13.31,2,     0.00,2,     0.95,2, -999.000,9, -999.000,9, -999.000,9,-999.0000,9,  -999.00,9,   -999.0,9,-999.000,9,   -999.0,9,   -999,  -999.0,-999.000,-999.0000,-999.000,   392.0,-999.000, 12.8234,-999.000