BOTTLE,20020306WHPSIOdm
EXPOCODE,SECT_ID,STNNBR,CASTNO,SAMPNO,BTLNBR,BTLNBR_FLAG_W,DATE,TIME,LATITUDE,LONGITUDE,DEPTH,CTDPRS,CTDTMP,CTDSAL,CTDSAL_FLAG_W,SALNTY,SALNTY_FLAG_W,CTDOXY,CTDOXY_FLAG_W,OXYGEN,OXYGEN_FLAG_W,SILCAT,SILCAT_FLAG_W,NITRAT,NITRAT_FLAG_W,NITRIT,NITRIT_FLAG_W,PHSPHT,PHSPHT_FLAG_W,CFC-11,CFC-11_FLAG_W,CFC-12,CFC-12_FLAG_W,TRITUM,TRITUM_FLAG_W,HELIUM,HELIUM_FLAG_W,DELHE3,DELHE3_FLAG_W,DELC14,DELC14_FLAG_W,NEON,NEON_FLAG_W,TCARBN,TCARBN_FLAG_W,CTDRAW,C14ERR,REVTMP,HELIER,DELHER,REVPRS,NEONER,THETA,TRITER
,,,,,,,,,,,,DBAR,ITS-90,PSS-78,,PSS-78,,UMOL/KG,,UMOL/KG,,UMOL/KG,,UMOL/KG,,UMOL/KG,,UMOL/KG,,PMOL/KG,,PMOL/KG,,TU,,NMOL/KG,,PERCNT,,/MILLE,,NMOL/KG,,UMOL/KG,,,/MILLE,ITS-90,NMOL/KG,PERCNT,DBAR,NMOL/KG,DEG C,TU
    49RY9407_1,   P09,    45,  2,     10,    224,2,19940724,0541, 18.0300, 137.0132, 4890,    502.1,   8.4613,  34.1740,2,  34.1775,2,    135.9,2,    140.3,2,    39.93,6,    25.67,6,     0.00,6,     1.86,6, -999.000,9, -999.000,9, -999.000,9,-999.0000,9,  -999.00,9,   -999.0,9,-999.000,9,   -999.0,9,   -999,  -999.0,-999.000,-999.0000,-999.000,  -999.0,-999.000,  8.4084,-999.000
    49RY9407_1,   P09,    45,  2,      9,    223,2,19940724,0541, 18.0300, 137.0132, 4890,    604.1,   6.6034,  34.2531,2,  34.2544,2,     87.6,3,     79.8,2,    64.62,2,    34.79,2,     0.01,2,     2.54,2, -999.000,9, -999.000,9, -999.000,9,-999.0000,9,  -999.00,9,   -999.0,9,-999.000,9,   -999.0,9,   -999,  -999.0,-999.000,-999.0000,-999.000,  -999.0,-999.000,  6.5477,-999.000
    49RY9407_1,   P09,    45,  2,      8,    212,2,19940724,0541, 18.0300, 137.0132, 4890,    704.9,   5.6377,  34.3579,2,  34.3588,2,     68.4,2,     73.0,2,    81.08,2,    37.59,2,     0.01,2,     2.74,2, -999.000,9, -999.000,9, -999.000,9,-999.0000,9,  -999.00,9,   -999.0,9,-999.000,9,   -999.0,9,   -999,  -999.0,-999.000,-999.0000,-999.000,  -999.0,-999.000,  5.5772,-999.000
    49RY9407_1,   P09,    45,  2,      7,    220,2,19940724,0541, 18.0300, 137.0132, 4890,    806.1,   4.9522,  34.4087,2,  34.4102,2,     72.0,2,     71.8,6,    93.04,2,    38.58,2,     0.00,2,     2.80,2, -999.000,9, -999.000,9, -999.000,9,-999.0000,9,  -999.00,9,   -999.0,9,-999.000,9,   -999.0,9,   -999,  -999.0,-999.000,-999.0000,-999.000,  -999.0,-999.000,  4.8866,-999.000
    49RY9407_1,   P09,    45,  2,      6,    209,2,19940724,0541, 18.0300, 137.0132, 4890,    907.3,   4.3606,  34.4602,2,  34.4608,2,     75.7,2,     76.8,2,   104.36,6,    38.93,6,     0.00,6,     2.82,6, -999.000,9, -999.000,9, -999.000,9,-999.0000,9,  -999.00,9,   -999.0,9,-999.000,9,   -999.0,9,   -999,  -999.0,-999.000,-999.0000,-999.000,  -999.0,-999.000,  4.2902,-999.000
    49RY9407_1,   P09,    45,  2,      5,    218,2,19940724,0541, 18.0300, 137.0132, 4890,   1006.8,   3.9573,  34.4896,2,  34.4895,2,     83.4,2,     85.4,2,   112.36,2,    39.01,2,     0.00,2,     2.83,2, -999.000,9, -999.000,9, -999.000,9,-999.0000,9,  -999.00,9,   -999.0,9,-999.000,9,   -999.0,9,   -999,  -999.0,-999.000,-999.0000,-999.000,  -999.0,-999.000,  3.8814,-999.000
    49RY9407_1,   P09,    45,  2,      4,    206,2,19940724,0541, 18.0300, 137.0132, 4890,   1260.8,   3.1549,  34.5461,2,  34.5464,2,     94.9,2,     99.0,3,   126.79,2,    39.24,2,     0.00,2,     2.83,2, -999.000,9, -999.000,9, -999.000,9,-999.0000,9,  -999.00,9,   -999.0,9,-999.000,9,   -999.0,9,   -999,  -999.0,-999.000,-999.0000,-999.000,  -999.0,-999.000,  3.0651,-999.000
    49RY9407_1,   P09,    45,  2,      3,    205,2,19940724,0541, 18.0300, 137.0132, 4890,   1514.4,   2.6217,  34.5795,2,  34.5797,2,    100.2,2,     98.7,2,   135.38,2,    39.17,2,     0.00,2,     2.82,2, -999.000,9, -999.000,9, -999.000,9,-999.0000,9,  -999.00,9,   -999.0,9,-999.000,9,   -999.0,9,   -999,  -999.0,-999.000,-999.0000,-999.000,  -999.0,-999.000,  2.5170,-999.000
    49RY9407_1,   P09,    45,  2,      2,    216,2,19940724,0541, 18.0300, 137.0132, 4890,   1768.3,   2.2836,  34.6046,2,  34.6047,2,    109.9,2,    107.7,2,   139.94,2,    38.98,2,     0.00,2,     2.79,2, -999.000,9, -999.000,9, -999.000,9,-999.0000,9,  -999.00,9,   -999.0,9,-999.000,9,   -999.0,9,   -999,  -999.0,-999.000,-999.0000,-999.000,  -999.0,-999.000,  2.1624,-999.000
    49RY9407_1,   P09,    45,  2,      1,    201,2,19940724,0541, 18.0300, 137.0132, 4890,   2020.2,   2.0625,  34.6235,2,  34.6238,2,    115.1,2,    115.6,2,   143.09,2,    38.62,2,     0.00,2,     2.76,2, -999.000,9, -999.000,9, -999.000,5,   1.8970,2,    21.22,2,   -999.0,9,   8.007,2,   -999.0,9,   -999,  -999.0,-999.000,  0.0034,   0.180,  -999.0,   0.020,  1.9234,-999.000
    49RY9407_1,   P09,    45,  2,     24,    230,2,19940724,0541, 18.0300, 137.0132, 4890,   2020.2,   2.0625,  34.6235,2,  34.6238,2,    115.1,2,    114.4,2,   142.90,2,    38.62,2,     0.00,2,     2.75,2, -999.000,9, -999.000,9, -999.000,9,-999.0000,9,  -999.00,9,   -999.0,9,-999.000,9,   -999.0,9,   -999,  -999.0,-999.000,-999.0000,-999.000,  -999.0,-999.000,  1.9234,-999.000
    49RY9407_1,   P09,    45,  2,     23,    228,2,19940724,0541, 18.0300, 137.0132, 4890,   2275.6,   1.8898,  34.6400,2,  34.6406,2,    123.2,2,    122.8,2,   144.92,2,    38.29,2,     0.00,2,     2.72,2, -999.000,9, -999.000,9, -999.000,5,   1.8970,2,    22.20,2,   -999.0,9,   8.004,2,   -999.0,9,   -999,  -999.0,-999.000,  0.0027,   0.180,  -999.0,   0.020,  1.7315,-999.000
    49RY9407_1,   P09,    45,  2,     22,    227,2,19940724,0541, 18.0300, 137.0132, 4890,   2531.1,   1.7789,  34.6512,2,  34.6522,2,    129.1,2,    129.2,6,   145.69,2,    37.93,2,     0.00,2,     2.69,2, -999.000,9, -999.000,9, -999.000,9,-999.0000,9,  -999.00,9,   -999.0,9,-999.000,9,   -999.0,9,   -999,  -999.0,-999.000,-999.0000,-999.000,  -999.0,-999.000,  1.6000,-999.000
    49RY9407_1,   P09,    45,  2,     21,    226,2,19940724,0541, 18.0300, 137.0132, 4890,   2786.2,   1.7007,  34.6592,2,  34.6591,2,    134.4,2,    133.8,2,   145.52,2,    37.57,2,     0.00,2,     2.65,2, -999.000,9, -999.000,9, -999.000,5,   1.8900,2,    22.06,2,   -999.0,9,   8.070,2,   -999.0,9,   -999,  -999.0,-999.000,  0.0026,   0.180,  -999.0,   0.020,  1.4999,-999.000
    49RY9407_1,   P09,    45,  2,     20,    203,2,19940724,0541, 18.0300, 137.0132, 4890,   3040.3,   1.6400,  34.6659,2,  34.6660,2,    140.2,2,    142.9,3,   145.28,2,    37.25,2,     0.00,2,     2.63,2, -999.000,9, -999.000,9, -999.000,9,-999.0000,9,  -999.00,9,   -999.0,9,-999.000,9,   -999.0,9,   -999,  -999.0,-999.000,-999.0000,-999.000,  3038.0,-999.000,  1.4163,-999.000
    49RY9407_1,   P09,    45,  2,     19,    210,2,19940724,0541, 18.0300, 137.0132, 4890,   3295.6,   1.5986,  34.6714,2,  34.6719,2,    145.0,2,    144.0,2,   144.43,6,    36.92,6,     0.00,6,     2.60,6, -999.000,9, -999.000,9, -999.000,5,   1.8932,2,    19.67,2,   -999.0,9,   8.080,2,   -999.0,9,   -999,  -999.0,-999.000,  0.0028,   0.180,  -999.0,   0.017,  1.3507,-999.000
    49RY9407_1,   P09,    45,  2,     18,    221,2,19940724,0541, 18.0300, 137.0132, 4890,   3552.0,   1.5645,  34.6758,2,  34.6750,2,    149.8,2,    149.2,2,   143.81,2,    36.66,2,     0.00,2,     2.58,2, -999.000,9, -999.000,9, -999.000,9,-999.0000,9,  -999.00,9,   -999.0,9,-999.000,9,   -999.0,9,   -999,  -999.0,   1.559,-999.0000,-999.000,  3554.0,-999.000,  1.2914,-999.000
    49RY9407_1,   P09,    45,  2,     17,    219,2,19940724,0541, 18.0300, 137.0132, 4890,   3806.6,   1.5256,  34.6811,2,  34.6805,2,    153.3,2,    154.0,2,   142.19,2,    36.31,2,     0.00,2,     2.55,2, -999.000,9, -999.000,9, -999.000,5,   1.8964,2,    17.58,2,   -999.0,9,   8.009,2,   -999.0,9,   -999,  -999.0,-999.000,  0.0038,   0.260,  -999.0,   0.022,  1.2269,-999.000
    49RY9407_1,   P09,    45,  2,     16,    229,2,19940724,0541, 18.0300, 137.0132, 4890,   4063.1,   1.5119,  34.6837,2,  34.6838,6,    158.4,2,    156.9,2,   141.24,2,    36.09,2,     0.00,2,     2.52,2, -999.000,9, -999.000,9, -999.000,9,-999.0000,9,  -999.00,9,   -999.0,9,-999.000,9,   -999.0,9,   -999,  -999.0,   1.509,-999.0000,-999.000,  4065.0,-999.000,  1.1858,-999.000
    49RY9407_1,   P09,    45,  2,     15,    217,2,19940724,0541, 18.0300, 137.0132, 4890,   4320.8,   1.5129,  34.6861,2,  34.6857,2,    162.7,2,    160.8,2,   140.49,2,    35.94,2,     0.00,2,     2.52,2, -999.000,9, -999.000,9, -999.000,5,   1.8873,2,    17.00,2,   -999.0,9,   8.028,2,   -999.0,9,   -999,  -999.0,-999.000,  0.0038,   0.260,  -999.0,   0.022,  1.1580,-999.000
    49RY9407_1,   P09,    45,  2,     14,    204,2,19940724,0541, 18.0300, 137.0132, 4890,   4576.2,   1.5317,  34.6867,2,  34.6868,6,    161.9,2,    161.5,2,   140.14,2,    35.88,2,     0.00,2,     2.51,2, -999.000,9, -999.000,9, -999.000,9,-999.0000,9,  -999.00,9,   -999.0,9,-999.000,9,   -999.0,9,   -999,  -999.0,   1.529,-999.0000,-999.000,  4574.0,-999.000,  1.1469,-999.000
    49RY9407_1,   P09,    45,  2,     13,    214,2,19940724,0541, 18.0300, 137.0132, 4890,   4834.3,   1.5580,  34.6865,2,  34.6872,2,    162.0,2,    160.7,2,   139.83,6,    35.84,6,     0.00,6,     2.50,6, -999.000,9, -999.000,9, -999.000,5,   1.8749,2,    16.43,2,   -999.0,9,   8.050,2,   -999.0,9,   -999,  -999.0,-999.000,  0.0029,   0.180,  4842.0,   0.017,  1.1419,-999.000
    49RY9407_1,   P09,    45,  2,     12,    213,4,19940724,0541, 18.0300, 137.0132, 4890,   5028.8,   1.5819,  34.6859,2,  34.6872,2,    166.7,2,    163.0,6,   139.65,6,    35.84,6,     0.00,6,     2.50,6, -999.000,9, -999.000,9, -999.000,9,-999.0000,9,  -999.00,9,   -999.0,9,-999.000,9,   -999.0,9,   -999,  -999.0,-999.000,-999.0000,-999.000,  5025.0,-999.000,  1.1414,-999.000
    49RY9407_1,   P09,    45,  3,      5,    218,2,19940724,0826, 18.0680, 137.0150, 4820,      1.5,  30.3107,  34.1949,2,  34.2306,2,    145.4,4,   -999.0,9,  -999.00,9,  -999.00,9,  -999.00,9,  -999.00,9,    1.579,2,    1.048,3,    1.406,2,   1.6648,2,    -0.86,2,   -999.0,9,   6.478,2,   -999.0,9,   -999,  -999.0,-999.000,  0.0022,   0.210,  -999.0,   0.013, 30.3104,   0.019
    49RY9407_1,   P09,    45,  3,      4,    206,2,19940724,0826, 18.0680, 137.0150, 4820,     23.9,  29.6012,  34.2284,2,  34.2316,2,    182.7,3,   -999.0,9,  -999.00,9,  -999.00,9,  -999.00,9,  -999.00,9,    1.578,2,    1.053,3,    1.255,2,   1.6499,2,    -1.33,2,   -999.0,9,   6.402,4,   -999.0,9,   -999,  -999.0,-999.000,  0.0028,   0.210,  -999.0,   0.013, 29.5954,   0.015
    49RY9407_1,   P09,    45,  3,      3,    205,2,19940724,0826, 18.0680, 137.0150, 4820,     50.2,  29.5649,  34.3337,2,  34.3301,2,    187.1,3,   -999.0,9,  -999.00,9,  -999.00,9,  -999.00,9,  -999.00,9,    1.588,2,    1.057,3,    1.251,2,   1.6581,2,    -0.82,2,   -999.0,9,   6.457,2,   -999.0,9,   -999,  -999.0,-999.000,  0.0022,   0.210,  -999.0,   0.013, 29.5526,   0.015
    49RY9407_1,   P09,    45,  3,      2,    216,2,19940724,0826, 18.0680, 137.0150, 4820,     74.8,  28.4144,  34.4627,2,  34.4480,2,    199.0,2,   -999.0,9,  -999.00,9,  -999.00,9,  -999.00,9,  -999.00,9,    1.647,2,    1.157,3,    1.304,2,   0.0000,4,  1619.48,4,   -999.0,9,   0.000,5,   -999.0,9,   -999,  -999.0,-999.000,  0.0000,   3.550,  -999.0,   0.000, 28.3966,   0.016
    49RY9407_1,   P09,    45,  3,      1,    201,2,19940724,0826, 18.0680, 137.0150, 4820,    100.1,  27.4840,  34.7048,2,  34.7162,2,    207.4,2,   -999.0,9,  -999.00,9,  -999.00,9,  -999.00,9,  -999.00,9, -999.000,9, -999.000,9,    1.317,2,   1.6752,2,    -0.86,2,   -999.0,9,   6.590,2,   -999.0,9,   -999,  -999.0,-999.000,  0.0024,   0.190,  -999.0,   0.017, 27.4607,   0.016
    49RY9407_1,   P09,    45,  3,     24,    230,2,19940724,0826, 18.0680, 137.0150, 4820,    150.4,  24.8540,  34.9673,2,  34.9732,2,    199.4,2,   -999.0,9,  -999.00,9,  -999.00,9,  -999.00,9,  -999.00,9,    1.948,2,    1.280,3,    1.517,2,   1.6849,2,    -0.53,2,   -999.0,9,   6.697,2,   -999.0,9,   -999,  -999.0,-999.000,  0.0026,   0.190,  -999.0,   0.014, 24.8216,   0.018
    49RY9407_1,   P09,    45,  3,     23,    228,2,19940724,0826, 18.0680, 137.0150, 4820,    201.2,  22.9107,  35.0687,2,  35.0639,2,    188.0,2,   -999.0,9,  -999.00,9,  -999.00,9,  -999.00,9,  -999.00,9,    2.055,2,    1.296,3,    1.453,2,   1.6671,2,    -0.38,2,   -999.0,9,   6.601,4,   -999.0,9,   -999,  -999.0,-999.000,  0.0022,   0.190,  -999.0,   0.017, 22.8697,   0.016
    49RY9407_1,   P09,    45,  3,     22,    227,2,19940724,0826, 18.0680, 137.0150, 4820,    300.9,  15.4955,  34.6200,2,  34.6252,2,    169.0,2,   -999.0,9,  -999.00,9,  -999.00,9,  -999.00,9,  -999.00,9,    2.089,2,    1.401,3,    1.791,2,   1.7376,2,     4.59,2,   -999.0,9,   7.401,4,   -999.0,9,   -999,  -999.0,-999.000,  0.0027,   0.190,  -999.0,   0.016, 15.4489,   0.022
    49RY9407_1,   P09,    45,  3,     21,    226,2,19940724,0826, 18.0680, 137.0150, 4820,    401.7,  11.2396,  34.3325,2,  34.3273,2,    151.7,2,   -999.0,9,  -999.00,9,  -999.00,9,  -999.00,9,  -999.00,9,    1.635,2,    1.037,3,    1.597,2,   1.7509,2,    10.71,2,   -999.0,9,   7.322,2,   -999.0,9,   -999,  -999.0,-999.000,  0.0025,   0.190,  -999.0,   0.019, 11.1893,   0.017
    49RY9407_1,   P09,    45,  3,     20,    203,2,19940724,0826, 18.0680, 137.0150, 4820,    503.0,   8.4149,  34.1988,2,  34.2003,2,    132.5,2,   -999.0,9,  -999.00,9,  -999.00,9,  -999.00,9,  -999.00,9,    0.956,2,    0.583,3,    1.209,2,   1.7758,2,    14.26,2,   -999.0,9,   7.512,2,   -999.0,9,   -999,  -999.0,-999.000,  0.0028,   0.190,   501.0,   0.016,  8.3620,   0.014
    49RY9407_1,   P09,    45,  3,     19,    210,2,19940724,0826, 18.0680, 137.0150, 4820,    604.2,   6.6034,  34.2484,2,  34.2510,2,     83.5,2,   -999.0,9,  -999.00,9,  -999.00,9,  -999.00,9,  -999.00,9,    0.277,2,    0.210,3,    0.581,2,   1.7945,2,    13.88,2,   -999.0,9,   7.640,2,   -999.0,9,   -999,  -999.0,-999.000,  0.0028,   0.190,  -999.0,   0.016,  6.5477,   0.008
    49RY9407_1,   P09,    45,  3,     17,    219,2,19940724,0826, 18.0680, 137.0150, 4820,    706.2,   5.7293,  34.3585,2,  34.3616,2,     68.9,2,   -999.0,9,  -999.00,9,  -999.00,9,  -999.00,9,  -999.00,9,    0.094,2,    0.095,3,    0.249,2,   2.2511,4,    10.45,4,   -999.0,9,   9.167,4,   -999.0,9,   -999,  -999.0,-999.000,  0.0032,   0.180,  -999.0,   0.023,  5.6682,   0.005
    49RY9407_1,   P09,    45,  3,     18,    221,2,19940724,0826, 18.0680, 137.0150, 4820,    706.2,   5.7293,  34.3585,2,  34.3592,2,     68.9,2,   -999.0,9,  -999.00,9,  -999.00,9,  -999.00,9,  -999.00,9,    0.091,2,    0.073,3,    0.249,2,   1.7901,2,    13.60,2,   -999.0,9,   7.633,2,   -999.0,9,   -999,  -999.0,   5.724,  0.0028,   0.190,   712.0,   0.016,  5.6682,   0.004
    49RY9407_1,   P09,    45,  3,     16,    229,2,19940724,0826, 18.0680, 137.0150, 4820,    806.0,   4.9692,  34.4016,2,  34.4037,2,     67.1,2,   -999.0,9,  -999.00,9,  -999.00,9,  -999.00,9,  -999.00,9,    0.042,2,    0.025,3,    0.131,2,   1.8187,2,    13.89,2,   -999.0,9,   7.715,2,   -999.0,9,   -999,  -999.0,   4.961,  0.0027,   0.190,   805.0,   0.016,  4.9035,   0.003
    49RY9407_1,   P09,    45,  3,     15,    217,2,19940724,0826, 18.0680, 137.0150, 4820,    906.8,   4.4789,  34.4513,2,  34.4533,2,     75.0,2,   -999.0,9,  -999.00,9,  -999.00,9,  -999.00,9,  -999.00,9,    0.038,2,    0.032,4,    0.104,2,   1.8379,2,    15.44,2,   -999.0,9,   7.814,2,   -999.0,9,   -999,  -999.0,-999.000,  0.0041,   0.180,  -999.0,   0.020,  4.4077,   0.003
    49RY9407_1,   P09,    45,  3,     14,    204,2,19940724,0826, 18.0680, 137.0150, 4820,   1008.8,   4.0168,  34.4846,2,  34.4869,2,     80.3,2,   -999.0,9,  -999.00,9,  -999.00,9,  -999.00,9,  -999.00,9,    0.027,2,    0.100,4,    0.082,2,   1.8493,2,    16.27,2,   -999.0,9,   7.793,2,   -999.0,9,   -999,  -999.0,   4.006,  0.0028,   0.180,  1009.0,   0.017,  3.9403,   0.003
    49RY9407_1,   P09,    45,  3,     13,    214,2,19940724,0826, 18.0680, 137.0150, 4820,   1260.6,   3.1481,  34.5453,2,  34.5474,2,     92.0,2,   -999.0,9,  -999.00,9,  -999.00,9,  -999.00,9,  -999.00,9, -999.000,9, -999.000,9,    0.036,2,   1.8784,2,    18.94,2,   -999.0,9,   7.939,2,   -999.0,9,   -999,  -999.0,-999.000,  0.0028,   0.190,  -999.0,   0.017,  3.0585,   0.003
    49RY9407_1,   P09,    45,  3,     12,    213,4,19940724,0826, 18.0680, 137.0150, 4820,   1512.7,   2.6037,  34.5805,2,  34.5813,2,    100.7,2,   -999.0,9,  -999.00,9,  -999.00,9,  -999.00,9,  -999.00,9,    0.000,2,    0.060,4, -999.000,9,-999.0000,9,  -999.00,9,   -999.0,9,-999.000,9,   -999.0,9,   -999,  -999.0,-999.000,-999.0000,-999.000,  1511.0,-999.000,  2.4994,-999.000