BOTTLE,20020306WHPSIOdm
EXPOCODE,SECT_ID,STNNBR,CASTNO,SAMPNO,BTLNBR,BTLNBR_FLAG_W,DATE,TIME,LATITUDE,LONGITUDE,DEPTH,CTDPRS,CTDTMP,CTDSAL,CTDSAL_FLAG_W,SALNTY,SALNTY_FLAG_W,CTDOXY,CTDOXY_FLAG_W,OXYGEN,OXYGEN_FLAG_W,SILCAT,SILCAT_FLAG_W,NITRAT,NITRAT_FLAG_W,NITRIT,NITRIT_FLAG_W,PHSPHT,PHSPHT_FLAG_W,CFC-11,CFC-11_FLAG_W,CFC-12,CFC-12_FLAG_W,TRITUM,TRITUM_FLAG_W,HELIUM,HELIUM_FLAG_W,DELHE3,DELHE3_FLAG_W,DELC14,DELC14_FLAG_W,NEON,NEON_FLAG_W,TCARBN,TCARBN_FLAG_W,CTDRAW,C14ERR,REVTMP,HELIER,DELHER,REVPRS,NEONER,THETA,TRITER
,,,,,,,,,,,,DBAR,ITS-90,PSS-78,,PSS-78,,UMOL/KG,,UMOL/KG,,UMOL/KG,,UMOL/KG,,UMOL/KG,,UMOL/KG,,PMOL/KG,,PMOL/KG,,TU,,NMOL/KG,,PERCNT,,/MILLE,,NMOL/KG,,UMOL/KG,,,/MILLE,ITS-90,NMOL/KG,PERCNT,DBAR,NMOL/KG,DEG C,TU
    49RY9407_1,   P09,    20,  2,      1,    201,2,19940712,1052, 30.3463, 137.0178, 4440,    300.8,  18.0537,  34.8655,2,  34.8668,2,    209.0,2,    211.5,2,     3.31,2,     3.11,2,     0.01,2,     0.22,2, -999.000,9, -999.000,9, -999.000,9,-999.0000,9,  -999.00,9,   -999.0,9,-999.000,9,   -999.0,9,   -999,  -999.0,-999.000,-999.0000,-999.000,  -999.0,-999.000, 18.0019,-999.000
    49RY9407_1,   P09,    20,  2,     24,    230,2,19940712,1052, 30.3463, 137.0178, 4440,    402.7,  16.5489,  34.7355,2,  34.7365,2,    191.6,2,    195.5,2,     6.61,2,     6.90,2,     0.01,2,     0.49,2, -999.000,9, -999.000,9, -999.000,9,-999.0000,9,  -999.00,9,   -999.0,9,-999.000,9,   -999.0,9,   -999,  -999.0,-999.000,-999.0000,-999.000,  -999.0,-999.000, 16.4834,-999.000
    49RY9407_1,   P09,    20,  2,     23,    228,2,19940712,1052, 30.3463, 137.0178, 4440,    502.6,  14.3680,  34.5705,2,  34.5748,2,    177.2,2,    181.8,2,    14.04,2,    11.75,2,     0.00,2,     0.82,2, -999.000,9, -999.000,9, -999.000,9,-999.0000,9,  -999.00,9,   -999.0,9,-999.000,9,   -999.0,9,   -999,  -999.0,-999.000,-999.0000,-999.000,  -999.0,-999.000, 14.2936,-999.000
    49RY9407_1,   P09,    20,  2,     21,    226,2,19940712,1052, 30.3463, 137.0178, 4440,    604.5,  11.3861,  34.3783,2,  34.3856,2,    161.7,2,    163.1,2,    28.49,6,    18.66,6,     0.00,6,     1.30,6, -999.000,9, -999.000,9, -999.000,9,-999.0000,9,  -999.00,9,   -999.0,9,-999.000,9,   -999.0,9,   -999,  -999.0,-999.000,-999.0000,-999.000,  -999.0,-999.000, 11.3091,-999.000
    49RY9407_1,   P09,    20,  2,     22,    227,2,19940712,1052, 30.3463, 137.0178, 4440,    604.5,  11.3861,  34.3783,2,  34.3866,2,    161.7,2,    164.2,2,    28.48,2,    18.58,2,     0.00,2,     1.30,2, -999.000,9, -999.000,9, -999.000,9,-999.0000,9,  -999.00,9,   -999.0,9,-999.000,9,   -999.0,9,   -999,  -999.0,-999.000,-999.0000,-999.000,  -999.0,-999.000, 11.3091,-999.000
    49RY9407_1,   P09,    20,  2,     20,    225,2,19940712,1052, 30.3463, 137.0178, 4440,    704.6,   9.1645,  34.2947,2,  34.2764,2,    142.0,2,    144.9,2,    43.42,2,    24.11,2,     0.00,2,     1.71,2, -999.000,9, -999.000,9, -999.000,9,-999.0000,9,  -999.00,9,   -999.0,9,-999.000,9,   -999.0,9,   -999,  -999.0,-999.000,-999.0000,-999.000,  -999.0,-999.000,  9.0856,-999.000
    49RY9407_1,   P09,    20,  2,     19,    224,2,19940712,1052, 30.3463, 137.0178, 4440,    807.9,   6.8744,  34.2640,2,  34.2642,2,    108.4,2,    108.0,6,    70.21,2,    31.66,2,     0.00,2,     2.27,2, -999.000,9, -999.000,9, -999.000,9,-999.0000,9,  -999.00,9,   -999.0,9,-999.000,9,   -999.0,9,   -999,  -999.0,-999.000,-999.0000,-999.000,  -999.0,-999.000,  6.7971,-999.000
    49RY9407_1,   P09,    20,  2,     18,    223,2,19940712,1052, 30.3463, 137.0178, 4440,    907.3,   5.2274,  34.2651,2,  34.2662,2,     83.3,2,     85.6,2,    91.94,2,    36.55,2,     0.00,2,     2.62,2, -999.000,9, -999.000,9, -999.000,9,-999.0000,9,  -999.00,9,   -999.0,9,-999.000,9,   -999.0,9,   -999,  -999.0,-999.000,-999.0000,-999.000,  -999.0,-999.000,  5.1512,-999.000
    49RY9407_1,   P09,    20,  2,     17,    222,2,19940712,1052, 30.3463, 137.0178, 4440,   1008.7,   4.2604,  34.3374,2,  34.3376,2,     67.9,2,     69.3,2,   109.75,6,    39.21,6,     0.00,6,     2.81,6, -999.000,9, -999.000,9, -999.000,9,-999.0000,9,  -999.00,9,   -999.0,9,-999.000,9,   -999.0,9,   -999,  -999.0,-999.000,-999.0000,-999.000,  -999.0,-999.000,  4.1822,-999.000
    49RY9407_1,   P09,    20,  2,     16,    221,2,19940712,1052, 30.3463, 137.0178, 4440,   1261.3,   3.2013,  34.4506,2,  34.4500,6,     66.2,2,     69.1,2,   130.12,2,    40.61,2,     0.00,2,     2.90,2, -999.000,9, -999.000,9, -999.000,9,-999.0000,9,  -999.00,9,   -999.0,9,-999.000,9,   -999.0,9,   -999,  -999.0,   3.192,-999.0000,-999.000,  1264.0,-999.000,  3.1112,-999.000
    49RY9407_1,   P09,    20,  2,     15,    220,2,19940712,1052, 30.3463, 137.0178, 4440,   1513.0,   2.6508,  34.5191,2,  34.5202,2,     79.0,2,     83.1,2,   138.75,2,    40.24,2,     0.00,2,     2.86,2, -999.000,9, -999.000,9, -999.000,9,-999.0000,9,  -999.00,9,   -999.0,9,-999.000,9,   -999.0,9,   -999,  -999.0,-999.000,-999.0000,-999.000,  -999.0,-999.000,  2.5461,-999.000
    49RY9407_1,   P09,    20,  2,     14,    219,2,19940712,1052, 30.3463, 137.0178, 4440,   1766.9,   2.2815,  34.5650,2,  34.5648,6,     91.6,2,     94.3,2,   143.63,2,    39.88,2,     0.00,2,     2.82,2, -999.000,9, -999.000,9, -999.000,9,-999.0000,9,  -999.00,9,   -999.0,9,-999.000,9,   -999.0,9,   -999,  -999.0,-999.000,-999.0000,-999.000,  -999.0,-999.000,  2.1606,-999.000
    49RY9407_1,   P09,    20,  2,     13,    218,2,19940712,1052, 30.3463, 137.0178, 4440,   2022.8,   2.0359,  34.5996,2,  34.5998,2,    105.1,2,    108.0,2,   144.77,6,    39.11,6,     0.00,6,     2.75,6, -999.000,9, -999.000,9, -999.000,9,-999.0000,9,  -999.00,9,   -999.0,9,-999.000,9,   -999.0,9,   -999,  -999.0,-999.000,-999.0000,-999.000,  -999.0,-999.000,  1.8971,-999.000
    49RY9407_1,   P09,    20,  2,     12,    217,2,19940712,1052, 30.3463, 137.0178, 4440,   2277.3,   1.8462,  34.6256,2,  34.6260,6,    118.7,2,    122.4,2,   144.66,2,    38.40,2,     0.00,2,     2.69,2, -999.000,9, -999.000,9, -999.000,9,-999.0000,9,  -999.00,9,   -999.0,9,-999.000,9,   -999.0,9,   -999,  -999.0,-999.000,-999.0000,-999.000,  -999.0,-999.000,  1.6886,-999.000
    49RY9407_1,   P09,    20,  2,     11,    216,4,19940712,1052, 30.3463, 137.0178, 4440,   2528.5,   1.7141,  34.6455,2,  34.6421,2,    130.8,2,    131.1,6,   144.26,2,    37.76,2,     0.00,2,     2.64,2, -999.000,9, -999.000,9, -999.000,9,-999.0000,9,  -999.00,9,   -999.0,9,-999.000,9,   -999.0,9,   -999,  -999.0,-999.000,-999.0000,-999.000,  -999.0,-999.000,  1.5366,-999.000
    49RY9407_1,   P09,    20,  2,      9,    213,2,19940712,1052, 30.3463, 137.0178, 4440,   3039.6,   1.5559,  34.6682,2,  34.6666,2,    145.6,2,   -999.0,5,   143.26,2,    36.93,2,     0.00,2,     2.57,2, -999.000,9, -999.000,9, -999.000,9,-999.0000,9,  -999.00,9,   -999.0,9,-999.000,9,   -999.0,9,   -999,  -999.0,   1.551,-999.0000,-999.000,  3037.0,-999.000,  1.3341,-999.000
    49RY9407_1,   P09,    20,  2,     10,    214,2,19940712,1052, 30.3463, 137.0178, 4440,   3039.6,   1.5559,  34.6682,2,  34.6629,3,    145.6,2,    146.7,2,   143.02,2,    36.90,2,     0.00,2,     2.56,2, -999.000,9, -999.000,9, -999.000,9,-999.0000,9,  -999.00,9,   -999.0,9,-999.000,9,   -999.0,9,   -999,  -999.0,-999.000,-999.0000,-999.000,  -999.0,-999.000,  1.3341,-999.000
    49RY9407_1,   P09,    20,  2,      8,    212,4,19940712,1052, 30.3463, 137.0178, 4440,   3294.3,   1.5209,  34.6743,2,  34.6743,6,    150.9,2,    150.9,2,   142.47,2,    36.70,2,     0.00,2,     2.54,2, -999.000,9, -999.000,9, -999.000,9,-999.0000,9,  -999.00,9,   -999.0,9,-999.000,9,   -999.0,9,   -999,  -999.0,-999.000,-999.0000,-999.000,  -999.0,-999.000,  1.2750,-999.000
    49RY9407_1,   P09,    20,  2,      6,    209,2,19940712,1052, 30.3463, 137.0178, 4440,   3807.4,   1.5256,  34.6805,2,  34.6695,3,    153.8,2,    153.4,6,   141.96,2,    36.51,2,     0.00,2,     2.52,2, -999.000,9, -999.000,9, -999.000,9,-999.0000,9,  -999.00,9,   -999.0,9,-999.000,9,   -999.0,9,   -999,  -999.0,-999.000,-999.0000,-999.000,  -999.0,-999.000,  1.2268,-999.000
    49RY9407_1,   P09,    20,  2,      7,    210,2,19940712,1052, 30.3463, 137.0178, 4440,   3807.4,   1.5256,  34.6805,2,  34.6800,2,    153.8,2,    154.9,2,   141.69,2,    36.51,2,     0.00,2,     2.51,2, -999.000,9, -999.000,9, -999.000,9,-999.0000,9,  -999.00,9,   -999.0,9,-999.000,9,   -999.0,9,   -999,  -999.0,-999.000,-999.0000,-999.000,  -999.0,-999.000,  1.2268,-999.000
    49RY9407_1,   P09,    20,  2,      5,    207,4,19940712,1052, 30.3463, 137.0178, 4440,   4062.5,   1.5419,  34.6820,2,  34.6756,3,    156.4,2,    155.8,2,   141.66,2,    36.47,2,     0.00,2,     2.51,2, -999.000,9, -999.000,9, -999.000,9,-999.0000,9,  -999.00,9,   -999.0,9,-999.000,9,   -999.0,9,   -999,  -999.0,-999.000,-999.0000,-999.000,  -999.0,-999.000,  1.2150,-999.000
    49RY9407_1,   P09,    20,  2,      3,    205,4,19940712,1052, 30.3463, 137.0178, 4440,   4516.7,   1.5821,  34.6820,2,  34.6823,2,    155.5,2,    155.5,2,   141.26,6,    36.39,6,     0.00,6,     2.50,6, -999.000,9, -999.000,9, -999.000,9,-999.0000,9,  -999.00,9,   -999.0,9,-999.000,9,   -999.0,9,   -999,  -999.0,-999.000,-999.0000,-999.000,  -999.0,-999.000,  1.2027,-999.000
    49RY9407_1,   P09,    20,  2,      4,    206,2,19940712,1052, 30.3463, 137.0178, 4440,   4516.7,   1.5821,  34.6820,2,  34.6817,2,    155.5,2,    156.3,2,   141.41,6,    36.42,6,     0.00,6,     2.50,6, -999.000,9, -999.000,9, -999.000,9,-999.0000,9,  -999.00,9,   -999.0,9,-999.000,9,   -999.0,9,   -999,  -999.0,-999.000,-999.0000,-999.000,  -999.0,-999.000,  1.2027,-999.000
    49RY9407_1,   P09,    21,  1,      0,      0,2,19940712,1431, 30.0067, 137.0017, 4480,      0.3,  28.2265,  34.3593,2,-999.0000,9,    199.4,2,    202.0,2,     1.41,2,     0.05,2,     0.01,2,     0.00,2, -999.000,9, -999.000,9, -999.000,9,-999.0000,9,  -999.00,9,   -999.0,1,-999.000,9,   1925.2,2,   -999,  -999.0,-999.000,-999.0000,-999.000,  -999.0,-999.000, 28.2264,-999.000
    49RY9407_1,   P09,    21,  1,      9,    213,2,19940712,1431, 30.0067, 137.0017, 4480,      9.5,  27.6515,  34.3821,2,  34.3832,2,    203.6,2,    204.1,2,     1.41,2,     0.02,2,     0.00,2,     0.00,2, -999.000,9, -999.000,9, -999.000,9,-999.0000,9,  -999.00,9,     84.3,9,-999.000,9,   1927.6,2,   -999,     9.0,  27.720,-999.0000,-999.000,    15.0,-999.000, 27.6493,-999.000
    49RY9407_1,   P09,    21,  1,      8,    212,2,19940712,1431, 30.0067, 137.0017, 4480,     25.0,  23.5635,  34.6899,2,-999.0000,5,    215.9,3,    221.4,2,     1.50,6,     0.00,6,     0.00,6,     0.00,6, -999.000,9, -999.000,9, -999.000,9,-999.0000,9,  -999.00,9,    110.3,9,-999.000,9,   1944.9,6,   -999,     8.2,-999.000,-999.0000,-999.000,  -999.0,-999.000, 23.5583,-999.000
    49RY9407_1,   P09,    21,  1,      7,    210,2,19940712,1431, 30.0067, 137.0017, 4480,     50.4,  22.0057,  34.9345,2,  34.9414,2,    221.1,2,    220.6,6,     1.52,2,     0.02,2,     0.00,2,     0.02,2, -999.000,9, -999.000,9, -999.000,9,-999.0000,9,  -999.00,9,    117.2,3,-999.000,9,   1969.1,2,   -999,    12.7,-999.000,-999.0000,-999.000,  -999.0,-999.000, 21.9957,-999.000
    49RY9407_1,   P09,    21,  1,      6,    209,2,19940712,1431, 30.0067, 137.0017, 4480,     74.1,  21.1273,  34.9501,2,  34.9485,2,    217.0,2,    218.3,2,     1.68,2,     0.02,2,     0.00,2,     0.02,2, -999.000,9, -999.000,9, -999.000,9,-999.0000,9,  -999.00,9,   -999.0,1,-999.000,9,   1978.7,2,   -999,  -999.0,-999.000,-999.0000,-999.000,  -999.0,-999.000, 21.1131,-999.000
    49RY9407_1,   P09,    21,  1,      5,    207,2,19940712,1431, 30.0067, 137.0017, 4480,    100.4,  20.4010,  34.9420,2,  34.9402,2,    215.5,2,    216.5,2,     2.04,2,     0.37,2,     0.13,2,     0.07,2, -999.000,9, -999.000,9, -999.000,9,-999.0000,9,  -999.00,9,   -999.0,1,-999.000,9,   1984.5,2,   -999,  -999.0,-999.000,-999.0000,-999.000,  -999.0,-999.000, 20.3822,-999.000
    49RY9407_1,   P09,    21,  1,      4,    206,2,19940712,1431, 30.0067, 137.0017, 4480,    125.7,  19.7550,  34.9092,2,  34.9112,2,    213.4,2,    209.8,2,     2.51,2,     1.68,2,     0.03,2,     0.13,2, -999.000,9, -999.000,9, -999.000,9,-999.0000,9,  -999.00,9,   -999.0,1,-999.000,9,   1994.5,2,   -999,  -999.0,-999.000,-999.0000,-999.000,  -999.0,-999.000, 19.7320,-999.000
    49RY9407_1,   P09,    21,  1,      3,    205,2,19940712,1431, 30.0067, 137.0017, 4480,    152.3,  19.4394,  34.8929,2,  34.8978,2,    209.7,2,    208.3,2,     2.98,6,     2.12,6,     0.03,6,     0.17,6, -999.000,9, -999.000,9, -999.000,9,-999.0000,9,  -999.00,9,    133.2,3,-999.000,9,   1995.1,2,   -999,    11.1,-999.000,-999.0000,-999.000,  -999.0,-999.000, 19.4119,-999.000
    49RY9407_1,   P09,    21,  1,      2,    204,2,19940712,1431, 30.0067, 137.0017, 4480,    201.6,  18.7032,  34.8988,2,  34.8962,2,    209.8,2,    214.1,2,     2.95,2,     2.21,2,     0.01,2,     0.17,2, -999.000,9, -999.000,9, -999.000,9,-999.0000,9,  -999.00,9,    128.2,3,-999.000,9,   2002.0,2,   -999,     8.3,  18.700,-999.0000,-999.000,   201.0,-999.000, 18.6677,-999.000