BOTTLE,20020306WHPSIOdm
EXPOCODE,SECT_ID,STNNBR,CASTNO,SAMPNO,BTLNBR,BTLNBR_FLAG_W,DATE,TIME,LATITUDE,LONGITUDE,DEPTH,CTDPRS,CTDTMP,CTDSAL,CTDSAL_FLAG_W,SALNTY,SALNTY_FLAG_W,CTDOXY,CTDOXY_FLAG_W,OXYGEN,OXYGEN_FLAG_W,SILCAT,SILCAT_FLAG_W,NITRAT,NITRAT_FLAG_W,NITRIT,NITRIT_FLAG_W,PHSPHT,PHSPHT_FLAG_W,CFC-11,CFC-11_FLAG_W,CFC-12,CFC-12_FLAG_W,TRITUM,TRITUM_FLAG_W,HELIUM,HELIUM_FLAG_W,DELHE3,DELHE3_FLAG_W,DELC14,DELC14_FLAG_W,NEON,NEON_FLAG_W,TCARBN,TCARBN_FLAG_W,CTDRAW,C14ERR,REVTMP,HELIER,DELHER,REVPRS,NEONER,THETA,TRITER
,,,,,,,,,,,,DBAR,ITS-90,PSS-78,,PSS-78,,UMOL/KG,,UMOL/KG,,UMOL/KG,,UMOL/KG,,UMOL/KG,,UMOL/KG,,PMOL/KG,,PMOL/KG,,TU,,NMOL/KG,,PERCNT,,/MILLE,,NMOL/KG,,UMOL/KG,,,/MILLE,ITS-90,NMOL/KG,PERCNT,DBAR,NMOL/KG,DEG C,TU
    49RY9407_2,   P09,    81,  2,      6,    209,2,19940811,1714,  3.0205, 141.0618, 3480,    403.6,   7.9339,  34.5764,2,-999.0000,5,   -999.0,9,   -999.0,5,    40.48,2,    33.35,2,     0.00,2,     2.30,2, -999.000,9, -999.000,9, -999.000,9,-999.0000,9,  -999.00,9,   -999.0,9,-999.000,9,   -999.0,9,   -999,  -999.0,-999.000,-999.0000,-999.000,  -999.0,-999.000,  7.8930,-999.000
    49RY9407_2,   P09,    81,  2,      5,    218,2,19940811,1714,  3.0205, 141.0618, 3480,    504.9,   7.2468,  34.5597,2,  34.5576,2,   -999.0,9,    130.7,2,    36.77,2,    30.87,2,     0.00,2,     2.05,2, -999.000,9, -999.000,9, -999.000,9,-999.0000,9,  -999.00,9,   -999.0,9,-999.000,9,   -999.0,9,   -999,  -999.0,-999.000,-999.0000,-999.000,  -999.0,-999.000,  7.1978,-999.000
    49RY9407_2,   P09,    81,  2,      4,    206,2,19940811,1714,  3.0205, 141.0618, 3480,    605.3,   6.6390,  34.5393,2,  34.5381,2,   -999.0,9,    126.1,2,    42.97,6,    32.47,6,     0.00,6,     2.21,6, -999.000,9, -999.000,9, -999.000,9,-999.0000,9,  -999.00,9,   -999.0,9,-999.000,9,   -999.0,9,   -999,  -999.0,-999.000,-999.0000,-999.000,  -999.0,-999.000,  6.5827,-999.000
    49RY9407_2,   P09,    81,  2,      3,    205,2,19940811,1714,  3.0205, 141.0618, 3480,    706.0,   5.9124,  34.5371,2,  34.5364,2,   -999.0,9,     92.8,2,    60.74,2,    36.69,2,     0.00,2,     2.53,2, -999.000,9, -999.000,9, -999.000,9,-999.0000,9,  -999.00,9,   -999.0,9,-999.000,9,   -999.0,9,   -999,  -999.0,-999.000,-999.0000,-999.000,  -999.0,-999.000,  5.8502,-999.000
    49RY9407_2,   P09,    81,  2,      2,    216,2,19940811,1714,  3.0205, 141.0618, 3480,    807.1,   5.2561,  34.5430,2,  34.5423,2,   -999.0,9,     85.0,2,    72.80,2,    38.48,2,     0.00,2,     2.66,2, -999.000,9, -999.000,9, -999.000,9,-999.0000,9,  -999.00,9,   -999.0,9,-999.000,9,   -999.0,9,   -999,  -999.0,-999.000,-999.0000,-999.000,  -999.0,-999.000,  5.1883,-999.000
    49RY9407_2,   P09,    81,  2,      1,    201,2,19940811,1714,  3.0205, 141.0618, 3480,    907.2,   4.8635,  34.5484,2,  34.5476,2,   -999.0,9,     92.8,2,    80.70,2,    38.71,2,     0.00,2,     2.68,2, -999.000,9, -999.000,9, -999.000,9,-999.0000,9,  -999.00,9,   -999.0,9,-999.000,9,   -999.0,9,   -999,  -999.0,-999.000,-999.0000,-999.000,  -999.0,-999.000,  4.7894,-999.000
    49RY9407_2,   P09,    81,  2,     24,    222,2,19940811,1714,  3.0205, 141.0618, 3480,   1008.2,   4.3493,  34.5588,2,  34.5590,2,   -999.0,9,     89.8,2,    91.24,2,    38.95,2,     0.00,2,     2.73,2, -999.000,9, -999.000,9, -999.000,9,-999.0000,9,  -999.00,9,   -999.0,9,-999.000,9,   -999.0,9,   -999,  -999.0,-999.000,-999.0000,-999.000,  -999.0,-999.000,  4.2701,-999.000
    49RY9407_2,   P09,    81,  2,     23,    228,2,19940811,1714,  3.0205, 141.0618, 3480,   1261.1,   3.5816,  34.5795,2,  34.5798,2,   -999.0,9,     99.6,2,   105.68,2,    38.69,2,     0.00,2,     2.73,2, -999.000,9, -999.000,9, -999.000,9,-999.0000,9,  -999.00,9,   -999.0,9,-999.000,9,   -999.0,9,   -999,  -999.0,-999.000,-999.0000,-999.000,  -999.0,-999.000,  3.4876,-999.000
    49RY9407_2,   P09,    81,  2,     22,    227,2,19940811,1714,  3.0205, 141.0618, 3480,   1514.3,   2.9475,  34.6024,2,  34.6025,2,   -999.0,9,    105.7,2,   119.65,2,    38.78,2,     0.00,2,     2.70,2, -999.000,9, -999.000,9, -999.000,9,-999.0000,9,  -999.00,9,   -999.0,9,-999.000,9,   -999.0,9,   -999,  -999.0,-999.000,-999.0000,-999.000,  -999.0,-999.000,  2.8390,-999.000
    49RY9407_2,   P09,    81,  2,     20,    203,2,19940811,1714,  3.0205, 141.0618, 3480,   1767.0,   2.4080,  34.6244,2,  34.6251,2,   -999.0,9,    112.5,2,   131.58,2,    38.55,2,     0.00,2,     2.68,2, -999.000,9, -999.000,9, -999.000,9,-999.0000,1,  -999.00,1,   -999.0,9,-999.000,9,   -999.0,9,   -999,  -999.0,-999.000,-999.0000,-999.000,  1766.0,-999.000,  2.2852,-999.000
    49RY9407_2,   P09,    81,  2,     21,    226,2,19940811,1714,  3.0205, 141.0618, 3480,   1767.0,   2.4080,  34.6244,2,  34.6251,2,   -999.0,9,    112.1,2,   131.74,2,    38.59,2,     0.00,2,     2.69,2, -999.000,9, -999.000,9, -999.000,9,-999.0000,9,  -999.00,9,   -999.0,9,-999.000,9,   -999.0,9,   -999,  -999.0,-999.000,-999.0000,-999.000,  -999.0,-999.000,  2.2852,-999.000
    49RY9407_2,   P09,    81,  2,     19,    215,2,19940811,1714,  3.0205, 141.0618, 3480,   2021.3,   2.1349,  34.6394,2,  34.6408,2,   -999.0,9,    120.2,6,   136.17,2,    38.15,2,     0.00,2,     2.65,2, -999.000,9, -999.000,9, -999.000,5,   1.8796,2,    21.54,2,   -999.0,9,   8.033,2,   -999.0,9,   -999,  -999.0,-999.000,  0.0029,   0.230,  -999.0,   0.052,  1.9946,-999.000
    49RY9407_2,   P09,    81,  2,     18,    221,2,19940811,1714,  3.0205, 141.0618, 3480,   2275.7,   1.9585,  34.6500,2,  34.6497,2,   -999.0,9,    122.5,2,   140.75,6,    38.22,6,     0.00,6,     2.64,6, -999.000,9, -999.000,9, -999.000,9,-999.0000,1,  -999.00,1,   -999.0,9,-999.000,9,   -999.0,9,   -999,  -999.0,-999.000,-999.0000,-999.000,  2275.0,-999.000,  1.7990,-999.000
    49RY9407_2,   P09,    81,  2,     17,    219,2,19940811,1714,  3.0205, 141.0618, 3480,   2530.0,   1.7919,  34.6595,2,  34.6589,2,   -999.0,9,    130.5,2,   141.93,2,    37.59,2,     0.00,2,     2.60,2, -999.000,9, -999.000,9, -999.000,5,   2.0094,2,    19.77,2,   -999.0,9,   8.551,4,   -999.0,9,   -999,  -999.0,-999.000,  0.0031,   0.220,  -999.0,   0.056,  1.6127,-999.000
    49RY9407_2,   P09,    81,  2,     16,    229,2,19940811,1714,  3.0205, 141.0618, 3480,   2783.5,   1.6269,  34.6691,2,  34.6674,2,   -999.0,9,    140.4,2,   142.11,2,    36.98,2,     0.00,2,     2.53,2, -999.000,9, -999.000,9, -999.000,9,-999.0000,1,  -999.00,1,   -999.0,9,-999.000,9,   -999.0,9,   -999,  -999.0,   1.618,-999.0000,-999.000,  2780.0,-999.000,  1.4278,-999.000
    49RY9407_2,   P09,    81,  2,     15,    217,2,19940811,1714,  3.0205, 141.0618, 3480,   3038.1,   1.5815,  34.6731,2,  34.6713,2,   -999.0,9,    143.6,2,   142.13,6,    36.74,6,     0.00,6,     2.51,6, -999.000,9, -999.000,9, -999.000,5,   1.8846,2,    18.76,2,   -999.0,9,   7.800,4,   -999.0,9,   -999,  -999.0,-999.000,  0.0038,   0.180,  -999.0,   0.057,  1.3593,-999.000
    49RY9407_2,   P09,    81,  2,     14,    204,2,19940811,1714,  3.0205, 141.0618, 3480,   3292.8,   1.5644,  34.6764,2,  34.6751,2,   -999.0,9,    145.4,2,   142.48,2,    36.64,2,     0.00,2,     2.50,2, -999.000,9, -999.000,9, -999.000,9,-999.0000,1,  -999.00,1,   -999.0,9,-999.000,9,   -999.0,9,   -999,  -999.0,   1.561,-999.0000,-999.000,  3286.0,-999.000,  1.3176,-999.000
    49RY9407_2,   P09,    81,  2,     13,    214,2,19940811,1714,  3.0205, 141.0618, 3480,   3507.8,   1.5622,  34.6784,2,  34.6753,3,   -999.0,9,    147.5,2,   142.49,6,    36.62,6,     0.00,6,     2.50,6, -999.000,9, -999.000,9, -999.000,5,   1.8749,2,    18.08,2,   -999.0,9,   8.008,2,   -999.0,9,   -999,  -999.0,-999.000,  0.0045,   0.190,  3492.0,   0.046,  1.2937,-999.000
    49RY9407_2,   P09,    81,  2,     12,    213,4,19940811,1714,  3.0205, 141.0618, 3480,   3516.1,   1.5622,  34.6783,2,  34.6770,6,   -999.0,9,    146.4,2,   142.89,2,    36.60,2,     0.00,2,     2.50,2, -999.000,9, -999.000,9, -999.000,9,-999.0000,9,  -999.00,9,   -999.0,9,-999.000,9,   -999.0,9,   -999,  -999.0,-999.000,-999.0000,-999.000,  3507.0,-999.000,  1.2928,-999.000
    49RY9407_2,   P09,    81,  3,      7,    220,2,19940811,1942,  3.0293, 141.1350, 3430,      2.9,  29.1688,  33.9632,2,  33.9676,2,   -999.0,9,   -999.0,9,  -999.00,9,  -999.00,9,  -999.00,9,  -999.00,9,    1.619,2,    1.101,3,    1.145,2,   1.6723,2,    -1.39,2,   -999.0,9,   6.498,2,   -999.0,9,   -999,  -999.0,-999.000,  0.0039,   0.190,  -999.0,   0.048, 29.1681,   0.013
    49RY9407_2,   P09,    81,  3,      6,    209,2,19940811,1942,  3.0293, 141.1350, 3430,     25.6,  28.9587,  34.0939,2,  34.0932,2,   -999.0,9,   -999.0,9,  -999.00,9,  -999.00,9,  -999.00,9,  -999.00,9,    1.652,2,    1.093,3,    1.167,2,   1.6585,2,    -1.12,2,   -999.0,9,   6.462,2,   -999.0,9,   -999,  -999.0,-999.000,  0.0034,   0.190,  -999.0,   0.048, 28.9526,   0.014
    49RY9407_2,   P09,    81,  3,      5,    218,2,19940811,1942,  3.0293, 141.1350, 3430,     50.2,  27.6575,  34.2452,2,  34.2512,2,   -999.0,9,   -999.0,9,  -999.00,9,  -999.00,9,  -999.00,9,  -999.00,9,    1.686,2,    1.107,3,    1.380,2,   1.6572,2,    -0.97,2,   -999.0,9,   6.492,2,   -999.0,9,   -999,  -999.0,-999.000,  0.0032,   0.190,  -999.0,   0.048, 27.6458,   0.017
    49RY9407_2,   P09,    81,  3,      4,    206,2,19940811,1942,  3.0293, 141.1350, 3430,     74.8,  27.2170,  34.4578,2,  34.4607,2,   -999.0,9,   -999.0,9,  -999.00,9,  -999.00,9,  -999.00,9,  -999.00,9,    1.702,2,    1.163,3,    1.195,2,   1.6809,2,    -0.75,2,   -999.0,9,   6.593,2,   -999.0,9,   -999,  -999.0,-999.000,  0.0033,   0.190,  -999.0,   0.049, 27.1997,   0.014
    49RY9407_2,   P09,    81,  3,      3,    205,2,19940811,1942,  3.0293, 141.1350, 3430,    101.1,  25.9207,  34.9992,2,  34.9963,2,   -999.0,9,   -999.0,9,  -999.00,9,  -999.00,9,  -999.00,9,  -999.00,9,    1.688,2,    1.090,3,    0.990,2,   1.6656,2,    -0.05,2,   -999.0,9,   6.571,2,   -999.0,9,   -999,  -999.0,-999.000,  0.0034,   0.190,  -999.0,   0.049, 25.8982,   0.012
    49RY9407_2,   P09,    81,  3,      2,    216,2,19940811,1942,  3.0293, 141.1350, 3430,    151.4,  21.9408,  35.0686,2,  35.0952,2,   -999.0,9,   -999.0,9,  -999.00,9,  -999.00,9,  -999.00,9,  -999.00,9,    1.701,2,    1.074,3,    1.079,2,   1.6919,2,     1.46,2,   -999.0,9,   6.763,2,   -999.0,9,   -999,  -999.0,-999.000,  0.0026,   0.230,  -999.0,   0.044, 21.9109,   0.012
    49RY9407_2,   P09,    81,  3,     24,    222,2,19940811,1942,  3.0293, 141.1350, 3430,    202.7,  17.8579,  35.0375,2,  35.0221,2,   -999.0,9,   -999.0,9,  -999.00,9,  -999.00,9,  -999.00,9,  -999.00,9, -999.000,9, -999.000,9, -999.000,5,   1.7226,2,     4.12,2,   -999.0,9,   7.041,2,   -999.0,9,   -999,  -999.0,-999.000,  0.0033,   0.190,  -999.0,   0.052, 17.8232,-999.000
    49RY9407_2,   P09,    81,  3,      1,    201,2,19940811,1942,  3.0293, 141.1350, 3430,    211.0,  17.0189,  34.8998,2,  34.9038,2,   -999.0,9,   -999.0,9,  -999.00,9,  -999.00,9,  -999.00,9,  -999.00,9,    1.676,6,    1.054,3, -999.000,9,-999.0000,9,  -999.00,9,   -999.0,9,-999.000,9,   -999.0,9,   -999,  -999.0,-999.000,-999.0000,-999.000,  -999.0,-999.000, 16.9840,-999.000
    49RY9407_2,   P09,    81,  3,     23,    228,2,19940811,1942,  3.0293, 141.1350, 3430,    303.2,   9.2307,  34.5665,2,  34.5680,2,   -999.0,9,   -999.0,9,  -999.00,9,  -999.00,9,  -999.00,9,  -999.00,9,    0.275,2,    0.250,3,    0.382,2,   1.7870,2,     8.27,2,   -999.0,9,   7.742,4,   -999.0,9,   -999,  -999.0,-999.000,  0.0036,   0.180,  -999.0,   0.057,  9.1972,   0.006
    49RY9407_2,   P09,    81,  3,     21,    226,2,19940811,1942,  3.0293, 141.1350, 3430,    402.7,   7.9679,  34.5792,2,  34.5789,2,   -999.0,9,     86.7,2,  -999.00,9,  -999.00,9,  -999.00,9,  -999.00,9, -999.000,9, -999.000,9, -999.000,9,-999.0000,9,  -999.00,9,   -999.0,9,-999.000,9,   -999.0,9,   -999,  -999.0,-999.000,-999.0000,-999.000,  -999.0,-999.000,  7.9269,-999.000
    49RY9407_2,   P09,    81,  3,     22,    227,2,19940811,1942,  3.0293, 141.1350, 3430,    406.4,   7.9669,  34.5794,2,  34.5785,2,   -999.0,9,   -999.0,9,  -999.00,9,  -999.00,9,  -999.00,9,  -999.00,9,    0.147,2,    0.136,3,    0.165,2,   1.7771,2,     8.37,2,   -999.0,9,   7.575,2,   -999.0,9,   -999,  -999.0,-999.000,  0.0036,   0.180,  -999.0,   0.056,  7.9256,   0.004
    49RY9407_2,   P09,    81,  3,     19,    215,2,19940811,1942,  3.0293, 141.1350, 3430,    503.2,   7.2382,  34.5572,2,  34.5572,2,   -999.0,9,   -999.0,9,  -999.00,9,  -999.00,9,  -999.00,9,  -999.00,9,    0.130,2,    1.645,4,    0.115,2,   1.7486,2,     8.73,2,   -999.0,9,   7.387,4,   -999.0,9,   -999,  -999.0,-999.000,  0.0027,   0.230,  -999.0,   0.048,  7.1895,   0.004
    49RY9407_2,   P09,    81,  3,     20,    203,2,19940811,1942,  3.0293, 141.1350, 3430,    503.2,   7.2382,  34.5572,2,  34.5564,2,   -999.0,9,   -999.0,9,  -999.00,9,  -999.00,9,  -999.00,9,  -999.00,9,    0.139,2,    0.150,4,    0.108,2,   1.7850,2,     8.58,2,   -999.0,9,   7.558,2,   -999.0,9,   -999,  -999.0,-999.000,  0.0027,   0.230,   502.0,   0.049,  7.1895,   0.004
    49RY9407_2,   P09,    81,  3,     18,    221,2,19940811,1942,  3.0293, 141.1350, 3430,    603.6,   6.5549,  34.5370,2,  34.5368,2,   -999.0,9,   -999.0,9,  -999.00,9,  -999.00,9,  -999.00,9,  -999.00,9,    0.028,2,    0.042,4,    0.072,2,   1.7877,2,     9.08,2,   -999.0,9,   7.640,2,   -999.0,9,   -999,  -999.0,-999.000,  0.0035,   0.180,   602.0,   0.056,  6.4992,   0.004
    49RY9407_2,   P09,    81,  3,     17,    219,2,19940811,1942,  3.0293, 141.1350, 3430,    703.6,   5.8724,  34.5367,2,  34.5372,2,   -999.0,9,   -999.0,9,  -999.00,9,  -999.00,9,  -999.00,9,  -999.00,9,    0.009,2,    0.079,4,    0.054,2,   1.7992,2,    12.27,2,   -999.0,9,   7.731,2,   -999.0,9,   -999,  -999.0,-999.000,  0.0029,   0.180,  -999.0,   0.017,  5.8106,   0.003
    49RY9407_2,   P09,    81,  3,     16,    229,2,19940811,1942,  3.0293, 141.1350, 3430,    803.5,   5.2267,  34.5437,2,  34.5405,2,   -999.0,9,   -999.0,9,  -999.00,9,  -999.00,9,  -999.00,9,  -999.00,9,    0.006,2,    0.058,4,    0.031,2,   1.8180,2,    14.64,2,   -999.0,9,   7.681,2,   -999.0,9,   -999,  -999.0,   5.260,  0.0028,   0.190,   796.0,   0.044,  5.1594,   0.003
    49RY9407_2,   P09,    81,  3,     15,    217,2,19940811,1942,  3.0293, 141.1350, 3430,    905.3,   4.8440,  34.5479,2,  34.5482,2,   -999.0,9,   -999.0,9,  -999.00,9,  -999.00,9,  -999.00,9,  -999.00,9,    0.005,2,    0.064,4,    0.023,2,   1.8293,2,    15.83,2,   -999.0,9,   7.695,2,   -999.0,9,   -999,  -999.0,-999.000,  0.0036,   0.180,  -999.0,   0.057,  4.7702,   0.003
    49RY9407_2,   P09,    81,  3,     14,    204,2,19940811,1942,  3.0293, 141.1350, 3430,   1012.3,   4.3818,  34.5572,2,  34.5592,2,   -999.0,9,   -999.0,9,  -999.00,9,  -999.00,9,  -999.00,9,  -999.00,9,    0.003,2,    0.237,4,    0.024,2,   1.8385,2,    18.05,2,   -999.0,9,   7.739,2,   -999.0,9,   -999,  -999.0,   4.332,  0.0037,   0.180,  1025.0,   0.057,  4.3020,   0.003
    49RY9407_2,   P09,    81,  3,     13,    214,2,19940811,1942,  3.0293, 141.1350, 3430,   1261.5,   3.6103,  34.5782,2,  34.5804,2,   -999.0,9,   -999.0,9,  -999.00,9,  -999.00,9,  -999.00,9,  -999.00,9, -999.000,9, -999.000,9,    0.022,2,   1.8583,2,    20.06,2,   -999.0,9,   7.821,2,   -999.0,9,   -999,  -999.0,-999.000,  0.0037,   0.180,  1257.0,   0.058,  3.5160,   0.003
    49RY9407_2,   P09,    81,  3,     12,    213,4,19940811,1942,  3.0293, 141.1350, 3430,   1514.7,   2.8729,  34.6040,2,  34.6044,2,   -999.0,9,   -999.0,9,  -999.00,9,  -999.00,9,  -999.00,9,  -999.00,9,    0.006,3,    0.153,4, -999.000,9,-999.0000,9,  -999.00,9,   -999.0,9,-999.000,9,   -999.0,9,   -999,  -999.0,-999.000,-999.0000,-999.000,  1512.0,-999.000,  2.7652,-999.000
    49RY9407_2,   P09,    82,  1,      0,      0,2,19940811,2208,  2.7532, 141.2497, 3025,      0.4,  29.1872,  34.0176,2,-999.0000,9,   -999.0,9,    197.6,6,     1.63,2,     0.00,2,     0.00,2,     0.03,2, -999.000,9, -999.000,9, -999.000,9,-999.0000,9,  -999.00,9,   -999.0,9,-999.000,9,   -999.0,9,   -999,  -999.0,-999.000,-999.0000,-999.000,  -999.0,-999.000, 29.1871,-999.000
    49RY9407_2,   P09,    82,  1,     19,    215,2,19940811,2208,  2.7532, 141.2497, 3025,     11.3,  29.1868,  34.0255,2,  34.0329,2,   -999.0,9,    197.9,2,     1.60,2,     0.00,2,     0.00,2,     0.02,2, -999.000,9, -999.000,9, -999.000,9,-999.0000,9,  -999.00,9,   -999.0,9,-999.000,9,   -999.0,9,   -999,  -999.0,-999.000,-999.0000,-999.000,  -999.0,-999.000, 29.1840,-999.000
    49RY9407_2,   P09,    82,  1,     18,    221,2,19940811,2208,  2.7532, 141.2497, 3025,     26.4,  28.5466,  34.2129,2,  34.2129,2,   -999.0,9,    200.9,2,     1.13,2,     0.01,2,     0.00,2,     0.02,2, -999.000,9, -999.000,9, -999.000,9,-999.0000,9,  -999.00,9,   -999.0,9,-999.000,9,   -999.0,9,   -999,  -999.0,-999.000,-999.0000,-999.000,    30.0,-999.000, 28.5403,-999.000
    49RY9407_2,   P09,    82,  1,     17,    219,2,19940811,2208,  2.7532, 141.2497, 3025,     51.6,  27.1061,  34.4100,2,  34.4109,2,   -999.0,9,    190.0,6,     1.97,2,     0.27,2,     0.18,2,     0.08,2, -999.000,9, -999.000,9, -999.000,9,-999.0000,9,  -999.00,9,   -999.0,9,-999.000,9,   -999.0,9,   -999,  -999.0,-999.000,-999.0000,-999.000,  -999.0,-999.000, 27.0942,-999.000
    49RY9407_2,   P09,    82,  1,     16,    229,2,19940811,2208,  2.7532, 141.2497, 3025,     77.8,  26.6343,  34.8120,2,  34.8125,2,   -999.0,9,    165.0,2,     2.58,2,     3.48,2,     0.28,2,     0.34,2, -999.000,9, -999.000,9, -999.000,9,-999.0000,9,  -999.00,9,   -999.0,9,-999.000,9,   -999.0,9,   -999,  -999.0,  26.590,-999.0000,-999.000,    74.0,-999.000, 26.6166,-999.000
    49RY9407_2,   P09,    82,  1,     15,    217,2,19940811,2208,  2.7532, 141.2497, 3025,    101.8,  26.4653,  35.0508,2,  35.0453,2,   -999.0,9,    156.7,2,     2.95,6,     4.93,6,     0.30,6,     0.46,6, -999.000,9, -999.000,9, -999.000,9,-999.0000,9,  -999.00,9,   -999.0,9,-999.000,9,   -999.0,9,   -999,  -999.0,-999.000,-999.0000,-999.000,  -999.0,-999.000, 26.4423,-999.000
    49RY9407_2,   P09,    82,  1,     14,    204,2,19940811,2208,  2.7532, 141.2497, 3025,    127.3,  23.5983,  35.1497,2,  35.1449,2,   -999.0,9,    138.7,2,     4.27,2,     7.95,2,     0.03,2,     0.60,2, -999.000,9, -999.000,9, -999.000,9,-999.0000,9,  -999.00,9,   -999.0,9,-999.000,9,   -999.0,9,   -999,  -999.0,  23.570,-999.0000,-999.000,   128.0,-999.000, 23.5718,-999.000
    49RY9407_2,   P09,    82,  1,     13,    214,2,19940811,2208,  2.7532, 141.2497, 3025,    152.2,  22.2735,  35.1473,2,-999.0000,5,   -999.0,9,    136.4,2,     5.42,2,     9.06,2,     0.02,2,     0.66,2, -999.000,9, -999.000,9, -999.000,9,-999.0000,9,  -999.00,9,   -999.0,9,-999.000,9,   -999.0,9,   -999,  -999.0,-999.000,-999.0000,-999.000,   159.0,-999.000, 22.2431,-999.000
    49RY9407_2,   P09,    82,  1,     12,    213,2,19940811,2208,  2.7532, 141.2497, 3025,    203.1,  18.7327,  35.1775,2,  35.1719,2,   -999.0,9,    139.9,2,     7.98,2,    11.66,2,     0.01,2,     0.84,2, -999.000,9, -999.000,9, -999.000,9,-999.0000,9,  -999.00,9,   -999.0,9,-999.000,9,   -999.0,9,   -999,  -999.0,-999.000,-999.0000,-999.000,   206.0,-999.000, 18.6968,-999.000