BOTTLE,20020306WHPSIOdm
EXPOCODE,SECT_ID,STNNBR,CASTNO,SAMPNO,BTLNBR,BTLNBR_FLAG_W,DATE,TIME,LATITUDE,LONGITUDE,DEPTH,CTDPRS,CTDTMP,CTDSAL,CTDSAL_FLAG_W,SALNTY,SALNTY_FLAG_W,CTDOXY,CTDOXY_FLAG_W,OXYGEN,OXYGEN_FLAG_W,SILCAT,SILCAT_FLAG_W,NITRAT,NITRAT_FLAG_W,NITRIT,NITRIT_FLAG_W,PHSPHT,PHSPHT_FLAG_W,CFC-11,CFC-11_FLAG_W,CFC-12,CFC-12_FLAG_W,TRITUM,TRITUM_FLAG_W,HELIUM,HELIUM_FLAG_W,DELHE3,DELHE3_FLAG_W,DELC14,DELC14_FLAG_W,NEON,NEON_FLAG_W,TCARBN,TCARBN_FLAG_W,CTDRAW,C14ERR,REVTMP,HELIER,DELHER,REVPRS,NEONER,THETA,TRITER
,,,,,,,,,,,,DBAR,ITS-90,PSS-78,,PSS-78,,UMOL/KG,,UMOL/KG,,UMOL/KG,,UMOL/KG,,UMOL/KG,,UMOL/KG,,PMOL/KG,,PMOL/KG,,TU,,NMOL/KG,,PERCNT,,/MILLE,,NMOL/KG,,UMOL/KG,,,/MILLE,ITS-90,NMOL/KG,PERCNT,DBAR,NMOL/KG,DEG C,TU
    49RY9407_1,   P09,    47,  2,      9,    223,2,19940724,2118, 17.0415, 137.0088, 4840,    603.7,   6.3659,  34.2643,2,  34.2650,2,     69.0,3,     77.0,2,    68.34,2,    35.53,2,     0.00,2,     2.58,2, -999.000,9, -999.000,9, -999.000,9,-999.0000,9,  -999.00,9,   -999.0,9,-999.000,9,   -999.0,9,   -999,  -999.0,-999.000,-999.0000,-999.000,  -999.0,-999.000,  6.3113,-999.000
    49RY9407_1,   P09,    47,  2,      8,    212,2,19940724,2118, 17.0415, 137.0088, 4840,    704.4,   5.7633,  34.3673,2,  34.3665,2,     63.8,3,     71.5,6,    79.27,2,    37.29,2,     0.00,2,     2.70,2, -999.000,9, -999.000,9, -999.000,9,-999.0000,9,  -999.00,9,   -999.0,9,-999.000,9,   -999.0,9,   -999,  -999.0,-999.000,-999.0000,-999.000,  -999.0,-999.000,  5.7022,-999.000
    49RY9407_1,   P09,    47,  2,      7,    220,2,19940724,2118, 17.0415, 137.0088, 4840,    806.2,   5.2375,  34.4264,2,  34.4259,2,     71.2,3,     77.2,2,    86.74,2,    37.84,2,     0.00,2,     2.73,2, -999.000,9, -999.000,9, -999.000,9,-999.0000,9,  -999.00,9,   -999.0,9,-999.000,9,   -999.0,9,   -999,  -999.0,-999.000,-999.0000,-999.000,  -999.0,-999.000,  5.1701,-999.000
    49RY9407_1,   P09,    47,  2,      6,    209,2,19940724,2118, 17.0415, 137.0088, 4840,    906.9,   4.4665,  34.4638,2,  34.4645,2,     79.2,2,     81.3,2,   101.80,6,    38.60,6,     0.00,6,     2.78,6, -999.000,9, -999.000,9, -999.000,9,-999.0000,9,  -999.00,9,   -999.0,9,-999.000,9,   -999.0,9,   -999,  -999.0,-999.000,-999.0000,-999.000,  -999.0,-999.000,  4.3954,-999.000
    49RY9407_1,   P09,    47,  2,      5,    218,2,19940724,2118, 17.0415, 137.0088, 4840,   1007.4,   4.0338,  34.5031,2,  34.5039,2,     86.4,2,     85.6,2,   109.50,2,    38.64,2,     0.00,2,     2.79,2, -999.000,9, -999.000,9, -999.000,9,-999.0000,9,  -999.00,9,   -999.0,9,-999.000,9,   -999.0,9,   -999,  -999.0,-999.000,-999.0000,-999.000,  -999.0,-999.000,  3.9573,-999.000
    49RY9407_1,   P09,    47,  2,      4,    206,2,19940724,2118, 17.0415, 137.0088, 4840,   1260.2,   3.3418,  34.5518,2,  34.5513,2,     96.2,2,     93.0,2,   122.24,2,    38.81,2,     0.00,2,     2.79,2, -999.000,9, -999.000,9, -999.000,9,-999.0000,9,  -999.00,9,   -999.0,9,-999.000,9,   -999.0,9,   -999,  -999.0,-999.000,-999.0000,-999.000,  -999.0,-999.000,  3.2503,-999.000
    49RY9407_1,   P09,    47,  2,      3,    205,2,19940724,2118, 17.0415, 137.0088, 4840,   1513.3,   2.7620,  34.5841,2,  34.5832,2,    102.3,2,     99.8,2,   132.10,2,    38.90,2,     0.00,2,     2.80,2, -999.000,9, -999.000,9, -999.000,9,-999.0000,9,  -999.00,9,   -999.0,9,-999.000,9,   -999.0,9,   -999,  -999.0,-999.000,-999.0000,-999.000,  -999.0,-999.000,  2.6558,-999.000
    49RY9407_1,   P09,    47,  2,      2,    216,2,19940724,2118, 17.0415, 137.0088, 4840,   1766.8,   2.3896,  34.6042,2,  34.6037,2,    108.1,2,    106.5,2,   138.12,6,    38.98,6,     0.00,6,     2.77,6, -999.000,9, -999.000,9, -999.000,9,-999.0000,9,  -999.00,9,   -999.0,9,-999.000,9,   -999.0,9,   -999,  -999.0,-999.000,-999.0000,-999.000,  -999.0,-999.000,  2.2671,-999.000
    49RY9407_1,   P09,    47,  2,      1,    201,2,19940724,2118, 17.0415, 137.0088, 4840,   2021.4,   2.0995,  34.6244,2,  34.6232,2,    112.5,2,    114.7,6,   142.42,2,    38.62,2,     0.00,2,     2.75,2, -999.000,9, -999.000,9, -999.000,9,-999.0000,9,  -999.00,9,   -999.0,9,-999.000,9,   -999.0,9,   -999,  -999.0,-999.000,-999.0000,-999.000,  -999.0,-999.000,  1.9597,-999.000
    49RY9407_1,   P09,    47,  2,     24,    230,2,19940724,2118, 17.0415, 137.0088, 4840,   2274.3,   1.9034,  34.6407,2,  34.6398,2,    121.1,2,    122.2,2,   144.52,2,    38.39,2,     0.00,2,     2.71,2, -999.000,9, -999.000,9, -999.000,9,-999.0000,9,  -999.00,9,   -999.0,9,-999.000,9,   -999.0,9,   -999,  -999.0,-999.000,-999.0000,-999.000,  -999.0,-999.000,  1.7451,-999.000
    49RY9407_1,   P09,    47,  2,     23,    228,2,19940724,2118, 17.0415, 137.0088, 4840,   2530.0,   1.7855,  34.6518,2,  34.6508,2,    127.4,2,    128.4,2,   145.27,2,    37.92,2,     0.00,2,     2.69,2, -999.000,9, -999.000,9, -999.000,9,-999.0000,9,  -999.00,9,   -999.0,9,-999.000,9,   -999.0,9,   -999,  -999.0,-999.000,-999.0000,-999.000,  -999.0,-999.000,  1.6065,-999.000
    49RY9407_1,   P09,    47,  2,     22,    227,2,19940724,2118, 17.0415, 137.0088, 4840,   2785.5,   1.7113,  34.6594,2,  34.6585,2,    133.0,2,    134.4,2,   145.88,2,    37.67,2,     0.00,2,     2.66,2, -999.000,9, -999.000,9, -999.000,9,-999.0000,9,  -999.00,9,   -999.0,9,-999.000,9,   -999.0,9,   -999,  -999.0,-999.000,-999.0000,-999.000,  -999.0,-999.000,  1.5103,-999.000
    49RY9407_1,   P09,    47,  2,     21,    226,2,19940724,2118, 17.0415, 137.0088, 4840,   3040.1,   1.6291,  34.6671,2,  34.6668,6,    137.9,2,    139.7,2,   144.59,2,    37.17,2,     0.00,2,     2.62,2, -999.000,9, -999.000,9, -999.000,9,-999.0000,9,  -999.00,9,   -999.0,9,-999.000,9,   -999.0,9,   -999,  -999.0,-999.000,-999.0000,-999.000,  -999.0,-999.000,  1.4056,-999.000
    49RY9407_1,   P09,    47,  2,     19,    210,2,19940724,2118, 17.0415, 137.0088, 4840,   3296.6,   1.5808,  34.6728,2,  34.6725,2,    143.6,2,    145.6,2,   144.46,2,    37.01,2,     0.00,2,     2.59,2, -999.000,9, -999.000,9, -999.000,9,-999.0000,9,  -999.00,9,   -999.0,9,-999.000,9,   -999.0,9,   -999,  -999.0,-999.000,-999.0000,-999.000,  -999.0,-999.000,  1.3332,-999.000
    49RY9407_1,   P09,    47,  2,     20,    203,2,19940724,2118, 17.0415, 137.0088, 4840,   3296.6,   1.5808,  34.6728,2,  34.6727,2,    143.6,2,    145.3,2,   144.66,6,    36.97,6,     0.00,6,     2.59,6, -999.000,9, -999.000,9, -999.000,9,-999.0000,9,  -999.00,9,   -999.0,9,-999.000,9,   -999.0,9,   -999,  -999.0,-999.000,-999.0000,-999.000,  3295.0,-999.000,  1.3332,-999.000
    49RY9407_1,   P09,    47,  2,     18,    221,2,19940724,2118, 17.0415, 137.0088, 4840,   3552.0,   1.5461,  34.6774,2,  34.6774,2,    148.6,2,    150.1,6,   143.28,2,    36.51,2,     0.00,2,     2.57,2, -999.000,9, -999.000,9, -999.000,9,-999.0000,9,  -999.00,9,   -999.0,9,-999.000,9,   -999.0,9,   -999,  -999.0,   1.542,-999.0000,-999.000,  3549.0,-999.000,  1.2735,-999.000
    49RY9407_1,   P09,    47,  2,     17,    219,2,19940724,2118, 17.0415, 137.0088, 4840,   3806.3,   1.5226,  34.6813,2,  34.6807,6,    153.2,2,    154.1,2,   141.95,2,    36.39,2,     0.00,2,     2.54,2, -999.000,9, -999.000,9, -999.000,9,-999.0000,9,  -999.00,9,   -999.0,9,-999.000,9,   -999.0,9,   -999,  -999.0,-999.000,-999.0000,-999.000,  -999.0,-999.000,  1.2239,-999.000
    49RY9407_1,   P09,    47,  2,     16,    229,3,19940724,2118, 17.0415, 137.0088, 4840,   4063.9,   1.5048,  34.6841,2,  34.6829,2,    156.9,2,    158.9,2,   141.15,2,    36.09,2,     0.00,2,     2.52,2, -999.000,9, -999.000,9, -999.000,9,-999.0000,9,  -999.00,9,   -999.0,9,-999.000,9,   -999.0,9,   -999,  -999.0,   1.502,-999.0000,-999.000,  4061.0,-999.000,  1.1788,-999.000
    49RY9407_1,   P09,    47,  2,     15,    217,4,19940724,2118, 17.0415, 137.0088, 4840,   4319.9,   1.5067,  34.6862,2,  34.6850,6,    159.4,2,    160.9,2,   140.39,2,    35.97,2,     0.00,2,     2.51,2, -999.000,9, -999.000,9, -999.000,9,-999.0000,9,  -999.00,9,   -999.0,9,-999.000,9,   -999.0,9,   -999,  -999.0,-999.000,-999.0000,-999.000,  -999.0,-999.000,  1.1521,-999.000
    49RY9407_1,   P09,    47,  2,     14,    204,2,19940724,2118, 17.0415, 137.0088, 4840,   4575.4,   1.5264,  34.6868,2,-999.0000,9,    160.5,2,   -999.0,9,  -999.00,9,  -999.00,9,  -999.00,9,  -999.00,9, -999.000,9, -999.000,9, -999.000,9,-999.0000,9,  -999.00,9,   -999.0,9,-999.000,9,   -999.0,9,   -999,  -999.0,   1.524,-999.0000,-999.000,  4573.0,-999.000,  1.1419,-999.000
    49RY9407_1,   P09,    47,  2,     13,    214,2,19940724,2118, 17.0415, 137.0088, 4840,   4883.6,   1.5636,  34.6875,2,  34.6857,2,    164.2,3,    160.8,2,   140.06,2,    35.82,2,     0.00,2,     2.50,2, -999.000,9, -999.000,9, -999.000,9,-999.0000,9,  -999.00,9,   -999.0,9,-999.000,9,   -999.0,9,   -999,  -999.0,-999.000,-999.0000,-999.000,  4884.0,-999.000,  1.1413,-999.000
    49RY9407_1,   P09,    47,  2,     12,    213,2,19940724,2118, 17.0415, 137.0088, 4840,   4885.4,   1.5640,  34.6882,2,  34.6867,6,    152.8,3,    160.3,2,   139.66,2,    35.82,2,     0.00,2,     2.50,2, -999.000,9, -999.000,9, -999.000,9,-999.0000,9,  -999.00,9,   -999.0,9,-999.000,9,   -999.0,9,   -999,  -999.0,-999.000,-999.0000,-999.000,  4879.0,-999.000,  1.1415,-999.000
    49RY9407_1,   P09,    48,  1,      0,      0,2,19940725,0155, 16.5028, 137.0008, 5565,      1.2,  30.0021,  34.2730,2,-999.0000,9,    162.3,4,    196.9,6,     1.29,2,     0.01,2,     0.00,2,     0.01,2, -999.000,9, -999.000,9, -999.000,9,-999.0000,9,  -999.00,9,   -999.0,9,-999.000,9,   -999.0,9,   -999,  -999.0,-999.000,-999.0000,-999.000,  -999.0,-999.000, 30.0018,-999.000
    49RY9407_1,   P09,    48,  1,     23,    228,2,19940725,0155, 16.5028, 137.0008, 5565,      9.6,  29.9093,  34.2666,2,  34.2687,2,    184.9,4,    195.9,2,     1.24,2,     0.01,2,     0.00,2,     0.02,2, -999.000,9, -999.000,9, -999.000,9,-999.0000,9,  -999.00,9,   -999.0,9,-999.000,9,   -999.0,9,   -999,  -999.0,-999.000,-999.0000,-999.000,  -999.0,-999.000, 29.9069,-999.000
    49RY9407_1,   P09,    48,  1,     22,    227,2,19940725,0155, 16.5028, 137.0008, 5565,     25.2,  29.7833,  34.2556,2,  34.2573,2,    194.9,2,    196.3,2,     1.19,2,     0.00,2,     0.00,2,     0.02,2, -999.000,9, -999.000,9, -999.000,9,-999.0000,9,  -999.00,9,   -999.0,9,-999.000,9,   -999.0,9,   -999,  -999.0,-999.000,-999.0000,-999.000,  -999.0,-999.000, 29.7770,-999.000
    49RY9407_1,   P09,    48,  1,     21,    226,2,19940725,0155, 16.5028, 137.0008, 5565,     50.1,  29.1802,  34.2574,2,  34.2548,2,    201.2,2,    203.5,2,     1.29,2,     0.00,2,     0.00,2,     0.03,2, -999.000,9, -999.000,9, -999.000,9,-999.0000,9,  -999.00,9,   -999.0,9,-999.000,9,   -999.0,9,   -999,  -999.0,-999.000,-999.0000,-999.000,  -999.0,-999.000, 29.1680,-999.000
    49RY9407_1,   P09,    48,  1,     20,    203,2,19940725,0155, 16.5028, 137.0008, 5565,     76.0,  28.1198,  34.5029,2,  34.5070,2,    209.8,2,    205.3,2,     1.24,2,     0.00,2,     0.00,2,     0.07,2, -999.000,9, -999.000,9, -999.000,9,-999.0000,9,  -999.00,9,   -999.0,9,-999.000,9,   -999.0,9,   -999,  -999.0,-999.000,-999.0000,-999.000,    80.0,-999.000, 28.1019,-999.000
    49RY9407_1,   P09,    48,  1,     19,    210,2,19940725,0155, 16.5028, 137.0008, 5565,    101.3,  27.3625,  34.7089,2,  34.7050,2,    211.3,3,    205.6,2,     1.15,2,     0.01,2,     0.00,2,     0.06,2, -999.000,9, -999.000,9, -999.000,9,-999.0000,9,  -999.00,9,   -999.0,9,-999.000,9,   -999.0,9,   -999,  -999.0,-999.000,-999.0000,-999.000,  -999.0,-999.000, 27.3391,-999.000
    49RY9407_1,   P09,    48,  1,     18,    221,2,19940725,0155, 16.5028, 137.0008, 5565,    125.0,  26.5715,  34.8613,2,  34.8300,2,    204.5,2,    203.5,6,     1.15,2,     0.04,2,     0.00,2,     0.07,2, -999.000,9, -999.000,9, -999.000,9,-999.0000,9,  -999.00,9,   -999.0,9,-999.000,9,   -999.0,9,   -999,  -999.0,  26.620,-999.0000,-999.000,   127.0,-999.000, 26.5431,-999.000
    49RY9407_1,   P09,    48,  1,     17,    219,2,19940725,0155, 16.5028, 137.0008, 5565,    151.7,  25.4647,  34.9515,2,  34.9499,2,    199.4,2,    197.1,2,     1.28,6,     0.01,6,     0.17,6,     0.09,6, -999.000,9, -999.000,9, -999.000,9,-999.0000,9,  -999.00,9,   -999.0,9,-999.000,9,   -999.0,9,   -999,  -999.0,-999.000,-999.0000,-999.000,  -999.0,-999.000, 25.4313,-999.000
    49RY9407_1,   P09,    48,  1,     16,    229,2,19940725,0155, 16.5028, 137.0008, 5565,    200.3,  22.3025,  35.0511,2,  35.0525,2,    188.7,3,    180.8,2,     2.05,2,     1.27,2,     0.01,2,     0.23,2, -999.000,9, -999.000,9, -999.000,9,-999.0000,9,  -999.00,9,   -999.0,9,-999.000,9,   -999.0,9,   -999,  -999.0,  22.280,-999.0000,-999.000,   195.0,-999.000, 22.2625,-999.000
    49RY9407_1,   P09,    48,  1,     15,    217,2,19940725,0155, 16.5028, 137.0008, 5565,    301.0,  14.6407,  34.5503,2,  34.5592,2,    170.0,3,    160.2,2,    11.45,2,    12.23,2,     0.01,2,     0.95,2, -999.000,9, -999.000,9, -999.000,9,-999.0000,9,  -999.00,9,   -999.0,9,-999.000,9,   -999.0,9,   -999,  -999.0,-999.000,-999.0000,-999.000,  -999.0,-999.000, 14.5959,-999.000
    49RY9407_1,   P09,    48,  1,     14,    204,2,19940725,0155, 16.5028, 137.0008, 5565,    402.3,  10.1387,  34.2904,2,  34.2937,2,    140.0,2,    138.4,2,    29.56,2,    22.66,2,     0.00,2,     1.66,2, -999.000,9, -999.000,9, -999.000,9,-999.0000,9,  -999.00,9,   -999.0,9,-999.000,9,   -999.0,9,   -999,  -999.0,  10.133,-999.0000,-999.000,   399.0,-999.000, 10.0915,-999.000
    49RY9407_1,   P09,    48,  1,     13,    214,2,19940725,0155, 16.5028, 137.0008, 5565,    503.9,   8.2826,  34.3104,2,  34.3173,2,     90.4,2,     93.6,2,    45.30,2,    30.70,2,     0.00,2,     2.25,2, -999.000,9, -999.000,9, -999.000,9,-999.0000,9,  -999.00,9,   -999.0,9,-999.000,9,   -999.0,9,   -999,  -999.0,-999.000,-999.0000,-999.000,   499.0,-999.000,  8.2301,-999.000
    49RY9407_1,   P09,    48,  1,     12,    213,2,19940725,0155, 16.5028, 137.0008, 5565,    604.6,   6.8627,  34.3504,2,  34.3498,2,     62.2,3,     73.8,2,    62.82,2,    35.11,2,     0.00,2,     2.57,2, -999.000,9, -999.000,9, -999.000,9,-999.0000,9,  -999.00,9,   -999.0,9,-999.000,9,   -999.0,9,   -999,  -999.0,-999.000,-999.0000,-999.000,   603.0,-999.000,  6.8056,-999.000