BOTTLE,20020306WHPSIOdm
EXPOCODE,SECT_ID,STNNBR,CASTNO,SAMPNO,BTLNBR,BTLNBR_FLAG_W,DATE,TIME,LATITUDE,LONGITUDE,DEPTH,CTDPRS,CTDTMP,CTDSAL,CTDSAL_FLAG_W,SALNTY,SALNTY_FLAG_W,CTDOXY,CTDOXY_FLAG_W,OXYGEN,OXYGEN_FLAG_W,SILCAT,SILCAT_FLAG_W,NITRAT,NITRAT_FLAG_W,NITRIT,NITRIT_FLAG_W,PHSPHT,PHSPHT_FLAG_W,CFC-11,CFC-11_FLAG_W,CFC-12,CFC-12_FLAG_W,TRITUM,TRITUM_FLAG_W,HELIUM,HELIUM_FLAG_W,DELHE3,DELHE3_FLAG_W,DELC14,DELC14_FLAG_W,NEON,NEON_FLAG_W,TCARBN,TCARBN_FLAG_W,CTDRAW,C14ERR,REVTMP,HELIER,DELHER,REVPRS,NEONER,THETA,TRITER
,,,,,,,,,,,,DBAR,ITS-90,PSS-78,,PSS-78,,UMOL/KG,,UMOL/KG,,UMOL/KG,,UMOL/KG,,UMOL/KG,,UMOL/KG,,PMOL/KG,,PMOL/KG,,TU,,NMOL/KG,,PERCNT,,/MILLE,,NMOL/KG,,UMOL/KG,,,/MILLE,ITS-90,NMOL/KG,PERCNT,DBAR,NMOL/KG,DEG C,TU
    49RY9407_2,   P09,   100,  2,      9,    223,2,19940816,0840, -1.7508, 142.0260, 2830,    300.8,  11.2701,  34.8451,2,  34.8446,2,   -999.0,9,    134.3,2,    17.22,2,    22.09,2,     0.00,2,     1.60,2, -999.000,9, -999.000,9, -999.000,9,-999.0000,9,  -999.00,9,   -999.0,9,-999.000,9,   -999.0,9,   -999,  -999.0,-999.000,-999.0000,-999.000,  -999.0,-999.000, 11.2324,-999.000
    49RY9407_2,   P09,   100,  2,      7,    220,2,19940816,0840, -1.7508, 142.0260, 2830,    401.4,   9.3784,  34.6828,2,  34.6831,2,   -999.0,9,    132.0,2,    24.68,2,    26.67,2,     0.00,2,     1.85,2, -999.000,9, -999.000,9, -999.000,9,-999.0000,9,  -999.00,9,   -999.0,9,-999.000,9,   -999.0,9,   -999,  -999.0,-999.000,-999.0000,-999.000,  -999.0,-999.000,  9.3333,-999.000
    49RY9407_2,   P09,   100,  2,      8,    212,2,19940816,0840, -1.7508, 142.0260, 2830,    401.4,   9.3790,  34.6834,2,  34.6829,2,   -999.0,9,    132.0,2,    24.80,2,    26.72,2,     0.00,2,     1.85,2, -999.000,9, -999.000,9, -999.000,9,-999.0000,9,  -999.00,9,   -999.0,9,-999.000,9,   -999.0,9,   -999,  -999.0,-999.000,-999.0000,-999.000,  -999.0,-999.000,  9.3340,-999.000
    49RY9407_2,   P09,   100,  2,      6,    209,2,19940816,0840, -1.7508, 142.0260, 2830,    502.5,   8.0690,  34.5985,2,  34.6021,2,   -999.0,9,    144.3,2,    27.41,2,    28.20,2,     0.00,2,     1.94,2, -999.000,9, -999.000,9, -999.000,9,-999.0000,9,  -999.00,9,   -999.0,9,-999.000,9,   -999.0,9,   -999,  -999.0,-999.000,-999.0000,-999.000,  -999.0,-999.000,  8.0172,-999.000
    49RY9407_2,   P09,   100,  2,      5,    218,2,19940816,0840, -1.7508, 142.0260, 2830,    603.9,   6.6205,  34.5267,2,  34.5281,2,   -999.0,9,    148.9,2,    35.96,6,    30.73,6,     0.00,6,     2.11,6, -999.000,9, -999.000,9, -999.000,9,-999.0000,9,  -999.00,9,   -999.0,9,-999.000,9,   -999.0,9,   -999,  -999.0,-999.000,-999.0000,-999.000,  -999.0,-999.000,  6.5644,-999.000
    49RY9407_2,   P09,   100,  2,      4,    206,2,19940816,0840, -1.7508, 142.0260, 2830,    704.4,   5.7851,  34.5094,2,  34.5102,2,   -999.0,9,    141.5,6,    47.31,2,    32.98,2,     0.00,2,     2.29,2, -999.000,9, -999.000,9, -999.000,9,-999.0000,9,  -999.00,9,   -999.0,9,-999.000,9,   -999.0,9,   -999,  -999.0,-999.000,-999.0000,-999.000,  -999.0,-999.000,  5.7237,-999.000
    49RY9407_2,   P09,   100,  2,      3,    205,2,19940816,0840, -1.7508, 142.0260, 2830,    805.4,   5.4076,  34.5389,2,  34.5397,2,   -999.0,9,     96.5,2,    65.55,2,    37.79,2,     0.00,2,     2.66,2, -999.000,9, -999.000,9, -999.000,9,-999.0000,9,  -999.00,9,   -999.0,9,-999.000,9,   -999.0,9,   -999,  -999.0,-999.000,-999.0000,-999.000,  -999.0,-999.000,  5.3391,-999.000
    49RY9407_2,   P09,   100,  2,      2,    216,2,19940816,0840, -1.7508, 142.0260, 2830,    906.1,   5.0055,  34.5352,2,  34.5366,2,   -999.0,9,    109.0,2,    69.88,2,    36.94,2,     0.00,2,     2.61,2, -999.000,9, -999.000,9, -999.000,9,-999.0000,9,  -999.00,9,   -999.0,9,-999.000,9,   -999.0,9,   -999,  -999.0,-999.000,-999.0000,-999.000,  -999.0,-999.000,  4.9306,-999.000
    49RY9407_2,   P09,   100,  2,      1,    201,2,19940816,0840, -1.7508, 142.0260, 2830,   1007.4,   4.5512,  34.5464,2,  34.5472,2,   -999.0,9,    106.1,2,    80.23,2,    37.61,2,     0.00,2,     2.66,2, -999.000,9, -999.000,9, -999.000,9,-999.0000,9,  -999.00,9,   -999.0,9,-999.000,9,   -999.0,9,   -999,  -999.0,-999.000,-999.0000,-999.000,  -999.0,-999.000,  4.4706,-999.000
    49RY9407_2,   P09,   100,  2,     24,    222,2,19940816,0840, -1.7508, 142.0260, 2830,   1259.9,   3.6630,  34.5750,2,  34.5761,2,   -999.0,9,    103.1,2,   102.02,2,    38.68,2,     0.00,2,     2.75,2, -999.000,9, -999.000,9, -999.000,9,-999.0000,9,  -999.00,9,   -999.0,9,-999.000,9,   -999.0,9,   -999,  -999.0,-999.000,-999.0000,-999.000,  -999.0,-999.000,  3.5683,-999.000
    49RY9407_2,   P09,   100,  2,     23,    228,2,19940816,0840, -1.7508, 142.0260, 2830,   1513.1,   2.8935,  34.6051,2,  34.6062,2,   -999.0,9,    109.8,2,   119.51,6,    38.53,6,     0.00,6,     2.73,6, -999.000,9, -999.000,9, -999.000,9,-999.0000,9,  -999.00,9,   -999.0,9,-999.000,9,   -999.0,9,   -999,  -999.0,-999.000,-999.0000,-999.000,  -999.0,-999.000,  2.7857,-999.000
    49RY9407_2,   P09,   100,  2,     21,    226,2,19940816,0840, -1.7508, 142.0260, 2830,   1767.2,   2.4702,  34.6235,2,  34.6245,2,   -999.0,9,    115.4,6,   128.03,2,    38.55,2,     0.00,2,     2.72,2, -999.000,9, -999.000,9, -999.000,9,-999.0000,9,  -999.00,9,   -999.0,9,-999.000,9,   -999.0,9,   -999,  -999.0,-999.000,-999.0000,-999.000,  -999.0,-999.000,  2.3466,-999.000
    49RY9407_2,   P09,   100,  2,     22,    227,4,19940816,0840, -1.7508, 142.0260, 2830,   1767.2,   2.4702,  34.6235,2,  34.6245,2,   -999.0,9,    115.8,2,   128.31,2,    38.51,2,     0.00,2,     2.72,2, -999.000,9, -999.000,9, -999.000,9,-999.0000,9,  -999.00,9,   -999.0,9,-999.000,9,   -999.0,9,   -999,  -999.0,-999.000,-999.0000,-999.000,  -999.0,-999.000,  2.3466,-999.000
    49RY9407_2,   P09,   100,  2,     20,    203,2,19940816,0840, -1.7508, 142.0260, 2830,   2020.8,   2.1917,  34.6379,2,  34.6383,2,   -999.0,9,    120.8,2,   134.40,2,    38.36,2,     0.00,2,     2.69,2, -999.000,9, -999.000,9, -999.000,9,-999.0000,9,  -999.00,9,   -999.0,9,-999.000,9,   -999.0,9,   -999,  -999.0,-999.000,-999.0000,-999.000,  2015.0,-999.000,  2.0506,-999.000
    49RY9407_2,   P09,   100,  2,     18,    221,2,19940816,0840, -1.7508, 142.0260, 2830,   2275.3,   1.9397,  34.6506,2,  34.6520,2,   -999.0,9,    128.2,2,   138.72,6,    37.91,6,     0.00,6,     2.66,6, -999.000,9, -999.000,9, -999.000,9,-999.0000,9,  -999.00,9,   -999.0,9,-999.000,9,   -999.0,9,   -999,  -999.0,-999.000,-999.0000,-999.000,  2274.0,-999.000,  1.7805,-999.000
    49RY9407_2,   P09,   100,  2,     19,    215,2,19940816,0840, -1.7508, 142.0260, 2830,   2275.5,   1.9389,  34.6506,2,  34.6255,4,   -999.0,9,    128.0,2,   138.86,6,    37.92,6,     0.00,6,     2.66,6, -999.000,9, -999.000,9, -999.000,9,-999.0000,9,  -999.00,9,   -999.0,9,-999.000,9,   -999.0,9,   -999,  -999.0,-999.000,-999.0000,-999.000,  -999.0,-999.000,  1.7798,-999.000
    49RY9407_2,   P09,   100,  2,     17,    219,2,19940816,0840, -1.7508, 142.0260, 2830,   2529.3,   1.7688,  34.6602,2,  34.6603,2,   -999.0,9,    134.7,2,   140.80,2,    37.44,2,     0.00,2,     2.62,2, -999.000,9, -999.000,9, -999.000,9,-999.0000,9,  -999.00,9,   -999.0,9,-999.000,9,   -999.0,9,   -999,  -999.0,-999.000,-999.0000,-999.000,  -999.0,-999.000,  1.5901,-999.000
    49RY9407_2,   P09,   100,  2,     15,    217,2,19940816,0840, -1.7508, 142.0260, 2830,   2784.8,   1.6286,  34.6680,2,  34.6707,2,   -999.0,9,    142.4,2,  -999.00,9,  -999.00,9,  -999.00,9,  -999.00,9, -999.000,9, -999.000,9, -999.000,9,-999.0000,9,  -999.00,9,   -999.0,9,-999.000,9,   -999.0,9,   -999,  -999.0,-999.000,-999.0000,-999.000,  -999.0,-999.000,  1.4293,-999.000
    49RY9407_2,   P09,   100,  2,     16,    229,2,19940816,0840, -1.7508, 142.0260, 2830,   2785.3,   1.6277,  34.6690,2,  34.6684,2,   -999.0,9,    141.6,2,   141.99,2,    36.88,2,     0.00,2,     2.58,2, -999.000,9, -999.000,9, -999.000,9,-999.0000,9,  -999.00,9,   -999.0,9,-999.000,9,   -999.0,9,   -999,  -999.0,   1.620,-999.0000,-999.000,  2785.0,-999.000,  1.4284,-999.000
    49RY9407_2,   P09,   100,  2,     12,    213,2,19940816,0840, -1.7508, 142.0260, 2830,   2897.2,   1.6242,  34.6697,2,  34.6704,6,   -999.0,9,    141.8,2,   141.88,2,    36.90,2,     0.00,2,     2.57,2, -999.000,9, -999.000,9, -999.000,9,-999.0000,9,  -999.00,9,   -999.0,9,-999.000,9,   -999.0,9,   -999,  -999.0,-999.000,-999.0000,-999.000,  2893.0,-999.000,  1.4145,-999.000
    49RY9407_2,   P09,   100,  2,     13,    214,2,19940816,0840, -1.7508, 142.0260, 2830,   2898.4,   1.6243,  34.6694,2,  34.6709,2,   -999.0,9,    141.7,2,  -999.00,9,  -999.00,9,  -999.00,9,  -999.00,9, -999.000,9, -999.000,9, -999.000,9,-999.0000,9,  -999.00,9,   -999.0,9,-999.000,9,   -999.0,9,   -999,  -999.0,-999.000,-999.0000,-999.000,  2884.0,-999.000,  1.4144,-999.000
    49RY9407_2,   P09,   100,  2,     14,    204,2,19940816,0840, -1.7508, 142.0260, 2830,   2899.1,   1.6248,  34.6687,2,  34.6701,2,   -999.0,9,    142.1,2,  -999.00,9,  -999.00,9,  -999.00,9,  -999.00,9, -999.000,9, -999.000,9, -999.000,9,-999.0000,9,  -999.00,9,   -999.0,9,-999.000,9,   -999.0,9,   -999,  -999.0,   1.622,-999.0000,-999.000,  2898.0,-999.000,  1.4149,-999.000
    49RY9407_2,   P09,   101,  1,      0,      0,2,19940816,1150, -1.9907, 142.0008, 3570,      0.0,  28.6358,  33.5024,2,-999.0000,9,   -999.0,9,    198.4,2,     1.21,2,     0.00,2,     0.00,2,     0.06,2, -999.000,9, -999.000,9, -999.000,9,-999.0000,9,  -999.00,9,   -999.0,1,-999.000,9,   1885.4,2,   -999,  -999.0,-999.000,-999.0000,-999.000,  -999.0,-999.000, 28.6359,-999.000
    49RY9407_2,   P09,   101,  1,     20,    203,2,19940816,1150, -1.9907, 142.0008, 3570,     10.3,  28.6457,  33.9566,2,  33.9519,2,   -999.0,9,    198.7,2,     1.22,2,     0.03,2,     0.00,2,     0.05,2, -999.000,9, -999.000,9, -999.000,9,-999.0000,9,  -999.00,9,   -999.0,1,-999.000,9,   1886.2,2,   -999,  -999.0,-999.000,-999.0000,-999.000,    14.0,-999.000, 28.6433,-999.000
    49RY9407_2,   P09,   101,  1,     19,    215,2,19940816,1150, -1.9907, 142.0008, 3570,     25.9,  28.6170,  34.0723,2,  34.0700,2,   -999.0,9,    199.1,2,     1.24,2,     0.03,2,     0.00,2,     0.06,2, -999.000,9, -999.000,9, -999.000,9,-999.0000,9,  -999.00,9,   -999.0,1,-999.000,9,   1890.7,6,   -999,  -999.0,-999.000,-999.0000,-999.000,  -999.0,-999.000, 28.6109,-999.000
    49RY9407_2,   P09,   101,  1,     18,    221,2,19940816,1150, -1.9907, 142.0008, 3570,     51.0,  27.7182,  34.4503,2,  34.4514,2,   -999.0,9,    200.6,2,     1.05,2,     0.01,2,     0.00,2,     0.09,2, -999.000,9, -999.000,9, -999.000,9,-999.0000,9,  -999.00,9,   -999.0,1,-999.000,9,   1915.9,2,   -999,  -999.0,-999.000,-999.0000,-999.000,    55.0,-999.000, 27.7062,-999.000
    49RY9407_2,   P09,   101,  1,     17,    219,2,19940816,1150, -1.9907, 142.0008, 3570,     75.5,  26.4581,  34.5742,2,-999.0000,5,   -999.0,9,    191.3,6,     1.30,2,     0.37,2,     0.35,2,     0.14,2, -999.000,9, -999.000,9, -999.000,9,-999.0000,9,  -999.00,9,   -999.0,1,-999.000,9,   1935.3,2,   -999,  -999.0,-999.000,-999.0000,-999.000,  -999.0,-999.000, 26.4411,-999.000
    49RY9407_2,   P09,   101,  1,     16,    229,2,19940816,1150, -1.9907, 142.0008, 3570,    101.4,  24.8849,  35.1133,2,  35.1100,2,   -999.0,9,    162.4,2,     1.96,6,     4.36,6,     0.07,6,     0.41,6, -999.000,9, -999.000,9, -999.000,9,-999.0000,9,  -999.00,9,   -999.0,1,-999.000,9,   2004.3,2,   -999,  -999.0,  25.410,-999.0000,-999.000,    97.0,-999.000, 24.8630,-999.000
    49RY9407_2,   P09,   101,  1,     15,    217,2,19940816,1150, -1.9907, 142.0008, 3570,    126.7,  22.4688,  35.4002,2,  35.4234,2,   -999.0,9,    151.3,2,     2.55,2,     7.01,2,     0.03,2,     0.59,2, -999.000,9, -999.000,9, -999.000,9,-999.0000,9,  -999.00,9,   -999.0,1,-999.000,9,   2049.1,2,   -999,  -999.0,-999.000,-999.0000,-999.000,  -999.0,-999.000, 22.4433,-999.000
    49RY9407_2,   P09,   101,  1,     14,    204,2,19940816,1150, -1.9907, 142.0008, 3570,    152.3,  19.9783,  35.4849,2,  35.4824,2,   -999.0,9,    149.0,2,     3.50,2,     9.21,2,     0.01,2,     0.72,2, -999.000,9, -999.000,9, -999.000,9,-999.0000,9,  -999.00,9,   -999.0,1,-999.000,9,   2079.0,2,   -999,  -999.0,  19.942,-999.0000,-999.000,   152.0,-999.000, 19.9501,-999.000
    49RY9407_2,   P09,   101,  1,     12,    213,2,19940816,1150, -1.9907, 142.0008, 3570,    202.2,  16.0272,  35.2831,2,  35.2761,2,   -999.0,9,    143.7,2,     6.74,2,    14.21,2,     0.00,2,     1.05,2, -999.000,9, -999.000,9, -999.000,9,-999.0000,9,  -999.00,9,   -999.0,9,-999.000,9,   -999.0,9,   -999,  -999.0,-999.000,-999.0000,-999.000,   205.0,-999.000, 15.9951,-999.000
    49RY9407_2,   P09,   101,  1,     13,    214,2,19940816,1150, -1.9907, 142.0008, 3570,    203.1,  15.9915,  35.2866,2,  35.2763,2,   -999.0,9,    143.7,2,     6.77,2,    14.27,2,     0.00,2,     1.05,2, -999.000,9, -999.000,9, -999.000,9,-999.0000,9,  -999.00,9,   -999.0,1,-999.000,9,   2121.1,2,   -999,  -999.0,-999.000,-999.0000,-999.000,   201.0,-999.000, 15.9593,-999.000