BOTTLE,20020306WHPSIOdm
EXPOCODE,SECT_ID,STNNBR,CASTNO,SAMPNO,BTLNBR,BTLNBR_FLAG_W,DATE,TIME,LATITUDE,LONGITUDE,DEPTH,CTDPRS,CTDTMP,CTDSAL,CTDSAL_FLAG_W,SALNTY,SALNTY_FLAG_W,CTDOXY,CTDOXY_FLAG_W,OXYGEN,OXYGEN_FLAG_W,SILCAT,SILCAT_FLAG_W,NITRAT,NITRAT_FLAG_W,NITRIT,NITRIT_FLAG_W,PHSPHT,PHSPHT_FLAG_W,CFC-11,CFC-11_FLAG_W,CFC-12,CFC-12_FLAG_W,TRITUM,TRITUM_FLAG_W,HELIUM,HELIUM_FLAG_W,DELHE3,DELHE3_FLAG_W,DELC14,DELC14_FLAG_W,NEON,NEON_FLAG_W,TCARBN,TCARBN_FLAG_W,CTDRAW,C14ERR,REVTMP,HELIER,DELHER,REVPRS,NEONER,THETA,TRITER
,,,,,,,,,,,,DBAR,ITS-90,PSS-78,,PSS-78,,UMOL/KG,,UMOL/KG,,UMOL/KG,,UMOL/KG,,UMOL/KG,,UMOL/KG,,PMOL/KG,,PMOL/KG,,TU,,NMOL/KG,,PERCNT,,/MILLE,,NMOL/KG,,UMOL/KG,,,/MILLE,ITS-90,NMOL/KG,PERCNT,DBAR,NMOL/KG,DEG C,TU
    49RY9407_2,   P09,    76,  2,     10,    224,2,19940810,0850,  4.8360, 139.2008, 4305,    303.0,   8.7677,  34.6109,2,  34.6095,2,   -999.0,9,     61.6,6,    38.56,2,    34.60,2,     0.00,2,     2.37,2, -999.000,9, -999.000,9, -999.000,9,-999.0000,9,  -999.00,9,   -999.0,9,-999.000,9,   -999.0,9,   -999,  -999.0,-999.000,-999.0000,-999.000,  -999.0,-999.000,  8.7352,-999.000
    49RY9407_2,   P09,    76,  2,      9,    223,2,19940810,0850,  4.8360, 139.2008, 4305,    404.0,   8.0025,  34.5928,2,  34.5926,2,   -999.0,9,     67.6,2,    42.08,2,    35.65,2,     0.00,2,     2.46,2, -999.000,9, -999.000,9, -999.000,9,-999.0000,9,  -999.00,9,   -999.0,9,-999.000,9,   -999.0,9,   -999,  -999.0,-999.000,-999.0000,-999.000,  -999.0,-999.000,  7.9613,-999.000
    49RY9407_2,   P09,    76,  2,      8,    212,2,19940810,0850,  4.8360, 139.2008, 4305,    504.3,   7.3599,  34.5658,2,  34.5643,2,   -999.0,9,     85.3,2,    45.73,2,    35.33,2,     0.00,2,     2.42,2, -999.000,9, -999.000,9, -999.000,9,-999.0000,9,  -999.00,9,   -999.0,9,-999.000,9,   -999.0,9,   -999,  -999.0,-999.000,-999.0000,-999.000,  -999.0,-999.000,  7.3105,-999.000
    49RY9407_2,   P09,    76,  2,      6,    209,4,19940810,0850,  4.8360, 139.2008, 4305,    604.2,   6.7648,  34.5482,2,  34.5486,2,   -999.0,9,     89.0,2,    51.18,2,    36.13,2,     0.00,2,     2.48,2, -999.000,9, -999.000,9, -999.000,9,-999.0000,9,  -999.00,9,   -999.0,9,-999.000,9,   -999.0,9,   -999,  -999.0,-999.000,-999.0000,-999.000,  -999.0,-999.000,  6.7081,-999.000
    49RY9407_2,   P09,    76,  2,      7,    220,2,19940810,0850,  4.8360, 139.2008, 4305,    604.2,   6.7648,  34.5482,2,  34.5482,2,   -999.0,9,     88.8,2,    51.24,2,    36.12,2,     0.00,2,     2.49,2, -999.000,9, -999.000,9, -999.000,9,-999.0000,9,  -999.00,9,   -999.0,9,-999.000,9,   -999.0,9,   -999,  -999.0,-999.000,-999.0000,-999.000,  -999.0,-999.000,  6.7081,-999.000
    49RY9407_2,   P09,    76,  2,      5,    218,2,19940810,0850,  4.8360, 139.2008, 4305,    806.2,   5.1912,  34.5407,2,  34.5413,2,   -999.0,9,     89.2,2,    75.29,6,    38.57,6,     0.00,6,     2.68,6, -999.000,9, -999.000,9, -999.000,9,-999.0000,9,  -999.00,9,   -999.0,9,-999.000,9,   -999.0,9,   -999,  -999.0,-999.000,-999.0000,-999.000,  -999.0,-999.000,  5.1239,-999.000
    49RY9407_2,   P09,    76,  2,      4,    206,2,19940810,0850,  4.8360, 139.2008, 4305,    907.6,   4.7402,  34.5499,2,  34.5486,2,   -999.0,9,     90.3,2,    84.50,2,    39.15,2,     0.00,2,     2.70,2, -999.000,9, -999.000,9, -999.000,9,-999.0000,9,  -999.00,9,   -999.0,9,-999.000,9,   -999.0,9,   -999,  -999.0,-999.000,-999.0000,-999.000,  -999.0,-999.000,  4.6669,-999.000
    49RY9407_2,   P09,    76,  2,      3,    205,2,19940810,0850,  4.8360, 139.2008, 4305,   1008.7,   4.3946,  34.5573,2,  34.5564,2,   -999.0,9,     89.1,2,    91.14,2,    39.62,2,     0.00,2,     2.74,2, -999.000,9, -999.000,9, -999.000,9,-999.0000,9,  -999.00,9,   -999.0,9,-999.000,9,   -999.0,9,   -999,  -999.0,-999.000,-999.0000,-999.000,  -999.0,-999.000,  4.3151,-999.000
    49RY9407_2,   P09,    76,  2,      2,    216,2,19940810,0850,  4.8360, 139.2008, 4305,   1261.3,   3.5397,  34.5799,2,  34.5800,2,   -999.0,9,     94.8,2,   110.09,2,    39.80,2,     0.00,2,     2.76,2, -999.000,9, -999.000,9, -999.000,9,-999.0000,9,  -999.00,9,   -999.0,9,-999.000,9,   -999.0,9,   -999,  -999.0,-999.000,-999.0000,-999.000,  -999.0,-999.000,  3.4461,-999.000
    49RY9407_2,   P09,    76,  2,      1,    201,2,19940810,0850,  4.8360, 139.2008, 4305,   1514.6,   2.9036,  34.6038,2,  34.6032,2,   -999.0,9,    103.4,2,   122.54,2,    39.71,2,     0.00,2,     2.75,2, -999.000,9, -999.000,9, -999.000,9,-999.0000,9,  -999.00,9,   -999.0,9,-999.000,9,   -999.0,9,   -999,  -999.0,-999.000,-999.0000,-999.000,  -999.0,-999.000,  2.7956,-999.000
    49RY9407_2,   P09,    76,  2,     24,    222,2,19940810,0850,  4.8360, 139.2008, 4305,   1767.8,   2.4821,  34.6221,2,  34.6221,2,   -999.0,9,    107.6,6,   132.61,2,    39.69,2,     0.00,2,     2.75,2, -999.000,9, -999.000,9, -999.000,9,-999.0000,9,  -999.00,9,   -999.0,9,-999.000,9,   -999.0,9,   -999,  -999.0,-999.000,-999.0000,-999.000,  -999.0,-999.000,  2.3582,-999.000
    49RY9407_2,   P09,    76,  2,     23,    228,2,19940810,0850,  4.8360, 139.2008, 4305,   2022.3,   2.1269,  34.6396,2,  34.6400,2,   -999.0,9,    115.4,2,   137.46,2,    39.17,2,     0.00,2,     2.70,2, -999.000,9, -999.000,9, -999.000,9,-999.0000,9,  -999.00,9,   -999.0,9,-999.000,9,   -999.0,9,   -999,  -999.0,-999.000,-999.0000,-999.000,  -999.0,-999.000,  1.9866,-999.000
    49RY9407_2,   P09,    76,  2,     21,    226,2,19940810,0850,  4.8360, 139.2008, 4305,   2275.7,   1.9468,  34.6501,2,  34.6491,2,   -999.0,9,    122.6,2,   141.51,6,    38.64,6,     0.00,6,     2.66,6, -999.000,9, -999.000,9, -999.000,9,-999.0000,9,  -999.00,9,   -999.0,9,-999.000,9,   -999.0,9,   -999,  -999.0,-999.000,-999.0000,-999.000,  -999.0,-999.000,  1.7875,-999.000
    49RY9407_2,   P09,    76,  2,     22,    227,2,19940810,0850,  4.8360, 139.2008, 4305,   2275.7,   1.9468,  34.6501,2,  34.6499,2,   -999.0,9,    122.6,2,   141.53,2,    38.76,2,     0.00,2,     2.67,2, -999.000,9, -999.000,9, -999.000,9,-999.0000,9,  -999.00,9,   -999.0,9,-999.000,9,   -999.0,9,   -999,  -999.0,-999.000,-999.0000,-999.000,  -999.0,-999.000,  1.7875,-999.000
    49RY9407_2,   P09,    76,  2,     20,    203,2,19940810,0850,  4.8360, 139.2008, 4305,   2530.5,   1.7676,  34.6610,2,  34.6599,2,   -999.0,9,    132.5,2,   142.11,2,    38.07,2,     0.00,2,     2.59,2, -999.000,9, -999.000,9, -999.000,9,-999.0000,9,  -999.00,9,   -999.0,9,-999.000,9,   -999.0,9,   -999,  -999.0,-999.000,-999.0000,-999.000,  2528.0,-999.000,  1.5888,-999.000
    49RY9407_2,   P09,    76,  2,     19,    210,2,19940810,0850,  4.8360, 139.2008, 4305,   2784.3,   1.6474,  34.6674,2,  34.6670,2,   -999.0,9,    139.5,2,   142.62,2,    37.59,2,     0.00,2,     2.57,2, -999.000,9, -999.000,9, -999.000,9,-999.0000,9,  -999.00,9,   -999.0,9,-999.000,9,   -999.0,9,   -999,  -999.0,-999.000,-999.0000,-999.000,  -999.0,-999.000,  1.4477,-999.000
    49RY9407_2,   P09,    76,  2,     18,    221,2,19940810,0850,  4.8360, 139.2008, 4305,   3040.2,   1.5915,  34.6716,2,  34.6725,2,   -999.0,9,    143.5,2,   142.83,2,    37.38,2,     0.00,2,     2.54,2, -999.000,9, -999.000,9, -999.000,9,-999.0000,9,  -999.00,9,   -999.0,9,-999.000,9,   -999.0,9,   -999,  -999.0,-999.000,-999.0000,-999.000,  3041.0,-999.000,  1.3689,-999.000
    49RY9407_2,   P09,    76,  2,     17,    219,2,19940810,0850,  4.8360, 139.2008, 4305,   3295.2,   1.5640,  34.6752,2,  34.6741,2,   -999.0,9,    146.8,2,   142.58,2,    37.25,2,     0.00,2,     2.51,2, -999.000,9, -999.000,9, -999.000,9,-999.0000,9,  -999.00,9,   -999.0,9,-999.000,9,   -999.0,9,   -999,  -999.0,-999.000,-999.0000,-999.000,  -999.0,-999.000,  1.3170,-999.000
    49RY9407_2,   P09,    76,  2,     16,    229,2,19940810,0850,  4.8360, 139.2008, 4305,   3551.9,   1.5446,  34.6785,2,  34.6786,2,   -999.0,9,    149.6,2,   142.39,2,    36.86,2,     0.00,2,     2.51,2, -999.000,9, -999.000,9, -999.000,9,-999.0000,9,  -999.00,9,   -999.0,9,-999.000,9,   -999.0,9,   -999,  -999.0,   1.536,-999.0000,-999.000,  3551.0,-999.000,  1.2720,-999.000
    49RY9407_2,   P09,    76,  2,     15,    217,2,19940810,0850,  4.8360, 139.2008, 4305,   3805.7,   1.5164,  34.6835,2,  34.6831,2,   -999.0,9,    153.2,2,   142.05,6,    36.66,6,     0.00,6,     2.53,3, -999.000,9, -999.000,9, -999.000,9,-999.0000,9,  -999.00,9,   -999.0,9,-999.000,9,   -999.0,9,   -999,  -999.0,-999.000,-999.0000,-999.000,  -999.0,-999.000,  1.2180,-999.000
    49RY9407_2,   P09,    76,  2,     14,    204,2,19940810,0850,  4.8360, 139.2008, 4305,   4062.7,   1.5059,  34.6858,2,  34.6857,2,   -999.0,9,    156.3,2,   141.01,2,    36.42,2,     0.00,2,     2.48,2, -999.000,9, -999.000,9, -999.000,9,-999.0000,9,  -999.00,9,   -999.0,9,-999.000,9,   -999.0,9,   -999,  -999.0,   1.503,-999.0000,-999.000,  4061.0,-999.000,  1.1800,-999.000
    49RY9407_2,   P09,    76,  2,     13,    214,2,19940810,0850,  4.8360, 139.2008, 4305,   4320.9,   1.5179,  34.6877,2,  34.6859,2,   -999.0,9,    157.9,6,   140.85,2,    36.26,2,     0.00,2,     2.46,2, -999.000,9, -999.000,9, -999.000,9,-999.0000,9,  -999.00,9,   -999.0,9,-999.000,9,   -999.0,9,   -999,  -999.0,-999.000,-999.0000,-999.000,  4306.0,-999.000,  1.1628,-999.000
    49RY9407_2,   P09,    76,  2,     12,    213,4,19940810,0850,  4.8360, 139.2008, 4305,   4410.2,   1.5284,  34.6872,2,  34.6858,6,   -999.0,9,    157.9,6,   141.09,2,    36.13,2,     0.00,2,     2.47,2, -999.000,9, -999.000,9, -999.000,9,-999.0000,9,  -999.00,9,   -999.0,9,-999.000,9,   -999.0,9,   -999,  -999.0,-999.000,-999.0000,-999.000,  4406.0,-999.000,  1.1629,-999.000
    49RY9407_2,   P09,    77,  1,      0,      0,2,19940810,1249,  4.4590, 139.5508, 4080,      0.2,  29.1324,  33.4843,2,-999.0000,9,   -999.0,9,    198.8,6,     1.47,2,     0.01,2,     0.00,2,     0.01,2, -999.000,9, -999.000,9, -999.000,9,-999.0000,9,  -999.00,9,   -999.0,9,-999.000,9,   -999.0,9,   -999,  -999.0,-999.000,-999.0000,-999.000,  -999.0,-999.000, 29.1323,-999.000
    49RY9407_2,   P09,    77,  1,     19,    210,2,19940810,1249,  4.4590, 139.5508, 4080,     11.3,  29.1650,  33.5571,2,  33.5598,2,   -999.0,9,    197.5,2,     1.45,2,     0.00,2,     0.00,2,     0.01,2, -999.000,9, -999.000,9, -999.000,9,-999.0000,9,  -999.00,9,   -999.0,9,-999.000,9,   -999.0,9,   -999,  -999.0,-999.000,-999.0000,-999.000,  -999.0,-999.000, 29.1623,-999.000
    49RY9407_2,   P09,    77,  1,     18,    221,2,19940810,1249,  4.4590, 139.5508, 4080,     25.8,  28.9387,  33.7163,2,  33.7202,2,   -999.0,9,    199.7,2,     1.40,2,     0.02,2,     0.00,2,     0.01,2, -999.000,9, -999.000,9, -999.000,9,-999.0000,9,  -999.00,9,   -999.0,9,-999.000,9,   -999.0,9,   -999,  -999.0,-999.000,-999.0000,-999.000,    29.0,-999.000, 28.9325,-999.000
    49RY9407_2,   P09,    77,  1,     17,    219,2,19940810,1249,  4.4590, 139.5508, 4080,     52.2,  27.6783,  34.1857,2,  34.1793,2,   -999.0,9,    201.9,2,     1.39,6,     0.01,6,     0.00,6,     0.03,6, -999.000,9, -999.000,9, -999.000,9,-999.0000,9,  -999.00,9,   -999.0,9,-999.000,9,   -999.0,9,   -999,  -999.0,-999.000,-999.0000,-999.000,  -999.0,-999.000, 27.6661,-999.000
    49RY9407_2,   P09,    77,  1,     16,    229,2,19940810,1249,  4.4590, 139.5508, 4080,     76.4,  25.8380,  34.4423,2,  34.4442,2,   -999.0,9,    196.0,2,     2.06,2,     0.00,2,     0.07,2,     0.11,2, -999.000,9, -999.000,9, -999.000,9,-999.0000,9,  -999.00,9,   -999.0,9,-999.000,9,   -999.0,9,   -999,  -999.0,  25.910,-999.0000,-999.000,    71.0,-999.000, 25.8211,-999.000
    49RY9407_2,   P09,    77,  1,     15,    217,2,19940810,1249,  4.4590, 139.5508, 4080,    102.1,  21.9862,  34.8812,2,  34.8587,2,   -999.0,9,    181.1,2,     3.58,2,     0.68,2,     0.13,2,     0.26,2, -999.000,9, -999.000,9, -999.000,9,-999.0000,9,  -999.00,9,   -999.0,9,-999.000,9,   -999.0,9,   -999,  -999.0,-999.000,-999.0000,-999.000,  -999.0,-999.000, 21.9660,-999.000
    49RY9407_2,   P09,    77,  1,     14,    204,2,19940810,1249,  4.4590, 139.5508, 4080,    128.6,  17.2682,  34.7328,2,  34.7319,2,   -999.0,9,    161.3,2,     8.64,2,     9.30,2,     0.04,2,     0.70,2, -999.000,9, -999.000,9, -999.000,9,-999.0000,9,  -999.00,9,   -999.0,9,-999.000,9,   -999.0,9,   -999,  -999.0,  17.181,-999.0000,-999.000,   129.0,-999.000, 17.2469,-999.000
    49RY9407_2,   P09,    77,  1,     13,    214,2,19940810,1249,  4.4590, 139.5508, 4080,    151.1,  14.7562,  34.6212,2,  34.6156,2,   -999.0,9,    139.7,2,    15.22,2,    15.48,2,     0.01,2,     1.08,2, -999.000,9, -999.000,9, -999.000,9,-999.0000,9,  -999.00,9,   -999.0,9,-999.000,9,   -999.0,9,   -999,  -999.0,-999.000,-999.0000,-999.000,   133.0,-999.000, 14.7337,-999.000
    49RY9407_2,   P09,    77,  1,     12,    213,2,19940810,1249,  4.4590, 139.5508, 4080,    201.4,  10.7398,  34.4646,2,  34.4569,2,   -999.0,9,    107.8,6,    30.62,2,    25.36,2,     0.00,2,     1.77,2, -999.000,9, -999.000,9, -999.000,9,-999.0000,9,  -999.00,9,   -999.0,9,-999.000,9,   -999.0,9,   -999,  -999.0,-999.000,-999.0000,-999.000,   202.0,-999.000, 10.7155,-999.000