BOTTLE,20020306WHPSIOdm
EXPOCODE,SECT_ID,STNNBR,CASTNO,SAMPNO,BTLNBR,BTLNBR_FLAG_W,DATE,TIME,LATITUDE,LONGITUDE,DEPTH,CTDPRS,CTDTMP,CTDSAL,CTDSAL_FLAG_W,SALNTY,SALNTY_FLAG_W,CTDOXY,CTDOXY_FLAG_W,OXYGEN,OXYGEN_FLAG_W,SILCAT,SILCAT_FLAG_W,NITRAT,NITRAT_FLAG_W,NITRIT,NITRIT_FLAG_W,PHSPHT,PHSPHT_FLAG_W,CFC-11,CFC-11_FLAG_W,CFC-12,CFC-12_FLAG_W,TRITUM,TRITUM_FLAG_W,HELIUM,HELIUM_FLAG_W,DELHE3,DELHE3_FLAG_W,DELC14,DELC14_FLAG_W,NEON,NEON_FLAG_W,TCARBN,TCARBN_FLAG_W,CTDRAW,C14ERR,REVTMP,HELIER,DELHER,REVPRS,NEONER,THETA,TRITER
,,,,,,,,,,,,DBAR,ITS-90,PSS-78,,PSS-78,,UMOL/KG,,UMOL/KG,,UMOL/KG,,UMOL/KG,,UMOL/KG,,UMOL/KG,,PMOL/KG,,PMOL/KG,,TU,,NMOL/KG,,PERCNT,,/MILLE,,NMOL/KG,,UMOL/KG,,,/MILLE,ITS-90,NMOL/KG,PERCNT,DBAR,NMOL/KG,DEG C,TU
    49RY9407_1,   P09,     9,  1,      0,      0,2,19940709,1631, 32.9983, 137.0037, 4285,      0.5,  28.9631,  34.2029,2,-999.0000,9,    207.2,3,    201.2,6,     1.64,6,     0.05,6,     0.00,6,     0.01,6, -999.000,9, -999.000,9, -999.000,9,-999.0000,9,  -999.00,9,   -999.0,9,-999.000,9,   -999.0,9,   -999,  -999.0,-999.000,-999.0000,-999.000,  -999.0,-999.000, 28.9630,-999.000
    49RY9407_1,   P09,     9,  1,      6,    209,2,19940709,1631, 32.9983, 137.0037, 4285,      9.6,  28.9120,  34.2252,2,  34.2156,2,    201.3,3,    201.2,2,     1.66,2,     0.00,2,     0.00,2,     0.01,2, -999.000,9, -999.000,9, -999.000,9,-999.0000,9,  -999.00,9,   -999.0,9,-999.000,9,   -999.0,9,   -999,  -999.0,-999.000,-999.0000,-999.000,  -999.0,-999.000, 28.9096,-999.000
    49RY9407_1,   P09,     9,  1,      5,    207,2,19940709,1631, 32.9983, 137.0037, 4285,     24.0,  27.7015,  34.2192,2,  34.2329,2,    211.6,3,    205.7,2,     1.64,2,     0.03,2,     0.00,2,     0.01,2, -999.000,9, -999.000,9, -999.000,9,-999.0000,9,  -999.00,9,   -999.0,9,-999.000,9,   -999.0,9,   -999,  -999.0,-999.000,-999.0000,-999.000,  -999.0,-999.000, 27.6959,-999.000
    49RY9407_1,   P09,     9,  1,      4,    206,2,19940709,1631, 32.9983, 137.0037, 4285,     50.0,  24.5041,  34.4735,2,  34.5604,2,    213.8,3,    209.9,2,     1.82,2,     0.03,2,     0.00,2,     0.04,2, -999.000,9, -999.000,9, -999.000,9,-999.0000,9,  -999.00,9,   -999.0,9,-999.000,9,   -999.0,9,   -999,  -999.0,-999.000,-999.0000,-999.000,  -999.0,-999.000, 24.4934,-999.000
    49RY9407_1,   P09,     9,  1,      3,    205,2,19940709,1631, 32.9983, 137.0037, 4285,     74.6,  22.6809,  34.7562,2,  34.7779,2,    206.2,3,    198.9,2,     2.89,2,     1.37,2,     0.26,2,     0.15,2, -999.000,9, -999.000,9, -999.000,9,-999.0000,9,  -999.00,9,   -999.0,9,-999.000,9,   -999.0,9,   -999,  -999.0,-999.000,-999.0000,-999.000,  -999.0,-999.000, 22.6658,-999.000
    49RY9407_1,   P09,     9,  1,      2,    204,2,19940709,1631, 32.9983, 137.0037, 4285,     99.7,  20.4492,  34.6602,2,  34.6350,2,    199.4,3,    190.9,2,     5.54,2,     4.16,2,     0.06,2,     0.31,2, -999.000,9, -999.000,9, -999.000,9,-999.0000,9,  -999.00,9,   -999.0,9,-999.000,9,   -999.0,9,   -999,  -999.0,  20.430,-999.0000,-999.000,    99.0,-999.000, 20.4306,-999.000
    49RY9407_1,   P09,     9,  1,      1,    201,2,19940709,1631, 32.9983, 137.0037, 4285,    125.7,  19.7117,  34.8569,2,  34.8726,2,    197.1,2,    198.1,2,     3.69,3,     3.05,2,     0.03,2,     0.24,2, -999.000,9, -999.000,9, -999.000,9,-999.0000,9,  -999.00,9,   -999.0,9,-999.000,9,   -999.0,9,   -999,  -999.0,-999.000,-999.0000,-999.000,  -999.0,-999.000, 19.6888,-999.000
    49RY9407_1,   P09,     9,  1,     24,    230,2,19940709,1631, 32.9983, 137.0037, 4285,    149.9,  18.1604,  34.6441,2,  34.6447,2,    191.3,2,    189.1,2,     8.28,6,     6.43,6,     0.06,6,     0.47,6, -999.000,9, -999.000,9, -999.000,9,-999.0000,9,  -999.00,9,   -999.0,9,-999.000,9,   -999.0,9,   -999,  -999.0,-999.000,-999.0000,-999.000,  -999.0,-999.000, 18.1346,-999.000
    49RY9407_1,   P09,     9,  1,     22,    227,2,19940709,1631, 32.9983, 137.0037, 4285,    202.3,  16.5424,  34.6808,2,  34.6796,2,    181.6,2,    183.1,6,    10.98,2,     8.78,2,     0.02,2,     0.63,2, -999.000,9, -999.000,9, -999.000,9,-999.0000,9,  -999.00,9,   -999.0,9,-999.000,9,   -999.0,9,   -999,  -999.0,-999.000,-999.0000,-999.000,  -999.0,-999.000, 16.5097,-999.000
    49RY9407_1,   P09,     9,  1,     23,    228,4,19940709,1631, 32.9983, 137.0037, 4285,    202.3,  16.5424,  34.6808,2,  34.6802,2,    181.6,2,    183.0,2,    10.95,2,     8.79,2,     0.02,2,     0.62,2, -999.000,9, -999.000,9, -999.000,9,-999.0000,9,  -999.00,9,   -999.0,9,-999.000,9,   -999.0,9,   -999,  -999.0,-999.000,-999.0000,-999.000,  -999.0,-999.000, 16.5097,-999.000
    49RY9407_1,   P09,     9,  2,      3,    205,2,19940709,1823, 32.9882, 137.1217, 4245,    304.3,  13.4798,  34.5268,2,  34.5247,2,    163.0,2,    166.5,2,    22.55,2,    14.87,2,     0.01,2,     1.05,2, -999.000,9, -999.000,9, -999.000,9,-999.0000,9,  -999.00,9,   -999.0,9,-999.000,9,   -999.0,9,   -999,  -999.0,-999.000,-999.0000,-999.000,  -999.0,-999.000, 13.4370,-999.000
    49RY9407_1,   P09,     9,  2,      2,    204,2,19940709,1823, 32.9882, 137.1217, 4245,    405.7,   9.1555,  34.3130,2,  34.3155,2,    135.5,2,    135.8,2,    48.05,2,    25.22,2,     0.00,2,     1.79,2, -999.000,9, -999.000,9, -999.000,9,-999.0000,9,  -999.00,9,   -999.0,9,-999.000,9,   -999.0,9,   -999,  -999.0,   9.061,-999.0000,-999.000,   415.0,-999.000,  9.1108,-999.000
    49RY9407_1,   P09,     9,  2,      1,    201,2,19940709,1823, 32.9882, 137.1217, 4245,    505.2,   6.8674,  34.2058,2,  34.2105,2,    113.1,2,    115.4,2,    65.99,2,    30.91,2,     0.01,2,     2.22,2, -999.000,9, -999.000,9, -999.000,9,-999.0000,9,  -999.00,9,   -999.0,9,-999.000,9,   -999.0,9,   -999,  -999.0,-999.000,-999.0000,-999.000,  -999.0,-999.000,  6.8201,-999.000
    49RY9407_1,   P09,     9,  2,     23,    228,2,19940709,1823, 32.9882, 137.1217, 4245,    606.8,   5.6213,  34.2020,2,  34.2013,2,     89.4,2,     93.4,2,    82.06,2,    34.91,2,     0.00,2,     2.51,2, -999.000,9, -999.000,9, -999.000,9,-999.0000,9,  -999.00,9,   -999.0,9,-999.000,9,   -999.0,9,   -999,  -999.0,-999.000,-999.0000,-999.000,  -999.0,-999.000,  5.5699,-999.000
    49RY9407_1,   P09,     9,  2,     24,    230,2,19940709,1823, 32.9882, 137.1217, 4245,    606.8,   5.6213,  34.2020,2,  34.2034,2,     89.4,2,     94.0,2,    82.04,2,    34.98,2,     0.00,2,     2.51,2, -999.000,9, -999.000,9, -999.000,9,-999.0000,9,  -999.00,9,   -999.0,9,-999.000,9,   -999.0,9,   -999,  -999.0,-999.000,-999.0000,-999.000,  -999.0,-999.000,  5.5699,-999.000
    49RY9407_1,   P09,     9,  2,     22,    227,2,19940709,1823, 32.9882, 137.1217, 4245,    707.3,   4.8191,  34.2651,2,  34.2687,2,     72.3,2,     74.2,2,    97.58,2,    37.75,2,     0.00,2,     2.72,2, -999.000,9, -999.000,9, -999.000,9,-999.0000,9,  -999.00,9,   -999.0,9,-999.000,9,   -999.0,9,   -999,  -999.0,-999.000,-999.0000,-999.000,  -999.0,-999.000,  4.7630,-999.000
    49RY9407_1,   P09,     9,  2,     21,    226,2,19940709,1823, 32.9882, 137.1217, 4245,    809.2,   4.1333,  34.3302,2,  34.3354,2,     63.4,2,     64.1,2,   111.73,2,    39.65,2,     0.00,2,     2.85,2, -999.000,9, -999.000,9, -999.000,9,-999.0000,9,  -999.00,9,   -999.0,9,-999.000,9,   -999.0,9,   -999,  -999.0,-999.000,-999.0000,-999.000,  -999.0,-999.000,  4.0726,-999.000
    49RY9407_1,   P09,     9,  2,     20,    225,2,19940709,1823, 32.9882, 137.1217, 4245,    908.4,   3.7349,  34.3814,2,  34.3840,2,     61.4,2,     66.2,6,   119.83,2,    40.18,2,     0.00,2,     2.89,2, -999.000,9, -999.000,9, -999.000,9,-999.0000,9,  -999.00,9,   -999.0,9,-999.000,9,   -999.0,9,   -999,  -999.0,-999.000,-999.0000,-999.000,  -999.0,-999.000,  3.6688,-999.000
    49RY9407_1,   P09,     9,  2,     19,    224,2,19940709,1823, 32.9882, 137.1217, 4245,   1009.9,   3.3969,  34.4216,2,  34.4230,2,     62.2,2,     66.9,2,   126.26,6,    40.45,6,     0.00,6,     2.91,6, -999.000,9, -999.000,9, -999.000,9,-999.0000,9,  -999.00,9,   -999.0,9,-999.000,9,   -999.0,9,   -999,  -999.0,-999.000,-999.0000,-999.000,  -999.0,-999.000,  3.3253,-999.000
    49RY9407_1,   P09,     9,  2,     18,    223,2,19940709,1823, 32.9882, 137.1217, 4245,   1264.0,   2.7537,  34.5043,2,  34.5011,2,     74.7,2,     78.8,2,   137.25,2,    40.32,2,     0.00,2,     2.90,2, -999.000,9, -999.000,9, -999.000,9,-999.0000,9,  -999.00,9,   -999.0,9,-999.000,9,   -999.0,9,   -999,  -999.0,-999.000,-999.0000,-999.000,  -999.0,-999.000,  2.6677,-999.000
    49RY9407_1,   P09,     9,  2,     17,    222,2,19940709,1823, 32.9882, 137.1217, 4245,   1515.7,   2.3838,  34.5526,2,  34.5525,2,     88.1,2,     91.9,2,   141.70,2,    39.67,2,     0.00,2,     2.84,2, -999.000,9, -999.000,9, -999.000,9,-999.0000,9,  -999.00,9,   -999.0,9,-999.000,9,   -999.0,9,   -999,  -999.0,-999.000,-999.0000,-999.000,  -999.0,-999.000,  2.2819,-999.000
    49RY9407_1,   P09,     9,  2,     16,    221,3,19940709,1823, 32.9882, 137.1217, 4245,   1768.6,   2.0557,  34.5944,2,-999.0000,5,    104.9,2,   -999.0,9,  -999.00,9,  -999.00,9,  -999.00,9,  -999.00,9, -999.000,9, -999.000,9, -999.000,9,-999.0000,9,  -999.00,9,   -999.0,9,-999.000,9,   -999.0,9,   -999,  -999.0,   1.644,-999.0000,-999.000,  2534.0,-999.000,  1.9376,-999.000
    49RY9407_1,   P09,     9,  2,     15,    220,2,19940709,1823, 32.9882, 137.1217, 4245,   2021.1,   1.9183,  34.6141,2,  34.6145,2,    116.2,2,    117.7,2,   144.21,2,    38.49,2,     0.00,2,     2.74,2, -999.000,9, -999.000,9, -999.000,9,-999.0000,9,  -999.00,9,   -999.0,9,-999.000,9,   -999.0,9,   -999,  -999.0,-999.000,-999.0000,-999.000,  -999.0,-999.000,  1.7814,-999.000
    49RY9407_1,   P09,     9,  2,     14,    219,2,19940709,1823, 32.9882, 137.1217, 4245,   2275.7,   1.7683,  34.6353,2,  34.6352,2,    126.6,2,    127.8,2,   143.78,2,    37.99,2,     0.01,2,     2.65,2, -999.000,9, -999.000,9, -999.000,9,-999.0000,9,  -999.00,9,   -999.0,9,-999.000,9,   -999.0,9,   -999,  -999.0,-999.000,-999.0000,-999.000,  -999.0,-999.000,  1.6121,-999.000
    49RY9407_1,   P09,     9,  2,     13,    218,2,19940709,1823, 32.9882, 137.1217, 4245,   2531.6,   1.6543,  34.6510,2,  34.6496,2,    134.1,2,    135.8,2,   143.62,2,    37.65,2,     0.00,2,     2.61,2, -999.000,9, -999.000,9, -999.000,9,-999.0000,9,  -999.00,9,   -999.0,9,-999.000,9,   -999.0,9,   -999,  -999.0,-999.000,-999.0000,-999.000,  -999.0,-999.000,  1.4777,-999.000
    49RY9407_1,   P09,     9,  2,     11,    216,4,19940709,1823, 32.9882, 137.1217, 4245,   3040.4,   1.5133,  34.6715,2,  34.6709,2,    149.5,2,    150.7,2,   142.50,2,    36.82,2,     0.00,2,     2.54,2, -999.000,9, -999.000,9, -999.000,9,-999.0000,9,  -999.00,9,   -999.0,9,-999.000,9,   -999.0,9,   -999,  -999.0,-999.000,-999.0000,-999.000,  -999.0,-999.000,  1.2924,-999.000
    49RY9407_1,   P09,     9,  2,     12,    217,2,19940709,1823, 32.9882, 137.1217, 4245,   3040.4,   1.5133,  34.6715,2,  34.6703,2,    149.5,2,    149.4,6,   142.37,6,    36.78,6,     0.00,6,     2.54,6, -999.000,9, -999.000,9, -999.000,9,-999.0000,9,  -999.00,9,   -999.0,9,-999.000,9,   -999.0,9,   -999,  -999.0,-999.000,-999.0000,-999.000,  -999.0,-999.000,  1.2924,-999.000
    49RY9407_1,   P09,     9,  2,      9,    213,4,19940709,1823, 32.9882, 137.1217, 4245,   3552.3,   1.5084,  34.6775,2,  34.6776,2,    155.3,2,    154.0,2,   141.86,2,    36.55,2,     0.00,2,     2.52,2, -999.000,9, -999.000,9, -999.000,9,-999.0000,9,  -999.00,9,   -999.0,9,-999.000,9,   -999.0,9,   -999,  -999.0,   1.501,-999.0000,-999.000,  3534.0,-999.000,  1.2367,-999.000
    49RY9407_1,   P09,     9,  2,     10,    214,2,19940709,1823, 32.9882, 137.1217, 4245,   3552.3,   1.5084,  34.6775,2,  34.6778,2,    155.3,2,    154.7,2,   141.84,2,    36.53,2,     0.00,2,     2.52,2, -999.000,9, -999.000,9, -999.000,9,-999.0000,9,  -999.00,9,   -999.0,9,-999.000,9,   -999.0,9,   -999,  -999.0,-999.000,-999.0000,-999.000,  -999.0,-999.000,  1.2367,-999.000
    49RY9407_1,   P09,     9,  2,      8,    212,2,19940709,1823, 32.9882, 137.1217, 4245,   4063.7,   1.5426,  34.6797,2,  34.6800,2,    157.7,2,    155.1,6,   141.47,2,    36.38,2,     0.01,2,     2.51,2, -999.000,9, -999.000,9, -999.000,9,-999.0000,9,  -999.00,9,   -999.0,9,-999.000,9,   -999.0,9,   -999,  -999.0,-999.000,-999.0000,-999.000,  -999.0,-999.000,  1.2155,-999.000
    49RY9407_1,   P09,     9,  2,      7,    210,2,19940709,1823, 32.9882, 137.1217, 4245,   4297.6,   1.5600,  34.6805,2,  34.6800,2,    159.4,2,    157.3,2,   141.45,6,    36.26,6,     0.00,6,     2.49,6, -999.000,9, -999.000,9, -999.000,9,-999.0000,9,  -999.00,9,   -999.0,9,-999.000,9,   -999.0,9,   -999,  -999.0,-999.000,-999.0000,-999.000,  -999.0,-999.000,  1.2063,-999.000
    49RY9407_1,   P09,     9,  3,     18,    223,2,19940710,0002, 32.9893, 137.0268, 4260,      2.6,  28.8696,  34.1998,2,  34.1983,2,    210.3,2,   -999.0,9,  -999.00,9,  -999.00,9,  -999.00,9,  -999.00,9,    1.690,3,    1.859,4,    1.442,2,   1.6569,2,    -1.39,2,   -999.0,9,   6.518,2,   -999.0,9,   -999,  -999.0,-999.000,  0.0024,   0.230,  -999.0,   0.015, 28.8690,   0.016
    49RY9407_1,   P09,     9,  3,     17,    222,2,19940710,0002, 32.9893, 137.0268, 4260,     25.0,  26.5829,  34.1927,2,  34.1993,2,    223.3,2,   -999.0,9,  -999.00,9,  -999.00,9,  -999.00,9,  -999.00,9,    1.683,3,    1.773,4,    1.028,3,   1.6507,2,    -0.80,2,   -999.0,9,   6.466,4,   -999.0,9,   -999,  -999.0,-999.000,  0.0026,   0.200,  -999.0,   0.037, 26.5773,   0.012
    49RY9407_1,   P09,     9,  3,     15,    220,4,19940710,0002, 32.9893, 137.0268, 4260,     50.0,  24.7985,  34.6711,2,  34.6374,2,    217.8,2,   -999.0,9,  -999.00,9,  -999.00,9,  -999.00,9,  -999.00,9,    1.945,3,    2.404,4,    1.791,2,   1.6816,2,    -0.65,2,   -999.0,9,   6.676,2,   -999.0,9,   -999,  -999.0,-999.000,  0.0029,   0.250,  -999.0,   0.015, 24.7878,   0.020
    49RY9407_1,   P09,     9,  3,     16,    221,2,19940710,0002, 32.9893, 137.0268, 4260,     50.0,  24.7985,  34.6711,2,  34.6380,2,    217.8,2,   -999.0,9,  -999.00,9,  -999.00,9,  -999.00,9,  -999.00,9,    1.903,3,    2.308,4,    1.153,2,   1.6811,2,    -0.53,2,   -999.0,9,   6.668,2,   -999.0,9,   -999,  -999.0,  24.990,  0.0024,   0.230,    53.0,   0.015, 24.7878,   0.014
    49RY9407_1,   P09,     9,  3,     14,    219,2,19940710,0002, 32.9893, 137.0268, 4260,     99.5,  20.7069,  34.8566,2,-999.0000,5,    201.1,2,   -999.0,9,  -999.00,9,  -999.00,9,  -999.00,9,  -999.00,9,    2.027,3,    3.722,4,    1.934,2,   1.6721,2,    -0.32,2,   -999.0,9,   6.726,4,   -999.0,9,   -999,  -999.0,-999.000,  0.0029,   0.250,  -999.0,   0.015, 20.6881,   0.052
    49RY9407_1,   P09,     9,  3,     13,    218,2,19940710,0002, 32.9893, 137.0268, 4260,    150.1,  18.1761,  34.7668,2,-999.0000,5,    190.6,2,   -999.0,9,  -999.00,9,  -999.00,9,  -999.00,9,  -999.00,9,    2.144,3,    2.735,4, -999.000,5,   1.7181,2,     2.72,2,   -999.0,9,   7.027,2,   -999.0,9,   -999,  -999.0,-999.000,  0.0025,   0.230,  -999.0,   0.016, 18.1502,-999.000
    49RY9407_1,   P09,     9,  3,     12,    217,2,19940710,0002, 32.9893, 137.0268, 4260,    200.8,  16.3784,  34.6909,2,  34.6878,2,    186.2,2,   -999.0,9,  -999.00,9,  -999.00,9,  -999.00,9,  -999.00,9,    2.110,3,    2.310,4,    2.110,2,   1.7256,2,     3.91,2,   -999.0,9,   7.111,2,   -999.0,9,   -999,  -999.0,-999.000,  0.0025,   0.230,  -999.0,   0.016, 16.3462,   0.057
    49RY9407_1,   P09,     9,  3,     11,    216,2,19940710,0002, 32.9893, 137.0268, 4260,    302.8,  12.7073,  34.4852,2,  34.4793,2,    167.0,2,   -999.0,9,  -999.00,9,  -999.00,9,  -999.00,9,  -999.00,9,    1.683,3,    4.562,4,    1.612,2,   1.7537,2,     8.46,2,   -999.0,9,   7.563,4,   -999.0,9,   -999,  -999.0,-999.000,  0.0025,   0.230,  -999.0,   0.017, 12.6664,   0.018
    49RY9407_1,   P09,     9,  3,     10,    214,2,19940710,0002, 32.9893, 137.0268, 4260,    402.7,   8.9525,  34.2971,2,-999.0000,5,    139.4,2,   -999.0,9,  -999.00,9,  -999.00,9,  -999.00,9,  -999.00,9,    1.068,3,    2.586,4,    1.278,2,   1.7732,2,    13.47,2,   -999.0,9,   7.472,2,   -999.0,9,   -999,  -999.0,-999.000,  0.0025,   0.230,  -999.0,   0.017,  8.9087,   0.015
    49RY9407_1,   P09,     9,  3,      9,    213,2,19940710,0002, 32.9893, 137.0268, 4260,    503.8,   7.3506,  34.2361,2,  34.2475,2,    114.4,2,   -999.0,9,  -999.00,9,  -999.00,9,  -999.00,9,  -999.00,9,    0.802,3,    1.682,4, -999.000,5,   1.7948,2,    15.67,2,   -999.0,9,   7.618,2,   -999.0,9,   -999,  -999.0,   7.212,  0.0023,   0.230,   508.0,   0.017,  7.3016,-999.000
    49RY9407_1,   P09,     9,  3,      8,    212,2,19940710,0002, 32.9893, 137.0268, 4260,    604.7,   5.8872,  34.2203,2,  34.2280,2,     93.5,2,   -999.0,9,  -999.00,9,  -999.00,9,  -999.00,9,  -999.00,9,    0.548,3,    1.646,4,    0.752,2,   1.8178,2,    15.50,2,   -999.0,9,   7.744,2,   -999.0,9,   -999,  -999.0,-999.000,  0.0027,   0.230,  -999.0,   0.017,  5.8347,   0.010
    49RY9407_1,   P09,     9,  3,      7,    210,2,19940710,0002, 32.9893, 137.0268, 4260,    705.2,   5.0353,  34.2500,2,-999.0000,5,     76.9,2,   -999.0,9,  -999.00,9,  -999.00,9,  -999.00,9,  -999.00,9,    0.394,3,    1.448,4,    0.548,2,   1.8369,2,    15.69,2,   -999.0,9,   7.853,2,   -999.0,9,   -999,  -999.0,-999.000,  0.0027,   0.230,  -999.0,   0.018,  4.9782,   0.008
    49RY9407_1,   P09,     9,  3,      6,    209,2,19940710,0002, 32.9893, 137.0268, 4260,    805.9,   4.3473,  34.3111,2,  34.3118,2,     67.0,2,   -999.0,9,  -999.00,9,  -999.00,9,  -999.00,9,  -999.00,9,    0.233,3,    1.401,4,    0.347,2,   1.8409,2,    15.62,2,   -999.0,9,   7.831,2,   -999.0,9,   -999,  -999.0,-999.000,  0.0026,   0.230,  -999.0,   0.018,  4.2856,   0.006
    49RY9407_1,   P09,     9,  3,      5,    207,2,19940710,0002, 32.9893, 137.0268, 4260,    906.6,   3.8092,  34.3757,2,-999.0000,5,     62.1,2,   -999.0,9,  -999.00,9,  -999.00,9,  -999.00,9,  -999.00,9,    0.152,3,    1.606,4, -999.000,5,   1.8983,2,    16.74,2,   -999.0,9,   8.077,4,   -999.0,9,   -999,  -999.0,-999.000,  0.0025,   0.230,  -999.0,   0.018,  3.7428,-999.000
    49RY9407_1,   P09,     9,  3,      4,    206,2,19940710,0002, 32.9893, 137.0268, 4260,   1007.2,   3.4434,  34.4172,2,  34.4167,2,     63.4,2,   -999.0,9,  -999.00,9,  -999.00,9,  -999.00,9,  -999.00,9,    0.164,4,    8.730,4,    0.144,2,   1.8283,2,    16.34,2,   -999.0,9,   7.778,2,   -999.0,9,   -999,  -999.0,-999.000,  0.0026,   0.230,  -999.0,   0.017,  3.3716,   0.004
    49RY9407_1,   P09,     9,  3,      2,    204,2,19940710,0002, 32.9893, 137.0268, 4260,   1259.5,   2.8269,  34.4936,2,  34.4956,2,     72.2,2,   -999.0,9,  -999.00,9,  -999.00,9,  -999.00,9,  -999.00,9,    0.100,3,    2.209,4, -999.000,9,-999.0000,9,  -999.00,9,   -999.0,9,-999.000,9,   -999.0,9,   -999,  -999.0,   2.839,-999.0000,-999.000,  1251.0,-999.000,  2.7406,-999.000
    49RY9407_1,   P09,     9,  3,      3,    205,2,19940710,0002, 32.9893, 137.0268, 4260,   1259.5,   2.8269,  34.4936,2,  34.4934,2,     72.2,2,   -999.0,9,  -999.00,9,  -999.00,9,  -999.00,9,  -999.00,9,    0.133,3,    2.830,4, -999.000,5,   1.8644,2,    17.60,2,   -999.0,9,   7.945,2,   -999.0,9,   -999,  -999.0,-999.000,  0.0024,   0.200,  -999.0,   0.016,  2.7406,-999.000
    49RY9407_1,   P09,     9,  3,      1,    201,4,19940710,0002, 32.9893, 137.0268, 4260,   1498.8,   2.4431,  34.5410,2,-999.0000,9,     87.6,2,   -999.0,9,  -999.00,9,  -999.00,9,  -999.00,9,  -999.00,9, -999.000,9, -999.000,9,    0.025,2,   1.8671,2,    17.49,2,   -999.0,9,   7.948,2,   -999.0,9,   -999,  -999.0,-999.000,  0.0024,   0.200,  -999.0,   0.016,  2.3419,   0.004