BOTTLE,20020306WHPSIOdm
EXPOCODE,SECT_ID,STNNBR,CASTNO,SAMPNO,BTLNBR,BTLNBR_FLAG_W,DATE,TIME,LATITUDE,LONGITUDE,DEPTH,CTDPRS,CTDTMP,CTDSAL,CTDSAL_FLAG_W,SALNTY,SALNTY_FLAG_W,CTDOXY,CTDOXY_FLAG_W,OXYGEN,OXYGEN_FLAG_W,SILCAT,SILCAT_FLAG_W,NITRAT,NITRAT_FLAG_W,NITRIT,NITRIT_FLAG_W,PHSPHT,PHSPHT_FLAG_W,CFC-11,CFC-11_FLAG_W,CFC-12,CFC-12_FLAG_W,TRITUM,TRITUM_FLAG_W,HELIUM,HELIUM_FLAG_W,DELHE3,DELHE3_FLAG_W,DELC14,DELC14_FLAG_W,NEON,NEON_FLAG_W,TCARBN,TCARBN_FLAG_W,CTDRAW,C14ERR,REVTMP,HELIER,DELHER,REVPRS,NEONER,THETA,TRITER
,,,,,,,,,,,,DBAR,ITS-90,PSS-78,,PSS-78,,UMOL/KG,,UMOL/KG,,UMOL/KG,,UMOL/KG,,UMOL/KG,,UMOL/KG,,PMOL/KG,,PMOL/KG,,TU,,NMOL/KG,,PERCNT,,/MILLE,,NMOL/KG,,UMOL/KG,,,/MILLE,ITS-90,NMOL/KG,PERCNT,DBAR,NMOL/KG,DEG C,TU
    49RY9407_2,   P09,   104,  2,      8,    212,2,19940817,0831, -2.7442, 142.2550, 3050,    301.7,  12.7671,  34.9976,2,  34.9965,2,   -999.0,9,    153.6,2,    10.73,2,    18.16,2,     0.01,2,     1.28,3, -999.000,9, -999.000,9, -999.000,9,-999.0000,9,  -999.00,9,   -999.0,9,-999.000,9,   -999.0,9,   -999,  -999.0,-999.000,-999.0000,-999.000,  -999.0,-999.000, 12.7259,-999.000
    49RY9407_2,   P09,   104,  2,      7,    220,2,19940817,0831, -2.7442, 142.2550, 3050,    402.0,  10.1385,  34.7657,2,  34.7621,2,   -999.0,9,    157.3,2,    16.39,2,    22.66,2,     0.00,2,     1.56,3, -999.000,9, -999.000,9, -999.000,9,-999.0000,9,  -999.00,9,   -999.0,9,-999.000,9,   -999.0,9,   -999,  -999.0,-999.000,-999.0000,-999.000,  -999.0,-999.000, 10.0911,-999.000
    49RY9407_2,   P09,   104,  2,      6,    209,2,19940817,0831, -2.7442, 142.2550, 3050,    402.9,  10.1232,  34.7632,2,  34.7646,2,   -999.0,9,    157.7,2,    16.46,2,    22.73,2,     0.00,2,     1.55,3, -999.000,9, -999.000,9, -999.000,9,-999.0000,9,  -999.00,9,   -999.0,9,-999.000,9,   -999.0,9,   -999,  -999.0,-999.000,-999.0000,-999.000,  -999.0,-999.000, 10.0757,-999.000
    49RY9407_2,   P09,   104,  2,      5,    218,2,19940817,0831, -2.7442, 142.2550, 3050,    502.9,   7.8967,  34.5896,2,  34.5895,2,   -999.0,9,    162.4,2,    24.23,2,    26.80,2,     0.00,2,     1.82,3, -999.000,9, -999.000,9, -999.000,9,-999.0000,9,  -999.00,9,   -999.0,9,-999.000,9,   -999.0,9,   -999,  -999.0,-999.000,-999.0000,-999.000,  -999.0,-999.000,  7.8455,-999.000
    49RY9407_2,   P09,   104,  2,      4,    206,2,19940817,0831, -2.7442, 142.2550, 3050,    603.2,   6.8611,  34.5326,2,  34.5320,6,   -999.0,9,    157.4,2,    31.95,2,    29.41,2,     0.00,2,     1.95,3, -999.000,9, -999.000,9, -999.000,9,-999.0000,9,  -999.00,9,   -999.0,9,-999.000,9,   -999.0,9,   -999,  -999.0,-999.000,-999.0000,-999.000,  -999.0,-999.000,  6.8040,-999.000
    49RY9407_2,   P09,   104,  2,      3,    205,2,19940817,0831, -2.7442, 142.2550, 3050,    704.3,   6.0221,  34.5179,2,  34.5141,2,   -999.0,9,    143.5,2,    43.40,6,    32.25,6,     0.00,6,     2.21,3, -999.000,9, -999.000,9, -999.000,9,-999.0000,9,  -999.00,9,   -999.0,9,-999.000,9,   -999.0,9,   -999,  -999.0,-999.000,-999.0000,-999.000,  -999.0,-999.000,  5.9594,-999.000
    49RY9407_2,   P09,   104,  2,      2,    216,2,19940817,0831, -2.7442, 142.2550, 3050,    805.2,   5.5648,  34.5360,2,  34.5279,2,   -999.0,9,    117.7,2,    57.12,2,    35.38,2,     0.00,2,     2.44,3, -999.000,9, -999.000,9, -999.000,9,-999.0000,9,  -999.00,9,   -999.0,9,-999.000,9,   -999.0,9,   -999,  -999.0,-999.000,-999.0000,-999.000,  -999.0,-999.000,  5.4953,-999.000
    49RY9407_2,   P09,   104,  2,      1,    201,2,19940817,0831, -2.7442, 142.2550, 3050,    906.5,   4.7853,  34.5199,2,  34.5218,2,   -999.0,9,    132.9,6,    66.52,2,    34.93,2,     0.00,2,     2.40,3, -999.000,9, -999.000,9, -999.000,9,-999.0000,9,  -999.00,9,   -999.0,9,-999.000,9,   -999.0,9,   -999,  -999.0,-999.000,-999.0000,-999.000,  -999.0,-999.000,  4.7119,-999.000
    49RY9407_2,   P09,   104,  2,     24,    222,2,19940817,0831, -2.7442, 142.2550, 3050,   1007.0,   4.4289,  34.5400,2,  34.5407,2,   -999.0,9,    119.6,2,    78.44,2,    36.44,2,     0.00,2,     2.59,3, -999.000,9, -999.000,9, -999.000,9,-999.0000,9,  -999.00,9,   -999.0,9,-999.000,9,   -999.0,9,   -999,  -999.0,-999.000,-999.0000,-999.000,  -999.0,-999.000,  4.3493,-999.000
    49RY9407_2,   P09,   104,  2,     23,    228,2,19940817,0831, -2.7442, 142.2550, 3050,   1260.3,   3.5224,  34.5785,2,  34.5799,6,   -999.0,9,    106.3,2,   104.29,2,    38.15,2,     0.00,2,     2.72,3, -999.000,9, -999.000,9, -999.000,9,-999.0000,9,  -999.00,9,   -999.0,9,-999.000,9,   -999.0,9,   -999,  -999.0,-999.000,-999.0000,-999.000,  -999.0,-999.000,  3.4291,-999.000
    49RY9407_2,   P09,   104,  2,     22,    227,2,19940817,0831, -2.7442, 142.2550, 3050,   1514.1,   2.8943,  34.6053,2,  34.6046,2,   -999.0,9,    110.1,2,   118.83,2,    38.37,2,     0.00,2,     2.74,3, -999.000,9, -999.000,9, -999.000,9,-999.0000,9,  -999.00,9,   -999.0,9,-999.000,9,   -999.0,9,   -999,  -999.0,-999.000,-999.0000,-999.000,  -999.0,-999.000,  2.7864,-999.000
    49RY9407_2,   P09,   104,  2,     20,    203,2,19940817,0831, -2.7442, 142.2550, 3050,   1767.1,   2.4977,  34.6223,2,  34.6206,3,   -999.0,9,    114.8,2,   127.55,2,    38.33,2,     0.00,2,     2.70,3, -999.000,9, -999.000,9, -999.000,9,-999.0000,1,  -999.00,1,   -999.0,9,-999.000,9,   -999.0,9,   -999,  -999.0,-999.000,-999.0000,-999.000,  1763.0,-999.000,  2.3736,-999.000
    49RY9407_2,   P09,   104,  2,     21,    226,2,19940817,0831, -2.7442, 142.2550, 3050,   1767.1,   2.4977,  34.6223,2,  34.6231,2,   -999.0,9,    114.8,2,   127.63,6,    38.33,6,     0.00,6,     2.69,3, -999.000,9, -999.000,9, -999.000,9,-999.0000,9,  -999.00,9,   -999.0,9,-999.000,9,   -999.0,9,   -999,  -999.0,-999.000,-999.0000,-999.000,  -999.0,-999.000,  2.3736,-999.000
    49RY9407_2,   P09,   104,  2,     19,    215,2,19940817,0831, -2.7442, 142.2550, 3050,   2021.7,   2.2486,  34.6344,2,  34.6347,6,   -999.0,9,    120.0,2,   132.95,2,    38.13,2,     0.00,2,     2.66,3, -999.000,9, -999.000,9, -999.000,9,-999.0000,9,  -999.00,9,   -999.0,9,-999.000,9,   -999.0,9,   -999,  -999.0,-999.000,-999.0000,-999.000,  -999.0,-999.000,  2.1065,-999.000
    49RY9407_2,   P09,   104,  2,     18,    221,2,19940817,0831, -2.7442, 142.2550, 3050,   2274.9,   1.9959,  34.6476,2,  34.6473,2,   -999.0,9,    126.4,6,   137.81,2,    37.84,2,     0.00,2,     2.64,3, -999.000,9, -999.000,9, -999.000,5,   1.8752,2,    21.31,2,   -999.0,9,   7.989,2,   -999.0,9,   -999,  -999.0,-999.000,  0.0030,   0.220,  2274.0,   0.016,  1.8359,-999.000
    49RY9407_2,   P09,   104,  2,     17,    219,2,19940817,0831, -2.7442, 142.2550, 3050,   2530.1,   1.8351,  34.6572,2,  34.6576,6,   -999.0,9,    131.9,2,   139.82,6,    37.41,6,     0.00,6,     2.62,3, -999.000,9, -999.000,9, -999.000,9,-999.0000,9,  -999.00,9,   -999.0,9,-999.000,9,   -999.0,9,   -999,  -999.0,-999.000,-999.0000,-999.000,  -999.0,-999.000,  1.6551,-999.000
    49RY9407_2,   P09,   104,  2,     16,    229,2,19940817,0831, -2.7442, 142.2550, 3050,   2785.5,   1.6445,  34.6684,2,  34.6684,2,   -999.0,9,    139.7,2,   142.06,6,    37.03,6,     0.00,6,     2.56,3, -999.000,9, -999.000,9, -999.000,9,-999.0000,9,  -999.00,9,   -999.0,9,-999.000,9,   -999.0,9,   -999,  -999.0,   1.636,-999.0000,-999.000,  2784.0,-999.000,  1.4448,-999.000
    49RY9407_2,   P09,   104,  2,     15,    217,2,19940817,0831, -2.7442, 142.2550, 3050,   2785.6,   1.6437,  34.6681,2,  34.6676,2,   -999.0,9,    139.9,2,   141.97,6,    37.03,6,     0.00,6,     2.57,3, -999.000,9, -999.000,9, -999.000,9,-999.0000,9,  -999.00,9,   -999.0,9,-999.000,9,   -999.0,9,   -999,  -999.0,-999.000,-999.0000,-999.000,  -999.0,-999.000,  1.4440,-999.000
    49RY9407_2,   P09,   104,  2,     13,    214,2,19940817,0831, -2.7442, 142.2550, 3050,   3041.1,   1.5775,  34.6737,2,  34.6725,2,   -999.0,9,    143.5,2,   142.95,6,    36.68,6,     0.00,6,     2.56,3, -999.000,9, -999.000,9, -999.000,9,-999.0000,9,  -999.00,9,   -999.0,9,-999.000,9,   -999.0,9,   -999,  -999.0,-999.000,-999.0000,-999.000,  3028.0,-999.000,  1.3551,-999.000
    49RY9407_2,   P09,   104,  2,     14,    204,2,19940817,0831, -2.7442, 142.2550, 3050,   3041.3,   1.5778,  34.6733,2,  34.6741,3,   -999.0,9,    143.0,2,   143.03,6,    36.74,6,     0.00,6,     2.56,3, -999.000,9, -999.000,9, -999.000,5,   1.8426,2,    18.94,2,   -999.0,9,   7.916,2,   -999.0,9,   -999,  -999.0,   1.575,  0.0027,   0.230,  3039.0,   0.016,  1.3553,-999.000
    49RY9407_2,   P09,   104,  2,     12,    213,4,19940817,0831, -2.7442, 142.2550, 3050,   3153.4,   1.5639,  34.6753,2,  34.6740,6,   -999.0,9,    144.1,2,   142.83,2,    36.71,2,     0.00,2,     2.53,3, -999.000,9, -999.000,9, -999.000,9,-999.0000,9,  -999.00,9,   -999.0,9,-999.000,9,   -999.0,9,   -999,  -999.0,-999.000,-999.0000,-999.000,  3149.0,-999.000,  1.3309,-999.000
    49RY9407_2,   P09,   104,  3,      6,    209,2,19940817,1038, -2.7447, 142.2618, 3025,      1.6,  28.4199,  34.0590,2,  34.0643,2,   -999.0,9,   -999.0,9,  -999.00,9,  -999.00,9,  -999.00,9,  -999.00,9,    1.591,2,    1.097,3,    1.077,2,   1.6734,2,    -1.12,2,   -999.0,9,   6.777,2,   -999.0,9,   -999,  -999.0,-999.000,  0.0022,   0.210,  -999.0,   0.013, 28.4196,   0.013
    49RY9407_2,   P09,   104,  3,      5,    218,2,19940817,1038, -2.7447, 142.2618, 3025,     25.7,  27.8980,  34.3627,2,  34.3616,2,   -999.0,9,   -999.0,9,  -999.00,9,  -999.00,9,  -999.00,9,  -999.00,9,    1.606,2,    1.222,3,    1.054,2,   1.6774,2,    -0.77,2,   -999.0,9,   6.639,2,   -999.0,9,   -999,  -999.0,-999.000,  0.0022,   0.210,  -999.0,   0.013, 27.8920,   0.013
    49RY9407_2,   P09,   104,  3,      4,    206,2,19940817,1038, -2.7447, 142.2618, 3025,     50.7,  26.9808,  34.4873,2,  34.4917,2,   -999.0,9,   -999.0,9,  -999.00,9,  -999.00,9,  -999.00,9,  -999.00,9,    1.615,2,    1.118,3,    1.112,3,   1.3122,4,     2.02,4,   -999.0,9,   4.391,4,   -999.0,9,   -999,  -999.0,-999.000,  0.0019,   0.200,  -999.0,   0.011, 26.9692,   0.014
    49RY9407_2,   P09,   104,  3,      3,    205,2,19940817,1038, -2.7447, 142.2618, 3025,     75.9,  26.7381,  34.5428,2,  34.5474,2,   -999.0,9,   -999.0,9,  -999.00,9,  -999.00,9,  -999.00,9,  -999.00,9,    1.629,2,    1.103,3,    1.067,2,   1.6836,2,    -0.51,2,   -999.0,9,   6.625,2,   -999.0,9,   -999,  -999.0,-999.000,  0.0022,   0.190,  -999.0,   0.017, 26.7209,   0.013
    49RY9407_2,   P09,   104,  3,      2,    216,2,19940817,1038, -2.7447, 142.2618, 3025,    101.2,  25.3702,  34.8665,2,  34.8708,2,   -999.0,9,   -999.0,9,  -999.00,9,  -999.00,9,  -999.00,9,  -999.00,9,    1.648,2,    1.121,3,    1.004,2,   1.6908,2,    -0.68,2,   -999.0,9,   6.691,2,   -999.0,9,   -999,  -999.0,-999.000,  0.0026,   0.200,  -999.0,   0.014, 25.3480,   0.013
    49RY9407_2,   P09,   104,  3,      1,    201,2,19940817,1038, -2.7447, 142.2618, 3025,    150.9,  21.8817,  35.4602,2,  35.4785,2,   -999.0,9,   -999.0,9,  -999.00,9,  -999.00,9,  -999.00,9,  -999.00,9,    1.620,2,    1.091,3,    0.827,2,   1.6810,2,     0.47,2,   -999.0,9,   6.738,2,   -999.0,9,   -999,  -999.0,-999.000,  0.0025,   0.190,  -999.0,   0.017, 21.8519,   0.011
    49RY9407_2,   P09,   104,  3,     23,    228,2,19940817,1038, -2.7447, 142.2618, 3025,    201.7,  17.7483,  35.3816,2,  35.3847,2,   -999.0,9,   -999.0,9,  -999.00,9,  -999.00,9,  -999.00,9,  -999.00,9, -999.000,9, -999.000,9,    0.701,2,   1.7098,2,     1.47,2,   -999.0,9,   7.018,2,   -999.0,9,   -999,  -999.0,-999.000,  0.0025,   0.190,  -999.0,   0.018, 17.7139,   0.009
    49RY9407_2,   P09,   104,  3,     24,    222,2,19940817,1038, -2.7447, 142.2618, 3025,    202.6,  17.7227,  35.3824,2,  35.3837,2,   -999.0,9,   -999.0,9,  -999.00,9,  -999.00,9,  -999.00,9,  -999.00,9,    1.356,6,    0.925,3, -999.000,9,-999.0000,9,  -999.00,9,   -999.0,9,-999.000,9,   -999.0,9,   -999,  -999.0,-999.000,-999.0000,-999.000,  -999.0,-999.000, 17.6882,-999.000
    49RY9407_2,   P09,   104,  3,     22,    227,2,19940817,1038, -2.7447, 142.2618, 3025,    301.7,  12.9477,  35.0081,2,  35.0097,2,   -999.0,9,   -999.0,9,  -999.00,9,  -999.00,9,  -999.00,9,  -999.00,9, -999.000,9, -999.000,9,    0.428,2,   1.7331,2,     2.92,2,   -999.0,9,   7.253,2,   -999.0,9,   -999,  -999.0,-999.000,  0.0025,   0.190,  -999.0,   0.018, 12.9062,   0.006
    49RY9407_2,   P09,   104,  3,     21,    226,2,19940817,1038, -2.7447, 142.2618, 3025,    402.3,  10.0479,  34.7538,2,  34.7601,2,   -999.0,9,   -999.0,9,  -999.00,9,  -999.00,9,  -999.00,9,  -999.00,9,    0.585,2,    0.568,3,    0.269,2,   1.7389,2,     3.41,2,   -999.0,9,   7.375,2,   -999.0,9,   -999,  -999.0,-999.000,  0.0025,   0.190,  -999.0,   0.019, 10.0007,   0.005
    49RY9407_2,   P09,   104,  3,     20,    203,2,19940817,1038, -2.7447, 142.2618, 3025,    502.8,   7.8846,  34.5869,2,  34.5907,2,   -999.0,9,   -999.0,9,  -999.00,9,  -999.00,9,  -999.00,9,  -999.00,9,    0.314,2,    0.188,3,    0.137,2,   1.7783,2,     5.23,2,   -999.0,9,   7.521,2,   -999.0,9,   -999,  -999.0,-999.000,  0.0028,   0.190,   502.0,   0.016,  7.8334,   0.003
    49RY9407_2,   P09,   104,  3,     19,    215,2,19940817,1038, -2.7447, 142.2618, 3025,    603.5,   6.8618,  34.5285,2,  34.5340,2,   -999.0,9,   -999.0,9,  -999.00,9,  -999.00,9,  -999.00,9,  -999.00,9,    0.174,2,    0.117,3,    0.079,2,   1.7802,2,     8.16,2,   -999.0,9,   7.595,2,   -999.0,9,   -999,  -999.0,-999.000,  0.0028,   0.190,  -999.0,   0.019,  6.8047,   0.003
    49RY9407_2,   P09,   104,  3,     17,    219,2,19940817,1038, -2.7447, 142.2618, 3025,    703.8,   6.0697,  34.5158,2,  34.5204,2,   -999.0,9,   -999.0,9,  -999.00,9,  -999.00,9,  -999.00,9,  -999.00,9,    0.082,2,    0.033,3,    0.054,2,   1.7611,2,    11.69,2,   -999.0,9,   7.509,4,   -999.0,9,   -999,  -999.0,-999.000,  0.0028,   0.230,  -999.0,   0.015,  6.0069,   0.003
    49RY9407_2,   P09,   104,  3,     18,    221,2,19940817,1038, -2.7447, 142.2618, 3025,    703.8,   6.0697,  34.5158,2,  34.5191,2,   -999.0,9,   -999.0,9,  -999.00,9,  -999.00,9,  -999.00,9,  -999.00,9,    0.083,2,    0.105,4,    0.046,2,   1.7982,2,    11.72,2,   -999.0,9,   7.658,2,   -999.0,9,   -999,  -999.0,-999.000,  0.0028,   0.230,   703.0,   0.015,  6.0069,   0.003
    49RY9407_2,   P09,   104,  3,     16,    229,2,19940817,1038, -2.7447, 142.2618, 3025,    805.3,   5.7010,  34.5300,2,  34.5285,2,   -999.0,9,   -999.0,9,  -999.00,9,  -999.00,9,  -999.00,9,  -999.00,9,    0.040,2,    0.033,4,    0.032,2,   1.8056,2,    13.02,2,   -999.0,9,   7.713,2,   -999.0,9,   -999,  -999.0,   5.696,  0.0029,   0.230,   805.0,   0.015,  5.6307,   0.003
    49RY9407_2,   P09,   104,  3,     15,    217,2,19940817,1038, -2.7447, 142.2618, 3025,    907.2,   4.9098,  34.5384,2,  34.5236,2,   -999.0,9,   -999.0,9,  -999.00,9,  -999.00,9,  -999.00,9,  -999.00,9,    0.025,2,    0.086,4,    0.020,2,   1.8037,2,    15.41,2,   -999.0,9,   7.683,2,   -999.0,9,   -999,  -999.0,-999.000,  0.0032,   0.230,  -999.0,   0.015,  4.8354,   0.007
    49RY9407_2,   P09,   104,  3,     14,    204,2,19940817,1038, -2.7447, 142.2618, 3025,   1007.7,   4.4923,  34.5331,2,  34.5360,2,   -999.0,9,   -999.0,9,  -999.00,9,  -999.00,9,  -999.00,9,  -999.00,9,    0.014,2,    0.052,4,    0.017,2,-999.0000,5,  -999.00,5,   -999.0,9,-999.000,9,   -999.0,9,   -999,  -999.0,   4.491,-999.0000,-999.000,  1006.0,-999.000,  4.4122,   0.007
    49RY9407_2,   P09,   104,  3,     13,    214,2,19940817,1038, -2.7447, 142.2618, 3025,   1261.3,   3.5668,  34.5773,2,  34.5771,2,   -999.0,9,   -999.0,9,  -999.00,9,  -999.00,9,  -999.00,9,  -999.00,9, -999.000,9, -999.000,9,    0.005,2,   1.8635,2,    23.99,2,   -999.0,9,   7.824,2,   -999.0,9,   -999,  -999.0,-999.000,  0.0029,   0.220,  1240.0,   0.016,  3.4729,   0.006
    49RY9407_2,   P09,   104,  3,     12,    213,4,19940817,1038, -2.7447, 142.2618, 3025,   1517.3,   2.9226,  34.6026,2,  34.6048,2,   -999.0,9,   -999.0,9,  -999.00,9,  -999.00,9,  -999.00,9,  -999.00,9,    0.002,2,    0.059,4, -999.000,9,-999.0000,9,  -999.00,9,   -999.0,9,-999.000,9,   -999.0,9,   -999,  -999.0,-999.000,-999.0000,-999.000,  1517.0,-999.000,  2.8141,-999.000