BOTTLE,20020306WHPSIOdm
EXPOCODE,SECT_ID,STNNBR,CASTNO,SAMPNO,BTLNBR,BTLNBR_FLAG_W,DATE,TIME,LATITUDE,LONGITUDE,DEPTH,CTDPRS,CTDTMP,CTDSAL,CTDSAL_FLAG_W,SALNTY,SALNTY_FLAG_W,CTDOXY,CTDOXY_FLAG_W,OXYGEN,OXYGEN_FLAG_W,SILCAT,SILCAT_FLAG_W,NITRAT,NITRAT_FLAG_W,NITRIT,NITRIT_FLAG_W,PHSPHT,PHSPHT_FLAG_W,CFC-11,CFC-11_FLAG_W,CFC-12,CFC-12_FLAG_W,TRITUM,TRITUM_FLAG_W,HELIUM,HELIUM_FLAG_W,DELHE3,DELHE3_FLAG_W,DELC14,DELC14_FLAG_W,NEON,NEON_FLAG_W,TCARBN,TCARBN_FLAG_W,CTDRAW,C14ERR,REVTMP,HELIER,DELHER,REVPRS,NEONER,THETA,TRITER
,,,,,,,,,,,,DBAR,ITS-90,PSS-78,,PSS-78,,UMOL/KG,,UMOL/KG,,UMOL/KG,,UMOL/KG,,UMOL/KG,,UMOL/KG,,PMOL/KG,,PMOL/KG,,TU,,NMOL/KG,,PERCNT,,/MILLE,,NMOL/KG,,UMOL/KG,,,/MILLE,ITS-90,NMOL/KG,PERCNT,DBAR,NMOL/KG,DEG C,TU
    49RY9407_1,   P09,    25,  2,     24,    230,2,19940713,2045, 28.0240, 137.0060, 4275,    200.2,  18.3708,  34.8916,2,  34.8903,2,    215.7,2,    213.6,2,  -999.00,9,     2.39,2,     0.01,2,     0.18,2, -999.000,9, -999.000,9, -999.000,9,-999.0000,9,  -999.00,9,   -999.0,9,-999.000,9,   -999.0,9,   -999,  -999.0,-999.000,-999.0000,-999.000,  -999.0,-999.000, 18.3359,-999.000
    49RY9407_1,   P09,    25,  2,     23,    228,2,19940713,2045, 28.0240, 137.0060, 4275,    301.8,  17.4835,  34.8167,2,  34.8199,2,    207.0,3,    212.8,2,     4.58,2,     4.22,2,     0.01,2,     0.30,2, -999.000,9, -999.000,9, -999.000,9,-999.0000,9,  -999.00,9,   -999.0,9,-999.000,9,   -999.0,9,   -999,  -999.0,-999.000,-999.0000,-999.000,  -999.0,-999.000, 17.4326,-999.000
    49RY9407_1,   P09,    25,  2,     22,    227,2,19940713,2045, 28.0240, 137.0060, 4275,    401.4,  15.7490,  34.6756,2,  34.6738,2,    191.8,2,    190.1,2,     9.31,2,     8.64,2,     0.00,2,     0.59,2, -999.000,9, -999.000,9, -999.000,9,-999.0000,9,  -999.00,9,   -999.0,9,-999.000,9,   -999.0,9,   -999,  -999.0,-999.000,-999.0000,-999.000,  -999.0,-999.000, 15.6860,-999.000
    49RY9407_1,   P09,    25,  2,     20,    225,2,19940713,2045, 28.0240, 137.0060, 4275,    503.0,  13.0511,  34.4787,2,  34.4696,2,    180.6,2,    183.3,2,    17.21,6,    13.63,6,     0.00,6,     0.95,6, -999.000,9, -999.000,9, -999.000,9,-999.0000,9,  -999.00,9,   -999.0,9,-999.000,9,   -999.0,9,   -999,  -999.0,-999.000,-999.0000,-999.000,  -999.0,-999.000, 12.9813,-999.000
    49RY9407_1,   P09,    25,  2,     21,    226,2,19940713,2045, 28.0240, 137.0060, 4275,    503.0,  13.0511,  34.4787,2,  34.4690,2,    180.6,2,    182.8,6,    17.32,2,    13.61,2,     0.00,2,     0.95,2, -999.000,9, -999.000,9, -999.000,9,-999.0000,9,  -999.00,9,   -999.0,9,-999.000,9,   -999.0,9,   -999,  -999.0,-999.000,-999.0000,-999.000,  -999.0,-999.000, 12.9813,-999.000
    49RY9407_1,   P09,    25,  2,     19,    224,2,19940713,2045, 28.0240, 137.0060, 4275,    603.7,  10.0850,  34.2617,2,  34.2593,2,    172.3,2,    175.4,6,    31.10,2,    19.89,2,     0.00,2,     1.41,2, -999.000,9, -999.000,9, -999.000,9,-999.0000,9,  -999.00,9,   -999.0,9,-999.000,9,   -999.0,9,   -999,  -999.0,-999.000,-999.0000,-999.000,  -999.0,-999.000, 10.0138,-999.000
    49RY9407_1,   P09,    25,  2,     18,    223,2,19940713,2045, 28.0240, 137.0060, 4275,    704.7,   8.2315,  34.1648,2,  34.1649,2,    156.5,2,    154.0,2,    45.39,2,    24.90,2,     0.00,2,     1.79,2, -999.000,9, -999.000,9, -999.000,9,-999.0000,9,  -999.00,9,   -999.0,9,-999.000,9,   -999.0,9,   -999,  -999.0,-999.000,-999.0000,-999.000,  -999.0,-999.000,  8.1576,-999.000
    49RY9407_1,   P09,    25,  2,     17,    222,2,19940713,2045, 28.0240, 137.0060, 4275,    806.3,   5.9655,  34.1190,2,  34.1195,2,    122.5,3,    113.7,2,    71.93,2,    32.64,2,     0.00,2,     2.35,2, -999.000,9, -999.000,9, -999.000,9,-999.0000,9,  -999.00,9,   -999.0,9,-999.000,9,   -999.0,9,   -999,  -999.0,-999.000,-999.0000,-999.000,  -999.0,-999.000,  5.8940,-999.000
    49RY9407_1,   P09,    25,  2,     16,    221,2,19940713,2045, 28.0240, 137.0060, 4275,    907.1,   4.9712,  34.1745,2,  34.1765,2,     90.4,2,     88.0,2,    90.48,2,    36.76,2,     0.00,2,     2.65,2, -999.000,9, -999.000,9, -999.000,9,-999.0000,9,  -999.00,9,   -999.0,9,-999.000,9,   -999.0,9,   -999,  -999.0,-999.000,-999.0000,-999.000,  -999.0,-999.000,  4.8969,-999.000
    49RY9407_1,   P09,    25,  2,     15,    220,2,19940713,2045, 28.0240, 137.0060, 4275,   1008.6,   4.3241,  34.2586,2,  34.2581,2,     70.3,2,     69.5,2,   106.56,2,    39.41,2,     0.00,2,     2.83,2, -999.000,9, -999.000,9, -999.000,9,-999.0000,9,  -999.00,9,   -999.0,9,-999.000,9,   -999.0,9,   -999,  -999.0,-999.000,-999.0000,-999.000,  -999.0,-999.000,  4.2456,-999.000
    49RY9407_1,   P09,    25,  2,     14,    219,2,19940713,2045, 28.0240, 137.0060, 4275,   1260.6,   3.3122,  34.4102,2,  34.4082,2,     59.1,2,     57.6,6,   129.83,6,    41.29,6,     0.00,6,     2.96,6, -999.000,9, -999.000,9, -999.000,9,-999.0000,9,  -999.00,9,   -999.0,9,-999.000,9,   -999.0,9,   -999,  -999.0,-999.000,-999.0000,-999.000,  -999.0,-999.000,  3.2212,-999.000
    49RY9407_1,   P09,    25,  2,     13,    218,2,19940713,2045, 28.0240, 137.0060, 4275,   1514.8,   2.6594,  34.5034,2,  34.4999,2,     71.1,2,     69.4,2,   142.54,2,    41.19,2,     0.00,2,     2.94,2, -999.000,9, -999.000,9, -999.000,9,-999.0000,9,  -999.00,9,   -999.0,9,-999.000,9,   -999.0,9,   -999,  -999.0,-999.000,-999.0000,-999.000,  -999.0,-999.000,  2.5545,-999.000
    49RY9407_1,   P09,    25,  2,     12,    217,2,19940713,2045, 28.0240, 137.0060, 4275,   1766.6,   2.3090,  34.5541,2,  34.5543,2,     88.2,2,     84.8,2,   146.39,2,    40.47,2,     0.00,2,     2.86,2, -999.000,9, -999.000,9, -999.000,5,   1.8693,2,    18.10,2,   -999.0,9,   7.966,2,   -999.0,9,   -999,  -999.0,-999.000,  0.0028,   0.220,  -999.0,   0.019,  2.1878,-999.000
    49RY9407_1,   P09,    25,  2,     11,    216,2,19940713,2045, 28.0240, 137.0060, 4275,   2021.2,   2.0557,  34.5939,2,  34.5933,2,    106.0,2,    104.8,2,   146.90,2,    39.57,2,     0.00,2,     2.79,2, -999.000,9, -999.000,9, -999.000,9,-999.0000,9,  -999.00,9,   -999.0,9,-999.000,9,   -999.0,9,   -999,  -999.0,-999.000,-999.0000,-999.000,  -999.0,-999.000,  1.9168,-999.000
    49RY9407_1,   P09,    25,  2,     10,    214,2,19940713,2045, 28.0240, 137.0060, 4275,   2274.7,   1.8770,  34.6237,2,  34.6228,2,    118.6,2,    120.4,2,   145.38,2,    38.54,2,     0.00,2,     2.70,2, -999.000,9, -999.000,9, -999.000,5,   1.8879,2,    18.83,2,   -999.0,9,   8.060,2,   -999.0,9,   -999,  -999.0,-999.000,  0.0034,   0.180,  -999.0,   0.020,  1.7192,-999.000
    49RY9407_1,   P09,    25,  2,      9,    213,2,19940713,2045, 28.0240, 137.0060, 4275,   2530.0,   1.7586,  34.6409,2,  34.6394,2,    130.7,2,    127.1,2,   144.85,2,    37.95,2,     0.00,2,     2.66,2, -999.000,9, -999.000,9, -999.000,9,-999.0000,9,  -999.00,9,   -999.0,9,-999.000,9,   -999.0,9,   -999,  -999.0,   1.755,-999.0000,-999.000,  2529.0,-999.000,  1.5802,-999.000
    49RY9407_1,   P09,    25,  2,      8,    212,2,19940713,2045, 28.0240, 137.0060, 4275,   2782.7,   1.6589,  34.6562,2,  34.6543,2,    138.7,2,    142.4,3,   144.41,2,    37.42,2,     0.00,2,     2.62,2, -999.000,9, -999.000,9, -999.000,5,   1.8852,2,    18.31,2,   -999.0,9,   8.063,2,   -999.0,9,   -999,  -999.0,-999.000,  0.0035,   0.220,  -999.0,   0.019,  1.4593,-999.000
    49RY9407_1,   P09,    25,  2,      7,    210,2,19940713,2045, 28.0240, 137.0060, 4275,   3038.5,   1.5915,  34.6655,2,  34.6648,2,    145.6,2,    142.0,2,   143.90,6,    37.03,6,     0.00,6,     2.58,6, -999.000,9, -999.000,9, -999.000,9,-999.0000,9,  -999.00,9,   -999.0,9,-999.000,9,   -999.0,9,   -999,  -999.0,-999.000,-999.0000,-999.000,  -999.0,-999.000,  1.3691,-999.000
    49RY9407_1,   P09,    25,  2,      6,    209,2,19940713,2045, 28.0240, 137.0060, 4275,   3294.1,   1.5471,  34.6734,2,  34.6723,2,    151.0,2,    151.3,3,   143.28,2,    36.74,2,     0.00,2,     2.55,2, -999.000,9, -999.000,9, -999.000,5,   1.8439,2,    18.08,2,   -999.0,9,   7.921,3,   -999.0,9,   -999,  -999.0,-999.000,  0.0024,   0.210,  -999.0,   0.030,  1.3006,-999.000
    49RY9407_1,   P09,    25,  2,      5,    229,2,19940713,2045, 28.0240, 137.0060, 4275,   3550.0,   1.5144,  34.6789,2,  34.6782,2,    153.8,2,    153.4,2,   142.40,2,    36.51,2,     0.00,2,     2.53,2, -999.000,9, -999.000,9, -999.000,9,-999.0000,9,  -999.00,9,   -999.0,9,-999.000,9,   -999.0,9,   -999,  -999.0,   1.513,-999.0000,-999.000,  3550.0,-999.000,  1.2428,-999.000
    49RY9407_1,   P09,    25,  2,      4,    206,2,19940713,2045, 28.0240, 137.0060, 4275,   3807.5,   1.5118,  34.6815,2,  34.6796,2,    156.0,2,    157.2,2,   141.79,2,    36.27,2,     0.00,2,     2.51,2, -999.000,9, -999.000,9, -999.000,5,   1.8604,2,    16.85,2,   -999.0,9,   7.977,2,   -999.0,9,   -999,  -999.0,-999.000,  0.0032,   0.180,  -999.0,   0.020,  1.2133,-999.000
    49RY9407_1,   P09,    25,  2,      3,    205,2,19940713,2045, 28.0240, 137.0060, 4275,   4061.7,   1.5254,  34.6834,2,  34.6809,2,    158.3,2,    156.0,2,   141.91,2,    36.26,2,     0.00,2,     2.51,2, -999.000,9, -999.000,9, -999.000,9,-999.0000,9,  -999.00,9,   -999.0,9,-999.000,9,   -999.0,9,   -999,  -999.0,-999.000,-999.0000,-999.000,  -999.0,-999.000,  1.1990,-999.000
    49RY9407_1,   P09,    25,  2,      2,    204,4,19940713,2045, 28.0240, 137.0060, 4275,   4263.2,   1.5379,  34.6843,2,  34.6823,2,    157.8,2,    157.6,2,   141.51,6,    36.27,6,     0.00,6,     2.51,6, -999.000,9, -999.000,9, -999.000,9,-999.0000,9,  -999.00,9,   -999.0,9,-999.000,9,   -999.0,9,   -999,  -999.0,   1.536,-999.0000,-999.000,  4260.0,-999.000,  1.1887,-999.000
    49RY9407_1,   P09,    25,  3,     19,    224,2,19940713,2327, 28.0533, 137.0395, 4735,      2.8,  28.6245,  34.4934,2,  34.5045,2,    189.1,4,   -999.0,9,  -999.00,9,  -999.00,9,  -999.00,9,  -999.00,9,    1.729,2,    2.313,3, -999.000,5,   1.6657,2,    -0.31,2,   -999.0,9,   6.503,2,   -999.0,9,   -999,  -999.0,-999.000,  0.0042,   0.230,  -999.0,   0.016, 28.6238,-999.000
    49RY9407_1,   P09,    25,  3,     17,    222,4,19940713,2327, 28.0533, 137.0395, 4735,     24.8,  23.3255,  34.7285,2,  34.7257,2,    224.9,2,   -999.0,9,  -999.00,9,  -999.00,9,  -999.00,9,  -999.00,9,    2.088,2,    1.416,3,    1.709,2,   1.6595,2,    -1.45,2,   -999.0,9,   6.672,2,   -999.0,9,   -999,  -999.0,-999.000,  0.0022,   0.220,  -999.0,   0.025, 23.3204,   0.019
    49RY9407_1,   P09,    25,  3,     18,    223,2,19940713,2327, 28.0533, 137.0395, 4735,     24.8,  23.3255,  34.7285,2,  34.7259,2,    224.9,2,   -999.0,9,  -999.00,9,  -999.00,9,  -999.00,9,  -999.00,9,    2.116,2,    1.556,3,    1.654,2,   1.6754,2,    -1.26,2,   -999.0,9,   6.714,2,   -999.0,9,   -999,  -999.0,-999.000,  0.0022,   0.220,  -999.0,   0.017, 23.3204,   0.019
    49RY9407_1,   P09,    25,  3,     15,    220,4,19940713,2327, 28.0533, 137.0395, 4735,     74.3,  20.4124,  34.8944,2,  34.8935,2,    228.0,2,   -999.0,9,  -999.00,9,  -999.00,9,  -999.00,9,  -999.00,9,    2.266,2,    1.418,3,    1.683,2,   1.7043,2,    -0.62,2,   -999.0,9,   6.846,2,   -999.0,9,   -999,  -999.0,-999.000,  0.0045,   0.190,  -999.0,   0.014, 20.3985,   0.019
    49RY9407_1,   P09,    25,  3,     16,    221,2,19940713,2327, 28.0533, 137.0395, 4735,     74.3,  20.4124,  34.8944,2,  34.8939,2,    228.0,2,   -999.0,9,  -999.00,9,  -999.00,9,  -999.00,9,  -999.00,9,    2.259,2,    1.541,3,    1.784,2,   1.6953,2,    -0.43,2,   -999.0,9,   6.811,2,   -999.0,9,   -999,  -999.0,  20.410,  0.0022,   0.220,    78.0,   0.014, 20.3985,   0.020
    49RY9407_1,   P09,    25,  3,     14,    219,2,19940713,2327, 28.0533, 137.0395, 4735,    150.7,  18.7764,  34.8930,2,  34.8891,2,    212.5,2,   -999.0,9,  -999.00,9,  -999.00,9,  -999.00,9,  -999.00,9,    2.347,2,    1.654,3,    1.817,2,   1.7043,2,    -0.66,2,   -999.0,9,   6.940,2,   -999.0,9,   -999,  -999.0,-999.000,  0.0045,   0.190,  -999.0,   0.017, 18.7497,   0.020
    49RY9407_1,   P09,    25,  3,     13,    218,2,19940713,2327, 28.0533, 137.0395, 4735,    200.9,  18.3096,  34.8994,2,  34.8982,2,    213.1,2,   -999.0,9,  -999.00,9,  -999.00,9,  -999.00,9,  -999.00,9,    2.360,2,    1.585,3,    1.691,2,   1.7130,2,    -0.63,2,   -999.0,9,   6.905,2,   -999.0,9,   -999,  -999.0,-999.000,  0.0030,   0.230,  -999.0,   0.017, 18.2747,   0.019
    49RY9407_1,   P09,    25,  3,     12,    217,2,19940713,2327, 28.0533, 137.0395, 4735,    301.0,  17.2289,  34.7978,2,  34.7947,2,    211.0,2,   -999.0,9,  -999.00,9,  -999.00,9,  -999.00,9,  -999.00,9,    2.426,2,    1.479,3,    0.015,4,   1.6987,2,     1.17,2,   -999.0,9,   6.976,7,   -999.0,9,   -999,  -999.0,-999.000,  0.0025,   0.230,  -999.0,   0.017, 17.1787,   0.003
    49RY9407_1,   P09,    25,  3,     11,    216,2,19940713,2327, 28.0533, 137.0395, 4735,    403.2,  15.6338,  34.6641,2,  34.6664,2,    194.3,2,   -999.0,9,  -999.00,9,  -999.00,9,  -999.00,9,  -999.00,9,    2.042,4,    1.336,3,    1.752,2,   1.7244,2,     3.84,2,   -999.0,9,   7.098,2,   -999.0,9,   -999,  -999.0,-999.000,  0.0031,   0.190,  -999.0,   0.018, 15.5708,   0.019
    49RY9407_1,   P09,    25,  3,     10,    214,2,19940713,2327, 28.0533, 137.0395, 4735,    503.6,  12.9682,  34.4639,2,-999.0000,5,    184.2,2,   -999.0,9,  -999.00,9,  -999.00,9,  -999.00,9,  -999.00,9,    2.090,2,    1.708,3,    2.073,2,   1.7458,2,     6.50,2,   -999.0,9,   7.271,2,   -999.0,9,   -999,  -999.0,-999.000,  0.0025,   0.220,  -999.0,   0.017, 12.8987,   0.023
    49RY9407_1,   P09,    25,  3,      9,    213,2,19940713,2327, 28.0533, 137.0395, 4735,    604.7,   9.7336,  34.2442,2,  34.2420,2,    174.1,2,   -999.0,9,  -999.00,9,  -999.00,9,  -999.00,9,  -999.00,9,    1.828,2,    1.066,3,    1.875,2,   1.7666,2,    11.34,2,   -999.0,9,   7.480,2,   -999.0,9,   -999,  -999.0,   9.716,  0.0023,   0.220,   608.0,   0.019,  9.6638,   0.021
    49RY9407_1,   P09,    25,  3,      8,    212,2,19940713,2327, 28.0533, 137.0395, 4735,    705.8,   7.7770,  34.1521,2,  34.1514,2,    152.2,2,   -999.0,9,  -999.00,9,  -999.00,9,  -999.00,9,  -999.00,9,    1.497,2,    0.818,4,    1.530,2,   1.7845,2,    13.65,2,   -999.0,9,   7.634,2,   -999.0,9,   -999,  -999.0,-999.000,  0.0024,   0.220,  -999.0,   0.019,  7.7053,   0.018
    49RY9407_1,   P09,    25,  3,      7,    210,2,19940713,2327, 28.0533, 137.0395, 4735,    806.0,   5.9669,  34.1187,2,  34.1177,2,    122.1,2,   -999.0,9,  -999.00,9,  -999.00,9,  -999.00,9,  -999.00,9,    1.090,2,    0.659,3, -999.000,5,   1.8038,2,    14.61,2,   -999.0,9,   7.679,2,   -999.0,9,   -999,  -999.0,-999.000,  0.0039,   0.220,  -999.0,   0.018,  5.8955,-999.000
    49RY9407_1,   P09,    25,  3,      6,    209,2,19940713,2327, 28.0533, 137.0395, 4735,    907.9,   4.9531,  34.1744,2,  34.1761,2,     91.7,2,   -999.0,9,  -999.00,9,  -999.00,9,  -999.00,9,  -999.00,9,    0.650,2,    0.292,3,    0.816,2,   1.8276,2,    15.32,2,   -999.0,9,   7.834,2,   -999.0,9,   -999,  -999.0,-999.000,  0.0036,   0.220,  -999.0,   0.019,  4.8789,   0.012
    49RY9407_1,   P09,    25,  3,      5,    229,2,19940713,2327, 28.0533, 137.0395, 4735,   1007.0,   4.3011,  34.2558,2,  34.2550,2,     71.3,2,   -999.0,9,  -999.00,9,  -999.00,9,  -999.00,9,  -999.00,9,    0.320,2,    0.157,3,    0.396,2,   1.8280,2,    15.84,2,   -999.0,9,   7.893,2,   -999.0,9,   -999,  -999.0,   4.295,  0.0027,   0.220,  1006.0,   0.019,  4.2229,   0.006
    49RY9407_1,   P09,    25,  3,      4,    206,2,19940713,2327, 28.0533, 137.0395, 4735,   1261.2,   3.2536,  34.4162,2,  34.4159,2,     59.7,2,   -999.0,9,  -999.00,9,  -999.00,9,  -999.00,9,  -999.00,9,    0.065,2,    0.078,3,    0.104,2,   1.8538,2,    16.52,2,   -999.0,9,   7.872,2,   -999.0,9,   -999,  -999.0,-999.000,  0.0027,   0.220,  -999.0,   0.019,  3.1631,   0.003
    49RY9407_1,   P09,    25,  3,      3,    205,2,19940713,2327, 28.0533, 137.0395, 4735,   1512.0,   2.6090,  34.5084,2,  34.5094,2,     71.9,2,   -999.0,9,  -999.00,9,  -999.00,9,  -999.00,9,  -999.00,9,    0.036,2,    1.065,4, -999.000,9,-999.0000,9,  -999.00,9,   -999.0,9,-999.000,9,   -999.0,9,   -999,  -999.0,-999.000,-999.0000,-999.000,  -999.0,-999.000,  2.5049,-999.000
    49RY9407_1,   P09,    25,  3,      2,    204,2,19940713,2327, 28.0533, 137.0395, 4735,   1514.0,   2.6068,  34.5082,2,  34.5092,2,     71.7,2,   -999.0,9,  -999.00,9,  -999.00,9,  -999.00,9,  -999.00,9, -999.000,9, -999.000,9,    0.047,2,   1.8604,2,    18.07,2,   -999.0,9,   7.946,2,   -999.0,9,   -999,  -999.0,   2.606,  0.0027,   0.220,  1509.0,   0.019,  2.5026,   0.003
    49RY9407_1,   P09,    26,  1,      0,      0,2,19940714,0332, 27.4970, 137.0080, 4360,      0.3,  29.8339,  35.1910,2,-999.0000,9,    161.4,4,    196.3,2,     1.36,2,     0.05,2,     0.00,2,     0.00,2, -999.000,9, -999.000,9, -999.000,9,-999.0000,9,  -999.00,9,   -999.0,1,-999.000,9,   1954.9,2,   -999,  -999.0,-999.000,-999.0000,-999.000,  -999.0,-999.000, 29.8338,-999.000
    49RY9407_1,   P09,    26,  1,      9,    213,2,19940714,0332, 27.4970, 137.0080, 4360,     10.1,  29.3849,  34.8687,2,  34.9274,2,    183.3,4,    197.4,2,     1.42,6,     0.00,6,     0.01,6,     0.00,6, -999.000,9, -999.000,9, -999.000,9,-999.0000,9,  -999.00,9,   -999.0,1,-999.000,9,   1950.6,2,   -999,  -999.0,  29.370,-999.0000,-999.000,    16.0,-999.000, 29.3824,-999.000
    49RY9407_1,   P09,    26,  1,      8,    212,2,19940714,0332, 27.4970, 137.0080, 4360,     25.0,  27.1399,  34.9192,2,  34.9205,2,    203.8,3,    211.1,2,     1.39,2,     0.00,2,     0.00,2,     0.00,2, -999.000,9, -999.000,9, -999.000,9,-999.0000,9,  -999.00,9,   -999.0,1,-999.000,9,   1956.3,2,   -999,  -999.0,-999.000,-999.0000,-999.000,  -999.0,-999.000, 27.1341,-999.000
    49RY9407_1,   P09,    26,  1,      7,    210,2,19940714,0332, 27.4970, 137.0080, 4360,     50.2,  23.1846,  35.0746,2,  35.0754,2,    230.6,2,    226.7,2,     1.55,2,     0.01,2,     0.00,2,     0.00,2, -999.000,9, -999.000,9, -999.000,9,-999.0000,9,  -999.00,9,   -999.0,1,-999.000,9,   1959.4,2,   -999,  -999.0,-999.000,-999.0000,-999.000,  -999.0,-999.000, 23.1743,-999.000
    49RY9407_1,   P09,    26,  1,      6,    209,2,19940714,0332, 27.4970, 137.0080, 4360,     74.8,  21.8392,  35.0971,2,  35.0614,2,    222.1,3,    228.1,2,     1.67,2,     0.06,2,     0.00,2,     0.00,2, -999.000,9, -999.000,9, -999.000,9,-999.0000,9,  -999.00,9,   -999.0,1,-999.000,9,   1975.1,2,   -999,  -999.0,-999.000,-999.0000,-999.000,  -999.0,-999.000, 21.8245,-999.000
    49RY9407_1,   P09,    26,  1,      5,    229,2,19940714,0332, 27.4970, 137.0080, 4360,    100.7,  20.6387,  35.0157,2,  35.0118,2,    220.8,2,    219.6,2,     1.82,2,     0.03,2,     0.00,2,     0.02,2, -999.000,9, -999.000,9, -999.000,9,-999.0000,9,  -999.00,9,   -999.0,1,-999.000,9,   1985.8,2,   -999,  -999.0,  20.650,-999.0000,-999.000,    97.0,-999.000, 20.6197,-999.000
    49RY9407_1,   P09,    26,  1,      4,    206,2,19940714,0332, 27.4970, 137.0080, 4360,    125.8,  19.5471,  34.9728,2,  34.9728,2,    215.2,2,    215.9,2,     2.02,2,     0.16,2,     0.07,2,     0.05,2, -999.000,9, -999.000,9, -999.000,9,-999.0000,9,  -999.00,9,   -999.0,1,-999.000,9,   1999.2,2,   -999,  -999.0,-999.000,-999.0000,-999.000,  -999.0,-999.000, 19.5243,-999.000
    49RY9407_1,   P09,    26,  1,      3,    205,2,19940714,0332, 27.4970, 137.0080, 4360,    150.8,  18.9649,  34.9155,2,  34.9371,2,    211.9,2,    213.5,2,     2.30,2,     1.00,2,     0.12,2,     0.11,2, -999.000,9, -999.000,9, -999.000,9,-999.0000,9,  -999.00,9,    121.0,3,-999.000,9,   2002.3,2,   -999,     8.0,-999.000,-999.0000,-999.000,  -999.0,-999.000, 18.9381,-999.000
    49RY9407_1,   P09,    26,  1,      2,    204,2,19940714,0332, 27.4970, 137.0080, 4360,    203.1,  18.0553,  34.8665,2,  34.8621,2,    211.2,2,    209.3,2,     3.12,6,     3.08,6,     0.01,6,     0.22,6, -999.000,9, -999.000,9, -999.000,9,-999.0000,9,  -999.00,9,    124.0,3,-999.000,9,   2013.7,2,   -999,     8.0,  18.078,-999.0000,-999.000,   202.0,-999.000, 18.0204,-999.000