BOTTLE,20020306WHPSIOdm
EXPOCODE,SECT_ID,STNNBR,CASTNO,SAMPNO,BTLNBR,BTLNBR_FLAG_W,DATE,TIME,LATITUDE,LONGITUDE,DEPTH,CTDPRS,CTDTMP,CTDSAL,CTDSAL_FLAG_W,SALNTY,SALNTY_FLAG_W,CTDOXY,CTDOXY_FLAG_W,OXYGEN,OXYGEN_FLAG_W,SILCAT,SILCAT_FLAG_W,NITRAT,NITRAT_FLAG_W,NITRIT,NITRIT_FLAG_W,PHSPHT,PHSPHT_FLAG_W,CFC-11,CFC-11_FLAG_W,CFC-12,CFC-12_FLAG_W,TRITUM,TRITUM_FLAG_W,HELIUM,HELIUM_FLAG_W,DELHE3,DELHE3_FLAG_W,DELC14,DELC14_FLAG_W,NEON,NEON_FLAG_W,TCARBN,TCARBN_FLAG_W,CTDRAW,C14ERR,REVTMP,HELIER,DELHER,REVPRS,NEONER,THETA,TRITER
,,,,,,,,,,,,DBAR,ITS-90,PSS-78,,PSS-78,,UMOL/KG,,UMOL/KG,,UMOL/KG,,UMOL/KG,,UMOL/KG,,UMOL/KG,,PMOL/KG,,PMOL/KG,,TU,,NMOL/KG,,PERCNT,,/MILLE,,NMOL/KG,,UMOL/KG,,,/MILLE,ITS-90,NMOL/KG,PERCNT,DBAR,NMOL/KG,DEG C,TU
    49RY9407_1,   P09,    34,  1,      0,      0,2,19940716,1726, 23.5140, 137.0028, 4160,      1.4,  29.9766,  34.1971,2,-999.0000,9,    150.7,4,    194.0,2,     1.26,6,     0.03,6,     0.00,6,     0.00,6, -999.000,9, -999.000,9, -999.000,9,-999.0000,9,  -999.00,9,   -999.0,9,-999.000,9,   -999.0,9,   -999,  -999.0,-999.000,-999.0000,-999.000,  -999.0,-999.000, 29.9763,-999.000
    49RY9407_1,   P09,    34,  1,     19,    224,2,19940716,1726, 23.5140, 137.0028, 4160,      9.7,  29.9905,  34.5484,2,  34.5523,2,    171.7,4,    193.7,2,     1.06,2,     0.01,2,     0.00,2,     0.00,2, -999.000,9, -999.000,9, -999.000,9,-999.0000,9,  -999.00,9,   -999.0,9,-999.000,9,   -999.0,9,   -999,  -999.0,-999.000,-999.0000,-999.000,  -999.0,-999.000, 29.9881,-999.000
    49RY9407_1,   P09,    34,  1,     18,    223,2,19940716,1726, 23.5140, 137.0028, 4160,     25.0,  29.8250,  34.5229,2,  34.5594,2,    184.6,4,    195.4,6,     1.11,2,     0.01,2,     0.00,2,     0.00,2, -999.000,9, -999.000,9, -999.000,9,-999.0000,9,  -999.00,9,   -999.0,9,-999.000,9,   -999.0,9,   -999,  -999.0,-999.000,-999.0000,-999.000,  -999.0,-999.000, 29.8188,-999.000
    49RY9407_1,   P09,    34,  1,     17,    203,2,19940716,1726, 23.5140, 137.0028, 4160,     49.6,  24.6523,  34.9957,2,  34.9797,2,    213.7,2,    212.6,2,     1.16,2,     0.01,2,     0.00,2,     0.00,2, -999.000,9, -999.000,9, -999.000,9,-999.0000,9,  -999.00,9,   -999.0,9,-999.000,9,   -999.0,9,   -999,  -999.0,-999.000,-999.0000,-999.000,    53.0,-999.000, 24.6417,-999.000
    49RY9407_1,   P09,    34,  1,     16,    210,2,19940716,1726, 23.5140, 137.0028, 4160,     73.6,  22.9346,  35.0577,2,  35.0549,2,    207.6,3,    202.4,2,     1.44,2,     0.00,2,     0.00,2,     0.02,2, -999.000,9, -999.000,9, -999.000,9,-999.0000,9,  -999.00,9,   -999.0,9,-999.000,9,   -999.0,9,   -999,  -999.0,-999.000,-999.0000,-999.000,  -999.0,-999.000, 22.9196,-999.000
    49RY9407_1,   P09,    34,  1,     15,    221,2,19940716,1726, 23.5140, 137.0028, 4160,    100.1,  21.6427,  35.0594,2,  35.0549,2,    194.9,3,    183.1,2,     2.08,2,     1.73,2,     0.02,2,     0.19,3, -999.000,9, -999.000,9, -999.000,9,-999.0000,9,  -999.00,9,   -999.0,9,-999.000,9,   -999.0,9,   -999,  -999.0,  21.600,-999.0000,-999.000,   102.0,-999.000, 21.6231,-999.000
    49RY9407_1,   P09,    34,  1,     14,    219,2,19940716,1726, 23.5140, 137.0028, 4160,    126.2,  20.3788,  34.9620,2,  34.9582,2,    201.0,3,    195.9,2,     2.13,2,     1.96,2,     0.02,2,     0.15,2, -999.000,9, -999.000,9, -999.000,9,-999.0000,9,  -999.00,9,   -999.0,9,-999.000,9,   -999.0,9,   -999,  -999.0,-999.000,-999.0000,-999.000,  -999.0,-999.000, 20.3552,-999.000
    49RY9407_1,   P09,    34,  1,     13,    229,2,19940716,1726, 23.5140, 137.0028, 4160,    151.9,  19.3648,  34.9192,2,  34.9256,2,    198.2,2,    196.0,2,     2.49,2,     2.76,2,     0.01,2,     0.20,2, -999.000,9, -999.000,9, -999.000,9,-999.0000,9,  -999.00,9,   -999.0,9,-999.000,9,   -999.0,9,   -999,  -999.0,  19.351,-999.0000,-999.000,   150.0,-999.000, 19.3374,-999.000
    49RY9407_1,   P09,    34,  1,     12,    217,2,19940716,1726, 23.5140, 137.0028, 4160,    202.3,  18.2780,  34.8567,2,  34.8584,2,    198.8,2,    199.8,2,     3.16,2,     3.63,2,     0.01,2,     0.25,2, -999.000,9, -999.000,9, -999.000,9,-999.0000,9,  -999.00,9,   -999.0,9,-999.000,9,   -999.0,9,   -999,  -999.0,-999.000,-999.0000,-999.000,  -999.0,-999.000, 18.2429,-999.000
    49RY9407_1,   P09,    34,  1,     11,    204,2,19940716,1726, 23.5140, 137.0028, 4160,    301.9,  16.3910,  34.7262,2,  34.7271,2,    189.2,3,    194.6,2,     6.34,2,     7.03,2,     0.00,2,     0.47,2, -999.000,9, -999.000,9, -999.000,9,-999.0000,9,  -999.00,9,   -999.0,9,-999.000,9,   -999.0,9,   -999,  -999.0,  16.380,-999.0000,-999.000,   300.0,-999.000, 16.3424,-999.000
    49RY9407_1,   P09,    34,  1,     10,    214,2,19940716,1726, 23.5140, 137.0028, 4160,    402.9,  13.3058,  34.4836,2,  34.4842,2,    178.3,2,    182.0,2,    14.90,2,    13.04,2,     0.00,2,     0.89,2, -999.000,9, -999.000,9, -999.000,9,-999.0000,9,  -999.00,9,   -999.0,9,-999.000,9,   -999.0,9,   -999,  -999.0,-999.000,-999.0000,-999.000,  -999.0,-999.000, 13.2494,-999.000
    49RY9407_1,   P09,    34,  1,      9,    213,2,19940716,1726, 23.5140, 137.0028, 4160,    504.0,   9.4858,  34.2245,2,  34.2276,2,    157.2,3,    162.6,2,    33.12,2,    21.80,2,     0.00,2,     1.53,2, -999.000,9, -999.000,9, -999.000,9,-999.0000,9,  -999.00,9,   -999.0,9,-999.000,9,   -999.0,9,   -999,  -999.0,   9.542,-999.0000,-999.000,   503.0,-999.000,  9.4288,-999.000
    49RY9407_1,   P09,    34,  2,      5,    218,2,19940716,1936, 23.5490, 137.0152, 4400,    604.5,   7.8928,  34.1501,2,  34.1519,2,    137.0,3,    142.5,6,    46.50,2,    26.43,2,     0.00,2,     1.87,2, -999.000,9, -999.000,9, -999.000,9,-999.0000,9,  -999.00,9,   -999.0,9,-999.000,9,   -999.0,9,   -999,  -999.0,-999.000,-999.0000,-999.000,  -999.0,-999.000,  7.8313,-999.000
    49RY9407_1,   P09,    34,  2,      4,    206,2,19940716,1936, 23.5490, 137.0152, 4400,    704.9,   6.0783,  34.1530,2,  34.1506,2,    103.6,2,    103.3,6,    69.96,2,    33.25,2,     0.00,2,     2.38,2, -999.000,9, -999.000,9, -999.000,9,-999.0000,9,  -999.00,9,   -999.0,9,-999.000,9,   -999.0,9,   -999,  -999.0,-999.000,-999.0000,-999.000,  -999.0,-999.000,  6.0156,-999.000
    49RY9407_1,   P09,    34,  2,      3,    205,2,19940716,1936, 23.5490, 137.0152, 4400,    806.5,   5.0058,  34.2161,2,  34.2164,2,     72.3,2,     75.6,2,    90.32,2,    37.56,2,     0.00,2,     2.70,2, -999.000,9, -999.000,9, -999.000,9,-999.0000,9,  -999.00,9,   -999.0,9,-999.000,9,   -999.0,9,   -999,  -999.0,-999.000,-999.0000,-999.000,  -999.0,-999.000,  4.9401,-999.000
    49RY9407_1,   P09,    34,  2,      2,    216,2,19940716,1936, 23.5490, 137.0152, 4400,    907.6,   4.3517,  34.2899,2,  34.2898,2,     65.1,2,     61.4,2,   104.39,6,    39.47,6,     0.00,6,     2.83,6, -999.000,9, -999.000,9, -999.000,9,-999.0000,9,  -999.00,9,   -999.0,9,-999.000,9,   -999.0,9,   -999,  -999.0,-999.000,-999.0000,-999.000,  -999.0,-999.000,  4.2815,-999.000
    49RY9407_1,   P09,    34,  2,      1,    201,2,19940716,1936, 23.5490, 137.0152, 4400,   1008.6,   3.8288,  34.3554,2,  34.3567,2,     61.7,3,     56.0,2,   116.55,2,    40.75,2,     0.00,2,     2.92,2, -999.000,9, -999.000,9, -999.000,9,-999.0000,9,  -999.00,9,   -999.0,9,-999.000,9,   -999.0,9,   -999,  -999.0,-999.000,-999.0000,-999.000,  -999.0,-999.000,  3.7540,-999.000
    49RY9407_1,   P09,    34,  2,     24,    230,2,19940716,1936, 23.5490, 137.0152, 4400,   1261.0,   2.9352,  34.4752,2,  34.4765,2,     68.8,2,     68.8,2,   135.15,2,    41.03,2,     0.00,2,     2.93,2, -999.000,9, -999.000,9, -999.000,9,-999.0000,9,  -999.00,9,   -999.0,9,-999.000,9,   -999.0,9,   -999,  -999.0,-999.000,-999.0000,-999.000,  -999.0,-999.000,  2.8477,-999.000
    49RY9407_1,   P09,    34,  2,     23,    228,2,19940716,1936, 23.5490, 137.0152, 4400,   1514.6,   2.4590,  34.5444,2,  34.5444,2,     83.3,2,     85.6,2,   141.24,2,    40.15,2,     0.00,2,     2.85,2, -999.000,9, -999.000,9, -999.000,9,-999.0000,9,  -999.00,9,   -999.0,9,-999.000,9,   -999.0,9,   -999,  -999.0,-999.000,-999.0000,-999.000,  -999.0,-999.000,  2.3563,-999.000
    49RY9407_1,   P09,    34,  2,     21,    226,2,19940716,1936, 23.5490, 137.0152, 4400,   1768.3,   2.2085,  34.5883,2,  34.5887,2,    101.3,2,    104.6,2,   141.79,2,    39.04,2,     0.00,2,     2.76,2, -999.000,9, -999.000,9, -999.000,9,-999.0000,9,  -999.00,9,   -999.0,9,-999.000,9,   -999.0,9,   -999,  -999.0,-999.000,-999.0000,-999.000,  -999.0,-999.000,  2.0884,-999.000
    49RY9407_1,   P09,    34,  2,     22,    227,2,19940716,1936, 23.5490, 137.0152, 4400,   1768.3,   2.2085,  34.5883,2,  34.5893,2,    101.3,2,    103.5,2,   141.96,2,    39.08,2,     0.00,2,     2.76,2, -999.000,9, -999.000,9, -999.000,9,-999.0000,9,  -999.00,9,   -999.0,9,-999.000,9,   -999.0,9,   -999,  -999.0,-999.000,-999.0000,-999.000,  -999.0,-999.000,  2.0884,-999.000
    49RY9407_1,   P09,    34,  2,     20,    225,2,19940716,1936, 23.5490, 137.0152, 4400,   2020.7,   1.9849,  34.6216,2,  34.6214,2,    115.4,2,    116.3,2,   142.59,6,    38.40,6,     0.00,6,     2.69,6, -999.000,9, -999.000,9, -999.000,9,-999.0000,9,  -999.00,9,   -999.0,9,-999.000,9,   -999.0,9,   -999,  -999.0,-999.000,-999.0000,-999.000,  -999.0,-999.000,  1.8470,-999.000
    49RY9407_1,   P09,    34,  2,     19,    224,2,19940716,1936, 23.5490, 137.0152, 4400,   2276.1,   1.8686,  34.6351,2,  34.6372,2,    124.0,2,    124.5,2,   142.88,2,    37.97,2,     0.00,2,     2.67,2, -999.000,9, -999.000,9, -999.000,9,-999.0000,9,  -999.00,9,   -999.0,9,-999.000,9,   -999.0,9,   -999,  -999.0,-999.000,-999.0000,-999.000,  -999.0,-999.000,  1.7107,-999.000
    49RY9407_1,   P09,    34,  2,     18,    223,2,19940716,1936, 23.5490, 137.0152, 4400,   2528.7,   1.7593,  34.6495,2,  34.6492,2,    129.9,2,    130.7,2,   143.44,2,    37.58,2,     0.00,2,     2.63,2, -999.000,9, -999.000,9, -999.000,9,-999.0000,9,  -999.00,9,   -999.0,9,-999.000,9,   -999.0,9,   -999,  -999.0,-999.000,-999.0000,-999.000,  -999.0,-999.000,  1.5809,-999.000
    49RY9407_1,   P09,    34,  2,     17,    203,2,19940716,1936, 23.5490, 137.0152, 4400,   2784.8,   1.6849,  34.6572,2,  34.6585,2,    134.9,2,    137.4,2,   143.23,2,    37.30,2,     0.00,2,     2.60,2, -999.000,9, -999.000,9, -999.000,9,-999.0000,9,  -999.00,9,   -999.0,9,-999.000,9,   -999.0,9,   -999,  -999.0,-999.000,-999.0000,-999.000,  -999.0,-999.000,  1.4845,-999.000
    49RY9407_1,   P09,    34,  2,     16,    210,2,19940716,1936, 23.5490, 137.0152, 4400,   3039.3,   1.6262,  34.6648,2,  34.6634,2,    142.8,2,    141.7,2,   142.70,2,    36.92,2,     0.00,2,     2.57,2, -999.000,9, -999.000,9, -999.000,9,-999.0000,9,  -999.00,9,   -999.0,9,-999.000,9,   -999.0,9,   -999,  -999.0,-999.000,-999.0000,-999.000,  -999.0,-999.000,  1.4029,-999.000
    49RY9407_1,   P09,    34,  2,     15,    221,2,19940716,1936, 23.5490, 137.0152, 4400,   3294.3,   1.5973,  34.6691,2,  34.6681,2,    143.8,2,    147.0,2,   142.29,2,    36.71,2,     0.00,2,     2.56,2, -999.000,9, -999.000,9, -999.000,9,-999.0000,9,  -999.00,9,   -999.0,9,-999.000,9,   -999.0,9,   -999,  -999.0,   1.594,-999.0000,-999.000,  3295.0,-999.000,  1.3496,-999.000
    49RY9407_1,   P09,    34,  2,     14,    219,2,19940716,1936, 23.5490, 137.0152, 4400,   3551.7,   1.5479,  34.6749,2,  34.6764,2,    151.3,2,    151.3,2,   141.52,2,    36.37,2,     0.00,2,     2.53,2, -999.000,9, -999.000,9, -999.000,9,-999.0000,9,  -999.00,9,   -999.0,9,-999.000,9,   -999.0,9,   -999,  -999.0,-999.000,-999.0000,-999.000,  -999.0,-999.000,  1.2753,-999.000
    49RY9407_1,   P09,    34,  2,     13,    229,2,19940716,1936, 23.5490, 137.0152, 4400,   3806.7,   1.5263,  34.6804,2,  34.6819,2,    153.4,2,    154.7,2,   141.03,2,    36.18,2,     0.00,2,     2.51,2, -999.000,9, -999.000,9, -999.000,9,-999.0000,9,  -999.00,9,   -999.0,9,-999.000,9,   -999.0,9,   -999,  -999.0,   1.527,-999.0000,-999.000,  3807.0,-999.000,  1.2275,-999.000
    49RY9407_1,   P09,    34,  2,     12,    217,2,19940716,1936, 23.5490, 137.0152, 4400,   4061.8,   1.5193,  34.6835,2,  34.6847,2,    157.7,2,    158.8,2,   140.40,6,    36.03,6,     0.00,6,     2.49,6, -999.000,9, -999.000,9, -999.000,9,-999.0000,9,  -999.00,9,   -999.0,9,-999.000,9,   -999.0,9,   -999,  -999.0,-999.000,-999.0000,-999.000,  -999.0,-999.000,  1.1931,-999.000
    49RY9407_1,   P09,    34,  2,     11,    204,2,19940716,1936, 23.5490, 137.0152, 4400,   4320.8,   1.5420,  34.6840,2,  34.6839,6,    159.2,2,    160.5,2,   140.48,2,    36.01,2,     0.00,2,     2.48,2, -999.000,9, -999.000,9, -999.000,9,-999.0000,9,  -999.00,9,   -999.0,9,-999.000,9,   -999.0,9,   -999,  -999.0,   1.540,-999.0000,-999.000,  4317.0,-999.000,  1.1862,-999.000
    49RY9407_1,   P09,    34,  2,     10,    214,2,19940716,1936, 23.5490, 137.0152, 4400,   4321.3,   1.5419,  34.6841,2,  34.6847,2,    159.2,2,    157.1,2,   140.34,6,    35.97,6,     0.00,6,     2.48,6, -999.000,9, -999.000,9, -999.000,9,-999.0000,9,  -999.00,9,   -999.0,9,-999.000,9,   -999.0,9,   -999,  -999.0,-999.000,-999.0000,-999.000,  -999.0,-999.000,  1.1861,-999.000
    49RY9407_1,   P09,    34,  2,      9,    213,4,19940716,1936, 23.5490, 137.0152, 4400,   4499.2,   1.5596,  34.6843,2,  34.6847,2,    158.4,2,    158.7,2,   140.20,2,    35.99,2,     0.00,2,     2.49,2, -999.000,9, -999.000,9, -999.000,9,-999.0000,9,  -999.00,9,   -999.0,9,-999.000,9,   -999.0,9,   -999,  -999.0,   1.557,-999.0000,-999.000,  4493.0,-999.000,  1.1829,-999.000
    49RY9407_1,   P09,    35,  1,      0,      0,2,19940717,0056, 23.0097, 137.3268, 4840,      0.0,  30.0351,  34.3022,2,-999.0000,9,    186.2,4,    194.3,2,     1.04,2,     0.06,2,     0.01,2,     0.00,2, -999.000,9, -999.000,9, -999.000,9,-999.0000,9,  -999.00,9,   -999.0,9,-999.000,9,   -999.0,9,   -999,  -999.0,-999.000,-999.0000,-999.000,  -999.0,-999.000, 30.0352,-999.000
    49RY9407_1,   P09,    35,  1,     19,    224,2,19940717,0056, 23.0097, 137.3268, 4840,      9.6,  30.1613,  34.5227,2,  34.5200,2,    178.3,4,    194.7,2,     1.10,2,     0.03,2,     0.00,2,     0.00,2, -999.000,9, -999.000,9, -999.000,9,-999.0000,9,  -999.00,9,   -999.0,9,-999.000,9,   -999.0,9,   -999,  -999.0,-999.000,-999.0000,-999.000,  -999.0,-999.000, 30.1590,-999.000
    49RY9407_1,   P09,    35,  1,     18,    223,2,19940717,0056, 23.0097, 137.3268, 4840,     24.8,  29.8905,  34.6034,2,  34.6035,2,    184.5,4,    195.3,2,     1.08,2,     0.03,2,     0.01,2,     0.00,2, -999.000,9, -999.000,9, -999.000,9,-999.0000,9,  -999.00,9,   -999.0,9,-999.000,9,   -999.0,9,   -999,  -999.0,-999.000,-999.0000,-999.000,  -999.0,-999.000, 29.8844,-999.000
    49RY9407_1,   P09,    35,  1,     17,    203,2,19940717,0056, 23.0097, 137.3268, 4840,     50.5,  25.4273,  34.6919,2,  34.6532,3,    221.2,2,    219.2,6,     1.33,2,     0.03,2,     0.00,2,     0.00,2, -999.000,9, -999.000,9, -999.000,9,-999.0000,9,  -999.00,9,   -999.0,9,-999.000,9,   -999.0,9,   -999,  -999.0,-999.000,-999.0000,-999.000,  -999.0,-999.000, 25.4162,-999.000
    49RY9407_1,   P09,    35,  1,     16,    210,2,19940717,0056, 23.0097, 137.3268, 4840,     74.7,  23.2577,  34.9497,2,  34.9584,2,    208.3,2,    206.7,2,     1.40,2,     0.04,2,     0.00,2,     0.03,2, -999.000,9, -999.000,9, -999.000,9,-999.0000,9,  -999.00,9,   -999.0,9,-999.000,9,   -999.0,9,   -999,  -999.0,-999.000,-999.0000,-999.000,  -999.0,-999.000, 23.2423,-999.000
    49RY9407_1,   P09,    35,  1,     15,    221,2,19940717,0056, 23.0097, 137.3268, 4840,     99.8,  22.1990,  35.0454,2,  35.0474,2,    201.7,2,    197.3,2,     1.64,2,     0.49,2,     0.07,2,     0.07,2, -999.000,9, -999.000,9, -999.000,9,-999.0000,9,  -999.00,9,   -999.0,9,-999.000,9,   -999.0,9,   -999,  -999.0,  22.200,-999.0000,-999.000,   103.0,-999.000, 22.1792,-999.000
    49RY9407_1,   P09,    35,  1,     14,    219,2,19940717,0056, 23.0097, 137.3268, 4840,    124.8,  21.1014,  35.0235,2,  35.0290,2,    200.4,3,    190.6,2,     2.10,2,     1.68,2,     0.03,2,     0.15,2, -999.000,9, -999.000,9, -999.000,9,-999.0000,9,  -999.00,9,   -999.0,9,-999.000,9,   -999.0,9,   -999,  -999.0,-999.000,-999.0000,-999.000,  -999.0,-999.000, 21.0774,-999.000
    49RY9407_1,   P09,    35,  1,     13,    229,2,19940717,0056, 23.0097, 137.3268, 4840,    149.7,  20.3650,  34.9960,2,  35.0000,2,    197.8,3,    186.5,2,     2.54,6,     2.60,6,     0.02,6,     0.22,6, -999.000,9, -999.000,9, -999.000,9,-999.0000,9,  -999.00,9,   -999.0,9,-999.000,9,   -999.0,9,   -999,  -999.0,  20.360,-999.0000,-999.000,   147.0,-999.000, 20.3370,-999.000
    49RY9407_1,   P09,    35,  1,     12,    217,2,19940717,0056, 23.0097, 137.3268, 4840,    201.2,  18.0956,  34.8548,2,  34.8605,2,    198.4,2,    199.4,2,     3.45,2,     3.95,2,     0.01,2,     0.29,2, -999.000,9, -999.000,9, -999.000,9,-999.0000,9,  -999.00,9,   -999.0,9,-999.000,9,   -999.0,9,   -999,  -999.0,-999.000,-999.0000,-999.000,  -999.0,-999.000, 18.0610,-999.000
    49RY9407_1,   P09,    35,  1,     11,    204,2,19940717,0056, 23.0097, 137.3268, 4840,    300.4,  15.9214,  34.6896,2,  34.6910,2,    191.1,2,    193.5,2,     7.27,2,     7.89,2,     0.00,2,     0.53,2, -999.000,9, -999.000,9, -999.000,9,-999.0000,9,  -999.00,9,   -999.0,9,-999.000,9,   -999.0,9,   -999,  -999.0,  15.919,-999.0000,-999.000,   301.0,-999.000, 15.8740,-999.000
    49RY9407_1,   P09,    35,  1,     10,    214,2,19940717,0056, 23.0097, 137.3268, 4840,    402.5,  13.5964,  34.5031,2,  34.5052,2,    178.5,2,    183.1,6,    14.09,2,    12.68,2,     0.01,2,     0.87,2, -999.000,9, -999.000,9, -999.000,9,-999.0000,9,  -999.00,9,   -999.0,9,-999.000,9,   -999.0,9,   -999,  -999.0,-999.000,-999.0000,-999.000,  -999.0,-999.000, 13.5392,-999.000
    49RY9407_1,   P09,    35,  1,      9,    213,2,19940717,0056, 23.0097, 137.3268, 4840,    503.0,  10.3815,  34.2771,2,  34.2835,2,    170.3,2,    169.4,2,    27.74,2,    19.64,2,     0.00,2,     1.37,2, -999.000,9, -999.000,9, -999.000,9,-999.0000,9,  -999.00,9,   -999.0,9,-999.000,9,   -999.0,9,   -999,  -999.0,  10.460,-999.0000,-999.000,   503.0,-999.000, 10.3213,-999.000