BOTTLE,20020306WHPSIOdm
EXPOCODE,SECT_ID,STNNBR,CASTNO,SAMPNO,BTLNBR,BTLNBR_FLAG_W,DATE,TIME,LATITUDE,LONGITUDE,DEPTH,CTDPRS,CTDTMP,CTDSAL,CTDSAL_FLAG_W,SALNTY,SALNTY_FLAG_W,CTDOXY,CTDOXY_FLAG_W,OXYGEN,OXYGEN_FLAG_W,SILCAT,SILCAT_FLAG_W,NITRAT,NITRAT_FLAG_W,NITRIT,NITRIT_FLAG_W,PHSPHT,PHSPHT_FLAG_W,CFC-11,CFC-11_FLAG_W,CFC-12,CFC-12_FLAG_W,TRITUM,TRITUM_FLAG_W,HELIUM,HELIUM_FLAG_W,DELHE3,DELHE3_FLAG_W,DELC14,DELC14_FLAG_W,NEON,NEON_FLAG_W,TCARBN,TCARBN_FLAG_W,CTDRAW,C14ERR,REVTMP,HELIER,DELHER,REVPRS,NEONER,THETA,TRITER
,,,,,,,,,,,,DBAR,ITS-90,PSS-78,,PSS-78,,UMOL/KG,,UMOL/KG,,UMOL/KG,,UMOL/KG,,UMOL/KG,,UMOL/KG,,PMOL/KG,,PMOL/KG,,TU,,NMOL/KG,,PERCNT,,/MILLE,,NMOL/KG,,UMOL/KG,,,/MILLE,ITS-90,NMOL/KG,PERCNT,DBAR,NMOL/KG,DEG C,TU
    49RY9407_2,   P09,    80,  1,      0,      0,2,19940811,1019,  3.3543, 140.6622, 3775,      0.0,  29.1629,  33.9499,2,-999.0000,9,   -999.0,9,    198.2,6,     1.02,2,     0.02,2,     0.00,2,     0.04,2, -999.000,9, -999.000,9, -999.000,9,-999.0000,9,  -999.00,9,   -999.0,9,-999.000,9,   -999.0,9,   -999,  -999.0,-999.000,-999.0000,-999.000,  -999.0,-999.000, 29.1629,-999.000
    49RY9407_2,   P09,    80,  1,     20,    203,2,19940811,1019,  3.3543, 140.6622, 3775,     11.1,  29.1704,  34.0829,2,  34.0726,2,   -999.0,9,    198.9,2,     0.92,2,     0.02,2,     0.00,2,     0.03,2, -999.000,9, -999.000,9, -999.000,9,-999.0000,9,  -999.00,9,   -999.0,9,-999.000,9,   -999.0,9,   -999,  -999.0,-999.000,-999.0000,-999.000,    17.0,-999.000, 29.1678,-999.000
    49RY9407_2,   P09,    80,  1,     19,    215,2,19940811,1019,  3.3543, 140.6622, 3775,     26.3,  28.9844,  34.1493,2,  34.1462,2,   -999.0,9,    199.3,6,     0.88,2,     0.02,2,     0.00,2,     0.04,2, -999.000,9, -999.000,9, -999.000,9,-999.0000,9,  -999.00,9,   -999.0,9,-999.000,9,   -999.0,9,   -999,  -999.0,-999.000,-999.0000,-999.000,  -999.0,-999.000, 28.9781,-999.000
    49RY9407_2,   P09,    80,  1,     18,    221,2,19940811,1019,  3.3543, 140.6622, 3775,     51.7,  27.6656,  34.2151,2,  34.2128,6,   -999.0,9,    201.1,2,     0.99,2,     0.01,2,     0.00,2,     0.03,2, -999.000,9, -999.000,9, -999.000,9,-999.0000,9,  -999.00,9,   -999.0,9,-999.000,9,   -999.0,9,   -999,  -999.0,-999.000,-999.0000,-999.000,    55.0,-999.000, 27.6535,-999.000
    49RY9407_2,   P09,    80,  1,     17,    219,2,19940811,1019,  3.3543, 140.6622, 3775,     76.7,  26.6832,  34.8930,2,  34.8859,2,   -999.0,9,    164.9,2,     2.22,2,     3.87,2,     0.27,2,     0.39,2, -999.000,9, -999.000,9, -999.000,9,-999.0000,9,  -999.00,9,   -999.0,9,-999.000,9,   -999.0,9,   -999,  -999.0,-999.000,-999.0000,-999.000,  -999.0,-999.000, 26.6658,-999.000
    49RY9407_2,   P09,    80,  1,     16,    229,2,19940811,1019,  3.3543, 140.6622, 3775,    102.4,  25.0971,  35.0923,2,  35.0895,2,   -999.0,9,    146.1,2,     3.28,2,     6.64,2,     0.13,2,     0.53,2, -999.000,9, -999.000,9, -999.000,9,-999.0000,9,  -999.00,9,   -999.0,9,-999.000,9,   -999.0,9,   -999,  -999.0,  25.060,-999.0000,-999.000,    99.0,-999.000, 25.0748,-999.000
    49RY9407_2,   P09,    80,  1,     15,    217,2,19940811,1019,  3.3543, 140.6622, 3775,    126.9,  23.7375,  35.2049,2,  35.2020,6,   -999.0,9,    140.8,2,     3.71,2,     7.82,2,     0.05,2,     0.61,2, -999.000,9, -999.000,9, -999.000,9,-999.0000,9,  -999.00,9,   -999.0,9,-999.000,9,   -999.0,9,   -999,  -999.0,-999.000,-999.0000,-999.000,  -999.0,-999.000, 23.7110,-999.000
    49RY9407_2,   P09,    80,  1,     14,    204,2,19940811,1019,  3.3543, 140.6622, 3775,    152.4,  20.4602,  34.8395,2,  34.8412,2,   -999.0,9,    158.5,2,     7.19,6,     7.07,6,     0.03,6,     0.56,6, -999.000,9, -999.000,9, -999.000,9,-999.0000,9,  -999.00,9,   -999.0,9,-999.000,9,   -999.0,9,   -999,  -999.0,  20.420,-999.0000,-999.000,   153.0,-999.000, 20.4316,-999.000
    49RY9407_2,   P09,    80,  1,     12,    213,2,19940811,1019,  3.3543, 140.6622, 3775,    200.9,  15.7448,  34.7396,2,  34.7428,2,   -999.0,9,    153.6,2,    12.34,2,    12.73,2,     0.01,2,     0.90,2, -999.000,9, -999.000,9, -999.000,9,-999.0000,9,  -999.00,9,   -999.0,9,-999.000,9,   -999.0,9,   -999,  -999.0,-999.000,-999.0000,-999.000,   202.0,-999.000, 15.7134,-999.000
    49RY9407_2,   P09,    80,  1,     13,    214,4,19940811,1019,  3.3543, 140.6622, 3775,    200.9,  15.7448,  34.7396,2,  34.7439,2,   -999.0,9,    153.9,2,    12.38,2,    12.81,2,     0.01,2,     0.91,2, -999.000,9, -999.000,9, -999.000,9,-999.0000,9,  -999.00,9,   -999.0,9,-999.000,9,   -999.0,9,   -999,  -999.0,-999.000,-999.0000,-999.000,   204.0,-999.000, 15.7134,-999.000
    49RY9407_2,   P09,    80,  2,      6,    209,4,19940811,1152,  3.3697, 140.7097, 3680,    301.5,   8.9673,  34.5786,2,  34.5781,2,   -999.0,9,     75.4,2,    38.99,2,    32.42,2,     0.00,2,     2.24,2, -999.000,9, -999.000,9, -999.000,9,-999.0000,9,  -999.00,9,   -999.0,9,-999.000,9,   -999.0,9,   -999,  -999.0,-999.000,-999.0000,-999.000,  -999.0,-999.000,  8.9346,-999.000
    49RY9407_2,   P09,    80,  2,      7,    220,2,19940811,1152,  3.3697, 140.7097, 3680,    301.5,   8.9673,  34.5786,2,  34.5779,2,   -999.0,9,     74.7,6,    39.02,6,    32.58,6,     0.00,6,     2.24,6, -999.000,9, -999.000,9, -999.000,9,-999.0000,9,  -999.00,9,   -999.0,9,-999.000,9,   -999.0,9,   -999,  -999.0,-999.000,-999.0000,-999.000,  -999.0,-999.000,  8.9346,-999.000
    49RY9407_2,   P09,    80,  2,      8,    212,2,19940811,1152,  3.3697, 140.7097, 3680,    302.2,   9.0136,  34.5742,2,  34.5783,2,   -999.0,9,     77.3,6,    38.87,6,    32.27,6,     0.00,6,     2.23,6, -999.000,9, -999.000,9, -999.000,9,-999.0000,9,  -999.00,9,   -999.0,9,-999.000,9,   -999.0,9,   -999,  -999.0,-999.000,-999.0000,-999.000,  -999.0,-999.000,  8.9807,-999.000
    49RY9407_2,   P09,    80,  2,      5,    218,2,19940811,1152,  3.3697, 140.7097, 3680,    504.0,   6.8819,  34.5441,2,  34.5431,2,   -999.0,9,    110.7,2,    45.92,2,    33.56,2,     0.00,2,     2.31,2, -999.000,9, -999.000,9, -999.000,9,-999.0000,9,  -999.00,9,   -999.0,9,-999.000,9,   -999.0,9,   -999,  -999.0,-999.000,-999.0000,-999.000,  -999.0,-999.000,  6.8345,-999.000
    49RY9407_2,   P09,    80,  2,      4,    206,2,19940811,1152,  3.3697, 140.7097, 3680,    605.3,   6.4741,  34.5337,2,  34.5342,2,   -999.0,9,    126.3,2,    45.86,2,    33.10,2,     0.00,2,     2.21,2, -999.000,9, -999.000,9, -999.000,9,-999.0000,9,  -999.00,9,   -999.0,9,-999.000,9,   -999.0,9,   -999,  -999.0,-999.000,-999.0000,-999.000,  -999.0,-999.000,  6.4185,-999.000
    49RY9407_2,   P09,    80,  2,      3,    205,2,19940811,1152,  3.3697, 140.7097, 3680,    705.6,   6.0309,  34.5392,2,  34.5393,6,   -999.0,9,     88.5,2,    60.07,2,    37.29,2,     0.00,2,     2.59,2, -999.000,9, -999.000,9, -999.000,9,-999.0000,9,  -999.00,9,   -999.0,9,-999.000,9,   -999.0,9,   -999,  -999.0,-999.000,-999.0000,-999.000,  -999.0,-999.000,  5.9680,-999.000
    49RY9407_2,   P09,    80,  2,      2,    216,2,19940811,1152,  3.3697, 140.7097, 3680,    806.3,   5.3934,  34.5378,2,  34.5377,2,   -999.0,9,     93.7,2,    69.91,2,    37.62,2,     0.00,2,     2.61,2, -999.000,9, -999.000,9, -999.000,9,-999.0000,9,  -999.00,9,   -999.0,9,-999.000,9,   -999.0,9,   -999,  -999.0,-999.000,-999.0000,-999.000,  -999.0,-999.000,  5.3249,-999.000
    49RY9407_2,   P09,    80,  2,      1,    201,2,19940811,1152,  3.3697, 140.7097, 3680,    907.4,   4.9877,  34.5444,2,  34.5448,2,   -999.0,9,     90.7,2,    78.34,2,    38.45,2,     0.00,2,     2.68,2, -999.000,9, -999.000,9, -999.000,9,-999.0000,9,  -999.00,9,   -999.0,9,-999.000,9,   -999.0,9,   -999,  -999.0,-999.000,-999.0000,-999.000,  -999.0,-999.000,  4.9128,-999.000
    49RY9407_2,   P09,    80,  2,     24,    222,2,19940811,1152,  3.3697, 140.7097, 3680,   1008.8,   4.5094,  34.5550,2,  34.5549,2,   -999.0,9,     88.5,2,    88.84,2,    39.23,2,     0.00,2,     2.74,2, -999.000,9, -999.000,9, -999.000,9,-999.0000,9,  -999.00,9,   -999.0,9,-999.000,9,   -999.0,9,   -999,  -999.0,-999.000,-999.0000,-999.000,  -999.0,-999.000,  4.4290,-999.000
    49RY9407_2,   P09,    80,  2,     23,    228,2,19940811,1152,  3.3697, 140.7097, 3680,   1261.9,   3.4982,  34.5817,2,  34.5810,2,   -999.0,9,     94.0,2,   110.92,2,    39.57,2,     0.00,2,     2.77,2, -999.000,9, -999.000,9, -999.000,9,-999.0000,9,  -999.00,9,   -999.0,9,-999.000,9,   -999.0,9,   -999,  -999.0,-999.000,-999.0000,-999.000,  -999.0,-999.000,  3.4050,-999.000
    49RY9407_2,   P09,    80,  2,     21,    226,2,19940811,1152,  3.3697, 140.7097, 3680,   1514.4,   2.8840,  34.6033,2,  34.6036,2,   -999.0,9,    103.1,2,   123.63,2,    39.30,2,     0.00,2,     2.75,2, -999.000,9, -999.000,9, -999.000,9,-999.0000,9,  -999.00,9,   -999.0,9,-999.000,9,   -999.0,9,   -999,  -999.0,-999.000,-999.0000,-999.000,  -999.0,-999.000,  2.7762,-999.000
    49RY9407_2,   P09,    80,  2,     22,    227,2,19940811,1152,  3.3697, 140.7097, 3680,   1514.4,   2.8840,  34.6033,2,  34.6031,6,   -999.0,9,    103.2,2,   123.76,2,    39.15,2,     0.00,2,     2.75,2, -999.000,9, -999.000,9, -999.000,9,-999.0000,9,  -999.00,9,   -999.0,9,-999.000,9,   -999.0,9,   -999,  -999.0,-999.000,-999.0000,-999.000,  -999.0,-999.000,  2.7762,-999.000
    49RY9407_2,   P09,    80,  2,     20,    203,2,19940811,1152,  3.3697, 140.7097, 3680,   1768.4,   2.4249,  34.6244,2,  34.6255,2,   -999.0,9,    111.1,2,   132.51,6,    38.90,6,     0.00,6,     2.71,6, -999.000,9, -999.000,9, -999.000,9,-999.0000,9,  -999.00,9,   -999.0,9,-999.000,9,   -999.0,9,   -999,  -999.0,-999.000,-999.0000,-999.000,  1763.0,-999.000,  2.3017,-999.000
    49RY9407_2,   P09,    80,  2,     19,    215,2,19940811,1152,  3.3697, 140.7097, 3680,   2022.5,   2.0984,  34.6407,2,  34.6412,2,   -999.0,9,    120.1,2,   138.28,2,    38.49,2,     0.00,2,     2.65,2, -999.000,9, -999.000,9, -999.000,9,-999.0000,9,  -999.00,9,   -999.0,9,-999.000,9,   -999.0,9,   -999,  -999.0,-999.000,-999.0000,-999.000,  -999.0,-999.000,  1.9585,-999.000
    49RY9407_2,   P09,    80,  2,     18,    221,2,19940811,1152,  3.3697, 140.7097, 3680,   2275.7,   1.9104,  34.6516,2,  34.6515,6,   -999.0,9,    125.8,2,   141.06,2,    38.07,2,     0.00,2,     2.64,2, -999.000,9, -999.000,9, -999.000,9,-999.0000,9,  -999.00,9,   -999.0,9,-999.000,9,   -999.0,9,   -999,  -999.0,-999.000,-999.0000,-999.000,  2268.0,-999.000,  1.7518,-999.000
    49RY9407_2,   P09,    80,  2,     17,    219,2,19940811,1152,  3.3697, 140.7097, 3680,   2530.6,   1.7963,  34.6591,2,  34.6587,2,   -999.0,9,    130.5,2,   142.51,2,    37.83,2,     0.00,2,     2.60,2, -999.000,9, -999.000,9, -999.000,9,-999.0000,9,  -999.00,9,   -999.0,9,-999.000,9,   -999.0,9,   -999,  -999.0,-999.000,-999.0000,-999.000,  -999.0,-999.000,  1.6171,-999.000
    49RY9407_2,   P09,    80,  2,     16,    229,2,19940811,1152,  3.3697, 140.7097, 3680,   2785.5,   1.6670,  34.6665,2,  34.6664,2,   -999.0,9,    137.9,6,   143.07,6,    37.43,6,     0.00,6,     2.57,6, -999.000,9, -999.000,9, -999.000,9,-999.0000,9,  -999.00,9,   -999.0,9,-999.000,9,   -999.0,9,   -999,  -999.0,   1.668,-999.0000,-999.000,  2777.0,-999.000,  1.4669,-999.000
    49RY9407_2,   P09,    80,  2,     15,    217,2,19940811,1152,  3.3697, 140.7097, 3680,   3040.7,   1.5849,  34.6728,2,  34.6722,6,   -999.0,9,    143.7,2,   143.28,2,    37.06,2,     0.00,2,     2.54,2, -999.000,9, -999.000,9, -999.000,9,-999.0000,9,  -999.00,9,   -999.0,9,-999.000,9,   -999.0,9,   -999,  -999.0,-999.000,-999.0000,-999.000,  -999.0,-999.000,  1.3624,-999.000
    49RY9407_2,   P09,    80,  2,     14,    204,2,19940811,1152,  3.3697, 140.7097, 3680,   3297.2,   1.5591,  34.6753,2,  34.6747,2,   -999.0,9,    146.4,2,   143.09,2,    36.82,2,     0.00,2,     2.53,2, -999.000,9, -999.000,9, -999.000,9,-999.0000,9,  -999.00,9,   -999.0,9,-999.000,9,   -999.0,9,   -999,  -999.0,   1.555,-999.0000,-999.000,  3291.0,-999.000,  1.3120,-999.000
    49RY9407_2,   P09,    80,  2,     13,    214,2,19940811,1152,  3.3697, 140.7097, 3680,   3552.2,   1.5467,  34.6799,2,  34.6782,2,   -999.0,9,    147.5,2,   143.45,2,    36.77,2,     0.00,2,     2.53,2, -999.000,9, -999.000,9, -999.000,9,-999.0000,9,  -999.00,9,   -999.0,9,-999.000,9,   -999.0,9,   -999,  -999.0,-999.000,-999.0000,-999.000,  3520.0,-999.000,  1.2741,-999.000
    49RY9407_2,   P09,    80,  2,     12,    213,4,19940811,1152,  3.3697, 140.7097, 3680,   3749.4,   1.5398,  34.6802,2,  34.6804,6,   -999.0,9,    149.0,2,   143.72,2,    36.64,2,     0.00,2,     2.52,2, -999.000,9, -999.000,9, -999.000,9,-999.0000,9,  -999.00,9,   -999.0,9,-999.000,9,   -999.0,9,   -999,  -999.0,-999.000,-999.0000,-999.000,  3731.0,-999.000,  1.2467,-999.000
    49RY9407_2,   P09,    81,  1,      0,      0,2,19940811,1530,  3.0130, 140.9990, 3530,      0.0,  29.1574,  33.7568,2,-999.0000,9,   -999.0,9,    198.6,6,     1.28,2,     0.01,2,     0.00,2,     0.03,2, -999.000,9, -999.000,9, -999.000,9,-999.0000,9,  -999.00,9,   -999.0,9,-999.000,9,   -999.0,9,   -999,  -999.0,-999.000,-999.0000,-999.000,  -999.0,-999.000, 29.1575,-999.000
    49RY9407_2,   P09,    81,  1,     20,    203,2,19940811,1530,  3.0130, 140.9990, 3530,      9.3,  29.1844,  33.9265,2,  33.9394,2,   -999.0,9,    198.0,2,     1.28,2,     0.00,2,     0.00,2,     0.00,2, -999.000,9, -999.000,9, -999.000,9,-999.0000,9,  -999.00,9,   -999.0,9,-999.000,9,   -999.0,9,   -999,  -999.0,-999.000,-999.0000,-999.000,    15.0,-999.000, 29.1821,-999.000
    49RY9407_2,   P09,    81,  1,     19,    215,2,19940811,1530,  3.0130, 140.9990, 3530,     24.5,  28.2456,  34.1958,2,  34.1929,2,   -999.0,9,    201.7,6,     1.05,2,     0.01,2,     0.00,2,     0.01,2, -999.000,9, -999.000,9, -999.000,9,-999.0000,9,  -999.00,9,   -999.0,9,-999.000,9,   -999.0,9,   -999,  -999.0,-999.000,-999.0000,-999.000,  -999.0,-999.000, 28.2398,-999.000
    49RY9407_2,   P09,    81,  1,     17,    219,4,19940811,1530,  3.0130, 140.9990, 3530,     49.8,  27.4676,  34.3305,2,  34.3257,2,   -999.0,9,    191.4,2,     1.55,2,     0.03,2,     0.17,2,     0.10,2, -999.000,9, -999.000,9, -999.000,9,-999.0000,9,  -999.00,9,   -999.0,9,-999.000,9,   -999.0,9,   -999,  -999.0,-999.000,-999.0000,-999.000,  -999.0,-999.000, 27.4561,-999.000
    49RY9407_2,   P09,    81,  1,     18,    221,2,19940811,1530,  3.0130, 140.9990, 3530,     49.8,  27.4676,  34.3305,2,  34.3262,2,   -999.0,9,    191.5,2,     1.51,2,     0.10,2,     0.17,2,     0.07,2, -999.000,9, -999.000,9, -999.000,9,-999.0000,9,  -999.00,9,   -999.0,9,-999.000,9,   -999.0,9,   -999,  -999.0,-999.000,-999.0000,-999.000,    52.0,-999.000, 27.4561,-999.000
    49RY9407_2,   P09,    81,  1,     16,    229,2,19940811,1530,  3.0130, 140.9990, 3530,    100.3,  25.0548,  35.1578,2,  35.1573,2,   -999.0,9,    144.7,2,     3.17,2,     6.58,2,     0.09,2,     0.54,2, -999.000,9, -999.000,9, -999.000,9,-999.0000,9,  -999.00,9,   -999.0,9,-999.000,9,   -999.0,9,   -999,  -999.0,  24.970,-999.0000,-999.000,    97.0,-999.000, 25.0330,-999.000
    49RY9407_2,   P09,    81,  1,     15,    217,2,19940811,1530,  3.0130, 140.9990, 3530,    126.0,  22.9664,  35.2393,2,  35.1650,2,   -999.0,9,    143.0,2,     4.55,2,     7.83,2,     0.04,2,     0.61,2, -999.000,9, -999.000,9, -999.000,9,-999.0000,9,  -999.00,9,   -999.0,9,-999.000,9,   -999.0,9,   -999,  -999.0,-999.000,-999.0000,-999.000,  -999.0,-999.000, 22.9407,-999.000
    49RY9407_2,   P09,    81,  1,     14,    204,2,19940811,1530,  3.0130, 140.9990, 3530,    151.9,  20.8822,  35.2079,2,  35.2098,2,   -999.0,9,    138.0,2,     5.82,6,     9.81,6,     0.02,6,     0.72,6, -999.000,9, -999.000,9, -999.000,9,-999.0000,9,  -999.00,9,   -999.0,9,-999.000,9,   -999.0,9,   -999,  -999.0,  20.840,-999.0000,-999.000,   153.0,-999.000, 20.8532,-999.000
    49RY9407_2,   P09,    81,  1,     13,    214,2,19940811,1530,  3.0130, 140.9990, 3530,    202.3,  16.7924,  34.8973,2,  34.8930,2,   -999.0,9,    147.4,2,    11.06,2,    12.46,2,     0.02,2,     0.90,2, -999.000,9, -999.000,9, -999.000,9,-999.0000,9,  -999.00,9,   -999.0,9,-999.000,9,   -999.0,9,   -999,  -999.0,-999.000,-999.0000,-999.000,   205.0,-999.000, 16.7593,-999.000
    49RY9407_2,   P09,    81,  1,     12,    213,2,19940811,1530,  3.0130, 140.9990, 3530,    300.5,   9.4282,  34.5644,2,  34.5519,2,   -999.0,9,     75.1,6,    37.30,2,    31.25,2,     0.00,2,     2.14,2, -999.000,9, -999.000,9, -999.000,9,-999.0000,9,  -999.00,9,   -999.0,9,-999.000,9,   -999.0,9,   -999,  -999.0,-999.000,-999.0000,-999.000,   297.0,-999.000,  9.3946,-999.000