BOTTLE,20020306WHPSIOdm
EXPOCODE,SECT_ID,STNNBR,CASTNO,SAMPNO,BTLNBR,BTLNBR_FLAG_W,DATE,TIME,LATITUDE,LONGITUDE,DEPTH,CTDPRS,CTDTMP,CTDSAL,CTDSAL_FLAG_W,SALNTY,SALNTY_FLAG_W,CTDOXY,CTDOXY_FLAG_W,OXYGEN,OXYGEN_FLAG_W,SILCAT,SILCAT_FLAG_W,NITRAT,NITRAT_FLAG_W,NITRIT,NITRIT_FLAG_W,PHSPHT,PHSPHT_FLAG_W,CFC-11,CFC-11_FLAG_W,CFC-12,CFC-12_FLAG_W,TRITUM,TRITUM_FLAG_W,HELIUM,HELIUM_FLAG_W,DELHE3,DELHE3_FLAG_W,DELC14,DELC14_FLAG_W,NEON,NEON_FLAG_W,TCARBN,TCARBN_FLAG_W,CTDRAW,C14ERR,REVTMP,HELIER,DELHER,REVPRS,NEONER,THETA,TRITER
,,,,,,,,,,,,DBAR,ITS-90,PSS-78,,PSS-78,,UMOL/KG,,UMOL/KG,,UMOL/KG,,UMOL/KG,,UMOL/KG,,UMOL/KG,,PMOL/KG,,PMOL/KG,,TU,,NMOL/KG,,PERCNT,,/MILLE,,NMOL/KG,,UMOL/KG,,,/MILLE,ITS-90,NMOL/KG,PERCNT,DBAR,NMOL/KG,DEG C,TU
    49RY9407_1,   P09,    46,  1,      0,      0,2,19940724,1225, 17.5000, 136.9972, 4875,      0.4,  29.9677,  34.3131,2,-999.0000,9,    195.7,2,    194.9,6,     1.22,2,     0.01,2,     0.00,2,     0.01,2, -999.000,9, -999.000,9, -999.000,9,-999.0000,9,  -999.00,9,   -999.0,1,-999.000,9,   1893.3,2,   -999,  -999.0,-999.000,-999.0000,-999.000,  -999.0,-999.000, 29.9676,-999.000
    49RY9407_1,   P09,    46,  1,     22,    227,2,19940724,1225, 17.5000, 136.9972, 4875,     10.0,  29.8693,  34.3337,2,  34.3136,2,    188.0,3,    194.4,2,     1.38,2,     0.01,2,     0.00,2,     0.01,2, -999.000,9, -999.000,9, -999.000,9,-999.0000,9,  -999.00,9,   -999.0,9,-999.000,9,   1895.3,2,   -999,  -999.0,-999.000,-999.0000,-999.000,  -999.0,-999.000, 29.8669,-999.000
    49RY9407_1,   P09,    46,  1,     21,    226,2,19940724,1225, 17.5000, 136.9972, 4875,     25.2,  29.7796,  34.3033,2,  34.3065,2,    196.2,2,    196.1,2,     1.22,2,     0.00,2,     0.00,2,     0.00,2, -999.000,9, -999.000,9, -999.000,9,-999.0000,9,  -999.00,9,   -999.0,1,-999.000,9,   1893.5,6,   -999,  -999.0,-999.000,-999.0000,-999.000,  -999.0,-999.000, 29.7734,-999.000
    49RY9407_1,   P09,    46,  1,     20,    203,2,19940724,1225, 17.5000, 136.9972, 4875,     49.8,  28.9658,  34.3541,2,  34.3102,3,    199.4,2,    204.4,2,     1.26,2,     0.01,2,     0.00,2,     0.02,2, -999.000,9, -999.000,9, -999.000,9,-999.0000,9,  -999.00,9,   -999.0,1,-999.000,9,   1901.5,2,   -999,  -999.0,-999.000,-999.0000,-999.000,    54.0,-999.000, 28.9537,-999.000
    49RY9407_1,   P09,    46,  1,     19,    210,2,19940724,1225, 17.5000, 136.9972, 4875,     75.6,  28.1667,  34.5389,2,  34.5068,2,    212.6,3,    206.3,2,     1.24,2,     0.00,2,     0.00,2,     0.06,2, -999.000,9, -999.000,9, -999.000,9,-999.0000,9,  -999.00,9,   -999.0,1,-999.000,9,   1910.9,3,   -999,  -999.0,-999.000,-999.0000,-999.000,  -999.0,-999.000, 28.1488,-999.000
    49RY9407_1,   P09,    46,  1,     18,    221,2,19940724,1225, 17.5000, 136.9972, 4875,     99.9,  27.3371,  34.7596,2,  34.7180,2,    207.8,2,    205.4,2,     1.19,2,     0.01,2,     0.00,2,     0.06,2, -999.000,9, -999.000,9, -999.000,9,-999.0000,9,  -999.00,9,   -999.0,1,-999.000,9,   1927.3,2,   -999,  -999.0,  27.420,-999.0000,-999.000,   102.0,-999.000, 27.3140,-999.000
    49RY9407_1,   P09,    46,  1,     17,    219,2,19940724,1225, 17.5000, 136.9972, 4875,    124.4,  26.7033,  34.8111,2,-999.0000,5,    205.8,3,    200.1,6,     1.14,2,     0.01,2,     0.01,2,     0.08,2, -999.000,9, -999.000,9, -999.000,9,-999.0000,9,  -999.00,9,   -999.0,1,-999.000,9,   1944.4,2,   -999,  -999.0,-999.000,-999.0000,-999.000,  -999.0,-999.000, 26.6750,-999.000
    49RY9407_1,   P09,    46,  1,     16,    229,2,19940724,1225, 17.5000, 136.9972, 4875,    150.6,  25.6360,  34.9994,2,  34.9623,2,    204.3,3,    194.7,2,     1.20,2,     0.03,2,     0.18,2,     0.08,2, -999.000,9, -999.000,9, -999.000,9,-999.0000,9,  -999.00,9,   -999.0,1,-999.000,9,   1959.6,2,   -999,  -999.0,  25.760,-999.0000,-999.000,   146.0,-999.000, 25.6027,-999.000
    49RY9407_1,   P09,    46,  1,     15,    217,2,19940724,1225, 17.5000, 136.9972, 4875,    200.6,  21.7629,  35.0483,2,  35.0383,3,    192.3,3,    179.5,2,     2.28,6,     1.66,6,     0.01,6,     0.25,6, -999.000,9, -999.000,9, -999.000,9,-999.0000,9,  -999.00,9,   -999.0,1,-999.000,9,   2022.7,2,   -999,  -999.0,-999.000,-999.0000,-999.000,  -999.0,-999.000, 21.7235,-999.000
    49RY9407_1,   P09,    46,  1,     14,    204,2,19940724,1225, 17.5000, 136.9972, 4875,    301.6,  15.3392,  34.6103,2,  34.6157,2,    179.7,3,    168.5,2,     9.63,2,    10.53,2,     0.01,2,     0.80,2, -999.000,9, -999.000,9, -999.000,9,-999.0000,9,  -999.00,9,   -999.0,1,-999.000,9,   2078.2,2,   -999,  -999.0,  15.328,-999.0000,-999.000,   300.0,-999.000, 15.2929,-999.000
    49RY9407_1,   P09,    46,  1,     12,    213,2,19940724,1225, 17.5000, 136.9972, 4875,    402.1,  11.0251,  34.3452,2,  34.3214,2,    154.4,2,    153.9,2,    23.21,2,    19.40,2,     0.00,2,     1.41,2, -999.000,9, -999.000,9, -999.000,9,-999.0000,9,  -999.00,9,   -999.0,1,-999.000,9,   2133.9,2,   -999,  -999.0,-999.000,-999.0000,-999.000,   402.0,-999.000, 10.9754,-999.000
    49RY9407_1,   P09,    46,  1,     13,    214,4,19940724,1225, 17.5000, 136.9972, 4875,    402.1,  11.0251,  34.3452,2,  34.3208,2,    154.4,2,    153.3,2,    23.25,2,    19.40,2,     0.00,2,     1.41,2, -999.000,9, -999.000,9, -999.000,9,-999.0000,9,  -999.00,9,   -999.0,1,-999.000,9,   2131.7,2,   -999,  -999.0,-999.000,-999.0000,-999.000,   404.0,-999.000, 10.9754,-999.000
    49RY9407_1,   P09,    46,  2,      9,    223,2,19940724,1427, 17.5302, 137.0078, 4690,    503.4,   8.0111,  34.1525,2,  34.1578,2,    127.3,3,    134.4,6,    43.99,2,    26.90,2,     0.00,2,     1.93,2, -999.000,9, -999.000,9, -999.000,9,-999.0000,9,  -999.00,9,   -999.0,1,-999.000,9,   2185.3,2,   -999,  -999.0,-999.000,-999.0000,-999.000,  -999.0,-999.000,  7.9598,-999.000
    49RY9407_1,   P09,    46,  2,      8,    212,2,19940724,1427, 17.5302, 137.0078, 4690,    603.1,   6.3479,  34.2453,2,  34.3053,2,     70.4,3,     75.5,2,    68.02,2,    35.42,2,     0.00,2,     2.58,2, -999.000,9, -999.000,9, -999.000,9,-999.0000,9,  -999.00,9,   -999.0,1,-999.000,9,   2262.6,2,   -999,  -999.0,-999.000,-999.0000,-999.000,  -999.0,-999.000,  6.2934,-999.000
    49RY9407_1,   P09,    46,  2,      7,    220,2,19940724,1427, 17.5302, 137.0078, 4690,    704.6,   5.6095,  34.3584,2,  34.3602,2,     64.1,3,     70.1,2,    81.61,6,    37.60,6,     0.00,6,     2.72,6, -999.000,9, -999.000,9, -999.000,9,-999.0000,9,  -999.00,9,   -999.0,1,-999.000,9,   2285.0,2,   -999,  -999.0,-999.000,-999.0000,-999.000,  -999.0,-999.000,  5.5492,-999.000
    49RY9407_1,   P09,    46,  2,      6,    209,2,19940724,1427, 17.5302, 137.0078, 4690,    805.0,   4.9648,  34.4068,2,  34.4060,2,     68.7,2,     71.8,2,    93.31,2,    38.43,2,     0.00,2,     2.78,2, -999.000,9, -999.000,9, -999.000,9,-999.0000,9,  -999.00,9,   -999.0,1,-999.000,9,   2300.7,3,   -999,  -999.0,-999.000,-999.0000,-999.000,  -999.0,-999.000,  4.8992,-999.000
    49RY9407_1,   P09,    46,  2,      5,    218,2,19940724,1427, 17.5302, 137.0078, 4690,    907.5,   4.3929,  34.4518,2,  34.4472,2,     77.5,2,     75.6,2,   104.00,2,    38.93,2,     0.00,2,     2.80,2, -999.000,9, -999.000,9, -999.000,9,-999.0000,9,  -999.00,9,   -999.0,1,-999.000,9,   2313.6,2,   -999,  -999.0,-999.000,-999.0000,-999.000,  -999.0,-999.000,  4.3222,-999.000
    49RY9407_1,   P09,    46,  2,      4,    206,2,19940724,1427, 17.5302, 137.0078, 4690,   1008.1,   3.9010,  34.4934,2,  34.4932,2,     85.5,2,     82.3,6,   113.58,2,    39.03,2,     0.00,2,     2.80,2, -999.000,9, -999.000,9, -999.000,9,-999.0000,9,  -999.00,9,   -999.0,1,-999.000,9,   2324.1,2,   -999,  -999.0,-999.000,-999.0000,-999.000,  -999.0,-999.000,  3.8255,-999.000
    49RY9407_1,   P09,    46,  2,      3,    205,2,19940724,1427, 17.5302, 137.0078, 4690,   1261.3,   3.1183,  34.5593,2,  34.5602,2,     99.7,2,     96.3,2,   126.27,2,    38.82,2,     0.00,2,     2.78,2, -999.000,9, -999.000,9, -999.000,9,-999.0000,9,  -999.00,9,   -999.0,1,-999.000,9,   2330.3,2,   -999,  -999.0,-999.000,-999.0000,-999.000,  -999.0,-999.000,  3.0288,-999.000
    49RY9407_1,   P09,    46,  2,      2,    216,2,19940724,1427, 17.5302, 137.0078, 4690,   1514.6,   2.6798,  34.5847,2,  34.5850,2,    104.7,2,    102.5,2,   133.42,6,    38.94,6,     0.00,6,     2.78,6, -999.000,9, -999.000,9, -999.000,9,-999.0000,9,  -999.00,9,   -999.0,1,-999.000,9,   2340.5,6,   -999,  -999.0,-999.000,-999.0000,-999.000,  -999.0,-999.000,  2.5744,-999.000
    49RY9407_1,   P09,    46,  2,      1,    201,2,19940724,1427, 17.5302, 137.0078, 4690,   1768.5,   2.3157,  34.6076,2,  34.6077,2,    109.5,2,    108.2,2,   138.88,2,    38.96,2,     0.00,2,     2.77,2, -999.000,9, -999.000,9, -999.000,9,-999.0000,9,  -999.00,9,   -999.0,1,-999.000,9,   2341.8,2,   -999,  -999.0,-999.000,-999.0000,-999.000,  -999.0,-999.000,  2.1940,-999.000
    49RY9407_1,   P09,    46,  2,     24,    230,2,19940724,1427, 17.5302, 137.0078, 4690,   2022.2,   2.0216,  34.6286,2,  34.6293,2,    117.3,2,    116.5,2,   143.32,2,    38.65,2,     0.00,2,     2.74,2, -999.000,9, -999.000,9, -999.000,9,-999.0000,9,  -999.00,9,   -999.0,1,-999.000,9,   2340.4,2,   -999,  -999.0,-999.000,-999.0000,-999.000,  -999.0,-999.000,  1.8830,-999.000
    49RY9407_1,   P09,    46,  2,     23,    228,2,19940724,1427, 17.5302, 137.0078, 4690,   2276.9,   1.8412,  34.6432,2,  34.6449,2,    125.4,2,    124.8,2,   144.91,2,    38.17,2,     0.00,2,     2.70,2, -999.000,9, -999.000,9, -999.000,9,-999.0000,9,  -999.00,9,   -999.0,1,-999.000,9,   2341.8,2,   -999,  -999.0,-999.000,-999.0000,-999.000,  -999.0,-999.000,  1.6837,-999.000
    49RY9407_1,   P09,    46,  2,     21,    226,2,19940724,1427, 17.5302, 137.0078, 4690,   2530.1,   1.7407,  34.6544,2,  34.6545,2,    131.7,2,    130.6,2,   145.67,2,    37.81,2,     0.00,2,     2.67,2, -999.000,9, -999.000,9, -999.000,9,-999.0000,9,  -999.00,9,   -999.0,1,-999.000,9,   2342.6,2,   -999,  -999.0,-999.000,-999.0000,-999.000,  -999.0,-999.000,  1.5625,-999.000
    49RY9407_1,   P09,    46,  2,     22,    227,2,19940724,1427, 17.5302, 137.0078, 4690,   2530.1,   1.7407,  34.6544,2,  34.6541,2,    131.7,2,    130.3,2,   146.04,2,    37.90,2,     0.00,2,     2.67,2, -999.000,9, -999.000,9, -999.000,9,-999.0000,9,  -999.00,9,   -999.0,1,-999.000,9,   2337.3,2,   -999,  -999.0,-999.000,-999.0000,-999.000,  -999.0,-999.000,  1.5625,-999.000
    49RY9407_1,   P09,    46,  2,     20,    203,2,19940724,1427, 17.5302, 137.0078, 4690,   2785.0,   1.6879,  34.6609,2,  34.6603,2,    136.2,2,    134.8,2,   146.00,2,    37.57,2,     0.00,2,     2.64,2, -999.000,9, -999.000,9, -999.000,9,-999.0000,9,  -999.00,9,   -999.0,1,-999.000,9,   2338.4,2,   -999,  -999.0,-999.000,-999.0000,-999.000,  2784.0,-999.000,  1.4874,-999.000
    49RY9407_1,   P09,    46,  2,     19,    210,2,19940724,1427, 17.5302, 137.0078, 4690,   3041.0,   1.6348,  34.6659,2,  34.6666,2,    141.2,2,    141.6,2,   145.00,6,    37.30,6,     0.00,6,     2.61,6, -999.000,9, -999.000,9, -999.000,9,-999.0000,9,  -999.00,9,   -999.0,1,-999.000,9,   2332.2,3,   -999,  -999.0,-999.000,-999.0000,-999.000,  -999.0,-999.000,  1.4111,-999.000
    49RY9407_1,   P09,    46,  2,     18,    221,2,19940724,1427, 17.5302, 137.0078, 4690,   3295.6,   1.5941,  34.6707,2,  34.6723,2,    145.7,2,    144.7,2,   143.97,2,    37.01,2,     0.00,2,     2.59,2, -999.000,9, -999.000,9, -999.000,9,-999.0000,9,  -999.00,9,   -999.0,1,-999.000,9,   2331.8,3,   -999,  -999.0,   1.589,-999.0000,-999.000,  3296.0,-999.000,  1.3464,-999.000
    49RY9407_1,   P09,    46,  2,     17,    219,2,19940724,1427, 17.5302, 137.0078, 4690,   3549.8,   1.5720,  34.6758,2,  34.6756,2,    149.0,2,    147.7,2,   143.65,2,    36.77,2,     0.00,2,     2.58,2, -999.000,9, -999.000,9, -999.000,9,-999.0000,9,  -999.00,9,   -999.0,1,-999.000,9,   2327.8,2,   -999,  -999.0,-999.000,-999.0000,-999.000,  -999.0,-999.000,  1.2990,-999.000
    49RY9407_1,   P09,    46,  2,     16,    229,2,19940724,1427, 17.5302, 137.0078, 4690,   3807.8,   1.5334,  34.6790,2,  34.6807,2,    155.5,2,    154.1,2,   142.18,2,    36.36,2,     0.00,2,     2.54,2, -999.000,9, -999.000,9, -999.000,9,-999.0000,9,  -999.00,9,   -999.0,1,-999.000,9,   2324.5,2,   -999,  -999.0,   1.530,-999.0000,-999.000,  3808.0,-999.000,  1.2343,-999.000
    49RY9407_1,   P09,    46,  2,     15,    217,2,19940724,1427, 17.5302, 137.0078, 4690,   4062.8,   1.5100,  34.6846,2,  34.6837,2,    158.4,2,    157.4,2,   141.03,2,    36.22,2,     0.00,2,     2.52,2, -999.000,9, -999.000,9, -999.000,9,-999.0000,9,  -999.00,9,   -999.0,1,-999.000,9,   2322.1,2,   -999,  -999.0,-999.000,-999.0000,-999.000,  -999.0,-999.000,  1.1840,-999.000
    49RY9407_1,   P09,    46,  2,     14,    204,2,19940724,1427, 17.5302, 137.0078, 4690,   4320.1,   1.5085,  34.6861,2,  34.6857,2,    162.4,2,    163.0,3,   140.19,2,    35.99,2,     0.00,2,     2.51,2, -999.000,9, -999.000,9, -999.000,9,-999.0000,9,  -999.00,9,   -999.0,1,-999.000,9,   2321.4,6,   -999,  -999.0,   1.505,-999.0000,-999.000,  4318.0,-999.000,  1.1538,-999.000
    49RY9407_1,   P09,    46,  2,     13,    214,2,19940724,1427, 17.5302, 137.0078, 4690,   4577.8,   1.5289,  34.6867,2,  34.6853,2,    161.9,2,    160.2,6,   139.81,6,    35.86,6,     0.00,6,     2.49,6, -999.000,9, -999.000,9, -999.000,9,-999.0000,9,  -999.00,9,   -999.0,1,-999.000,9,   2319.7,2,   -999,  -999.0,-999.000,-999.0000,-999.000,  4580.0,-999.000,  1.1440,-999.000
    49RY9407_1,   P09,    46,  2,     12,    213,4,19940724,1427, 17.5302, 137.0078, 4690,   4876.7,   1.5618,  34.6868,2,  34.6855,2,    160.6,2,    160.9,6,   139.82,6,    35.90,6,     0.00,6,     2.49,6, -999.000,9, -999.000,9, -999.000,9,-999.0000,9,  -999.00,9,   -999.0,9,-999.000,9,   -999.0,9,   -999,  -999.0,-999.000,-999.0000,-999.000,  3630.0,-999.000,  1.1404,-999.000
    49RY9407_1,   P09,    47,  1,      0,      0,2,19940724,1914, 17.0160, 136.9948, 4770,      1.3,  30.0734,  34.2977,2,-999.0000,9,    153.5,4,    196.4,6,     1.27,6,     0.03,6,     0.00,6,     0.01,6, -999.000,9, -999.000,9, -999.000,9,-999.0000,9,  -999.00,9,   -999.0,9,-999.000,9,   -999.0,9,   -999,  -999.0,-999.000,-999.0000,-999.000,  -999.0,-999.000, 30.0731,-999.000
    49RY9407_1,   P09,    47,  1,     22,    227,2,19940724,1914, 17.0160, 136.9948, 4770,     10.1,  29.8423,  34.2889,2,  34.2908,2,    180.6,4,    195.7,2,     1.27,2,     0.00,2,     0.00,2,     0.01,2, -999.000,9, -999.000,9, -999.000,9,-999.0000,9,  -999.00,9,   -999.0,9,-999.000,9,   -999.0,9,   -999,  -999.0,-999.000,-999.0000,-999.000,  -999.0,-999.000, 29.8398,-999.000
    49RY9407_1,   P09,    47,  1,     21,    226,2,19940724,1914, 17.0160, 136.9948, 4770,     24.9,  29.7498,  34.2818,2,  34.2838,6,    181.3,4,    196.2,2,     1.23,2,     0.04,2,     0.00,2,     0.01,2, -999.000,9, -999.000,9, -999.000,9,-999.0000,9,  -999.00,9,   -999.0,9,-999.000,9,   -999.0,9,   -999,  -999.0,-999.000,-999.0000,-999.000,  -999.0,-999.000, 29.7437,-999.000
    49RY9407_1,   P09,    47,  1,     20,    203,2,19940724,1914, 17.0160, 136.9948, 4770,     49.9,  29.6255,  34.2783,2,  34.2778,2,    187.5,4,    196.0,2,     1.28,2,     0.03,2,     0.00,2,     0.01,2, -999.000,9, -999.000,9, -999.000,9,-999.0000,9,  -999.00,9,   -999.0,9,-999.000,9,   -999.0,9,   -999,  -999.0,-999.000,-999.0000,-999.000,    53.0,-999.000, 29.6133,-999.000
    49RY9407_1,   P09,    47,  1,     19,    210,2,19940724,1914, 17.0160, 136.9948, 4770,     75.3,  28.7877,  34.4230,2,  34.4167,2,    197.8,3,    205.1,2,     1.25,2,     0.01,2,     0.00,2,     0.03,2, -999.000,9, -999.000,9, -999.000,9,-999.0000,9,  -999.00,9,   -999.0,9,-999.000,9,   -999.0,9,   -999,  -999.0,-999.000,-999.0000,-999.000,  -999.0,-999.000, 28.7696,-999.000
    49RY9407_1,   P09,    47,  1,     18,    221,2,19940724,1914, 17.0160, 136.9948, 4770,     99.8,  27.9340,  34.5637,2,  34.5722,2,    194.0,3,    206.7,2,     1.24,2,     0.00,2,     0.00,2,     0.07,2, -999.000,9, -999.000,9, -999.000,9,-999.0000,9,  -999.00,9,   -999.0,9,-999.000,9,   -999.0,9,   -999,  -999.0,  27.980,-999.0000,-999.000,    97.0,-999.000, 27.9105,-999.000
    49RY9407_1,   P09,    47,  1,     17,    219,2,19940724,1914, 17.0160, 136.9948, 4770,    125.4,  27.2330,  34.7560,2,  34.7568,2,    203.9,2,    202.7,2,     1.19,2,     0.00,2,     0.00,2,     0.07,2, -999.000,9, -999.000,9, -999.000,9,-999.0000,9,  -999.00,9,   -999.0,9,-999.000,9,   -999.0,9,   -999,  -999.0,-999.000,-999.0000,-999.000,  -999.0,-999.000, 27.2040,-999.000
    49RY9407_1,   P09,    47,  1,     16,    229,2,19940724,1914, 17.0160, 136.9948, 4770,    150.0,  26.6463,  34.8452,2,  34.8432,2,    195.6,2,    199.1,2,     1.25,2,     0.01,2,     0.07,2,     0.07,2, -999.000,9, -999.000,9, -999.000,9,-999.0000,9,  -999.00,9,   -999.0,9,-999.000,9,   -999.0,9,   -999,  -999.0,  27.030,-999.0000,-999.000,   137.0,-999.000, 26.6123,-999.000
    49RY9407_1,   P09,    47,  1,     15,    217,2,19940724,1914, 17.0160, 136.9948, 4770,    201.5,  23.4984,  35.0617,2,  35.0667,6,    191.5,2,    187.1,2,     1.59,2,     0.64,2,     0.01,2,     0.14,2, -999.000,9, -999.000,9, -999.000,9,-999.0000,9,  -999.00,9,   -999.0,9,-999.000,9,   -999.0,9,   -999,  -999.0,-999.000,-999.0000,-999.000,  -999.0,-999.000, 23.4566,-999.000
    49RY9407_1,   P09,    47,  1,     14,    204,2,19940724,1914, 17.0160, 136.9948, 4770,    301.8,  15.4750,  34.6141,2,  34.6224,2,    169.4,2,    164.8,2,     9.68,2,    10.43,2,     0.00,2,     0.82,2, -999.000,9, -999.000,9, -999.000,9,-999.0000,9,  -999.00,9,   -999.0,9,-999.000,9,   -999.0,9,   -999,  -999.0,  15.660,-999.0000,-999.000,   295.0,-999.000, 15.4283,-999.000
    49RY9407_1,   P09,    47,  1,     13,    214,2,19940724,1914, 17.0160, 136.9948, 4770,    402.8,  10.6594,  34.2955,2,  34.2998,2,    151.4,2,    153.9,2,    24.86,2,    19.94,2,     0.00,2,     1.45,2, -999.000,9, -999.000,9, -999.000,9,-999.0000,9,  -999.00,9,   -999.0,9,-999.000,9,   -999.0,9,   -999,  -999.0,-999.000,-999.0000,-999.000,   403.0,-999.000, 10.6106,-999.000
    49RY9407_1,   P09,    47,  1,     12,    213,2,19940724,1914, 17.0160, 136.9948, 4770,    502.6,   7.8331,  34.2241,2,  34.2297,6,    107.7,2,    106.1,2,    48.49,2,    29.92,2,     0.00,2,     2.18,2, -999.000,9, -999.000,9, -999.000,9,-999.0000,9,  -999.00,9,   -999.0,9,-999.000,9,   -999.0,9,   -999,  -999.0,-999.000,-999.0000,-999.000,   502.0,-999.000,  7.7824,-999.000