BOTTLE,20020306WHPSIOdm
EXPOCODE,SECT_ID,STNNBR,CASTNO,SAMPNO,BTLNBR,BTLNBR_FLAG_W,DATE,TIME,LATITUDE,LONGITUDE,DEPTH,CTDPRS,CTDTMP,CTDSAL,CTDSAL_FLAG_W,SALNTY,SALNTY_FLAG_W,CTDOXY,CTDOXY_FLAG_W,OXYGEN,OXYGEN_FLAG_W,SILCAT,SILCAT_FLAG_W,NITRAT,NITRAT_FLAG_W,NITRIT,NITRIT_FLAG_W,PHSPHT,PHSPHT_FLAG_W,CFC-11,CFC-11_FLAG_W,CFC-12,CFC-12_FLAG_W,TRITUM,TRITUM_FLAG_W,HELIUM,HELIUM_FLAG_W,DELHE3,DELHE3_FLAG_W,DELC14,DELC14_FLAG_W,NEON,NEON_FLAG_W,TCARBN,TCARBN_FLAG_W,CTDRAW,C14ERR,REVTMP,HELIER,DELHER,REVPRS,NEONER,THETA,TRITER
,,,,,,,,,,,,DBAR,ITS-90,PSS-78,,PSS-78,,UMOL/KG,,UMOL/KG,,UMOL/KG,,UMOL/KG,,UMOL/KG,,UMOL/KG,,PMOL/KG,,PMOL/KG,,TU,,NMOL/KG,,PERCNT,,/MILLE,,NMOL/KG,,UMOL/KG,,,/MILLE,ITS-90,NMOL/KG,PERCNT,DBAR,NMOL/KG,DEG C,TU
    49RY9407_1,   P09,    24,  2,     24,    230,2,19940713,1405, 28.5177, 137.0148, 4680,    301.6,  17.0009,  34.7765,2,  34.7793,2,    208.5,2,    190.9,3,     4.86,2,     5.37,2,     0.00,2,     0.36,2, -999.000,9, -999.000,9, -999.000,9,-999.0000,9,  -999.00,9,   -999.0,9,-999.000,9,   -999.0,9,   -999,  -999.0,-999.000,-999.0000,-999.000,  -999.0,-999.000, 16.9510,-999.000
    49RY9407_1,   P09,    24,  2,     23,    228,2,19940713,1405, 28.5177, 137.0148, 4680,    401.9,  15.1985,  34.6351,2,  34.6333,2,    195.2,2,    202.8,3,     9.86,6,     9.48,6,     0.00,6,     0.64,6, -999.000,9, -999.000,9, -999.000,9,-999.0000,9,  -999.00,9,   -999.0,9,-999.000,9,   -999.0,9,   -999,  -999.0,-999.000,-999.0000,-999.000,  -999.0,-999.000, 15.1369,-999.000
    49RY9407_1,   P09,    24,  2,     21,    226,2,19940713,1405, 28.5177, 137.0148, 4680,    502.8,  12.7897,  34.4438,2,  34.4488,2,    186.3,2,    183.6,2,    17.39,2,    14.06,2,     0.00,2,     0.98,2, -999.000,9, -999.000,9, -999.000,9,-999.0000,9,  -999.00,9,   -999.0,9,-999.000,9,   -999.0,9,   -999,  -999.0,-999.000,-999.0000,-999.000,  -999.0,-999.000, 12.7208,-999.000
    49RY9407_1,   P09,    24,  2,     22,    227,2,19940713,1405, 28.5177, 137.0148, 4680,    502.8,  12.7897,  34.4438,2,  34.4495,2,    186.3,2,    184.3,2,    17.44,2,    14.10,2,     0.00,2,     0.98,2, -999.000,9, -999.000,9, -999.000,9,-999.0000,9,  -999.00,9,   -999.0,9,-999.000,9,   -999.0,9,   -999,  -999.0,-999.000,-999.0000,-999.000,  -999.0,-999.000, 12.7208,-999.000
    49RY9407_1,   P09,    24,  2,     20,    225,2,19940713,1405, 28.5177, 137.0148, 4680,    603.1,  10.0601,  34.2644,2,  34.2638,2,    173.4,2,    170.7,2,    31.24,2,    20.17,2,     0.00,2,     1.42,2, -999.000,9, -999.000,9, -999.000,9,-999.0000,9,  -999.00,9,   -999.0,9,-999.000,9,   -999.0,9,   -999,  -999.0,-999.000,-999.0000,-999.000,  -999.0,-999.000,  9.9891,-999.000
    49RY9407_1,   P09,    24,  2,     19,    224,2,19940713,1405, 28.5177, 137.0148, 4680,    705.0,   7.5276,  34.1445,2,  34.1445,2,    146.7,2,    142.6,2,    52.23,2,    27.35,2,     0.00,2,     1.96,2, -999.000,9, -999.000,9, -999.000,9,-999.0000,9,  -999.00,9,   -999.0,9,-999.000,9,   -999.0,9,   -999,  -999.0,-999.000,-999.0000,-999.000,  -999.0,-999.000,  7.4573,-999.000
    49RY9407_1,   P09,    24,  2,     18,    223,2,19940713,1405, 28.5177, 137.0148, 4680,    805.2,   6.0638,  34.1521,2,  34.1504,2,    110.7,2,    109.0,2,    73.14,2,    32.91,2,     0.00,2,     2.37,2, -999.000,9, -999.000,9, -999.000,9,-999.0000,9,  -999.00,9,   -999.0,9,-999.000,9,   -999.0,9,   -999,  -999.0,-999.000,-999.0000,-999.000,  -999.0,-999.000,  5.9917,-999.000
    49RY9407_1,   P09,    24,  2,     17,    222,2,19940713,1405, 28.5177, 137.0148, 4680,    907.9,   4.7752,  34.1935,2,  34.1950,2,     77.4,2,     80.1,6,    95.02,6,    37.74,6,     0.00,6,     2.71,6, -999.000,9, -999.000,9, -999.000,9,-999.0000,9,  -999.00,9,   -999.0,9,-999.000,9,   -999.0,9,   -999,  -999.0,-999.000,-999.0000,-999.000,  -999.0,-999.000,  4.7022,-999.000
    49RY9407_1,   P09,    24,  2,     16,    221,2,19940713,1405, 28.5177, 137.0148, 4680,   1008.7,   4.2423,  34.2689,2,  34.2664,2,     57.6,3,     64.6,2,   107.65,2,    39.58,2,     0.00,2,     2.85,2, -999.000,9, -999.000,9, -999.000,9,-999.0000,9,  -999.00,9,   -999.0,9,-999.000,9,   -999.0,9,   -999,  -999.0,   4.246,-999.0000,-999.000,  1008.0,-999.000,  4.1645,-999.000
    49RY9407_1,   P09,    24,  2,     15,    220,2,19940713,1405, 28.5177, 137.0148, 4680,   1260.7,   3.2762,  34.4109,2,  34.4110,2,     53.8,3,     59.7,2,   130.95,2,    41.55,2,     0.00,2,     2.97,2, -999.000,9, -999.000,9, -999.000,9,-999.0000,9,  -999.00,9,   -999.0,9,-999.000,9,   -999.0,9,   -999,  -999.0,-999.000,-999.0000,-999.000,  -999.0,-999.000,  3.1856,-999.000
    49RY9407_1,   P09,    24,  2,     14,    219,2,19940713,1405, 28.5177, 137.0148, 4680,   1513.1,   2.6840,  34.4989,2,  34.4984,2,     67.2,2,     69.4,2,   142.31,2,    41.30,2,     0.00,2,     2.94,2, -999.000,9, -999.000,9, -999.000,9,-999.0000,9,  -999.00,9,   -999.0,9,-999.000,9,   -999.0,9,   -999,  -999.0,-999.000,-999.0000,-999.000,  -999.0,-999.000,  2.5789,-999.000
    49RY9407_1,   P09,    24,  2,     13,    218,2,19940713,1405, 28.5177, 137.0148, 4680,   1766.8,   2.2854,  34.5555,2,  34.5549,2,     83.0,2,     84.4,2,   147.26,2,    40.68,2,     0.00,2,     2.88,2, -999.000,9, -999.000,9, -999.000,9,-999.0000,9,  -999.00,9,   -999.0,9,-999.000,9,   -999.0,9,   -999,  -999.0,-999.000,-999.0000,-999.000,  -999.0,-999.000,  2.1645,-999.000
    49RY9407_1,   P09,    24,  2,     12,    217,2,19940713,1405, 28.5177, 137.0148, 4680,   2021.6,   2.0226,  34.5994,2,  34.5988,2,    105.6,2,    106.5,2,   146.62,2,    39.32,2,     0.00,2,     2.77,2, -999.000,9, -999.000,9, -999.000,9,-999.0000,9,  -999.00,9,   -999.0,9,-999.000,9,   -999.0,9,   -999,  -999.0,-999.000,-999.0000,-999.000,  -999.0,-999.000,  1.8842,-999.000
    49RY9407_1,   P09,    24,  2,     11,    216,4,19940713,1405, 28.5177, 137.0148, 4680,   2274.6,   1.8786,  34.6225,2,  34.6228,2,    119.6,2,    120.1,6,   146.13,6,    38.71,6,     0.00,6,     2.71,6, -999.000,9, -999.000,9, -999.000,9,-999.0000,9,  -999.00,9,   -999.0,9,-999.000,9,   -999.0,9,   -999,  -999.0,-999.000,-999.0000,-999.000,  -999.0,-999.000,  1.7207,-999.000
    49RY9407_1,   P09,    24,  2,     10,    214,2,19940713,1405, 28.5177, 137.0148, 4680,   2785.8,   1.6544,  34.6550,2,  34.6551,2,    140.7,2,    137.0,2,   144.51,2,    37.51,2,     0.00,2,     2.61,2, -999.000,9, -999.000,9, -999.000,9,-999.0000,9,  -999.00,9,   -999.0,9,-999.000,9,   -999.0,9,   -999,  -999.0,-999.000,-999.0000,-999.000,  -999.0,-999.000,  1.4545,-999.000
    49RY9407_1,   P09,    24,  2,      9,    213,2,19940713,1405, 28.5177, 137.0148, 4680,   3040.4,   1.5908,  34.6650,2,  34.6646,2,    146.3,2,    144.9,2,   143.84,2,    37.19,2,     0.00,2,     2.59,2, -999.000,9, -999.000,9, -999.000,9,-999.0000,9,  -999.00,9,   -999.0,9,-999.000,9,   -999.0,9,   -999,  -999.0,   1.586,-999.0000,-999.000,  3039.0,-999.000,  1.3681,-999.000
    49RY9407_1,   P09,    24,  2,      7,    210,2,19940713,1405, 28.5177, 137.0148, 4680,   3550.4,   1.5269,  34.6769,2,  34.6711,3,    155.1,2,    147.2,3,   143.41,2,    36.83,2,     0.00,2,     2.56,2, -999.000,9, -999.000,9, -999.000,9,-999.0000,9,  -999.00,9,   -999.0,9,-999.000,9,   -999.0,9,   -999,  -999.0,-999.000,-999.0000,-999.000,  -999.0,-999.000,  1.2550,-999.000
    49RY9407_1,   P09,    24,  2,      8,    212,4,19940713,1405, 28.5177, 137.0148, 4680,   3550.4,   1.5269,  34.6769,2,  34.6646,4,    155.1,2,    150.6,2,   143.48,2,    36.89,2,     0.00,2,     2.56,2, -999.000,9, -999.000,9, -999.000,9,-999.0000,9,  -999.00,9,   -999.0,9,-999.000,9,   -999.0,9,   -999,  -999.0,-999.000,-999.0000,-999.000,  -999.0,-999.000,  1.2550,-999.000
    49RY9407_1,   P09,    24,  2,      6,    209,2,19940713,1405, 28.5177, 137.0148, 4680,   3807.9,   1.5231,  34.6799,2,  34.6802,2,    155.6,2,    157.2,2,   142.73,2,    36.57,2,     0.00,2,     2.53,2, -999.000,9, -999.000,9, -999.000,9,-999.0000,9,  -999.00,9,   -999.0,9,-999.000,9,   -999.0,9,   -999,  -999.0,-999.000,-999.0000,-999.000,  -999.0,-999.000,  1.2243,-999.000
    49RY9407_1,   P09,    24,  2,      5,    229,2,19940713,1405, 28.5177, 137.0148, 4680,   4115.3,   1.5390,  34.6812,2,  34.6817,2,    157.8,2,    155.6,6,   142.31,6,    36.46,6,     0.00,6,     2.52,6, -999.000,9, -999.000,9, -999.000,9,-999.0000,9,  -999.00,9,   -999.0,9,-999.000,9,   -999.0,9,   -999,  -999.0,   1.537,-999.0000,-999.000,  4115.0,-999.000,  1.2064,-999.000
    49RY9407_1,   P09,    24,  2,      4,    206,2,19940713,1405, 28.5177, 137.0148, 4680,   4319.9,   1.5563,  34.6819,2,  34.6819,2,    157.5,2,    157.6,2,   142.34,2,    36.48,2,     0.00,2,     2.52,2, -999.000,9, -999.000,9, -999.000,9,-999.0000,9,  -999.00,9,   -999.0,9,-999.000,9,   -999.0,9,   -999,  -999.0,-999.000,-999.0000,-999.000,  -999.0,-999.000,  1.2002,-999.000
    49RY9407_1,   P09,    24,  2,      2,    204,4,19940713,1405, 28.5177, 137.0148, 4680,   4577.1,   1.5813,  34.6814,2,  34.6825,2,    158.0,2,    155.8,2,   141.98,2,    36.43,2,     0.00,2,     2.51,2, -999.000,9, -999.000,9, -999.000,9,-999.0000,9,  -999.00,9,   -999.0,9,-999.000,9,   -999.0,9,   -999,  -999.0,   1.580,-999.0000,-999.000,  4576.0,-999.000,  1.1949,-999.000
    49RY9407_1,   P09,    24,  2,      3,    205,2,19940713,1405, 28.5177, 137.0148, 4680,   4577.1,   1.5813,  34.6814,2,  34.6829,2,    158.0,2,    159.4,2,   141.91,2,    36.41,2,     0.00,2,     2.51,2, -999.000,9, -999.000,9, -999.000,9,-999.0000,9,  -999.00,9,   -999.0,9,-999.000,9,   -999.0,9,   -999,  -999.0,-999.000,-999.0000,-999.000,  -999.0,-999.000,  1.1949,-999.000
    49RY9407_1,   P09,    25,  1,      0,      0,2,19940713,1857, 28.0058, 137.0000, 4160,      1.2,  28.9664,  34.3072,2,-999.0000,9,    154.0,4,    199.9,2,     1.28,2,     0.01,2,     0.00,2,     0.00,2, -999.000,9, -999.000,9, -999.000,9,-999.0000,9,  -999.00,9,   -999.0,9,-999.000,9,   -999.0,9,   -999,  -999.0,-999.000,-999.0000,-999.000,  -999.0,-999.000, 28.9661,-999.000
    49RY9407_1,   P09,    25,  1,     10,    214,2,19940713,1857, 28.0058, 137.0000, 4160,      9.7,  28.6608,  34.5097,2,  34.5306,2,    195.7,3,    202.6,2,     1.32,2,     0.02,2,     0.00,2,     0.01,2, -999.000,9, -999.000,9, -999.000,9,-999.0000,9,  -999.00,9,   -999.0,9,-999.000,9,   -999.0,9,   -999,  -999.0,-999.000,-999.0000,-999.000,  -999.0,-999.000, 28.6585,-999.000
    49RY9407_1,   P09,    25,  1,      9,    213,2,19940713,1857, 28.0058, 137.0000, 4160,     24.6,  25.6559,  34.4518,2,  34.4411,2,    216.1,2,    216.5,2,     1.53,2,     0.01,2,     0.00,2,     0.00,2, -999.000,9, -999.000,9, -999.000,9,-999.0000,9,  -999.00,9,   -999.0,9,-999.000,9,   -999.0,9,   -999,  -999.0,  25.880,-999.0000,-999.000,    28.0,-999.000, 25.6505,-999.000
    49RY9407_1,   P09,    25,  1,      8,    212,2,19940713,1857, 28.0058, 137.0000, 4160,     50.0,  22.6257,  34.7329,2,  34.7412,2,    228.1,2,    228.0,2,     1.61,2,     0.01,2,     0.00,2,     0.00,2, -999.000,9, -999.000,9, -999.000,9,-999.0000,9,  -999.00,9,   -999.0,9,-999.000,9,   -999.0,9,   -999,  -999.0,-999.000,-999.0000,-999.000,  -999.0,-999.000, 22.6156,-999.000
    49RY9407_1,   P09,    25,  1,      7,    210,2,19940713,1857, 28.0058, 137.0000, 4160,     74.8,  21.0067,  34.8927,2,  34.8905,2,    229.6,2,    229.2,2,     1.85,2,     0.02,2,     0.00,2,     0.01,2, -999.000,9, -999.000,9, -999.000,9,-999.0000,9,  -999.00,9,   -999.0,9,-999.000,9,   -999.0,9,   -999,  -999.0,-999.000,-999.0000,-999.000,  -999.0,-999.000, 20.9924,-999.000
    49RY9407_1,   P09,    25,  1,      6,    209,2,19940713,1857, 28.0058, 137.0000, 4160,    100.3,  19.9225,  34.9097,2,  34.9092,2,    217.1,2,    213.2,2,     2.25,2,     0.99,2,     0.07,2,     0.09,2, -999.000,9, -999.000,9, -999.000,9,-999.0000,9,  -999.00,9,   -999.0,9,-999.000,9,   -999.0,9,   -999,  -999.0,-999.000,-999.0000,-999.000,  -999.0,-999.000, 19.9040,-999.000
    49RY9407_1,   P09,    25,  1,      5,    229,2,19940713,1857, 28.0058, 137.0000, 4160,    125.1,  19.4644,  34.9050,2,  34.9071,2,    213.6,2,    210.8,2,     2.48,6,     1.83,6,     0.03,6,     0.14,6, -999.000,9, -999.000,9, -999.000,9,-999.0000,9,  -999.00,9,   -999.0,9,-999.000,9,   -999.0,9,   -999,  -999.0,  19.414,-999.0000,-999.000,   120.0,-999.000, 19.4417,-999.000
    49RY9407_1,   P09,    25,  1,      3,    205,2,19940713,1857, 28.0058, 137.0000, 4160,    151.4,  18.8868,  34.9006,2,  34.9065,2,    214.6,3,    219.9,2,     2.57,2,     2.00,2,     0.01,2,     0.15,2, -999.000,9, -999.000,9, -999.000,9,-999.0000,9,  -999.00,9,   -999.0,9,-999.000,9,   -999.0,9,   -999,  -999.0,-999.000,-999.0000,-999.000,  -999.0,-999.000, 18.8600,-999.000
    49RY9407_1,   P09,    25,  1,      4,    206,4,19940713,1857, 28.0058, 137.0000, 4160,    151.4,  18.8868,  34.9006,2,  34.8921,2,    214.6,3,    210.5,6,     2.73,2,     2.16,2,     0.02,2,     0.17,2, -999.000,9, -999.000,9, -999.000,9,-999.0000,9,  -999.00,9,   -999.0,9,-999.000,9,   -999.0,9,   -999,  -999.0,-999.000,-999.0000,-999.000,  -999.0,-999.000, 18.8600,-999.000
    49RY9407_1,   P09,    25,  1,      2,    204,2,19940713,1857, 28.0058, 137.0000, 4160,    202.0,  18.4297,  34.9108,2,-999.0000,9,    214.7,2,   -999.0,9,  -999.00,9,  -999.00,9,  -999.00,9,  -999.00,9, -999.000,9, -999.000,9, -999.000,9,-999.0000,9,  -999.00,9,   -999.0,9,-999.000,9,   -999.0,9,   -999,  -999.0,  18.441,-999.0000,-999.000,   201.0,-999.000, 18.3945,-999.000