BOTTLE,20020306WHPSIOdm
EXPOCODE,SECT_ID,STNNBR,CASTNO,SAMPNO,BTLNBR,BTLNBR_FLAG_W,DATE,TIME,LATITUDE,LONGITUDE,DEPTH,CTDPRS,CTDTMP,CTDSAL,CTDSAL_FLAG_W,SALNTY,SALNTY_FLAG_W,CTDOXY,CTDOXY_FLAG_W,OXYGEN,OXYGEN_FLAG_W,SILCAT,SILCAT_FLAG_W,NITRAT,NITRAT_FLAG_W,NITRIT,NITRIT_FLAG_W,PHSPHT,PHSPHT_FLAG_W,CFC-11,CFC-11_FLAG_W,CFC-12,CFC-12_FLAG_W,TRITUM,TRITUM_FLAG_W,HELIUM,HELIUM_FLAG_W,DELHE3,DELHE3_FLAG_W,DELC14,DELC14_FLAG_W,NEON,NEON_FLAG_W,TCARBN,TCARBN_FLAG_W,CTDRAW,C14ERR,REVTMP,HELIER,DELHER,REVPRS,NEONER,THETA,TRITER
,,,,,,,,,,,,DBAR,ITS-90,PSS-78,,PSS-78,,UMOL/KG,,UMOL/KG,,UMOL/KG,,UMOL/KG,,UMOL/KG,,UMOL/KG,,PMOL/KG,,PMOL/KG,,TU,,NMOL/KG,,PERCNT,,/MILLE,,NMOL/KG,,UMOL/KG,,,/MILLE,ITS-90,NMOL/KG,PERCNT,DBAR,NMOL/KG,DEG C,TU
    49RY9407_1,   P09,    39,  2,     12,    217,2,19940721,1425, 21.0058, 137.1450, 4825,    301.8,  17.4109,  34.8019,2,  34.7972,2,    194.8,3,    202.1,2,     4.20,2,     4.85,2,     0.00,2,     0.35,2, -999.000,9, -999.000,9, -999.000,9,-999.0000,9,  -999.00,9,   -999.0,9,-999.000,9,   -999.0,9,   -999,  -999.0,-999.000,-999.0000,-999.000,  -999.0,-999.000, 17.3602,-999.000
    49RY9407_1,   P09,    39,  2,     11,    201,2,19940721,1425, 21.0058, 137.1450, 4825,    402.1,  14.8274,  34.6000,2,  34.5943,2,    184.7,2,    187.9,2,     9.97,2,    10.02,2,     0.00,2,     0.70,2, -999.000,9, -999.000,9, -999.000,9,-999.0000,9,  -999.00,9,   -999.0,9,-999.000,9,   -999.0,9,   -999,  -999.0,-999.000,-999.0000,-999.000,  -999.0,-999.000, 14.7668,-999.000
    49RY9407_1,   P09,    39,  2,     10,    214,2,19940721,1425, 21.0058, 137.1450, 4825,    504.2,  11.2452,  34.3179,2,  34.3116,2,    173.4,2,    171.8,2,    21.73,2,    17.67,2,     0.00,2,     1.26,2, -999.000,9, -999.000,9, -999.000,9,-999.0000,9,  -999.00,9,   -999.0,9,-999.000,9,   -999.0,9,   -999,  -999.0,-999.000,-999.0000,-999.000,  -999.0,-999.000, 11.1817,-999.000
    49RY9407_1,   P09,    39,  2,      9,    213,2,19940721,1425, 21.0058, 137.1450, 4825,    604.9,   7.9402,  34.1582,2,  34.1569,2,    132.3,3,    124.7,2,    45.69,6,    28.33,6,     0.00,6,     2.02,6, -999.000,9, -999.000,9, -999.000,9,-999.0000,9,  -999.00,9,   -999.0,9,-999.000,9,   -999.0,9,   -999,  -999.0,-999.000,-999.0000,-999.000,   612.0,-999.000,  7.8784,-999.000
    49RY9407_1,   P09,    39,  2,      8,    212,2,19940721,1425, 21.0058, 137.1450, 4825,    706.1,   6.3621,  34.1855,2,  34.1852,2,     87.8,2,     86.5,2,    67.19,2,    34.82,2,     0.00,2,     2.51,2, -999.000,9, -999.000,9, -999.000,9,-999.0000,9,  -999.00,9,   -999.0,9,-999.000,9,   -999.0,9,   -999,  -999.0,-999.000,-999.0000,-999.000,  -999.0,-999.000,  6.2978,-999.000
    49RY9407_1,   P09,    39,  2,      7,    203,2,19940721,1425, 21.0058, 137.1450, 4825,    808.0,   5.1572,  34.2543,2,  34.2563,2,     64.0,3,     69.4,6,    89.28,2,    38.58,2,     0.00,2,     2.77,2, -999.000,9, -999.000,9, -999.000,9,-999.0000,9,  -999.00,9,   -999.0,9,-999.000,9,   -999.0,9,   -999,  -999.0,-999.000,-999.0000,-999.000,   813.0,-999.000,  5.0903,-999.000
    49RY9407_1,   P09,    39,  2,      6,    209,2,19940721,1425, 21.0058, 137.1450, 4825,    907.6,   4.4055,  34.3475,2,  34.3492,2,     57.5,2,     60.0,2,   104.29,2,    40.38,2,     0.00,2,     2.90,2, -999.000,9, -999.000,9, -999.000,9,-999.0000,9,  -999.00,9,   -999.0,9,-999.000,9,   -999.0,9,   -999,  -999.0,-999.000,-999.0000,-999.000,  -999.0,-999.000,  4.3348,-999.000
    49RY9407_1,   P09,    39,  2,      5,    221,2,19940721,1425, 21.0058, 137.1450, 4825,   1007.8,   3.9925,  34.4158,2,  34.4153,2,     60.6,2,     61.8,2,   112.92,2,    40.79,2,     0.00,2,     2.92,2, -999.000,9, -999.000,9, -999.000,9,-999.0000,9,  -999.00,9,   -999.0,9,-999.000,9,   -999.0,9,   -999,  -999.0,   3.982,-999.0000,-999.000,  1010.0,-999.000,  3.9164,-999.000
    49RY9407_1,   P09,    39,  2,      4,    206,2,19940721,1425, 21.0058, 137.1450, 4825,   1262.3,   3.1427,  34.5008,2,  34.4995,2,     73.9,2,     76.6,2,   129.88,2,    40.84,2,     0.00,2,     2.91,2, -999.000,9, -999.000,9, -999.000,9,-999.0000,9,  -999.00,9,   -999.0,9,-999.000,9,   -999.0,9,   -999,  -999.0,-999.000,-999.0000,-999.000,  -999.0,-999.000,  3.0531,-999.000
    49RY9407_1,   P09,    39,  2,      3,    229,2,19940721,1425, 21.0058, 137.1450, 4825,   1514.9,   2.6111,  34.5640,2,  34.5612,2,     93.9,2,     92.7,2,   137.38,6,    39.81,6,     0.00,6,     2.81,6, -999.000,9, -999.000,9, -999.000,9,-999.0000,9,  -999.00,9,   -999.0,9,-999.000,9,   -999.0,9,   -999,  -999.0,   2.607,-999.0000,-999.000,  1511.0,-999.000,  2.5066,-999.000
    49RY9407_1,   P09,    39,  2,      2,    216,2,19940721,1425, 21.0058, 137.1450, 4825,   1768.1,   2.3195,  34.5990,2,  34.5984,2,    105.8,2,    106.3,2,   140.05,2,    39.28,2,     0.00,2,     2.77,2, -999.000,9, -999.000,9, -999.000,9,-999.0000,9,  -999.00,9,   -999.0,9,-999.000,9,   -999.0,9,   -999,  -999.0,-999.000,-999.0000,-999.000,  -999.0,-999.000,  2.1978,-999.000
    49RY9407_1,   P09,    39,  2,      1,    204,2,19940721,1425, 21.0058, 137.1450, 4825,   2015.4,   2.0947,  34.6191,2,  34.6159,2,    114.6,2,    114.8,2,   142.34,2,    38.94,2,     0.00,2,     2.74,2, -999.000,9, -999.000,9, -999.000,9,-999.0000,9,  -999.00,9,   -999.0,9,-999.000,9,   -999.0,9,   -999,  -999.0,   2.091,-999.0000,-999.000,  2010.0,-999.000,  1.9556,-999.000
    49RY9407_1,   P09,    39,  3,      0,      0,2,19940721,1556, 21.0000, 137.1848, 4630,      1.3,  29.1164,  34.4543,2,-999.0000,9,    168.4,4,    198.9,6,     1.09,2,     0.05,2,     0.00,2,     0.01,2, -999.000,9, -999.000,9, -999.000,9,-999.0000,9,  -999.00,9,   -999.0,9,-999.000,9,   -999.0,9,   -999,  -999.0,-999.000,-999.0000,-999.000,  -999.0,-999.000, 29.1161,-999.000
    49RY9407_1,   P09,    39,  3,      8,    212,2,19940721,1556, 21.0000, 137.1848, 4630,      9.5,  29.1236,  34.5240,2,  34.5273,2,    183.6,4,    197.7,6,     1.13,6,     0.03,6,     0.00,6,     0.00,6, -999.000,9, -999.000,9, -999.000,9,-999.0000,9,  -999.00,9,   -999.0,9,-999.000,9,   -999.0,9,   -999,  -999.0,-999.000,-999.0000,-999.000,  -999.0,-999.000, 29.1213,-999.000
    49RY9407_1,   P09,    39,  3,      7,    203,2,19940721,1556, 21.0000, 137.1848, 4630,     25.1,  29.1253,  34.5259,2,  34.5273,2,    187.9,4,    196.8,2,     1.12,2,     0.04,2,     0.00,2,     0.01,2, -999.000,9, -999.000,9, -999.000,9,-999.0000,9,  -999.00,9,   -999.0,9,-999.000,9,   -999.0,9,   -999,  -999.0,-999.000,-999.0000,-999.000,    29.0,-999.000, 29.1192,-999.000
    49RY9407_1,   P09,    39,  3,      6,    209,2,19940721,1556, 21.0000, 137.1848, 4630,     49.4,  27.8041,  34.8145,2,  34.8645,2,    202.1,3,    215.7,2,     1.09,2,     0.02,2,     0.00,2,     0.01,2, -999.000,9, -999.000,9, -999.000,9,-999.0000,9,  -999.00,9,   -999.0,9,-999.000,9,   -999.0,9,   -999,  -999.0,-999.000,-999.0000,-999.000,  -999.0,-999.000, 27.7926,-999.000
    49RY9407_1,   P09,    39,  3,      5,    221,2,19940721,1556, 21.0000, 137.1848, 4630,     75.8,  25.4093,  34.9009,2,  34.9023,2,    211.3,2,    213.7,2,     1.24,2,     0.01,2,     0.00,2,     0.01,2, -999.000,9, -999.000,9, -999.000,9,-999.0000,9,  -999.00,9,   -999.0,9,-999.000,9,   -999.0,9,   -999,  -999.0,  25.380,-999.0000,-999.000,    81.0,-999.000, 25.3926,-999.000
    49RY9407_1,   P09,    39,  3,      4,    206,2,19940721,1556, 21.0000, 137.1848, 4630,    101.2,  24.1800,  34.9154,2,  34.8978,2,    203.4,2,    206.2,2,     1.27,2,     0.01,2,     0.00,2,     0.03,2, -999.000,9, -999.000,9, -999.000,9,-999.0000,9,  -999.00,9,   -999.0,9,-999.000,9,   -999.0,9,   -999,  -999.0,-999.000,-999.0000,-999.000,  -999.0,-999.000, 24.1586,-999.000
    49RY9407_1,   P09,    39,  3,      3,    229,2,19940721,1556, 21.0000, 137.1848, 4630,    125.4,  22.9092,  34.9829,2,  34.9558,2,    194.8,2,    197.8,2,     1.64,2,     0.69,2,     0.04,2,     0.08,2, -999.000,9, -999.000,9, -999.000,9,-999.0000,9,  -999.00,9,   -999.0,9,-999.000,9,   -999.0,9,   -999,  -999.0,  22.820,-999.0000,-999.000,   125.0,-999.000, 22.8837,-999.000
    49RY9407_1,   P09,    39,  3,      2,    216,2,19940721,1556, 21.0000, 137.1848, 4630,    150.7,  22.0574,  34.9559,2,  34.9532,2,    195.5,3,    202.2,6,     1.64,2,     0.69,2,     0.04,2,     0.08,2, -999.000,9, -999.000,9, -999.000,9,-999.0000,9,  -999.00,9,   -999.0,9,-999.000,9,   -999.0,9,   -999,  -999.0,-999.000,-999.0000,-999.000,  -999.0,-999.000, 22.0276,-999.000
    49RY9407_1,   P09,    39,  3,      1,    204,2,19940721,1556, 21.0000, 137.1848, 4630,    201.5,  20.6684,  34.9932,2,  34.9884,2,    182.0,3,    190.8,2,     2.20,2,     2.13,2,     0.02,2,     0.19,2, -999.000,9, -999.000,9, -999.000,9,-999.0000,9,  -999.00,9,   -999.0,9,-999.000,9,   -999.0,9,   -999,  -999.0,  20.680,-999.0000,-999.000,   197.0,-999.000, 20.6302,-999.000
    49RY9407_1,   P09,    40,  1,     12,    217,2,19940721,0146, 20.4772, 137.0398, 4225,   1769.1,   2.2402,  34.6057,2,  34.6057,2,    110.4,2,    108.8,2,   140.61,2,    39.16,2,     0.00,2,     2.73,2, -999.000,9, -999.000,9, -999.000,9,-999.0000,9,  -999.00,9,   -999.0,9,-999.000,9,   -999.0,9,   -999,  -999.0,-999.000,-999.0000,-999.000,  -999.0,-999.000,  2.1196,-999.000
    49RY9407_1,   P09,    40,  1,     11,    201,2,19940721,0146, 20.4772, 137.0398, 4225,   2021.2,   2.0164,  34.6257,2,  34.6258,2,    118.6,2,    118.2,6,   143.03,2,    38.90,2,     0.00,2,     2.70,2, -999.000,9, -999.000,9, -999.000,9,-999.0000,9,  -999.00,9,   -999.0,9,-999.000,9,   -999.0,9,   -999,  -999.0,-999.000,-999.0000,-999.000,  -999.0,-999.000,  1.8779,-999.000
    49RY9407_1,   P09,    40,  1,     10,    214,2,19940721,0146, 20.4772, 137.0398, 4225,   2278.1,   1.8707,  34.6385,2,  34.6392,2,    126.1,2,    123.0,2,   144.28,2,    38.51,2,     0.00,2,     2.67,2, -999.000,9, -999.000,9, -999.000,9,-999.0000,9,  -999.00,9,   -999.0,9,-999.000,9,   -999.0,9,   -999,  -999.0,-999.000,-999.0000,-999.000,  -999.0,-999.000,  1.7126,-999.000
    49RY9407_1,   P09,    40,  1,      9,    213,2,19940721,0146, 20.4772, 137.0398, 4225,   2532.8,   1.7670,  34.6489,2,  34.6486,2,    131.9,2,    130.4,2,   144.71,2,    38.09,2,     0.00,2,     2.63,2, -999.000,9, -999.000,9, -999.000,9,-999.0000,9,  -999.00,9,   -999.0,9,-999.000,9,   -999.0,9,   -999,  -999.0,   1.545,-999.0000,-999.000,  3703.0,-999.000,  1.5881,-999.000
    49RY9407_1,   P09,    40,  1,      8,    212,2,19940721,0146, 20.4772, 137.0398, 4225,   2785.8,   1.7005,  34.6566,2,  34.6553,2,    137.3,2,    136.9,2,   144.34,2,    37.77,2,     0.00,2,     2.60,2, -999.000,9, -999.000,9, -999.000,9,-999.0000,9,  -999.00,9,   -999.0,9,-999.000,9,   -999.0,9,   -999,  -999.0,-999.000,-999.0000,-999.000,  -999.0,-999.000,  1.4997,-999.000
    49RY9407_1,   P09,    40,  1,      7,    203,2,19940721,0146, 20.4772, 137.0398, 4225,   3042.4,   1.6331,  34.6645,2,  34.6640,2,    140.7,2,    139.9,3,   144.17,6,    37.44,6,     0.00,6,     2.58,6, -999.000,9, -999.000,9, -999.000,9,-999.0000,9,  -999.00,9,   -999.0,9,-999.000,9,   -999.0,9,   -999,  -999.0,-999.000,-999.0000,-999.000,  3038.0,-999.000,  1.4093,-999.000
    49RY9407_1,   P09,    40,  1,      6,    209,2,19940721,0146, 20.4772, 137.0398, 4225,   3296.0,   1.5955,  34.6694,2,  34.6707,2,    147.5,2,    146.0,2,   143.61,2,    37.18,2,     0.00,2,     2.55,2, -999.000,9, -999.000,9, -999.000,9,-999.0000,9,  -999.00,9,   -999.0,9,-999.000,9,   -999.0,9,   -999,  -999.0,-999.000,-999.0000,-999.000,  -999.0,-999.000,  1.3477,-999.000
    49RY9407_1,   P09,    40,  1,      5,    221,2,19940721,0146, 20.4772, 137.0398, 4225,   3550.3,   1.5625,  34.6756,2,  34.6748,2,    151.3,2,    148.7,2,   143.03,2,    36.92,2,     0.01,2,     2.55,2, -999.000,9, -999.000,9, -999.000,9,-999.0000,9,  -999.00,9,   -999.0,9,-999.000,9,   -999.0,9,   -999,  -999.0,  11.323,-999.0000,-999.000,   504.0,-999.000,  1.2897,-999.000
    49RY9407_1,   P09,    40,  1,      4,    206,2,19940721,0146, 20.4772, 137.0398, 4225,   3808.5,   1.5408,  34.6787,2,  34.6790,2,    153.8,2,    155.1,2,   142.21,2,    36.71,2,     0.00,2,     2.52,2, -999.000,9, -999.000,9, -999.000,9,-999.0000,9,  -999.00,9,   -999.0,9,-999.000,9,   -999.0,9,   -999,  -999.0,-999.000,-999.0000,-999.000,  -999.0,-999.000,  1.2414,-999.000
    49RY9407_1,   P09,    40,  1,      3,    229,2,19940721,0146, 20.4772, 137.0398, 4225,   4062.9,   1.5121,  34.6833,2,  34.6833,2,    158.9,2,    157.4,2,   141.31,2,    36.33,2,     0.01,2,     2.50,2, -999.000,9, -999.000,9, -999.000,9,-999.0000,9,  -999.00,9,   -999.0,9,-999.000,9,   -999.0,9,   -999,  -999.0,   1.508,-999.0000,-999.000,  4060.0,-999.000,  1.1860,-999.000
    49RY9407_1,   P09,    40,  1,      2,    216,2,19940721,0146, 20.4772, 137.0398, 4225,   4318.6,   1.5188,  34.6844,2,  34.6849,2,    162.6,2,    160.6,2,   140.67,2,    36.23,2,     0.01,2,     2.49,2, -999.000,9, -999.000,9, -999.000,9,-999.0000,9,  -999.00,9,   -999.0,9,-999.000,9,   -999.0,9,   -999,  -999.0,-999.000,-999.0000,-999.000,  -999.0,-999.000,  1.1640,-999.000
    49RY9407_1,   P09,    40,  1,      1,    204,2,19940721,0146, 20.4772, 137.0398, 4225,   4547.2,   1.5403,  34.6851,2,  34.6833,3,    164.6,2,    160.2,6,   140.62,6,    36.18,6,     0.00,6,     2.49,6, -999.000,9, -999.000,9, -999.000,9,-999.0000,9,  -999.00,9,   -999.0,9,-999.000,9,   -999.0,9,   -999,  -999.0,   1.536,-999.0000,-999.000,  4541.0,-999.000,  1.1586,-999.000
    49RY9407_1,   P09,    40,  2,     11,    201,2,19940721,0402, 20.4610, 137.0720, 3870,    202.0,  20.4301,  34.9535,2,  34.9465,2,    202.6,2,   -999.0,5,     2.03,2,     1.23,2,     0.02,2,     0.11,2, -999.000,9, -999.000,9, -999.000,9,-999.0000,9,  -999.00,9,   -999.0,9,-999.000,9,   -999.0,9,   -999,  -999.0,-999.000,-999.0000,-999.000,  -999.0,-999.000, 20.3921,-999.000
    49RY9407_1,   P09,    40,  2,     10,    214,2,19940721,0402, 20.4610, 137.0720, 3870,    301.7,  17.6725,  34.8068,2,  34.8124,2,    201.0,2,    200.9,2,     4.10,2,     4.56,2,     0.01,2,     0.31,2, -999.000,9, -999.000,9, -999.000,9,-999.0000,9,  -999.00,9,   -999.0,9,-999.000,9,   -999.0,9,   -999,  -999.0,-999.000,-999.0000,-999.000,  -999.0,-999.000, 17.6213,-999.000
    49RY9407_1,   P09,    40,  2,      9,    213,2,19940721,0402, 20.4610, 137.0720, 3870,    402.3,  14.6218,  34.5738,2,  34.5777,2,    183.3,3,    188.6,2,    10.31,2,    10.30,2,     0.01,2,     0.72,2, -999.000,9, -999.000,9, -999.000,9,-999.0000,9,  -999.00,9,   -999.0,9,-999.000,9,   -999.0,9,   -999,  -999.0,   2.607,-999.0000,-999.000,  1477.0,-999.000, 14.5618,-999.000
    49RY9407_1,   P09,    40,  2,      8,    212,2,19940721,0402, 20.4610, 137.0720, 3870,    502.1,  11.0187,  34.2904,2,  34.2874,2,    168.2,2,    167.6,2,    22.01,2,    18.27,2,     0.00,2,     1.30,2, -999.000,9, -999.000,9, -999.000,9,-999.0000,9,  -999.00,9,   -999.0,9,-999.000,9,   -999.0,9,   -999,  -999.0,-999.000,-999.0000,-999.000,  -999.0,-999.000, 10.9564,-999.000
    49RY9407_1,   P09,    40,  2,      7,    203,2,19940721,0402, 20.4610, 137.0720, 3870,    605.7,   8.2576,  34.1640,2,  34.1643,2,    129.1,2,    131.5,2,    42.01,2,    27.12,2,     0.00,2,     1.93,2, -999.000,9, -999.000,9, -999.000,9,-999.0000,9,  -999.00,9,   -999.0,9,-999.000,9,   -999.0,9,   -999,  -999.0,-999.000,-999.0000,-999.000,  -999.0,-999.000,  8.1943,-999.000
    49RY9407_1,   P09,    40,  2,      6,    209,2,19940721,0402, 20.4610, 137.0720, 3870,    707.0,   6.4995,  34.1658,2,  34.1801,3,     85.4,2,     89.7,2,    64.49,6,    34.29,6,     0.00,6,     2.45,6, -999.000,9, -999.000,9, -999.000,9,-999.0000,9,  -999.00,9,   -999.0,9,-999.000,9,   -999.0,9,   -999,  -999.0,-999.000,-999.0000,-999.000,  -999.0,-999.000,  6.4344,-999.000
    49RY9407_1,   P09,    40,  2,      5,    221,2,19940721,0402, 20.4610, 137.0720, 3870,    806.7,   5.3394,  34.2492,2,  34.2514,2,     62.0,2,     66.6,2,    84.68,2,    38.38,2,     0.00,2,     2.74,2, -999.000,9, -999.000,9, -999.000,9,-999.0000,9,  -999.00,9,   -999.0,9,-999.000,9,   -999.0,9,   -999,  -999.0,   5.328,-999.0000,-999.000,   807.0,-999.000,  5.2715,-999.000
    49RY9407_1,   P09,    40,  2,      4,    206,2,19940721,0402, 20.4610, 137.0720, 3870,    904.8,   4.5042,  34.3522,2,  34.3494,2,     55.9,3,     65.5,2,   101.91,2,    40.20,2,     0.00,2,     2.86,2, -999.000,9, -999.000,9, -999.000,9,-999.0000,9,  -999.00,9,   -999.0,9,-999.000,9,   -999.0,9,   -999,  -999.0,-999.000,-999.0000,-999.000,  -999.0,-999.000,  4.4331,-999.000
    49RY9407_1,   P09,    40,  2,      3,    229,2,19940721,0402, 20.4610, 137.0720, 3870,   1007.5,   3.9900,  34.4060,2,  34.4041,2,     57.4,2,     61.0,6,   112.62,6,    40.82,6,     0.00,6,     2.90,6, -999.000,9, -999.000,9, -999.000,9,-999.0000,9,  -999.00,9,   -999.0,9,-999.000,9,   -999.0,9,   -999,  -999.0,   3.992,-999.0000,-999.000,  1006.0,-999.000,  3.9140,-999.000
    49RY9407_1,   P09,    40,  2,      2,    216,2,19940721,0402, 20.4610, 137.0720, 3870,   1262.1,   3.0369,  34.4959,2,  34.4958,2,     71.6,2,     72.9,2,   132.44,2,    40.94,2,     0.00,2,     2.90,2, -999.000,9, -999.000,9, -999.000,9,-999.0000,9,  -999.00,9,   -999.0,9,-999.000,9,   -999.0,9,   -999,  -999.0,-999.000,-999.0000,-999.000,  -999.0,-999.000,  2.9483,-999.000
    49RY9407_1,   P09,    40,  2,      1,    204,2,19940721,0402, 20.4610, 137.0720, 3870,   1516.8,   2.5684,  34.5662,2,  34.5671,2,     97.1,2,     94.7,2,   137.67,2,    39.71,2,     0.00,2,     2.79,2, -999.000,9, -999.000,9, -999.000,9,-999.0000,9,  -999.00,9,   -999.0,9,-999.000,9,   -999.0,9,   -999,  -999.0,   2.565,-999.0000,-999.000,  1514.0,-999.000,  2.4642,-999.000