BOTTLE,20020306WHPSIOdm
EXPOCODE,SECT_ID,STNNBR,CASTNO,SAMPNO,BTLNBR,BTLNBR_FLAG_W,DATE,TIME,LATITUDE,LONGITUDE,DEPTH,CTDPRS,CTDTMP,CTDSAL,CTDSAL_FLAG_W,SALNTY,SALNTY_FLAG_W,CTDOXY,CTDOXY_FLAG_W,OXYGEN,OXYGEN_FLAG_W,SILCAT,SILCAT_FLAG_W,NITRAT,NITRAT_FLAG_W,NITRIT,NITRIT_FLAG_W,PHSPHT,PHSPHT_FLAG_W,CFC-11,CFC-11_FLAG_W,CFC-12,CFC-12_FLAG_W,TRITUM,TRITUM_FLAG_W,HELIUM,HELIUM_FLAG_W,DELHE3,DELHE3_FLAG_W,DELC14,DELC14_FLAG_W,NEON,NEON_FLAG_W,TCARBN,TCARBN_FLAG_W,CTDRAW,C14ERR,REVTMP,HELIER,DELHER,REVPRS,NEONER,THETA,TRITER
,,,,,,,,,,,,DBAR,ITS-90,PSS-78,,PSS-78,,UMOL/KG,,UMOL/KG,,UMOL/KG,,UMOL/KG,,UMOL/KG,,UMOL/KG,,PMOL/KG,,PMOL/KG,,TU,,NMOL/KG,,PERCNT,,/MILLE,,NMOL/KG,,UMOL/KG,,,/MILLE,ITS-90,NMOL/KG,PERCNT,DBAR,NMOL/KG,DEG C,TU
    49RY9407_2,   P09,    72,  2,     10,    224,2,19940809,0706,  6.2805, 137.7260, 4390,    302.6,   8.9718,  34.6095,2,  34.6064,2,   -999.0,9,     56.8,2,    38.64,2,    34.47,2,     0.00,2,     2.38,2, -999.000,9, -999.000,9, -999.000,9,-999.0000,9,  -999.00,9,   -999.0,9,-999.000,9,   -999.0,9,   -999,  -999.0,-999.000,-999.0000,-999.000,  -999.0,-999.000,  8.9389,-999.000
    49RY9407_2,   P09,    72,  2,      9,    223,2,19940809,0706,  6.2805, 137.7260, 4390,    402.5,   8.3228,  34.5850,2,  34.5907,2,   -999.0,9,     67.2,2,    41.02,2,    34.84,2,     0.00,2,     2.41,2, -999.000,9, -999.000,9, -999.000,9,-999.0000,9,  -999.00,9,   -999.0,9,-999.000,9,   -999.0,9,   -999,  -999.0,-999.000,-999.0000,-999.000,  -999.0,-999.000,  8.2808,-999.000
    49RY9407_2,   P09,    72,  2,      8,    212,3,19940809,0706,  6.2805, 137.7260, 4390,    503.2,   7.5819,  34.5691,2,  34.5682,2,   -999.0,9,     75.5,6,    46.31,2,    35.44,2,     0.00,2,     2.45,2, -999.000,9, -999.000,9, -999.000,9,-999.0000,9,  -999.00,9,   -999.0,9,-999.000,9,   -999.0,9,   -999,  -999.0,-999.000,-999.0000,-999.000,  -999.0,-999.000,  7.5319,-999.000
    49RY9407_2,   P09,    72,  2,      7,    220,2,19940809,0706,  6.2805, 137.7260, 4390,    603.5,   6.8601,  34.5466,2,  34.5448,2,   -999.0,9,     77.9,2,    54.23,2,    36.49,2,     0.01,2,     2.54,2, -999.000,9, -999.000,9, -999.000,9,-999.0000,9,  -999.00,9,   -999.0,9,-999.000,9,   -999.0,9,   -999,  -999.0,-999.000,-999.0000,-999.000,  -999.0,-999.000,  6.8029,-999.000
    49RY9407_2,   P09,    72,  2,      6,    209,2,19940809,0706,  6.2805, 137.7260, 4390,    703.8,   6.2063,  34.5362,2,  34.5303,2,   -999.0,9,     87.6,3,    61.43,2,    36.72,2,     0.00,2,     2.57,2, -999.000,9, -999.000,9, -999.000,9,-999.0000,9,  -999.00,9,   -999.0,9,-999.000,9,   -999.0,9,   -999,  -999.0,-999.000,-999.0000,-999.000,  -999.0,-999.000,  6.1427,-999.000
    49RY9407_2,   P09,    72,  2,      5,    218,2,19940809,0706,  6.2805, 137.7260, 4390,    804.1,   5.7061,  34.5331,2,  34.5303,2,   -999.0,9,     86.1,2,    70.08,2,    37.69,2,     0.00,2,     2.64,2, -999.000,9, -999.000,9, -999.000,9,-999.0000,9,  -999.00,9,   -999.0,9,-999.000,9,   -999.0,9,   -999,  -999.0,-999.000,-999.0000,-999.000,  -999.0,-999.000,  5.6359,-999.000
    49RY9407_2,   P09,    72,  2,      4,    206,2,19940809,0706,  6.2805, 137.7260, 4390,    906.4,   5.2057,  34.5326,2,  34.5354,2,   -999.0,9,     87.7,2,    79.03,6,    38.23,6,     0.00,6,     2.69,6, -999.000,9, -999.000,9, -999.000,9,-999.0000,9,  -999.00,9,   -999.0,9,-999.000,9,   -999.0,9,   -999,  -999.0,-999.000,-999.0000,-999.000,  -999.0,-999.000,  5.1293,-999.000
    49RY9407_2,   P09,    72,  2,      3,    205,2,19940809,0706,  6.2805, 137.7260, 4390,   1006.3,   4.5820,  34.5485,2,  34.5480,2,   -999.0,9,     90.3,2,    90.82,2,    38.65,2,     0.00,2,     2.71,2, -999.000,9, -999.000,9, -999.000,9,-999.0000,9,  -999.00,9,   -999.0,9,-999.000,9,   -999.0,9,   -999,  -999.0,-999.000,-999.0000,-999.000,  -999.0,-999.000,  4.5012,-999.000
    49RY9407_2,   P09,    72,  2,      2,    216,2,19940809,0706,  6.2805, 137.7260, 4390,   1261.1,   3.5390,  34.5747,2,  34.5777,2,   -999.0,9,     95.5,2,   111.78,2,    39.26,2,     0.00,2,     2.76,2, -999.000,9, -999.000,9, -999.000,9,-999.0000,9,  -999.00,9,   -999.0,9,-999.000,9,   -999.0,9,   -999,  -999.0,-999.000,-999.0000,-999.000,  -999.0,-999.000,  3.4454,-999.000
    49RY9407_2,   P09,    72,  2,      1,    201,2,19940809,0706,  6.2805, 137.7260, 4390,   1512.9,   2.9188,  34.6016,2,  34.6025,2,   -999.0,9,    100.3,2,   125.06,2,    39.51,2,     0.00,2,     2.77,2, -999.000,9, -999.000,9, -999.000,9,-999.0000,9,  -999.00,9,   -999.0,9,-999.000,9,   -999.0,9,   -999,  -999.0,-999.000,-999.0000,-999.000,  -999.0,-999.000,  2.8107,-999.000
    49RY9407_2,   P09,    72,  2,     24,    222,2,19940809,0706,  6.2805, 137.7260, 4390,   1766.0,   2.4995,  34.6209,2,  34.6198,2,   -999.0,9,    107.4,2,   133.17,2,    39.22,2,     0.00,2,     2.74,2, -999.000,9, -999.000,9, -999.000,9,-999.0000,9,  -999.00,9,   -999.0,9,-999.000,9,   -999.0,9,   -999,  -999.0,-999.000,-999.0000,-999.000,  -999.0,-999.000,  2.3755,-999.000
    49RY9407_2,   P09,    72,  2,     23,    228,2,19940809,0706,  6.2805, 137.7260, 4390,   2020.6,   2.2051,  34.6346,2,  34.6355,2,   -999.0,9,    115.5,2,   138.32,6,    38.88,6,     0.00,6,     2.72,6, -999.000,9, -999.000,9, -999.000,9,-999.0000,9,  -999.00,9,   -999.0,9,-999.000,9,   -999.0,9,   -999,  -999.0,-999.000,-999.0000,-999.000,  -999.0,-999.000,  2.0638,-999.000
    49RY9407_2,   P09,    72,  2,     21,    226,4,19940809,0706,  6.2805, 137.7260, 4390,   2275.0,   1.9517,  34.6487,2,  34.6520,3,   -999.0,9,    124.3,6,   141.91,2,    38.40,2,     0.00,2,     2.66,2, -999.000,9, -999.000,9, -999.000,9,-999.0000,9,  -999.00,9,   -999.0,9,-999.000,9,   -999.0,9,   -999,  -999.0,-999.000,-999.0000,-999.000,  -999.0,-999.000,  1.7924,-999.000
    49RY9407_2,   P09,    72,  2,     22,    227,2,19940809,0706,  6.2805, 137.7260, 4390,   2275.0,   1.9517,  34.6487,2,  34.6489,2,   -999.0,9,    124.6,2,   142.07,2,    38.54,2,     0.00,2,     2.66,2, -999.000,9, -999.000,9, -999.000,9,-999.0000,9,  -999.00,9,   -999.0,9,-999.000,9,   -999.0,9,   -999,  -999.0,-999.000,-999.0000,-999.000,  -999.0,-999.000,  1.7924,-999.000
    49RY9407_2,   P09,    72,  2,     19,    210,2,19940809,0706,  6.2805, 137.7260, 4390,   2784.3,   1.6407,  34.6675,2,  34.6678,2,   -999.0,9,    139.7,2,   144.38,2,    37.52,2,     0.00,2,     2.58,2, -999.000,9, -999.000,9, -999.000,9,-999.0000,9,  -999.00,9,   -999.0,9,-999.000,9,   -999.0,9,   -999,  -999.0,-999.000,-999.0000,-999.000,  -999.0,-999.000,  1.4412,-999.000
    49RY9407_2,   P09,    72,  2,     20,    203,2,19940809,0706,  6.2805, 137.7260, 4390,   2784.3,   1.6407,  34.6675,2,  34.6668,2,   -999.0,9,    139.9,2,   144.36,2,    37.42,2,     0.00,2,     2.58,2, -999.000,9, -999.000,9, -999.000,9,-999.0000,9,  -999.00,9,   -999.0,9,-999.000,9,   -999.0,9,   -999,  -999.0,-999.000,-999.0000,-999.000,  2783.0,-999.000,  1.4412,-999.000
    49RY9407_2,   P09,    72,  2,     18,    221,2,19940809,0706,  6.2805, 137.7260, 4390,   3040.3,   1.5998,  34.6714,2,  34.6701,2,   -999.0,9,    143.5,2,   143.68,6,    37.15,6,     0.00,6,     2.56,6, -999.000,9, -999.000,9, -999.000,9,-999.0000,9,  -999.00,9,   -999.0,9,-999.000,9,   -999.0,9,   -999,  -999.0,-999.000,-999.0000,-999.000,  3041.0,-999.000,  1.3770,-999.000
    49RY9407_2,   P09,    72,  2,     17,    219,2,19940809,0706,  6.2805, 137.7260, 4390,   3294.0,   1.5611,  34.6759,2,  34.6735,2,   -999.0,9,    146.8,2,   143.57,2,    36.89,2,     0.00,2,     2.54,2, -999.000,9, -999.000,9, -999.000,9,-999.0000,9,  -999.00,9,   -999.0,9,-999.000,9,   -999.0,9,   -999,  -999.0,-999.000,-999.0000,-999.000,  -999.0,-999.000,  1.3143,-999.000
    49RY9407_2,   P09,    72,  2,     16,    229,2,19940809,0706,  6.2805, 137.7260, 4390,   3550.2,   1.5392,  34.6785,2,  34.6774,2,   -999.0,9,    150.4,2,   143.22,2,    36.72,2,     0.00,2,     2.53,2, -999.000,9, -999.000,9, -999.000,9,-999.0000,9,  -999.00,9,   -999.0,9,-999.000,9,   -999.0,9,   -999,  -999.0,   1.532,-999.0000,-999.000,  3550.0,-999.000,  1.2669,-999.000
    49RY9407_2,   P09,    72,  2,     15,    217,2,19940809,0706,  6.2805, 137.7260, 4390,   3806.8,   1.5240,  34.6823,2,  34.6817,6,   -999.0,9,    153.1,2,   142.57,2,    36.62,2,     0.00,2,     2.48,2, -999.000,9, -999.000,9, -999.000,9,-999.0000,9,  -999.00,9,   -999.0,9,-999.000,9,   -999.0,9,   -999,  -999.0,-999.000,-999.0000,-999.000,  -999.0,-999.000,  1.2253,-999.000
    49RY9407_2,   P09,    72,  2,     14,    204,2,19940809,0706,  6.2805, 137.7260, 4390,   4061.4,   1.5164,  34.6849,2,  34.6845,2,   -999.0,9,    155.9,2,   142.33,2,    36.38,2,     0.00,2,     2.48,2, -999.000,9, -999.000,9, -999.000,9,-999.0000,9,  -999.00,9,   -999.0,9,-999.000,9,   -999.0,9,   -999,  -999.0,   1.513,-999.0000,-999.000,  4060.0,-999.000,  1.1903,-999.000
    49RY9407_2,   P09,    72,  2,     13,    214,2,19940809,0706,  6.2805, 137.7260, 4390,   4318.0,   1.5109,  34.6870,2,  34.6869,2,   -999.0,9,    158.7,2,   140.35,2,    36.14,2,     0.00,2,     2.47,2, -999.000,9, -999.000,9, -999.000,9,-999.0000,9,  -999.00,9,   -999.0,9,-999.000,9,   -999.0,9,   -999,  -999.0,-999.000,-999.0000,-999.000,  4316.0,-999.000,  1.1564,-999.000
    49RY9407_2,   P09,    72,  2,     12,    213,4,19940809,0706,  6.2805, 137.7260, 4390,   4446.7,   1.5048,  34.6891,2,  34.6880,6,   -999.0,9,    161.2,2,   140.29,2,    36.00,2,     0.00,2,     2.46,2, -999.000,9, -999.000,9, -999.000,9,-999.0000,9,  -999.00,9,   -999.0,9,-999.000,9,   -999.0,9,   -999,  -999.0,-999.000,-999.0000,-999.000,  4444.0,-999.000,  1.1358,-999.000
    49RY9407_2,   P09,    73,  1,      0,      0,2,19940809,1116,  5.9223, 138.0733, 4210,      0.0,  29.3922,  33.6684,2,-999.0000,9,   -999.0,9,    197.6,6,     1.34,2,     0.01,2,     0.00,2,     0.01,2, -999.000,9, -999.000,9, -999.000,9,-999.0000,9,  -999.00,9,   -999.0,9,-999.000,9,   -999.0,9,   -999,  -999.0,-999.000,-999.0000,-999.000,  -999.0,-999.000, 29.3923,-999.000
    49RY9407_2,   P09,    73,  1,     21,    226,2,19940809,1116,  5.9223, 138.0733, 4210,     10.6,  29.1455,  33.6955,2,  33.7038,2,   -999.0,9,    201.1,2,     1.47,2,     0.02,2,     0.00,2,     0.01,2, -999.000,9, -999.000,9, -999.000,9,-999.0000,9,  -999.00,9,   -999.0,9,-999.000,9,   -999.0,9,   -999,  -999.0,-999.000,-999.0000,-999.000,  -999.0,-999.000, 29.1430,-999.000
    49RY9407_2,   P09,    73,  1,     20,    203,2,19940809,1116,  5.9223, 138.0733, 4210,     26.4,  28.5583,  33.6883,2,  33.6844,2,   -999.0,9,    200.1,2,     1.52,2,     0.02,2,     0.00,2,     0.01,2, -999.000,9, -999.000,9, -999.000,9,-999.0000,9,  -999.00,9,   -999.0,9,-999.000,9,   -999.0,9,   -999,  -999.0,-999.000,-999.0000,-999.000,    31.0,-999.000, 28.5520,-999.000
    49RY9407_2,   P09,    73,  1,     19,    210,2,19940809,1116,  5.9223, 138.0733, 4210,     50.3,  28.2287,  33.8760,2,  33.9331,2,   -999.0,9,    201.7,2,     1.55,2,     0.03,2,     0.00,2,     0.03,2, -999.000,9, -999.000,9, -999.000,9,-999.0000,9,  -999.00,9,   -999.0,9,-999.000,9,   -999.0,9,   -999,  -999.0,-999.000,-999.0000,-999.000,  -999.0,-999.000, 28.2168,-999.000
    49RY9407_2,   P09,    73,  1,     18,    221,2,19940809,1116,  5.9223, 138.0733, 4210,     76.0,  23.5078,  34.8124,2,  34.8044,2,   -999.0,9,    192.7,2,     2.57,2,     0.03,2,     0.00,2,     0.16,2, -999.000,9, -999.000,9, -999.000,9,-999.0000,9,  -999.00,9,   -999.0,9,-999.000,9,   -999.0,9,   -999,  -999.0,-999.000,-999.0000,-999.000,    80.0,-999.000, 23.4921,-999.000
    49RY9407_2,   P09,    73,  1,     17,    219,2,19940809,1116,  5.9223, 138.0733, 4210,    101.1,  18.0535,  34.7984,2,  34.8132,2,   -999.0,9,    150.5,6,     9.16,2,     9.95,2,     0.08,2,     0.75,2, -999.000,9, -999.000,9, -999.000,9,-999.0000,9,  -999.00,9,   -999.0,9,-999.000,9,   -999.0,9,   -999,  -999.0,-999.000,-999.0000,-999.000,  -999.0,-999.000, 18.0362,-999.000
    49RY9407_2,   P09,    73,  1,     16,    229,2,19940809,1116,  5.9223, 138.0733, 4210,    126.2,  16.1174,  34.7665,2,  34.7077,2,   -999.0,9,    136.8,2,    14.19,2,    14.85,2,     0.03,2,     1.04,2, -999.000,9, -999.000,9, -999.000,9,-999.0000,9,  -999.00,9,   -999.0,9,-999.000,9,   -999.0,9,   -999,  -999.0,  16.176,-999.0000,-999.000,   124.0,-999.000, 16.0974,-999.000
    49RY9407_2,   P09,    73,  1,     15,    217,2,19940809,1116,  5.9223, 138.0733, 4210,    151.8,  14.0852,  34.5885,2,  34.6147,2,   -999.0,9,    125.1,2,    19.21,6,    18.57,6,     0.01,6,     1.30,6, -999.000,9, -999.000,9, -999.000,9,-999.0000,9,  -999.00,9,   -999.0,9,-999.000,9,   -999.0,9,   -999,  -999.0,-999.000,-999.0000,-999.000,  -999.0,-999.000, 14.0633,-999.000
    49RY9407_2,   P09,    73,  1,     14,    204,2,19940809,1116,  5.9223, 138.0733, 4210,    202.1,  10.7607,  34.5339,2,  34.5358,2,   -999.0,9,     88.8,2,    31.24,2,    27.57,2,     0.00,2,     1.92,2, -999.000,9, -999.000,9, -999.000,9,-999.0000,9,  -999.00,9,   -999.0,9,-999.000,9,   -999.0,9,   -999,  -999.0,  10.835,-999.0000,-999.000,   201.0,-999.000, 10.7363,-999.000
    49RY9407_2,   P09,    73,  1,     12,    213,2,19940809,1116,  5.9223, 138.0733, 4210,    303.0,   8.9949,  34.5906,2,  34.5848,2,   -999.0,9,     63.1,2,    39.17,6,    33.56,6,     0.00,6,     2.34,6, -999.000,9, -999.000,9, -999.000,9,-999.0000,9,  -999.00,9,   -999.0,9,-999.000,9,   -999.0,9,   -999,  -999.0,-999.000,-999.0000,-999.000,   153.0,-999.000,  8.9620,-999.000
    49RY9407_2,   P09,    73,  1,     13,    214,4,19940809,1116,  5.9223, 138.0733, 4210,    303.0,   8.9949,  34.5906,2,  34.5848,2,   -999.0,9,     63.2,2,    39.16,2,    33.57,2,     0.00,2,     2.34,2, -999.000,9, -999.000,9, -999.000,9,-999.0000,9,  -999.00,9,   -999.0,9,-999.000,9,   -999.0,9,   -999,  -999.0,-999.000,-999.0000,-999.000,   258.0,-999.000,  8.9620,-999.000