BOTTLE,20020306WHPSIOdm
EXPOCODE,SECT_ID,STNNBR,CASTNO,SAMPNO,BTLNBR,BTLNBR_FLAG_W,DATE,TIME,LATITUDE,LONGITUDE,DEPTH,CTDPRS,CTDTMP,CTDSAL,CTDSAL_FLAG_W,SALNTY,SALNTY_FLAG_W,CTDOXY,CTDOXY_FLAG_W,OXYGEN,OXYGEN_FLAG_W,SILCAT,SILCAT_FLAG_W,NITRAT,NITRAT_FLAG_W,NITRIT,NITRIT_FLAG_W,PHSPHT,PHSPHT_FLAG_W,CFC-11,CFC-11_FLAG_W,CFC-12,CFC-12_FLAG_W,TRITUM,TRITUM_FLAG_W,HELIUM,HELIUM_FLAG_W,DELHE3,DELHE3_FLAG_W,DELC14,DELC14_FLAG_W,NEON,NEON_FLAG_W,TCARBN,TCARBN_FLAG_W,CTDRAW,C14ERR,REVTMP,HELIER,DELHER,REVPRS,NEONER,THETA,TRITER
,,,,,,,,,,,,DBAR,ITS-90,PSS-78,,PSS-78,,UMOL/KG,,UMOL/KG,,UMOL/KG,,UMOL/KG,,UMOL/KG,,UMOL/KG,,PMOL/KG,,PMOL/KG,,TU,,NMOL/KG,,PERCNT,,/MILLE,,NMOL/KG,,UMOL/KG,,,/MILLE,ITS-90,NMOL/KG,PERCNT,DBAR,NMOL/KG,DEG C,TU
    49RY9407_2,   P09,    68,  2,      7,    220,2,19940808,0538,  7.5032, 136.8428, 3185,    150.2,  14.9913,  34.7600,2,  34.6483,2,    138.7,2,    143.1,2,    13.75,3,    14.25,2,     0.01,2,     1.02,2, -999.000,9, -999.000,9, -999.000,9,-999.0000,9,  -999.00,9,   -999.0,9,-999.000,9,   -999.0,9,   -999,  -999.0,-999.000,-999.0000,-999.000,  -999.0,-999.000, 14.9686,-999.000
    49RY9407_2,   P09,    68,  2,      6,    209,2,19940808,0538,  7.5032, 136.8428, 3185,    201.1,  11.2950,  34.5266,2,  34.5271,2,     95.2,2,     95.8,2,    28.68,3,    25.88,2,     0.00,2,     1.82,2, -999.000,9, -999.000,9, -999.000,9,-999.0000,9,  -999.00,9,   -999.0,9,-999.000,9,   -999.0,9,   -999,  -999.0,-999.000,-999.0000,-999.000,  -999.0,-999.000, 11.2699,-999.000
    49RY9407_2,   P09,    68,  2,      5,    218,2,19940808,0538,  7.5032, 136.8428, 3185,    301.8,   9.0818,  34.5700,2,  34.5720,2,     65.1,2,     63.2,2,    39.07,3,    33.40,2,     0.00,2,     2.33,2, -999.000,9, -999.000,9, -999.000,9,-999.0000,9,  -999.00,9,   -999.0,9,-999.000,9,   -999.0,9,   -999,  -999.0,-999.000,-999.0000,-999.000,  -999.0,-999.000,  9.0488,-999.000
    49RY9407_2,   P09,    68,  2,      4,    206,2,19940808,0538,  7.5032, 136.8428, 3185,    402.7,   8.0925,  34.5599,2,  34.5606,2,     69.1,2,     68.7,2,    44.51,3,    34.89,2,     0.00,2,     2.41,2, -999.000,9, -999.000,9, -999.000,9,-999.0000,9,  -999.00,9,   -999.0,9,-999.000,9,   -999.0,9,   -999,  -999.0,-999.000,-999.0000,-999.000,  -999.0,-999.000,  8.0512,-999.000
    49RY9407_2,   P09,    68,  2,      3,    205,2,19940808,0538,  7.5032, 136.8428, 3185,    503.3,   7.3017,  34.5579,2,  34.5438,2,     71.2,2,     72.4,6,    50.94,3,    35.87,2,     0.00,2,     2.54,2, -999.000,9, -999.000,9, -999.000,9,-999.0000,9,  -999.00,9,   -999.0,9,-999.000,9,   -999.0,9,   -999,  -999.0,-999.000,-999.0000,-999.000,  -999.0,-999.000,  7.2527,-999.000
    49RY9407_2,   P09,    68,  2,      2,    216,2,19940808,0538,  7.5032, 136.8428, 3185,    603.5,   6.7904,  34.5378,2,  34.5318,2,     76.2,2,     76.2,2,    57.08,3,    36.40,2,     0.00,2,     2.56,2, -999.000,9, -999.000,9, -999.000,9,-999.0000,9,  -999.00,9,   -999.0,9,-999.000,9,   -999.0,9,   -999,  -999.0,-999.000,-999.0000,-999.000,  -999.0,-999.000,  6.7336,-999.000
    49RY9407_2,   P09,    68,  2,      1,    201,2,19940808,0538,  7.5032, 136.8428, 3185,    704.0,   6.1443,  34.5232,2,  34.5246,2,     79.7,2,     80.3,2,    64.63,3,    37.22,2,     0.00,2,     2.63,2, -999.000,9, -999.000,9, -999.000,9,-999.0000,9,  -999.00,9,   -999.0,9,-999.000,9,   -999.0,9,   -999,  -999.0,-999.000,-999.0000,-999.000,  -999.0,-999.000,  6.0810,-999.000
    49RY9407_2,   P09,    68,  2,     24,    222,2,19940808,0538,  7.5032, 136.8428, 3185,    805.2,   5.4909,  34.5448,2,  34.5320,2,     83.2,2,     83.5,2,    73.41,3,    37.94,2,     0.00,2,     2.70,2, -999.000,9, -999.000,9, -999.000,9,-999.0000,9,  -999.00,9,   -999.0,9,-999.000,9,   -999.0,9,   -999,  -999.0,-999.000,-999.0000,-999.000,  -999.0,-999.000,  5.4219,-999.000
    49RY9407_2,   P09,    68,  2,     23,    228,2,19940808,0538,  7.5032, 136.8428, 3185,    906.4,   5.0179,  34.5351,2,  34.5377,2,     84.6,2,     82.8,2,    82.94,3,    38.55,2,     0.00,2,     2.75,2, -999.000,9, -999.000,9, -999.000,9,-999.0000,9,  -999.00,9,   -999.0,9,-999.000,9,   -999.0,9,   -999,  -999.0,-999.000,-999.0000,-999.000,  -999.0,-999.000,  4.9428,-999.000
    49RY9407_2,   P09,    68,  2,     22,    227,2,19940808,0538,  7.5032, 136.8428, 3185,   1006.9,   4.4674,  34.5486,2,  34.5495,2,     87.3,2,     87.6,2,    93.61,3,    38.81,2,     0.00,2,     2.77,2, -999.000,9, -999.000,9, -999.000,9,-999.0000,9,  -999.00,9,   -999.0,9,-999.000,9,   -999.0,9,   -999,  -999.0,-999.000,-999.0000,-999.000,  -999.0,-999.000,  4.3875,-999.000
    49RY9407_2,   P09,    68,  2,     21,    226,2,19940808,0538,  7.5032, 136.8428, 3185,   1260.2,   3.4514,  34.5788,2,  34.5792,2,     95.5,2,     95.1,2,   113.35,3,    39.14,2,     0.00,2,     2.80,2, -999.000,9, -999.000,9, -999.000,9,-999.0000,9,  -999.00,9,   -999.0,9,-999.000,9,   -999.0,9,   -999,  -999.0,-999.000,-999.0000,-999.000,  -999.0,-999.000,  3.3588,-999.000
    49RY9407_2,   P09,    68,  2,     19,    210,2,19940808,0538,  7.5032, 136.8428, 3185,   1514.0,   2.8544,  34.6044,2,  34.6029,2,    102.3,2,    101.5,2,   125.42,3,    39.31,2,     0.00,2,     2.80,2, -999.000,9, -999.000,9, -999.000,9,-999.0000,9,  -999.00,9,   -999.0,9,-999.000,9,   -999.0,9,   -999,  -999.0,-999.000,-999.0000,-999.000,  -999.0,-999.000,  2.7470,-999.000
    49RY9407_2,   P09,    68,  2,     20,    203,2,19940808,0538,  7.5032, 136.8428, 3185,   1514.0,   2.8544,  34.6044,2,  34.6023,2,    102.3,2,    101.5,2,   125.41,3,    39.26,2,     0.00,2,     2.80,2, -999.000,9, -999.000,9, -999.000,9,-999.0000,9,  -999.00,9,   -999.0,9,-999.000,9,   -999.0,9,   -999,  -999.0,-999.000,-999.0000,-999.000,  1510.0,-999.000,  2.7470,-999.000
    49RY9407_2,   P09,    68,  2,     18,    221,2,19940808,0538,  7.5032, 136.8428, 3185,   1767.1,   2.5847,  34.6171,2,  34.6152,2,    106.4,2,    106.5,2,   130.56,3,    39.15,6,     0.00,6,     2.78,6, -999.000,9, -999.000,9, -999.000,9,-999.0000,9,  -999.00,9,   -999.0,9,-999.000,9,   -999.0,9,   -999,  -999.0,-999.000,-999.0000,-999.000,   714.0,-999.000,  2.4595,-999.000
    49RY9407_2,   P09,    68,  2,     17,    219,2,19940808,0538,  7.5032, 136.8428, 3185,   2021.8,   2.2304,  34.6328,2,  34.6322,2,    114.3,2,    115.1,2,   136.69,3,    38.78,2,     0.00,2,     2.72,2, -999.000,9, -999.000,9, -999.000,9,-999.0000,9,  -999.00,9,   -999.0,9,-999.000,9,   -999.0,9,   -999,  -999.0,-999.000,-999.0000,-999.000,  -999.0,-999.000,  2.0886,-999.000
    49RY9407_2,   P09,    68,  2,     16,    229,2,19940808,0538,  7.5032, 136.8428, 3185,   2275.6,   1.9506,  34.6482,2,  34.6481,2,    121.6,2,    124.2,6,   140.88,3,    38.26,2,     0.00,2,     2.71,2, -999.000,9, -999.000,9, -999.000,9,-999.0000,9,  -999.00,9,   -999.0,9,-999.000,9,   -999.0,9,   -999,  -999.0,   1.949,-999.0000,-999.000,  2273.0,-999.000,  1.7913,-999.000
    49RY9407_2,   P09,    68,  2,     15,    217,2,19940808,0538,  7.5032, 136.8428, 3185,   2529.6,   1.7683,  34.6602,2,  34.6575,2,    132.2,2,    131.2,2,   142.53,3,    37.89,2,     0.00,2,     2.63,2, -999.000,9, -999.000,9, -999.000,9,-999.0000,9,  -999.00,9,   -999.0,9,-999.000,9,   -999.0,9,   -999,  -999.0,-999.000,-999.0000,-999.000,  -999.0,-999.000,  1.5896,-999.000
    49RY9407_2,   P09,    68,  2,     14,    204,2,19940808,0538,  7.5032, 136.8428, 3185,   2784.6,   1.6715,  34.6671,2,  34.6646,2,    136.9,2,    136.8,2,   143.66,3,    37.48,2,     0.00,2,     2.64,2, -999.000,9, -999.000,9, -999.000,9,-999.0000,9,  -999.00,9,   -999.0,9,-999.000,9,   -999.0,9,   -999,  -999.0,   1.679,-999.0000,-999.000,  2783.0,-999.000,  1.4714,-999.000
    49RY9407_2,   P09,    68,  2,     13,    214,2,19940808,0538,  7.5032, 136.8428, 3185,   3039.5,   1.6368,  34.6698,2,  34.6678,2,    140.6,2,    140.2,2,   143.77,3,    37.23,2,     0.00,2,     2.62,2, -999.000,9, -999.000,9, -999.000,9,-999.0000,9,  -999.00,9,   -999.0,9,-999.000,9,   -999.0,9,   -999,  -999.0,-999.000,-999.0000,-999.000,  3028.0,-999.000,  1.4132,-999.000
    49RY9407_2,   P09,    68,  2,     12,    213,4,19940808,0538,  7.5032, 136.8428, 3185,   3261.3,   1.5732,  34.6734,2,  34.6726,6,    142.9,2,    143.9,2,   143.84,3,    37.16,2,     0.00,2,     2.60,2, -999.000,9, -999.000,9, -999.000,9,-999.0000,9,  -999.00,9,   -999.0,9,-999.000,9,   -999.0,9,   -999,  -999.0,-999.000,-999.0000,-999.000,  3258.0,-999.000,  1.3293,-999.000
    49RY9407_2,   P09,    69,  1,      0,      0,2,19940808,0827,  7.3313, 136.8282, 6545,      1.3,  29.5787,  33.2945,2,-999.0000,9,    163.8,4,    197.3,6,     1.47,2,     0.03,2,     0.00,2,     0.02,2, -999.000,9, -999.000,9, -999.000,9,-999.0000,9,  -999.00,9,   -999.0,9,-999.000,9,   -999.0,9,   -999,  -999.0,-999.000,-999.0000,-999.000,  -999.0,-999.000, 29.5783,-999.000
    49RY9407_2,   P09,    69,  1,      2,    216,2,19940808,0827,  7.3313, 136.8282, 6545,      9.9,  29.2646,  33.6985,2,  33.6899,2,    185.5,3,    195.9,2,     1.44,2,     0.03,2,     0.00,2,     0.01,2, -999.000,9, -999.000,9, -999.000,9,-999.0000,9,  -999.00,9,   -999.0,9,-999.000,9,   -999.0,9,   -999,  -999.0,-999.000,-999.0000,-999.000,  -999.0,-999.000, 29.2621,-999.000
    49RY9407_2,   P09,    69,  1,      1,    201,2,19940808,0827,  7.3313, 136.8282, 6545,     24.6,  29.0468,  33.6763,2,  33.6642,2,    196.8,2,    196.8,2,     1.43,2,     0.02,2,     0.00,2,     0.02,2, -999.000,9, -999.000,9, -999.000,9,-999.0000,9,  -999.00,9,   -999.0,9,-999.000,9,   -999.0,9,   -999,  -999.0,-999.000,-999.0000,-999.000,  -999.0,-999.000, 29.0408,-999.000
    49RY9407_2,   P09,    69,  1,     24,    222,2,19940808,0827,  7.3313, 136.8282, 6545,     49.4,  28.6300,  34.0121,2,  33.9915,2,    197.7,2,    199.0,2,     1.60,2,     0.02,2,     0.00,2,     0.04,2, -999.000,9, -999.000,9, -999.000,9,-999.0000,9,  -999.00,9,   -999.0,9,-999.000,9,   -999.0,9,   -999,  -999.0,-999.000,-999.0000,-999.000,  -999.0,-999.000, 28.6182,-999.000
    49RY9407_2,   P09,    69,  1,     23,    228,2,19940808,0827,  7.3313, 136.8282, 6545,     76.0,  25.0790,  34.5645,2,  34.5509,2,    193.8,3,    187.0,2,     2.95,2,     0.08,2,     0.02,2,     0.17,2, -999.000,9, -999.000,9, -999.000,9,-999.0000,9,  -999.00,9,   -999.0,9,-999.000,9,   -999.0,9,   -999,  -999.0,-999.000,-999.0000,-999.000,  -999.0,-999.000, 25.0625,-999.000
    49RY9407_2,   P09,    69,  1,     22,    227,2,19940808,0827,  7.3313, 136.8282, 6545,    100.6,  21.7830,  34.7511,2,  34.6562,2,    166.2,2,    163.2,2,     5.95,2,     5.11,2,     0.22,2,     0.49,2, -999.000,9, -999.000,9, -999.000,9,-999.0000,9,  -999.00,9,   -999.0,9,-999.000,9,   -999.0,9,   -999,  -999.0,-999.000,-999.0000,-999.000,  -999.0,-999.000, 21.7633,-999.000
    49RY9407_2,   P09,    69,  1,     21,    226,2,19940808,0827,  7.3313, 136.8282, 6545,    124.0,  17.7792,  34.8748,2,  34.7684,2,    156.7,2,    155.4,2,     8.28,2,     8.84,2,     0.03,2,     0.70,2, -999.000,9, -999.000,9, -999.000,9,-999.0000,9,  -999.00,9,   -999.0,9,-999.000,9,   -999.0,9,   -999,  -999.0,-999.000,-999.0000,-999.000,  -999.0,-999.000, 17.7581,-999.000
    49RY9407_2,   P09,    69,  1,     20,    203,2,19940808,0827,  7.3313, 136.8282, 6545,    149.8,  14.1925,  34.7467,2,  34.5938,2,    129.7,3,    136.5,2,    16.45,2,    16.30,2,     0.00,2,     1.15,2, -999.000,9, -999.000,9, -999.000,9,-999.0000,9,  -999.00,9,   -999.0,9,-999.000,9,   -999.0,9,   -999,  -999.0,-999.000,-999.0000,-999.000,   149.0,-999.000, 14.1707,-999.000
    49RY9407_2,   P09,    69,  1,     19,    210,2,19940808,0827,  7.3313, 136.8282, 6545,    200.6,  11.3625,  34.5739,2,  34.5218,2,     96.9,2,    100.7,2,    27.80,2,    24.95,2,     0.00,2,     1.78,2, -999.000,9, -999.000,9, -999.000,9,-999.0000,9,  -999.00,9,   -999.0,9,-999.000,9,   -999.0,9,   -999,  -999.0,-999.000,-999.0000,-999.000,  -999.0,-999.000, 11.3374,-999.000
    49RY9407_2,   P09,    69,  1,     18,    221,2,19940808,0827,  7.3313, 136.8282, 6545,    301.7,   9.4866,  34.5629,2,  34.5653,2,     69.7,2,     67.2,2,    37.14,6,    32.13,6,     0.00,6,     2.26,6, -999.000,9, -999.000,9, -999.000,9,-999.0000,9,  -999.00,9,   -999.0,9,-999.000,9,   -999.0,9,   -999,  -999.0,-999.000,-999.0000,-999.000,   301.0,-999.000,  9.4527,-999.000
    49RY9407_2,   P09,    69,  1,     17,    219,2,19940808,0827,  7.3313, 136.8282, 6545,    402.9,   8.3088,  34.5680,2,  34.5649,2,     67.8,2,     67.3,6,  -999.00,9,  -999.00,9,  -999.00,9,  -999.00,9, -999.000,9, -999.000,9, -999.000,9,-999.0000,9,  -999.00,9,   -999.0,9,-999.000,9,   -999.0,9,   -999,  -999.0,-999.000,-999.0000,-999.000,  -999.0,-999.000,  8.2668,-999.000
    49RY9407_2,   P09,    69,  1,     16,    229,2,19940808,0827,  7.3313, 136.8282, 6545,    502.5,   7.3293,  34.5443,2,  34.5442,2,     72.0,2,     73.8,2,    50.56,6,    35.71,6,     0.00,6,     2.53,6, -999.000,9, -999.000,9, -999.000,9,-999.0000,9,  -999.00,9,   -999.0,9,-999.000,9,   -999.0,9,   -999,  -999.0,   7.345,-999.0000,-999.000,   500.0,-999.000,  7.2803,-999.000
    49RY9407_2,   P09,    69,  1,     15,    217,2,19940808,0827,  7.3313, 136.8282, 6545,    604.2,   6.6740,  34.5405,2,  34.5385,2,     74.0,2,     73.5,2,    58.27,6,    37.00,6,     0.00,6,     2.62,6, -999.000,9, -999.000,9, -999.000,9,-999.0000,9,  -999.00,9,   -999.0,9,-999.000,9,   -999.0,9,   -999,  -999.0,-999.000,-999.0000,-999.000,  -999.0,-999.000,  6.6176,-999.000
    49RY9407_2,   P09,    69,  1,     14,    204,2,19940808,0827,  7.3313, 136.8282, 6545,    704.6,   6.0112,  34.5258,2,  34.5234,2,     81.4,2,     82.7,2,    66.73,6,    37.33,6,     0.00,6,     2.64,6, -999.000,9, -999.000,9, -999.000,9,-999.0000,9,  -999.00,9,   -999.0,9,-999.000,9,   -999.0,9,   -999,  -999.0,   6.013,-999.0000,-999.000,   702.0,-999.000,  5.9485,-999.000
    49RY9407_2,   P09,    69,  1,     12,    213,2,19940808,0827,  7.3313, 136.8282, 6545,    806.3,   5.5608,  34.5313,2,  34.5320,2,     83.7,2,     84.0,2,    72.62,6,    37.86,6,     0.00,6,     2.68,6, -999.000,9, -999.000,9, -999.000,9,-999.0000,9,  -999.00,9,   -999.0,9,-999.000,9,   -999.0,9,   -999,  -999.0,-999.000,-999.0000,-999.000,   805.0,-999.000,  5.4913,-999.000
    49RY9407_2,   P09,    69,  1,     13,    214,4,19940808,0827,  7.3313, 136.8282, 6545,    806.3,   5.5608,  34.5313,2,  34.5318,2,     83.7,2,     84.7,2,    72.60,6,    37.91,6,     0.00,6,     2.68,6, -999.000,9, -999.000,9, -999.000,9,-999.0000,9,  -999.00,9,   -999.0,9,-999.000,9,   -999.0,9,   -999,  -999.0,-999.000,-999.0000,-999.000,   795.0,-999.000,  5.4913,-999.000