BOTTLE,20020306WHPSIOdm
EXPOCODE,SECT_ID,STNNBR,CASTNO,SAMPNO,BTLNBR,BTLNBR_FLAG_W,DATE,TIME,LATITUDE,LONGITUDE,DEPTH,CTDPRS,CTDTMP,CTDSAL,CTDSAL_FLAG_W,SALNTY,SALNTY_FLAG_W,CTDOXY,CTDOXY_FLAG_W,OXYGEN,OXYGEN_FLAG_W,SILCAT,SILCAT_FLAG_W,NITRAT,NITRAT_FLAG_W,NITRIT,NITRIT_FLAG_W,PHSPHT,PHSPHT_FLAG_W,CFC-11,CFC-11_FLAG_W,CFC-12,CFC-12_FLAG_W,TRITUM,TRITUM_FLAG_W,HELIUM,HELIUM_FLAG_W,DELHE3,DELHE3_FLAG_W,DELC14,DELC14_FLAG_W,NEON,NEON_FLAG_W,TCARBN,TCARBN_FLAG_W,CTDRAW,C14ERR,REVTMP,HELIER,DELHER,REVPRS,NEONER,THETA,TRITER
,,,,,,,,,,,,DBAR,ITS-90,PSS-78,,PSS-78,,UMOL/KG,,UMOL/KG,,UMOL/KG,,UMOL/KG,,UMOL/KG,,UMOL/KG,,PMOL/KG,,PMOL/KG,,TU,,NMOL/KG,,PERCNT,,/MILLE,,NMOL/KG,,UMOL/KG,,,/MILLE,ITS-90,NMOL/KG,PERCNT,DBAR,NMOL/KG,DEG C,TU
    49RY9407_1,   P09,    29,  2,      1,    201,2,19940715,0508, 26.0013, 136.9892, 5545,    603.1,   9.2423,  34.1966,2,  34.1999,2,    172.7,2,    169.3,2,    34.28,2,    21.62,2,     0.00,2,     1.54,2, -999.000,9, -999.000,9, -999.000,9,-999.0000,9,  -999.00,9,   -999.0,9,-999.000,9,   -999.0,9,   -999,  -999.0,-999.000,-999.0000,-999.000,  -999.0,-999.000,  9.1749,-999.000
    49RY9407_1,   P09,    29,  2,     23,    228,4,19940715,0508, 26.0013, 136.9892, 5545,    704.7,   6.8504,  34.0926,2,  34.0926,2,    132.1,2,    134.7,2,    55.98,2,    29.12,2,     0.00,2,     2.09,2, -999.000,9, -999.000,9, -999.000,9,-999.0000,9,  -999.00,9,   -999.0,9,-999.000,9,   -999.0,9,   -999,  -999.0,-999.000,-999.0000,-999.000,  -999.0,-999.000,  6.7837,-999.000
    49RY9407_1,   P09,    29,  2,     24,    230,2,19940715,0508, 26.0013, 136.9892, 5545,    704.7,   6.8504,  34.0926,2,  34.0967,2,    132.1,2,    135.2,6,    56.05,2,    29.10,2,     0.00,2,     2.10,2, -999.000,9, -999.000,9, -999.000,9,-999.0000,9,  -999.00,9,   -999.0,9,-999.000,9,   -999.0,9,   -999,  -999.0,-999.000,-999.0000,-999.000,  -999.0,-999.000,  6.7837,-999.000
    49RY9407_1,   P09,    29,  2,     21,    226,2,19940715,0508, 26.0013, 136.9892, 5545,    905.9,   4.4822,  34.2209,2,  34.2223,2,     79.4,3,     67.3,2,   100.87,2,    38.89,2,     0.00,2,     2.81,2, -999.000,9, -999.000,9, -999.000,9,-999.0000,9,  -999.00,9,   -999.0,9,-999.000,9,   -999.0,9,   -999,  -999.0,-999.000,-999.0000,-999.000,  -999.0,-999.000,  4.4113,-999.000
    49RY9407_1,   P09,    29,  2,     22,    227,2,19940715,0508, 26.0013, 136.9892, 5545,    905.9,   4.4822,  34.2209,2,  34.2229,2,     79.4,3,     67.5,2,   100.41,6,    38.86,6,     0.00,6,     2.80,6, -999.000,9, -999.000,9, -999.000,9,-999.0000,9,  -999.00,9,   -999.0,9,-999.000,9,   -999.0,9,   -999,  -999.0,-999.000,-999.0000,-999.000,  -999.0,-999.000,  4.4113,-999.000
    49RY9407_1,   P09,    29,  2,     20,    225,2,19940715,0508, 26.0013, 136.9892, 5545,   1008.1,   3.9338,  34.2967,2,  34.2965,2,     64.5,3,     54.1,2,   113.84,2,    40.66,2,     0.00,2,     2.93,2, -999.000,9, -999.000,9, -999.000,9,-999.0000,9,  -999.00,9,   -999.0,9,-999.000,9,   -999.0,9,   -999,  -999.0,-999.000,-999.0000,-999.000,  -999.0,-999.000,  3.8583,-999.000
    49RY9407_1,   P09,    29,  2,     19,    224,2,19940715,0508, 26.0013, 136.9892, 5545,   1261.0,   3.1112,  34.4417,2,  34.4385,2,     61.2,2,     58.3,2,   132.69,2,    41.48,2,     0.00,2,     2.97,2, -999.000,9, -999.000,9, -999.000,9,-999.0000,9,  -999.00,9,   -999.0,9,-999.000,9,   -999.0,9,   -999,  -999.0,-999.000,-999.0000,-999.000,  -999.0,-999.000,  3.0220,-999.000
    49RY9407_1,   P09,    29,  2,     18,    223,2,19940715,0508, 26.0013, 136.9892, 5545,   1514.2,   2.5383,  34.5170,2,  34.5129,2,     72.2,2,     67.5,6,   144.27,6,    41.28,6,     0.00,6,     2.93,6, -999.000,9, -999.000,9, -999.000,9,-999.0000,9,  -999.00,9,   -999.0,9,-999.000,9,   -999.0,9,   -999,  -999.0,-999.000,-999.0000,-999.000,  -999.0,-999.000,  2.4348,-999.000
    49RY9407_1,   P09,    29,  2,     17,    222,2,19940715,0508, 26.0013, 136.9892, 5545,   1767.8,   2.1851,  34.5744,2,  34.5728,2,     94.5,2,     95.5,2,   146.23,2,    39.89,2,     0.00,2,     2.83,2, -999.000,9, -999.000,9, -999.000,5,   1.8835,2,    19.39,2,   -999.0,9,   8.723,4,   -999.0,9,   -999,  -999.0,-999.000,  0.0026,   0.210,  -999.0,   0.018,  2.0654,-999.000
    49RY9407_1,   P09,    29,  2,     16,    221,2,19940715,0508, 26.0013, 136.9892, 5545,   2021.6,   1.9666,  34.6098,2,  34.6114,2,    110.1,2,    112.1,2,   144.53,2,    38.72,2,     0.00,2,     2.73,2, -999.000,9, -999.000,9, -999.000,9,-999.0000,9,  -999.00,9,   -999.0,9,-999.000,9,   -999.0,9,   -999,  -999.0,   1.965,-999.0000,-999.000,  2018.0,-999.000,  1.8289,-999.000
    49RY9407_1,   P09,    29,  2,     15,    220,2,19940715,0508, 26.0013, 136.9892, 5545,   2276.1,   1.8204,  34.6338,2,  34.6344,2,    122.0,2,    125.9,2,   143.86,2,    38.04,2,     0.00,2,     2.67,2, -999.000,9, -999.000,9, -999.000,5,   1.8280,2,    18.45,2,   -999.0,9,   7.902,3,   -999.0,9,   -999,  -999.0,-999.000,  0.0026,   0.250,  -999.0,   0.014,  1.6633,-999.000
    49RY9407_1,   P09,    29,  2,     14,    219,2,19940715,0508, 26.0013, 136.9892, 5545,   2530.7,   1.7472,  34.6447,2,  34.6457,2,    128.5,2,    131.0,2,   143.08,2,    37.61,2,     0.00,2,     2.64,2, -999.000,9, -999.000,9, -999.000,9,-999.0000,9,  -999.00,9,   -999.0,9,-999.000,9,   -999.0,9,   -999,  -999.0,-999.000,-999.0000,-999.000,  -999.0,-999.000,  1.5690,-999.000
    49RY9407_1,   P09,    29,  2,     13,    218,2,19940715,0508, 26.0013, 136.9892, 5545,   2783.5,   1.6810,  34.6549,2,  34.6541,2,    135.0,2,    135.9,2,   142.88,2,    37.36,2,     0.00,2,     2.61,2, -999.000,9, -999.000,9, -999.000,5,   1.8833,2,    18.89,2,   -999.0,9,   8.013,2,   -999.0,9,   -999,  -999.0,-999.000,  0.0026,   0.250,  -999.0,   0.014,  1.4808,-999.000
    49RY9407_1,   P09,    29,  2,     12,    217,2,19940715,0508, 26.0013, 136.9892, 5545,   3040.5,   1.6257,  34.6622,2,  34.6605,2,    140.0,2,    141.8,2,   142.87,6,    36.99,6,     0.00,6,     2.58,6, -999.000,9, -999.000,9, -999.000,9,-999.0000,9,  -999.00,9,   -999.0,9,-999.000,9,   -999.0,9,   -999,  -999.0,-999.000,-999.0000,-999.000,  -999.0,-999.000,  1.4023,-999.000
    49RY9407_1,   P09,    29,  2,     11,    216,2,19940715,0508, 26.0013, 136.9892, 5545,   3295.0,   1.5863,  34.6680,2,  34.6673,2,    144.3,2,    146.9,2,   142.42,2,    36.72,2,     0.00,2,     2.56,2, -999.000,9, -999.000,9, -999.000,5,   1.8831,2,    18.42,2,   -999.0,9,   8.045,2,   -999.0,9,   -999,  -999.0,-999.000,  0.0026,   0.250,  -999.0,   0.014,  1.3388,-999.000
    49RY9407_1,   P09,    29,  2,     10,    214,2,19940715,0508, 26.0013, 136.9892, 5545,   3550.8,   1.5530,  34.6744,2,  34.6758,2,    150.5,2,    151.1,2,   141.67,2,    36.35,2,     0.00,2,     2.53,2, -999.000,9, -999.000,9, -999.000,9,-999.0000,9,  -999.00,9,   -999.0,9,-999.000,9,   -999.0,9,   -999,  -999.0,-999.000,-999.0000,-999.000,  -999.0,-999.000,  1.2803,-999.000
    49RY9407_1,   P09,    29,  2,      9,    213,2,19940715,0508, 26.0013, 136.9892, 5545,   3807.6,   1.5530,  34.6777,2,  34.6764,2,    151.3,2,    152.8,2,   141.44,2,    36.38,2,     0.00,2,     2.53,2, -999.000,9, -999.000,9, -999.000,5,   0.0005,4,   634.88,4,   -999.0,9,   0.000,5,   -999.0,9,   -999,  -999.0,   1.551,  0.0000,   3.590,  3802.0,   0.000,  1.2534,-999.000
    49RY9407_1,   P09,    29,  2,      8,    212,2,19940715,0508, 26.0013, 136.9892, 5545,   4062.4,   1.5466,  34.6803,2,  34.6798,2,    155.4,2,    155.7,2,   140.89,2,    36.11,2,     0.00,2,     2.50,2, -999.000,9, -999.000,9, -999.000,9,-999.0000,9,  -999.00,9,   -999.0,9,-999.000,9,   -999.0,9,   -999,  -999.0,-999.000,-999.0000,-999.000,  -999.0,-999.000,  1.2196,-999.000
    49RY9407_1,   P09,    29,  2,      7,    210,4,19940715,0508, 26.0013, 136.9892, 5545,   4320.3,   1.5563,  34.6813,2,  34.6792,3,    155.2,2,    158.3,2,   140.42,2,    36.06,2,     0.00,2,     2.50,2, -999.000,9, -999.000,9, -999.000,5,   1.8937,2,    16.82,2,   -999.0,9,   8.275,4,   -999.0,9,   -999,  -999.0,-999.000,  0.0025,   0.210,  -999.0,   0.017,  1.2002,-999.000
    49RY9407_1,   P09,    29,  2,      6,    209,2,19940715,0508, 26.0013, 136.9892, 5545,   4832.6,   1.6043,  34.6827,2,  34.6826,6,    157.4,2,    157.4,2,   140.78,2,    36.00,2,     0.00,2,     2.50,2, -999.000,9, -999.000,9, -999.000,9,-999.0000,9,  -999.00,9,   -999.0,9,-999.000,9,   -999.0,9,   -999,  -999.0,-999.000,-999.0000,-999.000,  -999.0,-999.000,  1.1869,-999.000
    49RY9407_1,   P09,    29,  2,      5,    229,2,19940715,0508, 26.0013, 136.9892, 5545,   5091.6,   1.6323,  34.6835,2,  34.6784,3,    159.5,2,    158.6,2,   140.03,2,    35.99,2,     0.00,2,     2.50,2, -999.000,9, -999.000,9, -999.000,5,   1.8732,2,    17.29,2,   -999.0,9,   8.036,2,   -999.0,9,   -999,  -999.0,   1.631,  0.0025,   0.210,  5089.0,   0.016,  1.1824,-999.000
    49RY9407_1,   P09,    29,  2,      4,    206,2,19940715,0508, 26.0013, 136.9892, 5545,   5348.9,   1.6615,  34.6831,2,  34.6831,2,    156.3,2,    159.6,2,   140.12,2,    36.01,2,     0.00,2,     2.49,2, -999.000,9, -999.000,9, -999.000,9,-999.0000,9,  -999.00,9,   -999.0,9,-999.000,9,   -999.0,9,   -999,  -999.0,-999.000,-999.0000,-999.000,  -999.0,-999.000,  1.1784,-999.000
    49RY9407_1,   P09,    29,  2,      2,    204,2,19940715,0508, 26.0013, 136.9892, 5545,   5684.8,   1.7051,  34.6833,2,  34.6802,3,    157.5,2,    159.1,6,   140.10,6,    35.98,6,     0.00,6,     2.49,6, -999.000,9, -999.000,9, -999.000,9,-999.0000,9,  -999.00,9,   -999.0,9,-999.000,9,   -999.0,9,   -999,  -999.0,   1.702,-999.0000,-999.000,  5683.0,-999.000,  1.1772,-999.000
    49RY9407_1,   P09,    29,  2,      3,    205,2,19940715,0508, 26.0013, 136.9892, 5545,   5685.2,   1.7045,  34.6826,2,  34.6835,6,    157.5,2,    158.8,2,   140.16,6,    36.01,6,     0.00,6,     2.49,6, -999.000,9, -999.000,9, -999.000,9,-999.0000,9,  -999.00,9,   -999.0,9,-999.000,9,   -999.0,9,   -999,  -999.0,-999.000,-999.0000,-999.000,  -999.0,-999.000,  1.1765,-999.000
    49RY9407_1,   P09,    29,  3,     17,    222,2,19940715,0837, 26.0268, 136.9687, 5515,      1.1,  30.0944,  34.6479,2,  34.6409,2,    192.4,3,   -999.0,9,  -999.00,9,  -999.00,9,  -999.00,9,  -999.00,9,    1.835,3,    1.095,3,    1.665,2,   1.6644,2,    -1.08,2,   -999.0,9,   6.469,2,   -999.0,9,   -999,  -999.0,-999.000,  0.0019,   0.220,  -999.0,   0.024, 30.0942,   0.022
    49RY9407_1,   P09,    29,  3,     18,    223,2,19940715,0837, 26.0268, 136.9687, 5515,      1.1,  30.0944,  34.6479,2,-999.0000,5,    192.4,3,   -999.0,9,  -999.00,9,  -999.00,9,  -999.00,9,  -999.00,9, -999.000,9, -999.000,9, -999.000,9,-999.0000,9,  -999.00,9,   -999.0,9,-999.000,9,   -999.0,9,   -999,  -999.0,-999.000,-999.0000,-999.000,  -999.0,-999.000, 30.0942,-999.000
    49RY9407_1,   P09,    29,  3,     16,    221,2,19940715,0837, 26.0268, 136.9687, 5515,     24.9,  28.0030,  34.7238,2,  34.7578,2,    205.0,3,   -999.0,9,  -999.00,9,  -999.00,9,  -999.00,9,  -999.00,9,    1.606,2,    1.013,3,    1.453,2,   1.6880,2,    -1.01,2,   -999.0,9,   6.677,2,   -999.0,9,   -999,  -999.0,  28.050,  0.0024,   0.260,    30.0,   0.012, 27.9972,   0.017
    49RY9407_1,   P09,    29,  3,     15,    220,4,19940715,0837, 26.0268, 136.9687, 5515,     49.9,  22.5090,  35.0192,2,  35.0087,2,    231.1,3,   -999.0,9,  -999.00,9,  -999.00,9,  -999.00,9,  -999.00,9,    2.205,2,    1.333,3,    1.556,2,   1.7025,2,    -0.97,2,   -999.0,9,   6.838,2,   -999.0,9,   -999,  -999.0,-999.000,  0.0024,   0.260,  -999.0,   0.012, 22.4990,   0.017
    49RY9407_1,   P09,    29,  3,     14,    219,2,19940715,0837, 26.0268, 136.9687, 5515,    100.7,  19.7572,  34.9370,2,  34.9394,2,    226.5,3,   -999.0,9,  -999.00,9,  -999.00,9,  -999.00,9,  -999.00,9,    2.268,2,    1.408,3,    1.814,2,   1.7058,2,    -0.30,2,   -999.0,9,   6.951,2,   -999.0,9,   -999,  -999.0,-999.000,  0.0024,   0.260,  -999.0,   0.013, 19.7388,   0.021
    49RY9407_1,   P09,    29,  3,     13,    218,2,19940715,0837, 26.0268, 136.9687, 5515,    150.7,  18.3920,  34.8747,2,  34.8759,2,    219.1,3,   -999.0,9,  -999.00,9,  -999.00,9,  -999.00,9,  -999.00,9,    2.324,2,    1.422,3,    1.835,2,   1.7165,2,    -0.34,2,   -999.0,9,   7.032,2,   -999.0,9,   -999,  -999.0,-999.000,  0.0022,   0.220,  -999.0,   0.026, 18.3658,   0.022
    49RY9407_1,   P09,    29,  3,     12,    217,2,19940715,0837, 26.0268, 136.9687, 5515,    201.2,  17.5227,  34.8180,2,  34.8164,2,    209.1,2,   -999.0,9,  -999.00,9,  -999.00,9,  -999.00,9,  -999.00,9,    2.365,2,    1.447,3,    1.778,2,   1.7139,2,     0.19,2,   -999.0,9,   7.010,2,   -999.0,9,   -999,  -999.0,-999.000,  0.0024,   0.260,  -999.0,   0.013, 17.4888,   0.025
    49RY9407_1,   P09,    29,  3,     11,    216,2,19940715,0837, 26.0268, 136.9687, 5515,    302.1,  16.5886,  34.7527,2,  34.7548,2,    204.0,2,   -999.0,9,  -999.00,9,  -999.00,9,  -999.00,9,  -999.00,9,    2.389,2,    1.552,3,    1.675,2,   1.7193,2,     1.35,2,   -999.0,9,   7.051,2,   -999.0,9,   -999,  -999.0,-999.000,  0.0024,   0.260,  -999.0,   0.013, 16.5396,   0.019
    49RY9407_1,   P09,    29,  3,      9,    213,4,19940715,0837, 26.0268, 136.9687, 5515,    402.3,  13.8955,  34.5290,2,  34.5283,2,    196.0,2,   -999.0,9,  -999.00,9,  -999.00,9,  -999.00,9,  -999.00,9,    2.280,2,    1.382,3,    1.836,2,   1.7302,2,     5.23,2,   -999.0,9,   7.214,2,   -999.0,9,   -999,  -999.0,  14.054,  0.0024,   0.260,   401.0,   0.013, 13.8375,   0.025
    49RY9407_1,   P09,    29,  3,     10,    214,2,19940715,0837, 26.0268, 136.9687, 5515,    402.3,  13.8955,  34.5290,2,  34.5273,2,    196.0,2,   -999.0,9,  -999.00,9,  -999.00,9,  -999.00,9,  -999.00,9,    2.244,2,    1.243,4,    1.735,2,   1.7253,2,     5.37,2,   -999.0,9,   7.187,2,   -999.0,9,   -999,  -999.0,-999.000,  0.0024,   0.260,  -999.0,   0.013, 13.8375,   0.019
    49RY9407_1,   P09,    29,  3,      8,    212,2,19940715,0837, 26.0268, 136.9687, 5515,    603.5,   9.5371,  34.2154,2,  34.2113,2,    176.9,2,   -999.0,9,  -999.00,9,  -999.00,9,  -999.00,9,  -999.00,9,    1.845,2,    1.388,3,    1.653,2,   1.7647,2,    11.36,2,   -999.0,9,   7.557,2,   -999.0,9,   -999,  -999.0,-999.000,  0.0025,   0.260,  -999.0,   0.014,  9.4683,   0.024
    49RY9407_1,   P09,    29,  3,      7,    210,2,19940715,0837, 26.0268, 136.9687, 5515,    705.0,   6.8812,  34.0934,2,  34.0946,2,    143.4,2,   -999.0,9,  -999.00,9,  -999.00,9,  -999.00,9,  -999.00,9,    1.297,2,    0.888,3,    1.277,2,   1.7936,2,    14.49,2,   -999.0,9,   7.704,2,   -999.0,9,   -999,  -999.0,-999.000,  0.0025,   0.260,  -999.0,   0.014,  6.8143,   0.022
    49RY9407_1,   P09,    29,  3,      6,    209,2,19940715,0837, 26.0268, 136.9687, 5515,    805.8,   5.4803,  34.1095,2,  34.1109,2,    109.7,2,   -999.0,9,  -999.00,9,  -999.00,9,  -999.00,9,  -999.00,9,    0.907,2,    0.598,3, -999.000,5,   1.7853,2,    14.85,2,   -999.0,9,   7.754,3,   -999.0,9,   -999,  -999.0,-999.000,  0.0025,   0.250,  -999.0,   0.014,  5.4118,-999.000
    49RY9407_1,   P09,    29,  3,      5,    229,2,19940715,0837, 26.0268, 136.9687, 5515,    906.5,   4.6878,  34.2075,2,  34.2076,2,     77.1,2,   -999.0,9,  -999.00,9,  -999.00,9,  -999.00,9,  -999.00,9,    0.412,2,    0.320,3,    0.532,2,   1.7813,2,    15.17,2,   -999.0,9,   7.729,3,   -999.0,9,   -999,  -999.0,   4.683,  0.0023,   0.210,   904.0,   0.015,  4.6154,   0.008
    49RY9407_1,   P09,    29,  3,      4,    206,2,19940715,0837, 26.0268, 136.9687, 5515,   1007.7,   4.0635,  34.2780,2,  34.2776,2,     62.5,2,   -999.0,9,  -999.00,9,  -999.00,9,  -999.00,9,  -999.00,9,    0.220,2,    0.141,3,    0.306,2,   1.8436,2,    16.10,2,   -999.0,9,   7.916,2,   -999.0,9,   -999,  -999.0,-999.000,  0.0024,   0.210,  -999.0,   0.016,  3.9871,   0.005
    49RY9407_1,   P09,    29,  3,      3,    205,2,19940715,0837, 26.0268, 136.9687, 5515,   1259.9,   3.1734,  34.4312,2,  34.4308,2,     59.1,2,   -999.0,9,  -999.00,9,  -999.00,9,  -999.00,9,  -999.00,9,    0.044,2,    0.426,4,    0.076,2,   1.8588,2,    17.35,2,   -999.0,9,   7.941,2,   -999.0,9,   -999,  -999.0,-999.000,  0.0025,   0.210,  -999.0,   0.016,  3.0837,   0.003
    49RY9407_1,   P09,    29,  3,      2,    204,2,19940715,0837, 26.0268, 136.9687, 5515,   1514.4,   2.5672,  34.5133,2,  34.5110,2,     63.6,2,   -999.0,9,  -999.00,9,  -999.00,9,  -999.00,9,  -999.00,9,    0.032,2,    0.514,4,    0.046,2,   1.8562,2,    18.22,2,   -999.0,9,   7.917,2,   -999.0,9,   -999,  -999.0,   2.567,  0.0025,   0.210,  1512.0,   0.016,  2.4634,   0.003