BOTTLE,20020306WHPSIOdm
EXPOCODE,SECT_ID,STNNBR,CASTNO,SAMPNO,BTLNBR,BTLNBR_FLAG_W,DATE,TIME,LATITUDE,LONGITUDE,DEPTH,CTDPRS,CTDTMP,CTDSAL,CTDSAL_FLAG_W,SALNTY,SALNTY_FLAG_W,CTDOXY,CTDOXY_FLAG_W,OXYGEN,OXYGEN_FLAG_W,SILCAT,SILCAT_FLAG_W,NITRAT,NITRAT_FLAG_W,NITRIT,NITRIT_FLAG_W,PHSPHT,PHSPHT_FLAG_W,CFC-11,CFC-11_FLAG_W,CFC-12,CFC-12_FLAG_W,TRITUM,TRITUM_FLAG_W,HELIUM,HELIUM_FLAG_W,DELHE3,DELHE3_FLAG_W,DELC14,DELC14_FLAG_W,NEON,NEON_FLAG_W,TCARBN,TCARBN_FLAG_W,CTDRAW,C14ERR,REVTMP,HELIER,DELHER,REVPRS,NEONER,THETA,TRITER
,,,,,,,,,,,,DBAR,ITS-90,PSS-78,,PSS-78,,UMOL/KG,,UMOL/KG,,UMOL/KG,,UMOL/KG,,UMOL/KG,,UMOL/KG,,PMOL/KG,,PMOL/KG,,TU,,NMOL/KG,,PERCNT,,/MILLE,,NMOL/KG,,UMOL/KG,,,/MILLE,ITS-90,NMOL/KG,PERCNT,DBAR,NMOL/KG,DEG C,TU
    49RY9407_2,   P09,    62,  1,      0,      0,2,19940807,0040,  9.4980, 136.9970, 4720,      0.9,  28.8448,  33.7192,2,-999.0000,9,    171.4,4,    196.6,6,     1.53,2,     0.01,2,     0.00,2,     0.01,2, -999.000,9, -999.000,9, -999.000,9,-999.0000,9,  -999.00,9,   -999.0,9,-999.000,9,   -999.0,9,   -999,  -999.0,-999.000,-999.0000,-999.000,  -999.0,-999.000, 28.8446,-999.000
    49RY9407_2,   P09,    62,  1,      5,    218,2,19940807,0040,  9.4980, 136.9970, 4720,      2.4,  28.8389,  33.7592,2,  33.7590,2,    186.3,4,   -999.0,9,  -999.00,9,  -999.00,9,  -999.00,9,  -999.00,9,    1.705,2,    1.079,3, -999.000,9,-999.0000,9,  -999.00,9,   -999.0,9,-999.000,9,   -999.0,9,   -999,  -999.0,-999.000,-999.0000,-999.000,  -999.0,-999.000, 28.8383,-999.000
    49RY9407_2,   P09,    62,  1,      3,    205,2,19940807,0040,  9.4980, 136.9970, 4720,      9.6,  28.8226,  33.7577,2,  33.7600,2,    193.7,2,    196.4,2,     1.38,6,     0.02,6,     0.00,6,     0.01,6, -999.000,9, -999.000,9, -999.000,9,-999.0000,9,  -999.00,9,   -999.0,9,-999.000,9,   -999.0,9,   -999,  -999.0,-999.000,-999.0000,-999.000,  -999.0,-999.000, 28.8203,-999.000
    49RY9407_2,   P09,    62,  1,      4,    206,2,19940807,0040,  9.4980, 136.9970, 4720,     10.0,  28.8280,  33.7587,2,  33.7592,2,    193.7,2,   -999.0,9,  -999.00,9,  -999.00,9,  -999.00,9,  -999.00,9,    1.683,2,    1.396,3, -999.000,9,-999.0000,9,  -999.00,9,   -999.0,9,-999.000,9,   -999.0,9,   -999,  -999.0,-999.000,-999.0000,-999.000,  -999.0,-999.000, 28.8256,-999.000
    49RY9407_2,   P09,    62,  1,      1,    201,2,19940807,0040,  9.4980, 136.9970, 4720,     25.1,  28.7442,  33.7556,2,  33.7572,2,    195.9,2,    196.7,2,     1.43,2,     0.00,2,     0.00,2,     0.01,2, -999.000,9, -999.000,9, -999.000,9,-999.0000,9,  -999.00,9,   -999.0,9,-999.000,9,   -999.0,9,   -999,  -999.0,-999.000,-999.0000,-999.000,  -999.0,-999.000, 28.7382,-999.000
    49RY9407_2,   P09,    62,  1,      2,    216,2,19940807,0040,  9.4980, 136.9970, 4720,     25.4,  28.7477,  33.7568,2,  33.7576,2,    195.9,2,   -999.0,9,  -999.00,9,  -999.00,9,  -999.00,9,  -999.00,9,    1.696,2,    1.082,3, -999.000,9,-999.0000,9,  -999.00,9,   -999.0,9,-999.000,9,   -999.0,9,   -999,  -999.0,-999.000,-999.0000,-999.000,  -999.0,-999.000, 28.7416,-999.000
    49RY9407_2,   P09,    62,  1,     24,    222,2,19940807,0040,  9.4980, 136.9970, 4720,     50.5,  28.8169,  33.8683,2,  33.8699,2,    197.9,2,   -999.0,9,  -999.00,9,  -999.00,9,  -999.00,9,  -999.00,9,    1.321,4,    0.902,3, -999.000,9,-999.0000,9,  -999.00,9,   -999.0,9,-999.000,9,   -999.0,9,   -999,  -999.0,-999.000,-999.0000,-999.000,  -999.0,-999.000, 28.8048,-999.000
    49RY9407_2,   P09,    62,  1,     23,    228,2,19940807,0040,  9.4980, 136.9970, 4720,     50.6,  28.8287,  33.8694,2,  33.8729,2,    196.4,2,    196.4,2,     1.30,2,     0.01,2,     0.00,2,     0.01,2, -999.000,9, -999.000,9, -999.000,9,-999.0000,9,  -999.00,9,   -999.0,9,-999.000,9,   -999.0,9,   -999,  -999.0,-999.000,-999.0000,-999.000,  -999.0,-999.000, 28.8165,-999.000
    49RY9407_2,   P09,    62,  1,     21,    226,2,19940807,0040,  9.4980, 136.9970, 4720,     75.0,  27.7320,  34.3962,2,  34.3585,2,    197.3,2,    201.8,2,     1.60,2,     0.05,2,     0.00,2,     0.06,2, -999.000,9, -999.000,9, -999.000,9,-999.0000,9,  -999.00,9,   -999.0,9,-999.000,9,   -999.0,9,   -999,  -999.0,-999.000,-999.0000,-999.000,  -999.0,-999.000, 27.7145,-999.000
    49RY9407_2,   P09,    62,  1,     22,    227,2,19940807,0040,  9.4980, 136.9970, 4720,     75.9,  27.7950,  34.3582,2,  34.3522,2,    196.9,2,   -999.0,9,  -999.00,9,  -999.00,9,  -999.00,9,  -999.00,9,    1.695,2,    1.032,3, -999.000,9,-999.0000,9,  -999.00,9,   -999.0,9,-999.000,9,   -999.0,9,   -999,  -999.0,-999.000,-999.0000,-999.000,  -999.0,-999.000, 27.7772,-999.000
    49RY9407_2,   P09,    62,  1,     19,    210,2,19940807,0040,  9.4980, 136.9970, 4720,    101.1,  25.5449,  34.5656,2,  34.5712,2,    184.5,2,    191.3,2,     2.41,2,     0.11,2,     0.02,2,     0.14,2, -999.000,9, -999.000,9, -999.000,9,-999.0000,9,  -999.00,9,   -999.0,9,-999.000,9,   -999.0,9,   -999,  -999.0,-999.000,-999.0000,-999.000,  -999.0,-999.000, 25.5227,-999.000
    49RY9407_2,   P09,    62,  1,     20,    203,2,19940807,0040,  9.4980, 136.9970, 4720,    101.4,  25.5823,  34.5892,2,  34.5712,2,    184.5,2,   -999.0,9,  -999.00,9,  -999.00,9,  -999.00,9,  -999.00,9,    1.624,2,    0.985,3, -999.000,9,-999.0000,9,  -999.00,9,   -999.0,9,-999.000,9,   -999.0,9,   -999,  -999.0,-999.000,-999.0000,-999.000,   103.0,-999.000, 25.5599,-999.000
    49RY9407_2,   P09,    62,  1,     18,    221,2,19940807,0040,  9.4980, 136.9970, 4720,    124.8,  21.3356,  34.8074,2,  34.8026,2,    168.1,2,    168.8,2,     4.87,2,     4.22,2,     0.08,2,     0.43,2, -999.000,9, -999.000,9, -999.000,9,-999.0000,9,  -999.00,9,   -999.0,9,-999.000,9,   -999.0,9,   -999,  -999.0,-999.000,-999.0000,-999.000,   126.0,-999.000, 21.3115,-999.000
    49RY9407_2,   P09,    62,  1,     16,    229,2,19940807,0040,  9.4980, 136.9970, 4720,    151.8,  19.0371,  34.8827,2,  34.8537,6,    158.2,2,    166.6,2,     5.66,2,     6.18,2,     0.02,2,     0.52,2, -999.000,9, -999.000,9, -999.000,9,-999.0000,9,  -999.00,9,   -999.0,9,-999.000,9,   -999.0,9,   -999,  -999.0,  19.098,-999.0000,-999.000,   147.0,-999.000, 19.0100,-999.000
    49RY9407_2,   P09,    62,  1,     17,    219,2,19940807,0040,  9.4980, 136.9970, 4720,    152.3,  19.0257,  34.8525,2,  34.8455,2,    158.2,2,   -999.0,9,  -999.00,9,  -999.00,9,  -999.00,9,  -999.00,9,    1.446,2,    0.919,3, -999.000,9,-999.0000,9,  -999.00,9,   -999.0,9,-999.000,9,   -999.0,9,   -999,  -999.0,-999.000,-999.0000,-999.000,  -999.0,-999.000, 18.9986,-999.000
    49RY9407_2,   P09,    62,  1,     15,    217,2,19940807,0040,  9.4980, 136.9970, 4720,    200.0,  12.8118,  34.4907,2,  34.4998,2,    126.5,2,    129.9,6,  -999.00,9,  -999.00,9,  -999.00,9,  -999.00,9,    1.419,2,    0.818,3, -999.000,9,-999.0000,9,  -999.00,9,   -999.0,9,-999.000,9,   -999.0,9,   -999,  -999.0,-999.000,-999.0000,-999.000,  -999.0,-999.000, 12.7847,-999.000
    49RY9407_2,   P09,    62,  1,     14,    204,2,19940807,0040,  9.4980, 136.9970, 4720,    200.2,  12.7321,  34.5113,2,  34.4968,2,    126.5,2,    129.6,6,    20.25,6,    19.30,6,     0.01,6,     1.39,6, -999.000,9, -999.000,9, -999.000,9,-999.0000,9,  -999.00,9,   -999.0,9,-999.000,9,   -999.0,9,   -999,  -999.0,  12.855,-999.0000,-999.000,   199.0,-999.000, 12.7051,-999.000
    49RY9407_2,   P09,    62,  1,     12,    213,2,19940807,0040,  9.4980, 136.9970, 4720,    303.3,   9.0945,  34.5041,2,  34.5006,2,     70.4,2,     74.1,2,    40.36,6,    31.90,6,     0.00,6,     2.24,6, -999.000,9, -999.000,9, -999.000,9,-999.0000,9,  -999.00,9,   -999.0,9,-999.000,9,   -999.0,9,   -999,  -999.0,-999.000,-999.0000,-999.000,   305.0,-999.000,  9.0614,-999.000
    49RY9407_2,   P09,    62,  1,     13,    214,2,19940807,0040,  9.4980, 136.9970, 4720,    303.6,   9.0921,  34.4966,2,  34.5008,2,     70.4,2,   -999.0,9,  -999.00,9,  -999.00,9,  -999.00,9,  -999.00,9,    0.785,2,    1.303,4, -999.000,9,-999.0000,9,  -999.00,9,   -999.0,9,-999.000,9,   -999.0,9,   -999,  -999.0,-999.000,-999.0000,-999.000,  -999.0,-999.000,  9.0590,-999.000
    49RY9407_2,   P09,    62,  2,     10,    224,2,19940807,0249,  9.4678, 136.9742, 4595,    403.5,   8.1237,  34.5112,2,  34.5134,2,     70.4,2,     73.2,2,    45.83,2,    34.10,2,     0.00,2,     2.33,2,    0.409,2,    0.242,3, -999.000,9,-999.0000,9,  -999.00,9,   -999.0,9,-999.000,9,   -999.0,9,   -999,  -999.0,-999.000,-999.0000,-999.000,  -999.0,-999.000,  8.0822,-999.000
    49RY9407_2,   P09,    62,  2,      9,    223,2,19940807,0249,  9.4678, 136.9742, 4595,    505.1,   7.3643,  34.5270,2,  34.5303,2,     75.9,2,     76.2,2,    51.00,2,    35.39,2,     0.00,2,     2.46,2,    0.232,2,    0.313,4, -999.000,9,-999.0000,9,  -999.00,9,   -999.0,9,-999.000,9,   -999.0,9,   -999,  -999.0,-999.000,-999.0000,-999.000,  -999.0,-999.000,  7.3149,-999.000
    49RY9407_2,   P09,    62,  2,      8,    212,2,19940807,0249,  9.4678, 136.9742, 4595,    605.0,   6.6316,  34.5055,2,  34.5057,2,     83.3,2,     86.0,2,    58.13,2,    35.71,2,     0.00,2,     2.48,2,    0.052,2,    0.009,3, -999.000,9,-999.0000,9,  -999.00,9,   -999.0,9,-999.000,9,   -999.0,9,   -999,  -999.0,-999.000,-999.0000,-999.000,  -999.0,-999.000,  6.5754,-999.000
    49RY9407_2,   P09,    62,  2,      7,    220,2,19940807,0249,  9.4678, 136.9742, 4595,    705.5,   6.1062,  34.5208,2,  34.5208,2,     82.6,2,     81.6,2,    65.28,2,    36.97,2,     0.00,2,     2.59,2,    0.028,2,    0.000,3, -999.000,9,-999.0000,9,  -999.00,9,   -999.0,9,-999.000,9,   -999.0,9,   -999,  -999.0,-999.000,-999.0000,-999.000,  -999.0,-999.000,  6.0430,-999.000
    49RY9407_2,   P09,    62,  2,      6,    209,2,19940807,0249,  9.4678, 136.9742, 4595,    807.3,   5.4279,  34.5269,2,  34.5271,2,     83.2,2,     83.1,6,    76.19,2,    37.90,2,     0.00,2,     2.67,2,    0.028,2,    0.061,4, -999.000,9,-999.0000,9,  -999.00,9,   -999.0,9,-999.000,9,   -999.0,9,   -999,  -999.0,-999.000,-999.0000,-999.000,  -999.0,-999.000,  5.3591,-999.000
    49RY9407_2,   P09,    62,  2,      5,    218,2,19940807,0249,  9.4678, 136.9742, 4595,    907.0,   5.0195,  34.5374,2,  34.5374,2,     83.5,2,     83.6,2,    83.36,2,    38.45,2,     0.00,2,     2.72,2,    0.023,2,    0.061,4, -999.000,9,-999.0000,9,  -999.00,9,   -999.0,9,-999.000,9,   -999.0,9,   -999,  -999.0,-999.000,-999.0000,-999.000,  -999.0,-999.000,  4.9444,-999.000
    49RY9407_2,   P09,    62,  2,      4,    206,2,19940807,0249,  9.4678, 136.9742, 4595,   1009.9,   4.5847,  34.5452,2,  34.5436,2,     84.6,2,     87.4,2,    91.71,6,    38.79,6,     0.00,6,     2.74,6,    0.010,2,    0.045,4, -999.000,9,-999.0000,9,  -999.00,9,   -999.0,9,-999.000,9,   -999.0,9,   -999,  -999.0,-999.000,-999.0000,-999.000,  -999.0,-999.000,  4.5036,-999.000
    49RY9407_2,   P09,    62,  2,      3,    205,2,19940807,0249,  9.4678, 136.9742, 4595,   1262.7,   3.5341,  34.5746,2,  34.5737,2,     91.2,2,     93.8,2,   112.48,2,    39.23,2,     0.00,2,     2.77,2,    0.003,2,    0.029,4, -999.000,9,-999.0000,9,  -999.00,9,   -999.0,9,-999.000,9,   -999.0,9,   -999,  -999.0,-999.000,-999.0000,-999.000,  -999.0,-999.000,  3.4404,-999.000
    49RY9407_2,   P09,    62,  2,      2,    216,2,19940807,0249,  9.4678, 136.9742, 4595,   1514.7,   2.8590,  34.5993,2,  34.5667,4,     99.6,2,    101.2,2,   125.85,2,    39.21,2,     0.00,2,     2.75,2,    0.006,2,    0.129,4, -999.000,9,-999.0000,9,  -999.00,9,   -999.0,9,-999.000,9,   -999.0,9,   -999,  -999.0,-999.000,-999.0000,-999.000,  -999.0,-999.000,  2.7515,-999.000
    49RY9407_2,   P09,    62,  2,      1,    201,2,19940807,0249,  9.4678, 136.9742, 4595,   1766.7,   2.4116,  34.6216,2,  34.6206,2,    108.3,2,    109.9,2,   133.47,6,    38.97,6,     0.00,6,     2.73,6, -999.000,9, -999.000,9, -999.000,9,-999.0000,9,  -999.00,9,   -999.0,9,-999.000,9,   -999.0,9,   -999,  -999.0,-999.000,-999.0000,-999.000,  -999.0,-999.000,  2.2888,-999.000
    49RY9407_2,   P09,    62,  2,     24,    222,2,19940807,0249,  9.4678, 136.9742, 4595,   2022.3,   2.1426,  34.6367,2,  34.6360,6,    116.3,2,    117.5,2,   137.90,2,    38.69,2,     0.00,2,     2.70,2, -999.000,9, -999.000,9, -999.000,9,-999.0000,9,  -999.00,9,   -999.0,9,-999.000,9,   -999.0,9,   -999,  -999.0,-999.000,-999.0000,-999.000,  -999.0,-999.000,  2.0021,-999.000
    49RY9407_2,   P09,    62,  2,     23,    228,2,19940807,0249,  9.4678, 136.9742, 4595,   2275.7,   1.9631,  34.6471,2,  34.6459,2,    121.7,2,    124.5,2,   140.08,2,    38.16,2,     0.00,2,     2.65,2, -999.000,9, -999.000,9, -999.000,9,-999.0000,9,  -999.00,9,   -999.0,9,-999.000,9,   -999.0,9,   -999,  -999.0,-999.000,-999.0000,-999.000,  -999.0,-999.000,  1.8035,-999.000
    49RY9407_2,   P09,    62,  2,     22,    227,2,19940807,0249,  9.4678, 136.9742, 4595,   2531.6,   1.8097,  34.6571,2,  34.6544,2,    129.9,2,    130.6,2,   142.01,2,    37.96,2,     0.00,2,     2.62,2, -999.000,9, -999.000,9, -999.000,9,-999.0000,9,  -999.00,9,   -999.0,9,-999.000,9,   -999.0,9,   -999,  -999.0,-999.000,-999.0000,-999.000,  -999.0,-999.000,  1.6301,-999.000
    49RY9407_2,   P09,    62,  2,     20,    203,2,19940807,0249,  9.4678, 136.9742, 4595,   2784.7,   1.6898,  34.6637,2,  34.6625,2,    134.1,2,    137.5,2,   142.48,2,    37.49,2,     0.00,2,     2.60,2, -999.000,9, -999.000,9, -999.000,9,-999.0000,9,  -999.00,9,   -999.0,9,-999.000,9,   -999.0,9,   -999,  -999.0,-999.000,-999.0000,-999.000,  2781.0,-999.000,  1.4893,-999.000
    49RY9407_2,   P09,    62,  2,     21,    226,2,19940807,0249,  9.4678, 136.9742, 4595,   2784.7,   1.6898,  34.6637,2,  34.6627,2,    134.1,2,    136.9,2,   142.47,2,    37.48,2,     0.00,2,     2.59,2, -999.000,9, -999.000,9, -999.000,9,-999.0000,9,  -999.00,9,   -999.0,9,-999.000,9,   -999.0,9,   -999,  -999.0,-999.000,-999.0000,-999.000,  -999.0,-999.000,  1.4893,-999.000
    49RY9407_2,   P09,    62,  2,     19,    210,2,19940807,0249,  9.4678, 136.9742, 4595,   3040.0,   1.6018,  34.6712,2,  34.6699,2,    143.0,2,    142.4,2,   142.76,2,    37.11,2,     0.00,2,     2.57,2, -999.000,9, -999.000,9, -999.000,9,-999.0000,9,  -999.00,9,   -999.0,9,-999.000,9,   -999.0,9,   -999,  -999.0,-999.000,-999.0000,-999.000,  -999.0,-999.000,  1.3790,-999.000
    49RY9407_2,   P09,    62,  2,     18,    221,2,19940807,0249,  9.4678, 136.9742, 4595,   3294.9,   1.5593,  34.6753,2,  34.6747,6,    146.6,2,    147.6,2,   141.73,2,    36.78,2,     0.00,2,     2.54,2, -999.000,9, -999.000,9, -999.000,9,-999.0000,9,  -999.00,9,   -999.0,9,-999.000,9,   -999.0,9,   -999,  -999.0,-999.000,-999.0000,-999.000,  3293.0,-999.000,  1.3124,-999.000
    49RY9407_2,   P09,    62,  2,     17,    219,2,19940807,0249,  9.4678, 136.9742, 4595,   3550.2,   1.5437,  34.6792,2,  34.6770,2,    149.1,2,    151.3,6,   140.92,6,    36.57,6,     0.00,6,     2.50,6, -999.000,9, -999.000,9, -999.000,9,-999.0000,9,  -999.00,9,   -999.0,9,-999.000,9,   -999.0,9,   -999,  -999.0,-999.000,-999.0000,-999.000,  -999.0,-999.000,  1.2713,-999.000
    49RY9407_2,   P09,    62,  2,     16,    229,2,19940807,0249,  9.4678, 136.9742, 4595,   3805.0,   1.5382,  34.6808,2,  34.6802,2,    153.7,2,    152.9,2,   140.60,2,    36.42,2,     0.00,2,     2.51,2, -999.000,9, -999.000,9, -999.000,9,-999.0000,9,  -999.00,9,   -999.0,9,-999.000,9,   -999.0,9,   -999,  -999.0,   1.535,-999.0000,-999.000,  3802.0,-999.000,  1.2393,-999.000
    49RY9407_2,   P09,    62,  2,     15,    217,2,19940807,0249,  9.4678, 136.9742, 4595,   4063.4,   1.5298,  34.6841,2,  34.6824,6,    156.3,2,    156.8,2,   139.63,2,    36.26,2,     0.00,2,     2.48,2, -999.000,9, -999.000,9, -999.000,9,-999.0000,9,  -999.00,9,   -999.0,9,-999.000,9,   -999.0,9,   -999,  -999.0,-999.000,-999.0000,-999.000,  -999.0,-999.000,  1.2032,-999.000
    49RY9407_2,   P09,    62,  2,     14,    204,2,19940807,0249,  9.4678, 136.9742, 4595,   4318.8,   1.5341,  34.6846,2,  34.6902,4,    159.4,2,    158.8,2,   138.94,2,    36.09,2,     0.00,2,     2.48,2, -999.000,9, -999.000,9, -999.000,9,-999.0000,9,  -999.00,9,   -999.0,9,-999.000,9,   -999.0,9,   -999,  -999.0,   1.532,-999.0000,-999.000,  4313.0,-999.000,  1.1788,-999.000
    49RY9407_2,   P09,    62,  2,     13,    214,2,19940807,0249,  9.4678, 136.9742, 4595,   4576.7,   1.5595,  34.6850,2,  34.6855,2,    160.0,2,    158.2,2,   138.93,2,    36.08,2,     0.00,2,     2.49,2, -999.000,9, -999.000,9, -999.000,9,-999.0000,9,  -999.00,9,   -999.0,9,-999.000,9,   -999.0,9,   -999,  -999.0,-999.000,-999.0000,-999.000,     9.0,-999.000,  1.1738,-999.000
    49RY9407_2,   P09,    62,  2,     12,    213,4,19940807,0249,  9.4678, 136.9742, 4595,   4732.6,   1.5745,  34.6854,2,  34.6850,6,    161.0,2,    159.5,2,   138.84,2,    36.06,2,     0.00,2,     2.47,2, -999.000,9, -999.000,9, -999.000,9,-999.0000,9,  -999.00,9,   -999.0,9,-999.000,9,   -999.0,9,   -999,  -999.0,-999.000,-999.0000,-999.000,  4726.0,-999.000,  1.1700,-999.000