BOTTLE,20020306WHPSIOdm
EXPOCODE,SECT_ID,STNNBR,CASTNO,SAMPNO,BTLNBR,BTLNBR_FLAG_W,DATE,TIME,LATITUDE,LONGITUDE,DEPTH,CTDPRS,CTDTMP,CTDSAL,CTDSAL_FLAG_W,SALNTY,SALNTY_FLAG_W,CTDOXY,CTDOXY_FLAG_W,OXYGEN,OXYGEN_FLAG_W,SILCAT,SILCAT_FLAG_W,NITRAT,NITRAT_FLAG_W,NITRIT,NITRIT_FLAG_W,PHSPHT,PHSPHT_FLAG_W,CFC-11,CFC-11_FLAG_W,CFC-12,CFC-12_FLAG_W,TRITUM,TRITUM_FLAG_W,HELIUM,HELIUM_FLAG_W,DELHE3,DELHE3_FLAG_W,DELC14,DELC14_FLAG_W,NEON,NEON_FLAG_W,TCARBN,TCARBN_FLAG_W,CTDRAW,C14ERR,REVTMP,HELIER,DELHER,REVPRS,NEONER,THETA,TRITER
,,,,,,,,,,,,DBAR,ITS-90,PSS-78,,PSS-78,,UMOL/KG,,UMOL/KG,,UMOL/KG,,UMOL/KG,,UMOL/KG,,UMOL/KG,,PMOL/KG,,PMOL/KG,,TU,,NMOL/KG,,PERCNT,,/MILLE,,NMOL/KG,,UMOL/KG,,,/MILLE,ITS-90,NMOL/KG,PERCNT,DBAR,NMOL/KG,DEG C,TU
    49RY9407_2,   P09,    84,  1,      0,      0,2,19940812,0649,  2.2723, 141.7647, 2585,      0.7,  29.1530,  34.1311,2,-999.0000,9,   -999.0,9,    197.2,2,     1.45,2,     0.00,2,     0.00,2,     0.05,2, -999.000,9, -999.000,9, -999.000,9,-999.0000,9,  -999.00,9,   -999.0,9,-999.000,9,   -999.0,9,   -999,  -999.0,-999.000,-999.0000,-999.000,  -999.0,-999.000, 29.1528,-999.000
    49RY9407_2,   P09,    84,  1,     10,    224,2,19940812,0649,  2.2723, 141.7647, 2585,     24.8,  29.0600,  34.1640,2,  34.1642,2,   -999.0,9,    197.5,2,     1.33,2,     0.00,2,     0.00,2,     0.06,2, -999.000,9, -999.000,9, -999.000,9,-999.0000,9,  -999.00,9,   -999.0,9,-999.000,9,   -999.0,9,   -999,  -999.0,-999.000,-999.0000,-999.000,  -999.0,-999.000, 29.0540,-999.000
    49RY9407_2,   P09,    84,  1,      9,    223,2,19940812,0649,  2.2723, 141.7647, 2585,     50.4,  28.4492,  34.2859,2,  34.2913,2,   -999.0,9,    197.2,2,     1.19,6,     0.01,6,     0.00,6,     0.07,6, -999.000,9, -999.000,9, -999.000,9,-999.0000,9,  -999.00,9,   -999.0,9,-999.000,9,   -999.0,9,   -999,  -999.0,-999.000,-999.0000,-999.000,  -999.0,-999.000, 28.4373,-999.000
    49RY9407_2,   P09,    84,  1,      8,    212,2,19940812,0649,  2.2723, 141.7647, 2585,     75.6,  27.1994,  34.5017,2,  34.4245,3,   -999.0,9,    194.3,2,     1.02,2,     0.03,2,     0.02,2,     0.11,2, -999.000,9, -999.000,9, -999.000,9,-999.0000,9,  -999.00,9,   -999.0,9,-999.000,9,   -999.0,9,   -999,  -999.0,-999.000,-999.0000,-999.000,  -999.0,-999.000, 27.1820,-999.000
    49RY9407_2,   P09,    84,  1,      7,    220,2,19940812,0649,  2.2723, 141.7647, 2585,     99.7,  26.4525,  35.0991,2,  35.1007,2,   -999.0,9,    150.8,2,     2.84,2,     5.61,2,     0.17,2,     0.53,2, -999.000,9, -999.000,9, -999.000,9,-999.0000,9,  -999.00,9,   -999.0,9,-999.000,9,   -999.0,9,   -999,  -999.0,-999.000,-999.0000,-999.000,  -999.0,-999.000, 26.4300,-999.000
    49RY9407_2,   P09,    84,  1,      6,    209,2,19940812,0649,  2.2723, 141.7647, 2585,    125.8,  23.6152,  35.1363,2,  35.1331,2,   -999.0,9,    138.3,2,     4.10,2,     8.01,2,     0.04,2,     0.62,2, -999.000,9, -999.000,9, -999.000,9,-999.0000,9,  -999.00,9,   -999.0,9,-999.000,9,   -999.0,9,   -999,  -999.0,-999.000,-999.0000,-999.000,  -999.0,-999.000, 23.5890,-999.000
    49RY9407_2,   P09,    84,  1,      5,    218,2,19940812,0649,  2.2723, 141.7647, 2585,    150.6,  21.9835,  35.1262,2,  35.1185,2,   -999.0,9,    136.2,6,     5.47,2,     9.29,2,     0.02,2,     0.69,2, -999.000,9, -999.000,9, -999.000,9,-999.0000,9,  -999.00,9,   -999.0,9,-999.000,9,   -999.0,9,   -999,  -999.0,-999.000,-999.0000,-999.000,  -999.0,-999.000, 21.9537,-999.000
    49RY9407_2,   P09,    84,  1,      4,    206,2,19940812,0649,  2.2723, 141.7647, 2585,    201.0,  17.2147,  34.8272,2,  34.8312,2,   -999.0,9,    158.2,2,     9.40,2,    10.37,2,     0.01,2,     0.75,2, -999.000,9, -999.000,9, -999.000,9,-999.0000,9,  -999.00,9,   -999.0,9,-999.000,9,   -999.0,9,   -999,  -999.0,-999.000,-999.0000,-999.000,  -999.0,-999.000, 17.1812,-999.000
    49RY9407_2,   P09,    84,  1,      3,    205,2,19940812,0649,  2.2723, 141.7647, 2585,    303.2,  10.0332,  34.5232,2,  34.5222,2,   -999.0,9,    106.4,2,    34.32,6,    26.96,6,     0.00,6,     1.89,6, -999.000,9, -999.000,9, -999.000,9,-999.0000,9,  -999.00,9,   -999.0,9,-999.000,9,   -999.0,9,   -999,  -999.0,-999.000,-999.0000,-999.000,  -999.0,-999.000,  9.9979,-999.000
    49RY9407_2,   P09,    84,  1,      2,    216,2,19940812,0649,  2.2723, 141.7647, 2585,    403.1,   8.2516,  34.5329,2,  34.5350,2,   -999.0,9,     90.4,2,    42.74,2,    32.02,2,     0.00,2,     2.23,2, -999.000,9, -999.000,9, -999.000,9,-999.0000,9,  -999.00,9,   -999.0,9,-999.000,9,   -999.0,9,   -999,  -999.0,-999.000,-999.0000,-999.000,  -999.0,-999.000,  8.2098,-999.000
    49RY9407_2,   P09,    84,  1,      1,    201,2,19940812,0649,  2.2723, 141.7647, 2585,    503.7,   7.1707,  34.5521,2,  34.5509,2,   -999.0,9,    100.8,2,    45.46,2,    33.67,2,     0.00,2,     2.32,2, -999.000,9, -999.000,9, -999.000,9,-999.0000,9,  -999.00,9,   -999.0,9,-999.000,9,   -999.0,9,   -999,  -999.0,-999.000,-999.0000,-999.000,  -999.0,-999.000,  7.1222,-999.000
    49RY9407_2,   P09,    84,  1,     24,    222,2,19940812,0649,  2.2723, 141.7647, 2585,    604.4,   6.3570,  34.5374,2,  34.5375,2,   -999.0,9,    100.1,2,    53.76,2,    35.33,2,     0.00,2,     2.45,2, -999.000,9, -999.000,9, -999.000,9,-999.0000,9,  -999.00,9,   -999.0,9,-999.000,9,   -999.0,9,   -999,  -999.0,-999.000,-999.0000,-999.000,  -999.0,-999.000,  6.3020,-999.000
    49RY9407_2,   P09,    84,  1,     23,    228,2,19940812,0649,  2.2723, 141.7647, 2585,    705.6,   5.8305,  34.5366,2,  34.5362,2,   -999.0,9,     92.9,2,    62.85,2,    36.88,2,     0.00,2,     2.58,2, -999.000,9, -999.000,9, -999.000,9,-999.0000,9,  -999.00,9,   -999.0,9,-999.000,9,   -999.0,9,   -999,  -999.0,-999.000,-999.0000,-999.000,  -999.0,-999.000,  5.7688,-999.000
    49RY9407_2,   P09,    84,  1,     22,    227,2,19940812,0649,  2.2723, 141.7647, 2585,    806.6,   5.3206,  34.5434,2,  34.5438,2,   -999.0,9,     85.0,6,    71.85,2,    38.59,2,     0.00,2,     2.69,2, -999.000,9, -999.000,9, -999.000,9,-999.0000,9,  -999.00,9,   -999.0,9,-999.000,9,   -999.0,9,   -999,  -999.0,-999.000,-999.0000,-999.000,  -999.0,-999.000,  5.2525,-999.000
    49RY9407_2,   P09,    84,  1,     21,    226,2,19940812,0649,  2.2723, 141.7647, 2585,    906.5,   4.6761,  34.5507,2,  34.5527,2,   -999.0,9,     86.9,2,    84.33,6,    39.02,6,     0.00,6,     2.74,6, -999.000,9, -999.000,9, -999.000,9,-999.0000,9,  -999.00,9,   -999.0,9,-999.000,9,   -999.0,9,   -999,  -999.0,-999.000,-999.0000,-999.000,  -999.0,-999.000,  4.6034,-999.000
    49RY9407_2,   P09,    84,  1,     19,    215,2,19940812,0649,  2.2723, 141.7647, 2585,   1008.8,   4.2386,  34.5605,2,  34.5612,2,   -999.0,9,     94.5,2,    93.32,2,    38.59,2,     0.00,2,     2.69,2, -999.000,9, -999.000,9, -999.000,9,-999.0000,9,  -999.00,9,   -999.0,9,-999.000,9,   -999.0,9,   -999,  -999.0,-999.000,-999.0000,-999.000,  -999.0,-999.000,  4.1603,-999.000
    49RY9407_2,   P09,    84,  1,     20,    203,2,19940812,0649,  2.2723, 141.7647, 2585,   1008.8,   4.2386,  34.5605,2,  34.5612,2,   -999.0,9,     95.8,2,    93.10,2,    38.48,2,     0.00,2,     2.69,2, -999.000,9, -999.000,9, -999.000,9,-999.0000,9,  -999.00,9,   -999.0,9,-999.000,9,   -999.0,9,   -999,  -999.0,-999.000,-999.0000,-999.000,  1009.0,-999.000,  4.1603,-999.000
    49RY9407_2,   P09,    84,  1,     18,    221,2,19940812,0649,  2.2723, 141.7647, 2585,   1261.3,   3.3183,  34.5882,2,  34.5895,2,   -999.0,9,    103.2,2,   110.77,2,    38.66,2,     0.00,2,     2.67,2, -999.000,9, -999.000,9, -999.000,9,-999.0000,9,  -999.00,9,   -999.0,9,-999.000,9,   -999.0,9,   -999,  -999.0,-999.000,-999.0000,-999.000,  1262.0,-999.000,  3.2268,-999.000
    49RY9407_2,   P09,    84,  1,     17,    219,2,19940812,0649,  2.2723, 141.7647, 2585,   1513.5,   2.7857,  34.6084,2,  34.6099,2,   -999.0,9,    109.4,2,   122.03,2,    38.74,2,     0.00,2,     2.71,2, -999.000,9, -999.000,9, -999.000,9,-999.0000,9,  -999.00,9,   -999.0,9,-999.000,9,   -999.0,9,   -999,  -999.0,-999.000,-999.0000,-999.000,  -999.0,-999.000,  2.6792,-999.000
    49RY9407_2,   P09,    84,  1,     16,    229,2,19940812,0649,  2.2723, 141.7647, 2585,   1766.4,   2.5393,  34.6182,2,  34.6196,2,   -999.0,9,    111.9,2,   128.63,2,    38.56,2,     0.00,2,     2.68,2, -999.000,9, -999.000,9, -999.000,9,-999.0000,9,  -999.00,9,   -999.0,9,-999.000,9,   -999.0,9,   -999,  -999.0,   2.530,-999.0000,-999.000,  1761.0,-999.000,  2.4148,-999.000
    49RY9407_2,   P09,    84,  1,     15,    217,2,19940812,0649,  2.2723, 141.7647, 2585,   2021.0,   2.1709,  34.6375,2,  34.6381,2,   -999.0,9,    120.2,6,   135.19,6,    38.25,6,     0.00,6,     2.63,6, -999.000,9, -999.000,9, -999.000,9,-999.0000,9,  -999.00,9,   -999.0,9,-999.000,9,   -999.0,9,   -999,  -999.0,-999.000,-999.0000,-999.000,  -999.0,-999.000,  2.0300,-999.000
    49RY9407_2,   P09,    84,  1,     14,    204,2,19940812,0649,  2.2723, 141.7647, 2585,   2274.4,   2.0127,  34.6469,2,  34.6473,2,   -999.0,9,    123.4,2,   138.87,2,    38.01,2,     0.01,2,     2.64,2, -999.000,9, -999.000,9, -999.000,9,-999.0000,9,  -999.00,9,   -999.0,9,-999.000,9,   -999.0,9,   -999,  -999.0,   2.017,-999.0000,-999.000,  2268.0,-999.000,  1.8524,-999.000
    49RY9407_2,   P09,    84,  1,     13,    214,2,19940812,0649,  2.2723, 141.7647, 2585,   2527.0,   1.7823,  34.6596,2,  34.6601,2,   -999.0,9,    131.8,2,   141.43,2,    37.66,2,     0.00,2,     2.57,2, -999.000,9, -999.000,9, -999.000,9,-999.0000,9,  -999.00,9,   -999.0,9,-999.000,9,   -999.0,9,   -999,  -999.0,-999.000,-999.0000,-999.000,  2507.0,-999.000,  1.6036,-999.000
    49RY9407_2,   P09,    84,  1,     12,    213,4,19940812,0649,  2.2723, 141.7647, 2585,   2597.4,   1.7299,  34.6623,2,  34.6625,2,   -999.0,9,    134.5,2,   142.07,2,    37.47,2,     0.00,2,     2.59,2, -999.000,9, -999.000,9, -999.000,9,-999.0000,9,  -999.00,9,   -999.0,9,-999.000,9,   -999.0,9,   -999,  -999.0,-999.000,-999.0000,-999.000,  2588.0,-999.000,  1.5458,-999.000
    49RY9407_2,   P09,    84,  1,     11,    225,4,19940812,0649,  2.2723, 141.7647, 2585,   2602.4,   1.7280,  34.6625,2,  34.6625,2,   -999.0,9,    134.2,6,   142.41,2,    37.41,2,     0.00,2,     2.58,2, -999.000,9, -999.000,9, -999.000,9,-999.0000,9,  -999.00,9,   -999.0,9,-999.000,9,   -999.0,9,   -999,  -999.0,-999.000,-999.0000,-999.000,  -999.0,-999.000,  1.5435,-999.000
    49RY9407_2,   P09,    85,  1,      0,      0,2,19940812,1026,  2.0147, 142.0098, 2595,      0.0,  28.8471,  33.7051,2,-999.0000,9,   -999.0,9,    199.0,6,     1.30,2,     0.01,2,     0.00,2,     0.05,2, -999.000,9, -999.000,9, -999.000,9,-999.0000,9,  -999.00,9,   -999.0,1,-999.000,9,   1868.3,3,   -999,  -999.0,-999.000,-999.0000,-999.000,  -999.0,-999.000, 28.8476,-999.000
    49RY9407_2,   P09,    85,  1,     11,    225,2,19940812,1026,  2.0147, 142.0098, 2595,     10.6,  28.9963,  34.1260,2,  34.1281,2,   -999.0,9,    198.5,2,     1.35,2,     0.01,2,     0.00,2,     0.05,2, -999.000,9, -999.000,9, -999.000,9,-999.0000,9,  -999.00,9,   -999.0,1,-999.000,9,   1901.6,2,   -999,  -999.0,-999.000,-999.0000,-999.000,  -999.0,-999.000, 28.9938,-999.000
    49RY9407_2,   P09,    85,  1,     10,    224,2,19940812,1026,  2.0147, 142.0098, 2595,     25.6,  28.8415,  34.1869,2,  34.1878,2,   -999.0,9,    197.9,2,     1.35,6,     0.00,6,     0.00,6,     0.06,6, -999.000,9, -999.000,9, -999.000,9,-999.0000,9,  -999.00,9,   -999.0,1,-999.000,9,   1906.2,6,   -999,  -999.0,-999.000,-999.0000,-999.000,  -999.0,-999.000, 28.8354,-999.000
    49RY9407_2,   P09,    85,  1,      9,    223,2,19940812,1026,  2.0147, 142.0098, 2595,     50.9,  28.7401,  34.4553,2,  34.4565,2,   -999.0,9,    195.3,2,     1.35,2,     0.00,2,     0.00,2,     0.12,2, -999.000,9, -999.000,9, -999.000,9,-999.0000,9,  -999.00,9,   -999.0,1,-999.000,9,   1925.7,2,   -999,  -999.0,-999.000,-999.0000,-999.000,  -999.0,-999.000, 28.7279,-999.000
    49RY9407_2,   P09,    85,  1,      8,    212,2,19940812,1026,  2.0147, 142.0098, 2595,     75.3,  27.6730,  34.4672,2,  34.4685,2,   -999.0,9,    192.3,2,     0.90,2,     0.18,2,     0.05,2,     0.14,2, -999.000,9, -999.000,9, -999.000,9,-999.0000,9,  -999.00,9,   -999.0,1,-999.000,9,   1934.5,2,   -999,  -999.0,-999.000,-999.0000,-999.000,  -999.0,-999.000, 27.6554,-999.000
    49RY9407_2,   P09,    85,  1,      7,    220,2,19940812,1026,  2.0147, 142.0098, 2595,    101.7,  27.1120,  35.1072,2,  35.1106,2,   -999.0,9,    157.5,2,     2.50,2,     4.59,2,     0.21,2,     0.49,2, -999.000,9, -999.000,9, -999.000,9,-999.0000,9,  -999.00,9,   -999.0,1,-999.000,9,   2005.4,2,   -999,  -999.0,-999.000,-999.0000,-999.000,  -999.0,-999.000, 27.0886,-999.000
    49RY9407_2,   P09,    85,  1,      6,    209,2,19940812,1026,  2.0147, 142.0098, 2595,    125.6,  25.6852,  35.0694,2,  35.0737,2,   -999.0,9,    143.6,6,     3.35,2,     6.63,2,     0.09,2,     0.51,2, -999.000,9, -999.000,9, -999.000,9,-999.0000,9,  -999.00,9,   -999.0,1,-999.000,9,   2021.2,2,   -999,  -999.0,-999.000,-999.0000,-999.000,  -999.0,-999.000, 25.6574,-999.000
    49RY9407_2,   P09,    85,  1,      5,    218,2,19940812,1026,  2.0147, 142.0098, 2595,    151.2,  22.2265,  35.0381,2,  35.0319,2,   -999.0,9,    135.3,2,     5.72,2,     9.16,2,     0.02,2,     0.68,2, -999.000,9, -999.000,9, -999.000,9,-999.0000,9,  -999.00,9,   -999.0,1,-999.000,9,   2049.9,2,   -999,  -999.0,-999.000,-999.0000,-999.000,  -999.0,-999.000, 22.1964,-999.000
    49RY9407_2,   P09,    85,  1,      4,    206,2,19940812,1026,  2.0147, 142.0098, 2595,    202.1,  17.3047,  34.9992,2,  35.0219,2,   -999.0,9,    143.9,2,     9.73,6,    12.26,6,     0.01,6,     0.88,6, -999.000,9, -999.000,9, -999.000,9,-999.0000,9,  -999.00,9,   -999.0,1,-999.000,9,   2093.2,2,   -999,  -999.0,-999.000,-999.0000,-999.000,  -999.0,-999.000, 17.2710,-999.000
    49RY9407_2,   P09,    85,  1,      3,    205,2,19940812,1026,  2.0147, 142.0098, 2595,    302.4,  11.0241,  34.8307,2,  34.8314,2,   -999.0,9,    147.0,2,    15.75,2,    21.99,2,     0.01,2,     1.52,2, -999.000,9, -999.000,9, -999.000,9,-999.0000,9,  -999.00,9,   -999.0,1,-999.000,9,   2157.8,2,   -999,  -999.0,-999.000,-999.0000,-999.000,  -999.0,-999.000, 10.9867,-999.000
    49RY9407_2,   P09,    85,  1,      2,    216,2,19940812,1026,  2.0147, 142.0098, 2595,    402.8,   8.2022,  34.5400,2,  34.5389,2,   -999.0,9,     92.2,2,    42.95,2,    31.98,2,     0.00,2,     2.19,2, -999.000,9, -999.000,9, -999.000,9,-999.0000,9,  -999.00,9,   -999.0,1,-999.000,9,   2226.0,2,   -999,  -999.0,-999.000,-999.0000,-999.000,  -999.0,-999.000,  8.1605,-999.000
    49RY9407_2,   P09,    85,  1,      1,    201,2,19940812,1026,  2.0147, 142.0098, 2595,    503.4,   6.8931,  34.5455,2,  34.5446,2,   -999.0,9,    100.6,2,    48.08,2,    34.27,2,     0.00,2,     2.37,2, -999.000,9, -999.000,9, -999.000,9,-999.0000,9,  -999.00,9,   -999.0,1,-999.000,9,   2239.1,6,   -999,  -999.0,-999.000,-999.0000,-999.000,  -999.0,-999.000,  6.8457,-999.000
    49RY9407_2,   P09,    85,  1,     24,    222,2,19940812,1026,  2.0147, 142.0098, 2595,    604.1,   6.2098,  34.5321,2,  34.5315,2,   -999.0,9,    119.8,2,    48.34,2,    34.11,2,     0.00,2,     2.35,2, -999.000,9, -999.000,9, -999.000,9,-999.0000,9,  -999.00,9,   -999.0,1,-999.000,9,   2236.9,2,   -999,  -999.0,-999.000,-999.0000,-999.000,  -999.0,-999.000,  6.1555,-999.000
    49RY9407_2,   P09,    85,  1,     23,    228,2,19940812,1026,  2.0147, 142.0098, 2595,    705.7,   5.9598,  34.5366,2,  34.5350,2,   -999.0,9,     97.7,6,    60.15,2,    36.40,2,     0.00,2,     2.52,2, -999.000,9, -999.000,9, -999.000,9,-999.0000,9,  -999.00,9,   -999.0,1,-999.000,9,   2258.3,2,   -999,  -999.0,-999.000,-999.0000,-999.000,  -999.0,-999.000,  5.8973,-999.000
    49RY9407_2,   P09,    85,  1,     22,    227,2,19940812,1026,  2.0147, 142.0098, 2595,    807.5,   5.2413,  34.5385,2,  34.5401,2,   -999.0,9,     95.5,2,    73.43,6,    37.39,6,     0.00,6,     2.61,6, -999.000,9, -999.000,9, -999.000,9,-999.0000,9,  -999.00,9,   -999.0,1,-999.000,9,   2279.5,2,   -999,  -999.0,-999.000,-999.0000,-999.000,  -999.0,-999.000,  5.1736,-999.000
    49RY9407_2,   P09,    85,  1,     21,    226,2,19940812,1026,  2.0147, 142.0098, 2595,    908.4,   4.7775,  34.5494,2,  34.5511,2,   -999.0,9,     86.5,2,    82.83,2,    38.84,2,     0.00,2,     2.72,2, -999.000,9, -999.000,9, -999.000,9,-999.0000,9,  -999.00,9,   -999.0,1,-999.000,9,   2295.7,2,   -999,  -999.0,-999.000,-999.0000,-999.000,  -999.0,-999.000,  4.7039,-999.000
    49RY9407_2,   P09,    85,  1,     19,    215,2,19940812,1026,  2.0147, 142.0098, 2595,   1008.2,   4.2315,  34.5610,2,  34.5621,2,   -999.0,9,     93.5,2,    94.25,2,    38.65,2,     0.00,2,     2.69,2, -999.000,9, -999.000,9, -999.000,9,-999.0000,9,  -999.00,9,   -999.0,1,-999.000,9,   2305.1,2,   -999,  -999.0,-999.000,-999.0000,-999.000,  -999.0,-999.000,  4.1532,-999.000
    49RY9407_2,   P09,    85,  1,     20,    203,2,19940812,1026,  2.0147, 142.0098, 2595,   1008.2,   4.2315,  34.5610,2,-999.0000,5,   -999.0,9,     93.4,2,    94.33,2,    38.72,2,     0.00,2,     2.70,2, -999.000,9, -999.000,9, -999.000,9,-999.0000,9,  -999.00,9,   -999.0,1,-999.000,9,   2301.4,2,   -999,  -999.0,-999.000,-999.0000,-999.000,  1007.0,-999.000,  4.1532,-999.000
    49RY9407_2,   P09,    85,  1,     18,    221,2,19940812,1026,  2.0147, 142.0098, 2595,   1261.3,   3.3992,  34.5862,2,  34.5867,2,   -999.0,9,    101.8,2,   111.62,2,    38.61,2,     0.00,2,     2.72,2, -999.000,9, -999.000,9, -999.000,9,-999.0000,9,  -999.00,9,   -999.0,1,-999.000,9,   2316.2,2,   -999,  -999.0,-999.000,-999.0000,-999.000,  1261.0,-999.000,  3.3070,-999.000
    49RY9407_2,   P09,    85,  1,     17,    219,2,19940812,1026,  2.0147, 142.0098, 2595,   1513.9,   2.7985,  34.6078,2,-999.0000,5,   -999.0,9,    109.1,6,   122.26,2,    38.76,2,     0.00,2,     2.69,2, -999.000,9, -999.000,9, -999.000,9,-999.0000,9,  -999.00,9,   -999.0,1,-999.000,9,   2325.8,2,   -999,  -999.0,-999.000,-999.0000,-999.000,  -999.0,-999.000,  2.6918,-999.000
    49RY9407_2,   P09,    85,  1,     16,    229,2,19940812,1026,  2.0147, 142.0098, 2595,   1767.2,   2.4965,  34.6207,2,  34.6229,2,   -999.0,9,    113.1,2,   129.33,6,    38.58,6,     0.00,6,     2.69,6, -999.000,9, -999.000,9, -999.000,5,   1.8758,2,    22.64,2,   -999.0,1,   7.952,2,   -999.0,9,   -999,  -999.0,   2.491,  0.0031,   0.180,  1763.0,   0.018,  2.3725,-999.000
    49RY9407_2,   P09,    85,  1,     15,    217,2,19940812,1026,  2.0147, 142.0098, 2595,   2021.5,   2.1658,  34.6382,2,  34.6396,2,   -999.0,9,    119.3,2,   136.40,2,    38.29,2,     0.00,2,     2.66,2, -999.000,9, -999.000,9, -999.000,9,-999.0000,9,  -999.00,9,   -999.0,1,-999.000,9,   2335.7,6,   -999,  -999.0,-999.000,-999.0000,-999.000,  -999.0,-999.000,  2.0250,-999.000
    49RY9407_2,   P09,    85,  1,     14,    204,2,19940812,1026,  2.0147, 142.0098, 2595,   2276.1,   1.9601,  34.6494,2,  34.6507,2,   -999.0,9,    125.1,2,  -999.00,9,  -999.00,9,  -999.00,9,  -999.00,9, -999.000,9, -999.000,9, -999.000,5,   1.8897,2,    21.93,2,   -999.0,1,   7.997,2,   -999.0,9,   -999,  -999.0,   1.957,  0.0031,   0.180,  2272.0,   0.018,  1.8006,-999.000
    49RY9407_2,   P09,    85,  1,     13,    214,2,19940812,1026,  2.0147, 142.0098, 2595,   2571.0,   1.7358,  34.6614,2,  34.6634,2,   -999.0,9,    134.2,2,   142.26,6,    37.45,6,     0.00,6,     2.59,6, -999.000,9, -999.000,9, -999.000,9,-999.0000,9,  -999.00,9,   -999.0,1,-999.000,9,   2331.4,2,   -999,  -999.0,-999.000,-999.0000,-999.000,  -999.0,-999.000,  1.5540,-999.000
    49RY9407_2,   P09,    85,  1,     12,    213,4,19940812,1026,  2.0147, 142.0098, 2595,   2574.7,   1.7356,  34.6619,2,  34.6595,3,   -999.0,9,    133.9,2,   142.08,2,    37.48,6,     0.00,6,     2.58,6, -999.000,9, -999.000,9, -999.000,9,-999.0000,9,  -999.00,9,   -999.0,9,-999.000,9,   -999.0,9,   -999,  -999.0,-999.000,-999.0000,-999.000,  2569.0,-999.000,  1.5535,-999.000