BOTTLE,20020306WHPSIOdm
EXPOCODE,SECT_ID,STNNBR,CASTNO,SAMPNO,BTLNBR,BTLNBR_FLAG_W,DATE,TIME,LATITUDE,LONGITUDE,DEPTH,CTDPRS,CTDTMP,CTDSAL,CTDSAL_FLAG_W,SALNTY,SALNTY_FLAG_W,CTDOXY,CTDOXY_FLAG_W,OXYGEN,OXYGEN_FLAG_W,SILCAT,SILCAT_FLAG_W,NITRAT,NITRAT_FLAG_W,NITRIT,NITRIT_FLAG_W,PHSPHT,PHSPHT_FLAG_W,CFC-11,CFC-11_FLAG_W,CFC-12,CFC-12_FLAG_W,TRITUM,TRITUM_FLAG_W,HELIUM,HELIUM_FLAG_W,DELHE3,DELHE3_FLAG_W,DELC14,DELC14_FLAG_W,NEON,NEON_FLAG_W,TCARBN,TCARBN_FLAG_W,CTDRAW,C14ERR,REVTMP,HELIER,DELHER,REVPRS,NEONER,THETA,TRITER
,,,,,,,,,,,,DBAR,ITS-90,PSS-78,,PSS-78,,UMOL/KG,,UMOL/KG,,UMOL/KG,,UMOL/KG,,UMOL/KG,,UMOL/KG,,PMOL/KG,,PMOL/KG,,TU,,NMOL/KG,,PERCNT,,/MILLE,,NMOL/KG,,UMOL/KG,,,/MILLE,ITS-90,NMOL/KG,PERCNT,DBAR,NMOL/KG,DEG C,TU
    49RY9407_1,   P09,    13,  1,      0,      0,2,19940710,1723, 32.3348, 137.0013, 4050,      0.1,  29.3788,  34.3166,2,-999.0000,9,    202.2,2,    198.6,6,     1.46,6,     0.12,6,     0.00,6,     0.01,6, -999.000,9, -999.000,9, -999.000,9,-999.0000,9,  -999.00,9,   -999.0,9,-999.000,9,   -999.0,9,   -999,  -999.0,-999.000,-999.0000,-999.000,  -999.0,-999.000, 29.3788,-999.000
    49RY9407_1,   P09,    13,  1,      5,    207,2,19940710,1723, 32.3348, 137.0013, 4050,      9.7,  28.3690,  34.2324,2,  34.2524,2,    212.5,2,   -999.0,5,     1.42,2,     0.04,2,     0.00,2,     0.01,2, -999.000,9, -999.000,9, -999.000,9,-999.0000,9,  -999.00,9,   -999.0,9,-999.000,9,   -999.0,9,   -999,  -999.0,-999.000,-999.0000,-999.000,  -999.0,-999.000, 28.3667,-999.000
    49RY9407_1,   P09,    13,  1,      4,    206,2,19940710,1723, 32.3348, 137.0013, 4050,     24.4,  25.4962,  34.5286,2,  34.5269,2,    215.4,2,   -999.0,5,     1.58,2,     0.03,2,     0.00,2,     0.01,2, -999.000,9, -999.000,9, -999.000,9,-999.0000,9,  -999.00,9,   -999.0,9,-999.000,9,   -999.0,9,   -999,  -999.0,-999.000,-999.0000,-999.000,  -999.0,-999.000, 25.4908,-999.000
    49RY9407_1,   P09,    13,  1,      3,    205,2,19940710,1723, 32.3348, 137.0013, 4050,     50.1,  22.9032,  34.8035,2,  34.7923,2,    226.0,2,    221.5,2,     1.66,2,     0.04,2,     0.01,2,     0.01,2, -999.000,9, -999.000,9, -999.000,9,-999.0000,9,  -999.00,9,   -999.0,9,-999.000,9,   -999.0,9,   -999,  -999.0,-999.000,-999.0000,-999.000,  -999.0,-999.000, 22.8930,-999.000
    49RY9407_1,   P09,    13,  1,      2,    204,2,19940710,1723, 32.3348, 137.0013, 4050,     75.8,  21.8227,  34.8474,2,  34.8400,2,    219.6,2,   -999.0,5,     1.78,2,     0.01,2,     0.00,2,     0.04,2, -999.000,9, -999.000,9, -999.000,9,-999.0000,9,  -999.00,9,   -999.0,9,-999.000,9,   -999.0,9,   -999,  -999.0,  21.910,-999.0000,-999.000,    74.0,-999.000, 21.8079,-999.000
    49RY9407_1,   P09,    13,  1,      1,    201,2,19940710,1723, 32.3348, 137.0013, 4050,    100.9,  20.6095,  34.9189,2,  34.9294,2,    217.6,2,    215.9,2,     2.00,6,     0.46,6,     0.14,6,     0.07,6, -999.000,9, -999.000,9, -999.000,9,-999.0000,9,  -999.00,9,   -999.0,9,-999.000,9,   -999.0,9,   -999,  -999.0,-999.000,-999.0000,-999.000,  -999.0,-999.000, 20.5905,-999.000
    49RY9407_1,   P09,    13,  1,     24,    230,2,19940710,1723, 32.3348, 137.0013, 4050,    125.7,  20.2273,  34.9330,2,  34.9250,2,    209.6,2,   -999.0,5,     2.26,2,     1.18,2,     0.09,2,     0.10,2, -999.000,9, -999.000,9, -999.000,9,-999.0000,9,  -999.00,9,   -999.0,9,-999.000,9,   -999.0,9,   -999,  -999.0,-999.000,-999.0000,-999.000,  -999.0,-999.000, 20.2039,-999.000
    49RY9407_1,   P09,    13,  1,     23,    228,2,19940710,1723, 32.3348, 137.0013, 4050,    150.8,  19.9675,  34.9436,2,  34.9446,2,    213.5,2,    212.3,2,     2.14,2,     1.01,2,     0.08,2,     0.10,2, -999.000,9, -999.000,9, -999.000,9,-999.0000,9,  -999.00,9,   -999.0,9,-999.000,9,   -999.0,9,   -999,  -999.0,-999.000,-999.0000,-999.000,  -999.0,-999.000, 19.9397,-999.000
    49RY9407_1,   P09,    13,  1,     22,    227,2,19940710,1723, 32.3348, 137.0013, 4050,    202.9,  19.1726,  34.9239,2,  34.9205,2,    217.4,3,    211.8,2,     2.50,2,     1.77,2,     0.02,2,     0.15,2, -999.000,9, -999.000,9, -999.000,9,-999.0000,9,  -999.00,9,   -999.0,9,-999.000,9,   -999.0,9,   -999,  -999.0,-999.000,-999.0000,-999.000,  -999.0,-999.000, 19.1362,-999.000
    49RY9407_1,   P09,    13,  2,      1,    201,2,19940710,1902, 32.3357, 137.0458, 4025,    303.1,  18.0125,  34.8538,2,  34.8538,2,    202.8,2,   -999.0,5,     3.61,2,     3.51,2,     0.01,2,     0.26,2, -999.000,9, -999.000,9, -999.000,9,-999.0000,9,  -999.00,9,   -999.0,9,-999.000,9,   -999.0,9,   -999,  -999.0,-999.000,-999.0000,-999.000,  -999.0,-999.000, 17.9603,-999.000
    49RY9407_1,   P09,    13,  2,     24,    230,2,19940710,1902, 32.3357, 137.0458, 4025,    403.7,  16.4606,  34.7207,2,  34.7233,2,    196.9,2,    192.7,2,     7.88,2,     7.37,2,     0.01,2,     0.51,2, -999.000,9, -999.000,9, -999.000,9,-999.0000,9,  -999.00,9,   -999.0,9,-999.000,9,   -999.0,9,   -999,  -999.0,-999.000,-999.0000,-999.000,  -999.0,-999.000, 16.3952,-999.000
    49RY9407_1,   P09,    13,  2,     22,    227,4,19940710,1902, 32.3357, 137.0458, 4025,    504.3,  13.5111,  34.5057,2,  34.5043,2,    181.9,2,    179.8,2,    16.68,2,    13.48,2,     0.01,2,     0.93,2, -999.000,9, -999.000,9, -999.000,9,-999.0000,9,  -999.00,9,   -999.0,9,-999.000,9,   -999.0,9,   -999,  -999.0,-999.000,-999.0000,-999.000,  -999.0,-999.000, 13.4395,-999.000
    49RY9407_1,   P09,    13,  2,     23,    228,2,19940710,1902, 32.3357, 137.0458, 4025,    504.3,  13.5111,  34.5057,2,  34.5062,2,    181.9,2,   -999.0,5,    16.58,2,    13.47,2,     0.01,2,     0.93,2, -999.000,9, -999.000,9, -999.000,9,-999.0000,9,  -999.00,9,   -999.0,9,-999.000,9,   -999.0,9,   -999,  -999.0,-999.000,-999.0000,-999.000,  -999.0,-999.000, 13.4395,-999.000
    49RY9407_1,   P09,    13,  2,     21,    226,2,19940710,1902, 32.3357, 137.0458, 4025,    706.6,   8.3957,  34.2061,2,  34.2054,2,    137.1,2,   -999.0,5,    47.37,2,    25.92,2,     0.00,2,     1.84,2, -999.000,9, -999.000,9, -999.000,9,-999.0000,9,  -999.00,9,   -999.0,9,-999.000,9,   -999.0,9,   -999,  -999.0,-999.000,-999.0000,-999.000,  -999.0,-999.000,  8.3206,-999.000
    49RY9407_1,   P09,    13,  2,     20,    225,2,19940710,1902, 32.3357, 137.0458, 4025,    808.0,   6.4767,  34.2507,2,  34.2544,2,    103.6,2,    100.6,2,    75.19,2,    32.99,2,     0.00,2,     2.36,2, -999.000,9, -999.000,9, -999.000,9,-999.0000,9,  -999.00,9,   -999.0,9,-999.000,9,   -999.0,9,   -999,  -999.0,-999.000,-999.0000,-999.000,  -999.0,-999.000,  6.4018,-999.000
    49RY9407_1,   P09,    13,  2,     18,    223,2,19940710,1902, 32.3357, 137.0458, 4025,    908.5,   5.0271,  34.2899,2,  34.2935,2,     77.3,2,     76.5,2,    96.64,6,    37.49,6,     0.00,6,     2.68,6, -999.000,9, -999.000,9, -999.000,9,-999.0000,9,  -999.00,9,   -999.0,9,-999.000,9,   -999.0,9,   -999,  -999.0,-999.000,-999.0000,-999.000,  -999.0,-999.000,  4.9522,-999.000
    49RY9407_1,   P09,    13,  2,     19,    224,2,19940710,1902, 32.3357, 137.0458, 4025,    908.5,   5.0271,  34.2899,2,  34.2927,2,     77.3,2,     76.5,6,    96.59,2,    37.53,2,     0.00,2,     2.69,2, -999.000,9, -999.000,9, -999.000,9,-999.0000,9,  -999.00,9,   -999.0,9,-999.000,9,   -999.0,9,   -999,  -999.0,-999.000,-999.0000,-999.000,  -999.0,-999.000,  4.9522,-999.000
    49RY9407_1,   P09,    13,  2,     17,    222,2,19940710,1902, 32.3357, 137.0458, 4025,   1009.1,   4.2502,  34.3395,2,  34.3423,2,     67.0,2,     68.7,2,   111.06,6,    39.49,6,     0.00,6,     2.82,6, -999.000,9, -999.000,9, -999.000,9,-999.0000,9,  -999.00,9,   -999.0,9,-999.000,9,   -999.0,9,   -999,  -999.0,-999.000,-999.0000,-999.000,  -999.0,-999.000,  4.1721,-999.000
    49RY9407_1,   P09,    13,  2,     16,    221,2,19940710,1902, 32.3357, 137.0458, 4025,   1260.7,   3.2194,  34.4471,2,  34.4484,2,     66.3,2,     68.5,2,   130.20,2,    40.76,2,     0.00,2,     2.91,2, -999.000,9, -999.000,9, -999.000,9,-999.0000,9,  -999.00,9,   -999.0,9,-999.000,9,   -999.0,9,   -999,  -999.0,   3.227,-999.0000,-999.000,  1260.0,-999.000,  3.1292,-999.000
    49RY9407_1,   P09,    13,  2,     15,    220,2,19940710,1902, 32.3357, 137.0458, 4025,   1514.7,   2.6202,  34.5210,2,  34.5247,2,     79.5,2,     83.0,2,   140.13,2,    40.50,2,     0.00,2,     2.88,2, -999.000,9, -999.000,9, -999.000,9,-999.0000,9,  -999.00,9,   -999.0,9,-999.000,9,   -999.0,9,   -999,  -999.0,-999.000,-999.0000,-999.000,  -999.0,-999.000,  2.5157,-999.000
    49RY9407_1,   P09,    13,  2,     14,    219,2,19940710,1902, 32.3357, 137.0458, 4025,   1768.1,   2.2928,  34.5644,2,  34.5643,2,     93.6,2,     94.6,2,   143.48,2,    39.91,2,     0.00,2,     2.83,2, -999.000,9, -999.000,9, -999.000,9,-999.0000,9,  -999.00,9,   -999.0,9,-999.000,9,   -999.0,9,   -999,  -999.0,-999.000,-999.0000,-999.000,  -999.0,-999.000,  2.1717,-999.000
    49RY9407_1,   P09,    13,  2,     13,    218,4,19940710,1902, 32.3357, 137.0458, 4025,   2022.0,   2.0248,  34.6013,2,  34.6019,2,    110.2,2,    110.9,2,   144.83,2,    39.13,2,     0.00,2,     2.76,2, -999.000,9, -999.000,9, -999.000,9,-999.0000,9,  -999.00,9,   -999.0,9,-999.000,9,   -999.0,9,   -999,  -999.0,-999.000,-999.0000,-999.000,  -999.0,-999.000,  1.8862,-999.000
    49RY9407_1,   P09,    13,  2,     12,    217,2,19940710,1902, 32.3357, 137.0458, 4025,   2531.4,   1.7002,  34.6466,2,  34.6461,2,    133.0,2,    132.4,2,   144.11,2,    37.85,2,     0.00,2,     2.65,2, -999.000,9, -999.000,9, -999.000,9,-999.0000,9,  -999.00,9,   -999.0,9,-999.000,9,   -999.0,9,   -999,  -999.0,-999.000,-999.0000,-999.000,  -999.0,-999.000,  1.5227,-999.000
    49RY9407_1,   P09,    13,  2,     11,    216,2,19940710,1902, 32.3357, 137.0458, 4025,   2785.7,   1.5864,  34.6612,2,  34.6624,2,    140.6,2,    141.6,2,   143.87,2,    37.33,2,     0.00,2,     2.60,2, -999.000,9, -999.000,9, -999.000,9,-999.0000,9,  -999.00,9,   -999.0,9,-999.000,9,   -999.0,9,   -999,  -999.0,-999.000,-999.0000,-999.000,  -999.0,-999.000,  1.3879,-999.000
    49RY9407_1,   P09,    13,  2,      9,    213,2,19940710,1902, 32.3357, 137.0458, 4025,   3041.1,   1.5238,  34.6711,2,  34.6729,2,    147.2,2,    147.6,2,   142.99,2,    36.97,2,     0.00,2,     2.57,2, -999.000,9, -999.000,9, -999.000,9,-999.0000,9,  -999.00,9,   -999.0,9,-999.000,9,   -999.0,9,   -999,  -999.0,   1.519,-999.0000,-999.000,  3040.0,-999.000,  1.3026,-999.000
    49RY9407_1,   P09,    13,  2,     10,    214,2,19940710,1902, 32.3357, 137.0458, 4025,   3041.1,   1.5238,  34.6711,2,  34.6727,2,    147.2,2,    147.8,2,   143.35,2,    36.96,2,     0.00,2,     2.57,2, -999.000,9, -999.000,9, -999.000,9,-999.0000,9,  -999.00,9,   -999.0,9,-999.000,9,   -999.0,9,   -999,  -999.0,-999.000,-999.0000,-999.000,  -999.0,-999.000,  1.3026,-999.000
    49RY9407_1,   P09,    13,  2,      8,    212,2,19940710,1902, 32.3357, 137.0458, 4025,   3294.9,   1.5008,  34.6767,2,  34.6792,2,    149.3,2,    155.3,3,   142.35,2,    36.58,2,     0.00,2,     2.53,2, -999.000,9, -999.000,9, -999.000,9,-999.0000,9,  -999.00,9,   -999.0,9,-999.000,9,   -999.0,9,   -999,  -999.0,-999.000,-999.0000,-999.000,  -999.0,-999.000,  1.2553,-999.000
    49RY9407_1,   P09,    13,  2,      7,    210,2,19940710,1902, 32.3357, 137.0458, 4025,   3550.2,   1.5048,  34.6790,2,  34.6778,2,    150.8,2,    158.6,3,   142.58,2,    36.64,2,     0.00,2,     2.54,2, -999.000,9, -999.000,9, -999.000,9,-999.0000,9,  -999.00,9,   -999.0,9,-999.000,9,   -999.0,9,   -999,  -999.0,-999.000,-999.0000,-999.000,  -999.0,-999.000,  1.2334,-999.000
    49RY9407_1,   P09,    13,  2,      6,    209,4,19940710,1902, 32.3357, 137.0458, 4025,   3805.6,   1.5172,  34.6799,2,  34.6794,2,    151.8,2,    154.8,6,   142.28,6,    36.53,6,     0.00,6,     2.52,6, -999.000,9, -999.000,9, -999.000,9,-999.0000,9,  -999.00,9,   -999.0,9,-999.000,9,   -999.0,9,   -999,  -999.0,-999.000,-999.0000,-999.000,  -999.0,-999.000,  1.2188,-999.000
    49RY9407_1,   P09,    14,  1,     20,    225,2,19940710,2329, 32.1748, 137.0215, 4000,      9.0,  28.5040,  34.3018,2,  34.3124,2,    209.3,2,   -999.0,9,  -999.00,9,  -999.00,9,  -999.00,9,  -999.00,9, -999.000,9, -999.000,9, -999.000,9,-999.0000,9,  -999.00,9,   -999.0,9,-999.000,9,   -999.0,9,   -999,  -999.0,-999.000,-999.0000,-999.000,  -999.0,-999.000, 28.5019,-999.000
    49RY9407_1,   P09,    14,  1,     21,    226,2,19940710,2329, 32.1748, 137.0215, 4000,      9.0,  28.5040,  34.3018,2,  34.3100,2,    209.3,2,   -999.0,9,  -999.00,9,  -999.00,9,  -999.00,9,  -999.00,9, -999.000,9, -999.000,9, -999.000,9,-999.0000,9,  -999.00,9,   -999.0,9,-999.000,9,   -999.0,9,   -999,  -999.0,-999.000,-999.0000,-999.000,  -999.0,-999.000, 28.5019,-999.000
    49RY9407_1,   P09,    14,  1,     19,    224,2,19940710,2329, 32.1748, 137.0215, 4000,     50.3,  23.3309,  34.7685,2,  34.7779,2,    221.0,2,   -999.0,9,  -999.00,9,  -999.00,9,  -999.00,9,  -999.00,9, -999.000,9, -999.000,9, -999.000,9,-999.0000,9,  -999.00,9,   -999.0,9,-999.000,9,   -999.0,9,   -999,  -999.0,-999.000,-999.0000,-999.000,  -999.0,-999.000, 23.3205,-999.000
    49RY9407_1,   P09,    14,  1,     18,    223,2,19940710,2329, 32.1748, 137.0215, 4000,     99.2,  20.8401,  34.9166,2,  34.9173,2,    210.4,2,   -999.0,9,  -999.00,9,  -999.00,9,  -999.00,9,  -999.00,9, -999.000,9, -999.000,9, -999.000,9,-999.0000,9,  -999.00,9,   -999.0,9,-999.000,9,   -999.0,9,   -999,  -999.0,-999.000,-999.0000,-999.000,  -999.0,-999.000, 20.8213,-999.000
    49RY9407_1,   P09,    14,  1,     17,    222,2,19940710,2329, 32.1748, 137.0215, 4000,    150.8,  20.0336,  34.9262,2,  34.9282,2,    207.8,2,   -999.0,9,  -999.00,9,  -999.00,9,  -999.00,9,  -999.00,9, -999.000,9, -999.000,9, -999.000,9,-999.0000,9,  -999.00,9,   -999.0,9,-999.000,9,   -999.0,9,   -999,  -999.0,-999.000,-999.0000,-999.000,  -999.0,-999.000, 20.0057,-999.000
    49RY9407_1,   P09,    14,  1,     16,    221,2,19940710,2329, 32.1748, 137.0215, 4000,    201.2,  19.2926,  34.8836,2,  34.9000,2,    204.7,2,   -999.0,9,  -999.00,9,  -999.00,9,  -999.00,9,  -999.00,9, -999.000,9, -999.000,9, -999.000,9,-999.0000,9,  -999.00,9,   -999.0,9,-999.000,9,   -999.0,9,   -999,  -999.0,  19.316,-999.0000,-999.000,   205.0,-999.000, 19.2563,-999.000
    49RY9407_1,   P09,    14,  1,     15,    220,2,19940710,2329, 32.1748, 137.0215, 4000,    301.9,  17.6972,  34.8169,2,  34.8132,2,    206.7,2,   -999.0,9,  -999.00,9,  -999.00,9,  -999.00,9,  -999.00,9, -999.000,9, -999.000,9, -999.000,9,-999.0000,9,  -999.00,9,   -999.0,9,-999.000,9,   -999.0,9,   -999,  -999.0,-999.000,-999.0000,-999.000,  -999.0,-999.000, 17.6459,-999.000
    49RY9407_1,   P09,    14,  1,     14,    219,2,19940710,2329, 32.1748, 137.0215, 4000,    722.8,   8.4566,  34.1861,2,  34.1893,2,    148.7,2,   -999.0,9,  -999.00,9,  -999.00,9,  -999.00,9,  -999.00,9, -999.000,9, -999.000,9, -999.000,9,-999.0000,9,  -999.00,9,   -999.0,9,-999.000,9,   -999.0,9,   -999,  -999.0,-999.000,-999.0000,-999.000,  -999.0,-999.000,  8.3794,-999.000
    49RY9407_1,   P09,    14,  1,     13,    218,2,19940710,2329, 32.1748, 137.0215, 4000,    806.5,   7.3416,  34.2086,2,  34.2141,2,    121.9,2,   -999.0,9,  -999.00,9,  -999.00,9,  -999.00,9,  -999.00,9, -999.000,9, -999.000,9, -999.000,9,-999.0000,9,  -999.00,9,   -999.0,9,-999.000,9,   -999.0,9,   -999,  -999.0,-999.000,-999.0000,-999.000,  -999.0,-999.000,  7.2617,-999.000
    49RY9407_1,   P09,    14,  1,     12,    217,4,19940710,2329, 32.1748, 137.0215, 4000,   1009.3,   4.4448,  34.3242,2,  34.3254,2,     66.0,2,   -999.0,9,  -999.00,9,  -999.00,9,  -999.00,9,  -999.00,9, -999.000,9, -999.000,9, -999.000,9,-999.0000,9,  -999.00,9,   -999.0,9,-999.000,9,   -999.0,9,   -999,  -999.0,-999.000,-999.0000,-999.000,  -999.0,-999.000,  4.3653,-999.000
    49RY9407_1,   P09,    14,  1,     10,    214,2,19940710,2329, 32.1748, 137.0215, 4000,   1513.6,   2.7644,  34.5057,2,  34.5064,2,     75.9,2,   -999.0,9,  -999.00,9,  -999.00,9,  -999.00,9,  -999.00,9, -999.000,9, -999.000,9, -999.000,9,-999.0000,9,  -999.00,9,   -999.0,9,-999.000,9,   -999.0,9,   -999,  -999.0,-999.000,-999.0000,-999.000,  -999.0,-999.000,  2.6583,-999.000
    49RY9407_1,   P09,    14,  1,     11,    216,2,19940710,2329, 32.1748, 137.0215, 4000,   1513.6,   2.7644,  34.5057,2,  34.5066,2,     75.9,2,   -999.0,9,  -999.00,9,  -999.00,9,  -999.00,9,  -999.00,9, -999.000,9, -999.000,9, -999.000,9,-999.0000,9,  -999.00,9,   -999.0,9,-999.000,9,   -999.0,9,   -999,  -999.0,-999.000,-999.0000,-999.000,  -999.0,-999.000,  2.6583,-999.000
    49RY9407_1,   P09,    14,  1,      9,    213,4,19940710,2329, 32.1748, 137.0215, 4000,   1767.7,   2.3679,  34.5563,2,  34.5566,2,     91.4,2,   -999.0,9,  -999.00,9,  -999.00,9,  -999.00,9,  -999.00,9, -999.000,9, -999.000,9, -999.000,9,-999.0000,9,  -999.00,9,   -999.0,9,-999.000,9,   -999.0,9,   -999,  -999.0,   2.363,-999.0000,-999.000,  1768.0,-999.000,  2.2458,-999.000
    49RY9407_1,   P09,    14,  1,      7,    210,2,19940710,2329, 32.1748, 137.0215, 4000,   2276.2,   1.9067,  34.6198,2,  34.6195,2,    118.7,2,   -999.0,9,  -999.00,9,  -999.00,9,  -999.00,9,  -999.00,9, -999.000,9, -999.000,9, -999.000,9,-999.0000,9,  -999.00,9,   -999.0,9,-999.000,9,   -999.0,9,   -999,  -999.0,-999.000,-999.0000,-999.000,  -999.0,-999.000,  1.7482,-999.000
    49RY9407_1,   P09,    14,  1,      8,    212,2,19940710,2329, 32.1748, 137.0215, 4000,   2276.2,   1.9067,  34.6198,2,  34.6195,2,    118.7,2,   -999.0,9,  -999.00,9,  -999.00,9,  -999.00,9,  -999.00,9, -999.000,9, -999.000,9, -999.000,9,-999.0000,9,  -999.00,9,   -999.0,9,-999.000,9,   -999.0,9,   -999,  -999.0,-999.000,-999.0000,-999.000,  -999.0,-999.000,  1.7482,-999.000
    49RY9407_1,   P09,    14,  1,      6,    209,4,19940710,2329, 32.1748, 137.0215, 4000,   2528.9,   1.7551,  34.6411,2,  34.6406,2,    130.6,2,   -999.0,9,  -999.00,9,  -999.00,9,  -999.00,9,  -999.00,9, -999.000,9, -999.000,9, -999.000,9,-999.0000,9,  -999.00,9,   -999.0,9,-999.000,9,   -999.0,9,   -999,  -999.0,-999.000,-999.0000,-999.000,  -999.0,-999.000,  1.5769,-999.000
    49RY9407_1,   P09,    14,  1,      5,    207,2,19940710,2329, 32.1748, 137.0215, 4000,   3039.6,   1.5773,  34.6668,2,  34.6662,2,    146.1,2,   -999.0,9,  -999.00,9,  -999.00,9,  -999.00,9,  -999.00,9, -999.000,9, -999.000,9, -999.000,9,-999.0000,9,  -999.00,9,   -999.0,9,-999.000,9,   -999.0,9,   -999,  -999.0,-999.000,-999.0000,-999.000,  -999.0,-999.000,  1.3550,-999.000
    49RY9407_1,   P09,    14,  1,      4,    206,2,19940710,2329, 32.1748, 137.0215, 4000,   3295.6,   1.5217,  34.6743,2,  34.6606,4,    150.7,2,   -999.0,9,  -999.00,9,  -999.00,9,  -999.00,9,  -999.00,9, -999.000,9, -999.000,9, -999.000,9,-999.0000,9,  -999.00,9,   -999.0,9,-999.000,9,   -999.0,9,   -999,  -999.0,-999.000,-999.0000,-999.000,  -999.0,-999.000,  1.2757,-999.000
    49RY9407_1,   P09,    14,  1,      2,    204,2,19940710,2329, 32.1748, 137.0215, 4000,   3551.9,   1.5141,  34.6798,2,  34.6788,2,    153.5,2,   -999.0,9,  -999.00,9,  -999.00,9,  -999.00,9,  -999.00,9, -999.000,9, -999.000,9, -999.000,9,-999.0000,9,  -999.00,9,   -999.0,9,-999.000,9,   -999.0,9,   -999,  -999.0,   1.510,-999.0000,-999.000,  3550.0,-999.000,  1.2423,-999.000
    49RY9407_1,   P09,    14,  1,      3,    205,2,19940710,2329, 32.1748, 137.0215, 4000,   3551.9,   1.5141,  34.6798,2,  34.6788,2,    153.5,2,   -999.0,9,  -999.00,9,  -999.00,9,  -999.00,9,  -999.00,9, -999.000,9, -999.000,9, -999.000,9,-999.0000,9,  -999.00,9,   -999.0,9,-999.000,9,   -999.0,9,   -999,  -999.0,-999.000,-999.0000,-999.000,  -999.0,-999.000,  1.2423,-999.000
    49RY9407_1,   P09,    14,  1,      1,    201,4,19940710,2329, 32.1748, 137.0215, 4000,   3806.0,   1.5208,  34.6811,2,  34.6841,3,    156.5,2,   -999.0,9,  -999.00,9,  -999.00,9,  -999.00,9,  -999.00,9, -999.000,9, -999.000,9, -999.000,9,-999.0000,9,  -999.00,9,   -999.0,9,-999.000,9,   -999.0,9,   -999,  -999.0,-999.000,-999.0000,-999.000,  -999.0,-999.000,  1.2222,-999.000