BOTTLE,20020306WHPSIOdm
EXPOCODE,SECT_ID,STNNBR,CASTNO,SAMPNO,BTLNBR,BTLNBR_FLAG_W,DATE,TIME,LATITUDE,LONGITUDE,DEPTH,CTDPRS,CTDTMP,CTDSAL,CTDSAL_FLAG_W,SALNTY,SALNTY_FLAG_W,CTDOXY,CTDOXY_FLAG_W,OXYGEN,OXYGEN_FLAG_W,SILCAT,SILCAT_FLAG_W,NITRAT,NITRAT_FLAG_W,NITRIT,NITRIT_FLAG_W,PHSPHT,PHSPHT_FLAG_W,CFC-11,CFC-11_FLAG_W,CFC-12,CFC-12_FLAG_W,TRITUM,TRITUM_FLAG_W,HELIUM,HELIUM_FLAG_W,DELHE3,DELHE3_FLAG_W,DELC14,DELC14_FLAG_W,NEON,NEON_FLAG_W,TCARBN,TCARBN_FLAG_W,CTDRAW,C14ERR,REVTMP,HELIER,DELHER,REVPRS,NEONER,THETA,TRITER
,,,,,,,,,,,,DBAR,ITS-90,PSS-78,,PSS-78,,UMOL/KG,,UMOL/KG,,UMOL/KG,,UMOL/KG,,UMOL/KG,,UMOL/KG,,PMOL/KG,,PMOL/KG,,TU,,NMOL/KG,,PERCNT,,/MILLE,,NMOL/KG,,UMOL/KG,,,/MILLE,ITS-90,NMOL/KG,PERCNT,DBAR,NMOL/KG,DEG C,TU
    49RY9407_2,   P09,    64,  1,      0,      0,2,19940807,1201,  8.6678, 137.0053, 2300,      2.7,  29.1249,  33.9542,2,-999.0000,9,    181.6,4,    196.3,6,     1.33,2,     0.03,2,     0.00,2,     0.01,2, -999.000,9, -999.000,9, -999.000,9,-999.0000,9,  -999.00,9,   -999.0,9,-999.000,9,   -999.0,9,   -999,  -999.0,-999.000,-999.0000,-999.000,  -999.0,-999.000, 29.1242,-999.000
    49RY9407_2,   P09,    64,  1,     11,    225,2,19940807,1201,  8.6678, 137.0053, 2300,     10.2,  28.9825,  33.9912,2,  33.9892,2,    189.6,3,    196.5,2,     1.42,2,     0.01,2,     0.00,2,     0.01,2, -999.000,9, -999.000,9, -999.000,9,-999.0000,9,  -999.00,9,   -999.0,9,-999.000,9,   -999.0,9,   -999,  -999.0,-999.000,-999.0000,-999.000,  -999.0,-999.000, 28.9801,-999.000
    49RY9407_2,   P09,    64,  1,     10,    224,2,19940807,1201,  8.6678, 137.0053, 2300,     25.0,  28.9467,  33.9911,2,  33.9911,2,    194.3,2,    195.8,2,     1.29,6,     0.01,6,     0.00,6,     0.01,6, -999.000,9, -999.000,9, -999.000,9,-999.0000,9,  -999.00,9,   -999.0,9,-999.000,9,   -999.0,9,   -999,  -999.0,-999.000,-999.0000,-999.000,  -999.0,-999.000, 28.9406,-999.000
    49RY9407_2,   P09,    64,  1,      9,    223,2,19940807,1201,  8.6678, 137.0053, 2300,     50.0,  28.8946,  33.9858,2,  33.9884,2,    195.6,2,    196.4,2,     1.29,2,     0.01,2,     0.00,2,     0.02,2, -999.000,9, -999.000,9, -999.000,9,-999.0000,9,  -999.00,9,   -999.0,9,-999.000,9,   -999.0,9,   -999,  -999.0,-999.000,-999.0000,-999.000,  -999.0,-999.000, 28.8825,-999.000
    49RY9407_2,   P09,    64,  1,      8,    212,2,19940807,1201,  8.6678, 137.0053, 2300,     74.5,  26.9137,  34.4662,2,  34.4662,2,    202.4,2,    200.3,6,     1.74,2,     0.07,2,     0.01,2,     0.09,2, -999.000,9, -999.000,9, -999.000,9,-999.0000,9,  -999.00,9,   -999.0,9,-999.000,9,   -999.0,9,   -999,  -999.0,-999.000,-999.0000,-999.000,  -999.0,-999.000, 26.8967,-999.000
    49RY9407_2,   P09,    64,  1,      7,    220,2,19940807,1201,  8.6678, 137.0053, 2300,    101.8,  22.5836,  34.8091,2,  34.7969,2,    180.6,2,    177.4,2,     3.43,2,     2.12,2,     0.15,2,     0.32,2, -999.000,9, -999.000,9, -999.000,9,-999.0000,9,  -999.00,9,   -999.0,9,-999.000,9,   -999.0,9,   -999,  -999.0,-999.000,-999.0000,-999.000,  -999.0,-999.000, 22.5631,-999.000
    49RY9407_2,   P09,    64,  1,      6,    209,2,19940807,1201,  8.6678, 137.0053, 2300,    125.0,  18.2281,  34.7815,2,  34.7849,2,    162.0,2,    158.5,2,     7.76,2,     8.44,2,     0.02,2,     0.67,2, -999.000,9, -999.000,9, -999.000,9,-999.0000,9,  -999.00,9,   -999.0,9,-999.000,9,   -999.0,9,   -999,  -999.0,-999.000,-999.0000,-999.000,  -999.0,-999.000, 18.2065,-999.000
    49RY9407_2,   P09,    64,  1,      5,    218,2,19940807,1201,  8.6678, 137.0053, 2300,    152.3,  15.9352,  34.6656,2,  34.6678,2,    147.0,2,    144.9,2,    12.42,2,    13.17,2,     0.01,2,     0.96,2, -999.000,9, -999.000,9, -999.000,9,-999.0000,9,  -999.00,9,   -999.0,9,-999.000,9,   -999.0,9,   -999,  -999.0,-999.000,-999.0000,-999.000,  -999.0,-999.000, 15.9112,-999.000
    49RY9407_2,   P09,    64,  1,      4,    206,2,19940807,1201,  8.6678, 137.0053, 2300,    201.5,  12.3373,  34.5179,2,  34.5281,2,    113.2,2,    112.9,2,    24.18,2,    22.41,2,     0.00,2,     1.59,2, -999.000,9, -999.000,9, -999.000,9,-999.0000,9,  -999.00,9,   -999.0,9,-999.000,9,   -999.0,9,   -999,  -999.0,-999.000,-999.0000,-999.000,  -999.0,-999.000, 12.3106,-999.000
    49RY9407_2,   P09,    64,  1,      3,    205,2,19940807,1201,  8.6678, 137.0053, 2300,    301.7,   9.3529,  34.5171,2,  34.5275,2,     74.0,2,     71.8,2,    38.75,6,    31.86,6,     0.00,6,     2.24,6, -999.000,9, -999.000,9, -999.000,9,-999.0000,9,  -999.00,9,   -999.0,9,-999.000,9,   -999.0,9,   -999,  -999.0,-999.000,-999.0000,-999.000,  -999.0,-999.000,  9.3194,-999.000
    49RY9407_2,   P09,    64,  1,      2,    216,2,19940807,1201,  8.6678, 137.0053, 2300,    403.0,   8.1548,  34.5293,2,  34.5381,2,     69.4,2,     69.7,2,    45.32,2,    34.61,2,     0.00,2,     2.43,2, -999.000,9, -999.000,9, -999.000,9,-999.0000,9,  -999.00,9,   -999.0,9,-999.000,9,   -999.0,9,   -999,  -999.0,-999.000,-999.0000,-999.000,  -999.0,-999.000,  8.1133,-999.000
    49RY9407_2,   P09,    64,  1,      1,    201,2,19940807,1201,  8.6678, 137.0053, 2300,    503.5,   7.4529,  34.5440,2,  34.5452,2,     72.7,2,     72.2,6,    50.03,6,    35.83,6,     0.00,6,     2.51,6, -999.000,9, -999.000,9, -999.000,9,-999.0000,9,  -999.00,9,   -999.0,9,-999.000,9,   -999.0,9,   -999,  -999.0,-999.000,-999.0000,-999.000,  -999.0,-999.000,  7.4034,-999.000
    49RY9407_2,   P09,    64,  1,     24,    222,2,19940807,1201,  8.6678, 137.0053, 2300,    604.0,   6.7788,  34.5249,2,  34.5254,2,     78.0,2,     78.8,2,    57.20,2,    36.39,2,     0.00,2,     2.57,2, -999.000,9, -999.000,9, -999.000,9,-999.0000,9,  -999.00,9,   -999.0,9,-999.000,9,   -999.0,9,   -999,  -999.0,-999.000,-999.0000,-999.000,  -999.0,-999.000,  6.7220,-999.000
    49RY9407_2,   P09,    64,  1,     23,    228,2,19940807,1201,  8.6678, 137.0053, 2300,    704.2,   6.0951,  34.5254,2,  34.5250,2,     78.7,2,     78.9,2,    66.60,2,    37.62,2,     0.00,2,     2.66,2, -999.000,9, -999.000,9, -999.000,9,-999.0000,9,  -999.00,9,   -999.0,9,-999.000,9,   -999.0,9,   -999,  -999.0,-999.000,-999.0000,-999.000,  -999.0,-999.000,  6.0321,-999.000
    49RY9407_2,   P09,    64,  1,     22,    227,2,19940807,1201,  8.6678, 137.0053, 2300,    806.0,   5.0690,  34.5386,2,  34.5374,2,     83.7,2,     83.5,2,    82.81,2,    38.64,2,     0.00,2,     2.75,2, -999.000,9, -999.000,9, -999.000,9,-999.0000,9,  -999.00,9,   -999.0,9,-999.000,9,   -999.0,9,   -999,  -999.0,-999.000,-999.0000,-999.000,  -999.0,-999.000,  5.0025,-999.000
    49RY9407_2,   P09,    64,  1,     21,    226,2,19940807,1201,  8.6678, 137.0053, 2300,    907.2,   4.6423,  34.5419,2,  34.5423,2,     86.2,2,     86.3,2,    91.50,2,    38.92,2,     0.00,2,     2.76,2, -999.000,9, -999.000,9, -999.000,9,-999.0000,9,  -999.00,9,   -999.0,9,-999.000,9,   -999.0,9,   -999,  -999.0,-999.000,-999.0000,-999.000,  -999.0,-999.000,  4.5698,-999.000
    49RY9407_2,   P09,    64,  1,     19,    210,2,19940807,1201,  8.6678, 137.0053, 2300,   1008.1,   4.2216,  34.5517,2,  34.5517,2,     88.6,2,     88.6,2,    99.25,2,    39.09,2,     0.00,2,     2.76,2, -999.000,9, -999.000,9, -999.000,9,-999.0000,9,  -999.00,9,   -999.0,9,-999.000,9,   -999.0,9,   -999,  -999.0,-999.000,-999.0000,-999.000,  -999.0,-999.000,  4.1434,-999.000
    49RY9407_2,   P09,    64,  1,     20,    203,4,19940807,1201,  8.6678, 137.0053, 2300,   1008.1,   4.2216,  34.5517,2,  34.5505,2,     88.6,2,     89.0,2,    99.33,2,    39.04,2,     0.00,2,     2.78,2, -999.000,9, -999.000,9, -999.000,9,-999.0000,9,  -999.00,9,   -999.0,9,-999.000,9,   -999.0,9,   -999,  -999.0,-999.000,-999.0000,-999.000,  1007.0,-999.000,  4.1434,-999.000
    49RY9407_2,   P09,    64,  1,     18,    221,2,19940807,1201,  8.6678, 137.0053, 2300,   1261.8,   3.4515,  34.5775,2,  34.5777,2,     95.2,2,     96.3,2,   114.21,2,    39.30,2,     0.00,2,     2.78,2, -999.000,9, -999.000,9, -999.000,9,-999.0000,9,  -999.00,9,   -999.0,9,-999.000,9,   -999.0,9,   -999,  -999.0,-999.000,-999.0000,-999.000,  1263.0,-999.000,  3.3587,-999.000
    49RY9407_2,   P09,    64,  1,     17,    219,2,19940807,1201,  8.6678, 137.0053, 2300,   1514.5,   2.8413,  34.6008,2,  34.6009,2,    102.1,2,    102.3,2,   126.11,2,    39.27,2,     0.00,2,     2.78,2, -999.000,9, -999.000,9, -999.000,9,-999.0000,9,  -999.00,9,   -999.0,9,-999.000,9,   -999.0,9,   -999,  -999.0,-999.000,-999.0000,-999.000,  -999.0,-999.000,  2.7340,-999.000
    49RY9407_2,   P09,    64,  1,     16,    229,2,19940807,1201,  8.6678, 137.0053, 2300,   1767.4,   2.3494,  34.6260,2,  34.6249,2,    111.1,2,    111.5,2,   135.13,2,    39.09,2,     0.00,2,     2.75,2, -999.000,9, -999.000,9, -999.000,9,-999.0000,9,  -999.00,9,   -999.0,9,-999.000,9,   -999.0,9,   -999,  -999.0,   2.342,-999.0000,-999.000,  1766.0,-999.000,  2.2273,-999.000
    49RY9407_2,   P09,    64,  1,     15,    217,2,19940807,1201,  8.6678, 137.0053, 2300,   2021.9,   2.0467,  34.6412,2,  34.6416,2,    120.4,2,    121.4,6,   139.25,6,    38.51,6,     0.00,6,     2.70,6, -999.000,9, -999.000,9, -999.000,9,-999.0000,9,  -999.00,9,   -999.0,9,-999.000,9,   -999.0,9,   -999,  -999.0,-999.000,-999.0000,-999.000,  -999.0,-999.000,  1.9077,-999.000
    49RY9407_2,   P09,    64,  1,     14,    204,2,19940807,1201,  8.6678, 137.0053, 2300,   2275.7,   1.8939,  34.6503,2,  34.6507,2,    127.2,2,    126.9,2,   141.07,2,    38.21,2,     0.00,2,     2.67,2, -999.000,9, -999.000,9, -999.000,9,-999.0000,9,  -999.00,9,   -999.0,9,-999.000,9,   -999.0,9,   -999,  -999.0,   1.895,-999.0000,-999.000,  2271.0,-999.000,  1.7356,-999.000
    49RY9407_2,   P09,    64,  1,     13,    214,2,19940807,1201,  8.6678, 137.0053, 2300,   2424.5,   1.8258,  34.6544,2,  34.6540,2,    130.5,2,    129.8,2,   142.09,2,    38.02,2,     0.00,2,     2.64,2, -999.000,9, -999.000,9, -999.000,9,-999.0000,9,  -999.00,9,   -999.0,9,-999.000,9,   -999.0,9,   -999,  -999.0,-999.000,-999.0000,-999.000,  -999.0,-999.000,  1.6555,-999.000
    49RY9407_2,   P09,    64,  1,     12,    213,2,19940807,1201,  8.6678, 137.0053, 2300,   2425.9,   1.8260,  34.6549,2,  34.6544,2,    130.5,2,    129.8,2,   141.96,2,    38.02,2,     0.00,2,     2.65,2, -999.000,9, -999.000,9, -999.000,9,-999.0000,9,  -999.00,9,   -999.0,9,-999.000,9,   -999.0,9,   -999,  -999.0,-999.000,-999.0000,-999.000,  2420.0,-999.000,  1.6556,-999.000
    49RY9407_2,   P09,    65,  1,      0,      0,2,19940807,1526,  8.3268, 137.0010, 2255,      2.4,  28.8742,  33.9119,2,-999.0000,9,    197.0,2,    197.6,6,     3.10,2,     0.02,2,     0.00,2,     0.01,2, -999.000,9, -999.000,9, -999.000,9,-999.0000,9,  -999.00,9,   -999.0,9,-999.000,9,   -999.0,9,   -999,  -999.0,-999.000,-999.0000,-999.000,  -999.0,-999.000, 28.8736,-999.000
    49RY9407_2,   P09,    65,  1,      9,    223,2,19940807,1526,  8.3268, 137.0010, 2255,      9.9,  28.8677,  34.0148,2,  34.0159,2,    194.1,2,    197.8,2,     3.12,2,     0.02,2,     0.00,2,     0.01,2, -999.000,9, -999.000,9, -999.000,9,-999.0000,9,  -999.00,9,   -999.0,9,-999.000,9,   -999.0,9,   -999,  -999.0,-999.000,-999.0000,-999.000,  -999.0,-999.000, 28.8653,-999.000
    49RY9407_2,   P09,    65,  1,      8,    212,2,19940807,1526,  8.3268, 137.0010, 2255,     24.7,  28.8615,  34.0645,2,  34.0618,2,    202.4,3,    197.8,2,     2.19,6,     0.02,6,     0.00,6,     0.01,6, -999.000,9, -999.000,9, -999.000,9,-999.0000,9,  -999.00,9,   -999.0,9,-999.000,9,   -999.0,9,   -999,  -999.0,-999.000,-999.0000,-999.000,  -999.0,-999.000, 28.8556,-999.000
    49RY9407_2,   P09,    65,  1,      7,    220,2,19940807,1526,  8.3268, 137.0010, 2255,     50.0,  28.6501,  34.1259,2,  34.0794,3,    206.8,3,    197.0,2,     3.11,2,     0.01,2,     0.00,2,     0.01,2, -999.000,9, -999.000,9, -999.000,9,-999.0000,9,  -999.00,9,   -999.0,9,-999.000,9,   -999.0,9,   -999,  -999.0,-999.000,-999.0000,-999.000,  -999.0,-999.000, 28.6382,-999.000
    49RY9407_2,   P09,    65,  1,      6,    209,2,19940807,1526,  8.3268, 137.0010, 2255,     75.4,  26.1217,  34.4525,2,  34.4353,2,    189.5,2,    191.4,2,     4.19,2,     0.25,2,     0.03,2,     0.14,2, -999.000,9, -999.000,9, -999.000,9,-999.0000,9,  -999.00,9,   -999.0,9,-999.000,9,   -999.0,9,   -999,  -999.0,-999.000,-999.0000,-999.000,  -999.0,-999.000, 26.1049,-999.000
    49RY9407_2,   P09,    65,  1,      5,    218,2,19940807,1526,  8.3268, 137.0010, 2255,    101.1,  23.0456,  34.6524,2,  34.6709,2,    173.2,2,    175.9,2,     5.84,2,     2.45,2,     0.19,2,     0.33,2, -999.000,9, -999.000,9, -999.000,9,-999.0000,9,  -999.00,9,   -999.0,9,-999.000,9,   -999.0,9,   -999,  -999.0,-999.000,-999.0000,-999.000,  -999.0,-999.000, 23.0250,-999.000
    49RY9407_2,   P09,    65,  1,      4,    206,2,19940807,1526,  8.3268, 137.0010, 2255,    125.2,  18.0447,  34.7786,2,  34.8075,2,    163.8,2,    163.0,6,     8.73,2,     7.69,2,     0.02,2,     0.61,2, -999.000,9, -999.000,9, -999.000,9,-999.0000,9,  -999.00,9,   -999.0,9,-999.000,9,   -999.0,9,   -999,  -999.0,-999.000,-999.0000,-999.000,  -999.0,-999.000, 18.0232,-999.000
    49RY9407_2,   P09,    65,  1,      3,    205,2,19940807,1526,  8.3268, 137.0010, 2255,    149.9,  15.6078,  34.6634,2,  34.6729,2,    151.4,2,    152.2,2,    13.88,2,    12.70,2,     0.01,2,     0.92,2, -999.000,9, -999.000,9, -999.000,9,-999.0000,9,  -999.00,9,   -999.0,9,-999.000,9,   -999.0,9,   -999,  -999.0,-999.000,-999.0000,-999.000,  -999.0,-999.000, 15.5845,-999.000
    49RY9407_2,   P09,    65,  1,      2,    216,2,19940807,1526,  8.3268, 137.0010, 2255,    201.2,  12.3274,  34.5102,2,  34.5208,2,    121.8,3,    113.8,2,    24.95,6,    22.27,6,     0.00,6,     1.57,6, -999.000,9, -999.000,9, -999.000,9,-999.0000,9,  -999.00,9,   -999.0,9,-999.000,9,   -999.0,9,   -999,  -999.0,-999.000,-999.0000,-999.000,  -999.0,-999.000, 12.3009,-999.000
    49RY9407_2,   P09,    65,  1,      1,    201,2,19940807,1526,  8.3268, 137.0010, 2255,    301.8,   9.2586,  34.5254,2,  34.5167,2,     80.2,3,     72.2,2,    40.99,2,    31.90,2,     0.00,2,     2.25,2, -999.000,9, -999.000,9, -999.000,9,-999.0000,9,  -999.00,9,   -999.0,9,-999.000,9,   -999.0,9,   -999,  -999.0,-999.000,-999.0000,-999.000,  -999.0,-999.000,  9.2252,-999.000
    49RY9407_2,   P09,    65,  1,     24,    222,2,19940807,1526,  8.3268, 137.0010, 2255,    401.8,   7.8889,  34.5325,2,  34.5332,2,     72.1,2,     72.1,2,    48.36,2,    34.62,2,     0.00,2,     2.44,2, -999.000,9, -999.000,9, -999.000,9,-999.0000,9,  -999.00,9,   -999.0,9,-999.000,9,   -999.0,9,   -999,  -999.0,-999.000,-999.0000,-999.000,  -999.0,-999.000,  7.8483,-999.000
    49RY9407_2,   P09,    65,  1,     23,    228,2,19940807,1526,  8.3268, 137.0010, 2255,    502.4,   7.2788,  34.5264,2,  34.5254,2,     77.4,2,     78.2,6,    53.66,2,    35.44,2,     0.00,2,     2.49,2, -999.000,9, -999.000,9, -999.000,9,-999.0000,9,  -999.00,9,   -999.0,9,-999.000,9,   -999.0,9,   -999,  -999.0,-999.000,-999.0000,-999.000,  -999.0,-999.000,  7.2300,-999.000
    49RY9407_2,   P09,    65,  1,     22,    227,2,19940807,1526,  8.3268, 137.0010, 2255,    604.2,   6.4724,  34.5230,2,  34.5250,2,     79.5,2,     79.1,2,    62.93,2,    36.82,2,     0.00,2,     2.61,2, -999.000,9, -999.000,9, -999.000,9,-999.0000,9,  -999.00,9,   -999.0,9,-999.000,9,   -999.0,9,   -999,  -999.0,-999.000,-999.0000,-999.000,  -999.0,-999.000,  6.4170,-999.000
    49RY9407_2,   P09,    65,  1,     21,    226,2,19940807,1526,  8.3268, 137.0010, 2255,    705.2,   5.9664,  34.5185,2,  34.5230,2,     82.2,2,     81.2,2,    69.98,2,    37.42,2,     0.00,2,     2.64,2, -999.000,9, -999.000,9, -999.000,9,-999.0000,9,  -999.00,9,   -999.0,9,-999.000,9,   -999.0,9,   -999,  -999.0,-999.000,-999.0000,-999.000,  -999.0,-999.000,  5.9039,-999.000
    49RY9407_2,   P09,    65,  1,     19,    210,2,19940807,1526,  8.3268, 137.0010, 2255,    804.7,   5.2343,  34.5302,2,  34.5318,2,     85.2,2,     83.9,6,    80.80,6,    38.33,6,     0.00,6,     2.69,6, -999.000,9, -999.000,9, -999.000,9,-999.0000,9,  -999.00,9,   -999.0,9,-999.000,9,   -999.0,9,   -999,  -999.0,-999.000,-999.0000,-999.000,  -999.0,-999.000,  5.1670,-999.000
    49RY9407_2,   P09,    65,  1,     20,    203,2,19940807,1526,  8.3268, 137.0010, 2255,    804.7,   5.2343,  34.5302,2,  34.5311,2,     85.2,2,     83.7,2,    82.00,2,    38.31,2,     0.00,2,     2.71,2, -999.000,9, -999.000,9, -999.000,9,-999.0000,9,  -999.00,9,   -999.0,9,-999.000,9,   -999.0,9,   -999,  -999.0,-999.000,-999.0000,-999.000,   803.0,-999.000,  5.1670,-999.000
    49RY9407_2,   P09,    65,  1,     18,    221,2,19940807,1526,  8.3268, 137.0010, 2255,    905.5,   4.6618,  34.5428,2,  34.5429,2,     87.1,2,     86.3,2,    92.80,2,    38.84,2,     0.00,2,     2.75,2, -999.000,9, -999.000,9, -999.000,9,-999.0000,9,  -999.00,9,   -999.0,9,-999.000,9,   -999.0,9,   -999,  -999.0,-999.000,-999.0000,-999.000,   906.0,-999.000,  4.5892,-999.000
    49RY9407_2,   P09,    65,  1,     17,    219,2,19940807,1526,  8.3268, 137.0010, 2255,   1005.9,   4.4450,  34.5482,2,  34.5478,2,     87.4,2,     88.4,2,    96.82,2,    38.89,2,     0.00,2,     2.75,2, -999.000,9, -999.000,9, -999.000,9,-999.0000,9,  -999.00,9,   -999.0,9,-999.000,9,   -999.0,9,   -999,  -999.0,-999.000,-999.0000,-999.000,  -999.0,-999.000,  4.3654,-999.000
    49RY9407_2,   P09,    65,  1,     16,    229,2,19940807,1526,  8.3268, 137.0010, 2255,   1260.8,   3.5548,  34.5744,2,  34.5741,2,     94.4,2,     94.3,2,   112.42,2,    39.28,2,     0.00,2,     2.77,2, -999.000,9, -999.000,9, -999.000,9,-999.0000,9,  -999.00,9,   -999.0,9,-999.000,9,   -999.0,9,   -999,  -999.0,   3.553,-999.0000,-999.000,  1255.0,-999.000,  3.4611,-999.000
    49RY9407_2,   P09,    65,  1,     15,    217,2,19940807,1526,  8.3268, 137.0010, 2255,   1513.7,   2.9062,  34.5994,2,  34.5999,2,    101.1,2,    102.3,2,   124.71,2,    39.28,2,     0.00,2,     2.75,2, -999.000,9, -999.000,9, -999.000,9,-999.0000,9,  -999.00,9,   -999.0,9,-999.000,9,   -999.0,9,   -999,  -999.0,-999.000,-999.0000,-999.000,  -999.0,-999.000,  2.7982,-999.000
    49RY9407_2,   P09,    65,  1,     14,    204,2,19940807,1526,  8.3268, 137.0010, 2255,   1766.1,   2.4231,  34.6234,2,  34.6221,2,    110.6,2,    111.3,2,   133.67,2,    39.03,2,     0.00,2,     2.73,2, -999.000,9, -999.000,9, -999.000,9,-999.0000,9,  -999.00,9,   -999.0,9,-999.000,9,   -999.0,9,   -999,  -999.0,   2.422,-999.0000,-999.000,  1765.0,-999.000,  2.3001,-999.000
    49RY9407_2,   P09,    65,  1,     13,    214,2,19940807,1526,  8.3268, 137.0010, 2255,   2020.6,   2.1652,  34.6367,2,  34.6349,2,    117.6,2,    117.3,2,   137.94,6,    38.69,6,     0.00,6,     2.72,6, -999.000,9, -999.000,9, -999.000,9,-999.0000,9,  -999.00,9,   -999.0,9,-999.000,9,   -999.0,9,   -999,  -999.0,-999.000,-999.0000,-999.000,  2307.0,-999.000,  2.0245,-999.000
    49RY9407_2,   P09,    65,  1,     12,    213,4,19940807,1526,  8.3268, 137.0010, 2255,   2321.5,   1.9134,  34.6506,2,  34.6495,2,    126.5,2,    127.3,2,   140.89,6,    38.17,6,     0.00,6,     2.66,6, -999.000,9, -999.000,9, -999.000,9,-999.0000,9,  -999.00,9,   -999.0,9,-999.000,9,   -999.0,9,   -999,  -999.0,-999.000,-999.0000,-999.000,  2317.0,-999.000,  1.7506,-999.000