BOTTLE,20020306WHPSIOdm
EXPOCODE,SECT_ID,STNNBR,CASTNO,SAMPNO,BTLNBR,BTLNBR_FLAG_W,DATE,TIME,LATITUDE,LONGITUDE,DEPTH,CTDPRS,CTDTMP,CTDSAL,CTDSAL_FLAG_W,SALNTY,SALNTY_FLAG_W,CTDOXY,CTDOXY_FLAG_W,OXYGEN,OXYGEN_FLAG_W,SILCAT,SILCAT_FLAG_W,NITRAT,NITRAT_FLAG_W,NITRIT,NITRIT_FLAG_W,PHSPHT,PHSPHT_FLAG_W,CFC-11,CFC-11_FLAG_W,CFC-12,CFC-12_FLAG_W,TRITUM,TRITUM_FLAG_W,HELIUM,HELIUM_FLAG_W,DELHE3,DELHE3_FLAG_W,DELC14,DELC14_FLAG_W,NEON,NEON_FLAG_W,TCARBN,TCARBN_FLAG_W,CTDRAW,C14ERR,REVTMP,HELIER,DELHER,REVPRS,NEONER,THETA,TRITER
,,,,,,,,,,,,DBAR,ITS-90,PSS-78,,PSS-78,,UMOL/KG,,UMOL/KG,,UMOL/KG,,UMOL/KG,,UMOL/KG,,UMOL/KG,,PMOL/KG,,PMOL/KG,,TU,,NMOL/KG,,PERCNT,,/MILLE,,NMOL/KG,,UMOL/KG,,,/MILLE,ITS-90,NMOL/KG,PERCNT,DBAR,NMOL/KG,DEG C,TU
    49RY9407_2,   P09,    96,  2,      9,    223,2,19940815,1056, -0.7285, 142.0273, 3195,    302.7,  10.6442,  34.8004,2,  34.7975,2,   -999.0,9,    145.0,2,    16.73,2,    22.96,2,     0.00,2,     1.59,2, -999.000,9, -999.000,9, -999.000,9,-999.0000,9,  -999.00,9,   -999.0,9,-999.000,9,   -999.0,9,   -999,  -999.0,-999.000,-999.0000,-999.000,  -999.0,-999.000, 10.6075,-999.000
    49RY9407_2,   P09,    96,  2,      8,    212,2,19940815,1056, -0.7285, 142.0273, 3195,    403.0,   8.7259,  34.6337,2,  34.6318,2,   -999.0,9,    126.7,6,    29.73,2,    28.40,2,     0.00,2,     1.95,2, -999.000,9, -999.000,9, -999.000,9,-999.0000,9,  -999.00,9,   -999.0,9,-999.000,9,   -999.0,9,   -999,  -999.0,-999.000,-999.0000,-999.000,  -999.0,-999.000,  8.6826,-999.000
    49RY9407_2,   P09,    96,  2,      6,    209,2,19940815,1056, -0.7285, 142.0273, 3195,    504.0,   7.3975,  34.5638,2,  34.5635,2,   -999.0,9,    147.9,2,    30.74,2,    29.24,2,     0.00,2,     2.01,2, -999.000,9, -999.000,9, -999.000,9,-999.0000,9,  -999.00,9,   -999.0,9,-999.000,9,   -999.0,9,   -999,  -999.0,-999.000,-999.0000,-999.000,  -999.0,-999.000,  7.3481,-999.000
    49RY9407_2,   P09,    96,  2,      7,    220,2,19940815,1056, -0.7285, 142.0273, 3195,    507.3,   7.3963,  34.5655,2,  34.5637,2,   -999.0,9,    147.7,6,    30.77,2,    29.30,2,     0.00,2,     2.00,2, -999.000,9, -999.000,9, -999.000,9,-999.0000,9,  -999.00,9,   -999.0,9,-999.000,9,   -999.0,9,   -999,  -999.0,-999.000,-999.0000,-999.000,  -999.0,-999.000,  7.3466,-999.000
    49RY9407_2,   P09,    96,  2,      5,    218,2,19940815,1056, -0.7285, 142.0273, 3195,    605.5,   6.7819,  34.5418,2,  34.5403,2,   -999.0,9,    138.3,2,    37.95,2,    31.42,2,     0.00,2,     2.16,2, -999.000,9, -999.000,9, -999.000,9,-999.0000,9,  -999.00,9,   -999.0,9,-999.000,9,   -999.0,9,   -999,  -999.0,-999.000,-999.0000,-999.000,  -999.0,-999.000,  6.7249,-999.000
    49RY9407_2,   P09,    96,  2,      4,    206,2,19940815,1056, -0.7285, 142.0273, 3195,    705.6,   5.7525,  34.5350,2,  34.5340,2,   -999.0,9,    107.9,2,    57.26,2,    36.26,2,     0.00,2,     2.53,2, -999.000,9, -999.000,9, -999.000,9,-999.0000,9,  -999.00,9,   -999.0,9,-999.000,9,   -999.0,9,   -999,  -999.0,-999.000,-999.0000,-999.000,  -999.0,-999.000,  5.6911,-999.000
    49RY9407_2,   P09,    96,  2,      3,    205,2,19940815,1056, -0.7285, 142.0273, 3195,    806.1,   5.4100,  34.5401,2,  34.5389,2,   -999.0,9,     96.8,2,    65.55,2,    37.74,2,     0.00,2,     2.64,2, -999.000,9, -999.000,9, -999.000,9,-999.0000,9,  -999.00,9,   -999.0,9,-999.000,9,   -999.0,9,   -999,  -999.0,-999.000,-999.0000,-999.000,  -999.0,-999.000,  5.3414,-999.000
    49RY9407_2,   P09,    96,  2,      2,    216,2,19940815,1056, -0.7285, 142.0273, 3195,    908.4,   4.7368,  34.5439,2,  34.5434,2,   -999.0,9,    103.3,2,    77.41,6,    37.75,6,     0.00,6,     2.65,6, -999.000,9, -999.000,9, -999.000,9,-999.0000,9,  -999.00,9,   -999.0,9,-999.000,9,   -999.0,9,   -999,  -999.0,-999.000,-999.0000,-999.000,  -999.0,-999.000,  4.6635,-999.000
    49RY9407_2,   P09,    96,  2,      1,    201,2,19940815,1056, -0.7285, 142.0273, 3195,   1008.5,   4.5369,  34.5510,2,  34.5511,2,   -999.0,9,     99.3,6,    83.28,2,    38.38,2,     0.00,2,     2.70,2, -999.000,9, -999.000,9, -999.000,9,-999.0000,9,  -999.00,9,   -999.0,9,-999.000,9,   -999.0,9,   -999,  -999.0,-999.000,-999.0000,-999.000,  -999.0,-999.000,  4.4563,-999.000
    49RY9407_2,   P09,    96,  2,     24,    222,2,19940815,1056, -0.7285, 142.0273, 3195,   1262.0,   3.5629,  34.5768,2,  34.5763,2,   -999.0,9,    105.9,2,   102.07,2,    38.49,2,     0.00,2,     2.72,2, -999.000,9, -999.000,9, -999.000,9,-999.0000,9,  -999.00,9,   -999.0,9,-999.000,9,   -999.0,9,   -999,  -999.0,-999.000,-999.0000,-999.000,  -999.0,-999.000,  3.4690,-999.000
    49RY9407_2,   P09,    96,  2,     23,    228,2,19940815,1056, -0.7285, 142.0273, 3195,   1515.1,   2.9576,  34.6018,2,  34.6025,2,   -999.0,9,    109.1,2,   117.51,2,    38.70,2,     0.00,2,     2.74,2, -999.000,9, -999.000,9, -999.000,9,-999.0000,9,  -999.00,9,   -999.0,9,-999.000,9,   -999.0,9,   -999,  -999.0,-999.000,-999.0000,-999.000,  -999.0,-999.000,  2.8489,-999.000
    49RY9407_2,   P09,    96,  2,     21,    226,2,19940815,1056, -0.7285, 142.0273, 3195,   1768.4,   2.5495,  34.6199,2,  34.6206,2,   -999.0,9,    113.0,2,   127.20,2,    38.73,2,     0.00,2,     2.72,2, -999.000,9, -999.000,9, -999.000,9,-999.0000,9,  -999.00,9,   -999.0,9,-999.000,9,   -999.0,9,   -999,  -999.0,-999.000,-999.0000,-999.000,  -999.0,-999.000,  2.4247,-999.000
    49RY9407_2,   P09,    96,  2,     22,    227,2,19940815,1056, -0.7285, 142.0273, 3195,   1768.4,   2.5495,  34.6199,2,  34.6198,2,   -999.0,9,    113.2,2,   127.22,2,    38.70,2,     0.00,2,     2.73,2, -999.000,9, -999.000,9, -999.000,9,-999.0000,9,  -999.00,9,   -999.0,9,-999.000,9,   -999.0,9,   -999,  -999.0,-999.000,-999.0000,-999.000,  -999.0,-999.000,  2.4247,-999.000
    49RY9407_2,   P09,    96,  2,     20,    203,2,19940815,1056, -0.7285, 142.0273, 3195,   2021.3,   2.2843,  34.6330,2,  34.6341,2,   -999.0,9,    118.8,2,   132.35,6,    38.47,6,     0.00,6,     2.69,6, -999.000,9, -999.000,9, -999.000,9,-999.0000,9,  -999.00,9,   -999.0,9,-999.000,9,   -999.0,9,   -999,  -999.0,-999.000,-999.0000,-999.000,  2014.0,-999.000,  2.1417,-999.000
    49RY9407_2,   P09,    96,  2,     19,    215,2,19940815,1056, -0.7285, 142.0273, 3195,   2275.6,   1.9735,  34.6476,2,  34.6481,2,   -999.0,9,    126.1,2,   138.92,2,    38.01,2,     0.00,2,     2.66,2, -999.000,9, -999.000,9, -999.000,9,-999.0000,9,  -999.00,9,   -999.0,9,-999.000,9,   -999.0,9,   -999,  -999.0,-999.000,-999.0000,-999.000,  -999.0,-999.000,  1.8137,-999.000
    49RY9407_2,   P09,    96,  2,     18,    221,2,19940815,1056, -0.7285, 142.0273, 3195,   2530.4,   1.8041,  34.6577,2,  34.6579,2,   -999.0,9,    132.6,6,   141.34,2,    37.62,2,     0.00,2,     2.63,2, -999.000,9, -999.000,9, -999.000,9,-999.0000,9,  -999.00,9,   -999.0,9,-999.000,9,   -999.0,9,   -999,  -999.0,-999.000,-999.0000,-999.000,  2529.0,-999.000,  1.6248,-999.000
    49RY9407_2,   P09,    96,  2,     17,    219,2,19940815,1056, -0.7285, 142.0273, 3195,   2783.6,   1.6625,  34.6665,2,  34.6656,2,   -999.0,9,    139.5,2,   142.08,2,    37.24,2,     0.00,2,     2.59,2, -999.000,9, -999.000,9, -999.000,9,-999.0000,9,  -999.00,9,   -999.0,9,-999.000,9,   -999.0,9,   -999,  -999.0,-999.000,-999.0000,-999.000,  -999.0,-999.000,  1.4627,-999.000
    49RY9407_2,   P09,    96,  2,     14,    204,2,19940815,1056, -0.7285, 142.0273, 3195,   3040.8,   1.5806,  34.6727,2,  34.6723,2,   -999.0,9,    144.6,2,   142.73,2,    36.89,2,     0.00,2,     2.56,2, -999.000,9, -999.000,9, -999.000,9,-999.0000,9,  -999.00,9,   -999.0,9,-999.000,9,   -999.0,9,   -999,  -999.0,   1.579,-999.0000,-999.000,  3038.0,-999.000,  1.3581,-999.000
    49RY9407_2,   P09,    96,  2,     15,    217,2,19940815,1056, -0.7285, 142.0273, 3195,   3041.2,   1.5806,  34.6718,2,  34.6723,2,   -999.0,9,    144.6,2,   142.78,6,    36.77,6,     0.00,6,     2.56,6, -999.000,9, -999.000,9, -999.000,9,-999.0000,9,  -999.00,9,   -999.0,9,-999.000,9,   -999.0,9,   -999,  -999.0,-999.000,-999.0000,-999.000,  -999.0,-999.000,  1.3581,-999.000
    49RY9407_2,   P09,    96,  2,     16,    229,2,19940815,1056, -0.7285, 142.0273, 3195,   3041.8,   1.5807,  34.6724,2,  34.6725,2,   -999.0,9,    144.5,2,   142.60,6,    36.83,6,     0.00,6,     2.56,6, -999.000,9, -999.000,9, -999.000,9,-999.0000,9,  -999.00,9,   -999.0,9,-999.000,9,   -999.0,9,   -999,  -999.0,   1.571,-999.0000,-999.000,  3041.0,-999.000,  1.3581,-999.000
    49RY9407_2,   P09,    96,  2,     12,    213,4,19940815,1056, -0.7285, 142.0273, 3195,   3190.8,   1.5704,  34.6742,2,  34.6740,6,   -999.0,9,   -999.0,9,  -999.00,9,  -999.00,9,  -999.00,9,  -999.00,9, -999.000,9, -999.000,9, -999.000,9,-999.0000,9,  -999.00,9,   -999.0,9,-999.000,9,   -999.0,9,   -999,  -999.0,-999.000,-999.0000,-999.000,  3186.0,-999.000,  1.3335,-999.000
    49RY9407_2,   P09,    96,  2,     13,    214,2,19940815,1056, -0.7285, 142.0273, 3195,   3191.1,   1.5706,  34.6746,2,  34.6735,2,   -999.0,9,    145.5,2,   142.84,2,    36.76,2,     0.00,2,     2.56,2, -999.000,9, -999.000,9, -999.000,9,-999.0000,9,  -999.00,9,   -999.0,9,-999.000,9,   -999.0,9,   -999,  -999.0,-999.000,-999.0000,-999.000,  3179.0,-999.000,  1.3338,-999.000
    49RY9407_2,   P09,    97,  1,      0,      0,2,19940815,1429, -0.9937, 142.0017, 3025,      1.1,  29.0150,  34.0399,2,-999.0000,9,   -999.0,9,    199.0,2,     1.35,2,     0.01,2,     0.00,2,     0.04,2, -999.000,9, -999.000,9, -999.000,9,-999.0000,9,  -999.00,9,   -999.0,1,-999.000,9,   1894.5,2,   -999,  -999.0,-999.000,-999.0000,-999.000,  -999.0,-999.000, 29.0148,-999.000
    49RY9407_2,   P09,    97,  1,     21,    226,2,19940815,1429, -0.9937, 142.0017, 3025,     10.9,  29.0169,  34.0395,2,-999.0000,5,   -999.0,9,    199.3,6,     1.31,6,     0.01,6,     0.00,6,     0.03,6, -999.000,9, -999.000,9, -999.000,9,-999.0000,9,  -999.00,9,   -999.0,1,-999.000,9,   1891.9,2,   -999,  -999.0,-999.000,-999.0000,-999.000,  -999.0,-999.000, 29.0143,-999.000
    49RY9407_2,   P09,    97,  1,     19,    215,2,19940815,1429, -0.9937, 142.0017, 3025,     26.2,  29.0276,  34.0440,2,  34.0431,2,   -999.0,9,    198.0,2,     1.28,2,     0.02,2,     0.00,2,     0.03,2, -999.000,9, -999.000,9, -999.000,9,-999.0000,9,  -999.00,9,   -999.0,1,-999.000,9,   1892.6,6,   -999,  -999.0,-999.000,-999.0000,-999.000,  -999.0,-999.000, 29.0213,-999.000
    49RY9407_2,   P09,    97,  1,     20,    203,2,19940815,1429, -0.9937, 142.0017, 3025,     26.3,  29.0234,  34.0391,2,  34.0398,2,   -999.0,9,    197.4,2,     1.27,2,     0.00,2,     0.00,2,     0.03,2, -999.000,9, -999.000,9, -999.000,9,-999.0000,9,  -999.00,9,   -999.0,9,-999.000,9,   -999.0,9,   -999,  -999.0,-999.000,-999.0000,-999.000,    32.0,-999.000, 29.0171,-999.000
    49RY9407_2,   P09,    97,  1,     18,    221,2,19940815,1429, -0.9937, 142.0017, 3025,     51.7,  28.9982,  34.2324,2,  34.2322,2,   -999.0,9,    197.3,2,     1.18,2,     0.03,2,     0.00,2,     0.06,2, -999.000,9, -999.000,9, -999.000,9,-999.0000,9,  -999.00,9,   -999.0,1,-999.000,9,   1906.8,2,   -999,  -999.0,-999.000,-999.0000,-999.000,    55.0,-999.000, 28.9857,-999.000
    49RY9407_2,   P09,    97,  1,     17,    219,2,19940815,1429, -0.9937, 142.0017, 3025,     76.6,  26.8557,  34.7004,2,  34.6623,2,   -999.0,9,    185.2,2,     1.48,2,     0.87,2,     0.25,2,     0.17,2, -999.000,9, -999.000,9, -999.000,9,-999.0000,9,  -999.00,9,   -999.0,1,-999.000,9,   1944.8,2,   -999,  -999.0,-999.000,-999.0000,-999.000,  -999.0,-999.000, 26.8382,-999.000
    49RY9407_2,   P09,    97,  1,     16,    229,2,19940815,1429, -0.9937, 142.0017, 3025,    101.4,  26.1255,  35.2676,2,  35.2678,2,   -999.0,9,    150.3,2,     2.43,2,     6.42,2,     0.07,2,     0.56,2, -999.000,9, -999.000,9, -999.000,9,-999.0000,9,  -999.00,9,   -999.0,1,-999.000,9,   2025.6,2,   -999,  -999.0,  26.090,-999.0000,-999.000,    98.0,-999.000, 26.1027,-999.000
    49RY9407_2,   P09,    97,  1,     15,    217,2,19940815,1429, -0.9937, 142.0017, 3025,    126.3,  23.1464,  35.2750,2,  35.2745,2,   -999.0,9,    135.5,2,     3.87,2,     8.68,2,     0.03,2,     0.67,2, -999.000,9, -999.000,9, -999.000,9,-999.0000,9,  -999.00,9,   -999.0,1,-999.000,9,   2055.5,2,   -999,  -999.0,-999.000,-999.0000,-999.000,  -999.0,-999.000, 23.1205,-999.000
    49RY9407_2,   P09,    97,  1,     14,    204,2,19940815,1429, -0.9937, 142.0017, 3025,    151.9,  19.9575,  35.4246,2,  35.4285,2,   -999.0,9,    139.3,2,     4.69,2,    10.49,2,     0.01,2,     0.81,2, -999.000,9, -999.000,9, -999.000,9,-999.0000,9,  -999.00,9,   -999.0,1,-999.000,9,   2087.3,2,   -999,  -999.0,  20.090,-999.0000,-999.000,   151.0,-999.000, 19.9295,-999.000
    49RY9407_2,   P09,    97,  1,     12,    213,2,19940815,1429, -0.9937, 142.0017, 3025,    203.7,  17.6275,  35.3472,2,  35.3357,2,   -999.0,9,    140.0,6,     6.44,2,    12.92,2,     0.01,2,     0.96,2, -999.000,9, -999.000,9, -999.000,9,-999.0000,9,  -999.00,9,   -999.0,9,-999.000,9,   -999.0,9,   -999,  -999.0,-999.000,-999.0000,-999.000,   208.0,-999.000, 17.5930,-999.000
    49RY9407_2,   P09,    97,  1,     13,    214,2,19940815,1429, -0.9937, 142.0017, 3025,    204.5,  17.6155,  35.3439,2,  35.3373,2,   -999.0,9,    139.9,6,     6.43,2,    12.97,2,     0.01,2,     0.97,2, -999.000,9, -999.000,9, -999.000,9,-999.0000,9,  -999.00,9,   -999.0,1,-999.000,9,   2105.6,2,   -999,  -999.0,-999.000,-999.0000,-999.000,   210.0,-999.000, 17.5808,-999.000