BOTTLE,20020306WHPSIOdm
EXPOCODE,SECT_ID,STNNBR,CASTNO,SAMPNO,BTLNBR,BTLNBR_FLAG_W,DATE,TIME,LATITUDE,LONGITUDE,DEPTH,CTDPRS,CTDTMP,CTDSAL,CTDSAL_FLAG_W,SALNTY,SALNTY_FLAG_W,CTDOXY,CTDOXY_FLAG_W,OXYGEN,OXYGEN_FLAG_W,SILCAT,SILCAT_FLAG_W,NITRAT,NITRAT_FLAG_W,NITRIT,NITRIT_FLAG_W,PHSPHT,PHSPHT_FLAG_W,CFC-11,CFC-11_FLAG_W,CFC-12,CFC-12_FLAG_W,TRITUM,TRITUM_FLAG_W,HELIUM,HELIUM_FLAG_W,DELHE3,DELHE3_FLAG_W,DELC14,DELC14_FLAG_W,NEON,NEON_FLAG_W,TCARBN,TCARBN_FLAG_W,CTDRAW,C14ERR,REVTMP,HELIER,DELHER,REVPRS,NEONER,THETA,TRITER
,,,,,,,,,,,,DBAR,ITS-90,PSS-78,,PSS-78,,UMOL/KG,,UMOL/KG,,UMOL/KG,,UMOL/KG,,UMOL/KG,,UMOL/KG,,PMOL/KG,,PMOL/KG,,TU,,NMOL/KG,,PERCNT,,/MILLE,,NMOL/KG,,UMOL/KG,,,/MILLE,ITS-90,NMOL/KG,PERCNT,DBAR,NMOL/KG,DEG C,TU
    49RY9407_2,   P09,    56,  3,      0,      0,2,19940805,1413, 12.5625, 136.9850, 4570,      0.0,  28.8737,  34.0159,2,-999.0000,9,    170.0,4,    197.2,6,     1.20,2,     0.00,2,     0.00,2,     0.00,2, -999.000,9, -999.000,9, -999.000,9,-999.0000,9,  -999.00,9,     94.0,3,-999.000,9,   1880.6,2,   -999,     9.4,-999.000,-999.0000,-999.000,  -999.0,-999.000, 28.8738,-999.000
    49RY9407_2,   P09,    56,  3,      7,    203,2,19940805,1413, 12.5625, 136.9850, 4570,     10.0,  28.8833,  34.0156,2,  34.0166,2,    190.2,3,    195.8,2,     1.23,2,     0.02,2,     0.00,2,     0.00,2, -999.000,9, -999.000,9, -999.000,9,-999.0000,9,  -999.00,9,   -999.0,1,-999.000,9,   1882.2,2,   -999,  -999.0,-999.000,-999.0000,-999.000,    15.0,-999.000, 28.8809,-999.000
    49RY9407_2,   P09,    56,  3,      6,    209,2,19940805,1413, 12.5625, 136.9850, 4570,     25.5,  28.8921,  34.0191,2,  34.0164,2,    197.8,2,    195.7,2,     1.31,6,     0.00,6,     0.00,6,     0.00,6, -999.000,9, -999.000,9, -999.000,9,-999.0000,9,  -999.00,9,   -999.0,1,-999.000,9,   1882.8,2,   -999,  -999.0,-999.000,-999.0000,-999.000,  -999.0,-999.000, 28.8860,-999.000
    49RY9407_2,   P09,    56,  3,      5,    221,2,19940805,1413, 12.5625, 136.9850, 4570,     48.8,  28.8926,  34.0157,2,  34.0198,2,    197.4,2,    196.0,2,     1.36,2,     0.01,2,     0.00,2,     0.00,2, -999.000,9, -999.000,9, -999.000,9,-999.0000,9,  -999.00,9,   -999.0,1,-999.000,9,   1883.1,6,   -999,  -999.0,-999.000,-999.0000,-999.000,    53.0,-999.000, 28.8808,-999.000
    49RY9407_2,   P09,    56,  3,      4,    206,2,19940805,1413, 12.5625, 136.9850, 4570,     75.7,  27.5938,  34.5173,2,  34.4591,2,    203.5,2,    202.8,2,     1.47,2,     0.02,2,     0.00,2,     0.06,2, -999.000,9, -999.000,9, -999.000,9,-999.0000,9,  -999.00,9,   -999.0,1,-999.000,9,   1916.9,2,   -999,  -999.0,-999.000,-999.0000,-999.000,  -999.0,-999.000, 27.5762,-999.000
    49RY9407_2,   P09,    56,  3,      3,    229,2,19940805,1413, 12.5625, 136.9850, 4570,    100.8,  26.6390,  34.7677,2,  34.7656,2,    202.6,2,    202.3,2,     1.34,2,     0.00,2,     0.00,2,     0.08,2, -999.000,9, -999.000,9, -999.000,9,-999.0000,9,  -999.00,9,   -999.0,1,-999.000,9,   1939.4,2,   -999,  -999.0,  26.710,-999.0000,-999.000,    95.0,-999.000, 26.6161,-999.000
    49RY9407_2,   P09,    56,  3,      2,    216,2,19940805,1413, 12.5625, 136.9850, 4570,    126.7,  24.7084,  34.8396,2,  34.8355,2,    197.0,2,    192.0,2,     2.09,2,     0.33,2,     0.11,2,     0.15,2, -999.000,9, -999.000,9, -999.000,9,-999.0000,9,  -999.00,9,   -999.0,1,-999.000,9,   1978.8,2,   -999,  -999.0,-999.000,-999.0000,-999.000,  -999.0,-999.000, 24.6812,-999.000
    49RY9407_2,   P09,    56,  3,      1,    204,2,19940805,1413, 12.5625, 136.9850, 4570,    153.2,  22.8764,  35.0016,2,  34.9957,2,    193.9,3,    185.2,2,     2.16,2,     0.71,2,     0.19,2,     0.19,2, -999.000,9, -999.000,9, -999.000,9,-999.0000,9,  -999.00,9,   -999.0,1,-999.000,9,   2009.5,2,   -999,  -999.0,  22.920,-999.0000,-999.000,   151.0,-999.000, 22.8452,-999.000
    49RY9407_2,   P09,    57,  1,     12,    217,2,19940805,0018, 12.0332, 136.9918, 4770,   2531.4,   1.8109,  34.6542,2,  34.6546,2,    127.9,2,    129.4,2,   143.83,2,    37.97,2,     0.00,2,     2.67,2, -999.000,9, -999.000,9, -999.000,5,   1.8976,2,    21.91,2,   -999.0,9,   8.035,2,   -999.0,9,   -999,  -999.0,-999.000,  0.0037,   0.220,  -999.0,   0.020,  1.6313,-999.000
    49RY9407_2,   P09,    57,  1,     11,    201,2,19940805,0018, 12.0332, 136.9918, 4770,   2786.3,   1.6919,  34.6621,2,  34.6633,2,    135.5,2,    135.7,2,   144.68,2,    37.44,2,     0.00,2,     2.63,2, -999.000,9, -999.000,9, -999.000,9,-999.0000,9,  -999.00,9,   -999.0,9,-999.000,9,   -999.0,9,   -999,  -999.0,-999.000,-999.0000,-999.000,  -999.0,-999.000,  1.4912,-999.000
    49RY9407_2,   P09,    57,  1,     10,    214,2,19940805,0018, 12.0332, 136.9918, 4770,   3041.1,   1.6100,  34.6691,2,  34.6674,2,    141.5,2,    141.9,2,   143.79,2,    37.03,2,     0.00,2,     2.60,2, -999.000,9, -999.000,9, -999.000,5,   1.8901,2,    19.70,2,   -999.0,9,   8.030,2,   -999.0,9,   -999,  -999.0,-999.000,  0.0027,   0.250,  -999.0,   0.015,  1.3869,-999.000
    49RY9407_2,   P09,    57,  1,      9,    213,2,19940805,0018, 12.0332, 136.9918, 4770,   3295.6,   1.5711,  34.6737,2,  34.6725,2,    148.1,2,    146.7,2,   142.92,2,    36.82,2,     0.00,2,     2.57,2, -999.000,9, -999.000,9, -999.000,9,-999.0000,9,  -999.00,9,   -999.0,9,-999.000,9,   -999.0,9,   -999,  -999.0,-999.000,-999.0000,-999.000,  3295.0,-999.000,  1.3239,-999.000
    49RY9407_2,   P09,    57,  1,      8,    212,2,19940805,0018, 12.0332, 136.9918, 4770,   3551.9,   1.5457,  34.6771,2,  34.6758,2,    150.1,2,    151.0,2,   142.11,2,    36.50,2,     0.00,2,     2.55,2, -999.000,9, -999.000,9, -999.000,5,   1.8954,2,    18.49,2,   -999.0,9,   8.092,2,   -999.0,9,   -999,  -999.0,-999.000,  0.0027,   0.250,  -999.0,   0.016,  1.2731,-999.000
    49RY9407_2,   P09,    57,  1,      7,    203,2,19940805,0018, 12.0332, 136.9918, 4770,   3807.9,   1.5259,  34.6798,2,  34.6784,2,    155.9,2,    154.0,6,   141.16,2,    36.19,2,     0.00,2,     2.54,2, -999.000,9, -999.000,9, -999.000,9,-999.0000,9,  -999.00,9,   -999.0,9,-999.000,9,   -999.0,9,   -999,  -999.0,-999.000,-999.0000,-999.000,  3802.0,-999.000,  1.2269,-999.000
    49RY9407_2,   P09,    57,  1,      6,    209,2,19940805,0018, 12.0332, 136.9918, 4770,   4062.3,   1.5041,  34.6838,2,  34.6831,2,    158.2,2,    158.3,2,   140.03,2,    36.00,2,     0.00,2,     2.51,2, -999.000,9, -999.000,9, -999.000,5,   1.8902,2,    16.87,2,   -999.0,9,   8.105,2,   -999.0,9,   -999,  -999.0,-999.000,  0.0027,   0.220,  -999.0,   0.020,  1.1782,-999.000
    49RY9407_2,   P09,    57,  1,      5,    221,2,19940805,0018, 12.0332, 136.9918, 4770,   4319.6,   1.5112,  34.6859,2,  34.6849,2,    161.5,2,    160.2,2,   139.38,2,    35.81,2,     0.00,2,     2.50,2, -999.000,9, -999.000,9, -999.000,9,-999.0000,9,  -999.00,9,   -999.0,9,-999.000,9,   -999.0,9,   -999,  -999.0,-999.000,-999.0000,-999.000,  -999.0,-999.000,  1.1565,-999.000
    49RY9407_2,   P09,    57,  1,      4,    206,2,19940805,0018, 12.0332, 136.9918, 4770,   4575.4,   1.5231,  34.6861,2,  34.6861,2,    162.7,2,    162.4,2,   138.40,6,    35.75,6,     0.00,6,     2.49,6, -999.000,9, -999.000,9, -999.000,5,   1.8851,2,    15.64,2,   -999.0,9,   8.037,2,   -999.0,9,   -999,  -999.0,-999.000,  0.0027,   0.220,  -999.0,   0.020,  1.1387,-999.000
    49RY9407_2,   P09,    57,  1,      3,    229,2,19940805,0018, 12.0332, 136.9918, 4770,   4833.5,   1.5389,  34.6874,2,  34.6870,6,    166.4,2,    163.5,2,   138.15,2,    35.66,2,     0.00,2,     2.48,2, -999.000,9, -999.000,9, -999.000,9,-999.0000,9,  -999.00,9,   -999.0,9,-999.000,9,   -999.0,9,   -999,  -999.0,   1.533,-999.0000,-999.000,  4830.0,-999.000,  1.1234,-999.000
    49RY9407_2,   P09,    57,  1,      2,    216,2,19940805,0018, 12.0332, 136.9918, 4770,   5091.6,   1.5655,  34.6876,2,  34.6882,2,    165.6,2,    163.8,2,   138.05,2,    35.67,2,     0.00,2,     2.48,2, -999.000,9, -999.000,9, -999.000,5,   1.8830,2,    16.08,2,   -999.0,9,   8.081,2,   -999.0,9,   -999,  -999.0,-999.000,  0.0027,   0.220,  -999.0,   0.021,  1.1179,-999.000
    49RY9407_2,   P09,    57,  1,      1,    204,2,19940805,0018, 12.0332, 136.9918, 4770,   5412.2,   1.6064,  34.6865,2,  34.6884,2,    167.6,2,    163.8,2,   138.15,2,    35.60,2,     0.00,2,     2.48,2, -999.000,9, -999.000,9, -999.000,9,-999.0000,9,  -999.00,9,   -999.0,9,-999.000,9,   -999.0,9,   -999,  -999.0,   1.602,-999.0000,-999.000,  5407.0,-999.000,  1.1172,-999.000
    49RY9407_2,   P09,    57,  2,     12,    217,2,19940805,0341, 12.0782, 136.9982, 4950,    404.2,   8.0317,  34.3525,2,  34.3539,2,     88.3,3,     80.6,2,    48.20,2,    32.04,2,     0.00,2,     2.33,2, -999.000,9, -999.000,9, -999.000,9,-999.0000,9,  -999.00,9,   -999.0,9,-999.000,9,   -999.0,9,   -999,  -999.0,-999.000,-999.0000,-999.000,  -999.0,-999.000,  7.9906,-999.000
    49RY9407_2,   P09,    57,  2,     11,    201,2,19940805,0341, 12.0782, 136.9982, 4950,    502.4,   7.0263,  34.4550,2,  34.4455,2,     79.3,2,     75.0,2,    58.43,2,    35.10,2,     0.00,2,     2.52,2, -999.000,9, -999.000,9, -999.000,9,-999.0000,9,  -999.00,9,   -999.0,9,-999.000,9,   -999.0,9,   -999,  -999.0,-999.000,-999.0000,-999.000,  -999.0,-999.000,  6.9785,-999.000
    49RY9407_2,   P09,    57,  2,     10,    214,2,19940805,0341, 12.0782, 136.9982, 4950,    604.3,   6.3061,  34.4727,2,  34.4703,2,     82.6,2,     80.0,6,    65.40,2,    36.19,2,     0.00,2,     2.59,2, -999.000,9, -999.000,9, -999.000,9,-999.0000,9,  -999.00,9,   -999.0,9,-999.000,9,   -999.0,9,   -999,  -999.0,-999.000,-999.0000,-999.000,  -999.0,-999.000,  6.2515,-999.000
    49RY9407_2,   P09,    57,  2,      9,    213,2,19940805,0341, 12.0782, 136.9982, 4950,    705.9,   5.6796,  34.5002,2,  34.4945,2,     87.3,2,     84.6,2,    72.51,2,    37.13,2,     0.00,2,     2.65,2, -999.000,9, -999.000,9, -999.000,9,-999.0000,9,  -999.00,9,   -999.0,9,-999.000,9,   -999.0,9,   -999,  -999.0,-999.000,-999.0000,-999.000,   706.0,-999.000,  5.6187,-999.000
    49RY9407_2,   P09,    57,  2,      8,    212,2,19940805,0341, 12.0782, 136.9982, 4950,    805.0,   5.2611,  34.5174,2,  34.5165,2,     87.8,2,     85.3,2,    79.06,2,    37.65,2,     0.00,2,     2.69,2, -999.000,9, -999.000,9, -999.000,9,-999.0000,9,  -999.00,9,   -999.0,9,-999.000,9,   -999.0,9,   -999,  -999.0,-999.000,-999.0000,-999.000,  -999.0,-999.000,  5.1936,-999.000
    49RY9407_2,   P09,    57,  2,      7,    203,2,19940805,0341, 12.0782, 136.9982, 4950,    906.3,   4.8069,  34.5291,2,  34.5248,2,     87.8,2,     85.5,2,    87.99,2,    38.17,2,     0.00,2,     2.74,2, -999.000,9, -999.000,9, -999.000,9,-999.0000,9,  -999.00,9,   -999.0,9,-999.000,9,   -999.0,9,   -999,  -999.0,-999.000,-999.0000,-999.000,   905.0,-999.000,  4.7333,-999.000
    49RY9407_2,   P09,    57,  2,      6,    209,2,19940805,0341, 12.0782, 136.9982, 4950,   1007.0,   4.4056,  34.5402,2,  34.5393,2,     88.3,2,     86.7,2,    95.93,6,    38.60,6,     0.00,6,     2.76,6, -999.000,9, -999.000,9, -999.000,9,-999.0000,9,  -999.00,9,   -999.0,9,-999.000,9,   -999.0,9,   -999,  -999.0,-999.000,-999.0000,-999.000,  -999.0,-999.000,  4.3261,-999.000
    49RY9407_2,   P09,    57,  2,      5,    221,2,19940805,0341, 12.0782, 136.9982, 4950,   1261.7,   3.5796,  34.5627,2,  34.5619,2,     89.7,2,     88.7,2,   113.64,2,    39.29,2,     0.00,2,     2.81,2, -999.000,9, -999.000,9, -999.000,9,-999.0000,9,  -999.00,9,   -999.0,9,-999.000,9,   -999.0,9,   -999,  -999.0,-999.000,-999.0000,-999.000,  1261.0,-999.000,  3.4856,-999.000
    49RY9407_2,   P09,    57,  2,      4,    206,2,19940805,0341, 12.0782, 136.9982, 4950,   1515.8,   2.8696,  34.5925,2,  34.5899,2,     97.5,2,     98.5,2,   126.96,2,    39.18,2,     0.00,2,     2.79,2, -999.000,9, -999.000,9, -999.000,9,-999.0000,9,  -999.00,9,   -999.0,9,-999.000,9,   -999.0,9,   -999,  -999.0,-999.000,-999.0000,-999.000,  -999.0,-999.000,  2.7620,-999.000
    49RY9407_2,   P09,    57,  2,      3,    229,2,19940805,0341, 12.0782, 136.9982, 4950,   1767.5,   2.4506,  34.6152,2,  34.6107,2,    105.3,2,    105.5,2,   134.28,2,    38.87,2,     0.00,2,     2.77,2, -999.000,9, -999.000,9, -999.000,9,-999.0000,9,  -999.00,9,   -999.0,9,-999.000,9,   -999.0,9,   -999,  -999.0,   2.445,-999.0000,-999.000,  1770.0,-999.000,  2.3272,-999.000
    49RY9407_2,   P09,    57,  2,      2,    216,2,19940805,0341, 12.0782, 136.9982, 4950,   2020.5,   2.1253,  34.6338,2,  34.6328,2,    114.7,2,    115.9,2,   139.21,2,    38.53,2,     0.00,2,     2.72,2, -999.000,9, -999.000,9, -999.000,5,   1.8890,2,    22.50,2,   -999.0,9,   8.008,2,   -999.0,9,   -999,  -999.0,-999.000,  0.0027,   0.220,  -999.0,   0.020,  1.9852,-999.000
    49RY9407_2,   P09,    57,  2,      1,    204,2,19940805,0341, 12.0782, 136.9982, 4950,   2273.9,   1.9609,  34.6455,2,  34.6438,2,    120.8,2,    121.6,6,   141.50,6,    38.10,6,     0.00,6,     2.69,6, -999.000,9, -999.000,9, -999.000,9,-999.0000,9,  -999.00,9,   -999.0,9,-999.000,9,   -999.0,9,   -999,  -999.0,   1.957,-999.0000,-999.000,  2274.0,-999.000,  1.8016,-999.000
    49RY9407_2,   P09,    57,  3,      0,      0,2,19940805,0458, 12.0918, 136.9992, 4790,      0.0,  28.6526,  33.8942,2,-999.0000,9,    199.7,2,    196.9,6,     1.25,2,     0.04,2,     0.01,2,     0.01,2, -999.000,9, -999.000,9, -999.000,9,-999.0000,9,  -999.00,9,   -999.0,9,-999.000,9,   -999.0,9,   -999,  -999.0,-999.000,-999.0000,-999.000,  -999.0,-999.000, 28.6529,-999.000
    49RY9407_2,   P09,    57,  3,     12,    217,2,19940805,0458, 12.0918, 136.9992, 4790,      2.3,  28.6527,  33.8930,2,  33.8880,2,    198.3,2,   -999.0,9,  -999.00,9,  -999.00,9,  -999.00,9,  -999.00,9,    1.590,2,    1.042,3,    1.231,2,-999.0000,5,  -999.00,5,   -999.0,9,-999.000,9,   -999.0,9,   -999,  -999.0,-999.000,-999.0000,-999.000,  -999.0,-999.000, 28.6522,   0.015
    49RY9407_2,   P09,    57,  3,     11,    201,2,19940805,0458, 12.0918, 136.9992, 4790,     25.4,  28.7141,  33.9662,2,  33.9707,2,    200.2,2,   -999.0,9,  -999.00,9,  -999.00,9,  -999.00,9,  -999.00,9,    1.533,2,    1.006,3,    1.229,2,   1.6722,2,    -1.29,2,   -999.0,9,   6.529,2,   -999.0,9,   -999,  -999.0,-999.000,  0.0036,   0.230,  -999.0,   0.016, 28.7080,   0.015
    49RY9407_2,   P09,    57,  3,     10,    214,2,19940805,0458, 12.0918, 136.9992, 4790,     26.1,  28.7139,  33.9692,2,  33.9707,2,    196.8,2,    196.9,2,     1.27,2,     0.02,2,     0.00,2,     0.01,2, -999.000,9, -999.000,9, -999.000,9,-999.0000,9,  -999.00,9,   -999.0,9,-999.000,9,   -999.0,9,   -999,  -999.0,-999.000,-999.0000,-999.000,  -999.0,-999.000, 28.7077,-999.000
    49RY9407_2,   P09,    57,  3,      8,    212,2,19940805,0458, 12.0918, 136.9992, 4790,     48.9,  28.7345,  33.9805,2,  33.9819,2,    202.5,3,    197.0,2,     1.20,6,     0.01,6,     0.00,6,     0.01,6, -999.000,9, -999.000,9, -999.000,9,-999.0000,9,  -999.00,9,   -999.0,9,-999.000,9,   -999.0,9,   -999,  -999.0,-999.000,-999.0000,-999.000,  -999.0,-999.000, 28.7227,-999.000
    49RY9407_2,   P09,    57,  3,      9,    213,2,19940805,0458, 12.0918, 136.9992, 4790,     51.2,  28.7424,  33.9838,2,  33.9870,2,    204.9,3,   -999.0,9,  -999.00,9,  -999.00,9,  -999.00,9,  -999.00,9,    1.520,2,    0.984,3,    1.270,2,   1.6762,2,    -1.50,2,   -999.0,9,   6.512,2,   -999.0,9,   -999,  -999.0,-999.000,  0.0029,   0.260,    60.0,   0.013, 28.7301,   0.015
    49RY9407_2,   P09,    57,  3,      7,    203,2,19940805,0458, 12.0918, 136.9992, 4790,     74.9,  28.0593,  34.2996,2,  34.2954,2,    199.4,2,   -999.0,9,  -999.00,9,  -999.00,9,  -999.00,9,  -999.00,9, -999.000,9, -999.000,9,    1.332,2,   1.6732,2,    -0.81,2,   -999.0,9,   6.591,2,   -999.0,9,   -999,  -999.0,-999.000,  0.0025,   0.230,    85.0,   0.017, 28.0417,   0.015
    49RY9407_2,   P09,    57,  3,      6,    209,2,19940805,0458, 12.0918, 136.9992, 4790,     75.3,  28.0560,  34.2950,2,  34.2950,2,    199.4,2,    198.7,2,     1.60,2,     0.01,2,     0.00,2,     0.05,2, -999.000,9, -999.000,9, -999.000,9,-999.0000,9,  -999.00,9,   -999.0,9,-999.000,9,   -999.0,9,   -999,  -999.0,-999.000,-999.0000,-999.000,  -999.0,-999.000, 28.0382,-999.000
    49RY9407_2,   P09,    57,  3,      5,    221,2,19940805,0458, 12.0918, 136.9992, 4790,    100.7,  26.2714,  34.6954,2,  34.6328,2,    200.7,2,    200.0,6,     1.48,2,     0.00,2,     0.00,2,     0.10,2, -999.000,9, -999.000,9, -999.000,9,-999.0000,9,  -999.00,9,   -999.0,9,-999.000,9,   -999.0,9,   -999,  -999.0,-999.000,-999.0000,-999.000,   106.0,-999.000, 26.2487,-999.000
    49RY9407_2,   P09,    57,  3,      4,    206,2,19940805,0458, 12.0918, 136.9992, 4790,    125.9,  23.9233,  34.7863,2,  34.8164,2,    190.3,2,    186.4,2,     2.50,2,     0.69,2,     0.24,2,     0.21,2, -999.000,9, -999.000,9, -999.000,9,-999.0000,9,  -999.00,9,   -999.0,9,-999.000,9,   -999.0,9,   -999,  -999.0,-999.000,-999.0000,-999.000,  -999.0,-999.000, 23.8969,-999.000
    49RY9407_2,   P09,    57,  3,      3,    229,2,19940805,0458, 12.0918, 136.9992, 4790,    149.6,  21.7790,  34.8207,2,  34.8199,2,    169.7,2,    171.2,2,     4.02,2,     3.37,2,     0.08,2,     0.38,2, -999.000,9, -999.000,9, -999.000,9,-999.0000,9,  -999.00,9,   -999.0,9,-999.000,9,   -999.0,9,   -999,  -999.0,  21.860,-999.0000,-999.000,   147.0,-999.000, 21.7496,-999.000
    49RY9407_2,   P09,    57,  3,      2,    216,2,19940805,0458, 12.0918, 136.9992, 4790,    200.8,  16.9127,  34.7560,2,  34.7573,2,    170.6,2,    173.1,2,     6.31,2,     7.59,2,     0.01,2,     0.59,2, -999.000,9, -999.000,9, -999.000,9,-999.0000,9,  -999.00,9,   -999.0,9,-999.000,9,   -999.0,9,   -999,  -999.0,-999.000,-999.0000,-999.000,  -999.0,-999.000, 16.8797,-999.000
    49RY9407_2,   P09,    57,  3,      1,    204,2,19940805,0458, 12.0918, 136.9992, 4790,    299.7,  10.5818,  34.3294,2,  34.3264,2,    128.6,2,    124.1,2,    26.62,2,    22.98,2,     0.00,2,     1.68,2, -999.000,9, -999.000,9, -999.000,9,-999.0000,9,  -999.00,9,   -999.0,9,-999.000,9,   -999.0,9,   -999,  -999.0,  10.585,-999.0000,-999.000,   303.0,-999.000, 10.5458,-999.000