BOTTLE,20020306WHPSIOdm
EXPOCODE,SECT_ID,STNNBR,CASTNO,SAMPNO,BTLNBR,BTLNBR_FLAG_W,DATE,TIME,LATITUDE,LONGITUDE,DEPTH,CTDPRS,CTDTMP,CTDSAL,CTDSAL_FLAG_W,SALNTY,SALNTY_FLAG_W,CTDOXY,CTDOXY_FLAG_W,OXYGEN,OXYGEN_FLAG_W,SILCAT,SILCAT_FLAG_W,NITRAT,NITRAT_FLAG_W,NITRIT,NITRIT_FLAG_W,PHSPHT,PHSPHT_FLAG_W,CFC-11,CFC-11_FLAG_W,CFC-12,CFC-12_FLAG_W,TRITUM,TRITUM_FLAG_W,HELIUM,HELIUM_FLAG_W,DELHE3,DELHE3_FLAG_W,DELC14,DELC14_FLAG_W,NEON,NEON_FLAG_W,TCARBN,TCARBN_FLAG_W,CTDRAW,C14ERR,REVTMP,HELIER,DELHER,REVPRS,NEONER,THETA,TRITER
,,,,,,,,,,,,DBAR,ITS-90,PSS-78,,PSS-78,,UMOL/KG,,UMOL/KG,,UMOL/KG,,UMOL/KG,,UMOL/KG,,UMOL/KG,,PMOL/KG,,PMOL/KG,,TU,,NMOL/KG,,PERCNT,,/MILLE,,NMOL/KG,,UMOL/KG,,,/MILLE,ITS-90,NMOL/KG,PERCNT,DBAR,NMOL/KG,DEG C,TU
    49RY9407_2,   P09,    67,  1,      0,      0,2,19940808,0020,  7.6673, 136.8350, 3180,      0.9,  29.1772,  33.8340,2,-999.0000,9,    171.0,4,    196.5,6,     1.26,2,     0.02,2,     0.00,2,     0.01,2, -999.000,9, -999.000,9, -999.000,9,-999.0000,9,  -999.00,9,   -999.0,9,-999.000,9,   -999.0,9,   -999,  -999.0,-999.000,-999.0000,-999.000,  -999.0,-999.000, 29.1770,-999.000
    49RY9407_2,   P09,    67,  1,     19,    210,2,19940808,0020,  7.6673, 136.8350, 3180,     10.4,  29.1360,  33.9337,2,  33.8611,2,    185.3,4,    195.8,2,     1.30,2,     0.02,2,     0.00,2,     0.02,2, -999.000,9, -999.000,9, -999.000,9,-999.0000,9,  -999.00,9,   -999.0,9,-999.000,9,   -999.0,9,   -999,  -999.0,-999.000,-999.0000,-999.000,  -999.0,-999.000, 29.1335,-999.000
    49RY9407_2,   P09,    67,  1,     18,    221,2,19940808,0020,  7.6673, 136.8350, 3180,     25.1,  28.9876,  34.0140,2,  34.0139,2,    181.2,4,    196.5,2,     1.20,2,     0.00,2,     0.00,2,     0.02,2, -999.000,9, -999.000,9, -999.000,9,-999.0000,9,  -999.00,9,   -999.0,9,-999.000,9,   -999.0,9,   -999,  -999.0,-999.000,-999.0000,-999.000,    26.0,-999.000, 28.9815,-999.000
    49RY9407_2,   P09,    67,  1,     17,    219,2,19940808,0020,  7.6673, 136.8350, 3180,     50.8,  28.9139,  34.0375,2,  34.0400,2,    198.2,2,    196.2,2,     1.28,2,     0.02,2,     0.00,2,     0.02,2, -999.000,9, -999.000,9, -999.000,9,-999.0000,9,  -999.00,9,   -999.0,9,-999.000,9,   -999.0,9,   -999,  -999.0,-999.000,-999.0000,-999.000,  -999.0,-999.000, 28.9017,-999.000
    49RY9407_2,   P09,    67,  1,     16,    229,2,19940808,0020,  7.6673, 136.8350, 3180,     74.9,  25.4693,  34.5144,2,  34.5191,2,    188.8,2,    187.3,2,     2.80,2,     0.11,2,     0.02,2,     0.17,2, -999.000,9, -999.000,9, -999.000,9,-999.0000,9,  -999.00,9,   -999.0,9,-999.000,9,   -999.0,9,   -999,  -999.0,  26.100,-999.0000,-999.000,    69.0,-999.000, 25.4529,-999.000
    49RY9407_2,   P09,    67,  1,     15,    217,2,19940808,0020,  7.6673, 136.8350, 3180,    100.5,  21.0109,  34.8499,2,  34.7729,2,    163.3,2,    164.7,2,     5.30,2,     5.05,2,     0.09,2,     0.48,2, -999.000,9, -999.000,9, -999.000,9,-999.0000,9,  -999.00,9,   -999.0,9,-999.000,9,   -999.0,9,   -999,  -999.0,-999.000,-999.0000,-999.000,  -999.0,-999.000, 20.9917,-999.000
    49RY9407_2,   P09,    67,  1,     14,    204,2,19940808,0020,  7.6673, 136.8350, 3180,    125.0,  18.9251,  34.8698,2,  34.8221,2,    155.7,2,    156.8,6,     7.71,6,     8.39,6,     0.02,6,     0.65,6, -999.000,9, -999.000,9, -999.000,9,-999.0000,9,  -999.00,9,   -999.0,9,-999.000,9,   -999.0,9,   -999,  -999.0,  19.133,-999.0000,-999.000,   125.0,-999.000, 18.9029,-999.000
    49RY9407_2,   P09,    67,  1,     13,    214,2,19940808,0020,  7.6673, 136.8350, 3180,    150.7,  15.2817,  34.6179,2,  34.6355,2,    144.0,2,    142.9,2,    13.94,2,    14.40,2,     0.01,2,     1.03,2, -999.000,9, -999.000,9, -999.000,9,-999.0000,9,  -999.00,9,   -999.0,9,-999.000,9,   -999.0,9,   -999,  -999.0,-999.000,-999.0000,-999.000,   156.0,-999.000, 15.2587,-999.000
    49RY9407_2,   P09,    67,  1,     12,    213,2,19940808,0020,  7.6673, 136.8350, 3180,    202.3,  12.2605,  34.5305,2,  34.5267,2,    104.5,3,    111.5,2,    24.61,2,    22.68,2,     0.00,2,     1.59,2, -999.000,9, -999.000,9, -999.000,9,-999.0000,9,  -999.00,9,   -999.0,9,-999.000,9,   -999.0,9,   -999,  -999.0,-999.000,-999.0000,-999.000,   205.0,-999.000, 12.2338,-999.000
    49RY9407_2,   P09,    67,  2,      4,    206,2,19940808,0140,  7.6668, 136.8372, 3140,    301.2,   8.9624,  34.5676,2,  34.5678,2,     63.9,2,     63.0,6,    39.64,6,    33.68,6,     0.00,6,     2.34,6, -999.000,9, -999.000,9, -999.000,9,-999.0000,9,  -999.00,9,   -999.0,9,-999.000,9,   -999.0,9,   -999,  -999.0,-999.000,-999.0000,-999.000,  -999.0,-999.000,  8.9297,-999.000
    49RY9407_2,   P09,    67,  2,      3,    205,2,19940808,0140,  7.6668, 136.8372, 3140,    402.8,   8.1937,  34.5669,2,  34.5676,2,     64.5,2,     66.3,2,    43.65,2,    35.00,2,     0.00,2,     2.43,2, -999.000,9, -999.000,9, -999.000,9,-999.0000,9,  -999.00,9,   -999.0,9,-999.000,9,   -999.0,9,   -999,  -999.0,-999.000,-999.0000,-999.000,  -999.0,-999.000,  8.1520,-999.000
    49RY9407_2,   P09,    67,  2,      2,    216,2,19940808,0140,  7.6668, 136.8372, 3140,    503.3,   7.4031,  34.5431,2,  34.5454,2,     74.1,2,     71.6,2,    50.32,2,    35.83,2,     0.00,2,     2.50,2, -999.000,9, -999.000,9, -999.000,9,-999.0000,9,  -999.00,9,   -999.0,9,-999.000,9,   -999.0,9,   -999,  -999.0,-999.000,-999.0000,-999.000,  -999.0,-999.000,  7.3537,-999.000
    49RY9407_2,   P09,    67,  2,      1,    201,2,19940808,0140,  7.6668, 136.8372, 3140,    604.0,   6.8319,  34.5364,2,  34.5350,2,     75.5,2,     74.3,2,    56.40,2,    36.60,2,     0.00,2,     2.57,2, -999.000,9, -999.000,9, -999.000,9,-999.0000,9,  -999.00,9,   -999.0,9,-999.000,9,   -999.0,9,   -999,  -999.0,-999.000,-999.0000,-999.000,  -999.0,-999.000,  6.7748,-999.000
    49RY9407_2,   P09,    67,  2,     24,    222,2,19940808,0140,  7.6668, 136.8372, 3140,    704.4,   5.9509,  34.5274,2,  34.5238,2,     81.1,2,     81.9,2,    67.53,2,    37.39,2,     0.00,2,     2.63,2, -999.000,9, -999.000,9, -999.000,9,-999.0000,9,  -999.00,9,   -999.0,9,-999.000,9,   -999.0,9,   -999,  -999.0,-999.000,-999.0000,-999.000,  -999.0,-999.000,  5.8886,-999.000
    49RY9407_2,   P09,    67,  2,     23,    228,2,19940808,0140,  7.6668, 136.8372, 3140,    805.6,   5.5546,  34.5272,2,  34.5287,2,     83.5,2,     83.7,2,    73.64,2,    37.94,2,     0.00,2,     2.67,2, -999.000,9, -999.000,9, -999.000,9,-999.0000,9,  -999.00,9,   -999.0,9,-999.000,9,   -999.0,9,   -999,  -999.0,-999.000,-999.0000,-999.000,  -999.0,-999.000,  5.4852,-999.000
    49RY9407_2,   P09,    67,  2,     22,    227,2,19940808,0140,  7.6668, 136.8372, 3140,    907.0,   5.0630,  34.5367,2,  34.5366,2,     86.7,2,     84.9,2,    82.50,2,    38.51,2,     0.00,2,     2.71,2, -999.000,9, -999.000,9, -999.000,9,-999.0000,9,  -999.00,9,   -999.0,9,-999.000,9,   -999.0,9,   -999,  -999.0,-999.000,-999.0000,-999.000,  -999.0,-999.000,  4.9876,-999.000
    49RY9407_2,   P09,    67,  2,     21,    226,2,19940808,0140,  7.6668, 136.8372, 3140,   1007.4,   4.5783,  34.5452,2,  34.5464,2,     87.9,2,     87.3,2,    91.54,2,    38.76,2,     0.00,2,     2.73,2, -999.000,9, -999.000,9, -999.000,9,-999.0000,9,  -999.00,9,   -999.0,9,-999.000,9,   -999.0,9,   -999,  -999.0,-999.000,-999.0000,-999.000,  -999.0,-999.000,  4.4975,-999.000
    49RY9407_2,   P09,    67,  2,     19,    210,2,19940808,0140,  7.6668, 136.8372, 3140,   1260.3,   3.4437,  34.5810,2,  34.5792,2,     96.2,2,     95.4,2,   113.64,2,    39.29,2,     0.00,2,     2.78,2, -999.000,9, -999.000,9, -999.000,9,-999.0000,9,  -999.00,9,   -999.0,9,-999.000,9,   -999.0,9,   -999,  -999.0,-999.000,-999.0000,-999.000,  -999.0,-999.000,  3.3511,-999.000
    49RY9407_2,   P09,    67,  2,     20,    203,2,19940808,0140,  7.6668, 136.8372, 3140,   1260.3,   3.4437,  34.5810,2,  34.5796,2,     96.2,2,     95.0,2,   113.66,2,    39.48,2,     0.00,2,     2.78,2, -999.000,9, -999.000,9, -999.000,9,-999.0000,9,  -999.00,9,   -999.0,9,-999.000,9,   -999.0,9,   -999,  -999.0,-999.000,-999.0000,-999.000,  1258.0,-999.000,  3.3511,-999.000
    49RY9407_2,   P09,    67,  2,     18,    221,2,19940808,0140,  7.6668, 136.8372, 3140,   1514.2,   2.8191,  34.6038,2,  34.6021,2,    102.6,2,    102.9,2,   126.46,2,    39.33,2,     0.00,2,     2.76,2, -999.000,9, -999.000,9, -999.000,9,-999.0000,9,  -999.00,9,   -999.0,9,-999.000,9,   -999.0,9,   -999,  -999.0,-999.000,-999.0000,-999.000,  1514.0,-999.000,  2.7121,-999.000
    49RY9407_2,   P09,    67,  2,     17,    219,2,19940808,0140,  7.6668, 136.8372, 3140,   1767.9,   2.4785,  34.6209,2,  34.6194,2,    108.8,2,    109.0,2,   132.62,6,    39.12,6,     0.00,6,     2.74,6, -999.000,9, -999.000,9, -999.000,9,-999.0000,9,  -999.00,9,   -999.0,9,-999.000,9,   -999.0,9,   -999,  -999.0,-999.000,-999.0000,-999.000,  -999.0,-999.000,  2.3546,-999.000
    49RY9407_2,   P09,    67,  2,     16,    229,2,19940808,0140,  7.6668, 136.8372, 3140,   2021.5,   2.1775,  34.6366,2,  34.6345,2,    115.4,2,    116.2,2,   138.05,2,    38.86,2,     0.00,2,     2.72,2, -999.000,9, -999.000,9, -999.000,9,-999.0000,9,  -999.00,9,   -999.0,9,-999.000,9,   -999.0,9,   -999,  -999.0,   2.176,-999.0000,-999.000,  2017.0,-999.000,  2.0365,-999.000
    49RY9407_2,   P09,    67,  2,     15,    217,2,19940808,0140,  7.6668, 136.8372, 3140,   2275.8,   1.9732,  34.6472,2,  34.6471,2,    124.0,2,    124.6,2,   140.47,2,    38.44,2,     0.00,2,     2.67,2, -999.000,9, -999.000,9, -999.000,9,-999.0000,9,  -999.00,9,   -999.0,9,-999.000,9,   -999.0,9,   -999,  -999.0,-999.000,-999.0000,-999.000,  -999.0,-999.000,  1.8135,-999.000
    49RY9407_2,   P09,    67,  2,     14,    204,2,19940808,0140,  7.6668, 136.8372, 3140,   2530.3,   1.7615,  34.6581,2,  34.6589,2,    131.3,2,    132.9,2,   142.33,2,    37.97,2,     0.00,2,     2.63,2, -999.000,9, -999.000,9, -999.000,9,-999.0000,9,  -999.00,9,   -999.0,9,-999.000,9,   -999.0,9,   -999,  -999.0,   1.764,-999.0000,-999.000,  2529.0,-999.000,  1.5829,-999.000
    49RY9407_2,   P09,    67,  2,     13,    214,2,19940808,0140,  7.6668, 136.8372, 3140,   2785.8,   1.6885,  34.6646,2,  34.6642,2,    135.9,2,    136.0,2,   143.45,2,    37.67,2,     0.00,2,     2.62,2, -999.000,9, -999.000,9, -999.000,9,-999.0000,9,  -999.00,9,   -999.0,9,-999.000,9,   -999.0,9,   -999,  -999.0,-999.000,-999.0000,-999.000,  2771.0,-999.000,  1.4879,-999.000
    49RY9407_2,   P09,    67,  2,     12,    213,4,19940808,0140,  7.6668, 136.8372, 3140,   3023.5,   1.6137,  34.6691,2,  34.6701,2,    139.9,2,    140.4,2,   144.42,2,    37.46,2,     0.00,2,     2.58,2, -999.000,9, -999.000,9, -999.000,9,-999.0000,9,  -999.00,9,   -999.0,9,-999.000,9,   -999.0,9,   -999,  -999.0,-999.000,-999.0000,-999.000,  3019.0,-999.000,  1.3922,-999.000
    49RY9407_2,   P09,    68,  1,      0,      0,2,19940808,0409,  7.5092, 136.8357, 2965,      0.0,  29.5269,  33.6968,2,-999.0000,9,    193.8,3,    197.3,6,     1.29,6,     0.02,6,     0.00,6,     0.01,6, -999.000,9, -999.000,9, -999.000,9,-999.0000,9,  -999.00,9,   -999.0,9,-999.000,9,   -999.0,9,   -999,  -999.0,-999.000,-999.0000,-999.000,  -999.0,-999.000, 29.5270,-999.000
    49RY9407_2,   P09,    68,  1,     19,    210,2,19940808,0409,  7.5092, 136.8357, 2965,     10.3,  29.2772,  33.7114,2,  33.7102,2,    199.8,3,    197.4,2,     1.33,2,     0.04,2,     0.00,2,     0.02,2, -999.000,9, -999.000,9, -999.000,9,-999.0000,9,  -999.00,9,   -999.0,9,-999.000,9,   -999.0,9,   -999,  -999.0,-999.000,-999.0000,-999.000,  -999.0,-999.000, 29.2747,-999.000
    49RY9407_2,   P09,    68,  1,     18,    221,2,19940808,0409,  7.5092, 136.8357, 2965,     25.4,  29.0759,  33.7193,2,  33.7186,2,    194.7,2,   -999.0,5,     1.35,2,     0.02,2,     0.00,2,     0.02,2, -999.000,9, -999.000,9, -999.000,9,-999.0000,9,  -999.00,9,   -999.0,9,-999.000,9,   -999.0,9,   -999,  -999.0,-999.000,-999.0000,-999.000,    29.0,-999.000, 29.0698,-999.000
    49RY9407_2,   P09,    68,  1,     17,    219,2,19940808,0409,  7.5092, 136.8357, 2965,     50.4,  28.8922,  33.9054,2,  33.9054,2,    198.9,2,    199.1,2,     1.36,2,     0.01,2,     0.00,2,     0.03,2, -999.000,9, -999.000,9, -999.000,9,-999.0000,9,  -999.00,9,   -999.0,9,-999.000,9,   -999.0,9,   -999,  -999.0,-999.000,-999.0000,-999.000,  -999.0,-999.000, 28.8801,-999.000
    49RY9407_2,   P09,    68,  1,     16,    229,2,19940808,0409,  7.5092, 136.8357, 2965,     75.7,  25.0367,  34.5491,2,  34.5273,2,    187.3,2,    186.5,2,     3.08,2,     0.22,2,     0.05,2,     0.18,2, -999.000,9, -999.000,9, -999.000,9,-999.0000,9,  -999.00,9,   -999.0,9,-999.000,9,   -999.0,9,   -999,  -999.0,  25.420,-999.0000,-999.000,    71.0,-999.000, 25.0203,-999.000
    49RY9407_2,   P09,    68,  1,     15,    217,2,19940808,0409,  7.5092, 136.8357, 2965,    101.4,  21.6446,  34.6445,2,  34.6552,2,    164.0,2,    162.3,2,     5.90,2,     5.30,2,     0.24,2,     0.51,2, -999.000,9, -999.000,9, -999.000,9,-999.0000,9,  -999.00,9,   -999.0,9,-999.000,9,   -999.0,9,   -999,  -999.0,-999.000,-999.0000,-999.000,  -999.0,-999.000, 21.6248,-999.000
    49RY9407_2,   P09,    68,  1,     14,    204,2,19940808,0409,  7.5092, 136.8357, 2965,    126.0,  18.9383,  34.8240,2,  34.8457,2,    158.2,2,    159.6,2,     7.32,2,     7.79,2,     0.02,2,     0.62,2, -999.000,9, -999.000,9, -999.000,9,-999.0000,9,  -999.00,9,   -999.0,9,-999.000,9,   -999.0,9,   -999,  -999.0,  19.036,-999.0000,-999.000,   126.0,-999.000, 18.9159,-999.000
    49RY9407_2,   P09,    68,  1,     13,    214,3,19940808,0409,  7.5092, 136.8357, 2965,    151.0,  14.8370,  34.6925,2,  34.6259,2,    147.6,2,    146.2,6,    13.47,2,    13.80,2,     0.01,2,     1.02,2, -999.000,9, -999.000,9, -999.000,9,-999.0000,9,  -999.00,9,   -999.0,9,-999.000,9,   -999.0,9,   -999,  -999.0,-999.000,-999.0000,-999.000,   156.0,-999.000, 14.8143,-999.000
    49RY9407_2,   P09,    68,  1,     12,    213,3,19940808,0409,  7.5092, 136.8357, 2965,    199.8,  11.5461,  34.5330,2,  34.5254,2,    101.0,2,     99.1,2,    27.63,6,    24.71,6,     0.01,6,     1.78,6, -999.000,9, -999.000,9, -999.000,9,-999.0000,9,  -999.00,9,   -999.0,9,-999.000,9,   -999.0,9,   -999,  -999.0,-999.000,-999.0000,-999.000,   203.0,-999.000, 11.5208,-999.000