BOTTLE,20020306WHPSIOdm
EXPOCODE,SECT_ID,STNNBR,CASTNO,SAMPNO,BTLNBR,BTLNBR_FLAG_W,DATE,TIME,LATITUDE,LONGITUDE,DEPTH,CTDPRS,CTDTMP,CTDSAL,CTDSAL_FLAG_W,SALNTY,SALNTY_FLAG_W,CTDOXY,CTDOXY_FLAG_W,OXYGEN,OXYGEN_FLAG_W,SILCAT,SILCAT_FLAG_W,NITRAT,NITRAT_FLAG_W,NITRIT,NITRIT_FLAG_W,PHSPHT,PHSPHT_FLAG_W,CFC-11,CFC-11_FLAG_W,CFC-12,CFC-12_FLAG_W,TRITUM,TRITUM_FLAG_W,HELIUM,HELIUM_FLAG_W,DELHE3,DELHE3_FLAG_W,DELC14,DELC14_FLAG_W,NEON,NEON_FLAG_W,TCARBN,TCARBN_FLAG_W,CTDRAW,C14ERR,REVTMP,HELIER,DELHER,REVPRS,NEONER,THETA,TRITER
,,,,,,,,,,,,DBAR,ITS-90,PSS-78,,PSS-78,,UMOL/KG,,UMOL/KG,,UMOL/KG,,UMOL/KG,,UMOL/KG,,UMOL/KG,,PMOL/KG,,PMOL/KG,,TU,,NMOL/KG,,PERCNT,,/MILLE,,NMOL/KG,,UMOL/KG,,,/MILLE,ITS-90,NMOL/KG,PERCNT,DBAR,NMOL/KG,DEG C,TU
    49RY9407_1,   P09,    49,  2,     10,    224,2,19940725,1109, 16.0015, 136.9747, 5065,    604.3,   6.4781,  34.3913,2,  34.3927,2,     69.6,2,     72.8,2,    68.40,2,    36.47,2,     0.00,2,     2.62,2, -999.000,9, -999.000,9, -999.000,9,-999.0000,9,  -999.00,9,   -999.0,9,-999.000,9,   -999.0,9,   -999,  -999.0,-999.000,-999.0000,-999.000,  -999.0,-999.000,  6.4227,-999.000
    49RY9407_1,   P09,    49,  2,      9,    223,2,19940725,1109, 16.0015, 136.9747, 5065,    704.2,   5.6788,  34.4421,2,  34.4423,2,     74.5,2,     75.8,6,    78.74,2,    37.67,2,     0.00,2,     2.70,2, -999.000,9, -999.000,9, -999.000,9,-999.0000,9,  -999.00,9,   -999.0,9,-999.000,9,   -999.0,9,   -999,  -999.0,-999.000,-999.0000,-999.000,  -999.0,-999.000,  5.6181,-999.000
    49RY9407_1,   P09,    49,  2,      8,    212,2,19940725,1109, 16.0015, 136.9747, 5065,    806.4,   5.1858,  34.4808,2,  34.4808,2,     82.8,2,     81.6,2,    85.27,6,    38.02,6,     0.00,6,     2.72,6, -999.000,9, -999.000,9, -999.000,9,-999.0000,9,  -999.00,9,   -999.0,9,-999.000,9,   -999.0,9,   -999,  -999.0,-999.000,-999.0000,-999.000,  -999.0,-999.000,  5.1186,-999.000
    49RY9407_1,   P09,    49,  2,      7,    220,2,19940725,1109, 16.0015, 136.9747, 5065,    907.9,   4.7662,  34.5042,2,  34.5049,2,     87.0,2,     84.1,2,    92.46,2,    38.41,2,     0.00,2,     2.75,2, -999.000,9, -999.000,9, -999.000,9,-999.0000,9,  -999.00,9,   -999.0,9,-999.000,9,   -999.0,9,   -999,  -999.0,-999.000,-999.0000,-999.000,  -999.0,-999.000,  4.6928,-999.000
    49RY9407_1,   P09,    49,  2,      6,    209,2,19940725,1109, 16.0015, 136.9747, 5065,   1008.8,   4.4363,  34.5237,2,  34.5228,2,     88.9,2,     87.4,2,    98.63,2,    38.65,2,     0.00,2,     2.77,2, -999.000,9, -999.000,9, -999.000,9,-999.0000,9,  -999.00,9,   -999.0,9,-999.000,9,   -999.0,9,   -999,  -999.0,-999.000,-999.0000,-999.000,  -999.0,-999.000,  4.3565,-999.000
    49RY9407_1,   P09,    49,  2,      5,    218,2,19940725,1109, 16.0015, 136.9747, 5065,   1261.1,   3.5583,  34.5518,2,  34.5513,2,     95.1,2,     92.7,2,   117.07,2,    38.93,2,     0.00,2,     2.79,2, -999.000,9, -999.000,9, -999.000,9,-999.0000,9,  -999.00,9,   -999.0,9,-999.000,9,   -999.0,9,   -999,  -999.0,-999.000,-999.0000,-999.000,  -999.0,-999.000,  3.4646,-999.000
    49RY9407_1,   P09,    49,  2,      4,    206,2,19940725,1109, 16.0015, 136.9747, 5065,   1513.6,   2.9148,  34.5778,2,  34.5779,2,    100.4,2,     98.2,2,   130.17,2,    39.00,2,     0.00,2,     2.79,2, -999.000,9, -999.000,9, -999.000,9,-999.0000,9,  -999.00,9,   -999.0,9,-999.000,9,   -999.0,9,   -999,  -999.0,-999.000,-999.0000,-999.000,  -999.0,-999.000,  2.8068,-999.000
    49RY9407_1,   P09,    49,  2,      3,    205,2,19940725,1109, 16.0015, 136.9747, 5065,   1768.1,   2.4828,  34.6032,2,  34.6037,2,    105.6,2,    105.4,2,   137.06,2,    39.04,2,     0.00,2,     2.78,2, -999.000,9, -999.000,9, -999.000,9,-999.0000,9,  -999.00,9,   -999.0,9,-999.000,9,   -999.0,9,   -999,  -999.0,-999.000,-999.0000,-999.000,  -999.0,-999.000,  2.3590,-999.000
    49RY9407_1,   P09,    49,  2,      2,    216,2,19940725,1109, 16.0015, 136.9747, 5065,   2021.3,   2.1425,  34.6241,2,  34.6250,2,    112.7,2,    113.3,2,   142.25,2,    38.82,2,     0.00,2,     2.75,2, -999.000,9, -999.000,9, -999.000,5,   1.8902,2,    21.59,2,   -999.0,9,   7.974,2,   -999.0,9,   -999,  -999.0,-999.000,  0.0025,   0.200,  -999.0,   0.016,  2.0021,-999.000
    49RY9407_1,   P09,    49,  2,      1,    201,2,19940725,1109, 16.0015, 136.9747, 5065,   2275.8,   1.9537,  34.6399,2,  34.6402,2,    120.5,2,    121.2,6,   144.14,6,    38.40,6,     0.00,6,     2.71,6, -999.000,9, -999.000,9, -999.000,9,-999.0000,9,  -999.00,9,   -999.0,9,-999.000,9,   -999.0,9,   -999,  -999.0,-999.000,-999.0000,-999.000,  -999.0,-999.000,  1.7943,-999.000
    49RY9407_1,   P09,    49,  2,     24,    230,2,19940725,1109, 16.0015, 136.9747, 5065,   2530.1,   1.8176,  34.6510,2,  34.6512,2,    126.6,2,    126.8,2,   145.85,2,    38.09,2,     0.00,2,     2.68,2, -999.000,9, -999.000,9, -999.000,5,   1.9009,2,    22.61,2,   -999.0,9,   8.061,2,   -999.0,9,   -999,  -999.0,-999.000,  0.0025,   0.200,  -999.0,   0.016,  1.6380,-999.000
    49RY9407_1,   P09,    49,  2,     23,    228,2,19940725,1109, 16.0015, 136.9747, 5065,   2785.3,   1.7520,  34.6564,2,  34.6575,2,    131.4,2,    131.7,2,   146.36,2,    37.85,2,     0.00,2,     2.66,2, -999.000,9, -999.000,9, -999.000,9,-999.0000,9,  -999.00,9,   -999.0,9,-999.000,9,   -999.0,9,   -999,  -999.0,-999.000,-999.0000,-999.000,  -999.0,-999.000,  1.5502,-999.000
    49RY9407_1,   P09,    49,  2,     22,    227,2,19940725,1109, 16.0015, 136.9747, 5065,   3039.8,   1.6742,  34.6646,2,  34.6646,2,    137.0,2,    138.4,2,   145.80,2,    37.54,2,     0.00,2,     2.63,2, -999.000,9, -999.000,9, -999.000,5,   1.8888,2,    21.74,2,   -999.0,9,   8.002,2,   -999.0,9,   -999,  -999.0,-999.000,  0.0026,   0.200,  -999.0,   0.016,  1.4497,-999.000
    49RY9407_1,   P09,    49,  2,     20,    203,2,19940725,1109, 16.0015, 136.9747, 5065,   3295.7,   1.6225,  34.6695,2,  34.6709,3,    142.0,2,    142.3,2,   145.52,6,    37.13,6,     0.00,6,     2.60,6, -999.000,9, -999.000,9, -999.000,5,   1.8837,2,    20.79,2,   -999.0,9,   8.017,2,   -999.0,9,   -999,  -999.0,-999.000,  0.0025,   0.200,  3295.0,   0.016,  1.3741,-999.000
    49RY9407_1,   P09,    49,  2,     21,    226,2,19940725,1109, 16.0015, 136.9747, 5065,   3295.7,   1.6225,  34.6695,2,  34.6695,2,    142.0,2,    142.0,2,   145.43,2,    37.15,2,     0.00,2,     2.61,2, -999.000,9, -999.000,9, -999.000,9,-999.0000,9,  -999.00,9,   -999.0,9,-999.000,9,   -999.0,9,   -999,  -999.0,-999.000,-999.0000,-999.000,  -999.0,-999.000,  1.3741,-999.000
    49RY9407_1,   P09,    49,  2,     19,    210,2,19940725,1109, 16.0015, 136.9747, 5065,   3551.7,   1.5924,  34.6749,2,  34.6738,2,    146.2,2,    147.3,2,   144.70,2,    36.99,2,     0.00,2,     2.59,2, -999.000,9, -999.000,9, -999.000,9,-999.0000,9,  -999.00,9,   -999.0,9,-999.000,9,   -999.0,9,   -999,  -999.0,-999.000,-999.0000,-999.000,  -999.0,-999.000,  1.3187,-999.000
    49RY9407_1,   P09,    49,  2,     18,    221,2,19940725,1109, 16.0015, 136.9747, 5065,   3806.9,   1.5542,  34.6776,2,  34.6798,2,    151.5,2,    152.1,2,   142.83,2,    36.59,2,     0.00,2,     2.56,2, -999.000,9, -999.000,9, -999.000,5,   1.8772,2,    18.26,2,   -999.0,9,   8.026,2,   -999.0,9,   -999,  -999.0,   1.549,  0.0025,   0.200,  3809.0,   0.016,  1.2546,-999.000
    49RY9407_1,   P09,    49,  2,     17,    219,2,19940725,1109, 16.0015, 136.9747, 5065,   4063.9,   1.5301,  34.6821,2,  34.6823,2,    155.9,2,    157.4,2,   141.71,2,    36.24,2,     0.00,2,     2.53,2, -999.000,9, -999.000,9, -999.000,9,-999.0000,9,  -999.00,9,   -999.0,9,-999.000,9,   -999.0,9,   -999,  -999.0,-999.000,-999.0000,-999.000,  -999.0,-999.000,  1.2034,-999.000
    49RY9407_1,   P09,    49,  2,     16,    229,2,19940725,1109, 16.0015, 136.9747, 5065,   4321.0,   1.5156,  34.6866,2,  34.6851,2,    160.4,2,    160.6,2,   140.69,2,    36.06,2,     0.00,2,     2.51,2, -999.000,9, -999.000,9, -999.000,5,   1.8863,2,    17.20,2,   -999.0,9,   8.041,2,   -999.0,9,   -999,  -999.0,   1.512,  0.0025,   0.200,  4321.0,   0.016,  1.1606,-999.000
    49RY9407_1,   P09,    49,  2,     15,    217,2,19940725,1109, 16.0015, 136.9747, 5065,   4577.0,   1.5248,  34.6873,2,  34.6872,6,    162.6,2,    162.3,2,   139.91,2,    35.91,2,     0.00,2,     2.49,2, -999.000,9, -999.000,9, -999.000,9,-999.0000,9,  -999.00,9,   -999.0,9,-999.000,9,   -999.0,9,   -999,  -999.0,-999.000,-999.0000,-999.000,  -999.0,-999.000,  1.1401,-999.000
    49RY9407_1,   P09,    49,  2,     14,    204,2,19940725,1109, 16.0015, 136.9747, 5065,   4833.8,   1.5498,  34.6871,2,  34.6855,3,    162.0,2,    162.7,2,   139.57,2,    35.85,2,     0.00,2,     2.49,2, -999.000,9, -999.000,9, -999.000,5,   1.8337,2,    16.55,2,   -999.0,9,   7.671,4,   -999.0,9,   -999,  -999.0,   1.546,  0.0024,   0.200,  4833.0,   0.015,  1.1340,-999.000
    49RY9407_1,   P09,    49,  2,     13,    214,2,19940725,1109, 16.0015, 136.9747, 5065,   5090.2,   1.5793,  34.6883,2,  34.6876,2,    162.8,2,    162.6,2,   139.65,2,    35.91,2,     0.00,2,     2.49,2, -999.000,9, -999.000,9, -999.000,9,-999.0000,9,  -999.00,9,   -999.0,9,-999.000,9,   -999.0,9,   -999,  -999.0,-999.000,-999.0000,-999.000,  5098.0,-999.000,  1.1313,-999.000
    49RY9407_1,   P09,    49,  2,     12,    213,4,19940725,1109, 16.0015, 136.9747, 5065,   5153.7,   1.5879,  34.6877,2,  34.6872,2,    161.8,2,    162.7,2,   138.87,2,    35.77,2,     0.00,2,     2.48,2, -999.000,9, -999.000,9, -999.000,9,-999.0000,9,  -999.00,9,   -999.0,9,-999.000,9,   -999.0,9,   -999,  -999.0,-999.000,-999.0000,-999.000,  5150.0,-999.000,  1.1318,-999.000
    49RY9407_1,   P09,    49,  3,      5,    218,2,19940725,1401, 16.0320, 136.9547, 5120,      3.1,  29.8967,  34.2294,2,  34.2282,2,    160.6,4,   -999.0,9,  -999.00,9,  -999.00,9,  -999.00,9,  -999.00,9,    1.623,2,    1.064,3,    1.306,2,   1.6690,2,    -1.20,2,   -999.0,9,   6.521,2,   -999.0,9,   -999,  -999.0,-999.000,  0.0022,   0.240,  -999.0,   0.015, 29.8960,   0.019
    49RY9407_1,   P09,    49,  3,      4,    206,2,19940725,1401, 16.0320, 136.9547, 5120,     25.1,  29.8645,  34.2458,2,  34.2439,2,    188.6,4,   -999.0,9,  -999.00,9,  -999.00,9,  -999.00,9,  -999.00,9,    1.605,2,    1.058,3,    1.295,2,   1.6456,2,    -0.89,2,   -999.0,9,   6.409,2,   -999.0,9,   -999,  -999.0,-999.000,  0.0022,   0.240,  -999.0,   0.015, 29.8583,   0.021
    49RY9407_1,   P09,    49,  3,      3,    205,2,19940725,1401, 16.0320, 136.9547, 5120,     50.7,  29.5350,  34.2632,2,  34.2668,2,    198.9,2,   -999.0,9,  -999.00,9,  -999.00,9,  -999.00,9,  -999.00,9,    1.667,2,    1.123,3,    1.279,2,   1.6639,2,    -1.32,2,   -999.0,9,   6.483,2,   -999.0,9,   -999,  -999.0,-999.000,  0.0029,   0.240,  -999.0,   0.015, 29.5226,   0.020
    49RY9407_1,   P09,    49,  3,      2,    216,2,19940725,1401, 16.0320, 136.9547, 5120,     74.5,  28.5037,  34.4023,2,  34.4033,2,    204.8,2,   -999.0,9,  -999.00,9,  -999.00,9,  -999.00,9,  -999.00,9,    1.752,2,    1.098,3,    1.349,2,   1.6709,2,    -1.04,2,   -999.0,9,   6.555,2,   -999.0,9,   -999,  -999.0,-999.000,  0.0024,   0.260,  -999.0,   0.019, 28.4859,   0.016
    49RY9407_1,   P09,    49,  3,      1,    201,2,19940725,1401, 16.0320, 136.9547, 5120,    101.0,  27.3285,  34.7119,2,  34.7139,2,    200.6,2,   -999.0,9,  -999.00,9,  -999.00,9,  -999.00,9,  -999.00,9,    1.836,2,    1.134,3,    1.218,3,   1.6869,2,    -0.78,2,   -999.0,9,   6.642,2,   -999.0,9,   -999,  -999.0,-999.000,  0.0023,   0.210,  -999.0,   0.013, 27.3052,   0.018
    49RY9407_1,   P09,    49,  3,     24,    230,2,19940725,1401, 16.0320, 136.9547, 5120,    151.2,  25.2727,  35.0056,2,  35.0036,2,    193.0,2,   -999.0,9,  -999.00,9,  -999.00,9,  -999.00,9,  -999.00,9,    1.961,2,    1.267,3,    1.396,2,   1.6862,2,    -0.45,2,   -999.0,9,   6.692,2,   -999.0,9,   -999,  -999.0,-999.000,  0.0022,   0.210,  -999.0,   0.013, 25.2396,   0.020
    49RY9407_1,   P09,    49,  3,     23,    228,2,19940725,1401, 16.0320, 136.9547, 5120,    201.7,  22.1975,  35.0804,2,  35.0730,2,    182.0,2,   -999.0,9,  -999.00,9,  -999.00,9,  -999.00,9,  -999.00,9,    2.171,6,    1.440,3,    1.580,2,   1.6925,2,     0.10,2,   -999.0,9,   6.792,2,   -999.0,9,   -999,  -999.0,-999.000,  0.0022,   0.240,  -999.0,   0.016, 22.1573,   0.021
    49RY9407_1,   P09,    49,  3,     22,    227,2,19940725,1401, 16.0320, 136.9547, 5120,    302.1,  13.8743,  34.5483,2,  34.5247,2,    160.4,2,   -999.0,9,  -999.00,9,  -999.00,9,  -999.00,9,  -999.00,9,    2.125,2,    1.250,3,    1.735,2,   1.7197,2,     5.70,2,   -999.0,9,   7.145,2,   -999.0,9,   -999,  -999.0,-999.000,  0.0024,   0.230,  -999.0,   0.017, 13.8309,   0.022
    49RY9407_1,   P09,    49,  3,     21,    226,2,19940725,1401, 16.0320, 136.9547, 5120,    401.2,  10.0570,  34.2959,2,-999.0000,5,    135.7,2,   -999.0,9,  -999.00,9,  -999.00,9,  -999.00,9,  -999.00,9,    1.275,2,    0.752,3,    1.417,2,   1.7655,2,    12.16,2,   -999.0,9,   7.451,2,   -999.0,9,   -999,  -999.0,-999.000,  0.0024,   0.230,  -999.0,   0.017, 10.0102,   0.017
    49RY9407_1,   P09,    49,  3,     20,    203,2,19940725,1401, 16.0320, 136.9547, 5120,    503.0,   7.8671,  34.3218,2,  34.3146,2,     86.3,2,   -999.0,9,  -999.00,9,  -999.00,9,  -999.00,9,  -999.00,9,    0.425,2,    0.267,3,    0.775,2,   1.7834,2,    12.59,2,   -999.0,9,   7.602,2,   -999.0,9,   -999,  -999.0,-999.000,  0.0024,   0.230,   502.0,   0.018,  7.8162,   0.010
    49RY9407_1,   P09,    49,  3,     18,    221,2,19940725,1401, 16.0320, 136.9547, 5120,    603.8,   6.5017,  34.3959,2,-999.0000,5,     70.6,2,   -999.0,9,  -999.00,9,  -999.00,9,  -999.00,9,  -999.00,9,    0.111,2,    0.080,3,    0.286,2,   1.8039,2,    11.85,2,   -999.0,9,   7.662,2,   -999.0,9,   -999,  -999.0,   6.496,  0.0024,   0.230,   604.0,   0.018,  6.4464,   0.006
    49RY9407_1,   P09,    49,  3,     19,    210,2,19940725,1401, 16.0320, 136.9547, 5120,    603.8,   6.5017,  34.3959,2,  34.3952,2,     70.6,2,   -999.0,9,  -999.00,9,  -999.00,9,  -999.00,9,  -999.00,9,    0.110,2,    0.052,3, -999.000,5,   1.8003,2,    12.63,2,   -999.0,9,   7.669,2,   -999.0,9,   -999,  -999.0,-999.000,  0.0029,   0.250,  -999.0,   0.022,  6.4464,-999.000
    49RY9407_1,   P09,    49,  3,     17,    219,4,19940725,1401, 16.0320, 136.9547, 5120,    705.5,   5.6822,  34.4450,2,  34.4436,2,     76.7,2,   -999.0,9,  -999.00,9,  -999.00,9,  -999.00,9,  -999.00,9,    0.057,2,    0.029,3,    0.152,2,   1.8209,2,    13.12,2,   -999.0,9,   7.759,2,   -999.0,9,   -999,  -999.0,-999.000,  0.0024,   0.200,  -999.0,   0.015,  5.6213,   0.005
    49RY9407_1,   P09,    49,  3,     16,    229,2,19940725,1401, 16.0320, 136.9547, 5120,    907.6,   4.7954,  34.5082,2,-999.0000,5,     87.0,2,   -999.0,9,  -999.00,9,  -999.00,9,  -999.00,9,  -999.00,9,    0.022,2,    0.000,3, -999.000,5,   1.8333,2,    15.37,2,   -999.0,9,   7.831,2,   -999.0,9,   -999,  -999.0,   4.798,  0.0025,   0.230,   906.0,   0.018,  4.7218,-999.000
    49RY9407_1,   P09,    49,  3,     15,    217,2,19940725,1401, 16.0320, 136.9547, 5120,   1008.3,   4.4007,  34.5219,2,  34.5204,2,     89.3,2,   -999.0,9,  -999.00,9,  -999.00,9,  -999.00,9,  -999.00,9,    0.016,2,    0.014,4,    0.059,2,   1.8413,2,    16.40,2,   -999.0,9,   7.803,2,   -999.0,9,   -999,  -999.0,-999.000,  0.0024,   0.200,  -999.0,   0.015,  4.3212,   0.004
    49RY9407_1,   P09,    49,  3,     13,    214,4,19940725,1401, 16.0320, 136.9547, 5120,   1260.6,   3.5502,  34.5534,2,  34.5507,2,     93.7,2,   -999.0,9,  -999.00,9,  -999.00,9,  -999.00,9,  -999.00,9,    0.012,3,    0.015,4,    0.053,2,   1.8434,2,    19.05,2,   -999.0,9,   7.775,2,   -999.0,9,   -999,  -999.0,-999.000,  0.0026,   0.250,  1115.0,   0.022,  3.4566,   0.005
    49RY9407_1,   P09,    49,  3,     14,    204,2,19940725,1401, 16.0320, 136.9547, 5120,   1260.6,   3.5502,  34.5534,2,  34.5521,2,     93.7,2,   -999.0,9,  -999.00,9,  -999.00,9,  -999.00,9,  -999.00,9,    0.007,2,    0.017,4,    0.052,2,   1.8585,2,    18.56,2,   -999.0,9,   7.847,2,   -999.0,9,   -999,  -999.0,   3.547,  0.0024,   0.200,  1256.0,   0.015,  3.4566,   0.004
    49RY9407_1,   P09,    49,  3,     12,    213,2,19940725,1401, 16.0320, 136.9547, 5120,   1513.9,   2.9517,  34.5729,2,-999.0000,5,     98.9,2,   -999.0,9,  -999.00,9,  -999.00,9,  -999.00,9,  -999.00,9, -999.000,9, -999.000,9, -999.000,9,-999.0000,9,  -999.00,9,   -999.0,9,-999.000,9,   -999.0,9,   -999,  -999.0,-999.000,-999.0000,-999.000,  1508.0,-999.000,  2.8432,-999.000