BOTTLE,20020306WHPSIOdm
EXPOCODE,SECT_ID,STNNBR,CASTNO,SAMPNO,BTLNBR,BTLNBR_FLAG_W,DATE,TIME,LATITUDE,LONGITUDE,DEPTH,CTDPRS,CTDTMP,CTDSAL,CTDSAL_FLAG_W,SALNTY,SALNTY_FLAG_W,CTDOXY,CTDOXY_FLAG_W,OXYGEN,OXYGEN_FLAG_W,SILCAT,SILCAT_FLAG_W,NITRAT,NITRAT_FLAG_W,NITRIT,NITRIT_FLAG_W,PHSPHT,PHSPHT_FLAG_W,CFC-11,CFC-11_FLAG_W,CFC-12,CFC-12_FLAG_W,TRITUM,TRITUM_FLAG_W,HELIUM,HELIUM_FLAG_W,DELHE3,DELHE3_FLAG_W,DELC14,DELC14_FLAG_W,NEON,NEON_FLAG_W,TCARBN,TCARBN_FLAG_W,CTDRAW,C14ERR,REVTMP,HELIER,DELHER,REVPRS,NEONER,THETA,TRITER
,,,,,,,,,,,,DBAR,ITS-90,PSS-78,,PSS-78,,UMOL/KG,,UMOL/KG,,UMOL/KG,,UMOL/KG,,UMOL/KG,,UMOL/KG,,PMOL/KG,,PMOL/KG,,TU,,NMOL/KG,,PERCNT,,/MILLE,,NMOL/KG,,UMOL/KG,,,/MILLE,ITS-90,NMOL/KG,PERCNT,DBAR,NMOL/KG,DEG C,TU
    49RY9407_1,   P09,    38,  1,     12,    217,2,19940721,2107, 21.4818, 137.0232, 4210,   1766.9,   2.3280,  34.5992,2,  34.5994,2,    108.5,2,    108.3,2,   139.66,2,    39.14,2,     0.00,2,     2.75,2, -999.000,9, -999.000,9, -999.000,9,-999.0000,9,  -999.00,9,   -999.0,9,-999.000,9,   -999.0,9,   -999,  -999.0,-999.000,-999.0000,-999.000,  -999.0,-999.000,  2.2064,-999.000
    49RY9407_1,   P09,    38,  1,     11,    201,2,19940721,2107, 21.4818, 137.0232, 4210,   2022.9,   2.0789,  34.6196,2,  34.6201,6,    117.9,2,    120.5,3,   141.62,6,    38.67,6,     0.00,6,     2.71,6, -999.000,9, -999.000,9, -999.000,9,-999.0000,9,  -999.00,9,   -999.0,9,-999.000,9,   -999.0,9,   -999,  -999.0,-999.000,-999.0000,-999.000,  -999.0,-999.000,  1.9393,-999.000
    49RY9407_1,   P09,    38,  1,     10,    214,2,19940721,2107, 21.4818, 137.0232, 4210,   2274.1,   1.8903,  34.6363,2,  34.6360,2,    124.4,2,    123.7,2,   143.51,2,    38.23,2,     0.00,2,     2.68,2, -999.000,9, -999.000,9, -999.000,9,-999.0000,9,  -999.00,9,   -999.0,9,-999.000,9,   -999.0,9,   -999,  -999.0,-999.000,-999.0000,-999.000,  -999.0,-999.000,  1.7321,-999.000
    49RY9407_1,   P09,    38,  1,      9,    213,2,19940721,2107, 21.4818, 137.0232, 4210,   2531.6,   1.7751,  34.6483,2,  34.6476,2,    132.6,2,    131.8,6,   144.30,2,    37.97,2,     0.00,2,     2.65,2, -999.000,9, -999.000,9, -999.000,9,-999.0000,9,  -999.00,9,   -999.0,9,-999.000,9,   -999.0,9,   -999,  -999.0,-999.000,-999.0000,-999.000,  4283.0,-999.000,  1.5962,-999.000
    49RY9407_1,   P09,    38,  1,      8,    212,2,19940721,2107, 21.4818, 137.0232, 4210,   2784.1,   1.6931,  34.6571,2,  34.6508,3,    137.8,2,    135.7,2,   144.09,2,  -999.00,9,     0.00,2,     2.62,2, -999.000,9, -999.000,9, -999.000,9,-999.0000,9,  -999.00,9,   -999.0,9,-999.000,9,   -999.0,9,   -999,  -999.0,-999.000,-999.0000,-999.000,  -999.0,-999.000,  1.4926,-999.000
    49RY9407_1,   P09,    38,  1,      7,    203,2,19940721,2107, 21.4818, 137.0232, 4210,   3039.9,   1.6443,  34.6638,2,  34.6626,2,    141.7,2,    140.9,2,   144.76,2,    37.77,2,     0.00,2,     2.60,2, -999.000,9, -999.000,9, -999.000,9,-999.0000,9,  -999.00,9,   -999.0,9,-999.000,9,   -999.0,9,   -999,  -999.0,-999.000,-999.0000,-999.000,  3039.0,-999.000,  1.4205,-999.000
    49RY9407_1,   P09,    38,  1,      6,    209,2,19940721,2107, 21.4818, 137.0232, 4210,   3297.3,   1.5946,  34.6703,2,  34.6693,2,    148.5,2,    145.6,2,   143.97,2,    37.56,2,     0.00,2,     2.57,2, -999.000,9, -999.000,9, -999.000,9,-999.0000,9,  -999.00,9,   -999.0,9,-999.000,9,   -999.0,9,   -999,  -999.0,-999.000,-999.0000,-999.000,  -999.0,-999.000,  1.3467,-999.000
    49RY9407_1,   P09,    38,  1,      5,    221,2,19940721,2107, 21.4818, 137.0232, 4210,   3552.2,   1.5615,  34.6744,2,  34.6745,6,    151.2,2,    149.4,2,   142.86,2,    37.14,2,     0.00,2,     2.55,2, -999.000,9, -999.000,9, -999.000,9,-999.0000,9,  -999.00,9,   -999.0,9,-999.000,9,   -999.0,9,   -999,  -999.0,-999.000,-999.0000,-999.000,  -999.0,-999.000,  1.2885,-999.000
    49RY9407_1,   P09,    38,  1,      4,    206,2,19940721,2107, 21.4818, 137.0232, 4210,   3807.1,   1.5327,  34.6800,2,  34.6798,2,    154.5,2,    155.7,6,   142.01,6,    36.71,6,     0.00,6,     2.51,6, -999.000,9, -999.000,9, -999.000,9,-999.0000,9,  -999.00,9,   -999.0,9,-999.000,9,   -999.0,9,   -999,  -999.0,-999.000,-999.0000,-999.000,  -999.0,-999.000,  1.2337,-999.000
    49RY9407_1,   P09,    38,  1,      3,    229,2,19940721,2107, 21.4818, 137.0232, 4210,   4062.4,   1.5192,  34.6817,2,  34.6830,6,    160.6,2,    157.0,2,   141.27,2,    36.58,2,     0.00,2,     2.50,2, -999.000,9, -999.000,9, -999.000,9,-999.0000,9,  -999.00,9,   -999.0,9,-999.000,9,   -999.0,9,   -999,  -999.0,   1.516,-999.0000,-999.000,  4068.0,-999.000,  1.1929,-999.000
    49RY9407_1,   P09,    38,  1,      2,    216,2,19940721,2107, 21.4818, 137.0232, 4210,   4321.0,   1.5231,  34.6857,2,  34.6851,6,    161.5,2,    161.4,2,   140.87,2,    36.38,2,     0.00,2,     2.48,2, -999.000,9, -999.000,9, -999.000,9,-999.0000,9,  -999.00,9,   -999.0,9,-999.000,9,   -999.0,9,   -999,  -999.0,-999.000,-999.0000,-999.000,  -999.0,-999.000,  1.1679,-999.000
    49RY9407_1,   P09,    38,  1,      1,    204,2,19940721,2107, 21.4818, 137.0232, 4210,   4493.7,   1.5386,  34.6859,2,  34.6856,6,    162.6,2,    160.8,2,   140.50,6,    36.27,6,     0.00,6,     2.48,6, -999.000,9, -999.000,9, -999.000,9,-999.0000,9,  -999.00,9,   -999.0,9,-999.000,9,   -999.0,9,   -999,  -999.0,   1.535,-999.0000,-999.000,  4494.0,-999.000,  1.1632,-999.000
    49RY9407_1,   P09,    38,  2,     12,    217,2,19940721,2347, 21.4618, 137.0518, 4190,    150.4,  22.6748,  34.9997,2,  34.9975,6,    189.8,2,    194.3,2,     1.49,2,     0.59,2,     0.06,2,     0.08,2, -999.000,9, -999.000,9, -999.000,9,-999.0000,9,  -999.00,9,   -999.0,9,-999.000,9,   -999.0,9,   -999,  -999.0,-999.000,-999.0000,-999.000,  -999.0,-999.000, 22.6444,-999.000
    49RY9407_1,   P09,    38,  2,     11,    201,2,19940721,2347, 21.4618, 137.0518, 4190,    203.5,  20.8529,  34.9549,2,  34.9590,2,    192.5,3,    201.4,2,     1.84,2,     1.48,2,     0.02,2,     0.13,2, -999.000,9, -999.000,9, -999.000,9,-999.0000,9,  -999.00,9,   -999.0,9,-999.000,9,   -999.0,9,   -999,  -999.0,-999.000,-999.0000,-999.000,  -999.0,-999.000, 20.8141,-999.000
    49RY9407_1,   P09,    38,  2,     10,    214,2,19940721,2347, 21.4618, 137.0518, 4190,    300.3,  17.2147,  34.7935,2,  34.7872,2,    199.0,2,    200.5,2,     4.42,2,     5.24,2,     0.01,2,     0.37,2, -999.000,9, -999.000,9, -999.000,9,-999.0000,9,  -999.00,9,   -999.0,9,-999.000,9,   -999.0,9,   -999,  -999.0,-999.000,-999.0000,-999.000,  -999.0,-999.000, 17.1646,-999.000
    49RY9407_1,   P09,    38,  2,      9,    213,2,19940721,2347, 21.4618, 137.0518, 4190,    402.9,  14.3723,  34.5580,2,  34.5608,2,    177.3,3,    188.6,6,    11.25,2,    11.13,2,     0.01,2,     0.77,2, -999.000,9, -999.000,9, -999.000,9,-999.0000,9,  -999.00,9,   -999.0,9,-999.000,9,   -999.0,9,   -999,  -999.0,-999.000,-999.0000,-999.000,   406.0,-999.000, 14.3129,-999.000
    49RY9407_1,   P09,    38,  2,      8,    212,2,19940721,2347, 21.4618, 137.0518, 4190,    503.1,  10.9761,  34.2833,2,  34.3201,2,    167.8,3,    175.5,2,    25.11,6,    18.04,6,     0.00,6,     1.25,6, -999.000,9, -999.000,9, -999.000,9,-999.0000,9,  -999.00,9,   -999.0,9,-999.000,9,   -999.0,9,   -999,  -999.0,-999.000,-999.0000,-999.000,  -999.0,-999.000, 10.9138,-999.000
    49RY9407_1,   P09,    38,  2,      7,    203,2,19940721,2347, 21.4618, 137.0518, 4190,    604.9,   8.0731,  34.1737,2,  34.1726,2,    132.7,2,    132.9,2,    45.10,2,    27.74,2,     0.00,2,     1.94,2, -999.000,9, -999.000,9, -999.000,9,-999.0000,9,  -999.00,9,   -999.0,9,-999.000,9,   -999.0,9,   -999,  -999.0,-999.000,-999.0000,-999.000,   602.0,-999.000,  8.0107,-999.000
    49RY9407_1,   P09,    38,  2,      6,    209,2,19940721,2347, 21.4618, 137.0518, 4190,    702.6,   6.3877,  34.1794,2,  34.1776,6,     89.9,3,     96.6,2,    66.24,2,    34.69,2,     0.00,2,     2.43,2, -999.000,9, -999.000,9, -999.000,9,-999.0000,9,  -999.00,9,   -999.0,9,-999.000,9,   -999.0,9,   -999,  -999.0,-999.000,-999.0000,-999.000,  -999.0,-999.000,  6.3236,-999.000
    49RY9407_1,   P09,    38,  2,      5,    221,2,19940721,2347, 21.4618, 137.0518, 4190,    805.1,   5.2242,  34.2713,2,  34.2731,2,     61.7,3,     68.1,2,    86.88,2,    38.91,2,     0.00,2,     2.75,2, -999.000,9, -999.000,9, -999.000,9,-999.0000,9,  -999.00,9,   -999.0,9,-999.000,9,   -999.0,9,   -999,  -999.0,   5.224,-999.0000,-999.000,   806.0,-999.000,  5.1572,-999.000
    49RY9407_1,   P09,    38,  2,      4,    206,2,19940721,2347, 21.4618, 137.0518, 4190,    907.4,   4.4981,  34.3760,2,  34.3757,2,     55.6,3,     65.2,2,   102.27,2,    40.63,2,     0.00,2,     2.86,2, -999.000,9, -999.000,9, -999.000,9,-999.0000,9,  -999.00,9,   -999.0,9,-999.000,9,   -999.0,9,   -999,  -999.0,-999.000,-999.0000,-999.000,  -999.0,-999.000,  4.4268,-999.000
    49RY9407_1,   P09,    38,  2,      3,    229,2,19940721,2347, 21.4618, 137.0518, 4190,   1006.9,   4.0006,  34.4320,2,  34.4312,2,     60.0,2,     64.0,2,   112.31,6,    40.81,6,     0.00,6,     2.89,6, -999.000,9, -999.000,9, -999.000,9,-999.0000,9,  -999.00,9,   -999.0,9,-999.000,9,   -999.0,9,   -999,  -999.0,   3.997,-999.0000,-999.000,  1007.0,-999.000,  3.9245,-999.000
    49RY9407_1,   P09,    38,  2,      2,    216,2,19940721,2347, 21.4618, 137.0518, 4190,   1262.3,   3.1036,  34.5079,2,  34.5082,2,     74.9,2,     75.7,6,   130.37,2,    40.93,2,     0.00,2,     2.88,2, -999.000,9, -999.000,9, -999.000,9,-999.0000,9,  -999.00,9,   -999.0,9,-999.000,9,   -999.0,9,   -999,  -999.0,-999.000,-999.0000,-999.000,  -999.0,-999.000,  3.0143,-999.000
    49RY9407_1,   P09,    38,  2,      1,    204,2,19940721,2347, 21.4618, 137.0518, 4190,   1514.2,   2.6458,  34.5585,2,  34.5604,2,     93.7,2,     94.9,2,   137.00,2,    40.25,2,     0.00,2,     2.81,2, -999.000,9, -999.000,9, -999.000,9,-999.0000,9,  -999.00,9,   -999.0,9,-999.000,9,   -999.0,9,   -999,  -999.0,   2.644,-999.0000,-999.000,  1511.0,-999.000,  2.5409,-999.000
    49RY9407_1,   P09,    38,  3,      0,      0,2,19940722,0103, 21.4477, 137.0652, 4385,      1.1,  28.6131,  34.5945,2,-999.0000,9,    244.1,4,    200.9,6,     1.02,2,     0.00,2,     0.00,2,     0.00,2, -999.000,9, -999.000,9, -999.000,9,-999.0000,9,  -999.00,9,   -999.0,9,-999.000,9,   -999.0,9,   -999,  -999.0,-999.000,-999.0000,-999.000,  -999.0,-999.000, 28.6129,-999.000
    49RY9407_1,   P09,    38,  3,      6,    209,2,19940722,0103, 21.4477, 137.0652, 4385,     10.4,  28.6023,  34.5953,2,  34.5978,2,    188.4,4,    200.2,2,     1.09,2,     0.00,2,     0.00,2,     0.00,2, -999.000,9, -999.000,9, -999.000,9,-999.0000,9,  -999.00,9,   -999.0,9,-999.000,9,   -999.0,9,   -999,  -999.0,-999.000,-999.0000,-999.000,  -999.0,-999.000, 28.5998,-999.000
    49RY9407_1,   P09,    38,  3,      5,    221,2,19940722,0103, 21.4477, 137.0652, 4385,     24.4,  28.6027,  34.5965,2,  34.5980,2,    191.6,4,    200.1,2,     1.08,6,     0.00,6,     0.00,6,     0.01,6, -999.000,9, -999.000,9, -999.000,9,-999.0000,9,  -999.00,9,   -999.0,9,-999.000,9,   -999.0,9,   -999,  -999.0,  28.590,-999.0000,-999.000,    28.0,-999.000, 28.5969,-999.000
    49RY9407_1,   P09,    38,  3,      4,    206,2,19940722,0103, 21.4477, 137.0652, 4385,     50.5,  28.3022,  34.6822,2,  34.6723,2,    193.9,4,    204.2,2,     1.15,2,     0.00,2,     0.00,2,     0.00,2, -999.000,9, -999.000,9, -999.000,9,-999.0000,9,  -999.00,9,   -999.0,9,-999.000,9,   -999.0,9,   -999,  -999.0,-999.000,-999.0000,-999.000,  -999.0,-999.000, 28.2902,-999.000
    49RY9407_1,   P09,    38,  3,      3,    229,2,19940722,0103, 21.4477, 137.0652, 4385,     76.5,  26.1856,  34.9623,2,  34.9511,2,    209.4,3,    217.4,2,     0.98,2,     0.00,2,     0.00,2,     0.00,2, -999.000,9, -999.000,9, -999.000,9,-999.0000,9,  -999.00,9,   -999.0,9,-999.000,9,   -999.0,9,   -999,  -999.0,  26.300,-999.0000,-999.000,    70.0,-999.000, 26.1684,-999.000
    49RY9407_1,   P09,    38,  3,      2,    216,2,19940722,0103, 21.4477, 137.0652, 4385,     99.6,  24.8700,  34.9315,2,  34.9313,2,    213.2,2,    211.5,6,     1.07,2,     0.00,2,     0.00,2,     0.01,2, -999.000,9, -999.000,9, -999.000,9,-999.0000,9,  -999.00,9,   -999.0,9,-999.000,9,   -999.0,9,   -999,  -999.0,-999.000,-999.0000,-999.000,  -999.0,-999.000, 24.8485,-999.000
    49RY9407_1,   P09,    38,  3,      1,    204,2,19940722,0103, 21.4477, 137.0652, 4385,    125.6,  24.2708,  34.9422,2,  34.9388,2,    198.5,3,    204.4,2,     1.20,2,     0.01,2,     0.01,2,     0.02,2, -999.000,9, -999.000,9, -999.000,9,-999.0000,9,  -999.00,9,   -999.0,9,-999.000,9,   -999.0,9,   -999,  -999.0,  24.230,-999.0000,-999.000,   126.0,-999.000, 24.2442,-999.000
    49RY9407_1,   P09,    39,  1,     12,    217,2,19940721,1108, 21.0043, 137.0552, 4845,   2277.1,   1.8998,  34.6344,2,  34.6350,2,    122.4,2,    126.5,3,   144.08,2,    38.50,2,     0.00,2,     2.70,2, -999.000,9, -999.000,9, -999.000,9,-999.0000,9,  -999.00,9,   -999.0,9,-999.000,9,   -999.0,9,   -999,  -999.0,-999.000,-999.0000,-999.000,  -999.0,-999.000,  1.7412,-999.000
    49RY9407_1,   P09,    39,  1,     11,    201,2,19940721,1108, 21.0043, 137.0552, 4845,   2532.9,   1.7934,  34.6469,2,  34.6469,2,    129.6,2,    129.9,2,   144.88,2,    38.19,2,     0.00,2,     2.67,2, -999.000,9, -999.000,9, -999.000,9,-999.0000,9,  -999.00,9,   -999.0,9,-999.000,9,   -999.0,9,   -999,  -999.0,-999.000,-999.0000,-999.000,  -999.0,-999.000,  1.6140,-999.000
    49RY9407_1,   P09,    39,  1,     10,    214,2,19940721,1108, 21.0043, 137.0552, 4845,   2787.0,   1.7099,  34.6550,2,  34.6559,2,    135.9,2,    134.3,2,   145.30,2,    37.93,2,     0.00,2,     2.65,2, -999.000,9, -999.000,9, -999.000,9,-999.0000,9,  -999.00,9,   -999.0,9,-999.000,9,   -999.0,9,   -999,  -999.0,-999.000,-999.0000,-999.000,  -999.0,-999.000,  1.5088,-999.000
    49RY9407_1,   P09,    39,  1,      9,    213,2,19940721,1108, 21.0043, 137.0552, 4845,   3041.9,   1.6445,  34.6617,2,  34.6630,2,    141.2,2,    142.8,2,   144.21,6,    37.42,6,     0.00,6,     2.60,6, -999.000,9, -999.000,9, -999.000,9,-999.0000,9,  -999.00,9,   -999.0,9,-999.000,9,   -999.0,9,   -999,  -999.0,-999.000,-999.0000,-999.000,    73.0,-999.000,  1.4206,-999.000
    49RY9407_1,   P09,    39,  1,      8,    212,2,19940721,1108, 21.0043, 137.0552, 4845,   3297.7,   1.5909,  34.6693,2,  34.6693,2,    147.7,2,    148.5,3,   143.81,2,    37.18,2,     0.00,2,     2.58,2, -999.000,9, -999.000,9, -999.000,9,-999.0000,9,  -999.00,9,   -999.0,9,-999.000,9,   -999.0,9,   -999,  -999.0,-999.000,-999.0000,-999.000,  -999.0,-999.000,  1.3430,-999.000
    49RY9407_1,   P09,    39,  1,      7,    203,2,19940721,1108, 21.0043, 137.0552, 4845,   3551.3,   1.5552,  34.6729,2,  34.6748,2,    151.1,2,    150.7,6,   143.15,2,    36.95,2,     0.00,2,     2.56,2, -999.000,9, -999.000,9, -999.000,9,-999.0000,9,  -999.00,9,   -999.0,9,-999.000,9,   -999.0,9,   -999,  -999.0,-999.000,-999.0000,-999.000,  3543.0,-999.000,  1.2825,-999.000
    49RY9407_1,   P09,    39,  1,      6,    209,2,19940721,1108, 21.0043, 137.0552, 4845,   3807.1,   1.5345,  34.6783,2,  34.6796,2,    155.6,2,    155.1,2,   142.48,2,    36.71,2,     0.00,2,     2.52,2, -999.000,9, -999.000,9, -999.000,9,-999.0000,9,  -999.00,9,   -999.0,9,-999.000,9,   -999.0,9,   -999,  -999.0,-999.000,-999.0000,-999.000,  -999.0,-999.000,  1.2354,-999.000
    49RY9407_1,   P09,    39,  1,      5,    221,2,19940721,1108, 21.0043, 137.0552, 4845,   4065.5,   1.5261,  34.6811,2,  34.6827,2,    156.8,2,    158.7,2,   141.76,6,    36.48,6,     0.00,6,     2.50,6, -999.000,9, -999.000,9, -999.000,9,-999.0000,9,  -999.00,9,   -999.0,9,-999.000,9,   -999.0,9,   -999,  -999.0,  28.410,-999.0000,-999.000,     5.0,-999.000,  1.1993,-999.000
    49RY9407_1,   P09,    39,  1,      4,    206,2,19940721,1108, 21.0043, 137.0552, 4845,   4319.4,   1.5262,  34.6829,2,  34.6833,2,    159.2,2,    160.1,2,   140.98,2,    36.26,2,     0.00,2,     2.48,2, -999.000,9, -999.000,9, -999.000,9,-999.0000,9,  -999.00,9,   -999.0,9,-999.000,9,   -999.0,9,   -999,  -999.0,-999.000,-999.0000,-999.000,  -999.0,-999.000,  1.1711,-999.000
    49RY9407_1,   P09,    39,  1,      3,    229,2,19940721,1108, 21.0043, 137.0552, 4845,   4574.9,   1.5465,  34.6844,2,  34.6849,2,    160.7,2,    159.8,2,   141.07,2,    36.44,2,     0.00,2,     2.48,2, -999.000,9, -999.000,9, -999.000,9,-999.0000,9,  -999.00,9,   -999.0,9,-999.000,9,   -999.0,9,   -999,  -999.0,   1.543,-999.0000,-999.000,  4571.0,-999.000,  1.1614,-999.000
    49RY9407_1,   P09,    39,  1,      2,    216,2,19940721,1108, 21.0043, 137.0552, 4845,   4833.2,   1.5774,  34.6836,2,  34.6848,6,    161.6,2,    159.0,2,   140.98,2,    36.30,2,     0.00,2,     2.49,2, -999.000,9, -999.000,9, -999.000,9,-999.0000,9,  -999.00,9,   -999.0,9,-999.000,9,   -999.0,9,   -999,  -999.0,-999.000,-999.0000,-999.000,  -999.0,-999.000,  1.1608,-999.000
    49RY9407_1,   P09,    39,  1,      1,    204,2,19940721,1108, 21.0043, 137.0552, 4845,   4924.3,   1.5885,  34.6843,2,  34.6844,6,    162.1,2,    161.3,2,   141.02,2,    36.30,2,     0.00,2,     2.48,2, -999.000,9, -999.000,9, -999.000,9,-999.0000,9,  -999.00,9,   -999.0,9,-999.000,9,   -999.0,9,   -999,  -999.0,   1.583,-999.0000,-999.000,  4919.0,-999.000,  1.1605,-999.000