BOTTLE,20020306WHPSIOdm
EXPOCODE,SECT_ID,STNNBR,CASTNO,SAMPNO,BTLNBR,BTLNBR_FLAG_W,DATE,TIME,LATITUDE,LONGITUDE,DEPTH,CTDPRS,CTDTMP,CTDSAL,CTDSAL_FLAG_W,SALNTY,SALNTY_FLAG_W,CTDOXY,CTDOXY_FLAG_W,OXYGEN,OXYGEN_FLAG_W,SILCAT,SILCAT_FLAG_W,NITRAT,NITRAT_FLAG_W,NITRIT,NITRIT_FLAG_W,PHSPHT,PHSPHT_FLAG_W,CFC-11,CFC-11_FLAG_W,CFC-12,CFC-12_FLAG_W,TRITUM,TRITUM_FLAG_W,HELIUM,HELIUM_FLAG_W,DELHE3,DELHE3_FLAG_W,DELC14,DELC14_FLAG_W,NEON,NEON_FLAG_W,TCARBN,TCARBN_FLAG_W,CTDRAW,C14ERR,REVTMP,HELIER,DELHER,REVPRS,NEONER,THETA,TRITER
,,,,,,,,,,,,DBAR,ITS-90,PSS-78,,PSS-78,,UMOL/KG,,UMOL/KG,,UMOL/KG,,UMOL/KG,,UMOL/KG,,UMOL/KG,,PMOL/KG,,PMOL/KG,,TU,,NMOL/KG,,PERCNT,,/MILLE,,NMOL/KG,,UMOL/KG,,,/MILLE,ITS-90,NMOL/KG,PERCNT,DBAR,NMOL/KG,DEG C,TU
    49RY9407_2,   P09,    89,  3,      6,    209,2,19940813,0929,  1.0290, 142.0582, 2990,      1.3,  29.0979,  33.9500,2,  33.9523,2,   -999.0,9,   -999.0,9,  -999.00,9,  -999.00,9,  -999.00,9,  -999.00,9,    1.643,2,    1.031,3,    1.209,2,   1.6514,2,    -0.72,2,   -999.0,9,   6.497,2,   -999.0,9,   -999,  -999.0,-999.000,  0.0039,   0.190,  -999.0,   0.043, 29.0976,   0.014
    49RY9407_2,   P09,    89,  3,      5,    218,2,19940813,0929,  1.0290, 142.0582, 2990,     24.7,  29.1349,  33.9906,2,  33.9886,2,   -999.0,9,   -999.0,9,  -999.00,9,  -999.00,9,  -999.00,9,  -999.00,9,    1.628,2,    1.331,3,    1.470,2,   1.6433,2,    -1.14,2,   -999.0,9,   6.508,2,   -999.0,9,   -999,  -999.0,-999.000,  0.0130,   0.190,  -999.0,   0.043, 29.1289,   0.041
    49RY9407_2,   P09,    89,  3,      4,    206,2,19940813,0929,  1.0290, 142.0582, 2990,     50.0,  28.6244,  34.2725,2,  34.2872,2,   -999.0,9,   -999.0,9,  -999.00,9,  -999.00,9,  -999.00,9,  -999.00,9,    1.647,2,    1.040,3,    1.480,2,   1.6544,2,    -1.13,2,   -999.0,9,   6.565,2,   -999.0,9,   -999,  -999.0,-999.000,  0.0038,   0.180,  -999.0,   0.043, 28.6124,   0.041
    49RY9407_2,   P09,    89,  3,      3,    205,2,19940813,0929,  1.0290, 142.0582, 2990,     74.7,  27.7000,  35.0771,2,  35.0783,2,   -999.0,9,   -999.0,9,  -999.00,9,  -999.00,9,  -999.00,9,  -999.00,9,    1.294,4,    0.872,4,    1.063,2,-999.0000,5,  -999.00,5,   -999.0,9,-999.000,9,   -999.0,9,   -999,  -999.0,-999.000,-999.0000,-999.000,  -999.0,-999.000, 27.6826,   0.013
    49RY9407_2,   P09,    89,  3,      2,    216,2,19940813,0929,  1.0290, 142.0582, 2990,    100.9,  24.7402,  34.9928,2,  35.0087,2,   -999.0,9,   -999.0,9,  -999.00,9,  -999.00,9,  -999.00,9,  -999.00,9,    1.658,2,    1.000,3,    1.071,2,   1.6604,2,    -0.10,2,   -999.0,9,   6.691,2,   -999.0,9,   -999,  -999.0,-999.000,  0.0091,   0.230,  -999.0,   0.045, 24.7185,   0.013
    49RY9407_2,   P09,    89,  3,      1,    201,2,19940813,0929,  1.0290, 142.0582, 2990,    150.3,  20.8434,  35.0719,2,  35.0798,2,   -999.0,9,   -999.0,9,  -999.00,9,  -999.00,9,  -999.00,9,  -999.00,9,    1.597,2,    0.958,3,    1.072,2,   1.6642,2,     1.81,2,   -999.0,9,   6.869,2,   -999.0,9,   -999,  -999.0,-999.000,  0.0114,   0.390,  -999.0,   0.028, 20.8148,   0.013
    49RY9407_2,   P09,    89,  3,     23,    228,2,19940813,0929,  1.0290, 142.0582, 2990,    199.6,  15.4738,  34.9938,2,  34.9876,2,   -999.0,9,   -999.0,9,  -999.00,9,  -999.00,9,  -999.00,9,  -999.00,9, -999.000,9, -999.000,9,    1.000,2,   1.7289,2,     5.04,2,   -999.0,9,   7.083,2,   -999.0,9,   -999,  -999.0,-999.000,  0.0078,   0.230,  -999.0,   0.048, 15.4429,   0.012
    49RY9407_2,   P09,    89,  3,     24,    222,2,19940813,0929,  1.0290, 142.0582, 2990,    200.0,  15.7978,  34.9847,2,  34.9882,2,   -999.0,9,   -999.0,9,  -999.00,9,  -999.00,9,  -999.00,9,  -999.00,9,    1.421,6,    0.898,3, -999.000,9,-999.0000,9,  -999.00,9,   -999.0,9,-999.000,9,   -999.0,9,   -999,  -999.0,-999.000,-999.0000,-999.000,  -999.0,-999.000, 15.7664,-999.000
    49RY9407_2,   P09,    89,  3,     22,    227,2,19940813,0929,  1.0290, 142.0582, 2990,    301.5,  12.4442,  34.9249,2,  34.9373,2,   -999.0,9,   -999.0,9,  -999.00,9,  -999.00,9,  -999.00,9,  -999.00,9,    0.877,2,    0.501,3, -999.000,5,   1.7366,2,     3.60,2,   -999.0,9,   7.330,2,   -999.0,9,   -999,  -999.0,-999.000,  0.0077,   0.230,  -999.0,   0.050, 12.4038,-999.000
    49RY9407_2,   P09,    89,  3,     21,    226,2,19940813,0929,  1.0290, 142.0582, 2990,    402.9,   9.1235,  34.6691,2,  34.6717,2,   -999.0,9,   -999.0,9,  -999.00,9,  -999.00,9,  -999.00,9,  -999.00,9,    0.417,2,    0.247,3,    0.197,2,   2.1592,4,     4.09,4,   -999.0,9,   8.927,4,   -999.0,9,   -999,  -999.0,-999.000,  0.0094,   0.220,  -999.0,   0.060,  9.0790,   0.005
    49RY9407_2,   P09,    89,  3,     20,    203,2,19940813,0929,  1.0290, 142.0582, 2990,    502.5,   7.8092,  34.5813,2,  34.5808,2,   -999.0,9,   -999.0,9,  -999.00,9,  -999.00,9,  -999.00,9,  -999.00,9,    0.238,2,    0.317,4,    0.150,2,   1.7701,2,     7.52,2,   -999.0,9,   7.542,2,   -999.0,9,   -999,  -999.0,-999.000,  0.0078,   0.220,   503.0,   0.051,  7.7583,   0.005
    49RY9407_2,   P09,    89,  3,     19,    215,2,19940813,0929,  1.0290, 142.0582, 2990,    603.8,   6.3520,  34.5402,2,  34.5413,2,   -999.0,9,   -999.0,9,  -999.00,9,  -999.00,9,  -999.00,9,  -999.00,9,    0.053,2,    0.015,3,    0.031,2,   1.7928,2,    10.30,2,   -999.0,9,   7.720,2,   -999.0,9,   -999,  -999.0,-999.000,  0.0079,   0.220,  -999.0,   0.052,  6.2972,   0.003
    49RY9407_2,   P09,    89,  3,     17,    219,2,19940813,0929,  1.0290, 142.0582, 2990,    704.4,   5.9043,  34.5391,2,  34.5381,2,   -999.0,9,   -999.0,9,  -999.00,9,  -999.00,9,  -999.00,9,  -999.00,9,    0.028,2,    0.000,3,    0.014,2,   1.7783,2,    11.80,2,   -999.0,9,   7.687,2,   -999.0,9,   -999,  -999.0,-999.000,  0.0086,   0.220,  -999.0,   0.052,  5.8422,   0.003
    49RY9407_2,   P09,    89,  3,     18,    221,2,19940813,0929,  1.0290, 142.0582, 2990,    704.4,   5.9043,  34.5391,2,  34.5391,2,   -999.0,9,   -999.0,9,  -999.00,9,  -999.00,9,  -999.00,9,  -999.00,9,    0.029,2,    0.068,4,    0.026,2,   1.7950,2,    11.61,2,   -999.0,9,   7.596,2,   -999.0,9,   -999,  -999.0,-999.000,  0.0079,   0.220,   704.0,   0.051,  5.8422,   0.003
    49RY9407_2,   P09,    89,  3,     16,    229,2,19940813,0929,  1.0290, 142.0582, 2990,    805.7,   5.4602,  34.5359,2,  34.5354,2,   -999.0,9,   -999.0,9,  -999.00,9,  -999.00,9,  -999.00,9,  -999.00,9,    0.023,2,    0.069,4,    0.028,2,-999.0000,5,  -999.00,5,   -999.0,9,-999.000,9,   -999.0,9,   -999,  -999.0,   5.452,-999.0000,-999.000,   805.0,-999.000,  5.3913,   0.003
    49RY9407_2,   P09,    89,  3,     15,    217,4,19940813,0929,  1.0290, 142.0582, 2990,    905.2,   4.8035,  34.5470,2,  34.5484,2,   -999.0,9,   -999.0,9,  -999.00,9,  -999.00,9,  -999.00,9,  -999.00,9,    0.010,2,    0.053,4,    0.020,2,   1.2371,4,    16.41,4,   -999.0,9,   5.350,4,   -999.0,9,   -999,  -999.0,-999.000,  0.0055,   0.230,  -999.0,   0.036,  4.7300,   0.003
    49RY9407_2,   P09,    89,  3,     13,    214,4,19940813,0929,  1.0290, 142.0582, 2990,   1260.0,   3.5839,  34.5792,2,  34.5790,2,   -999.0,9,   -999.0,9,  -999.00,9,  -999.00,9,  -999.00,9,  -999.00,9, -999.000,9, -999.000,9,    0.014,2,   1.8474,2,    21.05,2,   -999.0,9,   7.947,2,   -999.0,9,   -999,  -999.0,-999.000,  0.0118,   0.220,   833.0,   0.054,  3.4900,   0.003
    49RY9407_2,   P09,    89,  3,     14,    204,2,19940813,0929,  1.0290, 142.0582, 2990,   1260.0,   3.5839,  34.5792,2,  34.5792,2,   -999.0,9,   -999.0,9,  -999.00,9,  -999.00,9,  -999.00,9,  -999.00,9,    0.006,2,    0.139,4,    0.002,2,   1.8536,2,    20.72,2,   -999.0,9,   7.840,2,   -999.0,9,   -999,  -999.0,   3.586,  0.0082,   0.220,  1257.0,   0.053,  3.4900,   0.003
    49RY9407_2,   P09,    89,  3,     12,    213,2,19940813,0929,  1.0290, 142.0582, 2990,   1514.3,   2.9640,  34.6020,2,  34.6009,2,   -999.0,9,   -999.0,9,  -999.00,9,  -999.00,9,  -999.00,9,  -999.00,9,    0.003,2,    0.038,4, -999.000,9,-999.0000,9,  -999.00,9,   -999.0,9,-999.000,9,   -999.0,9,   -999,  -999.0,-999.000,-999.0000,-999.000,  1511.0,-999.000,  2.8553,-999.000
    49RY9407_2,   P09,    90,  1,      0,      0,2,19940813,1255,  0.7582, 142.0018, 3140,      0.7,  29.0950,  33.7019,2,-999.0000,9,   -999.0,9,    198.1,2,     1.32,2,     0.01,2,     0.00,2,     0.02,2, -999.000,9, -999.000,9, -999.000,9,-999.0000,9,  -999.00,9,   -999.0,9,-999.000,9,   -999.0,9,   -999,  -999.0,-999.000,-999.0000,-999.000,  -999.0,-999.000, 29.0948,-999.000
    49RY9407_2,   P09,    90,  1,     19,    215,2,19940813,1255,  0.7582, 142.0018, 3140,     10.9,  29.0979,  33.9700,2,  33.9725,2,   -999.0,9,    198.2,6,     1.34,2,     0.02,2,     0.00,2,     0.01,2, -999.000,9, -999.000,9, -999.000,9,-999.0000,9,  -999.00,9,   -999.0,9,-999.000,9,   -999.0,9,   -999,  -999.0,-999.000,-999.0000,-999.000,  -999.0,-999.000, 29.0953,-999.000
    49RY9407_2,   P09,    90,  1,     18,    221,2,19940813,1255,  0.7582, 142.0018, 3140,     26.7,  29.1157,  33.9794,2,  33.9764,2,   -999.0,9,    198.1,2,     1.34,2,     0.00,2,     0.00,2,     0.03,2, -999.000,9, -999.000,9, -999.000,9,-999.0000,9,  -999.00,9,   -999.0,9,-999.000,9,   -999.0,9,   -999,  -999.0,-999.000,-999.0000,-999.000,    29.0,-999.000, 29.1092,-999.000
    49RY9407_2,   P09,    90,  1,     17,    219,2,19940813,1255,  0.7582, 142.0018, 3140,     51.9,  28.7628,  34.1811,2,  34.1782,2,   -999.0,9,    197.9,2,     1.39,6,     0.00,6,     0.00,6,     0.05,6, -999.000,9, -999.000,9, -999.000,9,-999.0000,9,  -999.00,9,   -999.0,9,-999.000,9,   -999.0,9,   -999,  -999.0,-999.000,-999.0000,-999.000,  -999.0,-999.000, 28.7504,-999.000
    49RY9407_2,   P09,    90,  1,     16,    229,2,19940813,1255,  0.7582, 142.0018, 3140,     77.8,  28.2277,  34.9822,2,  34.9787,2,   -999.0,9,    177.1,2,     1.81,2,     1.62,2,     0.52,2,     0.33,2, -999.000,9, -999.000,9, -999.000,9,-999.0000,9,  -999.00,9,   -999.0,9,-999.000,9,   -999.0,9,   -999,  -999.0,  28.180,-999.0000,-999.000,    72.0,-999.000, 28.2092,-999.000
    49RY9407_2,   P09,    90,  1,     15,    217,2,19940813,1255,  0.7582, 142.0018, 3140,    103.3,  25.2219,  35.0220,2,  35.0197,2,   -999.0,9,    145.8,2,     3.27,2,     5.94,2,     0.17,2,     0.52,2, -999.000,9, -999.000,9, -999.000,9,-999.0000,9,  -999.00,9,   -999.0,9,-999.000,9,   -999.0,9,   -999,  -999.0,-999.000,-999.0000,-999.000,  -999.0,-999.000, 25.1994,-999.000
    49RY9407_2,   P09,    90,  1,     14,    204,2,19940813,1255,  0.7582, 142.0018, 3140,    126.8,  22.4247,  35.0694,2,  35.0552,2,   -999.0,9,    134.9,2,     5.29,2,     9.10,2,     0.02,2,     0.66,2, -999.000,9, -999.000,9, -999.000,9,-999.0000,9,  -999.00,9,   -999.0,9,-999.000,9,   -999.0,9,   -999,  -999.0,  23.340,-999.0000,-999.000,   125.0,-999.000, 22.3992,-999.000
    49RY9407_2,   P09,    90,  1,     13,    214,2,19940813,1255,  0.7582, 142.0018, 3140,    151.7,  21.1068,  35.1398,2,  35.1009,2,   -999.0,9,    137.3,2,     6.35,2,     9.87,2,     0.02,2,     0.72,2, -999.000,9, -999.000,9, -999.000,9,-999.0000,9,  -999.00,9,   -999.0,9,-999.000,9,   -999.0,9,   -999,  -999.0,-999.000,-999.0000,-999.000,  -999.0,-999.000, 21.0776,-999.000
    49RY9407_2,   P09,    90,  1,     12,    213,2,19940813,1255,  0.7582, 142.0018, 3140,    206.6,  16.1502,  35.0458,2,  35.0390,2,   -999.0,9,    137.2,6,    11.63,6,    14.86,6,     0.01,6,     1.05,6, -999.000,9, -999.000,9, -999.000,9,-999.0000,9,  -999.00,9,   -999.0,9,-999.000,9,   -999.0,9,   -999,  -999.0,-999.000,-999.0000,-999.000,   208.0,-999.000, 16.1172,-999.000
    49RY9407_2,   P09,    90,  2,      6,    209,2,19940813,1418,  0.7662, 142.0117, 3110,    300.8,  12.8128,  35.0262,2,  34.9959,2,   -999.0,9,    144.3,2,    11.84,2,    18.99,2,     0.00,2,     1.30,2, -999.000,9, -999.000,9, -999.000,9,-999.0000,9,  -999.00,9,   -999.0,9,-999.000,9,   -999.0,9,   -999,  -999.0,-999.000,-999.0000,-999.000,  -999.0,-999.000, 12.7717,-999.000
    49RY9407_2,   P09,    90,  2,      5,    218,2,19940813,1418,  0.7662, 142.0117, 3110,    402.1,   8.7654,  34.6428,2,  34.6420,2,   -999.0,9,    136.7,2,    26.63,2,    27.43,2,     0.00,2,     1.80,2, -999.000,9, -999.000,9, -999.000,9,-999.0000,9,  -999.00,9,   -999.0,9,-999.000,9,   -999.0,9,   -999,  -999.0,-999.000,-999.0000,-999.000,  -999.0,-999.000,  8.7221,-999.000
    49RY9407_2,   P09,    90,  2,      4,    206,2,19940813,1418,  0.7662, 142.0117, 3110,    503.6,   7.1129,  34.5485,2,  34.5554,2,   -999.0,9,    118.4,2,    41.48,2,    32.09,2,     0.00,2,     2.18,2, -999.000,9, -999.000,9, -999.000,9,-999.0000,9,  -999.00,9,   -999.0,9,-999.000,9,   -999.0,9,   -999,  -999.0,-999.000,-999.0000,-999.000,  -999.0,-999.000,  7.0646,-999.000
    49RY9407_2,   P09,    90,  2,      3,    205,2,19940813,1418,  0.7662, 142.0117, 3110,    603.6,   6.3666,  34.5426,2,  34.5419,2,   -999.0,9,    107.5,2,    48.59,2,    35.12,2,     0.00,2,     2.42,2, -999.000,9, -999.000,9, -999.000,9,-999.0000,9,  -999.00,9,   -999.0,9,-999.000,9,   -999.0,9,   -999,  -999.0,-999.000,-999.0000,-999.000,  -999.0,-999.000,  6.3117,-999.000
    49RY9407_2,   P09,    90,  2,      2,    216,2,19940813,1418,  0.7662, 142.0117, 3110,    704.0,   5.8566,  34.5339,2,  34.5342,2,   -999.0,9,    107.5,2,    55.65,2,    35.95,2,     0.00,2,     2.45,2, -999.000,9, -999.000,9, -999.000,9,-999.0000,9,  -999.00,9,   -999.0,9,-999.000,9,   -999.0,9,   -999,  -999.0,-999.000,-999.0000,-999.000,  -999.0,-999.000,  5.7948,-999.000
    49RY9407_2,   P09,    90,  2,      1,    201,2,19940813,1418,  0.7662, 142.0117, 3110,    805.0,   5.4175,  34.5342,2,  34.5334,2,   -999.0,9,    107.9,2,    63.22,2,    36.44,2,     0.00,2,     2.52,2, -999.000,9, -999.000,9, -999.000,9,-999.0000,9,  -999.00,9,   -999.0,9,-999.000,9,   -999.0,9,   -999,  -999.0,-999.000,-999.0000,-999.000,  -999.0,-999.000,  5.3489,-999.000
    49RY9407_2,   P09,    90,  2,     24,    222,2,19940813,1418,  0.7662, 142.0117, 3110,    907.0,   4.9077,  34.5416,2,  34.5411,2,   -999.0,9,    105.4,6,    74.46,6,    37.12,6,     0.00,6,     2.59,6, -999.000,9, -999.000,9, -999.000,9,-999.0000,9,  -999.00,9,   -999.0,9,-999.000,9,   -999.0,9,   -999,  -999.0,-999.000,-999.0000,-999.000,  -999.0,-999.000,  4.8333,-999.000
    49RY9407_2,   P09,    90,  2,     23,    228,2,19940813,1418,  0.7662, 142.0117, 3110,   1007.3,   4.5508,  34.5513,2,  34.5497,2,   -999.0,9,    100.8,2,    82.60,2,    38.07,2,     0.00,2,     2.66,2, -999.000,9, -999.000,9, -999.000,9,-999.0000,9,  -999.00,9,   -999.0,9,-999.000,9,   -999.0,9,   -999,  -999.0,-999.000,-999.0000,-999.000,  -999.0,-999.000,  4.4702,-999.000
    49RY9407_2,   P09,    90,  2,     22,    227,2,19940813,1418,  0.7662, 142.0117, 3110,   1260.6,   3.6243,  34.5764,2,  34.5767,2,   -999.0,9,    101.1,2,   103.27,2,    38.87,2,     0.00,2,     2.72,2, -999.000,9, -999.000,9, -999.000,9,-999.0000,9,  -999.00,9,   -999.0,9,-999.000,9,   -999.0,9,   -999,  -999.0,-999.000,-999.0000,-999.000,  -999.0,-999.000,  3.5299,-999.000
    49RY9407_2,   P09,    90,  2,     21,    226,3,19940813,1418,  0.7662, 142.0117, 3110,   1512.1,   3.0188,  34.6007,2,  34.5999,4,   -999.0,9,    125.2,4,    67.54,4,    29.64,4,     0.01,4,     2.06,4, -999.000,9, -999.000,9, -999.000,9,-999.0000,9,  -999.00,9,   -999.0,9,-999.000,9,   -999.0,9,   -999,  -999.0,-999.000,-999.0000,-999.000,  -999.0,-999.000,  2.9097,-999.000
    49RY9407_2,   P09,    90,  2,     19,    215,2,19940813,1418,  0.7662, 142.0117, 3110,   1765.7,   2.6065,  34.6174,2,  34.6180,2,   -999.0,9,    114.6,2,   124.53,2,    38.37,2,     0.00,2,     2.70,2, -999.000,9, -999.000,9, -999.000,9,-999.0000,9,  -999.00,9,   -999.0,9,-999.000,9,   -999.0,9,   -999,  -999.0,-999.000,-999.0000,-999.000,  -999.0,-999.000,  2.4811,-999.000
    49RY9407_2,   P09,    90,  2,     20,    203,2,19940813,1418,  0.7662, 142.0117, 3110,   1765.7,   2.6065,  34.6174,2,  34.6176,2,   -999.0,9,    114.7,2,   124.52,2,    38.42,2,     0.00,2,     2.70,2, -999.000,9, -999.000,9, -999.000,9,-999.0000,9,  -999.00,9,   -999.0,9,-999.000,9,   -999.0,9,   -999,  -999.0,-999.000,-999.0000,-999.000,  1760.0,-999.000,  2.4811,-999.000
    49RY9407_2,   P09,    90,  2,     18,    221,2,19940813,1418,  0.7662, 142.0117, 3110,   2021.1,   2.2626,  34.6341,2,  34.6341,2,   -999.0,9,    118.9,2,   133.88,2,    38.31,2,     0.00,2,     2.67,2, -999.000,9, -999.000,9, -999.000,9,-999.0000,9,  -999.00,9,   -999.0,9,-999.000,9,   -999.0,9,   -999,  -999.0,-999.000,-999.0000,-999.000,  2018.0,-999.000,  2.1204,-999.000
    49RY9407_2,   P09,    90,  2,     17,    219,2,19940813,1418,  0.7662, 142.0117, 3110,   2274.4,   2.0007,  34.6474,2,  34.6467,2,   -999.0,9,    124.9,2,   138.68,2,    37.97,2,     0.00,2,     2.63,2, -999.000,9, -999.000,9, -999.000,9,-999.0000,9,  -999.00,9,   -999.0,9,-999.000,9,   -999.0,9,   -999,  -999.0,-999.000,-999.0000,-999.000,  -999.0,-999.000,  1.8406,-999.000
    49RY9407_2,   P09,    90,  2,     16,    229,2,19940813,1418,  0.7662, 142.0117, 3110,   2529.0,   1.7694,  34.6599,2,  34.6595,2,   -999.0,9,    132.7,6,   141.55,2,    37.47,2,     0.00,2,     2.58,2, -999.000,9, -999.000,9, -999.000,9,-999.0000,9,  -999.00,9,   -999.0,9,-999.000,9,   -999.0,9,   -999,  -999.0,   1.760,-999.0000,-999.000,  2527.0,-999.000,  1.5908,-999.000
    49RY9407_2,   P09,    90,  2,     15,    217,2,19940813,1418,  0.7662, 142.0117, 3110,   2784.2,   1.6590,  34.6678,2,  34.6666,2,   -999.0,9,    139.5,2,   142.27,2,    37.07,2,     0.00,2,     2.57,2, -999.000,9, -999.000,9, -999.000,9,-999.0000,9,  -999.00,9,   -999.0,9,-999.000,9,   -999.0,9,   -999,  -999.0,-999.000,-999.0000,-999.000,  -999.0,-999.000,  1.4591,-999.000
    49RY9407_2,   P09,    90,  2,     14,    204,4,19940813,1418,  0.7662, 142.0117, 3110,   3040.2,   1.5743,  34.6729,2,  34.6729,2,   -999.0,9,    143.9,2,   142.98,2,    36.80,2,     0.00,2,     2.54,2, -999.000,9, -999.000,9, -999.000,9,-999.0000,9,  -999.00,9,   -999.0,9,-999.000,9,   -999.0,9,   -999,  -999.0,   1.572,-999.0000,-999.000,  3040.0,-999.000,  1.3520,-999.000
    49RY9407_2,   P09,    90,  2,     12,    213,2,19940813,1418,  0.7662, 142.0117, 3110,   3154.6,   1.5770,  34.6747,2,  34.6731,6,   -999.0,9,    145.1,2,   142.81,6,    36.77,6,     0.00,6,     2.53,6, -999.000,9, -999.000,9, -999.000,9,-999.0000,9,  -999.00,9,   -999.0,9,-999.000,9,   -999.0,9,   -999,  -999.0,-999.000,-999.0000,-999.000,  3151.0,-999.000,  1.3436,-999.000
    49RY9407_2,   P09,    90,  2,     13,    214,2,19940813,1418,  0.7662, 142.0117, 3110,   3155.3,   1.5777,  34.6739,2,  34.6727,2,   -999.0,9,    144.5,2,   142.82,6,    36.82,6,     0.00,6,     2.54,6, -999.000,9, -999.000,9, -999.000,9,-999.0000,9,  -999.00,9,   -999.0,9,-999.000,9,   -999.0,9,   -999,  -999.0,-999.000,-999.0000,-999.000,  3141.0,-999.000,  1.3442,-999.000