BOTTLE,20020306WHPSIOdm
EXPOCODE,SECT_ID,STNNBR,CASTNO,SAMPNO,BTLNBR,BTLNBR_FLAG_W,DATE,TIME,LATITUDE,LONGITUDE,DEPTH,CTDPRS,CTDTMP,CTDSAL,CTDSAL_FLAG_W,SALNTY,SALNTY_FLAG_W,CTDOXY,CTDOXY_FLAG_W,OXYGEN,OXYGEN_FLAG_W,SILCAT,SILCAT_FLAG_W,NITRAT,NITRAT_FLAG_W,NITRIT,NITRIT_FLAG_W,PHSPHT,PHSPHT_FLAG_W,CFC-11,CFC-11_FLAG_W,CFC-12,CFC-12_FLAG_W,TRITUM,TRITUM_FLAG_W,HELIUM,HELIUM_FLAG_W,DELHE3,DELHE3_FLAG_W,DELC14,DELC14_FLAG_W,NEON,NEON_FLAG_W,TCARBN,TCARBN_FLAG_W,CTDRAW,C14ERR,REVTMP,HELIER,DELHER,REVPRS,NEONER,THETA,TRITER
,,,,,,,,,,,,DBAR,ITS-90,PSS-78,,PSS-78,,UMOL/KG,,UMOL/KG,,UMOL/KG,,UMOL/KG,,UMOL/KG,,UMOL/KG,,PMOL/KG,,PMOL/KG,,TU,,NMOL/KG,,PERCNT,,/MILLE,,NMOL/KG,,UMOL/KG,,,/MILLE,ITS-90,NMOL/KG,PERCNT,DBAR,NMOL/KG,DEG C,TU
    49RY9407_2,   P09,    59,  1,      0,      0,2,19940803,1726, 10.9968, 137.0005, 4900,      0.3,  29.0189,  34.0181,2,-999.0000,9,    206.5,3,    197.7,6,     1.31,6,     0.01,6,     0.00,6,     0.01,6, -999.000,9, -999.000,9, -999.000,9,-999.0000,9,  -999.00,9,   -999.0,9,-999.000,9,   -999.0,9,   -999,  -999.0,-999.000,-999.0000,-999.000,  -999.0,-999.000, 29.0188,-999.000
    49RY9407_2,   P09,    59,  1,     22,    227,2,19940803,1726, 10.9968, 137.0005, 4900,     10.3,  29.0164,  34.0187,2,  34.0174,2,    199.4,3,    196.2,2,     1.27,2,     0.00,2,     0.00,2,     0.00,2, -999.000,9, -999.000,9, -999.000,9,-999.0000,9,  -999.00,9,   -999.0,9,-999.000,9,   -999.0,9,   -999,  -999.0,-999.000,-999.0000,-999.000,  -999.0,-999.000, 29.0139,-999.000
    49RY9407_2,   P09,    59,  1,     21,    226,2,19940803,1726, 10.9968, 137.0005, 4900,     24.8,  29.0144,  34.0157,2,  34.0164,2,    202.8,3,    196.5,2,     1.28,2,     0.02,2,     0.00,2,     0.01,2, -999.000,9, -999.000,9, -999.000,9,-999.0000,9,  -999.00,9,   -999.0,9,-999.000,9,   -999.0,9,   -999,  -999.0,-999.000,-999.0000,-999.000,  -999.0,-999.000, 29.0084,-999.000
    49RY9407_2,   P09,    59,  1,     20,    203,2,19940803,1726, 10.9968, 137.0005, 4900,     50.0,  29.0272,  34.0159,2,  34.0139,2,    206.7,3,    195.8,2,     1.30,2,     0.00,2,     0.00,2,     0.01,2, -999.000,9, -999.000,9, -999.000,9,-999.0000,9,  -999.00,9,   -999.0,9,-999.000,9,   -999.0,9,   -999,  -999.0,-999.000,-999.0000,-999.000,    53.0,-999.000, 29.0152,-999.000
    49RY9407_2,   P09,    59,  1,     19,    210,2,19940803,1726, 10.9968, 137.0005, 4900,     74.6,  29.0547,  34.0755,2,  34.0828,2,    201.6,2,    197.4,2,     1.28,2,     0.00,2,     0.00,2,     0.02,2, -999.000,9, -999.000,9, -999.000,9,-999.0000,9,  -999.00,9,   -999.0,9,-999.000,9,   -999.0,9,   -999,  -999.0,-999.000,-999.0000,-999.000,  -999.0,-999.000, 29.0367,-999.000
    49RY9407_2,   P09,    59,  1,     18,    221,2,19940803,1726, 10.9968, 137.0005, 4900,    101.4,  27.0079,  34.4655,2,  34.4644,2,    203.5,2,    199.2,2,     1.73,2,     0.03,2,     0.00,2,     0.09,2, -999.000,9, -999.000,9, -999.000,9,-999.0000,9,  -999.00,9,   -999.0,9,-999.000,9,   -999.0,9,   -999,  -999.0,-999.000,-999.0000,-999.000,   103.0,-999.000, 26.9847,-999.000
    49RY9407_2,   P09,    59,  1,     17,    219,2,19940803,1726, 10.9968, 137.0005, 4900,    125.1,  22.9378,  34.7443,2,  34.7166,2,    180.0,2,    175.6,2,     2.02,2,     1.84,2,     0.36,2,     0.32,2, -999.000,9, -999.000,9, -999.000,9,-999.0000,9,  -999.00,9,   -999.0,9,-999.000,9,   -999.0,9,   -999,  -999.0,-999.000,-999.0000,-999.000,  -999.0,-999.000, 22.9123,-999.000
    49RY9407_2,   P09,    59,  1,     16,    229,2,19940803,1726, 10.9968, 137.0005, 4900,    150.7,  18.6967,  34.7961,2,  34.8001,2,    163.7,2,    162.3,2,     5.34,6,     6.59,6,     0.01,6,     0.58,6, -999.000,9, -999.000,9, -999.000,9,-999.0000,9,  -999.00,9,   -999.0,9,-999.000,9,   -999.0,9,   -999,  -999.0,  18.692,-999.0000,-999.000,   148.0,-999.000, 18.6702,-999.000
    49RY9407_2,   P09,    59,  1,     15,    217,2,19940803,1726, 10.9968, 137.0005, 4900,    200.6,  14.4335,  34.5466,2,  34.5543,2,    152.4,2,    154.7,2,    11.01,2,    13.17,2,     0.01,2,     1.01,2, -999.000,9, -999.000,9, -999.000,9,-999.0000,9,  -999.00,9,   -999.0,9,-999.000,9,   -999.0,9,   -999,  -999.0,-999.000,-999.0000,-999.000,  -999.0,-999.000, 14.4040,-999.000
    49RY9407_2,   P09,    59,  1,     14,    204,2,19940803,1726, 10.9968, 137.0005, 4900,    301.3,   9.8745,  34.3952,2,  34.4029,2,    107.1,3,     97.1,2,    34.74,6,    27.27,6,     0.00,6,     2.02,6, -999.000,9, -999.000,9, -999.000,9,-999.0000,9,  -999.00,9,   -999.0,9,-999.000,9,   -999.0,9,   -999,  -999.0,   9.876,-999.0000,-999.000,   299.0,-999.000,  9.8399,-999.000
    49RY9407_2,   P09,    59,  1,     13,    214,2,19940803,1726, 10.9968, 137.0005, 4900,    402.4,   8.2688,  34.4360,2,  34.4388,2,     82.9,3,     75.0,2,    47.89,6,    32.69,6,     0.00,6,     2.39,6, -999.000,9, -999.000,9, -999.000,9,-999.0000,9,  -999.00,9,   -999.0,9,-999.000,9,   -999.0,9,   -999,  -999.0,-999.000,-999.0000,-999.000,   369.0,-999.000,  8.2271,-999.000
    49RY9407_2,   P09,    59,  1,     12,    213,2,19940803,1726, 10.9968, 137.0005, 4900,    504.0,   6.9603,  34.4247,2,  34.4273,2,     81.6,2,     77.7,2,    60.20,6,    34.85,6,     0.00,6,     2.55,6, -999.000,9, -999.000,9, -999.000,9,-999.0000,9,  -999.00,9,   -999.0,9,-999.000,9,   -999.0,9,   -999,  -999.0,-999.000,-999.0000,-999.000,   503.0,-999.000,  6.9126,-999.000
    49RY9407_2,   P09,    59,  2,      9,    223,2,19940803,1946, 11.0127, 137.0335, 4520,    602.7,   6.1965,  34.4567,2,  34.4561,2,     83.6,2,     81.0,2,    67.72,2,    36.26,2,     0.00,2,     2.63,2, -999.000,9, -999.000,9, -999.000,9,-999.0000,9,  -999.00,9,   -999.0,9,-999.000,9,   -999.0,9,   -999,  -999.0,-999.000,-999.0000,-999.000,  -999.0,-999.000,  6.1426,-999.000
    49RY9407_2,   P09,    59,  2,      8,    212,2,19940803,1946, 11.0127, 137.0335, 4520,    705.4,   5.6975,  34.4920,2,  34.4937,2,     88.2,2,     86.1,6,    72.34,6,    36.98,6,     0.00,6,     2.68,6, -999.000,9, -999.000,9, -999.000,9,-999.0000,9,  -999.00,9,   -999.0,9,-999.000,9,   -999.0,9,   -999,  -999.0,-999.000,-999.0000,-999.000,  -999.0,-999.000,  5.6365,-999.000
    49RY9407_2,   P09,    59,  2,      6,    209,2,19940803,1946, 11.0127, 137.0335, 4520,    805.1,   5.2858,  34.5095,2,  34.5183,2,     88.1,2,     86.7,6,    78.49,6,    37.55,6,     0.00,6,     2.72,6, -999.000,9, -999.000,9, -999.000,9,-999.0000,9,  -999.00,9,   -999.0,9,-999.000,9,   -999.0,9,   -999,  -999.0,-999.000,-999.0000,-999.000,  -999.0,-999.000,  5.2181,-999.000
    49RY9407_2,   P09,    59,  2,      7,    220,2,19940803,1946, 11.0127, 137.0335, 4520,    807.3,   5.2704,  34.5176,2,  34.5189,2,     88.4,2,     86.2,6,    78.98,6,    37.91,6,     0.00,6,     2.73,6, -999.000,9, -999.000,9, -999.000,9,-999.0000,9,  -999.00,9,   -999.0,9,-999.000,9,   -999.0,9,   -999,  -999.0,-999.000,-999.0000,-999.000,  -999.0,-999.000,  5.2025,-999.000
    49RY9407_2,   P09,    59,  2,      5,    218,2,19940803,1946, 11.0127, 137.0335, 4520,    906.4,   4.9388,  34.5300,2,  34.5295,2,     88.2,2,     86.1,6,    85.44,6,    38.25,6,     0.00,6,     2.76,6, -999.000,9, -999.000,9, -999.000,9,-999.0000,9,  -999.00,9,   -999.0,9,-999.000,9,   -999.0,9,   -999,  -999.0,-999.000,-999.0000,-999.000,  -999.0,-999.000,  4.8643,-999.000
    49RY9407_2,   P09,    59,  2,      4,    206,2,19940803,1946, 11.0127, 137.0335, 4520,   1008.7,   4.5549,  34.5383,2,  34.5383,2,     88.6,2,     87.5,2,    92.95,2,    38.56,2,     0.00,2,     2.79,2, -999.000,9, -999.000,9, -999.000,9,-999.0000,9,  -999.00,9,   -999.0,9,-999.000,9,   -999.0,9,   -999,  -999.0,-999.000,-999.0000,-999.000,  -999.0,-999.000,  4.4742,-999.000
    49RY9407_2,   P09,    59,  2,      3,    205,2,19940803,1946, 11.0127, 137.0335, 4520,   1261.6,   3.5292,  34.5672,2,  34.5665,2,     92.1,2,     92.5,2,   114.42,2,    38.96,2,     0.00,2,     2.82,2, -999.000,9, -999.000,9, -999.000,9,-999.0000,9,  -999.00,9,   -999.0,9,-999.000,9,   -999.0,9,   -999,  -999.0,-999.000,-999.0000,-999.000,  -999.0,-999.000,  3.4357,-999.000
    49RY9407_2,   P09,    59,  2,      2,    216,2,19940803,1946, 11.0127, 137.0335, 4520,   1513.7,   2.7904,  34.5964,2,  34.5964,2,     97.9,2,     99.6,2,   128.72,2,    39.10,2,     0.00,2,     2.82,2, -999.000,9, -999.000,9, -999.000,9,-999.0000,9,  -999.00,9,   -999.0,9,-999.000,9,   -999.0,9,   -999,  -999.0,-999.000,-999.0000,-999.000,  -999.0,-999.000,  2.6838,-999.000
    49RY9407_2,   P09,    59,  2,      1,    201,2,19940803,1946, 11.0127, 137.0335, 4520,   1767.4,   2.4080,  34.6199,2,  34.6190,2,    107.2,2,    108.0,2,   134.81,2,    38.67,2,     0.00,2,     2.79,2, -999.000,9, -999.000,9, -999.000,9,-999.0000,9,  -999.00,9,   -999.0,9,-999.000,9,   -999.0,9,   -999,  -999.0,-999.000,-999.0000,-999.000,  -999.0,-999.000,  2.2852,-999.000
    49RY9407_2,   P09,    59,  2,     24,    222,2,19940803,1946, 11.0127, 137.0335, 4520,   2022.4,   2.1128,  34.6365,2,  34.6355,2,    116.1,2,    117.2,2,   139.74,2,    38.40,2,     0.00,2,     2.77,2, -999.000,9, -999.000,9, -999.000,9,-999.0000,9,  -999.00,9,   -999.0,9,-999.000,9,   -999.0,9,   -999,  -999.0,-999.000,-999.0000,-999.000,  -999.0,-999.000,  1.9727,-999.000
    49RY9407_2,   P09,    59,  2,     23,    228,2,19940803,1946, 11.0127, 137.0335, 4520,   2275.8,   1.9100,  34.6474,2,  34.6469,2,    122.0,2,    123.7,2,   142.73,2,    38.01,2,     0.00,2,     2.73,2, -999.000,9, -999.000,9, -999.000,9,-999.0000,9,  -999.00,9,   -999.0,9,-999.000,9,   -999.0,9,   -999,  -999.0,-999.000,-999.0000,-999.000,  -999.0,-999.000,  1.7513,-999.000
    49RY9407_2,   P09,    59,  2,     22,    227,2,19940803,1946, 11.0127, 137.0335, 4520,   2531.0,   1.7537,  34.6573,2,  34.6573,2,    129.1,2,    130.2,2,   144.67,2,    37.72,2,     0.00,2,     2.69,2, -999.000,9, -999.000,9, -999.000,9,-999.0000,9,  -999.00,9,   -999.0,9,-999.000,9,   -999.0,9,   -999,  -999.0,-999.000,-999.0000,-999.000,  -999.0,-999.000,  1.5752,-999.000
    49RY9407_2,   P09,    59,  2,     20,    203,2,19940803,1946, 11.0127, 137.0335, 4520,   2786.6,   1.6634,  34.6647,2,  34.6648,2,    136.8,2,    135.6,2,   144.62,2,    37.37,2,     0.00,2,     2.66,2, -999.000,9, -999.000,9, -999.000,9,-999.0000,9,  -999.00,9,   -999.0,9,-999.000,9,   -999.0,9,   -999,  -999.0,-999.000,-999.0000,-999.000,  2782.0,-999.000,  1.4633,-999.000
    49RY9407_2,   P09,    59,  2,     21,    226,2,19940803,1946, 11.0127, 137.0335, 4520,   2786.6,   1.6634,  34.6647,2,  34.6650,2,    136.8,2,    136.5,2,   144.55,6,    37.37,6,     0.00,6,     2.66,6, -999.000,9, -999.000,9, -999.000,9,-999.0000,9,  -999.00,9,   -999.0,9,-999.000,9,   -999.0,9,   -999,  -999.0,-999.000,-999.0000,-999.000,  -999.0,-999.000,  1.4633,-999.000
    49RY9407_2,   P09,    59,  2,     19,    210,2,19940803,1946, 11.0127, 137.0335, 4520,   3040.8,   1.6043,  34.6708,2,  34.6697,2,    142.7,2,    141.2,2,   144.01,2,    37.13,2,     0.00,2,     2.63,2, -999.000,9, -999.000,9, -999.000,9,-999.0000,9,  -999.00,9,   -999.0,9,-999.000,9,   -999.0,9,   -999,  -999.0,-999.000,-999.0000,-999.000,  -999.0,-999.000,  1.3814,-999.000
    49RY9407_2,   P09,    59,  2,     18,    221,2,19940803,1946, 11.0127, 137.0335, 4520,   3296.3,   1.5601,  34.6746,2,  34.6745,2,    147.3,2,    147.6,2,   142.55,2,    36.58,2,     0.00,2,     2.59,2, -999.000,9, -999.000,9, -999.000,9,-999.0000,9,  -999.00,9,   -999.0,9,-999.000,9,   -999.0,9,   -999,  -999.0,-999.000,-999.0000,-999.000,  3296.0,-999.000,  1.3131,-999.000
    49RY9407_2,   P09,    59,  2,     17,    219,2,19940803,1946, 11.0127, 137.0335, 4520,   3552.1,   1.5503,  34.6761,2,  34.6768,2,    151.1,2,    150.3,2,   142.21,2,    36.50,2,     0.00,2,     2.57,2, -999.000,9, -999.000,9, -999.000,9,-999.0000,9,  -999.00,9,   -999.0,9,-999.000,9,   -999.0,9,   -999,  -999.0,-999.000,-999.0000,-999.000,  -999.0,-999.000,  1.2776,-999.000
    49RY9407_2,   P09,    59,  2,     16,    229,2,19940803,1946, 11.0127, 137.0335, 4520,   3806.7,   1.5320,  34.6797,2,  34.6790,2,    155.1,2,    153.7,2,   141.27,2,    36.32,2,     0.00,2,     2.56,2, -999.000,9, -999.000,9, -999.000,9,-999.0000,9,  -999.00,9,   -999.0,9,-999.000,9,   -999.0,9,   -999,  -999.0,   1.526,-999.0000,-999.000,  3808.0,-999.000,  1.2330,-999.000
    49RY9407_2,   P09,    59,  2,     15,    217,2,19940803,1946, 11.0127, 137.0335, 4520,   4063.9,   1.5244,  34.6828,2,  34.6825,2,    157.2,2,    156.6,2,   140.34,2,    36.07,2,     0.00,2,     2.53,2, -999.000,9, -999.000,9, -999.000,9,-999.0000,9,  -999.00,9,   -999.0,9,-999.000,9,   -999.0,9,   -999,  -999.0,-999.000,-999.0000,-999.000,  -999.0,-999.000,  1.1979,-999.000
    49RY9407_2,   P09,    59,  2,     14,    204,2,19940803,1946, 11.0127, 137.0335, 4520,   4320.1,   1.5227,  34.6866,2,  34.6849,2,    160.6,2,    159.5,6,   139.36,6,    35.86,6,     0.00,6,     2.53,6, -999.000,9, -999.000,9, -999.000,9,-999.0000,9,  -999.00,9,   -999.0,9,-999.000,9,   -999.0,9,   -999,  -999.0,   1.518,-999.0000,-999.000,  4317.0,-999.000,  1.1676,-999.000
    49RY9407_2,   P09,    59,  2,     13,    214,2,19940803,1946, 11.0127, 137.0335, 4520,   4576.9,   1.5283,  34.6871,2,  34.6865,2,    162.4,2,    161.5,6,   138.42,6,    35.74,6,     0.00,6,     2.51,6, -999.000,9, -999.000,9, -999.000,9,-999.0000,9,  -999.00,9,   -999.0,9,-999.000,9,   -999.0,9,   -999,  -999.0,-999.000,-999.0000,-999.000,  4577.0,-999.000,  1.1435,-999.000
    49RY9407_2,   P09,    59,  2,     12,    213,4,19940803,1946, 11.0127, 137.0335, 4520,   4805.1,   1.5448,  34.6886,2,  34.6867,2,    162.0,2,    162.6,6,   138.20,6,    35.72,6,     0.00,6,     2.50,6, -999.000,9, -999.000,9, -999.000,9,-999.0000,9,  -999.00,9,   -999.0,9,-999.000,9,   -999.0,9,   -999,  -999.0,-999.000,-999.0000,-999.000,  4796.0,-999.000,  1.1326,-999.000
    49RY9407_2,   P09,    60,  1,      0,      0,2,19940803,1034, 10.5100, 137.0003, 5015,      1.0,  28.8445,  33.7312,2,-999.0000,9,    166.4,4,    196.3,6,     1.28,2,     0.00,2,     0.00,2,     0.02,2, -999.000,9, -999.000,9, -999.000,9,-999.0000,9,  -999.00,9,   -999.0,9,-999.000,9,   -999.0,9,   -999,  -999.0,-999.000,-999.0000,-999.000,  -999.0,-999.000, 28.8442,-999.000
    49RY9407_2,   P09,    60,  1,     22,    227,2,19940803,1034, 10.5100, 137.0003, 5015,      8.9,  28.8282,  33.7364,2,  33.7333,2,    190.8,3,    195.8,2,     1.28,2,     0.02,2,     0.00,2,     0.01,2, -999.000,9, -999.000,9, -999.000,9,-999.0000,9,  -999.00,9,   -999.0,9,-999.000,9,   -999.0,9,   -999,  -999.0,-999.000,-999.0000,-999.000,  -999.0,-999.000, 28.8260,-999.000
    49RY9407_2,   P09,    60,  1,     21,    226,2,19940803,1034, 10.5100, 137.0003, 5015,     24.8,  28.8773,  33.7563,2,  33.7520,2,    193.9,2,    196.2,2,     1.24,2,     0.00,2,     0.00,2,     0.02,2, -999.000,9, -999.000,9, -999.000,9,-999.0000,9,  -999.00,9,   -999.0,9,-999.000,9,   -999.0,9,   -999,  -999.0,-999.000,-999.0000,-999.000,  -999.0,-999.000, 28.8714,-999.000
    49RY9407_2,   P09,    60,  1,     20,    203,2,19940803,1034, 10.5100, 137.0003, 5015,     48.5,  28.9527,  33.9051,2,  33.9023,2,    195.0,2,    196.0,2,     1.37,6,     0.02,6,     0.00,6,     0.02,6, -999.000,9, -999.000,9, -999.000,9,-999.0000,9,  -999.00,9,   -999.0,9,-999.000,9,   -999.0,9,   -999,  -999.0,-999.000,-999.0000,-999.000,    51.0,-999.000, 28.9410,-999.000
    49RY9407_2,   P09,    60,  1,     19,    210,2,19940803,1034, 10.5100, 137.0003, 5015,     75.1,  28.8932,  34.0012,2,  33.9870,2,    198.2,2,    196.6,2,     1.37,2,     0.03,2,     0.00,2,     0.03,2, -999.000,9, -999.000,9, -999.000,9,-999.0000,9,  -999.00,9,   -999.0,9,-999.000,9,   -999.0,9,   -999,  -999.0,-999.000,-999.0000,-999.000,  -999.0,-999.000, 28.8752,-999.000
    49RY9407_2,   P09,    60,  1,     18,    221,2,19940803,1034, 10.5100, 137.0003, 5015,     99.7,  26.9110,  34.3963,2,  34.4048,2,    195.4,2,    194.8,2,     1.92,2,     0.00,2,     0.00,2,     0.11,2, -999.000,9, -999.000,9, -999.000,9,-999.0000,9,  -999.00,9,   -999.0,9,-999.000,9,   -999.0,9,   -999,  -999.0,-999.000,-999.0000,-999.000,   103.0,-999.000, 26.8882,-999.000
    49RY9407_2,   P09,    60,  1,     17,    219,2,19940803,1034, 10.5100, 137.0003, 5015,    124.5,  23.0161,  34.8105,2,  34.7705,2,    182.2,2,    179.8,2,     3.09,2,     1.31,2,     0.30,2,     0.30,2, -999.000,9, -999.000,9, -999.000,9,-999.0000,9,  -999.00,9,   -999.0,9,-999.000,9,   -999.0,9,   -999,  -999.0,-999.000,-999.0000,-999.000,  -999.0,-999.000, 22.9907,-999.000
    49RY9407_2,   P09,    60,  1,     16,    229,2,19940803,1034, 10.5100, 137.0003, 5015,    149.3,  20.5533,  34.9191,2,  34.9129,2,    168.6,2,    171.8,2,     3.71,2,     3.60,2,     0.02,2,     0.42,2, -999.000,9, -999.000,9, -999.000,9,-999.0000,9,  -999.00,9,   -999.0,9,-999.000,9,   -999.0,9,   -999,  -999.0,  20.650,-999.0000,-999.000,   143.0,-999.000, 20.5252,-999.000
    49RY9407_2,   P09,    60,  1,     15,    217,2,19940803,1034, 10.5100, 137.0003, 5015,    201.2,  13.5903,  34.5630,2,  34.5492,2,    135.7,2,    133.3,6,    17.43,2,    17.27,2,     0.01,2,     1.29,2, -999.000,9, -999.000,9, -999.000,9,-999.0000,9,  -999.00,9,   -999.0,9,-999.000,9,   -999.0,9,   -999,  -999.0,-999.000,-999.0000,-999.000,  -999.0,-999.000, 13.5619,-999.000
    49RY9407_2,   P09,    60,  1,     14,    204,2,19940803,1034, 10.5100, 137.0003, 5015,    300.1,   9.4493,  34.4441,2,  34.4416,2,     91.2,2,     87.9,2,    38.09,6,    29.43,6,     0.00,6,     2.14,6, -999.000,9, -999.000,9, -999.000,9,-999.0000,9,  -999.00,9,   -999.0,9,-999.000,9,   -999.0,9,   -999,  -999.0,   9.452,-999.0000,-999.000,   298.0,-999.000,  9.4157,-999.000
    49RY9407_2,   P09,    60,  1,     13,    214,2,19940803,1034, 10.5100, 137.0003, 5015,    403.0,   8.0610,  34.5160,2,  34.5171,2,     76.0,2,     73.6,2,    45.91,6,    33.68,6,     0.00,6,     2.43,6, -999.000,9, -999.000,9, -999.000,9,-999.0000,9,  -999.00,9,   -999.0,9,-999.000,9,   -999.0,9,   -999,  -999.0,-999.000,-999.0000,-999.000,  -999.0,-999.000,  8.0198,-999.000
    49RY9407_2,   P09,    60,  1,     12,    213,2,19940803,1034, 10.5100, 137.0003, 5015,    504.3,   7.2495,  34.5171,2,  34.5140,2,     89.7,2,     87.7,2,    50.40,6,    34.18,6,     0.00,6,     2.46,6, -999.000,9, -999.000,9, -999.000,9,-999.0000,9,  -999.00,9,   -999.0,9,-999.000,9,   -999.0,9,   -999,  -999.0,-999.000,-999.0000,-999.000,   502.0,-999.000,  7.2007,-999.000