BOTTLE,20020306WHPSIOdm
EXPOCODE,SECT_ID,STNNBR,CASTNO,SAMPNO,BTLNBR,BTLNBR_FLAG_W,DATE,TIME,LATITUDE,LONGITUDE,DEPTH,CTDPRS,CTDTMP,CTDSAL,CTDSAL_FLAG_W,SALNTY,SALNTY_FLAG_W,CTDOXY,CTDOXY_FLAG_W,OXYGEN,OXYGEN_FLAG_W,SILCAT,SILCAT_FLAG_W,NITRAT,NITRAT_FLAG_W,NITRIT,NITRIT_FLAG_W,PHSPHT,PHSPHT_FLAG_W,CFC-11,CFC-11_FLAG_W,CFC-12,CFC-12_FLAG_W,TRITUM,TRITUM_FLAG_W,HELIUM,HELIUM_FLAG_W,DELHE3,DELHE3_FLAG_W,DELC14,DELC14_FLAG_W,NEON,NEON_FLAG_W,TCARBN,TCARBN_FLAG_W,CTDRAW,C14ERR,REVTMP,HELIER,DELHER,REVPRS,NEONER,THETA,TRITER
,,,,,,,,,,,,DBAR,ITS-90,PSS-78,,PSS-78,,UMOL/KG,,UMOL/KG,,UMOL/KG,,UMOL/KG,,UMOL/KG,,UMOL/KG,,PMOL/KG,,PMOL/KG,,TU,,NMOL/KG,,PERCNT,,/MILLE,,NMOL/KG,,UMOL/KG,,,/MILLE,ITS-90,NMOL/KG,PERCNT,DBAR,NMOL/KG,DEG C,TU
    49RY9407_1,   P09,    51,  2,     11,    225,2,19940726,0257, 15.0240, 136.9878, 5565,    603.5,   6.7941,  34.4355,2,  34.4375,2,     67.6,2,     64.4,2,    62.65,2,    36.45,2,     0.00,2,     2.64,2, -999.000,9, -999.000,9, -999.000,9,-999.0000,9,  -999.00,9,   -125.6,3,-999.000,9,   2265.0,2,   -999,     6.3,-999.000,-999.0000,-999.000,  -999.0,-999.000,  6.7373,-999.000
    49RY9407_1,   P09,    51,  2,     10,    224,2,19940726,0257, 15.0240, 136.9878, 5565,    704.0,   6.0645,  34.4566,2,  34.4564,2,     72.5,2,     75.4,6,    71.68,2,    37.12,2,     0.00,2,     2.67,2, -999.000,9, -999.000,9, -999.000,9,-999.0000,9,  -999.00,9,   -149.2,3,-999.000,9,   2276.1,2,   -999,     5.9,-999.000,-999.0000,-999.000,  -999.0,-999.000,  6.0017,-999.000
    49RY9407_1,   P09,    51,  2,      9,    223,2,19940726,0257, 15.0240, 136.9878, 5565,    804.6,   5.3717,  34.4844,2,  34.4850,2,     81.8,2,     80.0,2,    81.38,2,    37.91,2,     0.00,2,     2.72,2, -999.000,9, -999.000,9, -999.000,9,-999.0000,9,  -999.00,9,   -156.6,3,-999.000,9,   2286.4,2,   -999,     7.3,-999.000,-999.0000,-999.000,  -999.0,-999.000,  5.3035,-999.000
    49RY9407_1,   P09,    51,  2,      8,    212,2,19940726,0257, 15.0240, 136.9878, 5565,    907.5,   4.8438,  34.5144,2,  34.5117,2,     87.1,2,     82.1,2,    90.04,6,    38.60,6,     0.00,6,     2.76,6, -999.000,9, -999.000,9, -999.000,9,-999.0000,9,  -999.00,9,   -177.4,3,-999.000,9,   2294.5,3,   -999,     7.0,-999.000,-999.0000,-999.000,  -999.0,-999.000,  4.7699,-999.000
    49RY9407_1,   P09,    51,  2,      7,    220,2,19940726,0257, 15.0240, 136.9878, 5565,   1006.6,   4.5302,  34.5252,2,  34.5257,2,     90.0,3,     84.4,2,    95.83,2,    38.69,2,     0.00,2,     2.77,2, -999.000,9, -999.000,9, -999.000,9,-999.0000,9,  -999.00,9,   -184.8,3,-999.000,9,   2302.3,2,   -999,     7.7,-999.000,-999.0000,-999.000,  -999.0,-999.000,  4.4499,-999.000
    49RY9407_1,   P09,    51,  2,      6,    209,2,19940726,0257, 15.0240, 136.9878, 5565,   1260.4,   3.6300,  34.5575,2,  34.5570,2,     95.1,2,     91.2,2,   114.05,2,    39.13,2,     0.00,2,     2.81,2, -999.000,9, -999.000,9, -999.000,9,-999.0000,9,  -999.00,9,   -205.5,3,-999.000,9,   2319.6,2,   -999,     6.6,-999.000,-999.0000,-999.000,  -999.0,-999.000,  3.5356,-999.000
    49RY9407_1,   P09,    51,  2,      5,    218,2,19940726,0257, 15.0240, 136.9878, 5565,   1512.7,   2.9716,  34.5798,2,  34.5811,2,     99.1,2,     97.6,2,   127.54,2,    39.13,2,     0.00,2,     2.80,2, -999.000,9, -999.000,9, -999.000,9,-999.0000,9,  -999.00,9,   -209.4,3,-999.000,9,   2328.9,6,   -999,     5.9,-999.000,-999.0000,-999.000,  -999.0,-999.000,  2.8630,-999.000
    49RY9407_1,   P09,    51,  2,      4,    206,2,19940726,0257, 15.0240, 136.9878, 5565,   1765.6,   2.4878,  34.6040,2,  34.6053,2,    107.2,2,    106.2,2,   136.12,2,    39.09,2,     0.00,2,     2.78,2, -999.000,9, -999.000,9, -999.000,9,-999.0000,9,  -999.00,9,   -222.8,3,-999.000,9,   2335.0,3,   -999,     5.9,-999.000,-999.0000,-999.000,  -999.0,-999.000,  2.3641,-999.000
    49RY9407_1,   P09,    51,  2,      3,    205,2,19940726,0257, 15.0240, 136.9878, 5565,   2020.6,   2.1589,  34.6238,2,  34.6242,2,    112.7,2,    114.1,2,   141.23,2,    38.85,2,     0.00,2,     2.75,2, -999.000,9, -999.000,9, -999.000,9,-999.0000,9,  -999.00,9,   -247.0,3,-999.000,9,   2341.4,2,   -999,     8.4,-999.000,-999.0000,-999.000,  -999.0,-999.000,  2.0183,-999.000
    49RY9407_1,   P09,    51,  2,      2,    216,2,19940726,0257, 15.0240, 136.9878, 5565,   2275.4,   1.9522,  34.6385,2,  34.6374,2,    120.2,2,    121.9,2,   143.60,6,    38.53,6,     0.00,6,     2.72,6, -999.000,9, -999.000,9, -999.000,9,-999.0000,9,  -999.00,9,   -234.9,3,-999.000,9,   2341.3,2,   -999,     7.0,-999.000,-999.0000,-999.000,  -999.0,-999.000,  1.7929,-999.000
    49RY9407_1,   P09,    51,  2,      1,    201,2,19940726,0257, 15.0240, 136.9878, 5565,   2528.5,   1.8190,  34.6497,2,  34.6516,2,    127.3,2,    127.4,2,   145.41,2,    38.20,2,     0.00,2,     2.68,2, -999.000,9, -999.000,9, -999.000,9,-999.0000,9,  -999.00,9,   -234.8,3,-999.000,9,   2337.0,2,   -999,     6.8,-999.000,-999.0000,-999.000,  -999.0,-999.000,  1.6395,-999.000
    49RY9407_1,   P09,    51,  2,     24,    230,2,19940726,0257, 15.0240, 136.9878, 5565,   2783.6,   1.7334,  34.6574,2,-999.0000,5,    132.0,2,    134.4,2,   146.19,2,    37.80,2,     0.00,2,     2.66,2, -999.000,9, -999.000,9, -999.000,9,-999.0000,9,  -999.00,9,   -234.9,3,-999.000,9,   2337.2,2,   -999,     7.3,-999.000,-999.0000,-999.000,  -999.0,-999.000,  1.5321,-999.000
    49RY9407_1,   P09,    51,  2,     23,    228,2,19940726,0257, 15.0240, 136.9878, 5565,   3040.5,   1.6668,  34.6644,2,  34.6666,2,    138.4,2,    137.0,2,   146.24,2,    37.47,2,     0.00,2,     2.63,2, -999.000,9, -999.000,9, -999.000,9,-999.0000,9,  -999.00,9,   -225.6,3,-999.000,9,   2331.5,2,   -999,     6.3,-999.000,-999.0000,-999.000,  -999.0,-999.000,  1.4425,-999.000
    49RY9407_1,   P09,    51,  2,     22,    227,2,19940726,0257, 15.0240, 136.9878, 5565,   3293.7,   1.6265,  34.6701,2,  34.6701,2,    141.0,2,    143.1,2,   144.20,2,    37.22,2,     0.00,2,     2.61,2, -999.000,9, -999.000,9, -999.000,9,-999.0000,9,  -999.00,9,   -219.8,3,-999.000,9,   2328.6,2,   -999,     6.2,-999.000,-999.0000,-999.000,  -999.0,-999.000,  1.3781,-999.000
    49RY9407_1,   P09,    51,  2,     21,    226,2,19940726,0257, 15.0240, 136.9878, 5565,   3552.3,   1.5980,  34.6736,2,  34.6750,2,    147.2,2,    145.2,2,   144.12,2,    36.90,2,     0.00,2,     2.58,2, -999.000,9, -999.000,9, -999.000,9,-999.0000,9,  -999.00,9,   -222.7,3,-999.000,9,   2331.8,3,   -999,     6.0,-999.000,-999.0000,-999.000,  -999.0,-999.000,  1.3241,-999.000
    49RY9407_1,   P09,    51,  2,     19,    210,2,19940726,0257, 15.0240, 136.9878, 5565,   3807.7,   1.5695,  34.6775,2,  34.6772,2,    148.5,2,    150.9,2,   141.58,3,    36.67,2,     0.00,2,     2.56,2, -999.000,9, -999.000,9, -999.000,9,-999.0000,9,  -999.00,9,   -215.8,3,-999.000,9,   2324.9,2,   -999,     6.0,-999.000,-999.0000,-999.000,  -999.0,-999.000,  1.2695,-999.000
    49RY9407_1,   P09,    51,  2,     20,    203,2,19940726,0257, 15.0240, 136.9878, 5565,   3807.7,   1.5695,  34.6775,2,  34.6784,2,    148.5,2,    149.6,2,   143.30,2,    36.70,2,     0.00,2,     2.56,2, -999.000,9, -999.000,9, -999.000,9,-999.0000,9,  -999.00,9,   -219.2,3,-999.000,9,   2323.2,2,   -999,     5.9,-999.000,-999.0000,-999.000,  3806.0,-999.000,  1.2695,-999.000
    49RY9407_1,   P09,    51,  2,     18,    221,2,19940726,0257, 15.0240, 136.9878, 5565,   4061.5,   1.5428,  34.6802,2,  34.6817,2,    153.5,2,   -999.0,5,   142.29,2,    36.39,2,     0.00,2,     2.54,2, -999.000,9, -999.000,9, -999.000,9,-999.0000,9,  -999.00,9,   -197.7,3,-999.000,9,   2323.8,2,   -999,     6.3,   1.539,-999.0000,-999.000,  4062.0,-999.000,  1.2160,-999.000
    49RY9407_1,   P09,    51,  2,     17,    219,2,19940726,0257, 15.0240, 136.9878, 5565,   4319.9,   1.5224,  34.6844,2,-999.0000,5,    157.7,2,    160.1,2,   139.85,3,    35.95,3,     0.00,3,     2.61,4, -999.000,9, -999.000,9, -999.000,9,-999.0000,9,  -999.00,9,   -220.1,3,-999.000,9,   2315.0,2,   -999,     6.5,-999.000,-999.0000,-999.000,  -999.0,-999.000,  1.1673,-999.000
    49RY9407_1,   P09,    51,  2,     16,    229,2,19940726,0257, 15.0240, 136.9878, 5565,   4575.6,   1.5243,  34.6859,2,  34.6880,2,    163.6,2,    162.1,2,   140.11,2,    36.02,2,     0.00,2,     2.50,2, -999.000,9, -999.000,9, -999.000,9,-999.0000,9,  -999.00,9,   -205.5,3,-999.000,9,   2312.1,6,   -999,     7.4,   1.521,-999.0000,-999.000,  4577.0,-999.000,  1.1399,-999.000
    49RY9407_1,   P09,    51,  2,     15,    217,2,19940726,0257, 15.0240, 136.9878, 5565,   4833.8,   1.5456,  34.6868,2,  34.6878,2,    162.5,2,    163.7,2,   139.47,2,    35.93,2,     0.00,2,     2.49,2, -999.000,9, -999.000,9, -999.000,9,-999.0000,9,  -999.00,9,   -217.4,3,-999.000,9,   2313.3,2,   -999,     7.8,-999.000,-999.0000,-999.000,  -999.0,-999.000,  1.1299,-999.000
    49RY9407_1,   P09,    51,  2,     14,    204,2,19940726,0257, 15.0240, 136.9878, 5565,   5091.3,   1.5763,  34.6874,2,  34.6876,2,    166.0,2,    164.8,6,   139.38,6,    35.87,6,     0.00,6,     2.48,6, -999.000,9, -999.000,9, -999.000,9,-999.0000,9,  -999.00,9,   -221.7,3,-999.000,9,   2314.5,2,   -999,     7.0,   1.573,-999.0000,-999.000,  5090.0,-999.000,  1.1283,-999.000
    49RY9407_1,   P09,    51,  2,     13,    214,2,19940726,0257, 15.0240, 136.9878, 5565,   5348.9,   1.6090,  34.6878,2,  34.6880,2,    163.1,2,    163.8,6,   139.29,6,    35.79,6,     0.00,6,     2.49,6, -999.000,9, -999.000,9, -999.000,9,-999.0000,9,  -999.00,9,   -999.0,1,-999.000,9,   2311.6,2,   -999,  -999.0,-999.000,-999.0000,-999.000,  5332.0,-999.000,  1.1277,-999.000
    49RY9407_1,   P09,    51,  2,     12,    213,4,19940726,0257, 15.0240, 136.9878, 5565,   5696.6,   1.6552,  34.6869,2,  34.6863,3,    163.2,2,    164.2,6,   139.14,6,    35.76,6,     0.00,6,     2.49,6, -999.000,9, -999.000,9, -999.000,9,-999.0000,9,  -999.00,9,   -999.0,9,-999.000,9,   -999.0,9,   -999,  -999.0,-999.000,-999.0000,-999.000,  5689.0,-999.000,  1.1276,-999.000
    49RY9407_1,   P09,    52,  1,      0,      0,2,19940726,0757, 14.5118, 136.9947, 4480,      0.1,  29.9439,  34.2540,2,-999.0000,9,    157.5,4,    197.8,6,     1.16,2,     0.02,2,     0.00,2,     0.00,2, -999.000,9, -999.000,9, -999.000,9,-999.0000,9,  -999.00,9,   -999.0,9,-999.000,9,   -999.0,9,   -999,  -999.0,-999.000,-999.0000,-999.000,  -999.0,-999.000, 29.9439,-999.000
    49RY9407_1,   P09,    52,  1,     22,    227,2,19940726,0757, 14.5118, 136.9947, 4480,     10.0,  29.9461,  34.2561,2,  34.2539,6,    184.7,4,    196.5,2,     1.12,2,     0.01,2,     0.00,2,     0.00,2, -999.000,9, -999.000,9, -999.000,9,-999.0000,9,  -999.00,9,   -999.0,9,-999.000,9,   -999.0,9,   -999,  -999.0,-999.000,-999.0000,-999.000,  -999.0,-999.000, 29.9436,-999.000
    49RY9407_1,   P09,    52,  1,     21,    226,2,19940726,0757, 14.5118, 136.9947, 4480,     25.4,  29.9771,  34.2761,2,  34.2758,2,    190.7,4,    197.9,2,     1.11,6,     0.02,6,     0.00,6,     0.00,6, -999.000,9, -999.000,9, -999.000,9,-999.0000,9,  -999.00,9,   -999.0,9,-999.000,9,   -999.0,9,   -999,  -999.0,-999.000,-999.0000,-999.000,  -999.0,-999.000, 29.9709,-999.000
    49RY9407_1,   P09,    52,  1,     20,    203,2,19940726,0757, 14.5118, 136.9947, 4480,     50.3,  28.9619,  34.4158,2,  34.4848,3,    199.4,3,    209.4,2,     0.97,2,     0.03,2,     0.00,2,     0.01,2, -999.000,9, -999.000,9, -999.000,9,-999.0000,9,  -999.00,9,   -999.0,9,-999.000,9,   -999.0,9,   -999,  -999.0,-999.000,-999.0000,-999.000,    56.0,-999.000, 28.9498,-999.000
    49RY9407_1,   P09,    52,  1,     19,    210,2,19940726,0757, 14.5118, 136.9947, 4480,     75.6,  27.6226,  34.6848,2,  34.6610,2,    205.3,2,    208.6,2,     1.11,2,     0.00,2,     0.00,2,     0.05,2, -999.000,9, -999.000,9, -999.000,9,-999.0000,9,  -999.00,9,   -999.0,9,-999.000,9,   -999.0,9,   -999,  -999.0,-999.000,-999.0000,-999.000,  -999.0,-999.000, 27.6050,-999.000
    49RY9407_1,   P09,    52,  1,     18,    221,2,19940726,0757, 14.5118, 136.9947, 4480,    102.5,  26.4736,  34.8779,2,  34.8777,2,    200.5,2,    203.7,2,     1.09,2,     0.01,2,     0.00,2,     0.04,2, -999.000,9, -999.000,9, -999.000,9,-999.0000,9,  -999.00,9,   -999.0,9,-999.000,9,   -999.0,9,   -999,  -999.0,  26.580,-999.0000,-999.000,   103.0,-999.000, 26.4504,-999.000
    49RY9407_1,   P09,    52,  1,     17,    219,2,19940726,0757, 14.5118, 136.9947, 4480,    125.0,  24.8453,  34.9955,2,  34.9955,2,    193.7,2,    194.8,2,     1.20,2,     0.12,2,     0.21,2,     0.10,2, -999.000,9, -999.000,9, -999.000,9,-999.0000,9,  -999.00,9,   -999.0,9,-999.000,9,   -999.0,9,   -999,  -999.0,-999.000,-999.0000,-999.000,  -999.0,-999.000, 24.8183,-999.000
    49RY9407_1,   P09,    52,  1,     16,    229,2,19940726,0757, 14.5118, 136.9947, 4480,    150.4,  22.9947,  35.0605,2,  35.0466,2,    184.8,2,    185.3,2,     1.65,2,     0.97,2,     0.02,2,     0.19,2, -999.000,9, -999.000,9, -999.000,9,-999.0000,9,  -999.00,9,   -999.0,9,-999.000,9,   -999.0,9,   -999,  -999.0,  24.420,-999.0000,-999.000,   136.0,-999.000, 22.9640,-999.000
    49RY9407_1,   P09,    52,  1,     15,    217,2,19940726,0757, 14.5118, 136.9947, 4480,    200.2,  19.1899,  34.9366,2,  34.9443,6,    177.8,3,    184.2,2,     3.37,2,     4.00,2,     0.01,2,     0.33,2, -999.000,9, -999.000,9, -999.000,9,-999.0000,9,  -999.00,9,   -999.0,9,-999.000,9,   -999.0,9,   -999,  -999.0,-999.000,-999.0000,-999.000,  -999.0,-999.000, 19.1539,-999.000
    49RY9407_1,   P09,    52,  1,     14,    204,2,19940726,0757, 14.5118, 136.9947, 4480,    300.7,  14.1421,  34.5345,2,  34.5306,2,    176.4,2,    180.4,2,    10.99,2,    11.53,2,     0.00,2,     0.82,2, -999.000,9, -999.000,9, -999.000,9,-999.0000,9,  -999.00,9,   -999.0,9,-999.000,9,   -999.0,9,   -999,  -999.0,  14.554,-999.0000,-999.000,   291.0,-999.000, 14.0984,-999.000
    49RY9407_1,   P09,    52,  1,     13,    214,2,19940726,0757, 14.5118, 136.9947, 4480,    401.7,   9.7514,  34.3022,2,  34.3010,6,    121.9,2,    119.9,2,    32.87,2,    25.37,2,     0.00,2,     1.83,2, -999.000,9, -999.000,9, -999.000,9,-999.0000,9,  -999.00,9,   -999.0,9,-999.000,9,   -999.0,9,   -999,  -999.0,-999.000,-999.0000,-999.000,  -999.0,-999.000,  9.7054,-999.000
    49RY9407_1,   P09,    52,  1,     12,    213,2,19940726,0757, 14.5118, 136.9947, 4480,    503.7,   7.8743,  34.3830,2,  34.3799,2,     68.5,2,     70.6,2,    50.91,2,    33.73,2,     0.00,2,     2.44,2, -999.000,9, -999.000,9, -999.000,9,-999.0000,9,  -999.00,9,   -999.0,9,-999.000,9,   -999.0,9,   -999,  -999.0,-999.000,-999.0000,-999.000,   497.0,-999.000,  7.8232,-999.000