BOTTLE,20020306WHPSIOdm
EXPOCODE,SECT_ID,STNNBR,CASTNO,SAMPNO,BTLNBR,BTLNBR_FLAG_W,DATE,TIME,LATITUDE,LONGITUDE,DEPTH,CTDPRS,CTDTMP,CTDSAL,CTDSAL_FLAG_W,SALNTY,SALNTY_FLAG_W,CTDOXY,CTDOXY_FLAG_W,OXYGEN,OXYGEN_FLAG_W,SILCAT,SILCAT_FLAG_W,NITRAT,NITRAT_FLAG_W,NITRIT,NITRIT_FLAG_W,PHSPHT,PHSPHT_FLAG_W,CFC-11,CFC-11_FLAG_W,CFC-12,CFC-12_FLAG_W,TRITUM,TRITUM_FLAG_W,HELIUM,HELIUM_FLAG_W,DELHE3,DELHE3_FLAG_W,DELC14,DELC14_FLAG_W,NEON,NEON_FLAG_W,TCARBN,TCARBN_FLAG_W,CTDRAW,C14ERR,REVTMP,HELIER,DELHER,REVPRS,NEONER,THETA,TRITER
,,,,,,,,,,,,DBAR,ITS-90,PSS-78,,PSS-78,,UMOL/KG,,UMOL/KG,,UMOL/KG,,UMOL/KG,,UMOL/KG,,UMOL/KG,,PMOL/KG,,PMOL/KG,,TU,,NMOL/KG,,PERCNT,,/MILLE,,NMOL/KG,,UMOL/KG,,,/MILLE,ITS-90,NMOL/KG,PERCNT,DBAR,NMOL/KG,DEG C,TU
    49RY9407_2,   P09,    95,  2,      9,    223,2,19940815,0604, -0.4900, 142.0208, 3425,    302.8,  12.1118,  34.9371,2,  34.9253,2,   -999.0,9,    144.2,2,    13.51,2,    20.41,2,     0.00,2,     1.44,2, -999.000,9, -999.000,9, -999.000,9,-999.0000,9,  -999.00,9,   -999.0,9,-999.000,9,   -999.0,9,   -999,  -999.0,-999.000,-999.0000,-999.000,  -999.0,-999.000, 12.0719,-999.000
    49RY9407_2,   P09,    95,  2,      8,    212,2,19940815,0604, -0.4900, 142.0208, 3425,    403.4,   8.9972,  34.6441,2,  34.6450,2,   -999.0,9,    127.2,6,    29.49,6,    27.74,6,     0.00,6,     1.93,6, -999.000,9, -999.000,9, -999.000,9,-999.0000,9,  -999.00,9,   -999.0,9,-999.000,9,   -999.0,9,   -999,  -999.0,-999.000,-999.0000,-999.000,  -999.0,-999.000,  8.9531,-999.000
    49RY9407_2,   P09,    95,  2,      6,    209,2,19940815,0604, -0.4900, 142.0208, 3425,    504.1,   7.3733,  34.5651,2,  34.5635,2,   -999.0,9,    144.8,2,    32.15,2,    29.63,2,     0.00,2,     2.03,2, -999.000,9, -999.000,9, -999.000,9,-999.0000,9,  -999.00,9,   -999.0,9,-999.000,9,   -999.0,9,   -999,  -999.0,-999.000,-999.0000,-999.000,  -999.0,-999.000,  7.3239,-999.000
    49RY9407_2,   P09,    95,  2,      7,    220,2,19940815,0604, -0.4900, 142.0208, 3425,    506.5,   7.3320,  34.5630,2,  34.5613,2,   -999.0,9,    144.8,2,    32.15,2,    29.66,2,     0.00,2,     2.03,2, -999.000,9, -999.000,9, -999.000,9,-999.0000,9,  -999.00,9,   -999.0,9,-999.000,9,   -999.0,9,   -999,  -999.0,-999.000,-999.0000,-999.000,  -999.0,-999.000,  7.2825,-999.000
    49RY9407_2,   P09,    95,  2,      5,    218,2,19940815,0604, -0.4900, 142.0208, 3425,    604.7,   6.7061,  34.5394,2,  34.5385,2,   -999.0,9,    137.9,2,    38.65,2,    31.64,2,     0.00,2,     2.17,2, -999.000,9, -999.000,9, -999.000,9,-999.0000,9,  -999.00,9,   -999.0,9,-999.000,9,   -999.0,9,   -999,  -999.0,-999.000,-999.0000,-999.000,  -999.0,-999.000,  6.6495,-999.000
    49RY9407_2,   P09,    95,  2,      4,    206,2,19940815,0604, -0.4900, 142.0208, 3425,    705.8,   5.8051,  34.5351,2,  34.5348,2,   -999.0,9,    110.1,2,    55.98,2,    35.90,2,     0.00,2,     2.51,2, -999.000,9, -999.000,9, -999.000,9,-999.0000,9,  -999.00,9,   -999.0,9,-999.000,9,   -999.0,9,   -999,  -999.0,-999.000,-999.0000,-999.000,  -999.0,-999.000,  5.7434,-999.000
    49RY9407_2,   P09,    95,  2,      3,    205,2,19940815,0604, -0.4900, 142.0208, 3425,    806.1,   5.2997,  34.5400,2,  34.5386,6,   -999.0,9,     99.8,2,    67.08,2,    37.46,2,     0.00,2,     2.62,2, -999.000,9, -999.000,9, -999.000,9,-999.0000,9,  -999.00,9,   -999.0,9,-999.000,9,   -999.0,9,   -999,  -999.0,-999.000,-999.0000,-999.000,  -999.0,-999.000,  5.2318,-999.000
    49RY9407_2,   P09,    95,  2,      2,    216,2,19940815,0604, -0.4900, 142.0208, 3425,    909.5,   4.7213,  34.5447,2,  34.5436,2,   -999.0,9,    103.7,2,    77.39,2,    37.86,2,     0.00,2,     2.65,2, -999.000,9, -999.000,9, -999.000,9,-999.0000,9,  -999.00,9,   -999.0,9,-999.000,9,   -999.0,9,   -999,  -999.0,-999.000,-999.0000,-999.000,  -999.0,-999.000,  4.6480,-999.000
    49RY9407_2,   P09,    95,  2,      1,    201,2,19940815,0604, -0.4900, 142.0208, 3425,   1009.4,   4.3467,  34.5557,2,  34.5547,2,   -999.0,9,    100.7,2,    86.88,6,    38.29,6,     0.00,6,     2.71,6, -999.000,9, -999.000,9, -999.000,9,-999.0000,9,  -999.00,9,   -999.0,9,-999.000,9,   -999.0,9,   -999,  -999.0,-999.000,-999.0000,-999.000,  -999.0,-999.000,  4.2675,-999.000
    49RY9407_2,   P09,    95,  2,     24,    222,2,19940815,0604, -0.4900, 142.0208, 3425,   1262.4,   3.6509,  34.5756,2,  34.5745,2,   -999.0,9,    104.8,6,   101.19,2,    38.60,2,     0.00,2,     2.74,2, -999.000,9, -999.000,9, -999.000,9,-999.0000,9,  -999.00,9,   -999.0,9,-999.000,9,   -999.0,9,   -999,  -999.0,-999.000,-999.0000,-999.000,  -999.0,-999.000,  3.5562,-999.000
    49RY9407_2,   P09,    95,  2,     23,    228,2,19940815,0604, -0.4900, 142.0208, 3425,   1514.7,   2.9800,  34.6023,2,  34.6013,2,   -999.0,9,    109.2,2,   116.61,2,    38.68,2,     0.00,2,     2.75,2, -999.000,9, -999.000,9, -999.000,9,-999.0000,9,  -999.00,9,   -999.0,9,-999.000,9,   -999.0,9,   -999,  -999.0,-999.000,-999.0000,-999.000,  -999.0,-999.000,  2.8711,-999.000
    49RY9407_2,   P09,    95,  2,     22,    227,2,19940815,0604, -0.4900, 142.0208, 3425,   1767.0,   2.6272,  34.6173,2,  34.6172,6,   -999.0,9,    111.6,2,   125.93,2,    38.69,2,     0.00,2,     2.74,2, -999.000,9, -999.000,9, -999.000,9,-999.0000,9,  -999.00,9,   -999.0,9,-999.000,9,   -999.0,9,   -999,  -999.0,-999.000,-999.0000,-999.000,  -999.0,-999.000,  2.5015,-999.000
    49RY9407_2,   P09,    95,  2,     21,    226,2,19940815,0604, -0.4900, 142.0208, 3425,   2023.1,   2.2718,  34.6349,2,  34.6357,2,   -999.0,9,    120.1,2,   132.31,2,    38.42,2,     0.00,2,     2.70,2, -999.000,9, -999.000,9, -999.000,9,-999.0000,9,  -999.00,9,   -999.0,9,-999.000,9,   -999.0,9,   -999,  -999.0,-999.000,-999.0000,-999.000,  -999.0,-999.000,  2.1292,-999.000
    49RY9407_2,   P09,    95,  2,     19,    215,2,19940815,0604, -0.4900, 142.0208, 3425,   2275.4,   1.9827,  34.6487,2,  34.6483,2,   -999.0,9,    125.8,2,   138.89,6,    37.96,6,     0.00,6,     2.67,6, -999.000,9, -999.000,9, -999.000,9,-999.0000,9,  -999.00,9,   -999.0,9,-999.000,9,   -999.0,9,   -999,  -999.0,-999.000,-999.0000,-999.000,  -999.0,-999.000,  1.8228,-999.000
    49RY9407_2,   P09,    95,  2,     20,    203,2,19940815,0604, -0.4900, 142.0208, 3425,   2275.4,   1.9827,  34.6487,2,  34.6489,2,   -999.0,9,    125.5,2,   138.43,2,    37.98,2,     0.00,2,     2.67,2, -999.000,9, -999.000,9, -999.000,9,-999.0000,9,  -999.00,9,   -999.0,9,-999.000,9,   -999.0,9,   -999,  -999.0,-999.000,-999.0000,-999.000,  2268.0,-999.000,  1.8228,-999.000
    49RY9407_2,   P09,    95,  2,     18,    221,2,19940815,0604, -0.4900, 142.0208, 3425,   2530.2,   1.8125,  34.6581,2,  34.6574,6,   -999.0,9,    132.2,2,   141.33,2,    37.57,2,     0.00,2,     2.63,2, -999.000,9, -999.000,9, -999.000,9,-999.0000,9,  -999.00,9,   -999.0,9,-999.000,9,   -999.0,9,   -999,  -999.0,-999.000,-999.0000,-999.000,  2527.0,-999.000,  1.6330,-999.000
    49RY9407_2,   P09,    95,  2,     17,    219,2,19940815,0604, -0.4900, 142.0208, 3425,   2784.9,   1.6507,  34.6674,2,  34.6684,2,   -999.0,9,    140.2,6,   141.96,2,    37.17,2,     0.00,2,     2.58,2, -999.000,9, -999.000,9, -999.000,9,-999.0000,9,  -999.00,9,   -999.0,9,-999.000,9,   -999.0,9,   -999,  -999.0,-999.000,-999.0000,-999.000,  -999.0,-999.000,  1.4510,-999.000
    49RY9407_2,   P09,    95,  2,     16,    229,2,19940815,0604, -0.4900, 142.0208, 3425,   3040.5,   1.5740,  34.6737,2,  34.6737,2,   -999.0,9,    145.3,2,   142.27,2,    36.72,2,     0.00,2,     2.55,2, -999.000,9, -999.000,9, -999.000,9,-999.0000,9,  -999.00,9,   -999.0,9,-999.000,9,   -999.0,9,   -999,  -999.0,   1.564,-999.0000,-999.000,  3039.0,-999.000,  1.3517,-999.000
    49RY9407_2,   P09,    95,  2,     15,    217,2,19940815,0604, -0.4900, 142.0208, 3425,   3293.1,   1.5794,  34.6748,2,  34.6745,2,   -999.0,9,    145.8,2,   142.67,2,    36.68,2,     0.00,2,     2.55,2, -999.000,9, -999.000,9, -999.000,9,-999.0000,9,  -999.00,9,   -999.0,9,-999.000,9,   -999.0,9,   -999,  -999.0,-999.000,-999.0000,-999.000,  -999.0,-999.000,  1.3323,-999.000
    49RY9407_2,   P09,    95,  2,     14,    204,2,19940815,0604, -0.4900, 142.0208, 3425,   3294.6,   1.5792,  34.6754,2,  34.6745,2,   -999.0,9,    145.8,2,   142.57,2,    36.70,2,     0.00,2,     2.56,2, -999.000,9, -999.000,9, -999.000,9,-999.0000,9,  -999.00,9,   -999.0,9,-999.000,9,   -999.0,9,   -999,  -999.0,   1.577,-999.0000,-999.000,  3292.0,-999.000,  1.3319,-999.000
    49RY9407_2,   P09,    95,  2,     13,    214,2,19940815,0604, -0.4900, 142.0208, 3425,   3295.3,   1.5792,  34.6752,2,  34.6747,2,   -999.0,9,    145.9,2,   142.90,2,    36.71,2,     0.00,2,     2.56,2, -999.000,9, -999.000,9, -999.000,9,-999.0000,9,  -999.00,9,   -999.0,9,-999.000,9,   -999.0,9,   -999,  -999.0,-999.000,-999.0000,-999.000,  3282.0,-999.000,  1.3318,-999.000
    49RY9407_2,   P09,    95,  2,     12,    213,4,19940815,0604, -0.4900, 142.0208, 3425,   3427.1,   1.5784,  34.6760,2,  34.6756,6,   -999.0,9,    146.1,2,   142.86,2,    36.64,2,     0.00,2,     2.55,2, -999.000,9, -999.000,9, -999.000,9,-999.0000,9,  -999.00,9,   -999.0,9,-999.000,9,   -999.0,9,   -999,  -999.0,-999.000,-999.0000,-999.000,  3423.0,-999.000,  1.3178,-999.000
    49RY9407_2,   P09,    96,  1,      0,      0,2,19940815,0930, -0.7385, 142.0027, 3140,      0.1,  29.0092,  34.0189,2,-999.0000,9,   -999.0,9,    197.6,2,     1.52,2,     0.04,2,     0.00,2,     0.04,2, -999.000,9, -999.000,9, -999.000,9,-999.0000,9,  -999.00,9,   -999.0,9,-999.000,9,   -999.0,9,   -999,  -999.0,-999.000,-999.0000,-999.000,  -999.0,-999.000, 29.0092,-999.000
    49RY9407_2,   P09,    96,  1,     20,    203,2,19940815,0930, -0.7385, 142.0027, 3140,     10.7,  29.0105,  34.0192,2,  34.0188,2,   -999.0,9,    198.0,2,     1.38,2,     0.02,2,     0.00,2,     0.04,2, -999.000,9, -999.000,9, -999.000,9,-999.0000,9,  -999.00,9,   -999.0,9,-999.000,9,   -999.0,9,   -999,  -999.0,-999.000,-999.0000,-999.000,    17.0,-999.000, 29.0080,-999.000
    49RY9407_2,   P09,    96,  1,     19,    215,2,19940815,0930, -0.7385, 142.0027, 3140,     25.9,  28.9011,  34.2659,2,  34.2443,2,   -999.0,9,    197.7,6,     1.43,6,     0.02,6,     0.00,6,     0.07,6, -999.000,9, -999.000,9, -999.000,9,-999.0000,9,  -999.00,9,   -999.0,9,-999.000,9,   -999.0,9,   -999,  -999.0,-999.000,-999.0000,-999.000,  -999.0,-999.000, 28.8949,-999.000
    49RY9407_2,   P09,    96,  1,     18,    221,2,19940815,0930, -0.7385, 142.0027, 3140,     51.5,  28.7671,  34.3729,2,  34.3720,2,   -999.0,9,    197.3,2,     1.37,2,     0.03,2,     0.00,2,     0.08,2, -999.000,9, -999.000,9, -999.000,9,-999.0000,9,  -999.00,9,   -999.0,9,-999.000,9,   -999.0,9,   -999,  -999.0,-999.000,-999.0000,-999.000,    56.0,-999.000, 28.7548,-999.000
    49RY9407_2,   P09,    96,  1,     17,    219,2,19940815,0930, -0.7385, 142.0027, 3140,     76.1,  28.2197,  34.5052,2,  34.5136,2,   -999.0,9,    195.0,2,     1.35,2,     0.09,2,     0.02,2,     0.12,2, -999.000,9, -999.000,9, -999.000,9,-999.0000,9,  -999.00,9,   -999.0,9,-999.000,9,   -999.0,9,   -999,  -999.0,-999.000,-999.0000,-999.000,  -999.0,-999.000, 28.2017,-999.000
    49RY9407_2,   P09,    96,  1,     16,    229,2,19940815,0930, -0.7385, 142.0027, 3140,    101.6,  24.3833,  35.1377,2,  35.1303,2,   -999.0,9,    137.3,2,     3.98,2,     7.90,2,     0.06,2,     0.62,2, -999.000,9, -999.000,9, -999.000,9,-999.0000,9,  -999.00,9,   -999.0,9,-999.000,9,   -999.0,9,   -999,  -999.0,  24.370,-999.0000,-999.000,    99.0,-999.000, 24.3617,-999.000
    49RY9407_2,   P09,    96,  1,     15,    217,2,19940815,0930, -0.7385, 142.0027, 3140,    127.3,  22.8760,  35.3854,2,  35.3414,2,   -999.0,9,    142.5,2,     3.56,2,     7.91,2,     0.03,2,     0.63,2, -999.000,9, -999.000,9, -999.000,9,-999.0000,9,  -999.00,9,   -999.0,9,-999.000,9,   -999.0,9,   -999,  -999.0,-999.000,-999.0000,-999.000,  -999.0,-999.000, 22.8501,-999.000
    49RY9407_2,   P09,    96,  1,     14,    204,2,19940815,0930, -0.7385, 142.0027, 3140,    152.3,  20.2288,  35.4320,2,  35.4295,2,   -999.0,9,    138.7,2,     4.78,2,    10.41,2,     0.02,2,     0.80,2, -999.000,9, -999.000,9, -999.000,9,-999.0000,9,  -999.00,9,   -999.0,9,-999.000,9,   -999.0,9,   -999,  -999.0,  20.280,-999.0000,-999.000,   151.0,-999.000, 20.2003,-999.000
    49RY9407_2,   P09,    96,  1,     12,    213,2,19940815,0930, -0.7385, 142.0027, 3140,    203.5,  17.7436,  35.2945,2,  35.2844,2,   -999.0,9,    139.0,2,     7.47,6,    12.98,6,     0.01,6,     0.96,6, -999.000,9, -999.000,9, -999.000,9,-999.0000,9,  -999.00,9,   -999.0,9,-999.000,9,   -999.0,9,   -999,  -999.0,-999.000,-999.0000,-999.000,   207.0,-999.000, 17.7089,-999.000
    49RY9407_2,   P09,    96,  1,     13,    214,2,19940815,0930, -0.7385, 142.0027, 3140,    204.0,  17.7430,  35.2952,2,  35.2856,2,   -999.0,9,    139.3,2,     7.49,6,    12.95,6,     0.01,6,     0.96,6, -999.000,9, -999.000,9, -999.000,9,-999.0000,9,  -999.00,9,   -999.0,9,-999.000,9,   -999.0,9,   -999,  -999.0,-999.000,-999.0000,-999.000,   207.0,-999.000, 17.7082,-999.000