BOTTLE,20020306WHPSIOdm
EXPOCODE,SECT_ID,STNNBR,CASTNO,SAMPNO,BTLNBR,BTLNBR_FLAG_W,DATE,TIME,LATITUDE,LONGITUDE,DEPTH,CTDPRS,CTDTMP,CTDSAL,CTDSAL_FLAG_W,SALNTY,SALNTY_FLAG_W,CTDOXY,CTDOXY_FLAG_W,OXYGEN,OXYGEN_FLAG_W,SILCAT,SILCAT_FLAG_W,NITRAT,NITRAT_FLAG_W,NITRIT,NITRIT_FLAG_W,PHSPHT,PHSPHT_FLAG_W,CFC-11,CFC-11_FLAG_W,CFC-12,CFC-12_FLAG_W,TRITUM,TRITUM_FLAG_W,HELIUM,HELIUM_FLAG_W,DELHE3,DELHE3_FLAG_W,DELC14,DELC14_FLAG_W,NEON,NEON_FLAG_W,TCARBN,TCARBN_FLAG_W,CTDRAW,C14ERR,REVTMP,HELIER,DELHER,REVPRS,NEONER,THETA,TRITER
,,,,,,,,,,,,DBAR,ITS-90,PSS-78,,PSS-78,,UMOL/KG,,UMOL/KG,,UMOL/KG,,UMOL/KG,,UMOL/KG,,UMOL/KG,,PMOL/KG,,PMOL/KG,,TU,,NMOL/KG,,PERCNT,,/MILLE,,NMOL/KG,,UMOL/KG,,,/MILLE,ITS-90,NMOL/KG,PERCNT,DBAR,NMOL/KG,DEG C,TU
    49RY9407_1,   P09,    27,  2,     24,    230,2,19940714,1218, 27.0018, 136.9642, 4880,    402.3,  15.6097,  34.6917,2,  34.6733,3,    191.4,3,    196.5,2,     8.38,2,     8.16,2,     0.00,2,     0.56,2, -999.000,9, -999.000,9, -999.000,9,-999.0000,9,  -999.00,9,   -999.0,9,-999.000,9,   -999.0,9,   -999,  -999.0,-999.000,-999.0000,-999.000,  -999.0,-999.000, 15.5469,-999.000
    49RY9407_1,   P09,    27,  2,     23,    228,2,19940714,1218, 27.0018, 136.9642, 4880,    502.9,  12.8078,  34.4424,2,  34.4425,2,    188.9,2,    188.9,2,    16.32,2,    13.35,2,     0.00,2,     0.92,2, -999.000,9, -999.000,9, -999.000,9,-999.0000,9,  -999.00,9,   -999.0,9,-999.000,9,   -999.0,9,   -999,  -999.0,-999.000,-999.0000,-999.000,  -999.0,-999.000, 12.7389,-999.000
    49RY9407_1,   P09,    27,  2,     22,    227,2,19940714,1218, 27.0018, 136.9642, 4880,    604.1,  10.2073,  34.2678,2,  34.2650,2,    173.8,2,    173.9,2,    29.49,2,    19.48,2,     0.00,2,     1.37,2, -999.000,9, -999.000,9, -999.000,9,-999.0000,9,  -999.00,9,   -999.0,9,-999.000,9,   -999.0,9,   -999,  -999.0,-999.000,-999.0000,-999.000,  -999.0,-999.000, 10.1355,-999.000
    49RY9407_1,   P09,    27,  2,     20,    225,2,19940714,1218, 27.0018, 136.9642, 4880,    704.2,   8.1557,  34.1685,2,  34.1712,2,    157.9,3,    151.6,6,    46.93,2,    25.36,2,     0.00,2,     1.80,2, -999.000,9, -999.000,9, -999.000,9,-999.0000,9,  -999.00,9,   -999.0,9,-999.000,9,   -999.0,9,   -999,  -999.0,-999.000,-999.0000,-999.000,  -999.0,-999.000,  8.0822,-999.000
    49RY9407_1,   P09,    27,  2,     21,    226,2,19940714,1218, 27.0018, 136.9642, 4880,    704.2,   8.1557,  34.1685,2,  34.1710,2,    157.9,3,    151.0,2,    47.00,6,    25.38,6,     0.00,6,     1.81,6, -999.000,9, -999.000,9, -999.000,9,-999.0000,9,  -999.00,9,   -999.0,9,-999.000,9,   -999.0,9,   -999,  -999.0,-999.000,-999.0000,-999.000,  -999.0,-999.000,  8.0822,-999.000
    49RY9407_1,   P09,    27,  2,     19,    224,2,19940714,1218, 27.0018, 136.9642, 4880,    805.8,   6.2075,  34.1155,2,  34.1185,2,    128.5,3,    119.2,2,    68.36,2,    31.63,2,     0.00,2,     2.27,2, -999.000,9, -999.000,9, -999.000,9,-999.0000,9,  -999.00,9,   -999.0,9,-999.000,9,   -999.0,9,   -999,  -999.0,-999.000,-999.0000,-999.000,  -999.0,-999.000,  6.1346,-999.000
    49RY9407_1,   P09,    27,  2,     18,    223,2,19940714,1218, 27.0018, 136.9642, 4880,    906.6,   5.1071,  34.1521,2,  34.1521,2,     97.0,3,     88.9,2,    86.79,2,    36.30,2,     0.00,2,     2.61,2, -999.000,9, -999.000,9, -999.000,9,-999.0000,9,  -999.00,9,   -999.0,9,-999.000,9,   -999.0,9,   -999,  -999.0,-999.000,-999.0000,-999.000,  -999.0,-999.000,  5.0320,-999.000
    49RY9407_1,   P09,    27,  2,     17,    222,2,19940714,1218, 27.0018, 136.9642, 4880,   1007.1,   4.2071,  34.2574,2,  34.2569,2,     63.3,2,     60.1,2,   107.68,2,    40.09,2,     0.00,2,     2.88,2, -999.000,9, -999.000,9, -999.000,9,-999.0000,9,  -999.00,9,   -999.0,9,-999.000,9,   -999.0,9,   -999,  -999.0,-999.000,-999.0000,-999.000,  -999.0,-999.000,  4.1297,-999.000
    49RY9407_1,   P09,    27,  2,     16,    221,2,19940714,1218, 27.0018, 136.9642, 4880,   1261.0,   3.2952,  34.4046,2,  34.4051,2,     57.0,2,     53.9,2,   130.29,2,    41.62,2,     0.00,2,     2.98,2, -999.000,9, -999.000,9, -999.000,9,-999.0000,9,  -999.00,9,   -999.0,9,-999.000,9,   -999.0,9,   -999,  -999.0,   3.294,-999.0000,-999.000,  1261.0,-999.000,  3.2043,-999.000
    49RY9407_1,   P09,    27,  2,     15,    220,2,19940714,1218, 27.0018, 136.9642, 4880,   1513.8,   2.6409,  34.5034,2,  34.5033,2,     72.1,3,     66.7,2,   143.36,6,    41.42,6,     0.00,6,     2.95,6, -999.000,9, -999.000,9, -999.000,9,-999.0000,9,  -999.00,9,   -999.0,9,-999.000,9,   -999.0,9,   -999,  -999.0,-999.000,-999.0000,-999.000,  -999.0,-999.000,  2.5362,-999.000
    49RY9407_1,   P09,    27,  2,     14,    219,2,19940714,1218, 27.0018, 136.9642, 4880,   1767.8,   2.2693,  34.5619,2,  34.5620,2,     88.5,2,     88.5,2,   145.95,2,    40.19,2,     0.00,2,     2.85,2, -999.000,9, -999.000,9, -999.000,9,-999.0000,9,  -999.00,9,   -999.0,9,-999.000,9,   -999.0,9,   -999,  -999.0,-999.000,-999.0000,-999.000,  -999.0,-999.000,  2.1485,-999.000
    49RY9407_1,   P09,    27,  2,     13,    218,4,19940714,1218, 27.0018, 136.9642, 4880,   2020.7,   2.0176,  34.6013,2,  34.6015,2,    109.7,2,    108.1,2,   146.15,2,    39.20,2,     0.01,2,     2.76,2, -999.000,9, -999.000,9, -999.000,9,-999.0000,9,  -999.00,9,   -999.0,9,-999.000,9,   -999.0,9,   -999,  -999.0,-999.000,-999.0000,-999.000,  -999.0,-999.000,  1.8793,-999.000
    49RY9407_1,   P09,    27,  2,     11,    216,4,19940714,1218, 27.0018, 136.9642, 4880,   2531.0,   1.7444,  34.6439,2,  34.6449,2,    132.6,2,    129.8,2,   144.26,2,    37.86,2,     0.00,2,     2.62,2, -999.000,9, -999.000,9, -999.000,9,-999.0000,9,  -999.00,9,   -999.0,9,-999.000,9,   -999.0,9,   -999,  -999.0,-999.000,-999.0000,-999.000,  -999.0,-999.000,  1.5661,-999.000
    49RY9407_1,   P09,    27,  2,     12,    217,2,19940714,1218, 27.0018, 136.9642, 4880,   2531.0,   1.7444,  34.6439,2,  34.6451,2,    132.6,2,    129.4,2,   144.27,2,    37.84,2,     0.00,2,     2.64,2, -999.000,9, -999.000,9, -999.000,9,-999.0000,9,  -999.00,9,   -999.0,9,-999.000,9,   -999.0,9,   -999,  -999.0,-999.000,-999.0000,-999.000,  -999.0,-999.000,  1.5661,-999.000
    49RY9407_1,   P09,    27,  2,      9,    213,4,19940714,1218, 27.0018, 136.9642, 4880,   3040.7,   1.6472,  34.6609,2,  34.6601,2,    141.6,2,    139.6,6,  -999.00,9,    37.34,2,     0.00,2,     2.60,2, -999.000,9, -999.000,9, -999.000,9,-999.0000,9,  -999.00,9,   -999.0,9,-999.000,9,   -999.0,9,   -999,  -999.0,   1.644,-999.0000,-999.000,  3040.0,-999.000,  1.4233,-999.000
    49RY9407_1,   P09,    27,  2,     10,    214,2,19940714,1218, 27.0018, 136.9642, 4880,   3040.7,   1.6472,  34.6609,2,  34.6603,2,    141.6,2,    140.9,2,  -999.00,9,    37.35,2,     0.00,2,     2.60,2, -999.000,9, -999.000,9, -999.000,9,-999.0000,9,  -999.00,9,   -999.0,9,-999.000,9,   -999.0,9,   -999,  -999.0,-999.000,-999.0000,-999.000,  -999.0,-999.000,  1.4233,-999.000
    49RY9407_1,   P09,    27,  2,      7,    210,2,19940714,1218, 27.0018, 136.9642, 4880,   3551.8,   1.5481,  34.6752,2,  34.6750,2,    156.3,3,    150.6,2,  -999.00,9,    36.68,2,     0.00,2,     2.54,2, -999.000,9, -999.000,9, -999.000,9,-999.0000,9,  -999.00,9,   -999.0,9,-999.000,9,   -999.0,9,   -999,  -999.0,-999.000,-999.0000,-999.000,  -999.0,-999.000,  1.2755,-999.000
    49RY9407_1,   P09,    27,  2,      8,    212,2,19940714,1218, 27.0018, 136.9642, 4880,   3551.8,   1.5481,  34.6752,2,  34.6754,2,    156.3,3,    149.7,2,  -999.00,9,    36.70,2,     0.00,2,     2.54,2, -999.000,9, -999.000,9, -999.000,9,-999.0000,9,  -999.00,9,   -999.0,9,-999.000,9,   -999.0,9,   -999,  -999.0,-999.000,-999.0000,-999.000,  -999.0,-999.000,  1.2755,-999.000
    49RY9407_1,   P09,    27,  2,      6,    209,2,19940714,1218, 27.0018, 136.9642, 4880,   3807.3,   1.5275,  34.6802,2,  34.6800,2,    155.7,2,    153.2,2,  -999.00,9,    36.39,2,     0.00,2,     2.52,2, -999.000,9, -999.000,9, -999.000,9,-999.0000,9,  -999.00,9,   -999.0,9,-999.000,9,   -999.0,9,   -999,  -999.0,-999.000,-999.0000,-999.000,  -999.0,-999.000,  1.2286,-999.000
    49RY9407_1,   P09,    27,  2,      5,    229,4,19940714,1218, 27.0018, 136.9642, 4880,   4062.2,   1.5283,  34.6823,2,  34.6821,2,    156.4,2,    156.0,2,  -999.00,9,    36.29,2,     0.00,2,     2.51,2, -999.000,9, -999.000,9, -999.000,9,-999.0000,9,  -999.00,9,   -999.0,9,-999.000,9,   -999.0,9,   -999,  -999.0,   1.527,-999.0000,-999.000,  4061.0,-999.000,  1.2018,-999.000
    49RY9407_1,   P09,    27,  2,      3,    205,2,19940714,1218, 27.0018, 136.9642, 4880,   4575.8,   1.5713,  34.6834,2,  34.6845,2,    157.9,2,    157.1,6,   141.65,2,    36.23,6,     0.00,6,     2.50,6, -999.000,9, -999.000,9, -999.000,9,-999.0000,9,  -999.00,9,   -999.0,9,-999.000,9,   -999.0,9,   -999,  -999.0,-999.000,-999.0000,-999.000,  -999.0,-999.000,  1.1853,-999.000
    49RY9407_1,   P09,    27,  2,      4,    206,2,19940714,1218, 27.0018, 136.9642, 4880,   4575.8,   1.5713,  34.6834,2,  34.6837,2,    157.9,2,    158.2,2,  -999.00,9,    36.27,2,     0.00,2,     2.51,2, -999.000,9, -999.000,9, -999.000,9,-999.0000,9,  -999.00,9,   -999.0,9,-999.000,9,   -999.0,9,   -999,  -999.0,-999.000,-999.0000,-999.000,  -999.0,-999.000,  1.1853,-999.000
    49RY9407_1,   P09,    27,  2,      2,    204,4,19940714,1218, 27.0018, 136.9642, 4880,   4921.3,   1.6125,  34.6825,2,  34.6847,2,    158.2,2,    157.1,6,   141.77,6,    36.30,6,     0.00,6,     2.50,6, -999.000,9, -999.000,9, -999.000,9,-999.0000,9,  -999.00,9,   -999.0,9,-999.000,9,   -999.0,9,   -999,  -999.0,   1.611,-999.0000,-999.000,  4920.0,-999.000,  1.1841,-999.000
    49RY9407_1,   P09,    28,  1,      0,      0,2,19940714,1941, 26.5017, 136.9923, 5020,      0.0,  30.0579,  34.7183,2,-999.0000,9,    191.6,3,    194.1,2,     1.35,3,     0.02,2,     0.00,2,     0.00,2, -999.000,9, -999.000,9, -999.000,9,-999.0000,9,  -999.00,9,   -999.0,9,-999.000,9,   -999.0,9,   -999,  -999.0,-999.000,-999.0000,-999.000,  -999.0,-999.000, 30.0585,-999.000
    49RY9407_1,   P09,    28,  1,     11,    216,2,19940714,1941, 26.5017, 136.9923, 5020,     10.3,  29.0825,  34.8908,2,  34.9079,2,    214.3,3,    203.2,2,     1.52,3,     0.00,2,     0.00,2,     0.00,2, -999.000,9, -999.000,9, -999.000,9,-999.0000,9,  -999.00,9,   -999.0,9,-999.000,9,   -999.0,9,   -999,  -999.0,-999.000,-999.0000,-999.000,  -999.0,-999.000, 29.0800,-999.000
    49RY9407_1,   P09,    28,  1,     10,    214,2,19940714,1941, 26.5017, 136.9923, 5020,     23.9,  25.4764,  34.8973,2,  34.9231,2,    241.5,3,    219.0,2,     1.72,3,     0.00,2,     0.00,2,     0.00,2, -999.000,9, -999.000,9, -999.000,9,-999.0000,9,  -999.00,9,   -999.0,9,-999.000,9,   -999.0,9,   -999,  -999.0,-999.000,-999.0000,-999.000,  -999.0,-999.000, 25.4711,-999.000
    49RY9407_1,   P09,    28,  1,      9,    213,2,19940714,1941, 26.5017, 136.9923, 5020,     50.2,  22.3989,  35.0886,2,  35.0665,2,    252.2,3,    228.1,6,     1.93,3,     0.01,2,     0.00,2,     0.00,2, -999.000,9, -999.000,9, -999.000,9,-999.0000,9,  -999.00,9,   -999.0,9,-999.000,9,   -999.0,9,   -999,  -999.0,  22.460,-999.0000,-999.000,    58.0,-999.000, 22.3888,-999.000
    49RY9407_1,   P09,    28,  1,      8,    212,2,19940714,1941, 26.5017, 136.9923, 5020,     75.2,  20.9624,  35.0379,2,  35.0339,2,    246.7,3,    222.4,2,     1.93,3,     0.06,6,     0.00,6,     0.02,6, -999.000,9, -999.000,9, -999.000,9,-999.0000,9,  -999.00,9,   -999.0,9,-999.000,9,   -999.0,9,   -999,  -999.0,-999.000,-999.0000,-999.000,  -999.0,-999.000, 20.9480,-999.000
    49RY9407_1,   P09,    28,  1,      7,    210,2,19940714,1941, 26.5017, 136.9923, 5020,    100.4,  19.8006,  34.9966,2,  34.9978,2,    240.1,3,    222.2,2,     2.26,3,     0.00,2,     0.00,2,     0.02,2, -999.000,9, -999.000,9, -999.000,9,-999.0000,9,  -999.00,9,   -999.0,9,-999.000,9,   -999.0,9,   -999,  -999.0,-999.000,-999.0000,-999.000,  -999.0,-999.000, 19.7822,-999.000
    49RY9407_1,   P09,    28,  1,      6,    209,2,19940714,1941, 26.5017, 136.9923, 5020,    125.7,  19.2001,  34.9548,2,  34.9601,2,    240.7,3,    215.5,2,     2.62,3,     1.18,2,     0.06,2,     0.09,2, -999.000,9, -999.000,9, -999.000,9,-999.0000,9,  -999.00,9,   -999.0,9,-999.000,9,   -999.0,9,   -999,  -999.0,-999.000,-999.0000,-999.000,  -999.0,-999.000, 19.1775,-999.000
    49RY9407_1,   P09,    28,  1,      5,    229,2,19940714,1941, 26.5017, 136.9923, 5020,    150.7,  18.7039,  34.9248,2,  34.9254,2,    231.0,3,    214.7,2,     2.90,3,     1.88,2,     0.02,2,     0.14,2, -999.000,9, -999.000,9, -999.000,9,-999.0000,9,  -999.00,9,   -999.0,9,-999.000,9,   -999.0,9,   -999,  -999.0,  18.708,-999.0000,-999.000,   150.0,-999.000, 18.6774,-999.000
    49RY9407_1,   P09,    28,  1,      4,    206,2,19940714,1941, 26.5017, 136.9923, 5020,    201.6,  18.0753,  34.8863,2,  34.8877,2,    226.9,3,    215.3,2,     3.30,3,     2.49,2,     0.01,2,     0.18,2, -999.000,9, -999.000,9, -999.000,9,-999.0000,9,  -999.00,9,   -999.0,9,-999.000,9,   -999.0,9,   -999,  -999.0,-999.000,-999.0000,-999.000,  -999.0,-999.000, 18.0406,-999.000
    49RY9407_1,   P09,    28,  1,      3,    205,2,19940714,1941, 26.5017, 136.9923, 5020,    302.2,  16.8504,  34.7797,2,  34.7826,2,    220.1,3,    209.5,2,     5.16,3,     4.89,2,     0.00,2,     0.33,2, -999.000,9, -999.000,9, -999.000,9,-999.0000,9,  -999.00,9,   -999.0,9,-999.000,9,   -999.0,9,   -999,  -999.0,-999.000,-999.0000,-999.000,  -999.0,-999.000, 16.8008,-999.000
    49RY9407_1,   P09,    28,  1,      2,    204,2,19940714,1941, 26.5017, 136.9923, 5020,    401.8,  14.5702,  34.5836,2,  34.5819,2,    193.4,2,    192.3,2,    11.50,3,    10.10,2,     0.00,2,     0.69,2, -999.000,9, -999.000,9, -999.000,9,-999.0000,9,  -999.00,9,   -999.0,9,-999.000,9,   -999.0,9,   -999,  -999.0,  14.595,-999.0000,-999.000,   401.0,-999.000, 14.5104,-999.000