BOTTLE,20020306WHPSIOdm
EXPOCODE,SECT_ID,STNNBR,CASTNO,SAMPNO,BTLNBR,BTLNBR_FLAG_W,DATE,TIME,LATITUDE,LONGITUDE,DEPTH,CTDPRS,CTDTMP,CTDSAL,CTDSAL_FLAG_W,SALNTY,SALNTY_FLAG_W,CTDOXY,CTDOXY_FLAG_W,OXYGEN,OXYGEN_FLAG_W,SILCAT,SILCAT_FLAG_W,NITRAT,NITRAT_FLAG_W,NITRIT,NITRIT_FLAG_W,PHSPHT,PHSPHT_FLAG_W,CFC-11,CFC-11_FLAG_W,CFC-12,CFC-12_FLAG_W,TRITUM,TRITUM_FLAG_W,HELIUM,HELIUM_FLAG_W,DELHE3,DELHE3_FLAG_W,DELC14,DELC14_FLAG_W,NEON,NEON_FLAG_W,TCARBN,TCARBN_FLAG_W,CTDRAW,C14ERR,REVTMP,HELIER,DELHER,REVPRS,NEONER,THETA,TRITER
,,,,,,,,,,,,DBAR,ITS-90,PSS-78,,PSS-78,,UMOL/KG,,UMOL/KG,,UMOL/KG,,UMOL/KG,,UMOL/KG,,UMOL/KG,,PMOL/KG,,PMOL/KG,,TU,,NMOL/KG,,PERCNT,,/MILLE,,NMOL/KG,,UMOL/KG,,,/MILLE,ITS-90,NMOL/KG,PERCNT,DBAR,NMOL/KG,DEG C,TU
    49RY9407_2,   P09,   102,  1,      0,      0,2,19940816,1905, -2.2415, 142.0775, 3910,      0.6,  28.4958,  33.8709,2,-999.0000,9,   -999.0,9,    197.6,2,     1.25,2,     0.02,2,     0.00,2,     0.06,2, -999.000,9, -999.000,9, -999.000,9,-999.0000,9,  -999.00,9,   -999.0,9,-999.000,9,   -999.0,9,   -999,  -999.0,-999.000,-999.0000,-999.000,  -999.0,-999.000, 28.4956,-999.000
    49RY9407_2,   P09,   102,  1,     21,    226,2,19940816,1905, -2.2415, 142.0775, 3910,     11.1,  28.5107,  33.8821,2,  33.9025,2,   -999.0,9,    198.6,2,     1.22,2,     0.01,2,     0.00,2,     0.05,2, -999.000,9, -999.000,9, -999.000,9,-999.0000,9,  -999.00,9,   -999.0,9,-999.000,9,   -999.0,9,   -999,  -999.0,-999.000,-999.0000,-999.000,  -999.0,-999.000, 28.5081,-999.000
    49RY9407_2,   P09,   102,  1,     20,    203,2,19940816,1905, -2.2415, 142.0775, 3910,     26.4,  28.5948,  34.0624,2,  34.0633,2,   -999.0,9,    197.8,2,     1.20,2,     0.00,2,     0.01,2,     0.04,2, -999.000,9, -999.000,9, -999.000,9,-999.0000,9,  -999.00,9,   -999.0,9,-999.000,9,   -999.0,9,   -999,  -999.0,-999.000,-999.0000,-999.000,    30.0,-999.000, 28.5886,-999.000
    49RY9407_2,   P09,   102,  1,     19,    215,2,19940816,1905, -2.2415, 142.0775, 3910,     51.7,  28.2777,  34.4399,2,  34.4379,2,   -999.0,9,    199.1,6,     1.20,6,     0.00,6,     0.00,6,     0.10,6, -999.000,9, -999.000,9, -999.000,9,-999.0000,9,  -999.00,9,   -999.0,9,-999.000,9,   -999.0,9,   -999,  -999.0,-999.000,-999.0000,-999.000,  -999.0,-999.000, 28.2655,-999.000
    49RY9407_2,   P09,   102,  1,     18,    221,2,19940816,1905, -2.2415, 142.0775, 3910,     76.5,  26.6065,  34.5638,2,  34.5657,2,   -999.0,9,    192.9,2,     1.27,2,     0.41,2,     0.21,2,     0.14,2, -999.000,9, -999.000,9, -999.000,9,-999.0000,9,  -999.00,9,   -999.0,9,-999.000,9,   -999.0,9,   -999,  -999.0,-999.000,-999.0000,-999.000,    80.0,-999.000, 26.5891,-999.000
    49RY9407_2,   P09,   102,  1,     17,    219,2,19940816,1905, -2.2415, 142.0775, 3910,    101.9,  26.0010,  34.7223,2,  34.7227,2,   -999.0,9,    185.3,2,     1.41,2,     1.41,2,     0.25,2,     0.22,2, -999.000,9, -999.000,9, -999.000,9,-999.0000,9,  -999.00,9,   -999.0,9,-999.000,9,   -999.0,9,   -999,  -999.0,-999.000,-999.0000,-999.000,  -999.0,-999.000, 25.9783,-999.000
    49RY9407_2,   P09,   102,  1,     16,    229,2,19940816,1905, -2.2415, 142.0775, 3910,    127.0,  23.8155,  35.3006,2,  35.3069,2,   -999.0,9,    158.2,2,     2.04,2,     5.39,2,     0.05,2,     0.47,2, -999.000,9, -999.000,9, -999.000,9,-999.0000,9,  -999.00,9,   -999.0,9,-999.000,9,   -999.0,9,   -999,  -999.0,  23.930,-999.0000,-999.000,   123.0,-999.000, 23.7889,-999.000
    49RY9407_2,   P09,   102,  1,     15,    217,2,19940816,1905, -2.2415, 142.0775, 3910,    152.8,  21.8225,  35.4672,2,  35.4702,2,   -999.0,9,    151.3,2,     2.65,2,     7.49,2,     0.02,2,     0.62,2, -999.000,9, -999.000,9, -999.000,9,-999.0000,9,  -999.00,9,   -999.0,9,-999.000,9,   -999.0,9,   -999,  -999.0,-999.000,-999.0000,-999.000,  -999.0,-999.000, 21.7924,-999.000
    49RY9407_2,   P09,   102,  1,     14,    204,2,19940816,1905, -2.2415, 142.0775, 3910,    203.1,  17.3294,  35.3814,2,  35.3815,2,   -999.0,9,    138.6,2,     5.77,2,    13.22,2,     0.01,2,     0.99,2, -999.000,9, -999.000,9, -999.000,9,-999.0000,9,  -999.00,9,   -999.0,9,-999.000,9,   -999.0,9,   -999,  -999.0,  17.323,-999.0000,-999.000,   203.0,-999.000, 17.2953,-999.000
    49RY9407_2,   P09,   102,  1,     12,    213,2,19940816,1905, -2.2415, 142.0775, 3910,    303.8,  11.5936,  34.9019,2,  34.8971,2,   -999.0,9,    152.2,2,    12.84,2,    20.29,2,     0.00,2,     1.40,2, -999.000,9, -999.000,9, -999.000,9,-999.0000,9,  -999.00,9,   -999.0,9,-999.000,9,   -999.0,9,   -999,  -999.0,-999.000,-999.0000,-999.000,   306.0,-999.000, 11.5547,-999.000
    49RY9407_2,   P09,   102,  1,     13,    214,2,19940816,1905, -2.2415, 142.0775, 3910,    303.8,  11.5907,  34.8954,2,  34.8948,2,   -999.0,9,    152.3,2,    12.92,2,    20.34,2,     0.01,2,     1.42,2, -999.000,9, -999.000,9, -999.000,9,-999.0000,9,  -999.00,9,   -999.0,9,-999.000,9,   -999.0,9,   -999,  -999.0,-999.000,-999.0000,-999.000,   307.0,-999.000, 11.5518,-999.000
    49RY9407_2,   P09,   102,  2,     10,    224,2,19940816,2048, -2.2337, 142.0723, 3900,    403.2,   9.7461,  34.7144,2,  34.7130,2,   -999.0,9,    128.8,2,    22.80,2,    26.34,2,     0.00,2,     1.78,2, -999.000,9, -999.000,9, -999.000,9,-999.0000,9,  -999.00,9,   -999.0,9,-999.000,9,   -999.0,9,   -999,  -999.0,-999.000,-999.0000,-999.000,  -999.0,-999.000,  9.6997,-999.000
    49RY9407_2,   P09,   102,  2,      9,    223,2,19940816,2048, -2.2337, 142.0723, 3900,    504.5,   7.8227,  34.5825,2,  34.5859,2,   -999.0,9,    155.1,2,    25.90,2,    27.69,2,     0.00,2,     1.89,2, -999.000,9, -999.000,9, -999.000,9,-999.0000,9,  -999.00,9,   -999.0,9,-999.000,9,   -999.0,9,   -999,  -999.0,-999.000,-999.0000,-999.000,  -999.0,-999.000,  7.7716,-999.000
    49RY9407_2,   P09,   102,  2,      8,    212,2,19940816,2048, -2.2337, 142.0723, 3900,    604.8,   6.8823,  34.5455,2,  34.5511,2,   -999.0,9,    132.6,2,    37.75,2,    31.77,2,     0.00,2,     2.17,2, -999.000,9, -999.000,9, -999.000,9,-999.0000,9,  -999.00,9,   -999.0,9,-999.000,9,   -999.0,9,   -999,  -999.0,-999.000,-999.0000,-999.000,  -999.0,-999.000,  6.8249,-999.000
    49RY9407_2,   P09,   102,  2,      7,    220,2,19940816,2048, -2.2337, 142.0723, 3900,    705.6,   5.9736,  34.5125,2,  34.5124,2,   -999.0,9,    141.0,2,    45.02,2,    32.70,2,     0.00,2,     2.24,2, -999.000,9, -999.000,9, -999.000,9,-999.0000,9,  -999.00,9,   -999.0,9,-999.000,9,   -999.0,9,   -999,  -999.0,-999.000,-999.0000,-999.000,  -999.0,-999.000,  5.9110,-999.000
    49RY9407_2,   P09,   102,  2,      6,    209,2,19940816,2048, -2.2337, 142.0723, 3900,    706.0,   5.9773,  34.5138,2,  34.5130,2,   -999.0,9,    140.5,2,    45.24,2,    32.63,2,     0.00,2,     2.24,2, -999.000,9, -999.000,9, -999.000,9,-999.0000,9,  -999.00,9,   -999.0,9,-999.000,9,   -999.0,9,   -999,  -999.0,-999.000,-999.0000,-999.000,  -999.0,-999.000,  5.9147,-999.000
    49RY9407_2,   P09,   102,  2,      5,    218,2,19940816,2048, -2.2337, 142.0723, 3900,    807.0,   5.2711,  34.4937,2,  34.5012,2,   -999.0,9,    148.3,2,    52.73,2,    33.02,2,     0.00,2,     2.28,2, -999.000,9, -999.000,9, -999.000,9,-999.0000,9,  -999.00,9,   -999.0,9,-999.000,9,   -999.0,9,   -999,  -999.0,-999.000,-999.0000,-999.000,  -999.0,-999.000,  5.2033,-999.000
    49RY9407_2,   P09,   102,  2,      4,    206,2,19940816,2048, -2.2337, 142.0723, 3900,    907.4,   4.7655,  34.5305,2,  34.5315,2,   -999.0,9,    121.4,2,    70.80,6,    36.08,6,     0.00,6,     2.53,6, -999.000,9, -999.000,9, -999.000,9,-999.0000,9,  -999.00,9,   -999.0,9,-999.000,9,   -999.0,9,   -999,  -999.0,-999.000,-999.0000,-999.000,  -999.0,-999.000,  4.6921,-999.000
    49RY9407_2,   P09,   102,  2,      3,    205,2,19940816,2048, -2.2337, 142.0723, 3900,   1008.3,   4.3642,  34.5523,2,  34.5458,2,   -999.0,9,    113.8,2,    81.32,2,    37.12,2,     0.00,2,     2.61,2, -999.000,9, -999.000,9, -999.000,9,-999.0000,9,  -999.00,9,   -999.0,9,-999.000,9,   -999.0,9,   -999,  -999.0,-999.000,-999.0000,-999.000,  -999.0,-999.000,  4.2849,-999.000
    49RY9407_2,   P09,   102,  2,      2,    216,2,19940816,2048, -2.2337, 142.0723, 3900,   1261.8,   3.5936,  34.5779,2,  34.5777,2,   -999.0,9,    103.8,2,   103.23,2,    38.60,2,     0.00,2,     2.71,2, -999.000,9, -999.000,9, -999.000,9,-999.0000,9,  -999.00,9,   -999.0,9,-999.000,9,   -999.0,9,   -999,  -999.0,-999.000,-999.0000,-999.000,  -999.0,-999.000,  3.4995,-999.000
    49RY9407_2,   P09,   102,  2,      1,    201,2,19940816,2048, -2.2337, 142.0723, 3900,   1514.7,   2.9125,  34.6052,2,  34.6056,2,   -999.0,9,    109.0,2,   118.44,2,    38.51,2,     0.00,2,     2.72,2, -999.000,9, -999.000,9, -999.000,9,-999.0000,9,  -999.00,9,   -999.0,9,-999.000,9,   -999.0,9,   -999,  -999.0,-999.000,-999.0000,-999.000,  -999.0,-999.000,  2.8044,-999.000
    49RY9407_2,   P09,   102,  2,     24,    222,2,19940816,2048, -2.2337, 142.0723, 3900,   1768.0,   2.4559,  34.6235,2,  34.6251,2,   -999.0,9,    115.6,2,   128.51,2,    38.43,2,     0.00,2,     2.69,2, -999.000,9, -999.000,9, -999.000,9,-999.0000,9,  -999.00,9,   -999.0,9,-999.000,9,   -999.0,9,   -999,  -999.0,-999.000,-999.0000,-999.000,  -999.0,-999.000,  2.3323,-999.000
    49RY9407_2,   P09,   102,  2,     23,    228,2,19940816,2048, -2.2337, 142.0723, 3900,   2021.9,   2.2182,  34.6377,2,  34.6363,2,   -999.0,9,    120.2,2,   133.56,2,    38.14,2,     0.00,2,     2.64,2, -999.000,9, -999.000,9, -999.000,9,-999.0000,9,  -999.00,9,   -999.0,9,-999.000,9,   -999.0,9,   -999,  -999.0,-999.000,-999.0000,-999.000,  -999.0,-999.000,  2.0766,-999.000
    49RY9407_2,   P09,   102,  2,     21,    226,2,19940816,2048, -2.2337, 142.0723, 3900,   2275.7,   1.9321,  34.6502,2,  34.6514,2,   -999.0,9,    128.3,2,   138.67,2,    37.69,2,     0.00,2,     2.63,2, -999.000,9, -999.000,9, -999.000,9,-999.0000,9,  -999.00,9,   -999.0,9,-999.000,9,   -999.0,9,   -999,  -999.0,-999.000,-999.0000,-999.000,  -999.0,-999.000,  1.7730,-999.000
    49RY9407_2,   P09,   102,  2,     22,    227,2,19940816,2048, -2.2337, 142.0723, 3900,   2275.7,   1.9321,  34.6502,2,  34.6512,2,   -999.0,9,    128.8,2,   138.74,6,    37.79,6,     0.00,6,     2.64,6, -999.000,9, -999.000,9, -999.000,9,-999.0000,9,  -999.00,9,   -999.0,9,-999.000,9,   -999.0,9,   -999,  -999.0,-999.000,-999.0000,-999.000,  -999.0,-999.000,  1.7730,-999.000
    49RY9407_2,   P09,   102,  2,     20,    203,2,19940816,2048, -2.2337, 142.0723, 3900,   2530.9,   1.8006,  34.6583,2,  34.6599,2,   -999.0,9,    133.2,2,   140.48,2,    37.27,2,     0.00,2,     2.62,2, -999.000,9, -999.000,9, -999.000,9,-999.0000,9,  -999.00,9,   -999.0,9,-999.000,9,   -999.0,9,   -999,  -999.0,-999.000,-999.0000,-999.000,  2528.0,-999.000,  1.6213,-999.000
    49RY9407_2,   P09,   102,  2,     19,    215,2,19940816,2048, -2.2337, 142.0723, 3900,   2785.5,   1.6606,  34.6669,2,  34.6672,2,   -999.0,9,    139.8,2,   141.90,2,    36.93,2,     0.00,2,     2.59,2, -999.000,9, -999.000,9, -999.000,9,-999.0000,9,  -999.00,9,   -999.0,9,-999.000,9,   -999.0,9,   -999,  -999.0,-999.000,-999.0000,-999.000,  -999.0,-999.000,  1.4606,-999.000
    49RY9407_2,   P09,   102,  2,     18,    221,2,19940816,2048, -2.2337, 142.0723, 3900,   3040.2,   1.6026,  34.6719,2,  34.6725,2,   -999.0,9,    143.2,2,   142.29,2,    36.77,2,     0.00,2,     2.57,2, -999.000,9, -999.000,9, -999.000,9,-999.0000,9,  -999.00,9,   -999.0,9,-999.000,9,   -999.0,9,   -999,  -999.0,-999.000,-999.0000,-999.000,  3041.0,-999.000,  1.3797,-999.000
    49RY9407_2,   P09,   102,  2,     17,    219,4,19940816,2048, -2.2337, 142.0723, 3900,   3295.6,   1.5754,  34.6745,2,  34.6756,2,   -999.0,9,    145.5,2,   142.36,2,    36.58,2,     0.00,2,     2.54,2, -999.000,9, -999.000,9, -999.000,9,-999.0000,9,  -999.00,9,   -999.0,9,-999.000,9,   -999.0,9,   -999,  -999.0,-999.000,-999.0000,-999.000,  -999.0,-999.000,  1.3280,-999.000
    49RY9407_2,   P09,   102,  2,     15,    217,2,19940816,2048, -2.2337, 142.0723, 3900,   3807.7,   1.6073,  34.6762,2,  34.6770,2,   -999.0,9,    146.6,2,   142.74,6,    36.79,6,     0.00,6,     2.54,6, -999.000,9, -999.000,9, -999.000,9,-999.0000,9,  -999.00,9,   -999.0,9,-999.000,9,   -999.0,9,   -999,  -999.0,-999.000,-999.0000,-999.000,  -999.0,-999.000,  1.3063,-999.000
    49RY9407_2,   P09,   102,  2,     16,    229,2,19940816,2048, -2.2337, 142.0723, 3900,   3807.7,   1.6073,  34.6762,2,  34.6768,2,   -999.0,9,    146.4,2,   142.47,6,    36.76,6,     0.00,6,     2.54,6, -999.000,9, -999.000,9, -999.000,9,-999.0000,9,  -999.00,9,   -999.0,9,-999.000,9,   -999.0,9,   -999,  -999.0,   1.599,-999.0000,-999.000,  3807.0,-999.000,  1.3063,-999.000
    49RY9407_2,   P09,   102,  2,     14,    204,2,19940816,2048, -2.2337, 142.0723, 3900,   3808.9,   1.6074,  34.6768,2,  34.6768,2,   -999.0,9,    146.8,2,   142.48,2,    36.63,2,     0.00,2,     2.54,2, -999.000,9, -999.000,9, -999.000,9,-999.0000,9,  -999.00,9,   -999.0,9,-999.000,9,   -999.0,9,   -999,  -999.0,   1.605,-999.0000,-999.000,  3805.0,-999.000,  1.3062,-999.000
    49RY9407_2,   P09,   102,  2,     13,    214,2,19940816,2048, -2.2337, 142.0723, 3900,   3947.1,   1.6218,  34.6772,2,  34.6772,2,   -999.0,9,   -999.0,9,  -999.00,9,  -999.00,9,  -999.00,9,  -999.00,9, -999.000,9, -999.000,9, -999.000,9,-999.0000,9,  -999.00,9,   -999.0,9,-999.000,9,   -999.0,9,   -999,  -999.0,-999.000,-999.0000,-999.000,  3941.0,-999.000,  1.3053,-999.000
    49RY9407_2,   P09,   102,  2,     12,    213,4,19940816,2048, -2.2337, 142.0723, 3900,   3947.2,   1.6213,  34.6772,2,  34.6770,6,   -999.0,9,    146.4,2,   142.63,2,    36.64,2,     0.00,2,     2.54,2, -999.000,9, -999.000,9, -999.000,9,-999.0000,9,  -999.00,9,   -999.0,9,-999.000,9,   -999.0,9,   -999,  -999.0,-999.000,-999.0000,-999.000,  3942.0,-999.000,  1.3048,-999.000
    49RY9407_2,   P09,   103,  1,      0,      0,2,19940817,0138, -2.4863, 142.1648, 4145,      0.0,  28.3816,  33.7689,2,-999.0000,9,   -999.0,9,    199.8,2,     1.21,2,     0.01,2,     0.00,2,     0.05,2, -999.000,9, -999.000,9, -999.000,9,-999.0000,9,  -999.00,9,   -999.0,9,-999.000,9,   -999.0,9,   -999,  -999.0,-999.000,-999.0000,-999.000,  -999.0,-999.000, 28.3816,-999.000
    49RY9407_2,   P09,   103,  1,     24,    222,2,19940817,0138, -2.4863, 142.1648, 4145,      9.9,  28.4022,  33.8316,2,  33.8294,2,   -999.0,9,    202.9,2,     1.15,2,     0.02,2,     0.00,2,     0.05,2, -999.000,9, -999.000,9, -999.000,9,-999.0000,9,  -999.00,9,   -999.0,9,-999.000,9,   -999.0,9,   -999,  -999.0,-999.000,-999.0000,-999.000,  -999.0,-999.000, 28.3999,-999.000
    49RY9407_2,   P09,   103,  1,     23,    228,2,19940817,0138, -2.4863, 142.1648, 4145,     25.9,  28.4939,  34.1685,2,  34.1572,2,   -999.0,9,    202.0,6,     1.21,6,     0.02,6,     0.00,6,     0.07,6, -999.000,9, -999.000,9, -999.000,9,-999.0000,9,  -999.00,9,   -999.0,9,-999.000,9,   -999.0,9,   -999,  -999.0,-999.000,-999.0000,-999.000,  -999.0,-999.000, 28.4878,-999.000
    49RY9407_2,   P09,   103,  1,     22,    227,2,19940817,0138, -2.4863, 142.1648, 4145,     50.8,  27.3905,  34.4566,2,  34.4589,2,   -999.0,9,    203.7,2,     1.18,2,     0.03,2,     0.00,2,     0.07,2, -999.000,9, -999.000,9, -999.000,9,-999.0000,9,  -999.00,9,   -999.0,9,-999.000,9,   -999.0,9,   -999,  -999.0,-999.000,-999.0000,-999.000,  -999.0,-999.000, 27.3788,-999.000
    49RY9407_2,   P09,   103,  1,     21,    226,2,19940817,0138, -2.4863, 142.1648, 4145,     75.7,  26.7479,  34.5265,2,  34.5293,2,   -999.0,9,    196.8,2,     1.22,2,     0.31,2,     0.21,2,     0.07,2, -999.000,9, -999.000,9, -999.000,9,-999.0000,9,  -999.00,9,   -999.0,9,-999.000,9,   -999.0,9,   -999,  -999.0,-999.000,-999.0000,-999.000,  -999.0,-999.000, 26.7307,-999.000
    49RY9407_2,   P09,   103,  1,     20,    203,2,19940817,0138, -2.4863, 142.1648, 4145,    100.7,  26.0440,  34.7091,2,  34.7089,2,   -999.0,9,    190.4,2,     1.32,2,     1.22,2,     0.23,2,     0.21,2, -999.000,9, -999.000,9, -999.000,9,-999.0000,9,  -999.00,9,   -999.0,9,-999.000,9,   -999.0,9,   -999,  -999.0,-999.000,-999.0000,-999.000,   104.0,-999.000, 26.0215,-999.000
    49RY9407_2,   P09,   103,  1,     19,    215,2,19940817,0138, -2.4863, 142.1648, 4145,    125.7,  23.3839,  35.4055,2,  35.3892,2,   -999.0,9,    153.8,2,     2.26,2,     6.30,2,     0.04,2,     0.53,2, -999.000,9, -999.000,9, -999.000,9,-999.0000,9,  -999.00,9,   -999.0,9,-999.000,9,   -999.0,9,   -999,  -999.0,-999.000,-999.0000,-999.000,  -999.0,-999.000, 23.3579,-999.000
    49RY9407_2,   P09,   103,  1,     18,    221,2,19940817,0138, -2.4863, 142.1648, 4145,    151.5,  21.5330,  35.5249,2,  35.5253,2,   -999.0,9,    151.6,2,     2.74,2,     7.83,2,     0.02,2,     0.60,2, -999.000,9, -999.000,9, -999.000,9,-999.0000,9,  -999.00,9,   -999.0,9,-999.000,9,   -999.0,9,   -999,  -999.0,-999.000,-999.0000,-999.000,   157.0,-999.000, 21.5034,-999.000
    49RY9407_2,   P09,   103,  1,     17,    219,2,19940817,0138, -2.4863, 142.1648, 4145,    201.0,  18.1066,  35.4178,2,  35.4113,2,   -999.0,9,    147.8,6,     4.88,6,    11.58,6,     0.01,6,     0.84,6, -999.000,9, -999.000,9, -999.000,9,-999.0000,9,  -999.00,9,   -999.0,9,-999.000,9,   -999.0,9,   -999,  -999.0,-999.000,-999.0000,-999.000,  -999.0,-999.000, 18.0718,-999.000
    49RY9407_2,   P09,   103,  1,     15,    217,4,19940817,0138, -2.4863, 142.1648, 4145,    301.7,  12.0239,  34.9266,2,  34.9304,2,   -999.0,9,    146.9,2,    12.44,2,    20.12,2,     0.01,2,     1.39,2, -999.000,9, -999.000,9, -999.000,9,-999.0000,9,  -999.00,9,   -999.0,9,-999.000,9,   -999.0,9,   -999,  -999.0,-999.000,-999.0000,-999.000,  -999.0,-999.000, 11.9844,-999.000
    49RY9407_2,   P09,   103,  1,     16,    229,2,19940817,0138, -2.4863, 142.1648, 4145,    301.7,  12.0239,  34.9266,2,  34.9300,2,   -999.0,9,    144.6,2,    12.40,2,    20.06,2,     0.00,2,     1.33,2, -999.000,9, -999.000,9, -999.000,9,-999.0000,9,  -999.00,9,   -999.0,9,-999.000,9,   -999.0,9,   -999,  -999.0,  21.400,-999.0000,-999.000,   299.0,-999.000, 11.9844,-999.000
    49RY9407_2,   P09,   103,  1,     14,    204,2,19940817,0138, -2.4863, 142.1648, 4145,    503.4,   7.8791,  34.5904,2,  34.5903,2,   -999.0,9,    156.0,2,    25.39,2,    27.61,2,     0.00,2,     1.88,2, -999.000,9, -999.000,9, -999.000,9,-999.0000,9,  -999.00,9,   -999.0,9,-999.000,9,   -999.0,9,   -999,  -999.0,  17.956,-999.0000,-999.000,   502.0,-999.000,  7.8279,-999.000
    49RY9407_2,   P09,   103,  1,     12,    213,2,19940817,0138, -2.4863, 142.1648, 4145,    606.2,   6.9257,  34.5485,2,  34.5454,2,   -999.0,9,    141.1,2,    34.63,2,    30.72,2,     0.00,2,     2.09,2, -999.000,9, -999.000,9, -999.000,9,-999.0000,9,  -999.00,9,   -999.0,9,-999.000,9,   -999.0,9,   -999,  -999.0,-999.000,-999.0000,-999.000,   607.0,-999.000,  6.8680,-999.000
    49RY9407_2,   P09,   103,  1,     13,    214,2,19940817,0138, -2.4863, 142.1648, 4145,    606.6,   6.9214,  34.5469,2,  34.5456,2,   -999.0,9,    142.1,2,    34.58,2,    30.60,2,     0.00,2,     2.07,2, -999.000,9, -999.000,9, -999.000,9,-999.0000,9,  -999.00,9,   -999.0,9,-999.000,9,   -999.0,9,   -999,  -999.0,-999.000,-999.0000,-999.000,   602.0,-999.000,  6.8637,-999.000