BOTTLE,20020306WHPSIOdm
EXPOCODE,SECT_ID,STNNBR,CASTNO,SAMPNO,BTLNBR,BTLNBR_FLAG_W,DATE,TIME,LATITUDE,LONGITUDE,DEPTH,CTDPRS,CTDTMP,CTDSAL,CTDSAL_FLAG_W,SALNTY,SALNTY_FLAG_W,CTDOXY,CTDOXY_FLAG_W,OXYGEN,OXYGEN_FLAG_W,SILCAT,SILCAT_FLAG_W,NITRAT,NITRAT_FLAG_W,NITRIT,NITRIT_FLAG_W,PHSPHT,PHSPHT_FLAG_W,CFC-11,CFC-11_FLAG_W,CFC-12,CFC-12_FLAG_W,TRITUM,TRITUM_FLAG_W,HELIUM,HELIUM_FLAG_W,DELHE3,DELHE3_FLAG_W,DELC14,DELC14_FLAG_W,NEON,NEON_FLAG_W,TCARBN,TCARBN_FLAG_W,CTDRAW,C14ERR,REVTMP,HELIER,DELHER,REVPRS,NEONER,THETA,TRITER
,,,,,,,,,,,,DBAR,ITS-90,PSS-78,,PSS-78,,UMOL/KG,,UMOL/KG,,UMOL/KG,,UMOL/KG,,UMOL/KG,,UMOL/KG,,PMOL/KG,,PMOL/KG,,TU,,NMOL/KG,,PERCNT,,/MILLE,,NMOL/KG,,UMOL/KG,,,/MILLE,ITS-90,NMOL/KG,PERCNT,DBAR,NMOL/KG,DEG C,TU
    49RY9407_1,   P09,    30,  1,      0,      0,2,19940715,1226, 25.4967, 137.0092, 4915,      0.7,  30.0704,  34.8540,2,-999.0000,9,    185.8,3,    197.2,2,     1.33,2,     0.01,2,     0.00,2,     0.00,2, -999.000,9, -999.000,9, -999.000,9,-999.0000,9,  -999.00,9,   -999.0,9,-999.000,9,   -999.0,9,   -999,  -999.0,-999.000,-999.0000,-999.000,  -999.0,-999.000, 30.0703,-999.000
    49RY9407_1,   P09,    30,  1,     11,    216,2,19940715,1226, 25.4967, 137.0092, 4915,     10.0,  29.8004,  34.8881,2,  34.8877,2,    192.2,3,    198.2,2,     1.33,2,     0.00,2,     0.00,2,     0.00,2, -999.000,9, -999.000,9, -999.000,9,-999.0000,9,  -999.00,9,   -999.0,9,-999.000,9,   -999.0,9,   -999,  -999.0,-999.000,-999.0000,-999.000,  -999.0,-999.000, 29.7980,-999.000
    49RY9407_1,   P09,    30,  1,     10,    214,2,19940715,1226, 25.4967, 137.0092, 4915,     24.7,  29.2767,  34.9403,2,  34.9564,2,    199.3,3,    197.7,2,     1.57,6,     0.01,6,     0.00,6,     0.01,6, -999.000,9, -999.000,9, -999.000,9,-999.0000,9,  -999.00,9,   -999.0,9,-999.000,9,   -999.0,9,   -999,  -999.0,-999.000,-999.0000,-999.000,  -999.0,-999.000, 29.2707,-999.000
    49RY9407_1,   P09,    30,  1,      9,    213,2,19940715,1226, 25.4967, 137.0092, 4915,     50.3,  24.7034,  34.9501,2,  34.9380,2,    224.0,3,    221.5,2,     1.53,2,     0.00,2,     0.00,2,     0.00,2, -999.000,9, -999.000,9, -999.000,9,-999.0000,9,  -999.00,9,   -999.0,9,-999.000,9,   -999.0,9,   -999,  -999.0,  26.520,-999.0000,-999.000,    55.0,-999.000, 24.6926,-999.000
    49RY9407_1,   P09,    30,  1,      8,    212,2,19940715,1226, 25.4967, 137.0092, 4915,     74.9,  22.1188,  35.0341,2,  34.9957,2,    230.3,3,    235.3,6,     1.77,2,     0.04,2,     0.00,2,     0.01,2, -999.000,9, -999.000,9, -999.000,9,-999.0000,9,  -999.00,9,   -999.0,9,-999.000,9,   -999.0,9,   -999,  -999.0,-999.000,-999.0000,-999.000,  -999.0,-999.000, 22.1040,-999.000
    49RY9407_1,   P09,    30,  1,      7,    221,2,19940715,1226, 25.4967, 137.0092, 4915,    100.5,  20.2626,  34.9282,2,  34.9657,2,    233.4,3,    223.6,2,     1.73,2,     0.04,2,     0.00,2,     0.02,2, -999.000,9, -999.000,9, -999.000,9,-999.0000,9,  -999.00,9,   -999.0,9,-999.000,9,   -999.0,9,   -999,  -999.0,  20.490,-999.0000,-999.000,   101.0,-999.000, 20.2439,-999.000
    49RY9407_1,   P09,    30,  1,      6,    209,2,19940715,1226, 25.4967, 137.0092, 4915,    125.1,  19.1835,  34.9066,2,  34.9252,2,    231.4,3,    216.0,2,     2.05,2,     0.22,2,     0.09,2,     0.06,2, -999.000,9, -999.000,9, -999.000,9,-999.0000,9,  -999.00,9,   -999.0,9,-999.000,9,   -999.0,9,   -999,  -999.0,-999.000,-999.0000,-999.000,  -999.0,-999.000, 19.1611,-999.000
    49RY9407_1,   P09,    30,  1,      5,    229,2,19940715,1226, 25.4967, 137.0092, 4915,    150.2,  18.5582,  34.8952,2,  34.8937,2,    217.0,3,    208.0,2,     2.84,2,     2.04,2,     0.09,2,     0.17,2, -999.000,9, -999.000,9, -999.000,9,-999.0000,9,  -999.00,9,   -999.0,9,-999.000,9,   -999.0,9,   -999,  -999.0,  18.561,-999.0000,-999.000,   146.0,-999.000, 18.5319,-999.000
    49RY9407_1,   P09,    30,  1,      4,    206,2,19940715,1226, 25.4967, 137.0092, 4915,    200.9,  17.7374,  34.8276,2,  34.8317,2,    210.6,3,    204.9,2,     3.86,2,     4.04,2,     0.01,2,     0.29,2, -999.000,9, -999.000,9, -999.000,9,-999.0000,9,  -999.00,9,   -999.0,9,-999.000,9,   -999.0,9,   -999,  -999.0,-999.000,-999.0000,-999.000,  -999.0,-999.000, 17.7033,-999.000
    49RY9407_1,   P09,    30,  1,      3,    205,2,19940715,1226, 25.4967, 137.0092, 4915,    301.9,  16.2737,  34.7223,2,  34.7213,2,    196.2,2,    198.1,2,     6.45,2,     6.86,2,     0.01,2,     0.47,2, -999.000,9, -999.000,9, -999.000,9,-999.0000,9,  -999.00,9,   -999.0,9,-999.000,9,   -999.0,9,   -999,  -999.0,-999.000,-999.0000,-999.000,  -999.0,-999.000, 16.2253,-999.000
    49RY9407_1,   P09,    30,  1,      2,    204,2,19940715,1226, 25.4967, 137.0092, 4915,    403.3,  13.9680,  34.5271,2,  34.5371,2,    183.9,2,    185.0,2,    12.74,2,    11.58,2,     0.00,2,     0.81,2, -999.000,9, -999.000,9, -999.000,9,-999.0000,9,  -999.00,9,   -999.0,9,-999.000,9,   -999.0,9,   -999,  -999.0,  14.023,-999.0000,-999.000,   402.0,-999.000, 13.9096,-999.000
    49RY9407_1,   P09,    30,  2,     24,    230,2,19940715,1430, 25.5095, 137.0062, 5050,    503.3,  10.7896,  34.3084,2,  34.3063,2,    175.5,2,    174.2,6,    25.73,6,    18.13,6,     0.00,6,     1.29,6, -999.000,9, -999.000,9, -999.000,9,-999.0000,9,  -999.00,9,   -999.0,9,-999.000,9,   -999.0,9,   -999,  -999.0,-999.000,-999.0000,-999.000,  -999.0,-999.000, 10.7280,-999.000
    49RY9407_1,   P09,    30,  2,     23,    228,2,19940715,1430, 25.5095, 137.0062, 5050,    603.9,   8.4137,  34.1623,2,  34.1661,2,    160.3,2,    155.8,2,    41.31,2,    24.31,2,     0.00,2,     1.75,2, -999.000,9, -999.000,9, -999.000,9,-999.0000,9,  -999.00,9,   -999.0,9,-999.000,9,   -999.0,9,   -999,  -999.0,-999.000,-999.0000,-999.000,  -999.0,-999.000,  8.3499,-999.000
    49RY9407_1,   P09,    30,  2,     21,    226,2,19940715,1430, 25.5095, 137.0062, 5050,    704.7,   6.3856,  34.0984,2,  34.1032,2,    128.5,3,    124.5,2,    62.51,2,    30.80,2,     0.00,2,     2.23,2, -999.000,9, -999.000,9, -999.000,9,-999.0000,9,  -999.00,9,   -999.0,9,-999.000,9,   -999.0,9,   -999,  -999.0,-999.000,-999.0000,-999.000,  -999.0,-999.000,  6.3214,-999.000
    49RY9407_1,   P09,    30,  2,     22,    227,2,19940715,1430, 25.5095, 137.0062, 5050,    704.7,   6.3856,  34.0984,2,  34.1028,2,    128.5,3,    122.9,2,    62.56,2,    30.73,2,     0.00,2,     2.23,2, -999.000,9, -999.000,9, -999.000,9,-999.0000,9,  -999.00,9,   -999.0,9,-999.000,9,   -999.0,9,   -999,  -999.0,-999.000,-999.0000,-999.000,  -999.0,-999.000,  6.3214,-999.000
    49RY9407_1,   P09,    30,  2,     20,    225,2,19940715,1430, 25.5095, 137.0062, 5050,    805.7,   5.2402,  34.1602,2,  34.1551,2,    104.6,3,     88.8,2,    83.23,2,    35.70,2,     0.00,2,     2.59,2, -999.000,9, -999.000,9, -999.000,9,-999.0000,9,  -999.00,9,   -999.0,9,-999.000,9,   -999.0,9,   -999,  -999.0,-999.000,-999.0000,-999.000,  -999.0,-999.000,  5.1732,-999.000
    49RY9407_1,   P09,    30,  2,     19,    224,2,19940715,1430, 25.5095, 137.0062, 5050,    906.6,   4.5431,  34.2298,2,  34.2274,2,     77.0,3,     68.0,2,    98.32,2,    38.57,2,     0.00,2,     2.80,2, -999.000,9, -999.000,9, -999.000,9,-999.0000,9,  -999.00,9,   -999.0,9,-999.000,9,   -999.0,9,   -999,  -999.0,-999.000,-999.0000,-999.000,  -999.0,-999.000,  4.4718,-999.000
    49RY9407_1,   P09,    30,  2,     18,    223,2,19940715,1430, 25.5095, 137.0062, 5050,   1008.5,   3.9540,  34.3119,2,  34.3089,2,     65.7,3,     56.1,2,   112.86,2,    40.44,2,     0.00,2,     2.92,2, -999.000,9, -999.000,9, -999.000,9,-999.0000,9,  -999.00,9,   -999.0,9,-999.000,9,   -999.0,9,   -999,  -999.0,-999.000,-999.0000,-999.000,  -999.0,-999.000,  3.8783,-999.000
    49RY9407_1,   P09,    30,  2,     17,    222,2,19940715,1430, 25.5095, 137.0062, 5050,   1261.4,   3.1246,  34.4372,2,  34.4367,2,     60.1,2,     56.3,2,   132.10,6,    41.39,6,     0.00,6,     2.97,6, -999.000,9, -999.000,9, -999.000,9,-999.0000,9,  -999.00,9,   -999.0,9,-999.000,9,   -999.0,9,   -999,  -999.0,-999.000,-999.0000,-999.000,  -999.0,-999.000,  3.0353,-999.000
    49RY9407_1,   P09,    30,  2,     16,    210,2,19940715,1430, 25.5095, 137.0062, 5050,   1514.1,   2.5016,  34.5213,2,  34.5212,2,     71.8,2,     70.8,2,   144.11,2,    40.89,2,     0.00,2,     2.93,2, -999.000,9, -999.000,9, -999.000,9,-999.0000,9,  -999.00,9,   -999.0,9,-999.000,9,   -999.0,9,   -999,  -999.0,-999.000,-999.0000,-999.000,  -999.0,-999.000,  2.3986,-999.000
    49RY9407_1,   P09,    30,  2,     15,    220,2,19940715,1430, 25.5095, 137.0062, 5050,   1767.1,   2.1914,  34.5735,2,  34.5708,2,     94.4,2,     93.0,2,   145.21,2,    39.69,2,     0.00,2,     2.82,2, -999.000,9, -999.000,9, -999.000,9,-999.0000,9,  -999.00,9,   -999.0,9,-999.000,9,   -999.0,9,   -999,  -999.0,-999.000,-999.0000,-999.000,  -999.0,-999.000,  2.0716,-999.000
    49RY9407_1,   P09,    30,  2,     14,    219,2,19940715,1430, 25.5095, 137.0062, 5050,   2021.4,   1.9749,  34.6102,2,  34.6096,2,    110.2,2,    110.8,6,   143.99,2,    38.59,2,     0.00,2,     2.73,2, -999.000,9, -999.000,9, -999.000,9,-999.0000,9,  -999.00,9,   -999.0,9,-999.000,9,   -999.0,9,   -999,  -999.0,-999.000,-999.0000,-999.000,  -999.0,-999.000,  1.8372,-999.000
    49RY9407_1,   P09,    30,  2,     13,    218,4,19940715,1430, 25.5095, 137.0062, 5050,   2274.7,   1.8606,  34.6300,2,  34.6299,2,    123.1,2,    122.8,2,   143.05,2,    37.86,2,     0.00,2,     2.67,2, -999.000,9, -999.000,9, -999.000,9,-999.0000,9,  -999.00,9,   -999.0,9,-999.000,9,   -999.0,9,   -999,  -999.0,-999.000,-999.0000,-999.000,  -999.0,-999.000,  1.7029,-999.000
    49RY9407_1,   P09,    30,  2,     12,    217,2,19940715,1430, 25.5095, 137.0062, 5050,   2785.1,   1.6990,  34.6534,2,  34.6530,2,    135.5,2,    135.9,2,   142.70,2,    37.23,2,     0.00,2,     2.61,2, -999.000,9, -999.000,9, -999.000,9,-999.0000,9,  -999.00,9,   -999.0,9,-999.000,9,   -999.0,9,   -999,  -999.0,-999.000,-999.0000,-999.000,  -999.0,-999.000,  1.4984,-999.000
    49RY9407_1,   P09,    30,  2,     11,    216,2,19940715,1430, 25.5095, 137.0062, 5050,   3039.5,   1.6552,  34.6598,2,  34.6595,2,    138.0,2,    139.3,2,   142.39,2,    36.90,2,     0.00,2,     2.58,2, -999.000,9, -999.000,9, -999.000,9,-999.0000,9,  -999.00,9,   -999.0,9,-999.000,9,   -999.0,9,   -999,  -999.0,-999.000,-999.0000,-999.000,  -999.0,-999.000,  1.4313,-999.000
    49RY9407_1,   P09,    30,  2,     10,    214,2,19940715,1430, 25.5095, 137.0062, 5050,   3295.7,   1.5960,  34.6680,2,  34.6683,2,    147.6,2,    146.9,2,   142.04,2,    36.60,2,     0.00,2,     2.56,2, -999.000,9, -999.000,9, -999.000,9,-999.0000,9,  -999.00,9,   -999.0,9,-999.000,9,   -999.0,9,   -999,  -999.0,-999.000,-999.0000,-999.000,  -999.0,-999.000,  1.3483,-999.000
    49RY9407_1,   P09,    30,  2,      9,    213,2,19940715,1430, 25.5095, 137.0062, 5050,   3552.0,   1.5600,  34.6736,2,  34.6744,2,    150.0,2,    150.0,2,   141.58,2,    36.29,2,     0.00,2,     2.54,2, -999.000,9, -999.000,9, -999.000,9,-999.0000,9,  -999.00,9,   -999.0,9,-999.000,9,   -999.0,9,   -999,  -999.0,   1.559,-999.0000,-999.000,  3550.0,-999.000,  1.2870,-999.000
    49RY9407_1,   P09,    30,  2,      7,    221,4,19940715,1430, 25.5095, 137.0062, 5050,   3807.6,   1.5375,  34.6790,2,  34.6780,2,    153.5,2,    152.9,2,   140.13,2,    35.82,2,     0.00,2,     2.49,2, -999.000,9, -999.000,9, -999.000,9,-999.0000,9,  -999.00,9,   -999.0,9,-999.000,9,   -999.0,9,   -999,  -999.0,   1.534,-999.0000,-999.000,  3807.0,-999.000,  1.2384,-999.000
    49RY9407_1,   P09,    30,  2,      8,    212,2,19940715,1430, 25.5095, 137.0062, 5050,   3807.6,   1.5375,  34.6790,2,  34.6786,2,    153.5,2,    155.0,6,   140.91,2,    36.11,2,     0.00,2,     2.51,2, -999.000,9, -999.000,9, -999.000,9,-999.0000,9,  -999.00,9,   -999.0,9,-999.000,9,   -999.0,9,   -999,  -999.0,-999.000,-999.0000,-999.000,  -999.0,-999.000,  1.2384,-999.000
    49RY9407_1,   P09,    30,  2,      6,    209,2,19940715,1430, 25.5095, 137.0062, 5050,   4320.9,   1.5468,  34.6827,2,  34.6829,2,    157.9,2,    159.3,2,   140.10,2,    35.89,2,     0.00,2,     2.50,2, -999.000,9, -999.000,9, -999.000,9,-999.0000,9,  -999.00,9,   -999.0,9,-999.000,9,   -999.0,9,   -999,  -999.0,-999.000,-999.0000,-999.000,  -999.0,-999.000,  1.1909,-999.000
    49RY9407_1,   P09,    30,  2,      5,    229,2,19940715,1430, 25.5095, 137.0062, 5050,   4577.3,   1.5698,  34.6834,2,  34.6837,2,    158.9,2,    159.9,2,   139.95,2,    35.82,2,     0.00,2,     2.49,2, -999.000,9, -999.000,9, -999.000,9,-999.0000,9,  -999.00,9,   -999.0,9,-999.000,9,   -999.0,9,   -999,  -999.0,   1.569,-999.0000,-999.000,  4576.0,-999.000,  1.1837,-999.000
    49RY9407_1,   P09,    30,  2,      4,    206,2,19940715,1430, 25.5095, 137.0062, 5050,   4834.0,   1.5997,  34.6831,2,  34.6826,6,    159.3,2,    157.8,2,   140.03,2,    35.85,2,     0.00,2,     2.49,2, -999.000,9, -999.000,9, -999.000,9,-999.0000,9,  -999.00,9,   -999.0,9,-999.000,9,   -999.0,9,   -999,  -999.0,-999.000,-999.0000,-999.000,  -999.0,-999.000,  1.1822,-999.000
    49RY9407_1,   P09,    30,  2,      2,    204,2,19940715,1430, 25.5095, 137.0062, 5050,   5093.0,   1.6287,  34.6830,2,  34.6827,6,    157.7,2,    158.7,2,   139.78,6,    35.83,6,     0.00,6,     2.48,6, -999.000,9, -999.000,9, -999.000,9,-999.0000,9,  -999.00,9,   -999.0,9,-999.000,9,   -999.0,9,   -999,  -999.0,   1.627,-999.0000,-999.000,  5091.0,-999.000,  1.1788,-999.000
    49RY9407_1,   P09,    30,  2,      3,    205,2,19940715,1430, 25.5095, 137.0062, 5050,   5093.6,   1.6291,  34.6834,2,  34.6839,2,    157.7,2,    157.6,2,   140.02,6,    35.82,6,     0.00,6,     2.48,6, -999.000,9, -999.000,9, -999.000,9,-999.0000,9,  -999.00,9,   -999.0,9,-999.000,9,   -999.0,9,   -999,  -999.0,-999.000,-999.0000,-999.000,  -999.0,-999.000,  1.1790,-999.000
    49RY9407_1,   P09,    31,  1,      0,      0,2,19940715,1922, 25.0083, 137.0020, 5020,      2.1,  29.7129,  34.7504,2,-999.0000,9,    183.9,3,    195.7,2,     1.29,2,     0.00,2,     0.01,2,     0.00,2, -999.000,9, -999.000,9, -999.000,9,-999.0000,9,  -999.00,9,    100.7,3,-999.000,9,   -999.0,9,   -999,    10.9,-999.000,-999.0000,-999.000,  -999.0,-999.000, 29.7124,-999.000
    49RY9407_1,   P09,    31,  1,     18,    223,2,19940715,1922, 25.0083, 137.0020, 5020,      9.2,  29.7118,  34.7530,2,  34.7529,2,    176.0,3,    199.3,2,     1.25,2,     0.01,2,     0.00,2,     0.00,2, -999.000,9, -999.000,9, -999.000,9,-999.0000,9,  -999.00,9,    129.1,3,-999.000,9,   1933.4,2,   -999,    13.8,-999.000,-999.0000,-999.000,  -999.0,-999.000, 29.7095,-999.000
    49RY9407_1,   P09,    31,  1,     17,    222,2,19940715,1922, 25.0083, 137.0020, 5020,     24.9,  28.4663,  34.6491,2,  34.6825,2,    207.1,3,    208.2,2,     1.33,2,     0.00,2,     0.00,2,     0.00,2, -999.000,9, -999.000,9, -999.000,9,-999.0000,9,  -999.00,9,     96.6,3,-999.000,9,   1934.6,2,   -999,    10.3,-999.000,-999.0000,-999.000,  -999.0,-999.000, 28.4604,-999.000
    49RY9407_1,   P09,    31,  1,     16,    210,2,19940715,1922, 25.0083, 137.0020, 5020,     50.4,  23.3408,  34.9641,2,  34.9572,2,    238.9,3,    227.5,2,     1.61,2,     0.04,2,     0.00,2,     0.00,2, -999.000,9, -999.000,9, -999.000,9,-999.0000,9,  -999.00,9,    114.1,3,-999.000,9,   1960.5,6,   -999,    10.4,-999.000,-999.0000,-999.000,  -999.0,-999.000, 23.3304,-999.000
    49RY9407_1,   P09,    31,  1,     15,    221,2,19940715,1922, 25.0083, 137.0020, 5020,     74.6,  21.8015,  34.9579,2,  34.9647,2,    239.1,3,    221.6,2,     1.85,2,     0.03,2,     0.00,2,     0.00,2, -999.000,9, -999.000,9, -999.000,9,-999.0000,9,  -999.00,9,    118.7,3,-999.000,9,   1974.5,2,   -999,    11.1,  21.840,-999.0000,-999.000,    79.0,-999.000, 21.7868,-999.000
    49RY9407_1,   P09,    31,  1,     14,    219,2,19940715,1922, 25.0083, 137.0020, 5020,    100.4,  20.4077,  34.9477,2,  34.9503,2,    226.8,3,    215.5,2,     1.97,2,     0.08,2,     0.00,2,     0.02,2, -999.000,9, -999.000,9, -999.000,9,-999.0000,9,  -999.00,9,    112.6,3,-999.000,9,   1991.6,2,   -999,     8.7,-999.000,-999.0000,-999.000,  -999.0,-999.000, 20.3889,-999.000
    49RY9407_1,   P09,    31,  1,     13,    229,2,19940715,1922, 25.0083, 137.0020, 5020,    125.5,  19.4606,  34.9071,2,  34.9134,2,    218.9,3,    206.8,2,     2.60,2,     2.01,2,     0.10,2,     0.14,2, -999.000,9, -999.000,9, -999.000,9,-999.0000,9,  -999.00,9,    109.8,3,-999.000,9,   2002.1,2,   -999,    12.1,  19.470,-999.0000,-999.000,   122.0,-999.000, 19.4379,-999.000
    49RY9407_1,   P09,    31,  1,     12,    217,2,19940715,1922, 25.0083, 137.0020, 5020,    149.9,  18.7067,  34.8954,2,  34.8789,2,    211.8,3,    204.3,6,     2.99,2,     3.11,2,     0.03,2,     0.19,2, -999.000,9, -999.000,9, -999.000,9,-999.0000,9,  -999.00,9,    119.5,3,-999.000,9,   2008.7,2,   -999,    10.7,-999.000,-999.0000,-999.000,  -999.0,-999.000, 18.6803,-999.000
    49RY9407_1,   P09,    31,  1,     11,    204,2,19940715,1922, 25.0083, 137.0020, 5020,    201.1,  17.4843,  34.8069,2,  34.8077,2,    206.9,2,    202.5,2,     4.17,2,     4.70,2,     0.01,2,     0.29,2, -999.000,9, -999.000,9, -999.000,9,-999.0000,9,  -999.00,9,    112.5,3,-999.000,9,   2024.3,2,   -999,     8.9,  17.491,-999.0000,-999.000,   200.0,-999.000, 17.4505,-999.000
    49RY9407_1,   P09,    31,  1,     10,    214,2,19940715,1922, 25.0083, 137.0020, 5020,    301.4,  15.8612,  34.6795,2,  34.6888,2,    195.0,2,    194.8,2,     7.76,2,     7.85,2,     0.01,2,     0.50,2, -999.000,9, -999.000,9, -999.000,9,-999.0000,9,  -999.00,9,    105.1,3,-999.000,9,   2047.0,2,   -999,     9.1,-999.000,-999.0000,-999.000,  -999.0,-999.000, 15.8138,-999.000
    49RY9407_1,   P09,    31,  1,      9,    213,2,19940715,1922, 25.0083, 137.0020, 5020,    403.7,  12.8331,  34.4493,2,  34.4501,2,    179.3,2,    183.1,2,    16.53,2,    13.87,2,     0.01,2,     0.94,2, -999.000,9, -999.000,9, -999.000,9,-999.0000,9,  -999.00,9,     76.3,3,-999.000,9,   2091.0,2,   -999,     8.9,  12.884,-999.0000,-999.000,   405.0,-999.000, 12.7779,-999.000