BOTTLE,20020306WHPSIOdm
EXPOCODE,SECT_ID,STNNBR,CASTNO,SAMPNO,BTLNBR,BTLNBR_FLAG_W,DATE,TIME,LATITUDE,LONGITUDE,DEPTH,CTDPRS,CTDTMP,CTDSAL,CTDSAL_FLAG_W,SALNTY,SALNTY_FLAG_W,CTDOXY,CTDOXY_FLAG_W,OXYGEN,OXYGEN_FLAG_W,SILCAT,SILCAT_FLAG_W,NITRAT,NITRAT_FLAG_W,NITRIT,NITRIT_FLAG_W,PHSPHT,PHSPHT_FLAG_W,CFC-11,CFC-11_FLAG_W,CFC-12,CFC-12_FLAG_W,TRITUM,TRITUM_FLAG_W,HELIUM,HELIUM_FLAG_W,DELHE3,DELHE3_FLAG_W,DELC14,DELC14_FLAG_W,NEON,NEON_FLAG_W,TCARBN,TCARBN_FLAG_W,CTDRAW,C14ERR,REVTMP,HELIER,DELHER,REVPRS,NEONER,THETA,TRITER
,,,,,,,,,,,,DBAR,ITS-90,PSS-78,,PSS-78,,UMOL/KG,,UMOL/KG,,UMOL/KG,,UMOL/KG,,UMOL/KG,,UMOL/KG,,PMOL/KG,,PMOL/KG,,TU,,NMOL/KG,,PERCNT,,/MILLE,,NMOL/KG,,UMOL/KG,,,/MILLE,ITS-90,NMOL/KG,PERCNT,DBAR,NMOL/KG,DEG C,TU
    49RY9407_2,   P09,   101,  2,      9,    223,2,19940816,1322, -1.9890, 142.0002, 3570,    301.9,  11.3077,  34.8154,2,  34.8623,2,   -999.0,9,    143.5,2,    14.94,2,    21.68,2,     0.00,2,     1.46,2, -999.000,9, -999.000,9, -999.000,9,-999.0000,9,  -999.00,9,   -999.0,1,-999.000,9,   2155.9,2,   -999,  -999.0,-999.000,-999.0000,-999.000,  -999.0,-999.000, 11.2697,-999.000
    49RY9407_2,   P09,   101,  2,      8,    212,2,19940816,1322, -1.9890, 142.0002, 3570,    403.2,   9.4187,  34.6893,2,  34.6906,2,   -999.0,9,    130.5,2,    23.61,2,    26.73,2,     0.00,2,     1.81,2, -999.000,9, -999.000,9, -999.000,9,-999.0000,9,  -999.00,9,   -999.0,1,-999.000,9,   2183.3,2,   -999,  -999.0,-999.000,-999.0000,-999.000,  -999.0,-999.000,  9.3733,-999.000
    49RY9407_2,   P09,   101,  2,      6,    209,2,19940816,1322, -1.9890, 142.0002, 3570,    503.9,   7.9833,  34.6396,2,  34.6003,2,   -999.0,9,    145.9,6,    26.66,2,    28.20,2,     0.00,2,     1.93,2, -999.000,9, -999.000,9, -999.000,9,-999.0000,9,  -999.00,9,   -999.0,1,-999.000,9,   2188.1,2,   -999,  -999.0,-999.000,-999.0000,-999.000,  -999.0,-999.000,  7.9316,-999.000
    49RY9407_2,   P09,   101,  2,      7,    220,2,19940816,1322, -1.9890, 142.0002, 3570,    504.2,   8.0930,  34.6056,2,  34.6034,2,   -999.0,9,    145.4,2,    26.41,6,    28.09,6,     0.00,6,     1.93,6, -999.000,9, -999.000,9, -999.000,9,-999.0000,9,  -999.00,9,   -999.0,1,-999.000,9,   2187.2,2,   -999,  -999.0,-999.000,-999.0000,-999.000,  -999.0,-999.000,  8.0410,-999.000
    49RY9407_2,   P09,   101,  2,      5,    218,2,19940816,1322, -1.9890, 142.0002, 3570,    604.4,   6.6613,  34.5350,2,  34.5366,2,   -999.0,9,    142.2,2,    36.46,2,    31.15,2,     0.01,2,     2.11,2, -999.000,9, -999.000,9, -999.000,9,-999.0000,9,  -999.00,9,   -999.0,1,-999.000,9,   2205.4,2,   -999,  -999.0,-999.000,-999.0000,-999.000,  -999.0,-999.000,  6.6050,-999.000
    49RY9407_2,   P09,   101,  2,      4,    206,2,19940816,1322, -1.9890, 142.0002, 3570,    706.3,   5.8439,  34.5211,2,  34.5200,2,   -999.0,9,    128.3,2,    50.08,2,    34.01,2,     0.00,2,     2.34,2, -999.000,9, -999.000,9, -999.000,9,-999.0000,9,  -999.00,9,   -999.0,1,-999.000,9,   2234.9,6,   -999,  -999.0,-999.000,-999.0000,-999.000,  -999.0,-999.000,  5.7820,-999.000
    49RY9407_2,   P09,   101,  2,      3,    205,2,19940816,1322, -1.9890, 142.0002, 3570,    805.4,   5.2258,  34.5181,2,  34.5159,2,   -999.0,9,    130.0,2,    58.68,2,    34.70,2,     0.00,2,     2.37,2, -999.000,9, -999.000,9, -999.000,9,-999.0000,9,  -999.00,9,   -999.0,1,-999.000,9,   2245.9,2,   -999,  -999.0,-999.000,-999.0000,-999.000,  -999.0,-999.000,  5.1584,-999.000
    49RY9407_2,   P09,   101,  2,      2,    216,2,19940816,1322, -1.9890, 142.0002, 3570,    908.0,   4.8666,  34.5261,2,  34.5259,2,   -999.0,9,    124.2,2,    67.35,2,    35.62,2,     0.00,2,     2.42,2, -999.000,9, -999.000,9, -999.000,9,-999.0000,9,  -999.00,9,   -999.0,1,-999.000,9,   2259.1,2,   -999,  -999.0,-999.000,-999.0000,-999.000,  -999.0,-999.000,  4.7925,-999.000
    49RY9407_2,   P09,   101,  2,      1,    201,2,19940816,1322, -1.9890, 142.0002, 3570,   1007.8,   4.5139,  34.5495,2,  34.5431,2,   -999.0,9,    112.9,2,    78.19,6,    36.88,6,     0.00,6,     2.60,6, -999.000,9, -999.000,9, -999.000,9,-999.0000,9,  -999.00,9,   -999.0,1,-999.000,9,   2273.5,2,   -999,  -999.0,-999.000,-999.0000,-999.000,  -999.0,-999.000,  4.4335,-999.000
    49RY9407_2,   P09,   101,  2,     24,    222,2,19940816,1322, -1.9890, 142.0002, 3570,   1260.0,   3.4967,  34.5802,2,  34.5816,2,   -999.0,9,    103.6,2,   105.12,2,    38.46,2,     0.00,2,     2.72,2, -999.000,9, -999.000,9, -999.000,9,-999.0000,9,  -999.00,9,   -999.0,1,-999.000,9,   2311.5,2,   -999,  -999.0,-999.000,-999.0000,-999.000,  -999.0,-999.000,  3.4036,-999.000
    49RY9407_2,   P09,   101,  2,     23,    228,2,19940816,1322, -1.9890, 142.0002, 3570,   1514.2,   2.8607,  34.6068,2,  34.6082,2,   -999.0,9,    109.5,6,   119.63,2,    38.45,2,     0.00,2,     2.72,2, -999.000,9, -999.000,9, -999.000,9,-999.0000,9,  -999.00,9,   -999.0,1,-999.000,9,   2323.3,2,   -999,  -999.0,-999.000,-999.0000,-999.000,  -999.0,-999.000,  2.7533,-999.000
    49RY9407_2,   P09,   101,  2,     21,    226,2,19940816,1322, -1.9890, 142.0002, 3570,   1768.6,   2.5076,  34.6210,2,  34.6231,2,   -999.0,9,    114.2,2,   126.99,2,    38.46,2,     0.00,2,     2.72,2, -999.000,9, -999.000,9, -999.000,5,   1.8579,2,    22.59,2,   -999.0,1,   7.854,2,   -999.0,9,   -999,  -999.0,-999.000,  0.0045,   0.190,  -999.0,   0.027,  2.3833,-999.000
    49RY9407_2,   P09,   101,  2,     22,    227,2,19940816,1322, -1.9890, 142.0002, 3570,   1768.6,   2.5076,  34.6210,2,  34.6225,2,   -999.0,9,    114.9,2,   127.19,2,    38.52,2,     0.00,2,     2.72,2, -999.000,9, -999.000,9, -999.000,9,-999.0000,9,  -999.00,9,   -999.0,1,-999.000,9,   2327.7,2,   -999,  -999.0,-999.000,-999.0000,-999.000,  -999.0,-999.000,  2.3833,-999.000
    49RY9407_2,   P09,   101,  2,     20,    203,2,19940816,1322, -1.9890, 142.0002, 3570,   2021.9,   2.2321,  34.6355,2,  34.6353,2,   -999.0,9,    119.3,2,   133.39,2,    38.19,2,     0.00,2,     2.71,2, -999.000,9, -999.000,9, -999.000,9,-999.0000,9,  -999.00,9,   -999.0,1,-999.000,9,   2334.5,6,   -999,  -999.0,-999.000,-999.0000,-999.000,  2017.0,-999.000,  2.0902,-999.000
    49RY9407_2,   P09,   101,  2,     19,    215,2,19940816,1322, -1.9890, 142.0002, 3570,   2275.6,   1.9568,  34.6494,2,-999.0000,5,   -999.0,9,    127.0,2,   138.24,2,    37.75,2,     0.00,2,     2.60,2, -999.000,9, -999.000,9, -999.000,5,   1.8759,2,    21.25,2,   -999.0,9,   7.990,2,   -999.0,9,   -999,  -999.0,-999.000,  0.0046,   0.190,  -999.0,   0.028,  1.7974,-999.000
    49RY9407_2,   P09,   101,  2,     18,    221,2,19940816,1322, -1.9890, 142.0002, 3570,   2530.5,   1.7774,  34.6598,2,  34.6611,2,   -999.0,9,    134.0,2,   140.24,6,    37.40,6,     0.00,6,     2.63,6, -999.000,9, -999.000,9, -999.000,9,-999.0000,9,  -999.00,9,   -999.0,1,-999.000,9,   2336.4,2,   -999,  -999.0,-999.000,-999.0000,-999.000,  2529.0,-999.000,  1.5985,-999.000
    49RY9407_2,   P09,   101,  2,     17,    219,4,19940816,1322, -1.9890, 142.0002, 3570,   2785.6,   1.6480,  34.6678,2,  34.6690,2,   -999.0,9,    140.2,2,   141.44,2,    37.05,2,     0.00,2,     2.57,2, -999.000,9, -999.000,9, -999.000,5,   1.8754,2,    19.05,2,   -999.0,1,   7.946,2,   2332.3,2,   -999,  -999.0,-999.000,  0.0048,   0.170,  -999.0,   0.052,  1.4483,-999.000
    49RY9407_2,   P09,   101,  2,     14,    204,2,19940816,1322, -1.9890, 142.0002, 3570,   3295.3,   1.5812,  34.6740,2,  34.6741,2,   -999.0,9,   -999.0,5,   142.15,2,    36.64,2,     0.00,2,     2.55,2, -999.000,9, -999.000,9, -999.000,5,   1.8759,2,    18.25,2,   -999.0,9,   7.999,2,   -999.0,9,   -999,  -999.0,   1.580,  0.0046,   0.190,  3293.0,   0.028,  1.3337,-999.000
    49RY9407_2,   P09,   101,  2,     15,    217,2,19940816,1322, -1.9890, 142.0002, 3570,   3295.8,   1.5813,  34.6752,2,  34.6751,2,   -999.0,9,    145.2,2,   142.31,2,    36.64,2,     0.00,2,     2.55,2, -999.000,9, -999.000,9, -999.000,9,-999.0000,9,  -999.00,9,   -999.0,9,-999.000,9,   -999.0,9,   -999,  -999.0,-999.000,-999.0000,-999.000,  -999.0,-999.000,  1.3338,-999.000
    49RY9407_2,   P09,   101,  2,     16,    229,2,19940816,1322, -1.9890, 142.0002, 3570,   3295.8,   1.5813,  34.6752,2,  34.6753,2,   -999.0,9,    145.3,2,   142.25,2,    36.65,2,     0.00,2,     2.55,2, -999.000,9, -999.000,9, -999.000,9,-999.0000,9,  -999.00,9,   -999.0,1,-999.000,9,   2327.3,2,   -999,  -999.0,   1.573,-999.0000,-999.000,  3293.0,-999.000,  1.3338,-999.000
    49RY9407_2,   P09,   101,  2,     13,    214,2,19940816,1322, -1.9890, 142.0002, 3570,   3611.6,   1.5901,  34.6757,2,  34.6780,2,   -999.0,9,    146.4,6,  -999.00,9,  -999.00,9,  -999.00,9,  -999.00,9, -999.000,9, -999.000,9, -999.000,9,-999.0000,9,  -999.00,9,   -999.0,1,-999.000,9,   2333.5,2,   -999,  -999.0,-999.000,-999.0000,-999.000,  3601.0,-999.000,  1.3102,-999.000
    49RY9407_2,   P09,   101,  2,     12,    213,4,19940816,1322, -1.9890, 142.0002, 3570,   3612.1,   1.5896,  34.6762,2,  34.6757,6,   -999.0,9,    146.6,6,   142.35,2,    36.52,2,     0.00,2,     2.55,2, -999.000,9, -999.000,9, -999.000,9,-999.0000,9,  -999.00,9,   -999.0,9,-999.000,9,   -999.0,9,   -999,  -999.0,-999.000,-999.0000,-999.000,  3607.0,-999.000,  1.3096,-999.000
    49RY9407_2,   P09,   101,  3,      6,    209,2,19940816,1544, -1.9893, 141.9990, 3570,      1.2,  28.5738,  33.9457,2,  33.9511,2,   -999.0,9,   -999.0,9,  -999.00,9,  -999.00,9,  -999.00,9,  -999.00,9,    0.923,3,    0.511,3,    1.131,2,   1.6549,2,    -0.66,2,   -999.0,9,   6.503,2,   -999.0,9,   -999,  -999.0,-999.000,  0.0051,   0.200,  -999.0,   0.016, 28.5735,   0.014
    49RY9407_2,   P09,   101,  3,      5,    218,2,19940816,1544, -1.9893, 141.9990, 3570,     24.9,  28.6633,  34.0223,2,  34.0251,2,   -999.0,9,   -999.0,9,  -999.00,9,  -999.00,9,  -999.00,9,  -999.00,9,    0.885,3,    0.499,3,    1.120,2,   1.6493,2,    -0.88,2,   -999.0,9,   6.457,2,   -999.0,9,   -999,  -999.0,-999.000,  0.0040,   0.200,  -999.0,   0.022, 28.6573,   0.014
    49RY9407_2,   P09,   101,  3,      4,    206,2,19940816,1544, -1.9893, 141.9990, 3570,     50.0,  28.1775,  34.3255,2,  34.3211,2,   -999.0,9,   -999.0,9,  -999.00,9,  -999.00,9,  -999.00,9,  -999.00,9,    0.888,3,    0.514,3,    1.075,2,   1.6561,2,    -0.67,2,   -999.0,9,   6.494,2,   -999.0,9,   -999,  -999.0,-999.000,  0.0029,   0.200,  -999.0,   0.016, 28.1657,   0.014
    49RY9407_2,   P09,   101,  3,      3,    205,2,19940816,1544, -1.9893, 141.9990, 3570,     75.8,  26.5181,  34.5448,2,  34.4744,3,   -999.0,9,   -999.0,9,  -999.00,9,  -999.00,9,  -999.00,9,  -999.00,9,    0.936,3,    0.553,3,    1.001,2,   1.6850,2,    -1.18,2,   -999.0,9,   6.592,2,   -999.0,9,   -999,  -999.0,-999.000,  0.0041,   0.200,  -999.0,   0.023, 26.5009,   0.012
    49RY9407_2,   P09,   101,  3,      2,    216,2,19940816,1544, -1.9893, 141.9990, 3570,     99.9,  26.1514,  34.7741,2,  34.7099,2,   -999.0,9,   -999.0,9,  -999.00,9,  -999.00,9,  -999.00,9,  -999.00,9, -999.000,9, -999.000,9,    0.958,2,   1.6764,2,    -0.88,2,   -999.0,9,   6.582,2,   -999.0,9,   -999,  -999.0,-999.000,  0.0042,   0.200,  -999.0,   0.023, 26.1291,   0.011
    49RY9407_2,   P09,   101,  3,      1,    201,2,19940816,1544, -1.9893, 141.9990, 3570,    150.0,  21.1948,  35.4890,2,  35.4867,2,   -999.0,9,   -999.0,9,  -999.00,9,  -999.00,9,  -999.00,9,  -999.00,9,    0.890,3,    0.515,3,    0.741,2,   1.6928,2,     0.11,2,   -999.0,9,   6.769,2,   -999.0,9,   -999,  -999.0,-999.000,  0.0041,   0.200,  -999.0,   0.024, 21.1659,   0.009
    49RY9407_2,   P09,   101,  3,     23,    228,2,19940816,1544, -1.9893, 141.9990, 3570,    201.3,  17.7898,  35.3847,2,  35.3847,2,   -999.0,9,   -999.0,9,  -999.00,9,  -999.00,9,  -999.00,9,  -999.00,9, -999.000,9, -999.000,9,    0.614,2,   1.7001,2,     1.29,2,   -999.0,9,   6.967,2,   -999.0,9,   -999,  -999.0,-999.000,  0.0031,   0.190,  -999.0,   0.017, 17.7554,   0.008
    49RY9407_2,   P09,   101,  3,     24,    222,2,19940816,1544, -1.9893, 141.9990, 3570,    201.3,  17.7882,  35.3828,2,  35.3845,2,   -999.0,9,   -999.0,9,  -999.00,9,  -999.00,9,  -999.00,9,  -999.00,9,    0.769,3,    0.528,3, -999.000,9,-999.0000,9,  -999.00,9,   -999.0,9,-999.000,9,   -999.0,9,   -999,  -999.0,-999.000,-999.0000,-999.000,  -999.0,-999.000, 17.7538,-999.000
    49RY9407_2,   P09,   101,  3,     22,    227,2,19940816,1544, -1.9893, 141.9990, 3570,    300.7,  12.0893,  34.9279,2,  34.9348,2,   -999.0,9,   -999.0,9,  -999.00,9,  -999.00,9,  -999.00,9,  -999.00,9,    0.442,3,    0.243,3,    0.334,2,   1.7344,2,     3.19,2,   -999.0,9,   7.277,2,   -999.0,9,   -999,  -999.0,-999.000,  0.0051,   0.200,  -999.0,   0.025, 12.0497,   0.005
    49RY9407_2,   P09,   101,  3,     21,    226,2,19940816,1544, -1.9893, 141.9990, 3570,    402.1,   9.4986,  34.6939,2,  34.6947,2,   -999.0,9,   -999.0,9,  -999.00,9,  -999.00,9,  -999.00,9,  -999.00,9,    0.222,3,    0.117,3,    0.228,2,   1.7756,2,     4.56,2,   -999.0,9,   7.416,2,   -999.0,9,   -999,  -999.0,-999.000,  0.0043,   0.200,  -999.0,   0.026,  9.4531,   0.005
    49RY9407_2,   P09,   101,  3,     19,    215,2,19940816,1544, -1.9893, 141.9990, 3570,    502.8,   8.0427,  34.5853,2,  34.5964,2,   -999.0,9,   -999.0,9,  -999.00,9,  -999.00,9,  -999.00,9,  -999.00,9,    0.141,3,    0.029,3,    0.133,2,   7.5738,4,     1.29,4,   -999.0,9,  26.478,4,   -999.0,9,   -999,  -999.0,-999.000,  0.0185,   0.170,  -999.0,   0.092,  7.9910,   0.004
    49RY9407_2,   P09,   101,  3,     20,    203,2,19940816,1544, -1.9893, 141.9990, 3570,    502.8,   8.0427,  34.5853,2,  34.5960,2,   -999.0,9,   -999.0,9,  -999.00,9,  -999.00,9,  -999.00,9,  -999.00,9,    0.135,3,    0.028,3,    0.125,2,   1.7480,2,     5.37,2,   -999.0,9,   7.507,2,   -999.0,9,   -999,  -999.0,-999.000,  0.0032,   0.190,   501.0,   0.019,  7.9910,   0.004
    49RY9407_2,   P09,   101,  3,     18,    221,2,19940816,1544, -1.9893, 141.9990, 3570,    602.9,   6.7784,  34.5362,2,  34.5395,2,   -999.0,9,   -999.0,9,  -999.00,9,  -999.00,9,  -999.00,9,  -999.00,9,    0.070,3,    0.014,3,    0.072,2,   1.7897,2,     7.92,2,   -999.0,9,   7.633,2,   -999.0,9,   -999,  -999.0,-999.000,  0.0031,   0.190,   603.0,   0.019,  6.7217,   0.003
    49RY9407_2,   P09,   101,  3,     17,    219,2,19940816,1544, -1.9893, 141.9990, 3570,    704.1,   5.8502,  34.5155,2,  34.5171,2,   -999.0,9,   -999.0,9,  -999.00,9,  -999.00,9,  -999.00,9,  -999.00,9,    0.030,3,    0.000,3,    0.042,2,   1.7791,2,    11.43,2,   -999.0,9,   7.604,2,   -999.0,9,   -999,  -999.0,-999.000,  0.0033,   0.190,  -999.0,   0.019,  5.7884,   0.003
    49RY9407_2,   P09,   101,  3,     16,    229,2,19940816,1544, -1.9893, 141.9990, 3570,    804.2,   5.2923,  34.5141,2,  34.5153,2,   -999.0,9,   -999.0,9,  -999.00,9,  -999.00,9,  -999.00,9,  -999.00,9,    0.018,3,    0.000,3,    0.033,2,   1.7910,2,    13.16,2,   -999.0,9,   7.650,2,   -999.0,9,   -999,  -999.0,   5.296,  0.0044,   0.180,   802.0,   0.050,  5.2246,   0.003
    49RY9407_2,   P09,   101,  3,     15,    217,2,19940816,1544, -1.9893, 141.9990, 3570,    906.8,   4.9378,  34.5235,2,  34.5244,2,   -999.0,9,   -999.0,9,  -999.00,9,  -999.00,9,  -999.00,9,  -999.00,9,    0.010,3,    0.000,3,    0.027,2,   2.0286,4,    13.71,4,   -999.0,9,   8.437,4,   -999.0,9,   -999,  -999.0,-999.000,  0.0046,   0.170,  -999.0,   0.055,  4.8632,   0.003
    49RY9407_2,   P09,   101,  3,     14,    204,2,19940816,1544, -1.9893, 141.9990, 3570,   1007.4,   4.5709,  34.5398,2,  34.5419,2,   -999.0,9,   -999.0,9,  -999.00,9,  -999.00,9,  -999.00,9,  -999.00,9,    0.005,3,    0.045,4,    0.025,2,   1.8356,2,    18.19,2,   -999.0,9,   7.793,2,   -999.0,9,   -999,  -999.0,   4.576,  0.0046,   0.190,  1001.0,   0.027,  4.4901,   0.003
    49RY9407_2,   P09,   101,  3,     13,    214,2,19940816,1544, -1.9893, 141.9990, 3570,   1259.9,   3.6026,  34.5767,2,  34.5785,2,   -999.0,9,   -999.0,9,  -999.00,9,  -999.00,9,  -999.00,9,  -999.00,9, -999.000,9, -999.000,9,    0.013,2,   1.8561,2,    21.10,2,   -999.0,9,   7.842,2,   -999.0,9,   -999,  -999.0,-999.000,  0.0053,   0.190,  1253.0,   0.027,  3.5085,   0.003
    49RY9407_2,   P09,   101,  3,     12,    213,4,19940816,1544, -1.9893, 141.9990, 3570,   1513.8,   2.9405,  34.6036,2,  34.6036,2,   -999.0,9,   -999.0,9,  -999.00,9,  -999.00,9,  -999.00,9,  -999.00,9,    0.000,3,    0.118,4, -999.000,9,-999.0000,9,  -999.00,9,   -999.0,9,-999.000,9,   -999.0,9,   -999,  -999.0,-999.000,-999.0000,-999.000,  1512.0,-999.000,  2.8321,-999.000