BOTTLE,20150630SIOCCHRJL
EXPOCODE,SECT_ID,STNNBR,CASTNO,SAMPNO,BTLNBR,BTLNBR_FLAG_W,DATE,TIME,LATITUDE,LONGITUDE,DEPTH,CTDRAW,CTDPRS,CTDTMP,CTDSAL,CTDSAL_FLAG_W,SALNTY,SALNTY_FLAG_W,CTDOXY,CTDOXY_FLAG_W,OXYGEN,OXYGEN_FLAG_W,SILCAT,SILCAT_FLAG_W,NITRAT,NITRAT_FLAG_W,NITRIT,NITRIT_FLAG_W,PHSPHT,PHSPHT_FLAG_W,CFC-11,CFC-11_FLAG_W,CFC-12,CFC-12_FLAG_W,CFC113,CFC113_FLAG_W,TCARBN,TCARBN_FLAG_W,ALKALI,ALKALI_FLAG_W,PH_SWS,PH_SWS_FLAG_W,PH_TMP,DOC,DOC_FLAG_W,TDN,TDN_FLAG_W,TRITUM,TRITUM_FLAG_W,TRITER,HELIUM,HELIUM_FLAG_W,HELIER,DELHE3,DELHE3_FLAG_W,DELHER,NEON,NEON_FLAG_W,NEONER,DELC14,DELC14_FLAG_W,C14ERR,DELC13,DELC13_FLAG_W,CDOM325,CDOM325_FLAG_W,CDOM340,CDOM340_FLAG_W,CDOM380,CDOM380_FLAG_W,CDOM412,CDOM412_FLAG_W,CDOM443,CDOM443_FLAG_W,CDOM490,CDOM490_FLAG_W,CDOM555,CDOM555_FLAG_W,CDOMSL,CDOMSL_FLAG_W,CDOMSN,CDOMSN_FLAG_W,THETA,SBE35,SBE35_FLAG_W
,,,,,,,,,,,METERS,,DBAR,ITS-90,PSS-78,,PSS-78,,UMOL/KG,,UMOL/KG,,UMOL/KG,,UMOL/KG,,UMOL/KG,,UMOL/KG,,PMOL/KG,,PMOL/KG,,PMOL/KG,,UMOL/KG,,UMOL/KG,,,,DEG C,UMOL/KG,,UMOL/KG,,TU,,TU,NMOL/KG,,NMOL/KG,PERCNT,,PERCNT,NMOL/KG,,NMOL/KG,/MILLE,,/MILLE,/MILLE,,1/M,,1/M,,1/M,,1/M,,1/M,,1/M,,1/M,,1/NM,,1/NM,,DEG C,ITS-90,
  33RR20070322,  I09N,   171,  1,     36,     38,2,20070419,1804,  9.4587,  87.0695, 3554,   2.6000,      2.6,  29.8353,  33.4988,2,  33.5000,2,    196.6,2,    196.2,2,     1.61,2,     0.05,2,     0.00,2,     0.05,2,    1.540,2,    0.992,2, -999.000,5,   1894.3,6,   2212.6,6,   8.0925,6,    25.00,     74.0,2,     5.76,2, -999.000,9, -999.000,-999.0000,9,-999.0000,  -999.00,9,  -999.00, -999.000,9, -999.000,   -999.0,9,   -999.0,  -999.00,9,-999.0000,9,-999.0000,9,-999.0000,9,-999.0000,9,-999.0000,9,-999.0000,9,-999.0000,9,-999.0000,9,-999.0000,9,  29.8347,  29.8260,2
  33RR20070322,  I09N,   171,  1,     35,     35,2,20070419,1804,  9.4587,  87.0695, 3554,  40.3000,     40.3,  29.2866,  34.5652,2,  34.5592,2,    198.6,2,    199.8,2,     1.35,2,     0.05,2,     0.00,2,     0.11,2,    1.542,2,    1.007,2, -999.000,5,   1934.5,2,   2265.1,3,   8.1061,2,    25.00,     73.3,2,     5.29,2, -999.000,9, -999.000,-999.0000,9,-999.0000,  -999.00,9,  -999.00, -999.000,9, -999.000,   -999.0,9,   -999.0,  -999.00,9,-999.0000,9,-999.0000,9,-999.0000,9,-999.0000,9,-999.0000,9,-999.0000,9,-999.0000,9,-999.0000,9,-999.0000,9,  29.2768,  29.2843,2
  33RR20070322,  I09N,   171,  1,     34,   9419,2,20070419,1804,  9.4587,  87.0695, 3554,  75.1000,     75.1,  28.0725,  34.4317,2,  34.4592,2,    190.6,2,    187.5,2,     1.48,2,     0.10,2,     0.01,2,     0.15,2,    1.552,2,    1.000,2, -999.000,5,   1947.2,2,   2259.6,2,   8.0824,2,    25.00,     70.0,2,     5.39,2, -999.000,9, -999.000,-999.0000,9,-999.0000,  -999.00,9,  -999.00, -999.000,9, -999.000,   -999.0,9,   -999.0,  -999.00,9,-999.0000,9,-999.0000,9,-999.0000,9,-999.0000,9,-999.0000,9,-999.0000,9,-999.0000,9,-999.0000,9,-999.0000,9,  28.0548,  28.0251,2
  33RR20070322,  I09N,   171,  1,     33,     33,2,20070419,1804,  9.4587,  87.0695, 3554,  95.1000,     95.1,  24.3869,  34.6359,2,  34.6405,2,     74.8,2,     79.2,2,     9.71,2,    14.86,2,     0.53,2,     1.13,2,    1.334,2,    0.863,2, -999.000,5,   2079.4,2,   2267.3,2,   7.8354,2,    25.00,     63.6,2,    20.10,2, -999.000,9, -999.000,-999.0000,9,-999.0000,  -999.00,9,  -999.00, -999.000,9, -999.000,   -999.0,9,   -999.0,  -999.00,9,-999.0000,9,-999.0000,9,-999.0000,9,-999.0000,9,-999.0000,9,-999.0000,9,-999.0000,9,-999.0000,9,-999.0000,9,  24.3667,  24.5317,3
  33RR20070322,  I09N,   171,  1,     32,     37,2,20070419,1804,  9.4587,  87.0695, 3554, 125.0000,    125.0,  19.9449,  34.8508,2,  34.8319,2,     32.5,2,     28.8,2,    18.95,2,    24.34,2,     0.02,2,     1.76,2,    1.106,2,    0.683,2, -999.000,5,   2158.4,2,   -999.0,5,   7.6804,2,    25.00,     53.8,2,    30.17,2, -999.000,9, -999.000,-999.0000,9,-999.0000,  -999.00,9,  -999.00, -999.000,9, -999.000,   -999.0,9,   -999.0,  -999.00,9,-999.0000,9,-999.0000,9,-999.0000,9,-999.0000,9,-999.0000,9,-999.0000,9,-999.0000,9,-999.0000,9,-999.0000,9,  19.9219,  19.9362,2
  33RR20070322,  I09N,   171,  1,     31,     31,2,20070419,1804,  9.4587,  87.0695, 3554, 174.4000,    174.4,  15.1896,  34.9494,2,  34.9502,2,      9.3,2,      7.2,2,    29.00,2,    30.41,2,     0.00,2,     2.23,2,    0.705,2,    0.424,2, -999.000,5,   2224.3,2,   2302.5,2,   7.5328,2,    25.00,     50.3,2,    34.31,2, -999.000,9, -999.000,-999.0000,9,-999.0000,  -999.00,9,  -999.00, -999.000,9, -999.000,   -999.0,9,   -999.0,  -999.00,9,-999.0000,9,-999.0000,9,-999.0000,9,-999.0000,9,-999.0000,9,-999.0000,9,-999.0000,9,-999.0000,9,-999.0000,9,  15.1630,  15.1770,2
  33RR20070322,  I09N,   171,  1,     30,     30,2,20070419,1804,  9.4587,  87.0695, 3554, 223.7000,    223.7,  13.0302,  35.0132,2,  35.0116,2,      7.3,2,      7.8,2,    32.99,2,    32.43,2,     0.00,2,     2.35,2,    0.534,2,    0.308,2, -999.000,5,   2249.7,6,   2310.6,6,   7.4906,6,    25.00,     48.5,2,    36.41,2, -999.000,9, -999.000,-999.0000,9,-999.0000,  -999.00,9,  -999.00, -999.000,9, -999.000,   -999.0,9,   -999.0,  -999.00,9,-999.0000,9,-999.0000,9,-999.0000,9,-999.0000,9,-999.0000,9,-999.0000,9,-999.0000,9,-999.0000,9,-999.0000,9,  12.9993,  13.0242,2
  33RR20070322,  I09N,   171,  1,     29,     29,2,20070419,1804,  9.4587,  87.0695, 3554, 274.3000,    274.3,  11.9456,  35.0340,2,  35.0322,2,     10.2,2,     11.8,2,    35.37,2,    33.31,2,     0.00,2,     2.37,2,    0.475,2,    0.273,2, -999.000,5,   2256.1,2,   2316.7,2,   7.4712,2,    25.00,     47.8,2,    37.21,2, -999.000,9, -999.000,-999.0000,9,-999.0000,  -999.00,9,  -999.00, -999.000,9, -999.000,   -999.0,9,   -999.0,  -999.00,9,-999.0000,9,-999.0000,9,-999.0000,9,-999.0000,9,-999.0000,9,-999.0000,9,-999.0000,9,-999.0000,9,-999.0000,9,  11.9098,  11.9433,2
  33RR20070322,  I09N,   171,  1,     28,     28,2,20070419,1804,  9.4587,  87.0695, 3554, 324.1000,    324.1,  11.3670,  35.0351,2,  35.0342,2,     12.8,2,     13.8,2,    37.74,2,    34.00,2,     0.00,2,     2.41,2,    0.400,2,    0.228,2, -999.000,5,   2262.3,2,   2323.8,2,   7.4743,2,    25.00,     46.9,2,    37.06,2, -999.000,9, -999.000,-999.0000,9,-999.0000,  -999.00,9,  -999.00, -999.000,9, -999.000,   -999.0,9,   -999.0,  -999.00,9,-999.0000,9,-999.0000,9,-999.0000,9,-999.0000,9,-999.0000,9,-999.0000,9,-999.0000,9,-999.0000,9,-999.0000,9,  11.3259,  11.3587,2
  33RR20070322,  I09N,   171,  1,     27,     27,2,20070419,1804,  9.4587,  87.0695, 3554, 374.5000,    374.5,  10.9128,  35.0395,2,  35.0387,2,     14.8,2,     15.2,2,    39.91,2,    34.49,2,     0.00,2,     2.44,2,    0.346,2,    0.195,2, -999.000,5,   2265.1,2,   2319.4,2,   7.4586,2,    25.00,     46.3,2,    37.69,2, -999.000,9, -999.000,-999.0000,9,-999.0000,  -999.00,9,  -999.00, -999.000,9, -999.000,   -999.0,9,   -999.0,  -999.00,9,-999.0000,9,-999.0000,9,-999.0000,9,-999.0000,9,-999.0000,9,-999.0000,9,-999.0000,9,-999.0000,9,-999.0000,9,  10.8665,  10.9120,2
  33RR20070322,  I09N,   171,  1,     26,     26,2,20070419,1804,  9.4587,  87.0695, 3554, 424.1000,    424.1,  10.5339,  35.0380,2,  35.0371,2,     16.3,2,     15.8,2,    42.48,2,    35.02,2,     0.00,2,     2.49,2,    0.292,2,    0.164,2, -999.000,5,   2268.4,2,   2322.2,2,   7.4782,2,    25.00,     46.1,2,    38.12,2, -999.000,9, -999.000,-999.0000,9,-999.0000,  -999.00,9,  -999.00, -999.000,9, -999.000,   -999.0,9,   -999.0,  -999.00,9,-999.0000,9,-999.0000,9,-999.0000,9,-999.0000,9,-999.0000,9,-999.0000,9,-999.0000,9,-999.0000,9,-999.0000,9,  10.4825,  10.5311,2
  33RR20070322,  I09N,   171,  1,     25,     25,2,20070419,1804,  9.4587,  87.0695, 3554, 474.1000,    474.1,  10.0867,  35.0309,2,  35.0302,2,     17.5,2,     17.5,2,    46.89,2,    35.51,2,     0.00,2,     2.54,2,    0.220,2,    0.122,2, -999.000,5,   2274.3,2,   2326.6,2,   7.4578,2,    25.00,     45.5,2,    39.38,2, -999.000,9, -999.000,-999.0000,9,-999.0000,  -999.00,9,  -999.00, -999.000,9, -999.000,   -999.0,9,   -999.0,  -999.00,9,-999.0000,9,-999.0000,9,-999.0000,9,-999.0000,9,-999.0000,9,-999.0000,9,-999.0000,9,-999.0000,9,-999.0000,9,  10.0306,  10.0873,2
  33RR20070322,  I09N,   171,  1,     24,     24,2,20070419,1804,  9.4587,  87.0695, 3554, 524.6000,    524.6,   9.7457,  35.0232,2,  35.0228,2,     19.5,2,     19.2,2,    50.28,2,    35.76,2,     0.00,2,     2.57,2,    0.181,2,    0.100,2, -999.000,5,   2279.4,2,   2329.8,2,   7.4766,2,    25.00,     45.2,2,    38.74,2, -999.000,9, -999.000,-999.0000,9,-999.0000,  -999.00,9,  -999.00, -999.000,9, -999.000,   -999.0,9,   -999.0,  -999.00,9,-999.0000,9,-999.0000,9,-999.0000,9,-999.0000,9,-999.0000,9,-999.0000,9,-999.0000,9,-999.0000,9,-999.0000,9,   9.6848,   9.7450,2
  33RR20070322,  I09N,   171,  1,     23,     23,2,20070419,1804,  9.4587,  87.0695, 3554, 644.9000,    644.9,   8.8365,  35.0013,2,  34.9983,2,     24.6,2,     25.1,2,    59.77,2,    36.44,2,     0.00,2,     2.65,2,    0.104,2,    0.059,2, -999.000,5,   2288.9,2,   2339.4,2,   7.4588,2,    25.00,     44.7,2,    39.44,2, -999.000,9, -999.000,-999.0000,9,-999.0000,  -999.00,9,  -999.00, -999.000,9, -999.000,   -999.0,9,   -999.0,  -999.00,9,-999.0000,9,-999.0000,9,-999.0000,9,-999.0000,9,-999.0000,9,-999.0000,9,-999.0000,9,-999.0000,9,-999.0000,9,   8.7654,   8.8372,2
  33RR20070322,  I09N,   171,  1,     22,     22,2,20070419,1804,  9.4587,  87.0695, 3554, 745.6000,    745.6,   8.1304,  34.9792,2,  34.9785,2,     30.4,2,     30.2,2,    67.45,2,    36.89,2,     0.00,2,     2.70,2, -999.000,9, -999.000,9, -999.000,9,   2295.9,2,   2355.9,3,   7.4579,2,    25.00,     44.1,2,    39.71,2, -999.000,9, -999.000,-999.0000,9,-999.0000,  -999.00,9,  -999.00, -999.000,9, -999.000,   -999.0,9,   -999.0,  -999.00,9,-999.0000,9,-999.0000,9,-999.0000,9,-999.0000,9,-999.0000,9,-999.0000,9,-999.0000,9,-999.0000,9,-999.0000,9,   8.0516,   8.1301,2
  33RR20070322,  I09N,   171,  1,     21,     21,2,20070419,1804,  9.4587,  87.0695, 3554, 844.9000,    844.9,   7.5634,  34.9632,2,  34.9617,2,     35.8,2,     35.5,2,    74.31,2,    37.13,2,     0.00,2,     2.72,2,    0.044,2,    0.026,2, -999.000,5,   2301.7,2,   2352.8,2,   7.4592,2,    25.00,     43.5,2,    39.86,2, -999.000,9, -999.000,-999.0000,9,-999.0000,  -999.00,9,  -999.00, -999.000,9, -999.000,   -999.0,9,   -999.0,  -999.00,9,-999.0000,9,-999.0000,9,-999.0000,9,-999.0000,9,-999.0000,9,-999.0000,9,-999.0000,9,-999.0000,9,-999.0000,9,   7.4771,   7.5647,2
  33RR20070322,  I09N,   171,  1,     20,     20,2,20070419,1804,  9.4587,  87.0695, 3554, 945.0000,    945.0,   6.9592,  34.9431,2,  34.9424,2,     41.9,2,     41.7,2,    80.58,2,    37.32,2,     0.00,2,     2.74,2, -999.000,9, -999.000,9, -999.000,9,   2308.2,2,   2361.1,2,   7.4710,2,    25.00,     43.2,2,    39.62,2, -999.000,9, -999.000,-999.0000,9,-999.0000,  -999.00,9,  -999.00, -999.000,9, -999.000,   -999.0,9,   -999.0,  -999.00,9,-999.0000,9,-999.0000,9,-999.0000,9,-999.0000,9,-999.0000,9,-999.0000,9,-999.0000,9,-999.0000,9,-999.0000,9,   6.8663,   6.9575,2
  33RR20070322,  I09N,   171,  1,     19,     19,2,20070419,1804,  9.4587,  87.0695, 3554,1045.7000,   1045.7,   6.3446,  34.9201,2,  34.9200,2,     48.8,2,     48.8,2,    86.86,2,    37.42,2,     0.00,2,     2.75,2,    0.018,2,    0.009,2, -999.000,5,   2313.0,2,   2368.8,2,   7.4652,2,    25.00,     42.4,2,    39.13,2, -999.000,9, -999.000,-999.0000,9,-999.0000,  -999.00,9,  -999.00, -999.000,9, -999.000,   -999.0,9,   -999.0,  -999.00,9,-999.0000,9,-999.0000,9,-999.0000,9,-999.0000,9,-999.0000,9,-999.0000,9,-999.0000,9,-999.0000,9,-999.0000,9,   6.2459,   6.3405,2
  33RR20070322,  I09N,   171,  1,     18,     18,2,20070419,1804,  9.4587,  87.0695, 3554,1146.6000,   1146.6,   5.9331,  34.9041,2,  34.9039,2,     56.6,2,     56.6,2,    92.14,2,    37.36,2,     0.00,2,     2.74,2, -999.000,9, -999.000,9, -999.000,9,   2315.1,2,   2375.1,2,   7.4668,2,    25.00,     41.7,2,    39.01,2, -999.000,9, -999.000,-999.0000,9,-999.0000,  -999.00,9,  -999.00, -999.000,9, -999.000,   -999.0,9,   -999.0,  -999.00,9,-999.0000,9,-999.0000,9,-999.0000,9,-999.0000,9,-999.0000,9,-999.0000,9,-999.0000,9,-999.0000,9,-999.0000,9,   5.8276,   5.9352,2
  33RR20070322,  I09N,   171,  1,     17,     17,2,20070419,1804,  9.4587,  87.0695, 3554,1247.0000,   1247.0,   5.4660,  34.8858,2,  34.8858,2,     64.1,2,     65.1,2,    97.21,2,    37.21,2,     0.00,2,     2.72,2,    0.011,2,    0.009,2, -999.000,5,   2318.1,2,   2382.8,2,   7.4832,2,    25.00,     41.8,2,    39.15,2, -999.000,9, -999.000,-999.0000,9,-999.0000,  -999.00,9,  -999.00, -999.000,9, -999.000,   -999.0,9,   -999.0,  -999.00,9,-999.0000,9,-999.0000,9,-999.0000,9,-999.0000,9,-999.0000,9,-999.0000,9,-999.0000,9,-999.0000,9,-999.0000,9,   5.3548,   5.4652,2
  33RR20070322,  I09N,   171,  1,     16,     16,2,20070419,1804,  9.4587,  87.0695, 3554,1347.1000,   1347.1,   5.0718,  34.8724,2,  34.8718,2,     71.2,2,     71.2,2,   101.04,2,    37.26,2,     0.00,2,     2.72,2, -999.000,9, -999.000,9, -999.000,9,   2320.8,2,   2388.3,2,   7.4794,2,    25.00,     41.6,2,    38.35,2, -999.000,9, -999.000,-999.0000,9,-999.0000,  -999.00,9,  -999.00, -999.000,9, -999.000,   -999.0,9,   -999.0,  -999.00,9,-999.0000,9,-999.0000,9,-999.0000,9,-999.0000,9,-999.0000,9,-999.0000,9,-999.0000,9,-999.0000,9,-999.0000,9,   4.9547,   5.0649,2
  33RR20070322,  I09N,   171,  1,     15,     15,2,20070419,1804,  9.4587,  87.0695, 3554,1447.9000,   1447.9,   4.6584,  34.8565,2,  34.8565,2,     76.7,2,     77.1,2,   106.34,2,    37.25,2,     0.00,2,     2.71,2,    0.010,2,    0.005,2, -999.000,5,   2323.0,2,   2385.3,2,   7.4788,2,    25.00,     41.1,2,    38.72,2, -999.000,9, -999.000,-999.0000,9,-999.0000,  -999.00,9,  -999.00, -999.000,9, -999.000,   -999.0,9,   -999.0,  -999.00,9,-999.0000,9,-999.0000,9,-999.0000,9,-999.0000,9,-999.0000,9,-999.0000,9,-999.0000,9,-999.0000,9,-999.0000,9,   4.5360,   4.6539,2
  33RR20070322,  I09N,   171,  1,     14,     14,2,20070419,1804,  9.4587,  87.0695, 3554,1548.7000,   1548.7,   4.2375,  34.8391,2,  34.8391,2,     86.5,2,     87.3,2,   110.81,2,    36.80,2,     0.00,2,     2.68,2, -999.000,9, -999.000,9, -999.000,9,   2323.2,2,   2388.7,2,   7.5021,2,    25.00,     41.3,2,    38.09,2, -999.000,9, -999.000,-999.0000,9,-999.0000,  -999.00,9,  -999.00, -999.000,9, -999.000,   -999.0,9,   -999.0,  -999.00,9,-999.0000,9,-999.0000,9,-999.0000,9,-999.0000,9,-999.0000,9,-999.0000,9,-999.0000,9,-999.0000,9,-999.0000,9,   4.1104,   4.2328,2
  33RR20070322,  I09N,   171,  1,     13,     13,2,20070419,1804,  9.4587,  87.0695, 3554,1749.2000,   1749.2,   3.5870,  34.8159,2,  34.8169,2,     95.8,2,     96.7,2,   117.98,2,    36.89,2,     0.00,2,     2.68,2,    0.004,2,    0.007,2, -999.000,5,   2328.2,2,   2396.8,2,   7.5109,2,    25.00,     41.0,2,    38.19,2, -999.000,9, -999.000,-999.0000,9,-999.0000,  -999.00,9,  -999.00, -999.000,9, -999.000,   -999.0,9,   -999.0,  -999.00,9,-999.0000,9,-999.0000,9,-999.0000,9,-999.0000,9,-999.0000,9,-999.0000,9,-999.0000,9,-999.0000,9,-999.0000,9,   3.4495,   3.5853,2
  33RR20070322,  I09N,   171,  1,     12,     12,2,20070419,1804,  9.4587,  87.0695, 3554,1950.5000,   1950.5,   2.9874,  34.7898,2,  34.7896,2,    109.4,2,    109.7,2,   125.57,2,    36.39,2,     0.00,2,     2.63,2, -999.000,9, -999.000,9, -999.000,9,   2329.6,2,   2403.6,2,   7.5239,2,    25.00,     40.8,2,    37.77,2, -999.000,9, -999.000,-999.0000,9,-999.0000,  -999.00,9,  -999.00, -999.000,9, -999.000,   -999.0,9,   -999.0,  -999.00,9,-999.0000,9,-999.0000,9,-999.0000,9,-999.0000,9,-999.0000,9,-999.0000,9,-999.0000,9,-999.0000,9,-999.0000,9,   2.8400,   2.9871,2
  33RR20070322,  I09N,   171,  1,     11,     11,2,20070419,1804,  9.4587,  87.0695, 3554,2111.7000,   2111.7,   2.6607,  34.7754,2,  34.7752,2,    117.6,2,    117.3,2,   129.87,2,    36.18,2,     0.00,2,     2.60,2,    0.007,2,    0.003,2, -999.000,5,   2330.8,2,   2408.7,2,   7.5320,2,    25.00,     40.6,2,    38.18,2, -999.000,9, -999.000,-999.0000,9,-999.0000,  -999.00,9,  -999.00, -999.000,9, -999.000,   -999.0,9,   -999.0,  -999.00,9,-999.0000,9,-999.0000,9,-999.0000,9,-999.0000,9,-999.0000,9,-999.0000,9,-999.0000,9,-999.0000,9,-999.0000,9,   2.5038,   2.6614,2
  33RR20070322,  I09N,   171,  1,     10,     10,2,20070419,1804,  9.4587,  87.0695, 3554,2365.0000,   2365.0,   2.2783,  34.7580,2,  34.7577,2,    128.7,2,    127.9,2,   134.18,2,    35.83,2,     0.00,2,     2.56,2, -999.000,9, -999.000,9, -999.000,9,   2331.3,2,   2413.5,2,   7.5301,2,    25.00,     40.0,2,    37.64,2, -999.000,9, -999.000,-999.0000,9,-999.0000,  -999.00,9,  -999.00, -999.000,9, -999.000,   -999.0,9,   -999.0,  -999.00,9,-999.0000,9,-999.0000,9,-999.0000,9,-999.0000,9,-999.0000,9,-999.0000,9,-999.0000,9,-999.0000,9,-999.0000,9,   2.1048,   2.2781,2
  33RR20070322,  I09N,   171,  1,      9,      9,2,20070419,1804,  9.4587,  87.0695, 3554,2618.4000,   2618.4,   1.9899,  34.7456,2,  34.7455,2,    137.2,2,    136.6,2,   137.67,2,    35.53,2,     0.00,2,     2.51,2,    0.006,2,    0.003,2, -999.000,5,   2331.9,2,   2422.8,2,   7.5550,3,    25.00,     41.0,2,    37.23,2, -999.000,9, -999.000,-999.0000,9,-999.0000,  -999.00,9,  -999.00, -999.000,9, -999.000,   -999.0,9,   -999.0,  -999.00,9,-999.0000,9,-999.0000,9,-999.0000,9,-999.0000,9,-999.0000,9,-999.0000,9,-999.0000,9,-999.0000,9,-999.0000,9,   1.7985,   1.9900,2
  33RR20070322,  I09N,   171,  1,      8,      8,2,20070419,1804,  9.4587,  87.0695, 3554,2870.3000,   2870.3,   1.8076,  34.7377,2,  34.7375,2,    144.7,2,    144.1,2,   139.07,2,    35.18,2,     0.00,2,     2.48,2, -999.000,9, -999.000,9, -999.000,9,   2329.1,2,   2424.7,2,   7.5712,2,    25.00,     41.2,2,    37.10,2, -999.000,9, -999.000,-999.0000,9,-999.0000,  -999.00,9,  -999.00, -999.000,9, -999.000,   -999.0,9,   -999.0,  -999.00,9,-999.0000,9,-999.0000,9,-999.0000,9,-999.0000,9,-999.0000,9,-999.0000,9,-999.0000,9,-999.0000,9,-999.0000,9,   1.5962,   1.8072,2
  33RR20070322,  I09N,   171,  1,      7,      7,2,20070419,1804,  9.4587,  87.0695, 3554,3123.8000,   3123.8,   1.6649,  34.7317,2,  34.7320,2,    150.0,2,    150.2,2,   140.47,2,    34.97,2,     0.00,2,     2.45,2,    0.007,2,    0.003,2, -999.000,5,   2328.2,2,   2427.4,2,   7.5730,3,    25.00,     40.3,2,    36.67,2, -999.000,9, -999.000,-999.0000,9,-999.0000,  -999.00,9,  -999.00, -999.000,9, -999.000,   -999.0,9,   -999.0,  -999.00,9,-999.0000,9,-999.0000,9,-999.0000,9,-999.0000,9,-999.0000,9,-999.0000,9,-999.0000,9,-999.0000,9,-999.0000,9,   1.4321,   1.6650,2
  33RR20070322,  I09N,   171,  1,      6,      6,2,20070419,1804,  9.4587,  87.0695, 3554,3377.2000,   3377.2,   1.5202,  34.7261,2,  34.7257,2,    157.0,2,    158.1,2,   139.80,2,    34.57,2,     0.00,2,     2.41,2, -999.000,9, -999.000,9, -999.000,9,   2324.4,2,   2430.6,2,   7.5905,2,    25.00,     41.2,2,    35.79,2, -999.000,9, -999.000,-999.0000,9,-999.0000,  -999.00,9,  -999.00, -999.000,9, -999.000,   -999.0,9,   -999.0,  -999.00,9,-999.0000,9,-999.0000,9,-999.0000,9,-999.0000,9,-999.0000,9,-999.0000,9,-999.0000,9,-999.0000,9,-999.0000,9,   1.2657,   1.5200,2
  33RR20070322,  I09N,   171,  1,      5,      5,2,20070419,1804,  9.4587,  87.0695, 3554,3427.9000,   3427.9,   1.4793,  34.7244,2,  34.7249,2,    158.1,2,    158.7,2,   141.83,2,    34.66,2,     0.00,2,     2.40,2,    0.011,2,    0.006,2, -999.000,5,   2326.2,2,   2442.4,3,   7.6078,2,    25.00,     41.4,2,    36.09,2, -999.000,9, -999.000,-999.0000,9,-999.0000,  -999.00,9,  -999.00, -999.000,9, -999.000,   -999.0,9,   -999.0,  -999.00,9,-999.0000,9,-999.0000,9,-999.0000,9,-999.0000,9,-999.0000,9,-999.0000,9,-999.0000,9,-999.0000,9,-999.0000,9,   1.2207,   1.4788,2