BOTTLE,20150630SIOCCHRJL
EXPOCODE,SECT_ID,STNNBR,CASTNO,SAMPNO,BTLNBR,BTLNBR_FLAG_W,DATE,TIME,LATITUDE,LONGITUDE,DEPTH,CTDRAW,CTDPRS,CTDTMP,CTDSAL,CTDSAL_FLAG_W,SALNTY,SALNTY_FLAG_W,CTDOXY,CTDOXY_FLAG_W,OXYGEN,OXYGEN_FLAG_W,SILCAT,SILCAT_FLAG_W,NITRAT,NITRAT_FLAG_W,NITRIT,NITRIT_FLAG_W,PHSPHT,PHSPHT_FLAG_W,CFC-11,CFC-11_FLAG_W,CFC-12,CFC-12_FLAG_W,CFC113,CFC113_FLAG_W,TCARBN,TCARBN_FLAG_W,ALKALI,ALKALI_FLAG_W,PH_SWS,PH_SWS_FLAG_W,PH_TMP,DOC,DOC_FLAG_W,TDN,TDN_FLAG_W,TRITUM,TRITUM_FLAG_W,TRITER,HELIUM,HELIUM_FLAG_W,HELIER,DELHE3,DELHE3_FLAG_W,DELHER,NEON,NEON_FLAG_W,NEONER,DELC14,DELC14_FLAG_W,C14ERR,DELC13,DELC13_FLAG_W,CDOM325,CDOM325_FLAG_W,CDOM340,CDOM340_FLAG_W,CDOM380,CDOM380_FLAG_W,CDOM412,CDOM412_FLAG_W,CDOM443,CDOM443_FLAG_W,CDOM490,CDOM490_FLAG_W,CDOM555,CDOM555_FLAG_W,CDOMSL,CDOMSL_FLAG_W,CDOMSN,CDOMSN_FLAG_W,THETA,SBE35,SBE35_FLAG_W
,,,,,,,,,,,METERS,,DBAR,ITS-90,PSS-78,,PSS-78,,UMOL/KG,,UMOL/KG,,UMOL/KG,,UMOL/KG,,UMOL/KG,,UMOL/KG,,PMOL/KG,,PMOL/KG,,PMOL/KG,,UMOL/KG,,UMOL/KG,,,,DEG C,UMOL/KG,,UMOL/KG,,TU,,TU,NMOL/KG,,NMOL/KG,PERCNT,,PERCNT,NMOL/KG,,NMOL/KG,/MILLE,,/MILLE,/MILLE,,1/M,,1/M,,1/M,,1/M,,1/M,,1/M,,1/M,,1/NM,,1/NM,,DEG C,ITS-90,
  33RR20070322,  I09N,   117,  2,      4,      4,2,20070404,1526,-12.4842,  95.0070, 4525,3533.8000,   3533.8,   1.3792,  34.7205,2,  34.7195,2,    180.5,2,    180.2,2,   128.76,2,    33.50,2,     0.00,2,     2.34,2,    0.006,2,    0.002,2, -999.000,5,   2292.5,2,   2399.8,2,   7.5831,2,    25.00,     40.4,2,  -999.00,9, -999.000,9, -999.000,-999.0000,9,-999.0000,  -999.00,9,  -999.00, -999.000,9, -999.000,   -999.0,9,   -999.0,  -999.00,9,-999.0000,9,-999.0000,9,-999.0000,9,-999.0000,9,-999.0000,9,-999.0000,9,-999.0000,9,-999.0000,9,-999.0000,9,   1.1124,   1.3797,2
  33RR20070322,  I09N,   117,  2,      3,      3,2,20070404,1526,-12.4842,  95.0070, 4525,3938.5000,   3938.5,   1.2227,  34.7170,2,  34.7150,2,    189.2,2,    189.5,2,   127.98,2,    33.02,2,     0.00,2,     2.30,2, -999.000,9, -999.000,9, -999.000,9,   2285.9,2,   2396.9,2,   7.5960,2,    25.00,     40.5,2,  -999.00,9, -999.000,9, -999.000,-999.0000,9,-999.0000,  -999.00,9,  -999.00, -999.000,9, -999.000,   -999.0,9,   -999.0,  -999.00,9,-999.0000,9,-999.0000,9,-999.0000,9,-999.0000,9,-999.0000,9,-999.0000,9,-999.0000,9,-999.0000,9,-999.0000,9,   0.9179,   1.2227,2
  33RR20070322,  I09N,   117,  2,      2,      2,2,20070404,1526,-12.4842,  95.0070, 4525,4346.7000,   4346.7,   1.1505,  34.7146,2,  34.7132,2,    195.9,2,    196.1,2,   125.81,2,    32.70,2,     0.00,2,     2.27,2,    0.009,2,    0.004,2, -999.000,5,   2278.9,2,   2391.7,2,   7.6091,2,    25.00,     40.8,2,  -999.00,9, -999.000,9, -999.000,-999.0000,9,-999.0000,  -999.00,9,  -999.00, -999.000,9, -999.000,   -999.0,9,   -999.0,  -999.00,9,-999.0000,9,-999.0000,9,-999.0000,9,-999.0000,9,-999.0000,9,-999.0000,9,-999.0000,9,-999.0000,9,-999.0000,9,   0.8034,   1.1504,2
  33RR20070322,  I09N,   117,  2,      1,      1,2,20070404,1526,-12.4842,  95.0070, 4525,4580.2000,   4580.2,   1.1637,  34.7142,2,  34.7136,2,    196.8,2,    197.0,2,   125.82,2,    32.59,2,     0.00,2,     2.28,2,    0.009,2,    0.004,2, -999.000,5,   2279.2,6,   2392.7,6,   7.6502,6,    25.00,     40.4,2,  -999.00,9, -999.000,9, -999.000,-999.0000,9,-999.0000,  -999.00,9,  -999.00, -999.000,9, -999.000,   -999.0,9,   -999.0,  -999.00,9,-999.0000,9,-999.0000,9,-999.0000,9,-999.0000,9,-999.0000,9,-999.0000,9,-999.0000,9,-999.0000,9,-999.0000,9,   0.7898,   1.1632,2