BOTTLE,20150630SIOCCHRJL
EXPOCODE,SECT_ID,STNNBR,CASTNO,SAMPNO,BTLNBR,BTLNBR_FLAG_W,DATE,TIME,LATITUDE,LONGITUDE,DEPTH,CTDRAW,CTDPRS,CTDTMP,CTDSAL,CTDSAL_FLAG_W,SALNTY,SALNTY_FLAG_W,CTDOXY,CTDOXY_FLAG_W,OXYGEN,OXYGEN_FLAG_W,SILCAT,SILCAT_FLAG_W,NITRAT,NITRAT_FLAG_W,NITRIT,NITRIT_FLAG_W,PHSPHT,PHSPHT_FLAG_W,CFC-11,CFC-11_FLAG_W,CFC-12,CFC-12_FLAG_W,CFC113,CFC113_FLAG_W,TCARBN,TCARBN_FLAG_W,ALKALI,ALKALI_FLAG_W,PH_SWS,PH_SWS_FLAG_W,PH_TMP,DOC,DOC_FLAG_W,TDN,TDN_FLAG_W,TRITUM,TRITUM_FLAG_W,TRITER,HELIUM,HELIUM_FLAG_W,HELIER,DELHE3,DELHE3_FLAG_W,DELHER,NEON,NEON_FLAG_W,NEONER,DELC14,DELC14_FLAG_W,C14ERR,DELC13,DELC13_FLAG_W,CDOM325,CDOM325_FLAG_W,CDOM340,CDOM340_FLAG_W,CDOM380,CDOM380_FLAG_W,CDOM412,CDOM412_FLAG_W,CDOM443,CDOM443_FLAG_W,CDOM490,CDOM490_FLAG_W,CDOM555,CDOM555_FLAG_W,CDOMSL,CDOMSL_FLAG_W,CDOMSN,CDOMSN_FLAG_W,THETA,SBE35,SBE35_FLAG_W
,,,,,,,,,,,METERS,,DBAR,ITS-90,PSS-78,,PSS-78,,UMOL/KG,,UMOL/KG,,UMOL/KG,,UMOL/KG,,UMOL/KG,,UMOL/KG,,PMOL/KG,,PMOL/KG,,PMOL/KG,,UMOL/KG,,UMOL/KG,,,,DEG C,UMOL/KG,,UMOL/KG,,TU,,TU,NMOL/KG,,NMOL/KG,PERCNT,,PERCNT,NMOL/KG,,NMOL/KG,/MILLE,,/MILLE,/MILLE,,1/M,,1/M,,1/M,,1/M,,1/M,,1/M,,1/M,,1/NM,,1/NM,,DEG C,ITS-90,
  33RR20070322,  I09N,   103,  1,     36,     38,2,20070330,2323,-20.2002,  94.9997, 5259,   3.9000,      3.9,  25.2037,  35.3488,2,  35.3492,2,    206.9,2,    207.2,2,     2.01,2,     0.00,2,     0.00,2,     0.11,2,    1.698,2,    1.118,2,    0.168,3,   1989.2,6,   2314.0,6,   8.0845,2,    25.00,     73.2,2,     5.68,2, -999.000,9, -999.000,-999.0000,9,-999.0000,  -999.00,9,  -999.00, -999.000,9, -999.000,   -999.0,9,   -999.0,  -999.00,9,   0.0468,2,   0.0292,2,   0.0133,2,   0.0105,2,  -0.0057,4,  -0.0050,4,  -0.0044,4,   0.0069,3,   0.0228,3,  25.2028,  25.1977,2
  33RR20070322,  I09N,   103,  1,     35,     35,2,20070330,2323,-20.2002,  94.9997, 5259,  20.8000,     20.8,  25.1994,  35.3501,2,  35.3490,2,    207.7,2,    207.6,2,     1.81,2,     0.00,2,     0.00,2,     0.10,2, -999.000,9, -999.000,9, -999.000,9,   1989.7,2,   2316.2,2,   8.0650,2,    25.00,     73.8,2,     4.82,2, -999.000,9, -999.000,-999.0000,9,-999.0000,  -999.00,9,  -999.00, -999.000,9, -999.000,     43.4,2,      3.2,     1.08,2,   0.0693,2,   0.0511,2,   0.0304,2,   0.0250,2,   0.0061,2,   0.0035,2,   0.0005,4,   0.0093,3,   0.0108,3,  25.1949,  25.2017,2
  33RR20070322,  I09N,   103,  1,     34,   9419,2,20070330,2323,-20.2002,  94.9997, 5259,  46.0000,     46.0,  24.9324,  35.4327,2,  35.4334,2,    210.0,2,    209.3,2,     1.99,2,     0.00,2,     0.00,2,     0.09,2,    1.695,2,    1.103,2,    0.166,3,   1997.9,2,   2322.9,2,-999.0000,5,    25.00,     72.0,2,     4.99,2, -999.000,9, -999.000,-999.0000,9,-999.0000,  -999.00,9,  -999.00, -999.000,9, -999.000,   -999.0,9,   -999.0,  -999.00,9,   0.0541,2,   0.0365,2,   0.0179,2,   0.0142,2,  -0.0028,4,  -0.0026,4,  -0.0030,4,   0.0084,3,   0.0176,3,  24.9224,  24.9313,2
  33RR20070322,  I09N,   103,  1,     33,     33,2,20070330,2323,-20.2002,  94.9997, 5259,  90.5000,     90.5,  22.3584,  35.4922,2,  35.5003,2,    224.9,2,    222.7,2,     2.38,2,     0.00,2,     0.00,2,     0.09,2, -999.000,9, -999.000,9, -999.000,9,   2014.5,2,   2327.7,2,   8.0583,2,    25.00,     68.0,2,     4.88,2, -999.000,9, -999.000,-999.0000,9,-999.0000,  -999.00,9,  -999.00, -999.000,9, -999.000,   -999.0,9,   -999.0,  -999.00,9,   0.1118,2,   0.0775,2,   0.0369,2,   0.0269,2,   0.0047,2,   0.0006,3,  -0.0018,4,   0.0139,3,   0.0172,3,  22.3403,  22.3582,2
  33RR20070322,  I09N,   103,  1,     32,     37,2,20070330,2323,-20.2002,  94.9997, 5259, 141.0000,    141.0,  20.4058,  35.7657,2,  35.7468,2,    210.7,2,    209.8,2,     2.96,2,     0.34,2,     0.17,2,     0.16,2,    2.046,2,    1.341,2,    0.153,3,   2051.8,2,   2342.8,2,   7.9990,2,    25.00,     62.7,2,     3.69,2, -999.000,9, -999.000,-999.0000,9,-999.0000,  -999.00,9,  -999.00, -999.000,9, -999.000,   -999.0,9,   -999.0,  -999.00,9,   0.1024,2,   0.0739,2,   0.0372,2,   0.0281,2,   0.0034,3,  -0.0012,4,  -0.0024,4,   0.0145,2,   0.0161,2,  20.3793,  20.4097,2
  33RR20070322,  I09N,   103,  1,     31,     31,2,20070330,2323,-20.2002,  94.9997, 5259, 165.8000,    165.8,  19.9207,  35.8255,2,  35.8262,2,    209.3,2,    210.1,2,     2.16,2,     0.50,2,     0.22,2,     0.17,2, -999.000,9, -999.000,9, -999.000,9,   2059.9,2,   2347.9,2,   7.9998,2,    25.00,     61.8,2,     4.04,2, -999.000,9, -999.000,-999.0000,9,-999.0000,  -999.00,9,  -999.00, -999.000,9, -999.000,   -999.0,9,   -999.0,  -999.00,9,   0.0887,2,   0.0645,2,   0.0337,2,   0.0259,2,   0.0022,3,  -0.0018,4,  -0.0026,4,   0.0139,2,   0.0153,2,  19.8900,  19.9193,2
  33RR20070322,  I09N,   103,  1,     30,     30,2,20070330,2323,-20.2002,  94.9997, 5259, 190.9000,    190.9,  19.1593,  35.8307,2,  35.8309,2,    205.8,2,    203.5,2,     2.74,2,     1.80,2,     0.02,2,     0.23,2,    2.147,2,    1.409,2,    0.108,3,   2072.6,2,   2348.7,2,   7.9804,2,    25.00,     58.9,2,     5.30,2, -999.000,9, -999.000,-999.0000,9,-999.0000,  -999.00,9,  -999.00, -999.000,9, -999.000,   -999.0,9,   -999.0,  -999.00,9,   0.0903,2,   0.0653,2,   0.0339,2,   0.0260,2,   0.0020,3,  -0.0020,4,  -0.0029,4,   0.0142,2,   0.0155,2,  19.1249,  19.1578,2
  33RR20070322,  I09N,   103,  1,     29,     29,2,20070330,2323,-20.2002,  94.9997, 5259, 241.1000,    241.1,  17.7663,  35.8030,2,  35.7985,2,    203.5,2,    202.5,2,     3.13,2,     2.90,2,     0.01,2,     0.32,2, -999.000,9, -999.000,9, -999.000,9,   2088.6,2,   2347.8,2,   7.9518,2,    25.00,     55.1,2,     6.89,2, -999.000,9, -999.000,-999.0000,9,-999.0000,  -999.00,9,  -999.00, -999.000,9, -999.000,   -999.0,9,   -999.0,  -999.00,9,   0.0891,2,   0.0642,2,   0.0338,2,   0.0259,2,   0.0022,3,  -0.0018,4,  -0.0028,4,   0.0139,2,   0.0153,2,  17.7250,  17.7486,2
  33RR20070322,  I09N,   103,  1,     28,     28,2,20070330,2323,-20.2002,  94.9997, 5259, 290.9000,    290.9,  16.0496,  35.6877,2,  35.6925,2,    210.0,2,    212.4,2,     2.12,2,     3.31,2,     0.01,2,     0.37,2,    2.536,2,    1.585,2,    0.048,3,   2097.7,2,   2343.2,2,   7.9263,2,    25.00,     51.2,2,     6.82,2, -999.000,9, -999.000,-999.0000,9,-999.0000,  -999.00,9,  -999.00, -999.000,9, -999.000,   -999.0,9,   -999.0,  -999.00,9,   0.0872,2,   0.0629,2,   0.0329,2,   0.0249,2,   0.0017,3,  -0.0020,4,  -0.0031,4,   0.0141,2,   0.0156,2,  16.0031,  16.0685,2
  33RR20070322,  I09N,   103,  1,     27,     27,2,20070330,2323,-20.2002,  94.9997, 5259, 340.8000,    340.8,  14.1642,  35.4498,2,  35.4433,2,    221.7,2,    223.6,2,     2.11,2,     5.49,2,     0.00,2,     0.51,2, -999.000,9, -999.000,9, -999.000,9,   2105.6,2,   2329.7,2,   7.8914,2,    25.00,     49.2,2,     8.70,2, -999.000,9, -999.000,-999.0000,9,-999.0000,  -999.00,9,  -999.00, -999.000,9, -999.000,   -999.0,9,   -999.0,  -999.00,9,   0.0820,2,   0.0583,2,   0.0307,2,   0.0234,2,   0.0012,3,  -0.0024,4,  -0.0033,4,   0.0139,2,   0.0156,2,  14.1141,  14.1562,2
  33RR20070322,  I09N,   103,  1,     26,     26,2,20070330,2323,-20.2002,  94.9997, 5259, 390.5000,    390.5,  12.7583,  35.2337,2,  35.2381,2,    227.3,2,    228.4,2,     2.30,2,     7.83,2,     0.00,2,     0.64,2,    3.037,2,    1.839,2,    0.109,3,   2109.8,2,   2319.0,2,   7.8602,2,    25.00,     48.3,2,    11.32,2, -999.000,9, -999.000,-999.0000,9,-999.0000,  -999.00,9,  -999.00, -999.000,9, -999.000,   -999.0,9,   -999.0,  -999.00,9,   0.0759,2,   0.0529,2,   0.0273,2,   0.0205,2,  -0.0001,4,  -0.0031,4,  -0.0037,4,   0.0141,2,   0.0163,2,  12.7047,  12.7615,2
  33RR20070322,  I09N,   103,  1,     25,     25,2,20070330,2323,-20.2002,  94.9997, 5259, 440.5000,    440.5,  11.5038,  35.0343,2,  35.0473,2,    233.6,2,    235.5,2,     2.69,2,    10.00,2,     0.00,2,     0.78,2, -999.000,9, -999.000,9, -999.000,9,   2113.1,2,   2309.6,2,   7.8341,2,    25.00,     47.1,2,    13.45,2, -999.000,9, -999.000,-999.0000,9,-999.0000,  -999.00,9,  -999.00, -999.000,9, -999.000,   -999.0,9,   -999.0,  -999.00,9,   0.0752,2,   0.0525,2,   0.0277,2,   0.0209,2,   0.0005,4,  -0.0026,4,  -0.0035,4,   0.0136,2,   0.0158,2,  11.4473,  11.4894,2
  33RR20070322,  I09N,   103,  1,     24,     24,2,20070330,2323,-20.2002,  94.9997, 5259, 490.5000,    490.5,  10.4720,  34.8659,2,  34.8712,2,    238.4,2,    237.9,2,     3.47,2,    12.68,2,     0.00,2,     0.95,2,    3.358,2,    1.970,2,    0.145,3,   2120.1,2,   2301.5,2,   7.8294,2,    25.00,     46.6,2,    16.02,2, -999.000,9, -999.000,-999.0000,9,-999.0000,  -999.00,9,  -999.00, -999.000,9, -999.000,   -999.0,9,   -999.0,  -999.00,9,   0.0717,2,   0.0484,2,   0.0256,2,   0.0194,2,  -0.0002,4,  -0.0032,4,  -0.0038,4,   0.0136,2,   0.0162,3,  10.4126,  10.4768,2
  33RR20070322,  I09N,   103,  1,     23,     23,2,20070330,2323,-20.2002,  94.9997, 5259, 575.8000,    575.8,   9.3260,  34.6953,2,  34.6980,2,    235.4,2,    233.9,2,     5.25,2,    16.39,2,     0.00,2,     1.17,2, -999.000,9, -999.000,9, -999.000,9,   2129.2,2,   2294.0,2,   7.7573,2,    25.00,     45.2,2,    19.32,2, -999.000,9, -999.000,-999.0000,9,-999.0000,  -999.00,9,  -999.00, -999.000,9, -999.000,   -999.0,9,   -999.0,  -999.00,9,   0.0738,2,   0.0498,2,   0.0267,2,   0.0202,2,   0.0007,3,  -0.0026,4,  -0.0035,4,   0.0134,2,   0.0159,3,   9.2610,   9.3299,2
  33RR20070322,  I09N,   103,  1,     22,     22,2,20070330,2323,-20.2002,  94.9997, 5259, 676.1000,    676.1,   7.6436,  34.5384,2,  34.5408,2,    208.7,2,    195.5,2,    17.75,2,    24.10,2,     0.00,2,     1.68,2,    2.039,2,    1.104,2,    0.087,3,   2166.7,2,   2268.5,4,   7.6878,2,    25.00,     44.0,2,    26.35,2, -999.000,9, -999.000,-999.0000,9,-999.0000,  -999.00,9,  -999.00, -999.000,9, -999.000,   -999.0,9,   -999.0,  -999.00,9,   0.0883,2,   0.0598,2,   0.0328,2,   0.0244,2,   0.0036,2,  -0.0015,4,  -0.0031,4,   0.0135,2,   0.0155,3,   7.5753,   7.6476,2
  33RR20070322,  I09N,   103,  1,     21,     21,2,20070330,2323,-20.2002,  94.9997, 5259, 776.4000,    776.4,   6.3080,  34.5258,2,  34.5238,2,    160.6,2,    151.3,2,    40.82,2,    30.38,2,     0.00,2,     2.16,2, -999.000,9, -999.000,9, -999.000,9,   2214.2,2,   2313.4,2,   7.6091,2,    25.00,     43.2,2,    32.75,2, -999.000,9, -999.000,-999.0000,9,-999.0000,  -999.00,9,  -999.00, -999.000,9, -999.000,   -999.0,9,   -999.0,  -999.00,9,   0.1119,2,   0.0774,2,   0.0434,2,   0.0324,2,   0.0091,2,   0.0008,3,  -0.0021,4,   0.0134,2,   0.0147,3,   6.2368,   6.3080,2
  33RR20070322,  I09N,   103,  1,     20,     20,2,20070330,2323,-20.2002,  94.9997, 5259, 876.8000,    876.8,   5.8144,  34.6010,2,  34.6017,2,    118.9,2,    112.5,2,    63.94,2,    34.07,2,     0.00,2,     2.47,2,    0.153,2,    0.069,2,    0.005,3,   2256.6,2,   2337.5,2,   7.5389,2,    25.00,     42.1,2,    36.28,2, -999.000,9, -999.000,-999.0000,9,-999.0000,  -999.00,9,  -999.00, -999.000,9, -999.000,   -999.0,9,   -999.0,  -999.00,9,   0.1358,2,   0.0961,2,   0.0547,2,   0.0407,2,   0.0144,2,   0.0029,3,  -0.0014,4,   0.0138,3,   0.0143,3,   5.7366,   5.8163,2
  33RR20070322,  I09N,   103,  1,     19,     19,2,20070330,2323,-20.2002,  94.9997, 5259, 977.6000,    977.6,   5.4359,  34.6328,2,  34.6338,2,    104.2,2,    100.9,2,    76.33,2,    35.31,2,     0.00,2,     2.59,2, -999.000,9, -999.000,9, -999.000,9,   2275.2,2,   2351.5,2,   7.5427,2,    25.00,     41.7,2,    37.82,2, -999.000,9, -999.000,-999.0000,9,-999.0000,  -999.00,9,  -999.00, -999.000,9, -999.000,   -999.0,9,   -999.0,  -999.00,9,   0.1448,2,   0.1032,2,   0.0592,2,   0.0438,2,   0.0165,2,   0.0040,2,  -0.0009,4,   0.0137,3,   0.0142,3,   5.3512,   5.4348,2
  33RR20070322,  I09N,   103,  1,     18,     18,2,20070330,2323,-20.2002,  94.9997, 5259,1078.1000,   1078.1,   4.9349,  34.6371,2,  34.6369,2,    105.2,2,    104.1,2,    82.73,2,    35.60,2,     0.00,2,     2.62,2,    0.031,2,    0.016,2,   -0.001,3,   2282.0,2,   2359.8,6,   7.5446,6,    25.00,     41.5,2,    37.51,2, -999.000,9, -999.000,-999.0000,9,-999.0000,  -999.00,9,  -999.00, -999.000,9, -999.000,   -999.0,9,   -999.0,  -999.00,9,   0.1490,2,   0.1070,2,   0.0624,2,   0.0465,2,   0.0181,2,   0.0043,2,  -0.0008,4,   0.0138,3,   0.0139,3,   4.8448,   4.9391,2
  33RR20070322,  I09N,   103,  1,     17,     17,2,20070330,2323,-20.2002,  94.9997, 5259,1174.5000,   1174.5,   4.5456,  34.6368,2,  34.6381,2,    109.8,2,    109.3,2,    86.13,2,    35.68,2,     0.00,2,     2.62,2, -999.000,9, -999.000,9, -999.000,9,   2283.3,6,   2354.8,2,   7.5497,2,    25.00,     41.3,2,    37.33,2, -999.000,9, -999.000,-999.0000,9,-999.0000,  -999.00,9,  -999.00, -999.000,9, -999.000,   -999.0,9,   -999.0,  -999.00,9,   0.1498,2,   0.1074,2,   0.0628,2,   0.0466,2,   0.0184,2,   0.0047,2,  -0.0005,4,   0.0137,3,   0.0138,3,   4.4501,   4.5410,2
  33RR20070322,  I09N,   103,  1,     16,     16,2,20070330,2323,-20.2002,  94.9997, 5259,1279.0000,   1279.0,   4.1747,  34.6450,2,  34.6452,2,    113.6,2,    112.3,2,    92.15,2,    35.77,2,     0.00,2,     2.63,2,    0.019,2,    0.008,2,   -0.002,3,   2289.4,2,   2362.8,2,   7.4941,4,    25.00,     41.4,2,    37.19,2, -999.000,9, -999.000,-999.0000,9,-999.0000,  -999.00,9,  -999.00, -999.000,9, -999.000,   -999.0,9,   -999.0,  -999.00,9,   0.1513,2,   0.1082,2,   0.0632,2,   0.0473,2,   0.0188,2,   0.0047,2,  -0.0005,4,   0.0137,3,   0.0138,3,   4.0733,   4.1763,2
  33RR20070322,  I09N,   103,  1,     15,     15,2,20070330,2323,-20.2002,  94.9997, 5259,1379.1000,   1379.1,   3.7908,  34.6500,2,  34.6503,2,    120.2,2,    120.7,2,    93.74,2,    35.43,2,     0.00,2,     2.60,2, -999.000,9, -999.000,9, -999.000,9,   2288.7,2,   2364.2,2,   7.5117,4,    25.00,     41.0,2,    36.57,2, -999.000,9, -999.000,-999.0000,9,-999.0000,  -999.00,9,  -999.00, -999.000,9, -999.000,   -999.0,9,   -999.0,  -999.00,9,   0.1465,2,   0.1043,2,   0.0604,2,   0.0446,2,   0.0169,2,   0.0037,3,  -0.0009,4,   0.0139,3,   0.0141,3,   3.6844,   3.7908,2
  33RR20070322,  I09N,   103,  1,     14,     14,2,20070330,2323,-20.2002,  94.9997, 5259,1480.0000,   1480.0,   3.4599,  34.6602,2,  34.6605,2,    127.3,2,    129.2,2,    95.14,2,    35.19,2,     0.00,2,     2.56,2,    0.022,2,    0.008,2,    0.000,3,   2287.5,2,   2365.6,2,   7.5100,3,    25.00,     40.6,2,    36.35,2, -999.000,9, -999.000,-999.0000,9,-999.0000,  -999.00,9,  -999.00, -999.000,9, -999.000,   -178.7,6,      3.5,     0.36,6,   0.1408,2,   0.0991,2,   0.0560,2,   0.0399,2,   0.0137,2,   0.0025,3,  -0.0014,4,   0.0142,2,   0.0149,3,   3.3483,   3.4602,2
  33RR20070322,  I09N,   103,  1,     13,     13,2,20070330,2323,-20.2002,  94.9997, 5259,1580.9000,   1580.9,   3.1742,  34.6739,2,  34.6745,2,    133.3,2,    135.1,2,    97.74,2,    34.96,2,     0.00,2,     2.53,2, -999.000,9, -999.000,9, -999.000,9,   2287.4,2,   2370.3,2,   7.5131,4,    25.00,     40.6,2,    36.65,2, -999.000,9, -999.000,-999.0000,9,-999.0000,  -999.00,9,  -999.00, -999.000,9, -999.000,   -999.0,9,   -999.0,  -999.00,9,   0.1450,2,   0.1030,2,   0.0596,2,   0.0439,2,   0.0171,2,   0.0042,2,  -0.0003,4,   0.0137,3,   0.0140,3,   3.0572,   3.1762,2
  33RR20070322,  I09N,   103,  1,     12,     12,2,20070330,2323,-20.2002,  94.9997, 5259,1782.0000,   1782.0,   2.7716,  34.6984,2,  34.6990,2,    143.0,2,    143.9,2,   103.57,2,    34.36,2,     0.00,2,     2.49,2, -999.000,9, -999.000,9, -999.000,9,   2288.6,2,   2375.6,2,   7.5250,2,    25.00,     40.4,2,    35.46,2, -999.000,9, -999.000,-999.0000,9,-999.0000,  -999.00,9,  -999.00, -999.000,9, -999.000,   -999.0,9,   -999.0,  -999.00,9,   0.1416,2,   0.0999,2,   0.0570,2,   0.0416,2,   0.0154,2,   0.0033,3,  -0.0006,4,   0.0138,2,   0.0144,3,   2.6424,   2.7716,2
  33RR20070322,  I09N,   103,  1,     11,     11,2,20070330,2323,-20.2002,  94.9997, 5259,1983.5000,   1983.5,   2.4458,  34.7159,2,  34.7152,2,    150.0,2,    150.5,2,   109.61,2,    34.18,2,     0.00,2,     2.46,2,    0.018,2,    0.003,2,    0.000,3,   2291.6,2,   2384.0,2,   7.5370,2,    25.00,     40.4,2,    36.10,2, -999.000,9, -999.000,-999.0000,9,-999.0000,  -999.00,9,  -999.00, -999.000,9, -999.000,   -999.0,9,   -999.0,  -999.00,9,   0.1430,2,   0.1009,2,   0.0579,2,   0.0426,2,   0.0161,2,   0.0037,2,  -0.0003,4,   0.0137,3,   0.0142,3,   2.3037,   2.4459,2
  33RR20070322,  I09N,   103,  1,     10,     10,2,20070330,2323,-20.2002,  94.9997, 5259,2184.7000,   2184.7,   2.2004,  34.7240,2,  34.7256,2,    156.5,2,    157.0,2,   113.44,2,    33.85,2,     0.00,2,     2.42,2, -999.000,9, -999.000,9, -999.000,9,   2292.1,2,   2386.8,2,   7.5440,2,    25.00,     40.3,2,    35.20,2, -999.000,9, -999.000,-999.0000,9,-999.0000,  -999.00,9,  -999.00, -999.000,9, -999.000,   -999.0,9,   -999.0,  -999.00,9,   0.1408,2,   0.0994,2,   0.0563,2,   0.0407,2,   0.0149,2,   0.0032,3,  -0.0005,4,   0.0138,2,   0.0145,3,   2.0446,   2.2002,2
  33RR20070322,  I09N,   103,  1,      9,      9,2,20070330,2323,-20.2002,  94.9997, 5259,2437.8000,   2437.8,   1.9693,  34.7277,2,  34.7278,2,    164.9,2,    165.0,2,   116.25,2,    33.41,2,     0.00,2,     2.39,2, -999.000,9, -999.000,9, -999.000,9,   2290.9,2,   2389.9,2,   7.5630,2,    25.00,     40.0,2,    34.70,2, -999.000,9, -999.000,-999.0000,9,-999.0000,  -999.00,9,  -999.00, -999.000,9, -999.000,   -999.0,9,   -999.0,  -999.00,9,   0.1377,2,   0.0967,2,   0.0545,2,   0.0395,2,   0.0143,2,   0.0032,3,  -0.0004,4,   0.0137,2,   0.0146,3,   1.7949,   1.9692,2
  33RR20070322,  I09N,   103,  1,      8,      8,2,20070330,2323,-20.2002,  94.9997, 5259,2690.8000,   2690.8,   1.8112,  34.7283,2,  34.7283,2,    170.6,2,    171.2,2,   118.27,2,    33.18,2,     0.00,2,     2.37,2, -999.000,9, -999.000,9, -999.000,9,   2288.7,2,   2390.2,2,   7.5600,2,    25.00,     40.1,2,    34.96,2, -999.000,9, -999.000,-999.0000,9,-999.0000,  -999.00,9,  -999.00, -999.000,9, -999.000,   -999.0,9,   -999.0,  -999.00,9,   0.1369,2,   0.0958,2,   0.0531,2,   0.0383,2,   0.0135,2,   0.0028,3,  -0.0006,4,   0.0138,2,   0.0149,3,   1.6166,   1.8112,2
  33RR20070322,  I09N,   103,  1,      7,      7,2,20070330,2323,-20.2002,  94.9997, 5259,2943.8000,   2943.8,   1.6519,  34.7272,2,  34.7272,2,    174.6,2,    174.3,2,   121.70,2,    33.11,2,     0.00,2,     2.36,2,    0.022,2,    0.007,2,    0.000,3,   2290.2,6,   2395.3,2,   7.5670,3,    25.00,     40.6,2,    34.32,2, -999.000,9, -999.000,-999.0000,9,-999.0000,  -999.00,9,  -999.00, -999.000,9, -999.000,   -999.0,9,   -999.0,  -999.00,9,   0.1362,2,   0.0950,2,   0.0527,2,   0.0381,2,   0.0134,2,   0.0029,3,  -0.0005,4,   0.0138,2,   0.0149,3,   1.4368,   1.6517,2
  33RR20070322,  I09N,   103,  1,      6,      6,2,20070330,2323,-20.2002,  94.9997, 5259,3278.9000,   3278.9,   1.5028,  34.7240,2,  34.7246,2,    177.6,2,    177.3,2,   125.55,2,    33.14,2,     0.00,2,     2.36,2, -999.000,9, -999.000,9, -999.000,9,   2291.9,2,   2399.2,2,   7.5780,3,    25.00,     40.6,2,    34.56,2, -999.000,9, -999.000,-999.0000,9,-999.0000,  -999.00,9,  -999.00, -999.000,9, -999.000,   -999.0,9,   -999.0,  -999.00,9,   0.1359,2,   0.0947,2,   0.0525,2,   0.0378,2,   0.0132,2,   0.0027,3,  -0.0005,4,   0.0138,2,   0.0149,3,   1.2586,   1.5024,2
  33RR20070322,  I09N,   103,  1,      5,      5,2,20070330,2323,-20.2002,  94.9997, 5259,3684.9000,   3684.9,   1.3505,  34.7203,2,  34.7209,2,    183.2,2,    183.4,2,   127.36,2,    33.01,2,     0.00,2,     2.34,2, -999.000,9, -999.000,9, -999.000,9,   2290.2,2,   2397.8,2,   7.5800,2,    25.00,     40.1,2,    34.97,2, -999.000,9, -999.000,-999.0000,9,-999.0000,  -999.00,9,  -999.00, -999.000,9, -999.000,   -999.0,9,   -999.0,  -999.00,9,   0.1330,2,   0.0926,2,   0.0507,2,   0.0364,2,   0.0122,2,   0.0024,3,  -0.0008,4,   0.0138,2,   0.0152,3,   1.0689,   1.3505,2