BOTTLE,20150630SIOCCHRJL
EXPOCODE,SECT_ID,STNNBR,CASTNO,SAMPNO,BTLNBR,BTLNBR_FLAG_W,DATE,TIME,LATITUDE,LONGITUDE,DEPTH,CTDRAW,CTDPRS,CTDTMP,CTDSAL,CTDSAL_FLAG_W,SALNTY,SALNTY_FLAG_W,CTDOXY,CTDOXY_FLAG_W,OXYGEN,OXYGEN_FLAG_W,SILCAT,SILCAT_FLAG_W,NITRAT,NITRAT_FLAG_W,NITRIT,NITRIT_FLAG_W,PHSPHT,PHSPHT_FLAG_W,CFC-11,CFC-11_FLAG_W,CFC-12,CFC-12_FLAG_W,CFC113,CFC113_FLAG_W,TCARBN,TCARBN_FLAG_W,ALKALI,ALKALI_FLAG_W,PH_SWS,PH_SWS_FLAG_W,PH_TMP,DOC,DOC_FLAG_W,TDN,TDN_FLAG_W,TRITUM,TRITUM_FLAG_W,TRITER,HELIUM,HELIUM_FLAG_W,HELIER,DELHE3,DELHE3_FLAG_W,DELHER,NEON,NEON_FLAG_W,NEONER,DELC14,DELC14_FLAG_W,C14ERR,DELC13,DELC13_FLAG_W,CDOM325,CDOM325_FLAG_W,CDOM340,CDOM340_FLAG_W,CDOM380,CDOM380_FLAG_W,CDOM412,CDOM412_FLAG_W,CDOM443,CDOM443_FLAG_W,CDOM490,CDOM490_FLAG_W,CDOM555,CDOM555_FLAG_W,CDOMSL,CDOMSL_FLAG_W,CDOMSN,CDOMSN_FLAG_W,THETA,SBE35,SBE35_FLAG_W
,,,,,,,,,,,METERS,,DBAR,ITS-90,PSS-78,,PSS-78,,UMOL/KG,,UMOL/KG,,UMOL/KG,,UMOL/KG,,UMOL/KG,,UMOL/KG,,PMOL/KG,,PMOL/KG,,PMOL/KG,,UMOL/KG,,UMOL/KG,,,,DEG C,UMOL/KG,,UMOL/KG,,TU,,TU,NMOL/KG,,NMOL/KG,PERCNT,,PERCNT,NMOL/KG,,NMOL/KG,/MILLE,,/MILLE,/MILLE,,1/M,,1/M,,1/M,,1/M,,1/M,,1/M,,1/M,,1/NM,,1/NM,,DEG C,ITS-90,
  33RR20070322,  I09N,    96,  1,     36,     38,2,20070328,1816,-24.1370,  95.0073, 5433,   4.3000,      4.3,  23.7296,  35.6870,2,  35.6876,2,    212.3,2,    213.6,2,     1.83,2,     0.05,2,     0.00,2,     0.09,2,    1.848,2,    1.174,2, -999.000,5,   2019.4,6,   2336.9,2,   8.0368,6,    25.00,   -999.0,9,  -999.00,9,    0.599,2,    0.018,   1.7560,2,   0.0005,    -1.48,2,     0.18,    7.055,2,    0.008,   -999.0,9,   -999.0,  -999.00,9,-999.0000,9,-999.0000,9,-999.0000,9,-999.0000,9,-999.0000,9,-999.0000,9,-999.0000,9,-999.0000,9,-999.0000,9,  23.7287,  23.7267,2
  33RR20070322,  I09N,    96,  1,     35,     35,2,20070328,1816,-24.1370,  95.0073, 5433,  41.4000,     41.4,  23.7431,  35.6871,2,  35.6872,2,    213.5,2,    213.0,2,     1.77,2,     0.00,2,     0.00,2,     0.09,2,    1.841,2,    1.183,2, -999.000,5,   -999.0,9,   -999.0,9,-999.0000,9,  -999.00,   -999.0,9,  -999.00,9, -999.000,9, -999.000,   1.7470,2,   0.0004,    -1.21,2,     0.19,    7.069,2,    0.010,   -999.0,9,   -999.0,  -999.00,9,-999.0000,9,-999.0000,9,-999.0000,9,-999.0000,9,-999.0000,9,-999.0000,9,-999.0000,9,-999.0000,9,-999.0000,9,  23.7344,  23.7417,2
  33RR20070322,  I09N,    96,  1,     34,   9419,2,20070328,1816,-24.1370,  95.0073, 5433,  76.1000,     76.1,  23.6984,  35.6883,2,  35.6886,2,    213.7,2,    213.4,2,     1.71,2,     0.00,2,     0.00,2,     0.09,2,    1.835,2,    1.179,2, -999.000,5,   2019.1,2,   2337.0,6,   8.0435,2,    25.00,   -999.0,9,  -999.00,9, -999.000,9, -999.000,   1.7290,2,   0.0005,    -1.37,2,     0.18,    6.918,2,    0.008,   -999.0,9,   -999.0,  -999.00,9,-999.0000,9,-999.0000,9,-999.0000,9,-999.0000,9,-999.0000,9,-999.0000,9,-999.0000,9,-999.0000,9,-999.0000,9,  23.6825,  23.7237,2
  33RR20070322,  I09N,    96,  1,     33,     33,2,20070328,1816,-24.1370,  95.0073, 5433,  96.3000,     96.3,  21.6133,  35.6934,2,  35.6886,2,    228.4,2,    226.3,2,     1.86,2,     0.00,2,     0.00,2,     0.10,2,    2.108,2,    1.322,2, -999.000,5,   -999.0,9,   -999.0,9,-999.0000,9,  -999.00,   -999.0,9,  -999.00,9,    0.599,2,    0.018,   1.7310,2,   0.0007,    -0.96,2,     0.18,    6.973,2,    0.008,   -999.0,9,   -999.0,  -999.00,9,-999.0000,9,-999.0000,9,-999.0000,9,-999.0000,9,-999.0000,9,-999.0000,9,-999.0000,9,-999.0000,9,-999.0000,9,  21.5944,  21.6173,2
  33RR20070322,  I09N,    96,  1,     32,     37,2,20070328,1816,-24.1370,  95.0073, 5433, 124.9000,    124.9,  20.4347,  35.8282,2,  35.8286,2,    225.2,2,    224.4,2,     1.80,2,     0.00,2,     0.00,2,     0.10,2,    2.202,2,    1.365,2, -999.000,5,   -999.0,9,   -999.0,9,-999.0000,9,  -999.00,   -999.0,9,  -999.00,9, -999.000,9, -999.000,   1.7410,2,   0.0004,    -1.38,2,     0.18,    7.077,2,    0.010,   -999.0,9,   -999.0,  -999.00,9,-999.0000,9,-999.0000,9,-999.0000,9,-999.0000,9,-999.0000,9,-999.0000,9,-999.0000,9,-999.0000,9,-999.0000,9,  20.4112,  20.4285,2
  33RR20070322,  I09N,    96,  1,     31,     31,2,20070328,1816,-24.1370,  95.0073, 5433, 176.3000,    176.3,  18.7800,  35.8731,2,  35.8758,2,    213.8,2,    212.6,2,     1.74,2,     0.65,2,     0.14,2,     0.20,2,    2.348,2,    1.441,2, -999.000,5,   -999.0,9,   -999.0,9,-999.0000,9,  -999.00,   -999.0,9,  -999.00,9,    0.534,2,    0.017,   1.7490,2,   0.0006,    -1.12,2,     0.19,    7.178,2,    0.007,   -999.0,9,   -999.0,  -999.00,9,-999.0000,9,-999.0000,9,-999.0000,9,-999.0000,9,-999.0000,9,-999.0000,9,-999.0000,9,-999.0000,9,-999.0000,9,  18.7487,  18.7816,2
  33RR20070322,  I09N,    96,  1,     30,     30,2,20070328,1816,-24.1370,  95.0073, 5433, 226.7000,    226.7,  17.2239,  35.8078,2,  35.8089,2,    211.7,2,    212.3,2,     1.69,2,     2.14,2,     0.01,2,     0.29,2,    2.526,2,    1.498,2, -999.000,5,   2092.2,2,   2347.1,6,   7.9281,2,    25.00,   -999.0,9,  -999.00,9,    0.505,2,    0.012,   1.7370,2,   0.0006,    -1.35,2,     0.18,    7.175,2,    0.007,   -999.0,9,   -999.0,  -999.00,9,-999.0000,9,-999.0000,9,-999.0000,9,-999.0000,9,-999.0000,9,-999.0000,9,-999.0000,9,-999.0000,9,-999.0000,9,  17.1859,  17.2311,2
  33RR20070322,  I09N,    96,  1,     29,     29,2,20070328,1816,-24.1370,  95.0073, 5433, 275.8000,    275.8,  15.8015,  35.6742,2,  35.6742,2,    217.8,2,    218.5,2,     1.43,2,     3.23,2,     0.01,2,     0.37,2,    2.720,2,    1.611,2, -999.000,5,   -999.0,9,   -999.0,9,-999.0000,9,  -999.00,   -999.0,9,  -999.00,9,    0.482,2,    0.015,   2.0980,4,   0.0007,    -0.54,3,     0.17,    8.367,4,    0.013,   -999.0,9,   -999.0,  -999.00,9,-999.0000,9,-999.0000,9,-999.0000,9,-999.0000,9,-999.0000,9,-999.0000,9,-999.0000,9,-999.0000,9,-999.0000,9,  15.7579,  15.8001,2
  33RR20070322,  I09N,    96,  1,     28,     28,2,20070328,1816,-24.1370,  95.0073, 5433, 326.2000,    326.2,  14.2915,  35.4800,2,  35.4893,2,    225.1,2,    224.9,2,     1.38,2,     4.90,2,     0.01,2,     0.47,2,    2.931,2,    1.725,2, -999.000,5,   -999.0,9,   -999.0,9,-999.0000,9,  -999.00,   -999.0,9,  -999.00,9,    0.449,2,    0.011,   1.7880,2,   0.0010,    -1.11,2,     0.20,    7.380,2,    0.011,   -999.0,9,   -999.0,  -999.00,9,-999.0000,9,-999.0000,9,-999.0000,9,-999.0000,9,-999.0000,9,-999.0000,9,-999.0000,9,-999.0000,9,-999.0000,9,  14.2433,  14.3185,2
  33RR20070322,  I09N,    96,  1,     27,     27,2,20070328,1816,-24.1370,  95.0073, 5433, 376.2000,    376.2,  12.9115,  35.2651,2,  35.2756,2,    230.1,2,    230.3,2,     1.72,2,     7.30,2,     0.00,2,     0.61,2,    3.178,2,    1.810,2, -999.000,5,   -999.0,9,   -999.0,9,-999.0000,9,  -999.00,   -999.0,9,  -999.00,9,    0.418,2,    0.010,   1.7490,2,   0.0010,    -1.23,2,     0.20,    7.395,2,    0.010,   -999.0,9,   -999.0,  -999.00,9,-999.0000,9,-999.0000,9,-999.0000,9,-999.0000,9,-999.0000,9,-999.0000,9,-999.0000,9,-999.0000,9,-999.0000,9,  12.8595,  12.9070,2
  33RR20070322,  I09N,    96,  1,     26,     26,2,20070328,1816,-24.1370,  95.0073, 5433, 424.7000,    424.7,  11.7374,  35.0707,2,  35.0791,2,    234.4,2,    234.7,2,     2.27,2,     9.85,2,     0.00,2,     0.76,2,    3.388,2,    1.900,2, -999.000,5,   -999.0,9,   -999.0,9,-999.0000,9,  -999.00,   -999.0,9,  -999.00,9, -999.000,9, -999.000,   1.7650,2,   0.0004,    -1.22,2,     0.18,    7.451,2,    0.009,   -999.0,9,   -999.0,  -999.00,9,-999.0000,9,-999.0000,9,-999.0000,9,-999.0000,9,-999.0000,9,-999.0000,9,-999.0000,9,-999.0000,9,-999.0000,9,  11.6822,  11.7369,2
  33RR20070322,  I09N,    96,  1,     25,     25,2,20070328,1816,-24.1370,  95.0073, 5433, 475.1000,    475.1,  11.0104,  34.9518,2,  34.9587,2,    237.8,2,    238.4,2,     2.61,2,    11.40,2,     0.00,2,     0.86,2,    3.512,2,    1.952,2, -999.000,5,   -999.0,9,   -999.0,9,-999.0000,9,  -999.00,   -999.0,9,  -999.00,9, -999.000,9, -999.000,   1.7680,2,   0.0005,    -0.70,2,     0.18,    7.520,2,    0.008,   -999.0,9,   -999.0,  -999.00,9,-999.0000,9,-999.0000,9,-999.0000,9,-999.0000,9,-999.0000,9,-999.0000,9,-999.0000,9,-999.0000,9,-999.0000,9,  10.9511,  11.0113,2
  33RR20070322,  I09N,    96,  1,     24,     24,2,20070328,1816,-24.1370,  95.0073, 5433, 526.8000,    526.8,  10.4868,  34.8675,2,  34.8635,2,    240.0,2,    241.1,2,     3.16,2,    12.86,2,     0.00,2,     0.95,2,    3.602,2,    1.983,2, -999.000,5,   2119.0,2,   2298.2,6,   7.7885,2,    25.00,   -999.0,9,  -999.00,9, -999.000,9, -999.000,   1.7860,2,   0.0007,    -1.05,2,     0.18,    7.636,2,    0.009,   -999.0,9,   -999.0,  -999.00,9,-999.0000,9,-999.0000,9,-999.0000,9,-999.0000,9,-999.0000,9,-999.0000,9,-999.0000,9,-999.0000,9,-999.0000,9,  10.4229,  10.4862,2
  33RR20070322,  I09N,    96,  1,     23,     23,2,20070328,1816,-24.1370,  95.0073, 5433, 646.1000,    646.1,   9.1067,  34.6592,2,  34.6579,2,    237.0,2,    235.2,2,     4.90,2,    17.32,2,     0.00,2,     1.22,2,    3.631,2,    1.920,2, -999.000,5,   -999.0,9,   -999.0,9,-999.0000,9,  -999.00,   -999.0,9,  -999.00,9, -999.000,9, -999.000,   1.7740,2,   0.0011,    -0.68,2,     0.18,    7.577,2,    0.011,   -999.0,9,   -999.0,  -999.00,9,-999.0000,9,-999.0000,9,-999.0000,9,-999.0000,9,-999.0000,9,-999.0000,9,-999.0000,9,-999.0000,9,-999.0000,9,   9.0345,   9.1071,2
  33RR20070322,  I09N,    96,  1,     22,     22,2,20070328,1816,-24.1370,  95.0073, 5433, 747.8000,    747.8,   8.0842,  34.5567,2,  34.5575,2,    219.1,2,    215.1,2,    10.06,2,    21.59,2,     0.00,2,     1.50,2,    2.849,2,    1.457,2, -999.000,5,   -999.0,9,   -999.0,9,-999.0000,9,  -999.00,   -999.0,9,  -999.00,9, -999.000,9, -999.000,   1.7840,2,   0.0005,     1.25,2,     0.19,    7.707,2,    0.010,   -999.0,9,   -999.0,  -999.00,9,-999.0000,9,-999.0000,9,-999.0000,9,-999.0000,9,-999.0000,9,-999.0000,9,-999.0000,9,-999.0000,9,-999.0000,9,   8.0059,   8.0791,2
  33RR20070322,  I09N,    96,  1,     21,     21,2,20070328,1816,-24.1370,  95.0073, 5433, 847.6000,    847.6,   6.0763,  34.4354,2,  34.4377,2,    196.5,2,    191.8,2,    24.05,2,    27.95,2,     0.00,2,     1.94,2,    1.510,2,    0.771,2, -999.000,5,   2182.0,2,   2292.9,2,   7.6257,2,    25.00,   -999.0,9,  -999.00,9,    0.069,2,    0.007,   1.8210,2,   0.0008,     3.41,2,     0.20,    7.846,2,    0.010,   -999.0,9,   -999.0,  -999.00,9,-999.0000,9,-999.0000,9,-999.0000,9,-999.0000,9,-999.0000,9,-999.0000,9,-999.0000,9,-999.0000,9,-999.0000,9,   5.9998,   6.0901,2
  33RR20070322,  I09N,    96,  1,     20,     20,2,20070328,1816,-24.1370,  95.0073, 5433, 948.0000,    948.0,   5.0647,  34.4620,2,  34.4648,2,    169.3,2,    161.9,2,    45.90,2,    32.14,2,     0.00,2,     2.25,2,    0.560,2,    0.309,2, -999.000,5,   -999.0,9,   -999.0,9,-999.0000,9,  -999.00,   -999.0,9,  -999.00,9, -999.000,9, -999.000,   1.8350,2,   0.0011,     6.28,2,     0.20,    7.919,2,    0.011,   -999.0,9,   -999.0,  -999.00,9,-999.0000,9,-999.0000,9,-999.0000,9,-999.0000,9,-999.0000,9,-999.0000,9,-999.0000,9,-999.0000,9,-999.0000,9,   4.9857,   5.0768,2
  33RR20070322,  I09N,    96,  1,     19,     19,2,20070328,1816,-24.1370,  95.0073, 5433,1047.8000,   1047.8,   4.4420,  34.5083,2,  34.5067,2,    151.6,2,    145.0,2,    62.56,2,    34.09,2,     0.00,2,     2.43,2,    0.234,5,    0.133,5, -999.000,5,   -999.0,9,   -999.0,9,-999.0000,9,  -999.00,   -999.0,9,  -999.00,9, -999.000,9, -999.000,   1.8320,2,   0.0008,     8.77,2,     0.21,    7.892,2,    0.016,   -999.0,9,   -999.0,  -999.00,9,-999.0000,9,-999.0000,9,-999.0000,9,-999.0000,9,-999.0000,9,-999.0000,9,-999.0000,9,-999.0000,9,-999.0000,9,   4.3588,   4.4491,2
  33RR20070322,  I09N,    96,  1,     18,     18,2,20070328,1816,-24.1370,  95.0073, 5433,1149.7000,   1149.7,   4.0708,  34.5343,2,  34.5364,2,    142.1,2,    139.8,2,    71.00,2,    34.82,2,     0.00,2,     2.49,2,    0.126,2,    0.077,2, -999.000,5,   -999.0,9,   -999.0,9,-999.0000,9,  -999.00,   -999.0,9,  -999.00,9, -999.000,9, -999.000,   1.8630,2,   0.0007,     9.34,2,     0.19,    7.919,2,    0.012,   -999.0,9,   -999.0,  -999.00,9,-999.0000,9,-999.0000,9,-999.0000,9,-999.0000,9,-999.0000,9,-999.0000,9,-999.0000,9,-999.0000,9,-999.0000,9,   3.9818,   4.0710,2
  33RR20070322,  I09N,    96,  1,     17,     17,2,20070328,1816,-24.1370,  95.0073, 5433,1248.1000,   1248.1,   3.8004,  34.5733,2,  34.5731,2,    135.6,2,    135.1,2,    78.62,2,    35.13,2,     0.00,2,     2.55,2,    0.052,2,    0.032,2, -999.000,5,   -999.0,9,   -999.0,9,-999.0000,9,  -999.00,   -999.0,9,  -999.00,9,    0.043,2,    0.005,   1.8520,2,   0.0013,    10.73,2,     0.21,    7.969,2,    0.010,   -999.0,9,   -999.0,  -999.00,9,-999.0000,9,-999.0000,9,-999.0000,9,-999.0000,9,-999.0000,9,-999.0000,9,-999.0000,9,-999.0000,9,-999.0000,9,   3.7054,   3.8037,2
  33RR20070322,  I09N,    96,  1,     16,     16,2,20070328,1816,-24.1370,  95.0073, 5433,1350.7000,   1350.7,   3.4971,  34.5942,2,  34.5948,2,    138.1,2,    138.3,2,    82.42,2,    35.13,2,     0.00,2,     2.52,2, -999.000,9, -999.000,9, -999.000,9,   2271.3,2,   2351.1,2,   7.5333,6,    25.00,   -999.0,9,  -999.00,9, -999.000,9, -999.000,-999.0000,9,-999.0000,  -999.00,9,  -999.00, -999.000,9, -999.000,   -999.0,9,   -999.0,  -999.00,9,-999.0000,9,-999.0000,9,-999.0000,9,-999.0000,9,-999.0000,9,-999.0000,9,-999.0000,9,-999.0000,9,-999.0000,9,   3.3963,   3.5008,2
  33RR20070322,  I09N,    96,  1,     15,     15,2,20070328,1816,-24.1370,  95.0073, 5433,1449.5000,   1449.5,   3.2697,  34.6281,2,  34.6286,2,    140.4,2,    140.7,2,    87.24,2,    34.96,2,     0.00,2,     2.50,2,    0.020,2,    0.011,2, -999.000,5,   -999.0,9,   -999.0,9,-999.0000,9,  -999.00,   -999.0,9,  -999.00,9,    0.001,2,    0.005,   1.8550,2,   0.0007,    11.22,2,     0.20,    7.929,2,    0.011,   -999.0,9,   -999.0,  -999.00,9,-999.0000,9,-999.0000,9,-999.0000,9,-999.0000,9,-999.0000,9,-999.0000,9,-999.0000,9,-999.0000,9,-999.0000,9,   3.1629,   3.2698,2
  33RR20070322,  I09N,    96,  1,     14,     14,2,20070328,1816,-24.1370,  95.0073, 5433,1550.6000,   1550.6,   3.1331,  34.6659,2,  34.6683,2,    138.7,2,    138.7,2,    94.09,2,    34.96,2,     0.00,2,     2.50,2, -999.000,9, -999.000,9, -999.000,9,   -999.0,9,   -999.0,9,-999.0000,9,  -999.00,   -999.0,9,  -999.00,9, -999.000,9, -999.000,-999.0000,9,-999.0000,  -999.00,9,  -999.00, -999.000,9, -999.000,   -999.0,9,   -999.0,  -999.00,9,-999.0000,9,-999.0000,9,-999.0000,9,-999.0000,9,-999.0000,9,-999.0000,9,-999.0000,9,-999.0000,9,-999.0000,9,   3.0192,   3.1343,2
  33RR20070322,  I09N,    96,  1,     13,     13,2,20070328,1816,-24.1370,  95.0073, 5433,1752.2000,   1752.2,   2.7234,  34.6884,2,  34.6881,2,    148.5,2,    149.1,2,    98.31,2,    34.37,2,     0.00,2,     2.44,2, -999.000,5,    0.004,2, -999.000,5,   -999.0,9,   -999.0,9,-999.0000,9,  -999.00,   -999.0,9,  -999.00,9,    0.001,2,    0.004,   1.8760,2,   0.0006,    12.78,2,     0.18,    8.089,2,    0.010,   -999.0,9,   -999.0,  -999.00,9,-999.0000,9,-999.0000,9,-999.0000,9,-999.0000,9,-999.0000,9,-999.0000,9,-999.0000,9,-999.0000,9,-999.0000,9,   2.5974,   2.7230,2
  33RR20070322,  I09N,    96,  1,     12,     12,2,20070328,1816,-24.1370,  95.0073, 5433,1954.3000,   1954.3,   2.4723,  34.7102,2,  34.7092,2,    153.7,2,    154.3,2,   104.58,2,    34.00,2,     0.00,2,     2.42,2,    0.011,2,    0.005,2, -999.000,5,   -999.0,9,   -999.0,9,-999.0000,9,  -999.00,   -999.0,9,  -999.00,9, -999.000,9, -999.000,   1.8990,2,   0.0006,    12.99,2,     0.19,    8.085,2,    0.010,   -999.0,9,   -999.0,  -999.00,9,-999.0000,9,-999.0000,9,-999.0000,9,-999.0000,9,-999.0000,9,-999.0000,9,-999.0000,9,-999.0000,9,-999.0000,9,   2.3324,   2.4720,2
  33RR20070322,  I09N,    96,  1,     11,     11,2,20070328,1816,-24.1370,  95.0073, 5433,2115.2000,   2115.2,   2.2754,  34.7201,2,  34.7207,2,    158.5,2,    158.6,2,   108.40,2,    33.78,2,     0.00,2,     2.40,2,    0.009,2,    0.004,2, -999.000,5,   -999.0,9,   -999.0,9,-999.0000,9,  -999.00,   -999.0,9,  -999.00,9, -999.000,9, -999.000,-999.0000,9,-999.0000,  -999.00,9,  -999.00, -999.000,9, -999.000,   -999.0,9,   -999.0,  -999.00,9,-999.0000,9,-999.0000,9,-999.0000,9,-999.0000,9,-999.0000,9,-999.0000,9,-999.0000,9,-999.0000,9,-999.0000,9,   2.1245,   2.2752,2
  33RR20070322,  I09N,    96,  1,     10,     10,2,20070328,1816,-24.1370,  95.0073, 5433,2368.2000,   2368.2,   2.0300,  34.7267,2,  34.7255,2,    165.5,2,    166.5,2,   111.83,2,    33.36,2,     0.00,2,     2.36,2,    0.007,2,    0.003,2, -999.000,5,   -999.0,9,   -999.0,9,-999.0000,9,  -999.00,   -999.0,9,  -999.00,9, -999.000,9, -999.000,   1.8930,2,   0.0008,    14.29,2,     0.18,    8.099,2,    0.009,   -999.0,9,   -999.0,  -999.00,9,-999.0000,9,-999.0000,9,-999.0000,9,-999.0000,9,-999.0000,9,-999.0000,9,-999.0000,9,-999.0000,9,-999.0000,9,   1.8608,   2.0302,2
  33RR20070322,  I09N,    96,  1,      9,      9,2,20070328,1816,-24.1370,  95.0073, 5433,2622.0000,   2622.0,   1.8649,  34.7285,2,  34.7281,2,    172.2,2,    172.3,2,   113.62,2,    33.14,2,     0.00,2,     2.34,2,    0.010,2,    0.004,2, -999.000,5,   -999.0,9,   -999.0,9,-999.0000,9,  -999.00,   -999.0,9,  -999.00,9, -999.000,9, -999.000,   1.9210,2,   0.0006,    13.86,2,     0.21,    8.273,2,    0.011,   -999.0,9,   -999.0,  -999.00,9,-999.0000,9,-999.0000,9,-999.0000,9,-999.0000,9,-999.0000,9,-999.0000,9,-999.0000,9,-999.0000,9,-999.0000,9,   1.6756,   1.8654,2
  33RR20070322,  I09N,    96,  1,      8,      8,2,20070328,1816,-24.1370,  95.0073, 5433,2874.4000,   2874.4,   1.6923,  34.7288,2,  34.7279,2,    177.7,2,    178.0,2,   115.62,2,    32.82,2,     0.00,2,     2.32,2,    0.009,2,    0.004,2, -999.000,5,   -999.0,9,   -999.0,9,-999.0000,9,  -999.00,   -999.0,9,  -999.00,9, -999.000,9, -999.000,   1.9300,2,   0.0006,    13.46,2,     0.18,    8.254,2,    0.009,   -999.0,9,   -999.0,  -999.00,9,-999.0000,9,-999.0000,9,-999.0000,9,-999.0000,9,-999.0000,9,-999.0000,9,-999.0000,9,-999.0000,9,-999.0000,9,   1.4830,   1.6923,2
  33RR20070322,  I09N,    96,  1,      7,      7,2,20070328,1816,-24.1370,  95.0073, 5433,3126.8000,   3126.8,   1.5607,  34.7271,2,  34.7264,2,    181.6,2,    181.9,2,   118.03,2,    32.82,2,     0.00,2,     2.31,2,    0.009,2,    0.005,2, -999.000,5,   -999.0,9,   -999.0,9,-999.0000,9,  -999.00,   -999.0,9,  -999.00,9, -999.000,9, -999.000,   1.6130,4,   0.0008,    12.54,3,     0.21,    7.083,4,    0.007,   -999.0,9,   -999.0,  -999.00,9,-999.0000,9,-999.0000,9,-999.0000,9,-999.0000,9,-999.0000,9,-999.0000,9,-999.0000,9,-999.0000,9,-999.0000,9,   1.3300,   1.5608,2
  33RR20070322,  I09N,    96,  1,      6,      6,2,20070328,1816,-24.1370,  95.0073, 5433,3534.6000,   3534.6,   1.3554,  34.7225,2,  34.7252,4,    188.0,2,    188.6,2,   121.06,2,    32.61,2,     0.00,2,     2.29,2, -999.000,9, -999.000,9, -999.000,9,   -999.0,9,   -999.0,9,-999.0000,9,  -999.00,   -999.0,9,  -999.00,9, -999.000,9, -999.000,-999.0000,9,-999.0000,  -999.00,9,  -999.00, -999.000,9, -999.000,   -999.0,9,   -999.0,  -999.00,9,-999.0000,9,-999.0000,9,-999.0000,9,-999.0000,9,-999.0000,9,-999.0000,9,-999.0000,9,-999.0000,9,-999.0000,9,   1.0891,   1.3554,2
  33RR20070322,  I09N,    96,  1,      5,      5,2,20070328,1816,-24.1370,  95.0073, 5433,3941.1000,   3941.1,   1.1887,  34.7184,2,  34.7182,2,    195.9,2,    196.9,2,   121.63,2,    32.39,2,     0.00,2,     2.27,2,    0.009,2,    0.004,2, -999.000,5,   -999.0,9,   -999.0,9,-999.0000,9,  -999.00,   -999.0,9,  -999.00,9, -999.000,9, -999.000,   1.9180,2,   0.0004,    10.82,2,     0.18,    8.287,2,    0.012,   -999.0,9,   -999.0,  -999.00,9,-999.0000,9,-999.0000,9,-999.0000,9,-999.0000,9,-999.0000,9,-999.0000,9,-999.0000,9,-999.0000,9,-999.0000,9,   0.8846,   1.1892,2