BOTTLE,20150630SIOCCHRJL
EXPOCODE,SECT_ID,STNNBR,CASTNO,SAMPNO,BTLNBR,BTLNBR_FLAG_W,DATE,TIME,LATITUDE,LONGITUDE,DEPTH,CTDRAW,CTDPRS,CTDTMP,CTDSAL,CTDSAL_FLAG_W,SALNTY,SALNTY_FLAG_W,CTDOXY,CTDOXY_FLAG_W,OXYGEN,OXYGEN_FLAG_W,SILCAT,SILCAT_FLAG_W,NITRAT,NITRAT_FLAG_W,NITRIT,NITRIT_FLAG_W,PHSPHT,PHSPHT_FLAG_W,CFC-11,CFC-11_FLAG_W,CFC-12,CFC-12_FLAG_W,CFC113,CFC113_FLAG_W,TCARBN,TCARBN_FLAG_W,ALKALI,ALKALI_FLAG_W,PH_SWS,PH_SWS_FLAG_W,PH_TMP,DOC,DOC_FLAG_W,TDN,TDN_FLAG_W,TRITUM,TRITUM_FLAG_W,TRITER,HELIUM,HELIUM_FLAG_W,HELIER,DELHE3,DELHE3_FLAG_W,DELHER,NEON,NEON_FLAG_W,NEONER,DELC14,DELC14_FLAG_W,C14ERR,DELC13,DELC13_FLAG_W,CDOM325,CDOM325_FLAG_W,CDOM340,CDOM340_FLAG_W,CDOM380,CDOM380_FLAG_W,CDOM412,CDOM412_FLAG_W,CDOM443,CDOM443_FLAG_W,CDOM490,CDOM490_FLAG_W,CDOM555,CDOM555_FLAG_W,CDOMSL,CDOMSL_FLAG_W,CDOMSN,CDOMSN_FLAG_W,THETA,SBE35,SBE35_FLAG_W
,,,,,,,,,,,METERS,,DBAR,ITS-90,PSS-78,,PSS-78,,UMOL/KG,,UMOL/KG,,UMOL/KG,,UMOL/KG,,UMOL/KG,,UMOL/KG,,PMOL/KG,,PMOL/KG,,PMOL/KG,,UMOL/KG,,UMOL/KG,,,,DEG C,UMOL/KG,,UMOL/KG,,TU,,TU,NMOL/KG,,NMOL/KG,PERCNT,,PERCNT,NMOL/KG,,NMOL/KG,/MILLE,,/MILLE,/MILLE,,1/M,,1/M,,1/M,,1/M,,1/M,,1/M,,1/M,,1/NM,,1/NM,,DEG C,ITS-90,
  33RR20070322,  I09N,   145,  2,     36,     38,2,20070412,1908,  0.0005,  93.4413, 4495,   3.5000,      3.5,  29.7417,  33.9941,2,  33.9951,2,    195.1,2,    195.1,2,     1.32,2,     0.07,2,     0.00,2,     0.07,2,    1.462,2,    0.975,2, -999.000,5,   1899.3,6,   2226.7,6,   8.1030,6,    25.00,     76.6,2,     5.14,2, -999.000,9, -999.000,-999.0000,9,-999.0000,  -999.00,9,  -999.00, -999.000,9, -999.000,   -999.0,9,   -999.0,  -999.00,9,   0.0619,2,   0.0396,2,   0.0175,2,   0.0126,2,  -0.0028,4,  -0.0034,4,  -0.0031,4,   0.0169,2,   0.0216,2,  29.7408,  29.7362,2
  33RR20070322,  I09N,   145,  2,     35,     35,2,20070412,1908,  0.0005,  93.4413, 4495,  19.7000,     19.7,  29.7322,  33.9882,2,  33.9937,2,    195.7,2,    195.3,2,     1.32,2,     0.07,2,     0.00,2,     0.06,2,    1.469,2,    0.972,2, -999.000,5,   1898.9,2,   2224.1,2,   8.1108,2,    25.00,     75.8,2,     5.41,2, -999.000,9, -999.000,-999.0000,9,-999.0000,  -999.00,9,  -999.00, -999.000,9, -999.000,     46.9,2,      3.0,     1.21,2,   0.0598,2,   0.0388,2,   0.0174,2,   0.0126,2,  -0.0029,4,  -0.0034,4,  -0.0031,4,   0.0165,2,   0.0211,2,  29.7274,  29.7265,2
  33RR20070322,  I09N,   145,  2,     34,   9419,2,20070412,1908,  0.0005,  93.4413, 4495,  44.4000,     44.4,  29.7521,  34.1131,2,  34.1115,2,    196.6,2,    195.2,2,     1.32,2,     0.07,2,     0.00,2,     0.06,2,    1.479,2,    0.975,2, -999.000,5,   1905.8,2,   2234.1,2,   8.0970,3,    25.00,     72.2,2,     5.25,2, -999.000,9, -999.000,-999.0000,9,-999.0000,  -999.00,9,  -999.00, -999.000,9, -999.000,   -999.0,9,   -999.0,  -999.00,9,   0.0657,2,   0.0430,2,   0.0192,2,   0.0142,2,  -0.0021,4,  -0.0033,4,  -0.0031,4,   0.0158,3,   0.0203,3,  29.7412,  29.7463,2
  33RR20070322,  I09N,   145,  2,     33,     33,2,20070412,1908,  0.0005,  93.4413, 4495,  89.3000,     89.3,  23.2458,  35.3147,2,  35.3127,2,    125.7,2,    125.1,2,     7.20,2,    10.07,2,     0.88,2,     0.86,2,    1.675,2,    1.065,2, -999.000,5,   2083.9,2,   2309.2,2,   7.8905,2,    25.00,     60.7,2,    14.98,2, -999.000,9, -999.000,-999.0000,9,-999.0000,  -999.00,9,  -999.00, -999.000,9, -999.000,     50.9,2,      3.6,     0.55,2,   0.2208,2,   0.1666,2,   0.0943,2,   0.0713,2,   0.0328,2,   0.0152,2,   0.0065,2,   0.0125,3,   0.0133,3,  23.2274,  23.2520,2
  33RR20070322,  I09N,   145,  2,     32,     37,2,20070412,1908,  0.0005,  93.4413, 4495, 139.4000,    139.4,  19.5913,  35.2747,2,  35.2743,2,     80.2,2,     76.4,2,    13.10,2,    19.50,2,     0.02,2,     1.39,2,    1.635,2,    1.001,2, -999.000,5,   2147.6,2,   2302.9,2,   7.7250,3,    25.00,     54.6,2,    23.31,2, -999.000,9, -999.000,-999.0000,9,-999.0000,  -999.00,9,  -999.00, -999.000,9, -999.000,   -999.0,9,   -999.0,  -999.00,9,   0.1747,2,   0.1283,2,   0.0727,2,   0.0576,2,   0.0215,2,   0.0064,2,   0.0017,2,   0.0141,3,   0.0139,3,  19.5659,  19.7159,2
  33RR20070322,  I09N,   145,  2,     31,     31,2,20070412,1908,  0.0005,  93.4413, 4495, 164.2000,    164.2,  18.0278,  35.2279,2,  35.2282,2,     66.5,2,     65.6,2,    15.53,2,    21.74,2,     0.01,2,     1.55,2,    1.569,2,    0.942,2, -999.000,5,   2166.7,2,   2304.9,2,   7.7063,2,    25.00,     54.3,2,    25.68,2, -999.000,9, -999.000,-999.0000,9,-999.0000,  -999.00,9,  -999.00, -999.000,9, -999.000,     38.3,2,      2.8,     0.12,2,   0.1688,2,   0.1236,2,   0.0703,2,   0.0557,2,   0.0202,2,   0.0052,2,   0.0008,2,   0.0143,3,   0.0139,3,  17.9995,  18.0251,2
  33RR20070322,  I09N,   145,  2,     30,     30,2,20070412,1908,  0.0005,  93.4413, 4495, 189.2000,    189.2,  15.6103,  35.1441,2,  35.1453,2,     56.4,2,     56.7,2,    19.39,2,    24.82,2,     0.01,2,     1.75,2,    1.400,2,    0.827,2, -999.000,5,   2189.5,2,   2304.3,2,   7.6457,2,    25.00,     52.3,2,    28.82,2, -999.000,9, -999.000,-999.0000,9,-999.0000,  -999.00,9,  -999.00, -999.000,9, -999.000,     18.1,2,      3.4,     0.13,2,   0.1685,2,   0.1233,2,   0.0708,2,   0.0556,2,   0.0206,2,   0.0050,2,   0.0004,3,   0.0144,3,   0.0139,3,  15.5808,  15.4616,3
  33RR20070322,  I09N,   145,  2,     29,     29,2,20070412,1908,  0.0005,  93.4413, 4495, 239.5000,    239.5,  13.7303,  35.1176,2,  35.1171,2,     57.5,2,     59.3,2,    21.62,2,    26.51,2,     0.01,2,     1.85,2,    1.309,2,    0.734,2, -999.000,5,   2206.6,2,   2307.8,2,   7.5990,3,    25.00,     50.5,2,    30.04,2, -999.000,9, -999.000,-999.0000,9,-999.0000,  -999.00,9,  -999.00, -999.000,9, -999.000,     13.9,2,      3.4,     0.25,2,   0.1665,2,   0.1228,2,   0.0715,2,   0.0565,2,   0.0222,2,   0.0056,2,   0.0005,4,   0.0141,3,   0.0135,3,  13.6960,  13.7279,2
  33RR20070322,  I09N,   145,  2,     28,     28,2,20070412,1908,  0.0005,  93.4413, 4495, 289.2000,    289.2,  12.6821,  35.0946,2,  35.0941,2,     68.2,2,     69.1,2,    21.82,2,    26.73,2,     0.00,2,     1.85,2,    1.254,2,    0.694,2, -999.000,5,   2208.0,2,   2308.3,2,   7.6042,2,    25.00,     48.9,2,    30.18,2, -999.000,9, -999.000,-999.0000,9,-999.0000,  -999.00,9,  -999.00, -999.000,9, -999.000,      8.3,2,      3.4,     0.35,2,   0.1604,2,   0.1179,2,   0.0705,2,   0.0566,2,   0.0224,2,   0.0050,2,   0.0003,4,   0.0140,3,   0.0131,3,  12.6428,  12.6796,2
  33RR20070322,  I09N,   145,  2,     27,     27,2,20070412,1908,  0.0005,  93.4413, 4495, 339.3000,    339.3,  11.8213,  35.0524,2,  35.0528,2,     81.5,2,     81.0,2,    22.22,2,    26.72,2,     0.00,2,     1.85,2, -999.000,5, -999.000,5, -999.000,5,   2207.4,2,   2308.5,2,   7.5990,3,    25.00,     46.3,2,    30.34,2, -999.000,9, -999.000,-999.0000,9,-999.0000,  -999.00,9,  -999.00, -999.000,9, -999.000,      4.2,2,      3.0,     0.42,2,   0.1538,2,   0.1126,2,   0.0669,2,   0.0528,2,   0.0205,2,   0.0043,3,  -0.0001,4,   0.0139,3,   0.0132,3,  11.7772,  11.8203,2
  33RR20070322,  I09N,   145,  2,     26,     26,2,20070412,1908,  0.0005,  93.4413, 4495, 389.4000,    389.4,  11.1892,  35.0227,2,  35.0240,2,     78.1,2,     80.4,4,    25.06,2,    28.26,2,     0.00,2,     1.94,2,    1.029,2,    0.564,2, -999.000,5,   2215.1,2,   2309.1,2,   7.5696,2,    25.00,     46.1,2,    31.44,2, -999.000,9, -999.000,-999.0000,9,-999.0000,  -999.00,9,  -999.00, -999.000,9, -999.000,    -16.0,2,      3.3,     0.48,2,   0.1555,2,   0.1138,2,   0.0680,2,   0.0540,2,   0.0215,2,   0.0046,3,   0.0000,4,   0.0139,3,   0.0131,3,  11.1402,  11.1885,2
  33RR20070322,  I09N,   145,  2,     25,     25,2,20070412,1908,  0.0005,  93.4413, 4495, 438.9000,    438.9,  10.6400,  34.9858,2,  34.9864,2,     78.6,2,     76.7,2,    27.30,2,    29.44,2,     0.00,2,     2.01,2,    0.838,2,    0.461,2, -999.000,5,   2218.2,2,   2310.5,2,   7.5801,2,    25.00,     45.0,2,    33.00,2, -999.000,9, -999.000,-999.0000,9,-999.0000,  -999.00,9,  -999.00, -999.000,9, -999.000,    -24.5,2,      2.7,     0.47,2,   0.1532,3,   0.1119,3,   0.0670,3,   0.0534,3,   0.0213,3,   0.0048,2,   0.0000,4,   0.0138,4,   0.0131,4,  10.5864,  10.6405,2
  33RR20070322,  I09N,   145,  2,     24,     24,2,20070412,1908,  0.0005,  93.4413, 4495, 489.6000,    489.6,  10.2364,  34.9830,2,  34.9866,2,     69.2,2,     67.6,2,    31.96,2,    30.92,2,     0.00,2,     2.16,2,    0.616,2,    0.341,2, -999.000,5,   2229.7,2,   2312.3,2,   7.5546,2,    25.00,     44.6,2,    34.58,2, -999.000,9, -999.000,-999.0000,9,-999.0000,  -999.00,9,  -999.00, -999.000,9, -999.000,   -999.0,9,   -999.0,  -999.00,9,   0.1612,2,   0.1184,2,   0.0710,2,   0.0563,2,   0.0237,2,   0.0065,2,   0.0007,2,   0.0136,3,   0.0129,3,  10.1779,  10.2417,2
  33RR20070322,  I09N,   145,  2,     23,     23,2,20070412,1908,  0.0005,  93.4413, 4495, 574.4000,    574.4,   9.6403,  34.9942,2,  34.9937,2,     56.3,2,     56.3,2,    40.71,2,    33.11,2,     0.00,2,     2.36,2,    0.331,2,    0.186,2, -999.000,5,   2248.2,2,   2323.1,2,   7.5270,2,    25.00,     43.9,2,    35.41,2, -999.000,9, -999.000,-999.0000,9,-999.0000,  -999.00,9,  -999.00, -999.000,9, -999.000,    -83.1,2,      3.0,     0.31,2,   0.1708,2,   0.1259,2,   0.0760,2,   0.0601,2,   0.0265,2,   0.0078,2,   0.0013,2,   0.0136,3,   0.0128,3,   9.5739,   9.6393,2
  33RR20070322,  I09N,   145,  2,     22,     22,2,20070412,1908,  0.0005,  93.4413, 4495, 674.2000,    674.2,   8.8151,  35.0021,2,  35.0035,2,     47.7,2,     46.3,2,    53.13,2,    35.09,2,     0.00,2,     2.57,2,    0.143,2,    0.086,2, -999.000,5,   2270.8,2,   2331.8,2,   7.5089,2,    25.00,     43.2,2,    37.45,2, -999.000,9, -999.000,-999.0000,9,-999.0000,  -999.00,9,  -999.00, -999.000,9, -999.000,   -107.0,2,      3.0,     0.27,2,   0.1777,2,   0.1307,2,   0.0786,2,   0.0609,2,   0.0270,2,   0.0071,2,   0.0006,2,   0.0140,3,   0.0131,3,   8.7407,   8.8103,2
  33RR20070322,  I09N,   145,  2,     21,     21,2,20070412,1908,  0.0005,  93.4413, 4495, 774.8000,    774.8,   8.4949,  35.0020,2,  35.0016,2,     47.0,2,     45.2,2,    58.23,2,    35.62,2,     0.00,2,     2.62,2,    0.111,2,    0.066,2, -999.000,5,   2276.1,6,   2336.5,6,   7.5006,6,    25.00,     42.9,2,    38.16,2, -999.000,9, -999.000,-999.0000,9,-999.0000,  -999.00,9,  -999.00, -999.000,9, -999.000,   -117.5,2,      3.1,     0.34,3,   0.1815,2,   0.1334,2,   0.0804,2,   0.0626,2,   0.0279,2,   0.0074,2,   0.0007,3,   0.0141,3,   0.0131,3,   8.4108,   8.4920,2
  33RR20070322,  I09N,   145,  2,     20,     20,2,20070412,1908,  0.0005,  93.4413, 4495, 875.1000,    875.1,   7.4034,  34.9677,2,  34.9679,2,     46.8,2,     46.4,2,    73.13,2,    36.91,2,     0.00,2,     2.73,2,    0.030,2,    0.019,2, -999.000,5,   2295.5,2,   2353.0,2,   7.4771,2,    25.00,     42.4,2,    39.65,2, -999.000,9, -999.000,-999.0000,9,-999.0000,  -999.00,9,  -999.00, -999.000,9, -999.000,   -141.9,2,      3.7,     0.17,2,   0.1868,2,   0.1377,2,   0.0828,2,   0.0635,2,   0.0287,2,   0.0077,2,   0.0008,2,   0.0142,3,   0.0132,3,   7.3149,   7.4031,2
  33RR20070322,  I09N,   145,  2,     19,     19,2,20070412,1908,  0.0005,  93.4413, 4495, 975.1000,    975.1,   6.8895,  34.9489,2,  34.9492,2,     49.8,2,     49.4,2,    79.46,2,    37.23,2,     0.00,2,     2.76,2,    0.019,2,    0.012,3, -999.000,5,   2301.7,2,   2358.8,2,   7.4775,2,    25.00,     42.0,2,    39.42,2, -999.000,9, -999.000,-999.0000,9,-999.0000,  -999.00,9,  -999.00, -999.000,9, -999.000,   -148.0,2,      2.6,     0.09,2,   0.1879,2,   0.1385,2,   0.0828,2,   0.0629,2,   0.0284,2,   0.0075,2,   0.0007,2,   0.0143,3,   0.0133,3,   6.7939,   6.8910,2
  33RR20070322,  I09N,   145,  2,     18,     18,2,20070412,1908,  0.0005,  93.4413, 4495,1075.7000,   1075.7,   6.3145,  34.9210,2,  34.9211,2,     56.2,2,     56.3,2,    86.63,2,    37.60,2,     0.00,2,     2.76,2,    0.013,2,    0.015,3, -999.000,5,   2306.6,2,   2364.8,2,   7.4836,2,    25.00,     41.4,2,    39.56,2, -999.000,9, -999.000,-999.0000,9,-999.0000,  -999.00,9,  -999.00, -999.000,9, -999.000,   -157.1,2,      2.5,     0.10,2,   0.1891,2,   0.1392,2,   0.0832,2,   0.0630,2,   0.0284,2,   0.0077,2,   0.0008,2,   0.0143,3,   0.0134,3,   6.2130,   6.3133,2
  33RR20070322,  I09N,   145,  2,     17,     17,2,20070412,1908,  0.0005,  93.4413, 4495,1175.9000,   1175.9,   5.5414,  34.8844,2,  34.8849,2,     66.6,2,     67.5,2,    94.63,2,    37.27,2,     0.00,2,     2.76,2, -999.000,5, -999.000,5, -999.000,5,   2310.0,2,   2371.1,2,   7.4883,2,    25.00,     41.0,2,    39.06,2, -999.000,9, -999.000,-999.0000,9,-999.0000,  -999.00,9,  -999.00, -999.000,9, -999.000,   -168.0,2,      2.8,     0.13,2,   0.1883,2,   0.1386,2,   0.0825,2,   0.0621,2,   0.0279,2,   0.0075,2,   0.0007,2,   0.0143,3,   0.0135,3,   5.4364,   5.5415,2
  33RR20070322,  I09N,   145,  2,     16,     16,2,20070412,1908,  0.0005,  93.4413, 4495,1276.5000,   1276.5,   5.2710,  34.8747,2,  34.8753,2,     71.8,2,     71.6,2,    97.08,2,    37.43,2,     0.00,2,     2.75,2, -999.000,9, -999.000,9, -999.000,9,   2311.5,2,   2373.3,2,   7.4922,2,    25.00,     40.5,2,    38.84,2, -999.000,9, -999.000,-999.0000,9,-999.0000,  -999.00,9,  -999.00, -999.000,9, -999.000,   -164.0,2,      2.8,     0.13,2,   0.1894,2,   0.1393,2,   0.0830,2,   0.0625,2,   0.0283,2,   0.0079,2,   0.0009,2,   0.0142,3,   0.0134,3,   5.1588,   5.2697,2
  33RR20070322,  I09N,   145,  2,     15,     15,2,20070412,1908,  0.0005,  93.4413, 4495,1377.2000,   1377.2,   5.0464,  34.8712,2,  34.8719,2,     76.3,2,     75.7,2,    99.54,2,    37.46,2,     0.00,2,     2.74,2,    0.006,2,    0.002,3, -999.000,5,   2312.8,2,   2375.3,2,   7.4796,2,    25.00,     41.0,2,    38.96,2, -999.000,9, -999.000,-999.0000,9,-999.0000,  -999.00,9,  -999.00, -999.000,9, -999.000,   -172.9,2,      2.7,     0.12,2,   0.1900,2,   0.1398,2,   0.0835,2,   0.0629,2,   0.0286,2,   0.0081,2,   0.0011,2,   0.0142,3,   0.0134,3,   4.9267,   5.0458,2
  33RR20070322,  I09N,   145,  2,     14,     14,2,20070412,1908,  0.0005,  93.4413, 4495,1477.4000,   1477.4,   4.4761,  34.8399,2,  34.8409,2,     86.8,2,     87.4,2,   104.48,2,    37.19,2,     0.00,2,     2.72,2, -999.000,9, -999.000,9, -999.000,9,   2312.8,2,   2381.2,2,   7.5085,2,    25.00,     40.5,2,    38.93,2, -999.000,9, -999.000,-999.0000,9,-999.0000,  -999.00,9,  -999.00, -999.000,9, -999.000,   -177.1,2,      2.8,     0.14,2,   0.1840,2,   0.1347,2,   0.0797,2,   0.0598,2,   0.0266,2,   0.0070,2,   0.0006,3,   0.0143,3,   0.0136,3,   4.3530,   4.4781,2
  33RR20070322,  I09N,   145,  2,     13,     13,2,20070412,1908,  0.0005,  93.4413, 4495,1578.1000,   1578.1,   4.0198,  34.8259,2,  34.8509,4,     95.7,2,     97.1,2,   108.37,2,    36.81,2,     0.00,2,     2.69,2,    0.003,2,   -0.001,3, -999.000,5,   2314.7,2,   2385.7,2,   7.4950,2,    25.00,     40.6,2,    37.97,2, -999.000,9, -999.000,-999.0000,9,-999.0000,  -999.00,9,  -999.00, -999.000,9, -999.000,   -174.3,2,      2.9,     0.18,2,   0.1827,2,   0.1337,2,   0.0789,2,   0.0593,2,   0.0264,2,   0.0072,2,   0.0006,3,   0.0142,3,   0.0136,3,   3.8926,   4.0213,2
  33RR20070322,  I09N,   145,  2,     12,     12,2,20070412,1908,  0.0005,  93.4413, 4495,1679.1000,   1679.1,   3.5763,  34.8096,2,  34.8104,2,    105.4,2,    107.3,2,   113.53,2,    36.43,2,     0.00,2,     2.66,2, -999.000,9, -999.000,9, -999.000,9,   2314.3,2,   2386.7,2,   7.5274,2,    25.00,     40.7,2,    37.45,2, -999.000,9, -999.000,-999.0000,9,-999.0000,  -999.00,9,  -999.00, -999.000,9, -999.000,   -173.7,2,      2.7,     0.18,2,   0.1802,2,   0.1316,2,   0.0772,2,   0.0573,2,   0.0250,2,   0.0065,2,   0.0003,4,   0.0143,3,   0.0138,3,   3.4453,   3.5761,2
  33RR20070322,  I09N,   145,  2,     11,     11,2,20070412,1908,  0.0005,  93.4413, 4495,1779.8000,   1779.8,   3.2413,  34.7973,2,  34.7980,2,    113.6,2,    114.4,2,   116.82,2,    36.31,2,     0.00,2,     2.63,2,    0.003,2,   -0.001,3, -999.000,5,   2315.8,2,   2393.0,2,   7.5348,2,    25.00,     40.8,2,    37.73,2, -999.000,9, -999.000,-999.0000,9,-999.0000,  -999.00,9,  -999.00, -999.000,9, -999.000,   -179.5,2,      2.9,     0.38,3,   0.1793,2,   0.1309,2,   0.0764,2,   0.0568,2,   0.0246,2,   0.0064,2,   0.0004,4,   0.0143,3,   0.0138,3,   3.1056,   3.2381,2
  33RR20070322,  I09N,   145,  2,     10,     10,2,20070412,1908,  0.0005,  93.4413, 4495,1880.6000,   1880.6,   3.0151,  34.7874,2,  34.7880,2,    120.3,2,    120.0,2,   119.28,2,    36.15,2,     0.00,2,     2.61,2, -999.000,9, -999.000,9, -999.000,9,   2314.0,2,   2395.1,2,   7.5420,2,    25.00,     40.6,2,    37.91,2, -999.000,9, -999.000,-999.0000,9,-999.0000,  -999.00,9,  -999.00, -999.000,9, -999.000,   -178.9,2,      2.6,     0.23,2,   0.1771,2,   0.1289,2,   0.0751,2,   0.0555,2,   0.0237,2,   0.0062,2,   0.0004,4,   0.0143,3,   0.0139,3,   2.8736,   3.0153,2
  33RR20070322,  I09N,   145,  2,      9,      9,2,20070412,1908,  0.0005,  93.4413, 4495,1981.4000,   1981.4,   2.7959,  34.7779,2,  34.7787,2,    125.9,2,    126.3,2,   121.55,2,    35.82,2,     0.00,2,     2.58,2, -999.000,9, -999.000,9, -999.000,9,   2313.2,2,   2397.7,2,   7.5477,2,    25.00,     40.7,2,    37.69,2, -999.000,9, -999.000,-999.0000,9,-999.0000,  -999.00,9,  -999.00, -999.000,9, -999.000,   -184.4,2,      2.7,     0.22,2,   0.1751,2,   0.1272,2,   0.0742,2,   0.0550,2,   0.0234,2,   0.0058,2,   0.0000,4,   0.0143,3,   0.0139,3,   2.6486,   2.7948,2
  33RR20070322,  I09N,   145,  2,      8,      8,2,20070412,1908,  0.0005,  93.4413, 4495,2183.3000,   2183.3,   2.3732,  34.7608,2,  34.7618,2,    137.1,2,    137.1,2,   126.92,2,    35.54,2,     0.00,2,     2.54,2,    0.004,2,    0.001,3, -999.000,5,   2314.5,2,   2403.2,2,   7.5606,2,    25.00,     40.4,2,    37.42,2, -999.000,9, -999.000,-999.0000,9,-999.0000,  -999.00,9,  -999.00, -999.000,9, -999.000,   -999.0,5,   -999.0,  -999.00,5,   0.1745,2,   0.1263,2,   0.0733,2,   0.0545,2,   0.0229,2,   0.0060,2,   0.0004,4,   0.0142,3,   0.0140,3,   2.2145,   2.3723,2
  33RR20070322,  I09N,   145,  2,      7,      7,2,20070412,1908,  0.0005,  93.4413, 4495,2435.6000,   2435.6,   2.0556,  34.7478,2,  34.7484,2,    146.9,2,    147.2,2,   129.81,2,    35.21,2,     0.00,2,     2.49,2, -999.000,9, -999.000,9, -999.000,9,   2313.6,2,   2402.0,2,   7.5700,2,    25.00,     40.5,2,    36.76,2, -999.000,9, -999.000,-999.0000,9,-999.0000,  -999.00,9,  -999.00, -999.000,9, -999.000,   -187.2,2,      2.6,     0.27,2,   0.1676,2,   0.1214,2,   0.0703,2,   0.0519,2,   0.0218,2,   0.0056,2,   0.0002,4,   0.0141,3,   0.0140,3,   1.8797,   2.0566,2
  33RR20070322,  I09N,   145,  2,      6,      6,2,20070412,1908,  0.0005,  93.4413, 4495,2688.2000,   2688.2,   1.9008,  34.7411,2,  34.7402,2,    153.1,2,    152.3,2,   131.26,2,    34.94,2,     0.00,2,     2.47,2, -999.000,9, -999.000,9, -999.000,9,   2312.7,2,   2412.7,2,   7.5807,2,    25.00,     40.8,2,    36.17,2, -999.000,9, -999.000,-999.0000,9,-999.0000,  -999.00,9,  -999.00, -999.000,9, -999.000,   -194.0,2,      2.5,     0.30,2,   0.1654,2,   0.1193,2,   0.0690,2,   0.0511,2,   0.0211,2,   0.0054,2,   0.0002,4,   0.0141,3,   0.0140,3,   1.7046,   1.9016,2
  33RR20070322,  I09N,   145,  2,      5,      5,2,20070412,1908,  0.0005,  93.4413, 4495,2941.1000,   2941.1,   1.7918,  34.7364,2,  34.7366,2,    157.1,2,    156.7,2,   132.90,2,    34.88,2,     0.00,2,     2.45,2,    0.003,2,    0.001,3, -999.000,5,   2311.5,2,   2407.4,2,   7.5839,2,    25.00,     40.9,2,    35.98,2, -999.000,9, -999.000,-999.0000,9,-999.0000,  -999.00,9,  -999.00, -999.000,9, -999.000,   -189.7,2,      2.5,     0.32,2,   0.1671,2,   0.1209,2,   0.0699,2,   0.0518,2,   0.0218,2,   0.0061,2,   0.0005,4,   0.0140,3,   0.0139,3,   1.5739,   1.7932,2