BOTTLE,20150630SIOCCHRJL
EXPOCODE,SECT_ID,STNNBR,CASTNO,SAMPNO,BTLNBR,BTLNBR_FLAG_W,DATE,TIME,LATITUDE,LONGITUDE,DEPTH,CTDRAW,CTDPRS,CTDTMP,CTDSAL,CTDSAL_FLAG_W,SALNTY,SALNTY_FLAG_W,CTDOXY,CTDOXY_FLAG_W,OXYGEN,OXYGEN_FLAG_W,SILCAT,SILCAT_FLAG_W,NITRAT,NITRAT_FLAG_W,NITRIT,NITRIT_FLAG_W,PHSPHT,PHSPHT_FLAG_W,CFC-11,CFC-11_FLAG_W,CFC-12,CFC-12_FLAG_W,CFC113,CFC113_FLAG_W,TCARBN,TCARBN_FLAG_W,ALKALI,ALKALI_FLAG_W,PH_SWS,PH_SWS_FLAG_W,PH_TMP,DOC,DOC_FLAG_W,TDN,TDN_FLAG_W,TRITUM,TRITUM_FLAG_W,TRITER,HELIUM,HELIUM_FLAG_W,HELIER,DELHE3,DELHE3_FLAG_W,DELHER,NEON,NEON_FLAG_W,NEONER,DELC14,DELC14_FLAG_W,C14ERR,DELC13,DELC13_FLAG_W,CDOM325,CDOM325_FLAG_W,CDOM340,CDOM340_FLAG_W,CDOM380,CDOM380_FLAG_W,CDOM412,CDOM412_FLAG_W,CDOM443,CDOM443_FLAG_W,CDOM490,CDOM490_FLAG_W,CDOM555,CDOM555_FLAG_W,CDOMSL,CDOMSL_FLAG_W,CDOMSN,CDOMSN_FLAG_W,THETA,SBE35,SBE35_FLAG_W
,,,,,,,,,,,METERS,,DBAR,ITS-90,PSS-78,,PSS-78,,UMOL/KG,,UMOL/KG,,UMOL/KG,,UMOL/KG,,UMOL/KG,,UMOL/KG,,PMOL/KG,,PMOL/KG,,PMOL/KG,,UMOL/KG,,UMOL/KG,,,,DEG C,UMOL/KG,,UMOL/KG,,TU,,TU,NMOL/KG,,NMOL/KG,PERCNT,,PERCNT,NMOL/KG,,NMOL/KG,/MILLE,,/MILLE,/MILLE,,1/M,,1/M,,1/M,,1/M,,1/M,,1/M,,1/M,,1/NM,,1/NM,,DEG C,ITS-90,
  33RR20070322,  I09N,   174,  2,      4,      4,2,20070420,1410,  9.8280,  86.7822, 3508,3390.5000,   3390.5,   1.5130,  34.7261,2,  34.7263,2,    158.2,2,    159.1,2,   138.07,2,    34.48,2,     0.00,2,     2.39,2, -999.000,9, -999.000,9, -999.000,9,   2323.5,2,   2413.2,2,   7.5950,3,    25.00,     40.8,2,    35.83,2, -999.000,9, -999.000,-999.0000,9,-999.0000,  -999.00,9,  -999.00, -999.000,9, -999.000,   -999.0,9,   -999.0,  -999.00,9,   0.1730,2,   0.1259,2,   0.0727,2,   0.0532,2,   0.0226,2,   0.0069,2,   0.0009,2,   0.0140,3,   0.0140,3,   1.2573,   1.5132,2
  33RR20070322,  I09N,   174,  2,      3,      3,2,20070420,1410,  9.8280,  86.7822, 3508,3426.4000,   3426.4,   1.4898,  34.7250,2,  34.7250,2,    158.7,2,    158.7,2,   139.68,2,    34.38,2,     0.00,2,     2.39,2,    0.005,2,    0.002,2, -999.000,5,   2325.1,2,   2418.6,2,   7.6116,2,    25.00,     40.9,2,    35.67,2, -999.000,9, -999.000,-999.0000,9,-999.0000,  -999.00,9,  -999.00, -999.000,9, -999.000,   -999.0,9,   -999.0,  -999.00,9,   0.1757,2,   0.1279,2,   0.0735,2,   0.0536,2,   0.0230,2,   0.0070,2,   0.0010,2,   0.0141,3,   0.0141,3,   1.2311,   1.4895,2
  33RR20070322,  I09N,   174,  2,      2,      2,2,20070420,1410,  9.8280,  86.7822, 3508,3461.4000,   3461.4,   1.4658,  34.7241,2,  34.7242,2,    157.9,2,    157.0,2,   142.72,2,    34.62,2,     0.00,2,     2.40,2, -999.000,9, -999.000,9, -999.000,9,   2330.2,2,   2421.5,2,   7.5979,2,    25.00,     41.0,2,    35.71,2, -999.000,9, -999.000,-999.0000,9,-999.0000,  -999.00,9,  -999.00, -999.000,9, -999.000,   -999.0,9,   -999.0,  -999.00,9,   0.1807,2,   0.1317,2,   0.0763,2,   0.0553,2,   0.0242,2,   0.0074,2,   0.0012,2,   0.0141,3,   0.0140,3,   1.2042,   1.4662,2
  33RR20070322,  I09N,   174,  2,      1,      1,2,20070420,1410,  9.8280,  86.7822, 3508,3547.3000,   3547.3,   1.4674,  34.7236,2,  34.7238,2,    153.1,2,    152.8,2,   147.00,2,    35.06,2,     0.00,2,     2.42,2,    0.010,2,    0.004,2, -999.000,5,   2338.4,6,   2432.2,6,   7.5980,6,    25.00,     40.9,2,    36.82,2, -999.000,9, -999.000,-999.0000,9,-999.0000,  -999.00,9,  -999.00, -999.000,9, -999.000,   -999.0,9,   -999.0,  -999.00,9,   0.1902,2,   0.1393,2,   0.0808,2,   0.0584,2,   0.0260,2,   0.0080,2,   0.0014,2,   0.0143,3,   0.0140,3,   1.1969,   1.4669,2