BOTTLE,20150630SIOCCHRJL
EXPOCODE,SECT_ID,STNNBR,CASTNO,SAMPNO,BTLNBR,BTLNBR_FLAG_W,DATE,TIME,LATITUDE,LONGITUDE,DEPTH,CTDRAW,CTDPRS,CTDTMP,CTDSAL,CTDSAL_FLAG_W,SALNTY,SALNTY_FLAG_W,CTDOXY,CTDOXY_FLAG_W,OXYGEN,OXYGEN_FLAG_W,SILCAT,SILCAT_FLAG_W,NITRAT,NITRAT_FLAG_W,NITRIT,NITRIT_FLAG_W,PHSPHT,PHSPHT_FLAG_W,CFC-11,CFC-11_FLAG_W,CFC-12,CFC-12_FLAG_W,CFC113,CFC113_FLAG_W,TCARBN,TCARBN_FLAG_W,ALKALI,ALKALI_FLAG_W,PH_SWS,PH_SWS_FLAG_W,PH_TMP,DOC,DOC_FLAG_W,TDN,TDN_FLAG_W,TRITUM,TRITUM_FLAG_W,TRITER,HELIUM,HELIUM_FLAG_W,HELIER,DELHE3,DELHE3_FLAG_W,DELHER,NEON,NEON_FLAG_W,NEONER,DELC14,DELC14_FLAG_W,C14ERR,DELC13,DELC13_FLAG_W,CDOM325,CDOM325_FLAG_W,CDOM340,CDOM340_FLAG_W,CDOM380,CDOM380_FLAG_W,CDOM412,CDOM412_FLAG_W,CDOM443,CDOM443_FLAG_W,CDOM490,CDOM490_FLAG_W,CDOM555,CDOM555_FLAG_W,CDOMSL,CDOMSL_FLAG_W,CDOMSN,CDOMSN_FLAG_W,THETA,SBE35,SBE35_FLAG_W
,,,,,,,,,,,METERS,,DBAR,ITS-90,PSS-78,,PSS-78,,UMOL/KG,,UMOL/KG,,UMOL/KG,,UMOL/KG,,UMOL/KG,,UMOL/KG,,PMOL/KG,,PMOL/KG,,PMOL/KG,,UMOL/KG,,UMOL/KG,,,,DEG C,UMOL/KG,,UMOL/KG,,TU,,TU,NMOL/KG,,NMOL/KG,PERCNT,,PERCNT,NMOL/KG,,NMOL/KG,/MILLE,,/MILLE,/MILLE,,1/M,,1/M,,1/M,,1/M,,1/M,,1/M,,1/M,,1/NM,,1/NM,,DEG C,ITS-90,
  33RR20070322,  I09N,   165,  1,     36,     38,2,20070417,2315,  7.2407,  88.7715, 3720,   2.6000,      2.6,  29.5182,  33.4359,2,  33.4336,2,    196.7,2,    195.9,2,     1.38,2,     0.01,2,     0.00,2,     0.06,2,    1.518,2,    0.998,2, -999.000,5,   1889.2,6,   2203.3,6,   8.0925,6,    25.00,     75.7,2,     5.50,2, -999.000,9, -999.000,-999.0000,9,-999.0000,  -999.00,9,  -999.00, -999.000,9, -999.000,   -999.0,9,   -999.0,  -999.00,9,   0.0766,2,   0.0489,2,   0.0196,2,   0.0129,2,  -0.0027,4,  -0.0035,4,  -0.0033,4,   0.0194,2,   0.0240,2,  29.5176,  29.5141,2
  33RR20070322,  I09N,   165,  1,     35,     35,2,20070417,2315,  7.2407,  88.7715, 3720,  39.5000,     39.5,  29.0190,  34.4370,2,  34.4324,2,    200.1,2,    199.8,2,     1.14,2,     0.01,2,     0.00,2,     0.10,2,    1.548,2,    0.999,2, -999.000,5,   1929.9,2,   2254.5,2,   8.0962,2,    25.00,     74.9,2,     5.73,2, -999.000,9, -999.000,-999.0000,9,-999.0000,  -999.00,9,  -999.00, -999.000,9, -999.000,     30.9,2,      3.0,     1.20,2,   0.0871,2,   0.0580,2,   0.0266,2,   0.0192,2,   0.0004,4,  -0.0019,4,  -0.0024,4,   0.0152,3,   0.0191,3,  29.0095,  29.0183,2
  33RR20070322,  I09N,   165,  1,     34,   9419,2,20070417,2315,  7.2407,  88.7715, 3720,  74.3000,     74.3,  23.3349,  34.7530,2,  34.7524,2,     54.2,2,     49.8,2,    11.95,2,    18.90,2,     0.22,2,     1.39,2,    1.274,2,    0.808,2, -999.000,5,   2113.3,2,   2056.2,4,   7.7757,2,    25.00,     61.7,2,    24.56,2, -999.000,9, -999.000,-999.0000,9,-999.0000,  -999.00,9,  -999.00, -999.000,9, -999.000,   -999.0,9,   -999.0,  -999.00,9,   0.2207,2,   0.1616,2,   0.0866,2,   0.0653,2,   0.0256,2,   0.0085,2,   0.0028,2,   0.0148,3,   0.0150,3,  23.3196,  23.3420,2
  33RR20070322,  I09N,   165,  1,     33,     33,2,20070417,2315,  7.2407,  88.7715, 3720,  94.7000,     94.7,  19.4815,  34.8604,2,  34.8611,2,     22.2,2,     25.8,2,    19.80,2,    24.88,2,     0.03,2,     1.82,2,    1.073,2,    0.662,2, -999.000,5,   2168.7,2,   2289.5,2,   7.6592,2,    25.00,     56.7,2,    29.64,2, -999.000,9, -999.000,-999.0000,9,-999.0000,  -999.00,9,  -999.00, -999.000,9, -999.000,     -3.3,6,      2.3,    -0.05,6,   0.1926,2,   0.1409,2,   0.0782,2,   0.0604,2,   0.0234,2,   0.0070,2,   0.0018,2,   0.0145,3,   0.0144,3,  19.4644,  19.4788,2
  33RR20070322,  I09N,   165,  1,     32,     37,2,20070417,2315,  7.2407,  88.7715, 3720, 124.3000,    124.3,  16.7684,  34.9220,2,  34.9213,2,     29.5,2,     32.2,2,    24.10,2,    26.67,2,     0.01,2,     1.92,2,    0.943,2,    0.578,2, -999.000,5,   2188.5,2,   2294.8,2,   7.6172,2,    25.00,     51.4,2,    31.64,2, -999.000,9, -999.000,-999.0000,9,-999.0000,  -999.00,9,  -999.00, -999.000,9, -999.000,   -999.0,9,   -999.0,  -999.00,9,   0.1872,2,   0.1375,2,   0.0783,2,   0.0612,2,   0.0250,2,   0.0076,2,   0.0019,2,   0.0142,3,   0.0138,3,  16.7481,  16.7804,2
  33RR20070322,  I09N,   165,  1,     31,     31,2,20070417,2315,  7.2407,  88.7715, 3720, 144.4000,    144.4,  15.5412,  34.9197,2,  34.9290,2,     30.5,2,     28.0,2,    27.42,2,    28.29,2,     0.01,2,     2.04,2,    0.822,2,    0.487,2, -999.000,5,   2206.5,2,   2298.3,2,   7.5832,2,    25.00,     49.0,2,    32.30,2, -999.000,9, -999.000,-999.0000,9,-999.0000,  -999.00,9,  -999.00, -999.000,9, -999.000,    -26.1,6,      1.7,    -0.02,6,   0.1892,2,   0.1402,2,   0.0827,2,   0.0650,2,   0.0274,2,   0.0081,2,   0.0017,2,   0.0142,3,   0.0134,3,  15.5188,  15.5253,2
  33RR20070322,  I09N,   165,  1,     30,     30,2,20070417,2315,  7.2407,  88.7715, 3720, 173.9000,    173.9,  13.9541,  34.9765,2,  34.9750,2,     18.3,2,     16.8,2,    30.55,2,    30.83,2,     0.01,2,     2.23,2,    0.668,2,    0.395,2, -999.000,5,   2230.4,2,   2305.1,2,   7.5202,2,    25.00,     47.8,2,    34.78,2, -999.000,9, -999.000,-999.0000,9,-999.0000,  -999.00,9,  -999.00, -999.000,9, -999.000,    -36.4,6,      9.0,    -0.05,6,   0.1920,2,   0.1432,2,   0.0861,2,   0.0681,2,   0.0295,2,   0.0087,2,   0.0020,2,   0.0142,3,   0.0130,3,  13.9290,  14.0235,2
  33RR20070322,  I09N,   165,  1,     29,     29,2,20070417,2315,  7.2407,  88.7715, 3720, 223.7000,    223.7,  12.4674,  35.0263,2,  35.0220,2,     16.0,2,     15.2,2,    33.27,2,    32.25,2,     0.00,2,     2.31,2,    0.562,2,    0.322,2, -999.000,5,   2246.9,2,   2309.6,2,   7.4990,2,    25.00,     47.1,2,    36.15,2, -999.000,9, -999.000,-999.0000,9,-999.0000,  -999.00,9,  -999.00, -999.000,9, -999.000,    -48.2,6,      3.0,    -0.05,6,   0.1940,2,   0.1453,2,   0.0890,2,   0.0711,2,   0.0318,2,   0.0096,2,   0.0022,2,   0.0140,3,   0.0127,3,  12.4374,  12.4668,2
  33RR20070322,  I09N,   165,  1,     28,     28,2,20070417,2315,  7.2407,  88.7715, 3720, 274.2000,    274.2,  11.7456,  35.0287,2,  35.0275,2,     17.2,2,     17.2,2,    36.20,2,    33.06,2,     0.00,2,     2.36,2,    0.482,2,    0.274,2, -999.000,5,   2254.0,2,   2313.0,2,   7.4736,2,    25.00,     46.2,2,    36.46,2, -999.000,9, -999.000,-999.0000,9,-999.0000,  -999.00,9,  -999.00, -999.000,9, -999.000,    -51.8,6,      6.8,    -0.01,6,   0.1960,2,   0.1468,2,   0.0905,2,   0.0726,2,   0.0330,2,   0.0101,2,   0.0023,2,   0.0140,3,   0.0126,3,  11.7102,  11.7539,2
  33RR20070322,  I09N,   165,  1,     27,     27,2,20070417,2315,  7.2407,  88.7715, 3720, 324.2000,    324.2,  11.2610,  35.0551,2,  35.0518,2,     19.7,2,     19.5,2,    35.37,2,    33.37,2,     0.00,2,     2.36,2,    0.486,2,    0.270,2, -999.000,5,   2258.0,6,   2313.2,6,   7.4609,6,    25.00,     45.8,2,    36.92,2, -999.000,9, -999.000,-999.0000,9,-999.0000,  -999.00,9,  -999.00, -999.000,9, -999.000,    -48.2,2,      2.9,     0.05,2,   0.1957,2,   0.1466,2,   0.0909,2,   0.0734,2,   0.0338,2,   0.0106,2,   0.0026,2,   0.0139,3,   0.0124,3,  11.2202,  11.2611,2
  33RR20070322,  I09N,   165,  1,     26,     26,2,20070417,2315,  7.2407,  88.7715, 3720, 373.9000,    373.9,  10.8265,  35.0512,2,  35.0502,2,     21.1,2,     19.8,2,    38.10,2,    34.13,2,     0.00,2,     2.42,2,    0.390,2,    0.219,2, -999.000,5,   2261.1,2,   2320.6,2,   7.4673,2,    25.00,     45.4,2,    37.70,2, -999.000,9, -999.000,-999.0000,9,-999.0000,  -999.00,9,  -999.00, -999.000,9, -999.000,    -64.6,6,      5.9,     0.06,6,   0.1920,2,   0.1435,2,   0.0884,2,   0.0706,2,   0.0323,2,   0.0097,2,   0.0021,2,   0.0139,3,   0.0126,3,  10.7805,  10.8272,2
  33RR20070322,  I09N,   165,  1,     25,     25,2,20070417,2315,  7.2407,  88.7715, 3720, 423.9000,    423.9,  10.4645,  35.0476,2,  35.0461,2,     18.6,2,     17.8,2,    41.43,2,    34.69,2,     0.00,2,     2.49,2,    0.300,2,    0.168,2, -999.000,5,   2267.5,2,   2323.5,2,   7.4568,2,    25.00,     45.0,2,    38.65,2, -999.000,9, -999.000,-999.0000,9,-999.0000,  -999.00,9,  -999.00, -999.000,9, -999.000,    -77.1,6,      2.7,     0.07,6,   0.1971,2,   0.1477,2,   0.0917,2,   0.0735,2,   0.0342,2,   0.0107,2,   0.0025,2,   0.0139,3,   0.0125,3,  10.4133,  10.4609,2
  33RR20070322,  I09N,   165,  1,     24,     24,2,20070417,2315,  7.2407,  88.7715, 3720, 474.4000,    474.4,  10.1477,  35.0431,2,  35.0423,2,     19.4,2,     18.5,2,    44.36,2,    35.09,2,     0.00,2,     2.54,2,    0.242,2,    0.135,2, -999.000,5,   2272.4,2,   2326.9,2,   7.4609,2,    25.00,     44.8,2,    39.01,2, -999.000,9, -999.000,-999.0000,9,-999.0000,  -999.00,9,  -999.00, -999.000,9, -999.000,   -999.0,9,   -999.0,  -999.00,9,   0.1972,2,   0.1474,2,   0.0915,2,   0.0731,2,   0.0344,2,   0.0108,2,   0.0025,2,   0.0138,3,   0.0125,3,  10.0913,  10.1303,2
  33RR20070322,  I09N,   165,  1,     23,     23,2,20070417,2315,  7.2407,  88.7715, 3720, 523.9000,    523.9,   9.7062,  35.0292,2,  35.0287,2,     19.9,2,     19.0,2,    49.47,2,    35.65,2,     0.00,2,     2.59,2,    0.183,2,    0.103,2, -999.000,5,   2278.0,2,   2326.5,2,   7.4588,2,    25.00,     44.4,2,    37.78,2, -999.000,9, -999.000,-999.0000,9,-999.0000,  -999.00,9,  -999.00, -999.000,9, -999.000,    -95.5,6,      3.4,     0.07,6,   0.1991,2,   0.1490,2,   0.0922,2,   0.0730,2,   0.0343,2,   0.0109,2,   0.0026,2,   0.0139,3,   0.0126,3,   9.6455,   9.7102,2
  33RR20070322,  I09N,   165,  1,     22,     22,2,20070417,2315,  7.2407,  88.7715, 3720, 644.3000,    644.3,   8.8594,  35.0113,2,  35.0140,2,     22.0,2,     22.2,2,    58.75,2,    36.57,2,     0.00,2,     2.68,2,    0.082,2,    0.047,2, -999.000,5,   2289.6,2,   2337.1,2,   7.4432,2,    25.00,     44.0,2,    38.74,2, -999.000,9, -999.000,-999.0000,9,-999.0000,  -999.00,9,  -999.00, -999.000,9, -999.000,   -142.4,4,      3.4,     0.04,4,   0.1975,2,   0.1473,2,   0.0902,2,   0.0702,2,   0.0324,2,   0.0098,2,   0.0019,2,   0.0141,3,   0.0129,3,   8.7882,   8.8713,2
  33RR20070322,  I09N,   165,  1,     21,     21,2,20070417,2315,  7.2407,  88.7715, 3720, 744.5000,    744.5,   8.2016,  34.9931,2,  34.9925,2,     27.2,2,     27.5,2,    65.66,2,    36.92,2,     0.00,2,     2.71,2,    0.050,2,    0.026,2, -999.000,5,   2296.0,2,   2345.5,2,   7.4538,2,    25.00,     43.4,2,    39.69,2, -999.000,9, -999.000,-999.0000,9,-999.0000,  -999.00,9,  -999.00, -999.000,9, -999.000,   -118.3,6,      2.0,     0.08,6,   0.1968,2,   0.1465,2,   0.0893,2,   0.0691,2,   0.0317,2,   0.0097,2,   0.0018,2,   0.0141,3,   0.0129,3,   8.1225,   8.1972,2
  33RR20070322,  I09N,   165,  1,     20,     20,2,20070417,2315,  7.2407,  88.7715, 3720, 845.0000,    845.0,   7.6179,  34.9740,2,  34.9728,2,     34.3,2,     35.1,2,    72.58,2,    36.96,2,     0.00,2,     2.73,2,    0.035,2,    0.018,2, -999.000,5,   2298.6,2,   2353.9,2,   7.4571,2,    25.00,     42.9,2,    39.72,2, -999.000,9, -999.000,-999.0000,9,-999.0000,  -999.00,9,  -999.00, -999.000,9, -999.000,   -126.1,6,      4.3,     0.05,6,   0.1960,2,   0.1456,2,   0.0884,2,   0.0680,2,   0.0312,2,   0.0095,2,   0.0018,2,   0.0141,3,   0.0130,3,   7.5312,   7.6175,2
  33RR20070322,  I09N,   165,  1,     19,     19,2,20070417,2315,  7.2407,  88.7715, 3720, 944.3000,    944.3,   6.9510,  34.9467,2,  34.9455,2,     41.6,2,     42.6,2,    79.91,2,    37.11,2,     0.00,2,     2.74,2,    0.027,2,    0.017,2, -999.000,5,   2303.8,2,   2360.0,2,   7.4653,2,    25.00,     42.3,2,    39.62,2, -999.000,9, -999.000,-999.0000,9,-999.0000,  -999.00,9,  -999.00, -999.000,9, -999.000,   -147.5,6,      3.0,     0.05,6,   0.1958,2,   0.1452,2,   0.0875,2,   0.0666,2,   0.0303,2,   0.0090,2,   0.0014,2,   0.0142,3,   0.0132,3,   6.8582,   6.9487,2
  33RR20070322,  I09N,   165,  1,     18,     18,2,20070417,2315,  7.2407,  88.7715, 3720,1045.8000,   1045.8,   6.4233,  34.9239,2,  34.9207,2,     50.9,2,     52.3,2,    85.86,2,    37.00,2,     0.00,2,     2.72,2,    0.029,2,    0.017,2, -999.000,5,   2308.6,2,   2369.8,2,   7.4632,2,    25.00,     41.5,2,    38.06,2, -999.000,9, -999.000,-999.0000,9,-999.0000,  -999.00,9,  -999.00, -999.000,9, -999.000,   -155.8,6,      6.9,     0.07,6,   0.2001,2,   0.1488,2,   0.0912,2,   0.0708,2,   0.0331,2,   0.0101,2,   0.0021,2,   0.0141,3,   0.0129,3,   6.3240,   6.4206,2
  33RR20070322,  I09N,   165,  1,     17,     17,2,20070417,2315,  7.2407,  88.7715, 3720,1145.7000,   1145.7,   6.0051,  34.9080,2,  34.9067,2,     57.9,2,     57.9,2,    90.41,2,    36.94,2,     0.00,2,     2.72,2,    0.023,2,    0.014,2, -999.000,5,   2311.7,2,   2372.1,2,   7.4832,2,    25.00,     41.4,2,    38.91,2, -999.000,9, -999.000,-999.0000,9,-999.0000,  -999.00,9,  -999.00, -999.000,9, -999.000,   -160.0,6,      3.8,     0.08,6,   0.1991,2,   0.1482,2,   0.0904,2,   0.0693,2,   0.0327,2,   0.0102,2,   0.0021,2,   0.0140,3,   0.0129,3,   5.8991,   6.0061,2
  33RR20070322,  I09N,   165,  1,     16,     16,2,20070417,2315,  7.2407,  88.7715, 3720,1246.3000,   1246.3,   5.5555,  34.8911,2,  34.8896,2,     65.3,2,     63.8,2,    95.58,2,    37.09,2,     0.00,2,     2.73,2, -999.000,9, -999.000,9, -999.000,9,   2315.2,2,   2378.1,2,   7.4823,2,    25.00,     41.4,2,    38.15,2, -999.000,9, -999.000,-999.0000,9,-999.0000,  -999.00,9,  -999.00, -999.000,9, -999.000,   -164.5,6,      5.5,     0.03,6,   0.2014,2,   0.1499,2,   0.0916,2,   0.0707,2,   0.0337,2,   0.0107,2,   0.0023,2,   0.0140,3,   0.0129,3,   5.4435,   5.5553,2
  33RR20070322,  I09N,   165,  1,     15,     15,2,20070417,2315,  7.2407,  88.7715, 3720,1346.7000,   1346.7,   5.1600,  34.8747,2,  34.8735,2,     70.3,2,     71.9,2,    99.56,2,    36.83,2,     0.00,2,     2.72,2,    0.016,2,    0.009,2, -999.000,5,   2315.9,2,   2381.1,2,   7.4889,2,    25.00,     41.2,2,    38.01,2, -999.000,9, -999.000,-999.0000,9,-999.0000,  -999.00,9,  -999.00, -999.000,9, -999.000,   -168.6,6,      3.8,     0.03,6,   0.1971,2,   0.1463,2,   0.0887,2,   0.0677,2,   0.0317,2,   0.0099,2,   0.0020,2,   0.0140,3,   0.0130,3,   5.0420,   5.1617,2
  33RR20070322,  I09N,   165,  1,     14,     14,2,20070417,2315,  7.2407,  88.7715, 3720,1447.3000,   1447.3,   4.7004,  34.8579,2,  34.8568,2,     78.6,2,     79.8,2,   104.53,2,    36.72,2,     0.00,2,     2.71,2, -999.000,9, -999.000,9, -999.000,9,   2318.2,2,   2386.1,2,   7.5007,2,    25.00,     40.8,2,    38.48,2, -999.000,9, -999.000,-999.0000,9,-999.0000,  -999.00,9,  -999.00, -999.000,9, -999.000,   -176.2,6,      7.9,     0.04,6,   0.1959,2,   0.1453,2,   0.0878,2,   0.0665,2,   0.0307,2,   0.0093,2,   0.0018,2,   0.0141,3,   0.0132,3,   4.5776,   4.6992,2
  33RR20070322,  I09N,   165,  1,     13,     13,2,20070417,2315,  7.2407,  88.7715, 3720,1548.0000,   1548.0,   4.3688,  34.8474,2,  34.8454,2,     83.6,2,     83.3,2,   108.52,2,    36.92,2,     0.00,2,     2.72,2,    0.006,2,    0.004,2, -999.000,5,   2321.7,2,   2389.5,2,   7.5003,2,    25.00,     40.2,2,    38.71,2, -999.000,9, -999.000,-999.0000,9,-999.0000,  -999.00,9,  -999.00, -999.000,9, -999.000,   -177.1,6,      3.9,     0.10,6,   0.1949,2,   0.1443,2,   0.0866,2,   0.0652,2,   0.0299,2,   0.0090,2,   0.0016,2,   0.0142,3,   0.0133,3,   4.2402,   4.3692,2
  33RR20070322,  I09N,   165,  1,     12,     12,2,20070417,2315,  7.2407,  88.7715, 3720,1648.5000,   1648.5,   3.9181,  34.8305,2,  34.8294,2,     90.4,2,     91.6,2,   113.31,2,    36.76,2,     0.00,2,     2.70,2, -999.000,9, -999.000,9, -999.000,9,   2323.8,2,   2393.9,2,   7.5115,2,    25.00,     40.5,2,    38.68,2, -999.000,9, -999.000,-999.0000,9,-999.0000,  -999.00,9,  -999.00, -999.000,9, -999.000,   -182.9,6,      6.5,     0.10,6,   0.1947,2,   0.1441,2,   0.0862,2,   0.0649,2,   0.0297,2,   0.0089,2,   0.0016,2,   0.0142,3,   0.0133,3,   3.7856,   3.9239,2
  33RR20070322,  I09N,   165,  1,     11,     11,2,20070417,2315,  7.2407,  88.7715, 3720,1749.4000,   1749.4,   3.5571,  34.8154,2,  34.8149,2,     98.5,2,     98.8,2,   117.31,2,    36.50,2,     0.00,2,     2.68,2,    0.004,2,    0.004,2, -999.000,5,   2324.9,2,   2398.8,2,   7.5166,2,    25.00,     40.6,2,    37.63,2, -999.000,9, -999.000,-999.0000,9,-999.0000,  -999.00,9,  -999.00, -999.000,9, -999.000,   -183.2,6,      5.0,     0.08,6,   0.1928,2,   0.1424,2,   0.0851,2,   0.0638,2,   0.0293,2,   0.0088,2,   0.0015,2,   0.0141,3,   0.0134,3,   3.4199,   3.5633,2
  33RR20070322,  I09N,   165,  1,     10,     10,2,20070417,2315,  7.2407,  88.7715, 3720,1850.0000,   1850.0,   3.2650,  34.8026,2,  34.8003,2,    105.3,2,    105.5,2,   120.70,2,    36.39,2,     0.00,2,     2.65,2, -999.000,9, -999.000,9, -999.000,9,   2325.9,2,   2401.9,2,   7.5185,2,    25.00,     40.5,2,    37.78,2, -999.000,9, -999.000,-999.0000,9,-999.0000,  -999.00,9,  -999.00, -999.000,9, -999.000,   -190.8,6,     10.0,     0.09,6,   0.1925,2,   0.1421,2,   0.0848,2,   0.0635,2,   0.0290,2,   0.0088,2,   0.0016,2,   0.0142,3,   0.0134,3,   3.1227,   3.2665,2
  33RR20070322,  I09N,   165,  1,      9,      9,2,20070417,2315,  7.2407,  88.7715, 3720,1950.7000,   1950.7,   2.9746,  34.7896,2,  34.7882,2,    111.8,2,    112.1,2,   124.10,2,    36.18,2,     0.00,2,     2.63,2,    0.012,2,    0.004,2, -999.000,5,   2326.3,2,   2403.4,2,   7.5304,2,    25.00,     40.5,2,    37.78,2, -999.000,9, -999.000,-999.0000,9,-999.0000,  -999.00,9,  -999.00, -999.000,9, -999.000,   -193.4,6,      8.0,     0.07,6,   0.1908,2,   0.1407,2,   0.0836,2,   0.0622,2,   0.0283,2,   0.0085,2,   0.0015,2,   0.0142,3,   0.0135,3,   2.8274,   2.9731,2
  33RR20070322,  I09N,   165,  1,      8,      8,2,20070417,2315,  7.2407,  88.7715, 3720,2111.5000,   2111.5,   2.6539,  34.7752,2,  34.7740,2,    120.7,2,    120.3,2,   127.70,2,    35.91,2,     0.00,2,     2.59,2, -999.000,9, -999.000,9, -999.000,9,   2326.1,2,   2404.5,2,   7.5292,2,    25.00,     40.3,2,    37.26,2, -999.000,9, -999.000,-999.0000,9,-999.0000,  -999.00,9,  -999.00, -999.000,9, -999.000,   -191.4,6,      5.9,     0.13,6,   0.1897,2,   0.1395,2,   0.0832,2,   0.0634,2,   0.0294,2,   0.0092,2,   0.0019,2,   0.0139,3,   0.0132,3,   2.4971,   2.6539,2
  33RR20070322,  I09N,   165,  1,      7,      7,2,20070417,2315,  7.2407,  88.7715, 3720,2363.5000,   2363.5,   2.2666,  34.7578,2,  34.7567,2,    129.8,2,    128.9,2,   133.34,2,    35.60,2,     0.00,2,     2.56,2,    0.004,2,    0.003,2, -999.000,5,   2328.3,2,   2414.2,2,   7.5455,2,    25.00,     40.7,2,    36.85,2, -999.000,9, -999.000,-999.0000,9,-999.0000,  -999.00,9,  -999.00, -999.000,9, -999.000,   -199.9,6,      2.0,     0.15,6,   0.1887,2,   0.1385,2,   0.0813,2,   0.0604,2,   0.0272,2,   0.0083,2,   0.0014,2,   0.0141,3,   0.0137,3,   2.0935,   2.2659,2
  33RR20070322,  I09N,   165,  1,      6,      6,2,20070417,2315,  7.2407,  88.7715, 3720,2616.1000,   2616.1,   1.9896,  34.7455,2,  34.7447,2,    140.1,2,    138.2,2,   135.95,2,    35.18,2,     0.00,2,     2.52,2, -999.000,9, -999.000,9, -999.000,9,   2326.7,2,   2427.3,2,   7.5638,2,    25.00,     40.9,2,    36.61,2, -999.000,9, -999.000,-999.0000,9,-999.0000,  -999.00,9,  -999.00, -999.000,9, -999.000,   -196.0,6,      8.8,     0.11,6,   0.1855,2,   0.1357,2,   0.0788,2,   0.0579,2,   0.0255,2,   0.0076,2,   0.0013,2,   0.0142,3,   0.0139,3,   1.7984,   1.9894,2
  33RR20070322,  I09N,   165,  1,      5,      5,2,20070417,2315,  7.2407,  88.7715, 3720,2869.1000,   2869.1,   1.8212,  34.7385,2,  34.7378,2,    149.4,2,    149.6,2,   134.51,2,    34.72,2,     0.00,2,     2.46,2,    0.005,2,    0.003,2, -999.000,5,   2319.8,2,   2417.6,2,   7.5807,2,    25.00,     40.8,2,    36.47,2, -999.000,9, -999.000,-999.0000,9,-999.0000,  -999.00,9,  -999.00, -999.000,9, -999.000,   -193.7,6,      9.9,     0.19,6,   0.1769,2,   0.1292,2,   0.0753,2,   0.0556,2,   0.0247,2,   0.0078,2,   0.0015,2,   0.0139,3,   0.0137,3,   1.6096,   1.8207,2