BOTTLE,20150630SIOCCHRJL
EXPOCODE,SECT_ID,STNNBR,CASTNO,SAMPNO,BTLNBR,BTLNBR_FLAG_W,DATE,TIME,LATITUDE,LONGITUDE,DEPTH,CTDRAW,CTDPRS,CTDTMP,CTDSAL,CTDSAL_FLAG_W,SALNTY,SALNTY_FLAG_W,CTDOXY,CTDOXY_FLAG_W,OXYGEN,OXYGEN_FLAG_W,SILCAT,SILCAT_FLAG_W,NITRAT,NITRAT_FLAG_W,NITRIT,NITRIT_FLAG_W,PHSPHT,PHSPHT_FLAG_W,CFC-11,CFC-11_FLAG_W,CFC-12,CFC-12_FLAG_W,CFC113,CFC113_FLAG_W,TCARBN,TCARBN_FLAG_W,ALKALI,ALKALI_FLAG_W,PH_SWS,PH_SWS_FLAG_W,PH_TMP,DOC,DOC_FLAG_W,TDN,TDN_FLAG_W,TRITUM,TRITUM_FLAG_W,TRITER,HELIUM,HELIUM_FLAG_W,HELIER,DELHE3,DELHE3_FLAG_W,DELHER,NEON,NEON_FLAG_W,NEONER,DELC14,DELC14_FLAG_W,C14ERR,DELC13,DELC13_FLAG_W,CDOM325,CDOM325_FLAG_W,CDOM340,CDOM340_FLAG_W,CDOM380,CDOM380_FLAG_W,CDOM412,CDOM412_FLAG_W,CDOM443,CDOM443_FLAG_W,CDOM490,CDOM490_FLAG_W,CDOM555,CDOM555_FLAG_W,CDOMSL,CDOMSL_FLAG_W,CDOMSN,CDOMSN_FLAG_W,THETA,SBE35,SBE35_FLAG_W
,,,,,,,,,,,METERS,,DBAR,ITS-90,PSS-78,,PSS-78,,UMOL/KG,,UMOL/KG,,UMOL/KG,,UMOL/KG,,UMOL/KG,,UMOL/KG,,PMOL/KG,,PMOL/KG,,PMOL/KG,,UMOL/KG,,UMOL/KG,,,,DEG C,UMOL/KG,,UMOL/KG,,TU,,TU,NMOL/KG,,NMOL/KG,PERCNT,,PERCNT,NMOL/KG,,NMOL/KG,/MILLE,,/MILLE,/MILLE,,1/M,,1/M,,1/M,,1/M,,1/M,,1/M,,1/M,,1/NM,,1/NM,,DEG C,ITS-90,
  33RR20070322,  I09N,   167,  2,      4,      4,2,20070418,1854,  7.9832,  88.2028, 3652,3275.6000,   3275.6,   1.6205,  34.7298,2,  34.7306,2,    154.6,2,    155.0,2,   138.57,2,    34.40,2,     0.00,2,     2.41,2, -999.000,9, -999.000,9, -999.000,9,   2322.4,2,   2419.6,2,   7.5840,3,    25.00,     40.4,2,  -999.00,9, -999.000,9, -999.000,-999.0000,9,-999.0000,  -999.00,9,  -999.00, -999.000,9, -999.000,   -999.0,9,   -999.0,  -999.00,9,   0.1752,2,   0.1273,2,   0.0739,2,   0.0548,2,   0.0242,2,   0.0076,2,   0.0017,2,   0.0138,3,   0.0137,3,   1.3738,   1.6202,2
  33RR20070322,  I09N,   167,  2,      3,      3,2,20070418,1854,  7.9832,  88.2028, 3652,3478.9000,   3478.9,   1.4831,  34.7246,2,  34.7245,2,    160.2,2,    160.2,2,   139.79,2,    34.34,2,     0.00,2,     2.38,2,    0.007,2,    0.005,2, -999.000,5,   2322.3,2,   2424.5,2,   7.5622,2,    25.00,     40.5,2,  -999.00,9, -999.000,9, -999.000,-999.0000,9,-999.0000,  -999.00,9,  -999.00, -999.000,9, -999.000,   -999.0,9,   -999.0,  -999.00,9,   0.1735,2,   0.1258,2,   0.0739,2,   0.0554,2,   0.0247,2,   0.0074,2,   0.0013,2,   0.0138,3,   0.0135,3,   1.2192,   1.4831,2
  33RR20070322,  I09N,   167,  2,      2,      2,2,20070418,1854,  7.9832,  88.2028, 3652,3580.2000,   3580.2,   1.4444,  34.7226,2,  34.7227,2,    158.9,2,    157.7,2,   144.50,2,    34.53,2,     0.00,2,     2.40,2, -999.000,9, -999.000,9, -999.000,9,   2329.8,2,   2432.0,2,   7.5858,2,    25.00,     40.3,2,  -999.00,9, -999.000,9, -999.000,-999.0000,9,-999.0000,  -999.00,9,  -999.00, -999.000,9, -999.000,   -999.0,9,   -999.0,  -999.00,9,   0.1786,2,   0.1293,2,   0.0739,2,   0.0539,2,   0.0235,2,   0.0071,2,   0.0013,2,   0.0141,3,   0.0141,3,   1.1712,   1.4438,2
  33RR20070322,  I09N,   167,  2,      1,      1,2,20070418,1854,  7.9832,  88.2028, 3652,3686.2000,   3686.2,   1.4383,  34.7221,2,  34.7217,2,    156.0,2,    156.4,2,   145.93,2,    34.61,2,     0.00,2,     2.40,2,    0.020,2,    0.006,2, -999.000,5,   2334.8,6,   2437.3,6,   7.6132,6,    25.00,     40.8,2,  -999.00,9, -999.000,9, -999.000,-999.0000,9,-999.0000,  -999.00,9,  -999.00, -999.000,9, -999.000,   -999.0,9,   -999.0,  -999.00,9,   0.1871,2,   0.1361,2,   0.0781,2,   0.0574,2,   0.0256,2,   0.0078,2,   0.0014,2,   0.0142,3,   0.0140,3,   1.1542,   1.4377,2