BOTTLE,20150630SIOCCHRJL
EXPOCODE,SECT_ID,STNNBR,CASTNO,SAMPNO,BTLNBR,BTLNBR_FLAG_W,DATE,TIME,LATITUDE,LONGITUDE,DEPTH,CTDRAW,CTDPRS,CTDTMP,CTDSAL,CTDSAL_FLAG_W,SALNTY,SALNTY_FLAG_W,CTDOXY,CTDOXY_FLAG_W,OXYGEN,OXYGEN_FLAG_W,SILCAT,SILCAT_FLAG_W,NITRAT,NITRAT_FLAG_W,NITRIT,NITRIT_FLAG_W,PHSPHT,PHSPHT_FLAG_W,CFC-11,CFC-11_FLAG_W,CFC-12,CFC-12_FLAG_W,CFC113,CFC113_FLAG_W,TCARBN,TCARBN_FLAG_W,ALKALI,ALKALI_FLAG_W,PH_SWS,PH_SWS_FLAG_W,PH_TMP,DOC,DOC_FLAG_W,TDN,TDN_FLAG_W,TRITUM,TRITUM_FLAG_W,TRITER,HELIUM,HELIUM_FLAG_W,HELIER,DELHE3,DELHE3_FLAG_W,DELHER,NEON,NEON_FLAG_W,NEONER,DELC14,DELC14_FLAG_W,C14ERR,DELC13,DELC13_FLAG_W,CDOM325,CDOM325_FLAG_W,CDOM340,CDOM340_FLAG_W,CDOM380,CDOM380_FLAG_W,CDOM412,CDOM412_FLAG_W,CDOM443,CDOM443_FLAG_W,CDOM490,CDOM490_FLAG_W,CDOM555,CDOM555_FLAG_W,CDOMSL,CDOMSL_FLAG_W,CDOMSN,CDOMSN_FLAG_W,THETA,SBE35,SBE35_FLAG_W
,,,,,,,,,,,METERS,,DBAR,ITS-90,PSS-78,,PSS-78,,UMOL/KG,,UMOL/KG,,UMOL/KG,,UMOL/KG,,UMOL/KG,,UMOL/KG,,PMOL/KG,,PMOL/KG,,PMOL/KG,,UMOL/KG,,UMOL/KG,,,,DEG C,UMOL/KG,,UMOL/KG,,TU,,TU,NMOL/KG,,NMOL/KG,PERCNT,,PERCNT,NMOL/KG,,NMOL/KG,/MILLE,,/MILLE,/MILLE,,1/M,,1/M,,1/M,,1/M,,1/M,,1/M,,1/M,,1/NM,,1/NM,,DEG C,ITS-90,
  33RR20070322,  I09N,   126,  1,     36,     38,2,20070407,1100, -7.6740,  95.0048, 5016,   2.2000,      2.2,  29.0452,  34.0381,2,  34.0414,2,    198.1,2,    197.9,2,     1.94,2,     0.00,2,     0.00,2,     0.08,2,    1.540,2,    1.000,2, -999.000,5,   1911.4,6,   2233.1,2,   8.0870,6,    25.00,   -999.0,9,  -999.00,9,    0.603,2,    0.010,-999.0000,9,-999.0000,  -999.00,9,  -999.00, -999.000,9, -999.000,   -999.0,9,   -999.0,  -999.00,9,-999.0000,9,-999.0000,9,-999.0000,9,-999.0000,9,-999.0000,9,-999.0000,9,-999.0000,9,-999.0000,9,-999.0000,9,  29.0447,  29.0415,2
  33RR20070322,  I09N,   126,  1,     35,     35,2,20070407,1100, -7.6740,  95.0048, 5016,  39.4000,     39.4,  25.8516,  34.5804,2,  34.5617,2,    208.4,2,    201.4,2,     4.21,2,     0.10,2,     0.01,2,     0.21,2,    1.627,2,    1.034,2, -999.000,5,   -999.0,9,   -999.0,9,-999.0000,9,  -999.00,   -999.0,9,  -999.00,9, -999.000,9, -999.000,-999.0000,9,-999.0000,  -999.00,9,  -999.00, -999.000,9, -999.000,   -999.0,9,   -999.0,  -999.00,9,-999.0000,9,-999.0000,9,-999.0000,9,-999.0000,9,-999.0000,9,-999.0000,9,-999.0000,9,-999.0000,9,-999.0000,9,  25.8429,  25.7359,3
  33RR20070322,  I09N,   126,  1,     34,   9419,2,20070407,1100, -7.6740,  95.0048, 5016,  73.7000,     73.7,  19.1083,  34.7908,2,  34.7880,2,     86.5,2,     80.3,2,    17.36,2,    18.97,2,     0.54,2,     1.34,2,    1.528,2,    0.922,2, -999.000,5,   2131.5,2,   2284.9,2,   7.7430,3,    25.00,   -999.0,9,  -999.00,9,    0.487,2,    0.009,   1.7640,2,   0.0048,     5.56,2,     0.71,    0.017,4,    0.001,   -999.0,9,   -999.0,  -999.00,9,-999.0000,9,-999.0000,9,-999.0000,9,-999.0000,9,-999.0000,9,-999.0000,9,-999.0000,9,-999.0000,9,-999.0000,9,  19.0952,  19.1104,2
  33RR20070322,  I09N,   126,  1,     33,     33,2,20070407,1100, -7.6740,  95.0048, 5016,  94.8000,     94.8,  16.9667,  34.8248,2,  34.8296,2,     70.5,2,     66.3,2,    21.34,2,    22.86,2,     0.02,2,     1.57,2,    1.464,2,    0.845,2, -999.000,5,   -999.0,9,   -999.0,9,-999.0000,9,  -999.00,   -999.0,9,  -999.00,9,    0.433,2,    0.009,   1.7690,2,   0.0005,     5.10,2,     0.18,    7.306,2,    0.009,   -999.0,9,   -999.0,  -999.00,9,-999.0000,9,-999.0000,9,-999.0000,9,-999.0000,9,-999.0000,9,-999.0000,9,-999.0000,9,-999.0000,9,-999.0000,9,  16.9511,  16.9952,2
  33RR20070322,  I09N,   126,  1,     32,     37,2,20070407,1100, -7.6740,  95.0048, 5016, 123.9000,    123.9,  14.7716,  34.8336,2,  34.8339,2,     63.0,2,     61.4,2,    25.92,2,    25.63,2,     0.01,2,     1.79,2,    1.266,2,    0.724,2, -999.000,5,   2190.1,2,   2297.8,2,   7.6562,2,    25.00,   -999.0,9,  -999.00,9,    0.385,2,    0.008,   1.7710,2,   0.0003,     6.03,2,     0.18,    7.313,2,    0.010,   -999.0,9,   -999.0,  -999.00,9,-999.0000,9,-999.0000,9,-999.0000,9,-999.0000,9,-999.0000,9,-999.0000,9,-999.0000,9,-999.0000,9,-999.0000,9,  14.7531,  14.7718,2
  33RR20070322,  I09N,   126,  1,     31,     31,2,20070407,1100, -7.6740,  95.0048, 5016, 144.1000,    144.1,  13.9194,  34.8750,2,  34.8668,2,     60.2,2,     59.8,2,    26.86,2,    26.50,2,     0.01,2,     1.85,2,    1.241,2,    0.716,2, -999.000,5,   -999.0,9,   -999.0,9,-999.0000,9,  -999.00,   -999.0,9,  -999.00,9, -999.000,9, -999.000,   1.7870,2,   0.0009,     7.17,2,     0.20,    7.491,2,    0.010,   -999.0,9,   -999.0,  -999.00,9,-999.0000,9,-999.0000,9,-999.0000,9,-999.0000,9,-999.0000,9,-999.0000,9,-999.0000,9,-999.0000,9,-999.0000,9,  13.8987,  13.9213,2
  33RR20070322,  I09N,   126,  1,     30,     30,2,20070407,1100, -7.6740,  95.0048, 5016, 174.2000,    174.2,  13.2378,  34.9580,2,  34.9612,2,     58.2,2,     59.1,2,    25.13,2,    26.97,2,     0.00,2,     1.88,2,    1.167,2,    0.649,2, -999.000,5,   -999.0,9,   -999.0,9,   7.6552,2,    25.00,   -999.0,9,  -999.00,9,    0.307,2,    0.008,   1.7780,2,   0.0005,     6.56,2,     0.19,    7.385,2,    0.007,   -999.0,9,   -999.0,  -999.00,9,-999.0000,9,-999.0000,9,-999.0000,9,-999.0000,9,-999.0000,9,-999.0000,9,-999.0000,9,-999.0000,9,-999.0000,9,  13.2136,  13.2559,2
  33RR20070322,  I09N,   126,  1,     29,     29,2,20070407,1100, -7.6740,  95.0048, 5016, 223.9000,    223.9,  11.8473,  34.9261,2,  34.9273,2,     60.2,2,     60.3,2,    27.99,2,    28.61,2,     0.00,2,     1.97,2,    0.885,2,    0.487,2, -999.000,5,   -999.0,9,   -999.0,9,-999.0000,9,  -999.00,   -999.0,9,  -999.00,9, -999.000,9, -999.000,   1.7820,2,   0.0007,     6.44,2,     0.20,    7.530,2,    0.015,   -999.0,9,   -999.0,  -999.00,9,-999.0000,9,-999.0000,9,-999.0000,9,-999.0000,9,-999.0000,9,-999.0000,9,-999.0000,9,-999.0000,9,-999.0000,9,  11.8183,  11.8456,2
  33RR20070322,  I09N,   126,  1,     28,     28,2,20070407,1100, -7.6740,  95.0048, 5016, 274.1000,    274.1,  11.0068,  34.8631,2,  34.8629,2,     59.8,2,     61.7,2,    31.99,2,    29.75,2,     0.00,2,     2.04,2,    0.749,2,    0.417,2, -999.000,5,   2227.0,2,   2309.6,2,   7.5600,3,    25.00,   -999.0,9,  -999.00,9,    0.208,2,    0.006,   1.8120,2,   0.0006,     7.23,2,     0.20,    7.644,2,    0.015,   -999.0,9,   -999.0,  -999.00,9,-999.0000,9,-999.0000,9,-999.0000,9,-999.0000,9,-999.0000,9,-999.0000,9,-999.0000,9,-999.0000,9,-999.0000,9,  10.9729,  11.0226,2
  33RR20070322,  I09N,   126,  1,     27,     27,2,20070407,1100, -7.6740,  95.0048, 5016, 323.9000,    323.9,  10.5676,  34.8919,2,  34.8932,2,     59.4,2,     60.7,2,    31.03,2,    30.83,2,     0.00,2,     2.09,2,    0.577,2,    0.317,2, -999.000,5,   -999.0,9,   -999.0,9,-999.0000,9,  -999.00,   -999.0,9,  -999.00,9,    0.148,2,    0.005,   1.8190,2,   0.0003,     5.79,2,     0.18,    7.664,2,    0.008,   -999.0,9,   -999.0,  -999.00,9,-999.0000,9,-999.0000,9,-999.0000,9,-999.0000,9,-999.0000,9,-999.0000,9,-999.0000,9,-999.0000,9,-999.0000,9,  10.5285,  10.5658,2
  33RR20070322,  I09N,   126,  1,     26,     26,2,20070407,1100, -7.6740,  95.0048, 5016, 374.4000,    374.4,  10.1471,  34.8861,2,  34.8883,2,     59.6,2,     60.7,2,    32.54,2,    31.65,2,     0.00,2,     2.14,2,    0.458,2,    0.257,2, -999.000,5,   -999.0,9,   -999.0,9,   7.5770,2,    25.00,   -999.0,9,  -999.00,9,    0.107,2,    0.005,   1.7920,2,   0.0004,     5.59,2,     0.18,    7.580,2,    0.009,   -999.0,9,   -999.0,  -999.00,9,-999.0000,9,-999.0000,9,-999.0000,9,-999.0000,9,-999.0000,9,-999.0000,9,-999.0000,9,-999.0000,9,-999.0000,9,  10.1029,  10.1409,2
  33RR20070322,  I09N,   126,  1,     25,     25,2,20070407,1100, -7.6740,  95.0048, 5016, 423.7000,    423.7,   9.7852,  34.8812,2,  34.8830,2,     60.2,2,     60.4,2,    35.40,2,    32.42,2,     0.00,2,     2.22,2,    0.345,2,    0.195,2, -999.000,5,   -999.0,9,   -999.0,9,-999.0000,9,  -999.00,   -999.0,9,  -999.00,9,    0.082,2,    0.005,   1.8020,2,   0.0004,     6.28,2,     0.17,    7.612,2,    0.008,   -999.0,9,   -999.0,  -999.00,9,-999.0000,9,-999.0000,9,-999.0000,9,-999.0000,9,-999.0000,9,-999.0000,9,-999.0000,9,-999.0000,9,-999.0000,9,   9.7362,   9.7839,2
  33RR20070322,  I09N,   126,  1,     24,     24,2,20070407,1100, -7.6740,  95.0048, 5016, 474.3000,    474.3,   9.3263,  34.8617,2,  34.8639,2,     59.2,2,     59.4,2,    40.36,2,    33.21,2,     0.00,2,     2.31,2,    0.239,2,    0.135,2, -999.000,5,   -999.0,9,   -999.0,9,-999.0000,9,  -999.00,   -999.0,9,  -999.00,9,    0.057,2,    0.004,   1.7920,2,   0.0006,     6.80,2,     0.18,    7.608,2,    0.008,   -999.0,9,   -999.0,  -999.00,9,-999.0000,9,-999.0000,9,-999.0000,9,-999.0000,9,-999.0000,9,-999.0000,9,-999.0000,9,-999.0000,9,-999.0000,9,   9.2729,   9.3129,2
  33RR20070322,  I09N,   126,  1,     23,     23,2,20070407,1100, -7.6740,  95.0048, 5016, 524.2000,    524.2,   9.0032,  34.8495,2,  34.8499,2,     60.2,2,     60.2,2,    44.37,2,    33.57,2,     0.00,2,     2.36,2,    0.192,2,    0.110,2, -999.000,5,   2252.5,2,   2321.4,6,   7.5386,2,    25.00,   -999.0,9,  -999.00,9,    0.042,2,    0.004,   1.8030,2,   0.0005,     7.13,2,     0.20,    7.590,2,    0.008,   -999.0,9,   -999.0,  -999.00,9,-999.0000,9,-999.0000,9,-999.0000,9,-999.0000,9,-999.0000,9,-999.0000,9,-999.0000,9,-999.0000,9,-999.0000,9,   8.9453,   9.0070,2
  33RR20070322,  I09N,   126,  1,     22,     22,2,20070407,1100, -7.6740,  95.0048, 5016, 644.5000,    644.5,   8.0055,  34.8081,2,  34.8091,2,     59.3,2,     58.2,2,    57.58,2,    35.28,2,     0.00,2,     2.55,2,    0.071,2,    0.043,2, -999.000,5,   -999.0,9,   -999.0,9,-999.0000,9,  -999.00,   -999.0,9,  -999.00,9,    0.021,2,    0.003,   1.8350,2,   0.0006,     8.48,2,     0.19,    7.709,2,    0.008,   -999.0,9,   -999.0,  -999.00,9,-999.0000,9,-999.0000,9,-999.0000,9,-999.0000,9,-999.0000,9,-999.0000,9,-999.0000,9,-999.0000,9,-999.0000,9,   7.9385,   8.0073,2
  33RR20070322,  I09N,   126,  1,     21,     21,2,20070407,1100, -7.6740,  95.0048, 5016, 745.0000,    745.0,   7.2529,  34.7794,2,  34.7811,2,     60.7,2,     59.5,2,    68.13,2,    36.06,2,     0.00,2,     2.62,2,    0.047,2,    0.025,2, -999.000,5,   -999.0,9,   -999.0,9,-999.0000,9,  -999.00,   -999.0,9,  -999.00,9,    0.137,2,    0.005,-999.0000,9,-999.0000,  -999.00,9,  -999.00, -999.000,9, -999.000,   -999.0,9,   -999.0,  -999.00,9,-999.0000,9,-999.0000,9,-999.0000,9,-999.0000,9,-999.0000,9,-999.0000,9,-999.0000,9,-999.0000,9,-999.0000,9,   7.1792,   7.2388,2
  33RR20070322,  I09N,   126,  1,     20,     20,2,20070407,1100, -7.6740,  95.0048, 5016, 844.9000,    844.9,   6.6341,  34.7595,2,  34.7587,2,     64.2,2,     63.5,2,    77.94,2,    36.52,2,     0.00,2,     2.67,2,    0.034,2,    0.020,2, -999.000,5,   -999.0,9,   -999.0,9,-999.0000,9,  -999.00,   -999.0,9,  -999.00,9,    0.006,2,    0.003,   1.8460,2,   0.0004,    11.54,2,     0.17,    7.784,2,    0.008,   -999.0,9,   -999.0,  -999.00,9,-999.0000,9,-999.0000,9,-999.0000,9,-999.0000,9,-999.0000,9,-999.0000,9,-999.0000,9,-999.0000,9,-999.0000,9,   6.5539,   6.6335,2
  33RR20070322,  I09N,   126,  1,     19,     19,2,20070407,1100, -7.6740,  95.0048, 5016, 945.1000,    945.1,   5.9099,  34.7273,2,  34.7294,2,     71.2,2,     70.9,2,    87.00,2,    36.63,2,     0.00,2,     2.68,2, -999.000,9, -999.000,9, -999.000,9,   -999.0,9,   -999.0,9,-999.0000,9,  -999.00,   -999.0,9,  -999.00,9, -999.000,9, -999.000,-999.0000,9,-999.0000,  -999.00,9,  -999.00, -999.000,9, -999.000,   -999.0,9,   -999.0,  -999.00,9,-999.0000,9,-999.0000,9,-999.0000,9,-999.0000,9,-999.0000,9,-999.0000,9,-999.0000,9,-999.0000,9,-999.0000,9,   5.8247,   5.9093,2
  33RR20070322,  I09N,   126,  1,     18,     18,2,20070407,1100, -7.6740,  95.0048, 5016,1045.3000,   1045.3,   5.3636,  34.7198,2,  34.7209,2,     77.2,2,     77.4,2,    93.76,2,    36.73,2,     0.00,2,     2.69,2,    0.022,2,    0.011,2, -999.000,5,   2305.5,2,   2369.2,2,   7.5374,2,    25.00,   -999.0,9,  -999.00,9,    0.001,2,    0.004,   1.8850,2,   0.0005,    14.61,2,     0.19,    7.926,2,    0.007,   -999.0,9,   -999.0,  -999.00,9,-999.0000,9,-999.0000,9,-999.0000,9,-999.0000,9,-999.0000,9,-999.0000,9,-999.0000,9,-999.0000,9,-999.0000,9,   5.2729,   5.3611,2
  33RR20070322,  I09N,   126,  1,     17,     17,2,20070407,1100, -7.6740,  95.0048, 5016,1145.5000,   1145.5,   4.9576,  34.7180,2,  34.7197,2,     82.7,2,     81.8,2,    98.22,2,    36.84,2,     0.00,2,     2.69,2, -999.000,9, -999.000,9, -999.000,9,   -999.0,9,   -999.0,9,-999.0000,9,  -999.00,   -999.0,9,  -999.00,9, -999.000,9, -999.000,-999.0000,9,-999.0000,  -999.00,9,  -999.00, -999.000,9, -999.000,   -999.0,9,   -999.0,  -999.00,9,-999.0000,9,-999.0000,9,-999.0000,9,-999.0000,9,-999.0000,9,-999.0000,9,-999.0000,9,-999.0000,9,-999.0000,9,   4.8609,   4.9587,2
  33RR20070322,  I09N,   126,  1,     16,     16,2,20070407,1100, -7.6740,  95.0048, 5016,1246.1000,   1246.1,   4.5455,  34.7285,2,  34.7304,2,     88.3,2,     87.8,2,   103.05,2,    36.73,2,     0.00,2,     2.69,2,    0.012,2,    0.004,2, -999.000,5,   -999.0,9,   -999.0,9,-999.0000,9,  -999.00,   -999.0,9,  -999.00,9, -999.000,9, -999.000,   1.8880,2,   0.0004,    14.33,2,     0.17,    7.978,2,    0.009,   -999.0,9,   -999.0,  -999.00,9,-999.0000,9,-999.0000,9,-999.0000,9,-999.0000,9,-999.0000,9,-999.0000,9,-999.0000,9,-999.0000,9,-999.0000,9,   4.4433,   4.5466,2
  33RR20070322,  I09N,   126,  1,     15,     15,2,20070407,1100, -7.6740,  95.0048, 5016,1347.6000,   1347.6,   4.2274,  34.7409,2,  34.7428,2,     92.3,2,     93.7,2,   105.57,2,    36.62,2,     0.00,2,     2.69,2, -999.000,9, -999.000,9, -999.000,9,   -999.0,9,   -999.0,9,   7.5262,2,    25.00,   -999.0,9,  -999.00,9, -999.000,9, -999.000,   1.9050,2,   0.0004,    13.77,2,     0.17,    8.064,2,    0.009,   -999.0,9,   -999.0,  -999.00,9,-999.0000,9,-999.0000,9,-999.0000,9,-999.0000,9,-999.0000,9,-999.0000,9,-999.0000,9,-999.0000,9,-999.0000,9,   4.1191,   4.2282,2
  33RR20070322,  I09N,   126,  1,     14,     14,2,20070407,1100, -7.6740,  95.0048, 5016,1447.0000,   1447.0,   3.8254,  34.7466,2,  34.7481,2,     99.9,2,    102.2,2,   108.09,2,    36.42,2,     0.00,2,     2.66,2,    0.007,2,    0.002,2, -999.000,5,   -999.0,9,   -999.0,9,-999.0000,9,  -999.00,   -999.0,9,  -999.00,9, -999.000,9, -999.000,   1.9120,2,   0.0004,    13.65,2,     0.17,    8.149,2,    0.009,   -999.0,9,   -999.0,  -999.00,9,-999.0000,9,-999.0000,9,-999.0000,9,-999.0000,9,-999.0000,9,-999.0000,9,-999.0000,9,-999.0000,9,-999.0000,9,   3.7124,   3.8256,2
  33RR20070322,  I09N,   126,  1,     13,     13,2,20070407,1100, -7.6740,  95.0048, 5016,1547.3000,   1547.3,   3.5283,  34.7531,2,  34.7540,2,    107.0,2,    109.3,2,   111.20,2,    36.15,2,     0.00,2,     2.64,2, -999.000,9, -999.000,9, -999.000,9,   -999.0,9,   -999.0,9,-999.0000,9,  -999.00,   -999.0,9,  -999.00,9, -999.000,9, -999.000,   1.8870,2,   0.0004,    13.62,2,     0.18,    8.058,2,    0.009,   -999.0,9,   -999.0,  -999.00,9,-999.0000,9,-999.0000,9,-999.0000,9,-999.0000,9,-999.0000,9,-999.0000,9,-999.0000,9,-999.0000,9,-999.0000,9,   3.4098,   3.5285,2
  33RR20070322,  I09N,   126,  1,     12,     12,2,20070407,1100, -7.6740,  95.0048, 5016,1749.4000,   1749.4,   3.0619,  34.7629,2,  34.7640,2,    118.8,2,    120.5,2,   115.48,2,    35.68,2,     0.00,2,     2.59,2,    0.006,2,    0.002,2, -999.000,5,   -999.0,9,   -999.0,9,   7.6128,2,    25.00,   -999.0,9,  -999.00,9, -999.000,9, -999.000,   1.8970,2,   0.0004,    13.61,2,     0.18,    8.098,2,    0.009,   -999.0,9,   -999.0,  -999.00,9,-999.0000,9,-999.0000,9,-999.0000,9,-999.0000,9,-999.0000,9,-999.0000,9,-999.0000,9,-999.0000,9,-999.0000,9,   2.9314,   3.0618,2
  33RR20070322,  I09N,   126,  1,     11,     11,2,20070407,1100, -7.6740,  95.0048, 5016,1951.1000,   1951.1,   2.5992,  34.7499,2,  34.7520,2,    132.7,2,    134.0,2,   119.19,2,    35.16,2,     0.00,2,     2.54,2, -999.000,9, -999.000,9, -999.000,9,   -999.0,9,   -999.0,9,-999.0000,9,  -999.00,   -999.0,9,  -999.00,9, -999.000,9, -999.000,   1.8870,2,   0.0004,    14.08,2,     0.17,    8.113,2,    0.009,   -999.0,9,   -999.0,  -999.00,9,-999.0000,9,-999.0000,9,-999.0000,9,-999.0000,9,-999.0000,9,-999.0000,9,-999.0000,9,-999.0000,9,-999.0000,9,   2.4576,   2.5997,2
  33RR20070322,  I09N,   126,  1,     10,     10,2,20070407,1100, -7.6740,  95.0048, 5016,2112.4000,   2112.4,   2.3404,  34.7468,2,  34.7483,2,    141.9,2,    142.0,2,   121.92,2,    34.90,2,     0.00,2,     2.50,2,    0.007,2,    0.002,2, -999.000,5,   -999.0,9,   -999.0,9,-999.0000,9,  -999.00,   -999.0,9,  -999.00,9, -999.000,9, -999.000,   1.9160,2,   0.0004,    14.08,2,     0.17,    8.225,2,    0.009,   -999.0,9,   -999.0,  -999.00,9,-999.0000,9,-999.0000,9,-999.0000,9,-999.0000,9,-999.0000,9,-999.0000,9,-999.0000,9,-999.0000,9,-999.0000,9,   2.1886,   2.3404,2
  33RR20070322,  I09N,   126,  1,      9,      9,2,20070407,1100, -7.6740,  95.0048, 5016,2365.2000,   2365.2,   2.0856,  34.7413,2,  34.7433,2,    151.1,2,    150.7,2,   123.68,2,    34.59,2,     0.00,2,     2.46,2, -999.000,9, -999.000,9, -999.000,9,   -999.0,9,   -999.0,9,-999.0000,9,  -999.00,   -999.0,9,  -999.00,9, -999.000,9, -999.000,-999.0000,9,-999.0000,  -999.00,9,  -999.00, -999.000,9, -999.000,   -999.0,9,   -999.0,  -999.00,9,-999.0000,9,-999.0000,9,-999.0000,9,-999.0000,9,-999.0000,9,-999.0000,9,-999.0000,9,-999.0000,9,-999.0000,9,   1.9156,   2.0853,2
  33RR20070322,  I09N,   126,  1,      8,      8,2,20070407,1100, -7.6740,  95.0048, 5016,2617.9000,   2617.9,   1.8777,  34.7358,2,  34.7373,2,    157.9,2,    157.2,2,   126.42,2,    34.28,2,     0.00,2,     2.42,2,    0.006,2,    0.002,2, -999.000,5,   2308.0,2,   2402.6,6,   7.5900,2,    25.00,   -999.0,9,  -999.00,9, -999.000,9, -999.000,   1.9210,2,   0.0004,    13.16,2,     0.22,    8.247,2,    0.007,   -999.0,9,   -999.0,  -999.00,9,-999.0000,9,-999.0000,9,-999.0000,9,-999.0000,9,-999.0000,9,-999.0000,9,-999.0000,9,-999.0000,9,-999.0000,9,   1.6885,   1.8781,2
  33RR20070322,  I09N,   126,  1,      7,      7,2,20070407,1100, -7.6740,  95.0048, 5016,2870.6000,   2870.6,   1.7388,  34.7317,2,  34.7335,2,    163.3,2,    162.1,2,   128.18,2,    34.06,2,     0.00,2,     2.40,2, -999.000,9, -999.000,9, -999.000,9,   -999.0,9,   -999.0,9,-999.0000,9,  -999.00,   -999.0,9,  -999.00,9, -999.000,9, -999.000,-999.0000,9,-999.0000,  -999.00,9,  -999.00, -999.000,9, -999.000,   -999.0,9,   -999.0,  -999.00,9,-999.0000,9,-999.0000,9,-999.0000,9,-999.0000,9,-999.0000,9,-999.0000,9,-999.0000,9,-999.0000,9,-999.0000,9,   1.5288,   1.7389,2
  33RR20070322,  I09N,   126,  1,      6,      6,2,20070407,1100, -7.6740,  95.0048, 5016,3124.4000,   3124.4,   1.6017,  34.7277,2,  34.7290,2,    168.0,2,    166.8,2,   130.13,2,    33.86,2,     0.00,2,     2.38,2,    0.005,2,    0.001,2, -999.000,5,   -999.0,9,   -999.0,9,-999.0000,9,  -999.00,   -999.0,9,  -999.00,9, -999.000,9, -999.000,   1.9500,3,   0.0005,    13.17,2,     0.21,    8.348,2,    0.007,   -999.0,9,   -999.0,  -999.00,9,-999.0000,9,-999.0000,9,-999.0000,9,-999.0000,9,-999.0000,9,-999.0000,9,-999.0000,9,-999.0000,9,-999.0000,9,   1.3703,   1.6016,2
  33RR20070322,  I09N,   126,  1,      5,      5,2,20070407,1100, -7.6740,  95.0048, 5016,3530.2000,   3530.2,   1.3504,  34.7200,2,  34.7227,2,    179.3,2,    179.8,2,   128.95,2,    33.34,2,     0.00,2,     2.34,2, -999.000,9, -999.000,9, -999.000,9,   -999.0,9,   -999.0,9,-999.0000,9,  -999.00,   -999.0,9,  -999.00,9, -999.000,9, -999.000,   1.8900,2,   0.0004,    12.54,2,     0.20,    8.188,2,    0.007,   -999.0,9,   -999.0,  -999.00,9,-999.0000,9,-999.0000,9,-999.0000,9,-999.0000,9,-999.0000,9,-999.0000,9,-999.0000,9,-999.0000,9,-999.0000,9,   1.0847,   1.3497,2