BOTTLE,20150630SIOCCHRJL
EXPOCODE,SECT_ID,STNNBR,CASTNO,SAMPNO,BTLNBR,BTLNBR_FLAG_W,DATE,TIME,LATITUDE,LONGITUDE,DEPTH,CTDRAW,CTDPRS,CTDTMP,CTDSAL,CTDSAL_FLAG_W,SALNTY,SALNTY_FLAG_W,CTDOXY,CTDOXY_FLAG_W,OXYGEN,OXYGEN_FLAG_W,SILCAT,SILCAT_FLAG_W,NITRAT,NITRAT_FLAG_W,NITRIT,NITRIT_FLAG_W,PHSPHT,PHSPHT_FLAG_W,CFC-11,CFC-11_FLAG_W,CFC-12,CFC-12_FLAG_W,CFC113,CFC113_FLAG_W,TCARBN,TCARBN_FLAG_W,ALKALI,ALKALI_FLAG_W,PH_SWS,PH_SWS_FLAG_W,PH_TMP,DOC,DOC_FLAG_W,TDN,TDN_FLAG_W,TRITUM,TRITUM_FLAG_W,TRITER,HELIUM,HELIUM_FLAG_W,HELIER,DELHE3,DELHE3_FLAG_W,DELHER,NEON,NEON_FLAG_W,NEONER,DELC14,DELC14_FLAG_W,C14ERR,DELC13,DELC13_FLAG_W,CDOM325,CDOM325_FLAG_W,CDOM340,CDOM340_FLAG_W,CDOM380,CDOM380_FLAG_W,CDOM412,CDOM412_FLAG_W,CDOM443,CDOM443_FLAG_W,CDOM490,CDOM490_FLAG_W,CDOM555,CDOM555_FLAG_W,CDOMSL,CDOMSL_FLAG_W,CDOMSN,CDOMSN_FLAG_W,THETA,SBE35,SBE35_FLAG_W
,,,,,,,,,,,METERS,,DBAR,ITS-90,PSS-78,,PSS-78,,UMOL/KG,,UMOL/KG,,UMOL/KG,,UMOL/KG,,UMOL/KG,,UMOL/KG,,PMOL/KG,,PMOL/KG,,PMOL/KG,,UMOL/KG,,UMOL/KG,,,,DEG C,UMOL/KG,,UMOL/KG,,TU,,TU,NMOL/KG,,NMOL/KG,PERCNT,,PERCNT,NMOL/KG,,NMOL/KG,/MILLE,,/MILLE,/MILLE,,1/M,,1/M,,1/M,,1/M,,1/M,,1/M,,1/M,,1/NM,,1/NM,,DEG C,ITS-90,
  33RR20070322,  I09N,   187,  2,     36,     38,2,20070424,0528, 12.1875,  88.1815, 3205,   1.8000,      1.8,  30.6001,  32.4580,2,  32.4711,2,    197.9,2,    197.7,2,     2.42,2,     0.00,2,     0.00,2,     0.01,2,    1.561,2,    1.005,2, -999.000,5,   1879.8,6,   2185.1,2,   8.0970,3,    25.00,   -999.0,9,  -999.00,9, -999.000,9, -999.000,-999.0000,9,-999.0000,  -999.00,9,  -999.00, -999.000,9, -999.000,   -999.0,9,   -999.0,  -999.00,9,-999.0000,9,-999.0000,9,-999.0000,9,-999.0000,9,-999.0000,9,-999.0000,9,-999.0000,9,-999.0000,9,-999.0000,9,  30.5996,  30.5658,2
  33RR20070322,  I09N,   187,  2,     35,     35,2,20070424,0528, 12.1875,  88.1815, 3205,  38.5000,     38.5,  27.2824,  32.7274,2,  32.7368,2,    208.5,2,    209.4,2,     2.01,2,     0.00,2,     0.00,2,     0.02,2,    1.696,2,    1.085,2, -999.000,5,   1886.5,2,   2187.8,6,   8.0890,2,    25.00,   -999.0,9,  -999.00,9, -999.000,9, -999.000,-999.0000,9,-999.0000,  -999.00,9,  -999.00, -999.000,9, -999.000,   -999.0,9,   -999.0,  -999.00,9,-999.0000,9,-999.0000,9,-999.0000,9,-999.0000,9,-999.0000,9,-999.0000,9,-999.0000,9,-999.0000,9,-999.0000,9,  27.2736,  27.2528,2
  33RR20070322,  I09N,   187,  2,     34,   9419,2,20070424,0528, 12.1875,  88.1815, 3205,  74.6000,     74.6,  25.2491,  34.7234,2,  34.6763,2,     61.8,2,     46.7,2,     8.65,2,    16.32,2,     0.20,2,     1.25,2, -999.000,9, -999.000,9, -999.000,9,   -999.0,9,   -999.0,9,-999.0000,9,  -999.00,   -999.0,9,  -999.00,9, -999.000,9, -999.000,-999.0000,9,-999.0000,  -999.00,9,  -999.00, -999.000,9, -999.000,   -999.0,9,   -999.0,  -999.00,9,-999.0000,9,-999.0000,9,-999.0000,9,-999.0000,9,-999.0000,9,-999.0000,9,-999.0000,9,-999.0000,9,-999.0000,9,  25.2328,  25.2297,2
  33RR20070322,  I09N,   187,  2,     33,     33,2,20070424,0528, 12.1875,  88.1815, 3205,  94.2000,     94.2,  21.2123,  34.9089,2,  34.9065,2,     14.1,2,     12.1,2,    16.67,2,    24.50,2,     0.03,2,     1.82,2,    1.185,2,    0.737,2, -999.000,5,   2165.2,2,   2284.5,2,   7.6541,2,    25.00,   -999.0,9,  -999.00,9, -999.000,9, -999.000,-999.0000,9,-999.0000,  -999.00,9,  -999.00, -999.000,9, -999.000,   -999.0,9,   -999.0,  -999.00,9,-999.0000,9,-999.0000,9,-999.0000,9,-999.0000,9,-999.0000,9,-999.0000,9,-999.0000,9,-999.0000,9,-999.0000,9,  21.1942,  21.2496,2
  33RR20070322,  I09N,   187,  2,     32,     37,2,20070424,0528, 12.1875,  88.1815, 3205, 123.5000,    123.5,  17.5944,  34.8145,2,  34.8133,2,     15.1,2,     15.1,2,    25.66,2,    27.13,2,     0.01,2,     2.01,2, -999.000,9, -999.000,9, -999.000,9,   -999.0,9,   -999.0,9,-999.0000,9,  -999.00,   -999.0,9,  -999.00,9, -999.000,9, -999.000,-999.0000,9,-999.0000,  -999.00,9,  -999.00, -999.000,9, -999.000,   -999.0,9,   -999.0,  -999.00,9,-999.0000,9,-999.0000,9,-999.0000,9,-999.0000,9,-999.0000,9,-999.0000,9,-999.0000,9,-999.0000,9,-999.0000,9,  17.5736,  17.6044,2
  33RR20070322,  I09N,   187,  2,     31,     31,2,20070424,0528, 12.1875,  88.1815, 3205, 142.5000,    142.5,  16.5341,  34.8508,2,  34.8505,2,     15.1,2,     13.9,2,    27.81,2,    28.30,2,     0.01,2,     2.09,2,    0.776,2,    0.470,2, -999.000,5,   -999.0,9,   -999.0,9,-999.0000,9,  -999.00,   -999.0,9,  -999.00,9, -999.000,9, -999.000,-999.0000,9,-999.0000,  -999.00,9,  -999.00, -999.000,9, -999.000,   -999.0,9,   -999.0,  -999.00,9,-999.0000,9,-999.0000,9,-999.0000,9,-999.0000,9,-999.0000,9,-999.0000,9,-999.0000,9,-999.0000,9,-999.0000,9,  16.5111,  16.5161,2
  33RR20070322,  I09N,   187,  2,     30,     30,2,20070424,0528, 12.1875,  88.1815, 3205, 173.1000,    173.1,  15.1083,  34.9050,2,  34.9059,2,     13.6,2,     12.2,2,    30.35,2,    29.99,2,     0.00,2,     2.20,2,    0.668,2,    0.400,2, -999.000,5,   -999.0,9,   -999.0,9,-999.0000,9,  -999.00,   -999.0,9,  -999.00,9, -999.000,9, -999.000,-999.0000,9,-999.0000,  -999.00,9,  -999.00, -999.000,9, -999.000,   -999.0,9,   -999.0,  -999.00,9,-999.0000,9,-999.0000,9,-999.0000,9,-999.0000,9,-999.0000,9,-999.0000,9,-999.0000,9,-999.0000,9,-999.0000,9,  15.0820,  15.0860,2
  33RR20070322,  I09N,   187,  2,     29,     29,2,20070424,0528, 12.1875,  88.1815, 3205, 223.7000,    223.7,  13.0216,  34.9936,2,  34.9894,2,      7.9,2,      6.3,2,    34.46,2,    32.66,2,     0.00,2,     2.37,2,    0.468,2,    0.277,2, -999.000,5,   -999.0,9,   -999.0,9,-999.0000,9,  -999.00,   -999.0,9,  -999.00,9, -999.000,9, -999.000,-999.0000,9,-999.0000,  -999.00,9,  -999.00, -999.000,9, -999.000,   -999.0,9,   -999.0,  -999.00,9,-999.0000,9,-999.0000,9,-999.0000,9,-999.0000,9,-999.0000,9,-999.0000,9,-999.0000,9,-999.0000,9,-999.0000,9,  12.9908,  13.0148,2
  33RR20070322,  I09N,   187,  2,     28,     28,2,20070424,0528, 12.1875,  88.1815, 3205, 273.8000,    273.8,  11.8060,  35.0244,2,  35.0232,2,      5.3,2,      4.6,2,    37.58,2,    34.24,2,     0.00,2,     2.45,2,    0.341,2,    0.196,2, -999.000,5,   -999.0,9,   -999.0,9,-999.0000,9,  -999.00,   -999.0,9,  -999.00,9, -999.000,9, -999.000,-999.0000,9,-999.0000,  -999.00,9,  -999.00, -999.000,9, -999.000,   -999.0,9,   -999.0,  -999.00,9,-999.0000,9,-999.0000,9,-999.0000,9,-999.0000,9,-999.0000,9,-999.0000,9,-999.0000,9,-999.0000,9,-999.0000,9,  11.7705,  11.8346,2
  33RR20070322,  I09N,   187,  2,     27,     27,2,20070424,0528, 12.1875,  88.1815, 3205, 323.9000,    323.9,  11.2147,  35.0293,2,  35.0287,2,      5.9,2,      6.3,2,    40.13,2,    35.00,2,     0.00,2,     2.49,2,    0.293,2,    0.167,2, -999.000,5,   -999.0,9,   -999.0,9,-999.0000,9,  -999.00,   -999.0,9,  -999.00,9, -999.000,9, -999.000,-999.0000,9,-999.0000,  -999.00,9,  -999.00, -999.000,9, -999.000,   -999.0,9,   -999.0,  -999.00,9,-999.0000,9,-999.0000,9,-999.0000,9,-999.0000,9,-999.0000,9,-999.0000,9,-999.0000,9,-999.0000,9,-999.0000,9,  11.1740,  11.2112,2
  33RR20070322,  I09N,   187,  2,     26,     26,2,20070424,0528, 12.1875,  88.1815, 3205, 374.4000,    374.4,  10.7174,  35.0334,2,  35.0311,2,      7.3,2,      7.7,2,    42.47,2,    35.71,2,     0.00,2,     2.53,2,    0.232,2,    0.136,2, -999.000,5,   -999.0,9,   -999.0,9,-999.0000,9,  -999.00,   -999.0,9,  -999.00,9, -999.000,9, -999.000,-999.0000,9,-999.0000,  -999.00,9,  -999.00, -999.000,9, -999.000,   -999.0,9,   -999.0,  -999.00,9,-999.0000,9,-999.0000,9,-999.0000,9,-999.0000,9,-999.0000,9,-999.0000,9,-999.0000,9,-999.0000,9,-999.0000,9,  10.6716,  10.7226,2
  33RR20070322,  I09N,   187,  2,     25,     25,2,20070424,0528, 12.1875,  88.1815, 3205, 423.8000,    423.8,  10.2533,  35.0294,2,  35.0297,2,      7.9,2,      9.2,2,    45.99,2,    36.27,2,     0.00,2,     2.58,2,    0.190,2,    0.109,2, -999.000,5,   -999.0,9,   -999.0,9,-999.0000,9,  -999.00,   -999.0,9,  -999.00,9, -999.000,9, -999.000,-999.0000,9,-999.0000,  -999.00,9,  -999.00, -999.000,9, -999.000,   -999.0,9,   -999.0,  -999.00,9,-999.0000,9,-999.0000,9,-999.0000,9,-999.0000,9,-999.0000,9,-999.0000,9,-999.0000,9,-999.0000,9,-999.0000,9,  10.2028,  10.2570,2
  33RR20070322,  I09N,   187,  2,     24,     24,2,20070424,0528, 12.1875,  88.1815, 3205, 474.3000,    474.3,   9.9002,  35.0271,2,  35.0277,2,      8.6,2,      8.3,2,    49.33,2,    36.83,2,     0.00,2,     2.64,2,    0.128,2,    0.074,2, -999.000,5,   -999.0,9,   -999.0,9,-999.0000,9,  -999.00,   -999.0,9,  -999.00,9, -999.000,9, -999.000,-999.0000,9,-999.0000,  -999.00,9,  -999.00, -999.000,9, -999.000,   -999.0,9,   -999.0,  -999.00,9,-999.0000,9,-999.0000,9,-999.0000,9,-999.0000,9,-999.0000,9,-999.0000,9,-999.0000,9,-999.0000,9,-999.0000,9,   9.8447,   9.8986,2
  33RR20070322,  I09N,   187,  2,     23,     23,2,20070424,0528, 12.1875,  88.1815, 3205, 523.3000,    523.3,   9.5749,  35.0231,2,  35.0219,2,      8.8,2,     11.1,2,    52.66,2,    37.12,2,     0.00,2,     2.67,2,    0.099,2,    0.059,2, -999.000,5,   2288.0,2,   2330.8,2,   7.4300,2,    25.00,   -999.0,9,  -999.00,9, -999.000,9, -999.000,-999.0000,9,-999.0000,  -999.00,9,  -999.00, -999.000,9, -999.000,   -999.0,9,   -999.0,  -999.00,9,-999.0000,9,-999.0000,9,-999.0000,9,-999.0000,9,-999.0000,9,-999.0000,9,-999.0000,9,-999.0000,9,-999.0000,9,   9.5148,   9.5807,2
  33RR20070322,  I09N,   187,  2,     22,     22,2,20070424,0528, 12.1875,  88.1815, 3205, 644.4000,    644.4,   8.8204,  35.0009,2,  35.0010,2,     17.5,2,     18.0,2,    60.52,2,    37.52,2,     0.00,2,     2.69,2,    0.063,2,    0.038,2, -999.000,5,   -999.0,9,   -999.0,9,-999.0000,9,  -999.00,   -999.0,9,  -999.00,9, -999.000,9, -999.000,-999.0000,9,-999.0000,  -999.00,9,  -999.00, -999.000,9, -999.000,   -999.0,9,   -999.0,  -999.00,9,-999.0000,9,-999.0000,9,-999.0000,9,-999.0000,9,-999.0000,9,-999.0000,9,-999.0000,9,-999.0000,9,-999.0000,9,   8.7494,   8.8190,2
  33RR20070322,  I09N,   187,  2,     21,     21,2,20070424,0528, 12.1875,  88.1815, 3205, 745.0000,    745.0,   8.1419,  34.9800,2,  34.9825,2,     30.3,2,     27.4,2,    67.60,2,    37.61,2,     0.00,2,     2.71,2,    0.048,2,    0.030,2, -999.000,5,   -999.0,9,   -999.0,9,-999.0000,9,  -999.00,   -999.0,9,  -999.00,9, -999.000,9, -999.000,-999.0000,9,-999.0000,  -999.00,9,  -999.00, -999.000,9, -999.000,   -999.0,9,   -999.0,  -999.00,9,-999.0000,9,-999.0000,9,-999.0000,9,-999.0000,9,-999.0000,9,-999.0000,9,-999.0000,9,-999.0000,9,-999.0000,9,   8.0631,   8.1252,2
  33RR20070322,  I09N,   187,  2,     20,     20,2,20070424,0528, 12.1875,  88.1815, 3205, 844.7000,    844.7,   7.5904,  34.9688,2,  34.9685,2,     30.7,2,     31.0,2,    73.51,2,    37.91,2,     0.00,2,     2.76,2,    0.027,2,    0.016,2, -999.000,5,   -999.0,9,   -999.0,9,-999.0000,9,  -999.00,   -999.0,9,  -999.00,9, -999.000,9, -999.000,-999.0000,9,-999.0000,  -999.00,9,  -999.00, -999.000,9, -999.000,   -999.0,9,   -999.0,  -999.00,9,-999.0000,9,-999.0000,9,-999.0000,9,-999.0000,9,-999.0000,9,-999.0000,9,-999.0000,9,-999.0000,9,-999.0000,9,   7.5039,   7.5974,2
  33RR20070322,  I09N,   187,  2,     19,     19,2,20070424,0528, 12.1875,  88.1815, 3205, 945.3000,    945.3,   7.0178,  34.9471,2,  34.9457,2,     36.3,2,     36.7,2,    80.02,2,    38.15,2,     0.00,2,     2.77,2,    0.016,2,    0.009,2, -999.000,5,   -999.0,9,   -999.0,9,-999.0000,9,  -999.00,   -999.0,9,  -999.00,9, -999.000,9, -999.000,-999.0000,9,-999.0000,  -999.00,9,  -999.00, -999.000,9, -999.000,   -999.0,9,   -999.0,  -999.00,9,-999.0000,9,-999.0000,9,-999.0000,9,-999.0000,9,-999.0000,9,-999.0000,9,-999.0000,9,-999.0000,9,-999.0000,9,   6.9244,   7.0092,2
  33RR20070322,  I09N,   187,  2,     18,     18,2,20070424,0528, 12.1875,  88.1815, 3205,1046.5000,   1046.5,   6.3751,  34.9223,2,  34.9219,2,     44.4,2,     45.1,2,    86.94,2,    38.14,2,     0.00,2,     2.78,2, -999.000,9, -999.000,9, -999.000,9,   2317.2,2,   2365.3,2,   7.4582,2,    25.00,   -999.0,9,  -999.00,9, -999.000,9, -999.000,-999.0000,9,-999.0000,  -999.00,9,  -999.00, -999.000,9, -999.000,   -999.0,9,   -999.0,  -999.00,9,-999.0000,9,-999.0000,9,-999.0000,9,-999.0000,9,-999.0000,9,-999.0000,9,-999.0000,9,-999.0000,9,-999.0000,9,   6.2761,   6.3743,2
  33RR20070322,  I09N,   187,  2,     17,     17,2,20070424,0528, 12.1875,  88.1815, 3205,1146.1000,   1146.1,   5.9103,  34.9040,2,  34.9042,2,     52.4,2,     53.0,2,    92.49,2,    38.12,2,     0.00,2,     2.77,2,    0.009,2,    0.004,2, -999.000,5,   -999.0,9,   -999.0,9,-999.0000,9,  -999.00,   -999.0,9,  -999.00,9, -999.000,9, -999.000,-999.0000,9,-999.0000,  -999.00,9,  -999.00, -999.000,9, -999.000,   -999.0,9,   -999.0,  -999.00,9,-999.0000,9,-999.0000,9,-999.0000,9,-999.0000,9,-999.0000,9,-999.0000,9,-999.0000,9,-999.0000,9,-999.0000,9,   5.8051,   5.9150,2
  33RR20070322,  I09N,   187,  2,     16,     16,2,20070424,0528, 12.1875,  88.1815, 3205,1245.5000,   1245.5,   5.5263,  34.8891,2,  34.8890,2,     59.0,2,     61.0,2,    96.25,2,    37.90,2,     0.00,2,     2.74,2, -999.000,9, -999.000,9, -999.000,9,   -999.0,9,   -999.0,9,-999.0000,9,  -999.00,   -999.0,9,  -999.00,9, -999.000,9, -999.000,-999.0000,9,-999.0000,  -999.00,9,  -999.00, -999.000,9, -999.000,   -999.0,9,   -999.0,  -999.00,9,-999.0000,9,-999.0000,9,-999.0000,9,-999.0000,9,-999.0000,9,-999.0000,9,-999.0000,9,-999.0000,9,-999.0000,9,   5.4147,   5.5283,2
  33RR20070322,  I09N,   187,  2,     15,     15,2,20070424,0528, 12.1875,  88.1815, 3205,1346.4000,   1346.4,   5.1276,  34.8735,2,  34.8743,2,     69.1,2,     69.3,2,   100.62,2,    37.62,2,     0.00,2,     2.72,2,    0.010,2,    0.006,2, -999.000,5,   -999.0,9,   -999.0,9,-999.0000,9,  -999.00,   -999.0,9,  -999.00,9, -999.000,9, -999.000,-999.0000,9,-999.0000,  -999.00,9,  -999.00, -999.000,9, -999.000,   -999.0,9,   -999.0,  -999.00,9,-999.0000,9,-999.0000,9,-999.0000,9,-999.0000,9,-999.0000,9,-999.0000,9,-999.0000,9,-999.0000,9,-999.0000,9,   5.0100,   5.1237,2
  33RR20070322,  I09N,   187,  2,     14,     14,2,20070424,0528, 12.1875,  88.1815, 3205,1447.1000,   1447.1,   4.7433,  34.8594,2,  34.8599,2,     75.2,2,     74.6,2,   104.99,2,    37.71,2,     0.00,2,     2.72,2, -999.000,9, -999.000,9, -999.000,9,   -999.0,9,   -999.0,9,-999.0000,9,  -999.00,   -999.0,9,  -999.00,9, -999.000,9, -999.000,-999.0000,9,-999.0000,  -999.00,9,  -999.00, -999.000,9, -999.000,   -999.0,9,   -999.0,  -999.00,9,-999.0000,9,-999.0000,9,-999.0000,9,-999.0000,9,-999.0000,9,-999.0000,9,-999.0000,9,-999.0000,9,-999.0000,9,   4.6201,   4.7423,2
  33RR20070322,  I09N,   187,  2,     13,     13,2,20070424,0528, 12.1875,  88.1815, 3205,1548.6000,   1548.6,   4.3130,  34.8433,2,  34.8430,2,     81.7,2,     81.9,2,   110.16,2,    37.64,2,     0.00,2,     2.71,2,    0.004,2,    0.003,2, -999.000,5,   -999.0,9,   -999.0,9,-999.0000,9,  -999.00,   -999.0,9,  -999.00,9, -999.000,9, -999.000,-999.0000,9,-999.0000,  -999.00,9,  -999.00, -999.000,9, -999.000,   -999.0,9,   -999.0,  -999.00,9,-999.0000,9,-999.0000,9,-999.0000,9,-999.0000,9,-999.0000,9,-999.0000,9,-999.0000,9,-999.0000,9,-999.0000,9,   4.1850,   4.3077,2
  33RR20070322,  I09N,   187,  2,     12,     12,2,20070424,0528, 12.1875,  88.1815, 3205,1647.7000,   1647.7,   3.8678,  34.8266,2,  34.8271,2,     88.6,2,     89.1,2,   115.35,2,    37.52,2,     0.00,2,     2.70,2, -999.000,9, -999.000,9, -999.000,9,   -999.0,9,   -999.0,9,-999.0000,9,  -999.00,   -999.0,9,  -999.00,9, -999.000,9, -999.000,-999.0000,9,-999.0000,  -999.00,9,  -999.00, -999.000,9, -999.000,   -999.0,9,   -999.0,  -999.00,9,-999.0000,9,-999.0000,9,-999.0000,9,-999.0000,9,-999.0000,9,-999.0000,9,-999.0000,9,-999.0000,9,-999.0000,9,   3.7360,   3.8646,2
  33RR20070322,  I09N,   187,  2,     11,     11,2,20070424,0528, 12.1875,  88.1815, 3205,1750.1000,   1750.1,   3.4736,  34.8101,2,  34.8104,2,     97.7,2,     97.8,2,   119.54,2,    37.19,2,     0.00,2,     2.68,2,    0.004,2,    0.002,2, -999.000,5,   -999.0,9,   -999.0,9,-999.0000,9,  -999.00,   -999.0,9,  -999.00,9, -999.000,9, -999.000,-999.0000,9,-999.0000,  -999.00,9,  -999.00, -999.000,9, -999.000,   -999.0,9,   -999.0,  -999.00,9,-999.0000,9,-999.0000,9,-999.0000,9,-999.0000,9,-999.0000,9,-999.0000,9,-999.0000,9,-999.0000,9,-999.0000,9,   3.3375,   3.4659,2
  33RR20070322,  I09N,   187,  2,     10,     10,2,20070424,0528, 12.1875,  88.1815, 3205,1850.6000,   1850.6,   3.1476,  34.7967,2,  34.7964,2,    104.2,2,    104.2,2,   123.75,2,    37.02,2,     0.00,2,     2.66,2, -999.000,9, -999.000,9, -999.000,9,   2332.5,2,   2401.7,2,   7.5032,2,    25.00,   -999.0,9,  -999.00,9, -999.000,9, -999.000,-999.0000,9,-999.0000,  -999.00,9,  -999.00, -999.000,9, -999.000,   -999.0,9,   -999.0,  -999.00,9,-999.0000,9,-999.0000,9,-999.0000,9,-999.0000,9,-999.0000,9,-999.0000,9,-999.0000,9,-999.0000,9,-999.0000,9,   3.0069,   3.1466,2
  33RR20070322,  I09N,   187,  2,      9,      9,2,20070424,0528, 12.1875,  88.1815, 3205,1950.1000,   1950.1,   2.8855,  34.7853,2,  34.7852,2,    110.2,2,    110.9,2,   126.75,2,    36.79,2,     0.00,2,     2.63,2,    0.006,2,    0.003,2, -999.000,5,   -999.0,9,   -999.0,9,-999.0000,9,  -999.00,   -999.0,9,  -999.00,9, -999.000,9, -999.000,-999.0000,9,-999.0000,  -999.00,9,  -999.00, -999.000,9, -999.000,   -999.0,9,   -999.0,  -999.00,9,-999.0000,9,-999.0000,9,-999.0000,9,-999.0000,9,-999.0000,9,-999.0000,9,-999.0000,9,-999.0000,9,-999.0000,9,   2.7396,   2.8873,2
  33RR20070322,  I09N,   187,  2,      8,      8,2,20070424,0528, 12.1875,  88.1815, 3205,2112.5000,   2112.5,   2.5891,  34.7717,2,  34.7722,2,    117.5,2,    116.7,2,   130.16,2,    36.57,2,     0.00,2,     2.61,2, -999.000,9, -999.000,9, -999.000,9,   -999.0,9,   -999.0,9,-999.0000,9,  -999.00,   -999.0,9,  -999.00,9, -999.000,9, -999.000,-999.0000,9,-999.0000,  -999.00,9,  -999.00, -999.000,9, -999.000,   -999.0,9,   -999.0,  -999.00,9,-999.0000,9,-999.0000,9,-999.0000,9,-999.0000,9,-999.0000,9,-999.0000,9,-999.0000,9,-999.0000,9,-999.0000,9,   2.4332,   2.5922,2
  33RR20070322,  I09N,   187,  2,      7,      7,2,20070424,0528, 12.1875,  88.1815, 3205,2364.9000,   2364.9,   2.2365,  34.7563,2,  34.7571,2,    124.9,2,    125.1,2,   136.20,2,    36.30,2,     0.00,2,     2.58,2,    0.006,2,    0.003,2, -999.000,5,   -999.0,9,   -999.0,9,-999.0000,9,  -999.00,   -999.0,9,  -999.00,9, -999.000,9, -999.000,-999.0000,9,-999.0000,  -999.00,9,  -999.00, -999.000,9, -999.000,   -999.0,9,   -999.0,  -999.00,9,-999.0000,9,-999.0000,9,-999.0000,9,-999.0000,9,-999.0000,9,-999.0000,9,-999.0000,9,-999.0000,9,-999.0000,9,   2.0638,   2.2365,2
  33RR20070322,  I09N,   187,  2,      6,      6,2,20070424,0528, 12.1875,  88.1815, 3205,2617.9000,   2617.9,   1.9832,  34.7455,2,  34.7449,2,    132.3,2,    132.5,2,   139.21,2,    36.02,2,     0.00,2,     2.54,2, -999.000,9, -999.000,9, -999.000,9,   2338.2,2,   2420.2,6,   7.5593,2,    25.00,   -999.0,9,  -999.00,9, -999.000,9, -999.000,-999.0000,9,-999.0000,  -999.00,9,  -999.00, -999.000,9, -999.000,   -999.0,9,   -999.0,  -999.00,9,-999.0000,9,-999.0000,9,-999.0000,9,-999.0000,9,-999.0000,9,-999.0000,9,-999.0000,9,-999.0000,9,-999.0000,9,   1.7920,   1.9802,2
  33RR20070322,  I09N,   187,  2,      5,      5,2,20070424,0528, 12.1875,  88.1815, 3205,2870.7000,   2870.7,   1.7936,  34.7375,2,  34.7380,2,    138.7,2,    139.3,2,   141.23,2,    35.75,2,     0.00,2,     2.51,2, -999.000,9, -999.000,9, -999.000,9,   -999.0,9,   -999.0,9,-999.0000,9,  -999.00,   -999.0,9,  -999.00,9, -999.000,9, -999.000,-999.0000,9,-999.0000,  -999.00,9,  -999.00, -999.000,9, -999.000,   -999.0,9,   -999.0,  -999.00,9,-999.0000,9,-999.0000,9,-999.0000,9,-999.0000,9,-999.0000,9,-999.0000,9,-999.0000,9,-999.0000,9,-999.0000,9,   1.5824,   1.7934,2