BOTTLE,20150630SIOCCHRJL
EXPOCODE,SECT_ID,STNNBR,CASTNO,SAMPNO,BTLNBR,BTLNBR_FLAG_W,DATE,TIME,LATITUDE,LONGITUDE,DEPTH,CTDRAW,CTDPRS,CTDTMP,CTDSAL,CTDSAL_FLAG_W,SALNTY,SALNTY_FLAG_W,CTDOXY,CTDOXY_FLAG_W,OXYGEN,OXYGEN_FLAG_W,SILCAT,SILCAT_FLAG_W,NITRAT,NITRAT_FLAG_W,NITRIT,NITRIT_FLAG_W,PHSPHT,PHSPHT_FLAG_W,CFC-11,CFC-11_FLAG_W,CFC-12,CFC-12_FLAG_W,CFC113,CFC113_FLAG_W,TCARBN,TCARBN_FLAG_W,ALKALI,ALKALI_FLAG_W,PH_SWS,PH_SWS_FLAG_W,PH_TMP,DOC,DOC_FLAG_W,TDN,TDN_FLAG_W,TRITUM,TRITUM_FLAG_W,TRITER,HELIUM,HELIUM_FLAG_W,HELIER,DELHE3,DELHE3_FLAG_W,DELHER,NEON,NEON_FLAG_W,NEONER,DELC14,DELC14_FLAG_W,C14ERR,DELC13,DELC13_FLAG_W,CDOM325,CDOM325_FLAG_W,CDOM340,CDOM340_FLAG_W,CDOM380,CDOM380_FLAG_W,CDOM412,CDOM412_FLAG_W,CDOM443,CDOM443_FLAG_W,CDOM490,CDOM490_FLAG_W,CDOM555,CDOM555_FLAG_W,CDOMSL,CDOMSL_FLAG_W,CDOMSN,CDOMSN_FLAG_W,THETA,SBE35,SBE35_FLAG_W
,,,,,,,,,,,METERS,,DBAR,ITS-90,PSS-78,,PSS-78,,UMOL/KG,,UMOL/KG,,UMOL/KG,,UMOL/KG,,UMOL/KG,,UMOL/KG,,PMOL/KG,,PMOL/KG,,PMOL/KG,,UMOL/KG,,UMOL/KG,,,,DEG C,UMOL/KG,,UMOL/KG,,TU,,TU,NMOL/KG,,NMOL/KG,PERCNT,,PERCNT,NMOL/KG,,NMOL/KG,/MILLE,,/MILLE,/MILLE,,1/M,,1/M,,1/M,,1/M,,1/M,,1/M,,1/M,,1/NM,,1/NM,,DEG C,ITS-90,
  33RR20070322,  I09N,   190,  1,     36,     38,2,20070424,2340, 13.6020,  89.0253, 2922,   2.6000,      2.6,  30.2515,  32.4388,2,  32.4443,2,    196.2,2,    196.3,2,     2.57,2,     0.02,2,     0.00,2,     0.02,2,    1.533,2,    1.014,2, -999.000,5,   1870.5,6,   2181.2,6,   8.1288,6,    25.00,     74.9,2,     5.69,2, -999.000,9, -999.000,-999.0000,9,-999.0000,  -999.00,9,  -999.00, -999.000,9, -999.000,   -999.0,9,   -999.0,  -999.00,9,   0.0776,2,   0.0517,2,   0.0230,2,   0.0162,2,   0.0006,3,  -0.0014,4,  -0.0027,4,   0.0158,3,   0.0200,3,  30.2509,  30.2459,2
  33RR20070322,  I09N,   190,  1,     35,     35,2,20070424,2340, 13.6020,  89.0253, 2922,  39.3000,     39.3,  29.4878,  34.0957,2,  34.0939,2,    198.3,2,    198.6,2,     1.21,2,     0.02,2,     0.00,2,     0.08,2,    1.514,2,    0.973,2, -999.000,5,   1914.9,2,   2241.4,2,   8.1010,2,    25.00,     73.7,2,     5.61,2, -999.000,9, -999.000,-999.0000,9,-999.0000,  -999.00,9,  -999.00, -999.000,9, -999.000,   -999.0,9,   -999.0,  -999.00,9,   0.1115,2,   0.0772,2,   0.0374,2,   0.0266,2,   0.0065,2,   0.0020,2,  -0.0013,4,   0.0134,3,   0.0167,3,  29.4782,  29.4817,2
  33RR20070322,  I09N,   190,  1,     34,   9419,2,20070424,2340, 13.6020,  89.0253, 2922,  78.6000,     78.6,  28.6830,  34.2782,2,  34.2733,2,    197.5,2,    197.7,2,     1.59,2,     0.02,2,     0.00,2,     0.12,2,    1.552,2,    1.022,2, -999.000,5,   1932.7,2,   2250.2,2,   8.0988,2,    25.00,     64.7,2,     5.54,2, -999.000,9, -999.000,-999.0000,9,-999.0000,  -999.00,9,  -999.00, -999.000,9, -999.000,   -999.0,9,   -999.0,  -999.00,9,   0.1561,2,   0.1115,2,   0.0572,2,   0.0411,2,   0.0142,2,   0.0056,2,   0.0010,2,   0.0138,3,   0.0157,3,  28.6642,  28.6795,2
  33RR20070322,  I09N,   190,  1,     33,     33,2,20070424,2340, 13.6020,  89.0253, 2922,  94.0000,     94.0,  27.9837,  34.5421,2,  34.5319,2,    186.1,2,    179.2,2,     2.35,2,     0.36,2,     0.20,2,     0.24,2,    1.509,2,    0.973,2, -999.000,5,   1966.5,2,   2263.8,2,   8.0370,2,    25.00,     55.0,2,     6.21,2, -999.000,9, -999.000,-999.0000,9,-999.0000,  -999.00,9,  -999.00, -999.000,9, -999.000,   -999.0,9,   -999.0,  -999.00,9,   0.1854,2,   0.1349,2,   0.0708,2,   0.0519,2,   0.0182,2,   0.0062,2,   0.0012,2,   0.0147,2,   0.0155,3,  27.9616,  27.9280,2
  33RR20070322,  I09N,   190,  1,     32,     37,2,20070424,2340, 13.6020,  89.0253, 2922, 108.8000,    108.8,  23.7664,  34.5965,2,  34.6298,2,     30.8,2,     22.0,2,    12.99,2,    20.54,2,     0.10,2,     1.51,2,    1.263,2,    0.815,2, -999.000,5,   2125.6,2,   2265.2,2,   7.7394,2,    25.00,     54.0,2,    24.85,2, -999.000,9, -999.000,-999.0000,9,-999.0000,  -999.00,9,  -999.00, -999.000,9, -999.000,   -999.0,9,   -999.0,  -999.00,9,   0.2465,2,   0.1823,2,   0.0997,2,   0.0745,2,   0.0316,2,   0.0115,2,   0.0038,2,   0.0147,3,   0.0147,3,  23.7437,  23.8105,2
  33RR20070322,  I09N,   190,  1,     31,     31,2,20070424,2340, 13.6020,  89.0253, 2922, 123.3000,    123.3,  21.8653,  34.8682,2,  34.8661,2,     13.8,2,     11.3,2,    16.45,2,    24.01,2,     0.03,2,     1.78,2,    1.196,2,    0.745,2, -999.000,5,   2159.4,2,   2279.9,2,   7.6702,2,    25.00,     52.6,2,    28.30,2, -999.000,9, -999.000,-999.0000,9,-999.0000,  -999.00,9,  -999.00, -999.000,9, -999.000,   -999.0,9,   -999.0,  -999.00,9,   0.2152,2,   0.1591,2,   0.0894,2,   0.0684,2,   0.0280,2,   0.0096,2,   0.0028,2,   0.0145,3,   0.0142,3,  21.8410,  21.8733,2
  33RR20070322,  I09N,   190,  1,     30,     30,2,20070424,2340, 13.6020,  89.0253, 2922, 143.8000,    143.8,  19.2203,  34.8763,2,  34.8779,2,      4.9,2,      6.3,2,    22.25,2,    26.22,2,     0.01,2,     2.00,2,    1.016,2,    0.637,2, -999.000,5,   2188.5,2,   2287.1,2,   7.5962,2,    25.00,     50.6,2,    29.37,2, -999.000,9, -999.000,-999.0000,9,-999.0000,  -999.00,9,  -999.00, -999.000,9, -999.000,   -999.0,9,   -999.0,  -999.00,9,   0.2019,2,   0.1499,2,   0.0864,2,   0.0660,2,   0.0272,2,   0.0088,2,   0.0021,2,   0.0144,3,   0.0139,3,  19.1945,  19.1587,2
  33RR20070322,  I09N,   190,  1,     29,     29,2,20070424,2340, 13.6020,  89.0253, 2922, 173.0000,    173.0,  16.2252,  34.9172,2,  34.9203,2,      3.8,2,      3.1,2,    28.05,2,    28.96,2,     0.00,2,     2.19,2,    0.753,2,    0.457,2, -999.000,5,   2214.5,6,   2296.9,6,   7.5556,6,    25.00,     49.7,2,    32.07,2, -999.000,9, -999.000,-999.0000,9,-999.0000,  -999.00,9,  -999.00, -999.000,9, -999.000,   -999.0,9,   -999.0,  -999.00,9,   0.1951,2,   0.1457,2,   0.0860,2,   0.0665,2,   0.0279,2,   0.0086,2,   0.0018,2,   0.0143,3,   0.0134,3,  16.1976,  16.3032,2
  33RR20070322,  I09N,   190,  1,     28,     28,2,20070424,2340, 13.6020,  89.0253, 2922, 223.2000,    223.2,  12.9495,  35.0085,2,  35.0071,2,      4.1,2,      4.5,2,    34.04,2,    32.35,2,     0.00,2,     2.37,2,    0.474,2,    0.271,2, -999.000,5,   2252.9,2,   2311.3,2,   7.4777,2,    25.00,     48.8,2,    35.95,2, -999.000,9, -999.000,-999.0000,9,-999.0000,  -999.00,9,  -999.00, -999.000,9, -999.000,   -999.0,9,   -999.0,  -999.00,9,   0.1955,2,   0.1470,2,   0.0902,2,   0.0712,2,   0.0316,2,   0.0095,2,   0.0019,2,   0.0141,3,   0.0128,3,  12.9188,  12.9499,2
  33RR20070322,  I09N,   190,  1,     27,     27,2,20070424,2340, 13.6020,  89.0253, 2922, 273.1000,    273.1,  11.8475,  35.0221,2,  35.0217,2,      4.6,2,      4.5,2,    37.92,2,    33.62,2,     0.00,2,     2.44,2,    0.336,2,    0.194,2, -999.000,5,   2264.9,2,   2313.5,2,   7.4574,2,    25.00,     47.8,2,    36.84,2, -999.000,9, -999.000,-999.0000,9,-999.0000,  -999.00,9,  -999.00, -999.000,9, -999.000,   -999.0,9,   -999.0,  -999.00,9,   0.1987,2,   0.1497,2,   0.0923,2,   0.0727,2,   0.0340,2,   0.0114,2,   0.0029,2,   0.0138,3,   0.0125,3,  11.8120,  11.8462,2
  33RR20070322,  I09N,   190,  1,     26,     26,2,20070424,2340, 13.6020,  89.0253, 2922, 323.8000,    323.8,  11.2439,  35.0293,2,  35.0300,2,      5.6,2,      6.1,2,    40.05,2,    34.51,2,     0.00,2,     2.48,2,    0.280,2,    0.164,2, -999.000,5,   2269.4,2,   2320.2,2,   7.4449,2,    25.00,     46.8,2,    37.90,2, -999.000,9, -999.000,-999.0000,9,-999.0000,  -999.00,9,  -999.00, -999.000,9, -999.000,   -999.0,9,   -999.0,  -999.00,9,   0.1978,2,   0.1490,2,   0.0926,2,   0.0737,2,   0.0338,2,   0.0104,2,   0.0020,2,   0.0140,3,   0.0125,3,  11.2032,  11.2439,2
  33RR20070322,  I09N,   190,  1,     25,     25,2,20070424,2340, 13.6020,  89.0253, 2922, 373.1000,    373.1,  10.8775,  35.0311,2,  35.0304,2,      5.4,2,      5.2,2,    42.18,2,    35.05,2,     0.00,2,     2.52,2,    0.238,2,    0.134,2, -999.000,5,   2273.6,2,   2322.2,2,   7.4389,2,    25.00,     46.2,2,    38.30,2, -999.000,9, -999.000,-999.0000,9,-999.0000,  -999.00,9,  -999.00, -999.000,9, -999.000,   -999.0,9,   -999.0,  -999.00,9,   0.2014,2,   0.1519,2,   0.0937,2,   0.0743,2,   0.0344,2,   0.0106,2,   0.0022,2,   0.0141,3,   0.0126,3,  10.8314,  10.8771,2
  33RR20070322,  I09N,   190,  1,     24,     24,2,20070424,2340, 13.6020,  89.0253, 2922, 422.9000,    422.9,  10.5334,  35.0303,2,  35.0298,2,      6.9,2,      7.6,2,    44.30,2,    35.44,2,     0.00,2,     2.54,2,    0.200,2,    0.117,2, -999.000,5,   2278.1,2,   2323.8,2,   7.4394,2,    25.00,     45.4,2,    38.52,2, -999.000,9, -999.000,-999.0000,9,-999.0000,  -999.00,9,  -999.00, -999.000,9, -999.000,   -999.0,9,   -999.0,  -999.00,9,   0.2024,2,   0.1528,2,   0.0947,2,   0.0754,2,   0.0356,2,   0.0118,2,   0.0028,2,   0.0138,3,   0.0124,3,  10.4821,  10.5319,2
  33RR20070322,  I09N,   190,  1,     23,     23,2,20070424,2340, 13.6020,  89.0253, 2922, 473.4000,    473.4,  10.2019,  35.0282,2,  35.0280,2,      8.9,2,      9.0,2,    46.63,2,    35.72,2,     0.00,2,     2.57,2, -999.000,9, -999.000,9, -999.000,9,   2279.9,2,   2327.4,2,   7.4356,2,    25.00,     44.8,2,    39.25,2, -999.000,9, -999.000,-999.0000,9,-999.0000,  -999.00,9,  -999.00, -999.000,9, -999.000,   -999.0,9,   -999.0,  -999.00,9,   0.2049,2,   0.1547,2,   0.0958,2,   0.0760,2,   0.0366,2,   0.0129,2,   0.0034,2,   0.0136,3,   0.0124,3,  10.1455,  10.2020,2
  33RR20070322,  I09N,   190,  1,     22,     22,2,20070424,2340, 13.6020,  89.0253, 2922, 523.3000,    523.3,   9.8074,  35.0232,2,  35.0229,2,      8.0,2,      9.0,2,    50.31,2,    36.31,2,     0.00,2,     2.63,2,    0.117,2,    0.068,2, -999.000,5,   2285.2,2,   2332.2,2,   7.4347,2,    25.00,     44.0,2,    38.85,2, -999.000,9, -999.000,-999.0000,9,-999.0000,  -999.00,9,  -999.00, -999.000,9, -999.000,   -999.0,9,   -999.0,  -999.00,9,   0.1983,2,   0.1487,2,   0.0907,2,   0.0709,2,   0.0326,2,   0.0103,2,   0.0019,2,   0.0140,3,   0.0128,3,   9.7464,   9.8064,2
  33RR20070322,  I09N,   190,  1,     21,     21,2,20070424,2340, 13.6020,  89.0253, 2922, 643.5000,    643.5,   8.8981,  35.0033,2,  35.0036,2,     13.6,2,     14.4,2,    59.45,2,    37.10,2,     0.00,2,     2.69,2,    0.051,2,    0.030,2, -999.000,5,   2295.4,2,   2336.3,2,   7.4335,2,    25.00,     43.8,2,    39.81,2, -999.000,9, -999.000,-999.0000,9,-999.0000,  -999.00,9,  -999.00, -999.000,9, -999.000,   -999.0,9,   -999.0,  -999.00,9,   0.1967,2,   0.1468,2,   0.0888,2,   0.0682,2,   0.0310,2,   0.0097,2,   0.0015,2,   0.0141,4,   0.0130,4,   8.8269,   8.8921,2
  33RR20070322,  I09N,   190,  1,     20,     20,2,20070424,2340, 13.6020,  89.0253, 2922, 744.5000,    744.5,   8.2351,  34.9834,2,  34.9826,2,     22.6,2,     22.4,2,    66.64,2,    37.19,2,     0.00,2,     2.72,2, -999.000,9, -999.000,9, -999.000,9,   2300.4,2,   2347.4,2,   7.4419,2,    25.00,     43.5,2,    39.74,2, -999.000,9, -999.000,-999.0000,9,-999.0000,  -999.00,9,  -999.00, -999.000,9, -999.000,   -999.0,9,   -999.0,  -999.00,9,   0.1938,2,   0.1443,2,   0.0862,2,   0.0650,2,   0.0288,2,   0.0088,2,   0.0011,2,   0.0142,3,   0.0133,3,   8.1558,   8.2288,2
  33RR20070322,  I09N,   190,  1,     19,     19,2,20070424,2340, 13.6020,  89.0253, 2922, 844.1000,    844.1,   7.6734,  34.9661,2,  34.9658,2,     28.8,2,     28.1,2,    72.69,2,    37.34,2,     0.00,2,     2.74,2,    0.029,2,    0.014,2, -999.000,5,   2304.5,2,   2349.0,2,   7.4481,2,    25.00,     43.2,2,    39.39,2, -999.000,9, -999.000,-999.0000,9,-999.0000,  -999.00,9,  -999.00, -999.000,9, -999.000,   -999.0,9,   -999.0,  -999.00,9,   0.2027,2,   0.1520,2,   0.0928,2,   0.0716,2,   0.0338,2,   0.0107,2,   0.0020,2,   0.0141,3,   0.0129,3,   7.5865,   7.6767,2
  33RR20070322,  I09N,   190,  1,     18,     18,2,20070424,2340, 13.6020,  89.0253, 2922, 944.6000,    944.6,   7.0783,  34.9467,2,  34.9460,2,     35.3,2,     34.7,2,    79.72,2,    37.57,2,     0.00,2,     2.76,2, -999.000,9, -999.000,9, -999.000,9,   2310.9,2,   2356.7,2,   7.4533,2,    25.00,     42.8,2,    39.84,2, -999.000,9, -999.000,-999.0000,9,-999.0000,  -999.00,9,  -999.00, -999.000,9, -999.000,   -999.0,9,   -999.0,  -999.00,9,   0.1999,2,   0.1493,2,   0.0906,2,   0.0692,2,   0.0322,2,   0.0098,2,   0.0016,2,   0.0142,3,   0.0130,3,   6.9846,   7.0796,2
  33RR20070322,  I09N,   190,  1,     17,     17,2,20070424,2340, 13.6020,  89.0253, 2922,1044.5000,   1044.5,   6.5212,  34.9263,2,  34.9265,2,     42.1,2,     41.9,2,    85.59,2,    37.67,2,     0.00,2,     2.77,2,    0.009,2,    0.004,2, -999.000,5,   2315.9,2,   2363.3,2,   7.4475,2,    25.00,     42.6,2,    39.21,2, -999.000,9, -999.000,-999.0000,9,-999.0000,  -999.00,9,  -999.00, -999.000,9, -999.000,   -999.0,9,   -999.0,  -999.00,9,   0.2003,2,   0.1492,2,   0.0894,2,   0.0679,2,   0.0311,2,   0.0094,2,   0.0015,2,   0.0143,3,   0.0132,3,   6.4212,   6.5197,2
  33RR20070322,  I09N,   190,  1,     16,     16,2,20070424,2340, 13.6020,  89.0253, 2922,1145.6000,   1145.6,   5.9923,  34.9062,2,  34.9068,2,     51.0,2,     50.3,2,    91.47,2,    37.50,2,     0.00,2,     2.75,2, -999.000,9, -999.000,9, -999.000,9,   2319.1,2,   2369.5,2,   7.4657,2,    25.00,     42.3,2,    38.96,2, -999.000,9, -999.000,-999.0000,9,-999.0000,  -999.00,9,  -999.00, -999.000,9, -999.000,   -999.0,9,   -999.0,  -999.00,9,   0.1995,2,   0.1484,2,   0.0894,2,   0.0675,2,   0.0315,2,   0.0099,2,   0.0018,2,   0.0141,3,   0.0132,3,   5.8864,   5.9869,2
  33RR20070322,  I09N,   190,  1,     15,     15,2,20070424,2340, 13.6020,  89.0253, 2922,1245.9000,   1245.9,   5.5269,  34.8888,2,  34.8885,2,     58.9,2,     58.6,2,    96.37,2,    37.35,2,     0.00,2,     2.74,2,    0.006,2,    0.003,2, -999.000,5,   2321.8,2,   2376.8,2,   7.4773,2,    25.00,     41.7,2,    38.60,2, -999.000,9, -999.000,-999.0000,9,-999.0000,  -999.00,9,  -999.00, -999.000,9, -999.000,   -999.0,9,   -999.0,  -999.00,9,   0.1983,2,   0.1469,2,   0.0880,2,   0.0664,2,   0.0306,2,   0.0094,2,   0.0015,2,   0.0142,3,   0.0133,3,   5.4152,   5.5283,2
  33RR20070322,  I09N,   190,  1,     14,     14,2,20070424,2340, 13.6020,  89.0253, 2922,1345.8000,   1345.8,   5.0869,  34.8733,2,  34.8730,2,     65.8,2,     65.7,2,   101.49,2,    37.24,2,     0.00,2,     2.73,2, -999.000,9, -999.000,9, -999.000,9,   2324.1,2,   2381.7,2,   7.4782,2,    25.00,     41.3,2,    38.66,2, -999.000,9, -999.000,-999.0000,9,-999.0000,  -999.00,9,  -999.00, -999.000,9, -999.000,   -999.0,9,   -999.0,  -999.00,9,   0.1968,2,   0.1457,2,   0.0868,2,   0.0646,2,   0.0295,2,   0.0091,2,   0.0014,2,   0.0142,3,   0.0134,3,   4.9698,   5.0857,2
  33RR20070322,  I09N,   190,  1,     13,     13,2,20070424,2340, 13.6020,  89.0253, 2922,1447.3000,   1447.3,   4.6733,  34.8578,2,  34.8575,2,     73.0,2,     73.0,2,   106.02,2,    37.13,2,     0.00,2,     2.72,2,    0.005,2,    0.002,2, -999.000,5,   2326.5,2,   2387.1,2,   7.4824,2,    25.00,     40.5,2,    38.82,2, -999.000,9, -999.000,-999.0000,9,-999.0000,  -999.00,9,  -999.00, -999.000,9, -999.000,   -999.0,9,   -999.0,  -999.00,9,   0.1960,2,   0.1450,2,   0.0859,2,   0.0635,2,   0.0289,2,   0.0088,2,   0.0014,2,   0.0143,3,   0.0136,3,   4.5508,   4.6702,2
  33RR20070322,  I09N,   190,  1,     12,     12,2,20070424,2340, 13.6020,  89.0253, 2922,1547.5000,   1547.5,   4.2680,  34.8415,2,  34.8419,2,     81.0,2,     80.7,2,   110.55,2,    36.98,2,     0.00,2,     2.70,2, -999.000,9, -999.000,9, -999.000,9,   2328.1,2,   2392.2,2,   7.4885,2,    25.00,     40.8,2,    38.75,2, -999.000,9, -999.000,-999.0000,9,-999.0000,  -999.00,9,  -999.00, -999.000,9, -999.000,   -999.0,9,   -999.0,  -999.00,9,   0.1944,2,   0.1434,2,   0.0846,2,   0.0622,2,   0.0280,2,   0.0085,2,   0.0012,2,   0.0143,3,   0.0137,3,   4.1406,   4.2642,2
  33RR20070322,  I09N,   190,  1,     11,     11,2,20070424,2340, 13.6020,  89.0253, 2922,1648.0000,   1648.0,   3.8391,  34.8253,2,  34.8257,2,     88.6,2,     88.5,2,   115.49,2,    36.82,2,     0.00,2,     2.69,2,    0.005,2,    0.001,2, -999.000,5,   2330.6,2,   2396.9,2,   7.5001,2,    25.00,     40.5,2,    38.40,2, -999.000,9, -999.000,-999.0000,9,-999.0000,  -999.00,9,  -999.00, -999.000,9, -999.000,   -999.0,9,   -999.0,  -999.00,9,   0.1958,2,   0.1444,2,   0.0852,2,   0.0626,2,   0.0285,2,   0.0089,2,   0.0015,2,   0.0142,3,   0.0137,3,   3.7076,   3.8375,2
  33RR20070322,  I09N,   190,  1,     10,     10,2,20070424,2340, 13.6020,  89.0253, 2922,1748.3000,   1748.3,   3.4333,  34.8086,2,  34.8093,2,     97.1,2,     97.4,2,   120.25,2,    36.57,2,     0.00,2,     2.66,2, -999.000,9, -999.000,9, -999.000,9,   2331.5,2,   2404.9,2,   7.5124,2,    25.00,     40.6,2,    37.74,2, -999.000,9, -999.000,-999.0000,9,-999.0000,  -999.00,9,  -999.00, -999.000,9, -999.000,   -999.0,9,   -999.0,  -999.00,9,   0.1942,2,   0.1428,2,   0.0842,2,   0.0617,2,   0.0278,2,   0.0085,2,   0.0013,2,   0.0143,3,   0.0137,3,   3.2979,   3.4339,2
  33RR20070322,  I09N,   190,  1,      9,      9,2,20070424,2340, 13.6020,  89.0253, 2922,1849.5000,   1849.5,   3.1540,  34.7962,2,  34.7956,2,    103.8,2,    107.5,3,   124.02,2,    36.35,2,     0.00,2,     2.63,2,    0.001,2,    0.001,2, -999.000,5,   2333.4,2,   2405.7,2,   7.5146,2,    25.00,     40.5,2,    37.48,2, -999.000,9, -999.000,-999.0000,9,-999.0000,  -999.00,9,  -999.00, -999.000,9, -999.000,   -999.0,9,   -999.0,  -999.00,9,   0.1938,2,   0.1426,2,   0.0834,2,   0.0607,2,   0.0274,2,   0.0084,2,   0.0014,2,   0.0143,3,   0.0138,3,   3.0133,   3.1517,2
  33RR20070322,  I09N,   190,  1,      8,      8,2,20070424,2340, 13.6020,  89.0253, 2922,1949.8000,   1949.8,   2.8908,  34.7852,2,  34.7858,2,    110.4,2,    109.6,2,   126.40,2,    36.15,2,     0.00,2,     2.60,2, -999.000,9, -999.000,9, -999.000,9,   2333.1,2,   2403.3,2,   7.5221,2,    25.00,     40.8,2,    37.91,2, -999.000,9, -999.000,-999.0000,9,-999.0000,  -999.00,9,  -999.00, -999.000,9, -999.000,   -999.0,9,   -999.0,  -999.00,9,   0.1932,2,   0.1421,2,   0.0836,2,   0.0613,2,   0.0278,2,   0.0086,2,   0.0015,2,   0.0142,3,   0.0137,3,   2.7449,   2.8929,2
  33RR20070322,  I09N,   190,  1,      7,      7,2,20070424,2340, 13.6020,  89.0253, 2922,2111.2000,   2111.2,   2.5711,  34.7710,2,  34.7720,2,    118.5,2,    118.2,2,   129.78,2,    35.80,2,     0.00,2,     2.57,2,    0.004,2,    0.002,2, -999.000,5,   2332.7,2,   2408.9,2,   7.5302,2,    25.00,     40.0,2,    36.85,2, -999.000,9, -999.000,-999.0000,9,-999.0000,  -999.00,9,  -999.00, -999.000,9, -999.000,   -999.0,9,   -999.0,  -999.00,9,   0.1940,2,   0.1430,2,   0.0845,2,   0.0625,2,   0.0289,2,   0.0093,2,   0.0019,2,   0.0141,3,   0.0135,3,   2.4156,   2.5714,2
  33RR20070322,  I09N,   190,  1,      6,      6,2,20070424,2340, 13.6020,  89.0253, 2922,2364.7000,   2364.7,   2.2289,  34.7560,2,  34.7559,2,    128.0,2,    128.2,2,   133.77,2,    35.39,2,     0.00,2,     2.53,2, -999.000,9, -999.000,9, -999.000,9,   2332.4,2,   2414.6,2,   7.5475,2,    25.00,     40.2,2,    36.61,2, -999.000,9, -999.000,-999.0000,9,-999.0000,  -999.00,9,  -999.00, -999.000,9, -999.000,   -999.0,9,   -999.0,  -999.00,9,   0.1919,2,   0.1411,2,   0.0829,2,   0.0613,2,   0.0278,2,   0.0086,2,   0.0017,2,   0.0141,3,   0.0137,3,   2.0563,   2.2269,2
  33RR20070322,  I09N,   190,  1,      5,      5,2,20070424,2340, 13.6020,  89.0253, 2922,2616.8000,   2616.8,   1.9950,  34.7457,2,  34.7466,2,    135.6,2,    136.2,2,   136.16,2,    35.09,2,     0.00,2,     2.50,2,    0.002,2,    0.001,2, -999.000,5,   2331.4,2,   2420.8,2,   7.5586,2,    25.00,     40.4,2,    37.00,2, -999.000,9, -999.000,-999.0000,9,-999.0000,  -999.00,9,  -999.00, -999.000,9, -999.000,   -999.0,9,   -999.0,  -999.00,9,   0.1913,2,   0.1411,2,   0.0831,2,   0.0614,2,   0.0280,2,   0.0092,2,   0.0020,2,   0.0140,3,   0.0136,3,   1.8036,   1.9931,2