BOTTLE,20150630SIOCCHRJL
EXPOCODE,SECT_ID,STNNBR,CASTNO,SAMPNO,BTLNBR,BTLNBR_FLAG_W,DATE,TIME,LATITUDE,LONGITUDE,DEPTH,CTDRAW,CTDPRS,CTDTMP,CTDSAL,CTDSAL_FLAG_W,SALNTY,SALNTY_FLAG_W,CTDOXY,CTDOXY_FLAG_W,OXYGEN,OXYGEN_FLAG_W,SILCAT,SILCAT_FLAG_W,NITRAT,NITRAT_FLAG_W,NITRIT,NITRIT_FLAG_W,PHSPHT,PHSPHT_FLAG_W,CFC-11,CFC-11_FLAG_W,CFC-12,CFC-12_FLAG_W,CFC113,CFC113_FLAG_W,TCARBN,TCARBN_FLAG_W,ALKALI,ALKALI_FLAG_W,PH_SWS,PH_SWS_FLAG_W,PH_TMP,DOC,DOC_FLAG_W,TDN,TDN_FLAG_W,TRITUM,TRITUM_FLAG_W,TRITER,HELIUM,HELIUM_FLAG_W,HELIER,DELHE3,DELHE3_FLAG_W,DELHER,NEON,NEON_FLAG_W,NEONER,DELC14,DELC14_FLAG_W,C14ERR,DELC13,DELC13_FLAG_W,CDOM325,CDOM325_FLAG_W,CDOM340,CDOM340_FLAG_W,CDOM380,CDOM380_FLAG_W,CDOM412,CDOM412_FLAG_W,CDOM443,CDOM443_FLAG_W,CDOM490,CDOM490_FLAG_W,CDOM555,CDOM555_FLAG_W,CDOMSL,CDOMSL_FLAG_W,CDOMSN,CDOMSN_FLAG_W,THETA,SBE35,SBE35_FLAG_W
,,,,,,,,,,,METERS,,DBAR,ITS-90,PSS-78,,PSS-78,,UMOL/KG,,UMOL/KG,,UMOL/KG,,UMOL/KG,,UMOL/KG,,UMOL/KG,,PMOL/KG,,PMOL/KG,,PMOL/KG,,UMOL/KG,,UMOL/KG,,,,DEG C,UMOL/KG,,UMOL/KG,,TU,,TU,NMOL/KG,,NMOL/KG,PERCNT,,PERCNT,NMOL/KG,,NMOL/KG,/MILLE,,/MILLE,/MILLE,,1/M,,1/M,,1/M,,1/M,,1/M,,1/M,,1/M,,1/NM,,1/NM,,DEG C,ITS-90,
  33RR20070322,  I09N,   113,  3,      4,      4,2,20070403,0811,-14.6330,  95.0000, 4723,3837.4000,   3837.4,   1.2405,  34.7179,2,  34.7179,2,    188.4,2,    188.1,2,   127.56,2,    32.88,2,     0.00,2,     2.29,2,    0.001,3, -999.000,5, -999.000,5,   2292.5,2,   2396.9,2,   7.5850,3,    25.00,     39.9,2,    34.83,2, -999.000,9, -999.000,-999.0000,9,-999.0000,  -999.00,9,  -999.00, -999.000,9, -999.000,   -182.4,2,      2.0,     0.45,2,   0.1429,2,   0.0997,2,   0.0560,2,   0.0409,2,   0.0144,2,   0.0030,3,  -0.0007,4,   0.0140,3,   0.0148,3,   0.9459,   1.2408,2
  33RR20070322,  I09N,   113,  3,      3,      3,2,20070403,0811,-14.6330,  95.0000, 4723,4243.7000,   4243.7,   1.1594,  34.7154,2,  34.7154,2,    196.1,2,    195.7,2,   124.56,2,    32.52,2,     0.00,2,     2.26,2, -999.000,9, -999.000,9, -999.000,9,   2284.3,2,   2390.3,2,   7.6012,2,    25.00,     40.3,2,    34.22,2, -999.000,9, -999.000,-999.0000,9,-999.0000,  -999.00,9,  -999.00, -999.000,9, -999.000,   -177.0,2,      2.1,     0.49,2,   0.1266,2,   0.0878,2,   0.0484,2,   0.0345,2,   0.0102,2,   0.0010,3,  -0.0016,4,   0.0141,2,   0.0154,3,   0.8234,   1.1593,2
  33RR20070322,  I09N,   113,  3,      2,      2,2,20070403,0811,-14.6330,  95.0000, 4723,4651.6000,   4651.6,   1.1413,  34.7141,2,  34.7144,2,    200.4,2,    200.4,2,   122.76,2,    32.21,2,     0.00,2,     2.23,2,    0.002,2,    0.002,2, -999.000,5,   2278.7,2,   2386.3,2,   7.6196,2,    25.00,     40.5,2,    33.70,2, -999.000,9, -999.000,-999.0000,9,-999.0000,  -999.00,9,  -999.00, -999.000,9, -999.000,   -169.6,2,      1.8,     0.51,2,   0.1236,2,   0.0855,2,   0.0472,2,   0.0335,2,   0.0095,2,   0.0007,3,  -0.0017,4,   0.0141,2,   0.0154,3,   0.7599,   1.1411,2
  33RR20070322,  I09N,   113,  3,      1,      1,2,20070403,0811,-14.6330,  95.0000, 4723,4799.5000,   4799.5,   1.1421,  34.7137,2,  34.7130,2,    200.4,2,    200.9,2,   122.57,2,    32.25,2,     0.00,2,     2.24,2,    0.003,2,    0.001,2, -999.000,5,   2280.0,6,   2387.8,6,   7.6415,6,    25.00,     40.6,2,    33.67,2, -999.000,9, -999.000,-999.0000,9,-999.0000,  -999.00,9,  -999.00, -999.000,9, -999.000,   -168.9,2,      1.8,     0.56,2,   0.1228,2,   0.0846,2,   0.0460,2,   0.0323,2,   0.0089,2,   0.0006,4,  -0.0017,4,   0.0142,2,   0.0158,3,   0.7435,   1.1425,2