BOTTLE,20150630SIOCCHRJL
EXPOCODE,SECT_ID,STNNBR,CASTNO,SAMPNO,BTLNBR,BTLNBR_FLAG_W,DATE,TIME,LATITUDE,LONGITUDE,DEPTH,CTDRAW,CTDPRS,CTDTMP,CTDSAL,CTDSAL_FLAG_W,SALNTY,SALNTY_FLAG_W,CTDOXY,CTDOXY_FLAG_W,OXYGEN,OXYGEN_FLAG_W,SILCAT,SILCAT_FLAG_W,NITRAT,NITRAT_FLAG_W,NITRIT,NITRIT_FLAG_W,PHSPHT,PHSPHT_FLAG_W,CFC-11,CFC-11_FLAG_W,CFC-12,CFC-12_FLAG_W,CFC113,CFC113_FLAG_W,TCARBN,TCARBN_FLAG_W,ALKALI,ALKALI_FLAG_W,PH_SWS,PH_SWS_FLAG_W,PH_TMP,DOC,DOC_FLAG_W,TDN,TDN_FLAG_W,TRITUM,TRITUM_FLAG_W,TRITER,HELIUM,HELIUM_FLAG_W,HELIER,DELHE3,DELHE3_FLAG_W,DELHER,NEON,NEON_FLAG_W,NEONER,DELC14,DELC14_FLAG_W,C14ERR,DELC13,DELC13_FLAG_W,CDOM325,CDOM325_FLAG_W,CDOM340,CDOM340_FLAG_W,CDOM380,CDOM380_FLAG_W,CDOM412,CDOM412_FLAG_W,CDOM443,CDOM443_FLAG_W,CDOM490,CDOM490_FLAG_W,CDOM555,CDOM555_FLAG_W,CDOMSL,CDOMSL_FLAG_W,CDOMSN,CDOMSN_FLAG_W,THETA,SBE35,SBE35_FLAG_W
,,,,,,,,,,,METERS,,DBAR,ITS-90,PSS-78,,PSS-78,,UMOL/KG,,UMOL/KG,,UMOL/KG,,UMOL/KG,,UMOL/KG,,UMOL/KG,,PMOL/KG,,PMOL/KG,,PMOL/KG,,UMOL/KG,,UMOL/KG,,,,DEG C,UMOL/KG,,UMOL/KG,,TU,,TU,NMOL/KG,,NMOL/KG,PERCNT,,PERCNT,NMOL/KG,,NMOL/KG,/MILLE,,/MILLE,/MILLE,,1/M,,1/M,,1/M,,1/M,,1/M,,1/M,,1/M,,1/NM,,1/NM,,DEG C,ITS-90,
  33RR20070322,  I09N,   146,  1,     36,     38,2,20070413,0039,  0.3168,  93.3007, 4466,   3.0000,      3.0,  29.7696,  34.0835,2,  34.0840,2,    193.8,2,    195.2,2,     1.37,2,     0.07,2,     0.00,2,     0.07,2,    1.477,2,    0.971,2, -999.000,5,   1903.2,6,   2215.7,2,   8.0560,3,    25.00,   -999.0,9,  -999.00,9, -999.000,9, -999.000,-999.0000,9,-999.0000,  -999.00,9,  -999.00, -999.000,9, -999.000,   -999.0,9,   -999.0,  -999.00,9,-999.0000,9,-999.0000,9,-999.0000,9,-999.0000,9,-999.0000,9,-999.0000,9,-999.0000,9,-999.0000,9,-999.0000,9,  29.7689,  29.7668,2
  33RR20070322,  I09N,   146,  1,     35,     35,2,20070413,0039,  0.3168,  93.3007, 4466,  29.5000,     29.5,  29.7746,  34.0873,2,  34.0882,2,    195.8,2,    194.7,2,     1.35,2,     0.07,2,     0.00,2,     0.06,2,    1.478,2,    0.982,2, -999.000,5,   -999.0,9,   -999.0,9,-999.0000,9,  -999.00,   -999.0,9,  -999.00,9, -999.000,9, -999.000,-999.0000,9,-999.0000,  -999.00,9,  -999.00, -999.000,9, -999.000,   -999.0,9,   -999.0,  -999.00,9,-999.0000,9,-999.0000,9,-999.0000,9,-999.0000,9,-999.0000,9,-999.0000,9,-999.0000,9,-999.0000,9,-999.0000,9,  29.7673,  29.7688,2
  33RR20070322,  I09N,   146,  1,     34,   9419,2,20070413,0039,  0.3168,  93.3007, 4466,  55.0000,     55.0,  29.5729,  34.1706,2,  34.1715,2,    196.9,2,    195.9,2,     1.33,2,     0.01,2,     0.00,2,     0.07,2,    1.491,2,    0.987,2, -999.000,5,   1910.9,2,   2238.9,2,   8.1205,2,    25.00,   -999.0,9,  -999.00,9, -999.000,9, -999.000,-999.0000,9,-999.0000,  -999.00,9,  -999.00, -999.000,9, -999.000,   -999.0,9,   -999.0,  -999.00,9,-999.0000,9,-999.0000,9,-999.0000,9,-999.0000,9,-999.0000,9,-999.0000,9,-999.0000,9,-999.0000,9,-999.0000,9,  29.5594,  29.5574,2
  33RR20070322,  I09N,   146,  1,     33,     33,2,20070413,0039,  0.3168,  93.3007, 4466,  80.8000,     80.8,  27.3096,  34.5565,2,  34.5195,2,    187.7,2,    187.0,2,     1.90,2,     0.06,2,     0.00,2,     0.21,2,    1.566,2,    1.003,2, -999.000,5,   -999.0,9,   -999.0,9,-999.0000,9,  -999.00,   -999.0,9,  -999.00,9, -999.000,9, -999.000,-999.0000,9,-999.0000,  -999.00,9,  -999.00, -999.000,9, -999.000,   -999.0,9,   -999.0,  -999.00,9,-999.0000,9,-999.0000,9,-999.0000,9,-999.0000,9,-999.0000,9,-999.0000,9,-999.0000,9,-999.0000,9,-999.0000,9,  27.2909,  27.3432,2
  33RR20070322,  I09N,   146,  1,     32,     37,2,20070413,0039,  0.3168,  93.3007, 4466, 105.5000,    105.5,  22.5189,  35.2788,2,  35.2879,2,     96.8,2,    101.7,2,     8.48,2,    13.32,2,     0.67,2,     1.04,2,    1.638,2,    1.034,2, -999.000,5,   2103.0,2,   2306.9,2,   7.8380,3,    25.00,   -999.0,9,  -999.00,9, -999.000,9, -999.000,-999.0000,9,-999.0000,  -999.00,9,  -999.00, -999.000,9, -999.000,   -999.0,9,   -999.0,  -999.00,9,-999.0000,9,-999.0000,9,-999.0000,9,-999.0000,9,-999.0000,9,-999.0000,9,-999.0000,9,-999.0000,9,-999.0000,9,  22.4977,  22.5655,2
  33RR20070322,  I09N,   146,  1,     31,     31,2,20070413,0039,  0.3168,  93.3007, 4466, 154.7000,    154.7,  19.4363,  35.2715,2,  35.2727,2,     76.5,2,     75.3,2,    12.87,2,    19.36,2,     0.02,2,     1.39,2,    1.622,2,    0.995,2, -999.000,5,   -999.0,9,   -999.0,9,-999.0000,9,  -999.00,   -999.0,9,  -999.00,9, -999.000,9, -999.000,-999.0000,9,-999.0000,  -999.00,9,  -999.00, -999.000,9, -999.000,   -999.0,9,   -999.0,  -999.00,9,-999.0000,9,-999.0000,9,-999.0000,9,-999.0000,9,-999.0000,9,-999.0000,9,-999.0000,9,-999.0000,9,-999.0000,9,  19.4082,  19.4252,2
  33RR20070322,  I09N,   146,  1,     30,     30,2,20070413,0039,  0.3168,  93.3007, 4466, 204.8000,    204.8,  14.8620,  35.1268,2,  35.1283,2,     55.0,2,     54.9,2,    20.26,2,    25.62,2,     0.01,2,     1.81,2,    1.363,2,    0.775,2, -999.000,5,   2200.6,2,   2307.8,2,   7.6192,2,    25.00,   -999.0,9,  -999.00,9, -999.000,9, -999.000,-999.0000,9,-999.0000,  -999.00,9,  -999.00, -999.000,9, -999.000,   -999.0,9,   -999.0,  -999.00,9,-999.0000,9,-999.0000,9,-999.0000,9,-999.0000,9,-999.0000,9,-999.0000,9,-999.0000,9,-999.0000,9,-999.0000,9,  14.8311,  14.8654,2
  33RR20070322,  I09N,   146,  1,     29,     29,2,20070413,0039,  0.3168,  93.3007, 4466, 255.5000,    255.5,  12.5071,  35.0886,2,  35.0915,2,     66.7,2,     69.4,2,    21.65,2,    26.57,2,     0.00,2,     1.86,2,    1.234,2,    0.690,2, -999.000,5,   -999.0,9,   -999.0,9,-999.0000,9,  -999.00,   -999.0,9,  -999.00,9, -999.000,9, -999.000,-999.0000,9,-999.0000,  -999.00,9,  -999.00, -999.000,9, -999.000,   -999.0,9,   -999.0,  -999.00,9,-999.0000,9,-999.0000,9,-999.0000,9,-999.0000,9,-999.0000,9,-999.0000,9,-999.0000,9,-999.0000,9,-999.0000,9,  12.4727,  12.5157,2
  33RR20070322,  I09N,   146,  1,     28,     28,2,20070413,0039,  0.3168,  93.3007, 4466, 280.8000,    280.8,  12.1569,  35.0709,2,  35.0744,2,     69.4,2,     72.5,2,    22.03,2,    26.72,2,     0.00,2,     1.86,2,    1.207,2,    0.675,2, -999.000,5,   2210.7,2,   2309.0,2,   7.6033,2,    25.00,   -999.0,9,  -999.00,9, -999.000,9, -999.000,-999.0000,9,-999.0000,  -999.00,9,  -999.00, -999.000,9, -999.000,   -999.0,9,   -999.0,  -999.00,9,-999.0000,9,-999.0000,9,-999.0000,9,-999.0000,9,-999.0000,9,-999.0000,9,-999.0000,9,-999.0000,9,-999.0000,9,  12.1198,  12.1622,2
  33RR20070322,  I09N,   146,  1,     27,     27,2,20070413,0039,  0.3168,  93.3007, 4466, 305.0000,    305.0,  11.8547,  35.0577,2,  35.0587,2,     75.9,2,     74.8,2,    22.61,2,    27.14,2,     0.00,2,     1.87,2,    1.162,2,    0.635,2, -999.000,5,   -999.0,9,   -999.0,9,-999.0000,9,  -999.00,   -999.0,9,  -999.00,9, -999.000,9, -999.000,-999.0000,9,-999.0000,  -999.00,9,  -999.00, -999.000,9, -999.000,   -999.0,9,   -999.0,  -999.00,9,-999.0000,9,-999.0000,9,-999.0000,9,-999.0000,9,-999.0000,9,-999.0000,9,-999.0000,9,-999.0000,9,-999.0000,9,  11.8150,  11.8540,2
  33RR20070322,  I09N,   146,  1,     26,     26,2,20070413,0039,  0.3168,  93.3007, 4466, 404.8000,    404.8,  10.8263,  35.0158,2,  35.0155,2,     72.8,2,     67.8,2,    27.80,2,    29.63,2,     0.00,2,     2.05,2,    0.802,2,    0.446,2, -999.000,5,   -999.0,9,   -999.0,9,-999.0000,9,  -999.00,   -999.0,9,  -999.00,9, -999.000,9, -999.000,-999.0000,9,-999.0000,  -999.00,9,  -999.00, -999.000,9, -999.000,   -999.0,9,   -999.0,  -999.00,9,-999.0000,9,-999.0000,9,-999.0000,9,-999.0000,9,-999.0000,9,-999.0000,9,-999.0000,9,-999.0000,9,-999.0000,9,  10.7764,  10.8248,2
  33RR20070322,  I09N,   146,  1,     25,     25,2,20070413,0039,  0.3168,  93.3007, 4466, 455.0000,    455.0,  10.5748,  34.9992,2,  35.0014,2,     68.7,2,     68.2,2,    28.99,2,    29.99,2,     0.00,2,     2.08,2,    0.731,2,    0.405,2, -999.000,5,   2229.0,2,   2311.0,2,   7.5764,2,    25.00,   -999.0,9,  -999.00,9, -999.000,9, -999.000,-999.0000,9,-999.0000,  -999.00,9,  -999.00, -999.000,9, -999.000,   -999.0,9,   -999.0,  -999.00,9,-999.0000,9,-999.0000,9,-999.0000,9,-999.0000,9,-999.0000,9,-999.0000,9,-999.0000,9,-999.0000,9,-999.0000,9,  10.5194,  10.5840,2
  33RR20070322,  I09N,   146,  1,     24,     24,2,20070413,0039,  0.3168,  93.3007, 4466, 505.4000,    505.4,  10.0406,  34.9983,2,  34.9980,2,     70.2,2,     61.6,2,    34.78,2,    31.52,2,     0.00,2,     2.23,2,    0.505,2,    0.281,2, -999.000,5,   -999.0,9,   -999.0,9,-999.0000,9,  -999.00,   -999.0,9,  -999.00,9, -999.000,9, -999.000,-999.0000,9,-999.0000,  -999.00,9,  -999.00, -999.000,9, -999.000,   -999.0,9,   -999.0,  -999.00,9,-999.0000,9,-999.0000,9,-999.0000,9,-999.0000,9,-999.0000,9,-999.0000,9,-999.0000,9,-999.0000,9,-999.0000,9,   9.9809,  10.0347,2
  33RR20070322,  I09N,   146,  1,     23,     23,2,20070413,0039,  0.3168,  93.3007, 4466, 605.5000,    605.5,   9.0495,  34.9975,2,  34.9998,2,     49.9,2,     47.9,2,    48.61,2,    34.33,2,     0.00,2,     2.50,2,    0.174,2,    0.103,2, -999.000,5,   -999.0,9,   -999.0,9,-999.0000,9,  -999.00,   -999.0,9,  -999.00,9, -999.000,9, -999.000,-999.0000,9,-999.0000,  -999.00,9,  -999.00, -999.000,9, -999.000,   -999.0,9,   -999.0,  -999.00,9,-999.0000,9,-999.0000,9,-999.0000,9,-999.0000,9,-999.0000,9,-999.0000,9,-999.0000,9,-999.0000,9,-999.0000,9,   8.9819,   9.0498,2
  33RR20070322,  I09N,   146,  1,     22,     22,2,20070413,0039,  0.3168,  93.3007, 4466, 705.6000,    705.6,   8.7541,  35.0083,2,  35.0091,2,     45.7,2,     45.1,2,    53.82,2,    34.80,2,     0.00,2,     2.57,2,    0.141,2,    0.085,2, -999.000,5,   2274.1,2,   2335.3,2,   7.4923,2,    25.00,   -999.0,9,  -999.00,9, -999.000,9, -999.000,-999.0000,9,-999.0000,  -999.00,9,  -999.00, -999.000,9, -999.000,   -999.0,9,   -999.0,  -999.00,9,-999.0000,9,-999.0000,9,-999.0000,9,-999.0000,9,-999.0000,9,-999.0000,9,-999.0000,9,-999.0000,9,-999.0000,9,   8.6764,   8.7526,2
  33RR20070322,  I09N,   146,  1,     21,     21,2,20070413,0039,  0.3168,  93.3007, 4466, 805.6000,    805.6,   8.3983,  35.0003,2,  35.0024,2,     45.1,2,     44.4,2,    58.43,3,    35.44,2,     0.00,2,     2.62,2,    0.098,2,    0.061,2, -999.000,5,   -999.0,9,   -999.0,9,-999.0000,9,  -999.00,   -999.0,9,  -999.00,9, -999.000,9, -999.000,-999.0000,9,-999.0000,  -999.00,9,  -999.00, -999.000,9, -999.000,   -999.0,9,   -999.0,  -999.00,9,-999.0000,9,-999.0000,9,-999.0000,9,-999.0000,9,-999.0000,9,-999.0000,9,-999.0000,9,-999.0000,9,-999.0000,9,   8.3112,   8.4022,2
  33RR20070322,  I09N,   146,  1,     20,     20,2,20070413,0039,  0.3168,  93.3007, 4466, 906.1000,    906.1,   7.2033,  34.9688,2,  34.9648,2,     46.0,2,     47.0,2,    75.35,2,    36.82,2,     0.00,2,     2.73,2,    0.029,2,    0.019,2, -999.000,5,   -999.0,9,   -999.0,9,-999.0000,9,  -999.00,   -999.0,9,  -999.00,9, -999.000,9, -999.000,-999.0000,9,-999.0000,  -999.00,9,  -999.00, -999.000,9, -999.000,   -999.0,9,   -999.0,  -999.00,9,-999.0000,9,-999.0000,9,-999.0000,9,-999.0000,9,-999.0000,9,-999.0000,9,-999.0000,9,-999.0000,9,-999.0000,9,   7.1128,   7.2005,2
  33RR20070322,  I09N,   146,  1,     19,     19,2,20070413,0039,  0.3168,  93.3007, 4466,1006.2000,   1006.2,   6.6990,  34.9414,2,  34.9425,2,     50.7,2,     51.0,2,    80.79,2,    37.03,2,     0.00,2,     2.74,2, -999.000,9, -999.000,9, -999.000,9,   -999.0,9,   -999.0,9,-999.0000,9,  -999.00,   -999.0,9,  -999.00,9, -999.000,9, -999.000,-999.0000,9,-999.0000,  -999.00,9,  -999.00, -999.000,9, -999.000,   -999.0,9,   -999.0,  -999.00,9,-999.0000,9,-999.0000,9,-999.0000,9,-999.0000,9,-999.0000,9,-999.0000,9,-999.0000,9,-999.0000,9,-999.0000,9,   6.6016,   6.6978,2
  33RR20070322,  I09N,   146,  1,     18,     18,2,20070413,0039,  0.3168,  93.3007, 4466,1106.9000,   1106.9,   6.2393,  34.9177,2,  34.9185,2,     56.4,2,     57.7,2,    85.63,2,    36.98,2,     0.00,2,     2.74,2, -999.000,9, -999.000,9, -999.000,9,   -999.0,9,   -999.0,9,-999.0000,9,  -999.00,   -999.0,9,  -999.00,9, -999.000,9, -999.000,-999.0000,9,-999.0000,  -999.00,9,  -999.00, -999.000,9, -999.000,   -999.0,9,   -999.0,  -999.00,9,-999.0000,9,-999.0000,9,-999.0000,9,-999.0000,9,-999.0000,9,-999.0000,9,-999.0000,9,-999.0000,9,-999.0000,9,   6.1352,   6.2411,2
  33RR20070322,  I09N,   146,  1,     17,     17,2,20070413,0039,  0.3168,  93.3007, 4466,1207.6000,   1207.6,   5.5880,  34.8852,2,  34.8863,2,     66.4,2,     67.2,2,    92.30,2,    37.03,2,     0.00,2,     2.73,2, -999.000,9, -999.000,9, -999.000,9,   -999.0,9,   -999.0,9,-999.0000,9,  -999.00,   -999.0,9,  -999.00,9, -999.000,9, -999.000,-999.0000,9,-999.0000,  -999.00,9,  -999.00, -999.000,9, -999.000,   -999.0,9,   -999.0,  -999.00,9,-999.0000,9,-999.0000,9,-999.0000,9,-999.0000,9,-999.0000,9,-999.0000,9,-999.0000,9,-999.0000,9,-999.0000,9,   5.4795,   5.5892,2
  33RR20070322,  I09N,   146,  1,     16,     16,2,20070413,0039,  0.3168,  93.3007, 4466,1308.2000,   1308.2,   5.2296,  34.8752,2,  34.8764,2,     72.2,2,     72.6,2,    96.76,2,    36.97,2,     0.00,2,     2.73,2,    0.009,2,    0.005,2, -999.000,5,   -999.0,9,   -999.0,9,-999.0000,9,  -999.00,   -999.0,9,  -999.00,9, -999.000,9, -999.000,-999.0000,9,-999.0000,  -999.00,9,  -999.00, -999.000,9, -999.000,   -999.0,9,   -999.0,  -999.00,9,-999.0000,9,-999.0000,9,-999.0000,9,-999.0000,9,-999.0000,9,-999.0000,9,-999.0000,9,-999.0000,9,-999.0000,9,   5.1147,   5.2280,2
  33RR20070322,  I09N,   146,  1,     15,     15,2,20070413,0039,  0.3168,  93.3007, 4466,1407.9000,   1407.9,   4.6592,  34.8559,2,  34.8572,2,     81.2,2,     82.9,2,   101.62,2,    36.81,2,     0.00,2,     2.71,2, -999.000,9, -999.000,9, -999.000,9,   -999.0,9,   -999.0,9,-999.0000,9,  -999.00,   -999.0,9,  -999.00,9, -999.000,9, -999.000,-999.0000,9,-999.0000,  -999.00,9,  -999.00, -999.000,9, -999.000,   -999.0,9,   -999.0,  -999.00,9,-999.0000,9,-999.0000,9,-999.0000,9,-999.0000,9,-999.0000,9,-999.0000,9,-999.0000,9,-999.0000,9,-999.0000,9,   4.5406,   4.6617,2
  33RR20070322,  I09N,   146,  1,     14,     14,2,20070413,0039,  0.3168,  93.3007, 4466,1508.3000,   1508.3,   4.1995,  34.8362,2,  34.8367,2,     91.9,2,     92.5,2,   105.88,2,    36.64,2,     0.00,2,     2.69,2, -999.000,9, -999.000,9, -999.000,9,   -999.0,9,   -999.0,9,-999.0000,9,  -999.00,   -999.0,9,  -999.00,9, -999.000,9, -999.000,-999.0000,9,-999.0000,  -999.00,9,  -999.00, -999.000,9, -999.000,   -999.0,9,   -999.0,  -999.00,9,-999.0000,9,-999.0000,9,-999.0000,9,-999.0000,9,-999.0000,9,-999.0000,9,-999.0000,9,-999.0000,9,-999.0000,9,   4.0766,   4.2147,2
  33RR20070322,  I09N,   146,  1,     13,     13,2,20070413,0039,  0.3168,  93.3007, 4466,1609.2000,   1609.2,   3.8039,  34.8182,2,  34.8188,2,    100.7,2,    101.9,2,   109.94,2,    36.26,2,     0.00,2,     2.66,2,    0.007,2,    0.004,2, -999.000,5,   2316.9,2,   2388.7,6,   7.5255,2,    25.00,   -999.0,9,  -999.00,9, -999.000,9, -999.000,-999.0000,9,-999.0000,  -999.00,9,  -999.00, -999.000,9, -999.000,   -999.0,9,   -999.0,  -999.00,9,-999.0000,9,-999.0000,9,-999.0000,9,-999.0000,9,-999.0000,9,-999.0000,9,-999.0000,9,-999.0000,9,-999.0000,9,   3.6764,   3.8081,2
  33RR20070322,  I09N,   146,  1,     12,     12,2,20070413,0039,  0.3168,  93.3007, 4466,1709.7000,   1709.7,   3.5374,  34.8081,2,  34.8094,2,    108.0,2,    108.1,2,   111.77,2,    36.20,2,     0.00,2,     2.64,2, -999.000,9, -999.000,9, -999.000,9,   -999.0,9,   -999.0,9,-999.0000,9,  -999.00,   -999.0,9,  -999.00,9, -999.000,9, -999.000,-999.0000,9,-999.0000,  -999.00,9,  -999.00, -999.000,9, -999.000,   -999.0,9,   -999.0,  -999.00,9,-999.0000,9,-999.0000,9,-999.0000,9,-999.0000,9,-999.0000,9,-999.0000,9,-999.0000,9,-999.0000,9,-999.0000,9,   3.4041,   3.5369,2
  33RR20070322,  I09N,   146,  1,     11,     11,2,20070413,0039,  0.3168,  93.3007, 4466,1810.2000,   1810.2,   3.0903,  34.7906,2,  34.7921,2,    117.3,2,    117.8,2,   116.86,2,    35.88,2,     0.00,2,     2.60,2, -999.000,9, -999.000,9, -999.000,9,   -999.0,9,   -999.0,9,-999.0000,9,  -999.00,   -999.0,9,  -999.00,9, -999.000,9, -999.000,-999.0000,9,-999.0000,  -999.00,9,  -999.00, -999.000,9, -999.000,   -999.0,9,   -999.0,  -999.00,9,-999.0000,9,-999.0000,9,-999.0000,9,-999.0000,9,-999.0000,9,-999.0000,9,-999.0000,9,-999.0000,9,-999.0000,9,   2.9540,   3.0900,2
  33RR20070322,  I09N,   146,  1,     10,     10,2,20070413,0039,  0.3168,  93.3007, 4466,1911.6000,   1911.6,   2.8743,  34.7821,2,  34.7836,2,    123.3,2,    123.8,2,   119.30,2,    35.67,2,     0.00,2,     2.57,2, -999.000,9, -999.000,9, -999.000,9,   -999.0,9,   -999.0,9,-999.0000,9,  -999.00,   -999.0,9,  -999.00,9, -999.000,9, -999.000,-999.0000,9,-999.0000,  -999.00,9,  -999.00, -999.000,9, -999.000,   -999.0,9,   -999.0,  -999.00,9,-999.0000,9,-999.0000,9,-999.0000,9,-999.0000,9,-999.0000,9,-999.0000,9,-999.0000,9,-999.0000,9,-999.0000,9,   2.7320,   2.8745,2
  33RR20070322,  I09N,   146,  1,      9,      9,2,20070413,0039,  0.3168,  93.3007, 4466,2012.1000,   2012.1,   2.7497,  34.7762,2,  34.7777,2,    127.2,2,    127.4,2,   120.11,2,    35.39,2,     0.00,2,     2.56,2, -999.000,9, -999.000,9, -999.000,9,   -999.0,9,   -999.0,9,-999.0000,9,  -999.00,   -999.0,9,  -999.00,9, -999.000,9, -999.000,-999.0000,9,-999.0000,  -999.00,9,  -999.00, -999.000,9, -999.000,   -999.0,9,   -999.0,  -999.00,9,-999.0000,9,-999.0000,9,-999.0000,9,-999.0000,9,-999.0000,9,-999.0000,9,-999.0000,9,-999.0000,9,-999.0000,9,   2.6003,   2.7492,2
  33RR20070322,  I09N,   146,  1,      8,      8,2,20070413,0039,  0.3168,  93.3007, 4466,2265.1000,   2265.1,   2.3209,  34.7590,2,  34.7596,2,    138.6,2,    138.4,2,   125.43,2,    35.18,2,     0.00,2,     2.52,2, -999.000,9, -999.000,9, -999.000,9,   -999.0,9,   -999.0,9,-999.0000,9,  -999.00,   -999.0,9,  -999.00,9, -999.000,9, -999.000,-999.0000,9,-999.0000,  -999.00,9,  -999.00, -999.000,9, -999.000,   -999.0,9,   -999.0,  -999.00,9,-999.0000,9,-999.0000,9,-999.0000,9,-999.0000,9,-999.0000,9,-999.0000,9,-999.0000,9,-999.0000,9,-999.0000,9,   2.1558,   2.3205,2
  33RR20070322,  I09N,   146,  1,      7,      7,2,20070413,0039,  0.3168,  93.3007, 4466,2516.2000,   2516.2,   1.9962,  34.7454,2,  34.7455,2,    148.8,2,    149.0,2,   128.29,2,    34.81,2,     0.00,2,     2.47,2, -999.000,9, -999.000,9, -999.000,9,   -999.0,9,   -999.0,9,-999.0000,9,  -999.00,   -999.0,9,  -999.00,9, -999.000,9, -999.000,-999.0000,9,-999.0000,  -999.00,9,  -999.00, -999.000,9, -999.000,   -999.0,9,   -999.0,  -999.00,9,-999.0000,9,-999.0000,9,-999.0000,9,-999.0000,9,-999.0000,9,-999.0000,9,-999.0000,9,-999.0000,9,-999.0000,9,   1.8141,   1.9960,2
  33RR20070322,  I09N,   146,  1,      6,      6,2,20070413,0039,  0.3168,  93.3007, 4466,2719.5000,   2719.5,   1.8669,  34.7397,2,  34.7408,2,    153.8,2,    153.3,2,   129.31,2,    34.64,2,     0.00,2,     2.44,2,    0.007,2,    0.003,2, -999.000,5,   -999.0,9,   -999.0,9,-999.0000,9,  -999.00,   -999.0,9,  -999.00,9, -999.000,9, -999.000,-999.0000,9,-999.0000,  -999.00,9,  -999.00, -999.000,9, -999.000,   -999.0,9,   -999.0,  -999.00,9,-999.0000,9,-999.0000,9,-999.0000,9,-999.0000,9,-999.0000,9,-999.0000,9,-999.0000,9,-999.0000,9,-999.0000,9,   1.6685,   1.8672,2
  33RR20070322,  I09N,   146,  1,      5,      5,2,20070413,0039,  0.3168,  93.3007, 4466,3022.8000,   3022.8,   1.7027,  34.7331,2,  34.7335,2,    159.9,2,    159.7,2,   131.76,2,    34.43,2,     0.00,2,     2.42,2, -999.000,9, -999.000,9, -999.000,9,   -999.0,9,   -999.0,9,-999.0000,9,  -999.00,   -999.0,9,  -999.00,9, -999.000,9, -999.000,-999.0000,9,-999.0000,  -999.00,9,  -999.00, -999.000,9, -999.000,   -999.0,9,   -999.0,  -999.00,9,-999.0000,9,-999.0000,9,-999.0000,9,-999.0000,9,-999.0000,9,-999.0000,9,-999.0000,9,-999.0000,9,-999.0000,9,   1.4789,   1.7025,2