BOTTLE,20150630SIOCCHRJL
EXPOCODE,SECT_ID,STNNBR,CASTNO,SAMPNO,BTLNBR,BTLNBR_FLAG_W,DATE,TIME,LATITUDE,LONGITUDE,DEPTH,CTDRAW,CTDPRS,CTDTMP,CTDSAL,CTDSAL_FLAG_W,SALNTY,SALNTY_FLAG_W,CTDOXY,CTDOXY_FLAG_W,OXYGEN,OXYGEN_FLAG_W,SILCAT,SILCAT_FLAG_W,NITRAT,NITRAT_FLAG_W,NITRIT,NITRIT_FLAG_W,PHSPHT,PHSPHT_FLAG_W,CFC-11,CFC-11_FLAG_W,CFC-12,CFC-12_FLAG_W,CFC113,CFC113_FLAG_W,TCARBN,TCARBN_FLAG_W,ALKALI,ALKALI_FLAG_W,PH_SWS,PH_SWS_FLAG_W,PH_TMP,DOC,DOC_FLAG_W,TDN,TDN_FLAG_W,TRITUM,TRITUM_FLAG_W,TRITER,HELIUM,HELIUM_FLAG_W,HELIER,DELHE3,DELHE3_FLAG_W,DELHER,NEON,NEON_FLAG_W,NEONER,DELC14,DELC14_FLAG_W,C14ERR,DELC13,DELC13_FLAG_W,CDOM325,CDOM325_FLAG_W,CDOM340,CDOM340_FLAG_W,CDOM380,CDOM380_FLAG_W,CDOM412,CDOM412_FLAG_W,CDOM443,CDOM443_FLAG_W,CDOM490,CDOM490_FLAG_W,CDOM555,CDOM555_FLAG_W,CDOMSL,CDOMSL_FLAG_W,CDOMSN,CDOMSN_FLAG_W,THETA,SBE35,SBE35_FLAG_W
,,,,,,,,,,,METERS,,DBAR,ITS-90,PSS-78,,PSS-78,,UMOL/KG,,UMOL/KG,,UMOL/KG,,UMOL/KG,,UMOL/KG,,UMOL/KG,,PMOL/KG,,PMOL/KG,,PMOL/KG,,UMOL/KG,,UMOL/KG,,,,DEG C,UMOL/KG,,UMOL/KG,,TU,,TU,NMOL/KG,,NMOL/KG,PERCNT,,PERCNT,NMOL/KG,,NMOL/KG,/MILLE,,/MILLE,/MILLE,,1/M,,1/M,,1/M,,1/M,,1/M,,1/M,,1/M,,1/NM,,1/NM,,DEG C,ITS-90,
  33RR20070322,  I09N,   153,  1,      4,      4,2,20070414,2327,  2.5998,  91.8897, 4202,3122.4000,   3122.4,   1.6829,  34.7322,2,  34.7325,2,    160.8,2,    159.6,2,   133.07,2,    34.54,2,     0.00,2,     2.43,2, -999.000,9, -999.000,9, -999.000,9,   2311.1,2,   2413.3,2,   7.5754,2,    25.00,     40.3,2,    35.66,2, -999.000,9, -999.000,-999.0000,9,-999.0000,  -999.00,9,  -999.00, -999.000,9, -999.000,   -999.0,9,   -999.0,  -999.00,9,   0.1597,3,   0.1144,3,   0.0653,3,   0.0474,3,   0.0188,3,   0.0053,3,   0.0006,3,   0.0139,3,   0.0143,4,   1.4499,   1.6825,2
  33RR20070322,  I09N,   153,  1,      3,      3,2,20070414,2327,  2.5998,  91.8897, 4202,3527.4000,   3527.4,   1.4159,  34.7235,2,  34.7237,2,    171.3,2,    171.9,2,   133.27,2,    34.05,2,     0.00,2,     2.38,2,    0.009,2,    0.005,2, -999.000,5,   2305.0,2,   2411.5,2,   7.5910,3,    25.00,     41.1,2,    35.22,2, -999.000,9, -999.000,-999.0000,9,-999.0000,  -999.00,9,  -999.00, -999.000,9, -999.000,   -999.0,9,   -999.0,  -999.00,9,   0.1515,2,   0.1074,2,   0.0601,2,   0.0426,2,   0.0155,2,   0.0036,3,  -0.0006,4,   0.0142,2,   0.0149,2,   1.1488,   1.4159,2
  33RR20070322,  I09N,   153,  1,      2,      2,2,20070414,2327,  2.5998,  91.8897, 4202,3933.8000,   3933.8,   1.1485,  34.7158,2,  34.7164,2,    189.9,2,    190.0,2,   128.37,2,    33.14,2,     0.00,2,     2.29,2, -999.000,9, -999.000,9, -999.000,9,   2289.0,2,   2400.3,2,   7.6196,2,    25.00,     40.4,2,    34.47,2, -999.000,9, -999.000,-999.0000,9,-999.0000,  -999.00,9,  -999.00, -999.000,9, -999.000,   -999.0,9,   -999.0,  -999.00,9,   0.1424,2,   0.1008,2,   0.0569,2,   0.0418,2,   0.0155,2,   0.0036,3,  -0.0004,4,   0.0138,2,   0.0144,3,   0.8463,   1.1488,2
  33RR20070322,  I09N,   153,  1,      1,      1,2,20070414,2327,  2.5998,  91.8897, 4202,4244.9000,   4244.9,   1.1583,  34.7145,2,  34.7154,2,    192.0,2,    192.3,2,   128.16,2,    33.03,2,     0.00,2,     2.28,2,    0.009,2,    0.005,2, -999.000,5,   2288.8,6,   2400.0,6,   7.6248,6,    25.00,     40.7,2,    34.86,2, -999.000,9, -999.000,-999.0000,9,-999.0000,  -999.00,9,  -999.00, -999.000,9, -999.000,   -999.0,9,   -999.0,  -999.00,9,   0.1372,2,   0.0962,2,   0.0537,2,   0.0388,2,   0.0135,2,   0.0029,3,  -0.0006,4,   0.0138,2,   0.0148,3,   0.8222,   1.1579,2