BOTTLE,20150630SIOCCHRJL
EXPOCODE,SECT_ID,STNNBR,CASTNO,SAMPNO,BTLNBR,BTLNBR_FLAG_W,DATE,TIME,LATITUDE,LONGITUDE,DEPTH,CTDRAW,CTDPRS,CTDTMP,CTDSAL,CTDSAL_FLAG_W,SALNTY,SALNTY_FLAG_W,CTDOXY,CTDOXY_FLAG_W,OXYGEN,OXYGEN_FLAG_W,SILCAT,SILCAT_FLAG_W,NITRAT,NITRAT_FLAG_W,NITRIT,NITRIT_FLAG_W,PHSPHT,PHSPHT_FLAG_W,CFC-11,CFC-11_FLAG_W,CFC-12,CFC-12_FLAG_W,CFC113,CFC113_FLAG_W,TCARBN,TCARBN_FLAG_W,ALKALI,ALKALI_FLAG_W,PH_SWS,PH_SWS_FLAG_W,PH_TMP,DOC,DOC_FLAG_W,TDN,TDN_FLAG_W,TRITUM,TRITUM_FLAG_W,TRITER,HELIUM,HELIUM_FLAG_W,HELIER,DELHE3,DELHE3_FLAG_W,DELHER,NEON,NEON_FLAG_W,NEONER,DELC14,DELC14_FLAG_W,C14ERR,DELC13,DELC13_FLAG_W,CDOM325,CDOM325_FLAG_W,CDOM340,CDOM340_FLAG_W,CDOM380,CDOM380_FLAG_W,CDOM412,CDOM412_FLAG_W,CDOM443,CDOM443_FLAG_W,CDOM490,CDOM490_FLAG_W,CDOM555,CDOM555_FLAG_W,CDOMSL,CDOMSL_FLAG_W,CDOMSN,CDOMSN_FLAG_W,THETA,SBE35,SBE35_FLAG_W
,,,,,,,,,,,METERS,,DBAR,ITS-90,PSS-78,,PSS-78,,UMOL/KG,,UMOL/KG,,UMOL/KG,,UMOL/KG,,UMOL/KG,,UMOL/KG,,PMOL/KG,,PMOL/KG,,PMOL/KG,,UMOL/KG,,UMOL/KG,,,,DEG C,UMOL/KG,,UMOL/KG,,TU,,TU,NMOL/KG,,NMOL/KG,PERCNT,,PERCNT,NMOL/KG,,NMOL/KG,/MILLE,,/MILLE,/MILLE,,1/M,,1/M,,1/M,,1/M,,1/M,,1/M,,1/M,,1/NM,,1/NM,,DEG C,ITS-90,
  33RR20070322,  I09N,    93,  2,     36,     38,2,20070327,1822,-25.9045,  95.0028, 5221,   4.2000,      4.2,  22.6157,  36.1190,2,  36.1191,2,    216.8,2,    218.4,2,     1.93,2,     0.12,2,     0.00,2,     0.10,2,    2.009,2,    1.264,2, -999.000,5,   2053.9,6,   2368.2,2,   8.0245,2,    25.00,     75.7,2,  -999.00,9, -999.000,9, -999.000,-999.0000,9,-999.0000,  -999.00,9,  -999.00, -999.000,9, -999.000,   -999.0,9,   -999.0,  -999.00,9,   0.0502,2,   0.0309,2,   0.0141,2,   0.0113,2,  -0.0049,4,  -0.0048,4,  -0.0036,4,   0.0160,3,   0.0217,3,  22.6149,  22.6122,2
  33RR20070322,  I09N,    93,  2,     35,     35,2,20070327,1822,-25.9045,  95.0028, 5221,  41.3000,     41.3,  22.6425,  36.1507,2,  36.1513,2,    219.6,2,    218.0,2,     1.71,2,     0.12,2,     0.00,2,     0.10,2, -999.000,5,    1.251,2, -999.000,5,   2057.8,2,   2369.6,2,   8.0153,6,    25.00,     75.3,2,  -999.00,9, -999.000,9, -999.000,-999.0000,9,-999.0000,  -999.00,9,  -999.00, -999.000,9, -999.000,     64.0,2,      2.3,     1.14,2,   0.0455,2,   0.0298,2,   0.0140,2,   0.0111,2,  -0.0054,4,  -0.0054,4,  -0.0041,4,   0.0155,2,   0.0199,2,  22.6341,  22.6377,2
  33RR20070322,  I09N,    93,  2,     34,   9419,2,20070327,1822,-25.9045,  95.0028, 5221,  75.7000,     75.7,  19.0873,  35.8811,2,  35.8830,2,    242.4,2,    243.4,2,     1.29,2,     0.12,2,     0.00,2,     0.12,2,    2.388,2,    1.484,2, -999.000,5,   2060.4,2,   2353.7,6,   7.9949,2,    25.00,     66.4,2,  -999.00,9, -999.000,9, -999.000,-999.0000,9,-999.0000,  -999.00,9,  -999.00, -999.000,9, -999.000,   -999.0,9,   -999.0,  -999.00,9,   0.1114,2,   0.0750,2,   0.0330,2,   0.0220,2,   0.0014,3,  -0.0017,4,  -0.0023,4,   0.0158,3,   0.0198,3,  19.0737,  19.0347,2
  33RR20070322,  I09N,    93,  2,     33,     33,2,20070327,1822,-25.9045,  95.0028, 5221,  96.7000,     96.7,  17.8121,  35.8302,2,  35.8336,2,    245.8,2,    244.5,2,     1.27,2,     0.12,2,     0.00,2,     0.14,2,    2.450,2,    1.532,2, -999.000,5,   2067.9,2,   2351.8,2,   7.9734,2,    25.00,     65.5,2,  -999.00,9, -999.000,9, -999.000,-999.0000,9,-999.0000,  -999.00,9,  -999.00, -999.000,9, -999.000,     67.3,2,      2.2,     1.37,2,   0.1248,2,   0.0864,2,   0.0391,2,   0.0266,2,   0.0040,2,  -0.0004,4,  -0.0015,4,   0.0154,3,   0.0187,3,  17.7956,  17.8248,2
  33RR20070322,  I09N,    93,  2,     32,     37,2,20070327,1822,-25.9045,  95.0028, 5221, 126.0000,    126.0,  16.8088,  35.7998,2,  35.8017,2,    234.5,2,    234.0,2,     1.24,2,     0.28,2,     0.04,2,     0.20,2,    2.558,2,    1.582,2, -999.000,5,   2084.7,2,   2352.1,2,   7.9437,2,    25.00,     58.3,2,  -999.00,9, -999.000,9, -999.000,-999.0000,9,-999.0000,  -999.00,9,  -999.00, -999.000,9, -999.000,   -999.0,9,   -999.0,  -999.00,9,   0.1047,2,   0.0748,2,   0.0373,2,   0.0280,2,   0.0039,3,  -0.0013,4,  -0.0020,4,   0.0145,2,   0.0163,3,  16.7881,  16.7718,2
  33RR20070322,  I09N,    93,  2,     31,     31,2,20070327,1822,-25.9045,  95.0028, 5221, 176.2000,    176.2,  15.5040,  35.6352,2,  35.6386,2,    228.6,2,    228.2,2,     1.43,2,     2.57,2,     0.09,2,     0.33,2,    2.735,2,    1.689,2, -999.000,5,   2093.9,2,   2342.4,2,   7.9013,2,    25.00,     55.0,2,  -999.00,9, -999.000,9, -999.000,-999.0000,9,-999.0000,  -999.00,9,  -999.00, -999.000,9, -999.000,     68.9,2,      2.3,     1.21,2,   0.0896,2,   0.0634,2,   0.0318,2,   0.0247,2,   0.0020,3,  -0.0024,4,  -0.0026,4,   0.0141,2,   0.0161,3,  15.4766,  15.4955,2
  33RR20070322,  I09N,    93,  2,     30,     30,2,20070327,1822,-25.9045,  95.0028, 5221, 224.9000,    224.9,  14.1306,  35.4621,2,  35.4611,2,    224.8,2,    225.5,2,     1.80,2,     5.35,2,     0.01,2,     0.48,2,    2.960,2,    1.765,2, -999.000,5,   2104.6,2,   2330.8,2,   7.8754,2,    25.00,     51.3,2,  -999.00,9, -999.000,9, -999.000,-999.0000,9,-999.0000,  -999.00,9,  -999.00, -999.000,9, -999.000,   -999.0,9,   -999.0,  -999.00,9,   0.0869,2,   0.0606,2,   0.0315,2,   0.0244,2,   0.0020,3,  -0.0027,4,  -0.0029,4,   0.0140,2,   0.0158,3,  14.0977,  14.1305,2
  33RR20070322,  I09N,    93,  2,     29,     29,2,20070327,1822,-25.9045,  95.0028, 5221, 276.1000,    276.1,  12.9226,  35.2702,2,  35.2824,2,    229.5,2,    231.0,2,     1.98,2,     7.25,2,     0.00,2,     0.60,2,    3.140,2,    1.855,2, -999.000,5,   2107.8,2,   2320.9,2,   7.8529,2,    25.00,     49.5,2,  -999.00,9, -999.000,9, -999.000,-999.0000,9,-999.0000,  -999.00,9,  -999.00, -999.000,9, -999.000,     70.7,2,      2.3,     1.20,2,   0.0772,2,   0.0532,2,   0.0270,2,   0.0205,2,   0.0002,4,  -0.0034,4,  -0.0034,4,   0.0140,2,   0.0165,2,  12.8846,  12.9428,2
  33RR20070322,  I09N,    93,  2,     28,     28,2,20070327,1822,-25.9045,  95.0028, 5221, 326.0000,    326.0,  12.0085,  35.1147,2,  35.1165,2,    235.5,2,    236.7,2,     2.35,2,     9.20,2,     0.00,2,     0.71,2,    3.145,2,    1.942,2, -999.000,5,   2110.6,2,   2312.1,2,   7.8168,2,    25.00,     48.1,2,  -999.00,9, -999.000,9, -999.000,-999.0000,9,-999.0000,  -999.00,9,  -999.00, -999.000,9, -999.000,     61.9,2,      2.8,     1.16,2,   0.0735,2,   0.0500,2,   0.0253,2,   0.0192,2,  -0.0003,4,  -0.0036,4,  -0.0035,4,   0.0140,2,   0.0167,3,  11.9657,  12.0148,2
  33RR20070322,  I09N,    93,  2,     27,     27,2,20070327,1822,-25.9045,  95.0028, 5221, 377.9000,    377.9,  11.3817,  35.0106,2,  35.0147,2,    238.3,2,    238.7,2,     2.94,2,    10.72,2,     0.00,2,     0.81,2, -999.000,9, -999.000,9, -999.000,9,   2112.6,2,   2306.5,2,   7.8096,2,    25.00,     47.0,2,  -999.00,9, -999.000,9, -999.000,-999.0000,9,-999.0000,  -999.00,9,  -999.00, -999.000,9, -999.000,     64.3,2,      3.3,     1.20,2,   0.0713,2,   0.0482,2,   0.0248,2,   0.0187,2,  -0.0006,4,  -0.0040,4,  -0.0038,4,   0.0139,2,   0.0167,3,  11.3337,  11.3986,2
  33RR20070322,  I09N,    93,  2,     26,     26,2,20070327,1822,-25.9045,  95.0028, 5221, 426.6000,    426.6,  10.7846,  34.9144,2,  34.9150,2,    240.8,2,    241.9,2,     3.31,2,    12.15,2,     0.00,2,     0.90,2,    3.461,2,    2.037,2, -999.000,5,   2116.4,2,   2301.8,2,   7.8014,2,    25.00,     45.6,2,  -999.00,9, -999.000,9, -999.000,-999.0000,9,-999.0000,  -999.00,9,  -999.00, -999.000,9, -999.000,     62.8,2,      3.2,     1.20,2,   0.0704,2,   0.0470,2,   0.0237,2,   0.0178,2,  -0.0009,4,  -0.0040,4,  -0.0038,4,   0.0142,2,   0.0173,3,  10.7322,  10.7848,2
  33RR20070322,  I09N,    93,  2,     25,     25,2,20070327,1822,-25.9045,  95.0028, 5221, 476.8000,    476.8,  10.3048,  34.8361,2,  34.8398,2,    242.5,2,    242.6,2,     3.69,2,    13.35,2,     0.00,2,     0.97,2, -999.000,9, -999.000,9, -999.000,9,   2117.2,2,   2298.6,2,   7.7870,2,    25.00,     44.3,2,  -999.00,9, -999.000,9, -999.000,-999.0000,9,-999.0000,  -999.00,9,  -999.00, -999.000,9, -999.000,     54.5,2,      3.2,     1.23,2,   0.0704,2,   0.0471,2,   0.0244,2,   0.0183,2,  -0.0006,4,  -0.0038,4,  -0.0036,4,   0.0139,2,   0.0167,3,  10.2477,  10.3010,2
  33RR20070322,  I09N,    93,  2,     24,     24,2,20070327,1822,-25.9045,  95.0028, 5221, 525.9000,    525.9,   9.9136,  34.7749,2,  34.7775,2,    242.9,2,    242.9,2,     4.07,2,    14.46,2,     0.00,2,     1.04,2,    3.549,2,    2.071,2, -999.000,5,   2118.9,2,   2294.6,2,   7.7644,2,    25.00,     43.4,2,  -999.00,9, -999.000,9, -999.000,-999.0000,9,-999.0000,  -999.00,9,  -999.00, -999.000,9, -999.000,     53.5,2,      3.3,     1.22,2,   0.0723,2,   0.0482,2,   0.0251,2,   0.0188,2,   0.0000,4,  -0.0037,4,  -0.0037,4,   0.0138,2,   0.0167,3,   9.8520,   9.9138,2
  33RR20070322,  I09N,    93,  2,     23,     23,2,20070327,1822,-25.9045,  95.0028, 5221, 646.8000,    646.8,   8.9646,  34.6385,2,  34.6428,2,    237.2,2,    234.2,2,     5.66,2,    17.83,2,     0.00,2,     1.26,2,    3.470,2,    1.938,2, -999.000,5,   2130.1,2,   2289.5,2,-999.0000,5,    25.00,     42.6,2,  -999.00,9, -999.000,9, -999.000,-999.0000,9,-999.0000,  -999.00,9,  -999.00, -999.000,9, -999.000,     45.5,2,      3.4,     1.26,2,   0.0745,2,   0.0492,2,   0.0261,2,   0.0197,2,   0.0006,4,  -0.0034,4,  -0.0036,4,   0.0136,3,   0.0164,3,   8.8930,   8.9649,2
  33RR20070322,  I09N,    93,  2,     22,     22,2,20070327,1822,-25.9045,  95.0028, 5221, 746.9000,    746.9,   7.6317,  34.5156,2,  34.5192,2,    218.6,2,    210.8,2,    12.26,2,    23.04,2,     0.00,2,     1.59,2, -999.000,5, -999.000,5, -999.000,5,   2152.7,2,   2287.5,2,-999.0000,5,    25.00,     41.9,2,  -999.00,9, -999.000,9, -999.000,-999.0000,9,-999.0000,  -999.00,9,  -999.00, -999.000,9, -999.000,      5.9,2,      2.9,     1.19,2,   0.0811,2,   0.0534,2,   0.0274,2,   0.0201,2,   0.0011,3,  -0.0031,4,  -0.0034,4,   0.0142,3,   0.0172,3,   7.5560,   7.6348,2
  33RR20070322,  I09N,    93,  2,     21,     21,2,20070327,1822,-25.9045,  95.0028, 5221, 847.4000,    847.4,   5.8412,  34.4249,2,  34.4275,2,    196.5,2,    191.4,2,    26.30,2,    28.70,2,     0.00,2,     1.98,2,    1.440,2,    0.728,2, -999.000,5,   2184.4,2,   2295.4,2,   7.6380,3,    25.00,     41.1,2,  -999.00,9, -999.000,9, -999.000,-999.0000,9,-999.0000,  -999.00,9,  -999.00, -999.000,9, -999.000,    -49.4,2,      2.9,     1.05,2,   0.0935,2,   0.0619,2,   0.0332,2,   0.0245,2,   0.0039,2,  -0.0019,4,  -0.0030,4,   0.0138,3,   0.0162,3,   5.7662,   5.8453,2
  33RR20070322,  I09N,    93,  2,     20,     20,2,20070327,1822,-25.9045,  95.0028, 5221, 948.4000,    948.4,   4.7036,  34.4259,2,  34.4263,2,    181.9,2,    175.9,2,    43.37,2,    31.93,2,     0.00,2,     2.26,2,    0.797,2,    0.408,2, -999.000,5,   2214.0,2,   2310.5,2,   7.5920,3,    25.00,     41.2,2,  -999.00,9, -999.000,9, -999.000,-999.0000,9,-999.0000,  -999.00,9,  -999.00, -999.000,9, -999.000,    -86.1,2,      2.6,     0.85,2,   0.1064,2,   0.0718,2,   0.0392,2,   0.0285,2,   0.0065,2,  -0.0011,4,  -0.0027,4,   0.0140,3,   0.0158,3,   4.6272,   4.7132,2
  33RR20070322,  I09N,    93,  2,     19,     19,2,20070327,1822,-25.9045,  95.0028, 5221,1048.5000,   1048.5,   4.1930,  34.4694,2,  34.4693,2,    168.0,2,    159.6,2,    57.84,2,    33.80,2,     0.00,2,     2.39,2,    0.412,2,    0.218,2, -999.000,5,   2236.7,2,   2326.6,2,-999.0000,5,    25.00,     41.2,2,  -999.00,9, -999.000,9, -999.000,-999.0000,9,-999.0000,  -999.00,9,  -999.00, -999.000,9, -999.000,   -116.7,2,      3.1,     0.70,2,   0.1208,2,   0.0833,2,   0.0464,2,   0.0339,2,   0.0100,2,   0.0005,4,  -0.0019,4,   0.0139,2,   0.0151,3,   4.1118,   4.1922,2
  33RR20070322,  I09N,    93,  2,     18,     18,2,20070327,1822,-25.9045,  95.0028, 5221,1148.5000,   1148.5,   3.9934,  34.5250,2,  34.5243,2,    148.8,2,    143.9,2,    70.33,2,    34.81,2,     0.00,2,     2.51,2,    0.156,2,    0.090,2, -999.000,5,   2255.8,2,   2338.4,2,   7.5604,2,    25.00,     40.9,2,  -999.00,9, -999.000,9, -999.000,-999.0000,9,-999.0000,  -999.00,9,  -999.00, -999.000,9, -999.000,   -999.0,9,   -999.0,  -999.00,9,   0.1305,2,   0.0911,2,   0.0517,2,   0.0382,2,   0.0127,2,   0.0015,3,  -0.0017,4,   0.0140,3,   0.0147,3,   3.9052,   3.9935,2
  33RR20070322,  I09N,    93,  2,     17,     17,2,20070327,1822,-25.9045,  95.0028, 5221,1248.0000,   1248.0,   3.7285,  34.5595,2,  34.5572,2,    141.0,2,    140.0,2,    77.37,2,    35.23,2,     0.00,2,     2.53,2,    0.072,2,    0.045,2, -999.000,5,   2263.1,6,   2346.3,6,   7.5443,6,    25.00,     40.2,2,  -999.00,9, -999.000,9, -999.000,-999.0000,9,-999.0000,  -999.00,9,  -999.00, -999.000,9, -999.000,   -153.0,2,      2.5,     0.48,2,   0.1385,2,   0.0976,2,   0.0555,2,   0.0408,2,   0.0146,2,   0.0028,3,  -0.0009,4,   0.0139,3,   0.0145,3,   3.6342,   3.7288,2
  33RR20070322,  I09N,    93,  2,     16,     16,2,20070327,1822,-25.9045,  95.0028, 5221,1349.5000,   1349.5,   3.4826,  34.5875,2,  34.5869,2,    139.9,2,    139.7,2,    82.61,2,    35.34,2,     0.00,2,     2.53,2,    0.035,2,    0.019,2, -999.000,5,   2270.0,2,   2353.9,2,   7.5428,2,    25.00,     40.7,2,  -999.00,9, -999.000,9, -999.000,-999.0000,9,-999.0000,  -999.00,9,  -999.00, -999.000,9, -999.000,   -999.0,9,   -999.0,  -999.00,9,   0.1399,2,   0.0979,2,   0.0559,2,   0.0412,2,   0.0149,2,   0.0023,3,  -0.0015,4,   0.0140,3,   0.0145,3,   3.3821,   3.4815,2
  33RR20070322,  I09N,    93,  2,     15,     15,2,20070327,1822,-25.9045,  95.0028, 5221,1450.7000,   1450.7,   3.3033,  34.6135,2,  34.6132,2,    140.2,2,    140.4,2,    86.63,2,    35.28,2,     0.00,2,     2.53,2, -999.000,9, -999.000,9, -999.000,9,   2274.0,2,   2358.0,2,   7.5453,2,    25.00,     40.6,2,  -999.00,9, -999.000,9, -999.000,-999.0000,9,-999.0000,  -999.00,9,  -999.00, -999.000,9, -999.000,   -160.4,2,      2.5,     0.45,2,   0.1372,2,   0.0964,2,   0.0547,2,   0.0397,2,   0.0138,2,   0.0020,3,  -0.0015,4,   0.0141,2,   0.0147,3,   3.1961,   3.3033,2
  33RR20070322,  I09N,    93,  2,     14,     14,2,20070327,1822,-25.9045,  95.0028, 5221,1551.1000,   1551.1,   3.1051,  34.6446,2,  34.6450,2,    142.2,2,    142.3,2,    91.07,2,    35.06,2,     0.00,2,     2.51,2,    0.006,2,    0.004,2, -999.000,5,   2277.4,2,   2362.9,2,   7.5460,3,    25.00,     40.5,2,  -999.00,9, -999.000,9, -999.000,-999.0000,9,-999.0000,  -999.00,9,  -999.00, -999.000,9, -999.000,   -999.0,9,   -999.0,  -999.00,9,   0.1401,2,   0.0986,2,   0.0556,2,   0.0403,2,   0.0140,2,   0.0020,3,  -0.0015,4,   0.0143,2,   0.0148,3,   2.9915,   3.1054,2
  33RR20070322,  I09N,    93,  2,     13,     13,2,20070327,1822,-25.9045,  95.0028, 5221,1751.8000,   1751.8,   2.7284,  34.6841,2,  34.6843,2,    149.1,2,    150.5,2,    97.75,2,    34.47,2,     0.00,2,     2.47,2,    0.005,2,    0.004,2, -999.000,5,   2279.6,2,   2371.1,2,   7.5535,2,    25.00,     40.1,2,  -999.00,9, -999.000,9, -999.000,-999.0000,9,-999.0000,  -999.00,9,  -999.00, -999.000,9, -999.000,   -999.0,9,   -999.0,  -999.00,9,   0.1388,2,   0.0977,2,   0.0545,2,   0.0388,2,   0.0132,2,   0.0018,3,  -0.0014,4,   0.0143,2,   0.0150,3,   2.6024,   2.7266,2
  33RR20070322,  I09N,    93,  2,     12,     12,2,20070327,1822,-25.9045,  95.0028, 5221,1954.0000,   1954.0,   2.4536,  34.7113,2,  34.7112,2,    153.6,2,    155.0,2,   105.66,2,    34.20,2,     0.00,2,     2.44,2,    0.003,2,    0.002,2, -999.000,5,   2284.0,2,   2378.7,2,   7.5639,2,    25.00,     40.1,2,  -999.00,9, -999.000,9, -999.000,-999.0000,9,-999.0000,  -999.00,9,  -999.00, -999.000,9, -999.000,   -999.0,9,   -999.0,  -999.00,9,   0.1396,2,   0.0981,2,   0.0554,2,   0.0399,2,   0.0136,2,   0.0020,3,  -0.0015,4,   0.0143,2,   0.0149,3,   2.3140,   2.4538,2
  33RR20070322,  I09N,    93,  2,     11,     11,2,20070327,1822,-25.9045,  95.0028, 5221,2115.5000,   2115.5,   2.2603,  34.7200,2,  34.7202,2,    159.4,2,    160.3,2,   108.28,2,    33.88,2,     0.00,2,     2.41,2, -999.000,5, -999.000,5, -999.000,5,   2283.7,2,   2380.9,2,   7.5794,2,    25.00,     40.2,2,  -999.00,9, -999.000,9, -999.000,-999.0000,9,-999.0000,  -999.00,9,  -999.00, -999.000,9, -999.000,   -999.0,9,   -999.0,  -999.00,9,   0.1391,2,   0.0977,2,   0.0546,2,   0.0393,2,   0.0131,2,   0.0017,3,  -0.0016,4,   0.0144,2,   0.0150,3,   2.1096,   2.2607,2
  33RR20070322,  I09N,    93,  2,     10,     10,2,20070327,1822,-25.9045,  95.0028, 5221,2369.9000,   2369.9,   2.0433,  34.7262,2,  34.7263,2,    166.0,2,    166.9,2,   111.71,2,    33.50,2,     0.00,2,     2.39,2, -999.000,9, -999.000,9, -999.000,9,   2282.9,2,   2384.3,2,   7.5855,2,    25.00,     41.0,2,  -999.00,9, -999.000,9, -999.000,-999.0000,9,-999.0000,  -999.00,9,  -999.00, -999.000,9, -999.000,   -999.0,9,   -999.0,  -999.00,9,   0.1407,2,   0.1010,2,   0.0550,2,   0.0386,2,   0.0125,2,   0.0016,3,  -0.0015,4,   0.0148,2,   0.0154,2,   1.8737,   2.0450,2
  33RR20070322,  I09N,    93,  2,      9,      9,2,20070327,1822,-25.9045,  95.0028, 5221,2622.2000,   2622.2,   1.8729,  34.7285,2,  34.7282,2,    173.7,2,    174.3,2,   112.91,2,    33.13,2,     0.00,2,     2.34,2,    0.007,2,    0.004,2, -999.000,5,   2279.6,2,   2383.6,2,   7.5850,2,    25.00,     40.5,2,  -999.00,9, -999.000,9, -999.000,-999.0000,9,-999.0000,  -999.00,9,  -999.00, -999.000,9, -999.000,   -999.0,9,   -999.0,  -999.00,9,   0.1349,2,   0.0948,2,   0.0508,2,   0.0352,2,   0.0102,2,   0.0008,3,  -0.0017,4,   0.0148,2,   0.0160,2,   1.6835,   1.8726,2
  33RR20070322,  I09N,    93,  2,      8,      8,2,20070327,1822,-25.9045,  95.0028, 5221,2873.3000,   2873.3,   1.7044,  34.7290,2,  34.7292,2,    178.8,2,    179.2,2,   115.12,2,    32.91,2,     0.00,2,     2.32,2, -999.000,9, -999.000,9, -999.000,9,   2279.3,2,   2385.0,2,   7.5892,2,    25.00,     40.6,2,  -999.00,9, -999.000,9, -999.000,-999.0000,9,-999.0000,  -999.00,9,  -999.00, -999.000,9, -999.000,   -999.0,9,   -999.0,  -999.00,9,   0.1339,2,   0.0935,2,   0.0523,2,   0.0374,2,   0.0119,2,   0.0013,3,  -0.0017,4,   0.0144,2,   0.0151,3,   1.4949,   1.7043,2
  33RR20070322,  I09N,    93,  2,      7,      7,2,20070327,1822,-25.9045,  95.0028, 5221,3128.7000,   3128.7,   1.5644,  34.7276,2,  34.7278,2,    183.2,2,    183.4,2,   117.75,2,    32.85,2,     0.00,2,     2.31,2,    0.007,2,    0.004,2, -999.000,5,   2278.6,2,   2384.7,2,   7.5830,3,    25.00,     40.4,2,  -999.00,9, -999.000,9, -999.000,-999.0000,9,-999.0000,  -999.00,9,  -999.00, -999.000,9, -999.000,   -999.0,9,   -999.0,  -999.00,9,   0.1325,2,   0.0924,2,   0.0518,2,   0.0371,2,   0.0117,2,   0.0013,3,  -0.0016,4,   0.0143,2,   0.0151,3,   1.3335,   1.5646,2
  33RR20070322,  I09N,    93,  2,      6,      6,2,20070327,1822,-25.9045,  95.0028, 5221,3532.6000,   3532.6,   1.3499,  34.7232,2,  34.7217,2,    188.8,2,    189.5,2,   121.61,2,    32.80,2,     0.00,2,     2.30,2, -999.000,9, -999.000,9, -999.000,9,   2277.2,2,   2387.9,2,   6.9215,4,    25.00,     40.6,2,  -999.00,9, -999.000,9, -999.000,-999.0000,9,-999.0000,  -999.00,9,  -999.00, -999.000,9, -999.000,   -999.0,9,   -999.0,  -999.00,9,   0.1290,2,   0.0892,2,   0.0492,2,   0.0346,2,   0.0103,2,   0.0007,3,  -0.0019,4,   0.0143,2,   0.0156,3,   1.0840,   1.3501,2
  33RR20070322,  I09N,    93,  2,      5,      5,2,20070327,1822,-25.9045,  95.0028, 5221,3942.4000,   3942.4,   1.1887,  34.7184,2,  34.7177,2,    196.3,2,    196.4,2,   121.79,2,    32.58,2,     0.00,2,     2.27,2,    0.003,2,    0.004,2, -999.000,5,   2272.8,2,   2384.4,2,   7.6030,3,    25.00,     40.6,2,  -999.00,9, -999.000,9, -999.000,-999.0000,9,-999.0000,  -999.00,9,  -999.00, -999.000,9, -999.000,   -999.0,9,   -999.0,  -999.00,9,   0.1292,2,   0.0895,2,   0.0489,2,   0.0346,2,   0.0102,2,   0.0008,3,  -0.0017,4,   0.0143,2,   0.0156,3,   0.8845,   1.1893,2