BOTTLE,20150630SIOCCHRJL
EXPOCODE,SECT_ID,STNNBR,CASTNO,SAMPNO,BTLNBR,BTLNBR_FLAG_W,DATE,TIME,LATITUDE,LONGITUDE,DEPTH,CTDRAW,CTDPRS,CTDTMP,CTDSAL,CTDSAL_FLAG_W,SALNTY,SALNTY_FLAG_W,CTDOXY,CTDOXY_FLAG_W,OXYGEN,OXYGEN_FLAG_W,SILCAT,SILCAT_FLAG_W,NITRAT,NITRAT_FLAG_W,NITRIT,NITRIT_FLAG_W,PHSPHT,PHSPHT_FLAG_W,CFC-11,CFC-11_FLAG_W,CFC-12,CFC-12_FLAG_W,CFC113,CFC113_FLAG_W,TCARBN,TCARBN_FLAG_W,ALKALI,ALKALI_FLAG_W,PH_SWS,PH_SWS_FLAG_W,PH_TMP,DOC,DOC_FLAG_W,TDN,TDN_FLAG_W,TRITUM,TRITUM_FLAG_W,TRITER,HELIUM,HELIUM_FLAG_W,HELIER,DELHE3,DELHE3_FLAG_W,DELHER,NEON,NEON_FLAG_W,NEONER,DELC14,DELC14_FLAG_W,C14ERR,DELC13,DELC13_FLAG_W,CDOM325,CDOM325_FLAG_W,CDOM340,CDOM340_FLAG_W,CDOM380,CDOM380_FLAG_W,CDOM412,CDOM412_FLAG_W,CDOM443,CDOM443_FLAG_W,CDOM490,CDOM490_FLAG_W,CDOM555,CDOM555_FLAG_W,CDOMSL,CDOMSL_FLAG_W,CDOMSN,CDOMSN_FLAG_W,THETA,SBE35,SBE35_FLAG_W
,,,,,,,,,,,METERS,,DBAR,ITS-90,PSS-78,,PSS-78,,UMOL/KG,,UMOL/KG,,UMOL/KG,,UMOL/KG,,UMOL/KG,,UMOL/KG,,PMOL/KG,,PMOL/KG,,PMOL/KG,,UMOL/KG,,UMOL/KG,,,,DEG C,UMOL/KG,,UMOL/KG,,TU,,TU,NMOL/KG,,NMOL/KG,PERCNT,,PERCNT,NMOL/KG,,NMOL/KG,/MILLE,,/MILLE,/MILLE,,1/M,,1/M,,1/M,,1/M,,1/M,,1/M,,1/M,,1/NM,,1/NM,,DEG C,ITS-90,
  33RR20070322,  I09N,   130,  1,     36,     38,2,20070408,1841, -5.5305,  95.0123, 5061,   3.1000,      3.1,  29.3444,  33.9749,2,  33.9786,2,    195.6,2,    196.3,2,     1.79,2,     0.06,2,     0.00,2,     0.08,2,    1.520,2,    1.010,2, -999.000,5,   1902.1,6,   2230.2,2,-999.0000,5,    25.00,   -999.0,9,  -999.00,9, -999.000,9, -999.000,-999.0000,9,-999.0000,  -999.00,9,  -999.00, -999.000,9, -999.000,   -999.0,9,   -999.0,  -999.00,9,-999.0000,9,-999.0000,9,-999.0000,9,-999.0000,9,-999.0000,9,-999.0000,9,-999.0000,9,-999.0000,9,-999.0000,9,  29.3436,  29.3410,2
  33RR20070322,  I09N,   130,  1,     35,     35,2,20070408,1841, -5.5305,  95.0123, 5061,  20.7000,     20.7,  28.8436,  34.1536,2,  34.1557,2,    199.5,2,    198.7,2,     1.79,2,     0.06,2,     0.00,2,     0.07,2,    1.536,2,    0.996,2, -999.000,5,   1900.8,2,   2241.2,3,   8.1131,2,    25.00,   -999.0,9,  -999.00,9, -999.000,9, -999.000,-999.0000,9,-999.0000,  -999.00,9,  -999.00, -999.000,9, -999.000,   -999.0,9,   -999.0,  -999.00,9,-999.0000,9,-999.0000,9,-999.0000,9,-999.0000,9,-999.0000,9,-999.0000,9,-999.0000,9,-999.0000,9,-999.0000,9,  28.8386,  28.8293,2
  33RR20070322,  I09N,   130,  1,     34,   9419,2,20070408,1841, -5.5305,  95.0123, 5061,  45.9000,     45.9,  26.8310,  34.5502,2,  34.5117,2,    205.3,2,    204.3,2,     2.54,2,     0.06,2,     0.00,2,     0.13,2,    1.655,2,    1.055,2, -999.000,5,   -999.0,9,   -999.0,9,-999.0000,9,  -999.00,   -999.0,9,  -999.00,9, -999.000,9, -999.000,-999.0000,9,-999.0000,  -999.00,9,  -999.00, -999.000,9, -999.000,   -999.0,9,   -999.0,  -999.00,9,-999.0000,9,-999.0000,9,-999.0000,9,-999.0000,9,-999.0000,9,-999.0000,9,-999.0000,9,-999.0000,9,-999.0000,9,  26.8205,  26.8982,2
  33RR20070322,  I09N,   130,  1,     33,     33,2,20070408,1841, -5.5305,  95.0123, 5061,  90.6000,     90.6,  20.5881,  35.1580,2,  35.1606,2,     81.1,2,     74.9,2,    11.78,2,    18.44,2,     0.11,2,     1.30,2,    1.605,2,    0.980,2, -999.000,5,   -999.0,9,   -999.0,9,-999.0000,9,  -999.00,   -999.0,9,  -999.00,9, -999.000,9, -999.000,-999.0000,9,-999.0000,  -999.00,9,  -999.00, -999.000,9, -999.000,   -999.0,9,   -999.0,  -999.00,9,-999.0000,9,-999.0000,9,-999.0000,9,-999.0000,9,-999.0000,9,-999.0000,9,-999.0000,9,-999.0000,9,-999.0000,9,  20.5710,  20.5553,2
  33RR20070322,  I09N,   130,  1,     32,     37,2,20070408,1841, -5.5305,  95.0123, 5061, 140.9000,    140.9,  16.0720,  35.0749,2,  35.0743,2,     65.0,2,     64.3,2,    18.77,2,    23.37,2,     0.01,2,     1.63,2,    1.513,2,    0.887,2, -999.000,5,   -999.0,9,   -999.0,9,-999.0000,9,  -999.00,   -999.0,9,  -999.00,9, -999.000,9, -999.000,-999.0000,9,-999.0000,  -999.00,9,  -999.00, -999.000,9, -999.000,   -999.0,9,   -999.0,  -999.00,9,-999.0000,9,-999.0000,9,-999.0000,9,-999.0000,9,-999.0000,9,-999.0000,9,-999.0000,9,-999.0000,9,-999.0000,9,  16.0496,  16.0614,2
  33RR20070322,  I09N,   130,  1,     31,     31,2,20070408,1841, -5.5305,  95.0123, 5061, 165.4000,    165.4,  14.5701,  34.9426,2,  34.9423,2,     61.3,2,     61.6,2,    23.50,2,    25.41,2,     0.01,2,     1.77,2,    1.325,2,    0.757,2, -999.000,5,   2185.1,2,   2303.6,6,   7.6282,2,    25.00,   -999.0,9,  -999.00,9, -999.000,9, -999.000,-999.0000,9,-999.0000,  -999.00,9,  -999.00, -999.000,9, -999.000,   -999.0,9,   -999.0,  -999.00,9,-999.0000,9,-999.0000,9,-999.0000,9,-999.0000,9,-999.0000,9,-999.0000,9,-999.0000,9,-999.0000,9,-999.0000,9,  14.5456,  14.5695,2
  33RR20070322,  I09N,   130,  1,     30,     30,2,20070408,1841, -5.5305,  95.0123, 5061, 190.8000,    190.8,  13.9546,  34.9636,2,  34.9677,2,     57.7,2,     57.1,2,    23.87,2,    26.43,2,     0.01,2,     1.84,2, -999.000,5, -999.000,5, -999.000,5,   -999.0,9,   -999.0,9,-999.0000,9,  -999.00,   -999.0,9,  -999.00,9, -999.000,9, -999.000,-999.0000,9,-999.0000,  -999.00,9,  -999.00, -999.000,9, -999.000,   -999.0,9,   -999.0,  -999.00,9,-999.0000,9,-999.0000,9,-999.0000,9,-999.0000,9,-999.0000,9,-999.0000,9,-999.0000,9,-999.0000,9,-999.0000,9,  13.9271,  13.9394,2
  33RR20070322,  I09N,   130,  1,     29,     29,2,20070408,1841, -5.5305,  95.0123, 5061, 239.6000,    239.6,  12.2838,  34.9592,2,  34.9599,2,     62.5,2,     63.8,2,    25.19,2,    27.55,2,     0.00,2,     1.90,2,    1.013,2,    0.562,2, -999.000,5,   2203.1,2,   2309.9,2,-999.0000,9,  -999.00,   -999.0,9,  -999.00,9, -999.000,9, -999.000,-999.0000,9,-999.0000,  -999.00,9,  -999.00, -999.000,9, -999.000,   -999.0,9,   -999.0,  -999.00,9,-999.0000,9,-999.0000,9,-999.0000,9,-999.0000,9,-999.0000,9,-999.0000,9,-999.0000,9,-999.0000,9,-999.0000,9,  12.2520,  12.2953,2
  33RR20070322,  I09N,   130,  1,     28,     28,2,20070408,1841, -5.5305,  95.0123, 5061, 290.8000,    290.8,  11.5001,  34.9678,2,  34.9684,2,     69.9,2,     71.3,2,    24.44,2,    27.86,2,     0.00,2,     1.90,2,    0.961,2,    0.531,2, -999.000,5,   -999.0,9,   -999.0,9,-999.0000,9,  -999.00,   -999.0,9,  -999.00,9, -999.000,9, -999.000,-999.0000,9,-999.0000,  -999.00,9,  -999.00, -999.000,9, -999.000,   -999.0,9,   -999.0,  -999.00,9,-999.0000,9,-999.0000,9,-999.0000,9,-999.0000,9,-999.0000,9,-999.0000,9,-999.0000,9,-999.0000,9,-999.0000,9,  11.4631,  11.5011,2
  33RR20070322,  I09N,   130,  1,     27,     27,2,20070408,1841, -5.5305,  95.0123, 5061, 340.5000,    340.5,  10.9603,  34.9440,2,  34.9426,2,     64.6,2,     65.2,2,    27.27,2,    29.54,2,     0.00,2,     2.00,2,    0.700,2,    0.388,2, -999.000,5,   2211.6,2,   2309.6,2,   7.5520,3,    25.00,   -999.0,9,  -999.00,9, -999.000,9, -999.000,-999.0000,9,-999.0000,  -999.00,9,  -999.00, -999.000,9, -999.000,   -999.0,9,   -999.0,  -999.00,9,-999.0000,9,-999.0000,9,-999.0000,9,-999.0000,9,-999.0000,9,-999.0000,9,-999.0000,9,-999.0000,9,-999.0000,9,  10.9182,  10.9534,2
  33RR20070322,  I09N,   130,  1,     26,     26,2,20070408,1841, -5.5305,  95.0123, 5061, 390.6000,    390.6,  10.3817,  34.9157,2,  34.9176,2,     60.3,2,     60.5,2,    31.62,2,    31.02,2,     0.00,2,     2.12,2,    0.537,2,    0.299,2, -999.000,5,   -999.0,9,   -999.0,9,-999.0000,9,  -999.00,   -999.0,9,  -999.00,9, -999.000,9, -999.000,-999.0000,9,-999.0000,  -999.00,9,  -999.00, -999.000,9, -999.000,   -999.0,9,   -999.0,  -999.00,9,-999.0000,9,-999.0000,9,-999.0000,9,-999.0000,9,-999.0000,9,-999.0000,9,-999.0000,9,-999.0000,9,-999.0000,9,  10.3349,  10.3836,2
  33RR20070322,  I09N,   130,  1,     25,     25,2,20070408,1841, -5.5305,  95.0123, 5061, 440.0000,    440.0,   9.7878,  34.8953,2,  34.8956,2,     59.8,2,     60.1,2,    35.40,2,    32.05,2,     0.00,2,     2.22,2,    0.364,2,    0.204,2, -999.000,5,   -999.0,9,   -999.0,9,-999.0000,9,  -999.00,   -999.0,9,  -999.00,9, -999.000,9, -999.000,-999.0000,9,-999.0000,  -999.00,9,  -999.00, -999.000,9, -999.000,   -999.0,9,   -999.0,  -999.00,9,-999.0000,9,-999.0000,9,-999.0000,9,-999.0000,9,-999.0000,9,-999.0000,9,-999.0000,9,-999.0000,9,-999.0000,9,   9.7368,   9.8016,2
  33RR20070322,  I09N,   130,  1,     24,     24,2,20070408,1841, -5.5305,  95.0123, 5061, 491.0000,    491.0,   9.4763,  34.8892,2,  34.8895,2,     59.5,2,     58.9,2,    39.18,2,    32.67,2,     0.00,2,     2.30,2, -999.000,9, -999.000,9, -999.000,9,   -999.0,9,   -999.0,9,-999.0000,9,  -999.00,   -999.0,9,  -999.00,9, -999.000,9, -999.000,-999.0000,9,-999.0000,  -999.00,9,  -999.00, -999.000,9, -999.000,   -999.0,9,   -999.0,  -999.00,9,-999.0000,9,-999.0000,9,-999.0000,9,-999.0000,9,-999.0000,9,-999.0000,9,-999.0000,9,-999.0000,9,-999.0000,9,   9.4204,   9.4718,2
  33RR20070322,  I09N,   130,  1,     23,     23,2,20070408,1841, -5.5305,  95.0123, 5061, 576.2000,    576.2,   8.8853,  34.8684,2,  34.8677,2,     57.7,2,     57.1,2,    46.77,2,    33.85,2,     0.00,2,     2.41,2,    0.159,2,    0.097,2, -999.000,5,   2242.6,2,   2327.9,2,   7.5228,6,    25.00,   -999.0,9,  -999.00,9, -999.000,9, -999.000,-999.0000,9,-999.0000,  -999.00,9,  -999.00, -999.000,9, -999.000,   -999.0,9,   -999.0,  -999.00,9,-999.0000,9,-999.0000,9,-999.0000,9,-999.0000,9,-999.0000,9,-999.0000,9,-999.0000,9,-999.0000,9,-999.0000,9,   8.8219,   8.8806,2
  33RR20070322,  I09N,   130,  1,     22,     22,2,20070408,1841, -5.5305,  95.0123, 5061, 675.8000,    675.8,   8.1506,  34.8748,2,  34.8752,2,     54.0,2,     53.1,2,    57.78,2,    34.98,2,     0.00,2,     2.56,2, -999.000,9, -999.000,9, -999.000,9,   -999.0,9,   -999.0,9,-999.0000,9,  -999.00,   -999.0,9,  -999.00,9, -999.000,9, -999.000,-999.0000,9,-999.0000,  -999.00,9,  -999.00, -999.000,9, -999.000,   -999.0,9,   -999.0,  -999.00,9,-999.0000,9,-999.0000,9,-999.0000,9,-999.0000,9,-999.0000,9,-999.0000,9,-999.0000,9,-999.0000,9,-999.0000,9,   8.0795,   8.1509,2
  33RR20070322,  I09N,   130,  1,     21,     21,2,20070408,1841, -5.5305,  95.0123, 5061, 776.2000,    776.2,   7.3258,  34.8252,2,  34.8242,2,     56.9,2,     56.9,2,    69.01,2,    35.85,2,     0.00,2,     2.63,2,    0.056,2,    0.032,2, -999.000,5,   2275.8,2,   2351.3,2,   7.4927,2,    25.00,   -999.0,9,  -999.00,9, -999.000,9, -999.000,-999.0000,9,-999.0000,  -999.00,9,  -999.00, -999.000,9, -999.000,   -999.0,9,   -999.0,  -999.00,9,-999.0000,9,-999.0000,9,-999.0000,9,-999.0000,9,-999.0000,9,-999.0000,9,-999.0000,9,-999.0000,9,-999.0000,9,   7.2484,   7.3265,2
  33RR20070322,  I09N,   130,  1,     20,     20,2,20070408,1841, -5.5305,  95.0123, 5061, 876.2000,    876.2,   6.7467,  34.8101,2,  34.8073,2,     60.5,2,     61.0,2,    76.25,2,    36.42,2,     0.00,2,     2.67,2, -999.000,9, -999.000,9, -999.000,9,   -999.0,9,   -999.0,9,-999.0000,9,  -999.00,   -999.0,9,  -999.00,9, -999.000,9, -999.000,-999.0000,9,-999.0000,  -999.00,9,  -999.00, -999.000,9, -999.000,   -999.0,9,   -999.0,  -999.00,9,-999.0000,9,-999.0000,9,-999.0000,9,-999.0000,9,-999.0000,9,-999.0000,9,-999.0000,9,-999.0000,9,-999.0000,9,   6.6625,   6.7477,2
  33RR20070322,  I09N,   130,  1,     19,     19,2,20070408,1841, -5.5305,  95.0123, 5061, 976.7000,    976.7,   6.0077,  34.7709,2,  34.7711,2,     67.4,2,     68.3,2,    85.24,2,    36.63,2,     0.00,2,     2.70,2, -999.000,9, -999.000,9, -999.000,9,   -999.0,9,   -999.0,9,-999.0000,9,  -999.00,   -999.0,9,  -999.00,9, -999.000,9, -999.000,-999.0000,9,-999.0000,  -999.00,9,  -999.00, -999.000,9, -999.000,   -999.0,9,   -999.0,  -999.00,9,-999.0000,9,-999.0000,9,-999.0000,9,-999.0000,9,-999.0000,9,-999.0000,9,-999.0000,9,-999.0000,9,-999.0000,9,   5.9186,   6.0092,2
  33RR20070322,  I09N,   130,  1,     18,     18,2,20070408,1841, -5.5305,  95.0123, 5061,1077.2000,   1077.2,   5.5136,  34.7597,2,  34.7601,2,     73.4,2,     74.0,2,    91.56,2,    36.73,2,     0.00,2,     2.71,2, -999.000,9, -999.000,9, -999.000,9,   -999.0,9,   -999.0,9,-999.0000,9,  -999.00,   -999.0,9,  -999.00,9, -999.000,9, -999.000,-999.0000,9,-999.0000,  -999.00,9,  -999.00, -999.000,9, -999.000,   -999.0,9,   -999.0,  -999.00,9,-999.0000,9,-999.0000,9,-999.0000,9,-999.0000,9,-999.0000,9,-999.0000,9,-999.0000,9,-999.0000,9,-999.0000,9,   5.4186,   5.5131,2
  33RR20070322,  I09N,   130,  1,     17,     17,2,20070408,1841, -5.5305,  95.0123, 5061,1177.7000,   1177.7,   5.2276,  34.7862,2,  34.7871,2,     75.4,2,     75.9,2,    94.06,2,    36.87,2,     0.00,2,     2.73,2,    0.014,2,    0.006,2, -999.000,5,   2300.9,2,   2377.5,6,   7.5002,2,    25.00,   -999.0,9,  -999.00,9, -999.000,9, -999.000,-999.0000,9,-999.0000,  -999.00,9,  -999.00, -999.000,9, -999.000,   -999.0,9,   -999.0,  -999.00,9,-999.0000,9,-999.0000,9,-999.0000,9,-999.0000,9,-999.0000,9,-999.0000,9,-999.0000,9,-999.0000,9,-999.0000,9,   5.1254,   5.2283,2
  33RR20070322,  I09N,   130,  1,     16,     16,2,20070408,1841, -5.5305,  95.0123, 5061,1277.2000,   1277.2,   4.7292,  34.7637,2,  34.7645,2,     83.0,2,     84.3,2,    99.44,2,    36.92,2,     0.00,2,     2.72,2, -999.000,9, -999.000,9, -999.000,9,   -999.0,9,   -999.0,9,-999.0000,9,  -999.00,   -999.0,9,  -999.00,9, -999.000,9, -999.000,-999.0000,9,-999.0000,  -999.00,9,  -999.00, -999.000,9, -999.000,   -999.0,9,   -999.0,  -999.00,9,-999.0000,9,-999.0000,9,-999.0000,9,-999.0000,9,-999.0000,9,-999.0000,9,-999.0000,9,-999.0000,9,-999.0000,9,   4.6223,   4.7318,2
  33RR20070322,  I09N,   130,  1,     15,     15,2,20070408,1841, -5.5305,  95.0123, 5061,1377.7000,   1377.7,   4.3957,  34.7688,2,  34.7697,2,     89.4,2,     89.7,2,   102.52,2,    36.76,2,     0.00,2,     2.70,2, -999.000,9, -999.000,9, -999.000,9,   -999.0,9,   -999.0,9,-999.0000,9,  -999.00,   -999.0,9,  -999.00,9, -999.000,9, -999.000,-999.0000,9,-999.0000,  -999.00,9,  -999.00, -999.000,9, -999.000,   -999.0,9,   -999.0,  -999.00,9,-999.0000,9,-999.0000,9,-999.0000,9,-999.0000,9,-999.0000,9,-999.0000,9,-999.0000,9,-999.0000,9,-999.0000,9,   4.2829,   4.4015,2
  33RR20070322,  I09N,   130,  1,     14,     14,2,20070408,1841, -5.5305,  95.0123, 5061,1479.5000,   1479.5,   4.0412,  34.7764,2,  34.7768,2,     96.9,2,     98.2,2,   104.64,2,    36.50,2,     0.00,2,     2.67,2, -999.000,9, -999.000,9, -999.000,9,   -999.0,9,   -999.0,9,-999.0000,9,  -999.00,   -999.0,9,  -999.00,9, -999.000,9, -999.000,-999.0000,9,-999.0000,  -999.00,9,  -999.00, -999.000,9, -999.000,   -999.0,9,   -999.0,  -999.00,9,-999.0000,9,-999.0000,9,-999.0000,9,-999.0000,9,-999.0000,9,-999.0000,9,-999.0000,9,-999.0000,9,-999.0000,9,   3.9229,   4.0418,2
  33RR20070322,  I09N,   130,  1,     13,     13,2,20070408,1841, -5.5305,  95.0123, 5061,1578.9000,   1578.9,   3.7694,  34.7818,2,  34.7825,2,    104.0,2,    105.0,2,   106.57,2,    36.19,2,     0.00,2,     2.64,2, -999.000,9, -999.000,9, -999.000,9,   -999.0,9,   -999.0,9,-999.0000,9,  -999.00,   -999.0,9,  -999.00,9, -999.000,9, -999.000,-999.0000,9,-999.0000,  -999.00,9,  -999.00, -999.000,9, -999.000,   -999.0,9,   -999.0,  -999.00,9,-999.0000,9,-999.0000,9,-999.0000,9,-999.0000,9,-999.0000,9,-999.0000,9,-999.0000,9,-999.0000,9,-999.0000,9,   3.6452,   3.7732,2
  33RR20070322,  I09N,   130,  1,     12,     12,2,20070408,1841, -5.5305,  95.0123, 5061,1780.8000,   1780.8,   3.2435,  34.7747,2,  34.7758,2,    116.5,2,    117.0,2,   111.97,2,    35.77,2,     0.00,2,     2.60,2, -999.000,9, -999.000,9, -999.000,9,   -999.0,9,   -999.0,9,-999.0000,9,  -999.00,   -999.0,9,  -999.00,9, -999.000,9, -999.000,-999.0000,9,-999.0000,  -999.00,9,  -999.00, -999.000,9, -999.000,   -999.0,9,   -999.0,  -999.00,9,-999.0000,9,-999.0000,9,-999.0000,9,-999.0000,9,-999.0000,9,-999.0000,9,-999.0000,9,-999.0000,9,-999.0000,9,   3.1078,   3.2448,2
  33RR20070322,  I09N,   130,  1,     11,     11,2,20070408,1841, -5.5305,  95.0123, 5061,1982.7000,   1982.7,   2.7208,  34.7641,2,  34.7652,2,    129.2,2,    129.5,2,   118.17,2,    35.35,2,     0.00,2,     2.55,2, -999.000,9, -999.000,9, -999.000,9,   -999.0,9,   -999.0,9,-999.0000,9,  -999.00,   -999.0,9,  -999.00,9, -999.000,9, -999.000,-999.0000,9,-999.0000,  -999.00,9,  -999.00, -999.000,9, -999.000,   -999.0,9,   -999.0,  -999.00,9,-999.0000,9,-999.0000,9,-999.0000,9,-999.0000,9,-999.0000,9,-999.0000,9,-999.0000,9,-999.0000,9,-999.0000,9,   2.5745,   2.7207,2
  33RR20070322,  I09N,   130,  1,     10,     10,2,20070408,1841, -5.5305,  95.0123, 5061,2183.8000,   2183.8,   2.3822,  34.7546,2,  34.7560,2,    139.2,2,    139.3,2,   122.24,2,    34.99,2,     0.00,2,     2.50,2, -999.000,9, -999.000,9, -999.000,9,   -999.0,9,   -999.0,9,-999.0000,9,  -999.00,   -999.0,9,  -999.00,9, -999.000,9, -999.000,-999.0000,9,-999.0000,  -999.00,9,  -999.00, -999.000,9, -999.000,   -999.0,9,   -999.0,  -999.00,9,-999.0000,9,-999.0000,9,-999.0000,9,-999.0000,9,-999.0000,9,-999.0000,9,-999.0000,9,-999.0000,9,-999.0000,9,   2.2233,   2.3837,2
  33RR20070322,  I09N,   130,  1,      9,      9,2,20070408,1841, -5.5305,  95.0123, 5061,2435.6000,   2435.6,   2.0566,  34.7444,2,  34.7452,2,    148.2,2,    149.7,2,   125.54,2,    34.62,2,     0.00,2,     2.46,2,    0.008,2,    0.003,2, -999.000,5,   2303.2,2,   2409.2,2,   7.5800,2,    25.00,   -999.0,9,  -999.00,9, -999.000,9, -999.000,-999.0000,9,-999.0000,  -999.00,9,  -999.00, -999.000,9, -999.000,   -999.0,9,   -999.0,  -999.00,9,-999.0000,9,-999.0000,9,-999.0000,9,-999.0000,9,-999.0000,9,-999.0000,9,-999.0000,9,-999.0000,9,-999.0000,9,   1.8807,   2.0579,2
  33RR20070322,  I09N,   130,  1,      8,      8,2,20070408,1841, -5.5305,  95.0123, 5061,2690.5000,   2690.5,   1.8838,  34.7379,2,  34.7387,2,    155.5,2,    155.8,2,   127.30,2,    34.36,2,     0.00,2,     2.42,2, -999.000,9, -999.000,9, -999.000,9,   -999.0,9,   -999.0,9,-999.0000,9,  -999.00,   -999.0,9,  -999.00,9, -999.000,9, -999.000,-999.0000,9,-999.0000,  -999.00,9,  -999.00, -999.000,9, -999.000,   -999.0,9,   -999.0,  -999.00,9,-999.0000,9,-999.0000,9,-999.0000,9,-999.0000,9,-999.0000,9,-999.0000,9,-999.0000,9,-999.0000,9,-999.0000,9,   1.6878,   1.8840,2
  33RR20070322,  I09N,   130,  1,      7,      7,2,20070408,1841, -5.5305,  95.0123, 5061,2942.0000,   2942.0,   1.7366,  34.7332,2,  34.7338,2,    161.4,2,    161.0,2,   128.47,2,    34.10,2,     0.00,2,     2.39,2, -999.000,9, -999.000,9, -999.000,9,   -999.0,9,   -999.0,9,-999.0000,9,  -999.00,   -999.0,9,  -999.00,9, -999.000,9, -999.000,-999.0000,9,-999.0000,  -999.00,9,  -999.00, -999.000,9, -999.000,   -999.0,9,   -999.0,  -999.00,9,-999.0000,9,-999.0000,9,-999.0000,9,-999.0000,9,-999.0000,9,-999.0000,9,-999.0000,9,-999.0000,9,-999.0000,9,   1.5199,   1.7367,2
  33RR20070322,  I09N,   130,  1,      6,      6,2,20070408,1841, -5.5305,  95.0123, 5061,3277.2000,   3277.2,   1.6118,  34.7287,2,  34.7298,2,    166.2,2,    165.5,2,   130.42,2,    33.94,2,     0.00,2,     2.37,2, -999.000,9, -999.000,9, -999.000,9,   -999.0,9,   -999.0,9,-999.0000,9,  -999.00,   -999.0,9,  -999.00,9, -999.000,9, -999.000,-999.0000,9,-999.0000,  -999.00,9,  -999.00, -999.000,9, -999.000,   -999.0,9,   -999.0,  -999.00,9,-999.0000,9,-999.0000,9,-999.0000,9,-999.0000,9,-999.0000,9,-999.0000,9,-999.0000,9,-999.0000,9,-999.0000,9,   1.3651,   1.6115,2
  33RR20070322,  I09N,   130,  1,      5,      5,2,20070408,1841, -5.5305,  95.0123, 5061,3681.7000,   3681.7,   1.3258,  34.7205,2,  34.7203,2,    179.9,2,    180.5,2,   129.26,2,    33.32,2,     0.00,2,     2.32,2, -999.000,9, -999.000,9, -999.000,9,   -999.0,9,   -999.0,9,-999.0000,9,  -999.00,   -999.0,9,  -999.00,9, -999.000,9, -999.000,-999.0000,9,-999.0000,  -999.00,9,  -999.00, -999.000,9, -999.000,   -999.0,9,   -999.0,  -999.00,9,-999.0000,9,-999.0000,9,-999.0000,9,-999.0000,9,-999.0000,9,-999.0000,9,-999.0000,9,-999.0000,9,-999.0000,9,   1.0452,   1.3265,2