BOTTLE,20150630SIOCCHRJL
EXPOCODE,SECT_ID,STNNBR,CASTNO,SAMPNO,BTLNBR,BTLNBR_FLAG_W,DATE,TIME,LATITUDE,LONGITUDE,DEPTH,CTDRAW,CTDPRS,CTDTMP,CTDSAL,CTDSAL_FLAG_W,SALNTY,SALNTY_FLAG_W,CTDOXY,CTDOXY_FLAG_W,OXYGEN,OXYGEN_FLAG_W,SILCAT,SILCAT_FLAG_W,NITRAT,NITRAT_FLAG_W,NITRIT,NITRIT_FLAG_W,PHSPHT,PHSPHT_FLAG_W,CFC-11,CFC-11_FLAG_W,CFC-12,CFC-12_FLAG_W,CFC113,CFC113_FLAG_W,TCARBN,TCARBN_FLAG_W,ALKALI,ALKALI_FLAG_W,PH_SWS,PH_SWS_FLAG_W,PH_TMP,DOC,DOC_FLAG_W,TDN,TDN_FLAG_W,TRITUM,TRITUM_FLAG_W,TRITER,HELIUM,HELIUM_FLAG_W,HELIER,DELHE3,DELHE3_FLAG_W,DELHER,NEON,NEON_FLAG_W,NEONER,DELC14,DELC14_FLAG_W,C14ERR,DELC13,DELC13_FLAG_W,CDOM325,CDOM325_FLAG_W,CDOM340,CDOM340_FLAG_W,CDOM380,CDOM380_FLAG_W,CDOM412,CDOM412_FLAG_W,CDOM443,CDOM443_FLAG_W,CDOM490,CDOM490_FLAG_W,CDOM555,CDOM555_FLAG_W,CDOMSL,CDOMSL_FLAG_W,CDOMSN,CDOMSN_FLAG_W,THETA,SBE35,SBE35_FLAG_W
,,,,,,,,,,,METERS,,DBAR,ITS-90,PSS-78,,PSS-78,,UMOL/KG,,UMOL/KG,,UMOL/KG,,UMOL/KG,,UMOL/KG,,UMOL/KG,,PMOL/KG,,PMOL/KG,,PMOL/KG,,UMOL/KG,,UMOL/KG,,,,DEG C,UMOL/KG,,UMOL/KG,,TU,,TU,NMOL/KG,,NMOL/KG,PERCNT,,PERCNT,NMOL/KG,,NMOL/KG,/MILLE,,/MILLE,/MILLE,,1/M,,1/M,,1/M,,1/M,,1/M,,1/M,,1/M,,1/NM,,1/NM,,DEG C,ITS-90,
  33RR20070322,  I09N,   143,  2,     36,     38,2,20070412,0657, -0.6303,  93.6480, 4583,   1.8000,      1.8,  29.7201,  34.0639,2,  34.0643,2,    194.5,2,    196.1,2,     1.27,2,     0.07,2,     0.00,2,     0.08,2,    1.497,2,    0.981,2, -999.000,5,   1904.8,6,   2231.2,6,   8.1182,6,    25.00,     71.7,2,     4.76,2, -999.000,9, -999.000,-999.0000,9,-999.0000,  -999.00,9,  -999.00, -999.000,9, -999.000,   -999.0,9,   -999.0,  -999.00,9,   0.0621,2,   0.0407,2,   0.0193,2,   0.0150,2,  -0.0011,4,  -0.0024,4,  -0.0028,4,   0.0141,3,   0.0185,3,  29.7197,  29.7147,2
  33RR20070322,  I09N,   143,  2,     35,     35,2,20070412,0657, -0.6303,  93.6480, 4583,  30.1000,     30.1,  29.6363,  34.0765,2,  34.0768,2,    196.2,2,    195.9,2,     1.27,2,     0.07,2,     0.00,2,     0.08,2,    1.500,2,    0.976,2, -999.000,5,   1906.4,2,   2229.7,2,   8.0963,2,    25.00,     69.6,2,     4.86,2, -999.000,9, -999.000,-999.0000,9,-999.0000,  -999.00,9,  -999.00, -999.000,9, -999.000,   -999.0,9,   -999.0,  -999.00,9,   0.0607,2,   0.0404,2,   0.0195,2,   0.0153,2,  -0.0009,4,  -0.0024,4,  -0.0028,4,   0.0137,3,   0.0177,3,  29.6289,  29.6306,2
  33RR20070322,  I09N,   143,  2,     34,   9419,2,20070412,0657, -0.6303,  93.6480, 4583,  54.7000,     54.7,  29.3599,  34.1191,2,  34.1105,2,    197.3,2,    196.7,2,     1.26,2,     0.07,2,     0.00,2,     0.08,2,    1.502,2,    0.981,2, -999.000,5,   1908.7,2,   2237.3,2,   8.0987,2,    25.00,     68.3,2,     5.03,2, -999.000,9, -999.000,-999.0000,9,-999.0000,  -999.00,9,  -999.00, -999.000,9, -999.000,   -999.0,9,   -999.0,  -999.00,9,   0.0704,2,   0.0477,2,   0.0239,2,   0.0188,2,   0.0012,3,  -0.0016,4,  -0.0024,4,   0.0130,3,   0.0163,3,  29.3466,  29.3527,2
  33RR20070322,  I09N,   143,  2,     33,     33,2,20070412,0657, -0.6303,  93.6480, 4583,  79.8000,     79.8,  24.0907,  35.2896,2,  35.2828,2,    152.0,2,    137.8,2,     5.68,2,     8.07,2,     0.56,2,     0.74,2,    1.644,2,    1.034,2, -999.000,5,   2065.3,2,   2305.6,2,   7.9138,2,    25.00,     63.6,2,    13.08,2, -999.000,9, -999.000,-999.0000,9,-999.0000,  -999.00,9,  -999.00, -999.000,9, -999.000,   -999.0,9,   -999.0,  -999.00,9,   0.2091,2,   0.1534,2,   0.0828,2,   0.0642,2,   0.0256,2,   0.0086,2,   0.0024,2,   0.0144,3,   0.0146,3,  24.0738,  24.0817,2
  33RR20070322,  I09N,   143,  2,     32,     37,2,20070412,0657, -0.6303,  93.6480, 4583, 104.6000,    104.6,  22.3256,  35.2986,2,  35.2970,2,    125.9,2,    131.7,2,     7.28,2,    10.35,2,     0.74,2,     0.85,2,    1.767,2,    1.089,2, -999.000,5,   2083.1,2,   2307.7,2,   7.8862,2,    25.00,     59.8,2,    15.22,2, -999.000,9, -999.000,-999.0000,9,-999.0000,  -999.00,9,  -999.00, -999.000,9, -999.000,   -999.0,9,   -999.0,  -999.00,9,   0.1724,2,   0.1277,2,   0.0712,2,   0.0563,2,   0.0206,2,   0.0063,2,   0.0015,2,   0.0141,3,   0.0140,3,  22.3047,  22.3191,2
  33RR20070322,  I09N,   143,  2,     31,     31,2,20070412,0657, -0.6303,  93.6480, 4583, 154.4000,    154.4,  19.6572,  35.2812,2,  35.2810,2,     79.3,2,     78.7,2,    12.30,2,    18.95,2,     0.02,2,     1.35,2,    1.658,2,    0.985,2, -999.000,5,   2143.2,2,   2306.5,2,   7.7555,2,    25.00,     54.9,2,    22.04,2, -999.000,9, -999.000,-999.0000,9,-999.0000,  -999.00,9,  -999.00, -999.000,9, -999.000,   -999.0,9,   -999.0,  -999.00,9,   0.1749,2,   0.1290,2,   0.0744,2,   0.0601,2,   0.0229,2,   0.0070,2,   0.0016,2,   0.0140,3,   0.0135,3,  19.6290,  19.6552,2
  33RR20070322,  I09N,   143,  2,     30,     30,2,20070412,0657, -0.6303,  93.6480, 4583, 204.5000,    204.5,  14.8524,  35.1286,2,  35.1315,2,     55.8,2,     57.2,2,    19.94,2,    25.54,2,     0.01,2,     1.80,2,    1.395,2,    0.789,2, -999.000,5,   2197.9,2,   2307.7,2,   7.6232,2,    25.00,     52.1,2,    29.09,2, -999.000,9, -999.000,-999.0000,9,-999.0000,  -999.00,9,  -999.00, -999.000,9, -999.000,   -999.0,9,   -999.0,  -999.00,9,   0.1705,2,   0.1265,2,   0.0752,2,   0.0609,2,   0.0248,2,   0.0071,2,   0.0013,2,   0.0138,3,   0.0130,3,  14.8216,  14.8591,2
  33RR20070322,  I09N,   143,  2,     29,     29,2,20070412,0657, -0.6303,  93.6480, 4583, 254.4000,    254.4,  13.1833,  35.1008,2,  35.0998,2,     59.3,2,     65.4,2,    21.15,2,    26.51,2,     0.00,2,     1.83,2,    1.290,2,    0.710,2, -999.000,5,   2205.8,2,   2309.8,2,   7.6130,2,    25.00,     48.9,2,    29.96,2, -999.000,9, -999.000,-999.0000,9,-999.0000,  -999.00,9,  -999.00, -999.000,9, -999.000,   -999.0,9,   -999.0,  -999.00,9,   0.1648,2,   0.1224,2,   0.0741,2,   0.0599,2,   0.0249,2,   0.0068,2,   0.0010,2,   0.0137,3,   0.0127,3,  13.1479,  13.1829,2
  33RR20070322,  I09N,   143,  2,     28,     28,2,20070412,0657, -0.6303,  93.6480, 4583, 304.0000,    304.0,  12.1921,  35.0758,2,  35.0754,2,     71.1,2,     75.2,2,    21.95,2,    26.77,2,     0.00,2,     1.84,2,    1.244,2,    0.676,2, -999.000,5,   2207.4,2,   2308.9,2,   7.6200,2,    25.00,     46.8,2,    30.51,2, -999.000,9, -999.000,-999.0000,9,-999.0000,  -999.00,9,  -999.00, -999.000,9, -999.000,   -999.0,9,   -999.0,  -999.00,9,   0.1628,2,   0.1214,2,   0.0750,2,   0.0614,2,   0.0262,2,   0.0074,2,   0.0011,2,   0.0135,3,   0.0124,3,  12.1518,  12.1907,2
  33RR20070322,  I09N,   143,  2,     27,     27,2,20070412,0657, -0.6303,  93.6480, 4583, 353.9000,    353.9,  11.7061,  35.0487,2,  35.0490,2,     74.5,2,     79.0,2,    22.74,2,    27.15,2,     0.00,2,     1.86,2,    1.192,2,    0.647,2, -999.000,5,   2209.6,2,   2309.1,2,   7.5918,2,    25.00,     46.0,2,    31.01,2, -999.000,9, -999.000,-999.0000,9,-999.0000,  -999.00,9,  -999.00, -999.000,9, -999.000,   -999.0,9,   -999.0,  -999.00,9,   0.1596,2,   0.1187,2,   0.0727,2,   0.0594,2,   0.0250,2,   0.0068,2,   0.0008,2,   0.0135,3,   0.0125,3,  11.6603,  11.7039,2
  33RR20070322,  I09N,   143,  2,     26,     26,2,20070412,0657, -0.6303,  93.6480, 4583, 404.0000,    404.0,  10.9317,  35.0096,2,  35.0063,2,     78.6,2,     74.2,2,    26.36,2,    29.09,2,     0.00,2,     1.99,2,    0.901,2,    0.487,2, -999.000,5,   2219.5,2,   2310.0,2,   7.5670,3,    25.00,     45.2,2,    33.01,2, -999.000,9, -999.000,-999.0000,9,-999.0000,  -999.00,9,  -999.00, -999.000,9, -999.000,   -999.0,9,   -999.0,  -999.00,9,   0.1621,2,   0.1202,2,   0.0733,2,   0.0593,2,   0.0256,2,   0.0071,2,   0.0008,3,   0.0135,3,   0.0125,3,  10.8816,  10.9295,2
  33RR20070322,  I09N,   143,  2,     25,     25,2,20070412,0657, -0.6303,  93.6480, 4583, 454.2000,    454.2,  10.2016,  34.9891,2,  34.9852,2,     71.5,2,     69.3,2,    32.21,2,    30.85,2,     0.00,2,     2.15,2,    0.635,2,    0.341,2, -999.000,5,   2228.7,2,   2313.6,2,   7.5415,2,    25.00,     44.6,2,    34.32,2, -999.000,9, -999.000,-999.0000,9,-999.0000,  -999.00,9,  -999.00, -999.000,9, -999.000,   -999.0,9,   -999.0,  -999.00,9,   0.1649,2,   0.1221,2,   0.0749,2,   0.0603,2,   0.0263,2,   0.0072,2,   0.0009,2,   0.0136,3,   0.0125,3,  10.1475,  10.1976,2
  33RR20070322,  I09N,   143,  2,     24,     24,2,20070412,0657, -0.6303,  93.6480, 4583, 504.4000,    504.4,   9.8063,  34.9777,2,  34.9775,2,     65.1,2,     59.4,2,    37.64,2,    32.47,2,     0.00,2,     2.29,2,    0.392,2,    0.220,2, -999.000,5,   2241.6,2,   2319.1,2,   7.5261,2,    25.00,     43.3,2,    35.08,2, -999.000,9, -999.000,-999.0000,9,-999.0000,  -999.00,9,  -999.00, -999.000,9, -999.000,   -999.0,9,   -999.0,  -999.00,9,   0.1694,2,   0.1256,2,   0.0767,2,   0.0616,2,   0.0274,2,   0.0077,2,   0.0011,2,   0.0136,3,   0.0126,3,   9.7476,   9.8090,2
  33RR20070322,  I09N,   143,  2,     23,     23,2,20070412,0657, -0.6303,  93.6480, 4583, 604.7000,    604.7,   9.0447,  35.0106,2,  35.0116,2,     46.4,2,     43.8,2,    50.56,2,    34.95,2,     0.00,2,     2.55,2,    0.154,2,    0.093,2, -999.000,5,   2266.8,2,   2326.8,2,   7.4866,2,    25.00,     42.5,2,    37.03,2, -999.000,9, -999.000,-999.0000,9,-999.0000,  -999.00,9,  -999.00, -999.000,9, -999.000,   -999.0,9,   -999.0,  -999.00,9,   0.1839,2,   0.1375,2,   0.0841,2,   0.0666,2,   0.0309,2,   0.0093,2,   0.0017,2,   0.0137,3,   0.0126,3,   8.9772,   9.0432,2
  33RR20070322,  I09N,   143,  2,     22,     22,2,20070412,0657, -0.6303,  93.6480, 4583, 704.8000,    704.8,   8.6577,  34.9993,2,  34.9990,2,     47.8,2,     47.2,2,    54.80,2,    35.12,2,     0.00,2,     2.58,2,    0.137,2,    0.083,2, -999.000,5,   2272.6,2,   2341.0,2,   7.4882,2,    25.00,     41.9,2,    37.92,2, -999.000,9, -999.000,-999.0000,9,-999.0000,  -999.00,9,  -999.00, -999.000,9, -999.000,   -999.0,9,   -999.0,  -999.00,9,   0.1819,2,   0.1355,2,   0.0826,2,   0.0653,2,   0.0299,2,   0.0087,2,   0.0014,2,   0.0138,3,   0.0127,3,   8.5806,   8.6569,2
  33RR20070322,  I09N,   143,  2,     21,     21,2,20070412,0657, -0.6303,  93.6480, 4583, 804.9000,    804.9,   8.3029,  34.9955,2,  34.9958,2,     44.8,2,     43.4,2,    60.86,2,    35.93,2,     0.00,2,     2.64,2,    0.077,2,    0.048,2, -999.000,5,   2281.3,2,   2346.3,2,   7.4869,2,    25.00,     41.4,2,    38.31,2, -999.000,9, -999.000,-999.0000,9,-999.0000,  -999.00,9,  -999.00, -999.000,9, -999.000,   -999.0,9,   -999.0,  -999.00,9,   0.1855,2,   0.1380,2,   0.0843,2,   0.0659,2,   0.0304,2,   0.0090,2,   0.0015,2,   0.0138,3,   0.0127,3,   8.2165,   8.3019,2
  33RR20070322,  I09N,   143,  2,     20,     20,2,20070412,0657, -0.6303,  93.6480, 4583, 905.5000,    905.5,   7.3192,  34.9598,2,  34.9600,2,     47.0,2,     47.1,2,    73.22,2,    36.95,2,     0.00,2,     2.73,2,    0.030,2,    0.018,2, -999.000,5,   2295.6,2,   2353.8,2,   7.4727,2,    25.00,     41.7,2,    39.26,2, -999.000,9, -999.000,-999.0000,9,-999.0000,  -999.00,9,  -999.00, -999.000,9, -999.000,   -999.0,9,   -999.0,  -999.00,9,   0.1869,2,   0.1389,2,   0.0847,2,   0.0664,2,   0.0306,2,   0.0087,2,   0.0012,2,   0.0140,3,   0.0128,3,   7.2280,   7.3179,2
  33RR20070322,  I09N,   143,  2,     19,     19,2,20070412,0657, -0.6303,  93.6480, 4583,1005.3000,   1005.3,   6.6801,  34.9336,2,  34.9350,2,     51.3,2,     52.2,2,    80.72,2,    37.33,2,     0.00,2,     2.75,2,    0.015,2,    0.010,2, -999.000,5,   2301.1,6,   2359.3,6,   7.4753,2,    25.00,     41.7,2,    38.76,2, -999.000,9, -999.000,-999.0000,9,-999.0000,  -999.00,9,  -999.00, -999.000,9, -999.000,   -999.0,9,   -999.0,  -999.00,9,   0.1862,2,   0.1378,2,   0.0830,2,   0.0639,2,   0.0290,2,   0.0082,2,   0.0010,2,   0.0141,3,   0.0131,3,   6.5829,   6.6853,2
  33RR20070322,  I09N,   143,  2,     18,     18,2,20070412,0657, -0.6303,  93.6480, 4583,1105.9000,   1105.9,   5.8242,  34.8910,2,  34.8899,2,     61.2,2,     63.1,2,    90.89,2,    37.38,2,     0.00,2,     2.76,2, -999.000,9, -999.000,9, -999.000,9,   2308.5,2,   2371.7,2,   7.4802,2,    25.00,     41.5,2,    38.66,2, -999.000,9, -999.000,-999.0000,9,-999.0000,  -999.00,9,  -999.00, -999.000,9, -999.000,   -999.0,9,   -999.0,  -999.00,9,   0.1878,2,   0.1392,2,   0.0837,2,   0.0640,2,   0.0291,2,   0.0082,2,   0.0010,2,   0.0141,3,   0.0132,3,   5.7237,   5.8232,2
  33RR20070322,  I09N,   143,  2,     17,     17,2,20070412,0657, -0.6303,  93.6480, 4583,1206.3000,   1206.3,   5.4095,  34.8777,2,  34.8771,2,     68.5,2,     69.6,2,    95.59,2,    37.32,2,     0.00,2,     2.75,2,    0.007,2,    0.004,2, -999.000,5,   2311.4,2,   2373.5,2,   7.4921,2,    25.00,     41.3,2,    38.42,2, -999.000,9, -999.000,-999.0000,9,-999.0000,  -999.00,9,  -999.00, -999.000,9, -999.000,   -999.0,9,   -999.0,  -999.00,9,   0.1871,2,   0.1381,2,   0.0827,2,   0.0630,2,   0.0286,2,   0.0082,2,   0.0010,2,   0.0141,3,   0.0132,3,   5.3028,   5.4090,2
  33RR20070322,  I09N,   143,  2,     16,     16,2,20070412,0657, -0.6303,  93.6480, 4583,1306.6000,   1306.6,   5.0986,  34.8695,2,  34.8691,2,     72.6,2,     75.1,2,    98.23,2,    37.22,2,     0.00,2,     2.75,2, -999.000,9, -999.000,9, -999.000,9,   2313.5,2,   2376.5,2,   7.5143,2,    25.00,     41.1,2,    38.30,2, -999.000,9, -999.000,-999.0000,9,-999.0000,  -999.00,9,  -999.00, -999.000,9, -999.000,   -999.0,9,   -999.0,  -999.00,9,   0.1881,2,   0.1387,2,   0.0831,2,   0.0635,2,   0.0290,2,   0.0085,2,   0.0012,2,   0.0140,3,   0.0132,3,   4.9851,   5.1055,2
  33RR20070322,  I09N,   143,  2,     15,     15,2,20070412,0657, -0.6303,  93.6480, 4583,1407.3000,   1407.3,   4.8484,  34.8581,2,  34.8580,2,     79.6,2,     80.1,2,   100.68,2,    37.27,2,     0.00,2,     2.74,2,    0.005,2,    0.004,2, -999.000,5,   2313.4,2,   2377.2,2,   7.4991,2,    25.00,     41.1,2,    38.91,2, -999.000,9, -999.000,-999.0000,9,-999.0000,  -999.00,9,  -999.00, -999.000,9, -999.000,   -999.0,9,   -999.0,  -999.00,9,   0.1908,2,   0.1414,2,   0.0850,2,   0.0640,2,   0.0302,2,   0.0099,2,   0.0021,2,   0.0138,3,   0.0131,3,   4.7278,   4.8475,2
  33RR20070322,  I09N,   143,  2,     14,     14,2,20070412,0657, -0.6303,  93.6480, 4583,1507.9000,   1507.9,   4.2671,  34.8326,2,  34.8323,2,     89.6,2,     91.4,2,   106.40,2,    37.10,2,     0.00,2,     2.70,2, -999.000,9, -999.000,9, -999.000,9,   2314.4,2,   2385.1,2,   7.4949,2,    25.00,     41.0,2,    38.57,2, -999.000,9, -999.000,-999.0000,9,-999.0000,  -999.00,9,  -999.00, -999.000,9, -999.000,   -999.0,9,   -999.0,  -999.00,9,   0.1806,2,   0.1323,2,   0.0786,2,   0.0592,2,   0.0263,2,   0.0073,2,   0.0007,3,   0.0141,3,   0.0135,3,   4.1435,   4.2675,2
  33RR20070322,  I09N,   143,  2,     13,     13,2,20070412,0657, -0.6303,  93.6480, 4583,1608.2000,   1608.2,   3.8199,  34.8191,2,  34.8201,2,    100.4,2,    100.6,2,   109.89,2,    36.66,2,     0.00,2,     2.66,2, -999.000,9, -999.000,9, -999.000,9,   2315.3,2,   2388.4,2,   7.5217,2,    25.00,     40.4,2,    38.47,2, -999.000,9, -999.000,-999.0000,9,-999.0000,  -999.00,9,  -999.00, -999.000,9, -999.000,   -999.0,9,   -999.0,  -999.00,9,   0.1790,2,   0.1312,2,   0.0773,2,   0.0578,2,   0.0252,2,   0.0069,2,   0.0005,4,   0.0142,3,   0.0136,3,   3.6923,   3.8201,2
  33RR20070322,  I09N,   143,  2,     12,     12,2,20070412,0657, -0.6303,  93.6480, 4583,1708.6000,   1708.6,   3.4043,  34.8029,2,  34.8040,2,    109.8,2,    111.1,2,   114.19,2,    36.39,2,     0.00,2,     2.63,2,    0.003,2,    0.002,2, -999.000,5,   2315.2,2,   2391.8,2,   7.5277,2,    25.00,     40.8,2,    38.33,2, -999.000,9, -999.000,-999.0000,9,-999.0000,  -999.00,9,  -999.00, -999.000,9, -999.000,   -999.0,9,   -999.0,  -999.00,9,   0.1791,2,   0.1310,2,   0.0776,2,   0.0590,2,   0.0259,2,   0.0069,2,   0.0005,4,   0.0141,3,   0.0135,3,   3.2729,   3.4040,2
  33RR20070322,  I09N,   143,  2,     11,     11,2,20070412,0657, -0.6303,  93.6480, 4583,1809.9000,   1809.9,   3.0969,  34.7906,2,  34.7912,2,    116.6,2,    118.2,2,   117.68,2,    36.07,2,     0.00,2,     2.61,2, -999.000,9, -999.000,9, -999.000,9,   2315.3,2,   2395.8,2,   7.5194,2,    25.00,     41.0,2,    37.62,2, -999.000,9, -999.000,-999.0000,9,-999.0000,  -999.00,9,  -999.00, -999.000,9, -999.000,   -999.0,9,   -999.0,  -999.00,9,   0.1744,2,   0.1270,2,   0.0743,2,   0.0553,2,   0.0233,2,   0.0061,2,   0.0002,4,   0.0142,3,   0.0138,3,   2.9605,   3.1033,2
  33RR20070322,  I09N,   143,  2,     10,     10,2,20070412,0657, -0.6303,  93.6480, 4583,2010.8000,   2010.8,   2.7375,  34.7753,2,  34.7756,2,    127.1,2,    127.8,2,   122.20,2,    35.84,2,     0.00,2,     2.57,2, -999.000,9, -999.000,9, -999.000,9,   2315.0,2,   2399.5,2,   7.5537,2,    25.00,     40.6,2,    37.52,2, -999.000,9, -999.000,-999.0000,9,-999.0000,  -999.00,9,  -999.00, -999.000,9, -999.000,   -999.0,9,   -999.0,  -999.00,9,   0.1703,2,   0.1233,2,   0.0716,2,   0.0527,2,   0.0218,2,   0.0057,2,   0.0001,4,   0.0142,3,   0.0140,3,   2.5884,   2.7396,2
  33RR20070322,  I09N,   143,  2,      9,      9,2,20070412,0657, -0.6303,  93.6480, 4583,2263.9000,   2263.9,   2.2829,  34.7572,2,  34.7550,2,    139.7,2,    140.2,2,   127.34,2,    35.36,2,     0.00,2,     2.52,2,    0.003,2,    0.001,2, -999.000,5,   2314.9,2,   2404.2,2,   7.5680,2,    25.00,     41.2,2,    36.51,2, -999.000,9, -999.000,-999.0000,9,-999.0000,  -999.00,9,  -999.00, -999.000,9, -999.000,   -999.0,9,   -999.0,  -999.00,9,   0.1657,2,   0.1194,2,   0.0686,2,   0.0499,2,   0.0200,2,   0.0051,2,  -0.0001,4,   0.0143,3,   0.0143,3,   2.1185,   2.2826,2
  33RR20070322,  I09N,   143,  2,      8,      8,2,20070412,0657, -0.6303,  93.6480, 4583,2515.7000,   2515.7,   2.0025,  34.7456,2,  34.7460,2,    149.2,2,    148.4,2,   130.44,2,    35.14,2,     0.00,2,     2.48,2, -999.000,9, -999.000,9, -999.000,9,   2314.2,2,   2407.3,2,   7.5747,2,    25.00,     40.9,2,    36.70,2, -999.000,9, -999.000,-999.0000,9,-999.0000,  -999.00,9,  -999.00, -999.000,9, -999.000,   -999.0,9,   -999.0,  -999.00,9,   0.1619,2,   0.1163,2,   0.0669,2,   0.0488,2,   0.0193,2,   0.0049,2,  -0.0001,4,   0.0141,3,   0.0143,3,   1.8203,   2.0022,2
  33RR20070322,  I09N,   143,  2,      7,      7,2,20070412,0657, -0.6303,  93.6480, 4583,2769.7000,   2769.7,   1.8801,  34.7401,2,  34.7406,2,    154.5,2,    153.4,2,   131.47,2,    34.98,2,     0.00,2,     2.45,2, -999.000,9, -999.000,9, -999.000,9,   2312.6,2,   2408.2,2,   7.5485,2,    25.00,     40.8,2,    36.24,2, -999.000,9, -999.000,-999.0000,9,-999.0000,  -999.00,9,  -999.00, -999.000,9, -999.000,   -999.0,9,   -999.0,  -999.00,9,   0.1609,2,   0.1157,2,   0.0662,2,   0.0481,2,   0.0190,2,   0.0049,2,   0.0000,4,   0.0141,2,   0.0143,3,   1.6767,   1.8795,2
  33RR20070322,  I09N,   143,  2,      6,      6,2,20070412,0657, -0.6303,  93.6480, 4583,3022.1000,   3022.1,   1.6873,  34.7325,2,  34.7331,2,    160.5,2,    160.2,2,   133.53,2,    34.64,2,     0.00,2,     2.42,2,    0.002,2,    0.001,2, -999.000,5,   2310.8,2,   2413.5,2,   7.5925,2,    25.00,     40.5,2,    36.59,2, -999.000,9, -999.000,-999.0000,9,-999.0000,  -999.00,9,  -999.00, -999.000,9, -999.000,   -999.0,9,   -999.0,  -999.00,9,   0.1566,2,   0.1117,2,   0.0633,2,   0.0459,2,   0.0175,2,   0.0042,2,  -0.0003,4,   0.0142,2,   0.0146,3,   1.4639,   1.6866,2
  33RR20070322,  I09N,   143,  2,      5,      5,2,20070412,0657, -0.6303,  93.6480, 4583,3426.4000,   3426.4,   1.4173,  34.7238,2,  34.7235,2,    172.8,2,    173.3,2,   133.74,2,    34.05,2,     0.00,2,     2.36,2, -999.000,9, -999.000,9, -999.000,9,   2304.8,2,   2390.0,3,   7.6007,2,    25.00,     40.3,2,    35.30,2, -999.000,9, -999.000,-999.0000,9,-999.0000,  -999.00,9,  -999.00, -999.000,9, -999.000,   -999.0,9,   -999.0,  -999.00,9,   0.1467,2,   0.1039,2,   0.0577,2,   0.0408,2,   0.0142,2,   0.0029,3,  -0.0008,4,   0.0143,2,   0.0151,2,   1.1604,   1.4173,2