BOTTLE,20150630SIOCCHRJL
EXPOCODE,SECT_ID,STNNBR,CASTNO,SAMPNO,BTLNBR,BTLNBR_FLAG_W,DATE,TIME,LATITUDE,LONGITUDE,DEPTH,CTDRAW,CTDPRS,CTDTMP,CTDSAL,CTDSAL_FLAG_W,SALNTY,SALNTY_FLAG_W,CTDOXY,CTDOXY_FLAG_W,OXYGEN,OXYGEN_FLAG_W,SILCAT,SILCAT_FLAG_W,NITRAT,NITRAT_FLAG_W,NITRIT,NITRIT_FLAG_W,PHSPHT,PHSPHT_FLAG_W,CFC-11,CFC-11_FLAG_W,CFC-12,CFC-12_FLAG_W,CFC113,CFC113_FLAG_W,TCARBN,TCARBN_FLAG_W,ALKALI,ALKALI_FLAG_W,PH_SWS,PH_SWS_FLAG_W,PH_TMP,DOC,DOC_FLAG_W,TDN,TDN_FLAG_W,TRITUM,TRITUM_FLAG_W,TRITER,HELIUM,HELIUM_FLAG_W,HELIER,DELHE3,DELHE3_FLAG_W,DELHER,NEON,NEON_FLAG_W,NEONER,DELC14,DELC14_FLAG_W,C14ERR,DELC13,DELC13_FLAG_W,CDOM325,CDOM325_FLAG_W,CDOM340,CDOM340_FLAG_W,CDOM380,CDOM380_FLAG_W,CDOM412,CDOM412_FLAG_W,CDOM443,CDOM443_FLAG_W,CDOM490,CDOM490_FLAG_W,CDOM555,CDOM555_FLAG_W,CDOMSL,CDOMSL_FLAG_W,CDOMSN,CDOMSN_FLAG_W,THETA,SBE35,SBE35_FLAG_W
,,,,,,,,,,,METERS,,DBAR,ITS-90,PSS-78,,PSS-78,,UMOL/KG,,UMOL/KG,,UMOL/KG,,UMOL/KG,,UMOL/KG,,UMOL/KG,,PMOL/KG,,PMOL/KG,,PMOL/KG,,UMOL/KG,,UMOL/KG,,,,DEG C,UMOL/KG,,UMOL/KG,,TU,,TU,NMOL/KG,,NMOL/KG,PERCNT,,PERCNT,NMOL/KG,,NMOL/KG,/MILLE,,/MILLE,/MILLE,,1/M,,1/M,,1/M,,1/M,,1/M,,1/M,,1/M,,1/NM,,1/NM,,DEG C,ITS-90,
  33RR20070322,  I09N,   173,  2,     36,     38,2,20070420,0750,  9.9672,  87.3002, 3475,   2.0000,      2.0,  29.9185,  33.4400,2,  33.4428,2,    196.7,2,    197.2,2,     1.62,2,     0.05,2,     0.00,2,     0.04,2, -999.000,9, -999.000,9, -999.000,9,   1893.7,6,   2208.1,2,   8.1173,6,    25.00,   -999.0,9,  -999.00,9, -999.000,9, -999.000,-999.0000,9,-999.0000,  -999.00,9,  -999.00, -999.000,9, -999.000,   -999.0,9,   -999.0,  -999.00,9,-999.0000,9,-999.0000,9,-999.0000,9,-999.0000,9,-999.0000,9,-999.0000,9,-999.0000,9,-999.0000,9,-999.0000,9,  29.9180,  30.0691,2
  33RR20070322,  I09N,   173,  2,     35,     35,2,20070420,0750,  9.9672,  87.3002, 3475,  29.3000,     29.3,  29.1087,  33.5246,2,  33.5147,2,    201.4,2,    199.9,2,     1.61,2,     0.05,2,     0.00,2,     0.04,2, -999.000,9, -999.000,9, -999.000,9,   -999.0,9,   -999.0,9,-999.0000,9,  -999.00,   -999.0,9,  -999.00,9, -999.000,9, -999.000,-999.0000,9,-999.0000,  -999.00,9,  -999.00, -999.000,9, -999.000,   -999.0,9,   -999.0,  -999.00,9,-999.0000,9,-999.0000,9,-999.0000,9,-999.0000,9,-999.0000,9,-999.0000,9,-999.0000,9,-999.0000,9,-999.0000,9,  29.1016,  29.0983,2
  33RR20070322,  I09N,   173,  2,     34,   9419,2,20070420,0750,  9.9672,  87.3002, 3475,  53.1000,     53.1,  28.0721,  33.6661,2,  33.6608,2,    202.8,2,    203.6,2,     1.60,2,     0.05,2,     0.00,2,     0.05,2, -999.000,9, -999.000,9, -999.000,9,   -999.0,9,   -999.0,9,-999.0000,9,  -999.00,   -999.0,9,  -999.00,9, -999.000,9, -999.000,-999.0000,9,-999.0000,  -999.00,9,  -999.00, -999.000,9, -999.000,   -999.0,9,   -999.0,  -999.00,9,-999.0000,9,-999.0000,9,-999.0000,9,-999.0000,9,-999.0000,9,-999.0000,9,-999.0000,9,-999.0000,9,-999.0000,9,  28.0596,  28.0656,2
  33RR20070322,  I09N,   173,  2,     33,     33,2,20070420,0750,  9.9672,  87.3002, 3475,  78.0000,     78.0,  27.1074,  34.2374,2,  34.2221,2,    161.5,2,    150.1,2,     2.99,2,     0.92,2,     0.06,2,     0.29,2, -999.000,9, -999.000,9, -999.000,9,   -999.0,9,   -999.0,9,-999.0000,9,  -999.00,   -999.0,9,  -999.00,9, -999.000,9, -999.000,-999.0000,9,-999.0000,  -999.00,9,  -999.00, -999.000,9, -999.000,   -999.0,9,   -999.0,  -999.00,9,-999.0000,9,-999.0000,9,-999.0000,9,-999.0000,9,-999.0000,9,-999.0000,9,-999.0000,9,-999.0000,9,-999.0000,9,  27.0895,  27.0866,2
  33RR20070322,  I09N,   173,  2,     32,     37,2,20070420,0750,  9.9672,  87.3002, 3475, 103.0000,    103.0,  23.3318,  34.7789,2,  34.7805,2,     36.0,2,     22.0,2,    12.94,2,    21.64,2,     0.10,2,     1.59,2, -999.000,9, -999.000,9, -999.000,9,   -999.0,9,   -999.0,9,-999.0000,9,  -999.00,   -999.0,9,  -999.00,9, -999.000,9, -999.000,-999.0000,9,-999.0000,  -999.00,9,  -999.00, -999.000,9, -999.000,   -999.0,9,   -999.0,  -999.00,9,-999.0000,9,-999.0000,9,-999.0000,9,-999.0000,9,-999.0000,9,-999.0000,9,-999.0000,9,-999.0000,9,-999.0000,9,  23.3106,  23.4931,2
  33RR20070322,  I09N,   173,  2,     31,     31,2,20070420,0750,  9.9672,  87.3002, 3475, 152.7000,    152.7,  17.0385,  34.8968,2,  34.8890,2,      8.1,2,      8.3,2,    25.68,2,    28.43,2,     0.01,2,     2.11,2, -999.000,9, -999.000,9, -999.000,9,   2206.5,2,   2297.4,2,   7.5699,2,    25.00,   -999.0,9,  -999.00,9, -999.000,9, -999.000,-999.0000,9,-999.0000,  -999.00,9,  -999.00, -999.000,9, -999.000,   -999.0,9,   -999.0,  -999.00,9,-999.0000,9,-999.0000,9,-999.0000,9,-999.0000,9,-999.0000,9,-999.0000,9,-999.0000,9,-999.0000,9,-999.0000,9,  17.0133,  17.0331,2
  33RR20070322,  I09N,   173,  2,     30,     30,2,20070420,0750,  9.9672,  87.3002, 3475, 203.4000,    203.4,  13.6782,  34.9743,2,  34.9727,2,     11.8,2,     15.0,2,    32.26,2,    31.32,2,     0.00,2,     2.26,2, -999.000,9, -999.000,9, -999.000,9,   -999.0,9,   -999.0,9,-999.0000,9,  -999.00,   -999.0,9,  -999.00,9, -999.000,9, -999.000,-999.0000,9,-999.0000,  -999.00,9,  -999.00, -999.000,9, -999.000,   -999.0,9,   -999.0,  -999.00,9,-999.0000,9,-999.0000,9,-999.0000,9,-999.0000,9,-999.0000,9,-999.0000,9,-999.0000,9,-999.0000,9,-999.0000,9,  13.6493,  13.6782,2
  33RR20070322,  I09N,   173,  2,     29,     29,2,20070420,0750,  9.9672,  87.3002, 3475, 253.6000,    253.6,  12.3506,  35.0183,2,  35.0157,2,     13.8,2,     13.7,2,    34.64,2,    32.64,2,     0.00,2,     2.34,2, -999.000,9, -999.000,9, -999.000,9,   -999.0,9,   -999.0,9,-999.0000,9,  -999.00,   -999.0,9,  -999.00,9, -999.000,9, -999.000,-999.0000,9,-999.0000,  -999.00,9,  -999.00, -999.000,9, -999.000,   -999.0,9,   -999.0,  -999.00,9,-999.0000,9,-999.0000,9,-999.0000,9,-999.0000,9,-999.0000,9,-999.0000,9,-999.0000,9,-999.0000,9,-999.0000,9,  12.3168,  12.3545,2
  33RR20070322,  I09N,   173,  2,     28,     28,2,20070420,0750,  9.9672,  87.3002, 3475, 302.8000,    302.8,  11.6157,  35.0289,2,  35.0272,2,     12.8,2,     12.0,2,    37.42,2,    33.76,2,     0.00,2,     2.40,2, -999.000,9, -999.000,9, -999.000,9,   -999.0,9,   -999.0,9,-999.0000,9,  -999.00,   -999.0,9,  -999.00,9, -999.000,9, -999.000,-999.0000,9,-999.0000,  -999.00,9,  -999.00, -999.000,9, -999.000,   -999.0,9,   -999.0,  -999.00,9,-999.0000,9,-999.0000,9,-999.0000,9,-999.0000,9,-999.0000,9,-999.0000,9,-999.0000,9,-999.0000,9,-999.0000,9,  11.5768,  11.6157,2
  33RR20070322,  I09N,   173,  2,     27,     27,2,20070420,0750,  9.9672,  87.3002, 3475, 352.7000,    352.7,  11.1475,  35.0334,2,  35.0325,2,     13.7,2,     12.1,2,    39.61,2,    34.50,2,     0.00,2,     2.45,2, -999.000,9, -999.000,9, -999.000,9,   -999.0,9,   -999.0,9,-999.0000,9,  -999.00,   -999.0,9,  -999.00,9, -999.000,9, -999.000,-999.0000,9,-999.0000,  -999.00,9,  -999.00, -999.000,9, -999.000,   -999.0,9,   -999.0,  -999.00,9,-999.0000,9,-999.0000,9,-999.0000,9,-999.0000,9,-999.0000,9,-999.0000,9,-999.0000,9,-999.0000,9,-999.0000,9,  11.1033,  11.1454,2
  33RR20070322,  I09N,   173,  2,     26,     26,2,20070420,0750,  9.9672,  87.3002, 3475, 402.6000,    402.6,  10.7143,  35.0346,2,  35.0343,2,     15.2,2,     17.3,2,    41.60,2,    34.54,2,     0.00,2,     2.45,2, -999.000,9, -999.000,9, -999.000,9,   -999.0,9,   -999.0,9,-999.0000,9,  -999.00,   -999.0,9,  -999.00,9, -999.000,9, -999.000,-999.0000,9,-999.0000,  -999.00,9,  -999.00, -999.000,9, -999.000,   -999.0,9,   -999.0,  -999.00,9,-999.0000,9,-999.0000,9,-999.0000,9,-999.0000,9,-999.0000,9,-999.0000,9,-999.0000,9,-999.0000,9,-999.0000,9,  10.6650,  10.7098,2
  33RR20070322,  I09N,   173,  2,     25,     25,2,20070420,0750,  9.9672,  87.3002, 3475, 453.0000,    453.0,  10.2996,  35.0315,2,  35.0275,2,     17.0,2,     19.1,2,    44.98,2,    34.98,2,     0.00,2,     2.48,2, -999.000,9, -999.000,9, -999.000,9,   -999.0,9,   -999.0,9,-999.0000,9,  -999.00,   -999.0,9,  -999.00,9, -999.000,9, -999.000,-999.0000,9,-999.0000,  -999.00,9,  -999.00, -999.000,9, -999.000,   -999.0,9,   -999.0,  -999.00,9,-999.0000,9,-999.0000,9,-999.0000,9,-999.0000,9,-999.0000,9,-999.0000,9,-999.0000,9,-999.0000,9,-999.0000,9,  10.2453,  10.3000,2
  33RR20070322,  I09N,   173,  2,     24,     24,2,20070420,0750,  9.9672,  87.3002, 3475, 503.3000,    503.3,   9.9853,  35.0412,2,  35.0405,2,     18.3,2,     17.6,2,    46.58,2,    35.51,2,     0.00,2,     2.55,2, -999.000,9, -999.000,9, -999.000,9,   -999.0,9,   -999.0,9,-999.0000,9,  -999.00,   -999.0,9,  -999.00,9, -999.000,9, -999.000,-999.0000,9,-999.0000,  -999.00,9,  -999.00, -999.000,9, -999.000,   -999.0,9,   -999.0,  -999.00,9,-999.0000,9,-999.0000,9,-999.0000,9,-999.0000,9,-999.0000,9,-999.0000,9,-999.0000,9,-999.0000,9,-999.0000,9,   9.9260,   9.9862,2
  33RR20070322,  I09N,   173,  2,     23,     23,2,20070420,0750,  9.9672,  87.3002, 3475, 602.9000,    602.9,   9.2772,  35.0117,2,  35.0104,2,     22.3,2,     21.8,2,    55.58,2,    36.15,2,     0.00,2,     2.60,2, -999.000,9, -999.000,9, -999.000,9,   -999.0,9,   -999.0,9,-999.0000,9,  -999.00,   -999.0,9,  -999.00,9, -999.000,9, -999.000,-999.0000,9,-999.0000,  -999.00,9,  -999.00, -999.000,9, -999.000,   -999.0,9,   -999.0,  -999.00,9,-999.0000,9,-999.0000,9,-999.0000,9,-999.0000,9,-999.0000,9,-999.0000,9,-999.0000,9,-999.0000,9,-999.0000,9,   9.2089,   9.2790,2
  33RR20070322,  I09N,   173,  2,     22,     22,2,20070420,0750,  9.9672,  87.3002, 3475, 704.2000,    704.2,   8.5822,  34.9952,2,  34.9941,2,     26.2,2,     26.1,2,    62.78,2,    36.75,2,     0.00,2,     2.65,2, -999.000,9, -999.000,9, -999.000,9,   -999.0,9,   -999.0,9,-999.0000,9,  -999.00,   -999.0,9,  -999.00,9, -999.000,9, -999.000,-999.0000,9,-999.0000,  -999.00,9,  -999.00, -999.000,9, -999.000,   -999.0,9,   -999.0,  -999.00,9,-999.0000,9,-999.0000,9,-999.0000,9,-999.0000,9,-999.0000,9,-999.0000,9,-999.0000,9,-999.0000,9,-999.0000,9,   8.5056,   8.5880,2
  33RR20070322,  I09N,   173,  2,     21,     21,2,20070420,0750,  9.9672,  87.3002, 3475, 804.3000,    804.3,   7.9064,  34.9715,2,  34.9707,2,     34.5,2,     34.8,2,    70.20,2,    36.74,2,     0.00,2,     2.67,2, -999.000,9, -999.000,9, -999.000,9,   -999.0,9,   -999.0,9,-999.0000,9,  -999.00,   -999.0,9,  -999.00,9, -999.000,9, -999.000,-999.0000,9,-999.0000,  -999.00,9,  -999.00, -999.000,9, -999.000,   -999.0,9,   -999.0,  -999.00,9,-999.0000,9,-999.0000,9,-999.0000,9,-999.0000,9,-999.0000,9,-999.0000,9,-999.0000,9,-999.0000,9,-999.0000,9,   7.8224,   7.9153,2
  33RR20070322,  I09N,   173,  2,     20,     20,2,20070420,0750,  9.9672,  87.3002, 3475, 904.0000,    904.0,   7.2864,  34.9509,2,  34.9496,2,     40.7,2,     41.0,2,    77.03,2,    36.93,2,     0.00,2,     2.68,2, -999.000,9, -999.000,9, -999.000,9,   -999.0,9,   -999.0,9,-999.0000,9,  -999.00,   -999.0,9,  -999.00,9, -999.000,9, -999.000,-999.0000,9,-999.0000,  -999.00,9,  -999.00, -999.000,9, -999.000,   -999.0,9,   -999.0,  -999.00,9,-999.0000,9,-999.0000,9,-999.0000,9,-999.0000,9,-999.0000,9,-999.0000,9,-999.0000,9,-999.0000,9,-999.0000,9,   7.1956,   7.2849,2
  33RR20070322,  I09N,   173,  2,     19,     19,2,20070420,0750,  9.9672,  87.3002, 3475,1004.8000,   1004.8,   6.6657,  34.9301,2,  34.9294,2,     47.0,2,     47.4,2,    83.86,2,    37.23,2,     0.00,2,     2.70,2, -999.000,9, -999.000,9, -999.000,9,   2310.8,2,   2368.8,6,   7.4657,2,    25.00,   -999.0,9,  -999.00,9, -999.000,9, -999.000,-999.0000,9,-999.0000,  -999.00,9,  -999.00, -999.000,9, -999.000,   -999.0,9,   -999.0,  -999.00,9,-999.0000,9,-999.0000,9,-999.0000,9,-999.0000,9,-999.0000,9,-999.0000,9,-999.0000,9,-999.0000,9,-999.0000,9,   6.5687,   6.6700,2
  33RR20070322,  I09N,   173,  2,     18,     18,2,20070420,0750,  9.9672,  87.3002, 3475,1105.2000,   1105.2,   6.1623,  34.9133,2,  34.9126,2,     52.7,2,     53.0,2,    89.70,2,    37.36,2,     0.00,2,     2.71,2, -999.000,9, -999.000,9, -999.000,9,   -999.0,9,   -999.0,9,-999.0000,9,  -999.00,   -999.0,9,  -999.00,9, -999.000,9, -999.000,-999.0000,9,-999.0000,  -999.00,9,  -999.00, -999.000,9, -999.000,   -999.0,9,   -999.0,  -999.00,9,-999.0000,9,-999.0000,9,-999.0000,9,-999.0000,9,-999.0000,9,-999.0000,9,-999.0000,9,-999.0000,9,-999.0000,9,   6.0590,   6.1618,2
  33RR20070322,  I09N,   173,  2,     17,     17,2,20070420,0750,  9.9672,  87.3002, 3475,1206.0000,   1206.0,   5.7340,  34.8972,2,  34.8949,2,     60.2,2,     59.8,2,    94.15,2,    37.26,2,     0.00,2,     2.71,2, -999.000,9, -999.000,9, -999.000,9,   -999.0,9,   -999.0,9,-999.0000,9,  -999.00,   -999.0,9,  -999.00,9, -999.000,9, -999.000,-999.0000,9,-999.0000,  -999.00,9,  -999.00, -999.000,9, -999.000,   -999.0,9,   -999.0,  -999.00,9,-999.0000,9,-999.0000,9,-999.0000,9,-999.0000,9,-999.0000,9,-999.0000,9,-999.0000,9,-999.0000,9,-999.0000,9,   5.6244,   5.7344,2
  33RR20070322,  I09N,   173,  2,     16,     16,2,20070420,0750,  9.9672,  87.3002, 3475,1305.5000,   1305.5,   5.3514,  34.8824,2,  34.8810,2,     66.3,2,     66.1,2,    98.38,2,    37.21,2,     0.00,2,     2.70,2, -999.000,9, -999.000,9, -999.000,9,   -999.0,9,   -999.0,9,-999.0000,9,  -999.00,   -999.0,9,  -999.00,9, -999.000,9, -999.000,-999.0000,9,-999.0000,  -999.00,9,  -999.00, -999.000,9, -999.000,   -999.0,9,   -999.0,  -999.00,9,-999.0000,9,-999.0000,9,-999.0000,9,-999.0000,9,-999.0000,9,-999.0000,9,-999.0000,9,-999.0000,9,-999.0000,9,   5.2356,   5.3537,2
  33RR20070322,  I09N,   173,  2,     15,     15,2,20070420,0750,  9.9672,  87.3002, 3475,1406.1000,   1406.1,   4.9308,  34.8673,2,  34.8652,2,     73.5,2,     73.3,2,   103.44,2,    37.10,2,     0.00,2,     2.68,2, -999.000,9, -999.000,9, -999.000,9,   -999.0,9,   -999.0,9,-999.0000,9,  -999.00,   -999.0,9,  -999.00,9, -999.000,9, -999.000,-999.0000,9,-999.0000,  -999.00,9,  -999.00, -999.000,9, -999.000,   -999.0,9,   -999.0,  -999.00,9,-999.0000,9,-999.0000,9,-999.0000,9,-999.0000,9,-999.0000,9,-999.0000,9,-999.0000,9,-999.0000,9,-999.0000,9,   4.8095,   4.9308,2
  33RR20070322,  I09N,   173,  2,     14,     14,2,20070420,0750,  9.9672,  87.3002, 3475,1506.1000,   1506.1,   4.5793,  34.8535,2,  34.8526,2,     79.0,2,     78.7,2,   107.50,2,    37.09,2,     0.00,2,     2.68,2, -999.000,9, -999.000,9, -999.000,9,   -999.0,9,   -999.0,9,-999.0000,9,  -999.00,   -999.0,9,  -999.00,9, -999.000,9, -999.000,-999.0000,9,-999.0000,  -999.00,9,  -999.00, -999.000,9, -999.000,   -999.0,9,   -999.0,  -999.00,9,-999.0000,9,-999.0000,9,-999.0000,9,-999.0000,9,-999.0000,9,-999.0000,9,-999.0000,9,-999.0000,9,-999.0000,9,   4.4523,   4.5789,2
  33RR20070322,  I09N,   173,  2,     13,     13,2,20070420,0750,  9.9672,  87.3002, 3475,1607.4000,   1607.4,   4.1921,  34.8401,2,  34.8397,2,     84.6,2,     85.0,2,   111.55,2,    37.09,2,     0.00,2,     2.67,2, -999.000,9, -999.000,9, -999.000,9,   -999.0,9,   -999.0,9,-999.0000,9,  -999.00,   -999.0,9,  -999.00,9, -999.000,9, -999.000,-999.0000,9,-999.0000,  -999.00,9,  -999.00, -999.000,9, -999.000,   -999.0,9,   -999.0,  -999.00,9,-999.0000,9,-999.0000,9,-999.0000,9,-999.0000,9,-999.0000,9,-999.0000,9,-999.0000,9,-999.0000,9,-999.0000,9,   4.0600,   4.1945,2
  33RR20070322,  I09N,   173,  2,     12,     12,2,20070420,0750,  9.9672,  87.3002, 3475,1707.1000,   1707.1,   3.8043,  34.8251,2,  34.8239,2,     91.7,2,     92.8,2,   115.82,2,    36.89,2,     0.00,2,     2.66,2, -999.000,9, -999.000,9, -999.000,9,   -999.0,9,   -999.0,9,-999.0000,9,  -999.00,   -999.0,9,  -999.00,9, -999.000,9, -999.000,-999.0000,9,-999.0000,  -999.00,9,  -999.00, -999.000,9, -999.000,   -999.0,9,   -999.0,  -999.00,9,-999.0000,9,-999.0000,9,-999.0000,9,-999.0000,9,-999.0000,9,-999.0000,9,-999.0000,9,-999.0000,9,-999.0000,9,   3.6678,   3.8079,2
  33RR20070322,  I09N,   173,  2,     11,     11,2,20070420,0750,  9.9672,  87.3002, 3475,1808.7000,   1808.7,   3.4288,  34.8092,2,  34.8084,2,     99.1,2,     99.6,2,   120.50,2,    36.68,2,     0.00,2,     2.64,2, -999.000,9, -999.000,9, -999.000,9,   -999.0,9,   -999.0,9,-999.0000,9,  -999.00,   -999.0,9,  -999.00,9, -999.000,9, -999.000,-999.0000,9,-999.0000,  -999.00,9,  -999.00, -999.000,9, -999.000,   -999.0,9,   -999.0,  -999.00,9,-999.0000,9,-999.0000,9,-999.0000,9,-999.0000,9,-999.0000,9,-999.0000,9,-999.0000,9,-999.0000,9,-999.0000,9,   3.2880,   3.4242,2
  33RR20070322,  I09N,   173,  2,     10,     10,2,20070420,0750,  9.9672,  87.3002, 3475,2010.6000,   2010.6,   2.8484,  34.7839,2,  34.7809,4,    112.7,2,    113.2,2,   127.03,2,    36.28,2,     0.00,2,     2.59,2, -999.000,9, -999.000,9, -999.000,9,   2331.9,2,   2406.5,6,   7.5274,2,    25.00,   -999.0,9,  -999.00,9, -999.000,9, -999.000,-999.0000,9,-999.0000,  -999.00,9,  -999.00, -999.000,9, -999.000,   -999.0,9,   -999.0,  -999.00,9,-999.0000,9,-999.0000,9,-999.0000,9,-999.0000,9,-999.0000,9,-999.0000,9,-999.0000,9,-999.0000,9,-999.0000,9,   2.6977,   2.8485,2
  33RR20070322,  I09N,   173,  2,      9,      9,2,20070420,0750,  9.9672,  87.3002, 3475,2262.1000,   2262.1,   2.4349,  34.7650,2,  34.7624,4,    123.1,2,    123.2,2,   133.16,2,    35.88,2,     0.00,2,     2.55,2, -999.000,9, -999.000,9, -999.000,9,   -999.0,9,   -999.0,9,-999.0000,9,  -999.00,   -999.0,9,  -999.00,9, -999.000,9, -999.000,-999.0000,9,-999.0000,  -999.00,9,  -999.00, -999.000,9, -999.000,   -999.0,9,   -999.0,  -999.00,9,-999.0000,9,-999.0000,9,-999.0000,9,-999.0000,9,-999.0000,9,-999.0000,9,-999.0000,9,-999.0000,9,-999.0000,9,   2.2681,   2.4375,2
  33RR20070322,  I09N,   173,  2,      8,      8,2,20070420,0750,  9.9672,  87.3002, 3475,2514.4000,   2514.4,   2.1284,  34.7517,2,  34.7508,2,    131.7,2,    131.1,2,   137.05,2,    35.63,2,     0.00,2,     2.51,2, -999.000,9, -999.000,9, -999.000,9,   -999.0,9,   -999.0,9,-999.0000,9,  -999.00,   -999.0,9,  -999.00,9, -999.000,9, -999.000,-999.0000,9,-999.0000,  -999.00,9,  -999.00, -999.000,9, -999.000,   -999.0,9,   -999.0,  -999.00,9,-999.0000,9,-999.0000,9,-999.0000,9,-999.0000,9,-999.0000,9,-999.0000,9,-999.0000,9,-999.0000,9,-999.0000,9,   1.9440,   2.1285,2
  33RR20070322,  I09N,   173,  2,      7,      7,2,20070420,0750,  9.9672,  87.3002, 3475,2767.5000,   2767.5,   1.9116,  34.7422,2,  34.7410,2,    138.1,2,    137.6,2,   139.72,2,    35.33,2,     0.00,2,     2.48,2, -999.000,9, -999.000,9, -999.000,9,   -999.0,9,   -999.0,9,-999.0000,9,  -999.00,   -999.0,9,  -999.00,9, -999.000,9, -999.000,-999.0000,9,-999.0000,  -999.00,9,  -999.00, -999.000,9, -999.000,   -999.0,9,   -999.0,  -999.00,9,-999.0000,9,-999.0000,9,-999.0000,9,-999.0000,9,-999.0000,9,-999.0000,9,-999.0000,9,-999.0000,9,-999.0000,9,   1.7078,   1.9129,2
  33RR20070322,  I09N,   173,  2,      6,      6,2,20070420,0750,  9.9672,  87.3002, 3475,3021.7000,   3021.7,   1.7514,  34.7351,2,  34.7341,2,    144.1,2,    144.2,2,   141.15,2,    35.12,2,     0.00,2,     2.45,2, -999.000,9, -999.000,9, -999.000,9,   2333.5,2,   2435.5,2,   7.5868,2,    25.00,   -999.0,9,  -999.00,9, -999.000,9, -999.000,-999.0000,9,-999.0000,  -999.00,9,  -999.00, -999.000,9, -999.000,   -999.0,9,   -999.0,  -999.00,9,-999.0000,9,-999.0000,9,-999.0000,9,-999.0000,9,-999.0000,9,-999.0000,9,-999.0000,9,-999.0000,9,-999.0000,9,   1.5266,   1.7526,2
  33RR20070322,  I09N,   173,  2,      5,      5,2,20070420,0750,  9.9672,  87.3002, 3475,3273.8000,   3273.8,   1.6037,  34.7293,2,  34.7278,2,    151.7,2,    152.7,2,   141.15,2,    34.83,2,     0.00,2,     2.41,2, -999.000,9, -999.000,9, -999.000,9,   2328.7,2,   2424.1,2,   7.5775,2,    25.00,   -999.0,9,  -999.00,9, -999.000,9, -999.000,-999.0000,9,-999.0000,  -999.00,9,  -999.00, -999.000,9, -999.000,   -999.0,9,   -999.0,  -999.00,9,-999.0000,9,-999.0000,9,-999.0000,9,-999.0000,9,-999.0000,9,-999.0000,9,-999.0000,9,-999.0000,9,-999.0000,9,   1.3575,   1.6038,2