BOTTLE,20150630SIOCCHRJL
EXPOCODE,SECT_ID,STNNBR,CASTNO,SAMPNO,BTLNBR,BTLNBR_FLAG_W,DATE,TIME,LATITUDE,LONGITUDE,DEPTH,CTDRAW,CTDPRS,CTDTMP,CTDSAL,CTDSAL_FLAG_W,SALNTY,SALNTY_FLAG_W,CTDOXY,CTDOXY_FLAG_W,OXYGEN,OXYGEN_FLAG_W,SILCAT,SILCAT_FLAG_W,NITRAT,NITRAT_FLAG_W,NITRIT,NITRIT_FLAG_W,PHSPHT,PHSPHT_FLAG_W,CFC-11,CFC-11_FLAG_W,CFC-12,CFC-12_FLAG_W,CFC113,CFC113_FLAG_W,TCARBN,TCARBN_FLAG_W,ALKALI,ALKALI_FLAG_W,PH_SWS,PH_SWS_FLAG_W,PH_TMP,DOC,DOC_FLAG_W,TDN,TDN_FLAG_W,TRITUM,TRITUM_FLAG_W,TRITER,HELIUM,HELIUM_FLAG_W,HELIER,DELHE3,DELHE3_FLAG_W,DELHER,NEON,NEON_FLAG_W,NEONER,DELC14,DELC14_FLAG_W,C14ERR,DELC13,DELC13_FLAG_W,CDOM325,CDOM325_FLAG_W,CDOM340,CDOM340_FLAG_W,CDOM380,CDOM380_FLAG_W,CDOM412,CDOM412_FLAG_W,CDOM443,CDOM443_FLAG_W,CDOM490,CDOM490_FLAG_W,CDOM555,CDOM555_FLAG_W,CDOMSL,CDOMSL_FLAG_W,CDOMSN,CDOMSN_FLAG_W,THETA,SBE35,SBE35_FLAG_W
,,,,,,,,,,,METERS,,DBAR,ITS-90,PSS-78,,PSS-78,,UMOL/KG,,UMOL/KG,,UMOL/KG,,UMOL/KG,,UMOL/KG,,UMOL/KG,,PMOL/KG,,PMOL/KG,,PMOL/KG,,UMOL/KG,,UMOL/KG,,,,DEG C,UMOL/KG,,UMOL/KG,,TU,,TU,NMOL/KG,,NMOL/KG,PERCNT,,PERCNT,NMOL/KG,,NMOL/KG,/MILLE,,/MILLE,/MILLE,,1/M,,1/M,,1/M,,1/M,,1/M,,1/M,,1/M,,1/NM,,1/NM,,DEG C,ITS-90,
  33RR20070322,  I09N,    89,  3,      5,      5,2,20070326,1006,-28.3133,  95.0145, 3088,2517.8000,   2517.8,   1.8542,  34.7285,2,  34.7306,4,    177.8,2,    177.9,2,   109.14,2,    32.23,2,     0.00,2,     2.26,2, -999.000,5, -999.000,5, -999.000,5,   2272.4,2,   2378.4,2,   7.6111,2,    25.00,   -999.0,9,  -999.00,9, -999.000,9, -999.000,-999.0000,9,-999.0000,  -999.00,9,  -999.00, -999.000,9, -999.000,   -182.3,2,      2.4,     0.49,2,   0.1316,2,   0.0911,2,   0.0502,2,   0.0360,2,   0.0110,2,   0.0013,3,  -0.0015,4,   0.0143,2,   0.0154,3,   1.6747,   1.8530,2
  33RR20070322,  I09N,    89,  3,      4,      4,2,20070326,1006,-28.3133,  95.0145, 3088,2520.6000,   2520.6,   1.8506,  34.7281,2,  34.7316,4,    177.9,2,    177.9,2,   109.55,2,    32.27,2,     0.00,2,     2.26,2,    0.008,2,    0.004,2, -999.000,5,   2272.4,2,   2378.8,2,   7.6040,2,    25.00,     40.8,2,  -999.00,9, -999.000,9, -999.000,-999.0000,9,-999.0000,  -999.00,9,  -999.00, -999.000,9, -999.000,   -179.9,2,      2.6,     0.45,2,   0.1374,2,   0.0962,2,   0.0539,2,   0.0393,2,   0.0132,2,   0.0025,4,  -0.0010,4,   0.0140,3,   0.0148,4,   1.6709,   1.8525,2
  33RR20070322,  I09N,    89,  3,      3,      3,2,20070326,1006,-28.3133,  95.0145, 3088,2772.4000,   2772.4,   1.6555,  34.7283,2,  34.7309,4,    183.0,2,    182.5,2,   112.82,2,    32.16,2,     0.00,2,     2.25,2,    0.007,2,    0.002,2, -999.000,5,   2272.4,2,   2381.7,2,   7.6123,2,    25.00,     41.3,2,  -999.00,9, -999.000,9, -999.000,-999.0000,9,-999.0000,  -999.00,9,  -999.00, -999.000,9, -999.000,   -181.2,2,      2.7,     0.46,2,   0.1316,2,   0.0913,2,   0.0503,2,   0.0363,2,   0.0111,2,   0.0013,3,  -0.0016,4,   0.0142,2,   0.0153,3,   1.4565,   1.6551,2
  33RR20070322,  I09N,    89,  3,      2,      2,2,20070326,1006,-28.3133,  95.0145, 3088,2974.6000,   2974.6,   1.5241,  34.7266,2,  34.7291,4,    185.2,2,    185.0,2,   116.52,2,    32.21,2,     0.00,2,     2.26,2,    0.007,2,    0.001,2, -999.000,5,   2268.7,3,   2386.1,2,   7.6181,2,    25.00,     41.3,2,  -999.00,9, -999.000,9, -999.000,-999.0000,9,-999.0000,  -999.00,9,  -999.00, -999.000,9, -999.000,   -183.0,2,      2.7,     0.49,2,   0.1351,2,   0.0938,2,   0.0523,2,   0.0380,2,   0.0120,2,   0.0018,4,  -0.0014,4,   0.0142,3,   0.0151,4,   1.3089,   1.5239,2
  33RR20070322,  I09N,    89,  3,      1,      1,2,20070326,1006,-28.3133,  95.0145, 3088,3104.1000,   3104.1,   1.4718,  34.7252,2,  34.7283,4,    186.6,2,    187.0,2,   117.75,2,    32.25,2,     0.00,2,     2.26,2,    0.010,2,    0.003,2, -999.000,5,   2277.5,6,   2387.0,6,   7.6269,6,    25.00,     41.5,2,  -999.00,9, -999.000,9, -999.000,-999.0000,9,-999.0000,  -999.00,9,  -999.00, -999.000,9, -999.000,   -170.3,2,      3.8,     0.46,2,   0.1299,2,   0.0898,2,   0.0496,2,   0.0356,2,   0.0107,2,   0.0012,3,  -0.0016,4,   0.0142,2,   0.0154,3,   1.2454,   1.4709,2