BOTTLE,20150630SIOCCHRJL
EXPOCODE,SECT_ID,STNNBR,CASTNO,SAMPNO,BTLNBR,BTLNBR_FLAG_W,DATE,TIME,LATITUDE,LONGITUDE,DEPTH,CTDRAW,CTDPRS,CTDTMP,CTDSAL,CTDSAL_FLAG_W,SALNTY,SALNTY_FLAG_W,CTDOXY,CTDOXY_FLAG_W,OXYGEN,OXYGEN_FLAG_W,SILCAT,SILCAT_FLAG_W,NITRAT,NITRAT_FLAG_W,NITRIT,NITRIT_FLAG_W,PHSPHT,PHSPHT_FLAG_W,CFC-11,CFC-11_FLAG_W,CFC-12,CFC-12_FLAG_W,CFC113,CFC113_FLAG_W,TCARBN,TCARBN_FLAG_W,ALKALI,ALKALI_FLAG_W,PH_SWS,PH_SWS_FLAG_W,PH_TMP,DOC,DOC_FLAG_W,TDN,TDN_FLAG_W,TRITUM,TRITUM_FLAG_W,TRITER,HELIUM,HELIUM_FLAG_W,HELIER,DELHE3,DELHE3_FLAG_W,DELHER,NEON,NEON_FLAG_W,NEONER,DELC14,DELC14_FLAG_W,C14ERR,DELC13,DELC13_FLAG_W,CDOM325,CDOM325_FLAG_W,CDOM340,CDOM340_FLAG_W,CDOM380,CDOM380_FLAG_W,CDOM412,CDOM412_FLAG_W,CDOM443,CDOM443_FLAG_W,CDOM490,CDOM490_FLAG_W,CDOM555,CDOM555_FLAG_W,CDOMSL,CDOMSL_FLAG_W,CDOMSN,CDOMSN_FLAG_W,THETA,SBE35,SBE35_FLAG_W
,,,,,,,,,,,METERS,,DBAR,ITS-90,PSS-78,,PSS-78,,UMOL/KG,,UMOL/KG,,UMOL/KG,,UMOL/KG,,UMOL/KG,,UMOL/KG,,PMOL/KG,,PMOL/KG,,PMOL/KG,,UMOL/KG,,UMOL/KG,,,,DEG C,UMOL/KG,,UMOL/KG,,TU,,TU,NMOL/KG,,NMOL/KG,PERCNT,,PERCNT,NMOL/KG,,NMOL/KG,/MILLE,,/MILLE,/MILLE,,1/M,,1/M,,1/M,,1/M,,1/M,,1/M,,1/M,,1/NM,,1/NM,,DEG C,ITS-90,
  33RR20070322,  I09N,   132,  1,     36,     38,2,20070409,1021, -4.5340,  94.8687, 4939,   2.1000,      2.1,  29.4635,  34.1929,2,  34.1941,2,    196.2,2,    196.2,2,     1.41,3,     0.05,2,     0.00,2,     0.08,2,    1.523,2,    0.978,2, -999.000,5,   1922.1,6,   2243.8,2,   8.0840,3,    25.00,   -999.0,9,  -999.00,9,    0.664,2,    0.012,   1.7000,2,   0.0006,    -1.12,2,     0.20,    6.676,2,    0.010,   -999.0,9,   -999.0,  -999.00,9,-999.0000,9,-999.0000,9,-999.0000,9,-999.0000,9,-999.0000,9,-999.0000,9,-999.0000,9,-999.0000,9,-999.0000,9,  29.4630,  29.4577,2
  33RR20070322,  I09N,   132,  1,     35,     35,2,20070409,1021, -4.5340,  94.8687, 4939,  40.4000,     40.4,  28.1628,  34.6058,2,  34.5855,2,    193.0,2,    192.8,2,     1.73,3,     0.05,2,     0.00,2,     0.16,2,    1.562,2,    1.009,2, -999.000,5,   -999.0,9,   -999.0,9,-999.0000,9,  -999.00,   -999.0,9,  -999.00,9,    0.681,2,    0.013,   1.7420,2,   0.0003,    -1.08,2,     0.20,    6.864,2,    0.011,   -999.0,9,   -999.0,  -999.00,9,-999.0000,9,-999.0000,9,-999.0000,9,-999.0000,9,-999.0000,9,-999.0000,9,-999.0000,9,-999.0000,9,-999.0000,9,  28.1533,  28.1619,2
  33RR20070322,  I09N,   132,  1,     34,   9419,2,20070409,1021, -4.5340,  94.8687, 4939,  75.4000,     75.4,  24.4196,  35.3375,2,  35.3391,2,    143.9,2,    133.8,2,     4.95,3,     7.66,2,     0.97,2,     0.73,2,    1.662,2,    1.046,2, -999.000,5,   2067.8,2,   2309.6,2,   7.9317,2,    25.00,   -999.0,9,  -999.00,9,    0.586,2,    0.029,   1.7300,2,   0.0003,    -0.14,2,     0.19,    6.874,2,    0.011,   -999.0,9,   -999.0,  -999.00,9,-999.0000,9,-999.0000,9,-999.0000,9,-999.0000,9,-999.0000,9,-999.0000,9,-999.0000,9,-999.0000,9,-999.0000,9,  24.4035,  24.4291,2
  33RR20070322,  I09N,   132,  1,     33,     33,2,20070409,1021, -4.5340,  94.8687, 4939,  94.9000,     94.9,  21.8292,  35.2793,2,  35.2812,2,    100.2,2,     97.8,2,     8.76,3,    14.93,2,     0.03,2,     1.08,2,    1.694,2,    1.023,2, -999.000,5,   -999.0,9,   -999.0,9,-999.0000,9,  -999.00,   -999.0,9,  -999.00,9,    0.692,2,    0.013,   1.7290,2,   0.0014,     1.16,2,     0.20,    6.957,2,    0.011,   -999.0,9,   -999.0,  -999.00,9,-999.0000,9,-999.0000,9,-999.0000,9,-999.0000,9,-999.0000,9,-999.0000,9,-999.0000,9,-999.0000,9,-999.0000,9,  21.8105,  21.7636,2
  33RR20070322,  I09N,   132,  1,     32,     37,2,20070409,1021, -4.5340,  94.8687, 4939, 125.2000,    125.2,  19.2837,  35.1974,2,  35.1934,2,     71.8,2,     68.5,2,    13.74,3,    20.43,2,     0.02,2,     1.44,2,    1.612,2,    0.950,2, -999.000,5,   2152.0,2,   2303.7,2,   7.7299,2,    25.00,   -999.0,9,  -999.00,9,    0.689,2,    0.012,   1.7640,2,   0.0003,     2.42,2,     0.20,    7.136,2,    0.011,   -999.0,9,   -999.0,  -999.00,9,-999.0000,9,-999.0000,9,-999.0000,9,-999.0000,9,-999.0000,9,-999.0000,9,-999.0000,9,-999.0000,9,-999.0000,9,  19.2611,  19.2826,2
  33RR20070322,  I09N,   132,  1,     31,     31,2,20070409,1021, -4.5340,  94.8687, 4939, 145.8000,    145.8,  16.9083,  35.0462,2,  35.0501,2,     60.0,2,     58.1,2,    18.34,3,    23.46,2,     0.01,2,     1.63,2,    1.493,2,    0.854,2, -999.000,5,   -999.0,9,   -999.0,9,-999.0000,9,  -999.00,   -999.0,9,  -999.00,9,    0.532,2,    0.011,-999.0000,9,-999.0000,  -999.00,9,  -999.00, -999.000,9, -999.000,   -999.0,9,   -999.0,  -999.00,9,-999.0000,9,-999.0000,9,-999.0000,9,-999.0000,9,-999.0000,9,-999.0000,9,-999.0000,9,-999.0000,9,-999.0000,9,  16.8843,  16.8690,2
  33RR20070322,  I09N,   132,  1,     30,     30,2,20070409,1021, -4.5340,  94.8687, 4939, 175.1000,    175.1,  14.8870,  35.0894,2,  35.0903,2,     50.8,2,     57.8,2,    20.02,3,    25.31,2,     0.01,2,     1.76,2,    1.430,2,    0.799,2, -999.000,5,   -999.0,9,   -999.0,9,-999.0000,9,  -999.00,   -999.0,9,  -999.00,9,    0.512,2,    0.010,   1.7570,2,   0.0003,     4.16,2,     0.21,    7.274,2,    0.011,   -999.0,9,   -999.0,  -999.00,9,-999.0000,9,-999.0000,9,-999.0000,9,-999.0000,9,-999.0000,9,-999.0000,9,-999.0000,9,-999.0000,9,-999.0000,9,  14.8606,  14.8531,2
  33RR20070322,  I09N,   132,  1,     29,     29,2,20070409,1021, -4.5340,  94.8687, 4939, 225.2000,    225.2,  12.6501,  35.0092,2,  35.0095,2,     58.2,2,     67.8,2,    23.25,3,    26.55,2,     0.00,2,     1.83,2,    1.215,2,    0.656,2, -999.000,5,   -999.0,9,   -999.0,9,-999.0000,9,  -999.00,   -999.0,9,  -999.00,9,    0.461,2,    0.009,   1.7800,2,   0.0004,     5.60,2,     0.20,    7.394,2,    0.012,   -999.0,9,   -999.0,  -999.00,9,-999.0000,9,-999.0000,9,-999.0000,9,-999.0000,9,-999.0000,9,-999.0000,9,-999.0000,9,-999.0000,9,-999.0000,9,  12.6196,  12.6657,2
  33RR20070322,  I09N,   132,  1,     28,     28,2,20070409,1021, -4.5340,  94.8687, 4939, 274.2000,    274.2,  11.8067,  34.9785,2,  34.9769,2,     59.0,2,     64.9,2,    25.70,3,    28.31,2,     0.00,2,     1.94,2,    0.932,2,    0.504,2, -999.000,5,   2215.4,2,   2316.0,2,   7.5844,2,    25.00,   -999.0,9,  -999.00,9,    0.375,2,    0.008,   1.7900,2,   0.0012,     5.97,2,     0.20,    7.607,2,    0.012,   -999.0,9,   -999.0,  -999.00,9,-999.0000,9,-999.0000,9,-999.0000,9,-999.0000,9,-999.0000,9,-999.0000,9,-999.0000,9,-999.0000,9,-999.0000,9,  11.7712,  11.8010,2
  33RR20070322,  I09N,   132,  1,     27,     27,2,20070409,1021, -4.5340,  94.8687, 4939, 325.2000,    325.2,  11.2695,  34.9765,2,  34.9781,2,     70.6,2,     77.5,2,    23.68,3,    27.69,2,     0.00,2,     1.88,2,    0.987,2,    0.535,2, -999.000,5,   -999.0,9,   -999.0,9,-999.0000,9,  -999.00,   -999.0,9,  -999.00,9,    0.254,2,    0.007,   1.7610,2,   0.0004,     5.51,2,     0.20,    7.389,2,    0.011,   -999.0,9,   -999.0,  -999.00,9,-999.0000,9,-999.0000,9,-999.0000,9,-999.0000,9,-999.0000,9,-999.0000,9,-999.0000,9,-999.0000,9,-999.0000,9,  11.2285,  11.2636,2
  33RR20070322,  I09N,   132,  1,     26,     26,2,20070409,1021, -4.5340,  94.8687, 4939, 375.4000,    375.4,  10.7608,  34.9345,2,  34.9330,2,     66.9,2,     64.2,2,    27.89,3,    30.07,2,     0.00,2,     2.03,2,    0.663,2,    0.367,2, -999.000,5,   -999.0,9,   -999.0,9,-999.0000,9,  -999.00,   -999.0,9,  -999.00,9,    0.402,2,    0.011,   1.7880,2,   0.0014,     5.70,2,     0.20,    7.518,2,    0.012,   -999.0,9,   -999.0,  -999.00,9,-999.0000,9,-999.0000,9,-999.0000,9,-999.0000,9,-999.0000,9,-999.0000,9,-999.0000,9,-999.0000,9,-999.0000,9,  10.7148,  10.7631,2
  33RR20070322,  I09N,   132,  1,     25,     25,2,20070409,1021, -4.5340,  94.8687, 4939, 424.9000,    424.9,  10.2870,  34.9185,2,  34.9180,2,     63.2,2,     62.2,2,    30.93,3,    31.16,2,     0.00,2,     2.12,2,    0.495,2,    0.275,2, -999.000,5,   -999.0,9,   -999.0,9,-999.0000,9,  -999.00,   -999.0,9,  -999.00,9,    0.129,2,    0.006,   1.8080,2,   0.0006,     5.51,2,     0.18,    7.691,2,    0.010,   -999.0,9,   -999.0,  -999.00,9,-999.0000,9,-999.0000,9,-999.0000,9,-999.0000,9,-999.0000,9,-999.0000,9,-999.0000,9,-999.0000,9,-999.0000,9,  10.2363,  10.2950,2
  33RR20070322,  I09N,   132,  1,     24,     24,2,20070409,1021, -4.5340,  94.8687, 4939, 475.6000,    475.6,   9.8393,  34.9034,2,  34.9032,2,     60.6,2,     61.1,2,    34.75,3,    32.14,2,     0.00,2,     2.21,2,    0.353,2,    0.200,2, -999.000,5,   -999.0,9,   -999.0,9,-999.0000,9,  -999.00,   -999.0,9,  -999.00,9,    0.291,2,    0.008,   1.8160,2,   0.0004,     5.29,2,     0.20,    7.705,2,    0.012,   -999.0,9,   -999.0,  -999.00,9,-999.0000,9,-999.0000,9,-999.0000,9,-999.0000,9,-999.0000,9,-999.0000,9,-999.0000,9,-999.0000,9,-999.0000,9,   9.7839,   9.8355,2
  33RR20070322,  I09N,   132,  1,     23,     23,2,20070409,1021, -4.5340,  94.8687, 4939, 525.3000,    525.3,   9.5569,  34.9117,2,  34.9121,2,     60.0,2,     58.8,2,    38.57,3,    32.71,2,     0.00,2,     2.28,2,    0.285,2,    0.159,2, -999.000,5,   2243.2,2,   2317.2,2,   7.5519,2,    25.00,   -999.0,9,  -999.00,9, -999.000,9, -999.000,  -0.0005,5,   0.0000,   178.07,5,    17.69,    7.768,2,    0.012,   -999.0,9,   -999.0,  -999.00,9,-999.0000,9,-999.0000,9,-999.0000,9,-999.0000,9,-999.0000,9,-999.0000,9,-999.0000,9,-999.0000,9,-999.0000,9,   9.4967,   9.5562,2
  33RR20070322,  I09N,   132,  1,     22,     22,2,20070409,1021, -4.5340,  94.8687, 4939, 645.5000,    645.5,   8.3279,  34.8680,2,  34.8694,2,     55.4,2,     55.7,2,    54.29,3,    34.79,2,     0.00,2,     2.52,2,    0.095,2,    0.054,2, -999.000,5,   -999.0,9,   -999.0,9,-999.0000,9,  -999.00,   -999.0,9,  -999.00,9, -999.000,9, -999.000,   1.8340,2,   0.0005,     7.01,2,     0.20,    7.691,2,    0.012,   -999.0,9,   -999.0,  -999.00,9,-999.0000,9,-999.0000,9,-999.0000,9,-999.0000,9,-999.0000,9,-999.0000,9,-999.0000,9,-999.0000,9,-999.0000,9,   8.2592,   8.3222,2
  33RR20070322,  I09N,   132,  1,     21,     21,2,20070409,1021, -4.5340,  94.8687, 4939, 745.5000,    745.5,   7.8650,  34.8999,2,  34.9003,2,     53.6,2,     52.0,2,    62.23,3,    35.68,2,     0.00,2,     2.61,2,    0.056,2,    0.031,2, -999.000,5,   -999.0,9,   -999.0,9,   7.5045,6,    25.00,   -999.0,9,  -999.00,9,    0.005,2,    0.004,-999.0000,9,-999.0000,  -999.00,9,  -999.00, -999.000,9, -999.000,   -999.0,9,   -999.0,  -999.00,9,-999.0000,9,-999.0000,9,-999.0000,9,-999.0000,9,-999.0000,9,-999.0000,9,-999.0000,9,-999.0000,9,-999.0000,9,   7.7877,   7.8601,2
  33RR20070322,  I09N,   132,  1,     20,     20,2,20070409,1021, -4.5340,  94.8687, 4939, 845.8000,    845.8,   7.2283,  34.8729,2,  34.8727,2,     54.8,2,     54.8,2,    71.35,3,    36.21,2,     0.00,2,     2.67,2,    0.031,2,    0.016,2, -999.000,5,   -999.0,9,   -999.0,9,-999.0000,9,  -999.00,   -999.0,9,  -999.00,9, -999.000,9, -999.000,   1.8580,2,   0.0004,    10.00,2,     0.19,    7.776,2,    0.010,   -999.0,9,   -999.0,  -999.00,9,-999.0000,9,-999.0000,9,-999.0000,9,-999.0000,9,-999.0000,9,-999.0000,9,-999.0000,9,-999.0000,9,-999.0000,9,   7.1441,   7.2307,2
  33RR20070322,  I09N,   132,  1,     19,     19,2,20070409,1021, -4.5340,  94.8687, 4939, 945.9000,    945.9,   6.5726,  34.8678,2,  34.8670,2,     57.3,2,     57.5,2,    80.10,3,    36.78,2,     0.00,2,     2.72,2,    0.016,2,    0.008,2, -999.000,5,   -999.0,9,   -999.0,9,-999.0000,9,  -999.00,   -999.0,9,  -999.00,9,    0.069,2,    0.005,   1.8570,2,   0.0005,    10.92,2,     0.18,    7.818,2,    0.012,   -999.0,9,   -999.0,  -999.00,9,-999.0000,9,-999.0000,9,-999.0000,9,-999.0000,9,-999.0000,9,-999.0000,9,-999.0000,9,-999.0000,9,-999.0000,9,   6.4824,   6.5727,2
  33RR20070322,  I09N,   132,  1,     18,     18,2,20070409,1021, -4.5340,  94.8687, 4939,1046.1000,   1046.1,   6.1501,  34.8513,2,  34.8505,2,     60.9,2,     61.2,2,    85.52,3,    37.10,2,     0.00,2,     2.73,2, -999.000,9, -999.000,9, -999.000,9,   2300.8,2,   2367.2,6,   7.4912,2,    25.00,   -999.0,9,  -999.00,9, -999.000,9, -999.000,-999.0000,9,-999.0000,  -999.00,9,  -999.00, -999.000,9, -999.000,   -999.0,9,   -999.0,  -999.00,9,-999.0000,9,-999.0000,9,-999.0000,9,-999.0000,9,-999.0000,9,-999.0000,9,-999.0000,9,-999.0000,9,-999.0000,9,   6.0530,   6.1534,2
  33RR20070322,  I09N,   132,  1,     17,     17,2,20070409,1021, -4.5340,  94.8687, 4939,1147.1000,   1147.1,   5.6453,  34.8321,2,  34.8329,2,     67.3,2,     67.6,2,    91.55,3,    37.10,2,     0.00,2,     2.74,2,    0.012,2,    0.005,2, -999.000,5,   -999.0,9,   -999.0,9,-999.0000,9,  -999.00,   -999.0,9,  -999.00,9, -999.000,9, -999.000,   1.7630,3,   0.0004,    13.12,2,     0.22,   -0.009,4,   -0.002,   -999.0,9,   -999.0,  -999.00,9,-999.0000,9,-999.0000,9,-999.0000,9,-999.0000,9,-999.0000,9,-999.0000,9,-999.0000,9,-999.0000,9,-999.0000,9,   5.5423,   5.6446,2
  33RR20070322,  I09N,   132,  1,     16,     16,2,20070409,1021, -4.5340,  94.8687, 4939,1248.1000,   1248.1,   5.2044,  34.8222,2,  34.8219,2,     73.7,2,     73.9,2,    95.81,3,    37.09,2,     0.00,2,     2.74,2, -999.000,9, -999.000,9, -999.000,9,   -999.0,9,   -999.0,9,-999.0000,9,  -999.00,   -999.0,9,  -999.00,9, -999.000,9, -999.000,-999.0000,9,-999.0000,  -999.00,9,  -999.00, -999.000,9, -999.000,   -999.0,9,   -999.0,  -999.00,9,-999.0000,9,-999.0000,9,-999.0000,9,-999.0000,9,-999.0000,9,-999.0000,9,-999.0000,9,-999.0000,9,-999.0000,9,   5.0956,   5.2044,2
  33RR20070322,  I09N,   132,  1,     15,     15,2,20070409,1021, -4.5340,  94.8687, 4939,1347.7000,   1347.7,   4.9134,  34.8232,2,  34.8239,2,     79.5,2,     78.9,2,    99.10,3,    36.88,2,     0.00,2,     2.72,2,    0.009,2,    0.002,2, -999.000,5,   -999.0,9,   -999.0,9,-999.0000,9,  -999.00,   -999.0,9,  -999.00,9,    0.001,2,    0.007,   1.8720,2,   0.0004,    12.34,2,     0.19,    7.861,2,    0.010,   -999.0,9,   -999.0,  -999.00,9,-999.0000,9,-999.0000,9,-999.0000,9,-999.0000,9,-999.0000,9,-999.0000,9,-999.0000,9,-999.0000,9,-999.0000,9,   4.7979,   4.9143,2
  33RR20070322,  I09N,   132,  1,     14,     14,2,20070409,1021, -4.5340,  94.8687, 4939,1448.9000,   1448.9,   4.4993,  34.8177,2,  34.8176,2,     87.0,2,     87.3,2,   102.77,3,    36.68,2,     0.00,2,     2.69,2, -999.000,9, -999.000,9, -999.000,9,   -999.0,9,   -999.0,9,-999.0000,9,  -999.00,   -999.0,9,  -999.00,9, -999.000,9, -999.000,   1.8630,2,   0.0004,    12.25,2,     0.19,    7.841,2,    0.011,   -999.0,9,   -999.0,  -999.00,9,-999.0000,9,-999.0000,9,-999.0000,9,-999.0000,9,-999.0000,9,-999.0000,9,-999.0000,9,-999.0000,9,-999.0000,9,   4.3786,   4.5048,2
  33RR20070322,  I09N,   132,  1,     13,     13,2,20070409,1021, -4.5340,  94.8687, 4939,1548.7000,   1548.7,   3.9129,  34.7856,2,  34.7859,2,     99.2,2,    101.2,2,   107.25,3,    36.31,2,     0.00,2,     2.66,2,    0.006,2,    0.002,2, -999.000,5,   -999.0,9,   -999.0,9,-999.0000,9,  -999.00,   -999.0,9,  -999.00,9, -999.000,9, -999.000,   1.8680,2,   0.0007,    12.81,2,     0.21,    7.908,2,    0.013,   -999.0,9,   -999.0,  -999.00,9,-999.0000,9,-999.0000,9,-999.0000,9,-999.0000,9,-999.0000,9,-999.0000,9,-999.0000,9,-999.0000,9,-999.0000,9,   3.7897,   3.9138,2
  33RR20070322,  I09N,   132,  1,     12,     12,2,20070409,1021, -4.5340,  94.8687, 4939,1751.2000,   1751.2,   3.3206,  34.7811,2,  34.7819,2,    113.1,2,    114.9,2,   113.51,3,    35.84,2,     0.00,2,     2.60,2, -999.000,9, -999.000,9, -999.000,9,   -999.0,9,   -999.0,9,-999.0000,9,  -999.00,   -999.0,9,  -999.00,9, -999.000,9, -999.000,   1.9160,2,   0.0005,    13.17,2,     0.19,    8.107,2,    0.009,   -999.0,9,   -999.0,  -999.00,9,-999.0000,9,-999.0000,9,-999.0000,9,-999.0000,9,-999.0000,9,-999.0000,9,-999.0000,9,-999.0000,9,-999.0000,9,   3.1865,   3.3194,2
  33RR20070322,  I09N,   132,  1,     11,     11,2,20070409,1021, -4.5340,  94.8687, 4939,1952.0000,   1952.0,   2.7944,  34.7687,2,  34.7701,2,    126.2,2,    127.2,2,   119.59,3,    35.42,2,     0.00,2,     2.55,2,    0.005,2,    0.001,2, -999.000,5,   -999.0,9,   -999.0,9,-999.0000,9,  -999.00,   -999.0,9,  -999.00,9, -999.000,9, -999.000,   1.8890,2,   0.0007,    13.42,2,     0.18,    7.991,2,    0.010,   -999.0,9,   -999.0,  -999.00,9,-999.0000,9,-999.0000,9,-999.0000,9,-999.0000,9,-999.0000,9,-999.0000,9,-999.0000,9,-999.0000,9,-999.0000,9,   2.6497,   2.7942,2
  33RR20070322,  I09N,   132,  1,     10,     10,2,20070409,1021, -4.5340,  94.8687, 4939,2113.0000,   2113.0,   2.4532,  34.7579,2,  34.7585,2,    134.8,2,    136.4,2,   123.69,3,    35.17,2,     0.00,2,     2.51,2, -999.000,9, -999.000,9, -999.000,9,   -999.0,9,   -999.0,9,-999.0000,9,  -999.00,   -999.0,9,  -999.00,9, -999.000,9, -999.000,   1.8980,2,   0.0007,    13.73,2,     0.19,    8.211,2,    0.011,   -999.0,9,   -999.0,  -999.00,9,-999.0000,9,-999.0000,9,-999.0000,9,-999.0000,9,-999.0000,9,-999.0000,9,-999.0000,9,-999.0000,9,-999.0000,9,   2.2995,   2.4529,2
  33RR20070322,  I09N,   132,  1,      9,      9,2,20070409,1021, -4.5340,  94.8687, 4939,2365.8000,   2365.8,   2.1693,  34.7485,2,  34.7483,2,    144.9,2,    145.3,2,   126.21,3,    34.75,2,     0.00,2,     2.47,2,    0.003,2,    0.001,2, -999.000,5,   -999.0,9,   -999.0,9,-999.0000,9,  -999.00,   -999.0,9,  -999.00,9, -999.000,9, -999.000,   1.8980,2,   0.0006,    14.16,2,     0.20,    8.060,2,    0.009,   -999.0,9,   -999.0,  -999.00,9,-999.0000,9,-999.0000,9,-999.0000,9,-999.0000,9,-999.0000,9,-999.0000,9,-999.0000,9,-999.0000,9,-999.0000,9,   1.9977,   2.1696,2
  33RR20070322,  I09N,   132,  1,      8,      8,2,20070409,1021, -4.5340,  94.8687, 4939,2618.1000,   2618.1,   1.9593,  34.7413,2,  34.7414,2,    152.5,2,    152.4,2,   128.12,3,    34.48,2,     0.00,2,     2.44,2, -999.000,9, -999.000,9, -999.000,9,   2310.4,2,   2406.2,6,   7.5868,2,    25.00,   -999.0,9,  -999.00,9, -999.000,9, -999.000,-999.0000,9,-999.0000,  -999.00,9,  -999.00, -999.000,9, -999.000,   -999.0,9,   -999.0,  -999.00,9,-999.0000,9,-999.0000,9,-999.0000,9,-999.0000,9,-999.0000,9,-999.0000,9,-999.0000,9,-999.0000,9,-999.0000,9,   1.7685,   1.9592,2
  33RR20070322,  I09N,   132,  1,      7,      7,2,20070409,1021, -4.5340,  94.8687, 4939,2871.3000,   2871.3,   1.7887,  34.7352,2,  34.7359,2,    158.8,2,    158.3,2,   129.84,3,    34.22,2,     0.00,2,     2.42,2,    0.004,2,    0.002,2, -999.000,5,   -999.0,9,   -999.0,9,-999.0000,9,  -999.00,   -999.0,9,  -999.00,9, -999.000,9, -999.000,   1.8910,2,   0.0005,    13.26,2,     0.18,    8.143,2,    0.013,   -999.0,9,   -999.0,  -999.00,9,-999.0000,9,-999.0000,9,-999.0000,9,-999.0000,9,-999.0000,9,-999.0000,9,-999.0000,9,-999.0000,9,-999.0000,9,   1.5776,   1.7887,2
  33RR20070322,  I09N,   132,  1,      6,      6,2,20070409,1021, -4.5340,  94.8687, 4939,3124.3000,   3124.3,   1.6690,  34.7309,2,  34.7315,2,    163.8,2,    162.5,2,   132.76,3,    34.12,2,     0.00,2,     2.39,2, -999.000,9, -999.000,9, -999.000,9,   -999.0,9,   -999.0,9,-999.0000,9,  -999.00,   -999.0,9,  -999.00,9, -999.000,9, -999.000,-999.0000,9,-999.0000,  -999.00,9,  -999.00, -999.000,9, -999.000,   -999.0,9,   -999.0,  -999.00,9,-999.0000,9,-999.0000,9,-999.0000,9,-999.0000,9,-999.0000,9,-999.0000,9,-999.0000,9,-999.0000,9,-999.0000,9,   1.4361,   1.6691,2
  33RR20070322,  I09N,   132,  1,      5,      5,2,20070409,1021, -4.5340,  94.8687, 4939,3530.8000,   3530.8,   1.4373,  34.7234,2,  34.7237,2,    174.1,2,    173.4,2,   133.29,3,    33.59,2,     0.00,2,     2.35,2,    0.002,2,    0.001,2, -999.000,5,   -999.0,9,   -999.0,9,-999.0000,9,  -999.00,   -999.0,9,  -999.00,9, -999.000,9, -999.000,-999.0000,9,-999.0000,  -999.00,9,  -999.00, -999.000,9, -999.000,   -999.0,9,   -999.0,  -999.00,9,-999.0000,9,-999.0000,9,-999.0000,9,-999.0000,9,-999.0000,9,-999.0000,9,-999.0000,9,-999.0000,9,-999.0000,9,   1.1693,   1.4378,2