BOTTLE,20150630SIOCCHRJL
EXPOCODE,SECT_ID,STNNBR,CASTNO,SAMPNO,BTLNBR,BTLNBR_FLAG_W,DATE,TIME,LATITUDE,LONGITUDE,DEPTH,CTDRAW,CTDPRS,CTDTMP,CTDSAL,CTDSAL_FLAG_W,SALNTY,SALNTY_FLAG_W,CTDOXY,CTDOXY_FLAG_W,OXYGEN,OXYGEN_FLAG_W,SILCAT,SILCAT_FLAG_W,NITRAT,NITRAT_FLAG_W,NITRIT,NITRIT_FLAG_W,PHSPHT,PHSPHT_FLAG_W,CFC-11,CFC-11_FLAG_W,CFC-12,CFC-12_FLAG_W,CFC113,CFC113_FLAG_W,TCARBN,TCARBN_FLAG_W,ALKALI,ALKALI_FLAG_W,PH_SWS,PH_SWS_FLAG_W,PH_TMP,DOC,DOC_FLAG_W,TDN,TDN_FLAG_W,TRITUM,TRITUM_FLAG_W,TRITER,HELIUM,HELIUM_FLAG_W,HELIER,DELHE3,DELHE3_FLAG_W,DELHER,NEON,NEON_FLAG_W,NEONER,DELC14,DELC14_FLAG_W,C14ERR,DELC13,DELC13_FLAG_W,CDOM325,CDOM325_FLAG_W,CDOM340,CDOM340_FLAG_W,CDOM380,CDOM380_FLAG_W,CDOM412,CDOM412_FLAG_W,CDOM443,CDOM443_FLAG_W,CDOM490,CDOM490_FLAG_W,CDOM555,CDOM555_FLAG_W,CDOMSL,CDOMSL_FLAG_W,CDOMSN,CDOMSN_FLAG_W,THETA,SBE35,SBE35_FLAG_W
,,,,,,,,,,,METERS,,DBAR,ITS-90,PSS-78,,PSS-78,,UMOL/KG,,UMOL/KG,,UMOL/KG,,UMOL/KG,,UMOL/KG,,UMOL/KG,,PMOL/KG,,PMOL/KG,,PMOL/KG,,UMOL/KG,,UMOL/KG,,,,DEG C,UMOL/KG,,UMOL/KG,,TU,,TU,NMOL/KG,,NMOL/KG,PERCNT,,PERCNT,NMOL/KG,,NMOL/KG,/MILLE,,/MILLE,/MILLE,,1/M,,1/M,,1/M,,1/M,,1/M,,1/M,,1/M,,1/NM,,1/NM,,DEG C,ITS-90,
  33RR20070322,  I09N,   106,  1,     36,     38,2,20070331,2258,-18.5188,  94.9983, 5544,   4.6000,      4.6,  25.5248,  35.2375,2,  35.2376,2,    206.5,2,    207.1,2,     2.18,2,     0.07,2,     0.00,2,     0.08,2,    1.785,2,    1.090,2, -999.000,5,   1985.7,6,   2309.4,2,   8.0855,6,    25.00,   -999.0,9,  -999.00,9, -999.000,9, -999.000,-999.0000,9,-999.0000,  -999.00,9,  -999.00, -999.000,9, -999.000,   -999.0,9,   -999.0,  -999.00,9,-999.0000,9,-999.0000,9,-999.0000,9,-999.0000,9,-999.0000,9,-999.0000,9,-999.0000,9,-999.0000,9,-999.0000,9,  25.5238,  25.5214,2
  33RR20070322,  I09N,   106,  1,     35,     35,2,20070331,2258,-18.5188,  94.9983, 5544,  47.8000,     47.8,  25.5409,  35.2371,2,  35.2366,2,    207.9,2,    207.5,2,     2.14,2,     0.07,2,     0.00,2,     0.08,2,    1.755,2,    1.092,2, -999.000,5,   1986.2,2,   2308.9,2,   8.0695,2,    25.00,   -999.0,9,  -999.00,9, -999.000,9, -999.000,-999.0000,9,-999.0000,  -999.00,9,  -999.00, -999.000,9, -999.000,   -999.0,9,   -999.0,  -999.00,9,-999.0000,9,-999.0000,9,-999.0000,9,-999.0000,9,-999.0000,9,-999.0000,9,-999.0000,9,-999.0000,9,-999.0000,9,  25.5304,  25.5374,2
  33RR20070322,  I09N,   106,  1,     34,   9419,2,20070331,2258,-18.5188,  94.9983, 5544,  92.7000,     92.7,  23.2876,  35.2136,2,  35.2078,2,    218.7,2,    217.1,2,     2.70,2,     0.07,2,     0.00,2,     0.09,2,    1.956,2,    1.193,2, -999.000,5,   -999.0,9,   -999.0,9,-999.0000,9,  -999.00,   -999.0,9,  -999.00,9, -999.000,9, -999.000,-999.0000,9,-999.0000,  -999.00,9,  -999.00, -999.000,9, -999.000,   -999.0,9,   -999.0,  -999.00,9,-999.0000,9,-999.0000,9,-999.0000,9,-999.0000,9,-999.0000,9,-999.0000,9,-999.0000,9,-999.0000,9,-999.0000,9,  23.2685,  23.3066,2
  33RR20070322,  I09N,   106,  1,     33,     33,2,20070331,2258,-18.5188,  94.9983, 5544, 141.0000,    141.0,  21.4860,  35.4290,2,  35.4301,2,    204.0,2,    201.8,2,     2.86,2,     0.68,2,     0.17,2,     0.16,2,    2.058,2,    1.254,2, -999.000,5,   -999.0,9,   -999.0,9,-999.0000,9,  -999.00,   -999.0,9,  -999.00,9, -999.000,9, -999.000,-999.0000,9,-999.0000,  -999.00,9,  -999.00, -999.000,9, -999.000,   -999.0,9,   -999.0,  -999.00,9,-999.0000,9,-999.0000,9,-999.0000,9,-999.0000,9,-999.0000,9,-999.0000,9,-999.0000,9,-999.0000,9,-999.0000,9,  21.4585,  21.4722,2
  33RR20070322,  I09N,   106,  1,     32,     37,2,20070331,2258,-18.5188,  94.9983, 5544, 166.1000,    166.1,  20.9908,  35.5208,2,  35.5170,2,    193.9,2,    192.8,2,     3.61,2,     2.05,2,     0.02,2,     0.24,2,    2.084,2,    1.276,2, -999.000,5,   2045.5,2,   2328.4,2,   7.9920,2,    25.00,   -999.0,9,  -999.00,9, -999.000,9, -999.000,-999.0000,9,-999.0000,  -999.00,9,  -999.00, -999.000,9, -999.000,   -999.0,9,   -999.0,  -999.00,9,-999.0000,9,-999.0000,9,-999.0000,9,-999.0000,9,-999.0000,9,-999.0000,9,-999.0000,9,-999.0000,9,-999.0000,9,  20.9589,  20.9923,2
  33RR20070322,  I09N,   106,  1,     31,     31,2,20070331,2258,-18.5188,  94.9983, 5544, 191.2000,    191.2,  20.1910,  35.6543,2,  35.6549,2,    191.5,2,    191.1,2,     3.97,2,     2.86,2,     0.00,2,     0.29,2,    2.152,2,    1.283,2, -999.000,5,   -999.0,9,   -999.0,9,-999.0000,9,  -999.00,   -999.0,9,  -999.00,9, -999.000,9, -999.000,-999.0000,9,-999.0000,  -999.00,9,  -999.00, -999.000,9, -999.000,   -999.0,9,   -999.0,  -999.00,9,-999.0000,9,-999.0000,9,-999.0000,9,-999.0000,9,-999.0000,9,-999.0000,9,-999.0000,9,-999.0000,9,-999.0000,9,  20.1553,  20.1817,2
  33RR20070322,  I09N,   106,  1,     30,     30,2,20070331,2258,-18.5188,  94.9983, 5544, 241.7000,    241.7,  18.8053,  35.8387,2,  35.8379,2,    199.3,2,    203.2,2,     3.15,2,     2.33,2,     0.00,2,     0.26,2,    2.309,2,    1.356,2, -999.000,5,   -999.0,9,   -999.0,9,-999.0000,9,  -999.00,   -999.0,9,  -999.00,9, -999.000,9, -999.000,-999.0000,9,-999.0000,  -999.00,9,  -999.00, -999.000,9, -999.000,   -999.0,9,   -999.0,  -999.00,9,-999.0000,9,-999.0000,9,-999.0000,9,-999.0000,9,-999.0000,9,-999.0000,9,-999.0000,9,-999.0000,9,-999.0000,9,  18.7622,  18.8022,2
  33RR20070322,  I09N,   106,  1,     29,     29,2,20070331,2258,-18.5188,  94.9983, 5544, 291.7000,    291.7,  17.1542,  35.7288,2,  35.7354,2,    199.8,2,    198.5,2,     3.90,2,     4.12,2,     0.00,2,     0.39,2,    2.463,2,    1.441,2, -999.000,5,   2095.1,2,   2343.2,6,   7.9473,2,    25.00,   -999.0,9,  -999.00,9, -999.000,9, -999.000,-999.0000,9,-999.0000,  -999.00,9,  -999.00, -999.000,9, -999.000,   -999.0,9,   -999.0,  -999.00,9,-999.0000,9,-999.0000,9,-999.0000,9,-999.0000,9,-999.0000,9,-999.0000,9,-999.0000,9,-999.0000,9,-999.0000,9,  17.1054,  17.2044,2
  33RR20070322,  I09N,   106,  1,     28,     28,2,20070331,2258,-18.5188,  94.9983, 5544, 341.4000,    341.4,  15.1434,  35.5443,2,  35.5494,2,    207.3,2,    207.6,2,     3.67,2,     5.60,2,     0.00,2,     0.50,2,    2.767,2,    1.570,2, -999.000,5,   -999.0,9,   -999.0,9,-999.0000,9,  -999.00,   -999.0,9,  -999.00,9, -999.000,9, -999.000,-999.0000,9,-999.0000,  -999.00,9,  -999.00, -999.000,9, -999.000,   -999.0,9,   -999.0,  -999.00,9,-999.0000,9,-999.0000,9,-999.0000,9,-999.0000,9,-999.0000,9,-999.0000,9,-999.0000,9,-999.0000,9,-999.0000,9,  15.0909,  15.1741,2
  33RR20070322,  I09N,   106,  1,     27,     27,2,20070331,2258,-18.5188,  94.9983, 5544, 391.4000,    391.4,  13.2873,  35.2979,2,  35.3028,2,    216.9,2,    219.8,2,     3.24,2,     7.64,2,     0.00,2,     0.63,2,    3.087,2,    1.734,2, -999.000,5,   -999.0,9,   -999.0,9,-999.0000,9,  -999.00,   -999.0,9,  -999.00,9, -999.000,9, -999.000,-999.0000,9,-999.0000,  -999.00,9,  -999.00, -999.000,9, -999.000,   -999.0,9,   -999.0,  -999.00,9,-999.0000,9,-999.0000,9,-999.0000,9,-999.0000,9,-999.0000,9,-999.0000,9,-999.0000,9,-999.0000,9,-999.0000,9,  13.2321,  13.3016,2
  33RR20070322,  I09N,   106,  1,     26,     26,2,20070331,2258,-18.5188,  94.9983, 5544, 441.7000,    441.7,  11.1982,  34.9775,2,  34.9880,2,    227.8,2,    229.8,2,     3.80,2,    11.41,2,     0.00,2,     0.86,2,    3.366,2,    1.877,2, -999.000,5,   2119.7,2,   2308.3,2,   7.7940,2,    25.00,   -999.0,9,  -999.00,9, -999.000,9, -999.000,-999.0000,9,-999.0000,  -999.00,9,  -999.00, -999.000,9, -999.000,   -999.0,9,   -999.0,  -999.00,9,-999.0000,9,-999.0000,9,-999.0000,9,-999.0000,9,-999.0000,9,-999.0000,9,-999.0000,9,-999.0000,9,-999.0000,9,  11.1425,  11.2430,2
  33RR20070322,  I09N,   106,  1,     25,     25,2,20070331,2258,-18.5188,  94.9983, 5544, 493.9000,    493.9,  10.0993,  34.8112,2,  34.8154,2,    228.6,2,    229.2,2,     5.34,2,    14.55,2,     0.00,2,     1.05,2,    3.544,2,    1.865,2, -999.000,5,   -999.0,9,   -999.0,9,-999.0000,9,  -999.00,   -999.0,9,  -999.00,9, -999.000,9, -999.000,-999.0000,9,-999.0000,  -999.00,9,  -999.00, -999.000,9, -999.000,   -999.0,9,   -999.0,  -999.00,9,-999.0000,9,-999.0000,9,-999.0000,9,-999.0000,9,-999.0000,9,-999.0000,9,-999.0000,9,-999.0000,9,-999.0000,9,  10.0409,  10.1014,2
  33RR20070322,  I09N,   106,  1,     24,     24,2,20070331,2258,-18.5188,  94.9983, 5544, 576.0000,    576.0,   8.8131,  34.6390,2,  34.6403,2,    220.2,2,    221.1,2,     8.24,2,    19.11,2,     0.00,2,     1.33,2,    3.232,2,    1.688,2, -999.000,5,   -999.0,9,   -999.0,9,-999.0000,9,  -999.00,   -999.0,9,  -999.00,9, -999.000,9, -999.000,-999.0000,9,-999.0000,  -999.00,9,  -999.00, -999.000,9, -999.000,   -999.0,9,   -999.0,  -999.00,9,-999.0000,9,-999.0000,9,-999.0000,9,-999.0000,9,-999.0000,9,-999.0000,9,-999.0000,9,-999.0000,9,-999.0000,9,   8.7502,   8.8275,2
  33RR20070322,  I09N,   106,  1,     23,     23,2,20070331,2258,-18.5188,  94.9983, 5544, 677.2000,    677.2,   7.3712,  34.5724,2,  34.5752,2,    158.7,2,    158.9,2,    30.34,2,    27.73,2,     0.00,2,     1.95,2,    1.177,2,    0.606,2, -999.000,5,   2197.0,2,   2303.0,6,   7.6301,2,    25.00,   -999.0,9,  -999.00,9, -999.000,9, -999.000,-999.0000,9,-999.0000,  -999.00,9,  -999.00, -999.000,9, -999.000,   -999.0,9,   -999.0,  -999.00,9,-999.0000,9,-999.0000,9,-999.0000,9,-999.0000,9,-999.0000,9,-999.0000,9,-999.0000,9,-999.0000,9,-999.0000,9,   7.3041,   7.3695,2
  33RR20070322,  I09N,   106,  1,     22,     22,2,20070331,2258,-18.5188,  94.9983, 5544, 777.1000,    777.1,   6.1890,  34.5743,2,  34.5763,2,    130.8,2,    129.3,2,    50.72,2,    32.48,2,     0.00,2,     2.31,2,    0.350,2,    0.188,2, -999.000,5,   -999.0,9,   -999.0,9,-999.0000,9,  -999.00,   -999.0,9,  -999.00,9, -999.000,9, -999.000,-999.0000,9,-999.0000,  -999.00,9,  -999.00, -999.000,9, -999.000,   -999.0,9,   -999.0,  -999.00,9,-999.0000,9,-999.0000,9,-999.0000,9,-999.0000,9,-999.0000,9,-999.0000,9,-999.0000,9,-999.0000,9,-999.0000,9,   6.1184,   6.1911,2
  33RR20070322,  I09N,   106,  1,     21,     21,2,20070331,2258,-18.5188,  94.9983, 5544, 879.1000,    879.1,   5.6926,  34.6448,2,  34.6448,2,    105.6,2,    100.0,2,    72.34,2,    35.24,2,     0.00,2,     2.55,2,    0.066,2,    0.038,2, -999.000,5,   -999.0,9,   -999.0,9,-999.0000,9,  -999.00,   -999.0,9,  -999.00,9, -999.000,9, -999.000,-999.0000,9,-999.0000,  -999.00,9,  -999.00, -999.000,9, -999.000,   -999.0,9,   -999.0,  -999.00,9,-999.0000,9,-999.0000,9,-999.0000,9,-999.0000,9,-999.0000,9,-999.0000,9,-999.0000,9,-999.0000,9,-999.0000,9,   5.6153,   5.6926,2
  33RR20070322,  I09N,   106,  1,     20,     20,2,20070331,2258,-18.5188,  94.9983, 5544, 976.3000,    976.3,   5.3790,  34.6649,2,  34.6649,2,     97.8,2,     95.8,2,    80.59,2,    35.82,2,     0.00,2,     2.61,2,    0.031,2,    0.017,2, -999.000,5,   2282.7,2,   2354.9,6,   7.4935,6,    25.00,   -999.0,9,  -999.00,9, -999.000,9, -999.000,-999.0000,9,-999.0000,  -999.00,9,  -999.00, -999.000,9, -999.000,   -999.0,9,   -999.0,  -999.00,9,-999.0000,9,-999.0000,9,-999.0000,9,-999.0000,9,-999.0000,9,-999.0000,9,-999.0000,9,-999.0000,9,-999.0000,9,   5.2948,   5.3713,2
  33RR20070322,  I09N,   106,  1,     19,     19,2,20070331,2258,-18.5188,  94.9983, 5544,1078.3000,   1078.3,   4.9078,  34.6665,2,  34.6661,2,     98.4,2,     98.2,2,    88.68,2,    36.08,2,     0.00,2,     2.65,2,    0.019,3, -999.000,5, -999.000,5,   2291.3,2,   2362.6,2,   7.5460,2,    25.00,   -999.0,9,  -999.00,9, -999.000,9, -999.000,-999.0000,9,-999.0000,  -999.00,9,  -999.00, -999.000,9, -999.000,   -999.0,9,   -999.0,  -999.00,9,-999.0000,9,-999.0000,9,-999.0000,9,-999.0000,9,-999.0000,9,-999.0000,9,-999.0000,9,-999.0000,9,-999.0000,9,   4.8178,   4.9060,2
  33RR20070322,  I09N,   106,  1,     18,     18,2,20070331,2258,-18.5188,  94.9983, 5544,1178.9000,   1178.9,   4.5843,  34.6692,2,  34.6682,2,    100.6,2,    101.4,2,    92.61,2,    36.08,2,     0.00,2,     2.64,2, -999.000,9, -999.000,9, -999.000,9,   -999.0,9,   -999.0,9,-999.0000,9,  -999.00,   -999.0,9,  -999.00,9, -999.000,9, -999.000,-999.0000,9,-999.0000,  -999.00,9,  -999.00, -999.000,9, -999.000,   -999.0,9,   -999.0,  -999.00,9,-999.0000,9,-999.0000,9,-999.0000,9,-999.0000,9,-999.0000,9,-999.0000,9,-999.0000,9,-999.0000,9,-999.0000,9,   4.4880,   4.5851,2
  33RR20070322,  I09N,   106,  1,     17,     17,2,20070331,2258,-18.5188,  94.9983, 5544,1280.3000,   1280.3,   4.2592,  34.6654,2,  34.6653,2,    106.4,2,    109.0,2,    93.17,2,    35.75,2,     0.00,2,     2.63,2,    0.084,3,    0.005,2,    0.000,3,   -999.0,9,   -999.0,9,-999.0000,9,  -999.00,   -999.0,9,  -999.00,9, -999.000,9, -999.000,-999.0000,9,-999.0000,  -999.00,9,  -999.00, -999.000,9, -999.000,   -999.0,9,   -999.0,  -999.00,9,-999.0000,9,-999.0000,9,-999.0000,9,-999.0000,9,-999.0000,9,-999.0000,9,-999.0000,9,-999.0000,9,-999.0000,9,   4.1568,   4.2607,2
  33RR20070322,  I09N,   106,  1,     16,     16,2,20070331,2258,-18.5188,  94.9983, 5544,1379.8000,   1379.8,   3.9193,  34.6749,2,  34.6745,2,    114.2,2,    113.7,2,    97.70,2,    35.85,2,     0.00,2,     2.62,2, -999.000,9, -999.000,9, -999.000,9,   -999.0,9,   -999.0,9,-999.0000,9,  -999.00,   -999.0,9,  -999.00,9, -999.000,9, -999.000,-999.0000,9,-999.0000,  -999.00,9,  -999.00, -999.000,9, -999.000,   -999.0,9,   -999.0,  -999.00,9,-999.0000,9,-999.0000,9,-999.0000,9,-999.0000,9,-999.0000,9,-999.0000,9,-999.0000,9,-999.0000,9,-999.0000,9,   3.8114,   3.9193,2
  33RR20070322,  I09N,   106,  1,     15,     15,2,20070331,2258,-18.5188,  94.9983, 5544,1480.3000,   1480.3,   3.5823,  34.6810,2,  34.6810,2,    121.2,2,    122.0,2,    98.86,2,    35.53,2,     0.00,2,     2.59,2,    0.067,3,    0.003,2,   -0.002,3,   -999.0,9,   -999.0,9,-999.0000,9,  -999.00,   -999.0,9,  -999.00,9, -999.000,9, -999.000,-999.0000,9,-999.0000,  -999.00,9,  -999.00, -999.000,9, -999.000,   -999.0,9,   -999.0,  -999.00,9,-999.0000,9,-999.0000,9,-999.0000,9,-999.0000,9,-999.0000,9,-999.0000,9,-999.0000,9,-999.0000,9,-999.0000,9,   3.4693,   3.5837,2
  33RR20070322,  I09N,   106,  1,     14,     14,2,20070331,2258,-18.5188,  94.9983, 5544,1582.5000,   1582.5,   3.2606,  34.6909,2,  34.6915,2,    127.5,2,    130.5,2,   100.61,2,    35.25,2,     0.00,2,     2.55,2, -999.000,9, -999.000,9, -999.000,9,   -999.0,9,   -999.0,9,-999.0000,9,  -999.00,   -999.0,9,  -999.00,9, -999.000,9, -999.000,-999.0000,9,-999.0000,  -999.00,9,  -999.00, -999.000,9, -999.000,   -999.0,9,   -999.0,  -999.00,9,-999.0000,9,-999.0000,9,-999.0000,9,-999.0000,9,-999.0000,9,-999.0000,9,-999.0000,9,-999.0000,9,-999.0000,9,   3.1424,   3.2617,2
  33RR20070322,  I09N,   106,  1,     13,     13,2,20070331,2258,-18.5188,  94.9983, 5544,1783.1000,   1783.1,   2.8549,  34.7107,2,  34.7102,2,    136.4,2,    137.7,2,   107.15,2,    34.93,2,     0.00,2,     2.52,2,    0.054,3,    0.009,2,   -0.002,3,   -999.0,9,   -999.0,9,-999.0000,9,  -999.00,   -999.0,9,  -999.00,9, -999.000,9, -999.000,-999.0000,9,-999.0000,  -999.00,9,  -999.00, -999.000,9, -999.000,   -999.0,9,   -999.0,  -999.00,9,-999.0000,9,-999.0000,9,-999.0000,9,-999.0000,9,-999.0000,9,-999.0000,9,-999.0000,9,-999.0000,9,-999.0000,9,   2.7244,   2.8555,2
  33RR20070322,  I09N,   106,  1,     12,     12,2,20070331,2258,-18.5188,  94.9983, 5544,1985.0000,   1985.0,   2.5021,  34.7218,2,  34.7216,2,    144.7,2,    146.3,2,   111.49,2,    34.60,2,     0.00,2,     2.48,2, -999.000,9, -999.000,9, -999.000,9,   -999.0,9,   -999.0,9,-999.0000,9,  -999.00,   -999.0,9,  -999.00,9, -999.000,9, -999.000,-999.0000,9,-999.0000,  -999.00,9,  -999.00, -999.000,9, -999.000,   -999.0,9,   -999.0,  -999.00,9,-999.0000,9,-999.0000,9,-999.0000,9,-999.0000,9,-999.0000,9,-999.0000,9,-999.0000,9,-999.0000,9,-999.0000,9,   2.3590,   2.5055,2
  33RR20070322,  I09N,   106,  1,     11,     11,2,20070331,2258,-18.5188,  94.9983, 5544,2186.0000,   2186.0,   2.2417,  34.7266,2,  34.7287,3,    151.5,2,    153.2,2,   115.45,2,    34.28,2,     0.00,2,     2.44,2,    0.051,3,    0.004,2,    0.002,3,   -999.0,9,   -999.0,9,-999.0000,9,  -999.00,   -999.0,9,  -999.00,9, -999.000,9, -999.000,-999.0000,9,-999.0000,  -999.00,9,  -999.00, -999.000,9, -999.000,   -999.0,9,   -999.0,  -999.00,9,-999.0000,9,-999.0000,9,-999.0000,9,-999.0000,9,-999.0000,9,-999.0000,9,-999.0000,9,-999.0000,9,-999.0000,9,   2.0851,   2.2421,2
  33RR20070322,  I09N,   106,  1,     10,     10,2,20070331,2258,-18.5188,  94.9983, 5544,2438.3000,   2438.3,   1.9797,  34.7285,2,  34.7289,2,    162.0,2,    162.5,2,   117.61,2,    33.74,2,     0.00,2,     2.40,2, -999.000,9, -999.000,9, -999.000,9,   -999.0,9,   -999.0,9,-999.0000,9,  -999.00,   -999.0,9,  -999.00,9, -999.000,9, -999.000,-999.0000,9,-999.0000,  -999.00,9,  -999.00, -999.000,9, -999.000,   -999.0,9,   -999.0,  -999.00,9,-999.0000,9,-999.0000,9,-999.0000,9,-999.0000,9,-999.0000,9,-999.0000,9,-999.0000,9,-999.0000,9,-999.0000,9,   1.8050,   1.9798,2
  33RR20070322,  I09N,   106,  1,      9,      9,2,20070331,2258,-18.5188,  94.9983, 5544,2692.1000,   2692.1,   1.8192,  34.7284,2,  34.7283,2,    168.4,2,    168.2,2,   119.59,2,    33.42,2,     0.00,2,     2.37,2,    0.094,3,    0.004,2,   -0.002,3,   -999.0,9,   -999.0,9,-999.0000,9,  -999.00,   -999.0,9,  -999.00,9, -999.000,9, -999.000,-999.0000,9,-999.0000,  -999.00,9,  -999.00, -999.000,9, -999.000,   -999.0,9,   -999.0,  -999.00,9,-999.0000,9,-999.0000,9,-999.0000,9,-999.0000,9,-999.0000,9,-999.0000,9,-999.0000,9,-999.0000,9,-999.0000,9,   1.6244,   1.8198,2
  33RR20070322,  I09N,   106,  1,      8,      8,2,20070331,2258,-18.5188,  94.9983, 5544,2945.1000,   2945.1,   1.6794,  34.7276,2,  34.7281,2,    172.4,2,    171.5,2,   122.35,2,    33.57,2,     0.00,2,     2.37,2, -999.000,9, -999.000,9, -999.000,9,   -999.0,9,   -999.0,9,-999.0000,9,  -999.00,   -999.0,9,  -999.00,9, -999.000,9, -999.000,-999.0000,9,-999.0000,  -999.00,9,  -999.00, -999.000,9, -999.000,   -999.0,9,   -999.0,  -999.00,9,-999.0000,9,-999.0000,9,-999.0000,9,-999.0000,9,-999.0000,9,-999.0000,9,-999.0000,9,-999.0000,9,-999.0000,9,   1.4636,   1.6794,2
  33RR20070322,  I09N,   106,  1,      7,      7,2,20070331,2258,-18.5188,  94.9983, 5544,3279.0000,   3279.0,   1.5202,  34.7240,2,  34.7242,2,    175.3,2,    175.0,2,   126.32,2,    33.62,2,     0.00,2,     2.37,2,    0.066,3,    0.008,2,    0.000,3,   -999.0,9,   -999.0,9,-999.0000,9,  -999.00,   -999.0,9,  -999.00,9, -999.000,9, -999.000,-999.0000,9,-999.0000,  -999.00,9,  -999.00, -999.000,9, -999.000,   -999.0,9,   -999.0,  -999.00,9,-999.0000,9,-999.0000,9,-999.0000,9,-999.0000,9,-999.0000,9,-999.0000,9,-999.0000,9,-999.0000,9,-999.0000,9,   1.2755,   1.5200,2
  33RR20070322,  I09N,   106,  1,      6,      6,2,20070331,2258,-18.5188,  94.9983, 5544,3685.6000,   3685.6,   1.3929,  34.7212,2,  34.7208,2,    181.0,2,    181.0,2,   127.30,2,    33.30,2,     0.00,2,     2.35,2, -999.000,9, -999.000,9, -999.000,9,   -999.0,9,   -999.0,9,-999.0000,9,  -999.00,   -999.0,9,  -999.00,9, -999.000,9, -999.000,-999.0000,9,-999.0000,  -999.00,9,  -999.00, -999.000,9, -999.000,   -999.0,9,   -999.0,  -999.00,9,-999.0000,9,-999.0000,9,-999.0000,9,-999.0000,9,-999.0000,9,-999.0000,9,-999.0000,9,-999.0000,9,-999.0000,9,   1.1101,   1.3926,2
  33RR20070322,  I09N,   106,  1,      5,      5,2,20070331,2258,-18.5188,  94.9983, 5544,4093.5000,   4093.5,   1.2610,  34.7184,2,  34.7186,2,    190.5,2,    191.5,2,   124.05,2,    32.76,2,     0.00,2,     2.30,2,    0.067,3,    0.002,2,   -0.002,3,   -999.0,9,   -999.0,9,-999.0000,9,  -999.00,   -999.0,9,  -999.00,9, -999.000,9, -999.000,-999.0000,9,-999.0000,  -999.00,9,  -999.00, -999.000,9, -999.000,   -999.0,9,   -999.0,  -999.00,9,-999.0000,9,-999.0000,9,-999.0000,9,-999.0000,9,-999.0000,9,-999.0000,9,-999.0000,9,-999.0000,9,-999.0000,9,   0.9385,   1.2612,2