BOTTLE,20150630SIOCCHRJL
EXPOCODE,SECT_ID,STNNBR,CASTNO,SAMPNO,BTLNBR,BTLNBR_FLAG_W,DATE,TIME,LATITUDE,LONGITUDE,DEPTH,CTDRAW,CTDPRS,CTDTMP,CTDSAL,CTDSAL_FLAG_W,SALNTY,SALNTY_FLAG_W,CTDOXY,CTDOXY_FLAG_W,OXYGEN,OXYGEN_FLAG_W,SILCAT,SILCAT_FLAG_W,NITRAT,NITRAT_FLAG_W,NITRIT,NITRIT_FLAG_W,PHSPHT,PHSPHT_FLAG_W,CFC-11,CFC-11_FLAG_W,CFC-12,CFC-12_FLAG_W,CFC113,CFC113_FLAG_W,TCARBN,TCARBN_FLAG_W,ALKALI,ALKALI_FLAG_W,PH_SWS,PH_SWS_FLAG_W,PH_TMP,DOC,DOC_FLAG_W,TDN,TDN_FLAG_W,TRITUM,TRITUM_FLAG_W,TRITER,HELIUM,HELIUM_FLAG_W,HELIER,DELHE3,DELHE3_FLAG_W,DELHER,NEON,NEON_FLAG_W,NEONER,DELC14,DELC14_FLAG_W,C14ERR,DELC13,DELC13_FLAG_W,CDOM325,CDOM325_FLAG_W,CDOM340,CDOM340_FLAG_W,CDOM380,CDOM380_FLAG_W,CDOM412,CDOM412_FLAG_W,CDOM443,CDOM443_FLAG_W,CDOM490,CDOM490_FLAG_W,CDOM555,CDOM555_FLAG_W,CDOMSL,CDOMSL_FLAG_W,CDOMSN,CDOMSN_FLAG_W,THETA,SBE35,SBE35_FLAG_W
,,,,,,,,,,,METERS,,DBAR,ITS-90,PSS-78,,PSS-78,,UMOL/KG,,UMOL/KG,,UMOL/KG,,UMOL/KG,,UMOL/KG,,UMOL/KG,,PMOL/KG,,PMOL/KG,,PMOL/KG,,UMOL/KG,,UMOL/KG,,,,DEG C,UMOL/KG,,UMOL/KG,,TU,,TU,NMOL/KG,,NMOL/KG,PERCNT,,PERCNT,NMOL/KG,,NMOL/KG,/MILLE,,/MILLE,/MILLE,,1/M,,1/M,,1/M,,1/M,,1/M,,1/M,,1/M,,1/NM,,1/NM,,DEG C,ITS-90,
  33RR20070322,  I09N,   161,  1,      4,      4,2,20070416,2319,  5.7630,  89.9093, 2757,2616.0000,   2616.0,   1.9392,  34.7432,2,  34.7429,2,    145.1,2,    145.5,2,   133.57,2,    34.89,2,     0.00,2,     2.49,2, -999.000,9, -999.000,9, -999.000,9,   -999.0,9,   -999.0,9,-999.0000,9,  -999.00,     41.0,2,  -999.00,9, -999.000,9, -999.000,-999.0000,9,-999.0000,  -999.00,9,  -999.00, -999.000,9, -999.000,   -999.0,9,   -999.0,  -999.00,9,   0.1768,2,   0.1289,2,   0.0753,2,   0.0553,2,   0.0236,2,   0.0070,2,   0.0009,2,   0.0141,3,   0.0139,3,   1.7490,   1.9386,2
  33RR20070322,  I09N,   161,  1,      3,      3,2,20070416,2319,  5.7630,  89.9093, 2757,2717.0000,   2717.0,   1.8512,  34.7396,2,  34.7398,2,    148.7,2,    148.4,2,   134.14,2,    34.79,2,     0.00,2,     2.47,2,    0.009,2,    0.006,2, -999.000,5,   2319.1,2,   2410.2,2,   7.5545,2,    25.00,     40.8,2,  -999.00,9, -999.000,9, -999.000,-999.0000,9,-999.0000,  -999.00,9,  -999.00, -999.000,9, -999.000,   -999.0,9,   -999.0,  -999.00,9,   0.1758,2,   0.1280,2,   0.0749,2,   0.0549,2,   0.0235,2,   0.0071,2,   0.0010,2,   0.0141,3,   0.0139,3,   1.6533,   1.8502,2
  33RR20070322,  I09N,   161,  1,      2,      2,2,20070416,2319,  5.7630,  89.9093, 2757,2746.7000,   2746.7,   1.8323,  34.7388,2,  34.7409,4,    149.3,2,    149.4,2,   134.31,2,    34.83,2,     0.00,2,     2.46,2, -999.000,9, -999.000,9, -999.000,9,   -999.0,9,   -999.0,9,-999.0000,9,  -999.00,     40.6,2,  -999.00,9, -999.000,9, -999.000,-999.0000,9,-999.0000,  -999.00,9,  -999.00, -999.000,9, -999.000,   -999.0,9,   -999.0,  -999.00,9,   0.1746,2,   0.1270,2,   0.0750,2,   0.0558,2,   0.0240,2,   0.0071,2,   0.0009,2,   0.0140,3,   0.0137,3,   1.6321,   1.8348,2
  33RR20070322,  I09N,   161,  1,      1,      1,2,20070416,2319,  5.7630,  89.9093, 2757,2777.6000,   2777.6,   1.7958,  34.7374,2,  34.7376,2,    150.7,2,    150.8,2,   134.28,2,    34.68,2,     0.00,2,     2.46,2,    0.010,2,    0.008,2, -999.000,5,   2319.7,6,   2412.0,6,   7.5946,6,    25.00,     41.1,2,  -999.00,9, -999.000,9, -999.000,-999.0000,9,-999.0000,  -999.00,9,  -999.00, -999.000,9, -999.000,   -999.0,9,   -999.0,  -999.00,9,   0.1720,2,   0.1249,2,   0.0727,2,   0.0530,2,   0.0223,2,   0.0064,2,   0.0007,2,   0.0141,3,   0.0140,3,   1.5934,   1.7903,2