BOTTLE,20150630SIOCCHRJL
EXPOCODE,SECT_ID,STNNBR,CASTNO,SAMPNO,BTLNBR,BTLNBR_FLAG_W,DATE,TIME,LATITUDE,LONGITUDE,DEPTH,CTDRAW,CTDPRS,CTDTMP,CTDSAL,CTDSAL_FLAG_W,SALNTY,SALNTY_FLAG_W,CTDOXY,CTDOXY_FLAG_W,OXYGEN,OXYGEN_FLAG_W,SILCAT,SILCAT_FLAG_W,NITRAT,NITRAT_FLAG_W,NITRIT,NITRIT_FLAG_W,PHSPHT,PHSPHT_FLAG_W,CFC-11,CFC-11_FLAG_W,CFC-12,CFC-12_FLAG_W,CFC113,CFC113_FLAG_W,TCARBN,TCARBN_FLAG_W,ALKALI,ALKALI_FLAG_W,PH_SWS,PH_SWS_FLAG_W,PH_TMP,DOC,DOC_FLAG_W,TDN,TDN_FLAG_W,TRITUM,TRITUM_FLAG_W,TRITER,HELIUM,HELIUM_FLAG_W,HELIER,DELHE3,DELHE3_FLAG_W,DELHER,NEON,NEON_FLAG_W,NEONER,DELC14,DELC14_FLAG_W,C14ERR,DELC13,DELC13_FLAG_W,CDOM325,CDOM325_FLAG_W,CDOM340,CDOM340_FLAG_W,CDOM380,CDOM380_FLAG_W,CDOM412,CDOM412_FLAG_W,CDOM443,CDOM443_FLAG_W,CDOM490,CDOM490_FLAG_W,CDOM555,CDOM555_FLAG_W,CDOMSL,CDOMSL_FLAG_W,CDOMSN,CDOMSN_FLAG_W,THETA,SBE35,SBE35_FLAG_W
,,,,,,,,,,,METERS,,DBAR,ITS-90,PSS-78,,PSS-78,,UMOL/KG,,UMOL/KG,,UMOL/KG,,UMOL/KG,,UMOL/KG,,UMOL/KG,,PMOL/KG,,PMOL/KG,,PMOL/KG,,UMOL/KG,,UMOL/KG,,,,DEG C,UMOL/KG,,UMOL/KG,,TU,,TU,NMOL/KG,,NMOL/KG,PERCNT,,PERCNT,NMOL/KG,,NMOL/KG,/MILLE,,/MILLE,/MILLE,,1/M,,1/M,,1/M,,1/M,,1/M,,1/M,,1/M,,1/NM,,1/NM,,DEG C,ITS-90,
  33RR20070322,  I09N,   160,  1,     36,     38,2,20070416,1729,  5.3938,  90.1935, 2873,   1.8000,      1.8,  30.3442,  34.1873,2,  34.1885,2,    195.1,2,    195.3,2,     1.28,2,     0.05,2,     0.00,2,     0.07,2, -999.000,9, -999.000,9, -999.000,9,   1905.4,6,   2238.3,2,   8.1095,6,    25.00,   -999.0,9,  -999.00,9, -999.000,9, -999.000,-999.0000,9,-999.0000,  -999.00,9,  -999.00, -999.000,9, -999.000,   -999.0,9,   -999.0,  -999.00,9,-999.0000,9,-999.0000,9,-999.0000,9,-999.0000,9,-999.0000,9,-999.0000,9,-999.0000,9,-999.0000,9,-999.0000,9,  30.3438,  30.3507,2
  33RR20070322,  I09N,   160,  1,     35,     35,2,20070416,1729,  5.3938,  90.1935, 2873,  18.5000,     18.5,  30.2723,  34.1809,2,  34.1809,2,    197.2,2,    196.1,2,     1.25,2,     0.05,2,     0.00,2,     0.06,2, -999.000,9, -999.000,9, -999.000,9,   1905.4,2,   2241.2,2,   8.1110,3,    25.00,   -999.0,9,  -999.00,9, -999.000,9, -999.000,-999.0000,9,-999.0000,  -999.00,9,  -999.00, -999.000,9, -999.000,   -999.0,9,   -999.0,  -999.00,9,-999.0000,9,-999.0000,9,-999.0000,9,-999.0000,9,-999.0000,9,-999.0000,9,-999.0000,9,-999.0000,9,-999.0000,9,  30.2677,  30.2657,2
  33RR20070322,  I09N,   160,  1,     34,   9419,2,20070416,1729,  5.3938,  90.1935, 2873,  43.1000,     43.1,  29.8220,  34.3041,2,  34.2346,2,    200.4,2,    198.2,2,     1.23,2,     0.05,2,     0.00,2,     0.07,2, -999.000,9, -999.000,9, -999.000,9,   -999.0,9,   -999.0,9,-999.0000,9,  -999.00,   -999.0,9,  -999.00,9, -999.000,9, -999.000,-999.0000,9,-999.0000,  -999.00,9,  -999.00, -999.000,9, -999.000,   -999.0,9,   -999.0,  -999.00,9,-999.0000,9,-999.0000,9,-999.0000,9,-999.0000,9,-999.0000,9,-999.0000,9,-999.0000,9,-999.0000,9,-999.0000,9,  29.8114,  29.8653,2
  33RR20070322,  I09N,   160,  1,     33,     33,2,20070416,1729,  5.3938,  90.1935, 2873,  88.0000,     88.0,  24.1537,  35.1093,2,  35.1189,2,    111.3,2,     97.0,2,     7.92,2,    11.91,2,     0.83,2,     1.02,2, -999.000,9, -999.000,9, -999.000,9,   2089.0,2,   2294.5,6,   7.8625,2,    25.00,   -999.0,9,  -999.00,9, -999.000,9, -999.000,-999.0000,9,-999.0000,  -999.00,9,  -999.00, -999.000,9, -999.000,   -999.0,9,   -999.0,  -999.00,9,-999.0000,9,-999.0000,9,-999.0000,9,-999.0000,9,-999.0000,9,-999.0000,9,-999.0000,9,-999.0000,9,-999.0000,9,  24.1351,  24.1381,2
  33RR20070322,  I09N,   160,  1,     32,     37,2,20070416,1729,  5.3938,  90.1935, 2873, 137.8000,    137.8,  15.9552,  35.0844,2,  35.0874,2,     28.2,2,     28.2,2,    22.52,2,    27.36,2,     0.01,2,     1.96,2, -999.000,9, -999.000,9, -999.000,9,   -999.0,9,   -999.0,9,-999.0000,9,  -999.00,   -999.0,9,  -999.00,9, -999.000,9, -999.000,-999.0000,9,-999.0000,  -999.00,9,  -999.00, -999.000,9, -999.000,   -999.0,9,   -999.0,  -999.00,9,-999.0000,9,-999.0000,9,-999.0000,9,-999.0000,9,-999.0000,9,-999.0000,9,-999.0000,9,-999.0000,9,-999.0000,9,  15.9335,  15.9202,2
  33RR20070322,  I09N,   160,  1,     31,     31,2,20070416,1729,  5.3938,  90.1935, 2873, 162.8000,    162.8,  14.4462,  35.0309,2,  35.0297,2,     26.1,2,     23.0,2,    26.46,2,    29.46,2,     0.00,2,     2.10,2, -999.000,9, -999.000,9, -999.000,9,   2221.9,2,   2306.8,6,   7.5532,2,    25.00,   -999.0,9,  -999.00,9, -999.000,9, -999.000,-999.0000,9,-999.0000,  -999.00,9,  -999.00, -999.000,9, -999.000,   -999.0,9,   -999.0,  -999.00,9,-999.0000,9,-999.0000,9,-999.0000,9,-999.0000,9,-999.0000,9,-999.0000,9,-999.0000,9,-999.0000,9,-999.0000,9,  14.4222,  14.4406,2
  33RR20070322,  I09N,   160,  1,     30,     30,2,20070416,1729,  5.3938,  90.1935, 2873, 187.6000,    187.6,  13.6957,  35.0491,2,  35.0480,2,     24.4,2,     24.5,2,    27.82,2,    30.12,2,     0.00,2,     2.15,2, -999.000,9, -999.000,9, -999.000,9,   -999.0,9,   -999.0,9,-999.0000,9,  -999.00,   -999.0,9,  -999.00,9, -999.000,9, -999.000,-999.0000,9,-999.0000,  -999.00,9,  -999.00, -999.000,9, -999.000,   -999.0,9,   -999.0,  -999.00,9,-999.0000,9,-999.0000,9,-999.0000,9,-999.0000,9,-999.0000,9,-999.0000,9,-999.0000,9,-999.0000,9,-999.0000,9,  13.6690,  13.6948,2
  33RR20070322,  I09N,   160,  1,     29,     29,2,20070416,1729,  5.3938,  90.1935, 2873, 237.7000,    237.7,  12.7313,  35.0900,2,  35.0892,2,     30.4,2,     35.9,2,    26.61,2,    29.55,2,     0.00,2,     2.10,2, -999.000,9, -999.000,9, -999.000,9,   -999.0,9,   -999.0,9,-999.0000,9,  -999.00,   -999.0,9,  -999.00,9, -999.000,9, -999.000,-999.0000,9,-999.0000,  -999.00,9,  -999.00, -999.000,9, -999.000,   -999.0,9,   -999.0,  -999.00,9,-999.0000,9,-999.0000,9,-999.0000,9,-999.0000,9,-999.0000,9,-999.0000,9,-999.0000,9,-999.0000,9,-999.0000,9,  12.6990,  12.7329,2
  33RR20070322,  I09N,   160,  1,     28,     28,2,20070416,1729,  5.3938,  90.1935, 2873, 287.8000,    287.8,  11.9741,  35.0834,2,  35.0837,2,     41.5,2,     42.4,2,    27.37,2,    29.91,2,     0.00,2,     2.09,2, -999.000,9, -999.000,9, -999.000,9,   2234.8,2,   2311.9,2,   7.5362,2,    25.00,   -999.0,9,  -999.00,9, -999.000,9, -999.000,-999.0000,9,-999.0000,  -999.00,9,  -999.00, -999.000,9, -999.000,   -999.0,9,   -999.0,  -999.00,9,-999.0000,9,-999.0000,9,-999.0000,9,-999.0000,9,-999.0000,9,-999.0000,9,-999.0000,9,-999.0000,9,-999.0000,9,  11.9364,  11.9669,2
  33RR20070322,  I09N,   160,  1,     27,     27,2,20070416,1729,  5.3938,  90.1935, 2873, 337.8000,    337.8,  11.4919,  35.0741,2,  35.0736,2,     38.8,2,     39.0,2,    30.12,2,    30.92,2,     0.00,2,     2.18,2, -999.000,9, -999.000,9, -999.000,9,   -999.0,9,   -999.0,9,-999.0000,9,  -999.00,   -999.0,9,  -999.00,9, -999.000,9, -999.000,-999.0000,9,-999.0000,  -999.00,9,  -999.00, -999.000,9, -999.000,   -999.0,9,   -999.0,  -999.00,9,-999.0000,9,-999.0000,9,-999.0000,9,-999.0000,9,-999.0000,9,-999.0000,9,-999.0000,9,-999.0000,9,-999.0000,9,  11.4488,  11.4909,2
  33RR20070322,  I09N,   160,  1,     26,     26,2,20070416,1729,  5.3938,  90.1935, 2873, 387.7000,    387.7,  11.1813,  35.0778,2,  35.0762,2,     39.5,2,     40.6,2,    31.28,2,    31.38,2,     0.00,2,     2.20,2, -999.000,9, -999.000,9, -999.000,9,   -999.0,9,   -999.0,9,-999.0000,9,  -999.00,   -999.0,9,  -999.00,9, -999.000,9, -999.000,-999.0000,9,-999.0000,  -999.00,9,  -999.00, -999.000,9, -999.000,   -999.0,9,   -999.0,  -999.00,9,-999.0000,9,-999.0000,9,-999.0000,9,-999.0000,9,-999.0000,9,-999.0000,9,-999.0000,9,-999.0000,9,-999.0000,9,  11.1325,  11.1805,2
  33RR20070322,  I09N,   160,  1,     25,     25,2,20070416,1729,  5.3938,  90.1935, 2873, 437.9000,    437.9,  10.8545,  35.0643,2,  35.0632,2,     32.3,2,     31.9,2,    35.41,2,    32.71,2,     0.00,2,     2.31,2, -999.000,9, -999.000,9, -999.000,9,   -999.0,9,   -999.0,9,-999.0000,9,  -999.00,   -999.0,9,  -999.00,9, -999.000,9, -999.000,-999.0000,9,-999.0000,  -999.00,9,  -999.00, -999.000,9, -999.000,   -999.0,9,   -999.0,  -999.00,9,-999.0000,9,-999.0000,9,-999.0000,9,-999.0000,9,-999.0000,9,-999.0000,9,-999.0000,9,-999.0000,9,-999.0000,9,  10.8003,  10.8533,2
  33RR20070322,  I09N,   160,  1,     24,     24,2,20070416,1729,  5.3938,  90.1935, 2873, 488.4000,    488.4,  10.2835,  35.0306,2,  35.0319,2,     25.6,2,     21.9,2,    44.50,2,    34.56,2,     0.00,2,     2.47,2, -999.000,9, -999.000,9, -999.000,9,   -999.0,9,   -999.0,9,-999.0000,9,  -999.00,   -999.0,9,  -999.00,9, -999.000,9, -999.000,-999.0000,9,-999.0000,  -999.00,9,  -999.00, -999.000,9, -999.000,   -999.0,9,   -999.0,  -999.00,9,-999.0000,9,-999.0000,9,-999.0000,9,-999.0000,9,-999.0000,9,-999.0000,9,-999.0000,9,-999.0000,9,-999.0000,9,  10.2250,  10.2871,2
  33RR20070322,  I09N,   160,  1,     23,     23,2,20070416,1729,  5.3938,  90.1935, 2873, 572.5000,    572.5,   9.9761,  35.0440,2,  35.0433,2,     25.3,2,     20.4,2,    46.27,2,    35.07,2,     0.00,2,     2.54,2, -999.000,9, -999.000,9, -999.000,9,   -999.0,9,   -999.0,9,-999.0000,9,  -999.00,   -999.0,9,  -999.00,9, -999.000,9, -999.000,-999.0000,9,-999.0000,  -999.00,9,  -999.00, -999.000,9, -999.000,   -999.0,9,   -999.0,  -999.00,9,-999.0000,9,-999.0000,9,-999.0000,9,-999.0000,9,-999.0000,9,-999.0000,9,-999.0000,9,-999.0000,9,-999.0000,9,   9.9085,   9.9756,2
  33RR20070322,  I09N,   160,  1,     22,     22,2,20070416,1729,  5.3938,  90.1935, 2873, 673.1000,    673.1,   9.1335,  35.0268,2,  35.0270,2,     24.3,2,     23.3,2,    54.98,2,    36.05,2,     0.00,2,     2.64,2, -999.000,9, -999.000,9, -999.000,9,   -999.0,9,   -999.0,9,-999.0000,9,  -999.00,   -999.0,9,  -999.00,9, -999.000,9, -999.000,-999.0000,9,-999.0000,  -999.00,9,  -999.00, -999.000,9, -999.000,   -999.0,9,   -999.0,  -999.00,9,-999.0000,9,-999.0000,9,-999.0000,9,-999.0000,9,-999.0000,9,-999.0000,9,-999.0000,9,-999.0000,9,-999.0000,9,   9.0577,   9.1308,2
  33RR20070322,  I09N,   160,  1,     21,     21,2,20070416,1729,  5.3938,  90.1935, 2873, 772.9000,    772.9,   8.3378,  34.9956,2,  34.9976,2,     34.8,2,     33.1,2,    63.11,2,    36.15,2,     0.00,2,     2.66,2, -999.000,9, -999.000,9, -999.000,9,   2287.6,2,   2346.6,2,   7.4619,2,    25.00,   -999.0,9,  -999.00,9, -999.000,9, -999.000,-999.0000,9,-999.0000,  -999.00,9,  -999.00, -999.000,9, -999.000,   -999.0,9,   -999.0,  -999.00,9,-999.0000,9,-999.0000,9,-999.0000,9,-999.0000,9,-999.0000,9,-999.0000,9,-999.0000,9,-999.0000,9,-999.0000,9,   8.2548,   8.3410,2
  33RR20070322,  I09N,   160,  1,     20,     20,2,20070416,1729,  5.3938,  90.1935, 2873, 873.3000,    873.3,   7.5578,  34.9721,2,  34.9723,2,     40.0,2,     39.5,2,    72.84,2,    36.71,2,     0.00,2,     2.70,2, -999.000,9, -999.000,9, -999.000,9,   -999.0,9,   -999.0,9,-999.0000,9,  -999.00,   -999.0,9,  -999.00,9, -999.000,9, -999.000,-999.0000,9,-999.0000,  -999.00,9,  -999.00, -999.000,9, -999.000,   -999.0,9,   -999.0,  -999.00,9,-999.0000,9,-999.0000,9,-999.0000,9,-999.0000,9,-999.0000,9,-999.0000,9,-999.0000,9,-999.0000,9,-999.0000,9,   7.4685,   7.5572,2
  33RR20070322,  I09N,   160,  1,     19,     19,2,20070416,1729,  5.3938,  90.1935, 2873, 973.6000,    973.6,   6.9489,  34.9457,2,  34.9475,2,     47.2,2,     47.2,2,    79.40,2,    36.65,2,     0.00,2,     2.70,2, -999.000,9, -999.000,9, -999.000,9,   -999.0,9,   -999.0,9,-999.0000,9,  -999.00,   -999.0,9,  -999.00,9, -999.000,9, -999.000,-999.0000,9,-999.0000,  -999.00,9,  -999.00, -999.000,9, -999.000,   -999.0,9,   -999.0,  -999.00,9,-999.0000,9,-999.0000,9,-999.0000,9,-999.0000,9,-999.0000,9,-999.0000,9,-999.0000,9,-999.0000,9,-999.0000,9,   6.8531,   6.9502,2
  33RR20070322,  I09N,   160,  1,     18,     18,2,20070416,1729,  5.3938,  90.1935, 2873,1074.3000,   1074.3,   6.4358,  34.9258,2,  34.9266,2,     52.0,2,     45.3,4,    85.77,2,    36.95,2,     0.00,2,     2.72,2, -999.000,9, -999.000,9, -999.000,9,   -999.0,9,   -999.0,9,-999.0000,9,  -999.00,   -999.0,9,  -999.00,9, -999.000,9, -999.000,-999.0000,9,-999.0000,  -999.00,9,  -999.00, -999.000,9, -999.000,   -999.0,9,   -999.0,  -999.00,9,-999.0000,9,-999.0000,9,-999.0000,9,-999.0000,9,-999.0000,9,-999.0000,9,-999.0000,9,-999.0000,9,-999.0000,9,   6.3334,   6.4347,2
  33RR20070322,  I09N,   160,  1,     17,     17,2,20070416,1729,  5.3938,  90.1935, 2873,1174.5000,   1174.5,   5.9535,  34.9040,2,  34.9042,2,     58.6,2,     62.1,2,    91.55,2,    36.74,2,     0.00,2,     2.70,2, -999.000,9, -999.000,9, -999.000,9,   -999.0,9,   -999.0,9,-999.0000,9,  -999.00,   -999.0,9,  -999.00,9, -999.000,9, -999.000,-999.0000,9,-999.0000,  -999.00,9,  -999.00, -999.000,9, -999.000,   -999.0,9,   -999.0,  -999.00,9,-999.0000,9,-999.0000,9,-999.0000,9,-999.0000,9,-999.0000,9,-999.0000,9,-999.0000,9,-999.0000,9,-999.0000,9,   5.8450,   5.9525,2
  33RR20070322,  I09N,   160,  1,     16,     16,2,20070416,1729,  5.3938,  90.1935, 2873,1274.8000,   1274.8,   5.5180,  34.8897,2,  34.8904,2,     64.1,2,     63.9,2,    96.35,2,    36.99,2,     0.00,2,     2.72,2, -999.000,9, -999.000,9, -999.000,9,   -999.0,9,   -999.0,9,-999.0000,9,  -999.00,   -999.0,9,  -999.00,9, -999.000,9, -999.000,-999.0000,9,-999.0000,  -999.00,9,  -999.00, -999.000,9, -999.000,   -999.0,9,   -999.0,  -999.00,9,-999.0000,9,-999.0000,9,-999.0000,9,-999.0000,9,-999.0000,9,-999.0000,9,-999.0000,9,-999.0000,9,-999.0000,9,   5.4035,   5.5245,2
  33RR20070322,  I09N,   160,  1,     15,     15,2,20070416,1729,  5.3938,  90.1935, 2873,1375.5000,   1375.5,   5.0839,  34.8730,2,  34.8739,2,     72.7,2,     72.6,2,   100.94,2,    36.87,2,     0.00,2,     2.70,2, -999.000,9, -999.000,9, -999.000,9,   -999.0,9,   -999.0,9,-999.0000,9,  -999.00,   -999.0,9,  -999.00,9, -999.000,9, -999.000,-999.0000,9,-999.0000,  -999.00,9,  -999.00, -999.000,9, -999.000,   -999.0,9,   -999.0,  -999.00,9,-999.0000,9,-999.0000,9,-999.0000,9,-999.0000,9,-999.0000,9,-999.0000,9,-999.0000,9,-999.0000,9,-999.0000,9,   4.9639,   5.0838,2
  33RR20070322,  I09N,   160,  1,     14,     14,2,20070416,1729,  5.3938,  90.1935, 2873,1476.5000,   1476.5,   4.6095,  34.8541,2,  34.8540,2,     81.9,2,     82.1,2,   105.94,2,    36.66,2,     0.00,2,     2.69,2, -999.000,9, -999.000,9, -999.000,9,   -999.0,9,   -999.0,9,-999.0000,9,  -999.00,   -999.0,9,  -999.00,9, -999.000,9, -999.000,-999.0000,9,-999.0000,  -999.00,9,  -999.00, -999.000,9, -999.000,   -999.0,9,   -999.0,  -999.00,9,-999.0000,9,-999.0000,9,-999.0000,9,-999.0000,9,-999.0000,9,-999.0000,9,-999.0000,9,-999.0000,9,-999.0000,9,   4.4849,   4.6080,2
  33RR20070322,  I09N,   160,  1,     13,     13,2,20070416,1729,  5.3938,  90.1935, 2873,1576.7000,   1576.7,   4.1398,  34.8375,2,  34.8381,2,     87.5,2,     88.3,2,   111.16,2,    36.71,2,     0.00,2,     2.69,2, -999.000,9, -999.000,9, -999.000,9,   -999.0,9,   -999.0,9,-999.0000,9,  -999.00,   -999.0,9,  -999.00,9, -999.000,9, -999.000,-999.0000,9,-999.0000,  -999.00,9,  -999.00, -999.000,9, -999.000,   -999.0,9,   -999.0,  -999.00,9,-999.0000,9,-999.0000,9,-999.0000,9,-999.0000,9,-999.0000,9,-999.0000,9,-999.0000,9,-999.0000,9,-999.0000,9,   4.0112,   4.1389,2
  33RR20070322,  I09N,   160,  1,     12,     12,2,20070416,1729,  5.3938,  90.1935, 2873,1676.9000,   1676.9,   3.7147,  34.8215,2,  34.8222,2,     95.1,2,     96.2,2,   115.38,2,    36.59,2,     0.00,2,     2.67,2, -999.000,9, -999.000,9, -999.000,9,   2323.6,2,   2398.9,2,   7.5249,2,    25.00,   -999.0,9,  -999.00,9, -999.000,9, -999.000,-999.0000,9,-999.0000,  -999.00,9,  -999.00, -999.000,9, -999.000,   -999.0,9,   -999.0,  -999.00,9,-999.0000,9,-999.0000,9,-999.0000,9,-999.0000,9,-999.0000,9,-999.0000,9,-999.0000,9,-999.0000,9,-999.0000,9,   3.5821,   3.7154,2
  33RR20070322,  I09N,   160,  1,     11,     11,2,20070416,1729,  5.3938,  90.1935, 2873,1777.7000,   1777.7,   3.3557,  34.8065,2,  34.8068,2,    102.9,2,    103.3,2,   120.00,2,    36.33,2,     0.00,2,     2.65,2, -999.000,9, -999.000,9, -999.000,9,   -999.0,9,   -999.0,9,-999.0000,9,  -999.00,   -999.0,9,  -999.00,9, -999.000,9, -999.000,-999.0000,9,-999.0000,  -999.00,9,  -999.00, -999.000,9, -999.000,   -999.0,9,   -999.0,  -999.00,9,-999.0000,9,-999.0000,9,-999.0000,9,-999.0000,9,-999.0000,9,-999.0000,9,-999.0000,9,-999.0000,9,-999.0000,9,   3.2187,   3.3546,2
  33RR20070322,  I09N,   160,  1,     10,     10,2,20070416,1729,  5.3938,  90.1935, 2873,1877.7000,   1877.7,   3.0311,  34.7922,2,  34.7925,2,    111.5,2,    111.6,2,   123.62,2,    36.05,2,     0.00,2,     2.62,2, -999.000,9, -999.000,9, -999.000,9,   -999.0,9,   -999.0,9,-999.0000,9,  -999.00,   -999.0,9,  -999.00,9, -999.000,9, -999.000,-999.0000,9,-999.0000,  -999.00,9,  -999.00, -999.000,9, -999.000,   -999.0,9,   -999.0,  -999.00,9,-999.0000,9,-999.0000,9,-999.0000,9,-999.0000,9,-999.0000,9,-999.0000,9,-999.0000,9,-999.0000,9,-999.0000,9,   2.8896,   3.0304,2
  33RR20070322,  I09N,   160,  1,      9,      9,2,20070416,1729,  5.3938,  90.1935, 2873,1978.6000,   1978.6,   2.7533,  34.7799,2,  34.7791,2,    118.3,2,    118.5,2,   126.23,2,    35.90,2,     0.00,2,     2.59,2, -999.000,9, -999.000,9, -999.000,9,   -999.0,9,   -999.0,9,-999.0000,9,  -999.00,   -999.0,9,  -999.00,9, -999.000,9, -999.000,-999.0000,9,-999.0000,  -999.00,9,  -999.00, -999.000,9, -999.000,   -999.0,9,   -999.0,  -999.00,9,-999.0000,9,-999.0000,9,-999.0000,9,-999.0000,9,-999.0000,9,-999.0000,9,-999.0000,9,-999.0000,9,-999.0000,9,   2.6069,   2.7540,2
  33RR20070322,  I09N,   160,  1,      8,      8,2,20070416,1729,  5.3938,  90.1935, 2873,2180.3000,   2180.3,   2.4117,  34.7645,2,  34.7649,2,    129.7,2,    129.2,2,   129.25,2,    35.42,2,     0.00,2,     2.54,2, -999.000,9, -999.000,9, -999.000,9,   -999.0,9,   -999.0,9,-999.0000,9,  -999.00,   -999.0,9,  -999.00,9, -999.000,9, -999.000,-999.0000,9,-999.0000,  -999.00,9,  -999.00, -999.000,9, -999.000,   -999.0,9,   -999.0,  -999.00,9,-999.0000,9,-999.0000,9,-999.0000,9,-999.0000,9,-999.0000,9,-999.0000,9,-999.0000,9,-999.0000,9,-999.0000,9,   2.2526,   2.4122,2
  33RR20070322,  I09N,   160,  1,      7,      7,2,20070416,1729,  5.3938,  90.1935, 2873,2302.3000,   2302.3,   2.2449,  34.7569,2,  34.7571,2,    135.0,2,    134.3,2,   131.26,2,    35.21,2,     0.00,2,     2.52,2, -999.000,9, -999.000,9, -999.000,9,   -999.0,9,   -999.0,9,-999.0000,9,  -999.00,   -999.0,9,  -999.00,9, -999.000,9, -999.000,-999.0000,9,-999.0000,  -999.00,9,  -999.00, -999.000,9, -999.000,   -999.0,9,   -999.0,  -999.00,9,-999.0000,9,-999.0000,9,-999.0000,9,-999.0000,9,-999.0000,9,-999.0000,9,-999.0000,9,-999.0000,9,-999.0000,9,   2.0777,   2.2440,2
  33RR20070322,  I09N,   160,  1,      6,      6,2,20070416,1729,  5.3938,  90.1935, 2873,2433.1000,   2433.1,   2.1013,  34.7505,2,  34.7508,2,    140.9,2,    140.3,2,   131.45,2,    34.94,2,     0.00,2,     2.49,2, -999.000,9, -999.000,9, -999.000,9,   -999.0,9,   -999.0,9,-999.0000,9,  -999.00,   -999.0,9,  -999.00,9, -999.000,9, -999.000,-999.0000,9,-999.0000,  -999.00,9,  -999.00, -999.000,9, -999.000,   -999.0,9,   -999.0,  -999.00,9,-999.0000,9,-999.0000,9,-999.0000,9,-999.0000,9,-999.0000,9,-999.0000,9,-999.0000,9,-999.0000,9,-999.0000,9,   1.9248,   2.1018,2
  33RR20070322,  I09N,   160,  1,      5,      5,2,20070416,1729,  5.3938,  90.1935, 2873,2563.9000,   2563.9,   1.9455,  34.7440,2,  34.7441,2,    145.1,2,    145.2,2,   132.97,2,    34.85,2,     0.00,2,     2.46,2, -999.000,9, -999.000,9, -999.000,9,   -999.0,9,   -999.0,9,-999.0000,9,  -999.00,   -999.0,9,  -999.00,9, -999.000,9, -999.000,-999.0000,9,-999.0000,  -999.00,9,  -999.00, -999.000,9, -999.000,   -999.0,9,   -999.0,  -999.00,9,-999.0000,9,-999.0000,9,-999.0000,9,-999.0000,9,-999.0000,9,-999.0000,9,-999.0000,9,-999.0000,9,-999.0000,9,   1.7600,   1.9454,2