BOTTLE,20150630SIOCCHRJL
EXPOCODE,SECT_ID,STNNBR,CASTNO,SAMPNO,BTLNBR,BTLNBR_FLAG_W,DATE,TIME,LATITUDE,LONGITUDE,DEPTH,CTDRAW,CTDPRS,CTDTMP,CTDSAL,CTDSAL_FLAG_W,SALNTY,SALNTY_FLAG_W,CTDOXY,CTDOXY_FLAG_W,OXYGEN,OXYGEN_FLAG_W,SILCAT,SILCAT_FLAG_W,NITRAT,NITRAT_FLAG_W,NITRIT,NITRIT_FLAG_W,PHSPHT,PHSPHT_FLAG_W,CFC-11,CFC-11_FLAG_W,CFC-12,CFC-12_FLAG_W,CFC113,CFC113_FLAG_W,TCARBN,TCARBN_FLAG_W,ALKALI,ALKALI_FLAG_W,PH_SWS,PH_SWS_FLAG_W,PH_TMP,DOC,DOC_FLAG_W,TDN,TDN_FLAG_W,TRITUM,TRITUM_FLAG_W,TRITER,HELIUM,HELIUM_FLAG_W,HELIER,DELHE3,DELHE3_FLAG_W,DELHER,NEON,NEON_FLAG_W,NEONER,DELC14,DELC14_FLAG_W,C14ERR,DELC13,DELC13_FLAG_W,CDOM325,CDOM325_FLAG_W,CDOM340,CDOM340_FLAG_W,CDOM380,CDOM380_FLAG_W,CDOM412,CDOM412_FLAG_W,CDOM443,CDOM443_FLAG_W,CDOM490,CDOM490_FLAG_W,CDOM555,CDOM555_FLAG_W,CDOMSL,CDOMSL_FLAG_W,CDOMSN,CDOMSN_FLAG_W,THETA,SBE35,SBE35_FLAG_W
,,,,,,,,,,,METERS,,DBAR,ITS-90,PSS-78,,PSS-78,,UMOL/KG,,UMOL/KG,,UMOL/KG,,UMOL/KG,,UMOL/KG,,UMOL/KG,,PMOL/KG,,PMOL/KG,,PMOL/KG,,UMOL/KG,,UMOL/KG,,,,DEG C,UMOL/KG,,UMOL/KG,,TU,,TU,NMOL/KG,,NMOL/KG,PERCNT,,PERCNT,NMOL/KG,,NMOL/KG,/MILLE,,/MILLE,/MILLE,,1/M,,1/M,,1/M,,1/M,,1/M,,1/M,,1/M,,1/NM,,1/NM,,DEG C,ITS-90,
  33RR20070322,  I09N,    99,  2,      4,      4,2,20070329,1754,-22.4537,  94.9880, 5146,3940.2000,   3940.2,   1.2171,  34.7182,2,  34.7186,2,    194.4,2,    194.3,2,   122.99,2,    32.56,2,     0.00,2,     2.29,2, -999.000,9, -999.000,9, -999.000,9,   2276.7,2,   2385.5,2,   7.6191,2,    25.00,     40.6,2,    33.86,2, -999.000,9, -999.000,-999.0000,9,-999.0000,  -999.00,9,  -999.00, -999.000,9, -999.000,   -999.0,9,   -999.0,  -999.00,9,   0.1263,2,   0.0871,2,   0.0474,2,   0.0340,2,   0.0103,2,   0.0014,3,  -0.0011,4,   0.0140,2,   0.0154,3,   0.9123,   1.2173,2
  33RR20070322,  I09N,    99,  2,      3,      3,2,20070329,1754,-22.4537,  94.9880, 5146,4347.8000,   4347.8,   1.0984,  34.7144,2,  34.7148,2,    201.5,2,    201.4,2,   122.37,2,    32.24,2,     0.00,2,     2.26,2,    0.015,2,    0.009,2, -999.000,5,   2271.2,2,   -999.0,9,-999.0000,5,    25.00,     40.7,2,    33.29,2, -999.000,9, -999.000,-999.0000,9,-999.0000,  -999.00,9,  -999.00, -999.000,9, -999.000,   -999.0,9,   -999.0,  -999.00,9,   0.1238,2,   0.0850,2,   0.0460,2,   0.0328,2,   0.0093,2,   0.0010,3,  -0.0013,4,   0.0141,2,   0.0157,3,   0.7527,   1.0982,2
  33RR20070322,  I09N,    99,  2,      2,      2,2,20070329,1754,-22.4537,  94.9880, 5146,4755.4000,   4755.4,   1.0760,  34.7121,2,  34.7117,2,    204.1,2,    203.9,2,   122.36,2,    32.18,2,     0.00,2,     2.25,2,    0.023,2,    0.011,2, -999.000,5,   2271.0,2,   -999.0,9,   7.6320,2,    25.00,     40.5,2,    33.78,2, -999.000,9, -999.000,-999.0000,9,-999.0000,  -999.00,9,  -999.00, -999.000,9, -999.000,   -999.0,9,   -999.0,  -999.00,9,   0.1228,2,   0.0840,2,   0.0448,2,   0.0316,2,   0.0086,2,   0.0008,3,  -0.0014,4,   0.0142,2,   0.0161,3,   0.6847,   1.0759,2
  33RR20070322,  I09N,    99,  2,      1,      1,2,20070329,1754,-22.4537,  94.9880, 5146,5242.5000,   5242.5,   1.1210,  34.7111,2,  34.7117,2,    204.1,2,    204.5,2,   122.56,2,    32.17,2,     0.00,2,     2.25,2,    0.015,2,    0.009,2, -999.000,5,   2269.7,6,   2374.9,6,   7.6263,3,    25.00,     40.8,2,    34.11,2, -999.000,9, -999.000,-999.0000,9,-999.0000,  -999.00,9,  -999.00, -999.000,9, -999.000,   -999.0,9,   -999.0,  -999.00,9,   0.1261,2,   0.0869,2,   0.0467,2,   0.0330,2,   0.0096,2,   0.0014,3,  -0.0011,4,   0.0141,2,   0.0158,3,   0.6700,   1.1213,2