BOTTLE,20150630SIOCCHRJL
EXPOCODE,SECT_ID,STNNBR,CASTNO,SAMPNO,BTLNBR,BTLNBR_FLAG_W,DATE,TIME,LATITUDE,LONGITUDE,DEPTH,CTDRAW,CTDPRS,CTDTMP,CTDSAL,CTDSAL_FLAG_W,SALNTY,SALNTY_FLAG_W,CTDOXY,CTDOXY_FLAG_W,OXYGEN,OXYGEN_FLAG_W,SILCAT,SILCAT_FLAG_W,NITRAT,NITRAT_FLAG_W,NITRIT,NITRIT_FLAG_W,PHSPHT,PHSPHT_FLAG_W,CFC-11,CFC-11_FLAG_W,CFC-12,CFC-12_FLAG_W,CFC113,CFC113_FLAG_W,TCARBN,TCARBN_FLAG_W,ALKALI,ALKALI_FLAG_W,PH_SWS,PH_SWS_FLAG_W,PH_TMP,DOC,DOC_FLAG_W,TDN,TDN_FLAG_W,TRITUM,TRITUM_FLAG_W,TRITER,HELIUM,HELIUM_FLAG_W,HELIER,DELHE3,DELHE3_FLAG_W,DELHER,NEON,NEON_FLAG_W,NEONER,DELC14,DELC14_FLAG_W,C14ERR,DELC13,DELC13_FLAG_W,CDOM325,CDOM325_FLAG_W,CDOM340,CDOM340_FLAG_W,CDOM380,CDOM380_FLAG_W,CDOM412,CDOM412_FLAG_W,CDOM443,CDOM443_FLAG_W,CDOM490,CDOM490_FLAG_W,CDOM555,CDOM555_FLAG_W,CDOMSL,CDOMSL_FLAG_W,CDOMSN,CDOMSN_FLAG_W,THETA,SBE35,SBE35_FLAG_W
,,,,,,,,,,,METERS,,DBAR,ITS-90,PSS-78,,PSS-78,,UMOL/KG,,UMOL/KG,,UMOL/KG,,UMOL/KG,,UMOL/KG,,UMOL/KG,,PMOL/KG,,PMOL/KG,,PMOL/KG,,UMOL/KG,,UMOL/KG,,,,DEG C,UMOL/KG,,UMOL/KG,,TU,,TU,NMOL/KG,,NMOL/KG,PERCNT,,PERCNT,NMOL/KG,,NMOL/KG,/MILLE,,/MILLE,/MILLE,,1/M,,1/M,,1/M,,1/M,,1/M,,1/M,,1/M,,1/NM,,1/NM,,DEG C,ITS-90,
  33RR20070322,  I09N,   123,  2,      4,      4,2,20070406,1232, -9.2842,  94.9998, 5225,3937.9000,   3937.9,   1.2124,  34.7166,2,  34.7168,2,    188.4,2,    188.7,2,   128.78,2,    32.96,2,     0.00,2,     2.29,2, -999.000,9, -999.000,9, -999.000,9,   2289.7,2,   2396.6,2,   7.6131,2,    25.00,     40.2,2,    34.37,2, -999.000,9, -999.000,-999.0000,9,-999.0000,  -999.00,9,  -999.00, -999.000,9, -999.000,   -999.0,9,   -999.0,  -999.00,9,-999.0000,9,-999.0000,9,-999.0000,9,-999.0000,9,-999.0000,9,-999.0000,9,-999.0000,9,-999.0000,9,-999.0000,9,   0.9080,   1.2127,2
  33RR20070322,  I09N,   123,  2,      3,      3,2,20070406,1232, -9.2842,  94.9998, 5225,4346.6000,   4346.6,   1.1453,  34.7146,2,  34.7148,2,    195.6,2,    195.7,2,   125.82,2,    32.50,2,     0.00,2,     2.25,2,    0.011,3,    0.002,3, -999.000,5,   2282.2,2,   2392.2,2,   7.6175,2,    25.00,     40.5,2,    34.10,2, -999.000,9, -999.000,-999.0000,9,-999.0000,  -999.00,9,  -999.00, -999.000,9, -999.000,   -999.0,9,   -999.0,  -999.00,9,-999.0000,9,-999.0000,9,-999.0000,9,-999.0000,9,-999.0000,9,-999.0000,9,-999.0000,9,-999.0000,9,-999.0000,9,   0.7983,   1.1453,2
  33RR20070322,  I09N,   123,  2,      2,      2,2,20070406,1232, -9.2842,  94.9998, 5225,4753.8000,   4753.8,   1.1702,  34.7143,2,  34.7142,2,    197.8,2,    197.4,2,   126.22,2,    32.30,2,     0.00,2,     2.24,2, -999.000,9, -999.000,9, -999.000,9,   2280.2,2,   2390.5,2,-999.0000,5,    25.00,     40.5,2,    33.67,2, -999.000,9, -999.000,-999.0000,9,-999.0000,  -999.00,9,  -999.00, -999.000,9, -999.000,   -999.0,9,   -999.0,  -999.00,9,-999.0000,9,-999.0000,9,-999.0000,9,-999.0000,9,-999.0000,9,-999.0000,9,-999.0000,9,-999.0000,9,-999.0000,9,   0.7760,   1.1705,2
  33RR20070322,  I09N,   123,  2,      1,      1,2,20070406,1232, -9.2842,  94.9998, 5225,5315.5000,   5315.5,   1.2275,  34.7137,2,  34.7148,2,    198.4,2,    198.5,2,   125.24,2,    32.30,2,     0.00,2,     2.24,2,    0.007,2,    0.003,2, -999.000,5,   2278.4,6,   2387.8,6,   8.0404,4,    25.00,     40.2,2,    33.95,2, -999.000,9, -999.000,-999.0000,9,-999.0000,  -999.00,9,  -999.00, -999.000,9, -999.000,   -999.0,9,   -999.0,  -999.00,9,-999.0000,9,-999.0000,9,-999.0000,9,-999.0000,9,-999.0000,9,-999.0000,9,-999.0000,9,-999.0000,9,-999.0000,9,   0.7637,   1.2272,2