BOTTLE,20150630SIOCCHRJL
EXPOCODE,SECT_ID,STNNBR,CASTNO,SAMPNO,BTLNBR,BTLNBR_FLAG_W,DATE,TIME,LATITUDE,LONGITUDE,DEPTH,CTDRAW,CTDPRS,CTDTMP,CTDSAL,CTDSAL_FLAG_W,SALNTY,SALNTY_FLAG_W,CTDOXY,CTDOXY_FLAG_W,OXYGEN,OXYGEN_FLAG_W,SILCAT,SILCAT_FLAG_W,NITRAT,NITRAT_FLAG_W,NITRIT,NITRIT_FLAG_W,PHSPHT,PHSPHT_FLAG_W,CFC-11,CFC-11_FLAG_W,CFC-12,CFC-12_FLAG_W,CFC113,CFC113_FLAG_W,TCARBN,TCARBN_FLAG_W,ALKALI,ALKALI_FLAG_W,PH_SWS,PH_SWS_FLAG_W,PH_TMP,DOC,DOC_FLAG_W,TDN,TDN_FLAG_W,TRITUM,TRITUM_FLAG_W,TRITER,HELIUM,HELIUM_FLAG_W,HELIER,DELHE3,DELHE3_FLAG_W,DELHER,NEON,NEON_FLAG_W,NEONER,DELC14,DELC14_FLAG_W,C14ERR,DELC13,DELC13_FLAG_W,CDOM325,CDOM325_FLAG_W,CDOM340,CDOM340_FLAG_W,CDOM380,CDOM380_FLAG_W,CDOM412,CDOM412_FLAG_W,CDOM443,CDOM443_FLAG_W,CDOM490,CDOM490_FLAG_W,CDOM555,CDOM555_FLAG_W,CDOMSL,CDOMSL_FLAG_W,CDOMSN,CDOMSN_FLAG_W,THETA,SBE35,SBE35_FLAG_W
,,,,,,,,,,,METERS,,DBAR,ITS-90,PSS-78,,PSS-78,,UMOL/KG,,UMOL/KG,,UMOL/KG,,UMOL/KG,,UMOL/KG,,UMOL/KG,,PMOL/KG,,PMOL/KG,,PMOL/KG,,UMOL/KG,,UMOL/KG,,,,DEG C,UMOL/KG,,UMOL/KG,,TU,,TU,NMOL/KG,,NMOL/KG,PERCNT,,PERCNT,NMOL/KG,,NMOL/KG,/MILLE,,/MILLE,/MILLE,,1/M,,1/M,,1/M,,1/M,,1/M,,1/M,,1/M,,1/NM,,1/NM,,DEG C,ITS-90,
  33RR20070322,  I09N,   157,  1,      4,      4,2,20070416,0019,  4.2863,  91.0460, 2686,2514.6000,   2514.6,   2.1175,  34.7505,2,  34.7515,2,    141.6,2,    141.2,2,   130.22,2,    34.96,2,     0.00,2,     2.48,2, -999.000,9, -999.000,9, -999.000,9,   -999.0,9,   -999.0,9,-999.0000,9,  -999.00,     40.4,2,    36.66,2, -999.000,9, -999.000,-999.0000,9,-999.0000,  -999.00,9,  -999.00, -999.000,9, -999.000,   -999.0,9,   -999.0,  -999.00,9,   0.1781,2,   0.1301,2,   0.0769,2,   0.0581,2,   0.0263,2,   0.0086,2,   0.0023,2,   0.0137,3,   0.0134,3,   1.9332,   2.1175,2
  33RR20070322,  I09N,   157,  1,      3,      3,2,20070416,0019,  4.2863,  91.0460, 2686,2616.2000,   2616.2,   2.0967,  34.7490,2,  34.7490,2,    142.4,2,    142.0,2,   130.58,2,    35.05,2,     0.00,2,     2.48,2, -999.000,9, -999.000,9, -999.000,9,   2318.4,2,   2412.9,2,   7.5397,2,    25.00,     40.0,2,    36.65,2, -999.000,9, -999.000,-999.0000,9,-999.0000,  -999.00,9,  -999.00, -999.000,9, -999.000,   -999.0,9,   -999.0,  -999.00,9,   0.1771,2,   0.1294,2,   0.0764,2,   0.0575,2,   0.0260,2,   0.0084,2,   0.0022,2,   0.0137,3,   0.0134,3,   1.9034,   2.0963,2
  33RR20070322,  I09N,   157,  1,      2,      2,2,20070416,0019,  4.2863,  91.0460, 2686,2666.1000,   2666.1,   2.0301,  34.7462,2,  34.7466,2,    143.3,2,    144.6,2,   131.14,2,    34.85,2,     0.00,2,     2.47,2, -999.000,9, -999.000,9, -999.000,9,   2317.1,2,   2413.2,2,   7.5494,2,    25.00,     40.8,2,    36.80,2, -999.000,9, -999.000,-999.0000,9,-999.0000,  -999.00,9,  -999.00, -999.000,9, -999.000,   -999.0,9,   -999.0,  -999.00,9,   0.1800,2,   0.1318,2,   0.0788,2,   0.0608,2,   0.0281,2,   0.0090,2,   0.0022,2,   0.0137,3,   0.0131,3,   1.8334,   2.0342,2
  33RR20070322,  I09N,   157,  1,      1,      1,2,20070416,0019,  4.2863,  91.0460, 2686,2701.8000,   2701.8,   1.9649,  34.7434,2,  34.7445,2,    147.0,2,    146.9,2,   131.10,2,    34.74,2,     0.00,2,     2.46,2,    0.004,2,    0.004,2, -999.000,5,   2316.7,6,   2409.5,6,   7.5685,6,    25.00,     40.8,2,    35.85,2, -999.000,9, -999.000,-999.0000,9,-999.0000,  -999.00,9,  -999.00, -999.000,9, -999.000,   -999.0,9,   -999.0,  -999.00,9,   0.1751,2,   0.1276,2,   0.0750,2,   0.0565,2,   0.0249,2,   0.0076,2,   0.0017,2,   0.0138,3,   0.0135,3,   1.7662,   1.9641,2