BOTTLE,20150630SIOCCHRJL
EXPOCODE,SECT_ID,STNNBR,CASTNO,SAMPNO,BTLNBR,BTLNBR_FLAG_W,DATE,TIME,LATITUDE,LONGITUDE,DEPTH,CTDRAW,CTDPRS,CTDTMP,CTDSAL,CTDSAL_FLAG_W,SALNTY,SALNTY_FLAG_W,CTDOXY,CTDOXY_FLAG_W,OXYGEN,OXYGEN_FLAG_W,SILCAT,SILCAT_FLAG_W,NITRAT,NITRAT_FLAG_W,NITRIT,NITRIT_FLAG_W,PHSPHT,PHSPHT_FLAG_W,CFC-11,CFC-11_FLAG_W,CFC-12,CFC-12_FLAG_W,CFC113,CFC113_FLAG_W,TCARBN,TCARBN_FLAG_W,ALKALI,ALKALI_FLAG_W,PH_SWS,PH_SWS_FLAG_W,PH_TMP,DOC,DOC_FLAG_W,TDN,TDN_FLAG_W,TRITUM,TRITUM_FLAG_W,TRITER,HELIUM,HELIUM_FLAG_W,HELIER,DELHE3,DELHE3_FLAG_W,DELHER,NEON,NEON_FLAG_W,NEONER,DELC14,DELC14_FLAG_W,C14ERR,DELC13,DELC13_FLAG_W,CDOM325,CDOM325_FLAG_W,CDOM340,CDOM340_FLAG_W,CDOM380,CDOM380_FLAG_W,CDOM412,CDOM412_FLAG_W,CDOM443,CDOM443_FLAG_W,CDOM490,CDOM490_FLAG_W,CDOM555,CDOM555_FLAG_W,CDOMSL,CDOMSL_FLAG_W,CDOMSN,CDOMSN_FLAG_W,THETA,SBE35,SBE35_FLAG_W
,,,,,,,,,,,METERS,,DBAR,ITS-90,PSS-78,,PSS-78,,UMOL/KG,,UMOL/KG,,UMOL/KG,,UMOL/KG,,UMOL/KG,,UMOL/KG,,PMOL/KG,,PMOL/KG,,PMOL/KG,,UMOL/KG,,UMOL/KG,,,,DEG C,UMOL/KG,,UMOL/KG,,TU,,TU,NMOL/KG,,NMOL/KG,PERCNT,,PERCNT,NMOL/KG,,NMOL/KG,/MILLE,,/MILLE,/MILLE,,1/M,,1/M,,1/M,,1/M,,1/M,,1/M,,1/M,,1/NM,,1/NM,,DEG C,ITS-90,
  33RR20070322,  I09N,    90,  1,     36,     38,2,20070326,1712,-27.7118,  94.9998, 4330,   3.6000,      3.6,  22.7069,  36.0599,2,  36.0608,2,    218.8,2,    217.8,2,     1.94,2,     0.17,2,     0.00,2,     0.10,2,    1.893,2,    1.210,2, -999.000,5,   2054.2,6,   2361.9,2,   8.0286,6,    25.00,   -999.0,9,  -999.00,9,    0.613,2,    0.010,   1.7140,2,   0.0007,    -1.25,2,     0.20,    6.854,2,    0.009,   -999.0,9,   -999.0,  -999.00,9,-999.0000,9,-999.0000,9,-999.0000,9,-999.0000,9,-999.0000,9,-999.0000,9,-999.0000,9,-999.0000,9,-999.0000,9,  22.7062,  22.7055,2
  33RR20070322,  I09N,    90,  1,     35,     35,2,20070326,1712,-27.7118,  94.9998, 4330,  42.0000,     42.0,  22.6948,  36.0589,2,  36.0596,2,    222.0,2,    224.2,2,     1.74,2,     0.17,2,     0.00,2,     0.10,2,    1.878,2,    1.214,2, -999.000,5,   2053.0,2,   2361.2,6,   8.0295,2,    25.00,   -999.0,9,  -999.00,9,    0.579,2,    0.010,   1.7180,2,   0.0007,    -1.55,2,     0.20,    6.891,2,    0.009,   -999.0,9,   -999.0,  -999.00,9,-999.0000,9,-999.0000,9,-999.0000,9,-999.0000,9,-999.0000,9,-999.0000,9,-999.0000,9,-999.0000,9,-999.0000,9,  22.6863,  22.6960,2
  33RR20070322,  I09N,    90,  1,     34,   9419,2,20070326,1712,-27.7118,  94.9998, 4330,  76.9000,     76.9,  18.6118,  35.8484,2,  35.8515,2,    247.0,2,    247.8,2,     1.34,2,     0.17,2,     0.00,2,     0.13,2, -999.000,5, -999.000,5, -999.000,5,   -999.0,9,   -999.0,9,-999.0000,9,  -999.00,   -999.0,9,  -999.00,9,    0.513,2,    0.009,   1.8030,2,   0.0005,    -1.47,2,     0.19,    7.313,2,    0.013,   -999.0,9,   -999.0,  -999.00,9,-999.0000,9,-999.0000,9,-999.0000,9,-999.0000,9,-999.0000,9,-999.0000,9,-999.0000,9,-999.0000,9,-999.0000,9,  18.5982,  18.6410,2
  33RR20070322,  I09N,    90,  1,     33,     33,2,20070326,1712,-27.7118,  94.9998, 4330,  97.7000,     97.7,  17.7166,  35.8146,2,  35.8160,2,    246.8,2,    245.8,2,     1.34,2,     0.17,2,     0.00,2,     0.14,2, -999.000,9, -999.000,9, -999.000,9,   -999.0,9,   -999.0,9,-999.0000,9,  -999.00,   -999.0,9,  -999.00,9,    0.474,2,    0.009,   1.7640,2,   0.0008,    -1.70,2,     0.18,    7.260,2,    0.010,   -999.0,9,   -999.0,  -999.00,9,-999.0000,9,-999.0000,9,-999.0000,9,-999.0000,9,-999.0000,9,-999.0000,9,-999.0000,9,-999.0000,9,-999.0000,9,  17.7000,  17.7229,2
  33RR20070322,  I09N,    90,  1,     32,     37,2,20070326,1712,-27.7118,  94.9998, 4330, 127.3000,    127.3,  16.5294,  35.7529,2,  35.7702,2,    227.4,2,    220.1,2,     1.94,2,     1.84,2,     0.02,2,     0.28,2,    2.554,2,    1.559,2, -999.000,5,   2093.1,2,   2349.4,6,   7.9415,2,    25.00,   -999.0,9,  -999.00,9,    0.654,2,    0.011,   1.7760,2,   0.0006,    -1.14,2,     0.20,    7.325,2,    0.011,   -999.0,9,   -999.0,  -999.00,9,-999.0000,9,-999.0000,9,-999.0000,9,-999.0000,9,-999.0000,9,-999.0000,9,-999.0000,9,-999.0000,9,-999.0000,9,  16.5087,  16.5323,2
  33RR20070322,  I09N,    90,  1,     31,     31,2,20070326,1712,-27.7118,  94.9998, 4330, 147.9000,    147.9,  15.7720,  35.6494,2,  35.6570,2,    226.6,2,    228.1,2,     1.54,2,     2.00,2,     0.12,2,     0.31,2, -999.000,9, -999.000,9, -999.000,9,   -999.0,9,   -999.0,9,-999.0000,9,  -999.00,   -999.0,9,  -999.00,9,    0.624,2,    0.011,   1.7570,2,   0.0012,    -1.33,2,     0.18,    7.280,2,    0.010,   -999.0,9,   -999.0,  -999.00,9,-999.0000,9,-999.0000,9,-999.0000,9,-999.0000,9,-999.0000,9,-999.0000,9,-999.0000,9,-999.0000,9,-999.0000,9,  15.7487,  15.7895,2
  33RR20070322,  I09N,    90,  1,     30,     30,2,20070326,1712,-27.7118,  94.9998, 4330, 177.5000,    177.5,  14.9784,  35.5337,2,  35.5357,2,    233.0,2,    233.8,2,     1.54,2,     2.92,2,     0.44,2,     0.38,2,    2.799,2,    1.686,2, -999.000,5,   -999.0,9,   -999.0,9,-999.0000,9,  -999.00,   -999.0,9,  -999.00,9, -999.000,9, -999.000,-999.0000,9,-999.0000,  -999.00,9,  -999.00, -999.000,9, -999.000,   -999.0,9,   -999.0,  -999.00,9,-999.0000,9,-999.0000,9,-999.0000,9,-999.0000,9,-999.0000,9,-999.0000,9,-999.0000,9,-999.0000,9,-999.0000,9,  14.9514,  14.9798,2
  33RR20070322,  I09N,    90,  1,     29,     29,2,20070326,1712,-27.7118,  94.9998, 4330, 227.0000,    227.0,  13.9258,  35.4058,2,  35.4069,2,    226.5,2,    227.7,2,     1.94,2,     5.80,2,     0.01,2,     0.52,2, -999.000,5, -999.000,5, -999.000,5,   -999.0,9,   -999.0,9,-999.0000,9,  -999.00,   -999.0,9,  -999.00,9,    0.412,2,    0.008,   1.7840,2,   0.0006,    -1.22,2,     0.20,    7.315,2,    0.011,   -999.0,9,   -999.0,  -999.00,9,-999.0000,9,-999.0000,9,-999.0000,9,-999.0000,9,-999.0000,9,-999.0000,9,-999.0000,9,-999.0000,9,-999.0000,9,  13.8930,  13.9219,2
  33RR20070322,  I09N,    90,  1,     28,     28,2,20070326,1712,-27.7118,  94.9998, 4330, 277.6000,    277.6,  12.8370,  35.2433,2,  35.2496,2,    230.5,2,    232.0,2,     2.34,2,     7.74,2,     0.01,2,     0.62,2,    3.115,2,    1.844,2, -999.000,5,   -999.0,9,   -999.0,9,-999.0000,9,  -999.00,   -999.0,9,  -999.00,9, -999.000,9, -999.000,   1.7950,2,   0.0010,    -1.27,2,     0.20,    7.489,2,    0.011,   -999.0,9,   -999.0,  -999.00,9,-999.0000,9,-999.0000,9,-999.0000,9,-999.0000,9,-999.0000,9,-999.0000,9,-999.0000,9,-999.0000,9,-999.0000,9,  12.7989,  12.8521,2
  33RR20070322,  I09N,    90,  1,     27,     27,2,20070326,1712,-27.7118,  94.9998, 4330, 328.5000,    328.5,  11.9556,  35.1011,2,  35.1041,2,    235.0,2,    236.0,2,     2.74,2,     9.64,2,     0.00,2,     0.74,2,    3.268,2,    1.916,2, -999.000,5,   2115.2,2,   2310.8,6,   7.8426,2,    25.00,   -999.0,9,  -999.00,9,    0.418,2,    0.012,   1.7500,2,   0.0006,    -1.13,2,     0.21,    7.397,2,    0.011,   -999.0,9,   -999.0,  -999.00,9,-999.0000,9,-999.0000,9,-999.0000,9,-999.0000,9,-999.0000,9,-999.0000,9,-999.0000,9,-999.0000,9,-999.0000,9,  11.9126,  11.9726,2
  33RR20070322,  I09N,    90,  1,     26,     26,2,20070326,1712,-27.7118,  94.9998, 4330, 377.8000,    377.8,  11.2973,  34.9978,2,  34.9986,2,    236.9,2,    238.3,2,     3.35,2,    11.27,2,     0.00,2,     0.84,2,    3.379,2,    1.940,2, -999.000,5,   -999.0,9,   -999.0,9,-999.0000,9,  -999.00,   -999.0,9,  -999.00,9, -999.000,9, -999.000,-999.0000,9,-999.0000,  -999.00,9,  -999.00, -999.000,9, -999.000,   -999.0,9,   -999.0,  -999.00,9,-999.0000,9,-999.0000,9,-999.0000,9,-999.0000,9,-999.0000,9,-999.0000,9,-999.0000,9,-999.0000,9,-999.0000,9,  11.2495,  11.2945,2
  33RR20070322,  I09N,    90,  1,     25,     25,2,20070326,1712,-27.7118,  94.9998, 4330, 428.0000,    428.0,  10.8000,  34.9174,2,  34.9209,2,    238.9,2,    239.7,2,     3.75,2,    12.38,2,     0.00,2,     0.90,2, -999.000,5, -999.000,5, -999.000,5,   -999.0,9,   -999.0,9,-999.0000,9,  -999.00,   -999.0,9,  -999.00,9,    0.303,2,    0.011,   2.0020,4,   0.0006,    -0.42,3,     0.18,    8.153,3,    0.012,   -999.0,9,   -999.0,  -999.00,9,-999.0000,9,-999.0000,9,-999.0000,9,-999.0000,9,-999.0000,9,-999.0000,9,-999.0000,9,-999.0000,9,-999.0000,9,  10.7473,  10.8007,2
  33RR20070322,  I09N,    90,  1,     24,     24,2,20070326,1712,-27.7118,  94.9998, 4330, 478.2000,    478.2,  10.3850,  34.8513,2,  34.8538,2,    239.9,2,    240.7,2,     3.96,2,    13.40,2,     0.00,2,     0.97,2, -999.000,5, -999.000,5, -999.000,5,   -999.0,9,   -999.0,9,-999.0000,9,  -999.00,   -999.0,9,  -999.00,9, -999.000,9, -999.000,-999.0000,9,-999.0000,  -999.00,9,  -999.00, -999.000,9, -999.000,   -999.0,9,   -999.0,  -999.00,9,-999.0000,9,-999.0000,9,-999.0000,9,-999.0000,9,-999.0000,9,-999.0000,9,-999.0000,9,-999.0000,9,-999.0000,9,  10.3275,  10.3889,2
  33RR20070322,  I09N,    90,  1,     23,     23,2,20070326,1712,-27.7118,  94.9998, 4330, 528.1000,    528.1,   9.9246,  34.7777,2,  34.7795,2,    241.6,2,    242.1,2,     4.15,2,    14.48,2,     0.00,2,     1.04,2,    3.570,2,    2.022,2, -999.000,5,   2122.7,2,   2294.8,6,   7.8019,2,    25.00,   -999.0,9,  -999.00,9,    0.293,2,    0.007,   1.8140,2,   0.0006,    -0.41,2,     0.17,    7.641,2,    0.012,   -999.0,9,   -999.0,  -999.00,9,-999.0000,9,-999.0000,9,-999.0000,9,-999.0000,9,-999.0000,9,-999.0000,9,-999.0000,9,-999.0000,9,-999.0000,9,   9.8627,   9.9236,2
  33RR20070322,  I09N,    90,  1,     22,     22,2,20070326,1712,-27.7118,  94.9998, 4330, 648.9000,    648.9,   8.9817,  34.6404,2,  34.6454,2,    236.4,2,    233.6,2,     5.96,2,    17.93,2,     0.00,2,     1.24,2,    3.485,2,    1.884,2, -999.000,5,   -999.0,9,   -999.0,9,-999.0000,9,  -999.00,   -999.0,9,  -999.00,9, -999.000,9, -999.000,-999.0000,9,-999.0000,  -999.00,9,  -999.00, -999.000,9, -999.000,   -999.0,9,   -999.0,  -999.00,9,-999.0000,9,-999.0000,9,-999.0000,9,-999.0000,9,-999.0000,9,-999.0000,9,-999.0000,9,-999.0000,9,-999.0000,9,   8.9098,   8.9943,2
  33RR20070322,  I09N,    90,  1,     21,     21,2,20070326,1712,-27.7118,  94.9998, 4330, 748.8000,    748.8,   7.7119,  34.5266,2,  34.5290,2,    216.0,2,    210.9,2,    12.40,2,    22.99,2,     0.00,2,     1.57,2,    2.535,2,    1.321,2, -999.000,5,   -999.0,9,   -999.0,9,-999.0000,9,  -999.00,   -999.0,9,  -999.00,9,    0.319,2,    0.007,   1.8020,2,   0.0008,     1.36,2,     0.18,    7.764,2,    0.010,   -999.0,9,   -999.0,  -999.00,9,-999.0000,9,-999.0000,9,-999.0000,9,-999.0000,9,-999.0000,9,-999.0000,9,-999.0000,9,-999.0000,9,-999.0000,9,   7.6356,   7.7227,2
  33RR20070322,  I09N,    90,  1,     20,     20,2,20070326,1712,-27.7118,  94.9998, 4330, 848.0000,    848.0,   6.0576,  34.4323,2,  34.4340,2,    197.0,2,    195.2,2,    24.26,2,    28.01,2,     0.00,2,     1.92,2, -999.000,9, -999.000,9, -999.000,9,   -999.0,9,   -999.0,9,-999.0000,9,  -999.00,   -999.0,9,  -999.00,9, -999.000,9, -999.000,   1.8390,2,   0.0005,     2.70,2,     0.18,    7.919,2,    0.009,   -999.0,9,   -999.0,  -999.00,9,-999.0000,9,-999.0000,9,-999.0000,9,-999.0000,9,-999.0000,9,-999.0000,9,-999.0000,9,-999.0000,9,-999.0000,9,   5.9812,   6.0620,2
  33RR20070322,  I09N,    90,  1,     19,     19,2,20070326,1712,-27.7118,  94.9998, 4330, 948.4000,    948.4,   5.0671,  34.4106,2,  34.4128,2,    187.4,2,    189.2,2,    35.33,2,    30.73,2,     0.00,2,     2.12,2,    1.021,2,    0.511,2, -999.000,5,   -999.0,9,   -999.0,9,-999.0000,9,  -999.00,   -999.0,9,  -999.00,9,    0.047,2,    0.004,   1.8490,2,   0.0007,     4.27,2,     0.18,    7.960,2,    0.010,   -999.0,9,   -999.0,  -999.00,9,-999.0000,9,-999.0000,9,-999.0000,9,-999.0000,9,-999.0000,9,-999.0000,9,-999.0000,9,-999.0000,9,-999.0000,9,   4.9881,   5.0643,2
  33RR20070322,  I09N,    90,  1,     18,     18,2,20070326,1712,-27.7118,  94.9998, 4330,1049.9000,   1049.9,   4.2739,  34.4458,2,  34.4469,2,    172.3,2,    169.1,2,    51.64,2,    33.10,2,     0.00,2,     2.32,2, -999.000,9, -999.000,9, -999.000,9,   -999.0,9,   -999.0,9,-999.0000,9,  -999.00,   -999.0,9,  -999.00,9, -999.000,9, -999.000,-999.0000,9,-999.0000,  -999.00,9,  -999.00, -999.000,9, -999.000,   -999.0,9,   -999.0,  -999.00,9,-999.0000,9,-999.0000,9,-999.0000,9,-999.0000,9,-999.0000,9,-999.0000,9,-999.0000,9,-999.0000,9,-999.0000,9,   4.1920,   4.2743,2
  33RR20070322,  I09N,    90,  1,     17,     17,2,20070326,1712,-27.7118,  94.9998, 4330,1150.1000,   1150.1,   3.8956,  34.5027,2,  34.5034,2,    156.9,2,    153.8,2,    65.38,2,    34.44,2,     0.00,2,     2.47,2,    0.197,2,    0.112,2, -999.000,5,   -999.0,9,   -999.0,9,-999.0000,9,  -999.00,   -999.0,9,  -999.00,9,    0.001,2,    0.008,   1.8480,2,   0.0004,     8.69,2,     0.19,    7.893,2,    0.009,   -999.0,9,   -999.0,  -999.00,9,-999.0000,9,-999.0000,9,-999.0000,9,-999.0000,9,-999.0000,9,-999.0000,9,-999.0000,9,-999.0000,9,-999.0000,9,   3.8082,   3.8967,2
  33RR20070322,  I09N,    90,  1,     16,     16,2,20070326,1712,-27.7118,  94.9998, 4330,1249.9000,   1249.9,   3.6558,  34.5390,2,  34.5390,2,    149.7,2,    148.7,2,    72.25,2,    34.84,2,     0.00,2,     2.46,2, -999.000,9, -999.000,9, -999.000,9,   2258.8,6,   2339.8,2,   7.7057,4,    25.00,   -999.0,9,  -999.00,9, -999.000,9, -999.000,-999.0000,9,-999.0000,  -999.00,9,  -999.00, -999.000,9, -999.000,   -999.0,9,   -999.0,  -999.00,9,-999.0000,9,-999.0000,9,-999.0000,9,-999.0000,9,-999.0000,9,-999.0000,9,-999.0000,9,-999.0000,9,-999.0000,9,   3.5621,   3.6548,2
  33RR20070322,  I09N,    90,  1,     15,     15,2,20070326,1712,-27.7118,  94.9998, 4330,1351.6000,   1351.6,   3.3995,  34.5757,2,  34.5773,2,    147.1,2,    146.6,2,    78.93,2,    34.93,2,     0.00,2,     2.47,2,    0.067,2,    0.035,2, -999.000,5,   -999.0,9,   -999.0,9,-999.0000,9,  -999.00,   -999.0,9,  -999.00,9,    0.001,2,    0.004,   1.8750,2,   0.0007,     9.95,2,     0.18,    8.065,2,    0.009,   -999.0,9,   -999.0,  -999.00,9,-999.0000,9,-999.0000,9,-999.0000,9,-999.0000,9,-999.0000,9,-999.0000,9,-999.0000,9,-999.0000,9,-999.0000,9,   3.2997,   3.4006,2
  33RR20070322,  I09N,    90,  1,     14,     14,2,20070326,1712,-27.7118,  94.9998, 4330,1452.7000,   1452.7,   3.1930,  34.6084,2,  34.6095,2,    148.1,2,    147.6,2,    83.39,2,    34.78,2,     0.00,2,     2.47,2,    0.037,2,    0.020,2, -999.000,5,   -999.0,9,   -999.0,9,-999.0000,9,  -999.00,   -999.0,9,  -999.00,9, -999.000,9, -999.000,   1.8510,2,   0.0004,    10.44,2,     0.19,    7.908,2,    0.011,   -999.0,9,   -999.0,  -999.00,9,-999.0000,9,-999.0000,9,-999.0000,9,-999.0000,9,-999.0000,9,-999.0000,9,-999.0000,9,-999.0000,9,-999.0000,9,   3.0868,   3.1919,2
  33RR20070322,  I09N,    90,  1,     13,     13,2,20070326,1712,-27.7118,  94.9998, 4330,1554.5000,   1554.5,   3.0032,  34.6380,2,  34.6396,2,    148.8,2,    149.9,2,    88.05,2,    34.77,2,     0.00,2,     2.45,2,    0.027,2,    0.013,2, -999.000,5,   -999.0,9,   -999.0,9,-999.0000,9,  -999.00,   -999.0,9,  -999.00,9,    0.001,2,    0.004,   1.8590,2,   0.0007,    11.63,2,     0.19,    8.033,2,    0.010,   -999.0,9,   -999.0,  -999.00,9,-999.0000,9,-999.0000,9,-999.0000,9,-999.0000,9,-999.0000,9,-999.0000,9,-999.0000,9,-999.0000,9,-999.0000,9,   2.8906,   3.0055,2
  33RR20070322,  I09N,    90,  1,     12,     12,2,20070326,1712,-27.7118,  94.9998, 4330,1653.5000,   1653.5,   2.8669,  34.6642,2,  34.6673,2,    149.5,2,    149.2,2,    93.13,2,    34.65,2,     0.00,2,     2.45,2,    0.033,2,    0.008,2, -999.000,5,   -999.0,9,   -999.0,9,-999.0000,9,  -999.00,   -999.0,9,  -999.00,9, -999.000,9, -999.000,   1.8950,2,   0.0007,    11.18,2,     0.19,    8.144,2,    0.015,   -999.0,9,   -999.0,  -999.00,9,-999.0000,9,-999.0000,9,-999.0000,9,-999.0000,9,-999.0000,9,-999.0000,9,-999.0000,9,-999.0000,9,-999.0000,9,   2.7475,   2.8661,2
  33RR20070322,  I09N,    90,  1,     11,     11,2,20070326,1712,-27.7118,  94.9998, 4330,1752.3000,   1752.3,   2.7355,  34.6829,2,  34.6840,2,    151.8,2,    150.7,2,    96.79,2,    34.49,2,     0.00,2,     2.43,2,    0.010,2,    0.006,2, -999.000,5,   -999.0,9,   -999.0,9,-999.0000,9,  -999.00,   -999.0,9,  -999.00,9, -999.000,9, -999.000,   1.8760,2,   0.0005,    11.90,2,     0.18,    8.001,2,    0.012,   -999.0,9,   -999.0,  -999.00,9,-999.0000,9,-999.0000,9,-999.0000,9,-999.0000,9,-999.0000,9,-999.0000,9,-999.0000,9,-999.0000,9,-999.0000,9,   2.6093,   2.7345,2
  33RR20070322,  I09N,    90,  1,     10,     10,2,20070326,1712,-27.7118,  94.9998, 4330,1854.1000,   1854.1,   2.5779,  34.6982,2,  34.7007,2,    153.8,2,    154.7,2,   100.26,2,    34.22,2,     0.00,2,     2.41,2, -999.000,9, -999.000,9, -999.000,9,   -999.0,9,   -999.0,9,-999.0000,9,  -999.00,   -999.0,9,  -999.00,9, -999.000,9, -999.000,   1.9670,3,   0.0052,    11.44,3,     0.19,    9.005,4,    0.023,   -999.0,9,   -999.0,  -999.00,9,-999.0000,9,-999.0000,9,-999.0000,9,-999.0000,9,-999.0000,9,-999.0000,9,-999.0000,9,-999.0000,9,-999.0000,9,   2.4451,   2.5779,2
  33RR20070322,  I09N,    90,  1,      9,      9,2,20070326,1712,-27.7118,  94.9998, 4330,1955.2000,   1955.2,   2.4671,  34.7076,2,  34.7094,2,    157.5,2,    157.5,2,   102.09,2,    34.00,2,     0.00,2,     2.39,2,    0.006,2,    0.003,2, -999.000,5,   -999.0,9,   -999.0,9,-999.0000,9,  -999.00,   -999.0,9,  -999.00,9, -999.000,9, -999.000,   1.9940,3,   0.0063,    11.68,3,     0.19,    9.389,4,    0.031,   -999.0,9,   -999.0,  -999.00,9,-999.0000,9,-999.0000,9,-999.0000,9,-999.0000,9,-999.0000,9,-999.0000,9,-999.0000,9,-999.0000,9,-999.0000,9,   2.3272,   2.4670,2
  33RR20070322,  I09N,    90,  1,      8,      8,2,20070326,1712,-27.7118,  94.9998, 4330,2118.0000,   2118.0,   2.2578,  34.7189,2,  34.7206,4,    160.0,2,    160.9,2,   107.59,2,    33.74,2,     0.00,2,     2.38,2, -999.000,9, -999.000,9, -999.000,9,   -999.0,9,   -999.0,9,-999.0000,9,  -999.00,   -999.0,9,  -999.00,9, -999.000,9, -999.000,-999.0000,9,-999.0000,  -999.00,9,  -999.00, -999.000,9, -999.000,   -999.0,9,   -999.0,  -999.00,9,-999.0000,9,-999.0000,9,-999.0000,9,-999.0000,9,-999.0000,9,-999.0000,9,-999.0000,9,-999.0000,9,-999.0000,9,   2.1069,   2.2581,2
  33RR20070322,  I09N,    90,  1,      7,      7,2,20070326,1712,-27.7118,  94.9998, 4330,2370.3000,   2370.3,   2.0244,  34.7259,2,  34.7275,4,    168.2,2,    169.7,2,   110.25,2,    33.37,2,     0.00,2,     2.33,2,    0.003,2,    0.001,2, -999.000,5,   -999.0,9,   -999.0,9,-999.0000,9,  -999.00,   -999.0,9,  -999.00,9, -999.000,9, -999.000,   1.9370,3,   0.0011,    14.03,3,     0.22,    8.323,2,    0.012,   -999.0,9,   -999.0,  -999.00,9,-999.0000,9,-999.0000,9,-999.0000,9,-999.0000,9,-999.0000,9,-999.0000,9,-999.0000,9,-999.0000,9,-999.0000,9,   1.8551,   2.0243,2
  33RR20070322,  I09N,    90,  1,      6,      6,2,20070326,1712,-27.7118,  94.9998, 4330,2622.7000,   2622.7,   1.8223,  34.7294,2,  34.7308,4,    177.4,2,    178.4,2,   110.25,2,    32.90,2,     0.00,2,     2.30,2, -999.000,9, -999.000,9, -999.000,9,   -999.0,9,   -999.0,9,-999.0000,9,  -999.00,   -999.0,9,  -999.00,9, -999.000,9, -999.000,-999.0000,9,-999.0000,  -999.00,9,  -999.00, -999.000,9, -999.000,   -999.0,9,   -999.0,  -999.00,9,-999.0000,9,-999.0000,9,-999.0000,9,-999.0000,9,-999.0000,9,-999.0000,9,-999.0000,9,-999.0000,9,-999.0000,9,   1.6338,   1.8226,2
  33RR20070322,  I09N,    90,  1,      5,      5,2,20070326,1712,-27.7118,  94.9998, 4330,2877.0000,   2877.0,   1.6596,  34.7292,2,  34.7308,4,    182.1,2,    182.4,2,   113.72,2,    32.73,2,     0.00,2,     2.29,2,    0.004,2,    0.001,2, -999.000,5,   -999.0,9,   -999.0,9,-999.0000,9,  -999.00,   -999.0,9,  -999.00,9, -999.000,9, -999.000,   1.9590,3,   0.0007,    13.03,3,     0.19,    8.356,2,    0.012,   -999.0,9,   -999.0,  -999.00,9,-999.0000,9,-999.0000,9,-999.0000,9,-999.0000,9,-999.0000,9,-999.0000,9,-999.0000,9,-999.0000,9,-999.0000,9,   1.4507,   1.6601,2