BOTTLE,20150630SIOCCHRJL
EXPOCODE,SECT_ID,STNNBR,CASTNO,SAMPNO,BTLNBR,BTLNBR_FLAG_W,DATE,TIME,LATITUDE,LONGITUDE,DEPTH,CTDRAW,CTDPRS,CTDTMP,CTDSAL,CTDSAL_FLAG_W,SALNTY,SALNTY_FLAG_W,CTDOXY,CTDOXY_FLAG_W,OXYGEN,OXYGEN_FLAG_W,SILCAT,SILCAT_FLAG_W,NITRAT,NITRAT_FLAG_W,NITRIT,NITRIT_FLAG_W,PHSPHT,PHSPHT_FLAG_W,CFC-11,CFC-11_FLAG_W,CFC-12,CFC-12_FLAG_W,CFC113,CFC113_FLAG_W,TCARBN,TCARBN_FLAG_W,ALKALI,ALKALI_FLAG_W,PH_SWS,PH_SWS_FLAG_W,PH_TMP,DOC,DOC_FLAG_W,TDN,TDN_FLAG_W,TRITUM,TRITUM_FLAG_W,TRITER,HELIUM,HELIUM_FLAG_W,HELIER,DELHE3,DELHE3_FLAG_W,DELHER,NEON,NEON_FLAG_W,NEONER,DELC14,DELC14_FLAG_W,C14ERR,DELC13,DELC13_FLAG_W,CDOM325,CDOM325_FLAG_W,CDOM340,CDOM340_FLAG_W,CDOM380,CDOM380_FLAG_W,CDOM412,CDOM412_FLAG_W,CDOM443,CDOM443_FLAG_W,CDOM490,CDOM490_FLAG_W,CDOM555,CDOM555_FLAG_W,CDOMSL,CDOMSL_FLAG_W,CDOMSN,CDOMSN_FLAG_W,THETA,SBE35,SBE35_FLAG_W
,,,,,,,,,,,METERS,,DBAR,ITS-90,PSS-78,,PSS-78,,UMOL/KG,,UMOL/KG,,UMOL/KG,,UMOL/KG,,UMOL/KG,,UMOL/KG,,PMOL/KG,,PMOL/KG,,PMOL/KG,,UMOL/KG,,UMOL/KG,,,,DEG C,UMOL/KG,,UMOL/KG,,TU,,TU,NMOL/KG,,NMOL/KG,PERCNT,,PERCNT,NMOL/KG,,NMOL/KG,/MILLE,,/MILLE,/MILLE,,1/M,,1/M,,1/M,,1/M,,1/M,,1/M,,1/M,,1/NM,,1/NM,,DEG C,ITS-90,
  33RR20070322,  I09N,   105,  2,     36,     38,2,20070331,1551,-19.0835,  95.0018, 5353,   3.6000,      3.6,  25.7317,  35.2232,2,  35.2236,2,    205.9,2,    206.5,2,     2.06,2,     0.06,2,     0.00,2,     0.09,2, -999.000,9, -999.000,9, -999.000,9,   1980.3,6,   2307.5,6,   8.0880,6,    25.00,     73.6,2,     4.79,2, -999.000,9, -999.000,-999.0000,9,-999.0000,  -999.00,9,  -999.00, -999.000,9, -999.000,   -999.0,9,   -999.0,  -999.00,9,-999.0000,9,-999.0000,9,-999.0000,9,-999.0000,9,-999.0000,9,-999.0000,9,-999.0000,9,-999.0000,9,-999.0000,9,  25.7309,  25.7311,2
  33RR20070322,  I09N,   105,  2,     35,     35,2,20070331,1551,-19.0835,  95.0018, 5353,  41.1000,     41.1,  25.7432,  35.2230,2,  35.2228,2,    207.4,2,    206.7,2,     2.06,2,     0.06,2,     0.00,2,     0.08,2, -999.000,9, -999.000,9, -999.000,9,   1981.8,2,   2315.7,2,   8.0697,2,    25.00,     73.1,2,     4.00,2, -999.000,9, -999.000,-999.0000,9,-999.0000,  -999.00,9,  -999.00, -999.000,9, -999.000,     36.8,2,      3.6,     1.13,2,-999.0000,9,-999.0000,9,-999.0000,9,-999.0000,9,-999.0000,9,-999.0000,9,-999.0000,9,-999.0000,9,-999.0000,9,  25.7341,  25.7439,2
  33RR20070322,  I09N,   105,  2,     34,   9419,2,20070331,1551,-19.0835,  95.0018, 5353,  76.5000,     76.5,  24.3005,  35.1512,2,  35.1513,2,    217.8,2,    218.0,2,     2.44,2,     0.06,2,     0.00,2,     0.09,2, -999.000,9, -999.000,9, -999.000,9,   1984.1,2,   2302.2,2,   8.0676,2,    25.00,     70.5,2,     4.80,2, -999.000,9, -999.000,-999.0000,9,-999.0000,  -999.00,9,  -999.00, -999.000,9, -999.000,   -999.0,9,   -999.0,  -999.00,9,-999.0000,9,-999.0000,9,-999.0000,9,-999.0000,9,-999.0000,9,-999.0000,9,-999.0000,9,-999.0000,9,-999.0000,9,  24.2842,  24.3051,2
  33RR20070322,  I09N,   105,  2,     33,     33,2,20070331,1551,-19.0835,  95.0018, 5353,  97.3000,     97.3,  22.8730,  35.2621,2,  35.2429,2,    213.7,2,    211.0,2,     2.83,2,     0.05,2,     0.00,2,     0.11,2, -999.000,9, -999.000,9, -999.000,9,   2004.6,2,   2310.1,2,   8.0332,2,    25.00,     69.4,2,     4.61,2, -999.000,9, -999.000,-999.0000,9,-999.0000,  -999.00,9,  -999.00, -999.000,9, -999.000,     44.7,2,      3.4,     1.02,2,-999.0000,9,-999.0000,9,-999.0000,9,-999.0000,9,-999.0000,9,-999.0000,9,-999.0000,9,-999.0000,9,-999.0000,9,  22.8532,  22.9105,2
  33RR20070322,  I09N,   105,  2,     32,     37,2,20070331,1551,-19.0835,  95.0018, 5353, 126.6000,    126.6,  21.4601,  35.4393,2,  35.4421,2,    197.9,2,    194.8,2,     3.61,2,     1.10,2,     0.30,2,     0.21,2, -999.000,9, -999.000,9, -999.000,9,   2037.7,2,   2321.8,2,   7.9939,2,    25.00,     61.6,2,     4.82,2, -999.000,9, -999.000,-999.0000,9,-999.0000,  -999.00,9,  -999.00, -999.000,9, -999.000,   -999.0,9,   -999.0,  -999.00,9,-999.0000,9,-999.0000,9,-999.0000,9,-999.0000,9,-999.0000,9,-999.0000,9,-999.0000,9,-999.0000,9,-999.0000,9,  21.4355,  21.4724,2
  33RR20070322,  I09N,   105,  2,     31,     31,2,20070331,1551,-19.0835,  95.0018, 5353, 175.2000,    175.2,  20.1680,  35.6342,2,  35.6288,2,    185.8,2,    187.3,2,     4.20,2,     3.20,2,     0.02,2,     0.31,2, -999.000,9, -999.000,9, -999.000,9,   2063.5,2,   2333.3,2,   7.9722,2,    25.00,     59.4,2,     6.55,2, -999.000,9, -999.000,-999.0000,9,-999.0000,  -999.00,9,  -999.00, -999.000,9, -999.000,     48.6,2,      3.4,     0.73,2,-999.0000,9,-999.0000,9,-999.0000,9,-999.0000,9,-999.0000,9,-999.0000,9,-999.0000,9,-999.0000,9,-999.0000,9,  20.1353,  20.1616,2
  33RR20070322,  I09N,   105,  2,     30,     30,2,20070331,1551,-19.0835,  95.0018, 5353, 224.4000,    224.4,  18.7193,  35.7070,2,  35.7059,2,    185.5,2,    186.8,2,     5.19,2,     4.41,2,     0.01,2,     0.39,2, -999.000,9, -999.000,9, -999.000,9,   2082.7,2,   2338.4,2,   7.9428,2,    25.00,     57.4,2,     8.35,2, -999.000,9, -999.000,-999.0000,9,-999.0000,  -999.00,9,  -999.00, -999.000,9, -999.000,     50.9,2,      3.1,     0.80,2,-999.0000,9,-999.0000,9,-999.0000,9,-999.0000,9,-999.0000,9,-999.0000,9,-999.0000,9,-999.0000,9,-999.0000,9,  18.6795,  18.7110,2
  33RR20070322,  I09N,   105,  2,     29,     29,2,20070331,1551,-19.0835,  95.0018, 5353, 276.2000,    276.2,  16.3929,  35.5880,2,  35.5822,2,    178.1,2,    185.2,2,     6.94,2,     6.86,2,     0.00,2,     0.57,2, -999.000,9, -999.000,9, -999.000,9,   2104.9,2,   2334.2,2,   7.8934,2,    25.00,     53.7,2,    10.32,2, -999.000,9, -999.000,-999.0000,9,-999.0000,  -999.00,9,  -999.00, -999.000,9, -999.000,     53.6,2,      3.6,     0.81,2,-999.0000,9,-999.0000,9,-999.0000,9,-999.0000,9,-999.0000,9,-999.0000,9,-999.0000,9,-999.0000,9,-999.0000,9,  16.3482,  16.3936,2
  33RR20070322,  I09N,   105,  2,     28,     28,2,20070331,1551,-19.0835,  95.0018, 5353, 325.8000,    325.8,  14.9038,  35.4824,2,  35.5074,2,    197.3,2,    202.1,2,     5.18,2,     6.59,2,     0.00,2,     0.56,2, -999.000,9, -999.000,9, -999.000,9,   2109.8,2,   2332.0,2,   7.9024,2,    25.00,     51.4,2,    10.24,2, -999.000,9, -999.000,-999.0000,9,-999.0000,  -999.00,9,  -999.00, -999.000,9, -999.000,     47.6,2,      3.0,     1.23,2,-999.0000,9,-999.0000,9,-999.0000,9,-999.0000,9,-999.0000,9,-999.0000,9,-999.0000,9,-999.0000,9,-999.0000,9,  14.8543,  14.9183,2
  33RR20070322,  I09N,   105,  2,     27,     27,2,20070331,1551,-19.0835,  95.0018, 5353, 375.3000,    375.3,  13.0490,  35.2246,2,  35.2180,2,    199.6,2,    205.7,2,     6.55,2,    10.07,2,     0.00,2,     0.78,2, -999.000,9, -999.000,9, -999.000,9,   2119.7,2,   2318.0,2,   7.8360,3,    25.00,     50.5,2,    13.35,2, -999.000,9, -999.000,-999.0000,9,-999.0000,  -999.00,9,  -999.00, -999.000,9, -999.000,     50.6,2,      3.9,     1.06,2,-999.0000,9,-999.0000,9,-999.0000,9,-999.0000,9,-999.0000,9,-999.0000,9,-999.0000,9,-999.0000,9,-999.0000,9,  12.9968,  13.0351,2
  33RR20070322,  I09N,   105,  2,     26,     26,2,20070331,1551,-19.0835,  95.0018, 5353, 426.5000,    426.5,  11.5309,  35.0204,2,  35.0281,2,    218.4,2,    220.7,2,     5.17,2,    11.62,2,     0.00,2,     0.88,2, -999.000,9, -999.000,9, -999.000,9,   2120.0,2,   2307.8,2,   7.8107,2,    25.00,     49.1,2,    15.54,2, -999.000,9, -999.000,-999.0000,9,-999.0000,  -999.00,9,  -999.00, -999.000,9, -999.000,     52.5,2,      3.3,     1.15,2,-999.0000,9,-999.0000,9,-999.0000,9,-999.0000,9,-999.0000,9,-999.0000,9,-999.0000,9,-999.0000,9,-999.0000,9,  11.4761,  11.5265,2
  33RR20070322,  I09N,   105,  2,     25,     25,2,20070331,1551,-19.0835,  95.0018, 5353, 475.9000,    475.9,  10.1940,  34.8270,2,  34.8314,2,    225.2,2,    225.4,2,     5.96,2,    14.68,2,     0.00,2,     1.06,2, -999.000,9, -999.000,9, -999.000,9,   2125.2,2,   2299.3,2,   7.7767,2,    25.00,     47.7,2,    18.09,2, -999.000,9, -999.000,-999.0000,9,-999.0000,  -999.00,9,  -999.00, -999.000,9, -999.000,   -999.0,9,   -999.0,  -999.00,9,-999.0000,9,-999.0000,9,-999.0000,9,-999.0000,9,-999.0000,9,-999.0000,9,-999.0000,9,-999.0000,9,-999.0000,9,  10.1374,  10.1979,2
  33RR20070322,  I09N,   105,  2,     24,     24,2,20070331,1551,-19.0835,  95.0018, 5353, 525.6000,    525.6,   9.5144,  34.7329,2,  34.7397,2,    225.1,2,    224.7,2,     6.74,2,    16.64,2,     0.00,2,     1.18,2, -999.000,9, -999.000,9, -999.000,9,   2130.1,2,   2293.9,2,   7.7543,2,    25.00,     46.0,2,    18.69,2, -999.000,9, -999.000,-999.0000,9,-999.0000,  -999.00,9,  -999.00, -999.000,9, -999.000,     42.7,2,      4.4,     1.21,2,-999.0000,9,-999.0000,9,-999.0000,9,-999.0000,9,-999.0000,9,-999.0000,9,-999.0000,9,-999.0000,9,-999.0000,9,   9.4544,   9.5446,2
  33RR20070322,  I09N,   105,  2,     23,     23,2,20070331,1551,-19.0835,  95.0018, 5353, 645.4000,    645.4,   7.6722,  34.5488,2,  34.5526,2,    194.3,2,    195.8,2,    17.16,2,    23.95,2,     0.00,2,     1.66,2, -999.000,9, -999.000,9, -999.000,9,   2161.6,2,   2293.1,2,   7.6676,2,    25.00,     44.2,2,    26.08,2, -999.000,9, -999.000,-999.0000,9,-999.0000,  -999.00,9,  -999.00, -999.000,9, -999.000,     -6.2,2,      3.0,     1.33,2,-999.0000,9,-999.0000,9,-999.0000,9,-999.0000,9,-999.0000,9,-999.0000,9,-999.0000,9,-999.0000,9,-999.0000,9,   7.6070,   7.6783,2
  33RR20070322,  I09N,   105,  2,     22,     22,2,20070331,1551,-19.0835,  95.0018, 5353, 746.1000,    746.1,   6.3584,  34.5629,2,  34.5591,2,    143.7,2,    135.3,2,    47.12,2,    31.72,2,     0.00,2,     2.26,2, -999.000,9, -999.000,9, -999.000,9,   2224.1,2,   -999.0,5,   7.5723,2,    25.00,     42.5,2,    34.64,2, -999.000,9, -999.000,-999.0000,9,-999.0000,  -999.00,9,  -999.00, -999.000,9, -999.000,    -95.6,2,      2.4,     0.70,2,-999.0000,9,-999.0000,9,-999.0000,9,-999.0000,9,-999.0000,9,-999.0000,9,-999.0000,9,-999.0000,9,-999.0000,9,   6.2898,   6.3598,2
  33RR20070322,  I09N,   105,  2,     21,     21,2,20070331,1551,-19.0835,  95.0018, 5353, 845.8000,    845.8,   5.7777,  34.6254,2,  34.6230,2,    107.1,2,    103.3,2,    69.66,2,    34.88,2,     0.00,2,     2.53,2, -999.000,9, -999.000,9, -999.000,9,   2262.5,2,   2341.5,2,   7.5122,2,    25.00,     41.7,2,    37.75,2, -999.000,9, -999.000,-999.0000,9,-999.0000,  -999.00,9,  -999.00, -999.000,9, -999.000,   -140.1,2,      2.4,     0.45,2,-999.0000,9,-999.0000,9,-999.0000,9,-999.0000,9,-999.0000,9,-999.0000,9,-999.0000,9,-999.0000,9,-999.0000,9,   5.7030,   5.7778,2
  33RR20070322,  I09N,   105,  2,     20,     20,2,20070331,1551,-19.0835,  95.0018, 5353, 946.3000,    946.3,   5.3738,  34.6520,2,  34.6515,2,     98.9,2,     97.0,2,    80.17,2,    35.77,2,     0.00,2,     2.64,2, -999.000,9, -999.000,9, -999.000,9,   2277.5,2,   2353.9,6,   7.5165,6,    25.00,     41.0,2,    38.62,2, -999.000,9, -999.000,-999.0000,9,-999.0000,  -999.00,9,  -999.00, -999.000,9, -999.000,   -154.1,2,      3.0,     0.36,2,-999.0000,9,-999.0000,9,-999.0000,9,-999.0000,9,-999.0000,9,-999.0000,9,-999.0000,9,-999.0000,9,-999.0000,9,   5.2924,   5.3773,2
  33RR20070322,  I09N,   105,  2,     19,     19,2,20070331,1551,-19.0835,  95.0018, 5353,1047.7000,   1047.7,   5.0613,  34.6624,2,  34.6613,2,     97.5,2,     96.7,2,    86.34,2,    36.14,2,     0.00,2,     2.65,2, -999.000,9, -999.000,9, -999.000,9,   2283.7,2,   2357.3,2,   7.5159,2,    25.00,     40.2,2,    37.95,2, -999.000,9, -999.000,-999.0000,9,-999.0000,  -999.00,9,  -999.00, -999.000,9, -999.000,   -999.0,9,   -999.0,  -999.00,9,-999.0000,9,-999.0000,9,-999.0000,9,-999.0000,9,-999.0000,9,-999.0000,9,-999.0000,9,-999.0000,9,-999.0000,9,   4.9729,   5.0616,2
  33RR20070322,  I09N,   105,  2,     18,     18,2,20070331,1551,-19.0835,  95.0018, 5353,1147.2000,   1147.2,   4.6966,  34.6668,2,  34.6665,2,    100.0,2,    100.2,2,    91.52,2,    36.09,2,     0.00,2,     2.66,2, -999.000,9, -999.000,9, -999.000,9,   2289.7,2,   2364.0,2,-999.0000,5,    25.00,     40.7,2,    37.37,2, -999.000,9, -999.000,-999.0000,9,-999.0000,  -999.00,9,  -999.00, -999.000,9, -999.000,   -173.7,2,      2.7,     0.33,2,-999.0000,9,-999.0000,9,-999.0000,9,-999.0000,9,-999.0000,9,-999.0000,9,-999.0000,9,-999.0000,9,-999.0000,9,   4.6021,   4.6965,2
  33RR20070322,  I09N,   105,  2,     17,     17,2,20070331,1551,-19.0835,  95.0018, 5353,1247.9000,   1247.9,   4.3607,  34.6671,2,  34.6669,2,    104.0,2,    105.3,2,    95.10,2,    36.09,2,     0.00,2,     2.65,2, -999.000,9, -999.000,9, -999.000,9,   2292.0,6,   2366.9,2,   7.5153,2,    25.00,     40.4,2,    37.73,2, -999.000,9, -999.000,-999.0000,9,-999.0000,  -999.00,9,  -999.00, -999.000,9, -999.000,   -999.0,9,   -999.0,  -999.00,9,-999.0000,9,-999.0000,9,-999.0000,9,-999.0000,9,-999.0000,9,-999.0000,9,-999.0000,9,-999.0000,9,-999.0000,9,   4.2602,   4.3596,2
  33RR20070322,  I09N,   105,  2,     16,     16,2,20070331,1551,-19.0835,  95.0018, 5353,1348.6000,   1348.6,   4.0100,  34.6711,2,  34.6702,2,    110.6,2,    111.7,2,    97.30,2,    35.92,2,     0.00,2,     2.63,2, -999.000,9, -999.000,9, -999.000,9,   2291.8,2,   2370.4,2,   7.5332,2,    25.00,     40.0,2,    37.82,2, -999.000,9, -999.000,-999.0000,9,-999.0000,  -999.00,9,  -999.00, -999.000,9, -999.000,   -176.7,2,      2.6,    -0.12,3,-999.0000,9,-999.0000,9,-999.0000,9,-999.0000,9,-999.0000,9,-999.0000,9,-999.0000,9,-999.0000,9,-999.0000,9,   3.9040,   4.0090,2
  33RR20070322,  I09N,   105,  2,     15,     15,2,20070331,1551,-19.0835,  95.0018, 5353,1448.3000,   1448.3,   3.7299,  34.6757,2,  34.6751,2,    116.9,2,    118.4,2,    98.10,2,    35.77,2,     0.00,2,     2.62,2, -999.000,9, -999.000,9, -999.000,9,   2289.8,2,   2373.3,2,   7.4680,4,    25.00,     40.5,2,    37.51,2, -999.000,9, -999.000,-999.0000,9,-999.0000,  -999.00,9,  -999.00, -999.000,9, -999.000,   -999.0,9,   -999.0,  -999.00,9,-999.0000,9,-999.0000,9,-999.0000,9,-999.0000,9,-999.0000,9,-999.0000,9,-999.0000,9,-999.0000,9,-999.0000,9,   3.6180,   3.7306,2
  33RR20070322,  I09N,   105,  2,     14,     14,2,20070331,1551,-19.0835,  95.0018, 5353,1550.0000,   1550.0,   3.4502,  34.6860,2,  34.6859,2,    122.4,2,    124.1,2,   101.10,2,    35.55,2,     0.00,2,     2.59,2, -999.000,9, -999.000,9, -999.000,9,   2292.5,2,   2373.7,2,   7.5459,2,    25.00,     40.2,2,    36.68,2, -999.000,9, -999.000,-999.0000,9,-999.0000,  -999.00,9,  -999.00, -999.000,9, -999.000,   -192.9,2,      2.3,     0.28,2,-999.0000,9,-999.0000,9,-999.0000,9,-999.0000,9,-999.0000,9,-999.0000,9,-999.0000,9,-999.0000,9,-999.0000,9,   3.3326,   3.4511,2
  33RR20070322,  I09N,   105,  2,     13,     13,2,20070331,1551,-19.0835,  95.0018, 5353,1751.1000,   1751.1,   2.9565,  34.7066,2,  34.7059,2,    133.8,2,    137.3,2,   104.71,2,    35.07,2,     0.00,2,     2.53,2, -999.000,9, -999.000,9, -999.000,9,   2290.6,2,   2380.6,2,   7.5250,3,    25.00,     40.6,2,    36.61,2, -999.000,9, -999.000,-999.0000,9,-999.0000,  -999.00,9,  -999.00, -999.000,9, -999.000,   -999.0,9,   -999.0,  -999.00,9,-999.0000,9,-999.0000,9,-999.0000,9,-999.0000,9,-999.0000,9,-999.0000,9,-999.0000,9,-999.0000,9,-999.0000,9,   2.8274,   2.9567,2
  33RR20070322,  I09N,   105,  2,     12,     12,2,20070331,1551,-19.0835,  95.0018, 5353,1954.7000,   1954.7,   2.5818,  34.7178,2,  34.7171,2,    146.3,2,    148.0,2,   108.31,2,    34.45,2,     0.00,2,     2.47,2, -999.000,9, -999.000,9, -999.000,9,   2288.8,2,   2382.2,2,   7.4915,4,    25.00,     40.6,2,    36.45,2, -999.000,9, -999.000,-999.0000,9,-999.0000,  -999.00,9,  -999.00, -999.000,9, -999.000,   -999.0,9,   -999.0,  -999.00,9,-999.0000,9,-999.0000,9,-999.0000,9,-999.0000,9,-999.0000,9,-999.0000,9,-999.0000,9,-999.0000,9,-999.0000,9,   2.4402,   2.5836,2
  33RR20070322,  I09N,   105,  2,     11,     11,2,20070331,1551,-19.0835,  95.0018, 5353,2115.7000,   2115.7,   2.3433,  34.7228,2,  34.7236,2,    153.3,2,    154.1,2,   111.52,2,    34.23,2,     0.00,2,     2.44,2, -999.000,9, -999.000,9, -999.000,9,   2288.9,2,   2384.6,2,   7.5731,2,    25.00,     40.7,2,    35.33,2, -999.000,9, -999.000,-999.0000,9,-999.0000,  -999.00,9,  -999.00, -999.000,9, -999.000,   -999.0,9,   -999.0,  -999.00,9,-999.0000,9,-999.0000,9,-999.0000,9,-999.0000,9,-999.0000,9,-999.0000,9,-999.0000,9,-999.0000,9,-999.0000,9,   2.1912,   2.3439,2
  33RR20070322,  I09N,   105,  2,     10,     10,2,20070331,1551,-19.0835,  95.0018, 5353,2366.7000,   2366.7,   2.0697,  34.7291,2,  34.7275,2,    159.4,2,    159.2,2,   117.17,2,    34.01,2,     0.00,2,     2.42,2, -999.000,9, -999.000,9, -999.000,9,   2291.8,2,   2391.3,2,   7.5520,2,    25.00,     40.2,2,    35.64,2, -999.000,9, -999.000,-999.0000,9,-999.0000,  -999.00,9,  -999.00, -999.000,9, -999.000,   -999.0,9,   -999.0,  -999.00,9,-999.0000,9,-999.0000,9,-999.0000,9,-999.0000,9,-999.0000,9,-999.0000,9,-999.0000,9,-999.0000,9,-999.0000,9,   1.8999,   2.0696,2
  33RR20070322,  I09N,   105,  2,      9,      9,2,20070331,1551,-19.0835,  95.0018, 5353,2620.2000,   2620.2,   1.8860,  34.7290,2,  34.7282,2,    165.7,2,    165.5,2,   119.56,2,    33.81,2,     0.00,2,     2.39,2, -999.000,9, -999.000,9, -999.000,9,   2291.0,2,   2393.4,2,   7.5773,2,    25.00,     40.5,2,    35.78,2, -999.000,9, -999.000,-999.0000,9,-999.0000,  -999.00,9,  -999.00, -999.000,9, -999.000,   -999.0,9,   -999.0,  -999.00,9,-999.0000,9,-999.0000,9,-999.0000,9,-999.0000,9,-999.0000,9,-999.0000,9,-999.0000,9,-999.0000,9,-999.0000,9,   1.6965,   1.8859,2
  33RR20070322,  I09N,   105,  2,      8,      8,2,20070331,1551,-19.0835,  95.0018, 5353,2873.2000,   2873.2,   1.7326,  34.7278,2,  34.7264,2,    170.6,2,    170.0,2,   122.18,2,    33.60,2,     0.00,2,     2.38,2, -999.000,9, -999.000,9, -999.000,9,   2291.9,2,   2395.5,2,   7.5640,2,    25.00,     40.5,2,    35.26,2, -999.000,9, -999.000,-999.0000,9,-999.0000,  -999.00,9,  -999.00, -999.000,9, -999.000,   -999.0,9,   -999.0,  -999.00,9,-999.0000,9,-999.0000,9,-999.0000,9,-999.0000,9,-999.0000,9,-999.0000,9,-999.0000,9,-999.0000,9,-999.0000,9,   1.5225,   1.7323,2
  33RR20070322,  I09N,   105,  2,      7,      7,2,20070331,1551,-19.0835,  95.0018, 5353,3126.1000,   3126.1,   1.6205,  34.7262,2,  34.7248,2,    173.3,2,    172.9,2,   124.59,2,    33.65,2,     0.00,2,     2.38,2, -999.000,9, -999.000,9, -999.000,9,   2293.2,2,   2398.2,2,   7.5971,2,    25.00,     40.5,2,    35.36,2, -999.000,9, -999.000,-999.0000,9,-999.0000,  -999.00,9,  -999.00, -999.000,9, -999.000,   -999.0,9,   -999.0,  -999.00,9,-999.0000,9,-999.0000,9,-999.0000,9,-999.0000,9,-999.0000,9,-999.0000,9,-999.0000,9,-999.0000,9,-999.0000,9,   1.3886,   1.6202,2
  33RR20070322,  I09N,   105,  2,      6,      6,2,20070331,1551,-19.0835,  95.0018, 5353,3530.7000,   3530.7,   1.4580,  34.7227,2,  34.7238,2,    178.3,2,    177.9,2,   128.03,2,    33.60,2,     0.00,2,     2.36,2, -999.000,9, -999.000,9, -999.000,9,   2292.7,2,   2399.6,2,   7.6028,2,    25.00,     40.6,2,    35.07,2, -999.000,9, -999.000,-999.0000,9,-999.0000,  -999.00,9,  -999.00, -999.000,9, -999.000,   -999.0,9,   -999.0,  -999.00,9,-999.0000,9,-999.0000,9,-999.0000,9,-999.0000,9,-999.0000,9,-999.0000,9,-999.0000,9,-999.0000,9,-999.0000,9,   1.1895,   1.4582,2
  33RR20070322,  I09N,   105,  2,      5,      5,2,20070331,1551,-19.0835,  95.0018, 5353,3939.0000,   3939.0,   1.2998,  34.7192,2,  34.7183,2,    188.0,2,    188.1,2,   125.81,2,    33.02,2,     0.00,2,     2.32,2, -999.000,9, -999.000,9, -999.000,9,   2283.4,2,   2394.5,2,   8.1412,4,    25.00,     40.0,2,    34.22,2, -999.000,9, -999.000,-999.0000,9,-999.0000,  -999.00,9,  -999.00, -999.000,9, -999.000,   -999.0,9,   -999.0,  -999.00,9,-999.0000,9,-999.0000,9,-999.0000,9,-999.0000,9,-999.0000,9,-999.0000,9,-999.0000,9,-999.0000,9,-999.0000,9,   0.9928,   1.3003,2