BOTTLE,20150630SIOCCHRJL
# processed by cchdo on 2015-06-30 no change
# BOTTLE,20150416PRINUNIVRMK
# 10/7/2014 Initialized README file  
# Data source: CCHDO 2/11/14 
# SHIP: Roger Revelle 
# Cruise: I09N CLIVAR 2007 
# Region: East Indian Ocean 
# EXPOCODE: 33RR20070322 
# DATES: 3/22-5/1/2007 
# Chief Scientist: J. Sprintall, S. Mecking 
# 111 stations with 24 place Rosette 
# Hydro: Who - J.Swift;J.Sprintall; Status - final 
# 	Notes: posted 5/8/2007 
# Nutrients: Who - J.Swift;J.Sprintall; Status - final 
# 	Notes: posted 5/8/2007 
# Who - J.Swift;J.Sprintall; Status - final 
# 	Notes: posted 5/8/2007 
# TCO2: Who - R.Feely;C.Sabine; Status - final 
# 	Notes: final data submitted via CDIAC 1/4/2008 
# TA: Who - F.Millero; Status -final 
# 	Notes: final data submitted via CDIAC 1/4/2008 
# pH: Who - F.Millero; Status -final 
# 	Notes: final data submitted via CDIAC 1/4/2008 
# CFC: Who - W.Smethie;J.Bullister; Status - preliminary 
# 	Notes:  
# C14: Who - R.Key;A.McNichol; Status - final 
# 	Notes: Data submitted 7/25/14  
# H3/He3: Who - P.Schlosser; Status - final 
# 	Notes: He-3,He,Neon data submitted 9/25/14  
# 	H3 added 4/16/16 
# DON/TDN: Who - D.Hansel; Status - final 
# 	Notes: submitted via CDIAC 3/17/2008 
# Fe/Al: Who - C.Measures;W.Landing; Status - Final 
# 	Notes: rcd. 5/16/14 - not yet merged 
# CDOM:	Who - D.Siegel;C.Carlson; Status - final 
# 	Notes: final data received 6/18/2014 
# References: 
# Cruise report available at: 
# http://cchdo.ucsd.edu/data/co2clivar/indian/i09/i09n_20070322/i09n_33RR20070322do.pdf 
# Carbon Report 
# Feely, R., C. Sabine, F. Millero, R. Wanninkhof, D. Hansell. 2007. Carbon Dioxide, Hydrographic, and Chemical Data Obtained During the R/V Revelle Cruise in the Indian Ocean on CLIVAR Repeat Hydrography Sections I09N_2007 (Mar. 22 - May 01, 2007). http://cdiac.ornl.gov/ftp/oceans/CLIVAR/I09N_2007.data/. Carbon Dioxide Information Analysis Center, Oak Ridge National Laboratory, US Department of Energy, Oak Ridge, Tennessee. doi: 10.3334/CDIAC/otg.CLIVAR_I09N_2007 
EXPOCODE,SECT_ID,STNNBR,CASTNO,SAMPNO,BTLNBR,BTLNBR_FLAG_W,DATE,TIME,LATITUDE,LONGITUDE,DEPTH,CTDRAW,CTDPRS,CTDTMP,CTDSAL,CTDSAL_FLAG_W,SALNTY,SALNTY_FLAG_W,CTDOXY,CTDOXY_FLAG_W,OXYGEN,OXYGEN_FLAG_W,SILCAT,SILCAT_FLAG_W,NITRAT,NITRAT_FLAG_W,NITRIT,NITRIT_FLAG_W,PHSPHT,PHSPHT_FLAG_W,CFC-11,CFC-11_FLAG_W,CFC-12,CFC-12_FLAG_W,CFC113,CFC113_FLAG_W,TCARBN,TCARBN_FLAG_W,ALKALI,ALKALI_FLAG_W,PH_SWS,PH_SWS_FLAG_W,PH_TMP,DOC,DOC_FLAG_W,TDN,TDN_FLAG_W,TRITUM,TRITUM_FLAG_W,TRITER,HELIUM,HELIUM_FLAG_W,HELIER,DELHE3,DELHE3_FLAG_W,DELHER,NEON,NEON_FLAG_W,NEONER,DELC14,DELC14_FLAG_W,C14ERR,DELC13,DELC13_FLAG_W,CDOM325,CDOM325_FLAG_W,CDOM340,CDOM340_FLAG_W,CDOM380,CDOM380_FLAG_W,CDOM412,CDOM412_FLAG_W,CDOM443,CDOM443_FLAG_W,CDOM490,CDOM490_FLAG_W,CDOM555,CDOM555_FLAG_W,CDOMSL,CDOMSL_FLAG_W,CDOMSN,CDOMSN_FLAG_W,THETA,SBE35,SBE35_FLAG_W
,,,,,,,,,,,METERS,,DBAR,ITS-90,PSS-78,,PSS-78,,UMOL/KG,,UMOL/KG,,UMOL/KG,,UMOL/KG,,UMOL/KG,,UMOL/KG,,PMOL/KG,,PMOL/KG,,PMOL/KG,,UMOL/KG,,UMOL/KG,,,,DEG C,UMOL/KG,,UMOL/KG,,TU,,TU,NMOL/KG,,NMOL/KG,PERCNT,,PERCNT,NMOL/KG,,NMOL/KG,/MILLE,,/MILLE,/MILLE,,1/M,,1/M,,1/M,,1/M,,1/M,,1/M,,1/M,,1/NM,,1/NM,,DEG C,ITS-90,
  33RR20070322,  I09N,    89,  3,     34,   9419,2,20070326,1006,-28.3133,  95.0145, 3088,   3.4000,      3.4,  22.5809,  35.9715,2,  35.9716,2,    216.6,2,    217.8,2,     1.93,2,     0.20,2,     0.00,2,     0.09,2,    1.927,2,    1.257,2, -999.000,5,   2046.1,6,   2355.6,6,   8.0310,6,    25.00,     75.5,2,     4.24,2, -999.000,9, -999.000,-999.0000,9,-999.0000,  -999.00,9,  -999.00, -999.000,9, -999.000,   -999.0,9,   -999.0,  -999.00,9,   0.0399,2,   0.0251,2,   0.0104,2,   0.0083,2,  -0.0071,4,  -0.0063,4,  -0.0046,4,   0.0254,2,   0.0285,2,  22.5802,  22.5785,2
  33RR20070322,  I09N,    89,  3,     33,     33,2,20070326,1006,-28.3133,  95.0145, 3088,  30.0000,     30.0,  22.5920,  35.9710,2,  35.9715,2,    219.0,2,    217.9,2,     1.93,2,     0.20,2,     0.00,2,     0.09,2,    1.935,2,    1.233,2, -999.000,5,   2043.9,2,   2358.4,2,   8.0338,2,    25.00,     73.1,2,  -999.00,9, -999.000,9, -999.000,-999.0000,9,-999.0000,  -999.00,9,  -999.00, -999.000,9, -999.000,     58.5,2,      4.4,     1.03,2,   0.0448,2,   0.0291,2,   0.0139,2,   0.0115,2,  -0.0054,4,  -0.0053,4,  -0.0042,4,   0.0146,3,   0.0196,3,  22.5859,  22.5857,2
  33RR20070322,  I09N,    89,  3,     32,     37,2,20070326,1006,-28.3133,  95.0145, 3088,  53.7000,     53.7,  19.4824,  35.8574,2,  35.8602,2,    244.9,2,    247.7,2,     1.53,2,     0.20,2,     0.00,2,     0.12,2,    2.418,2,    1.541,2, -999.000,5,   2060.5,2,   2354.8,2,   7.9991,2,    25.00,     67.8,2,  -999.00,9, -999.000,9, -999.000,-999.0000,9,-999.0000,  -999.00,9,  -999.00, -999.000,9, -999.000,   -999.0,9,   -999.0,  -999.00,9,   0.0925,2,   0.0614,2,   0.0268,2,   0.0182,2,  -0.0013,4,  -0.0033,4,  -0.0033,4,   0.0163,3,   0.0205,3,  19.4726,  19.4353,2
  33RR20070322,  I09N,    89,  3,     31,     31,2,20070326,1006,-28.3133,  95.0145, 3088,  79.3000,     79.3,  17.9091,  35.8212,2,  35.8219,2,    247.0,2,    246.4,2,     1.34,2,     0.21,2,     0.00,2,     0.13,2,    2.542,2,    1.540,2, -999.000,5,   2067.5,2,   2354.4,2,   7.9903,2,    25.00,     66.0,2,  -999.00,9, -999.000,9, -999.000,-999.0000,9,-999.0000,  -999.00,9,  -999.00, -999.000,9, -999.000,     56.9,2,      3.2,     1.36,2,   0.1195,2,   0.0816,2,   0.0375,2,   0.0260,2,   0.0032,2,  -0.0009,4,  -0.0019,4,   0.0153,4,   0.0186,4,  17.8955,  17.8979,2
  33RR20070322,  I09N,    89,  3,     30,     30,2,20070326,1006,-28.3133,  95.0145, 3088, 104.3000,    104.3,  16.5755,  35.7232,2,  35.7260,2,    241.3,2,    236.4,2,     1.53,2,     0.25,2,     0.01,2,     0.20,2,    2.620,2,    1.661,2, -999.000,5,   2081.9,2,   2348.1,2,   7.9598,2,    25.00,     62.3,2,  -999.00,9, -999.000,9, -999.000,-999.0000,9,-999.0000,  -999.00,9,  -999.00, -999.000,9, -999.000,     57.0,2,      4.0,     1.24,2,   0.1228,2,   0.0860,2,   0.0438,2,   0.0326,2,   0.0065,2,   0.0001,4,  -0.0013,4,   0.0145,3,   0.0163,3,  16.5585,  16.5805,2
  33RR20070322,  I09N,    89,  3,     29,     29,2,20070326,1006,-28.3133,  95.0145, 3088, 153.9000,    153.9,  15.0893,  35.5525,2,  35.5539,2,    228.5,2,    231.8,2,     1.53,2,     2.96,2,     0.32,2,     0.36,2,    2.806,2,    1.666,2, -999.000,5,   2096.3,2,   2332.9,2,   7.9159,2,    25.00,     57.5,2,  -999.00,9, -999.000,9, -999.000,-999.0000,9,-999.0000,  -999.00,9,  -999.00, -999.000,9, -999.000,     49.5,2,      3.4,     1.23,2,   0.0908,2,   0.0655,2,   0.0351,2,   0.0274,2,   0.0033,3,  -0.0020,4,  -0.0026,4,   0.0138,2,   0.0149,2,  15.0658,  15.0889,2
  33RR20070322,  I09N,    89,  3,     28,     28,2,20070326,1006,-28.3133,  95.0145, 3088, 204.3000,    204.3,  13.9942,  35.4286,2,  35.4328,2,    225.6,2,    225.3,2,     2.14,2,     5.62,2,     0.01,2,     0.49,2,    2.949,2,    1.754,2, -999.000,5,   2105.8,2,   2330.2,2,   7.8825,2,    25.00,     53.5,2,  -999.00,9, -999.000,9, -999.000,-999.0000,9,-999.0000,  -999.00,9,  -999.00, -999.000,9, -999.000,     58.9,2,      3.6,     1.14,2,   0.0829,2,   0.0586,2,   0.0311,2,   0.0244,2,   0.0014,3,  -0.0029,4,  -0.0032,4,   0.0138,2,   0.0154,2,  13.9646,  14.0033,2
  33RR20070322,  I09N,    89,  3,     27,     27,2,20070326,1006,-28.3133,  95.0145, 3088, 254.3000,    254.3,  12.9125,  35.2542,2,  35.2524,2,    229.3,2,    229.8,2,     2.54,2,     7.92,2,     0.01,2,     0.63,2,    3.157,2,    1.832,2, -999.000,5,   2108.5,2,   2317.7,2,   7.8605,2,    25.00,     51.5,2,  -999.00,9, -999.000,9, -999.000,-999.0000,9,-999.0000,  -999.00,9,  -999.00, -999.000,9, -999.000,     59.4,2,      4.2,     1.14,2,   0.0798,2,   0.0557,2,   0.0296,2,   0.0231,2,   0.0010,3,  -0.0032,4,  -0.0034,4,   0.0137,2,   0.0155,2,  12.8775,  12.9086,2
  33RR20070322,  I09N,    89,  3,     26,     26,2,20070326,1006,-28.3133,  95.0145, 3088, 304.5000,    304.5,  12.1786,  35.1437,2,  35.1496,2,    234.0,2,    234.4,2,     2.73,2,     8.93,2,     0.01,2,     0.68,2,    3.225,2,    1.911,2, -999.000,5,   2112.2,2,   2313.2,2,   7.8453,2,    25.00,     49.3,2,  -999.00,9, -999.000,9, -999.000,-999.0000,9,-999.0000,  -999.00,9,  -999.00, -999.000,9, -999.000,     55.2,2,      3.0,     1.14,2,   0.0756,2,   0.0513,2,   0.0268,2,   0.0209,2,  -0.0001,4,  -0.0035,4,  -0.0036,4,   0.0137,2,   0.0162,3,  12.1382,  12.1873,2
  33RR20070322,  I09N,    89,  3,     25,     25,2,20070326,1006,-28.3133,  95.0145, 3088, 355.0000,    355.0,  11.4484,  35.0211,2,  35.0226,2,    237.9,2,    238.8,2,     3.15,2,    10.47,2,     0.01,2,     0.78,2,    3.372,2,    1.932,2, -999.000,5,   2117.5,2,   2305.6,2,   7.8246,2,    25.00,     47.3,2,  -999.00,9, -999.000,9, -999.000,-999.0000,9,-999.0000,  -999.00,9,  -999.00, -999.000,9, -999.000,     58.6,2,      3.3,     1.18,2,   0.0733,2,   0.0496,2,   0.0261,2,   0.0202,2,  -0.0006,4,  -0.0041,4,  -0.0040,4,   0.0139,2,   0.0163,3,  11.4032,  11.4326,2
  33RR20070322,  I09N,    89,  3,     24,     24,2,20070326,1006,-28.3133,  95.0145, 3088, 402.7000,    402.7,  10.9134,  34.9355,2,  34.9394,2,    239.9,2,    240.2,2,     3.55,2,    11.66,2,     0.01,2,     0.86,2,    3.497,2,    1.975,2, -999.000,5,   2118.4,2,   2302.5,2,   7.8157,2,    25.00,     46.5,2,  -999.00,9, -999.000,9, -999.000,-999.0000,9,-999.0000,  -999.00,9,  -999.00, -999.000,9, -999.000,     54.5,2,      3.7,     1.20,2,   0.0748,2,   0.0498,2,   0.0259,2,   0.0203,2,  -0.0002,4,  -0.0038,4,  -0.0038,4,   0.0138,3,   0.0165,3,  10.8636,  10.9077,2
  33RR20070322,  I09N,    89,  3,     23,     23,2,20070326,1006,-28.3133,  95.0145, 3088, 455.5000,    455.5,  10.4304,  34.8582,2,  34.8618,2,    240.5,2,    241.4,2,     3.95,2,    13.06,2,     0.00,2,     0.95,2,    3.536,2,    1.980,2, -999.000,5,   2120.2,2,   2300.2,2,   7.8092,2,    25.00,     45.6,2,  -999.00,9, -999.000,9, -999.000,-999.0000,9,-999.0000,  -999.00,9,  -999.00, -999.000,9, -999.000,     57.1,2,      3.6,     1.22,2,   0.0700,2,   0.0464,2,   0.0245,2,   0.0189,2,  -0.0010,4,  -0.0043,4,  -0.0042,4,   0.0138,2,   0.0165,3,  10.3755,  10.4277,2
  33RR20070322,  I09N,    89,  3,     22,     22,2,20070326,1006,-28.3133,  95.0145, 3088, 505.4000,    505.4,  10.1296,  34.8109,2,  34.8128,2,    240.9,2,    241.4,2,     4.14,2,    13.85,2,     0.00,2,     1.00,2,    3.525,2,    2.019,2, -999.000,5,   2120.6,2,   2296.6,2,   7.7988,2,    25.00,     44.8,2,  -999.00,9, -999.000,9, -999.000,-999.0000,9,-999.0000,  -999.00,9,  -999.00, -999.000,9, -999.000,     67.4,2,      3.4,     1.24,2,   0.0692,2,   0.0460,2,   0.0245,2,   0.0188,2,  -0.0009,4,  -0.0043,4,  -0.0042,4,   0.0137,2,   0.0164,3,  10.0697,  10.1297,2
  33RR20070322,  I09N,    89,  3,     21,     21,2,20070326,1006,-28.3133,  95.0145, 3088, 605.4000,    605.4,   9.2642,  34.6838,2,  34.6862,2,    236.3,2,    234.8,2,     5.55,2,    16.80,2,     0.00,2,     1.16,2,    3.516,2,    1.877,2, -999.000,5,   2129.1,2,   2291.4,2,   7.7713,2,    25.00,     44.0,2,  -999.00,9, -999.000,9, -999.000,-999.0000,9,-999.0000,  -999.00,9,  -999.00, -999.000,9, -999.000,     49.6,2,      3.8,     1.24,2,   0.0728,2,   0.0482,2,   0.0254,2,   0.0195,2,  -0.0004,4,  -0.0041,4,  -0.0041,4,   0.0138,2,   0.0166,3,   9.1960,   9.2600,2
  33RR20070322,  I09N,    89,  3,     20,     20,2,20070326,1006,-28.3133,  95.0145, 3088, 705.7000,    705.7,   8.2988,  34.5750,2,-999.0000,9,    224.6,2,    219.8,2,     9.17,2,    20.43,2,     0.00,2,     1.46,2,    2.977,2,    1.536,2, -999.000,5,   2143.2,2,   2288.9,2,   7.7256,2,    25.00,     43.3,2,  -999.00,9, -999.000,9, -999.000,-999.0000,9,-999.0000,  -999.00,9,  -999.00, -999.000,9, -999.000,     34.4,2,      3.3,     1.19,2,   0.0877,2,   0.0597,2,   0.0356,2,   0.0284,2,   0.0049,2,  -0.0014,4,  -0.0028,4,   0.0129,3,   0.0138,3,   8.2239,   8.2972,2
  33RR20070322,  I09N,    89,  3,     19,     19,2,20070326,1006,-28.3133,  95.0145, 3088, 806.1000,    806.1,   6.5887,  34.4513,2,  34.4532,2,    203.2,2,    198.9,2,    19.59,2,    26.24,2,     0.00,2,     1.80,2,    1.859,2,    0.994,2, -999.000,5,   2171.0,2,   2290.2,2,   7.6654,2,    25.00,     42.4,2,  -999.00,9, -999.000,9, -999.000,-999.0000,9,-999.0000,  -999.00,9,  -999.00, -999.000,9, -999.000,    -15.4,2,      3.4,     1.03,2,   0.0927,2,   0.0618,2,   0.0341,2,   0.0260,2,   0.0040,3,  -0.0024,4,  -0.0035,4,   0.0137,3,   0.0156,3,   6.5130,   6.5877,2
  33RR20070322,  I09N,    89,  3,     18,     18,2,20070326,1006,-28.3133,  95.0145, 3088, 905.8000,    905.8,   5.0729,  34.4010,2,  34.4021,2,    192.3,2,    188.7,2,    33.46,2,    30.05,2,     0.00,2,     2.15,2,    1.193,2,    0.599,2, -999.000,5,   2197.4,2,   2303.5,2,   7.6189,2,    25.00,     41.9,2,  -999.00,9, -999.000,9, -999.000,-999.0000,9,-999.0000,  -999.00,9,  -999.00, -999.000,9, -999.000,    -65.9,2,      2.9,     0.93,2,   0.1036,2,   0.0700,2,   0.0405,2,   0.0312,2,   0.0073,2,  -0.0008,4,  -0.0028,4,   0.0135,3,   0.0146,3,   4.9977,   5.0744,2
  33RR20070322,  I09N,    89,  3,     17,     17,2,20070326,1006,-28.3133,  95.0145, 3088,1006.6000,   1006.6,   4.3335,  34.4319,2,  34.4324,2,    175.9,2,    172.6,2,    48.74,2,    32.38,2,     0.00,2,     2.36,2,    0.639,2,    0.328,2, -999.000,5,   2221.8,6,   2318.1,2,   7.5854,2,    25.00,     41.7,2,  -999.00,9, -999.000,9, -999.000,-999.0000,9,-999.0000,  -999.00,9,  -999.00, -999.000,9, -999.000,   -102.8,2,      2.8,     0.77,2,   0.1166,2,   0.0789,2,   0.0443,2,   0.0335,2,   0.0090,2,  -0.0004,4,  -0.0027,4,   0.0139,3,   0.0151,3,   4.2548,   4.3328,2
  33RR20070322,  I09N,    89,  3,     16,     16,2,20070326,1006,-28.3133,  95.0145, 3088,1106.9000,   1106.9,   3.9595,  34.4804,2,  34.4819,2,    162.3,2,    158.0,2,    61.44,2,    33.73,2,     0.00,2,     2.45,2,    0.311,2,    0.170,2, -999.000,5,   2242.2,2,   2331.3,2,   7.5702,2,    25.00,     41.3,2,  -999.00,9, -999.000,9, -999.000,-999.0000,9,-999.0000,  -999.00,9,  -999.00, -999.000,9, -999.000,   -134.6,2,      2.8,     0.64,2,   0.1277,2,   0.0874,2,   0.0496,2,   0.0377,2,   0.0121,2,   0.0012,3,  -0.0018,4,   0.0137,3,   0.0147,3,   3.8752,   3.9621,2
  33RR20070322,  I09N,    89,  3,     15,     15,2,20070326,1006,-28.3133,  95.0145, 3088,1205.7000,   1205.7,   3.7401,  34.5325,2,  34.5343,2,    149.8,2,    146.3,2,    72.35,2,    34.43,2,     0.00,2,     2.44,2,    0.131,2,    0.071,2, -999.000,5,   2257.6,2,   -999.0,5,   7.5589,2,    25.00,     41.4,2,  -999.00,9, -999.000,9, -999.000,-999.0000,9,-999.0000,  -999.00,9,  -999.00, -999.000,9, -999.000,   -152.4,2,      3.9,     0.54,2,   0.1330,2,   0.0925,2,   0.0529,2,   0.0399,2,   0.0135,2,   0.0021,3,  -0.0013,4,   0.0138,3,   0.0144,3,   3.6493,   3.7383,2
  33RR20070322,  I09N,    89,  3,     14,     14,2,20070326,1006,-28.3133,  95.0145, 3088,1308.2000,   1308.2,   3.4772,  34.5673,2,  34.5685,2,    146.2,2,    145.4,2,    77.81,2,    34.58,2,     0.00,2,     2.46,2,    0.060,2,    0.035,2, -999.000,5,   2262.5,2,   2349.0,2,   7.5572,2,    25.00,     41.4,2,  -999.00,9, -999.000,9, -999.000,-999.0000,9,-999.0000,  -999.00,9,  -999.00, -999.000,9, -999.000,   -163.4,2,      3.1,     0.50,2,   0.1369,2,   0.0954,2,   0.0543,2,   0.0405,2,   0.0139,2,   0.0021,3,  -0.0015,4,   0.0140,3,   0.0146,3,   3.3803,   3.4771,2
  33RR20070322,  I09N,    89,  3,     13,     13,2,20070326,1006,-28.3133,  95.0145, 3088,1407.5000,   1407.5,   3.2536,  34.5981,2,  34.5999,2,    145.6,2,    145.3,2,    82.07,2,    34.36,2,     0.00,2,     2.51,3,    0.037,2,    0.022,2, -999.000,5,   2267.0,2,   2353.1,6,   7.5569,6,    25.00,     41.6,2,  -999.00,9, -999.000,9, -999.000,-999.0000,9,-999.0000,  -999.00,9,  -999.00, -999.000,9, -999.000,   -167.3,2,      2.4,     0.45,2,   0.1375,2,   0.0959,2,   0.0546,2,   0.0408,2,   0.0138,2,   0.0019,3,  -0.0017,4,   0.0141,3,   0.0146,3,   3.1506,   3.2535,2
  33RR20070322,  I09N,    89,  3,     12,     12,2,20070326,1006,-28.3133,  95.0145, 3088,1508.0000,   1508.0,   3.0523,  34.6290,2,  34.6302,2,    147.6,2,    147.7,2,    86.93,2,    34.26,2,     0.00,2,     2.45,2,    0.022,2,    0.010,2, -999.000,5,   2269.3,2,   2357.9,2,   7.5617,2,    25.00,     41.5,2,  -999.00,9, -999.000,9, -999.000,-999.0000,9,-999.0000,  -999.00,9,  -999.00, -999.000,9, -999.000,   -172.1,2,      3.2,     0.47,2,   0.1390,2,   0.0969,2,   0.0547,2,   0.0408,2,   0.0141,2,   0.0024,3,  -0.0013,4,   0.0140,4,   0.0146,4,   2.9430,   3.0519,2
  33RR20070322,  I09N,    89,  3,     11,     11,2,20070326,1006,-28.3133,  95.0145, 3088,1610.8000,   1610.8,   2.8633,  34.6600,2,  34.6611,2,    149.4,2,    150.2,2,    91.60,2,    33.94,2,     0.00,2,     2.42,2,    0.015,2,    0.007,2, -999.000,5,   2271.7,2,   2362.0,2,   7.5657,2,    25.00,     41.6,2,  -999.00,9, -999.000,9, -999.000,-999.0000,9,-999.0000,  -999.00,9,  -999.00, -999.000,9, -999.000,   -178.5,2,      2.8,     0.42,2,   0.1386,2,   0.0969,2,   0.0545,2,   0.0400,2,   0.0137,2,   0.0022,3,  -0.0013,4,   0.0141,3,   0.0148,3,   2.7476,   2.8636,2
  33RR20070322,  I09N,    89,  3,     10,     10,2,20070326,1006,-28.3133,  95.0145, 3088,1711.9000,   1711.9,   2.7241,  34.6787,2,  34.6803,2,    153.6,2,    154.3,2,    93.84,2,    33.63,2,     0.00,2,     2.44,3,    0.017,2,    0.006,2, -999.000,5,   2277.1,2,   2363.6,2,   7.5746,2,    25.00,     41.0,2,  -999.00,9, -999.000,9, -999.000,-999.0000,9,-999.0000,  -999.00,9,  -999.00, -999.000,9, -999.000,   -177.3,2,      2.8,     0.43,2,   0.1384,2,   0.0965,2,   0.0541,2,   0.0400,2,   0.0136,2,   0.0021,3,  -0.0014,4,   0.0141,3,   0.0148,3,   2.6015,   2.7229,2
  33RR20070322,  I09N,    89,  3,      9,      9,2,20070326,1006,-28.3133,  95.0145, 3088,1811.0000,   1811.0,   2.5991,  34.6939,2,  34.6956,2,    156.2,2,    158.5,2,    96.69,2,    33.42,2,     0.00,2,     2.36,2,    0.014,2,    0.007,2, -999.000,5,   2271.2,3,   2366.4,2,   7.5751,2,    25.00,     41.0,2,  -999.00,9, -999.000,9, -999.000,-999.0000,9,-999.0000,  -999.00,9,  -999.00, -999.000,9, -999.000,   -180.4,2,      2.5,     0.48,2,   0.1383,2,   0.0967,2,   0.0549,2,   0.0408,2,   0.0140,2,   0.0024,3,  -0.0012,4,   0.0140,3,   0.0146,3,   2.4697,   2.5986,2
  33RR20070322,  I09N,    89,  3,      8,      8,2,20070326,1006,-28.3133,  95.0145, 3088,1913.0000,   1913.0,   2.4883,  34.7039,2,  34.7058,2,    159.3,2,    159.7,2,    98.93,2,    33.06,2,     0.00,2,     2.34,2,    0.012,2,    0.004,2, -999.000,5,   2273.4,3,   2369.7,2,   7.5811,2,    25.00,     41.4,2,  -999.00,9, -999.000,9, -999.000,-999.0000,9,-999.0000,  -999.00,9,  -999.00, -999.000,9, -999.000,   -182.5,2,      2.8,     0.43,2,   0.1357,2,   0.0945,2,   0.0525,2,   0.0386,2,   0.0129,2,   0.0020,3,  -0.0013,4,   0.0141,3,   0.0149,3,   2.3517,   2.4877,2
  33RR20070322,  I09N,    89,  3,      7,      7,2,20070326,1006,-28.3133,  95.0145, 3088,2013.7000,   2013.7,   2.3335,  34.7130,2,  34.7155,4,    163.1,2,    164.0,2,   101.39,2,    32.95,2,     0.00,2,     2.33,2,    0.006,2,    0.002,2, -999.000,5,   2273.7,3,   2372.8,2,   7.5939,2,    25.00,     41.5,2,  -999.00,9, -999.000,9, -999.000,-999.0000,9,-999.0000,  -999.00,9,  -999.00, -999.000,9, -999.000,   -184.3,2,      2.8,     0.45,2,   0.1351,2,   0.0944,2,   0.0527,2,   0.0384,2,   0.0126,2,   0.0018,3,  -0.0014,4,   0.0141,2,   0.0150,3,   2.1905,   2.3348,2
  33RR20070322,  I09N,    89,  3,      6,      6,2,20070326,1006,-28.3133,  95.0145, 3088,2265.3000,   2265.3,   2.0712,  34.7241,2,  34.7263,4,    171.2,2,    171.4,2,   105.87,2,    32.53,2,     0.00,2,     2.28,2,    0.005,2,    0.001,2, -999.000,5,   2279.0,2,   2375.2,2,-999.0000,5,    25.00,     41.0,2,  -999.00,9, -999.000,9, -999.000,-999.0000,9,-999.0000,  -999.00,9,  -999.00, -999.000,9, -999.000,   -182.2,2,      2.8,     0.46,2,   0.1373,2,   0.0963,2,   0.0545,2,   0.0399,2,   0.0133,2,   0.0023,3,  -0.0011,4,   0.0141,2,   0.0147,3,   1.9104,   2.0714,2