BOTTLE,20150630SIOCCHRJL
EXPOCODE,SECT_ID,STNNBR,CASTNO,SAMPNO,BTLNBR,BTLNBR_FLAG_W,DATE,TIME,LATITUDE,LONGITUDE,DEPTH,CTDRAW,CTDPRS,CTDTMP,CTDSAL,CTDSAL_FLAG_W,SALNTY,SALNTY_FLAG_W,CTDOXY,CTDOXY_FLAG_W,OXYGEN,OXYGEN_FLAG_W,SILCAT,SILCAT_FLAG_W,NITRAT,NITRAT_FLAG_W,NITRIT,NITRIT_FLAG_W,PHSPHT,PHSPHT_FLAG_W,CFC-11,CFC-11_FLAG_W,CFC-12,CFC-12_FLAG_W,CFC113,CFC113_FLAG_W,TCARBN,TCARBN_FLAG_W,ALKALI,ALKALI_FLAG_W,PH_SWS,PH_SWS_FLAG_W,PH_TMP,DOC,DOC_FLAG_W,TDN,TDN_FLAG_W,TRITUM,TRITUM_FLAG_W,TRITER,HELIUM,HELIUM_FLAG_W,HELIER,DELHE3,DELHE3_FLAG_W,DELHER,NEON,NEON_FLAG_W,NEONER,DELC14,DELC14_FLAG_W,C14ERR,DELC13,DELC13_FLAG_W,CDOM325,CDOM325_FLAG_W,CDOM340,CDOM340_FLAG_W,CDOM380,CDOM380_FLAG_W,CDOM412,CDOM412_FLAG_W,CDOM443,CDOM443_FLAG_W,CDOM490,CDOM490_FLAG_W,CDOM555,CDOM555_FLAG_W,CDOMSL,CDOMSL_FLAG_W,CDOMSN,CDOMSN_FLAG_W,THETA,SBE35,SBE35_FLAG_W
,,,,,,,,,,,METERS,,DBAR,ITS-90,PSS-78,,PSS-78,,UMOL/KG,,UMOL/KG,,UMOL/KG,,UMOL/KG,,UMOL/KG,,UMOL/KG,,PMOL/KG,,PMOL/KG,,PMOL/KG,,UMOL/KG,,UMOL/KG,,,,DEG C,UMOL/KG,,UMOL/KG,,TU,,TU,NMOL/KG,,NMOL/KG,PERCNT,,PERCNT,NMOL/KG,,NMOL/KG,/MILLE,,/MILLE,/MILLE,,1/M,,1/M,,1/M,,1/M,,1/M,,1/M,,1/M,,1/NM,,1/NM,,DEG C,ITS-90,
  33RR20070322,  I09N,   126,  1,      4,      4,2,20070407,1100, -7.6740,  95.0048, 5016,3936.5000,   3936.5,   1.1659,  34.7157,2,  34.7205,4,    190.4,2,    191.0,2,   127.18,2,    32.77,2,     0.00,2,     2.28,2,    0.005,2,    0.002,2, -999.000,5,   -999.0,9,   -999.0,9,   7.8095,3,    25.00,   -999.0,9,  -999.00,9, -999.000,9, -999.000,   1.9070,2,   0.0004,    11.77,2,     0.17,    8.325,2,    0.009,   -999.0,9,   -999.0,  -999.00,9,-999.0000,9,-999.0000,9,-999.0000,9,-999.0000,9,-999.0000,9,-999.0000,9,-999.0000,9,-999.0000,9,-999.0000,9,   0.8629,   1.1659,2
  33RR20070322,  I09N,   126,  1,      3,      3,2,20070407,1100, -7.6740,  95.0048, 5016,4343.8000,   4343.8,   1.1434,  34.7143,2,  34.7158,2,    194.6,2,    194.9,2,   126.79,2,    32.56,2,     0.00,2,     2.26,2, -999.000,9, -999.000,9, -999.000,9,   -999.0,9,   -999.0,9,-999.0000,9,  -999.00,   -999.0,9,  -999.00,9, -999.000,9, -999.000,   1.9500,3,   0.0004,    11.68,2,     0.20,    8.434,2,    0.007,   -999.0,9,   -999.0,  -999.00,9,-999.0000,9,-999.0000,9,-999.0000,9,-999.0000,9,-999.0000,9,-999.0000,9,-999.0000,9,-999.0000,9,-999.0000,9,   0.7968,   1.1432,2
  33RR20070322,  I09N,   126,  1,      2,      2,2,20070407,1100, -7.6740,  95.0048, 5016,4751.3000,   4751.3,   1.1717,  34.7139,2,  34.7148,2,    196.4,2,    196.7,2,   125.42,2,    32.35,2,     0.00,2,     2.26,2,    0.005,2,    0.002,2, -999.000,5,   -999.0,9,   -999.0,9,-999.0000,9,  -999.00,   -999.0,9,  -999.00,9,    0.001,2,    0.003,-999.0000,9,-999.0000,  -999.00,9,  -999.00, -999.000,9, -999.000,   -999.0,9,   -999.0,  -999.00,9,-999.0000,9,-999.0000,9,-999.0000,9,-999.0000,9,-999.0000,9,-999.0000,9,-999.0000,9,-999.0000,9,-999.0000,9,   0.7777,   1.1713,2
  33RR20070322,  I09N,   126,  1,      1,      1,2,20070407,1100, -7.6740,  95.0048, 5016,5085.5000,   5085.5,   1.2053,  34.7140,2,  34.7154,2,    197.2,2,    197.4,2,   124.62,2,    32.56,3,     0.00,2,     2.26,2,    0.005,2,    0.002,2, -999.000,5,   2281.5,6,   2390.1,2,   7.5644,4,    25.00,   -999.0,9,  -999.00,9,    0.001,2,    0.004,   1.9150,2,   0.0005,    10.72,2,     0.23,    8.272,2,    0.007,   -999.0,9,   -999.0,  -999.00,9,-999.0000,9,-999.0000,9,-999.0000,9,-999.0000,9,-999.0000,9,-999.0000,9,-999.0000,9,-999.0000,9,-999.0000,9,   0.7704,   1.2052,2