BOTTLE,20150630SIOCCHRJL
EXPOCODE,SECT_ID,STNNBR,CASTNO,SAMPNO,BTLNBR,BTLNBR_FLAG_W,DATE,TIME,LATITUDE,LONGITUDE,DEPTH,CTDRAW,CTDPRS,CTDTMP,CTDSAL,CTDSAL_FLAG_W,SALNTY,SALNTY_FLAG_W,CTDOXY,CTDOXY_FLAG_W,OXYGEN,OXYGEN_FLAG_W,SILCAT,SILCAT_FLAG_W,NITRAT,NITRAT_FLAG_W,NITRIT,NITRIT_FLAG_W,PHSPHT,PHSPHT_FLAG_W,CFC-11,CFC-11_FLAG_W,CFC-12,CFC-12_FLAG_W,CFC113,CFC113_FLAG_W,TCARBN,TCARBN_FLAG_W,ALKALI,ALKALI_FLAG_W,PH_SWS,PH_SWS_FLAG_W,PH_TMP,DOC,DOC_FLAG_W,TDN,TDN_FLAG_W,TRITUM,TRITUM_FLAG_W,TRITER,HELIUM,HELIUM_FLAG_W,HELIER,DELHE3,DELHE3_FLAG_W,DELHER,NEON,NEON_FLAG_W,NEONER,DELC14,DELC14_FLAG_W,C14ERR,DELC13,DELC13_FLAG_W,CDOM325,CDOM325_FLAG_W,CDOM340,CDOM340_FLAG_W,CDOM380,CDOM380_FLAG_W,CDOM412,CDOM412_FLAG_W,CDOM443,CDOM443_FLAG_W,CDOM490,CDOM490_FLAG_W,CDOM555,CDOM555_FLAG_W,CDOMSL,CDOMSL_FLAG_W,CDOMSN,CDOMSN_FLAG_W,THETA,SBE35,SBE35_FLAG_W
,,,,,,,,,,,METERS,,DBAR,ITS-90,PSS-78,,PSS-78,,UMOL/KG,,UMOL/KG,,UMOL/KG,,UMOL/KG,,UMOL/KG,,UMOL/KG,,PMOL/KG,,PMOL/KG,,PMOL/KG,,UMOL/KG,,UMOL/KG,,,,DEG C,UMOL/KG,,UMOL/KG,,TU,,TU,NMOL/KG,,NMOL/KG,PERCNT,,PERCNT,NMOL/KG,,NMOL/KG,/MILLE,,/MILLE,/MILLE,,1/M,,1/M,,1/M,,1/M,,1/M,,1/M,,1/M,,1/NM,,1/NM,,DEG C,ITS-90,
  33RR20070322,  I09N,   179,  1,     36,     38,2,20070422,0323,  8.2663,  86.0062, 3696,   1.9000,      1.9,  30.1378,  33.5905,2,  33.5692,2,    196.3,2,    196.4,2,     1.41,2,     0.05,2,     0.00,2,     0.07,2,    1.519,2,    0.971,2, -999.000,5,   1889.9,6,   2200.7,2,   8.1000,3,    25.00,   -999.0,9,  -999.00,9, -999.000,9, -999.000,-999.0000,9,-999.0000,  -999.00,9,  -999.00, -999.000,9, -999.000,   -999.0,9,   -999.0,  -999.00,9,-999.0000,9,-999.0000,9,-999.0000,9,-999.0000,9,-999.0000,9,-999.0000,9,-999.0000,9,-999.0000,9,-999.0000,9,  30.1373,  30.0837,2
  33RR20070322,  I09N,   179,  1,     35,     35,2,20070422,0323,  8.2663,  86.0062, 3696,  30.0000,     30.0,  29.3159,  33.6622,2,  33.6601,2,    199.6,2,    198.7,2,     1.40,2,     0.05,2,     0.00,2,     0.07,2,    1.514,2,    0.985,2, -999.000,5,   -999.0,9,   -999.0,9,-999.0000,9,  -999.00,   -999.0,9,  -999.00,9, -999.000,9, -999.000,-999.0000,9,-999.0000,  -999.00,9,  -999.00, -999.000,9, -999.000,   -999.0,9,   -999.0,  -999.00,9,-999.0000,9,-999.0000,9,-999.0000,9,-999.0000,9,-999.0000,9,-999.0000,9,-999.0000,9,-999.0000,9,-999.0000,9,  29.3086,  29.3093,2
  33RR20070322,  I09N,   179,  1,     34,   9419,2,20070422,0323,  8.2663,  86.0062, 3696,  54.9000,     54.9,  27.8437,  34.0688,2,  33.9878,2,    186.4,2,    189.1,2,     2.36,2,     0.05,2,     0.00,2,     0.18,2, -999.000,9, -999.000,9, -999.000,9,   1940.6,2,   2234.0,6,   8.0633,2,    25.00,   -999.0,9,  -999.00,9, -999.000,9, -999.000,-999.0000,9,-999.0000,  -999.00,9,  -999.00, -999.000,9, -999.000,   -999.0,9,   -999.0,  -999.00,9,-999.0000,9,-999.0000,9,-999.0000,9,-999.0000,9,-999.0000,9,-999.0000,9,-999.0000,9,-999.0000,9,-999.0000,9,  27.8309,  27.9644,2
  33RR20070322,  I09N,   179,  1,     33,     33,2,20070422,0323,  8.2663,  86.0062, 3696,  79.2000,     79.2,  24.3780,  34.3812,2,  34.3554,2,    107.6,2,    107.5,2,     8.84,2,    10.75,2,     1.29,2,     0.92,2,    1.336,2,    0.842,2, -999.000,5,   -999.0,9,   -999.0,9,-999.0000,9,  -999.00,   -999.0,9,  -999.00,9, -999.000,9, -999.000,-999.0000,9,-999.0000,  -999.00,9,  -999.00, -999.000,9, -999.000,   -999.0,9,   -999.0,  -999.00,9,-999.0000,9,-999.0000,9,-999.0000,9,-999.0000,9,-999.0000,9,-999.0000,9,-999.0000,9,-999.0000,9,-999.0000,9,  24.3612,  24.4196,2
  33RR20070322,  I09N,   179,  1,     32,     37,2,20070422,0323,  8.2663,  86.0062, 3696, 104.9000,    104.9,  20.2585,  34.7606,2,  34.7745,2,     59.6,2,     52.5,2,    17.87,2,    21.67,2,     0.03,2,     1.57,2, -999.000,9, -999.000,9, -999.000,9,   2141.9,2,   2275.4,2,   7.7354,2,    25.00,   -999.0,9,  -999.00,9, -999.000,9, -999.000,-999.0000,9,-999.0000,  -999.00,9,  -999.00, -999.000,9, -999.000,   -999.0,9,   -999.0,  -999.00,9,-999.0000,9,-999.0000,9,-999.0000,9,-999.0000,9,-999.0000,9,-999.0000,9,-999.0000,9,-999.0000,9,-999.0000,9,  20.2390,  20.2581,2
  33RR20070322,  I09N,   179,  1,     31,     31,2,20070422,0323,  8.2663,  86.0062, 3696, 154.0000,    154.0,  15.8469,  34.9044,2,  34.9161,2,     21.5,2,     18.8,2,    27.89,2,    28.97,2,     0.01,2,     2.10,2,    0.780,2,    0.465,2, -999.000,5,   -999.0,9,   -999.0,9,-999.0000,9,  -999.00,   -999.0,9,  -999.00,9, -999.000,9, -999.000,-999.0000,9,-999.0000,  -999.00,9,  -999.00, -999.000,9, -999.000,   -999.0,9,   -999.0,  -999.00,9,-999.0000,9,-999.0000,9,-999.0000,9,-999.0000,9,-999.0000,9,-999.0000,9,-999.0000,9,-999.0000,9,-999.0000,9,  15.8227,  15.8423,2
  33RR20070322,  I09N,   179,  1,     30,     30,2,20070422,0323,  8.2663,  86.0062, 3696, 204.6000,    204.6,  13.6054,  34.9969,2,  34.9940,2,     19.0,2,     18.4,2,    30.83,2,    31.04,2,     0.00,2,     2.23,2,    0.680,2,    0.388,2, -999.000,5,   -999.0,9,   -999.0,9,-999.0000,9,  -999.00,   -999.0,9,  -999.00,9, -999.000,9, -999.000,-999.0000,9,-999.0000,  -999.00,9,  -999.00, -999.000,9, -999.000,   -999.0,9,   -999.0,  -999.00,9,-999.0000,9,-999.0000,9,-999.0000,9,-999.0000,9,-999.0000,9,-999.0000,9,-999.0000,9,-999.0000,9,-999.0000,9,  13.5764,  13.6009,2
  33RR20070322,  I09N,   179,  1,     29,     29,2,20070422,0323,  8.2663,  86.0062, 3696, 253.8000,    253.8,  12.6474,  35.0559,2,  35.0534,2,     18.3,2,     17.5,2,    30.82,2,    31.63,2,     0.00,2,     2.28,2,    0.682,2,    0.387,2, -999.000,5,   -999.0,9,   -999.0,9,-999.0000,9,  -999.00,   -999.0,9,  -999.00,9, -999.000,9, -999.000,-999.0000,9,-999.0000,  -999.00,9,  -999.00, -999.000,9, -999.000,   -999.0,9,   -999.0,  -999.00,9,-999.0000,9,-999.0000,9,-999.0000,9,-999.0000,9,-999.0000,9,-999.0000,9,-999.0000,9,-999.0000,9,-999.0000,9,  12.6130,  12.6264,2
  33RR20070322,  I09N,   179,  1,     28,     28,2,20070422,0323,  8.2663,  86.0062, 3696, 304.7000,    304.7,  11.9527,  35.0566,2,  35.0562,2,     19.2,2,     17.1,2,    32.98,2,    32.57,2,     0.00,2,     2.32,2,    0.589,2,    0.330,2, -999.000,5,   -999.0,9,   -999.0,9,-999.0000,9,  -999.00,   -999.0,9,  -999.00,9, -999.000,9, -999.000,-999.0000,9,-999.0000,  -999.00,9,  -999.00, -999.000,9, -999.000,   -999.0,9,   -999.0,  -999.00,9,-999.0000,9,-999.0000,9,-999.0000,9,-999.0000,9,-999.0000,9,-999.0000,9,-999.0000,9,-999.0000,9,-999.0000,9,  11.9128,  11.9373,2
  33RR20070322,  I09N,   179,  1,     27,     27,2,20070422,0323,  8.2663,  86.0062, 3696, 353.9000,    353.9,  11.2994,  35.0558,2,  35.0556,2,     19.2,2,     17.8,2,    35.72,2,    33.31,2,     0.00,2,     2.38,2,    0.490,2,    0.274,2, -999.000,5,   -999.0,9,   -999.0,9,-999.0000,9,  -999.00,   -999.0,9,  -999.00,9, -999.000,9, -999.000,-999.0000,9,-999.0000,  -999.00,9,  -999.00, -999.000,9, -999.000,   -999.0,9,   -999.0,  -999.00,9,-999.0000,9,-999.0000,9,-999.0000,9,-999.0000,9,-999.0000,9,-999.0000,9,-999.0000,9,-999.0000,9,-999.0000,9,  11.2547,  11.3174,2
  33RR20070322,  I09N,   179,  1,     26,     26,2,20070422,0323,  8.2663,  86.0062, 3696, 404.4000,    404.4,  10.8442,  35.0492,2,  35.0507,2,     18.3,2,     18.0,2,    38.67,2,    34.10,2,     0.00,2,     2.44,2,    0.392,2,    0.217,2, -999.000,5,   -999.0,9,   -999.0,9,-999.0000,9,  -999.00,   -999.0,9,  -999.00,9, -999.000,9, -999.000,-999.0000,9,-999.0000,  -999.00,9,  -999.00, -999.000,9, -999.000,   -999.0,9,   -999.0,  -999.00,9,-999.0000,9,-999.0000,9,-999.0000,9,-999.0000,9,-999.0000,9,-999.0000,9,-999.0000,9,-999.0000,9,-999.0000,9,  10.7943,  10.8352,2
  33RR20070322,  I09N,   179,  1,     25,     25,2,20070422,0323,  8.2663,  86.0062, 3696, 454.7000,    454.7,  10.4138,  35.0450,2,  35.0434,2,     18.8,2,     15.4,2,    42.80,2,    34.94,2,     0.00,2,     2.52,2,    0.275,2,    0.158,2, -999.000,5,   -999.0,9,   -999.0,9,-999.0000,9,  -999.00,   -999.0,9,  -999.00,9, -999.000,9, -999.000,-999.0000,9,-999.0000,  -999.00,9,  -999.00, -999.000,9, -999.000,   -999.0,9,   -999.0,  -999.00,9,-999.0000,9,-999.0000,9,-999.0000,9,-999.0000,9,-999.0000,9,-999.0000,9,-999.0000,9,-999.0000,9,-999.0000,9,  10.3590,  10.3942,2
  33RR20070322,  I09N,   179,  1,     24,     24,2,20070422,0323,  8.2663,  86.0062, 3696, 504.6000,    504.6,  10.0103,  35.0437,2,  35.0432,2,     18.4,2,     19.4,2,    45.75,2,    35.18,2,     0.00,2,     2.56,2,    0.221,2,    0.124,2, -999.000,5,   -999.0,9,   -999.0,9,-999.0000,9,  -999.00,   -999.0,9,  -999.00,9, -999.000,9, -999.000,-999.0000,9,-999.0000,  -999.00,9,  -999.00, -999.000,9, -999.000,   -999.0,9,   -999.0,  -999.00,9,-999.0000,9,-999.0000,9,-999.0000,9,-999.0000,9,-999.0000,9,-999.0000,9,-999.0000,9,-999.0000,9,-999.0000,9,   9.9508,  10.0056,2
  33RR20070322,  I09N,   179,  1,     23,     23,2,20070422,0323,  8.2663,  86.0062, 3696, 604.5000,    604.5,   9.3139,  35.0283,2,  35.0280,2,     19.9,2,     19.0,2,    53.64,2,    36.13,2,     0.00,2,     2.64,2,    0.115,2,    0.065,2, -999.000,5,   -999.0,9,   -999.0,9,-999.0000,9,  -999.00,   -999.0,9,  -999.00,9, -999.000,9, -999.000,-999.0000,9,-999.0000,  -999.00,9,  -999.00, -999.000,9, -999.000,   -999.0,9,   -999.0,  -999.00,9,-999.0000,9,-999.0000,9,-999.0000,9,-999.0000,9,-999.0000,9,-999.0000,9,-999.0000,9,-999.0000,9,-999.0000,9,   9.2453,   9.3113,2
  33RR20070322,  I09N,   179,  1,     22,     22,2,20070422,0323,  8.2663,  86.0062, 3696, 703.7000,    703.7,   8.6403,  35.0054,2,  35.0057,2,     22.3,2,     21.8,2,    61.73,2,    36.98,2,     0.00,2,     2.71,2,    0.063,2,    0.037,2, -999.000,5,   -999.0,9,   -999.0,9,-999.0000,9,  -999.00,   -999.0,9,  -999.00,9, -999.000,9, -999.000,-999.0000,9,-999.0000,  -999.00,9,  -999.00, -999.000,9, -999.000,   -999.0,9,   -999.0,  -999.00,9,-999.0000,9,-999.0000,9,-999.0000,9,-999.0000,9,-999.0000,9,-999.0000,9,-999.0000,9,-999.0000,9,-999.0000,9,   8.5634,   8.6417,2
  33RR20070322,  I09N,   179,  1,     21,     21,2,20070422,0323,  8.2663,  86.0062, 3696, 804.6000,    804.6,   7.8801,  34.9770,2,  34.9776,2,     29.4,2,     29.9,2,    70.04,2,    37.12,2,     0.00,2,     2.74,2,    0.041,2,    0.023,2, -999.000,5,   -999.0,9,   -999.0,9,-999.0000,9,  -999.00,   -999.0,9,  -999.00,9, -999.000,9, -999.000,-999.0000,9,-999.0000,  -999.00,9,  -999.00, -999.000,9, -999.000,   -999.0,9,   -999.0,  -999.00,9,-999.0000,9,-999.0000,9,-999.0000,9,-999.0000,9,-999.0000,9,-999.0000,9,-999.0000,9,-999.0000,9,-999.0000,9,   7.7962,   7.8825,2
  33RR20070322,  I09N,   179,  1,     20,     20,2,20070422,0323,  8.2663,  86.0062, 3696, 904.7000,    904.7,   7.2558,  34.9594,2,  34.9589,2,     36.1,2,     36.0,2,    77.37,2,    37.42,2,     0.00,2,     2.77,2,    0.024,2,    0.014,2, -999.000,5,   -999.0,9,   -999.0,9,-999.0000,9,  -999.00,   -999.0,9,  -999.00,9, -999.000,9, -999.000,-999.0000,9,-999.0000,  -999.00,9,  -999.00, -999.000,9, -999.000,   -999.0,9,   -999.0,  -999.00,9,-999.0000,9,-999.0000,9,-999.0000,9,-999.0000,9,-999.0000,9,-999.0000,9,-999.0000,9,-999.0000,9,-999.0000,9,   7.1651,   7.2544,2
  33RR20070322,  I09N,   179,  1,     19,     19,2,20070422,0323,  8.2663,  86.0062, 3696,1006.0000,   1006.0,   6.7394,  34.9400,2,  34.9394,2,     42.3,2,     42.7,2,    83.32,2,    37.41,2,     0.00,2,     2.78,2,    0.021,2,    0.012,2, -999.000,5,   2311.3,2,   2355.9,2,   7.4618,2,    25.00,   -999.0,9,  -999.00,9, -999.000,9, -999.000,-999.0000,9,-999.0000,  -999.00,9,  -999.00, -999.000,9, -999.000,   -999.0,9,   -999.0,  -999.00,9,-999.0000,9,-999.0000,9,-999.0000,9,-999.0000,9,-999.0000,9,-999.0000,9,-999.0000,9,-999.0000,9,-999.0000,9,   6.6417,   6.7409,2
  33RR20070322,  I09N,   179,  1,     18,     18,2,20070422,0323,  8.2663,  86.0062, 3696,1105.4000,   1105.4,   6.2343,  34.9184,2,  34.9183,2,     50.6,2,     50.8,2,    88.89,2,    37.30,2,     0.00,2,     2.76,2, -999.000,9, -999.000,9, -999.000,9,   -999.0,9,   -999.0,9,-999.0000,9,  -999.00,   -999.0,9,  -999.00,9, -999.000,9, -999.000,-999.0000,9,-999.0000,  -999.00,9,  -999.00, -999.000,9, -999.000,   -999.0,9,   -999.0,  -999.00,9,-999.0000,9,-999.0000,9,-999.0000,9,-999.0000,9,-999.0000,9,-999.0000,9,-999.0000,9,-999.0000,9,-999.0000,9,   6.1304,   6.2340,2
  33RR20070322,  I09N,   179,  1,     17,     17,2,20070422,0323,  8.2663,  86.0062, 3696,1206.6000,   1206.6,   5.7688,  34.9013,2,  34.9014,2,     57.9,2,     58.6,2,    93.47,2,    37.30,2,     0.00,2,     2.75,2,    0.013,2,    0.008,2, -999.000,5,   -999.0,9,   -999.0,9,-999.0000,9,  -999.00,   -999.0,9,  -999.00,9, -999.000,9, -999.000,-999.0000,9,-999.0000,  -999.00,9,  -999.00, -999.000,9, -999.000,   -999.0,9,   -999.0,  -999.00,9,-999.0000,9,-999.0000,9,-999.0000,9,-999.0000,9,-999.0000,9,-999.0000,9,-999.0000,9,-999.0000,9,-999.0000,9,   5.6588,   5.7699,2
  33RR20070322,  I09N,   179,  1,     16,     16,2,20070422,0323,  8.2663,  86.0062, 3696,1306.5000,   1306.5,   5.3498,  34.8845,2,  34.8847,2,     65.4,2,     65.6,2,    98.06,2,    37.10,2,     0.00,2,     2.74,2, -999.000,9, -999.000,9, -999.000,9,   -999.0,9,   -999.0,9,-999.0000,9,  -999.00,   -999.0,9,  -999.00,9, -999.000,9, -999.000,-999.0000,9,-999.0000,  -999.00,9,  -999.00, -999.000,9, -999.000,   -999.0,9,   -999.0,  -999.00,9,-999.0000,9,-999.0000,9,-999.0000,9,-999.0000,9,-999.0000,9,-999.0000,9,-999.0000,9,-999.0000,9,-999.0000,9,   5.2339,   5.3492,2
  33RR20070322,  I09N,   179,  1,     15,     15,2,20070422,0323,  8.2663,  86.0062, 3696,1407.5000,   1407.5,   4.9249,  34.8688,2,  34.8693,2,     70.9,2,     71.5,2,   102.64,2,    37.09,2,     0.00,2,     2.73,2,    0.007,2,    0.004,2, -999.000,5,   -999.0,9,   -999.0,9,-999.0000,9,  -999.00,   -999.0,9,  -999.00,9, -999.000,9, -999.000,-999.0000,9,-999.0000,  -999.00,9,  -999.00, -999.000,9, -999.000,   -999.0,9,   -999.0,  -999.00,9,-999.0000,9,-999.0000,9,-999.0000,9,-999.0000,9,-999.0000,9,-999.0000,9,-999.0000,9,-999.0000,9,-999.0000,9,   4.8035,   4.9301,2
  33RR20070322,  I09N,   179,  1,     14,     14,2,20070422,0323,  8.2663,  86.0062, 3696,1508.2000,   1508.2,   4.4934,  34.8533,2,  34.8532,2,     78.9,2,     80.0,2,   107.45,2,    36.94,2,     0.00,2,     2.72,2, -999.000,9, -999.000,9, -999.000,9,   -999.0,9,   -999.0,9,-999.0000,9,  -999.00,   -999.0,9,  -999.00,9, -999.000,9, -999.000,-999.0000,9,-999.0000,  -999.00,9,  -999.00, -999.000,9, -999.000,   -999.0,9,   -999.0,  -999.00,9,-999.0000,9,-999.0000,9,-999.0000,9,-999.0000,9,-999.0000,9,-999.0000,9,-999.0000,9,-999.0000,9,-999.0000,9,   4.3671,   4.4939,2
  33RR20070322,  I09N,   179,  1,     13,     13,2,20070422,0323,  8.2663,  86.0062, 3696,1607.7000,   1607.7,   4.1383,  34.8403,2,  34.8410,2,     86.3,2,     87.4,2,   110.45,2,    36.73,2,     0.00,2,     2.70,2,    0.005,2,    0.003,2, -999.000,5,   -999.0,9,   -999.0,9,-999.0000,9,  -999.00,   -999.0,9,  -999.00,9, -999.000,9, -999.000,-999.0000,9,-999.0000,  -999.00,9,  -999.00, -999.000,9, -999.000,   -999.0,9,   -999.0,  -999.00,9,-999.0000,9,-999.0000,9,-999.0000,9,-999.0000,9,-999.0000,9,-999.0000,9,-999.0000,9,-999.0000,9,-999.0000,9,   4.0069,   4.1378,2
  33RR20070322,  I09N,   179,  1,     12,     12,2,20070422,0323,  8.2663,  86.0062, 3696,1708.7000,   1708.7,   3.8659,  34.8287,2,  34.8292,2,     91.9,2,     92.1,2,   113.66,2,    36.67,2,     0.00,2,     2.68,2, -999.000,9, -999.000,9, -999.000,9,   -999.0,9,   -999.0,9,-999.0000,9,  -999.00,   -999.0,9,  -999.00,9, -999.000,9, -999.000,-999.0000,9,-999.0000,  -999.00,9,  -999.00, -999.000,9, -999.000,   -999.0,9,   -999.0,  -999.00,9,-999.0000,9,-999.0000,9,-999.0000,9,-999.0000,9,-999.0000,9,-999.0000,9,-999.0000,9,-999.0000,9,-999.0000,9,   3.7285,   3.8666,2
  33RR20070322,  I09N,   179,  1,     11,     11,2,20070422,0323,  8.2663,  86.0062, 3696,1810.2000,   1810.2,   3.4909,  34.8123,2,  34.8124,2,     98.8,2,     99.2,2,   118.47,2,    36.52,2,     0.00,2,     2.66,2,    0.007,2,    0.004,2, -999.000,5,   -999.0,9,   -999.0,9,-999.0000,9,  -999.00,   -999.0,9,  -999.00,9, -999.000,9, -999.000,-999.0000,9,-999.0000,  -999.00,9,  -999.00, -999.000,9, -999.000,   -999.0,9,   -999.0,  -999.00,9,-999.0000,9,-999.0000,9,-999.0000,9,-999.0000,9,-999.0000,9,-999.0000,9,-999.0000,9,-999.0000,9,-999.0000,9,   3.3491,   3.4934,2
  33RR20070322,  I09N,   179,  1,     10,     10,2,20070422,0323,  8.2663,  86.0062, 3696,1910.2000,   1910.2,   3.1467,  34.7972,2,  34.7973,2,    106.3,2,    107.2,2,   122.49,2,    36.21,2,     0.00,2,     2.64,2, -999.000,9, -999.000,9, -999.000,9,   -999.0,9,   -999.0,9,-999.0000,9,  -999.00,   -999.0,9,  -999.00,9, -999.000,9, -999.000,-999.0000,9,-999.0000,  -999.00,9,  -999.00, -999.000,9, -999.000,   -999.0,9,   -999.0,  -999.00,9,-999.0000,9,-999.0000,9,-999.0000,9,-999.0000,9,-999.0000,9,-999.0000,9,-999.0000,9,-999.0000,9,-999.0000,9,   3.0006,   3.1469,2
  33RR20070322,  I09N,   179,  1,      9,      9,2,20070422,0323,  8.2663,  86.0062, 3696,2010.1000,   2010.1,   2.8821,  34.7856,2,  34.7845,2,    112.6,2,    115.9,2,   125.92,2,    36.06,2,     0.00,2,     2.62,2,    0.004,2,    0.003,2, -999.000,5,   2329.9,2,   2404.1,2,   7.5347,2,    25.00,   -999.0,9,  -999.00,9, -999.000,9, -999.000,-999.0000,9,-999.0000,  -999.00,9,  -999.00, -999.000,9, -999.000,   -999.0,9,   -999.0,  -999.00,9,-999.0000,9,-999.0000,9,-999.0000,9,-999.0000,9,-999.0000,9,-999.0000,9,-999.0000,9,-999.0000,9,-999.0000,9,   2.7309,   2.8818,2
  33RR20070322,  I09N,   179,  1,      8,      8,2,20070422,0323,  8.2663,  86.0062, 3696,2263.0000,   2263.0,   2.4211,  34.7650,2,  34.7648,2,    125.9,2,    125.8,2,   131.17,2,    35.56,2,     0.00,2,     2.56,2, -999.000,9, -999.000,9, -999.000,9,   -999.0,9,   -999.0,9,-999.0000,9,  -999.00,   -999.0,9,  -999.00,9, -999.000,9, -999.000,-999.0000,9,-999.0000,  -999.00,9,  -999.00, -999.000,9, -999.000,   -999.0,9,   -999.0,  -999.00,9,-999.0000,9,-999.0000,9,-999.0000,9,-999.0000,9,-999.0000,9,-999.0000,9,-999.0000,9,-999.0000,9,-999.0000,9,   2.2544,   2.4222,2
  33RR20070322,  I09N,   179,  1,      7,      7,2,20070422,0323,  8.2663,  86.0062, 3696,2515.7000,   2515.7,   2.1126,  34.7512,2,  34.7513,2,    134.9,2,    134.6,2,   135.21,2,    35.36,2,     0.00,2,     2.52,2,    0.004,2,    0.003,2, -999.000,5,   2328.9,2,   2400.6,2,   7.5531,2,    25.00,   -999.0,9,  -999.00,9, -999.000,9, -999.000,-999.0000,9,-999.0000,  -999.00,9,  -999.00, -999.000,9, -999.000,   -999.0,9,   -999.0,  -999.00,9,-999.0000,9,-999.0000,9,-999.0000,9,-999.0000,9,-999.0000,9,-999.0000,9,-999.0000,9,-999.0000,9,-999.0000,9,   1.9283,   2.1129,2
  33RR20070322,  I09N,   179,  1,      6,      6,2,20070422,0323,  8.2663,  86.0062, 3696,2768.4000,   2768.4,   1.8775,  34.7412,2,  34.7414,2,    143.4,2,    143.5,2,   136.22,2,    34.95,2,     0.00,2,     2.48,2, -999.000,9, -999.000,9, -999.000,9,   -999.0,9,   -999.0,9,-999.0000,9,  -999.00,   -999.0,9,  -999.00,9, -999.000,9, -999.000,-999.0000,9,-999.0000,  -999.00,9,  -999.00, -999.000,9, -999.000,   -999.0,9,   -999.0,  -999.00,9,-999.0000,9,-999.0000,9,-999.0000,9,-999.0000,9,-999.0000,9,-999.0000,9,-999.0000,9,-999.0000,9,-999.0000,9,   1.6743,   1.8782,2
  33RR20070322,  I09N,   179,  1,      5,      5,2,20070422,0323,  8.2663,  86.0062, 3696,3020.6000,   3020.6,   1.7357,  34.7353,2,  34.7349,2,    147.9,2,    147.5,2,   138.45,2,    34.85,2,     0.00,2,     2.46,2,    0.004,2,    0.004,2, -999.000,5,   -999.0,9,   -999.0,9,-999.0000,9,  -999.00,   -999.0,9,  -999.00,9, -999.000,9, -999.000,-999.0000,9,-999.0000,  -999.00,9,  -999.00, -999.000,9, -999.000,   -999.0,9,   -999.0,  -999.00,9,-999.0000,9,-999.0000,9,-999.0000,9,-999.0000,9,-999.0000,9,-999.0000,9,-999.0000,9,-999.0000,9,-999.0000,9,   1.5114,   1.7354,2