BOTTLE,20150630SIOCCHRJL
EXPOCODE,SECT_ID,STNNBR,CASTNO,SAMPNO,BTLNBR,BTLNBR_FLAG_W,DATE,TIME,LATITUDE,LONGITUDE,DEPTH,CTDRAW,CTDPRS,CTDTMP,CTDSAL,CTDSAL_FLAG_W,SALNTY,SALNTY_FLAG_W,CTDOXY,CTDOXY_FLAG_W,OXYGEN,OXYGEN_FLAG_W,SILCAT,SILCAT_FLAG_W,NITRAT,NITRAT_FLAG_W,NITRIT,NITRIT_FLAG_W,PHSPHT,PHSPHT_FLAG_W,CFC-11,CFC-11_FLAG_W,CFC-12,CFC-12_FLAG_W,CFC113,CFC113_FLAG_W,TCARBN,TCARBN_FLAG_W,ALKALI,ALKALI_FLAG_W,PH_SWS,PH_SWS_FLAG_W,PH_TMP,DOC,DOC_FLAG_W,TDN,TDN_FLAG_W,TRITUM,TRITUM_FLAG_W,TRITER,HELIUM,HELIUM_FLAG_W,HELIER,DELHE3,DELHE3_FLAG_W,DELHER,NEON,NEON_FLAG_W,NEONER,DELC14,DELC14_FLAG_W,C14ERR,DELC13,DELC13_FLAG_W,CDOM325,CDOM325_FLAG_W,CDOM340,CDOM340_FLAG_W,CDOM380,CDOM380_FLAG_W,CDOM412,CDOM412_FLAG_W,CDOM443,CDOM443_FLAG_W,CDOM490,CDOM490_FLAG_W,CDOM555,CDOM555_FLAG_W,CDOMSL,CDOMSL_FLAG_W,CDOMSN,CDOMSN_FLAG_W,THETA,SBE35,SBE35_FLAG_W
,,,,,,,,,,,METERS,,DBAR,ITS-90,PSS-78,,PSS-78,,UMOL/KG,,UMOL/KG,,UMOL/KG,,UMOL/KG,,UMOL/KG,,UMOL/KG,,PMOL/KG,,PMOL/KG,,PMOL/KG,,UMOL/KG,,UMOL/KG,,,,DEG C,UMOL/KG,,UMOL/KG,,TU,,TU,NMOL/KG,,NMOL/KG,PERCNT,,PERCNT,NMOL/KG,,NMOL/KG,/MILLE,,/MILLE,/MILLE,,1/M,,1/M,,1/M,,1/M,,1/M,,1/M,,1/M,,1/NM,,1/NM,,DEG C,ITS-90,
  33RR20070322,  I09N,   167,  2,     36,     38,2,20070418,1854,  7.9832,  88.2028, 3652,   3.0000,      3.0,  29.6072,  33.4242,2,  33.4279,2,    195.7,2,    196.5,2,     1.63,2,     0.02,2,     0.00,2,     0.06,2,    1.535,2,    0.982,2, -999.000,5,   1884.8,6,   2200.2,6,   8.1147,6,    25.00,     75.0,2,  -999.00,9, -999.000,9, -999.000,-999.0000,9,-999.0000,  -999.00,9,  -999.00, -999.000,9, -999.000,   -999.0,9,   -999.0,  -999.00,9,   0.0764,2,   0.0504,2,   0.0228,2,   0.0166,2,  -0.0005,4,  -0.0023,4,  -0.0029,4,   0.0158,3,   0.0199,3,  29.6065,  29.5986,2
  33RR20070322,  I09N,   167,  2,     35,     35,2,20070418,1854,  7.9832,  88.2028, 3652,  30.2000,     30.2,  29.2797,  33.6526,2,  33.6553,2,    197.2,2,    196.9,2,     1.62,2,     0.02,2,     0.00,2,     0.06,2,    1.526,2,    1.001,2, -999.000,5,   1898.7,2,   2216.7,2,   8.0920,3,    25.00,     75.4,2,  -999.00,9, -999.000,9, -999.000,-999.0000,9,-999.0000,  -999.00,9,  -999.00, -999.000,9, -999.000,   -999.0,9,   -999.0,  -999.00,9,   0.0841,2,   0.0570,2,   0.0274,2,   0.0203,2,   0.0019,3,  -0.0011,4,  -0.0024,4,   0.0144,3,   0.0177,3,  29.2724,  29.2729,2
  33RR20070322,  I09N,   167,  2,     34,   9419,2,20070418,1854,  7.9832,  88.2028, 3652,  55.4000,     55.4,  27.5314,  34.2254,2,  34.0964,2,    164.3,2,    162.8,2,     2.81,2,     0.11,2,     0.01,2,     0.23,2,    1.495,2,    0.962,2, -999.000,5,   1970.7,2,   2240.3,2,   8.0092,2,    25.00,     68.5,2,  -999.00,9, -999.000,9, -999.000,-999.0000,9,-999.0000,  -999.00,9,  -999.00, -999.000,9, -999.000,   -999.0,9,   -999.0,  -999.00,9,   0.2261,2,   0.1635,2,   0.0845,2,   0.0623,2,   0.0246,2,   0.0095,2,   0.0031,2,   0.0146,3,   0.0157,3,  27.5185,  27.5218,2
  33RR20070322,  I09N,   167,  2,     33,     33,2,20070418,1854,  7.9832,  88.2028, 3652,  80.1000,     80.1,  22.3204,  34.6148,2,  34.6197,2,     48.7,2,     58.9,2,    13.83,2,    19.00,2,     0.05,2,     1.37,2,    1.228,2,    0.772,2, -999.000,5,   2109.3,2,   2267.6,2,   7.7813,2,    25.00,     59.2,2,  -999.00,9, -999.000,9, -999.000,-999.0000,9,-999.0000,  -999.00,9,  -999.00, -999.000,9, -999.000,   -999.0,9,   -999.0,  -999.00,9,   0.2051,2,   0.1509,2,   0.0849,2,   0.0662,2,   0.0262,2,   0.0085,2,   0.0023,2,   0.0146,3,   0.0142,3,  22.3044,  22.3011,2
  33RR20070322,  I09N,   167,  2,     32,     37,2,20070418,1854,  7.9832,  88.2028, 3652, 105.0000,    105.0,  18.5732,  34.8093,2,  34.8125,2,     28.3,2,     32.1,2,    21.84,2,    25.17,2,     0.01,2,     1.82,2,    0.990,2,    0.614,2, -999.000,5,   2170.6,2,   2285.2,2,   7.6525,2,    25.00,     54.9,2,  -999.00,9, -999.000,9, -999.000,-999.0000,9,-999.0000,  -999.00,9,  -999.00, -999.000,9, -999.000,   -999.0,9,   -999.0,  -999.00,9,   0.1946,2,   0.1444,2,   0.0833,2,   0.0657,2,   0.0270,2,   0.0086,2,   0.0022,2,   0.0142,3,   0.0136,3,  18.5548,  18.5760,2
  33RR20070322,  I09N,   167,  2,     31,     31,2,20070418,1854,  7.9832,  88.2028, 3652, 155.3000,    155.3,  14.7302,  34.9559,2,  34.9553,2,     10.5,2,     11.3,2,    29.64,2,    30.33,2,     0.00,2,     2.21,2,    0.684,2,    0.406,2, -999.000,5,   2227.4,2,   2300.6,2,   7.5294,2,    25.00,     50.0,2,  -999.00,9, -999.000,9, -999.000,-999.0000,9,-999.0000,  -999.00,9,  -999.00, -999.000,9, -999.000,   -999.0,9,   -999.0,  -999.00,9,   0.1913,2,   0.1429,2,   0.0863,2,   0.0680,2,   0.0293,2,   0.0089,2,   0.0018,2,   0.0141,3,   0.0130,3,  14.7070,  14.7362,2
  33RR20070322,  I09N,   167,  2,     30,     30,2,20070418,1854,  7.9832,  88.2028, 3652, 204.3000,    204.3,  13.0076,  35.0186,2,  35.0159,2,     14.7,2,     15.4,2,    31.83,2,    31.59,2,     0.00,2,     2.28,2,    0.617,2,    0.356,2, -999.000,5,   2243.0,2,   2307.7,2,   7.5022,2,    25.00,     48.3,2,  -999.00,9, -999.000,9, -999.000,-999.0000,9,-999.0000,  -999.00,9,  -999.00, -999.000,9, -999.000,   -999.0,9,   -999.0,  -999.00,9,   0.1940,2,   0.1460,2,   0.0900,2,   0.0724,2,   0.0329,2,   0.0106,2,   0.0025,2,   0.0138,3,   0.0125,3,  12.9795,  13.0216,2
  33RR20070322,  I09N,   167,  2,     29,     29,2,20070418,1854,  7.9832,  88.2028, 3652, 254.4000,    254.4,  12.1990,  35.0560,2,  35.0545,2,     14.1,2,     17.5,2,    32.02,2,    32.02,2,     0.00,2,     2.29,2,    0.625,2,    0.353,2, -999.000,5,   2251.4,2,   2307.7,2,   7.4886,2,    25.00,     47.5,2,  -999.00,9, -999.000,9, -999.000,-999.0000,9,-999.0000,  -999.00,9,  -999.00, -999.000,9, -999.000,   -999.0,9,   -999.0,  -999.00,9,   0.1953,2,   0.1475,2,   0.0919,2,   0.0742,2,   0.0341,2,   0.0112,2,   0.0028,2,   0.0120,3,   0.0123,3,  12.1654,  12.2096,2
  33RR20070322,  I09N,   167,  2,     28,     28,2,20070418,1854,  7.9832,  88.2028, 3652, 304.9000,    304.9,  11.5180,  35.0429,2,  35.0429,2,     17.7,2,     19.9,2,    35.42,2,    32.99,2,     0.00,2,     2.34,2,    0.500,2,    0.280,2, -999.000,5,   2255.6,2,   2316.3,2,   7.4782,2,    25.00,     46.7,2,  -999.00,9, -999.000,9, -999.000,-999.0000,9,-999.0000,  -999.00,9,  -999.00, -999.000,9, -999.000,   -999.0,9,   -999.0,  -999.00,9,   0.1911,2,   0.1434,2,   0.0885,2,   0.0718,2,   0.0328,2,   0.0103,2,   0.0023,2,   0.0138,3,   0.0124,3,  11.4791,  11.5199,2
  33RR20070322,  I09N,   167,  2,     27,     27,2,20070418,1854,  7.9832,  88.2028, 3652, 354.8000,    354.8,  11.0685,  35.0507,2,  35.0499,2,     20.8,2,     19.4,2,    37.21,2,    33.61,2,     0.00,2,     2.38,2,    0.443,2,    0.246,2, -999.000,5,   2260.0,2,   2316.0,2,   7.4778,2,    25.00,     45.9,2,  -999.00,9, -999.000,9, -999.000,-999.0000,9,-999.0000,  -999.00,9,  -999.00, -999.000,9, -999.000,   -999.0,9,   -999.0,  -999.00,9,   0.1927,2,   0.1447,2,   0.0900,2,   0.0733,2,   0.0338,2,   0.0107,2,   0.0023,2,   0.0137,3,   0.0123,3,  11.0242,  11.0675,2
  33RR20070322,  I09N,   167,  2,     26,     26,2,20070418,1854,  7.9832,  88.2028, 3652, 404.7000,    404.7,  10.6719,  35.0489,2,  35.0478,2,     19.4,2,     18.5,2,    39.61,2,    34.33,2,     0.00,2,     2.44,2,    0.356,2,    0.197,2, -999.000,5,   2264.8,2,   2318.6,2,   7.4610,2,    25.00,     45.2,2,  -999.00,9, -999.000,9, -999.000,-999.0000,9,-999.0000,  -999.00,9,  -999.00, -999.000,9, -999.000,   -999.0,9,   -999.0,  -999.00,9,   0.1929,2,   0.1449,2,   0.0897,2,   0.0724,2,   0.0334,2,   0.0106,2,   0.0022,2,   0.0138,3,   0.0124,3,  10.6224,  10.6702,2
  33RR20070322,  I09N,   167,  2,     25,     25,2,20070418,1854,  7.9832,  88.2028, 3652, 454.2000,    454.2,  10.3185,  35.0460,2,  35.0480,2,     18.0,2,     17.7,2,    42.80,2,    34.81,2,     0.00,2,     2.51,2,    0.274,2,    0.150,2, -999.000,5,   2269.2,2,   2322.5,2,   7.4721,2,    25.00,     44.7,2,  -999.00,9, -999.000,9, -999.000,-999.0000,9,-999.0000,  -999.00,9,  -999.00, -999.000,9, -999.000,   -999.0,9,   -999.0,  -999.00,9,   0.1973,2,   0.1486,2,   0.0932,2,   0.0757,2,   0.0357,2,   0.0114,2,   0.0025,2,   0.0129,3,   0.0122,3,  10.2640,  10.3173,2
  33RR20070322,  I09N,   167,  2,     24,     24,2,20070418,1854,  7.9832,  88.2028, 3652, 504.1000,    504.1,   9.8966,  35.0312,2,  35.0304,2,     17.6,2,     18.1,2,    48.21,2,    35.34,2,     0.00,2,     2.57,2,    0.209,2,    0.115,2, -999.000,5,   2277.0,6,   2324.5,6,   7.4673,6,    25.00,     44.3,2,  -999.00,9, -999.000,9, -999.000,-999.0000,9,-999.0000,  -999.00,9,  -999.00, -999.000,9, -999.000,   -999.0,9,   -999.0,  -999.00,9,   0.1969,2,   0.1480,2,   0.0919,2,   0.0737,2,   0.0343,2,   0.0110,2,   0.0022,2,   0.0138,3,   0.0124,3,   9.8375,   9.8921,2
  33RR20070322,  I09N,   167,  2,     23,     23,2,20070418,1854,  7.9832,  88.2028, 3652, 605.2000,    605.2,   9.1632,  35.0126,2,  35.0119,2,     20.7,2,     19.9,2,    56.84,2,    36.26,2,     0.00,2,     2.64,2,    0.118,2,    0.064,2, -999.000,5,   2284.7,2,   2334.6,2,   7.4556,2,    25.00,     43.9,2,  -999.00,9, -999.000,9, -999.000,-999.0000,9,-999.0000,  -999.00,9,  -999.00, -999.000,9, -999.000,   -999.0,9,   -999.0,  -999.00,9,   0.1988,2,   0.1497,2,   0.0929,2,   0.0738,2,   0.0346,2,   0.0111,2,   0.0023,2,   0.0139,3,   0.0125,3,   9.0952,   9.1618,2
  33RR20070322,  I09N,   167,  2,     22,     22,2,20070418,1854,  7.9832,  88.2028, 3652, 705.5000,    705.5,   8.5031,  34.9939,2,  34.9938,2,     25.6,2,     26.0,2,    64.08,2,    36.44,2,     0.00,2,     2.69,2,    0.079,2,    0.043,2, -999.000,5,   2290.4,2,   2342.3,2,   7.4559,2,    25.00,     43.3,2,  -999.00,9, -999.000,9, -999.000,-999.0000,9,-999.0000,  -999.00,9,  -999.00, -999.000,9, -999.000,   -999.0,9,   -999.0,  -999.00,9,   0.1996,2,   0.1497,2,   0.0925,2,   0.0731,2,   0.0345,2,   0.0114,2,   0.0023,2,   0.0138,3,   0.0125,3,   8.4268,   8.4995,2
  33RR20070322,  I09N,   167,  2,     21,     21,2,20070418,1854,  7.9832,  88.2028, 3652, 804.8000,    804.8,   7.8356,  34.9789,2,  34.9798,2,     31.1,2,     31.1,2,    71.32,2,    36.98,2,     0.00,2,     2.73,2,    0.044,2,    0.024,2, -999.000,5,   2298.6,2,   2349.1,2,   7.4559,2,    25.00,     43.0,2,  -999.00,9, -999.000,9, -999.000,-999.0000,9,-999.0000,  -999.00,9,  -999.00, -999.000,9, -999.000,   -999.0,9,   -999.0,  -999.00,9,   0.2061,2,   0.1553,2,   0.0972,2,   0.0770,2,   0.0373,2,   0.0122,2,   0.0026,2,   0.0139,3,   0.0124,3,   7.7520,   7.8381,2
  33RR20070322,  I09N,   167,  2,     20,     20,2,20070418,1854,  7.9832,  88.2028, 3652, 905.6000,    905.6,   7.2429,  34.9592,2,  34.9592,2,     39.1,2,     39.5,2,    77.56,2,    36.92,2,     0.00,2,     2.74,2, -999.000,9, -999.000,9, -999.000,9,   2303.7,2,   2356.0,2,   7.4606,2,    25.00,     42.6,2,  -999.00,9, -999.000,9, -999.000,-999.0000,9,-999.0000,  -999.00,9,  -999.00, -999.000,9, -999.000,   -999.0,9,   -999.0,  -999.00,9,   0.2019,2,   0.1512,2,   0.0930,2,   0.0728,2,   0.0347,2,   0.0111,2,   0.0022,2,   0.0140,3,   0.0127,3,   7.1522,   7.2426,2
  33RR20070322,  I09N,   167,  2,     19,     19,2,20070418,1854,  7.9832,  88.2028, 3652,1006.0000,   1006.0,   6.6737,  34.9361,2,  34.9350,2,     44.9,2,     45.4,2,    84.62,2,    37.16,2,     0.00,2,     2.75,2,    0.023,2,    0.010,2, -999.000,5,   2308.9,2,   2364.7,2,   7.4704,2,    25.00,     42.5,2,  -999.00,9, -999.000,9, -999.000,-999.0000,9,-999.0000,  -999.00,9,  -999.00, -999.000,9, -999.000,   -999.0,9,   -999.0,  -999.00,9,   0.1999,2,   0.1493,2,   0.0916,2,   0.0711,2,   0.0339,2,   0.0107,2,   0.0020,2,   0.0140,3,   0.0127,3,   6.5765,   6.6741,2
  33RR20070322,  I09N,   167,  2,     18,     18,2,20070418,1854,  7.9832,  88.2028, 3652,1106.8000,   1106.8,   6.0835,  34.9111,2,  34.9100,2,     53.5,2,     55.2,2,    90.67,2,    37.15,2,     0.00,2,     2.74,2, -999.000,9, -999.000,9, -999.000,9,   2311.8,2,   2370.6,2,   7.4766,2,    25.00,     42.4,2,  -999.00,9, -999.000,9, -999.000,-999.0000,9,-999.0000,  -999.00,9,  -999.00, -999.000,9, -999.000,   -999.0,9,   -999.0,  -999.00,9,   0.1981,2,   0.1477,2,   0.0903,2,   0.0697,2,   0.0327,2,   0.0102,2,   0.0020,2,   0.0140,3,   0.0129,3,   5.9807,   6.0811,2
  33RR20070322,  I09N,   167,  2,     17,     17,2,20070418,1854,  7.9832,  88.2028, 3652,1206.5000,   1206.5,   5.6668,  34.8952,2,  34.8950,2,     62.1,2,     61.4,2,    94.91,2,    37.29,2,     0.00,2,     2.74,2,    0.016,2,    0.008,2, -999.000,5,   2315.2,2,   2375.0,2,   7.4746,2,    25.00,     42.0,2,  -999.00,9, -999.000,9, -999.000,-999.0000,9,-999.0000,  -999.00,9,  -999.00, -999.000,9, -999.000,   -999.0,9,   -999.0,  -999.00,9,   0.1978,2,   0.1474,2,   0.0894,2,   0.0689,2,   0.0321,2,   0.0099,2,   0.0016,2,   0.0141,3,   0.0130,3,   5.5577,   5.6686,2
  33RR20070322,  I09N,   167,  2,     16,     16,2,20070418,1854,  7.9832,  88.2028, 3652,1307.0000,   1307.0,   5.2295,  34.8788,2,  34.8783,2,     66.1,2,     68.1,2,    99.57,2,    37.08,2,     0.00,2,     2.73,2, -999.000,9, -999.000,9, -999.000,9,   2317.9,2,   2382.3,2,   7.4709,2,    25.00,     42.2,2,  -999.00,9, -999.000,9, -999.000,-999.0000,9,-999.0000,  -999.00,9,  -999.00, -999.000,9, -999.000,   -999.0,9,   -999.0,  -999.00,9,   0.1980,2,   0.1471,2,   0.0892,2,   0.0685,2,   0.0328,2,   0.0105,2,   0.0024,2,   0.0139,3,   0.0129,3,   5.1147,   5.2271,2
  33RR20070322,  I09N,   167,  2,     15,     15,2,20070418,1854,  7.9832,  88.2028, 3652,1407.9000,   1407.9,   4.9228,  34.8670,2,  34.8677,2,     71.9,2,     73.8,2,   103.41,2,    36.93,2,     0.00,2,     2.72,2,    0.010,2,    0.005,2, -999.000,5,   2320.5,2,   2384.8,2,   7.5219,2,    25.00,     41.7,2,  -999.00,9, -999.000,9, -999.000,-999.0000,9,-999.0000,  -999.00,9,  -999.00, -999.000,9, -999.000,   -999.0,9,   -999.0,  -999.00,9,   0.1963,2,   0.1454,2,   0.0877,2,   0.0670,2,   0.0317,2,   0.0101,2,   0.0022,2,   0.0139,3,   0.0130,3,   4.8014,   4.9132,2
  33RR20070322,  I09N,   167,  2,     14,     14,2,20070418,1854,  7.9832,  88.2028, 3652,1507.1000,   1507.1,   4.5209,  34.8529,2,  34.8531,2,     78.2,2,     79.4,2,   107.26,2,    36.87,2,     0.00,2,     2.72,2, -999.000,9, -999.000,9, -999.000,9,   2322.0,2,   2384.9,2,   7.5061,2,    25.00,     41.8,2,  -999.00,9, -999.000,9, -999.000,-999.0000,9,-999.0000,  -999.00,9,  -999.00, -999.000,9, -999.000,   -999.0,9,   -999.0,  -999.00,9,   0.1962,2,   0.1454,2,   0.0876,2,   0.0667,2,   0.0317,2,   0.0104,2,   0.0025,2,   0.0139,3,   0.0130,3,   4.3944,   4.5205,2
  33RR20070322,  I09N,   167,  2,     13,     13,2,20070418,1854,  7.9832,  88.2028, 3652,1609.2000,   1609.2,   4.1351,  34.8383,2,  34.8389,2,     84.4,2,     86.5,2,   111.11,2,    36.86,2,     0.00,2,     2.71,2,    0.005,2,    0.003,2, -999.000,5,   2324.1,2,   2390.8,2,   7.5241,2,    25.00,     41.5,2,  -999.00,9, -999.000,9, -999.000,-999.0000,9,-999.0000,  -999.00,9,  -999.00, -999.000,9, -999.000,   -999.0,9,   -999.0,  -999.00,9,   0.1943,2,   0.1433,2,   0.0855,2,   0.0646,2,   0.0303,2,   0.0097,2,   0.0022,2,   0.0140,3,   0.0133,3,   4.0036,   4.1368,2
  33RR20070322,  I09N,   167,  2,     12,     12,2,20070418,1854,  7.9832,  88.2028, 3652,1709.3000,   1709.3,   3.7260,  34.8223,2,  34.8224,2,     91.6,2,     94.9,2,   115.99,2,    36.56,2,     0.00,2,     2.68,2, -999.000,9, -999.000,9, -999.000,9,   2325.0,2,   2393.6,2,   7.4833,2,    25.00,     40.7,2,  -999.00,9, -999.000,9, -999.000,-999.0000,9,-999.0000,  -999.00,9,  -999.00, -999.000,9, -999.000,   -999.0,9,   -999.0,  -999.00,9,   0.1941,2,   0.1433,2,   0.0854,2,   0.0642,2,   0.0301,2,   0.0097,2,   0.0022,2,   0.0139,3,   0.0133,3,   3.5903,   3.7310,2
  33RR20070322,  I09N,   167,  2,     11,     11,2,20070418,1854,  7.9832,  88.2028, 3652,1810.3000,   1810.3,   3.3175,  34.8050,2,  34.8045,2,    100.5,2,    103.2,2,   120.67,2,    36.30,2,     0.00,2,     2.65,2,    0.006,2,    0.005,2, -999.000,5,   2327.4,2,   2398.4,2,   7.5246,2,    25.00,     40.9,2,  -999.00,9, -999.000,9, -999.000,-999.0000,9,-999.0000,  -999.00,9,  -999.00, -999.000,9, -999.000,   -999.0,9,   -999.0,  -999.00,9,   0.1936,2,   0.1429,2,   0.0851,2,   0.0642,2,   0.0299,2,   0.0094,2,   0.0020,2,   0.0140,3,   0.0133,3,   3.1780,   3.3179,2
  33RR20070322,  I09N,   167,  2,     10,     10,2,20070418,1854,  7.9832,  88.2028, 3652,1911.2000,   1911.2,   3.0303,  34.7919,2,  34.7923,2,    108.5,2,    109.2,2,   124.33,2,    36.05,2,     0.00,2,     2.63,2, -999.000,9, -999.000,9, -999.000,9,   2328.4,2,   2402.3,2,   7.5213,2,    25.00,     41.2,2,  -999.00,9, -999.000,9, -999.000,-999.0000,9,-999.0000,  -999.00,9,  -999.00, -999.000,9, -999.000,   -999.0,9,   -999.0,  -999.00,9,   0.1917,2,   0.1413,2,   0.0836,2,   0.0624,2,   0.0288,2,   0.0090,2,   0.0019,2,   0.0141,3,   0.0135,3,   2.8858,   3.0287,2
  33RR20070322,  I09N,   167,  2,      9,      9,2,20070418,1854,  7.9832,  88.2028, 3652,2011.5000,   2011.5,   2.8000,  34.7818,2,  34.7821,2,    114.1,2,    115.3,2,   126.57,2,    35.94,2,     0.00,2,     2.60,2,    0.005,2,    0.004,2, -999.000,5,   2328.2,2,   2406.6,2,   7.5350,2,    25.00,     40.9,2,  -999.00,9, -999.000,9, -999.000,-999.0000,9,-999.0000,  -999.00,9,  -999.00, -999.000,9, -999.000,   -999.0,9,   -999.0,  -999.00,9,   0.1931,2,   0.1421,2,   0.0847,2,   0.0645,2,   0.0303,2,   0.0098,2,   0.0023,2,   0.0139,3,   0.0132,3,   2.6499,   2.8001,2
  33RR20070322,  I09N,   167,  2,      8,      8,2,20070418,1854,  7.9832,  88.2028, 3652,2264.2000,   2264.2,   2.4088,  34.7639,2,  34.7644,2,    126.5,2,    125.0,2,   131.05,2,    35.55,2,     0.00,2,     2.56,2, -999.000,9, -999.000,9, -999.000,9,   2329.1,2,   2412.5,2,   7.5414,2,    25.00,     40.8,2,  -999.00,9, -999.000,9, -999.000,-999.0000,9,-999.0000,  -999.00,9,  -999.00, -999.000,9, -999.000,   -999.0,9,   -999.0,  -999.00,9,   0.1901,2,   0.1397,2,   0.0830,2,   0.0624,2,   0.0290,2,   0.0093,2,   0.0022,2,   0.0139,3,   0.0133,3,   2.2422,   2.4112,2
  33RR20070322,  I09N,   167,  2,      7,      7,2,20070418,1854,  7.9832,  88.2028, 3652,2515.6000,   2515.6,   2.1109,  34.7507,2,  34.7510,2,    135.6,2,    135.9,2,   135.96,2,    35.30,2,     0.00,2,     2.53,2,    0.005,2,    0.002,2, -999.000,5,   2328.4,2,   2415.7,2,   7.5220,2,    25.00,     40.7,2,  -999.00,9, -999.000,9, -999.000,-999.0000,9,-999.0000,  -999.00,9,  -999.00, -999.000,9, -999.000,   -999.0,9,   -999.0,  -999.00,9,   0.1859,2,   0.1355,2,   0.0792,2,   0.0590,2,   0.0269,2,   0.0088,2,   0.0022,2,   0.0139,3,   0.0136,3,   1.9267,   2.1111,2
  33RR20070322,  I09N,   167,  2,      6,      6,2,20070418,1854,  7.9832,  88.2028, 3652,2769.8000,   2769.8,   1.8745,  34.7408,2,  34.7410,2,    146.7,2,    145.7,2,   135.53,2,    34.70,2,     0.00,2,     2.46,2, -999.000,9, -999.000,9, -999.000,9,   2323.0,2,   2413.8,2,   7.5534,2,    25.00,     40.6,2,  -999.00,9, -999.000,9, -999.000,-999.0000,9,-999.0000,  -999.00,9,  -999.00, -999.000,9, -999.000,   -999.0,9,   -999.0,  -999.00,9,   0.1767,2,   0.1281,2,   0.0743,2,   0.0556,2,   0.0249,2,   0.0080,2,   0.0019,2,   0.0137,3,   0.0137,3,   1.6712,   1.8745,2
  33RR20070322,  I09N,   167,  2,      5,      5,2,20070418,1854,  7.9832,  88.2028, 3652,3021.8000,   3021.8,   1.7559,  34.7357,2,  34.7359,2,    152.4,2,    151.8,2,   135.51,2,    34.55,2,     0.00,2,     2.43,2,    0.006,2,    0.004,2, -999.000,5,   2320.8,2,   2417.2,2,   7.5791,2,    25.00,     40.8,2,  -999.00,9, -999.000,9, -999.000,-999.0000,9,-999.0000,  -999.00,9,  -999.00, -999.000,9, -999.000,   -999.0,9,   -999.0,  -999.00,9,   0.1789,2,   0.1301,2,   0.0762,2,   0.0570,2,   0.0257,2,   0.0085,2,   0.0022,2,   0.0137,3,   0.0135,3,   1.5310,   1.7564,2