BOTTLE,20150630SIOCCHRJL
EXPOCODE,SECT_ID,STNNBR,CASTNO,SAMPNO,BTLNBR,BTLNBR_FLAG_W,DATE,TIME,LATITUDE,LONGITUDE,DEPTH,CTDRAW,CTDPRS,CTDTMP,CTDSAL,CTDSAL_FLAG_W,SALNTY,SALNTY_FLAG_W,CTDOXY,CTDOXY_FLAG_W,OXYGEN,OXYGEN_FLAG_W,SILCAT,SILCAT_FLAG_W,NITRAT,NITRAT_FLAG_W,NITRIT,NITRIT_FLAG_W,PHSPHT,PHSPHT_FLAG_W,CFC-11,CFC-11_FLAG_W,CFC-12,CFC-12_FLAG_W,CFC113,CFC113_FLAG_W,TCARBN,TCARBN_FLAG_W,ALKALI,ALKALI_FLAG_W,PH_SWS,PH_SWS_FLAG_W,PH_TMP,DOC,DOC_FLAG_W,TDN,TDN_FLAG_W,TRITUM,TRITUM_FLAG_W,TRITER,HELIUM,HELIUM_FLAG_W,HELIER,DELHE3,DELHE3_FLAG_W,DELHER,NEON,NEON_FLAG_W,NEONER,DELC14,DELC14_FLAG_W,C14ERR,DELC13,DELC13_FLAG_W,CDOM325,CDOM325_FLAG_W,CDOM340,CDOM340_FLAG_W,CDOM380,CDOM380_FLAG_W,CDOM412,CDOM412_FLAG_W,CDOM443,CDOM443_FLAG_W,CDOM490,CDOM490_FLAG_W,CDOM555,CDOM555_FLAG_W,CDOMSL,CDOMSL_FLAG_W,CDOMSN,CDOMSN_FLAG_W,THETA,SBE35,SBE35_FLAG_W
,,,,,,,,,,,METERS,,DBAR,ITS-90,PSS-78,,PSS-78,,UMOL/KG,,UMOL/KG,,UMOL/KG,,UMOL/KG,,UMOL/KG,,UMOL/KG,,PMOL/KG,,PMOL/KG,,PMOL/KG,,UMOL/KG,,UMOL/KG,,,,DEG C,UMOL/KG,,UMOL/KG,,TU,,TU,NMOL/KG,,NMOL/KG,PERCNT,,PERCNT,NMOL/KG,,NMOL/KG,/MILLE,,/MILLE,/MILLE,,1/M,,1/M,,1/M,,1/M,,1/M,,1/M,,1/M,,1/NM,,1/NM,,DEG C,ITS-90,
  33RR20070322,  I09N,   158,  1,     36,     38,2,20070416,0526,  4.6543,  90.7628, 3225,   2.0000,      2.0,  30.2449,  34.0368,2,  34.0376,2,    194.9,2,    196.1,2,     1.32,2,     0.05,2,     0.00,2,     0.07,2,    1.490,2,    0.989,2, -999.000,5,   1901.3,6,   2228.8,2,   8.1173,6,    25.00,   -999.0,9,  -999.00,9, -999.000,9, -999.000,-999.0000,9,-999.0000,  -999.00,9,  -999.00, -999.000,9, -999.000,   -999.0,9,   -999.0,  -999.00,9,-999.0000,9,-999.0000,9,-999.0000,9,-999.0000,9,-999.0000,9,-999.0000,9,-999.0000,9,-999.0000,9,-999.0000,9,  30.2444,  30.2024,2
  33RR20070322,  I09N,   158,  1,     35,     35,2,20070416,0526,  4.6543,  90.7628, 3225,  29.7000,     29.7,  29.8636,  34.0423,2,  34.0429,2,    199.4,2,    197.6,2,     1.30,2,     0.05,2,     0.00,2,     0.07,2,    1.489,2,    0.969,2, -999.000,5,   -999.0,9,   -999.0,9,-999.0000,9,  -999.00,   -999.0,9,  -999.00,9, -999.000,9, -999.000,-999.0000,9,-999.0000,  -999.00,9,  -999.00, -999.000,9, -999.000,   -999.0,9,   -999.0,  -999.00,9,-999.0000,9,-999.0000,9,-999.0000,9,-999.0000,9,-999.0000,9,-999.0000,9,-999.0000,9,-999.0000,9,-999.0000,9,  29.8563,  29.8602,2
  33RR20070322,  I09N,   158,  1,     34,   9419,2,20070416,0526,  4.6543,  90.7628, 3225,  54.5000,     54.5,  28.2899,  34.5572,2,  34.5382,2,    195.9,2,    195.4,2,     1.87,2,     0.05,2,     0.00,2,     0.16,2, -999.000,9, -999.000,9, -999.000,9,   -999.0,9,   -999.0,9,-999.0000,9,  -999.00,   -999.0,9,  -999.00,9, -999.000,9, -999.000,-999.0000,9,-999.0000,  -999.00,9,  -999.00, -999.000,9, -999.000,   -999.0,9,   -999.0,  -999.00,9,-999.0000,9,-999.0000,9,-999.0000,9,-999.0000,9,-999.0000,9,-999.0000,9,-999.0000,9,-999.0000,9,-999.0000,9,  28.2770,  28.2157,2
  33RR20070322,  I09N,   158,  1,     33,     33,2,20070416,0526,  4.6543,  90.7628, 3225,  79.5000,     79.5,  24.0870,  34.7772,2,  34.7418,2,     98.2,2,     97.6,2,     8.98,2,    12.69,2,     0.41,2,     1.01,2,    1.377,2,    0.861,2, -999.000,5,   2073.7,2,   2283.3,2,   7.8624,2,    25.00,   -999.0,9,  -999.00,9, -999.000,9, -999.000,-999.0000,9,-999.0000,  -999.00,9,  -999.00, -999.000,9, -999.000,   -999.0,9,   -999.0,  -999.00,9,-999.0000,9,-999.0000,9,-999.0000,9,-999.0000,9,-999.0000,9,-999.0000,9,-999.0000,9,-999.0000,9,-999.0000,9,  24.0702,  24.0743,2
  33RR20070322,  I09N,   158,  1,     32,     37,2,20070416,0526,  4.6543,  90.7628, 3225, 104.5000,    104.5,  21.1742,  35.0888,2,  35.0913,2,     53.0,2,     44.0,2,    14.52,2,    21.47,2,     0.15,2,     1.56,2, -999.000,9, -999.000,9, -999.000,9,   -999.0,9,   -999.0,9,-999.0000,9,  -999.00,   -999.0,9,  -999.00,9, -999.000,9, -999.000,-999.0000,9,-999.0000,  -999.00,9,  -999.00, -999.000,9, -999.000,   -999.0,9,   -999.0,  -999.00,9,-999.0000,9,-999.0000,9,-999.0000,9,-999.0000,9,-999.0000,9,-999.0000,9,-999.0000,9,-999.0000,9,-999.0000,9,  21.1541,  21.1993,2
  33RR20070322,  I09N,   158,  1,     31,     31,2,20070416,0526,  4.6543,  90.7628, 3225, 153.5000,    153.5,  16.8242,  35.1453,2,  35.1451,2,     43.3,2,     45.0,2,    19.25,2,    24.64,2,     0.01,2,     1.77,2,    1.339,2,    0.781,2, -999.000,5,   -999.0,9,   -999.0,9,-999.0000,9,  -999.00,   -999.0,9,  -999.00,9, -999.000,9, -999.000,-999.0000,9,-999.0000,  -999.00,9,  -999.00, -999.000,9, -999.000,   -999.0,9,   -999.0,  -999.00,9,-999.0000,9,-999.0000,9,-999.0000,9,-999.0000,9,-999.0000,9,-999.0000,9,-999.0000,9,-999.0000,9,-999.0000,9,  16.7990,  16.8223,2
  33RR20070322,  I09N,   158,  1,     30,     30,2,20070416,0526,  4.6543,  90.7628, 3225, 204.1000,    204.1,  14.0966,  35.0604,2,  35.0626,2,     29.2,2,     28.2,2,    25.78,2,    29.14,2,     0.01,2,     2.08,2, -999.000,9, -999.000,9, -999.000,9,   -999.0,9,   -999.0,9,-999.0000,9,  -999.00,   -999.0,9,  -999.00,9, -999.000,9, -999.000,-999.0000,9,-999.0000,  -999.00,9,  -999.00, -999.000,9, -999.000,   -999.0,9,   -999.0,  -999.00,9,-999.0000,9,-999.0000,9,-999.0000,9,-999.0000,9,-999.0000,9,-999.0000,9,-999.0000,9,-999.0000,9,-999.0000,9,  14.0669,  14.1058,2
  33RR20070322,  I09N,   158,  1,     29,     29,2,20070416,0526,  4.6543,  90.7628, 3225, 254.2000,    254.2,  12.8585,  35.0774,2,  35.0768,2,     34.1,2,     33.4,2,    27.15,2,    29.69,2,     0.00,2,     2.11,2,    0.906,2,    0.514,2, -999.000,5,   2233.9,2,   2315.0,6,   7.5455,2,    25.00,   -999.0,9,  -999.00,9, -999.000,9, -999.000,-999.0000,9,-999.0000,  -999.00,9,  -999.00, -999.000,9, -999.000,   -999.0,9,   -999.0,  -999.00,9,-999.0000,9,-999.0000,9,-999.0000,9,-999.0000,9,-999.0000,9,-999.0000,9,-999.0000,9,-999.0000,9,-999.0000,9,  12.8237,  12.8539,2
  33RR20070322,  I09N,   158,  1,     28,     28,2,20070416,0526,  4.6543,  90.7628, 3225, 303.8000,    303.8,  12.0591,  35.0814,2,  35.0813,2,     32.4,2,     32.6,2,    29.50,2,    30.77,2,     0.00,2,     2.18,2, -999.000,9, -999.000,9, -999.000,9,   -999.0,9,   -999.0,9,-999.0000,9,  -999.00,   -999.0,9,  -999.00,9, -999.000,9, -999.000,-999.0000,9,-999.0000,  -999.00,9,  -999.00, -999.000,9, -999.000,   -999.0,9,   -999.0,  -999.00,9,-999.0000,9,-999.0000,9,-999.0000,9,-999.0000,9,-999.0000,9,-999.0000,9,-999.0000,9,-999.0000,9,-999.0000,9,  12.0191,  12.0596,2
  33RR20070322,  I09N,   158,  1,     27,     27,2,20070416,0526,  4.6543,  90.7628, 3225, 354.1000,    354.1,  11.5493,  35.0720,2,  35.0707,2,     34.0,2,     30.4,2,    31.86,2,    31.69,2,     0.00,2,     2.24,2,    0.689,2,    0.385,2, -999.000,5,   -999.0,9,   -999.0,9,-999.0000,9,  -999.00,   -999.0,9,  -999.00,9, -999.000,9, -999.000,-999.0000,9,-999.0000,  -999.00,9,  -999.00, -999.000,9, -999.000,   -999.0,9,   -999.0,  -999.00,9,-999.0000,9,-999.0000,9,-999.0000,9,-999.0000,9,-999.0000,9,-999.0000,9,-999.0000,9,-999.0000,9,-999.0000,9,  11.5039,  11.5517,2
  33RR20070322,  I09N,   158,  1,     26,     26,2,20070416,0526,  4.6543,  90.7628, 3225, 403.6000,    403.6,  11.1590,  35.0641,2,  35.0640,2,     35.1,2,     34.8,2,    32.83,2,    31.95,2,     0.00,2,     2.25,2, -999.000,9, -999.000,9, -999.000,9,   -999.0,9,   -999.0,9,-999.0000,9,  -999.00,   -999.0,9,  -999.00,9, -999.000,9, -999.000,-999.0000,9,-999.0000,  -999.00,9,  -999.00, -999.000,9, -999.000,   -999.0,9,   -999.0,  -999.00,9,-999.0000,9,-999.0000,9,-999.0000,9,-999.0000,9,-999.0000,9,-999.0000,9,-999.0000,9,-999.0000,9,-999.0000,9,  11.1083,  11.1557,2
  33RR20070322,  I09N,   158,  1,     25,     25,2,20070416,0526,  4.6543,  90.7628, 3225, 454.1000,    454.1,  10.7285,  35.0569,2,  35.0569,2,     27.0,2,     26.6,2,    37.38,2,    33.43,2,     0.00,2,     2.36,2,    0.436,2,    0.251,2, -999.000,5,   -999.0,9,   -999.0,9,-999.0000,9,  -999.00,   -999.0,9,  -999.00,9, -999.000,9, -999.000,-999.0000,9,-999.0000,  -999.00,9,  -999.00, -999.000,9, -999.000,   -999.0,9,   -999.0,  -999.00,9,-999.0000,9,-999.0000,9,-999.0000,9,-999.0000,9,-999.0000,9,-999.0000,9,-999.0000,9,-999.0000,9,-999.0000,9,  10.6727,  10.7282,2
  33RR20070322,  I09N,   158,  1,     24,     24,2,20070416,0526,  4.6543,  90.7628, 3225, 504.1000,    504.1,  10.1338,  35.0360,2,  35.0374,2,     37.9,2,     38.2,2,    39.94,2,    33.22,2,     0.00,2,     2.37,2, -999.000,9, -999.000,9, -999.000,9,   2257.4,2,   2326.9,2,   7.4848,2,    25.00,   -999.0,9,  -999.00,9, -999.000,9, -999.000,-999.0000,9,-999.0000,  -999.00,9,  -999.00, -999.000,9, -999.000,   -999.0,9,   -999.0,  -999.00,9,-999.0000,9,-999.0000,9,-999.0000,9,-999.0000,9,-999.0000,9,-999.0000,9,-999.0000,9,-999.0000,9,-999.0000,9,  10.0739,  10.1377,2
  33RR20070322,  I09N,   158,  1,     23,     23,2,20070416,0526,  4.6543,  90.7628, 3225, 604.1000,    604.1,   9.4510,  35.0261,2,  35.0270,2,     38.5,2,     38.0,2,    47.46,2,    34.25,2,     0.00,2,     2.48,2,    0.204,2,    0.120,2, -999.000,5,   -999.0,9,   -999.0,9,-999.0000,9,  -999.00,   -999.0,9,  -999.00,9, -999.000,9, -999.000,-999.0000,9,-999.0000,  -999.00,9,  -999.00, -999.000,9, -999.000,   -999.0,9,   -999.0,  -999.00,9,-999.0000,9,-999.0000,9,-999.0000,9,-999.0000,9,-999.0000,9,-999.0000,9,-999.0000,9,-999.0000,9,-999.0000,9,   9.3818,   9.4503,2
  33RR20070322,  I09N,   158,  1,     22,     22,2,20070416,0526,  4.6543,  90.7628, 3225, 704.0000,    704.0,   8.9589,  35.0215,2,  35.0236,2,     30.5,2,     30.5,2,    55.59,2,    35.59,2,     0.00,2,     2.61,2, -999.000,9, -999.000,9, -999.000,9,   -999.0,9,   -999.0,9,-999.0000,9,  -999.00,   -999.0,9,  -999.00,9, -999.000,9, -999.000,-999.0000,9,-999.0000,  -999.00,9,  -999.00, -999.000,9, -999.000,   -999.0,9,   -999.0,  -999.00,9,-999.0000,9,-999.0000,9,-999.0000,9,-999.0000,9,-999.0000,9,-999.0000,9,-999.0000,9,-999.0000,9,-999.0000,9,   8.8804,   8.9585,2
  33RR20070322,  I09N,   158,  1,     21,     21,2,20070416,0526,  4.6543,  90.7628, 3225, 805.0000,    805.0,   8.0974,  34.9916,2,  34.9925,2,     33.5,2,     33.0,2,    66.54,2,    36.52,2,     0.00,2,     2.69,2,    0.049,2,    0.032,2, -999.000,5,   -999.0,9,   -999.0,9,-999.0000,9,  -999.00,   -999.0,9,  -999.00,9, -999.000,9, -999.000,-999.0000,9,-999.0000,  -999.00,9,  -999.00, -999.000,9, -999.000,   -999.0,9,   -999.0,  -999.00,9,-999.0000,9,-999.0000,9,-999.0000,9,-999.0000,9,-999.0000,9,-999.0000,9,-999.0000,9,-999.0000,9,-999.0000,9,   8.0122,   8.1054,2
  33RR20070322,  I09N,   158,  1,     20,     20,2,20070416,0526,  4.6543,  90.7628, 3225, 905.0000,    905.0,   7.3426,  34.9634,2,  34.9642,2,     45.3,2,     45.2,2,    74.51,2,    36.31,2,     0.00,2,     2.68,2, -999.000,9, -999.000,9, -999.000,9,   -999.0,9,   -999.0,9,-999.0000,9,  -999.00,   -999.0,9,  -999.00,9, -999.000,9, -999.000,-999.0000,9,-999.0000,  -999.00,9,  -999.00, -999.000,9, -999.000,   -999.0,9,   -999.0,  -999.00,9,-999.0000,9,-999.0000,9,-999.0000,9,-999.0000,9,-999.0000,9,-999.0000,9,-999.0000,9,-999.0000,9,-999.0000,9,   7.2513,   7.3388,2
  33RR20070322,  I09N,   158,  1,     19,     19,2,20070416,0526,  4.6543,  90.7628, 3225,1005.0000,   1005.0,   6.7226,  34.9395,2,  34.9406,2,     52.4,2,     51.5,2,    81.67,2,    36.62,2,     0.00,2,     2.69,2,    0.034,2,    0.025,2, -999.000,5,   2304.7,2,   2360.9,2,   7.4785,2,    25.00,   -999.0,9,  -999.00,9, -999.000,9, -999.000,-999.0000,9,-999.0000,  -999.00,9,  -999.00, -999.000,9, -999.000,   -999.0,9,   -999.0,  -999.00,9,-999.0000,9,-999.0000,9,-999.0000,9,-999.0000,9,-999.0000,9,-999.0000,9,-999.0000,9,-999.0000,9,-999.0000,9,   6.6252,   6.7225,2
  33RR20070322,  I09N,   158,  1,     18,     18,2,20070416,0526,  4.6543,  90.7628, 3225,1105.5000,   1105.5,   6.2088,  34.9153,2,  34.9150,2,     59.4,2,     59.6,2,    88.07,2,    36.51,2,     0.00,2,     2.68,2, -999.000,9, -999.000,9, -999.000,9,   -999.0,9,   -999.0,9,-999.0000,9,  -999.00,   -999.0,9,  -999.00,9, -999.000,9, -999.000,-999.0000,9,-999.0000,  -999.00,9,  -999.00, -999.000,9, -999.000,   -999.0,9,   -999.0,  -999.00,9,-999.0000,9,-999.0000,9,-999.0000,9,-999.0000,9,-999.0000,9,-999.0000,9,-999.0000,9,-999.0000,9,-999.0000,9,   6.1051,   6.2087,2
  33RR20070322,  I09N,   158,  1,     17,     17,2,20070416,0526,  4.6543,  90.7628, 3225,1206.0000,   1206.0,   5.7354,  34.8956,2,  34.8963,2,     65.1,2,     66.1,2,    93.06,2,    36.50,2,     0.00,2,     2.69,2, -999.000,9, -999.000,9, -999.000,9,   -999.0,9,   -999.0,9,-999.0000,9,  -999.00,   -999.0,9,  -999.00,9, -999.000,9, -999.000,-999.0000,9,-999.0000,  -999.00,9,  -999.00, -999.000,9, -999.000,   -999.0,9,   -999.0,  -999.00,9,-999.0000,9,-999.0000,9,-999.0000,9,-999.0000,9,-999.0000,9,-999.0000,9,-999.0000,9,-999.0000,9,-999.0000,9,   5.6257,   5.7350,2
  33RR20070322,  I09N,   158,  1,     16,     16,2,20070416,0526,  4.6543,  90.7628, 3225,1307.4000,   1307.4,   5.3359,  34.8801,2,  34.8808,2,     70.7,2,     71.7,2,    97.45,2,    36.60,2,     0.00,2,     2.68,2, -999.000,9, -999.000,9, -999.000,9,   -999.0,9,   -999.0,9,-999.0000,9,  -999.00,   -999.0,9,  -999.00,9, -999.000,9, -999.000,-999.0000,9,-999.0000,  -999.00,9,  -999.00, -999.000,9, -999.000,   -999.0,9,   -999.0,  -999.00,9,-999.0000,9,-999.0000,9,-999.0000,9,-999.0000,9,-999.0000,9,-999.0000,9,-999.0000,9,-999.0000,9,-999.0000,9,   5.2200,   5.3339,2
  33RR20070322,  I09N,   158,  1,     15,     15,2,20070416,0526,  4.6543,  90.7628, 3225,1407.4000,   1407.4,   5.0256,  34.8714,2,  34.8721,2,     74.0,2,     73.9,2,   100.84,2,    36.87,2,     0.00,2,     2.71,2, -999.000,9, -999.000,9, -999.000,9,   -999.0,9,   -999.0,9,-999.0000,9,  -999.00,   -999.0,9,  -999.00,9, -999.000,9, -999.000,-999.0000,9,-999.0000,  -999.00,9,  -999.00, -999.000,9, -999.000,   -999.0,9,   -999.0,  -999.00,9,-999.0000,9,-999.0000,9,-999.0000,9,-999.0000,9,-999.0000,9,-999.0000,9,-999.0000,9,-999.0000,9,-999.0000,9,   4.9031,   5.0255,2
  33RR20070322,  I09N,   158,  1,     14,     14,2,20070416,0526,  4.6543,  90.7628, 3225,1507.2000,   1507.2,   4.4932,  34.8520,2,  34.8519,2,     82.2,2,     82.3,2,   106.86,2,    36.86,2,     0.00,2,     2.70,2, -999.000,9, -999.000,9, -999.000,9,   -999.0,9,   -999.0,9,-999.0000,9,  -999.00,   -999.0,9,  -999.00,9, -999.000,9, -999.000,-999.0000,9,-999.0000,  -999.00,9,  -999.00, -999.000,9, -999.000,   -999.0,9,   -999.0,  -999.00,9,-999.0000,9,-999.0000,9,-999.0000,9,-999.0000,9,-999.0000,9,-999.0000,9,-999.0000,9,-999.0000,9,-999.0000,9,   4.3670,   4.4931,2
  33RR20070322,  I09N,   158,  1,     13,     13,2,20070416,0526,  4.6543,  90.7628, 3225,1608.1000,   1608.1,   4.0750,  34.8353,2,  34.8359,2,     89.3,2,     89.0,2,   111.48,2,    36.70,2,     0.00,2,     2.68,2, -999.000,9, -999.000,9, -999.000,9,   -999.0,9,   -999.0,9,-999.0000,9,  -999.00,   -999.0,9,  -999.00,9, -999.000,9, -999.000,-999.0000,9,-999.0000,  -999.00,9,  -999.00, -999.000,9, -999.000,   -999.0,9,   -999.0,  -999.00,9,-999.0000,9,-999.0000,9,-999.0000,9,-999.0000,9,-999.0000,9,-999.0000,9,-999.0000,9,-999.0000,9,-999.0000,9,   3.9443,   4.0793,2
  33RR20070322,  I09N,   158,  1,     12,     12,2,20070416,0526,  4.6543,  90.7628, 3225,1709.1000,   1709.1,   3.5756,  34.8162,2,  34.8167,2,    100.8,2,     99.2,2,   116.91,2,    36.44,2,     0.00,2,     2.66,2, -999.000,9, -999.000,9, -999.000,9,   2324.4,2,   2392.1,6,   7.5158,2,    25.00,   -999.0,9,  -999.00,9, -999.000,9, -999.000,-999.0000,9,-999.0000,  -999.00,9,  -999.00, -999.000,9, -999.000,   -999.0,9,   -999.0,  -999.00,9,-999.0000,9,-999.0000,9,-999.0000,9,-999.0000,9,-999.0000,9,-999.0000,9,-999.0000,9,-999.0000,9,-999.0000,9,   3.4419,   3.5745,2
  33RR20070322,  I09N,   158,  1,     11,     11,2,20070416,0526,  4.6543,  90.7628, 3225,1809.8000,   1809.8,   2.9846,  34.7902,2,  34.7905,2,    113.9,2,    114.6,2,   121.94,2,    35.92,2,     0.00,2,     2.60,2, -999.000,9, -999.000,9, -999.000,9,   -999.0,9,   -999.0,9,-999.0000,9,  -999.00,   -999.0,9,  -999.00,9, -999.000,9, -999.000,-999.0000,9,-999.0000,  -999.00,9,  -999.00, -999.000,9, -999.000,   -999.0,9,   -999.0,  -999.00,9,-999.0000,9,-999.0000,9,-999.0000,9,-999.0000,9,-999.0000,9,-999.0000,9,-999.0000,9,-999.0000,9,-999.0000,9,   2.8498,   2.9829,2
  33RR20070322,  I09N,   158,  1,     10,     10,2,20070416,0526,  4.6543,  90.7628, 3225,1910.0000,   1910.0,   2.8577,  34.7846,2,  34.7850,2,    117.1,2,    117.3,2,   123.94,2,    35.86,2,     0.00,2,     2.60,2, -999.000,9, -999.000,9, -999.000,9,   -999.0,9,   -999.0,9,-999.0000,9,  -999.00,   -999.0,9,  -999.00,9, -999.000,9, -999.000,-999.0000,9,-999.0000,  -999.00,9,  -999.00, -999.000,9, -999.000,   -999.0,9,   -999.0,  -999.00,9,-999.0000,9,-999.0000,9,-999.0000,9,-999.0000,9,-999.0000,9,-999.0000,9,-999.0000,9,-999.0000,9,-999.0000,9,   2.7158,   2.8576,2
  33RR20070322,  I09N,   158,  1,      9,      9,2,20070416,0526,  4.6543,  90.7628, 3225,2010.4000,   2010.4,   2.7060,  34.7775,2,  34.7775,2,    120.9,2,    121.2,2,   125.94,2,    35.71,2,     0.00,2,     2.58,2, -999.000,9, -999.000,9, -999.000,9,   -999.0,9,   -999.0,9,-999.0000,9,  -999.00,   -999.0,9,  -999.00,9, -999.000,9, -999.000,-999.0000,9,-999.0000,  -999.00,9,  -999.00, -999.000,9, -999.000,   -999.0,9,   -999.0,  -999.00,9,-999.0000,9,-999.0000,9,-999.0000,9,-999.0000,9,-999.0000,9,-999.0000,9,-999.0000,9,-999.0000,9,-999.0000,9,   2.5574,   2.7061,2
  33RR20070322,  I09N,   158,  1,      8,      8,2,20070416,0526,  4.6543,  90.7628, 3225,2262.3000,   2262.3,   2.3150,  34.7599,2,  34.7600,2,    132.5,2,    132.1,2,   130.18,2,    35.34,2,     0.00,2,     2.53,2, -999.000,9, -999.000,9, -999.000,9,   -999.0,9,   -999.0,9,-999.0000,9,  -999.00,   -999.0,9,  -999.00,9, -999.000,9, -999.000,-999.0000,9,-999.0000,  -999.00,9,  -999.00, -999.000,9, -999.000,   -999.0,9,   -999.0,  -999.00,9,-999.0000,9,-999.0000,9,-999.0000,9,-999.0000,9,-999.0000,9,-999.0000,9,-999.0000,9,-999.0000,9,-999.0000,9,   2.1502,   2.3149,2
  33RR20070322,  I09N,   158,  1,      7,      7,2,20070416,0526,  4.6543,  90.7628, 3225,2516.1000,   2516.1,   1.9664,  34.7444,2,  34.7447,2,    145.5,2,    145.6,2,   131.79,2,    34.77,2,     0.00,2,     2.46,2, -999.000,9, -999.000,9, -999.000,9,   2319.8,2,   2408.4,2,   7.5712,2,    25.00,   -999.0,9,  -999.00,9, -999.000,9, -999.000,-999.0000,9,-999.0000,  -999.00,9,  -999.00, -999.000,9, -999.000,   -999.0,9,   -999.0,  -999.00,9,-999.0000,9,-999.0000,9,-999.0000,9,-999.0000,9,-999.0000,9,-999.0000,9,-999.0000,9,-999.0000,9,-999.0000,9,   1.7849,   1.9661,2
  33RR20070322,  I09N,   158,  1,      6,      6,2,20070416,0526,  4.6543,  90.7628, 3225,2768.1000,   2768.1,   1.8402,  34.7389,2,  34.7388,2,    149.7,2,    149.7,2,   133.58,2,    34.61,2,     0.00,2,     2.44,2, -999.000,9, -999.000,9, -999.000,9,   -999.0,9,   -999.0,9,-999.0000,9,  -999.00,   -999.0,9,  -999.00,9, -999.000,9, -999.000,-999.0000,9,-999.0000,  -999.00,9,  -999.00, -999.000,9, -999.000,   -999.0,9,   -999.0,  -999.00,9,-999.0000,9,-999.0000,9,-999.0000,9,-999.0000,9,-999.0000,9,-999.0000,9,-999.0000,9,-999.0000,9,-999.0000,9,   1.6378,   1.8408,2
  33RR20070322,  I09N,   158,  1,      5,      5,2,20070416,0526,  4.6543,  90.7628, 3225,2869.6000,   2869.6,   1.7992,  34.7369,2,  34.7376,2,    151.6,2,    151.9,2,   133.96,2,    34.60,2,     0.00,2,     2.44,2, -999.000,9, -999.000,9, -999.000,9,   -999.0,9,   -999.0,9,-999.0000,9,  -999.00,   -999.0,9,  -999.00,9, -999.000,9, -999.000,-999.0000,9,-999.0000,  -999.00,9,  -999.00, -999.000,9, -999.000,   -999.0,9,   -999.0,  -999.00,9,-999.0000,9,-999.0000,9,-999.0000,9,-999.0000,9,-999.0000,9,-999.0000,9,-999.0000,9,-999.0000,9,-999.0000,9,   1.5880,   1.7985,2