BOTTLE,20150630SIOCCHRJL
EXPOCODE,SECT_ID,STNNBR,CASTNO,SAMPNO,BTLNBR,BTLNBR_FLAG_W,DATE,TIME,LATITUDE,LONGITUDE,DEPTH,CTDRAW,CTDPRS,CTDTMP,CTDSAL,CTDSAL_FLAG_W,SALNTY,SALNTY_FLAG_W,CTDOXY,CTDOXY_FLAG_W,OXYGEN,OXYGEN_FLAG_W,SILCAT,SILCAT_FLAG_W,NITRAT,NITRAT_FLAG_W,NITRIT,NITRIT_FLAG_W,PHSPHT,PHSPHT_FLAG_W,CFC-11,CFC-11_FLAG_W,CFC-12,CFC-12_FLAG_W,CFC113,CFC113_FLAG_W,TCARBN,TCARBN_FLAG_W,ALKALI,ALKALI_FLAG_W,PH_SWS,PH_SWS_FLAG_W,PH_TMP,DOC,DOC_FLAG_W,TDN,TDN_FLAG_W,TRITUM,TRITUM_FLAG_W,TRITER,HELIUM,HELIUM_FLAG_W,HELIER,DELHE3,DELHE3_FLAG_W,DELHER,NEON,NEON_FLAG_W,NEONER,DELC14,DELC14_FLAG_W,C14ERR,DELC13,DELC13_FLAG_W,CDOM325,CDOM325_FLAG_W,CDOM340,CDOM340_FLAG_W,CDOM380,CDOM380_FLAG_W,CDOM412,CDOM412_FLAG_W,CDOM443,CDOM443_FLAG_W,CDOM490,CDOM490_FLAG_W,CDOM555,CDOM555_FLAG_W,CDOMSL,CDOMSL_FLAG_W,CDOMSN,CDOMSN_FLAG_W,THETA,SBE35,SBE35_FLAG_W
,,,,,,,,,,,METERS,,DBAR,ITS-90,PSS-78,,PSS-78,,UMOL/KG,,UMOL/KG,,UMOL/KG,,UMOL/KG,,UMOL/KG,,UMOL/KG,,PMOL/KG,,PMOL/KG,,PMOL/KG,,UMOL/KG,,UMOL/KG,,,,DEG C,UMOL/KG,,UMOL/KG,,TU,,TU,NMOL/KG,,NMOL/KG,PERCNT,,PERCNT,NMOL/KG,,NMOL/KG,/MILLE,,/MILLE,/MILLE,,1/M,,1/M,,1/M,,1/M,,1/M,,1/M,,1/M,,1/NM,,1/NM,,DEG C,ITS-90,
  33RR20070322,  I09N,   116,  2,     36,     38,2,20070404,0717,-13.0168,  94.9988, 4090,   2.7000,      2.7,  27.8269,  34.7339,2,  34.7331,2,    199.9,2,    200.2,2,     2.88,2,     0.00,2,     0.00,2,     0.07,2,    1.583,2,    1.018,2, -999.000,5,   1949.0,6,   2282.4,3,   8.0746,6,    25.00,   -999.0,9,  -999.00,9, -999.000,9, -999.000,-999.0000,9,-999.0000,  -999.00,9,  -999.00, -999.000,9, -999.000,   -999.0,9,   -999.0,  -999.00,9,-999.0000,9,-999.0000,9,-999.0000,9,-999.0000,9,-999.0000,9,-999.0000,9,-999.0000,9,-999.0000,9,-999.0000,9,  27.8263,  27.8220,2
  33RR20070322,  I09N,   116,  2,     35,     35,2,20070404,0717,-13.0168,  94.9988, 4090,  29.9000,     29.9,  27.4872,  34.8246,2,  34.8251,2,    201.4,2,    202.5,2,     2.87,2,     0.00,2,     0.00,2,     0.06,2,    1.601,2,    1.019,2, -999.000,5,   -999.0,9,   -999.0,9,-999.0000,9,  -999.00,   -999.0,9,  -999.00,9, -999.000,9, -999.000,-999.0000,9,-999.0000,  -999.00,9,  -999.00, -999.000,9, -999.000,   -999.0,9,   -999.0,  -999.00,9,-999.0000,9,-999.0000,9,-999.0000,9,-999.0000,9,-999.0000,9,-999.0000,9,-999.0000,9,-999.0000,9,-999.0000,9,  27.4803,  27.4859,2
  33RR20070322,  I09N,   116,  2,     34,   9419,2,20070404,0717,-13.0168,  94.9988, 4090,  54.8000,     54.8,  24.3399,  34.8741,2,  34.8794,2,    210.7,2,    208.0,2,     3.85,2,     0.00,2,     0.00,2,     0.12,2,    1.822,2,    1.144,2, -999.000,5,   -999.0,9,   -999.0,9,-999.0000,9,  -999.00,   -999.0,9,  -999.00,9, -999.000,9, -999.000,-999.0000,9,-999.0000,  -999.00,9,  -999.00, -999.000,9, -999.000,   -999.0,9,   -999.0,  -999.00,9,-999.0000,9,-999.0000,9,-999.0000,9,-999.0000,9,-999.0000,9,-999.0000,9,-999.0000,9,-999.0000,9,-999.0000,9,  24.3283,  24.3990,2
  33RR20070322,  I09N,   116,  2,     33,     33,2,20070404,0717,-13.0168,  94.9988, 4090,  79.3000,     79.3,  22.7464,  35.0941,2,  35.0897,2,    194.2,2,    188.8,2,     5.42,2,     2.37,2,     0.20,2,     0.27,2,    1.889,2,    1.178,2, -999.000,5,   -999.0,9,   -999.0,9,-999.0000,9,  -999.00,   -999.0,9,  -999.00,9, -999.000,9, -999.000,-999.0000,9,-999.0000,  -999.00,9,  -999.00, -999.000,9, -999.000,   -999.0,9,   -999.0,  -999.00,9,-999.0000,9,-999.0000,9,-999.0000,9,-999.0000,9,-999.0000,9,-999.0000,9,-999.0000,9,-999.0000,9,-999.0000,9,  22.7303,  22.7384,2
  33RR20070322,  I09N,   116,  2,     32,     37,2,20070404,0717,-13.0168,  94.9988, 4090, 104.8000,    104.8,  21.6647,  35.3372,2,  35.3357,2,    192.6,2,    194.6,2,     4.44,2,     1.40,2,     0.19,2,     0.22,2,    1.986,2,    1.239,2, -999.000,5,   -999.0,9,   -999.0,9,-999.0000,9,  -999.00,   -999.0,9,  -999.00,9, -999.000,9, -999.000,-999.0000,9,-999.0000,  -999.00,9,  -999.00, -999.000,9, -999.000,   -999.0,9,   -999.0,  -999.00,9,-999.0000,9,-999.0000,9,-999.0000,9,-999.0000,9,-999.0000,9,-999.0000,9,-999.0000,9,-999.0000,9,-999.0000,9,  21.6442,  21.6636,2
  33RR20070322,  I09N,   116,  2,     31,     31,2,20070404,0717,-13.0168,  94.9988, 4090, 154.6000,    154.6,  18.3980,  35.1411,2,  35.1406,2,    137.7,2,    139.1,2,    14.23,2,    11.54,2,     0.01,2,     0.84,2,    1.853,2,    1.129,2, -999.000,5,   -999.0,9,   -999.0,9,-999.0000,9,  -999.00,   -999.0,9,  -999.00,9, -999.000,9, -999.000,-999.0000,9,-999.0000,  -999.00,9,  -999.00, -999.000,9, -999.000,   -999.0,9,   -999.0,  -999.00,9,-999.0000,9,-999.0000,9,-999.0000,9,-999.0000,9,-999.0000,9,-999.0000,9,-999.0000,9,-999.0000,9,-999.0000,9,  18.3710,  18.3962,2
  33RR20070322,  I09N,   116,  2,     30,     30,2,20070404,0717,-13.0168,  94.9988, 4090, 204.6000,    204.6,  15.1493,  35.0263,2,  35.0323,2,    129.6,2,    129.4,2,    21.69,2,    16.41,2,     0.01,2,     1.18,2,    1.750,2,    1.021,2, -999.000,5,   -999.0,9,   -999.0,9,-999.0000,9,  -999.00,   -999.0,9,  -999.00,9, -999.000,9, -999.000,-999.0000,9,-999.0000,  -999.00,9,  -999.00, -999.000,9, -999.000,   -999.0,9,   -999.0,  -999.00,9,-999.0000,9,-999.0000,9,-999.0000,9,-999.0000,9,-999.0000,9,-999.0000,9,-999.0000,9,-999.0000,9,-999.0000,9,  15.1181,  15.1724,2
  33RR20070322,  I09N,   116,  2,     29,     29,2,20070404,0717,-13.0168,  94.9988, 4090, 254.3000,    254.3,  12.1058,  34.8121,2,  34.8272,2,    116.2,2,    117.1,2,    30.70,2,    22.00,2,     0.00,2,     1.57,2,    1.514,2,    0.864,2, -999.000,5,   2176.5,2,   2310.7,6,-999.0000,5,    25.00,   -999.0,9,  -999.00,9, -999.000,9, -999.000,-999.0000,9,-999.0000,  -999.00,9,  -999.00, -999.000,9, -999.000,   -999.0,9,   -999.0,  -999.00,9,-999.0000,9,-999.0000,9,-999.0000,9,-999.0000,9,-999.0000,9,-999.0000,9,-999.0000,9,-999.0000,9,-999.0000,9,  12.0724,  12.1283,2
  33RR20070322,  I09N,   116,  2,     28,     28,2,20070404,0717,-13.0168,  94.9988, 4090, 304.5000,    304.5,  11.0873,  34.8513,2,  34.8485,2,    125.9,2,    131.6,2,    27.96,2,    22.06,2,     0.00,2,     1.57,2,    1.721,2,    0.953,2, -999.000,5,   -999.0,9,   -999.0,9,-999.0000,9,  -999.00,   -999.0,9,  -999.00,9, -999.000,9, -999.000,-999.0000,9,-999.0000,  -999.00,9,  -999.00, -999.000,9, -999.000,   -999.0,9,   -999.0,  -999.00,9,-999.0000,9,-999.0000,9,-999.0000,9,-999.0000,9,-999.0000,9,-999.0000,9,-999.0000,9,-999.0000,9,-999.0000,9,  11.0494,  11.0730,2
  33RR20070322,  I09N,   116,  2,     27,     27,2,20070404,0717,-13.0168,  94.9988, 4090, 355.0000,    355.0,  10.3400,  34.8288,2,  34.8310,2,    151.6,2,    159.1,2,    22.08,2,    20.78,2,     0.00,2,     1.48,2,    2.134,2,    1.167,2, -999.000,5,   -999.0,9,   -999.0,9,-999.0000,9,  -999.00,   -999.0,9,  -999.00,9, -999.000,9, -999.000,-999.0000,9,-999.0000,  -999.00,9,  -999.00, -999.000,9, -999.000,   -999.0,9,   -999.0,  -999.00,9,-999.0000,9,-999.0000,9,-999.0000,9,-999.0000,9,-999.0000,9,-999.0000,9,-999.0000,9,-999.0000,9,-999.0000,9,  10.2977,  10.3381,2
  33RR20070322,  I09N,   116,  2,     26,     26,2,20070404,0717,-13.0168,  94.9988, 4090, 405.1000,    405.1,   9.5897,  34.7547,2,  34.7548,2,    174.9,2,    173.8,2,    19.33,2,    21.09,2,     0.00,2,     1.49,2,    2.361,2,    1.238,2, -999.000,5,   -999.0,9,   -999.0,9,-999.0000,9,  -999.00,   -999.0,9,  -999.00,9, -999.000,9, -999.000,-999.0000,9,-999.0000,  -999.00,9,  -999.00, -999.000,9, -999.000,   -999.0,9,   -999.0,  -999.00,9,-999.0000,9,-999.0000,9,-999.0000,9,-999.0000,9,-999.0000,9,-999.0000,9,-999.0000,9,-999.0000,9,-999.0000,9,   9.5435,   9.5871,2
  33RR20070322,  I09N,   116,  2,     25,     25,2,20070404,0717,-13.0168,  94.9988, 4090, 455.9000,    455.9,   8.8688,  34.6841,2,  34.6873,2,    159.9,2,    163.8,2,    23.06,2,    23.72,2,     0.00,2,     1.66,2,    1.976,2,    1.021,2, -999.000,5,   -999.0,9,   -999.0,9,-999.0000,9,  -999.00,   -999.0,9,  -999.00,9, -999.000,9, -999.000,-999.0000,9,-999.0000,  -999.00,9,  -999.00, -999.000,9, -999.000,   -999.0,9,   -999.0,  -999.00,9,-999.0000,9,-999.0000,9,-999.0000,9,-999.0000,9,-999.0000,9,-999.0000,9,-999.0000,9,-999.0000,9,-999.0000,9,   8.8192,   8.8788,2
  33RR20070322,  I09N,   116,  2,     24,     24,2,20070404,0717,-13.0168,  94.9988, 4090, 505.0000,    505.0,   8.3456,  34.6626,2,  34.6629,2,    136.2,2,    128.5,2,    35.03,2,    28.41,2,     0.00,2,     2.00,2,    1.003,2,    0.519,2, -999.000,5,   2204.3,2,   2311.4,2,   7.6145,2,    25.00,   -999.0,9,  -999.00,9, -999.000,9, -999.000,-999.0000,9,-999.0000,  -999.00,9,  -999.00, -999.000,9, -999.000,   -999.0,9,   -999.0,  -999.00,9,-999.0000,9,-999.0000,9,-999.0000,9,-999.0000,9,-999.0000,9,-999.0000,9,-999.0000,9,-999.0000,9,-999.0000,9,   8.2924,   8.3484,2
  33RR20070322,  I09N,   116,  2,     23,     23,2,20070404,0717,-13.0168,  94.9988, 4090, 606.0000,    606.0,   7.4246,  34.6596,2,  34.6603,2,     91.8,2,     86.8,2,    59.41,2,    33.70,2,     0.00,2,     2.42,2,    0.227,2,    0.128,2, -999.000,5,   -999.0,9,   -999.0,9,-999.0000,9,  -999.00,   -999.0,9,  -999.00,9, -999.000,9, -999.000,-999.0000,9,-999.0000,  -999.00,9,  -999.00, -999.000,9, -999.000,   -999.0,9,   -999.0,  -999.00,9,-999.0000,9,-999.0000,9,-999.0000,9,-999.0000,9,-999.0000,9,-999.0000,9,-999.0000,9,-999.0000,9,-999.0000,9,   7.3645,   7.4306,2
  33RR20070322,  I09N,   116,  2,     22,     22,2,20070404,0717,-13.0168,  94.9988, 4090, 655.3000,    655.3,   7.0644,  34.6538,2,  34.6534,2,     84.0,2,     82.6,2,    66.50,2,    34.65,2,     0.00,2,     2.48,2,    0.169,2,    0.097,2, -999.000,5,   -999.0,9,   -999.0,9,-999.0000,9,  -999.00,   -999.0,9,  -999.00,9, -999.000,9, -999.000,-999.0000,9,-999.0000,  -999.00,9,  -999.00, -999.000,9, -999.000,   -999.0,9,   -999.0,  -999.00,9,-999.0000,9,-999.0000,9,-999.0000,9,-999.0000,9,-999.0000,9,-999.0000,9,-999.0000,9,-999.0000,9,-999.0000,9,   7.0010,   7.0646,2
  33RR20070322,  I09N,   116,  2,     21,     21,2,20070404,0717,-13.0168,  94.9988, 4090, 704.8000,    704.8,   6.7643,  34.6575,2,  34.6574,2,     82.9,2,     82.3,2,    70.85,2,    35.01,2,     0.00,2,     2.53,2,    0.134,2,    0.078,2, -999.000,5,   -999.0,9,   -999.0,9,-999.0000,9,  -999.00,   -999.0,9,  -999.00,9, -999.000,9, -999.000,-999.0000,9,-999.0000,  -999.00,9,  -999.00, -999.000,9, -999.000,   -999.0,9,   -999.0,  -999.00,9,-999.0000,9,-999.0000,9,-999.0000,9,-999.0000,9,-999.0000,9,-999.0000,9,-999.0000,9,-999.0000,9,-999.0000,9,   6.6975,   6.7676,2
  33RR20070322,  I09N,   116,  2,     20,     20,2,20070404,0717,-13.0168,  94.9988, 4090, 805.5000,    805.5,   6.1537,  34.6460,2,  34.6454,2,     82.8,2,     82.9,2,    80.73,2,    35.65,2,     0.00,2,     2.59,2,    0.087,2,    0.037,2, -999.000,5,   -999.0,9,   -999.0,9,-999.0000,9,  -999.00,   -999.0,9,  -999.00,9, -999.000,9, -999.000,-999.0000,9,-999.0000,  -999.00,9,  -999.00, -999.000,9, -999.000,   -999.0,9,   -999.0,  -999.00,9,-999.0000,9,-999.0000,9,-999.0000,9,-999.0000,9,-999.0000,9,-999.0000,9,-999.0000,9,-999.0000,9,-999.0000,9,   6.0805,   6.1516,2
  33RR20070322,  I09N,   116,  2,     19,     19,2,20070404,0717,-13.0168,  94.9988, 4090, 906.1000,    906.1,   5.5653,  34.6406,2,  34.6404,2,     85.5,2,     85.6,2,    88.85,2,    36.17,2,     0.00,2,     2.63,2,    0.054,2,    0.033,2, -999.000,5,   -999.0,9,   -999.0,9,-999.0000,9,  -999.00,   -999.0,9,  -999.00,9, -999.000,9, -999.000,-999.0000,9,-999.0000,  -999.00,9,  -999.00, -999.000,9, -999.000,   -999.0,9,   -999.0,  -999.00,9,-999.0000,9,-999.0000,9,-999.0000,9,-999.0000,9,-999.0000,9,-999.0000,9,-999.0000,9,-999.0000,9,-999.0000,9,   5.4863,   5.5665,2
  33RR20070322,  I09N,   116,  2,     18,     18,2,20070404,0717,-13.0168,  94.9988, 4090,1005.7000,   1005.7,   5.2175,  34.6442,2,  34.6438,2,     87.9,2,     87.4,2,    95.01,2,    36.33,2,     0.00,2,     2.65,2, -999.000,9, -999.000,9, -999.000,9,   -999.0,9,   -999.0,9,-999.0000,9,  -999.00,   -999.0,9,  -999.00,9, -999.000,9, -999.000,-999.0000,9,-999.0000,  -999.00,9,  -999.00, -999.000,9, -999.000,   -999.0,9,   -999.0,  -999.00,9,-999.0000,9,-999.0000,9,-999.0000,9,-999.0000,9,-999.0000,9,-999.0000,9,-999.0000,9,-999.0000,9,-999.0000,9,   5.1318,   5.2175,2
  33RR20070322,  I09N,   116,  2,     17,     17,2,20070404,0717,-13.0168,  94.9988, 4090,1106.8000,   1106.8,   4.7819,  34.6445,2,  34.6452,2,     92.0,2,     92.2,2,    99.78,2,    36.55,2,     0.00,2,     2.67,2,    0.029,2,    0.017,2, -999.000,5,   -999.0,9,   -999.0,9,-999.0000,9,  -999.00,   -999.0,9,  -999.00,9, -999.000,9, -999.000,-999.0000,9,-999.0000,  -999.00,9,  -999.00, -999.000,9, -999.000,   -999.0,9,   -999.0,  -999.00,9,-999.0000,9,-999.0000,9,-999.0000,9,-999.0000,9,-999.0000,9,-999.0000,9,-999.0000,9,-999.0000,9,-999.0000,9,   4.6904,   4.7807,2
  33RR20070322,  I09N,   116,  2,     16,     16,2,20070404,0717,-13.0168,  94.9988, 4090,1207.5000,   1207.5,   4.3482,  34.6526,2,  34.6524,2,     97.0,2,     96.8,2,   104.75,2,    36.60,2,     0.00,2,     2.68,2, -999.000,9, -999.000,9, -999.000,9,   -999.0,9,   -999.0,9,-999.0000,9,  -999.00,   -999.0,9,  -999.00,9, -999.000,9, -999.000,-999.0000,9,-999.0000,  -999.00,9,  -999.00, -999.000,9, -999.000,   -999.0,9,   -999.0,  -999.00,9,-999.0000,9,-999.0000,9,-999.0000,9,-999.0000,9,-999.0000,9,-999.0000,9,-999.0000,9,-999.0000,9,-999.0000,9,   4.2515,   4.3543,2
  33RR20070322,  I09N,   116,  2,     15,     15,2,20070404,0717,-13.0168,  94.9988, 4090,1309.0000,   1309.0,   4.0788,  34.6641,2,  34.6644,2,    100.9,2,    101.7,2,   107.34,2,    36.55,2,     0.00,2,     2.67,2,    0.013,2,    0.006,2, -999.000,5,   -999.0,9,   -999.0,9,-999.0000,9,  -999.00,   -999.0,9,  -999.00,9, -999.000,9, -999.000,-999.0000,9,-999.0000,  -999.00,9,  -999.00, -999.000,9, -999.000,   -999.0,9,   -999.0,  -999.00,9,-999.0000,9,-999.0000,9,-999.0000,9,-999.0000,9,-999.0000,9,-999.0000,9,-999.0000,9,-999.0000,9,-999.0000,9,   3.9756,   4.0796,2
  33RR20070322,  I09N,   116,  2,     14,     14,2,20070404,0717,-13.0168,  94.9988, 4090,1407.3000,   1407.3,   3.8533,  34.6838,2,  34.6833,2,    105.2,2,    105.1,2,   109.14,2,    36.50,2,     0.00,2,     2.66,2, -999.000,9, -999.000,9, -999.000,9,   -999.0,9,   -999.0,9,-999.0000,9,  -999.00,   -999.0,9,  -999.00,9, -999.000,9, -999.000,-999.0000,9,-999.0000,  -999.00,9,  -999.00, -999.000,9, -999.000,   -999.0,9,   -999.0,  -999.00,9,-999.0000,9,-999.0000,9,-999.0000,9,-999.0000,9,-999.0000,9,-999.0000,9,-999.0000,9,-999.0000,9,-999.0000,9,   3.7437,   3.8560,2
  33RR20070322,  I09N,   116,  2,     13,     13,2,20070404,0717,-13.0168,  94.9988, 4090,1508.4000,   1508.4,   3.5808,  34.7004,2,  34.6989,2,    111.1,2,    111.9,2,   111.14,2,    36.34,2,     0.00,2,     2.64,2,    0.006,2,    0.002,2, -999.000,5,   -999.0,9,   -999.0,9,-999.0000,9,  -999.00,   -999.0,9,  -999.00,9, -999.000,9, -999.000,-999.0000,9,-999.0000,  -999.00,9,  -999.00, -999.000,9, -999.000,   -999.0,9,   -999.0,  -999.00,9,-999.0000,9,-999.0000,9,-999.0000,9,-999.0000,9,-999.0000,9,-999.0000,9,-999.0000,9,-999.0000,9,-999.0000,9,   3.4653,   3.5817,2
  33RR20070322,  I09N,   116,  2,     12,     12,2,20070404,0717,-13.0168,  94.9988, 4090,1610.5000,   1610.5,   3.3182,  34.7186,2,  34.7184,2,    117.9,2,    118.6,2,   111.33,2,    36.03,2,     0.00,2,     2.61,2, -999.000,9, -999.000,9, -999.000,9,   -999.0,9,   -999.0,9,-999.0000,9,  -999.00,   -999.0,9,  -999.00,9, -999.000,9, -999.000,-999.0000,9,-999.0000,  -999.00,9,  -999.00, -999.000,9, -999.000,   -999.0,9,   -999.0,  -999.00,9,-999.0000,9,-999.0000,9,-999.0000,9,-999.0000,9,-999.0000,9,-999.0000,9,-999.0000,9,-999.0000,9,-999.0000,9,   3.1968,   3.3190,2
  33RR20070322,  I09N,   116,  2,     11,     11,2,20070404,0717,-13.0168,  94.9988, 4090,1711.1000,   1711.1,   3.0815,  34.7294,2,  34.7290,2,    124.6,2,    125.7,2,   112.33,2,    35.72,2,     0.00,2,     2.58,2, -999.000,9, -999.000,9, -999.000,9,   -999.0,9,   -999.0,9,-999.0000,9,  -999.00,   -999.0,9,  -999.00,9, -999.000,9, -999.000,-999.0000,9,-999.0000,  -999.00,9,  -999.00, -999.000,9, -999.000,   -999.0,9,   -999.0,  -999.00,9,-999.0000,9,-999.0000,9,-999.0000,9,-999.0000,9,-999.0000,9,-999.0000,9,-999.0000,9,-999.0000,9,-999.0000,9,   2.9542,   3.0813,2
  33RR20070322,  I09N,   116,  2,     10,     10,2,20070404,0717,-13.0168,  94.9988, 4090,1811.1000,   1811.1,   2.8992,  34.7332,2,  34.7329,2,    130.0,2,    131.0,2,   113.72,2,    35.46,2,     0.00,2,     2.55,2,    0.004,2,    0.001,2, -999.000,5,   -999.0,9,   -999.0,9,-999.0000,9,  -999.00,   -999.0,9,  -999.00,9, -999.000,9, -999.000,-999.0000,9,-999.0000,  -999.00,9,  -999.00, -999.000,9, -999.000,   -999.0,9,   -999.0,  -999.00,9,-999.0000,9,-999.0000,9,-999.0000,9,-999.0000,9,-999.0000,9,-999.0000,9,-999.0000,9,-999.0000,9,-999.0000,9,   2.7656,   2.9001,2
  33RR20070322,  I09N,   116,  2,      9,      9,2,20070404,0717,-13.0168,  94.9988, 4090,1911.4000,   1911.4,   2.7074,  34.7346,2,  34.7339,2,    136.0,2,    136.3,2,   115.13,2,    35.16,2,     0.00,2,     2.52,2, -999.000,9, -999.000,9, -999.000,9,   -999.0,9,   -999.0,9,-999.0000,9,  -999.00,   -999.0,9,  -999.00,9, -999.000,9, -999.000,-999.0000,9,-999.0000,  -999.00,9,  -999.00, -999.000,9, -999.000,   -999.0,9,   -999.0,  -999.00,9,-999.0000,9,-999.0000,9,-999.0000,9,-999.0000,9,-999.0000,9,-999.0000,9,-999.0000,9,-999.0000,9,-999.0000,9,   2.5677,   2.7071,2
  33RR20070322,  I09N,   116,  2,      8,      8,2,20070404,0717,-13.0168,  94.9988, 4090,2012.9000,   2012.9,   2.5355,  34.7350,2,  34.7347,2,    141.2,2,    141.3,2,   116.33,2,    34.95,2,     0.00,2,     2.50,2, -999.000,9, -999.000,9, -999.000,9,   -999.0,9,   -999.0,9,-999.0000,9,  -999.00,   -999.0,9,  -999.00,9, -999.000,9, -999.000,-999.0000,9,-999.0000,  -999.00,9,  -999.00, -999.000,9, -999.000,   -999.0,9,   -999.0,  -999.00,9,-999.0000,9,-999.0000,9,-999.0000,9,-999.0000,9,-999.0000,9,-999.0000,9,-999.0000,9,-999.0000,9,-999.0000,9,   2.3894,   2.5355,2
  33RR20070322,  I09N,   116,  2,      7,      7,2,20070404,0717,-13.0168,  94.9988, 4090,2265.4000,   2265.4,   2.1786,  34.7341,2,  34.7343,2,    153.3,2,    154.1,2,   118.93,2,    34.43,2,     0.00,2,     2.44,2,    0.004,2,    0.001,2, -999.000,5,   -999.0,9,   -999.0,9,-999.0000,9,  -999.00,   -999.0,9,  -999.00,9, -999.000,9, -999.000,-999.0000,9,-999.0000,  -999.00,9,  -999.00, -999.000,9, -999.000,   -999.0,9,   -999.0,  -999.00,9,-999.0000,9,-999.0000,9,-999.0000,9,-999.0000,9,-999.0000,9,-999.0000,9,-999.0000,9,-999.0000,9,-999.0000,9,   2.0159,   2.1803,2
  33RR20070322,  I09N,   116,  2,      6,      6,2,20070404,0717,-13.0168,  94.9988, 4090,2517.6000,   2517.6,   1.9387,  34.7327,2,  34.7319,2,    161.1,2,    161.1,2,   122.54,2,    34.01,2,     0.00,2,     2.42,2, -999.000,9, -999.000,9, -999.000,9,   -999.0,9,   -999.0,9,-999.0000,9,  -999.00,   -999.0,9,  -999.00,9, -999.000,9, -999.000,-999.0000,9,-999.0000,  -999.00,9,  -999.00, -999.000,9, -999.000,   -999.0,9,   -999.0,  -999.00,9,-999.0000,9,-999.0000,9,-999.0000,9,-999.0000,9,-999.0000,9,-999.0000,9,-999.0000,9,-999.0000,9,-999.0000,9,   1.7576,   1.9389,2
  33RR20070322,  I09N,   116,  2,      5,      5,2,20070404,0717,-13.0168,  94.9988, 4090,2770.6000,   2770.6,   1.7627,  34.7294,2,  34.7292,2,    166.2,2,    166.2,2,   124.54,2,    34.01,2,     0.00,2,     2.40,2, -999.000,9, -999.000,9, -999.000,9,   -999.0,9,   -999.0,9,-999.0000,9,  -999.00,   -999.0,9,  -999.00,9, -999.000,9, -999.000,-999.0000,9,-999.0000,  -999.00,9,  -999.00, -999.000,9, -999.000,   -999.0,9,   -999.0,  -999.00,9,-999.0000,9,-999.0000,9,-999.0000,9,-999.0000,9,-999.0000,9,-999.0000,9,-999.0000,9,-999.0000,9,-999.0000,9,   1.5617,   1.7626,2