BOTTLE,20150630SIOCCHRJL
EXPOCODE,SECT_ID,STNNBR,CASTNO,SAMPNO,BTLNBR,BTLNBR_FLAG_W,DATE,TIME,LATITUDE,LONGITUDE,DEPTH,CTDRAW,CTDPRS,CTDTMP,CTDSAL,CTDSAL_FLAG_W,SALNTY,SALNTY_FLAG_W,CTDOXY,CTDOXY_FLAG_W,OXYGEN,OXYGEN_FLAG_W,SILCAT,SILCAT_FLAG_W,NITRAT,NITRAT_FLAG_W,NITRIT,NITRIT_FLAG_W,PHSPHT,PHSPHT_FLAG_W,CFC-11,CFC-11_FLAG_W,CFC-12,CFC-12_FLAG_W,CFC113,CFC113_FLAG_W,TCARBN,TCARBN_FLAG_W,ALKALI,ALKALI_FLAG_W,PH_SWS,PH_SWS_FLAG_W,PH_TMP,DOC,DOC_FLAG_W,TDN,TDN_FLAG_W,TRITUM,TRITUM_FLAG_W,TRITER,HELIUM,HELIUM_FLAG_W,HELIER,DELHE3,DELHE3_FLAG_W,DELHER,NEON,NEON_FLAG_W,NEONER,DELC14,DELC14_FLAG_W,C14ERR,DELC13,DELC13_FLAG_W,CDOM325,CDOM325_FLAG_W,CDOM340,CDOM340_FLAG_W,CDOM380,CDOM380_FLAG_W,CDOM412,CDOM412_FLAG_W,CDOM443,CDOM443_FLAG_W,CDOM490,CDOM490_FLAG_W,CDOM555,CDOM555_FLAG_W,CDOMSL,CDOMSL_FLAG_W,CDOMSN,CDOMSN_FLAG_W,THETA,SBE35,SBE35_FLAG_W
,,,,,,,,,,,METERS,,DBAR,ITS-90,PSS-78,,PSS-78,,UMOL/KG,,UMOL/KG,,UMOL/KG,,UMOL/KG,,UMOL/KG,,UMOL/KG,,PMOL/KG,,PMOL/KG,,PMOL/KG,,UMOL/KG,,UMOL/KG,,,,DEG C,UMOL/KG,,UMOL/KG,,TU,,TU,NMOL/KG,,NMOL/KG,PERCNT,,PERCNT,NMOL/KG,,NMOL/KG,/MILLE,,/MILLE,/MILLE,,1/M,,1/M,,1/M,,1/M,,1/M,,1/M,,1/M,,1/NM,,1/NM,,DEG C,ITS-90,
  33RR20070322,  I09N,   112,  1,     36,     38,2,20070402,2357,-15.1685,  94.9968, 4710,   4.6000,      4.6,  27.6705,  34.6791,2,  34.6780,2,    199.6,2,    200.1,2,     2.14,2,     0.12,2,     0.00,2,     0.07,2,    1.587,2,    1.030,2, -999.000,5,   1950.4,6,   2276.8,2,-999.0000,5,    25.00,   -999.0,9,  -999.00,9, -999.000,9, -999.000,-999.0000,9,-999.0000,  -999.00,9,  -999.00, -999.000,9, -999.000,   -999.0,9,   -999.0,  -999.00,9,-999.0000,9,-999.0000,9,-999.0000,9,-999.0000,9,-999.0000,9,-999.0000,9,-999.0000,9,-999.0000,9,-999.0000,9,  27.6694,  27.6550,2
  33RR20070322,  I09N,   112,  1,     35,     35,2,20070402,2357,-15.1685,  94.9968, 4710,  47.1000,     47.1,  27.6027,  34.7672,2,  34.7559,2,    201.7,2,    200.4,2,     2.13,2,     0.12,2,     0.00,2,     0.06,2, -999.000,9, -999.000,9, -999.000,9,   -999.0,9,   -999.0,9,-999.0000,9,  -999.00,   -999.0,9,  -999.00,9, -999.000,9, -999.000,-999.0000,9,-999.0000,  -999.00,9,  -999.00, -999.000,9, -999.000,   -999.0,9,   -999.0,  -999.00,9,-999.0000,9,-999.0000,9,-999.0000,9,-999.0000,9,-999.0000,9,-999.0000,9,-999.0000,9,-999.0000,9,-999.0000,9,  27.5917,  27.6047,2
  33RR20070322,  I09N,   112,  1,     34,   9419,2,20070402,2357,-15.1685,  94.9968, 4710,  91.5000,     91.5,  23.0225,  34.7405,2,  34.7282,2,    154.1,2,    156.4,2,     7.51,2,     5.07,2,     0.70,2,     0.49,2,    1.739,2,    1.090,2, -999.000,5,   2032.8,2,   2280.8,2,   7.9584,2,    25.00,   -999.0,9,  -999.00,9, -999.000,9, -999.000,-999.0000,9,-999.0000,  -999.00,9,  -999.00, -999.000,9, -999.000,   -999.0,9,   -999.0,  -999.00,9,-999.0000,9,-999.0000,9,-999.0000,9,-999.0000,9,-999.0000,9,-999.0000,9,-999.0000,9,-999.0000,9,-999.0000,9,  23.0038,  23.0597,2
  33RR20070322,  I09N,   112,  1,     33,     33,2,20070402,2357,-15.1685,  94.9968, 4710, 140.6000,    140.6,  20.0584,  35.1097,2,  35.1039,2,    138.9,2,    142.5,2,    10.58,2,     9.58,2,     0.03,2,     0.69,2,    1.854,2,    1.137,2, -999.000,5,   2082.9,2,   2305.1,2,-999.0000,5,    25.00,   -999.0,9,  -999.00,9, -999.000,9, -999.000,-999.0000,9,-999.0000,  -999.00,9,  -999.00, -999.000,9, -999.000,   -999.0,9,   -999.0,  -999.00,9,-999.0000,9,-999.0000,9,-999.0000,9,-999.0000,9,-999.0000,9,-999.0000,9,-999.0000,9,-999.0000,9,-999.0000,9,  20.0324,  20.0233,2
  33RR20070322,  I09N,   112,  1,     32,     37,2,20070402,2357,-15.1685,  94.9968, 4710, 165.1000,    165.1,  18.4797,  35.0844,2,  35.0881,2,    136.8,2,    136.0,2,    14.22,2,    12.12,2,     0.01,2,     0.87,2, -999.000,9, -999.000,9, -999.000,9,   -999.0,9,   -999.0,9,-999.0000,9,  -999.00,   -999.0,9,  -999.00,9, -999.000,9, -999.000,-999.0000,9,-999.0000,  -999.00,9,  -999.00, -999.000,9, -999.000,   -999.0,9,   -999.0,  -999.00,9,-999.0000,9,-999.0000,9,-999.0000,9,-999.0000,9,-999.0000,9,-999.0000,9,-999.0000,9,-999.0000,9,-999.0000,9,  18.4508,  18.4959,2
  33RR20070322,  I09N,   112,  1,     31,     31,2,20070402,2357,-15.1685,  94.9968, 4710, 191.6000,    191.6,  16.8253,  35.0363,2,  35.0465,2,    132.6,2,    132.8,2,    17.68,2,    14.24,2,     0.01,2,     1.01,2,    1.790,2,    1.064,2, -999.000,5,   2122.5,2,   2310.0,6,   7.8015,2,    25.00,   -999.0,9,  -999.00,9, -999.000,9, -999.000,-999.0000,9,-999.0000,  -999.00,9,  -999.00, -999.000,9, -999.000,   -999.0,9,   -999.0,  -999.00,9,-999.0000,9,-999.0000,9,-999.0000,9,-999.0000,9,-999.0000,9,-999.0000,9,-999.0000,9,-999.0000,9,-999.0000,9,  16.7939,  16.8484,2
  33RR20070322,  I09N,   112,  1,     30,     30,2,20070402,2357,-15.1685,  94.9968, 4710, 241.6000,    241.6,  13.1351,  34.6420,2,  34.6483,2,    114.0,2,    107.7,2,    31.55,2,    22.42,2,     0.00,2,     1.58,2,    1.387,2,    0.796,2, -999.000,5,   -999.0,9,   -999.0,9,-999.0000,9,  -999.00,   -999.0,9,  -999.00,9, -999.000,9, -999.000,-999.0000,9,-999.0000,  -999.00,9,  -999.00, -999.000,9, -999.000,   -999.0,9,   -999.0,  -999.00,9,-999.0000,9,-999.0000,9,-999.0000,9,-999.0000,9,-999.0000,9,-999.0000,9,-999.0000,9,-999.0000,9,-999.0000,9,  13.1017,  13.1385,2
  33RR20070322,  I09N,   112,  1,     29,     29,2,20070402,2357,-15.1685,  94.9968, 4710, 291.8000,    291.8,  13.4454,  35.1628,2,  35.1603,2,    153.7,2,    163.9,2,    15.36,2,    14.24,2,     0.00,2,     1.05,2,    2.286,2,    1.306,2, -999.000,5,   -999.0,9,   -999.0,9,-999.0000,9,  -999.00,   -999.0,9,  -999.00,9, -999.000,9, -999.000,-999.0000,9,-999.0000,  -999.00,9,  -999.00, -999.000,9, -999.000,   -999.0,9,   -999.0,  -999.00,9,-999.0000,9,-999.0000,9,-999.0000,9,-999.0000,9,-999.0000,9,-999.0000,9,-999.0000,9,-999.0000,9,-999.0000,9,  13.4042,  13.4471,2
  33RR20070322,  I09N,   112,  1,     28,     28,2,20070402,2357,-15.1685,  94.9968, 4710, 341.9000,    341.9,  11.8671,  35.0409,2,  35.0489,2,    185.7,2,    188.9,2,    11.50,2,    14.29,2,     0.00,2,     1.04,2,    2.733,2,    1.490,2, -999.000,5,   -999.0,9,   -999.0,9,-999.0000,9,  -999.00,   -999.0,9,  -999.00,9, -999.000,9, -999.000,-999.0000,9,-999.0000,  -999.00,9,  -999.00, -999.000,9, -999.000,   -999.0,9,   -999.0,  -999.00,9,-999.0000,9,-999.0000,9,-999.0000,9,-999.0000,9,-999.0000,9,-999.0000,9,-999.0000,9,-999.0000,9,-999.0000,9,  11.8225,  11.8785,2
  33RR20070322,  I09N,   112,  1,     27,     27,2,20070402,2357,-15.1685,  94.9968, 4710, 392.1000,    392.1,  10.2554,  34.8394,2,  34.8442,2,    199.6,2,    200.8,2,    11.30,2,    16.87,2,     0.00,2,     1.18,2,    2.946,2,    1.565,2, -999.000,5,   -999.0,9,   -999.0,9,-999.0000,9,  -999.00,   -999.0,9,  -999.00,9, -999.000,9, -999.000,-999.0000,9,-999.0000,  -999.00,9,  -999.00, -999.000,9, -999.000,   -999.0,9,   -999.0,  -999.00,9,-999.0000,9,-999.0000,9,-999.0000,9,-999.0000,9,-999.0000,9,-999.0000,9,-999.0000,9,-999.0000,9,-999.0000,9,  10.2088,  10.2679,2
  33RR20070322,  I09N,   112,  1,     26,     26,2,20070402,2357,-15.1685,  94.9968, 4710, 441.1000,    441.1,   9.3933,  34.7327,2,  34.7359,2,    194.0,2,    195.6,2,    13.61,2,    19.61,2,     0.00,2,     1.36,2,    2.768,2,    1.454,2, -999.000,5,   -999.0,9,   -999.0,9,-999.0000,9,  -999.00,   -999.0,9,  -999.00,9, -999.000,9, -999.000,-999.0000,9,-999.0000,  -999.00,9,  -999.00, -999.000,9, -999.000,   -999.0,9,   -999.0,  -999.00,9,-999.0000,9,-999.0000,9,-999.0000,9,-999.0000,9,-999.0000,9,-999.0000,9,-999.0000,9,-999.0000,9,-999.0000,9,   9.3436,   9.4001,2
  33RR20070322,  I09N,   112,  1,     25,     25,2,20070402,2357,-15.1685,  94.9968, 4710, 493.0000,    493.0,   8.7475,  34.6710,2,  34.6719,2,    172.5,2,    174.4,2,    20.54,2,    23.28,2,     0.00,2,     1.60,2,    2.111,2,    1.087,2, -999.000,5,   2173.0,2,   2301.1,2,   7.6748,2,    25.00,   -999.0,9,  -999.00,9, -999.000,9, -999.000,-999.0000,9,-999.0000,  -999.00,9,  -999.00, -999.000,9, -999.000,   -999.0,9,   -999.0,  -999.00,9,-999.0000,9,-999.0000,9,-999.0000,9,-999.0000,9,-999.0000,9,-999.0000,9,-999.0000,9,-999.0000,9,-999.0000,9,   8.6942,   8.7624,2
  33RR20070322,  I09N,   112,  1,     24,     24,2,20070402,2357,-15.1685,  94.9968, 4710, 576.7000,    576.7,   7.7911,  34.6581,2,  34.6597,2,    114.7,2,    110.7,2,    44.11,2,    31.28,2,     0.00,2,     2.17,2,    0.514,2,    0.278,2, -999.000,5,   -999.0,9,   -999.0,9,-999.0000,9,  -999.00,   -999.0,9,  -999.00,9, -999.000,9, -999.000,-999.0000,9,-999.0000,  -999.00,9,  -999.00, -999.000,9, -999.000,   -999.0,9,   -999.0,  -999.00,9,-999.0000,9,-999.0000,9,-999.0000,9,-999.0000,9,-999.0000,9,-999.0000,9,-999.0000,9,-999.0000,9,-999.0000,9,   7.7325,   7.7945,2
  33RR20070322,  I09N,   112,  1,     23,     23,2,20070402,2357,-15.1685,  94.9968, 4710, 626.8000,    626.8,   7.4382,  34.6686,2,  34.6674,2,    107.5,2,    104.7,2,    49.53,2,    32.37,2,     0.00,2,     2.27,2,    0.336,2,    0.184,2, -999.000,5,   -999.0,9,   -999.0,9,-999.0000,9,  -999.00,   -999.0,9,  -999.00,9, -999.000,9, -999.000,-999.0000,9,-999.0000,  -999.00,9,  -999.00, -999.000,9, -999.000,   -999.0,9,   -999.0,  -999.00,9,-999.0000,9,-999.0000,9,-999.0000,9,-999.0000,9,-999.0000,9,-999.0000,9,-999.0000,9,-999.0000,9,-999.0000,9,   7.3759,   7.4388,2
  33RR20070322,  I09N,   112,  1,     22,     22,2,20070402,2357,-15.1685,  94.9968, 4710, 676.4000,    676.4,   7.0532,  34.6682,2,  34.6662,2,     93.7,2,     83.9,2,    64.67,2,    34.56,2,     0.00,2,     2.45,2,    0.169,2,    0.097,2, -999.000,5,   -999.0,9,   -999.0,9,-999.0000,9,  -999.00,   -999.0,9,  -999.00,9, -999.000,9, -999.000,-999.0000,9,-999.0000,  -999.00,9,  -999.00, -999.000,9, -999.000,   -999.0,9,   -999.0,  -999.00,9,-999.0000,9,-999.0000,9,-999.0000,9,-999.0000,9,-999.0000,9,-999.0000,9,-999.0000,9,-999.0000,9,-999.0000,9,   6.9877,   7.0546,2
  33RR20070322,  I09N,   112,  1,     21,     21,2,20070402,2357,-15.1685,  94.9968, 4710, 777.1000,    777.1,   6.3972,  34.6686,2,  34.6694,2,     85.5,2,     84.6,2,    73.82,2,    35.55,2,     0.00,2,     2.53,2,    0.085,2,    0.051,2, -999.000,5,   -999.0,9,   -999.0,9,-999.0000,9,  -999.00,   -999.0,9,  -999.00,9, -999.000,9, -999.000,-999.0000,9,-999.0000,  -999.00,9,  -999.00, -999.000,9, -999.000,   -999.0,9,   -999.0,  -999.00,9,-999.0000,9,-999.0000,9,-999.0000,9,-999.0000,9,-999.0000,9,-999.0000,9,-999.0000,9,-999.0000,9,-999.0000,9,   6.3253,   6.4026,2
  33RR20070322,  I09N,   112,  1,     20,     20,2,20070402,2357,-15.1685,  94.9968, 4710, 876.5000,    876.5,   5.8587,  34.6475,2,  34.6473,2,     84.9,2,     84.2,2,    84.17,2,    36.08,2,     0.00,2,     2.59,2,    0.065,2,    0.039,2, -999.000,5,   2288.7,2,   2356.9,2,   7.5045,2,    25.00,   -999.0,9,  -999.00,9, -999.000,9, -999.000,-999.0000,9,-999.0000,  -999.00,9,  -999.00, -999.000,9, -999.000,   -999.0,9,   -999.0,  -999.00,9,-999.0000,9,-999.0000,9,-999.0000,9,-999.0000,9,-999.0000,9,-999.0000,9,-999.0000,9,-999.0000,9,-999.0000,9,   5.7805,   5.8539,2
  33RR20070322,  I09N,   112,  1,     19,     19,2,20070402,2357,-15.1685,  94.9968, 4710, 978.4000,    978.4,   5.2995,  34.6365,2,  34.6333,2,     87.7,2,     87.8,2,    93.17,2,    36.33,2,     0.00,2,     2.61,2, -999.000,5, -999.000,5, -999.000,5,   2298.0,2,   2366.9,2,   7.5281,2,    25.00,   -999.0,9,  -999.00,9, -999.000,9, -999.000,-999.0000,9,-999.0000,  -999.00,9,  -999.00, -999.000,9, -999.000,   -999.0,9,   -999.0,  -999.00,9,-999.0000,9,-999.0000,9,-999.0000,9,-999.0000,9,-999.0000,9,-999.0000,9,-999.0000,9,-999.0000,9,-999.0000,9,   5.2157,   5.3001,2
  33RR20070322,  I09N,   112,  1,     18,     18,2,20070402,2357,-15.1685,  94.9968, 4710,1078.7000,   1078.7,   4.8864,  34.6367,2,  34.6357,2,     90.8,2,     90.9,2,    98.87,2,    36.54,2,     0.00,2,     2.63,2,    0.039,2,    0.023,2, -999.000,5,   -999.0,9,   -999.0,9,-999.0000,9,  -999.00,   -999.0,9,  -999.00,9, -999.000,9, -999.000,-999.0000,9,-999.0000,  -999.00,9,  -999.00, -999.000,9, -999.000,   -999.0,9,   -999.0,  -999.00,9,-999.0000,9,-999.0000,9,-999.0000,9,-999.0000,9,-999.0000,9,-999.0000,9,-999.0000,9,-999.0000,9,-999.0000,9,   4.7966,   4.8872,2
  33RR20070322,  I09N,   112,  1,     17,     17,2,20070402,2357,-15.1685,  94.9968, 4710,1178.8000,   1178.8,   4.5940,  34.6391,2,  34.6387,2,     94.1,2,     94.6,2,   101.44,2,    36.74,2,     0.00,2,     2.64,2,    0.029,2,    0.017,2, -999.000,5,   -999.0,9,   -999.0,9,-999.0000,9,  -999.00,   -999.0,9,  -999.00,9, -999.000,9, -999.000,-999.0000,9,-999.0000,  -999.00,9,  -999.00, -999.000,9, -999.000,   -999.0,9,   -999.0,  -999.00,9,-999.0000,9,-999.0000,9,-999.0000,9,-999.0000,9,-999.0000,9,-999.0000,9,-999.0000,9,-999.0000,9,-999.0000,9,   4.4976,   4.5946,2
  33RR20070322,  I09N,   112,  1,     16,     16,2,20070402,2357,-15.1685,  94.9968, 4710,1279.4000,   1279.4,   4.2976,  34.6524,2,  34.6514,2,     99.0,2,     99.2,2,   104.03,2,    36.58,2,     0.00,2,     2.62,2, -999.000,9, -999.000,9, -999.000,9,   -999.0,9,   -999.0,9,-999.0000,9,  -999.00,   -999.0,9,  -999.00,9, -999.000,9, -999.000,-999.0000,9,-999.0000,  -999.00,9,  -999.00, -999.000,9, -999.000,   -999.0,9,   -999.0,  -999.00,9,-999.0000,9,-999.0000,9,-999.0000,9,-999.0000,9,-999.0000,9,-999.0000,9,-999.0000,9,-999.0000,9,-999.0000,9,   4.1949,   4.2976,2
  33RR20070322,  I09N,   112,  1,     15,     15,2,20070402,2357,-15.1685,  94.9968, 4710,1379.8000,   1379.8,   4.0414,  34.6672,2,  34.6654,2,    104.0,2,    104.3,2,   104.83,2,    36.46,2,     0.00,2,     2.61,2,    0.013,2,    0.006,2, -999.000,5,   -999.0,9,   -999.0,9,-999.0000,9,  -999.00,   -999.0,9,  -999.00,9, -999.000,9, -999.000,-999.0000,9,-999.0000,  -999.00,9,  -999.00, -999.000,9, -999.000,   -999.0,9,   -999.0,  -999.00,9,-999.0000,9,-999.0000,9,-999.0000,9,-999.0000,9,-999.0000,9,-999.0000,9,-999.0000,9,-999.0000,9,-999.0000,9,   3.9323,   4.0418,2
  33RR20070322,  I09N,   112,  1,     14,     14,2,20070402,2357,-15.1685,  94.9968, 4710,1480.9000,   1480.9,   3.7547,  34.6860,2,  34.6849,2,    111.2,2,    111.9,2,   104.84,2,    36.29,2,     0.00,2,     2.58,2, -999.000,9, -999.000,9, -999.000,9,   -999.0,9,   -999.0,9,-999.0000,9,  -999.00,   -999.0,9,  -999.00,9, -999.000,9, -999.000,-999.0000,9,-999.0000,  -999.00,9,  -999.00, -999.000,9, -999.000,   -999.0,9,   -999.0,  -999.00,9,-999.0000,9,-999.0000,9,-999.0000,9,-999.0000,9,-999.0000,9,-999.0000,9,-999.0000,9,-999.0000,9,-999.0000,9,   3.6397,   3.7553,2
  33RR20070322,  I09N,   112,  1,     13,     13,2,20070402,2357,-15.1685,  94.9968, 4710,1581.2000,   1581.2,   3.4730,  34.6978,2,  34.6967,2,    118.7,2,    119.9,2,   105.64,2,    35.97,2,     0.00,2,     2.55,2,    0.007,2,    0.003,2, -999.000,5,   -999.0,9,   -999.0,9,-999.0000,9,  -999.00,   -999.0,9,  -999.00,9, -999.000,9, -999.000,-999.0000,9,-999.0000,  -999.00,9,  -999.00, -999.000,9, -999.000,   -999.0,9,   -999.0,  -999.00,9,-999.0000,9,-999.0000,9,-999.0000,9,-999.0000,9,-999.0000,9,-999.0000,9,-999.0000,9,-999.0000,9,-999.0000,9,   3.3523,   3.4742,2
  33RR20070322,  I09N,   112,  1,     12,     12,2,20070402,2357,-15.1685,  94.9968, 4710,1683.0000,   1683.0,   3.2153,  34.7089,2,  34.7089,2,    124.8,2,    125.4,2,   108.63,2,    35.81,2,     0.00,2,     2.53,2, -999.000,9, -999.000,9, -999.000,9,   -999.0,9,   -999.0,9,-999.0000,9,  -999.00,   -999.0,9,  -999.00,9, -999.000,9, -999.000,-999.0000,9,-999.0000,  -999.00,9,  -999.00, -999.000,9, -999.000,   -999.0,9,   -999.0,  -999.00,9,-999.0000,9,-999.0000,9,-999.0000,9,-999.0000,9,-999.0000,9,-999.0000,9,-999.0000,9,-999.0000,9,-999.0000,9,   3.0888,   3.2139,2
  33RR20070322,  I09N,   112,  1,     11,     11,2,20070402,2357,-15.1685,  94.9968, 4710,1782.1000,   1782.1,   2.9815,  34.7163,2,  34.7152,2,    132.2,2,    132.8,2,   108.64,2,    35.34,2,     0.00,2,     2.52,2,    0.008,2,    0.003,2, -999.000,5,   2300.5,2,   2383.4,6,-999.0000,5,    25.00,   -999.0,9,  -999.00,9, -999.000,9, -999.000,-999.0000,9,-999.0000,  -999.00,9,  -999.00, -999.000,9, -999.000,   -999.0,9,   -999.0,  -999.00,9,-999.0000,9,-999.0000,9,-999.0000,9,-999.0000,9,-999.0000,9,-999.0000,9,-999.0000,9,-999.0000,9,-999.0000,9,   2.8494,   2.9820,2
  33RR20070322,  I09N,   112,  1,     10,     10,2,20070402,2357,-15.1685,  94.9968, 4710,1982.8000,   1982.8,   2.5906,  34.7250,2,  34.7245,2,    143.2,2,    143.6,2,   111.63,2,    34.80,2,     0.00,2,     2.48,2, -999.000,9, -999.000,9, -999.000,9,   -999.0,9,   -999.0,9,-999.0000,9,  -999.00,   -999.0,9,  -999.00,9, -999.000,9, -999.000,-999.0000,9,-999.0000,  -999.00,9,  -999.00, -999.000,9, -999.000,   -999.0,9,   -999.0,  -999.00,9,-999.0000,9,-999.0000,9,-999.0000,9,-999.0000,9,-999.0000,9,-999.0000,9,-999.0000,9,-999.0000,9,-999.0000,9,   2.4464,   2.5915,2
  33RR20070322,  I09N,   112,  1,      9,      9,2,20070402,2357,-15.1685,  94.9968, 4710,2184.5000,   2184.5,   2.2712,  34.7291,2,  34.7280,2,    151.1,2,    151.7,2,   117.18,2,    34.58,2,     0.00,2,     2.46,2, -999.000,9, -999.000,9, -999.000,9,   -999.0,9,   -999.0,9,-999.0000,9,  -999.00,   -999.0,9,  -999.00,9, -999.000,9, -999.000,-999.0000,9,-999.0000,  -999.00,9,  -999.00, -999.000,9, -999.000,   -999.0,9,   -999.0,  -999.00,9,-999.0000,9,-999.0000,9,-999.0000,9,-999.0000,9,-999.0000,9,-999.0000,9,-999.0000,9,-999.0000,9,-999.0000,9,   2.1142,   2.2714,2
  33RR20070322,  I09N,   112,  1,      8,      8,2,20070402,2357,-15.1685,  94.9968, 4710,2438.9000,   2438.9,   1.9944,  34.7295,2,  34.7292,2,    159.5,2,    159.7,2,   120.17,2,    34.10,2,     0.00,2,     2.42,2,    0.006,2,    0.002,2, -999.000,5,   -999.0,9,   -999.0,9,-999.0000,9,  -999.00,   -999.0,9,  -999.00,9, -999.000,9, -999.000,-999.0000,9,-999.0000,  -999.00,9,  -999.00, -999.000,9, -999.000,   -999.0,9,   -999.0,  -999.00,9,-999.0000,9,-999.0000,9,-999.0000,9,-999.0000,9,-999.0000,9,-999.0000,9,-999.0000,9,-999.0000,9,-999.0000,9,   1.8194,   1.9940,2
  33RR20070322,  I09N,   112,  1,      7,      7,2,20070402,2357,-15.1685,  94.9968, 4710,2691.2000,   2691.2,   1.7759,  34.7282,2,  34.7276,2,    166.1,2,    166.3,2,   122.58,2,    34.00,2,     0.00,2,     2.41,2, -999.000,9, -999.000,9, -999.000,9,   -999.0,9,   -999.0,9,-999.0000,9,  -999.00,   -999.0,9,  -999.00,9, -999.000,9, -999.000,-999.0000,9,-999.0000,  -999.00,9,  -999.00, -999.000,9, -999.000,   -999.0,9,   -999.0,  -999.00,9,-999.0000,9,-999.0000,9,-999.0000,9,-999.0000,9,-999.0000,9,-999.0000,9,-999.0000,9,-999.0000,9,-999.0000,9,   1.5820,   1.7756,2
  33RR20070322,  I09N,   112,  1,      6,      6,2,20070402,2357,-15.1685,  94.9968, 4710,2944.2000,   2944.2,   1.6261,  34.7264,2,  34.7262,2,    170.8,2,    171.0,2,   125.58,2,    33.83,2,     0.00,2,     2.39,2, -999.000,9, -999.000,9, -999.000,9,   -999.0,9,   -999.0,9,-999.0000,9,  -999.00,   -999.0,9,  -999.00,9, -999.000,9, -999.000,-999.0000,9,-999.0000,  -999.00,9,  -999.00, -999.000,9, -999.000,   -999.0,9,   -999.0,  -999.00,9,-999.0000,9,-999.0000,9,-999.0000,9,-999.0000,9,-999.0000,9,-999.0000,9,-999.0000,9,-999.0000,9,-999.0000,9,   1.4116,   1.6261,2
  33RR20070322,  I09N,   112,  1,      5,      5,2,20070402,2357,-15.1685,  94.9968, 4710,3278.6000,   3278.6,   1.4788,  34.7232,2,  34.7233,2,    175.6,2,    175.5,2,   127.99,2,    33.72,2,     0.00,2,     2.37,2,    0.006,2,    0.002,2, -999.000,5,   -999.0,9,   -999.0,9,-999.0000,9,  -999.00,   -999.0,9,  -999.00,9, -999.000,9, -999.000,-999.0000,9,-999.0000,  -999.00,9,  -999.00, -999.000,9, -999.000,   -999.0,9,   -999.0,  -999.00,9,-999.0000,9,-999.0000,9,-999.0000,9,-999.0000,9,-999.0000,9,-999.0000,9,-999.0000,9,-999.0000,9,-999.0000,9,   1.2352,   1.4784,2