BOTTLE,20150630SIOCCHRJL
EXPOCODE,SECT_ID,STNNBR,CASTNO,SAMPNO,BTLNBR,BTLNBR_FLAG_W,DATE,TIME,LATITUDE,LONGITUDE,DEPTH,CTDRAW,CTDPRS,CTDTMP,CTDSAL,CTDSAL_FLAG_W,SALNTY,SALNTY_FLAG_W,CTDOXY,CTDOXY_FLAG_W,OXYGEN,OXYGEN_FLAG_W,SILCAT,SILCAT_FLAG_W,NITRAT,NITRAT_FLAG_W,NITRIT,NITRIT_FLAG_W,PHSPHT,PHSPHT_FLAG_W,CFC-11,CFC-11_FLAG_W,CFC-12,CFC-12_FLAG_W,CFC113,CFC113_FLAG_W,TCARBN,TCARBN_FLAG_W,ALKALI,ALKALI_FLAG_W,PH_SWS,PH_SWS_FLAG_W,PH_TMP,DOC,DOC_FLAG_W,TDN,TDN_FLAG_W,TRITUM,TRITUM_FLAG_W,TRITER,HELIUM,HELIUM_FLAG_W,HELIER,DELHE3,DELHE3_FLAG_W,DELHER,NEON,NEON_FLAG_W,NEONER,DELC14,DELC14_FLAG_W,C14ERR,DELC13,DELC13_FLAG_W,CDOM325,CDOM325_FLAG_W,CDOM340,CDOM340_FLAG_W,CDOM380,CDOM380_FLAG_W,CDOM412,CDOM412_FLAG_W,CDOM443,CDOM443_FLAG_W,CDOM490,CDOM490_FLAG_W,CDOM555,CDOM555_FLAG_W,CDOMSL,CDOMSL_FLAG_W,CDOMSN,CDOMSN_FLAG_W,THETA,SBE35,SBE35_FLAG_W
,,,,,,,,,,,METERS,,DBAR,ITS-90,PSS-78,,PSS-78,,UMOL/KG,,UMOL/KG,,UMOL/KG,,UMOL/KG,,UMOL/KG,,UMOL/KG,,PMOL/KG,,PMOL/KG,,PMOL/KG,,UMOL/KG,,UMOL/KG,,,,DEG C,UMOL/KG,,UMOL/KG,,TU,,TU,NMOL/KG,,NMOL/KG,PERCNT,,PERCNT,NMOL/KG,,NMOL/KG,/MILLE,,/MILLE,/MILLE,,1/M,,1/M,,1/M,,1/M,,1/M,,1/M,,1/M,,1/NM,,1/NM,,DEG C,ITS-90,
  33RR20070322,  I09N,   137,  1,     36,     38,2,20070410,1923, -2.5083,  94.2373, 4759,   2.5000,      2.5,  29.3190,  33.9989,2,  33.9992,2,    195.4,2,    196.3,2,     1.26,2,     0.00,2,     0.00,2,     0.08,2, -999.000,5, -999.000,5, -999.000,5,   1906.3,6,   2227.9,6,   8.1128,6,    25.00,     71.2,2,     4.99,2, -999.000,9, -999.000,-999.0000,9,-999.0000,  -999.00,9,  -999.00, -999.000,9, -999.000,   -999.0,9,   -999.0,  -999.00,9,-999.0000,9,-999.0000,9,-999.0000,9,-999.0000,9,-999.0000,9,-999.0000,9,-999.0000,9,-999.0000,9,-999.0000,9,  29.3184,  29.3153,2
  33RR20070322,  I09N,   137,  1,     35,     35,2,20070410,1923, -2.5083,  94.2373, 4759,  30.6000,     30.6,  29.1322,  34.1090,2,  34.1052,2,    199.3,2,    196.6,2,     1.23,2,     0.00,2,     0.00,2,     0.09,2,    1.517,2,    0.974,2, -999.000,5,   1912.8,2,   2235.1,2,   8.1054,2,    25.00,     68.9,2,     4.81,2, -999.000,9, -999.000,-999.0000,9,-999.0000,  -999.00,9,  -999.00, -999.000,9, -999.000,   -999.0,9,   -999.0,  -999.00,9,-999.0000,9,-999.0000,9,-999.0000,9,-999.0000,9,-999.0000,9,-999.0000,9,-999.0000,9,-999.0000,9,-999.0000,9,  29.1248,  29.1316,2
  33RR20070322,  I09N,   137,  1,     34,   9419,2,20070410,1923, -2.5083,  94.2373, 4759,  55.6000,     55.6,  28.0968,  34.6250,2,  34.6145,2,    195.3,2,    190.7,2,     1.59,2,     0.05,2,     0.00,2,     0.18,2,    1.555,2,    0.993,2, -999.000,5,   1960.0,2,   2269.1,2,   8.0663,2,    25.00,     65.4,2,     5.29,2, -999.000,9, -999.000,-999.0000,9,-999.0000,  -999.00,9,  -999.00, -999.000,9, -999.000,   -999.0,9,   -999.0,  -999.00,9,-999.0000,9,-999.0000,9,-999.0000,9,-999.0000,9,-999.0000,9,-999.0000,9,-999.0000,9,-999.0000,9,-999.0000,9,  28.0837,  28.0631,2
  33RR20070322,  I09N,   137,  1,     33,     33,2,20070410,1923, -2.5083,  94.2373, 4759,  80.4000,     80.4,  24.8358,  35.0283,2,  35.0295,2,    139.8,2,    137.2,2,     4.75,2,     7.22,2,     0.27,2,     0.68,2,    1.625,2,    1.019,2, -999.000,5,   2049.0,2,   2293.1,2,   7.9207,2,    25.00,     60.1,2,    12.30,2, -999.000,9, -999.000,-999.0000,9,-999.0000,  -999.00,9,  -999.00, -999.000,9, -999.000,   -999.0,9,   -999.0,  -999.00,9,-999.0000,9,-999.0000,9,-999.0000,9,-999.0000,9,-999.0000,9,-999.0000,9,-999.0000,9,-999.0000,9,-999.0000,9,  24.8185,  24.8306,2
  33RR20070322,  I09N,   137,  1,     32,     37,2,20070410,1923, -2.5083,  94.2373, 4759, 105.7000,    105.7,  22.0364,  35.2241,2,  35.2283,2,     98.5,2,     90.6,2,     9.12,2,    14.78,2,     0.52,2,     1.13,2,    1.648,2,    1.013,2, -999.000,5,   2111.3,2,   2303.2,2,   7.8043,2,    25.00,     56.1,2,    20.03,2, -999.000,9, -999.000,-999.0000,9,-999.0000,  -999.00,9,  -999.00, -999.000,9, -999.000,   -999.0,9,   -999.0,  -999.00,9,-999.0000,9,-999.0000,9,-999.0000,9,-999.0000,9,-999.0000,9,-999.0000,9,-999.0000,9,-999.0000,9,-999.0000,9,  22.0155,  22.1282,2
  33RR20070322,  I09N,   137,  1,     31,     31,2,20070410,1923, -2.5083,  94.2373, 4759, 155.1000,    155.1,  17.1249,  35.1862,2,  35.1886,2,     73.5,2,     74.3,2,    15.47,2,    20.87,2,     0.01,2,     1.48,2,    1.660,2,    0.966,2, -999.000,5,   2165.5,2,   2307.1,2,   7.7062,2,    25.00,     50.9,2,    24.38,2, -999.000,9, -999.000,-999.0000,9,-999.0000,  -999.00,9,  -999.00, -999.000,9, -999.000,   -999.0,9,   -999.0,  -999.00,9,-999.0000,9,-999.0000,9,-999.0000,9,-999.0000,9,-999.0000,9,-999.0000,9,-999.0000,9,-999.0000,9,-999.0000,9,  17.0992,  17.1232,2
  33RR20070322,  I09N,   137,  1,     30,     30,2,20070410,1923, -2.5083,  94.2373, 4759, 205.0000,    205.0,  13.9867,  35.1171,2,  35.1162,2,     63.2,2,     64.9,2,    19.83,2,    25.04,2,     0.00,2,     1.77,2,    1.366,2,    0.768,2, -999.000,5,   2199.1,2,   2310.4,2,   7.6192,2,    25.00,     49.1,2,    28.94,2, -999.000,9, -999.000,-999.0000,9,-999.0000,  -999.00,9,  -999.00, -999.000,9, -999.000,   -999.0,9,   -999.0,  -999.00,9,-999.0000,9,-999.0000,9,-999.0000,9,-999.0000,9,-999.0000,9,-999.0000,9,-999.0000,9,-999.0000,9,-999.0000,9,  13.9570,  13.9892,2
  33RR20070322,  I09N,   137,  1,     29,     29,2,20070410,1923, -2.5083,  94.2373, 4759, 255.6000,    255.6,  12.4565,  35.0597,2,  35.0573,2,     74.9,2,     75.8,2,    21.00,2,    25.69,2,     0.00,2,     1.80,2,    1.233,2,    0.680,2, -999.000,5,   2204.1,2,   2310.1,2,   7.6078,2,    25.00,     47.7,2,    29.42,2, -999.000,9, -999.000,-999.0000,9,-999.0000,  -999.00,9,  -999.00, -999.000,9, -999.000,   -999.0,9,   -999.0,  -999.00,9,-999.0000,9,-999.0000,9,-999.0000,9,-999.0000,9,-999.0000,9,-999.0000,9,-999.0000,9,-999.0000,9,-999.0000,9,  12.4222,  12.4650,2
  33RR20070322,  I09N,   137,  1,     28,     28,2,20070410,1923, -2.5083,  94.2373, 4759, 305.0000,    305.0,  11.9313,  35.0384,2,  35.0355,2,     77.6,2,     77.9,2,    21.97,2,    26.30,2,     0.00,2,     1.83,2, -999.000,5, -999.000,5, -999.000,5,   2207.6,2,   2311.1,2,   7.5982,2,    25.00,     46.8,2,    29.67,2, -999.000,9, -999.000,-999.0000,9,-999.0000,  -999.00,9,  -999.00, -999.000,9, -999.000,   -999.0,9,   -999.0,  -999.00,9,-999.0000,9,-999.0000,9,-999.0000,9,-999.0000,9,-999.0000,9,-999.0000,9,-999.0000,9,-999.0000,9,-999.0000,9,  11.8915,  11.9293,2
  33RR20070322,  I09N,   137,  1,     27,     27,2,20070410,1923, -2.5083,  94.2373, 4759, 355.2000,    355.2,  11.3783,  35.0122,2,  35.0121,2,     78.1,2,     77.4,2,    23.34,2,    27.11,2,     0.00,2,     1.87,2,    1.009,2,    0.552,2, -999.000,5,   2212.7,2,   2311.8,2,   7.5881,2,    25.00,     46.3,2,    30.81,2, -999.000,9, -999.000,-999.0000,9,-999.0000,  -999.00,9,  -999.00, -999.000,9, -999.000,   -999.0,9,   -999.0,  -999.00,9,-999.0000,9,-999.0000,9,-999.0000,9,-999.0000,9,-999.0000,9,-999.0000,9,-999.0000,9,-999.0000,9,-999.0000,9,  11.3332,  11.3712,2
  33RR20070322,  I09N,   137,  1,     26,     26,2,20070410,1923, -2.5083,  94.2373, 4759, 405.6000,    405.6,  10.7453,  34.9654,2,  34.9653,2,     83.9,2,     84.0,2,    24.31,2,    27.72,2,     0.00,2,     1.89,2,    0.948,2,    0.516,2, -999.000,5,   2212.9,2,   2311.1,2,   7.5846,2,    25.00,     45.6,2,    31.31,2, -999.000,9, -999.000,-999.0000,9,-999.0000,  -999.00,9,  -999.00, -999.000,9, -999.000,   -999.0,9,   -999.0,  -999.00,9,-999.0000,9,-999.0000,9,-999.0000,9,-999.0000,9,-999.0000,9,-999.0000,9,-999.0000,9,-999.0000,9,-999.0000,9,  10.6956,  10.7437,2
  33RR20070322,  I09N,   137,  1,     25,     25,2,20070410,1923, -2.5083,  94.2373, 4759, 455.8000,    455.8,  10.2727,  34.9568,2,  34.9585,2,     72.1,2,     70.8,2,    29.47,2,    29.87,2,     0.00,2,     2.08,2,    0.604,2,    0.331,2, -999.000,5,   2226.7,2,   2313.5,2,   7.5562,2,    25.00,     45.0,2,    32.89,2, -999.000,9, -999.000,-999.0000,9,-999.0000,  -999.00,9,  -999.00, -999.000,9, -999.000,   -999.0,9,   -999.0,  -999.00,9,-999.0000,9,-999.0000,9,-999.0000,9,-999.0000,9,-999.0000,9,-999.0000,9,-999.0000,9,-999.0000,9,-999.0000,9,  10.2182,  10.2778,2
  33RR20070322,  I09N,   137,  1,     24,     24,2,20070410,1923, -2.5083,  94.2373, 4759, 505.2000,    505.2,   9.9646,  34.9568,2,  34.9561,2,     72.8,2,     72.8,2,    32.25,2,    30.21,2,     0.00,2,     2.14,2,    0.573,2,    0.311,2, -999.000,5,   2230.6,2,   2314.8,2,   7.5540,2,    25.00,     44.2,2,    33.20,2, -999.000,9, -999.000,-999.0000,9,-999.0000,  -999.00,9,  -999.00, -999.000,9, -999.000,   -999.0,9,   -999.0,  -999.00,9,-999.0000,9,-999.0000,9,-999.0000,9,-999.0000,9,-999.0000,9,-999.0000,9,-999.0000,9,-999.0000,9,-999.0000,9,   9.9052,   9.9631,2
  33RR20070322,  I09N,   137,  1,     23,     23,2,20070410,1923, -2.5083,  94.2373, 4759, 605.2000,    605.2,   9.3763,  34.9595,2,  34.9583,2,     59.2,2,     57.6,2,    41.22,2,    32.47,2,     0.00,2,     2.35,2,    0.256,2,    0.145,2, -999.000,5,   2249.5,2,   2325.0,2,   7.5183,2,    25.00,     43.6,2,    34.69,2, -999.000,9, -999.000,-999.0000,9,-999.0000,  -999.00,9,  -999.00, -999.000,9, -999.000,   -999.0,9,   -999.0,  -999.00,9,-999.0000,9,-999.0000,9,-999.0000,9,-999.0000,9,-999.0000,9,-999.0000,9,-999.0000,9,-999.0000,9,-999.0000,9,   9.3074,   9.3729,2
  33RR20070322,  I09N,   137,  1,     22,     22,2,20070410,1923, -2.5083,  94.2373, 4759, 705.5000,    705.5,   8.6164,  34.9580,2,  34.9581,2,     53.3,2,     52.0,2,    52.00,2,    34.00,2,     0.00,2,     2.51,2,    0.135,2,    0.078,2, -999.000,5,   2265.1,2,   2337.0,2,   7.5009,2,    25.00,     43.0,2,    37.00,2, -999.000,9, -999.000,-999.0000,9,-999.0000,  -999.00,9,  -999.00, -999.000,9, -999.000,   -999.0,9,   -999.0,  -999.00,9,-999.0000,9,-999.0000,9,-999.0000,9,-999.0000,9,-999.0000,9,-999.0000,9,-999.0000,9,-999.0000,9,-999.0000,9,   8.5395,   8.6161,2
  33RR20070322,  I09N,   137,  1,     21,     21,2,20070410,1923, -2.5083,  94.2373, 4759, 805.4000,    805.4,   7.7662,  34.9044,2,  34.9045,2,     51.8,2,     51.2,2,    64.01,2,    35.33,2,     0.00,2,     2.62,2,    0.050,2,    0.030,2, -999.000,5,   2280.6,6,   2346.2,2,   7.4893,2,    25.00,     42.5,2,    37.44,2, -999.000,9, -999.000,-999.0000,9,-999.0000,  -999.00,9,  -999.00, -999.000,9, -999.000,   -999.0,9,   -999.0,  -999.00,9,-999.0000,9,-999.0000,9,-999.0000,9,-999.0000,9,-999.0000,9,-999.0000,9,-999.0000,9,-999.0000,9,-999.0000,9,   7.6830,   7.7684,2
  33RR20070322,  I09N,   137,  1,     20,     20,2,20070410,1923, -2.5083,  94.2373, 4759, 906.2000,    906.2,   7.1413,  34.8946,2,  34.8947,2,     52.7,2,     52.2,2,    73.03,2,    35.89,2,     0.00,2,     2.68,2,    0.030,2,    0.018,2, -999.000,5,   2291.5,2,   2355.2,6,   7.4937,6,    25.00,     41.6,2,    38.78,2, -999.000,9, -999.000,-999.0000,9,-999.0000,  -999.00,9,  -999.00, -999.000,9, -999.000,   -999.0,9,   -999.0,  -999.00,9,-999.0000,9,-999.0000,9,-999.0000,9,-999.0000,9,-999.0000,9,-999.0000,9,-999.0000,9,-999.0000,9,-999.0000,9,   7.0513,   7.1435,2
  33RR20070322,  I09N,   137,  1,     19,     19,2,20070410,1923, -2.5083,  94.2373, 4759,1006.2000,   1006.2,   6.5901,  34.8819,2,  34.8807,2,     56.6,2,     56.1,2,    79.46,2,    36.28,2,     0.00,2,     2.70,2,    0.020,2,    0.011,2, -999.000,5,   2298.2,2,   2362.0,2,   7.4841,2,    25.00,     41.2,2,    37.51,2, -999.000,9, -999.000,-999.0000,9,-999.0000,  -999.00,9,  -999.00, -999.000,9, -999.000,   -999.0,9,   -999.0,  -999.00,9,-999.0000,9,-999.0000,9,-999.0000,9,-999.0000,9,-999.0000,9,-999.0000,9,-999.0000,9,-999.0000,9,-999.0000,9,   6.4936,   6.5868,2
  33RR20070322,  I09N,   137,  1,     18,     18,2,20070410,1923, -2.5083,  94.2373, 4759,1106.6000,   1106.6,   5.9830,  34.8563,2,  34.8562,2,     62.7,2,     62.6,2,    86.49,2,    36.52,2,     0.00,2,     2.72,2, -999.000,9, -999.000,9, -999.000,9,   2304.3,2,   2368.9,2,   7.4886,2,    25.00,     40.7,2,    38.08,2, -999.000,9, -999.000,-999.0000,9,-999.0000,  -999.00,9,  -999.00, -999.000,9, -999.000,   -999.0,9,   -999.0,  -999.00,9,-999.0000,9,-999.0000,9,-999.0000,9,-999.0000,9,-999.0000,9,-999.0000,9,-999.0000,9,-999.0000,9,-999.0000,9,   5.8812,   5.9810,2
  33RR20070322,  I09N,   137,  1,     17,     17,2,20070410,1923, -2.5083,  94.2373, 4759,1207.2000,   1207.2,   5.4234,  34.8405,2,  34.8397,2,     69.8,2,     70.1,2,    93.13,2,    36.50,2,     0.00,2,     2.71,2,    0.010,2,    0.004,2, -999.000,5,   2309.5,2,   2376.3,2,   7.4913,2,    25.00,     40.6,2,    37.67,2, -999.000,9, -999.000,-999.0000,9,-999.0000,  -999.00,9,  -999.00, -999.000,9, -999.000,   -999.0,9,   -999.0,  -999.00,9,-999.0000,9,-999.0000,9,-999.0000,9,-999.0000,9,-999.0000,9,-999.0000,9,-999.0000,9,-999.0000,9,-999.0000,9,   5.3165,   5.4225,2
  33RR20070322,  I09N,   137,  1,     16,     16,2,20070410,1923, -2.5083,  94.2373, 4759,1307.8000,   1307.8,   4.9921,  34.8305,2,  34.8311,2,     76.9,2,     77.5,2,    97.36,2,    36.47,2,     0.00,2,     2.71,2, -999.000,9, -999.000,9, -999.000,9,   2311.5,2,   2380.1,2,   7.5004,2,    25.00,     40.7,2,    38.46,2, -999.000,9, -999.000,-999.0000,9,-999.0000,  -999.00,9,  -999.00, -999.000,9, -999.000,   -999.0,9,   -999.0,  -999.00,9,-999.0000,9,-999.0000,9,-999.0000,9,-999.0000,9,-999.0000,9,-999.0000,9,-999.0000,9,-999.0000,9,-999.0000,9,   4.8796,   4.9914,2
  33RR20070322,  I09N,   137,  1,     15,     15,2,20070410,1923, -2.5083,  94.2373, 4759,1408.5000,   1408.5,   4.6095,  34.8238,2,  34.8233,2,     83.4,2,     85.1,2,    99.97,2,    36.24,2,     0.00,2,     2.69,2,    0.007,2,    0.003,2, -999.000,5,   2312.3,2,   2383.8,2,   7.5040,2,    25.00,     40.5,2,    37.73,2, -999.000,9, -999.000,-999.0000,9,-999.0000,  -999.00,9,  -999.00, -999.000,9, -999.000,   -999.0,9,   -999.0,  -999.00,9,-999.0000,9,-999.0000,9,-999.0000,9,-999.0000,9,-999.0000,9,-999.0000,9,-999.0000,9,-999.0000,9,-999.0000,9,   4.4914,   4.6003,2
  33RR20070322,  I09N,   137,  1,     14,     14,2,20070410,1923, -2.5083,  94.2373, 4759,1509.2000,   1509.2,   4.2306,  34.8154,2,  34.8148,2,     91.5,2,     93.5,2,   103.80,2,    36.06,2,     0.00,2,     2.67,2, -999.000,9, -999.000,9, -999.000,9,   2312.8,2,   2388.1,2,   7.5134,2,    25.00,     40.6,2,    37.99,2, -999.000,9, -999.000,-999.0000,9,-999.0000,  -999.00,9,  -999.00, -999.000,9, -999.000,   -999.0,9,   -999.0,  -999.00,9,-999.0000,9,-999.0000,9,-999.0000,9,-999.0000,9,-999.0000,9,-999.0000,9,-999.0000,9,-999.0000,9,-999.0000,9,   4.1073,   4.2304,2
  33RR20070322,  I09N,   137,  1,     13,     13,2,20070410,1923, -2.5083,  94.2373, 4759,1609.8000,   1609.8,   3.7547,  34.8025,2,  34.8028,2,    101.7,2,    103.6,2,   108.45,2,    35.93,2,     0.00,2,     2.64,2,    0.006,2,    0.002,2, -999.000,5,   2313.5,2,   2392.2,2,   7.5247,2,    25.00,     40.6,2,    36.95,2, -999.000,9, -999.000,-999.0000,9,-999.0000,  -999.00,9,  -999.00, -999.000,9, -999.000,   -999.0,9,   -999.0,  -999.00,9,-999.0000,9,-999.0000,9,-999.0000,9,-999.0000,9,-999.0000,9,-999.0000,9,-999.0000,9,-999.0000,9,-999.0000,9,   3.6278,   3.7522,2
  33RR20070322,  I09N,   137,  1,     12,     12,2,20070410,1923, -2.5083,  94.2373, 4759,1810.9000,   1810.9,   3.0259,  34.7810,2,  34.7807,2,    118.4,2,    120.8,2,   116.57,2,    35.34,2,     0.00,2,     2.57,2, -999.000,9, -999.000,9, -999.000,9,   2313.8,2,   2400.0,2,   7.5423,2,    25.00,     40.3,2,    37.11,2, -999.000,9, -999.000,-999.0000,9,-999.0000,  -999.00,9,  -999.00, -999.000,9, -999.000,   -999.0,9,   -999.0,  -999.00,9,-999.0000,9,-999.0000,9,-999.0000,9,-999.0000,9,-999.0000,9,-999.0000,9,-999.0000,9,-999.0000,9,-999.0000,9,   2.8904,   3.0265,2
  33RR20070322,  I09N,   137,  1,     11,     11,2,20070410,1923, -2.5083,  94.2373, 4759,1911.3000,   1911.3,   2.7965,  34.7754,2,  34.7754,2,    125.8,2,    126.4,2,   119.19,2,    35.11,2,     0.00,2,     2.55,2,    0.007,2,    0.002,2, -999.000,5,   2313.8,2,   2402.3,2,   7.5515,2,    25.00,     40.3,2,    36.24,2, -999.000,9, -999.000,-999.0000,9,-999.0000,  -999.00,9,  -999.00, -999.000,9, -999.000,   -999.0,9,   -999.0,  -999.00,9,-999.0000,9,-999.0000,9,-999.0000,9,-999.0000,9,-999.0000,9,-999.0000,9,-999.0000,9,-999.0000,9,-999.0000,9,   2.6554,   2.7974,2
  33RR20070322,  I09N,   137,  1,     10,     10,2,20070410,1923, -2.5083,  94.2373, 4759,2011.9000,   2011.9,   2.6017,  34.7688,2,  34.7685,2,    130.9,2,    131.4,2,   121.42,2,    34.94,2,     0.00,2,     2.53,2, -999.000,9, -999.000,9, -999.000,9,   2314.5,2,   2405.1,2,   7.5624,2,    25.00,     40.1,2,    36.71,2, -999.000,9, -999.000,-999.0000,9,-999.0000,  -999.00,9,  -999.00, -999.000,9, -999.000,   -999.0,9,   -999.0,  -999.00,9,-999.0000,9,-999.0000,9,-999.0000,9,-999.0000,9,-999.0000,9,-999.0000,9,-999.0000,9,-999.0000,9,-999.0000,9,   2.4546,   2.6019,2
  33RR20070322,  I09N,   137,  1,      9,      9,2,20070410,1923, -2.5083,  94.2373, 4759,2264.7000,   2264.7,   2.2362,  34.7537,2,  34.7538,2,    141.7,2,    142.1,2,   126.10,2,    34.50,2,     0.00,2,     2.48,2,    0.008,2,    0.003,2, -999.000,5,   2312.7,2,   2408.4,2,   7.5666,2,    25.00,     40.5,2,    36.30,2, -999.000,9, -999.000,-999.0000,9,-999.0000,  -999.00,9,  -999.00, -999.000,9, -999.000,   -999.0,9,   -999.0,  -999.00,9,-999.0000,9,-999.0000,9,-999.0000,9,-999.0000,9,-999.0000,9,-999.0000,9,-999.0000,9,-999.0000,9,-999.0000,9,   2.0725,   2.2364,2
  33RR20070322,  I09N,   137,  1,      8,      8,2,20070410,1923, -2.5083,  94.2373, 4759,2516.7000,   2516.7,   2.0065,  34.7447,2,  34.7442,2,    150.0,2,    149.8,2,   127.10,2,    34.17,2,     0.00,2,     2.44,2, -999.000,9, -999.000,9, -999.000,9,   2311.1,2,   2410.2,2,   7.5705,2,    25.00,     40.2,2,    36.06,2, -999.000,9, -999.000,-999.0000,9,-999.0000,  -999.00,9,  -999.00, -999.000,9, -999.000,   -999.0,9,   -999.0,  -999.00,9,-999.0000,9,-999.0000,9,-999.0000,9,-999.0000,9,-999.0000,9,-999.0000,9,-999.0000,9,-999.0000,9,-999.0000,9,   1.8242,   2.0078,2
  33RR20070322,  I09N,   137,  1,      7,      7,2,20070410,1923, -2.5083,  94.2373, 4759,2769.9000,   2769.9,   1.8096,  34.7371,2,  34.7372,2,    157.4,2,    156.5,2,   129.32,2,    33.94,3,     0.00,2,     2.42,2,    0.009,2,    0.003,2, -999.000,5,   2310.0,2,   2412.6,2,   7.5841,2,    25.00,     40.4,2,    35.62,2, -999.000,9, -999.000,-999.0000,9,-999.0000,  -999.00,9,  -999.00, -999.000,9, -999.000,   -999.0,9,   -999.0,  -999.00,9,-999.0000,9,-999.0000,9,-999.0000,9,-999.0000,9,-999.0000,9,-999.0000,9,-999.0000,9,-999.0000,9,-999.0000,9,   1.6076,   1.8095,2
  33RR20070322,  I09N,   137,  1,      6,      6,2,20070410,1923, -2.5083,  94.2373, 4759,3023.3000,   3023.3,   1.7054,  34.7331,2,  34.7323,2,    161.5,2,    160.0,2,   130.12,2,    33.71,3,     0.00,2,     2.41,2, -999.000,9, -999.000,9, -999.000,9,   2310.0,2,   2415.2,2,   7.5903,2,    25.00,     40.7,2,    35.49,2, -999.000,9, -999.000,-999.0000,9,-999.0000,  -999.00,9,  -999.00, -999.000,9, -999.000,   -999.0,9,   -999.0,  -999.00,9,-999.0000,9,-999.0000,9,-999.0000,9,-999.0000,9,-999.0000,9,-999.0000,9,-999.0000,9,-999.0000,9,-999.0000,9,   1.4815,   1.7049,2
  33RR20070322,  I09N,   137,  1,      5,      5,2,20070410,1923, -2.5083,  94.2373, 4759,3428.6000,   3428.6,   1.4582,  34.7245,2,  34.7250,2,    171.3,2,    172.0,2,   130.93,2,    33.33,3,     0.00,2,     2.36,2,    0.006,2,    0.003,2, -999.000,5,   2304.4,2,   2414.6,2,   7.5998,2,    25.00,     40.6,2,    34.50,2, -999.000,9, -999.000,-999.0000,9,-999.0000,  -999.00,9,  -999.00, -999.000,9, -999.000,   -999.0,9,   -999.0,  -999.00,9,-999.0000,9,-999.0000,9,-999.0000,9,-999.0000,9,-999.0000,9,-999.0000,9,-999.0000,9,-999.0000,9,-999.0000,9,   1.2001,   1.4558,2