BOTTLE,20150630SIOCCHRJL
EXPOCODE,SECT_ID,STNNBR,CASTNO,SAMPNO,BTLNBR,BTLNBR_FLAG_W,DATE,TIME,LATITUDE,LONGITUDE,DEPTH,CTDRAW,CTDPRS,CTDTMP,CTDSAL,CTDSAL_FLAG_W,SALNTY,SALNTY_FLAG_W,CTDOXY,CTDOXY_FLAG_W,OXYGEN,OXYGEN_FLAG_W,SILCAT,SILCAT_FLAG_W,NITRAT,NITRAT_FLAG_W,NITRIT,NITRIT_FLAG_W,PHSPHT,PHSPHT_FLAG_W,CFC-11,CFC-11_FLAG_W,CFC-12,CFC-12_FLAG_W,CFC113,CFC113_FLAG_W,TCARBN,TCARBN_FLAG_W,ALKALI,ALKALI_FLAG_W,PH_SWS,PH_SWS_FLAG_W,PH_TMP,DOC,DOC_FLAG_W,TDN,TDN_FLAG_W,TRITUM,TRITUM_FLAG_W,TRITER,HELIUM,HELIUM_FLAG_W,HELIER,DELHE3,DELHE3_FLAG_W,DELHER,NEON,NEON_FLAG_W,NEONER,DELC14,DELC14_FLAG_W,C14ERR,DELC13,DELC13_FLAG_W,CDOM325,CDOM325_FLAG_W,CDOM340,CDOM340_FLAG_W,CDOM380,CDOM380_FLAG_W,CDOM412,CDOM412_FLAG_W,CDOM443,CDOM443_FLAG_W,CDOM490,CDOM490_FLAG_W,CDOM555,CDOM555_FLAG_W,CDOMSL,CDOMSL_FLAG_W,CDOMSN,CDOMSN_FLAG_W,THETA,SBE35,SBE35_FLAG_W
,,,,,,,,,,,METERS,,DBAR,ITS-90,PSS-78,,PSS-78,,UMOL/KG,,UMOL/KG,,UMOL/KG,,UMOL/KG,,UMOL/KG,,UMOL/KG,,PMOL/KG,,PMOL/KG,,PMOL/KG,,UMOL/KG,,UMOL/KG,,,,DEG C,UMOL/KG,,UMOL/KG,,TU,,TU,NMOL/KG,,NMOL/KG,PERCNT,,PERCNT,NMOL/KG,,NMOL/KG,/MILLE,,/MILLE,/MILLE,,1/M,,1/M,,1/M,,1/M,,1/M,,1/M,,1/M,,1/NM,,1/NM,,DEG C,ITS-90,
  33RR20070322,  I09N,   128,  1,     36,     38,2,20070408,0331, -6.5992,  95.0102, 5137,   2.3000,      2.3,  29.2956,  33.9280,2,  33.9292,2,    197.2,2,    197.3,2,     1.79,2,     0.01,2,     0.00,2,     0.09,2,    1.520,2,    0.982,2, -999.000,5,   1906.1,6,   2227.7,2,   8.0830,3,    25.00,   -999.0,9,  -999.00,9, -999.000,9, -999.000,-999.0000,9,-999.0000,  -999.00,9,  -999.00, -999.000,9, -999.000,   -999.0,9,   -999.0,  -999.00,9,-999.0000,9,-999.0000,9,-999.0000,9,-999.0000,9,-999.0000,9,-999.0000,9,-999.0000,9,-999.0000,9,-999.0000,9,  29.2950,  29.3020,2
  33RR20070322,  I09N,   128,  1,     35,     35,2,20070408,0331, -6.5992,  95.0102, 5137,  31.8000,     31.8,  28.0917,  34.3303,2,  34.3080,2,    205.1,2,    205.0,2,     1.98,2,     0.01,2,     0.00,2,     0.09,2,    1.595,2,    1.014,2, -999.000,5,   -999.0,9,   -999.0,9,-999.0000,9,  -999.00,   -999.0,9,  -999.00,9, -999.000,9, -999.000,-999.0000,9,-999.0000,  -999.00,9,  -999.00, -999.000,9, -999.000,   -999.0,9,   -999.0,  -999.00,9,-999.0000,9,-999.0000,9,-999.0000,9,-999.0000,9,-999.0000,9,-999.0000,9,-999.0000,9,-999.0000,9,-999.0000,9,  28.0842,  28.0845,2
  33RR20070322,  I09N,   128,  1,     34,   9419,2,20070408,0331, -6.5992,  95.0102, 5137,  56.6000,     56.6,  23.0562,  34.8062,2,  34.7843,2,    133.2,2,    129.9,2,     9.33,2,     9.56,2,     0.13,2,     0.76,2,    1.594,2,    0.982,2, -999.000,5,   2062.8,2,   2285.0,2,   7.9070,6,    25.00,   -999.0,9,  -999.00,9, -999.000,9, -999.000,-999.0000,9,-999.0000,  -999.00,9,  -999.00, -999.000,9, -999.000,   -999.0,9,   -999.0,  -999.00,9,-999.0000,9,-999.0000,9,-999.0000,9,-999.0000,9,-999.0000,9,-999.0000,9,-999.0000,9,-999.0000,9,-999.0000,9,  23.0446,  23.0358,2
  33RR20070322,  I09N,   128,  1,     33,     33,2,20070408,0331, -6.5992,  95.0102, 5137,  81.5000,     81.5,  19.6495,  34.7304,2,  34.7300,2,     90.1,2,     88.9,2,    16.30,2,    16.73,2,     1.10,2,     1.23,2,    1.501,2,    0.905,2, -999.000,5,   -999.0,9,   -999.0,9,-999.0000,9,  -999.00,   -999.0,9,  -999.00,9, -999.000,9, -999.000,-999.0000,9,-999.0000,  -999.00,9,  -999.00, -999.000,9, -999.000,   -999.0,9,   -999.0,  -999.00,9,-999.0000,9,-999.0000,9,-999.0000,9,-999.0000,9,-999.0000,9,-999.0000,9,-999.0000,9,-999.0000,9,-999.0000,9,  19.6347,  19.6492,2
  33RR20070322,  I09N,   128,  1,     32,     37,2,20070408,0331, -6.5992,  95.0102, 5137, 106.1000,    106.1,  17.4167,  34.8959,2,  34.8928,2,     69.6,2,     59.3,2,    20.07,2,    23.00,2,     0.05,2,     1.59,2,    1.452,2,    0.845,2, -999.000,5,   2163.5,2,   2293.2,2,   7.7029,6,    25.00,   -999.0,9,  -999.00,9, -999.000,9, -999.000,-999.0000,9,-999.0000,  -999.00,9,  -999.00, -999.000,9, -999.000,   -999.0,9,   -999.0,  -999.00,9,-999.0000,9,-999.0000,9,-999.0000,9,-999.0000,9,-999.0000,9,-999.0000,9,-999.0000,9,-999.0000,9,-999.0000,9,  17.3989,  17.4178,2
  33RR20070322,  I09N,   128,  1,     31,     31,2,20070408,0331, -6.5992,  95.0102, 5137, 156.4000,    156.4,  14.0463,  34.9728,2,  34.9722,2,     54.7,2,     56.8,2,    24.03,2,    26.28,2,     0.01,2,     1.84,2,    1.208,2,    0.675,2, -999.000,5,   -999.0,9,   -999.0,9,-999.0000,9,  -999.00,   -999.0,9,  -999.00,9, -999.000,9, -999.000,-999.0000,9,-999.0000,  -999.00,9,  -999.00, -999.000,9, -999.000,   -999.0,9,   -999.0,  -999.00,9,-999.0000,9,-999.0000,9,-999.0000,9,-999.0000,9,-999.0000,9,-999.0000,9,-999.0000,9,-999.0000,9,-999.0000,9,  14.0237,  14.0448,2
  33RR20070322,  I09N,   128,  1,     30,     30,2,20070408,0331, -6.5992,  95.0102, 5137, 206.2000,    206.2,  12.0643,  34.9652,2,  34.9651,2,     61.3,2,     62.3,2,    26.47,2,    27.80,2,     0.00,2,     1.94,2,    0.980,2,    0.545,2, -999.000,5,   -999.0,9,   -999.0,9,-999.0000,9,  -999.00,   -999.0,9,  -999.00,9, -999.000,9, -999.000,-999.0000,9,-999.0000,  -999.00,9,  -999.00, -999.000,9, -999.000,   -999.0,9,   -999.0,  -999.00,9,-999.0000,9,-999.0000,9,-999.0000,9,-999.0000,9,-999.0000,9,-999.0000,9,-999.0000,9,-999.0000,9,-999.0000,9,  12.0373,  12.0617,2
  33RR20070322,  I09N,   128,  1,     29,     29,2,20070408,0331, -6.5992,  95.0102, 5137, 256.1000,    256.1,  11.5293,  34.9604,2,  34.9602,2,     62.4,2,     62.5,2,    27.23,2,    28.56,2,     0.00,2,     1.97,2,    0.860,2,    0.472,2, -999.000,5,   2218.8,2,   2311.4,2,   7.5861,6,    25.00,   -999.0,9,  -999.00,9, -999.000,9, -999.000,-999.0000,9,-999.0000,  -999.00,9,  -999.00, -999.000,9, -999.000,   -999.0,9,   -999.0,  -999.00,9,-999.0000,9,-999.0000,9,-999.0000,9,-999.0000,9,-999.0000,9,-999.0000,9,-999.0000,9,-999.0000,9,-999.0000,9,  11.4967,  11.5286,2
  33RR20070322,  I09N,   128,  1,     28,     28,2,20070408,0331, -6.5992,  95.0102, 5137, 305.3000,    305.3,  10.8151,  34.9199,2,  34.9210,2,     60.5,2,     60.3,2,    30.25,2,    29.93,2,     0.00,2,     2.06,2,    0.669,2,    0.369,2, -999.000,5,   -999.0,9,   -999.0,9,-999.0000,9,  -999.00,   -999.0,9,  -999.00,9, -999.000,9, -999.000,-999.0000,9,-999.0000,  -999.00,9,  -999.00, -999.000,9, -999.000,   -999.0,9,   -999.0,  -999.00,9,-999.0000,9,-999.0000,9,-999.0000,9,-999.0000,9,-999.0000,9,-999.0000,9,-999.0000,9,-999.0000,9,-999.0000,9,  10.7777,  10.8118,2
  33RR20070322,  I09N,   128,  1,     27,     27,2,20070408,0331, -6.5992,  95.0102, 5137, 357.0000,    357.0,  10.4012,  34.9111,2,  34.9107,2,     60.2,2,     60.1,2,    32.13,2,    30.80,2,     0.00,2,     2.12,2,    0.546,2,    0.301,2, -999.000,5,   -999.0,9,   -999.0,9,-999.0000,9,  -999.00,   -999.0,9,  -999.00,9, -999.000,9, -999.000,-999.0000,9,-999.0000,  -999.00,9,  -999.00, -999.000,9, -999.000,   -999.0,9,   -999.0,  -999.00,9,-999.0000,9,-999.0000,9,-999.0000,9,-999.0000,9,-999.0000,9,-999.0000,9,-999.0000,9,-999.0000,9,-999.0000,9,  10.3584,  10.4009,2
  33RR20070322,  I09N,   128,  1,     26,     26,2,20070408,0331, -6.5992,  95.0102, 5137, 406.0000,    406.0,  10.0370,  34.9063,2,  34.9070,2,     60.5,2,     60.3,2,    34.02,2,    31.40,2,     0.00,2,     2.18,2,    0.437,2,    0.242,2, -999.000,5,   -999.0,9,   -999.0,9,-999.0000,9,  -999.00,   -999.0,9,  -999.00,9, -999.000,9, -999.000,-999.0000,9,-999.0000,  -999.00,9,  -999.00, -999.000,9, -999.000,   -999.0,9,   -999.0,  -999.00,9,-999.0000,9,-999.0000,9,-999.0000,9,-999.0000,9,-999.0000,9,-999.0000,9,-999.0000,9,-999.0000,9,-999.0000,9,   9.9893,  10.0418,2
  33RR20070322,  I09N,   128,  1,     25,     25,2,20070408,0331, -6.5992,  95.0102, 5137, 456.6000,    456.6,   9.6835,  34.8984,2,  34.8989,2,     61.5,2,     60.9,2,    36.28,2,    32.06,2,     0.00,2,     2.23,2,    0.323,2,    0.181,2, -999.000,5,   -999.0,9,   -999.0,9,-999.0000,9,  -999.00,   -999.0,9,  -999.00,9, -999.000,9, -999.000,-999.0000,9,-999.0000,  -999.00,9,  -999.00, -999.000,9, -999.000,   -999.0,9,   -999.0,  -999.00,9,-999.0000,9,-999.0000,9,-999.0000,9,-999.0000,9,-999.0000,9,-999.0000,9,-999.0000,9,-999.0000,9,-999.0000,9,   9.6309,   9.6827,2
  33RR20070322,  I09N,   128,  1,     24,     24,2,20070408,0331, -6.5992,  95.0102, 5137, 506.4000,    506.4,   9.2110,  34.8555,2,  34.8560,2,     60.4,2,     60.3,2,    40.82,2,    32.98,2,     0.00,2,     2.32,2,    0.214,2,    0.122,2, -999.000,5,   2244.2,2,   2319.2,2,   7.5336,6,    25.00,   -999.0,9,  -999.00,9, -999.000,9, -999.000,-999.0000,9,-999.0000,  -999.00,9,  -999.00, -999.000,9, -999.000,   -999.0,9,   -999.0,  -999.00,9,-999.0000,9,-999.0000,9,-999.0000,9,-999.0000,9,-999.0000,9,-999.0000,9,-999.0000,9,-999.0000,9,-999.0000,9,   9.1543,   9.2097,2
  33RR20070322,  I09N,   128,  1,     23,     23,2,20070408,0331, -6.5992,  95.0102, 5137, 606.5000,    606.5,   8.7584,  34.8739,2,  34.8741,2,     56.8,2,     57.1,2,    48.19,2,    33.79,2,     0.00,2,     2.44,2,    0.145,2,    0.083,2, -999.000,5,   -999.0,9,   -999.0,9,-999.0000,9,  -999.00,   -999.0,9,  -999.00,9, -999.000,9, -999.000,-999.0000,9,-999.0000,  -999.00,9,  -999.00, -999.000,9, -999.000,   -999.0,9,   -999.0,  -999.00,9,-999.0000,9,-999.0000,9,-999.0000,9,-999.0000,9,-999.0000,9,-999.0000,9,-999.0000,9,-999.0000,9,-999.0000,9,   8.6921,   8.7597,2
  33RR20070322,  I09N,   128,  1,     22,     22,2,20070408,0331, -6.5992,  95.0102, 5137, 706.8000,    706.8,   7.9812,  34.8424,2,  34.8451,2,     55.4,2,     55.1,2,    59.75,2,    35.06,2,     0.00,2,     2.57,2,    0.071,2,    0.044,2, -999.000,5,   -999.0,9,   -999.0,9,-999.0000,9,  -999.00,   -999.0,9,  -999.00,9, -999.000,9, -999.000,-999.0000,9,-999.0000,  -999.00,9,  -999.00, -999.000,9, -999.000,   -999.0,9,   -999.0,  -999.00,9,-999.0000,9,-999.0000,9,-999.0000,9,-999.0000,9,-999.0000,9,-999.0000,9,-999.0000,9,-999.0000,9,-999.0000,9,   7.9076,   7.9813,2
  33RR20070322,  I09N,   128,  1,     21,     21,2,20070408,0331, -6.5992,  95.0102, 5137, 807.4000,    807.4,   6.9171,  34.7710,2,  34.7747,2,     59.5,2,     61.6,2,    73.43,2,    35.83,2,     0.00,2,     2.64,2,    0.045,2,    0.024,2, -999.000,5,   -999.0,9,   -999.0,9,-999.0000,9,  -999.00,   -999.0,9,  -999.00,9, -999.000,9, -999.000,-999.0000,9,-999.0000,  -999.00,9,  -999.00, -999.000,9, -999.000,   -999.0,9,   -999.0,  -999.00,9,-999.0000,9,-999.0000,9,-999.0000,9,-999.0000,9,-999.0000,9,-999.0000,9,-999.0000,9,-999.0000,9,-999.0000,9,   6.8389,   6.9322,2
  33RR20070322,  I09N,   128,  1,     20,     20,2,20070408,0331, -6.5992,  95.0102, 5137, 907.3000,    907.3,   6.2693,  34.7367,2,  34.7388,2,     67.1,2,     68.1,2,    82.19,2,    35.93,2,     0.00,2,     2.66,2, -999.000,9, -999.000,9, -999.000,9,   -999.0,9,   -999.0,9,-999.0000,9,  -999.00,   -999.0,9,  -999.00,9, -999.000,9, -999.000,-999.0000,9,-999.0000,  -999.00,9,  -999.00, -999.000,9, -999.000,   -999.0,9,   -999.0,  -999.00,9,-999.0000,9,-999.0000,9,-999.0000,9,-999.0000,9,-999.0000,9,-999.0000,9,-999.0000,9,-999.0000,9,-999.0000,9,   6.1853,   6.2699,2
  33RR20070322,  I09N,   128,  1,     19,     19,2,20070408,0331, -6.5992,  95.0102, 5137,1006.3000,   1006.3,   5.5155,  34.7004,2,  34.7006,2,     77.0,2,     78.2,2,    91.93,2,    36.03,2,     0.00,2,     2.67,2,    0.051,3,    0.027,3, -999.000,5,   2298.8,2,   2370.5,6,   7.5278,6,    25.00,   -999.0,9,  -999.00,9, -999.000,9, -999.000,-999.0000,9,-999.0000,  -999.00,9,  -999.00, -999.000,9, -999.000,   -999.0,9,   -999.0,  -999.00,9,-999.0000,9,-999.0000,9,-999.0000,9,-999.0000,9,-999.0000,9,-999.0000,9,-999.0000,9,-999.0000,9,-999.0000,9,   5.4274,   5.5100,2
  33RR20070322,  I09N,   128,  1,     18,     18,2,20070408,0331, -6.5992,  95.0102, 5137,1107.7000,   1107.7,   5.0431,  34.6975,2,  34.6977,2,     83.1,2,     83.7,2,    98.82,2,    36.08,2,     0.00,2,     2.66,2, -999.000,9, -999.000,9, -999.000,9,   -999.0,9,   -999.0,9,-999.0000,9,  -999.00,   -999.0,9,  -999.00,9, -999.000,9, -999.000,-999.0000,9,-999.0000,  -999.00,9,  -999.00, -999.000,9, -999.000,   -999.0,9,   -999.0,  -999.00,9,-999.0000,9,-999.0000,9,-999.0000,9,-999.0000,9,-999.0000,9,-999.0000,9,-999.0000,9,-999.0000,9,-999.0000,9,   4.9492,   5.0491,2
  33RR20070322,  I09N,   128,  1,     17,     17,2,20070408,0331, -6.5992,  95.0102, 5137,1207.5000,   1207.5,   4.8006,  34.7333,2,  34.7349,2,     85.2,2,     83.8,2,   100.74,2,    36.28,2,     0.00,2,     2.68,2,    0.021,2,    0.010,2, -999.000,5,   -999.0,9,   -999.0,9,-999.0000,9,  -999.00,   -999.0,9,  -999.00,9, -999.000,9, -999.000,-999.0000,9,-999.0000,  -999.00,9,  -999.00, -999.000,9, -999.000,   -999.0,9,   -999.0,  -999.00,9,-999.0000,9,-999.0000,9,-999.0000,9,-999.0000,9,-999.0000,9,-999.0000,9,-999.0000,9,-999.0000,9,-999.0000,9,   4.6996,   4.7963,2
  33RR20070322,  I09N,   128,  1,     16,     16,2,20070408,0331, -6.5992,  95.0102, 5137,1308.8000,   1308.8,   4.4989,  34.7380,2,  34.7384,2,     88.2,2,     88.5,2,   103.81,2,    36.27,2,     0.00,2,     2.68,2, -999.000,9, -999.000,9, -999.000,9,   -999.0,9,   -999.0,9,-999.0000,9,  -999.00,   -999.0,9,  -999.00,9, -999.000,9, -999.000,-999.0000,9,-999.0000,  -999.00,9,  -999.00, -999.000,9, -999.000,   -999.0,9,   -999.0,  -999.00,9,-999.0000,9,-999.0000,9,-999.0000,9,-999.0000,9,-999.0000,9,-999.0000,9,-999.0000,9,-999.0000,9,-999.0000,9,   4.3914,   4.4989,2
  33RR20070322,  I09N,   128,  1,     15,     15,2,20070408,0331, -6.5992,  95.0102, 5137,1408.5000,   1408.5,   4.3185,  34.7691,2,  34.7705,2,     91.7,2,     91.8,2,   104.76,2,    36.32,2,     0.00,2,     2.68,2,    0.006,2,    0.003,2, -999.000,5,   -999.0,9,   -999.0,9,-999.0000,9,  -999.00,   -999.0,9,  -999.00,9, -999.000,9, -999.000,-999.0000,9,-999.0000,  -999.00,9,  -999.00, -999.000,9, -999.000,   -999.0,9,   -999.0,  -999.00,9,-999.0000,9,-999.0000,9,-999.0000,9,-999.0000,9,-999.0000,9,-999.0000,9,-999.0000,9,-999.0000,9,-999.0000,9,   4.2036,   4.3195,2
  33RR20070322,  I09N,   128,  1,     14,     14,2,20070408,0331, -6.5992,  95.0102, 5137,1509.4000,   1509.4,   4.0001,  34.7624,2,  34.7628,2,     98.8,2,     97.9,2,   107.64,2,    36.12,2,     0.00,2,     2.67,2, -999.000,9, -999.000,9, -999.000,9,   -999.0,9,   -999.0,9,-999.0000,9,  -999.00,   -999.0,9,  -999.00,9, -999.000,9, -999.000,-999.0000,9,-999.0000,  -999.00,9,  -999.00, -999.000,9, -999.000,   -999.0,9,   -999.0,  -999.00,9,-999.0000,9,-999.0000,9,-999.0000,9,-999.0000,9,-999.0000,9,-999.0000,9,-999.0000,9,-999.0000,9,-999.0000,9,   3.8795,   4.0032,2
  33RR20070322,  I09N,   128,  1,     13,     13,2,20070408,0331, -6.5992,  95.0102, 5137,1611.3000,   1611.3,   3.6829,  34.7684,2,  34.7691,2,    106.0,2,    105.7,2,   109.95,2,    35.90,2,     0.00,2,     2.64,2, -999.000,9, -999.000,9, -999.000,9,   -999.0,9,   -999.0,9,-999.0000,9,  -999.00,   -999.0,9,  -999.00,9, -999.000,9, -999.000,-999.0000,9,-999.0000,  -999.00,9,  -999.00, -999.000,9, -999.000,   -999.0,9,   -999.0,  -999.00,9,-999.0000,9,-999.0000,9,-999.0000,9,-999.0000,9,-999.0000,9,-999.0000,9,-999.0000,9,-999.0000,9,-999.0000,9,   3.5568,   3.6821,2
  33RR20070322,  I09N,   128,  1,     12,     12,2,20070408,0331, -6.5992,  95.0102, 5137,1811.3000,   1811.3,   3.0555,  34.7588,2,  34.7597,2,    121.8,2,    121.4,2,   115.53,2,    35.39,2,     0.00,2,     2.58,2,    0.005,2,    0.002,2, -999.000,5,   -999.0,9,   -999.0,9,-999.0000,9,  -999.00,   -999.0,9,  -999.00,9, -999.000,9, -999.000,-999.0000,9,-999.0000,  -999.00,9,  -999.00, -999.000,9, -999.000,   -999.0,9,   -999.0,  -999.00,9,-999.0000,9,-999.0000,9,-999.0000,9,-999.0000,9,-999.0000,9,-999.0000,9,-999.0000,9,-999.0000,9,-999.0000,9,   2.9197,   3.0574,2
  33RR20070322,  I09N,   128,  1,     11,     11,2,20070408,0331, -6.5992,  95.0102, 5137,2014.3000,   2014.3,   2.5890,  34.7530,2,  34.7536,2,    134.1,2,    134.0,2,   120.35,2,    35.03,2,     0.00,2,     2.52,2, -999.000,9, -999.000,9, -999.000,9,   -999.0,9,   -999.0,9,-999.0000,9,  -999.00,   -999.0,9,  -999.00,9, -999.000,9, -999.000,-999.0000,9,-999.0000,  -999.00,9,  -999.00, -999.000,9, -999.000,   -999.0,9,   -999.0,  -999.00,9,-999.0000,9,-999.0000,9,-999.0000,9,-999.0000,9,-999.0000,9,-999.0000,9,-999.0000,9,-999.0000,9,-999.0000,9,   2.4419,   2.5905,2
  33RR20070322,  I09N,   128,  1,     10,     10,2,20070408,0331, -6.5992,  95.0102, 5137,2266.2000,   2266.2,   2.2273,  34.7453,2,  34.7455,2,    144.5,2,    144.3,2,   124.22,2,    34.61,2,     0.00,2,     2.47,2, -999.000,9, -999.000,9, -999.000,9,   -999.0,9,   -999.0,9,-999.0000,9,  -999.00,   -999.0,9,  -999.00,9, -999.000,9, -999.000,-999.0000,9,-999.0000,  -999.00,9,  -999.00, -999.000,9, -999.000,   -999.0,9,   -999.0,  -999.00,9,-999.0000,9,-999.0000,9,-999.0000,9,-999.0000,9,-999.0000,9,-999.0000,9,-999.0000,9,-999.0000,9,-999.0000,9,   2.0637,   2.2271,2
  33RR20070322,  I09N,   128,  1,      9,      9,2,20070408,0331, -6.5992,  95.0102, 5137,2518.7000,   2518.7,   1.9729,  34.7392,2,  34.7396,2,    153.4,2,    153.5,2,   126.15,2,    34.25,2,     0.00,2,     2.43,2,    0.005,2,    0.001,2, -999.000,5,   2303.8,2,   2405.2,6,   7.6026,6,    25.00,   -999.0,9,  -999.00,9, -999.000,9, -999.000,-999.0000,9,-999.0000,  -999.00,9,  -999.00, -999.000,9, -999.000,   -999.0,9,   -999.0,  -999.00,9,-999.0000,9,-999.0000,9,-999.0000,9,-999.0000,9,-999.0000,9,-999.0000,9,-999.0000,9,-999.0000,9,-999.0000,9,   1.7910,   1.9734,2
  33RR20070322,  I09N,   128,  1,      8,      8,2,20070408,0331, -6.5992,  95.0102, 5137,2770.7000,   2770.7,   1.8006,  34.7342,2,  34.7351,2,    159.6,2,    159.3,2,   127.89,2,    34.00,2,     0.00,2,     2.41,2, -999.000,9, -999.000,9, -999.000,9,   -999.0,9,   -999.0,9,-999.0000,9,  -999.00,   -999.0,9,  -999.00,9, -999.000,9, -999.000,-999.0000,9,-999.0000,  -999.00,9,  -999.00, -999.000,9, -999.000,   -999.0,9,   -999.0,  -999.00,9,-999.0000,9,-999.0000,9,-999.0000,9,-999.0000,9,-999.0000,9,-999.0000,9,-999.0000,9,-999.0000,9,-999.0000,9,   1.5988,   1.8005,2
  33RR20070322,  I09N,   128,  1,      7,      7,2,20070408,0331, -6.5992,  95.0102, 5137,3024.4000,   3024.4,   1.6657,  34.7300,2,  34.7308,2,    164.0,2,    164.2,2,   129.83,2,    33.79,2,     0.00,2,     2.38,2, -999.000,9, -999.000,9, -999.000,9,   -999.0,9,   -999.0,9,-999.0000,9,  -999.00,   -999.0,9,  -999.00,9, -999.000,9, -999.000,-999.0000,9,-999.0000,  -999.00,9,  -999.00, -999.000,9, -999.000,   -999.0,9,   -999.0,  -999.00,9,-999.0000,9,-999.0000,9,-999.0000,9,-999.0000,9,-999.0000,9,-999.0000,9,-999.0000,9,-999.0000,9,-999.0000,9,   1.4426,   1.6652,2
  33RR20070322,  I09N,   128,  1,      6,      6,2,20070408,0331, -6.5992,  95.0102, 5137,3431.0000,   3431.0,   1.4137,  34.7222,2,  34.7223,2,    174.9,2,    175.7,2,   130.02,2,    33.27,2,     0.00,2,     2.35,2,    0.002,2,    0.001,2, -999.000,5,   -999.0,9,   -999.0,9,-999.0000,9,  -999.00,   -999.0,9,  -999.00,9, -999.000,9, -999.000,-999.0000,9,-999.0000,  -999.00,9,  -999.00, -999.000,9, -999.000,   -999.0,9,   -999.0,  -999.00,9,-999.0000,9,-999.0000,9,-999.0000,9,-999.0000,9,-999.0000,9,-999.0000,9,-999.0000,9,-999.0000,9,-999.0000,9,   1.1564,   1.4142,2
  33RR20070322,  I09N,   128,  1,      5,      5,2,20070408,0331, -6.5992,  95.0102, 5137,3836.2000,   3836.2,   1.1949,  34.7169,2,  34.7168,2,    188.5,2,    189.4,2,  -999.00,9,  -999.00,9,  -999.00,9,  -999.00,9, -999.000,9, -999.000,9, -999.000,9,   -999.0,9,   -999.0,9,-999.0000,9,  -999.00,   -999.0,9,  -999.00,9, -999.000,9, -999.000,-999.0000,9,-999.0000,  -999.00,9,  -999.00, -999.000,9, -999.000,   -999.0,9,   -999.0,  -999.00,9,-999.0000,9,-999.0000,9,-999.0000,9,-999.0000,9,-999.0000,9,-999.0000,9,-999.0000,9,-999.0000,9,-999.0000,9,   0.9017,   1.1952,2