BOTTLE,20150630SIOCCHRJL
EXPOCODE,SECT_ID,STNNBR,CASTNO,SAMPNO,BTLNBR,BTLNBR_FLAG_W,DATE,TIME,LATITUDE,LONGITUDE,DEPTH,CTDRAW,CTDPRS,CTDTMP,CTDSAL,CTDSAL_FLAG_W,SALNTY,SALNTY_FLAG_W,CTDOXY,CTDOXY_FLAG_W,OXYGEN,OXYGEN_FLAG_W,SILCAT,SILCAT_FLAG_W,NITRAT,NITRAT_FLAG_W,NITRIT,NITRIT_FLAG_W,PHSPHT,PHSPHT_FLAG_W,CFC-11,CFC-11_FLAG_W,CFC-12,CFC-12_FLAG_W,CFC113,CFC113_FLAG_W,TCARBN,TCARBN_FLAG_W,ALKALI,ALKALI_FLAG_W,PH_SWS,PH_SWS_FLAG_W,PH_TMP,DOC,DOC_FLAG_W,TDN,TDN_FLAG_W,TRITUM,TRITUM_FLAG_W,TRITER,HELIUM,HELIUM_FLAG_W,HELIER,DELHE3,DELHE3_FLAG_W,DELHER,NEON,NEON_FLAG_W,NEONER,DELC14,DELC14_FLAG_W,C14ERR,DELC13,DELC13_FLAG_W,CDOM325,CDOM325_FLAG_W,CDOM340,CDOM340_FLAG_W,CDOM380,CDOM380_FLAG_W,CDOM412,CDOM412_FLAG_W,CDOM443,CDOM443_FLAG_W,CDOM490,CDOM490_FLAG_W,CDOM555,CDOM555_FLAG_W,CDOMSL,CDOMSL_FLAG_W,CDOMSN,CDOMSN_FLAG_W,THETA,SBE35,SBE35_FLAG_W
,,,,,,,,,,,METERS,,DBAR,ITS-90,PSS-78,,PSS-78,,UMOL/KG,,UMOL/KG,,UMOL/KG,,UMOL/KG,,UMOL/KG,,UMOL/KG,,PMOL/KG,,PMOL/KG,,PMOL/KG,,UMOL/KG,,UMOL/KG,,,,DEG C,UMOL/KG,,UMOL/KG,,TU,,TU,NMOL/KG,,NMOL/KG,PERCNT,,PERCNT,NMOL/KG,,NMOL/KG,/MILLE,,/MILLE,/MILLE,,1/M,,1/M,,1/M,,1/M,,1/M,,1/M,,1/M,,1/NM,,1/NM,,DEG C,ITS-90,
  33RR20070322,  I09N,   133,  2,     36,     38,2,20070409,1748, -4.0693,  94.7157, 4892,   3.1000,      3.1,  29.0660,  34.2033,2,  34.2054,2,    195.2,2,    195.7,2,     1.54,2,     0.06,2,     0.00,2,     0.11,2,    1.503,2,    0.987,2, -999.000,5,   1925.4,6,   2244.8,6,   8.0750,6,    25.00,     71.3,2,     5.56,2, -999.000,9, -999.000,-999.0000,9,-999.0000,  -999.00,9,  -999.00, -999.000,9, -999.000,   -999.0,9,   -999.0,  -999.00,9,-999.0000,9,-999.0000,9,-999.0000,9,-999.0000,9,-999.0000,9,-999.0000,9,-999.0000,9,-999.0000,9,-999.0000,9,  29.0653,  29.0586,2
  33RR20070322,  I09N,   133,  2,     35,     35,2,20070409,1748, -4.0693,  94.7157, 4892,  20.7000,     20.7,  28.7918,  34.2546,2,  34.2519,2,    197.3,2,    197.1,2,     1.53,2,     0.06,2,     0.00,2,     0.10,2,    1.530,2,    0.989,2, -999.000,5,   1926.9,2,   2247.1,2,   8.0982,2,    25.00,     70.8,2,     5.40,2, -999.000,9, -999.000,-999.0000,9,-999.0000,  -999.00,9,  -999.00, -999.000,9, -999.000,   -999.0,9,   -999.0,  -999.00,9,-999.0000,9,-999.0000,9,-999.0000,9,-999.0000,9,-999.0000,9,-999.0000,9,-999.0000,9,-999.0000,9,-999.0000,9,  28.7868,  28.7871,2
  33RR20070322,  I09N,   133,  2,     34,   9419,2,20070409,1748, -4.0693,  94.7157, 4892,  45.5000,     45.5,  28.3961,  34.6199,2,  34.6412,2,    196.9,2,    194.4,2,     1.52,2,     0.06,2,     0.00,2,     0.15,2,    1.557,2,    0.997,2, -999.000,5,   1955.7,2,   2269.4,2,   8.0565,2,    25.00,     69.7,2,     5.07,2, -999.000,9, -999.000,-999.0000,9,-999.0000,  -999.00,9,  -999.00, -999.000,9, -999.000,   -999.0,9,   -999.0,  -999.00,9,-999.0000,9,-999.0000,9,-999.0000,9,-999.0000,9,-999.0000,9,-999.0000,9,-999.0000,9,-999.0000,9,-999.0000,9,  28.3853,  28.3924,2
  33RR20070322,  I09N,   133,  2,     33,     33,2,20070409,1748, -4.0693,  94.7157, 4892,  85.5000,     85.5,  23.8823,  35.3243,2,  35.3211,2,    120.5,2,    117.4,2,     6.24,2,    10.94,2,     0.18,2,     0.87,2,    1.671,2,    1.028,2, -999.000,5,   2083.8,2,   2302.2,2,   7.8537,2,    25.00,     57.6,2,    16.12,2, -999.000,9, -999.000,-999.0000,9,-999.0000,  -999.00,9,  -999.00, -999.000,9, -999.000,   -999.0,9,   -999.0,  -999.00,9,-999.0000,9,-999.0000,9,-999.0000,9,-999.0000,9,-999.0000,9,-999.0000,9,-999.0000,9,-999.0000,9,-999.0000,9,  23.8643,  23.8814,2
  33RR20070322,  I09N,   133,  2,     32,     37,2,20070409,1748, -4.0693,  94.7157, 4892, 140.5000,    140.5,  19.4515,  35.2026,2,  35.2011,2,     79.2,2,     78.3,2,    12.68,2,    19.01,2,     0.02,2,     1.35,2,    1.656,2,    0.978,2, -999.000,5,   2144.3,2,   2305.6,2,   7.7380,3,    25.00,     54.7,2,    22.05,2, -999.000,9, -999.000,-999.0000,9,-999.0000,  -999.00,9,  -999.00, -999.000,9, -999.000,   -999.0,9,   -999.0,  -999.00,9,-999.0000,9,-999.0000,9,-999.0000,9,-999.0000,9,-999.0000,9,-999.0000,9,-999.0000,9,-999.0000,9,-999.0000,9,  19.4260,  19.4458,2
  33RR20070322,  I09N,   133,  2,     31,     31,2,20070409,1748, -4.0693,  94.7157, 4892, 165.3000,    165.3,  15.7565,  34.9371,2,  34.9357,2,     53.9,2,     53.7,2,    21.76,2,    25.15,2,     0.01,2,     1.75,2,    1.347,2,    0.787,2, -999.000,5,   2185.0,2,   2300.4,2,   7.6391,2,    25.00,     54.1,2,    28.59,2, -999.000,9, -999.000,-999.0000,9,-999.0000,  -999.00,9,  -999.00, -999.000,9, -999.000,   -999.0,9,   -999.0,  -999.00,9,-999.0000,9,-999.0000,9,-999.0000,9,-999.0000,9,-999.0000,9,-999.0000,9,-999.0000,9,-999.0000,9,-999.0000,9,  15.7306,  15.7727,2
  33RR20070322,  I09N,   133,  2,     30,     30,2,20070409,1748, -4.0693,  94.7157, 4892, 190.5000,    190.5,  14.4041,  35.1111,2,  35.1096,2,     59.5,2,     62.9,2,    19.48,2,    25.15,2,     0.01,2,     1.76,2,    1.432,2,    0.795,2, -999.000,5,   2197.7,2,   2309.3,2,   7.6213,2,    25.00,     52.5,2,    28.99,2, -999.000,9, -999.000,-999.0000,9,-999.0000,  -999.00,9,  -999.00, -999.000,9, -999.000,   -999.0,9,   -999.0,  -999.00,9,-999.0000,9,-999.0000,9,-999.0000,9,-999.0000,9,-999.0000,9,-999.0000,9,-999.0000,9,-999.0000,9,-999.0000,9,  14.3760,  14.3784,2
  33RR20070322,  I09N,   133,  2,     29,     29,2,20070409,1748, -4.0693,  94.7157, 4892, 240.5000,    240.5,  12.5726,  35.0551,2,  35.0530,2,     77.3,2,     80.3,2,    20.42,2,    25.20,2,     0.00,2,     1.74,2,    1.354,2,    0.735,2, -999.000,5,   2200.8,2,   2310.3,2,   7.6232,2,    25.00,     51.7,2,    29.02,2, -999.000,9, -999.000,-999.0000,9,-999.0000,  -999.00,9,  -999.00, -999.000,9, -999.000,   -999.0,9,   -999.0,  -999.00,9,-999.0000,9,-999.0000,9,-999.0000,9,-999.0000,9,-999.0000,9,-999.0000,9,-999.0000,9,-999.0000,9,-999.0000,9,  12.5402,  12.5630,2
  33RR20070322,  I09N,   133,  2,     28,     28,2,20070409,1748, -4.0693,  94.7157, 4892, 290.2000,    290.2,  11.7990,  35.0266,2,  35.0225,2,     88.6,2,     90.2,2,    20.61,2,    25.40,2,     0.00,2,     1.74,2,    1.313,2,    0.708,2, -999.000,5,   2200.7,2,   2311.7,2,   7.6071,2,    25.00,     48.6,2,    28.91,2, -999.000,9, -999.000,-999.0000,9,-999.0000,  -999.00,9,  -999.00, -999.000,9, -999.000,   -999.0,9,   -999.0,  -999.00,9,-999.0000,9,-999.0000,9,-999.0000,9,-999.0000,9,-999.0000,9,-999.0000,9,-999.0000,9,-999.0000,9,-999.0000,9,  11.7614,  11.7978,2
  33RR20070322,  I09N,   133,  2,     27,     27,2,20070409,1748, -4.0693,  94.7157, 4892, 339.6000,    339.6,  11.0713,  34.9761,2,  34.9790,2,     89.4,2,     88.6,2,    22.31,2,    26.81,2,     0.00,2,     1.82,2,    1.112,2,    0.592,2, -999.000,5,   2206.1,2,   2307.7,2,   7.5980,2,    25.00,     47.9,2,    30.27,2, -999.000,9, -999.000,-999.0000,9,-999.0000,  -999.00,9,  -999.00, -999.000,9, -999.000,   -999.0,9,   -999.0,  -999.00,9,-999.0000,9,-999.0000,9,-999.0000,9,-999.0000,9,-999.0000,9,-999.0000,9,-999.0000,9,-999.0000,9,-999.0000,9,  11.0290,  11.0714,2
  33RR20070322,  I09N,   133,  2,     26,     26,2,20070409,1748, -4.0693,  94.7157, 4892, 389.5000,    389.5,  10.5531,  34.9476,2,  34.9480,2,     87.0,2,     86.2,2,    24.39,2,    28.23,2,     0.00,2,     1.90,2,    0.914,2,    0.502,2, -999.000,5,   2212.4,2,   2308.2,2,   7.5754,2,    25.00,     46.7,2,    31.54,2, -999.000,9, -999.000,-999.0000,9,-999.0000,  -999.00,9,  -999.00, -999.000,9, -999.000,   -999.0,9,   -999.0,  -999.00,9,-999.0000,9,-999.0000,9,-999.0000,9,-999.0000,9,-999.0000,9,-999.0000,9,-999.0000,9,-999.0000,9,-999.0000,9,  10.5059,  10.5508,2
  33RR20070322,  I09N,   133,  2,     25,     25,2,20070409,1748, -4.0693,  94.7157, 4892, 440.3000,    440.3,  10.1791,  34.9242,2,  34.9236,2,     85.9,2,     77.6,2,    28.18,2,    29.84,2,     0.00,2,     2.02,2,    0.643,2,    0.350,2, -999.000,5,   2222.5,2,   2310.1,2,   7.5646,2,    25.00,     46.0,2,    32.85,2, -999.000,9, -999.000,-999.0000,9,-999.0000,  -999.00,9,  -999.00, -999.000,9, -999.000,   -999.0,9,   -999.0,  -999.00,9,-999.0000,9,-999.0000,9,-999.0000,9,-999.0000,9,-999.0000,9,-999.0000,9,-999.0000,9,-999.0000,9,-999.0000,9,  10.1268,  10.1861,2
  33RR20070322,  I09N,   133,  2,     24,     24,2,20070409,1748, -4.0693,  94.7157, 4892, 490.2000,    490.2,   9.6358,  34.8910,2,  34.8902,2,     75.8,2,     71.3,2,    33.50,2,    31.36,2,     0.00,2,     2.17,2,    0.396,2,    0.218,2, -999.000,5,   2232.3,2,   2313.3,2,   7.5522,2,    25.00,     45.5,2,    34.53,2, -999.000,9, -999.000,-999.0000,9,-999.0000,  -999.00,9,  -999.00, -999.000,9, -999.000,   -999.0,9,   -999.0,  -999.00,9,-999.0000,9,-999.0000,9,-999.0000,9,-999.0000,9,-999.0000,9,-999.0000,9,-999.0000,9,-999.0000,9,-999.0000,9,   9.5794,   9.6335,2
  33RR20070322,  I09N,   133,  2,     23,     23,2,20070409,1748, -4.0693,  94.7157, 4892, 575.5000,    575.5,   8.7678,  34.8839,2,  34.8812,2,     66.8,2,     65.0,2,    44.52,2,    33.29,2,     0.00,2,     2.39,2,    0.184,2,    0.103,2, -999.000,5,   2250.4,2,   2323.5,2,   7.5293,2,    25.00,     44.7,2,    36.21,2, -999.000,9, -999.000,-999.0000,9,-999.0000,  -999.00,9,  -999.00, -999.000,9, -999.000,   -999.0,9,   -999.0,  -999.00,9,-999.0000,9,-999.0000,9,-999.0000,9,-999.0000,9,-999.0000,9,-999.0000,9,-999.0000,9,-999.0000,9,-999.0000,9,   8.7050,   8.7683,2
  33RR20070322,  I09N,   133,  2,     22,     22,2,20070409,1748, -4.0693,  94.7157, 4892, 676.0000,    676.0,   8.2387,  34.9125,2,  34.9122,2,     56.9,2,     54.4,2,    55.39,2,    34.97,2,     0.00,2,     2.56,2,    0.079,2,    0.047,2, -999.000,5,   2269.6,2,   2336.1,2,   7.4922,2,    25.00,     43.9,2,    37.74,2, -999.000,9, -999.000,-999.0000,9,-999.0000,  -999.00,9,  -999.00, -999.000,9, -999.000,   -999.0,9,   -999.0,  -999.00,9,-999.0000,9,-999.0000,9,-999.0000,9,-999.0000,9,-999.0000,9,-999.0000,9,-999.0000,9,-999.0000,9,-999.0000,9,   8.1671,   8.2348,2
  33RR20070322,  I09N,   133,  2,     21,     21,2,20070409,1748, -4.0693,  94.7157, 4892, 775.6000,    775.6,   7.6459,  34.9026,2,  34.9021,2,     53.4,2,     52.8,2,    64.36,2,    35.73,2,     0.00,2,     2.65,2,    0.046,2,    0.025,2, -999.000,5,   2282.0,6,   2347.5,6,   7.4985,6,    25.00,     43.1,2,    37.93,2, -999.000,9, -999.000,-999.0000,9,-999.0000,  -999.00,9,  -999.00, -999.000,9, -999.000,   -999.0,9,   -999.0,  -999.00,9,-999.0000,9,-999.0000,9,-999.0000,9,-999.0000,9,-999.0000,9,-999.0000,9,-999.0000,9,-999.0000,9,-999.0000,9,   7.5666,   7.6419,2
  33RR20070322,  I09N,   133,  2,     20,     20,2,20070409,1748, -4.0693,  94.7157, 4892, 875.8000,    875.8,   7.1470,  34.8954,2,  34.8964,2,     53.6,2,     53.3,2,    71.83,2,    36.34,2,     0.00,2,     2.70,2,    0.025,2,    0.017,2, -999.000,5,   2290.9,2,   2356.6,2,   7.4808,2,    25.00,     42.5,2,    38.69,2, -999.000,9, -999.000,-999.0000,9,-999.0000,  -999.00,9,  -999.00, -999.000,9, -999.000,   -999.0,9,   -999.0,  -999.00,9,-999.0000,9,-999.0000,9,-999.0000,9,-999.0000,9,-999.0000,9,-999.0000,9,-999.0000,9,-999.0000,9,-999.0000,9,   7.0601,   7.1515,2
  33RR20070322,  I09N,   133,  2,     19,     19,2,20070409,1748, -4.0693,  94.7157, 4892, 975.7000,    975.7,   6.5940,  34.8702,2,  34.8708,2,     57.8,2,     57.8,2,    78.54,2,    36.59,2,     0.00,2,     2.72,2,    0.015,2,    0.008,2, -999.000,5,   2297.2,2,   2361.6,2,   7.4638,2,    25.00,     41.8,2,    38.67,2, -999.000,9, -999.000,-999.0000,9,-999.0000,  -999.00,9,  -999.00, -999.000,9, -999.000,   -999.0,9,   -999.0,  -999.00,9,-999.0000,9,-999.0000,9,-999.0000,9,-999.0000,9,-999.0000,9,-999.0000,9,-999.0000,9,-999.0000,9,-999.0000,9,   6.5006,   6.5959,2
  33RR20070322,  I09N,   133,  2,     18,     18,2,20070409,1748, -4.0693,  94.7157, 4892,1076.2000,   1076.2,   6.1098,  34.8531,2,  34.8514,2,     62.4,2,     62.8,2,    84.30,2,    36.74,2,     0.00,2,     2.73,2, -999.000,9, -999.000,9, -999.000,9,   2302.6,2,   2367.6,2,   7.4727,2,    25.00,     41.2,2,    37.78,2, -999.000,9, -999.000,-999.0000,9,-999.0000,  -999.00,9,  -999.00, -999.000,9, -999.000,   -999.0,9,   -999.0,  -999.00,9,-999.0000,9,-999.0000,9,-999.0000,9,-999.0000,9,-999.0000,9,-999.0000,9,-999.0000,9,-999.0000,9,-999.0000,9,   6.0100,   6.1121,2
  33RR20070322,  I09N,   133,  2,     17,     17,2,20070409,1748, -4.0693,  94.7157, 4892,1177.5000,   1177.5,   5.5476,  34.8322,2,  34.8327,2,     68.8,2,     69.8,2,    90.65,2,    36.79,2,     0.00,2,     2.74,2,    0.006,2,    0.004,2, -999.000,5,   2307.4,2,   2375.0,2,   7.4894,2,    25.00,     40.7,2,    37.97,2, -999.000,9, -999.000,-999.0000,9,-999.0000,  -999.00,9,  -999.00, -999.000,9, -999.000,   -999.0,9,   -999.0,  -999.00,9,-999.0000,9,-999.0000,9,-999.0000,9,-999.0000,9,-999.0000,9,-999.0000,9,-999.0000,9,-999.0000,9,-999.0000,9,   5.4425,   5.5504,2
  33RR20070322,  I09N,   133,  2,     16,     16,2,20070409,1748, -4.0693,  94.7157, 4892,1277.4000,   1277.4,   5.0690,  34.8191,2,  34.8195,2,     75.7,2,     77.1,2,    95.28,2,    36.78,2,     0.00,2,     2.72,2, -999.000,9, -999.000,9, -999.000,9,   2309.8,2,   2380.4,2,   7.4967,2,    25.00,     40.5,2,    37.97,2, -999.000,9, -999.000,-999.0000,9,-999.0000,  -999.00,9,  -999.00, -999.000,9, -999.000,   -999.0,9,   -999.0,  -999.00,9,-999.0000,9,-999.0000,9,-999.0000,9,-999.0000,9,-999.0000,9,-999.0000,9,-999.0000,9,-999.0000,9,-999.0000,9,   4.9587,   5.0682,2
  33RR20070322,  I09N,   133,  2,     15,     15,2,20070409,1748, -4.0693,  94.7157, 4892,1377.5000,   1377.5,   4.7049,  34.8160,2,  34.8166,2,     84.1,2,     84.3,2,    98.77,2,    36.67,2,     0.00,2,     2.72,2,    0.003,2,    0.001,2, -999.000,5,   2310.5,2,   2380.0,2,   7.5038,2,    25.00,     40.1,2,    38.22,2, -999.000,9, -999.000,-999.0000,9,-999.0000,  -999.00,9,  -999.00, -999.000,9, -999.000,   -999.0,9,   -999.0,  -999.00,9,-999.0000,9,-999.0000,9,-999.0000,9,-999.0000,9,-999.0000,9,-999.0000,9,-999.0000,9,-999.0000,9,-999.0000,9,   4.5888,   4.7049,2
  33RR20070322,  I09N,   133,  2,     14,     14,2,20070409,1748, -4.0693,  94.7157, 4892,1478.7000,   1478.7,   4.2733,  34.7990,2,  34.7998,2,     93.2,2,     94.3,2,   102.07,2,    36.41,2,     0.00,2,     2.68,2, -999.000,9, -999.000,9, -999.000,9,   2310.4,2,   2384.3,2,   7.5174,2,    25.00,     40.5,2,    38.02,2, -999.000,9, -999.000,-999.0000,9,-999.0000,  -999.00,9,  -999.00, -999.000,9, -999.000,   -999.0,9,   -999.0,  -999.00,9,-999.0000,9,-999.0000,9,-999.0000,9,-999.0000,9,-999.0000,9,-999.0000,9,-999.0000,9,-999.0000,9,-999.0000,9,   4.1524,   4.2732,2
  33RR20070322,  I09N,   133,  2,     13,     13,2,20070409,1748, -4.0693,  94.7157, 4892,1578.4000,   1578.4,   3.8604,  34.7957,2,  34.7967,2,    101.4,2,    102.7,2,   106.14,2,    36.20,2,     0.00,2,     2.65,2,    0.003,2,    0.002,2, -999.000,5,   2310.8,2,   2388.0,2,   7.5209,2,    25.00,     40.2,2,    37.74,2, -999.000,9, -999.000,-999.0000,9,-999.0000,  -999.00,9,  -999.00, -999.000,9, -999.000,   -999.0,9,   -999.0,  -999.00,9,-999.0000,9,-999.0000,9,-999.0000,9,-999.0000,9,-999.0000,9,-999.0000,9,-999.0000,9,-999.0000,9,-999.0000,9,   3.7351,   3.8620,2
  33RR20070322,  I09N,   133,  2,     12,     12,2,20070409,1748, -4.0693,  94.7157, 4892,1781.0000,   1781.0,   3.2287,  34.7818,2,  34.7826,2,    116.7,2,    117.0,2,   112.35,2,    35.64,2,     0.00,2,     2.59,2, -999.000,9, -999.000,9, -999.000,9,   2311.8,2,   2395.3,2,   7.5409,2,    25.00,     40.3,2,    36.85,2, -999.000,9, -999.000,-999.0000,9,-999.0000,  -999.00,9,  -999.00, -999.000,9, -999.000,   -999.0,9,   -999.0,  -999.00,9,-999.0000,9,-999.0000,9,-999.0000,9,-999.0000,9,-999.0000,9,-999.0000,9,-999.0000,9,-999.0000,9,-999.0000,9,   3.0931,   3.2293,2
  33RR20070322,  I09N,   133,  2,     11,     11,2,20070409,1748, -4.0693,  94.7157, 4892,1982.3000,   1982.3,   2.7531,  34.7691,2,  34.7691,2,    128.2,2,    128.6,2,   117.81,2,    35.28,2,     0.00,2,     2.55,2,    0.004,2,    0.002,2, -999.000,5,   2312.6,2,   2402.3,2,   7.5649,2,    25.00,     40.1,2,    36.57,2, -999.000,9, -999.000,-999.0000,9,-999.0000,  -999.00,9,  -999.00, -999.000,9, -999.000,   -999.0,9,   -999.0,  -999.00,9,-999.0000,9,-999.0000,9,-999.0000,9,-999.0000,9,-999.0000,9,-999.0000,9,-999.0000,9,-999.0000,9,-999.0000,9,   2.6064,   2.7540,2
  33RR20070322,  I09N,   133,  2,     10,     10,2,20070409,1748, -4.0693,  94.7157, 4892,2184.1000,   2184.1,   2.4122,  34.7567,2,  34.7572,2,    137.8,2,    138.1,2,   121.32,2,    34.96,2,     0.00,2,     2.51,2, -999.000,9, -999.000,9, -999.000,9,   2311.2,2,   2402.9,2,   7.5796,2,    25.00,     40.2,2,    36.48,2, -999.000,9, -999.000,-999.0000,9,-999.0000,  -999.00,9,  -999.00, -999.000,9, -999.000,   -999.0,9,   -999.0,  -999.00,9,-999.0000,9,-999.0000,9,-999.0000,9,-999.0000,9,-999.0000,9,-999.0000,9,-999.0000,9,-999.0000,9,-999.0000,9,   2.2528,   2.4124,2
  33RR20070322,  I09N,   133,  2,      9,      9,2,20070409,1748, -4.0693,  94.7157, 4892,2435.8000,   2435.8,   2.1176,  34.7470,2,  34.7468,2,    147.3,2,    147.3,2,   124.06,2,    34.60,2,     0.00,2,     2.46,2,    0.004,2,    0.001,2, -999.000,5,   2310.6,2,   2407.9,2,   7.5680,2,    25.00,     40.1,2,    35.74,2, -999.000,9, -999.000,-999.0000,9,-999.0000,  -999.00,9,  -999.00, -999.000,9, -999.000,   -999.0,9,   -999.0,  -999.00,9,-999.0000,9,-999.0000,9,-999.0000,9,-999.0000,9,-999.0000,9,-999.0000,9,-999.0000,9,-999.0000,9,-999.0000,9,   1.9406,   2.1188,2
  33RR20070322,  I09N,   133,  2,      8,      8,2,20070409,1748, -4.0693,  94.7157, 4892,2689.2000,   2689.2,   1.8954,  34.7389,2,  34.7393,2,    155.2,2,    155.2,2,   126.03,2,    34.24,2,     0.00,2,     2.44,2, -999.000,9, -999.000,9, -999.000,9,   2308.7,2,   2409.4,2,   7.6173,2,    25.00,     40.1,2,    36.19,2, -999.000,9, -999.000,-999.0000,9,-999.0000,  -999.00,9,  -999.00, -999.000,9, -999.000,   -999.0,9,   -999.0,  -999.00,9,-999.0000,9,-999.0000,9,-999.0000,9,-999.0000,9,-999.0000,9,-999.0000,9,-999.0000,9,-999.0000,9,-999.0000,9,   1.6993,   1.8956,2
  33RR20070322,  I09N,   133,  2,      7,      7,2,20070409,1748, -4.0693,  94.7157, 4892,2941.6000,   2941.6,   1.7434,  34.7340,2,  34.7344,2,    160.8,2,    160.1,2,   128.39,2,    34.18,2,     0.00,2,     2.41,2,    0.004,2,    0.001,2, -999.000,5,   2309.1,2,   2411.7,2,   7.5870,2,    25.00,     40.5,2,    35.63,2, -999.000,9, -999.000,-999.0000,9,-999.0000,  -999.00,9,  -999.00, -999.000,9, -999.000,   -999.0,9,   -999.0,  -999.00,9,-999.0000,9,-999.0000,9,-999.0000,9,-999.0000,9,-999.0000,9,-999.0000,9,-999.0000,9,-999.0000,9,-999.0000,9,   1.5265,   1.7434,2
  33RR20070322,  I09N,   133,  2,      6,      6,2,20070409,1748, -4.0693,  94.7157, 4892,3276.0000,   3276.0,   1.5788,  34.7281,2,  34.7273,2,    167.1,2,    166.6,2,   129.18,2,    33.88,2,     0.00,2,     2.39,2, -999.000,9, -999.000,9, -999.000,9,   2306.4,2,   2412.9,2,   7.6092,2,    25.00,     40.1,2,    35.64,2, -999.000,9, -999.000,-999.0000,9,-999.0000,  -999.00,9,  -999.00, -999.000,9, -999.000,   -999.0,9,   -999.0,  -999.00,9,-999.0000,9,-999.0000,9,-999.0000,9,-999.0000,9,-999.0000,9,-999.0000,9,-999.0000,9,-999.0000,9,-999.0000,9,   1.3330,   1.5791,2
  33RR20070322,  I09N,   133,  2,      5,      5,2,20070409,1748, -4.0693,  94.7157, 4892,3682.0000,   3682.0,   1.2843,  34.7195,2,  34.7194,2,    181.6,2,    182.5,2,   127.82,2,    33.11,2,     0.00,2,     2.32,2,    0.004,2,    0.001,2, -999.000,5,   2295.0,2,   2407.3,2,   7.6111,2,    25.00,     40.3,2,    34.73,2, -999.000,9, -999.000,-999.0000,9,-999.0000,  -999.00,9,  -999.00, -999.000,9, -999.000,   -999.0,9,   -999.0,  -999.00,9,-999.0000,9,-999.0000,9,-999.0000,9,-999.0000,9,-999.0000,9,-999.0000,9,-999.0000,9,-999.0000,9,-999.0000,9,   1.0047,   1.2852,2