BOTTLE,20150630SIOCCHRJL
EXPOCODE,SECT_ID,STNNBR,CASTNO,SAMPNO,BTLNBR,BTLNBR_FLAG_W,DATE,TIME,LATITUDE,LONGITUDE,DEPTH,CTDRAW,CTDPRS,CTDTMP,CTDSAL,CTDSAL_FLAG_W,SALNTY,SALNTY_FLAG_W,CTDOXY,CTDOXY_FLAG_W,OXYGEN,OXYGEN_FLAG_W,SILCAT,SILCAT_FLAG_W,NITRAT,NITRAT_FLAG_W,NITRIT,NITRIT_FLAG_W,PHSPHT,PHSPHT_FLAG_W,CFC-11,CFC-11_FLAG_W,CFC-12,CFC-12_FLAG_W,CFC113,CFC113_FLAG_W,TCARBN,TCARBN_FLAG_W,ALKALI,ALKALI_FLAG_W,PH_SWS,PH_SWS_FLAG_W,PH_TMP,DOC,DOC_FLAG_W,TDN,TDN_FLAG_W,TRITUM,TRITUM_FLAG_W,TRITER,HELIUM,HELIUM_FLAG_W,HELIER,DELHE3,DELHE3_FLAG_W,DELHER,NEON,NEON_FLAG_W,NEONER,DELC14,DELC14_FLAG_W,C14ERR,DELC13,DELC13_FLAG_W,CDOM325,CDOM325_FLAG_W,CDOM340,CDOM340_FLAG_W,CDOM380,CDOM380_FLAG_W,CDOM412,CDOM412_FLAG_W,CDOM443,CDOM443_FLAG_W,CDOM490,CDOM490_FLAG_W,CDOM555,CDOM555_FLAG_W,CDOMSL,CDOMSL_FLAG_W,CDOMSN,CDOMSN_FLAG_W,THETA,SBE35,SBE35_FLAG_W
,,,,,,,,,,,METERS,,DBAR,ITS-90,PSS-78,,PSS-78,,UMOL/KG,,UMOL/KG,,UMOL/KG,,UMOL/KG,,UMOL/KG,,UMOL/KG,,PMOL/KG,,PMOL/KG,,PMOL/KG,,UMOL/KG,,UMOL/KG,,,,DEG C,UMOL/KG,,UMOL/KG,,TU,,TU,NMOL/KG,,NMOL/KG,PERCNT,,PERCNT,NMOL/KG,,NMOL/KG,/MILLE,,/MILLE,/MILLE,,1/M,,1/M,,1/M,,1/M,,1/M,,1/M,,1/M,,1/NM,,1/NM,,DEG C,ITS-90,
  33RR20070322,  I09N,   141,  1,      4,      4,2,20070411,1848, -1.2507,  93.8292, 4636,3529.8000,   3529.8,   1.4200,  34.7237,2,  34.7234,2,    172.6,2,    173.7,2,   132.67,2,    34.12,2,     0.00,2,     2.37,2, -999.000,9, -999.000,9, -999.000,9,   2302.5,2,   2413.1,2,   7.6061,2,    25.00,     40.7,2,    36.07,2, -999.000,9, -999.000,-999.0000,9,-999.0000,  -999.00,9,  -999.00, -999.000,9, -999.000,   -999.0,9,   -999.0,  -999.00,9,-999.0000,9,-999.0000,9,-999.0000,9,-999.0000,9,-999.0000,9,-999.0000,9,-999.0000,9,-999.0000,9,-999.0000,9,   1.1525,   1.4201,2
  33RR20070322,  I09N,   141,  1,      3,      3,2,20070411,1848, -1.2507,  93.8292, 4636,3935.7000,   3935.7,   1.1528,  34.7161,2,  34.7150,2,    190.4,2,    190.9,2,   128.96,2,    33.21,2,     0.00,2,     2.28,2,    0.006,2,    0.002,2, -999.000,5,   2287.4,2,   2392.2,2,   7.6190,2,    25.00,     40.5,2,    34.40,2, -999.000,9, -999.000,-999.0000,9,-999.0000,  -999.00,9,  -999.00, -999.000,9, -999.000,   -999.0,9,   -999.0,  -999.00,9,-999.0000,9,-999.0000,9,-999.0000,9,-999.0000,9,-999.0000,9,-999.0000,9,-999.0000,9,-999.0000,9,-999.0000,9,   0.8503,   1.1528,2
  33RR20070322,  I09N,   141,  1,      2,      2,2,20070411,1848, -1.2507,  93.8292, 4636,4342.8000,   4342.8,   1.1628,  34.7150,2,  34.7146,2,    192.8,2,    192.8,2,   128.96,2,    33.15,2,     0.00,2,     2.27,2, -999.000,9, -999.000,9, -999.000,9,   2284.6,2,   -999.0,5,   7.6089,3,    25.00,     40.6,2,    34.23,2, -999.000,9, -999.000,-999.0000,9,-999.0000,  -999.00,9,  -999.00, -999.000,9, -999.000,   -999.0,9,   -999.0,  -999.00,9,-999.0000,9,-999.0000,9,-999.0000,9,-999.0000,9,-999.0000,9,-999.0000,9,-999.0000,9,-999.0000,9,-999.0000,9,   0.8157,   1.1626,2
  33RR20070322,  I09N,   141,  1,      1,      1,2,20070411,1848, -1.2507,  93.8292, 4636,4693.8000,   4693.8,   1.1981,  34.7146,2,  34.7152,2,    192.7,2,    193.0,2,   128.96,2,    33.14,2,     0.00,2,     2.27,2,    0.005,2,    0.001,2, -999.000,5,   2286.3,6,   2398.3,6,   7.6320,6,    25.00,     40.5,2,    34.46,2, -999.000,9, -999.000,-999.0000,9,-999.0000,  -999.00,9,  -999.00, -999.000,9, -999.000,   -999.0,9,   -999.0,  -999.00,9,-999.0000,9,-999.0000,9,-999.0000,9,-999.0000,9,-999.0000,9,-999.0000,9,-999.0000,9,-999.0000,9,-999.0000,9,   0.8100,   1.1977,2