BOTTLE,20150630SIOCCHRJL
EXPOCODE,SECT_ID,STNNBR,CASTNO,SAMPNO,BTLNBR,BTLNBR_FLAG_W,DATE,TIME,LATITUDE,LONGITUDE,DEPTH,CTDRAW,CTDPRS,CTDTMP,CTDSAL,CTDSAL_FLAG_W,SALNTY,SALNTY_FLAG_W,CTDOXY,CTDOXY_FLAG_W,OXYGEN,OXYGEN_FLAG_W,SILCAT,SILCAT_FLAG_W,NITRAT,NITRAT_FLAG_W,NITRIT,NITRIT_FLAG_W,PHSPHT,PHSPHT_FLAG_W,CFC-11,CFC-11_FLAG_W,CFC-12,CFC-12_FLAG_W,CFC113,CFC113_FLAG_W,TCARBN,TCARBN_FLAG_W,ALKALI,ALKALI_FLAG_W,PH_SWS,PH_SWS_FLAG_W,PH_TMP,DOC,DOC_FLAG_W,TDN,TDN_FLAG_W,TRITUM,TRITUM_FLAG_W,TRITER,HELIUM,HELIUM_FLAG_W,HELIER,DELHE3,DELHE3_FLAG_W,DELHER,NEON,NEON_FLAG_W,NEONER,DELC14,DELC14_FLAG_W,C14ERR,DELC13,DELC13_FLAG_W,CDOM325,CDOM325_FLAG_W,CDOM340,CDOM340_FLAG_W,CDOM380,CDOM380_FLAG_W,CDOM412,CDOM412_FLAG_W,CDOM443,CDOM443_FLAG_W,CDOM490,CDOM490_FLAG_W,CDOM555,CDOM555_FLAG_W,CDOMSL,CDOMSL_FLAG_W,CDOMSN,CDOMSN_FLAG_W,THETA,SBE35,SBE35_FLAG_W
,,,,,,,,,,,METERS,,DBAR,ITS-90,PSS-78,,PSS-78,,UMOL/KG,,UMOL/KG,,UMOL/KG,,UMOL/KG,,UMOL/KG,,UMOL/KG,,PMOL/KG,,PMOL/KG,,PMOL/KG,,UMOL/KG,,UMOL/KG,,,,DEG C,UMOL/KG,,UMOL/KG,,TU,,TU,NMOL/KG,,NMOL/KG,PERCNT,,PERCNT,NMOL/KG,,NMOL/KG,/MILLE,,/MILLE,/MILLE,,1/M,,1/M,,1/M,,1/M,,1/M,,1/M,,1/M,,1/NM,,1/NM,,DEG C,ITS-90,
  33RR20070322,  I09N,   188,  1,     35,     35,2,20070424,1144, 12.6583,  88.4648, 3104,   1.3000,      1.3,  30.2950,  32.4149,2,  32.4171,2,    198.9,2,    198.4,2,     2.26,2,     0.00,2,     0.00,2,     0.01,2,    1.566,2,    1.013,2, -999.000,5,   1875.0,6,   2182.8,6,   8.1245,6,    25.00,     74.1,2,     5.45,2,    0.997,2,    0.016,   1.7100,2,   0.0008,    -0.83,2,     0.21,    6.672,2,    0.009,   -999.0,9,   -999.0,  -999.00,9,-999.0000,9,-999.0000,9,-999.0000,9,-999.0000,9,-999.0000,9,-999.0000,9,-999.0000,9,-999.0000,9,-999.0000,9,  30.2947,  30.3043,2
  33RR20070322,  I09N,   188,  1,     34,   9419,2,20070424,1144, 12.6583,  88.4648, 3104,  18.4000,     18.4,  27.2290,  32.2551,2,  32.2505,2,    199.8,2,    213.3,3,     2.04,2,     0.00,2,     0.00,2,     0.01,2,    1.753,2,    1.111,2, -999.000,5,   1870.1,2,   2171.0,2,   8.1129,2,    25.00,     73.8,2,     5.76,2,    1.007,2,    0.016,   1.7140,2,   0.0005,    -1.12,2,     0.20,    6.738,2,    0.010,   -999.0,9,   -999.0,  -999.00,9,-999.0000,9,-999.0000,9,-999.0000,9,-999.0000,9,-999.0000,9,-999.0000,9,-999.0000,9,-999.0000,9,-999.0000,9,  27.2248,  27.3262,2
  33RR20070322,  I09N,   188,  1,     33,     33,2,20070424,1144, 12.6583,  88.4648, 3104,  43.6000,     43.6,  28.5095,  33.7769,2,  33.7721,2,    208.7,2,    202.7,2,     1.44,2,     0.00,2,     0.00,2,     0.04,2,    1.591,2,    1.032,2, -999.000,5,   1909.2,2,   2227.4,2,   8.0880,3,    25.00,     72.5,2,     5.59,2,    1.041,2,    0.016,   1.7000,2,   0.0005,    -0.77,2,     0.20,    6.722,2,    0.011,   -999.0,9,   -999.0,  -999.00,9,-999.0000,9,-999.0000,9,-999.0000,9,-999.0000,9,-999.0000,9,-999.0000,9,-999.0000,9,-999.0000,9,-999.0000,9,  28.4991,  28.5066,2
  33RR20070322,  I09N,   188,  1,     32,     37,2,20070424,1144, 12.6583,  88.4648, 3104,  88.0000,     88.0,  21.4031,  34.6331,2,  34.6398,2,     31.7,2,     22.0,2,    18.28,2,    22.61,2,     0.12,2,     1.69,2,    1.102,2,    0.690,2, -999.000,5,   2146.6,2,   2270.4,2,   7.6840,2,    25.00,     61.8,2,    26.50,2,    0.413,2,    0.010,   1.7450,2,   0.0011,     2.06,2,     0.18,    7.112,2,    0.010,   -999.0,9,   -999.0,  -999.00,9,-999.0000,9,-999.0000,9,-999.0000,9,-999.0000,9,-999.0000,9,-999.0000,9,-999.0000,9,-999.0000,9,-999.0000,9,  21.3861,  21.4061,2
  33RR20070322,  I09N,   188,  1,     31,     31,2,20070424,1144, 12.6583,  88.4648, 3104, 111.7000,    111.7,  18.7022,  34.6901,2,  34.6907,2,     24.6,2,     24.9,2,    24.28,2,    24.79,2,     0.03,2,     1.85,2,    0.925,2,    0.571,2, -999.000,5,   2170.7,2,   2281.2,2,   7.6489,2,    25.00,     53.0,2,    28.80,2,    0.450,2,    0.010,   1.7580,2,   0.0010,     3.47,2,     0.22,    7.236,2,    0.010,   -999.0,9,   -999.0,  -999.00,9,-999.0000,9,-999.0000,9,-999.0000,9,-999.0000,9,-999.0000,9,-999.0000,9,-999.0000,9,-999.0000,9,-999.0000,9,  18.6826,  18.7045,2
  33RR20070322,  I09N,   188,  1,     30,     30,2,20070424,1144, 12.6583,  88.4648, 3104, 137.1000,    137.1,  17.4637,  34.7642,2,  34.7635,2,     23.9,2,     25.8,2,    26.02,2,    26.03,2,     0.00,2,     1.91,2,    0.868,2,    0.527,2, -999.000,5,   2184.2,2,   2287.2,2,   7.6087,2,    25.00,     51.1,2,    29.86,2, -999.000,9, -999.000,   1.7490,2,   0.0012,     4.12,2,     0.18,    7.148,2,    0.010,   -999.0,9,   -999.0,  -999.00,9,-999.0000,9,-999.0000,9,-999.0000,9,-999.0000,9,-999.0000,9,-999.0000,9,-999.0000,9,-999.0000,9,-999.0000,9,  17.4407,  17.4800,2
  33RR20070322,  I09N,   188,  1,     29,     29,2,20070424,1144, 12.6583,  88.4648, 3104, 161.1000,    161.1,  16.4390,  34.8198,2,  34.8173,2,     22.6,2,     21.9,2,    27.74,2,    27.38,2,     0.00,2,     2.01,2,    0.792,2,    0.480,2, -999.000,5,   2199.4,2,   2291.6,2,   7.5976,2,    25.00,     48.8,2,    31.03,2,    0.277,2,    0.008,   1.7540,2,   0.0010,     4.43,2,     0.23,    7.254,2,    0.010,   -999.0,9,   -999.0,  -999.00,9,-999.0000,9,-999.0000,9,-999.0000,9,-999.0000,9,-999.0000,9,-999.0000,9,-999.0000,9,-999.0000,9,-999.0000,9,  16.4131,  16.4351,2
  33RR20070322,  I09N,   188,  1,     28,     28,2,20070424,1144, 12.6583,  88.4648, 3104, 186.6000,    186.6,  15.4456,  34.8763,2,  34.8744,2,     18.8,2,     17.0,2,    29.28,2,    28.94,2,     0.00,2,     2.12,2,    0.712,2,    0.427,2, -999.000,5,   2213.7,2,   2296.2,2,   7.5426,2,    25.00,     48.1,2,    32.49,2,    0.241,2,    0.008,   1.7440,2,   0.0007,     4.34,2,     0.21,    7.285,2,    0.014,   -999.0,9,   -999.0,  -999.00,9,-999.0000,9,-999.0000,9,-999.0000,9,-999.0000,9,-999.0000,9,-999.0000,9,-999.0000,9,-999.0000,9,-999.0000,9,  15.4168,  15.4514,2
  33RR20070322,  I09N,   188,  1,     27,     27,2,20070424,1144, 12.6583,  88.4648, 3104, 236.9000,    236.9,  14.0302,  34.9436,2,  34.9425,2,     13.7,2,     12.3,2,    31.78,2,    30.85,2,     0.00,2,     2.25,2,    0.583,2,    0.345,2, -999.000,5,   2233.3,2,   2308.4,2,   7.5190,3,    25.00,     46.0,2,    34.62,2,    0.199,2,    0.007,   1.7580,2,   0.0008,     5.24,2,     0.20,    7.375,2,    0.010,   -999.0,9,   -999.0,  -999.00,9,-999.0000,9,-999.0000,9,-999.0000,9,-999.0000,9,-999.0000,9,-999.0000,9,-999.0000,9,-999.0000,9,-999.0000,9,  13.9959,  14.0368,2
  33RR20070322,  I09N,   188,  1,     26,     26,2,20070424,1144, 12.6583,  88.4648, 3104, 287.3000,    287.3,  12.4550,  35.0050,2,  35.0049,2,      7.7,2,      6.6,2,    35.07,2,    32.86,2,     0.00,2,     2.38,2,    0.419,2,    0.243,2, -999.000,5,   2255.1,2,   2310.5,6,   7.4864,6,    25.00,     45.7,2,    36.01,2, -999.000,9, -999.000,   1.7780,2,   0.0006,     5.52,2,     0.19,    7.452,2,    0.012,   -999.0,9,   -999.0,  -999.00,9,-999.0000,9,-999.0000,9,-999.0000,9,-999.0000,9,-999.0000,9,-999.0000,9,-999.0000,9,-999.0000,9,-999.0000,9,  12.4164,  12.4781,2
  33RR20070322,  I09N,   188,  1,     25,     25,2,20070424,1144, 12.6583,  88.4648, 3104, 338.0000,    338.0,  11.3645,  35.0301,2,  35.0299,2,      5.7,2,      5.8,2,    38.36,2,    34.28,2,     0.00,2,     2.46,2,    0.304,2,    0.173,2, -999.000,5,   2265.7,2,   2317.9,2,   7.4583,2,    25.00,     45.1,2,    37.71,2, -999.000,9, -999.000,   1.7740,2,   0.0009,     5.76,2,     0.20,    7.396,2,    0.012,   -999.0,9,   -999.0,  -999.00,9,-999.0000,9,-999.0000,9,-999.0000,9,-999.0000,9,-999.0000,9,-999.0000,9,-999.0000,9,-999.0000,9,-999.0000,9,  11.3217,  11.3687,2
  33RR20070322,  I09N,   188,  1,     24,     24,2,20070424,1144, 12.6583,  88.4648, 3104, 387.4000,    387.4,  10.7462,  35.0322,2,  35.0314,2,      6.6,2,      7.4,2,    41.85,2,    35.16,2,     0.00,2,     2.51,2, -999.000,9, -999.000,9, -999.000,9,   2271.8,2,   2327.1,2,   7.4459,2,    25.00,     44.6,2,    39.13,2, -999.000,9, -999.000,   1.8210,2,   0.0008,     6.02,2,     0.18,    7.687,2,    0.011,   -999.0,9,   -999.0,  -999.00,9,-999.0000,9,-999.0000,9,-999.0000,9,-999.0000,9,-999.0000,9,-999.0000,9,-999.0000,9,-999.0000,9,-999.0000,9,  10.6987,  10.7483,2
  33RR20070322,  I09N,   188,  1,     23,     23,2,20070424,1144, 12.6583,  88.4648, 3104, 437.2000,    437.2,  10.2936,  35.0300,2,  35.0269,2,     11.2,2,     10.3,2,    44.95,2,    35.60,2,     0.00,2,     2.54,2,    0.194,2,    0.112,2, -999.000,5,   2277.4,2,   2322.8,2,   7.4456,2,    25.00,     44.1,2,    39.11,2,    0.157,2,    0.007,   1.8030,2,   0.0005,     5.85,2,     0.20,    7.564,2,    0.013,   -999.0,9,   -999.0,  -999.00,9,-999.0000,9,-999.0000,9,-999.0000,9,-999.0000,9,-999.0000,9,-999.0000,9,-999.0000,9,-999.0000,9,-999.0000,9,  10.2413,  10.2930,2
  33RR20070322,  I09N,   188,  1,     22,     22,2,20070424,1144, 12.6583,  88.4648, 3104, 487.3000,    487.3,   9.9897,  35.0249,2,  35.0254,2,     16.6,2,     15.4,2,    47.47,2,    35.59,2,     0.00,2,     2.54,2, -999.000,9, -999.000,9, -999.000,9,   2278.5,2,   2324.6,2,   7.4530,3,    25.00,     43.5,2,    39.03,2,    0.047,2,    0.006,-999.0000,9,-999.0000,  -999.00,9,  -999.00, -999.000,9, -999.000,   -999.0,9,   -999.0,  -999.00,9,-999.0000,9,-999.0000,9,-999.0000,9,-999.0000,9,-999.0000,9,-999.0000,9,-999.0000,9,-999.0000,9,-999.0000,9,   9.9323,   9.9882,2
  33RR20070322,  I09N,   188,  1,     21,     21,2,20070424,1144, 12.6583,  88.4648, 3104, 572.4000,    572.4,   9.3702,  35.0149,2,  35.0148,2,     14.7,2,     13.4,2,    53.70,2,    36.62,2,     0.00,2,     2.65,2,    0.093,2,    0.053,2, -999.000,5,   2288.3,2,   2330.1,2,   7.4367,2,    25.00,     43.1,2,    38.66,2,    0.011,2,    0.005,   1.7990,2,   0.0007,     6.76,2,     0.20,    7.612,2,    0.010,   -999.0,9,   -999.0,  -999.00,9,-999.0000,9,-999.0000,9,-999.0000,9,-999.0000,9,-999.0000,9,-999.0000,9,-999.0000,9,-999.0000,9,-999.0000,9,   9.3051,   9.3685,2
  33RR20070322,  I09N,   188,  1,     20,     20,2,20070424,1144, 12.6583,  88.4648, 3104, 672.7000,    672.7,   8.7165,  35.0004,2,  35.0002,2,     16.7,2,     16.4,2,    60.52,2,    37.20,2,     0.00,2,     2.70,2, -999.000,9, -999.000,9, -999.000,9,   2295.7,2,   2337.8,2,   7.4379,2,    25.00,     42.8,2,    39.38,2,    0.006,2,    0.004,-999.0000,9,-999.0000,  -999.00,9,  -999.00, -999.000,9, -999.000,   -999.0,9,   -999.0,  -999.00,9,-999.0000,9,-999.0000,9,-999.0000,9,-999.0000,9,-999.0000,9,-999.0000,9,-999.0000,9,-999.0000,9,-999.0000,9,   8.6428,   8.7156,2
  33RR20070322,  I09N,   188,  1,     19,     19,2,20070424,1144, 12.6583,  88.4648, 3104, 773.6000,    773.6,   8.0633,  34.9809,2,  34.9812,2,     24.3,2,     23.3,2,    67.75,2,    37.40,2,     0.00,2,     2.73,2,    0.033,2,    0.019,2, -999.000,5,   2300.3,2,   2346.5,2,   7.4399,2,    25.00,     42.5,2,    39.48,2,    0.009,2,    0.004,   1.8220,2,   0.0006,     8.60,2,     0.21,    7.765,2,    0.010,   -999.0,9,   -999.0,  -999.00,9,-999.0000,9,-999.0000,9,-999.0000,9,-999.0000,9,-999.0000,9,-999.0000,9,-999.0000,9,-999.0000,9,-999.0000,9,   7.9818,   8.0628,2
  33RR20070322,  I09N,   188,  1,     18,     18,2,20070424,1144, 12.6583,  88.4648, 3104, 872.9000,    872.9,   7.4102,  34.9594,2,  34.9585,2,     30.2,2,     29.0,2,    75.19,2,    37.78,2,     0.00,2,     2.77,2, -999.000,9, -999.000,9, -999.000,9,   2307.9,2,   2357.2,2,   7.4429,2,    25.00,     42.0,2,    40.22,2, -999.000,9, -999.000,-999.0000,9,-999.0000,  -999.00,9,  -999.00, -999.000,9, -999.000,   -999.0,9,   -999.0,  -999.00,9,-999.0000,9,-999.0000,9,-999.0000,9,-999.0000,9,-999.0000,9,-999.0000,9,-999.0000,9,-999.0000,9,-999.0000,9,   7.3219,   7.4176,2
  33RR20070322,  I09N,   188,  1,     17,     17,2,20070424,1144, 12.6583,  88.4648, 3104, 972.9000,    972.9,   6.8524,  34.9392,2,  34.9397,2,     39.6,2,     38.1,2,    81.07,2,    37.62,2,     0.00,2,     2.76,2,    0.014,2,    0.008,2, -999.000,5,   2311.0,6,   2360.0,2,   7.4535,2,    25.00,     42.0,2,    39.76,2,    0.001,2,    0.004,-999.0000,9,-999.0000,  -999.00,9,  -999.00, -999.000,9, -999.000,   -999.0,9,   -999.0,  -999.00,9,-999.0000,9,-999.0000,9,-999.0000,9,-999.0000,9,-999.0000,9,-999.0000,9,-999.0000,9,-999.0000,9,-999.0000,9,   6.7573,   6.8528,2
  33RR20070322,  I09N,   188,  1,     16,     16,2,20070424,1144, 12.6583,  88.4648, 3104,1073.6000,   1073.6,   6.2914,  34.9186,2,  34.9194,2,     43.9,2,     44.4,2,    87.54,2,    37.76,2,     0.00,2,     2.77,2, -999.000,9, -999.000,9, -999.000,9,   2315.6,2,   2366.2,2,   7.4537,2,    25.00,     41.9,2,    38.84,2, -999.000,9, -999.000,-999.0000,9,-999.0000,  -999.00,9,  -999.00, -999.000,9, -999.000,   -999.0,9,   -999.0,  -999.00,9,-999.0000,9,-999.0000,9,-999.0000,9,-999.0000,9,-999.0000,9,-999.0000,9,-999.0000,9,-999.0000,9,-999.0000,9,   6.1903,   6.3065,2
  33RR20070322,  I09N,   188,  1,     15,     15,2,20070424,1144, 12.6583,  88.4648, 3104,1174.6000,   1174.6,   5.8055,  34.9005,2,  34.9007,2,     52.2,2,     53.4,2,    92.66,2,    37.70,2,     0.00,2,     2.76,2,    0.017,2,    0.004,2, -999.000,5,   2319.5,2,   2371.9,2,   7.4686,2,    25.00,     41.4,2,    39.70,2, -999.000,9, -999.000,   1.8510,2,   0.0005,    11.36,2,     0.19,    7.837,2,    0.010,   -999.0,9,   -999.0,  -999.00,9,-999.0000,9,-999.0000,9,-999.0000,9,-999.0000,9,-999.0000,9,-999.0000,9,-999.0000,9,-999.0000,9,-999.0000,9,   5.6983,   5.7938,2
  33RR20070322,  I09N,   188,  1,     14,     14,2,20070424,1144, 12.6583,  88.4648, 3104,1275.2000,   1275.2,   5.3247,  34.8826,2,  34.8832,2,     60.8,2,     61.1,2,    98.18,2,    37.54,2,     0.00,2,     2.74,2, -999.000,9, -999.000,9, -999.000,9,   -999.0,5,   2377.9,2,   7.4726,2,    25.00,     41.0,2,    38.63,2, -999.000,9, -999.000,-999.0000,9,-999.0000,  -999.00,9,  -999.00, -999.000,9, -999.000,   -999.0,9,   -999.0,  -999.00,9,-999.0000,9,-999.0000,9,-999.0000,9,-999.0000,9,-999.0000,9,-999.0000,9,-999.0000,9,-999.0000,9,-999.0000,9,   5.2121,   5.3238,2
  33RR20070322,  I09N,   188,  1,     13,     13,2,20070424,1144, 12.6583,  88.4648, 3104,1375.3000,   1375.3,   4.9467,  34.8674,2,  34.8681,2,     69.2,2,     69.6,2,   101.54,2,    37.33,2,     0.00,2,     2.72,2,    0.009,2,    0.003,2, -999.000,5,   2323.1,2,   2382.0,2,   7.4822,2,    25.00,     40.8,2,    39.20,2, -999.000,9, -999.000,-999.0000,9,-999.0000,  -999.00,9,  -999.00, -999.000,9, -999.000,   -999.0,9,   -999.0,  -999.00,9,-999.0000,9,-999.0000,9,-999.0000,9,-999.0000,9,-999.0000,9,-999.0000,9,-999.0000,9,-999.0000,9,-999.0000,9,   4.8282,   4.9471,2
  33RR20070322,  I09N,   188,  1,     12,     12,2,20070424,1144, 12.6583,  88.4648, 3104,1476.0000,   1476.0,   4.5252,  34.8515,2,  34.8514,2,     76.2,2,     77.1,2,   106.48,2,    37.17,2,     0.00,2,     2.71,2, -999.000,9, -999.000,9, -999.000,9,   2325.9,2,   2388.4,2,   7.4889,2,    25.00,     40.2,2,    39.14,2, -999.000,9, -999.000,-999.0000,9,-999.0000,  -999.00,9,  -999.00, -999.000,9, -999.000,   -999.0,9,   -999.0,  -999.00,9,-999.0000,9,-999.0000,9,-999.0000,9,-999.0000,9,-999.0000,9,-999.0000,9,-999.0000,9,-999.0000,9,-999.0000,9,   4.4016,   4.5229,2
  33RR20070322,  I09N,   188,  1,     11,     11,2,20070424,1144, 12.6583,  88.4648, 3104,1576.3000,   1576.3,   4.0599,  34.8336,2,  34.8323,2,     84.6,2,     84.9,2,   111.43,2,    36.96,2,     0.00,2,     2.69,2,    0.011,2,    0.003,2, -999.000,5,   2328.2,2,   2389.2,2,   7.4953,2,    25.00,     40.4,2,    38.48,2, -999.000,9, -999.000,   1.8730,2,   0.0007,    12.74,2,     0.20,    8.017,2,    0.010,   -999.0,9,   -999.0,  -999.00,9,-999.0000,9,-999.0000,9,-999.0000,9,-999.0000,9,-999.0000,9,-999.0000,9,-999.0000,9,-999.0000,9,-999.0000,9,   3.9323,   4.0617,2
  33RR20070322,  I09N,   188,  1,     10,     10,2,20070424,1144, 12.6583,  88.4648, 3104,1677.1000,   1677.1,   3.6277,  34.8167,2,  34.8164,2,     93.2,2,     92.8,2,   117.19,2,    36.75,2,     0.00,2,     2.68,2, -999.000,9, -999.000,9, -999.000,9,   2330.7,2,   2400.0,2,   7.5109,2,    25.00,     40.5,2,    38.00,2, -999.000,9, -999.000,-999.0000,9,-999.0000,  -999.00,9,  -999.00, -999.000,9, -999.000,   -999.0,9,   -999.0,  -999.00,9,-999.0000,9,-999.0000,9,-999.0000,9,-999.0000,9,-999.0000,9,-999.0000,9,-999.0000,9,-999.0000,9,-999.0000,9,   3.4962,   3.6307,2
  33RR20070322,  I09N,   188,  1,      9,      9,2,20070424,1144, 12.6583,  88.4648, 3104,1777.7000,   1777.7,   3.2592,  34.8011,2,  34.8028,2,    102.0,2,    101.8,2,   120.97,2,    36.49,2,     0.00,2,     2.65,2,    0.004,2,    0.002,2, -999.000,5,   2331.1,2,   2399.1,2,   7.5229,2,    25.00,     40.6,2,    37.59,2, -999.000,9, -999.000,   1.8900,2,   0.0005,    13.26,2,     0.18,    7.480,4,    0.370,   -999.0,9,   -999.0,  -999.00,9,-999.0000,9,-999.0000,9,-999.0000,9,-999.0000,9,-999.0000,9,-999.0000,9,-999.0000,9,-999.0000,9,-999.0000,9,   3.1235,   3.2594,2
  33RR20070322,  I09N,   188,  1,      8,      8,2,20070424,1144, 12.6583,  88.4648, 3104,1878.8000,   1878.8,   2.9522,  34.7879,2,  34.7887,2,    109.2,2,    108.5,2,   124.16,2,    36.24,2,     0.00,2,     2.62,2, -999.000,9, -999.000,9, -999.000,9,   2331.5,2,   2408.0,2,   7.5102,2,    25.00,     40.1,2,    37.76,2, -999.000,9, -999.000,-999.0000,9,-999.0000,  -999.00,9,  -999.00, -999.000,9, -999.000,   -999.0,9,   -999.0,  -999.00,9,-999.0000,9,-999.0000,9,-999.0000,9,-999.0000,9,-999.0000,9,-999.0000,9,-999.0000,9,-999.0000,9,-999.0000,9,   2.8117,   2.9496,2
  33RR20070322,  I09N,   188,  1,      7,      7,2,20070424,1144, 12.6583,  88.4648, 3104,1979.7000,   1979.7,   2.7430,  34.7790,2,  34.7790,2,    114.7,2,    114.1,2,   127.36,2,    36.07,2,     0.00,2,     2.60,2,    0.005,2,    0.003,2, -999.000,5,   2331.9,2,   2405.9,2,   7.5317,2,    25.00,     40.2,2,    38.02,2, -999.000,9, -999.000,   1.8970,2,   0.0007,    12.78,2,     0.19,    8.098,2,    0.013,   -999.0,9,   -999.0,  -999.00,9,-999.0000,9,-999.0000,9,-999.0000,9,-999.0000,9,-999.0000,9,-999.0000,9,-999.0000,9,-999.0000,9,-999.0000,9,   2.5966,   2.7469,2
  33RR20070322,  I09N,   188,  1,      6,      6,2,20070424,1144, 12.6583,  88.4648, 3104,2182.2000,   2182.2,   2.4431,  34.7656,2,  34.7645,2,    122.2,2,    121.4,2,   130.36,2,    35.77,2,     0.00,2,     2.56,2, -999.000,9, -999.000,9, -999.000,9,   2332.6,2,   2455.8,3,   7.5282,2,    25.00,     40.6,2,    37.03,2, -999.000,9, -999.000,-999.0000,9,-999.0000,  -999.00,9,  -999.00, -999.000,9, -999.000,   -999.0,9,   -999.0,  -999.00,9,-999.0000,9,-999.0000,9,-999.0000,9,-999.0000,9,-999.0000,9,-999.0000,9,-999.0000,9,-999.0000,9,-999.0000,9,   2.2834,   2.4415,2
  33RR20070322,  I09N,   188,  1,      5,      5,2,20070424,1144, 12.6583,  88.4648, 3104,2433.5000,   2433.5,   2.1307,  34.7519,2,  34.7525,2,    130.1,2,    130.1,2,   134.56,2,    35.51,2,     0.00,2,     2.53,2,    0.005,2,    0.001,2, -999.000,5,   2332.5,2,   2415.2,2,   7.5491,2,    25.00,     40.5,2,    36.76,2, -999.000,9, -999.000,   1.9230,2,   0.0007,    12.79,2,     0.19,    8.117,2,    0.013,   -999.0,9,   -999.0,  -999.00,9,-999.0000,9,-999.0000,9,-999.0000,9,-999.0000,9,-999.0000,9,-999.0000,9,-999.0000,9,-999.0000,9,-999.0000,9,   1.9536,   2.1318,2
  33RR20070322,  I09N,   188,  1,      4,      4,2,20070424,1144, 12.6583,  88.4648, 3104,2687.3000,   2687.3,   1.9193,  34.7425,2,  34.7435,2,    136.0,2,    136.1,2,   137.16,2,    35.26,2,     0.00,2,     2.50,2, -999.000,9, -999.000,9, -999.000,9,   2333.6,2,   2419.0,2,   7.5626,2,    25.00,     40.7,2,    36.93,2, -999.000,9, -999.000,-999.0000,9,-999.0000,  -999.00,9,  -999.00, -999.000,9, -999.000,   -999.0,9,   -999.0,  -999.00,9,-999.0000,9,-999.0000,9,-999.0000,9,-999.0000,9,-999.0000,9,-999.0000,9,-999.0000,9,-999.0000,9,-999.0000,9,   1.7228,   1.9188,2