BOTTLE,20150630SIOCCHRJL
EXPOCODE,SECT_ID,STNNBR,CASTNO,SAMPNO,BTLNBR,BTLNBR_FLAG_W,DATE,TIME,LATITUDE,LONGITUDE,DEPTH,CTDRAW,CTDPRS,CTDTMP,CTDSAL,CTDSAL_FLAG_W,SALNTY,SALNTY_FLAG_W,CTDOXY,CTDOXY_FLAG_W,OXYGEN,OXYGEN_FLAG_W,SILCAT,SILCAT_FLAG_W,NITRAT,NITRAT_FLAG_W,NITRIT,NITRIT_FLAG_W,PHSPHT,PHSPHT_FLAG_W,CFC-11,CFC-11_FLAG_W,CFC-12,CFC-12_FLAG_W,CFC113,CFC113_FLAG_W,TCARBN,TCARBN_FLAG_W,ALKALI,ALKALI_FLAG_W,PH_SWS,PH_SWS_FLAG_W,PH_TMP,DOC,DOC_FLAG_W,TDN,TDN_FLAG_W,TRITUM,TRITUM_FLAG_W,TRITER,HELIUM,HELIUM_FLAG_W,HELIER,DELHE3,DELHE3_FLAG_W,DELHER,NEON,NEON_FLAG_W,NEONER,DELC14,DELC14_FLAG_W,C14ERR,DELC13,DELC13_FLAG_W,CDOM325,CDOM325_FLAG_W,CDOM340,CDOM340_FLAG_W,CDOM380,CDOM380_FLAG_W,CDOM412,CDOM412_FLAG_W,CDOM443,CDOM443_FLAG_W,CDOM490,CDOM490_FLAG_W,CDOM555,CDOM555_FLAG_W,CDOMSL,CDOMSL_FLAG_W,CDOMSN,CDOMSN_FLAG_W,THETA,SBE35,SBE35_FLAG_W
,,,,,,,,,,,METERS,,DBAR,ITS-90,PSS-78,,PSS-78,,UMOL/KG,,UMOL/KG,,UMOL/KG,,UMOL/KG,,UMOL/KG,,UMOL/KG,,PMOL/KG,,PMOL/KG,,PMOL/KG,,UMOL/KG,,UMOL/KG,,,,DEG C,UMOL/KG,,UMOL/KG,,TU,,TU,NMOL/KG,,NMOL/KG,PERCNT,,PERCNT,NMOL/KG,,NMOL/KG,/MILLE,,/MILLE,/MILLE,,1/M,,1/M,,1/M,,1/M,,1/M,,1/M,,1/M,,1/NM,,1/NM,,DEG C,ITS-90,
  33RR20070322,  I09N,   107,  3,      4,      4,2,20070401,0741,-17.9632,  95.0027, 5937,5062.2000,   5062.2,   1.1144,  34.7119,2,  34.7118,2,    203.5,2,    203.5,2,   122.28,2,    32.50,2,     0.00,2,     2.25,2,    0.006,2,    0.004,2, -999.000,5,   2271.3,2,   2379.5,2,   7.6203,2,    25.00,     40.7,2,    34.24,2, -999.000,9, -999.000,-999.0000,9,-999.0000,  -999.00,9,  -999.00, -999.000,9, -999.000,   -999.0,9,   -999.0,  -999.00,9,   0.1222,2,   0.0835,2,   0.0451,2,   0.0319,2,   0.0094,2,   0.0015,3,  -0.0007,4,   0.0139,3,   0.0157,3,   0.6855,   1.1142,2
  33RR20070322,  I09N,   107,  3,      3,      3,2,20070401,0741,-17.9632,  95.0027, 5937,5469.5000,   5469.5,   1.1542,  34.7115,2,  34.7114,2,    203.9,2,    203.9,2,   122.26,2,    32.42,2,     0.00,2,     2.25,2, -999.000,9, -999.000,9, -999.000,9,   2270.4,2,   2379.2,2,   7.6338,2,    25.00,     40.7,2,    33.53,2, -999.000,9, -999.000,-999.0000,9,-999.0000,  -999.00,9,  -999.00, -999.000,9, -999.000,   -999.0,9,   -999.0,  -999.00,9,   0.1220,2,   0.0831,2,   0.0446,2,   0.0317,2,   0.0092,2,   0.0012,3,  -0.0009,4,   0.0139,3,   0.0158,3,   0.6738,   1.1544,2
  33RR20070322,  I09N,   107,  3,      2,      2,2,20070401,0741,-17.9632,  95.0027, 5937,5778.9000,   5778.9,   1.1950,  34.7112,2,  34.7124,2,    203.9,2,    204.0,2,   122.44,2,    32.42,2,     0.00,2,     2.25,2,    0.007,2,    0.004,2, -999.000,5,   2270.3,2,   2379.6,2,   7.6427,2,    25.00,     40.8,2,    34.30,2, -999.000,9, -999.000,-999.0000,9,-999.0000,  -999.00,9,  -999.00, -999.000,9, -999.000,   -999.0,9,   -999.0,  -999.00,9,   0.1225,2,   0.0833,2,   0.0449,2,   0.0319,2,   0.0091,2,   0.0011,3,  -0.0010,4,   0.0140,3,   0.0158,3,   0.6736,   1.1947,2
  33RR20070322,  I09N,   107,  3,      1,      1,2,20070401,0741,-17.9632,  95.0027, 5937,6059.0000,   6059.0,   1.2334,  34.7109,2,  34.7124,2,    204.1,2,    204.4,2,   122.81,2,    32.32,2,     0.00,2,     2.25,2,    0.005,2,    0.004,2, -999.000,5,   2270.6,6,   2380.7,6,   7.6314,3,    25.00,     40.6,2,    34.04,2, -999.000,9, -999.000,-999.0000,9,-999.0000,  -999.00,9,  -999.00, -999.000,9, -999.000,   -999.0,9,   -999.0,  -999.00,9,   0.1244,2,   0.0851,2,   0.0457,2,   0.0321,2,   0.0088,2,   0.0007,3,  -0.0015,4,   0.0142,2,   0.0160,3,   0.6738,   1.2335,2