BOTTLE,20150630SIOCCHRJL
EXPOCODE,SECT_ID,STNNBR,CASTNO,SAMPNO,BTLNBR,BTLNBR_FLAG_W,DATE,TIME,LATITUDE,LONGITUDE,DEPTH,CTDRAW,CTDPRS,CTDTMP,CTDSAL,CTDSAL_FLAG_W,SALNTY,SALNTY_FLAG_W,CTDOXY,CTDOXY_FLAG_W,OXYGEN,OXYGEN_FLAG_W,SILCAT,SILCAT_FLAG_W,NITRAT,NITRAT_FLAG_W,NITRIT,NITRIT_FLAG_W,PHSPHT,PHSPHT_FLAG_W,CFC-11,CFC-11_FLAG_W,CFC-12,CFC-12_FLAG_W,CFC113,CFC113_FLAG_W,TCARBN,TCARBN_FLAG_W,ALKALI,ALKALI_FLAG_W,PH_SWS,PH_SWS_FLAG_W,PH_TMP,DOC,DOC_FLAG_W,TDN,TDN_FLAG_W,TRITUM,TRITUM_FLAG_W,TRITER,HELIUM,HELIUM_FLAG_W,HELIER,DELHE3,DELHE3_FLAG_W,DELHER,NEON,NEON_FLAG_W,NEONER,DELC14,DELC14_FLAG_W,C14ERR,DELC13,DELC13_FLAG_W,CDOM325,CDOM325_FLAG_W,CDOM340,CDOM340_FLAG_W,CDOM380,CDOM380_FLAG_W,CDOM412,CDOM412_FLAG_W,CDOM443,CDOM443_FLAG_W,CDOM490,CDOM490_FLAG_W,CDOM555,CDOM555_FLAG_W,CDOMSL,CDOMSL_FLAG_W,CDOMSN,CDOMSN_FLAG_W,THETA,SBE35,SBE35_FLAG_W
,,,,,,,,,,,METERS,,DBAR,ITS-90,PSS-78,,PSS-78,,UMOL/KG,,UMOL/KG,,UMOL/KG,,UMOL/KG,,UMOL/KG,,UMOL/KG,,PMOL/KG,,PMOL/KG,,PMOL/KG,,UMOL/KG,,UMOL/KG,,,,DEG C,UMOL/KG,,UMOL/KG,,TU,,TU,NMOL/KG,,NMOL/KG,PERCNT,,PERCNT,NMOL/KG,,NMOL/KG,/MILLE,,/MILLE,/MILLE,,1/M,,1/M,,1/M,,1/M,,1/M,,1/M,,1/M,,1/NM,,1/NM,,DEG C,ITS-90,
  33RR20070322,  I09N,   172,  1,     36,     38,2,20070420,0151,  9.9663,  87.8522, 3433,   2.2000,      2.2,  29.6458,  33.3716,2,  33.3744,2,    196.1,2,    196.2,2,     1.46,2,     0.06,2,     0.00,2,     0.04,2,    1.533,2,    0.996,2, -999.000,5,   1887.0,6,   2206.2,6,   8.0900,6,    25.00,   -999.0,9,  -999.00,9, -999.000,9, -999.000,-999.0000,9,-999.0000,  -999.00,9,  -999.00, -999.000,9, -999.000,   -999.0,9,   -999.0,  -999.00,9,-999.0000,9,-999.0000,9,-999.0000,9,-999.0000,9,-999.0000,9,-999.0000,9,-999.0000,9,-999.0000,9,-999.0000,9,  29.6453,  29.6639,2
  33RR20070322,  I09N,   172,  1,     35,     35,2,20070420,0151,  9.9663,  87.8522, 3433,  19.6000,     19.6,  29.2689,  33.3916,2,  33.3924,2,    198.4,2,    198.2,2,     1.45,2,     0.06,2,     0.00,2,     0.04,2,    1.543,2,    0.993,2, -999.000,5,   1889.7,2,   2211.4,2,   8.1120,2,    25.00,   -999.0,9,  -999.00,9, -999.000,9, -999.000,-999.0000,9,-999.0000,  -999.00,9,  -999.00, -999.000,9, -999.000,   -999.0,9,   -999.0,  -999.00,9,-999.0000,9,-999.0000,9,-999.0000,9,-999.0000,9,-999.0000,9,-999.0000,9,-999.0000,9,-999.0000,9,-999.0000,9,  29.2641,  29.2636,2
  33RR20070322,  I09N,   172,  1,     34,   9419,2,20070420,0151,  9.9663,  87.8522, 3433,  44.1000,     44.1,  27.8761,  33.3226,2,  33.3260,2,    207.0,2,    206.6,2,     1.64,2,     0.06,2,     0.00,2,     0.02,2, -999.000,9, -999.000,9, -999.000,9,   1892.2,2,   2213.9,2,   8.1034,2,    25.00,   -999.0,9,  -999.00,9, -999.000,9, -999.000,-999.0000,9,-999.0000,  -999.00,9,  -999.00, -999.000,9, -999.000,   -999.0,9,   -999.0,  -999.00,9,-999.0000,9,-999.0000,9,-999.0000,9,-999.0000,9,-999.0000,9,-999.0000,9,-999.0000,9,-999.0000,9,-999.0000,9,  27.8658,  27.8549,2
  33RR20070322,  I09N,   172,  1,     33,     33,2,20070420,0151,  9.9663,  87.8522, 3433,  89.3000,     89.3,  26.7364,  34.4098,2,  34.4430,2,    178.6,2,    134.0,2,     4.01,2,     4.05,2,     0.28,2,     0.51,2,    1.452,2,    0.939,2, -999.000,5,   2008.5,2,   2267.1,2,   7.9682,2,    25.00,   -999.0,9,  -999.00,9, -999.000,9, -999.000,-999.0000,9,-999.0000,  -999.00,9,  -999.00, -999.000,9, -999.000,   -999.0,9,   -999.0,  -999.00,9,-999.0000,9,-999.0000,9,-999.0000,9,-999.0000,9,-999.0000,9,-999.0000,9,-999.0000,9,-999.0000,9,-999.0000,9,  26.7161,  26.6745,2
  33RR20070322,  I09N,   172,  1,     32,     37,2,20070420,0151,  9.9663,  87.8522, 3433, 138.4000,    138.4,  18.4963,  34.8655,2,  34.8646,2,      6.4,2,      5.9,2,    23.10,2,    27.20,2,     0.01,2,     2.02,2, -999.000,9, -999.000,9, -999.000,9,   2192.4,2,   2293.2,2,   7.5895,2,    25.00,   -999.0,9,  -999.00,9, -999.000,9, -999.000,-999.0000,9,-999.0000,  -999.00,9,  -999.00, -999.000,9, -999.000,   -999.0,9,   -999.0,  -999.00,9,-999.0000,9,-999.0000,9,-999.0000,9,-999.0000,9,-999.0000,9,-999.0000,9,-999.0000,9,-999.0000,9,-999.0000,9,  18.4721,  18.4849,2
  33RR20070322,  I09N,   172,  1,     31,     31,2,20070420,0151,  9.9663,  87.8522, 3433, 163.6000,    163.6,  16.5273,  34.8913,2,  34.9004,2,      4.8,2,      4.2,2,    27.68,2,    29.15,2,     0.00,2,     2.17,2,    0.758,2,    0.462,2, -999.000,5,   2215.1,2,   2302.3,6,   7.5593,2,    25.00,   -999.0,9,  -999.00,9, -999.000,9, -999.000,-999.0000,9,-999.0000,  -999.00,9,  -999.00, -999.000,9, -999.000,   -999.0,9,   -999.0,  -999.00,9,-999.0000,9,-999.0000,9,-999.0000,9,-999.0000,9,-999.0000,9,-999.0000,9,-999.0000,9,-999.0000,9,-999.0000,9,  16.5009,  16.5422,2
  33RR20070322,  I09N,   172,  1,     30,     30,2,20070420,0151,  9.9663,  87.8522, 3433, 188.6000,    188.6,  14.3121,  34.9635,2,  34.9624,2,      4.1,2,      5.2,2,    31.65,2,    31.10,2,     0.00,2,     2.29,2, -999.000,9, -999.000,9, -999.000,9,   2235.7,6,   2309.7,2,   7.5201,6,    25.00,   -999.0,9,  -999.00,9, -999.000,9, -999.000,-999.0000,9,-999.0000,  -999.00,9,  -999.00, -999.000,9, -999.000,   -999.0,9,   -999.0,  -999.00,9,-999.0000,9,-999.0000,9,-999.0000,9,-999.0000,9,-999.0000,9,-999.0000,9,-999.0000,9,-999.0000,9,-999.0000,9,  14.2844,  14.3255,2
  33RR20070322,  I09N,   172,  1,     29,     29,2,20070420,0151,  9.9663,  87.8522, 3433, 238.4000,    238.4,  12.3590,  35.0163,2,  35.0148,2,     13.0,2,     12.5,2,    34.83,2,    32.56,2,     0.00,2,     2.33,2,    0.503,2,    0.289,2, -999.000,5,   2251.0,2,   2319.8,2,   7.4899,2,    25.00,   -999.0,9,  -999.00,9, -999.000,9, -999.000,-999.0000,9,-999.0000,  -999.00,9,  -999.00, -999.000,9, -999.000,   -999.0,9,   -999.0,  -999.00,9,-999.0000,9,-999.0000,9,-999.0000,9,-999.0000,9,-999.0000,9,-999.0000,9,-999.0000,9,-999.0000,9,-999.0000,9,  12.3272,  12.3593,2
  33RR20070322,  I09N,   172,  1,     28,     28,2,20070420,0151,  9.9663,  87.8522, 3433, 288.7000,    288.7,  11.6376,  35.0270,2,  35.0268,2,     12.1,2,     11.7,2,    38.01,2,    33.75,2,     0.00,2,     2.41,2, -999.000,9, -999.000,9, -999.000,9,   2259.8,2,   2326.1,2,   7.4650,2,    25.00,   -999.0,9,  -999.00,9, -999.000,9, -999.000,-999.0000,9,-999.0000,  -999.00,9,  -999.00, -999.000,9, -999.000,   -999.0,9,   -999.0,  -999.00,9,-999.0000,9,-999.0000,9,-999.0000,9,-999.0000,9,-999.0000,9,-999.0000,9,-999.0000,9,-999.0000,9,-999.0000,9,  11.6005,  11.6384,2
  33RR20070322,  I09N,   172,  1,     27,     27,2,20070420,0151,  9.9663,  87.8522, 3433, 338.5000,    338.5,  11.0683,  35.0381,2,  35.0380,2,     15.4,2,     15.0,2,    39.60,2,    34.08,2,     0.00,2,     2.42,2,    0.375,2,    0.213,2, -999.000,5,   2265.5,2,   2317.7,2,   7.4706,2,    25.00,   -999.0,9,  -999.00,9, -999.000,9, -999.000,-999.0000,9,-999.0000,  -999.00,9,  -999.00, -999.000,9, -999.000,   -999.0,9,   -999.0,  -999.00,9,-999.0000,9,-999.0000,9,-999.0000,9,-999.0000,9,-999.0000,9,-999.0000,9,-999.0000,9,-999.0000,9,-999.0000,9,  11.0261,  11.0808,2
  33RR20070322,  I09N,   172,  1,     26,     26,2,20070420,0151,  9.9663,  87.8522, 3433, 389.3000,    389.3,  10.6574,  35.0349,2,  35.0333,2,     14.7,2,     14.2,2,    42.58,2,    34.86,2,     0.00,2,     2.48,2, -999.000,9, -999.000,9, -999.000,9,   2270.7,2,   2320.9,2,   7.4787,2,    25.00,   -999.0,9,  -999.00,9, -999.000,9, -999.000,-999.0000,9,-999.0000,  -999.00,9,  -999.00, -999.000,9, -999.000,   -999.0,9,   -999.0,  -999.00,9,-999.0000,9,-999.0000,9,-999.0000,9,-999.0000,9,-999.0000,9,-999.0000,9,-999.0000,9,-999.0000,9,-999.0000,9,  10.6099,  10.6529,2
  33RR20070322,  I09N,   172,  1,     25,     25,2,20070420,0151,  9.9663,  87.8522, 3433, 438.7000,    438.7,  10.2446,  35.0356,2,  35.0350,2,     14.6,2,     14.1,2,    45.78,2,    35.35,2,     0.00,2,     2.53,2,    0.230,2,    0.131,2, -999.000,5,   2275.3,2,   2324.6,2,   7.4546,2,    25.00,   -999.0,9,  -999.00,9, -999.000,9, -999.000,-999.0000,9,-999.0000,  -999.00,9,  -999.00, -999.000,9, -999.000,   -999.0,9,   -999.0,  -999.00,9,-999.0000,9,-999.0000,9,-999.0000,9,-999.0000,9,-999.0000,9,-999.0000,9,-999.0000,9,-999.0000,9,-999.0000,9,  10.1923,  10.2422,2
  33RR20070322,  I09N,   172,  1,     24,     24,2,20070420,0151,  9.9663,  87.8522, 3433, 489.1000,    489.1,   9.8272,  35.0268,2,  35.0262,2,     18.2,2,     17.5,2,    49.76,2,    35.64,2,     0.00,2,     2.58,2, -999.000,9, -999.000,9, -999.000,9,   2277.6,2,   2329.2,2,   7.4475,2,    25.00,   -999.0,9,  -999.00,9, -999.000,9, -999.000,-999.0000,9,-999.0000,  -999.00,9,  -999.00, -999.000,9, -999.000,   -999.0,9,   -999.0,  -999.00,9,-999.0000,9,-999.0000,9,-999.0000,9,-999.0000,9,-999.0000,9,-999.0000,9,-999.0000,9,-999.0000,9,-999.0000,9,   9.7702,   9.8251,2
  33RR20070322,  I09N,   172,  1,     23,     23,2,20070420,0151,  9.9663,  87.8522, 3433, 574.9000,    574.9,   9.1537,  35.0081,2,  35.0075,2,     24.7,2,     24.4,2,    56.75,2,    35.88,2,     0.00,2,     2.61,2,    0.142,2,    0.079,2, -999.000,5,   2284.0,2,   2336.3,2,   7.4514,2,    25.00,   -999.0,9,  -999.00,9, -999.000,9, -999.000,-999.0000,9,-999.0000,  -999.00,9,  -999.00, -999.000,9, -999.000,   -999.0,9,   -999.0,  -999.00,9,-999.0000,9,-999.0000,9,-999.0000,9,-999.0000,9,-999.0000,9,-999.0000,9,-999.0000,9,-999.0000,9,-999.0000,9,   9.0892,   9.1509,2
  33RR20070322,  I09N,   172,  1,     22,     22,2,20070420,0151,  9.9663,  87.8522, 3433, 674.8000,    674.8,   8.4710,  34.9887,2,  34.9890,2,     29.1,2,     28.5,2,    64.35,2,    36.52,2,     0.00,2,     2.66,2, -999.000,9, -999.000,9, -999.000,9,   2291.4,2,   2344.4,2,   7.4635,2,    25.00,   -999.0,9,  -999.00,9, -999.000,9, -999.000,-999.0000,9,-999.0000,  -999.00,9,  -999.00, -999.000,9, -999.000,   -999.0,9,   -999.0,  -999.00,9,-999.0000,9,-999.0000,9,-999.0000,9,-999.0000,9,-999.0000,9,-999.0000,9,-999.0000,9,-999.0000,9,-999.0000,9,   8.3983,   8.4743,2
  33RR20070322,  I09N,   172,  1,     21,     21,2,20070420,0151,  9.9663,  87.8522, 3433, 774.0000,    774.0,   7.8243,  34.9698,2,  34.9699,2,     35.2,2,     35.1,2,    71.17,2,    36.66,2,     0.00,2,     2.70,2,    0.064,2,    0.037,2, -999.000,5,   2297.9,2,   2362.1,2,   7.4592,2,    25.00,   -999.0,9,  -999.00,9, -999.000,9, -999.000,-999.0000,9,-999.0000,  -999.00,9,  -999.00, -999.000,9, -999.000,   -999.0,9,   -999.0,  -999.00,9,-999.0000,9,-999.0000,9,-999.0000,9,-999.0000,9,-999.0000,9,-999.0000,9,-999.0000,9,-999.0000,9,-999.0000,9,   7.7441,   7.8254,2
  33RR20070322,  I09N,   172,  1,     20,     20,2,20070420,0151,  9.9663,  87.8522, 3433, 875.0000,    875.0,   7.1720,  34.9514,2,  34.9508,2,     40.7,2,     40.5,2,    78.78,2,    37.20,2,     0.00,2,     2.73,2, -999.000,9, -999.000,9, -999.000,9,   2304.4,2,   2357.4,2,   7.4598,2,    25.00,   -999.0,9,  -999.00,9, -999.000,9, -999.000,-999.0000,9,-999.0000,  -999.00,9,  -999.00, -999.000,9, -999.000,   -999.0,9,   -999.0,  -999.00,9,-999.0000,9,-999.0000,9,-999.0000,9,-999.0000,9,-999.0000,9,-999.0000,9,-999.0000,9,-999.0000,9,-999.0000,9,   7.0850,   7.1772,2
  33RR20070322,  I09N,   172,  1,     19,     19,2,20070420,0151,  9.9663,  87.8522, 3433, 975.5000,    975.5,   6.6692,  34.9323,2,  34.9323,2,     47.2,2,     46.5,2,    84.01,2,    37.14,2,     0.00,2,     2.73,2,    0.027,2,    0.016,2, -999.000,5,   2308.0,2,   2363.7,2,   7.4502,2,    25.00,   -999.0,9,  -999.00,9, -999.000,9, -999.000,-999.0000,9,-999.0000,  -999.00,9,  -999.00, -999.000,9, -999.000,   -999.0,9,   -999.0,  -999.00,9,-999.0000,9,-999.0000,9,-999.0000,9,-999.0000,9,-999.0000,9,-999.0000,9,-999.0000,9,-999.0000,9,-999.0000,9,   6.5752,   6.6683,2
  33RR20070322,  I09N,   172,  1,     18,     18,2,20070420,0151,  9.9663,  87.8522, 3433,1075.4000,   1075.4,   6.2037,  34.9150,2,  34.9148,2,     52.5,2,     52.7,2,    89.66,2,    37.18,2,     0.00,2,     2.73,2, -999.000,9, -999.000,9, -999.000,9,   2312.0,2,   2371.6,2,   7.4698,2,    25.00,   -999.0,9,  -999.00,9, -999.000,9, -999.000,-999.0000,9,-999.0000,  -999.00,9,  -999.00, -999.000,9, -999.000,   -999.0,9,   -999.0,  -999.00,9,-999.0000,9,-999.0000,9,-999.0000,9,-999.0000,9,-999.0000,9,-999.0000,9,-999.0000,9,-999.0000,9,-999.0000,9,   6.1031,   6.2087,2
  33RR20070322,  I09N,   172,  1,     17,     17,2,20070420,0151,  9.9663,  87.8522, 3433,1175.4000,   1175.4,   5.8091,  34.8998,2,  34.8995,2,     57.8,2,     59.2,2,    94.29,2,    37.12,2,     0.00,2,     2.72,2,    0.021,2,    0.012,2, -999.000,5,   2314.6,2,   2372.7,2,   7.4766,2,    25.00,   -999.0,9,  -999.00,9, -999.000,9, -999.000,-999.0000,9,-999.0000,  -999.00,9,  -999.00, -999.000,9, -999.000,   -999.0,9,   -999.0,  -999.00,9,-999.0000,9,-999.0000,9,-999.0000,9,-999.0000,9,-999.0000,9,-999.0000,9,-999.0000,9,-999.0000,9,-999.0000,9,   5.7018,   5.8117,2
  33RR20070322,  I09N,   172,  1,     16,     16,2,20070420,0151,  9.9663,  87.8522, 3433,1276.0000,   1276.0,   5.4506,  34.8863,2,  34.8865,2,     65.0,2,     64.3,2,    97.92,2,    37.22,2,     0.00,2,     2.72,2, -999.000,9, -999.000,9, -999.000,9,   2316.8,2,   2377.8,2,   7.4793,2,    25.00,   -999.0,9,  -999.00,9, -999.000,9, -999.000,-999.0000,9,-999.0000,  -999.00,9,  -999.00, -999.000,9, -999.000,   -999.0,9,   -999.0,  -999.00,9,-999.0000,9,-999.0000,9,-999.0000,9,-999.0000,9,-999.0000,9,-999.0000,9,-999.0000,9,-999.0000,9,-999.0000,9,   5.3367,   5.4517,2
  33RR20070322,  I09N,   172,  1,     15,     15,2,20070420,0151,  9.9663,  87.8522, 3433,1376.8000,   1376.8,   5.0218,  34.8687,2,  34.8690,2,     71.9,2,     73.8,2,   102.57,2,    36.96,2,     0.00,2,     2.70,2,    0.016,2,    0.009,2, -999.000,5,   2319.1,2,   2383.9,2,   7.4929,2,    25.00,   -999.0,9,  -999.00,9, -999.000,9, -999.000,-999.0000,9,-999.0000,  -999.00,9,  -999.00, -999.000,9, -999.000,   -999.0,9,   -999.0,  -999.00,9,-999.0000,9,-999.0000,9,-999.0000,9,-999.0000,9,-999.0000,9,-999.0000,9,-999.0000,9,-999.0000,9,-999.0000,9,   4.9023,   5.0225,2
  33RR20070322,  I09N,   172,  1,     14,     14,2,20070420,0151,  9.9663,  87.8522, 3433,1477.3000,   1477.3,   4.5858,  34.8538,2,  34.8540,2,     79.2,2,     79.7,2,   107.64,2,    36.95,2,     0.00,2,     2.70,2, -999.000,9, -999.000,9, -999.000,9,   2320.0,2,   2385.2,2,   7.4888,2,    25.00,   -999.0,9,  -999.00,9, -999.000,9, -999.000,-999.0000,9,-999.0000,  -999.00,9,  -999.00, -999.000,9, -999.000,   -999.0,9,   -999.0,  -999.00,9,-999.0000,9,-999.0000,9,-999.0000,9,-999.0000,9,-999.0000,9,-999.0000,9,-999.0000,9,-999.0000,9,-999.0000,9,   4.4614,   4.5860,2
  33RR20070322,  I09N,   172,  1,     13,     13,2,20070420,0151,  9.9663,  87.8522, 3433,1577.3000,   1577.3,   4.2088,  34.8408,2,  34.8409,2,     84.1,2,     84.5,2,   111.69,2,    36.94,2,     0.00,2,     2.70,2,    0.009,2,    0.006,2, -999.000,5,   2324.0,2,   2389.4,2,   7.5020,2,    25.00,   -999.0,9,  -999.00,9, -999.000,9, -999.000,-999.0000,9,-999.0000,  -999.00,9,  -999.00, -999.000,9, -999.000,   -999.0,9,   -999.0,  -999.00,9,-999.0000,9,-999.0000,9,-999.0000,9,-999.0000,9,-999.0000,9,-999.0000,9,-999.0000,9,-999.0000,9,-999.0000,9,   4.0794,   4.2108,2
  33RR20070322,  I09N,   172,  1,     12,     12,2,20070420,0151,  9.9663,  87.8522, 3433,1779.1000,   1779.1,   3.4157,  34.8084,2,  34.8088,2,     98.6,2,     99.9,2,   121.04,2,    36.64,2,     0.00,2,     2.66,2, -999.000,9, -999.000,9, -999.000,9,   2327.7,2,   2400.1,2,   7.5156,2,    25.00,   -999.0,9,  -999.00,9, -999.000,9, -999.000,-999.0000,9,-999.0000,  -999.00,9,  -999.00, -999.000,9, -999.000,   -999.0,9,   -999.0,  -999.00,9,-999.0000,9,-999.0000,9,-999.0000,9,-999.0000,9,-999.0000,9,-999.0000,9,-999.0000,9,-999.0000,9,-999.0000,9,   3.2777,   3.4166,2
  33RR20070322,  I09N,   172,  1,     11,     11,2,20070420,0151,  9.9663,  87.8522, 3433,1880.3000,   1880.3,   3.1313,  34.7964,2,  34.7966,2,    106.0,2,    105.8,2,   124.30,2,    36.39,2,     0.00,2,     2.64,2,    0.008,2,    0.006,2, -999.000,5,   2328.1,2,   2403.4,2,   7.5223,2,    25.00,   -999.0,9,  -999.00,9, -999.000,9, -999.000,-999.0000,9,-999.0000,  -999.00,9,  -999.00, -999.000,9, -999.000,   -999.0,9,   -999.0,  -999.00,9,-999.0000,9,-999.0000,9,-999.0000,9,-999.0000,9,-999.0000,9,-999.0000,9,-999.0000,9,-999.0000,9,-999.0000,9,   2.9881,   3.1320,2
  33RR20070322,  I09N,   172,  1,     10,     10,2,20070420,0151,  9.9663,  87.8522, 3433,1980.8000,   1980.8,   2.8556,  34.7841,2,  34.7838,2,    113.5,2,    113.3,2,   127.37,2,    36.18,2,     0.00,2,     2.61,2, -999.000,9, -999.000,9, -999.000,9,   2327.7,2,   2407.1,2,   7.5301,2,    25.00,   -999.0,9,  -999.00,9, -999.000,9, -999.000,-999.0000,9,-999.0000,  -999.00,9,  -999.00, -999.000,9, -999.000,   -999.0,9,   -999.0,  -999.00,9,-999.0000,9,-999.0000,9,-999.0000,9,-999.0000,9,-999.0000,9,-999.0000,9,-999.0000,9,-999.0000,9,-999.0000,9,   2.7074,   2.8543,2
  33RR20070322,  I09N,   172,  1,      9,      9,2,20070420,0151,  9.9663,  87.8522, 3433,2182.0000,   2182.0,   2.5055,  34.7685,2,  34.7685,2,    121.9,2,    121.4,2,   132.07,2,    35.88,2,     0.00,2,     2.58,2,    0.010,2,    0.008,2, -999.000,5,   2328.5,2,   2412.3,2,   7.5350,3,    25.00,   -999.0,9,  -999.00,9, -999.000,9, -999.000,-999.0000,9,-999.0000,  -999.00,9,  -999.00, -999.000,9, -999.000,   -999.0,9,   -999.0,  -999.00,9,-999.0000,9,-999.0000,9,-999.0000,9,-999.0000,9,-999.0000,9,-999.0000,9,-999.0000,9,-999.0000,9,-999.0000,9,   2.3447,   2.5056,2
  33RR20070322,  I09N,   172,  1,      8,      8,2,20070420,0151,  9.9663,  87.8522, 3433,2434.6000,   2434.6,   2.1721,  34.7537,2,  34.7541,2,    129.5,2,    132.9,2,   135.14,2,    35.48,2,     0.00,2,     2.53,2, -999.000,9, -999.000,9, -999.000,9,   2224.6,4,   2414.7,2,   7.5502,2,    25.00,   -999.0,9,  -999.00,9, -999.000,9, -999.000,-999.0000,9,-999.0000,  -999.00,9,  -999.00, -999.000,9, -999.000,   -999.0,9,   -999.0,  -999.00,9,-999.0000,9,-999.0000,9,-999.0000,9,-999.0000,9,-999.0000,9,-999.0000,9,-999.0000,9,-999.0000,9,-999.0000,9,   1.9942,   2.1721,2
  33RR20070322,  I09N,   172,  1,      7,      7,2,20070420,0151,  9.9663,  87.8522, 3433,2686.9000,   2686.9,   1.9179,  34.7426,2,  34.7425,2,    140.3,2,    139.7,2,   138.42,2,    35.33,2,     0.00,2,     2.50,2,    0.010,2,    0.007,2, -999.000,5,   2230.3,4,   2422.0,2,   7.5660,2,    25.00,   -999.0,9,  -999.00,9, -999.000,9, -999.000,-999.0000,9,-999.0000,  -999.00,9,  -999.00, -999.000,9, -999.000,   -999.0,9,   -999.0,  -999.00,9,-999.0000,9,-999.0000,9,-999.0000,9,-999.0000,9,-999.0000,9,-999.0000,9,-999.0000,9,-999.0000,9,-999.0000,9,   1.7215,   1.9176,2
  33RR20070322,  I09N,   172,  1,      6,      6,2,20070420,0151,  9.9663,  87.8522, 3433,2939.0000,   2939.0,   1.7573,  34.7360,2,  34.7353,2,    149.6,2,    149.2,2,   137.41,2,    34.78,2,     0.00,2,     2.45,2, -999.000,9, -999.000,9, -999.000,9,   2231.3,4,   2422.4,2,   7.5779,2,    25.00,   -999.0,9,  -999.00,9, -999.000,9, -999.000,-999.0000,9,-999.0000,  -999.00,9,  -999.00, -999.000,9, -999.000,   -999.0,9,   -999.0,  -999.00,9,-999.0000,9,-999.0000,9,-999.0000,9,-999.0000,9,-999.0000,9,-999.0000,9,-999.0000,9,-999.0000,9,-999.0000,9,   1.5404,   1.7576,2
  33RR20070322,  I09N,   172,  1,      5,      5,2,20070420,0151,  9.9663,  87.8522, 3433,3274.5000,   3274.5,   1.6485,  34.7311,2,  34.7307,2,    154.2,2,    153.7,2,   139.05,2,    34.67,2,     0.00,2,     2.43,2,    0.008,2,    0.005,2, -999.000,5,   2323.2,2,   2426.1,2,   7.5814,2,    25.00,   -999.0,9,  -999.00,9, -999.000,9, -999.000,-999.0000,9,-999.0000,  -999.00,9,  -999.00, -999.000,9, -999.000,   -999.0,9,   -999.0,  -999.00,9,-999.0000,9,-999.0000,9,-999.0000,9,-999.0000,9,-999.0000,9,-999.0000,9,-999.0000,9,-999.0000,9,-999.0000,9,   1.4012,   1.6486,2