BOTTLE,20150630SIOCCHRJL
EXPOCODE,SECT_ID,STNNBR,CASTNO,SAMPNO,BTLNBR,BTLNBR_FLAG_W,DATE,TIME,LATITUDE,LONGITUDE,DEPTH,CTDRAW,CTDPRS,CTDTMP,CTDSAL,CTDSAL_FLAG_W,SALNTY,SALNTY_FLAG_W,CTDOXY,CTDOXY_FLAG_W,OXYGEN,OXYGEN_FLAG_W,SILCAT,SILCAT_FLAG_W,NITRAT,NITRAT_FLAG_W,NITRIT,NITRIT_FLAG_W,PHSPHT,PHSPHT_FLAG_W,CFC-11,CFC-11_FLAG_W,CFC-12,CFC-12_FLAG_W,CFC113,CFC113_FLAG_W,TCARBN,TCARBN_FLAG_W,ALKALI,ALKALI_FLAG_W,PH_SWS,PH_SWS_FLAG_W,PH_TMP,DOC,DOC_FLAG_W,TDN,TDN_FLAG_W,TRITUM,TRITUM_FLAG_W,TRITER,HELIUM,HELIUM_FLAG_W,HELIER,DELHE3,DELHE3_FLAG_W,DELHER,NEON,NEON_FLAG_W,NEONER,DELC14,DELC14_FLAG_W,C14ERR,DELC13,DELC13_FLAG_W,CDOM325,CDOM325_FLAG_W,CDOM340,CDOM340_FLAG_W,CDOM380,CDOM380_FLAG_W,CDOM412,CDOM412_FLAG_W,CDOM443,CDOM443_FLAG_W,CDOM490,CDOM490_FLAG_W,CDOM555,CDOM555_FLAG_W,CDOMSL,CDOMSL_FLAG_W,CDOMSN,CDOMSN_FLAG_W,THETA,SBE35,SBE35_FLAG_W
,,,,,,,,,,,METERS,,DBAR,ITS-90,PSS-78,,PSS-78,,UMOL/KG,,UMOL/KG,,UMOL/KG,,UMOL/KG,,UMOL/KG,,UMOL/KG,,PMOL/KG,,PMOL/KG,,PMOL/KG,,UMOL/KG,,UMOL/KG,,,,DEG C,UMOL/KG,,UMOL/KG,,TU,,TU,NMOL/KG,,NMOL/KG,PERCNT,,PERCNT,NMOL/KG,,NMOL/KG,/MILLE,,/MILLE,/MILLE,,1/M,,1/M,,1/M,,1/M,,1/M,,1/M,,1/M,,1/NM,,1/NM,,DEG C,ITS-90,
  33RR20070322,  I09N,   137,  1,      4,      4,2,20070410,1923, -2.5083,  94.2373, 4759,3835.6000,   3835.6,   1.1614,  34.7165,2,  34.7162,2,    189.5,2,    190.0,2,   127.23,2,    32.49,2,     0.00,2,     2.28,2, -999.000,9, -999.000,9, -999.000,9,   2288.5,2,   2401.0,2,   7.6155,2,    25.00,     40.5,2,    34.03,2, -999.000,9, -999.000,-999.0000,9,-999.0000,  -999.00,9,  -999.00, -999.000,9, -999.000,   -999.0,9,   -999.0,  -999.00,9,-999.0000,9,-999.0000,9,-999.0000,9,-999.0000,9,-999.0000,9,-999.0000,9,-999.0000,9,-999.0000,9,-999.0000,9,   0.8692,   1.1617,2
  33RR20070322,  I09N,   137,  1,      3,      3,2,20070410,1923, -2.5083,  94.2373, 4759,4242.2000,   4242.2,   1.1565,  34.7151,2,  34.7154,2,    193.1,2,    192.7,2,   126.59,2,    32.47,3,     0.00,2,     2.27,2,    0.010,2,    0.004,2, -999.000,5,   2284.6,2,   2400.1,2,   7.6189,2,    25.00,     40.4,2,    34.32,2, -999.000,9, -999.000,-999.0000,9,-999.0000,  -999.00,9,  -999.00, -999.000,9, -999.000,   -999.0,9,   -999.0,  -999.00,9,-999.0000,9,-999.0000,9,-999.0000,9,-999.0000,9,-999.0000,9,-999.0000,9,-999.0000,9,-999.0000,9,-999.0000,9,   0.8208,   1.1564,2
  33RR20070322,  I09N,   137,  1,      2,      2,2,20070410,1923, -2.5083,  94.2373, 4759,4649.7000,   4649.7,   1.1891,  34.7146,2,  34.7139,2,    193.7,2,    194.0,2,   128.00,2,    32.34,3,     0.00,2,     2.26,2, -999.000,9, -999.000,9, -999.000,9,   2283.7,2,   2398.9,2,   7.6380,3,    25.00,     40.2,2,    33.81,2, -999.000,9, -999.000,-999.0000,9,-999.0000,  -999.00,9,  -999.00, -999.000,9, -999.000,   -999.0,9,   -999.0,  -999.00,9,-999.0000,9,-999.0000,9,-999.0000,9,-999.0000,9,-999.0000,9,-999.0000,9,-999.0000,9,-999.0000,9,-999.0000,9,   0.8064,   1.1889,2
  33RR20070322,  I09N,   137,  1,      1,      1,2,20070410,1923, -2.5083,  94.2373, 4759,4821.6000,   4821.6,   1.2014,  34.7142,2,  34.7148,2,    193.5,2,    194.1,2,   127.36,2,    32.47,2,     0.00,2,     2.26,2,    0.008,2,    0.003,2, -999.000,5,   2284.5,6,   2399.6,6,   7.6330,6,    25.00,     40.2,2,    33.78,2, -999.000,9, -999.000,-999.0000,9,-999.0000,  -999.00,9,  -999.00, -999.000,9, -999.000,   -999.0,9,   -999.0,  -999.00,9,-999.0000,9,-999.0000,9,-999.0000,9,-999.0000,9,-999.0000,9,-999.0000,9,-999.0000,9,-999.0000,9,-999.0000,9,   0.7982,   1.2008,2