BOTTLE,20150630SIOCCHRJL
EXPOCODE,SECT_ID,STNNBR,CASTNO,SAMPNO,BTLNBR,BTLNBR_FLAG_W,DATE,TIME,LATITUDE,LONGITUDE,DEPTH,CTDRAW,CTDPRS,CTDTMP,CTDSAL,CTDSAL_FLAG_W,SALNTY,SALNTY_FLAG_W,CTDOXY,CTDOXY_FLAG_W,OXYGEN,OXYGEN_FLAG_W,SILCAT,SILCAT_FLAG_W,NITRAT,NITRAT_FLAG_W,NITRIT,NITRIT_FLAG_W,PHSPHT,PHSPHT_FLAG_W,CFC-11,CFC-11_FLAG_W,CFC-12,CFC-12_FLAG_W,CFC113,CFC113_FLAG_W,TCARBN,TCARBN_FLAG_W,ALKALI,ALKALI_FLAG_W,PH_SWS,PH_SWS_FLAG_W,PH_TMP,DOC,DOC_FLAG_W,TDN,TDN_FLAG_W,TRITUM,TRITUM_FLAG_W,TRITER,HELIUM,HELIUM_FLAG_W,HELIER,DELHE3,DELHE3_FLAG_W,DELHER,NEON,NEON_FLAG_W,NEONER,DELC14,DELC14_FLAG_W,C14ERR,DELC13,DELC13_FLAG_W,CDOM325,CDOM325_FLAG_W,CDOM340,CDOM340_FLAG_W,CDOM380,CDOM380_FLAG_W,CDOM412,CDOM412_FLAG_W,CDOM443,CDOM443_FLAG_W,CDOM490,CDOM490_FLAG_W,CDOM555,CDOM555_FLAG_W,CDOMSL,CDOMSL_FLAG_W,CDOMSN,CDOMSN_FLAG_W,THETA,SBE35,SBE35_FLAG_W
,,,,,,,,,,,METERS,,DBAR,ITS-90,PSS-78,,PSS-78,,UMOL/KG,,UMOL/KG,,UMOL/KG,,UMOL/KG,,UMOL/KG,,UMOL/KG,,PMOL/KG,,PMOL/KG,,PMOL/KG,,UMOL/KG,,UMOL/KG,,,,DEG C,UMOL/KG,,UMOL/KG,,TU,,TU,NMOL/KG,,NMOL/KG,PERCNT,,PERCNT,NMOL/KG,,NMOL/KG,/MILLE,,/MILLE,/MILLE,,1/M,,1/M,,1/M,,1/M,,1/M,,1/M,,1/M,,1/NM,,1/NM,,DEG C,ITS-90,
  33RR20070322,  I09N,   148,  2,     36,     38,2,20070413,1719,  0.8180,  92.7345, 4412,   2.9000,      2.9,  29.6638,  34.0867,2,  34.0878,2,    195.1,2,    195.3,2,     1.26,2,     0.06,2,     0.00,2,     0.07,2,    1.497,2,    0.964,2, -999.000,5,   1905.2,6,   2234.4,2,   8.1080,3,    25.00,   -999.0,9,  -999.00,9, -999.000,9, -999.000,-999.0000,9,-999.0000,  -999.00,9,  -999.00, -999.000,9, -999.000,   -999.0,9,   -999.0,  -999.00,9,-999.0000,9,-999.0000,9,-999.0000,9,-999.0000,9,-999.0000,9,-999.0000,9,-999.0000,9,-999.0000,9,-999.0000,9,  29.6631,  29.6617,2
  33RR20070322,  I09N,   148,  2,     35,     35,2,20070413,1719,  0.8180,  92.7345, 4412,  19.3000,     19.3,  29.6521,  34.0938,2,  34.0895,2,    196.3,2,    195.4,2,     1.20,2,     0.06,2,     0.00,2,     0.06,2, -999.000,9, -999.000,9, -999.000,9,   -999.0,9,   -999.0,9,-999.0000,9,  -999.00,   -999.0,9,  -999.00,9, -999.000,9, -999.000,-999.0000,9,-999.0000,  -999.00,9,  -999.00, -999.000,9, -999.000,   -999.0,9,   -999.0,  -999.00,9,-999.0000,9,-999.0000,9,-999.0000,9,-999.0000,9,-999.0000,9,-999.0000,9,-999.0000,9,-999.0000,9,-999.0000,9,  29.6474,  29.6488,2
  33RR20070322,  I09N,   148,  2,     34,   9419,2,20070413,1719,  0.8180,  92.7345, 4412,  43.5000,     43.5,  29.6342,  34.1033,2,  34.1044,2,    196.4,2,    194.9,2,     1.15,2,     0.06,2,     0.00,2,     0.06,2,    1.488,2,    0.963,2, -999.000,5,   1906.4,2,   2234.3,2,   8.1010,3,    25.00,   -999.0,9,  -999.00,9, -999.000,9, -999.000,-999.0000,9,-999.0000,  -999.00,9,  -999.00, -999.000,9, -999.000,   -999.0,9,   -999.0,  -999.00,9,-999.0000,9,-999.0000,9,-999.0000,9,-999.0000,9,-999.0000,9,-999.0000,9,-999.0000,9,-999.0000,9,-999.0000,9,  29.6235,  29.6283,2
  33RR20070322,  I09N,   148,  2,     33,     33,2,20070413,1719,  0.8180,  92.7345, 4412,  89.4000,     89.4,  27.3756,  34.6123,2,  34.5625,2,    190.1,2,    185.6,2,     1.70,2,     0.29,2,     0.02,2,     0.22,2, -999.000,9, -999.000,9, -999.000,9,   -999.0,9,   -999.0,9,-999.0000,9,  -999.00,   -999.0,9,  -999.00,9, -999.000,9, -999.000,-999.0000,9,-999.0000,  -999.00,9,  -999.00, -999.000,9, -999.000,   -999.0,9,   -999.0,  -999.00,9,-999.0000,9,-999.0000,9,-999.0000,9,-999.0000,9,-999.0000,9,-999.0000,9,-999.0000,9,-999.0000,9,-999.0000,9,  27.3549,  27.3179,2
  33RR20070322,  I09N,   148,  2,     32,     37,2,20070413,1719,  0.8180,  92.7345, 4412, 139.0000,    139.0,  20.8621,  35.3064,2,  35.3056,2,     91.3,2,     89.7,2,    10.65,2,    16.66,2,     0.03,2,     1.21,2,    1.639,2,    1.005,2, -999.000,5,   2129.7,2,   2308.2,2,   7.8029,2,    25.00,   -999.0,9,  -999.00,9, -999.000,9, -999.000,-999.0000,9,-999.0000,  -999.00,9,  -999.00, -999.000,9, -999.000,   -999.0,9,   -999.0,  -999.00,9,-999.0000,9,-999.0000,9,-999.0000,9,-999.0000,9,-999.0000,9,-999.0000,9,-999.0000,9,-999.0000,9,-999.0000,9,  20.8356,  20.8587,2
  33RR20070322,  I09N,   148,  2,     31,     31,2,20070413,1719,  0.8180,  92.7345, 4412, 164.0000,    164.0,  18.7259,  35.2484,2,  35.2487,2,     70.4,2,     69.5,2,    14.01,2,    20.62,2,     0.01,2,     1.46,2, -999.000,9, -999.000,9, -999.000,9,   -999.0,9,   -999.0,9,-999.0000,9,  -999.00,   -999.0,9,  -999.00,9, -999.000,9, -999.000,-999.0000,9,-999.0000,  -999.00,9,  -999.00, -999.000,9, -999.000,   -999.0,9,   -999.0,  -999.00,9,-999.0000,9,-999.0000,9,-999.0000,9,-999.0000,9,-999.0000,9,-999.0000,9,-999.0000,9,-999.0000,9,-999.0000,9,  18.6969,  18.7781,2
  33RR20070322,  I09N,   148,  2,     30,     30,2,20070413,1719,  0.8180,  92.7345, 4412, 188.7000,    188.7,  16.0874,  35.1453,2,  35.1466,2,     54.8,2,     55.2,2,    18.56,2,    24.52,2,     0.01,2,     1.72,2, -999.000,9, -999.000,9, -999.000,9,   -999.0,9,   -999.0,9,-999.0000,9,  -999.00,   -999.0,9,  -999.00,9, -999.000,9, -999.000,-999.0000,9,-999.0000,  -999.00,9,  -999.00, -999.000,9, -999.000,   -999.0,9,   -999.0,  -999.00,9,-999.0000,9,-999.0000,9,-999.0000,9,-999.0000,9,-999.0000,9,-999.0000,9,-999.0000,9,-999.0000,9,-999.0000,9,  16.0574,  16.0904,2
  33RR20070322,  I09N,   148,  2,     29,     29,2,20070413,1719,  0.8180,  92.7345, 4412, 239.4000,    239.4,  13.1700,  35.0999,2,  35.1001,2,     59.1,2,     62.7,2,    21.12,2,    26.46,2,     0.01,2,     1.84,2,    1.264,2,    0.704,2, -999.000,5,   2210.1,2,   2311.2,6,   7.6090,2,    25.00,   -999.0,9,  -999.00,9, -999.000,9, -999.000,-999.0000,9,-999.0000,  -999.00,9,  -999.00, -999.000,9, -999.000,   -999.0,9,   -999.0,  -999.00,9,-999.0000,9,-999.0000,9,-999.0000,9,-999.0000,9,-999.0000,9,-999.0000,9,-999.0000,9,-999.0000,9,-999.0000,9,  13.1367,  13.1767,2
  33RR20070322,  I09N,   148,  2,     28,     28,2,20070413,1719,  0.8180,  92.7345, 4412, 289.2000,    289.2,  12.0806,  35.0756,2,  35.0746,2,     59.0,2,     60.4,2,    24.27,2,    28.18,2,     0.00,2,     1.95,2, -999.000,9, -999.000,9, -999.000,9,   -999.0,9,   -999.0,9,-999.0000,9,  -999.00,   -999.0,9,  -999.00,9, -999.000,9, -999.000,-999.0000,9,-999.0000,  -999.00,9,  -999.00, -999.000,9, -999.000,   -999.0,9,   -999.0,  -999.00,9,-999.0000,9,-999.0000,9,-999.0000,9,-999.0000,9,-999.0000,9,-999.0000,9,-999.0000,9,-999.0000,9,-999.0000,9,  12.0425,  12.0793,2
  33RR20070322,  I09N,   148,  2,     27,     27,2,20070413,1719,  0.8180,  92.7345, 4412, 339.0000,    339.0,  11.6231,  35.0496,2,  35.0468,2,     59.5,2,     68.3,2,    24.43,2,    28.18,2,     0.01,2,     1.94,2, -999.000,9, -999.000,9, -999.000,9,   -999.0,9,   -999.0,9,-999.0000,9,  -999.00,   -999.0,9,  -999.00,9, -999.000,9, -999.000,-999.0000,9,-999.0000,  -999.00,9,  -999.00, -999.000,9, -999.000,   -999.0,9,   -999.0,  -999.00,9,-999.0000,9,-999.0000,9,-999.0000,9,-999.0000,9,-999.0000,9,-999.0000,9,-999.0000,9,-999.0000,9,-999.0000,9,  11.5795,  11.6219,2
  33RR20070322,  I09N,   148,  2,     26,     26,2,20070413,1719,  0.8180,  92.7345, 4412, 388.9000,    388.9,  10.9373,  35.0251,2,  35.0253,2,     72.6,2,     71.8,2,    26.58,2,    28.96,2,     0.00,2,     2.00,2,    0.932,2,    0.512,2, -999.000,5,   2223.9,2,   2311.6,2,   7.5620,3,    25.00,   -999.0,9,  -999.00,9, -999.000,9, -999.000,-999.0000,9,-999.0000,  -999.00,9,  -999.00, -999.000,9, -999.000,   -999.0,9,   -999.0,  -999.00,9,-999.0000,9,-999.0000,9,-999.0000,9,-999.0000,9,-999.0000,9,-999.0000,9,-999.0000,9,-999.0000,9,-999.0000,9,  10.8891,  10.9358,2
  33RR20070322,  I09N,   148,  2,     25,     25,2,20070413,1719,  0.8180,  92.7345, 4412, 438.5000,    438.5,  10.7366,  35.0128,2,  35.0115,2,     71.0,2,     69.5,2,    27.93,2,    29.53,2,     0.00,2,     2.04,2, -999.000,9, -999.000,9, -999.000,9,   -999.0,9,   -999.0,9,-999.0000,9,  -999.00,   -999.0,9,  -999.00,9, -999.000,9, -999.000,-999.0000,9,-999.0000,  -999.00,9,  -999.00, -999.000,9, -999.000,   -999.0,9,   -999.0,  -999.00,9,-999.0000,9,-999.0000,9,-999.0000,9,-999.0000,9,-999.0000,9,-999.0000,9,-999.0000,9,-999.0000,9,-999.0000,9,  10.6828,  10.7365,2
  33RR20070322,  I09N,   148,  2,     24,     24,2,20070413,1719,  0.8180,  92.7345, 4412, 489.4000,    489.4,  10.2571,  34.9959,2,  34.9962,2,     66.3,2,     65.4,2,    32.09,2,    30.74,2,     0.00,2,     2.15,2, -999.000,9, -999.000,9, -999.000,9,   -999.0,9,   -999.0,9,-999.0000,9,  -999.00,   -999.0,9,  -999.00,9, -999.000,9, -999.000,-999.0000,9,-999.0000,  -999.00,9,  -999.00, -999.000,9, -999.000,   -999.0,9,   -999.0,  -999.00,9,-999.0000,9,-999.0000,9,-999.0000,9,-999.0000,9,-999.0000,9,-999.0000,9,-999.0000,9,-999.0000,9,-999.0000,9,  10.1986,  10.2558,2
  33RR20070322,  I09N,   148,  2,     23,     23,2,20070413,1719,  0.8180,  92.7345, 4412, 573.8000,    573.8,   9.6714,  35.0095,2,  35.0094,2,     53.0,2,     51.9,2,    40.88,2,    32.89,2,     0.00,2,     2.36,2, -999.000,9, -999.000,9, -999.000,9,   -999.0,9,   -999.0,9,-999.0000,9,  -999.00,   -999.0,9,  -999.00,9, -999.000,9, -999.000,-999.0000,9,-999.0000,  -999.00,9,  -999.00, -999.000,9, -999.000,   -999.0,9,   -999.0,  -999.00,9,-999.0000,9,-999.0000,9,-999.0000,9,-999.0000,9,-999.0000,9,-999.0000,9,-999.0000,9,-999.0000,9,-999.0000,9,   9.6049,   9.6681,2
  33RR20070322,  I09N,   148,  2,     22,     22,2,20070413,1719,  0.8180,  92.7345, 4412, 674.5000,    674.5,   9.0162,  35.0017,2,  35.0017,2,     46.8,2,     46.3,2,    49.47,2,    34.42,2,     0.00,2,     2.51,2,    0.162,2,    0.095,2, -999.000,5,   2267.9,2,   2335.6,2,   7.5095,6,    25.00,   -999.0,9,  -999.00,9, -999.000,9, -999.000,-999.0000,9,-999.0000,  -999.00,9,  -999.00, -999.000,9, -999.000,   -999.0,9,   -999.0,  -999.00,9,-999.0000,9,-999.0000,9,-999.0000,9,-999.0000,9,-999.0000,9,-999.0000,9,-999.0000,9,-999.0000,9,-999.0000,9,   8.9408,   9.0146,2
  33RR20070322,  I09N,   148,  2,     21,     21,2,20070413,1719,  0.8180,  92.7345, 4412, 773.8000,    773.8,   8.3164,  35.0095,2,  35.0072,2,     40.9,2,     40.4,2,    61.09,2,    35.78,2,     0.00,2,     2.65,2, -999.000,9, -999.000,9, -999.000,9,   -999.0,9,   -999.0,9,-999.0000,9,  -999.00,   -999.0,9,  -999.00,9, -999.000,9, -999.000,-999.0000,9,-999.0000,  -999.00,9,  -999.00, -999.000,9, -999.000,   -999.0,9,   -999.0,  -999.00,9,-999.0000,9,-999.0000,9,-999.0000,9,-999.0000,9,-999.0000,9,-999.0000,9,-999.0000,9,-999.0000,9,-999.0000,9,   8.2334,   8.3179,2
  33RR20070322,  I09N,   148,  2,     20,     20,2,20070413,1719,  0.8180,  92.7345, 4412, 874.5000,    874.5,   7.6580,  34.9898,2,  34.9893,2,     42.9,2,     42.5,2,    69.72,2,    36.47,2,     0.00,2,     2.70,2,    0.044,2,    0.024,2, -999.000,5,   2295.1,2,   2355.3,2,   7.4738,2,    25.00,   -999.0,9,  -999.00,9, -999.000,9, -999.000,-999.0000,9,-999.0000,  -999.00,9,  -999.00, -999.000,9, -999.000,   -999.0,9,   -999.0,  -999.00,9,-999.0000,9,-999.0000,9,-999.0000,9,-999.0000,9,-999.0000,9,-999.0000,9,-999.0000,9,-999.0000,9,-999.0000,9,   7.5679,   7.6543,2
  33RR20070322,  I09N,   148,  2,     19,     19,2,20070413,1719,  0.8180,  92.7345, 4412, 974.7000,    974.7,   6.9958,  34.9649,2,  34.9657,2,     47.4,2,     47.3,2,    77.75,2,    36.84,2,     0.00,2,     2.72,2, -999.000,9, -999.000,9, -999.000,9,   -999.0,9,   -999.0,9,-999.0000,9,  -999.00,   -999.0,9,  -999.00,9, -999.000,9, -999.000,-999.0000,9,-999.0000,  -999.00,9,  -999.00, -999.000,9, -999.000,   -999.0,9,   -999.0,  -999.00,9,-999.0000,9,-999.0000,9,-999.0000,9,-999.0000,9,-999.0000,9,-999.0000,9,-999.0000,9,-999.0000,9,-999.0000,9,   6.8995,   6.9945,2
  33RR20070322,  I09N,   148,  2,     18,     18,2,20070413,1719,  0.8180,  92.7345, 4412,1075.5000,   1075.5,   6.2494,  34.9202,2,  34.9200,2,     56.3,2,     57.1,2,    86.41,2,    36.95,2,     0.00,2,     2.73,2, -999.000,9, -999.000,9, -999.000,9,   -999.0,9,   -999.0,9,-999.0000,9,  -999.00,   -999.0,9,  -999.00,9, -999.000,9, -999.000,-999.0000,9,-999.0000,  -999.00,9,  -999.00, -999.000,9, -999.000,   -999.0,9,   -999.0,  -999.00,9,-999.0000,9,-999.0000,9,-999.0000,9,-999.0000,9,-999.0000,9,-999.0000,9,-999.0000,9,-999.0000,9,-999.0000,9,   6.1484,   6.2502,2
  33RR20070322,  I09N,   148,  2,     17,     17,2,20070413,1719,  0.8180,  92.7345, 4412,1175.7000,   1175.7,   5.6342,  34.8925,2,  34.8972,4,     66.5,2,     66.9,2,    94.08,2,    36.78,2,     0.00,2,     2.72,2, -999.000,9, -999.000,9, -999.000,9,   -999.0,9,   -999.0,9,-999.0000,9,  -999.00,   -999.0,9,  -999.00,9, -999.000,9, -999.000,-999.0000,9,-999.0000,  -999.00,9,  -999.00, -999.000,9, -999.000,   -999.0,9,   -999.0,  -999.00,9,-999.0000,9,-999.0000,9,-999.0000,9,-999.0000,9,-999.0000,9,-999.0000,9,-999.0000,9,-999.0000,9,-999.0000,9,   5.5284,   5.6334,2
  33RR20070322,  I09N,   148,  2,     16,     16,2,20070413,1719,  0.8180,  92.7345, 4412,1276.1000,   1276.1,   5.2801,  34.8829,2,  34.8834,2,     71.4,2,     71.2,2,    96.88,2,    36.94,2,     0.00,2,     2.73,2, -999.000,9, -999.000,9, -999.000,9,   -999.0,9,   -999.0,9,-999.0000,9,  -999.00,   -999.0,9,  -999.00,9, -999.000,9, -999.000,-999.0000,9,-999.0000,  -999.00,9,  -999.00, -999.000,9, -999.000,   -999.0,9,   -999.0,  -999.00,9,-999.0000,9,-999.0000,9,-999.0000,9,-999.0000,9,-999.0000,9,-999.0000,9,-999.0000,9,-999.0000,9,-999.0000,9,   5.1678,   5.2827,2
  33RR20070322,  I09N,   148,  2,     15,     15,2,20070413,1719,  0.8180,  92.7345, 4412,1376.6000,   1376.6,   4.9673,  34.8728,2,  34.8736,2,     76.4,2,     75.9,2,    99.28,2,    36.88,2,     0.00,2,     2.73,2, -999.000,9, -999.000,9, -999.000,9,   -999.0,9,   -999.0,9,-999.0000,9,  -999.00,   -999.0,9,  -999.00,9, -999.000,9, -999.000,-999.0000,9,-999.0000,  -999.00,9,  -999.00, -999.000,9, -999.000,   -999.0,9,   -999.0,  -999.00,9,-999.0000,9,-999.0000,9,-999.0000,9,-999.0000,9,-999.0000,9,-999.0000,9,-999.0000,9,-999.0000,9,-999.0000,9,   4.8484,   4.9665,2
  33RR20070322,  I09N,   148,  2,     14,     14,2,20070413,1719,  0.8180,  92.7345, 4412,1476.8000,   1476.8,   4.4646,  34.8482,2,  34.8484,2,     86.3,2,     86.7,2,   103.92,2,    36.72,2,     0.00,2,     2.70,2, -999.000,9, -999.000,9, -999.000,9,   -999.0,9,   -999.0,9,-999.0000,9,  -999.00,   -999.0,9,  -999.00,9, -999.000,9, -999.000,-999.0000,9,-999.0000,  -999.00,9,  -999.00, -999.000,9, -999.000,   -999.0,9,   -999.0,  -999.00,9,-999.0000,9,-999.0000,9,-999.0000,9,-999.0000,9,-999.0000,9,-999.0000,9,-999.0000,9,-999.0000,9,-999.0000,9,   4.3416,   4.4739,2
  33RR20070322,  I09N,   148,  2,     13,     13,2,20070413,1719,  0.8180,  92.7345, 4412,1577.8000,   1577.8,   3.9018,  34.8251,2,  34.8264,2,     98.5,2,     98.8,2,   108.97,2,    36.34,2,     0.00,2,     2.67,2, -999.000,9, -999.000,9, -999.000,9,   -999.0,9,   -999.0,9,-999.0000,9,  -999.00,   -999.0,9,  -999.00,9, -999.000,9, -999.000,-999.0000,9,-999.0000,  -999.00,9,  -999.00, -999.000,9, -999.000,   -999.0,9,   -999.0,  -999.00,9,-999.0000,9,-999.0000,9,-999.0000,9,-999.0000,9,-999.0000,9,-999.0000,9,-999.0000,9,-999.0000,9,-999.0000,9,   3.7760,   3.9025,2
  33RR20070322,  I09N,   148,  2,     12,     12,2,20070413,1719,  0.8180,  92.7345, 4412,1678.7000,   1678.7,   3.6464,  34.8134,2,  34.8136,2,    105.1,2,    105.2,2,   111.17,2,    36.24,2,     0.00,2,     2.64,2, -999.000,9, -999.000,9, -999.000,9,   -999.0,9,   -999.0,9,-999.0000,9,  -999.00,   -999.0,9,  -999.00,9, -999.000,9, -999.000,-999.0000,9,-999.0000,  -999.00,9,  -999.00, -999.000,9, -999.000,   -999.0,9,   -999.0,  -999.00,9,-999.0000,9,-999.0000,9,-999.0000,9,-999.0000,9,-999.0000,9,-999.0000,9,-999.0000,9,-999.0000,9,-999.0000,9,   3.5145,   3.6476,2
  33RR20070322,  I09N,   148,  2,     11,     11,2,20070413,1719,  0.8180,  92.7345, 4412,1779.1000,   1779.1,   3.3748,  34.8027,2,  34.8036,2,    110.7,2,    111.4,2,   113.99,2,    35.97,2,     0.00,2,     2.62,2, -999.000,9, -999.000,9, -999.000,9,   -999.0,9,   -999.0,9,-999.0000,9,  -999.00,   -999.0,9,  -999.00,9, -999.000,9, -999.000,-999.0000,9,-999.0000,  -999.00,9,  -999.00, -999.000,9, -999.000,   -999.0,9,   -999.0,  -999.00,9,-999.0000,9,-999.0000,9,-999.0000,9,-999.0000,9,-999.0000,9,-999.0000,9,-999.0000,9,-999.0000,9,-999.0000,9,   3.2374,   3.3751,2
  33RR20070322,  I09N,   148,  2,     10,     10,2,20070413,1719,  0.8180,  92.7345, 4412,1880.0000,   1880.0,   3.1409,  34.7935,2,  34.7939,2,    116.5,2,    117.3,2,   116.81,2,    35.76,2,     0.00,2,     2.60,2,    0.007,2,    0.003,2, -999.000,5,   2317.2,2,   2393.8,6,   7.5727,3,    25.00,   -999.0,9,  -999.00,9, -999.000,9, -999.000,-999.0000,9,-999.0000,  -999.00,9,  -999.00, -999.000,9, -999.000,   -999.0,9,   -999.0,  -999.00,9,-999.0000,9,-999.0000,9,-999.0000,9,-999.0000,9,-999.0000,9,-999.0000,9,-999.0000,9,-999.0000,9,-999.0000,9,   2.9976,   3.1401,2
  33RR20070322,  I09N,   148,  2,      9,      9,2,20070413,1719,  0.8180,  92.7345, 4412,1980.6000,   1980.6,   2.8118,  34.7790,2,  34.7797,2,    124.2,2,    125.2,2,   119.84,2,    35.55,2,     0.00,2,     2.56,2, -999.000,9, -999.000,9, -999.000,9,   -999.0,9,   -999.0,9,-999.0000,9,  -999.00,   -999.0,9,  -999.00,9, -999.000,9, -999.000,-999.0000,9,-999.0000,  -999.00,9,  -999.00, -999.000,9, -999.000,   -999.0,9,   -999.0,  -999.00,9,-999.0000,9,-999.0000,9,-999.0000,9,-999.0000,9,-999.0000,9,-999.0000,9,-999.0000,9,-999.0000,9,-999.0000,9,   2.6643,   2.8112,2
  33RR20070322,  I09N,   148,  2,      8,      8,2,20070413,1719,  0.8180,  92.7345, 4412,2182.8000,   2182.8,   2.4460,  34.7646,2,  34.7656,2,    133.1,2,    134.5,2,   124.72,2,    35.27,2,     0.00,2,     2.53,2, -999.000,9, -999.000,9, -999.000,9,   -999.0,9,   -999.0,9,-999.0000,9,  -999.00,   -999.0,9,  -999.00,9, -999.000,9, -999.000,-999.0000,9,-999.0000,  -999.00,9,  -999.00, -999.000,9, -999.000,   -999.0,9,   -999.0,  -999.00,9,-999.0000,9,-999.0000,9,-999.0000,9,-999.0000,9,-999.0000,9,-999.0000,9,-999.0000,9,-999.0000,9,-999.0000,9,   2.2862,   2.4452,2
  33RR20070322,  I09N,   148,  2,      7,      7,2,20070413,1719,  0.8180,  92.7345, 4412,2414.3000,   2414.3,   2.0987,  34.7495,2,  34.7500,2,    145.1,2,    145.3,2,   127.97,2,    34.90,2,     0.00,2,     2.48,2, -999.000,9, -999.000,9, -999.000,9,   -999.0,9,   -999.0,9,-999.0000,9,  -999.00,   -999.0,9,  -999.00,9, -999.000,9, -999.000,-999.0000,9,-999.0000,  -999.00,9,  -999.00, -999.000,9, -999.000,   -999.0,9,   -999.0,  -999.00,9,-999.0000,9,-999.0000,9,-999.0000,9,-999.0000,9,-999.0000,9,-999.0000,9,-999.0000,9,-999.0000,9,-999.0000,9,   1.9240,   2.0979,2
  33RR20070322,  I09N,   148,  2,      6,      6,2,20070413,1719,  0.8180,  92.7345, 4412,2687.4000,   2687.4,   1.8783,  34.7405,2,  34.7408,2,    153.3,2,    153.0,2,   129.57,2,    34.58,2,     0.00,2,     2.44,2, -999.000,9, -999.000,9, -999.000,9,   -999.0,9,   -999.0,9,-999.0000,9,  -999.00,   -999.0,9,  -999.00,9, -999.000,9, -999.000,-999.0000,9,-999.0000,  -999.00,9,  -999.00, -999.000,9, -999.000,   -999.0,9,   -999.0,  -999.00,9,-999.0000,9,-999.0000,9,-999.0000,9,-999.0000,9,-999.0000,9,-999.0000,9,-999.0000,9,-999.0000,9,-999.0000,9,   1.6827,   1.8789,2
  33RR20070322,  I09N,   148,  2,      5,      5,2,20070413,1719,  0.8180,  92.7345, 4412,2940.4000,   2940.4,   1.7261,  34.7343,2,  34.7343,2,    158.5,2,    158.2,2,   131.79,2,    34.36,2,     0.00,2,     2.42,2, -999.000,9, -999.000,9, -999.000,9,   -999.0,9,   -999.0,9,-999.0000,9,  -999.00,   -999.0,9,  -999.00,9, -999.000,9, -999.000,-999.0000,9,-999.0000,  -999.00,9,  -999.00, -999.000,9, -999.000,   -999.0,9,   -999.0,  -999.00,9,-999.0000,9,-999.0000,9,-999.0000,9,-999.0000,9,-999.0000,9,-999.0000,9,-999.0000,9,-999.0000,9,-999.0000,9,   1.5097,   1.7275,2