BOTTLE,20150630SIOCCHRJL
EXPOCODE,SECT_ID,STNNBR,CASTNO,SAMPNO,BTLNBR,BTLNBR_FLAG_W,DATE,TIME,LATITUDE,LONGITUDE,DEPTH,CTDRAW,CTDPRS,CTDTMP,CTDSAL,CTDSAL_FLAG_W,SALNTY,SALNTY_FLAG_W,CTDOXY,CTDOXY_FLAG_W,OXYGEN,OXYGEN_FLAG_W,SILCAT,SILCAT_FLAG_W,NITRAT,NITRAT_FLAG_W,NITRIT,NITRIT_FLAG_W,PHSPHT,PHSPHT_FLAG_W,CFC-11,CFC-11_FLAG_W,CFC-12,CFC-12_FLAG_W,CFC113,CFC113_FLAG_W,TCARBN,TCARBN_FLAG_W,ALKALI,ALKALI_FLAG_W,PH_SWS,PH_SWS_FLAG_W,PH_TMP,DOC,DOC_FLAG_W,TDN,TDN_FLAG_W,TRITUM,TRITUM_FLAG_W,TRITER,HELIUM,HELIUM_FLAG_W,HELIER,DELHE3,DELHE3_FLAG_W,DELHER,NEON,NEON_FLAG_W,NEONER,DELC14,DELC14_FLAG_W,C14ERR,DELC13,DELC13_FLAG_W,CDOM325,CDOM325_FLAG_W,CDOM340,CDOM340_FLAG_W,CDOM380,CDOM380_FLAG_W,CDOM412,CDOM412_FLAG_W,CDOM443,CDOM443_FLAG_W,CDOM490,CDOM490_FLAG_W,CDOM555,CDOM555_FLAG_W,CDOMSL,CDOMSL_FLAG_W,CDOMSN,CDOMSN_FLAG_W,THETA,SBE35,SBE35_FLAG_W
,,,,,,,,,,,METERS,,DBAR,ITS-90,PSS-78,,PSS-78,,UMOL/KG,,UMOL/KG,,UMOL/KG,,UMOL/KG,,UMOL/KG,,UMOL/KG,,PMOL/KG,,PMOL/KG,,PMOL/KG,,UMOL/KG,,UMOL/KG,,,,DEG C,UMOL/KG,,UMOL/KG,,TU,,TU,NMOL/KG,,NMOL/KG,PERCNT,,PERCNT,NMOL/KG,,NMOL/KG,/MILLE,,/MILLE,/MILLE,,1/M,,1/M,,1/M,,1/M,,1/M,,1/M,,1/M,,1/NM,,1/NM,,DEG C,ITS-90,
  33RR20070322,  I09N,   131,  1,     36,     38,2,20070409,0256, -4.9760,  95.0018, 5008,   1.9000,      1.9,  29.5686,  34.0896,2,  34.0938,2,    196.4,2,    196.6,2,     1.51,2,     0.06,2,     0.00,2,     0.08,2,    1.522,2,    0.989,2, -999.000,5,   1915.9,6,   2238.6,6,   8.0820,6,    25.00,     69.4,2,     4.77,2, -999.000,9, -999.000,-999.0000,9,-999.0000,  -999.00,9,  -999.00, -999.000,9, -999.000,   -999.0,9,   -999.0,  -999.00,9,   0.0743,2,   0.0475,2,   0.0192,2,   0.0145,2,  -0.0016,4,  -0.0031,4,  -0.0028,4,   0.0161,3,   0.0224,3,  29.5681,  29.5223,2
  33RR20070322,  I09N,   131,  1,     35,     35,2,20070409,0256, -4.9760,  95.0018, 5008,  31.1000,     31.1,  28.5128,  34.2766,2,  34.2785,2,    200.0,2,    198.4,2,     1.49,2,     0.06,2,     0.00,2,     0.08,2,    1.546,2,    0.998,2, -999.000,5,   1929.6,2,   2249.3,2,   8.0740,2,    25.00,     68.3,2,     4.87,2, -999.000,9, -999.000,-999.0000,9,-999.0000,  -999.00,9,  -999.00, -999.000,9, -999.000,     52.7,2,      3.2,     1.19,2,   0.0844,2,   0.0570,2,   0.0276,2,   0.0207,2,   0.0023,2,  -0.0011,4,  -0.0019,4,   0.0138,3,   0.0172,3,  28.5054,  28.5064,2
  33RR20070322,  I09N,   131,  1,     34,   9419,2,20070409,0256, -4.9760,  95.0018, 5008,  56.4000,     56.4,  26.2410,  35.1632,2,  35.1630,2,    185.8,2,    184.8,2,     2.04,2,     0.16,2,     0.01,2,     0.29,2,    1.610,2,    1.024,2, -999.000,5,   2013.9,2,   2303.4,2,   8.0255,2,    25.00,     61.6,2,     5.51,2, -999.000,9, -999.000,-999.0000,9,-999.0000,  -999.00,9,  -999.00, -999.000,9, -999.000,   -999.0,9,   -999.0,  -999.00,9,   0.2158,2,   0.1551,2,   0.0801,2,   0.0578,2,   0.0212,2,   0.0067,2,   0.0017,2,   0.0152,3,   0.0160,3,  26.2283,  26.2361,2
  33RR20070322,  I09N,   131,  1,     33,     33,2,20070409,0256, -4.9760,  95.0018, 5008,  81.3000,     81.3,  23.4213,  35.2574,2,  35.2629,2,    120.4,2,    108.3,2,     7.03,2,    11.21,2,     1.27,2,     0.94,2,    1.633,2,    1.010,2, -999.000,5,   2093.0,2,   2301.7,2,   7.8799,2,    25.00,     59.6,2,    17.39,2, -999.000,9, -999.000,-999.0000,9,-999.0000,  -999.00,9,  -999.00, -999.000,9, -999.000,     42.6,6,      1.9,     0.59,6,   0.2113,2,   0.1551,2,   0.0813,2,   0.0595,2,   0.0214,2,   0.0062,2,   0.0016,2,   0.0154,2,   0.0156,3,  23.4045,  23.4352,2
  33RR20070322,  I09N,   131,  1,     32,     37,2,20070409,0256, -4.9760,  95.0018, 5008, 106.7000,    106.7,  20.7560,  35.2185,2,  35.2212,2,     80.3,2,     77.6,2,    11.26,2,    17.96,2,     0.04,2,     1.26,2,    1.643,2,    1.014,2, -999.000,5,   2131.8,2,   2301.8,2,   7.7660,2,    25.00,     57.2,2,    22.29,2, -999.000,9, -999.000,-999.0000,9,-999.0000,  -999.00,9,  -999.00, -999.000,9, -999.000,   -999.0,9,   -999.0,  -999.00,9,   0.1889,2,   0.1375,2,   0.0762,2,   0.0598,2,   0.0225,2,   0.0071,2,   0.0017,2,   0.0143,3,   0.0143,3,  20.7357,  20.8037,2
  33RR20070322,  I09N,   131,  1,     31,     31,2,20070409,0256, -4.9760,  95.0018, 5008, 155.6000,    155.6,  16.5252,  35.1018,2,  35.0928,2,     65.9,2,     63.5,2,    18.56,2,    23.12,2,     0.01,2,     1.60,2,    1.532,2,    0.880,2, -999.000,5,   2177.2,2,   2304.7,2,   7.6740,2,    25.00,     52.4,2,    27.03,2, -999.000,9, -999.000,-999.0000,9,-999.0000,  -999.00,9,  -999.00, -999.000,9, -999.000,     20.8,6,      3.0,     0.09,6,   0.1655,2,   0.1202,2,   0.0686,2,   0.0546,2,   0.0200,2,   0.0048,2,   0.0007,2,   0.0143,3,   0.0139,3,  16.5000,  16.5328,2
  33RR20070322,  I09N,   131,  1,     30,     30,2,20070409,0256, -4.9760,  95.0018, 5008, 205.9000,    205.9,  13.2437,  34.9820,2,  34.9834,2,     58.4,2,     58.9,2,    24.52,2,    26.80,2,     0.00,2,     1.87,2,    1.159,2,    0.648,2, -999.000,5,   2206.3,2,   2306.9,2,   7.6020,2,    25.00,     48.2,2,    30.38,2, -999.000,9, -999.000,-999.0000,9,-999.0000,  -999.00,9,  -999.00, -999.000,9, -999.000,     -2.7,6,      5.0,     0.17,6,   0.1651,2,   0.1208,2,   0.0707,2,   0.0560,2,   0.0219,2,   0.0052,2,   0.0005,3,   0.0142,3,   0.0135,3,  13.2150,  13.2415,2
  33RR20070322,  I09N,   131,  1,     29,     29,2,20070409,0256, -4.9760,  95.0018, 5008, 255.8000,    255.8,  12.1588,  35.0199,2,  35.0179,2,     72.3,2,     76.3,2,    22.38,2,    26.23,2,     0.00,2,     1.80,2,    1.190,2,    0.648,2, -999.000,5,   2204.8,2,   2309.3,2,   7.6177,2,    25.00,     47.1,2,    29.85,2, -999.000,9, -999.000,-999.0000,9,-999.0000,  -999.00,9,  -999.00, -999.000,9, -999.000,     -0.4,6,      3.6,     0.32,6,   0.1551,2,   0.1142,2,   0.0681,2,   0.0548,2,   0.0220,2,   0.0051,2,   0.0004,4,   0.0138,3,   0.0130,3,  12.1250,  12.1781,2
  33RR20070322,  I09N,   131,  1,     28,     28,2,20070409,0256, -4.9760,  95.0018, 5008, 306.4000,    306.4,  11.4592,  34.9880,2,  34.9858,2,     79.3,2,     80.1,2,    23.14,2,    27.04,2,     0.00,2,     1.84,2,    1.060,2,    0.578,2, -999.000,5,   2208.8,2,   2310.0,2,   7.5997,2,    25.00,     46.6,2,    30.56,2, -999.000,9, -999.000,-999.0000,9,-999.0000,  -999.00,9,  -999.00, -999.000,9, -999.000,     -8.9,6,      1.8,     0.34,6,   0.1532,2,   0.1124,2,   0.0676,2,   0.0545,2,   0.0221,2,   0.0051,2,   0.0003,4,   0.0137,3,   0.0129,3,  11.4202,  11.4621,2
  33RR20070322,  I09N,   131,  1,     27,     27,2,20070409,0256, -4.9760,  95.0018, 5008, 356.9000,    356.9,  10.7859,  34.9396,2,  34.9403,2,     69.4,2,     73.4,2,    25.82,2,    28.88,2,     0.00,2,     1.94,2,    0.810,2,    0.438,2, -999.000,5,   2217.9,2,   2310.4,2,   7.5496,2,    25.00,     45.6,2,    32.09,2, -999.000,9, -999.000,-999.0000,9,-999.0000,  -999.00,9,  -999.00, -999.000,9, -999.000,    -21.4,6,      4.1,     0.34,6,   0.1564,2,   0.1147,2,   0.0691,2,   0.0556,2,   0.0232,2,   0.0055,2,   0.0003,4,   0.0136,3,   0.0128,3,  10.7421,  10.7717,2
  33RR20070322,  I09N,   131,  1,     26,     26,2,20070409,0256, -4.9760,  95.0018, 5008, 405.2000,    405.2,  10.2966,  34.9125,2,  34.9137,2,     75.1,2,     68.3,2,    29.08,2,    30.42,2,     0.00,2,     2.05,2,    0.585,2,    0.321,2, -999.000,5,   2225.4,2,   2308.0,2,   7.5510,3,    25.00,     44.7,2,    34.35,2, -999.000,9, -999.000,-999.0000,9,-999.0000,  -999.00,9,  -999.00, -999.000,9, -999.000,    -39.7,6,      2.6,     0.31,6,   0.1573,2,   0.1151,2,   0.0690,2,   0.0552,2,   0.0234,2,   0.0057,2,   0.0004,4,   0.0136,3,   0.0129,3,  10.2483,  10.3013,2
  33RR20070322,  I09N,   131,  1,     25,     25,2,20070409,0256, -4.9760,  95.0018, 5008, 455.7000,    455.7,   9.8878,  34.8947,2,  34.8489,3,     63.2,2,     60.0,2,    35.24,2,    31.91,2,     0.00,2,     2.20,2,    0.396,2,    0.223,2, -999.000,5,   2237.8,2,   2313.2,2,   7.5359,2,    25.00,     44.2,2,    35.15,2, -999.000,9, -999.000,-999.0000,9,-999.0000,  -999.00,9,  -999.00, -999.000,9, -999.000,   -999.0,9,   -999.0,  -999.00,9,   0.1634,2,   0.1194,2,   0.0719,2,   0.0570,2,   0.0246,2,   0.0061,2,   0.0005,4,   0.0137,3,   0.0129,3,   9.8347,   9.8906,2
  33RR20070322,  I09N,   131,  1,     24,     24,2,20070409,0256, -4.9760,  95.0018, 5008, 505.9000,    505.9,   9.3154,  34.8665,2,  34.8666,2,     62.9,2,     63.1,2,    38.90,2,    32.72,2,     0.00,2,     2.28,2,    0.254,2,    0.147,2, -999.000,5,   2242.9,2,   2316.2,2,   7.5287,2,    25.00,     43.3,2,    35.57,2, -999.000,9, -999.000,-999.0000,9,-999.0000,  -999.00,9,  -999.00, -999.000,9, -999.000,    -80.0,6,      1.8,     0.34,6,   0.1611,2,   0.1178,2,   0.0706,2,   0.0554,2,   0.0238,2,   0.0062,2,   0.0006,4,   0.0136,3,   0.0130,3,   9.2584,   9.3258,2
  33RR20070322,  I09N,   131,  1,     23,     23,2,20070409,0256, -4.9760,  95.0018, 5008, 605.6000,    605.6,   8.4426,  34.8493,2,  34.8495,2,     60.0,2,     56.7,2,    51.84,2,    34.58,2,     0.00,2,     2.47,2,    0.097,2,    0.059,2, -999.000,5,   2263.0,2,   2328.2,2,   7.5127,6,    25.00,     42.5,2,    37.41,2, -999.000,9, -999.000,-999.0000,9,-999.0000,  -999.00,9,  -999.00, -999.000,9, -999.000,   -116.7,6,      6.2,     0.23,6,   0.1669,2,   0.1220,2,   0.0728,2,   0.0566,2,   0.0245,2,   0.0064,2,   0.0005,3,   0.0138,3,   0.0132,3,   8.3778,   8.4488,2
  33RR20070322,  I09N,   131,  1,     22,     22,2,20070409,0256, -4.9760,  95.0018, 5008, 705.9000,    705.9,   7.7433,  34.8474,2,  34.8461,2,     55.5,2,     54.7,2,    63.44,2,    35.51,2,     0.00,2,     2.60,2,    0.055,2,    0.033,2, -999.000,5,   2277.2,2,   2341.5,6,   7.5059,2,    25.00,     41.8,2,    38.51,2, -999.000,9, -999.000,-999.0000,9,-999.0000,  -999.00,9,  -999.00, -999.000,9, -999.000,   -131.6,6,      6.3,     0.20,6,   0.1720,2,   0.1257,2,   0.0744,2,   0.0570,2,   0.0248,2,   0.0063,2,   0.0003,4,   0.0140,3,   0.0134,3,   7.6710,   7.7430,2
  33RR20070322,  I09N,   131,  1,     21,     21,2,20070409,0256, -4.9760,  95.0018, 5008, 806.4000,    806.4,   7.1113,  34.8320,2,  34.8319,2,     58.0,2,     57.7,2,    72.36,2,    36.03,2,     0.00,2,     2.65,2,    0.035,2,    0.021,2, -999.000,5,   2287.6,2,   2350.7,2,   7.4889,2,    25.00,     41.3,2,    39.02,2, -999.000,9, -999.000,-999.0000,9,-999.0000,  -999.00,9,  -999.00, -999.000,9, -999.000,   -145.9,6,      2.6,     0.14,6,   0.1745,2,   0.1274,2,   0.0756,2,   0.0578,2,   0.0255,2,   0.0066,2,   0.0005,4,   0.0140,3,   0.0134,3,   7.0320,   7.1120,2
  33RR20070322,  I09N,   131,  1,     20,     20,2,20070409,0256, -4.9760,  95.0018, 5008, 906.7000,    906.7,   6.6038,  34.8264,2,  34.8261,2,     61.8,2,     62.1,2,    78.38,2,    36.33,2,     0.00,2,     2.67,2,    0.024,2,    0.014,2, -999.000,5,   2293.6,2,   2357.8,2,   7.4921,2,    25.00,     40.7,2,    38.66,2, -999.000,9, -999.000,-999.0000,9,-999.0000,  -999.00,9,  -999.00, -999.000,9, -999.000,   -157.0,6,      4.3,     0.09,6,   0.1763,2,   0.1289,2,   0.0766,2,   0.0586,2,   0.0260,2,   0.0068,2,   0.0006,4,   0.0140,3,   0.0134,3,   6.5174,   6.6029,2
  33RR20070322,  I09N,   131,  1,     19,     19,2,20070409,0256, -4.9760,  95.0018, 5008,1006.6000,   1006.6,   5.9342,  34.7858,2,  34.7851,2,     67.2,2,     68.0,2,    87.14,2,    36.54,2,     0.00,2,     2.69,2,    0.020,2,    0.011,2, -999.000,5,   2298.6,6,   2365.6,2,   7.4964,2,    25.00,     41.0,2,    37.60,2, -999.000,9, -999.000,-999.0000,9,-999.0000,  -999.00,9,  -999.00, -999.000,9, -999.000,   -999.0,9,   -999.0,  -999.00,9,   0.1754,2,   0.1280,2,   0.0755,2,   0.0568,2,   0.0248,2,   0.0066,2,   0.0005,4,   0.0141,3,   0.0136,3,   5.8427,   5.9327,2
  33RR20070322,  I09N,   131,  1,     18,     18,2,20070409,0256, -4.9760,  95.0018, 5008,1106.6000,   1106.6,   5.4740,  34.7795,2,  34.7794,2,     72.9,2,     73.1,2,    92.38,2,    36.68,2,     0.00,2,     2.70,2, -999.000,9, -999.000,9, -999.000,9,   2305.0,2,   2372.0,2,   7.4956,2,    25.00,     40.8,2,    38.14,2, -999.000,9, -999.000,-999.0000,9,-999.0000,  -999.00,9,  -999.00, -999.000,9, -999.000,   -172.9,6,      3.4,     0.10,6,   0.1771,2,   0.1292,2,   0.0767,2,   0.0580,2,   0.0256,2,   0.0069,2,   0.0006,2,   0.0140,3,   0.0134,3,   5.3765,   5.4743,2
  33RR20070322,  I09N,   131,  1,     17,     17,2,20070409,0256, -4.9760,  95.0018, 5008,1207.7000,   1207.7,   5.1489,  34.7912,2,  34.7916,2,     77.2,2,     76.4,2,    96.48,2,    36.79,2,     0.00,2,     2.71,2,    0.011,2,    0.006,2, -999.000,5,   2308.7,2,   2375.8,2,   7.4974,2,    25.00,     40.9,2,    38.13,2, -999.000,9, -999.000,-999.0000,9,-999.0000,  -999.00,9,  -999.00, -999.000,9, -999.000,   -999.0,9,   -999.0,  -999.00,9,   0.1783,2,   0.1303,2,   0.0770,2,   0.0584,2,   0.0259,2,   0.0070,2,   0.0006,3,   0.0141,3,   0.0135,3,   5.0446,   5.1492,2
  33RR20070322,  I09N,   131,  1,     16,     16,2,20070409,0256, -4.9760,  95.0018, 5008,1307.7000,   1307.7,   4.7386,  34.7956,2,  34.7959,2,     82.3,2,     83.1,2,   100.18,2,    36.73,2,     0.00,2,     2.69,2, -999.000,9, -999.000,9, -999.000,9,   2311.0,2,   2381.0,2,   7.5067,2,    25.00,     40.5,2,    38.72,2, -999.000,9, -999.000,-999.0000,9,-999.0000,  -999.00,9,  -999.00, -999.000,9, -999.000,   -175.4,2,      2.2,     0.15,2,   0.1773,2,   0.1295,2,   0.0766,2,   0.0577,2,   0.0256,2,   0.0068,2,   0.0006,4,   0.0141,3,   0.0135,3,   4.6287,   4.7414,2
  33RR20070322,  I09N,   131,  1,     15,     15,2,20070409,0256, -4.9760,  95.0018, 5008,1408.5000,   1408.5,   4.4618,  34.8025,2,  34.8016,2,     88.3,2,     88.6,2,   102.71,2,    36.62,2,     0.00,2,     2.68,2,    0.004,2,    0.001,2, -999.000,5,   2311.5,2,   2385.2,2,   7.5072,2,    25.00,     41.0,2,    38.15,2, -999.000,9, -999.000,-999.0000,9,-999.0000,  -999.00,9,  -999.00, -999.000,9, -999.000,   -999.0,9,   -999.0,  -999.00,9,   0.1763,2,   0.1287,2,   0.0757,2,   0.0569,2,   0.0251,2,   0.0067,2,   0.0005,4,   0.0141,3,   0.0136,3,   4.3453,   4.4643,2
  33RR20070322,  I09N,   131,  1,     14,     14,2,20070409,0256, -4.9760,  95.0018, 5008,1508.7000,   1508.7,   4.0170,  34.7901,2,  34.7898,2,     96.7,2,     98.8,2,   106.23,2,    36.20,2,     0.00,2,     2.65,2, -999.000,9, -999.000,9, -999.000,9,   2312.6,2,   2386.1,2,   7.5174,2,    25.00,     40.9,2,    37.42,2, -999.000,9, -999.000,-999.0000,9,-999.0000,  -999.00,9,  -999.00, -999.000,9, -999.000,   -180.2,6,      2.2,     0.20,6,   0.1723,2,   0.1253,2,   0.0730,2,   0.0537,2,   0.0232,2,   0.0060,2,   0.0001,4,   0.0141,3,   0.0139,3,   3.8962,   4.0216,2
  33RR20070322,  I09N,   131,  1,     13,     13,2,20070409,0256, -4.9760,  95.0018, 5008,1609.4000,   1609.4,   3.7212,  34.7870,2,  34.7869,2,    104.3,2,    105.4,2,   109.17,2,    36.05,2,     0.00,2,     2.63,2,    0.004,2,    0.003,2, -999.000,5,   2312.9,2,   2389.4,2,   7.5271,2,    25.00,     40.8,2,    37.93,2, -999.000,9, -999.000,-999.0000,9,-999.0000,  -999.00,9,  -999.00, -999.000,9, -999.000,   -999.0,9,   -999.0,  -999.00,9,-999.0000,5,-999.0000,5,-999.0000,5,-999.0000,5,-999.0000,5,-999.0000,5,-999.0000,5,-999.0000,5,-999.0000,5,   3.5948,   3.7236,2
  33RR20070322,  I09N,   131,  1,     12,     12,2,20070409,0256, -4.9760,  95.0018, 5008,1811.4000,   1811.4,   3.1682,  34.7746,2,  34.7749,2,    118.2,2,    119.4,2,   114.46,2,    35.58,2,     0.00,2,     2.57,2, -999.000,9, -999.000,9, -999.000,9,   2312.1,2,   2394.4,2,   7.5487,2,    25.00,     40.8,2,    37.10,2, -999.000,9, -999.000,-999.0000,9,-999.0000,  -999.00,9,  -999.00, -999.000,9, -999.000,   -999.0,9,   -999.0,  -999.00,9,   0.1690,2,   0.1224,2,   0.0713,2,   0.0530,2,   0.0223,2,   0.0056,2,   0.0000,4,   0.0141,3,   0.0139,3,   3.0308,   3.1690,2
  33RR20070322,  I09N,   131,  1,     11,     11,2,20070409,0256, -4.9760,  95.0018, 5008,1912.2000,   1912.2,   2.8533,  34.7676,2,  34.7676,2,    126.0,2,    126.6,2,   117.99,2,    35.36,2,     0.00,2,     2.54,2, -999.000,9, -999.000,9, -999.000,9,   2313.1,2,   2399.9,2,   7.5575,2,    25.00,     40.6,2,    36.73,2, -999.000,9, -999.000,-999.0000,9,-999.0000,  -999.00,9,  -999.00, -999.000,9, -999.000,   -999.0,9,   -999.0,  -999.00,9,   0.1670,2,   0.1207,2,   0.0701,2,   0.0523,2,   0.0218,2,   0.0055,2,   0.0000,4,   0.0141,3,   0.0139,3,   2.7113,   2.8540,2
  33RR20070322,  I09N,   131,  1,     10,     10,2,20070409,0256, -4.9760,  95.0018, 5008,2011.8000,   2011.8,   2.6177,  34.7610,2,  34.7603,2,    132.2,2,    132.9,2,   120.55,2,    35.10,2,     0.00,2,     2.51,2,    0.004,2,    0.001,2, -999.000,5,   2312.8,2,   2402.1,2,   7.5627,2,    25.00,     40.8,2,    36.33,2, -999.000,9, -999.000,-999.0000,9,-999.0000,  -999.00,9,  -999.00, -999.000,9, -999.000,   -999.0,9,   -999.0,  -999.00,9,   0.1659,2,   0.1202,2,   0.0696,2,   0.0514,2,   0.0214,2,   0.0054,2,   0.0000,4,   0.0141,3,   0.0140,3,   2.4704,   2.6181,2
  33RR20070322,  I09N,   131,  1,      9,      9,2,20070409,0256, -4.9760,  95.0018, 5008,2264.6000,   2264.6,   2.2713,  34.7520,2,  34.7518,2,    141.3,2,    142.2,2,   125.67,2,    34.74,2,     0.00,2,     2.48,2, -999.000,9, -999.000,9, -999.000,9,   2312.2,2,   2406.0,2,   7.5698,2,    25.00,     41.0,2,    36.10,2, -999.000,9, -999.000,-999.0000,9,-999.0000,  -999.00,9,  -999.00, -999.000,9, -999.000,   -999.0,9,   -999.0,  -999.00,9,   0.1641,2,   0.1184,2,   0.0683,2,   0.0506,2,   0.0206,2,   0.0051,2,  -0.0001,4,   0.0141,3,   0.0140,3,   2.1071,   2.2708,2
  33RR20070322,  I09N,   131,  1,      8,      8,2,20070409,0256, -4.9760,  95.0018, 5008,2516.8000,   2516.8,   2.0249,  34.7438,2,  34.7437,2,    150.0,2,    149.9,2,   128.22,2,    34.43,2,     0.00,2,     2.44,2, -999.000,9, -999.000,9, -999.000,9,   2310.3,2,   2407.9,2,   7.5760,2,    25.00,     40.7,2,    35.91,2, -999.000,9, -999.000,-999.0000,9,-999.0000,  -999.00,9,  -999.00, -999.000,9, -999.000,   -999.0,9,   -999.0,  -999.00,9,   0.1606,2,   0.1154,2,   0.0661,2,   0.0486,2,   0.0193,2,   0.0047,2,  -0.0002,4,   0.0141,3,   0.0142,3,   1.8422,   2.0246,2
  33RR20070322,  I09N,   131,  1,      7,      7,2,20070409,0256, -4.9760,  95.0018, 5008,2769.3000,   2769.3,   1.8244,  34.7365,2,  34.7359,2,    157.2,2,    156.8,2,   130.19,2,    34.32,2,     0.00,2,     2.43,2,    0.003,2,    0.001,2, -999.000,5,   2308.9,2,   2411.3,2,   7.5799,2,    25.00,     40.7,2,    35.88,2, -999.000,9, -999.000,-999.0000,9,-999.0000,  -999.00,9,  -999.00, -999.000,9, -999.000,   -999.0,9,   -999.0,  -999.00,9,   0.1562,2,   0.1115,2,   0.0635,2,   0.0463,2,   0.0180,2,   0.0042,3,  -0.0004,4,   0.0141,3,   0.0144,3,   1.6222,   1.8239,2
  33RR20070322,  I09N,   131,  1,      6,      6,2,20070409,0256, -4.9760,  95.0018, 5008,3021.8000,   3021.8,   1.7077,  34.7327,2,  34.7317,2,    161.6,2,    160.6,2,   131.76,2,    34.21,2,     0.00,2,     2.42,2, -999.000,9, -999.000,9, -999.000,9,   2310.5,2,   2414.1,2,   7.5911,2,    25.00,     41.0,2,    35.77,2, -999.000,9, -999.000,-999.0000,9,-999.0000,  -999.00,9,  -999.00, -999.000,9, -999.000,   -999.0,9,   -999.0,  -999.00,9,   0.1567,2,   0.1122,2,   0.0637,2,   0.0463,2,   0.0179,2,   0.0043,2,  -0.0004,4,   0.0141,3,   0.0144,3,   1.4839,   1.7075,2
  33RR20070322,  I09N,   131,  1,      5,      5,2,20070409,0256, -4.9760,  95.0018, 5008,3426.9000,   3426.9,   1.5128,  34.7259,2,  34.7249,2,    169.9,2,    169.8,2,   132.35,2,    33.90,2,     0.00,2,     2.39,2, -999.000,9, -999.000,9, -999.000,9,   2306.7,2,   2413.7,2,   7.5986,2,    25.00,     40.7,2,    35.37,2, -999.000,9, -999.000,-999.0000,9,-999.0000,  -999.00,9,  -999.00, -999.000,9, -999.000,   -999.0,9,   -999.0,  -999.00,9,   0.1502,2,   0.1068,2,   0.0603,2,   0.0436,2,   0.0163,2,   0.0038,3,  -0.0005,4,   0.0140,2,   0.0146,3,   1.2535,   1.5135,2