BOTTLE,20150630SIOCCHRJL
EXPOCODE,SECT_ID,STNNBR,CASTNO,SAMPNO,BTLNBR,BTLNBR_FLAG_W,DATE,TIME,LATITUDE,LONGITUDE,DEPTH,CTDRAW,CTDPRS,CTDTMP,CTDSAL,CTDSAL_FLAG_W,SALNTY,SALNTY_FLAG_W,CTDOXY,CTDOXY_FLAG_W,OXYGEN,OXYGEN_FLAG_W,SILCAT,SILCAT_FLAG_W,NITRAT,NITRAT_FLAG_W,NITRIT,NITRIT_FLAG_W,PHSPHT,PHSPHT_FLAG_W,CFC-11,CFC-11_FLAG_W,CFC-12,CFC-12_FLAG_W,CFC113,CFC113_FLAG_W,TCARBN,TCARBN_FLAG_W,ALKALI,ALKALI_FLAG_W,PH_SWS,PH_SWS_FLAG_W,PH_TMP,DOC,DOC_FLAG_W,TDN,TDN_FLAG_W,TRITUM,TRITUM_FLAG_W,TRITER,HELIUM,HELIUM_FLAG_W,HELIER,DELHE3,DELHE3_FLAG_W,DELHER,NEON,NEON_FLAG_W,NEONER,DELC14,DELC14_FLAG_W,C14ERR,DELC13,DELC13_FLAG_W,CDOM325,CDOM325_FLAG_W,CDOM340,CDOM340_FLAG_W,CDOM380,CDOM380_FLAG_W,CDOM412,CDOM412_FLAG_W,CDOM443,CDOM443_FLAG_W,CDOM490,CDOM490_FLAG_W,CDOM555,CDOM555_FLAG_W,CDOMSL,CDOMSL_FLAG_W,CDOMSN,CDOMSN_FLAG_W,THETA,SBE35,SBE35_FLAG_W
,,,,,,,,,,,METERS,,DBAR,ITS-90,PSS-78,,PSS-78,,UMOL/KG,,UMOL/KG,,UMOL/KG,,UMOL/KG,,UMOL/KG,,UMOL/KG,,PMOL/KG,,PMOL/KG,,PMOL/KG,,UMOL/KG,,UMOL/KG,,,,DEG C,UMOL/KG,,UMOL/KG,,TU,,TU,NMOL/KG,,NMOL/KG,PERCNT,,PERCNT,NMOL/KG,,NMOL/KG,/MILLE,,/MILLE,/MILLE,,1/M,,1/M,,1/M,,1/M,,1/M,,1/M,,1/M,,1/NM,,1/NM,,DEG C,ITS-90,
  33RR20070322,  I09N,   161,  1,     36,     38,2,20070416,2319,  5.7630,  89.9093, 2757,   2.2000,      2.2,  30.0442,  34.0888,2,  34.0844,2,    195.3,2,    195.7,2,     1.34,2,     0.06,2,     0.00,2,     0.07,2,    1.491,2,    0.979,2, -999.000,5,   1903.5,6,   2229.6,2,   8.1049,6,    25.00,     72.9,2,  -999.00,9, -999.000,9, -999.000,-999.0000,9,-999.0000,  -999.00,9,  -999.00, -999.000,9, -999.000,   -999.0,9,   -999.0,  -999.00,9,   0.0687,2,   0.0456,2,   0.0221,2,   0.0170,2,  -0.0002,4,  -0.0019,4,  -0.0021,4,   0.0139,3,   0.0177,3,  30.0437,  30.0412,2
  33RR20070322,  I09N,   161,  1,     35,     35,2,20070416,2319,  5.7630,  89.9093, 2757,  28.6000,     28.6,  29.9272,  34.0547,2,  34.0513,2,    197.8,2,    196.3,2,     1.30,2,     0.01,2,     0.00,2,     0.07,2,    1.490,2,    0.977,2, -999.000,5,   1903.3,2,   2236.8,2,   8.1210,3,    25.00,     71.2,2,  -999.00,9, -999.000,9, -999.000,-999.0000,9,-999.0000,  -999.00,9,  -999.00, -999.000,9, -999.000,   -999.0,9,   -999.0,  -999.00,9,   0.0705,2,   0.0471,2,   0.0227,2,   0.0175,2,  -0.0001,4,  -0.0021,4,  -0.0023,4,   0.0140,3,   0.0177,3,  29.9201,  29.9201,2
  33RR20070322,  I09N,   161,  1,     34,   9419,2,20070416,2319,  5.7630,  89.9093, 2757,  54.0000,     54.0,  27.7685,  34.1918,2,  34.2084,2,    184.8,2,    184.7,2,     2.64,2,     0.06,2,     0.00,2,     0.20,2,    1.487,2,    0.964,2, -999.000,5,   1952.8,2,   2250.0,2,   8.0528,2,    25.00,     68.3,2,  -999.00,9, -999.000,9, -999.000,-999.0000,9,-999.0000,  -999.00,9,  -999.00, -999.000,9, -999.000,   -999.0,9,   -999.0,  -999.00,9,   0.2024,2,   0.1438,2,   0.0721,2,   0.0517,2,   0.0188,2,   0.0069,2,   0.0022,2,   0.0149,3,   0.0165,3,  27.7559,  27.7847,2
  33RR20070322,  I09N,   161,  1,     33,     33,2,20070416,2319,  5.7630,  89.9093, 2757,  78.3000,     78.3,  23.5389,  35.0484,2,  35.0414,2,     96.7,2,     76.1,2,     9.88,2,    15.10,2,     0.78,2,     1.20,2,    1.369,2,    0.855,2, -999.000,5,   2105.9,2,   2288.7,2,   7.8202,2,    25.00,     54.2,2,  -999.00,9, -999.000,9, -999.000,-999.0000,9,-999.0000,  -999.00,9,  -999.00, -999.000,9, -999.000,   -999.0,9,   -999.0,  -999.00,9,   0.2229,2,   0.1636,2,   0.0875,2,   0.0656,2,   0.0258,2,   0.0091,2,   0.0030,2,   0.0146,3,   0.0150,3,  23.5227,  23.5424,2
  33RR20070322,  I09N,   161,  1,     32,     37,2,20070416,2319,  5.7630,  89.9093, 2757, 103.3000,    103.3,  19.0787,  35.0815,2,  35.0829,2,     39.8,2,     36.5,2,    17.93,2,    24.11,2,     0.04,2,     1.74,2,    1.233,2,    0.758,2, -999.000,5,   2173.0,2,   2296.1,2,   7.6587,2,    25.00,     50.9,2,  -999.00,9, -999.000,9, -999.000,-999.0000,9,-999.0000,  -999.00,9,  -999.00, -999.000,9, -999.000,   -999.0,9,   -999.0,  -999.00,9,   0.1945,2,   0.1428,2,   0.0804,2,   0.0631,2,   0.0249,2,   0.0079,2,   0.0024,2,   0.0143,3,   0.0140,3,  19.0602,  19.0802,2
  33RR20070322,  I09N,   161,  1,     31,     31,2,20070416,2319,  5.7630,  89.9093, 2757, 153.5000,    153.5,  14.6604,  35.0294,2,  35.0301,2,     22.5,2,     25.0,2,    25.97,2,    29.20,2,     0.01,2,     2.08,2,    0.922,2,    0.531,2, -999.000,5,   2219.9,2,   2302.3,2,   7.5606,2,    25.00,     49.2,2,  -999.00,9, -999.000,9, -999.000,-999.0000,9,-999.0000,  -999.00,9,  -999.00, -999.000,9, -999.000,   -999.0,9,   -999.0,  -999.00,9,   0.1855,2,   0.1375,2,   0.0808,2,   0.0638,2,   0.0264,2,   0.0077,2,   0.0019,2,   0.0142,3,   0.0134,3,  14.6375,  14.6786,2
  33RR20070322,  I09N,   161,  1,     30,     30,2,20070416,2319,  5.7630,  89.9093, 2757, 203.1000,    203.1,  13.2911,  35.0738,2,  35.0729,2,     29.2,2,     30.3,2,    26.72,2,    29.71,2,     0.00,2,     2.12,2,    0.910,2,    0.515,2, -999.000,5,   2230.3,2,   2309.2,2,   7.5405,2,    25.00,     48.2,2,  -999.00,9, -999.000,9, -999.000,-999.0000,9,-999.0000,  -999.00,9,  -999.00, -999.000,9, -999.000,   -999.0,9,   -999.0,  -999.00,9,   0.1861,2,   0.1388,2,   0.0831,2,   0.0664,2,   0.0287,2,   0.0088,2,   0.0022,2,   0.0139,3,   0.0129,3,  13.2627,  13.2748,2
  33RR20070322,  I09N,   161,  1,     29,     29,2,20070416,2319,  5.7630,  89.9093, 2757, 253.3000,    253.3,  12.1467,  35.0590,2,  35.0561,2,     22.6,2,     19.3,2,    32.21,2,    32.00,2,     0.00,2,     2.29,2,    0.631,2,    0.365,2, -999.000,5,   2249.8,2,   2314.4,2,   7.5052,2,    25.00,     46.5,2,  -999.00,9, -999.000,9, -999.000,-999.0000,9,-999.0000,  -999.00,9,  -999.00, -999.000,9, -999.000,   -999.0,9,   -999.0,  -999.00,9,   0.1931,2,   0.1449,2,   0.0884,2,   0.0708,2,   0.0318,2,   0.0098,2,   0.0024,2,   0.0139,3,   0.0127,3,  12.1133,  12.1443,2
  33RR20070322,  I09N,   161,  1,     28,     28,2,20070416,2319,  5.7630,  89.9093, 2757, 303.3000,    303.3,  11.7019,  35.0964,2,  35.0955,2,     47.2,2,     47.9,2,    27.63,2,    29.81,2,     0.00,2,     2.10,2,    0.918,2,    0.506,2, -999.000,5,   2233.4,3,   2311.6,2,   7.5230,2,    25.00,     45.7,2,  -999.00,9, -999.000,9, -999.000,-999.0000,9,-999.0000,  -999.00,9,  -999.00, -999.000,9, -999.000,   -999.0,9,   -999.0,  -999.00,9,   0.1796,2,   0.1341,2,   0.0820,2,   0.0663,2,   0.0288,2,   0.0085,2,   0.0018,2,   0.0138,3,   0.0126,3,  11.6628,  11.7006,2
  33RR20070322,  I09N,   161,  1,     27,     27,2,20070416,2319,  5.7630,  89.9093, 2757, 353.0000,    353.0,  11.3214,  35.1002,2,  35.0995,2,     44.9,2,     44.2,2,    29.76,2,    30.67,2,     0.00,2,     2.18,2,    0.789,2,    0.439,2, -999.000,5,   -999.0,9,   -999.0,9,-999.0000,9,  -999.00,     44.8,2,  -999.00,9, -999.000,9, -999.000,-999.0000,9,-999.0000,  -999.00,9,  -999.00, -999.000,9, -999.000,   -999.0,9,   -999.0,  -999.00,9,   0.1815,2,   0.1357,2,   0.0830,2,   0.0667,2,   0.0290,2,   0.0086,2,   0.0018,2,   0.0139,3,   0.0127,3,  11.2767,  11.3195,2
  33RR20070322,  I09N,   161,  1,     26,     26,2,20070416,2319,  5.7630,  89.9093, 2757, 402.9000,    402.9,  10.8633,  35.0680,2,  35.0674,2,     28.9,2,     27.3,2,    36.44,2,    33.21,2,     0.00,2,     2.36,2,    0.491,2,    0.276,2, -999.000,5,   2258.1,2,   2316.7,2,   7.5044,2,    25.00,     44.1,2,  -999.00,9, -999.000,9, -999.000,-999.0000,9,-999.0000,  -999.00,9,  -999.00, -999.000,9, -999.000,   -999.0,9,   -999.0,  -999.00,9,   0.1907,2,   0.1428,2,   0.0878,2,   0.0706,2,   0.0322,2,   0.0101,2,   0.0024,2,   0.0138,3,   0.0125,3,  10.8135,  10.8625,2
  33RR20070322,  I09N,   161,  1,     25,     25,2,20070416,2319,  5.7630,  89.9093, 2757, 453.5000,    453.5,  10.5407,  35.0691,2,  35.0660,2,     21.3,2,     23.0,2,    39.95,2,    34.19,2,     0.00,2,     2.45,2,    0.369,2,    0.203,2, -999.000,5,   -999.0,9,   -999.0,9,-999.0000,9,  -999.00,     43.9,2,  -999.00,9, -999.000,9, -999.000,-999.0000,9,-999.0000,  -999.00,9,  -999.00, -999.000,9, -999.000,   -999.0,9,   -999.0,  -999.00,9,   0.1997,2,   0.1506,2,   0.0931,2,   0.0749,2,   0.0352,2,   0.0112,2,   0.0027,2,   0.0138,3,   0.0124,3,  10.4856,  10.5394,2
  33RR20070322,  I09N,   161,  1,     24,     24,2,20070416,2319,  5.7630,  89.9093, 2757, 503.0000,    503.0,  10.1520,  35.0485,2,  35.0487,2,     22.5,2,     20.1,2,    44.27,2,    34.95,2,     0.00,2,     2.53,2,    0.261,2,    0.143,2, -999.000,5,   2271.7,2,   2320.6,2,   7.4698,2,    25.00,     43.3,2,  -999.00,9, -999.000,9, -999.000,-999.0000,9,-999.0000,  -999.00,9,  -999.00, -999.000,9, -999.000,   -999.0,9,   -999.0,  -999.00,9,   0.2007,2,   0.1509,2,   0.0937,2,   0.0750,2,   0.0354,2,   0.0115,2,   0.0028,2,   0.0138,3,   0.0124,3,  10.0921,  10.1449,2
  33RR20070322,  I09N,   161,  1,     23,     23,2,20070416,2319,  5.7630,  89.9093, 2757, 603.2000,    603.2,   9.4319,  35.0333,2,  35.0322,2,     21.3,2,     20.3,2,    51.94,2,    35.98,2,     0.00,2,     2.64,2,    0.137,2,    0.076,2, -999.000,5,   2281.2,2,   2332.2,2,   7.4571,2,    25.00,     43.0,2,  -999.00,9, -999.000,9, -999.000,-999.0000,9,-999.0000,  -999.00,9,  -999.00, -999.000,9, -999.000,   -999.0,9,   -999.0,  -999.00,9,   0.2015,2,   0.1514,2,   0.0934,2,   0.0741,2,   0.0350,2,   0.0113,2,   0.0027,2,   0.0139,3,   0.0125,3,   9.3629,   9.4318,2
  33RR20070322,  I09N,   161,  1,     22,     22,2,20070416,2319,  5.7630,  89.9093, 2757, 703.6000,    703.6,   8.7051,  35.0095,2,  35.0127,2,     24.3,2,     23.1,2,    60.62,2,    36.69,2,     0.00,2,     2.70,2,    0.072,2,    0.040,2, -999.000,5,   2290.5,2,   2343.2,2,   7.4440,2,    25.00,     42.7,2,  -999.00,9, -999.000,9, -999.000,-999.0000,9,-999.0000,  -999.00,9,  -999.00, -999.000,9, -999.000,   -999.0,9,   -999.0,  -999.00,9,   0.2037,2,   0.1527,2,   0.0941,2,   0.0743,2,   0.0354,2,   0.0114,2,   0.0027,2,   0.0139,3,   0.0126,3,   8.6279,   8.7047,2
  33RR20070322,  I09N,   161,  1,     21,     21,2,20070416,2319,  5.7630,  89.9093, 2757, 803.5000,    803.5,   7.8499,  34.9738,2,  34.9733,2,     34.2,2,     35.1,2,    70.32,2,    36.69,2,     0.00,2,     2.70,2,    0.067,2,    0.036,2, -999.000,5,   2296.3,6,   2353.6,6,   7.4683,6,    25.00,     42.2,2,  -999.00,9, -999.000,9, -999.000,-999.0000,9,-999.0000,  -999.00,9,  -999.00, -999.000,9, -999.000,   -999.0,9,   -999.0,  -999.00,9,   0.2010,2,   0.1504,2,   0.0917,2,   0.0710,2,   0.0335,2,   0.0107,2,   0.0024,2,   0.0140,3,   0.0128,3,   7.7663,   7.8503,2
  33RR20070322,  I09N,   161,  1,     20,     20,2,20070416,2319,  5.7630,  89.9093, 2757, 904.5000,    904.5,   7.1254,  34.9495,2,  34.9489,2,     42.9,2,     44.1,2,    78.24,2,    36.84,2,     0.00,2,     2.73,2,    0.045,2,    0.026,2, -999.000,5,   2301.7,2,   2357.3,2,   7.4673,2,    25.00,     41.5,2,  -999.00,9, -999.000,9, -999.000,-999.0000,9,-999.0000,  -999.00,9,  -999.00, -999.000,9, -999.000,   -999.0,9,   -999.0,  -999.00,9,   0.2010,2,   0.1500,2,   0.0911,2,   0.0703,2,   0.0331,2,   0.0106,2,   0.0023,2,   0.0140,3,   0.0129,3,   7.0356,   7.1271,2
  33RR20070322,  I09N,   161,  1,     19,     19,2,20070416,2319,  5.7630,  89.9093, 2757,1003.8000,   1003.8,   6.6322,  34.9326,2,  34.9324,2,     47.2,2,     48.3,2,    83.98,2,    37.05,2,     0.00,2,     2.74,2,    0.029,2,    0.016,2, -999.000,5,   2307.8,2,   2475.0,4,   7.4715,2,    25.00,     40.7,2,  -999.00,9, -999.000,9, -999.000,-999.0000,9,-999.0000,  -999.00,9,  -999.00, -999.000,9, -999.000,   -999.0,9,   -999.0,  -999.00,9,   0.2019,2,   0.1503,2,   0.0910,2,   0.0696,2,   0.0326,2,   0.0105,2,   0.0023,2,   0.0140,3,   0.0130,3,   6.5356,   6.6318,2
  33RR20070322,  I09N,   161,  1,     18,     18,2,20070416,2319,  5.7630,  89.9093, 2757,1104.8000,   1104.8,   6.1332,  34.9144,2,  34.9141,2,     53.1,2,     55.2,2,    89.14,2,    37.14,2,     0.00,2,     2.75,2,    0.026,2,    0.015,2, -999.000,5,   -999.0,9,   -999.0,9,-999.0000,9,  -999.00,     40.4,2,  -999.00,9, -999.000,9, -999.000,-999.0000,9,-999.0000,  -999.00,9,  -999.00, -999.000,9, -999.000,   -999.0,9,   -999.0,  -999.00,9,   0.1998,2,   0.1485,2,   0.0899,2,   0.0689,2,   0.0323,2,   0.0102,2,   0.0021,2,   0.0140,3,   0.0130,3,   6.0302,   6.1388,2
  33RR20070322,  I09N,   161,  1,     17,     17,2,20070416,2319,  5.7630,  89.9093, 2757,1205.2000,   1205.2,   5.6107,  34.8913,2,  34.8921,2,     64.7,2,     65.0,2,    94.70,2,    36.94,2,     0.00,2,     2.72,2,    0.024,2,    0.012,2, -999.000,5,   2314.0,2,   2312.0,4,   7.4698,2,    25.00,     39.9,2,  -999.00,9, -999.000,9, -999.000,-999.0000,9,-999.0000,  -999.00,9,  -999.00, -999.000,9, -999.000,   -999.0,9,   -999.0,  -999.00,9,   0.1979,2,   0.1468,2,   0.0884,2,   0.0670,2,   0.0312,2,   0.0099,2,   0.0021,2,   0.0140,3,   0.0131,3,   5.5022,   5.6107,2
  33RR20070322,  I09N,   161,  1,     16,     16,2,20070416,2319,  5.7630,  89.9093, 2757,1305.5000,   1305.5,   5.2384,  34.8779,2,  34.8773,2,     71.1,2,     70.5,2,    99.47,2,    36.93,2,     0.00,2,     2.72,2, -999.000,9, -999.000,9, -999.000,9,   -999.0,9,   -999.0,9,-999.0000,9,  -999.00,     40.0,2,  -999.00,9, -999.000,9, -999.000,-999.0000,9,-999.0000,  -999.00,9,  -999.00, -999.000,9, -999.000,   -999.0,9,   -999.0,  -999.00,9,   0.1969,2,   0.1456,2,   0.0866,2,   0.0652,2,   0.0301,2,   0.0094,2,   0.0017,2,   0.0141,3,   0.0134,3,   5.1237,   5.2373,2
  33RR20070322,  I09N,   161,  1,     15,     15,2,20070416,2319,  5.7630,  89.9093, 2757,1406.2000,   1406.2,   4.7427,  34.8591,2,  34.8599,2,     78.4,2,     78.8,2,   104.85,2,    36.82,2,     0.00,2,     2.71,2,    0.015,2,    0.007,2, -999.000,5,   2317.2,2,   2387.4,2,   7.5016,2,    25.00,     40.5,2,  -999.00,9, -999.000,9, -999.000,-999.0000,9,-999.0000,  -999.00,9,  -999.00, -999.000,9, -999.000,   -999.0,9,   -999.0,  -999.00,9,   0.1965,2,   0.1452,2,   0.0858,2,   0.0645,2,   0.0296,2,   0.0092,2,   0.0016,2,   0.0142,3,   0.0134,3,   4.6234,   4.7425,2
  33RR20070322,  I09N,   161,  1,     14,     14,2,20070416,2319,  5.7630,  89.9093, 2757,1506.7000,   1506.7,   4.4004,  34.8472,2,  34.8473,2,     84.2,2,     83.7,2,   108.23,2,    36.77,2,     0.00,2,     2.71,2, -999.000,9, -999.000,9, -999.000,9,   -999.0,9,   -999.0,9,-999.0000,9,  -999.00,     40.5,2,  -999.00,9, -999.000,9, -999.000,-999.0000,9,-999.0000,  -999.00,9,  -999.00, -999.000,9, -999.000,   -999.0,9,   -999.0,  -999.00,9,   0.1941,2,   0.1431,2,   0.0842,2,   0.0624,2,   0.0282,2,   0.0086,2,   0.0014,2,   0.0142,3,   0.0136,3,   4.2753,   4.3994,2
  33RR20070322,  I09N,   161,  1,     13,     13,2,20070416,2319,  5.7630,  89.9093, 2757,1607.7000,   1607.7,   4.0974,  34.8377,2,  34.8380,2,     89.5,2,     89.4,2,   110.41,2,    36.77,2,     0.00,2,     2.70,2,    0.009,2,    0.004,2, -999.000,5,   2319.7,2,   2393.1,2,   7.5076,2,    25.00,     40.2,2,  -999.00,9, -999.000,9, -999.000,-999.0000,9,-999.0000,  -999.00,9,  -999.00, -999.000,9, -999.000,   -999.0,9,   -999.0,  -999.00,9,   0.1944,2,   0.1435,2,   0.0841,2,   0.0627,2,   0.0283,2,   0.0085,2,   0.0014,2,   0.0143,3,   0.0136,3,   3.9665,   4.0968,2
  33RR20070322,  I09N,   161,  1,     12,     12,2,20070416,2319,  5.7630,  89.9093, 2757,1708.2000,   1708.2,   3.6900,  34.8210,2,  34.8209,2,     97.8,2,     97.7,2,   115.01,2,    36.50,2,     0.00,2,     2.69,2, -999.000,9, -999.000,9, -999.000,9,   -999.0,9,   -999.0,9,-999.0000,9,  -999.00,     40.9,2,  -999.00,9, -999.000,9, -999.000,-999.0000,9,-999.0000,  -999.00,9,  -999.00, -999.000,9, -999.000,   -999.0,9,   -999.0,  -999.00,9,   0.1908,2,   0.1403,2,   0.0823,2,   0.0607,2,   0.0272,2,   0.0083,2,   0.0012,2,   0.0142,3,   0.0137,3,   3.5549,   3.6892,2
  33RR20070322,  I09N,   161,  1,     11,     11,2,20070416,2319,  5.7630,  89.9093, 2757,1808.6000,   1808.6,   3.3282,  34.8054,2,  34.8046,2,    105.7,2,    105.9,2,   118.61,2,    36.30,2,     0.00,2,     2.66,2,    0.007,2,    0.003,2, -999.000,5,   2322.7,2,   2401.3,2,   7.5255,2,    25.00,     40.6,2,  -999.00,9, -999.000,9, -999.000,-999.0000,9,-999.0000,  -999.00,9,  -999.00, -999.000,9, -999.000,   -999.0,9,   -999.0,  -999.00,9,   0.1896,2,   0.1395,2,   0.0824,2,   0.0615,2,   0.0275,2,   0.0082,2,   0.0012,2,   0.0142,3,   0.0136,3,   3.1888,   3.3283,2
  33RR20070322,  I09N,   161,  1,     10,     10,2,20070416,2319,  5.7630,  89.9093, 2757,1909.8000,   1909.8,   3.0183,  34.7919,2,  34.7914,2,    113.1,2,    113.1,2,   122.20,2,    36.09,2,     0.00,2,     2.63,2, -999.000,9, -999.000,9, -999.000,9,   -999.0,9,   -999.0,9,-999.0000,9,  -999.00,     40.5,2,  -999.00,9, -999.000,9, -999.000,-999.0000,9,-999.0000,  -999.00,9,  -999.00, -999.000,9, -999.000,   -999.0,9,   -999.0,  -999.00,9,   0.1878,2,   0.1381,2,   0.0811,2,   0.0595,2,   0.0262,2,   0.0078,2,   0.0011,2,   0.0143,3,   0.0138,3,   2.8741,   3.0168,2
  33RR20070322,  I09N,   161,  1,      9,      9,2,20070416,2319,  5.7630,  89.9093, 2757,2010.1000,   2010.1,   2.7508,  34.7795,2,  34.7792,2,    118.1,2,    118.3,2,   126.42,2,    35.99,2,     0.00,2,     2.61,2,    0.006,2,    0.004,2, -999.000,5,   2324.5,2,   2408.2,2,   7.5421,2,    25.00,     40.6,2,  -999.00,9, -999.000,9, -999.000,-999.0000,9,-999.0000,  -999.00,9,  -999.00, -999.000,9, -999.000,   -999.0,9,   -999.0,  -999.00,9,   0.1887,2,   0.1383,2,   0.0812,2,   0.0594,2,   0.0262,2,   0.0079,2,   0.0011,2,   0.0143,3,   0.0138,3,   2.6016,   2.7531,2
  33RR20070322,  I09N,   161,  1,      8,      8,2,20070416,2319,  5.7630,  89.9093, 2757,2136.4000,   2136.4,   2.4821,  34.7674,2,  34.7671,2,   -999.0,9,   -999.0,5,   129.02,2,    35.67,2,     0.00,2,     2.57,2, -999.000,9, -999.000,9, -999.000,9,   -999.0,9,   -999.0,9,-999.0000,9,  -999.00,     40.6,2,  -999.00,9, -999.000,9, -999.000,-999.0000,9,-999.0000,  -999.00,9,  -999.00, -999.000,9, -999.000,   -999.0,9,   -999.0,  -999.00,9,   0.1870,2,   0.1374,2,   0.0812,2,   0.0602,2,   0.0268,2,   0.0083,2,   0.0014,2,   0.0141,3,   0.0136,3,   2.3258,   2.4814,2
  33RR20070322,  I09N,   161,  1,      7,      7,2,20070416,2319,  5.7630,  89.9093, 2757,2263.0000,   2263.0,   2.3529,  34.7615,2,  34.7606,2,    131.4,2,    130.9,2,   130.00,2,    35.41,2,     0.00,2,     2.55,2,    0.009,2,    0.006,2, -999.000,5,   2322.6,2,   2414.3,2,   7.5460,2,    25.00,     41.0,2,  -999.00,9, -999.000,9, -999.000,-999.0000,9,-999.0000,  -999.00,9,  -999.00, -999.000,9, -999.000,   -999.0,9,   -999.0,  -999.00,9,   0.1819,2,   0.1329,2,   0.0779,2,   0.0572,2,   0.0247,2,   0.0073,2,   0.0009,3,   0.0142,3,   0.0138,3,   2.1874,   2.3525,2
  33RR20070322,  I09N,   161,  1,      6,      6,2,20070416,2319,  5.7630,  89.9093, 2757,2388.6000,   2388.6,   2.2139,  34.7553,2,  34.7549,2,    136.2,2,    135.5,2,   131.39,2,    35.36,2,     0.00,2,     2.53,2, -999.000,9, -999.000,9, -999.000,9,   2321.9,2,   2406.5,2,   7.5642,2,    25.00,     40.7,2,  -999.00,9, -999.000,9, -999.000,-999.0000,9,-999.0000,  -999.00,9,  -999.00, -999.000,9, -999.000,   -999.0,9,   -999.0,  -999.00,9,   0.1799,2,   0.1314,2,   0.0767,2,   0.0565,2,   0.0242,2,   0.0071,2,   0.0008,2,   0.0142,3,   0.0139,3,   2.0394,   2.2130,2
  33RR20070322,  I09N,   161,  1,      5,      5,2,20070416,2319,  5.7630,  89.9093, 2757,2514.4000,   2514.4,   2.0546,  34.7483,2,  34.7482,2,    141.2,2,    141.8,2,   132.17,2,    35.05,2,     0.00,2,     2.50,2,    0.007,2,    0.005,2, -999.000,5,   2320.0,2,   2408.9,2,   7.5621,2,    25.00,     41.0,2,  -999.00,9, -999.000,9, -999.000,-999.0000,9,-999.0000,  -999.00,9,  -999.00, -999.000,9, -999.000,   -999.0,9,   -999.0,  -999.00,9,   0.1796,2,   0.1312,2,   0.0770,2,   0.0567,2,   0.0246,2,   0.0074,2,   0.0010,2,   0.0141,3,   0.0138,3,   1.8715,   2.0561,2