BOTTLE,20150630SIOCCHRJL
EXPOCODE,SECT_ID,STNNBR,CASTNO,SAMPNO,BTLNBR,BTLNBR_FLAG_W,DATE,TIME,LATITUDE,LONGITUDE,DEPTH,CTDRAW,CTDPRS,CTDTMP,CTDSAL,CTDSAL_FLAG_W,SALNTY,SALNTY_FLAG_W,CTDOXY,CTDOXY_FLAG_W,OXYGEN,OXYGEN_FLAG_W,SILCAT,SILCAT_FLAG_W,NITRAT,NITRAT_FLAG_W,NITRIT,NITRIT_FLAG_W,PHSPHT,PHSPHT_FLAG_W,CFC-11,CFC-11_FLAG_W,CFC-12,CFC-12_FLAG_W,CFC113,CFC113_FLAG_W,TCARBN,TCARBN_FLAG_W,ALKALI,ALKALI_FLAG_W,PH_SWS,PH_SWS_FLAG_W,PH_TMP,DOC,DOC_FLAG_W,TDN,TDN_FLAG_W,TRITUM,TRITUM_FLAG_W,TRITER,HELIUM,HELIUM_FLAG_W,HELIER,DELHE3,DELHE3_FLAG_W,DELHER,NEON,NEON_FLAG_W,NEONER,DELC14,DELC14_FLAG_W,C14ERR,DELC13,DELC13_FLAG_W,CDOM325,CDOM325_FLAG_W,CDOM340,CDOM340_FLAG_W,CDOM380,CDOM380_FLAG_W,CDOM412,CDOM412_FLAG_W,CDOM443,CDOM443_FLAG_W,CDOM490,CDOM490_FLAG_W,CDOM555,CDOM555_FLAG_W,CDOMSL,CDOMSL_FLAG_W,CDOMSN,CDOMSN_FLAG_W,THETA,SBE35,SBE35_FLAG_W
,,,,,,,,,,,METERS,,DBAR,ITS-90,PSS-78,,PSS-78,,UMOL/KG,,UMOL/KG,,UMOL/KG,,UMOL/KG,,UMOL/KG,,UMOL/KG,,PMOL/KG,,PMOL/KG,,PMOL/KG,,UMOL/KG,,UMOL/KG,,,,DEG C,UMOL/KG,,UMOL/KG,,TU,,TU,NMOL/KG,,NMOL/KG,PERCNT,,PERCNT,NMOL/KG,,NMOL/KG,/MILLE,,/MILLE,/MILLE,,1/M,,1/M,,1/M,,1/M,,1/M,,1/M,,1/M,,1/NM,,1/NM,,DEG C,ITS-90,
  33RR20070322,  I09N,   111,  2,     36,     38,2,20070402,1703,-15.7172,  95.0017, 4981,   3.8000,      3.8,  27.7335,  34.6318,2,  34.6326,2,    199.3,2,    200.2,2,     1.92,2,     0.06,2,     0.00,2,     0.07,2,    1.580,2,    0.988,2, -999.000,5,   1943.5,6,   2275.9,6,   8.0885,6,    25.00,     72.7,2,  -999.00,9, -999.000,9, -999.000,-999.0000,9,-999.0000,  -999.00,9,  -999.00, -999.000,9, -999.000,   -999.0,9,   -999.0,  -999.00,9,-999.0000,9,-999.0000,9,-999.0000,9,-999.0000,9,-999.0000,9,-999.0000,9,-999.0000,9,-999.0000,9,-999.0000,9,  27.7326,  27.7283,2
  33RR20070322,  I09N,   111,  2,     35,     35,2,20070402,1703,-15.7172,  95.0017, 4981,  40.9000,     40.9,  27.7335,  34.6324,2,  34.6322,2,    200.9,2,    200.2,2,     1.92,2,     0.06,2,     0.00,2,     0.07,2,    1.564,2,    0.997,2, -999.000,5,   1943.3,2,   2272.5,2,   8.0780,2,    25.00,     70.6,2,  -999.00,9, -999.000,9, -999.000,-999.0000,9,-999.0000,  -999.00,9,  -999.00, -999.000,9, -999.000,     55.4,2,      2.9,     1.22,2,-999.0000,9,-999.0000,9,-999.0000,9,-999.0000,9,-999.0000,9,-999.0000,9,-999.0000,9,-999.0000,9,-999.0000,9,  27.7239,  27.7288,2
  33RR20070322,  I09N,   111,  2,     34,   9419,2,20070402,1703,-15.7172,  95.0017, 4981,  74.8000,     74.8,  25.4100,  34.6965,2,  34.6886,2,    208.6,2,    206.3,2,     2.90,2,     0.07,2,     0.00,2,     0.12,2, -999.000,9, -999.000,9, -999.000,9,   1965.2,2,   2278.4,3,   8.0566,2,    25.00,     68.8,2,  -999.00,9, -999.000,9, -999.000,-999.0000,9,-999.0000,  -999.00,9,  -999.00, -999.000,9, -999.000,   -999.0,9,   -999.0,  -999.00,9,-999.0000,9,-999.0000,9,-999.0000,9,-999.0000,9,-999.0000,9,-999.0000,9,-999.0000,9,-999.0000,9,-999.0000,9,  25.3936,  25.3033,2
  33RR20070322,  I09N,   111,  2,     33,     33,2,20070402,1703,-15.7172,  95.0017, 4981,  95.3000,     95.3,  23.2987,  34.7776,2,  34.7751,2,    192.4,2,    169.5,2,     6.08,2,     3.34,2,     0.19,2,     0.38,2,    1.752,2,    1.102,2, -999.000,5,   2015.9,2,   2283.8,2,-999.0000,5,    25.00,     61.6,2,  -999.00,9, -999.000,9, -999.000,-999.0000,9,-999.0000,  -999.00,9,  -999.00, -999.000,9, -999.000,   -999.0,9,   -999.0,  -999.00,9,-999.0000,9,-999.0000,9,-999.0000,9,-999.0000,9,-999.0000,9,-999.0000,9,-999.0000,9,-999.0000,9,-999.0000,9,  23.2791,  23.3400,2
  33RR20070322,  I09N,   111,  2,     32,     37,2,20070402,1703,-15.7172,  95.0017, 4981, 125.6000,    125.6,  21.4079,  35.1778,2,  35.1763,2,    159.8,2,    160.6,2,     7.07,2,     5.87,2,     0.13,2,     0.49,2,    1.895,2,    1.160,2, -999.000,5,   2054.5,2,   2307.1,2,   7.9392,2,    25.00,     58.3,2,  -999.00,9, -999.000,9, -999.000,-999.0000,9,-999.0000,  -999.00,9,  -999.00, -999.000,9, -999.000,   -999.0,9,   -999.0,  -999.00,9,-999.0000,9,-999.0000,9,-999.0000,9,-999.0000,9,-999.0000,9,-999.0000,9,-999.0000,9,-999.0000,9,-999.0000,9,  21.3835,  21.4141,2
  33RR20070322,  I09N,   111,  2,     31,     31,2,20070402,1703,-15.7172,  95.0017, 4981, 175.1000,    175.1,  18.4809,  35.2536,2,  35.2552,2,    149.3,2,    147.5,2,    11.83,2,    10.21,2,     0.01,2,     0.75,2,    1.912,2,    1.150,2, -999.000,5,   2097.9,2,   2300.1,3,   7.8838,2,    25.00,     53.9,2,  -999.00,9, -999.000,9, -999.000,-999.0000,9,-999.0000,  -999.00,9,  -999.00, -999.000,9, -999.000,   -999.0,9,   -999.0,  -999.00,9,-999.0000,9,-999.0000,9,-999.0000,9,-999.0000,9,-999.0000,9,-999.0000,9,-999.0000,9,-999.0000,9,-999.0000,9,  18.4502,  18.4810,2
  33RR20070322,  I09N,   111,  2,     30,     30,2,20070402,1703,-15.7172,  95.0017, 4981, 225.4000,    225.4,  13.9119,  34.7508,2,  34.7532,2,    128.2,2,    112.9,2,    28.09,2,    20.56,2,     0.00,2,     1.47,2, -999.000,9, -999.000,9, -999.000,9,   2156.5,2,   2316.9,2,   7.7400,2,    25.00,     51.0,2,  -999.00,9, -999.000,9, -999.000,-999.0000,9,-999.0000,  -999.00,9,  -999.00, -999.000,9, -999.000,   -999.0,9,   -999.0,  -999.00,9,-999.0000,9,-999.0000,9,-999.0000,9,-999.0000,9,-999.0000,9,-999.0000,9,-999.0000,9,-999.0000,9,-999.0000,9,  13.8795,  13.9112,2
  33RR20070322,  I09N,   111,  2,     29,     29,2,20070402,1703,-15.7172,  95.0017, 4981, 275.4000,    275.4,  12.3545,  34.8390,2,  34.8396,2,    117.0,2,    123.5,2,    29.08,2,    21.18,2,     0.00,2,     1.54,2,    1.548,2,    0.894,2, -999.000,5,   2172.0,2,   2308.8,2,   7.7112,2,    25.00,     48.3,2,  -999.00,9, -999.000,9, -999.000,-999.0000,9,-999.0000,  -999.00,9,  -999.00, -999.000,9, -999.000,   -999.0,9,   -999.0,  -999.00,9,-999.0000,9,-999.0000,9,-999.0000,9,-999.0000,9,-999.0000,9,-999.0000,9,-999.0000,9,-999.0000,9,-999.0000,9,  12.3178,  12.3527,2
  33RR20070322,  I09N,   111,  2,     28,     28,2,20070402,1703,-15.7172,  95.0017, 4981, 324.7000,    324.7,  11.8134,  35.0143,2,  35.0296,2,    157.1,2,    180.1,2,    14.01,2,    15.31,2,     0.00,2,     1.12,2,    0.053,2,    0.032,2, -999.000,5,   2143.6,2,   2313.7,2,   7.7682,2,    25.00,     47.2,2,  -999.00,9, -999.000,9, -999.000,-999.0000,9,-999.0000,  -999.00,9,  -999.00, -999.000,9, -999.000,   -999.0,9,   -999.0,  -999.00,9,-999.0000,9,-999.0000,9,-999.0000,9,-999.0000,9,-999.0000,9,-999.0000,9,-999.0000,9,-999.0000,9,-999.0000,9,  11.7712,  11.8243,2
  33RR20070322,  I09N,   111,  2,     27,     27,2,20070402,1703,-15.7172,  95.0017, 4981, 374.4000,    374.4,  10.2817,  34.8394,2,  34.8424,2,    177.2,2,    196.4,2,    12.22,2,    17.32,2,     0.00,2,     1.24,2,    2.891,2,    1.546,2, -999.000,5,   2143.2,2,   2303.0,2,   7.7409,2,    25.00,     46.8,2,  -999.00,9, -999.000,9, -999.000,-999.0000,9,-999.0000,  -999.00,9,  -999.00, -999.000,9, -999.000,   -999.0,9,   -999.0,  -999.00,9,-999.0000,9,-999.0000,9,-999.0000,9,-999.0000,9,-999.0000,9,-999.0000,9,-999.0000,9,-999.0000,9,-999.0000,9,  10.2372,  10.2790,2
  33RR20070322,  I09N,   111,  2,     26,     26,2,20070402,1703,-15.7172,  95.0017, 4981, 425.8000,    425.8,   9.3028,  34.6983,2,  34.7046,2,    187.3,2,    127.4,2,    12.22,2,    17.38,2,     0.00,2,     1.24,2,    1.469,2,    0.778,2, -999.000,5,   2198.8,3,   2308.7,2,   7.6020,2,    25.00,     46.2,2,  -999.00,9, -999.000,9, -999.000,-999.0000,9,-999.0000,  -999.00,9,  -999.00, -999.000,9, -999.000,   -999.0,9,   -999.0,  -999.00,9,-999.0000,9,-999.0000,9,-999.0000,9,-999.0000,9,-999.0000,9,-999.0000,9,-999.0000,9,-999.0000,9,-999.0000,9,   9.2552,   9.3053,2
  33RR20070322,  I09N,   111,  2,     25,     25,2,20070402,1703,-15.7172,  95.0017, 4981, 475.4000,    475.4,   8.7955,  34.6816,2,  34.7012,4,    126.6,2,    135.0,2,    32.26,2,    26.66,2,     0.00,2,     1.88,2,    1.389,2,    0.718,2, -999.000,5,   2198.3,2,   2308.0,2,   7.6077,2,    25.00,     45.4,2,  -999.00,9, -999.000,9, -999.000,-999.0000,9,-999.0000,  -999.00,9,  -999.00, -999.000,9, -999.000,    -33.2,6,      2.0,     0.69,6,-999.0000,9,-999.0000,9,-999.0000,9,-999.0000,9,-999.0000,9,-999.0000,9,-999.0000,9,-999.0000,9,-999.0000,9,   8.7439,   8.7982,2
  33RR20070322,  I09N,   111,  2,     24,     24,2,20070402,1703,-15.7172,  95.0017, 4981, 525.1000,    525.1,   8.4264,  34.6673,2,  34.6686,2,    129.0,2,    121.2,2,    37.42,2,    28.94,2,     0.00,2,     2.02,2,    0.954,2,    0.493,2, -999.000,5,   2211.2,2,   2311.6,2,   7.5888,2,    25.00,     44.9,2,  -999.00,9, -999.000,9, -999.000,-999.0000,9,-999.0000,  -999.00,9,  -999.00, -999.000,9, -999.000,   -999.0,9,   -999.0,  -999.00,9,-999.0000,9,-999.0000,9,-999.0000,9,-999.0000,9,-999.0000,9,-999.0000,9,-999.0000,9,-999.0000,9,-999.0000,9,   8.3707,   8.4276,2
  33RR20070322,  I09N,   111,  2,     23,     23,2,20070402,1703,-15.7172,  95.0017, 4981, 575.8000,    575.8,   7.8259,  34.6338,2,  34.6337,2,    136.6,2,    133.1,2,    36.44,2,    29.09,2,     0.00,2,     2.05,2,    0.839,2,    0.432,2, -999.000,5,   2207.6,2,   2310.2,2,   7.6115,2,    25.00,     44.2,2,  -999.00,9, -999.000,9, -999.000,-999.0000,9,-999.0000,  -999.00,9,  -999.00, -999.000,9, -999.000,   -999.0,9,   -999.0,  -999.00,9,-999.0000,9,-999.0000,9,-999.0000,9,-999.0000,9,-999.0000,9,-999.0000,9,-999.0000,9,-999.0000,9,-999.0000,9,   7.7673,   7.8268,2
  33RR20070322,  I09N,   111,  2,     22,     22,2,20070402,1703,-15.7172,  95.0017, 4981, 645.1000,    645.1,   7.3685,  34.6630,2,  34.6631,2,    103.4,2,    101.1,2,    52.34,2,    32.74,2,     0.00,2,     2.35,2,    0.281,2,    0.155,2, -999.000,5,   2241.4,2,   2324.8,2,   7.5464,2,    25.00,     43.6,2,  -999.00,9, -999.000,9, -999.000,-999.0000,9,-999.0000,  -999.00,9,  -999.00, -999.000,9, -999.000,   -999.0,9,   -999.0,  -999.00,9,-999.0000,9,-999.0000,9,-999.0000,9,-999.0000,9,-999.0000,9,-999.0000,9,-999.0000,9,-999.0000,9,-999.0000,9,   7.3047,   7.3690,2
  33RR20070322,  I09N,   111,  2,     21,     21,2,20070402,1703,-15.7172,  95.0017, 4981, 747.0000,    747.0,   6.6539,  34.6736,2,  34.6741,2,     88.9,2,     87.0,2,    67.69,2,    34.77,2,     0.00,2,     2.52,2,    0.106,2,    0.061,2, -999.000,5,   2266.8,2,   2340.5,2,   7.5214,2,    25.00,     42.6,2,  -999.00,9, -999.000,9, -999.000,-999.0000,9,-999.0000,  -999.00,9,  -999.00, -999.000,9, -999.000,   -999.0,9,   -999.0,  -999.00,9,-999.0000,9,-999.0000,9,-999.0000,9,-999.0000,9,-999.0000,9,-999.0000,9,-999.0000,9,-999.0000,9,-999.0000,9,   6.5835,   6.6596,2
  33RR20070322,  I09N,   111,  2,     20,     20,2,20070402,1703,-15.7172,  95.0017, 4981, 846.6000,    846.6,   6.0151,  34.6721,2,  34.6731,2,     85.8,2,     85.7,2,    79.47,2,    35.88,2,     0.00,2,     2.61,2,    2.601,2,    1.436,2, -999.000,5,   2281.5,6,   2351.8,6,   7.5092,6,    25.00,     41.8,2,  -999.00,9, -999.000,9, -999.000,-999.0000,9,-999.0000,  -999.00,9,  -999.00, -999.000,9, -999.000,   -999.0,9,   -999.0,  -999.00,9,-999.0000,9,-999.0000,9,-999.0000,9,-999.0000,9,-999.0000,9,-999.0000,9,-999.0000,9,-999.0000,9,-999.0000,9,   5.9387,   6.0173,2
  33RR20070322,  I09N,   111,  2,     19,     19,2,20070402,1703,-15.7172,  95.0017, 4981, 948.0000,    948.0,   5.4677,  34.6652,2,  34.6668,2,     86.6,2,     86.7,2,    89.10,2,    36.35,2,     0.00,2,     2.64,2, -999.000,5, -999.000,5, -999.000,5,   2292.5,2,   2363.6,2,   7.4904,2,    25.00,     41.8,2,  -999.00,9, -999.000,9, -999.000,-999.0000,9,-999.0000,  -999.00,9,  -999.00, -999.000,9, -999.000,   -999.0,9,   -999.0,  -999.00,9,-999.0000,9,-999.0000,9,-999.0000,9,-999.0000,9,-999.0000,9,-999.0000,9,-999.0000,9,-999.0000,9,-999.0000,9,   5.3855,   5.4688,2
  33RR20070322,  I09N,   111,  2,     18,     18,2,20070402,1703,-15.7172,  95.0017, 4981,1047.5000,   1047.5,   5.1522,  34.6707,2,  34.6699,2,     89.7,2,     90.2,2,    92.30,2,    36.35,2,     0.00,2,     2.66,2,    0.027,2,    0.015,2, -999.000,5,   2295.0,2,   2365.7,2,-999.0000,5,    25.00,     41.7,2,  -999.00,9, -999.000,9, -999.000,-999.0000,9,-999.0000,  -999.00,9,  -999.00, -999.000,9, -999.000,   -999.0,9,   -999.0,  -999.00,9,-999.0000,9,-999.0000,9,-999.0000,9,-999.0000,9,-999.0000,9,-999.0000,9,-999.0000,9,-999.0000,9,-999.0000,9,   5.0631,   5.1517,2
  33RR20070322,  I09N,   111,  2,     17,     17,2,20070402,1703,-15.7172,  95.0017, 4981,1147.2000,   1147.2,   4.8322,  34.6804,2,  34.6798,2,     94.9,2,     95.1,2,    94.31,2,    36.35,2,     0.00,2,     2.65,2,    0.017,2,    0.016,2,    0.000,3,   2295.6,2,   2368.2,2,   7.5017,2,    25.00,     41.4,2,  -999.00,9, -999.000,9, -999.000,-999.0000,9,-999.0000,  -999.00,9,  -999.00, -999.000,9, -999.000,   -999.0,9,   -999.0,  -999.00,9,-999.0000,9,-999.0000,9,-999.0000,9,-999.0000,9,-999.0000,9,-999.0000,9,-999.0000,9,-999.0000,9,-999.0000,9,   4.7365,   4.8278,2
  33RR20070322,  I09N,   111,  2,     16,     16,2,20070402,1703,-15.7172,  95.0017, 4981,1247.5000,   1247.5,   4.4554,  34.6778,2,  34.6770,2,     99.0,2,    100.0,2,    99.33,2,    36.40,2,     0.00,2,     2.66,2,    0.022,2,    0.010,2,    0.001,3,   2299.7,2,   2371.3,2,   7.5295,2,    25.00,     41.3,2,  -999.00,9, -999.000,9, -999.000,-999.0000,9,-999.0000,  -999.00,9,  -999.00, -999.000,9, -999.000,   -999.0,9,   -999.0,  -999.00,9,-999.0000,9,-999.0000,9,-999.0000,9,-999.0000,9,-999.0000,9,-999.0000,9,-999.0000,9,-999.0000,9,-999.0000,9,   4.3540,   4.4564,2
  33RR20070322,  I09N,   111,  2,     15,     15,2,20070402,1703,-15.7172,  95.0017, 4981,1347.8000,   1347.8,   4.1007,  34.6750,2,  34.6739,2,    104.8,2,    105.8,2,   102.15,2,    36.40,2,     0.00,2,     2.64,2,    0.016,2,    0.020,2,    0.001,3,   2301.7,2,   2373.0,2,   7.5129,2,    25.00,     41.0,2,  -999.00,9, -999.000,9, -999.000,-999.0000,9,-999.0000,  -999.00,9,  -999.00, -999.000,9, -999.000,   -999.0,9,   -999.0,  -999.00,9,-999.0000,9,-999.0000,9,-999.0000,9,-999.0000,9,-999.0000,9,-999.0000,9,-999.0000,9,-999.0000,9,-999.0000,9,   3.9938,   4.0984,2
  33RR20070322,  I09N,   111,  2,     14,     14,2,20070402,1703,-15.7172,  95.0017, 4981,1450.2000,   1450.2,   3.8165,  34.6839,2,  34.6833,2,    111.2,2,    110.9,2,   103.97,2,    36.29,2,     0.00,2,     2.62,2, -999.000,5, -999.000,5, -999.000,5,   2302.1,2,   2377.1,2,   7.5390,2,    25.00,     40.9,2,  -999.00,9, -999.000,9, -999.000,-999.0000,9,-999.0000,  -999.00,9,  -999.00, -999.000,9, -999.000,   -999.0,9,   -999.0,  -999.00,9,-999.0000,9,-999.0000,9,-999.0000,9,-999.0000,9,-999.0000,9,-999.0000,9,-999.0000,9,-999.0000,9,-999.0000,9,   3.7035,   3.8181,2
  33RR20070322,  I09N,   111,  2,     13,     13,2,20070402,1703,-15.7172,  95.0017, 4981,1548.2000,   1548.2,   3.5144,  34.6935,2,  34.6922,2,    119.2,2,    120.0,2,   103.97,2,    35.98,2,     0.00,2,     2.59,2,    0.017,2,    0.014,2,    0.001,3,   2299.2,2,   2376.8,2,   7.5388,2,    25.00,     40.5,2,  -999.00,9, -999.000,9, -999.000,-999.0000,9,-999.0000,  -999.00,9,  -999.00, -999.000,9, -999.000,   -999.0,9,   -999.0,  -999.00,9,-999.0000,9,-999.0000,9,-999.0000,9,-999.0000,9,-999.0000,9,-999.0000,9,-999.0000,9,-999.0000,9,-999.0000,9,   3.3961,   3.5132,2
  33RR20070322,  I09N,   111,  2,     12,     12,2,20070402,1703,-15.7172,  95.0017, 4981,1752.2000,   1752.2,   2.9307,  34.7142,2,  34.7148,2,    131.7,2,    133.7,2,   109.41,2,    35.35,2,     0.00,2,     2.53,2,    0.051,3,    0.008,2,    0.001,3,   2299.1,2,   2381.4,2,   7.5346,2,    25.00,     40.8,2,  -999.00,9, -999.000,9, -999.000,-999.0000,9,-999.0000,  -999.00,9,  -999.00, -999.000,9, -999.000,   -999.0,9,   -999.0,  -999.00,9,-999.0000,9,-999.0000,9,-999.0000,9,-999.0000,9,-999.0000,9,-999.0000,9,-999.0000,9,-999.0000,9,-999.0000,9,   2.8019,   2.9299,2
  33RR20070322,  I09N,   111,  2,     11,     11,2,20070402,1703,-15.7172,  95.0017, 4981,1951.8000,   1951.8,   2.5507,  34.7258,2,  34.7249,2,    143.3,2,    144.3,2,   113.85,2,    34.77,2,     0.00,2,     2.49,2,    0.009,2,    0.010,2,    0.000,3,   2298.3,2,   2385.7,2,   7.5521,2,    25.00,     40.1,2,  -999.00,9, -999.000,9, -999.000,-999.0000,9,-999.0000,  -999.00,9,  -999.00, -999.000,9, -999.000,   -999.0,9,   -999.0,  -999.00,9,-999.0000,9,-999.0000,9,-999.0000,9,-999.0000,9,-999.0000,9,-999.0000,9,-999.0000,9,-999.0000,9,-999.0000,9,   2.4098,   2.5499,2
  33RR20070322,  I09N,   111,  2,     10,     10,2,20070402,1703,-15.7172,  95.0017, 4981,2113.8000,   2113.8,   2.3261,  34.7286,2,  34.7274,2,    148.2,2,    149.0,2,   117.09,2,    34.66,2,     0.00,2,     2.47,2,    0.037,2,    0.016,2,   -0.001,3,   2299.6,2,   2390.6,2,   7.5687,2,    25.00,     40.4,2,  -999.00,9, -999.000,9, -999.000,-999.0000,9,-999.0000,  -999.00,9,  -999.00, -999.000,9, -999.000,   -999.0,9,   -999.0,  -999.00,9,-999.0000,9,-999.0000,9,-999.0000,9,-999.0000,9,-999.0000,9,-999.0000,9,-999.0000,9,-999.0000,9,-999.0000,9,   2.1745,   2.3260,2
  33RR20070322,  I09N,   111,  2,      9,      9,2,20070402,1703,-15.7172,  95.0017, 4981,2366.1000,   2366.1,   2.0655,  34.7298,2,  34.7292,2,    155.9,2,    156.3,2,   121.14,2,    34.46,2,     0.00,2,     2.45,2,    0.020,2,    0.026,2,    0.001,3,   2300.3,2,   2393.3,2,   7.5867,2,    25.00,     40.3,2,  -999.00,9, -999.000,9, -999.000,-999.0000,9,-999.0000,  -999.00,9,  -999.00, -999.000,9, -999.000,   -999.0,9,   -999.0,  -999.00,9,-999.0000,9,-999.0000,9,-999.0000,9,-999.0000,9,-999.0000,9,-999.0000,9,-999.0000,9,-999.0000,9,-999.0000,9,   1.8958,   2.0655,2
  33RR20070322,  I09N,   111,  2,      8,      8,2,20070402,1703,-15.7172,  95.0017, 4981,2618.4000,   2618.4,   1.8666,  34.7293,2,  34.7286,2,    163.7,2,    163.4,2,   122.76,2,    34.09,2,     0.00,2,     2.42,2,    0.022,2,    0.020,2,    0.002,3,   2298.1,2,   2395.8,2,   7.6010,2,    25.00,     40.2,2,  -999.00,9, -999.000,9, -999.000,-999.0000,9,-999.0000,  -999.00,9,  -999.00, -999.000,9, -999.000,   -999.0,9,   -999.0,  -999.00,9,-999.0000,9,-999.0000,9,-999.0000,9,-999.0000,9,-999.0000,9,-999.0000,9,-999.0000,9,-999.0000,9,-999.0000,9,   1.6776,   1.8661,2
  33RR20070322,  I09N,   111,  2,      7,      7,2,20070402,1703,-15.7172,  95.0017, 4981,2872.3000,   2872.3,   1.7078,  34.7273,2,  34.7264,2,    168.4,2,    168.7,2,   124.78,2,    33.93,2,     0.00,2,     2.39,2,    0.007,2,    0.010,2,    0.002,3,   2297.6,2,   2398.9,2,-999.0000,5,    25.00,     40.6,2,  -999.00,9, -999.000,9, -999.000,-999.0000,9,-999.0000,  -999.00,9,  -999.00, -999.000,9, -999.000,   -999.0,9,   -999.0,  -999.00,9,-999.0000,9,-999.0000,9,-999.0000,9,-999.0000,9,-999.0000,9,-999.0000,9,-999.0000,9,-999.0000,9,-999.0000,9,   1.4984,   1.7073,2
  33RR20070322,  I09N,   111,  2,      6,      6,2,20070402,1703,-15.7172,  95.0017, 4981,3125.9000,   3125.9,   1.5725,  34.7248,2,  34.7243,2,    173.3,2,    172.7,2,   127.63,2,    33.83,2,     0.00,2,     2.38,2,    0.011,2,    0.017,3,    0.000,3,   2297.0,2,   2401.7,2,   7.5852,2,    25.00,     40.1,2,  -999.00,9, -999.000,9, -999.000,-999.0000,9,-999.0000,  -999.00,9,  -999.00, -999.000,9, -999.000,   -999.0,9,   -999.0,  -999.00,9,-999.0000,9,-999.0000,9,-999.0000,9,-999.0000,9,-999.0000,9,-999.0000,9,-999.0000,9,-999.0000,9,-999.0000,9,   1.3417,   1.5720,2
  33RR20070322,  I09N,   111,  2,      5,      5,2,20070402,1703,-15.7172,  95.0017, 4981,3532.6000,   3532.6,   1.4021,  34.7212,2,  34.7203,2,    179.9,2,    180.1,2,   128.84,2,    33.51,2,     0.00,2,     2.35,2,    0.009,2,    0.012,2,   -0.001,3,   2294.8,2,   2400.3,2,   7.5900,2,    25.00,     40.0,2,  -999.00,9, -999.000,9, -999.000,-999.0000,9,-999.0000,  -999.00,9,  -999.00, -999.000,9, -999.000,   -999.0,9,   -999.0,  -999.00,9,-999.0000,9,-999.0000,9,-999.0000,9,-999.0000,9,-999.0000,9,-999.0000,9,-999.0000,9,-999.0000,9,-999.0000,9,   1.1348,   1.4024,2