BOTTLE,20150630SIOCCHRJL
EXPOCODE,SECT_ID,STNNBR,CASTNO,SAMPNO,BTLNBR,BTLNBR_FLAG_W,DATE,TIME,LATITUDE,LONGITUDE,DEPTH,CTDRAW,CTDPRS,CTDTMP,CTDSAL,CTDSAL_FLAG_W,SALNTY,SALNTY_FLAG_W,CTDOXY,CTDOXY_FLAG_W,OXYGEN,OXYGEN_FLAG_W,SILCAT,SILCAT_FLAG_W,NITRAT,NITRAT_FLAG_W,NITRIT,NITRIT_FLAG_W,PHSPHT,PHSPHT_FLAG_W,CFC-11,CFC-11_FLAG_W,CFC-12,CFC-12_FLAG_W,CFC113,CFC113_FLAG_W,TCARBN,TCARBN_FLAG_W,ALKALI,ALKALI_FLAG_W,PH_SWS,PH_SWS_FLAG_W,PH_TMP,DOC,DOC_FLAG_W,TDN,TDN_FLAG_W,TRITUM,TRITUM_FLAG_W,TRITER,HELIUM,HELIUM_FLAG_W,HELIER,DELHE3,DELHE3_FLAG_W,DELHER,NEON,NEON_FLAG_W,NEONER,DELC14,DELC14_FLAG_W,C14ERR,DELC13,DELC13_FLAG_W,CDOM325,CDOM325_FLAG_W,CDOM340,CDOM340_FLAG_W,CDOM380,CDOM380_FLAG_W,CDOM412,CDOM412_FLAG_W,CDOM443,CDOM443_FLAG_W,CDOM490,CDOM490_FLAG_W,CDOM555,CDOM555_FLAG_W,CDOMSL,CDOMSL_FLAG_W,CDOMSN,CDOMSN_FLAG_W,THETA,SBE35,SBE35_FLAG_W
,,,,,,,,,,,METERS,,DBAR,ITS-90,PSS-78,,PSS-78,,UMOL/KG,,UMOL/KG,,UMOL/KG,,UMOL/KG,,UMOL/KG,,UMOL/KG,,PMOL/KG,,PMOL/KG,,PMOL/KG,,UMOL/KG,,UMOL/KG,,,,DEG C,UMOL/KG,,UMOL/KG,,TU,,TU,NMOL/KG,,NMOL/KG,PERCNT,,PERCNT,NMOL/KG,,NMOL/KG,/MILLE,,/MILLE,/MILLE,,1/M,,1/M,,1/M,,1/M,,1/M,,1/M,,1/M,,1/NM,,1/NM,,DEG C,ITS-90,
  33RR20070322,  I09N,   135,  3,     36,     38,2,20070410,0804, -3.1298,  94.4252, 4791,   2.0000,      2.0,  29.4547,  34.1053,2,  34.1079,2,    196.4,2,    196.5,2,     2.03,2,     0.00,2,     0.00,2,     0.09,2,    1.515,2,    0.976,2, -999.000,5,   1913.3,6,   2234.5,6,   8.0910,6,    25.00,     70.4,2,     5.55,2, -999.000,9, -999.000,-999.0000,9,-999.0000,  -999.00,9,  -999.00, -999.000,9, -999.000,   -999.0,9,   -999.0,  -999.00,9,   0.0669,2,   0.0439,2,   0.0199,2,   0.0145,2,  -0.0020,4,  -0.0029,4,  -0.0030,4,   0.0158,3,   0.0202,3,  29.4542,  29.4887,2
  33RR20070322,  I09N,   135,  3,     35,     35,2,20070410,0804, -3.1298,  94.4252, 4791,  40.9000,     40.9,  28.8641,  34.1387,2,  34.1391,2,    197.9,2,    197.4,2,     2.18,2,     0.01,2,     0.00,2,     0.09,2,    1.521,2,    0.983,2, -999.000,5,   1917.2,2,   2233.9,2,   8.0860,2,    25.00,     69.6,2,     4.77,2, -999.000,9, -999.000,-999.0000,9,-999.0000,  -999.00,9,  -999.00, -999.000,9, -999.000,     47.4,2,      3.5,     0.80,2,   0.0841,2,   0.0570,2,   0.0272,2,   0.0195,2,   0.0007,3,  -0.0020,4,  -0.0027,4,   0.0150,3,   0.0182,3,  28.8543,  28.8565,2
  33RR20070322,  I09N,   135,  3,     34,   9419,2,20070410,0804, -3.1298,  94.4252, 4791,  75.4000,     75.4,  26.5634,  35.1561,2,  35.1519,2,    174.9,2,    172.3,2,     4.25,2,     0.82,2,     0.08,2,     0.35,2,    1.612,2,    1.023,2, -999.000,5,   2020.8,2,   2301.8,2,   8.0190,2,    25.00,     66.7,2,     6.26,2, -999.000,9, -999.000,-999.0000,9,-999.0000,  -999.00,9,  -999.00, -999.000,9, -999.000,   -999.0,9,   -999.0,  -999.00,9,   0.2112,2,   0.1507,2,   0.0757,2,   0.0536,2,   0.0183,2,   0.0055,2,   0.0010,2,   0.0155,3,   0.0167,3,  26.5463,  26.5768,2
  33RR20070322,  I09N,   135,  3,     33,     33,2,20070410,0804, -3.1298,  94.4252, 4791,  95.3000,     95.3,  23.9511,  35.3192,2,  35.3292,2,    128.2,2,    130.4,2,     6.69,2,     7.70,2,     1.28,2,     0.77,2,    1.655,2,    1.042,2, -999.000,5,   2075.0,2,   2308.3,2,   7.8993,2,    25.00,     60.7,2,    13.57,2, -999.000,9, -999.000,-999.0000,9,-999.0000,  -999.00,9,  -999.00, -999.000,9, -999.000,     47.3,2,      5.3,     0.66,2,   0.2073,2,   0.1539,2,   0.0817,2,   0.0601,2,   0.0215,2,   0.0064,2,   0.0015,2,   0.0153,2,   0.0153,2,  23.9310,  23.8147,2
  33RR20070322,  I09N,   135,  3,     32,     37,2,20070410,0804, -3.1298,  94.4252, 4791, 124.9000,    124.9,  19.8604,  35.1710,2,  35.1799,2,     82.0,2,     72.4,2,    14.50,2,    19.25,2,     0.03,2,     1.36,2,    1.635,2,    0.984,2, -999.000,5,   2144.0,2,   2301.5,2,   7.7673,2,    25.00,     55.1,2,    23.98,2, -999.000,9, -999.000,-999.0000,9,-999.0000,  -999.00,9,  -999.00, -999.000,9, -999.000,   -999.0,9,   -999.0,  -999.00,9,   0.1804,2,   0.1312,2,   0.0729,2,   0.0571,2,   0.0203,2,   0.0054,2,   0.0010,2,   0.0147,3,   0.0145,3,  19.8374,  19.8307,2
  33RR20070322,  I09N,   135,  3,     31,     31,2,20070410,0804, -3.1298,  94.4252, 4791, 145.4000,    145.4,  16.6902,  34.9820,2,  34.9843,2,     53.4,2,     50.0,2,    21.74,2,    24.58,2,     0.01,2,     1.72,2,    1.408,2,    0.833,2, -999.000,5,   2180.3,2,   2297.3,2,   7.6561,2,    25.00,     51.4,2,    28.32,2, -999.000,9, -999.000,-999.0000,9,-999.0000,  -999.00,9,  -999.00, -999.000,9, -999.000,     22.8,2,      4.2,     0.03,2,   0.1722,2,   0.1257,2,   0.0711,2,   0.0555,2,   0.0205,2,   0.0055,2,   0.0009,2,   0.0144,3,   0.0141,3,  16.6665,  16.7079,2
  33RR20070322,  I09N,   135,  3,     30,     30,2,20070410,0804, -3.1298,  94.4252, 4791, 175.3000,    175.3,  14.9982,  35.0894,2,  35.0957,2,     55.5,2,     59.5,2,    21.51,2,    24.84,2,     0.01,2,     1.75,2,    1.446,2,    0.815,2, -999.000,5,   2193.0,2,   2306.4,2,   7.6218,2,    25.00,     49.8,2,    27.93,2, -999.000,9, -999.000,-999.0000,9,-999.0000,  -999.00,9,  -999.00, -999.000,9, -999.000,     18.8,2,      3.4,     0.08,2,   0.1632,2,   0.1193,2,   0.0693,2,   0.0546,2,   0.0202,2,   0.0047,2,   0.0003,4,   0.0143,3,   0.0137,3,  14.9716,  15.0011,2
  33RR20070322,  I09N,   135,  3,     29,     29,2,20070410,0804, -3.1298,  94.4252, 4791, 226.2000,    226.2,  13.1589,  35.0793,2,  35.0796,2,     68.6,2,     72.9,2,    22.23,2,    25.11,2,     0.01,2,     1.76,2,    1.367,2,    0.754,2, -999.000,5,   2199.9,2,   2309.0,2,   7.6275,2,    25.00,     48.9,2,    28.92,2, -999.000,9, -999.000,-999.0000,9,-999.0000,  -999.00,9,  -999.00, -999.000,9, -999.000,     23.3,2,      3.0,     0.29,2,   0.1529,2,   0.1121,2,   0.0659,2,   0.0521,2,   0.0193,2,   0.0039,3,  -0.0004,4,   0.0141,3,   0.0134,3,  13.1275,  13.1616,2
  33RR20070322,  I09N,   135,  3,     28,     28,2,20070410,0804, -3.1298,  94.4252, 4791, 275.7000,    275.7,  12.0720,  35.0432,2,  35.0450,2,     81.3,2,     83.6,2,    22.77,2,    25.63,2,     0.00,2,     1.78,2,    1.295,2,    0.701,2, -999.000,5,   2202.6,2,   2309.1,2,   7.6185,2,    25.00,     48.2,2,    28.99,2, -999.000,9, -999.000,-999.0000,9,-999.0000,  -999.00,9,  -999.00, -999.000,9, -999.000,     14.4,2,      2.9,     0.40,2,   0.1500,2,   0.1105,2,   0.0661,2,   0.0528,2,   0.0207,2,   0.0048,2,  -0.0001,4,   0.0137,3,   0.0130,3,  12.0358,  12.0746,2
  33RR20070322,  I09N,   135,  3,     27,     27,2,20070410,0804, -3.1298,  94.4252, 4791, 325.0000,    325.0,  11.3834,  35.0079,2,  35.0085,2,     72.3,2,     81.7,2,    24.64,2,    26.93,2,     0.00,2,     1.85,2,    1.085,2,    0.586,2, -999.000,5,   2209.0,2,   2310.2,2,   7.5934,2,    25.00,     47.0,2,    30.88,2, -999.000,9, -999.000,-999.0000,9,-999.0000,  -999.00,9,  -999.00, -999.000,9, -999.000,     -1.9,2,      3.1,     0.36,2,   0.1505,2,   0.1110,2,   0.0665,2,   0.0528,2,   0.0207,2,   0.0046,3,  -0.0004,4,   0.0138,3,   0.0130,3,  11.3422,  11.3835,2
  33RR20070322,  I09N,   135,  3,     26,     26,2,20070410,0804, -3.1298,  94.4252, 4791, 375.1000,    375.1,  10.7952,  34.9696,2,  34.9709,2,     79.2,2,     74.4,2,    28.05,2,    28.87,2,     0.00,2,     1.97,2,    0.812,2,    0.441,2, -999.000,5,   2218.8,2,   2310.0,2,   7.5746,2,    25.00,     46.4,2,    32.37,2, -999.000,9, -999.000,-999.0000,9,-999.0000,  -999.00,9,  -999.00, -999.000,9, -999.000,    -21.4,2,      2.8,     0.37,2,   0.1532,2,   0.1126,2,   0.0674,2,   0.0533,2,   0.0218,2,   0.0054,2,  -0.0001,4,   0.0136,3,   0.0130,3,  10.7491,  10.7942,2
  33RR20070322,  I09N,   135,  3,     25,     25,2,20070410,0804, -3.1298,  94.4252, 4791, 424.5000,    424.5,  10.3847,  34.9629,2,  34.9654,2,     72.6,2,     68.6,2,    31.07,2,    30.24,2,     0.00,2,     2.09,2,    0.614,2,    0.341,2, -999.000,5,   2226.6,2,   2312.3,2,   7.5612,2,    25.00,     45.2,2,    33.85,2, -999.000,9, -999.000,-999.0000,9,-999.0000,  -999.00,9,  -999.00, -999.000,9, -999.000,    -28.7,2,      3.6,     0.39,2,   0.1560,3,   0.1148,3,   0.0689,3,   0.0545,3,   0.0225,3,   0.0057,3,   0.0000,4,   0.0137,4,   0.0129,4,  10.3337,  10.3820,2
  33RR20070322,  I09N,   135,  3,     24,     24,2,20070410,0804, -3.1298,  94.4252, 4791, 475.7000,    475.7,   9.9917,  34.9537,2,  34.9548,2,     69.9,2,     69.4,2,    33.92,2,    30.91,2,     0.00,2,     2.16,2,    0.519,2,    0.278,2, -999.000,5,   2230.7,2,   2314.8,2,   7.5486,2,    25.00,     44.9,2,    34.58,2, -999.000,9, -999.000,-999.0000,9,-999.0000,  -999.00,9,  -999.00, -999.000,9, -999.000,   -999.0,9,   -999.0,  -999.00,9,   0.1561,2,   0.1148,2,   0.0689,2,   0.0547,2,   0.0231,2,   0.0066,2,   0.0005,4,   0.0134,3,   0.0128,3,   9.9358,   9.9997,2
  33RR20070322,  I09N,   135,  3,     23,     23,2,20070410,0804, -3.1298,  94.4252, 4791, 526.1000,    526.1,   9.6452,  34.9453,2,  34.9479,2,     69.7,2,     67.2,2,    37.91,2,    31.70,2,     0.00,2,     2.25,2,    0.419,2,    0.227,2, -999.000,5,   2237.4,2,   2318.1,2,   7.5383,2,    25.00,     43.9,2,    34.03,2, -999.000,9, -999.000,-999.0000,9,-999.0000,  -999.00,9,  -999.00, -999.000,9, -999.000,    -56.0,2,      2.6,     0.38,2,   0.1570,2,   0.1153,2,   0.0690,2,   0.0545,2,   0.0231,2,   0.0066,2,   0.0006,4,   0.0134,3,   0.0129,3,   9.5845,   9.6526,2
  33RR20070322,  I09N,   135,  3,     22,     22,2,20070410,0804, -3.1298,  94.4252, 4791, 645.0000,    645.0,   8.7239,  34.9148,2,  34.9147,2,     58.4,2,     56.5,2,    50.36,2,    34.12,2,     0.00,2,     2.48,2,    0.129,2,    0.076,2, -999.000,5,   2260.3,2,   2329.3,6,   7.5178,6,    25.00,     43.0,2,    36.95,2, -999.000,9, -999.000,-999.0000,9,-999.0000,  -999.00,9,  -999.00, -999.000,9, -999.000,    -94.8,2,      2.6,     0.21,2,   0.1678,2,   0.1236,2,   0.0744,2,   0.0582,2,   0.0256,2,   0.0078,2,   0.0010,2,   0.0136,3,   0.0129,3,   8.6534,   8.7329,2
  33RR20070322,  I09N,   135,  3,     21,     21,2,20070410,0804, -3.1298,  94.4252, 4791, 744.5000,    744.5,   8.0939,  34.9115,2,  34.9118,2,     53.3,2,     52.0,2,    60.91,2,    35.38,2,     0.00,2,     2.60,2,    0.069,2,    0.039,2, -999.000,5,   2277.3,2,   2340.2,2,   7.4967,2,    25.00,     42.4,2,    37.91,2, -999.000,9, -999.000,-999.0000,9,-999.0000,  -999.00,9,  -999.00, -999.000,9, -999.000,   -119.9,2,      2.5,     0.20,2,   0.1705,2,   0.1251,2,   0.0751,2,   0.0582,2,   0.0254,2,   0.0073,2,   0.0006,4,   0.0137,3,   0.0131,3,   8.0155,   8.0947,2
  33RR20070322,  I09N,   135,  3,     20,     20,2,20070410,0804, -3.1298,  94.4252, 4791, 845.9000,    845.9,   7.5681,  34.9206,2,  34.9167,2,     50.5,2,     49.8,2,    69.94,2,    36.28,2,     0.00,2,     2.68,2,    0.037,2,    0.021,2, -999.000,5,   2287.4,2,   2349.7,2,   7.4916,2,    25.00,     42.2,2,    39.09,2, -999.000,9, -999.000,-999.0000,9,-999.0000,  -999.00,9,  -999.00, -999.000,9, -999.000,   -129.3,2,      3.3,     0.18,2,   0.1769,2,   0.1306,2,   0.0783,2,   0.0606,2,   0.0270,2,   0.0080,2,   0.0010,2,   0.0138,3,   0.0131,3,   7.4817,   7.5683,2
  33RR20070322,  I09N,   135,  3,     19,     19,2,20070410,0804, -3.1298,  94.4252, 4791, 946.9000,    946.9,   6.9328,  34.8824,2,  34.8829,2,     54.8,2,     54.4,2,    77.64,2,    36.64,2,     0.00,2,     2.71,2,    0.023,2,    0.013,2, -999.000,5,   2294.7,2,   2356.9,2,   7.4882,2,    25.00,     41.5,2,    39.09,2, -999.000,9, -999.000,-999.0000,9,-999.0000,  -999.00,9,  -999.00, -999.000,9, -999.000,   -145.4,2,      2.4,     0.16,2,   0.1799,2,   0.1329,2,   0.0796,2,   0.0610,2,   0.0274,2,   0.0081,2,   0.0010,2,   0.0139,3,   0.0131,3,   6.8400,   6.9364,2
  33RR20070322,  I09N,   135,  3,     18,     18,2,20070410,0804, -3.1298,  94.4252, 4791,1045.9000,   1045.9,   6.2311,  34.8587,2,  34.8584,2,     60.6,2,     60.3,2,    85.74,2,    37.01,2,     0.00,2,     2.74,2, -999.000,9, -999.000,9, -999.000,9,   2301.9,6,   2365.8,2,   7.4861,2,    25.00,     41.7,2,    38.81,2, -999.000,9, -999.000,-999.0000,9,-999.0000,  -999.00,9,  -999.00, -999.000,9, -999.000,   -159.1,2,      3.0,     0.14,2,   0.1851,2,   0.1371,2,   0.0826,2,   0.0636,2,   0.0297,2,   0.0098,2,   0.0020,2,   0.0136,3,   0.0129,3,   6.1333,   6.2332,2
  33RR20070322,  I09N,   135,  3,     17,     17,2,20070410,0804, -3.1298,  94.4252, 4791,1146.5000,   1146.5,   5.7292,  34.8508,2,  34.8511,2,     65.2,2,     66.1,2,    91.91,2,    37.22,2,     0.00,2,     2.75,2,    0.007,2,    0.004,2, -999.000,5,   2308.2,2,   2371.3,2,   7.4890,2,    25.00,     41.0,2,    38.31,2, -999.000,9, -999.000,-999.0000,9,-999.0000,  -999.00,9,  -999.00, -999.000,9, -999.000,   -167.7,2,      2.6,     0.15,2,   0.1866,2,   0.1384,2,   0.0836,2,   0.0643,2,   0.0305,2,   0.0105,2,   0.0025,2,   0.0135,3,   0.0128,3,   5.6256,   5.7299,2
  33RR20070322,  I09N,   135,  3,     16,     16,2,20070410,0804, -3.1298,  94.4252, 4791,1246.7000,   1246.7,   5.1729,  34.8245,2,  34.8252,2,     73.3,2,     74.7,2,    97.91,2,    37.17,2,     0.00,2,     2.74,2, -999.000,9, -999.000,9, -999.000,9,   2309.9,2,   2375.7,2,   7.4949,2,    25.00,     40.8,2,    38.21,2, -999.000,9, -999.000,-999.0000,9,-999.0000,  -999.00,9,  -999.00, -999.000,9, -999.000,   -170.4,2,      2.6,     0.15,2,   0.1844,2,   0.1360,2,   0.0816,2,   0.0627,2,   0.0293,2,   0.0097,2,   0.0019,2,   0.0136,3,   0.0130,3,   5.0646,   5.1737,2
  33RR20070322,  I09N,   135,  3,     15,     15,2,20070410,0804, -3.1298,  94.4252, 4791,1348.8000,   1348.8,   4.8654,  34.8313,2,  34.8323,2,     78.3,2,     79.5,2,   100.59,2,    37.05,2,     0.00,2,     2.73,2,    0.004,2,    0.002,2, -999.000,5,   2313.4,2,   2380.4,2,   7.4958,2,    25.00,     40.7,2,    39.02,2, -999.000,9, -999.000,-999.0000,9,-999.0000,  -999.00,9,  -999.00, -999.000,9, -999.000,   -168.2,2,      2.3,     0.17,2,   0.1833,2,   0.1349,2,   0.0807,2,   0.0613,2,   0.0282,2,   0.0091,2,   0.0017,2,   0.0137,3,   0.0132,3,   4.7503,   4.8651,2
  33RR20070322,  I09N,   135,  3,     14,     14,2,20070410,0804, -3.1298,  94.4252, 4791,1448.9000,   1448.9,   4.5065,  34.8108,2,  34.8114,2,     85.4,2,     87.0,2,   103.48,2,    36.90,2,     0.00,2,     2.72,2, -999.000,9, -999.000,9, -999.000,9,   2312.2,2,   2383.7,2,   7.5069,2,    25.00,     40.6,2,    37.99,2, -999.000,9, -999.000,-999.0000,9,-999.0000,  -999.00,9,  -999.00, -999.000,9, -999.000,   -169.5,2,      2.4,     0.16,2,   0.1804,2,   0.1327,2,   0.0789,2,   0.0599,2,   0.0274,2,   0.0090,2,   0.0017,2,   0.0137,3,   0.0132,3,   4.3858,   4.5086,2
  33RR20070322,  I09N,   135,  3,     13,     13,2,20070410,0804, -3.1298,  94.4252, 4791,1549.4000,   1549.4,   4.0583,  34.8066,2,  34.8069,2,     94.6,2,     96.8,2,   108.12,2,    36.58,2,     0.00,2,     2.69,2,    0.003,2,    0.001,2, -999.000,5,   2314.6,2,   2389.1,2,   7.5158,2,    25.00,     40.7,2,    37.71,2, -999.000,9, -999.000,-999.0000,9,-999.0000,  -999.00,9,  -999.00, -999.000,9, -999.000,   -181.2,2,      2.6,     0.19,2,   0.1777,2,   0.1303,2,   0.0769,2,   0.0580,2,   0.0260,2,   0.0083,2,   0.0014,2,   0.0137,3,   0.0134,3,   3.9333,   4.0596,2
  33RR20070322,  I09N,   135,  3,     12,     12,2,20070410,0804, -3.1298,  94.4252, 4791,1649.5000,   1649.5,   3.6377,  34.7989,2,  34.7997,2,    104.3,2,    106.2,2,   111.61,2,    36.31,2,     0.00,2,     2.66,2, -999.000,9, -999.000,9, -999.000,9,   2315.6,2,   2391.0,2,   7.5314,2,    25.00,     40.6,2,    38.06,2, -999.000,9, -999.000,-999.0000,9,-999.0000,  -999.00,9,  -999.00, -999.000,9, -999.000,   -179.0,2,      2.5,     0.22,2,   0.1755,2,   0.1282,2,   0.0759,2,   0.0575,2,   0.0257,2,   0.0082,2,   0.0014,3,   0.0135,4,   0.0133,4,   3.5086,   3.6399,2
  33RR20070322,  I09N,   135,  3,     11,     11,2,20070410,0804, -3.1298,  94.4252, 4791,1750.3000,   1750.3,   3.2487,  34.7836,2,  34.7847,2,    112.7,2,    115.5,2,   115.29,2,    35.94,2,     0.00,2,     2.62,2,    0.002,2,    0.001,2, -999.000,5,   2315.7,2,   2394.8,2,   7.5358,2,    25.00,     40.8,2,    37.06,2, -999.000,9, -999.000,-999.0000,9,-999.0000,  -999.00,9,  -999.00, -999.000,9, -999.000,   -188.5,2,      3.2,     0.24,2,   0.1739,2,   0.1270,2,   0.0749,2,   0.0567,2,   0.0252,2,   0.0082,2,   0.0015,2,   0.0136,3,   0.0134,3,   3.1156,   3.2489,2
  33RR20070322,  I09N,   135,  3,     10,     10,2,20070410,0804, -3.1298,  94.4252, 4791,1953.0000,   1953.0,   2.7652,  34.7695,2,  34.7702,2,    126.9,2,    127.9,2,   120.94,2,    35.62,2,     0.00,2,     2.58,2, -999.000,9, -999.000,9, -999.000,9,   2315.7,2,   2400.6,2,   7.5495,2,    25.00,     40.6,2,    36.75,2, -999.000,9, -999.000,-999.0000,9,-999.0000,  -999.00,9,  -999.00, -999.000,9, -999.000,   -192.0,2,      2.4,     0.28,2,   0.1681,2,   0.1221,2,   0.0715,2,   0.0537,2,   0.0231,2,   0.0072,2,   0.0010,2,   0.0137,3,   0.0136,3,   2.6209,   2.7606,2
  33RR20070322,  I09N,   135,  3,      9,      9,2,20070410,0804, -3.1298,  94.4252, 4791,2112.6000,   2112.6,   2.4392,  34.7614,2,  34.7618,2,    135.9,2,    136.6,2,   125.03,2,    35.25,2,     0.00,2,     2.54,2,    0.002,2,    0.001,2, -999.000,5,   2315.9,2,   2403.9,2,   7.5623,2,    25.00,     40.0,2,    36.89,2, -999.000,9, -999.000,-999.0000,9,-999.0000,  -999.00,9,  -999.00, -999.000,9, -999.000,   -203.1,2,      2.5,     0.30,2,   0.1692,2,   0.1231,2,   0.0719,2,   0.0538,2,   0.0232,2,   0.0077,2,   0.0014,2,   0.0136,3,   0.0136,3,   2.2857,   2.4391,2
  33RR20070322,  I09N,   135,  3,      8,      8,2,20070410,0804, -3.1298,  94.4252, 4791,2365.5000,   2365.5,   2.1337,  34.7482,2,  34.7484,2,    146.2,2,    146.4,2,   127.16,2,    34.93,2,     0.00,2,     2.49,2, -999.000,9, -999.000,9, -999.000,9,   2312.6,2,   2405.5,2,   7.5743,2,    25.00,     40.4,2,    36.85,2, -999.000,9, -999.000,-999.0000,9,-999.0000,  -999.00,9,  -999.00, -999.000,9, -999.000,   -198.4,2,      2.5,     0.34,2,   0.1643,2,   0.1192,2,   0.0696,2,   0.0524,2,   0.0224,2,   0.0073,2,   0.0013,2,   0.0135,3,   0.0135,3,   1.9628,   2.1337,2
  33RR20070322,  I09N,   135,  3,      7,      7,2,20070410,0804, -3.1298,  94.4252, 4791,2617.9000,   2617.9,   1.9148,  34.7406,2,  34.7408,2,    153.9,2,    153.8,2,   128.69,2,    34.51,2,     0.00,2,     2.46,2,    0.005,2,    0.001,2, -999.000,5,   2311.6,2,   2409.8,2,   7.5827,2,    25.00,     40.4,2,    36.16,2, -999.000,9, -999.000,-999.0000,9,-999.0000,  -999.00,9,  -999.00, -999.000,9, -999.000,   -188.4,2,      2.5,     0.30,2,   0.1604,3,   0.1157,3,   0.0667,3,   0.0495,3,   0.0204,3,   0.0066,3,   0.0010,3,   0.0136,4,   0.0139,4,   1.7249,   1.9144,2
  33RR20070322,  I09N,   135,  3,      6,      6,2,20070410,0804, -3.1298,  94.4252, 4791,2871.7000,   2871.7,   1.7661,  34.7353,2,  34.7359,2,    159.3,2,    158.6,2,   131.22,2,    34.45,2,     0.00,2,     2.43,2, -999.000,9, -999.000,9, -999.000,9,   2310.5,2,   2412.1,2,   7.6225,2,    25.00,     40.3,2,    35.46,2, -999.000,9, -999.000,-999.0000,9,-999.0000,  -999.00,9,  -999.00, -999.000,9, -999.000,   -191.2,2,      2.7,     0.32,2,   0.1586,2,   0.1140,2,   0.0658,2,   0.0484,2,   0.0197,2,   0.0057,2,   0.0005,4,   0.0138,3,   0.0140,3,   1.5554,   1.7664,2
  33RR20070322,  I09N,   135,  3,      5,      5,2,20070410,0804, -3.1298,  94.4252, 4791,3125.1000,   3125.1,   1.6360,  34.7303,2,  34.7308,2,    164.7,2,    163.2,2,   132.37,2,    34.29,2,     0.00,2,     2.41,2,    0.003,2,    0.001,2, -999.000,5,   2310.6,2,   2411.7,2,   7.5885,2,    25.00,     40.0,2,    35.65,2, -999.000,9, -999.000,-999.0000,9,-999.0000,  -999.00,9,  -999.00, -999.000,9, -999.000,   -188.6,2,      2.5,     0.32,2,   0.1547,2,   0.1108,2,   0.0634,2,   0.0466,2,   0.0184,2,   0.0053,2,   0.0004,4,   0.0138,2,   0.0141,3,   1.4038,   1.6367,2