BOTTLE,20150630SIOCCHRJL
EXPOCODE,SECT_ID,STNNBR,CASTNO,SAMPNO,BTLNBR,BTLNBR_FLAG_W,DATE,TIME,LATITUDE,LONGITUDE,DEPTH,CTDRAW,CTDPRS,CTDTMP,CTDSAL,CTDSAL_FLAG_W,SALNTY,SALNTY_FLAG_W,CTDOXY,CTDOXY_FLAG_W,OXYGEN,OXYGEN_FLAG_W,SILCAT,SILCAT_FLAG_W,NITRAT,NITRAT_FLAG_W,NITRIT,NITRIT_FLAG_W,PHSPHT,PHSPHT_FLAG_W,CFC-11,CFC-11_FLAG_W,CFC-12,CFC-12_FLAG_W,CFC113,CFC113_FLAG_W,TCARBN,TCARBN_FLAG_W,ALKALI,ALKALI_FLAG_W,PH_SWS,PH_SWS_FLAG_W,PH_TMP,DOC,DOC_FLAG_W,TDN,TDN_FLAG_W,TRITUM,TRITUM_FLAG_W,TRITER,HELIUM,HELIUM_FLAG_W,HELIER,DELHE3,DELHE3_FLAG_W,DELHER,NEON,NEON_FLAG_W,NEONER,DELC14,DELC14_FLAG_W,C14ERR,DELC13,DELC13_FLAG_W,CDOM325,CDOM325_FLAG_W,CDOM340,CDOM340_FLAG_W,CDOM380,CDOM380_FLAG_W,CDOM412,CDOM412_FLAG_W,CDOM443,CDOM443_FLAG_W,CDOM490,CDOM490_FLAG_W,CDOM555,CDOM555_FLAG_W,CDOMSL,CDOMSL_FLAG_W,CDOMSN,CDOMSN_FLAG_W,THETA,SBE35,SBE35_FLAG_W
,,,,,,,,,,,METERS,,DBAR,ITS-90,PSS-78,,PSS-78,,UMOL/KG,,UMOL/KG,,UMOL/KG,,UMOL/KG,,UMOL/KG,,UMOL/KG,,PMOL/KG,,PMOL/KG,,PMOL/KG,,UMOL/KG,,UMOL/KG,,,,DEG C,UMOL/KG,,UMOL/KG,,TU,,TU,NMOL/KG,,NMOL/KG,PERCNT,,PERCNT,NMOL/KG,,NMOL/KG,/MILLE,,/MILLE,/MILLE,,1/M,,1/M,,1/M,,1/M,,1/M,,1/M,,1/M,,1/NM,,1/NM,,DEG C,ITS-90,
  33RR20070322,  I09N,   155,  1,     36,     38,2,20070415,1216,  3.4308,  91.5398, 4116,   1.9000,      1.9,  30.2757,  34.0400,2,  34.0407,2,    194.7,2,    195.1,2,     1.41,2,     0.06,2,     0.00,2,     0.08,2,    1.484,2,    0.969,2, -999.000,5,   1900.6,6,   2230.8,6,   8.1503,3,    25.00,     71.5,2,  -999.00,9, -999.000,9, -999.000,-999.0000,9,-999.0000,  -999.00,9,  -999.00, -999.000,9, -999.000,   -999.0,9,   -999.0,  -999.00,9,-999.0000,9,-999.0000,9,-999.0000,9,-999.0000,9,-999.0000,9,-999.0000,9,-999.0000,9,-999.0000,9,-999.0000,9,  30.2752,  30.2685,2
  33RR20070322,  I09N,   155,  1,     35,     35,2,20070415,1216,  3.4308,  91.5398, 4116,  29.6000,     29.6,  29.7756,  34.1105,2,  34.1058,2,    198.1,2,    196.8,2,     1.40,2,     0.06,2,     0.00,2,     0.07,2,    1.487,2,    0.982,2, -999.000,5,   1903.7,2,   2233.8,2,   8.1030,2,    25.00,     71.1,2,  -999.00,9, -999.000,9, -999.000,-999.0000,9,-999.0000,  -999.00,9,  -999.00, -999.000,9, -999.000,     43.4,2,      3.0,     1.21,2,-999.0000,9,-999.0000,9,-999.0000,9,-999.0000,9,-999.0000,9,-999.0000,9,-999.0000,9,-999.0000,9,-999.0000,9,  29.7683,  29.7598,2
  33RR20070322,  I09N,   155,  1,     34,   9419,2,20070415,1216,  3.4308,  91.5398, 4116,  54.5000,     54.5,  27.9259,  34.5788,2,  34.5818,2,    191.5,2,    192.3,2,     1.78,2,     0.06,2,     0.00,2,     0.18,2,    1.566,2,    1.009,2, -999.000,5,   1958.5,2,   2261.5,2,   8.0694,2,    25.00,     70.1,2,  -999.00,9, -999.000,9, -999.000,-999.0000,9,-999.0000,  -999.00,9,  -999.00, -999.000,9, -999.000,   -999.0,9,   -999.0,  -999.00,9,-999.0000,9,-999.0000,9,-999.0000,9,-999.0000,9,-999.0000,9,-999.0000,9,-999.0000,9,-999.0000,9,-999.0000,9,  27.9131,  27.9674,2
  33RR20070322,  I09N,   155,  1,     33,     33,2,20070415,1216,  3.4308,  91.5398, 4116,  79.2000,     79.2,  26.9766,  34.8603,2,  34.8749,2,    171.3,2,    170.6,2,     3.13,2,     2.02,2,     0.07,2,     0.39,2,    1.546,2,    1.002,2, -999.000,5,   2004.0,2,   2285.0,2,   8.0131,2,    25.00,     64.9,2,  -999.00,9, -999.000,9, -999.000,-999.0000,9,-999.0000,  -999.00,9,  -999.00, -999.000,9, -999.000,     36.9,2,      3.0,     0.92,2,-999.0000,9,-999.0000,9,-999.0000,9,-999.0000,9,-999.0000,9,-999.0000,9,-999.0000,9,-999.0000,9,-999.0000,9,  26.9585,  26.9736,2
  33RR20070322,  I09N,   155,  1,     32,     37,2,20070415,1216,  3.4308,  91.5398, 4116, 104.2000,    104.2,  22.3473,  35.0996,2,  35.1150,2,     82.4,2,     81.7,2,    11.17,2,    16.19,2,     0.30,2,     1.21,2,    1.425,2,    0.899,2, -999.000,5,   2112.5,2,   2296.8,2,   7.8131,2,    25.00,     53.8,2,  -999.00,9, -999.000,9, -999.000,-999.0000,9,-999.0000,  -999.00,9,  -999.00, -999.000,9, -999.000,   -999.0,9,   -999.0,  -999.00,9,-999.0000,9,-999.0000,9,-999.0000,9,-999.0000,9,-999.0000,9,-999.0000,9,-999.0000,9,-999.0000,9,-999.0000,9,  22.3265,  22.3573,2
  33RR20070322,  I09N,   155,  1,     31,     31,2,20070415,1216,  3.4308,  91.5398, 4116, 154.1000,    154.1,  15.9362,  35.0538,2,  35.0561,2,     30.4,2,     28.8,2,    23.34,2,    27.44,2,     0.01,2,     1.96,2, -999.000,5, -999.000,5, -999.000,5,   2205.5,2,   2302.5,2,   7.5990,2,    25.00,     50.0,2,  -999.00,9, -999.000,9, -999.000,-999.0000,9,-999.0000,  -999.00,9,  -999.00, -999.000,9, -999.000,      6.1,2,      2.8,     0.02,2,-999.0000,9,-999.0000,9,-999.0000,9,-999.0000,9,-999.0000,9,-999.0000,9,-999.0000,9,-999.0000,9,-999.0000,9,  15.9119,  15.9428,2
  33RR20070322,  I09N,   155,  1,     30,     30,2,20070415,1216,  3.4308,  91.5398, 4116, 203.9000,    203.9,  13.6683,  35.0894,2,  35.0906,2,     40.5,2,     43.3,2,    24.51,2,    28.05,2,     0.00,2,     1.98,2,    1.087,2,    0.622,2, -999.000,5,   2218.5,2,   2308.2,2,   7.5924,2,    25.00,     48.2,2,  -999.00,9, -999.000,9, -999.000,-999.0000,9,-999.0000,  -999.00,9,  -999.00, -999.000,9, -999.000,      0.7,2,      2.9,     0.12,2,-999.0000,9,-999.0000,9,-999.0000,9,-999.0000,9,-999.0000,9,-999.0000,9,-999.0000,9,-999.0000,9,-999.0000,9,  13.6393,  13.6664,2
  33RR20070322,  I09N,   155,  1,     29,     29,2,20070415,1216,  3.4308,  91.5398, 4116, 254.4000,    254.4,  12.9046,  35.0949,2,  35.0963,2,     47.3,2,     51.4,2,    24.10,2,    27.85,2,     0.00,2,     1.96,2,    1.119,2,    0.620,2, -999.000,5,   2219.5,2,   2309.8,2,   7.5717,2,    25.00,     47.5,2,  -999.00,9, -999.000,9, -999.000,-999.0000,9,-999.0000,  -999.00,9,  -999.00, -999.000,9, -999.000,     -4.2,2,      3.1,     0.21,2,-999.0000,9,-999.0000,9,-999.0000,9,-999.0000,9,-999.0000,9,-999.0000,9,-999.0000,9,-999.0000,9,-999.0000,9,  12.8697,  12.9056,2
  33RR20070322,  I09N,   155,  1,     28,     28,2,20070415,1216,  3.4308,  91.5398, 4116, 304.0000,    304.0,  12.2682,  35.0929,2,  35.0929,2,     54.1,2,     54.4,2,    24.67,2,    28.35,2,     0.00,2,     1.98,2,    1.073,2,    0.591,2, -999.000,5,   2223.4,2,   2310.7,2,   7.5802,2,    25.00,     46.4,2,  -999.00,9, -999.000,9, -999.000,-999.0000,9,-999.0000,  -999.00,9,  -999.00, -999.000,9, -999.000,     -3.6,2,      3.1,     0.25,2,-999.0000,9,-999.0000,9,-999.0000,9,-999.0000,9,-999.0000,9,-999.0000,9,-999.0000,9,-999.0000,9,-999.0000,9,  12.2277,  12.2712,2
  33RR20070322,  I09N,   155,  1,     27,     27,2,20070415,1216,  3.4308,  91.5398, 4116, 353.5000,    353.5,  11.7917,  35.0782,2,  35.0789,2,     62.3,2,     61.0,2,    25.05,2,    28.35,2,     0.00,2,     1.97,2,    1.062,2,    0.576,2, -999.000,5,   2223.6,2,   2310.2,2,   7.5703,2,    25.00,     45.5,2,  -999.00,9, -999.000,9, -999.000,-999.0000,9,-999.0000,  -999.00,9,  -999.00, -999.000,9, -999.000,     -8.2,2,      3.2,     0.24,2,-999.0000,9,-999.0000,9,-999.0000,9,-999.0000,9,-999.0000,9,-999.0000,9,-999.0000,9,-999.0000,9,-999.0000,9,  11.7458,  11.7907,2
  33RR20070322,  I09N,   155,  1,     26,     26,2,20070415,1216,  3.4308,  91.5398, 4116, 403.0000,    403.0,  11.3538,  35.0623,2,  35.0628,2,     55.8,2,     49.5,2,    28.38,2,    30.24,2,     0.00,2,     2.10,2,    0.815,2,    0.453,2, -999.000,5,   2234.0,2,   2311.8,2,   7.5527,2,    25.00,     45.0,2,  -999.00,9, -999.000,9, -999.000,-999.0000,9,-999.0000,  -999.00,9,  -999.00, -999.000,9, -999.000,    -27.4,2,      2.6,     0.52,3,-999.0000,9,-999.0000,9,-999.0000,9,-999.0000,9,-999.0000,9,-999.0000,9,-999.0000,9,-999.0000,9,-999.0000,9,  11.3026,  11.3514,2
  33RR20070322,  I09N,   155,  1,     25,     25,2,20070415,1216,  3.4308,  91.5398, 4116, 453.1000,    453.1,  11.0575,  35.0548,2,  35.0549,2,     50.4,2,     43.2,2,    31.13,2,    31.46,2,     0.00,2,     2.18,2,    0.656,2,    0.362,2, -999.000,5,   2241.5,2,   2312.7,2,   7.5389,2,    25.00,     44.0,2,  -999.00,9, -999.000,9, -999.000,-999.0000,9,-999.0000,  -999.00,9,  -999.00, -999.000,9, -999.000,   -999.0,9,   -999.0,  -999.00,9,-999.0000,9,-999.0000,9,-999.0000,9,-999.0000,9,-999.0000,9,-999.0000,9,-999.0000,9,-999.0000,9,-999.0000,9,  11.0008,  11.0529,2
  33RR20070322,  I09N,   155,  1,     24,     24,2,20070415,1216,  3.4308,  91.5398, 4116, 502.9000,    502.9,  10.6162,  35.0424,2,  35.0439,2,     44.2,2,     41.3,2,    35.24,2,    32.43,2,     0.00,2,     2.28,2,    0.496,2,    0.278,2, -999.000,5,   2248.4,2,   2315.5,2,   7.5030,2,    25.00,     43.9,2,  -999.00,9, -999.000,9, -999.000,-999.0000,9,-999.0000,  -999.00,9,  -999.00, -999.000,9, -999.000,    -57.2,2,      2.4,     0.24,2,-999.0000,9,-999.0000,9,-999.0000,9,-999.0000,9,-999.0000,9,-999.0000,9,-999.0000,9,-999.0000,9,-999.0000,9,  10.5547,  10.6188,2
  33RR20070322,  I09N,   155,  1,     23,     23,2,20070415,1216,  3.4308,  91.5398, 4116, 602.5000,    602.5,   9.6804,  35.0246,2,  35.0266,2,     38.8,2,     38.9,2,    45.46,2,    33.85,2,     0.00,2,     2.44,2,    0.282,2,    0.162,2, -999.000,5,   2263.7,2,   2324.8,2,   7.4882,2,    25.00,     43.3,2,  -999.00,9, -999.000,9, -999.000,-999.0000,9,-999.0000,  -999.00,9,  -999.00, -999.000,9, -999.000,    -83.1,2,      2.0,     0.20,2,-999.0000,9,-999.0000,9,-999.0000,9,-999.0000,9,-999.0000,9,-999.0000,9,-999.0000,9,-999.0000,9,-999.0000,9,   9.6104,   9.6847,2
  33RR20070322,  I09N,   155,  1,     22,     22,2,20070415,1216,  3.4308,  91.5398, 4116, 703.0000,    703.0,   8.7094,  35.0055,2,  35.0069,2,     37.8,2,     38.1,2,    57.67,2,    35.19,2,     0.00,2,     2.57,2,    0.131,2,    0.079,2, -999.000,5,   2279.2,2,   2337.3,6,   7.4747,2,    25.00,     42.4,2,  -999.00,9, -999.000,9, -999.000,-999.0000,9,-999.0000,  -999.00,9,  -999.00, -999.000,9, -999.000,   -109.7,2,      2.1,     0.18,2,-999.0000,9,-999.0000,9,-999.0000,9,-999.0000,9,-999.0000,9,-999.0000,9,-999.0000,9,-999.0000,9,-999.0000,9,   8.6323,   8.7084,2
  33RR20070322,  I09N,   155,  1,     21,     21,2,20070415,1216,  3.4308,  91.5398, 4116, 804.0000,    804.0,   8.1073,  34.9971,2,  34.9988,2,     35.4,2,     35.0,2,    65.75,2,    36.42,2,     0.00,2,     2.68,2,    0.048,2,    0.030,2, -999.000,5,   2292.0,2,   2346.6,2,   7.4659,2,    25.00,     41.7,2,  -999.00,9, -999.000,9, -999.000,-999.0000,9,-999.0000,  -999.00,9,  -999.00, -999.000,9, -999.000,   -125.2,2,      2.1,     0.05,2,-999.0000,9,-999.0000,9,-999.0000,9,-999.0000,9,-999.0000,9,-999.0000,9,-999.0000,9,-999.0000,9,-999.0000,9,   8.0221,   8.1064,2
  33RR20070322,  I09N,   155,  1,     20,     20,2,20070415,1216,  3.4308,  91.5398, 4116, 903.7000,    903.7,   7.2432,  34.9658,2,  34.9675,2,     43.6,2,     44.2,2,    75.82,2,    36.68,2,     0.00,2,     2.70,2,    0.033,2,    0.024,2, -999.000,5,   2299.9,2,   2356.6,2,   7.4733,2,    25.00,     41.6,2,  -999.00,9, -999.000,9, -999.000,-999.0000,9,-999.0000,  -999.00,9,  -999.00, -999.000,9, -999.000,   -140.5,2,      2.0,     0.10,2,-999.0000,9,-999.0000,9,-999.0000,9,-999.0000,9,-999.0000,9,-999.0000,9,-999.0000,9,-999.0000,9,-999.0000,9,   7.1527,   7.2405,2
  33RR20070322,  I09N,   155,  1,     19,     19,2,20070415,1216,  3.4308,  91.5398, 4116,1004.0000,   1004.0,   6.6515,  34.9375,2,  34.9382,2,     52.6,2,     52.2,2,    82.15,2,    36.62,2,     0.00,2,     2.70,2, -999.000,9, -999.000,9, -999.000,9,   2304.4,6,   2361.5,2,   7.4836,6,    25.00,     41.6,2,  -999.00,9, -999.000,9, -999.000,-999.0000,9,-999.0000,  -999.00,9,  -999.00, -999.000,9, -999.000,   -148.3,2,      1.8,     0.12,2,-999.0000,9,-999.0000,9,-999.0000,9,-999.0000,9,-999.0000,9,-999.0000,9,-999.0000,9,-999.0000,9,-999.0000,9,   6.5547,   6.6510,2
  33RR20070322,  I09N,   155,  1,     18,     18,2,20070415,1216,  3.4308,  91.5398, 4116,1105.0000,   1105.0,   6.1368,  34.9137,2,  34.9134,2,     59.5,2,     59.0,2,    88.49,2,    36.73,2,     0.00,2,     2.70,2,    0.023,2,    0.015,2, -999.000,5,   2308.0,2,   2369.7,2,   7.4832,2,    25.00,     41.2,2,  -999.00,9, -999.000,9, -999.000,-999.0000,9,-999.0000,  -999.00,9,  -999.00, -999.000,9, -999.000,   -154.6,2,      1.7,     0.11,2,-999.0000,9,-999.0000,9,-999.0000,9,-999.0000,9,-999.0000,9,-999.0000,9,-999.0000,9,-999.0000,9,-999.0000,9,   6.0338,   6.1377,2
  33RR20070322,  I09N,   155,  1,     17,     17,2,20070415,1216,  3.4308,  91.5398, 4116,1204.9000,   1204.9,   5.6479,  34.8919,2,  34.8930,2,     67.5,2,     67.7,2,    93.84,2,    36.51,2,     0.00,2,     2.68,2, -999.000,9, -999.000,9, -999.000,9,   2311.2,2,   2374.1,2,   7.4897,2,    25.00,     40.8,2,  -999.00,9, -999.000,9, -999.000,-999.0000,9,-999.0000,  -999.00,9,  -999.00, -999.000,9, -999.000,   -162.3,2,      1.7,     0.10,2,-999.0000,9,-999.0000,9,-999.0000,9,-999.0000,9,-999.0000,9,-999.0000,9,-999.0000,9,-999.0000,9,-999.0000,9,   5.5391,   5.6472,2
  33RR20070322,  I09N,   155,  1,     16,     16,2,20070415,1216,  3.4308,  91.5398, 4116,1305.3000,   1305.3,   5.3478,  34.8816,2,  34.8825,2,     71.7,2,     71.4,2,    96.42,2,    36.67,2,     0.00,2,     2.69,2,    0.018,2,    0.011,2, -999.000,5,   2313.0,2,   2378.0,2,   7.4919,2,    25.00,     40.8,2,  -999.00,9, -999.000,9, -999.000,-999.0000,9,-999.0000,  -999.00,9,  -999.00, -999.000,9, -999.000,   -169.6,2,      2.9,     0.10,2,-999.0000,9,-999.0000,9,-999.0000,9,-999.0000,9,-999.0000,9,-999.0000,9,-999.0000,9,-999.0000,9,-999.0000,9,   5.2320,   5.3471,2
  33RR20070322,  I09N,   155,  1,     15,     15,2,20070415,1216,  3.4308,  91.5398, 4116,1407.0000,   1407.0,   4.7437,  34.8644,2,  34.8654,2,     77.7,2,     77.9,2,   102.58,2,    36.92,2,     0.00,2,     2.71,2, -999.000,9, -999.000,9, -999.000,9,   2318.9,2,   2383.8,2,   7.4893,2,    25.00,     40.9,2,  -999.00,9, -999.000,9, -999.000,-999.0000,9,-999.0000,  -999.00,9,  -999.00, -999.000,9, -999.000,   -181.2,2,      2.4,     0.10,2,-999.0000,9,-999.0000,9,-999.0000,9,-999.0000,9,-999.0000,9,-999.0000,9,-999.0000,9,-999.0000,9,-999.0000,9,   4.6243,   4.7434,2
  33RR20070322,  I09N,   155,  1,     14,     14,2,20070415,1216,  3.4308,  91.5398, 4116,1506.5000,   1506.5,   4.3237,  34.8452,2,  34.8462,2,     87.0,2,     87.5,2,   107.17,2,    36.61,2,     0.00,2,     2.67,2, -999.000,5, -999.000,5, -999.000,5,   2318.5,2,   2388.4,2,   7.5060,2,    25.00,     41.1,2,  -999.00,9, -999.000,9, -999.000,-999.0000,9,-999.0000,  -999.00,9,  -999.00, -999.000,9, -999.000,   -180.8,2,      2.3,     0.17,2,-999.0000,9,-999.0000,9,-999.0000,9,-999.0000,9,-999.0000,9,-999.0000,9,-999.0000,9,-999.0000,9,-999.0000,9,   4.1995,   4.3223,2
  33RR20070322,  I09N,   155,  1,     13,     13,2,20070415,1216,  3.4308,  91.5398, 4116,1607.5000,   1607.5,   3.8188,  34.8267,2,  34.8281,2,     96.7,2,     98.3,2,   111.15,2,    36.25,2,     0.00,2,     2.64,2, -999.000,9, -999.000,9, -999.000,9,   2317.8,2,   2391.6,2,   7.5192,2,    25.00,     41.2,2,  -999.00,9, -999.000,9, -999.000,-999.0000,9,-999.0000,  -999.00,9,  -999.00, -999.000,9, -999.000,   -189.1,2,      2.4,     0.18,2,-999.0000,9,-999.0000,9,-999.0000,9,-999.0000,9,-999.0000,9,-999.0000,9,-999.0000,9,-999.0000,9,-999.0000,9,   3.6913,   3.8189,2
  33RR20070322,  I09N,   155,  1,     12,     12,2,20070415,1216,  3.4308,  91.5398, 4116,1707.6000,   1707.6,   3.5703,  34.8154,2,  34.8163,2,    103.5,2,    104.6,2,   113.14,2,    36.15,2,     0.00,2,     2.63,2,    0.006,2,    0.003,2, -999.000,5,   2319.3,2,   2393.6,2,   7.5517,2,    25.00,     41.4,2,  -999.00,9, -999.000,9, -999.000,-999.0000,9,-999.0000,  -999.00,9,  -999.00, -999.000,9, -999.000,   -189.2,2,      2.8,     0.18,2,-999.0000,9,-999.0000,9,-999.0000,9,-999.0000,9,-999.0000,9,-999.0000,9,-999.0000,9,-999.0000,9,-999.0000,9,   3.4368,   3.5748,2
  33RR20070322,  I09N,   155,  1,     11,     11,2,20070415,1216,  3.4308,  91.5398, 4116,1809.4000,   1809.4,   3.2497,  34.8005,2,  34.8013,2,    110.9,2,    111.8,2,   116.94,2,    35.89,2,     0.00,2,     2.60,2, -999.000,9, -999.000,9, -999.000,9,   2318.5,2,   2397.0,2,   7.5394,2,    25.00,     41.2,2,  -999.00,9, -999.000,9, -999.000,-999.0000,9,-999.0000,  -999.00,9,  -999.00, -999.000,9, -999.000,   -189.4,2,      2.8,     0.23,2,-999.0000,9,-999.0000,9,-999.0000,9,-999.0000,9,-999.0000,9,-999.0000,9,-999.0000,9,-999.0000,9,-999.0000,9,   3.1113,   3.2504,2
  33RR20070322,  I09N,   155,  1,     10,     10,2,20070415,1216,  3.4308,  91.5398, 4116,2010.5000,   2010.5,   2.8444,  34.7829,2,  34.7836,2,    120.8,2,    122.1,2,   121.33,2,    35.58,2,     0.00,2,     2.56,2,    0.014,2,    0.003,2, -999.000,5,   2320.5,2,   2401.5,2,   7.5436,2,    25.00,     40.4,2,  -999.00,9, -999.000,9, -999.000,-999.0000,9,-999.0000,  -999.00,9,  -999.00, -999.000,9, -999.000,   -193.8,2,      2.3,     0.12,2,-999.0000,9,-999.0000,9,-999.0000,9,-999.0000,9,-999.0000,9,-999.0000,9,-999.0000,9,-999.0000,9,-999.0000,9,   2.6937,   2.8505,2
  33RR20070322,  I09N,   155,  1,      9,      9,2,20070415,1216,  3.4308,  91.5398, 4116,2263.4000,   2263.4,   2.3815,  34.7624,2,  34.7632,2,    132.4,2,    133.3,2,   126.95,2,    35.22,2,     0.00,2,     2.50,2, -999.000,9, -999.000,9, -999.000,9,   2320.8,2,   2406.7,2,   7.5547,2,    25.00,     41.2,2,  -999.00,9, -999.000,9, -999.000,-999.0000,9,-999.0000,  -999.00,9,  -999.00, -999.000,9, -999.000,   -200.9,2,      2.6,     0.20,2,-999.0000,9,-999.0000,9,-999.0000,9,-999.0000,9,-999.0000,9,-999.0000,9,-999.0000,9,-999.0000,9,-999.0000,9,   2.2155,   2.3831,2
  33RR20070322,  I09N,   155,  1,      8,      8,2,20070415,1216,  3.4308,  91.5398, 4116,2515.8000,   2515.8,   2.0635,  34.7484,2,  34.7496,2,    144.4,2,    143.7,2,   129.75,2,    34.81,2,     0.00,2,     2.46,2,    0.005,2,    0.003,2, -999.000,5,   2319.3,2,   2410.1,2,   7.5600,2,    25.00,     41.0,2,  -999.00,9, -999.000,9, -999.000,-999.0000,9,-999.0000,  -999.00,9,  -999.00, -999.000,9, -999.000,   -192.2,2,      2.9,     0.60,4,-999.0000,9,-999.0000,9,-999.0000,9,-999.0000,9,-999.0000,9,-999.0000,9,-999.0000,9,-999.0000,9,-999.0000,9,   1.8801,   2.0627,2
  33RR20070322,  I09N,   155,  1,      7,      7,2,20070415,1216,  3.4308,  91.5398, 4116,2768.2000,   2768.2,   1.8940,  34.7408,2,  34.7420,2,    151.1,2,    150.4,2,   130.75,2,    34.60,2,     0.00,2,     2.43,2, -999.000,9, -999.000,9, -999.000,9,   2316.8,2,   2410.5,2,   7.5820,2,    25.00,     41.4,2,  -999.00,9, -999.000,9, -999.000,-999.0000,9,-999.0000,  -999.00,9,  -999.00, -999.000,9, -999.000,   -199.2,2,      2.7,     0.28,2,-999.0000,9,-999.0000,9,-999.0000,9,-999.0000,9,-999.0000,9,-999.0000,9,-999.0000,9,-999.0000,9,-999.0000,9,   1.6905,   1.8944,2
  33RR20070322,  I09N,   155,  1,      6,      6,2,20070415,1216,  3.4308,  91.5398, 4116,3021.1000,   3021.1,   1.7293,  34.7342,2,  34.7347,2,    157.4,2,    157.1,2,   132.34,2,    34.35,2,     0.00,2,     2.40,2,    0.004,2,    0.003,2, -999.000,5,   2315.3,2,   2415.2,2,   7.5829,2,    25.00,     40.4,2,  -999.00,9, -999.000,9, -999.000,-999.0000,9,-999.0000,  -999.00,9,  -999.00, -999.000,9, -999.000,   -194.7,2,      2.7,     0.30,2,-999.0000,9,-999.0000,9,-999.0000,9,-999.0000,9,-999.0000,9,-999.0000,9,-999.0000,9,-999.0000,9,-999.0000,9,   1.5051,   1.7286,2
  33RR20070322,  I09N,   155,  1,      5,      5,2,20070415,1216,  3.4308,  91.5398, 4116,3273.7000,   3273.7,   1.6074,  34.7298,2,  34.7313,2,    162.8,2,    162.2,2,   132.73,2,    34.04,2,     0.00,2,     2.38,2, -999.000,9, -999.000,9, -999.000,9,   2313.1,2,   2410.3,2,   7.5926,2,    25.00,     40.7,2,  -999.00,9, -999.000,9, -999.000,-999.0000,9,-999.0000,  -999.00,9,  -999.00, -999.000,9, -999.000,   -197.1,2,      2.7,     0.34,2,-999.0000,9,-999.0000,9,-999.0000,9,-999.0000,9,-999.0000,9,-999.0000,9,-999.0000,9,-999.0000,9,-999.0000,9,   1.3611,   1.6093,2