BOTTLE,20150630SIOCCHRJL
EXPOCODE,SECT_ID,STNNBR,CASTNO,SAMPNO,BTLNBR,BTLNBR_FLAG_W,DATE,TIME,LATITUDE,LONGITUDE,DEPTH,CTDRAW,CTDPRS,CTDTMP,CTDSAL,CTDSAL_FLAG_W,SALNTY,SALNTY_FLAG_W,CTDOXY,CTDOXY_FLAG_W,OXYGEN,OXYGEN_FLAG_W,SILCAT,SILCAT_FLAG_W,NITRAT,NITRAT_FLAG_W,NITRIT,NITRIT_FLAG_W,PHSPHT,PHSPHT_FLAG_W,CFC-11,CFC-11_FLAG_W,CFC-12,CFC-12_FLAG_W,CFC113,CFC113_FLAG_W,TCARBN,TCARBN_FLAG_W,ALKALI,ALKALI_FLAG_W,PH_SWS,PH_SWS_FLAG_W,PH_TMP,DOC,DOC_FLAG_W,TDN,TDN_FLAG_W,TRITUM,TRITUM_FLAG_W,TRITER,HELIUM,HELIUM_FLAG_W,HELIER,DELHE3,DELHE3_FLAG_W,DELHER,NEON,NEON_FLAG_W,NEONER,DELC14,DELC14_FLAG_W,C14ERR,DELC13,DELC13_FLAG_W,CDOM325,CDOM325_FLAG_W,CDOM340,CDOM340_FLAG_W,CDOM380,CDOM380_FLAG_W,CDOM412,CDOM412_FLAG_W,CDOM443,CDOM443_FLAG_W,CDOM490,CDOM490_FLAG_W,CDOM555,CDOM555_FLAG_W,CDOMSL,CDOMSL_FLAG_W,CDOMSN,CDOMSN_FLAG_W,THETA,SBE35,SBE35_FLAG_W
,,,,,,,,,,,METERS,,DBAR,ITS-90,PSS-78,,PSS-78,,UMOL/KG,,UMOL/KG,,UMOL/KG,,UMOL/KG,,UMOL/KG,,UMOL/KG,,PMOL/KG,,PMOL/KG,,PMOL/KG,,UMOL/KG,,UMOL/KG,,,,DEG C,UMOL/KG,,UMOL/KG,,TU,,TU,NMOL/KG,,NMOL/KG,PERCNT,,PERCNT,NMOL/KG,,NMOL/KG,/MILLE,,/MILLE,/MILLE,,1/M,,1/M,,1/M,,1/M,,1/M,,1/M,,1/M,,1/NM,,1/NM,,DEG C,ITS-90,
  33RR20070322,  I09N,    98,  1,     36,     38,2,20070329,0957,-23.0157,  94.9975, 5099,   2.9000,      2.9,  23.9037,  35.7410,2,  35.7428,2,    212.9,2,    213.6,2,     2.11,2,     0.06,2,     0.00,2,     0.09,2,    1.828,2,    1.164,2, -999.000,5,   2022.6,6,   2338.5,2,   8.0470,6,    25.00,   -999.0,9,  -999.00,9, -999.000,9, -999.000,-999.0000,9,-999.0000,  -999.00,9,  -999.00, -999.000,9, -999.000,   -999.0,9,   -999.0,  -999.00,9,-999.0000,9,-999.0000,9,-999.0000,9,-999.0000,9,-999.0000,9,-999.0000,9,-999.0000,9,-999.0000,9,-999.0000,9,  23.9031,  23.9012,2
  33RR20070322,  I09N,    98,  1,     35,     35,2,20070329,0957,-23.0157,  94.9975, 5099,  33.4000,     33.4,  23.8552,  35.7403,2,  35.7418,2,    214.5,2,    214.0,2,     1.91,2,     0.06,2,     0.00,2,     0.09,2,    1.847,2,    1.175,2, -999.000,5,   2022.3,2,   2338.7,2,   8.0470,2,    25.00,   -999.0,9,  -999.00,9, -999.000,9, -999.000,-999.0000,9,-999.0000,  -999.00,9,  -999.00, -999.000,9, -999.000,   -999.0,9,   -999.0,  -999.00,9,-999.0000,9,-999.0000,9,-999.0000,9,-999.0000,9,-999.0000,9,-999.0000,9,-999.0000,9,-999.0000,9,-999.0000,9,  23.8482,  23.8541,2
  33RR20070322,  I09N,    98,  1,     34,   9419,2,20070329,0957,-23.0157,  94.9975, 5099,  58.5000,     58.5,  23.8475,  35.7399,2,  35.7410,2,    214.1,2,    213.4,2,     1.91,2,     0.06,2,     0.00,2,     0.09,2,    1.847,2,    1.180,2, -999.000,5,   -999.0,9,   -999.0,9,-999.0000,9,  -999.00,   -999.0,9,  -999.00,9, -999.000,9, -999.000,-999.0000,9,-999.0000,  -999.00,9,  -999.00, -999.000,9, -999.000,   -999.0,9,   -999.0,  -999.00,9,-999.0000,9,-999.0000,9,-999.0000,9,-999.0000,9,-999.0000,9,-999.0000,9,-999.0000,9,-999.0000,9,-999.0000,9,  23.8352,  23.8473,2
  33RR20070322,  I09N,    98,  1,     33,     33,2,20070329,0957,-23.0157,  94.9975, 5099,  84.6000,     84.6,  21.8045,  35.7507,2,  35.7441,2,    232.7,2,    231.9,2,     2.11,2,     0.06,2,     0.00,2,     0.08,2, -999.000,9, -999.000,9, -999.000,9,   -999.0,9,   -999.0,9,-999.0000,9,  -999.00,   -999.0,9,  -999.00,9, -999.000,9, -999.000,-999.0000,9,-999.0000,  -999.00,9,  -999.00, -999.000,9, -999.000,   -999.0,9,   -999.0,  -999.00,9,-999.0000,9,-999.0000,9,-999.0000,9,-999.0000,9,-999.0000,9,-999.0000,9,-999.0000,9,-999.0000,9,-999.0000,9,  21.7878,  21.8270,2
  33RR20070322,  I09N,    98,  1,     32,     37,2,20070329,0957,-23.0157,  94.9975, 5099, 108.4000,    108.4,  20.7019,  35.8122,2,  35.8130,2,    226.5,2,    227.4,2,     2.31,2,     0.06,2,     0.00,2,     0.09,2,    2.216,2,    1.370,2, -999.000,5,   2043.3,2,   2344.6,6,   8.0378,2,    25.00,   -999.0,9,  -999.00,9, -999.000,9, -999.000,-999.0000,9,-999.0000,  -999.00,9,  -999.00, -999.000,9, -999.000,   -999.0,9,   -999.0,  -999.00,9,-999.0000,9,-999.0000,9,-999.0000,9,-999.0000,9,-999.0000,9,-999.0000,9,-999.0000,9,-999.0000,9,-999.0000,9,  20.6813,  20.7105,2
  33RR20070322,  I09N,    98,  1,     31,     31,2,20070329,0957,-23.0157,  94.9975, 5099, 158.5000,    158.5,  19.0818,  35.8436,2,  35.8314,2,    204.7,2,    204.7,2,     2.70,2,     1.46,2,     0.06,2,     0.22,2,    2.285,2,    1.409,2, -999.000,5,   -999.0,9,   -999.0,9,-999.0000,9,  -999.00,   -999.0,9,  -999.00,9, -999.000,9, -999.000,-999.0000,9,-999.0000,  -999.00,9,  -999.00, -999.000,9, -999.000,   -999.0,9,   -999.0,  -999.00,9,-999.0000,9,-999.0000,9,-999.0000,9,-999.0000,9,-999.0000,9,-999.0000,9,-999.0000,9,-999.0000,9,-999.0000,9,  19.0533,  19.0908,2
  33RR20070322,  I09N,    98,  1,     30,     30,2,20070329,0957,-23.0157,  94.9975, 5099, 208.6000,    208.6,  17.6807,  35.8385,2,  35.8389,2,    211.8,2,    213.4,2,     2.11,2,     1.82,2,     0.01,2,     0.26,2, -999.000,9, -999.000,9, -999.000,9,   -999.0,9,   -999.0,9,-999.0000,9,  -999.00,   -999.0,9,  -999.00,9, -999.000,9, -999.000,-999.0000,9,-999.0000,  -999.00,9,  -999.00, -999.000,9, -999.000,   -999.0,9,   -999.0,  -999.00,9,-999.0000,9,-999.0000,9,-999.0000,9,-999.0000,9,-999.0000,9,-999.0000,9,-999.0000,9,-999.0000,9,-999.0000,9,  17.6451,  17.6747,2
  33RR20070322,  I09N,    98,  1,     29,     29,2,20070329,0957,-23.0157,  94.9975, 5099, 258.9000,    258.9,  16.1935,  35.7219,2,  35.7215,2,    216.1,2,    216.8,2,     1.91,2,     2.80,2,     0.01,2,     0.33,2,    2.684,2,    1.594,2, -999.000,5,   2098.6,2,   2344.7,2,   7.9165,2,    25.00,   -999.0,9,  -999.00,9, -999.000,9, -999.000,-999.0000,9,-999.0000,  -999.00,9,  -999.00, -999.000,9, -999.000,   -999.0,9,   -999.0,  -999.00,9,-999.0000,9,-999.0000,9,-999.0000,9,-999.0000,9,-999.0000,9,-999.0000,9,-999.0000,9,-999.0000,9,-999.0000,9,  16.1519,  16.1707,2
  33RR20070322,  I09N,    98,  1,     28,     28,2,20070329,0957,-23.0157,  94.9975, 5099, 308.5000,    308.5,  14.7185,  35.5436,2,  35.5464,2,    223.4,2,    223.1,2,     1.72,2,     4.26,2,     0.01,2,     0.43,2, -999.000,9, -999.000,9, -999.000,9,   -999.0,9,   -999.0,9,-999.0000,9,  -999.00,   -999.0,9,  -999.00,9, -999.000,9, -999.000,-999.0000,9,-999.0000,  -999.00,9,  -999.00, -999.000,9, -999.000,   -999.0,9,   -999.0,  -999.00,9,-999.0000,9,-999.0000,9,-999.0000,9,-999.0000,9,-999.0000,9,-999.0000,9,-999.0000,9,-999.0000,9,-999.0000,9,  14.6720,  14.7357,2
  33RR20070322,  I09N,    98,  1,     27,     27,2,20070329,0957,-23.0157,  94.9975, 5099, 358.1000,    358.1,  13.4795,  35.3651,2,  35.3740,2,    228.8,2,    229.9,2,     1.72,2,     6.08,2,     0.00,2,     0.53,2,    3.090,2,    1.809,2, -999.000,5,   -999.0,9,   -999.0,9,-999.0000,9,  -999.00,   -999.0,9,  -999.00,9, -999.000,9, -999.000,-999.0000,9,-999.0000,  -999.00,9,  -999.00, -999.000,9, -999.000,   -999.0,9,   -999.0,  -999.00,9,-999.0000,9,-999.0000,9,-999.0000,9,-999.0000,9,-999.0000,9,-999.0000,9,-999.0000,9,-999.0000,9,-999.0000,9,  13.4286,  13.5040,2
  33RR20070322,  I09N,    98,  1,     26,     26,2,20070329,0957,-23.0157,  94.9975, 5099, 407.8000,    407.8,  12.2191,  35.1542,2,  35.1480,2,    234.2,2,    235.2,2,     2.32,2,     8.52,2,     0.00,2,     0.68,2, -999.000,9, -999.000,9, -999.000,9,   -999.0,9,   -999.0,9,-999.0000,9,  -999.00,   -999.0,9,  -999.00,9, -999.000,9, -999.000,-999.0000,9,-999.0000,  -999.00,9,  -999.00, -999.000,9, -999.000,   -999.0,9,   -999.0,  -999.00,9,-999.0000,9,-999.0000,9,-999.0000,9,-999.0000,9,-999.0000,9,-999.0000,9,-999.0000,9,-999.0000,9,-999.0000,9,  12.1647,  12.2241,2
  33RR20070322,  I09N,    98,  1,     25,     25,2,20070329,0957,-23.0157,  94.9975, 5099, 458.6000,    458.6,  11.2525,  34.9926,2,  34.9966,2,    237.7,2,    238.7,2,     2.90,2,    10.64,2,     0.00,2,     0.81,2,    3.456,2,    1.925,2, -999.000,5,   -999.0,9,   -999.0,9,-999.0000,9,  -999.00,   -999.0,9,  -999.00,9, -999.000,9, -999.000,-999.0000,9,-999.0000,  -999.00,9,  -999.00, -999.000,9, -999.000,   -999.0,9,   -999.0,  -999.00,9,-999.0000,9,-999.0000,9,-999.0000,9,-999.0000,9,-999.0000,9,-999.0000,9,-999.0000,9,-999.0000,9,-999.0000,9,  11.1945,  11.2541,2
  33RR20070322,  I09N,    98,  1,     24,     24,2,20070329,0957,-23.0157,  94.9975, 5099, 509.3000,    509.3,  10.3439,  34.8436,2,  34.8451,2,    240.4,2,    241.8,2,     3.50,2,    12.86,2,     0.00,2,     0.95,2,    3.628,2,    2.003,2, -999.000,5,   2119.8,2,   2295.7,2,   7.8118,2,    25.00,   -999.0,9,  -999.00,9, -999.000,9, -999.000,-999.0000,9,-999.0000,  -999.00,9,  -999.00, -999.000,9, -999.000,   -999.0,9,   -999.0,  -999.00,9,-999.0000,9,-999.0000,9,-999.0000,9,-999.0000,9,-999.0000,9,-999.0000,9,-999.0000,9,-999.0000,9,-999.0000,9,  10.2827,  10.3495,2
  33RR20070322,  I09N,    98,  1,     23,     23,2,20070329,0957,-23.0157,  94.9975, 5099, 607.6000,    607.6,   9.3706,  34.6947,2,  34.7006,2,    239.0,2,    238.6,2,     4.69,2,    16.02,2,     0.00,2,     1.13,2,    3.690,2,    1.977,2, -999.000,5,   -999.0,9,   -999.0,9,-999.0000,9,  -999.00,   -999.0,9,  -999.00,9, -999.000,9, -999.000,-999.0000,9,-999.0000,  -999.00,9,  -999.00, -999.000,9, -999.000,   -999.0,9,   -999.0,  -999.00,9,-999.0000,9,-999.0000,9,-999.0000,9,-999.0000,9,-999.0000,9,-999.0000,9,-999.0000,9,-999.0000,9,-999.0000,9,   9.3016,   9.3677,2
  33RR20070322,  I09N,    98,  1,     22,     22,2,20070329,0957,-23.0157,  94.9975, 5099, 708.6000,    708.6,   8.2870,  34.5728,2,  34.5772,2,    225.5,2,    219.5,2,     9.26,2,    20.68,2,     0.00,2,     1.43,2,    3.026,2,    1.554,2, -999.000,5,   -999.0,9,   -999.0,9,-999.0000,9,  -999.00,   -999.0,9,  -999.00,9, -999.000,9, -999.000,-999.0000,9,-999.0000,  -999.00,9,  -999.00, -999.000,9, -999.000,   -999.0,9,   -999.0,  -999.00,9,-999.0000,9,-999.0000,9,-999.0000,9,-999.0000,9,-999.0000,9,-999.0000,9,-999.0000,9,-999.0000,9,-999.0000,9,   8.2119,   8.2932,2
  33RR20070322,  I09N,    98,  1,     21,     21,2,20070329,0957,-23.0157,  94.9975, 5099, 809.0000,    809.0,   6.6079,  34.4731,2,  34.4737,2,    193.6,2,    191.4,2,    23.15,2,    26.91,2,     0.00,2,     1.87,2,    1.629,2,    0.842,2, -999.000,5,   -999.0,9,   -999.0,9,-999.0000,9,  -999.00,   -999.0,9,  -999.00,9, -999.000,9, -999.000,-999.0000,9,-999.0000,  -999.00,9,  -999.00, -999.000,9, -999.000,   -999.0,9,   -999.0,  -999.00,9,-999.0000,9,-999.0000,9,-999.0000,9,-999.0000,9,-999.0000,9,-999.0000,9,-999.0000,9,-999.0000,9,-999.0000,9,   6.5318,   6.6182,2
  33RR20070322,  I09N,    98,  1,     20,     20,2,20070329,0957,-23.0157,  94.9975, 5099, 910.1000,    910.1,   5.0956,  34.4635,2,  34.4541,2,    169.6,2,    161.7,2,    46.59,2,    32.03,2,     0.00,2,     2.26,2,    0.588,2,    0.321,2, -999.000,5,   -999.0,9,   -999.0,9,-999.0000,9,  -999.00,   -999.0,9,  -999.00,9, -999.000,9, -999.000,-999.0000,9,-999.0000,  -999.00,9,  -999.00, -999.000,9, -999.000,   -999.0,9,   -999.0,  -999.00,9,-999.0000,9,-999.0000,9,-999.0000,9,-999.0000,9,-999.0000,9,-999.0000,9,-999.0000,9,-999.0000,9,-999.0000,9,   5.0198,   5.0872,2
  33RR20070322,  I09N,    98,  1,     19,     19,2,20070329,0957,-23.0157,  94.9975, 5099,1010.0000,   1010.0,   4.6380,  34.5184,2,  34.5190,2,    147.6,2,    140.2,2,    63.32,2,    34.02,2,     0.00,2,     2.43,2,    0.212,2,    0.122,2, -999.000,5,   2250.0,2,   2327.9,3,   7.5669,2,    25.00,   -999.0,9,  -999.00,9, -999.000,9, -999.000,-999.0000,9,-999.0000,  -999.00,9,  -999.00, -999.000,9, -999.000,   -999.0,9,   -999.0,  -999.00,9,-999.0000,9,-999.0000,9,-999.0000,9,-999.0000,9,-999.0000,9,-999.0000,9,-999.0000,9,-999.0000,9,-999.0000,9,   4.5565,   4.6424,2
  33RR20070322,  I09N,    98,  1,     18,     18,2,20070329,0957,-23.0157,  94.9975, 5099,1109.8000,   1109.8,   4.2452,  34.5551,2,  34.5540,2,    139.5,2,    133.0,2,    73.70,2,    34.90,2,     0.00,2,     2.50,2, -999.000,9, -999.000,9, -999.000,9,   -999.0,9,   -999.0,9,-999.0000,9,  -999.00,   -999.0,9,  -999.00,9, -999.000,9, -999.000,-999.0000,9,-999.0000,  -999.00,9,  -999.00, -999.000,9, -999.000,   -999.0,9,   -999.0,  -999.00,9,-999.0000,9,-999.0000,9,-999.0000,9,-999.0000,9,-999.0000,9,-999.0000,9,-999.0000,9,-999.0000,9,-999.0000,9,   4.1581,   4.2451,2
  33RR20070322,  I09N,    98,  1,     17,     17,2,20070329,0957,-23.0157,  94.9975, 5099,1211.7000,   1211.7,   3.9122,  34.5815,2,  34.5814,2,    133.9,2,    137.3,4,    80.10,2,    35.17,2,     0.00,2,     2.53,2,    0.043,2,    0.026,2, -999.000,5,   -999.0,9,   -999.0,9,-999.0000,9,  -999.00,   -999.0,9,  -999.00,9, -999.000,9, -999.000,-999.0000,9,-999.0000,  -999.00,9,  -999.00, -999.000,9, -999.000,   -999.0,9,   -999.0,  -999.00,9,-999.0000,9,-999.0000,9,-999.0000,9,-999.0000,9,-999.0000,9,-999.0000,9,-999.0000,9,-999.0000,9,-999.0000,9,   3.8192,   3.9157,2
  33RR20070322,  I09N,    98,  1,     16,     16,2,20070329,0957,-23.0157,  94.9975, 5099,1311.2000,   1311.2,   3.5971,  34.6075,2,  34.6056,2,    133.2,2,    133.7,2,    85.30,2,    35.17,2,     0.00,2,     2.53,2, -999.000,9, -999.000,9, -999.000,9,   -999.0,9,   -999.0,9,-999.0000,9,  -999.00,   -999.0,9,  -999.00,9, -999.000,9, -999.000,-999.0000,9,-999.0000,  -999.00,9,  -999.00, -999.000,9, -999.000,   -999.0,9,   -999.0,  -999.00,9,-999.0000,9,-999.0000,9,-999.0000,9,-999.0000,9,-999.0000,9,-999.0000,9,-999.0000,9,-999.0000,9,-999.0000,9,   3.4986,   3.5958,2
  33RR20070322,  I09N,    98,  1,     15,     15,2,20070329,0957,-23.0157,  94.9975, 5099,1411.6000,   1411.6,   3.3756,  34.6310,2,  34.6317,2,    137.2,2,    136.9,2,    88.31,2,    35.05,2,     0.00,2,     2.52,2,    0.018,2,    0.010,2, -999.000,5,   -999.0,9,   -999.0,9,-999.0000,9,  -999.00,   -999.0,9,  -999.00,9, -999.000,9, -999.000,-999.0000,9,-999.0000,  -999.00,9,  -999.00, -999.000,9, -999.000,   -999.0,9,   -999.0,  -999.00,9,-999.0000,9,-999.0000,9,-999.0000,9,-999.0000,9,-999.0000,9,-999.0000,9,-999.0000,9,-999.0000,9,-999.0000,9,   3.2709,   3.3762,2
  33RR20070322,  I09N,    98,  1,     14,     14,2,20070329,0957,-23.0157,  94.9975, 5099,1513.5000,   1513.5,   3.2180,  34.6612,2,  34.6619,2,    138.4,2,    139.3,2,    93.52,2,    34.94,2,     0.00,2,     2.51,2, -999.000,9, -999.000,9, -999.000,9,   -999.0,9,   -999.0,9,-999.0000,9,  -999.00,   -999.0,9,  -999.00,9, -999.000,9, -999.000,-999.0000,9,-999.0000,  -999.00,9,  -999.00, -999.000,9, -999.000,   -999.0,9,   -999.0,  -999.00,9,-999.0000,9,-999.0000,9,-999.0000,9,-999.0000,9,-999.0000,9,-999.0000,9,-999.0000,9,-999.0000,9,-999.0000,9,   3.1063,   3.2175,2
  33RR20070322,  I09N,    98,  1,     13,     13,2,20070329,0957,-23.0157,  94.9975, 5099,1614.7000,   1614.7,   3.0262,  34.6791,2,  34.6802,2,    141.4,2,    140.8,2,    97.14,2,    34.62,2,     0.00,2,     2.49,2,    0.007,2,    0.004,2, -999.000,5,   -999.0,9,   -999.0,9,-999.0000,9,  -999.00,   -999.0,9,  -999.00,9, -999.000,9, -999.000,-999.0000,9,-999.0000,  -999.00,9,  -999.00, -999.000,9, -999.000,   -999.0,9,   -999.0,  -999.00,9,-999.0000,9,-999.0000,9,-999.0000,9,-999.0000,9,-999.0000,9,-999.0000,9,-999.0000,9,-999.0000,9,-999.0000,9,   2.9081,   3.0254,2
  33RR20070322,  I09N,    98,  1,     12,     12,2,20070329,0957,-23.0157,  94.9975, 5099,1816.1000,   1816.1,   2.6423,  34.7036,2,  34.7042,2,    149.0,2,    149.3,2,   103.17,2,    34.20,2,     0.00,2,     2.44,2, -999.000,9, -999.000,9, -999.000,9,   -999.0,9,   -999.0,9,-999.0000,9,  -999.00,   -999.0,9,  -999.00,9, -999.000,9, -999.000,-999.0000,9,-999.0000,  -999.00,9,  -999.00, -999.000,9, -999.000,   -999.0,9,   -999.0,  -999.00,9,-999.0000,9,-999.0000,9,-999.0000,9,-999.0000,9,-999.0000,9,-999.0000,9,-999.0000,9,-999.0000,9,-999.0000,9,   2.5119,   2.6388,2
  33RR20070322,  I09N,    98,  1,     11,     11,2,20070329,0957,-23.0157,  94.9975, 5099,2017.7000,   2017.7,   2.3635,  34.7180,2,  34.7191,2,    154.8,2,    155.3,2,   108.21,2,    33.87,2,     0.00,2,     2.41,2,    0.008,2,    0.003,2, -999.000,5,   -999.0,9,   -999.0,9,-999.0000,9,  -999.00,   -999.0,9,  -999.00,9, -999.000,9, -999.000,-999.0000,9,-999.0000,  -999.00,9,  -999.00, -999.000,9, -999.000,   -999.0,9,   -999.0,  -999.00,9,-999.0000,9,-999.0000,9,-999.0000,9,-999.0000,9,-999.0000,9,-999.0000,9,-999.0000,9,-999.0000,9,-999.0000,9,   2.2197,   2.3627,2
  33RR20070322,  I09N,    98,  1,     10,     10,2,20070329,0957,-23.0157,  94.9975, 5099,2270.9000,   2270.9,   2.1186,  34.7255,2,  34.7262,2,    161.7,2,    161.6,2,   113.05,2,    33.50,2,     0.00,2,     2.38,2, -999.000,9, -999.000,9, -999.000,9,   -999.0,9,   -999.0,9,-999.0000,9,  -999.00,   -999.0,9,  -999.00,9, -999.000,9, -999.000,-999.0000,9,-999.0000,  -999.00,9,  -999.00, -999.000,9, -999.000,   -999.0,9,   -999.0,  -999.00,9,-999.0000,9,-999.0000,9,-999.0000,9,-999.0000,9,-999.0000,9,-999.0000,9,-999.0000,9,-999.0000,9,-999.0000,9,   1.9565,   2.1176,2
  33RR20070322,  I09N,    98,  1,      9,      9,2,20070329,0957,-23.0157,  94.9975, 5099,2523.1000,   2523.1,   1.9295,  34.7280,2,  34.7285,2,    167.4,2,    167.6,2,   115.67,2,    33.35,2,     0.00,2,     2.36,2,    0.003,2,    0.002,2, -999.000,5,   2289.6,2,   2385.6,2,   7.5820,3,    25.00,   -999.0,9,  -999.00,9, -999.000,9, -999.000,-999.0000,9,-999.0000,  -999.00,9,  -999.00, -999.000,9, -999.000,   -999.0,9,   -999.0,  -999.00,9,-999.0000,9,-999.0000,9,-999.0000,9,-999.0000,9,-999.0000,9,-999.0000,9,-999.0000,9,-999.0000,9,-999.0000,9,   1.7481,   1.9300,2
  33RR20070322,  I09N,    98,  1,      8,      8,2,20070329,0957,-23.0157,  94.9975, 5099,2775.6000,   2775.6,   1.7771,  34.7285,2,  34.7287,2,    173.3,2,    173.4,2,   116.89,2,    33.13,2,     0.00,2,     2.34,2, -999.000,9, -999.000,9, -999.000,9,   -999.0,9,   -999.0,9,-999.0000,9,  -999.00,   -999.0,9,  -999.00,9, -999.000,9, -999.000,-999.0000,9,-999.0000,  -999.00,9,  -999.00, -999.000,9, -999.000,   -999.0,9,   -999.0,  -999.00,9,-999.0000,9,-999.0000,9,-999.0000,9,-999.0000,9,-999.0000,9,-999.0000,9,-999.0000,9,-999.0000,9,-999.0000,9,   1.5753,   1.7769,2
  33RR20070322,  I09N,    98,  1,      7,      7,2,20070329,0957,-23.0157,  94.9975, 5099,3028.5000,   3028.5,   1.6461,  34.7277,2,  34.7285,2,    177.1,2,    176.9,2,   119.31,2,    32.96,2,     0.00,2,     2.32,2, -999.000,9, -999.000,9, -999.000,9,   -999.0,9,   -999.0,9,-999.0000,9,  -999.00,   -999.0,9,  -999.00,9, -999.000,9, -999.000,-999.0000,9,-999.0000,  -999.00,9,  -999.00, -999.000,9, -999.000,   -999.0,9,   -999.0,  -999.00,9,-999.0000,9,-999.0000,9,-999.0000,9,-999.0000,9,-999.0000,9,-999.0000,9,-999.0000,9,-999.0000,9,-999.0000,9,   1.4230,   1.6457,2
  33RR20070322,  I09N,    98,  1,      6,      6,2,20070329,0957,-23.0157,  94.9975, 5099,3433.9000,   3433.9,   1.4556,  34.7242,2,  34.7243,2,    182.7,2,    182.8,2,   122.55,2,    32.86,2,     0.00,2,     2.31,2,    0.007,2,    0.002,2, -999.000,5,   -999.0,9,   -999.0,9,-999.0000,9,  -999.00,   -999.0,9,  -999.00,9, -999.000,9, -999.000,-999.0000,9,-999.0000,  -999.00,9,  -999.00, -999.000,9, -999.000,   -999.0,9,   -999.0,  -999.00,9,-999.0000,9,-999.0000,9,-999.0000,9,-999.0000,9,-999.0000,9,-999.0000,9,-999.0000,9,-999.0000,9,-999.0000,9,   1.1970,   1.4555,2
  33RR20070322,  I09N,    98,  1,      5,      5,2,20070329,0957,-23.0157,  94.9975, 5099,3841.9000,   3841.9,   1.2579,  34.7194,2,  34.7195,2,    191.4,2,    191.8,2,   123.36,2,    32.54,2,     0.00,2,     2.29,2, -999.000,9, -999.000,9, -999.000,9,   -999.0,9,   -999.0,9,-999.0000,9,  -999.00,   -999.0,9,  -999.00,9, -999.000,9, -999.000,-999.0000,9,-999.0000,  -999.00,9,  -999.00, -999.000,9, -999.000,   -999.0,9,   -999.0,  -999.00,9,-999.0000,9,-999.0000,9,-999.0000,9,-999.0000,9,-999.0000,9,-999.0000,9,-999.0000,9,-999.0000,9,-999.0000,9,   0.9624,   1.2582,2