BOTTLE,20150630SIOCCHRJL
EXPOCODE,SECT_ID,STNNBR,CASTNO,SAMPNO,BTLNBR,BTLNBR_FLAG_W,DATE,TIME,LATITUDE,LONGITUDE,DEPTH,CTDRAW,CTDPRS,CTDTMP,CTDSAL,CTDSAL_FLAG_W,SALNTY,SALNTY_FLAG_W,CTDOXY,CTDOXY_FLAG_W,OXYGEN,OXYGEN_FLAG_W,SILCAT,SILCAT_FLAG_W,NITRAT,NITRAT_FLAG_W,NITRIT,NITRIT_FLAG_W,PHSPHT,PHSPHT_FLAG_W,CFC-11,CFC-11_FLAG_W,CFC-12,CFC-12_FLAG_W,CFC113,CFC113_FLAG_W,TCARBN,TCARBN_FLAG_W,ALKALI,ALKALI_FLAG_W,PH_SWS,PH_SWS_FLAG_W,PH_TMP,DOC,DOC_FLAG_W,TDN,TDN_FLAG_W,TRITUM,TRITUM_FLAG_W,TRITER,HELIUM,HELIUM_FLAG_W,HELIER,DELHE3,DELHE3_FLAG_W,DELHER,NEON,NEON_FLAG_W,NEONER,DELC14,DELC14_FLAG_W,C14ERR,DELC13,DELC13_FLAG_W,CDOM325,CDOM325_FLAG_W,CDOM340,CDOM340_FLAG_W,CDOM380,CDOM380_FLAG_W,CDOM412,CDOM412_FLAG_W,CDOM443,CDOM443_FLAG_W,CDOM490,CDOM490_FLAG_W,CDOM555,CDOM555_FLAG_W,CDOMSL,CDOMSL_FLAG_W,CDOMSN,CDOMSN_FLAG_W,THETA,SBE35,SBE35_FLAG_W
,,,,,,,,,,,METERS,,DBAR,ITS-90,PSS-78,,PSS-78,,UMOL/KG,,UMOL/KG,,UMOL/KG,,UMOL/KG,,UMOL/KG,,UMOL/KG,,PMOL/KG,,PMOL/KG,,PMOL/KG,,UMOL/KG,,UMOL/KG,,,,DEG C,UMOL/KG,,UMOL/KG,,TU,,TU,NMOL/KG,,NMOL/KG,PERCNT,,PERCNT,NMOL/KG,,NMOL/KG,/MILLE,,/MILLE,/MILLE,,1/M,,1/M,,1/M,,1/M,,1/M,,1/M,,1/M,,1/NM,,1/NM,,DEG C,ITS-90,
  33RR20070322,  I09N,   141,  1,     36,     38,2,20070411,1848, -1.2507,  93.8292, 4636,   2.8000,      2.8,  29.4723,  33.9966,2,  33.9967,2,    195.3,2,    195.7,2,     1.50,2,     0.06,2,     0.00,2,     0.08,2,    1.501,2,    0.967,2, -999.000,5,   1903.2,2,   2227.4,6,   8.1166,6,    25.00,     72.1,2,     5.56,2, -999.000,9, -999.000,-999.0000,9,-999.0000,  -999.00,9,  -999.00, -999.000,9, -999.000,   -999.0,9,   -999.0,  -999.00,9,-999.0000,9,-999.0000,9,-999.0000,9,-999.0000,9,-999.0000,9,-999.0000,9,-999.0000,9,-999.0000,9,-999.0000,9,  29.4716,  29.4667,2
  33RR20070322,  I09N,   141,  1,     35,     35,2,20070411,1848, -1.2507,  93.8292, 4636,  41.0000,     41.0,  29.2108,  34.1222,2,  34.1206,2,    197.9,2,    197.2,2,     1.50,2,     0.06,2,     0.00,2,     0.07,2,    1.508,2,    0.965,2, -999.000,5,   1912.1,2,   2235.9,2,   8.1127,2,    25.00,     68.2,2,     5.55,2, -999.000,9, -999.000,-999.0000,9,-999.0000,  -999.00,9,  -999.00, -999.000,9, -999.000,     44.7,2,      4.0,     1.47,2,-999.0000,9,-999.0000,9,-999.0000,9,-999.0000,9,-999.0000,9,-999.0000,9,-999.0000,9,-999.0000,9,-999.0000,9,  29.2009,  29.2045,2
  33RR20070322,  I09N,   141,  1,     34,   9419,2,20070411,1848, -1.2507,  93.8292, 4636,  75.5000,     75.5,  27.5020,  34.6479,2,  34.6208,2,    191.5,2,    184.6,2,     2.30,2,     0.71,2,     0.04,2,     0.23,2,    1.559,2,    1.007,2, -999.000,5,   1970.1,2,   2266.8,2,   8.0309,2,    25.00,     63.3,2,     5.30,2, -999.000,9, -999.000,-999.0000,9,-999.0000,  -999.00,9,  -999.00, -999.000,9, -999.000,   -999.0,9,   -999.0,  -999.00,9,-999.0000,9,-999.0000,9,-999.0000,9,-999.0000,9,-999.0000,9,-999.0000,9,-999.0000,9,-999.0000,9,-999.0000,9,  27.4845,  27.5036,2
  33RR20070322,  I09N,   141,  1,     33,     33,2,20070411,1848, -1.2507,  93.8292, 4636,  95.7000,     95.7,  22.9020,  35.3410,2,  35.3405,2,    120.3,2,    119.0,2,     7.93,2,    10.58,2,     1.40,2,     0.92,2,    1.684,2,    1.059,2, -999.000,5,   2093.1,2,   2310.2,2,   7.8748,2,    25.00,     60.1,2,    16.28,2, -999.000,9, -999.000,-999.0000,9,-999.0000,  -999.00,9,  -999.00, -999.000,9, -999.000,     36.2,2,      3.4,     0.51,2,-999.0000,9,-999.0000,9,-999.0000,9,-999.0000,9,-999.0000,9,-999.0000,9,-999.0000,9,-999.0000,9,-999.0000,9,  22.8825,  22.8974,2
  33RR20070322,  I09N,   141,  1,     32,     37,2,20070411,1848, -1.2507,  93.8292, 4636, 125.8000,    125.8,  21.4527,  35.3227,2,  35.3220,2,     95.4,2,     95.7,2,     9.94,2,    15.59,2,     0.07,2,     1.13,2,    1.702,2,    1.051,2, -999.000,5,   2118.4,2,   2308.1,2,   7.8174,2,    25.00,     55.0,2,    19.53,2, -999.000,9, -999.000,-999.0000,9,-999.0000,  -999.00,9,  -999.00, -999.000,9, -999.000,   -999.0,9,   -999.0,  -999.00,9,-999.0000,9,-999.0000,9,-999.0000,9,-999.0000,9,-999.0000,9,-999.0000,9,-999.0000,9,-999.0000,9,-999.0000,9,  21.4282,  21.4702,2
  33RR20070322,  I09N,   141,  1,     31,     31,2,20070411,1848, -1.2507,  93.8292, 4636, 145.1000,    145.1,  20.0242,  35.3046,2,  35.3035,2,     80.7,2,     81.2,2,    11.94,2,    18.35,2,     0.03,2,     1.31,2,    1.685,2,    1.041,2, -999.000,5,   2140.5,2,   2308.8,2,   7.7720,2,    25.00,     53.7,2,    21.89,2, -999.000,9, -999.000,-999.0000,9,-999.0000,  -999.00,9,  -999.00, -999.000,9, -999.000,     34.0,2,      3.6,     0.28,2,-999.0000,9,-999.0000,9,-999.0000,9,-999.0000,9,-999.0000,9,-999.0000,9,-999.0000,9,-999.0000,9,-999.0000,9,  19.9973,  20.0066,2
  33RR20070322,  I09N,   141,  1,     30,     30,2,20070411,1848, -1.2507,  93.8292, 4636, 175.2000,    175.2,  18.0431,  35.2279,2,  35.2306,2,     66.9,2,     67.5,2,    15.36,2,    21.64,2,     0.01,2,     1.52,2,    1.546,2,    0.931,2, -999.000,5,   2164.7,2,   2307.6,2,   7.7106,2,    25.00,     52.4,2,    24.75,2, -999.000,9, -999.000,-999.0000,9,-999.0000,  -999.00,9,  -999.00, -999.000,9, -999.000,   -999.0,9,   -999.0,  -999.00,9,-999.0000,9,-999.0000,9,-999.0000,9,-999.0000,9,-999.0000,9,-999.0000,9,-999.0000,9,-999.0000,9,-999.0000,9,  18.0129,  18.0487,2
  33RR20070322,  I09N,   141,  1,     29,     29,2,20070411,1848, -1.2507,  93.8292, 4636, 225.2000,    225.2,  13.9077,  35.1038,2,  35.1045,2,     54.6,2,     54.9,2,    21.80,2,    26.96,2,     0.00,2,     1.87,2,    1.232,2,    0.697,2, -999.000,5,   2206.5,2,   2310.9,2,   7.5990,2,    25.00,     49.7,2,    30.55,2, -999.000,9, -999.000,-999.0000,9,-999.0000,  -999.00,9,  -999.00, -999.000,9, -999.000,     -0.4,2,      3.4,     0.29,2,-999.0000,9,-999.0000,9,-999.0000,9,-999.0000,9,-999.0000,9,-999.0000,9,-999.0000,9,-999.0000,9,-999.0000,9,  13.8752,  13.9058,2
  33RR20070322,  I09N,   141,  1,     28,     28,2,20070411,1848, -1.2507,  93.8292, 4636, 275.5000,    275.5,  12.6672,  35.0866,2,  35.0874,2,     72.6,2,     75.7,2,    21.20,2,    26.05,2,     0.00,2,     1.80,2,    1.330,2,    0.738,2, -999.000,5,   2203.5,2,   2312.2,2,   7.6042,2,    25.00,     48.7,2,    29.74,2, -999.000,9, -999.000,-999.0000,9,-999.0000,  -999.00,9,  -999.00, -999.000,9, -999.000,      9.9,2,      3.5,     0.23,2,-999.0000,9,-999.0000,9,-999.0000,9,-999.0000,9,-999.0000,9,-999.0000,9,-999.0000,9,-999.0000,9,-999.0000,9,  12.6298,  12.6857,2
  33RR20070322,  I09N,   141,  1,     27,     27,2,20070411,1848, -1.2507,  93.8292, 4636, 325.0000,    325.0,  11.9639,  35.0661,2,  35.0652,2,     76.7,2,     76.0,2,    22.60,2,    27.01,2,     0.00,2,     1.86,2,    1.203,2,    0.661,2, -999.000,5,   2210.3,2,   2313.7,2,   7.6080,3,    25.00,     47.5,2,    30.48,2, -999.000,9, -999.000,-999.0000,9,-999.0000,  -999.00,9,  -999.00, -999.000,9, -999.000,   -999.0,5,   -999.0,     0.38,5,-999.0000,9,-999.0000,9,-999.0000,9,-999.0000,9,-999.0000,9,-999.0000,9,-999.0000,9,-999.0000,9,-999.0000,9,  11.9213,  11.9626,2
  33RR20070322,  I09N,   141,  1,     26,     26,2,20070411,1848, -1.2507,  93.8292, 4636, 375.3000,    375.3,  11.4931,  35.0417,2,  35.0412,2,     73.4,2,     73.7,2,    24.41,2,    28.09,2,     0.00,2,     1.92,2,    1.054,2,    0.570,2, -999.000,5,   2216.0,2,   2315.1,2,   7.6024,2,    25.00,     46.4,2,    31.85,2, -999.000,9, -999.000,-999.0000,9,-999.0000,  -999.00,9,  -999.00, -999.000,9, -999.000,     -9.2,2,      3.4,     0.42,2,-999.0000,9,-999.0000,9,-999.0000,9,-999.0000,9,-999.0000,9,-999.0000,9,-999.0000,9,-999.0000,9,-999.0000,9,  11.4451,  11.4957,2
  33RR20070322,  I09N,   141,  1,     25,     25,2,20070411,1848, -1.2507,  93.8292, 4636, 425.2000,    425.2,  10.9346,  35.0127,2,  35.0114,2,     73.9,2,     72.2,2,    26.82,2,    29.22,2,     0.00,2,     2.01,2,    0.868,2,    0.481,2, -999.000,5,   2220.8,2,   2314.5,2,   7.5748,2,    25.00,     45.7,2,    32.40,2, -999.000,9, -999.000,-999.0000,9,-999.0000,  -999.00,9,  -999.00, -999.000,9, -999.000,    -21.3,2,      3.3,     0.42,2,-999.0000,9,-999.0000,9,-999.0000,9,-999.0000,9,-999.0000,9,-999.0000,9,-999.0000,9,-999.0000,9,-999.0000,9,  10.8818,  10.9334,2
  33RR20070322,  I09N,   141,  1,     24,     24,2,20070411,1848, -1.2507,  93.8292, 4636, 475.6000,    475.6,  10.2463,  34.9709,2,  34.9703,2,     69.5,2,     69.5,2,    31.44,2,    30.88,2,     0.00,2,     2.14,2,    0.599,2,    0.325,2, -999.000,5,   2228.7,2,   2317.7,2,   7.5569,2,    25.00,     44.9,2,    34.06,2, -999.000,9, -999.000,-999.0000,9,-999.0000,  -999.00,9,  -999.00, -999.000,9, -999.000,   -999.0,9,   -999.0,  -999.00,9,-999.0000,9,-999.0000,9,-999.0000,9,-999.0000,9,-999.0000,9,-999.0000,9,-999.0000,9,-999.0000,9,-999.0000,9,  10.1895,  10.2434,2
  33RR20070322,  I09N,   141,  1,     23,     23,2,20070411,1848, -1.2507,  93.8292, 4636, 525.1000,    525.1,   9.8104,  34.9883,2,  34.9862,2,     60.1,2,     56.8,2,    38.70,2,    32.71,2,     0.00,2,     2.32,2,    0.383,2,    0.215,2, -999.000,5,   2244.5,2,   2324.6,2,   7.5262,2,    25.00,     44.2,2,    35.39,2, -999.000,9, -999.000,-999.0000,9,-999.0000,  -999.00,9,  -999.00, -999.000,9, -999.000,    -65.7,2,      3.4,     0.38,2,-999.0000,9,-999.0000,9,-999.0000,9,-999.0000,9,-999.0000,9,-999.0000,9,-999.0000,9,-999.0000,9,-999.0000,9,   9.7492,   9.8113,2
  33RR20070322,  I09N,   141,  1,     22,     22,2,20070411,1848, -1.2507,  93.8292, 4636, 644.8000,    644.8,   8.8363,  34.9713,2,  34.9719,2,     55.0,2,     53.8,2,    49.78,2,    34.39,2,     0.00,2,     2.50,2,    0.189,2,    0.106,2, -999.000,5,   2261.1,2,   2334.5,2,   7.5098,2,    25.00,     43.0,2,    37.04,2, -999.000,9, -999.000,-999.0000,9,-999.0000,  -999.00,9,  -999.00, -999.000,9, -999.000,   -103.4,2,      2.8,     0.28,2,-999.0000,9,-999.0000,9,-999.0000,9,-999.0000,9,-999.0000,9,-999.0000,9,-999.0000,9,-999.0000,9,-999.0000,9,   8.7652,   8.8383,2
  33RR20070322,  I09N,   141,  1,     21,     21,2,20070411,1848, -1.2507,  93.8292, 4636, 745.0000,    745.0,   8.4344,  34.9858,2,  34.9837,2,     49.6,2,     47.7,2,    58.07,2,    35.47,2,     0.00,2,     2.61,2,    0.108,2,    0.062,2, -999.000,5,   2274.3,6,   2340.0,6,   7.5064,6,    25.00,     42.5,2,    37.57,2, -999.000,9, -999.000,-999.0000,9,-999.0000,  -999.00,9,  -999.00, -999.000,9, -999.000,   -117.9,2,      2.4,     0.20,2,-999.0000,9,-999.0000,9,-999.0000,9,-999.0000,9,-999.0000,9,-999.0000,9,-999.0000,9,-999.0000,9,-999.0000,9,   8.3540,   8.4343,2
  33RR20070322,  I09N,   141,  1,     20,     20,2,20070411,1848, -1.2507,  93.8292, 4636, 845.7000,    845.7,   7.5225,  34.9364,2,  34.9316,2,     48.7,2,     48.6,2,    69.80,2,    36.67,2,     0.00,2,     2.70,2,    0.035,2,    0.021,2, -999.000,5,   2288.5,2,   2351.4,2,   7.4813,2,    25.00,     42.0,2,    39.03,2, -999.000,9, -999.000,-999.0000,9,-999.0000,  -999.00,9,  -999.00, -999.000,9, -999.000,   -136.8,2,      8.5,     0.17,2,-999.0000,9,-999.0000,9,-999.0000,9,-999.0000,9,-999.0000,9,-999.0000,9,-999.0000,9,-999.0000,9,-999.0000,9,   7.4364,   7.5195,2
  33RR20070322,  I09N,   141,  1,     19,     19,2,20070411,1848, -1.2507,  93.8292, 4636, 946.2000,    946.2,   6.9532,  34.9194,2,  34.9189,2,     51.9,2,     51.8,2,    77.30,2,    37.15,2,     0.00,2,     2.74,2,    0.022,2,    0.013,2, -999.000,5,   2295.6,2,   2358.7,2,   7.4797,2,    25.00,     41.5,2,    39.47,2, -999.000,9, -999.000,-999.0000,9,-999.0000,  -999.00,9,  -999.00, -999.000,9, -999.000,   -145.7,2,      2.4,     0.11,2,-999.0000,9,-999.0000,9,-999.0000,9,-999.0000,9,-999.0000,9,-999.0000,9,-999.0000,9,-999.0000,9,-999.0000,9,   6.8602,   6.9529,2
  33RR20070322,  I09N,   141,  1,     18,     18,2,20070411,1848, -1.2507,  93.8292, 4636,1046.6000,   1046.6,   6.4003,  34.8939,2,  34.8933,2,     56.8,2,     57.4,2,    83.58,2,    37.30,2,     0.00,2,     2.76,2, -999.000,9, -999.000,9, -999.000,9,   2301.1,2,   2364.9,2,   7.4826,2,    25.00,     41.2,2,    38.85,2, -999.000,9, -999.000,-999.0000,9,-999.0000,  -999.00,9,  -999.00, -999.000,9, -999.000,   -999.0,9,   -999.0,  -999.00,9,-999.0000,9,-999.0000,9,-999.0000,9,-999.0000,9,-999.0000,9,-999.0000,9,-999.0000,9,-999.0000,9,-999.0000,9,   6.3011,   6.4012,2
  33RR20070322,  I09N,   141,  1,     17,     17,2,20070411,1848, -1.2507,  93.8292, 4636,1147.2000,   1147.2,   5.7686,  34.8865,2,  34.8861,2,     63.7,2,     64.6,2,    91.52,2,    37.62,2,     0.00,2,     2.76,2,    0.010,2,    0.004,2, -999.000,5,   2307.9,2,   2375.5,2,   7.4846,2,    25.00,     41.2,2,    38.88,2, -999.000,9, -999.000,-999.0000,9,-999.0000,  -999.00,9,  -999.00, -999.000,9, -999.000,   -160.6,2,      2.4,     0.12,2,-999.0000,9,-999.0000,9,-999.0000,9,-999.0000,9,-999.0000,9,-999.0000,9,-999.0000,9,-999.0000,9,-999.0000,9,   5.6645,   5.7684,2
  33RR20070322,  I09N,   141,  1,     16,     16,2,20070411,1848, -1.2507,  93.8292, 4636,1247.2000,   1247.2,   5.2272,  34.8729,2,  34.8731,2,     72.0,2,     73.1,2,    97.01,2,    37.46,2,     0.00,2,     2.75,2, -999.000,9, -999.000,9, -999.000,9,   2311.0,2,   2379.1,2,   7.4953,2,    25.00,     41.0,2,    39.36,2, -999.000,9, -999.000,-999.0000,9,-999.0000,  -999.00,9,  -999.00, -999.000,9, -999.000,   -999.0,9,   -999.0,  -999.00,9,-999.0000,9,-999.0000,9,-999.0000,9,-999.0000,9,-999.0000,9,-999.0000,9,-999.0000,9,-999.0000,9,-999.0000,9,   5.1182,   5.2271,2
  33RR20070322,  I09N,   141,  1,     15,     15,2,20070411,1848, -1.2507,  93.8292, 4636,1347.8000,   1347.8,   5.0321,  34.8649,2,  34.8643,2,     76.9,2,     76.7,2,    98.65,2,    37.40,2,     0.00,2,     2.75,2,    0.006,2,    0.002,2, -999.000,5,   2311.6,2,   2382.1,2,   7.5013,2,    25.00,     41.3,2,    39.38,2, -999.000,9, -999.000,-999.0000,9,-999.0000,  -999.00,9,  -999.00, -999.000,9, -999.000,   -172.0,2,      3.0,     0.09,2,-999.0000,9,-999.0000,9,-999.0000,9,-999.0000,9,-999.0000,9,-999.0000,9,-999.0000,9,-999.0000,9,-999.0000,9,   4.9153,   5.0316,2
  33RR20070322,  I09N,   141,  1,     14,     14,2,20070411,1848, -1.2507,  93.8292, 4636,1448.4000,   1448.4,   4.6196,  34.8392,2,  34.8376,2,     83.3,2,     85.0,2,   102.52,2,    37.23,2,     0.00,2,     2.73,2, -999.000,9, -999.000,9, -999.000,9,   2312.4,2,   2386.0,2,   7.5044,2,    25.00,     40.6,2,    38.59,2, -999.000,9, -999.000,-999.0000,9,-999.0000,  -999.00,9,  -999.00, -999.000,9, -999.000,   -999.0,9,   -999.0,  -999.00,9,-999.0000,9,-999.0000,9,-999.0000,9,-999.0000,9,-999.0000,9,-999.0000,9,-999.0000,9,-999.0000,9,-999.0000,9,   4.4976,   4.6211,2
  33RR20070322,  I09N,   141,  1,     13,     13,2,20070411,1848, -1.2507,  93.8292, 4636,1548.2000,   1548.2,   3.8739,  34.8146,2,  34.8127,2,     98.3,2,    100.8,2,   109.47,2,    36.85,2,     0.00,2,     2.68,2,    0.003,2,    0.001,2, -999.000,5,   2313.6,2,   2392.1,2,   7.5156,2,    25.00,     40.3,2,    38.48,2, -999.000,9, -999.000,-999.0000,9,-999.0000,  -999.00,9,  -999.00, -999.000,9, -999.000,   -186.2,2,      2.6,     0.20,2,-999.0000,9,-999.0000,9,-999.0000,9,-999.0000,9,-999.0000,9,-999.0000,9,-999.0000,9,-999.0000,9,-999.0000,9,   3.7511,   3.8807,2
  33RR20070322,  I09N,   141,  1,     12,     12,2,20070411,1848, -1.2507,  93.8292, 4636,1649.6000,   1649.6,   3.5393,  34.8075,2,  34.8076,2,    107.7,2,    108.6,2,   113.15,2,    36.46,2,     0.00,2,     2.65,2, -999.000,9, -999.000,9, -999.000,9,   2313.7,2,   2396.5,2,   7.5310,2,    25.00,     40.2,2,    38.10,2, -999.000,9, -999.000,-999.0000,9,-999.0000,  -999.00,9,  -999.00, -999.000,9, -999.000,   -999.0,9,   -999.0,  -999.00,9,-999.0000,9,-999.0000,9,-999.0000,9,-999.0000,9,-999.0000,9,-999.0000,9,-999.0000,9,-999.0000,9,-999.0000,9,   3.4114,   3.5364,2
  33RR20070322,  I09N,   141,  1,     11,     11,2,20070411,1848, -1.2507,  93.8292, 4636,1750.5000,   1750.5,   3.2894,  34.7978,2,  34.7976,2,    113.4,2,    113.1,2,   116.02,2,    36.29,2,     0.00,2,     2.64,2,    0.004,2,    0.003,2, -999.000,5,   2314.9,2,   2400.7,2,   7.5390,2,    25.00,     40.1,2,    37.57,2, -999.000,9, -999.000,-999.0000,9,-999.0000,  -999.00,9,  -999.00, -999.000,9, -999.000,   -999.0,9,   -999.0,  -999.00,9,-999.0000,9,-999.0000,9,-999.0000,9,-999.0000,9,-999.0000,9,-999.0000,9,-999.0000,9,-999.0000,9,-999.0000,9,   3.1557,   3.2887,2
  33RR20070322,  I09N,   141,  1,     10,     10,2,20070411,1848, -1.2507,  93.8292, 4636,1952.2000,   1952.2,   2.7346,  34.7749,2,  34.7750,2,    126.8,2,    127.8,2,   121.77,2,    35.90,2,     0.00,2,     2.58,2, -999.000,9, -999.000,9, -999.000,9,   2314.4,2,   2405.7,2,-999.0000,5,    25.00,     40.1,2,    37.35,2, -999.000,9, -999.000,-999.0000,9,-999.0000,  -999.00,9,  -999.00, -999.000,9, -999.000,   -999.0,9,   -999.0,  -999.00,9,-999.0000,9,-999.0000,9,-999.0000,9,-999.0000,9,-999.0000,9,-999.0000,9,-999.0000,9,-999.0000,9,-999.0000,9,   2.5908,   2.7329,2
  33RR20070322,  I09N,   141,  1,      9,      9,2,20070411,1848, -1.2507,  93.8292, 4636,2112.7000,   2112.7,   2.4655,  34.7649,2,  34.7650,2,    134.8,2,    135.1,2,   125.06,2,    35.73,2,     0.00,2,     2.56,2,    0.003,2,    0.001,2, -999.000,5,   2314.9,2,   2405.8,2,   7.5601,2,    25.00,     40.1,2,    37.07,2, -999.000,9, -999.000,-999.0000,9,-999.0000,  -999.00,9,  -999.00, -999.000,9, -999.000,   -999.0,9,   -999.0,  -999.00,9,-999.0000,9,-999.0000,9,-999.0000,9,-999.0000,9,-999.0000,9,-999.0000,9,-999.0000,9,-999.0000,9,-999.0000,9,   2.3116,   2.4653,2
  33RR20070322,  I09N,   141,  1,      8,      8,2,20070411,1848, -1.2507,  93.8292, 4636,2365.2000,   2365.2,   2.1953,  34.7531,2,  34.7526,2,    143.2,2,    143.2,2,   127.32,2,    35.40,2,     0.00,2,     2.52,2, -999.000,9, -999.000,9, -999.000,9,   2313.4,2,   2407.7,2,   7.5711,2,    25.00,     40.7,2,    36.93,2, -999.000,9, -999.000,-999.0000,9,-999.0000,  -999.00,9,  -999.00, -999.000,9, -999.000,   -999.0,9,   -999.0,  -999.00,9,-999.0000,9,-999.0000,9,-999.0000,9,-999.0000,9,-999.0000,9,-999.0000,9,-999.0000,9,-999.0000,9,-999.0000,9,   2.0233,   2.1949,2
  33RR20070322,  I09N,   141,  1,      7,      7,2,20070411,1848, -1.2507,  93.8292, 4636,2618.1000,   2618.1,   1.9793,  34.7441,2,  34.7428,2,    150.9,2,    150.3,2,   129.58,2,    35.07,2,     0.00,2,     2.48,2,    0.006,2,    0.002,2, -999.000,5,   2311.5,2,   2409.6,2,   7.5780,2,    25.00,     40.7,2,    36.84,2, -999.000,9, -999.000,-999.0000,9,-999.0000,  -999.00,9,  -999.00, -999.000,9, -999.000,   -999.0,9,   -999.0,  -999.00,9,-999.0000,9,-999.0000,9,-999.0000,9,-999.0000,9,-999.0000,9,-999.0000,9,-999.0000,9,-999.0000,9,-999.0000,9,   1.7881,   1.9791,2
  33RR20070322,  I09N,   141,  1,      6,      6,2,20070411,1848, -1.2507,  93.8292, 4636,2870.9000,   2870.9,   1.8112,  34.7369,2,  34.7371,2,    156.7,2,    156.9,2,   131.43,2,    34.85,2,     0.00,2,     2.44,2, -999.000,9, -999.000,9, -999.000,9,   2310.2,2,   2411.8,2,   7.5863,2,    25.00,     40.7,2,    36.81,2, -999.000,9, -999.000,-999.0000,9,-999.0000,  -999.00,9,  -999.00, -999.000,9, -999.000,   -999.0,9,   -999.0,  -999.00,9,-999.0000,9,-999.0000,9,-999.0000,9,-999.0000,9,-999.0000,9,-999.0000,9,-999.0000,9,-999.0000,9,-999.0000,9,   1.5997,   1.8110,2
  33RR20070322,  I09N,   141,  1,      5,      5,2,20070411,1848, -1.2507,  93.8292, 4636,3124.2000,   3124.2,   1.6573,  34.7313,2,  34.7315,2,    162.3,2,    161.9,2,   132.88,2,    34.68,2,     0.00,2,     2.42,2,    0.003,2,    0.001,2, -999.000,5,   2309.3,2,   2415.3,2,   7.5941,2,    25.00,     40.8,2,    36.60,2, -999.000,9, -999.000,-999.0000,9,-999.0000,  -999.00,9,  -999.00, -999.000,9, -999.000,   -999.0,9,   -999.0,  -999.00,9,-999.0000,9,-999.0000,9,-999.0000,9,-999.0000,9,-999.0000,9,-999.0000,9,-999.0000,9,-999.0000,9,-999.0000,9,   1.4247,   1.6570,2