BOTTLE,20150630SIOCCHRJL
EXPOCODE,SECT_ID,STNNBR,CASTNO,SAMPNO,BTLNBR,BTLNBR_FLAG_W,DATE,TIME,LATITUDE,LONGITUDE,DEPTH,CTDRAW,CTDPRS,CTDTMP,CTDSAL,CTDSAL_FLAG_W,SALNTY,SALNTY_FLAG_W,CTDOXY,CTDOXY_FLAG_W,OXYGEN,OXYGEN_FLAG_W,SILCAT,SILCAT_FLAG_W,NITRAT,NITRAT_FLAG_W,NITRIT,NITRIT_FLAG_W,PHSPHT,PHSPHT_FLAG_W,CFC-11,CFC-11_FLAG_W,CFC-12,CFC-12_FLAG_W,CFC113,CFC113_FLAG_W,TCARBN,TCARBN_FLAG_W,ALKALI,ALKALI_FLAG_W,PH_SWS,PH_SWS_FLAG_W,PH_TMP,DOC,DOC_FLAG_W,TDN,TDN_FLAG_W,TRITUM,TRITUM_FLAG_W,TRITER,HELIUM,HELIUM_FLAG_W,HELIER,DELHE3,DELHE3_FLAG_W,DELHER,NEON,NEON_FLAG_W,NEONER,DELC14,DELC14_FLAG_W,C14ERR,DELC13,DELC13_FLAG_W,CDOM325,CDOM325_FLAG_W,CDOM340,CDOM340_FLAG_W,CDOM380,CDOM380_FLAG_W,CDOM412,CDOM412_FLAG_W,CDOM443,CDOM443_FLAG_W,CDOM490,CDOM490_FLAG_W,CDOM555,CDOM555_FLAG_W,CDOMSL,CDOMSL_FLAG_W,CDOMSN,CDOMSN_FLAG_W,THETA,SBE35,SBE35_FLAG_W
,,,,,,,,,,,METERS,,DBAR,ITS-90,PSS-78,,PSS-78,,UMOL/KG,,UMOL/KG,,UMOL/KG,,UMOL/KG,,UMOL/KG,,UMOL/KG,,PMOL/KG,,PMOL/KG,,PMOL/KG,,UMOL/KG,,UMOL/KG,,,,DEG C,UMOL/KG,,UMOL/KG,,TU,,TU,NMOL/KG,,NMOL/KG,PERCNT,,PERCNT,NMOL/KG,,NMOL/KG,/MILLE,,/MILLE,/MILLE,,1/M,,1/M,,1/M,,1/M,,1/M,,1/M,,1/M,,1/NM,,1/NM,,DEG C,ITS-90,
  33RR20070322,  I09N,   169,  2,     36,     38,2,20070419,0606,  8.7203,  87.6325, 3580,   1.9000,      1.9,  30.0459,  33.5198,2,  33.5192,2,    195.6,2,    196.5,2,     1.12,2,     0.03,2,     0.00,2,     0.06,2,    1.539,2,    0.999,2, -999.000,5,   1894.1,6,   2210.7,6,   8.0780,6,    25.00,     75.5,2,     4.87,2, -999.000,9, -999.000,-999.0000,9,-999.0000,  -999.00,9,  -999.00, -999.000,9, -999.000,   -999.0,9,   -999.0,  -999.00,9,-999.0000,9,-999.0000,9,-999.0000,9,-999.0000,9,-999.0000,9,-999.0000,9,-999.0000,9,-999.0000,9,-999.0000,9,  30.0454,  30.0500,2
  33RR20070322,  I09N,   169,  2,     35,     35,2,20070419,0606,  8.7203,  87.6325, 3580,  19.1000,     19.1,  29.3111,  33.5639,2,  33.5641,2,    198.7,2,    198.5,2,     1.10,2,     0.03,2,     0.00,2,     0.05,2,    1.535,2,    1.008,2, -999.000,5,   1898.1,2,   2209.5,2,   8.0860,2,    25.00,     73.6,2,     5.92,2, -999.000,9, -999.000,-999.0000,9,-999.0000,  -999.00,9,  -999.00, -999.000,9, -999.000,     28.9,2,      2.2,     1.04,2,-999.0000,9,-999.0000,9,-999.0000,9,-999.0000,9,-999.0000,9,-999.0000,9,-999.0000,9,-999.0000,9,-999.0000,9,  29.3065,  29.3081,2
  33RR20070322,  I09N,   169,  2,     34,   9419,2,20070419,0606,  8.7203,  87.6325, 3580,  43.4000,     43.4,  28.7154,  34.1829,2,  34.1828,2,    200.0,2,    200.7,2,     1.28,2,     0.03,2,     0.00,2,     0.08,2, -999.000,9, -999.000,9, -999.000,9,   1925.6,2,   2252.4,2,   8.0995,2,    25.00,     69.7,2,     5.06,2, -999.000,9, -999.000,-999.0000,9,-999.0000,  -999.00,9,  -999.00, -999.000,9, -999.000,   -999.0,9,   -999.0,  -999.00,9,-999.0000,9,-999.0000,9,-999.0000,9,-999.0000,9,-999.0000,9,-999.0000,9,-999.0000,9,-999.0000,9,-999.0000,9,  28.7050,  28.7113,2
  33RR20070322,  I09N,   169,  2,     33,     33,2,20070419,0606,  8.7203,  87.6325, 3580,  88.1000,     88.1,  27.1854,  34.6149,2,  34.6228,2,    166.8,2,    152.7,2,     3.84,2,     3.08,2,     0.50,2,     0.46,2,    1.462,2,    0.944,2, -999.000,5,   1998.2,2,   2273.9,2,   7.9947,2,    25.00,     66.3,2,     7.46,2, -999.000,9, -999.000,-999.0000,9,-999.0000,  -999.00,9,  -999.00, -999.000,9, -999.000,     31.3,2,      5.0,     0.88,2,-999.0000,9,-999.0000,9,-999.0000,9,-999.0000,9,-999.0000,9,-999.0000,9,-999.0000,9,-999.0000,9,-999.0000,9,  27.1651,  27.0773,2
  33RR20070322,  I09N,   169,  2,     32,     37,2,20070419,0606,  8.7203,  87.6325, 3580, 138.3000,    138.3,  18.6691,  34.8744,2,  34.8632,2,     33.1,2,     35.2,2,    20.91,2,    24.79,2,     0.01,2,     1.78,2, -999.000,9, -999.000,9, -999.000,9,   2169.6,2,   2293.4,2,   7.6598,2,    25.00,     53.3,2,    28.26,2, -999.000,9, -999.000,-999.0000,9,-999.0000,  -999.00,9,  -999.00, -999.000,9, -999.000,     -7.0,2,      1.9,     0.10,2,-999.0000,9,-999.0000,9,-999.0000,9,-999.0000,9,-999.0000,9,-999.0000,9,-999.0000,9,-999.0000,9,-999.0000,9,  18.6448,  18.6754,2
  33RR20070322,  I09N,   169,  2,     31,     31,2,20070419,0606,  8.7203,  87.6325, 3580, 162.9000,    162.9,  15.7705,  34.9380,2,  34.9378,2,     13.4,2,     12.4,2,    27.66,2,    29.43,2,     0.00,2,     2.14,2,    0.790,2,    0.476,2, -999.000,5,   2215.1,2,   2305.3,2,   7.5601,2,    25.00,     51.9,2,    32.46,2, -999.000,9, -999.000,-999.0000,9,-999.0000,  -999.00,9,  -999.00, -999.000,9, -999.000,   -999.0,9,   -999.0,  -999.00,9,-999.0000,9,-999.0000,9,-999.0000,9,-999.0000,9,-999.0000,9,-999.0000,9,-999.0000,9,-999.0000,9,-999.0000,9,  15.7450,  15.7680,2
  33RR20070322,  I09N,   169,  2,     30,     30,2,20070419,0606,  8.7203,  87.6325, 3580, 188.7000,    188.7,  14.0243,  34.9965,2,  34.9966,2,      8.8,2,      9.4,2,    30.61,2,    31.25,2,     0.00,2,     2.27,2, -999.000,9, -999.000,9, -999.000,9,   2237.3,2,   2308.8,6,   7.5283,6,    25.00,     51.0,2,    34.54,2, -999.000,9, -999.000,-999.0000,9,-999.0000,  -999.00,9,  -999.00, -999.000,9, -999.000,    -27.6,2,      2.1,     0.02,2,-999.0000,9,-999.0000,9,-999.0000,9,-999.0000,9,-999.0000,9,-999.0000,9,-999.0000,9,-999.0000,9,-999.0000,9,  13.9970,  14.0239,2
  33RR20070322,  I09N,   169,  2,     29,     29,2,20070419,0606,  8.7203,  87.6325, 3580, 238.1000,    238.1,  12.6891,  35.0487,2,  35.0480,2,     16.4,2,     15.5,2,    31.39,2,    31.88,2,     0.00,2,     2.27,2,    0.648,2,    0.369,2, -999.000,5,   2246.5,2,   2309.4,2,   7.4995,2,    25.00,     48.7,2,    35.05,2, -999.000,9, -999.000,-999.0000,9,-999.0000,  -999.00,9,  -999.00, -999.000,9, -999.000,    -34.6,2,      2.1,     0.02,2,-999.0000,9,-999.0000,9,-999.0000,9,-999.0000,9,-999.0000,9,-999.0000,9,-999.0000,9,-999.0000,9,-999.0000,9,  12.6568,  12.6885,2
  33RR20070322,  I09N,   169,  2,     28,     28,2,20070419,0606,  8.7203,  87.6325, 3580, 288.1000,    288.1,  11.9940,  35.0699,2,  35.0671,2,     23.2,2,     22.4,2,    31.76,2,    31.98,2,     0.00,2,     2.26,2,    0.660,2,    0.373,2, -999.000,5,   2250.0,2,   2312.3,2,   7.5039,2,    25.00,     48.0,2,    35.59,2, -999.000,9, -999.000,-999.0000,9,-999.0000,  -999.00,9,  -999.00, -999.000,9, -999.000,    -39.5,2,      1.9,     0.07,2,-999.0000,9,-999.0000,9,-999.0000,9,-999.0000,9,-999.0000,9,-999.0000,9,-999.0000,9,-999.0000,9,-999.0000,9,  11.9563,  11.9948,2
  33RR20070322,  I09N,   169,  2,     27,     27,2,20070419,0606,  8.7203,  87.6325, 3580, 338.2000,    338.2,  11.3745,  35.0543,2,  35.0535,2,     21.0,2,     17.7,2,    35.73,2,    33.36,2,     0.00,2,     2.36,2,    0.488,2,    0.275,2, -999.000,5,   2259.0,2,   2313.3,2,   7.4753,2,    25.00,     47.4,2,    36.95,2, -999.000,9, -999.000,-999.0000,9,-999.0000,  -999.00,9,  -999.00, -999.000,9, -999.000,    -55.5,2,      2.5,     0.04,2,-999.0000,9,-999.0000,9,-999.0000,9,-999.0000,9,-999.0000,9,-999.0000,9,-999.0000,9,-999.0000,9,-999.0000,9,  11.3316,  11.3728,2
  33RR20070322,  I09N,   169,  2,     26,     26,2,20070419,0606,  8.7203,  87.6325, 3580, 388.1000,    388.1,  10.7913,  35.0373,2,  35.0365,2,     17.0,2,     15.6,2,    40.89,2,    34.63,2,     0.00,2,     2.45,2,    0.331,2,    0.188,2, -999.000,5,   2267.2,2,   2318.8,2,   7.4506,2,    25.00,     45.9,2,    38.00,2, -999.000,9, -999.000,-999.0000,9,-999.0000,  -999.00,9,  -999.00, -999.000,9, -999.000,    -72.6,2,      2.0,     0.05,2,-999.0000,9,-999.0000,9,-999.0000,9,-999.0000,9,-999.0000,9,-999.0000,9,-999.0000,9,-999.0000,9,-999.0000,9,  10.7436,  10.7909,2
  33RR20070322,  I09N,   169,  2,     25,     25,2,20070419,0606,  8.7203,  87.6325, 3580, 438.0000,    438.0,  10.4523,  35.0461,2,  35.0450,2,     17.7,2,     16.7,2,    42.46,2,    34.93,2,     0.00,2,     2.49,2,    0.278,2,    0.158,2, -999.000,5,   2270.0,2,   2320.2,2,   7.4607,2,    25.00,     45.3,2,    38.39,2, -999.000,9, -999.000,-999.0000,9,-999.0000,  -999.00,9,  -999.00, -999.000,9, -999.000,    -78.6,2,      2.2,     0.07,2,-999.0000,9,-999.0000,9,-999.0000,9,-999.0000,9,-999.0000,9,-999.0000,9,-999.0000,9,-999.0000,9,-999.0000,9,  10.3994,  10.4508,2
  33RR20070322,  I09N,   169,  2,     24,     24,2,20070419,0606,  8.7203,  87.6325, 3580, 488.3000,    488.3,  10.0892,  35.0405,2,  35.0399,2,     17.0,2,     16.3,2,    46.23,2,    35.42,2,     0.00,2,     2.53,2,    0.213,2,    0.120,2, -999.000,5,   2274.8,2,   2323.9,2,   7.4485,2,    25.00,     44.6,2,    38.49,2, -999.000,9, -999.000,-999.0000,9,-999.0000,  -999.00,9,  -999.00, -999.000,9, -999.000,    -86.2,2,      2.1,     0.06,2,-999.0000,9,-999.0000,9,-999.0000,9,-999.0000,9,-999.0000,9,-999.0000,9,-999.0000,9,-999.0000,9,-999.0000,9,  10.0313,  10.0764,2
  33RR20070322,  I09N,   169,  2,     23,     23,2,20070419,0606,  8.7203,  87.6325, 3580, 573.5000,    573.5,   9.4313,  35.0292,2,  35.0294,2,     17.3,2,     17.2,2,    52.80,2,    36.30,2,     0.00,2,     2.61,2,    0.114,2,    0.066,2, -999.000,5,   2283.1,2,   2334.4,2,   7.4473,2,    25.00,     44.2,2,    39.28,2, -999.000,9, -999.000,-999.0000,9,-999.0000,  -999.00,9,  -999.00, -999.000,9, -999.000,   -105.4,2,      2.0,     0.05,2,-999.0000,9,-999.0000,9,-999.0000,9,-999.0000,9,-999.0000,9,-999.0000,9,-999.0000,9,-999.0000,9,-999.0000,9,   9.3658,   9.4307,2
  33RR20070322,  I09N,   169,  2,     22,     22,2,20070419,0606,  8.7203,  87.6325, 3580, 673.2000,    673.2,   8.7677,  35.0085,2,  35.0103,2,     21.9,2,     22.1,2,    59.57,2,    36.71,2,     0.00,2,     2.66,2,    0.071,2,    0.041,2, -999.000,5,   2290.1,2,   2340.3,2,   7.4447,2,    25.00,     43.7,2,    38.92,2, -999.000,9, -999.000,-999.0000,9,-999.0000,  -999.00,9,  -999.00, -999.000,9, -999.000,   -117.9,2,      1.8,     0.08,2,-999.0000,9,-999.0000,9,-999.0000,9,-999.0000,9,-999.0000,9,-999.0000,9,-999.0000,9,-999.0000,9,-999.0000,9,   8.6937,   8.7810,2
  33RR20070322,  I09N,   169,  2,     21,     21,2,20070419,0606,  8.7203,  87.6325, 3580, 773.1000,    773.1,   8.1304,  34.9846,2,  34.9842,2,     29.8,2,     28.1,2,    67.76,2,    37.00,2,     0.00,2,     2.68,2,    0.050,2,    0.029,2, -999.000,5,   2297.2,2,   2347.7,2,   7.4544,2,    25.00,     43.2,2,    39.53,2, -999.000,9, -999.000,-999.0000,9,-999.0000,  -999.00,9,  -999.00, -999.000,9, -999.000,   -999.0,9,   -999.0,  -999.00,9,-999.0000,9,-999.0000,9,-999.0000,9,-999.0000,9,-999.0000,9,-999.0000,9,-999.0000,9,-999.0000,9,-999.0000,9,   8.0485,   8.1322,2
  33RR20070322,  I09N,   169,  2,     20,     20,2,20070419,0606,  8.7203,  87.6325, 3580, 874.1000,    874.1,   7.4078,  34.9648,2,  34.9627,2,     35.9,2,     35.3,2,    75.15,2,    37.29,2,     0.00,2,     2.71,2, -999.000,5, -999.000,5, -999.000,5,   2306.0,2,   2362.4,2,   7.4656,2,    25.00,     42.9,2,    39.95,2, -999.000,9, -999.000,-999.0000,9,-999.0000,  -999.00,9,  -999.00, -999.000,9, -999.000,   -137.7,2,      2.3,     0.05,2,-999.0000,9,-999.0000,9,-999.0000,9,-999.0000,9,-999.0000,9,-999.0000,9,-999.0000,9,-999.0000,9,-999.0000,9,   7.3193,   7.4080,2
  33RR20070322,  I09N,   169,  2,     19,     19,2,20070419,0606,  8.7203,  87.6325, 3580, 974.0000,    974.0,   6.8432,  34.9405,2,  34.9405,2,     43.3,2,     42.8,2,    81.56,2,    37.34,2,     0.00,2,     2.72,2,    0.020,2,    0.012,2, -999.000,5,   2308.8,6,   2370.0,2,   7.4586,2,    25.00,     42.5,2,    39.89,2, -999.000,9, -999.000,-999.0000,9,-999.0000,  -999.00,9,  -999.00, -999.000,9, -999.000,   -999.0,9,   -999.0,  -999.00,9,-999.0000,9,-999.0000,9,-999.0000,9,-999.0000,9,-999.0000,9,-999.0000,9,-999.0000,9,-999.0000,9,-999.0000,9,   6.7481,   6.8445,2
  33RR20070322,  I09N,   169,  2,     18,     18,2,20070419,0606,  8.7203,  87.6325, 3580,1074.8000,   1074.8,   6.2962,  34.9186,2,  34.9182,2,     50.4,2,     50.9,2,    87.97,2,    37.33,2,     0.00,2,     2.72,2, -999.000,9, -999.000,9, -999.000,9,   2314.5,2,   2375.7,2,   7.4683,2,    25.00,     42.1,2,    39.10,2, -999.000,9, -999.000,-999.0000,9,-999.0000,  -999.00,9,  -999.00, -999.000,9, -999.000,   -148.1,2,      1.8,     0.09,2,-999.0000,9,-999.0000,9,-999.0000,9,-999.0000,9,-999.0000,9,-999.0000,9,-999.0000,9,-999.0000,9,-999.0000,9,   6.1949,   6.2951,2
  33RR20070322,  I09N,   169,  2,     17,     17,2,20070419,0606,  8.7203,  87.6325, 3580,1175.2000,   1175.2,   5.8175,  34.9013,2,  34.9011,2,     57.6,2,     57.3,2,    93.39,2,    37.38,2,     0.00,2,     2.72,2,    0.011,2,    0.006,2, -999.000,5,   2317.6,2,   2371.5,2,   7.4721,2,    25.00,     41.9,2,    38.96,2, -999.000,9, -999.000,-999.0000,9,-999.0000,  -999.00,9,  -999.00, -999.000,9, -999.000,   -999.0,9,   -999.0,  -999.00,9,-999.0000,9,-999.0000,9,-999.0000,9,-999.0000,9,-999.0000,9,-999.0000,9,-999.0000,9,-999.0000,9,-999.0000,9,   5.7102,   5.8195,2
  33RR20070322,  I09N,   169,  2,     16,     16,2,20070419,0606,  8.7203,  87.6325, 3580,1275.4000,   1275.4,   5.3868,  34.8838,2,  34.8838,2,     64.1,2,     65.9,2,    97.61,2,    37.23,2,     0.00,2,     2.70,2, -999.000,9, -999.000,9, -999.000,9,   2318.2,2,   2376.5,2,   7.4815,2,    25.00,     41.6,2,    38.23,2, -999.000,9, -999.000,-999.0000,9,-999.0000,  -999.00,9,  -999.00, -999.000,9, -999.000,   -163.8,2,      1.8,     0.06,2,-999.0000,9,-999.0000,9,-999.0000,9,-999.0000,9,-999.0000,9,-999.0000,9,-999.0000,9,-999.0000,9,-999.0000,9,   5.2735,   5.3963,2
  33RR20070322,  I09N,   169,  2,     15,     15,2,20070419,0606,  8.7203,  87.6325, 3580,1375.6000,   1375.6,   4.9740,  34.8679,2,  34.8683,2,     72.9,2,     73.6,2,   102.64,2,    37.02,2,     0.00,2,     2.68,2,    0.010,2,    0.006,2, -999.000,5,   2319.5,2,   2381.7,2,   7.4924,2,    25.00,     41.3,2,    38.35,2, -999.000,9, -999.000,-999.0000,9,-999.0000,  -999.00,9,  -999.00, -999.000,9, -999.000,   -999.0,9,   -999.0,  -999.00,9,-999.0000,9,-999.0000,9,-999.0000,9,-999.0000,9,-999.0000,9,-999.0000,9,-999.0000,9,-999.0000,9,-999.0000,9,   4.8552,   4.9745,2
  33RR20070322,  I09N,   169,  2,     14,     14,2,20070419,0606,  8.7203,  87.6325, 3580,1476.5000,   1476.5,   4.5548,  34.8528,2,  34.8537,2,     79.0,2,     79.8,2,   107.07,2,    36.97,2,     0.00,2,     2.68,2, -999.000,9, -999.000,9, -999.000,9,   2322.0,2,   2386.5,2,   7.4992,2,    25.00,     41.0,2,    38.78,2, -999.000,9, -999.000,-999.0000,9,-999.0000,  -999.00,9,  -999.00, -999.000,9, -999.000,   -176.0,2,      1.7,     0.11,2,-999.0000,9,-999.0000,9,-999.0000,9,-999.0000,9,-999.0000,9,-999.0000,9,-999.0000,9,-999.0000,9,-999.0000,9,   4.4308,   4.5635,2
  33RR20070322,  I09N,   169,  2,     13,     13,2,20070419,0606,  8.7203,  87.6325, 3580,1576.8000,   1576.8,   4.1642,  34.8386,2,  34.8372,2,     84.9,2,     86.1,2,   111.30,2,    36.96,2,     0.00,2,     2.68,2,    0.005,2,    0.005,2, -999.000,5,   2324.8,2,   2390.7,2,   7.5042,2,    25.00,     41.3,2,    38.44,2, -999.000,9, -999.000,-999.0000,9,-999.0000,  -999.00,9,  -999.00, -999.000,9, -999.000,   -999.0,9,   -999.0,  -999.00,9,-999.0000,9,-999.0000,9,-999.0000,9,-999.0000,9,-999.0000,9,-999.0000,9,-999.0000,9,-999.0000,9,-999.0000,9,   4.0353,   4.1683,2
  33RR20070322,  I09N,   169,  2,     12,     12,2,20070419,0606,  8.7203,  87.6325, 3580,1677.3000,   1677.3,   3.7498,  34.8227,2,  34.8224,2,     93.0,2,     93.9,2,   115.95,2,    36.82,2,     0.00,2,     2.66,2, -999.000,9, -999.000,9, -999.000,9,   2337.7,3,   2395.9,2,   7.5061,2,    25.00,     41.0,2,    38.81,2, -999.000,9, -999.000,-999.0000,9,-999.0000,  -999.00,9,  -999.00, -999.000,9, -999.000,   -999.0,9,   -999.0,  -999.00,9,-999.0000,9,-999.0000,9,-999.0000,9,-999.0000,9,-999.0000,9,-999.0000,9,-999.0000,9,-999.0000,9,-999.0000,9,   3.6167,   3.7536,2
  33RR20070322,  I09N,   169,  2,     11,     11,2,20070419,0606,  8.7203,  87.6325, 3580,1778.8000,   1778.8,   3.4346,  34.8095,2,  34.8083,2,    101.1,2,    100.8,2,   119.80,2,    36.61,2,     0.00,2,     2.64,2,    0.003,2,    0.003,2, -999.000,5,   2327.2,2,   2405.8,2,   7.5181,2,    25.00,     40.7,2,    37.94,2, -999.000,9, -999.000,-999.0000,9,-999.0000,  -999.00,9,  -999.00, -999.000,9, -999.000,   -999.0,9,   -999.0,  -999.00,9,-999.0000,9,-999.0000,9,-999.0000,9,-999.0000,9,-999.0000,9,-999.0000,9,-999.0000,9,-999.0000,9,-999.0000,9,   3.2964,   3.4359,2
  33RR20070322,  I09N,   169,  2,     10,     10,2,20070419,0606,  8.7203,  87.6325, 3580,1879.4000,   1879.4,   3.1003,  34.7951,2,  34.7949,2,    109.0,2,    108.3,2,   122.84,2,    36.31,2,     0.00,2,     2.62,2, -999.000,9, -999.000,9, -999.000,9,   2328.5,2,   2411.1,2,   7.5261,2,    25.00,     40.5,2,    37.84,2, -999.000,9, -999.000,-999.0000,9,-999.0000,  -999.00,9,  -999.00, -999.000,9, -999.000,   -999.0,9,   -999.0,  -999.00,9,-999.0000,9,-999.0000,9,-999.0000,9,-999.0000,9,-999.0000,9,-999.0000,9,-999.0000,9,-999.0000,9,-999.0000,9,   2.9576,   3.1013,2
  33RR20070322,  I09N,   169,  2,      9,      9,2,20070419,0606,  8.7203,  87.6325, 3580,1980.4000,   1980.4,   2.8624,  34.7845,2,  34.7845,2,    115.8,2,    115.0,2,   125.46,2,    36.11,2,     0.00,2,     2.59,2,    0.004,2,    0.003,2, -999.000,5,   2328.9,2,   2413.8,2,   7.5327,2,    25.00,     40.7,2,    37.45,2, -999.000,9, -999.000,-999.0000,9,-999.0000,  -999.00,9,  -999.00, -999.000,9, -999.000,   -999.0,9,   -999.0,  -999.00,9,-999.0000,9,-999.0000,9,-999.0000,9,-999.0000,9,-999.0000,9,-999.0000,9,-999.0000,9,-999.0000,9,-999.0000,9,   2.7142,   2.8663,2
  33RR20070322,  I09N,   169,  2,      8,      8,2,20070419,0606,  8.7203,  87.6325, 3580,2181.9000,   2181.9,   2.5138,  34.7688,2,  34.7675,2,    125.3,2,    124.1,2,   129.32,2,    35.81,2,     0.00,2,     2.55,2, -999.000,9, -999.000,9, -999.000,9,   2328.6,2,   2418.8,2,   7.5368,2,    25.00,     40.7,2,    37.45,2, -999.000,9, -999.000,-999.0000,9,-999.0000,  -999.00,9,  -999.00, -999.000,9, -999.000,   -999.0,9,   -999.0,  -999.00,9,-999.0000,9,-999.0000,9,-999.0000,9,-999.0000,9,-999.0000,9,-999.0000,9,-999.0000,9,-999.0000,9,-999.0000,9,   2.3529,   2.5126,2
  33RR20070322,  I09N,   169,  2,      7,      7,2,20070419,0606,  8.7203,  87.6325, 3580,2433.7000,   2433.7,   2.1933,  34.7545,2,  34.7540,2,    134.0,2,    133.6,2,   133.18,2,    35.61,2,     0.00,2,     2.51,2,    0.004,2,    0.004,2, -999.000,5,   2328.1,2,   2422.5,2,   7.5533,2,    25.00,     40.4,2,    37.30,2, -999.000,9, -999.000,-999.0000,9,-999.0000,  -999.00,9,  -999.00, -999.000,9, -999.000,   -999.0,9,   -999.0,  -999.00,9,-999.0000,9,-999.0000,9,-999.0000,9,-999.0000,9,-999.0000,9,-999.0000,9,-999.0000,9,-999.0000,9,-999.0000,9,   2.0151,   2.1945,2
  33RR20070322,  I09N,   169,  2,      6,      6,2,20070419,0606,  8.7203,  87.6325, 3580,2686.2000,   2686.2,   1.9465,  34.7438,2,  34.7434,2,    140.3,2,    140.4,2,   136.43,2,    35.16,2,     0.00,2,     2.48,2, -999.000,9, -999.000,9, -999.000,9,   2328.2,2,   2425.3,2,   7.5679,2,    25.00,     40.8,2,    36.27,2, -999.000,9, -999.000,-999.0000,9,-999.0000,  -999.00,9,  -999.00, -999.000,9, -999.000,   -999.0,9,   -999.0,  -999.00,9,-999.0000,9,-999.0000,9,-999.0000,9,-999.0000,9,-999.0000,9,-999.0000,9,-999.0000,9,-999.0000,9,-999.0000,9,   1.7496,   1.9463,2
  33RR20070322,  I09N,   169,  2,      5,      5,2,20070419,0606,  8.7203,  87.6325, 3580,2940.7000,   2940.7,   1.7877,  34.7369,2,  34.7363,2,    146.9,2,    147.1,2,   137.24,2,    34.96,2,     0.00,2,     2.45,2,    0.003,2,    0.003,2, -999.000,5,   2325.6,2,   2412.9,2,   7.5713,2,    25.00,     41.4,2,    36.59,2, -999.000,9, -999.000,-999.0000,9,-999.0000,  -999.00,9,  -999.00, -999.000,9, -999.000,   -999.0,9,   -999.0,  -999.00,9,-999.0000,9,-999.0000,9,-999.0000,9,-999.0000,9,-999.0000,9,-999.0000,9,-999.0000,9,-999.0000,9,-999.0000,9,   1.5700,   1.7867,2