BOTTLE,20150630SIOCCHRJL
EXPOCODE,SECT_ID,STNNBR,CASTNO,SAMPNO,BTLNBR,BTLNBR_FLAG_W,DATE,TIME,LATITUDE,LONGITUDE,DEPTH,CTDRAW,CTDPRS,CTDTMP,CTDSAL,CTDSAL_FLAG_W,SALNTY,SALNTY_FLAG_W,CTDOXY,CTDOXY_FLAG_W,OXYGEN,OXYGEN_FLAG_W,SILCAT,SILCAT_FLAG_W,NITRAT,NITRAT_FLAG_W,NITRIT,NITRIT_FLAG_W,PHSPHT,PHSPHT_FLAG_W,CFC-11,CFC-11_FLAG_W,CFC-12,CFC-12_FLAG_W,CFC113,CFC113_FLAG_W,TCARBN,TCARBN_FLAG_W,ALKALI,ALKALI_FLAG_W,PH_SWS,PH_SWS_FLAG_W,PH_TMP,DOC,DOC_FLAG_W,TDN,TDN_FLAG_W,TRITUM,TRITUM_FLAG_W,TRITER,HELIUM,HELIUM_FLAG_W,HELIER,DELHE3,DELHE3_FLAG_W,DELHER,NEON,NEON_FLAG_W,NEONER,DELC14,DELC14_FLAG_W,C14ERR,DELC13,DELC13_FLAG_W,CDOM325,CDOM325_FLAG_W,CDOM340,CDOM340_FLAG_W,CDOM380,CDOM380_FLAG_W,CDOM412,CDOM412_FLAG_W,CDOM443,CDOM443_FLAG_W,CDOM490,CDOM490_FLAG_W,CDOM555,CDOM555_FLAG_W,CDOMSL,CDOMSL_FLAG_W,CDOMSN,CDOMSN_FLAG_W,THETA,SBE35,SBE35_FLAG_W
,,,,,,,,,,,METERS,,DBAR,ITS-90,PSS-78,,PSS-78,,UMOL/KG,,UMOL/KG,,UMOL/KG,,UMOL/KG,,UMOL/KG,,UMOL/KG,,PMOL/KG,,PMOL/KG,,PMOL/KG,,UMOL/KG,,UMOL/KG,,,,DEG C,UMOL/KG,,UMOL/KG,,TU,,TU,NMOL/KG,,NMOL/KG,PERCNT,,PERCNT,NMOL/KG,,NMOL/KG,/MILLE,,/MILLE,/MILLE,,1/M,,1/M,,1/M,,1/M,,1/M,,1/M,,1/M,,1/NM,,1/NM,,DEG C,ITS-90,
  33RR20070322,  I09N,   134,  1,     36,     38,2,20070410,0018, -3.6158,  94.5690, 4840,   3.0000,      3.0,  29.0177,  34.1826,2,  34.1841,2,    195.8,2,    196.3,2,     1.46,2,     0.12,2,     0.00,2,     0.10,2,    1.472,2,    0.958,2, -999.000,5,   1920.8,6,   2239.4,2,   8.0810,6,    25.00,   -999.0,9,  -999.00,9, -999.000,9, -999.000,-999.0000,9,-999.0000,  -999.00,9,  -999.00, -999.000,9, -999.000,   -999.0,9,   -999.0,  -999.00,9,-999.0000,9,-999.0000,9,-999.0000,9,-999.0000,9,-999.0000,9,-999.0000,9,-999.0000,9,-999.0000,9,-999.0000,9,  29.0170,  29.0145,2
  33RR20070322,  I09N,   134,  1,     35,     35,2,20070410,0018, -3.6158,  94.5690, 4840,  31.4000,     31.4,  28.7325,  34.2817,2,  34.2640,2,    198.3,2,    196.5,2,     1.46,2,     0.12,2,     0.00,2,     0.09,2,    1.442,2,    0.942,2, -999.000,5,   1926.5,2,   2245.2,2,   8.1081,2,    25.00,   -999.0,9,  -999.00,9, -999.000,9, -999.000,-999.0000,9,-999.0000,  -999.00,9,  -999.00, -999.000,9, -999.000,   -999.0,9,   -999.0,  -999.00,9,-999.0000,9,-999.0000,9,-999.0000,9,-999.0000,9,-999.0000,9,-999.0000,9,-999.0000,9,-999.0000,9,-999.0000,9,  28.7250,  28.7312,2
  33RR20070322,  I09N,   134,  1,     34,   9419,2,20070410,0018, -3.6158,  94.5690, 4840,  56.1000,     56.1,  28.4910,  34.4115,2,  34.3972,2,    197.1,2,    194.6,2,     1.64,2,     0.07,2,     0.00,2,     0.12,2,    1.531,2,    0.994,2, -999.000,5,   -999.0,9,   -999.0,9,-999.0000,9,  -999.00,   -999.0,9,  -999.00,9, -999.000,9, -999.000,-999.0000,9,-999.0000,  -999.00,9,  -999.00, -999.000,9, -999.000,   -999.0,9,   -999.0,  -999.00,9,-999.0000,9,-999.0000,9,-999.0000,9,-999.0000,9,-999.0000,9,-999.0000,9,-999.0000,9,-999.0000,9,-999.0000,9,  28.4776,  28.4885,2
  33RR20070322,  I09N,   134,  1,     33,     33,2,20070410,0018, -3.6158,  94.5690, 4840,  81.2000,     81.2,  24.9242,  35.3481,2,  35.3457,2,    144.3,2,    147.4,2,     4.11,2,     5.31,2,     0.87,2,     0.62,2,    1.648,2,    1.058,2, -999.000,5,   2057.1,2,   2314.5,2,   7.9410,3,    25.00,   -999.0,9,  -999.00,9, -999.000,9, -999.000,-999.0000,9,-999.0000,  -999.00,9,  -999.00, -999.000,9, -999.000,   -999.0,9,   -999.0,  -999.00,9,-999.0000,9,-999.0000,9,-999.0000,9,-999.0000,9,-999.0000,9,-999.0000,9,-999.0000,9,-999.0000,9,-999.0000,9,  24.9066,  24.9490,2
  33RR20070322,  I09N,   134,  1,     32,     37,2,20070410,0018, -3.6158,  94.5690, 4840, 105.8000,    105.8,  22.8366,  35.3244,2,  35.3256,2,    111.9,2,    111.6,2,     7.16,2,    12.47,2,     0.09,2,     0.94,2,    1.666,2,    1.036,2, -999.000,5,   -999.0,9,   -999.0,9,-999.0000,9,  -999.00,   -999.0,9,  -999.00,9, -999.000,9, -999.000,-999.0000,9,-999.0000,  -999.00,9,  -999.00, -999.000,9, -999.000,   -999.0,9,   -999.0,  -999.00,9,-999.0000,9,-999.0000,9,-999.0000,9,-999.0000,9,-999.0000,9,-999.0000,9,-999.0000,9,-999.0000,9,-999.0000,9,  22.8151,  22.8317,2
  33RR20070322,  I09N,   134,  1,     31,     31,2,20070410,0018, -3.6158,  94.5690, 4840, 155.8000,    155.8,  16.5970,  34.9546,2,  34.9546,2,     54.1,2,     51.9,2,    20.48,2,    24.60,2,     0.01,2,     1.70,2,    1.406,2,    0.835,2, -999.000,5,   -999.0,9,   -999.0,9,-999.0000,9,  -999.00,   -999.0,9,  -999.00,9, -999.000,9, -999.000,-999.0000,9,-999.0000,  -999.00,9,  -999.00, -999.000,9, -999.000,   -999.0,9,   -999.0,  -999.00,9,-999.0000,9,-999.0000,9,-999.0000,9,-999.0000,9,-999.0000,9,-999.0000,9,-999.0000,9,-999.0000,9,-999.0000,9,  16.5717,  16.6103,2
  33RR20070322,  I09N,   134,  1,     30,     30,2,20070410,0018, -3.6158,  94.5690, 4840, 206.0000,    206.0,  13.8132,  35.0992,2,  35.0936,2,     61.8,2,     67.5,2,    20.09,2,    25.41,2,     0.00,2,     1.76,2,    1.377,2,    0.772,2, -999.000,5,   2201.0,2,   2311.1,6,   7.6274,2,    25.00,   -999.0,9,  -999.00,9, -999.000,9, -999.000,-999.0000,9,-999.0000,  -999.00,9,  -999.00, -999.000,9, -999.000,   -999.0,9,   -999.0,  -999.00,9,-999.0000,9,-999.0000,9,-999.0000,9,-999.0000,9,-999.0000,9,-999.0000,9,-999.0000,9,-999.0000,9,-999.0000,9,  13.7837,  13.8194,2
  33RR20070322,  I09N,   134,  1,     29,     29,2,20070410,0018, -3.6158,  94.5690, 4840, 256.0000,    256.0,  12.3057,  35.0541,2,  35.0546,2,     80.7,2,     84.9,2,    20.09,2,    25.16,2,     0.00,2,     1.73,2,    1.378,2,    0.748,2, -999.000,5,   -999.0,9,   -999.0,9,-999.0000,9,  -999.00,   -999.0,9,  -999.00,9, -999.000,9, -999.000,-999.0000,9,-999.0000,  -999.00,9,  -999.00, -999.000,9, -999.000,   -999.0,9,   -999.0,  -999.00,9,-999.0000,9,-999.0000,9,-999.0000,9,-999.0000,9,-999.0000,9,-999.0000,9,-999.0000,9,-999.0000,9,-999.0000,9,  12.2716,  12.2840,2
  33RR20070322,  I09N,   134,  1,     28,     28,2,20070410,0018, -3.6158,  94.5690, 4840, 305.5000,    305.5,  11.3033,  34.9940,2,  34.9978,2,     78.6,2,     71.9,2,    24.67,2,    28.02,2,     0.00,2,     1.92,2,    0.923,2,    0.504,2, -999.000,5,   2216.0,2,   2311.4,2,   7.6103,2,    25.00,   -999.0,9,  -999.00,9, -999.000,9, -999.000,-999.0000,9,-999.0000,  -999.00,9,  -999.00, -999.000,9, -999.000,   -999.0,9,   -999.0,  -999.00,9,-999.0000,9,-999.0000,9,-999.0000,9,-999.0000,9,-999.0000,9,-999.0000,9,-999.0000,9,-999.0000,9,-999.0000,9,  11.2648,  11.3181,2
  33RR20070322,  I09N,   134,  1,     27,     27,2,20070410,0018, -3.6158,  94.5690, 4840, 354.9000,    354.9,  10.8548,  34.9759,2,  34.9751,2,     78.1,2,     79.4,2,    24.85,2,    28.32,2,     0.00,2,     1.93,2,    0.894,2,    0.490,2, -999.000,5,   -999.0,9,   -999.0,9,-999.0000,9,  -999.00,   -999.0,9,  -999.00,9, -999.000,9, -999.000,-999.0000,9,-999.0000,  -999.00,9,  -999.00, -999.000,9, -999.000,   -999.0,9,   -999.0,  -999.00,9,-999.0000,9,-999.0000,9,-999.0000,9,-999.0000,9,-999.0000,9,-999.0000,9,-999.0000,9,-999.0000,9,-999.0000,9,  10.8111,  10.8612,2
  33RR20070322,  I09N,   134,  1,     26,     26,2,20070410,0018, -3.6158,  94.5690, 4840, 405.5000,    405.5,  10.4617,  34.9553,2,  34.9526,2,   -999.0,9,   -999.0,5,    26.19,2,    28.53,2,     0.00,2,     1.95,2,    0.882,2,    0.482,2, -999.000,5,   -999.0,9,   -999.0,9,-999.0000,9,  -999.00,   -999.0,9,  -999.00,9, -999.000,9, -999.000,-999.0000,9,-999.0000,  -999.00,9,  -999.00, -999.000,9, -999.000,   -999.0,9,   -999.0,  -999.00,9,-999.0000,9,-999.0000,9,-999.0000,9,-999.0000,9,-999.0000,9,-999.0000,9,-999.0000,9,-999.0000,9,-999.0000,9,  10.4128,  10.4567,2
  33RR20070322,  I09N,   134,  1,     25,     25,2,20070410,0018, -3.6158,  94.5690, 4840, 455.7000,    455.7,  10.0836,  34.9331,2,  34.9326,2,     81.7,2,     79.3,2,    29.23,2,    29.79,2,     0.00,2,     2.04,2,    0.676,2,    0.365,2, -999.000,5,   2222.8,2,   2311.9,2,   7.5693,2,    25.00,   -999.0,9,  -999.00,9, -999.000,9, -999.000,-999.0000,9,-999.0000,  -999.00,9,  -999.00, -999.000,9, -999.000,   -999.0,9,   -999.0,  -999.00,9,-999.0000,9,-999.0000,9,-999.0000,9,-999.0000,9,-999.0000,9,-999.0000,9,-999.0000,9,-999.0000,9,-999.0000,9,  10.0298,  10.0831,2
  33RR20070322,  I09N,   134,  1,     24,     24,2,20070410,0018, -3.6158,  94.5690, 4840, 505.7000,    505.7,   9.6338,  34.9131,2,  34.9108,2,     72.2,2,     70.0,2,    34.38,2,    31.56,2,     0.00,2,     2.20,2,    0.000,5,    0.000,5, -999.000,5,   -999.0,9,   -999.0,9,-999.0000,9,  -999.00,   -999.0,9,  -999.00,9, -999.000,9, -999.000,-999.0000,9,-999.0000,  -999.00,9,  -999.00, -999.000,9, -999.000,   -999.0,9,   -999.0,  -999.00,9,-999.0000,9,-999.0000,9,-999.0000,9,-999.0000,9,-999.0000,9,-999.0000,9,-999.0000,9,-999.0000,9,-999.0000,9,   9.5756,   9.6369,2
  33RR20070322,  I09N,   134,  1,     23,     23,2,20070410,0018, -3.6158,  94.5690, 4840, 605.9000,    605.9,   8.9531,  34.8994,2,  34.8965,2,     65.9,2,     63.4,2,    43.15,2,    33.17,2,     0.00,2,     2.37,2,    0.201,2,    0.116,2, -999.000,5,   -999.0,9,   -999.0,9,-999.0000,9,  -999.00,   -999.0,9,  -999.00,9, -999.000,9, -999.000,-999.0000,9,-999.0000,  -999.00,9,  -999.00, -999.000,9, -999.000,   -999.0,9,   -999.0,  -999.00,9,-999.0000,9,-999.0000,9,-999.0000,9,-999.0000,9,-999.0000,9,-999.0000,9,-999.0000,9,-999.0000,9,-999.0000,9,   8.8860,   8.9489,2
  33RR20070322,  I09N,   134,  1,     22,     22,2,20070410,0018, -3.6158,  94.5690, 4840, 705.6000,    705.6,   8.2875,  34.9135,2,  34.9145,2,     55.7,2,     54.0,2,    55.18,2,    34.90,2,     0.00,2,     2.56,2,    0.000,5,    0.000,5, -999.000,5,   2268.7,2,   2337.3,2,   7.5111,6,    25.00,   -999.0,9,  -999.00,9, -999.000,9, -999.000,-999.0000,9,-999.0000,  -999.00,9,  -999.00, -999.000,9, -999.000,   -999.0,9,   -999.0,  -999.00,9,-999.0000,9,-999.0000,9,-999.0000,9,-999.0000,9,-999.0000,9,-999.0000,9,-999.0000,9,-999.0000,9,-999.0000,9,   8.2123,   8.2880,2
  33RR20070322,  I09N,   134,  1,     21,     21,2,20070410,0018, -3.6158,  94.5690, 4840, 806.4000,    806.4,   7.5795,  34.9016,2,  34.9028,2,     52.0,2,     51.3,2,    66.28,2,    35.92,2,     0.00,2,     2.65,2,    0.045,2,    0.025,2, -999.000,5,   -999.0,9,   -999.0,9,-999.0000,9,  -999.00,   -999.0,9,  -999.00,9, -999.000,9, -999.000,-999.0000,9,-999.0000,  -999.00,9,  -999.00, -999.000,9, -999.000,   -999.0,9,   -999.0,  -999.00,9,-999.0000,9,-999.0000,9,-999.0000,9,-999.0000,9,-999.0000,9,-999.0000,9,-999.0000,9,-999.0000,9,-999.0000,9,   7.4973,   7.5776,2
  33RR20070322,  I09N,   134,  1,     20,     20,2,20070410,0018, -3.6158,  94.5690, 4840, 907.0000,    907.0,   7.1655,  34.8979,2,  34.8974,2,     52.2,2,     52.1,2,    72.80,2,    36.37,2,     0.00,2,     2.70,2,    0.028,2,    0.015,2, -999.000,5,   -999.0,9,   -999.0,9,-999.0000,9,  -999.00,   -999.0,9,  -999.00,9, -999.000,9, -999.000,-999.0000,9,-999.0000,  -999.00,9,  -999.00, -999.000,9, -999.000,   -999.0,9,   -999.0,  -999.00,9,-999.0000,9,-999.0000,9,-999.0000,9,-999.0000,9,-999.0000,9,-999.0000,9,-999.0000,9,-999.0000,9,-999.0000,9,   7.0752,   7.1618,2
  33RR20070322,  I09N,   134,  1,     19,     19,2,20070410,0018, -3.6158,  94.5690, 4840,1006.6000,   1006.6,   6.6091,  34.8702,2,  34.8735,2,     56.2,2,     56.4,2,    78.56,2,    36.63,2,     0.00,2,     2.72,2,    0.017,2,    0.009,2, -999.000,5,   2296.3,2,   2359.4,6,   7.4825,2,    25.00,   -999.0,9,  -999.00,9, -999.000,9, -999.000,-999.0000,9,-999.0000,  -999.00,9,  -999.00, -999.000,9, -999.000,   -999.0,9,   -999.0,  -999.00,9,-999.0000,9,-999.0000,9,-999.0000,9,-999.0000,9,-999.0000,9,-999.0000,9,-999.0000,9,-999.0000,9,-999.0000,9,   6.5124,   6.6176,2
  33RR20070322,  I09N,   134,  1,     18,     18,2,20070410,0018, -3.6158,  94.5690, 4840,1107.3000,   1107.3,   5.9804,  34.8513,2,  34.8468,2,     62.4,2,     63.7,2,    86.83,2,    36.88,2,     0.00,2,     2.73,2,    0.013,2,    0.006,2, -999.000,5,   -999.0,9,   -999.0,9,-999.0000,9,  -999.00,   -999.0,9,  -999.00,9, -999.000,9, -999.000,-999.0000,9,-999.0000,  -999.00,9,  -999.00, -999.000,9, -999.000,   -999.0,9,   -999.0,  -999.00,9,-999.0000,9,-999.0000,9,-999.0000,9,-999.0000,9,-999.0000,9,-999.0000,9,-999.0000,9,-999.0000,9,-999.0000,9,   5.8785,   5.9854,2
  33RR20070322,  I09N,   134,  1,     17,     17,2,20070410,0018, -3.6158,  94.5690, 4840,1208.2000,   1208.2,   5.2576,  34.8013,2,  34.8016,2,     73.4,2,     74.8,2,    94.16,2,    36.78,2,     0.00,2,     2.72,2,    0.011,2,    0.005,2, -999.000,5,   -999.0,9,   -999.0,9,-999.0000,9,  -999.00,   -999.0,9,  -999.00,9, -999.000,9, -999.000,-999.0000,9,-999.0000,  -999.00,9,  -999.00, -999.000,9, -999.000,   -999.0,9,   -999.0,  -999.00,9,-999.0000,9,-999.0000,9,-999.0000,9,-999.0000,9,-999.0000,9,-999.0000,9,-999.0000,9,-999.0000,9,-999.0000,9,   5.1522,   5.2549,2
  33RR20070322,  I09N,   134,  1,     16,     16,2,20070410,0018, -3.6158,  94.5690, 4840,1307.7000,   1307.7,   4.8922,  34.8095,2,  34.8097,2,     79.3,2,     79.8,2,    97.84,2,    36.88,2,     0.00,2,     2.72,2, -999.000,9, -999.000,9, -999.000,9,   -999.0,9,   -999.0,9,-999.0000,9,  -999.00,   -999.0,9,  -999.00,9, -999.000,9, -999.000,-999.0000,9,-999.0000,  -999.00,9,  -999.00, -999.000,9, -999.000,   -999.0,9,   -999.0,  -999.00,9,-999.0000,9,-999.0000,9,-999.0000,9,-999.0000,9,-999.0000,9,-999.0000,9,-999.0000,9,-999.0000,9,-999.0000,9,   4.7808,   4.8935,2
  33RR20070322,  I09N,   134,  1,     15,     15,2,20070410,0018, -3.6158,  94.5690, 4840,1408.5000,   1408.5,   4.6129,  34.8226,2,  34.8234,2,     85.1,2,     85.0,2,   100.35,2,    36.62,2,     0.00,2,     2.71,2,    0.009,2,    0.003,2, -999.000,5,   -999.0,9,   -999.0,9,-999.0000,9,  -999.00,   -999.0,9,  -999.00,9, -999.000,9, -999.000,-999.0000,9,-999.0000,  -999.00,9,  -999.00, -999.000,9, -999.000,   -999.0,9,   -999.0,  -999.00,9,-999.0000,9,-999.0000,9,-999.0000,9,-999.0000,9,-999.0000,9,-999.0000,9,-999.0000,9,-999.0000,9,-999.0000,9,   4.4948,   4.6165,2
  33RR20070322,  I09N,   134,  1,     14,     14,2,20070410,0018, -3.6158,  94.5690, 4840,1509.6000,   1509.6,   4.1819,  34.8097,2,  34.8089,2,     93.1,2,     93.7,2,   104.79,2,    36.46,2,     0.00,2,     2.68,2, -999.000,9, -999.000,9, -999.000,9,   -999.0,9,   -999.0,9,-999.0000,9,  -999.00,   -999.0,9,  -999.00,9, -999.000,9, -999.000,-999.0000,9,-999.0000,  -999.00,9,  -999.00, -999.000,9, -999.000,   -999.0,9,   -999.0,  -999.00,9,-999.0000,9,-999.0000,9,-999.0000,9,-999.0000,9,-999.0000,9,-999.0000,9,-999.0000,9,-999.0000,9,-999.0000,9,   4.0591,   4.1819,2
  33RR20070322,  I09N,   134,  1,     13,     13,2,20070410,0018, -3.6158,  94.5690, 4840,1609.9000,   1609.9,   3.7636,  34.7949,2,  34.7959,2,    101.2,2,    103.7,2,   108.28,2,    36.16,2,     0.00,2,     2.65,2,    0.006,2,    0.001,2, -999.000,5,   -999.0,9,   -999.0,9,-999.0000,9,  -999.00,   -999.0,9,  -999.00,9, -999.000,9, -999.000,-999.0000,9,-999.0000,  -999.00,9,  -999.00, -999.000,9, -999.000,   -999.0,9,   -999.0,  -999.00,9,-999.0000,9,-999.0000,9,-999.0000,9,-999.0000,9,-999.0000,9,-999.0000,9,-999.0000,9,-999.0000,9,-999.0000,9,   3.6366,   3.7641,2
  33RR20070322,  I09N,   134,  1,     12,     12,2,20070410,0018, -3.6158,  94.5690, 4840,1810.2000,   1810.2,   3.1798,  34.7840,2,  34.7841,2,    116.0,2,    117.3,2,   114.50,2,    35.75,2,     0.00,2,     2.60,2, -999.000,9, -999.000,9, -999.000,9,   -999.0,9,   -999.0,9,-999.0000,9,  -999.00,   -999.0,9,  -999.00,9, -999.000,9, -999.000,-999.0000,9,-999.0000,  -999.00,9,  -999.00, -999.000,9, -999.000,   -999.0,9,   -999.0,  -999.00,9,-999.0000,9,-999.0000,9,-999.0000,9,-999.0000,9,-999.0000,9,-999.0000,9,-999.0000,9,-999.0000,9,-999.0000,9,   3.0423,   3.1834,2
  33RR20070322,  I09N,   134,  1,     11,     11,2,20070410,0018, -3.6158,  94.5690, 4840,1912.0000,   1912.0,   2.9160,  34.7740,2,  34.7755,2,    123.0,2,    123.6,2,   117.22,2,    35.50,2,     0.00,2,     2.56,2,    0.007,2,    0.002,2, -999.000,5,   -999.0,9,   -999.0,9,-999.0000,9,  -999.00,   -999.0,9,  -999.00,9, -999.000,9, -999.000,-999.0000,9,-999.0000,  -999.00,9,  -999.00, -999.000,9, -999.000,   -999.0,9,   -999.0,  -999.00,9,-999.0000,9,-999.0000,9,-999.0000,9,-999.0000,9,-999.0000,9,-999.0000,9,-999.0000,9,-999.0000,9,-999.0000,9,   2.7731,   2.9172,2
  33RR20070322,  I09N,   134,  1,     10,     10,2,20070410,0018, -3.6158,  94.5690, 4840,2012.8000,   2012.8,   2.6973,  34.7656,2,  34.7665,2,    129.2,2,    130.1,2,   119.17,2,    35.29,2,     0.00,2,     2.54,2, -999.000,9, -999.000,9, -999.000,9,   2311.9,2,   2400.3,2,   7.5506,2,    25.00,   -999.0,9,  -999.00,9, -999.000,9, -999.000,-999.0000,9,-999.0000,  -999.00,9,  -999.00, -999.000,9, -999.000,   -999.0,9,   -999.0,  -999.00,9,-999.0000,9,-999.0000,9,-999.0000,9,-999.0000,9,-999.0000,9,-999.0000,9,-999.0000,9,-999.0000,9,-999.0000,9,   2.5487,   2.6975,2
  33RR20070322,  I09N,   134,  1,      9,      9,2,20070410,0018, -3.6158,  94.5690, 4840,2250.0000,   2250.0,   2.3323,  34.7559,2,  34.7545,2,    140.5,2,    139.8,2,   123.85,2,    34.99,2,     0.00,2,     2.49,2,    0.007,2,    0.002,2, -999.000,5,   -999.0,9,   -999.0,9,-999.0000,9,  -999.00,   -999.0,9,  -999.00,9, -999.000,9, -999.000,-999.0000,9,-999.0000,  -999.00,9,  -999.00, -999.000,9, -999.000,   -999.0,9,   -999.0,  -999.00,9,-999.0000,9,-999.0000,9,-999.0000,9,-999.0000,9,-999.0000,9,-999.0000,9,-999.0000,9,-999.0000,9,-999.0000,9,   2.1683,   2.3335,2
  33RR20070322,  I09N,   134,  1,      8,      8,2,20070410,0018, -3.6158,  94.5690, 4840,2517.1000,   2517.1,   2.0230,  34.7430,2,  34.7431,2,    151.1,2,    150.8,2,   125.22,2,    34.47,2,     0.00,2,     2.45,2, -999.000,9, -999.000,9, -999.000,9,   -999.0,9,   -999.0,9,-999.0000,9,  -999.00,   -999.0,9,  -999.00,9, -999.000,9, -999.000,-999.0000,9,-999.0000,  -999.00,9,  -999.00, -999.000,9, -999.000,   -999.0,9,   -999.0,  -999.00,9,-999.0000,9,-999.0000,9,-999.0000,9,-999.0000,9,-999.0000,9,-999.0000,9,-999.0000,9,-999.0000,9,-999.0000,9,   1.8403,   2.0234,2
  33RR20070322,  I09N,   134,  1,      7,      7,2,20070410,0018, -3.6158,  94.5690, 4840,2771.1000,   2771.1,   1.8307,  34.7369,2,  34.7378,2,    157.4,2,    156.7,2,   128.14,2,    34.33,2,     0.00,2,     2.43,2,    0.008,2,    0.002,2, -999.000,5,   -999.0,9,   -999.0,9,-999.0000,9,  -999.00,   -999.0,9,  -999.00,9, -999.000,9, -999.000,-999.0000,9,-999.0000,  -999.00,9,  -999.00, -999.000,9, -999.000,   -999.0,9,   -999.0,  -999.00,9,-999.0000,9,-999.0000,9,-999.0000,9,-999.0000,9,-999.0000,9,-999.0000,9,-999.0000,9,-999.0000,9,-999.0000,9,   1.6282,   1.8305,2
  33RR20070322,  I09N,   134,  1,      6,      6,2,20070410,0018, -3.6158,  94.5690, 4840,3024.6000,   3024.6,   1.6788,  34.7318,2,  34.7315,2,    162.5,2,    161.7,2,   130.30,2,    34.07,2,     0.00,2,     2.40,2, -999.000,9, -999.000,9, -999.000,9,   -999.0,9,   -999.0,9,-999.0000,9,  -999.00,   -999.0,9,  -999.00,9, -999.000,9, -999.000,-999.0000,9,-999.0000,  -999.00,9,  -999.00, -999.000,9, -999.000,   -999.0,9,   -999.0,  -999.00,9,-999.0000,9,-999.0000,9,-999.0000,9,-999.0000,9,-999.0000,9,-999.0000,9,-999.0000,9,-999.0000,9,-999.0000,9,   1.4554,   1.6789,2
  33RR20070322,  I09N,   134,  1,      5,      5,2,20070410,0018, -3.6158,  94.5690, 4840,3428.8000,   3428.8,   1.4266,  34.7235,2,  34.7233,2,    173.2,2,    173.7,2,   131.28,2,    33.61,2,     0.00,2,     2.35,2,    0.008,2,    0.003,2, -999.000,5,   -999.0,9,   -999.0,9,-999.0000,9,  -999.00,   -999.0,9,  -999.00,9, -999.000,9, -999.000,-999.0000,9,-999.0000,  -999.00,9,  -999.00, -999.000,9, -999.000,   -999.0,9,   -999.0,  -999.00,9,-999.0000,9,-999.0000,9,-999.0000,9,-999.0000,9,-999.0000,9,-999.0000,9,-999.0000,9,-999.0000,9,-999.0000,9,   1.1692,   1.4263,2