BOTTLE,20150630SIOCCHRJL
EXPOCODE,SECT_ID,STNNBR,CASTNO,SAMPNO,BTLNBR,BTLNBR_FLAG_W,DATE,TIME,LATITUDE,LONGITUDE,DEPTH,CTDRAW,CTDPRS,CTDTMP,CTDSAL,CTDSAL_FLAG_W,SALNTY,SALNTY_FLAG_W,CTDOXY,CTDOXY_FLAG_W,OXYGEN,OXYGEN_FLAG_W,SILCAT,SILCAT_FLAG_W,NITRAT,NITRAT_FLAG_W,NITRIT,NITRIT_FLAG_W,PHSPHT,PHSPHT_FLAG_W,CFC-11,CFC-11_FLAG_W,CFC-12,CFC-12_FLAG_W,CFC113,CFC113_FLAG_W,TCARBN,TCARBN_FLAG_W,ALKALI,ALKALI_FLAG_W,PH_SWS,PH_SWS_FLAG_W,PH_TMP,DOC,DOC_FLAG_W,TDN,TDN_FLAG_W,TRITUM,TRITUM_FLAG_W,TRITER,HELIUM,HELIUM_FLAG_W,HELIER,DELHE3,DELHE3_FLAG_W,DELHER,NEON,NEON_FLAG_W,NEONER,DELC14,DELC14_FLAG_W,C14ERR,DELC13,DELC13_FLAG_W,CDOM325,CDOM325_FLAG_W,CDOM340,CDOM340_FLAG_W,CDOM380,CDOM380_FLAG_W,CDOM412,CDOM412_FLAG_W,CDOM443,CDOM443_FLAG_W,CDOM490,CDOM490_FLAG_W,CDOM555,CDOM555_FLAG_W,CDOMSL,CDOMSL_FLAG_W,CDOMSN,CDOMSN_FLAG_W,THETA,SBE35,SBE35_FLAG_W
,,,,,,,,,,,METERS,,DBAR,ITS-90,PSS-78,,PSS-78,,UMOL/KG,,UMOL/KG,,UMOL/KG,,UMOL/KG,,UMOL/KG,,UMOL/KG,,PMOL/KG,,PMOL/KG,,PMOL/KG,,UMOL/KG,,UMOL/KG,,,,DEG C,UMOL/KG,,UMOL/KG,,TU,,TU,NMOL/KG,,NMOL/KG,PERCNT,,PERCNT,NMOL/KG,,NMOL/KG,/MILLE,,/MILLE,/MILLE,,1/M,,1/M,,1/M,,1/M,,1/M,,1/M,,1/M,,1/NM,,1/NM,,DEG C,ITS-90,
  33RR20070322,  I09N,   152,  1,     36,     38,2,20070414,1750,  2.2010,  92.0205, 4272,   2.2000,      2.2,  30.1034,  34.0946,2,  34.0950,2,    194.6,2,    195.3,2,     1.46,2,     0.07,2,     0.00,2,     0.08,2,    1.493,2,    0.963,2, -999.000,5,   1908.3,6,   2233.1,2,   8.0980,6,    25.00,   -999.0,9,  -999.00,9, -999.000,9, -999.000,-999.0000,9,-999.0000,  -999.00,9,  -999.00, -999.000,9, -999.000,   -999.0,9,   -999.0,  -999.00,9,-999.0000,9,-999.0000,9,-999.0000,9,-999.0000,9,-999.0000,9,-999.0000,9,-999.0000,9,-999.0000,9,-999.0000,9,  30.1029,  30.0992,2
  33RR20070322,  I09N,   152,  1,     35,     35,2,20070414,1750,  2.2010,  92.0205, 4272,  28.8000,     28.8,  29.7833,  34.1062,2,  34.1074,2,    197.2,2,    195.6,2,     1.45,2,     0.07,2,     0.00,2,     0.07,2, -999.000,9, -999.000,9, -999.000,9,   -999.0,9,   -999.0,9,-999.0000,9,  -999.00,   -999.0,9,  -999.00,9, -999.000,9, -999.000,-999.0000,9,-999.0000,  -999.00,9,  -999.00, -999.000,9, -999.000,   -999.0,9,   -999.0,  -999.00,9,-999.0000,9,-999.0000,9,-999.0000,9,-999.0000,9,-999.0000,9,-999.0000,9,-999.0000,9,-999.0000,9,-999.0000,9,  29.7762,  29.7813,2
  33RR20070322,  I09N,   152,  1,     34,   9419,2,20070414,1750,  2.2010,  92.0205, 4272,  53.8000,     53.8,  29.1867,  34.3066,2,  34.3088,2,    194.3,2,    193.7,2,     1.64,2,     0.07,2,     0.00,2,     0.09,2,    1.507,2,    0.979,2, -999.000,5,   1926.1,2,   2244.5,2,   8.0600,2,    25.00,   -999.0,9,  -999.00,9, -999.000,9, -999.000,-999.0000,9,-999.0000,  -999.00,9,  -999.00, -999.000,9, -999.000,   -999.0,9,   -999.0,  -999.00,9,-999.0000,9,-999.0000,9,-999.0000,9,-999.0000,9,-999.0000,9,-999.0000,9,-999.0000,9,-999.0000,9,-999.0000,9,  29.1737,  29.1820,2
  33RR20070322,  I09N,   152,  1,     33,     33,2,20070414,1750,  2.2010,  92.0205, 4272,  78.9000,     78.9,  26.0280,  35.0424,2,  34.9447,2,    167.3,2,    168.2,2,     2.63,2,     1.78,2,     0.10,2,     0.39,2,    1.572,2,    1.002,2, -999.000,5,   -999.0,9,   -999.0,9,-999.0000,9,  -999.00,   -999.0,9,  -999.00,9, -999.000,9, -999.000,-999.0000,9,-999.0000,  -999.00,9,  -999.00, -999.000,9, -999.000,   -999.0,9,   -999.0,  -999.00,9,-999.0000,9,-999.0000,9,-999.0000,9,-999.0000,9,-999.0000,9,-999.0000,9,-999.0000,9,-999.0000,9,-999.0000,9,  26.0104,  26.3216,2
  33RR20070322,  I09N,   152,  1,     32,     37,2,20070414,1750,  2.2010,  92.0205, 4272, 103.4000,    103.4,  20.4143,  35.2694,2,  35.2465,2,     63.0,2,     61.5,2,    12.94,2,    20.03,2,     0.06,2,     1.46,2, -999.000,9, -999.000,9, -999.000,9,   -999.0,9,   -999.0,9,-999.0000,9,  -999.00,   -999.0,9,  -999.00,9, -999.000,9, -999.000,-999.0000,9,-999.0000,  -999.00,9,  -999.00, -999.000,9, -999.000,   -999.0,9,   -999.0,  -999.00,9,-999.0000,9,-999.0000,9,-999.0000,9,-999.0000,9,-999.0000,9,-999.0000,9,-999.0000,9,-999.0000,9,-999.0000,9,  20.3949,  20.4558,2
  33RR20070322,  I09N,   152,  1,     31,     31,2,20070414,1750,  2.2010,  92.0205, 4272, 154.1000,    154.1,  18.4307,  35.2314,2,  35.2276,2,     64.9,2,     65.7,2,    15.13,2,    21.28,2,     0.02,2,     1.53,2,    1.562,2,    0.926,2, -999.000,5,   2164.6,2,   2302.3,6,   7.7147,2,    25.00,   -999.0,9,  -999.00,9, -999.000,9, -999.000,-999.0000,9,-999.0000,  -999.00,9,  -999.00, -999.000,9, -999.000,   -999.0,9,   -999.0,  -999.00,9,-999.0000,9,-999.0000,9,-999.0000,9,-999.0000,9,-999.0000,9,-999.0000,9,-999.0000,9,-999.0000,9,-999.0000,9,  18.4038,  18.4241,2
  33RR20070322,  I09N,   152,  1,     30,     30,2,20070414,1750,  2.2010,  92.0205, 4272, 203.4000,    203.4,  14.8946,  35.0627,2,  35.0640,2,     34.5,2,     36.1,2,    24.27,2,    28.03,2,     0.01,2,     2.00,2,    1.055,2,    0.614,2, -999.000,5,   -999.0,9,   -999.0,9,-999.0000,9,  -999.00,   -999.0,9,  -999.00,9, -999.000,9, -999.000,-999.0000,9,-999.0000,  -999.00,9,  -999.00, -999.000,9, -999.000,   -999.0,9,   -999.0,  -999.00,9,-999.0000,9,-999.0000,9,-999.0000,9,-999.0000,9,-999.0000,9,-999.0000,9,-999.0000,9,-999.0000,9,-999.0000,9,  14.8639,  14.8895,2
  33RR20070322,  I09N,   152,  1,     29,     29,2,20070414,1750,  2.2010,  92.0205, 4272, 253.6000,    253.6,  12.8693,  35.0998,2,  35.0994,2,     55.3,2,     61.6,2,    22.28,2,    27.01,2,     0.01,2,     1.89,2, -999.000,9, -999.000,9, -999.000,9,   -999.0,9,   -999.0,9,-999.0000,9,  -999.00,   -999.0,9,  -999.00,9, -999.000,9, -999.000,-999.0000,9,-999.0000,  -999.00,9,  -999.00, -999.000,9, -999.000,   -999.0,9,   -999.0,  -999.00,9,-999.0000,9,-999.0000,9,-999.0000,9,-999.0000,9,-999.0000,9,-999.0000,9,-999.0000,9,-999.0000,9,-999.0000,9,  12.8345,  12.8708,2
  33RR20070322,  I09N,   152,  1,     28,     28,2,20070414,1750,  2.2010,  92.0205, 4272, 304.2000,    304.2,  12.4483,  35.0947,2,  35.0951,2,     64.6,2,     64.3,2,    22.87,2,    27.27,2,     0.01,2,     1.91,2,    1.201,2,    0.655,2, -999.000,5,   2215.8,2,   2312.8,6,   7.5897,2,    25.00,   -999.0,9,  -999.00,9, -999.000,9, -999.000,-999.0000,9,-999.0000,  -999.00,9,  -999.00, -999.000,9, -999.000,   -999.0,9,   -999.0,  -999.00,9,-999.0000,9,-999.0000,9,-999.0000,9,-999.0000,9,-999.0000,9,-999.0000,9,-999.0000,9,-999.0000,9,-999.0000,9,  12.4074,  12.4449,2
  33RR20070322,  I09N,   152,  1,     27,     27,2,20070414,1750,  2.2010,  92.0205, 4272, 354.3000,    354.3,  11.6801,  35.0662,2,  35.0659,2,     55.9,2,     49.6,2,    27.65,2,    30.03,2,     0.01,2,     2.09,2, -999.000,9, -999.000,9, -999.000,9,   -999.0,9,   -999.0,9,-999.0000,9,  -999.00,   -999.0,9,  -999.00,9, -999.000,9, -999.000,-999.0000,9,-999.0000,  -999.00,9,  -999.00, -999.000,9, -999.000,   -999.0,9,   -999.0,  -999.00,9,-999.0000,9,-999.0000,9,-999.0000,9,-999.0000,9,-999.0000,9,-999.0000,9,-999.0000,9,-999.0000,9,-999.0000,9,  11.6343,  11.6722,2
  33RR20070322,  I09N,   152,  1,     26,     26,2,20070414,1750,  2.2010,  92.0205, 4272, 403.8000,    403.8,  11.4163,  35.0526,2,  35.0522,2,     53.2,2,     53.1,2,    28.44,2,    30.08,2,     0.00,2,     2.10,2, -999.000,9, -999.000,9, -999.000,9,   -999.0,9,   -999.0,9,-999.0000,9,  -999.00,   -999.0,9,  -999.00,9, -999.000,9, -999.000,-999.0000,9,-999.0000,  -999.00,9,  -999.00, -999.000,9, -999.000,   -999.0,9,   -999.0,  -999.00,9,-999.0000,9,-999.0000,9,-999.0000,9,-999.0000,9,-999.0000,9,-999.0000,9,-999.0000,9,-999.0000,9,-999.0000,9,  11.3648,  11.4126,2
  33RR20070322,  I09N,   152,  1,     25,     25,2,20070414,1750,  2.2010,  92.0205, 4272, 454.2000,    454.2,  10.8821,  35.0457,2,  35.0453,2,     45.8,2,     41.5,2,    34.21,2,    32.16,2,     0.00,2,     2.27,2, -999.000,9, -999.000,9, -999.000,9,   -999.0,9,   -999.0,9,-999.0000,9,  -999.00,   -999.0,9,  -999.00,9, -999.000,9, -999.000,-999.0000,9,-999.0000,  -999.00,9,  -999.00, -999.000,9, -999.000,   -999.0,9,   -999.0,  -999.00,9,-999.0000,9,-999.0000,9,-999.0000,9,-999.0000,9,-999.0000,9,-999.0000,9,-999.0000,9,-999.0000,9,-999.0000,9,  10.8258,  10.8798,2
  33RR20070322,  I09N,   152,  1,     24,     24,2,20070414,1750,  2.2010,  92.0205, 4272, 503.6000,    503.6,  10.1793,  35.0368,2,  35.0364,2,     44.9,2,     43.5,2,    38.59,2,    33.06,2,     0.00,2,     2.36,2,    0.415,2,    0.234,2, -999.000,5,   2254.1,2,   2316.7,3,   7.5345,2,    25.00,   -999.0,9,  -999.00,9, -999.000,9, -999.000,-999.0000,9,-999.0000,  -999.00,9,  -999.00, -999.000,9, -999.000,   -999.0,9,   -999.0,  -999.00,9,-999.0000,9,-999.0000,9,-999.0000,9,-999.0000,9,-999.0000,9,-999.0000,9,-999.0000,9,-999.0000,9,-999.0000,9,  10.1193,  10.1747,2
  33RR20070322,  I09N,   152,  1,     23,     23,2,20070414,1750,  2.2010,  92.0205, 4272, 603.5000,    603.5,   9.4687,  35.0379,2,  35.0384,2,     45.3,2,     43.3,2,    46.37,2,    34.02,2,     0.00,2,     2.49,2, -999.000,9, -999.000,9, -999.000,9,   -999.0,9,   -999.0,9,-999.0000,9,  -999.00,   -999.0,9,  -999.00,9, -999.000,9, -999.000,-999.0000,9,-999.0000,  -999.00,9,  -999.00, -999.000,9, -999.000,   -999.0,9,   -999.0,  -999.00,9,-999.0000,9,-999.0000,9,-999.0000,9,-999.0000,9,-999.0000,9,-999.0000,9,-999.0000,9,-999.0000,9,-999.0000,9,   9.3995,   9.4563,2
  33RR20070322,  I09N,   152,  1,     22,     22,2,20070414,1750,  2.2010,  92.0205, 4272, 704.5000,    704.5,   8.7426,  35.0213,2,  35.0219,2,     37.8,2,     35.1,2,    57.16,2,    35.78,2,     0.00,2,     2.64,2, -999.000,9, -999.000,9, -999.000,9,   -999.0,9,   -999.0,9,-999.0000,9,  -999.00,   -999.0,9,  -999.00,9, -999.000,9, -999.000,-999.0000,9,-999.0000,  -999.00,9,  -999.00, -999.000,9, -999.000,   -999.0,9,   -999.0,  -999.00,9,-999.0000,9,-999.0000,9,-999.0000,9,-999.0000,9,-999.0000,9,-999.0000,9,-999.0000,9,-999.0000,9,-999.0000,9,   8.6651,   8.7444,2
  33RR20070322,  I09N,   152,  1,     21,     21,2,20070414,1750,  2.2010,  92.0205, 4272, 804.7000,    804.7,   7.8286,  34.9988,2,  34.9984,2,     40.3,2,     38.8,2,    68.36,2,    36.68,2,     0.00,2,     2.72,2,    0.044,2,    0.027,2, -999.000,5,   2293.7,2,   2354.0,2,   7.4762,6,    25.00,   -999.0,9,  -999.00,9, -999.000,9, -999.000,-999.0000,9,-999.0000,  -999.00,9,  -999.00, -999.000,9, -999.000,   -999.0,9,   -999.0,  -999.00,9,-999.0000,9,-999.0000,9,-999.0000,9,-999.0000,9,-999.0000,9,-999.0000,9,-999.0000,9,-999.0000,9,-999.0000,9,   7.7450,   7.8157,2
  33RR20070322,  I09N,   152,  1,     20,     20,2,20070414,1750,  2.2010,  92.0205, 4272, 904.5000,    904.5,   7.3312,  34.9727,2,  34.9721,2,     45.3,2,     44.8,2,    74.39,2,    36.90,2,     0.00,2,     2.73,2, -999.000,9, -999.000,9, -999.000,9,   -999.0,9,   -999.0,9,-999.0000,9,  -999.00,   -999.0,9,  -999.00,9, -999.000,9, -999.000,-999.0000,9,-999.0000,  -999.00,9,  -999.00, -999.000,9, -999.000,   -999.0,9,   -999.0,  -999.00,9,-999.0000,9,-999.0000,9,-999.0000,9,-999.0000,9,-999.0000,9,-999.0000,9,-999.0000,9,-999.0000,9,-999.0000,9,   7.2400,   7.3313,2
  33RR20070322,  I09N,   152,  1,     19,     19,2,20070414,1750,  2.2010,  92.0205, 4272,1004.8000,   1004.8,   6.8817,  34.9539,2,  34.9539,2,     48.9,2,     47.9,2,    79.61,2,    37.10,2,     0.00,2,     2.75,2, -999.000,9, -999.000,9, -999.000,9,   -999.0,9,   -999.0,9,-999.0000,9,  -999.00,   -999.0,9,  -999.00,9, -999.000,9, -999.000,-999.0000,9,-999.0000,  -999.00,9,  -999.00, -999.000,9, -999.000,   -999.0,9,   -999.0,  -999.00,9,-999.0000,9,-999.0000,9,-999.0000,9,-999.0000,9,-999.0000,9,-999.0000,9,-999.0000,9,-999.0000,9,-999.0000,9,   6.7831,   6.8843,2
  33RR20070322,  I09N,   152,  1,     18,     18,2,20070414,1750,  2.2010,  92.0205, 4272,1104.4000,   1104.4,   6.1809,  34.9181,2,  34.9177,2,     57.7,2,     57.5,2,    87.66,2,    37.14,2,     0.00,2,     2.74,2, -999.000,9, -999.000,9, -999.000,9,   -999.0,9,   -999.0,9,-999.0000,9,  -999.00,   -999.0,9,  -999.00,9, -999.000,9, -999.000,-999.0000,9,-999.0000,  -999.00,9,  -999.00, -999.000,9, -999.000,   -999.0,9,   -999.0,  -999.00,9,-999.0000,9,-999.0000,9,-999.0000,9,-999.0000,9,-999.0000,9,-999.0000,9,-999.0000,9,-999.0000,9,-999.0000,9,   6.0775,   6.1829,2
  33RR20070322,  I09N,   152,  1,     17,     17,2,20070414,1750,  2.2010,  92.0205, 4272,1205.5000,   1205.5,   5.5849,  34.8896,2,  34.8894,2,     67.3,2,     68.4,2,    95.13,2,    37.04,2,     0.00,2,     2.72,2, -999.000,9, -999.000,9, -999.000,9,   -999.0,9,   -999.0,9,-999.0000,9,  -999.00,   -999.0,9,  -999.00,9, -999.000,9, -999.000,-999.0000,9,-999.0000,  -999.00,9,  -999.00, -999.000,9, -999.000,   -999.0,9,   -999.0,  -999.00,9,-999.0000,9,-999.0000,9,-999.0000,9,-999.0000,9,-999.0000,9,-999.0000,9,-999.0000,9,-999.0000,9,-999.0000,9,   5.4767,   5.5846,2
  33RR20070322,  I09N,   152,  1,     16,     16,2,20070414,1750,  2.2010,  92.0205, 4272,1306.3000,   1306.3,   5.2088,  34.8768,2,  34.8770,2,     73.4,2,     73.0,2,    98.97,2,    37.03,2,     0.00,2,     2.72,2, -999.000,9, -999.000,9, -999.000,9,   -999.0,9,   -999.0,9,-999.0000,9,  -999.00,   -999.0,9,  -999.00,9, -999.000,9, -999.000,-999.0000,9,-999.0000,  -999.00,9,  -999.00, -999.000,9, -999.000,   -999.0,9,   -999.0,  -999.00,9,-999.0000,9,-999.0000,9,-999.0000,9,-999.0000,9,-999.0000,9,-999.0000,9,-999.0000,9,-999.0000,9,-999.0000,9,   5.0943,   5.2086,2
  33RR20070322,  I09N,   152,  1,     15,     15,2,20070414,1750,  2.2010,  92.0205, 4272,1406.1000,   1406.1,   4.7332,  34.8597,2,  34.8603,2,     80.3,2,     80.9,2,   101.20,2,    37.02,2,     0.00,2,     2.72,2, -999.000,9, -999.000,9, -999.000,9,   -999.0,9,   -999.0,9,-999.0000,9,  -999.00,   -999.0,9,  -999.00,9, -999.000,9, -999.000,-999.0000,9,-999.0000,  -999.00,9,  -999.00, -999.000,9, -999.000,   -999.0,9,   -999.0,  -999.00,9,-999.0000,9,-999.0000,9,-999.0000,9,-999.0000,9,-999.0000,9,-999.0000,9,-999.0000,9,-999.0000,9,-999.0000,9,   4.6140,   4.7386,2
  33RR20070322,  I09N,   152,  1,     14,     14,2,20070414,1750,  2.2010,  92.0205, 4272,1506.2000,   1506.2,   4.3446,  34.8464,2,  34.8471,2,     86.7,2,     87.8,2,   105.66,2,    36.90,2,     0.00,2,     2.71,2, -999.000,9, -999.000,9, -999.000,9,   -999.0,9,   -999.0,9,-999.0000,9,  -999.00,   -999.0,9,  -999.00,9, -999.000,9, -999.000,-999.0000,9,-999.0000,  -999.00,9,  -999.00, -999.000,9, -999.000,   -999.0,9,   -999.0,  -999.00,9,-999.0000,9,-999.0000,9,-999.0000,9,-999.0000,9,-999.0000,9,-999.0000,9,-999.0000,9,-999.0000,9,-999.0000,9,   4.2202,   4.3442,2
  33RR20070322,  I09N,   152,  1,     13,     13,2,20070414,1750,  2.2010,  92.0205, 4272,1607.6000,   1607.6,   3.8536,  34.8256,2,  34.8251,2,     96.5,2,     98.6,2,   111.14,2,    36.63,2,     0.00,2,     2.68,2, -999.000,9, -999.000,9, -999.000,9,   -999.0,9,   -999.0,9,-999.0000,9,  -999.00,   -999.0,9,  -999.00,9, -999.000,9, -999.000,-999.0000,9,-999.0000,  -999.00,9,  -999.00, -999.000,9, -999.000,   -999.0,9,   -999.0,  -999.00,9,-999.0000,9,-999.0000,9,-999.0000,9,-999.0000,9,-999.0000,9,-999.0000,9,-999.0000,9,-999.0000,9,-999.0000,9,   3.7256,   3.8544,2
  33RR20070322,  I09N,   152,  1,     12,     12,2,20070414,1750,  2.2010,  92.0205, 4272,1707.7000,   1707.7,   3.5689,  34.8134,2,  34.8131,2,    105.0,2,    106.2,2,   113.39,2,    36.35,2,     0.00,2,     2.65,2, -999.000,9, -999.000,9, -999.000,9,   -999.0,9,   -999.0,9,-999.0000,9,  -999.00,   -999.0,9,  -999.00,9, -999.000,9, -999.000,-999.0000,9,-999.0000,  -999.00,9,  -999.00, -999.000,9, -999.000,   -999.0,9,   -999.0,  -999.00,9,-999.0000,9,-999.0000,9,-999.0000,9,-999.0000,9,-999.0000,9,-999.0000,9,-999.0000,9,-999.0000,9,-999.0000,9,   3.4354,   3.5707,2
  33RR20070322,  I09N,   152,  1,     11,     11,2,20070414,1750,  2.2010,  92.0205, 4272,1808.3000,   1808.3,   3.2195,  34.7985,2,  34.7986,2,    112.8,2,    113.7,2,   116.85,2,    36.13,2,     0.00,2,     2.62,2, -999.000,9, -999.000,9, -999.000,9,   -999.0,9,   -999.0,9,-999.0000,9,  -999.00,   -999.0,9,  -999.00,9, -999.000,9, -999.000,-999.0000,9,-999.0000,  -999.00,9,  -999.00, -999.000,9, -999.000,   -999.0,9,   -999.0,  -999.00,9,-999.0000,9,-999.0000,9,-999.0000,9,-999.0000,9,-999.0000,9,-999.0000,9,-999.0000,9,-999.0000,9,-999.0000,9,   3.0816,   3.2199,2
  33RR20070322,  I09N,   152,  1,     10,     10,2,20070414,1750,  2.2010,  92.0205, 4272,1909.3000,   1909.3,   2.9249,  34.7853,2,  34.7852,2,    120.7,2,    121.4,2,   120.12,2,    35.96,2,     0.00,2,     2.60,2, -999.000,9, -999.000,9, -999.000,9,   -999.0,9,   -999.0,9,-999.0000,9,  -999.00,   -999.0,9,  -999.00,9, -999.000,9, -999.000,-999.0000,9,-999.0000,  -999.00,9,  -999.00, -999.000,9, -999.000,   -999.0,9,   -999.0,  -999.00,9,-999.0000,9,-999.0000,9,-999.0000,9,-999.0000,9,-999.0000,9,-999.0000,9,-999.0000,9,-999.0000,9,-999.0000,9,   2.7821,   2.9242,2
  33RR20070322,  I09N,   152,  1,      9,      9,2,20070414,1750,  2.2010,  92.0205, 4272,2010.3000,   2010.3,   2.7401,  34.7771,2,  34.7767,2,    126.3,2,    126.2,2,   122.37,2,    35.79,2,     0.00,2,     2.57,2, -999.000,9, -999.000,9, -999.000,9,   -999.0,9,   -999.0,9,-999.0000,9,  -999.00,   -999.0,9,  -999.00,9, -999.000,9, -999.000,-999.0000,9,-999.0000,  -999.00,9,  -999.00, -999.000,9, -999.000,   -999.0,9,   -999.0,  -999.00,9,-999.0000,9,-999.0000,9,-999.0000,9,-999.0000,9,-999.0000,9,-999.0000,9,-999.0000,9,-999.0000,9,-999.0000,9,   2.5910,   2.7407,2
  33RR20070322,  I09N,   152,  1,      8,      8,2,20070414,1750,  2.2010,  92.0205, 4272,2262.1000,   2262.1,   2.3265,  34.7599,2,  34.7594,2,    136.7,2,    136.2,2,   127.68,2,    35.41,2,     0.00,2,     2.53,2, -999.000,9, -999.000,9, -999.000,9,   -999.0,9,   -999.0,9,-999.0000,9,  -999.00,   -999.0,9,  -999.00,9, -999.000,9, -999.000,-999.0000,9,-999.0000,  -999.00,9,  -999.00, -999.000,9, -999.000,   -999.0,9,   -999.0,  -999.00,9,-999.0000,9,-999.0000,9,-999.0000,9,-999.0000,9,-999.0000,9,-999.0000,9,-999.0000,9,-999.0000,9,-999.0000,9,   2.1615,   2.3272,2
  33RR20070322,  I09N,   152,  1,      7,      7,2,20070414,1750,  2.2010,  92.0205, 4272,2514.1000,   2514.1,   2.0385,  34.7474,2,  34.7473,2,    146.4,2,    146.0,2,   130.14,2,    35.08,2,     0.00,2,     2.49,2, -999.000,9, -999.000,9, -999.000,9,   -999.0,9,   -999.0,9,-999.0000,9,  -999.00,   -999.0,9,  -999.00,9, -999.000,9, -999.000,-999.0000,9,-999.0000,  -999.00,9,  -999.00, -999.000,9, -999.000,   -999.0,9,   -999.0,  -999.00,9,-999.0000,9,-999.0000,9,-999.0000,9,-999.0000,9,-999.0000,9,-999.0000,9,-999.0000,9,-999.0000,9,-999.0000,9,   1.8558,   2.0378,2
  33RR20070322,  I09N,   152,  1,      6,      6,2,20070414,1750,  2.2010,  92.0205, 4272,2767.5000,   2767.5,   1.8391,  34.7388,2,  34.7384,2,    154.2,2,    153.5,2,   131.38,2,    34.70,2,     0.00,2,     2.45,2, -999.000,9, -999.000,9, -999.000,9,   -999.0,9,   -999.0,9,-999.0000,9,  -999.00,   -999.0,9,  -999.00,9, -999.000,9, -999.000,-999.0000,9,-999.0000,  -999.00,9,  -999.00, -999.000,9, -999.000,   -999.0,9,   -999.0,  -999.00,9,-999.0000,9,-999.0000,9,-999.0000,9,-999.0000,9,-999.0000,9,-999.0000,9,-999.0000,9,-999.0000,9,-999.0000,9,   1.6368,   1.8399,2
  33RR20070322,  I09N,   152,  1,      5,      5,2,20070414,1750,  2.2010,  92.0205, 4272,3021.0000,   3021.0,   1.7220,  34.7337,2,  34.7337,2,    158.8,2,    158.4,2,   132.83,2,    34.58,2,     0.00,2,     2.43,2, -999.000,9, -999.000,9, -999.000,9,   -999.0,9,   -999.0,9,-999.0000,9,  -999.00,   -999.0,9,  -999.00,9, -999.000,9, -999.000,-999.0000,9,-999.0000,  -999.00,9,  -999.00, -999.000,9, -999.000,   -999.0,9,   -999.0,  -999.00,9,-999.0000,9,-999.0000,9,-999.0000,9,-999.0000,9,-999.0000,9,-999.0000,9,-999.0000,9,-999.0000,9,-999.0000,9,   1.4980,   1.7219,2