BOTTLE,20150630SIOCCHRJL
EXPOCODE,SECT_ID,STNNBR,CASTNO,SAMPNO,BTLNBR,BTLNBR_FLAG_W,DATE,TIME,LATITUDE,LONGITUDE,DEPTH,CTDRAW,CTDPRS,CTDTMP,CTDSAL,CTDSAL_FLAG_W,SALNTY,SALNTY_FLAG_W,CTDOXY,CTDOXY_FLAG_W,OXYGEN,OXYGEN_FLAG_W,SILCAT,SILCAT_FLAG_W,NITRAT,NITRAT_FLAG_W,NITRIT,NITRIT_FLAG_W,PHSPHT,PHSPHT_FLAG_W,CFC-11,CFC-11_FLAG_W,CFC-12,CFC-12_FLAG_W,CFC113,CFC113_FLAG_W,TCARBN,TCARBN_FLAG_W,ALKALI,ALKALI_FLAG_W,PH_SWS,PH_SWS_FLAG_W,PH_TMP,DOC,DOC_FLAG_W,TDN,TDN_FLAG_W,TRITUM,TRITUM_FLAG_W,TRITER,HELIUM,HELIUM_FLAG_W,HELIER,DELHE3,DELHE3_FLAG_W,DELHER,NEON,NEON_FLAG_W,NEONER,DELC14,DELC14_FLAG_W,C14ERR,DELC13,DELC13_FLAG_W,CDOM325,CDOM325_FLAG_W,CDOM340,CDOM340_FLAG_W,CDOM380,CDOM380_FLAG_W,CDOM412,CDOM412_FLAG_W,CDOM443,CDOM443_FLAG_W,CDOM490,CDOM490_FLAG_W,CDOM555,CDOM555_FLAG_W,CDOMSL,CDOMSL_FLAG_W,CDOMSN,CDOMSN_FLAG_W,THETA,SBE35,SBE35_FLAG_W
,,,,,,,,,,,METERS,,DBAR,ITS-90,PSS-78,,PSS-78,,UMOL/KG,,UMOL/KG,,UMOL/KG,,UMOL/KG,,UMOL/KG,,UMOL/KG,,PMOL/KG,,PMOL/KG,,PMOL/KG,,UMOL/KG,,UMOL/KG,,,,DEG C,UMOL/KG,,UMOL/KG,,TU,,TU,NMOL/KG,,NMOL/KG,PERCNT,,PERCNT,NMOL/KG,,NMOL/KG,/MILLE,,/MILLE,/MILLE,,1/M,,1/M,,1/M,,1/M,,1/M,,1/M,,1/M,,1/NM,,1/NM,,DEG C,ITS-90,
  33RR20070322,  I09N,   147,  2,      4,      4,2,20070413,1028,  0.5480,  93.0245, 4434,3530.1000,   3530.1,   1.4364,  34.7238,2,  34.7243,2,    171.5,2,    171.7,2,   132.87,2,    33.90,2,     0.00,2,     2.36,2, -999.000,9, -999.000,9, -999.000,9,   2306.1,2,   2408.7,2,   7.6047,2,    25.00,     40.8,2,    35.67,2, -999.000,9, -999.000,-999.0000,9,-999.0000,  -999.00,9,  -999.00, -999.000,9, -999.000,   -999.0,9,   -999.0,  -999.00,9,-999.0000,9,-999.0000,9,-999.0000,9,-999.0000,9,-999.0000,9,-999.0000,9,-999.0000,9,-999.0000,9,-999.0000,9,   1.1685,   1.4360,2
  33RR20070322,  I09N,   147,  2,      3,      3,2,20070413,1028,  0.5480,  93.0245, 4434,3937.4000,   3937.4,   1.1685,  34.7163,2,  34.7164,2,    188.7,2,    189.3,2,   128.09,2,    33.00,2,     0.00,2,     2.28,2,    0.005,2,    0.004,2, -999.000,5,   2289.6,2,   2396.8,2,   7.6138,2,    25.00,     40.7,2,    34.87,2, -999.000,9, -999.000,-999.0000,9,-999.0000,  -999.00,9,  -999.00, -999.000,9, -999.000,   -999.0,9,   -999.0,  -999.00,9,-999.0000,9,-999.0000,9,-999.0000,9,-999.0000,9,-999.0000,9,-999.0000,9,-999.0000,9,-999.0000,9,-999.0000,9,   0.8654,   1.1689,2
  33RR20070322,  I09N,   147,  2,      2,      2,2,20070413,1028,  0.5480,  93.0245, 4434,4241.3000,   4241.3,   1.1607,  34.7149,2,  34.7158,2,    191.8,2,    191.5,2,   128.28,2,    32.94,2,     0.00,2,     2.27,2,    0.004,2,    0.002,2, -999.000,5,   2288.7,2,   2389.5,2,   7.5990,2,    25.00,     40.5,2,    34.03,2, -999.000,9, -999.000,-999.0000,9,-999.0000,  -999.00,9,  -999.00, -999.000,9, -999.000,   -999.0,9,   -999.0,  -999.00,9,-999.0000,9,-999.0000,9,-999.0000,9,-999.0000,9,-999.0000,9,-999.0000,9,-999.0000,9,-999.0000,9,-999.0000,9,   0.8249,   1.1604,2
  33RR20070322,  I09N,   147,  2,      1,      1,2,20070413,1028,  0.5480,  93.0245, 4434,4485.2000,   4485.2,   1.1803,  34.7147,2,  34.7197,4,    192.0,2,    192.1,2,   129.69,2,    32.94,2,     0.00,2,     2.27,2,    0.005,2,    0.002,2, -999.000,5,   2289.4,6,   2396.4,6,   7.6365,6,    25.00,     40.7,2,    34.45,2, -999.000,9, -999.000,-999.0000,9,-999.0000,  -999.00,9,  -999.00, -999.000,9, -999.000,   -999.0,9,   -999.0,  -999.00,9,-999.0000,9,-999.0000,9,-999.0000,9,-999.0000,9,-999.0000,9,-999.0000,9,-999.0000,9,-999.0000,9,-999.0000,9,   0.8167,   1.1801,2