BOTTLE,20150630SIOCCHRJL
EXPOCODE,SECT_ID,STNNBR,CASTNO,SAMPNO,BTLNBR,BTLNBR_FLAG_W,DATE,TIME,LATITUDE,LONGITUDE,DEPTH,CTDRAW,CTDPRS,CTDTMP,CTDSAL,CTDSAL_FLAG_W,SALNTY,SALNTY_FLAG_W,CTDOXY,CTDOXY_FLAG_W,OXYGEN,OXYGEN_FLAG_W,SILCAT,SILCAT_FLAG_W,NITRAT,NITRAT_FLAG_W,NITRIT,NITRIT_FLAG_W,PHSPHT,PHSPHT_FLAG_W,CFC-11,CFC-11_FLAG_W,CFC-12,CFC-12_FLAG_W,CFC113,CFC113_FLAG_W,TCARBN,TCARBN_FLAG_W,ALKALI,ALKALI_FLAG_W,PH_SWS,PH_SWS_FLAG_W,PH_TMP,DOC,DOC_FLAG_W,TDN,TDN_FLAG_W,TRITUM,TRITUM_FLAG_W,TRITER,HELIUM,HELIUM_FLAG_W,HELIER,DELHE3,DELHE3_FLAG_W,DELHER,NEON,NEON_FLAG_W,NEONER,DELC14,DELC14_FLAG_W,C14ERR,DELC13,DELC13_FLAG_W,CDOM325,CDOM325_FLAG_W,CDOM340,CDOM340_FLAG_W,CDOM380,CDOM380_FLAG_W,CDOM412,CDOM412_FLAG_W,CDOM443,CDOM443_FLAG_W,CDOM490,CDOM490_FLAG_W,CDOM555,CDOM555_FLAG_W,CDOMSL,CDOMSL_FLAG_W,CDOMSN,CDOMSN_FLAG_W,THETA,SBE35,SBE35_FLAG_W
,,,,,,,,,,,METERS,,DBAR,ITS-90,PSS-78,,PSS-78,,UMOL/KG,,UMOL/KG,,UMOL/KG,,UMOL/KG,,UMOL/KG,,UMOL/KG,,PMOL/KG,,PMOL/KG,,PMOL/KG,,UMOL/KG,,UMOL/KG,,,,DEG C,UMOL/KG,,UMOL/KG,,TU,,TU,NMOL/KG,,NMOL/KG,PERCNT,,PERCNT,NMOL/KG,,NMOL/KG,/MILLE,,/MILLE,/MILLE,,1/M,,1/M,,1/M,,1/M,,1/M,,1/M,,1/M,,1/NM,,1/NM,,DEG C,ITS-90,
  33RR20070322,  I09N,   192,  1,      4,      4,2,20070425,1204, 14.5455,  89.5860, 2780,2665.6000,   2665.6,   1.9333,  34.7433,2,  34.7441,2,    137.5,2,    138.1,2,   136.50,2,    34.93,2,     0.00,2,     2.49,2, -999.000,9, -999.000,9, -999.000,9,   2329.7,2,   2417.3,2,   7.5569,2,    25.00,     40.5,2,    36.84,2, -999.000,9, -999.000,-999.0000,9,-999.0000,  -999.00,9,  -999.00, -999.000,9, -999.000,   -999.0,9,   -999.0,  -999.00,9,-999.0000,9,-999.0000,9,-999.0000,9,-999.0000,9,-999.0000,9,-999.0000,9,-999.0000,9,-999.0000,9,-999.0000,9,   1.7386,   1.9327,2
  33RR20070322,  I09N,   192,  1,      3,      3,2,20070425,1204, 14.5455,  89.5860, 2780,2716.1000,   2716.1,   1.8742,  34.7410,2,  34.7418,2,    140.0,2,    140.6,2,   137.51,2,    34.82,2,     0.00,2,     2.48,2,    0.006,2,    0.002,2, -999.000,5,   2329.1,2,   2418.3,2,   7.5716,2,    25.00,     41.4,2,    35.95,2, -999.000,9, -999.000,-999.0000,9,-999.0000,  -999.00,9,  -999.00, -999.000,9, -999.000,   -999.0,9,   -999.0,  -999.00,9,-999.0000,9,-999.0000,9,-999.0000,9,-999.0000,9,-999.0000,9,-999.0000,9,-999.0000,9,-999.0000,9,-999.0000,9,   1.6760,   1.8736,2
  33RR20070322,  I09N,   192,  1,      2,      2,2,20070425,1204, 14.5455,  89.5860, 2780,2767.3000,   2767.3,   1.7725,  34.7369,2,  34.7366,2,    142.7,2,    142.6,2,   139.11,2,    34.77,2,     0.00,2,     2.47,2, -999.000,9, -999.000,9, -999.000,9,   2330.6,2,   2420.9,2,   7.5691,2,    25.00,     40.9,2,    36.59,2, -999.000,9, -999.000,-999.0000,9,-999.0000,  -999.00,9,  -999.00, -999.000,9, -999.000,   -999.0,9,   -999.0,  -999.00,9,-999.0000,9,-999.0000,9,-999.0000,9,-999.0000,9,-999.0000,9,-999.0000,9,-999.0000,9,-999.0000,9,-999.0000,9,   1.5716,   1.7728,2
  33RR20070322,  I09N,   192,  1,      1,      1,2,20070425,1204, 14.5455,  89.5860, 2780,2794.1000,   2794.1,   1.7345,  34.7355,2,  34.7351,2,    143.4,2,    143.3,2,   139.51,2,    34.87,2,     0.00,2,     2.47,2,    0.009,2,    0.003,2, -999.000,5,   2331.9,6,   2422.4,6,   7.5841,6,    25.00,     41.4,2,    36.79,2, -999.000,9, -999.000,-999.0000,9,-999.0000,  -999.00,9,  -999.00, -999.000,9, -999.000,   -999.0,9,   -999.0,  -999.00,9,-999.0000,9,-999.0000,9,-999.0000,9,-999.0000,9,-999.0000,9,-999.0000,9,-999.0000,9,-999.0000,9,-999.0000,9,   1.5318,   1.7331,2