BOTTLE,20150630SIOCCHRJL
EXPOCODE,SECT_ID,STNNBR,CASTNO,SAMPNO,BTLNBR,BTLNBR_FLAG_W,DATE,TIME,LATITUDE,LONGITUDE,DEPTH,CTDRAW,CTDPRS,CTDTMP,CTDSAL,CTDSAL_FLAG_W,SALNTY,SALNTY_FLAG_W,CTDOXY,CTDOXY_FLAG_W,OXYGEN,OXYGEN_FLAG_W,SILCAT,SILCAT_FLAG_W,NITRAT,NITRAT_FLAG_W,NITRIT,NITRIT_FLAG_W,PHSPHT,PHSPHT_FLAG_W,CFC-11,CFC-11_FLAG_W,CFC-12,CFC-12_FLAG_W,CFC113,CFC113_FLAG_W,TCARBN,TCARBN_FLAG_W,ALKALI,ALKALI_FLAG_W,PH_SWS,PH_SWS_FLAG_W,PH_TMP,DOC,DOC_FLAG_W,TDN,TDN_FLAG_W,TRITUM,TRITUM_FLAG_W,TRITER,HELIUM,HELIUM_FLAG_W,HELIER,DELHE3,DELHE3_FLAG_W,DELHER,NEON,NEON_FLAG_W,NEONER,DELC14,DELC14_FLAG_W,C14ERR,DELC13,DELC13_FLAG_W,CDOM325,CDOM325_FLAG_W,CDOM340,CDOM340_FLAG_W,CDOM380,CDOM380_FLAG_W,CDOM412,CDOM412_FLAG_W,CDOM443,CDOM443_FLAG_W,CDOM490,CDOM490_FLAG_W,CDOM555,CDOM555_FLAG_W,CDOMSL,CDOMSL_FLAG_W,CDOMSN,CDOMSN_FLAG_W,THETA,SBE35,SBE35_FLAG_W
,,,,,,,,,,,METERS,,DBAR,ITS-90,PSS-78,,PSS-78,,UMOL/KG,,UMOL/KG,,UMOL/KG,,UMOL/KG,,UMOL/KG,,UMOL/KG,,PMOL/KG,,PMOL/KG,,PMOL/KG,,UMOL/KG,,UMOL/KG,,,,DEG C,UMOL/KG,,UMOL/KG,,TU,,TU,NMOL/KG,,NMOL/KG,PERCNT,,PERCNT,NMOL/KG,,NMOL/KG,/MILLE,,/MILLE,/MILLE,,1/M,,1/M,,1/M,,1/M,,1/M,,1/M,,1/M,,1/NM,,1/NM,,DEG C,ITS-90,
  33RR20070322,  I09N,   178,  1,     36,     38,2,20070421,2023,  7.7472,  85.7468, 3765,   2.7000,      2.7,  30.0902,  33.8132,2,  33.8175,2,    194.4,2,    194.4,2,     1.46,2,     0.07,2,     0.00,2,     0.07,2,    1.486,2,    0.948,2, -999.000,5,   1888.4,6,   1998.6,4,   8.1398,6,    25.00,   -999.0,9,  -999.00,9, -999.000,9, -999.000,-999.0000,9,-999.0000,  -999.00,9,  -999.00, -999.000,9, -999.000,   -999.0,9,   -999.0,  -999.00,9,   0.0661,2,   0.0445,2,   0.0223,2,   0.0172,2,  -0.0005,4,  -0.0019,4,  -0.0030,4,   0.0094,3,   0.0171,3,  30.0895,  30.0813,2
  33RR20070322,  I09N,   178,  1,     35,     35,2,20070421,2023,  7.7472,  85.7468, 3765,  20.1000,     20.1,  30.1185,  33.9885,2,  33.9904,2,    196.3,2,    194.8,2,     1.25,2,     0.02,2,     0.00,2,     0.07,2,    1.474,2,    0.946,2, -999.000,5,   1896.5,2,   2228.1,2,   8.0968,2,    25.00,   -999.0,9,  -999.00,9, -999.000,9, -999.000,-999.0000,9,-999.0000,  -999.00,9,  -999.00, -999.000,9, -999.000,   -999.0,9,   -999.0,  -999.00,9,   0.0689,2,   0.0472,2,   0.0245,2,   0.0190,2,   0.0004,4,  -0.0015,4,  -0.0029,4,   0.0096,3,   0.0160,3,  30.1135,  30.1101,2
  33RR20070322,  I09N,   178,  1,     34,   9419,2,20070421,2023,  7.7472,  85.7468, 3765,  44.6000,     44.6,  29.7845,  34.0195,2,  34.0225,2,    197.6,2,    196.8,2,     1.24,2,     0.02,2,     0.00,2,     0.08,2,    1.488,2,    0.961,2, -999.000,5,   1898.4,2,   2225.7,2,   8.0959,2,    25.00,   -999.0,9,  -999.00,9, -999.000,9, -999.000,-999.0000,9,-999.0000,  -999.00,9,  -999.00, -999.000,9, -999.000,   -999.0,9,   -999.0,  -999.00,9,   0.0840,2,   0.0583,2,   0.0302,2,   0.0229,2,   0.0029,2,  -0.0003,4,  -0.0023,4,   0.0106,3,   0.0157,3,  29.7735,  29.7806,2
  33RR20070322,  I09N,   178,  1,     33,     33,2,20070421,2023,  7.7472,  85.7468, 3765,  89.6000,     89.6,  22.2010,  34.6938,2,  34.6914,2,     73.5,2,     76.4,2,    13.37,2,    17.07,2,     0.06,2,     1.26,2,    1.268,2,    0.793,2, -999.000,5,   2097.8,2,   2270.1,2,   7.8013,2,    25.00,   -999.0,9,  -999.00,9, -999.000,9, -999.000,-999.0000,9,-999.0000,  -999.00,9,  -999.00, -999.000,9, -999.000,   -999.0,9,   -999.0,  -999.00,9,   0.2039,2,   0.1511,2,   0.0862,2,   0.0672,2,   0.0265,2,   0.0089,2,   0.0022,2,   0.0135,3,   0.0140,3,  22.1832,  22.0100,2
  33RR20070322,  I09N,   178,  1,     32,     37,2,20070421,2023,  7.7472,  85.7468, 3765, 139.6000,    139.6,  15.9222,  34.9070,2,  34.9080,2,     19.0,2,     18.8,2,    27.49,2,    28.90,2,     0.01,2,     2.07,2,    0.795,2,    0.479,2, -999.000,5,   2208.5,6,   2296.9,2,   7.5790,6,    25.00,   -999.0,9,  -999.00,9, -999.000,9, -999.000,-999.0000,9,-999.0000,  -999.00,9,  -999.00, -999.000,9, -999.000,   -999.0,9,   -999.0,  -999.00,9,   0.1935,2,   0.1446,2,   0.0871,2,   0.0686,2,   0.0290,2,   0.0092,2,   0.0018,2,   0.0131,3,   0.0131,3,  15.9002,  15.9252,2
  33RR20070322,  I09N,   178,  1,     31,     31,2,20070421,2023,  7.7472,  85.7468, 3765, 165.0000,    165.0,  14.3836,  34.9639,2,  34.9692,2,     21.7,2,     21.3,2,    29.47,2,    29.99,2,     0.00,2,     2.15,2,    0.739,2,    0.433,2, -999.000,5,   2223.0,2,   2301.4,6,   7.5501,2,    25.00,   -999.0,9,  -999.00,9, -999.000,9, -999.000,-999.0000,9,-999.0000,  -999.00,9,  -999.00, -999.000,9, -999.000,   -999.0,9,   -999.0,  -999.00,9,   0.1914,2,   0.1434,2,   0.0877,2,   0.0696,2,   0.0300,2,   0.0095,2,   0.0018,2,   0.0130,3,   0.0128,3,  14.3593,  14.3590,2
  33RR20070322,  I09N,   178,  1,     30,     30,2,20070421,2023,  7.7472,  85.7468, 3765, 189.0000,    189.0,  13.7392,  35.0271,2,  35.0264,2,     16.8,2,     13.8,2,    29.45,2,    31.04,2,     0.00,2,     2.24,2,    0.729,2,    0.421,2, -999.000,5,   2235.3,2,   2302.8,2,   7.5226,2,    25.00,   -999.0,9,  -999.00,9, -999.000,9, -999.000,-999.0000,9,-999.0000,  -999.00,9,  -999.00, -999.000,9, -999.000,   -999.0,9,   -999.0,  -999.00,9,   0.1938,2,   0.1455,2,   0.0895,2,   0.0713,2,   0.0309,2,   0.0099,2,   0.0019,2,   0.0130,3,   0.0127,3,  13.7122,  13.7470,2
  33RR20070322,  I09N,   178,  1,     29,     29,2,20070421,2023,  7.7472,  85.7468, 3765, 239.6000,    239.6,  12.6019,  35.0508,2,  35.0496,2,     15.5,2,     15.5,2,    31.44,2,    31.87,2,     0.00,2,     2.28,2,    0.644,2,    0.372,2, -999.000,5,   2245.3,2,   2307.1,2,   7.4906,2,    25.00,   -999.0,9,  -999.00,9, -999.000,9, -999.000,-999.0000,9,-999.0000,  -999.00,9,  -999.00, -999.000,9, -999.000,   -999.0,9,   -999.0,  -999.00,9,   0.1932,2,   0.1458,2,   0.0907,2,   0.0727,2,   0.0323,2,   0.0103,2,   0.0019,2,   0.0139,3,   0.0125,3,  12.5695,  12.6085,2
  33RR20070322,  I09N,   178,  1,     28,     28,2,20070421,2023,  7.7472,  85.7468, 3765, 288.7000,    288.7,  11.8737,  35.0589,2,  35.0590,2,     18.1,2,     18.7,2,    33.22,2,    32.52,2,     0.00,2,     2.30,2, -999.000,5, -999.000,5, -999.000,5,   2251.0,2,   2310.5,2,   7.4954,2,    25.00,   -999.0,9,  -999.00,9, -999.000,9, -999.000,-999.0000,9,-999.0000,  -999.00,9,  -999.00, -999.000,9, -999.000,   -999.0,9,   -999.0,  -999.00,9,   0.1923,2,   0.1450,2,   0.0902,2,   0.0722,2,   0.0321,2,   0.0102,2,   0.0018,2,   0.0139,3,   0.0125,3,  11.8361,  11.8735,2
  33RR20070322,  I09N,   178,  1,     27,     27,2,20070421,2023,  7.7472,  85.7468, 3765, 338.9000,    338.9,  11.3320,  35.0531,2,  35.0535,2,     17.1,2,     17.0,2,    35.99,2,    33.42,2,     0.00,2,     2.37,2,    0.479,2,    0.270,2, -999.000,5,   2258.1,2,   2307.9,2,   7.4746,2,    25.00,   -999.0,9,  -999.00,9, -999.000,9, -999.000,-999.0000,9,-999.0000,  -999.00,9,  -999.00, -999.000,9, -999.000,   -999.0,9,   -999.0,  -999.00,9,   0.1941,2,   0.1465,2,   0.0913,2,   0.0731,2,   0.0329,2,   0.0104,2,   0.0019,2,   0.0139,3,   0.0125,3,  11.2891,  11.3292,2
  33RR20070322,  I09N,   178,  1,     26,     26,2,20070421,2023,  7.7472,  85.7468, 3765, 389.1000,    389.1,  10.8984,  35.0518,2,  35.0521,2,     17.1,2,     18.2,2,    37.98,2,    33.92,2,     0.00,2,     2.41,2,    0.409,2,    0.230,2, -999.000,5,   2261.9,2,   2317.9,2,   7.4640,3,    25.00,   -999.0,9,  -999.00,9, -999.000,9, -999.000,-999.0000,9,-999.0000,  -999.00,9,  -999.00, -999.000,9, -999.000,   -999.0,9,   -999.0,  -999.00,9,   0.1924,2,   0.1448,2,   0.0902,2,   0.0722,2,   0.0326,2,   0.0106,2,   0.0019,2,   0.0138,3,   0.0124,3,  10.8503,  10.8999,2
  33RR20070322,  I09N,   178,  1,     25,     25,2,20070421,2023,  7.7472,  85.7468, 3765, 439.1000,    439.1,  10.5182,  35.0477,2,  35.0491,2,     18.7,2,     18.3,2,    41.15,2,    34.61,2,     0.00,2,     2.46,2,    0.324,2,    0.182,2, -999.000,5,   2266.2,2,   2321.4,2,   7.4603,2,    25.00,   -999.0,9,  -999.00,9, -999.000,9, -999.000,-999.0000,9,-999.0000,  -999.00,9,  -999.00, -999.000,9, -999.000,   -999.0,9,   -999.0,  -999.00,9,   0.1944,2,   0.1464,2,   0.0911,2,   0.0723,2,   0.0326,2,   0.0106,2,   0.0018,2,   0.0139,3,   0.0125,3,  10.4649,  10.5106,2
  33RR20070322,  I09N,   178,  1,     24,     24,2,20070421,2023,  7.7472,  85.7468, 3765, 489.4000,    489.4,  10.1670,  35.0427,2,  35.0430,2,     18.0,2,     18.2,2,    44.53,2,    35.06,2,     0.00,2,     2.52,2,    0.239,2,    0.134,2, -999.000,5,   2271.8,2,   2319.3,2,   7.4528,2,    25.00,   -999.0,9,  -999.00,9, -999.000,9, -999.000,-999.0000,9,-999.0000,  -999.00,9,  -999.00, -999.000,9, -999.000,   -999.0,9,   -999.0,  -999.00,9,   0.1930,2,   0.1448,2,   0.0896,2,   0.0707,2,   0.0318,2,   0.0101,2,   0.0016,2,   0.0139,3,   0.0126,3,  10.1087,  10.1656,2
  33RR20070322,  I09N,   178,  1,     23,     23,2,20070421,2023,  7.7472,  85.7468, 3765, 574.2000,    574.2,   9.5846,  35.0330,2,  35.0329,2,     20.0,2,     18.6,2,    50.69,2,    35.86,2,     0.00,2,     2.61,2,    0.148,2,    0.081,2, -999.000,5,   2279.1,2,   2327.3,2,   7.4559,2,    25.00,   -999.0,9,  -999.00,9, -999.000,9, -999.000,-999.0000,9,-999.0000,  -999.00,9,  -999.00, -999.000,9, -999.000,   -999.0,9,   -999.0,  -999.00,9,   0.1943,2,   0.1454,2,   0.0893,2,   0.0698,2,   0.0320,2,   0.0108,2,   0.0020,2,   0.0138,3,   0.0127,3,   9.5184,   9.5888,2
  33RR20070322,  I09N,   178,  1,     22,     22,2,20070421,2023,  7.7472,  85.7468, 3765, 673.5000,    673.5,   8.7828,  35.0123,2,  35.0127,2,     23.0,2,     21.1,2,    59.86,2,    36.66,2,     0.00,2,     2.68,2,    0.076,2,    0.043,2, -999.000,5,   2290.3,2,   2342.8,2,   7.4510,2,    25.00,   -999.0,9,  -999.00,9, -999.000,9, -999.000,-999.0000,9,-999.0000,  -999.00,9,  -999.00, -999.000,9, -999.000,   -999.0,9,   -999.0,  -999.00,9,   0.1992,2,   0.1501,2,   0.0940,2,   0.0749,2,   0.0354,2,   0.0111,2,   0.0021,2,   0.0139,3,   0.0124,3,   8.7087,   8.7816,2
  33RR20070322,  I09N,   178,  1,     21,     21,2,20070421,2023,  7.7472,  85.7468, 3765, 774.2000,    774.2,   8.0763,  34.9901,2,  34.9908,2,     28.7,2,     28.3,2,    67.64,2,    36.86,2,     0.00,2,     2.71,2,    0.047,2,    0.026,2, -999.000,5,   2297.2,2,   2346.7,2,   7.4551,2,    25.00,   -999.0,9,  -999.00,9, -999.000,9, -999.000,-999.0000,9,-999.0000,  -999.00,9,  -999.00, -999.000,9, -999.000,   -999.0,9,   -999.0,  -999.00,9,   0.1970,2,   0.1478,2,   0.0918,2,   0.0723,2,   0.0338,2,   0.0104,2,   0.0016,2,   0.0140,3,   0.0126,3,   7.9946,   8.0728,2
  33RR20070322,  I09N,   178,  1,     20,     20,2,20070421,2023,  7.7472,  85.7468, 3765, 874.7000,    874.7,   7.5124,  34.9702,2,  34.9713,2,     33.9,2,     33.3,2,    73.82,2,    37.20,2,     0.00,2,     2.75,2,    0.030,2,    0.016,2, -999.000,5,   2301.6,2,   2354.1,2,   7.4517,2,    25.00,   -999.0,9,  -999.00,9, -999.000,9, -999.000,-999.0000,9,-999.0000,  -999.00,9,  -999.00, -999.000,9, -999.000,   -999.0,9,   -999.0,  -999.00,9,   0.1967,2,   0.1474,2,   0.0905,2,   0.0702,2,   0.0324,2,   0.0100,2,   0.0014,2,   0.0141,3,   0.0128,3,   7.4232,   7.5200,2
  33RR20070322,  I09N,   178,  1,     19,     19,2,20070421,2023,  7.7472,  85.7468, 3765, 975.2000,    975.2,   6.9885,  34.9488,2,  34.9500,2,     40.0,2,     40.9,2,    79.81,2,    37.25,2,     0.00,2,     2.74,2,    0.026,2,    0.014,2, -999.000,5,   2306.2,2,   2359.7,2,   7.4646,2,    25.00,   -999.0,9,  -999.00,9, -999.000,9, -999.000,-999.0000,9,-999.0000,  -999.00,9,  -999.00, -999.000,9, -999.000,   -999.0,9,   -999.0,  -999.00,9,   0.1964,2,   0.1466,2,   0.0903,2,   0.0699,2,   0.0325,2,   0.0104,2,   0.0017,2,   0.0140,3,   0.0128,3,   6.8922,   6.9893,2
  33RR20070322,  I09N,   178,  1,     18,     18,2,20070421,2023,  7.7472,  85.7468, 3765,1075.7000,   1075.7,   6.4909,  34.9296,2,  34.9301,2,     47.0,2,     47.2,2,    85.42,2,    37.25,2,     0.00,2,     2.74,2,    0.021,2,    0.011,2, -999.000,5,   2311.0,2,   2365.5,2,   7.4663,2,    25.00,   -999.0,9,  -999.00,9, -999.000,9, -999.000,-999.0000,9,-999.0000,  -999.00,9,  -999.00, -999.000,9, -999.000,   -999.0,9,   -999.0,  -999.00,9,   0.1952,2,   0.1456,2,   0.0890,3,   0.0688,3,   0.0317,3,   0.0097,3,   0.0013,2,   0.0141,4,   0.0129,4,   6.3880,   6.4900,2
  33RR20070322,  I09N,   178,  1,     17,     17,2,20070421,2023,  7.7472,  85.7468, 3765,1176.1000,   1176.1,   6.0331,  34.9153,2,  34.9151,2,     53.5,2,     53.5,2,    90.22,2,    37.24,2,     0.00,2,     2.75,2,    0.017,2,    0.008,2, -999.000,5,   2313.8,2,   2370.6,2,   7.4706,2,    25.00,   -999.0,9,  -999.00,9, -999.000,9, -999.000,-999.0000,9,-999.0000,  -999.00,9,  -999.00, -999.000,9, -999.000,   -999.0,9,   -999.0,  -999.00,9,   0.1950,2,   0.1457,2,   0.0884,2,   0.0683,2,   0.0310,2,   0.0102,2,   0.0015,2,   0.0140,3,   0.0129,3,   5.9238,   6.0298,2
  33RR20070322,  I09N,   178,  1,     16,     16,2,20070421,2023,  7.7472,  85.7468, 3765,1277.2000,   1277.2,   5.5317,  34.8913,2,  34.8915,2,     60.4,2,     61.2,2,    95.83,2,    37.29,2,     0.00,2,     2.74,2, -999.000,9, -999.000,9, -999.000,9,   2316.9,2,   2377.4,2,   7.4774,2,    25.00,   -999.0,9,  -999.00,9, -999.000,9, -999.000,-999.0000,9,-999.0000,  -999.00,9,  -999.00, -999.000,9, -999.000,   -999.0,9,   -999.0,  -999.00,9,-999.0000,5,-999.0000,5,-999.0000,5,-999.0000,5,-999.0000,5,-999.0000,5,-999.0000,5,-999.0000,5,-999.0000,5,   5.4169,   5.5309,2
  33RR20070322,  I09N,   178,  1,     15,     15,2,20070421,2023,  7.7472,  85.7468, 3765,1377.5000,   1377.5,   5.0692,  34.8746,2,  34.8742,2,     68.2,2,     69.1,2,   101.66,2,    37.13,2,     0.00,2,     2.73,2,    0.012,2,    0.005,2, -999.000,5,   2319.9,2,   -999.0,5,   7.4845,2,    25.00,   -999.0,9,  -999.00,9, -999.000,9, -999.000,-999.0000,9,-999.0000,  -999.00,9,  -999.00, -999.000,9, -999.000,   -999.0,9,   -999.0,  -999.00,9,   0.1944,2,   0.1442,3,   0.0876,3,   0.0673,3,   0.0312,2,   0.0100,3,   0.0017,2,   0.0139,4,   0.0130,4,   4.9492,   5.0689,2
  33RR20070322,  I09N,   178,  1,     14,     14,2,20070421,2023,  7.7472,  85.7468, 3765,1477.1000,   1477.1,   4.6362,  34.8585,2,  34.8588,2,     75.5,2,     76.3,2,   106.08,2,    37.07,2,     0.00,2,     2.72,2, -999.000,9, -999.000,9, -999.000,9,   2322.0,2,   2382.1,2,   7.4923,2,    25.00,   -999.0,9,  -999.00,9, -999.000,9, -999.000,-999.0000,9,-999.0000,  -999.00,9,  -999.00, -999.000,9, -999.000,   -999.0,9,   -999.0,  -999.00,9,   0.1950,2,   0.1447,2,   0.0874,2,   0.0663,2,   0.0306,2,   0.0099,2,   0.0017,2,   0.0140,3,   0.0131,3,   4.5113,   4.6353,2
  33RR20070322,  I09N,   178,  1,     13,     13,2,20070421,2023,  7.7472,  85.7468, 3765,1578.0000,   1578.0,   4.2210,  34.8419,2,  34.8421,2,     84.4,2,     85.2,2,   109.48,2,    36.82,2,     0.00,2,     2.69,2,    0.009,2,    0.004,2, -999.000,5,   2323.1,2,   2374.8,3,   7.5020,2,    25.00,   -999.0,9,  -999.00,9, -999.000,9, -999.000,-999.0000,9,-999.0000,  -999.00,9,  -999.00, -999.000,9, -999.000,   -999.0,9,   -999.0,  -999.00,9,   0.1936,2,   0.1433,2,   0.0866,2,   0.0659,2,   0.0306,2,   0.0101,2,   0.0019,2,   0.0139,3,   0.0131,3,   4.0913,   4.2212,2
  33RR20070322,  I09N,   178,  1,     12,     12,2,20070421,2023,  7.7472,  85.7468, 3765,1779.2000,   1779.2,   3.5051,  34.8134,2,  34.8137,2,     98.4,2,     99.4,2,   117.56,2,    36.47,2,     0.00,2,     2.66,2, -999.000,9, -999.000,9, -999.000,9,   2326.1,2,   2394.0,2,   7.5197,2,    25.00,   -999.0,9,  -999.00,9, -999.000,9, -999.000,-999.0000,9,-999.0000,  -999.00,9,  -999.00, -999.000,9, -999.000,   -999.0,9,   -999.0,  -999.00,9,   0.1909,2,   0.1408,2,   0.0842,2,   0.0634,2,   0.0288,2,   0.0095,2,   0.0018,2,   0.0139,3,   0.0133,3,   3.3659,   3.5078,2
  33RR20070322,  I09N,   178,  1,     11,     11,2,20070421,2023,  7.7472,  85.7468, 3765,1980.2000,   1980.2,   2.8749,  34.7855,2,  34.7858,2,    111.6,2,    112.3,2,   125.44,2,    36.06,2,     0.00,2,     2.62,2,    0.008,2,    0.003,2, -999.000,5,   2329.0,2,   2402.7,2,   7.5347,2,    25.00,   -999.0,9,  -999.00,9, -999.000,9, -999.000,-999.0000,9,-999.0000,  -999.00,9,  -999.00, -999.000,9, -999.000,   -999.0,9,   -999.0,  -999.00,9,   0.1897,2,   0.1396,2,   0.0826,2,   0.0614,2,   0.0275,2,   0.0087,2,   0.0014,2,   0.0141,3,   0.0136,3,   2.7265,   2.8780,2
  33RR20070322,  I09N,   178,  1,     10,     10,2,20070421,2023,  7.7472,  85.7468, 3765,2183.0000,   2183.0,   2.4939,  34.7682,2,  34.7684,2,    121.7,2,    121.9,2,   130.50,2,    35.76,2,     0.00,2,     2.58,2, -999.000,9, -999.000,9, -999.000,9,   2330.8,2,   2307.4,4,   7.5374,2,    25.00,   -999.0,9,  -999.00,9, -999.000,9, -999.000,-999.0000,9,-999.0000,  -999.00,9,  -999.00, -999.000,9, -999.000,   -999.0,9,   -999.0,  -999.00,9,   0.1905,2,   0.1402,2,   0.0832,2,   0.0623,2,   0.0282,2,   0.0091,2,   0.0018,2,   0.0140,3,   0.0134,3,   2.3332,   2.4950,2
  33RR20070322,  I09N,   178,  1,      9,      9,2,20070421,2023,  7.7472,  85.7468, 3765,2435.6000,   2435.6,   2.1843,  34.7541,2,  34.7547,2,    131.4,2,    130.0,2,   135.17,2,    35.55,2,     0.00,2,     2.55,2,    0.008,2,    0.003,2, -999.000,5,   2330.7,2,   2415.9,2,   7.5516,2,    25.00,   -999.0,9,  -999.00,9, -999.000,9, -999.000,-999.0000,9,-999.0000,  -999.00,9,  -999.00, -999.000,9, -999.000,   -999.0,9,   -999.0,  -999.00,9,   0.1875,2,   0.1376,2,   0.0807,2,   0.0596,2,   0.0267,2,   0.0088,2,   0.0020,2,   0.0140,3,   0.0136,3,   2.0061,   2.1831,2
  33RR20070322,  I09N,   178,  1,      8,      8,2,20070421,2023,  7.7472,  85.7468, 3765,2687.9000,   2687.9,   1.9072,  34.7422,2,  34.7424,2,    141.1,2,    139.7,2,   136.98,2,    35.14,2,     0.00,2,     2.50,2, -999.000,9, -999.000,9, -999.000,9,   2329.0,2,   2419.5,2,   7.5594,2,    25.00,   -999.0,9,  -999.00,9, -999.000,9, -999.000,-999.0000,9,-999.0000,  -999.00,9,  -999.00, -999.000,9, -999.000,   -999.0,9,   -999.0,  -999.00,9,   0.1833,2,   0.1340,2,   0.0789,2,   0.0585,2,   0.0260,2,   0.0085,2,   0.0019,2,   0.0139,3,   0.0136,3,   1.7109,   1.9074,2
  33RR20070322,  I09N,   178,  1,      7,      7,2,20070421,2023,  7.7472,  85.7468, 3765,2941.2000,   2941.2,   1.7620,  34.7360,2,  34.7361,2,    147.6,2,    146.0,2,   137.98,2,    34.95,2,     0.00,2,     2.47,2,    0.009,2,    0.004,2, -999.000,5,   2328.0,2,   2421.4,2,   7.5684,2,    25.00,   -999.0,9,  -999.00,9, -999.000,9, -999.000,-999.0000,9,-999.0000,  -999.00,9,  -999.00, -999.000,9, -999.000,   -999.0,9,   -999.0,  -999.00,9,   0.1813,2,   0.1327,2,   0.0777,2,   0.0580,2,   0.0258,2,   0.0085,2,   0.0019,2,   0.0138,3,   0.0136,3,   1.5448,   1.7614,2
  33RR20070322,  I09N,   178,  1,      6,      6,2,20070421,2023,  7.7472,  85.7468, 3765,3275.0000,   3275.0,   1.5589,  34.7279,2,  34.7284,2,    153.7,2,    153.6,2,   140.81,2,    34.68,2,     0.00,2,     2.43,2, -999.000,9, -999.000,9, -999.000,9,   2327.2,2,   2425.2,2,   7.5895,2,    25.00,   -999.0,9,  -999.00,9, -999.000,9, -999.000,-999.0000,9,-999.0000,  -999.00,9,  -999.00, -999.000,9, -999.000,   -999.0,9,   -999.0,  -999.00,9,   0.1744,2,   0.1265,2,   0.0735,2,   0.0536,2,   0.0232,2,   0.0076,2,   0.0015,2,   0.0138,3,   0.0139,3,   1.3137,   1.5588,2
  33RR20070322,  I09N,   178,  1,      5,      5,2,20070421,2023,  7.7472,  85.7468, 3765,3427.0000,   3427.0,   1.4955,  34.7255,2,  34.7259,2,    156.1,2,    156.5,2,   141.40,2,    34.64,2,     0.00,2,     2.42,2,    0.011,2,    0.005,2, -999.000,5,   2328.2,2,   2425.8,2,   7.5903,2,    25.00,   -999.0,9,  -999.00,9, -999.000,9, -999.000,-999.0000,9,-999.0000,  -999.00,9,  -999.00, -999.000,9, -999.000,   -999.0,9,   -999.0,  -999.00,9,   0.1814,2,   0.1322,2,   0.0770,2,   0.0569,2,   0.0253,2,   0.0089,2,   0.0023,2,   0.0137,3,   0.0137,3,   1.2366,   1.4957,2