BOTTLE,20150630SIOCCHRJL
EXPOCODE,SECT_ID,STNNBR,CASTNO,SAMPNO,BTLNBR,BTLNBR_FLAG_W,DATE,TIME,LATITUDE,LONGITUDE,DEPTH,CTDRAW,CTDPRS,CTDTMP,CTDSAL,CTDSAL_FLAG_W,SALNTY,SALNTY_FLAG_W,CTDOXY,CTDOXY_FLAG_W,OXYGEN,OXYGEN_FLAG_W,SILCAT,SILCAT_FLAG_W,NITRAT,NITRAT_FLAG_W,NITRIT,NITRIT_FLAG_W,PHSPHT,PHSPHT_FLAG_W,CFC-11,CFC-11_FLAG_W,CFC-12,CFC-12_FLAG_W,CFC113,CFC113_FLAG_W,TCARBN,TCARBN_FLAG_W,ALKALI,ALKALI_FLAG_W,PH_SWS,PH_SWS_FLAG_W,PH_TMP,DOC,DOC_FLAG_W,TDN,TDN_FLAG_W,TRITUM,TRITUM_FLAG_W,TRITER,HELIUM,HELIUM_FLAG_W,HELIER,DELHE3,DELHE3_FLAG_W,DELHER,NEON,NEON_FLAG_W,NEONER,DELC14,DELC14_FLAG_W,C14ERR,DELC13,DELC13_FLAG_W,CDOM325,CDOM325_FLAG_W,CDOM340,CDOM340_FLAG_W,CDOM380,CDOM380_FLAG_W,CDOM412,CDOM412_FLAG_W,CDOM443,CDOM443_FLAG_W,CDOM490,CDOM490_FLAG_W,CDOM555,CDOM555_FLAG_W,CDOMSL,CDOMSL_FLAG_W,CDOMSN,CDOMSN_FLAG_W,THETA,SBE35,SBE35_FLAG_W
,,,,,,,,,,,METERS,,DBAR,ITS-90,PSS-78,,PSS-78,,UMOL/KG,,UMOL/KG,,UMOL/KG,,UMOL/KG,,UMOL/KG,,UMOL/KG,,PMOL/KG,,PMOL/KG,,PMOL/KG,,UMOL/KG,,UMOL/KG,,,,DEG C,UMOL/KG,,UMOL/KG,,TU,,TU,NMOL/KG,,NMOL/KG,PERCNT,,PERCNT,NMOL/KG,,NMOL/KG,/MILLE,,/MILLE,/MILLE,,1/M,,1/M,,1/M,,1/M,,1/M,,1/M,,1/M,,1/NM,,1/NM,,DEG C,ITS-90,
  33RR20070322,  I09N,   182,  1,      4,      4,2,20070422,2220,  9.8270,  86.7823, 3516,3386.7000,   3386.7,   1.5170,  34.7262,2,  34.7260,2,    157.6,2,    158.5,2,   139.03,2,    34.39,2,     0.00,2,     2.39,2, -999.000,9, -999.000,9, -999.000,9,   2324.8,2,   2424.6,2,   7.5917,2,    25.00,   -999.0,9,  -999.00,9, -999.000,9, -999.000,-999.0000,9,-999.0000,  -999.00,9,  -999.00, -999.000,9, -999.000,   -999.0,9,   -999.0,  -999.00,9,   0.1747,2,   0.1270,2,   0.0737,2,   0.0546,2,   0.0242,2,   0.0076,2,   0.0019,2,   0.0138,3,   0.0137,3,   1.2616,   1.5154,2
  33RR20070322,  I09N,   182,  1,      3,      3,2,20070422,2220,  9.8270,  86.7823, 3516,3427.3000,   3427.3,   1.4858,  34.7252,2,  34.7248,2,    158.2,2,    158.5,2,   140.21,2,    34.43,2,     0.00,2,     2.39,2,    0.013,2,    0.008,2, -999.000,5,   2325.7,2,   2429.1,2,   7.5940,2,    25.00,   -999.0,9,  -999.00,9, -999.000,9, -999.000,-999.0000,9,-999.0000,  -999.00,9,  -999.00, -999.000,9, -999.000,   -999.0,9,   -999.0,  -999.00,9,   0.1767,2,   0.1285,2,   0.0747,2,   0.0551,2,   0.0245,2,   0.0079,2,   0.0020,2,   0.0138,3,   0.0138,3,   1.2271,   1.4862,2
  33RR20070322,  I09N,   182,  1,      2,      2,2,20070422,2220,  9.8270,  86.7823, 3516,3488.6000,   3488.6,   1.4627,  34.7240,2,  34.7236,2,    155.2,2,    153.1,2,   146.05,2,    34.87,2,     0.00,2,     2.41,2, -999.000,9, -999.000,9, -999.000,9,   2336.3,2,   2439.6,2,   7.5976,2,    25.00,   -999.0,9,  -999.00,9, -999.000,9, -999.000,-999.0000,9,-999.0000,  -999.00,9,  -999.00, -999.000,9, -999.000,   -999.0,9,   -999.0,  -999.00,9,   0.1892,2,   0.1385,2,   0.0799,2,   0.0579,2,   0.0260,2,   0.0083,2,   0.0019,2,   0.0142,3,   0.0140,3,   1.1984,   1.4627,2
  33RR20070322,  I09N,   182,  1,      1,      1,2,20070422,2220,  9.8270,  86.7823, 3516,3548.1000,   3548.1,   1.4671,  34.7236,2,  34.7219,2,    152.6,2,    152.5,2,   146.84,2,    34.92,2,     0.00,2,     2.42,2,    0.015,2,    0.010,2, -999.000,5,   2336.7,6,   2442.6,6,   7.6057,6,    25.00,   -999.0,9,  -999.00,9, -999.000,9, -999.000,-999.0000,9,-999.0000,  -999.00,9,  -999.00, -999.000,9, -999.000,   -999.0,9,   -999.0,  -999.00,9,   0.1917,2,   0.1402,2,   0.0812,2,   0.0589,2,   0.0263,2,   0.0084,2,   0.0019,2,   0.0142,3,   0.0140,3,   1.1966,   1.4668,2