BOTTLE,20150630SIOCCHRJL
EXPOCODE,SECT_ID,STNNBR,CASTNO,SAMPNO,BTLNBR,BTLNBR_FLAG_W,DATE,TIME,LATITUDE,LONGITUDE,DEPTH,CTDRAW,CTDPRS,CTDTMP,CTDSAL,CTDSAL_FLAG_W,SALNTY,SALNTY_FLAG_W,CTDOXY,CTDOXY_FLAG_W,OXYGEN,OXYGEN_FLAG_W,SILCAT,SILCAT_FLAG_W,NITRAT,NITRAT_FLAG_W,NITRIT,NITRIT_FLAG_W,PHSPHT,PHSPHT_FLAG_W,CFC-11,CFC-11_FLAG_W,CFC-12,CFC-12_FLAG_W,CFC113,CFC113_FLAG_W,TCARBN,TCARBN_FLAG_W,ALKALI,ALKALI_FLAG_W,PH_SWS,PH_SWS_FLAG_W,PH_TMP,DOC,DOC_FLAG_W,TDN,TDN_FLAG_W,TRITUM,TRITUM_FLAG_W,TRITER,HELIUM,HELIUM_FLAG_W,HELIER,DELHE3,DELHE3_FLAG_W,DELHER,NEON,NEON_FLAG_W,NEONER,DELC14,DELC14_FLAG_W,C14ERR,DELC13,DELC13_FLAG_W,CDOM325,CDOM325_FLAG_W,CDOM340,CDOM340_FLAG_W,CDOM380,CDOM380_FLAG_W,CDOM412,CDOM412_FLAG_W,CDOM443,CDOM443_FLAG_W,CDOM490,CDOM490_FLAG_W,CDOM555,CDOM555_FLAG_W,CDOMSL,CDOMSL_FLAG_W,CDOMSN,CDOMSN_FLAG_W,THETA,SBE35,SBE35_FLAG_W
,,,,,,,,,,,METERS,,DBAR,ITS-90,PSS-78,,PSS-78,,UMOL/KG,,UMOL/KG,,UMOL/KG,,UMOL/KG,,UMOL/KG,,UMOL/KG,,PMOL/KG,,PMOL/KG,,PMOL/KG,,UMOL/KG,,UMOL/KG,,,,DEG C,UMOL/KG,,UMOL/KG,,TU,,TU,NMOL/KG,,NMOL/KG,PERCNT,,PERCNT,NMOL/KG,,NMOL/KG,/MILLE,,/MILLE,/MILLE,,1/M,,1/M,,1/M,,1/M,,1/M,,1/M,,1/M,,1/NM,,1/NM,,DEG C,ITS-90,
  33RR20070322,  I09N,   142,  1,     36,     38,2,20070412,0014, -0.9342,  93.7333, 4622,   3.2000,      3.2,  29.5908,  34.0561,2,  34.0569,2,    194.7,2,    195.7,2,     1.27,2,     0.05,2,     0.00,2,     0.09,2,    1.492,2,    0.982,2, -999.000,5,   1904.7,6,   2230.3,2,   8.1050,3,    25.00,   -999.0,9,  -999.00,9, -999.000,9, -999.000,-999.0000,9,-999.0000,  -999.00,9,  -999.00, -999.000,9, -999.000,   -999.0,9,   -999.0,  -999.00,9,-999.0000,9,-999.0000,9,-999.0000,9,-999.0000,9,-999.0000,9,-999.0000,9,-999.0000,9,-999.0000,9,-999.0000,9,  29.5900,  29.5839,2
  33RR20070322,  I09N,   142,  1,     35,     35,2,20070412,0014, -0.9342,  93.7333, 4622,  20.9000,     20.9,  29.5934,  34.0567,2,  34.0563,2,    196.4,2,    196.1,2,     1.26,2,     0.05,2,     0.00,2,     0.08,2,    1.483,2,    0.970,2, -999.000,5,   -999.0,9,   -999.0,9,-999.0000,9,  -999.00,   -999.0,9,  -999.00,9, -999.000,9, -999.000,-999.0000,9,-999.0000,  -999.00,9,  -999.00, -999.000,9, -999.000,   -999.0,9,   -999.0,  -999.00,9,-999.0000,9,-999.0000,9,-999.0000,9,-999.0000,9,-999.0000,9,-999.0000,9,-999.0000,9,-999.0000,9,-999.0000,9,  29.5883,  29.5894,2
  33RR20070322,  I09N,   142,  1,     34,   9419,2,20070412,0014, -0.9342,  93.7333, 4622,  45.6000,     45.6,  29.5454,  34.0750,2,  34.0752,2,    197.4,2,    195.8,2,     1.25,2,     0.05,2,     0.00,2,     0.08,2,    1.480,2,    0.981,2, -999.000,5,   1905.5,2,   2236.1,2,   8.1082,2,    25.00,   -999.0,9,  -999.00,9, -999.000,9, -999.000,-999.0000,9,-999.0000,  -999.00,9,  -999.00, -999.000,9, -999.000,   -999.0,9,   -999.0,  -999.00,9,-999.0000,9,-999.0000,9,-999.0000,9,-999.0000,9,-999.0000,9,-999.0000,9,-999.0000,9,-999.0000,9,-999.0000,9,  29.5342,  29.5397,2
  33RR20070322,  I09N,   142,  1,     33,     33,2,20070412,0014, -0.9342,  93.7333, 4622,  90.1000,     90.1,  23.1664,  35.3140,2,  35.3115,2,    130.0,2,    130.2,2,     6.85,2,     9.32,2,     0.94,2,     0.83,2,    1.687,2,    1.051,2, -999.000,5,   -999.0,9,   -999.0,9,-999.0000,9,  -999.00,   -999.0,9,  -999.00,9, -999.000,9, -999.000,-999.0000,9,-999.0000,  -999.00,9,  -999.00, -999.000,9, -999.000,   -999.0,9,   -999.0,  -999.00,9,-999.0000,9,-999.0000,9,-999.0000,9,-999.0000,9,-999.0000,9,-999.0000,9,-999.0000,9,-999.0000,9,-999.0000,9,  23.1479,  23.1341,2
  33RR20070322,  I09N,   142,  1,     32,     37,2,20070412,0014, -0.9342,  93.7333, 4622, 139.6000,    139.6,  20.2866,  35.3071,2,  35.3059,2,     84.3,2,     83.6,2,    11.44,2,    17.78,2,     0.04,2,     1.28,2,    1.685,2,    1.025,2, -999.000,5,   2135.2,2,   2309.5,2,   7.7800,2,    25.00,   -999.0,9,  -999.00,9, -999.000,9, -999.000,-999.0000,9,-999.0000,  -999.00,9,  -999.00, -999.000,9, -999.000,   -999.0,9,   -999.0,  -999.00,9,-999.0000,9,-999.0000,9,-999.0000,9,-999.0000,9,-999.0000,9,-999.0000,9,-999.0000,9,-999.0000,9,-999.0000,9,  20.2605,  20.2279,2
  33RR20070322,  I09N,   142,  1,     31,     31,2,20070412,0014, -0.9342,  93.7333, 4622, 164.9000,    164.9,  18.8214,  35.2602,2,  35.2587,2,     72.4,2,     71.7,2,    13.83,2,    20.32,2,     0.02,2,     1.45,2,    1.621,2,    0.969,2, -999.000,5,   -999.0,9,   -999.0,9,-999.0000,9,  -999.00,   -999.0,9,  -999.00,9, -999.000,9, -999.000,-999.0000,9,-999.0000,  -999.00,9,  -999.00, -999.000,9, -999.000,   -999.0,9,   -999.0,  -999.00,9,-999.0000,9,-999.0000,9,-999.0000,9,-999.0000,9,-999.0000,9,-999.0000,9,-999.0000,9,-999.0000,9,-999.0000,9,  18.7922,  18.8101,2
  33RR20070322,  I09N,   142,  1,     30,     30,2,20070412,0014, -0.9342,  93.7333, 4622, 189.9000,    189.9,  16.7907,  35.1795,2,  35.1806,2,     60.8,2,     60.0,2,    17.23,2,    23.39,2,     0.01,2,     1.65,2,    1.486,2,    0.864,2, -999.000,5,   -999.0,9,   -999.0,9,-999.0000,9,  -999.00,   -999.0,9,  -999.00,9, -999.000,9, -999.000,-999.0000,9,-999.0000,  -999.00,9,  -999.00, -999.000,9, -999.000,   -999.0,9,   -999.0,  -999.00,9,-999.0000,9,-999.0000,9,-999.0000,9,-999.0000,9,-999.0000,9,-999.0000,9,-999.0000,9,-999.0000,9,-999.0000,9,  16.7596,  16.7867,2
  33RR20070322,  I09N,   142,  1,     29,     29,2,20070412,0014, -0.9342,  93.7333, 4622, 240.3000,    240.3,  13.7656,  35.1063,2,  35.1061,2,     55.9,2,     57.2,2,    21.44,2,    26.63,2,     0.00,2,     1.87,2,    1.248,2,    0.712,2, -999.000,5,   2207.0,2,   2309.7,6,   7.6048,2,    25.00,   -999.0,9,  -999.00,9, -999.000,9, -999.000,-999.0000,9,-999.0000,  -999.00,9,  -999.00, -999.000,9, -999.000,   -999.0,9,   -999.0,  -999.00,9,-999.0000,9,-999.0000,9,-999.0000,9,-999.0000,9,-999.0000,9,-999.0000,9,-999.0000,9,-999.0000,9,-999.0000,9,  13.7312,  13.7662,2
  33RR20070322,  I09N,   142,  1,     28,     28,2,20070412,0014, -0.9342,  93.7333, 4622, 289.6000,    289.6,  12.3113,  35.0751,2,  35.0748,2,     70.3,2,     77.1,2,    21.43,2,    26.25,2,     0.00,2,     1.81,2, -999.000,9, -999.000,9, -999.000,9,   -999.0,9,   -999.0,9,-999.0000,9,  -999.00,   -999.0,9,  -999.00,9, -999.000,9, -999.000,-999.0000,9,-999.0000,  -999.00,9,  -999.00, -999.000,9, -999.000,   -999.0,9,   -999.0,  -999.00,9,-999.0000,9,-999.0000,9,-999.0000,9,-999.0000,9,-999.0000,9,-999.0000,9,-999.0000,9,-999.0000,9,-999.0000,9,  12.2727,  12.3091,2
  33RR20070322,  I09N,   142,  1,     27,     27,2,20070412,0014, -0.9342,  93.7333, 4622, 339.4000,    339.4,  11.8604,  35.0596,2,  35.0597,2,     75.6,2,     76.6,2,    22.62,2,    27.00,2,     0.00,2,     1.86,2,    1.197,2,    0.660,2, -999.000,5,   -999.0,9,   -999.0,9,-999.0000,9,  -999.00,   -999.0,9,  -999.00,9, -999.000,9, -999.000,-999.0000,9,-999.0000,  -999.00,9,  -999.00, -999.000,9, -999.000,   -999.0,9,   -999.0,  -999.00,9,-999.0000,9,-999.0000,9,-999.0000,9,-999.0000,9,-999.0000,9,-999.0000,9,-999.0000,9,-999.0000,9,-999.0000,9,  11.8162,  11.8595,2
  33RR20070322,  I09N,   142,  1,     26,     26,2,20070412,0014, -0.9342,  93.7333, 4622, 389.7000,    389.7,  11.2202,  35.0280,2,  35.0294,2,     76.4,2,     77.0,2,    24.62,2,    28.08,2,     0.00,2,     1.93,2,    1.062,2,    0.577,2, -999.000,5,   -999.0,9,   -999.0,9,-999.0000,9,  -999.00,   -999.0,9,  -999.00,9, -999.000,9, -999.000,-999.0000,9,-999.0000,  -999.00,9,  -999.00, -999.000,9, -999.000,   -999.0,9,   -999.0,  -999.00,9,-999.0000,9,-999.0000,9,-999.0000,9,-999.0000,9,-999.0000,9,-999.0000,9,-999.0000,9,-999.0000,9,-999.0000,9,  11.1711,  11.2234,2
  33RR20070322,  I09N,   142,  1,     25,     25,2,20070412,0014, -0.9342,  93.7333, 4622, 439.6000,    439.6,  10.5497,  34.9802,2,  34.9805,2,     75.1,2,     74.8,2,    27.82,2,    29.54,2,     0.00,2,     2.03,2,    0.785,2,    0.435,2, -999.000,5,   2221.9,2,   2314.0,2,   7.5705,2,    25.00,   -999.0,9,  -999.00,9, -999.000,9, -999.000,-999.0000,9,-999.0000,  -999.00,9,  -999.00, -999.000,9, -999.000,   -999.0,9,   -999.0,  -999.00,9,-999.0000,9,-999.0000,9,-999.0000,9,-999.0000,9,-999.0000,9,-999.0000,9,-999.0000,9,-999.0000,9,-999.0000,9,  10.4963,  10.5478,2
  33RR20070322,  I09N,   142,  1,     24,     24,2,20070412,0014, -0.9342,  93.7333, 4622, 489.5000,    489.5,  10.0129,  34.9781,2,  34.9776,2,     68.4,2,     64.9,2,    34.02,2,    31.48,2,     0.00,2,     2.21,2, -999.000,9, -999.000,9, -999.000,9,   -999.0,9,   -999.0,9,-999.0000,9,  -999.00,   -999.0,9,  -999.00,9, -999.000,9, -999.000,-999.0000,9,-999.0000,  -999.00,9,  -999.00, -999.000,9, -999.000,   -999.0,9,   -999.0,  -999.00,9,-999.0000,9,-999.0000,9,-999.0000,9,-999.0000,9,-999.0000,9,-999.0000,9,-999.0000,9,-999.0000,9,-999.0000,9,   9.9552,  10.0165,2
  33RR20070322,  I09N,   142,  1,     23,     23,2,20070412,0014, -0.9342,  93.7333, 4622, 575.4000,    575.4,   9.0450,  34.9775,2,  34.9748,2,     56.7,2,     54.5,2,    46.86,2,    33.92,2,     0.00,2,     2.46,2,    0.232,2,    0.130,2, -999.000,5,   -999.0,9,   -999.0,9,-999.0000,9,  -999.00,   -999.0,9,  -999.00,9, -999.000,9, -999.000,-999.0000,9,-999.0000,  -999.00,9,  -999.00, -999.000,9, -999.000,   -999.0,9,   -999.0,  -999.00,9,-999.0000,9,-999.0000,9,-999.0000,9,-999.0000,9,-999.0000,9,-999.0000,9,-999.0000,9,-999.0000,9,-999.0000,9,   8.9809,   9.0370,2
  33RR20070322,  I09N,   142,  1,     22,     22,2,20070412,0014, -0.9342,  93.7333, 4622, 675.9000,    675.9,   8.6462,  34.9921,2,  34.9941,2,     49.8,2,     48.3,2,    54.28,2,    35.00,2,     0.00,2,     2.57,2, -999.000,9, -999.000,9, -999.000,9,   -999.0,9,   -999.0,9,-999.0000,9,  -999.00,   -999.0,9,  -999.00,9, -999.000,9, -999.000,-999.0000,9,-999.0000,  -999.00,9,  -999.00, -999.000,9, -999.000,   -999.0,9,   -999.0,  -999.00,9,-999.0000,9,-999.0000,9,-999.0000,9,-999.0000,9,-999.0000,9,-999.0000,9,-999.0000,9,-999.0000,9,-999.0000,9,   8.5725,   8.6483,2
  33RR20070322,  I09N,   142,  1,     21,     21,2,20070412,0014, -0.9342,  93.7333, 4622, 775.7000,    775.7,   8.3065,  34.9872,2,  34.9882,2,     46.9,2,     45.3,2,    59.50,2,    35.65,2,     0.00,2,     2.62,2,    0.090,2,    0.052,2, -999.000,5,   2278.3,2,   2321.5,3,   7.4878,2,    25.00,   -999.0,9,  -999.00,9, -999.000,9, -999.000,-999.0000,9,-999.0000,  -999.00,9,  -999.00, -999.000,9, -999.000,   -999.0,9,   -999.0,  -999.00,9,-999.0000,9,-999.0000,9,-999.0000,9,-999.0000,9,-999.0000,9,-999.0000,9,-999.0000,9,-999.0000,9,-999.0000,9,   8.2233,   8.3047,2
  33RR20070322,  I09N,   142,  1,     20,     20,2,20070412,0014, -0.9342,  93.7333, 4622, 876.2000,    876.2,   7.3918,  34.9518,2,  34.9538,2,     47.9,2,     47.3,2,    71.98,2,    36.84,2,     0.00,2,     2.71,2, -999.000,9, -999.000,9, -999.000,9,   -999.0,9,   -999.0,9,-999.0000,9,  -999.00,   -999.0,9,  -999.00,9, -999.000,9, -999.000,-999.0000,9,-999.0000,  -999.00,9,  -999.00, -999.000,9, -999.000,   -999.0,9,   -999.0,  -999.00,9,-999.0000,9,-999.0000,9,-999.0000,9,-999.0000,9,-999.0000,9,-999.0000,9,-999.0000,9,-999.0000,9,-999.0000,9,   7.3032,   7.3819,2
  33RR20070322,  I09N,   142,  1,     19,     19,2,20070412,0014, -0.9342,  93.7333, 4622, 976.3000,    976.3,   6.9339,  34.9385,2,  34.9379,2,     51.4,2,     50.8,2,    77.62,2,    37.00,2,     0.00,2,     2.74,2,    0.027,2,    0.016,2, -999.000,5,   2298.3,2,   2280.9,3,   7.4820,2,    25.00,   -999.0,9,  -999.00,9, -999.000,9, -999.000,-999.0000,9,-999.0000,  -999.00,9,  -999.00, -999.000,9, -999.000,   -999.0,9,   -999.0,  -999.00,9,-999.0000,9,-999.0000,9,-999.0000,9,-999.0000,9,-999.0000,9,-999.0000,9,-999.0000,9,-999.0000,9,-999.0000,9,   6.8379,   6.9309,2
  33RR20070322,  I09N,   142,  1,     18,     18,2,20070412,0014, -0.9342,  93.7333, 4622,1076.4000,   1076.4,   6.2262,  34.9007,2,  34.8997,2,     57.6,2,     58.0,2,    86.10,2,    37.38,2,     0.00,2,     2.76,2, -999.000,9, -999.000,9, -999.000,9,   -999.0,9,   -999.0,9,-999.0000,9,  -999.00,   -999.0,9,  -999.00,9, -999.000,9, -999.000,-999.0000,9,-999.0000,  -999.00,9,  -999.00, -999.000,9, -999.000,   -999.0,9,   -999.0,  -999.00,9,-999.0000,9,-999.0000,9,-999.0000,9,-999.0000,9,-999.0000,9,-999.0000,9,-999.0000,9,-999.0000,9,-999.0000,9,   6.1253,   6.2315,2
  33RR20070322,  I09N,   142,  1,     17,     17,2,20070412,0014, -0.9342,  93.7333, 4622,1176.8000,   1176.8,   5.6164,  34.8833,2,  34.8830,2,     66.0,2,     65.7,2,    93.19,2,    37.38,2,     0.00,2,     2.76,2, -999.000,9, -999.000,9, -999.000,9,   -999.0,9,   -999.0,9,-999.0000,9,  -999.00,   -999.0,9,  -999.00,9, -999.000,9, -999.000,-999.0000,9,-999.0000,  -999.00,9,  -999.00, -999.000,9, -999.000,   -999.0,9,   -999.0,  -999.00,9,-999.0000,9,-999.0000,9,-999.0000,9,-999.0000,9,-999.0000,9,-999.0000,9,-999.0000,9,-999.0000,9,-999.0000,9,   5.5107,   5.6168,2
  33RR20070322,  I09N,   142,  1,     16,     16,2,20070412,0014, -0.9342,  93.7333, 4622,1277.2000,   1277.2,   5.2579,  34.8744,2,  34.8740,2,     72.6,2,     72.0,2,    96.83,2,    37.33,2,     0.00,2,     2.75,2, -999.000,9, -999.000,9, -999.000,9,   -999.0,9,   -999.0,9,-999.0000,9,  -999.00,   -999.0,9,  -999.00,9, -999.000,9, -999.000,-999.0000,9,-999.0000,  -999.00,9,  -999.00, -999.000,9, -999.000,   -999.0,9,   -999.0,  -999.00,9,-999.0000,9,-999.0000,9,-999.0000,9,-999.0000,9,-999.0000,9,-999.0000,9,-999.0000,9,-999.0000,9,-999.0000,9,   5.1457,   5.2577,2
  33RR20070322,  I09N,   142,  1,     15,     15,2,20070412,0014, -0.9342,  93.7333, 4622,1377.6000,   1377.6,   4.9031,  34.8588,2,  34.8589,2,     79.1,2,     79.0,2,    99.67,2,    37.21,2,     0.00,2,     2.74,2, -999.000,9, -999.000,9, -999.000,9,   -999.0,9,   -999.0,9,-999.0000,9,  -999.00,   -999.0,9,  -999.00,9, -999.000,9, -999.000,-999.0000,9,-999.0000,  -999.00,9,  -999.00, -999.000,9, -999.000,   -999.0,9,   -999.0,  -999.00,9,-999.0000,9,-999.0000,9,-999.0000,9,-999.0000,9,-999.0000,9,-999.0000,9,-999.0000,9,-999.0000,9,-999.0000,9,   4.7848,   4.9030,2
  33RR20070322,  I09N,   142,  1,     14,     14,2,20070412,0014, -0.9342,  93.7333, 4622,1478.9000,   1478.9,   4.4013,  34.8292,2,  34.8284,2,     87.8,2,     89.3,2,   103.72,2,    36.98,2,     0.00,2,     2.70,2, -999.000,9, -999.000,9, -999.000,9,   -999.0,9,   -999.0,9,-999.0000,9,  -999.00,   -999.0,9,  -999.00,9, -999.000,9, -999.000,-999.0000,9,-999.0000,  -999.00,9,  -999.00, -999.000,9, -999.000,   -999.0,9,   -999.0,  -999.00,9,-999.0000,9,-999.0000,9,-999.0000,9,-999.0000,9,-999.0000,9,-999.0000,9,-999.0000,9,-999.0000,9,-999.0000,9,   4.2789,   4.3962,2
  33RR20070322,  I09N,   142,  1,     13,     13,2,20070412,0014, -0.9342,  93.7333, 4622,1578.9000,   1578.9,   3.7849,  34.8177,2,  34.8173,2,    100.6,2,    102.0,2,   110.64,2,    36.65,2,     0.00,2,     2.66,2, -999.000,9, -999.000,9, -999.000,9,   -999.0,9,   -999.0,9,-999.0000,9,  -999.00,   -999.0,9,  -999.00,9, -999.000,9, -999.000,-999.0000,9,-999.0000,  -999.00,9,  -999.00, -999.000,9, -999.000,   -999.0,9,   -999.0,  -999.00,9,-999.0000,9,-999.0000,9,-999.0000,9,-999.0000,9,-999.0000,9,-999.0000,9,-999.0000,9,-999.0000,9,-999.0000,9,   3.6604,   3.7845,2
  33RR20070322,  I09N,   142,  1,     12,     12,2,20070412,0014, -0.9342,  93.7333, 4622,1679.6000,   1679.6,   3.5502,  34.8083,2,  34.8086,2,    106.9,2,    107.6,2,   112.67,2,    36.32,2,     0.00,2,     2.64,2, -999.000,9, -999.000,9, -999.000,9,   -999.0,9,   -999.0,9,-999.0000,9,  -999.00,   -999.0,9,  -999.00,9, -999.000,9, -999.000,-999.0000,9,-999.0000,  -999.00,9,  -999.00, -999.000,9, -999.000,   -999.0,9,   -999.0,  -999.00,9,-999.0000,9,-999.0000,9,-999.0000,9,-999.0000,9,-999.0000,9,-999.0000,9,-999.0000,9,-999.0000,9,-999.0000,9,   3.4195,   3.5512,2
  33RR20070322,  I09N,   142,  1,     11,     11,2,20070412,0014, -0.9342,  93.7333, 4622,1780.4000,   1780.4,   3.2124,  34.7952,2,  34.7957,2,    113.7,2,    115.1,2,   116.54,2,    36.10,2,     0.00,2,     2.62,2, -999.000,9, -999.000,9, -999.000,9,   -999.0,9,   -999.0,9,-999.0000,9,  -999.00,   -999.0,9,  -999.00,9, -999.000,9, -999.000,-999.0000,9,-999.0000,  -999.00,9,  -999.00, -999.000,9, -999.000,   -999.0,9,   -999.0,  -999.00,9,-999.0000,9,-999.0000,9,-999.0000,9,-999.0000,9,-999.0000,9,-999.0000,9,-999.0000,9,-999.0000,9,-999.0000,9,   3.0771,   3.2125,2
  33RR20070322,  I09N,   142,  1,     10,     10,2,20070412,0014, -0.9342,  93.7333, 4622,1982.0000,   1982.0,   2.6934,  34.7734,2,  34.7739,2,    127.9,2,    128.6,2,   121.85,2,    35.72,2,     0.00,2,     2.56,2,    0.006,2,    0.003,2, -999.000,5,   2315.5,2,   2402.9,6,   7.5521,2,    25.00,   -999.0,9,  -999.00,9, -999.000,9, -999.000,-999.0000,9,-999.0000,  -999.00,9,  -999.00, -999.000,9, -999.000,   -999.0,9,   -999.0,  -999.00,9,-999.0000,9,-999.0000,9,-999.0000,9,-999.0000,9,-999.0000,9,-999.0000,9,-999.0000,9,-999.0000,9,-999.0000,9,   2.5476,   2.6933,2
  33RR20070322,  I09N,   142,  1,      9,      9,2,20070412,0014, -0.9342,  93.7333, 4622,2183.9000,   2183.9,   2.4210,  34.7628,2,  34.7629,2,    136.9,2,    135.9,2,   125.32,2,    35.44,2,     0.00,2,     2.54,2, -999.000,9, -999.000,9, -999.000,9,   -999.0,9,   -999.0,9,-999.0000,9,  -999.00,   -999.0,9,  -999.00,9, -999.000,9, -999.000,-999.0000,9,-999.0000,  -999.00,9,  -999.00, -999.000,9, -999.000,   -999.0,9,   -999.0,  -999.00,9,-999.0000,9,-999.0000,9,-999.0000,9,-999.0000,9,-999.0000,9,-999.0000,9,-999.0000,9,-999.0000,9,-999.0000,9,   2.2615,   2.4221,2
  33RR20070322,  I09N,   142,  1,      8,      8,2,20070412,0014, -0.9342,  93.7333, 4622,2436.8000,   2436.8,   2.0910,  34.7490,2,  34.7489,2,    146.2,2,    146.2,2,   129.01,2,    35.11,2,     0.00,2,     2.49,2, -999.000,9, -999.000,9, -999.000,9,   -999.0,9,   -999.0,9,-999.0000,9,  -999.00,   -999.0,9,  -999.00,9, -999.000,9, -999.000,-999.0000,9,-999.0000,  -999.00,9,  -999.00, -999.000,9, -999.000,   -999.0,9,   -999.0,  -999.00,9,-999.0000,9,-999.0000,9,-999.0000,9,-999.0000,9,-999.0000,9,-999.0000,9,-999.0000,9,-999.0000,9,-999.0000,9,   1.9144,   2.0905,2
  33RR20070322,  I09N,   142,  1,      7,      7,2,20070412,0014, -0.9342,  93.7333, 4622,2689.3000,   2689.3,   1.9027,  34.7411,2,  34.7406,2,    152.8,2,    152.3,2,   130.64,2,    34.78,2,     0.00,2,     2.46,2, -999.000,9, -999.000,9, -999.000,9,   -999.0,9,   -999.0,9,-999.0000,9,  -999.00,   -999.0,9,  -999.00,9, -999.000,9, -999.000,-999.0000,9,-999.0000,  -999.00,9,  -999.00, -999.000,9, -999.000,   -999.0,9,   -999.0,  -999.00,9,-999.0000,9,-999.0000,9,-999.0000,9,-999.0000,9,-999.0000,9,-999.0000,9,-999.0000,9,-999.0000,9,-999.0000,9,   1.7064,   1.9015,2
  33RR20070322,  I09N,   142,  1,      6,      6,2,20070412,0014, -0.9342,  93.7333, 4622,2942.2000,   2942.2,   1.7409,  34.7345,2,  34.7349,2,    158.7,2,    158.2,2,   132.06,2,    34.66,2,     0.00,2,     2.43,2, -999.000,9, -999.000,9, -999.000,9,   -999.0,9,   -999.0,9,-999.0000,9,  -999.00,   -999.0,9,  -999.00,9, -999.000,9, -999.000,-999.0000,9,-999.0000,  -999.00,9,  -999.00, -999.000,9, -999.000,   -999.0,9,   -999.0,  -999.00,9,-999.0000,9,-999.0000,9,-999.0000,9,-999.0000,9,-999.0000,9,-999.0000,9,-999.0000,9,-999.0000,9,-999.0000,9,   1.5240,   1.7394,2
  33RR20070322,  I09N,   142,  1,      5,      5,2,20070412,0014, -0.9342,  93.7333, 4622,3276.0000,   3276.0,   1.5458,  34.7276,2,  34.7278,2,    166.7,2,    166.4,2,   133.70,2,    34.28,2,     0.00,2,     2.40,2, -999.000,9, -999.000,9, -999.000,9,   -999.0,9,   -999.0,9,-999.0000,9,  -999.00,   -999.0,9,  -999.00,9, -999.000,9, -999.000,-999.0000,9,-999.0000,  -999.00,9,  -999.00, -999.000,9, -999.000,   -999.0,9,   -999.0,  -999.00,9,-999.0000,9,-999.0000,9,-999.0000,9,-999.0000,9,-999.0000,9,-999.0000,9,-999.0000,9,-999.0000,9,-999.0000,9,   1.3008,   1.5460,2