BOTTLE,20150630SIOCCHRJL
EXPOCODE,SECT_ID,STNNBR,CASTNO,SAMPNO,BTLNBR,BTLNBR_FLAG_W,DATE,TIME,LATITUDE,LONGITUDE,DEPTH,CTDRAW,CTDPRS,CTDTMP,CTDSAL,CTDSAL_FLAG_W,SALNTY,SALNTY_FLAG_W,CTDOXY,CTDOXY_FLAG_W,OXYGEN,OXYGEN_FLAG_W,SILCAT,SILCAT_FLAG_W,NITRAT,NITRAT_FLAG_W,NITRIT,NITRIT_FLAG_W,PHSPHT,PHSPHT_FLAG_W,CFC-11,CFC-11_FLAG_W,CFC-12,CFC-12_FLAG_W,CFC113,CFC113_FLAG_W,TCARBN,TCARBN_FLAG_W,ALKALI,ALKALI_FLAG_W,PH_SWS,PH_SWS_FLAG_W,PH_TMP,DOC,DOC_FLAG_W,TDN,TDN_FLAG_W,TRITUM,TRITUM_FLAG_W,TRITER,HELIUM,HELIUM_FLAG_W,HELIER,DELHE3,DELHE3_FLAG_W,DELHER,NEON,NEON_FLAG_W,NEONER,DELC14,DELC14_FLAG_W,C14ERR,DELC13,DELC13_FLAG_W,CDOM325,CDOM325_FLAG_W,CDOM340,CDOM340_FLAG_W,CDOM380,CDOM380_FLAG_W,CDOM412,CDOM412_FLAG_W,CDOM443,CDOM443_FLAG_W,CDOM490,CDOM490_FLAG_W,CDOM555,CDOM555_FLAG_W,CDOMSL,CDOMSL_FLAG_W,CDOMSN,CDOMSN_FLAG_W,THETA,SBE35,SBE35_FLAG_W
,,,,,,,,,,,METERS,,DBAR,ITS-90,PSS-78,,PSS-78,,UMOL/KG,,UMOL/KG,,UMOL/KG,,UMOL/KG,,UMOL/KG,,UMOL/KG,,PMOL/KG,,PMOL/KG,,PMOL/KG,,UMOL/KG,,UMOL/KG,,,,DEG C,UMOL/KG,,UMOL/KG,,TU,,TU,NMOL/KG,,NMOL/KG,PERCNT,,PERCNT,NMOL/KG,,NMOL/KG,/MILLE,,/MILLE,/MILLE,,1/M,,1/M,,1/M,,1/M,,1/M,,1/M,,1/M,,1/NM,,1/NM,,DEG C,ITS-90,
  33RR20070322,  I09N,   177,  1,     36,     38,2,20070421,1131,  8.8485,  85.6995, 3655,   1.7000,      1.7,  30.3285,  33.7217,2,  33.7230,2,    196.7,2,    195.8,2,     1.49,2,     0.06,2,     0.00,2,     0.07,2,    1.504,2,    0.977,2, -999.000,5,   1895.7,6,   2215.7,2,   8.0950,3,    25.00,   -999.0,9,  -999.00,9,    0.695,2,    0.013,   1.6990,2,   0.0006,     3.24,3,     0.19,    6.962,2,    0.010,   -999.0,9,   -999.0,  -999.00,9,-999.0000,9,-999.0000,9,-999.0000,9,-999.0000,9,-999.0000,9,-999.0000,9,-999.0000,9,-999.0000,9,-999.0000,9,  30.3281,  30.3458,2
  33RR20070322,  I09N,   177,  1,     35,     35,2,20070421,1131,  8.8485,  85.6995, 3655,  39.0000,     39.0,  28.6828,  34.2848,2,  34.2756,2,    201.1,2,    201.1,2,     1.48,2,     0.06,2,     0.00,2,     0.11,2,    1.577,2,    1.024,2, -999.000,5,   1926.2,2,   2249.4,2,   8.1114,2,    25.00,   -999.0,9,  -999.00,9,    0.728,2,    0.013,   1.7260,2,   0.0003,    -1.16,2,     0.18,    6.763,2,    0.007,   -999.0,9,   -999.0,  -999.00,9,-999.0000,9,-999.0000,9,-999.0000,9,-999.0000,9,-999.0000,9,-999.0000,9,-999.0000,9,-999.0000,9,-999.0000,9,  28.6735,  28.6765,2
  33RR20070322,  I09N,   177,  1,     34,   9419,2,20070421,1131,  8.8485,  85.6995, 3655,  73.3000,     73.3,  26.6940,  34.5453,2,  34.5417,2,    149.7,2,    140.4,2,     4.44,2,     4.78,2,     0.52,2,     0.55,2,    1.453,2,    0.940,2, -999.000,5,   -999.0,9,   -999.0,9,-999.0000,9,  -999.00,   -999.0,9,  -999.00,9,    0.563,2,    0.011,   1.7070,2,   0.0005,    -0.38,2,     0.19,    6.773,2,    0.010,   -999.0,9,   -999.0,  -999.00,9,-999.0000,9,-999.0000,9,-999.0000,9,-999.0000,9,-999.0000,9,-999.0000,9,-999.0000,9,-999.0000,9,-999.0000,9,  26.6774,  26.5605,2
  33RR20070322,  I09N,   177,  1,     33,     33,2,20070421,1131,  8.8485,  85.6995, 3655,  94.0000,     94.0,  20.5709,  34.7117,2,  34.7380,2,     55.3,2,     42.7,2,    17.88,2,    22.43,2,     0.04,2,     1.62,2,    1.128,2,    0.707,2, -999.000,5,   -999.0,9,   -999.0,9,-999.0000,9,  -999.00,   -999.0,9,  -999.00,9,    0.401,2,    0.009,   1.7340,2,   0.0003,     2.52,2,     0.18,    7.053,2,    0.008,   -999.0,9,   -999.0,  -999.00,9,-999.0000,9,-999.0000,9,-999.0000,9,-999.0000,9,-999.0000,9,-999.0000,9,-999.0000,9,-999.0000,9,-999.0000,9,  20.5532,  20.5165,2
  33RR20070322,  I09N,   177,  1,     32,     37,2,20070421,1131,  8.8485,  85.6995, 3655, 123.9000,    123.9,  18.4012,  34.9135,2,  34.9172,2,     37.1,2,     39.7,2,    20.45,2,    24.51,2,     0.01,2,     1.76,2,    1.089,2,    0.664,2, -999.000,5,   2170.8,2,   2293.2,6,   7.6696,2,    25.00,   -999.0,9,  -999.00,9, -999.000,9, -999.000,   1.7950,2,   0.0004,     3.60,2,     0.19,    7.362,2,    0.009,   -999.0,9,   -999.0,  -999.00,9,-999.0000,9,-999.0000,9,-999.0000,9,-999.0000,9,-999.0000,9,-999.0000,9,-999.0000,9,-999.0000,9,-999.0000,9,  18.3796,  18.3966,2
  33RR20070322,  I09N,   177,  1,     31,     31,2,20070421,1131,  8.8485,  85.6995, 3655, 143.7000,    143.7,  17.1073,  34.9033,2,  34.9032,2,     31.9,2,     30.9,2,    24.01,2,    26.59,2,     0.01,2,     1.91,2,    0.953,2,    0.574,2, -999.000,5,   -999.0,9,   -999.0,9,-999.0000,9,  -999.00,   -999.0,9,  -999.00,9,    0.299,2,    0.008,   1.7200,2,   0.0010,    -1.78,3,     0.19,    6.625,4,    0.010,   -999.0,9,   -999.0,  -999.00,9,-999.0000,9,-999.0000,9,-999.0000,9,-999.0000,9,-999.0000,9,-999.0000,9,-999.0000,9,-999.0000,9,-999.0000,9,  17.0835,  17.0969,2
  33RR20070322,  I09N,   177,  1,     30,     30,2,20070421,1131,  8.8485,  85.6995, 3655, 173.3000,    173.3,  15.4619,  34.9220,2,  34.9211,2,     25.2,2,     25.8,2,    27.57,2,    28.78,2,     0.01,2,     2.06,2,    0.798,2,    0.476,2, -999.000,5,   -999.0,9,   -999.0,9,-999.0000,9,  -999.00,   -999.0,9,  -999.00,9,    0.430,2,    0.010,   1.7710,2,   0.0004,     4.44,2,     0.19,    7.346,2,    0.009,   -999.0,9,   -999.0,  -999.00,9,-999.0000,9,-999.0000,9,-999.0000,9,-999.0000,9,-999.0000,9,-999.0000,9,-999.0000,9,-999.0000,9,-999.0000,9,  15.4351,  15.4826,2
  33RR20070322,  I09N,   177,  1,     29,     29,2,20070421,1131,  8.8485,  85.6995, 3655, 223.3000,    223.3,  13.5864,  35.0100,2,  35.0104,2,      8.9,2,      8.2,2,    30.94,2,    31.71,2,     0.01,2,     2.30,2,    0.620,2,    0.365,2, -999.000,5,   -999.0,9,   -999.0,9,-999.0000,9,  -999.00,   -999.0,9,  -999.00,9,    0.198,2,    0.007,   1.7980,2,   0.0008,     4.94,2,     0.18,    7.529,2,    0.009,   -999.0,9,   -999.0,  -999.00,9,-999.0000,9,-999.0000,9,-999.0000,9,-999.0000,9,-999.0000,9,-999.0000,9,-999.0000,9,-999.0000,9,-999.0000,9,  13.5547,  13.5912,2
  33RR20070322,  I09N,   177,  1,     28,     28,2,20070421,1131,  8.8485,  85.6995, 3655, 273.7000,    273.7,  12.4550,  35.0492,2,  35.0453,2,     12.7,2,     12.9,2,    32.71,2,    32.46,2,     0.01,2,     2.34,2,    0.567,2,    0.323,2, -999.000,5,   -999.0,9,   2313.7,2,   7.4835,2,    25.00,   -999.0,9,  -999.00,9,    0.334,2,    0.008,   1.7890,2,   0.0006,     5.81,2,     0.18,    7.531,2,    0.009,   -999.0,9,   -999.0,  -999.00,9,-999.0000,9,-999.0000,9,-999.0000,9,-999.0000,9,-999.0000,9,-999.0000,9,-999.0000,9,-999.0000,9,-999.0000,9,  12.4183,  12.4715,2
  33RR20070322,  I09N,   177,  1,     27,     27,2,20070421,1131,  8.8485,  85.6995, 3655, 323.6000,    323.6,  11.7711,  35.0573,2,  35.0573,2,     16.3,2,     17.3,2,    33.89,2,    32.80,2,     0.01,2,     2.34,2,    0.551,2,    0.314,2, -999.000,5,   -999.0,9,   -999.0,9,-999.0000,9,  -999.00,   -999.0,9,  -999.00,9, -999.000,9, -999.000,   1.8000,2,   0.0006,     5.18,2,     0.18,    7.532,2,    0.008,   -999.0,9,   -999.0,  -999.00,9,-999.0000,9,-999.0000,9,-999.0000,9,-999.0000,9,-999.0000,9,-999.0000,9,-999.0000,9,-999.0000,9,-999.0000,9,  11.7292,  11.7653,2
  33RR20070322,  I09N,   177,  1,     26,     26,2,20070421,1131,  8.8485,  85.6995, 3655, 374.2000,    374.2,  11.2568,  35.0603,2,  35.0604,2,     23.5,2,     22.9,2,    34.88,2,    33.04,2,     0.01,2,     2.34,2,    0.527,2,    0.295,2, -999.000,5,   -999.0,9,   -999.0,9,-999.0000,9,  -999.00,   -999.0,9,  -999.00,9,    0.119,2,    0.005,-999.0000,9,-999.0000,  -999.00,9,  -999.00, -999.000,9, -999.000,   -999.0,9,   -999.0,  -999.00,9,-999.0000,9,-999.0000,9,-999.0000,9,-999.0000,9,-999.0000,9,-999.0000,9,-999.0000,9,-999.0000,9,-999.0000,9,  11.2096,  11.2512,2
  33RR20070322,  I09N,   177,  1,     25,     25,2,20070421,1131,  8.8485,  85.6995, 3655, 424.2000,    424.2,  10.7824,  35.0479,2,  35.0465,2,     15.6,2,     16.1,2,    39.44,2,    34.39,2,     0.01,2,     2.46,2, -999.000,9, -999.000,9, -999.000,9,   -999.0,9,   2321.2,2,   7.4579,2,    25.00,   -999.0,9,  -999.00,9,    0.093,2,    0.005,-999.0000,9,-999.0000,  -999.00,9,  -999.00, -999.000,9, -999.000,   -999.0,9,   -999.0,  -999.00,9,-999.0000,9,-999.0000,9,-999.0000,9,-999.0000,9,-999.0000,9,-999.0000,9,-999.0000,9,-999.0000,9,-999.0000,9,  10.7302,  10.7808,2
  33RR20070322,  I09N,   177,  1,     24,     24,2,20070421,1131,  8.8485,  85.6995, 3655, 473.3000,    473.3,  10.4105,  35.0455,2,  35.0441,2,     16.7,2,     14.6,2,    43.01,2,    35.10,2,     0.00,2,     2.53,2,    0.285,2,    0.187,2, -999.000,5,   -999.0,9,   -999.0,9,-999.0000,9,  -999.00,   -999.0,9,  -999.00,9,    0.067,2,    0.005,   1.8040,2,   0.0007,     5.98,2,     0.20,    7.653,2,    0.013,   -999.0,9,   -999.0,  -999.00,9,-999.0000,9,-999.0000,9,-999.0000,9,-999.0000,9,-999.0000,9,-999.0000,9,-999.0000,9,-999.0000,9,-999.0000,9,  10.3534,  10.4120,2
  33RR20070322,  I09N,   177,  1,     23,     23,2,20070421,1131,  8.8485,  85.6995, 3655, 523.9000,    523.9,   9.9970,  35.0369,2,  35.0313,2,     15.8,2,     15.4,2,    47.57,2,    35.64,2,     0.01,2,     2.59,2, -999.000,9, -999.000,9, -999.000,9,   -999.0,9,   -999.0,9,-999.0000,9,  -999.00,   -999.0,9,  -999.00,9, -999.000,9, -999.000,-999.0000,9,-999.0000,  -999.00,9,  -999.00, -999.000,9, -999.000,   -999.0,9,   -999.0,  -999.00,9,-999.0000,9,-999.0000,9,-999.0000,9,-999.0000,9,-999.0000,9,-999.0000,9,-999.0000,9,-999.0000,9,-999.0000,9,   9.9352,   9.9964,2
  33RR20070322,  I09N,   177,  1,     22,     22,2,20070421,1131,  8.8485,  85.6995, 3655, 643.9000,    643.9,   9.1486,  35.0229,2,  35.0226,2,     18.9,2,     19.7,2,    55.70,2,    36.49,2,     0.01,2,     2.67,2,    0.091,2,    0.054,2, -999.000,5,   -999.0,9,   2336.9,6,   7.4428,2,    25.00,   -999.0,9,  -999.00,9,    0.002,2,    0.006,   1.8150,2,   0.0004,     7.25,2,     0.18,    7.616,2,    0.011,   -999.0,9,   -999.0,  -999.00,9,-999.0000,9,-999.0000,9,-999.0000,9,-999.0000,9,-999.0000,9,-999.0000,9,-999.0000,9,-999.0000,9,-999.0000,9,   9.0761,   9.1505,2
  33RR20070322,  I09N,   177,  1,     21,     21,2,20070421,1131,  8.8485,  85.6995, 3655, 743.5000,    743.5,   8.4559,  35.0037,2,  35.0049,2,     25.2,2,     25.5,2,    62.65,2,    36.80,2,     0.00,2,     2.71,2, -999.000,9, -999.000,9, -999.000,9,   -999.0,9,   -999.0,9,-999.0000,9,  -999.00,   -999.0,9,  -999.00,9,    0.037,2,    0.005,-999.0000,9,-999.0000,  -999.00,9,  -999.00, -999.000,9, -999.000,   -999.0,9,   -999.0,  -999.00,9,-999.0000,9,-999.0000,9,-999.0000,9,-999.0000,9,-999.0000,9,-999.0000,9,-999.0000,9,-999.0000,9,-999.0000,9,   8.3755,   8.4592,2
  33RR20070322,  I09N,   177,  1,     20,     20,2,20070421,1131,  8.8485,  85.6995, 3655, 844.6000,    844.6,   7.8469,  34.9772,2,  34.9772,2,     29.9,2,     30.8,2,    70.63,2,    37.15,2,     0.00,2,     2.74,2,    0.038,2,    0.022,2, -999.000,5,   -999.0,9,   -999.0,9,-999.0000,9,  -999.00,   -999.0,9,  -999.00,9,    0.001,2,    0.005,   1.8230,2,   0.0005,     9.04,2,     0.20,    7.719,2,    0.013,   -999.0,9,   -999.0,  -999.00,9,-999.0000,9,-999.0000,9,-999.0000,9,-999.0000,9,-999.0000,9,-999.0000,9,-999.0000,9,-999.0000,9,-999.0000,9,   7.7588,   7.8455,2
  33RR20070322,  I09N,   177,  1,     19,     19,2,20070421,1131,  8.8485,  85.6995, 3655, 943.9000,    943.9,   7.2042,  34.9516,2,  34.9520,2,     39.8,2,     39.4,2,    77.40,2,    37.09,2,     0.00,2,     2.73,2, -999.000,9, -999.000,9, -999.000,9,   -999.0,9,   -999.0,9,-999.0000,9,  -999.00,   -999.0,9,  -999.00,9,    0.001,2,    0.005,-999.0000,9,-999.0000,  -999.00,9,  -999.00, -999.000,9, -999.000,   -999.0,9,   -999.0,  -999.00,9,-999.0000,9,-999.0000,9,-999.0000,9,-999.0000,9,-999.0000,9,-999.0000,9,-999.0000,9,-999.0000,9,-999.0000,9,   7.1097,   7.2067,2
  33RR20070322,  I09N,   177,  1,     18,     18,2,20070421,1131,  8.8485,  85.6995, 3655,1045.5000,   1045.5,   6.6654,  34.9318,2,  34.9315,2,     47.5,2,     46.6,2,    84.00,2,    37.19,2,     0.00,2,     2.75,2,    0.022,2,    0.011,2, -999.000,5,   2308.6,2,   2365.4,2,   7.4624,2,    25.00,   -999.0,9,  -999.00,9, -999.000,9, -999.000,   1.8390,2,   0.0010,    10.81,2,     0.19,    7.727,2,    0.010,   -999.0,9,   -999.0,  -999.00,9,-999.0000,9,-999.0000,9,-999.0000,9,-999.0000,9,-999.0000,9,-999.0000,9,-999.0000,9,-999.0000,9,-999.0000,9,   6.5642,   6.6555,2
  33RR20070322,  I09N,   177,  1,     17,     17,2,20070421,1131,  8.8485,  85.6995, 3655,1145.7000,   1145.7,   6.1708,  34.9151,2,  34.9156,2,     52.7,2,     52.1,2,    89.19,2,    37.34,2,     0.00,2,     2.76,2, -999.000,9, -999.000,9, -999.000,9,   -999.0,9,   -999.0,9,-999.0000,9,  -999.00,   -999.0,9,  -999.00,9, -999.000,9, -999.000,-999.0000,9,-999.0000,  -999.00,9,  -999.00, -999.000,9, -999.000,   -999.0,9,   -999.0,  -999.00,9,-999.0000,9,-999.0000,9,-999.0000,9,-999.0000,9,-999.0000,9,-999.0000,9,-999.0000,9,-999.0000,9,-999.0000,9,   6.0634,   6.1719,2
  33RR20070322,  I09N,   177,  1,     16,     16,2,20070421,1131,  8.8485,  85.6995, 3655,1245.8000,   1245.8,   5.7126,  34.8982,2,  34.8973,2,     58.8,2,     59.1,2,    94.80,2,    37.34,2,     0.00,2,     2.76,2,    0.010,2,    0.005,2, -999.000,5,   -999.0,9,   -999.0,9,-999.0000,9,  -999.00,   -999.0,9,  -999.00,9, -999.000,9, -999.000,   1.8640,2,   0.0005,    12.09,2,     0.18,    7.842,2,    0.008,   -999.0,9,   -999.0,  -999.00,9,-999.0000,9,-999.0000,9,-999.0000,9,-999.0000,9,-999.0000,9,-999.0000,9,-999.0000,9,-999.0000,9,-999.0000,9,   5.5992,   5.7146,2
  33RR20070322,  I09N,   177,  1,     15,     15,2,20070421,1131,  8.8485,  85.6995, 3655,1345.8000,   1345.8,   5.2434,  34.8789,2,  34.8794,2,     68.0,2,     67.8,2,    99.41,2,    37.13,2,     0.00,2,     2.73,2, -999.000,9, -999.000,9, -999.000,9,   -999.0,9,   2382.0,2,   7.4969,2,    25.00,   -999.0,9,  -999.00,9, -999.000,9, -999.000,-999.0000,9,-999.0000,  -999.00,9,  -999.00, -999.000,9, -999.000,   -999.0,9,   -999.0,  -999.00,9,-999.0000,9,-999.0000,9,-999.0000,9,-999.0000,9,-999.0000,9,-999.0000,9,-999.0000,9,-999.0000,9,-999.0000,9,   5.1247,   5.2399,2
  33RR20070322,  I09N,   177,  1,     14,     14,2,20070421,1131,  8.8485,  85.6995, 3655,1446.8000,   1446.8,   4.8080,  34.8643,2,  34.8648,2,     73.6,2,     73.3,2,   103.84,2,    37.12,2,     0.00,2,     2.74,2,    0.006,2,    0.004,2, -999.000,5,   -999.0,9,   -999.0,9,-999.0000,9,  -999.00,   -999.0,9,  -999.00,9, -999.000,9, -999.000,-999.0000,9,-999.0000,  -999.00,9,  -999.00, -999.000,9, -999.000,   -999.0,9,   -999.0,  -999.00,9,-999.0000,9,-999.0000,9,-999.0000,9,-999.0000,9,-999.0000,9,-999.0000,9,-999.0000,9,-999.0000,9,-999.0000,9,   4.6841,   4.8092,2
  33RR20070322,  I09N,   177,  1,     13,     13,2,20070421,1131,  8.8485,  85.6995, 3655,1547.5000,   1547.5,   4.3858,  34.8479,2,  34.8477,2,     80.8,2,     81.8,2,   108.87,2,    36.92,2,     0.00,2,     2.72,2, -999.000,9, -999.000,9, -999.000,9,   -999.0,9,   -999.0,9,-999.0000,9,  -999.00,   -999.0,9,  -999.00,9, -999.000,9, -999.000,-999.0000,9,-999.0000,  -999.00,9,  -999.00, -999.000,9, -999.000,   -999.0,9,   -999.0,  -999.00,9,-999.0000,9,-999.0000,9,-999.0000,9,-999.0000,9,-999.0000,9,-999.0000,9,-999.0000,9,-999.0000,9,-999.0000,9,   4.2571,   4.3798,2
  33RR20070322,  I09N,   177,  1,     12,     12,2,20070421,1131,  8.8485,  85.6995, 3655,1749.0000,   1749.0,   3.5424,  34.8146,2,  34.8145,2,     97.0,2,     98.7,2,   117.74,2,    36.57,2,     0.00,2,     2.68,2,    0.001,2,    0.002,2, -999.000,5,   -999.0,9,   -999.0,9,-999.0000,9,  -999.00,   -999.0,9,  -999.00,9, -999.000,9, -999.000,   1.8840,2,   0.0006,    12.94,2,     0.20,    8.171,2,    0.009,   -999.0,9,   -999.0,  -999.00,9,-999.0000,9,-999.0000,9,-999.0000,9,-999.0000,9,-999.0000,9,-999.0000,9,-999.0000,9,-999.0000,9,-999.0000,9,   3.4055,   3.5424,2
  33RR20070322,  I09N,   177,  1,     11,     11,2,20070421,1131,  8.8485,  85.6995, 3655,1949.9000,   1949.9,   2.9844,  34.7901,2,  34.7907,2,    110.2,2,    110.1,2,   123.60,2,    36.26,2,     0.00,2,     2.63,2, -999.000,9, -999.000,9, -999.000,9,   -999.0,9,   -999.0,9,-999.0000,9,  -999.00,   -999.0,9,  -999.00,9, -999.000,9, -999.000,-999.0000,9,-999.0000,  -999.00,9,  -999.00, -999.000,9, -999.000,   -999.0,9,   -999.0,  -999.00,9,-999.0000,9,-999.0000,9,-999.0000,9,-999.0000,9,-999.0000,9,-999.0000,9,-999.0000,9,-999.0000,9,-999.0000,9,   2.8371,   2.9850,2
  33RR20070322,  I09N,   177,  1,     10,     10,2,20070421,1131,  8.8485,  85.6995, 3655,2111.8000,   2111.8,   2.6594,  34.7754,2,  34.7754,2,    119.4,2,    118.2,2,   128.26,2,    35.95,2,     0.00,2,     2.60,2,    0.004,2,    0.002,2, -999.000,5,   2331.5,2,   2403.7,6,   7.5343,2,    25.00,   -999.0,9,  -999.00,9, -999.000,9, -999.000,   1.8890,2,   0.0010,    13.36,2,     0.19,    8.033,2,    0.010,   -999.0,9,   -999.0,  -999.00,9,-999.0000,9,-999.0000,9,-999.0000,9,-999.0000,9,-999.0000,9,-999.0000,9,-999.0000,9,-999.0000,9,-999.0000,9,   2.5025,   2.6568,2
  33RR20070322,  I09N,   177,  1,      9,      9,2,20070421,1131,  8.8485,  85.6995, 3655,2363.3000,   2363.3,   2.2751,  34.7583,2,  34.7583,2,    128.2,2,    128.3,2,   133.33,2,    35.60,2,     0.00,2,     2.56,2, -999.000,9, -999.000,9, -999.000,9,   -999.0,9,   -999.0,9,-999.0000,9,  -999.00,   -999.0,9,  -999.00,9, -999.000,9, -999.000,-999.0000,9,-999.0000,  -999.00,9,  -999.00, -999.000,9, -999.000,   -999.0,9,   -999.0,  -999.00,9,-999.0000,9,-999.0000,9,-999.0000,9,-999.0000,9,-999.0000,9,-999.0000,9,-999.0000,9,-999.0000,9,-999.0000,9,   2.1018,   2.2747,2
  33RR20070322,  I09N,   177,  1,      8,      8,2,20070421,1131,  8.8485,  85.6995, 3655,2616.3000,   2616.3,   1.9979,  34.7460,2,  34.7461,2,    134.8,2,    134.4,2,   137.41,2,    35.35,2,     0.00,2,     2.53,2,    0.003,2,    0.003,2, -999.000,5,   -999.0,9,   -999.0,9,-999.0000,9,  -999.00,   -999.0,9,  -999.00,9, -999.000,9, -999.000,-999.0000,9,-999.0000,  -999.00,9,  -999.00, -999.000,9, -999.000,   -999.0,9,   -999.0,  -999.00,9,-999.0000,9,-999.0000,9,-999.0000,9,-999.0000,9,-999.0000,9,-999.0000,9,-999.0000,9,-999.0000,9,-999.0000,9,   1.8065,   1.9978,2
  33RR20070322,  I09N,   177,  1,      7,      7,2,20070421,1131,  8.8485,  85.6995, 3655,2869.2000,   2869.2,   1.8168,  34.7383,2,  34.7388,2,    143.5,2,    143.5,2,   138.22,2,    35.05,2,     0.00,2,     2.48,2, -999.000,9, -999.000,9, -999.000,9,   2330.0,2,   2418.9,2,   7.5688,2,    25.00,   -999.0,9,  -999.00,9, -999.000,9, -999.000,-999.0000,9,-999.0000,  -999.00,9,  -999.00, -999.000,9, -999.000,   -999.0,9,   -999.0,  -999.00,9,-999.0000,9,-999.0000,9,-999.0000,9,-999.0000,9,-999.0000,9,-999.0000,9,-999.0000,9,-999.0000,9,-999.0000,9,   1.6053,   1.8171,2
  33RR20070322,  I09N,   177,  1,      6,      6,2,20070421,1131,  8.8485,  85.6995, 3655,3122.7000,   3122.7,   1.6716,  34.7323,2,  34.7319,2,    146.7,2,    146.7,2,   141.28,2,    34.79,2,     0.00,2,     2.46,2,    0.003,2,    0.003,2, -999.000,5,   -999.0,9,   -999.0,9,-999.0000,9,  -999.00,   -999.0,9,  -999.00,9, -999.000,9, -999.000,   1.9110,2,   0.0004,    12.47,2,     0.18,    8.185,2,    0.010,   -999.0,9,   -999.0,  -999.00,9,-999.0000,9,-999.0000,9,-999.0000,9,-999.0000,9,-999.0000,9,-999.0000,9,-999.0000,9,-999.0000,9,-999.0000,9,   1.4388,   1.6708,2
  33RR20070322,  I09N,   177,  1,      5,      5,2,20070421,1131,  8.8485,  85.6995, 3655,3376.2000,   3376.2,   1.5333,  34.7266,2,  34.7268,2,    151.7,2,    152.0,2,   142.91,2,    34.68,2,     0.00,2,     2.44,2, -999.000,9, -999.000,9, -999.000,9,   2333.5,2,   2418.3,2,   7.5822,2,    25.00,   -999.0,9,  -999.00,9, -999.000,9, -999.000,-999.0000,9,-999.0000,  -999.00,9,  -999.00, -999.000,9, -999.000,   -999.0,9,   -999.0,  -999.00,9,-999.0000,9,-999.0000,9,-999.0000,9,-999.0000,9,-999.0000,9,-999.0000,9,-999.0000,9,-999.0000,9,-999.0000,9,   1.2786,   1.5328,2