BOTTLE,20150630SIOCCHRJL
EXPOCODE,SECT_ID,STNNBR,CASTNO,SAMPNO,BTLNBR,BTLNBR_FLAG_W,DATE,TIME,LATITUDE,LONGITUDE,DEPTH,CTDRAW,CTDPRS,CTDTMP,CTDSAL,CTDSAL_FLAG_W,SALNTY,SALNTY_FLAG_W,CTDOXY,CTDOXY_FLAG_W,OXYGEN,OXYGEN_FLAG_W,SILCAT,SILCAT_FLAG_W,NITRAT,NITRAT_FLAG_W,NITRIT,NITRIT_FLAG_W,PHSPHT,PHSPHT_FLAG_W,CFC-11,CFC-11_FLAG_W,CFC-12,CFC-12_FLAG_W,CFC113,CFC113_FLAG_W,TCARBN,TCARBN_FLAG_W,ALKALI,ALKALI_FLAG_W,PH_SWS,PH_SWS_FLAG_W,PH_TMP,DOC,DOC_FLAG_W,TDN,TDN_FLAG_W,TRITUM,TRITUM_FLAG_W,TRITER,HELIUM,HELIUM_FLAG_W,HELIER,DELHE3,DELHE3_FLAG_W,DELHER,NEON,NEON_FLAG_W,NEONER,DELC14,DELC14_FLAG_W,C14ERR,DELC13,DELC13_FLAG_W,CDOM325,CDOM325_FLAG_W,CDOM340,CDOM340_FLAG_W,CDOM380,CDOM380_FLAG_W,CDOM412,CDOM412_FLAG_W,CDOM443,CDOM443_FLAG_W,CDOM490,CDOM490_FLAG_W,CDOM555,CDOM555_FLAG_W,CDOMSL,CDOMSL_FLAG_W,CDOMSN,CDOMSN_FLAG_W,THETA,SBE35,SBE35_FLAG_W
,,,,,,,,,,,METERS,,DBAR,ITS-90,PSS-78,,PSS-78,,UMOL/KG,,UMOL/KG,,UMOL/KG,,UMOL/KG,,UMOL/KG,,UMOL/KG,,PMOL/KG,,PMOL/KG,,PMOL/KG,,UMOL/KG,,UMOL/KG,,,,DEG C,UMOL/KG,,UMOL/KG,,TU,,TU,NMOL/KG,,NMOL/KG,PERCNT,,PERCNT,NMOL/KG,,NMOL/KG,/MILLE,,/MILLE,/MILLE,,1/M,,1/M,,1/M,,1/M,,1/M,,1/M,,1/M,,1/NM,,1/NM,,DEG C,ITS-90,
  33RR20070322,  I09N,   196,  1,     36,     38,2,20070426,1024, 16.4998,  89.8495, 2467,   1.8000,      1.8,  30.5466,  32.5025,2,  32.4968,2,    198.8,2,    198.8,2,     2.26,2,     0.01,2,     0.00,2,     0.01,2,    1.551,2,    1.004,2, -999.000,5,   1875.0,6,   2185.1,2,   8.1020,6,    25.00,   -999.0,9,  -999.00,9, -999.000,9, -999.000,-999.0000,9,-999.0000,  -999.00,9,  -999.00, -999.000,9, -999.000,   -999.0,9,   -999.0,  -999.00,9,-999.0000,9,-999.0000,9,-999.0000,9,-999.0000,9,-999.0000,9,-999.0000,9,-999.0000,9,-999.0000,9,-999.0000,9,  30.5462,  30.5617,2
  33RR20070322,  I09N,   196,  1,     35,     35,2,20070426,1024, 16.4998,  89.8495, 2467,  37.8000,     37.8,  26.7738,  32.8993,2,  32.9428,2,    204.5,2,    206.2,2,     1.68,2,     0.01,2,     0.00,2,     0.06,2,    1.704,2,    1.090,2, -999.000,5,   -999.0,9,   -999.0,9,-999.0000,9,  -999.00,   -999.0,9,  -999.00,9, -999.000,9, -999.000,-999.0000,9,-999.0000,  -999.00,9,  -999.00, -999.000,9, -999.000,   -999.0,9,   -999.0,  -999.00,9,-999.0000,9,-999.0000,9,-999.0000,9,-999.0000,9,-999.0000,9,-999.0000,9,-999.0000,9,-999.0000,9,-999.0000,9,  26.7652,  26.7711,2
  33RR20070322,  I09N,   196,  1,     34,   9419,2,20070426,1024, 16.4998,  89.8495, 2467,  53.5000,     53.5,  26.0659,  33.8986,2,  33.8829,2,    172.6,2,    143.7,2,     3.04,2,     3.15,2,     0.75,2,     0.44,2,    1.560,2,    1.009,2, -999.000,5,   2004.5,2,   2240.1,6,   7.9236,2,    25.00,   -999.0,9,  -999.00,9, -999.000,9, -999.000,-999.0000,9,-999.0000,  -999.00,9,  -999.00, -999.000,9, -999.000,   -999.0,9,   -999.0,  -999.00,9,-999.0000,9,-999.0000,9,-999.0000,9,-999.0000,9,-999.0000,9,-999.0000,9,-999.0000,9,-999.0000,9,-999.0000,9,  26.0540,  26.0608,2
  33RR20070322,  I09N,   196,  1,     33,     33,2,20070426,1024, 16.4998,  89.8495, 2467,  72.4000,     72.4,  24.3865,  34.6566,2,  34.6980,2,     39.2,2,     15.7,2,    12.16,2,    20.72,2,     0.16,2,     1.55,2, -999.000,9, -999.000,9, -999.000,9,   -999.0,9,   -999.0,9,-999.0000,9,  -999.00,   -999.0,9,  -999.00,9, -999.000,9, -999.000,-999.0000,9,-999.0000,  -999.00,9,  -999.00, -999.000,9, -999.000,   -999.0,9,   -999.0,  -999.00,9,-999.0000,9,-999.0000,9,-999.0000,9,-999.0000,9,-999.0000,9,-999.0000,9,-999.0000,9,-999.0000,9,-999.0000,9,  24.3711,  24.4717,2
  33RR20070322,  I09N,   196,  1,     32,     37,2,20070426,1024, 16.4998,  89.8495, 2467,  92.9000,     92.9,  21.0551,  34.8449,2,  34.8452,2,     10.5,2,      4.3,2,    18.55,2,    24.31,2,     0.07,2,     1.87,2,    1.121,2,    0.705,2, -999.000,5,   2171.8,2,   2280.6,6,   7.5824,3,    25.00,   -999.0,9,  -999.00,9, -999.000,9, -999.000,-999.0000,9,-999.0000,  -999.00,9,  -999.00, -999.000,9, -999.000,   -999.0,9,   -999.0,  -999.00,9,-999.0000,9,-999.0000,9,-999.0000,9,-999.0000,9,-999.0000,9,-999.0000,9,-999.0000,9,-999.0000,9,-999.0000,9,  21.0373,  21.0482,2
  33RR20070322,  I09N,   196,  1,     31,     31,2,20070426,1024, 16.4998,  89.8495, 2467, 123.4000,    123.4,  17.9946,  34.8830,2,  34.8850,2,      5.4,2,      2.2,2,    24.95,2,    27.14,2,     0.02,2,     2.10,2,    0.856,2,    0.525,2, -999.000,5,   -999.0,9,   -999.0,9,-999.0000,9,  -999.00,   -999.0,9,  -999.00,9, -999.000,9, -999.000,-999.0000,9,-999.0000,  -999.00,9,  -999.00, -999.000,9, -999.000,   -999.0,9,   -999.0,  -999.00,9,-999.0000,9,-999.0000,9,-999.0000,9,-999.0000,9,-999.0000,9,-999.0000,9,-999.0000,9,-999.0000,9,-999.0000,9,  17.9735,  18.0018,2
  33RR20070322,  I09N,   196,  1,     30,     30,2,20070426,1024, 16.4998,  89.8495, 2467, 142.5000,    142.5,  16.3370,  34.9086,2,  34.9106,2,      4.8,2,      3.9,2,    27.87,2,    28.49,2,     0.02,2,     2.19,2, -999.000,9, -999.000,9, -999.000,9,   -999.0,9,   -999.0,9,-999.0000,9,  -999.00,   -999.0,9,  -999.00,9, -999.000,9, -999.000,-999.0000,9,-999.0000,  -999.00,9,  -999.00, -999.000,9, -999.000,   -999.0,9,   -999.0,  -999.00,9,-999.0000,9,-999.0000,9,-999.0000,9,-999.0000,9,-999.0000,9,-999.0000,9,-999.0000,9,-999.0000,9,-999.0000,9,  16.3142,  16.3413,2
  33RR20070322,  I09N,   196,  1,     29,     29,2,20070426,1024, 16.4998,  89.8495, 2467, 172.7000,    172.7,  14.2786,  34.9604,2,  34.9603,2,      4.1,2,      2.6,2,    31.94,2,    30.59,2,     0.01,2,     2.31,2,    0.529,2,    0.316,2, -999.000,5,   -999.0,9,   -999.0,9,-999.0000,9,  -999.00,   -999.0,9,  -999.00,9, -999.000,9, -999.000,-999.0000,9,-999.0000,  -999.00,9,  -999.00, -999.000,9, -999.000,   -999.0,9,   -999.0,  -999.00,9,-999.0000,9,-999.0000,9,-999.0000,9,-999.0000,9,-999.0000,9,-999.0000,9,-999.0000,9,-999.0000,9,-999.0000,9,  14.2533,  14.2664,2
  33RR20070322,  I09N,   196,  1,     28,     28,2,20070426,1024, 16.4998,  89.8495, 2467, 223.1000,    223.1,  12.4097,  35.0158,2,  35.0155,2,      4.1,2,      3.3,2,    35.64,2,    32.65,2,     0.01,2,     2.41,2,    0.379,2,    0.224,2, -999.000,5,   -999.0,9,   -999.0,9,-999.0000,9,  -999.00,   -999.0,9,  -999.00,9, -999.000,9, -999.000,-999.0000,9,-999.0000,  -999.00,9,  -999.00, -999.000,9, -999.000,   -999.0,9,   -999.0,  -999.00,9,-999.0000,9,-999.0000,9,-999.0000,9,-999.0000,9,-999.0000,9,-999.0000,9,-999.0000,9,-999.0000,9,-999.0000,9,  12.3799,  12.4363,2
  33RR20070322,  I09N,   196,  1,     27,     27,2,20070426,1024, 16.4998,  89.8495, 2467, 272.7000,    272.7,  11.4181,  35.0300,2,  35.0292,2,      3.8,2,      3.2,2,    39.14,2,    33.95,2,     0.01,2,     2.47,2, -999.000,9, -999.000,9, -999.000,9,   2271.5,2,   2316.5,2,   7.4469,2,    25.00,   -999.0,9,  -999.00,9, -999.000,9, -999.000,-999.0000,9,-999.0000,  -999.00,9,  -999.00, -999.000,9, -999.000,   -999.0,9,   -999.0,  -999.00,9,-999.0000,9,-999.0000,9,-999.0000,9,-999.0000,9,-999.0000,9,-999.0000,9,-999.0000,9,-999.0000,9,-999.0000,9,  11.3835,  11.4139,2
  33RR20070322,  I09N,   196,  1,     26,     26,2,20070426,1024, 16.4998,  89.8495, 2467, 322.5000,    322.5,  10.8717,  35.0327,2,  35.0314,2,      4.4,2,      3.5,2,    41.86,2,    34.70,2,     0.01,2,     2.52,2,    0.227,2,    0.132,2, -999.000,5,   -999.0,9,   -999.0,9,-999.0000,9,  -999.00,   -999.0,9,  -999.00,9, -999.000,9, -999.000,-999.0000,9,-999.0000,  -999.00,9,  -999.00, -999.000,9, -999.000,   -999.0,9,   -999.0,  -999.00,9,-999.0000,9,-999.0000,9,-999.0000,9,-999.0000,9,-999.0000,9,-999.0000,9,-999.0000,9,-999.0000,9,-999.0000,9,  10.8320,  10.8831,2
  33RR20070322,  I09N,   196,  1,     25,     25,2,20070426,1024, 16.4998,  89.8495, 2467, 372.4000,    372.4,  10.4591,  35.0307,2,  35.0305,2,      5.8,2,      4.6,2,    44.58,2,    35.22,2,     0.01,2,     2.56,2, -999.000,9, -999.000,9, -999.000,9,   -999.0,9,   -999.0,9,-999.0000,9,  -999.00,   -999.0,9,  -999.00,9, -999.000,9, -999.000,-999.0000,9,-999.0000,  -999.00,9,  -999.00, -999.000,9, -999.000,   -999.0,9,   -999.0,  -999.00,9,-999.0000,9,-999.0000,9,-999.0000,9,-999.0000,9,-999.0000,9,-999.0000,9,-999.0000,9,-999.0000,9,-999.0000,9,  10.4142,  10.4571,2
  33RR20070322,  I09N,   196,  1,     24,     24,2,20070426,1024, 16.4998,  89.8495, 2467, 423.1000,    423.1,  10.0584,  35.0247,2,  35.0238,2,      4.0,2,      2.7,2,    49.06,2,    35.93,2,     0.01,2,     2.64,2, -999.000,9, -999.000,9, -999.000,9,   -999.0,9,   -999.0,9,-999.0000,9,  -999.00,   -999.0,9,  -999.00,9, -999.000,9, -999.000,-999.0000,9,-999.0000,  -999.00,9,  -999.00, -999.000,9, -999.000,   -999.0,9,   -999.0,  -999.00,9,-999.0000,9,-999.0000,9,-999.0000,9,-999.0000,9,-999.0000,9,-999.0000,9,-999.0000,9,-999.0000,9,-999.0000,9,  10.0085,  10.0576,2
  33RR20070322,  I09N,   196,  1,     23,     23,2,20070426,1024, 16.4998,  89.8495, 2467, 472.6000,    472.6,   9.8123,  35.0212,2,  35.0194,2,      2.8,2,      3.1,2,    51.40,2,    36.34,2,     0.01,2,     2.67,2, -999.000,9, -999.000,9, -999.000,9,   -999.0,9,   -999.0,9,-999.0000,9,  -999.00,   -999.0,9,  -999.00,9, -999.000,9, -999.000,-999.0000,9,-999.0000,  -999.00,9,  -999.00, -999.000,9, -999.000,   -999.0,9,   -999.0,  -999.00,9,-999.0000,9,-999.0000,9,-999.0000,9,-999.0000,9,-999.0000,9,-999.0000,9,-999.0000,9,-999.0000,9,-999.0000,9,   9.7573,   9.8105,2
  33RR20070322,  I09N,   196,  1,     22,     22,2,20070426,1024, 16.4998,  89.8495, 2467, 522.7000,    522.7,   9.6154,  35.0177,2,  35.0163,2,      3.3,2,      3.5,2,    53.15,2,    36.53,2,     0.01,2,     2.67,2,    0.077,2,    0.046,2, -999.000,5,   2291.8,2,   2329.8,2,   7.4220,2,    25.00,   -999.0,9,  -999.00,9, -999.000,9, -999.000,-999.0000,9,-999.0000,  -999.00,9,  -999.00, -999.000,9, -999.000,   -999.0,9,   -999.0,  -999.00,9,-999.0000,9,-999.0000,9,-999.0000,9,-999.0000,9,-999.0000,9,-999.0000,9,-999.0000,9,-999.0000,9,-999.0000,9,   9.5552,   9.6146,2
  33RR20070322,  I09N,   196,  1,     21,     21,2,20070426,1024, 16.4998,  89.8495, 2467, 572.8000,    572.8,   9.2842,  35.0113,2,  35.0105,2,      6.1,2,      7.4,2,    56.27,2,    36.76,2,     0.01,2,     2.69,2, -999.000,9, -999.000,9, -999.000,9,   -999.0,9,   -999.0,9,-999.0000,9,  -999.00,   -999.0,9,  -999.00,9, -999.000,9, -999.000,-999.0000,9,-999.0000,  -999.00,9,  -999.00, -999.000,9, -999.000,   -999.0,9,   -999.0,  -999.00,9,-999.0000,9,-999.0000,9,-999.0000,9,-999.0000,9,-999.0000,9,-999.0000,9,-999.0000,9,-999.0000,9,-999.0000,9,   9.2194,   9.2832,2
  33RR20070322,  I09N,   196,  1,     20,     20,2,20070426,1024, 16.4998,  89.8495, 2467, 642.9000,    642.9,   8.6798,  34.9986,2,  34.9973,2,     13.2,2,     14.1,2,    61.92,2,    37.00,2,     0.01,2,     2.72,2, -999.000,9, -999.000,9, -999.000,9,   -999.0,9,   -999.0,9,-999.0000,9,  -999.00,   -999.0,9,  -999.00,9, -999.000,9, -999.000,-999.0000,9,-999.0000,  -999.00,9,  -999.00, -999.000,9, -999.000,   -999.0,9,   -999.0,  -999.00,9,-999.0000,9,-999.0000,9,-999.0000,9,-999.0000,9,-999.0000,9,-999.0000,9,-999.0000,9,-999.0000,9,-999.0000,9,   8.6097,   8.6745,2
  33RR20070322,  I09N,   196,  1,     19,     19,2,20070426,1024, 16.4998,  89.8495, 2467, 743.0000,    743.0,   8.0509,  34.9804,2,  34.9796,2,     19.9,2,     20.7,2,    68.56,2,    37.14,2,     0.01,2,     2.75,2, -999.000,9, -999.000,9, -999.000,9,   -999.0,9,   -999.0,9,-999.0000,9,  -999.00,   -999.0,9,  -999.00,9, -999.000,9, -999.000,-999.0000,9,-999.0000,  -999.00,9,  -999.00, -999.000,9, -999.000,   -999.0,9,   -999.0,  -999.00,9,-999.0000,9,-999.0000,9,-999.0000,9,-999.0000,9,-999.0000,9,-999.0000,9,-999.0000,9,-999.0000,9,-999.0000,9,   7.9728,   8.0521,2
  33RR20070322,  I09N,   196,  1,     18,     18,2,20070426,1024, 16.4998,  89.8495, 2467, 843.1000,    843.1,   7.3696,  34.9575,2,  34.9558,2,     27.9,2,     27.7,2,    76.19,2,    37.46,2,     0.01,2,     2.78,2, -999.000,9, -999.000,9, -999.000,9,   -999.0,9,   -999.0,9,-999.0000,9,  -999.00,   -999.0,9,  -999.00,9, -999.000,9, -999.000,-999.0000,9,-999.0000,  -999.00,9,  -999.00, -999.000,9, -999.000,   -999.0,9,   -999.0,  -999.00,9,-999.0000,9,-999.0000,9,-999.0000,9,-999.0000,9,-999.0000,9,-999.0000,9,-999.0000,9,-999.0000,9,-999.0000,9,   7.2847,   7.3695,2
  33RR20070322,  I09N,   196,  1,     17,     17,2,20070426,1024, 16.4998,  89.8495, 2467, 944.1000,    944.1,   6.7900,  34.9360,2,  34.9356,2,     36.5,2,     37.4,2,    82.86,2,    37.36,2,     0.01,2,     2.77,2, -999.000,9, -999.000,9, -999.000,9,   -999.0,9,   -999.0,9,-999.0000,9,  -999.00,   -999.0,9,  -999.00,9, -999.000,9, -999.000,-999.0000,9,-999.0000,  -999.00,9,  -999.00, -999.000,9, -999.000,   -999.0,9,   -999.0,  -999.00,9,-999.0000,9,-999.0000,9,-999.0000,9,-999.0000,9,-999.0000,9,-999.0000,9,-999.0000,9,-999.0000,9,-999.0000,9,   6.6984,   6.7902,2
  33RR20070322,  I09N,   196,  1,     16,     16,2,20070426,1024, 16.4998,  89.8495, 2467,1044.0000,   1044.0,   6.3389,  34.9196,2,  34.9191,2,     44.9,2,     44.1,2,    87.76,2,    37.40,2,     0.01,2,     2.77,2,    0.013,2,    0.007,2, -999.000,5,   2316.6,2,   2367.7,2,   7.4575,2,    25.00,   -999.0,9,  -999.00,9, -999.000,9, -999.000,-999.0000,9,-999.0000,  -999.00,9,  -999.00, -999.000,9, -999.000,   -999.0,9,   -999.0,  -999.00,9,-999.0000,9,-999.0000,9,-999.0000,9,-999.0000,9,-999.0000,9,-999.0000,9,-999.0000,9,-999.0000,9,-999.0000,9,   6.2404,   6.3407,2
  33RR20070322,  I09N,   196,  1,     15,     15,2,20070426,1024, 16.4998,  89.8495, 2467,1144.4000,   1144.4,   5.9222,  34.9042,2,  34.9037,2,     50.4,2,     49.5,2,    92.09,2,    37.26,2,     0.01,2,     2.76,2, -999.000,9, -999.000,9, -999.000,9,   -999.0,9,   -999.0,9,-999.0000,9,  -999.00,   -999.0,9,  -999.00,9, -999.000,9, -999.000,-999.0000,9,-999.0000,  -999.00,9,  -999.00, -999.000,9, -999.000,   -999.0,9,   -999.0,  -999.00,9,-999.0000,9,-999.0000,9,-999.0000,9,-999.0000,9,-999.0000,9,-999.0000,9,-999.0000,9,-999.0000,9,-999.0000,9,   5.8170,   5.9287,2
  33RR20070322,  I09N,   196,  1,     14,     14,2,20070426,1024, 16.4998,  89.8495, 2467,1245.0000,   1245.0,   5.5408,  34.8892,2,  34.8886,2,     59.6,2,     58.5,2,    96.22,2,    37.01,2,     0.01,2,     2.74,2, -999.000,9, -999.000,9, -999.000,9,   -999.0,9,   -999.0,9,-999.0000,9,  -999.00,   -999.0,9,  -999.00,9, -999.000,9, -999.000,-999.0000,9,-999.0000,  -999.00,9,  -999.00, -999.000,9, -999.000,   -999.0,9,   -999.0,  -999.00,9,-999.0000,9,-999.0000,9,-999.0000,9,-999.0000,9,-999.0000,9,-999.0000,9,-999.0000,9,-999.0000,9,-999.0000,9,   5.4291,   5.5406,2
  33RR20070322,  I09N,   196,  1,     13,     13,2,20070426,1024, 16.4998,  89.8495, 2467,1345.3000,   1345.3,   5.1595,  34.8757,2,  34.8754,2,     64.0,2,     62.6,2,   101.34,2,    37.11,2,     0.01,2,     2.75,2, -999.000,9, -999.000,9, -999.000,9,   -999.0,9,   -999.0,9,-999.0000,9,  -999.00,   -999.0,9,  -999.00,9, -999.000,9, -999.000,-999.0000,9,-999.0000,  -999.00,9,  -999.00, -999.000,9, -999.000,   -999.0,9,   -999.0,  -999.00,9,-999.0000,9,-999.0000,9,-999.0000,9,-999.0000,9,-999.0000,9,-999.0000,9,-999.0000,9,-999.0000,9,-999.0000,9,   5.0417,   5.1612,2
  33RR20070322,  I09N,   196,  1,     12,     12,2,20070426,1024, 16.4998,  89.8495, 2467,1446.2000,   1446.2,   4.7158,  34.8586,2,  34.8574,2,     72.1,2,     72.6,2,   105.68,2,    36.87,2,     0.01,2,     2.72,2, -999.000,9, -999.000,9, -999.000,9,   -999.0,9,   -999.0,9,-999.0000,9,  -999.00,   -999.0,9,  -999.00,9, -999.000,9, -999.000,-999.0000,9,-999.0000,  -999.00,9,  -999.00, -999.000,9, -999.000,   -999.0,9,   -999.0,  -999.00,9,-999.0000,9,-999.0000,9,-999.0000,9,-999.0000,9,-999.0000,9,-999.0000,9,-999.0000,9,-999.0000,9,-999.0000,9,   4.5929,   4.7153,2
  33RR20070322,  I09N,   196,  1,     11,     11,2,20070426,1024, 16.4998,  89.8495, 2467,1546.3000,   1546.3,   4.3144,  34.8428,2,  34.8397,2,     79.7,2,     79.9,2,   110.23,2,    36.67,2,     0.01,2,     2.70,2, -999.000,9, -999.000,9, -999.000,9,   -999.0,9,   -999.0,9,-999.0000,9,  -999.00,   -999.0,9,  -999.00,9, -999.000,9, -999.000,-999.0000,9,-999.0000,  -999.00,9,  -999.00, -999.000,9, -999.000,   -999.0,9,   -999.0,  -999.00,9,-999.0000,9,-999.0000,9,-999.0000,9,-999.0000,9,-999.0000,9,-999.0000,9,-999.0000,9,-999.0000,9,-999.0000,9,   4.1866,   4.3177,2
  33RR20070322,  I09N,   196,  1,     10,     10,2,20070426,1024, 16.4998,  89.8495, 2467,1647.9000,   1647.9,   3.8737,  34.8258,2,  34.8255,2,     87.1,2,     87.1,2,   115.57,2,    36.53,2,     0.01,2,     2.69,2, -999.000,9, -999.000,9, -999.000,9,   -999.0,9,   -999.0,9,-999.0000,9,  -999.00,   -999.0,9,  -999.00,9, -999.000,9, -999.000,-999.0000,9,-999.0000,  -999.00,9,  -999.00, -999.000,9, -999.000,   -999.0,9,   -999.0,  -999.00,9,-999.0000,9,-999.0000,9,-999.0000,9,-999.0000,9,-999.0000,9,-999.0000,9,-999.0000,9,-999.0000,9,-999.0000,9,   3.7418,   3.8713,2
  33RR20070322,  I09N,   196,  1,      9,      9,2,20070426,1024, 16.4998,  89.8495, 2467,1748.0000,   1748.0,   3.3846,  34.8057,2,  34.8057,2,     97.8,2,     99.3,2,   119.94,2,    36.15,2,     0.01,2,     2.65,2,    0.018,3,    0.008,2, -999.000,5,   2331.4,2,   2401.7,2,   7.5198,2,    25.00,   -999.0,9,  -999.00,9, -999.000,9, -999.000,-999.0000,9,-999.0000,  -999.00,9,  -999.00, -999.000,9, -999.000,   -999.0,9,   -999.0,  -999.00,9,-999.0000,9,-999.0000,9,-999.0000,9,-999.0000,9,-999.0000,9,-999.0000,9,-999.0000,9,-999.0000,9,-999.0000,9,   3.2499,   3.3855,2
  33RR20070322,  I09N,   196,  1,      8,      8,2,20070426,1024, 16.4998,  89.8495, 2467,1849.3000,   1849.3,   3.1956,  34.7975,2,  34.7970,2,    103.9,2,    103.0,2,   122.92,2,    36.05,2,     0.01,2,     2.63,2, -999.000,9, -999.000,9, -999.000,9,   -999.0,9,   -999.0,9,-999.0000,9,  -999.00,   -999.0,9,  -999.00,9, -999.000,9, -999.000,-999.0000,9,-999.0000,  -999.00,9,  -999.00, -999.000,9, -999.000,   -999.0,9,   -999.0,  -999.00,9,-999.0000,9,-999.0000,9,-999.0000,9,-999.0000,9,-999.0000,9,-999.0000,9,-999.0000,9,-999.0000,9,-999.0000,9,   3.0543,   3.1955,2
  33RR20070322,  I09N,   196,  1,      7,      7,2,20070426,1024, 16.4998,  89.8495, 2467,1949.2000,   1949.2,   2.9935,  34.7894,2,  34.7890,2,    106.8,2,    106.1,2,   125.30,2,    35.99,2,     0.01,2,     2.62,2, -999.000,9, -999.000,9, -999.000,9,   -999.0,9,   -999.0,9,-999.0000,9,  -999.00,   -999.0,9,  -999.00,9, -999.000,9, -999.000,-999.0000,9,-999.0000,  -999.00,9,  -999.00, -999.000,9, -999.000,   -999.0,9,   -999.0,  -999.00,9,-999.0000,9,-999.0000,9,-999.0000,9,-999.0000,9,-999.0000,9,-999.0000,9,-999.0000,9,-999.0000,9,-999.0000,9,   2.8461,   2.9951,2
  33RR20070322,  I09N,   196,  1,      6,      6,2,20070426,1024, 16.4998,  89.8495, 2467,2110.8000,   2110.8,   2.6132,  34.7726,2,  34.7731,2,    114.4,2,    115.2,2,   130.48,2,    35.71,2,     0.01,2,     2.59,2, -999.000,9, -999.000,9, -999.000,9,   -999.0,9,   -999.0,9,-999.0000,9,  -999.00,   -999.0,9,  -999.00,9, -999.000,9, -999.000,-999.0000,9,-999.0000,  -999.00,9,  -999.00, -999.000,9, -999.000,   -999.0,9,   -999.0,  -999.00,9,-999.0000,9,-999.0000,9,-999.0000,9,-999.0000,9,-999.0000,9,-999.0000,9,-999.0000,9,-999.0000,9,-999.0000,9,   2.4571,   2.6128,2
  33RR20070322,  I09N,   196,  1,      5,      5,2,20070426,1024, 16.4998,  89.8495, 2467,2363.7000,   2363.7,   2.2786,  34.7579,2,  34.7588,2,    124.8,2,    126.0,2,   133.67,2,    35.28,2,     0.01,2,     2.54,2, -999.000,9, -999.000,9, -999.000,9,   -999.0,9,   -999.0,9,-999.0000,9,  -999.00,   -999.0,9,  -999.00,9, -999.000,9, -999.000,-999.0000,9,-999.0000,  -999.00,9,  -999.00, -999.000,9, -999.000,   -999.0,9,   -999.0,  -999.00,9,-999.0000,9,-999.0000,9,-999.0000,9,-999.0000,9,-999.0000,9,-999.0000,9,-999.0000,9,-999.0000,9,-999.0000,9,   2.1052,   2.2764,2