BOTTLE,20150630SIOCCHRJL
EXPOCODE,SECT_ID,STNNBR,CASTNO,SAMPNO,BTLNBR,BTLNBR_FLAG_W,DATE,TIME,LATITUDE,LONGITUDE,DEPTH,CTDRAW,CTDPRS,CTDTMP,CTDSAL,CTDSAL_FLAG_W,SALNTY,SALNTY_FLAG_W,CTDOXY,CTDOXY_FLAG_W,OXYGEN,OXYGEN_FLAG_W,SILCAT,SILCAT_FLAG_W,NITRAT,NITRAT_FLAG_W,NITRIT,NITRIT_FLAG_W,PHSPHT,PHSPHT_FLAG_W,CFC-11,CFC-11_FLAG_W,CFC-12,CFC-12_FLAG_W,CFC113,CFC113_FLAG_W,TCARBN,TCARBN_FLAG_W,ALKALI,ALKALI_FLAG_W,PH_SWS,PH_SWS_FLAG_W,PH_TMP,DOC,DOC_FLAG_W,TDN,TDN_FLAG_W,TRITUM,TRITUM_FLAG_W,TRITER,HELIUM,HELIUM_FLAG_W,HELIER,DELHE3,DELHE3_FLAG_W,DELHER,NEON,NEON_FLAG_W,NEONER,DELC14,DELC14_FLAG_W,C14ERR,DELC13,DELC13_FLAG_W,CDOM325,CDOM325_FLAG_W,CDOM340,CDOM340_FLAG_W,CDOM380,CDOM380_FLAG_W,CDOM412,CDOM412_FLAG_W,CDOM443,CDOM443_FLAG_W,CDOM490,CDOM490_FLAG_W,CDOM555,CDOM555_FLAG_W,CDOMSL,CDOMSL_FLAG_W,CDOMSN,CDOMSN_FLAG_W,THETA,SBE35,SBE35_FLAG_W
,,,,,,,,,,,METERS,,DBAR,ITS-90,PSS-78,,PSS-78,,UMOL/KG,,UMOL/KG,,UMOL/KG,,UMOL/KG,,UMOL/KG,,UMOL/KG,,PMOL/KG,,PMOL/KG,,PMOL/KG,,UMOL/KG,,UMOL/KG,,,,DEG C,UMOL/KG,,UMOL/KG,,TU,,TU,NMOL/KG,,NMOL/KG,PERCNT,,PERCNT,NMOL/KG,,NMOL/KG,/MILLE,,/MILLE,/MILLE,,1/M,,1/M,,1/M,,1/M,,1/M,,1/M,,1/M,,1/NM,,1/NM,,DEG C,ITS-90,
  33RR20070322,  I09N,   110,  2,     36,     38,2,20070402,0829,-16.2775,  95.0070, 6038,   3.5000,      3.5,  27.7151,  34.6508,2,  34.6500,2,    200.9,2,    201.3,2,     1.98,2,     0.06,2,     0.00,2,     0.07,2,    1.580,2,    1.002,2, -999.000,5,   1947.8,6,   2273.9,2,   8.0926,6,    25.00,   -999.0,9,  -999.00,9, -999.000,9, -999.000,-999.0000,9,-999.0000,  -999.00,9,  -999.00, -999.000,9, -999.000,   -999.0,9,   -999.0,  -999.00,9,-999.0000,9,-999.0000,9,-999.0000,9,-999.0000,9,-999.0000,9,-999.0000,9,-999.0000,9,-999.0000,9,-999.0000,9,  27.7143,  27.7110,2
  33RR20070322,  I09N,   110,  2,     35,     35,2,20070402,0829,-16.2775,  95.0070, 6038,  57.8000,     57.8,  27.6660,  34.6494,2,-999.0000,5,    201.8,2,    200.8,2,     1.99,2,     0.01,2,     0.00,2,     0.06,2,    1.572,2,    1.002,2, -999.000,5,   1946.6,2,   2271.2,2,   8.0769,2,    25.00,   -999.0,9,  -999.00,9, -999.000,9, -999.000,-999.0000,9,-999.0000,  -999.00,9,  -999.00, -999.000,9, -999.000,   -999.0,9,   -999.0,  -999.00,9,-999.0000,9,-999.0000,9,-999.0000,9,-999.0000,9,-999.0000,9,-999.0000,9,-999.0000,9,-999.0000,9,-999.0000,9,  27.6525,  27.6583,2
  33RR20070322,  I09N,   110,  2,     34,   9419,2,20070402,0829,-16.2775,  95.0070, 6038, 107.2000,    107.2,  22.7811,  34.8497,2,  34.8486,2,    168.1,2,    162.7,2,     6.94,2,     4.95,2,     0.24,2,     0.46,2,    1.765,2,    1.097,2, -999.000,5,   2030.5,2,   2284.0,2,   7.9550,2,    25.00,   -999.0,9,  -999.00,9, -999.000,9, -999.000,-999.0000,9,-999.0000,  -999.00,9,  -999.00, -999.000,9, -999.000,   -999.0,9,   -999.0,  -999.00,9,-999.0000,9,-999.0000,9,-999.0000,9,-999.0000,9,-999.0000,9,-999.0000,9,-999.0000,9,-999.0000,9,-999.0000,9,  22.7594,  22.7659,2
  33RR20070322,  I09N,   110,  2,     33,     33,2,20070402,0829,-16.2775,  95.0070, 6038, 156.4000,    156.4,  20.1148,  35.1506,2,  35.1458,2,    148.2,2,    152.0,2,     9.73,2,     8.42,2,     0.04,2,     0.64,2,    1.865,2,    1.140,2, -999.000,5,   -999.0,9,   -999.0,9,-999.0000,9,  -999.00,   -999.0,9,  -999.00,9, -999.000,9, -999.000,-999.0000,9,-999.0000,  -999.00,9,  -999.00, -999.000,9, -999.000,   -999.0,9,   -999.0,  -999.00,9,-999.0000,9,-999.0000,9,-999.0000,9,-999.0000,9,-999.0000,9,-999.0000,9,-999.0000,9,-999.0000,9,-999.0000,9,  20.0858,  20.1293,2
  33RR20070322,  I09N,   110,  2,     32,     37,2,20070402,0829,-16.2775,  95.0070, 6038, 207.8000,    207.8,  15.7931,  34.8357,2,  34.7619,2,    116.2,2,    114.9,2,    24.19,2,    18.52,2,     0.01,2,     1.32,2,    1.580,2,    0.917,2, -999.000,5,   -999.0,9,   -999.0,9,-999.0000,9,  -999.00,   -999.0,9,  -999.00,9, -999.000,9, -999.000,-999.0000,9,-999.0000,  -999.00,9,  -999.00, -999.000,9, -999.000,   -999.0,9,   -999.0,  -999.00,9,-999.0000,9,-999.0000,9,-999.0000,9,-999.0000,9,-999.0000,9,-999.0000,9,-999.0000,9,-999.0000,9,-999.0000,9,  15.7605,  15.7723,2
  33RR20070322,  I09N,   110,  2,     31,     31,2,20070402,0829,-16.2775,  95.0070, 6038, 257.2000,    257.2,  14.8236,  35.2442,2,  35.2452,2,    155.4,2,    153.5,2,    15.47,2,    13.31,2,     0.01,2,     0.98,2,    2.090,2,    1.184,2, -999.000,5,   2133.7,2,   2317.4,2,   7.8257,2,    25.00,   -999.0,9,  -999.00,9, -999.000,9, -999.000,-999.0000,9,-999.0000,  -999.00,9,  -999.00, -999.000,9, -999.000,   -999.0,9,   -999.0,  -999.00,9,-999.0000,9,-999.0000,9,-999.0000,9,-999.0000,9,-999.0000,9,-999.0000,9,-999.0000,9,-999.0000,9,-999.0000,9,  14.7848,  14.8262,2
  33RR20070322,  I09N,   110,  2,     30,     30,2,20070402,0829,-16.2775,  95.0070, 6038, 307.1000,    307.1,  13.5627,  35.3180,2,  35.3221,2,    202.7,2,    210.2,2,     5.00,2,     8.31,2,     0.01,2,     0.66,2,    2.903,2,    1.657,2, -999.000,5,   -999.0,9,   -999.0,9,-999.0000,9,  -999.00,   -999.0,9,  -999.00,9, -999.000,9, -999.000,-999.0000,9,-999.0000,  -999.00,9,  -999.00, -999.000,9, -999.000,   -999.0,9,   -999.0,  -999.00,9,-999.0000,9,-999.0000,9,-999.0000,9,-999.0000,9,-999.0000,9,-999.0000,9,-999.0000,9,-999.0000,9,-999.0000,9,  13.5189,  13.5684,2
  33RR20070322,  I09N,   110,  2,     29,     29,2,20070402,0829,-16.2775,  95.0070, 6038, 356.4000,    356.4,  11.9648,  35.0888,2,  35.0992,2,    219.5,2,    221.3,2,     4.80,2,    10.51,2,     0.00,2,     0.80,2,    3.181,2,    1.784,2, -999.000,5,   -999.0,9,   -999.0,9,-999.0000,9,  -999.00,   -999.0,9,  -999.00,9, -999.000,9, -999.000,-999.0000,9,-999.0000,  -999.00,9,  -999.00, -999.000,9, -999.000,   -999.0,9,   -999.0,  -999.00,9,-999.0000,9,-999.0000,9,-999.0000,9,-999.0000,9,-999.0000,9,-999.0000,9,-999.0000,9,-999.0000,9,-999.0000,9,  11.9180,  11.9993,2
  33RR20070322,  I09N,   110,  2,     28,     28,2,20070402,0829,-16.2775,  95.0070, 6038, 407.0000,    407.0,  10.4435,  34.8643,2,  34.8655,2,    224.4,2,    224.5,2,     6.00,2,    14.04,2,     0.00,2,     1.03,2,    3.353,2,    1.824,2, -999.000,5,   -999.0,9,   -999.0,9,-999.0000,9,  -999.00,   -999.0,9,  -999.00,9, -999.000,9, -999.000,-999.0000,9,-999.0000,  -999.00,9,  -999.00, -999.000,9, -999.000,   -999.0,9,   -999.0,  -999.00,9,-999.0000,9,-999.0000,9,-999.0000,9,-999.0000,9,-999.0000,9,-999.0000,9,-999.0000,9,-999.0000,9,-999.0000,9,  10.3945,  10.4457,2
  33RR20070322,  I09N,   110,  2,     27,     27,2,20070402,0829,-16.2775,  95.0070, 6038, 456.8000,    456.8,   9.6613,  34.7599,2,  34.7613,2,    216.1,2,    214.0,2,     9.17,2,    17.06,2,     0.00,2,     1.21,2,    3.156,2,    1.659,2, -999.000,5,   -999.0,9,   -999.0,9,-999.0000,9,  -999.00,   -999.0,9,  -999.00,9, -999.000,9, -999.000,-999.0000,9,-999.0000,  -999.00,9,  -999.00, -999.000,9, -999.000,   -999.0,9,   -999.0,  -999.00,9,-999.0000,9,-999.0000,9,-999.0000,9,-999.0000,9,-999.0000,9,-999.0000,9,-999.0000,9,-999.0000,9,-999.0000,9,   9.6089,   9.6640,2
  33RR20070322,  I09N,   110,  2,     26,     26,2,20070402,0829,-16.2775,  95.0070, 6038, 507.6000,    507.6,   8.9025,  34.6778,2,  34.6765,2,    192.9,2,    187.0,2,    16.91,2,    21.58,2,     0.00,2,     1.52,2,    2.426,2,    1.244,2, -999.000,5,   2159.8,2,   2295.7,6,   7.7092,2,    25.00,   -999.0,9,  -999.00,9, -999.000,9, -999.000,-999.0000,9,-999.0000,  -999.00,9,  -999.00, -999.000,9, -999.000,   -999.0,9,   -999.0,  -999.00,9,-999.0000,9,-999.0000,9,-999.0000,9,-999.0000,9,-999.0000,9,-999.0000,9,-999.0000,9,-999.0000,9,-999.0000,9,   8.8470,   8.8905,2
  33RR20070322,  I09N,   110,  2,     25,     25,2,20070402,0829,-16.2775,  95.0070, 6038, 607.4000,    607.4,   7.1003,  34.5663,2,  34.5649,2,    168.2,2,    152.9,2,    34.56,2,    28.69,2,     0.00,2,     2.01,2, -999.000,5, -999.000,5, -999.000,5,   -999.0,9,   -999.0,9,-999.0000,9,  -999.00,   -999.0,9,  -999.00,9, -999.000,9, -999.000,-999.0000,9,-999.0000,  -999.00,9,  -999.00, -999.000,9, -999.000,   -999.0,9,   -999.0,  -999.00,9,-999.0000,9,-999.0000,9,-999.0000,9,-999.0000,9,-999.0000,9,-999.0000,9,-999.0000,9,-999.0000,9,-999.0000,9,   7.0417,   7.1031,2
  33RR20070322,  I09N,   110,  2,     24,     24,2,20070402,0829,-16.2775,  95.0070, 6038, 657.6000,    657.6,   6.8674,  34.6359,2,  34.6367,2,    130.4,2,    114.7,2,    51.45,2,    32.42,2,     0.00,2,     2.31,2,    0.924,2,    0.488,2, -999.000,5,   -999.0,9,   -999.0,9,-999.0000,9,  -999.00,   -999.0,9,  -999.00,9, -999.000,9, -999.000,-999.0000,9,-999.0000,  -999.00,9,  -999.00, -999.000,9, -999.000,   -999.0,9,   -999.0,  -999.00,9,-999.0000,9,-999.0000,9,-999.0000,9,-999.0000,9,-999.0000,9,-999.0000,9,-999.0000,9,-999.0000,9,-999.0000,9,   6.8048,   6.8656,2
  33RR20070322,  I09N,   110,  2,     23,     23,2,20070402,0829,-16.2775,  95.0070, 6038, 707.4000,    707.4,   6.6174,  34.6574,2,  34.6576,2,    112.8,2,    104.4,2,    59.02,2,    33.36,2,     0.00,2,     2.42,2,    0.198,2,    0.110,2, -999.000,5,   -999.0,9,   -999.0,9,-999.0000,9,  -999.00,   -999.0,9,  -999.00,9, -999.000,9, -999.000,-999.0000,9,-999.0000,  -999.00,9,  -999.00, -999.000,9, -999.000,   -999.0,9,   -999.0,  -999.00,9,-999.0000,9,-999.0000,9,-999.0000,9,-999.0000,9,-999.0000,9,-999.0000,9,-999.0000,9,-999.0000,9,-999.0000,9,   6.5511,   6.6214,2
  33RR20070322,  I09N,   110,  2,     22,     22,2,20070402,0829,-16.2775,  95.0070, 6038, 808.6000,    808.6,   6.0990,  34.6703,2,  34.6696,2,     92.2,2,     89.0,2,    74.58,2,    35.25,2,     0.00,2,     2.56,2,    0.055,2,    0.034,2, -999.000,5,   -999.0,9,   -999.0,9,-999.0000,9,  -999.00,   -999.0,9,  -999.00,9, -999.000,9, -999.000,-999.0000,9,-999.0000,  -999.00,9,  -999.00, -999.000,9, -999.000,   -999.0,9,   -999.0,  -999.00,9,-999.0000,9,-999.0000,9,-999.0000,9,-999.0000,9,-999.0000,9,-999.0000,9,-999.0000,9,-999.0000,9,-999.0000,9,   6.0258,   6.1002,2
  33RR20070322,  I09N,   110,  2,     21,     21,2,20070402,0829,-16.2775,  95.0070, 6038, 908.4000,    908.4,   5.6738,  34.6749,2,  34.6743,2,     89.4,2,     88.9,2,    82.19,2,    35.73,2,     0.00,2,     2.61,2, -999.000,9, -999.000,9, -999.000,9,   -999.0,9,   -999.0,9,-999.0000,9,  -999.00,   -999.0,9,  -999.00,9, -999.000,9, -999.000,-999.0000,9,-999.0000,  -999.00,9,  -999.00, -999.000,9, -999.000,   -999.0,9,   -999.0,  -999.00,9,-999.0000,9,-999.0000,9,-999.0000,9,-999.0000,9,-999.0000,9,-999.0000,9,-999.0000,9,-999.0000,9,-999.0000,9,   5.5938,   5.6739,2
  33RR20070322,  I09N,   110,  2,     20,     20,2,20070402,0829,-16.2775,  95.0070, 6038,1008.1000,   1008.1,   5.2159,  34.6652,2,  34.6642,2,     90.7,2,     90.4,2,    90.00,2,    36.16,2,     0.00,2,     2.65,2,    0.018,2,    0.011,2, -999.000,5,   2292.1,2,   2362.1,2,   7.5242,2,    25.00,   -999.0,9,  -999.00,9, -999.000,9, -999.000,-999.0000,9,-999.0000,  -999.00,9,  -999.00, -999.000,9, -999.000,   -999.0,9,   -999.0,  -999.00,9,-999.0000,9,-999.0000,9,-999.0000,9,-999.0000,9,-999.0000,9,-999.0000,9,-999.0000,9,-999.0000,9,-999.0000,9,   5.1299,   5.2168,2
  33RR20070322,  I09N,   110,  2,     19,     19,2,20070402,0829,-16.2775,  95.0070, 6038,1109.1000,   1109.1,   4.8420,  34.6706,2,  34.6693,2,     95.0,2,     94.9,2,    95.03,2,    36.12,2,     0.00,2,     2.65,2, -999.000,9, -999.000,9, -999.000,9,   -999.0,9,   -999.0,9,-999.0000,9,  -999.00,   -999.0,9,  -999.00,9, -999.000,9, -999.000,-999.0000,9,-999.0000,  -999.00,9,  -999.00, -999.000,9, -999.000,   -999.0,9,   -999.0,  -999.00,9,-999.0000,9,-999.0000,9,-999.0000,9,-999.0000,9,-999.0000,9,-999.0000,9,-999.0000,9,-999.0000,9,-999.0000,9,   4.7497,   4.8414,2
  33RR20070322,  I09N,   110,  2,     18,     18,2,20070402,0829,-16.2775,  95.0070, 6038,1210.6000,   1210.6,   4.4893,  34.6724,2,  34.6711,2,     99.1,2,     99.9,2,    97.65,2,    36.33,2,     0.00,2,     2.65,2,    0.008,2,    0.004,2, -999.000,5,   -999.0,9,   -999.0,9,-999.0000,9,  -999.00,   -999.0,9,  -999.00,9, -999.000,9, -999.000,-999.0000,9,-999.0000,  -999.00,9,  -999.00, -999.000,9, -999.000,   -999.0,9,   -999.0,  -999.00,9,-999.0000,9,-999.0000,9,-999.0000,9,-999.0000,9,-999.0000,9,-999.0000,9,-999.0000,9,-999.0000,9,-999.0000,9,   4.3909,   4.4932,2
  33RR20070322,  I09N,   110,  2,     17,     17,2,20070402,0829,-16.2775,  95.0070, 6038,1309.8000,   1309.8,   4.1351,  34.6734,2,  34.6737,2,    104.6,2,    106.5,2,   100.27,2,    36.14,2,     0.00,2,     2.65,2, -999.000,9, -999.000,9, -999.000,9,   -999.0,9,   -999.0,9,-999.0000,9,  -999.00,   -999.0,9,  -999.00,9, -999.000,9, -999.000,-999.0000,9,-999.0000,  -999.00,9,  -999.00, -999.000,9, -999.000,   -999.0,9,   -999.0,  -999.00,9,-999.0000,9,-999.0000,9,-999.0000,9,-999.0000,9,-999.0000,9,-999.0000,9,-999.0000,9,-999.0000,9,-999.0000,9,   4.0312,   4.1349,2
  33RR20070322,  I09N,   110,  2,     16,     16,2,20070402,0829,-16.2775,  95.0070, 6038,1410.1000,   1410.1,   3.8040,  34.6798,2,  34.6805,2,    111.2,2,    113.1,2,   102.09,2,    36.04,2,     0.00,2,     2.62,2,    0.000,2,    0.000,2, -999.000,5,   -999.0,9,   -999.0,9,-999.0000,9,  -999.00,   -999.0,9,  -999.00,9, -999.000,9, -999.000,-999.0000,9,-999.0000,  -999.00,9,  -999.00, -999.000,9, -999.000,   -999.0,9,   -999.0,  -999.00,9,-999.0000,9,-999.0000,9,-999.0000,9,-999.0000,9,-999.0000,9,-999.0000,9,-999.0000,9,-999.0000,9,-999.0000,9,   3.6947,   3.8016,2
  33RR20070322,  I09N,   110,  2,     15,     15,2,20070402,0829,-16.2775,  95.0070, 6038,1612.9000,   1612.9,   3.2460,  34.7034,2,  34.7024,2,    124.8,2,    126.8,2,   105.72,2,    35.42,2,     0.00,2,     2.56,2, -999.000,9, -999.000,9, -999.000,9,   -999.0,9,   -999.0,9,-999.0000,9,  -999.00,   -999.0,9,  -999.00,9, -999.000,9, -999.000,-999.0000,9,-999.0000,  -999.00,9,  -999.00, -999.000,9, -999.000,   -999.0,9,   -999.0,  -999.00,9,-999.0000,9,-999.0000,9,-999.0000,9,-999.0000,9,-999.0000,9,-999.0000,9,-999.0000,9,-999.0000,9,-999.0000,9,   3.1253,   3.2497,2
  33RR20070322,  I09N,   110,  2,     14,     14,2,20070402,0829,-16.2775,  95.0070, 6038,1813.7000,   1813.7,   2.7542,  34.7210,2,  34.7201,2,    136.5,2,    138.7,2,   110.36,2,    34.95,2,     0.00,2,     2.51,2,    0.001,2,    0.001,2, -999.000,5,   -999.0,9,   -999.0,9,-999.0000,9,  -999.00,   -999.0,9,  -999.00,9, -999.000,9, -999.000,-999.0000,9,-999.0000,  -999.00,9,  -999.00, -999.000,9, -999.000,   -999.0,9,   -999.0,  -999.00,9,-999.0000,9,-999.0000,9,-999.0000,9,-999.0000,9,-999.0000,9,-999.0000,9,-999.0000,9,-999.0000,9,-999.0000,9,   2.6224,   2.7548,2
  33RR20070322,  I09N,   110,  2,     13,     13,2,20070402,0829,-16.2775,  95.0070, 6038,2014.6000,   2014.6,   2.4402,  34.7290,2,  34.7295,2,    145.8,2,    147.4,2,   114.81,2,    34.44,2,     0.00,2,     2.47,2, -999.000,9, -999.000,9, -999.000,9,   2298.2,2,   2387.5,6,   7.5691,2,    25.00,   -999.0,9,  -999.00,9, -999.000,9, -999.000,-999.0000,9,-999.0000,  -999.00,9,  -999.00, -999.000,9, -999.000,   -999.0,9,   -999.0,  -999.00,9,-999.0000,9,-999.0000,9,-999.0000,9,-999.0000,9,-999.0000,9,-999.0000,9,-999.0000,9,-999.0000,9,-999.0000,9,   2.2955,   2.4400,2
  33RR20070322,  I09N,   110,  2,     12,     12,2,20070402,0829,-16.2775,  95.0070, 6038,2267.2000,   2267.2,   2.1374,  34.7300,2,  34.7299,2,    155.7,2,    156.1,2,   118.87,2,    34.25,2,     0.00,2,     2.43,2, -999.000,9, -999.000,9, -999.000,9,   -999.0,9,   -999.0,9,-999.0000,9,  -999.00,   -999.0,9,  -999.00,9, -999.000,9, -999.000,-999.0000,9,-999.0000,  -999.00,9,  -999.00, -999.000,9, -999.000,   -999.0,9,   -999.0,  -999.00,9,-999.0000,9,-999.0000,9,-999.0000,9,-999.0000,9,-999.0000,9,-999.0000,9,-999.0000,9,-999.0000,9,-999.0000,9,   1.9753,   2.1367,2
  33RR20070322,  I09N,   110,  2,     11,     11,2,20070402,0829,-16.2775,  95.0070, 6038,2518.4000,   2518.4,   1.9340,  34.7300,2,  34.7293,2,    161.8,2,    161.8,2,   121.71,2,    33.93,2,     0.00,2,     2.41,2,    0.004,2,    0.001,2, -999.000,5,   -999.0,9,   -999.0,9,-999.0000,9,  -999.00,   -999.0,9,  -999.00,9, -999.000,9, -999.000,-999.0000,9,-999.0000,  -999.00,9,  -999.00, -999.000,9, -999.000,   -999.0,9,   -999.0,  -999.00,9,-999.0000,9,-999.0000,9,-999.0000,9,-999.0000,9,-999.0000,9,-999.0000,9,-999.0000,9,-999.0000,9,-999.0000,9,   1.7529,   1.9337,2
  33RR20070322,  I09N,   110,  2,     10,     10,2,20070402,0829,-16.2775,  95.0070, 6038,2773.3000,   2773.3,   1.7668,  34.7283,2,  34.7279,2,    167.5,2,    167.0,2,   123.34,2,    33.90,2,     0.00,2,     2.39,2, -999.000,9, -999.000,9, -999.000,9,   -999.0,9,   -999.0,9,-999.0000,9,  -999.00,   -999.0,9,  -999.00,9, -999.000,9, -999.000,-999.0000,9,-999.0000,  -999.00,9,  -999.00, -999.000,9, -999.000,   -999.0,9,   -999.0,  -999.00,9,-999.0000,9,-999.0000,9,-999.0000,9,-999.0000,9,-999.0000,9,-999.0000,9,-999.0000,9,-999.0000,9,-999.0000,9,   1.5654,   1.7666,2
  33RR20070322,  I09N,   110,  2,      9,      9,2,20070402,0829,-16.2775,  95.0070, 6038,3027.4000,   3027.4,   1.6230,  34.7260,2,  34.7250,2,    171.6,2,    171.1,2,   126.39,2,    33.64,2,     0.00,2,     2.38,2, -999.000,9, -999.000,9, -999.000,9,   -999.0,9,   -999.0,9,-999.0000,9,  -999.00,   -999.0,9,  -999.00,9, -999.000,9, -999.000,-999.0000,9,-999.0000,  -999.00,9,  -999.00, -999.000,9, -999.000,   -999.0,9,   -999.0,  -999.00,9,-999.0000,9,-999.0000,9,-999.0000,9,-999.0000,9,-999.0000,9,-999.0000,9,-999.0000,9,-999.0000,9,-999.0000,9,   1.4006,   1.6231,2
  33RR20070322,  I09N,   110,  2,      8,      8,2,20070402,0829,-16.2775,  95.0070, 6038,3432.4000,   3432.4,   1.4384,  34.7222,2,  34.7214,2,    177.9,2,    177.8,2,   128.64,2,    33.55,2,     0.00,2,     2.36,2,    0.003,2,    0.001,2, -999.000,5,   -999.0,9,   -999.0,9,-999.0000,9,  -999.00,   -999.0,9,  -999.00,9, -999.000,9, -999.000,-999.0000,9,-999.0000,  -999.00,9,  -999.00, -999.000,9, -999.000,   -999.0,9,   -999.0,  -999.00,9,-999.0000,9,-999.0000,9,-999.0000,9,-999.0000,9,-999.0000,9,-999.0000,9,-999.0000,9,-999.0000,9,-999.0000,9,   1.1804,   1.4382,2
  33RR20070322,  I09N,   110,  2,      7,      7,2,20070402,0829,-16.2775,  95.0070, 6038,3838.2000,   3838.2,   1.2887,  34.7192,2,  34.7190,2,    186.4,2,    186.5,2,   127.43,2,    33.14,2,     0.00,2,     2.31,2, -999.000,9, -999.000,9, -999.000,9,   2288.8,2,   2395.9,6,   7.6184,2,    25.00,   -999.0,9,  -999.00,9, -999.000,9, -999.000,-999.0000,9,-999.0000,  -999.00,9,  -999.00, -999.000,9, -999.000,   -999.0,9,   -999.0,  -999.00,9,-999.0000,9,-999.0000,9,-999.0000,9,-999.0000,9,-999.0000,9,-999.0000,9,-999.0000,9,-999.0000,9,-999.0000,9,   0.9927,   1.2887,2
  33RR20070322,  I09N,   110,  2,      6,      6,2,20070402,0829,-16.2775,  95.0070, 6038,4246.4000,   4246.4,   1.1760,  34.7164,2,  34.7160,2,    196.8,2,    196.4,2,   124.19,2,    32.58,2,     0.00,2,     2.27,2, -999.000,9, -999.000,9, -999.000,9,   -999.0,9,   -999.0,9,-999.0000,9,  -999.00,   -999.0,9,  -999.00,9, -999.000,9, -999.000,-999.0000,9,-999.0000,  -999.00,9,  -999.00, -999.000,9, -999.000,   -999.0,9,   -999.0,  -999.00,9,-999.0000,9,-999.0000,9,-999.0000,9,-999.0000,9,-999.0000,9,-999.0000,9,-999.0000,9,-999.0000,9,-999.0000,9,   0.8392,   1.1762,2
  33RR20070322,  I09N,   110,  2,      5,      5,2,20070402,0829,-16.2775,  95.0070, 6038,4654.1000,   4654.1,   1.1157,  34.7135,2,  34.7129,2,    201.6,2,    202.2,2,   123.80,2,    32.27,2,     0.00,2,     2.24,2,    0.000,2,    0.000,2, -999.000,5,   -999.0,9,   -999.0,9,-999.0000,9,  -999.00,   -999.0,9,  -999.00,9, -999.000,9, -999.000,-999.0000,9,-999.0000,  -999.00,9,  -999.00, -999.000,9, -999.000,   -999.0,9,   -999.0,  -999.00,9,-999.0000,9,-999.0000,9,-999.0000,9,-999.0000,9,-999.0000,9,-999.0000,9,-999.0000,9,-999.0000,9,-999.0000,9,   0.7348,   1.1156,2