BOTTLE,20150630SIOCCHRJL
EXPOCODE,SECT_ID,STNNBR,CASTNO,SAMPNO,BTLNBR,BTLNBR_FLAG_W,DATE,TIME,LATITUDE,LONGITUDE,DEPTH,CTDRAW,CTDPRS,CTDTMP,CTDSAL,CTDSAL_FLAG_W,SALNTY,SALNTY_FLAG_W,CTDOXY,CTDOXY_FLAG_W,OXYGEN,OXYGEN_FLAG_W,SILCAT,SILCAT_FLAG_W,NITRAT,NITRAT_FLAG_W,NITRIT,NITRIT_FLAG_W,PHSPHT,PHSPHT_FLAG_W,CFC-11,CFC-11_FLAG_W,CFC-12,CFC-12_FLAG_W,CFC113,CFC113_FLAG_W,TCARBN,TCARBN_FLAG_W,ALKALI,ALKALI_FLAG_W,PH_SWS,PH_SWS_FLAG_W,PH_TMP,DOC,DOC_FLAG_W,TDN,TDN_FLAG_W,TRITUM,TRITUM_FLAG_W,TRITER,HELIUM,HELIUM_FLAG_W,HELIER,DELHE3,DELHE3_FLAG_W,DELHER,NEON,NEON_FLAG_W,NEONER,DELC14,DELC14_FLAG_W,C14ERR,DELC13,DELC13_FLAG_W,CDOM325,CDOM325_FLAG_W,CDOM340,CDOM340_FLAG_W,CDOM380,CDOM380_FLAG_W,CDOM412,CDOM412_FLAG_W,CDOM443,CDOM443_FLAG_W,CDOM490,CDOM490_FLAG_W,CDOM555,CDOM555_FLAG_W,CDOMSL,CDOMSL_FLAG_W,CDOMSN,CDOMSN_FLAG_W,THETA,SBE35,SBE35_FLAG_W
,,,,,,,,,,,METERS,,DBAR,ITS-90,PSS-78,,PSS-78,,UMOL/KG,,UMOL/KG,,UMOL/KG,,UMOL/KG,,UMOL/KG,,UMOL/KG,,PMOL/KG,,PMOL/KG,,PMOL/KG,,UMOL/KG,,UMOL/KG,,,,DEG C,UMOL/KG,,UMOL/KG,,TU,,TU,NMOL/KG,,NMOL/KG,PERCNT,,PERCNT,NMOL/KG,,NMOL/KG,/MILLE,,/MILLE,/MILLE,,1/M,,1/M,,1/M,,1/M,,1/M,,1/M,,1/M,,1/NM,,1/NM,,DEG C,ITS-90,
  33RR20070322,  I09N,   159,  1,     36,     38,2,20070416,1051,  5.0245,  90.4733, 3277,   1.8000,      1.8,  30.6986,  34.0944,2,  34.1058,2,    195.2,2,    195.3,2,     1.32,2,     0.05,2,     0.00,2,     0.08,2,    1.480,2,    0.972,2, -999.000,5,   1905.7,6,   2233.8,6,   8.1497,3,    25.00,     73.0,2,     4.88,2, -999.000,9, -999.000,-999.0000,9,-999.0000,  -999.00,9,  -999.00, -999.000,9, -999.000,   -999.0,9,   -999.0,  -999.00,9,-999.0000,9,-999.0000,9,-999.0000,9,-999.0000,9,-999.0000,9,-999.0000,9,-999.0000,9,-999.0000,9,-999.0000,9,  30.6981,  30.7311,2
  33RR20070322,  I09N,   159,  1,     35,     35,2,20070416,1051,  5.0245,  90.4733, 3277,  24.2000,     24.2,  30.0815,  34.0798,2,  34.0801,2,    197.0,2,    196.7,2,     1.29,2,     0.05,2,     0.00,2,     0.07,2, -999.000,9, -999.000,9, -999.000,9,   -999.0,9,   -999.0,9,-999.0000,9,  -999.00,     71.5,2,     4.71,2, -999.000,9, -999.000,-999.0000,9,-999.0000,  -999.00,9,  -999.00, -999.000,9, -999.000,     43.7,2,      2.9,     1.22,2,-999.0000,9,-999.0000,9,-999.0000,9,-999.0000,9,-999.0000,9,-999.0000,9,-999.0000,9,-999.0000,9,-999.0000,9,  30.0755,  30.0766,2
  33RR20070322,  I09N,   159,  1,     34,   9419,2,20070416,1051,  5.0245,  90.4733, 3277,  39.0000,     39.0,  29.7722,  34.1689,2,  34.1670,2,    200.4,2,    200.4,2,     1.27,2,     0.05,2,     0.00,2,     0.09,2,    1.508,2,    0.985,2, -999.000,5,   1910.4,2,   2238.5,2,   8.1086,2,    25.00,     70.3,2,     4.54,2, -999.000,9, -999.000,-999.0000,9,-999.0000,  -999.00,9,  -999.00, -999.000,9, -999.000,   -999.0,9,   -999.0,  -999.00,9,-999.0000,9,-999.0000,9,-999.0000,9,-999.0000,9,-999.0000,9,-999.0000,9,-999.0000,9,-999.0000,9,-999.0000,9,  29.7626,  29.7710,2
  33RR20070322,  I09N,   159,  1,     33,     33,2,20070416,1051,  5.0245,  90.4733, 3277,  73.6000,     73.6,  24.1486,  34.9160,2,  34.9130,2,    111.6,2,    101.0,2,     8.38,2,    12.03,2,     0.58,2,     0.99,2,    1.421,2,    0.904,2, -999.000,5,   -999.0,9,   -999.0,9,-999.0000,9,  -999.00,     55.3,2,    16.65,2, -999.000,9, -999.000,-999.0000,9,-999.0000,  -999.00,9,  -999.00, -999.000,9, -999.000,     15.4,2,      3.1,     0.45,2,-999.0000,9,-999.0000,9,-999.0000,9,-999.0000,9,-999.0000,9,-999.0000,9,-999.0000,9,-999.0000,9,-999.0000,9,  24.1331,  24.1433,2
  33RR20070322,  I09N,   159,  1,     32,     37,2,20070416,1051,  5.0245,  90.4733, 3277,  93.8000,     93.8,  22.7161,  34.8745,2,  34.8993,2,     78.9,2,     76.2,2,    11.52,2,    16.36,2,     0.61,2,     1.25,2,    1.361,2,    0.860,2, -999.000,5,   2105.7,2,   2283.6,2,   7.8052,2,    25.00,     51.4,2,    21.08,2, -999.000,9, -999.000,-999.0000,9,-999.0000,  -999.00,9,  -999.00, -999.000,9, -999.000,   -999.0,9,   -999.0,  -999.00,9,-999.0000,9,-999.0000,9,-999.0000,9,-999.0000,9,-999.0000,9,-999.0000,9,-999.0000,9,-999.0000,9,-999.0000,9,  22.6971,  22.7159,2
  33RR20070322,  I09N,   159,  1,     31,     31,2,20070416,1051,  5.0245,  90.4733, 3277, 123.7000,    123.7,  18.2721,  35.0909,2,  35.0892,2,     31.0,2,     27.7,2,    19.42,2,    25.64,2,     0.03,2,     1.85,2,    1.190,2,    0.717,2, -999.000,5,   -999.0,9,   -999.0,9,-999.0000,9,  -999.00,     50.5,2,    29.96,2, -999.000,9, -999.000,-999.0000,9,-999.0000,  -999.00,9,  -999.00, -999.000,9, -999.000,      6.8,2,      3.7,    -0.02,2,-999.0000,9,-999.0000,9,-999.0000,9,-999.0000,9,-999.0000,9,-999.0000,9,-999.0000,9,-999.0000,9,-999.0000,9,  18.2507,  18.2631,2
  33RR20070322,  I09N,   159,  1,     30,     30,2,20070416,1051,  5.0245,  90.4733, 3277, 173.8000,    173.8,  15.4068,  35.0978,2,  35.1120,2,     41.3,2,     35.6,2,    22.17,2,    27.03,2,     0.01,2,     1.94,2,    1.182,2,    0.678,2, -999.000,5,   2208.6,2,   2307.8,2,   7.5912,2,    25.00,     49.5,2,    30.58,2, -999.000,9, -999.000,-999.0000,9,-999.0000,  -999.00,9,  -999.00, -999.000,9, -999.000,    -16.3,2,      2.8,     0.08,2,-999.0000,9,-999.0000,9,-999.0000,9,-999.0000,9,-999.0000,9,-999.0000,9,-999.0000,9,-999.0000,9,-999.0000,9,  15.3800,  15.4772,2
  33RR20070322,  I09N,   159,  1,     29,     29,2,20070416,1051,  5.0245,  90.4733, 3277, 223.4000,    223.4,  13.1105,  35.0807,2,  35.0787,2,     33.7,2,     34.0,2,    26.32,2,    29.44,2,     0.00,2,     2.10,2,    0.942,2,    0.532,2, -999.000,5,   -999.0,9,   -999.0,9,-999.0000,9,  -999.00,     47.9,2,    33.20,2, -999.000,9, -999.000,-999.0000,9,-999.0000,  -999.00,9,  -999.00, -999.000,9, -999.000,    -10.9,2,      2.7,     0.16,2,-999.0000,9,-999.0000,9,-999.0000,9,-999.0000,9,-999.0000,9,-999.0000,9,-999.0000,9,-999.0000,9,-999.0000,9,  13.0795,  13.1193,2
  33RR20070322,  I09N,   159,  1,     28,     28,2,20070416,1051,  5.0245,  90.4733, 3277, 273.8000,    273.8,  12.2882,  35.0819,2,  35.0797,2,     27.6,2,     28.9,2,    29.27,2,    30.88,2,     0.00,2,     2.21,2,    0.791,2,    0.451,2, -999.000,5,   2242.2,2,   2315.0,2,   7.5142,2,    25.00,     46.7,2,    34.11,2, -999.000,9, -999.000,-999.0000,9,-999.0000,  -999.00,9,  -999.00, -999.000,9, -999.000,   -999.0,9,   -999.0,  -999.00,9,-999.0000,9,-999.0000,9,-999.0000,9,-999.0000,9,-999.0000,9,-999.0000,9,-999.0000,9,-999.0000,9,-999.0000,9,  12.2518,  12.2877,2
  33RR20070322,  I09N,   159,  1,     27,     27,2,20070416,1051,  5.0245,  90.4733, 3277, 323.3000,    323.3,  11.7937,  35.0854,2,  35.0833,2,     32.3,2,     37.5,2,    29.25,2,    30.82,2,     0.00,2,     2.18,2,    0.817,2,    0.452,2, -999.000,5,   -999.0,9,   -999.0,9,-999.0000,9,  -999.00,     45.6,2,    33.85,2, -999.000,9, -999.000,-999.0000,9,-999.0000,  -999.00,9,  -999.00, -999.000,9, -999.000,    -37.8,2,      2.6,     0.22,2,-999.0000,9,-999.0000,9,-999.0000,9,-999.0000,9,-999.0000,9,-999.0000,9,-999.0000,9,-999.0000,9,-999.0000,9,  11.7517,  11.7930,2
  33RR20070322,  I09N,   159,  1,     26,     26,2,20070416,1051,  5.0245,  90.4733, 3277, 373.7000,    373.7,  11.3816,  35.0698,2,  35.0689,2,     44.1,2,     42.3,2,    30.02,2,    30.98,2,     0.00,2,     2.18,2,    0.786,2,    0.429,2, -999.000,5,   2241.2,2,   2314.5,2,   7.5001,2,    25.00,     44.7,2,    34.13,2, -999.000,9, -999.000,-999.0000,9,-999.0000,  -999.00,9,  -999.00, -999.000,9, -999.000,   -999.0,9,   -999.0,  -999.00,9,-999.0000,9,-999.0000,9,-999.0000,9,-999.0000,9,-999.0000,9,-999.0000,9,-999.0000,9,-999.0000,9,-999.0000,9,  11.3341,  11.3797,2
  33RR20070322,  I09N,   159,  1,     25,     25,2,20070416,1051,  5.0245,  90.4733, 3277, 423.0000,    423.0,  11.0317,  35.0604,2,  35.0600,2,     46.3,2,     37.1,2,    32.98,2,    32.05,2,     0.00,2,     2.26,2,    0.630,2,    0.346,2, -999.000,5,   -999.0,9,   -999.0,9,-999.0000,9,  -999.00,     43.7,2,    35.70,2, -999.000,9, -999.000,-999.0000,9,-999.0000,  -999.00,9,  -999.00, -999.000,9, -999.000,    -46.2,2,      3.3,     0.14,2,-999.0000,9,-999.0000,9,-999.0000,9,-999.0000,9,-999.0000,9,-999.0000,9,-999.0000,9,-999.0000,9,-999.0000,9,  10.9789,  11.0355,2
  33RR20070322,  I09N,   159,  1,     24,     24,2,20070416,1051,  5.0245,  90.4733, 3277, 473.1000,    473.1,  10.6969,  35.0495,2,  35.0494,2,     37.4,2,     36.6,2,    34.94,2,    32.76,2,     0.00,2,     2.31,2,    0.498,2,    0.274,2, -999.000,5,   2252.5,2,   2319.5,2,   7.5041,2,    25.00,     42.9,2,    36.70,2, -999.000,9, -999.000,-999.0000,9,-999.0000,  -999.00,9,  -999.00, -999.000,9, -999.000,    -50.9,6,      2.1,     0.27,6,-999.0000,9,-999.0000,9,-999.0000,9,-999.0000,9,-999.0000,9,-999.0000,9,-999.0000,9,-999.0000,9,-999.0000,9,  10.6388,  10.6935,2
  33RR20070322,  I09N,   159,  1,     23,     23,2,20070416,1051,  5.0245,  90.4733, 3277, 523.4000,    523.4,  10.3151,  35.0505,2,  35.0508,2,     33.1,2,     22.3,2,    41.47,2,    34.52,2,     0.00,2,     2.49,2,    0.322,2,    0.176,2, -999.000,5,   -999.0,9,   -999.0,9,-999.0000,9,  -999.00,     42.7,2,    36.72,2, -999.000,9, -999.000,-999.0000,9,-999.0000,  -999.00,9,  -999.00, -999.000,9, -999.000,    -72.2,2,      3.0,     0.17,2,-999.0000,9,-999.0000,9,-999.0000,9,-999.0000,9,-999.0000,9,-999.0000,9,-999.0000,9,-999.0000,9,-999.0000,9,  10.2521,  10.3215,2
  33RR20070322,  I09N,   159,  1,     22,     22,2,20070416,1051,  5.0245,  90.4733, 3277, 643.9000,    643.9,   9.1951,  35.0247,2,  35.0224,2,     24.0,2,     22.2,2,    55.16,2,    36.33,2,     0.00,2,     2.67,2,    0.124,2,    0.065,2, -999.000,5,   2285.2,2,   2337.1,6,   7.4803,6,    25.00,     42.3,2,    39.11,2, -999.000,9, -999.000,-999.0000,9,-999.0000,  -999.00,9,  -999.00, -999.000,9, -999.000,   -116.3,2,      3.6,     0.13,2,-999.0000,9,-999.0000,9,-999.0000,9,-999.0000,9,-999.0000,9,-999.0000,9,-999.0000,9,-999.0000,9,-999.0000,9,   9.1224,   9.1882,2
  33RR20070322,  I09N,   159,  1,     21,     21,2,20070416,1051,  5.0245,  90.4733, 3277, 744.1000,    744.1,   8.5337,  35.0028,2,  35.0035,2,     27.3,2,     28.3,2,    61.92,2,    36.53,2,     0.00,2,     2.69,2,    0.075,2,    0.041,2, -999.000,5,   -999.0,9,   -999.0,9,-999.0000,9,  -999.00,     41.7,2,    38.75,2, -999.000,9, -999.000,-999.0000,9,-999.0000,  -999.00,9,  -999.00, -999.000,9, -999.000,   -120.0,2,      3.3,     0.14,2,-999.0000,9,-999.0000,9,-999.0000,9,-999.0000,9,-999.0000,9,-999.0000,9,-999.0000,9,-999.0000,9,-999.0000,9,   8.4528,   8.5264,2
  33RR20070322,  I09N,   159,  1,     20,     20,2,20070416,1051,  5.0245,  90.4733, 3277, 844.8000,    844.8,   7.8782,  34.9817,2,  34.9813,2,     37.5,2,     38.5,2,    68.67,2,    36.47,2,     0.00,2,     2.69,2,    0.065,2,    0.034,2, -999.000,5,   2295.7,2,   -999.0,5,   7.4705,2,    25.00,     41.6,2,    38.67,2, -999.000,9, -999.000,-999.0000,9,-999.0000,  -999.00,9,  -999.00, -999.000,9, -999.000,   -133.8,2,      2.8,     0.14,2,-999.0000,9,-999.0000,9,-999.0000,9,-999.0000,9,-999.0000,9,-999.0000,9,-999.0000,9,-999.0000,9,-999.0000,9,   7.7899,   7.8726,2
  33RR20070322,  I09N,   159,  1,     19,     19,2,20070416,1051,  5.0245,  90.4733, 3277, 944.1000,    944.1,   7.2177,  34.9593,2,  34.9589,2,     44.5,2,     44.5,2,    76.64,2,    36.84,2,     0.00,2,     2.72,2, -999.000,9, -999.000,9, -999.000,9,   -999.0,9,   -999.0,9,-999.0000,9,  -999.00,     41.5,2,    39.20,2, -999.000,9, -999.000,-999.0000,9,-999.0000,  -999.00,9,  -999.00, -999.000,9, -999.000,   -146.8,2,      2.9,     0.34,3,-999.0000,9,-999.0000,9,-999.0000,9,-999.0000,9,-999.0000,9,-999.0000,9,-999.0000,9,-999.0000,9,-999.0000,9,   7.1231,   7.2159,2
  33RR20070322,  I09N,   159,  1,     18,     18,2,20070416,1051,  5.0245,  90.4733, 3277,1044.3000,   1044.3,   6.7002,  34.9360,2,  34.9353,2,     52.8,2,     51.2,2,    82.43,2,    36.83,2,     0.00,2,     2.72,2,    0.035,2,    0.018,2, -999.000,5,   2306.6,6,   2364.5,2,   7.4726,2,    25.00,     41.1,2,  -999.00,9, -999.000,9, -999.000,-999.0000,9,-999.0000,  -999.00,9,  -999.00, -999.000,9, -999.000,   -999.0,9,   -999.0,  -999.00,9,-999.0000,9,-999.0000,9,-999.0000,9,-999.0000,9,-999.0000,9,-999.0000,9,-999.0000,9,-999.0000,9,-999.0000,9,   6.5989,   6.6998,2
  33RR20070322,  I09N,   159,  1,     17,     17,2,20070416,1051,  5.0245,  90.4733, 3277,1145.0000,   1145.0,   6.1523,  34.9133,2,  34.9136,2,     57.5,2,     56.4,2,    88.62,2,    36.98,2,     0.00,2,     2.74,2,    0.025,2,    0.012,2, -999.000,5,   2313.0,2,   2368.0,2,   7.4773,2,    25.00,     41.1,2,    38.96,2, -999.000,9, -999.000,-999.0000,9,-999.0000,  -999.00,9,  -999.00, -999.000,9, -999.000,   -154.6,2,      3.1,     0.13,2,-999.0000,9,-999.0000,9,-999.0000,9,-999.0000,9,-999.0000,9,-999.0000,9,-999.0000,9,-999.0000,9,-999.0000,9,   6.0451,   6.1519,2
  33RR20070322,  I09N,   159,  1,     16,     16,2,20070416,1051,  5.0245,  90.4733, 3277,1245.8000,   1245.8,   5.7105,  34.8957,2,  34.8953,2,     63.8,2,     63.5,2,    94.22,2,    36.98,2,     0.00,2,     2.73,2, -999.000,9, -999.000,9, -999.000,9,   -999.0,9,   -999.0,9,-999.0000,9,  -999.00,     40.6,2,    38.41,2, -999.000,9, -999.000,-999.0000,9,-999.0000,  -999.00,9,  -999.00, -999.000,9, -999.000,   -160.9,2,      2.6,     0.16,2,-999.0000,9,-999.0000,9,-999.0000,9,-999.0000,9,-999.0000,9,-999.0000,9,-999.0000,9,-999.0000,9,-999.0000,9,   5.5971,   5.7129,2
  33RR20070322,  I09N,   159,  1,     15,     15,2,20070416,1051,  5.0245,  90.4733, 3277,1346.7000,   1346.7,   5.3238,  34.8814,2,  34.8812,2,     68.4,2,     68.4,2,    98.62,2,    37.08,2,     0.00,2,     2.74,2,    0.015,2,    0.007,2, -999.000,5,   2318.7,2,   2379.0,2,   7.4889,2,    25.00,     40.7,2,    38.38,2, -999.000,9, -999.000,-999.0000,9,-999.0000,  -999.00,9,  -999.00, -999.000,9, -999.000,   -999.0,9,   -999.0,  -999.00,9,-999.0000,9,-999.0000,9,-999.0000,9,-999.0000,9,-999.0000,9,-999.0000,9,-999.0000,9,-999.0000,9,-999.0000,9,   5.2042,   5.3224,2
  33RR20070322,  I09N,   159,  1,     14,     14,2,20070416,1051,  5.0245,  90.4733, 3277,1446.7000,   1446.7,   4.8000,  34.8629,2,  34.8635,2,     75.7,2,     76.1,2,   104.04,2,    37.07,2,     0.00,2,     2.73,2, -999.000,9, -999.000,9, -999.000,9,   -999.0,9,   -999.0,9,-999.0000,9,  -999.00,     40.5,2,    38.09,2, -999.000,9, -999.000,-999.0000,9,-999.0000,  -999.00,9,  -999.00, -999.000,9, -999.000,   -178.3,2,      2.4,     0.13,2,-999.0000,9,-999.0000,9,-999.0000,9,-999.0000,9,-999.0000,9,-999.0000,9,-999.0000,9,-999.0000,9,-999.0000,9,   4.6762,   4.7996,2
  33RR20070322,  I09N,   159,  1,     13,     13,2,20070416,1051,  5.0245,  90.4733, 3277,1547.0000,   1547.0,   4.2601,  34.8439,2,  34.8440,2,     83.7,2,     85.4,2,   109.67,2,    36.92,2,     0.00,2,     2.71,2,    0.005,2,    0.002,2, -999.000,5,   2324.7,2,   2391.5,2,   7.4837,2,    25.00,     40.7,2,    38.38,2, -999.000,9, -999.000,-999.0000,9,-999.0000,  -999.00,9,  -999.00, -999.000,9, -999.000,   -999.0,9,   -999.0,  -999.00,9,-999.0000,9,-999.0000,9,-999.0000,9,-999.0000,9,-999.0000,9,-999.0000,9,-999.0000,9,-999.0000,9,-999.0000,9,   4.1329,   4.2636,2
  33RR20070322,  I09N,   159,  1,     12,     12,2,20070416,1051,  5.0245,  90.4733, 3277,1647.0000,   1647.0,   3.7521,  34.8235,2,  34.8231,2,     94.1,2,     95.4,2,   114.71,2,    36.65,2,     0.00,2,     2.69,2, -999.000,9, -999.000,9, -999.000,9,   -999.0,9,   -999.0,9,-999.0000,9,  -999.00,     40.8,2,    37.84,2, -999.000,9, -999.000,-999.0000,9,-999.0000,  -999.00,9,  -999.00, -999.000,9, -999.000,   -999.0,9,   -999.0,  -999.00,9,-999.0000,9,-999.0000,9,-999.0000,9,-999.0000,9,-999.0000,9,-999.0000,9,-999.0000,9,-999.0000,9,-999.0000,9,   3.6218,   3.7522,2
  33RR20070322,  I09N,   159,  1,     11,     11,2,20070416,1051,  5.0245,  90.4733, 3277,1748.1000,   1748.1,   3.3799,  34.8078,2,  34.8076,2,    101.3,2,    103.4,2,   119.14,2,    36.44,2,     0.00,2,     2.66,2,    0.005,2,    0.003,2, -999.000,5,   2326.1,2,   2400.0,2,   7.5116,2,    25.00,     40.7,2,    38.07,2, -999.000,9, -999.000,-999.0000,9,-999.0000,  -999.00,9,  -999.00, -999.000,9, -999.000,   -999.0,9,   -999.0,  -999.00,9,-999.0000,9,-999.0000,9,-999.0000,9,-999.0000,9,-999.0000,9,-999.0000,9,-999.0000,9,-999.0000,9,-999.0000,9,   3.2452,   3.3858,2
  33RR20070322,  I09N,   159,  1,     10,     10,2,20070416,1051,  5.0245,  90.4733, 3277,1849.2000,   1849.2,   3.0196,  34.7919,2,  34.7923,2,    109.6,2,    111.7,2,   123.18,2,    36.24,2,     0.00,2,     2.63,2, -999.000,9, -999.000,9, -999.000,9,   -999.0,9,   -999.0,9,-999.0000,9,  -999.00,     40.8,2,    37.76,2, -999.000,9, -999.000,-999.0000,9,-999.0000,  -999.00,9,  -999.00, -999.000,9, -999.000,   -999.0,9,   -999.0,  -999.00,9,-999.0000,9,-999.0000,9,-999.0000,9,-999.0000,9,-999.0000,9,-999.0000,9,-999.0000,9,-999.0000,9,-999.0000,9,   2.8808,   3.0186,2
  33RR20070322,  I09N,   159,  1,      9,      9,2,20070416,1051,  5.0245,  90.4733, 3277,1949.8000,   1949.8,   2.7160,  34.7781,2,  34.7777,2,    118.7,2,    120.3,2,   126.61,2,    35.82,2,     0.00,2,     2.59,2,    0.007,2,    0.005,2, -999.000,5,   2326.2,2,   2404.5,2,   7.5380,3,    25.00,     40.6,2,    37.46,2, -999.000,9, -999.000,-999.0000,9,-999.0000,  -999.00,9,  -999.00, -999.000,9, -999.000,   -999.0,9,   -999.0,  -999.00,9,-999.0000,9,-999.0000,9,-999.0000,9,-999.0000,9,-999.0000,9,-999.0000,9,-999.0000,9,-999.0000,9,-999.0000,9,   2.5727,   2.7173,2
  33RR20070322,  I09N,   159,  1,      8,      8,2,20070416,1051,  5.0245,  90.4733, 3277,2111.0000,   2111.0,   2.3855,  34.7633,2,  34.7636,2,    130.5,2,    129.4,2,   129.85,2,    35.50,2,     0.00,2,     2.55,2, -999.000,9, -999.000,9, -999.000,9,   -999.0,9,   -999.0,9,-999.0000,9,  -999.00,     40.2,2,    36.63,2, -999.000,9, -999.000,-999.0000,9,-999.0000,  -999.00,9,  -999.00, -999.000,9, -999.000,   -999.0,9,   -999.0,  -999.00,9,-999.0000,9,-999.0000,9,-999.0000,9,-999.0000,9,-999.0000,9,-999.0000,9,-999.0000,9,-999.0000,9,-999.0000,9,   2.2330,   2.3850,2
  33RR20070322,  I09N,   159,  1,      7,      7,2,20070416,1051,  5.0245,  90.4733, 3277,2362.9000,   2362.9,   2.1391,  34.7520,2,  34.7518,2,    140.3,2,    139.7,2,   130.64,2,    35.13,2,     0.00,2,     2.50,2,    0.006,2,    0.003,2, -999.000,5,   2320.7,2,   2408.9,2,   7.5687,2,    25.00,     40.6,2,    36.36,2, -999.000,9, -999.000,-999.0000,9,-999.0000,  -999.00,9,  -999.00, -999.000,9, -999.000,   -999.0,9,   -999.0,  -999.00,9,-999.0000,9,-999.0000,9,-999.0000,9,-999.0000,9,-999.0000,9,-999.0000,9,-999.0000,9,-999.0000,9,-999.0000,9,   1.9683,   2.1385,2
  33RR20070322,  I09N,   159,  1,      6,      6,2,20070416,1051,  5.0245,  90.4733, 3277,2615.6000,   2615.6,   1.9496,  34.7435,2,  34.7437,2,    146.5,2,    146.4,2,   132.25,2,    34.93,2,     0.00,2,     2.47,2, -999.000,9, -999.000,9, -999.000,9,   -999.0,9,   -999.0,9,-999.0000,9,  -999.00,     40.4,2,    36.76,2, -999.000,9, -999.000,-999.0000,9,-999.0000,  -999.00,9,  -999.00, -999.000,9, -999.000,   -999.0,9,   -999.0,  -999.00,9,-999.0000,9,-999.0000,9,-999.0000,9,-999.0000,9,-999.0000,9,-999.0000,9,-999.0000,9,-999.0000,9,-999.0000,9,   1.7592,   1.9489,2
  33RR20070322,  I09N,   159,  1,      5,      5,2,20070416,1051,  5.0245,  90.4733, 3277,2867.8000,   2867.8,   1.7615,  34.7359,2,  34.7360,2,    153.3,2,    153.3,2,   133.67,2,    34.62,2,     0.00,2,     2.45,2,    0.005,2,    0.004,2, -999.000,5,   2317.0,2,   2411.5,2,   7.5514,2,    25.00,     40.2,2,    36.46,2, -999.000,9, -999.000,-999.0000,9,-999.0000,  -999.00,9,  -999.00, -999.000,9, -999.000,   -999.0,9,   -999.0,  -999.00,9,-999.0000,9,-999.0000,9,-999.0000,9,-999.0000,9,-999.0000,9,-999.0000,9,-999.0000,9,-999.0000,9,-999.0000,9,   1.5513,   1.7610,2