BOTTLE,20150630SIOCCHRJL
EXPOCODE,SECT_ID,STNNBR,CASTNO,SAMPNO,BTLNBR,BTLNBR_FLAG_W,DATE,TIME,LATITUDE,LONGITUDE,DEPTH,CTDRAW,CTDPRS,CTDTMP,CTDSAL,CTDSAL_FLAG_W,SALNTY,SALNTY_FLAG_W,CTDOXY,CTDOXY_FLAG_W,OXYGEN,OXYGEN_FLAG_W,SILCAT,SILCAT_FLAG_W,NITRAT,NITRAT_FLAG_W,NITRIT,NITRIT_FLAG_W,PHSPHT,PHSPHT_FLAG_W,CFC-11,CFC-11_FLAG_W,CFC-12,CFC-12_FLAG_W,CFC113,CFC113_FLAG_W,TCARBN,TCARBN_FLAG_W,ALKALI,ALKALI_FLAG_W,PH_SWS,PH_SWS_FLAG_W,PH_TMP,DOC,DOC_FLAG_W,TDN,TDN_FLAG_W,TRITUM,TRITUM_FLAG_W,TRITER,HELIUM,HELIUM_FLAG_W,HELIER,DELHE3,DELHE3_FLAG_W,DELHER,NEON,NEON_FLAG_W,NEONER,DELC14,DELC14_FLAG_W,C14ERR,DELC13,DELC13_FLAG_W,CDOM325,CDOM325_FLAG_W,CDOM340,CDOM340_FLAG_W,CDOM380,CDOM380_FLAG_W,CDOM412,CDOM412_FLAG_W,CDOM443,CDOM443_FLAG_W,CDOM490,CDOM490_FLAG_W,CDOM555,CDOM555_FLAG_W,CDOMSL,CDOMSL_FLAG_W,CDOMSN,CDOMSN_FLAG_W,THETA,SBE35,SBE35_FLAG_W
,,,,,,,,,,,METERS,,DBAR,ITS-90,PSS-78,,PSS-78,,UMOL/KG,,UMOL/KG,,UMOL/KG,,UMOL/KG,,UMOL/KG,,UMOL/KG,,PMOL/KG,,PMOL/KG,,PMOL/KG,,UMOL/KG,,UMOL/KG,,,,DEG C,UMOL/KG,,UMOL/KG,,TU,,TU,NMOL/KG,,NMOL/KG,PERCNT,,PERCNT,NMOL/KG,,NMOL/KG,/MILLE,,/MILLE,/MILLE,,1/M,,1/M,,1/M,,1/M,,1/M,,1/M,,1/M,,1/NM,,1/NM,,DEG C,ITS-90,
  33RR20070322,  I09N,   115,  1,     36,     38,2,20070403,2244,-13.5672,  94.9995, 5352,   4.4000,      4.4,  27.4107,  34.7513,2,  34.7506,2,    199.9,2,    200.5,2,     1.84,2,     0.02,2,     0.00,2,     0.07,2,    1.608,2,    1.004,2, -999.000,5,   1952.8,6,   2281.6,6,   8.0771,6,    25.00,     71.2,2,     4.23,2, -999.000,9, -999.000,-999.0000,9,-999.0000,  -999.00,9,  -999.00, -999.000,9, -999.000,   -999.0,9,   -999.0,  -999.00,9,   0.0625,2,   0.0409,2,   0.0188,2,   0.0140,2,  -0.0025,4,  -0.0034,4,  -0.0032,4,   0.0152,3,   0.0195,3,  27.4097,  27.4082,2
  33RR20070322,  I09N,   115,  1,     35,     35,2,20070403,2244,-13.5672,  94.9995, 5352,  46.0000,     46.0,  25.4631,  34.7632,2,  34.7628,2,    207.3,2,    208.7,2,     3.01,2,     0.03,2,     0.00,2,     0.12,2,    1.705,2,    1.060,2, -999.000,5,   1977.4,2,   2284.4,2,   8.0457,2,    25.00,     70.3,2,     4.23,2, -999.000,9, -999.000,-999.0000,9,-999.0000,  -999.00,9,  -999.00, -999.000,9, -999.000,   -999.0,9,   -999.0,  -999.00,9,   0.1493,2,   0.1056,2,   0.0530,2,   0.0375,2,   0.0105,2,   0.0027,2,  -0.0002,4,   0.0148,3,   0.0166,3,  25.4530,  25.5117,2
  33RR20070322,  I09N,   115,  1,     34,   9419,2,20070403,2244,-13.5672,  94.9995, 5352,  92.0000,     92.0,  22.7959,  35.0921,2,  35.0942,2,    192.8,2,    188.2,2,     4.57,2,     1.94,2,     0.24,2,     0.26,2,    1.886,2,    1.175,2, -999.000,5,   2019.8,2,   2302.2,2,   8.0032,2,    25.00,     65.3,2,     6.48,2, -999.000,9, -999.000,-999.0000,9,-999.0000,  -999.00,9,  -999.00, -999.000,9, -999.000,   -999.0,9,   -999.0,  -999.00,9,   0.1374,2,   0.0995,2,   0.0520,2,   0.0393,2,   0.0108,2,   0.0022,2,  -0.0001,4,   0.0144,2,   0.0153,3,  22.7772,  22.7753,2
  33RR20070322,  I09N,   115,  1,     33,     33,2,20070403,2244,-13.5672,  94.9995, 5352, 141.8000,    141.8,  19.2035,  35.0297,2,  35.0371,2,    135.3,2,    135.1,2,    13.04,2,    11.45,2,     0.02,2,     0.83,2,    1.808,2,    1.091,2, -999.000,5,   2092.4,2,   2302.7,2,   7.8563,2,    25.00,     56.4,2,    15.21,2, -999.000,9, -999.000,-999.0000,9,-999.0000,  -999.00,9,  -999.00, -999.000,9, -999.000,   -999.0,9,   -999.0,  -999.00,9,   0.1329,2,   0.0964,2,   0.0523,2,   0.0405,2,   0.0116,2,   0.0019,3,  -0.0007,4,   0.0142,2,   0.0147,3,  19.1780,  19.2233,2
  33RR20070322,  I09N,   115,  1,     32,     37,2,20070403,2244,-13.5672,  94.9995, 5352, 166.3000,    166.3,  17.8562,  35.0894,2,  35.0926,2,    133.6,2,    136.2,2,    15.99,2,    12.54,2,     0.01,2,     0.92,2,    1.811,2,    1.079,2, -999.000,5,   2107.8,2,   2308.8,2,   7.8290,2,    25.00,     51.1,2,    15.66,2, -999.000,9, -999.000,-999.0000,9,-999.0000,  -999.00,9,  -999.00, -999.000,9, -999.000,   -999.0,9,   -999.0,  -999.00,9,   0.1304,2,   0.0954,2,   0.0525,2,   0.0403,2,   0.0125,2,   0.0028,2,  -0.0002,4,   0.0137,2,   0.0142,2,  17.8278,  17.8704,2
  33RR20070322,  I09N,   115,  1,     31,     31,2,20070403,2244,-13.5672,  94.9995, 5352, 190.8000,    190.8,  16.3090,  35.0739,2,  35.0783,2,    130.1,2,    132.3,2,    20.91,2,    14.67,2,     0.01,2,     1.07,2,    1.773,2,    1.033,2, -999.000,5,   2127.5,2,   2159.0,3,   7.8203,2,    25.00,     50.5,2,    18.61,2, -999.000,9, -999.000,-999.0000,9,-999.0000,  -999.00,9,  -999.00, -999.000,9, -999.000,   -999.0,9,   -999.0,  -999.00,9,   0.1247,2,   0.0904,2,   0.0495,2,   0.0376,2,   0.0107,2,   0.0016,3,  -0.0010,4,   0.0140,2,   0.0146,2,  16.2784,  16.3178,2
  33RR20070322,  I09N,   115,  1,     30,     30,2,20070403,2244,-13.5672,  94.9995, 5352, 241.7000,    241.7,  13.4735,  35.0055,2,  34.9937,2,    122.9,2,    131.9,2,    28.39,2,    18.25,2,     0.01,2,     1.33,2,    1.743,2,    0.993,2, -999.000,5,   2157.5,2,   2314.4,2,   7.7272,2,    25.00,     49.4,2,    22.26,2, -999.000,9, -999.000,-999.0000,9,-999.0000,  -999.00,9,  -999.00, -999.000,9, -999.000,   -999.0,9,   -999.0,  -999.00,9,   0.1301,2,   0.0942,2,   0.0534,2,   0.0409,2,   0.0134,2,   0.0026,3,  -0.0007,4,   0.0137,2,   0.0140,2,  13.4394,  13.4687,2
  33RR20070322,  I09N,   115,  1,     29,     29,2,20070403,2244,-13.5672,  94.9995, 5352, 292.1000,    292.1,  12.0686,  34.9943,2,  34.9929,2,    147.3,2,    152.4,2,    27.59,2,    17.78,2,     0.01,2,     1.30,2,    2.092,2,    1.152,2, -999.000,5,   2158.3,2,   2314.0,2,   7.7296,2,    25.00,     48.8,2,    21.29,2, -999.000,9, -999.000,-999.0000,9,-999.0000,  -999.00,9,  -999.00, -999.000,9, -999.000,   -999.0,9,   -999.0,  -999.00,9,   0.1139,2,   0.0814,2,   0.0456,2,   0.0346,2,   0.0097,2,   0.0006,3,  -0.0018,4,   0.0135,2,   0.0143,2,  12.0302,  12.0675,2
  33RR20070322,  I09N,   115,  1,     28,     28,2,20070403,2244,-13.5672,  94.9995, 5352, 331.1000,    331.1,  11.1714,  34.9366,2,  34.9385,2,    159.0,2,    177.9,2,    23.64,2,    17.00,2,     0.01,2,     1.23,2,    2.537,2,    1.367,2, -999.000,5,   2148.9,2,   2309.9,2,   7.7330,3,    25.00,     47.5,2,    20.49,2, -999.000,9, -999.000,-999.0000,9,-999.0000,  -999.00,9,  -999.00, -999.000,9, -999.000,   -999.0,9,   -999.0,  -999.00,9,   0.1039,2,   0.0740,2,   0.0415,2,   0.0317,2,   0.0082,2,   0.0003,4,  -0.0018,4,   0.0131,2,   0.0142,2,  11.1299,  11.1643,2
  33RR20070322,  I09N,   115,  1,     27,     27,2,20070403,2244,-13.5672,  94.9995, 5352, 392.3000,    392.3,   9.7718,  34.7754,2,  34.7766,2,    181.2,2,    176.5,2,    25.60,2,    20.43,2,     0.01,2,     1.46,2,    2.444,2,    1.285,2, -999.000,5,   2159.3,2,   2303.5,2,   7.6978,2,    25.00,     47.0,2,    23.87,2, -999.000,9, -999.000,-999.0000,9,-999.0000,  -999.00,9,  -999.00, -999.000,9, -999.000,   -999.0,9,   -999.0,  -999.00,9,   0.1061,2,   0.0753,2,   0.0427,2,   0.0328,2,   0.0094,2,   0.0012,3,  -0.0014,4,   0.0130,2,   0.0139,3,   9.7266,   9.7674,2
  33RR20070322,  I09N,   115,  1,     26,     26,2,20070403,2244,-13.5672,  94.9995, 5352, 440.5000,    440.5,   9.0355,  34.6968,2,  34.7004,2,    170.5,2,    175.9,2,    25.39,2,    22.36,2,     0.00,2,     1.57,2,    2.269,2,    1.182,2, -999.000,5,   2165.3,2,   2301.2,2,   7.6813,2,    25.00,     46.3,2,    25.44,2, -999.000,9, -999.000,-999.0000,9,-999.0000,  -999.00,9,  -999.00, -999.000,9, -999.000,   -999.0,9,   -999.0,  -999.00,9,   0.1015,2,   0.0706,2,   0.0399,2,   0.0304,2,   0.0078,2,  -0.0001,4,  -0.0021,4,   0.0131,2,   0.0143,3,   8.9870,   9.0413,2
  33RR20070322,  I09N,   115,  1,     25,     25,2,20070403,2244,-13.5672,  94.9995, 5352, 491.1000,    491.1,   8.4791,  34.6608,2,  34.6629,2,    155.8,2,    142.6,2,    34.46,2,    26.78,2,     0.00,2,     1.89,2,    1.376,2,    0.720,2, -999.000,5,   2193.1,2,   2306.5,2,   7.6097,2,    25.00,     45.5,2,    30.65,2, -999.000,9, -999.000,-999.0000,9,-999.0000,  -999.00,9,  -999.00, -999.000,9, -999.000,   -999.0,9,   -999.0,  -999.00,9,   0.1216,2,   0.0864,2,   0.0505,2,   0.0388,2,   0.0134,2,   0.0025,3,  -0.0009,4,   0.0131,3,   0.0136,3,   8.4270,   8.4790,2
  33RR20070322,  I09N,   115,  1,     24,     24,2,20070403,2244,-13.5672,  94.9995, 5352, 576.6000,    576.6,   7.6574,  34.6676,2,  34.6670,2,    101.9,2,     96.1,2,    55.57,2,    32.59,2,     0.00,2,     2.33,2,    0.359,2,    0.197,2, -999.000,5,   2241.9,2,   2323.8,2,   7.5342,2,    25.00,     45.0,2,    34.83,2, -999.000,9, -999.000,-999.0000,9,-999.0000,  -999.00,9,  -999.00, -999.000,9, -999.000,   -999.0,9,   -999.0,  -999.00,9,   0.1498,2,   0.1082,2,   0.0638,2,   0.0486,2,   0.0198,2,   0.0048,2,  -0.0001,4,   0.0136,3,   0.0135,3,   7.5994,   7.6640,2
  33RR20070322,  I09N,   115,  1,     23,     23,2,20070403,2244,-13.5672,  94.9995, 5352, 676.5000,    676.5,   6.9380,  34.6590,2,  34.6587,2,     88.0,2,     85.0,2,    69.82,2,    34.69,2,     0.00,2,     2.50,2,    0.161,2,    0.092,2, -999.000,5,   2265.1,2,   2338.3,2,   7.5303,2,    25.00,     44.3,2,    37.26,2, -999.000,9, -999.000,-999.0000,9,-999.0000,  -999.00,9,  -999.00, -999.000,9, -999.000,   -999.0,9,   -999.0,  -999.00,9,   0.1587,2,   0.1149,2,   0.0680,2,   0.0517,2,   0.0219,2,   0.0060,2,   0.0004,3,   0.0136,3,   0.0134,3,   6.8731,   6.9368,2
  33RR20070322,  I09N,   115,  1,     22,     22,2,20070403,2244,-13.5672,  94.9995, 5352, 777.8000,    777.8,   6.4856,  34.6758,2,  34.6745,2,     83.3,2,     83.0,2,    76.54,2,    35.43,2,     0.00,2,     2.57,2,    0.099,2,    0.059,2, -999.000,5,   2275.7,2,   2344.2,6,   7.5008,6,    25.00,     43.6,2,    38.13,2, -999.000,9, -999.000,-999.0000,9,-999.0000,  -999.00,9,  -999.00, -999.000,9, -999.000,   -999.0,9,   -999.0,  -999.00,9,   0.1628,2,   0.1184,2,   0.0700,2,   0.0530,2,   0.0225,2,   0.0060,2,   0.0003,4,   0.0138,3,   0.0135,3,   6.4131,   6.4845,2
  33RR20070322,  I09N,   115,  1,     21,     21,2,20070403,2244,-13.5672,  94.9995, 5352, 877.0000,    877.0,   5.8847,  34.6580,2,  34.6572,2,     83.3,2,     83.3,2,    87.27,2,    36.16,2,     0.00,2,     2.63,2,    0.066,2,    0.040,2, -999.000,5,   2287.4,6,   2354.7,2,   7.5100,3,    25.00,     42.9,2,    38.42,2, -999.000,9, -999.000,-999.0000,9,-999.0000,  -999.00,9,  -999.00, -999.000,9, -999.000,   -999.0,9,   -999.0,  -999.00,9,   0.1644,2,   0.1191,2,   0.0704,2,   0.0530,2,   0.0226,2,   0.0060,2,   0.0002,4,   0.0139,3,   0.0136,3,   5.8063,   5.8874,2
  33RR20070322,  I09N,   115,  1,     20,     20,2,20070403,2244,-13.5672,  94.9995, 5352, 976.5000,    976.5,   5.2508,  34.6378,2,  34.6357,2,     86.6,2,     87.3,2,    97.42,2,    36.48,2,     0.00,2,     2.66,2,    0.052,2,    0.031,2, -999.000,5,   2299.2,2,   2365.0,2,   7.4901,2,    25.00,     42.1,2,    38.55,2, -999.000,9, -999.000,-999.0000,9,-999.0000,  -999.00,9,  -999.00, -999.000,9, -999.000,   -999.0,9,   -999.0,  -999.00,9,   0.1720,2,   0.1255,2,   0.0742,2,   0.0558,2,   0.0245,2,   0.0071,2,   0.0008,2,   0.0138,3,   0.0135,3,   5.1675,   5.2483,2
  33RR20070322,  I09N,   115,  1,     19,     19,2,20070403,2244,-13.5672,  94.9995, 5352,1078.8000,   1078.8,   4.9293,  34.6338,2,  34.6365,2,     89.9,2,     90.3,2,   101.39,2,    36.53,2,     0.00,2,     2.66,2,    0.044,2,    0.025,2, -999.000,5,   2303.2,2,   2370.8,2,   7.5044,2,    25.00,     41.9,2,    38.31,2, -999.000,9, -999.000,-999.0000,9,-999.0000,  -999.00,9,  -999.00, -999.000,9, -999.000,   -999.0,9,   -999.0,  -999.00,9,   0.1660,2,   0.1203,2,   0.0706,2,   0.0524,2,   0.0222,2,   0.0061,2,   0.0003,4,   0.0139,3,   0.0138,3,   4.8391,   4.9291,2
  33RR20070322,  I09N,   115,  1,     18,     18,2,20070403,2244,-13.5672,  94.9995, 5352,1178.0000,   1178.0,   4.5937,  34.6373,2,  34.6365,2,     93.4,2,     93.6,2,   105.58,2,    36.63,2,     0.00,2,     2.68,2,    0.035,2,    0.020,2, -999.000,5,   2306.8,2,   2376.8,2,   7.5026,2,    25.00,     41.3,2,    38.40,2, -999.000,9, -999.000,-999.0000,9,-999.0000,  -999.00,9,  -999.00, -999.000,9, -999.000,   -999.0,9,   -999.0,  -999.00,9,   0.1697,2,   0.1237,2,   0.0728,2,   0.0541,2,   0.0232,2,   0.0063,2,   0.0004,4,   0.0140,3,   0.0137,3,   4.4974,   4.5936,2
  33RR20070322,  I09N,   115,  1,     17,     17,2,20070403,2244,-13.5672,  94.9995, 5352,1278.8000,   1278.8,   4.3536,  34.6522,2,  34.6512,2,     96.4,2,     96.5,2,   108.16,2,    36.68,2,     0.00,2,     2.67,2,    0.024,2,    0.014,2, -999.000,5,   2308.5,2,   2379.1,2,-999.0000,5,    25.00,     41.2,2,    38.06,2, -999.000,9, -999.000,-999.0000,9,-999.0000,  -999.00,9,  -999.00, -999.000,9, -999.000,   -999.0,9,   -999.0,  -999.00,9,   0.1688,2,   0.1227,2,   0.0725,2,   0.0538,2,   0.0232,2,   0.0064,2,   0.0005,4,   0.0139,3,   0.0136,3,   4.2504,   4.3531,2
  33RR20070322,  I09N,   115,  1,     16,     16,2,20070403,2244,-13.5672,  94.9995, 5352,1378.7000,   1378.7,   4.0605,  34.6688,2,  34.6682,2,    100.5,2,    101.3,2,   110.14,2,    36.68,2,     0.00,2,     2.67,2, -999.000,9, -999.000,9, -999.000,9,   2310.9,2,   2381.8,2,   7.5202,2,    25.00,     41.1,2,    38.23,2, -999.000,9, -999.000,-999.0000,9,-999.0000,  -999.00,9,  -999.00, -999.000,9, -999.000,   -999.0,9,   -999.0,  -999.00,9,   0.1724,2,   0.1257,2,   0.0750,2,   0.0562,2,   0.0249,2,   0.0076,2,   0.0011,2,   0.0138,3,   0.0134,3,   3.9513,   4.0610,2
  33RR20070322,  I09N,   115,  1,     15,     15,2,20070403,2244,-13.5672,  94.9995, 5352,1479.9000,   1479.9,   3.8314,  34.6970,2,  34.6957,2,    104.6,2,    105.0,2,   111.52,2,    36.46,2,     0.00,2,     2.66,2,    0.013,2,    0.006,2, -999.000,5,   2310.8,2,   2384.3,2,   7.6450,4,    25.00,     41.2,2,    37.76,2, -999.000,9, -999.000,-999.0000,9,-999.0000,  -999.00,9,  -999.00, -999.000,9, -999.000,   -999.0,9,   -999.0,  -999.00,9,   0.1688,2,   0.1227,2,   0.0720,2,   0.0531,2,   0.0227,2,   0.0063,2,   0.0004,4,   0.0140,3,   0.0138,3,   3.7156,   3.8313,2
  33RR20070322,  I09N,   115,  1,     14,     14,2,20070403,2244,-13.5672,  94.9995, 5352,1580.2000,   1580.2,   3.4584,  34.7154,2,  34.7146,2,    112.4,2,    114.4,2,   112.91,2,    36.14,2,     0.00,2,     2.63,2, -999.000,9, -999.000,9, -999.000,9,   2310.1,2,   2387.3,2,   7.5225,2,    25.00,     41.2,2,    37.71,2, -999.000,9, -999.000,-999.0000,9,-999.0000,  -999.00,9,  -999.00, -999.000,9, -999.000,   -999.0,9,   -999.0,  -999.00,9,   0.1682,2,   0.1224,2,   0.0723,2,   0.0538,2,   0.0233,2,   0.0067,2,   0.0007,2,   0.0138,3,   0.0136,3,   3.3379,   3.4636,2
  33RR20070322,  I09N,   115,  1,     13,     13,2,20070403,2244,-13.5672,  94.9995, 5352,1781.9000,   1781.9,   2.8874,  34.7215,2,  34.7213,2,    128.5,2,    130.1,2,   115.69,2,    35.61,2,     0.00,2,     2.56,2,    0.007,2,    0.003,2, -999.000,5,   2305.4,2,   2390.9,2,   7.5290,3,    25.00,     41.2,2,    37.09,2, -999.000,9, -999.000,-999.0000,9,-999.0000,  -999.00,9,  -999.00, -999.000,9, -999.000,   -999.0,9,   -999.0,  -999.00,9,   0.1586,2,   0.1144,2,   0.0665,2,   0.0493,2,   0.0201,2,   0.0051,2,   0.0000,4,   0.0139,3,   0.0139,3,   2.7565,   2.8869,2
  33RR20070322,  I09N,   115,  1,     12,     12,2,20070403,2244,-13.5672,  94.9995, 5352,1983.5000,   1983.5,   2.5600,  34.7324,2,  34.7323,2,    138.9,2,    140.0,2,   118.68,2,    35.03,2,     0.00,2,     2.51,2, -999.000,9, -999.000,9, -999.000,9,   2304.4,2,   2394.4,2,   7.5577,4,    25.00,     41.0,2,    36.25,2, -999.000,9, -999.000,-999.0000,9,-999.0000,  -999.00,9,  -999.00, -999.000,9, -999.000,   -999.0,9,   -999.0,  -999.00,9,   0.1535,2,   0.1102,2,   0.0639,2,   0.0468,2,   0.0186,2,   0.0045,2,  -0.0003,4,   0.0138,3,   0.0140,3,   2.4162,   2.5595,2
  33RR20070322,  I09N,   115,  1,     11,     11,2,20070403,2244,-13.5672,  94.9995, 5352,2185.4000,   2185.4,   2.2876,  34.7327,2,  34.7325,2,    147.8,2,    148.1,2,   121.27,2,    34.71,2,     0.00,2,     2.47,2,    0.007,2,    0.002,2, -999.000,5,   2302.2,2,   2394.8,2,   7.5602,2,    25.00,     40.9,2,    36.24,2, -999.000,9, -999.000,-999.0000,9,-999.0000,  -999.00,9,  -999.00, -999.000,9, -999.000,   -999.0,9,   -999.0,  -999.00,9,   0.1508,2,   0.1083,2,   0.0625,2,   0.0458,2,   0.0180,2,   0.0043,2,  -0.0005,4,   0.0139,3,   0.0141,3,   2.1302,   2.2875,2
  33RR20070322,  I09N,   115,  1,     10,     10,2,20070403,2244,-13.5672,  94.9995, 5352,2438.4000,   2438.4,   1.9938,  34.7311,2,  34.7311,2,    157.4,2,    157.4,2,   124.07,2,    34.29,2,     0.00,2,     2.43,2, -999.000,9, -999.000,9, -999.000,9,   2301.0,2,   2394.4,2,   7.5709,2,    25.00,     40.9,2,    36.19,2, -999.000,9, -999.000,-999.0000,9,-999.0000,  -999.00,9,  -999.00, -999.000,9, -999.000,   -999.0,9,   -999.0,  -999.00,9,   0.1513,2,   0.1088,2,   0.0622,2,   0.0456,2,   0.0176,2,   0.0045,2,  -0.0001,4,   0.0139,2,   0.0142,3,   1.8189,   1.9939,2
  33RR20070322,  I09N,   115,  1,      9,      9,2,20070403,2244,-13.5672,  94.9995, 5352,2690.1000,   2690.1,   1.7695,  34.7286,2,  34.7286,2,    165.2,2,    165.3,2,   126.07,2,    34.03,2,     0.00,2,     2.41,2,    0.006,2,    0.002,2, -999.000,5,   2298.8,2,   2396.8,2,   7.5816,2,    25.00,     40.9,2,    35.76,2, -999.000,9, -999.000,-999.0000,9,-999.0000,  -999.00,9,  -999.00, -999.000,9, -999.000,   -999.0,9,   -999.0,  -999.00,9,   0.1447,2,   0.1033,2,   0.0590,2,   0.0432,2,   0.0162,2,   0.0038,2,  -0.0005,4,   0.0138,2,   0.0143,3,   1.5758,   1.7702,2
  33RR20070322,  I09N,   115,  1,      8,      8,2,20070403,2244,-13.5672,  94.9995, 5352,2943.3000,   2943.3,   1.5907,  34.7257,2,  34.7253,2,    171.0,2,    170.9,2,   128.26,2,    33.86,2,     0.00,2,     2.38,2, -999.000,9, -999.000,9, -999.000,9,   2298.3,2,   2398.8,2,   7.6033,2,    25.00,     41.4,2,    35.65,2, -999.000,9, -999.000,-999.0000,9,-999.0000,  -999.00,9,  -999.00, -999.000,9, -999.000,   -999.0,9,   -999.0,  -999.00,9,   0.1423,2,   0.1016,2,   0.0583,2,   0.0423,2,   0.0159,2,   0.0038,2,  -0.0005,4,   0.0137,2,   0.0142,3,   1.3770,   1.5904,2
  33RR20070322,  I09N,   115,  1,      7,      7,2,20070403,2244,-13.5672,  94.9995, 5352,3279.2000,   3279.2,   1.4249,  34.7220,2,  34.7211,2,    177.1,2,    177.1,2,   129.24,2,    33.66,2,     0.00,2,     2.36,2,    0.004,2,    0.001,2, -999.000,5,   2296.2,2,   2399.9,2,   7.5990,2,    25.00,     41.3,2,    34.67,2, -999.000,9, -999.000,-999.0000,9,-999.0000,  -999.00,9,  -999.00, -999.000,9, -999.000,   -999.0,9,   -999.0,  -999.00,9,   0.1393,2,   0.0990,2,   0.0564,2,   0.0410,2,   0.0148,2,   0.0034,2,  -0.0007,4,   0.0138,2,   0.0144,3,   1.1825,   1.4252,2
  33RR20070322,  I09N,   115,  1,      6,      6,2,20070403,2244,-13.5672,  94.9995, 5352,3686.0000,   3686.0,   1.2944,  34.7187,2,  34.7184,2,    184.6,2,    184.4,2,   129.43,2,    33.24,2,     0.00,2,     2.33,2, -999.000,9, -999.000,9, -999.000,9,   2291.5,2,   2399.6,2,   7.6036,2,    25.00,     41.2,2,    34.37,2, -999.000,9, -999.000,-999.0000,9,-999.0000,  -999.00,9,  -999.00, -999.000,9, -999.000,   -999.0,9,   -999.0,  -999.00,9,   0.1386,2,   0.0987,2,   0.0563,2,   0.0407,2,   0.0151,2,   0.0041,2,  -0.0001,4,   0.0135,2,   0.0143,3,   1.0142,   1.2940,2
  33RR20070322,  I09N,   115,  1,      5,      5,2,20070403,2244,-13.5672,  94.9995, 5352,4090.8000,   4090.8,   1.2030,  34.7165,2,  34.7156,2,    191.2,2,    191.1,2,   128.20,2,    32.97,2,     0.00,2,     2.30,2,    0.007,2,    0.003,2, -999.000,5,   2286.6,2,   2396.7,2,   7.5940,3,    25.00,     41.1,2,    34.96,2, -999.000,9, -999.000,-999.0000,9,-999.0000,  -999.00,9,  -999.00, -999.000,9, -999.000,   -999.0,9,   -999.0,  -999.00,9,   0.1298,2,   0.0910,2,   0.0510,2,   0.0364,2,   0.0120,2,   0.0022,3,  -0.0011,4,   0.0138,2,   0.0149,3,   0.8824,   1.2031,2