BOTTLE,20150630SIOCCHRJL
EXPOCODE,SECT_ID,STNNBR,CASTNO,SAMPNO,BTLNBR,BTLNBR_FLAG_W,DATE,TIME,LATITUDE,LONGITUDE,DEPTH,CTDRAW,CTDPRS,CTDTMP,CTDSAL,CTDSAL_FLAG_W,SALNTY,SALNTY_FLAG_W,CTDOXY,CTDOXY_FLAG_W,OXYGEN,OXYGEN_FLAG_W,SILCAT,SILCAT_FLAG_W,NITRAT,NITRAT_FLAG_W,NITRIT,NITRIT_FLAG_W,PHSPHT,PHSPHT_FLAG_W,CFC-11,CFC-11_FLAG_W,CFC-12,CFC-12_FLAG_W,CFC113,CFC113_FLAG_W,TCARBN,TCARBN_FLAG_W,ALKALI,ALKALI_FLAG_W,PH_SWS,PH_SWS_FLAG_W,PH_TMP,DOC,DOC_FLAG_W,TDN,TDN_FLAG_W,TRITUM,TRITUM_FLAG_W,TRITER,HELIUM,HELIUM_FLAG_W,HELIER,DELHE3,DELHE3_FLAG_W,DELHER,NEON,NEON_FLAG_W,NEONER,DELC14,DELC14_FLAG_W,C14ERR,DELC13,DELC13_FLAG_W,CDOM325,CDOM325_FLAG_W,CDOM340,CDOM340_FLAG_W,CDOM380,CDOM380_FLAG_W,CDOM412,CDOM412_FLAG_W,CDOM443,CDOM443_FLAG_W,CDOM490,CDOM490_FLAG_W,CDOM555,CDOM555_FLAG_W,CDOMSL,CDOMSL_FLAG_W,CDOMSN,CDOMSN_FLAG_W,THETA,SBE35,SBE35_FLAG_W
,,,,,,,,,,,METERS,,DBAR,ITS-90,PSS-78,,PSS-78,,UMOL/KG,,UMOL/KG,,UMOL/KG,,UMOL/KG,,UMOL/KG,,UMOL/KG,,PMOL/KG,,PMOL/KG,,PMOL/KG,,UMOL/KG,,UMOL/KG,,,,DEG C,UMOL/KG,,UMOL/KG,,TU,,TU,NMOL/KG,,NMOL/KG,PERCNT,,PERCNT,NMOL/KG,,NMOL/KG,/MILLE,,/MILLE,/MILLE,,1/M,,1/M,,1/M,,1/M,,1/M,,1/M,,1/M,,1/NM,,1/NM,,DEG C,ITS-90,
  33RR20070322,  I09N,   192,  1,     36,     38,2,20070425,1204, 14.5455,  89.5860, 2780,   2.0000,      2.0,  29.4737,  32.6380,2,  32.6445,2,    202.6,2,    202.1,2,     1.92,2,     0.00,2,     0.00,2,     0.02,2,    1.586,2,    1.013,2, -999.000,5,   1888.7,6,   2198.4,6,   8.0925,6,    25.00,     73.8,2,     5.21,2, -999.000,9, -999.000,-999.0000,9,-999.0000,  -999.00,9,  -999.00, -999.000,9, -999.000,   -999.0,9,   -999.0,  -999.00,9,-999.0000,9,-999.0000,9,-999.0000,9,-999.0000,9,-999.0000,9,-999.0000,9,-999.0000,9,-999.0000,9,-999.0000,9,  29.4732,  29.4764,2
  33RR20070322,  I09N,   192,  1,     35,     35,2,20070425,1204, 14.5455,  89.5860, 2780,  27.8000,     27.8,  27.9512,  33.1058,2,  33.0453,2,    209.9,2,    211.2,2,     1.72,2,     0.00,2,     0.00,2,     0.02,2,    1.662,2,    1.054,2, -999.000,5,   1896.2,2,   2204.1,2,   8.1065,2,    25.00,     70.4,2,     4.96,2, -999.000,9, -999.000,-999.0000,9,-999.0000,  -999.00,9,  -999.00, -999.000,9, -999.000,   -999.0,9,   -999.0,  -999.00,9,-999.0000,9,-999.0000,9,-999.0000,9,-999.0000,9,-999.0000,9,-999.0000,9,-999.0000,9,-999.0000,9,-999.0000,9,  27.9447,  27.9675,2
  33RR20070322,  I09N,   192,  1,     34,   9419,2,20070425,1204, 14.5455,  89.5860, 2780,  52.4000,     52.4,  27.9275,  34.0976,2,  34.0396,2,    201.5,2,    192.1,2,     1.73,2,     0.00,2,     0.00,2,     0.09,2,    1.560,2,    0.997,2, -999.000,5,   1936.9,2,   2245.4,2,   8.0896,2,    25.00,     67.6,2,     4.74,2, -999.000,9, -999.000,-999.0000,9,-999.0000,  -999.00,9,  -999.00, -999.000,9, -999.000,     21.2,2,      3.0,     1.01,2,-999.0000,9,-999.0000,9,-999.0000,9,-999.0000,9,-999.0000,9,-999.0000,9,-999.0000,9,-999.0000,9,-999.0000,9,  27.9152,  27.9358,2
  33RR20070322,  I09N,   192,  1,     33,     33,2,20070425,1204, 14.5455,  89.5860, 2780,  77.3000,     77.3,  25.2876,  34.6409,2,  34.6476,2,    101.7,2,     52.6,2,     8.53,2,    15.62,2,     0.50,2,     1.20,2,    1.333,2,    0.838,2, -999.000,5,   2094.5,2,   2267.1,2,   7.8127,2,    25.00,     62.3,2,    20.60,2, -999.000,9, -999.000,-999.0000,9,-999.0000,  -999.00,9,  -999.00, -999.000,9, -999.000,   -999.0,9,   -999.0,  -999.00,9,-999.0000,9,-999.0000,9,-999.0000,9,-999.0000,9,-999.0000,9,-999.0000,9,-999.0000,9,-999.0000,9,-999.0000,9,  25.2707,  25.2652,2
  33RR20070322,  I09N,   192,  1,     32,     37,2,20070425,1204, 14.5455,  89.5860, 2780, 102.4000,    102.4,  21.2594,  34.8971,2,  34.9004,2,     27.2,2,     16.6,2,    16.51,2,    23.74,2,     0.03,2,     1.77,2,    1.173,2,    0.716,2, -999.000,5,   2159.4,2,   2284.3,2,   7.6655,2,    25.00,     54.1,2,    28.45,2, -999.000,9, -999.000,-999.0000,9,-999.0000,  -999.00,9,  -999.00, -999.000,9, -999.000,      2.1,2,      2.8,     0.17,2,-999.0000,9,-999.0000,9,-999.0000,9,-999.0000,9,-999.0000,9,-999.0000,9,-999.0000,9,-999.0000,9,-999.0000,9,  21.2397,  21.2253,2
  33RR20070322,  I09N,   192,  1,     31,     31,2,20070425,1204, 14.5455,  89.5860, 2780, 127.2000,    127.2,  17.9869,  34.8971,2,  34.8977,2,      8.1,2,      4.5,2,    24.30,2,    27.08,2,     0.01,2,     2.07,2,    0.906,2,    0.536,2, -999.000,5,   2200.5,2,   2292.6,6,   7.5710,2,    25.00,     50.3,2,    30.36,2, -999.000,9, -999.000,-999.0000,9,-999.0000,  -999.00,9,  -999.00, -999.000,9, -999.000,   -999.0,9,   -999.0,  -999.00,9,-999.0000,9,-999.0000,9,-999.0000,9,-999.0000,9,-999.0000,9,-999.0000,9,-999.0000,9,-999.0000,9,-999.0000,9,  17.9651,  17.9908,2
  33RR20070322,  I09N,   192,  1,     30,     30,2,20070425,1204, 14.5455,  89.5860, 2780, 152.1000,    152.1,  15.5701,  34.9425,2,  34.9423,2,      4.8,2,      4.4,2,    28.59,2,    29.60,2,     0.00,2,     2.23,2,    0.713,2,    0.416,2, -999.000,5,   2223.9,2,   2301.8,2,   7.5027,2,    25.00,     48.1,2,    33.26,2, -999.000,9, -999.000,-999.0000,9,-999.0000,  -999.00,9,  -999.00, -999.000,9, -999.000,    -27.9,2,      3.3,    -0.08,2,-999.0000,9,-999.0000,9,-999.0000,9,-999.0000,9,-999.0000,9,-999.0000,9,-999.0000,9,-999.0000,9,-999.0000,9,  15.5465,  15.5850,2
  33RR20070322,  I09N,   192,  1,     29,     29,2,20070425,1204, 14.5455,  89.5860, 2780, 202.3000,    202.3,  12.8345,  35.0119,2,  35.0128,2,      3.3,2,      3.1,2,    34.24,2,    32.26,2,     0.00,2,     2.38,2,    0.446,2,    0.256,2, -999.000,5,   2253.4,2,   2308.9,2,   7.4571,2,    25.00,     46.7,2,    36.08,2, -999.000,9, -999.000,-999.0000,9,-999.0000,  -999.00,9,  -999.00, -999.000,9, -999.000,    -53.2,2,      2.9,    -0.03,2,-999.0000,9,-999.0000,9,-999.0000,9,-999.0000,9,-999.0000,9,-999.0000,9,-999.0000,9,-999.0000,9,-999.0000,9,  12.8069,  12.8367,2
  33RR20070322,  I09N,   192,  1,     28,     28,2,20070425,1204, 14.5455,  89.5860, 2780, 252.1000,    252.1,  11.9105,  35.0343,2,  35.0344,2,      7.1,2,      7.2,2,    35.80,2,    33.14,2,     0.00,2,     2.40,2,    0.408,2,    0.231,2, -999.000,5,   2260.1,2,   2313.0,2,   7.4470,2,    25.00,     46.5,2,    36.15,2, -999.000,9, -999.000,-999.0000,9,-999.0000,  -999.00,9,  -999.00, -999.000,9, -999.000,    -57.3,2,      2.9,    -0.01,2,-999.0000,9,-999.0000,9,-999.0000,9,-999.0000,9,-999.0000,9,-999.0000,9,-999.0000,9,-999.0000,9,-999.0000,9,  11.8777,  11.9112,2
  33RR20070322,  I09N,   192,  1,     27,     27,2,20070425,1204, 14.5455,  89.5860, 2780, 302.1000,    302.1,  11.3140,  35.0341,2,  35.0337,2,      6.3,2,      6.7,2,    39.11,2,    34.12,2,     0.00,2,     2.46,2,    0.313,2,    0.173,2, -999.000,5,   2267.9,2,   2316.7,2,   7.4415,2,    25.00,     45.8,2,    37.46,2, -999.000,9, -999.000,-999.0000,9,-999.0000,  -999.00,9,  -999.00, -999.000,9, -999.000,    -70.1,2,      2.8,     0.00,2,-999.0000,9,-999.0000,9,-999.0000,9,-999.0000,9,-999.0000,9,-999.0000,9,-999.0000,9,-999.0000,9,-999.0000,9,  11.2759,  11.3120,2
  33RR20070322,  I09N,   192,  1,     26,     26,2,20070425,1204, 14.5455,  89.5860, 2780, 351.9000,    351.9,  10.8336,  35.0335,2,  35.0339,2,      6.4,2,      5.5,2,    41.84,2,    34.84,2,     0.00,2,     2.52,2, -999.000,9, -999.000,9, -999.000,9,   2272.2,2,   2319.1,2,   7.4222,2,    25.00,     45.2,2,    37.88,2, -999.000,9, -999.000,-999.0000,9,-999.0000,  -999.00,9,  -999.00, -999.000,9, -999.000,    -78.8,2,      3.0,     0.01,2,-999.0000,9,-999.0000,9,-999.0000,9,-999.0000,9,-999.0000,9,-999.0000,9,-999.0000,9,-999.0000,9,-999.0000,9,  10.7903,  10.8317,2
  33RR20070322,  I09N,   192,  1,     25,     25,2,20070425,1204, 14.5455,  89.5860, 2780, 401.9000,    401.9,  10.4301,  35.0337,2,  35.0339,2,      6.8,2,      7.8,2,    44.57,2,    35.33,2,     0.00,2,     2.55,2,    0.197,2,    0.111,2, -999.000,5,   2274.9,2,   2322.5,2,   7.4387,2,    25.00,     44.6,2,    38.41,2, -999.000,9, -999.000,-999.0000,9,-999.0000,  -999.00,9,  -999.00, -999.000,9, -999.000,    -88.5,4,      3.2,     0.31,4,-999.0000,9,-999.0000,9,-999.0000,9,-999.0000,9,-999.0000,9,-999.0000,9,-999.0000,9,-999.0000,9,-999.0000,9,  10.3817,  10.4276,2
  33RR20070322,  I09N,   192,  1,     24,     24,2,20070425,1204, 14.5455,  89.5860, 2780, 451.9000,    451.9,  10.1171,  35.0301,2,  35.0303,2,      8.6,2,      8.9,2,    47.31,2,    35.62,2,     0.00,2,     2.58,2, -999.000,9, -999.000,9, -999.000,9,   2278.4,2,   2323.5,2,   7.4314,2,    25.00,     44.1,2,    39.05,2, -999.000,9, -999.000,-999.0000,9,-999.0000,  -999.00,9,  -999.00, -999.000,9, -999.000,   -999.0,9,   -999.0,  -999.00,9,-999.0000,9,-999.0000,9,-999.0000,9,-999.0000,9,-999.0000,9,-999.0000,9,-999.0000,9,-999.0000,9,-999.0000,9,  10.0636,  10.1164,2
  33RR20070322,  I09N,   192,  1,     23,     23,2,20070425,1204, 14.5455,  89.5860, 2780, 502.0000,    502.0,   9.7741,  35.0230,2,  35.0222,2,     10.4,2,     11.5,2,    50.63,2,    35.87,2,     0.00,2,     2.62,2,    0.125,2,    0.072,2, -999.000,5,   2281.5,2,   2329.6,2,   7.4307,2,    25.00,     43.4,2,    37.89,2, -999.000,9, -999.000,-999.0000,9,-999.0000,  -999.00,9,  -999.00, -999.000,9, -999.000,    -99.0,2,      2.8,     0.02,2,-999.0000,9,-999.0000,9,-999.0000,9,-999.0000,9,-999.0000,9,-999.0000,9,-999.0000,9,-999.0000,9,-999.0000,9,   9.7157,   9.7731,2
  33RR20070322,  I09N,   192,  1,     22,     22,2,20070425,1204, 14.5455,  89.5860, 2780, 602.5000,    602.5,   9.1946,  35.0112,2,  35.0114,2,     14.4,2,     15.6,2,    56.30,2,    36.35,2,     0.00,2,     2.66,2,    0.082,2,    0.047,2, -999.000,5,   2288.1,2,   2333.8,2,   7.4415,2,    25.00,     42.8,2,    38.77,2, -999.000,9, -999.000,-999.0000,9,-999.0000,  -999.00,9,  -999.00, -999.000,9, -999.000,   -115.4,2,      2.4,     0.06,2,-999.0000,9,-999.0000,9,-999.0000,9,-999.0000,9,-999.0000,9,-999.0000,9,-999.0000,9,-999.0000,9,-999.0000,9,   9.1267,   9.1943,2
  33RR20070322,  I09N,   192,  1,     21,     21,2,20070425,1204, 14.5455,  89.5860, 2780, 702.3000,    702.3,   8.5546,  34.9947,2,  34.9947,2,     17.7,2,     17.7,2,    63.34,2,    37.00,2,     0.00,2,     2.72,2,    0.040,2,    0.022,2, -999.000,5,   2296.7,2,   2341.0,2,   7.4397,2,    25.00,     42.8,2,    39.58,2, -999.000,9, -999.000,-999.0000,9,-999.0000,  -999.00,9,  -999.00, -999.000,9, -999.000,   -126.5,2,      2.5,     0.02,2,-999.0000,9,-999.0000,9,-999.0000,9,-999.0000,9,-999.0000,9,-999.0000,9,-999.0000,9,-999.0000,9,-999.0000,9,   8.4784,   8.5534,2
  33RR20070322,  I09N,   192,  1,     20,     20,2,20070425,1204, 14.5455,  89.5860, 2780, 802.7000,    802.7,   7.9090,  34.9743,2,  34.9744,2,     23.4,2,     22.9,2,    70.78,2,    37.34,2,     0.00,2,     2.76,2,    0.018,2,    0.012,2, -999.000,5,   2303.3,2,   2348.7,2,   7.4403,2,    25.00,     42.3,2,    39.63,2, -999.000,9, -999.000,-999.0000,9,-999.0000,  -999.00,9,  -999.00, -999.000,9, -999.000,   -139.0,2,      2.4,     0.02,2,-999.0000,9,-999.0000,9,-999.0000,9,-999.0000,9,-999.0000,9,-999.0000,9,-999.0000,9,-999.0000,9,-999.0000,9,   7.8252,   7.9083,2
  33RR20070322,  I09N,   192,  1,     19,     19,2,20070425,1204, 14.5455,  89.5860, 2780, 902.9000,    902.9,   7.2119,  34.9500,2,  34.9496,2,     32.6,2,     33.4,2,    78.04,2,    37.24,2,     0.00,2,     2.76,2, -999.000,9, -999.000,9, -999.000,9,   2307.6,2,   2356.2,2,   7.4482,2,    25.00,     42.2,2,    39.43,2, -999.000,9, -999.000,-999.0000,9,-999.0000,  -999.00,9,  -999.00, -999.000,9, -999.000,   -149.7,2,      2.7,     0.09,2,-999.0000,9,-999.0000,9,-999.0000,9,-999.0000,9,-999.0000,9,-999.0000,9,-999.0000,9,-999.0000,9,-999.0000,9,   7.1217,   7.2115,2
  33RR20070322,  I09N,   192,  1,     18,     18,2,20070425,1204, 14.5455,  89.5860, 2780,1003.1000,   1003.1,   6.6237,  34.9298,2,  34.9301,2,     39.0,2,     39.9,2,    85.12,2,    37.39,2,     0.00,2,     2.78,2,    0.013,2,    0.006,2, -999.000,5,   2313.2,6,   2364.2,2,   7.4618,6,    25.00,     42.0,2,    38.58,2, -999.000,9, -999.000,-999.0000,9,-999.0000,  -999.00,9,  -999.00, -999.000,9, -999.000,   -999.0,9,   -999.0,  -999.00,9,-999.0000,9,-999.0000,9,-999.0000,9,-999.0000,9,-999.0000,9,-999.0000,9,-999.0000,9,-999.0000,9,-999.0000,9,   6.5272,   6.6247,2
  33RR20070322,  I09N,   192,  1,     17,     17,2,20070425,1204, 14.5455,  89.5860, 2780,1103.6000,   1103.6,   6.1699,  34.9128,2,  34.9136,2,     47.3,2,     47.5,2,    89.64,2,    37.28,2,     0.00,2,     2.77,2, -999.000,9, -999.000,9, -999.000,9,   2316.1,2,   2369.8,2,   7.4571,2,    25.00,     41.7,2,    38.66,2, -999.000,9, -999.000,-999.0000,9,-999.0000,  -999.00,9,  -999.00, -999.000,9, -999.000,   -157.8,2,      2.5,     0.04,2,-999.0000,9,-999.0000,9,-999.0000,9,-999.0000,9,-999.0000,9,-999.0000,9,-999.0000,9,-999.0000,9,-999.0000,9,   6.0667,   6.1734,2
  33RR20070322,  I09N,   192,  1,     16,     16,2,20070425,1204, 14.5455,  89.5860, 2780,1203.7000,   1203.7,   5.7952,  34.8989,2,  34.8989,2,     55.7,2,     55.1,2,    93.98,2,    37.14,2,     0.00,2,     2.75,2,    0.010,2,    0.004,2, -999.000,5,   2316.9,2,   2374.6,2,   7.4618,2,    25.00,     41.4,2,    38.25,2, -999.000,9, -999.000,-999.0000,9,-999.0000,  -999.00,9,  -999.00, -999.000,9, -999.000,   -999.0,9,   -999.0,  -999.00,9,-999.0000,9,-999.0000,9,-999.0000,9,-999.0000,9,-999.0000,9,-999.0000,9,-999.0000,9,-999.0000,9,-999.0000,9,   5.6852,   5.7951,2
  33RR20070322,  I09N,   192,  1,     15,     15,2,20070425,1204, 14.5455,  89.5860, 2780,1304.7000,   1304.7,   5.4033,  34.8841,2,  34.8849,2,     63.3,2,     62.3,2,    98.13,2,    36.99,2,     0.00,2,     2.73,2, -999.000,9, -999.000,9, -999.000,9,   2318.4,2,   2377.8,2,   7.4767,2,    25.00,     41.2,2,    38.55,2, -999.000,9, -999.000,-999.0000,9,-999.0000,  -999.00,9,  -999.00, -999.000,9, -999.000,   -163.9,2,      2.6,     0.06,2,-999.0000,9,-999.0000,9,-999.0000,9,-999.0000,9,-999.0000,9,-999.0000,9,-999.0000,9,-999.0000,9,-999.0000,9,   5.2870,   5.4042,2
  33RR20070322,  I09N,   192,  1,     14,     14,2,20070425,1204, 14.5455,  89.5860, 2780,1405.5000,   1405.5,   4.9615,  34.8675,2,  34.8684,2,     70.2,2,     69.5,2,   103.27,2,    36.94,2,     0.00,2,     2.72,2,    0.008,2,    0.003,2, -999.000,5,   2322.1,2,   2382.7,2,   7.4813,2,    25.00,     40.8,2,    37.99,2, -999.000,9, -999.000,-999.0000,9,-999.0000,  -999.00,9,  -999.00, -999.000,9, -999.000,   -999.0,9,   -999.0,  -999.00,9,-999.0000,9,-999.0000,9,-999.0000,9,-999.0000,9,-999.0000,9,-999.0000,9,-999.0000,9,-999.0000,9,-999.0000,9,   4.8399,   4.9540,2
  33RR20070322,  I09N,   192,  1,     13,     13,2,20070425,1204, 14.5455,  89.5860, 2780,1505.7000,   1505.7,   4.5139,  34.8503,2,  34.8513,2,     77.5,2,     77.6,2,   108.22,2,    36.80,2,     0.00,2,     2.71,2, -999.000,9, -999.000,9, -999.000,9,   2325.5,2,   2386.9,2,   7.4889,2,    25.00,     41.1,2,    37.88,2, -999.000,9, -999.000,-999.0000,9,-999.0000,  -999.00,9,  -999.00, -999.000,9, -999.000,   -173.1,2,      2.6,     0.28,2,-999.0000,9,-999.0000,9,-999.0000,9,-999.0000,9,-999.0000,9,-999.0000,9,-999.0000,9,-999.0000,9,-999.0000,9,   4.3876,   4.5107,2
  33RR20070322,  I09N,   192,  1,     12,     12,2,20070425,1204, 14.5455,  89.5860, 2780,1606.4000,   1606.4,   4.0523,  34.8318,2,  34.8320,2,     85.1,2,     85.5,2,   113.57,2,    36.59,2,     0.00,2,     2.69,2,    0.006,2,    0.002,2, -999.000,5,   2328.2,2,   2394.3,2,   7.5021,2,    25.00,     41.3,2,    38.34,2, -999.000,9, -999.000,-999.0000,9,-999.0000,  -999.00,9,  -999.00, -999.000,9, -999.000,   -999.0,9,   -999.0,  -999.00,9,-999.0000,9,-999.0000,9,-999.0000,9,-999.0000,9,-999.0000,9,-999.0000,9,-999.0000,9,-999.0000,9,-999.0000,9,   3.9220,   4.0478,2
  33RR20070322,  I09N,   192,  1,     11,     11,2,20070425,1204, 14.5455,  89.5860, 2780,1707.0000,   1707.0,   3.5761,  34.8135,2,  34.8121,2,     94.1,2,     94.0,2,   118.74,2,    36.40,2,     0.00,2,     2.67,2, -999.000,9, -999.000,9, -999.000,9,   2330.4,2,   2398.0,2,   7.5097,2,    25.00,     41.4,2,    37.89,2, -999.000,9, -999.000,-999.0000,9,-999.0000,  -999.00,9,  -999.00, -999.000,9, -999.000,   -999.0,9,   -999.0,  -999.00,9,-999.0000,9,-999.0000,9,-999.0000,9,-999.0000,9,-999.0000,9,-999.0000,9,-999.0000,9,-999.0000,9,-999.0000,9,   3.4426,   3.5702,2
  33RR20070322,  I09N,   192,  1,     10,     10,2,20070425,1204, 14.5455,  89.5860, 2780,1807.7000,   1807.7,   3.1823,  34.7976,2,  34.7980,2,    102.5,2,    102.5,2,   123.72,2,    36.16,2,     0.00,2,     2.65,2,    0.004,2,    0.001,2, -999.000,5,   2332.0,2,   2405.1,2,   7.5175,2,    25.00,     40.4,2,    37.22,2, -999.000,9, -999.000,-999.0000,9,-999.0000,  -999.00,9,  -999.00, -999.000,9, -999.000,   -999.0,9,   -999.0,  -999.00,9,-999.0000,9,-999.0000,9,-999.0000,9,-999.0000,9,-999.0000,9,-999.0000,9,-999.0000,9,-999.0000,9,-999.0000,9,   3.0449,   3.1829,2
  33RR20070322,  I09N,   192,  1,      9,      9,2,20070425,1204, 14.5455,  89.5860, 2780,1908.6000,   1908.6,   2.9386,  34.7872,2,  34.7880,2,    108.6,2,    108.7,2,   126.31,2,    35.96,2,     0.00,2,     2.62,2, -999.000,9, -999.000,9, -999.000,9,   2332.4,2,   2405.0,2,   7.5249,2,    25.00,     40.3,2,    37.12,2, -999.000,9, -999.000,-999.0000,9,-999.0000,  -999.00,9,  -999.00, -999.000,9, -999.000,   -999.0,9,   -999.0,  -999.00,9,-999.0000,9,-999.0000,9,-999.0000,9,-999.0000,9,-999.0000,9,-999.0000,9,-999.0000,9,-999.0000,9,-999.0000,9,   2.7957,   2.9414,2
  33RR20070322,  I09N,   192,  1,      8,      8,2,20070425,1204, 14.5455,  89.5860, 2780,2009.6000,   2009.6,   2.7328,  34.7782,2,  34.7781,2,    113.6,2,    113.7,2,   128.90,2,    35.85,2,     0.00,2,     2.61,2, -999.000,5, -999.000,5, -999.000,5,   2333.3,2,   2410.8,2,   7.5299,2,    25.00,     40.0,2,    37.32,2, -999.000,9, -999.000,-999.0000,9,-999.0000,  -999.00,9,  -999.00, -999.000,9, -999.000,   -999.0,9,   -999.0,  -999.00,9,-999.0000,9,-999.0000,9,-999.0000,9,-999.0000,9,-999.0000,9,-999.0000,9,-999.0000,9,-999.0000,9,-999.0000,9,   2.5839,   2.7320,2
  33RR20070322,  I09N,   192,  1,      7,      7,2,20070425,1204, 14.5455,  89.5860, 2780,2261.6000,   2261.6,   2.3678,  34.7622,2,  34.7626,2,    124.0,2,    124.0,2,   133.09,2,    35.41,2,     0.00,2,     2.56,2, -999.000,9, -999.000,9, -999.000,9,   2332.6,2,   2415.5,2,   7.5485,2,    25.00,     40.3,2,    36.63,2, -999.000,9, -999.000,-999.0000,9,-999.0000,  -999.00,9,  -999.00, -999.000,9, -999.000,   -999.0,9,   -999.0,  -999.00,9,-999.0000,9,-999.0000,9,-999.0000,9,-999.0000,9,-999.0000,9,-999.0000,9,-999.0000,9,-999.0000,9,-999.0000,9,   2.2022,   2.3676,2
  33RR20070322,  I09N,   192,  1,      6,      6,2,20070425,1204, 14.5455,  89.5860, 2780,2413.1000,   2413.1,   2.1824,  34.7541,2,  34.7541,2,    127.8,2,    128.3,2,   135.50,2,    35.27,2,     0.00,2,     2.54,2,    0.010,2,    0.002,2, -999.000,5,   2258.8,4,   2422.2,2,   7.5498,2,    25.00,     41.5,2,    36.36,2, -999.000,9, -999.000,-999.0000,9,-999.0000,  -999.00,9,  -999.00, -999.000,9, -999.000,   -999.0,9,   -999.0,  -999.00,9,-999.0000,9,-999.0000,9,-999.0000,9,-999.0000,9,-999.0000,9,-999.0000,9,-999.0000,9,-999.0000,9,-999.0000,9,   2.0063,   2.1820,2
  33RR20070322,  I09N,   192,  1,      5,      5,2,20070425,1204, 14.5455,  89.5860, 2780,2564.7000,   2564.7,   2.0228,  34.7471,2,  34.7484,2,    134.2,2,    134.4,2,   136.50,2,    35.07,2,     0.00,2,     2.51,2, -999.000,9, -999.000,9, -999.000,9,   2331.8,4,   2416.2,2,   7.5566,2,    25.00,     41.2,2,    36.26,2, -999.000,9, -999.000,-999.0000,9,-999.0000,  -999.00,9,  -999.00, -999.000,9, -999.000,   -999.0,9,   -999.0,  -999.00,9,-999.0000,9,-999.0000,9,-999.0000,9,-999.0000,9,-999.0000,9,-999.0000,9,-999.0000,9,-999.0000,9,-999.0000,9,   1.8357,   2.0216,2