BOTTLE,20150630SIOCCHRJL
EXPOCODE,SECT_ID,STNNBR,CASTNO,SAMPNO,BTLNBR,BTLNBR_FLAG_W,DATE,TIME,LATITUDE,LONGITUDE,DEPTH,CTDRAW,CTDPRS,CTDTMP,CTDSAL,CTDSAL_FLAG_W,SALNTY,SALNTY_FLAG_W,CTDOXY,CTDOXY_FLAG_W,OXYGEN,OXYGEN_FLAG_W,SILCAT,SILCAT_FLAG_W,NITRAT,NITRAT_FLAG_W,NITRIT,NITRIT_FLAG_W,PHSPHT,PHSPHT_FLAG_W,CFC-11,CFC-11_FLAG_W,CFC-12,CFC-12_FLAG_W,CFC113,CFC113_FLAG_W,TCARBN,TCARBN_FLAG_W,ALKALI,ALKALI_FLAG_W,PH_SWS,PH_SWS_FLAG_W,PH_TMP,DOC,DOC_FLAG_W,TDN,TDN_FLAG_W,TRITUM,TRITUM_FLAG_W,TRITER,HELIUM,HELIUM_FLAG_W,HELIER,DELHE3,DELHE3_FLAG_W,DELHER,NEON,NEON_FLAG_W,NEONER,DELC14,DELC14_FLAG_W,C14ERR,DELC13,DELC13_FLAG_W,CDOM325,CDOM325_FLAG_W,CDOM340,CDOM340_FLAG_W,CDOM380,CDOM380_FLAG_W,CDOM412,CDOM412_FLAG_W,CDOM443,CDOM443_FLAG_W,CDOM490,CDOM490_FLAG_W,CDOM555,CDOM555_FLAG_W,CDOMSL,CDOMSL_FLAG_W,CDOMSN,CDOMSN_FLAG_W,THETA,SBE35,SBE35_FLAG_W
,,,,,,,,,,,METERS,,DBAR,ITS-90,PSS-78,,PSS-78,,UMOL/KG,,UMOL/KG,,UMOL/KG,,UMOL/KG,,UMOL/KG,,UMOL/KG,,PMOL/KG,,PMOL/KG,,PMOL/KG,,UMOL/KG,,UMOL/KG,,,,DEG C,UMOL/KG,,UMOL/KG,,TU,,TU,NMOL/KG,,NMOL/KG,PERCNT,,PERCNT,NMOL/KG,,NMOL/KG,/MILLE,,/MILLE,/MILLE,,1/M,,1/M,,1/M,,1/M,,1/M,,1/M,,1/M,,1/NM,,1/NM,,DEG C,ITS-90,
  33RR20070322,  I09N,   145,  2,      4,      4,2,20070412,1908,  0.0005,  93.4413, 4495,3275.3000,   3275.3,   1.5771,  34.7287,2,  34.7201,4,    164.6,2,    164.3,2,   133.72,2,    34.50,2,     0.00,2,     2.42,2, -999.000,9, -999.000,9, -999.000,9,   2309.0,2,   2408.7,2,   7.5950,2,    25.00,     40.9,2,    36.13,2, -999.000,9, -999.000,-999.0000,9,-999.0000,  -999.00,9,  -999.00, -999.000,9, -999.000,   -190.4,2,      2.6,     0.16,3,   0.1591,2,   0.1140,2,   0.0651,2,   0.0475,2,   0.0188,2,   0.0046,2,  -0.0002,4,   0.0141,3,   0.0143,3,   1.3314,   1.5770,2
  33RR20070322,  I09N,   145,  2,      3,      3,2,20070412,1908,  0.0005,  93.4413, 4495,3681.3000,   3681.3,   1.2915,  34.7198,2,  34.7203,2,    178.3,2,    180.7,2,   132.25,2,    33.75,2,     0.00,2,     2.35,2, -999.000,9, -999.000,9, -999.000,9,   2296.6,2,   2402.2,2,   7.6093,2,    25.00,     40.7,2,    35.26,2, -999.000,9, -999.000,-999.0000,9,-999.0000,  -999.00,9,  -999.00, -999.000,9, -999.000,   -180.1,2,      3.1,     0.37,2,   0.1456,2,   0.1032,2,   0.0578,2,   0.0418,2,   0.0152,2,   0.0035,3,  -0.0006,4,   0.0140,2,   0.0147,3,   1.0118,   1.2910,2
  33RR20070322,  I09N,   145,  2,      2,      2,2,20070412,1908,  0.0005,  93.4413, 4495,4088.4000,   4088.4,   1.1556,  34.7153,2,  34.7152,2,    191.1,2,    191.0,2,   129.53,2,    33.20,2,     0.00,2,     2.29,2,    0.005,2,    0.003,2, -999.000,5,   2286.7,2,   2394.4,2,   7.6112,2,    25.00,     40.8,2,    34.34,2, -999.000,9, -999.000,-999.0000,9,-999.0000,  -999.00,9,  -999.00, -999.000,9, -999.000,   -173.1,2,      2.6,     0.37,2,   0.1367,2,   0.0959,2,   0.0530,2,   0.0381,2,   0.0128,2,   0.0026,3,  -0.0009,4,   0.0140,2,   0.0150,3,   0.8367,   1.1558,2
  33RR20070322,  I09N,   145,  2,      1,      1,2,20070412,1908,  0.0005,  93.4413, 4495,4549.2000,   4549.2,   1.1827,  34.7145,2,  34.7146,2,    192.5,2,    192.9,2,   129.31,2,    33.09,2,     0.00,2,     2.29,2,    0.005,2,    0.003,2, -999.000,5,   2288.3,6,   2397.4,6,   7.6298,6,    25.00,     40.7,2,    34.84,2, -999.000,9, -999.000,-999.0000,9,-999.0000,  -999.00,9,  -999.00, -999.000,9, -999.000,   -176.1,2,      2.7,     0.44,2,   0.1375,2,   0.0970,2,   0.0541,2,   0.0397,2,   0.0139,2,   0.0027,3,  -0.0009,4,   0.0139,2,   0.0147,3,   0.8117,   1.1819,2