BOTTLE,20150630SIOCCHRJL
EXPOCODE,SECT_ID,STNNBR,CASTNO,SAMPNO,BTLNBR,BTLNBR_FLAG_W,DATE,TIME,LATITUDE,LONGITUDE,DEPTH,CTDRAW,CTDPRS,CTDTMP,CTDSAL,CTDSAL_FLAG_W,SALNTY,SALNTY_FLAG_W,CTDOXY,CTDOXY_FLAG_W,OXYGEN,OXYGEN_FLAG_W,SILCAT,SILCAT_FLAG_W,NITRAT,NITRAT_FLAG_W,NITRIT,NITRIT_FLAG_W,PHSPHT,PHSPHT_FLAG_W,CFC-11,CFC-11_FLAG_W,CFC-12,CFC-12_FLAG_W,CFC113,CFC113_FLAG_W,TCARBN,TCARBN_FLAG_W,ALKALI,ALKALI_FLAG_W,PH_SWS,PH_SWS_FLAG_W,PH_TMP,DOC,DOC_FLAG_W,TDN,TDN_FLAG_W,TRITUM,TRITUM_FLAG_W,TRITER,HELIUM,HELIUM_FLAG_W,HELIER,DELHE3,DELHE3_FLAG_W,DELHER,NEON,NEON_FLAG_W,NEONER,DELC14,DELC14_FLAG_W,C14ERR,DELC13,DELC13_FLAG_W,CDOM325,CDOM325_FLAG_W,CDOM340,CDOM340_FLAG_W,CDOM380,CDOM380_FLAG_W,CDOM412,CDOM412_FLAG_W,CDOM443,CDOM443_FLAG_W,CDOM490,CDOM490_FLAG_W,CDOM555,CDOM555_FLAG_W,CDOMSL,CDOMSL_FLAG_W,CDOMSN,CDOMSN_FLAG_W,THETA,SBE35,SBE35_FLAG_W
,,,,,,,,,,,METERS,,DBAR,ITS-90,PSS-78,,PSS-78,,UMOL/KG,,UMOL/KG,,UMOL/KG,,UMOL/KG,,UMOL/KG,,UMOL/KG,,PMOL/KG,,PMOL/KG,,PMOL/KG,,UMOL/KG,,UMOL/KG,,,,DEG C,UMOL/KG,,UMOL/KG,,TU,,TU,NMOL/KG,,NMOL/KG,PERCNT,,PERCNT,NMOL/KG,,NMOL/KG,/MILLE,,/MILLE,/MILLE,,1/M,,1/M,,1/M,,1/M,,1/M,,1/M,,1/M,,1/NM,,1/NM,,DEG C,ITS-90,
  33RR20070322,  I09N,    91,  1,     36,     38,2,20070327,0038,-27.1077,  95.0017, 4667,   6.1000,      6.1,  22.8491,  36.0539,2,  36.0544,2,    216.1,2,    216.4,2,     1.86,2,     0.21,2,     0.00,2,     0.11,2,    1.911,2,    1.199,2,    0.140,3,   2049.4,6,   2360.5,2,   8.0199,2,    25.00,     74.7,2,  -999.00,9, -999.000,9, -999.000,-999.0000,9,-999.0000,  -999.00,9,  -999.00, -999.000,9, -999.000,   -999.0,9,   -999.0,  -999.00,9,   0.0573,2,   0.0358,2,   0.0187,2,   0.0152,2,  -0.0026,4,  -0.0032,4,  -0.0030,4,   0.0125,3,   0.0169,3,  22.8479,  22.8438,2
  33RR20070322,  I09N,    91,  1,     35,     35,2,20070327,0038,-27.1077,  95.0017, 4667,  22.7000,     22.7,  22.8559,  36.0539,2,  36.0530,2,    216.9,2,    216.7,2,     1.85,2,     0.26,2,     0.00,2,     0.10,2,    1.969,2,    1.207,2,    0.153,3,   2053.2,2,   2361.2,6,   8.0228,6,    25.00,     71.9,2,  -999.00,9, -999.000,9, -999.000,-999.0000,9,-999.0000,  -999.00,9,  -999.00, -999.000,9, -999.000,   -999.0,9,   -999.0,  -999.00,9,   0.0474,2,   0.0321,2,   0.0174,2,   0.0138,2,  -0.0034,4,  -0.0038,4,  -0.0033,4,   0.0123,2,   0.0154,2,  22.8513,  22.8521,2
  33RR20070322,  I09N,    91,  1,     34,   9419,2,20070327,0038,-27.1077,  95.0017, 4667,  46.9000,     46.9,  22.8298,  36.0516,2,  36.0390,2,    217.4,2,    216.6,2,     1.85,2,     0.27,2,     0.00,2,     0.09,2, -999.000,9, -999.000,9, -999.000,9,   2053.4,2,   2360.8,2,   8.0256,2,    25.00,     70.7,2,  -999.00,9, -999.000,9, -999.000,-999.0000,9,-999.0000,  -999.00,9,  -999.00, -999.000,9, -999.000,   -999.0,9,   -999.0,  -999.00,9,   0.0476,2,   0.0322,2,   0.0169,2,   0.0136,2,  -0.0030,4,  -0.0034,4,  -0.0030,4,   0.0120,2,   0.0156,3,  22.8202,  22.8480,2
  33RR20070322,  I09N,    91,  1,     33,     33,2,20070327,0038,-27.1077,  95.0017, 4667,  91.5000,     91.5,  18.2318,  35.8375,2,  35.8364,2,    247.0,2,    247.9,2,     1.24,2,     0.27,2,     0.00,2,     0.14,2,    2.556,2,    1.537,2,    0.186,3,   2071.6,2,   2348.4,2,   7.9802,2,    25.00,     65.3,2,  -999.00,9, -999.000,9, -999.000,-999.0000,9,-999.0000,  -999.00,9,  -999.00, -999.000,9, -999.000,   -999.0,9,   -999.0,  -999.00,9,   0.1192,2,   0.0823,2,   0.0391,2,   0.0269,2,   0.0047,2,   0.0005,4,  -0.0014,4,   0.0144,3,   0.0177,3,  18.2159,  18.1692,2
  33RR20070322,  I09N,    91,  1,     32,     37,2,20070327,0038,-27.1077,  95.0017, 4667, 141.3000,    141.3,  15.4109,  35.5600,2,  35.5594,2,    246.5,2,    245.3,2,     1.24,2,     1.00,2,     0.10,2,     0.27,2, -999.000,9, -999.000,9, -999.000,9,   2092.5,2,   2339.0,2,   7.9252,2,    25.00,     58.7,2,  -999.00,9, -999.000,9, -999.000,-999.0000,9,-999.0000,  -999.00,9,  -999.00, -999.000,9, -999.000,   -999.0,9,   -999.0,  -999.00,9,   0.1183,2,   0.0865,2,   0.0459,2,   0.0334,2,   0.0079,2,   0.0012,3,  -0.0010,4,   0.0140,2,   0.0152,2,  15.3890,  15.4217,2
  33RR20070322,  I09N,    91,  1,     31,     31,2,20070327,0038,-27.1077,  95.0017, 4667, 167.2000,    167.2,  15.2243,  35.5713,2,  35.5709,2,    235.4,2,    236.3,2,     1.23,2,     2.07,2,     0.62,2,     0.34,2,    2.822,2,    1.667,2,    0.202,3,   2099.0,2,   2340.2,2,   7.8934,2,    25.00,     57.3,2,  -999.00,9, -999.000,9, -999.000,-999.0000,9,-999.0000,  -999.00,9,  -999.00, -999.000,9, -999.000,   -999.0,9,   -999.0,  -999.00,9,   0.1622,2,   0.1236,2,   0.0539,2,   0.0340,2,   0.0076,2,   0.0008,3,  -0.0015,4,   0.0168,2,   0.0185,2,  15.1986,  15.2242,2
  33RR20070322,  I09N,    91,  1,     30,     30,2,20070327,0038,-27.1077,  95.0017, 4667, 192.2000,    192.2,  14.7233,  35.5024,2,  35.5054,2,    229.4,2,    231.5,2,     1.62,2,     4.00,2,     0.07,2,     0.42,2, -999.000,9, -999.000,9, -999.000,9,   2103.7,2,   2335.2,2,   7.8962,2,    25.00,     55.4,2,  -999.00,9, -999.000,9, -999.000,-999.0000,9,-999.0000,  -999.00,9,  -999.00, -999.000,9, -999.000,   -999.0,9,   -999.0,  -999.00,9,   0.0919,2,   0.0664,2,   0.0368,2,   0.0289,2,   0.0056,2,   0.0002,4,  -0.0015,4,   0.0127,2,   0.0139,2,  14.6944,  14.7259,2
  33RR20070322,  I09N,    91,  1,     29,     29,2,20070327,0038,-27.1077,  95.0017, 4667, 241.5000,    241.5,  13.7012,  35.3931,2,  35.3971,2,    227.8,2,    228.0,2,     2.01,2,     6.11,2,     0.01,2,     0.53,2,    3.107,2,    1.780,2,    0.085,3,   2110.7,2,   2328.5,2,   7.8681,2,    25.00,     51.7,2,  -999.00,9, -999.000,9, -999.000,-999.0000,9,-999.0000,  -999.00,9,  -999.00, -999.000,9, -999.000,   -999.0,9,   -999.0,  -999.00,9,   0.0836,2,   0.0599,2,   0.0330,2,   0.0252,2,   0.0031,3,  -0.0014,4,  -0.0025,4,   0.0132,2,   0.0145,2,  13.6666,  13.6910,2
  33RR20070322,  I09N,    91,  1,     28,     28,2,20070327,0038,-27.1077,  95.0017, 4667, 292.3000,    292.3,  12.5871,  35.2061,2,  35.2107,2,    231.3,2,    230.9,2,     2.41,2,     8.48,2,     0.00,2,     0.66,2, -999.000,9, -999.000,9, -999.000,9,   2113.8,2,   2318.2,2,   7.8344,2,    25.00,     50.3,2,  -999.00,9, -999.000,9, -999.000,-999.0000,9,-999.0000,  -999.00,9,  -999.00, -999.000,9, -999.000,   -999.0,9,   -999.0,  -999.00,9,   0.0830,2,   0.0594,2,   0.0339,2,   0.0260,2,   0.0044,2,  -0.0002,4,  -0.0019,4,   0.0125,2,   0.0137,2,  12.5475,  12.5915,2
  33RR20070322,  I09N,    91,  1,     27,     27,2,20070327,0038,-27.1077,  95.0017, 4667, 342.2000,    342.2,  11.8726,  35.0920,2,  35.0931,2,    234.4,2,    234.8,2,     3.00,2,    10.01,2,     0.00,2,     0.76,2,    3.411,2,    1.845,2,    0.102,3,   2114.5,2,   2311.7,2,   7.8227,2,    25.00,     47.6,2,  -999.00,9, -999.000,9, -999.000,-999.0000,9,-999.0000,  -999.00,9,  -999.00, -999.000,9, -999.000,   -999.0,9,   -999.0,  -999.00,9,-999.0000,5,-999.0000,5,-999.0000,5,-999.0000,5,-999.0000,5,-999.0000,5,-999.0000,5,-999.0000,5,-999.0000,5,  11.8279,  11.8702,2
  33RR20070322,  I09N,    91,  1,     26,     26,2,20070327,0038,-27.1077,  95.0017, 4667, 392.1000,    392.1,  11.1730,  34.9787,2,  34.9782,2,    237.8,2,    238.2,2,     3.19,2,    11.34,2,     0.00,2,     0.84,2, -999.000,9, -999.000,9, -999.000,9,   2116.7,2,   2304.1,2,   7.8077,2,    25.00,     46.3,2,  -999.00,9, -999.000,9, -999.000,-999.0000,9,-999.0000,  -999.00,9,  -999.00, -999.000,9, -999.000,   -999.0,9,   -999.0,  -999.00,9,   0.0746,2,   0.0513,2,   0.0279,2,   0.0212,2,   0.0018,3,  -0.0015,4,  -0.0025,4,   0.0128,2,   0.0150,3,  11.1237,  11.1745,2
  33RR20070322,  I09N,    91,  1,     25,     25,2,20070327,0038,-27.1077,  95.0017, 4667, 442.6000,    442.6,  10.5364,  34.8760,2,  34.8749,2,    239.9,2,    240.8,2,     3.59,2,    12.82,2,     0.00,2,     0.93,2,    3.646,2,    1.953,2,    0.109,3,   2119.1,2,   2299.9,2,   7.7915,2,    25.00,     46.1,2,  -999.00,9, -999.000,9, -999.000,-999.0000,9,-999.0000,  -999.00,9,  -999.00, -999.000,9, -999.000,   -999.0,9,   -999.0,  -999.00,9,   0.0733,2,   0.0503,2,   0.0274,2,   0.0214,2,   0.0022,3,  -0.0011,4,  -0.0023,4,   0.0123,2,   0.0146,3,  10.4828,  10.5473,2
  33RR20070322,  I09N,    91,  1,     24,     24,2,20070327,0038,-27.1077,  95.0017, 4667, 490.8000,    490.8,  10.0435,  34.7969,2,  34.7978,2,    240.6,2,    242.1,2,     3.78,2,    14.05,2,     0.00,2,     1.01,2, -999.000,9, -999.000,9, -999.000,9,   2121.0,2,   2295.4,2,   7.7762,2,    25.00,     45.1,2,  -999.00,9, -999.000,9, -999.000,-999.0000,9,-999.0000,  -999.00,9,  -999.00, -999.000,9, -999.000,   -999.0,9,   -999.0,  -999.00,9,   0.0747,2,   0.0510,2,   0.0288,2,   0.0221,2,   0.0023,3,  -0.0014,4,  -0.0027,4,   0.0126,2,   0.0145,3,   9.9857,  10.0435,2
  33RR20070322,  I09N,    91,  1,     23,     23,2,20070327,0038,-27.1077,  95.0017, 4667, 576.7000,    576.7,   9.4556,  34.7049,2,  34.7087,2,    241.3,2,    241.4,2,     4.58,2,    15.89,2,     0.00,2,     1.11,2,    3.788,2,    1.977,2,    0.145,3,   2124.9,2,   2291.5,2,   7.7502,2,    25.00,     44.5,2,  -999.00,9, -999.000,9, -999.000,-999.0000,9,-999.0000,  -999.00,9,  -999.00, -999.000,9, -999.000,   -999.0,9,   -999.0,  -999.00,9,   0.0725,2,   0.0484,2,   0.0259,2,   0.0201,2,   0.0012,3,  -0.0021,4,  -0.0030,4,   0.0129,3,   0.0156,3,   9.3899,   9.4584,2
  33RR20070322,  I09N,    91,  1,     22,     22,2,20070327,0038,-27.1077,  95.0017, 4667, 677.6000,    677.6,   8.6725,  34.6034,2,  34.6034,2,    231.9,2,    228.8,2,     6.98,2,    19.36,2,     0.00,2,     1.33,2, -999.000,9, -999.000,9, -999.000,9,   2138.0,2,   2287.6,2,   7.7317,2,    25.00,     42.9,2,  -999.00,9, -999.000,9, -999.000,-999.0000,9,-999.0000,  -999.00,9,  -999.00, -999.000,9, -999.000,   -999.0,9,   -999.0,  -999.00,9,   0.0758,2,   0.0505,2,   0.0278,2,   0.0214,2,   0.0020,3,  -0.0017,4,  -0.0029,4,   0.0128,3,   0.0153,3,   8.5989,   8.6722,2
  33RR20070322,  I09N,    91,  1,     21,     21,2,20070327,0038,-27.1077,  95.0017, 4667, 777.6000,    777.6,   7.2941,  34.4916,2,  34.4948,2,    211.8,2,    205.6,2,    14.59,2,    24.48,2,     0.00,2,     1.67,2,    2.350,2,    1.193,2,    0.077,3,   2161.4,2,   2288.3,2,   7.6786,2,    25.00,     41.9,2,  -999.00,9, -999.000,9, -999.000,-999.0000,9,-999.0000,  -999.00,9,  -999.00, -999.000,9, -999.000,   -999.0,9,   -999.0,  -999.00,9,   0.0841,2,   0.0558,2,   0.0305,2,   0.0225,2,   0.0026,3,  -0.0022,4,  -0.0031,4,   0.0136,2,   0.0159,3,   7.2171,   7.2953,2
  33RR20070322,  I09N,    91,  1,     20,     20,2,20070327,0038,-27.1077,  95.0017, 4667, 877.8000,    877.8,   5.8803,  34.4278,2,  34.4273,2,    194.1,2,    190.6,2,    26.62,2,    28.85,2,     0.00,2,     1.97,2, -999.000,9, -999.000,9, -999.000,9,   2187.0,2,   2295.0,2,   7.6232,2,    25.00,     41.6,2,  -999.00,9, -999.000,9, -999.000,-999.0000,9,-999.0000,  -999.00,9,  -999.00, -999.000,9, -999.000,   -999.0,9,   -999.0,  -999.00,9,   0.0973,2,   0.0663,2,   0.0384,2,   0.0288,2,   0.0068,2,   0.0002,4,  -0.0019,4,   0.0130,2,   0.0144,3,   5.8022,   5.8810,2
  33RR20070322,  I09N,    91,  1,     19,     19,2,20070327,0038,-27.1077,  95.0017, 4667, 977.6000,    977.6,   4.7622,  34.4302,2,  34.4308,2,    178.3,2,    174.0,2,    43.49,2,    32.26,2,     0.00,2,     2.24,2,    0.720,2,    0.352,2,    0.031,3,   2216.0,2,   2309.3,2,   7.5821,2,    25.00,     41.1,2,  -999.00,9, -999.000,9, -999.000,-999.0000,9,-999.0000,  -999.00,9,  -999.00, -999.000,9, -999.000,   -999.0,9,   -999.0,  -999.00,9,   0.1093,2,   0.0732,2,   0.0396,2,   0.0268,2,   0.0049,3,  -0.0034,4,  -0.0037,4,   0.0151,2,   0.0168,3,   4.6828,   4.7640,2
  33RR20070322,  I09N,    91,  1,     18,     18,2,20070327,0038,-27.1077,  95.0017, 4667,1078.9000,   1078.9,   4.2241,  34.5022,2,  34.4917,4,    156.6,2,    148.6,2,    63.81,2,    34.54,2,     0.00,2,     2.44,2, -999.000,9, -999.000,9, -999.000,9,   2248.5,2,   2331.4,2,   7.5548,2,    25.00,     41.1,2,  -999.00,9, -999.000,9, -999.000,-999.0000,9,-999.0000,  -999.00,9,  -999.00, -999.000,9, -999.000,   -999.0,9,   -999.0,  -999.00,9,   0.1238,3,   0.0853,3,   0.0484,3,   0.0331,3,   0.0089,3,  -0.0013,4,  -0.0030,4,   0.0148,3,   0.0156,3,   4.1400,   4.2257,2
  33RR20070322,  I09N,    91,  1,     17,     17,2,20070327,0038,-27.1077,  95.0017, 4667,1179.9000,   1179.9,   3.9326,  34.5407,2,  34.5439,2,    144.9,2,    140.6,2,    73.30,2,    35.32,2,     0.00,2,     2.50,2,    0.126,2,    0.052,2,   -0.001,3,   2262.8,6,   2341.3,2,   7.5421,2,    25.00,     41.5,2,  -999.00,9, -999.000,9, -999.000,-999.0000,9,-999.0000,  -999.00,9,  -999.00, -999.000,9, -999.000,   -999.0,9,   -999.0,  -999.00,9,   0.1311,2,   0.0908,2,   0.0514,2,   0.0338,2,   0.0093,2,  -0.0026,4,  -0.0036,4,   0.0153,2,   0.0159,2,   3.8423,   3.9315,2
  33RR20070322,  I09N,    91,  1,     16,     16,2,20070327,0038,-27.1077,  95.0017, 4667,1280.6000,   1280.6,   3.6504,  34.5630,2,  34.5633,2,    141.9,2,    141.5,2,    78.15,2,    35.41,2,     0.00,2,     2.51,2, -999.000,9, -999.000,9, -999.000,9,   2268.0,2,   2343.9,6,   7.5350,6,    25.00,     40.9,2,  -999.00,9, -999.000,9, -999.000,-999.0000,9,-999.0000,  -999.00,9,  -999.00, -999.000,9, -999.000,   -999.0,9,   -999.0,  -999.00,9,   0.1345,2,   0.0930,2,   0.0525,2,   0.0359,2,   0.0106,2,  -0.0020,4,  -0.0034,4,   0.0151,2,   0.0157,2,   3.5541,   3.6519,2
  33RR20070322,  I09N,    91,  1,     15,     15,2,20070327,0038,-27.1077,  95.0017, 4667,1380.5000,   1380.5,   3.3964,  34.5918,2,  34.5924,2,    142.8,2,    142.5,2,    82.39,2,    35.35,2,     0.00,2,     2.51,2,    0.042,2,    0.017,2,   -0.001,3,   2271.6,2,   2348.7,2,   7.5463,2,    25.00,     41.1,2,  -999.00,9, -999.000,9, -999.000,-999.0000,9,-999.0000,  -999.00,9,  -999.00, -999.000,9, -999.000,   -999.0,9,   -999.0,  -999.00,9,   0.1341,2,   0.0930,2,   0.0526,3,   0.0340,3,   0.0092,3,  -0.0029,4,  -0.0038,4,   0.0157,3,   0.0161,3,   3.2942,   3.3968,2
  33RR20070322,  I09N,    91,  1,     14,     14,2,20070327,0038,-27.1077,  95.0017, 4667,1481.0000,   1481.0,   3.2168,  34.6181,2,  34.6174,2,    143.6,2,    143.9,2,    86.03,2,    35.20,2,     0.00,2,     2.50,2, -999.000,9, -999.000,9, -999.000,9,   2275.0,2,   2353.2,2,   7.5492,2,    25.00,     40.9,2,  -999.00,9, -999.000,9, -999.000,-999.0000,9,-999.0000,  -999.00,9,  -999.00, -999.000,9, -999.000,   -999.0,9,   -999.0,  -999.00,9,   0.1391,2,   0.0974,2,   0.0534,2,   0.0349,2,   0.0097,2,  -0.0024,4,  -0.0034,4,   0.0158,2,   0.0163,2,   3.1080,   3.2174,2
  33RR20070322,  I09N,    91,  1,     13,     13,2,20070327,0038,-27.1077,  95.0017, 4667,1580.5000,   1580.5,   3.0604,  34.6399,2,  34.6392,2,    144.7,2,    145.7,2,    89.47,2,    35.14,2,     0.00,2,     2.48,2,    0.034,2,    0.007,2,    0.000,3,   2277.1,2,   2357.2,2,   7.5536,2,    25.00,     41.0,2,  -999.00,9, -999.000,9, -999.000,-999.0000,9,-999.0000,  -999.00,9,  -999.00, -999.000,9, -999.000,   -999.0,9,   -999.0,  -999.00,9,   0.1384,2,   0.0967,2,   0.0551,2,   0.0364,2,   0.0107,2,  -0.0018,4,  -0.0034,4,   0.0153,2,   0.0157,2,   2.9449,   3.0602,2
  33RR20070322,  I09N,    91,  1,     12,     12,2,20070327,0038,-27.1077,  95.0017, 4667,1683.4000,   1683.4,   2.8904,  34.6642,2,  34.6647,2,    147.7,2,    148.6,2,    93.32,2,    34.61,2,     0.00,2,     2.46,2, -999.000,9, -999.000,9, -999.000,9,   2278.9,2,   2360.9,2,   7.5560,2,    25.00,     41.4,2,  -999.00,9, -999.000,9, -999.000,-999.0000,9,-999.0000,  -999.00,9,  -999.00, -999.000,9, -999.000,   -999.0,9,   -999.0,  -999.00,9,   0.1379,2,   0.0957,2,   0.0531,2,   0.0358,2,   0.0108,2,  -0.0009,4,  -0.0026,4,   0.0152,2,   0.0159,2,   2.7682,   2.8931,2
  33RR20070322,  I09N,    91,  1,     11,     11,2,20070327,0038,-27.1077,  95.0017, 4667,1783.7000,   1783.7,   2.7434,  34.6851,2,  34.6826,2,    150.7,2,    151.8,2,    96.56,2,    34.50,2,     0.00,2,     2.44,2,    0.019,3,    0.001,2,   -0.001,3,   2279.8,2,   2365.2,2,   7.5658,2,    25.00,     40.8,2,  -999.00,9, -999.000,9, -999.000,-999.0000,9,-999.0000,  -999.00,9,  -999.00, -999.000,9, -999.000,   -999.0,9,   -999.0,  -999.00,9,   0.1366,2,   0.0945,2,   0.0524,2,   0.0347,2,   0.0098,2,  -0.0018,4,  -0.0032,4,   0.0154,2,   0.0162,2,   2.6144,   2.7416,2
  33RR20070322,  I09N,    91,  1,     10,     10,2,20070327,0038,-27.1077,  95.0017, 4667,1986.8000,   1986.8,   2.4894,  34.7073,2,  34.7072,2,    157.8,2,    158.2,2,   101.23,2,    34.14,2,     0.00,2,     2.40,2, -999.000,9, -999.000,9, -999.000,9,   2280.6,2,   2371.7,2,   7.5752,2,    25.00,     41.3,2,  -999.00,9, -999.000,9, -999.000,-999.0000,9,-999.0000,  -999.00,9,  -999.00, -999.000,9, -999.000,   -999.0,9,   -999.0,  -999.00,9,   0.1360,2,   0.0944,2,   0.0525,2,   0.0349,2,   0.0101,2,  -0.0010,4,  -0.0028,4,   0.0152,2,   0.0160,2,   2.3464,   2.4908,2
  33RR20070322,  I09N,    91,  1,      9,      9,2,20070327,0038,-27.1077,  95.0017, 4667,2186.6000,   2186.6,   2.2372,  34.7197,2,  34.7197,2,    165.0,2,    166.0,2,   105.10,2,    33.66,2,     0.00,2,     2.36,2,    0.032,3,    0.003,2,   -0.001,3,   2280.3,2,   2372.4,2,   7.5784,2,    25.00,     41.7,2,  -999.00,9, -999.000,9, -999.000,-999.0000,9,-999.0000,  -999.00,9,  -999.00, -999.000,9, -999.000,   -999.0,9,   -999.0,  -999.00,9,   0.1329,2,   0.0919,2,   0.0506,3,   0.0337,3,   0.0094,3,  -0.0012,4,  -0.0028,4,   0.0152,3,   0.0162,3,   2.0806,   2.2369,2
  33RR20070322,  I09N,    91,  1,      8,      8,2,20070327,0038,-27.1077,  95.0017, 4667,2439.8000,   2439.8,   1.9905,  34.7268,2,  34.7276,2,    173.5,2,    174.1,2,   107.13,2,    33.14,2,     0.00,2,     2.32,2, -999.000,9, -999.000,9, -999.000,9,   2276.6,2,   2372.7,2,   7.5815,2,    25.00,     40.7,2,  -999.00,9, -999.000,9, -999.000,-999.0000,9,-999.0000,  -999.00,9,  -999.00, -999.000,9, -999.000,   -999.0,9,   -999.0,  -999.00,9,   0.1321,2,   0.0916,2,   0.0504,2,   0.0334,2,   0.0090,2,  -0.0011,4,  -0.0028,4,   0.0153,3,   0.0162,3,   1.8155,   1.9902,2
  33RR20070322,  I09N,    91,  1,      7,      7,2,20070327,0038,-27.1077,  95.0017, 4667,2693.7000,   2693.7,   1.7996,  34.7295,2,  34.7302,2,    178.8,2,    186.6,4,   110.79,2,    32.99,2,     0.00,2,     2.30,2,    0.022,2,    0.007,2,   -0.001,3,   2277.3,2,   2375.3,2,   7.5990,3,    25.00,     40.7,2,  -999.00,9, -999.000,9, -999.000,-999.0000,9,-999.0000,  -999.00,9,  -999.00, -999.000,9, -999.000,   -999.0,9,   -999.0,  -999.00,9,   0.1340,2,   0.0919,2,   0.0504,2,   0.0339,2,   0.0092,2,  -0.0008,4,  -0.0026,4,   0.0153,3,   0.0163,3,   1.6050,   1.7997,2
  33RR20070322,  I09N,    91,  1,      6,      6,2,20070327,0038,-27.1077,  95.0017, 4667,2947.5000,   2947.5,   1.6356,  34.7288,2,  34.7296,2,    183.0,2,    183.1,2,   114.06,2,    32.93,2,     0.00,2,     2.29,2, -999.000,9, -999.000,9, -999.000,9,   2278.4,2,   2379.2,2,   7.6116,2,    25.00,     40.7,2,  -999.00,9, -999.000,9, -999.000,-999.0000,9,-999.0000,  -999.00,9,  -999.00, -999.000,9, -999.000,   -999.0,9,   -999.0,  -999.00,9,   0.1304,2,   0.0897,2,   0.0483,2,   0.0322,2,   0.0083,2,  -0.0012,4,  -0.0028,4,   0.0153,2,   0.0165,2,   1.4205,   1.6357,2
  33RR20070322,  I09N,    91,  1,      5,      5,2,20070327,0038,-27.1077,  95.0017, 4667,3281.3000,   3281.3,   1.4722,  34.7261,2,  34.7266,2,    186.6,2,    186.8,2,   118.14,2,    32.93,2,     0.00,2,     2.29,2,    0.040,3,    0.005,2,   -0.001,3,   2280.1,2,   2381.9,2,   7.6135,2,    25.00,     41.3,2,  -999.00,9, -999.000,9, -999.000,-999.0000,9,-999.0000,  -999.00,9,  -999.00, -999.000,9, -999.000,   -999.0,9,   -999.0,  -999.00,9,   0.1271,2,   0.0868,2,   0.0469,2,   0.0315,2,   0.0081,2,  -0.0009,4,  -0.0024,4,   0.0151,2,   0.0165,2,   1.2284,   1.4721,2