BOTTLE,20150630SIOCCHRJL
EXPOCODE,SECT_ID,STNNBR,CASTNO,SAMPNO,BTLNBR,BTLNBR_FLAG_W,DATE,TIME,LATITUDE,LONGITUDE,DEPTH,CTDRAW,CTDPRS,CTDTMP,CTDSAL,CTDSAL_FLAG_W,SALNTY,SALNTY_FLAG_W,CTDOXY,CTDOXY_FLAG_W,OXYGEN,OXYGEN_FLAG_W,SILCAT,SILCAT_FLAG_W,NITRAT,NITRAT_FLAG_W,NITRIT,NITRIT_FLAG_W,PHSPHT,PHSPHT_FLAG_W,CFC-11,CFC-11_FLAG_W,CFC-12,CFC-12_FLAG_W,CFC113,CFC113_FLAG_W,TCARBN,TCARBN_FLAG_W,ALKALI,ALKALI_FLAG_W,PH_SWS,PH_SWS_FLAG_W,PH_TMP,DOC,DOC_FLAG_W,TDN,TDN_FLAG_W,TRITUM,TRITUM_FLAG_W,TRITER,HELIUM,HELIUM_FLAG_W,HELIER,DELHE3,DELHE3_FLAG_W,DELHER,NEON,NEON_FLAG_W,NEONER,DELC14,DELC14_FLAG_W,C14ERR,DELC13,DELC13_FLAG_W,CDOM325,CDOM325_FLAG_W,CDOM340,CDOM340_FLAG_W,CDOM380,CDOM380_FLAG_W,CDOM412,CDOM412_FLAG_W,CDOM443,CDOM443_FLAG_W,CDOM490,CDOM490_FLAG_W,CDOM555,CDOM555_FLAG_W,CDOMSL,CDOMSL_FLAG_W,CDOMSN,CDOMSN_FLAG_W,THETA,SBE35,SBE35_FLAG_W
,,,,,,,,,,,METERS,,DBAR,ITS-90,PSS-78,,PSS-78,,UMOL/KG,,UMOL/KG,,UMOL/KG,,UMOL/KG,,UMOL/KG,,UMOL/KG,,PMOL/KG,,PMOL/KG,,PMOL/KG,,UMOL/KG,,UMOL/KG,,,,DEG C,UMOL/KG,,UMOL/KG,,TU,,TU,NMOL/KG,,NMOL/KG,PERCNT,,PERCNT,NMOL/KG,,NMOL/KG,/MILLE,,/MILLE,/MILLE,,1/M,,1/M,,1/M,,1/M,,1/M,,1/M,,1/M,,1/NM,,1/NM,,DEG C,ITS-90,
  33RR20070322,  I09N,    91,  1,      4,      4,2,20070327,0038,-27.1077,  95.0017, 4667,3688.0000,   3688.0,   1.2771,  34.7212,2,  34.7209,2,    192.6,2,    192.6,2,   121.41,2,    32.92,2,     0.00,2,     2.29,2, -999.000,9, -999.000,9, -999.000,9,   2278.1,2,   2381.2,2,   7.6145,2,    25.00,     41.1,2,  -999.00,9, -999.000,9, -999.000,-999.0000,9,-999.0000,  -999.00,9,  -999.00, -999.000,9, -999.000,   -999.0,9,   -999.0,  -999.00,9,   0.1303,2,   0.0897,2,   0.0495,2,   0.0333,2,   0.0091,2,  -0.0004,4,  -0.0024,4,   0.0150,3,   0.0161,3,   0.9971,   1.2775,2
  33RR20070322,  I09N,    91,  1,      3,      3,2,20070327,0038,-27.1077,  95.0017, 4667,4096.3000,   4096.3,   1.1430,  34.7164,2,  34.7174,2,    198.8,2,    199.3,2,   121.82,2,    32.71,2,     0.00,2,     2.27,2,    0.035,3,    0.007,2,    0.000,3,   2273.3,2,   2378.4,2,   7.6213,2,    25.00,     41.1,2,  -999.00,9, -999.000,9, -999.000,-999.0000,9,-999.0000,  -999.00,9,  -999.00, -999.000,9, -999.000,   -999.0,9,   -999.0,  -999.00,9,   0.1249,2,   0.0859,2,   0.0473,2,   0.0310,2,   0.0076,2,  -0.0014,4,  -0.0028,4,   0.0152,2,   0.0164,2,   0.8236,   1.1430,2
  33RR20070322,  I09N,    91,  1,      2,      2,2,20070327,0038,-27.1077,  95.0017, 4667,4502.1000,   4502.1,   1.0831,  34.7134,2,  34.7107,4,    202.7,2,    202.5,2,   122.64,2,    32.65,2,     0.00,2,     2.25,2, -999.000,9, -999.000,9, -999.000,9,   2270.8,2,   2376.6,2,   7.6157,2,    25.00,     41.4,2,  -999.00,9, -999.000,9, -999.000,-999.0000,9,-999.0000,  -999.00,9,  -999.00, -999.000,9, -999.000,   -999.0,9,   -999.0,  -999.00,9,   0.1269,2,   0.0878,2,   0.0480,2,   0.0316,2,   0.0078,2,  -0.0014,4,  -0.0029,4,   0.0154,3,   0.0164,3,   0.7206,   1.0835,2
  33RR20070322,  I09N,    91,  1,      1,      1,2,20070327,0038,-27.1077,  95.0017, 4667,4727.7000,   4727.7,   1.0647,  34.7113,2,  34.7111,2,    203.7,2,    204.3,2,   123.05,2,    32.60,2,     0.00,2,     2.25,2,    0.077,2,    0.021,2,    0.000,3,   2270.8,6,   2376.7,6,   7.6403,6,    25.00,     41.0,2,  -999.00,9, -999.000,9, -999.000,-999.0000,9,-999.0000,  -999.00,9,  -999.00, -999.000,9, -999.000,   -999.0,9,   -999.0,  -999.00,9,   0.1246,2,   0.0855,2,   0.0462,2,   0.0304,3,   0.0073,3,  -0.0014,4,  -0.0029,4,   0.0153,3,   0.0166,3,   0.6770,   1.0644,2