BOTTLE,20150630SIOCCHRJL
EXPOCODE,SECT_ID,STNNBR,CASTNO,SAMPNO,BTLNBR,BTLNBR_FLAG_W,DATE,TIME,LATITUDE,LONGITUDE,DEPTH,CTDRAW,CTDPRS,CTDTMP,CTDSAL,CTDSAL_FLAG_W,SALNTY,SALNTY_FLAG_W,CTDOXY,CTDOXY_FLAG_W,OXYGEN,OXYGEN_FLAG_W,SILCAT,SILCAT_FLAG_W,NITRAT,NITRAT_FLAG_W,NITRIT,NITRIT_FLAG_W,PHSPHT,PHSPHT_FLAG_W,CFC-11,CFC-11_FLAG_W,CFC-12,CFC-12_FLAG_W,CFC113,CFC113_FLAG_W,TCARBN,TCARBN_FLAG_W,ALKALI,ALKALI_FLAG_W,PH_SWS,PH_SWS_FLAG_W,PH_TMP,DOC,DOC_FLAG_W,TDN,TDN_FLAG_W,TRITUM,TRITUM_FLAG_W,TRITER,HELIUM,HELIUM_FLAG_W,HELIER,DELHE3,DELHE3_FLAG_W,DELHER,NEON,NEON_FLAG_W,NEONER,DELC14,DELC14_FLAG_W,C14ERR,DELC13,DELC13_FLAG_W,CDOM325,CDOM325_FLAG_W,CDOM340,CDOM340_FLAG_W,CDOM380,CDOM380_FLAG_W,CDOM412,CDOM412_FLAG_W,CDOM443,CDOM443_FLAG_W,CDOM490,CDOM490_FLAG_W,CDOM555,CDOM555_FLAG_W,CDOMSL,CDOMSL_FLAG_W,CDOMSN,CDOMSN_FLAG_W,THETA,SBE35,SBE35_FLAG_W
,,,,,,,,,,,METERS,,DBAR,ITS-90,PSS-78,,PSS-78,,UMOL/KG,,UMOL/KG,,UMOL/KG,,UMOL/KG,,UMOL/KG,,UMOL/KG,,PMOL/KG,,PMOL/KG,,PMOL/KG,,UMOL/KG,,UMOL/KG,,,,DEG C,UMOL/KG,,UMOL/KG,,TU,,TU,NMOL/KG,,NMOL/KG,PERCNT,,PERCNT,NMOL/KG,,NMOL/KG,/MILLE,,/MILLE,/MILLE,,1/M,,1/M,,1/M,,1/M,,1/M,,1/M,,1/M,,1/NM,,1/NM,,DEG C,ITS-90,
  33RR20070322,  I09N,   114,  1,      4,      4,2,20070403,1531,-14.0840,  94.9925, 5402,4345.6000,   4345.6,   1.1606,  34.7153,2,  34.7107,4,    196.0,2,    196.3,2,   124.89,2,    32.59,2,     0.00,2,     2.27,2, -999.000,5,    0.010,2,   -0.002,3,   -999.0,9,   -999.0,9,-999.0000,9,  -999.00,   -999.0,9,  -999.00,9, -999.000,9, -999.000,   1.9220,2,   0.0006,    10.63,2,     0.18,    8.310,2,    0.013,   -999.0,9,   -999.0,  -999.00,9,-999.0000,9,-999.0000,9,-999.0000,9,-999.0000,9,-999.0000,9,-999.0000,9,-999.0000,9,-999.0000,9,-999.0000,9,   0.8133,   1.1605,2
  33RR20070322,  I09N,   114,  1,      3,      3,2,20070403,1531,-14.0840,  94.9925, 5402,4754.2000,   4754.2,   1.1556,  34.7141,2,  34.7121,2,    199.4,2,    199.3,2,   124.46,2,    32.48,2,     0.00,2,     2.26,2, -999.000,5,    0.008,2,   -0.003,3,   -999.0,9,   -999.0,9,-999.0000,9,  -999.00,   -999.0,9,  -999.00,9,    0.001,2,    0.004,   1.9140,2,   0.0005,    10.51,2,     0.20,    8.249,2,    0.014,   -999.0,9,   -999.0,  -999.00,9,-999.0000,9,-999.0000,9,-999.0000,9,-999.0000,9,-999.0000,9,-999.0000,9,-999.0000,9,-999.0000,9,-999.0000,9,   0.7618,   1.1558,2
  33RR20070322,  I09N,   114,  1,      2,      2,2,20070403,1531,-14.0840,  94.9925, 5402,5264.8000,   5264.8,   1.1966,  34.7132,2,  34.7111,2,    200.8,2,    200.9,2,   124.04,2,    32.42,2,     0.00,2,     2.25,2,    0.028,2,    0.010,2,   -0.001,3,   -999.0,9,   -999.0,9,-999.0000,9,  -999.00,   -999.0,9,  -999.00,9, -999.000,9, -999.000,   1.9230,2,   0.0009,    10.91,2,     0.18,    8.377,2,    0.011,   -999.0,9,   -999.0,  -999.00,9,-999.0000,9,-999.0000,9,-999.0000,9,-999.0000,9,-999.0000,9,-999.0000,9,-999.0000,9,-999.0000,9,-999.0000,9,   0.7402,   1.1964,2
  33RR20070322,  I09N,   114,  1,      1,      1,2,20070403,1531,-14.0840,  94.9925, 5402,5499.2000,   5499.2,   1.2251,  34.7132,2,  34.7121,2,    200.0,2,    200.9,2,   124.02,2,    32.31,2,     0.00,2,     2.26,2,    0.039,2,    0.011,2,   -0.001,3,   2276.9,6,   2385.7,2,   7.6357,6,    25.00,   -999.0,9,  -999.00,9,    0.119,2,    0.005,-999.0000,9,-999.0000,  -999.00,9,  -999.00, -999.000,9, -999.000,   -999.0,9,   -999.0,  -999.00,9,-999.0000,9,-999.0000,9,-999.0000,9,-999.0000,9,-999.0000,9,-999.0000,9,-999.0000,9,-999.0000,9,-999.0000,9,   0.7384,   1.2254,2