BOTTLE,20150630SIOCCHRJL
EXPOCODE,SECT_ID,STNNBR,CASTNO,SAMPNO,BTLNBR,BTLNBR_FLAG_W,DATE,TIME,LATITUDE,LONGITUDE,DEPTH,CTDRAW,CTDPRS,CTDTMP,CTDSAL,CTDSAL_FLAG_W,SALNTY,SALNTY_FLAG_W,CTDOXY,CTDOXY_FLAG_W,OXYGEN,OXYGEN_FLAG_W,SILCAT,SILCAT_FLAG_W,NITRAT,NITRAT_FLAG_W,NITRIT,NITRIT_FLAG_W,PHSPHT,PHSPHT_FLAG_W,CFC-11,CFC-11_FLAG_W,CFC-12,CFC-12_FLAG_W,CFC113,CFC113_FLAG_W,TCARBN,TCARBN_FLAG_W,ALKALI,ALKALI_FLAG_W,PH_SWS,PH_SWS_FLAG_W,PH_TMP,DOC,DOC_FLAG_W,TDN,TDN_FLAG_W,TRITUM,TRITUM_FLAG_W,TRITER,HELIUM,HELIUM_FLAG_W,HELIER,DELHE3,DELHE3_FLAG_W,DELHER,NEON,NEON_FLAG_W,NEONER,DELC14,DELC14_FLAG_W,C14ERR,DELC13,DELC13_FLAG_W,CDOM325,CDOM325_FLAG_W,CDOM340,CDOM340_FLAG_W,CDOM380,CDOM380_FLAG_W,CDOM412,CDOM412_FLAG_W,CDOM443,CDOM443_FLAG_W,CDOM490,CDOM490_FLAG_W,CDOM555,CDOM555_FLAG_W,CDOMSL,CDOMSL_FLAG_W,CDOMSN,CDOMSN_FLAG_W,THETA,SBE35,SBE35_FLAG_W
,,,,,,,,,,,METERS,,DBAR,ITS-90,PSS-78,,PSS-78,,UMOL/KG,,UMOL/KG,,UMOL/KG,,UMOL/KG,,UMOL/KG,,UMOL/KG,,PMOL/KG,,PMOL/KG,,PMOL/KG,,UMOL/KG,,UMOL/KG,,,,DEG C,UMOL/KG,,UMOL/KG,,TU,,TU,NMOL/KG,,NMOL/KG,PERCNT,,PERCNT,NMOL/KG,,NMOL/KG,/MILLE,,/MILLE,/MILLE,,1/M,,1/M,,1/M,,1/M,,1/M,,1/M,,1/M,,1/NM,,1/NM,,DEG C,ITS-90,
  33RR20070322,  I09N,   193,  2,     36,     38,2,20070425,1801, 14.9998,  89.8498, 2701,   2.5000,      2.5,  30.6537,  32.7131,2,  32.7140,2,    195.4,2,    195.4,2,     1.97,2,     0.00,2,     0.00,2,     0.02,2,    1.491,2,    0.976,2, -999.000,5,   1892.2,6,   2204.0,6,   8.1056,6,    25.00,     75.4,2,     5.56,2, -999.000,9, -999.000,-999.0000,9,-999.0000,  -999.00,9,  -999.00, -999.000,9, -999.000,   -999.0,9,   -999.0,  -999.00,9,   0.0942,2,   0.0631,2,   0.0285,2,   0.0193,2,   0.0025,2,  -0.0003,4,  -0.0018,4,   0.0156,3,   0.0195,3,  30.6531,  30.6434,2
  33RR20070322,  I09N,   193,  2,     35,     35,2,20070425,1801, 14.9998,  89.8498, 2701,  38.8000,     38.8,  28.2368,  34.3220,2,  34.3291,2,    195.1,2,    195.4,2,     1.57,2,     0.00,2,     0.00,2,     0.15,2,    1.502,2,    0.985,2, -999.000,5,   1944.7,2,   2256.9,2,   8.0650,2,    25.00,     68.6,2,     5.29,2, -999.000,9, -999.000,-999.0000,9,-999.0000,  -999.00,9,  -999.00, -999.000,9, -999.000,   -999.0,9,   -999.0,  -999.00,9,   0.2123,2,   0.1537,2,   0.0789,2,   0.0553,2,   0.0221,2,   0.0091,2,   0.0029,2,   0.0144,3,   0.0159,3,  28.2276,  28.2297,2
  33RR20070322,  I09N,   193,  2,     34,   9419,2,20070425,1801, 14.9998,  89.8498, 2701,  53.9000,     53.9,  26.2077,  34.4986,2,  34.5052,2,    147.7,2,    124.4,2,     5.07,2,     6.51,2,     1.27,2,     0.67,2, -999.000,9, -999.000,9, -999.000,9,   2025.4,2,   2261.3,2,   7.9333,2,    25.00,     65.7,2,    13.02,2, -999.000,9, -999.000,-999.0000,9,-999.0000,  -999.00,9,  -999.00, -999.000,9, -999.000,   -999.0,9,   -999.0,  -999.00,9,   0.2479,2,   0.1851,2,   0.0984,2,   0.0707,2,   0.0297,2,   0.0116,2,   0.0041,2,   0.0147,2,   0.0152,2,  26.1956,  26.2008,2
  33RR20070322,  I09N,   193,  2,     33,     33,2,20070425,1801, 14.9998,  89.8498, 2701,  63.8000,     63.8,  23.8779,  34.7814,2,  34.7762,2,     57.6,2,     34.7,2,    11.67,2,    19.55,2,     0.13,2,     1.45,2, -999.000,9, -999.000,9, -999.000,9,   2170.1,2,   -999.0,9,-999.0000,9,  -999.00,     63.9,2,    23.65,2, -999.000,9, -999.000,-999.0000,9,-999.0000,  -999.00,9,  -999.00, -999.000,9, -999.000,   -999.0,9,   -999.0,  -999.00,9,   0.2437,2,   0.1798,2,   0.0985,2,   0.0737,2,   0.0311,2,   0.0114,2,   0.0039,2,   0.0146,3,   0.0147,3,  23.8645,  23.8948,2
  33RR20070322,  I09N,   193,  2,     32,     37,2,20070425,1801, 14.9998,  89.8498, 2701,  78.7000,     78.7,  20.8920,  34.8220,2,  34.8249,2,     13.3,2,      5.6,2,    18.85,2,    24.57,2,     0.17,2,     1.88,2,    1.101,2,    0.684,2, -999.000,5,   2191.7,2,   2279.8,2,   7.6578,2,    25.00,     63.3,2,    29.12,2, -999.000,9, -999.000,-999.0000,9,-999.0000,  -999.00,9,  -999.00, -999.000,9, -999.000,   -999.0,9,   -999.0,  -999.00,9,   0.2170,2,   0.1604,2,   0.0898,2,   0.0678,2,   0.0280,2,   0.0093,2,   0.0027,2,   0.0146,3,   0.0144,3,  20.8770,  20.8799,2
  33RR20070322,  I09N,   193,  2,     31,     31,2,20070425,1801, 14.9998,  89.8498, 2701,  93.4000,     93.4,  18.8717,  34.8737,2,  34.8762,2,      7.2,2,      4.5,2,    22.54,2,    26.30,2,     0.02,2,     2.02,2,    0.975,2,    0.592,2, -999.000,5,   2221.1,6,   2287.0,2,   7.5945,2,    25.00,     55.4,2,    30.47,2, -999.000,9, -999.000,-999.0000,9,-999.0000,  -999.00,9,  -999.00, -999.000,9, -999.000,   -999.0,9,   -999.0,  -999.00,9,   0.2036,2,   0.1509,2,   0.0862,2,   0.0658,2,   0.0272,2,   0.0086,2,   0.0021,2,   0.0145,3,   0.0140,3,  18.8552,  18.8407,2
  33RR20070322,  I09N,   193,  2,     30,     30,2,20070425,1801, 14.9998,  89.8498, 2701, 123.5000,    123.5,  16.2962,  34.9194,2,  34.9227,2,      3.4,2,      3.5,2,    27.79,2,    28.86,2,     0.01,2,     2.21,2, -999.000,9, -999.000,9, -999.000,9,   2221.1,6,   2295.3,6,   7.5470,6,    25.00,     49.4,2,    33.71,2, -999.000,9, -999.000,-999.0000,9,-999.0000,  -999.00,9,  -999.00, -999.000,9, -999.000,   -999.0,9,   -999.0,  -999.00,9,   0.1976,2,   0.1469,2,   0.0868,2,   0.0670,2,   0.0286,2,   0.0087,2,   0.0019,2,   0.0144,3,   0.0135,3,  16.2765,  16.2998,2
  33RR20070322,  I09N,   193,  2,     29,     29,2,20070425,1801, 14.9998,  89.8498, 2701, 143.5000,    143.5,  15.1351,  34.9516,2,  34.9518,2,      3.2,2,      2.8,2,    29.73,2,    29.78,2,     0.00,2,     2.25,2,    0.648,2,    0.388,2, -999.000,5,   -999.0,9,   -999.0,9,-999.0000,9,  -999.00,     47.6,2,    33.48,2, -999.000,9, -999.000,-999.0000,9,-999.0000,  -999.00,9,  -999.00, -999.000,9, -999.000,   -999.0,9,   -999.0,  -999.00,9,   0.1966,2,   0.1466,2,   0.0873,2,   0.0680,2,   0.0293,2,   0.0089,2,   0.0021,2,   0.0143,3,   0.0133,3,  15.1133,  15.1272,2
  33RR20070322,  I09N,   193,  2,     28,     28,2,20070425,1801, 14.9998,  89.8498, 2701, 173.6000,    173.6,  13.8145,  34.9876,2,  34.9870,2,      4.0,2,      3.8,2,    32.06,2,    31.13,2,     0.00,2,     2.32,2, -999.000,9, -999.000,9, -999.000,9,   2244.8,2,   2305.6,2,   7.4924,2,    25.00,     47.1,2,    35.07,2, -999.000,9, -999.000,-999.0000,9,-999.0000,  -999.00,9,  -999.00, -999.000,9, -999.000,   -999.0,9,   -999.0,  -999.00,9,   0.1977,2,   0.1481,2,   0.0898,2,   0.0708,2,   0.0315,2,   0.0097,2,   0.0022,2,   0.0141,3,   0.0129,3,  13.7897,  13.8153,2
  33RR20070322,  I09N,   193,  2,     27,     27,2,20070425,1801, 14.9998,  89.8498, 2701, 223.7000,    223.7,  12.4555,  35.0171,2,  35.0161,2,      3.5,2,      3.5,2,    34.98,2,    32.68,2,     0.00,2,     2.40,2,    0.408,2,    0.237,2, -999.000,5,   2258.5,2,   2311.2,2,   7.4680,2,    25.00,     46.6,2,    36.59,2, -999.000,9, -999.000,-999.0000,9,-999.0000,  -999.00,9,  -999.00, -999.000,9, -999.000,   -999.0,9,   -999.0,  -999.00,9,   0.1998,2,   0.1501,2,   0.0923,2,   0.0731,2,   0.0334,2,   0.0104,2,   0.0024,2,   0.0140,3,   0.0127,3,  12.4256,  12.4518,2
  33RR20070322,  I09N,   193,  2,     26,     26,2,20070425,1801, 14.9998,  89.8498, 2701, 273.6000,    273.6,  11.5796,  35.0314,2,  35.0303,2,      4.7,2,      5.8,2,    37.90,2,    33.80,2,     0.00,2,     2.45,2, -999.000,9, -999.000,9, -999.000,9,   2269.5,2,   2316.7,2,   7.4560,3,    25.00,     45.9,2,    37.01,2, -999.000,9, -999.000,-999.0000,9,-999.0000,  -999.00,9,  -999.00, -999.000,9, -999.000,   -999.0,9,   -999.0,  -999.00,9,   0.2000,2,   0.1501,2,   0.0926,2,   0.0739,2,   0.0341,2,   0.0103,2,   0.0023,2,   0.0141,3,   0.0126,3,  11.5446,  11.5777,2
  33RR20070322,  I09N,   193,  2,     25,     25,2,20070425,1801, 14.9998,  89.8498, 2701, 323.6000,    323.6,  11.1184,  35.0366,2,  35.0339,2,      6.4,2,      6.1,2,    39.65,2,    34.23,2,     0.00,2,     2.48,2,    0.293,2,    0.166,2, -999.000,5,   2272.1,2,   2318.1,2,   7.4413,2,    25.00,     45.1,2,    38.08,2, -999.000,9, -999.000,-999.0000,9,-999.0000,  -999.00,9,  -999.00, -999.000,9, -999.000,   -999.0,9,   -999.0,  -999.00,9,   0.2028,2,   0.1527,2,   0.0946,2,   0.0757,2,   0.0354,2,   0.0109,2,   0.0025,2,   0.0140,3,   0.0125,3,  11.0780,  11.1171,2
  33RR20070322,  I09N,   193,  2,     24,     24,2,20070425,1801, 14.9998,  89.8498, 2701, 373.8000,    373.8,  10.6912,  35.0339,2,  35.0323,2,      7.1,2,      7.1,2,    42.56,2,    34.81,2,     0.00,2,     2.52,2, -999.000,9, -999.000,9, -999.000,9,   2276.7,2,   2320.8,2,   7.4313,2,    25.00,     44.5,2,    38.20,2, -999.000,9, -999.000,-999.0000,9,-999.0000,  -999.00,9,  -999.00, -999.000,9, -999.000,   -999.0,9,   -999.0,  -999.00,9,   0.2049,2,   0.1542,2,   0.0957,2,   0.0766,2,   0.0361,2,   0.0114,2,   0.0027,2,   0.0140,3,   0.0125,3,  10.6455,  10.6839,2
  33RR20070322,  I09N,   193,  2,     23,     23,2,20070425,1801, 14.9998,  89.8498, 2701, 423.4000,    423.4,  10.3122,  35.0306,2,  35.0311,2,      6.8,2,      6.9,2,    45.88,2,    35.40,2,     0.00,2,     2.57,2, -999.000,9, -999.000,9, -999.000,9,   2280.8,2,   2324.3,2,   7.4464,2,    25.00,     43.7,2,    38.85,2, -999.000,9, -999.000,-999.0000,9,-999.0000,  -999.00,9,  -999.00, -999.000,9, -999.000,   -999.0,9,   -999.0,  -999.00,9,   0.2094,2,   0.1580,2,   0.0982,2,   0.0787,2,   0.0376,2,   0.0119,2,   0.0029,2,   0.0140,3,   0.0124,3,  10.2615,  10.3111,2
  33RR20070322,  I09N,   193,  2,     22,     22,2,20070425,1801, 14.9998,  89.8498, 2701, 473.5000,    473.5,   9.8843,  35.0289,2,  35.0277,2,      9.4,2,      9.3,2,    49.01,2,    35.84,2,     0.00,2,     2.61,2, -999.000,9, -999.000,9, -999.000,9,   -999.0,9,   -999.0,9,-999.0000,9,  -999.00,     43.0,2,    39.68,2, -999.000,9, -999.000,-999.0000,9,-999.0000,  -999.00,9,  -999.00, -999.000,9, -999.000,   -999.0,9,   -999.0,  -999.00,9,   0.2031,2,   0.1523,2,   0.0943,2,   0.0750,2,   0.0352,2,   0.0109,2,   0.0024,2,   0.0141,3,   0.0126,3,   9.8290,   9.8730,2
  33RR20070322,  I09N,   193,  2,     21,     21,2,20070425,1801, 14.9998,  89.8498, 2701, 523.6000,    523.6,   9.5291,  35.0183,2,  35.0181,2,     11.9,2,     12.2,2,    52.71,2,    36.18,2,     0.00,2,     2.64,2,    0.101,2,    0.059,2, -999.000,5,   2287.9,2,   2331.9,2,   7.4341,2,    25.00,     42.9,2,    38.85,2, -999.000,9, -999.000,-999.0000,9,-999.0000,  -999.00,9,  -999.00, -999.000,9, -999.000,   -999.0,9,   -999.0,  -999.00,9,   0.2043,2,   0.1533,2,   0.0948,2,   0.0750,2,   0.0354,2,   0.0110,2,   0.0024,2,   0.0140,3,   0.0126,3,   9.4691,   9.5285,2
  33RR20070322,  I09N,   193,  2,     20,     20,2,20070425,1801, 14.9998,  89.8498, 2701, 644.0000,    644.0,   8.6913,  34.9978,2,  34.9943,2,     19.9,2,     20.1,2,    61.13,2,    36.62,2,     0.00,2,     2.68,2, -999.000,9, -999.000,9, -999.000,9,   2294.8,2,   2342.7,2,   7.4453,2,    25.00,     42.8,2,    39.42,2, -999.000,9, -999.000,-999.0000,9,-999.0000,  -999.00,9,  -999.00, -999.000,9, -999.000,   -999.0,9,   -999.0,  -999.00,9,   0.2002,2,   0.1494,2,   0.0911,2,   0.0711,2,   0.0330,2,   0.0101,2,   0.0020,2,   0.0141,3,   0.0129,3,   8.6210,   8.6788,2
  33RR20070322,  I09N,   193,  2,     19,     19,2,20070425,1801, 14.9998,  89.8498, 2701, 743.9000,    743.9,   8.1161,  34.9809,2,  34.9807,2,     24.2,2,     23.0,2,    67.79,2,    37.01,2,     0.00,2,     2.73,2,    0.036,2,    0.022,2, -999.000,5,   2301.8,2,   2345.6,2,   7.4395,2,    25.00,     42.9,2,    39.56,2, -999.000,9, -999.000,-999.0000,9,-999.0000,  -999.00,9,  -999.00, -999.000,9, -999.000,   -999.0,9,   -999.0,  -999.00,9,   0.2008,2,   0.1498,2,   0.0911,2,   0.0703,2,   0.0328,2,   0.0101,2,   0.0020,2,   0.0141,3,   0.0130,3,   8.0375,   8.1173,2
  33RR20070322,  I09N,   193,  2,     18,     18,2,20070425,1801, 14.9998,  89.8498, 2701, 844.3000,    844.3,   7.5338,  34.9635,2,  34.9638,2,     28.9,2,     29.2,2,    73.87,2,    37.26,2,     0.00,2,     2.76,2, -999.000,9, -999.000,9, -999.000,9,   2307.9,2,   2353.6,2,   7.4469,2,    25.00,     42.6,2,    39.43,2, -999.000,9, -999.000,-999.0000,9,-999.0000,  -999.00,9,  -999.00, -999.000,9, -999.000,   -999.0,9,   -999.0,  -999.00,9,   0.2021,2,   0.1504,2,   0.0914,2,   0.0702,2,   0.0326,2,   0.0099,2,   0.0019,2,   0.0142,3,   0.0130,3,   7.4477,   7.5356,2
  33RR20070322,  I09N,   193,  2,     17,     17,2,20070425,1801, 14.9998,  89.8498, 2701, 944.6000,    944.6,   6.9459,  34.9424,2,  34.9417,2,     35.7,2,     35.6,2,    80.36,2,    37.35,2,     0.00,2,     2.77,2, -999.000,9, -999.000,9, -999.000,9,   2312.2,2,   2359.2,2,   7.4508,2,    25.00,     41.9,2,    39.62,2, -999.000,9, -999.000,-999.0000,9,-999.0000,  -999.00,9,  -999.00, -999.000,9, -999.000,   -999.0,9,   -999.0,  -999.00,9,   0.2033,2,   0.1515,2,   0.0918,2,   0.0700,2,   0.0326,2,   0.0099,2,   0.0019,2,   0.0142,4,   0.0131,4,   6.8531,   6.9512,2
  33RR20070322,  I09N,   193,  2,     16,     16,2,20070425,1801, 14.9998,  89.8498, 2701,1044.9000,   1044.9,   6.3822,  34.9214,2,  34.9223,2,     42.4,2,     43.4,2,    87.06,2,    37.40,2,     0.00,2,     2.77,2, -999.000,9, -999.000,9, -999.000,9,   2316.0,2,   2367.1,2,   7.4568,2,    25.00,     41.4,2,    38.40,2, -999.000,9, -999.000,-999.0000,9,-999.0000,  -999.00,9,  -999.00, -999.000,9, -999.000,   -999.0,9,   -999.0,  -999.00,9,   0.2013,2,   0.1492,2,   0.0895,2,   0.0670,2,   0.0311,2,   0.0094,2,   0.0016,2,   0.0143,3,   0.0133,3,   6.2833,   6.3845,2
  33RR20070322,  I09N,   193,  2,     15,     15,2,20070425,1801, 14.9998,  89.8498, 2701,1145.4000,   1145.4,   5.9701,  34.9053,2,  34.9061,2,     51.9,2,     51.7,2,    91.21,2,    37.20,2,     0.00,2,     2.75,2,    0.013,2,    0.005,2, -999.000,5,   -999.0,9,   -999.0,9,-999.0000,9,  -999.00,     40.6,2,    38.63,2, -999.000,9, -999.000,-999.0000,9,-999.0000,  -999.00,9,  -999.00, -999.000,9, -999.000,   -999.0,9,   -999.0,  -999.00,9,   0.1999,2,   0.1480,2,   0.0888,2,   0.0669,2,   0.0312,2,   0.0095,2,   0.0017,2,   0.0142,3,   0.0133,3,   5.8644,   5.9662,2
  33RR20070322,  I09N,   193,  2,     14,     14,2,20070425,1801, 14.9998,  89.8498, 2701,1245.7000,   1245.7,   5.5517,  34.8897,2,  34.8880,2,     59.8,2,     58.6,2,    95.95,2,    37.05,2,     0.00,2,     2.74,2, -999.000,9, -999.000,9, -999.000,9,   2320.3,2,   2376.2,2,   7.4709,2,    25.00,     41.2,2,    38.68,2, -999.000,9, -999.000,-999.0000,9,-999.0000,  -999.00,9,  -999.00, -999.000,9, -999.000,   -999.0,9,   -999.0,  -999.00,9,   0.2015,2,   0.1492,2,   0.0890,2,   0.0667,2,   0.0311,2,   0.0096,2,   0.0019,2,   0.0142,3,   0.0134,3,   5.4398,   5.5533,2
  33RR20070322,  I09N,   193,  2,     13,     13,2,20070425,1801, 14.9998,  89.8498, 2701,1346.5000,   1346.5,   5.1576,  34.8749,2,  34.8727,2,     67.7,2,     66.5,2,   100.10,2,    36.91,2,     0.00,2,     2.72,2, -999.000,5, -999.000,5, -999.000,5,   2322.4,2,   2378.7,2,   7.4844,2,    25.00,     41.2,2,    38.89,2, -999.000,9, -999.000,-999.0000,9,-999.0000,  -999.00,9,  -999.00, -999.000,9, -999.000,   -999.0,9,   -999.0,  -999.00,9,   0.1984,2,   0.1465,2,   0.0871,2,   0.0650,2,   0.0300,2,   0.0091,2,   0.0016,2,   0.0143,3,   0.0135,3,   5.0397,   5.1592,2
  33RR20070322,  I09N,   193,  2,     12,     12,2,20070425,1801, 14.9998,  89.8498, 2701,1446.8000,   1446.8,   4.8031,  34.8614,2,  34.8607,2,     71.8,2,     72.2,2,   104.27,2,    36.86,2,     0.00,2,     2.71,2, -999.000,9, -999.000,9, -999.000,9,   -999.0,9,   -999.0,9,-999.0000,9,  -999.00,     41.5,2,    37.99,2, -999.000,9, -999.000,-999.0000,9,-999.0000,  -999.00,9,  -999.00, -999.000,9, -999.000,   -999.0,9,   -999.0,  -999.00,9,   0.1977,2,   0.1460,2,   0.0866,2,   0.0645,2,   0.0298,2,   0.0090,2,   0.0016,2,   0.0142,3,   0.0135,3,   4.6792,   4.8049,2
  33RR20070322,  I09N,   193,  2,     11,     11,2,20070425,1801, 14.9998,  89.8498, 2701,1547.3000,   1547.3,   4.3843,  34.8461,2,  34.8454,2,     79.4,2,     80.0,2,   109.44,2,    36.66,2,     0.00,2,     2.69,2, -999.000,9, -999.000,9, -999.000,9,   2326.6,2,   2388.5,2,   7.4913,2,    25.00,     40.8,2,    38.16,2, -999.000,9, -999.000,-999.0000,9,-999.0000,  -999.00,9,  -999.00, -999.000,9, -999.000,   -999.0,9,   -999.0,  -999.00,9,   0.1978,2,   0.1461,2,   0.0866,2,   0.0643,2,   0.0299,2,   0.0092,2,   0.0018,2,   0.0142,3,   0.0135,3,   4.2556,   4.3886,2
  33RR20070322,  I09N,   193,  2,     10,     10,2,20070425,1801, 14.9998,  89.8498, 2701,1648.2000,   1648.2,   3.9430,  34.8281,2,  34.8283,2,     87.2,2,     87.7,2,   114.21,2,    36.57,2,     0.00,2,     2.68,2, -999.000,9, -999.000,9, -999.000,9,   2329.1,2,   2395.7,2,   7.4971,2,    25.00,     40.6,2,    37.76,2, -999.000,9, -999.000,-999.0000,9,-999.0000,  -999.00,9,  -999.00, -999.000,9, -999.000,   -999.0,9,   -999.0,  -999.00,9,   0.1954,2,   0.1438,2,   0.0847,2,   0.0624,2,   0.0283,2,   0.0084,2,   0.0013,2,   0.0143,3,   0.0137,3,   3.8102,   3.9420,2
  33RR20070322,  I09N,   193,  2,      9,      9,2,20070425,1801, 14.9998,  89.8498, 2701,1748.7000,   1748.7,   3.5547,  34.8126,2,  34.8123,2,     95.8,2,     95.4,2,   118.40,2,    36.36,2,     0.00,2,     2.66,2,    0.007,2,    0.004,2, -999.000,5,   2331.1,2,   2397.6,2,   7.5099,2,    25.00,     40.7,2,    37.41,2, -999.000,9, -999.000,-999.0000,9,-999.0000,  -999.00,9,  -999.00, -999.000,9, -999.000,   -999.0,9,   -999.0,  -999.00,9,   0.1953,2,   0.1437,2,   0.0844,2,   0.0620,2,   0.0279,2,   0.0083,2,   0.0013,2,   0.0144,3,   0.0138,3,   3.4177,   3.5528,2
  33RR20070322,  I09N,   193,  2,      8,      8,2,20070425,1801, 14.9998,  89.8498, 2701,1849.7000,   1849.7,   3.1868,  34.7975,2,  34.7954,2,    103.0,2,    102.7,2,   123.18,2,    36.22,2,     0.00,2,     2.64,2, -999.000,9, -999.000,9, -999.000,9,   2333.2,2,   2401.9,2,   7.5147,2,    25.00,     40.5,2,    38.03,2, -999.000,9, -999.000,-999.0000,9,-999.0000,  -999.00,9,  -999.00, -999.000,9, -999.000,   -999.0,9,   -999.0,  -999.00,9,   0.1963,2,   0.1447,2,   0.0853,2,   0.0628,2,   0.0288,2,   0.0089,2,   0.0017,2,   0.0142,3,   0.0136,3,   3.0456,   3.1856,2
  33RR20070322,  I09N,   193,  2,      7,      7,2,20070425,1801, 14.9998,  89.8498, 2701,1950.3000,   1950.3,   2.9519,  34.7875,2,  34.7862,2,    109.0,2,    108.4,2,   125.99,2,    35.97,2,     0.00,2,     2.62,2, -999.000,9, -999.000,9, -999.000,9,   2334.3,2,   2405.2,2,   7.5274,2,    25.00,     41.1,2,    37.96,2, -999.000,9, -999.000,-999.0000,9,-999.0000,  -999.00,9,  -999.00, -999.000,9, -999.000,   -999.0,9,   -999.0,  -999.00,9,   0.2007,2,   0.1487,2,   0.0880,2,   0.0648,2,   0.0305,2,   0.0103,2,   0.0026,2,   0.0140,3,   0.0135,3,   2.8050,   2.9524,2
  33RR20070322,  I09N,   193,  2,      6,      6,2,20070425,1801, 14.9998,  89.8498, 2701,2111.8000,   2111.8,   2.6436,  34.7740,2,  34.7742,2,    116.4,2,    115.7,2,   129.39,2,    35.68,2,     0.00,2,     2.59,2, -999.000,9, -999.000,9, -999.000,9,   2335.0,2,   2410.5,2,   7.5369,2,    25.00,     41.2,2,    37.36,2, -999.000,9, -999.000,-999.0000,9,-999.0000,  -999.00,9,  -999.00, -999.000,9, -999.000,   -999.0,9,   -999.0,  -999.00,9,   0.1969,2,   0.1453,2,   0.0852,2,   0.0624,2,   0.0283,2,   0.0087,2,   0.0017,2,   0.0143,3,   0.0138,3,   2.4869,   2.6435,2
  33RR20070322,  I09N,   193,  2,      5,      5,2,20070425,1801, 14.9998,  89.8498, 2701,2364.3000,   2364.3,   2.2896,  34.7585,2,  34.7585,2,    125.4,2,    126.3,2,   133.61,2,    35.39,2,     0.00,2,     2.55,2, -999.000,9, -999.000,9, -999.000,9,   2333.9,2,   2417.8,2,   7.5494,2,    25.00,     40.7,2,    36.89,2, -999.000,9, -999.000,-999.0000,9,-999.0000,  -999.00,9,  -999.00, -999.000,9, -999.000,   -999.0,9,   -999.0,  -999.00,9,   0.1966,2,   0.1452,2,   0.0855,2,   0.0626,2,   0.0288,2,   0.0092,2,   0.0019,2,   0.0142,3,   0.0137,3,   2.1160,   2.2882,2