BOTTLE,20150630SIOCCHRJL
EXPOCODE,SECT_ID,STNNBR,CASTNO,SAMPNO,BTLNBR,BTLNBR_FLAG_W,DATE,TIME,LATITUDE,LONGITUDE,DEPTH,CTDRAW,CTDPRS,CTDTMP,CTDSAL,CTDSAL_FLAG_W,SALNTY,SALNTY_FLAG_W,CTDOXY,CTDOXY_FLAG_W,OXYGEN,OXYGEN_FLAG_W,SILCAT,SILCAT_FLAG_W,NITRAT,NITRAT_FLAG_W,NITRIT,NITRIT_FLAG_W,PHSPHT,PHSPHT_FLAG_W,CFC-11,CFC-11_FLAG_W,CFC-12,CFC-12_FLAG_W,CFC113,CFC113_FLAG_W,TCARBN,TCARBN_FLAG_W,ALKALI,ALKALI_FLAG_W,PH_SWS,PH_SWS_FLAG_W,PH_TMP,DOC,DOC_FLAG_W,TDN,TDN_FLAG_W,TRITUM,TRITUM_FLAG_W,TRITER,HELIUM,HELIUM_FLAG_W,HELIER,DELHE3,DELHE3_FLAG_W,DELHER,NEON,NEON_FLAG_W,NEONER,DELC14,DELC14_FLAG_W,C14ERR,DELC13,DELC13_FLAG_W,CDOM325,CDOM325_FLAG_W,CDOM340,CDOM340_FLAG_W,CDOM380,CDOM380_FLAG_W,CDOM412,CDOM412_FLAG_W,CDOM443,CDOM443_FLAG_W,CDOM490,CDOM490_FLAG_W,CDOM555,CDOM555_FLAG_W,CDOMSL,CDOMSL_FLAG_W,CDOMSN,CDOMSN_FLAG_W,THETA,SBE35,SBE35_FLAG_W
,,,,,,,,,,,METERS,,DBAR,ITS-90,PSS-78,,PSS-78,,UMOL/KG,,UMOL/KG,,UMOL/KG,,UMOL/KG,,UMOL/KG,,UMOL/KG,,PMOL/KG,,PMOL/KG,,PMOL/KG,,UMOL/KG,,UMOL/KG,,,,DEG C,UMOL/KG,,UMOL/KG,,TU,,TU,NMOL/KG,,NMOL/KG,PERCNT,,PERCNT,NMOL/KG,,NMOL/KG,/MILLE,,/MILLE,/MILLE,,1/M,,1/M,,1/M,,1/M,,1/M,,1/M,,1/M,,1/NM,,1/NM,,DEG C,ITS-90,
  33RR20070322,  I09N,   100,  1,     36,     38,2,20070330,0101,-21.8803,  95.0090, 5155,   3.9000,      3.9,  24.8832,  35.4754,2,  35.4761,2,    208.5,2,    209.0,2,     2.07,2,     0.01,2,     0.00,2,     0.10,2,    1.687,2,    1.075,2, -999.000,5,   1999.3,6,   2352.9,4,   8.0861,2,    25.00,   -999.0,9,  -999.00,9, -999.000,9, -999.000,-999.0000,9,-999.0000,  -999.00,9,  -999.00, -999.000,9, -999.000,   -999.0,9,   -999.0,  -999.00,9,-999.0000,9,-999.0000,9,-999.0000,9,-999.0000,9,-999.0000,9,-999.0000,9,-999.0000,9,-999.0000,9,-999.0000,9,  24.8824,  24.8803,2
  33RR20070322,  I09N,   100,  1,     35,     35,2,20070330,0101,-21.8803,  95.0090, 5155,  21.0000,     21.0,  24.8783,  35.4749,2,  35.4757,2,    209.0,2,    208.6,2,     2.07,2,     0.01,2,     0.00,2,     0.09,2,    1.704,2,    1.086,2, -999.000,5,   1999.1,2,   2350.4,4,   8.0815,2,    25.00,   -999.0,9,  -999.00,9, -999.000,9, -999.000,-999.0000,9,-999.0000,  -999.00,9,  -999.00, -999.000,9, -999.000,   -999.0,9,   -999.0,  -999.00,9,-999.0000,9,-999.0000,9,-999.0000,9,-999.0000,9,-999.0000,9,-999.0000,9,-999.0000,9,-999.0000,9,-999.0000,9,  24.8738,  24.8741,2
  33RR20070322,  I09N,   100,  1,     34,   9419,2,20070330,0101,-21.8803,  95.0090, 5155,  46.2000,     46.2,  24.8670,  35.5148,2,  35.5175,2,    209.8,2,    208.8,2,     2.07,2,     0.01,2,     0.00,2,     0.09,2,    1.705,2,    1.089,2, -999.000,5,   -999.0,9,   -999.0,9,-999.0000,9,  -999.00,   -999.0,9,  -999.00,9, -999.000,9, -999.000,-999.0000,9,-999.0000,  -999.00,9,  -999.00, -999.000,9, -999.000,   -999.0,9,   -999.0,  -999.00,9,-999.0000,9,-999.0000,9,-999.0000,9,-999.0000,9,-999.0000,9,-999.0000,9,-999.0000,9,-999.0000,9,-999.0000,9,  24.8570,  24.8633,2
  33RR20070322,  I09N,   100,  1,     33,     33,2,20070330,0101,-21.8803,  95.0090, 5155,  90.6000,     90.6,  21.8107,  35.7304,2,  35.7332,2,    231.4,2,    230.5,2,     2.27,2,     0.01,2,     0.00,2,     0.09,2,    2.113,2,    1.315,2, -999.000,5,   2028.9,2,   2328.5,4,-999.0000,5,    25.00,   -999.0,9,  -999.00,9, -999.000,9, -999.000,-999.0000,9,-999.0000,  -999.00,9,  -999.00, -999.000,9, -999.000,   -999.0,9,   -999.0,  -999.00,9,-999.0000,9,-999.0000,9,-999.0000,9,-999.0000,9,-999.0000,9,-999.0000,9,-999.0000,9,-999.0000,9,-999.0000,9,  21.7928,  21.8265,2
  33RR20070322,  I09N,   100,  1,     32,     37,2,20070330,0101,-21.8803,  95.0090, 5155, 140.7000,    140.7,  19.7928,  35.8642,2,  35.8647,2,    222.5,2,    218.9,2,     2.06,2,     0.00,2,     0.01,2,     0.12,2,    2.216,2,    1.364,2, -999.000,5,   -999.0,9,   -999.0,9,-999.0000,9,  -999.00,   -999.0,9,  -999.00,9, -999.000,9, -999.000,-999.0000,9,-999.0000,  -999.00,9,  -999.00, -999.000,9, -999.000,   -999.0,9,   -999.0,  -999.00,9,-999.0000,9,-999.0000,9,-999.0000,9,-999.0000,9,-999.0000,9,-999.0000,9,-999.0000,9,-999.0000,9,-999.0000,9,  19.7669,  19.8293,2
  33RR20070322,  I09N,   100,  1,     31,     31,2,20070330,0101,-21.8803,  95.0090, 5155, 166.1000,    166.1,  19.2698,  35.8780,2,  35.8769,2,    215.6,2,    214.0,2,     2.26,2,     0.24,2,     0.20,2,     0.16,2,    2.277,2,    1.395,2, -999.000,5,   2067.8,2,   2352.0,2,   7.9780,3,    25.00,   -999.0,9,  -999.00,9, -999.000,9, -999.000,-999.0000,9,-999.0000,  -999.00,9,  -999.00, -999.000,9, -999.000,   -999.0,9,   -999.0,  -999.00,9,-999.0000,9,-999.0000,9,-999.0000,9,-999.0000,9,-999.0000,9,-999.0000,9,-999.0000,9,-999.0000,9,-999.0000,9,  19.2397,  19.2603,2
  33RR20070322,  I09N,   100,  1,     30,     30,2,20070330,0101,-21.8803,  95.0090, 5155, 190.8000,    190.8,  18.6847,  35.8837,2,  35.8863,2,    214.9,2,    213.6,2,     2.05,2,     0.44,2,     0.21,2,     0.19,2,    2.314,2,    1.397,2, -999.000,5,   -999.0,9,   -999.0,9,-999.0000,9,  -999.00,   -999.0,9,  -999.00,9, -999.000,9, -999.000,-999.0000,9,-999.0000,  -999.00,9,  -999.00, -999.000,9, -999.000,   -999.0,9,   -999.0,  -999.00,9,-999.0000,9,-999.0000,9,-999.0000,9,-999.0000,9,-999.0000,9,-999.0000,9,-999.0000,9,-999.0000,9,-999.0000,9,  18.6509,  18.6863,2
  33RR20070322,  I09N,   100,  1,     29,     29,2,20070330,0101,-21.8803,  95.0090, 5155, 240.2000,    240.2,  17.0361,  35.7924,2,  35.7847,2,    214.0,2,    217.0,2,     1.86,2,     1.89,2,     0.01,2,     0.28,2,    2.546,2,    1.524,2, -999.000,5,   2091.4,2,   2349.2,2,-999.0000,5,    25.00,   -999.0,9,  -999.00,9, -999.000,9, -999.000,-999.0000,9,-999.0000,  -999.00,9,  -999.00, -999.000,9, -999.000,   -999.0,9,   -999.0,  -999.00,9,-999.0000,9,-999.0000,9,-999.0000,9,-999.0000,9,-999.0000,9,-999.0000,9,-999.0000,9,-999.0000,9,-999.0000,9,  16.9961,  17.0431,2
  33RR20070322,  I09N,   100,  1,     28,     28,2,20070330,0101,-21.8803,  95.0090, 5155, 291.1000,    291.1,  14.9968,  35.5662,2,  35.5557,2,    219.2,2,    220.3,2,     2.04,2,     4.42,2,     0.01,2,     0.44,2,    2.844,2,    1.661,2, -999.000,5,   -999.0,9,   -999.0,9,-999.0000,9,  -999.00,   -999.0,9,  -999.00,9, -999.000,9, -999.000,-999.0000,9,-999.0000,  -999.00,9,  -999.00, -999.000,9, -999.000,   -999.0,9,   -999.0,  -999.00,9,-999.0000,9,-999.0000,9,-999.0000,9,-999.0000,9,-999.0000,9,-999.0000,9,-999.0000,9,-999.0000,9,-999.0000,9,  14.9524,  14.9981,2
  33RR20070322,  I09N,   100,  1,     27,     27,2,20070330,0101,-21.8803,  95.0090, 5155, 340.8000,    340.8,  13.3741,  35.3305,2,  35.3392,2,    225.4,2,    226.4,2,     2.44,2,     6.72,2,     0.00,2,     0.58,2,    3.105,2,    1.771,2, -999.000,5,   2108.3,2,   2328.7,2,   7.8590,3,    25.00,   -999.0,9,  -999.00,9, -999.000,9, -999.000,-999.0000,9,-999.0000,  -999.00,9,  -999.00, -999.000,9, -999.000,   -999.0,9,   -999.0,  -999.00,9,-999.0000,9,-999.0000,9,-999.0000,9,-999.0000,9,-999.0000,9,-999.0000,9,-999.0000,9,-999.0000,9,-999.0000,9,  13.3259,  13.3819,2
  33RR20070322,  I09N,   100,  1,     26,     26,2,20070330,0101,-21.8803,  95.0090, 5155, 390.8000,    390.8,  12.0489,  35.1197,2,  35.1242,2,    231.3,2,    231.2,2,     2.83,2,     9.22,2,     0.00,2,     0.72,2,    3.277,2,    1.830,2, -999.000,5,   -999.0,9,   -999.0,9,-999.0000,9,  -999.00,   -999.0,9,  -999.00,9, -999.000,9, -999.000,-999.0000,9,-999.0000,  -999.00,9,  -999.00, -999.000,9, -999.000,   -999.0,9,   -999.0,  -999.00,9,-999.0000,9,-999.0000,9,-999.0000,9,-999.0000,9,-999.0000,9,-999.0000,9,-999.0000,9,-999.0000,9,-999.0000,9,  11.9973,  12.0545,2
  33RR20070322,  I09N,   100,  1,     25,     25,2,20070330,0101,-21.8803,  95.0090, 5155, 440.7000,    440.7,  10.9346,  34.9408,2,  34.9411,2,    234.4,2,    238.3,2,     3.42,2,    11.79,2,     0.00,2,     0.88,2,    3.256,2,    1.732,2, -999.000,5,   2115.5,2,   2309.4,2,-999.0000,5,    25.00,   -999.0,9,  -999.00,9, -999.000,9, -999.000,-999.0000,9,-999.0000,  -999.00,9,  -999.00, -999.000,9, -999.000,   -999.0,9,   -999.0,  -999.00,9,-999.0000,9,-999.0000,9,-999.0000,9,-999.0000,9,-999.0000,9,-999.0000,9,-999.0000,9,-999.0000,9,-999.0000,9,  10.8799,  10.9445,2
  33RR20070322,  I09N,   100,  1,     24,     24,2,20070330,0101,-21.8803,  95.0090, 5155, 490.8000,    490.8,  10.2794,  34.8360,2,  34.8402,2,    239.3,2,    239.3,2,     4.02,2,    13.30,2,     0.00,2,     0.97,2,    3.511,2,    1.888,2, -999.000,5,   2118.1,2,   2306.3,2,-999.0000,5,    25.00,   -999.0,9,  -999.00,9, -999.000,9, -999.000,-999.0000,9,-999.0000,  -999.00,9,  -999.00, -999.000,9, -999.000,   -999.0,9,   -999.0,  -999.00,9,-999.0000,9,-999.0000,9,-999.0000,9,-999.0000,9,-999.0000,9,-999.0000,9,-999.0000,9,-999.0000,9,-999.0000,9,  10.2207,  10.2825,2
  33RR20070322,  I09N,   100,  1,     23,     23,2,20070330,0101,-21.8803,  95.0090, 5155, 575.9000,    575.9,   9.3357,  34.6933,2,  34.6931,2,    240.4,2,    237.4,2,     4.99,2,    16.27,2,     0.00,2,     1.15,2,    3.552,2,    1.858,2, -999.000,5,   2124.8,2,   2300.6,2,   8.0579,4,    25.00,   -999.0,9,  -999.00,9, -999.000,9, -999.000,-999.0000,9,-999.0000,  -999.00,9,  -999.00, -999.000,9, -999.000,   -999.0,9,   -999.0,  -999.00,9,-999.0000,9,-999.0000,9,-999.0000,9,-999.0000,9,-999.0000,9,-999.0000,9,-999.0000,9,-999.0000,9,-999.0000,9,   9.2706,   9.3353,2
  33RR20070322,  I09N,   100,  1,     22,     22,2,20070330,0101,-21.8803,  95.0090, 5155, 676.6000,    676.6,   8.0960,  34.5614,2,  34.5615,2,    224.1,2,    214.3,2,    10.94,2,    21.44,2,     0.00,2,     1.49,2,    2.844,2,    1.453,2, -999.000,5,   -999.0,9,   -999.0,9,-999.0000,9,  -999.00,   -999.0,9,  -999.00,9, -999.000,9, -999.000,-999.0000,9,-999.0000,  -999.00,9,  -999.00, -999.000,9, -999.000,   -999.0,9,   -999.0,  -999.00,9,-999.0000,9,-999.0000,9,-999.0000,9,-999.0000,9,-999.0000,9,-999.0000,9,-999.0000,9,-999.0000,9,-999.0000,9,   8.0254,   8.0957,2
  33RR20070322,  I09N,   100,  1,     21,     21,2,20070330,0101,-21.8803,  95.0090, 5155, 776.2000,    776.2,   6.4265,  34.4737,2,  34.4766,2,    189.5,2,    182.2,2,    27.19,2,    27.98,2,     0.00,2,     1.93,2,    1.267,2,    0.639,2, -999.000,5,   2183.5,2,   2306.7,2,-999.0000,5,    25.00,   -999.0,9,  -999.00,9, -999.000,9, -999.000,-999.0000,9,-999.0000,  -999.00,9,  -999.00, -999.000,9, -999.000,   -999.0,9,   -999.0,  -999.00,9,-999.0000,9,-999.0000,9,-999.0000,9,-999.0000,9,-999.0000,9,-999.0000,9,-999.0000,9,-999.0000,9,-999.0000,9,   6.3547,   6.4293,2
  33RR20070322,  I09N,   100,  1,     20,     20,2,20070330,0101,-21.8803,  95.0090, 5155, 877.2000,    877.2,   5.4657,  34.5112,2,  34.5151,2,    152.5,2,    142.7,2,    52.99,2,    32.82,2,     0.00,2,     2.34,2,    0.390,2,    0.220,2, -999.000,5,   -999.0,9,   -999.0,9,-999.0000,9,  -999.00,   -999.0,9,  -999.00,9, -999.000,9, -999.000,-999.0000,9,-999.0000,  -999.00,9,  -999.00, -999.000,9, -999.000,   -999.0,9,   -999.0,  -999.00,9,-999.0000,9,-999.0000,9,-999.0000,9,-999.0000,9,-999.0000,9,-999.0000,9,-999.0000,9,-999.0000,9,-999.0000,9,   5.3903,   5.4672,2
  33RR20070322,  I09N,   100,  1,     19,     19,2,20070330,0101,-21.8803,  95.0090, 5155, 977.1000,    977.1,   5.1511,  34.5876,2,  34.5869,2,    118.9,2,    114.7,2,    72.51,2,    34.88,2,     0.00,2,     2.53,2,    0.102,2,    0.060,2, -999.000,5,   -999.0,9,   -999.0,9,-999.0000,9,  -999.00,   -999.0,9,  -999.00,9, -999.000,9, -999.000,-999.0000,9,-999.0000,  -999.00,9,  -999.00, -999.000,9, -999.000,   -999.0,9,   -999.0,  -999.00,9,-999.0000,9,-999.0000,9,-999.0000,9,-999.0000,9,-999.0000,9,-999.0000,9,-999.0000,9,-999.0000,9,-999.0000,9,   5.0686,   5.1484,2
  33RR20070322,  I09N,   100,  1,     18,     18,2,20070330,0101,-21.8803,  95.0090, 5155,1078.0000,   1078.0,   4.6929,  34.6052,2,  34.6047,2,    114.5,2,    113.8,2,    80.51,2,    35.67,2,     0.00,2,     2.58,2,    0.042,2,    0.026,2, -999.000,5,   2272.5,2,   2359.2,2,-999.0000,5,    25.00,   -999.0,9,  -999.00,9, -999.000,9, -999.000,-999.0000,9,-999.0000,  -999.00,9,  -999.00, -999.000,9, -999.000,   -999.0,9,   -999.0,  -999.00,9,-999.0000,9,-999.0000,9,-999.0000,9,-999.0000,9,-999.0000,9,-999.0000,9,-999.0000,9,-999.0000,9,-999.0000,9,   4.6048,   4.6944,2
  33RR20070322,  I09N,   100,  1,     17,     17,2,20070330,0101,-21.8803,  95.0090, 5155,1177.7000,   1177.7,   4.3218,  34.6148,2,  34.6119,2,    117.9,2,    117.6,2,    84.10,2,    35.72,2,     0.00,2,     2.59,2,    0.026,2,    0.016,2, -999.000,5,   2275.4,2,   2367.4,3,   7.5565,6,    25.00,   -999.0,9,  -999.00,9, -999.000,9, -999.000,-999.0000,9,-999.0000,  -999.00,9,  -999.00, -999.000,9, -999.000,   -999.0,9,   -999.0,  -999.00,9,-999.0000,9,-999.0000,9,-999.0000,9,-999.0000,9,-999.0000,9,-999.0000,9,-999.0000,9,-999.0000,9,-999.0000,9,   4.2280,   4.3210,2
  33RR20070322,  I09N,   100,  1,     16,     16,2,20070330,0101,-21.8803,  95.0090, 5155,1278.3000,   1278.3,   4.0841,  34.6374,2,  34.6369,2,    118.6,2,    118.3,2,    88.91,2,    35.71,2,     0.00,2,     2.59,2,    0.015,2,    0.008,2, -999.000,5,   -999.0,9,   -999.0,9,-999.0000,9,  -999.00,   -999.0,9,  -999.00,9, -999.000,9, -999.000,-999.0000,9,-999.0000,  -999.00,9,  -999.00, -999.000,9, -999.000,   -999.0,9,   -999.0,  -999.00,9,-999.0000,9,-999.0000,9,-999.0000,9,-999.0000,9,-999.0000,9,-999.0000,9,-999.0000,9,-999.0000,9,-999.0000,9,   3.9836,   4.0842,2
  33RR20070322,  I09N,   100,  1,     15,     15,2,20070330,0101,-21.8803,  95.0090, 5155,1379.2000,   1379.2,   3.6945,  34.6423,2,  34.6398,2,    126.6,2,    126.5,2,    90.92,2,    35.59,2,     0.00,2,     2.57,2,    0.012,2,    0.006,2, -999.000,5,   -999.0,9,   -999.0,9,-999.0000,9,  -999.00,   -999.0,9,  -999.00,9, -999.000,9, -999.000,-999.0000,9,-999.0000,  -999.00,9,  -999.00, -999.000,9, -999.000,   -999.0,9,   -999.0,  -999.00,9,-999.0000,9,-999.0000,9,-999.0000,9,-999.0000,9,-999.0000,9,-999.0000,9,-999.0000,9,-999.0000,9,-999.0000,9,   3.5891,   3.6941,2
  33RR20070322,  I09N,   100,  1,     14,     14,2,20070330,0101,-21.8803,  95.0090, 5155,1480.7000,   1480.7,   3.3984,  34.6546,2,  34.6541,2,    132.5,2,    132.4,2,    92.92,2,    35.32,2,     0.00,2,     2.54,2,    0.011,2,    0.006,2, -999.000,5,   -999.0,9,   -999.0,9,-999.0000,9,  -999.00,   -999.0,9,  -999.00,9, -999.000,9, -999.000,-999.0000,9,-999.0000,  -999.00,9,  -999.00, -999.000,9, -999.000,   -999.0,9,   -999.0,  -999.00,9,-999.0000,9,-999.0000,9,-999.0000,9,-999.0000,9,-999.0000,9,-999.0000,9,-999.0000,9,-999.0000,9,-999.0000,9,   3.2875,   3.3986,2
  33RR20070322,  I09N,   100,  1,     13,     13,2,20070330,0101,-21.8803,  95.0090, 5155,1579.8000,   1579.8,   3.1142,  34.6729,2,  34.6718,2,    135.8,2,    137.9,2,    96.33,2,    34.99,2,     0.00,2,     2.51,2,    0.007,2,    0.003,2, -999.000,5,   -999.0,9,   -999.0,9,-999.0000,9,  -999.00,   -999.0,9,  -999.00,9, -999.000,9, -999.000,-999.0000,9,-999.0000,  -999.00,9,  -999.00, -999.000,9, -999.000,   -999.0,9,   -999.0,  -999.00,9,-999.0000,9,-999.0000,9,-999.0000,9,-999.0000,9,-999.0000,9,-999.0000,9,-999.0000,9,-999.0000,9,-999.0000,9,   2.9980,   3.1150,2
  33RR20070322,  I09N,   100,  1,     12,     12,2,20070330,0101,-21.8803,  95.0090, 5155,1781.9000,   1781.9,   2.7144,  34.7016,2,  34.7012,2,    144.5,2,    145.7,2,   103.97,2,    34.56,2,     0.00,2,     2.47,2, -999.000,9, -999.000,9, -999.000,9,   -999.0,9,   -999.0,9,-999.0000,9,  -999.00,   -999.0,9,  -999.00,9, -999.000,9, -999.000,-999.0000,9,-999.0000,  -999.00,9,  -999.00, -999.000,9, -999.000,   -999.0,9,   -999.0,  -999.00,9,-999.0000,9,-999.0000,9,-999.0000,9,-999.0000,9,-999.0000,9,-999.0000,9,-999.0000,9,-999.0000,9,-999.0000,9,   2.5859,   2.7141,2
  33RR20070322,  I09N,   100,  1,     11,     11,2,20070330,0101,-21.8803,  95.0090, 5155,1983.8000,   1983.8,   2.4132,  34.7177,2,  34.7171,2,    152.6,2,    152.6,2,   109.41,2,    34.24,2,     0.00,2,     2.43,2,    0.007,2,    0.002,2, -999.000,5,   -999.0,9,   -999.0,9,-999.0000,9,  -999.00,   -999.0,9,  -999.00,9, -999.000,9, -999.000,-999.0000,9,-999.0000,  -999.00,9,  -999.00, -999.000,9, -999.000,   -999.0,9,   -999.0,  -999.00,9,-999.0000,9,-999.0000,9,-999.0000,9,-999.0000,9,-999.0000,9,-999.0000,9,-999.0000,9,-999.0000,9,-999.0000,9,   2.2716,   2.4144,2
  33RR20070322,  I09N,   100,  1,     10,     10,2,20070330,0101,-21.8803,  95.0090, 5155,2185.5000,   2185.5,   2.1874,  34.7242,2,  34.7244,2,    158.7,2,    159.4,2,   112.64,2,    33.86,2,     0.00,2,     2.40,2, -999.000,9, -999.000,9, -999.000,9,   -999.0,9,   -999.0,9,-999.0000,9,  -999.00,   -999.0,9,  -999.00,9, -999.000,9, -999.000,-999.0000,9,-999.0000,  -999.00,9,  -999.00, -999.000,9, -999.000,   -999.0,9,   -999.0,  -999.00,9,-999.0000,9,-999.0000,9,-999.0000,9,-999.0000,9,-999.0000,9,-999.0000,9,-999.0000,9,-999.0000,9,-999.0000,9,   2.0317,   2.1870,2
  33RR20070322,  I09N,   100,  1,      9,      9,2,20070330,0101,-21.8803,  95.0090, 5155,2439.6000,   2439.6,   1.9739,  34.7274,2,  34.7269,2,    166.2,2,    166.7,2,   114.66,2,    33.54,2,     0.00,2,     2.37,2,    0.008,2,    0.004,2, -999.000,5,   -999.0,9,   -999.0,9,-999.0000,9,  -999.00,   -999.0,9,  -999.00,9, -999.000,9, -999.000,-999.0000,9,-999.0000,  -999.00,9,  -999.00, -999.000,9, -999.000,   -999.0,9,   -999.0,  -999.00,9,-999.0000,9,-999.0000,9,-999.0000,9,-999.0000,9,-999.0000,9,-999.0000,9,-999.0000,9,-999.0000,9,-999.0000,9,   1.7992,   1.9733,2
  33RR20070322,  I09N,   100,  1,      8,      8,2,20070330,0101,-21.8803,  95.0090, 5155,2691.4000,   2691.4,   1.7877,  34.7283,2,  34.7304,4,    172.2,2,    172.4,2,   117.69,2,    33.37,2,     0.00,2,     2.36,2, -999.000,9, -999.000,9, -999.000,9,   -999.0,9,   -999.0,9,-999.0000,9,  -999.00,   -999.0,9,  -999.00,9, -999.000,9, -999.000,-999.0000,9,-999.0000,  -999.00,9,  -999.00, -999.000,9, -999.000,   -999.0,9,   -999.0,  -999.00,9,-999.0000,9,-999.0000,9,-999.0000,9,-999.0000,9,-999.0000,9,-999.0000,9,-999.0000,9,-999.0000,9,-999.0000,9,   1.5936,   1.7871,2
  33RR20070322,  I09N,   100,  1,      7,      7,2,20070330,0101,-21.8803,  95.0090, 5155,2945.5000,   2945.5,   1.6506,  34.7277,2,  34.7264,2,    176.2,2,    176.2,2,   120.12,2,    33.20,2,     0.00,2,     2.35,2,    0.009,2,    0.004,2, -999.000,5,   -999.0,9,   -999.0,9,-999.0000,9,  -999.00,   -999.0,9,  -999.00,9, -999.000,9, -999.000,-999.0000,9,-999.0000,  -999.00,9,  -999.00, -999.000,9, -999.000,   -999.0,9,   -999.0,  -999.00,9,-999.0000,9,-999.0000,9,-999.0000,9,-999.0000,9,-999.0000,9,-999.0000,9,-999.0000,9,-999.0000,9,-999.0000,9,   1.4354,   1.6510,2
  33RR20070322,  I09N,   100,  1,      6,      6,2,20070330,0101,-21.8803,  95.0090, 5155,3279.0000,   3279.0,   1.5118,  34.7249,2,  34.7234,2,    178.8,2,    178.1,2,   124.57,2,    33.25,2,     0.00,2,     2.35,2, -999.000,9, -999.000,9, -999.000,9,   -999.0,9,   -999.0,9,-999.0000,9,  -999.00,   -999.0,9,  -999.00,9, -999.000,9, -999.000,-999.0000,9,-999.0000,  -999.00,9,  -999.00, -999.000,9, -999.000,   -999.0,9,   -999.0,  -999.00,9,-999.0000,9,-999.0000,9,-999.0000,9,-999.0000,9,-999.0000,9,-999.0000,9,-999.0000,9,-999.0000,9,-999.0000,9,   1.2673,   1.5122,2
  33RR20070322,  I09N,   100,  1,      5,      5,2,20070330,0101,-21.8803,  95.0090, 5155,3686.7000,   3686.7,   1.3418,  34.7211,2,  34.7201,2,    186.7,2,    187.5,2,   124.17,2,    32.88,2,     0.00,2,     2.32,2,    0.006,2,    0.003,2, -999.000,5,   -999.0,9,   -999.0,9,-999.0000,9,  -999.00,   -999.0,9,  -999.00,9, -999.000,9, -999.000,-999.0000,9,-999.0000,  -999.00,9,  -999.00, -999.000,9, -999.000,   -999.0,9,   -999.0,  -999.00,9,-999.0000,9,-999.0000,9,-999.0000,9,-999.0000,9,-999.0000,9,-999.0000,9,-999.0000,9,-999.0000,9,-999.0000,9,   1.0602,   1.3444,2