BOTTLE,20150630SIOCCHRJL
EXPOCODE,SECT_ID,STNNBR,CASTNO,SAMPNO,BTLNBR,BTLNBR_FLAG_W,DATE,TIME,LATITUDE,LONGITUDE,DEPTH,CTDRAW,CTDPRS,CTDTMP,CTDSAL,CTDSAL_FLAG_W,SALNTY,SALNTY_FLAG_W,CTDOXY,CTDOXY_FLAG_W,OXYGEN,OXYGEN_FLAG_W,SILCAT,SILCAT_FLAG_W,NITRAT,NITRAT_FLAG_W,NITRIT,NITRIT_FLAG_W,PHSPHT,PHSPHT_FLAG_W,CFC-11,CFC-11_FLAG_W,CFC-12,CFC-12_FLAG_W,CFC113,CFC113_FLAG_W,TCARBN,TCARBN_FLAG_W,ALKALI,ALKALI_FLAG_W,PH_SWS,PH_SWS_FLAG_W,PH_TMP,DOC,DOC_FLAG_W,TDN,TDN_FLAG_W,TRITUM,TRITUM_FLAG_W,TRITER,HELIUM,HELIUM_FLAG_W,HELIER,DELHE3,DELHE3_FLAG_W,DELHER,NEON,NEON_FLAG_W,NEONER,DELC14,DELC14_FLAG_W,C14ERR,DELC13,DELC13_FLAG_W,CDOM325,CDOM325_FLAG_W,CDOM340,CDOM340_FLAG_W,CDOM380,CDOM380_FLAG_W,CDOM412,CDOM412_FLAG_W,CDOM443,CDOM443_FLAG_W,CDOM490,CDOM490_FLAG_W,CDOM555,CDOM555_FLAG_W,CDOMSL,CDOMSL_FLAG_W,CDOMSN,CDOMSN_FLAG_W,THETA,SBE35,SBE35_FLAG_W
,,,,,,,,,,,METERS,,DBAR,ITS-90,PSS-78,,PSS-78,,UMOL/KG,,UMOL/KG,,UMOL/KG,,UMOL/KG,,UMOL/KG,,UMOL/KG,,PMOL/KG,,PMOL/KG,,PMOL/KG,,UMOL/KG,,UMOL/KG,,,,DEG C,UMOL/KG,,UMOL/KG,,TU,,TU,NMOL/KG,,NMOL/KG,PERCNT,,PERCNT,NMOL/KG,,NMOL/KG,/MILLE,,/MILLE,/MILLE,,1/M,,1/M,,1/M,,1/M,,1/M,,1/M,,1/M,,1/NM,,1/NM,,DEG C,ITS-90,
  33RR20070322,  I09N,   101,  3,     36,     38,2,20070330,0912,-21.3165,  95.0013, 5180,   4.3000,      4.3,  24.8568,  35.4951,2,  35.4956,2,    210.3,2,    210.5,2,     2.11,2,     0.05,2,     0.00,2,     0.09,2,    1.763,2,    1.135,2, -999.000,5,   1999.3,6,   2325.2,6,   8.0667,6,    25.00,     73.0,2,     4.83,2, -999.000,9, -999.000,-999.0000,9,-999.0000,  -999.00,9,  -999.00, -999.000,9, -999.000,   -999.0,9,   -999.0,  -999.00,9,-999.0000,9,-999.0000,9,-999.0000,9,-999.0000,9,-999.0000,9,-999.0000,9,-999.0000,9,-999.0000,9,-999.0000,9,  24.8559,  24.8516,2
  33RR20070322,  I09N,   101,  3,     35,     35,2,20070330,0912,-21.3165,  95.0013, 5180,  32.7000,     32.7,  24.8426,  35.4962,2,  35.4960,2,    211.7,2,    210.9,2,     2.11,2,     0.05,2,     0.00,2,     0.08,2,    1.766,2,    1.138,2, -999.000,5,   1999.5,2,   2325.0,2,   7.9575,4,    25.00,     72.8,2,     4.53,2, -999.000,9, -999.000,-999.0000,9,-999.0000,  -999.00,9,  -999.00, -999.000,9, -999.000,   -999.0,9,   -999.0,  -999.00,9,-999.0000,9,-999.0000,9,-999.0000,9,-999.0000,9,-999.0000,9,-999.0000,9,-999.0000,9,-999.0000,9,-999.0000,9,  24.8355,  24.8376,2
  33RR20070322,  I09N,   101,  3,     34,   9419,2,20070330,0912,-21.3165,  95.0013, 5180,  56.6000,     56.6,  24.7625,  35.4920,2,  35.4950,2,    212.2,2,    211.4,2,     2.11,2,     0.05,2,     0.00,2,     0.08,2,    1.770,2,    1.136,2, -999.000,5,   1999.5,2,   2327.3,2,   8.0497,2,    25.00,     71.9,2,     4.38,2, -999.000,9, -999.000,-999.0000,9,-999.0000,  -999.00,9,  -999.00, -999.000,9, -999.000,   -999.0,9,   -999.0,  -999.00,9,-999.0000,9,-999.0000,9,-999.0000,9,-999.0000,9,-999.0000,9,-999.0000,9,-999.0000,9,-999.0000,9,-999.0000,9,  24.7503,  24.7540,2
  33RR20070322,  I09N,   101,  3,     33,     33,2,20070330,0912,-21.3165,  95.0013, 5180,  81.6000,     81.6,  22.6768,  35.5009,2,  35.4889,2,    224.0,2,    223.0,2,     2.31,2,     0.00,2,     0.00,2,     0.09,2,    1.980,2,    1.235,2, -999.000,5,   2008.1,2,   2326.7,2,   8.0357,4,    25.00,     70.2,2,     4.84,2, -999.000,9, -999.000,-999.0000,9,-999.0000,  -999.00,9,  -999.00, -999.000,9, -999.000,   -999.0,9,   -999.0,  -999.00,9,-999.0000,9,-999.0000,9,-999.0000,9,-999.0000,9,-999.0000,9,-999.0000,9,-999.0000,9,-999.0000,9,-999.0000,9,  22.6603,  22.6728,2
  33RR20070322,  I09N,   101,  3,     32,     37,2,20070330,0912,-21.3165,  95.0013, 5180, 107.0000,    107.0,  21.5136,  35.7559,2,  35.7573,2,    227.0,2,    227.1,2,     1.91,2,     0.00,2,     0.00,2,     0.09,2, -999.000,9, -999.000,9, -999.000,9,   2029.1,2,   2342.1,2,   8.0339,2,    25.00,     68.3,2,     4.36,2, -999.000,9, -999.000,-999.0000,9,-999.0000,  -999.00,9,  -999.00, -999.000,9, -999.000,   -999.0,9,   -999.0,  -999.00,9,-999.0000,9,-999.0000,9,-999.0000,9,-999.0000,9,-999.0000,9,-999.0000,9,-999.0000,9,-999.0000,9,-999.0000,9,  21.4927,  21.5250,2
  33RR20070322,  I09N,   101,  3,     31,     31,2,20070330,0912,-21.3165,  95.0013, 5180, 156.7000,    156.7,  19.7342,  35.7873,2,  35.7897,2,    211.2,2,    204.0,2,     2.90,2,     1.40,2,     0.11,2,     0.21,2, -999.000,5, -999.000,5, -999.000,5,   2061.1,2,   2345.3,2,   8.0344,4,    25.00,     61.3,2,     4.72,2, -999.000,9, -999.000,-999.0000,9,-999.0000,  -999.00,9,  -999.00, -999.000,9, -999.000,   -999.0,9,   -999.0,  -999.00,9,-999.0000,9,-999.0000,9,-999.0000,9,-999.0000,9,-999.0000,9,-999.0000,9,-999.0000,9,-999.0000,9,-999.0000,9,  19.7054,  19.7285,2
  33RR20070322,  I09N,   101,  3,     30,     30,2,20070330,0912,-21.3165,  95.0013, 5180, 206.9000,    206.9,  18.5984,  35.8418,2,  35.8412,2,    205.2,2,    209.3,2,     2.50,2,     1.75,2,     0.02,2,     0.24,2, -999.000,9, -999.000,9, -999.000,9,   2075.3,2,   2348.7,2,   7.9440,2,    25.00,     57.8,2,     5.31,2, -999.000,9, -999.000,-999.0000,9,-999.0000,  -999.00,9,  -999.00, -999.000,9, -999.000,   -999.0,9,   -999.0,  -999.00,9,-999.0000,9,-999.0000,9,-999.0000,9,-999.0000,9,-999.0000,9,-999.0000,9,-999.0000,9,-999.0000,9,-999.0000,9,  18.5618,  18.5962,2
  33RR20070322,  I09N,   101,  3,     29,     29,2,20070330,0912,-21.3165,  95.0013, 5180, 256.6000,    256.6,  17.2839,  35.7918,2,  35.7895,2,    206.5,2,    207.5,2,     2.70,2,     2.84,2,     0.01,2,     0.32,2,    2.423,2,    1.441,2, -999.000,5,   2088.3,2,   2347.5,2,-999.0000,5,    25.00,     54.2,2,     6.03,2, -999.000,9, -999.000,-999.0000,9,-999.0000,  -999.00,9,  -999.00, -999.000,9, -999.000,   -999.0,9,   -999.0,  -999.00,9,-999.0000,9,-999.0000,9,-999.0000,9,-999.0000,9,-999.0000,9,-999.0000,9,-999.0000,9,-999.0000,9,-999.0000,9,  17.2408,  17.2798,2
  33RR20070322,  I09N,   101,  3,     28,     28,2,20070330,0912,-21.3165,  95.0013, 5180, 306.6000,    306.6,  15.6455,  35.6486,2,  35.6540,2,    216.4,2,    217.4,2,     2.11,2,     3.46,2,     0.01,2,     0.38,2, -999.000,9, -999.000,9, -999.000,9,   2095.7,2,   2341.7,2,   7.9178,2,    25.00,     51.6,2,     7.27,2, -999.000,9, -999.000,-999.0000,9,-999.0000,  -999.00,9,  -999.00, -999.000,9, -999.000,   -999.0,9,   -999.0,  -999.00,9,-999.0000,9,-999.0000,9,-999.0000,9,-999.0000,9,-999.0000,9,-999.0000,9,-999.0000,9,-999.0000,9,-999.0000,9,  15.5973,  15.6450,2
  33RR20070322,  I09N,   101,  3,     27,     27,2,20070330,0912,-21.3165,  95.0013, 5180, 356.8000,    356.8,  14.1570,  35.4582,2,  35.4699,2,    225.1,2,    224.9,2,     1.91,2,     5.17,2,     0.01,2,     0.48,2,    2.973,2,    1.725,2, -999.000,5,   2102.0,2,   2331.8,2,   7.8688,2,    25.00,     49.6,2,     8.92,2, -999.000,9, -999.000,-999.0000,9,-999.0000,  -999.00,9,  -999.00, -999.000,9, -999.000,   -999.0,9,   -999.0,  -999.00,9,-999.0000,9,-999.0000,9,-999.0000,9,-999.0000,9,-999.0000,9,-999.0000,9,-999.0000,9,-999.0000,9,-999.0000,9,  14.1045,  14.1849,2
  33RR20070322,  I09N,   101,  3,     26,     26,2,20070330,0912,-21.3165,  95.0013, 5180, 406.6000,    406.6,  13.0494,  35.2855,2,  35.2864,2,    230.0,2,    229.2,2,     2.11,2,     7.13,2,     0.00,2,     0.60,2,    3.169,2,    1.821,2, -999.000,5,   2106.2,2,   2322.2,2,   7.8527,2,    25.00,     47.2,2,    10.58,2, -999.000,9, -999.000,-999.0000,9,-999.0000,  -999.00,9,  -999.00, -999.000,9, -999.000,   -999.0,9,   -999.0,  -999.00,9,-999.0000,9,-999.0000,9,-999.0000,9,-999.0000,9,-999.0000,9,-999.0000,9,-999.0000,9,-999.0000,9,-999.0000,9,  12.9927,  13.0525,2
  33RR20070322,  I09N,   101,  3,     25,     25,2,20070330,0912,-21.3165,  95.0013, 5180, 456.6000,    456.6,  11.6417,  35.0566,2,  35.0559,2,    235.3,2,    235.9,2,     2.71,2,     9.86,2,     0.00,2,     0.76,2,    3.420,2,    1.923,2, -999.000,5,   2109.9,2,   2310.5,2,   7.8459,2,    25.00,     46.1,2,    13.29,2, -999.000,9, -999.000,-999.0000,9,-999.0000,  -999.00,9,  -999.00, -999.000,9, -999.000,   -999.0,9,   -999.0,  -999.00,9,-999.0000,9,-999.0000,9,-999.0000,9,-999.0000,9,-999.0000,9,-999.0000,9,-999.0000,9,-999.0000,9,-999.0000,9,  11.5826,  11.6336,2
  33RR20070322,  I09N,   101,  3,     24,     24,2,20070330,0912,-21.3165,  95.0013, 5180, 506.4000,    506.4,  10.5569,  34.8784,2,  34.8820,2,    239.4,2,    240.4,2,     3.29,2,    12.43,2,     0.00,2,     0.92,2,    3.597,2,    1.999,2, -999.000,5,   2113.9,2,   2301.7,2,   7.7911,2,    25.00,     44.7,2,    14.63,2, -999.000,9, -999.000,-999.0000,9,-999.0000,  -999.00,9,  -999.00, -999.000,9, -999.000,   -999.0,9,   -999.0,  -999.00,9,-999.0000,9,-999.0000,9,-999.0000,9,-999.0000,9,-999.0000,9,-999.0000,9,-999.0000,9,-999.0000,9,-999.0000,9,  10.4953,  10.5612,2
  33RR20070322,  I09N,   101,  3,     23,     23,2,20070330,0912,-21.3165,  95.0013, 5180, 607.1000,    607.1,   9.3165,  34.6899,2,  34.6957,2,    236.4,2,    236.7,2,     4.88,2,    16.19,2,     0.00,2,     1.14,2,    3.662,2,    1.964,2, -999.000,5,   2123.5,2,   2293.5,2,-999.0000,5,    25.00,     43.7,2,    19.07,2, -999.000,9, -999.000,-999.0000,9,-999.0000,  -999.00,9,  -999.00, -999.000,9, -999.000,   -999.0,9,   -999.0,  -999.00,9,-999.0000,9,-999.0000,9,-999.0000,9,-999.0000,9,-999.0000,9,-999.0000,9,-999.0000,9,-999.0000,9,-999.0000,9,   9.2478,   9.3034,2
  33RR20070322,  I09N,   101,  3,     22,     22,2,20070330,0912,-21.3165,  95.0013, 5180, 707.8000,    707.8,   8.0443,  34.5562,2,  34.5605,2,    214.7,2,    213.9,2,    11.01,2,    21.60,2,     0.00,2,     1.50,2,    2.840,2,    1.460,2, -999.000,5,   2145.2,2,   2293.2,2,   7.7020,2,    25.00,     42.3,2,    24.15,2, -999.000,9, -999.000,-999.0000,9,-999.0000,  -999.00,9,  -999.00, -999.000,9, -999.000,   -999.0,9,   -999.0,  -999.00,9,-999.0000,9,-999.0000,9,-999.0000,9,-999.0000,9,-999.0000,9,-999.0000,9,-999.0000,9,-999.0000,9,-999.0000,9,   7.9705,   8.0379,2
  33RR20070322,  I09N,   101,  3,     21,     21,2,20070330,0912,-21.3165,  95.0013, 5180, 807.6000,    807.6,   6.1569,  34.4626,2,  34.4637,2,    183.8,2,    179.2,2,    30.02,2,    28.74,2,     0.00,2,     1.99,2,    1.192,2,    0.627,2, -999.000,5,   2188.3,2,   2303.7,2,   7.6050,2,    25.00,     41.6,2,    30.78,2, -999.000,9, -999.000,-999.0000,9,-999.0000,  -999.00,9,  -999.00, -999.000,9, -999.000,   -999.0,9,   -999.0,  -999.00,9,-999.0000,9,-999.0000,9,-999.0000,9,-999.0000,9,-999.0000,9,-999.0000,9,-999.0000,9,-999.0000,9,-999.0000,9,   6.0837,   6.1547,2
  33RR20070322,  I09N,   101,  3,     20,     20,2,20070330,0912,-21.3165,  95.0013, 5180, 908.1000,    908.1,   5.0674,  34.4947,2,  34.4965,2,    153.7,2,    148.7,2,    53.43,2,    32.90,2,     0.00,2,     2.34,2,    0.380,2,    0.215,2, -999.000,5,   2229.4,2,   2327.2,2,   7.9565,4,    25.00,     41.4,2,    35.85,2, -999.000,9, -999.000,-999.0000,9,-999.0000,  -999.00,9,  -999.00, -999.000,9, -999.000,   -999.0,9,   -999.0,  -999.00,9,-999.0000,9,-999.0000,9,-999.0000,9,-999.0000,9,-999.0000,9,-999.0000,9,-999.0000,9,-999.0000,9,-999.0000,9,   4.9919,   5.0673,2
  33RR20070322,  I09N,   101,  3,     19,     19,2,20070330,0912,-21.3165,  95.0013, 5180,1008.4000,   1008.4,   4.8151,  34.5695,2,  34.5692,2,    126.9,2,    122.8,2,    71.53,2,    34.78,2,     0.00,2,     2.51,2,    0.105,2,    0.063,2, -999.000,5,   2259.0,6,   2346.3,6,   7.5371,2,    25.00,     41.0,2,    35.79,2, -999.000,9, -999.000,-999.0000,9,-999.0000,  -999.00,9,  -999.00, -999.000,9, -999.000,   -999.0,9,   -999.0,  -999.00,9,-999.0000,9,-999.0000,9,-999.0000,9,-999.0000,9,-999.0000,9,-999.0000,9,-999.0000,9,-999.0000,9,-999.0000,9,   4.7323,   4.8155,2
  33RR20070322,  I09N,   101,  3,     18,     18,2,20070330,0912,-21.3165,  95.0013, 5180,1108.9000,   1108.9,   4.5425,  34.6055,2,  34.6075,2,    118.9,2,    115.9,2,    81.51,2,    35.57,2,     0.00,2,     2.57,2,    0.037,2,    0.022,2, -999.000,5,   2273.1,2,   2357.4,2,   7.5191,2,    25.00,     40.9,2,    36.82,2, -999.000,9, -999.000,-999.0000,9,-999.0000,  -999.00,9,  -999.00, -999.000,9, -999.000,   -999.0,9,   -999.0,  -999.00,9,-999.0000,9,-999.0000,9,-999.0000,9,-999.0000,9,-999.0000,9,-999.0000,9,-999.0000,9,-999.0000,9,-999.0000,9,   4.4529,   4.5382,2
  33RR20070322,  I09N,   101,  3,     17,     17,2,20070330,0912,-21.3165,  95.0013, 5180,1208.8000,   1208.8,   4.2041,  34.6202,2,  34.6202,2,    119.6,2,    118.6,2,    85.71,2,    35.45,2,     0.00,2,     2.57,2,    0.020,2,    0.011,2, -999.000,5,   2276.7,2,   2358.9,2,-999.0000,5,    25.00,     41.1,2,    36.99,2, -999.000,9, -999.000,-999.0000,9,-999.0000,  -999.00,9,  -999.00, -999.000,9, -999.000,   -999.0,9,   -999.0,  -999.00,9,-999.0000,9,-999.0000,9,-999.0000,9,-999.0000,9,-999.0000,9,-999.0000,9,-999.0000,9,-999.0000,9,-999.0000,9,   4.1086,   4.2001,2
  33RR20070322,  I09N,   101,  3,     16,     16,2,20070330,0912,-21.3165,  95.0013, 5180,1310.8000,   1310.8,   3.8522,  34.6340,2,  34.6353,2,    121.1,2,    123.6,2,    89.11,2,    35.34,2,     0.00,2,     2.57,2, -999.000,9, -999.000,9, -999.000,9,   2279.6,2,   2363.1,2,   7.5154,4,    25.00,     41.2,2,    36.74,2, -999.000,9, -999.000,-999.0000,9,-999.0000,  -999.00,9,  -999.00, -999.000,9, -999.000,   -999.0,9,   -999.0,  -999.00,9,-999.0000,9,-999.0000,9,-999.0000,9,-999.0000,9,-999.0000,9,-999.0000,9,-999.0000,9,-999.0000,9,-999.0000,9,   3.7512,   3.8518,2
  33RR20070322,  I09N,   101,  3,     15,     15,2,20070330,0912,-21.3165,  95.0013, 5180,1409.7000,   1409.7,   3.5696,  34.6539,2,  34.6552,2,    125.9,2,    128.0,2,    92.32,2,    35.23,2,     0.00,2,     2.55,2,    0.006,2,    0.003,2, -999.000,5,   2281.0,2,   2366.3,2,   7.5336,2,    25.00,     41.2,2,    36.77,2, -999.000,9, -999.000,-999.0000,9,-999.0000,  -999.00,9,  -999.00, -999.000,9, -999.000,   -999.0,9,   -999.0,  -999.00,9,-999.0000,9,-999.0000,9,-999.0000,9,-999.0000,9,-999.0000,9,-999.0000,9,-999.0000,9,-999.0000,9,-999.0000,9,   3.4629,   3.5709,2
  33RR20070322,  I09N,   101,  3,     14,     14,2,20070330,0912,-21.3165,  95.0013, 5180,1510.9000,   1510.9,   3.2934,  34.6734,2,  34.6738,2,    130.6,2,    133.3,2,    95.93,2,    35.07,2,     0.00,2,     2.53,2, -999.000,9, -999.000,9, -999.000,9,   2284.0,2,   2370.7,2,   7.5270,4,    25.00,     41.0,2,    36.33,2, -999.000,9, -999.000,-999.0000,9,-999.0000,  -999.00,9,  -999.00, -999.000,9, -999.000,   -999.0,9,   -999.0,  -999.00,9,-999.0000,9,-999.0000,9,-999.0000,9,-999.0000,9,-999.0000,9,-999.0000,9,-999.0000,9,-999.0000,9,-999.0000,9,   3.1810,   3.2938,2
  33RR20070322,  I09N,   101,  3,     13,     13,2,20070330,0912,-21.3165,  95.0013, 5180,1612.1000,   1612.1,   3.0468,  34.6825,2,  34.6839,2,    136.2,2,    139.0,2,    98.33,2,    34.69,2,     0.00,2,     2.49,2,    0.009,2,    0.003,2, -999.000,5,   2283.7,2,   2373.4,2,   7.5570,3,    25.00,     40.9,2,    35.79,2, -999.000,9, -999.000,-999.0000,9,-999.0000,  -999.00,9,  -999.00, -999.000,9, -999.000,   -999.0,9,   -999.0,  -999.00,9,-999.0000,9,-999.0000,9,-999.0000,9,-999.0000,9,-999.0000,9,-999.0000,9,-999.0000,9,-999.0000,9,-999.0000,9,   2.9286,   3.0464,2
  33RR20070322,  I09N,   101,  3,     12,     12,2,20070330,0912,-21.3165,  95.0013, 5180,1813.3000,   1813.3,   2.6734,  34.7059,2,  34.7071,2,    146.1,2,    147.4,2,   104.17,2,    34.27,2,     0.00,2,     2.45,2, -999.000,9, -999.000,9, -999.000,9,   2285.4,2,   2380.2,2,   7.5710,3,    25.00,     40.7,2,    35.83,2, -999.000,9, -999.000,-999.0000,9,-999.0000,  -999.00,9,  -999.00, -999.000,9, -999.000,   -999.0,9,   -999.0,  -999.00,9,-999.0000,9,-999.0000,9,-999.0000,9,-999.0000,9,-999.0000,9,-999.0000,9,-999.0000,9,-999.0000,9,-999.0000,9,   2.5428,   2.6738,2
  33RR20070322,  I09N,   101,  3,     11,     11,2,20070330,0912,-21.3165,  95.0013, 5180,2015.2000,   2015.2,   2.3754,  34.7191,2,  34.7197,2,    154.4,2,    154.7,2,   108.99,2,    33.85,2,     0.00,2,     2.41,2, -999.000,5, -999.000,5, -999.000,5,   2286.1,2,   2388.1,2,   7.5700,3,    25.00,     40.7,2,    35.28,2, -999.000,9, -999.000,-999.0000,9,-999.0000,  -999.00,9,  -999.00, -999.000,9, -999.000,   -999.0,9,   -999.0,  -999.00,9,-999.0000,9,-999.0000,9,-999.0000,9,-999.0000,9,-999.0000,9,-999.0000,9,-999.0000,9,-999.0000,9,-999.0000,9,   2.2316,   2.3744,2
  33RR20070322,  I09N,   101,  3,     10,     10,2,20070330,0912,-21.3165,  95.0013, 5180,2267.8000,   2267.8,   2.1038,  34.7263,2,  34.7283,3,    161.9,2,    161.7,2,   113.63,2,    33.59,2,     0.00,2,     2.38,2, -999.000,9, -999.000,9, -999.000,9,   2286.4,2,   2394.8,3,   7.5900,2,    25.00,     40.2,2,    34.81,2, -999.000,9, -999.000,-999.0000,9,-999.0000,  -999.00,9,  -999.00, -999.000,9, -999.000,   -999.0,9,   -999.0,  -999.00,9,-999.0000,9,-999.0000,9,-999.0000,9,-999.0000,9,-999.0000,9,-999.0000,9,-999.0000,9,-999.0000,9,-999.0000,9,   1.9422,   2.1034,2
  33RR20070322,  I09N,   101,  3,      9,      9,2,20070330,0912,-21.3165,  95.0013, 5180,2519.8000,   2519.8,   1.8985,  34.7284,2,  34.7297,3,    168.5,2,    168.6,2,   116.06,2,    33.27,2,     0.00,2,     2.36,2,    0.006,2,    0.002,2, -999.000,5,   2285.4,2,   2397.0,2,   7.5863,2,    25.00,     40.7,2,    35.04,2, -999.000,9, -999.000,-999.0000,9,-999.0000,  -999.00,9,  -999.00, -999.000,9, -999.000,   -999.0,9,   -999.0,  -999.00,9,-999.0000,9,-999.0000,9,-999.0000,9,-999.0000,9,-999.0000,9,-999.0000,9,-999.0000,9,-999.0000,9,-999.0000,9,   1.7180,   1.8987,2
  33RR20070322,  I09N,   101,  3,      8,      8,2,20070330,0912,-21.3165,  95.0013, 5180,2772.8000,   2772.8,   1.7439,  34.7283,2,  34.7293,3,    172.7,2,    172.6,2,   118.88,2,    33.11,2,     0.00,2,     2.34,2, -999.000,9, -999.000,9, -999.000,9,   2287.1,2,   2399.7,2,-999.0000,5,    25.00,     40.8,2,    34.86,2, -999.000,9, -999.000,-999.0000,9,-999.0000,  -999.00,9,  -999.00, -999.000,9, -999.000,   -999.0,9,   -999.0,  -999.00,9,-999.0000,9,-999.0000,9,-999.0000,9,-999.0000,9,-999.0000,9,-999.0000,9,-999.0000,9,-999.0000,9,-999.0000,9,   1.5431,   1.7442,2
  33RR20070322,  I09N,   101,  3,      7,      7,2,20070330,0912,-21.3165,  95.0013, 5180,3026.4000,   3026.4,   1.6112,  34.7265,2,  34.7275,4,    175.5,2,    175.5,2,   122.13,2,    33.21,2,     0.00,2,     2.34,2,    0.010,2,    0.003,2, -999.000,5,   2288.5,2,   2402.3,2,   7.5917,2,    25.00,     40.8,2,    34.39,2, -999.000,9, -999.000,-999.0000,9,-999.0000,  -999.00,9,  -999.00, -999.000,9, -999.000,   -999.0,9,   -999.0,  -999.00,9,-999.0000,9,-999.0000,9,-999.0000,9,-999.0000,9,-999.0000,9,-999.0000,9,-999.0000,9,-999.0000,9,-999.0000,9,   1.3891,   1.6114,2
  33RR20070322,  I09N,   101,  3,      6,      6,2,20070330,0912,-21.3165,  95.0013, 5180,3433.0000,   3433.0,   1.4220,  34.7220,2,  34.7227,2,    180.5,2,    180.1,2,   126.38,2,    33.15,2,     0.00,2,     2.34,2, -999.000,9, -999.000,9, -999.000,9,   2290.3,2,   2406.7,2,-999.0000,5,    25.00,     40.5,2,    35.04,2, -999.000,9, -999.000,-999.0000,9,-999.0000,  -999.00,9,  -999.00, -999.000,9, -999.000,   -999.0,9,   -999.0,  -999.00,9,-999.0000,9,-999.0000,9,-999.0000,9,-999.0000,9,-999.0000,9,-999.0000,9,-999.0000,9,-999.0000,9,-999.0000,9,   1.1643,   1.4217,2
  33RR20070322,  I09N,   101,  3,      5,      5,2,20070330,0912,-21.3165,  95.0013, 5180,3839.5000,   3839.5,   1.2866,  34.7191,2,  34.7198,2,    188.1,2,    188.7,2,   125.77,2,    32.78,2,     0.00,2,     2.30,2,    0.004,2,    0.001,2, -999.000,5,   2282.9,2,   2393.2,2,   7.6237,2,    25.00,     40.5,2,    34.08,2, -999.000,9, -999.000,-999.0000,9,-999.0000,  -999.00,9,  -999.00, -999.000,9, -999.000,   -999.0,9,   -999.0,  -999.00,9,-999.0000,9,-999.0000,9,-999.0000,9,-999.0000,9,-999.0000,9,-999.0000,9,-999.0000,9,-999.0000,9,-999.0000,9,   0.9905,   1.2867,2