BOTTLE,20150630SIOCCHRJL
EXPOCODE,SECT_ID,STNNBR,CASTNO,SAMPNO,BTLNBR,BTLNBR_FLAG_W,DATE,TIME,LATITUDE,LONGITUDE,DEPTH,CTDRAW,CTDPRS,CTDTMP,CTDSAL,CTDSAL_FLAG_W,SALNTY,SALNTY_FLAG_W,CTDOXY,CTDOXY_FLAG_W,OXYGEN,OXYGEN_FLAG_W,SILCAT,SILCAT_FLAG_W,NITRAT,NITRAT_FLAG_W,NITRIT,NITRIT_FLAG_W,PHSPHT,PHSPHT_FLAG_W,CFC-11,CFC-11_FLAG_W,CFC-12,CFC-12_FLAG_W,CFC113,CFC113_FLAG_W,TCARBN,TCARBN_FLAG_W,ALKALI,ALKALI_FLAG_W,PH_SWS,PH_SWS_FLAG_W,PH_TMP,DOC,DOC_FLAG_W,TDN,TDN_FLAG_W,TRITUM,TRITUM_FLAG_W,TRITER,HELIUM,HELIUM_FLAG_W,HELIER,DELHE3,DELHE3_FLAG_W,DELHER,NEON,NEON_FLAG_W,NEONER,DELC14,DELC14_FLAG_W,C14ERR,DELC13,DELC13_FLAG_W,CDOM325,CDOM325_FLAG_W,CDOM340,CDOM340_FLAG_W,CDOM380,CDOM380_FLAG_W,CDOM412,CDOM412_FLAG_W,CDOM443,CDOM443_FLAG_W,CDOM490,CDOM490_FLAG_W,CDOM555,CDOM555_FLAG_W,CDOMSL,CDOMSL_FLAG_W,CDOMSN,CDOMSN_FLAG_W,THETA,SBE35,SBE35_FLAG_W
,,,,,,,,,,,METERS,,DBAR,ITS-90,PSS-78,,PSS-78,,UMOL/KG,,UMOL/KG,,UMOL/KG,,UMOL/KG,,UMOL/KG,,UMOL/KG,,PMOL/KG,,PMOL/KG,,PMOL/KG,,UMOL/KG,,UMOL/KG,,,,DEG C,UMOL/KG,,UMOL/KG,,TU,,TU,NMOL/KG,,NMOL/KG,PERCNT,,PERCNT,NMOL/KG,,NMOL/KG,/MILLE,,/MILLE,/MILLE,,1/M,,1/M,,1/M,,1/M,,1/M,,1/M,,1/M,,1/NM,,1/NM,,DEG C,ITS-90,
  33RR20070322,  I09N,   123,  2,     36,     38,2,20070406,1232, -9.2842,  94.9998, 5225,   2.2000,      2.2,  28.7469,  33.7938,2,  33.7933,2,    197.6,2,    198.0,2,     2.07,2,     0.05,2,     0.00,2,     0.09,2,    1.538,2,    1.001,2, -999.000,5,   2089.6,3,   2218.8,6,   8.0931,6,    25.00,     70.6,2,     3.97,2, -999.000,9, -999.000,-999.0000,9,-999.0000,  -999.00,9,  -999.00, -999.000,9, -999.000,   -999.0,9,   -999.0,  -999.00,9,-999.0000,9,-999.0000,9,-999.0000,9,-999.0000,9,-999.0000,9,-999.0000,9,-999.0000,9,-999.0000,9,-999.0000,9,  28.7464,  28.7369,2
  33RR20070322,  I09N,   123,  2,     35,     35,2,20070406,1232, -9.2842,  94.9998, 5225,  41.6000,     41.6,  19.8755,  34.9232,2,  34.9013,2,    117.7,2,    130.4,2,    13.41,2,    11.75,2,     0.26,2,     0.86,2,    1.761,2,    1.077,2, -999.000,5,   2087.5,2,   2292.0,2,   7.8450,3,    25.00,     67.4,2,    16.40,2, -999.000,9, -999.000,-999.0000,9,-999.0000,  -999.00,9,  -999.00, -999.000,9, -999.000,     32.2,2,      3.4,     0.41,2,-999.0000,9,-999.0000,9,-999.0000,9,-999.0000,9,-999.0000,9,-999.0000,9,-999.0000,9,-999.0000,9,-999.0000,9,  19.8679,  19.8153,2
  33RR20070322,  I09N,   123,  2,     34,   9419,2,20070406,1232, -9.2842,  94.9998, 5225,  75.8000,     75.8,  15.9686,  34.7331,2,  34.7510,2,    111.4,2,    111.0,2,    23.21,2,    18.28,2,     0.04,2,     1.29,2,    1.573,2,    0.921,2, -999.000,5,   2136.2,2,   2300.5,2,   7.7510,2,    25.00,     61.4,2,    22.56,2, -999.000,9, -999.000,-999.0000,9,-999.0000,  -999.00,9,  -999.00, -999.000,9, -999.000,   -999.0,9,   -999.0,  -999.00,9,-999.0000,9,-999.0000,9,-999.0000,9,-999.0000,9,-999.0000,9,-999.0000,9,-999.0000,9,-999.0000,9,-999.0000,9,  15.9567,  15.9835,2
  33RR20070322,  I09N,   123,  2,     33,     33,2,20070406,1232, -9.2842,  94.9998, 5225,  96.6000,     96.6,  14.3210,  34.7046,2,  34.6717,2,     92.6,2,     87.7,2,    28.60,2,    23.18,2,     0.01,2,     1.62,2,    1.328,2,    0.753,2, -999.000,5,   2169.9,2,   2292.7,2,   7.6630,2,    25.00,     56.4,2,    27.22,2, -999.000,9, -999.000,-999.0000,9,-999.0000,  -999.00,9,  -999.00, -999.000,9, -999.000,     -5.1,2,      3.3,     0.12,2,-999.0000,9,-999.0000,9,-999.0000,9,-999.0000,9,-999.0000,9,-999.0000,9,-999.0000,9,-999.0000,9,-999.0000,9,  14.3069,  14.3292,2
  33RR20070322,  I09N,   123,  2,     32,     37,2,20070406,1232, -9.2842,  94.9998, 5225, 126.5000,    126.5,  12.9799,  34.7222,2,  34.7221,2,     75.3,2,     76.8,2,    31.68,2,    25.99,2,     0.01,2,     1.82,2,    1.146,2,    0.642,2, -999.000,5,   2192.8,2,   2297.6,2,   7.6434,2,    25.00,     54.3,2,    29.06,2, -999.000,9, -999.000,-999.0000,9,-999.0000,  -999.00,9,  -999.00, -999.000,9, -999.000,   -999.0,9,   -999.0,  -999.00,9,-999.0000,9,-999.0000,9,-999.0000,9,-999.0000,9,-999.0000,9,-999.0000,9,-999.0000,9,-999.0000,9,-999.0000,9,  12.9626,  12.9767,2
  33RR20070322,  I09N,   123,  2,     31,     31,2,20070406,1232, -9.2842,  94.9998, 5225, 146.8000,    146.8,  12.3049,  34.7522,2,  34.7353,2,     75.0,2,     74.8,2,    33.02,2,    26.75,2,     0.01,2,     1.88,2,    1.077,2,    0.600,2, -999.000,5,   2201.4,2,   2302.1,2,   7.5990,3,    25.00,     53.2,2,    30.34,2, -999.000,9, -999.000,-999.0000,9,-999.0000,  -999.00,9,  -999.00, -999.000,9, -999.000,    -20.5,2,      3.3,     0.22,2,-999.0000,9,-999.0000,9,-999.0000,9,-999.0000,9,-999.0000,9,-999.0000,9,-999.0000,9,-999.0000,9,-999.0000,9,  12.2855,  12.3058,2
  33RR20070322,  I09N,   123,  2,     30,     30,2,20070406,1232, -9.2842,  94.9998, 5225, 176.3000,    176.3,  11.9257,  34.8194,2,  34.8134,2,     65.8,2,     67.1,2,    31.87,2,    28.03,2,     0.00,2,     1.95,2,    0.965,2,    0.528,2, -999.000,5,   2214.1,2,   2304.9,2,   7.5843,2,    25.00,     51.6,2,    31.85,2, -999.000,9, -999.000,-999.0000,9,-999.0000,  -999.00,9,  -999.00, -999.000,9, -999.000,   -999.0,9,   -999.0,  -999.00,9,-999.0000,9,-999.0000,9,-999.0000,9,-999.0000,9,-999.0000,9,-999.0000,9,-999.0000,9,-999.0000,9,-999.0000,9,  11.9029,  11.9223,2
  33RR20070322,  I09N,   123,  2,     29,     29,2,20070406,1232, -9.2842,  94.9998, 5225, 226.0000,    226.0,  11.3590,  34.8782,2,  34.8782,2,     60.2,2,     59.5,2,    30.34,2,    29.36,2,     0.00,2,     2.00,2,    0.783,2,    0.429,2, -999.000,5,   2224.1,2,   2305.8,2,   7.5510,3,    25.00,     51.0,2,    32.87,2, -999.000,9, -999.000,-999.0000,9,-999.0000,  -999.00,9,  -999.00, -999.000,9, -999.000,    -23.4,2,      3.0,     0.24,2,-999.0000,9,-999.0000,9,-999.0000,9,-999.0000,9,-999.0000,9,-999.0000,9,-999.0000,9,-999.0000,9,-999.0000,9,  11.3305,  11.3584,2
  33RR20070322,  I09N,   123,  2,     28,     28,2,20070406,1232, -9.2842,  94.9998, 5225, 276.3000,    276.3,  10.7645,  34.8734,2,  34.8743,2,     64.3,2,     68.1,2,    29.76,2,    29.47,2,     0.00,2,     1.99,2,    0.742,2,    0.407,2, -999.000,5,   2223.6,2,   2305.7,2,   7.5388,2,    25.00,     50.2,2,    33.42,2, -999.000,9, -999.000,-999.0000,9,-999.0000,  -999.00,9,  -999.00, -999.000,9, -999.000,    -25.4,2,      2.7,     0.32,2,-999.0000,9,-999.0000,9,-999.0000,9,-999.0000,9,-999.0000,9,-999.0000,9,-999.0000,9,-999.0000,9,-999.0000,9,  10.7308,  10.7517,2
  33RR20070322,  I09N,   123,  2,     27,     27,2,20070406,1232, -9.2842,  94.9998, 5225, 325.1000,    325.1,  10.2565,  34.8575,2,  34.8595,2,     76.6,2,     82.0,2,    28.80,2,    29.11,2,     0.00,2,     1.96,2,    0.795,2,    0.417,2, -999.000,5,   2218.0,2,   2305.2,2,   7.5677,2,    25.00,     49.4,2,    32.43,2, -999.000,9, -999.000,-999.0000,9,-999.0000,  -999.00,9,  -999.00, -999.000,9, -999.000,    -30.3,2,      3.0,     0.50,2,-999.0000,9,-999.0000,9,-999.0000,9,-999.0000,9,-999.0000,9,-999.0000,9,-999.0000,9,-999.0000,9,-999.0000,9,  10.2180,  10.2588,2
  33RR20070322,  I09N,   123,  2,     26,     26,2,20070406,1232, -9.2842,  94.9998, 5225, 377.1000,    377.1,   9.8026,  34.8381,2,  34.8390,2,     92.3,2,     91.5,2,    29.58,2,    29.21,2,     0.00,2,     1.97,2,    0.781,2,    0.416,2, -999.000,5,   2215.5,2,   2307.1,2,   7.5515,2,    25.00,     48.1,2,    32.44,2, -999.000,9, -999.000,-999.0000,9,-999.0000,  -999.00,9,  -999.00, -999.000,9, -999.000,    -37.1,2,      2.7,     0.48,2,-999.0000,9,-999.0000,9,-999.0000,9,-999.0000,9,-999.0000,9,-999.0000,9,-999.0000,9,-999.0000,9,-999.0000,9,   9.7591,   9.8028,2
  33RR20070322,  I09N,   123,  2,     25,     25,2,20070406,1232, -9.2842,  94.9998, 5225, 425.6000,    425.6,   9.3301,  34.8106,2,  34.8105,2,     91.3,2,     92.9,2,    33.04,2,    29.83,2,     0.00,2,     2.04,2,    0.249,2,    0.140,2, -999.000,5,   2220.0,2,   2308.9,2,-999.0000,5,    25.00,     47.2,2,    33.50,2, -999.000,9, -999.000,-999.0000,9,-999.0000,  -999.00,9,  -999.00, -999.000,9, -999.000,    -49.6,2,      3.0,     0.54,2,-999.0000,9,-999.0000,9,-999.0000,9,-999.0000,9,-999.0000,9,-999.0000,9,-999.0000,9,-999.0000,9,-999.0000,9,   9.2823,   9.3333,2
  33RR20070322,  I09N,   123,  2,     24,     24,2,20070406,1232, -9.2842,  94.9998, 5225, 476.1000,    476.1,   8.8755,  34.7988,2,  34.7999,2,     85.2,2,     84.6,2,    39.20,2,    31.47,2,     0.00,2,     2.18,2,    0.429,2,    0.231,2, -999.000,5,   2232.7,2,   2313.5,2,   7.5300,2,    25.00,     46.5,2,    35.01,2, -999.000,9, -999.000,-999.0000,9,-999.0000,  -999.00,9,  -999.00, -999.000,9, -999.000,   -999.0,9,   -999.0,  -999.00,9,-999.0000,9,-999.0000,9,-999.0000,9,-999.0000,9,-999.0000,9,-999.0000,9,-999.0000,9,-999.0000,9,-999.0000,9,   8.8235,   8.8785,2
  33RR20070322,  I09N,   123,  2,     23,     23,2,20070406,1232, -9.2842,  94.9998, 5225, 526.8000,    526.8,   8.3994,  34.7828,2,  34.7839,2,     82.0,2,     81.1,2,    45.94,2,    32.50,2,     0.00,2,     2.29,2,    0.306,2,    0.164,2, -999.000,5,   2242.9,2,   2320.7,2,   7.5380,3,    25.00,     45.3,2,    34.83,2, -999.000,9, -999.000,-999.0000,9,-999.0000,  -999.00,9,  -999.00, -999.000,9, -999.000,    -93.8,2,      2.5,     0.44,2,-999.0000,9,-999.0000,9,-999.0000,9,-999.0000,9,-999.0000,9,-999.0000,9,-999.0000,9,-999.0000,9,-999.0000,9,   8.3436,   8.4044,2
  33RR20070322,  I09N,   123,  2,     22,     22,2,20070406,1232, -9.2842,  94.9998, 5225, 646.4000,    646.4,   7.4767,  34.7711,2,  34.7727,2,     70.1,2,     70.0,2,    60.97,2,    34.62,2,     0.00,2,     2.49,2,    0.108,2,    0.060,2, -999.000,5,   2267.4,2,   2334.9,2,   7.5287,2,    25.00,     44.6,2,    37.14,2, -999.000,9, -999.000,-999.0000,9,-999.0000,  -999.00,9,  -999.00, -999.000,9, -999.000,   -123.8,2,      2.7,     0.32,2,-999.0000,9,-999.0000,9,-999.0000,9,-999.0000,9,-999.0000,9,-999.0000,9,-999.0000,9,-999.0000,9,-999.0000,9,   7.4121,   7.4793,2
  33RR20070322,  I09N,   123,  2,     21,     21,2,20070406,1232, -9.2842,  94.9998, 5225, 746.2000,    746.2,   6.8486,  34.7418,2,  34.7430,2,     66.9,2,     66.9,2,    72.78,2,    35.87,2,     0.00,2,     2.59,2,    0.052,2,    0.028,2, -999.000,5,   2282.0,2,   2345.2,2,   7.4724,2,    25.00,     43.5,2,    38.59,2, -999.000,9, -999.000,-999.0000,9,-999.0000,  -999.00,9,  -999.00, -999.000,9, -999.000,   -144.2,2,      2.7,     0.23,2,-999.0000,9,-999.0000,9,-999.0000,9,-999.0000,9,-999.0000,9,-999.0000,9,-999.0000,9,-999.0000,9,-999.0000,9,   6.7771,   6.8456,2
  33RR20070322,  I09N,   123,  2,     20,     20,2,20070406,1232, -9.2842,  94.9998, 5225, 847.8000,    847.8,   6.2828,  34.7217,2,  34.7182,3,     70.1,2,     70.4,2,    81.69,2,    36.23,2,     0.00,2,     2.62,2, -999.000,9, -999.000,9, -999.000,9,   2291.4,2,   2354.6,2,   7.4977,2,    25.00,     42.8,2,    38.92,2, -999.000,9, -999.000,-999.0000,9,-999.0000,  -999.00,9,  -999.00, -999.000,9, -999.000,   -152.1,2,      2.7,     0.17,2,-999.0000,9,-999.0000,9,-999.0000,9,-999.0000,9,-999.0000,9,-999.0000,9,-999.0000,9,-999.0000,9,-999.0000,9,   6.2046,   6.2814,2
  33RR20070322,  I09N,   123,  2,     19,     19,2,20070406,1232, -9.2842,  94.9998, 5225, 947.4000,    947.4,   5.5794,  34.6924,2,  34.6936,2,     76.7,2,     77.3,2,    91.02,2,    36.38,2,     0.00,2,     2.64,2,    0.036,2,    0.020,2, -999.000,5,   2299.7,2,   2363.8,2,   7.4860,2,    25.00,     42.1,2,    39.00,2, -999.000,9, -999.000,-999.0000,9,-999.0000,  -999.00,9,  -999.00, -999.000,9, -999.000,   -166.5,2,      2.7,     0.25,2,-999.0000,9,-999.0000,9,-999.0000,9,-999.0000,9,-999.0000,9,-999.0000,9,-999.0000,9,-999.0000,9,-999.0000,9,   5.4964,   5.5807,2
  33RR20070322,  I09N,   123,  2,     18,     18,2,20070406,1232, -9.2842,  94.9998, 5225,1048.4000,   1048.4,   5.1248,  34.6915,2,  34.6924,2,     81.7,2,     82.3,2,    97.64,2,    36.54,2,     0.00,2,     2.66,2, -999.000,9, -999.000,9, -999.000,9,   2304.4,6,   2371.8,6,   7.4216,3,    25.00,     41.7,2,    38.03,2, -999.000,9, -999.000,-999.0000,9,-999.0000,  -999.00,9,  -999.00, -999.000,9, -999.000,   -999.0,9,   -999.0,  -999.00,9,-999.0000,9,-999.0000,9,-999.0000,9,-999.0000,9,-999.0000,9,-999.0000,9,-999.0000,9,-999.0000,9,-999.0000,9,   5.0358,   5.1248,2
  33RR20070322,  I09N,   123,  2,     17,     17,2,20070406,1232, -9.2842,  94.9998, 5225,1148.1000,   1148.1,   4.8601,  34.7027,2,  34.7030,2,     84.7,2,     84.7,2,   100.36,2,    36.60,2,     0.00,2,     2.66,2,    0.022,2,    0.011,2, -999.000,5,   2308.7,2,   2374.6,2,   7.4912,2,    25.00,     41.2,2,    38.57,2, -999.000,9, -999.000,-999.0000,9,-999.0000,  -999.00,9,  -999.00, -999.000,9, -999.000,   -175.1,2,      2.7,     0.18,2,-999.0000,9,-999.0000,9,-999.0000,9,-999.0000,9,-999.0000,9,-999.0000,9,-999.0000,9,-999.0000,9,-999.0000,9,   4.7641,   4.8597,2
  33RR20070322,  I09N,   123,  2,     16,     16,2,20070406,1232, -9.2842,  94.9998, 5225,1248.4000,   1248.4,   4.5379,  34.7177,2,  34.7186,2,     88.8,2,     88.6,2,   103.68,2,    36.60,2,     0.00,2,     2.67,2, -999.000,9, -999.000,9, -999.000,9,   2311.8,2,   2378.1,2,   7.5009,2,    25.00,     40.9,2,    38.32,2, -999.000,9, -999.000,-999.0000,9,-999.0000,  -999.00,9,  -999.00, -999.000,9, -999.000,   -999.0,9,   -999.0,  -999.00,9,-999.0000,9,-999.0000,9,-999.0000,9,-999.0000,9,-999.0000,9,-999.0000,9,-999.0000,9,-999.0000,9,-999.0000,9,   4.4356,   4.5380,2
  33RR20070322,  I09N,   123,  2,     15,     15,2,20070406,1232, -9.2842,  94.9998, 5225,1349.2000,   1349.2,   4.2646,  34.7276,2,  34.7278,2,     93.6,2,     93.6,2,   106.02,2,    36.66,2,     0.00,2,     2.66,2,    0.011,2,    0.004,2, -999.000,5,   2313.0,2,   2380.7,2,   7.5164,2,    25.00,     41.0,2,    38.12,2, -999.000,9, -999.000,-999.0000,9,-999.0000,  -999.00,9,  -999.00, -999.000,9, -999.000,   -181.4,2,      2.6,     0.16,2,-999.0000,9,-999.0000,9,-999.0000,9,-999.0000,9,-999.0000,9,-999.0000,9,-999.0000,9,-999.0000,9,-999.0000,9,   4.1558,   4.2631,2
  33RR20070322,  I09N,   123,  2,     14,     14,2,20070406,1232, -9.2842,  94.9998, 5225,1450.0000,   1450.0,   3.9366,  34.7355,2,  34.7361,2,    100.1,2,    100.2,2,   108.37,2,    36.45,2,     0.00,2,     2.64,2, -999.000,9, -999.000,9, -999.000,9,   2311.1,2,   2390.7,2,   7.5230,3,    25.00,     40.6,2,    37.83,2, -999.000,9, -999.000,-999.0000,9,-999.0000,  -999.00,9,  -999.00, -999.000,9, -999.000,   -999.0,9,   -999.0,  -999.00,9,-999.0000,9,-999.0000,9,-999.0000,9,-999.0000,9,-999.0000,9,-999.0000,9,-999.0000,9,-999.0000,9,-999.0000,9,   3.8222,   3.9370,2
  33RR20070322,  I09N,   123,  2,     13,     13,2,20070406,1232, -9.2842,  94.9998, 5225,1550.1000,   1550.1,   3.6247,  34.7441,2,  34.7443,2,    107.0,2,    108.1,2,   109.74,2,    36.20,2,     0.00,2,     2.62,2,    0.007,2,    0.003,2, -999.000,5,   2311.6,2,   2388.5,2,   7.5320,3,    25.00,     40.5,2,    37.96,2, -999.000,9, -999.000,-999.0000,9,-999.0000,  -999.00,9,  -999.00, -999.000,9, -999.000,   -189.8,2,      2.9,     0.24,2,-999.0000,9,-999.0000,9,-999.0000,9,-999.0000,9,-999.0000,9,-999.0000,9,-999.0000,9,-999.0000,9,-999.0000,9,   3.5049,   3.6216,2
  33RR20070322,  I09N,   123,  2,     12,     12,2,20070406,1232, -9.2842,  94.9998, 5225,1752.1000,   1752.1,   3.1391,  34.7500,2,  34.7514,2,    120.0,2,    120.6,2,   114.24,2,    35.73,2,     0.00,2,     2.56,2, -999.000,9, -999.000,9, -999.000,9,   2311.2,2,   2391.0,2,   7.5205,2,    25.00,     40.4,2,    37.49,2, -999.000,9, -999.000,-999.0000,9,-999.0000,  -999.00,9,  -999.00, -999.000,9, -999.000,   -999.0,9,   -999.0,  -999.00,9,-999.0000,9,-999.0000,9,-999.0000,9,-999.0000,9,-999.0000,9,-999.0000,9,-999.0000,9,-999.0000,9,-999.0000,9,   3.0074,   3.1401,2
  33RR20070322,  I09N,   123,  2,     11,     11,2,20070406,1232, -9.2842,  94.9998, 5225,1952.9000,   1952.9,   2.7433,  34.7506,2,  34.7516,2,    131.0,2,    130.9,2,   117.57,2,    35.27,2,     0.00,2,     2.52,2,    0.009,2,    0.002,2, -999.000,5,   2309.7,2,   2393.6,2,   7.5468,2,    25.00,     40.2,2,    37.05,2, -999.000,9, -999.000,-999.0000,9,-999.0000,  -999.00,9,  -999.00, -999.000,9, -999.000,   -999.0,9,   -999.0,  -999.00,9,-999.0000,9,-999.0000,9,-999.0000,9,-999.0000,9,-999.0000,9,-999.0000,9,-999.0000,9,-999.0000,9,-999.0000,9,   2.5994,   2.7423,2
  33RR20070322,  I09N,   123,  2,     10,     10,2,20070406,1232, -9.2842,  94.9998, 5225,2114.1000,   2114.1,   2.4614,  34.7440,2,  34.7453,2,    139.9,2,    140.2,2,   119.73,2,    34.91,2,     0.00,2,     2.48,2, -999.000,9, -999.000,9, -999.000,9,   2307.7,2,   2395.9,2,   7.5515,2,    25.00,     40.5,2,    36.34,2, -999.000,9, -999.000,-999.0000,9,-999.0000,  -999.00,9,  -999.00, -999.000,9, -999.000,   -999.0,9,   -999.0,  -999.00,9,-999.0000,9,-999.0000,9,-999.0000,9,-999.0000,9,-999.0000,9,-999.0000,9,-999.0000,9,-999.0000,9,-999.0000,9,   2.3075,   2.4611,2
  33RR20070322,  I09N,   123,  2,      9,      9,2,20070406,1232, -9.2842,  94.9998, 5225,2367.4000,   2367.4,   2.2121,  34.7441,2,  34.7437,2,    148.2,2,    148.2,2,   122.48,2,    34.55,2,     0.00,2,     2.45,2,    0.006,2,    0.002,2, -999.000,5,   2306.9,2,   2399.1,2,   7.5864,2,    25.00,     40.5,2,    36.54,2, -999.000,9, -999.000,-999.0000,9,-999.0000,  -999.00,9,  -999.00, -999.000,9, -999.000,   -999.0,9,   -999.0,  -999.00,9,-999.0000,9,-999.0000,9,-999.0000,9,-999.0000,9,-999.0000,9,-999.0000,9,-999.0000,9,-999.0000,9,-999.0000,9,   2.0396,   2.2118,2
  33RR20070322,  I09N,   123,  2,      8,      8,2,20070406,1232, -9.2842,  94.9998, 5225,2619.7000,   2619.7,   1.9980,  34.7372,2,  34.7380,2,    156.6,2,    156.3,2,   123.47,2,    34.24,2,     0.00,2,     2.42,2, -999.000,9, -999.000,9, -999.000,9,   2304.2,2,   2394.1,2,   7.5520,3,    25.00,     40.5,2,    35.64,2, -999.000,9, -999.000,-999.0000,9,-999.0000,  -999.00,9,  -999.00, -999.000,9, -999.000,   -999.0,9,   -999.0,  -999.00,9,-999.0000,9,-999.0000,9,-999.0000,9,-999.0000,9,-999.0000,9,-999.0000,9,-999.0000,9,-999.0000,9,-999.0000,9,   1.8063,   1.9980,2
  33RR20070322,  I09N,   123,  2,      7,      7,2,20070406,1232, -9.2842,  94.9998, 5225,2872.2000,   2872.2,   1.8188,  34.7332,2,  34.7335,2,    162.8,2,    162.7,2,   125.82,2,    33.78,2,     0.00,2,     2.39,2,    0.005,2,    0.002,2, -999.000,5,   2303.8,2,   2399.7,2,   7.5717,2,    25.00,     40.6,2,    35.35,2, -999.000,9, -999.000,-999.0000,9,-999.0000,  -999.00,9,  -999.00, -999.000,9, -999.000,   -999.0,9,   -999.0,  -999.00,9,-999.0000,9,-999.0000,9,-999.0000,9,-999.0000,9,-999.0000,9,-999.0000,9,-999.0000,9,-999.0000,9,-999.0000,9,   1.6070,   1.8185,2
  33RR20070322,  I09N,   123,  2,      6,      6,2,20070406,1232, -9.2842,  94.9998, 5225,3126.1000,   3126.1,   1.6646,  34.7283,2,  34.7286,2,    167.5,2,    166.9,2,   128.38,2,    33.78,2,     0.00,2,     2.39,2, -999.000,9, -999.000,9, -999.000,9,   2303.5,2,   2407.4,2,   7.5919,2,    25.00,     40.3,2,    35.58,2, -999.000,9, -999.000,-999.0000,9,-999.0000,  -999.00,9,  -999.00, -999.000,9, -999.000,   -999.0,9,   -999.0,  -999.00,9,-999.0000,9,-999.0000,9,-999.0000,9,-999.0000,9,-999.0000,9,-999.0000,9,-999.0000,9,-999.0000,9,-999.0000,9,   1.4316,   1.6651,2
  33RR20070322,  I09N,   123,  2,      5,      5,2,20070406,1232, -9.2842,  94.9998, 5225,3532.5000,   3532.5,   1.3770,  34.7204,2,  34.7207,2,    179.2,2,    179.1,2,   129.96,2,    33.32,2,     0.00,2,     2.35,2,    0.005,2,    0.002,2, -999.000,5,   2296.4,2,   2400.0,2,   7.5844,2,    25.00,     40.4,2,    35.13,2, -999.000,9, -999.000,-999.0000,9,-999.0000,  -999.00,9,  -999.00, -999.000,9, -999.000,   -999.0,9,   -999.0,  -999.00,9,-999.0000,9,-999.0000,9,-999.0000,9,-999.0000,9,-999.0000,9,-999.0000,9,-999.0000,9,-999.0000,9,-999.0000,9,   1.1104,   1.3775,2