BOTTLE,20150630SIOCCHRJL
EXPOCODE,SECT_ID,STNNBR,CASTNO,SAMPNO,BTLNBR,BTLNBR_FLAG_W,DATE,TIME,LATITUDE,LONGITUDE,DEPTH,CTDRAW,CTDPRS,CTDTMP,CTDSAL,CTDSAL_FLAG_W,SALNTY,SALNTY_FLAG_W,CTDOXY,CTDOXY_FLAG_W,OXYGEN,OXYGEN_FLAG_W,SILCAT,SILCAT_FLAG_W,NITRAT,NITRAT_FLAG_W,NITRIT,NITRIT_FLAG_W,PHSPHT,PHSPHT_FLAG_W,CFC-11,CFC-11_FLAG_W,CFC-12,CFC-12_FLAG_W,CFC113,CFC113_FLAG_W,TCARBN,TCARBN_FLAG_W,ALKALI,ALKALI_FLAG_W,PH_SWS,PH_SWS_FLAG_W,PH_TMP,DOC,DOC_FLAG_W,TDN,TDN_FLAG_W,TRITUM,TRITUM_FLAG_W,TRITER,HELIUM,HELIUM_FLAG_W,HELIER,DELHE3,DELHE3_FLAG_W,DELHER,NEON,NEON_FLAG_W,NEONER,DELC14,DELC14_FLAG_W,C14ERR,DELC13,DELC13_FLAG_W,CDOM325,CDOM325_FLAG_W,CDOM340,CDOM340_FLAG_W,CDOM380,CDOM380_FLAG_W,CDOM412,CDOM412_FLAG_W,CDOM443,CDOM443_FLAG_W,CDOM490,CDOM490_FLAG_W,CDOM555,CDOM555_FLAG_W,CDOMSL,CDOMSL_FLAG_W,CDOMSN,CDOMSN_FLAG_W,THETA,SBE35,SBE35_FLAG_W
,,,,,,,,,,,METERS,,DBAR,ITS-90,PSS-78,,PSS-78,,UMOL/KG,,UMOL/KG,,UMOL/KG,,UMOL/KG,,UMOL/KG,,UMOL/KG,,PMOL/KG,,PMOL/KG,,PMOL/KG,,UMOL/KG,,UMOL/KG,,,,DEG C,UMOL/KG,,UMOL/KG,,TU,,TU,NMOL/KG,,NMOL/KG,PERCNT,,PERCNT,NMOL/KG,,NMOL/KG,/MILLE,,/MILLE,/MILLE,,1/M,,1/M,,1/M,,1/M,,1/M,,1/M,,1/M,,1/NM,,1/NM,,DEG C,ITS-90,
  33RR20070322,  I09N,   190,  1,      4,      4,2,20070424,2340, 13.6020,  89.0253, 2922,2743.2000,   2743.2,   1.8906,  34.7411,2,  34.7407,2,    138.0,2,    138.2,2,   138.17,2,    34.99,2,     0.00,2,     2.48,2, -999.000,9, -999.000,9, -999.000,9,   2332.8,2,   2420.2,2,   7.5619,2,    25.00,     40.4,2,    36.82,2, -999.000,9, -999.000,-999.0000,9,-999.0000,  -999.00,9,  -999.00, -999.000,9, -999.000,   -999.0,9,   -999.0,  -999.00,9,   0.1906,2,   0.1402,2,   0.0819,2,   0.0608,2,   0.0273,2,   0.0083,2,   0.0016,2,   0.0142,3,   0.0137,3,   1.6895,   1.8916,2
  33RR20070322,  I09N,   190,  1,      3,      3,2,20070424,2340, 13.6020,  89.0253, 2922,2869.7000,   2869.7,   1.7716,  34.7365,2,  34.7362,2,    141.9,2,    143.1,2,   137.97,2,    34.83,2,     0.00,2,     2.46,2,    0.006,2,    0.002,2, -999.000,5,   2331.4,2,   2422.4,2,   7.5700,2,    25.00,     40.1,2,    36.11,2, -999.000,9, -999.000,-999.0000,9,-999.0000,  -999.00,9,  -999.00, -999.000,9, -999.000,   -999.0,9,   -999.0,  -999.00,9,   0.1899,2,   0.1395,2,   0.0814,2,   0.0596,2,   0.0268,2,   0.0085,2,   0.0017,2,   0.0141,3,   0.0138,3,   1.5610,   1.7682,2
  33RR20070322,  I09N,   190,  1,      2,      2,2,20070424,2340, 13.6020,  89.0253, 2922,2936.4000,   2936.4,   1.6813,  34.7332,2,  34.7333,2,    145.8,2,    146.5,2,   139.57,2,    34.76,2,     0.00,2,     2.44,2, -999.000,9, -999.000,9, -999.000,9,   2331.3,2,   2424.3,2,   7.5664,2,    25.00,     40.7,2,    36.39,2, -999.000,9, -999.000,-999.0000,9,-999.0000,  -999.00,9,  -999.00, -999.000,9, -999.000,   -999.0,9,   -999.0,  -999.00,9,   0.1914,2,   0.1406,2,   0.0819,2,   0.0595,2,   0.0266,2,   0.0084,2,   0.0015,2,   0.0142,3,   0.0139,3,   1.4663,   1.6808,2
  33RR20070322,  I09N,   190,  1,      1,      1,2,20070424,2340, 13.6020,  89.0253, 2922,2982.7000,   2982.7,   1.6553,  34.7319,2,  34.7315,2,    145.9,2,    146.0,2,   140.37,2,    34.81,2,     0.00,2,     2.44,2,    0.017,2,    0.005,2, -999.000,5,   2334.0,6,   2427.0,6,   7.5842,6,    25.00,     40.4,2,    36.36,2, -999.000,9, -999.000,-999.0000,9,-999.0000,  -999.00,9,  -999.00, -999.000,9, -999.000,   -999.0,9,   -999.0,  -999.00,9,   0.1949,2,   0.1431,2,   0.0831,2,   0.0603,2,   0.0268,2,   0.0083,2,   0.0015,2,   0.0144,3,   0.0140,3,   1.4364,   1.6551,2