BOTTLE,20150630SIOCCHRJL
EXPOCODE,SECT_ID,STNNBR,CASTNO,SAMPNO,BTLNBR,BTLNBR_FLAG_W,DATE,TIME,LATITUDE,LONGITUDE,DEPTH,CTDRAW,CTDPRS,CTDTMP,CTDSAL,CTDSAL_FLAG_W,SALNTY,SALNTY_FLAG_W,CTDOXY,CTDOXY_FLAG_W,OXYGEN,OXYGEN_FLAG_W,SILCAT,SILCAT_FLAG_W,NITRAT,NITRAT_FLAG_W,NITRIT,NITRIT_FLAG_W,PHSPHT,PHSPHT_FLAG_W,CFC-11,CFC-11_FLAG_W,CFC-12,CFC-12_FLAG_W,CFC113,CFC113_FLAG_W,TCARBN,TCARBN_FLAG_W,ALKALI,ALKALI_FLAG_W,PH_SWS,PH_SWS_FLAG_W,PH_TMP,DOC,DOC_FLAG_W,TDN,TDN_FLAG_W,TRITUM,TRITUM_FLAG_W,TRITER,HELIUM,HELIUM_FLAG_W,HELIER,DELHE3,DELHE3_FLAG_W,DELHER,NEON,NEON_FLAG_W,NEONER,DELC14,DELC14_FLAG_W,C14ERR,DELC13,DELC13_FLAG_W,CDOM325,CDOM325_FLAG_W,CDOM340,CDOM340_FLAG_W,CDOM380,CDOM380_FLAG_W,CDOM412,CDOM412_FLAG_W,CDOM443,CDOM443_FLAG_W,CDOM490,CDOM490_FLAG_W,CDOM555,CDOM555_FLAG_W,CDOMSL,CDOMSL_FLAG_W,CDOMSN,CDOMSN_FLAG_W,THETA,SBE35,SBE35_FLAG_W
,,,,,,,,,,,METERS,,DBAR,ITS-90,PSS-78,,PSS-78,,UMOL/KG,,UMOL/KG,,UMOL/KG,,UMOL/KG,,UMOL/KG,,UMOL/KG,,PMOL/KG,,PMOL/KG,,PMOL/KG,,UMOL/KG,,UMOL/KG,,,,DEG C,UMOL/KG,,UMOL/KG,,TU,,TU,NMOL/KG,,NMOL/KG,PERCNT,,PERCNT,NMOL/KG,,NMOL/KG,/MILLE,,/MILLE,/MILLE,,1/M,,1/M,,1/M,,1/M,,1/M,,1/M,,1/M,,1/NM,,1/NM,,DEG C,ITS-90,
  33RR20070322,  I09N,   195,  3,     36,     38,2,20070426,0542, 15.9990,  89.8495, 2547,   1.7000,      1.7,  30.0972,  32.4403,2,  32.4519,2,    198.1,2,    199.6,2,     2.38,2,     0.05,2,     0.00,2,     0.02,2,    1.571,2,    1.026,2, -999.000,5,   1876.8,6,   2183.9,6,   8.1457,3,    25.00,     76.7,2,     4.91,2,    1.180,2,    0.016,-999.0000,9,-999.0000,  -999.00,9,  -999.00, -999.000,9, -999.000,   -999.0,9,   -999.0,  -999.00,9,-999.0000,9,-999.0000,9,-999.0000,9,-999.0000,9,-999.0000,9,-999.0000,9,-999.0000,9,-999.0000,9,-999.0000,9,  30.0968,  30.1243,2
  33RR20070322,  I09N,   195,  3,     35,     35,2,20070426,0542, 15.9990,  89.8495, 2547,  17.8000,     17.8,  28.6126,  32.3353,2,  32.3568,2,    205.8,2,    206.9,2,     2.18,2,     0.00,2,     0.00,2,     0.01,2,    1.640,2,    1.060,2, -999.000,5,   1881.3,2,   2181.7,2,   8.0870,2,    25.00,     75.9,2,     5.58,2,    1.170,2,    0.016,-999.0000,9,-999.0000,  -999.00,9,  -999.00, -999.000,9, -999.000,   -999.0,9,   -999.0,  -999.00,9,-999.0000,9,-999.0000,9,-999.0000,9,-999.0000,9,-999.0000,9,-999.0000,9,-999.0000,9,-999.0000,9,-999.0000,9,  28.6084,  28.5924,2
  33RR20070322,  I09N,   195,  3,     34,   9419,2,20070426,0542, 15.9990,  89.8495, 2547,  27.9000,     27.9,  27.0632,  32.4563,2,  32.4622,2,    212.9,2,    214.6,2,     1.79,2,     0.00,2,     0.00,2,     0.02,2, -999.000,9, -999.000,9, -999.000,9,   1888.6,2,   2187.5,2,   8.1019,2,    25.00,     71.3,2,     4.97,2, -999.000,9, -999.000,-999.0000,9,-999.0000,  -999.00,9,  -999.00, -999.000,9, -999.000,   -999.0,9,   -999.0,  -999.00,9,-999.0000,9,-999.0000,9,-999.0000,9,-999.0000,9,-999.0000,9,-999.0000,9,-999.0000,9,-999.0000,9,-999.0000,9,  27.0568,  27.0549,2
  33RR20070322,  I09N,   195,  3,     33,     33,2,20070426,0542, 15.9990,  89.8495, 2547,  52.7000,     52.7,  26.2232,  33.4804,2,  33.4744,2,    191.9,2,    191.0,2,     1.58,2,     0.09,2,     0.01,2,     0.16,2,    1.645,2,    1.066,2, -999.000,5,   1954.2,2,   2229.1,2,   8.0230,2,    25.00,     68.3,2,     5.08,2,    0.839,2,    0.014,-999.0000,9,-999.0000,  -999.00,9,  -999.00, -999.000,9, -999.000,   -999.0,9,   -999.0,  -999.00,9,-999.0000,9,-999.0000,9,-999.0000,9,-999.0000,9,-999.0000,9,-999.0000,9,-999.0000,9,-999.0000,9,-999.0000,9,  26.2114,  26.2331,2
  33RR20070322,  I09N,   195,  3,     32,     37,2,20070426,0542, 15.9990,  89.8495, 2547,  77.7000,     77.7,  24.7827,  34.5834,2,  34.5714,2,     41.0,2,     21.0,2,    10.65,2,    19.52,2,     0.18,2,     1.44,2, -999.000,9, -999.000,9, -999.000,9,   2120.5,2,   2258.5,2,   7.7140,2,    25.00,     63.6,2,    24.37,2, -999.000,9, -999.000,-999.0000,9,-999.0000,  -999.00,9,  -999.00, -999.000,9, -999.000,   -999.0,9,   -999.0,  -999.00,9,-999.0000,9,-999.0000,9,-999.0000,9,-999.0000,9,-999.0000,9,-999.0000,9,-999.0000,9,-999.0000,9,-999.0000,9,  24.7660,  24.7775,2
  33RR20070322,  I09N,   195,  3,     31,     31,2,20070426,0542, 15.9990,  89.8495, 2547, 102.2000,    102.2,  20.0006,  34.7749,2,  34.7777,2,     13.1,2,      8.3,2,    20.11,2,    25.01,2,     0.03,2,     1.89,2,    1.036,2,    0.651,2, -999.000,5,   2172.4,2,   2278.2,2,   7.6203,2,    25.00,     53.8,2,    29.51,2,    0.435,2,    0.011,-999.0000,9,-999.0000,  -999.00,9,  -999.00, -999.000,9, -999.000,   -999.0,9,   -999.0,  -999.00,9,-999.0000,9,-999.0000,9,-999.0000,9,-999.0000,9,-999.0000,9,-999.0000,9,-999.0000,9,-999.0000,9,-999.0000,9,  19.9818,  19.8713,2
  33RR20070322,  I09N,   195,  3,     30,     30,2,20070426,0542, 15.9990,  89.8495, 2547, 127.2000,    127.2,  17.3673,  34.8997,2,  34.9004,2,      6.3,2,      3.7,2,    26.09,2,    27.67,2,     0.02,2,     2.14,2, -999.000,9, -999.000,9, -999.000,9,   2208.5,2,   2292.8,2,   7.5511,2,    25.00,     53.1,2,    31.17,2, -999.000,9, -999.000,-999.0000,9,-999.0000,  -999.00,9,  -999.00, -999.000,9, -999.000,   -999.0,9,   -999.0,  -999.00,9,-999.0000,9,-999.0000,9,-999.0000,9,-999.0000,9,-999.0000,9,-999.0000,9,-999.0000,9,-999.0000,9,-999.0000,9,  17.3460,  17.3585,2
  33RR20070322,  I09N,   195,  3,     29,     29,2,20070426,0542, 15.9990,  89.8495, 2547, 152.5000,    152.5,  15.2969,  34.9374,2,  34.9357,2,      4.8,2,      2.1,2,    29.95,2,    29.69,2,     0.01,2,     2.26,2,    0.624,2,    0.383,2, -999.000,5,   2229.7,2,   2300.1,6,   7.5399,6,    25.00,     50.6,2,    33.51,2, -999.000,9, -999.000,-999.0000,9,-999.0000,  -999.00,9,  -999.00, -999.000,9, -999.000,   -999.0,9,   -999.0,  -999.00,9,-999.0000,9,-999.0000,9,-999.0000,9,-999.0000,9,-999.0000,9,-999.0000,9,-999.0000,9,-999.0000,9,-999.0000,9,  15.2735,  15.2948,2
  33RR20070322,  I09N,   195,  3,     28,     28,2,20070426,0542, 15.9990,  89.8495, 2547, 202.7000,    202.7,  12.8983,  35.0016,2,  35.0016,2,      3.5,2,      2.3,2,    35.16,2,    32.23,2,     0.01,2,     2.40,2, -999.000,9, -999.000,9, -999.000,9,   2256.4,2,   2309.9,2,   7.4694,2,    25.00,     48.0,2,    35.87,2, -999.000,9, -999.000,-999.0000,9,-999.0000,  -999.00,9,  -999.00, -999.000,9, -999.000,   -999.0,9,   -999.0,  -999.00,9,-999.0000,9,-999.0000,9,-999.0000,9,-999.0000,9,-999.0000,9,-999.0000,9,-999.0000,9,-999.0000,9,-999.0000,9,  12.8706,  12.9120,2
  33RR20070322,  I09N,   195,  3,     27,     27,2,20070426,0542, 15.9990,  89.8495, 2547, 252.4000,    252.4,  11.8505,  35.0233,2,  35.0246,2,      3.3,2,      3.5,2,    37.67,2,    33.61,2,     0.00,2,     2.46,2,    0.313,2,    0.185,2, -999.000,5,   2265.4,2,   2314.4,2,   7.4442,2,    25.00,     46.7,2,    36.63,2,    0.399,2,    0.008,-999.0000,9,-999.0000,  -999.00,9,  -999.00, -999.000,9, -999.000,   -999.0,9,   -999.0,  -999.00,9,-999.0000,9,-999.0000,9,-999.0000,9,-999.0000,9,-999.0000,9,-999.0000,9,-999.0000,9,-999.0000,9,-999.0000,9,  11.8178,  11.8490,2
  33RR20070322,  I09N,   195,  3,     26,     26,2,20070426,0542, 15.9990,  89.8495, 2547, 302.3000,    302.3,  11.2344,  35.0305,2,  35.0305,2,      4.1,2,      3.6,2,    40.37,2,    34.41,2,     0.00,2,     2.50,2, -999.000,9, -999.000,9, -999.000,9,   2271.9,2,   2317.4,2,   7.4383,2,    25.00,     46.1,2,    38.29,2, -999.000,9, -999.000,-999.0000,9,-999.0000,  -999.00,9,  -999.00, -999.000,9, -999.000,   -999.0,9,   -999.0,  -999.00,9,-999.0000,9,-999.0000,9,-999.0000,9,-999.0000,9,-999.0000,9,-999.0000,9,-999.0000,9,-999.0000,9,-999.0000,9,  11.1964,  11.2258,2
  33RR20070322,  I09N,   195,  3,     25,     25,2,20070426,0542, 15.9990,  89.8495, 2547, 352.6000,    352.6,  10.7368,  35.0309,2,  35.0291,2,      3.7,2,      3.5,2,    43.28,2,    35.11,2,     0.00,2,     2.55,2,    0.199,2,    0.121,2, -999.000,5,   2276.6,2,   2320.9,2,   7.4283,2,    25.00,     45.6,2,  -999.00,9,    0.115,2,    0.005,-999.0000,9,-999.0000,  -999.00,9,  -999.00, -999.000,9, -999.000,   -999.0,9,   -999.0,  -999.00,9,-999.0000,9,-999.0000,9,-999.0000,9,-999.0000,9,-999.0000,9,-999.0000,9,-999.0000,9,-999.0000,9,-999.0000,9,  10.6937,  10.7350,2
  33RR20070322,  I09N,   195,  3,     24,     24,2,20070426,0542, 15.9990,  89.8495, 2547, 402.5000,    402.5,  10.3498,  35.0286,2,  35.0289,2,      3.6,2,      3.4,2,    46.37,2,    35.68,2,     0.00,2,     2.60,2, -999.000,9, -999.000,9, -999.000,9,   2282.6,2,   2322.8,2,   7.4356,2,    25.00,     45.2,2,    39.45,2, -999.000,9, -999.000,-999.0000,9,-999.0000,  -999.00,9,  -999.00, -999.000,9, -999.000,   -999.0,9,   -999.0,  -999.00,9,-999.0000,9,-999.0000,9,-999.0000,9,-999.0000,9,-999.0000,9,-999.0000,9,-999.0000,9,-999.0000,9,-999.0000,9,  10.3016,  10.3502,2
  33RR20070322,  I09N,   195,  3,     23,     23,2,20070426,0542, 15.9990,  89.8495, 2547, 452.1000,    452.1,   9.9715,  35.0253,2,  35.0215,2,      4.4,2,      4.4,2,    49.27,2,    36.14,2,     0.00,2,     2.65,2,    0.117,2,    0.074,2, -999.000,5,   2286.1,2,   2324.3,2,   7.4349,2,    25.00,     44.8,2,    39.20,2,    0.116,2,    0.005,-999.0000,9,-999.0000,  -999.00,9,  -999.00, -999.000,9, -999.000,   -999.0,9,   -999.0,  -999.00,9,-999.0000,9,-999.0000,9,-999.0000,9,-999.0000,9,-999.0000,9,-999.0000,9,-999.0000,9,-999.0000,9,-999.0000,9,   9.9184,   9.9738,2
  33RR20070322,  I09N,   195,  3,     22,     22,2,20070426,0542, 15.9990,  89.8495, 2547, 502.0000,    502.0,   9.5841,  35.0183,2,  35.0183,2,      4.7,2,      5.1,2,    53.34,2,    36.71,2,     0.00,2,     2.67,2, -999.000,9, -999.000,9, -999.000,9,   2288.8,2,   2328.8,2,   7.4271,2,    25.00,     44.3,2,    38.85,2, -999.000,9, -999.000,-999.0000,9,-999.0000,  -999.00,9,  -999.00, -999.000,9, -999.000,   -999.0,9,   -999.0,  -999.00,9,-999.0000,9,-999.0000,9,-999.0000,9,-999.0000,9,-999.0000,9,-999.0000,9,-999.0000,9,-999.0000,9,-999.0000,9,   9.5264,   9.5806,2
  33RR20070322,  I09N,   195,  3,     21,     21,2,20070426,0542, 15.9990,  89.8495, 2547, 602.8000,    602.8,   8.9303,  35.0043,2,  35.0055,2,     11.2,2,     11.6,2,    59.36,2,    37.04,2,     0.00,2,     2.71,2,    0.051,2,    0.033,2, -999.000,5,   2293.8,2,   2335.0,2,   7.4282,2,    25.00,     44.2,2,    39.23,2,    0.087,2,    0.005,   1.8220,2,   0.0010,     7.68,2,     0.22,    7.639,2,    0.011,   -999.0,9,   -999.0,  -999.00,9,-999.0000,9,-999.0000,9,-999.0000,9,-999.0000,9,-999.0000,9,-999.0000,9,-999.0000,9,-999.0000,9,-999.0000,9,   8.8636,   8.9200,2
  33RR20070322,  I09N,   195,  3,     20,     20,2,20070426,0542, 15.9990,  89.8495, 2547, 702.7000,    702.7,   8.3217,  34.9877,2,  34.9884,2,     17.0,2,     17.5,2,    65.95,2,    37.27,2,     0.00,2,     2.75,2, -999.000,9, -999.000,9, -999.000,9,   2300.5,2,   2341.8,2,   7.4489,2,    25.00,     43.8,2,    39.78,2, -999.000,9, -999.000,-999.0000,9,-999.0000,  -999.00,9,  -999.00, -999.000,9, -999.000,   -999.0,9,   -999.0,  -999.00,9,-999.0000,9,-999.0000,9,-999.0000,9,-999.0000,9,-999.0000,9,-999.0000,9,-999.0000,9,-999.0000,9,-999.0000,9,   8.2466,   8.3238,2
  33RR20070322,  I09N,   195,  3,     19,     19,2,20070426,0542, 15.9990,  89.8495, 2547, 803.5000,    803.5,   7.7259,  34.9688,2,  34.9693,2,     23.1,2,     23.0,2,    72.57,2,    37.55,2,     0.00,2,     2.78,2,    0.017,2,    0.014,2, -999.000,5,   2306.0,2,   2347.7,2,   7.4458,2,    25.00,     43.6,2,    40.11,2,    0.069,2,    0.004,   1.8460,2,   0.0010,     8.97,2,     0.21,    7.705,2,    0.012,   -999.0,9,   -999.0,  -999.00,9,-999.0000,9,-999.0000,9,-999.0000,9,-999.0000,9,-999.0000,9,-999.0000,9,-999.0000,9,-999.0000,9,-999.0000,9,   7.6431,   7.7208,2
  33RR20070322,  I09N,   195,  3,     18,     18,2,20070426,0542, 15.9990,  89.8495, 2547, 904.1000,    904.1,   7.1287,  34.9491,2,  34.9477,2,     30.7,2,     30.8,2,    79.19,2,    37.59,2,     0.00,2,     2.79,2, -999.000,9, -999.000,9, -999.000,9,   2310.2,2,   2356.6,2,   7.4393,2,    25.00,     43.4,2,    40.43,2, -999.000,9, -999.000,-999.0000,9,-999.0000,  -999.00,9,  -999.00, -999.000,9, -999.000,   -999.0,9,   -999.0,  -999.00,9,-999.0000,9,-999.0000,9,-999.0000,9,-999.0000,9,-999.0000,9,-999.0000,9,-999.0000,9,-999.0000,9,-999.0000,9,   7.0389,   7.1332,2
  33RR20070322,  I09N,   195,  3,     17,     17,2,20070426,0542, 15.9990,  89.8495, 2547,1003.9000,   1003.9,   6.5656,  34.9289,2,  34.9274,2,     39.9,2,     39.2,2,    85.64,2,    37.59,2,     0.00,2,     2.79,2,    0.008,2,    0.007,2, -999.000,5,   2315.7,6,   2364.6,2,   7.4473,2,    25.00,     42.5,2,    38.65,2,    0.121,2,    0.010,-999.0000,9,-999.0000,  -999.00,9,  -999.00, -999.000,9, -999.000,   -999.0,9,   -999.0,  -999.00,9,-999.0000,9,-999.0000,9,-999.0000,9,-999.0000,9,-999.0000,9,-999.0000,9,-999.0000,9,-999.0000,9,-999.0000,9,   6.4695,   6.5662,2
  33RR20070322,  I09N,   195,  3,     16,     16,2,20070426,0542, 15.9990,  89.8495, 2547,1104.3000,   1104.3,   6.0606,  34.9095,2,  34.9107,2,     47.3,2,     47.4,2,    91.31,2,    37.48,2,     0.00,2,     2.77,2, -999.000,9, -999.000,9, -999.000,9,   2317.3,2,   2370.6,2,   7.4582,2,    25.00,     41.6,2,    39.08,2, -999.000,9, -999.000,-999.0000,9,-999.0000,  -999.00,9,  -999.00, -999.000,9, -999.000,   -999.0,9,   -999.0,  -999.00,9,-999.0000,9,-999.0000,9,-999.0000,9,-999.0000,9,-999.0000,9,-999.0000,9,-999.0000,9,-999.0000,9,-999.0000,9,   5.9583,   6.0571,2
  33RR20070322,  I09N,   195,  3,     15,     15,2,20070426,0542, 15.9990,  89.8495, 2547,1204.4000,   1204.4,   5.6689,  34.8946,2,  34.8951,2,     54.6,2,     54.8,2,    95.42,2,    37.34,2,     0.00,2,     2.77,2,    0.007,2,    0.006,2, -999.000,5,   2320.2,2,   2374.5,2,   7.4712,2,    25.00,     41.9,2,    38.36,2, -999.000,9, -999.000,   1.8540,2,   0.0010,    11.25,2,     0.22,    7.918,2,    0.013,   -999.0,9,   -999.0,  -999.00,9,-999.0000,9,-999.0000,9,-999.0000,9,-999.0000,9,-999.0000,9,-999.0000,9,-999.0000,9,-999.0000,9,-999.0000,9,   5.5600,   5.6691,2
  33RR20070322,  I09N,   195,  3,     14,     14,2,20070426,0542, 15.9990,  89.8495, 2547,1304.8000,   1304.8,   5.2444,  34.8785,2,  34.8796,2,     60.7,2,     62.2,2,   100.33,2,    37.23,2,     0.00,2,     2.75,2, -999.000,9, -999.000,9, -999.000,9,   2322.2,2,   2380.2,2,   7.4736,2,    25.00,     41.7,2,    38.65,2, -999.000,9, -999.000,-999.0000,9,-999.0000,  -999.00,9,  -999.00, -999.000,9, -999.000,   -999.0,9,   -999.0,  -999.00,9,-999.0000,9,-999.0000,9,-999.0000,9,-999.0000,9,-999.0000,9,-999.0000,9,-999.0000,9,-999.0000,9,-999.0000,9,   5.1297,   5.2458,2
  33RR20070322,  I09N,   195,  3,     13,     13,2,20070426,0542, 15.9990,  89.8495, 2547,1405.7000,   1405.7,   4.8444,  34.8634,2,  34.8650,2,     68.8,2,     70.2,2,   104.26,2,    37.04,2,     0.00,2,     2.73,2, -999.000,9, -999.000,9, -999.000,9,   2324.6,2,   2386.7,2,   7.4776,2,    25.00,     41.6,2,    38.67,2, -999.000,9, -999.000,-999.0000,9,-999.0000,  -999.00,9,  -999.00, -999.000,9, -999.000,   -999.0,9,   -999.0,  -999.00,9,-999.0000,9,-999.0000,9,-999.0000,9,-999.0000,9,-999.0000,9,-999.0000,9,-999.0000,9,-999.0000,9,-999.0000,9,   4.7240,   4.8460,2
  33RR20070322,  I09N,   195,  3,     12,     12,2,20070426,0542, 15.9990,  89.8495, 2547,1505.6000,   1505.6,   4.4474,  34.8493,2,  34.8477,2,     76.0,2,     77.4,2,   109.18,2,    36.89,2,     0.00,2,     2.72,2, -999.000,9, -999.000,9, -999.000,9,   2326.8,2,   2391.4,2,   7.4872,2,    25.00,     41.4,2,    38.26,2, -999.000,9, -999.000,-999.0000,9,-999.0000,  -999.00,9,  -999.00, -999.000,9, -999.000,   -999.0,9,   -999.0,  -999.00,9,-999.0000,9,-999.0000,9,-999.0000,9,-999.0000,9,-999.0000,9,-999.0000,9,-999.0000,9,-999.0000,9,-999.0000,9,   4.3219,   4.4462,2
  33RR20070322,  I09N,   195,  3,     11,     11,2,20070426,0542, 15.9990,  89.8495, 2547,1606.7000,   1606.7,   4.0103,  34.8308,2,  34.8318,2,     84.1,2,     85.5,2,   114.10,2,    36.70,2,     0.00,2,     2.70,2,    0.003,2,    0.005,2, -999.000,5,   2328.3,2,   2390.8,2,   7.5009,2,    25.00,     41.0,2,    38.65,2,    0.065,2,    0.005,   1.8460,2,   0.0011,    10.44,3,     0.20,    7.886,2,    0.013,   -999.0,9,   -999.0,  -999.00,9,-999.0000,9,-999.0000,9,-999.0000,9,-999.0000,9,-999.0000,9,-999.0000,9,-999.0000,9,-999.0000,9,-999.0000,9,   3.8805,   4.0116,2
  33RR20070322,  I09N,   195,  3,     10,     10,2,20070426,0542, 15.9990,  89.8495, 2547,1707.1000,   1707.1,   3.5570,  34.8131,2,  34.8137,2,     93.0,2,     94.1,2,   119.83,2,    36.45,2,     0.00,2,     2.67,2, -999.000,9, -999.000,9, -999.000,9,   2330.9,2,   2396.2,2,   7.5041,2,    25.00,     40.1,2,    37.49,2, -999.000,9, -999.000,-999.0000,9,-999.0000,  -999.00,9,  -999.00, -999.000,9, -999.000,   -999.0,9,   -999.0,  -999.00,9,-999.0000,9,-999.0000,9,-999.0000,9,-999.0000,9,-999.0000,9,-999.0000,9,-999.0000,9,-999.0000,9,-999.0000,9,   3.4237,   3.5680,2
  33RR20070322,  I09N,   195,  3,      9,      9,2,20070426,0542, 15.9990,  89.8495, 2547,1808.0000,   1808.0,   3.2509,  34.8003,2,  34.8011,2,    100.4,2,    101.3,2,   123.00,2,    36.25,2,     0.00,2,     2.65,2, -999.000,9, -999.000,9, -999.000,9,   2331.4,2,   2399.2,2,   7.5156,2,    25.00,     40.2,2,    37.41,2, -999.000,9, -999.000,-999.0000,9,-999.0000,  -999.00,9,  -999.00, -999.000,9, -999.000,   -999.0,9,   -999.0,  -999.00,9,-999.0000,9,-999.0000,9,-999.0000,9,-999.0000,9,-999.0000,9,-999.0000,9,-999.0000,9,-999.0000,9,-999.0000,9,   3.1126,   3.2530,2
  33RR20070322,  I09N,   195,  3,      8,      8,2,20070426,0542, 15.9990,  89.8495, 2547,1909.3000,   1909.3,   2.9749,  34.7885,2,  34.7889,2,    107.5,2,    107.4,2,   125.77,2,    36.00,2,     0.00,2,     2.63,2, -999.000,9, -999.000,9, -999.000,9,   2331.6,2,   2402.6,2,   7.5196,2,    25.00,     40.3,2,    37.70,2, -999.000,9, -999.000,-999.0000,9,-999.0000,  -999.00,9,  -999.00, -999.000,9, -999.000,   -999.0,9,   -999.0,  -999.00,9,-999.0000,9,-999.0000,9,-999.0000,9,-999.0000,9,-999.0000,9,-999.0000,9,-999.0000,9,-999.0000,9,-999.0000,9,   2.8314,   2.9747,2
  33RR20070322,  I09N,   195,  3,      7,      7,2,20070426,0542, 15.9990,  89.8495, 2547,2009.6000,   2009.6,   2.7711,  34.7796,2,  34.7809,2,    111.6,2,    111.4,2,   128.94,2,    35.91,2,     0.00,2,     2.62,2,    0.015,3,    0.006,2, -999.000,5,   2333.2,2,   2411.1,2,   7.5222,2,    25.00,     40.4,2,    37.61,2,    0.102,2,    0.007,   1.9010,2,   0.0009,    12.80,2,     0.20,    8.188,2,    0.012,   -999.0,9,   -999.0,  -999.00,9,-999.0000,9,-999.0000,9,-999.0000,9,-999.0000,9,-999.0000,9,-999.0000,9,-999.0000,9,-999.0000,9,-999.0000,9,   2.6216,   2.7689,2
  33RR20070322,  I09N,   195,  3,      6,      6,2,20070426,0542, 15.9990,  89.8495, 2547,2262.7000,   2262.7,   2.3831,  34.7625,2,  34.7636,2,    121.7,2,    121.1,2,   134.11,2,    35.57,2,     0.00,2,     2.58,2, -999.000,9, -999.000,9, -999.000,9,   2333.7,2,   2415.2,2,   7.5350,2,    25.00,     40.0,2,    37.24,2, -999.000,9, -999.000,-999.0000,9,-999.0000,  -999.00,9,  -999.00, -999.000,9, -999.000,   -999.0,9,   -999.0,  -999.00,9,-999.0000,9,-999.0000,9,-999.0000,9,-999.0000,9,-999.0000,9,-999.0000,9,-999.0000,9,-999.0000,9,-999.0000,9,   2.2171,   2.3832,2
  33RR20070322,  I09N,   195,  3,      5,      5,2,20070426,0542, 15.9990,  89.8495, 2547,2363.4000,   2363.4,   2.2502,  34.7567,2,  34.7579,2,    125.1,2,    124.6,2,   134.90,2,    35.42,2,     0.00,2,     2.56,2, -999.000,9, -999.000,9, -999.000,9,   2334.7,2,   2415.8,2,   7.5454,2,    25.00,     40.4,2,    36.79,2, -999.000,9, -999.000,-999.0000,9,-999.0000,  -999.00,9,  -999.00, -999.000,9, -999.000,   -999.0,9,   -999.0,  -999.00,9,-999.0000,9,-999.0000,9,-999.0000,9,-999.0000,9,-999.0000,9,-999.0000,9,-999.0000,9,-999.0000,9,-999.0000,9,   2.0774,   2.2497,2