BOTTLE,20150630SIOCCHRJL
EXPOCODE,SECT_ID,STNNBR,CASTNO,SAMPNO,BTLNBR,BTLNBR_FLAG_W,DATE,TIME,LATITUDE,LONGITUDE,DEPTH,CTDRAW,CTDPRS,CTDTMP,CTDSAL,CTDSAL_FLAG_W,SALNTY,SALNTY_FLAG_W,CTDOXY,CTDOXY_FLAG_W,OXYGEN,OXYGEN_FLAG_W,SILCAT,SILCAT_FLAG_W,NITRAT,NITRAT_FLAG_W,NITRIT,NITRIT_FLAG_W,PHSPHT,PHSPHT_FLAG_W,CFC-11,CFC-11_FLAG_W,CFC-12,CFC-12_FLAG_W,CFC113,CFC113_FLAG_W,TCARBN,TCARBN_FLAG_W,ALKALI,ALKALI_FLAG_W,PH_SWS,PH_SWS_FLAG_W,PH_TMP,DOC,DOC_FLAG_W,TDN,TDN_FLAG_W,TRITUM,TRITUM_FLAG_W,TRITER,HELIUM,HELIUM_FLAG_W,HELIER,DELHE3,DELHE3_FLAG_W,DELHER,NEON,NEON_FLAG_W,NEONER,DELC14,DELC14_FLAG_W,C14ERR,DELC13,DELC13_FLAG_W,CDOM325,CDOM325_FLAG_W,CDOM340,CDOM340_FLAG_W,CDOM380,CDOM380_FLAG_W,CDOM412,CDOM412_FLAG_W,CDOM443,CDOM443_FLAG_W,CDOM490,CDOM490_FLAG_W,CDOM555,CDOM555_FLAG_W,CDOMSL,CDOMSL_FLAG_W,CDOMSN,CDOMSN_FLAG_W,THETA,SBE35,SBE35_FLAG_W
,,,,,,,,,,,METERS,,DBAR,ITS-90,PSS-78,,PSS-78,,UMOL/KG,,UMOL/KG,,UMOL/KG,,UMOL/KG,,UMOL/KG,,UMOL/KG,,PMOL/KG,,PMOL/KG,,PMOL/KG,,UMOL/KG,,UMOL/KG,,,,DEG C,UMOL/KG,,UMOL/KG,,TU,,TU,NMOL/KG,,NMOL/KG,PERCNT,,PERCNT,NMOL/KG,,NMOL/KG,/MILLE,,/MILLE,/MILLE,,1/M,,1/M,,1/M,,1/M,,1/M,,1/M,,1/M,,1/NM,,1/NM,,DEG C,ITS-90,
  33RR20070322,  I09N,   176,  1,      4,      4,2,20070421,0136,  9.9532,  85.6573, 3535,3497.2000,   3497.2,   1.4581,  34.7239,2,  34.7219,2,    154.3,2,    153.6,2,   146.97,2,    35.01,2,     0.00,2,     2.44,2, -999.000,9, -999.000,9, -999.000,9,   2334.2,2,   2435.7,2,   7.6043,2,    25.00,   -999.0,9,  -999.00,9, -999.000,9, -999.000,-999.0000,9,-999.0000,  -999.00,9,  -999.00, -999.000,9, -999.000,   -999.0,9,   -999.0,  -999.00,9,   0.1925,2,   0.1415,2,   0.0831,2,   0.0621,2,   0.0282,2,   0.0084,2,   0.0013,2,   0.0142,3,   0.0136,3,   1.1930,   1.4579,2
  33RR20070322,  I09N,   176,  1,      3,      3,2,20070421,0136,  9.9532,  85.6573, 3535,3524.3000,   3524.3,   1.4496,  34.7232,2,  34.7215,2,    152.1,2,    149.8,2,   150.68,2,    35.19,2,     0.00,2,     2.45,2,    0.014,2,    0.009,2, -999.000,5,   2342.1,2,   2444.5,2,   7.5884,2,    25.00,   -999.0,9,  -999.00,9, -999.000,9, -999.000,-999.0000,9,-999.0000,  -999.00,9,  -999.00, -999.000,9, -999.000,   -999.0,9,   -999.0,  -999.00,9,   0.1958,2,   0.1434,2,   0.0824,2,   0.0592,2,   0.0258,2,   0.0073,2,   0.0008,2,   0.0146,3,   0.0143,3,   1.1820,   1.4498,2
  33RR20070322,  I09N,   176,  1,      2,      2,2,20070421,0136,  9.9532,  85.6573, 3535,3553.9000,   3553.9,   1.4506,  34.7230,2,  34.7231,2,    149.3,2,    148.7,2,   151.29,2,    35.34,2,     0.00,2,     2.46,2, -999.000,9, -999.000,9, -999.000,9,   2342.7,2,   2447.6,2,   7.5942,2,    25.00,   -999.0,9,  -999.00,9, -999.000,9, -999.000,-999.0000,9,-999.0000,  -999.00,9,  -999.00, -999.000,9, -999.000,   -999.0,9,   -999.0,  -999.00,9,   0.1978,2,   0.1451,2,   0.0832,2,   0.0595,2,   0.0259,2,   0.0073,2,   0.0008,2,   0.0147,3,   0.0144,3,   1.1799,   1.4500,2
  33RR20070322,  I09N,   176,  1,      1,      1,2,20070421,0136,  9.9532,  85.6573, 3535,3579.3000,   3579.3,   1.4529,  34.7232,2,  34.7223,2,    148.6,2,    148.8,2,   151.70,2,    35.28,2,     0.00,2,     2.46,2,    0.018,2,    0.011,2, -999.000,5,   2343.1,6,   2450.0,6,   7.6016,6,    25.00,   -999.0,9,  -999.00,9, -999.000,9, -999.000,-999.0000,9,-999.0000,  -999.00,9,  -999.00, -999.000,9, -999.000,   -999.0,9,   -999.0,  -999.00,9,   0.1997,2,   0.1468,2,   0.0844,2,   0.0608,2,   0.0269,2,   0.0079,2,   0.0011,2,   0.0146,3,   0.0142,3,   1.1795,   1.4530,2