BOTTLE,20150630SIOCCHRJL
EXPOCODE,SECT_ID,STNNBR,CASTNO,SAMPNO,BTLNBR,BTLNBR_FLAG_W,DATE,TIME,LATITUDE,LONGITUDE,DEPTH,CTDRAW,CTDPRS,CTDTMP,CTDSAL,CTDSAL_FLAG_W,SALNTY,SALNTY_FLAG_W,CTDOXY,CTDOXY_FLAG_W,OXYGEN,OXYGEN_FLAG_W,SILCAT,SILCAT_FLAG_W,NITRAT,NITRAT_FLAG_W,NITRIT,NITRIT_FLAG_W,PHSPHT,PHSPHT_FLAG_W,CFC-11,CFC-11_FLAG_W,CFC-12,CFC-12_FLAG_W,CFC113,CFC113_FLAG_W,TCARBN,TCARBN_FLAG_W,ALKALI,ALKALI_FLAG_W,PH_SWS,PH_SWS_FLAG_W,PH_TMP,DOC,DOC_FLAG_W,TDN,TDN_FLAG_W,TRITUM,TRITUM_FLAG_W,TRITER,HELIUM,HELIUM_FLAG_W,HELIER,DELHE3,DELHE3_FLAG_W,DELHER,NEON,NEON_FLAG_W,NEONER,DELC14,DELC14_FLAG_W,C14ERR,DELC13,DELC13_FLAG_W,CDOM325,CDOM325_FLAG_W,CDOM340,CDOM340_FLAG_W,CDOM380,CDOM380_FLAG_W,CDOM412,CDOM412_FLAG_W,CDOM443,CDOM443_FLAG_W,CDOM490,CDOM490_FLAG_W,CDOM555,CDOM555_FLAG_W,CDOMSL,CDOMSL_FLAG_W,CDOMSN,CDOMSN_FLAG_W,THETA,SBE35,SBE35_FLAG_W
,,,,,,,,,,,METERS,,DBAR,ITS-90,PSS-78,,PSS-78,,UMOL/KG,,UMOL/KG,,UMOL/KG,,UMOL/KG,,UMOL/KG,,UMOL/KG,,PMOL/KG,,PMOL/KG,,PMOL/KG,,UMOL/KG,,UMOL/KG,,,,DEG C,UMOL/KG,,UMOL/KG,,TU,,TU,NMOL/KG,,NMOL/KG,PERCNT,,PERCNT,NMOL/KG,,NMOL/KG,/MILLE,,/MILLE,/MILLE,,1/M,,1/M,,1/M,,1/M,,1/M,,1/M,,1/M,,1/NM,,1/NM,,DEG C,ITS-90,
  33RR20070322,  I09N,   125,  1,     36,     38,2,20070407,0300, -8.2182,  95.0003, 5004,   1.7000,      1.7,  29.0297,  33.9392,2,  33.9394,2,    198.5,2,    198.5,2,     1.34,2,     0.00,2,     0.00,2,     0.07,2,    1.532,2,    0.957,2, -999.000,5,   1904.1,6,   2226.1,6,   7.9422,3,    25.00,     71.4,2,  -999.00,9, -999.000,9, -999.000,-999.0000,9,-999.0000,  -999.00,9,  -999.00, -999.000,9, -999.000,   -999.0,9,   -999.0,  -999.00,9,   0.0583,2,   0.0368,2,   0.0167,2,   0.0127,2,  -0.0037,4,  -0.0044,4,  -0.0042,4,   0.0162,3,   0.0217,3,  29.0293,  29.0357,2
  33RR20070322,  I09N,   125,  1,     35,     35,2,20070407,0300, -8.2182,  95.0003, 5004,  31.7000,     31.7,  25.9558,  34.4932,2,  34.4870,2,    204.6,2,    197.5,2,     3.24,2,     0.49,2,     0.03,2,     0.23,2,    1.609,2,    1.014,2, -999.000,5,   1978.2,2,   2265.2,2,   8.0150,3,    25.00,     67.8,2,  -999.00,9, -999.000,9, -999.000,-999.0000,9,-999.0000,  -999.00,9,  -999.00, -999.000,9, -999.000,   -999.0,9,   -999.0,  -999.00,9,   0.1856,2,   0.1300,2,   0.0635,2,   0.0429,2,   0.0126,2,   0.0031,2,  -0.0008,4,   0.0161,2,   0.0178,3,  25.9488,  25.9401,2
  33RR20070322,  I09N,   125,  1,     34,   9419,2,20070407,0300, -8.2182,  95.0003, 5004,  56.0000,     56.0,  20.2110,  34.7548,2,  34.7514,2,     94.1,2,     88.9,2,    14.53,2,    16.57,2,     0.87,2,     1.21,2,    1.527,2,    0.908,2, -999.000,5,   2109.9,2,   2281.3,2,   7.7708,2,    25.00,     60.8,2,  -999.00,9, -999.000,9, -999.000,-999.0000,9,-999.0000,  -999.00,9,  -999.00, -999.000,9, -999.000,   -999.0,9,   -999.0,  -999.00,9,   0.2004,2,   0.1482,2,   0.0802,2,   0.0596,2,   0.0220,2,   0.0064,2,   0.0011,2,   0.0152,3,   0.0150,3,  20.2006,  20.2155,2
  33RR20070322,  I09N,   125,  1,     33,     33,2,20070407,0300, -8.2182,  95.0003, 5004,  82.0000,     82.0,  17.3121,  34.7889,2,  34.7896,2,     72.0,2,     70.3,2,    20.47,2,    22.15,2,     0.09,2,     1.54,2,    1.458,2,    0.861,2, -999.000,5,   2151.0,2,   2289.8,2,   7.7135,2,    25.00,     56.1,2,  -999.00,9, -999.000,9, -999.000,-999.0000,9,-999.0000,  -999.00,9,  -999.00, -999.000,9, -999.000,   -999.0,9,   -999.0,  -999.00,9,   0.1692,2,   0.1237,2,   0.0694,2,   0.0539,2,   0.0190,2,   0.0047,2,   0.0001,4,   0.0147,3,   0.0143,3,  17.2985,  17.3158,2
  33RR20070322,  I09N,   125,  1,     32,     37,2,20070407,0300, -8.2182,  95.0003, 5004, 106.1000,    106.1,  15.4963,  34.7711,2,  34.7676,2,     63.0,2,     69.1,2,    24.86,2,    24.29,2,     0.04,2,     1.70,2,    1.324,2,    0.743,2, -999.000,5,   2196.5,2,   2294.2,2,   7.6480,3,    25.00,     51.7,2,  -999.00,9, -999.000,9, -999.000,-999.0000,9,-999.0000,  -999.00,9,  -999.00, -999.000,9, -999.000,   -999.0,9,   -999.0,  -999.00,9,   0.1590,2,   0.1161,2,   0.0657,2,   0.0507,2,   0.0176,2,   0.0039,2,  -0.0004,4,   0.0145,3,   0.0143,3,  15.4799,  15.5028,2
  33RR20070322,  I09N,   125,  1,     31,     31,2,20070407,0300, -8.2182,  95.0003, 5004, 156.9000,    156.9,  12.5908,  34.7563,2,  34.7558,2,     68.9,2,     73.4,2,    31.37,2,    26.67,2,     0.01,2,     1.89,2,    1.109,2,    0.627,2, -999.000,5,   2197.1,2,   2303.1,2,   7.6000,3,    25.00,     50.3,2,  -999.00,9, -999.000,9, -999.000,-999.0000,9,-999.0000,  -999.00,9,  -999.00, -999.000,9, -999.000,   -999.0,9,   -999.0,  -999.00,9,   0.1542,2,   0.1131,2,   0.0662,2,   0.0511,2,   0.0186,2,   0.0039,2,  -0.0008,4,   0.0143,3,   0.0137,3,  12.5698,  12.5745,2
  33RR20070322,  I09N,   125,  1,     30,     30,2,20070407,0300, -8.2182,  95.0003, 5004, 206.8000,    206.8,  11.5354,  34.7889,2,  34.7904,2,     67.8,2,     68.0,2,    33.08,2,    28.41,2,     0.00,2,     2.00,2,    0.904,2,    0.491,2, -999.000,5,   2211.7,2,   2308.2,2,   7.5878,2,    25.00,     49.2,2,  -999.00,9, -999.000,9, -999.000,-999.0000,9,-999.0000,  -999.00,9,  -999.00, -999.000,9, -999.000,   -999.0,9,   -999.0,  -999.00,9,   0.1575,2,   0.1160,2,   0.0694,2,   0.0545,2,   0.0213,2,   0.0050,2,  -0.0004,4,   0.0140,3,   0.0132,3,  11.5092,  11.5294,2
  33RR20070322,  I09N,   125,  1,     29,     29,2,20070407,0300, -8.2182,  95.0003, 5004, 255.6000,    255.6,  11.0024,  34.8581,2,  34.8528,2,     63.8,2,     62.6,2,    31.14,2,    29.55,2,     0.00,2,     2.03,2,    0.748,2,    0.402,2, -999.000,5,   2218.7,2,   2309.1,2,   7.5770,2,    25.00,     48.4,2,  -999.00,9, -999.000,9, -999.000,-999.0000,9,-999.0000,  -999.00,9,  -999.00, -999.000,9, -999.000,   -999.0,9,   -999.0,  -999.00,9,   0.1554,2,   0.1145,2,   0.0688,2,   0.0540,2,   0.0211,2,   0.0045,2,  -0.0008,4,   0.0140,3,   0.0132,3,  10.9708,  11.0031,2
  33RR20070322,  I09N,   125,  1,     28,     28,2,20070407,0300, -8.2182,  95.0003, 5004, 305.6000,    305.6,  10.7539,  34.8940,2,  34.8926,2,     62.5,2,     62.6,2,    29.40,2,    30.21,2,     0.00,2,     2.05,2,    0.638,2,    0.344,2, -999.000,5,   2222.9,2,   2305.2,2,   7.5783,2,    25.00,     47.6,2,  -999.00,9, -999.000,9, -999.000,-999.0000,9,-999.0000,  -999.00,9,  -999.00, -999.000,9, -999.000,   -999.0,9,   -999.0,  -999.00,9,   0.1543,2,   0.1134,2,   0.0690,2,   0.0538,2,   0.0215,2,   0.0050,2,  -0.0006,4,   0.0138,3,   0.0130,3,  10.7166,  10.7606,2
  33RR20070322,  I09N,   125,  1,     27,     27,2,20070407,0300, -8.2182,  95.0003, 5004, 356.2000,    356.2,  10.2982,  34.8821,2,  34.8834,2,     67.7,2,     68.4,2,    29.76,2,    30.57,2,     0.00,2,     2.07,2,    0.593,2,    0.316,2, -999.000,5,   2224.2,2,   2307.1,2,   7.5574,2,    25.00,     46.8,2,  -999.00,9, -999.000,9, -999.000,-999.0000,9,-999.0000,  -999.00,9,  -999.00, -999.000,9, -999.000,   -999.0,9,   -999.0,  -999.00,9,   0.1499,2,   0.1099,2,   0.0667,2,   0.0524,2,   0.0206,2,   0.0043,2,  -0.0010,4,   0.0137,3,   0.0130,3,  10.2558,  10.3025,2
  33RR20070322,  I09N,   125,  1,     26,     26,2,20070407,0300, -8.2182,  95.0003, 5004, 406.0000,    406.0,   9.8941,  34.8640,2,  34.8648,2,     72.2,2,     71.7,2,    31.29,2,    31.03,2,     0.00,2,     2.11,2,    0.521,2,    0.288,2, -999.000,5,   2225.0,2,   2307.6,2,   7.5450,3,    25.00,     46.2,2,  -999.00,9, -999.000,9, -999.000,-999.0000,9,-999.0000,  -999.00,9,  -999.00, -999.000,9, -999.000,   -999.0,9,   -999.0,  -999.00,9,   0.1469,2,   0.1071,2,   0.0641,2,   0.0496,2,   0.0193,2,   0.0040,2,  -0.0011,4,   0.0137,3,   0.0132,3,   9.8469,   9.8935,2
  33RR20070322,  I09N,   125,  1,     25,     25,2,20070407,0300, -8.2182,  95.0003, 5004, 455.5000,    455.5,   9.3398,  34.8289,2,  34.8296,2,     79.2,2,     78.8,2,    35.11,2,    31.34,2,     0.00,2,     2.16,2,    0.453,2,    0.243,2, -999.000,5,   2227.5,2,   2310.8,2,   7.5452,2,    25.00,     45.3,2,  -999.00,9, -999.000,9, -999.000,-999.0000,9,-999.0000,  -999.00,9,  -999.00, -999.000,9, -999.000,   -999.0,9,   -999.0,  -999.00,9,   0.1445,2,   0.1052,2,   0.0627,2,   0.0481,2,   0.0181,2,   0.0035,3,  -0.0014,4,   0.0138,3,   0.0134,3,   9.2885,   9.3347,2
  33RR20070322,  I09N,   125,  1,     24,     24,2,20070407,0300, -8.2182,  95.0003, 5004, 505.9000,    505.9,   9.0250,  34.8255,2,  34.8241,2,     75.6,2,     74.7,2,    39.51,2,    32.32,2,     0.00,2,     2.27,2,    0.324,2,    0.183,2, -999.000,5,   2238.8,2,   2315.3,2,   7.5539,2,    25.00,     44.8,2,  -999.00,9, -999.000,9, -999.000,-999.0000,9,-999.0000,  -999.00,9,  -999.00, -999.000,9, -999.000,   -999.0,9,   -999.0,  -999.00,9,   0.1494,2,   0.1084,2,   0.0648,2,   0.0497,2,   0.0191,2,   0.0040,3,  -0.0013,4,   0.0139,3,   0.0134,3,   8.9691,   9.0328,2
  33RR20070322,  I09N,   125,  1,     23,     23,2,20070407,0300, -8.2182,  95.0003, 5004, 606.6000,    606.6,   8.1422,  34.7907,2,  34.7900,2,     68.9,2,     67.7,2,    52.57,2,    34.23,2,     0.00,2,     2.45,2,    0.138,2,    0.080,2, -999.000,5,   2257.6,2,   2327.1,2,   7.5253,2,    25.00,     44.4,2,  -999.00,9, -999.000,9, -999.000,-999.0000,9,-999.0000,  -999.00,9,  -999.00, -999.000,9, -999.000,   -999.0,9,   -999.0,  -999.00,9,   0.1549,2,   0.1129,2,   0.0673,2,   0.0510,2,   0.0203,2,   0.0046,2,  -0.0009,4,   0.0139,3,   0.0135,3,   8.0787,   8.1405,2
  33RR20070322,  I09N,   125,  1,     22,     22,2,20070407,0300, -8.2182,  95.0003, 5004, 705.5000,    705.5,   7.4979,  34.7882,2,  34.7888,2,     63.9,2,     60.8,2,    63.33,2,    35.68,2,     0.00,2,     2.59,2,    0.057,2,    0.033,2, -999.000,5,   2272.9,2,   2339.9,6,   7.5311,3,    25.00,     43.5,2,  -999.00,9, -999.000,9, -999.000,-999.0000,9,-999.0000,  -999.00,9,  -999.00, -999.000,9, -999.000,   -999.0,9,   -999.0,  -999.00,9,   0.1658,2,   0.1212,2,   0.0726,2,   0.0548,2,   0.0233,2,   0.0065,2,   0.0000,4,   0.0138,3,   0.0133,3,   7.4270,   7.5067,2
  33RR20070322,  I09N,   125,  1,     21,     21,2,20070407,0300, -8.2182,  95.0003, 5004, 807.0000,    807.0,   6.8354,  34.7640,2,  34.7642,2,     63.1,2,     61.6,2,    74.31,2,    36.40,2,     0.00,2,     2.66,2,    0.033,2,    0.019,2, -999.000,5,   2285.8,2,   2350.6,2,   7.4887,2,    25.00,     42.8,2,  -999.00,9, -999.000,9, -999.000,-999.0000,9,-999.0000,  -999.00,9,  -999.00, -999.000,9, -999.000,   -999.0,9,   -999.0,  -999.00,9,   0.1621,2,   0.1178,2,   0.0692,2,   0.0510,2,   0.0202,2,   0.0046,2,  -0.0011,4,   0.0142,3,   0.0139,3,   6.7578,   6.8352,2
  33RR20070322,  I09N,   125,  1,     20,     20,2,20070407,0300, -8.2182,  95.0003, 5004, 906.7000,    906.7,   6.1291,  34.7317,2,  34.7339,3,     69.0,2,     69.7,2,    83.78,2,    36.61,2,     0.00,2,     2.68,2,    0.029,2,    0.017,2, -999.000,5,   2294.4,2,   2359.3,2,   7.5010,2,    25.00,     42.0,2,  -999.00,9, -999.000,9, -999.000,-999.0000,9,-999.0000,  -999.00,9,  -999.00, -999.000,9, -999.000,   -999.0,9,   -999.0,  -999.00,9,   0.1642,2,   0.1194,2,   0.0698,2,   0.0510,2,   0.0201,2,   0.0045,2,  -0.0010,4,   0.0143,3,   0.0141,3,   6.0461,   6.1341,2
  33RR20070322,  I09N,   125,  1,     19,     19,2,20070407,0300, -8.2182,  95.0003, 5004,1007.4000,   1007.4,   5.4514,  34.6968,2,  34.6981,2,     77.7,2,     77.8,2,    92.69,2,    36.61,2,     0.00,2,     2.69,2, -999.000,9, -999.000,9, -999.000,9,   2298.9,6,   2369.1,2,   7.5261,2,    25.00,     41.6,2,  -999.00,9, -999.000,9, -999.000,-999.0000,9,-999.0000,  -999.00,9,  -999.00, -999.000,9, -999.000,   -999.0,9,   -999.0,  -999.00,9,   0.1624,2,   0.1176,2,   0.0680,2,   0.0490,2,   0.0188,2,   0.0042,3,  -0.0013,4,   0.0144,3,   0.0143,2,   5.3637,   5.4479,2
  33RR20070322,  I09N,   125,  1,     18,     18,2,20070407,0300, -8.2182,  95.0003, 5004,1108.7000,   1108.7,   5.0255,  34.6994,2,  34.7014,2,     81.3,2,     82.4,2,    97.91,2,    36.66,2,     0.00,2,     2.69,2,    0.026,2,    0.013,2, -999.000,5,   2305.3,2,   2375.6,2,   7.7332,4,    25.00,     41.3,2,  -999.00,9, -999.000,9, -999.000,-999.0000,9,-999.0000,  -999.00,9,  -999.00, -999.000,9, -999.000,   -999.0,9,   -999.0,  -999.00,9,   0.1671,2,   0.1219,2,   0.0725,2,   0.0544,2,   0.0227,2,   0.0054,2,  -0.0004,4,   0.0141,3,   0.0136,3,   4.9317,   5.0274,2
  33RR20070322,  I09N,   125,  1,     17,     17,2,20070407,0300, -8.2182,  95.0003, 5004,1207.9000,   1207.9,   4.6267,  34.7102,2,  34.7105,2,     86.2,2,     87.4,2,   102.57,2,    36.76,2,     0.00,2,     2.70,2, -999.000,9, -999.000,9, -999.000,9,   2308.8,2,   2378.3,2,   7.4864,4,    25.00,     40.6,2,  -999.00,9, -999.000,9, -999.000,-999.0000,9,-999.0000,  -999.00,9,  -999.00, -999.000,9, -999.000,   -999.0,9,   -999.0,  -999.00,9,   0.1659,2,   0.1208,2,   0.0715,2,   0.0532,2,   0.0221,2,   0.0052,2,  -0.0004,4,   0.0142,3,   0.0137,3,   4.5273,   4.6279,2
  33RR20070322,  I09N,   125,  1,     16,     16,2,20070407,0300, -8.2182,  95.0003, 5004,1308.8000,   1308.8,   4.3638,  34.7262,2,  34.7272,2,     91.0,2,     91.5,2,   104.30,2,    36.76,2,     0.00,2,     2.70,2,    0.009,2,    0.005,2, -999.000,5,   2308.9,2,   2381.8,2,   7.5040,3,    25.00,     40.5,2,  -999.00,9, -999.000,9, -999.000,-999.0000,9,-999.0000,  -999.00,9,  -999.00, -999.000,9, -999.000,   -999.0,9,   -999.0,  -999.00,9,   0.1679,2,   0.1223,2,   0.0728,2,   0.0545,2,   0.0230,2,   0.0058,2,  -0.0001,4,   0.0141,3,   0.0136,3,   4.2577,   4.3657,2
  33RR20070322,  I09N,   125,  1,     15,     15,2,20070407,0300, -8.2182,  95.0003, 5004,1409.4000,   1409.4,   4.0845,  34.7395,2,  34.7400,2,     96.5,2,     97.0,2,   106.23,2,    36.60,2,     0.00,2,     2.69,2, -999.000,9, -999.000,9, -999.000,9,   2311.3,2,   2386.0,2,   7.5130,3,    25.00,     40.5,2,  -999.00,9, -999.000,9, -999.000,-999.0000,9,-999.0000,  -999.00,9,  -999.00, -999.000,9, -999.000,   -999.0,9,   -999.0,  -999.00,9,   0.1661,2,   0.1209,2,   0.0716,2,   0.0534,2,   0.0225,2,   0.0056,2,  -0.0001,4,   0.0140,3,   0.0136,3,   3.9721,   4.0856,2
  33RR20070322,  I09N,   125,  1,     14,     14,2,20070407,0300, -8.2182,  95.0003, 5004,1509.3000,   1509.3,   3.7870,  34.7496,2,  34.7518,2,    103.5,2,    103.9,2,   107.96,2,    36.34,2,     0.00,2,     2.66,2,    0.004,2,    0.002,2, -999.000,5,   2310.4,2,   2388.2,2,   7.5180,3,    25.00,     40.7,2,  -999.00,9, -999.000,9, -999.000,-999.0000,9,-999.0000,  -999.00,9,  -999.00, -999.000,9, -999.000,   -999.0,9,   -999.0,  -999.00,9,   0.1675,2,   0.1221,2,   0.0727,2,   0.0546,2,   0.0235,2,   0.0062,2,   0.0003,4,   0.0139,3,   0.0135,3,   3.6689,   3.7888,2
  33RR20070322,  I09N,   125,  1,     13,     13,2,20070407,0300, -8.2182,  95.0003, 5004,1609.9000,   1609.9,   3.4334,  34.7491,2,  34.7510,2,    110.2,2,    111.5,2,   111.46,2,    36.17,2,     0.00,2,     2.63,2, -999.000,9, -999.000,9, -999.000,9,   2311.6,2,   2391.6,2,   7.5230,2,    25.00,     40.3,2,  -999.00,9, -999.000,9, -999.000,-999.0000,9,-999.0000,  -999.00,9,  -999.00, -999.000,9, -999.000,   -999.0,9,   -999.0,  -999.00,9,   0.1662,2,   0.1209,2,   0.0715,2,   0.0533,2,   0.0224,2,   0.0058,2,   0.0002,4,   0.0140,3,   0.0137,3,   3.3105,   3.4338,2
  33RR20070322,  I09N,   125,  1,     12,     12,2,20070407,0300, -8.2182,  95.0003, 5004,1711.4000,   1711.4,   3.1416,  34.7506,2,  34.7520,2,    118.3,2,    119.2,2,   114.57,2,    35.96,2,     0.00,2,     2.60,2, -999.000,9, -999.000,9, -999.000,9,   2309.7,2,   2394.7,2,   7.5363,2,    25.00,     40.4,2,  -999.00,9, -999.000,9, -999.000,-999.0000,9,-999.0000,  -999.00,9,  -999.00, -999.000,9, -999.000,   -999.0,9,   -999.0,  -999.00,9,   0.1633,2,   0.1184,2,   0.0698,2,   0.0518,2,   0.0214,2,   0.0055,2,   0.0000,4,   0.0140,3,   0.0137,3,   3.0135,   3.1415,2
  33RR20070322,  I09N,   125,  1,     11,     11,2,20070407,0300, -8.2182,  95.0003, 5004,1812.3000,   1812.3,   2.9047,  34.7491,2,  34.7508,2,    125.3,2,    125.9,2,   115.91,2,    35.65,2,     0.00,2,     2.57,2,    0.003,2,    0.001,2, -999.000,5,   2309.7,2,   2395.6,2,   7.5453,2,    25.00,     40.6,2,  -999.00,9, -999.000,9, -999.000,-999.0000,9,-999.0000,  -999.00,9,  -999.00, -999.000,9, -999.000,   -999.0,9,   -999.0,  -999.00,9,   0.1596,2,   0.1155,2,   0.0677,2,   0.0504,2,   0.0206,2,   0.0051,2,   0.0000,4,   0.0140,3,   0.0138,3,   2.7709,   2.9050,2
  33RR20070322,  I09N,   125,  1,     10,     10,2,20070407,0300, -8.2182,  95.0003, 5004,2013.7000,   2013.7,   2.5720,  34.7509,2,  34.7522,2,    135.1,2,    134.8,2,   119.81,2,    35.23,2,     0.00,2,     2.54,2, -999.000,9, -999.000,9, -999.000,9,   2309.3,2,   2399.9,2,   7.5674,2,    25.00,     40.6,2,  -999.00,9, -999.000,9, -999.000,-999.0000,9,-999.0000,  -999.00,9,  -999.00, -999.000,9, -999.000,   -999.0,9,   -999.0,  -999.00,9,   0.1584,2,   0.1145,2,   0.0669,2,   0.0497,2,   0.0200,2,   0.0049,2,  -0.0001,4,   0.0140,3,   0.0139,3,   2.4253,   2.5717,2
  33RR20070322,  I09N,   125,  1,      9,      9,2,20070407,0300, -8.2182,  95.0003, 5004,2265.5000,   2265.5,   2.2463,  34.7448,2,  34.7459,2,    145.2,2,    144.4,2,   123.71,2,    34.81,2,     0.00,2,     2.49,2, -999.000,9, -999.000,9, -999.000,9,   2306.8,2,   2403.6,2,   7.5087,4,    25.00,     40.4,2,  -999.00,9, -999.000,9, -999.000,-999.0000,9,-999.0000,  -999.00,9,  -999.00, -999.000,9, -999.000,   -999.0,9,   -999.0,  -999.00,9,   0.1541,2,   0.1107,2,   0.0644,2,   0.0476,2,   0.0187,2,   0.0044,2,  -0.0003,4,   0.0140,3,   0.0140,3,   2.0824,   2.2467,2
  33RR20070322,  I09N,   125,  1,      8,      8,2,20070407,0300, -8.2182,  95.0003, 5004,2518.5000,   2518.5,   2.0275,  34.7399,2,  34.7408,2,    152.8,2,    152.2,2,   125.65,2,    34.61,2,     0.00,2,     2.45,2,    0.003,2,    0.001,2, -999.000,5,   2306.2,2,   2405.2,2,   7.5829,2,    25.00,     40.1,2,  -999.00,9, -999.000,9, -999.000,-999.0000,9,-999.0000,  -999.00,9,  -999.00, -999.000,9, -999.000,   -999.0,9,   -999.0,  -999.00,9,   0.1495,2,   0.1070,2,   0.0622,2,   0.0457,2,   0.0176,2,   0.0041,2,  -0.0003,4,   0.0139,3,   0.0141,3,   1.8446,   2.0264,2
  33RR20070322,  I09N,   125,  1,      7,      7,2,20070407,0300, -8.2182,  95.0003, 5004,2770.1000,   2770.1,   1.8613,  34.7352,2,  34.7359,2,    158.8,2,    158.5,2,   127.40,2,    34.29,2,     0.00,2,     2.43,2, -999.000,9, -999.000,9, -999.000,9,   2304.6,2,   2407.8,2,   7.5407,4,    25.00,     40.2,2,  -999.00,9, -999.000,9, -999.000,-999.0000,9,-999.0000,  -999.00,9,  -999.00, -999.000,9, -999.000,   -999.0,9,   -999.0,  -999.00,9,   0.1480,2,   0.1064,2,   0.0610,2,   0.0448,2,   0.0169,2,   0.0039,2,  -0.0002,4,   0.0139,2,   0.0142,2,   1.6583,   1.8612,2
  33RR20070322,  I09N,   125,  1,      6,      6,2,20070407,0300, -8.2182,  95.0003, 5004,3024.2000,   3024.2,   1.6886,  34.7299,2,  34.7302,2,    165.1,2,    165.1,2,   129.15,2,    34.03,2,     0.00,2,     2.40,2, -999.000,9, -999.000,9, -999.000,9,   2303.2,2,   2410.8,2,   7.6060,3,    25.00,     40.3,2,  -999.00,9, -999.000,9, -999.000,-999.0000,9,-999.0000,  -999.00,9,  -999.00, -999.000,9, -999.000,   -999.0,9,   -999.0,  -999.00,9,   0.1429,2,   0.1018,2,   0.0585,2,   0.0427,2,   0.0157,2,   0.0033,3,  -0.0007,4,   0.0139,2,   0.0143,3,   1.4650,   1.6882,2
  33RR20070322,  I09N,   125,  1,      5,      5,2,20070407,0300, -8.2182,  95.0003, 5004,3429.7000,   3429.7,   1.4393,  34.7227,2,  34.7237,2,    174.4,2,    175.2,2,   131.69,2,    33.67,2,     0.00,2,     2.36,2,    0.003,2,    0.001,2, -999.000,5,   2299.5,2,   2409.2,2,   7.6233,2,    25.00,     40.2,2,  -999.00,9, -999.000,9, -999.000,-999.0000,9,-999.0000,  -999.00,9,  -999.00, -999.000,9, -999.000,   -999.0,9,   -999.0,  -999.00,9,   0.1380,2,   0.0974,2,   0.0551,2,   0.0398,2,   0.0139,2,   0.0026,3,  -0.0008,4,   0.0140,2,   0.0147,3,   1.1815,   1.4392,2