BOTTLE,20150630SIOCCHRJL
EXPOCODE,SECT_ID,STNNBR,CASTNO,SAMPNO,BTLNBR,BTLNBR_FLAG_W,DATE,TIME,LATITUDE,LONGITUDE,DEPTH,CTDRAW,CTDPRS,CTDTMP,CTDSAL,CTDSAL_FLAG_W,SALNTY,SALNTY_FLAG_W,CTDOXY,CTDOXY_FLAG_W,OXYGEN,OXYGEN_FLAG_W,SILCAT,SILCAT_FLAG_W,NITRAT,NITRAT_FLAG_W,NITRIT,NITRIT_FLAG_W,PHSPHT,PHSPHT_FLAG_W,CFC-11,CFC-11_FLAG_W,CFC-12,CFC-12_FLAG_W,CFC113,CFC113_FLAG_W,TCARBN,TCARBN_FLAG_W,ALKALI,ALKALI_FLAG_W,PH_SWS,PH_SWS_FLAG_W,PH_TMP,DOC,DOC_FLAG_W,TDN,TDN_FLAG_W,TRITUM,TRITUM_FLAG_W,TRITER,HELIUM,HELIUM_FLAG_W,HELIER,DELHE3,DELHE3_FLAG_W,DELHER,NEON,NEON_FLAG_W,NEONER,DELC14,DELC14_FLAG_W,C14ERR,DELC13,DELC13_FLAG_W,CDOM325,CDOM325_FLAG_W,CDOM340,CDOM340_FLAG_W,CDOM380,CDOM380_FLAG_W,CDOM412,CDOM412_FLAG_W,CDOM443,CDOM443_FLAG_W,CDOM490,CDOM490_FLAG_W,CDOM555,CDOM555_FLAG_W,CDOMSL,CDOMSL_FLAG_W,CDOMSN,CDOMSN_FLAG_W,THETA,SBE35,SBE35_FLAG_W
,,,,,,,,,,,METERS,,DBAR,ITS-90,PSS-78,,PSS-78,,UMOL/KG,,UMOL/KG,,UMOL/KG,,UMOL/KG,,UMOL/KG,,UMOL/KG,,PMOL/KG,,PMOL/KG,,PMOL/KG,,UMOL/KG,,UMOL/KG,,,,DEG C,UMOL/KG,,UMOL/KG,,TU,,TU,NMOL/KG,,NMOL/KG,PERCNT,,PERCNT,NMOL/KG,,NMOL/KG,/MILLE,,/MILLE,/MILLE,,1/M,,1/M,,1/M,,1/M,,1/M,,1/M,,1/M,,1/NM,,1/NM,,DEG C,ITS-90,
  33RR20070322,  I09N,   113,  3,     36,     38,2,20070403,0811,-14.6330,  95.0000, 4723,   4.0000,      4.0,  27.4587,  34.8268,2,  34.8255,2,    201.2,2,    201.1,2,     2.08,2,     0.05,2,     0.00,2,     0.07,2,    1.600,2,    1.018,2, -999.000,5,   1959.5,6,   2288.0,6,   8.0237,3,    25.00,     72.3,2,     5.54,2, -999.000,9, -999.000,-999.0000,9,-999.0000,  -999.00,9,  -999.00, -999.000,9, -999.000,   -999.0,9,   -999.0,  -999.00,9,   0.0677,2,   0.0437,2,   0.0212,2,   0.0159,2,  -0.0016,4,  -0.0032,4,  -0.0033,4,   0.0143,3,   0.0185,3,  27.4578,  27.4565,2
  33RR20070322,  I09N,   113,  3,     35,     35,2,20070403,0811,-14.6330,  95.0000, 4723,  31.9000,     31.9,  27.4742,  34.8316,2,  34.8322,2,    201.7,2,    200.6,2,     1.89,2,     0.05,2,     0.00,2,     0.06,2,    1.593,2,    1.030,2, -999.000,5,   1958.3,2,   2286.9,2,   8.0890,3,    25.00,     72.0,2,     4.92,2, -999.000,9, -999.000,-999.0000,9,-999.0000,  -999.00,9,  -999.00, -999.000,9, -999.000,     53.2,2,      3.5,     1.28,2,   0.0626,2,   0.0412,2,   0.0196,2,   0.0148,2,  -0.0022,4,  -0.0036,4,  -0.0033,4,   0.0146,3,   0.0187,3,  27.4668,  27.4682,2
  33RR20070322,  I09N,   113,  3,     34,   9419,2,20070403,0811,-14.6330,  95.0000, 4723,  56.6000,     56.6,  25.1430,  34.6071,2,  34.6060,2,    205.7,2,    203.5,2,     3.26,2,     0.05,2,     0.00,2,     0.13,2,    1.748,2,    1.088,2, -999.000,5,   1968.9,2,   2271.8,2,   8.0470,3,    25.00,     70.5,2,     5.19,2, -999.000,9, -999.000,-999.0000,9,-999.0000,  -999.00,9,  -999.00, -999.000,9, -999.000,   -999.0,9,   -999.0,  -999.00,9,   0.1823,2,   0.1285,2,   0.0635,2,   0.0447,2,   0.0143,2,   0.0041,2,   0.0006,2,   0.0154,3,   0.0170,3,  25.1307,  25.1310,2
  33RR20070322,  I09N,   113,  3,     33,     33,2,20070403,0811,-14.6330,  95.0000, 4723,  81.5000,     81.5,  23.4754,  34.6848,2,  34.6790,2,    169.9,2,    165.2,2,     6.39,2,     2.60,2,     0.43,2,     0.38,2,    1.711,2,    1.075,2, -999.000,5,   2018.0,2,   2279.0,2,   7.9700,3,    25.00,     66.9,2,     7.65,2, -999.000,9, -999.000,-999.0000,9,-999.0000,  -999.00,9,  -999.00, -999.000,9, -999.000,     54.1,2,      3.1,     0.79,2,   0.1953,2,   0.1443,2,   0.0768,2,   0.0569,2,   0.0202,2,   0.0060,2,   0.0016,2,   0.0152,2,   0.0153,2,  23.4585,  23.5090,2
  33RR20070322,  I09N,   113,  3,     32,     37,2,20070403,0811,-14.6330,  95.0000, 4723, 106.3000,    106.3,  21.3810,  34.8147,2,  34.8292,2,    128.0,2,    130.8,2,    10.90,2,    10.60,2,     0.04,2,     0.77,2,    1.746,2,    1.083,2, -999.000,5,   2068.3,2,   2286.6,2,-999.0000,5,    25.00,     60.4,2,    14.77,2, -999.000,9, -999.000,-999.0000,9,-999.0000,  -999.00,9,  -999.00, -999.000,9, -999.000,   -999.0,9,   -999.0,  -999.00,9,   0.1608,2,   0.1174,2,   0.0640,2,   0.0500,2,   0.0165,2,   0.0040,2,   0.0005,3,   0.0146,3,   0.0146,3,  21.3604,  21.3772,2
  33RR20070322,  I09N,   113,  3,     31,     31,2,20070403,0811,-14.6330,  95.0000, 4723, 156.3000,    156.3,  19.1856,  35.1764,2,  35.1755,2,    145.3,2,    144.7,2,    11.29,2,    10.01,2,     0.01,2,     0.74,2,    1.881,2,    1.135,2, -999.000,5,   2089.9,2,   2309.6,2,   7.8790,3,    25.00,     58.4,2,    13.75,2, -999.000,9, -999.000,-999.0000,9,-999.0000,  -999.00,9,  -999.00, -999.000,9, -999.000,     46.3,2,      3.5,     0.64,2,   0.1238,2,   0.0895,2,   0.0487,2,   0.0383,2,   0.0101,2,   0.0012,3,  -0.0009,4,   0.0141,2,   0.0146,3,  19.1575,  19.1944,2
  33RR20070322,  I09N,   113,  3,     30,     30,2,20070403,0811,-14.6330,  95.0000, 4723, 206.4000,    206.4,  14.9068,  34.7999,2,  34.8149,2,    119.4,2,    118.3,2,    24.03,2,    18.24,2,     0.01,2,     1.30,2,    1.598,2,    0.927,2, -999.000,5,   2140.9,2,   2300.2,2,   7.7580,3,    25.00,     54.1,2,    22.20,2, -999.000,9, -999.000,-999.0000,9,-999.0000,  -999.00,9,  -999.00, -999.000,9, -999.000,     21.6,2,      3.4,     0.40,2,   0.1365,2,   0.0985,2,   0.0548,2,   0.0419,2,   0.0135,2,   0.0025,3,  -0.0006,4,   0.0141,3,   0.0144,3,  14.8757,  14.9370,2
  33RR20070322,  I09N,   113,  3,     29,     29,2,20070403,0811,-14.6330,  95.0000, 4723, 257.0000,    257.0,  13.3447,  34.9318,2,  34.9135,2,    117.4,2,    130.6,2,    24.62,2,    18.69,2,     0.00,2,     1.36,2,    1.731,2,    0.989,2, -999.000,5,   2156.8,2,   2309.9,2,   7.7360,3,    25.00,     52.2,2,    22.26,2, -999.000,9, -999.000,-999.0000,9,-999.0000,  -999.00,9,  -999.00, -999.000,9, -999.000,     16.0,2,      3.4,     0.54,2,   0.1279,2,   0.0922,2,   0.0516,2,   0.0391,2,   0.0120,2,   0.0017,3,  -0.0012,4,   0.0140,2,   0.0144,2,  13.3087,  13.3453,2
  33RR20070322,  I09N,   113,  3,     28,     28,2,20070403,0811,-14.6330,  95.0000, 4723, 305.8000,    305.8,  12.2394,  35.0226,2,  35.0207,2,    159.1,2,    157.3,2,    18.74,2,    16.96,2,     0.00,2,     1.24,2,    2.165,2,    1.201,2, -999.000,5,   2153.8,2,   2312.7,2,-999.0000,5,    25.00,     50.9,2,    20.47,2, -999.000,9, -999.000,-999.0000,9,-999.0000,  -999.00,9,  -999.00, -999.000,9, -999.000,     25.7,2,      3.4,     0.80,2,   0.1098,2,   0.0782,2,   0.0434,2,   0.0329,2,   0.0083,2,   0.0001,4,  -0.0020,4,   0.0136,2,   0.0146,2,  12.1988,  12.2257,2
  33RR20070322,  I09N,   113,  3,     27,     27,2,20070403,0811,-14.6330,  95.0000, 4723, 357.3000,    357.3,  10.9835,  34.9151,2,  34.9181,2,    176.4,2,    177.2,2,    15.22,2,    17.42,2,     0.00,2,     1.26,2,    2.540,2,    1.382,2, -999.000,5,   2151.3,2,   2305.9,2,   7.7490,3,    25.00,     49.6,2,    20.96,2, -999.000,9, -999.000,-999.0000,9,-999.0000,  -999.00,9,  -999.00, -999.000,9, -999.000,     29.1,2,      2.8,     0.96,2,   0.0997,2,   0.0702,2,   0.0384,2,   0.0290,2,   0.0063,2,  -0.0007,4,  -0.0024,4,   0.0135,2,   0.0148,3,  10.9392,  10.9923,2
  33RR20070322,  I09N,   113,  3,     26,     26,2,20070403,0811,-14.6330,  95.0000, 4723, 406.1000,    406.1,   9.9518,  34.7994,2,  34.8001,2,    192.8,2,    197.9,2,    11.88,2,    17.89,2,     0.00,2,     1.27,2,    2.839,2,    1.508,2, -999.000,5,   2145.1,2,   2299.3,2,   7.7470,3,    25.00,     49.0,2,    21.24,2, -999.000,9, -999.000,-999.0000,9,-999.0000,  -999.00,9,  -999.00, -999.000,9, -999.000,     39.1,2,      3.8,     1.10,2,   0.0885,2,   0.0608,2,   0.0333,2,   0.0251,2,   0.0042,2,  -0.0013,4,  -0.0026,4,   0.0132,2,   0.0151,3,   9.9044,   9.9504,2
  33RR20070322,  I09N,   113,  3,     25,     25,2,20070403,0811,-14.6330,  95.0000, 4723, 457.0000,    457.0,   9.2864,  34.7212,2,  34.7224,2,    192.0,2,    191.4,2,    14.44,2,    20.12,2,     0.00,2,     1.42,2,    2.648,2,    1.375,2, -999.000,5,   2153.3,2,   2297.7,2,   7.7220,3,    25.00,     47.5,2,    23.43,2, -999.000,9, -999.000,-999.0000,9,-999.0000,  -999.00,9,  -999.00, -999.000,9, -999.000,     26.6,2,      3.6,     1.09,2,   0.0923,2,   0.0635,2,   0.0350,2,   0.0264,2,   0.0049,2,  -0.0013,4,  -0.0027,4,   0.0134,2,   0.0150,3,   9.2352,   9.2839,2
  33RR20070322,  I09N,   113,  3,     24,     24,2,20070403,0811,-14.6330,  95.0000, 4723, 506.2000,    506.2,   8.4559,  34.6582,2,  34.6584,2,    158.2,2,    150.3,2,    27.77,2,    26.02,2,     0.00,2,     1.82,2,    1.476,2,    0.755,2, -999.000,5,   2188.9,2,   2303.8,2,   7.6450,3,    25.00,     46.8,2,    28.20,2, -999.000,9, -999.000,-999.0000,9,-999.0000,  -999.00,9,  -999.00, -999.000,9, -999.000,    -26.9,2,      3.0,     0.83,2,   0.1126,2,   0.0789,2,   0.0448,2,   0.0342,2,   0.0102,2,   0.0008,3,  -0.0018,4,   0.0133,2,   0.0142,3,   8.4022,   8.4596,2
  33RR20070322,  I09N,   113,  3,     23,     23,2,20070403,0811,-14.6330,  95.0000, 4723, 607.0000,    607.0,   7.4850,  34.6628,2,  34.6621,2,    105.7,2,    103.1,2,    49.58,2,    32.15,2,     0.00,2,     2.30,2,    0.337,2,    0.183,2, -999.000,5,   2238.0,2,   2322.3,2,-999.0000,5,    25.00,     45.3,2,    34.57,2, -999.000,9, -999.000,-999.0000,9,-999.0000,  -999.00,9,  -999.00, -999.000,9, -999.000,    -92.5,2,      3.0,     0.56,2,   0.1419,2,   0.1017,2,   0.0594,2,   0.0449,2,   0.0175,2,   0.0042,2,  -0.0004,4,   0.0135,3,   0.0137,3,   7.4246,   7.4852,2
  33RR20070322,  I09N,   113,  3,     22,     22,2,20070403,0811,-14.6330,  95.0000, 4723, 656.5000,    656.5,   7.1636,  34.6739,2,  34.6730,2,     92.9,2,     92.5,2,    57.84,2,    33.59,2,     0.00,2,     2.40,2,    0.202,2,    0.114,2, -999.000,5,   2258.6,2,   2330.4,2,   7.5450,3,    25.00,     44.4,2,    36.41,2, -999.000,9, -999.000,-999.0000,9,-999.0000,  -999.00,9,  -999.00, -999.000,9, -999.000,   -999.0,9,   -999.0,  -999.00,9,   0.1471,2,   0.1057,2,   0.0619,2,   0.0466,2,   0.0183,2,   0.0040,2,  -0.0006,4,   0.0138,4,   0.0138,4,   7.0996,   7.1636,2
  33RR20070322,  I09N,   113,  3,     21,     21,2,20070403,0811,-14.6330,  95.0000, 4723, 707.7000,    707.7,   6.8214,  34.6768,2,  34.6759,2,     86.9,2,     86.7,2,    65.74,2,    34.47,2,     0.00,2,     2.50,2,    0.129,2,    0.075,2, -999.000,5,   2270.5,2,   2336.5,2,-999.0000,5,    25.00,     43.1,2,    36.77,2, -999.000,9, -999.000,-999.0000,9,-999.0000,  -999.00,9,  -999.00, -999.000,9, -999.000,   -128.7,2,      2.9,     0.42,2,   0.1516,2,   0.1090,2,   0.0635,2,   0.0477,2,   0.0190,2,   0.0043,2,  -0.0005,4,   0.0138,3,   0.0138,3,   6.7540,   6.8223,2
  33RR20070322,  I09N,   113,  3,     20,     20,2,20070403,0811,-14.6330,  95.0000, 4723, 807.7000,    807.7,   6.2058,  34.6655,2,  34.6657,2,     84.0,2,     83.4,2,    77.60,2,    35.36,2,     0.00,2,     2.59,2,    0.079,2,    0.046,2, -999.000,5,   2285.5,2,   2349.6,2,   7.5190,3,    25.00,     42.7,2,    38.34,2, -999.000,9, -999.000,-999.0000,9,-999.0000,  -999.00,9,  -999.00, -999.000,9, -999.000,   -148.6,2,      2.3,     0.32,2,   0.1582,2,   0.1139,2,   0.0668,2,   0.0502,2,   0.0203,2,   0.0048,2,  -0.0003,4,   0.0140,3,   0.0138,3,   6.1320,   6.2053,2
  33RR20070322,  I09N,   113,  3,     19,     19,2,20070403,0811,-14.6330,  95.0000, 4723, 907.0000,    907.0,   5.6693,  34.6543,2,  34.6537,2,     85.2,2,     84.3,2,    86.91,2,    35.98,2,     0.00,2,     2.63,2,    0.053,2,    0.029,2, -999.000,5,   2296.4,2,   2358.9,2,   7.5110,3,    25.00,     42.4,2,    38.14,2, -999.000,9, -999.000,-999.0000,9,-999.0000,  -999.00,9,  -999.00, -999.000,9, -999.000,   -162.4,2,      2.4,     0.22,2,   0.1595,2,   0.1148,2,   0.0663,2,   0.0492,2,   0.0199,2,   0.0048,2,  -0.0003,4,   0.0140,3,   0.0140,3,   5.5895,   5.6701,2
  33RR20070322,  I09N,   113,  3,     18,     18,2,20070403,0811,-14.6330,  95.0000, 4723,1008.5000,   1008.5,   5.1014,  34.6339,2,  34.6330,2,     89.3,2,     89.0,2,    95.86,2,    36.19,2,     0.00,2,     2.64,2,    0.049,2,    0.029,2, -999.000,5,   2299.6,6,   2368.7,6,   7.4797,3,    25.00,     41.9,2,    37.98,2, -999.000,9, -999.000,-999.0000,9,-999.0000,  -999.00,9,  -999.00, -999.000,9, -999.000,   -171.9,2,      2.6,     0.19,2,   0.1640,2,   0.1184,2,   0.0691,2,   0.0516,2,   0.0212,2,   0.0050,2,  -0.0002,4,   0.0142,4,   0.0139,4,   5.0163,   5.1029,2
  33RR20070322,  I09N,   113,  3,     17,     17,2,20070403,0811,-14.6330,  95.0000, 4723,1108.2000,   1108.2,   4.7260,  34.6407,2,  34.6405,2,     92.8,2,     93.1,2,    99.64,2,    36.39,2,     0.00,2,     2.65,2,    0.025,2,    0.015,2, -999.000,5,   2307.6,2,   2372.1,2,   7.2590,4,    25.00,     41.4,2,    37.61,2, -999.000,9, -999.000,-999.0000,9,-999.0000,  -999.00,9,  -999.00, -999.000,9, -999.000,   -176.3,2,      2.3,     0.20,2,   0.1650,2,   0.1196,2,   0.0697,2,   0.0517,2,   0.0216,2,   0.0057,3,   0.0002,4,   0.0140,4,   0.0139,4,   4.6349,   4.7271,2
  33RR20070322,  I09N,   113,  3,     16,     16,2,20070403,0811,-14.6330,  95.0000, 4723,1208.9000,   1208.9,   4.4565,  34.6448,2,  34.6447,2,     95.2,2,     95.8,2,   103.24,2,    36.39,2,     0.00,2,     2.67,2,    0.021,2,    0.013,2, -999.000,5,   2311.1,2,   2376.5,2,-999.0000,5,    25.00,     41.4,2,    37.79,2, -999.000,9, -999.000,-999.0000,9,-999.0000,  -999.00,9,  -999.00, -999.000,9, -999.000,   -181.5,2,      2.5,     0.22,2,   0.1656,2,   0.1196,2,   0.0701,2,   0.0525,2,   0.0223,2,   0.0058,2,   0.0003,4,   0.0140,3,   0.0137,3,   4.3587,   4.4560,2
  33RR20070322,  I09N,   113,  3,     15,     15,2,20070403,0811,-14.6330,  95.0000, 4723,1309.5000,   1309.5,   4.2142,  34.6555,2,  34.6553,2,     99.1,2,     99.9,2,   105.24,2,    36.34,2,     0.00,2,     2.66,2, -999.000,9, -999.000,9, -999.000,9,   2312.3,2,   2379.2,2,   7.5203,2,    25.00,     41.4,2,    37.54,2, -999.000,9, -999.000,-999.0000,9,-999.0000,  -999.00,9,  -999.00, -999.000,9, -999.000,   -181.1,2,      2.5,     0.21,2,   0.1632,2,   0.1175,2,   0.0681,2,   0.0502,2,   0.0206,2,   0.0051,2,   0.0000,4,   0.0141,3,   0.0140,3,   4.1096,   4.2146,2
  33RR20070322,  I09N,   113,  3,     14,     14,2,20070403,0811,-14.6330,  95.0000, 4723,1409.8000,   1409.8,   3.8901,  34.6719,2,  34.6716,2,    105.4,2,    106.9,2,   105.45,2,    36.23,2,     0.00,2,     2.64,2,    0.009,2,    0.005,2, -999.000,5,   2310.2,2,   2379.4,2,   7.4990,3,    25.00,     40.9,2,    38.11,2, -999.000,9, -999.000,-999.0000,9,-999.0000,  -999.00,9,  -999.00, -999.000,9, -999.000,   -188.5,2,      2.7,     0.24,2,   0.1613,2,   0.1162,2,   0.0678,2,   0.0502,2,   0.0206,2,   0.0050,2,  -0.0001,4,   0.0141,3,   0.0139,3,   3.7799,   3.8903,2
  33RR20070322,  I09N,   113,  3,     13,     13,2,20070403,0811,-14.6330,  95.0000, 4723,1510.8000,   1510.8,   3.5975,  34.6868,2,  34.6862,2,    110.9,2,    113.5,2,   107.45,2,    36.02,2,     0.00,2,     2.61,2, -999.000,9, -999.000,9, -999.000,9,   2310.7,2,   2381.8,2,   7.5060,3,    25.00,     40.4,2,    37.97,2, -999.000,9, -999.000,-999.0000,9,-999.0000,  -999.00,9,  -999.00, -999.000,9, -999.000,   -186.9,2,      2.7,     0.25,2,   0.1596,2,   0.1148,2,   0.0667,2,   0.0495,2,   0.0201,2,   0.0048,2,  -0.0002,4,   0.0140,3,   0.0140,3,   3.4816,   3.5983,2
  33RR20070322,  I09N,   113,  3,     12,     12,2,20070403,0811,-14.6330,  95.0000, 4723,1610.6000,   1610.6,   3.3787,  34.7018,2,  34.7014,2,    118.6,2,    120.1,2,   106.66,2,    35.75,2,     0.00,2,     2.58,2,    0.003,2,    0.001,2, -999.000,5,   2307.5,2,   2381.8,2,-999.0000,5,    25.00,     40.8,2,    36.94,2, -999.000,9, -999.000,-999.0000,9,-999.0000,  -999.00,9,  -999.00, -999.000,9, -999.000,   -186.1,2,      2.3,     0.29,2,   0.1553,2,   0.1113,2,   0.0644,2,   0.0476,2,   0.0188,3,   0.0042,4,  -0.0006,4,   0.0141,4,   0.0141,4,   3.2566,   3.3784,2
  33RR20070322,  I09N,   113,  3,     11,     11,2,20070403,0811,-14.6330,  95.0000, 4723,1812.6000,   1812.6,   2.8632,  34.7210,2,  34.7206,2,    134.0,2,    134.1,2,   110.26,2,    35.13,2,     0.00,2,     2.53,2, -999.000,9, -999.000,9, -999.000,9,   2305.6,2,   2384.0,2,   7.5490,3,    25.00,     40.1,2,    36.58,2, -999.000,9, -999.000,-999.0000,9,-999.0000,  -999.00,9,  -999.00, -999.000,9, -999.000,   -177.6,2,      1.8,     0.26,2,   0.1509,2,   0.1077,2,   0.0621,2,   0.0454,2,   0.0174,2,   0.0035,3,  -0.0009,4,   0.0141,3,   0.0143,3,   2.7300,   2.8625,2
  33RR20070322,  I09N,   113,  3,     10,     10,2,20070403,0811,-14.6330,  95.0000, 4723,2013.9000,   2013.9,   2.5619,  34.7281,2,  34.7270,2,    142.1,2,    142.4,2,   113.47,2,    34.71,2,     0.00,2,     2.48,2,    0.003,2,    0.001,2, -999.000,5,   2305.5,2,   2386.9,2,   7.5642,2,    25.00,     40.6,2,    36.52,2, -999.000,9, -999.000,-999.0000,9,-999.0000,  -999.00,9,  -999.00, -999.000,9, -999.000,   -189.8,2,      2.5,     0.33,2,   0.1480,2,   0.1054,2,   0.0606,2,   0.0444,2,   0.0168,2,   0.0033,3,  -0.0008,4,   0.0140,3,   0.0143,3,   2.4154,   2.5618,2
  33RR20070322,  I09N,   113,  3,      9,      9,2,20070403,0811,-14.6330,  95.0000, 4723,2266.8000,   2266.8,   2.1884,  34.7302,2,  34.7303,2,    154.3,2,    154.7,2,   116.67,2,    34.14,2,     0.00,2,     2.42,2, -999.000,9, -999.000,9, -999.000,9,   2302.4,2,   2390.3,2,   7.5770,3,    25.00,     40.4,2,    35.30,2, -999.000,9, -999.000,-999.0000,9,-999.0000,  -999.00,9,  -999.00, -999.000,9, -999.000,   -194.8,2,      1.7,     0.37,2,   0.1435,2,   0.1018,2,   0.0580,2,   0.0422,2,   0.0155,2,   0.0032,3,  -0.0007,4,   0.0139,2,   0.0145,3,   2.0255,   2.1902,2
  33RR20070322,  I09N,   113,  3,      8,      8,2,20070403,0811,-14.6330,  95.0000, 4723,2518.6000,   2518.6,   1.9521,  34.7300,2,  34.7295,2,    160.9,2,    160.8,2,   120.89,2,    33.88,2,     0.00,2,     2.39,2,    0.002,2,    0.001,2, -999.000,5,   2303.2,2,   2394.3,2,   7.5870,3,    25.00,     40.6,2,    35.33,2, -999.000,9, -999.000,-999.0000,9,-999.0000,  -999.00,9,  -999.00, -999.000,9, -999.000,   -192.7,2,      1.8,     0.43,2,   0.1456,2,   0.1037,2,   0.0592,2,   0.0436,2,   0.0163,2,   0.0035,2,  -0.0006,4,   0.0139,2,   0.0143,3,   1.7707,   1.9533,2
  33RR20070322,  I09N,   113,  3,      7,      7,2,20070403,0811,-14.6330,  95.0000, 4723,2772.2000,   2772.2,   1.7374,  34.7278,2,  34.7287,2,    167.5,2,    167.6,2,   122.92,2,    33.72,2,     0.00,2,     2.38,2, -999.000,9, -999.000,9, -999.000,9,   2301.9,2,   2397.4,2,   7.5960,3,    25.00,     40.7,2,    35.19,2, -999.000,9, -999.000,-999.0000,9,-999.0000,  -999.00,9,  -999.00, -999.000,9, -999.000,   -196.2,2,      3.3,     0.41,2,   0.1398,2,   0.0988,2,   0.0564,2,   0.0413,2,   0.0149,2,   0.0029,3,  -0.0007,4,   0.0139,2,   0.0144,3,   1.5367,   1.7379,2
  33RR20070322,  I09N,   113,  3,      6,      6,2,20070403,0811,-14.6330,  95.0000, 4723,3025.4000,   3025.4,   1.5622,  34.7247,2,  34.7244,2,    173.1,2,    172.5,2,   126.33,2,    33.61,2,     0.00,2,     2.36,2,    0.001,2,    0.001,2, -999.000,5,   2302.5,2,   2401.3,2,   7.5990,3,    25.00,     40.6,2,    35.58,2, -999.000,9, -999.000,-999.0000,9,-999.0000,  -999.00,9,  -999.00, -999.000,9, -999.000,   -196.1,2,      1.6,     0.43,2,   0.1399,2,   0.0988,2,   0.0566,2,   0.0416,2,   0.0148,2,   0.0027,3,  -0.0009,4,   0.0140,3,   0.0144,3,   1.3413,   1.5621,2
  33RR20070322,  I09N,   113,  3,      5,      5,2,20070403,0811,-14.6330,  95.0000, 4723,3432.0000,   3432.0,   1.3842,  34.7212,2,  34.7217,2,    179.9,2,    180.1,2,   128.35,2,    33.35,2,     0.00,2,     2.34,2, -999.000,9, -999.000,9, -999.000,9,   2300.0,2,   2403.1,2,   7.5787,2,    25.00,     39.9,2,    35.32,2, -999.000,9, -999.000,-999.0000,9,-999.0000,  -999.00,9,  -999.00, -999.000,9, -999.000,   -186.6,2,      2.0,     0.48,2,   0.1380,2,   0.0972,2,   0.0550,2,   0.0399,2,   0.0138,2,   0.0025,3,  -0.0010,4,   0.0140,2,   0.0147,3,   1.1276,   1.3837,2