BOTTLE,20150630SIOCCHRJL
EXPOCODE,SECT_ID,STNNBR,CASTNO,SAMPNO,BTLNBR,BTLNBR_FLAG_W,DATE,TIME,LATITUDE,LONGITUDE,DEPTH,CTDRAW,CTDPRS,CTDTMP,CTDSAL,CTDSAL_FLAG_W,SALNTY,SALNTY_FLAG_W,CTDOXY,CTDOXY_FLAG_W,OXYGEN,OXYGEN_FLAG_W,SILCAT,SILCAT_FLAG_W,NITRAT,NITRAT_FLAG_W,NITRIT,NITRIT_FLAG_W,PHSPHT,PHSPHT_FLAG_W,CFC-11,CFC-11_FLAG_W,CFC-12,CFC-12_FLAG_W,CFC113,CFC113_FLAG_W,TCARBN,TCARBN_FLAG_W,ALKALI,ALKALI_FLAG_W,PH_SWS,PH_SWS_FLAG_W,PH_TMP,DOC,DOC_FLAG_W,TDN,TDN_FLAG_W,TRITUM,TRITUM_FLAG_W,TRITER,HELIUM,HELIUM_FLAG_W,HELIER,DELHE3,DELHE3_FLAG_W,DELHER,NEON,NEON_FLAG_W,NEONER,DELC14,DELC14_FLAG_W,C14ERR,DELC13,DELC13_FLAG_W,CDOM325,CDOM325_FLAG_W,CDOM340,CDOM340_FLAG_W,CDOM380,CDOM380_FLAG_W,CDOM412,CDOM412_FLAG_W,CDOM443,CDOM443_FLAG_W,CDOM490,CDOM490_FLAG_W,CDOM555,CDOM555_FLAG_W,CDOMSL,CDOMSL_FLAG_W,CDOMSN,CDOMSN_FLAG_W,THETA,SBE35,SBE35_FLAG_W
,,,,,,,,,,,METERS,,DBAR,ITS-90,PSS-78,,PSS-78,,UMOL/KG,,UMOL/KG,,UMOL/KG,,UMOL/KG,,UMOL/KG,,UMOL/KG,,PMOL/KG,,PMOL/KG,,PMOL/KG,,UMOL/KG,,UMOL/KG,,,,DEG C,UMOL/KG,,UMOL/KG,,TU,,TU,NMOL/KG,,NMOL/KG,PERCNT,,PERCNT,NMOL/KG,,NMOL/KG,/MILLE,,/MILLE,/MILLE,,1/M,,1/M,,1/M,,1/M,,1/M,,1/M,,1/M,,1/NM,,1/NM,,DEG C,ITS-90,
  33RR20070322,  I09N,   124,  1,     36,     38,2,20070406,2000, -8.7302,  95.0068, 5380,   3.6000,      3.6,  28.9871,  34.2007,2,  34.2019,2,    197.9,2,    197.6,2,     2.25,2,     0.05,2,     0.00,2,     0.08,2,    1.538,2,    0.955,2, -999.000,5,   1923.7,6,   2245.6,2,   8.0800,2,    25.00,   -999.0,9,  -999.00,9, -999.000,9, -999.000,-999.0000,9,-999.0000,  -999.00,9,  -999.00, -999.000,9, -999.000,   -999.0,9,   -999.0,  -999.00,9,-999.0000,9,-999.0000,9,-999.0000,9,-999.0000,9,-999.0000,9,-999.0000,9,-999.0000,9,-999.0000,9,-999.0000,9,  28.9862,  28.9882,2
  33RR20070322,  I09N,   124,  1,     35,     35,2,20070406,2000, -8.7302,  95.0068, 5380,  46.2000,     46.2,  20.4355,  34.8408,2,  34.8723,2,    141.9,2,    139.7,2,     9.50,2,     9.65,2,     0.35,2,     0.74,2,    1.762,2,    1.074,2, -999.000,5,   -999.0,9,   -999.0,9,-999.0000,9,  -999.00,   -999.0,9,  -999.00,9, -999.000,9, -999.000,-999.0000,9,-999.0000,  -999.00,9,  -999.00, -999.000,9, -999.000,   -999.0,9,   -999.0,  -999.00,9,-999.0000,9,-999.0000,9,-999.0000,9,-999.0000,9,-999.0000,9,-999.0000,9,-999.0000,9,-999.0000,9,-999.0000,9,  20.4269,  20.4645,2
  33RR20070322,  I09N,   124,  1,     34,   9419,2,20070406,2000, -8.7302,  95.0068, 5380,  90.6000,     90.6,  15.0546,  34.6417,2,  34.6324,2,    102.5,2,    105.5,2,    25.91,2,    20.00,2,     0.02,2,     1.41,2,    1.492,2,    0.867,2, -999.000,5,   2145.1,2,   2292.6,2,   7.7180,2,    25.00,   -999.0,9,  -999.00,9, -999.000,9, -999.000,-999.0000,9,-999.0000,  -999.00,9,  -999.00, -999.000,9, -999.000,   -999.0,9,   -999.0,  -999.00,9,-999.0000,9,-999.0000,9,-999.0000,9,-999.0000,9,-999.0000,9,-999.0000,9,-999.0000,9,-999.0000,9,-999.0000,9,  15.0409,  15.1117,2
  33RR20070322,  I09N,   124,  1,     33,     33,2,20070406,2000, -8.7302,  95.0068, 5380, 141.2000,    141.2,  12.3977,  34.7401,2,  34.7347,2,     74.9,2,     75.1,2,    32.41,2,    26.61,2,     0.00,2,     1.87,2,    1.121,2,    0.663,2, -999.000,5,   -999.0,9,   -999.0,9,-999.0000,9,  -999.00,   -999.0,9,  -999.00,9, -999.000,9, -999.000,-999.0000,9,-999.0000,  -999.00,9,  -999.00, -999.000,9, -999.000,   -999.0,9,   -999.0,  -999.00,9,-999.0000,9,-999.0000,9,-999.0000,9,-999.0000,9,-999.0000,9,-999.0000,9,-999.0000,9,-999.0000,9,-999.0000,9,  12.3790,  12.4149,2
  33RR20070322,  I09N,   124,  1,     32,     37,2,20070406,2000, -8.7302,  95.0068, 5380, 165.6000,    165.6,  12.1649,  34.8234,2,  34.8280,2,     70.8,2,     65.6,2,    30.70,2,    27.84,2,     0.00,2,     1.94,2, -999.000,9, -999.000,9, -999.000,9,   -999.0,9,   -999.0,9,-999.0000,9,  -999.00,   -999.0,9,  -999.00,9, -999.000,9, -999.000,-999.0000,9,-999.0000,  -999.00,9,  -999.00, -999.000,9, -999.000,   -999.0,9,   -999.0,  -999.00,9,-999.0000,9,-999.0000,9,-999.0000,9,-999.0000,9,-999.0000,9,-999.0000,9,-999.0000,9,-999.0000,9,-999.0000,9,  12.1432,  12.1727,2
  33RR20070322,  I09N,   124,  1,     31,     31,2,20070406,2000, -8.7302,  95.0068, 5380, 191.5000,    191.5,  11.8742,  34.8985,2,  34.8956,2,     62.7,2,     60.8,2,    28.79,2,    28.44,2,     0.00,2,     1.97,2,    0.900,2,    0.491,2, -999.000,5,   2217.0,2,   2309.3,2,   7.5720,2,    25.00,   -999.0,9,  -999.00,9, -999.000,9, -999.000,-999.0000,9,-999.0000,  -999.00,9,  -999.00, -999.000,9, -999.000,   -999.0,9,   -999.0,  -999.00,9,-999.0000,9,-999.0000,9,-999.0000,9,-999.0000,9,-999.0000,9,-999.0000,9,-999.0000,9,-999.0000,9,-999.0000,9,  11.8494,  11.8757,2
  33RR20070322,  I09N,   124,  1,     30,     30,2,20070406,2000, -8.7302,  95.0068, 5380, 241.1000,    241.1,  11.2547,  34.8964,2,  34.8954,2,     58.7,2,     59.4,2,    29.38,2,    29.52,2,     0.00,2,     2.01,2,    0.751,2,    0.409,2, -999.000,5,   -999.0,9,   -999.0,9,-999.0000,9,  -999.00,   -999.0,9,  -999.00,9, -999.000,9, -999.000,-999.0000,9,-999.0000,  -999.00,9,  -999.00, -999.000,9, -999.000,   -999.0,9,   -999.0,  -999.00,9,-999.0000,9,-999.0000,9,-999.0000,9,-999.0000,9,-999.0000,9,-999.0000,9,-999.0000,9,-999.0000,9,-999.0000,9,  11.2245,  11.2642,2
  33RR20070322,  I09N,   124,  1,     29,     29,2,20070406,2000, -8.7302,  95.0068, 5380, 291.2000,    291.2,  10.7385,  34.8964,2,  34.8950,2,     60.6,2,     69.3,2,    28.23,2,    29.56,2,     0.00,2,     1.99,2,    0.744,2,    0.399,2, -999.000,5,   2220.3,2,   2311.4,2,-999.0000,9,  -999.00,   -999.0,9,  -999.00,9, -999.000,9, -999.000,-999.0000,9,-999.0000,  -999.00,9,  -999.00, -999.000,9, -999.000,   -999.0,9,   -999.0,  -999.00,9,-999.0000,9,-999.0000,9,-999.0000,9,-999.0000,9,-999.0000,9,-999.0000,9,-999.0000,9,-999.0000,9,-999.0000,9,  10.7030,  10.7407,2
  33RR20070322,  I09N,   124,  1,     28,     28,2,20070406,2000, -8.7302,  95.0068, 5380, 341.4000,    341.4,  10.1149,  34.8540,2,  34.8536,2,     75.5,2,     76.7,2,    29.78,2,    30.07,2,     0.00,2,     2.02,2,    0.656,2,    0.354,2, -999.000,5,   -999.0,9,   -999.0,9,-999.0000,9,  -999.00,   -999.0,9,  -999.00,9, -999.000,9, -999.000,-999.0000,9,-999.0000,  -999.00,9,  -999.00, -999.000,9, -999.000,   -999.0,9,   -999.0,  -999.00,9,-999.0000,9,-999.0000,9,-999.0000,9,-999.0000,9,-999.0000,9,-999.0000,9,-999.0000,9,-999.0000,9,-999.0000,9,  10.0748,  10.1053,2
  33RR20070322,  I09N,   124,  1,     27,     27,2,20070406,2000, -8.7302,  95.0068, 5380, 390.3000,    390.3,   9.6198,  34.8321,2,  34.8318,2,     77.5,2,     78.2,2,    32.66,2,    30.85,2,     0.00,2,     2.09,2,    0.525,2,    0.284,2, -999.000,5,   2225.5,2,   2316.9,6,   7.5902,3,    25.00,   -999.0,9,  -999.00,9, -999.000,9, -999.000,-999.0000,9,-999.0000,  -999.00,9,  -999.00, -999.000,9, -999.000,   -999.0,9,   -999.0,  -999.00,9,-999.0000,9,-999.0000,9,-999.0000,9,-999.0000,9,-999.0000,9,-999.0000,9,-999.0000,9,-999.0000,9,-999.0000,9,   9.5752,   9.6247,2
  33RR20070322,  I09N,   124,  1,     26,     26,2,20070406,2000, -8.7302,  95.0068, 5380, 441.1000,    441.1,   9.1566,  34.8141,2,  34.8134,2,     77.9,2,     76.6,2,    37.25,2,    31.78,2,     0.00,2,     2.19,2, -999.000,5, -999.000,5, -999.000,5,   -999.0,9,   -999.0,9,-999.0000,9,  -999.00,   -999.0,9,  -999.00,9, -999.000,9, -999.000,-999.0000,9,-999.0000,  -999.00,9,  -999.00, -999.000,9, -999.000,   -999.0,9,   -999.0,  -999.00,9,-999.0000,9,-999.0000,9,-999.0000,9,-999.0000,9,-999.0000,9,-999.0000,9,-999.0000,9,-999.0000,9,-999.0000,9,   9.1076,   9.1633,2
  33RR20070322,  I09N,   124,  1,     25,     25,2,20070406,2000, -8.7302,  95.0068, 5380, 491.1000,    491.1,   8.8764,  34.8098,2,  34.8099,2,     74.6,2,     70.4,2,    42.05,2,    32.85,2,     0.00,2,     2.29,2, -999.000,5, -999.000,5, -999.000,5,   -999.0,9,   -999.0,9,-999.0000,9,  -999.00,   -999.0,9,  -999.00,9, -999.000,9, -999.000,-999.0000,9,-999.0000,  -999.00,9,  -999.00, -999.000,9, -999.000,   -999.0,9,   -999.0,  -999.00,9,-999.0000,9,-999.0000,9,-999.0000,9,-999.0000,9,-999.0000,9,-999.0000,9,-999.0000,9,-999.0000,9,-999.0000,9,   8.8227,   8.8836,2
  33RR20070322,  I09N,   124,  1,     24,     24,2,20070406,2000, -8.7302,  95.0068, 5380, 576.8000,    576.8,   8.2180,  34.7902,2,  34.7908,2,     66.9,2,     66.1,2,    51.64,2,    34.25,2,     0.00,2,     2.43,2,    0.131,2,    0.072,2, -999.000,5,   -999.0,9,   -999.0,9,-999.0000,9,  -999.00,   -999.0,9,  -999.00,9, -999.000,9, -999.000,-999.0000,9,-999.0000,  -999.00,9,  -999.00, -999.000,9, -999.000,   -999.0,9,   -999.0,  -999.00,9,-999.0000,9,-999.0000,9,-999.0000,9,-999.0000,9,-999.0000,9,-999.0000,9,-999.0000,9,-999.0000,9,-999.0000,9,   8.1574,   8.2205,2
  33RR20070322,  I09N,   124,  1,     23,     23,2,20070406,2000, -8.7302,  95.0068, 5380, 677.2000,    677.2,   7.3050,  34.7499,2,  34.7502,2,     64.9,2,     64.7,2,    66.07,2,    35.54,2,     0.00,2,     2.56,2,    0.066,2,    0.037,2, -999.000,5,   2274.1,2,   2340.1,2,   7.4980,3,    25.00,   -999.0,9,  -999.00,9, -999.000,9, -999.000,-999.0000,9,-999.0000,  -999.00,9,  -999.00, -999.000,9, -999.000,   -999.0,9,   -999.0,  -999.00,9,-999.0000,9,-999.0000,9,-999.0000,9,-999.0000,9,-999.0000,9,-999.0000,9,-999.0000,9,-999.0000,9,-999.0000,9,   7.2381,   7.3098,2
  33RR20070322,  I09N,   124,  1,     22,     22,2,20070406,2000, -8.7302,  95.0068, 5380, 776.6000,    776.6,   6.5817,  34.7243,2,  34.7235,2,     67.6,2,     67.8,2,    77.25,2,    36.16,2,     0.00,2,     2.62,2, -999.000,9, -999.000,9, -999.000,9,   -999.0,9,   -999.0,9,-999.0000,9,  -999.00,   -999.0,9,  -999.00,9, -999.000,9, -999.000,-999.0000,9,-999.0000,  -999.00,9,  -999.00, -999.000,9, -999.000,   -999.0,9,   -999.0,  -999.00,9,-999.0000,9,-999.0000,9,-999.0000,9,-999.0000,9,-999.0000,9,-999.0000,9,-999.0000,9,-999.0000,9,-999.0000,9,   6.5087,   6.5782,2
  33RR20070322,  I09N,   124,  1,     21,     21,2,20070406,2000, -8.7302,  95.0068, 5380, 876.5000,    876.5,   6.0003,  34.7123,2,  34.7124,2,     71.9,2,     72.0,2,    85.19,2,    36.36,2,     0.00,2,     2.65,2, -999.000,9, -999.000,9, -999.000,9,   -999.0,9,   -999.0,9,-999.0000,9,  -999.00,   -999.0,9,  -999.00,9, -999.000,9, -999.000,-999.0000,9,-999.0000,  -999.00,9,  -999.00, -999.000,9, -999.000,   -999.0,9,   -999.0,  -999.00,9,-999.0000,9,-999.0000,9,-999.0000,9,-999.0000,9,-999.0000,9,-999.0000,9,-999.0000,9,-999.0000,9,-999.0000,9,   5.9211,   5.9975,2
  33RR20070322,  I09N,   124,  1,     20,     20,2,20070406,2000, -8.7302,  95.0068, 5380, 977.9000,    977.9,   5.3962,  34.6941,2,  34.6930,2,     77.9,2,     79.5,2,    93.54,2,    36.46,2,     0.00,2,     2.66,2, -999.000,9, -999.000,9, -999.000,9,   -999.0,9,   -999.0,9,-999.0000,9,  -999.00,   -999.0,9,  -999.00,9, -999.000,9, -999.000,-999.0000,9,-999.0000,  -999.00,9,  -999.00, -999.000,9, -999.000,   -999.0,9,   -999.0,  -999.00,9,-999.0000,9,-999.0000,9,-999.0000,9,-999.0000,9,-999.0000,9,-999.0000,9,-999.0000,9,-999.0000,9,-999.0000,9,   5.3116,   5.3975,2
  33RR20070322,  I09N,   124,  1,     19,     19,2,20070406,2000, -8.7302,  95.0068, 5380,1076.7000,   1076.7,   4.9941,  34.6942,2,  34.6916,2,     82.8,2,     83.1,2,    98.02,2,    36.46,2,     0.00,2,     2.67,2, -999.000,9, -999.000,9, -999.000,9,   2304.8,2,   2372.0,2,   7.5020,3,    25.00,   -999.0,9,  -999.00,9, -999.000,9, -999.000,-999.0000,9,-999.0000,  -999.00,9,  -999.00, -999.000,9, -999.000,   -999.0,9,   -999.0,  -999.00,9,-999.0000,9,-999.0000,9,-999.0000,9,-999.0000,9,-999.0000,9,-999.0000,9,-999.0000,9,-999.0000,9,-999.0000,9,   4.9035,   4.9949,2
  33RR20070322,  I09N,   124,  1,     18,     18,2,20070406,2000, -8.7302,  95.0068, 5380,1178.3000,   1178.3,   4.7558,  34.7082,2,  34.7077,2,     85.7,2,     85.6,2,   101.14,2,    36.56,2,     0.00,2,     2.67,2, -999.000,9, -999.000,9, -999.000,9,   -999.0,9,   -999.0,9,-999.0000,9,  -999.00,   -999.0,9,  -999.00,9, -999.000,9, -999.000,-999.0000,9,-999.0000,  -999.00,9,  -999.00, -999.000,9, -999.000,   -999.0,9,   -999.0,  -999.00,9,-999.0000,9,-999.0000,9,-999.0000,9,-999.0000,9,-999.0000,9,-999.0000,9,-999.0000,9,-999.0000,9,-999.0000,9,   4.6579,   4.7552,2
  33RR20070322,  I09N,   124,  1,     17,     17,2,20070406,2000, -8.7302,  95.0068, 5380,1278.4000,   1278.4,   4.4035,  34.7161,2,  34.7166,2,     90.0,2,     91.1,2,   104.28,2,    36.56,2,     0.00,2,     2.67,2, -999.000,9, -999.000,9, -999.000,9,   -999.0,9,   -999.0,9,-999.0000,9,  -999.00,   -999.0,9,  -999.00,9, -999.000,9, -999.000,-999.0000,9,-999.0000,  -999.00,9,  -999.00, -999.000,9, -999.000,   -999.0,9,   -999.0,  -999.00,9,-999.0000,9,-999.0000,9,-999.0000,9,-999.0000,9,-999.0000,9,-999.0000,9,-999.0000,9,-999.0000,9,-999.0000,9,   4.2997,   4.4027,2
  33RR20070322,  I09N,   124,  1,     16,     16,2,20070406,2000, -8.7302,  95.0068, 5380,1379.4000,   1379.4,   4.1110,  34.7316,2,  34.7319,2,     95.5,2,     96.6,2,   106.05,2,    36.45,2,     0.00,2,     2.66,2, -999.000,9, -999.000,9, -999.000,9,   2310.0,2,   2381.1,2,-999.0000,9,  -999.00,   -999.0,9,  -999.00,9, -999.000,9, -999.000,-999.0000,9,-999.0000,  -999.00,9,  -999.00, -999.000,9, -999.000,   -999.0,9,   -999.0,  -999.00,9,-999.0000,9,-999.0000,9,-999.0000,9,-999.0000,9,-999.0000,9,-999.0000,9,-999.0000,9,-999.0000,9,-999.0000,9,   4.0010,   4.1132,2
  33RR20070322,  I09N,   124,  1,     15,     15,2,20070406,2000, -8.7302,  95.0068, 5380,1479.4000,   1479.4,   3.8812,  34.7424,2,  34.7433,2,    101.4,2,    101.7,2,   107.24,2,    36.29,2,     0.00,2,     2.64,2, -999.000,9, -999.000,9, -999.000,9,   -999.0,9,   -999.0,9,-999.0000,9,  -999.00,   -999.0,9,  -999.00,9, -999.000,9, -999.000,-999.0000,9,-999.0000,  -999.00,9,  -999.00, -999.000,9, -999.000,   -999.0,9,   -999.0,  -999.00,9,-999.0000,9,-999.0000,9,-999.0000,9,-999.0000,9,-999.0000,9,-999.0000,9,-999.0000,9,-999.0000,9,-999.0000,9,   3.7647,   3.8836,2
  33RR20070322,  I09N,   124,  1,     14,     14,2,20070406,2000, -8.7302,  95.0068, 5380,1579.9000,   1579.9,   3.5873,  34.7543,2,  34.7554,2,    108.3,2,    108.7,2,   109.40,2,    36.08,2,     0.00,2,     2.61,2, -999.000,9, -999.000,9, -999.000,9,   -999.0,9,   -999.0,9,-999.0000,9,  -999.00,   -999.0,9,  -999.00,9, -999.000,9, -999.000,-999.0000,9,-999.0000,  -999.00,9,  -999.00, -999.000,9, -999.000,   -999.0,9,   -999.0,  -999.00,9,-999.0000,9,-999.0000,9,-999.0000,9,-999.0000,9,-999.0000,9,-999.0000,9,-999.0000,9,-999.0000,9,-999.0000,9,   3.4652,   3.5871,2
  33RR20070322,  I09N,   124,  1,     13,     13,2,20070406,2000, -8.7302,  95.0068, 5380,1781.7000,   1781.7,   3.0237,  34.7521,2,  34.7528,2,    122.5,2,    123.8,2,   114.31,2,    35.45,2,     0.00,2,     2.56,2, -999.000,9, -999.000,9, -999.000,9,   -999.0,9,   -999.0,9,-999.0000,9,  -999.00,   -999.0,9,  -999.00,9, -999.000,9, -999.000,-999.0000,9,-999.0000,  -999.00,9,  -999.00, -999.000,9, -999.000,   -999.0,9,   -999.0,  -999.00,9,-999.0000,9,-999.0000,9,-999.0000,9,-999.0000,9,-999.0000,9,-999.0000,9,-999.0000,9,-999.0000,9,-999.0000,9,   2.8909,   3.0255,2
  33RR20070322,  I09N,   124,  1,     12,     12,2,20070406,2000, -8.7302,  95.0068, 5380,1983.4000,   1983.4,   2.6401,  34.7471,2,  34.7481,2,    134.4,2,    134.6,2,   117.46,2,    35.03,2,     0.00,2,     2.50,2, -999.000,9, -999.000,9, -999.000,9,   -999.0,9,   -999.0,9,-999.0000,9,  -999.00,   -999.0,9,  -999.00,9, -999.000,9, -999.000,-999.0000,9,-999.0000,  -999.00,9,  -999.00, -999.000,9, -999.000,   -999.0,9,   -999.0,  -999.00,9,-999.0000,9,-999.0000,9,-999.0000,9,-999.0000,9,-999.0000,9,-999.0000,9,-999.0000,9,-999.0000,9,-999.0000,9,   2.4950,   2.6402,2
  33RR20070322,  I09N,   124,  1,     11,     11,2,20070406,2000, -8.7302,  95.0068, 5380,2184.2000,   2184.2,   2.3373,  34.7456,2,  34.7465,2,    143.3,2,    143.6,2,   120.62,2,    34.67,2,     0.00,2,     2.46,2, -999.000,9, -999.000,9, -999.000,9,   -999.0,9,   -999.0,9,-999.0000,9,  -999.00,   -999.0,9,  -999.00,9, -999.000,9, -999.000,-999.0000,9,-999.0000,  -999.00,9,  -999.00, -999.000,9, -999.000,   -999.0,9,   -999.0,  -999.00,9,-999.0000,9,-999.0000,9,-999.0000,9,-999.0000,9,-999.0000,9,-999.0000,9,-999.0000,9,-999.0000,9,-999.0000,9,   2.1792,   2.3391,2
  33RR20070322,  I09N,   124,  1,     10,     10,2,20070406,2000, -8.7302,  95.0068, 5380,2438.2000,   2438.2,   2.0709,  34.7399,2,  34.7408,2,    152.9,2,    153.1,2,   122.60,2,    34.25,2,     0.00,2,     2.42,2, -999.000,9, -999.000,9, -999.000,9,   -999.0,9,   -999.0,9,-999.0000,9,  -999.00,   -999.0,9,  -999.00,9, -999.000,9, -999.000,-999.0000,9,-999.0000,  -999.00,9,  -999.00, -999.000,9, -999.000,   -999.0,9,   -999.0,  -999.00,9,-999.0000,9,-999.0000,9,-999.0000,9,-999.0000,9,-999.0000,9,-999.0000,9,-999.0000,9,-999.0000,9,-999.0000,9,   1.8945,   2.0694,2
  33RR20070322,  I09N,   124,  1,      9,      9,2,20070406,2000, -8.7302,  95.0068, 5380,2691.1000,   2691.1,   1.8841,  34.7355,2,  34.7349,2,    159.8,2,    159.3,2,   124.40,2,    34.10,2,     0.00,2,     2.40,2, -999.000,9, -999.000,9, -999.000,9,   2302.7,2,   2402.1,6,   7.5855,2,    25.00,   -999.0,9,  -999.00,9, -999.000,9, -999.000,-999.0000,9,-999.0000,  -999.00,9,  -999.00, -999.000,9, -999.000,   -999.0,9,   -999.0,  -999.00,9,-999.0000,9,-999.0000,9,-999.0000,9,-999.0000,9,-999.0000,9,-999.0000,9,-999.0000,9,-999.0000,9,-999.0000,9,   1.6880,   1.8839,2
  33RR20070322,  I09N,   124,  1,      8,      8,2,20070406,2000, -8.7302,  95.0068, 5380,2943.7000,   2943.7,   1.7333,  34.7308,2,  34.7311,2,    164.9,2,    164.8,2,   126.58,2,    33.93,2,     0.00,2,     2.38,2, -999.000,9, -999.000,9, -999.000,9,   -999.0,9,   -999.0,9,-999.0000,9,  -999.00,   -999.0,9,  -999.00,9, -999.000,9, -999.000,-999.0000,9,-999.0000,  -999.00,9,  -999.00, -999.000,9, -999.000,   -999.0,9,   -999.0,  -999.00,9,-999.0000,9,-999.0000,9,-999.0000,9,-999.0000,9,-999.0000,9,-999.0000,9,-999.0000,9,-999.0000,9,-999.0000,9,   1.5165,   1.7327,2
  33RR20070322,  I09N,   124,  1,      7,      7,2,20070406,2000, -8.7302,  95.0068, 5380,3278.1000,   3278.1,   1.5431,  34.7251,2,  34.7260,2,    171.2,2,    171.0,2,   129.56,2,    33.62,2,     0.00,2,     2.35,2, -999.000,9, -999.000,9, -999.000,9,   -999.0,9,   -999.0,9,-999.0000,9,  -999.00,   -999.0,9,  -999.00,9, -999.000,9, -999.000,-999.0000,9,-999.0000,  -999.00,9,  -999.00, -999.000,9, -999.000,   -999.0,9,   -999.0,  -999.00,9,-999.0000,9,-999.0000,9,-999.0000,9,-999.0000,9,-999.0000,9,-999.0000,9,-999.0000,9,-999.0000,9,-999.0000,9,   1.2980,   1.5432,2
  33RR20070322,  I09N,   124,  1,      6,      6,2,20070406,2000, -8.7302,  95.0068, 5380,3685.2000,   3685.2,   1.2952,  34.7186,2,  34.7188,2,    183.0,2,    183.1,2,   128.79,2,    33.05,2,     0.00,2,     2.30,2, -999.000,9, -999.000,9, -999.000,9,   -999.0,9,   -999.0,9,-999.0000,9,  -999.00,   -999.0,9,  -999.00,9, -999.000,9, -999.000,-999.0000,9,-999.0000,  -999.00,9,  -999.00, -999.000,9, -999.000,   -999.0,9,   -999.0,  -999.00,9,-999.0000,9,-999.0000,9,-999.0000,9,-999.0000,9,-999.0000,9,-999.0000,9,-999.0000,9,-999.0000,9,-999.0000,9,   1.0150,   1.2954,2
  33RR20070322,  I09N,   124,  1,      5,      5,2,20070406,2000, -8.7302,  95.0068, 5380,4091.2000,   4091.2,   1.1799,  34.7156,2,  34.7154,2,    191.6,2,    191.5,2,   127.05,2,    32.64,2,     0.00,2,     2.26,2, -999.000,9, -999.000,9, -999.000,9,   -999.0,9,   -999.0,9,-999.0000,9,  -999.00,   -999.0,9,  -999.00,9, -999.000,9, -999.000,-999.0000,9,-999.0000,  -999.00,9,  -999.00, -999.000,9, -999.000,   -999.0,9,   -999.0,  -999.00,9,-999.0000,9,-999.0000,9,-999.0000,9,-999.0000,9,-999.0000,9,-999.0000,9,-999.0000,9,-999.0000,9,-999.0000,9,   0.8600,   1.1801,2