BOTTLE,20150630SIOCCHRJL
EXPOCODE,SECT_ID,STNNBR,CASTNO,SAMPNO,BTLNBR,BTLNBR_FLAG_W,DATE,TIME,LATITUDE,LONGITUDE,DEPTH,CTDRAW,CTDPRS,CTDTMP,CTDSAL,CTDSAL_FLAG_W,SALNTY,SALNTY_FLAG_W,CTDOXY,CTDOXY_FLAG_W,OXYGEN,OXYGEN_FLAG_W,SILCAT,SILCAT_FLAG_W,NITRAT,NITRAT_FLAG_W,NITRIT,NITRIT_FLAG_W,PHSPHT,PHSPHT_FLAG_W,CFC-11,CFC-11_FLAG_W,CFC-12,CFC-12_FLAG_W,CFC113,CFC113_FLAG_W,TCARBN,TCARBN_FLAG_W,ALKALI,ALKALI_FLAG_W,PH_SWS,PH_SWS_FLAG_W,PH_TMP,DOC,DOC_FLAG_W,TDN,TDN_FLAG_W,TRITUM,TRITUM_FLAG_W,TRITER,HELIUM,HELIUM_FLAG_W,HELIER,DELHE3,DELHE3_FLAG_W,DELHER,NEON,NEON_FLAG_W,NEONER,DELC14,DELC14_FLAG_W,C14ERR,DELC13,DELC13_FLAG_W,CDOM325,CDOM325_FLAG_W,CDOM340,CDOM340_FLAG_W,CDOM380,CDOM380_FLAG_W,CDOM412,CDOM412_FLAG_W,CDOM443,CDOM443_FLAG_W,CDOM490,CDOM490_FLAG_W,CDOM555,CDOM555_FLAG_W,CDOMSL,CDOMSL_FLAG_W,CDOMSN,CDOMSN_FLAG_W,THETA,SBE35,SBE35_FLAG_W
,,,,,,,,,,,METERS,,DBAR,ITS-90,PSS-78,,PSS-78,,UMOL/KG,,UMOL/KG,,UMOL/KG,,UMOL/KG,,UMOL/KG,,UMOL/KG,,PMOL/KG,,PMOL/KG,,PMOL/KG,,UMOL/KG,,UMOL/KG,,,,DEG C,UMOL/KG,,UMOL/KG,,TU,,TU,NMOL/KG,,NMOL/KG,PERCNT,,PERCNT,NMOL/KG,,NMOL/KG,/MILLE,,/MILLE,/MILLE,,1/M,,1/M,,1/M,,1/M,,1/M,,1/M,,1/M,,1/NM,,1/NM,,DEG C,ITS-90,
  33RR20070322,  I09N,   195,  3,      4,      4,2,20070426,0542, 15.9990,  89.8495, 2547,2413.6000,   2413.6,   2.2028,  34.7546,2,  34.7553,2,    127.5,2,    126.6,2,   135.51,2,    35.36,2,     0.00,2,     2.55,2, -999.000,9, -999.000,9, -999.000,9,   2333.7,2,   2416.0,2,   7.5514,2,    25.00,     40.1,2,    37.31,2, -999.000,9, -999.000,-999.0000,9,-999.0000,  -999.00,9,  -999.00, -999.000,9, -999.000,   -999.0,9,   -999.0,  -999.00,9,-999.0000,9,-999.0000,9,-999.0000,9,-999.0000,9,-999.0000,9,-999.0000,9,-999.0000,9,-999.0000,9,-999.0000,9,   2.0262,   2.2024,2
  33RR20070322,  I09N,   195,  3,      3,      3,2,20070426,0542, 15.9990,  89.8495, 2547,2463.0000,   2463.0,   2.1257,  34.7514,2,  34.7545,3,    129.8,2,    129.6,2,   136.30,2,    35.21,2,     0.00,2,     2.54,2,    0.003,2,    0.004,2, -999.000,5,   2332.8,2,   2416.2,2,   7.5490,2,    25.00,     40.0,2,    36.23,2,    0.075,2,    0.005,   1.9170,2,   0.0012,    13.61,2,     0.22,    8.140,2,    0.012,   -999.0,9,   -999.0,  -999.00,9,-999.0000,9,-999.0000,9,-999.0000,9,-999.0000,9,-999.0000,9,-999.0000,9,-999.0000,9,-999.0000,9,-999.0000,9,   1.9460,   2.1274,2
  33RR20070322,  I09N,   195,  3,      2,      2,2,20070426,0542, 15.9990,  89.8495, 2547,2514.8000,   2514.8,   2.0024,  34.7463,2,  34.7484,2,    132.3,2,    132.5,2,   137.50,2,    35.12,2,     0.00,2,     2.52,2, -999.000,9, -999.000,9, -999.000,9,   2333.9,2,   2419.8,2,   7.5474,2,    25.00,     40.9,2,    36.89,2, -999.000,9, -999.000,-999.0000,9,-999.0000,  -999.00,9,  -999.00, -999.000,9, -999.000,   -999.0,9,   -999.0,  -999.00,9,-999.0000,9,-999.0000,9,-999.0000,9,-999.0000,9,-999.0000,9,-999.0000,9,-999.0000,9,-999.0000,9,-999.0000,9,   1.8203,   2.0063,2
  33RR20070322,  I09N,   195,  3,      1,      1,2,20070426,0542, 15.9990,  89.8495, 2547,2558.7000,   2558.7,   1.9341,  34.7435,2,  34.7437,2,    133.5,2,    133.7,2,   139.49,2,    35.25,2,     0.00,2,     2.51,2,    0.008,2,    0.005,2, -999.000,5,   2336.5,6,   2422.4,2,   7.5677,6,    25.00,     41.0,2,    36.49,2,    0.041,2,    0.004,-999.0000,9,-999.0000,  -999.00,9,  -999.00, -999.000,9, -999.000,   -999.0,9,   -999.0,  -999.00,9,-999.0000,9,-999.0000,9,-999.0000,9,-999.0000,9,-999.0000,9,-999.0000,9,-999.0000,9,-999.0000,9,-999.0000,9,   1.7493,   1.9329,2