BOTTLE,20150630SIOCCHRJL
EXPOCODE,SECT_ID,STNNBR,CASTNO,SAMPNO,BTLNBR,BTLNBR_FLAG_W,DATE,TIME,LATITUDE,LONGITUDE,DEPTH,CTDRAW,CTDPRS,CTDTMP,CTDSAL,CTDSAL_FLAG_W,SALNTY,SALNTY_FLAG_W,CTDOXY,CTDOXY_FLAG_W,OXYGEN,OXYGEN_FLAG_W,SILCAT,SILCAT_FLAG_W,NITRAT,NITRAT_FLAG_W,NITRIT,NITRIT_FLAG_W,PHSPHT,PHSPHT_FLAG_W,CFC-11,CFC-11_FLAG_W,CFC-12,CFC-12_FLAG_W,CFC113,CFC113_FLAG_W,TCARBN,TCARBN_FLAG_W,ALKALI,ALKALI_FLAG_W,PH_SWS,PH_SWS_FLAG_W,PH_TMP,DOC,DOC_FLAG_W,TDN,TDN_FLAG_W,TRITUM,TRITUM_FLAG_W,TRITER,HELIUM,HELIUM_FLAG_W,HELIER,DELHE3,DELHE3_FLAG_W,DELHER,NEON,NEON_FLAG_W,NEONER,DELC14,DELC14_FLAG_W,C14ERR,DELC13,DELC13_FLAG_W,CDOM325,CDOM325_FLAG_W,CDOM340,CDOM340_FLAG_W,CDOM380,CDOM380_FLAG_W,CDOM412,CDOM412_FLAG_W,CDOM443,CDOM443_FLAG_W,CDOM490,CDOM490_FLAG_W,CDOM555,CDOM555_FLAG_W,CDOMSL,CDOMSL_FLAG_W,CDOMSN,CDOMSN_FLAG_W,THETA,SBE35,SBE35_FLAG_W
,,,,,,,,,,,METERS,,DBAR,ITS-90,PSS-78,,PSS-78,,UMOL/KG,,UMOL/KG,,UMOL/KG,,UMOL/KG,,UMOL/KG,,UMOL/KG,,PMOL/KG,,PMOL/KG,,PMOL/KG,,UMOL/KG,,UMOL/KG,,,,DEG C,UMOL/KG,,UMOL/KG,,TU,,TU,NMOL/KG,,NMOL/KG,PERCNT,,PERCNT,NMOL/KG,,NMOL/KG,/MILLE,,/MILLE,/MILLE,,1/M,,1/M,,1/M,,1/M,,1/M,,1/M,,1/M,,1/NM,,1/NM,,DEG C,ITS-90,
  33RR20070322,  I09N,   198,  1,     36,     38,2,20070426,2052, 17.5015,  89.8488, 2278,   2.6000,      2.6,  29.3806,  32.3660,2,  32.3657,2,    200.3,2,    199.4,2,     2.02,2,     0.00,2,     0.00,2,     0.02,2,    1.561,2,    1.015,2, -999.000,5,   1881.4,6,   2188.6,2,   8.1010,6,    25.00,   -999.0,9,  -999.00,9, -999.000,9, -999.000,-999.0000,9,-999.0000,  -999.00,9,  -999.00, -999.000,9, -999.000,   -999.0,9,   -999.0,  -999.00,9,-999.0000,9,-999.0000,9,-999.0000,9,-999.0000,9,-999.0000,9,-999.0000,9,-999.0000,9,-999.0000,9,-999.0000,9,  29.3800,  29.3775,2
  33RR20070322,  I09N,   198,  1,     35,     35,2,20070426,2052, 17.5015,  89.8488, 2278,  28.8000,     28.8,  27.6635,  32.6645,2,  32.9315,2,    208.8,2,    210.7,2,     1.83,2,     0.00,2,     0.00,2,     0.03,2,    1.660,2,    1.071,2, -999.000,5,   1893.3,2,   2202.6,2,   8.0803,2,    25.00,   -999.0,9,  -999.00,9, -999.000,9, -999.000,-999.0000,9,-999.0000,  -999.00,9,  -999.00, -999.000,9, -999.000,   -999.0,9,   -999.0,  -999.00,9,-999.0000,9,-999.0000,9,-999.0000,9,-999.0000,9,-999.0000,9,-999.0000,9,-999.0000,9,-999.0000,9,-999.0000,9,  27.6568,  27.6672,2
  33RR20070322,  I09N,   198,  1,     34,   9419,2,20070426,2052, 17.5015,  89.8488, 2278,  43.7000,     43.7,  27.1190,  33.8983,2,  33.8880,2,    192.2,2,    180.7,2,     2.01,2,    -0.01,2,     0.01,2,     0.16,2,    1.540,2,    1.005,2, -999.000,5,   1953.8,2,   2240.8,2,   8.0430,2,    25.00,   -999.0,9,  -999.00,9, -999.000,9, -999.000,-999.0000,9,-999.0000,  -999.00,9,  -999.00, -999.000,9, -999.000,   -999.0,9,   -999.0,  -999.00,9,-999.0000,9,-999.0000,9,-999.0000,9,-999.0000,9,-999.0000,9,-999.0000,9,-999.0000,9,-999.0000,9,-999.0000,9,  27.1090,  27.1162,2
  33RR20070322,  I09N,   198,  1,     33,     33,2,20070426,2052, 17.5015,  89.8488, 2278,  54.2000,     54.2,  25.6382,  34.4026,2,  34.3825,2,    111.4,2,     99.7,2,     5.67,2,     8.11,2,     1.16,2,     0.80,2,    1.394,2,    0.906,2, -999.000,5,   -999.0,9,   -999.0,9,-999.0000,9,  -999.00,   -999.0,9,  -999.00,9, -999.000,9, -999.000,-999.0000,9,-999.0000,  -999.00,9,  -999.00, -999.000,9, -999.000,   -999.0,9,   -999.0,  -999.00,9,-999.0000,9,-999.0000,9,-999.0000,9,-999.0000,9,-999.0000,9,-999.0000,9,-999.0000,9,-999.0000,9,-999.0000,9,  25.6263,  25.6782,2
  33RR20070322,  I09N,   198,  1,     32,     37,2,20070426,2052, 17.5015,  89.8488, 2278,  69.1000,     69.1,  22.4424,  34.8189,2,  34.8212,2,     20.7,2,     11.1,2,    15.12,2,    22.77,2,     0.10,2,     1.74,2,    1.199,2,    0.766,2, -999.000,5,   2153.9,2,   2275.7,2,   7.6819,2,    25.00,   -999.0,9,  -999.00,9, -999.000,9, -999.000,-999.0000,9,-999.0000,  -999.00,9,  -999.00, -999.000,9, -999.000,   -999.0,9,   -999.0,  -999.00,9,-999.0000,9,-999.0000,9,-999.0000,9,-999.0000,9,-999.0000,9,-999.0000,9,-999.0000,9,-999.0000,9,-999.0000,9,  22.4286,  22.4233,2
  33RR20070322,  I09N,   198,  1,     31,     31,2,20070426,2052, 17.5015,  89.8488, 2278,  78.8000,     78.8,  20.8467,  34.8399,2,  34.8395,2,      8.3,2,      2.9,2,    19.17,2,    24.39,2,     0.02,2,     1.90,2,    1.069,2,    0.683,2, -999.000,5,   -999.0,9,   -999.0,9,-999.0000,9,  -999.00,   -999.0,9,  -999.00,9, -999.000,9, -999.000,-999.0000,9,-999.0000,  -999.00,9,  -999.00, -999.000,9, -999.000,   -999.0,9,   -999.0,  -999.00,9,-999.0000,9,-999.0000,9,-999.0000,9,-999.0000,9,-999.0000,9,-999.0000,9,-999.0000,9,-999.0000,9,-999.0000,9,  20.8317,  20.8473,2
  33RR20070322,  I09N,   198,  1,     30,     30,2,20070426,2052, 17.5015,  89.8488, 2278,  89.1000,     89.1,  19.3081,  34.8547,2,  34.8592,2,      4.4,2,      2.9,2,    22.64,2,    25.85,2,     0.01,2,     2.02,2,    0.964,2,    0.610,2, -999.000,5,   2190.0,2,   2287.2,2,   7.5948,2,    25.00,   -999.0,9,  -999.00,9, -999.000,9, -999.000,-999.0000,9,-999.0000,  -999.00,9,  -999.00, -999.000,9, -999.000,   -999.0,9,   -999.0,  -999.00,9,-999.0000,9,-999.0000,9,-999.0000,9,-999.0000,9,-999.0000,9,-999.0000,9,-999.0000,9,-999.0000,9,-999.0000,9,  19.2921,  19.3504,2
  33RR20070322,  I09N,   198,  1,     29,     29,2,20070426,2052, 17.5015,  89.8488, 2278, 103.9000,    103.9,  17.6748,  34.8891,2,  34.8871,2,      3.5,2,      1.8,2,    25.72,2,    26.78,2,     0.01,2,     2.12,2, -999.000,9, -999.000,9, -999.000,9,   -999.0,9,   -999.0,9,-999.0000,9,  -999.00,   -999.0,9,  -999.00,9, -999.000,9, -999.000,-999.0000,9,-999.0000,  -999.00,9,  -999.00, -999.000,9, -999.000,   -999.0,9,   -999.0,  -999.00,9,-999.0000,9,-999.0000,9,-999.0000,9,-999.0000,9,-999.0000,9,-999.0000,9,-999.0000,9,-999.0000,9,-999.0000,9,  17.6572,  17.6677,2
  33RR20070322,  I09N,   198,  1,     28,     28,2,20070426,2052, 17.5015,  89.8488, 2278, 153.8000,    153.8,  14.5705,  34.9642,2,  34.9626,2,      2.9,2,      3.0,2,    30.93,2,    30.20,2,     0.00,2,     2.29,2, -999.000,9, -999.000,9, -999.000,9,   -999.0,9,   -999.0,9,-999.0000,9,  -999.00,   -999.0,9,  -999.00,9, -999.000,9, -999.000,-999.0000,9,-999.0000,  -999.00,9,  -999.00, -999.000,9, -999.000,   -999.0,9,   -999.0,  -999.00,9,-999.0000,9,-999.0000,9,-999.0000,9,-999.0000,9,-999.0000,9,-999.0000,9,-999.0000,9,-999.0000,9,-999.0000,9,  14.5477,  14.5713,2
  33RR20070322,  I09N,   198,  1,     27,     27,2,20070426,2052, 17.5015,  89.8488, 2278, 203.1000,    203.1,  12.6961,  35.0062,2,  35.0044,2,      2.5,2,      1.9,2,    35.37,2,    32.28,2,     0.00,2,     2.40,2,    0.414,2,    0.241,2, -999.000,5,   2258.2,2,   2310.1,2,   7.4580,2,    25.00,   -999.0,9,  -999.00,9, -999.000,9, -999.000,-999.0000,9,-999.0000,  -999.00,9,  -999.00, -999.000,9, -999.000,   -999.0,9,   -999.0,  -999.00,9,-999.0000,9,-999.0000,9,-999.0000,9,-999.0000,9,-999.0000,9,-999.0000,9,-999.0000,9,-999.0000,9,-999.0000,9,  12.6686,  11.7823,2
  33RR20070322,  I09N,   198,  1,     26,     26,2,20070426,2052, 17.5015,  89.8488, 2278, 254.2000,    254.2,  11.7879,  35.0219,2,  35.0211,2,      2.3,2,      2.6,2,    38.08,2,    33.41,2,     0.00,2,     2.45,2, -999.000,9, -999.000,9, -999.000,9,   -999.0,9,   -999.0,9,-999.0000,9,  -999.00,   -999.0,9,  -999.00,9, -999.000,9, -999.000,-999.0000,9,-999.0000,  -999.00,9,  -999.00, -999.000,9, -999.000,   -999.0,9,   -999.0,  -999.00,9,-999.0000,9,-999.0000,9,-999.0000,9,-999.0000,9,-999.0000,9,-999.0000,9,-999.0000,9,-999.0000,9,-999.0000,9,  11.7550,  11.7823,2
  33RR20070322,  I09N,   198,  1,     25,     25,2,20070426,2052, 17.5015,  89.8488, 2278, 303.8000,    303.8,  11.1875,  35.0283,2,  35.0259,2,      3.2,2,      4.4,2,    40.78,2,    34.16,2,     0.00,2,     2.49,2,    0.267,2,    0.158,2, -999.000,5,   -999.0,9,   -999.0,9,-999.0000,9,  -999.00,   -999.0,9,  -999.00,9, -999.000,9, -999.000,-999.0000,9,-999.0000,  -999.00,9,  -999.00, -999.000,9, -999.000,   -999.0,9,   -999.0,  -999.00,9,-999.0000,9,-999.0000,9,-999.0000,9,-999.0000,9,-999.0000,9,-999.0000,9,-999.0000,9,-999.0000,9,-999.0000,9,  11.1494,  11.2126,2
  33RR20070322,  I09N,   198,  1,     24,     24,2,20070426,2052, 17.5015,  89.8488, 2278, 353.7000,    353.7,  10.7827,  35.0298,2,  35.0280,2,      3.7,2,      4.3,2,    43.29,2,    34.87,2,     0.00,2,     2.54,2, -999.000,9, -999.000,9, -999.000,9,   -999.0,9,   -999.0,9,-999.0000,9,  -999.00,   -999.0,9,  -999.00,9, -999.000,9, -999.000,-999.0000,9,-999.0000,  -999.00,9,  -999.00, -999.000,9, -999.000,   -999.0,9,   -999.0,  -999.00,9,-999.0000,9,-999.0000,9,-999.0000,9,-999.0000,9,-999.0000,9,-999.0000,9,-999.0000,9,-999.0000,9,-999.0000,9,  10.7393,  10.7832,2
  33RR20070322,  I09N,   198,  1,     23,     23,2,20070426,2052, 17.5015,  89.8488, 2278, 403.3000,    403.3,  10.3959,  35.0279,2,  35.0269,2,      3.6,2,      3.6,2,    45.99,2,    35.40,2,     0.00,2,     2.59,2,    0.167,2,    0.100,2, -999.000,5,   2281.6,2,   2325.7,2,   7.4374,2,    25.00,   -999.0,9,  -999.00,9, -999.000,9, -999.000,-999.0000,9,-999.0000,  -999.00,9,  -999.00, -999.000,9, -999.000,   -999.0,9,   -999.0,  -999.00,9,-999.0000,9,-999.0000,9,-999.0000,9,-999.0000,9,-999.0000,9,-999.0000,9,-999.0000,9,-999.0000,9,-999.0000,9,  10.3474,  10.3998,2
  33RR20070322,  I09N,   198,  1,     22,     22,2,20070426,2052, 17.5015,  89.8488, 2278, 453.8000,    453.8,  10.0616,  35.0242,2,  35.0233,2,      3.1,2,      4.6,2,    49.08,2,    35.92,2,     0.00,2,     2.63,2, -999.000,9, -999.000,9, -999.000,9,   -999.0,9,   -999.0,9,-999.0000,9,  -999.00,   -999.0,9,  -999.00,9, -999.000,9, -999.000,-999.0000,9,-999.0000,  -999.00,9,  -999.00, -999.000,9, -999.000,   -999.0,9,   -999.0,  -999.00,9,-999.0000,9,-999.0000,9,-999.0000,9,-999.0000,9,-999.0000,9,-999.0000,9,-999.0000,9,-999.0000,9,-999.0000,9,  10.0080,  10.0614,2
  33RR20070322,  I09N,   198,  1,     21,     21,2,20070426,2052, 17.5015,  89.8488, 2278, 503.6000,    503.6,   9.6888,  35.0189,2,  35.0182,2,      4.3,2,      4.7,2,    52.37,2,    36.45,2,     0.00,2,     2.66,2,    0.098,2,    0.058,2, -999.000,5,   -999.0,9,   -999.0,9,-999.0000,9,  -999.00,   -999.0,9,  -999.00,9, -999.000,9, -999.000,-999.0000,9,-999.0000,  -999.00,9,  -999.00, -999.000,9, -999.000,   -999.0,9,   -999.0,  -999.00,9,-999.0000,9,-999.0000,9,-999.0000,9,-999.0000,9,-999.0000,9,-999.0000,9,-999.0000,9,-999.0000,9,-999.0000,9,   9.6306,   9.6863,2
  33RR20070322,  I09N,   198,  1,     20,     20,2,20070426,2052, 17.5015,  89.8488, 2278, 604.2000,    604.2,   8.9452,  35.0037,2,  35.0025,2,     11.4,2,     10.7,2,    59.92,2,    36.92,2,     0.00,2,     2.71,2, -999.000,9, -999.000,9, -999.000,9,   -999.0,9,   -999.0,9,-999.0000,9,  -999.00,   -999.0,9,  -999.00,9, -999.000,9, -999.000,-999.0000,9,-999.0000,  -999.00,9,  -999.00, -999.000,9, -999.000,   -999.0,9,   -999.0,  -999.00,9,-999.0000,9,-999.0000,9,-999.0000,9,-999.0000,9,-999.0000,9,-999.0000,9,-999.0000,9,-999.0000,9,-999.0000,9,   8.8782,   8.9457,2
  33RR20070322,  I09N,   198,  1,     19,     19,2,20070426,2052, 17.5015,  89.8488, 2278, 703.5000,    703.5,   8.3279,  34.9860,2,  34.9856,2,     16.9,2,     15.8,2,    66.51,2,    37.21,2,     0.00,2,     2.75,2,    0.041,2,    0.023,2, -999.000,5,   2302.7,2,   2344.1,6,   7.4215,2,    25.00,   -999.0,9,  -999.00,9, -999.000,9, -999.000,-999.0000,9,-999.0000,  -999.00,9,  -999.00, -999.000,9, -999.000,   -999.0,9,   -999.0,  -999.00,9,-999.0000,9,-999.0000,9,-999.0000,9,-999.0000,9,-999.0000,9,-999.0000,9,-999.0000,9,-999.0000,9,-999.0000,9,   8.2527,   8.3266,2
  33RR20070322,  I09N,   198,  1,     18,     18,2,20070426,2052, 17.5015,  89.8488, 2278, 804.1000,    804.1,   7.6993,  34.9672,2,  34.9665,2,     23.1,2,     22.5,2,    73.12,2,    37.44,2,     0.00,2,     2.78,2, -999.000,9, -999.000,9, -999.000,9,   -999.0,9,   -999.0,9,-999.0000,9,  -999.00,   -999.0,9,  -999.00,9, -999.000,9, -999.000,-999.0000,9,-999.0000,  -999.00,9,  -999.00, -999.000,9, -999.000,   -999.0,9,   -999.0,  -999.00,9,-999.0000,9,-999.0000,9,-999.0000,9,-999.0000,9,-999.0000,9,-999.0000,9,-999.0000,9,-999.0000,9,-999.0000,9,   7.6166,   7.7016,2
  33RR20070322,  I09N,   198,  1,     17,     17,2,20070426,2052, 17.5015,  89.8488, 2278, 904.5000,    904.5,   7.1036,  34.9473,2,  34.9466,2,     31.2,2,     34.5,2,    79.73,2,    37.49,2,     0.00,2,     2.79,2, -999.000,9, -999.000,9, -999.000,9,   -999.0,9,   -999.0,9,-999.0000,9,  -999.00,   -999.0,9,  -999.00,9, -999.000,9, -999.000,-999.0000,9,-999.0000,  -999.00,9,  -999.00, -999.000,9, -999.000,   -999.0,9,   -999.0,  -999.00,9,-999.0000,9,-999.0000,9,-999.0000,9,-999.0000,9,-999.0000,9,-999.0000,9,-999.0000,9,-999.0000,9,-999.0000,9,   7.0139,   7.1072,2
  33RR20070322,  I09N,   198,  1,     16,     16,2,20070426,2052, 17.5015,  89.8488, 2278,1004.5000,   1004.5,   6.5061,  34.9263,2,  34.9261,2,     40.0,2,     39.8,2,    86.16,2,    37.49,2,     0.00,2,     2.79,2, -999.000,9, -999.000,9, -999.000,9,   -999.0,9,   -999.0,9,-999.0000,9,  -999.00,   -999.0,9,  -999.00,9, -999.000,9, -999.000,-999.0000,9,-999.0000,  -999.00,9,  -999.00, -999.000,9, -999.000,   -999.0,9,   -999.0,  -999.00,9,-999.0000,9,-999.0000,9,-999.0000,9,-999.0000,9,-999.0000,9,-999.0000,9,-999.0000,9,-999.0000,9,-999.0000,9,   6.4103,   6.5000,2
  33RR20070322,  I09N,   198,  1,     15,     15,2,20070426,2052, 17.5015,  89.8488, 2278,1105.0000,   1105.0,   6.0715,  34.9100,2,  34.9098,2,     46.6,2,     46.2,2,    91.23,2,    37.40,2,     0.00,2,     2.78,2, -999.000,9, -999.000,9, -999.000,9,   -999.0,9,   -999.0,9,-999.0000,9,  -999.00,   -999.0,9,  -999.00,9, -999.000,9, -999.000,-999.0000,9,-999.0000,  -999.00,9,  -999.00, -999.000,9, -999.000,   -999.0,9,   -999.0,  -999.00,9,-999.0000,9,-999.0000,9,-999.0000,9,-999.0000,9,-999.0000,9,-999.0000,9,-999.0000,9,-999.0000,9,-999.0000,9,   5.9690,   6.0714,2
  33RR20070322,  I09N,   198,  1,     14,     14,2,20070426,2052, 17.5015,  89.8488, 2278,1205.3000,   1205.3,   5.6661,  34.8947,2,  34.8949,2,     53.1,2,     53.4,2,    95.53,2,    37.30,2,     0.00,2,     2.76,2, -999.000,9, -999.000,9, -999.000,9,   -999.0,9,   -999.0,9,-999.0000,9,  -999.00,   -999.0,9,  -999.00,9, -999.000,9, -999.000,-999.0000,9,-999.0000,  -999.00,9,  -999.00, -999.000,9, -999.000,   -999.0,9,   -999.0,  -999.00,9,-999.0000,9,-999.0000,9,-999.0000,9,-999.0000,9,-999.0000,9,-999.0000,9,-999.0000,9,-999.0000,9,-999.0000,9,   5.5571,   5.6641,2
  33RR20070322,  I09N,   198,  1,     13,     13,2,20070426,2052, 17.5015,  89.8488, 2278,1305.6000,   1305.6,   5.2644,  34.8795,2,  34.8783,2,     59.9,2,     61.1,2,    99.83,2,    37.16,2,     0.00,2,     2.76,2, -999.000,9, -999.000,9, -999.000,9,   -999.0,9,   -999.0,9,-999.0000,9,  -999.00,   -999.0,9,  -999.00,9, -999.000,9, -999.000,-999.0000,9,-999.0000,  -999.00,9,  -999.00, -999.000,9, -999.000,   -999.0,9,   -999.0,  -999.00,9,-999.0000,9,-999.0000,9,-999.0000,9,-999.0000,9,-999.0000,9,-999.0000,9,-999.0000,9,-999.0000,9,-999.0000,9,   5.1494,   5.2670,2
  33RR20070322,  I09N,   198,  1,     12,     12,2,20070426,2052, 17.5015,  89.8488, 2278,1406.4000,   1406.4,   4.8464,  34.8636,2,  34.8646,2,     66.8,2,     67.9,2,   104.93,2,    37.06,2,     0.00,2,     2.74,2, -999.000,9, -999.000,9, -999.000,9,   -999.0,9,   -999.0,9,-999.0000,9,  -999.00,   -999.0,9,  -999.00,9, -999.000,9, -999.000,-999.0000,9,-999.0000,  -999.00,9,  -999.00, -999.000,9, -999.000,   -999.0,9,   -999.0,  -999.00,9,-999.0000,9,-999.0000,9,-999.0000,9,-999.0000,9,-999.0000,9,-999.0000,9,-999.0000,9,-999.0000,9,-999.0000,9,   4.7259,   4.8419,2
  33RR20070322,  I09N,   198,  1,     11,     11,2,20070426,2052, 17.5015,  89.8488, 2278,1507.1000,   1507.1,   4.4672,  34.8490,2,  34.8485,2,     74.5,2,     75.1,2,   109.05,2,    36.87,2,     0.00,2,     2.72,2,    0.009,2,    0.007,2, -999.000,5,   2328.8,2,   2389.4,2,   7.4916,2,    25.00,   -999.0,9,  -999.00,9, -999.000,9, -999.000,-999.0000,9,-999.0000,  -999.00,9,  -999.00, -999.000,9, -999.000,   -999.0,9,   -999.0,  -999.00,9,-999.0000,9,-999.0000,9,-999.0000,9,-999.0000,9,-999.0000,9,-999.0000,9,-999.0000,9,-999.0000,9,-999.0000,9,   4.3413,   4.4679,2
  33RR20070322,  I09N,   198,  1,     10,     10,2,20070426,2052, 17.5015,  89.8488, 2278,1607.4000,   1607.4,   4.0519,  34.8328,2,  34.8324,2,     82.2,2,     82.6,2,   113.96,2,    36.54,2,     0.00,2,     2.70,2, -999.000,9, -999.000,9, -999.000,9,   -999.0,9,   -999.0,9,-999.0000,9,  -999.00,   -999.0,9,  -999.00,9, -999.000,9, -999.000,-999.0000,9,-999.0000,  -999.00,9,  -999.00, -999.000,9, -999.000,   -999.0,9,   -999.0,  -999.00,9,-999.0000,9,-999.0000,9,-999.0000,9,-999.0000,9,-999.0000,9,-999.0000,9,-999.0000,9,-999.0000,9,-999.0000,9,   3.9215,   4.0511,2
  33RR20070322,  I09N,   198,  1,      9,      9,2,20070426,2052, 17.5015,  89.8488, 2278,1708.1000,   1708.1,   3.6395,  34.8159,2,  34.8165,2,     91.0,2,     91.4,2,   119.08,2,    36.49,2,     0.00,2,     2.67,2, -999.000,9, -999.000,9, -999.000,9,   -999.0,9,   -999.0,9,-999.0000,9,  -999.00,   -999.0,9,  -999.00,9, -999.000,9, -999.000,-999.0000,9,-999.0000,  -999.00,9,  -999.00, -999.000,9, -999.000,   -999.0,9,   -999.0,  -999.00,9,-999.0000,9,-999.0000,9,-999.0000,9,-999.0000,9,-999.0000,9,-999.0000,9,-999.0000,9,-999.0000,9,-999.0000,9,   3.5050,   3.6398,2
  33RR20070322,  I09N,   198,  1,      8,      8,2,20070426,2052, 17.5015,  89.8488, 2278,1808.9000,   1808.9,   3.2724,  34.8007,2,  34.8001,2,     99.1,2,     98.9,2,   123.22,2,    36.25,2,     0.00,2,     2.66,2, -999.000,9, -999.000,9, -999.000,9,   -999.0,9,   -999.0,9,-999.0000,9,  -999.00,   -999.0,9,  -999.00,9, -999.000,9, -999.000,-999.0000,9,-999.0000,  -999.00,9,  -999.00, -999.000,9, -999.000,   -999.0,9,   -999.0,  -999.00,9,-999.0000,9,-999.0000,9,-999.0000,9,-999.0000,9,-999.0000,9,-999.0000,9,-999.0000,9,-999.0000,9,-999.0000,9,   3.1337,   3.2728,2
  33RR20070322,  I09N,   198,  1,      7,      7,2,20070426,2052, 17.5015,  89.8488, 2278,1909.6000,   1909.6,   3.0142,  34.7897,2,  34.7899,2,    104.5,2,    104.0,2,   126.58,2,    36.05,2,     0.00,2,     2.64,2, -999.000,9, -999.000,9, -999.000,9,   -999.0,9,   -999.0,9,-999.0000,9,  -999.00,   -999.0,9,  -999.00,9, -999.000,9, -999.000,-999.0000,9,-999.0000,  -999.00,9,  -999.00, -999.000,9, -999.000,   -999.0,9,   -999.0,  -999.00,9,-999.0000,9,-999.0000,9,-999.0000,9,-999.0000,9,-999.0000,9,-999.0000,9,-999.0000,9,-999.0000,9,-999.0000,9,   2.8701,   3.0135,2
  33RR20070322,  I09N,   198,  1,      6,      6,2,20070426,2052, 17.5015,  89.8488, 2278,2010.5000,   2010.5,   2.7695,  34.7792,2,  34.7794,2,    110.6,2,    110.5,2,   129.14,2,    35.87,2,     0.00,2,     2.62,2, -999.000,9, -999.000,9, -999.000,9,   -999.0,9,   -999.0,9,-999.0000,9,  -999.00,   -999.0,9,  -999.00,9, -999.000,9, -999.000,-999.0000,9,-999.0000,  -999.00,9,  -999.00, -999.000,9, -999.000,   -999.0,9,   -999.0,  -999.00,9,-999.0000,9,-999.0000,9,-999.0000,9,-999.0000,9,-999.0000,9,-999.0000,9,-999.0000,9,-999.0000,9,-999.0000,9,   2.6200,   2.7691,2
  33RR20070322,  I09N,   198,  1,      5,      5,2,20070426,2052, 17.5015,  89.8488, 2278,2111.8000,   2111.8,   2.5817,  34.7711,2,  34.7715,2,    115.3,2,    114.9,2,   131.71,2,    35.72,2,     0.00,2,     2.59,2, -999.000,9, -999.000,9, -999.000,9,   -999.0,9,   -999.0,9,-999.0000,9,  -999.00,   -999.0,9,  -999.00,9, -999.000,9, -999.000,-999.0000,9,-999.0000,  -999.00,9,  -999.00, -999.000,9, -999.000,   -999.0,9,   -999.0,  -999.00,9,-999.0000,9,-999.0000,9,-999.0000,9,-999.0000,9,-999.0000,9,-999.0000,9,-999.0000,9,-999.0000,9,-999.0000,9,   2.4260,   2.5812,2