BOTTLE,20150630SIOCCHRJL
EXPOCODE,SECT_ID,STNNBR,CASTNO,SAMPNO,BTLNBR,BTLNBR_FLAG_W,DATE,TIME,LATITUDE,LONGITUDE,DEPTH,CTDRAW,CTDPRS,CTDTMP,CTDSAL,CTDSAL_FLAG_W,SALNTY,SALNTY_FLAG_W,CTDOXY,CTDOXY_FLAG_W,OXYGEN,OXYGEN_FLAG_W,SILCAT,SILCAT_FLAG_W,NITRAT,NITRAT_FLAG_W,NITRIT,NITRIT_FLAG_W,PHSPHT,PHSPHT_FLAG_W,CFC-11,CFC-11_FLAG_W,CFC-12,CFC-12_FLAG_W,CFC113,CFC113_FLAG_W,TCARBN,TCARBN_FLAG_W,ALKALI,ALKALI_FLAG_W,PH_SWS,PH_SWS_FLAG_W,PH_TMP,DOC,DOC_FLAG_W,TDN,TDN_FLAG_W,TRITUM,TRITUM_FLAG_W,TRITER,HELIUM,HELIUM_FLAG_W,HELIER,DELHE3,DELHE3_FLAG_W,DELHER,NEON,NEON_FLAG_W,NEONER,DELC14,DELC14_FLAG_W,C14ERR,DELC13,DELC13_FLAG_W,CDOM325,CDOM325_FLAG_W,CDOM340,CDOM340_FLAG_W,CDOM380,CDOM380_FLAG_W,CDOM412,CDOM412_FLAG_W,CDOM443,CDOM443_FLAG_W,CDOM490,CDOM490_FLAG_W,CDOM555,CDOM555_FLAG_W,CDOMSL,CDOMSL_FLAG_W,CDOMSN,CDOMSN_FLAG_W,THETA,SBE35,SBE35_FLAG_W
,,,,,,,,,,,METERS,,DBAR,ITS-90,PSS-78,,PSS-78,,UMOL/KG,,UMOL/KG,,UMOL/KG,,UMOL/KG,,UMOL/KG,,UMOL/KG,,PMOL/KG,,PMOL/KG,,PMOL/KG,,UMOL/KG,,UMOL/KG,,,,DEG C,UMOL/KG,,UMOL/KG,,TU,,TU,NMOL/KG,,NMOL/KG,PERCNT,,PERCNT,NMOL/KG,,NMOL/KG,/MILLE,,/MILLE,/MILLE,,1/M,,1/M,,1/M,,1/M,,1/M,,1/M,,1/M,,1/NM,,1/NM,,DEG C,ITS-90,
  33RR20070322,  I09N,   178,  1,      4,      4,2,20070421,2023,  7.7472,  85.7468, 3765,3578.9000,   3578.9,   1.4443,  34.7231,2,  34.7234,2,    156.9,2,    156.8,2,   143.42,2,    34.64,2,     0.00,2,     2.41,2, -999.000,9, -999.000,9, -999.000,9,   2330.3,2,   2432.1,2,   7.5844,2,    25.00,   -999.0,9,  -999.00,9, -999.000,9, -999.000,-999.0000,9,-999.0000,  -999.00,9,  -999.00, -999.000,9, -999.000,   -999.0,9,   -999.0,  -999.00,9,   0.1799,2,   0.1306,2,   0.0756,2,   0.0554,2,   0.0240,2,   0.0079,2,   0.0018,2,   0.0139,3,   0.0139,3,   1.1712,   1.4448,2
  33RR20070322,  I09N,   178,  1,      3,      3,2,20070421,2023,  7.7472,  85.7468, 3765,3660.1000,   3660.1,   1.4289,  34.7223,2,  34.7226,2,    155.6,2,    155.4,2,   146.05,2,    34.77,2,     0.00,2,     2.42,2,    0.016,2,    0.007,2, -999.000,5,   2334.8,2,   -999.0,5,   7.6014,2,    25.00,   -999.0,9,  -999.00,9, -999.000,9, -999.000,-999.0000,9,-999.0000,  -999.00,9,  -999.00, -999.000,9, -999.000,   -999.0,9,   -999.0,  -999.00,9,   0.1855,2,   0.1353,2,   0.0784,2,   0.0572,2,   0.0253,2,   0.0083,2,   0.0020,2,   0.0140,3,   0.0139,3,   1.1478,   1.4285,2
  33RR20070322,  I09N,   178,  1,      2,      2,2,20070421,2023,  7.7472,  85.7468, 3765,3752.8000,   3752.8,   1.4198,  34.7218,2,  34.7216,2,    154.3,2,    153.8,2,   148.49,2,    34.92,2,     0.00,2,     2.43,2, -999.000,9, -999.000,9, -999.000,9,   2339.5,2,   2439.3,2,   7.5994,2,    25.00,   -999.0,9,  -999.00,9, -999.000,9, -999.000,-999.0000,9,-999.0000,  -999.00,9,  -999.00, -999.000,9, -999.000,   -999.0,9,   -999.0,  -999.00,9,   0.1944,2,   0.1425,2,   0.0835,2,   0.0615,2,   0.0282,2,   0.0096,2,   0.0025,2,   0.0140,3,   0.0137,3,   1.1293,   1.4193,2
  33RR20070322,  I09N,   178,  1,      1,      1,2,20070421,2023,  7.7472,  85.7468, 3765,3812.9000,   3812.9,   1.4215,  34.7215,2,  34.7217,2,    154.4,2,    154.4,2,   148.05,2,    34.87,2,     0.00,2,     2.42,2,    0.018,2,    0.010,2, -999.000,5,   2340.1,6,   2432.9,2,   7.5910,3,    25.00,   -999.0,9,  -999.00,9, -999.000,9, -999.000,-999.0000,9,-999.0000,  -999.00,9,  -999.00, -999.000,9, -999.000,   -999.0,9,   -999.0,  -999.00,9,   0.1917,2,   0.1403,2,   0.0807,2,   0.0579,2,   0.0256,2,   0.0084,2,   0.0020,2,   0.0142,2,   0.0141,2,   1.1246,   1.4211,2