BOTTLE,20150630SIOCCHRJL
EXPOCODE,SECT_ID,STNNBR,CASTNO,SAMPNO,BTLNBR,BTLNBR_FLAG_W,DATE,TIME,LATITUDE,LONGITUDE,DEPTH,CTDRAW,CTDPRS,CTDTMP,CTDSAL,CTDSAL_FLAG_W,SALNTY,SALNTY_FLAG_W,CTDOXY,CTDOXY_FLAG_W,OXYGEN,OXYGEN_FLAG_W,SILCAT,SILCAT_FLAG_W,NITRAT,NITRAT_FLAG_W,NITRIT,NITRIT_FLAG_W,PHSPHT,PHSPHT_FLAG_W,CFC-11,CFC-11_FLAG_W,CFC-12,CFC-12_FLAG_W,CFC113,CFC113_FLAG_W,TCARBN,TCARBN_FLAG_W,ALKALI,ALKALI_FLAG_W,PH_SWS,PH_SWS_FLAG_W,PH_TMP,DOC,DOC_FLAG_W,TDN,TDN_FLAG_W,TRITUM,TRITUM_FLAG_W,TRITER,HELIUM,HELIUM_FLAG_W,HELIER,DELHE3,DELHE3_FLAG_W,DELHER,NEON,NEON_FLAG_W,NEONER,DELC14,DELC14_FLAG_W,C14ERR,DELC13,DELC13_FLAG_W,CDOM325,CDOM325_FLAG_W,CDOM340,CDOM340_FLAG_W,CDOM380,CDOM380_FLAG_W,CDOM412,CDOM412_FLAG_W,CDOM443,CDOM443_FLAG_W,CDOM490,CDOM490_FLAG_W,CDOM555,CDOM555_FLAG_W,CDOMSL,CDOMSL_FLAG_W,CDOMSN,CDOMSN_FLAG_W,THETA,SBE35,SBE35_FLAG_W
,,,,,,,,,,,METERS,,DBAR,ITS-90,PSS-78,,PSS-78,,UMOL/KG,,UMOL/KG,,UMOL/KG,,UMOL/KG,,UMOL/KG,,UMOL/KG,,PMOL/KG,,PMOL/KG,,PMOL/KG,,UMOL/KG,,UMOL/KG,,,,DEG C,UMOL/KG,,UMOL/KG,,TU,,TU,NMOL/KG,,NMOL/KG,PERCNT,,PERCNT,NMOL/KG,,NMOL/KG,/MILLE,,/MILLE,/MILLE,,1/M,,1/M,,1/M,,1/M,,1/M,,1/M,,1/M,,1/NM,,1/NM,,DEG C,ITS-90,
  33RR20070322,  I09N,   121,  1,      4,      4,2,20070405,2030,-10.3478,  95.0038, 5271,4091.6000,   4091.6,   1.2059,  34.7161,2,  34.7158,2,    190.1,2,    190.2,2,   127.68,2,    33.01,2,     0.00,2,     2.32,2, -999.000,9, -999.000,9, -999.000,9,   2286.2,2,   2395.3,2,   7.6078,2,    25.00,     40.9,2,    34.61,2, -999.000,9, -999.000,-999.0000,9,-999.0000,  -999.00,9,  -999.00, -999.000,9, -999.000,   -999.0,9,   -999.0,  -999.00,9,   0.1337,2,   0.0937,2,   0.0526,2,   0.0380,2,   0.0127,2,   0.0028,2,  -0.0008,4,   0.0138,2,   0.0148,3,   0.8852,   1.2059,2
  33RR20070322,  I09N,   121,  1,      3,      3,2,20070405,2030,-10.3478,  95.0038, 5271,4498.6000,   4498.6,   1.1599,  34.7149,2,  34.7150,2,    196.5,2,    196.4,2,   125.49,2,    32.70,2,     0.00,2,     2.28,2, -999.000,9, -999.000,9, -999.000,9,   2278.0,2,   2390.6,2,   7.6023,2,    25.00,     41.1,2,    33.79,2, -999.000,9, -999.000,-999.0000,9,-999.0000,  -999.00,9,  -999.00, -999.000,9, -999.000,   -999.0,9,   -999.0,  -999.00,9,   0.1261,2,   0.0876,2,   0.0484,2,   0.0344,2,   0.0103,2,   0.0015,3,  -0.0013,4,   0.0140,2,   0.0153,3,   0.7954,   1.1600,2
  33RR20070322,  I09N,   121,  1,      2,      2,2,20070405,2030,-10.3478,  95.0038, 5271,4905.9000,   4905.9,   1.1744,  34.7141,2,  34.7129,2,    198.9,2,    198.5,2,   124.67,2,    32.53,2,     0.00,2,     2.27,2,    0.004,2,    0.002,2, -999.000,5,   2276.8,2,   2387.4,2,   7.6266,2,    25.00,     41.2,2,    34.17,2, -999.000,9, -999.000,-999.0000,9,-999.0000,  -999.00,9,  -999.00, -999.000,9, -999.000,   -999.0,9,   -999.0,  -999.00,9,   0.1253,2,   0.0870,2,   0.0478,2,   0.0339,2,   0.0100,2,   0.0013,3,  -0.0014,4,   0.0141,2,   0.0154,3,   0.7622,   1.1744,2
  33RR20070322,  I09N,   121,  1,      1,      1,2,20070405,2030,-10.3478,  95.0038, 5271,5367.2000,   5367.2,   1.2237,  34.7139,2,  34.7148,3,    198.7,2,    199.4,2,   124.45,2,    32.47,2,     0.00,2,     2.26,2,    0.007,2,    0.003,2, -999.000,5,   2276.9,6,   2388.3,6,   7.6300,6,    25.00,     40.7,2,    34.05,2, -999.000,9, -999.000,-999.0000,9,-999.0000,  -999.00,9,  -999.00, -999.000,9, -999.000,   -999.0,9,   -999.0,  -999.00,9,   0.1253,2,   0.0867,2,   0.0471,2,   0.0332,2,   0.0094,2,   0.0010,3,  -0.0015,4,   0.0142,2,   0.0157,3,   0.7536,   1.2241,2