BOTTLE,20150630SIOCCHRJL
EXPOCODE,SECT_ID,STNNBR,CASTNO,SAMPNO,BTLNBR,BTLNBR_FLAG_W,DATE,TIME,LATITUDE,LONGITUDE,DEPTH,CTDRAW,CTDPRS,CTDTMP,CTDSAL,CTDSAL_FLAG_W,SALNTY,SALNTY_FLAG_W,CTDOXY,CTDOXY_FLAG_W,OXYGEN,OXYGEN_FLAG_W,SILCAT,SILCAT_FLAG_W,NITRAT,NITRAT_FLAG_W,NITRIT,NITRIT_FLAG_W,PHSPHT,PHSPHT_FLAG_W,CFC-11,CFC-11_FLAG_W,CFC-12,CFC-12_FLAG_W,CFC113,CFC113_FLAG_W,TCARBN,TCARBN_FLAG_W,ALKALI,ALKALI_FLAG_W,PH_SWS,PH_SWS_FLAG_W,PH_TMP,DOC,DOC_FLAG_W,TDN,TDN_FLAG_W,TRITUM,TRITUM_FLAG_W,TRITER,HELIUM,HELIUM_FLAG_W,HELIER,DELHE3,DELHE3_FLAG_W,DELHER,NEON,NEON_FLAG_W,NEONER,DELC14,DELC14_FLAG_W,C14ERR,DELC13,DELC13_FLAG_W,CDOM325,CDOM325_FLAG_W,CDOM340,CDOM340_FLAG_W,CDOM380,CDOM380_FLAG_W,CDOM412,CDOM412_FLAG_W,CDOM443,CDOM443_FLAG_W,CDOM490,CDOM490_FLAG_W,CDOM555,CDOM555_FLAG_W,CDOMSL,CDOMSL_FLAG_W,CDOMSN,CDOMSN_FLAG_W,THETA,SBE35,SBE35_FLAG_W
,,,,,,,,,,,METERS,,DBAR,ITS-90,PSS-78,,PSS-78,,UMOL/KG,,UMOL/KG,,UMOL/KG,,UMOL/KG,,UMOL/KG,,UMOL/KG,,PMOL/KG,,PMOL/KG,,PMOL/KG,,UMOL/KG,,UMOL/KG,,,,DEG C,UMOL/KG,,UMOL/KG,,TU,,TU,NMOL/KG,,NMOL/KG,PERCNT,,PERCNT,NMOL/KG,,NMOL/KG,/MILLE,,/MILLE,/MILLE,,1/M,,1/M,,1/M,,1/M,,1/M,,1/M,,1/M,,1/NM,,1/NM,,DEG C,ITS-90,
  33RR20070322,  I09N,   127,  2,     36,     38,2,20070407,1906, -7.1355,  95.0023, 5179,   2.5000,      2.5,  29.1632,  33.9677,2,  33.9695,2,    196.6,2,    196.7,2,     2.24,2,     0.01,2,     0.00,2,     0.11,2,    1.527,2,    1.005,2, -999.000,5,   1912.7,6,   2230.8,6,   8.0027,3,    25.00,     72.9,2,  -999.00,9, -999.000,9, -999.000,-999.0000,9,-999.0000,  -999.00,9,  -999.00, -999.000,9, -999.000,   -999.0,9,   -999.0,  -999.00,9,   0.0721,2,   0.0472,2,   0.0223,2,   0.0161,2,  -0.0013,4,  -0.0026,4,  -0.0032,4,   0.0098,3,   0.0195,3,  29.1626,  29.1633,2
  33RR20070322,  I09N,   127,  2,     35,     35,2,20070407,1906, -7.1355,  95.0023, 5179,  45.7000,     45.7,  23.4853,  34.5428,2,  34.5434,2,    166.1,2,    165.1,2,     8.31,2,     5.51,2,     0.08,2,     0.50,2,    1.633,2,    1.016,2, -999.000,5,   2015.1,2,   2277.8,2,   7.9620,2,    25.00,     61.2,2,  -999.00,9, -999.000,9, -999.000,-999.0000,9,-999.0000,  -999.00,9,  -999.00, -999.000,9, -999.000,     38.0,2,      3.2,     0.80,2,   0.2246,2,   0.1627,2,   0.0844,2,   0.0598,2,   0.0217,2,   0.0072,2,   0.0014,2,   0.0142,3,   0.0161,3,  23.4759,  23.3781,2
  33RR20070322,  I09N,   127,  2,     34,   9419,2,20070407,1906, -7.1355,  95.0023, 5179,  91.3000,     91.3,  17.9717,  34.8652,2,  34.8680,2,     65.1,2,     64.3,2,    19.31,2,    22.04,2,     0.03,2,     1.50,2,    1.489,2,    0.878,2, -999.000,5,   2148.3,2,   2291.9,2,   7.6992,2,    25.00,     53.9,2,  -999.00,9, -999.000,9, -999.000,-999.0000,9,-999.0000,  -999.00,9,  -999.00, -999.000,9, -999.000,   -999.0,9,   -999.0,  -999.00,9,   0.1768,2,   0.1289,2,   0.0715,2,   0.0552,2,   0.0196,2,   0.0055,2,   0.0006,3,   0.0132,3,   0.0145,3,  17.9561,  18.0454,2
  33RR20070322,  I09N,   127,  2,     33,     33,2,20070407,1906, -7.1355,  95.0023, 5179, 141.2000,    141.2,  14.3945,  34.9372,2,  34.9373,2,     56.3,2,     57.5,2,    24.44,2,    25.95,2,     0.01,2,     1.81,2,    1.249,2,    0.711,2, -999.000,5,   2189.9,2,   2300.1,2,   7.6174,2,    25.00,     50.9,2,  -999.00,9, -999.000,9, -999.000,-999.0000,9,-999.0000,  -999.00,9,  -999.00, -999.000,9, -999.000,      4.9,2,      3.4,     0.23,2,   0.1603,2,   0.1171,2,   0.0670,2,   0.0520,2,   0.0185,2,   0.0043,2,  -0.0004,4,   0.0128,3,   0.0140,3,  14.3738,  14.3939,2
  33RR20070322,  I09N,   127,  2,     32,     37,2,20070407,1906, -7.1355,  95.0023, 5179, 165.9000,    165.9,  12.9938,  34.9674,2,  34.9671,2,     57.4,2,     60.0,2,    25.96,2,    27.08,2,     0.00,2,     1.89,2,    1.112,2,    0.621,2, -999.000,5,   2204.5,2,   2307.2,2,   7.5945,2,    25.00,     50.5,2,  -999.00,9, -999.000,9, -999.000,-999.0000,9,-999.0000,  -999.00,9,  -999.00, -999.000,9, -999.000,   -999.0,9,   -999.0,  -999.00,9,   0.1595,2,   0.1172,2,   0.0683,2,   0.0531,2,   0.0198,2,   0.0046,2,  -0.0004,4,   0.0142,3,   0.0137,3,  12.9710,  12.9853,2
  33RR20070322,  I09N,   127,  2,     31,     31,2,20070407,1906, -7.1355,  95.0023, 5179, 191.2000,    191.2,  12.6395,  35.0022,2,  34.9988,2,     64.8,2,     67.2,2,    24.08,2,    26.57,2,     0.00,2,     1.84,2,    1.167,2,    0.641,2, -999.000,5,   2201.9,2,   2308.1,2,   7.6014,2,    25.00,     49.2,2,  -999.00,9, -999.000,9, -999.000,-999.0000,9,-999.0000,  -999.00,9,  -999.00, -999.000,9, -999.000,      2.2,2,      3.0,     0.20,2,   0.1596,2,   0.1176,2,   0.0696,2,   0.0546,2,   0.0209,2,   0.0053,2,   0.0000,4,   0.0140,3,   0.0133,3,  12.6137,  12.6352,2
  33RR20070322,  I09N,   127,  2,     30,     30,2,20070407,1906, -7.1355,  95.0023, 5179, 240.4000,    240.4,  11.9435,  35.0112,2,  35.0111,2,     79.6,2,     79.9,2,    22.56,2,    26.21,2,     0.00,2,     1.80,2,    1.196,2,    0.649,2, -999.000,5,   2204.4,2,   2309.8,2,   7.5980,2,    25.00,     48.8,2,  -999.00,9, -999.000,9, -999.000,-999.0000,9,-999.0000,  -999.00,9,  -999.00, -999.000,9, -999.000,      7.2,2,      4.0,     0.37,2,   0.1492,2,   0.1099,2,   0.0659,2,   0.0525,2,   0.0196,2,   0.0043,2,  -0.0007,4,   0.0138,3,   0.0131,3,  11.9122,  11.9450,2
  33RR20070322,  I09N,   127,  2,     29,     29,2,20070407,1906, -7.1355,  95.0023, 5179, 290.4000,    290.4,  11.5725,  34.9861,2,  34.9790,2,     77.0,2,     74.3,2,    24.65,2,    27.43,2,     0.00,2,     1.88,2,    1.003,2,    0.548,2, -999.000,5,   2211.7,2,   2310.2,2,   7.6009,2,    25.00,     47.9,2,  -999.00,9, -999.000,9, -999.000,-999.0000,9,-999.0000,  -999.00,9,  -999.00, -999.000,9, -999.000,     -7.3,2,      3.1,     0.33,2,   0.1503,2,   0.1104,2,   0.0658,2,   0.0516,2,   0.0192,2,   0.0042,2,  -0.0008,4,   0.0139,3,   0.0133,3,  11.5354,  11.5745,2
  33RR20070322,  I09N,   127,  2,     28,     28,2,20070407,1906, -7.1355,  95.0023, 5179, 340.1000,    340.1,  10.7445,  34.9146,2,  34.9124,2,     68.0,2,     62.4,2,    28.65,2,    30.11,2,     0.00,2,     2.03,2,    0.635,2,    0.346,2, -999.000,5,   2229.4,2,   2309.9,2,   7.5440,3,    25.00,     47.3,2,  -999.00,9, -999.000,9, -999.000,-999.0000,9,-999.0000,  -999.00,9,  -999.00, -999.000,9, -999.000,    -30.1,2,      3.0,     0.34,2,   0.1539,2,   0.1130,2,   0.0679,2,   0.0532,2,   0.0209,2,   0.0049,2,  -0.0006,4,   0.0138,3,   0.0131,3,  10.7030,  10.7294,2
  33RR20070322,  I09N,   127,  2,     27,     27,2,20070407,1906, -7.1355,  95.0023, 5179, 390.1000,    390.1,  10.1881,  34.8826,2,  34.8813,2,     64.2,2,     62.7,2,    32.46,2,    31.13,2,     0.00,2,     2.11,2,    0.563,2,    0.425,2, -999.000,5,   2231.5,2,   2311.7,2,   7.5373,2,    25.00,     46.2,2,  -999.00,9, -999.000,9, -999.000,-999.0000,9,-999.0000,  -999.00,9,  -999.00, -999.000,9, -999.000,    -48.4,2,      3.1,     0.35,2,   0.1542,2,   0.1130,2,   0.0671,2,   0.0519,2,   0.0199,2,   0.0046,2,  -0.0008,4,   0.0140,3,   0.0134,3,  10.1419,  10.1910,2
  33RR20070322,  I09N,   127,  2,     26,     26,2,20070407,1906, -7.1355,  95.0023, 5179, 441.5000,    441.5,   9.7257,  34.8661,2,  34.8657,2,     63.6,2,     63.6,2,    35.51,2,    31.97,2,     0.00,2,     2.19,2,    0.364,2,    0.201,2, -999.000,5,   2232.6,2,   2314.2,2,   7.5302,2,    25.00,     45.7,2,  -999.00,9, -999.000,9, -999.000,-999.0000,9,-999.0000,  -999.00,9,  -999.00, -999.000,9, -999.000,   -999.0,9,   -999.0,  -999.00,9,   0.1513,2,   0.1100,2,   0.0650,2,   0.0500,2,   0.0193,2,   0.0045,2,  -0.0009,4,   0.0138,3,   0.0135,3,   9.6748,   9.7333,2
  33RR20070322,  I09N,   127,  2,     25,     25,2,20070407,1906, -7.1355,  95.0023, 5179, 491.2000,    491.2,   9.1652,  34.8348,2,  34.8332,2,     66.2,2,     65.0,2,    40.85,2,    32.68,2,     0.00,2,     2.28,2,    0.254,2,    0.146,2, -999.000,5,   2241.2,2,   2318.4,2,   7.5269,2,    25.00,     45.2,2,  -999.00,9, -999.000,9, -999.000,-999.0000,9,-999.0000,  -999.00,9,  -999.00, -999.000,9, -999.000,    -88.0,2,      3.1,     0.39,2,   0.1525,2,   0.1108,2,   0.0654,2,   0.0499,2,   0.0193,2,   0.0045,2,  -0.0009,4,   0.0139,3,   0.0136,3,   9.1104,   9.1661,2
  33RR20070322,  I09N,   127,  2,     24,     24,2,20070407,1906, -7.1355,  95.0023, 5179, 575.5000,    575.5,   8.5203,  34.8343,2,  34.8338,2,     65.2,2,     58.9,2,    50.76,2,    34.03,2,     0.00,2,     2.43,2,    0.126,2,    0.075,2, -999.000,5,   2254.1,2,   2328.3,2,   7.5178,2,    25.00,     44.8,2,  -999.00,9, -999.000,9, -999.000,-999.0000,9,-999.0000,  -999.00,9,  -999.00, -999.000,9, -999.000,   -104.9,2,      2.7,     0.32,2,   0.1588,2,   0.1154,2,   0.0678,2,   0.0511,2,   0.0201,2,   0.0049,2,  -0.0008,4,   0.0140,3,   0.0137,3,   8.4586,   8.5237,2
  33RR20070322,  I09N,   127,  2,     23,     23,2,20070407,1906, -7.1355,  95.0023, 5179, 675.9000,    675.9,   7.8692,  34.8167,2,  34.8165,2,     57.7,2,     57.5,2,    61.26,2,    35.05,2,     0.00,2,     2.54,2,    0.089,2,    0.051,2, -999.000,5,   2273.9,6,   2339.1,6,   7.5064,2,    25.00,     43.9,2,  -999.00,9, -999.000,9, -999.000,-999.0000,9,-999.0000,  -999.00,9,  -999.00, -999.000,9, -999.000,   -125.6,2,      3.0,     0.22,2,   0.1648,2,   0.1204,2,   0.0702,2,   0.0522,2,   0.0209,2,   0.0054,2,  -0.0006,4,   0.0141,3,   0.0138,3,   7.7995,   7.8731,2
  33RR20070322,  I09N,   127,  2,     22,     22,2,20070407,1906, -7.1355,  95.0023, 5179, 776.6000,    776.6,   7.2299,  34.7938,2,  34.7939,2,     59.5,2,     59.4,2,    70.07,2,    35.73,2,     0.00,2,     2.62,2,    0.049,2,    0.029,2, -999.000,5,   2282.2,2,   2346.4,2,   7.5061,6,    25.00,     42.5,2,  -999.00,9, -999.000,9, -999.000,-999.0000,9,-999.0000,  -999.00,9,  -999.00, -999.000,9, -999.000,   -143.0,2,      2.5,     0.20,2,   0.1651,2,   0.1203,2,   0.0699,2,   0.0515,2,   0.0205,2,   0.0053,2,  -0.0006,4,   0.0142,3,   0.0140,3,   7.1530,   7.2334,2
  33RR20070322,  I09N,   127,  2,     21,     21,2,20070407,1906, -7.1355,  95.0023, 5179, 875.7000,    875.7,   6.4648,  34.7608,2,  34.7608,2,     65.5,2,     65.9,2,    81.02,2,    36.09,2,     0.00,2,     2.66,2,    0.045,2,    0.025,2, -999.000,5,   2293.0,2,   2356.4,2,   7.4898,2,    25.00,     41.8,2,  -999.00,9, -999.000,9, -999.000,-999.0000,9,-999.0000,  -999.00,9,  -999.00, -999.000,9, -999.000,   -153.4,2,      2.9,     0.12,2,   0.1646,2,   0.1191,2,   0.0689,2,   0.0500,2,   0.0193,2,   0.0046,2,  -0.0010,4,   0.0144,3,   0.0143,3,   6.3826,   6.4646,2
  33RR20070322,  I09N,   127,  2,     20,     20,2,20070407,1906, -7.1355,  95.0023, 5179, 977.2000,    977.2,   5.7967,  34.7195,2,  34.7189,2,     73.9,2,     73.5,2,    89.11,2,    36.30,2,     0.00,2,     2.67,2,    0.046,3,    0.025,3, -999.000,5,   2299.1,2,   2371.8,2,   7.5086,2,    25.00,     41.6,2,  -999.00,9, -999.000,9, -999.000,-999.0000,9,-999.0000,  -999.00,9,  -999.00, -999.000,9, -999.000,   -166.1,2,      2.3,     0.34,3,   0.1646,2,   0.1192,2,   0.0685,2,   0.0492,2,   0.0187,2,   0.0045,2,  -0.0011,4,   0.0145,2,   0.0144,2,   5.7092,   5.7960,2
  33RR20070322,  I09N,   127,  2,     19,     19,2,20070407,1906, -7.1355,  95.0023, 5179,1077.8000,   1077.8,   5.2667,  34.7144,2,  34.7136,2,     80.0,2,     79.3,2,    96.26,2,    36.35,2,     0.00,2,     2.69,2,    0.023,2,    0.011,2, -999.000,5,   2304.7,2,   2364.9,2,   7.4960,3,    25.00,     41.1,2,  -999.00,9, -999.000,9, -999.000,-999.0000,9,-999.0000,  -999.00,9,  -999.00, -999.000,9, -999.000,   -169.8,2,      2.6,     0.17,2,   0.1620,2,   0.1170,2,   0.0666,2,   0.0471,2,   0.0175,2,   0.0041,2,  -0.0012,4,   0.0145,2,   0.0147,2,   5.1738,   5.2671,2
  33RR20070322,  I09N,   127,  2,     18,     18,2,20070407,1906, -7.1355,  95.0023, 5179,1176.8000,   1176.8,   4.8750,  34.7150,2,  34.7136,2,     85.5,2,     83.8,2,   100.32,2,    36.45,2,     0.00,2,     2.69,2, -999.000,9, -999.000,9, -999.000,9,   2308.6,2,   2377.9,2,   7.5244,2,    25.00,     40.5,2,  -999.00,9, -999.000,9, -999.000,-999.0000,9,-999.0000,  -999.00,9,  -999.00, -999.000,9, -999.000,   -174.4,2,      2.6,     0.13,2,   0.1716,2,   0.1254,2,   0.0743,2,   0.0556,2,   0.0238,2,   0.0066,2,   0.0001,4,   0.0141,3,   0.0136,3,   4.7762,   4.8767,2
  33RR20070322,  I09N,   127,  2,     17,     17,2,20070407,1906, -7.1355,  95.0023, 5179,1277.8000,   1277.8,   4.6260,  34.7322,2,  34.7313,2,     87.8,2,     87.2,2,   102.66,2,    36.49,2,     0.00,2,     2.70,2, -999.000,9, -999.000,9, -999.000,9,   2310.8,2,   2380.2,2,   7.5272,2,    25.00,     40.7,2,  -999.00,9, -999.000,9, -999.000,-999.0000,9,-999.0000,  -999.00,9,  -999.00, -999.000,9, -999.000,   -173.3,2,      2.6,     0.14,2,   0.1728,2,   0.1263,2,   0.0749,2,   0.0564,2,   0.0245,2,   0.0070,2,   0.0005,3,   0.0140,3,   0.0135,3,   4.5201,   4.6271,2
  33RR20070322,  I09N,   127,  2,     16,     16,2,20070407,1906, -7.1355,  95.0023, 5179,1378.1000,   1378.1,   4.2227,  34.7288,2,  34.7278,2,     93.5,2,     94.0,2,   106.35,2,    36.34,2,     0.00,2,     2.68,2, -999.000,9, -999.000,9, -999.000,9,   2312.1,2,   2383.5,2,   7.5548,2,    25.00,     40.1,2,  -999.00,9, -999.000,9, -999.000,-999.0000,9,-999.0000,  -999.00,9,  -999.00, -999.000,9, -999.000,   -184.0,2,      2.5,     0.19,2,   0.1713,2,   0.1246,2,   0.0735,2,   0.0552,2,   0.0237,2,   0.0065,2,   0.0003,4,   0.0140,3,   0.0136,3,   4.1117,   4.2210,2
  33RR20070322,  I09N,   127,  2,     15,     15,2,20070407,1906, -7.1355,  95.0023, 5179,1478.4000,   1478.4,   3.9788,  34.7508,2,  34.7505,2,     98.5,2,     99.2,2,   107.73,2,    36.18,2,     0.00,2,     2.67,2, -999.000,9, -999.000,9, -999.000,9,   2311.7,2,   2386.4,2,   7.5411,2,    25.00,     40.4,2,  -999.00,9, -999.000,9, -999.000,-999.0000,9,-999.0000,  -999.00,9,  -999.00, -999.000,9, -999.000,   -187.3,2,      2.5,     0.27,2,   0.1686,2,   0.1223,2,   0.0719,2,   0.0534,2,   0.0225,2,   0.0061,2,   0.0001,4,   0.0140,3,   0.0138,3,   3.8613,   3.9792,2
  33RR20070322,  I09N,   127,  2,     14,     14,2,20070407,1906, -7.1355,  95.0023, 5179,1578.3000,   1578.3,   3.5276,  34.7447,2,  34.7454,2,    107.5,2,    109.9,2,   111.04,2,    35.86,2,     0.00,2,     2.63,2, -999.000,9, -999.000,9, -999.000,9,   2311.8,2,   2388.6,2,   7.5433,2,    25.00,     40.0,2,  -999.00,9, -999.000,9, -999.000,-999.0000,9,-999.0000,  -999.00,9,  -999.00, -999.000,9, -999.000,   -192.7,2,      2.3,     0.25,2,   0.1669,2,   0.1209,2,   0.0713,2,   0.0533,2,   0.0226,2,   0.0063,2,   0.0004,3,   0.0139,3,   0.0137,3,   3.4064,   3.5322,2
  33RR20070322,  I09N,   127,  2,     13,     13,2,20070407,1906, -7.1355,  95.0023, 5179,1781.4000,   1781.4,   3.0230,  34.7499,2,  34.7491,2,    122.7,2,    123.3,2,   115.33,2,    35.59,2,     0.00,2,     2.58,2, -999.000,9, -999.000,9, -999.000,9,   2311.4,2,   2392.9,2,   7.5527,2,    25.00,     40.3,2,  -999.00,9, -999.000,9, -999.000,-999.0000,9,-999.0000,  -999.00,9,  -999.00, -999.000,9, -999.000,   -190.1,2,      3.1,     0.29,2,   0.1629,2,   0.1178,2,   0.0688,2,   0.0510,2,   0.0211,2,   0.0057,2,   0.0001,4,   0.0140,3,   0.0138,3,   2.8903,   3.0236,2
  33RR20070322,  I09N,   127,  2,     12,     12,2,20070407,1906, -7.1355,  95.0023, 5179,1881.4000,   1881.4,   2.7498,  34.7472,2,  34.7462,2,    128.8,2,    130.6,2,   117.29,2,    35.28,2,     0.00,2,     2.54,2, -999.000,9, -999.000,9, -999.000,9,   2310.6,2,   2396.0,2,   7.5532,2,    25.00,     40.1,2,  -999.00,9, -999.000,9, -999.000,-999.0000,9,-999.0000,  -999.00,9,  -999.00, -999.000,9, -999.000,   -196.5,2,      2.4,     0.33,2,   0.1602,2,   0.1156,2,   0.0672,2,   0.0497,2,   0.0202,2,   0.0054,2,   0.0000,4,   0.0140,3,   0.0139,3,   2.6121,   2.7479,2
  33RR20070322,  I09N,   127,  2,     11,     11,2,20070407,1906, -7.1355,  95.0023, 5179,1983.2000,   1983.2,   2.5624,  34.7479,2,  34.7476,2,    135.3,2,    135.5,2,   119.64,2,    35.08,2,     0.00,2,     2.52,2, -999.000,9, -999.000,9, -999.000,9,   2311.1,2,   2397.7,2,   7.5741,2,    25.00,     40.4,2,  -999.00,9, -999.000,9, -999.000,-999.0000,9,-999.0000,  -999.00,9,  -999.00, -999.000,9, -999.000,   -198.3,2,      2.5,     0.34,2,   0.1612,2,   0.1164,2,   0.0679,2,   0.0504,2,   0.0209,2,   0.0060,2,   0.0004,3,   0.0138,3,   0.0138,3,   2.4185,   2.5626,2
  33RR20070322,  I09N,   127,  2,     10,     10,2,20070407,1906, -7.1355,  95.0023, 5179,2184.3000,   2184.3,   2.2774,  34.7445,2,  34.7438,2,    144.2,2,    143.9,2,   122.78,2,    34.75,2,     0.00,2,     2.48,2, -999.000,9, -999.000,9, -999.000,9,   2310.4,2,   2402.3,2,   7.5814,2,    25.00,     40.4,2,  -999.00,9, -999.000,9, -999.000,-999.0000,9,-999.0000,  -999.00,9,  -999.00, -999.000,9, -999.000,   -197.9,2,      2.5,     0.32,2,   0.1564,2,   0.1121,2,   0.0651,2,   0.0481,2,   0.0191,2,   0.0050,2,   0.0000,4,   0.0139,3,   0.0140,3,   2.1203,   2.2771,2
  33RR20070322,  I09N,   127,  2,      9,      9,2,20070407,1906, -7.1355,  95.0023, 5179,2438.4000,   2438.4,   2.0393,  34.7403,2,  34.7397,2,    151.7,2,    151.9,2,   125.34,2,    34.39,2,     0.00,2,     2.45,2, -999.000,5, -999.000,5, -999.000,5,   2308.5,2,   2404.9,2,   7.5894,2,    25.00,     40.2,2,  -999.00,9, -999.000,9, -999.000,-999.0000,9,-999.0000,  -999.00,9,  -999.00, -999.000,9, -999.000,   -192.6,2,      3.7,     0.34,2,   0.1539,2,   0.1103,2,   0.0635,2,   0.0468,2,   0.0185,2,   0.0049,2,   0.0001,4,   0.0138,3,   0.0141,3,   1.8635,   2.0390,2
  33RR20070322,  I09N,   127,  2,      8,      8,2,20070407,1906, -7.1355,  95.0023, 5179,2688.5000,   2688.5,   1.8440,  34.7356,2,  34.7342,2,    158.1,2,    158.0,2,   127.51,2,    34.18,2,     0.00,2,     2.42,2, -999.000,9, -999.000,9, -999.000,9,   2308.4,2,   1761.7,4,   7.5981,2,    25.00,     40.0,2,  -999.00,9, -999.000,9, -999.000,-999.0000,9,-999.0000,  -999.00,9,  -999.00, -999.000,9, -999.000,   -196.0,2,      2.7,     0.34,2,   0.1518,2,   0.1084,2,   0.0624,2,   0.0457,2,   0.0179,2,   0.0047,2,   0.0000,4,   0.0138,3,   0.0141,3,   1.6490,   1.8443,2
  33RR20070322,  I09N,   127,  2,      7,      7,2,20070407,1906, -7.1355,  95.0023, 5179,2942.1000,   2942.1,   1.7128,  34.7316,2,  34.7311,2,    163.1,2,    162.5,2,   129.68,2,    33.92,2,     0.00,2,     2.40,2, -999.000,9, -999.000,9, -999.000,9,   2307.0,2,   2409.1,2,   7.5871,2,    25.00,     40.3,2,  -999.00,9, -999.000,9, -999.000,-999.0000,9,-999.0000,  -999.00,9,  -999.00, -999.000,9, -999.000,   -197.8,2,      2.6,     0.37,2,   0.1504,2,   0.1073,2,   0.0615,2,   0.0451,2,   0.0175,2,   0.0047,2,   0.0001,4,   0.0138,2,   0.0142,3,   1.4966,   1.7133,2
  33RR20070322,  I09N,   127,  2,      6,      6,2,20070407,1906, -7.1355,  95.0023, 5179,3276.4000,   3276.4,   1.5207,  34.7261,2,  34.7250,2,    169.6,2,    169.5,2,   131.66,2,    33.66,2,     0.00,2,     2.37,2, -999.000,9, -999.000,9, -999.000,9,   2305.4,2,   2410.9,2,   7.6126,2,    25.00,     40.2,2,  -999.00,9, -999.000,9, -999.000,-999.0000,9,-999.0000,  -999.00,9,  -999.00, -999.000,9, -999.000,   -187.2,2,      2.4,     0.39,2,   0.1499,2,   0.1066,2,   0.0607,2,   0.0445,2,   0.0173,2,   0.0047,2,   0.0002,4,   0.0137,2,   0.0143,3,   1.2763,   1.5216,2
  33RR20070322,  I09N,   127,  2,      5,      5,2,20070407,1906, -7.1355,  95.0023, 5179,3684.0000,   3684.0,   1.2464,  34.7178,2,  34.7171,2,    184.8,2,    185.0,2,   129.14,2,    32.99,2,     0.00,2,     2.31,2, -999.000,9, -999.000,9, -999.000,9,   2293.7,2,   2402.6,2,   7.6236,2,    25.00,     40.6,2,  -999.00,9, -999.000,9, -999.000,-999.0000,9,-999.0000,  -999.00,9,  -999.00, -999.000,9, -999.000,   -179.0,2,      2.8,     0.48,2,   0.1359,2,   0.0950,2,   0.0529,2,   0.0377,2,   0.0128,2,   0.0027,3,  -0.0007,4,   0.0139,2,   0.0150,3,   0.9677,   1.2467,2