BOTTLE,20150630SIOCCHRJL
EXPOCODE,SECT_ID,STNNBR,CASTNO,SAMPNO,BTLNBR,BTLNBR_FLAG_W,DATE,TIME,LATITUDE,LONGITUDE,DEPTH,CTDRAW,CTDPRS,CTDTMP,CTDSAL,CTDSAL_FLAG_W,SALNTY,SALNTY_FLAG_W,CTDOXY,CTDOXY_FLAG_W,OXYGEN,OXYGEN_FLAG_W,SILCAT,SILCAT_FLAG_W,NITRAT,NITRAT_FLAG_W,NITRIT,NITRIT_FLAG_W,PHSPHT,PHSPHT_FLAG_W,CFC-11,CFC-11_FLAG_W,CFC-12,CFC-12_FLAG_W,CFC113,CFC113_FLAG_W,TCARBN,TCARBN_FLAG_W,ALKALI,ALKALI_FLAG_W,PH_SWS,PH_SWS_FLAG_W,PH_TMP,DOC,DOC_FLAG_W,TDN,TDN_FLAG_W,TRITUM,TRITUM_FLAG_W,TRITER,HELIUM,HELIUM_FLAG_W,HELIER,DELHE3,DELHE3_FLAG_W,DELHER,NEON,NEON_FLAG_W,NEONER,DELC14,DELC14_FLAG_W,C14ERR,DELC13,DELC13_FLAG_W,CDOM325,CDOM325_FLAG_W,CDOM340,CDOM340_FLAG_W,CDOM380,CDOM380_FLAG_W,CDOM412,CDOM412_FLAG_W,CDOM443,CDOM443_FLAG_W,CDOM490,CDOM490_FLAG_W,CDOM555,CDOM555_FLAG_W,CDOMSL,CDOMSL_FLAG_W,CDOMSN,CDOMSN_FLAG_W,THETA,SBE35,SBE35_FLAG_W
,,,,,,,,,,,METERS,,DBAR,ITS-90,PSS-78,,PSS-78,,UMOL/KG,,UMOL/KG,,UMOL/KG,,UMOL/KG,,UMOL/KG,,UMOL/KG,,PMOL/KG,,PMOL/KG,,PMOL/KG,,UMOL/KG,,UMOL/KG,,,,DEG C,UMOL/KG,,UMOL/KG,,TU,,TU,NMOL/KG,,NMOL/KG,PERCNT,,PERCNT,NMOL/KG,,NMOL/KG,/MILLE,,/MILLE,/MILLE,,1/M,,1/M,,1/M,,1/M,,1/M,,1/M,,1/M,,1/NM,,1/NM,,DEG C,ITS-90,
  33RR20070322,  I09N,   166,  1,     36,     38,2,20070418,1223,  7.6107,  88.4860, 3681,   2.3000,      2.3,  29.2356,  33.0851,2,  33.0857,2,    200.8,2,    201.1,2,     2.16,2,     0.14,2,     0.00,2,     0.00,2,    1.573,2,    1.021,2, -999.000,5,   1880.6,6,   2192.5,2,   8.0940,6,    25.00,   -999.0,9,  -999.00,9, -999.000,9, -999.000,-999.0000,9,-999.0000,  -999.00,9,  -999.00, -999.000,9, -999.000,   -999.0,9,   -999.0,  -999.00,9,-999.0000,9,-999.0000,9,-999.0000,9,-999.0000,9,-999.0000,9,-999.0000,9,-999.0000,9,-999.0000,9,-999.0000,9,  29.2350,  29.2181,2
  33RR20070322,  I09N,   166,  1,     35,     35,2,20070418,1223,  7.6107,  88.4860, 3681,  18.6000,     18.6,  28.3499,  33.2864,2,  33.2912,2,    205.9,2,    206.2,2,     1.84,2,     0.13,2,     0.00,2,     0.00,2, -999.000,9, -999.000,9, -999.000,9,   -999.0,9,   -999.0,9,-999.0000,9,  -999.00,   -999.0,9,  -999.00,9, -999.000,9, -999.000,-999.0000,9,-999.0000,  -999.00,9,  -999.00, -999.000,9, -999.000,   -999.0,9,   -999.0,  -999.00,9,-999.0000,9,-999.0000,9,-999.0000,9,-999.0000,9,-999.0000,9,-999.0000,9,-999.0000,9,-999.0000,9,-999.0000,9,  28.3455,  28.3652,2
  33RR20070322,  I09N,   166,  1,     34,   9419,2,20070418,1223,  7.6107,  88.4860, 3681,  43.5000,     43.5,  28.3767,  34.0707,2,  34.0634,2,    206.3,2,    200.0,2,     1.71,2,     0.12,2,     0.00,2,     0.06,2,    1.573,2,    1.028,2, -999.000,5,   -999.0,9,   -999.0,9,-999.0000,9,  -999.00,   -999.0,9,  -999.00,9, -999.000,9, -999.000,-999.0000,9,-999.0000,  -999.00,9,  -999.00, -999.000,9, -999.000,   -999.0,9,   -999.0,  -999.00,9,-999.0000,9,-999.0000,9,-999.0000,9,-999.0000,9,-999.0000,9,-999.0000,9,-999.0000,9,-999.0000,9,-999.0000,9,  28.3664,  28.3706,2
  33RR20070322,  I09N,   166,  1,     33,     33,2,20070418,1223,  7.6107,  88.4860, 3681,  88.3000,     88.3,  22.5999,  34.8498,2,  34.8313,2,     36.1,2,     42.5,2,    13.10,2,    20.43,2,     0.10,2,     1.45,2,    1.276,2,    0.814,2, -999.000,5,   -999.0,9,   -999.0,9,-999.0000,9,  -999.00,   -999.0,9,  -999.00,9, -999.000,9, -999.000,-999.0000,9,-999.0000,  -999.00,9,  -999.00, -999.000,9, -999.000,   -999.0,9,   -999.0,  -999.00,9,-999.0000,9,-999.0000,9,-999.0000,9,-999.0000,9,-999.0000,9,-999.0000,9,-999.0000,9,-999.0000,9,-999.0000,9,  22.5821,  22.6145,2
  33RR20070322,  I09N,   166,  1,     32,     37,2,20070418,1223,  7.6107,  88.4860, 3681, 138.0000,    138.0,  17.1473,  34.9195,2,  34.9208,2,     27.4,2,     28.6,2,    23.90,2,    26.98,2,     0.01,2,     1.90,2, -999.000,5, -999.000,5, -999.000,5,   2192.3,2,   2296.8,6,   7.6145,2,    25.00,   -999.0,9,  -999.00,9, -999.000,9, -999.000,-999.0000,9,-999.0000,  -999.00,9,  -999.00, -999.000,9, -999.000,   -999.0,9,   -999.0,  -999.00,9,-999.0000,9,-999.0000,9,-999.0000,9,-999.0000,9,-999.0000,9,-999.0000,9,-999.0000,9,-999.0000,9,-999.0000,9,  17.1244,  17.1768,2
  33RR20070322,  I09N,   166,  1,     31,     31,2,20070418,1223,  7.6107,  88.4860, 3681, 163.7000,    163.7,  15.0296,  34.9442,2,  34.9466,2,     25.4,2,     23.8,2,    28.16,2,    29.17,2,     0.00,2,     2.06,2, -999.000,9, -999.000,9, -999.000,9,   -999.0,9,   -999.0,9,-999.0000,9,  -999.00,   -999.0,9,  -999.00,9, -999.000,9, -999.000,-999.0000,9,-999.0000,  -999.00,9,  -999.00, -999.000,9, -999.000,   -999.0,9,   -999.0,  -999.00,9,-999.0000,9,-999.0000,9,-999.0000,9,-999.0000,9,-999.0000,9,-999.0000,9,-999.0000,9,-999.0000,9,-999.0000,9,  15.0048,  15.1728,3
  33RR20070322,  I09N,   166,  1,     30,     30,2,20070418,1223,  7.6107,  88.4860, 3681, 187.5000,    187.5,  13.4885,  34.9883,2,  34.9863,2,     15.5,2,     14.5,2,    31.82,2,    31.57,2,     0.00,2,     2.24,2,    0.617,2,    0.361,2, -999.000,5,   -999.0,9,   -999.0,9,-999.0000,9,  -999.00,   -999.0,9,  -999.00,9, -999.000,9, -999.000,-999.0000,9,-999.0000,  -999.00,9,  -999.00, -999.000,9, -999.000,   -999.0,9,   -999.0,  -999.00,9,-999.0000,9,-999.0000,9,-999.0000,9,-999.0000,9,-999.0000,9,-999.0000,9,-999.0000,9,-999.0000,9,-999.0000,9,  13.4621,  13.4877,2
  33RR20070322,  I09N,   166,  1,     29,     29,2,20070418,1223,  7.6107,  88.4860, 3681, 238.0000,    238.0,  12.2668,  35.0384,2,  35.0382,2,     17.5,2,     15.1,2,    33.49,2,    32.69,2,     0.00,2,     2.29,2,    0.566,2,    0.327,2, -999.000,5,   -999.0,9,   -999.0,9,-999.0000,9,  -999.00,   -999.0,9,  -999.00,9, -999.000,9, -999.000,-999.0000,9,-999.0000,  -999.00,9,  -999.00, -999.000,9, -999.000,   -999.0,9,   -999.0,  -999.00,9,-999.0000,9,-999.0000,9,-999.0000,9,-999.0000,9,-999.0000,9,-999.0000,9,-999.0000,9,-999.0000,9,-999.0000,9,  12.2352,  12.2705,2
  33RR20070322,  I09N,   166,  1,     28,     28,2,20070418,1223,  7.6107,  88.4860, 3681, 287.3000,    287.3,  11.5800,  35.0409,2,  35.0398,2,     19.6,2,     18.4,2,    36.36,2,    33.29,2,     0.00,2,     2.32,2,    0.497,2,    0.282,2, -999.000,5,   2257.3,2,   2315.1,6,   7.4834,2,    25.00,   -999.0,9,  -999.00,9, -999.000,9, -999.000,-999.0000,9,-999.0000,  -999.00,9,  -999.00, -999.000,9, -999.000,   -999.0,9,   -999.0,  -999.00,9,-999.0000,9,-999.0000,9,-999.0000,9,-999.0000,9,-999.0000,9,-999.0000,9,-999.0000,9,-999.0000,9,-999.0000,9,  11.5432,  11.5734,2
  33RR20070322,  I09N,   166,  1,     27,     27,2,20070418,1223,  7.6107,  88.4860, 3681, 337.9000,    337.9,  11.0617,  35.0324,2,  35.0325,2,     18.5,2,     17.6,2,    39.63,2,    34.13,2,     0.00,2,     2.39,2, -999.000,5, -999.000,5, -999.000,5,   -999.0,9,   -999.0,9,-999.0000,9,  -999.00,   -999.0,9,  -999.00,9, -999.000,9, -999.000,-999.0000,9,-999.0000,  -999.00,9,  -999.00, -999.000,9, -999.000,   -999.0,9,   -999.0,  -999.00,9,-999.0000,9,-999.0000,9,-999.0000,9,-999.0000,9,-999.0000,9,-999.0000,9,-999.0000,9,-999.0000,9,-999.0000,9,  11.0196,  11.0596,2
  33RR20070322,  I09N,   166,  1,     26,     26,2,20070418,1223,  7.6107,  88.4860, 3681, 387.8000,    387.8,  10.7137,  35.0506,2,  35.0506,2,     18.9,2,     18.4,2,    39.32,2,    34.52,2,     0.00,2,     2.41,2, -999.000,9, -999.000,9, -999.000,9,   -999.0,9,   -999.0,9,-999.0000,9,  -999.00,   -999.0,9,  -999.00,9, -999.000,9, -999.000,-999.0000,9,-999.0000,  -999.00,9,  -999.00, -999.000,9, -999.000,   -999.0,9,   -999.0,  -999.00,9,-999.0000,9,-999.0000,9,-999.0000,9,-999.0000,9,-999.0000,9,-999.0000,9,-999.0000,9,-999.0000,9,-999.0000,9,  10.6662,  10.7121,2
  33RR20070322,  I09N,   166,  1,     25,     25,2,20070418,1223,  7.6107,  88.4860, 3681, 438.1000,    438.1,  10.4006,  35.0436,2,  35.0437,2,     18.7,2,     18.8,2,    42.59,2,    34.92,2,     0.00,2,     2.46,2,    0.299,2,    0.169,2, -999.000,5,   -999.0,9,   -999.0,9,-999.0000,9,  -999.00,   -999.0,9,  -999.00,9, -999.000,9, -999.000,-999.0000,9,-999.0000,  -999.00,9,  -999.00, -999.000,9, -999.000,   -999.0,9,   -999.0,  -999.00,9,-999.0000,9,-999.0000,9,-999.0000,9,-999.0000,9,-999.0000,9,-999.0000,9,-999.0000,9,-999.0000,9,-999.0000,9,  10.3478,  10.3954,2
  33RR20070322,  I09N,   166,  1,     24,     24,2,20070418,1223,  7.6107,  88.4860, 3681, 487.7000,    487.7,  10.0999,  35.0440,2,  35.0453,2,     19.9,2,     18.5,2,    45.27,2,    35.37,2,     0.00,2,     2.52,2, -999.000,9, -999.000,9, -999.000,9,   -999.0,9,   -999.0,9,-999.0000,9,  -999.00,   -999.0,9,  -999.00,9, -999.000,9, -999.000,-999.0000,9,-999.0000,  -999.00,9,  -999.00, -999.000,9, -999.000,   -999.0,9,   -999.0,  -999.00,9,-999.0000,9,-999.0000,9,-999.0000,9,-999.0000,9,-999.0000,9,-999.0000,9,-999.0000,9,-999.0000,9,-999.0000,9,  10.0421,  10.1038,2
  33RR20070322,  I09N,   166,  1,     23,     23,2,20070418,1223,  7.6107,  88.4860, 3681, 572.3000,    572.3,   9.5406,  35.0299,2,  35.0301,2,     17.6,2,     18.0,2,    51.35,2,    36.16,2,     0.00,2,     2.60,2, -999.000,5, -999.000,5, -999.000,5,   2281.3,2,   2332.4,2,   7.4528,2,    25.00,   -999.0,9,  -999.00,9, -999.000,9, -999.000,-999.0000,9,-999.0000,  -999.00,9,  -999.00, -999.000,9, -999.000,   -999.0,9,   -999.0,  -999.00,9,-999.0000,9,-999.0000,9,-999.0000,9,-999.0000,9,-999.0000,9,-999.0000,9,-999.0000,9,-999.0000,9,-999.0000,9,   9.4748,   9.5408,2
  33RR20070322,  I09N,   166,  1,     22,     22,2,20070418,1223,  7.6107,  88.4860, 3681, 673.1000,    673.1,   8.9797,  35.0160,2,  35.0165,2,     21.3,2,     21.8,2,    56.84,2,    36.61,2,     0.00,2,     2.64,2, -999.000,9, -999.000,9, -999.000,9,   -999.0,9,   -999.0,9,-999.0000,9,  -999.00,   -999.0,9,  -999.00,9, -999.000,9, -999.000,-999.0000,9,-999.0000,  -999.00,9,  -999.00, -999.000,9, -999.000,   -999.0,9,   -999.0,  -999.00,9,-999.0000,9,-999.0000,9,-999.0000,9,-999.0000,9,-999.0000,9,-999.0000,9,-999.0000,9,-999.0000,9,-999.0000,9,   8.9046,   8.9817,2
  33RR20070322,  I09N,   166,  1,     21,     21,2,20070418,1223,  7.6107,  88.4860, 3681, 773.8000,    773.8,   8.2854,  34.9963,2,  34.9962,2,     26.5,2,     26.6,2,    64.94,2,    37.16,2,     0.00,2,     2.69,2,    0.054,2,    0.029,2, -999.000,5,   -999.0,9,   -999.0,9,-999.0000,9,  -999.00,   -999.0,9,  -999.00,9, -999.000,9, -999.000,-999.0000,9,-999.0000,  -999.00,9,  -999.00, -999.000,9, -999.000,   -999.0,9,   -999.0,  -999.00,9,-999.0000,9,-999.0000,9,-999.0000,9,-999.0000,9,-999.0000,9,-999.0000,9,-999.0000,9,-999.0000,9,-999.0000,9,   8.2026,   8.2840,2
  33RR20070322,  I09N,   166,  1,     20,     20,2,20070418,1223,  7.6107,  88.4860, 3681, 873.6000,    873.6,   7.6517,  34.9725,2,  34.9731,2,     35.1,2,     34.0,2,    72.66,2,    37.41,2,     0.00,2,     2.71,2, -999.000,9, -999.000,9, -999.000,9,   -999.0,9,   -999.0,9,-999.0000,9,  -999.00,   -999.0,9,  -999.00,9, -999.000,9, -999.000,-999.0000,9,-999.0000,  -999.00,9,  -999.00, -999.000,9, -999.000,   -999.0,9,   -999.0,  -999.00,9,-999.0000,9,-999.0000,9,-999.0000,9,-999.0000,9,-999.0000,9,-999.0000,9,-999.0000,9,-999.0000,9,-999.0000,9,   7.5617,   7.6522,2
  33RR20070322,  I09N,   166,  1,     19,     19,2,20070418,1223,  7.6107,  88.4860, 3681, 974.3000,    974.3,   7.1148,  34.9544,2,  34.9562,2,     42.4,2,     42.4,2,    77.58,2,    37.32,2,     0.00,2,     2.71,2,    0.030,2,    0.015,2, -999.000,5,   2304.0,2,   2356.8,2,   7.4672,2,    25.00,   -999.0,9,  -999.00,9, -999.000,9, -999.000,-999.0000,9,-999.0000,  -999.00,9,  -999.00, -999.000,9, -999.000,   -999.0,9,   -999.0,  -999.00,9,-999.0000,9,-999.0000,9,-999.0000,9,-999.0000,9,-999.0000,9,-999.0000,9,-999.0000,9,-999.0000,9,-999.0000,9,   7.0177,   7.1105,2
  33RR20070322,  I09N,   166,  1,     18,     18,2,20070418,1223,  7.6107,  88.4860, 3681,1074.8000,   1074.8,   6.5095,  34.9286,2,  34.9294,2,     50.2,2,     47.9,2,    84.92,2,    37.62,2,     0.00,2,     2.72,2, -999.000,9, -999.000,9, -999.000,9,   -999.0,9,   -999.0,9,-999.0000,9,  -999.00,   -999.0,9,  -999.00,9, -999.000,9, -999.000,-999.0000,9,-999.0000,  -999.00,9,  -999.00, -999.000,9, -999.000,   -999.0,9,   -999.0,  -999.00,9,-999.0000,9,-999.0000,9,-999.0000,9,-999.0000,9,-999.0000,9,-999.0000,9,-999.0000,9,-999.0000,9,-999.0000,9,   6.4065,   6.5010,2
  33RR20070322,  I09N,   166,  1,     17,     17,2,20070418,1223,  7.6107,  88.4860, 3681,1175.5000,   1175.5,   6.0326,  34.9087,2,  34.9100,2,     58.3,2,     56.3,2,    90.06,2,    37.38,2,     0.00,2,     2.71,2, -999.000,9, -999.000,9, -999.000,9,   -999.0,9,   -999.0,9,-999.0000,9,  -999.00,   -999.0,9,  -999.00,9, -999.000,9, -999.000,-999.0000,9,-999.0000,  -999.00,9,  -999.00, -999.000,9, -999.000,   -999.0,9,   -999.0,  -999.00,9,-999.0000,9,-999.0000,9,-999.0000,9,-999.0000,9,-999.0000,9,-999.0000,9,-999.0000,9,-999.0000,9,-999.0000,9,   5.9233,   6.0322,2
  33RR20070322,  I09N,   166,  1,     16,     16,2,20070418,1223,  7.6107,  88.4860, 3681,1275.0000,   1275.0,   5.5354,  34.8886,2,  34.8899,2,     66.8,2,     65.8,2,    95.62,2,    37.28,2,     0.00,2,     2.70,2, -999.000,9, -999.000,9, -999.000,9,   -999.0,9,   -999.0,9,-999.0000,9,  -999.00,   -999.0,9,  -999.00,9, -999.000,9, -999.000,-999.0000,9,-999.0000,  -999.00,9,  -999.00, -999.000,9, -999.000,   -999.0,9,   -999.0,  -999.00,9,-999.0000,9,-999.0000,9,-999.0000,9,-999.0000,9,-999.0000,9,-999.0000,9,-999.0000,9,-999.0000,9,-999.0000,9,   5.4208,   5.5443,2
  33RR20070322,  I09N,   166,  1,     15,     15,2,20070418,1223,  7.6107,  88.4860, 3681,1376.3000,   1376.3,   5.0766,  34.8710,2,  34.8725,2,     71.4,2,     73.1,2,   101.19,2,    37.23,2,     0.00,2,     2.68,2, -999.000,9, -999.000,9, -999.000,9,   -999.0,9,   -999.0,9,-999.0000,9,  -999.00,   -999.0,9,  -999.00,9, -999.000,9, -999.000,-999.0000,9,-999.0000,  -999.00,9,  -999.00, -999.000,9, -999.000,   -999.0,9,   -999.0,  -999.00,9,-999.0000,9,-999.0000,9,-999.0000,9,-999.0000,9,-999.0000,9,-999.0000,9,-999.0000,9,-999.0000,9,-999.0000,9,   4.9566,   5.0774,2
  33RR20070322,  I09N,   166,  1,     14,     14,2,20070418,1223,  7.6107,  88.4860, 3681,1476.3000,   1476.3,   4.5548,  34.8538,2,  34.8548,2,     79.7,2,     79.9,2,   107.58,2,    37.34,2,     0.00,2,     2.70,2,    0.010,2,    0.005,2, -999.000,5,   -999.0,9,   -999.0,9,-999.0000,9,  -999.00,   -999.0,9,  -999.00,9, -999.000,9, -999.000,-999.0000,9,-999.0000,  -999.00,9,  -999.00, -999.000,9, -999.000,   -999.0,9,   -999.0,  -999.00,9,-999.0000,9,-999.0000,9,-999.0000,9,-999.0000,9,-999.0000,9,-999.0000,9,-999.0000,9,-999.0000,9,-999.0000,9,   4.4309,   4.5540,2
  33RR20070322,  I09N,   166,  1,     13,     13,2,20070418,1223,  7.6107,  88.4860, 3681,1577.0000,   1577.0,   4.1709,  34.8394,2,  34.8414,2,     84.8,2,     86.1,2,   110.12,2,    37.29,2,     0.00,2,     2.70,2, -999.000,9, -999.000,9, -999.000,9,   -999.0,9,   -999.0,9,-999.0000,9,  -999.00,   -999.0,9,  -999.00,9, -999.000,9, -999.000,-999.0000,9,-999.0000,  -999.00,9,  -999.00, -999.000,9, -999.000,   -999.0,9,   -999.0,  -999.00,9,-999.0000,9,-999.0000,9,-999.0000,9,-999.0000,9,-999.0000,9,-999.0000,9,-999.0000,9,-999.0000,9,-999.0000,9,   4.0419,   4.1692,2
  33RR20070322,  I09N,   166,  1,     12,     12,2,20070418,1223,  7.6107,  88.4860, 3681,1677.4000,   1677.4,   3.8421,  34.8271,2,  34.8284,2,     91.0,2,     92.4,2,   115.11,2,    37.00,2,     0.00,2,     2.68,2, -999.000,9, -999.000,9, -999.000,9,   -999.0,9,   -999.0,9,-999.0000,9,  -999.00,   -999.0,9,  -999.00,9, -999.000,9, -999.000,-999.0000,9,-999.0000,  -999.00,9,  -999.00, -999.000,9, -999.000,   -999.0,9,   -999.0,  -999.00,9,-999.0000,9,-999.0000,9,-999.0000,9,-999.0000,9,-999.0000,9,-999.0000,9,-999.0000,9,-999.0000,9,-999.0000,9,   3.7079,   3.8400,2
  33RR20070322,  I09N,   166,  1,     11,     11,2,20070418,1223,  7.6107,  88.4860, 3681,1778.8000,   1778.8,   3.5251,  34.8142,2,  34.8151,2,     99.3,2,     99.5,2,   117.05,2,    36.71,2,     0.00,2,     2.66,2, -999.000,9, -999.000,9, -999.000,9,   -999.0,9,   -999.0,9,-999.0000,9,  -999.00,   -999.0,9,  -999.00,9, -999.000,9, -999.000,-999.0000,9,-999.0000,  -999.00,9,  -999.00, -999.000,9, -999.000,   -999.0,9,   -999.0,  -999.00,9,-999.0000,9,-999.0000,9,-999.0000,9,-999.0000,9,-999.0000,9,-999.0000,9,-999.0000,9,-999.0000,9,-999.0000,9,   3.3857,   3.5252,2
  33RR20070322,  I09N,   166,  1,     10,     10,2,20070418,1223,  7.6107,  88.4860, 3681,1879.2000,   1879.2,   3.2378,  34.8014,2,  34.8023,2,    105.5,2,    105.7,2,   121.86,2,    36.61,2,     0.00,2,     2.63,2, -999.000,9, -999.000,9, -999.000,9,   -999.0,9,   -999.0,9,-999.0000,9,  -999.00,   -999.0,9,  -999.00,9, -999.000,9, -999.000,-999.0000,9,-999.0000,  -999.00,9,  -999.00, -999.000,9, -999.000,   -999.0,9,   -999.0,  -999.00,9,-999.0000,9,-999.0000,9,-999.0000,9,-999.0000,9,-999.0000,9,-999.0000,9,-999.0000,9,-999.0000,9,-999.0000,9,   3.0932,   3.2384,2
  33RR20070322,  I09N,   166,  1,      9,      9,2,20070418,1223,  7.6107,  88.4860, 3681,1980.5000,   1980.5,   2.9900,  34.7902,2,  34.7899,2,    112.0,2,    111.3,2,   123.19,2,    36.42,2,     0.00,2,     2.62,2,    0.005,2,    0.003,2, -999.000,5,   2328.1,2,   2401.7,2,   7.4957,2,    25.00,   -999.0,9,  -999.00,9, -999.000,9, -999.000,-999.0000,9,-999.0000,  -999.00,9,  -999.00, -999.000,9, -999.000,   -999.0,9,   -999.0,  -999.00,9,-999.0000,9,-999.0000,9,-999.0000,9,-999.0000,9,-999.0000,9,-999.0000,9,-999.0000,9,-999.0000,9,-999.0000,9,   2.8398,   2.9900,2
  33RR20070322,  I09N,   166,  1,      8,      8,2,20070418,1223,  7.6107,  88.4860, 3681,2181.8000,   2181.8,   2.5871,  34.7717,2,  34.7725,2,    121.8,2,    120.9,2,   128.62,2,    36.07,2,     0.00,2,     2.58,2, -999.000,9, -999.000,9, -999.000,9,   -999.0,9,   -999.0,9,-999.0000,9,  -999.00,   -999.0,9,  -999.00,9, -999.000,9, -999.000,-999.0000,9,-999.0000,  -999.00,9,  -999.00, -999.000,9, -999.000,   -999.0,9,   -999.0,  -999.00,9,-999.0000,9,-999.0000,9,-999.0000,9,-999.0000,9,-999.0000,9,-999.0000,9,-999.0000,9,-999.0000,9,-999.0000,9,   2.4250,   2.5873,2
  33RR20070322,  I09N,   166,  1,      7,      7,2,20070418,1223,  7.6107,  88.4860, 3681,2434.2000,   2434.2,   2.2461,  34.7565,2,  34.7572,2,    133.1,2,    132.1,2,   133.04,2,    35.58,2,     0.00,2,     2.53,2, -999.000,9, -999.000,9, -999.000,9,   -999.0,9,   -999.0,9,-999.0000,9,  -999.00,   -999.0,9,  -999.00,9, -999.000,9, -999.000,-999.0000,9,-999.0000,  -999.00,9,  -999.00, -999.000,9, -999.000,   -999.0,9,   -999.0,  -999.00,9,-999.0000,9,-999.0000,9,-999.0000,9,-999.0000,9,-999.0000,9,-999.0000,9,-999.0000,9,-999.0000,9,-999.0000,9,   2.0669,   2.2472,2
  33RR20070322,  I09N,   166,  1,      6,      6,2,20070418,1223,  7.6107,  88.4860, 3681,2685.8000,   2685.8,   1.9336,  34.7432,2,  34.7434,2,    142.9,2,    143.0,2,   135.00,2,    35.29,2,     0.00,2,     2.48,2, -999.000,9, -999.000,9, -999.000,9,   -999.0,9,   -999.0,9,-999.0000,9,  -999.00,   -999.0,9,  -999.00,9, -999.000,9, -999.000,-999.0000,9,-999.0000,  -999.00,9,  -999.00, -999.000,9, -999.000,   -999.0,9,   -999.0,  -999.00,9,-999.0000,9,-999.0000,9,-999.0000,9,-999.0000,9,-999.0000,9,-999.0000,9,-999.0000,9,-999.0000,9,-999.0000,9,   1.7370,   1.9338,2
  33RR20070322,  I09N,   166,  1,      5,      5,2,20070418,1223,  7.6107,  88.4860, 3681,2938.6000,   2938.6,   1.7822,  34.7371,2,  34.7369,2,    150.0,2,    149.7,2,   135.32,2,    34.93,2,     0.00,2,     2.44,2,    0.005,2,    0.004,2, -999.000,5,   2322.4,2,   2414.4,2,   7.5780,2,    25.00,   -999.0,9,  -999.00,9, -999.000,9, -999.000,-999.0000,9,-999.0000,  -999.00,9,  -999.00, -999.000,9, -999.000,   -999.0,9,   -999.0,  -999.00,9,-999.0000,9,-999.0000,9,-999.0000,9,-999.0000,9,-999.0000,9,-999.0000,9,-999.0000,9,-999.0000,9,-999.0000,9,   1.5648,   1.7826,2