BOTTLE,20150630SIOCCHRJL
EXPOCODE,SECT_ID,STNNBR,CASTNO,SAMPNO,BTLNBR,BTLNBR_FLAG_W,DATE,TIME,LATITUDE,LONGITUDE,DEPTH,CTDRAW,CTDPRS,CTDTMP,CTDSAL,CTDSAL_FLAG_W,SALNTY,SALNTY_FLAG_W,CTDOXY,CTDOXY_FLAG_W,OXYGEN,OXYGEN_FLAG_W,SILCAT,SILCAT_FLAG_W,NITRAT,NITRAT_FLAG_W,NITRIT,NITRIT_FLAG_W,PHSPHT,PHSPHT_FLAG_W,CFC-11,CFC-11_FLAG_W,CFC-12,CFC-12_FLAG_W,CFC113,CFC113_FLAG_W,TCARBN,TCARBN_FLAG_W,ALKALI,ALKALI_FLAG_W,PH_SWS,PH_SWS_FLAG_W,PH_TMP,DOC,DOC_FLAG_W,TDN,TDN_FLAG_W,TRITUM,TRITUM_FLAG_W,TRITER,HELIUM,HELIUM_FLAG_W,HELIER,DELHE3,DELHE3_FLAG_W,DELHER,NEON,NEON_FLAG_W,NEONER,DELC14,DELC14_FLAG_W,C14ERR,DELC13,DELC13_FLAG_W,CDOM325,CDOM325_FLAG_W,CDOM340,CDOM340_FLAG_W,CDOM380,CDOM380_FLAG_W,CDOM412,CDOM412_FLAG_W,CDOM443,CDOM443_FLAG_W,CDOM490,CDOM490_FLAG_W,CDOM555,CDOM555_FLAG_W,CDOMSL,CDOMSL_FLAG_W,CDOMSN,CDOMSN_FLAG_W,THETA,SBE35,SBE35_FLAG_W
,,,,,,,,,,,METERS,,DBAR,ITS-90,PSS-78,,PSS-78,,UMOL/KG,,UMOL/KG,,UMOL/KG,,UMOL/KG,,UMOL/KG,,UMOL/KG,,PMOL/KG,,PMOL/KG,,PMOL/KG,,UMOL/KG,,UMOL/KG,,,,DEG C,UMOL/KG,,UMOL/KG,,TU,,TU,NMOL/KG,,NMOL/KG,PERCNT,,PERCNT,NMOL/KG,,NMOL/KG,/MILLE,,/MILLE,/MILLE,,1/M,,1/M,,1/M,,1/M,,1/M,,1/M,,1/M,,1/NM,,1/NM,,DEG C,ITS-90,
  33RR20070322,  I09N,   154,  2,     36,     38,2,20070415,0615,  3.0003,  91.7597, 4156,   1.6000,      1.6,  31.1453,  34.0738,2,  34.0729,2,    195.3,2,    195.1,2,     1.22,2,     0.06,2,     0.00,2,     0.08,2, -999.000,9, -999.000,9, -999.000,9,   1903.3,6,   2234.3,2,   8.1030,6,    25.00,   -999.0,9,  -999.00,9, -999.000,9, -999.000,-999.0000,9,-999.0000,  -999.00,9,  -999.00, -999.000,9, -999.000,   -999.0,9,   -999.0,  -999.00,9,-999.0000,9,-999.0000,9,-999.0000,9,-999.0000,9,-999.0000,9,-999.0000,9,-999.0000,9,-999.0000,9,-999.0000,9,  31.1449,  31.1387,2
  33RR20070322,  I09N,   154,  2,     35,     35,2,20070415,0615,  3.0003,  91.7597, 4156,  20.5000,     20.5,  29.6612,  34.1172,2,  34.1009,2,    197.6,2,    197.7,2,     1.21,2,     0.07,2,     0.00,2,     0.07,2, -999.000,9, -999.000,9, -999.000,9,   -999.0,9,   -999.0,9,-999.0000,9,  -999.00,   -999.0,9,  -999.00,9, -999.000,9, -999.000,-999.0000,9,-999.0000,  -999.00,9,  -999.00, -999.000,9, -999.000,   -999.0,9,   -999.0,  -999.00,9,-999.0000,9,-999.0000,9,-999.0000,9,-999.0000,9,-999.0000,9,-999.0000,9,-999.0000,9,-999.0000,9,-999.0000,9,  29.6562,  29.6570,2
  33RR20070322,  I09N,   154,  2,     34,   9419,2,20070415,0615,  3.0003,  91.7597, 4156,  45.2000,     45.2,  28.1265,  34.5313,2,  34.5278,2,    190.8,2,    192.5,2,     1.59,2,     0.07,2,     0.00,2,     0.17,2, -999.000,9, -999.000,9, -999.000,9,   -999.0,9,   -999.0,9,-999.0000,9,  -999.00,   -999.0,9,  -999.00,9, -999.000,9, -999.000,-999.0000,9,-999.0000,  -999.00,9,  -999.00, -999.000,9, -999.000,   -999.0,9,   -999.0,  -999.00,9,-999.0000,9,-999.0000,9,-999.0000,9,-999.0000,9,-999.0000,9,-999.0000,9,-999.0000,9,-999.0000,9,-999.0000,9,  28.1158,  28.1215,2
  33RR20070322,  I09N,   154,  2,     33,     33,2,20070415,0615,  3.0003,  91.7597, 4156,  89.8000,     89.8,  24.4558,  35.2977,2,  35.2877,2,    112.1,2,    111.7,2,     5.74,2,     9.65,2,     1.34,2,     0.91,2, -999.000,9, -999.000,9, -999.000,9,   2082.2,2,   2311.6,6,   7.9051,2,    25.00,   -999.0,9,  -999.00,9, -999.000,9, -999.000,-999.0000,9,-999.0000,  -999.00,9,  -999.00, -999.000,9, -999.000,   -999.0,9,   -999.0,  -999.00,9,-999.0000,9,-999.0000,9,-999.0000,9,-999.0000,9,-999.0000,9,-999.0000,9,-999.0000,9,-999.0000,9,-999.0000,9,  24.4366,  24.4345,2
  33RR20070322,  I09N,   154,  2,     32,     37,2,20070415,0615,  3.0003,  91.7597, 4156, 139.3000,    139.3,  17.5467,  35.0977,2,  35.0980,2,     38.3,2,     32.3,2,    19.99,2,    25.93,2,     0.02,2,     1.86,2, -999.000,9, -999.000,9, -999.000,9,   -999.0,9,   -999.0,9,-999.0000,9,  -999.00,   -999.0,9,  -999.00,9, -999.000,9, -999.000,-999.0000,9,-999.0000,  -999.00,9,  -999.00, -999.000,9, -999.000,   -999.0,9,   -999.0,  -999.00,9,-999.0000,9,-999.0000,9,-999.0000,9,-999.0000,9,-999.0000,9,-999.0000,9,-999.0000,9,-999.0000,9,-999.0000,9,  17.5232,  17.4939,2
  33RR20070322,  I09N,   154,  2,     31,     31,2,20070415,0615,  3.0003,  91.7597, 4156, 165.5000,    165.5,  15.5481,  35.0838,2,  35.0870,2,     35.7,2,     35.6,2,    22.17,2,    27.15,2,     0.01,2,     1.92,2, -999.000,9, -999.000,9, -999.000,9,   2203.5,2,   2309.9,2,   7.6177,2,    25.00,   -999.0,9,  -999.00,9, -999.000,9, -999.000,-999.0000,9,-999.0000,  -999.00,9,  -999.00, -999.000,9, -999.000,   -999.0,9,   -999.0,  -999.00,9,-999.0000,9,-999.0000,9,-999.0000,9,-999.0000,9,-999.0000,9,-999.0000,9,-999.0000,9,-999.0000,9,-999.0000,9,  15.5224,  15.5929,2
  33RR20070322,  I09N,   154,  2,     30,     30,2,20070415,0615,  3.0003,  91.7597, 4156, 190.2000,    190.2,  14.0942,  35.0719,2,  35.0699,2,     38.7,2,     40.9,2,    24.33,2,    28.20,2,     0.01,2,     1.99,2, -999.000,9, -999.000,9, -999.000,9,   -999.0,9,   -999.0,9,-999.0000,9,  -999.00,   -999.0,9,  -999.00,9, -999.000,9, -999.000,-999.0000,9,-999.0000,  -999.00,9,  -999.00, -999.000,9, -999.000,   -999.0,9,   -999.0,  -999.00,9,-999.0000,9,-999.0000,9,-999.0000,9,-999.0000,9,-999.0000,9,-999.0000,9,-999.0000,9,-999.0000,9,-999.0000,9,  14.0666,  14.0998,2
  33RR20070322,  I09N,   154,  2,     29,     29,2,20070415,0615,  3.0003,  91.7597, 4156, 240.1000,    240.1,  12.9503,  35.1023,2,  35.1016,2,     60.1,2,     61.9,2,    22.14,2,    26.83,2,     0.01,2,     1.87,2, -999.000,9, -999.000,9, -999.000,9,   -999.0,9,   -999.0,9,-999.0000,9,  -999.00,   -999.0,9,  -999.00,9, -999.000,9, -999.000,-999.0000,9,-999.0000,  -999.00,9,  -999.00, -999.000,9, -999.000,   -999.0,9,   -999.0,  -999.00,9,-999.0000,9,-999.0000,9,-999.0000,9,-999.0000,9,-999.0000,9,-999.0000,9,-999.0000,9,-999.0000,9,-999.0000,9,  12.9173,  12.9539,2
  33RR20070322,  I09N,   154,  2,     28,     28,2,20070415,0615,  3.0003,  91.7597, 4156, 289.1000,    289.1,  12.4545,  35.0901,2,  35.0900,2,     68.4,2,     70.2,2,    21.93,2,    26.67,2,     0.01,2,     1.85,2, -999.000,9, -999.000,9, -999.000,9,   -999.0,9,   -999.0,9,-999.0000,9,  -999.00,   -999.0,9,  -999.00,9, -999.000,9, -999.000,-999.0000,9,-999.0000,  -999.00,9,  -999.00, -999.000,9, -999.000,   -999.0,9,   -999.0,  -999.00,9,-999.0000,9,-999.0000,9,-999.0000,9,-999.0000,9,-999.0000,9,-999.0000,9,-999.0000,9,-999.0000,9,-999.0000,9,  12.4157,  12.4541,2
  33RR20070322,  I09N,   154,  2,     27,     27,2,20070415,0615,  3.0003,  91.7597, 4156, 339.1000,    339.1,  12.1081,  35.0852,2,  35.0844,2,     63.5,2,     61.7,2,    23.90,2,    27.98,2,     0.01,2,     1.93,2, -999.000,9, -999.000,9, -999.000,9,   2219.1,2,   2309.3,2,   7.5415,2,    25.00,   -999.0,9,  -999.00,9, -999.000,9, -999.000,-999.0000,9,-999.0000,  -999.00,9,  -999.00, -999.000,9, -999.000,   -999.0,9,   -999.0,  -999.00,9,-999.0000,9,-999.0000,9,-999.0000,9,-999.0000,9,-999.0000,9,-999.0000,9,-999.0000,9,-999.0000,9,-999.0000,9,  12.0633,  12.1068,2
  33RR20070322,  I09N,   154,  2,     26,     26,2,20070415,0615,  3.0003,  91.7597, 4156, 390.0000,    390.0,  11.5364,  35.0660,2,  35.0659,2,     64.4,2,     62.0,2,    25.88,2,    28.87,2,     0.01,2,     2.00,2, -999.000,9, -999.000,9, -999.000,9,   -999.0,9,   -999.0,9,-999.0000,9,  -999.00,   -999.0,9,  -999.00,9, -999.000,9, -999.000,-999.0000,9,-999.0000,  -999.00,9,  -999.00, -999.000,9, -999.000,   -999.0,9,   -999.0,  -999.00,9,-999.0000,9,-999.0000,9,-999.0000,9,-999.0000,9,-999.0000,9,-999.0000,9,-999.0000,9,-999.0000,9,-999.0000,9,  11.4864,  11.5369,2
  33RR20070322,  I09N,   154,  2,     25,     25,2,20070415,0615,  3.0003,  91.7597, 4156, 439.1000,    439.1,  10.9757,  35.0474,2,  35.0472,2,     47.3,2,     44.2,2,    32.01,2,    31.61,2,     0.01,2,     2.21,2, -999.000,9, -999.000,9, -999.000,9,   -999.0,9,   -999.0,9,-999.0000,9,  -999.00,   -999.0,9,  -999.00,9, -999.000,9, -999.000,-999.0000,9,-999.0000,  -999.00,9,  -999.00, -999.000,9, -999.000,   -999.0,9,   -999.0,  -999.00,9,-999.0000,9,-999.0000,9,-999.0000,9,-999.0000,9,-999.0000,9,-999.0000,9,-999.0000,9,-999.0000,9,-999.0000,9,  10.9210,  10.9748,2
  33RR20070322,  I09N,   154,  2,     24,     24,2,20070415,0615,  3.0003,  91.7597, 4156, 489.4000,    489.4,  10.3937,  35.0361,2,  35.0358,2,     46.4,2,     43.1,2,    37.56,2,    32.76,2,     0.01,2,     2.31,2, -999.000,9, -999.000,9, -999.000,9,   -999.0,9,   -999.0,9,-999.0000,9,  -999.00,   -999.0,9,  -999.00,9, -999.000,9, -999.000,-999.0000,9,-999.0000,  -999.00,9,  -999.00, -999.000,9, -999.000,   -999.0,9,   -999.0,  -999.00,9,-999.0000,9,-999.0000,9,-999.0000,9,-999.0000,9,-999.0000,9,-999.0000,9,-999.0000,9,-999.0000,9,-999.0000,9,  10.3346,  10.4008,2
  33RR20070322,  I09N,   154,  2,     23,     23,2,20070415,0615,  3.0003,  91.7597, 4156, 574.3000,    574.3,   9.5359,  35.0260,2,  35.0250,2,     35.3,2,     34.1,2,    48.06,2,    34.76,2,     0.01,2,     2.51,2, -999.000,9, -999.000,9, -999.000,9,   -999.0,9,   -999.0,9,-999.0000,9,  -999.00,   -999.0,9,  -999.00,9, -999.000,9, -999.000,-999.0000,9,-999.0000,  -999.00,9,  -999.00, -999.000,9, -999.000,   -999.0,9,   -999.0,  -999.00,9,-999.0000,9,-999.0000,9,-999.0000,9,-999.0000,9,-999.0000,9,-999.0000,9,-999.0000,9,-999.0000,9,-999.0000,9,   9.4699,   9.5352,2
  33RR20070322,  I09N,   154,  2,     22,     22,2,20070415,0615,  3.0003,  91.7597, 4156, 675.2000,    675.2,   8.9410,  35.0255,2,  35.0254,2,     33.6,2,     33.4,2,    55.21,2,    35.61,2,     0.01,2,     2.62,2, -999.000,9, -999.000,9, -999.000,9,   2277.4,2,   2337.7,2,   7.4834,6,    25.00,   -999.0,9,  -999.00,9, -999.000,9, -999.000,-999.0000,9,-999.0000,  -999.00,9,  -999.00, -999.000,9, -999.000,   -999.0,9,   -999.0,  -999.00,9,-999.0000,9,-999.0000,9,-999.0000,9,-999.0000,9,-999.0000,9,-999.0000,9,-999.0000,9,-999.0000,9,-999.0000,9,   8.8659,   8.9397,2
  33RR20070322,  I09N,   154,  2,     21,     21,2,20070415,0615,  3.0003,  91.7597, 4156, 775.7000,    775.7,   8.2380,  35.0077,2,  35.0075,2,     35.9,2,     35.5,2,    63.77,2,    36.51,2,     0.01,2,     2.70,2, -999.000,9, -999.000,9, -999.000,9,   -999.0,9,   -999.0,9,-999.0000,9,  -999.00,   -999.0,9,  -999.00,9, -999.000,9, -999.000,-999.0000,9,-999.0000,  -999.00,9,  -999.00, -999.000,9, -999.000,   -999.0,9,   -999.0,  -999.00,9,-999.0000,9,-999.0000,9,-999.0000,9,-999.0000,9,-999.0000,9,-999.0000,9,-999.0000,9,-999.0000,9,-999.0000,9,   8.1552,   8.2389,2
  33RR20070322,  I09N,   154,  2,     20,     20,2,20070415,0615,  3.0003,  91.7597, 4156, 874.6000,    874.6,   7.5540,  34.9836,2,  34.9835,2,     39.9,2,     39.8,2,    72.13,2,    36.93,2,     0.00,2,     2.74,2, -999.000,9, -999.000,9, -999.000,9,   -999.0,9,   -999.0,9,-999.0000,9,  -999.00,   -999.0,9,  -999.00,9, -999.000,9, -999.000,-999.0000,9,-999.0000,  -999.00,9,  -999.00, -999.000,9, -999.000,   -999.0,9,   -999.0,  -999.00,9,-999.0000,9,-999.0000,9,-999.0000,9,-999.0000,9,-999.0000,9,-999.0000,9,-999.0000,9,-999.0000,9,-999.0000,9,   7.4645,   7.5523,2
  33RR20070322,  I09N,   154,  2,     19,     19,2,20070415,0615,  3.0003,  91.7597, 4156, 975.2000,    975.2,   6.7029,  34.9410,2,  34.9412,2,     49.2,2,     51.1,2,    82.11,2,    36.92,2,     0.01,2,     2.74,2, -999.000,9, -999.000,9, -999.000,9,   -999.0,9,   -999.0,9,-999.0000,9,  -999.00,   -999.0,9,  -999.00,9, -999.000,9, -999.000,-999.0000,9,-999.0000,  -999.00,9,  -999.00, -999.000,9, -999.000,   -999.0,9,   -999.0,  -999.00,9,-999.0000,9,-999.0000,9,-999.0000,9,-999.0000,9,-999.0000,9,-999.0000,9,-999.0000,9,-999.0000,9,-999.0000,9,   6.6087,   6.7023,2
  33RR20070322,  I09N,   154,  2,     18,     18,2,20070415,0615,  3.0003,  91.7597, 4156,1075.5000,   1075.5,   6.2975,  34.9192,2,  34.9189,2,     58.0,2,     58.7,2,    86.90,2,    36.71,2,     0.01,2,     2.72,2, -999.000,9, -999.000,9, -999.000,9,   2310.4,2,   2355.6,2,   7.4660,3,    25.00,   -999.0,9,  -999.00,9, -999.000,9, -999.000,-999.0000,9,-999.0000,  -999.00,9,  -999.00, -999.000,9, -999.000,   -999.0,9,   -999.0,  -999.00,9,-999.0000,9,-999.0000,9,-999.0000,9,-999.0000,9,-999.0000,9,-999.0000,9,-999.0000,9,-999.0000,9,-999.0000,9,   6.1961,   6.3005,2
  33RR20070322,  I09N,   154,  2,     17,     17,2,20070415,0615,  3.0003,  91.7597, 4156,1176.7000,   1176.7,   5.6388,  34.8922,2,  34.8924,2,     66.1,2,     66.7,2,    94.32,2,    36.81,2,     0.01,2,     2.73,2, -999.000,9, -999.000,9, -999.000,9,   -999.0,9,   -999.0,9,-999.0000,9,  -999.00,   -999.0,9,  -999.00,9, -999.000,9, -999.000,-999.0000,9,-999.0000,  -999.00,9,  -999.00, -999.000,9, -999.000,   -999.0,9,   -999.0,  -999.00,9,-999.0000,9,-999.0000,9,-999.0000,9,-999.0000,9,-999.0000,9,-999.0000,9,-999.0000,9,-999.0000,9,-999.0000,9,   5.5329,   5.6400,2
  33RR20070322,  I09N,   154,  2,     16,     16,2,20070415,0615,  3.0003,  91.7597, 4156,1277.1000,   1277.1,   5.3347,  34.8804,2,  34.8802,2,     71.6,2,     72.4,2,    97.72,2,    36.92,2,     0.01,2,     2.73,2, -999.000,9, -999.000,9, -999.000,9,   -999.0,9,   -999.0,9,-999.0000,9,  -999.00,   -999.0,9,  -999.00,9, -999.000,9, -999.000,-999.0000,9,-999.0000,  -999.00,9,  -999.00, -999.000,9, -999.000,   -999.0,9,   -999.0,  -999.00,9,-999.0000,9,-999.0000,9,-999.0000,9,-999.0000,9,-999.0000,9,-999.0000,9,-999.0000,9,-999.0000,9,-999.0000,9,   5.2218,   5.3401,2
  33RR20070322,  I09N,   154,  2,     15,     15,2,20070415,0615,  3.0003,  91.7597, 4156,1377.6000,   1377.6,   4.8922,  34.8689,2,  34.8692,2,     75.8,2,     76.4,2,   100.92,2,    37.18,2,     0.01,2,     2.75,2, -999.000,9, -999.000,9, -999.000,9,   -999.0,9,   -999.0,9,-999.0000,9,  -999.00,   -999.0,9,  -999.00,9, -999.000,9, -999.000,-999.0000,9,-999.0000,  -999.00,9,  -999.00, -999.000,9, -999.000,   -999.0,9,   -999.0,  -999.00,9,-999.0000,9,-999.0000,9,-999.0000,9,-999.0000,9,-999.0000,9,-999.0000,9,-999.0000,9,-999.0000,9,-999.0000,9,   4.7740,   4.8942,2
  33RR20070322,  I09N,   154,  2,     14,     14,2,20070415,0615,  3.0003,  91.7597, 4156,1477.7000,   1477.7,   4.4926,  34.8519,2,  34.8524,2,     84.3,2,     85.2,2,   104.13,2,    36.85,2,     0.01,2,     2.72,2, -999.000,9, -999.000,9, -999.000,9,   -999.0,9,   -999.0,9,-999.0000,9,  -999.00,   -999.0,9,  -999.00,9, -999.000,9, -999.000,-999.0000,9,-999.0000,  -999.00,9,  -999.00, -999.000,9, -999.000,   -999.0,9,   -999.0,  -999.00,9,-999.0000,9,-999.0000,9,-999.0000,9,-999.0000,9,-999.0000,9,-999.0000,9,-999.0000,9,-999.0000,9,-999.0000,9,   4.3692,   4.4893,2
  33RR20070322,  I09N,   154,  2,     13,     13,2,20070415,0615,  3.0003,  91.7597, 4156,1578.5000,   1578.5,   4.0976,  34.8362,2,  34.8361,2,     92.8,2,     93.2,2,   107.95,2,    36.58,2,     0.01,2,     2.71,2, -999.000,9, -999.000,9, -999.000,9,   -999.0,9,   -999.0,9,-999.0000,9,  -999.00,   -999.0,9,  -999.00,9, -999.000,9, -999.000,-999.0000,9,-999.0000,  -999.00,9,  -999.00, -999.000,9, -999.000,   -999.0,9,   -999.0,  -999.00,9,-999.0000,9,-999.0000,9,-999.0000,9,-999.0000,9,-999.0000,9,-999.0000,9,-999.0000,9,-999.0000,9,-999.0000,9,   3.9694,   4.0960,2
  33RR20070322,  I09N,   154,  2,     12,     12,2,20070415,0615,  3.0003,  91.7597, 4156,1679.0000,   1679.0,   3.6909,  34.8193,2,  34.8192,2,    100.8,2,    102.2,2,   111.97,2,    36.37,2,     0.00,2,     2.68,2, -999.000,9, -999.000,9, -999.000,9,   -999.0,9,   -999.0,9,-999.0000,9,  -999.00,   -999.0,9,  -999.00,9, -999.000,9, -999.000,-999.0000,9,-999.0000,  -999.00,9,  -999.00, -999.000,9, -999.000,   -999.0,9,   -999.0,  -999.00,9,-999.0000,9,-999.0000,9,-999.0000,9,-999.0000,9,-999.0000,9,-999.0000,9,-999.0000,9,-999.0000,9,-999.0000,9,   3.5584,   3.6897,2
  33RR20070322,  I09N,   154,  2,     11,     11,2,20070415,0615,  3.0003,  91.7597, 4156,1780.2000,   1780.2,   3.3629,  34.8063,2,  34.8066,2,    108.1,2,    108.6,2,   115.79,2,    36.20,2,     0.01,2,     2.65,2, -999.000,9, -999.000,9, -999.000,9,   -999.0,9,   -999.0,9,-999.0000,9,  -999.00,   -999.0,9,  -999.00,9, -999.000,9, -999.000,-999.0000,9,-999.0000,  -999.00,9,  -999.00, -999.000,9, -999.000,   -999.0,9,   -999.0,  -999.00,9,-999.0000,9,-999.0000,9,-999.0000,9,-999.0000,9,-999.0000,9,-999.0000,9,-999.0000,9,-999.0000,9,-999.0000,9,   3.2255,   3.3609,2
  33RR20070322,  I09N,   154,  2,     10,     10,2,20070415,0615,  3.0003,  91.7597, 4156,1981.5000,   1981.5,   2.9001,  34.7856,2,  34.7860,2,    120.2,2,    120.3,2,   121.24,2,    35.83,2,     0.00,2,     2.60,2, -999.000,9, -999.000,9, -999.000,9,   2319.6,2,   2392.9,6,   7.5482,2,    25.00,   -999.0,9,  -999.00,9, -999.000,9, -999.000,-999.0000,9,-999.0000,  -999.00,9,  -999.00, -999.000,9, -999.000,   -999.0,9,   -999.0,  -999.00,9,-999.0000,9,-999.0000,9,-999.0000,9,-999.0000,9,-999.0000,9,-999.0000,9,-999.0000,9,-999.0000,9,-999.0000,9,   2.7512,   2.8987,2
  33RR20070322,  I09N,   154,  2,      9,      9,2,20070415,0615,  3.0003,  91.7597, 4156,2183.5000,   2183.5,   2.4441,  34.7654,2,  34.7657,2,    132.0,2,    132.3,2,   126.10,2,    35.45,2,     0.00,2,     2.55,2, -999.000,9, -999.000,9, -999.000,9,   -999.0,9,   -999.0,9,-999.0000,9,  -999.00,   -999.0,9,  -999.00,9, -999.000,9, -999.000,-999.0000,9,-999.0000,  -999.00,9,  -999.00, -999.000,9, -999.000,   -999.0,9,   -999.0,  -999.00,9,-999.0000,9,-999.0000,9,-999.0000,9,-999.0000,9,-999.0000,9,-999.0000,9,-999.0000,9,-999.0000,9,-999.0000,9,   2.2842,   2.4446,2
  33RR20070322,  I09N,   154,  2,      8,      8,2,20070415,0615,  3.0003,  91.7597, 4156,2436.1000,   2436.1,   2.1343,  34.7516,2,  34.7522,2,    141.9,2,    141.1,2,   129.94,2,    35.13,2,     0.00,2,     2.51,2, -999.000,9, -999.000,9, -999.000,9,   -999.0,9,   -999.0,9,-999.0000,9,  -999.00,   -999.0,9,  -999.00,9, -999.000,9, -999.000,-999.0000,9,-999.0000,  -999.00,9,  -999.00, -999.000,9, -999.000,   -999.0,9,   -999.0,  -999.00,9,-999.0000,9,-999.0000,9,-999.0000,9,-999.0000,9,-999.0000,9,-999.0000,9,-999.0000,9,-999.0000,9,-999.0000,9,   1.9569,   2.1326,2
  33RR20070322,  I09N,   154,  2,      7,      7,2,20070415,0615,  3.0003,  91.7597, 4156,2689.1000,   2689.1,   1.9426,  34.7428,2,  34.7433,2,    149.9,2,    149.2,2,   130.95,2,    34.71,2,     0.00,2,     2.47,2, -999.000,9, -999.000,9, -999.000,9,   -999.0,9,   -999.0,9,-999.0000,9,  -999.00,   -999.0,9,  -999.00,9, -999.000,9, -999.000,-999.0000,9,-999.0000,  -999.00,9,  -999.00, -999.000,9, -999.000,   -999.0,9,   -999.0,  -999.00,9,-999.0000,9,-999.0000,9,-999.0000,9,-999.0000,9,-999.0000,9,-999.0000,9,-999.0000,9,-999.0000,9,-999.0000,9,   1.7455,   1.9436,2
  33RR20070322,  I09N,   154,  2,      6,      6,2,20070415,0615,  3.0003,  91.7597, 4156,2942.7000,   2942.7,   1.7970,  34.7370,2,  34.7370,2,    154.8,2,    154.1,2,   133.38,2,    34.65,2,     0.00,2,     2.44,2, -999.000,9, -999.000,9, -999.000,9,   -999.0,9,   -999.0,9,-999.0000,9,  -999.00,   -999.0,9,  -999.00,9, -999.000,9, -999.000,-999.0000,9,-999.0000,  -999.00,9,  -999.00, -999.000,9, -999.000,   -999.0,9,   -999.0,  -999.00,9,-999.0000,9,-999.0000,9,-999.0000,9,-999.0000,9,-999.0000,9,-999.0000,9,-999.0000,9,-999.0000,9,-999.0000,9,   1.5789,   1.8015,2
  33RR20070322,  I09N,   154,  2,      5,      5,2,20070415,0615,  3.0003,  91.7597, 4156,3195.4000,   3195.4,   1.6427,  34.7312,2,  34.7292,4,    160.6,2,    159.8,2,   133.77,2,    34.44,2,     0.00,2,     2.41,2, -999.000,9, -999.000,9, -999.000,9,   -999.0,9,   -999.0,9,-999.0000,9,  -999.00,   -999.0,9,  -999.00,9, -999.000,9, -999.000,-999.0000,9,-999.0000,  -999.00,9,  -999.00, -999.000,9, -999.000,   -999.0,9,   -999.0,  -999.00,9,-999.0000,9,-999.0000,9,-999.0000,9,-999.0000,9,-999.0000,9,-999.0000,9,-999.0000,9,-999.0000,9,-999.0000,9,   1.4034,   1.6425,2