BOTTLE,20150630SIOCCHRJL
EXPOCODE,SECT_ID,STNNBR,CASTNO,SAMPNO,BTLNBR,BTLNBR_FLAG_W,DATE,TIME,LATITUDE,LONGITUDE,DEPTH,CTDRAW,CTDPRS,CTDTMP,CTDSAL,CTDSAL_FLAG_W,SALNTY,SALNTY_FLAG_W,CTDOXY,CTDOXY_FLAG_W,OXYGEN,OXYGEN_FLAG_W,SILCAT,SILCAT_FLAG_W,NITRAT,NITRAT_FLAG_W,NITRIT,NITRIT_FLAG_W,PHSPHT,PHSPHT_FLAG_W,CFC-11,CFC-11_FLAG_W,CFC-12,CFC-12_FLAG_W,CFC113,CFC113_FLAG_W,TCARBN,TCARBN_FLAG_W,ALKALI,ALKALI_FLAG_W,PH_SWS,PH_SWS_FLAG_W,PH_TMP,DOC,DOC_FLAG_W,TDN,TDN_FLAG_W,TRITUM,TRITUM_FLAG_W,TRITER,HELIUM,HELIUM_FLAG_W,HELIER,DELHE3,DELHE3_FLAG_W,DELHER,NEON,NEON_FLAG_W,NEONER,DELC14,DELC14_FLAG_W,C14ERR,DELC13,DELC13_FLAG_W,CDOM325,CDOM325_FLAG_W,CDOM340,CDOM340_FLAG_W,CDOM380,CDOM380_FLAG_W,CDOM412,CDOM412_FLAG_W,CDOM443,CDOM443_FLAG_W,CDOM490,CDOM490_FLAG_W,CDOM555,CDOM555_FLAG_W,CDOMSL,CDOMSL_FLAG_W,CDOMSN,CDOMSN_FLAG_W,THETA,SBE35,SBE35_FLAG_W
,,,,,,,,,,,METERS,,DBAR,ITS-90,PSS-78,,PSS-78,,UMOL/KG,,UMOL/KG,,UMOL/KG,,UMOL/KG,,UMOL/KG,,UMOL/KG,,PMOL/KG,,PMOL/KG,,PMOL/KG,,UMOL/KG,,UMOL/KG,,,,DEG C,UMOL/KG,,UMOL/KG,,TU,,TU,NMOL/KG,,NMOL/KG,PERCNT,,PERCNT,NMOL/KG,,NMOL/KG,/MILLE,,/MILLE,/MILLE,,1/M,,1/M,,1/M,,1/M,,1/M,,1/M,,1/M,,1/NM,,1/NM,,DEG C,ITS-90,
  33RR20070322,  I09N,   176,  1,     36,     38,2,20070421,0136,  9.9532,  85.6573, 3535,   2.0000,      2.0,  29.9275,  33.5000,2,  33.5022,2,    197.0,2,    196.8,2,     1.69,2,     0.05,2,     0.00,2,     0.06,2,    1.532,2,    1.001,2, -999.000,5,   1891.5,6,   2206.0,6,   8.0915,6,    25.00,   -999.0,9,  -999.00,9, -999.000,9, -999.000,-999.0000,9,-999.0000,  -999.00,9,  -999.00, -999.000,9, -999.000,   -999.0,9,   -999.0,  -999.00,9,   0.0837,2,   0.0541,2,   0.0203,2,   0.0137,2,  -0.0019,4,  -0.0031,4,  -0.0032,4,   0.0193,3,   0.0245,3,  29.9270,  29.9292,2
  33RR20070322,  I09N,   176,  1,     35,     35,2,20070421,0136,  9.9532,  85.6573, 3535,  54.6000,     54.6,  28.2836,  33.6765,2,  33.6633,2,    201.8,2,    202.3,2,     1.50,2,     0.05,2,     0.00,2,     0.06,2,    1.595,2,    1.027,2, -999.000,5,   1905.0,2,   2215.1,2,   8.0833,2,    25.00,   -999.0,9,  -999.00,9, -999.000,9, -999.000,-999.0000,9,-999.0000,  -999.00,9,  -999.00, -999.000,9, -999.000,   -999.0,9,   -999.0,  -999.00,9,   0.1304,2,   0.0879,2,   0.0390,2,   0.0268,2,   0.0051,2,   0.0002,4,  -0.0013,4,   0.0161,3,   0.0196,3,  28.2707,  28.2934,2
  33RR20070322,  I09N,   176,  1,     34,   9419,2,20070421,0136,  9.9532,  85.6573, 3535,  78.8000,     78.8,  25.8731,  34.2837,2,  34.2815,2,    129.4,2,    119.3,2,     6.27,2,     8.16,2,     0.43,2,     0.71,2,    1.407,2,    0.906,2, -999.000,5,   2023.1,2,   2252.9,2,   7.9280,2,    25.00,   -999.0,9,  -999.00,9, -999.000,9, -999.000,-999.0000,9,-999.0000,  -999.00,9,  -999.00, -999.000,9, -999.000,   -999.0,9,   -999.0,  -999.00,9,   0.2247,2,   0.1638,2,   0.0856,2,   0.0632,2,   0.0241,2,   0.0079,2,   0.0025,2,   0.0153,3,   0.0157,3,  25.8556,  25.8446,2
  33RR20070322,  I09N,   176,  1,     33,     33,2,20070421,0136,  9.9532,  85.6573, 3535, 104.1000,    104.1,  22.4489,  34.8662,2,  34.8566,4,     39.7,2,     36.9,2,    13.45,2,    21.27,2,     0.06,2,     1.53,2,    1.280,2,    0.807,2, -999.000,5,   2131.5,2,   2279.8,2,   7.7301,2,    25.00,   -999.0,9,  -999.00,9, -999.000,9, -999.000,-999.0000,9,-999.0000,  -999.00,9,  -999.00, -999.000,9, -999.000,   -999.0,9,   -999.0,  -999.00,9,   0.2093,2,   0.1525,2,   0.0830,2,   0.0631,2,   0.0240,2,   0.0072,2,   0.0019,2,   0.0151,3,   0.0149,3,  22.4280,  22.5675,2
  33RR20070322,  I09N,   176,  1,     32,     37,2,20070421,0136,  9.9532,  85.6573, 3535, 153.7000,    153.7,  17.7172,  34.8501,2,  34.8462,2,     25.0,2,     22.2,2,    23.82,2,    26.89,2,     0.01,2,     1.94,2,    0.928,2,    0.571,2, -999.000,5,   2186.4,2,   2291.2,2,   7.6118,2,    25.00,   -999.0,9,  -999.00,9, -999.000,9, -999.000,-999.0000,9,-999.0000,  -999.00,9,  -999.00, -999.000,9, -999.000,   -999.0,9,   -999.0,  -999.00,9,   0.1907,2,   0.1395,2,   0.0794,2,   0.0611,2,   0.0239,2,   0.0067,2,   0.0012,2,   0.0147,3,   0.0142,3,  17.6911,  17.6812,2
  33RR20070322,  I09N,   176,  1,     31,     31,2,20070421,0136,  9.9532,  85.6573, 3535, 204.7000,    204.7,  14.5179,  34.9654,2,  34.9642,2,     13.7,2,     15.2,2,    29.80,2,    30.42,2,     0.00,2,     2.20,2,    0.706,2,    0.418,2, -999.000,5,   2225.5,6,   2304.7,6,   7.5371,6,    25.00,   -999.0,9,  -999.00,9, -999.000,9, -999.000,-999.0000,9,-999.0000,  -999.00,9,  -999.00, -999.000,9, -999.000,   -999.0,9,   -999.0,  -999.00,9,   0.1907,2,   0.1415,2,   0.0840,2,   0.0659,2,   0.0279,2,   0.0081,2,   0.0016,2,   0.0143,3,   0.0133,3,  14.4876,  14.5196,2
  33RR20070322,  I09N,   176,  1,     30,     30,2,20070421,0136,  9.9532,  85.6573, 3535, 253.9000,    253.9,  12.7799,  35.0318,2,  35.0291,2,      9.1,2,      9.9,2,    32.79,2,    32.41,2,     0.00,2,     2.33,2,    0.569,2,    0.327,2, -999.000,5,   2249.2,2,   2310.7,2,   7.4891,2,    25.00,   -999.0,9,  -999.00,9, -999.000,9, -999.000,-999.0000,9,-999.0000,  -999.00,9,  -999.00, -999.000,9, -999.000,   -999.0,9,   -999.0,  -999.00,9,   0.1972,2,   0.1474,2,   0.0895,2,   0.0712,2,   0.0318,2,   0.0096,2,   0.0021,2,   0.0142,3,   0.0129,3,  12.7453,  12.7810,2
  33RR20070322,  I09N,   176,  1,     29,     29,2,20070421,0136,  9.9532,  85.6573, 3535, 303.8000,    303.8,  11.9224,  35.0517,2,  35.0492,2,     11.5,2,     13.2,2,    34.19,2,    32.94,2,     0.00,2,     2.36,2,    0.527,2,    0.297,2, -999.000,5,   2257.3,2,   2315.2,2,   7.4714,2,    25.00,   -999.0,9,  -999.00,9, -999.000,9, -999.000,-999.0000,9,-999.0000,  -999.00,9,  -999.00, -999.000,9, -999.000,   -999.0,9,   -999.0,  -999.00,9,   0.1944,2,   0.1454,2,   0.0889,2,   0.0711,2,   0.0318,2,   0.0094,2,   0.0018,2,   0.0141,3,   0.0127,3,  11.8827,  11.9241,2
  33RR20070322,  I09N,   176,  1,     28,     28,2,20070421,0136,  9.9532,  85.6573, 3535, 353.2000,    353.2,  11.2849,  35.0487,2,  35.0472,2,     13.2,2,     13.7,2,    37.18,2,    33.91,2,     0.00,2,     2.41,2,    0.424,2,    0.237,2, -999.000,5,   2265.5,2,   2318.4,2,   7.4465,2,    25.00,   -999.0,9,  -999.00,9, -999.000,9, -999.000,-999.0000,9,-999.0000,  -999.00,9,  -999.00, -999.000,9, -999.000,   -999.0,9,   -999.0,  -999.00,9,   0.1964,2,   0.1468,2,   0.0900,2,   0.0720,2,   0.0329,2,   0.0099,2,   0.0019,2,   0.0141,3,   0.0127,3,  11.2403,  11.2788,2
  33RR20070322,  I09N,   176,  1,     27,     27,2,20070421,0136,  9.9532,  85.6573, 3535, 403.4000,    403.4,  10.8559,  35.0448,2,  35.0437,2,     11.2,2,     11.7,2,    39.98,2,    34.64,2,     0.00,2,     2.48,2,    0.326,2,    0.184,2, -999.000,5,   2270.2,2,   2321.1,2,   7.4602,2,    25.00,   -999.0,9,  -999.00,9, -999.000,9, -999.000,-999.0000,9,-999.0000,  -999.00,9,  -999.00, -999.000,9, -999.000,   -999.0,9,   -999.0,  -999.00,9,   0.1976,2,   0.1476,2,   0.0911,2,   0.0729,2,   0.0332,2,   0.0099,2,   0.0020,2,   0.0141,3,   0.0126,3,  10.8061,  10.4507,2
  33RR20070322,  I09N,   176,  1,     26,     26,2,20070421,0136,  9.9532,  85.6573, 3535, 453.4000,    453.4,  10.4497,  35.0423,2,  35.0413,2,     14.2,2,     12.9,2,    43.17,2,    35.12,2,     0.00,2,     2.52,2,    0.260,2,    0.146,2, -999.000,5,   2273.9,2,   2321.8,2,   7.4471,2,    25.00,   -999.0,9,  -999.00,9, -999.000,9, -999.000,-999.0000,9,-999.0000,  -999.00,9,  -999.00, -999.000,9, -999.000,   -999.0,9,   -999.0,  -999.00,9,   0.1982,2,   0.1481,2,   0.0911,2,   0.0726,2,   0.0334,2,   0.0101,2,   0.0020,2,   0.0141,3,   0.0127,3,  10.3949,  10.4507,2
  33RR20070322,  I09N,   176,  1,     25,     25,2,20070421,0136,  9.9532,  85.6573, 3535, 503.4000,    503.4,  10.0334,  35.0282,2,  35.0230,2,     18.3,2,     18.4,2,    47.37,2,    35.26,2,     0.00,2,     2.54,2,    0.224,2,    0.129,2, -999.000,5,   2275.3,2,   2325.9,2,   7.4506,2,    25.00,   -999.0,9,  -999.00,9, -999.000,9, -999.000,-999.0000,9,-999.0000,  -999.00,9,  -999.00, -999.000,9, -999.000,   -999.0,9,   -999.0,  -999.00,9,   0.1953,2,   0.1453,2,   0.0884,2,   0.0698,2,   0.0317,2,   0.0094,2,   0.0017,2,   0.0141,3,   0.0129,3,   9.9739,  10.0379,2
  33RR20070322,  I09N,   176,  1,     24,     24,2,20070421,0136,  9.9532,  85.6573, 3535, 603.5000,    603.5,   9.3989,  35.0207,2,  35.0217,2,     19.4,2,     18.2,2,    53.77,2,    36.09,2,     0.00,2,     2.63,2,    0.128,2,    0.074,2, -999.000,5,   2282.7,2,   2332.3,2,   7.4576,2,    25.00,   -999.0,9,  -999.00,9, -999.000,9, -999.000,-999.0000,9,-999.0000,  -999.00,9,  -999.00, -999.000,9, -999.000,   -999.0,9,   -999.0,  -999.00,9,   0.1981,2,   0.1478,2,   0.0901,2,   0.0708,2,   0.0324,2,   0.0097,2,   0.0017,2,   0.0142,3,   0.0129,3,   9.3300,   9.4010,2
  33RR20070322,  I09N,   176,  1,     23,     23,2,20070421,0136,  9.9532,  85.6573, 3535, 703.8000,    703.8,   8.7125,  34.9951,2,  34.9933,2,     27.5,2,     26.8,2,    61.19,2,    36.23,2,     0.00,2,     2.65,2,    0.106,2,    0.061,2, -999.000,5,   2289.4,2,   2340.6,2,   7.4585,2,    25.00,   -999.0,9,  -999.00,9, -999.000,9, -999.000,-999.0000,9,-999.0000,  -999.00,9,  -999.00, -999.000,9, -999.000,   -999.0,9,   -999.0,  -999.00,9,   0.2002,2,   0.1490,2,   0.0908,2,   0.0713,2,   0.0334,2,   0.0107,2,   0.0024,2,   0.0140,3,   0.0128,3,   8.6353,   8.7134,2
  33RR20070322,  I09N,   176,  1,     22,     22,2,20070421,0136,  9.9532,  85.6573, 3535, 804.7000,    804.7,   8.0715,  34.9843,2,  34.9833,2,     27.9,2,     26.6,2,    68.40,2,    37.11,2,     0.00,2,     2.73,2,    0.047,2,    0.028,2, -999.000,5,   2297.9,2,   2347.6,2,   7.4495,2,    25.00,   -999.0,9,  -999.00,9, -999.000,9, -999.000,-999.0000,9,-999.0000,  -999.00,9,  -999.00, -999.000,9, -999.000,   -999.0,9,   -999.0,  -999.00,9,   0.1980,2,   0.1471,2,   0.0890,2,   0.0690,2,   0.0316,2,   0.0095,2,   0.0016,2,   0.0142,3,   0.0130,3,   7.9865,   8.0711,2
  33RR20070322,  I09N,   176,  1,     21,     21,2,20070421,0136,  9.9532,  85.6573, 3535, 904.0000,    904.0,   7.4859,  34.9647,2,  34.9644,2,     32.4,2,     32.4,2,    74.84,2,    37.35,2,     0.00,2,     2.76,2,    0.028,2,    0.017,2, -999.000,5,   2304.5,2,   2355.0,2,   7.4518,2,    25.00,   -999.0,9,  -999.00,9, -999.000,9, -999.000,-999.0000,9,-999.0000,  -999.00,9,  -999.00, -999.000,9, -999.000,   -999.0,9,   -999.0,  -999.00,9,   0.2005,2,   0.1485,2,   0.0896,2,   0.0691,2,   0.0319,2,   0.0094,2,   0.0016,2,   0.0142,3,   0.0131,3,   7.3937,   7.4886,2
  33RR20070322,  I09N,   176,  1,     20,     20,2,20070421,0136,  9.9532,  85.6573, 3535,1005.2000,   1005.2,   6.9055,  34.9427,2,  34.9416,2,     40.3,2,     40.6,2,    81.88,2,    37.44,2,     0.00,2,     2.76,2,    0.021,2,    0.012,2, -999.000,5,   2306.6,2,   2378.9,3,   7.4615,2,    25.00,   -999.0,9,  -999.00,9, -999.000,9, -999.000,-999.0000,9,-999.0000,  -999.00,9,  -999.00, -999.000,9, -999.000,   -999.0,9,   -999.0,  -999.00,9,   0.1995,2,   0.1480,2,   0.0892,2,   0.0685,2,   0.0320,2,   0.0095,2,   0.0016,2,   0.0142,3,   0.0131,3,   6.8067,   6.9081,2
  33RR20070322,  I09N,   176,  1,     19,     19,4,20070421,0136,  9.9532,  85.6573, 3535,1105.4000,   1105.4,   6.3792,  34.9247,2,  34.9042,4,     47.2,2,     55.4,4,    92.77,4,    37.29,4,     0.00,4,     2.75,4,    0.016,2,    0.008,2, -999.000,5,   2315.8,2,   2362.5,3,   7.4702,2,    25.00,   -999.0,9,  -999.00,9, -999.000,9, -999.000,-999.0000,9,-999.0000,  -999.00,9,  -999.00, -999.000,9, -999.000,   -999.0,9,   -999.0,  -999.00,9,   0.1958,2,   0.1442,2,   0.0855,2,   0.0644,2,   0.0292,2,   0.0084,2,   0.0012,2,   0.0143,3,   0.0135,3,   6.2741,   6.3807,2
  33RR20070322,  I09N,   176,  1,     18,     18,2,20070421,0136,  9.9532,  85.6573, 3535,1205.5000,   1205.5,   5.9054,  34.9043,2,  34.9040,2,     54.4,2,     54.3,2,    92.16,2,    37.43,2,     0.00,2,     2.76,2, -999.000,9, -999.000,9, -999.000,9,   2315.8,2,   2373.8,2,   7.4702,2,    25.00,   -999.0,9,  -999.00,9, -999.000,9, -999.000,-999.0000,9,-999.0000,  -999.00,9,  -999.00, -999.000,9, -999.000,   -999.0,9,   -999.0,  -999.00,9,   0.2021,2,   0.1498,2,   0.0903,2,   0.0691,2,   0.0326,2,   0.0096,2,   0.0018,2,   0.0143,3,   0.0131,3,   5.7942,   5.9076,2
  33RR20070322,  I09N,   176,  1,     17,     17,2,20070421,0136,  9.9532,  85.6573, 3535,1305.7000,   1305.7,   5.4269,  34.8842,2,  34.8829,2,     65.6,2,     65.9,2,    98.02,2,    37.03,2,     0.00,2,     2.72,2,    0.018,2,    0.011,2, -999.000,5,   2315.4,2,   2374.2,2,   7.4823,2,    25.00,   -999.0,9,  -999.00,9, -999.000,9, -999.000,-999.0000,9,-999.0000,  -999.00,9,  -999.00, -999.000,9, -999.000,   -999.0,9,   -999.0,  -999.00,9,   0.1975,2,   0.1460,2,   0.0875,2,   0.0669,2,   0.0311,2,   0.0091,2,   0.0015,2,   0.0142,3,   0.0132,3,   5.3103,   5.4263,2
  33RR20070322,  I09N,   176,  1,     16,     16,2,20070421,0136,  9.9532,  85.6573, 3535,1405.4000,   1405.4,   5.0181,  34.8701,2,  34.8692,2,     69.7,2,     69.9,2,   102.68,2,    37.07,2,     0.00,2,     2.73,2, -999.000,9, -999.000,9, -999.000,9,   2319.9,2,   2381.0,2,   7.4714,2,    25.00,   -999.0,9,  -999.00,9, -999.000,9, -999.000,-999.0000,9,-999.0000,  -999.00,9,  -999.00, -999.000,9, -999.000,   -999.0,9,   -999.0,  -999.00,9,   0.2005,2,   0.1481,2,   0.0884,2,   0.0674,2,   0.0316,2,   0.0094,2,   0.0017,2,   0.0142,3,   0.0133,3,   4.8959,   5.0185,2
  33RR20070322,  I09N,   176,  1,     15,     15,2,20070421,0136,  9.9532,  85.6573, 3535,1506.5000,   1506.5,   4.6628,  34.8574,2,  34.8554,2,     75.8,2,     75.5,2,   106.73,2,    37.12,2,     0.00,2,     2.73,2,    0.011,2,    0.007,2, -999.000,5,   2322.2,2,   2385.3,2,   7.4921,2,    25.00,   -999.0,9,  -999.00,9, -999.000,9, -999.000,-999.0000,9,-999.0000,  -999.00,9,  -999.00, -999.000,9, -999.000,   -999.0,9,   -999.0,  -999.00,9,   0.2048,2,   0.1523,2,   0.0921,2,   0.0707,2,   0.0338,2,   0.0103,2,   0.0021,2,   0.0142,3,   0.0130,3,   4.5348,   4.6620,2
  33RR20070322,  I09N,   176,  1,     14,     14,2,20070421,0136,  9.9532,  85.6573, 3535,1607.1000,   1607.1,   4.2122,  34.8401,2,  34.8389,2,     82.1,2,     82.6,2,   112.01,2,    37.11,2,     0.00,2,     2.71,2, -999.000,9, -999.000,9, -999.000,9,   2323.8,2,   2391.1,2,   7.4951,2,    25.00,   -999.0,9,  -999.00,9, -999.000,9, -999.000,-999.0000,9,-999.0000,  -999.00,9,  -999.00, -999.000,9, -999.000,   -999.0,9,   -999.0,  -999.00,9,   0.2025,2,   0.1499,2,   0.0900,2,   0.0690,2,   0.0324,2,   0.0095,2,   0.0017,2,   0.0143,3,   0.0132,3,   4.0799,   4.2127,2
  33RR20070322,  I09N,   176,  1,     13,     13,2,20070421,0136,  9.9532,  85.6573, 3535,1808.9000,   1808.9,   3.3323,  34.8051,2,  34.8041,2,    100.0,2,    101.4,2,   121.77,2,    36.57,2,     0.00,2,     2.66,2,    0.008,2,    0.005,2, -999.000,5,   2328.3,2,   2402.4,2,   7.5167,2,    25.00,   -999.0,9,  -999.00,9, -999.000,9, -999.000,-999.0000,9,-999.0000,  -999.00,9,  -999.00, -999.000,9, -999.000,   -999.0,9,   -999.0,  -999.00,9,   0.1958,2,   0.1441,2,   0.0849,2,   0.0631,2,   0.0286,2,   0.0080,2,   0.0010,2,   0.0144,3,   0.0137,3,   3.1928,   3.3350,2
  33RR20070322,  I09N,   176,  1,     12,     12,2,20070421,0136,  9.9532,  85.6573, 3535,1910.1000,   1910.1,   3.0298,  34.7918,2,  34.7911,2,    107.7,2,    108.2,2,   125.65,2,    36.28,2,     0.00,2,     2.64,2, -999.000,9, -999.000,9, -999.000,9,   2328.1,2,   2403.8,2,   7.5205,2,    25.00,   -999.0,9,  -999.00,9, -999.000,9, -999.000,-999.0000,9,-999.0000,  -999.00,9,  -999.00, -999.000,9, -999.000,   -999.0,9,   -999.0,  -999.00,9,   0.1957,2,   0.1439,2,   0.0850,2,   0.0637,2,   0.0291,2,   0.0084,2,   0.0013,2,   0.0143,3,   0.0136,3,   2.8854,   3.0292,2
  33RR20070322,  I09N,   176,  1,     11,     11,2,20070421,0136,  9.9532,  85.6573, 3535,2011.8000,   2011.8,   2.7872,  34.7812,2,  34.7813,2,    113.6,2,    113.4,2,   128.50,2,    36.12,2,     0.00,2,     2.62,2,    0.008,2,    0.005,2, -999.000,5,   2329.6,2,   2409.2,2,   7.5389,2,    25.00,   -999.0,9,  -999.00,9, -999.000,9, -999.000,-999.0000,9,-999.0000,  -999.00,9,  -999.00, -999.000,9, -999.000,   -999.0,9,   -999.0,  -999.00,9,   0.1922,2,   0.1402,2,   0.0809,2,   0.0596,2,   0.0264,2,   0.0073,2,   0.0009,2,   0.0144,3,   0.0140,3,   2.6373,   2.7890,2
  33RR20070322,  I09N,   176,  1,     10,     10,2,20070421,0136,  9.9532,  85.6573, 3535,2263.7000,   2263.7,   2.3847,  34.7630,2,  34.7632,2,    124.2,2,    123.8,2,   133.01,2,    35.87,2,     0.00,2,     2.58,2, -999.000,9, -999.000,9, -999.000,9,   2330.1,2,   2414.4,2,   7.5460,2,    25.00,   -999.0,9,  -999.00,9, -999.000,9, -999.000,-999.0000,9,-999.0000,  -999.00,9,  -999.00, -999.000,9, -999.000,   -999.0,9,   -999.0,  -999.00,9,   0.1922,2,   0.1409,2,   0.0807,2,   0.0591,2,   0.0259,2,   0.0072,2,   0.0009,2,   0.0145,3,   0.0141,3,   2.2186,   2.3845,2
  33RR20070322,  I09N,   176,  1,      9,      9,2,20070421,0136,  9.9532,  85.6573, 3535,2516.4000,   2516.4,   2.0918,  34.7501,2,  34.7463,3,    130.8,2,    130.0,2,   137.73,2,    35.62,2,     0.00,2,     2.55,2,    0.011,2,    0.006,2, -999.000,5,   2333.4,2,   2420.8,2,   7.5519,2,    25.00,   -999.0,9,  -999.00,9, -999.000,9, -999.000,-999.0000,9,-999.0000,  -999.00,9,  -999.00, -999.000,9, -999.000,   -999.0,9,   -999.0,  -999.00,9,   0.1942,2,   0.1422,2,   0.0816,2,   0.0590,2,   0.0259,2,   0.0073,2,   0.0009,2,   0.0146,3,   0.0142,3,   1.9079,   2.0914,2
  33RR20070322,  I09N,   176,  1,      8,      8,2,20070421,0136,  9.9532,  85.6573, 3535,2767.9000,   2767.9,   1.8700,  34.7408,2,  34.7402,2,    137.6,2,    137.8,2,   140.60,2,    35.37,2,     0.00,2,     2.52,2, -999.000,9, -999.000,9, -999.000,9,   2331.9,2,   2422.8,2,   7.5626,2,    25.00,   -999.0,9,  -999.00,9, -999.000,9, -999.000,-999.0000,9,-999.0000,  -999.00,9,  -999.00, -999.000,9, -999.000,   -999.0,9,   -999.0,  -999.00,9,   0.1947,2,   0.1425,2,   0.0820,2,   0.0596,2,   0.0264,2,   0.0077,2,   0.0010,2,   0.0145,3,   0.0142,3,   1.6670,   1.8702,2
  33RR20070322,  I09N,   176,  1,      7,      7,2,20070421,0136,  9.9532,  85.6573, 3535,3071.5000,   3071.5,   1.6751,  34.7326,2,  34.7333,2,    144.7,2,    145.6,2,   142.44,2,    35.08,2,     0.00,2,     2.48,2,    0.009,2,    0.007,2, -999.000,5,   2331.6,2,   2430.9,2,   7.5696,2,    25.00,   -999.0,9,  -999.00,9, -999.000,9, -999.000,-999.0000,9,-999.0000,  -999.00,9,  -999.00, -999.000,9, -999.000,   -999.0,9,   -999.0,  -999.00,9,   0.1930,2,   0.1414,2,   0.0827,2,   0.0603,2,   0.0267,2,   0.0079,2,   0.0012,2,   0.0144,3,   0.0139,3,   1.4472,   1.6752,2
  33RR20070322,  I09N,   176,  1,      6,      6,2,20070421,0136,  9.9532,  85.6573, 3535,3376.4000,   3376.4,   1.5064,  34.7257,2,  34.7254,2,    155.7,2,    156.9,2,   140.80,2,    34.68,2,     0.00,2,     2.42,2, -999.000,9, -999.000,9, -999.000,9,   2323.7,2,   2434.0,2,   7.5910,2,    25.00,   -999.0,9,  -999.00,9, -999.000,9, -999.000,-999.0000,9,-999.0000,  -999.00,9,  -999.00, -999.000,9, -999.000,   -999.0,9,   -999.0,  -999.00,9,   0.1746,2,   0.1265,2,   0.0728,2,   0.0535,2,   0.0224,2,   0.0060,2,   0.0003,3,   0.0143,3,   0.0142,3,   1.2523,   1.5065,2
  33RR20070322,  I09N,   176,  1,      5,      5,2,20070421,0136,  9.9532,  85.6573, 3535,3446.3000,   3446.3,   1.4779,  34.7247,2,  34.7249,2,    156.2,2,    156.8,2,   142.85,2,    34.76,2,     0.00,2,     2.42,2,    0.014,2,    0.008,2, -999.000,5,   2327.6,2,   2428.2,2,   7.5996,2,    25.00,   -999.0,9,  -999.00,9, -999.000,9, -999.000,-999.0000,9,-999.0000,  -999.00,9,  -999.00, -999.000,9, -999.000,   -999.0,9,   -999.0,  -999.00,9,   0.1792,2,   0.1304,2,   0.0746,2,   0.0546,2,   0.0231,2,   0.0062,2,   0.0004,3,   0.0144,3,   0.0142,3,   1.2175,   1.4775,2