BOTTLE,20150630SIOCCHRJL
EXPOCODE,SECT_ID,STNNBR,CASTNO,SAMPNO,BTLNBR,BTLNBR_FLAG_W,DATE,TIME,LATITUDE,LONGITUDE,DEPTH,CTDRAW,CTDPRS,CTDTMP,CTDSAL,CTDSAL_FLAG_W,SALNTY,SALNTY_FLAG_W,CTDOXY,CTDOXY_FLAG_W,OXYGEN,OXYGEN_FLAG_W,SILCAT,SILCAT_FLAG_W,NITRAT,NITRAT_FLAG_W,NITRIT,NITRIT_FLAG_W,PHSPHT,PHSPHT_FLAG_W,CFC-11,CFC-11_FLAG_W,CFC-12,CFC-12_FLAG_W,CFC113,CFC113_FLAG_W,TCARBN,TCARBN_FLAG_W,ALKALI,ALKALI_FLAG_W,PH_SWS,PH_SWS_FLAG_W,PH_TMP,DOC,DOC_FLAG_W,TDN,TDN_FLAG_W,TRITUM,TRITUM_FLAG_W,TRITER,HELIUM,HELIUM_FLAG_W,HELIER,DELHE3,DELHE3_FLAG_W,DELHER,NEON,NEON_FLAG_W,NEONER,DELC14,DELC14_FLAG_W,C14ERR,DELC13,DELC13_FLAG_W,CDOM325,CDOM325_FLAG_W,CDOM340,CDOM340_FLAG_W,CDOM380,CDOM380_FLAG_W,CDOM412,CDOM412_FLAG_W,CDOM443,CDOM443_FLAG_W,CDOM490,CDOM490_FLAG_W,CDOM555,CDOM555_FLAG_W,CDOMSL,CDOMSL_FLAG_W,CDOMSN,CDOMSN_FLAG_W,THETA,SBE35,SBE35_FLAG_W
,,,,,,,,,,,METERS,,DBAR,ITS-90,PSS-78,,PSS-78,,UMOL/KG,,UMOL/KG,,UMOL/KG,,UMOL/KG,,UMOL/KG,,UMOL/KG,,PMOL/KG,,PMOL/KG,,PMOL/KG,,UMOL/KG,,UMOL/KG,,,,DEG C,UMOL/KG,,UMOL/KG,,TU,,TU,NMOL/KG,,NMOL/KG,PERCNT,,PERCNT,NMOL/KG,,NMOL/KG,/MILLE,,/MILLE,/MILLE,,1/M,,1/M,,1/M,,1/M,,1/M,,1/M,,1/M,,1/NM,,1/NM,,DEG C,ITS-90,
  33RR20070322,  I09N,   197,  2,     36,     38,2,20070426,1601, 17.0002,  89.8507, 2358,   2.8000,      2.8,  29.9829,  32.6325,2,  32.6352,2,    197.4,2,    197.3,2,     2.04,2,     0.00,2,     0.00,2,     0.02,2,    1.533,2,    0.995,2, -999.000,5,   1879.7,6,   2190.5,6,   8.0985,6,    25.00,     77.8,2,  -999.00,9, -999.000,9, -999.000,-999.0000,9,-999.0000,  -999.00,9,  -999.00, -999.000,9, -999.000,   -999.0,9,   -999.0,  -999.00,9,-999.0000,9,-999.0000,9,-999.0000,9,-999.0000,9,-999.0000,9,-999.0000,9,-999.0000,9,-999.0000,9,-999.0000,9,  29.9822,  29.9779,2
  33RR20070322,  I09N,   197,  2,     35,     35,2,20070426,1601, 17.0002,  89.8507, 2358,  18.2000,     18.2,  29.5015,  32.5776,2,  32.5815,2,    199.0,2,    198.4,2,     2.04,2,     0.00,2,     0.00,2,     0.01,2,    1.540,2,    1.001,2, -999.000,5,   1875.2,2,   2187.9,2,   8.1060,2,    25.00,     77.2,2,  -999.00,9, -999.000,9, -999.000,-999.0000,9,-999.0000,  -999.00,9,  -999.00, -999.000,9, -999.000,   -999.0,9,   -999.0,  -999.00,9,-999.0000,9,-999.0000,9,-999.0000,9,-999.0000,9,-999.0000,9,-999.0000,9,-999.0000,9,-999.0000,9,-999.0000,9,  29.4971,  29.4943,2
  33RR20070322,  I09N,   197,  2,     34,   9419,2,20070426,1601, 17.0002,  89.8507, 2358,  43.3000,     43.3,  28.1675,  33.6408,2,  33.6614,2,    204.9,2,    206.3,2,     1.28,2,     0.00,2,     0.00,2,     0.03,2,    1.593,2,    1.025,2, -999.000,5,   1905.2,2,   2225.3,2,   8.0960,2,    25.00,     73.9,2,  -999.00,9, -999.000,9, -999.000,-999.0000,9,-999.0000,  -999.00,9,  -999.00, -999.000,9, -999.000,   -999.0,9,   -999.0,  -999.00,9,-999.0000,9,-999.0000,9,-999.0000,9,-999.0000,9,-999.0000,9,-999.0000,9,-999.0000,9,-999.0000,9,-999.0000,9,  28.1573,  28.1822,2
  33RR20070322,  I09N,   197,  2,     33,     33,2,20070426,1601, 17.0002,  89.8507, 2358,  53.4000,     53.4,  27.5276,  33.9309,2,  33.9618,2,    194.0,2,    183.6,2,     1.66,2,     0.25,2,     0.03,2,     0.13,2,    1.538,2,    1.003,2, -999.000,5,   1941.8,2,   2238.9,2,   8.0743,2,    25.00,     73.1,2,  -999.00,9, -999.000,9, -999.000,-999.0000,9,-999.0000,  -999.00,9,  -999.00, -999.000,9, -999.000,   -999.0,9,   -999.0,  -999.00,9,-999.0000,9,-999.0000,9,-999.0000,9,-999.0000,9,-999.0000,9,-999.0000,9,-999.0000,9,-999.0000,9,-999.0000,9,  27.5152,  27.4771,2
  33RR20070322,  I09N,   197,  2,     32,     37,2,20070426,1601, 17.0002,  89.8507, 2358,  87.9000,     87.9,  20.5420,  34.8554,2,  34.8513,2,     11.2,2,      5.2,2,    19.33,2,    24.67,2,     0.03,2,     1.91,2,    1.072,2,    0.673,2, -999.000,5,   2173.8,2,   2281.9,2,   7.6233,2,    25.00,     56.8,2,  -999.00,9, -999.000,9, -999.000,-999.0000,9,-999.0000,  -999.00,9,  -999.00, -999.000,9, -999.000,   -999.0,9,   -999.0,  -999.00,9,-999.0000,9,-999.0000,9,-999.0000,9,-999.0000,9,-999.0000,9,-999.0000,9,-999.0000,9,-999.0000,9,-999.0000,9,  20.5255,  20.5254,2
  33RR20070322,  I09N,   197,  2,     31,     31,2,20070426,1601, 17.0002,  89.8507, 2358, 103.1000,    103.1,  18.7941,  34.8882,2,  34.8893,2,      7.5,2,      4.5,2,    22.40,2,    26.59,2,     0.02,2,     2.02,2,    0.955,2,    0.599,2, -999.000,5,   2191.3,2,   2287.8,2,   7.5862,2,    25.00,     55.3,2,  -999.00,9, -999.000,9, -999.000,-999.0000,9,-999.0000,  -999.00,9,  -999.00, -999.000,9, -999.000,   -999.0,9,   -999.0,  -999.00,9,-999.0000,9,-999.0000,9,-999.0000,9,-999.0000,9,-999.0000,9,-999.0000,9,-999.0000,9,-999.0000,9,-999.0000,9,  18.7759,  18.7991,2
  33RR20070322,  I09N,   197,  2,     30,     30,2,20070426,1601, 17.0002,  89.8507, 2358, 137.9000,    137.9,  15.6135,  34.9367,2,  34.9387,2,      3.7,2,      2.7,2,    29.52,2,    29.21,2,     0.00,2,     2.24,2,    0.654,2,    0.399,2, -999.000,5,   2228.6,2,   2299.3,2,   7.5318,2,    25.00,     53.9,2,  -999.00,9, -999.000,9, -999.000,-999.0000,9,-999.0000,  -999.00,9,  -999.00, -999.000,9, -999.000,   -999.0,9,   -999.0,  -999.00,9,-999.0000,9,-999.0000,9,-999.0000,9,-999.0000,9,-999.0000,9,-999.0000,9,-999.0000,9,-999.0000,9,-999.0000,9,  15.5921,  15.6498,2
  33RR20070322,  I09N,   197,  2,     29,     29,2,20070426,1601, 17.0002,  89.8507, 2358, 163.5000,    163.5,  14.0040,  34.9709,2,  34.9715,2,      2.8,2,      2.0,2,    32.59,2,    30.90,2,     0.00,2,     2.33,2,    0.504,2,    0.306,2, -999.000,5,   2243.0,2,   2305.8,2,   7.5098,2,    25.00,     52.2,2,  -999.00,9, -999.000,9, -999.000,-999.0000,9,-999.0000,  -999.00,9,  -999.00, -999.000,9, -999.000,   -999.0,9,   -999.0,  -999.00,9,-999.0000,9,-999.0000,9,-999.0000,9,-999.0000,9,-999.0000,9,-999.0000,9,-999.0000,9,-999.0000,9,-999.0000,9,  13.9804,  13.9234,2
  33RR20070322,  I09N,   197,  2,     28,     28,2,20070426,1601, 17.0002,  89.8507, 2358, 187.3000,    187.3,  12.9710,  34.9993,2,  34.9983,2,      2.8,2,      3.0,2,    34.52,2,    32.12,2,     0.00,2,     2.39,2,    0.425,2,    0.253,2, -999.000,5,   2254.0,6,   2309.8,6,   7.4806,2,    25.00,     51.1,2,  -999.00,9, -999.000,9, -999.000,-999.0000,9,-999.0000,  -999.00,9,  -999.00, -999.000,9, -999.000,   -999.0,9,   -999.0,  -999.00,9,-999.0000,9,-999.0000,9,-999.0000,9,-999.0000,9,-999.0000,9,-999.0000,9,-999.0000,9,-999.0000,9,-999.0000,9,  12.9453,  13.0212,2
  33RR20070322,  I09N,   197,  2,     27,     27,2,20070426,1601, 17.0002,  89.8507, 2358, 237.8000,    237.8,  11.8868,  35.0206,2,  35.0205,2,      2.7,2,      2.8,2,    37.60,2,    33.44,2,     0.00,2,     2.45,2,    0.311,2,    0.185,2, -999.000,5,   2265.0,2,   2314.8,2,   7.4516,2,    25.00,     49.4,2,  -999.00,9, -999.000,9, -999.000,-999.0000,9,-999.0000,  -999.00,9,  -999.00, -999.000,9, -999.000,   -999.0,9,   -999.0,  -999.00,9,-999.0000,9,-999.0000,9,-999.0000,9,-999.0000,9,-999.0000,9,-999.0000,9,-999.0000,9,-999.0000,9,-999.0000,9,  11.8559,  11.8745,2
  33RR20070322,  I09N,   197,  2,     26,     26,2,20070426,1601, 17.0002,  89.8507, 2358, 287.6000,    287.6,  11.2870,  35.0255,2,  35.0241,2,      8.2,2,      6.9,2,    39.53,2,    33.91,2,     0.00,2,     2.46,2,    0.309,2,    0.181,2, -999.000,5,   2267.8,2,   2316.7,2,   7.4392,2,    25.00,     48.9,2,  -999.00,9, -999.000,9, -999.000,-999.0000,9,-999.0000,  -999.00,9,  -999.00, -999.000,9, -999.000,   -999.0,9,   -999.0,  -999.00,9,-999.0000,9,-999.0000,9,-999.0000,9,-999.0000,9,-999.0000,9,-999.0000,9,-999.0000,9,-999.0000,9,-999.0000,9,  11.2508,  11.2775,2
  33RR20070322,  I09N,   197,  2,     25,     25,2,20070426,1601, 17.0002,  89.8507, 2358, 337.9000,    337.9,  10.8752,  35.0278,2,  35.0255,2,      7.2,2,      6.1,2,    42.03,2,    34.57,2,     0.00,2,     2.51,2, -999.000,9, -999.000,9, -999.000,9,   -999.0,9,   -999.0,9,-999.0000,9,  -999.00,     48.2,2,  -999.00,9, -999.000,9, -999.000,-999.0000,9,-999.0000,  -999.00,9,  -999.00, -999.000,9, -999.000,   -999.0,9,   -999.0,  -999.00,9,-999.0000,9,-999.0000,9,-999.0000,9,-999.0000,9,-999.0000,9,-999.0000,9,-999.0000,9,-999.0000,9,-999.0000,9,  10.8336,  10.8784,2
  33RR20070322,  I09N,   197,  2,     24,     24,2,20070426,1601, 17.0002,  89.8507, 2358, 387.6000,    387.6,  10.4261,  35.0290,2,  35.0282,2,      3.7,2,      4.0,2,    45.31,2,    35.42,2,     0.00,2,     2.58,2,    0.166,2,    0.099,2, -999.000,5,   2282.7,2,   2322.6,2,   7.4330,2,    25.00,     47.5,2,  -999.00,9, -999.000,9, -999.000,-999.0000,9,-999.0000,  -999.00,9,  -999.00, -999.000,9, -999.000,   -999.0,9,   -999.0,  -999.00,9,-999.0000,9,-999.0000,9,-999.0000,9,-999.0000,9,-999.0000,9,-999.0000,9,-999.0000,9,-999.0000,9,-999.0000,9,  10.3795,  10.4278,2
  33RR20070322,  I09N,   197,  2,     23,     23,2,20070426,1601, 17.0002,  89.8507, 2358, 437.5000,    437.5,  10.1524,  35.0263,2,  35.0247,2,      3.1,2,      3.5,2,    47.81,2,    35.85,2,     0.00,2,     2.62,2, -999.000,9, -999.000,9, -999.000,9,   -999.0,9,   -999.0,9,-999.0000,9,  -999.00,     46.5,2,  -999.00,9, -999.000,9, -999.000,-999.0000,9,-999.0000,  -999.00,9,  -999.00, -999.000,9, -999.000,   -999.0,9,   -999.0,  -999.00,9,-999.0000,9,-999.0000,9,-999.0000,9,-999.0000,9,-999.0000,9,-999.0000,9,-999.0000,9,-999.0000,9,-999.0000,9,  10.1005,  10.1514,2
  33RR20070322,  I09N,   197,  2,     22,     22,2,20070426,1601, 17.0002,  89.8507, 2358, 487.8000,    487.8,   9.7885,  35.0214,2,  35.0203,2,      4.2,2,      5.1,2,    50.90,2,    36.22,2,     0.00,2,     2.65,2,    0.101,2,    0.063,2, -999.000,5,   2289.2,2,   2328.5,2,   7.4267,2,    25.00,     45.6,2,  -999.00,9, -999.000,9, -999.000,-999.0000,9,-999.0000,  -999.00,9,  -999.00, -999.000,9, -999.000,   -999.0,9,   -999.0,  -999.00,9,-999.0000,9,-999.0000,9,-999.0000,9,-999.0000,9,-999.0000,9,-999.0000,9,-999.0000,9,-999.0000,9,-999.0000,9,   9.7318,   9.7916,2
  33RR20070322,  I09N,   197,  2,     21,     21,2,20070426,1601, 17.0002,  89.8507, 2358, 572.9000,    572.9,   9.2114,  35.0100,2,  35.0095,2,      7.4,2,      7.8,2,    57.08,2,    36.83,2,     0.00,2,     2.70,2,    0.055,2,    0.036,2, -999.000,5,   2295.9,2,   2334.8,2,   7.4236,2,    25.00,     45.2,2,  -999.00,9, -999.000,9, -999.000,-999.0000,9,-999.0000,  -999.00,9,  -999.00, -999.000,9, -999.000,   -999.0,9,   -999.0,  -999.00,9,-999.0000,9,-999.0000,9,-999.0000,9,-999.0000,9,-999.0000,9,-999.0000,9,-999.0000,9,-999.0000,9,-999.0000,9,   9.1469,   9.2087,2
  33RR20070322,  I09N,   197,  2,     20,     20,2,20070426,1601, 17.0002,  89.8507, 2358, 672.6000,    672.6,   8.5268,  34.9927,2,  34.9922,2,     14.2,2,     14.3,2,    63.27,2,    37.17,2,     0.00,2,     2.74,2, -999.000,9, -999.000,9, -999.000,9,   2301.6,2,   2342.5,2,   7.4299,2,    25.00,     44.4,2,  -999.00,9, -999.000,9, -999.000,-999.0000,9,-999.0000,  -999.00,9,  -999.00, -999.000,9, -999.000,   -999.0,9,   -999.0,  -999.00,9,-999.0000,9,-999.0000,9,-999.0000,9,-999.0000,9,-999.0000,9,-999.0000,9,-999.0000,9,-999.0000,9,-999.0000,9,   8.4540,   8.5275,2
  33RR20070322,  I09N,   197,  2,     19,     19,2,20070426,1601, 17.0002,  89.8507, 2358, 773.5000,    773.5,   7.8595,  34.9729,2,  34.9723,2,     21.2,2,     20.7,2,    71.01,2,    37.40,2,     0.00,2,     2.78,2,    0.022,2,    0.015,2, -999.000,5,   2307.6,2,   2348.7,2,   7.4402,2,    25.00,     43.5,2,  -999.00,9, -999.000,9, -999.000,-999.0000,9,-999.0000,  -999.00,9,  -999.00, -999.000,9, -999.000,   -999.0,9,   -999.0,  -999.00,9,-999.0000,9,-999.0000,9,-999.0000,9,-999.0000,9,-999.0000,9,-999.0000,9,-999.0000,9,-999.0000,9,-999.0000,9,   7.7791,   7.8617,2
  33RR20070322,  I09N,   197,  2,     18,     18,2,20070426,1601, 17.0002,  89.8507, 2358, 873.8000,    873.8,   7.2063,  34.9513,2,  34.9505,2,     29.2,2,     29.7,2,    78.19,2,    37.54,2,     0.00,2,     2.79,2, -999.000,9, -999.000,9, -999.000,9,   2312.9,2,   2356.4,2,   7.4477,2,    25.00,     43.1,2,  -999.00,9, -999.000,9, -999.000,-999.0000,9,-999.0000,  -999.00,9,  -999.00, -999.000,9, -999.000,   -999.0,9,   -999.0,  -999.00,9,-999.0000,9,-999.0000,9,-999.0000,9,-999.0000,9,-999.0000,9,-999.0000,9,-999.0000,9,-999.0000,9,-999.0000,9,   7.1192,   7.2086,2
  33RR20070322,  I09N,   197,  2,     17,     17,2,20070426,1601, 17.0002,  89.8507, 2358, 974.4000,    974.4,   6.6678,  34.9322,2,  34.9324,2,     37.3,2,     36.8,2,    84.22,2,    37.54,2,     0.00,2,     2.79,2,    0.013,2,    0.008,2, -999.000,5,   2316.4,2,   2361.9,2,   7.4678,2,    25.00,     42.1,2,  -999.00,9, -999.000,9, -999.000,-999.0000,9,-999.0000,  -999.00,9,  -999.00, -999.000,9, -999.000,   -999.0,9,   -999.0,  -999.00,9,-999.0000,9,-999.0000,9,-999.0000,9,-999.0000,9,-999.0000,9,-999.0000,9,-999.0000,9,-999.0000,9,-999.0000,9,   6.5739,   6.6671,2
  33RR20070322,  I09N,   197,  2,     16,     16,2,20070426,1601, 17.0002,  89.8507, 2358,1075.0000,   1075.0,   6.1996,  34.9151,2,  34.9147,2,     45.3,2,     45.5,2,    88.88,2,    37.44,2,     0.00,2,     2.78,2, -999.000,9, -999.000,9, -999.000,9,   2319.0,2,   2367.2,2,   7.4666,2,    25.00,     41.6,2,  -999.00,9, -999.000,9, -999.000,-999.0000,9,-999.0000,  -999.00,9,  -999.00, -999.000,9, -999.000,   -999.0,9,   -999.0,  -999.00,9,-999.0000,9,-999.0000,9,-999.0000,9,-999.0000,9,-999.0000,9,-999.0000,9,-999.0000,9,-999.0000,9,-999.0000,9,   6.0991,   6.1911,2
  33RR20070322,  I09N,   197,  2,     15,     15,2,20070426,1601, 17.0002,  89.8507, 2358,1174.8000,   1174.8,   5.7887,  34.8992,2,  34.8990,2,     52.8,2,     52.2,2,    93.56,2,    37.30,2,     0.00,2,     2.77,2,    0.008,2,    0.006,2, -999.000,5,   2321.1,2,   2372.4,2,   7.4582,2,    25.00,     41.2,2,  -999.00,9, -999.000,9, -999.000,-999.0000,9,-999.0000,  -999.00,9,  -999.00, -999.000,9, -999.000,   -999.0,9,   -999.0,  -999.00,9,-999.0000,9,-999.0000,9,-999.0000,9,-999.0000,9,-999.0000,9,-999.0000,9,-999.0000,9,-999.0000,9,-999.0000,9,   5.6817,   5.7901,2
  33RR20070322,  I09N,   197,  2,     14,     14,2,20070426,1601, 17.0002,  89.8507, 2358,1275.3000,   1275.3,   5.4191,  34.8852,2,  34.8838,2,     59.7,2,     59.5,2,    97.85,2,    37.24,2,     0.00,2,     2.75,2, -999.000,9, -999.000,9, -999.000,9,   2323.7,2,   2377.6,2,   7.4732,2,    25.00,     40.5,2,  -999.00,9, -999.000,9, -999.000,-999.0000,9,-999.0000,  -999.00,9,  -999.00, -999.000,9, -999.000,   -999.0,9,   -999.0,  -999.00,9,-999.0000,9,-999.0000,9,-999.0000,9,-999.0000,9,-999.0000,9,-999.0000,9,-999.0000,9,-999.0000,9,-999.0000,9,   5.3056,   5.4111,2
  33RR20070322,  I09N,   197,  2,     13,     13,2,20070426,1601, 17.0002,  89.8507, 2358,1375.8000,   1375.8,   5.0614,  34.8715,2,  34.8724,2,     65.2,2,     64.4,2,   101.97,2,    37.14,2,     0.00,2,     2.75,2,    0.005,2,    0.005,2, -999.000,5,   2327.0,2,   2380.2,2,   7.4769,2,    25.00,     41.0,2,  -999.00,9, -999.000,9, -999.000,-999.0000,9,-999.0000,  -999.00,9,  -999.00, -999.000,9, -999.000,   -999.0,9,   -999.0,  -999.00,9,-999.0000,9,-999.0000,9,-999.0000,9,-999.0000,9,-999.0000,9,-999.0000,9,-999.0000,9,-999.0000,9,-999.0000,9,   4.9416,   5.0673,2
  33RR20070322,  I09N,   197,  2,     12,     12,2,20070426,1601, 17.0002,  89.8507, 2358,1475.6000,   1475.6,   4.6430,  34.8561,2,  34.8561,2,     71.7,2,     72.1,2,   106.66,2,    37.00,2,     0.00,2,     2.73,2, -999.000,9, -999.000,9, -999.000,9,   2330.6,2,   2385.7,2,   7.4820,3,    25.00,     40.6,2,  -999.00,9, -999.000,9, -999.000,-999.0000,9,-999.0000,  -999.00,9,  -999.00, -999.000,9, -999.000,   -999.0,9,   -999.0,  -999.00,9,-999.0000,9,-999.0000,9,-999.0000,9,-999.0000,9,-999.0000,9,-999.0000,9,-999.0000,9,-999.0000,9,-999.0000,9,   4.5181,   4.6387,2
  33RR20070322,  I09N,   197,  2,     11,     11,2,20070426,1601, 17.0002,  89.8507, 2358,1576.7000,   1576.7,   4.1998,  34.8386,2,  34.8402,2,     80.0,2,     79.8,2,   111.57,2,    36.85,2,     0.00,2,     2.71,2,    0.005,2,    0.006,2, -999.000,5,   2331.0,2,   2389.9,2,   7.5085,2,    25.00,     40.7,2,  -999.00,9, -999.000,9, -999.000,-999.0000,9,-999.0000,  -999.00,9,  -999.00, -999.000,9, -999.000,   -999.0,9,   -999.0,  -999.00,9,-999.0000,9,-999.0000,9,-999.0000,9,-999.0000,9,-999.0000,9,-999.0000,9,-999.0000,9,-999.0000,9,-999.0000,9,   4.0705,   4.1993,2
  33RR20070322,  I09N,   197,  2,     10,     10,2,20070426,1601, 17.0002,  89.8507, 2358,1678.1000,   1678.1,   3.7666,  34.8214,2,  34.8221,2,     88.3,2,     88.1,2,   117.07,2,    36.56,2,     0.00,2,     2.69,2, -999.000,9, -999.000,9, -999.000,9,   2332.9,2,   2396.8,2,   7.4963,2,    25.00,     40.9,2,  -999.00,9, -999.000,9, -999.000,-999.0000,9,-999.0000,  -999.00,9,  -999.00, -999.000,9, -999.000,   -999.0,9,   -999.0,  -999.00,9,-999.0000,9,-999.0000,9,-999.0000,9,-999.0000,9,-999.0000,9,-999.0000,9,-999.0000,9,-999.0000,9,-999.0000,9,   3.6333,   3.7668,2
  33RR20070322,  I09N,   197,  2,      9,      9,2,20070426,1601, 17.0002,  89.8507, 2358,1778.9000,   1778.9,   3.3646,  34.8045,2,  34.8019,2,     96.7,2,     97.1,2,   122.20,2,    36.36,2,     0.00,2,     2.66,2,    0.004,2,    0.004,2, -999.000,5,   2333.9,2,   2401.6,2,   7.5022,2,    25.00,     40.7,2,  -999.00,9, -999.000,9, -999.000,-999.0000,9,-999.0000,  -999.00,9,  -999.00, -999.000,9, -999.000,   -999.0,9,   -999.0,  -999.00,9,-999.0000,9,-999.0000,9,-999.0000,9,-999.0000,9,-999.0000,9,-999.0000,9,-999.0000,9,-999.0000,9,-999.0000,9,   3.2274,   3.3669,2
  33RR20070322,  I09N,   197,  2,      8,      8,2,20070426,1601, 17.0002,  89.8507, 2358,1878.5000,   1878.5,   3.0827,  34.7929,2,  34.7930,2,    103.2,2,    102.5,2,   124.96,2,    36.26,2,     0.00,2,     2.65,2, -999.000,9, -999.000,9, -999.000,9,   2335.7,2,   2406.4,2,   7.5161,2,    25.00,     40.3,2,  -999.00,9, -999.000,9, -999.000,-999.0000,9,-999.0000,  -999.00,9,  -999.00, -999.000,9, -999.000,   -999.0,9,   -999.0,  -999.00,9,-999.0000,9,-999.0000,9,-999.0000,9,-999.0000,9,-999.0000,9,-999.0000,9,-999.0000,9,-999.0000,9,-999.0000,9,   2.9404,   3.0844,2
  33RR20070322,  I09N,   197,  2,      7,      7,2,20070426,1601, 17.0002,  89.8507, 2358,1980.3000,   1980.3,   2.8323,  34.7818,2,  34.7824,2,    109.7,2,    109.5,2,   127.92,2,    35.98,2,     0.00,2,     2.62,2,    0.017,3,    0.005,2, -999.000,5,   2335.8,2,   2409.6,2,   7.5231,2,    25.00,     40.6,2,  -999.00,9, -999.000,9, -999.000,-999.0000,9,-999.0000,  -999.00,9,  -999.00, -999.000,9, -999.000,   -999.0,9,   -999.0,  -999.00,9,-999.0000,9,-999.0000,9,-999.0000,9,-999.0000,9,-999.0000,9,-999.0000,9,-999.0000,9,-999.0000,9,-999.0000,9,   2.6845,   2.8316,2
  33RR20070322,  I09N,   197,  2,      6,      6,2,20070426,1601, 17.0002,  89.8507, 2358,2181.8000,   2181.8,   2.4564,  34.7658,2,  34.7667,2,    119.1,2,    119.2,2,   133.47,2,    35.69,2,     0.00,2,     2.59,2, -999.000,9, -999.000,9, -999.000,9,   2337.1,2,   2413.7,2,   7.5550,2,    25.00,     40.6,2,  -999.00,9, -999.000,9, -999.000,-999.0000,9,-999.0000,  -999.00,9,  -999.00, -999.000,9, -999.000,   -999.0,9,   -999.0,  -999.00,9,-999.0000,9,-999.0000,9,-999.0000,9,-999.0000,9,-999.0000,9,-999.0000,9,-999.0000,9,-999.0000,9,-999.0000,9,   2.2965,   2.4549,2
  33RR20070322,  I09N,   197,  2,      5,      5,2,20070426,1601, 17.0002,  89.8507, 2358,2232.5000,   2232.5,   2.3761,  34.7623,2,  34.7628,2,    121.5,2,    121.6,2,   133.27,2,    35.54,2,     0.00,2,     2.57,2,    0.006,2,    0.005,2, -999.000,5,   -999.0,9,   -999.0,9,-999.0000,9,  -999.00,     40.9,2,  -999.00,9, -999.000,9, -999.000,-999.0000,9,-999.0000,  -999.00,9,  -999.00, -999.000,9, -999.000,   -999.0,9,   -999.0,  -999.00,9,-999.0000,9,-999.0000,9,-999.0000,9,-999.0000,9,-999.0000,9,-999.0000,9,-999.0000,9,-999.0000,9,-999.0000,9,   2.2129,   2.3731,2