BOTTLE,20150630SIOCCHRJL
EXPOCODE,SECT_ID,STNNBR,CASTNO,SAMPNO,BTLNBR,BTLNBR_FLAG_W,DATE,TIME,LATITUDE,LONGITUDE,DEPTH,CTDRAW,CTDPRS,CTDTMP,CTDSAL,CTDSAL_FLAG_W,SALNTY,SALNTY_FLAG_W,CTDOXY,CTDOXY_FLAG_W,OXYGEN,OXYGEN_FLAG_W,SILCAT,SILCAT_FLAG_W,NITRAT,NITRAT_FLAG_W,NITRIT,NITRIT_FLAG_W,PHSPHT,PHSPHT_FLAG_W,CFC-11,CFC-11_FLAG_W,CFC-12,CFC-12_FLAG_W,CFC113,CFC113_FLAG_W,TCARBN,TCARBN_FLAG_W,ALKALI,ALKALI_FLAG_W,PH_SWS,PH_SWS_FLAG_W,PH_TMP,DOC,DOC_FLAG_W,TDN,TDN_FLAG_W,TRITUM,TRITUM_FLAG_W,TRITER,HELIUM,HELIUM_FLAG_W,HELIER,DELHE3,DELHE3_FLAG_W,DELHER,NEON,NEON_FLAG_W,NEONER,DELC14,DELC14_FLAG_W,C14ERR,DELC13,DELC13_FLAG_W,CDOM325,CDOM325_FLAG_W,CDOM340,CDOM340_FLAG_W,CDOM380,CDOM380_FLAG_W,CDOM412,CDOM412_FLAG_W,CDOM443,CDOM443_FLAG_W,CDOM490,CDOM490_FLAG_W,CDOM555,CDOM555_FLAG_W,CDOMSL,CDOMSL_FLAG_W,CDOMSN,CDOMSN_FLAG_W,THETA,SBE35,SBE35_FLAG_W
,,,,,,,,,,,METERS,,DBAR,ITS-90,PSS-78,,PSS-78,,UMOL/KG,,UMOL/KG,,UMOL/KG,,UMOL/KG,,UMOL/KG,,UMOL/KG,,PMOL/KG,,PMOL/KG,,PMOL/KG,,UMOL/KG,,UMOL/KG,,,,DEG C,UMOL/KG,,UMOL/KG,,TU,,TU,NMOL/KG,,NMOL/KG,PERCNT,,PERCNT,NMOL/KG,,NMOL/KG,/MILLE,,/MILLE,/MILLE,,1/M,,1/M,,1/M,,1/M,,1/M,,1/M,,1/M,,1/NM,,1/NM,,DEG C,ITS-90,
  33RR20070322,  I09N,   108,  1,     36,     38,2,20070401,1538,-17.4000,  94.9983, 6046,   4.1000,      4.1,  26.6468,  34.8648,2,  34.8646,2,    201.7,2,    202.3,2,     1.65,2,     0.06,2,     0.00,2,     0.08,2,    1.628,2,    1.060,2, -999.000,5,   1960.5,6,   2286.3,2,   8.0988,6,    25.00,   -999.0,9,  -999.00,9,    0.720,2,    0.015,   1.7180,3,   0.0010,    -1.76,3,     0.19,    6.822,3,    0.009,   -999.0,9,   -999.0,  -999.00,9,-999.0000,9,-999.0000,9,-999.0000,9,-999.0000,9,-999.0000,9,-999.0000,9,-999.0000,9,-999.0000,9,-999.0000,9,  26.6459,  26.6419,2
  33RR20070322,  I09N,   108,  1,     35,     35,2,20070401,1538,-17.4000,  94.9983, 6046,  42.0000,     42.0,  26.0472,  35.1964,2,  35.1951,2,    208.0,2,    206.2,2,     1.82,2,     0.06,2,     0.00,2,     0.09,2,    1.691,2,    1.079,2, -999.000,5,   1980.5,2,   2304.9,2,-999.0000,5,    25.00,   -999.0,9,  -999.00,9,    0.594,2,    0.013,   1.7460,3,   0.0008,    -1.32,3,     0.18,    6.930,3,    0.009,   -999.0,9,   -999.0,  -999.00,9,-999.0000,9,-999.0000,9,-999.0000,9,-999.0000,9,-999.0000,9,-999.0000,9,-999.0000,9,-999.0000,9,-999.0000,9,  26.0378,  26.0408,2
  33RR20070322,  I09N,   108,  1,     34,   9419,2,20070401,1538,-17.4000,  94.9983, 6046,  75.1000,     75.1,  24.5470,  35.1635,2,  35.1634,2,    218.0,2,    219.3,2,     2.19,2,     0.06,2,     0.00,2,     0.08,2,    1.890,2,    1.163,2, -999.000,5,   1984.0,2,   2304.7,2,   8.0600,2,    25.00,   -999.0,9,  -999.00,9,    0.595,2,    0.013,   1.7500,3,   0.0008,    -1.25,3,     0.18,    6.980,3,    0.009,   -999.0,9,   -999.0,  -999.00,9,-999.0000,9,-999.0000,9,-999.0000,9,-999.0000,9,-999.0000,9,-999.0000,9,-999.0000,9,-999.0000,9,-999.0000,9,  24.5309,  24.5304,2
  33RR20070322,  I09N,   108,  1,     33,     33,2,20070401,1538,-17.4000,  94.9983, 6046, 126.2000,    126.2,  21.7412,  35.4924,2,  35.4819,2,    204.6,2,    203.8,2,     2.56,2,     0.29,2,     0.17,2,     0.16,2,    2.014,2,    1.253,2, -999.000,5,   -999.0,9,   -999.0,9,-999.0000,9,  -999.00,   -999.0,9,  -999.00,9,    0.608,2,    0.013,-999.0000,9,-999.0000,  -999.00,9,  -999.00, -999.000,9, -999.000,   -999.0,9,   -999.0,  -999.00,9,-999.0000,9,-999.0000,9,-999.0000,9,-999.0000,9,-999.0000,9,-999.0000,9,-999.0000,9,-999.0000,9,-999.0000,9,  21.7164,  21.7581,2
  33RR20070322,  I09N,   108,  1,     32,     37,2,20070401,1538,-17.4000,  94.9983, 6046, 175.6000,    175.6,  20.0648,  35.6228,2,  35.6220,2,    186.9,2,    185.9,2,     4.32,2,     3.51,2,     0.02,2,     0.32,2,    2.093,2,    1.282,2, -999.000,5,   2067.6,2,   2333.3,6,   7.9685,2,    25.00,   -999.0,9,  -999.00,9, -999.000,9, -999.000,-999.0000,9,-999.0000,  -999.00,9,  -999.00, -999.000,9, -999.000,   -999.0,9,   -999.0,  -999.00,9,-999.0000,9,-999.0000,9,-999.0000,9,-999.0000,9,-999.0000,9,-999.0000,9,-999.0000,9,-999.0000,9,-999.0000,9,  20.0321,  20.0701,2
  33RR20070322,  I09N,   108,  1,     31,     31,2,20070401,1538,-17.4000,  94.9983, 6046, 225.9000,    225.9,  18.7693,  35.7812,2,  35.7799,2,    198.6,2,    195.3,2,     3.89,2,     3.25,2,     0.01,2,     0.32,2,    2.231,2,    1.354,2, -999.000,5,   -999.0,9,   -999.0,9,-999.0000,9,  -999.00,   -999.0,9,  -999.00,9, -999.000,9, -999.000,-999.0000,9,-999.0000,  -999.00,9,  -999.00, -999.000,9, -999.000,   -999.0,9,   -999.0,  -999.00,9,-999.0000,9,-999.0000,9,-999.0000,9,-999.0000,9,-999.0000,9,-999.0000,9,-999.0000,9,-999.0000,9,-999.0000,9,  18.7291,  18.7672,2
  33RR20070322,  I09N,   108,  1,     30,     30,2,20070401,1538,-17.4000,  94.9983, 6046, 275.9000,    275.9,  16.8999,  35.7046,2,  35.7049,2,    196.4,2,    197.3,2,     4.26,2,     4.58,2,     0.01,2,     0.42,2,    2.443,2,    1.442,2, -999.000,5,   2098.6,2,   2341.3,6,   7.9145,2,    25.00,   -999.0,9,  -999.00,9,    0.511,2,    0.010,   1.7590,3,   0.0008,     0.24,3,     0.18,    7.247,3,    0.009,   -999.0,9,   -999.0,  -999.00,9,-999.0000,9,-999.0000,9,-999.0000,9,-999.0000,9,-999.0000,9,-999.0000,9,-999.0000,9,-999.0000,9,-999.0000,9,  16.8542,  16.8974,2
  33RR20070322,  I09N,   108,  1,     29,     29,2,20070401,1538,-17.4000,  94.9983, 6046, 324.5000,    324.5,  15.0720,  35.5354,2,  35.5383,2,    208.1,2,    207.1,2,     4.03,2,     5.80,2,     0.01,2,     0.51,2,    2.691,2,    1.574,2, -999.000,5,   -999.0,9,   -999.0,9,-999.0000,9,  -999.00,   -999.0,9,  -999.00,9,    0.453,2,    0.010,   1.7770,3,   0.0008,    -0.07,3,     0.18,    7.363,3,    0.009,   -999.0,9,   -999.0,  -999.00,9,-999.0000,9,-999.0000,9,-999.0000,9,-999.0000,9,-999.0000,9,-999.0000,9,-999.0000,9,-999.0000,9,-999.0000,9,  15.0223,  15.0739,2
  33RR20070322,  I09N,   108,  1,     28,     28,2,20070401,1538,-17.4000,  94.9983, 6046, 374.1000,    374.1,  13.1419,  35.2739,2,  35.2733,2,    219.7,2,    220.0,2,     3.61,2,     8.08,2,     0.01,2,     0.64,2,    3.035,5,    1.741,5, -999.000,5,   -999.0,9,   -999.0,9,-999.0000,9,  -999.00,   -999.0,9,  -999.00,9, -999.000,9, -999.000,   1.9000,3,   0.0005,    12.30,3,     0.18,    8.000,3,    0.015,   -999.0,9,   -999.0,  -999.00,9,-999.0000,9,-999.0000,9,-999.0000,9,-999.0000,9,-999.0000,9,-999.0000,9,-999.0000,9,-999.0000,9,-999.0000,9,  13.0896,  13.1270,2
  33RR20070322,  I09N,   108,  1,     27,     27,2,20070401,1538,-17.4000,  94.9983, 6046, 426.1000,    426.1,  11.2435,  34.9863,2,  34.9942,2,    225.8,2,    230.2,2,     3.77,2,    11.28,2,     0.01,2,     0.84,2,    3.328,2,    1.851,2, -999.000,5,   2118.7,2,   2304.7,2,   7.8273,2,    25.00,   -999.0,9,  -999.00,9,    0.528,2,    0.016,   1.8690,3,   0.0007,    10.71,3,     0.18,    7.883,3,    0.011,   -999.0,9,   -999.0,  -999.00,9,-999.0000,9,-999.0000,9,-999.0000,9,-999.0000,9,-999.0000,9,-999.0000,9,-999.0000,9,-999.0000,9,-999.0000,9,  11.1897,  11.2490,2
  33RR20070322,  I09N,   108,  1,     26,     26,2,20070401,1538,-17.4000,  94.9983, 6046, 475.3000,    475.3,  10.0279,  34.8031,2,  34.8092,2,    228.7,2,    229.3,2,     5.34,2,    14.72,2,     0.00,2,     1.06,2,    3.426,2,    1.905,2, -999.000,5,   -999.0,9,   -999.0,9,-999.0000,9,  -999.00,   -999.0,9,  -999.00,9,    0.346,2,    0.008,   1.8630,3,   0.0005,     7.09,3,     0.18,    7.872,3,    0.017,   -999.0,9,   -999.0,  -999.00,9,-999.0000,9,-999.0000,9,-999.0000,9,-999.0000,9,-999.0000,9,-999.0000,9,-999.0000,9,-999.0000,9,-999.0000,9,   9.9720,  10.0336,2
  33RR20070322,  I09N,   108,  1,     25,     25,2,20070401,1538,-17.4000,  94.9983, 6046, 525.6000,    525.6,   9.2940,  34.7014,2,  34.7035,2,    229.8,2,    224.2,2,     7.10,2,    17.41,2,     0.00,2,     1.22,2,    3.350,2,    1.761,2, -999.000,5,   -999.0,9,   -999.0,9,-999.0000,9,  -999.00,   -999.0,9,  -999.00,9,    0.241,2,    0.009,   1.8210,3,   0.0008,     4.61,3,     0.18,    7.821,3,    0.010,   -999.0,9,   -999.0,  -999.00,9,-999.0000,9,-999.0000,9,-999.0000,9,-999.0000,9,-999.0000,9,-999.0000,9,-999.0000,9,-999.0000,9,-999.0000,9,   9.2349,   9.2953,2
  33RR20070322,  I09N,   108,  1,     24,     24,2,20070401,1538,-17.4000,  94.9983, 6046, 645.1000,    645.1,   7.2580,  34.5581,2,  34.5587,2,    169.2,2,    164.0,2,    29.20,2,    27.62,2,     0.00,2,     1.92,2,    1.188,2,    0.620,2, -999.000,5,   2191.4,2,   -999.0,5,   7.6539,2,    25.00,   -999.0,9,  -999.00,9, -999.000,9, -999.000,   1.7700,3,   0.0007,     0.26,3,     0.18,    7.563,3,    0.009,   -999.0,9,   -999.0,  -999.00,9,-999.0000,9,-999.0000,9,-999.0000,9,-999.0000,9,-999.0000,9,-999.0000,9,-999.0000,9,-999.0000,9,-999.0000,9,   7.1948,   7.2593,2
  33RR20070322,  I09N,   108,  1,     23,     23,2,20070401,1538,-17.4000,  94.9983, 6046, 746.2000,    746.2,   6.0098,  34.5701,2,  34.5698,2,    135.2,2,    128.0,2,    53.74,2,    32.90,2,     0.00,2,     2.34,2,    0.297,2,    0.160,2, -999.000,5,   -999.0,9,   -999.0,9,-999.0000,9,  -999.00,   -999.0,9,  -999.00,9,    0.015,2,    0.005,   1.8000,3,   0.0008,    -0.21,3,     0.18,    7.641,3,    0.010,   -999.0,9,   -999.0,  -999.00,9,-999.0000,9,-999.0000,9,-999.0000,9,-999.0000,9,-999.0000,9,-999.0000,9,-999.0000,9,-999.0000,9,-999.0000,9,   5.9432,   6.0092,2
  33RR20070322,  I09N,   108,  1,     22,     22,2,20070401,1538,-17.4000,  94.9983, 6046, 846.1000,    846.1,   5.6396,  34.6477,2,  34.6461,2,    104.8,2,    100.4,2,    73.75,2,    35.33,2,     0.00,2,     2.55,2,    0.053,2,    0.033,2, -999.000,5,   -999.0,9,   -999.0,9,-999.0000,9,  -999.00,   -999.0,9,  -999.00,9, -999.000,9, -999.000,   1.7970,3,   0.0011,    -0.95,3,     0.18,    7.547,3,    0.010,   -999.0,9,   -999.0,  -999.00,9,-999.0000,9,-999.0000,9,-999.0000,9,-999.0000,9,-999.0000,9,-999.0000,9,-999.0000,9,-999.0000,9,-999.0000,9,   5.5657,   5.6384,2
  33RR20070322,  I09N,   108,  1,     21,     21,2,20070401,1538,-17.4000,  94.9983, 6046, 945.5000,    945.5,   5.3040,  34.6786,2,  34.6790,2,     94.2,2,     93.1,2,    84.78,2,    35.99,2,     0.00,2,     2.62,2,    0.020,2,    0.012,2, -999.000,5,   2286.2,2,   2357.5,2,   7.4985,2,    25.00,   -999.0,9,  -999.00,9,    0.001,2,    0.004,   1.7940,3,   0.0008,    -0.37,3,     0.18,    7.524,4,    0.009,   -999.0,9,   -999.0,  -999.00,9,-999.0000,9,-999.0000,9,-999.0000,9,-999.0000,9,-999.0000,9,-999.0000,9,-999.0000,9,-999.0000,9,-999.0000,9,   5.2231,   5.2999,2
  33RR20070322,  I09N,   108,  1,     20,     20,2,20070401,1538,-17.4000,  94.9983, 6046,1046.2000,   1046.2,   5.0050,  34.6786,2,  34.6791,2,     95.2,2,     95.9,2,    88.98,2,    36.21,2,     0.00,2,     2.63,2,    0.014,2,    0.008,2, -999.000,5,   -999.0,9,   -999.0,9,-999.0000,9,  -999.00,   -999.0,9,  -999.00,9, -999.000,9, -999.000,   1.8570,2,   0.0008,    12.94,2,     0.19,    7.835,2,    0.010,   -999.0,9,   -999.0,  -999.00,9,-999.0000,9,-999.0000,9,-999.0000,9,-999.0000,9,-999.0000,9,-999.0000,9,-999.0000,9,-999.0000,9,-999.0000,9,   4.9171,   5.0114,2
  33RR20070322,  I09N,   108,  1,     19,     19,2,20070401,1538,-17.4000,  94.9983, 6046,1148.0000,   1148.0,   4.6570,  34.6743,2,  34.6742,2,     98.1,2,    100.0,2,    92.79,2,    36.21,2,     0.00,2,     2.64,2,    0.012,2,    0.006,2, -999.000,5,   2292.6,2,   2365.9,2,-999.0000,5,    25.00,   -999.0,9,  -999.00,9,    0.001,2,    0.003,   1.9110,2,   0.0004,    13.03,2,     0.19,    8.034,2,    0.012,   -999.0,9,   -999.0,  -999.00,9,-999.0000,9,-999.0000,9,-999.0000,9,-999.0000,9,-999.0000,9,-999.0000,9,-999.0000,9,-999.0000,9,-999.0000,9,   4.5628,   4.6541,2
  33RR20070322,  I09N,   108,  1,     18,     18,2,20070401,1538,-17.4000,  94.9983, 6046,1248.5000,   1248.5,   4.3860,  34.6741,2,  34.6740,2,    104.4,2,    104.8,2,    95.19,2,    36.21,2,     0.00,2,     2.63,2,    0.011,2,    0.007,2, -999.000,5,   -999.0,9,   -999.0,9,-999.0000,9,  -999.00,   -999.0,9,  -999.00,9, -999.000,9, -999.000,   1.8700,2,   0.0007,    12.72,2,     0.20,    7.992,2,    0.014,   -999.0,9,   -999.0,  -999.00,9,-999.0000,9,-999.0000,9,-999.0000,9,-999.0000,9,-999.0000,9,-999.0000,9,-999.0000,9,-999.0000,9,-999.0000,9,   4.2852,   4.3909,2
  33RR20070322,  I09N,   108,  1,     17,     17,2,20070401,1538,-17.4000,  94.9983, 6046,1348.7000,   1348.7,   4.0637,  34.6739,2,  34.6828,3,    109.7,2,    111.1,2,    96.98,2,    36.05,2,     0.00,2,     2.61,2,    0.007,2,    0.003,2, -999.000,5,   -999.0,9,   -999.0,9,-999.0000,9,  -999.00,   -999.0,9,  -999.00,9,    0.001,2,    0.004,   1.8740,2,   0.0006,    13.22,2,     0.19,    7.854,2,    0.009,   -999.0,9,   -999.0,  -999.00,9,-999.0000,9,-999.0000,9,-999.0000,9,-999.0000,9,-999.0000,9,-999.0000,9,-999.0000,9,-999.0000,9,-999.0000,9,   3.9571,   4.0638,2
  33RR20070322,  I09N,   108,  1,     16,     16,2,20070401,1538,-17.4000,  94.9983, 6046,1450.4000,   1450.4,   3.7426,  34.6788,2,  34.6774,2,    114.5,2,    114.8,2,   102.21,2,    36.11,2,     0.00,2,     2.61,2, -999.000,9, -999.000,9, -999.000,9,   -999.0,9,   -999.0,9,-999.0000,9,  -999.00,   -999.0,9,  -999.00,9, -999.000,9, -999.000,-999.0000,9,-999.0000,  -999.00,9,  -999.00, -999.000,9, -999.000,   -999.0,9,   -999.0,  -999.00,9,-999.0000,9,-999.0000,9,-999.0000,9,-999.0000,9,-999.0000,9,-999.0000,9,-999.0000,9,-999.0000,9,-999.0000,9,   3.6304,   3.7428,2
  33RR20070322,  I09N,   108,  1,     15,     15,2,20070401,1538,-17.4000,  94.9983, 6046,1549.8000,   1549.8,   3.4765,  34.6877,2,  34.6865,2,    122.2,2,    121.8,2,   102.78,2,    35.75,2,     0.00,2,     2.59,2,    0.003,2,    0.002,2, -999.000,5,   -999.0,9,   -999.0,9,-999.0000,9,  -999.00,   -999.0,9,  -999.00,9,    0.001,2,    0.004,   1.9000,2,   0.0005,    13.18,2,     0.18,    8.047,2,    0.009,   -999.0,9,   -999.0,  -999.00,9,-999.0000,9,-999.0000,9,-999.0000,9,-999.0000,9,-999.0000,9,-999.0000,9,-999.0000,9,-999.0000,9,-999.0000,9,   3.3586,   3.4767,2
  33RR20070322,  I09N,   108,  1,     14,     14,2,20070401,1538,-17.4000,  94.9983, 6046,1751.7000,   1751.7,   2.9677,  34.7089,2,  34.7081,2,    134.2,2,    135.1,2,   106.60,2,    35.13,2,     0.00,2,     2.53,2, -999.000,9, -999.000,9, -999.000,9,   -999.0,9,   -999.0,9,-999.0000,9,  -999.00,   -999.0,9,  -999.00,9, -999.000,9, -999.000,-999.0000,9,-999.0000,  -999.00,9,  -999.00, -999.000,9, -999.000,   -999.0,9,   -999.0,  -999.00,9,-999.0000,9,-999.0000,9,-999.0000,9,-999.0000,9,-999.0000,9,-999.0000,9,-999.0000,9,-999.0000,9,-999.0000,9,   2.8384,   2.9685,2
  33RR20070322,  I09N,   108,  1,     13,     13,2,20070401,1538,-17.4000,  94.9983, 6046,1952.7000,   1952.7,   2.5838,  34.7228,2,  34.7226,2,    144.6,2,    143.6,2,   112.66,2,    34.87,2,     0.00,2,     2.49,2,    0.006,2,    0.002,2, -999.000,5,   -999.0,9,   -999.0,9,-999.0000,9,  -999.00,   -999.0,9,  -999.00,9,    0.028,2,    0.005,   1.9000,2,   0.0007,    13.86,2,     0.18,    8.139,2,    0.011,   -999.0,9,   -999.0,  -999.00,9,-999.0000,9,-999.0000,9,-999.0000,9,-999.0000,9,-999.0000,9,-999.0000,9,-999.0000,9,-999.0000,9,-999.0000,9,   2.4423,   2.5841,2
  33RR20070322,  I09N,   108,  1,     12,     12,2,20070401,1538,-17.4000,  94.9983, 6046,2113.9000,   2113.9,   2.3203,  34.7245,2,  34.7242,2,    153.6,2,    154.3,2,   112.84,2,    34.25,2,     0.00,2,     2.42,2,    0.006,2,    0.001,2, -999.000,5,   -999.0,9,   -999.0,9,-999.0000,9,  -999.00,   -999.0,9,  -999.00,9, -999.000,9, -999.000,   1.9030,2,   0.0004,    14.18,2,     0.18,    8.088,2,    0.011,   -999.0,9,   -999.0,  -999.00,9,-999.0000,9,-999.0000,9,-999.0000,9,-999.0000,9,-999.0000,9,-999.0000,9,-999.0000,9,-999.0000,9,-999.0000,9,   2.1688,   2.3207,2
  33RR20070322,  I09N,   108,  1,     11,     11,2,20070401,1538,-17.4000,  94.9983, 6046,2366.9000,   2366.9,   2.0249,  34.7280,2,  34.7285,2,    161.6,2,    162.0,2,   116.67,2,    33.89,2,     0.00,2,     2.39,2, -999.000,5, -999.000,5, -999.000,5,   -999.0,9,   -999.0,9,-999.0000,9,  -999.00,   -999.0,9,  -999.00,9, -999.000,9, -999.000,   1.9170,2,   0.0007,    13.96,2,     0.19,    8.232,2,    0.009,   -999.0,9,   -999.0,  -999.00,9,-999.0000,9,-999.0000,9,-999.0000,9,-999.0000,9,-999.0000,9,-999.0000,9,-999.0000,9,-999.0000,9,-999.0000,9,   1.8559,   2.0248,2
  33RR20070322,  I09N,   108,  1,     10,     10,2,20070401,1538,-17.4000,  94.9983, 6046,2617.8000,   2617.8,   1.8127,  34.7287,2,  34.7281,2,    167.4,2,    167.6,2,   120.51,2,    33.64,2,     0.00,2,     2.38,2, -999.000,9, -999.000,9, -999.000,9,   -999.0,9,   -999.0,9,-999.0000,9,  -999.00,   -999.0,9,  -999.00,9, -999.000,9, -999.000,-999.0000,9,-999.0000,  -999.00,9,  -999.00, -999.000,9, -999.000,   -999.0,9,   -999.0,  -999.00,9,-999.0000,9,-999.0000,9,-999.0000,9,-999.0000,9,-999.0000,9,-999.0000,9,-999.0000,9,-999.0000,9,-999.0000,9,   1.6248,   1.8133,2
  33RR20070322,  I09N,   108,  1,      9,      9,2,20070401,1538,-17.4000,  94.9983, 6046,2873.9000,   2873.9,   1.6636,  34.7273,2,  34.7265,2,    170.8,2,    171.1,2,   123.95,2,    33.70,2,     0.00,2,     2.37,2,    0.001,3, -999.000,5, -999.000,5,   -999.0,9,   -999.0,9,-999.0000,9,  -999.00,   -999.0,9,  -999.00,9, -999.000,9, -999.000,   1.9470,3,   0.0004,    12.86,2,     0.19,    8.345,2,    0.012,   -999.0,9,   -999.0,  -999.00,9,-999.0000,9,-999.0000,9,-999.0000,9,-999.0000,9,-999.0000,9,-999.0000,9,-999.0000,9,-999.0000,9,-999.0000,9,   1.4549,   1.6639,2
  33RR20070322,  I09N,   108,  1,      8,      8,2,20070401,1538,-17.4000,  94.9983, 6046,3127.3000,   3127.3,   1.5438,  34.7246,2,  34.7231,2,    173.6,2,    173.6,2,   126.98,2,    33.75,2,     0.00,2,     2.38,2, -999.000,9, -999.000,9, -999.000,9,   -999.0,9,   -999.0,9,-999.0000,9,  -999.00,   -999.0,9,  -999.00,9, -999.000,9, -999.000,   1.9050,2,   0.0014,    12.74,2,     0.18,    8.223,2,    0.012,   -999.0,9,   -999.0,  -999.00,9,-999.0000,9,-999.0000,9,-999.0000,9,-999.0000,9,-999.0000,9,-999.0000,9,-999.0000,9,-999.0000,9,-999.0000,9,   1.3135,   1.5440,2
  33RR20070322,  I09N,   108,  1,      7,      7,2,20070401,1538,-17.4000,  94.9983, 6046,3533.4000,   3533.4,   1.4005,  34.7211,2,  34.7201,2,    179.8,2,    180.0,2,   128.80,2,    33.43,2,     0.00,2,     2.36,2,    0.008,3, -999.000,5, -999.000,5,   -999.0,9,   -999.0,9,-999.0000,9,  -999.00,   -999.0,9,  -999.00,9, -999.000,9, -999.000,   1.9030,2,   0.0007,    12.84,2,     0.19,    8.199,2,    0.009,   -999.0,9,   -999.0,  -999.00,9,-999.0000,9,-999.0000,9,-999.0000,9,-999.0000,9,-999.0000,9,-999.0000,9,-999.0000,9,-999.0000,9,-999.0000,9,   1.1332,   1.4004,2
  33RR20070322,  I09N,   108,  1,      6,      6,2,20070401,1538,-17.4000,  94.9983, 6046,3940.7000,   3940.7,   1.2546,  34.7180,2,  34.7171,2,    189.0,2,    189.1,2,   126.73,2,    33.08,2,     0.00,2,     2.31,2, -999.000,9, -999.000,9, -999.000,9,   -999.0,9,   -999.0,9,-999.0000,9,  -999.00,   -999.0,9,  -999.00,9, -999.000,9, -999.000,-999.0000,9,-999.0000,  -999.00,9,  -999.00, -999.000,9, -999.000,   -999.0,9,   -999.0,  -999.00,9,-999.0000,9,-999.0000,9,-999.0000,9,-999.0000,9,-999.0000,9,-999.0000,9,-999.0000,9,-999.0000,9,-999.0000,9,   0.9487,   1.2548,2
  33RR20070322,  I09N,   108,  1,      5,      5,2,20070401,1538,-17.4000,  94.9983, 6046,4348.1000,   4348.1,   1.1727,  34.7157,2,  34.7146,2,    196.6,2,    196.9,2,   124.46,2,    32.62,2,     0.00,2,     2.28,2,    0.002,3, -999.000,5, -999.000,5,   -999.0,9,   -999.0,9,-999.0000,9,  -999.00,   -999.0,9,  -999.00,9, -999.000,9, -999.000,   1.9370,2,   0.0004,    10.38,2,     0.18,    8.330,2,    0.011,   -999.0,9,   -999.0,  -999.00,9,-999.0000,9,-999.0000,9,-999.0000,9,-999.0000,9,-999.0000,9,-999.0000,9,-999.0000,9,-999.0000,9,-999.0000,9,   0.8247,   1.1727,2