BOTTLE,20150630SIOCCHRJL
EXPOCODE,SECT_ID,STNNBR,CASTNO,SAMPNO,BTLNBR,BTLNBR_FLAG_W,DATE,TIME,LATITUDE,LONGITUDE,DEPTH,CTDRAW,CTDPRS,CTDTMP,CTDSAL,CTDSAL_FLAG_W,SALNTY,SALNTY_FLAG_W,CTDOXY,CTDOXY_FLAG_W,OXYGEN,OXYGEN_FLAG_W,SILCAT,SILCAT_FLAG_W,NITRAT,NITRAT_FLAG_W,NITRIT,NITRIT_FLAG_W,PHSPHT,PHSPHT_FLAG_W,CFC-11,CFC-11_FLAG_W,CFC-12,CFC-12_FLAG_W,CFC113,CFC113_FLAG_W,TCARBN,TCARBN_FLAG_W,ALKALI,ALKALI_FLAG_W,PH_SWS,PH_SWS_FLAG_W,PH_TMP,DOC,DOC_FLAG_W,TDN,TDN_FLAG_W,TRITUM,TRITUM_FLAG_W,TRITER,HELIUM,HELIUM_FLAG_W,HELIER,DELHE3,DELHE3_FLAG_W,DELHER,NEON,NEON_FLAG_W,NEONER,DELC14,DELC14_FLAG_W,C14ERR,DELC13,DELC13_FLAG_W,CDOM325,CDOM325_FLAG_W,CDOM340,CDOM340_FLAG_W,CDOM380,CDOM380_FLAG_W,CDOM412,CDOM412_FLAG_W,CDOM443,CDOM443_FLAG_W,CDOM490,CDOM490_FLAG_W,CDOM555,CDOM555_FLAG_W,CDOMSL,CDOMSL_FLAG_W,CDOMSN,CDOMSN_FLAG_W,THETA,SBE35,SBE35_FLAG_W
,,,,,,,,,,,METERS,,DBAR,ITS-90,PSS-78,,PSS-78,,UMOL/KG,,UMOL/KG,,UMOL/KG,,UMOL/KG,,UMOL/KG,,UMOL/KG,,PMOL/KG,,PMOL/KG,,PMOL/KG,,UMOL/KG,,UMOL/KG,,,,DEG C,UMOL/KG,,UMOL/KG,,TU,,TU,NMOL/KG,,NMOL/KG,PERCNT,,PERCNT,NMOL/KG,,NMOL/KG,/MILLE,,/MILLE,/MILLE,,1/M,,1/M,,1/M,,1/M,,1/M,,1/M,,1/M,,1/NM,,1/NM,,DEG C,ITS-90,
  33RR20070322,  I09N,   186,  1,      4,      4,2,20070423,2328, 11.7147,  87.9035, 3266,3122.5000,   3122.5,   1.6398,  34.7312,2,  34.7303,2,    146.4,2,    148.1,2,   141.30,2,    35.03,2,     0.00,2,     2.47,2, -999.000,9, -999.000,9, -999.000,9,   2332.7,2,   2426.7,2,   7.5686,2,    25.00,     40.4,2,    36.29,2, -999.000,9, -999.000,-999.0000,9,-999.0000,  -999.00,9,  -999.00, -999.000,9, -999.000,   -999.0,9,   -999.0,  -999.00,9,   0.1918,2,   0.1412,2,   0.0830,2,   0.0611,2,   0.0278,2,   0.0090,2,   0.0021,2,   0.0141,3,   0.0137,3,   1.4077,   1.6394,2
  33RR20070322,  I09N,   186,  1,      3,      3,2,20070423,2328, 11.7147,  87.9035, 3266,3184.2000,   3184.2,   1.5496,  34.7285,2,  34.7266,2,    152.4,2,    154.4,2,   139.29,2,    34.71,2,     0.00,2,     2.43,2, -999.000,9, -999.000,9, -999.000,9,   2326.0,2,   2424.4,2,   7.5884,2,    25.00,     41.0,2,    35.76,2, -999.000,9, -999.000,-999.0000,9,-999.0000,  -999.00,9,  -999.00, -999.000,9, -999.000,   -999.0,9,   -999.0,  -999.00,9,   0.1820,2,   0.1332,2,   0.0776,2,   0.0569,2,   0.0252,2,   0.0077,2,   0.0015,2,   0.0140,3,   0.0138,3,   1.3136,   1.5501,2
  33RR20070322,  I09N,   186,  1,      2,      2,2,20070423,2328, 11.7147,  87.9035, 3266,3244.0000,   3244.0,   1.5119,  34.7272,2,  34.7264,2,    156.0,2,    156.6,2,   139.49,2,    34.64,2,     0.00,2,     2.42,2, -999.000,9, -999.000,9, -999.000,9,   2324.8,2,   2426.5,2,   7.5900,2,    25.00,     40.2,2,    36.60,2, -999.000,9, -999.000,-999.0000,9,-999.0000,  -999.00,9,  -999.00, -999.000,9, -999.000,   -999.0,9,   -999.0,  -999.00,9,   0.1812,2,   0.1327,2,   0.0773,2,   0.0568,2,   0.0252,2,   0.0078,2,   0.0015,2,   0.0140,3,   0.0138,3,   1.2709,   1.5118,2
  33RR20070322,  I09N,   186,  1,      1,      1,2,20070423,2328, 11.7147,  87.9035, 3266,3293.2000,   3293.2,   1.4901,  34.7260,2,  34.7254,2,    157.3,2,    156.7,2,   140.10,2,    34.63,2,     0.00,2,     2.42,2,    0.008,2,    0.004,2, -999.000,5,   2326.7,6,   2427.9,6,   7.5997,6,    25.00,     40.4,2,    35.92,2, -999.000,9, -999.000,-999.0000,9,-999.0000,  -999.00,9,  -999.00, -999.000,9, -999.000,   -999.0,9,   -999.0,  -999.00,9,   0.1868,2,   0.1372,2,   0.0798,2,   0.0587,2,   0.0261,2,   0.0080,2,   0.0016,2,   0.0142,3,   0.0138,3,   1.2447,   1.4898,2