BOTTLE,20150630SIOCCHRJL
EXPOCODE,SECT_ID,STNNBR,CASTNO,SAMPNO,BTLNBR,BTLNBR_FLAG_W,DATE,TIME,LATITUDE,LONGITUDE,DEPTH,CTDRAW,CTDPRS,CTDTMP,CTDSAL,CTDSAL_FLAG_W,SALNTY,SALNTY_FLAG_W,CTDOXY,CTDOXY_FLAG_W,OXYGEN,OXYGEN_FLAG_W,SILCAT,SILCAT_FLAG_W,NITRAT,NITRAT_FLAG_W,NITRIT,NITRIT_FLAG_W,PHSPHT,PHSPHT_FLAG_W,CFC-11,CFC-11_FLAG_W,CFC-12,CFC-12_FLAG_W,CFC113,CFC113_FLAG_W,TCARBN,TCARBN_FLAG_W,ALKALI,ALKALI_FLAG_W,PH_SWS,PH_SWS_FLAG_W,PH_TMP,DOC,DOC_FLAG_W,TDN,TDN_FLAG_W,TRITUM,TRITUM_FLAG_W,TRITER,HELIUM,HELIUM_FLAG_W,HELIER,DELHE3,DELHE3_FLAG_W,DELHER,NEON,NEON_FLAG_W,NEONER,DELC14,DELC14_FLAG_W,C14ERR,DELC13,DELC13_FLAG_W,CDOM325,CDOM325_FLAG_W,CDOM340,CDOM340_FLAG_W,CDOM380,CDOM380_FLAG_W,CDOM412,CDOM412_FLAG_W,CDOM443,CDOM443_FLAG_W,CDOM490,CDOM490_FLAG_W,CDOM555,CDOM555_FLAG_W,CDOMSL,CDOMSL_FLAG_W,CDOMSN,CDOMSN_FLAG_W,THETA,SBE35,SBE35_FLAG_W
,,,,,,,,,,,METERS,,DBAR,ITS-90,PSS-78,,PSS-78,,UMOL/KG,,UMOL/KG,,UMOL/KG,,UMOL/KG,,UMOL/KG,,UMOL/KG,,PMOL/KG,,PMOL/KG,,PMOL/KG,,UMOL/KG,,UMOL/KG,,,,DEG C,UMOL/KG,,UMOL/KG,,TU,,TU,NMOL/KG,,NMOL/KG,PERCNT,,PERCNT,NMOL/KG,,NMOL/KG,/MILLE,,/MILLE,/MILLE,,1/M,,1/M,,1/M,,1/M,,1/M,,1/M,,1/M,,1/NM,,1/NM,,DEG C,ITS-90,
  33RR20070322,  I09N,   149,  1,      4,      4,2,20070413,2306,  1.0987,  92.5042, 4385,3426.6000,   3426.6,   1.4655,  34.7252,2,  34.7247,2,    169.1,2,    168.7,2,   134.52,2,    34.03,2,     0.00,2,     2.38,2, -999.000,9, -999.000,9, -999.000,9,   2308.3,2,   2402.5,2,   7.6009,2,    25.00,     41.0,2,  -999.00,9, -999.000,9, -999.000,-999.0000,9,-999.0000,  -999.00,9,  -999.00, -999.000,9, -999.000,   -999.0,9,   -999.0,  -999.00,9,   0.1556,2,   0.1114,2,   0.0628,2,   0.0455,2,   0.0174,2,   0.0049,2,   0.0005,4,   0.0139,2,   0.0145,3,   1.2074,   1.4667,2
  33RR20070322,  I09N,   149,  1,      3,      3,2,20070413,2306,  1.0987,  92.5042, 4385,3832.5000,   3832.5,   1.1855,  34.7168,2,  34.7156,2,    186.8,2,    187.5,2,   129.75,2,    33.04,2,     0.00,2,     2.31,2,    0.005,2,    0.002,2, -999.000,5,   2291.8,2,   2395.3,2,   7.6131,2,    25.00,     40.9,2,  -999.00,9, -999.000,9, -999.000,-999.0000,9,-999.0000,  -999.00,9,  -999.00, -999.000,9, -999.000,   -999.0,9,   -999.0,  -999.00,9,   0.1399,2,   0.0982,2,   0.0548,2,   0.0401,2,   0.0142,2,   0.0036,2,   0.0001,4,   0.0137,2,   0.0147,3,   0.8930,   1.1854,2
  33RR20070322,  I09N,   149,  1,      2,      2,2,20070413,2306,  1.0987,  92.5042, 4385,4238.4000,   4238.4,   1.1548,  34.7147,2,  34.7150,2,    192.3,2,    192.3,2,   128.89,2,    32.94,2,     0.00,2,     2.29,2, -999.000,9, -999.000,9, -999.000,9,   2288.8,2,   2394.7,2,   7.6159,2,    25.00,     40.7,2,  -999.00,9, -999.000,9, -999.000,-999.0000,9,-999.0000,  -999.00,9,  -999.00, -999.000,9, -999.000,   -999.0,9,   -999.0,  -999.00,9,   0.1388,2,   0.0979,2,   0.0549,2,   0.0401,2,   0.0145,2,   0.0041,2,   0.0004,4,   0.0135,2,   0.0145,3,   0.8195,   1.1547,2
  33RR20070322,  I09N,   149,  1,      1,      1,2,20070413,2306,  1.0987,  92.5042, 4385,4444.0000,   4444.0,   1.1730,  34.7146,2,  34.7144,2,    192.8,2,    193.0,2,   128.63,2,    32.89,2,     0.00,2,     2.29,2,    0.005,2,    0.002,2, -999.000,5,   2288.8,6,   2397.6,6,   7.6215,6,    25.00,     41.0,2,  -999.00,9, -999.000,9, -999.000,-999.0000,9,-999.0000,  -999.00,9,  -999.00, -999.000,9, -999.000,   -999.0,9,   -999.0,  -999.00,9,   0.1348,2,   0.0941,2,   0.0519,2,   0.0374,2,   0.0124,2,   0.0029,3,  -0.0003,4,   0.0138,2,   0.0150,3,   0.8143,   1.1726,2