BOTTLE,20150630SIOCCHRJL
EXPOCODE,SECT_ID,STNNBR,CASTNO,SAMPNO,BTLNBR,BTLNBR_FLAG_W,DATE,TIME,LATITUDE,LONGITUDE,DEPTH,CTDRAW,CTDPRS,CTDTMP,CTDSAL,CTDSAL_FLAG_W,SALNTY,SALNTY_FLAG_W,CTDOXY,CTDOXY_FLAG_W,OXYGEN,OXYGEN_FLAG_W,SILCAT,SILCAT_FLAG_W,NITRAT,NITRAT_FLAG_W,NITRIT,NITRIT_FLAG_W,PHSPHT,PHSPHT_FLAG_W,CFC-11,CFC-11_FLAG_W,CFC-12,CFC-12_FLAG_W,CFC113,CFC113_FLAG_W,TCARBN,TCARBN_FLAG_W,ALKALI,ALKALI_FLAG_W,PH_SWS,PH_SWS_FLAG_W,PH_TMP,DOC,DOC_FLAG_W,TDN,TDN_FLAG_W,TRITUM,TRITUM_FLAG_W,TRITER,HELIUM,HELIUM_FLAG_W,HELIER,DELHE3,DELHE3_FLAG_W,DELHER,NEON,NEON_FLAG_W,NEONER,DELC14,DELC14_FLAG_W,C14ERR,DELC13,DELC13_FLAG_W,CDOM325,CDOM325_FLAG_W,CDOM340,CDOM340_FLAG_W,CDOM380,CDOM380_FLAG_W,CDOM412,CDOM412_FLAG_W,CDOM443,CDOM443_FLAG_W,CDOM490,CDOM490_FLAG_W,CDOM555,CDOM555_FLAG_W,CDOMSL,CDOMSL_FLAG_W,CDOMSN,CDOMSN_FLAG_W,THETA,SBE35,SBE35_FLAG_W
,,,,,,,,,,,METERS,,DBAR,ITS-90,PSS-78,,PSS-78,,UMOL/KG,,UMOL/KG,,UMOL/KG,,UMOL/KG,,UMOL/KG,,UMOL/KG,,PMOL/KG,,PMOL/KG,,PMOL/KG,,UMOL/KG,,UMOL/KG,,,,DEG C,UMOL/KG,,UMOL/KG,,TU,,TU,NMOL/KG,,NMOL/KG,PERCNT,,PERCNT,NMOL/KG,,NMOL/KG,/MILLE,,/MILLE,/MILLE,,1/M,,1/M,,1/M,,1/M,,1/M,,1/M,,1/M,,1/NM,,1/NM,,DEG C,ITS-90,
  33RR20070322,  I09N,   109,  1,     36,     38,2,20070401,2322,-16.8380,  94.9927, 6144,   3.1000,      3.1,  27.7150,  34.6243,2,  34.6255,2,    200.7,2,    200.1,2,     1.82,2,     0.06,2,     0.00,2,     0.07,2,    1.573,2,    1.015,2, -999.000,5,   1947.0,6,   2271.6,6,   8.0967,2,    25.00,     72.9,2,  -999.00,9, -999.000,9, -999.000,-999.0000,9,-999.0000,  -999.00,9,  -999.00, -999.000,9, -999.000,   -999.0,9,   -999.0,  -999.00,9,   0.0686,2,   0.0437,2,   0.0210,2,   0.0157,2,  -0.0014,4,  -0.0028,4,  -0.0029,4,   0.0145,3,   0.0189,3,  27.7143,  27.7114,2
  33RR20070322,  I09N,   109,  1,     35,     35,2,20070401,2322,-16.8380,  94.9927, 6144,  46.9000,     46.9,  27.7246,  34.6237,2,  34.6251,2,    201.9,2,    200.2,2,     1.83,2,     0.06,2,     0.00,2,     0.06,2,    1.555,2,    1.004,2, -999.000,5,   1948.2,2,   2270.5,2,   8.0846,2,    25.00,     72.0,2,  -999.00,9, -999.000,9, -999.000,-999.0000,9,-999.0000,  -999.00,9,  -999.00, -999.000,9, -999.000,   -999.0,9,   -999.0,  -999.00,9,   0.0629,2,   0.0410,2,   0.0193,2,   0.0145,2,  -0.0022,4,  -0.0034,4,  -0.0032,4,   0.0149,3,   0.0191,3,  27.7136,  27.7153,2
  33RR20070322,  I09N,   109,  1,     34,   9419,2,20070401,2322,-16.8380,  94.9927, 6144,  91.9000,     91.9,  21.9971,  34.6270,2,  34.5906,2,    152.8,2,    147.8,2,    10.22,2,     8.54,2,     0.54,2,     0.70,2,    1.645,2,    1.014,2, -999.000,5,   2052.4,2,   2275.3,2,   7.9030,2,    25.00,     64.2,2,  -999.00,9, -999.000,9, -999.000,-999.0000,9,-999.0000,  -999.00,9,  -999.00, -999.000,9, -999.000,   -999.0,9,   -999.0,  -999.00,9,   0.2006,2,   0.1469,2,   0.0772,2,   0.0572,2,   0.0209,2,   0.0065,2,   0.0018,2,   0.0150,2,   0.0154,3,  21.9790,  21.9819,2
  33RR20070322,  I09N,   109,  1,     33,     33,2,20070401,2322,-16.8380,  94.9927, 6144, 141.5000,    141.5,  19.1507,  35.1788,2,  35.1778,2,    144.0,2,    145.0,2,    11.59,2,    10.08,2,     0.01,2,     0.74,2,    1.873,2,    1.142,2, -999.000,5,   2092.7,2,   2311.2,2,   7.8852,2,    25.00,     56.4,2,  -999.00,9, -999.000,9, -999.000,-999.0000,9,-999.0000,  -999.00,9,  -999.00, -999.000,9, -999.000,   -999.0,9,   -999.0,  -999.00,9,   0.1236,2,   0.0897,2,   0.0486,2,   0.0385,2,   0.0107,2,   0.0017,3,  -0.0007,4,   0.0138,2,   0.0144,3,  19.1253,  19.1553,2
  33RR20070322,  I09N,   109,  1,     32,     37,2,20070401,2322,-16.8380,  94.9927, 6144, 190.8000,    190.8,  18.0213,  35.6153,2,  35.6278,2,    169.5,2,    178.5,2,     6.73,2,     6.00,2,     0.01,2,     0.50,2,    2.191,2,    1.326,2, -999.000,5,   2095.9,2,   2337.7,2,   7.9316,2,    25.00,     53.5,2,  -999.00,9, -999.000,9, -999.000,-999.0000,9,-999.0000,  -999.00,9,  -999.00, -999.000,9, -999.000,   -999.0,9,   -999.0,  -999.00,9,   0.0963,2,   0.0690,2,   0.0360,2,   0.0275,2,   0.0041,2,  -0.0008,4,  -0.0019,4,   0.0137,2,   0.0152,2,  17.9884,  17.9764,2
  33RR20070322,  I09N,   109,  1,     31,     31,2,20070401,2322,-16.8380,  94.9927, 6144, 241.5000,    241.5,  15.9487,  35.4735,2,  35.4706,2,    170.6,2,    174.0,2,     9.48,2,     8.96,2,     0.01,2,     0.69,2,    2.293,2,    1.350,2, -999.000,5,   2117.5,2,   2332.6,2,   7.8707,2,    25.00,     52.4,2,  -999.00,9, -999.000,9, -999.000,-999.0000,9,-999.0000,  -999.00,9,  -999.00, -999.000,9, -999.000,   -999.0,9,   -999.0,  -999.00,9,   0.0993,2,   0.0712,2,   0.0382,2,   0.0289,2,   0.0053,2,  -0.0006,4,  -0.0019,4,   0.0136,2,   0.0149,2,  15.9104,  15.9469,2
  33RR20070322,  I09N,   109,  1,     30,     30,2,20070401,2322,-16.8380,  94.9927, 6144, 290.7000,    290.7,  14.4982,  35.4545,2,  35.4636,2,    204.6,2,    209.3,2,     4.24,2,     6.57,2,     0.00,2,     0.56,2,    2.798,2,    1.614,2, -999.000,5,   2111.3,2,   2332.3,2,   7.8977,2,    25.00,     51.5,2,  -999.00,9, -999.000,9, -999.000,-999.0000,9,-999.0000,  -999.00,9,  -999.00, -999.000,9, -999.000,   -999.0,9,   -999.0,  -999.00,9,   0.0866,2,   0.0610,2,   0.0322,2,   0.0244,2,   0.0024,3,  -0.0019,4,  -0.0026,4,   0.0137,2,   0.0154,2,  14.4549,  14.5128,2
  33RR20070322,  I09N,   109,  1,     29,     29,2,20070401,2322,-16.8380,  94.9927, 6144, 342.9000,    342.9,  12.6331,  35.2007,2,  35.2019,2,    221.9,2,    224.5,2,     3.09,2,     8.66,2,     0.00,2,     0.68,2,    3.171,2,    1.800,2, -999.000,5,   2116.2,2,   2318.4,2,   7.8546,2,    25.00,     50.1,2,  -999.00,9, -999.000,9, -999.000,-999.0000,9,-999.0000,  -999.00,9,  -999.00, -999.000,9, -999.000,   -999.0,9,   -999.0,  -999.00,9,   0.0773,2,   0.0537,2,   0.0282,2,   0.0211,2,   0.0008,3,  -0.0026,4,  -0.0031,4,   0.0136,2,   0.0158,2,  12.5865,  12.6091,2
  33RR20070322,  I09N,   109,  1,     28,     28,2,20070401,2322,-16.8380,  94.9927, 6144, 391.1000,    391.1,  11.0864,  34.9592,2,  34.9620,2,    224.2,2,    224.3,2,     4.85,2,    12.39,2,     0.00,2,     0.92,2,    3.330,2,    1.844,2, -999.000,5,   2124.8,2,   2299.8,2,   7.8098,2,    25.00,     48.6,2,  -999.00,9, -999.000,9, -999.000,-999.0000,9,-999.0000,  -999.00,9,  -999.00, -999.000,9, -999.000,   -999.0,9,   -999.0,  -999.00,9,   0.0762,2,   0.0522,2,   0.0282,2,   0.0212,2,   0.0013,3,  -0.0026,4,  -0.0030,4,   0.0133,2,   0.0155,2,  11.0375,  11.0756,2
  33RR20070322,  I09N,   109,  1,     27,     27,2,20070401,2322,-16.8380,  94.9927, 6144, 441.3000,    441.3,  10.1431,  34.8215,2,  34.8270,2,    226.3,2,    226.5,2,     5.64,2,    14.69,2,     0.00,2,     1.06,2,    3.414,2,    1.863,2, -999.000,5,   2130.0,2,   2296.3,2,   7.7616,2,    25.00,     47.7,2,  -999.00,9, -999.000,9, -999.000,-999.0000,9,-999.0000,  -999.00,9,  -999.00, -999.000,9, -999.000,   -999.0,9,   -999.0,  -999.00,9,   0.0736,2,   0.0495,2,   0.0266,2,   0.0201,2,   0.0007,3,  -0.0029,4,  -0.0033,4,   0.0133,2,   0.0158,3,  10.0909,  10.1392,2
  33RR20070322,  I09N,   109,  1,     26,     26,2,20070401,2322,-16.8380,  94.9927, 6144, 492.2000,    492.2,   9.1509,  34.6811,2,  34.6851,2,    226.1,2,    225.7,2,     7.02,2,    17.65,2,     0.00,2,     1.24,2,    3.380,2,    1.790,2, -999.000,5,   2136.3,2,   2291.4,2,   7.7472,2,    25.00,     46.8,2,  -999.00,9, -999.000,9, -999.000,-999.0000,9,-999.0000,  -999.00,9,  -999.00, -999.000,9, -999.000,   -999.0,9,   -999.0,  -999.00,9,   0.0759,2,   0.0506,2,   0.0274,2,   0.0208,2,   0.0014,3,  -0.0027,4,  -0.0032,4,   0.0133,2,   0.0157,3,   9.0962,   9.1456,2
  33RR20070322,  I09N,   109,  1,     25,     25,2,20070401,2322,-16.8380,  94.9927, 6144, 575.9000,    575.9,   7.8102,  34.5812,2,  34.5824,2,    193.9,2,    179.7,2,    21.84,2,    25.02,2,     0.00,2,     1.74,2,    1.807,2,    0.927,2, -999.000,5,   2176.2,2,   2295.1,2,-999.0000,5,    25.00,     45.4,2,  -999.00,9, -999.000,9, -999.000,-999.0000,9,-999.0000,  -999.00,9,  -999.00, -999.000,9, -999.000,   -999.0,9,   -999.0,  -999.00,9,   0.0964,2,   0.0661,2,   0.0373,2,   0.0282,2,   0.0065,2,  -0.0005,4,  -0.0023,4,   0.0131,2,   0.0146,3,   7.7517,   7.8103,2
  33RR20070322,  I09N,   109,  1,     24,     24,2,20070401,2322,-16.8380,  94.9927, 6144, 676.8000,    676.8,   6.6392,  34.6128,2,  34.6135,2,    134.2,2,    116.3,2,    52.67,2,    32.68,2,     0.00,2,     2.33,2,    0.276,2,    0.151,2, -999.000,5,   2239.2,2,   2324.2,2,   7.5240,3,    25.00,     44.0,2,  -999.00,9, -999.000,9, -999.000,-999.0000,9,-999.0000,  -999.00,9,  -999.00, -999.000,9, -999.000,   -999.0,9,   -999.0,  -999.00,9,   0.1310,2,   0.0924,2,   0.0537,2,   0.0403,2,   0.0143,2,   0.0025,3,  -0.0012,4,   0.0136,3,   0.0140,3,   6.5758,   6.6422,2
  33RR20070322,  I09N,   109,  1,     23,     23,2,20070401,2322,-16.8380,  94.9927, 6144, 776.9000,    776.9,   6.1468,  34.6570,2,  34.6568,2,    101.0,2,     93.9,2,    69.92,2,    35.13,2,     0.00,2,     2.54,2,    0.073,2,    0.043,2, -999.000,5,   2268.8,2,   2341.4,2,-999.0000,5,    25.00,     43.2,2,  -999.00,9, -999.000,9, -999.000,-999.0000,9,-999.0000,  -999.00,9,  -999.00, -999.000,9, -999.000,   -999.0,9,   -999.0,  -999.00,9,   0.1462,2,   0.1045,2,   0.0612,2,   0.0460,2,   0.0182,2,   0.0042,2,  -0.0005,4,   0.0136,3,   0.0137,3,   6.0764,   6.1459,2
  33RR20070322,  I09N,   109,  1,     22,     22,2,20070401,2322,-16.8380,  94.9927, 6144, 877.3000,    877.3,   5.7205,  34.6671,2,  34.6672,2,     91.3,2,     88.8,2,    80.33,2,    35.95,2,     0.00,2,     2.61,2,    0.032,2,    0.019,2, -999.000,5,   2282.7,2,   2353.2,2,   7.5339,2,    25.00,     42.3,2,  -999.00,9, -999.000,9, -999.000,-999.0000,9,-999.0000,  -999.00,9,  -999.00, -999.000,9, -999.000,   -999.0,9,   -999.0,  -999.00,9,   0.1517,2,   0.1086,2,   0.0639,2,   0.0478,2,   0.0192,2,   0.0044,2,  -0.0004,4,   0.0138,3,   0.0138,3,   5.6431,   5.7126,2
  33RR20070322,  I09N,   109,  1,     21,     21,2,20070401,2322,-16.8380,  94.9927, 6144, 978.4000,    978.4,   5.2923,  34.6621,2,  34.6621,2,     90.3,2,     89.5,2,    88.42,2,    36.31,2,     0.00,2,     2.65,2,    0.020,2,    0.011,2, -999.000,5,   2291.6,6,   2361.8,6,-999.0000,5,    25.00,     42.0,2,  -999.00,9, -999.000,9, -999.000,-999.0000,9,-999.0000,  -999.00,9,  -999.00, -999.000,9, -999.000,   -999.0,9,   -999.0,  -999.00,9,   0.1540,2,   0.1101,2,   0.0640,2,   0.0475,2,   0.0190,2,   0.0044,2,  -0.0005,4,   0.0139,3,   0.0140,3,   5.2085,   5.2933,2
  33RR20070322,  I09N,   109,  1,     20,     20,2,20070401,2322,-16.8380,  94.9927, 6144,1078.8000,   1078.8,   4.8581,  34.6603,2,  34.6581,2,     93.3,2,     94.9,2,    93.76,2,    36.46,2,     0.00,2,     2.66,2,    0.013,2,    0.007,2, -999.000,5,   2296.1,2,   2367.9,2,   7.5128,2,    25.00,     41.8,2,  -999.00,9, -999.000,9, -999.000,-999.0000,9,-999.0000,  -999.00,9,  -999.00, -999.000,9, -999.000,   -999.0,9,   -999.0,  -999.00,9,   0.1555,2,   0.1114,2,   0.0652,2,   0.0483,2,   0.0191,2,   0.0043,2,  -0.0006,4,   0.0140,3,   0.0140,3,   4.7685,   4.8557,2
  33RR20070322,  I09N,   109,  1,     19,     19,2,20070401,2322,-16.8380,  94.9927, 6144,1178.7000,   1178.7,   4.4868,  34.6652,2,  34.6652,2,     98.1,2,    100.0,2,    96.93,2,    36.41,2,     0.00,2,     2.66,2,    0.009,2,    0.005,2, -999.000,5,   2297.5,2,   2370.6,2,   7.5087,2,    25.00,     41.0,2,  -999.00,9, -999.000,9, -999.000,-999.0000,9,-999.0000,  -999.00,9,  -999.00, -999.000,9, -999.000,   -999.0,9,   -999.0,  -999.00,9,   0.1535,2,   0.1097,2,   0.0637,2,   0.0470,2,   0.0184,2,   0.0041,2,  -0.0006,4,   0.0140,3,   0.0141,3,   4.3913,   4.4902,2
  33RR20070322,  I09N,   109,  1,     18,     18,2,20070401,2322,-16.8380,  94.9927, 6144,1278.8000,   1278.8,   4.1955,  34.6686,2,  34.6680,2,    104.1,2,    105.1,2,    98.52,2,    36.41,2,     0.00,2,     2.64,2,    0.011,2,    0.003,2, -999.000,5,   2298.7,2,   2373.5,2,   7.5040,3,    25.00,     40.8,2,  -999.00,9, -999.000,9, -999.000,-999.0000,9,-999.0000,  -999.00,9,  -999.00, -999.000,9, -999.000,   -999.0,9,   -999.0,  -999.00,9,   0.1541,2,   0.1103,2,   0.0644,2,   0.0478,2,   0.0188,2,   0.0041,3,  -0.0006,4,   0.0140,3,   0.0140,3,   4.0938,   4.1959,2
  33RR20070322,  I09N,   109,  1,     17,     17,2,20070401,2322,-16.8380,  94.9927, 6144,1379.6000,   1379.6,   3.8790,  34.6735,2,  34.6735,2,    110.2,2,    110.9,2,   101.11,2,    36.20,2,     0.00,2,     2.63,2,    0.004,2,    0.002,2, -999.000,5,   2299.6,2,   2372.1,2,   7.5976,4,    25.00,     40.7,2,  -999.00,9, -999.000,9, -999.000,-999.0000,9,-999.0000,  -999.00,9,  -999.00, -999.000,9, -999.000,   -999.0,9,   -999.0,  -999.00,9,   0.1535,2,   0.1096,2,   0.0637,2,   0.0467,2,   0.0184,2,   0.0041,2,  -0.0006,4,   0.0140,3,   0.0141,3,   3.7716,   3.8797,2
  33RR20070322,  I09N,   109,  1,     16,     16,2,20070401,2322,-16.8380,  94.9927, 6144,1480.3000,   1480.3,   3.5793,  34.6842,2,  34.6839,2,    117.7,2,    119.1,2,   102.90,2,    35.88,2,     0.00,2,     2.60,2,    0.042,3,    0.009,2,    0.000,3,   2297.6,2,   2374.4,2,   7.5285,2,    25.00,     40.3,2,  -999.00,9, -999.000,9, -999.000,-999.0000,9,-999.0000,  -999.00,9,  -999.00, -999.000,9, -999.000,   -999.0,9,   -999.0,  -999.00,9,   0.1513,2,   0.1079,2,   0.0625,2,   0.0461,2,   0.0182,2,   0.0043,3,  -0.0003,4,   0.0139,4,   0.0141,4,   3.4663,   3.5794,2
  33RR20070322,  I09N,   109,  1,     15,     15,2,20070401,2322,-16.8380,  94.9927, 6144,1581.8000,   1581.8,   3.3530,  34.6937,2,  34.6932,2,    123.1,2,    124.2,2,   104.10,2,    35.77,2,     0.00,2,     2.58,2, -999.000,9, -999.000,9, -999.000,9,   2298.0,2,   2375.0,2,   7.5402,2,    25.00,     40.0,2,  -999.00,9, -999.000,9, -999.000,-999.0000,9,-999.0000,  -999.00,9,  -999.00, -999.000,9, -999.000,   -999.0,9,   -999.0,  -999.00,9,   0.1472,2,   0.1044,2,   0.0599,2,   0.0436,2,   0.0163,2,   0.0034,3,  -0.0007,4,   0.0140,2,   0.0144,3,   3.2337,   3.3496,2
  33RR20070322,  I09N,   109,  1,     14,     14,2,20070401,2322,-16.8380,  94.9927, 6144,1781.8000,   1781.8,   2.8964,  34.7132,2,  34.7132,2,    135.4,2,    136.8,2,   108.08,2,    35.25,2,     0.00,2,     2.53,2,    0.009,2,    0.007,2,   -0.002,3,   2297.2,2,   2380.5,2,   7.5130,3,    25.00,     40.3,2,  -999.00,9, -999.000,9, -999.000,-999.0000,9,-999.0000,  -999.00,9,  -999.00, -999.000,9, -999.000,   -999.0,9,   -999.0,  -999.00,9,   0.1457,2,   0.1034,2,   0.0593,2,   0.0432,2,   0.0161,2,   0.0032,4,  -0.0009,4,   0.0140,3,   0.0144,4,   2.7655,   2.8963,2
  33RR20070322,  I09N,   109,  1,     13,     13,2,20070401,2322,-16.8380,  94.9927, 6144,1984.4000,   1984.4,   2.5239,  34.7221,2,  34.7213,2,    145.2,2,    145.7,2,   113.05,2,    34.78,2,     0.00,2,     2.48,2,    0.002,2,    0.001,2, -999.000,5,   2297.2,2,   2386.2,2,   7.5591,2,    25.00,     40.2,2,  -999.00,9, -999.000,9, -999.000,-999.0000,9,-999.0000,  -999.00,9,  -999.00, -999.000,9, -999.000,   -999.0,9,   -999.0,  -999.00,9,   0.1424,2,   0.1005,2,   0.0573,2,   0.0417,2,   0.0152,2,   0.0030,3,  -0.0008,4,   0.0139,2,   0.0145,3,   2.3806,   2.5254,2
  33RR20070322,  I09N,   109,  1,     12,     12,2,20070401,2322,-16.8380,  94.9927, 6144,2187.3000,   2187.3,   2.2406,  34.7284,2,  34.7288,2,    152.5,2,    153.0,2,   115.65,2,    34.57,2,     0.00,2,     2.46,2,    0.010,2,    0.006,2,   -0.002,3,   2297.5,2,   2389.8,2,-999.0000,5,    25.00,     40.6,2,  -999.00,9, -999.000,9, -999.000,-999.0000,9,-999.0000,  -999.00,9,  -999.00, -999.000,9, -999.000,   -999.0,9,   -999.0,  -999.00,9,   0.1410,2,   0.0994,2,   0.0566,2,   0.0409,2,   0.0143,2,   0.0025,3,  -0.0012,4,   0.0141,2,   0.0146,3,   2.0839,   2.2421,2
  33RR20070322,  I09N,   109,  1,     11,     11,2,20070401,2322,-16.8380,  94.9927, 6144,2438.7000,   2438.7,   1.9633,  34.7296,2,  34.7288,2,    161.2,2,    161.9,2,   118.84,2,    34.15,2,     0.00,2,     2.42,2, -999.000,9, -999.000,9, -999.000,9,   2295.8,2,   2391.7,2,-999.0000,5,    25.00,     40.8,2,  -999.00,9, -999.000,9, -999.000,-999.0000,9,-999.0000,  -999.00,9,  -999.00, -999.000,9, -999.000,   -999.0,9,   -999.0,  -999.00,9,   0.1396,2,   0.0984,2,   0.0562,2,   0.0409,2,   0.0148,2,   0.0032,3,  -0.0006,4,   0.0138,2,   0.0145,3,   1.7889,   1.9638,2
  33RR20070322,  I09N,   109,  1,     10,     10,2,20070401,2322,-16.8380,  94.9927, 6144,2691.3000,   2691.3,   1.7770,  34.7289,2,  34.7294,2,    166.5,2,    166.9,2,   122.64,2,    33.99,2,     0.00,2,     2.41,2,    0.012,2,    0.003,2,   -0.002,3,   2296.3,2,   2396.4,2,   7.5875,2,    25.00,     40.9,2,  -999.00,9, -999.000,9, -999.000,-999.0000,9,-999.0000,  -999.00,9,  -999.00, -999.000,9, -999.000,   -999.0,9,   -999.0,  -999.00,9,   0.1384,2,   0.0971,2,   0.0548,2,   0.0397,2,   0.0138,2,   0.0027,3,  -0.0010,4,   0.0140,2,   0.0147,3,   1.5831,   1.7770,2
  33RR20070322,  I09N,   109,  1,      9,      9,2,20070401,2322,-16.8380,  94.9927, 6144,2943.4000,   2943.4,   1.6305,  34.7265,2,  34.7254,2,    170.3,2,    170.4,2,   125.85,2,    33.88,2,     0.00,2,     2.39,2,    0.003,2,    0.002,2, -999.000,5,   2297.3,2,   2400.0,2,   7.5848,2,    25.00,     40.2,2,  -999.00,9, -999.000,9, -999.000,-999.0000,9,-999.0000,  -999.00,9,  -999.00, -999.000,9, -999.000,   -999.0,9,   -999.0,  -999.00,9,   0.1382,2,   0.0969,2,   0.0548,2,   0.0394,2,   0.0137,2,   0.0027,3,  -0.0009,4,   0.0140,2,   0.0148,3,   1.4160,   1.6303,2
  33RR20070322,  I09N,   109,  1,      8,      8,2,20070401,2322,-16.8380,  94.9927, 6144,3278.7000,   3278.7,   1.4833,  34.7231,2,  34.7231,2,    175.2,2,    175.5,2,   127.25,2,    33.73,2,     0.00,2,     2.37,2,    0.008,2,    0.003,2,   -0.003,3,   2296.8,2,   2401.0,2,   7.6230,2,    25.00,     40.7,2,  -999.00,9, -999.000,9, -999.000,-999.0000,9,-999.0000,  -999.00,9,  -999.00, -999.000,9, -999.000,   -999.0,9,   -999.0,  -999.00,9,   0.1376,2,   0.0966,2,   0.0543,2,   0.0392,2,   0.0136,2,   0.0026,3,  -0.0008,4,   0.0140,2,   0.0148,3,   1.2395,   1.4831,2
  33RR20070322,  I09N,   109,  1,      7,      7,2,20070401,2322,-16.8380,  94.9927, 6144,3685.4000,   3685.4,   1.3363,  34.7197,2,  34.7197,2,    182.5,2,    182.9,2,   127.67,2,    33.41,2,     0.00,2,     2.34,2, -999.000,9, -999.000,9, -999.000,9,   2291.3,2,   2400.8,2,   7.6390,2,    25.00,     40.2,2,  -999.00,9, -999.000,9, -999.000,-999.0000,9,-999.0000,  -999.00,9,  -999.00, -999.000,9, -999.000,   -999.0,9,   -999.0,  -999.00,9,   0.1325,2,   0.0921,2,   0.0516,2,   0.0370,2,   0.0123,2,   0.0021,3,  -0.0010,4,   0.0140,2,   0.0150,3,   1.0550,   1.3361,2
  33RR20070322,  I09N,   109,  1,      6,      6,2,20070401,2322,-16.8380,  94.9927, 6144,4092.6000,   4092.6,   1.2102,  34.7168,2,  34.7188,3,    192.3,2,    192.7,2,   125.09,2,    32.79,2,     0.00,2,     2.29,2,    0.014,2,    0.003,2,    0.000,3,   2281.8,2,   2396.1,2,   7.5998,2,    25.00,     40.4,2,  -999.00,9, -999.000,9, -999.000,-999.0000,9,-999.0000,  -999.00,9,  -999.00, -999.000,9, -999.000,   -999.0,9,   -999.0,  -999.00,9,   0.1276,2,   0.0881,2,   0.0482,2,   0.0343,2,   0.0104,2,   0.0014,3,  -0.0014,4,   0.0141,2,   0.0154,3,   0.8892,   1.2099,2
  33RR20070322,  I09N,   109,  1,      5,      5,2,20070401,2322,-16.8380,  94.9927, 6144,4499.9000,   4499.9,   1.1374,  34.7145,2,  34.7144,2,    199.5,2,    199.5,2,   122.32,2,    32.53,2,     0.00,2,     2.26,2,    0.004,2,    0.002,2, -999.000,5,   2274.3,2,   2382.1,2,   7.5993,2,    25.00,     40.5,2,  -999.00,9, -999.000,9, -999.000,-999.0000,9,-999.0000,  -999.00,9,  -999.00, -999.000,9, -999.000,   -999.0,9,   -999.0,  -999.00,9,   0.1208,2,   0.0827,2,   0.0445,2,   0.0312,2,   0.0082,2,   0.0005,4,  -0.0018,4,   0.0142,2,   0.0160,3,   0.7735,   1.1372,2