BOTTLE,20150630SIOCCHRJL
EXPOCODE,SECT_ID,STNNBR,CASTNO,SAMPNO,BTLNBR,BTLNBR_FLAG_W,DATE,TIME,LATITUDE,LONGITUDE,DEPTH,CTDRAW,CTDPRS,CTDTMP,CTDSAL,CTDSAL_FLAG_W,SALNTY,SALNTY_FLAG_W,CTDOXY,CTDOXY_FLAG_W,OXYGEN,OXYGEN_FLAG_W,SILCAT,SILCAT_FLAG_W,NITRAT,NITRAT_FLAG_W,NITRIT,NITRIT_FLAG_W,PHSPHT,PHSPHT_FLAG_W,CFC-11,CFC-11_FLAG_W,CFC-12,CFC-12_FLAG_W,CFC113,CFC113_FLAG_W,TCARBN,TCARBN_FLAG_W,ALKALI,ALKALI_FLAG_W,PH_SWS,PH_SWS_FLAG_W,PH_TMP,DOC,DOC_FLAG_W,TDN,TDN_FLAG_W,TRITUM,TRITUM_FLAG_W,TRITER,HELIUM,HELIUM_FLAG_W,HELIER,DELHE3,DELHE3_FLAG_W,DELHER,NEON,NEON_FLAG_W,NEONER,DELC14,DELC14_FLAG_W,C14ERR,DELC13,DELC13_FLAG_W,CDOM325,CDOM325_FLAG_W,CDOM340,CDOM340_FLAG_W,CDOM380,CDOM380_FLAG_W,CDOM412,CDOM412_FLAG_W,CDOM443,CDOM443_FLAG_W,CDOM490,CDOM490_FLAG_W,CDOM555,CDOM555_FLAG_W,CDOMSL,CDOMSL_FLAG_W,CDOMSN,CDOMSN_FLAG_W,THETA,SBE35,SBE35_FLAG_W
,,,,,,,,,,,METERS,,DBAR,ITS-90,PSS-78,,PSS-78,,UMOL/KG,,UMOL/KG,,UMOL/KG,,UMOL/KG,,UMOL/KG,,UMOL/KG,,PMOL/KG,,PMOL/KG,,PMOL/KG,,UMOL/KG,,UMOL/KG,,,,DEG C,UMOL/KG,,UMOL/KG,,TU,,TU,NMOL/KG,,NMOL/KG,PERCNT,,PERCNT,NMOL/KG,,NMOL/KG,/MILLE,,/MILLE,/MILLE,,1/M,,1/M,,1/M,,1/M,,1/M,,1/M,,1/M,,1/NM,,1/NM,,DEG C,ITS-90,
  33RR20070322,  I09N,   143,  2,      4,      4,2,20070412,0657, -0.6303,  93.6480, 4583,3833.5000,   3833.5,   1.1531,  34.7163,2,  34.7152,2,    189.3,2,    189.9,2,   129.61,2,    33.13,2,     0.00,2,     2.29,2, -999.000,9, -999.000,9, -999.000,9,   2288.4,2,   2397.0,2,   7.6137,2,    25.00,     40.5,2,    34.81,2, -999.000,9, -999.000,-999.0000,9,-999.0000,  -999.00,9,  -999.00, -999.000,9, -999.000,   -999.0,9,   -999.0,  -999.00,9,   0.1337,2,   0.0929,2,   0.0504,2,   0.0357,2,   0.0109,2,   0.0015,3,  -0.0015,4,   0.0144,2,   0.0156,3,   0.8613,   1.1531,2
  33RR20070322,  I09N,   143,  2,      3,      3,2,20070412,0657, -0.6303,  93.6480, 4583,4241.0000,   4241.0,   1.1586,  34.7152,2,  34.7200,3,    192.1,2,    192.0,2,   129.19,2,    33.18,2,     0.00,2,     2.28,2,    0.003,2,    0.001,2, -999.000,5,   2287.5,2,   2392.0,2,   7.6188,2,    25.00,     40.8,2,    34.75,2, -999.000,9, -999.000,-999.0000,9,-999.0000,  -999.00,9,  -999.00, -999.000,9, -999.000,   -999.0,9,   -999.0,  -999.00,9,   0.1305,2,   0.0903,2,   0.0488,2,   0.0343,2,   0.0099,2,   0.0012,3,  -0.0016,4,   0.0144,2,   0.0158,3,   0.8229,   1.1586,2
  33RR20070322,  I09N,   143,  2,      2,      2,2,20070412,0657, -0.6303,  93.6480, 4583,4444.1000,   4444.1,   1.1717,  34.7149,2,  34.7150,2,    192.6,2,    192.4,2,   128.78,2,    33.07,2,     0.00,2,     2.27,2,    0.004,2,    0.001,2, -999.000,5,   2286.8,2,   2391.2,2,   7.6239,2,    25.00,     41.0,2,    34.21,2, -999.000,9, -999.000,-999.0000,9,-999.0000,  -999.00,9,  -999.00, -999.000,9, -999.000,   -999.0,9,   -999.0,  -999.00,9,   0.1301,2,   0.0897,2,   0.0479,2,   0.0328,2,   0.0090,2,   0.0009,3,  -0.0016,4,   0.0146,2,   0.0163,3,   0.8130,   1.1715,2
  33RR20070322,  I09N,   143,  2,      1,      1,2,20070412,0657, -0.6303,  93.6480, 4583,4638.0000,   4638.0,   1.1921,  34.7146,2,  34.7144,2,    192.4,2,    193.0,2,   128.37,2,    33.07,2,     0.00,2,     2.27,2,    0.005,2,    0.001,2, -999.000,5,   2286.8,6,   2387.3,6,   7.6296,6,    25.00,     41.2,2,    34.40,2, -999.000,9, -999.000,-999.0000,9,-999.0000,  -999.00,9,  -999.00, -999.000,9, -999.000,   -999.0,9,   -999.0,  -999.00,9,   0.1330,2,   0.0924,2,   0.0501,2,   0.0353,2,   0.0109,2,   0.0021,3,  -0.0009,4,   0.0141,2,   0.0155,3,   0.8106,   1.1918,2