BOTTLE,20150630SIOCCHRJL
EXPOCODE,SECT_ID,STNNBR,CASTNO,SAMPNO,BTLNBR,BTLNBR_FLAG_W,DATE,TIME,LATITUDE,LONGITUDE,DEPTH,CTDRAW,CTDPRS,CTDTMP,CTDSAL,CTDSAL_FLAG_W,SALNTY,SALNTY_FLAG_W,CTDOXY,CTDOXY_FLAG_W,OXYGEN,OXYGEN_FLAG_W,SILCAT,SILCAT_FLAG_W,NITRAT,NITRAT_FLAG_W,NITRIT,NITRIT_FLAG_W,PHSPHT,PHSPHT_FLAG_W,CFC-11,CFC-11_FLAG_W,CFC-12,CFC-12_FLAG_W,CFC113,CFC113_FLAG_W,TCARBN,TCARBN_FLAG_W,ALKALI,ALKALI_FLAG_W,PH_SWS,PH_SWS_FLAG_W,PH_TMP,DOC,DOC_FLAG_W,TDN,TDN_FLAG_W,TRITUM,TRITUM_FLAG_W,TRITER,HELIUM,HELIUM_FLAG_W,HELIER,DELHE3,DELHE3_FLAG_W,DELHER,NEON,NEON_FLAG_W,NEONER,DELC14,DELC14_FLAG_W,C14ERR,DELC13,DELC13_FLAG_W,CDOM325,CDOM325_FLAG_W,CDOM340,CDOM340_FLAG_W,CDOM380,CDOM380_FLAG_W,CDOM412,CDOM412_FLAG_W,CDOM443,CDOM443_FLAG_W,CDOM490,CDOM490_FLAG_W,CDOM555,CDOM555_FLAG_W,CDOMSL,CDOMSL_FLAG_W,CDOMSN,CDOMSN_FLAG_W,THETA,SBE35,SBE35_FLAG_W
,,,,,,,,,,,METERS,,DBAR,ITS-90,PSS-78,,PSS-78,,UMOL/KG,,UMOL/KG,,UMOL/KG,,UMOL/KG,,UMOL/KG,,UMOL/KG,,PMOL/KG,,PMOL/KG,,PMOL/KG,,UMOL/KG,,UMOL/KG,,,,DEG C,UMOL/KG,,UMOL/KG,,TU,,TU,NMOL/KG,,NMOL/KG,PERCNT,,PERCNT,NMOL/KG,,NMOL/KG,/MILLE,,/MILLE,/MILLE,,1/M,,1/M,,1/M,,1/M,,1/M,,1/M,,1/M,,1/NM,,1/NM,,DEG C,ITS-90,
  33RR20070322,  I09N,   101,  3,      4,      4,2,20070330,0912,-21.3165,  95.0013, 5180,4247.0000,   4247.0,   1.1405,  34.7160,2,  34.7160,2,    199.1,2,    199.3,2,   122.54,2,    32.15,2,     0.00,2,     2.25,2, -999.000,9, -999.000,9, -999.000,9,   2272.9,2,   2384.1,2,-999.0000,5,    25.00,     40.8,2,    34.13,2, -999.000,9, -999.000,-999.0000,9,-999.0000,  -999.00,9,  -999.00, -999.000,9, -999.000,   -999.0,9,   -999.0,  -999.00,9,-999.0000,9,-999.0000,9,-999.0000,9,-999.0000,9,-999.0000,9,-999.0000,9,-999.0000,9,-999.0000,9,-999.0000,9,   0.8047,   1.1415,2
  33RR20070322,  I09N,   101,  3,      3,      3,2,20070330,0912,-21.3165,  95.0013, 5180,4654.8000,   4654.8,   1.0764,  34.7124,2,  34.7141,3,    203.5,2,    203.6,2,   122.14,2,    32.09,2,     0.00,2,     2.24,2,    0.010,2,    0.004,2, -999.000,5,   2267.5,2,   2380.6,2,   7.6190,3,    25.00,     40.7,2,    33.43,2, -999.000,9, -999.000,-999.0000,9,-999.0000,  -999.00,9,  -999.00, -999.000,9, -999.000,   -999.0,9,   -999.0,  -999.00,9,-999.0000,9,-999.0000,9,-999.0000,9,-999.0000,9,-999.0000,9,-999.0000,9,-999.0000,9,-999.0000,9,-999.0000,9,   0.6967,   1.0762,2
  33RR20070322,  I09N,   101,  3,      2,      2,2,20070330,0912,-21.3165,  95.0013, 5180,4960.4000,   4960.4,   1.0903,  34.7115,2,  34.7127,3,    204.2,2,    204.1,2,   122.34,2,    32.03,2,     0.00,2,     2.24,2, -999.000,5, -999.000,5, -999.000,5,   2266.8,2,   2380.3,2,   7.5996,2,    25.00,     40.8,2,    33.17,2, -999.000,9, -999.000,-999.0000,9,-999.0000,  -999.00,9,  -999.00, -999.000,9, -999.000,   -999.0,9,   -999.0,  -999.00,9,-999.0000,9,-999.0000,9,-999.0000,9,-999.0000,9,-999.0000,9,-999.0000,9,-999.0000,9,-999.0000,9,-999.0000,9,   0.6744,   1.0900,2
  33RR20070322,  I09N,   101,  3,      1,      1,2,20070330,0912,-21.3165,  95.0013, 5180,5269.1000,   5269.1,   1.1238,  34.7110,2,  34.7127,3,    204.1,2,    204.4,2,   122.34,2,    31.98,2,     0.00,2,     2.24,2, -999.000,5, -999.000,5, -999.000,5,   2266.9,6,   2380.5,6,   7.6452,6,    25.00,     40.9,2,    33.63,2, -999.000,9, -999.000,-999.0000,9,-999.0000,  -999.00,9,  -999.00, -999.000,9, -999.000,   -999.0,9,   -999.0,  -999.00,9,-999.0000,9,-999.0000,9,-999.0000,9,-999.0000,9,-999.0000,9,-999.0000,9,-999.0000,9,-999.0000,9,-999.0000,9,   0.6694,   1.1236,2