BOTTLE,20150630SIOCCHRJL
EXPOCODE,SECT_ID,STNNBR,CASTNO,SAMPNO,BTLNBR,BTLNBR_FLAG_W,DATE,TIME,LATITUDE,LONGITUDE,DEPTH,CTDRAW,CTDPRS,CTDTMP,CTDSAL,CTDSAL_FLAG_W,SALNTY,SALNTY_FLAG_W,CTDOXY,CTDOXY_FLAG_W,OXYGEN,OXYGEN_FLAG_W,SILCAT,SILCAT_FLAG_W,NITRAT,NITRAT_FLAG_W,NITRIT,NITRIT_FLAG_W,PHSPHT,PHSPHT_FLAG_W,CFC-11,CFC-11_FLAG_W,CFC-12,CFC-12_FLAG_W,CFC113,CFC113_FLAG_W,TCARBN,TCARBN_FLAG_W,ALKALI,ALKALI_FLAG_W,PH_SWS,PH_SWS_FLAG_W,PH_TMP,DOC,DOC_FLAG_W,TDN,TDN_FLAG_W,TRITUM,TRITUM_FLAG_W,TRITER,HELIUM,HELIUM_FLAG_W,HELIER,DELHE3,DELHE3_FLAG_W,DELHER,NEON,NEON_FLAG_W,NEONER,DELC14,DELC14_FLAG_W,C14ERR,DELC13,DELC13_FLAG_W,CDOM325,CDOM325_FLAG_W,CDOM340,CDOM340_FLAG_W,CDOM380,CDOM380_FLAG_W,CDOM412,CDOM412_FLAG_W,CDOM443,CDOM443_FLAG_W,CDOM490,CDOM490_FLAG_W,CDOM555,CDOM555_FLAG_W,CDOMSL,CDOMSL_FLAG_W,CDOMSN,CDOMSN_FLAG_W,THETA,SBE35,SBE35_FLAG_W
,,,,,,,,,,,METERS,,DBAR,ITS-90,PSS-78,,PSS-78,,UMOL/KG,,UMOL/KG,,UMOL/KG,,UMOL/KG,,UMOL/KG,,UMOL/KG,,PMOL/KG,,PMOL/KG,,PMOL/KG,,UMOL/KG,,UMOL/KG,,,,DEG C,UMOL/KG,,UMOL/KG,,TU,,TU,NMOL/KG,,NMOL/KG,PERCNT,,PERCNT,NMOL/KG,,NMOL/KG,/MILLE,,/MILLE,/MILLE,,1/M,,1/M,,1/M,,1/M,,1/M,,1/M,,1/M,,1/NM,,1/NM,,DEG C,ITS-90,
  33RR20070322,  I09N,   149,  1,     36,     38,2,20070413,2306,  1.0987,  92.5042, 4385,   2.7000,      2.7,  29.6974,  34.0725,2,  34.0727,2,    193.0,2,    194.9,2,     1.22,2,     0.07,2,     0.00,2,     0.07,2,    1.490,2,    0.958,2, -999.000,5,   1903.7,6,   2233.4,6,   8.1240,6,    25.00,     75.2,2,  -999.00,9, -999.000,9, -999.000,-999.0000,9,-999.0000,  -999.00,9,  -999.00, -999.000,9, -999.000,   -999.0,9,   -999.0,  -999.00,9,   0.0670,2,   0.0449,2,   0.0221,2,   0.0165,2,  -0.0011,4,  -0.0027,4,  -0.0036,4,   0.0146,3,   0.0180,3,  29.6967,  29.6879,2
  33RR20070322,  I09N,   149,  1,     35,     35,2,20070413,2306,  1.0987,  92.5042, 4385,  30.0000,     30.0,  29.7017,  34.0795,2,  34.0772,2,    195.3,2,    194.6,2,     0.97,2,     0.07,2,     0.00,2,     0.07,2,    1.478,2,    0.956,2, -999.000,5,   1905.8,2,   2233.3,2,   8.1204,2,    25.00,     73.2,2,  -999.00,9, -999.000,9, -999.000,-999.0000,9,-999.0000,  -999.00,9,  -999.00, -999.000,9, -999.000,   -999.0,9,   -999.0,  -999.00,9,   0.0635,2,   0.0431,2,   0.0213,2,   0.0160,2,  -0.0014,4,  -0.0029,4,  -0.0036,4,   0.0144,2,   0.0178,3,  29.6943,  29.6956,2
  33RR20070322,  I09N,   149,  1,     34,   9419,2,20070413,2306,  1.0987,  92.5042, 4385,  54.8000,     54.8,  29.6153,  34.1056,2,  34.1030,2,    196.0,2,    194.6,2,     1.10,2,     0.08,2,     0.00,2,     0.07,2,    1.494,2,    0.973,2, -999.000,5,   1907.8,2,   2234.1,2,   8.1184,2,    25.00,     73.2,2,  -999.00,9, -999.000,9, -999.000,-999.0000,9,-999.0000,  -999.00,9,  -999.00, -999.000,9, -999.000,   -999.0,9,   -999.0,  -999.00,9,   0.0709,2,   0.0488,2,   0.0252,2,   0.0195,2,   0.0012,3,  -0.0015,4,  -0.0030,4,   0.0131,3,   0.0159,3,  29.6019,  29.6098,2
  33RR20070322,  I09N,   149,  1,     33,     33,2,20070413,2306,  1.0987,  92.5042, 4385,  80.2000,     80.2,  28.9204,  34.2889,2,  34.2828,2,    195.6,2,    194.4,2,     1.25,2,     0.08,2,     0.00,2,     0.12,2,    1.517,2,    0.991,2, -999.000,5,   1928.7,2,   2242.9,2,   8.0608,2,    25.00,     67.9,2,  -999.00,9, -999.000,9, -999.000,-999.0000,9,-999.0000,  -999.00,9,  -999.00, -999.000,9, -999.000,   -999.0,9,   -999.0,  -999.00,9,   0.1051,2,   0.0743,2,   0.0390,2,   0.0299,2,   0.0067,2,   0.0007,3,  -0.0019,4,   0.0113,3,   0.0153,3,  28.9011,  28.9150,2
  33RR20070322,  I09N,   149,  1,     32,     37,2,20070413,2306,  1.0987,  92.5042, 4385, 105.1000,    105.1,  23.4110,  35.3660,2,  35.3752,2,    120.5,2,    120.3,2,     6.78,2,     9.68,2,     1.48,2,     0.90,2,    1.603,2,    1.013,2, -999.000,5,   2089.5,2,   2308.9,2,   7.8742,2,    25.00,     60.8,2,  -999.00,9, -999.000,9, -999.000,-999.0000,9,-999.0000,  -999.00,9,  -999.00, -999.000,9, -999.000,   -999.0,9,   -999.0,  -999.00,9,   0.2020,2,   0.1515,2,   0.0830,2,   0.0624,2,   0.0232,2,   0.0072,2,   0.0013,2,   0.0149,3,   0.0146,2,  23.3892,  23.5886,2
  33RR20070322,  I09N,   149,  1,     31,     31,2,20070413,2306,  1.0987,  92.5042, 4385, 154.3000,    154.3,  19.6525,  35.2644,2,  35.2510,2,     74.9,2,     70.5,2,    13.31,2,    19.99,2,     0.02,2,     1.44,2,    1.577,2,    0.955,2, -999.000,5,   2152.6,2,   2306.9,2,   7.7399,2,    25.00,     57.6,2,  -999.00,9, -999.000,9, -999.000,-999.0000,9,-999.0000,  -999.00,9,  -999.00, -999.000,9, -999.000,   -999.0,9,   -999.0,  -999.00,9,   0.1740,2,   0.1284,2,   0.0746,2,   0.0597,2,   0.0221,2,   0.0058,2,   0.0005,4,   0.0143,3,   0.0136,3,  19.6243,  19.5577,2
  33RR20070322,  I09N,   149,  1,     30,     30,2,20070413,2306,  1.0987,  92.5042, 4385, 204.1000,    204.1,  15.0302,  35.1331,2,  35.1336,2,     56.3,2,     56.2,2,    19.64,2,    25.28,2,     0.01,2,     1.78,2,    1.413,2,    0.812,2, -999.000,5,   2198.4,2,   2307.7,2,   7.6259,2,    25.00,     51.5,2,  -999.00,9, -999.000,9, -999.000,-999.0000,9,-999.0000,  -999.00,9,  -999.00, -999.000,9, -999.000,   -999.0,9,   -999.0,  -999.00,9,   0.1674,2,   0.1240,2,   0.0739,2,   0.0591,2,   0.0228,2,   0.0057,2,   0.0001,4,   0.0141,3,   0.0132,3,  14.9992,  15.0359,2
  33RR20070322,  I09N,   149,  1,     29,     29,2,20070413,2306,  1.0987,  92.5042, 4385, 254.5000,    254.5,  13.0134,  35.1018,2,  35.1009,2,     64.1,2,     64.3,2,    21.39,2,    26.57,2,     0.01,2,     1.86,2,    1.254,2,    0.692,2, -999.000,5,   2209.9,2,   2310.6,2,   7.6078,2,    25.00,     48.6,2,  -999.00,9, -999.000,9, -999.000,-999.0000,9,-999.0000,  -999.00,9,  -999.00, -999.000,9, -999.000,   -999.0,9,   -999.0,  -999.00,9,   0.1640,2,   0.1222,2,   0.0746,2,   0.0600,2,   0.0243,2,   0.0062,2,   0.0002,4,   0.0139,3,   0.0127,3,  12.9783,  13.0148,2
  33RR20070322,  I09N,   149,  1,     28,     28,2,20070413,2306,  1.0987,  92.5042, 4385, 303.8000,    303.8,  11.8625,  35.0609,2,  35.0614,2,     67.8,2,     67.0,2,    23.92,2,    27.81,2,     0.00,2,     1.93,2,    1.059,2,    0.585,2, -999.000,5,   2217.7,2,   2310.1,2,   7.5881,2,    25.00,     47.6,2,  -999.00,9, -999.000,9, -999.000,-999.0000,9,-999.0000,  -999.00,9,  -999.00, -999.000,9, -999.000,   -999.0,9,   -999.0,  -999.00,9,   0.1673,2,   0.1255,2,   0.0779,2,   0.0630,2,   0.0270,2,   0.0073,2,   0.0007,3,   0.0137,3,   0.0124,3,  11.8230,  11.8614,2
  33RR20070322,  I09N,   149,  1,     27,     27,2,20070413,2306,  1.0987,  92.5042, 4385, 353.6000,    353.6,  11.2369,  35.0322,2,  35.0316,2,     68.5,2,     70.2,2,    25.47,2,    28.58,2,     0.00,2,     1.98,2,    0.954,2,    0.526,2, -999.000,5,   2220.0,2,   2310.6,2,   7.5746,2,    25.00,     47.2,2,  -999.00,9, -999.000,9, -999.000,-999.0000,9,-999.0000,  -999.00,9,  -999.00, -999.000,9, -999.000,   -999.0,9,   -999.0,  -999.00,9,   0.1624,2,   0.1211,2,   0.0752,2,   0.0608,2,   0.0257,2,   0.0068,2,   0.0001,4,   0.0136,3,   0.0124,3,  11.1924,  11.2347,2
  33RR20070322,  I09N,   149,  1,     26,     26,2,20070413,2306,  1.0987,  92.5042, 4385, 403.7000,    403.7,  10.9215,  35.0254,2,  35.0236,2,     71.1,2,     69.8,2,    27.01,2,    29.20,2,     0.00,2,     2.03,2,    0.891,2,    0.485,2, -999.000,5,   2223.5,2,   2314.0,2,   7.5693,2,    25.00,     46.7,2,  -999.00,9, -999.000,9, -999.000,-999.0000,9,-999.0000,  -999.00,9,  -999.00, -999.000,9, -999.000,   -999.0,9,   -999.0,  -999.00,9,   0.1642,2,   0.1223,2,   0.0762,2,   0.0620,2,   0.0270,2,   0.0075,2,   0.0006,4,   0.0135,3,   0.0123,3,  10.8715,  10.9202,2
  33RR20070322,  I09N,   149,  1,     25,     25,2,20070413,2306,  1.0987,  92.5042, 4385, 453.9000,    453.9,  10.5832,  35.0101,2,  35.0084,2,     70.4,2,     64.1,2,    30.16,2,    30.33,2,     0.00,2,     2.12,2,    0.690,2,    0.380,2, -999.000,5,   2230.0,2,   2312.4,2,   7.5444,2,    25.00,     45.7,2,  -999.00,9, -999.000,9, -999.000,-999.0000,9,-999.0000,  -999.00,9,  -999.00, -999.000,9, -999.000,   -999.0,9,   -999.0,  -999.00,9,   0.1657,2,   0.1235,2,   0.0766,2,   0.0619,2,   0.0271,2,   0.0075,2,   0.0005,4,   0.0136,3,   0.0124,3,  10.5279,  10.5811,2
  33RR20070322,  I09N,   149,  1,     24,     24,2,20070413,2306,  1.0987,  92.5042, 4385, 504.4000,    504.4,  10.2869,  35.0041,2,  35.0024,2,     65.3,2,     63.3,2,    32.50,2,    31.01,2,     0.00,2,     2.18,2,    0.599,2,    0.330,2, -999.000,5,   2235.2,2,   2314.8,2,   7.5260,2,    25.00,     44.8,2,  -999.00,9, -999.000,9, -999.000,-999.0000,9,-999.0000,  -999.00,9,  -999.00, -999.000,9, -999.000,   -999.0,9,   -999.0,  -999.00,9,   0.1669,2,   0.1245,2,   0.0771,2,   0.0618,2,   0.0272,2,   0.0077,2,   0.0006,3,   0.0136,3,   0.0124,3,  10.2264,  10.2853,2
  33RR20070322,  I09N,   149,  1,     23,     23,2,20070413,2306,  1.0987,  92.5042, 4385, 604.1000,    604.1,   9.4181,  35.0159,2,  35.0140,2,     49.8,2,     44.6,2,    45.65,2,    34.06,2,     0.00,2,     2.47,2,    0.225,2,    0.131,2, -999.000,5,   2261.1,2,   2328.6,2,   7.5239,2,    25.00,     44.0,2,  -999.00,9, -999.000,9, -999.000,-999.0000,9,-999.0000,  -999.00,9,  -999.00, -999.000,9, -999.000,   -999.0,9,   -999.0,  -999.00,9,   0.1814,2,   0.1361,2,   0.0844,2,   0.0672,2,   0.0309,2,   0.0093,2,   0.0012,2,   0.0137,3,   0.0124,3,   9.3491,   9.4160,2
  33RR20070322,  I09N,   149,  1,     22,     22,2,20070413,2306,  1.0987,  92.5042, 4385, 703.7000,    703.7,   9.0449,  35.0204,2,  35.0186,2,     46.8,2,     41.2,2,    51.41,2,    34.84,2,     0.00,2,     2.55,2,    0.158,2,    0.091,2, -999.000,5,   2269.3,6,   2332.9,6,   7.4991,6,    25.00,     43.1,2,  -999.00,9, -999.000,9, -999.000,-999.0000,9,-999.0000,  -999.00,9,  -999.00, -999.000,9, -999.000,   -999.0,9,   -999.0,  -999.00,9,   0.1832,2,   0.1371,2,   0.0850,2,   0.0675,2,   0.0309,2,   0.0092,2,   0.0011,2,   0.0138,3,   0.0125,3,   8.9660,   9.0434,2
  33RR20070322,  I09N,   149,  1,     21,     21,2,20070413,2306,  1.0987,  92.5042, 4385, 804.4000,    804.4,   8.1602,  35.0026,2,  35.0018,2,     41.1,2,     38.8,2,    63.99,2,    36.20,2,     0.00,2,     2.68,2,    0.067,2,    0.042,2, -999.000,5,   2287.9,2,   2344.3,2,   7.4751,2,    25.00,     42.1,2,  -999.00,9, -999.000,9, -999.000,-999.0000,9,-999.0000,  -999.00,9,  -999.00, -999.000,9, -999.000,   -999.0,9,   -999.0,  -999.00,9,   0.1914,2,   0.1432,2,   0.0886,2,   0.0696,2,   0.0324,2,   0.0098,2,   0.0013,2,   0.0139,3,   0.0126,3,   8.0747,   8.1604,2
  33RR20070322,  I09N,   149,  1,     20,     20,2,20070413,2306,  1.0987,  92.5042, 4385, 904.6000,    904.6,   7.2821,  34.9762,2,  34.9766,2,     45.1,2,     44.0,2,    74.60,2,    36.83,2,     0.00,2,     2.73,2,    0.030,2,    0.018,2, -999.000,5,   2298.5,2,   -999.0,5,   7.4774,2,    25.00,     41.2,2,  -999.00,9, -999.000,9, -999.000,-999.0000,9,-999.0000,  -999.00,9,  -999.00, -999.000,9, -999.000,   -999.0,9,   -999.0,  -999.00,9,   0.1923,2,   0.1439,2,   0.0883,2,   0.0686,2,   0.0317,2,   0.0094,2,   0.0010,2,   0.0140,3,   0.0128,3,   7.1912,   7.2854,2
  33RR20070322,  I09N,   149,  1,     19,     19,2,20070413,2306,  1.0987,  92.5042, 4385,1005.5000,   1005.5,   6.4426,  34.9314,2,  34.9304,2,     53.4,2,     53.7,2,    84.62,2,    37.08,2,     0.00,2,     2.74,2,    0.019,2,    0.011,2, -999.000,5,   2305.6,2,   2364.9,2,   7.4585,2,    25.00,     40.7,2,  -999.00,9, -999.000,9, -999.000,-999.0000,9,-999.0000,  -999.00,9,  -999.00, -999.000,9, -999.000,   -999.0,9,   -999.0,  -999.00,9,   0.1902,2,   0.1417,2,   0.0866,2,   0.0667,2,   0.0306,2,   0.0092,2,   0.0009,3,   0.0140,3,   0.0129,3,   6.3472,   6.4406,2
  33RR20070322,  I09N,   149,  1,     18,     18,2,20070413,2306,  1.0987,  92.5042, 4385,1105.3000,   1105.3,   5.9366,  34.9054,2,  34.9054,2,     62.2,2,     62.1,2,    90.63,2,    36.93,2,     0.00,2,     2.72,2,    0.024,2,    0.013,2, -999.000,5,   2309.1,2,   2372.8,2,   7.4844,2,    25.00,     41.4,2,  -999.00,9, -999.000,9, -999.000,-999.0000,9,-999.0000,  -999.00,9,  -999.00, -999.000,9, -999.000,   -999.0,9,   -999.0,  -999.00,9,   0.1986,2,   0.1487,2,   0.0917,2,   0.0714,2,   0.0340,2,   0.0110,2,   0.0020,2,   0.0139,3,   0.0126,3,   5.8352,   5.9343,2
  33RR20070322,  I09N,   149,  1,     17,     17,2,20070413,2306,  1.0987,  92.5042, 4385,1205.9000,   1205.9,   5.4751,  34.8865,2,  34.8854,2,     69.4,2,     69.0,2,    95.64,2,    36.98,2,     0.00,2,     2.72,2,    0.015,2,    0.009,2, -999.000,5,   2311.4,2,   2376.0,2,   7.4918,2,    25.00,     41.0,2,  -999.00,9, -999.000,9, -999.000,-999.0000,9,-999.0000,  -999.00,9,  -999.00, -999.000,9, -999.000,   -999.0,9,   -999.0,  -999.00,9,   0.1930,2,   0.1437,2,   0.0872,2,   0.0672,2,   0.0310,2,   0.0095,2,   0.0013,2,   0.0140,3,   0.0130,3,   5.3678,   5.4749,2
  33RR20070322,  I09N,   149,  1,     16,     16,2,20070413,2306,  1.0987,  92.5042, 4385,1306.9000,   1306.9,   5.1607,  34.8786,2,  34.8777,2,     73.3,2,     72.9,2,    98.43,2,    37.03,2,     0.00,2,     2.74,2, -999.000,9, -999.000,9, -999.000,9,   2313.5,2,   2374.6,2,   7.4816,2,    25.00,     40.9,2,  -999.00,9, -999.000,9, -999.000,-999.0000,9,-999.0000,  -999.00,9,  -999.00, -999.000,9, -999.000,   -999.0,9,   -999.0,  -999.00,9,   0.1968,2,   0.1473,2,   0.0905,2,   0.0704,2,   0.0341,2,   0.0119,2,   0.0029,2,   0.0136,3,   0.0126,3,   5.0466,   5.1619,2
  33RR20070322,  I09N,   149,  1,     15,     15,2,20070413,2306,  1.0987,  92.5042, 4385,1407.0000,   1407.0,   4.8306,  34.8648,2,  34.8639,2,     79.4,2,     79.0,2,   101.01,2,    37.07,2,     0.00,2,     2.72,2,    0.017,2,    0.009,2, -999.000,5,   2314.0,2,   2381.2,2,   7.4993,2,    25.00,     40.9,2,  -999.00,9, -999.000,9, -999.000,-999.0000,9,-999.0000,  -999.00,9,  -999.00, -999.000,9, -999.000,   -999.0,9,   -999.0,  -999.00,9,   0.1893,2,   0.1406,2,   0.0851,2,   0.0652,2,   0.0299,2,   0.0093,2,   0.0015,2,   0.0140,3,   0.0130,3,   4.7102,   4.8323,2
  33RR20070322,  I09N,   149,  1,     14,     14,2,20070413,2306,  1.0987,  92.5042, 4385,1508.0000,   1508.0,   4.2662,  34.8415,2,  34.8415,2,     89.2,2,     90.1,2,   106.44,2,    36.76,2,     0.00,2,     2.71,2, -999.000,9, -999.000,9, -999.000,9,   2314.8,2,   2386.1,2,   7.5087,2,    25.00,     41.6,2,  -999.00,9, -999.000,9, -999.000,-999.0000,9,-999.0000,  -999.00,9,  -999.00, -999.000,9, -999.000,   -999.0,9,   -999.0,  -999.00,9,   0.1869,2,   0.1385,2,   0.0836,2,   0.0641,2,   0.0291,2,   0.0088,2,   0.0013,2,   0.0140,3,   0.0131,3,   4.1425,   4.2667,2
  33RR20070322,  I09N,   149,  1,     13,     13,2,20070413,2306,  1.0987,  92.5042, 4385,1607.7000,   1607.7,   3.7928,  34.8216,2,  34.8210,2,    100.4,2,    101.6,2,   110.66,2,    36.34,2,     0.00,2,     2.67,2,    0.005,2,    0.003,2, -999.000,5,   2315.0,2,   2386.9,2,   7.5389,2,    25.00,     41.7,2,  -999.00,9, -999.000,9, -999.000,-999.0000,9,-999.0000,  -999.00,9,  -999.00, -999.000,9, -999.000,   -999.0,9,   -999.0,  -999.00,9,   0.1821,2,   0.1340,2,   0.0801,2,   0.0606,2,   0.0272,2,   0.0082,2,   0.0011,2,   0.0140,3,   0.0133,3,   3.6656,   3.7920,2
  33RR20070322,  I09N,   149,  1,     12,     12,2,20070413,2306,  1.0987,  92.5042, 4385,1708.8000,   1708.8,   3.5281,  34.8101,2,  34.8092,2,    106.4,2,    108.2,2,   113.25,2,    36.13,2,     0.00,2,     2.64,2, -999.000,9, -999.000,9, -999.000,9,   2315.7,2,   2394.2,2,   7.5283,2,    25.00,     41.1,2,  -999.00,9, -999.000,9, -999.000,-999.0000,9,-999.0000,  -999.00,9,  -999.00, -999.000,9, -999.000,   -999.0,9,   -999.0,  -999.00,9,   0.1808,2,   0.1329,2,   0.0791,2,   0.0597,2,   0.0266,2,   0.0081,2,   0.0013,2,   0.0139,3,   0.0134,3,   3.3950,   3.5284,2
  33RR20070322,  I09N,   149,  1,     11,     11,2,20070413,2306,  1.0987,  92.5042, 4385,1810.3000,   1810.3,   3.2251,  34.7964,2,  34.7961,2,    113.4,2,    114.7,2,   116.05,2,    35.92,2,     0.00,2,     2.62,2,    0.003,2,    0.002,2, -999.000,5,   2315.7,2,   2394.9,2,   7.5369,2,    25.00,     40.7,2,  -999.00,9, -999.000,9, -999.000,-999.0000,9,-999.0000,  -999.00,9,  -999.00, -999.000,9, -999.000,   -999.0,9,   -999.0,  -999.00,9,   0.1781,2,   0.1304,2,   0.0777,2,   0.0592,2,   0.0260,2,   0.0077,2,   0.0010,2,   0.0139,3,   0.0133,3,   3.0869,   3.2294,2
  33RR20070322,  I09N,   149,  1,     10,     10,2,20070413,2306,  1.0987,  92.5042, 4385,1910.2000,   1910.2,   2.9353,  34.7852,2,  34.7850,2,    120.1,2,    122.0,2,   119.47,2,    35.71,2,     0.00,2,     2.59,2, -999.000,9, -999.000,9, -999.000,9,   2315.3,2,   2397.8,2,   7.5456,2,    25.00,     40.7,2,  -999.00,9, -999.000,9, -999.000,-999.0000,9,-999.0000,  -999.00,9,  -999.00, -999.000,9, -999.000,   -999.0,9,   -999.0,  -999.00,9,   0.1802,2,   0.1322,2,   0.0795,2,   0.0616,2,   0.0278,2,   0.0084,2,   0.0013,2,   0.0138,3,   0.0131,3,   2.7923,   2.9354,2
  33RR20070322,  I09N,   149,  1,      9,      9,2,20070413,2306,  1.0987,  92.5042, 4385,2010.8000,   2010.8,   2.7374,  34.7766,2,  34.7736,2,    125.1,2,    126.9,2,   121.66,2,    35.60,2,     0.00,2,     2.57,2,    0.004,2,    0.002,2, -999.000,5,   2315.4,2,   2105.1,3,   7.5520,2,    25.00,     41.0,2,  -999.00,9, -999.000,9, -999.000,-999.0000,9,-999.0000,  -999.00,9,  -999.00, -999.000,9, -999.000,   -999.0,9,   -999.0,  -999.00,9,   0.1745,2,   0.1273,2,   0.0752,2,   0.0568,2,   0.0246,2,   0.0072,2,   0.0010,2,   0.0139,3,   0.0135,3,   2.5883,   2.7372,2
  33RR20070322,  I09N,   149,  1,      8,      8,2,20070413,2306,  1.0987,  92.5042, 4385,2263.6000,   2263.6,   2.3699,  34.7614,2,  34.7610,2,    135.8,2,    136.1,2,   126.93,2,    35.29,2,     0.00,2,     2.53,2, -999.000,9, -999.000,9, -999.000,9,   2316.3,2,   2404.1,2,   7.5613,2,    25.00,     40.5,2,  -999.00,9, -999.000,9, -999.000,-999.0000,9,-999.0000,  -999.00,9,  -999.00, -999.000,9, -999.000,   -999.0,9,   -999.0,  -999.00,9,   0.1736,2,   0.1268,2,   0.0748,2,   0.0564,2,   0.0245,2,   0.0075,2,   0.0013,2,   0.0138,3,   0.0135,3,   2.2041,   2.3711,2
  33RR20070322,  I09N,   149,  1,      7,      7,2,20070413,2306,  1.0987,  92.5042, 4385,2515.3000,   2515.3,   1.9567,  34.7438,2,  34.7435,2,    149.4,2,    152.1,4,   129.33,2,    34.76,2,     0.00,2,     2.46,2,    0.004,2,    0.002,2, -999.000,5,   2312.0,2,   2405.5,2,   7.5759,2,    25.00,     40.8,2,  -999.00,9, -999.000,9, -999.000,-999.0000,9,-999.0000,  -999.00,9,  -999.00, -999.000,9, -999.000,   -999.0,9,   -999.0,  -999.00,9,   0.1681,2,   0.1222,2,   0.0716,2,   0.0536,2,   0.0230,2,   0.0075,2,   0.0016,2,   0.0136,3,   0.0136,3,   1.7754,   1.9567,2
  33RR20070322,  I09N,   149,  1,      6,      6,2,20070413,2306,  1.0987,  92.5042, 4385,2768.0000,   2768.0,   1.8426,  34.7389,2,  34.7382,2,    155.5,2,    154.6,2,   130.92,2,    34.56,2,     0.00,2,     2.45,2, -999.000,9, -999.000,9, -999.000,9,   2312.2,2,   -999.0,5,   7.5847,2,    25.00,     40.9,2,  -999.00,9, -999.000,9, -999.000,-999.0000,9,-999.0000,  -999.00,9,  -999.00, -999.000,9, -999.000,   -999.0,9,   -999.0,  -999.00,9,   0.1628,2,   0.1178,2,   0.0686,2,   0.0518,2,   0.0216,2,   0.0064,2,   0.0009,3,   0.0137,3,   0.0137,3,   1.6401,   1.8424,2
  33RR20070322,  I09N,   149,  1,      5,      5,2,20070413,2306,  1.0987,  92.5042, 4385,3021.3000,   3021.3,   1.7325,  34.7343,2,  34.7337,2,    159.5,2,    158.6,2,   132.93,2,    34.45,2,     0.00,2,     2.43,2,    0.004,2,    0.002,2, -999.000,5,   2312.2,2,   2409.1,2,   7.5862,2,    25.00,     41.7,2,  -999.00,9, -999.000,9, -999.000,-999.0000,9,-999.0000,  -999.00,9,  -999.00, -999.000,9, -999.000,   -999.0,9,   -999.0,  -999.00,9,   0.1615,2,   0.1162,2,   0.0670,2,   0.0496,2,   0.0203,2,   0.0060,2,   0.0009,2,   0.0138,3,   0.0140,3,   1.5082,   1.7331,2