BOTTLE,20150630SIOCCHRJL
EXPOCODE,SECT_ID,STNNBR,CASTNO,SAMPNO,BTLNBR,BTLNBR_FLAG_W,DATE,TIME,LATITUDE,LONGITUDE,DEPTH,CTDRAW,CTDPRS,CTDTMP,CTDSAL,CTDSAL_FLAG_W,SALNTY,SALNTY_FLAG_W,CTDOXY,CTDOXY_FLAG_W,OXYGEN,OXYGEN_FLAG_W,SILCAT,SILCAT_FLAG_W,NITRAT,NITRAT_FLAG_W,NITRIT,NITRIT_FLAG_W,PHSPHT,PHSPHT_FLAG_W,CFC-11,CFC-11_FLAG_W,CFC-12,CFC-12_FLAG_W,CFC113,CFC113_FLAG_W,TCARBN,TCARBN_FLAG_W,ALKALI,ALKALI_FLAG_W,PH_SWS,PH_SWS_FLAG_W,PH_TMP,DOC,DOC_FLAG_W,TDN,TDN_FLAG_W,TRITUM,TRITUM_FLAG_W,TRITER,HELIUM,HELIUM_FLAG_W,HELIER,DELHE3,DELHE3_FLAG_W,DELHER,NEON,NEON_FLAG_W,NEONER,DELC14,DELC14_FLAG_W,C14ERR,DELC13,DELC13_FLAG_W,CDOM325,CDOM325_FLAG_W,CDOM340,CDOM340_FLAG_W,CDOM380,CDOM380_FLAG_W,CDOM412,CDOM412_FLAG_W,CDOM443,CDOM443_FLAG_W,CDOM490,CDOM490_FLAG_W,CDOM555,CDOM555_FLAG_W,CDOMSL,CDOMSL_FLAG_W,CDOMSN,CDOMSN_FLAG_W,THETA,SBE35,SBE35_FLAG_W
,,,,,,,,,,,METERS,,DBAR,ITS-90,PSS-78,,PSS-78,,UMOL/KG,,UMOL/KG,,UMOL/KG,,UMOL/KG,,UMOL/KG,,UMOL/KG,,PMOL/KG,,PMOL/KG,,PMOL/KG,,UMOL/KG,,UMOL/KG,,,,DEG C,UMOL/KG,,UMOL/KG,,TU,,TU,NMOL/KG,,NMOL/KG,PERCNT,,PERCNT,NMOL/KG,,NMOL/KG,/MILLE,,/MILLE,/MILLE,,1/M,,1/M,,1/M,,1/M,,1/M,,1/M,,1/M,,1/NM,,1/NM,,DEG C,ITS-90,
  33RR20070322,  I09N,   102,  1,     36,     38,2,20070330,1619,-20.7633,  94.9995, 5245,   3.8000,      3.8,  24.8516,  35.4401,2,  35.4403,2,    208.9,2,    209.4,2,     2.21,2,     0.05,2,     0.00,2,     0.10,2,    1.798,2,    1.132,2, -999.000,5,   1995.5,6,   2320.6,6,   8.0860,6,    25.00,   -999.0,9,  -999.00,9,    0.615,2,    0.013,   1.7240,2,   0.0004,    -1.08,2,     0.18,    6.877,2,    0.007,   -999.0,9,   -999.0,  -999.00,9,-999.0000,9,-999.0000,9,-999.0000,9,-999.0000,9,-999.0000,9,-999.0000,9,-999.0000,9,-999.0000,9,-999.0000,9,  24.8508,  24.8443,2
  33RR20070322,  I09N,   102,  1,     35,     35,2,20070330,1619,-20.7633,  94.9995, 5245,  42.0000,     42.0,  24.8614,  35.4402,2,  35.4409,2,    210.1,2,    209.3,2,     2.19,2,     0.05,2,     0.00,2,     0.09,2,    1.772,2,    1.123,2, -999.000,5,   1995.5,2,   2321.7,2,-999.0000,5,    25.00,   -999.0,9,  -999.00,9,    0.702,2,    0.013,-999.0000,9,-999.0000,  -999.00,9,  -999.00, -999.000,9, -999.000,   -999.0,9,   -999.0,  -999.00,9,-999.0000,9,-999.0000,9,-999.0000,9,-999.0000,9,-999.0000,9,-999.0000,9,-999.0000,9,-999.0000,9,-999.0000,9,  24.8523,  24.8552,2
  33RR20070322,  I09N,   102,  1,     34,   9419,2,20070330,1619,-20.7633,  94.9995, 5245,  76.3000,     76.3,  22.8865,  35.6130,2,  35.6074,2,    226.7,2,    227.4,2,     2.18,2,     0.05,2,     0.00,2,     0.08,2,    2.009,2,    1.269,2, -999.000,5,   2014.4,2,   2320.2,3,   8.0430,2,    25.00,   -999.0,9,  -999.00,9,    0.597,2,    0.012,   1.7930,2,   0.0004,    -1.26,2,     0.18,    7.185,2,    0.008,   -999.0,9,   -999.0,  -999.00,9,-999.0000,9,-999.0000,9,-999.0000,9,-999.0000,9,-999.0000,9,-999.0000,9,-999.0000,9,-999.0000,9,-999.0000,9,  22.8709,  22.8445,2
  33RR20070322,  I09N,   102,  1,     33,     33,2,20070330,1619,-20.7633,  94.9995, 5245,  96.7000,     96.7,  21.6883,  35.5660,2,  35.5644,2,    221.6,2,    216.5,2,     2.57,2,     0.05,2,     0.00,2,     0.10,2,    2.074,2,    1.282,2, -999.000,5,   -999.0,9,   -999.0,9,-999.0000,9,  -999.00,   -999.0,9,  -999.00,9,    0.635,2,    0.012,   1.7320,2,   0.0005,    -1.12,2,     0.19,    7.011,2,    0.009,   -999.0,9,   -999.0,  -999.00,9,-999.0000,9,-999.0000,9,-999.0000,9,-999.0000,9,-999.0000,9,-999.0000,9,-999.0000,9,-999.0000,9,-999.0000,9,  21.6693,  21.6989,2
  33RR20070322,  I09N,   102,  1,     32,     37,2,20070330,1619,-20.7633,  94.9995, 5245, 126.3000,    126.3,  20.8443,  35.6748,2,  35.6805,2,    209.8,2,    207.4,2,     2.95,2,     0.59,2,     0.15,2,     0.17,2,    2.111,2,    1.304,2, -999.000,5,   2045.6,2,   2330.4,2,-999.0000,5,    25.00,   -999.0,9,  -999.00,9,    0.570,2,    0.012,   1.7430,2,   0.0004,    -1.19,2,     0.19,    7.050,2,    0.009,   -999.0,9,   -999.0,  -999.00,9,-999.0000,9,-999.0000,9,-999.0000,9,-999.0000,9,-999.0000,9,-999.0000,9,-999.0000,9,-999.0000,9,-999.0000,9,  20.8202,  20.8184,2
  33RR20070322,  I09N,   102,  1,     31,     31,2,20070330,1619,-20.7633,  94.9995, 5245, 176.3000,    176.3,  19.6858,  35.8314,2,  35.8296,2,    207.1,2,    207.5,2,     2.54,2,     1.05,2,     0.10,2,     0.19,2,    2.206,2,    1.366,2, -999.000,5,   -999.0,9,   -999.0,9,-999.0000,9,  -999.00,   -999.0,9,  -999.00,9,    0.593,2,    0.012,   1.7670,2,   0.0015,    -1.62,2,     0.18,    7.231,2,    0.011,   -999.0,9,   -999.0,  -999.00,9,-999.0000,9,-999.0000,9,-999.0000,9,-999.0000,9,-999.0000,9,-999.0000,9,-999.0000,9,-999.0000,9,-999.0000,9,  19.6534,  19.6833,2
  33RR20070322,  I09N,   102,  1,     30,     30,2,20070330,1619,-20.7633,  94.9995, 5245, 226.2000,    226.2,  18.4310,  35.8340,2,  35.8369,2,    205.9,2,    206.8,2,     2.33,2,     1.82,2,     0.01,2,     0.24,2,    2.349,2,    1.423,2, -999.000,5,   -999.0,9,   -999.0,9,-999.0000,9,  -999.00,   -999.0,9,  -999.00,9,    0.541,2,    0.011,   1.7530,2,   0.0007,    -1.06,2,     0.19,    7.216,2,    0.011,   -999.0,9,   -999.0,  -999.00,9,-999.0000,9,-999.0000,9,-999.0000,9,-999.0000,9,-999.0000,9,-999.0000,9,-999.0000,9,-999.0000,9,-999.0000,9,  18.3913,  18.3952,2
  33RR20070322,  I09N,   102,  1,     29,     29,2,20070330,1619,-20.7633,  94.9995, 5245, 276.4000,    276.4,  16.7256,  35.6995,2,  35.6993,2,    198.7,2,    200.3,2,     4.10,2,     4.37,2,     0.01,2,     0.41,2,    2.507,2,    1.489,2, -999.000,5,   2097.3,2,   2336.6,2,   7.9350,2,    25.00,   -999.0,9,  -999.00,9,    0.719,2,    0.013,-999.0000,9,-999.0000,  -999.00,9,  -999.00, -999.000,9, -999.000,   -999.0,9,   -999.0,  -999.00,9,-999.0000,9,-999.0000,9,-999.0000,9,-999.0000,9,-999.0000,9,-999.0000,9,-999.0000,9,-999.0000,9,-999.0000,9,  16.6802,  16.7214,2
  33RR20070322,  I09N,   102,  1,     28,     28,2,20070330,1619,-20.7633,  94.9995, 5245, 326.2000,    326.2,  15.1712,  35.5859,2,  35.5655,2,    215.5,2,    218.9,2,     2.31,2,     4.48,2,     0.01,2,     0.44,2,    2.817,2,    1.656,2, -999.000,5,   -999.0,9,   -999.0,9,-999.0000,9,  -999.00,   -999.0,9,  -999.00,9,    0.465,2,    0.010,   1.7830,2,   0.0003,    -0.85,2,     0.18,    7.413,2,    0.009,   -999.0,9,   -999.0,  -999.00,9,-999.0000,9,-999.0000,9,-999.0000,9,-999.0000,9,-999.0000,9,-999.0000,9,-999.0000,9,-999.0000,9,-999.0000,9,  15.1210,  15.1695,2
  33RR20070322,  I09N,   102,  1,     27,     27,2,20070330,1619,-20.7633,  94.9995, 5245, 375.9000,    375.9,  13.0131,  35.2692,2,  35.2685,2,    223.9,2,    225.8,2,     2.70,2,     7.66,2,     0.01,2,     0.63,2,    3.123,2,    1.792,2, -999.000,5,   -999.0,9,   -999.0,9,-999.0000,9,  -999.00,   -999.0,9,  -999.00,9,    0.408,2,    0.010,   1.7750,2,   0.0004,    -0.97,2,     0.18,    7.410,2,    0.007,   -999.0,9,   -999.0,  -999.00,9,-999.0000,9,-999.0000,9,-999.0000,9,-999.0000,9,-999.0000,9,-999.0000,9,-999.0000,9,-999.0000,9,-999.0000,9,  12.9609,  13.0096,2
  33RR20070322,  I09N,   102,  1,     26,     26,2,20070330,1619,-20.7633,  94.9995, 5245, 426.4000,    426.4,  11.8597,  35.0904,2,  35.0982,2,    232.3,2,    233.2,2,     2.88,2,     9.52,2,     0.00,2,     0.74,2,    3.330,2,    1.884,2, -999.000,5,   2112.0,2,   2343.2,2,-999.0000,5,    25.00,   -999.0,9,  -999.00,9,    0.369,2,    0.009,   1.7550,2,   0.0006,    -0.78,2,     0.18,    7.365,2,    0.007,   -999.0,9,   -999.0,  -999.00,9,-999.0000,9,-999.0000,9,-999.0000,9,-999.0000,9,-999.0000,9,-999.0000,9,-999.0000,9,-999.0000,9,-999.0000,9,  11.8039,  11.8514,2
  33RR20070322,  I09N,   102,  1,     25,     25,2,20070330,1619,-20.7633,  94.9995, 5245, 476.7000,    476.7,  10.8257,  34.9229,2,  34.9201,2,    237.8,2,    238.7,2,     3.27,2,    11.86,2,     0.00,2,     0.88,2,    3.474,2,    1.940,2, -999.000,5,   -999.0,9,   -999.0,9,-999.0000,9,  -999.00,   -999.0,9,  -999.00,9,    0.325,2,    0.009,-999.0000,9,-999.0000,  -999.00,9,  -999.00, -999.000,9, -999.000,   -999.0,9,   -999.0,  -999.00,9,-999.0000,9,-999.0000,9,-999.0000,9,-999.0000,9,-999.0000,9,-999.0000,9,-999.0000,9,-999.0000,9,-999.0000,9,  10.7668,  10.8058,2
  33RR20070322,  I09N,   102,  1,     24,     24,2,20070330,1619,-20.7633,  94.9995, 5245, 526.5000,    526.5,  10.1042,  34.8068,2,  34.8084,2,    241.0,2,    240.9,2,     3.65,2,    13.68,2,     0.00,2,     0.98,2,    3.584,2,    1.966,2, -999.000,5,   -999.0,9,   -999.0,9,-999.0000,9,  -999.00,   -999.0,9,  -999.00,9,    0.052,2,    0.005,   1.7980,2,   0.0014,    -0.72,2,     0.18,    7.666,2,    0.009,   -999.0,9,   -999.0,  -999.00,9,-999.0000,9,-999.0000,9,-999.0000,9,-999.0000,9,-999.0000,9,-999.0000,9,-999.0000,9,-999.0000,9,-999.0000,9,  10.0418,  10.1054,2
  33RR20070322,  I09N,   102,  1,     23,     23,2,20070330,1619,-20.7633,  94.9995, 5245, 646.4000,    646.4,   8.7845,  34.6253,2,  34.6293,2,    226.1,2,    228.3,2,     6.81,2,    18.56,2,     0.00,2,     1.30,2,    3.375,2,    1.770,2, -999.000,5,   2133.1,2,   2293.0,2,-999.0000,5,    25.00,   -999.0,9,  -999.00,9, -999.000,9, -999.000,   1.7650,2,   0.0011,     0.38,2,     0.21,    7.596,2,    0.011,   -999.0,9,   -999.0,  -999.00,9,-999.0000,9,-999.0000,9,-999.0000,9,-999.0000,9,-999.0000,9,-999.0000,9,-999.0000,9,-999.0000,9,-999.0000,9,   8.7138,   8.7849,2
  33RR20070322,  I09N,   102,  1,     22,     22,2,20070330,1619,-20.7633,  94.9995, 5245, 746.3000,    746.3,   7.3090,  34.5368,2,  34.5364,2,    185.1,2,    180.2,2,    23.82,2,    26.20,2,     0.00,2,     1.82,2,    1.605,2,    0.828,2, -999.000,5,   -999.0,9,   -999.0,9,-999.0000,9,  -999.00,   -999.0,9,  -999.00,9,    0.109,2,    0.006,   1.8010,2,   0.0005,     3.56,2,     0.21,    7.864,2,    0.026,   -999.0,9,   -999.0,  -999.00,9,-999.0000,9,-999.0000,9,-999.0000,9,-999.0000,9,-999.0000,9,-999.0000,9,-999.0000,9,-999.0000,9,-999.0000,9,   7.2351,   7.3210,2
  33RR20070322,  I09N,   102,  1,     21,     21,2,20070330,1619,-20.7633,  94.9995, 5245, 847.4000,    847.4,   6.0837,  34.5209,2,  34.5227,2,    146.9,2,    147.4,2,    44.61,2,    31.32,2,     0.00,2,     2.22,2,    0.625,2,    0.328,2, -999.000,5,   2219.6,2,   2325.5,2,-999.0000,5,    25.00,   -999.0,9,  -999.00,9,    0.031,2,    0.005,   1.8240,2,   0.0005,     6.34,2,     0.19,    7.821,2,    0.009,   -999.0,9,   -999.0,  -999.00,9,-999.0000,9,-999.0000,9,-999.0000,9,-999.0000,9,-999.0000,9,-999.0000,9,-999.0000,9,-999.0000,9,-999.0000,9,   6.0070,   6.0660,2
  33RR20070322,  I09N,   102,  1,     20,     20,2,20070330,1619,-20.7633,  94.9995, 5245, 946.8000,    946.8,   5.3672,  34.5526,2,  34.5528,2,    123.6,2,    127.5,2,    61.89,2,    34.06,2,     0.00,2,     2.44,2,    0.227,2,    0.125,2, -999.000,5,   -999.0,9,   -999.0,9,-999.0000,9,  -999.00,   -999.0,9,  -999.00,9,    0.009,2,    0.005,   1.8490,2,   0.0004,     8.92,2,     0.19,    7.875,2,    0.010,   -999.0,9,   -999.0,  -999.00,9,-999.0000,9,-999.0000,9,-999.0000,9,-999.0000,9,-999.0000,9,-999.0000,9,-999.0000,9,-999.0000,9,-999.0000,9,   5.2860,   5.3689,2
  33RR20070322,  I09N,   102,  1,     19,     19,2,20070330,1619,-20.7633,  94.9995, 5245,1047.8000,   1047.8,   5.0804,  34.6126,2,  34.6160,2,    105.6,2,    108.4,2,    77.23,2,    35.52,2,     0.00,2,     2.58,2,    0.054,2,    0.031,2, -999.000,5,   -999.0,9,   -999.0,9,-999.0000,9,  -999.00,   -999.0,9,  -999.00,9,    0.001,2,    0.004,   1.9010,2,   0.0004,    10.69,2,     0.18,    8.053,2,    0.011,   -999.0,9,   -999.0,  -999.00,9,-999.0000,9,-999.0000,9,-999.0000,9,-999.0000,9,-999.0000,9,-999.0000,9,-999.0000,9,-999.0000,9,-999.0000,9,   4.9919,   5.0809,2
  33RR20070322,  I09N,   102,  1,     18,     18,2,20070330,1619,-20.7633,  94.9995, 5245,1148.5000,   1148.5,   4.8224,  34.6451,2,  34.6457,2,    104.0,2,    103.5,2,    85.61,2,    36.04,2,     0.00,2,     2.62,2, -999.000,9, -999.000,9, -999.000,9,   2283.1,2,   2359.3,6,   7.5485,2,    25.00,   -999.0,9,  -999.00,9, -999.000,9, -999.000,-999.0000,9,-999.0000,  -999.00,9,  -999.00, -999.000,9, -999.000,   -999.0,9,   -999.0,  -999.00,9,-999.0000,9,-999.0000,9,-999.0000,9,-999.0000,9,-999.0000,9,-999.0000,9,-999.0000,9,-999.0000,9,-999.0000,9,   4.7268,   4.8220,2
  33RR20070322,  I09N,   102,  1,     17,     17,2,20070330,1619,-20.7633,  94.9995, 5245,1248.9000,   1248.9,   4.2768,  34.6265,2,  34.6276,2,    116.3,2,    115.9,2,    86.81,2,    35.78,2,     0.00,2,     2.60,2,    0.021,2,    0.013,2, -999.000,5,   -999.0,9,   -999.0,9,-999.0000,9,  -999.00,   -999.0,9,  -999.00,9, -999.000,9, -999.000,   1.8730,2,   0.0005,    11.62,2,     0.19,    7.946,2,    0.009,   -999.0,9,   -999.0,  -999.00,9,-999.0000,9,-999.0000,9,-999.0000,9,-999.0000,9,-999.0000,9,-999.0000,9,-999.0000,9,-999.0000,9,-999.0000,9,   4.1771,   4.2793,2
  33RR20070322,  I09N,   102,  1,     16,     16,2,20070330,1619,-20.7633,  94.9995, 5245,1350.3000,   1350.3,   3.8862,  34.6319,2,  34.6320,2,    122.4,2,    122.7,2,    89.40,2,    35.61,2,     0.00,2,     2.58,2, -999.000,9, -999.000,9, -999.000,9,   -999.0,9,   -999.0,9,-999.0000,9,  -999.00,   -999.0,9,  -999.00,9, -999.000,9, -999.000,-999.0000,9,-999.0000,  -999.00,9,  -999.00, -999.000,9, -999.000,   -999.0,9,   -999.0,  -999.00,9,-999.0000,9,-999.0000,9,-999.0000,9,-999.0000,9,-999.0000,9,-999.0000,9,-999.0000,9,-999.0000,9,-999.0000,9,   3.7814,   3.8862,2
  33RR20070322,  I09N,   102,  1,     15,     15,2,20070330,1619,-20.7633,  94.9995, 5245,1450.5000,   1450.5,   3.5749,  34.6460,2,  34.6475,2,    128.6,2,    128.6,2,    91.80,2,    35.44,2,     0.00,2,     2.56,2,    0.013,2,    0.008,2, -999.000,5,   -999.0,9,   -999.0,9,-999.0000,9,  -999.00,   -999.0,9,  -999.00,9, -999.000,9, -999.000,   1.8730,2,   0.0004,    11.98,2,     0.18,    7.961,2,    0.011,   -999.0,9,   -999.0,  -999.00,9,-999.0000,9,-999.0000,9,-999.0000,9,-999.0000,9,-999.0000,9,-999.0000,9,-999.0000,9,-999.0000,9,-999.0000,9,   3.4646,   3.5742,2
  33RR20070322,  I09N,   102,  1,     14,     14,2,20070330,1619,-20.7633,  94.9995, 5245,1551.3000,   1551.3,   3.3169,  34.6646,2,  34.6666,2,    133.8,2,    134.1,2,    94.40,2,    35.06,2,     0.00,2,     2.53,2,    0.012,2,    0.005,2, -999.000,5,   -999.0,9,   -999.0,9,-999.0000,9,  -999.00,   -999.0,9,  -999.00,9, -999.000,9, -999.000,   1.8710,2,   0.0004,    12.06,2,     0.18,    7.943,2,    0.011,   -999.0,9,   -999.0,  -999.00,9,-999.0000,9,-999.0000,9,-999.0000,9,-999.0000,9,-999.0000,9,-999.0000,9,-999.0000,9,-999.0000,9,-999.0000,9,   3.2008,   3.3218,2
  33RR20070322,  I09N,   102,  1,     13,     13,2,20070330,1619,-20.7633,  94.9995, 5245,1752.2000,   1752.2,   2.8092,  34.6963,2,  34.6978,2,    143.6,2,    144.7,2,   101.61,2,    34.63,2,     0.00,2,     2.48,2,    0.013,2,    0.006,2, -999.000,5,   -999.0,9,   -999.0,9,-999.0000,9,  -999.00,   -999.0,9,  -999.00,9, -999.000,9, -999.000,   1.9230,2,   0.0005,    12.65,2,     0.18,    8.171,2,    0.012,   -999.0,9,   -999.0,  -999.00,9,-999.0000,9,-999.0000,9,-999.0000,9,-999.0000,9,-999.0000,9,-999.0000,9,-999.0000,9,-999.0000,9,-999.0000,9,   2.6820,   2.8066,2
  33RR20070322,  I09N,   102,  1,     12,     12,2,20070330,1619,-20.7633,  94.9995, 5245,1953.4000,   1953.4,   2.5045,  34.7145,2,  34.7167,2,    150.5,2,    151.3,2,   107.64,2,    34.15,2,     0.00,2,     2.45,2,    0.011,2,    0.006,2, -999.000,5,   -999.0,9,   -999.0,9,-999.0000,9,  -999.00,   -999.0,9,  -999.00,9, -999.000,9, -999.000,   1.9100,2,   0.0004,    13.96,2,     0.19,    8.152,2,    0.012,   -999.0,9,   -999.0,  -999.00,9,-999.0000,9,-999.0000,9,-999.0000,9,-999.0000,9,-999.0000,9,-999.0000,9,-999.0000,9,-999.0000,9,-999.0000,9,   2.3642,   2.5049,2
  33RR20070322,  I09N,   102,  1,     11,     11,2,20070330,1619,-20.7633,  94.9995, 5245,2115.6000,   2115.6,   2.2935,  34.7218,2,  34.7226,2,    156.0,2,    156.3,2,   111.06,2,    34.03,2,     0.00,2,     2.42,2,    0.009,2,    0.003,2, -999.000,5,   -999.0,9,   -999.0,9,   7.6059,2,    25.00,   -999.0,9,  -999.00,9, -999.000,9, -999.000,   1.8940,2,   0.0003,    13.86,2,     0.19,    8.056,2,    0.013,   -999.0,9,   -999.0,  -999.00,9,-999.0000,9,-999.0000,9,-999.0000,9,-999.0000,9,-999.0000,9,-999.0000,9,-999.0000,9,-999.0000,9,-999.0000,9,   2.1422,   2.2931,2
  33RR20070322,  I09N,   102,  1,     10,     10,2,20070330,1619,-20.7633,  94.9995, 5245,2367.9000,   2367.9,   2.0412,  34.7269,2,  34.7279,2,    163.8,2,    164.2,2,   114.28,2,    33.66,2,     0.00,2,     2.39,2,    0.005,2,    0.004,2, -999.000,5,   -999.0,9,   -999.0,9,-999.0000,9,  -999.00,   -999.0,9,  -999.00,9, -999.000,9, -999.000,   1.8920,2,   0.0006,    14.09,2,     0.18,    8.092,2,    0.009,   -999.0,9,   -999.0,  -999.00,9,-999.0000,9,-999.0000,9,-999.0000,9,-999.0000,9,-999.0000,9,-999.0000,9,-999.0000,9,-999.0000,9,-999.0000,9,   1.8718,   2.0410,2
  33RR20070322,  I09N,   102,  1,      9,      9,2,20070330,1619,-20.7633,  94.9995, 5245,2620.1000,   2620.1,   1.8485,  34.7285,2,  34.7285,2,    169.8,2,    170.1,2,   117.30,2,    33.39,2,     0.00,2,     2.35,2,    0.009,2,    0.003,2, -999.000,5,   -999.0,9,   -999.0,9,-999.0000,9,  -999.00,   -999.0,9,  -999.00,9, -999.000,9, -999.000,-999.0000,9,-999.0000,  -999.00,9,  -999.00, -999.000,9, -999.000,   -999.0,9,   -999.0,  -999.00,9,-999.0000,9,-999.0000,9,-999.0000,9,-999.0000,9,-999.0000,9,-999.0000,9,-999.0000,9,-999.0000,9,-999.0000,9,   1.6597,   1.8488,2
  33RR20070322,  I09N,   102,  1,      8,      8,2,20070330,1619,-20.7633,  94.9995, 5245,2873.6000,   2873.6,   1.7044,  34.7278,2,  34.7280,2,    174.0,2,    173.6,2,   119.92,2,    33.44,2,     0.00,2,     2.35,2, -999.000,9, -999.000,9, -999.000,9,   -999.0,9,   -999.0,9,-999.0000,9,  -999.00,   -999.0,9,  -999.00,9, -999.000,9, -999.000,-999.0000,9,-999.0000,  -999.00,9,  -999.00, -999.000,9, -999.000,   -999.0,9,   -999.0,  -999.00,9,-999.0000,9,-999.0000,9,-999.0000,9,-999.0000,9,-999.0000,9,-999.0000,9,-999.0000,9,-999.0000,9,-999.0000,9,   1.4949,   1.7041,2
  33RR20070322,  I09N,   102,  1,      7,      7,2,20070330,1619,-20.7633,  94.9995, 5245,3127.1000,   3127.1,   1.5915,  34.7263,2,  34.7268,2,    176.9,2,    177.2,2,   122.15,2,    33.32,2,     0.00,2,     2.35,2,    0.008,2,    0.004,2, -999.000,5,   -999.0,9,   -999.0,9,-999.0000,9,  -999.00,   -999.0,9,  -999.00,9, -999.000,9, -999.000,-999.0000,9,-999.0000,  -999.00,9,  -999.00, -999.000,9, -999.000,   -999.0,9,   -999.0,  -999.00,9,-999.0000,9,-999.0000,9,-999.0000,9,-999.0000,9,-999.0000,9,-999.0000,9,-999.0000,9,-999.0000,9,-999.0000,9,   1.3601,   1.5912,2
  33RR20070322,  I09N,   102,  1,      6,      6,2,20070330,1619,-20.7633,  94.9995, 5245,3532.9000,   3532.9,   1.4177,  34.7220,2,  34.7217,2,    181.3,2,    180.9,2,   126.59,2,    33.26,2,     0.00,2,     2.35,2, -999.000,9, -999.000,9, -999.000,9,   -999.0,9,   -999.0,9,-999.0000,9,  -999.00,   -999.0,9,  -999.00,9, -999.000,9, -999.000,-999.0000,9,-999.0000,  -999.00,9,  -999.00, -999.000,9, -999.000,   -999.0,9,   -999.0,  -999.00,9,-999.0000,9,-999.0000,9,-999.0000,9,-999.0000,9,-999.0000,9,-999.0000,9,-999.0000,9,-999.0000,9,-999.0000,9,   1.1500,   1.4173,2
  33RR20070322,  I09N,   102,  1,      5,      5,2,20070330,1619,-20.7633,  94.9995, 5245,3939.9000,   3939.9,   1.2744,  34.7191,2,  34.7192,2,    190.6,2,    191.1,2,   124.16,2,    32.78,2,     0.00,2,     2.30,2,    0.009,2,    0.004,2, -999.000,5,   -999.0,9,   -999.0,9,-999.0000,9,  -999.00,   -999.0,9,  -999.00,9, -999.000,9, -999.000,   1.9480,3,   0.0005,    11.30,2,     0.17,    8.349,2,    0.013,   -999.0,9,   -999.0,  -999.00,9,-999.0000,9,-999.0000,9,-999.0000,9,-999.0000,9,-999.0000,9,-999.0000,9,-999.0000,9,-999.0000,9,-999.0000,9,   0.9680,   1.2744,2