BOTTLE,20150630SIOCCHRJL
EXPOCODE,SECT_ID,STNNBR,CASTNO,SAMPNO,BTLNBR,BTLNBR_FLAG_W,DATE,TIME,LATITUDE,LONGITUDE,DEPTH,CTDRAW,CTDPRS,CTDTMP,CTDSAL,CTDSAL_FLAG_W,SALNTY,SALNTY_FLAG_W,CTDOXY,CTDOXY_FLAG_W,OXYGEN,OXYGEN_FLAG_W,SILCAT,SILCAT_FLAG_W,NITRAT,NITRAT_FLAG_W,NITRIT,NITRIT_FLAG_W,PHSPHT,PHSPHT_FLAG_W,CFC-11,CFC-11_FLAG_W,CFC-12,CFC-12_FLAG_W,CFC113,CFC113_FLAG_W,TCARBN,TCARBN_FLAG_W,ALKALI,ALKALI_FLAG_W,PH_SWS,PH_SWS_FLAG_W,PH_TMP,DOC,DOC_FLAG_W,TDN,TDN_FLAG_W,TRITUM,TRITUM_FLAG_W,TRITER,HELIUM,HELIUM_FLAG_W,HELIER,DELHE3,DELHE3_FLAG_W,DELHER,NEON,NEON_FLAG_W,NEONER,DELC14,DELC14_FLAG_W,C14ERR,DELC13,DELC13_FLAG_W,CDOM325,CDOM325_FLAG_W,CDOM340,CDOM340_FLAG_W,CDOM380,CDOM380_FLAG_W,CDOM412,CDOM412_FLAG_W,CDOM443,CDOM443_FLAG_W,CDOM490,CDOM490_FLAG_W,CDOM555,CDOM555_FLAG_W,CDOMSL,CDOMSL_FLAG_W,CDOMSN,CDOMSN_FLAG_W,THETA,SBE35,SBE35_FLAG_W
,,,,,,,,,,,METERS,,DBAR,ITS-90,PSS-78,,PSS-78,,UMOL/KG,,UMOL/KG,,UMOL/KG,,UMOL/KG,,UMOL/KG,,UMOL/KG,,PMOL/KG,,PMOL/KG,,PMOL/KG,,UMOL/KG,,UMOL/KG,,,,DEG C,UMOL/KG,,UMOL/KG,,TU,,TU,NMOL/KG,,NMOL/KG,PERCNT,,PERCNT,NMOL/KG,,NMOL/KG,/MILLE,,/MILLE,/MILLE,,1/M,,1/M,,1/M,,1/M,,1/M,,1/M,,1/M,,1/NM,,1/NM,,DEG C,ITS-90,
  33RR20070322,  I09N,   139,  3,     36,     38,2,20070411,0745, -1.8850,  94.0238, 4706,   2.5000,      2.5,  29.5208,  33.9741,2,  33.9743,2,    195.5,2,    197.0,2,     1.29,2,     0.06,2,     0.00,2,     0.08,2,    1.501,2,    0.988,2, -999.000,5,   1902.3,6,   2227.1,6,-999.0000,5,    25.00,     72.7,2,     5.01,2, -999.000,9, -999.000,-999.0000,9,-999.0000,  -999.00,9,  -999.00, -999.000,9, -999.000,   -999.0,9,   -999.0,  -999.00,9,   0.0567,2,   0.0370,2,   0.0169,2,   0.0126,2,  -0.0037,4,  -0.0041,4,  -0.0039,4,   0.0164,2,   0.0210,2,  29.5202,  29.5164,2
  33RR20070322,  I09N,   139,  3,     35,     35,2,20070411,0745, -1.8850,  94.0238, 4706,  19.6000,     19.6,  29.1405,  34.0185,2,  34.0134,2,    198.6,2,    198.6,2,     1.29,2,     0.06,2,     0.00,2,     0.07,2, -999.000,9, -999.000,9, -999.000,9,   1903.5,2,   2229.2,2,-999.0000,5,    25.00,     71.0,2,     4.24,2, -999.000,9, -999.000,-999.0000,9,-999.0000,  -999.00,9,  -999.00, -999.000,9, -999.000,   -999.0,9,   -999.0,  -999.00,9,   0.0656,2,   0.0437,2,   0.0201,2,   0.0148,2,  -0.0024,4,  -0.0034,4,  -0.0036,4,   0.0158,2,   0.0198,3,  29.1358,  29.1356,2
  33RR20070322,  I09N,   139,  3,     34,   9419,2,20070411,0745, -1.8850,  94.0238, 4706,  44.6000,     44.6,  28.9848,  34.0508,2,  34.0537,2,    200.0,2,    198.1,2,     1.29,2,     0.06,2,     0.00,2,     0.07,2, -999.000,9, -999.000,9, -999.000,9,   1905.9,2,   2231.7,2,-999.0000,5,    25.00,     70.4,2,     3.98,2, -999.000,9, -999.000,-999.0000,9,-999.0000,  -999.00,9,  -999.00, -999.000,9, -999.000,   -999.0,9,   -999.0,  -999.00,9,   0.0723,2,   0.0489,2,   0.0234,2,   0.0175,2,  -0.0007,4,  -0.0025,4,  -0.0032,4,   0.0149,2,   0.0181,3,  28.9740,  28.9780,2
  33RR20070322,  I09N,   139,  3,     33,     33,2,20070411,0745, -1.8850,  94.0238, 4706,  89.8000,     89.8,  23.9221,  35.2624,2,  35.2574,2,    135.2,2,    130.4,2,     5.86,2,     8.39,2,     0.62,2,     0.78,2, -999.000,9, -999.000,9, -999.000,9,   2072.8,2,   2305.4,2,-999.0000,5,    25.00,     64.0,2,    12.91,2, -999.000,9, -999.000,-999.0000,9,-999.0000,  -999.00,9,  -999.00, -999.000,9, -999.000,   -999.0,9,   -999.0,  -999.00,9,   0.2017,2,   0.1465,2,   0.0770,2,   0.0569,2,   0.0195,2,   0.0057,2,   0.0007,2,   0.0153,3,   0.0157,3,  23.9032,  23.9355,2
  33RR20070322,  I09N,   139,  3,     32,     37,2,20070411,0745, -1.8850,  94.0238, 4706, 138.9000,    138.9,  20.4475,  35.2976,2,  35.2979,2,     89.6,2,     90.4,2,    10.84,2,    16.66,2,     0.05,2,     1.21,2, -999.000,9, -999.000,9, -999.000,9,   2128.8,2,   2308.2,2,-999.0000,5,    25.00,     56.0,2,    20.36,2, -999.000,9, -999.000,-999.0000,9,-999.0000,  -999.00,9,  -999.00, -999.000,9, -999.000,   -999.0,9,   -999.0,  -999.00,9,   0.1722,2,   0.1268,2,   0.0726,2,   0.0585,2,   0.0211,2,   0.0060,2,   0.0010,2,   0.0142,3,   0.0137,3,  20.4214,  20.4418,2
  33RR20070322,  I09N,   139,  3,     31,     31,2,20070411,0745, -1.8850,  94.0238, 4706, 163.8000,    163.8,  17.9355,  35.2279,2,  35.2304,2,     70.1,2,     68.3,2,    14.82,2,    21.17,2,     0.01,2,     1.50,2, -999.000,9, -999.000,9, -999.000,9,   2164.2,2,   2307.7,2,-999.0000,5,    25.00,     54.0,2,    25.01,2, -999.000,9, -999.000,-999.0000,9,-999.0000,  -999.00,9,  -999.00, -999.000,9, -999.000,   -999.0,9,   -999.0,  -999.00,9,   0.1664,2,   0.1226,2,   0.0710,2,   0.0566,2,   0.0202,2,   0.0052,2,   0.0004,4,   0.0143,3,   0.0137,3,  17.9074,  17.9531,2
  33RR20070322,  I09N,   139,  3,     30,     30,2,20070411,0745, -1.8850,  94.0238, 4706, 189.2000,    189.2,  15.4058,  35.1538,2,  35.1505,2,     66.9,2,     67.9,2,    18.00,2,    23.46,2,     0.01,2,     1.64,2, -999.000,9, -999.000,9, -999.000,9,   2185.6,2,   2309.2,2,-999.0000,5,    25.00,     52.1,2,    27.46,2, -999.000,9, -999.000,-999.0000,9,-999.0000,  -999.00,9,  -999.00, -999.000,9, -999.000,   -999.0,9,   -999.0,  -999.00,9,   0.1590,2,   0.1170,2,   0.0689,2,   0.0552,2,   0.0201,2,   0.0049,2,   0.0001,4,   0.0141,3,   0.0134,3,  15.3766,  15.4047,2
  33RR20070322,  I09N,   139,  3,     29,     29,2,20070411,0745, -1.8850,  94.0238, 4706, 239.7000,    239.7,  13.4988,  35.1067,2,  35.1059,2,     60.6,2,     67.4,2,    20.01,2,    25.50,2,     0.00,2,     1.77,2, -999.000,9, -999.000,9, -999.000,9,   2201.8,2,   2310.2,2,-999.0000,5,    25.00,     49.6,2,    28.84,2, -999.000,9, -999.000,-999.0000,9,-999.0000,  -999.00,9,  -999.00, -999.000,9, -999.000,   -999.0,9,   -999.0,  -999.00,9,   0.1575,2,   0.1168,2,   0.0698,2,   0.0560,2,   0.0213,2,   0.0052,2,   0.0000,4,   0.0140,3,   0.0131,3,  13.4649,  13.4802,2
  33RR20070322,  I09N,   139,  3,     28,     28,2,20070411,0745, -1.8850,  94.0238, 4706, 288.9000,    288.9,  11.8318,  35.0560,2,  35.0558,2,     70.4,2,     72.1,2,    22.99,2,    27.17,2,     0.00,2,     1.87,2, -999.000,9, -999.000,9, -999.000,9,   2213.0,2,   2313.8,2,-999.0000,5,    25.00,     48.3,2,    30.68,2, -999.000,9, -999.000,-999.0000,9,-999.0000,  -999.00,9,  -999.00, -999.000,9, -999.000,   -999.0,9,   -999.0,  -999.00,9,   0.1569,2,   0.1167,2,   0.0712,2,   0.0574,2,   0.0229,2,   0.0059,2,   0.0001,4,   0.0137,3,   0.0127,3,  11.7943,  11.8183,2
  33RR20070322,  I09N,   139,  3,     27,     27,2,20070411,0745, -1.8850,  94.0238, 4706, 339.0000,    339.0,  11.5498,  35.0455,2,  35.0453,2,     69.1,2,     66.6,2,    24.98,2,    28.21,2,     0.00,2,     1.95,2, -999.000,9, -999.000,9, -999.000,9,   2219.2,2,   2315.2,2,-999.0000,5,    25.00,     47.6,2,    32.02,2, -999.000,9, -999.000,-999.0000,9,-999.0000,  -999.00,9,  -999.00, -999.000,9, -999.000,   -999.0,9,   -999.0,  -999.00,9,   0.1611,2,   0.1199,2,   0.0733,2,   0.0588,2,   0.0243,2,   0.0065,2,   0.0004,4,   0.0137,3,   0.0127,3,  11.5064,  11.5492,2
  33RR20070322,  I09N,   139,  3,     26,     26,2,20070411,0745, -1.8850,  94.0238, 4706, 389.3000,    389.3,  11.2654,  35.0328,2,  35.0328,2,     73.4,2,     77.2,2,    24.39,2,    27.75,2,     0.00,2,     1.91,2, -999.000,9, -999.000,9, -999.000,9,   2214.4,2,   2313.5,2,-999.0000,5,    25.00,     46.4,2,    31.24,2, -999.000,9, -999.000,-999.0000,9,-999.0000,  -999.00,9,  -999.00, -999.000,9, -999.000,   -999.0,9,   -999.0,  -999.00,9,   0.1546,2,   0.1149,2,   0.0700,2,   0.0563,2,   0.0226,2,   0.0057,2,   0.0000,4,   0.0136,3,   0.0127,3,  11.2162,  11.2641,2
  33RR20070322,  I09N,   139,  3,     25,     25,2,20070411,0745, -1.8850,  94.0238, 4706, 438.4000,    438.4,  10.7247,  34.9972,2,  34.9978,2,     72.5,2,     73.2,2,    26.99,2,    29.10,2,     0.00,2,     2.00,2, -999.000,9, -999.000,9, -999.000,9,   2221.1,2,   2319.8,2,   7.5664,2,    25.00,     45.7,2,    32.17,2, -999.000,9, -999.000,-999.0000,9,-999.0000,  -999.00,9,  -999.00, -999.000,9, -999.000,   -999.0,9,   -999.0,  -999.00,9,   0.1563,2,   0.1159,2,   0.0706,2,   0.0563,2,   0.0230,2,   0.0060,2,   0.0001,4,   0.0136,3,   0.0127,3,  10.6709,  10.7192,2
  33RR20070322,  I09N,   139,  3,     24,     24,2,20070411,0745, -1.8850,  94.0238, 4706, 489.5000,    489.5,  10.0131,  34.9616,2,  34.9620,2,     67.5,2,     66.3,2,    32.77,2,    31.05,2,     0.00,2,     2.16,2, -999.000,9, -999.000,9, -999.000,9,   2231.1,2,   2315.5,2,   7.5506,2,    25.00,     44.6,2,    34.13,2, -999.000,9, -999.000,-999.0000,9,-999.0000,  -999.00,9,  -999.00, -999.000,9, -999.000,   -999.0,9,   -999.0,  -999.00,9,   0.1597,2,   0.1181,2,   0.0722,2,   0.0577,2,   0.0246,2,   0.0067,2,   0.0004,4,   0.0135,3,   0.0126,3,   9.9554,  10.0118,2
  33RR20070322,  I09N,   139,  3,     23,     23,2,20070411,0745, -1.8850,  94.0238, 4706, 573.6000,    573.6,   9.5273,  34.9662,2,  34.9659,2,     62.4,2,     60.1,2,    39.18,2,    32.31,2,     0.00,2,     2.30,2, -999.000,9, -999.000,9, -999.000,9,   2244.1,2,   2321.2,2,   7.5274,2,    25.00,     43.6,2,    34.85,2, -999.000,9, -999.000,-999.0000,9,-999.0000,  -999.00,9,  -999.00, -999.000,9, -999.000,   -999.0,9,   -999.0,  -999.00,9,   0.1656,2,   0.1228,2,   0.0753,2,   0.0597,2,   0.0264,2,   0.0079,2,   0.0011,2,   0.0134,3,   0.0125,3,   9.4614,   9.5242,2
  33RR20070322,  I09N,   139,  3,     22,     22,2,20070411,0745, -1.8850,  94.0238, 4706, 673.9000,    673.9,   8.8185,  34.9538,2,  34.9542,2,     54.6,2,     53.8,2,    48.58,2,    33.99,2,     0.00,2,     2.46,2, -999.000,9, -999.000,9, -999.000,9,   2262.6,2,   2330.7,2,   7.5110,2,    25.00,     42.9,2,    36.11,2, -999.000,9, -999.000,-999.0000,9,-999.0000,  -999.00,9,  -999.00, -999.000,9, -999.000,   -999.0,9,   -999.0,  -999.00,9,   0.1704,2,   0.1259,2,   0.0771,2,   0.0608,2,   0.0272,2,   0.0081,2,   0.0011,2,   0.0136,3,   0.0127,3,   8.7442,   8.8179,2
  33RR20070322,  I09N,   139,  3,     21,     21,2,20070411,0745, -1.8850,  94.0238, 4706, 774.7000,    774.7,   7.8439,  34.9115,2,  34.9123,2,     51.2,2,     50.1,2,    63.61,2,    35.73,2,     0.00,2,     2.61,2, -999.000,9, -999.000,9, -999.000,9,   2281.6,2,   2344.7,2,   7.4946,2,    25.00,     42.1,2,    37.94,2, -999.000,9, -999.000,-999.0000,9,-999.0000,  -999.00,9,  -999.00, -999.000,9, -999.000,   -999.0,9,   -999.0,  -999.00,9,   0.1765,2,   0.1307,2,   0.0793,2,   0.0619,2,   0.0280,2,   0.0084,2,   0.0012,2,   0.0137,3,   0.0128,3,   7.7636,   7.8395,2
  33RR20070322,  I09N,   139,  3,     20,     20,2,20070411,0745, -1.8850,  94.0238, 4706, 874.8000,    874.8,   7.3102,  34.9214,2,  34.9227,2,     49.4,2,     49.5,2,    71.25,2,    36.26,2,     0.00,2,     2.67,2, -999.000,9, -999.000,9, -999.000,9,   2292.4,2,   2353.2,6,   7.4886,6,    25.00,     41.5,2,    38.49,2, -999.000,9, -999.000,-999.0000,9,-999.0000,  -999.00,9,  -999.00, -999.000,9, -999.000,   -999.0,9,   -999.0,  -999.00,9,   0.1820,2,   0.1349,2,   0.0823,2,   0.0640,2,   0.0295,2,   0.0090,2,   0.0016,2,   0.0137,3,   0.0128,3,   7.2224,   7.3096,2
  33RR20070322,  I09N,   139,  3,     19,     19,2,20070411,0745, -1.8850,  94.0238, 4706, 974.8000,    974.8,   6.5761,  34.8879,2,  34.8887,2,     55.4,2,     55.3,2,    79.91,2,    36.68,2,     0.00,2,     2.70,2, -999.000,9, -999.000,9, -999.000,9,   2299.3,6,   2362.4,2,   7.4807,2,    25.00,     41.2,2,    38.86,2, -999.000,9, -999.000,-999.0000,9,-999.0000,  -999.00,9,  -999.00, -999.000,9, -999.000,   -999.0,9,   -999.0,  -999.00,9,   0.1828,2,   0.1353,2,   0.0821,2,   0.0636,2,   0.0295,2,   0.0092,2,   0.0017,2,   0.0137,3,   0.0128,3,   6.4829,   6.5729,2
  33RR20070322,  I09N,   139,  3,     18,     18,2,20070411,0745, -1.8850,  94.0238, 4706,1075.6000,   1075.6,   6.1802,  34.8954,2,  34.8956,2,     58.8,2,     58.6,2,    85.37,2,    37.00,2,     0.00,2,     2.72,2, -999.000,9, -999.000,9, -999.000,9,   2305.9,2,   2367.1,2,   7.4794,2,    25.00,     41.0,2,    38.30,2, -999.000,9, -999.000,-999.0000,9,-999.0000,  -999.00,9,  -999.00, -999.000,9, -999.000,   -999.0,9,   -999.0,  -999.00,9,   0.1860,2,   0.1379,2,   0.0837,2,   0.0646,2,   0.0299,2,   0.0094,2,   0.0019,2,   0.0138,3,   0.0129,3,   6.0798,   6.1799,2
  33RR20070322,  I09N,   139,  3,     17,     17,2,20070411,0745, -1.8850,  94.0238, 4706,1176.1000,   1176.1,   5.7321,  34.8645,2,  34.8648,2,     64.6,2,     64.8,2,    90.22,2,    36.84,2,     0.00,2,     2.71,2, -999.000,9, -999.000,9, -999.000,9,   2308.4,2,   2370.6,2,   7.4854,2,    25.00,     40.5,2,    38.27,2, -999.000,9, -999.000,-999.0000,9,-999.0000,  -999.00,9,  -999.00, -999.000,9, -999.000,   -999.0,9,   -999.0,  -999.00,9,   0.1842,2,   0.1361,2,   0.0821,2,   0.0628,2,   0.0291,2,   0.0093,2,   0.0019,2,   0.0137,3,   0.0130,3,   5.6255,   5.7315,2
  33RR20070322,  I09N,   139,  3,     16,     16,2,20070411,0745, -1.8850,  94.0238, 4706,1276.6000,   1276.6,   5.2817,  34.8642,2,  34.8646,2,     71.6,2,     71.8,2,    94.87,2,    36.84,2,     0.00,2,     2.71,2, -999.000,9, -999.000,9, -999.000,9,   2311.6,2,   2376.5,2,   7.5015,2,    25.00,     40.6,2,    38.48,2, -999.000,9, -999.000,-999.0000,9,-999.0000,  -999.00,9,  -999.00, -999.000,9, -999.000,   -999.0,9,   -999.0,  -999.00,9,   0.1862,2,   0.1375,2,   0.0829,2,   0.0636,2,   0.0297,2,   0.0096,2,   0.0021,2,   0.0137,3,   0.0130,3,   5.1694,   5.2818,2
  33RR20070322,  I09N,   139,  3,     15,     15,2,20070411,0745, -1.8850,  94.0238, 4706,1377.2000,   1377.2,   4.8663,  34.8497,2,  34.8502,2,     79.4,2,     79.2,2,    98.53,2,    36.73,2,     0.00,2,     2.70,2, -999.000,9, -999.000,9, -999.000,9,   2313.1,2,   2381.0,2,   7.4992,2,    25.00,     40.9,2,    37.92,2, -999.000,9, -999.000,-999.0000,9,-999.0000,  -999.00,9,  -999.00, -999.000,9, -999.000,   -999.0,9,   -999.0,  -999.00,9,   0.1854,2,   0.1369,2,   0.0817,2,   0.0620,2,   0.0286,2,   0.0090,2,   0.0018,2,   0.0138,3,   0.0132,3,   4.7485,   4.8681,2
  33RR20070322,  I09N,   139,  3,     14,     14,2,20070411,0745, -1.8850,  94.0238, 4706,1477.9000,   1477.9,   4.0890,  34.8081,2,  34.8086,2,     94.4,2,     96.2,2,   105.23,2,    36.41,2,     0.00,2,     2.66,2, -999.000,9, -999.000,9, -999.000,9,   2312.7,2,   2387.0,2,   7.5143,2,    25.00,     40.7,2,    38.13,2, -999.000,9, -999.000,-999.0000,9,-999.0000,  -999.00,9,  -999.00, -999.000,9, -999.000,   -999.0,9,   -999.0,  -999.00,9,   0.1777,2,   0.1304,2,   0.0778,2,   0.0591,2,   0.0268,2,   0.0084,2,   0.0017,2,   0.0137,3,   0.0132,3,   3.9702,   4.0900,2
  33RR20070322,  I09N,   139,  3,     13,     13,2,20070411,0745, -1.8850,  94.0238, 4706,1577.6000,   1577.6,   3.7455,  34.8020,2,  34.8029,2,    102.7,2,    102.7,2,   109.10,2,    36.14,2,     0.00,2,     2.63,2, -999.000,9, -999.000,9, -999.000,9,   2313.8,2,   2390.4,2,   7.5210,2,    25.00,     40.7,2,    38.01,2, -999.000,9, -999.000,-999.0000,9,-999.0000,  -999.00,9,  -999.00, -999.000,9, -999.000,   -999.0,9,   -999.0,  -999.00,9,   0.1755,2,   0.1283,2,   0.0762,2,   0.0574,2,   0.0256,2,   0.0079,2,   0.0014,2,   0.0137,3,   0.0133,3,   3.6216,   3.7456,2
  33RR20070322,  I09N,   139,  3,     12,     12,2,20070411,0745, -1.8850,  94.0238, 4706,1678.8000,   1678.8,   3.3591,  34.7919,2,  34.7923,2,    111.3,2,    112.3,2,   112.37,2,    35.93,2,     0.00,2,     2.60,2, -999.000,9, -999.000,9, -999.000,9,   2314.7,2,   2395.3,2,   7.5264,2,    25.00,     41.1,2,    37.16,2, -999.000,9, -999.000,-999.0000,9,-999.0000,  -999.00,9,  -999.00, -999.000,9, -999.000,   -999.0,9,   -999.0,  -999.00,9,   0.1756,2,   0.1285,2,   0.0763,2,   0.0576,2,   0.0257,2,   0.0079,2,   0.0014,2,   0.0138,3,   0.0133,3,   3.2309,   3.3568,2
  33RR20070322,  I09N,   139,  3,     11,     11,2,20070411,0745, -1.8850,  94.0238, 4706,1779.1000,   1779.1,   3.0792,  34.7833,2,  34.7844,2,    119.3,2,    119.0,2,   115.44,2,    35.61,2,     0.00,2,     2.58,2, -999.000,9, -999.000,9, -999.000,9,   2314.4,2,   2395.9,2,   7.5444,2,    25.00,     40.9,2,    37.03,2, -999.000,9, -999.000,-999.0000,9,-999.0000,  -999.00,9,  -999.00, -999.000,9, -999.000,   -999.0,9,   -999.0,  -999.00,9,   0.1724,2,   0.1258,2,   0.0744,2,   0.0560,2,   0.0248,2,   0.0076,2,   0.0014,2,   0.0137,3,   0.0134,3,   2.9458,   3.0795,2
  33RR20070322,  I09N,   139,  3,     10,     10,2,20070411,0745, -1.8850,  94.0238, 4706,1981.3000,   1981.3,   2.6498,  34.7706,2,  34.7709,2,    130.2,2,    129.7,2,   120.35,2,    35.29,2,     0.00,2,     2.53,2, -999.000,9, -999.000,9, -999.000,9,   2315.9,2,   2400.1,2,   7.5531,2,    25.00,     40.7,2,    36.71,2, -999.000,9, -999.000,-999.0000,9,-999.0000,  -999.00,9,  -999.00, -999.000,9, -999.000,   -999.0,9,   -999.0,  -999.00,9,   0.1706,2,   0.1243,2,   0.0728,2,   0.0542,2,   0.0234,2,   0.0070,2,   0.0011,2,   0.0138,3,   0.0136,3,   2.5047,   2.6509,2
  33RR20070322,  I09N,   139,  3,      9,      9,2,20070411,0745, -1.8850,  94.0238, 4706,2182.8000,   2182.8,   2.3732,  34.7600,2,  34.7611,2,    138.2,2,    137.5,2,   123.83,2,    34.97,2,     0.00,2,     2.50,2, -999.000,9, -999.000,9, -999.000,9,   2315.7,2,   2402.5,2,   7.5596,2,    25.00,     40.7,2,    36.79,2, -999.000,9, -999.000,-999.0000,9,-999.0000,  -999.00,9,  -999.00, -999.000,9, -999.000,   -999.0,9,   -999.0,  -999.00,9,   0.1676,2,   0.1213,2,   0.0708,2,   0.0525,2,   0.0222,2,   0.0066,2,   0.0010,2,   0.0138,3,   0.0138,3,   2.2146,   2.3733,2
  33RR20070322,  I09N,   139,  3,      8,      8,2,20070411,0745, -1.8850,  94.0238, 4706,2435.3000,   2435.3,   2.0974,  34.7481,2,  34.7485,2,    146.6,2,    146.4,2,   126.30,2,    34.65,2,     0.00,2,     2.46,2, -999.000,9, -999.000,9, -999.000,9,   2313.7,2,   2404.8,2,   7.5717,2,    25.00,     40.8,2,    35.69,2, -999.000,9, -999.000,-999.0000,9,-999.0000,  -999.00,9,  -999.00, -999.000,9, -999.000,   -999.0,9,   -999.0,  -999.00,9,   0.1633,2,   0.1181,2,   0.0689,2,   0.0513,2,   0.0215,2,   0.0065,2,   0.0010,2,   0.0137,3,   0.0137,3,   1.9208,   2.0966,2
  33RR20070322,  I09N,   139,  3,      7,      7,2,20070411,0745, -1.8850,  94.0238, 4706,2688.2000,   2688.2,   1.8927,  34.7401,2,  34.7410,2,    153.4,2,    153.2,2,   128.15,2,    34.38,2,     0.00,2,     2.43,2, -999.000,9, -999.000,9, -999.000,9,   2312.6,2,   2407.2,2,   7.5852,2,    25.00,     40.4,2,    36.15,2, -999.000,9, -999.000,-999.0000,9,-999.0000,  -999.00,9,  -999.00, -999.000,9, -999.000,   -999.0,9,   -999.0,  -999.00,9,   0.1599,2,   0.1154,2,   0.0670,2,   0.0494,2,   0.0203,2,   0.0059,2,   0.0007,2,   0.0138,3,   0.0139,3,   1.6967,   1.8936,2
  33RR20070322,  I09N,   139,  3,      6,      6,2,20070411,0745, -1.8850,  94.0238, 4706,2941.4000,   2941.4,   1.7313,  34.7341,2,  34.7340,2,    158.6,2,    158.6,2,   131.04,2,    34.22,2,     0.00,2,     2.41,2, -999.000,9, -999.000,9, -999.000,9,   2311.8,2,   2410.0,2,   7.5822,2,    25.00,     40.6,2,    35.23,2, -999.000,9, -999.000,-999.0000,9,-999.0000,  -999.00,9,  -999.00, -999.000,9, -999.000,   -999.0,9,   -999.0,  -999.00,9,   0.1580,2,   0.1138,2,   0.0655,2,   0.0484,2,   0.0195,2,   0.0055,2,   0.0005,3,   0.0138,3,   0.0140,3,   1.5147,   1.7318,2
  33RR20070322,  I09N,   139,  3,      5,      5,2,20070411,0745, -1.8850,  94.0238, 4706,3275.4000,   3275.4,   1.5581,  34.7278,2,  34.7279,2,    165.9,2,    165.7,2,   131.26,2,    33.95,2,     0.00,2,     2.38,2, -999.000,9, -999.000,9, -999.000,9,   2308.7,2,   2412.3,2,   7.5885,2,    25.00,     40.9,2,    35.69,2, -999.000,9, -999.000,-999.0000,9,-999.0000,  -999.00,9,  -999.00, -999.000,9, -999.000,   -999.0,9,   -999.0,  -999.00,9,   0.1534,2,   0.1100,2,   0.0629,2,   0.0459,2,   0.0180,2,   0.0050,2,   0.0004,3,   0.0138,2,   0.0142,3,   1.3129,   1.5581,2