BOTTLE,20150630SIOCCHRJL
EXPOCODE,SECT_ID,STNNBR,CASTNO,SAMPNO,BTLNBR,BTLNBR_FLAG_W,DATE,TIME,LATITUDE,LONGITUDE,DEPTH,CTDRAW,CTDPRS,CTDTMP,CTDSAL,CTDSAL_FLAG_W,SALNTY,SALNTY_FLAG_W,CTDOXY,CTDOXY_FLAG_W,OXYGEN,OXYGEN_FLAG_W,SILCAT,SILCAT_FLAG_W,NITRAT,NITRAT_FLAG_W,NITRIT,NITRIT_FLAG_W,PHSPHT,PHSPHT_FLAG_W,CFC-11,CFC-11_FLAG_W,CFC-12,CFC-12_FLAG_W,CFC113,CFC113_FLAG_W,TCARBN,TCARBN_FLAG_W,ALKALI,ALKALI_FLAG_W,PH_SWS,PH_SWS_FLAG_W,PH_TMP,DOC,DOC_FLAG_W,TDN,TDN_FLAG_W,TRITUM,TRITUM_FLAG_W,TRITER,HELIUM,HELIUM_FLAG_W,HELIER,DELHE3,DELHE3_FLAG_W,DELHER,NEON,NEON_FLAG_W,NEONER,DELC14,DELC14_FLAG_W,C14ERR,DELC13,DELC13_FLAG_W,CDOM325,CDOM325_FLAG_W,CDOM340,CDOM340_FLAG_W,CDOM380,CDOM380_FLAG_W,CDOM412,CDOM412_FLAG_W,CDOM443,CDOM443_FLAG_W,CDOM490,CDOM490_FLAG_W,CDOM555,CDOM555_FLAG_W,CDOMSL,CDOMSL_FLAG_W,CDOMSN,CDOMSN_FLAG_W,THETA,SBE35,SBE35_FLAG_W
,,,,,,,,,,,METERS,,DBAR,ITS-90,PSS-78,,PSS-78,,UMOL/KG,,UMOL/KG,,UMOL/KG,,UMOL/KG,,UMOL/KG,,UMOL/KG,,PMOL/KG,,PMOL/KG,,PMOL/KG,,UMOL/KG,,UMOL/KG,,,,DEG C,UMOL/KG,,UMOL/KG,,TU,,TU,NMOL/KG,,NMOL/KG,PERCNT,,PERCNT,NMOL/KG,,NMOL/KG,/MILLE,,/MILLE,/MILLE,,1/M,,1/M,,1/M,,1/M,,1/M,,1/M,,1/M,,1/NM,,1/NM,,DEG C,ITS-90,
  33RR20070322,  I09N,   199,  2,      4,      4,2,20070427,0241, 18.0032,  89.8512, 2172,2030.3000,   2030.3,   2.7124,  34.7767,2,  34.7773,2,    111.1,2,    111.1,2,   129.93,2,    35.73,2,     0.00,2,     2.60,2, -999.000,9, -999.000,9, -999.000,9,   2333.8,2,   2412.6,2,   7.5128,2,    25.00,     40.2,2,    37.27,2, -999.000,9, -999.000,-999.0000,9,-999.0000,  -999.00,9,  -999.00, -999.000,9, -999.000,   -999.0,9,   -999.0,  -999.00,9,   0.2047,2,   0.1519,2,   0.0900,2,   0.0667,2,   0.0315,2,   0.0101,2,   0.0023,3,   0.0142,3,   0.0135,3,   2.5620,   2.7125,2
  33RR20070322,  I09N,   199,  2,      3,      3,2,20070427,0241, 18.0032,  89.8512, 2172,2111.2000,   2111.2,   2.5308,  34.7691,2,  34.7687,2,    116.1,2,    116.5,2,   131.91,2,    35.53,2,     0.00,2,     2.58,2,    0.005,2,    0.008,2, -999.000,5,   2333.8,2,   2415.2,2,   7.5295,2,    25.00,     41.0,2,    37.25,2, -999.000,9, -999.000,-999.0000,9,-999.0000,  -999.00,9,  -999.00, -999.000,9, -999.000,   -999.0,9,   -999.0,  -999.00,9,   0.2047,2,   0.1520,2,   0.0902,2,   0.0666,2,   0.0313,2,   0.0103,2,   0.0025,2,   0.0142,3,   0.0135,3,   2.3760,   2.5307,2
  33RR20070322,  I09N,   199,  2,      2,      2,2,20070427,0241, 18.0032,  89.8512, 2172,2155.6000,   2155.6,   2.3960,  34.7632,2,  34.7634,2,    116.8,2,    116.6,2,   135.29,2,    35.53,2,     0.00,2,     2.58,2, -999.000,9, -999.000,9, -999.000,9,   2338.4,2,   2418.4,2,   7.5310,2,    25.00,     41.0,2,    36.86,2, -999.000,9, -999.000,-999.0000,9,-999.0000,  -999.00,9,  -999.00, -999.000,9, -999.000,   -999.0,9,   -999.0,  -999.00,9,   0.2174,2,   0.1626,2,   0.0971,2,   0.0712,2,   0.0336,2,   0.0109,2,   0.0025,2,   0.0145,3,   0.0135,3,   2.2394,   2.3966,2
  33RR20070322,  I09N,   199,  2,      1,      1,2,20070427,0241, 18.0032,  89.8512, 2172,2175.7000,   2175.7,   2.3136,  34.7597,2,  34.7600,2,    117.5,2,    117.4,2,   136.29,2,    35.53,2,     0.00,2,     2.58,2,    0.010,2,    0.005,2, -999.000,5,   2341.9,6,   2421.9,6,   7.5379,6,    25.00,     41.4,2,    37.37,2, -999.000,9, -999.000,-999.0000,9,-999.0000,  -999.00,9,  -999.00, -999.000,9, -999.000,   -999.0,9,   -999.0,  -999.00,9,   0.2213,2,   0.1654,2,   0.0977,2,   0.0708,2,   0.0335,2,   0.0108,2,   0.0024,2,   0.0146,3,   0.0137,3,   2.1566,   2.3153,2