BOTTLE,20150630SIOCCHRJL
EXPOCODE,SECT_ID,STNNBR,CASTNO,SAMPNO,BTLNBR,BTLNBR_FLAG_W,DATE,TIME,LATITUDE,LONGITUDE,DEPTH,CTDRAW,CTDPRS,CTDTMP,CTDSAL,CTDSAL_FLAG_W,SALNTY,SALNTY_FLAG_W,CTDOXY,CTDOXY_FLAG_W,OXYGEN,OXYGEN_FLAG_W,SILCAT,SILCAT_FLAG_W,NITRAT,NITRAT_FLAG_W,NITRIT,NITRIT_FLAG_W,PHSPHT,PHSPHT_FLAG_W,CFC-11,CFC-11_FLAG_W,CFC-12,CFC-12_FLAG_W,CFC113,CFC113_FLAG_W,TCARBN,TCARBN_FLAG_W,ALKALI,ALKALI_FLAG_W,PH_SWS,PH_SWS_FLAG_W,PH_TMP,DOC,DOC_FLAG_W,TDN,TDN_FLAG_W,TRITUM,TRITUM_FLAG_W,TRITER,HELIUM,HELIUM_FLAG_W,HELIER,DELHE3,DELHE3_FLAG_W,DELHER,NEON,NEON_FLAG_W,NEONER,DELC14,DELC14_FLAG_W,C14ERR,DELC13,DELC13_FLAG_W,CDOM325,CDOM325_FLAG_W,CDOM340,CDOM340_FLAG_W,CDOM380,CDOM380_FLAG_W,CDOM412,CDOM412_FLAG_W,CDOM443,CDOM443_FLAG_W,CDOM490,CDOM490_FLAG_W,CDOM555,CDOM555_FLAG_W,CDOMSL,CDOMSL_FLAG_W,CDOMSN,CDOMSN_FLAG_W,THETA,SBE35,SBE35_FLAG_W
,,,,,,,,,,,METERS,,DBAR,ITS-90,PSS-78,,PSS-78,,UMOL/KG,,UMOL/KG,,UMOL/KG,,UMOL/KG,,UMOL/KG,,UMOL/KG,,PMOL/KG,,PMOL/KG,,PMOL/KG,,UMOL/KG,,UMOL/KG,,,,DEG C,UMOL/KG,,UMOL/KG,,TU,,TU,NMOL/KG,,NMOL/KG,PERCNT,,PERCNT,NMOL/KG,,NMOL/KG,/MILLE,,/MILLE,/MILLE,,1/M,,1/M,,1/M,,1/M,,1/M,,1/M,,1/M,,1/NM,,1/NM,,DEG C,ITS-90,
  33RR20070322,  I09N,   119,  1,      4,      4,2,20070405,0427,-11.4208,  94.9990, 5287,4244.2000,   4244.2,   1.1696,  34.7156,2,  34.7162,2,    193.5,2,    193.8,2,   127.40,2,    32.77,2,     0.00,2,     2.29,2, -999.000,9, -999.000,9, -999.000,9,   2283.3,2,   2394.9,2,   7.6100,2,    25.00,     40.8,2,    34.40,2, -999.000,9, -999.000,-999.0000,9,-999.0000,  -999.00,9,  -999.00, -999.000,9, -999.000,   -999.0,9,   -999.0,  -999.00,9,   0.1307,2,   0.0912,2,   0.0505,2,   0.0363,2,   0.0122,2,   0.0026,3,  -0.0006,4,   0.0137,2,   0.0149,3,   0.8332,   1.1697,2
  33RR20070322,  I09N,   119,  1,      3,      3,2,20070405,0427,-11.4208,  94.9990, 5287,4653.9000,   4653.9,   1.1639,  34.7142,2,  34.7148,2,    197.3,2,    196.8,2,   127.02,2,    32.61,2,     0.00,2,     2.28,2,    0.007,2,    0.003,2, -999.000,5,   2279.7,2,   2393.5,2,-999.0000,5,    25.00,     40.5,2,    33.75,2, -999.000,9, -999.000,-999.0000,9,-999.0000,  -999.00,9,  -999.00, -999.000,9, -999.000,   -999.0,9,   -999.0,  -999.00,9,   0.1299,2,   0.0903,2,   0.0499,2,   0.0356,2,   0.0116,2,   0.0023,3,  -0.0008,4,   0.0138,2,   0.0151,3,   0.7815,   1.1636,2
  33RR20070322,  I09N,   119,  1,      2,      2,2,20070405,0427,-11.4208,  94.9990, 5287,5061.6000,   5061.6,   1.1974,  34.7139,2,  34.7148,2,    198.0,2,    198.1,2,   126.06,2,    32.50,2,     0.00,2,     2.27,2, -999.000,9, -999.000,9, -999.000,9,   2279.2,2,   2391.2,2,-999.0000,5,    25.00,     40.7,2,    34.33,2, -999.000,9, -999.000,-999.0000,9,-999.0000,  -999.00,9,  -999.00, -999.000,9, -999.000,   -999.0,9,   -999.0,  -999.00,9,   0.1274,2,   0.0887,2,   0.0486,2,   0.0344,2,   0.0108,2,   0.0019,3,  -0.0010,4,   0.0139,2,   0.0153,3,   0.7657,   1.1974,2
  33RR20070322,  I09N,   119,  1,      1,      1,2,20070405,0427,-11.4208,  94.9990, 5287,5362.9000,   5362.9,   1.2303,  34.7137,2,  34.7144,2,    198.1,2,    198.7,2,   125.87,2,    32.60,2,     0.00,2,     2.26,2,    0.010,2,    0.005,2, -999.000,5,   2278.8,6,   2393.1,6,   7.6543,6,    25.00,     40.8,2,    33.91,2, -999.000,9, -999.000,-999.0000,9,-999.0000,  -999.00,9,  -999.00, -999.000,9, -999.000,   -999.0,9,   -999.0,  -999.00,9,   0.1304,2,   0.0909,2,   0.0502,2,   0.0358,2,   0.0118,2,   0.0025,3,  -0.0008,4,   0.0138,2,   0.0151,3,   0.7605,   1.2302,2