BOTTLE,20150630SIOCCHRJL
EXPOCODE,SECT_ID,STNNBR,CASTNO,SAMPNO,BTLNBR,BTLNBR_FLAG_W,DATE,TIME,LATITUDE,LONGITUDE,DEPTH,CTDRAW,CTDPRS,CTDTMP,CTDSAL,CTDSAL_FLAG_W,SALNTY,SALNTY_FLAG_W,CTDOXY,CTDOXY_FLAG_W,OXYGEN,OXYGEN_FLAG_W,SILCAT,SILCAT_FLAG_W,NITRAT,NITRAT_FLAG_W,NITRIT,NITRIT_FLAG_W,PHSPHT,PHSPHT_FLAG_W,CFC-11,CFC-11_FLAG_W,CFC-12,CFC-12_FLAG_W,CFC113,CFC113_FLAG_W,TCARBN,TCARBN_FLAG_W,ALKALI,ALKALI_FLAG_W,PH_SWS,PH_SWS_FLAG_W,PH_TMP,DOC,DOC_FLAG_W,TDN,TDN_FLAG_W,TRITUM,TRITUM_FLAG_W,TRITER,HELIUM,HELIUM_FLAG_W,HELIER,DELHE3,DELHE3_FLAG_W,DELHER,NEON,NEON_FLAG_W,NEONER,DELC14,DELC14_FLAG_W,C14ERR,DELC13,DELC13_FLAG_W,CDOM325,CDOM325_FLAG_W,CDOM340,CDOM340_FLAG_W,CDOM380,CDOM380_FLAG_W,CDOM412,CDOM412_FLAG_W,CDOM443,CDOM443_FLAG_W,CDOM490,CDOM490_FLAG_W,CDOM555,CDOM555_FLAG_W,CDOMSL,CDOMSL_FLAG_W,CDOMSN,CDOMSN_FLAG_W,THETA,SBE35,SBE35_FLAG_W
,,,,,,,,,,,METERS,,DBAR,ITS-90,PSS-78,,PSS-78,,UMOL/KG,,UMOL/KG,,UMOL/KG,,UMOL/KG,,UMOL/KG,,UMOL/KG,,PMOL/KG,,PMOL/KG,,PMOL/KG,,UMOL/KG,,UMOL/KG,,,,DEG C,UMOL/KG,,UMOL/KG,,TU,,TU,NMOL/KG,,NMOL/KG,PERCNT,,PERCNT,NMOL/KG,,NMOL/KG,/MILLE,,/MILLE,/MILLE,,1/M,,1/M,,1/M,,1/M,,1/M,,1/M,,1/M,,1/NM,,1/NM,,DEG C,ITS-90,
  33RR20070322,  I09N,   153,  1,     36,     38,2,20070414,2327,  2.5998,  91.8897, 4202,   2.6000,      2.6,  29.8836,  34.0832,2,  34.0840,2,    194.1,2,    194.9,2,     1.22,2,     0.07,2,     0.00,2,     0.08,2,    1.493,2,    0.972,2, -999.000,5,   1905.7,6,   2232.6,6,   8.1634,3,    25.00,     75.6,2,     5.48,2, -999.000,9, -999.000,-999.0000,9,-999.0000,  -999.00,9,  -999.00, -999.000,9, -999.000,   -999.0,9,   -999.0,  -999.00,9,   0.0676,2,   0.0446,2,   0.0206,2,   0.0158,2,  -0.0012,4,  -0.0026,4,  -0.0027,4,   0.0148,3,   0.0190,3,  29.8830,  29.8745,2
  33RR20070322,  I09N,   153,  1,     35,     35,2,20070414,2327,  2.5998,  91.8897, 4202,  38.9000,     38.9,  29.0119,  34.3263,2,  34.3260,2,    194.1,2,    193.5,2,     1.60,2,     0.07,2,     0.00,2,     0.10,2,    1.507,2,    0.983,2, -999.000,5,   1928.4,2,   2250.0,2,   8.1050,2,    25.00,     70.9,2,     4.90,2, -999.000,9, -999.000,-999.0000,9,-999.0000,  -999.00,9,  -999.00, -999.000,9, -999.000,   -999.0,9,   -999.0,  -999.00,9,   0.1063,2,   0.0751,2,   0.0390,2,   0.0295,2,   0.0065,2,   0.0008,3,  -0.0010,4,   0.0138,2,   0.0155,3,  29.0025,  29.0093,2
  33RR20070322,  I09N,   153,  1,     34,   9419,2,20070414,2327,  2.5998,  91.8897, 4202,  73.9000,     73.9,  26.9996,  34.9344,2,  34.9266,2,    179.6,2,    171.3,2,     2.19,2,     1.08,2,     0.04,2,     0.36,2,    1.542,2,    0.984,2, -999.000,5,   2004.2,2,   2286.3,2,   8.0092,2,    25.00,     67.4,2,     6.24,2, -999.000,9, -999.000,-999.0000,9,-999.0000,  -999.00,9,  -999.00, -999.000,9, -999.000,   -999.0,9,   -999.0,  -999.00,9,   0.2066,2,   0.1501,2,   0.0794,2,   0.0593,2,   0.0222,2,   0.0072,2,   0.0021,2,   0.0148,3,   0.0153,3,  26.9827,  27.0039,2
  33RR20070322,  I09N,   153,  1,     33,     33,2,20070414,2327,  2.5998,  91.8897, 4202,  94.1000,     94.1,  24.0504,  35.0282,2,  35.0679,2,    132.4,2,    106.5,2,     7.73,2,    11.31,2,     0.79,2,     0.98,2,    1.464,2,    0.932,2, -999.000,5,   1976.3,3,   2293.1,2,   7.8650,2,    25.00,     61.2,2,    16.25,2, -999.000,9, -999.000,-999.0000,9,-999.0000,  -999.00,9,  -999.00, -999.000,9, -999.000,   -999.0,9,   -999.0,  -999.00,9,   0.2226,2,   0.1647,2,   0.0903,2,   0.0686,2,   0.0271,2,   0.0084,2,   0.0027,2,   0.0150,3,   0.0147,3,  24.0306,  24.1009,2
  33RR20070322,  I09N,   153,  1,     32,     37,2,20070414,2327,  2.5998,  91.8897, 4202, 125.0000,    125.0,  20.6449,  35.2593,2,  35.2568,2,     64.7,2,     63.5,2,    12.68,2,    19.80,2,     0.12,2,     1.45,2,    1.476,2,    0.904,2, -999.000,5,   2148.1,2,   2304.6,2,   7.7597,2,    25.00,     56.3,2,    24.01,2, -999.000,9, -999.000,-999.0000,9,-999.0000,  -999.00,9,  -999.00, -999.000,9, -999.000,   -999.0,9,   -999.0,  -999.00,9,   0.1993,2,   0.1465,2,   0.0835,2,   0.0668,2,   0.0271,2,   0.0089,2,   0.0028,2,   0.0141,3,   0.0137,3,  20.6213,  20.6328,2
  33RR20070322,  I09N,   153,  1,     31,     31,2,20070414,2327,  2.5998,  91.8897, 4202, 143.2000,    143.2,  18.9011,  35.1717,2,  35.1780,2,     59.3,2,     49.5,2,    16.25,2,    22.74,2,     0.03,2,     1.65,2,    1.365,2,    0.853,2, -999.000,5,   2169.4,2,   2304.0,2,   7.6923,2,    25.00,     52.9,2,    25.87,2, -999.000,9, -999.000,-999.0000,9,-999.0000,  -999.00,9,  -999.00, -999.000,9, -999.000,   -999.0,9,   -999.0,  -999.00,9,   0.1918,2,   0.1409,2,   0.0817,2,   0.0659,2,   0.0271,2,   0.0087,2,   0.0026,2,   0.0140,3,   0.0134,3,  18.8756,  18.9088,2
  33RR20070322,  I09N,   153,  1,     30,     30,2,20070414,2327,  2.5998,  91.8897, 4202, 173.2000,    173.2,  14.6916,  35.0586,2,  35.0577,2,     33.4,2,     34.3,2,    24.57,2,    28.37,2,     0.01,2,     2.02,2,    1.028,2,    0.602,2, -999.000,5,   2214.6,2,   2307.0,2,   7.5747,2,    25.00,     52.0,2,    32.02,2, -999.000,9, -999.000,-999.0000,9,-999.0000,  -999.00,9,  -999.00, -999.000,9, -999.000,   -999.0,9,   -999.0,  -999.00,9,   0.1854,2,   0.1376,2,   0.0828,2,   0.0668,2,   0.0287,2,   0.0086,2,   0.0021,2,   0.0139,3,   0.0129,3,  14.6657,  14.7228,2
  33RR20070322,  I09N,   153,  1,     29,     29,2,20070414,2327,  2.5998,  91.8897, 4202, 223.5000,    223.5,  13.1178,  35.0867,2,  35.0844,2,     43.9,2,     48.3,2,    24.36,2,    28.32,2,     0.01,2,     1.98,2,    1.073,2,    0.607,2, -999.000,5,   2219.4,2,   2309.3,2,   7.5697,2,    25.00,     49.0,2,    31.70,2, -999.000,9, -999.000,-999.0000,9,-999.0000,  -999.00,9,  -999.00, -999.000,9, -999.000,   -999.0,9,   -999.0,  -999.00,9,   0.1768,2,   0.1317,2,   0.0802,2,   0.0654,2,   0.0283,2,   0.0082,2,   0.0017,2,   0.0138,3,   0.0126,3,  13.0868,  13.1139,2
  33RR20070322,  I09N,   153,  1,     28,     28,2,20070414,2327,  2.5998,  91.8897, 4202, 272.5000,    272.5,  12.8306,  35.0949,2,  35.0949,2,     54.0,2,     55.8,2,    23.36,2,    27.89,2,     0.01,2,     1.94,2,    1.136,2,    0.632,2, -999.000,5,   2216.5,2,   2311.2,2,   7.6012,2,    25.00,     46.6,2,    31.43,2, -999.000,9, -999.000,-999.0000,9,-999.0000,  -999.00,9,  -999.00, -999.000,9, -999.000,   -999.0,9,   -999.0,  -999.00,9,   0.1725,2,   0.1284,2,   0.0786,2,   0.0638,2,   0.0273,2,   0.0077,2,   0.0015,2,   0.0137,3,   0.0126,3,  12.7933,  12.8323,2
  33RR20070322,  I09N,   153,  1,     27,     27,2,20070414,2327,  2.5998,  91.8897, 4202, 324.1000,    324.1,  11.9760,  35.0758,2,  35.0762,2,     55.6,2,     53.6,2,    25.73,2,    29.22,2,     0.01,2,     2.03,2,    0.965,2,    0.537,2, -999.000,5,   2225.6,2,   2312.3,2,   7.5510,2,    25.00,     45.9,2,    32.98,2, -999.000,9, -999.000,-999.0000,9,-999.0000,  -999.00,9,  -999.00, -999.000,9, -999.000,   -999.0,9,   -999.0,  -999.00,9,   0.1741,2,   0.1300,2,   0.0800,2,   0.0650,2,   0.0283,2,   0.0079,2,   0.0014,2,   0.0138,3,   0.0125,3,  11.9335,  11.9751,2
  33RR20070322,  I09N,   153,  1,     26,     26,2,20070414,2327,  2.5998,  91.8897, 4202, 374.8000,    374.8,  11.4639,  35.0558,2,  35.0561,2,     50.6,2,     50.1,2,    28.89,2,    30.39,2,     0.00,2,     2.12,2,    0.795,2,    0.443,2, -999.000,5,   2232.6,2,   2315.1,2,   7.5380,3,    25.00,     44.8,2,    34.03,2, -999.000,9, -999.000,-999.0000,9,-999.0000,  -999.00,9,  -999.00, -999.000,9, -999.000,   -999.0,9,   -999.0,  -999.00,9,   0.1761,2,   0.1314,2,   0.0811,2,   0.0662,2,   0.0297,2,   0.0086,2,   0.0016,2,   0.0136,3,   0.0124,3,  11.4160,  11.4618,2
  33RR20070322,  I09N,   153,  1,     25,     25,2,20070414,2327,  2.5998,  91.8897, 4202, 423.4000,    423.4,  11.0199,  35.0467,2,  35.0463,2,     46.2,2,     47.0,2,    31.07,2,    31.50,2,     0.00,2,     2.19,2,    0.668,2,    0.369,2, -999.000,5,   2238.4,2,   2315.2,2,   7.5240,2,    25.00,     44.1,2,    34.68,2, -999.000,9, -999.000,-999.0000,9,-999.0000,  -999.00,9,  -999.00, -999.000,9, -999.000,   -999.0,9,   -999.0,  -999.00,9,   0.1769,2,   0.1317,2,   0.0812,2,   0.0657,2,   0.0294,2,   0.0085,2,   0.0016,2,   0.0137,3,   0.0125,3,  10.9671,  11.0325,2
  33RR20070322,  I09N,   153,  1,     24,     24,2,20070414,2327,  2.5998,  91.8897, 4202, 473.6000,    473.6,  10.4124,  35.0382,2,  35.0372,2,     44.7,2,     42.9,2,    36.43,2,    32.83,2,     0.00,2,     2.31,2,    0.468,2,    0.266,2, -999.000,5,   2249.7,2,   2320.5,2,   7.5256,2,    25.00,     43.6,2,    36.43,2, -999.000,9, -999.000,-999.0000,9,-999.0000,  -999.00,9,  -999.00, -999.000,9, -999.000,   -999.0,9,   -999.0,  -999.00,9,   0.1787,2,   0.1330,2,   0.0816,2,   0.0654,2,   0.0295,2,   0.0086,2,   0.0015,2,   0.0137,3,   0.0125,3,  10.3552,  10.4107,2
  33RR20070322,  I09N,   153,  1,     23,     23,2,20070414,2327,  2.5998,  91.8897, 4202, 524.5000,    524.5,  10.0679,  35.0355,2,  35.0354,2,     37.4,2,     47.0,2,    38.61,2,    33.05,2,     0.00,2,     2.34,2,    0.429,2,    0.244,2, -999.000,5,   2251.3,2,   2321.9,2,   7.5130,2,    25.00,     42.8,2,    35.47,2, -999.000,9, -999.000,-999.0000,9,-999.0000,  -999.00,9,  -999.00, -999.000,9, -999.000,   -999.0,9,   -999.0,  -999.00,9,   0.1777,2,   0.1321,2,   0.0809,2,   0.0649,2,   0.0293,2,   0.0088,2,   0.0017,2,   0.0136,3,   0.0125,3,  10.0057,  10.0665,2
  33RR20070322,  I09N,   153,  1,     22,     22,2,20070414,2327,  2.5998,  91.8897, 4202, 642.8000,    642.8,   9.3258,  35.0312,2,  35.0317,2,     41.2,2,     40.2,2,    48.35,2,    34.65,2,     0.00,2,     2.52,2,    0.210,2,    0.122,2, -999.000,5,   2266.2,2,   2331.7,2,   7.4917,2,    25.00,     42.0,2,    37.52,2, -999.000,9, -999.000,-999.0000,9,-999.0000,  -999.00,9,  -999.00, -999.000,9, -999.000,   -999.0,9,   -999.0,  -999.00,9,   0.1832,2,   0.1362,2,   0.0830,2,   0.0657,2,   0.0299,2,   0.0088,2,   0.0016,2,   0.0138,3,   0.0127,3,   9.2526,   9.3282,2
  33RR20070322,  I09N,   153,  1,     21,     21,2,20070414,2327,  2.5998,  91.8897, 4202, 745.4000,    745.4,   8.4538,  35.0127,2,  35.0132,2,     36.2,2,     35.1,2,    61.09,2,    36.36,2,     0.00,2,     2.67,2,    0.072,2,    0.045,2, -999.000,5,   2285.1,6,   2344.2,6,   7.4829,6,    25.00,     41.8,2,    39.24,2, -999.000,9, -999.000,-999.0000,9,-999.0000,  -999.00,9,  -999.00, -999.000,9, -999.000,   -999.0,9,   -999.0,  -999.00,9,   0.1887,2,   0.1401,2,   0.0852,2,   0.0668,2,   0.0307,2,   0.0091,2,   0.0015,2,   0.0139,3,   0.0128,3,   8.3732,   8.4520,2
  33RR20070322,  I09N,   153,  1,     20,     20,2,20070414,2327,  2.5998,  91.8897, 4202, 844.0000,    844.0,   7.7887,  34.9911,2,  34.9872,2,     39.0,2,     38.4,2,    69.28,2,    36.95,2,     0.00,2,     2.72,2,    0.041,2,    0.027,2, -999.000,5,   2294.3,2,   2352.0,2,   7.4670,3,    25.00,     41.7,2,    39.52,2, -999.000,9, -999.000,-999.0000,9,-999.0000,  -999.00,9,  -999.00, -999.000,9, -999.000,   -999.0,9,   -999.0,  -999.00,9,   0.1901,2,   0.1411,2,   0.0851,2,   0.0656,2,   0.0299,2,   0.0088,2,   0.0013,2,   0.0141,3,   0.0130,3,   7.7011,   7.7913,2
  33RR20070322,  I09N,   153,  1,     19,     19,2,20070414,2327,  2.5998,  91.8897, 4202, 945.5000,    945.5,   7.2091,  34.9739,2,  34.9766,2,     43.4,2,     43.3,2,    76.27,2,    37.22,2,     0.00,2,     2.75,2,    0.027,2,    0.019,2, -999.000,5,   2300.3,2,   2360.5,2,   7.4544,2,    25.00,     41.8,2,    39.30,2, -999.000,9, -999.000,-999.0000,9,-999.0000,  -999.00,9,  -999.00, -999.000,9, -999.000,   -999.0,9,   -999.0,  -999.00,9,   0.1897,2,   0.1402,2,   0.0841,2,   0.0643,2,   0.0290,2,   0.0084,2,   0.0011,2,   0.0141,3,   0.0132,3,   7.1143,   7.2020,2
  33RR20070322,  I09N,   153,  1,     18,     18,2,20070414,2327,  2.5998,  91.8897, 4202,1045.3000,   1045.3,   6.6189,  34.9408,2,  34.9410,2,     50.5,2,     51.1,2,    83.07,2,    37.27,2,     0.00,2,     2.75,2,    0.026,2,    0.017,2, -999.000,5,   2304.4,2,   2365.9,2,   7.4689,2,    25.00,     41.7,2,    38.90,2, -999.000,9, -999.000,-999.0000,9,-999.0000,  -999.00,9,  -999.00, -999.000,9, -999.000,   -999.0,9,   -999.0,  -999.00,9,   0.1920,2,   0.1422,2,   0.0862,2,   0.0670,2,   0.0309,2,   0.0090,2,   0.0014,2,   0.0140,3,   0.0130,3,   6.5181,   6.6126,2
  33RR20070322,  I09N,   153,  1,     17,     17,2,20070414,2327,  2.5998,  91.8897, 4202,1145.1000,   1145.1,   5.9060,  34.9031,2,  34.9032,2,     59.4,2,     63.7,2,    91.09,2,    37.05,2,     0.00,2,     2.71,2,    0.030,2,    0.018,2, -999.000,5,   2310.0,2,   2374.0,2,   7.4864,2,    25.00,     41.6,2,    38.85,2, -999.000,9, -999.000,-999.0000,9,-999.0000,  -999.00,9,  -999.00, -999.000,9, -999.000,   -999.0,9,   -999.0,  -999.00,9,   0.1924,2,   0.1424,2,   0.0853,2,   0.0646,2,   0.0294,2,   0.0086,2,   0.0011,2,   0.0142,3,   0.0133,3,   5.8009,   5.9058,2
  33RR20070322,  I09N,   153,  1,     16,     16,2,20070414,2327,  2.5998,  91.8897, 4202,1245.4000,   1245.4,   5.4262,  34.8840,2,  34.8845,2,     68.9,2,     70.2,2,    96.51,2,    37.11,2,     0.00,2,     2.72,2, -999.000,9, -999.000,9, -999.000,9,   2314.1,2,   2379.7,2,   7.4712,2,    25.00,     41.1,2,    38.56,2, -999.000,9, -999.000,-999.0000,9,-999.0000,  -999.00,9,  -999.00, -999.000,9, -999.000,   -999.0,9,   -999.0,  -999.00,9,   0.1918,2,   0.1416,2,   0.0843,2,   0.0637,2,   0.0289,2,   0.0086,2,   0.0012,2,   0.0142,3,   0.0134,3,   5.3155,   5.4260,2
  33RR20070322,  I09N,   153,  1,     15,     15,2,20070414,2327,  2.5998,  91.8897, 4202,1346.5000,   1346.5,   5.0286,  34.8729,2,  34.8737,2,     74.2,2,     74.4,2,    99.53,2,    37.22,2,     0.00,2,     2.74,2,    0.012,2,    0.009,2, -999.000,5,   2316.0,2,   2379.9,2,   7.4969,2,    25.00,     40.9,2,    38.89,2, -999.000,9, -999.000,-999.0000,9,-999.0000,  -999.00,9,  -999.00, -999.000,9, -999.000,   -999.0,9,   -999.0,  -999.00,9,   0.1900,2,   0.1402,2,   0.0842,2,   0.0643,2,   0.0294,2,   0.0086,2,   0.0013,2,   0.0141,3,   0.0132,3,   4.9120,   5.0269,2
  33RR20070322,  I09N,   153,  1,     14,     14,2,20070414,2327,  2.5998,  91.8897, 4202,1447.4000,   1447.4,   4.4999,  34.8534,2,  34.8540,2,     83.7,2,     84.7,2,   103.75,2,    37.10,2,     0.00,2,     2.72,2, -999.000,9, -999.000,9, -999.000,9,   2316.2,2,   2387.0,2,   7.5032,2,    25.00,     40.6,2,    38.59,2, -999.000,9, -999.000,-999.0000,9,-999.0000,  -999.00,9,  -999.00, -999.000,9, -999.000,   -999.0,9,   -999.0,  -999.00,9,   0.1855,2,   0.1364,2,   0.0809,2,   0.0607,2,   0.0271,2,   0.0077,2,   0.0009,2,   0.0142,3,   0.0135,3,   4.3793,   4.4999,2
  33RR20070322,  I09N,   153,  1,     13,     13,2,20070414,2327,  2.5998,  91.8897, 4202,1547.5000,   1547.5,   4.1174,  34.8377,2,  34.8373,2,     91.7,2,     92.8,2,   107.98,2,    36.89,2,     0.00,2,     2.71,2,    0.008,2,    0.005,2, -999.000,5,   2316.6,2,   2390.9,2,   7.5087,2,    25.00,     40.6,2,    38.43,2, -999.000,9, -999.000,-999.0000,9,-999.0000,  -999.00,9,  -999.00, -999.000,9, -999.000,   -999.0,9,   -999.0,  -999.00,9,   0.1850,2,   0.1358,2,   0.0805,2,   0.0604,2,   0.0270,2,   0.0078,2,   0.0010,2,   0.0141,3,   0.0135,3,   3.9918,   4.1183,2
  33RR20070322,  I09N,   153,  1,     12,     12,2,20070414,2327,  2.5998,  91.8897, 4202,1648.2000,   1648.2,   3.7450,  34.8209,2,  34.8235,2,    100.4,2,    101.1,2,   111.81,2,    36.73,2,     0.00,2,     2.67,2, -999.000,9, -999.000,9, -999.000,9,   2317.5,2,   2395.2,2,   7.5130,2,    25.00,     40.5,2,    38.31,2, -999.000,9, -999.000,-999.0000,9,-999.0000,  -999.00,9,  -999.00, -999.000,9, -999.000,   -999.0,9,   -999.0,  -999.00,9,   0.1828,2,   0.1340,2,   0.0788,2,   0.0586,2,   0.0257,2,   0.0071,2,   0.0007,3,   0.0142,3,   0.0137,3,   3.6147,   3.7428,2
  33RR20070322,  I09N,   153,  1,     11,     11,2,20070414,2327,  2.5998,  91.8897, 4202,1748.1000,   1748.1,   3.4659,  34.8086,2,  34.8088,2,    107.4,2,    108.4,2,   115.04,2,    36.41,2,     0.00,2,     2.65,2,    0.008,2,    0.006,2, -999.000,5,   2317.4,2,   2392.2,2,   7.5322,2,    25.00,     40.6,2,    38.10,2, -999.000,9, -999.000,-999.0000,9,-999.0000,  -999.00,9,  -999.00, -999.000,9, -999.000,   -999.0,9,   -999.0,  -999.00,9,   0.1827,2,   0.1338,2,   0.0786,2,   0.0586,2,   0.0258,2,   0.0076,2,   0.0011,2,   0.0141,3,   0.0136,3,   3.3301,   3.4673,2
  33RR20070322,  I09N,   153,  1,     10,     10,2,20070414,2327,  2.5998,  91.8897, 4202,1850.3000,   1850.3,   3.1319,  34.7943,2,  34.7962,2,    115.3,2,    115.7,2,   118.07,2,    36.14,2,     0.00,2,     2.63,2, -999.000,9, -999.000,9, -999.000,9,   2317.4,2,   2398.7,2,   7.5361,2,    25.00,     41.0,2,    38.06,2, -999.000,9, -999.000,-999.0000,9,-999.0000,  -999.00,9,  -999.00, -999.000,9, -999.000,   -999.0,9,   -999.0,  -999.00,9,   0.1792,2,   0.1310,2,   0.0776,2,   0.0589,2,   0.0259,2,   0.0073,2,   0.0008,2,   0.0140,3,   0.0135,3,   2.9914,   3.1316,2
  33RR20070322,  I09N,   153,  1,      9,      9,2,20070414,2327,  2.5998,  91.8897, 4202,1950.5000,   1950.5,   2.9055,  34.7848,2,  34.7862,2,    120.9,2,    121.3,2,   120.91,2,    36.09,2,     0.00,2,     2.60,2,    0.007,3,    0.004,3, -999.000,5,   2318.3,2,   2402.5,2,   7.5425,2,    25.00,     40.2,2,    37.22,2, -999.000,9, -999.000,-999.0000,9,-999.0000,  -999.00,9,  -999.00, -999.000,9, -999.000,   -999.0,9,   -999.0,  -999.00,9,   0.1769,2,   0.1288,2,   0.0751,2,   0.0556,2,   0.0238,2,   0.0065,2,   0.0006,4,   0.0142,3,   0.0139,3,   2.7593,   2.9063,2
  33RR20070322,  I09N,   153,  1,      8,      8,2,20070414,2327,  2.5998,  91.8897, 4202,2111.6000,   2111.6,   2.6467,  34.7730,2,  34.7732,2,    128.3,2,    128.1,2,   123.33,2,    35.82,2,     0.00,2,     2.57,2, -999.000,9, -999.000,9, -999.000,9,   2317.9,2,   2404.7,2,   7.5665,2,    25.00,     40.6,2,    37.32,2, -999.000,9, -999.000,-999.0000,9,-999.0000,  -999.00,9,  -999.00, -999.000,9, -999.000,   -999.0,9,   -999.0,  -999.00,9,   0.1747,2,   0.1271,2,   0.0745,2,   0.0558,2,   0.0239,2,   0.0066,2,   0.0005,4,   0.0141,3,   0.0137,3,   2.4900,   2.6463,2
  33RR20070322,  I09N,   153,  1,      7,      7,2,20070414,2327,  2.5998,  91.8897, 4202,2363.9000,   2363.9,   2.2570,  34.7568,2,  34.7571,2,    137.7,2,    137.5,2,   128.61,2,    35.55,2,     0.00,2,     2.53,2,    0.008,2,    0.005,2, -999.000,5,   2318.0,2,   2410.4,2,   7.5452,2,    25.00,     40.8,2,    37.30,2, -999.000,9, -999.000,-999.0000,9,-999.0000,  -999.00,9,  -999.00, -999.000,9, -999.000,   -999.0,9,   -999.0,  -999.00,9,   0.1758,2,   0.1278,2,   0.0748,2,   0.0560,2,   0.0239,2,   0.0066,2,   0.0005,4,   0.0141,3,   0.0138,3,   2.0840,   2.2587,2
  33RR20070322,  I09N,   153,  1,      6,      6,2,20070414,2327,  2.5998,  91.8897, 4202,2615.9000,   2615.9,   1.9761,  34.7447,2,  34.7453,2,    148.2,2,    148.1,2,   130.43,2,    35.12,2,     0.00,2,     2.49,2, -999.000,9, -999.000,9, -999.000,9,   2314.6,2,   2413.1,2,   7.5658,2,    25.00,     41.0,2,    36.31,2, -999.000,9, -999.000,-999.0000,9,-999.0000,  -999.00,9,  -999.00, -999.000,9, -999.000,   -999.0,9,   -999.0,  -999.00,9,   0.1654,2,   0.1190,2,   0.0683,2,   0.0495,2,   0.0198,2,   0.0053,2,   0.0001,4,   0.0142,3,   0.0143,3,   1.7852,   1.9762,2
  33RR20070322,  I09N,   153,  1,      5,      5,2,20070414,2327,  2.5998,  91.8897, 4202,2869.6000,   2869.6,   1.8173,  34.7378,2,  34.7390,2,    154.7,2,    153.8,2,   132.46,2,    34.86,2,     0.00,2,     2.46,2,    0.009,2,    0.006,2, -999.000,5,   2313.5,2,   2413.5,2,   7.5806,2,    25.00,     40.6,2,    36.38,2, -999.000,9, -999.000,-999.0000,9,-999.0000,  -999.00,9,  -999.00, -999.000,9, -999.000,   -999.0,9,   -999.0,  -999.00,9,   0.1662,2,   0.1199,2,   0.0687,2,   0.0501,2,   0.0203,2,   0.0056,2,   0.0003,4,   0.0141,3,   0.0142,3,   1.6057,   1.8170,2