BOTTLE,20150630SIOCCHRJL
EXPOCODE,SECT_ID,STNNBR,CASTNO,SAMPNO,BTLNBR,BTLNBR_FLAG_W,DATE,TIME,LATITUDE,LONGITUDE,DEPTH,CTDRAW,CTDPRS,CTDTMP,CTDSAL,CTDSAL_FLAG_W,SALNTY,SALNTY_FLAG_W,CTDOXY,CTDOXY_FLAG_W,OXYGEN,OXYGEN_FLAG_W,SILCAT,SILCAT_FLAG_W,NITRAT,NITRAT_FLAG_W,NITRIT,NITRIT_FLAG_W,PHSPHT,PHSPHT_FLAG_W,CFC-11,CFC-11_FLAG_W,CFC-12,CFC-12_FLAG_W,CFC113,CFC113_FLAG_W,TCARBN,TCARBN_FLAG_W,ALKALI,ALKALI_FLAG_W,PH_SWS,PH_SWS_FLAG_W,PH_TMP,DOC,DOC_FLAG_W,TDN,TDN_FLAG_W,TRITUM,TRITUM_FLAG_W,TRITER,HELIUM,HELIUM_FLAG_W,HELIER,DELHE3,DELHE3_FLAG_W,DELHER,NEON,NEON_FLAG_W,NEONER,DELC14,DELC14_FLAG_W,C14ERR,DELC13,DELC13_FLAG_W,CDOM325,CDOM325_FLAG_W,CDOM340,CDOM340_FLAG_W,CDOM380,CDOM380_FLAG_W,CDOM412,CDOM412_FLAG_W,CDOM443,CDOM443_FLAG_W,CDOM490,CDOM490_FLAG_W,CDOM555,CDOM555_FLAG_W,CDOMSL,CDOMSL_FLAG_W,CDOMSN,CDOMSN_FLAG_W,THETA,SBE35,SBE35_FLAG_W
,,,,,,,,,,,METERS,,DBAR,ITS-90,PSS-78,,PSS-78,,UMOL/KG,,UMOL/KG,,UMOL/KG,,UMOL/KG,,UMOL/KG,,UMOL/KG,,PMOL/KG,,PMOL/KG,,PMOL/KG,,UMOL/KG,,UMOL/KG,,,,DEG C,UMOL/KG,,UMOL/KG,,TU,,TU,NMOL/KG,,NMOL/KG,PERCNT,,PERCNT,NMOL/KG,,NMOL/KG,/MILLE,,/MILLE,/MILLE,,1/M,,1/M,,1/M,,1/M,,1/M,,1/M,,1/M,,1/NM,,1/NM,,DEG C,ITS-90,
  33RR20070322,  I09N,   191,  2,     36,     38,2,20070425,0605, 14.0742,  89.3057, 2857,   1.6000,      1.6,  30.3164,  33.8137,2,  33.8165,2,    194.8,2,    194.8,2,     1.48,2,     0.00,2,     0.00,2,     0.07,2,    1.498,2,    0.962,2, -999.000,5,   1902.7,6,   2224.1,2,   8.1024,6,    25.00,   -999.0,9,  -999.00,9, -999.000,9, -999.000,-999.0000,9,-999.0000,  -999.00,9,  -999.00, -999.000,9, -999.000,   -999.0,9,   -999.0,  -999.00,9,-999.0000,9,-999.0000,9,-999.0000,9,-999.0000,9,-999.0000,9,-999.0000,9,-999.0000,9,-999.0000,9,-999.0000,9,  30.3160,  30.2803,2
  33RR20070322,  I09N,   191,  2,     35,     35,2,20070425,0605, 14.0742,  89.3057, 2857,  18.3000,     18.3,  29.8933,  33.8291,2,  33.8318,2,    197.4,2,    196.8,2,     1.48,2,     0.00,2,     0.00,2,     0.06,2,    1.503,2,    0.976,2, -999.000,5,   1903.2,2,   2225.3,6,   8.0895,2,    25.00,   -999.0,9,  -999.00,9, -999.000,9, -999.000,-999.0000,9,-999.0000,  -999.00,9,  -999.00, -999.000,9, -999.000,   -999.0,9,   -999.0,  -999.00,9,-999.0000,9,-999.0000,9,-999.0000,9,-999.0000,9,-999.0000,9,-999.0000,9,-999.0000,9,-999.0000,9,-999.0000,9,  29.8888,  29.8858,2
  33RR20070322,  I09N,   191,  2,     34,   9419,2,20070425,0605, 14.0742,  89.3057, 2857,  43.3000,     43.3,  29.3886,  34.0255,2,  34.0135,2,    200.5,2,    200.1,2,     1.09,2,     0.00,2,     0.00,2,     0.08,2,    1.520,2,    0.987,2, -999.000,5,   1911.8,2,   2236.0,2,   8.1172,2,    25.00,   -999.0,9,  -999.00,9, -999.000,9, -999.000,-999.0000,9,-999.0000,  -999.00,9,  -999.00, -999.000,9, -999.000,   -999.0,9,   -999.0,  -999.00,9,-999.0000,9,-999.0000,9,-999.0000,9,-999.0000,9,-999.0000,9,-999.0000,9,-999.0000,9,-999.0000,9,-999.0000,9,  29.3781,  29.3808,2
  33RR20070322,  I09N,   191,  2,     33,     33,2,20070425,0605, 14.0742,  89.3057, 2857,  63.0000,     63.0,  28.1551,  33.8776,2,  33.8556,2,    202.8,2,    203.8,2,     1.48,2,     0.00,2,     0.00,2,     0.06,2, -999.000,9, -999.000,9, -999.000,9,   -999.0,9,   -999.0,9,-999.0000,9,  -999.00,   -999.0,9,  -999.00,9, -999.000,9, -999.000,-999.0000,9,-999.0000,  -999.00,9,  -999.00, -999.000,9, -999.000,   -999.0,9,   -999.0,  -999.00,9,-999.0000,9,-999.0000,9,-999.0000,9,-999.0000,9,-999.0000,9,-999.0000,9,-999.0000,9,-999.0000,9,-999.0000,9,  28.1402,  28.1139,2
  33RR20070322,  I09N,   191,  2,     32,     37,2,20070425,0605, 14.0742,  89.3057, 2857,  87.3000,     87.3,  27.3170,  34.0936,2,  34.1040,2,    189.1,2,    184.1,2,     1.87,2,     0.17,2,     0.03,2,     0.14,2,    1.560,2,    1.016,2, -999.000,5,   1945.2,2,   2245.8,2,   8.0734,2,    25.00,   -999.0,9,  -999.00,9, -999.000,9, -999.000,-999.0000,9,-999.0000,  -999.00,9,  -999.00, -999.000,9, -999.000,   -999.0,9,   -999.0,  -999.00,9,-999.0000,9,-999.0000,9,-999.0000,9,-999.0000,9,-999.0000,9,-999.0000,9,-999.0000,9,-999.0000,9,-999.0000,9,  27.2969,  27.3145,2
  33RR20070322,  I09N,   191,  2,     31,     31,2,20070425,0605, 14.0742,  89.3057, 2857, 112.2000,    112.2,  24.3942,  34.8046,2,  34.8056,2,     63.6,2,     36.4,2,    10.95,2,    19.17,2,     0.07,2,     1.44,2, -999.000,9, -999.000,9, -999.000,9,   -999.0,9,   -999.0,9,-999.0000,9,  -999.00,   -999.0,9,  -999.00,9, -999.000,9, -999.000,-999.0000,9,-999.0000,  -999.00,9,  -999.00, -999.000,9, -999.000,   -999.0,9,   -999.0,  -999.00,9,-999.0000,9,-999.0000,9,-999.0000,9,-999.0000,9,-999.0000,9,-999.0000,9,-999.0000,9,-999.0000,9,-999.0000,9,  24.3703,  24.3154,2
  33RR20070322,  I09N,   191,  2,     30,     30,2,20070425,0605, 14.0742,  89.3057, 2857, 137.7000,    137.7,  18.5503,  34.8859,2,  34.8865,2,      6.2,2,      3.7,2,    22.73,2,    26.71,2,     0.01,2,     2.04,2,    0.959,2,    0.589,2, -999.000,5,   -999.0,9,   -999.0,9,-999.0000,9,  -999.00,   -999.0,9,  -999.00,9, -999.000,9, -999.000,-999.0000,9,-999.0000,  -999.00,9,  -999.00, -999.000,9, -999.000,   -999.0,9,   -999.0,  -999.00,9,-999.0000,9,-999.0000,9,-999.0000,9,-999.0000,9,-999.0000,9,-999.0000,9,-999.0000,9,-999.0000,9,-999.0000,9,  18.5262,  18.5185,2
  33RR20070322,  I09N,   191,  2,     29,     29,2,20070425,0605, 14.0742,  89.3057, 2857, 162.3000,    162.3,  15.9453,  34.9211,2,  34.9205,2,      4.6,2,      3.2,2,    28.15,2,    29.36,2,     0.00,2,     2.21,2, -999.000,9, -999.000,9, -999.000,9,   -999.0,9,   -999.0,9,-999.0000,9,  -999.00,   -999.0,9,  -999.00,9, -999.000,9, -999.000,-999.0000,9,-999.0000,  -999.00,9,  -999.00, -999.000,9, -999.000,   -999.0,9,   -999.0,  -999.00,9,-999.0000,9,-999.0000,9,-999.0000,9,-999.0000,9,-999.0000,9,-999.0000,9,-999.0000,9,-999.0000,9,-999.0000,9,  15.9197,  15.9406,2
  33RR20070322,  I09N,   191,  2,     28,     28,2,20070425,0605, 14.0742,  89.3057, 2857, 187.7000,    187.7,  14.0101,  34.9681,2,  34.9705,2,      3.7,2,      3.5,2,    32.21,2,    31.21,2,     0.00,2,     2.32,2, -999.000,9, -999.000,9, -999.000,9,   -999.0,9,   -999.0,9,-999.0000,9,  -999.00,   -999.0,9,  -999.00,9, -999.000,9, -999.000,-999.0000,9,-999.0000,  -999.00,9,  -999.00, -999.000,9, -999.000,   -999.0,9,   -999.0,  -999.00,9,-999.0000,9,-999.0000,9,-999.0000,9,-999.0000,9,-999.0000,9,-999.0000,9,-999.0000,9,-999.0000,9,-999.0000,9,  13.9830,  14.0218,2
  33RR20070322,  I09N,   191,  2,     27,     27,2,20070425,0605, 14.0742,  89.3057, 2857, 237.5000,    237.5,  12.4729,  35.0140,2,  35.0132,2,      4.4,2,      4.7,2,    35.12,2,    32.98,2,     0.00,2,     2.40,2, -999.000,9, -999.000,9, -999.000,9,   -999.0,9,   -999.0,9,-999.0000,9,  -999.00,   -999.0,9,  -999.00,9, -999.000,9, -999.000,-999.0000,9,-999.0000,  -999.00,9,  -999.00, -999.000,9, -999.000,   -999.0,9,   -999.0,  -999.00,9,-999.0000,9,-999.0000,9,-999.0000,9,-999.0000,9,-999.0000,9,-999.0000,9,-999.0000,9,-999.0000,9,-999.0000,9,  12.4411,  12.4718,2
  33RR20070322,  I09N,   191,  2,     26,     26,2,20070425,0605, 14.0742,  89.3057, 2857, 287.7000,    287.7,  11.5847,  35.0275,2,  35.0258,2,      5.2,2,      4.9,2,    38.02,2,    33.95,2,     0.00,2,     2.45,2,    0.317,2,    0.181,2, -999.000,5,   -999.0,9,   -999.0,9,-999.0000,9,  -999.00,   -999.0,9,  -999.00,9, -999.000,9, -999.000,-999.0000,9,-999.0000,  -999.00,9,  -999.00, -999.000,9, -999.000,   -999.0,9,   -999.0,  -999.00,9,-999.0000,9,-999.0000,9,-999.0000,9,-999.0000,9,-999.0000,9,-999.0000,9,-999.0000,9,-999.0000,9,-999.0000,9,  11.5479,  11.5838,2
  33RR20070322,  I09N,   191,  2,     25,     25,2,20070425,0605, 14.0742,  89.3057, 2857, 337.5000,    337.5,  11.0574,  35.0306,2,  35.0303,2,      5.3,2,      4.9,2,    40.74,2,    34.69,2,     0.00,2,     2.50,2, -999.000,9, -999.000,9, -999.000,9,   -999.0,9,   -999.0,9,-999.0000,9,  -999.00,   -999.0,9,  -999.00,9, -999.000,9, -999.000,-999.0000,9,-999.0000,  -999.00,9,  -999.00, -999.000,9, -999.000,   -999.0,9,   -999.0,  -999.00,9,-999.0000,9,-999.0000,9,-999.0000,9,-999.0000,9,-999.0000,9,-999.0000,9,-999.0000,9,-999.0000,9,-999.0000,9,  11.0154,  11.0561,2
  33RR20070322,  I09N,   191,  2,     24,     24,2,20070425,0605, 14.0742,  89.3057, 2857, 387.7000,    387.7,  10.6660,  35.0305,2,  35.0309,2,      8.3,2,      8.1,2,    42.88,2,    35.08,2,     0.00,2,     2.52,2, -999.000,9, -999.000,9, -999.000,9,   -999.0,9,   -999.0,9,-999.0000,9,  -999.00,   -999.0,9,  -999.00,9, -999.000,9, -999.000,-999.0000,9,-999.0000,  -999.00,9,  -999.00, -999.000,9, -999.000,   -999.0,9,   -999.0,  -999.00,9,-999.0000,9,-999.0000,9,-999.0000,9,-999.0000,9,-999.0000,9,-999.0000,9,-999.0000,9,-999.0000,9,-999.0000,9,  10.6187,  10.6650,2
  33RR20070322,  I09N,   191,  2,     23,     23,2,20070425,0605, 14.0742,  89.3057, 2857, 437.8000,    437.8,  10.2664,  35.0283,2,  35.0277,2,      9.6,2,      6.8,2,    45.98,2,    35.76,2,     0.00,2,     2.59,2, -999.000,9, -999.000,9, -999.000,9,   -999.0,9,   -999.0,9,-999.0000,9,  -999.00,   -999.0,9,  -999.00,9, -999.000,9, -999.000,-999.0000,9,-999.0000,  -999.00,9,  -999.00, -999.000,9, -999.000,   -999.0,9,   -999.0,  -999.00,9,-999.0000,9,-999.0000,9,-999.0000,9,-999.0000,9,-999.0000,9,-999.0000,9,-999.0000,9,-999.0000,9,-999.0000,9,  10.2141,  10.2645,2
  33RR20070322,  I09N,   191,  2,     22,     22,2,20070425,0605, 14.0742,  89.3057, 2857, 487.0000,    487.0,   9.9305,  35.0261,2,  35.0262,2,      7.7,2,      7.8,2,    48.90,2,    36.15,2,     0.00,2,     2.63,2,    0.122,2,    0.071,2, -999.000,5,   2283.5,2,   2327.7,2,   7.4309,2,    25.00,   -999.0,9,  -999.00,9, -999.000,9, -999.000,-999.0000,9,-999.0000,  -999.00,9,  -999.00, -999.000,9, -999.000,   -999.0,9,   -999.0,  -999.00,9,-999.0000,9,-999.0000,9,-999.0000,9,-999.0000,9,-999.0000,9,-999.0000,9,-999.0000,9,-999.0000,9,-999.0000,9,   9.8734,   9.9296,2
  33RR20070322,  I09N,   191,  2,     21,     21,2,20070425,0605, 14.0742,  89.3057, 2857, 572.4000,    572.4,   9.3269,  35.0153,2,  35.0179,2,     11.0,2,     11.1,2,    54.53,2,    36.74,2,     0.00,2,     2.67,2, -999.000,9, -999.000,9, -999.000,9,   -999.0,9,   -999.0,9,-999.0000,9,  -999.00,   -999.0,9,  -999.00,9, -999.000,9, -999.000,-999.0000,9,-999.0000,  -999.00,9,  -999.00, -999.000,9, -999.000,   -999.0,9,   -999.0,  -999.00,9,-999.0000,9,-999.0000,9,-999.0000,9,-999.0000,9,-999.0000,9,-999.0000,9,-999.0000,9,-999.0000,9,-999.0000,9,   9.2620,   9.3267,2
  33RR20070322,  I09N,   191,  2,     20,     20,2,20070425,0605, 14.0742,  89.3057, 2857, 672.8000,    672.8,   8.6665,  34.9968,2,  34.9971,2,     16.5,2,     16.8,2,    61.93,2,    37.13,2,     0.00,2,     2.71,2, -999.000,9, -999.000,9, -999.000,9,   -999.0,9,   -999.0,9,-999.0000,9,  -999.00,   -999.0,9,  -999.00,9, -999.000,9, -999.000,-999.0000,9,-999.0000,  -999.00,9,  -999.00, -999.000,9, -999.000,   -999.0,9,   -999.0,  -999.00,9,-999.0000,9,-999.0000,9,-999.0000,9,-999.0000,9,-999.0000,9,-999.0000,9,-999.0000,9,-999.0000,9,-999.0000,9,   8.5930,   8.6679,2
  33RR20070322,  I09N,   191,  2,     19,     19,2,20070425,0605, 14.0742,  89.3057, 2857, 772.9000,    772.9,   7.9710,  34.9766,2,  34.9756,2,     22.8,2,     23.1,2,    69.33,2,    37.37,2,     0.00,2,     2.76,2, -999.000,9, -999.000,9, -999.000,9,   -999.0,9,   -999.0,9,-999.0000,9,  -999.00,   -999.0,9,  -999.00,9, -999.000,9, -999.000,-999.0000,9,-999.0000,  -999.00,9,  -999.00, -999.000,9, -999.000,   -999.0,9,   -999.0,  -999.00,9,-999.0000,9,-999.0000,9,-999.0000,9,-999.0000,9,-999.0000,9,-999.0000,9,-999.0000,9,-999.0000,9,-999.0000,9,   7.8901,   7.9704,2
  33RR20070322,  I09N,   191,  2,     18,     18,2,20070425,0605, 14.0742,  89.3057, 2857, 873.3000,    873.3,   7.4283,  34.9587,2,  34.9587,2,     28.6,2,     29.1,2,    75.39,2,    37.56,2,     0.00,2,     2.77,2, -999.000,9, -999.000,9, -999.000,9,   -999.0,9,   -999.0,9,-999.0000,9,  -999.00,   -999.0,9,  -999.00,9, -999.000,9, -999.000,-999.0000,9,-999.0000,  -999.00,9,  -999.00, -999.000,9, -999.000,   -999.0,9,   -999.0,  -999.00,9,-999.0000,9,-999.0000,9,-999.0000,9,-999.0000,9,-999.0000,9,-999.0000,9,-999.0000,9,-999.0000,9,-999.0000,9,   7.3398,   7.4298,2
  33RR20070322,  I09N,   191,  2,     17,     17,2,20070425,0605, 14.0742,  89.3057, 2857, 974.4000,    974.4,   6.9387,  34.9411,2,  34.9402,2,     36.9,2,     37.0,2,    81.26,2,    37.55,2,     0.00,2,     2.77,2,    0.019,2,    0.009,2, -999.000,5,   2311.7,2,   2361.0,2,   7.4501,2,    25.00,   -999.0,9,  -999.00,9, -999.000,9, -999.000,-999.0000,9,-999.0000,  -999.00,9,  -999.00, -999.000,9, -999.000,   -999.0,9,   -999.0,  -999.00,9,-999.0000,9,-999.0000,9,-999.0000,9,-999.0000,9,-999.0000,9,-999.0000,9,-999.0000,9,-999.0000,9,-999.0000,9,   6.8429,   6.9367,2
  33RR20070322,  I09N,   191,  2,     16,     16,2,20070425,0605, 14.0742,  89.3057, 2857,1073.6000,   1073.6,   6.3766,  34.9210,2,  34.9217,2,     43.5,2,     43.2,2,    87.34,2,    37.64,2,     0.00,2,     2.78,2, -999.000,9, -999.000,9, -999.000,9,   -999.0,9,   -999.0,9,-999.0000,9,  -999.00,   -999.0,9,  -999.00,9, -999.000,9, -999.000,-999.0000,9,-999.0000,  -999.00,9,  -999.00, -999.000,9, -999.000,   -999.0,9,   -999.0,  -999.00,9,-999.0000,9,-999.0000,9,-999.0000,9,-999.0000,9,-999.0000,9,-999.0000,9,-999.0000,9,-999.0000,9,-999.0000,9,   6.2748,   6.3745,2
  33RR20070322,  I09N,   191,  2,     15,     15,2,20070425,0605, 14.0742,  89.3057, 2857,1174.2000,   1174.2,   5.9454,  34.9041,2,  34.9038,2,     53.5,2,     53.4,2,    91.66,2,    37.38,2,     0.00,2,     2.76,2, -999.000,9, -999.000,9, -999.000,9,   -999.0,9,   -999.0,9,-999.0000,9,  -999.00,   -999.0,9,  -999.00,9, -999.000,9, -999.000,-999.0000,9,-999.0000,  -999.00,9,  -999.00, -999.000,9, -999.000,   -999.0,9,   -999.0,  -999.00,9,-999.0000,9,-999.0000,9,-999.0000,9,-999.0000,9,-999.0000,9,-999.0000,9,-999.0000,9,-999.0000,9,-999.0000,9,   5.8370,   5.9462,2
  33RR20070322,  I09N,   191,  2,     14,     14,2,20070425,0605, 14.0742,  89.3057, 2857,1274.9000,   1274.9,   5.4977,  34.8877,2,  34.8880,2,     59.8,2,     59.2,2,    96.77,2,    37.37,2,     0.00,2,     2.75,2, -999.000,9, -999.000,9, -999.000,9,   -999.0,9,   -999.0,9,-999.0000,9,  -999.00,   -999.0,9,  -999.00,9, -999.000,9, -999.000,-999.0000,9,-999.0000,  -999.00,9,  -999.00, -999.000,9, -999.000,   -999.0,9,   -999.0,  -999.00,9,-999.0000,9,-999.0000,9,-999.0000,9,-999.0000,9,-999.0000,9,-999.0000,9,-999.0000,9,-999.0000,9,-999.0000,9,   5.3834,   5.5005,2
  33RR20070322,  I09N,   191,  2,     13,     13,2,20070425,0605, 14.0742,  89.3057, 2857,1375.0000,   1375.0,   5.0764,  34.8722,2,  34.8723,2,     66.4,2,     66.3,2,   101.11,2,    37.27,2,     0.00,2,     2.74,2, -999.000,9, -999.000,9, -999.000,9,   -999.0,9,   -999.0,9,-999.0000,9,  -999.00,   -999.0,9,  -999.00,9, -999.000,9, -999.000,-999.0000,9,-999.0000,  -999.00,9,  -999.00, -999.000,9, -999.000,   -999.0,9,   -999.0,  -999.00,9,-999.0000,9,-999.0000,9,-999.0000,9,-999.0000,9,-999.0000,9,-999.0000,9,-999.0000,9,-999.0000,9,-999.0000,9,   4.9566,   5.0763,2
  33RR20070322,  I09N,   191,  2,     12,     12,2,20070425,0605, 14.0742,  89.3057, 2857,1476.0000,   1476.0,   4.6668,  34.8565,2,  34.8564,2,     73.8,2,     73.7,2,   105.85,2,    37.16,2,     0.00,2,     2.73,2, -999.000,9, -999.000,9, -999.000,9,   -999.0,9,   -999.0,9,-999.0000,9,  -999.00,   -999.0,9,  -999.00,9, -999.000,9, -999.000,-999.0000,9,-999.0000,  -999.00,9,  -999.00, -999.000,9, -999.000,   -999.0,9,   -999.0,  -999.00,9,-999.0000,9,-999.0000,9,-999.0000,9,-999.0000,9,-999.0000,9,-999.0000,9,-999.0000,9,-999.0000,9,-999.0000,9,   4.5416,   4.6667,2
  33RR20070322,  I09N,   191,  2,     11,     11,2,20070425,0605, 14.0742,  89.3057, 2857,1576.2000,   1576.2,   4.1914,  34.8393,2,  34.8401,2,     81.1,2,     81.2,2,   110.99,2,    37.00,2,     0.00,2,     2.71,2, -999.000,9, -999.000,9, -999.000,9,   -999.0,9,   -999.0,9,-999.0000,9,  -999.00,   -999.0,9,  -999.00,9, -999.000,9, -999.000,-999.0000,9,-999.0000,  -999.00,9,  -999.00, -999.000,9, -999.000,   -999.0,9,   -999.0,  -999.00,9,-999.0000,9,-999.0000,9,-999.0000,9,-999.0000,9,-999.0000,9,-999.0000,9,-999.0000,9,-999.0000,9,-999.0000,9,   4.0623,   4.1922,2
  33RR20070322,  I09N,   191,  2,     10,     10,2,20070425,0605, 14.0742,  89.3057, 2857,1677.4000,   1677.4,   3.7624,  34.8218,2,  34.8222,2,     89.7,2,     89.8,2,   116.35,2,    36.70,2,     0.00,2,     2.69,2, -999.000,9, -999.000,9, -999.000,9,   -999.0,9,   -999.0,9,-999.0000,9,  -999.00,   -999.0,9,  -999.00,9, -999.000,9, -999.000,-999.0000,9,-999.0000,  -999.00,9,  -999.00, -999.000,9, -999.000,   -999.0,9,   -999.0,  -999.00,9,-999.0000,9,-999.0000,9,-999.0000,9,-999.0000,9,-999.0000,9,-999.0000,9,-999.0000,9,-999.0000,9,-999.0000,9,   3.6292,   3.7570,2
  33RR20070322,  I09N,   191,  2,      9,      9,2,20070425,0605, 14.0742,  89.3057, 2857,1778.3000,   1778.3,   3.3484,  34.8045,2,  34.8045,2,     98.8,2,    100.3,2,   120.92,2,    36.44,2,     0.00,2,     2.66,2, -999.000,9, -999.000,9, -999.000,9,   2331.1,2,   2401.4,6,   7.5010,2,    25.00,   -999.0,9,  -999.00,9, -999.000,9, -999.000,-999.0000,9,-999.0000,  -999.00,9,  -999.00, -999.000,9, -999.000,   -999.0,9,   -999.0,  -999.00,9,-999.0000,9,-999.0000,9,-999.0000,9,-999.0000,9,-999.0000,9,-999.0000,9,-999.0000,9,-999.0000,9,-999.0000,9,   3.2114,   3.3489,2
  33RR20070322,  I09N,   191,  2,      8,      8,2,20070425,0605, 14.0742,  89.3057, 2857,1878.6000,   1878.6,   3.0548,  34.7923,2,  34.7923,2,    106.3,2,    106.3,2,   124.30,2,    36.19,2,     0.00,2,     2.63,2,    0.004,2,    0.001,2, -999.000,5,   -999.0,9,   -999.0,9,-999.0000,9,  -999.00,   -999.0,9,  -999.00,9, -999.000,9, -999.000,-999.0000,9,-999.0000,  -999.00,9,  -999.00, -999.000,9, -999.000,   -999.0,9,   -999.0,  -999.00,9,-999.0000,9,-999.0000,9,-999.0000,9,-999.0000,9,-999.0000,9,-999.0000,9,-999.0000,9,-999.0000,9,-999.0000,9,   2.9129,   3.0559,2
  33RR20070322,  I09N,   191,  2,      7,      7,2,20070425,0605, 14.0742,  89.3057, 2857,1979.7000,   1979.7,   2.8117,  34.7817,2,  34.7817,2,    112.5,2,    112.7,2,   127.10,2,    36.03,2,     0.00,2,     2.61,2, -999.000,9, -999.000,9, -999.000,9,   -999.0,9,   -999.0,9,-999.0000,9,  -999.00,   -999.0,9,  -999.00,9, -999.000,9, -999.000,-999.0000,9,-999.0000,  -999.00,9,  -999.00, -999.000,9, -999.000,   -999.0,9,   -999.0,  -999.00,9,-999.0000,9,-999.0000,9,-999.0000,9,-999.0000,9,-999.0000,9,-999.0000,9,-999.0000,9,-999.0000,9,-999.0000,9,   2.6643,   2.8122,2
  33RR20070322,  I09N,   191,  2,      6,      6,2,20070425,0605, 14.0742,  89.3057, 2857,2181.2000,   2181.2,   2.4543,  34.7659,2,  34.7667,2,    122.0,2,    121.6,2,   131.09,2,    35.68,2,     0.00,2,     2.57,2, -999.000,9, -999.000,9, -999.000,9,   -999.0,9,   -999.0,9,-999.0000,9,  -999.00,   -999.0,9,  -999.00,9, -999.000,9, -999.000,-999.0000,9,-999.0000,  -999.00,9,  -999.00, -999.000,9, -999.000,   -999.0,9,   -999.0,  -999.00,9,-999.0000,9,-999.0000,9,-999.0000,9,-999.0000,9,-999.0000,9,-999.0000,9,-999.0000,9,-999.0000,9,-999.0000,9,   2.2945,   2.4542,2
  33RR20070322,  I09N,   191,  2,      5,      5,2,20070425,0605, 14.0742,  89.3057, 2857,2433.9000,   2433.9,   2.1618,  34.7531,2,  34.7555,4,    129.2,2,    129.7,2,   134.89,2,    35.33,2,     0.00,2,     2.53,2, -999.000,9, -999.000,9, -999.000,9,   -999.0,9,   -999.0,9,-999.0000,9,  -999.00,   -999.0,9,  -999.00,9, -999.000,9, -999.000,-999.0000,9,-999.0000,  -999.00,9,  -999.00, -999.000,9, -999.000,   -999.0,9,   -999.0,  -999.00,9,-999.0000,9,-999.0000,9,-999.0000,9,-999.0000,9,-999.0000,9,-999.0000,9,-999.0000,9,-999.0000,9,-999.0000,9,   1.9841,   2.1619,2