BOTTLE,20150630SIOCCHRJL
EXPOCODE,SECT_ID,STNNBR,CASTNO,SAMPNO,BTLNBR,BTLNBR_FLAG_W,DATE,TIME,LATITUDE,LONGITUDE,DEPTH,CTDRAW,CTDPRS,CTDTMP,CTDSAL,CTDSAL_FLAG_W,SALNTY,SALNTY_FLAG_W,CTDOXY,CTDOXY_FLAG_W,OXYGEN,OXYGEN_FLAG_W,SILCAT,SILCAT_FLAG_W,NITRAT,NITRAT_FLAG_W,NITRIT,NITRIT_FLAG_W,PHSPHT,PHSPHT_FLAG_W,CFC-11,CFC-11_FLAG_W,CFC-12,CFC-12_FLAG_W,CFC113,CFC113_FLAG_W,TCARBN,TCARBN_FLAG_W,ALKALI,ALKALI_FLAG_W,PH_SWS,PH_SWS_FLAG_W,PH_TMP,DOC,DOC_FLAG_W,TDN,TDN_FLAG_W,TRITUM,TRITUM_FLAG_W,TRITER,HELIUM,HELIUM_FLAG_W,HELIER,DELHE3,DELHE3_FLAG_W,DELHER,NEON,NEON_FLAG_W,NEONER,DELC14,DELC14_FLAG_W,C14ERR,DELC13,DELC13_FLAG_W,CDOM325,CDOM325_FLAG_W,CDOM340,CDOM340_FLAG_W,CDOM380,CDOM380_FLAG_W,CDOM412,CDOM412_FLAG_W,CDOM443,CDOM443_FLAG_W,CDOM490,CDOM490_FLAG_W,CDOM555,CDOM555_FLAG_W,CDOMSL,CDOMSL_FLAG_W,CDOMSN,CDOMSN_FLAG_W,THETA,SBE35,SBE35_FLAG_W
,,,,,,,,,,,METERS,,DBAR,ITS-90,PSS-78,,PSS-78,,UMOL/KG,,UMOL/KG,,UMOL/KG,,UMOL/KG,,UMOL/KG,,UMOL/KG,,PMOL/KG,,PMOL/KG,,PMOL/KG,,UMOL/KG,,UMOL/KG,,,,DEG C,UMOL/KG,,UMOL/KG,,TU,,TU,NMOL/KG,,NMOL/KG,PERCNT,,PERCNT,NMOL/KG,,NMOL/KG,/MILLE,,/MILLE,/MILLE,,1/M,,1/M,,1/M,,1/M,,1/M,,1/M,,1/M,,1/NM,,1/NM,,DEG C,ITS-90,
  33RR20070322,  I09N,   109,  1,      4,      4,2,20070401,2322,-16.8380,  94.9927, 6144,4907.5000,   4907.5,   1.1084,  34.7124,2,  34.7119,2,    203.0,2,    202.9,2,   122.53,2,    32.37,2,     0.00,2,     2.25,2,    0.046,2,    0.016,2,   -0.001,3,   2271.4,2,   2378.8,2,   7.5910,2,    25.00,     40.0,2,  -999.00,9, -999.000,9, -999.000,-999.0000,9,-999.0000,  -999.00,9,  -999.00, -999.000,9, -999.000,   -999.0,9,   -999.0,  -999.00,9,   0.1257,2,   0.0869,2,   0.0478,2,   0.0342,2,   0.0105,2,   0.0020,3,  -0.0009,4,   0.0138,2,   0.0152,3,   0.6982,   1.1082,2
  33RR20070322,  I09N,   109,  1,      3,      3,2,20070401,2322,-16.8380,  94.9927, 6144,5393.4000,   5393.4,   1.1451,  34.7119,2,  34.7129,2,    204.1,2,    203.9,2,   122.94,2,    32.32,2,     0.00,2,     2.25,2,    0.006,2,    0.003,2, -999.000,5,   2270.1,2,   2378.6,2,-999.0000,5,    25.00,     40.1,2,  -999.00,9, -999.000,9, -999.000,-999.0000,9,-999.0000,  -999.00,9,  -999.00, -999.000,9, -999.000,   -999.0,9,   -999.0,  -999.00,9,   0.1237,2,   0.0848,2,   0.0462,2,   0.0328,2,   0.0095,2,   0.0013,3,  -0.0013,4,   0.0140,2,   0.0156,3,   0.6746,   1.1457,2
  33RR20070322,  I09N,   109,  1,      2,      2,2,20070401,2322,-16.8380,  94.9927, 6144,5880.7000,   5880.7,   1.2078,  34.7114,2,  34.7122,2,    204.0,2,    203.9,2,   122.76,2,    32.32,2,     0.00,2,     2.24,2,    0.007,2,    0.004,2, -999.000,5,   2269.9,2,   2378.1,2,   7.5940,2,    25.00,     40.2,2,  -999.00,9, -999.000,9, -999.000,-999.0000,9,-999.0000,  -999.00,9,  -999.00, -999.000,9, -999.000,   -999.0,9,   -999.0,  -999.00,9,   0.1242,2,   0.0851,2,   0.0463,2,   0.0326,2,   0.0094,2,   0.0012,3,  -0.0014,4,   0.0141,2,   0.0157,3,   0.6727,   1.2083,2
  33RR20070322,  I09N,   109,  1,      1,      1,2,20070401,2322,-16.8380,  94.9927, 6144,6085.6000,   6085.6,   1.2365,  34.7111,2,  34.7115,2,    203.4,2,    204.2,2,   122.38,2,    32.26,2,     0.00,2,     2.25,2,    0.009,2,    0.005,2, -999.000,5,   2271.3,6,   2382.2,6,   7.5900,6,    25.00,     40.3,2,  -999.00,9, -999.000,9, -999.000,-999.0000,9,-999.0000,  -999.00,9,  -999.00, -999.000,9, -999.000,   -999.0,9,   -999.0,  -999.00,9,   0.1235,2,   0.0847,2,   0.0459,2,   0.0321,2,   0.0089,2,   0.0008,3,  -0.0016,4,   0.0142,2,   0.0159,3,   0.6733,   1.2368,2