BOTTLE,20150630SIOCCHRJL
EXPOCODE,SECT_ID,STNNBR,CASTNO,SAMPNO,BTLNBR,BTLNBR_FLAG_W,DATE,TIME,LATITUDE,LONGITUDE,DEPTH,CTDRAW,CTDPRS,CTDTMP,CTDSAL,CTDSAL_FLAG_W,SALNTY,SALNTY_FLAG_W,CTDOXY,CTDOXY_FLAG_W,OXYGEN,OXYGEN_FLAG_W,SILCAT,SILCAT_FLAG_W,NITRAT,NITRAT_FLAG_W,NITRIT,NITRIT_FLAG_W,PHSPHT,PHSPHT_FLAG_W,CFC-11,CFC-11_FLAG_W,CFC-12,CFC-12_FLAG_W,CFC113,CFC113_FLAG_W,TCARBN,TCARBN_FLAG_W,ALKALI,ALKALI_FLAG_W,PH_SWS,PH_SWS_FLAG_W,PH_TMP,DOC,DOC_FLAG_W,TDN,TDN_FLAG_W,TRITUM,TRITUM_FLAG_W,TRITER,HELIUM,HELIUM_FLAG_W,HELIER,DELHE3,DELHE3_FLAG_W,DELHER,NEON,NEON_FLAG_W,NEONER,DELC14,DELC14_FLAG_W,C14ERR,DELC13,DELC13_FLAG_W,CDOM325,CDOM325_FLAG_W,CDOM340,CDOM340_FLAG_W,CDOM380,CDOM380_FLAG_W,CDOM412,CDOM412_FLAG_W,CDOM443,CDOM443_FLAG_W,CDOM490,CDOM490_FLAG_W,CDOM555,CDOM555_FLAG_W,CDOMSL,CDOMSL_FLAG_W,CDOMSN,CDOMSN_FLAG_W,THETA,SBE35,SBE35_FLAG_W
,,,,,,,,,,,METERS,,DBAR,ITS-90,PSS-78,,PSS-78,,UMOL/KG,,UMOL/KG,,UMOL/KG,,UMOL/KG,,UMOL/KG,,UMOL/KG,,PMOL/KG,,PMOL/KG,,PMOL/KG,,UMOL/KG,,UMOL/KG,,,,DEG C,UMOL/KG,,UMOL/KG,,TU,,TU,NMOL/KG,,NMOL/KG,PERCNT,,PERCNT,NMOL/KG,,NMOL/KG,/MILLE,,/MILLE,/MILLE,,1/M,,1/M,,1/M,,1/M,,1/M,,1/M,,1/M,,1/NM,,1/NM,,DEG C,ITS-90,
  33RR20070322,  I09N,   164,  2,     36,     38,2,20070417,1747,  6.8727,  89.0550, 3736,   2.5000,      2.5,  29.6967,  33.2584,2,  33.2781,3,    196.8,2,    197.8,2,     1.56,2,     0.01,2,     0.00,2,     0.05,2,    1.519,2,    0.973,2, -999.000,5,   1877.5,6,   2192.6,2,   8.0970,3,    25.00,   -999.0,9,  -999.00,9, -999.000,9, -999.000,-999.0000,9,-999.0000,  -999.00,9,  -999.00, -999.000,9, -999.000,   -999.0,9,   -999.0,  -999.00,9,-999.0000,9,-999.0000,9,-999.0000,9,-999.0000,9,-999.0000,9,-999.0000,9,-999.0000,9,-999.0000,9,-999.0000,9,  29.6961,  29.7021,2
  33RR20070322,  I09N,   164,  2,     35,     35,2,20070417,1747,  6.8727,  89.0550, 3736,  28.9000,     28.9,  29.0349,  33.5145,2,  33.5147,2,    202.8,2,    202.0,2,     1.55,2,     0.01,2,     0.00,2,     0.05,2,    1.538,2,    0.993,2, -999.000,5,   1893.3,2,   2206.9,2,   8.0870,3,    25.00,   -999.0,9,  -999.00,9, -999.000,9, -999.000,-999.0000,9,-999.0000,  -999.00,9,  -999.00, -999.000,9, -999.000,   -999.0,9,   -999.0,  -999.00,9,-999.0000,9,-999.0000,9,-999.0000,9,-999.0000,9,-999.0000,9,-999.0000,9,-999.0000,9,-999.0000,9,-999.0000,9,  29.0279,  29.0354,2
  33RR20070322,  I09N,   164,  2,     34,   9419,2,20070417,1747,  6.8727,  89.0550, 3736,  53.8000,     53.8,  28.7339,  34.5532,2,  34.5541,2,    202.4,2,    197.3,2,     1.34,2,     0.01,2,     0.00,2,     0.13,2, -999.000,9, -999.000,9, -999.000,9,   -999.0,9,   -999.0,9,-999.0000,9,  -999.00,   -999.0,9,  -999.00,9, -999.000,9, -999.000,-999.0000,9,-999.0000,  -999.00,9,  -999.00, -999.000,9, -999.000,   -999.0,9,   -999.0,  -999.00,9,-999.0000,9,-999.0000,9,-999.0000,9,-999.0000,9,-999.0000,9,-999.0000,9,-999.0000,9,-999.0000,9,-999.0000,9,  28.7210,  28.7273,2
  33RR20070322,  I09N,   164,  2,     33,     33,2,20070417,1747,  6.8727,  89.0550, 3736,  78.7000,     78.7,  23.8623,  34.7754,2,  34.7701,2,     74.7,2,     56.8,2,    11.15,2,    17.50,2,     0.36,2,     1.30,2, -999.000,5, -999.000,5, -999.000,5,   2104.0,2,   2326.3,4,   7.7897,2,    25.00,   -999.0,9,  -999.00,9, -999.000,9, -999.000,-999.0000,9,-999.0000,  -999.00,9,  -999.00, -999.000,9, -999.000,   -999.0,9,   -999.0,  -999.00,9,-999.0000,9,-999.0000,9,-999.0000,9,-999.0000,9,-999.0000,9,-999.0000,9,-999.0000,9,-999.0000,9,-999.0000,9,  23.8458,  23.8608,2
  33RR20070322,  I09N,   164,  2,     32,     37,2,20070417,1747,  6.8727,  89.0550, 3736, 103.6000,    103.6,  18.3655,  34.8927,2,  34.8882,2,     24.9,2,     24.8,2,    21.55,2,    25.72,2,     0.01,2,     1.85,2, -999.000,9, -999.000,9, -999.000,9,   -999.0,9,   -999.0,9,-999.0000,9,  -999.00,   -999.0,9,  -999.00,9, -999.000,9, -999.000,-999.0000,9,-999.0000,  -999.00,9,  -999.00, -999.000,9, -999.000,   -999.0,9,   -999.0,  -999.00,9,-999.0000,9,-999.0000,9,-999.0000,9,-999.0000,9,-999.0000,9,-999.0000,9,-999.0000,9,-999.0000,9,-999.0000,9,  18.3475,  18.4023,2
  33RR20070322,  I09N,   164,  2,     31,     31,2,20070417,1747,  6.8727,  89.0550, 3736, 153.1000,    153.1,  15.2555,  34.9512,2,  34.9483,2,     29.9,2,     29.8,2,    27.43,2,    28.22,2,     0.01,2,     2.01,2,    0.833,2,    0.490,2, -999.000,5,   2209.3,2,   2270.7,2,   7.5829,3,    25.00,   -999.0,9,  -999.00,9, -999.000,9, -999.000,-999.0000,9,-999.0000,  -999.00,9,  -999.00, -999.000,9, -999.000,   -999.0,9,   -999.0,  -999.00,9,-999.0000,9,-999.0000,9,-999.0000,9,-999.0000,9,-999.0000,9,-999.0000,9,-999.0000,9,-999.0000,9,-999.0000,9,  15.2321,  15.2568,2
  33RR20070322,  I09N,   164,  2,     30,     30,2,20070417,1747,  6.8727,  89.0550, 3736, 203.4000,    203.4,  13.2799,  34.9963,2,  34.9947,2,     23.5,2,     26.1,2,    31.53,2,    30.86,2,     0.00,2,     2.20,2, -999.000,9, -999.000,9, -999.000,9,   -999.0,9,   -999.0,9,-999.0000,9,  -999.00,   -999.0,9,  -999.00,9, -999.000,9, -999.000,-999.0000,9,-999.0000,  -999.00,9,  -999.00, -999.000,9, -999.000,   -999.0,9,   -999.0,  -999.00,9,-999.0000,9,-999.0000,9,-999.0000,9,-999.0000,9,-999.0000,9,-999.0000,9,-999.0000,9,-999.0000,9,-999.0000,9,  13.2515,  13.2800,2
  33RR20070322,  I09N,   164,  2,     29,     29,2,20070417,1747,  6.8727,  89.0550, 3736, 253.5000,    253.5,  12.4546,  35.0606,2,  35.0602,2,     20.5,2,     20.2,2,    30.73,2,    31.46,2,     0.00,2,     2.24,2,    0.687,2,    0.389,2, -999.000,5,   2246.0,2,   2311.9,6,   7.4957,2,    25.00,   -999.0,9,  -999.00,9, -999.000,9, -999.000,-999.0000,9,-999.0000,  -999.00,9,  -999.00, -999.000,9, -999.000,   -999.0,9,   -999.0,  -999.00,9,-999.0000,9,-999.0000,9,-999.0000,9,-999.0000,9,-999.0000,9,-999.0000,9,-999.0000,9,-999.0000,9,-999.0000,9,  12.4206,  12.4530,2
  33RR20070322,  I09N,   164,  2,     28,     28,2,20070417,1747,  6.8727,  89.0550, 3736, 303.0000,    303.0,  11.7906,  35.0691,2,  35.0669,2,     23.9,2,     24.6,2,    31.70,2,    31.83,2,     0.00,2,     2.25,2, -999.000,9, -999.000,9, -999.000,9,   -999.0,9,   -999.0,9,-999.0000,9,  -999.00,   -999.0,9,  -999.00,9, -999.000,9, -999.000,-999.0000,9,-999.0000,  -999.00,9,  -999.00, -999.000,9, -999.000,   -999.0,9,   -999.0,  -999.00,9,-999.0000,9,-999.0000,9,-999.0000,9,-999.0000,9,-999.0000,9,-999.0000,9,-999.0000,9,-999.0000,9,-999.0000,9,  11.7513,  11.7889,2
  33RR20070322,  I09N,   164,  2,     27,     27,2,20070417,1747,  6.8727,  89.0550, 3736, 353.3000,    353.3,  11.3014,  35.0628,2,  35.0614,2,     23.2,2,     22.7,2,    34.44,2,    32.95,2,     0.00,2,     2.31,2,    0.544,2,    0.302,2, -999.000,5,   2255.8,2,   2314.2,2,   7.4879,2,    25.00,   -999.0,9,  -999.00,9, -999.000,9, -999.000,-999.0000,9,-999.0000,  -999.00,9,  -999.00, -999.000,9, -999.000,   -999.0,9,   -999.0,  -999.00,9,-999.0000,9,-999.0000,9,-999.0000,9,-999.0000,9,-999.0000,9,-999.0000,9,-999.0000,9,-999.0000,9,-999.0000,9,  11.2567,  11.3005,2
  33RR20070322,  I09N,   164,  2,     26,     26,2,20070417,1747,  6.8727,  89.0550, 3736, 403.4000,    403.4,  10.7893,  35.0515,2,  35.0512,2,     21.5,2,     20.9,2,    38.36,2,    33.87,2,     0.00,2,     2.39,2, -999.000,9, -999.000,9, -999.000,9,   -999.0,9,   -999.0,9,-999.0000,9,  -999.00,   -999.0,9,  -999.00,9, -999.000,9, -999.000,-999.0000,9,-999.0000,  -999.00,9,  -999.00, -999.000,9, -999.000,   -999.0,9,   -999.0,  -999.00,9,-999.0000,9,-999.0000,9,-999.0000,9,-999.0000,9,-999.0000,9,-999.0000,9,-999.0000,9,-999.0000,9,-999.0000,9,  10.7397,  10.7906,2
  33RR20070322,  I09N,   164,  2,     25,     25,2,20070417,1747,  6.8727,  89.0550, 3736, 453.1000,    453.1,  10.3688,  35.0463,2,  35.0459,2,     19.0,2,     18.2,2,    42.48,2,    34.74,2,     0.00,2,     2.48,2,    0.287,2,    0.160,2, -999.000,5,   2269.3,2,   -999.0,5,   7.4613,2,    25.00,   -999.0,9,  -999.00,9, -999.000,9, -999.000,-999.0000,9,-999.0000,  -999.00,9,  -999.00, -999.000,9, -999.000,   -999.0,9,   -999.0,  -999.00,9,-999.0000,9,-999.0000,9,-999.0000,9,-999.0000,9,-999.0000,9,-999.0000,9,-999.0000,9,-999.0000,9,-999.0000,9,  10.3143,  10.3683,2
  33RR20070322,  I09N,   164,  2,     24,     24,2,20070417,1747,  6.8727,  89.0550, 3736, 503.3000,    503.3,  10.0130,  35.0404,2,  35.0392,2,     18.3,2,     18.4,2,    46.01,2,    35.19,2,     0.00,2,     2.53,2, -999.000,9, -999.000,9, -999.000,9,   -999.0,9,   -999.0,9,-999.0000,9,  -999.00,   -999.0,9,  -999.00,9, -999.000,9, -999.000,-999.0000,9,-999.0000,  -999.00,9,  -999.00, -999.000,9, -999.000,   -999.0,9,   -999.0,  -999.00,9,-999.0000,9,-999.0000,9,-999.0000,9,-999.0000,9,-999.0000,9,-999.0000,9,-999.0000,9,-999.0000,9,-999.0000,9,   9.9536,  10.0136,2
  33RR20070322,  I09N,   164,  2,     23,     23,2,20070417,1747,  6.8727,  89.0550, 3736, 603.1000,    603.1,   9.3434,  35.0281,2,  35.0279,2,     21.0,2,     21.2,2,    52.90,2,    35.87,2,     0.00,2,     2.61,2, -999.000,9, -999.000,9, -999.000,9,   -999.0,9,   -999.0,9,-999.0000,9,  -999.00,   -999.0,9,  -999.00,9, -999.000,9, -999.000,-999.0000,9,-999.0000,  -999.00,9,  -999.00, -999.000,9, -999.000,   -999.0,9,   -999.0,  -999.00,9,-999.0000,9,-999.0000,9,-999.0000,9,-999.0000,9,-999.0000,9,-999.0000,9,-999.0000,9,-999.0000,9,-999.0000,9,   9.2748,   9.3414,2
  33RR20070322,  I09N,   164,  2,     22,     22,2,20070417,1747,  6.8727,  89.0550, 3736, 703.5000,    703.5,   8.6431,  35.0075,2,  35.0073,2,     22.9,2,     22.8,2,    61.37,2,    36.69,2,     0.00,2,     2.68,2,    0.068,2,    0.037,2, -999.000,5,   2291.2,2,   2342.4,2,   7.4496,2,    25.00,   -999.0,9,  -999.00,9, -999.000,9, -999.000,-999.0000,9,-999.0000,  -999.00,9,  -999.00, -999.000,9, -999.000,   -999.0,9,   -999.0,  -999.00,9,-999.0000,9,-999.0000,9,-999.0000,9,-999.0000,9,-999.0000,9,-999.0000,9,-999.0000,9,-999.0000,9,-999.0000,9,   8.5663,   8.6365,2
  33RR20070322,  I09N,   164,  2,     21,     21,2,20070417,1747,  6.8727,  89.0550, 3736, 804.1000,    804.1,   7.9939,  34.9863,2,  34.9866,2,     31.4,2,     30.4,2,    68.86,2,    36.84,2,     0.00,2,     2.70,2, -999.000,9, -999.000,9, -999.000,9,   -999.0,9,   -999.0,9,-999.0000,9,  -999.00,   -999.0,9,  -999.00,9, -999.000,9, -999.000,-999.0000,9,-999.0000,  -999.00,9,  -999.00, -999.000,9, -999.000,   -999.0,9,   -999.0,  -999.00,9,-999.0000,9,-999.0000,9,-999.0000,9,-999.0000,9,-999.0000,9,-999.0000,9,-999.0000,9,-999.0000,9,-999.0000,9,   7.9094,   7.9934,2
  33RR20070322,  I09N,   164,  2,     20,     20,2,20070417,1747,  6.8727,  89.0550, 3736, 904.2000,    904.2,   7.3739,  34.9586,2,  34.9563,2,     40.7,2,     41.0,2,    75.38,2,    36.68,2,     0.00,2,     2.68,2, -999.000,9, -999.000,9, -999.000,9,   -999.0,9,   -999.0,9,-999.0000,9,  -999.00,   -999.0,9,  -999.00,9, -999.000,9, -999.000,-999.0000,9,-999.0000,  -999.00,9,  -999.00, -999.000,9, -999.000,   -999.0,9,   -999.0,  -999.00,9,-999.0000,9,-999.0000,9,-999.0000,9,-999.0000,9,-999.0000,9,-999.0000,9,-999.0000,9,-999.0000,9,-999.0000,9,   7.2825,   7.3720,2
  33RR20070322,  I09N,   164,  2,     19,     19,2,20070417,1747,  6.8727,  89.0550, 3736,1004.0000,   1004.0,   6.8190,  34.9392,2,  34.9384,2,     47.1,2,     47.1,2,    81.71,2,    36.84,2,     0.00,2,     2.70,2, -999.000,9, -999.000,9, -999.000,9,   -999.0,9,   -999.0,9,-999.0000,9,  -999.00,   -999.0,9,  -999.00,9, -999.000,9, -999.000,-999.0000,9,-999.0000,  -999.00,9,  -999.00, -999.000,9, -999.000,   -999.0,9,   -999.0,  -999.00,9,-999.0000,9,-999.0000,9,-999.0000,9,-999.0000,9,-999.0000,9,-999.0000,9,-999.0000,9,-999.0000,9,-999.0000,9,   6.7209,   6.8181,2
  33RR20070322,  I09N,   164,  2,     18,     18,2,20070417,1747,  6.8727,  89.0550, 3736,1104.2000,   1104.2,   6.3482,  34.9214,2,  34.9209,2,     51.8,2,     52.4,2,    87.25,2,    36.89,2,     0.00,2,     2.71,2, -999.000,9, -999.000,9, -999.000,9,   -999.0,9,   -999.0,9,-999.0000,9,  -999.00,   -999.0,9,  -999.00,9, -999.000,9, -999.000,-999.0000,9,-999.0000,  -999.00,9,  -999.00, -999.000,9, -999.000,   -999.0,9,   -999.0,  -999.00,9,-999.0000,9,-999.0000,9,-999.0000,9,-999.0000,9,-999.0000,9,-999.0000,9,-999.0000,9,-999.0000,9,-999.0000,9,   6.2435,   6.3462,2
  33RR20070322,  I09N,   164,  2,     17,     17,2,20070417,1747,  6.8727,  89.0550, 3736,1205.1000,   1205.1,   5.8977,  34.9030,2,  34.9028,2,     59.8,2,     59.2,2,    92.01,2,    36.89,2,     0.00,2,     2.70,2, -999.000,9, -999.000,9, -999.000,9,   -999.0,9,   -999.0,9,-999.0000,9,  -999.00,   -999.0,9,  -999.00,9, -999.000,9, -999.000,-999.0000,9,-999.0000,  -999.00,9,  -999.00, -999.000,9, -999.000,   -999.0,9,   -999.0,  -999.00,9,-999.0000,9,-999.0000,9,-999.0000,9,-999.0000,9,-999.0000,9,-999.0000,9,-999.0000,9,-999.0000,9,-999.0000,9,   5.7867,   5.8967,2
  33RR20070322,  I09N,   164,  2,     16,     16,2,20070417,1747,  6.8727,  89.0550, 3736,1305.8000,   1305.8,   5.4840,  34.8873,2,  34.8867,2,     65.2,2,     65.5,2,    96.17,2,    36.89,2,     0.00,2,     2.70,2, -999.000,9, -999.000,9, -999.000,9,   -999.0,9,   -999.0,9,-999.0000,9,  -999.00,   -999.0,9,  -999.00,9, -999.000,9, -999.000,-999.0000,9,-999.0000,  -999.00,9,  -999.00, -999.000,9, -999.000,   -999.0,9,   -999.0,  -999.00,9,-999.0000,9,-999.0000,9,-999.0000,9,-999.0000,9,-999.0000,9,-999.0000,9,-999.0000,9,-999.0000,9,-999.0000,9,   5.3668,   5.4817,2
  33RR20070322,  I09N,   164,  2,     15,     15,2,20070417,1747,  6.8727,  89.0550, 3736,1405.8000,   1405.8,   5.0345,  34.8697,2,  34.8704,2,     73.3,2,     74.6,2,   101.34,2,    36.67,2,     0.00,2,     2.69,2, -999.000,9, -999.000,9, -999.000,9,   -999.0,9,   -999.0,9,-999.0000,9,  -999.00,   -999.0,9,  -999.00,9, -999.000,9, -999.000,-999.0000,9,-999.0000,  -999.00,9,  -999.00, -999.000,9, -999.000,   -999.0,9,   -999.0,  -999.00,9,-999.0000,9,-999.0000,9,-999.0000,9,-999.0000,9,-999.0000,9,-999.0000,9,-999.0000,9,-999.0000,9,-999.0000,9,   4.9121,   5.0348,2
  33RR20070322,  I09N,   164,  2,     14,     14,2,20070417,1747,  6.8727,  89.0550, 3736,1506.8000,   1506.8,   4.6073,  34.8540,2,  34.8534,2,     81.5,2,     81.8,2,   105.12,2,    36.67,2,     0.00,2,     2.68,2, -999.000,9, -999.000,9, -999.000,9,   -999.0,9,   -999.0,9,-999.0000,9,  -999.00,   -999.0,9,  -999.00,9, -999.000,9, -999.000,-999.0000,9,-999.0000,  -999.00,9,  -999.00, -999.000,9, -999.000,   -999.0,9,   -999.0,  -999.00,9,-999.0000,9,-999.0000,9,-999.0000,9,-999.0000,9,-999.0000,9,-999.0000,9,-999.0000,9,-999.0000,9,-999.0000,9,   4.4799,   4.6129,2
  33RR20070322,  I09N,   164,  2,     13,     13,2,20070417,1747,  6.8727,  89.0550, 3736,1607.2000,   1607.2,   4.1981,  34.8401,2,  34.8395,2,     87.3,2,     86.7,2,   110.31,2,    36.63,2,     0.00,2,     2.68,2, -999.000,9, -999.000,9, -999.000,9,   -999.0,9,   -999.0,9,-999.0000,9,  -999.00,   -999.0,9,  -999.00,9, -999.000,9, -999.000,-999.0000,9,-999.0000,  -999.00,9,  -999.00, -999.000,9, -999.000,   -999.0,9,   -999.0,  -999.00,9,-999.0000,9,-999.0000,9,-999.0000,9,-999.0000,9,-999.0000,9,-999.0000,9,-999.0000,9,-999.0000,9,-999.0000,9,   4.0660,   4.1993,2
  33RR20070322,  I09N,   164,  2,     12,     12,2,20070417,1747,  6.8727,  89.0550, 3736,1708.0000,   1708.0,   3.7716,  34.8235,2,  34.8243,2,     95.0,2,     94.9,2,   114.90,2,    36.41,2,     0.00,2,     2.66,2,    0.009,2,    0.005,2, -999.000,5,   2324.1,2,   2393.9,2,   7.5076,2,    25.00,   -999.0,9,  -999.00,9, -999.000,9, -999.000,-999.0000,9,-999.0000,  -999.00,9,  -999.00, -999.000,9, -999.000,   -999.0,9,   -999.0,  -999.00,9,-999.0000,9,-999.0000,9,-999.0000,9,-999.0000,9,-999.0000,9,-999.0000,9,-999.0000,9,-999.0000,9,-999.0000,9,   3.6354,   3.7738,2
  33RR20070322,  I09N,   164,  2,     11,     11,2,20070417,1747,  6.8727,  89.0550, 3736,1808.9000,   1808.9,   3.3224,  34.8052,2,  34.8053,2,    103.5,2,    103.5,2,   120.29,2,    36.26,2,     0.00,2,     2.64,2, -999.000,9, -999.000,9, -999.000,9,   -999.0,9,   -999.0,9,-999.0000,9,  -999.00,   -999.0,9,  -999.00,9, -999.000,9, -999.000,-999.0000,9,-999.0000,  -999.00,9,  -999.00, -999.000,9, -999.000,   -999.0,9,   -999.0,  -999.00,9,-999.0000,9,-999.0000,9,-999.0000,9,-999.0000,9,-999.0000,9,-999.0000,9,-999.0000,9,-999.0000,9,-999.0000,9,   3.1830,   3.3169,2
  33RR20070322,  I09N,   164,  2,     10,     10,2,20070417,1747,  6.8727,  89.0550, 3736,1909.7000,   1909.7,   3.0297,  34.7924,2,  34.7927,2,    111.5,2,    111.2,2,   123.09,2,    36.00,2,     0.00,2,     2.60,2, -999.000,9, -999.000,9, -999.000,9,   -999.0,9,   -999.0,9,-999.0000,9,  -999.00,   -999.0,9,  -999.00,9, -999.000,9, -999.000,-999.0000,9,-999.0000,  -999.00,9,  -999.00, -999.000,9, -999.000,   -999.0,9,   -999.0,  -999.00,9,-999.0000,9,-999.0000,9,-999.0000,9,-999.0000,9,-999.0000,9,-999.0000,9,-999.0000,9,-999.0000,9,-999.0000,9,   2.8853,   3.0262,2
  33RR20070322,  I09N,   164,  2,      9,      9,2,20070417,1747,  6.8727,  89.0550, 3736,2010.0000,   2010.0,   2.8042,  34.7821,2,  34.7820,2,    116.9,2,    116.8,2,   125.49,2,    35.89,2,     0.00,2,     2.58,2, -999.000,9, -999.000,9, -999.000,9,   -999.0,9,   -999.0,9,-999.0000,9,  -999.00,   -999.0,9,  -999.00,9, -999.000,9, -999.000,-999.0000,9,-999.0000,  -999.00,9,  -999.00, -999.000,9, -999.000,   -999.0,9,   -999.0,  -999.00,9,-999.0000,9,-999.0000,9,-999.0000,9,-999.0000,9,-999.0000,9,-999.0000,9,-999.0000,9,-999.0000,9,-999.0000,9,   2.6542,   2.8069,2
  33RR20070322,  I09N,   164,  2,      8,      8,2,20070417,1747,  6.8727,  89.0550, 3736,2262.1000,   2262.1,   2.3676,  34.7625,2,  34.7622,2,    127.6,2,    127.3,2,   130.71,2,    35.49,2,     0.00,2,     2.55,2, -999.000,9, -999.000,9, -999.000,9,   -999.0,9,   -999.0,9,-999.0000,9,  -999.00,   -999.0,9,  -999.00,9, -999.000,9, -999.000,-999.0000,9,-999.0000,  -999.00,9,  -999.00, -999.000,9, -999.000,   -999.0,9,   -999.0,  -999.00,9,-999.0000,9,-999.0000,9,-999.0000,9,-999.0000,9,-999.0000,9,-999.0000,9,-999.0000,9,-999.0000,9,-999.0000,9,   2.2019,   2.3695,2
  33RR20070322,  I09N,   164,  2,      7,      7,2,20070417,1747,  6.8727,  89.0550, 3736,2514.8000,   2514.8,   2.0401,  34.7480,2,  34.7480,2,    138.4,2,    140.5,2,   132.51,2,    34.97,2,     0.00,2,     2.48,2, -999.000,9, -999.000,9, -999.000,9,   -999.0,9,   -999.0,9,-999.0000,9,  -999.00,   -999.0,9,  -999.00,9, -999.000,9, -999.000,-999.0000,9,-999.0000,  -999.00,9,  -999.00, -999.000,9, -999.000,   -999.0,9,   -999.0,  -999.00,9,-999.0000,9,-999.0000,9,-999.0000,9,-999.0000,9,-999.0000,9,-999.0000,9,-999.0000,9,-999.0000,9,-999.0000,9,   1.8573,   2.0400,2
  33RR20070322,  I09N,   164,  2,      6,      6,2,20070417,1747,  6.8727,  89.0550, 3736,2767.8000,   2767.8,   1.8507,  34.7399,2,  34.7398,2,    148.4,2,    148.1,2,   133.91,2,    34.71,2,     0.00,2,     2.45,2, -999.000,9, -999.000,9, -999.000,9,   -999.0,9,   -999.0,9,-999.0000,9,  -999.00,   -999.0,9,  -999.00,9, -999.000,9, -999.000,-999.0000,9,-999.0000,  -999.00,9,  -999.00, -999.000,9, -999.000,   -999.0,9,   -999.0,  -999.00,9,-999.0000,9,-999.0000,9,-999.0000,9,-999.0000,9,-999.0000,9,-999.0000,9,-999.0000,9,-999.0000,9,-999.0000,9,   1.6481,   1.8509,2
  33RR20070322,  I09N,   164,  2,      5,      5,2,20070417,1747,  6.8727,  89.0550, 3736,3020.9000,   3020.9,   1.7145,  34.7342,2,  34.7335,2,    153.5,2,    153.5,2,   135.51,2,    34.55,2,     0.00,2,     2.42,2, -999.000,9, -999.000,9, -999.000,9,   -999.0,9,   -999.0,9,-999.0000,9,  -999.00,   -999.0,9,  -999.00,9, -999.000,9, -999.000,-999.0000,9,-999.0000,  -999.00,9,  -999.00, -999.000,9, -999.000,   -999.0,9,   -999.0,  -999.00,9,-999.0000,9,-999.0000,9,-999.0000,9,-999.0000,9,-999.0000,9,-999.0000,9,-999.0000,9,-999.0000,9,-999.0000,9,   1.4906,   1.7144,2