BOTTLE,20150630SIOCCHRJL
EXPOCODE,SECT_ID,STNNBR,CASTNO,SAMPNO,BTLNBR,BTLNBR_FLAG_W,DATE,TIME,LATITUDE,LONGITUDE,DEPTH,CTDRAW,CTDPRS,CTDTMP,CTDSAL,CTDSAL_FLAG_W,SALNTY,SALNTY_FLAG_W,CTDOXY,CTDOXY_FLAG_W,OXYGEN,OXYGEN_FLAG_W,SILCAT,SILCAT_FLAG_W,NITRAT,NITRAT_FLAG_W,NITRIT,NITRIT_FLAG_W,PHSPHT,PHSPHT_FLAG_W,CFC-11,CFC-11_FLAG_W,CFC-12,CFC-12_FLAG_W,CFC113,CFC113_FLAG_W,TCARBN,TCARBN_FLAG_W,ALKALI,ALKALI_FLAG_W,PH_SWS,PH_SWS_FLAG_W,PH_TMP,DOC,DOC_FLAG_W,TDN,TDN_FLAG_W,TRITUM,TRITUM_FLAG_W,TRITER,HELIUM,HELIUM_FLAG_W,HELIER,DELHE3,DELHE3_FLAG_W,DELHER,NEON,NEON_FLAG_W,NEONER,DELC14,DELC14_FLAG_W,C14ERR,DELC13,DELC13_FLAG_W,CDOM325,CDOM325_FLAG_W,CDOM340,CDOM340_FLAG_W,CDOM380,CDOM380_FLAG_W,CDOM412,CDOM412_FLAG_W,CDOM443,CDOM443_FLAG_W,CDOM490,CDOM490_FLAG_W,CDOM555,CDOM555_FLAG_W,CDOMSL,CDOMSL_FLAG_W,CDOMSN,CDOMSN_FLAG_W,THETA,SBE35,SBE35_FLAG_W
,,,,,,,,,,,METERS,,DBAR,ITS-90,PSS-78,,PSS-78,,UMOL/KG,,UMOL/KG,,UMOL/KG,,UMOL/KG,,UMOL/KG,,UMOL/KG,,PMOL/KG,,PMOL/KG,,PMOL/KG,,UMOL/KG,,UMOL/KG,,,,DEG C,UMOL/KG,,UMOL/KG,,TU,,TU,NMOL/KG,,NMOL/KG,PERCNT,,PERCNT,NMOL/KG,,NMOL/KG,/MILLE,,/MILLE,/MILLE,,1/M,,1/M,,1/M,,1/M,,1/M,,1/M,,1/M,,1/NM,,1/NM,,DEG C,ITS-90,
  33RR20070322,  I09N,   121,  1,     36,     38,2,20070405,2030,-10.3478,  95.0038, 5271,   2.9000,      2.9,  28.5887,  33.8927,2,  33.8923,2,    197.5,2,    196.9,2,     2.62,2,     0.11,2,     0.00,2,     0.12,2,    1.535,2,    0.983,2, -999.000,5,   1911.5,6,   2223.5,3,   8.0249,6,    25.00,     70.9,2,  -999.00,9, -999.000,9, -999.000,-999.0000,9,-999.0000,  -999.00,9,  -999.00, -999.000,9, -999.000,   -999.0,9,   -999.0,  -999.00,9,   0.0822,2,   0.0538,2,   0.0261,2,   0.0185,2,  -0.0003,4,  -0.0024,4,  -0.0034,4,   0.0105,3,   0.0190,3,  28.5880,  28.5831,2
  33RR20070322,  I09N,   121,  1,     35,     35,2,20070405,2030,-10.3478,  95.0038, 5271,  22.0000,     22.0,  27.1263,  34.4187,2,  34.1901,3,    202.5,2,    204.7,2,     2.21,2,     0.11,2,     0.00,2,     0.12,2,    1.574,2,    0.988,2, -999.000,5,   1933.7,2,   2243.7,2,   8.0610,3,    25.00,     70.8,2,  -999.00,9, -999.000,9, -999.000,-999.0000,9,-999.0000,  -999.00,9,  -999.00, -999.000,9, -999.000,     47.8,6,      5.4,     1.27,6,   0.1227,2,   0.0865,2,   0.0436,2,   0.0313,2,   0.0072,2,   0.0013,3,  -0.0017,4,   0.0121,3,   0.0165,3,  27.1212,  27.5148,3
  33RR20070322,  I09N,   121,  1,     34,   9419,2,20070405,2030,-10.3478,  95.0038, 5271,  46.2000,     46.2,  21.0592,  34.7644,2,  34.7648,2,    102.3,2,     96.5,2,    13.72,2,    15.22,2,     0.23,2,     1.07,2,    1.641,2,    1.013,2, -999.000,5,   2096.2,2,   2279.0,2,   7.8053,2,    25.00,     64.2,2,  -999.00,9, -999.000,9, -999.000,-999.0000,9,-999.0000,  -999.00,9,  -999.00, -999.000,9, -999.000,   -999.0,9,   -999.0,  -999.00,9,   0.1906,2,   0.1420,2,   0.0811,2,   0.0642,2,   0.0242,2,   0.0075,2,   0.0016,2,   0.0134,3,   0.0139,3,  21.0504,  21.0618,2
  33RR20070322,  I09N,   121,  1,     33,     33,2,20070405,2030,-10.3478,  95.0038, 5271,  91.8000,     91.8,  15.9612,  34.5948,2,  34.5934,2,    100.1,2,    103.9,2,    25.24,2,    19.62,2,     0.01,2,     1.39,2,    1.514,2,    0.878,2, -999.000,5,   2135.6,2,   2286.6,2,   7.7330,3,    25.00,     55.7,2,  -999.00,9, -999.000,9, -999.000,-999.0000,9,-999.0000,  -999.00,9,  -999.00, -999.000,9, -999.000,   -999.0,9,   -999.0,  -999.00,9,   0.1438,2,   0.1053,2,   0.0595,2,   0.0455,2,   0.0149,2,   0.0033,2,  -0.0008,4,   0.0126,3,   0.0142,3,  15.9468,  15.9579,2
  33RR20070322,  I09N,   121,  1,     32,     37,2,20070405,2030,-10.3478,  95.0038, 5271, 141.7000,    141.7,  13.0176,  34.6251,2,  34.6239,2,     94.4,2,     96.9,2,    33.30,2,    23.82,2,     0.01,2,     1.70,2,    1.283,2,    0.732,2, -999.000,5,   2173.5,2,   2297.6,2,   7.6575,2,    25.00,     50.5,2,  -999.00,9, -999.000,9, -999.000,-999.0000,9,-999.0000,  -999.00,9,  -999.00, -999.000,9, -999.000,   -999.0,9,   -999.0,  -999.00,9,   0.1444,2,   0.1058,2,   0.0610,2,   0.0465,2,   0.0169,2,   0.0043,2,  -0.0004,4,   0.0138,3,   0.0138,3,  12.9982,  13.0119,2
  33RR20070322,  I09N,   121,  1,     31,     31,2,20070405,2030,-10.3478,  95.0038, 5271, 166.0000,    166.0,  12.1056,  34.6252,2,  34.6263,2,     83.1,2,     93.5,2,    36.18,2,    25.27,2,     0.01,2,     1.81,2,    1.169,2,    0.654,2, -999.000,5,   2186.8,2,   2301.6,2,   7.6320,3,    25.00,     49.2,2,  -999.00,9, -999.000,9, -999.000,-999.0000,9,-999.0000,  -999.00,9,  -999.00, -999.000,9, -999.000,   -999.0,9,   -999.0,  -999.00,9,   0.1472,2,   0.1078,2,   0.0628,2,   0.0481,2,   0.0177,2,   0.0043,2,  -0.0006,4,   0.0139,3,   0.0137,3,  12.0839,  12.1075,2
  33RR20070322,  I09N,   121,  1,     30,     30,2,20070405,2030,-10.3478,  95.0038, 5271, 191.6000,    191.6,  11.5836,  34.6533,2,  34.6459,2,     90.9,2,     93.3,2,    37.51,2,    26.04,2,     0.00,2,     1.87,2,    1.141,2,    0.644,2, -999.000,5,   2193.2,2,   2305.2,2,   7.5977,2,    25.00,     48.5,2,  -999.00,9, -999.000,9, -999.000,-999.0000,9,-999.0000,  -999.00,9,  -999.00, -999.000,9, -999.000,   -999.0,9,   -999.0,  -999.00,9,   0.1476,2,   0.1079,2,   0.0633,2,   0.0488,2,   0.0184,2,   0.0045,2,  -0.0005,4,   0.0138,3,   0.0135,3,  11.5593,  11.5943,2
  33RR20070322,  I09N,   121,  1,     29,     29,2,20070405,2030,-10.3478,  95.0038, 5271, 241.3000,    241.3,  11.0142,  34.7458,2,  34.7467,2,     75.3,2,     73.9,2,    36.52,2,    28.69,2,     0.00,2,     2.02,2,    0.890,2,    0.491,2, -999.000,5,   2213.9,2,   2306.4,2,   7.5700,2,    25.00,     47.8,2,  -999.00,9, -999.000,9, -999.000,-999.0000,9,-999.0000,  -999.00,9,  -999.00, -999.000,9, -999.000,   -999.0,9,   -999.0,  -999.00,9,   0.1530,2,   0.1125,2,   0.0669,2,   0.0521,2,   0.0205,2,   0.0052,2,  -0.0004,4,   0.0138,3,   0.0132,3,  10.9844,  11.0149,2
  33RR20070322,  I09N,   121,  1,     28,     28,2,20070405,2030,-10.3478,  95.0038, 5271, 291.0000,    291.0,  10.7345,  34.8244,2,  34.8235,2,     79.5,2,     84.9,2,    32.07,2,    27.95,2,     0.00,2,     1.96,2,    1.010,2,    0.555,2, -999.000,5,   2210.1,2,   2307.9,2,   7.5565,2,    25.00,     47.1,2,  -999.00,9, -999.000,9, -999.000,-999.0000,9,-999.0000,  -999.00,9,  -999.00, -999.000,9, -999.000,   -999.0,9,   -999.0,  -999.00,9,   0.1466,2,   0.1077,2,   0.0645,2,   0.0510,2,   0.0203,2,   0.0053,2,  -0.0001,4,   0.0135,3,   0.0129,3,  10.6991,  10.7405,2
  33RR20070322,  I09N,   121,  1,     27,     27,2,20070405,2030,-10.3478,  95.0038, 5271, 341.7000,    341.7,   9.8809,  34.7815,2,  34.7817,2,     98.0,2,    101.1,2,    32.44,2,    27.89,2,     0.00,2,     1.95,2,    1.067,2,    0.574,2, -999.000,5,   2206.8,2,   2310.4,2,   7.5874,2,    25.00,     46.2,2,  -999.00,9, -999.000,9, -999.000,-999.0000,9,-999.0000,  -999.00,9,  -999.00, -999.000,9, -999.000,   -999.0,9,   -999.0,  -999.00,9,   0.1398,2,   0.1020,2,   0.0612,2,   0.0477,2,   0.0186,2,   0.0049,2,  -0.0003,4,   0.0132,3,   0.0130,3,   9.8414,   9.8801,2
  33RR20070322,  I09N,   121,  1,     26,     26,2,20070405,2030,-10.3478,  95.0038, 5271, 391.1000,    391.1,   9.2263,  34.7732,2,  34.7723,2,     97.4,2,     96.9,2,    35.50,2,    29.71,2,     0.00,2,     2.06,2,    0.766,2,    0.408,2, -999.000,5,   2215.9,2,   2310.8,2,   7.5820,3,    25.00,     45.6,2,  -999.00,9, -999.000,9, -999.000,-999.0000,9,-999.0000,  -999.00,9,  -999.00, -999.000,9, -999.000,   -999.0,9,   -999.0,  -999.00,9,   0.1376,2,   0.0999,2,   0.0593,2,   0.0459,2,   0.0172,2,   0.0041,2,  -0.0009,4,   0.0134,3,   0.0133,3,   9.1828,   9.2248,2
  33RR20070322,  I09N,   121,  1,     25,     25,2,20070405,2030,-10.3478,  95.0038, 5271, 441.9000,    441.9,   8.8377,  34.7610,2,  34.7619,2,     91.5,2,     89.4,2,    40.50,2,    31.06,2,     0.00,2,     2.19,2,    0.541,2,    0.293,2, -999.000,5,   2226.4,2,   2314.9,2,   7.5620,3,    25.00,     45.2,2,  -999.00,9, -999.000,9, -999.000,-999.0000,9,-999.0000,  -999.00,9,  -999.00, -999.000,9, -999.000,   -999.0,9,   -999.0,  -999.00,9,   0.1432,2,   0.1046,2,   0.0623,2,   0.0486,2,   0.0190,2,   0.0046,2,  -0.0007,4,   0.0135,3,   0.0132,3,   8.7897,   8.8291,2
  33RR20070322,  I09N,   121,  1,     24,     24,2,20070405,2030,-10.3478,  95.0038, 5271, 491.5000,    491.5,   8.3638,  34.7458,2,  34.7390,2,     80.1,2,     78.6,2,    48.58,2,    32.93,2,     0.00,2,     2.35,2,    0.296,2,    0.163,2, -999.000,5,   2242.8,2,   2322.7,2,   7.5370,3,    25.00,     44.7,2,  -999.00,9, -999.000,9, -999.000,-999.0000,9,-999.0000,  -999.00,9,  -999.00, -999.000,9, -999.000,   -999.0,9,   -999.0,  -999.00,9,   0.1503,2,   0.1093,2,   0.0653,2,   0.0508,2,   0.0204,2,   0.0053,2,  -0.0003,4,   0.0136,3,   0.0132,3,   8.3120,   8.3635,2
  33RR20070322,  I09N,   121,  1,     23,     23,2,20070405,2030,-10.3478,  95.0038, 5271, 575.9000,    575.9,   7.6792,  34.7402,2,  34.7394,2,     73.1,2,     72.1,2,    59.38,2,    34.55,2,     0.00,2,     2.50,2,    0.142,2,    0.081,2, -999.000,5,   2259.8,2,   2332.5,2,-999.0000,5,    25.00,     44.1,2,  -999.00,9, -999.000,9, -999.000,-999.0000,9,-999.0000,  -999.00,9,  -999.00, -999.000,9, -999.000,   -999.0,9,   -999.0,  -999.00,9,   0.1590,2,   0.1163,2,   0.0698,2,   0.0534,2,   0.0224,2,   0.0061,2,   0.0000,4,   0.0137,3,   0.0132,3,   7.6211,   7.6779,2
  33RR20070322,  I09N,   121,  1,     22,     22,2,20070405,2030,-10.3478,  95.0038, 5271, 676.6000,    676.6,   7.0275,  34.7324,2,  34.7325,2,     70.2,2,     68.7,2,    70.41,2,    35.74,2,     0.00,2,     2.62,2,    0.069,2,    0.040,2, -999.000,5,   2275.2,6,   2343.7,6,   7.3839,3,    25.00,     43.3,2,    38.34,2, -999.000,9, -999.000,-999.0000,9,-999.0000,  -999.00,9,  -999.00, -999.000,9, -999.000,   -999.0,9,   -999.0,  -999.00,9,   0.1621,2,   0.1183,2,   0.0710,2,   0.0539,2,   0.0230,2,   0.0063,2,   0.0001,4,   0.0137,3,   0.0133,3,   6.9621,   7.0248,2
  33RR20070322,  I09N,   121,  1,     21,     21,2,20070405,2030,-10.3478,  95.0038, 5271, 777.5000,    777.5,   6.2970,  34.6928,2,  34.6938,2,     73.2,2,     72.6,2,    81.08,2,    36.26,2,     0.00,2,     2.66,2,    0.054,2,    0.032,2, -999.000,5,   2286.8,2,   2355.8,2,   7.5130,3,    25.00,     42.8,2,    38.77,2, -999.000,9, -999.000,-999.0000,9,-999.0000,  -999.00,9,  -999.00, -999.000,9, -999.000,   -999.0,9,   -999.0,  -999.00,9,   0.1623,2,   0.1180,2,   0.0690,2,   0.0510,2,   0.0209,2,   0.0054,2,  -0.0005,4,   0.0140,3,   0.0138,3,   6.2256,   6.2944,2
  33RR20070322,  I09N,   121,  1,     20,     20,2,20070405,2030,-10.3478,  95.0038, 5271, 876.8000,    876.8,   5.7916,  34.6897,2,  34.6479,3,     75.3,2,     75.6,2,    89.25,2,    36.63,2,     0.00,2,     2.69,2,    0.036,2,    0.022,2, -999.000,5,   2295.4,2,   2362.3,2,   7.4977,2,    25.00,     42.4,2,    39.08,2, -999.000,9, -999.000,-999.0000,9,-999.0000,  -999.00,9,  -999.00, -999.000,9, -999.000,   -999.0,9,   -999.0,  -999.00,9,   0.1690,2,   0.1233,2,   0.0732,2,   0.0553,2,   0.0236,2,   0.0065,2,   0.0000,4,   0.0140,3,   0.0135,3,   5.7138,   5.7919,2
  33RR20070322,  I09N,   121,  1,     19,     19,2,20070405,2030,-10.3478,  95.0038, 5271, 977.6000,    977.6,   5.2561,  34.6678,2,  34.6662,2,     79.1,2,     82.3,2,    96.26,2,    36.72,2,     0.00,2,     2.70,2, -999.000,9, -999.000,9, -999.000,9,   2300.3,2,   2371.9,2,   7.5070,3,    25.00,     41.9,2,    39.70,2, -999.000,9, -999.000,-999.0000,9,-999.0000,  -999.00,9,  -999.00, -999.000,9, -999.000,   -999.0,9,   -999.0,  -999.00,9,   0.1667,2,   0.1214,2,   0.0716,2,   0.0536,2,   0.0223,2,   0.0062,2,   0.0001,4,   0.0140,3,   0.0136,3,   5.1726,   5.2585,2
  33RR20070322,  I09N,   121,  1,     18,     18,2,20070405,2030,-10.3478,  95.0038, 5271,1077.2000,   1077.2,   4.8480,  34.6794,2,  34.6778,2,     86.6,2,     86.8,2,   101.71,2,    36.88,2,     0.00,2,     2.72,2,    0.021,2,    0.012,2, -999.000,5,   2304.3,2,   1456.3,4,   7.5115,2,    25.00,     41.1,2,    38.68,2, -999.000,9, -999.000,-999.0000,9,-999.0000,  -999.00,9,  -999.00, -999.000,9, -999.000,   -999.0,9,   -999.0,  -999.00,9,   0.1691,2,   0.1236,2,   0.0738,2,   0.0559,2,   0.0236,2,   0.0064,2,   0.0000,4,   0.0140,3,   0.0134,3,   4.7586,   4.8512,2
  33RR20070322,  I09N,   121,  1,     17,     17,2,20070405,2030,-10.3478,  95.0038, 5271,1179.2000,   1179.2,   4.5818,  34.6953,2,  34.6928,2,     89.7,2,     89.2,2,   104.06,2,    36.82,2,     0.00,2,     2.72,2, -999.000,9, -999.000,9, -999.000,9,   2307.5,2,   2378.7,2,   7.5130,3,    25.00,     40.6,2,    38.44,2, -999.000,9, -999.000,-999.0000,9,-999.0000,  -999.00,9,  -999.00, -999.000,9, -999.000,   -999.0,9,   -999.0,  -999.00,9,   0.1700,2,   0.1244,2,   0.0740,2,   0.0563,2,   0.0242,2,   0.0069,2,   0.0004,4,   0.0139,3,   0.0134,3,   4.4854,   4.5818,2
  33RR20070322,  I09N,   121,  1,     16,     16,2,20070405,2030,-10.3478,  95.0038, 5271,1280.2000,   1280.2,   4.3281,  34.7093,2,  34.7069,2,     92.1,2,     93.4,2,   106.20,2,    36.81,2,     0.00,2,     2.71,2,    0.011,2,    0.005,2, -999.000,5,   2308.4,2,   2381.6,2,   7.4898,2,    25.00,     40.4,2,    37.95,2, -999.000,9, -999.000,-999.0000,9,-999.0000,  -999.00,9,  -999.00, -999.000,9, -999.000,   -999.0,9,   -999.0,  -999.00,9,   0.1707,2,   0.1246,2,   0.0745,2,   0.0569,2,   0.0249,2,   0.0072,2,   0.0006,4,   0.0138,3,   0.0133,3,   4.2249,   4.3283,2
  33RR20070322,  I09N,   121,  1,     15,     15,2,20070405,2030,-10.3478,  95.0038, 5271,1380.3000,   1380.3,   4.0921,  34.7241,2,  34.7233,2,     96.8,2,     97.4,2,   107.36,2,    36.69,2,     0.00,2,     2.70,2, -999.000,9, -999.000,9, -999.000,9,   2308.9,2,   2381.8,2,   7.5190,3,    25.00,     40.3,2,    37.83,2, -999.000,9, -999.000,-999.0000,9,-999.0000,  -999.00,9,  -999.00, -999.000,9, -999.000,   -999.0,9,   -999.0,  -999.00,9,   0.1714,2,   0.1256,2,   0.0750,2,   0.0571,2,   0.0251,2,   0.0079,2,   0.0009,3,   0.0137,3,   0.0132,3,   3.9823,   4.0980,2
  33RR20070322,  I09N,   121,  1,     14,     14,2,20070405,2030,-10.3478,  95.0038, 5271,1480.3000,   1480.3,   3.8195,  34.7343,2,  34.7327,2,    102.9,2,    104.2,2,   109.32,2,    36.48,2,     0.00,2,     2.68,2, -999.000,9, -999.000,9, -999.000,9,   2308.7,2,   2384.8,2,   7.5270,3,    25.00,     40.1,2,    37.50,2, -999.000,9, -999.000,-999.0000,9,-999.0000,  -999.00,9,  -999.00, -999.000,9, -999.000,   -999.0,9,   -999.0,  -999.00,9,   0.1718,2,   0.1260,2,   0.0757,2,   0.0577,2,   0.0257,2,   0.0084,2,   0.0014,2,   0.0135,3,   0.0131,3,   3.7037,   3.8174,2
  33RR20070322,  I09N,   121,  1,     13,     13,2,20070405,2030,-10.3478,  95.0038, 5271,1580.7000,   1580.7,   3.5116,  34.7413,2,  34.7402,2,    110.2,2,    110.7,2,   112.05,2,    36.21,2,     0.00,2,     2.66,2,    0.004,2,    0.002,2, -999.000,5,   2308.9,2,   2384.3,2,   7.5370,3,    25.00,     40.5,2,    37.95,2, -999.000,9, -999.000,-999.0000,9,-999.0000,  -999.00,9,  -999.00, -999.000,9, -999.000,   -999.0,9,   -999.0,  -999.00,9,   0.1652,2,   0.1201,2,   0.0710,2,   0.0533,2,   0.0224,2,   0.0062,2,   0.0001,4,   0.0139,3,   0.0136,3,   3.3904,   3.5120,2
  33RR20070322,  I09N,   121,  1,     12,     12,2,20070405,2030,-10.3478,  95.0038, 5271,1782.4000,   1782.4,   2.9917,  34.7460,2,  34.7455,2,    122.8,2,    124.5,2,   116.36,2,    35.73,2,     0.00,2,     2.60,2, -999.000,9, -999.000,9, -999.000,9,   2308.1,2,   2391.3,2,   7.5173,2,    25.00,     40.4,2,    36.87,2, -999.000,9, -999.000,-999.0000,9,-999.0000,  -999.00,9,  -999.00, -999.000,9, -999.000,   -999.0,9,   -999.0,  -999.00,9,   0.1628,2,   0.1182,2,   0.0695,2,   0.0526,2,   0.0220,2,   0.0060,2,   0.0002,4,   0.0138,3,   0.0136,3,   2.8593,   2.9920,2
  33RR20070322,  I09N,   121,  1,     11,     11,2,20070405,2030,-10.3478,  95.0038, 5271,1982.9000,   1982.9,   2.6521,  34.7453,2,  34.7439,2,    133.3,2,    134.2,2,   119.50,2,    35.30,2,     0.00,2,     2.56,2, -999.000,9, -999.000,9, -999.000,9,   2306.6,2,   2396.0,2,   7.5463,2,    25.00,     40.6,2,    36.87,2, -999.000,9, -999.000,-999.0000,9,-999.0000,  -999.00,9,  -999.00, -999.000,9, -999.000,   -999.0,9,   -999.0,  -999.00,9,   0.1583,2,   0.1142,2,   0.0669,2,   0.0500,2,   0.0203,2,   0.0055,2,   0.0000,4,   0.0138,3,   0.0138,3,   2.5069,   2.6512,2
  33RR20070322,  I09N,   121,  1,     10,     10,2,20070405,2030,-10.3478,  95.0038, 5271,2185.3000,   2185.3,   2.3763,  34.7434,2,  34.7428,2,    142.8,2,    142.7,2,   122.25,2,    34.93,2,     0.00,2,     2.51,2,    0.004,2,    0.002,2, -999.000,5,   2305.2,2,   2396.5,2,   7.5780,2,    25.00,     40.5,2,    36.38,2, -999.000,9, -999.000,-999.0000,9,-999.0000,  -999.00,9,  -999.00, -999.000,9, -999.000,   -999.0,9,   -999.0,  -999.00,9,   0.1565,2,   0.1131,2,   0.0659,2,   0.0488,2,   0.0198,2,   0.0053,2,  -0.0001,4,   0.0138,3,   0.0138,3,   2.2175,   2.3763,2
  33RR20070322,  I09N,   121,  1,      9,      9,2,20070405,2030,-10.3478,  95.0038, 5271,2437.7000,   2437.7,   2.0922,  34.7380,2,  34.7375,2,    153.7,2,    154.2,2,   123.23,2,    34.35,2,     0.00,2,     2.45,2, -999.000,9, -999.000,9, -999.000,9,   2300.6,2,   2397.8,2,   7.5941,2,    25.00,     41.0,2,    35.37,2, -999.000,9, -999.000,-999.0000,9,-999.0000,  -999.00,9,  -999.00, -999.000,9, -999.000,   -999.0,9,   -999.0,  -999.00,9,   0.1506,2,   0.1082,2,   0.0629,2,   0.0468,2,   0.0187,2,   0.0053,2,   0.0003,4,   0.0136,3,   0.0138,3,   1.9155,   2.0919,2
  33RR20070322,  I09N,   121,  1,      8,      8,2,20070405,2030,-10.3478,  95.0038, 5271,2689.7000,   2689.7,   1.9026,  34.7340,2,  34.7335,2,    160.7,2,    160.4,2,   123.29,2,    34.29,2,     0.00,2,     2.42,2, -999.000,9, -999.000,9, -999.000,9,   2299.7,2,   2399.6,2,   7.5565,2,    25.00,     41.0,2,    35.39,2, -999.000,9, -999.000,-999.0000,9,-999.0000,  -999.00,9,  -999.00, -999.000,9, -999.000,   -999.0,9,   -999.0,  -999.00,9,   0.1487,2,   0.1067,2,   0.0620,2,   0.0463,2,   0.0181,2,   0.0051,2,   0.0001,4,   0.0136,3,   0.0138,3,   1.7063,   1.9016,2
  33RR20070322,  I09N,   121,  1,      7,      7,2,20070405,2030,-10.3478,  95.0038, 5271,2944.0000,   2944.0,   1.7291,  34.7296,2,  34.7290,2,    166.2,2,    165.4,2,   126.01,2,    34.03,2,     0.00,2,     2.41,2, -999.000,9, -999.000,9, -999.000,9,   2299.4,2,   2401.1,2,   7.5841,2,    25.00,     41.0,2,    35.67,2, -999.000,9, -999.000,-999.0000,9,-999.0000,  -999.00,9,  -999.00, -999.000,9, -999.000,   -999.0,9,   -999.0,  -999.00,9,   0.1460,2,   0.1044,2,   0.0607,2,   0.0453,2,   0.0176,2,   0.0047,2,   0.0000,4,   0.0135,3,   0.0138,3,   1.5124,   1.7280,2
  33RR20070322,  I09N,   121,  1,      6,      6,2,20070405,2030,-10.3478,  95.0038, 5271,3277.5000,   3277.5,   1.5283,  34.7243,2,  34.7237,2,    172.5,2,    172.0,2,   127.55,3,    33.75,2,     0.00,2,     2.39,2,    0.004,2,    0.001,2, -999.000,5,   2298.7,2,   2405.0,2,   7.6020,3,    25.00,     40.7,2,    35.60,2, -999.000,9, -999.000,-999.0000,9,-999.0000,  -999.00,9,  -999.00, -999.000,9, -999.000,   -999.0,9,   -999.0,  -999.00,9,   0.1443,2,   0.1029,2,   0.0587,2,   0.0432,2,   0.0161,2,   0.0040,2,  -0.0003,4,   0.0137,2,   0.0142,3,   1.2836,   1.5278,2
  33RR20070322,  I09N,   121,  1,      5,      5,2,20070405,2030,-10.3478,  95.0038, 5271,3685.2000,   3685.2,   1.3183,  34.7190,2,  34.7176,2,    183.0,2,    183.9,2,   129.30,3,    33.33,2,     0.00,2,     2.35,2, -999.000,9, -999.000,9, -999.000,9,   2291.7,2,   2402.3,2,   7.6015,2,    25.00,     40.6,2,    35.11,2, -999.000,9, -999.000,-999.0000,9,-999.0000,  -999.00,9,  -999.00, -999.000,9, -999.000,   -999.0,9,   -999.0,  -999.00,9,   0.1368,2,   0.0963,2,   0.0545,2,   0.0395,2,   0.0139,2,   0.0032,2,  -0.0006,4,   0.0137,2,   0.0146,3,   1.0375,   1.3191,2