BOTTLE,20150630SIOCCHRJL
EXPOCODE,SECT_ID,STNNBR,CASTNO,SAMPNO,BTLNBR,BTLNBR_FLAG_W,DATE,TIME,LATITUDE,LONGITUDE,DEPTH,CTDRAW,CTDPRS,CTDTMP,CTDSAL,CTDSAL_FLAG_W,SALNTY,SALNTY_FLAG_W,CTDOXY,CTDOXY_FLAG_W,OXYGEN,OXYGEN_FLAG_W,SILCAT,SILCAT_FLAG_W,NITRAT,NITRAT_FLAG_W,NITRIT,NITRIT_FLAG_W,PHSPHT,PHSPHT_FLAG_W,CFC-11,CFC-11_FLAG_W,CFC-12,CFC-12_FLAG_W,CFC113,CFC113_FLAG_W,TCARBN,TCARBN_FLAG_W,ALKALI,ALKALI_FLAG_W,PH_SWS,PH_SWS_FLAG_W,PH_TMP,DOC,DOC_FLAG_W,TDN,TDN_FLAG_W,TRITUM,TRITUM_FLAG_W,TRITER,HELIUM,HELIUM_FLAG_W,HELIER,DELHE3,DELHE3_FLAG_W,DELHER,NEON,NEON_FLAG_W,NEONER,DELC14,DELC14_FLAG_W,C14ERR,DELC13,DELC13_FLAG_W,CDOM325,CDOM325_FLAG_W,CDOM340,CDOM340_FLAG_W,CDOM380,CDOM380_FLAG_W,CDOM412,CDOM412_FLAG_W,CDOM443,CDOM443_FLAG_W,CDOM490,CDOM490_FLAG_W,CDOM555,CDOM555_FLAG_W,CDOMSL,CDOMSL_FLAG_W,CDOMSN,CDOMSN_FLAG_W,THETA,SBE35,SBE35_FLAG_W
,,,,,,,,,,,METERS,,DBAR,ITS-90,PSS-78,,PSS-78,,UMOL/KG,,UMOL/KG,,UMOL/KG,,UMOL/KG,,UMOL/KG,,UMOL/KG,,PMOL/KG,,PMOL/KG,,PMOL/KG,,UMOL/KG,,UMOL/KG,,,,DEG C,UMOL/KG,,UMOL/KG,,TU,,TU,NMOL/KG,,NMOL/KG,PERCNT,,PERCNT,NMOL/KG,,NMOL/KG,/MILLE,,/MILLE,/MILLE,,1/M,,1/M,,1/M,,1/M,,1/M,,1/M,,1/M,,1/NM,,1/NM,,DEG C,ITS-90,
  33RR20070322,  I09N,   115,  1,      4,      4,2,20070403,2244,-13.5672,  94.9995, 5352,4499.7000,   4499.7,   1.1643,  34.7148,2,  34.7140,2,    196.5,2,    196.3,2,   126.57,2,    32.60,2,     0.00,2,     2.27,2, -999.000,9, -999.000,9, -999.000,9,   2281.3,2,   2392.2,2,   7.6280,4,    25.00,     40.6,2,    34.32,2, -999.000,9, -999.000,-999.0000,9,-999.0000,  -999.00,9,  -999.00, -999.000,9, -999.000,   -999.0,9,   -999.0,  -999.00,9,   0.1270,2,   0.0888,2,   0.0493,2,   0.0350,2,   0.0108,2,   0.0016,3,  -0.0013,4,   0.0140,2,   0.0151,3,   0.7995,   1.1642,2
  33RR20070322,  I09N,   115,  1,      3,      3,2,20070403,2244,-13.5672,  94.9995, 5352,4907.5000,   4907.5,   1.1728,  34.7138,2,  34.7130,2,    199.3,2,    199.0,2,   125.14,2,    32.54,2,     0.00,2,     2.25,2,    0.007,2,    0.003,2, -999.000,5,   2277.5,2,   2390.9,2,   7.6166,2,    25.00,     40.6,2,    34.08,2, -999.000,9, -999.000,-999.0000,9,-999.0000,  -999.00,9,  -999.00, -999.000,9, -999.000,   -999.0,9,   -999.0,  -999.00,9,   0.1233,2,   0.0859,2,   0.0472,2,   0.0330,2,   0.0095,2,   0.0010,3,  -0.0016,4,   0.0141,2,   0.0154,3,   0.7604,   1.1724,2
  33RR20070322,  I09N,   115,  1,      2,      2,2,20070403,2244,-13.5672,  94.9995, 5352,5162.0000,   5162.0,   1.1925,  34.7138,2,  34.7134,2,    199.9,2,    200.2,2,   124.51,2,    32.49,2,     0.00,2,     2.25,2,    0.007,2,    0.003,2, -999.000,5,   2276.2,2,   2390.6,2,   7.6299,2,    25.00,     40.5,2,    34.32,2, -999.000,9, -999.000,-999.0000,9,-999.0000,  -999.00,9,  -999.00, -999.000,9, -999.000,   -999.0,9,   -999.0,  -999.00,9,   0.1246,2,   0.0871,2,   0.0477,2,   0.0335,2,   0.0097,2,   0.0012,3,  -0.0015,4,   0.0142,2,   0.0154,2,   0.7488,   1.1924,2
  33RR20070322,  I09N,   115,  1,      1,      1,2,20070403,2244,-13.5672,  94.9995, 5352,5444.2000,   5444.2,   1.2227,  34.7132,2,  34.7129,2,    200.2,2,    200.5,2,   124.49,2,    32.48,2,     0.00,2,     2.25,2,    0.008,2,    0.003,2, -999.000,5,   2276.5,6,   2392.1,6,   7.6553,6,    25.00,     41.0,2,    33.95,2, -999.000,9, -999.000,-999.0000,9,-999.0000,  -999.00,9,  -999.00, -999.000,9, -999.000,   -999.0,9,   -999.0,  -999.00,9,   0.1245,2,   0.0871,2,   0.0480,2,   0.0337,2,   0.0098,2,   0.0012,3,  -0.0015,4,   0.0141,2,   0.0154,2,   0.7430,   1.2223,2