BOTTLE,20150630SIOCCHRJL
EXPOCODE,SECT_ID,STNNBR,CASTNO,SAMPNO,BTLNBR,BTLNBR_FLAG_W,DATE,TIME,LATITUDE,LONGITUDE,DEPTH,CTDRAW,CTDPRS,CTDTMP,CTDSAL,CTDSAL_FLAG_W,SALNTY,SALNTY_FLAG_W,CTDOXY,CTDOXY_FLAG_W,OXYGEN,OXYGEN_FLAG_W,SILCAT,SILCAT_FLAG_W,NITRAT,NITRAT_FLAG_W,NITRIT,NITRIT_FLAG_W,PHSPHT,PHSPHT_FLAG_W,CFC-11,CFC-11_FLAG_W,CFC-12,CFC-12_FLAG_W,CFC113,CFC113_FLAG_W,TCARBN,TCARBN_FLAG_W,ALKALI,ALKALI_FLAG_W,PH_SWS,PH_SWS_FLAG_W,PH_TMP,DOC,DOC_FLAG_W,TDN,TDN_FLAG_W,TRITUM,TRITUM_FLAG_W,TRITER,HELIUM,HELIUM_FLAG_W,HELIER,DELHE3,DELHE3_FLAG_W,DELHER,NEON,NEON_FLAG_W,NEONER,DELC14,DELC14_FLAG_W,C14ERR,DELC13,DELC13_FLAG_W,CDOM325,CDOM325_FLAG_W,CDOM340,CDOM340_FLAG_W,CDOM380,CDOM380_FLAG_W,CDOM412,CDOM412_FLAG_W,CDOM443,CDOM443_FLAG_W,CDOM490,CDOM490_FLAG_W,CDOM555,CDOM555_FLAG_W,CDOMSL,CDOMSL_FLAG_W,CDOMSN,CDOMSN_FLAG_W,THETA,SBE35,SBE35_FLAG_W
,,,,,,,,,,,METERS,,DBAR,ITS-90,PSS-78,,PSS-78,,UMOL/KG,,UMOL/KG,,UMOL/KG,,UMOL/KG,,UMOL/KG,,UMOL/KG,,PMOL/KG,,PMOL/KG,,PMOL/KG,,UMOL/KG,,UMOL/KG,,,,DEG C,UMOL/KG,,UMOL/KG,,TU,,TU,NMOL/KG,,NMOL/KG,PERCNT,,PERCNT,NMOL/KG,,NMOL/KG,/MILLE,,/MILLE,/MILLE,,1/M,,1/M,,1/M,,1/M,,1/M,,1/M,,1/M,,1/NM,,1/NM,,DEG C,ITS-90,
  33RR20070322,  I09N,   171,  1,      4,      4,2,20070419,1804,  9.4587,  87.0695, 3554,3488.3000,   3488.3,   1.4658,  34.7237,2,  34.7239,2,    157.4,2,    157.2,2,   144.08,2,    34.81,2,     0.00,2,     2.41,2, -999.000,9, -999.000,9, -999.000,9,   2329.3,2,   2429.8,2,   7.5960,2,    25.00,     41.2,2,    35.86,2, -999.000,9, -999.000,-999.0000,9,-999.0000,  -999.00,9,  -999.00, -999.000,9, -999.000,   -999.0,9,   -999.0,  -999.00,9,-999.0000,9,-999.0000,9,-999.0000,9,-999.0000,9,-999.0000,9,-999.0000,9,-999.0000,9,-999.0000,9,-999.0000,9,   1.2014,   1.4652,2
  33RR20070322,  I09N,   171,  1,      3,      3,2,20070419,1804,  9.4587,  87.0695, 3554,3529.3000,   3529.3,   1.4620,  34.7234,2,  34.7239,2,    155.6,2,    155.3,2,   146.32,2,    34.95,2,     0.00,2,     2.42,2,    0.013,2,    0.006,2, -999.000,5,   2333.0,2,   2434.8,2,   7.6021,2,    25.00,     41.3,2,    36.76,2, -999.000,9, -999.000,-999.0000,9,-999.0000,  -999.00,9,  -999.00, -999.000,9, -999.000,   -999.0,9,   -999.0,  -999.00,9,-999.0000,9,-999.0000,9,-999.0000,9,-999.0000,9,-999.0000,9,-999.0000,9,-999.0000,9,-999.0000,9,-999.0000,9,   1.1935,   1.4616,2
  33RR20070322,  I09N,   171,  1,      2,      2,2,20070419,1804,  9.4587,  87.0695, 3554,3564.1000,   3564.1,   1.4659,  34.7234,2,  34.7243,2,    155.0,2,    154.8,2,   146.28,2,    34.95,2,     0.00,2,     2.41,2, -999.000,9, -999.000,9, -999.000,9,   2333.0,2,   2434.5,2,   7.5988,2,    25.00,     41.7,2,    35.96,2, -999.000,9, -999.000,-999.0000,9,-999.0000,  -999.00,9,  -999.00, -999.000,9, -999.000,   -999.0,9,   -999.0,  -999.00,9,-999.0000,9,-999.0000,9,-999.0000,9,-999.0000,9,-999.0000,9,-999.0000,9,-999.0000,9,-999.0000,9,-999.0000,9,   1.1938,   1.4655,2
  33RR20070322,  I09N,   171,  1,      1,      1,2,20070419,1804,  9.4587,  87.0695, 3554,3589.4000,   3589.4,   1.4688,  34.7233,2,  34.7231,2,    154.9,2,    154.9,2,   146.64,2,    34.94,2,     0.00,2,     2.42,2,    0.014,2,    0.006,2, -999.000,5,   2333.9,6,   2435.9,6,   7.6057,6,    25.00,     41.6,2,    36.87,2, -999.000,9, -999.000,-999.0000,9,-999.0000,  -999.00,9,  -999.00, -999.000,9, -999.000,   -999.0,9,   -999.0,  -999.00,9,-999.0000,9,-999.0000,9,-999.0000,9,-999.0000,9,-999.0000,9,-999.0000,9,-999.0000,9,-999.0000,9,-999.0000,9,   1.1940,   1.4684,2