BOTTLE,20150630SIOCCHRJL
EXPOCODE,SECT_ID,STNNBR,CASTNO,SAMPNO,BTLNBR,BTLNBR_FLAG_W,DATE,TIME,LATITUDE,LONGITUDE,DEPTH,CTDRAW,CTDPRS,CTDTMP,CTDSAL,CTDSAL_FLAG_W,SALNTY,SALNTY_FLAG_W,CTDOXY,CTDOXY_FLAG_W,OXYGEN,OXYGEN_FLAG_W,SILCAT,SILCAT_FLAG_W,NITRAT,NITRAT_FLAG_W,NITRIT,NITRIT_FLAG_W,PHSPHT,PHSPHT_FLAG_W,CFC-11,CFC-11_FLAG_W,CFC-12,CFC-12_FLAG_W,CFC113,CFC113_FLAG_W,TCARBN,TCARBN_FLAG_W,ALKALI,ALKALI_FLAG_W,PH_SWS,PH_SWS_FLAG_W,PH_TMP,DOC,DOC_FLAG_W,TDN,TDN_FLAG_W,TRITUM,TRITUM_FLAG_W,TRITER,HELIUM,HELIUM_FLAG_W,HELIER,DELHE3,DELHE3_FLAG_W,DELHER,NEON,NEON_FLAG_W,NEONER,DELC14,DELC14_FLAG_W,C14ERR,DELC13,DELC13_FLAG_W,CDOM325,CDOM325_FLAG_W,CDOM340,CDOM340_FLAG_W,CDOM380,CDOM380_FLAG_W,CDOM412,CDOM412_FLAG_W,CDOM443,CDOM443_FLAG_W,CDOM490,CDOM490_FLAG_W,CDOM555,CDOM555_FLAG_W,CDOMSL,CDOMSL_FLAG_W,CDOMSN,CDOMSN_FLAG_W,THETA,SBE35,SBE35_FLAG_W
,,,,,,,,,,,METERS,,DBAR,ITS-90,PSS-78,,PSS-78,,UMOL/KG,,UMOL/KG,,UMOL/KG,,UMOL/KG,,UMOL/KG,,UMOL/KG,,PMOL/KG,,PMOL/KG,,PMOL/KG,,UMOL/KG,,UMOL/KG,,,,DEG C,UMOL/KG,,UMOL/KG,,TU,,TU,NMOL/KG,,NMOL/KG,PERCNT,,PERCNT,NMOL/KG,,NMOL/KG,/MILLE,,/MILLE,/MILLE,,1/M,,1/M,,1/M,,1/M,,1/M,,1/M,,1/M,,1/NM,,1/NM,,DEG C,ITS-90,
  33RR20070322,  I09N,    97,  2,      4,      4,2,20070329,0243,-23.5593,  95.0058, 5172,4093.9000,   4093.9,   1.1407,  34.7165,2,  34.7170,2,    199.0,2,    199.5,2,   122.63,2,    32.11,2,     0.00,2,     2.25,2, -999.000,9, -999.000,9, -999.000,9,   2269.9,2,   2381.2,2,   7.5990,2,    25.00,     40.6,2,  -999.00,9, -999.000,9, -999.000,-999.0000,9,-999.0000,  -999.00,9,  -999.00, -999.000,9, -999.000,   -999.0,9,   -999.0,  -999.00,9,   0.1246,2,   0.0857,2,   0.0462,2,   0.0325,2,   0.0092,2,   0.0006,4,  -0.0018,4,   0.0142,2,   0.0158,3,   0.8216,   1.1406,2
  33RR20070322,  I09N,    97,  2,      3,      3,2,20070329,0243,-23.5593,  95.0058, 5172,4501.6000,   4501.6,   1.0615,  34.7126,2,  34.7142,4,    203.6,2,    203.3,2,   122.78,2,    32.11,2,     0.00,2,     2.25,2,    0.038,2,    0.009,2,   -0.001,3,   2266.8,2,   2378.4,2,   7.6367,2,    25.00,     40.7,2,  -999.00,9, -999.000,9, -999.000,-999.0000,9,-999.0000,  -999.00,9,  -999.00, -999.000,9, -999.000,   -999.0,9,   -999.0,  -999.00,9,   0.1243,2,   0.0851,2,   0.0457,2,   0.0321,2,   0.0089,2,   0.0006,4,  -0.0019,4,   0.0142,2,   0.0160,3,   0.6997,   1.0613,2
  33RR20070322,  I09N,    97,  2,      2,      2,2,20070329,0243,-23.5593,  95.0058, 5172,4910.0000,   4910.0,   1.0785,  34.7117,2,  34.7138,4,    204.8,2,    204.7,2,   122.94,2,    32.10,2,     0.00,2,     2.23,2, -999.000,9, -999.000,9, -999.000,9,   2266.3,2,   -999.0,5,   7.6435,2,    25.00,     41.2,2,  -999.00,9, -999.000,9, -999.000,-999.0000,9,-999.0000,  -999.00,9,  -999.00, -999.000,9, -999.000,   -999.0,9,   -999.0,  -999.00,9,   0.1248,2,   0.0858,2,   0.0461,2,   0.0322,2,   0.0090,2,   0.0005,4,  -0.0020,4,   0.0143,2,   0.0160,3,   0.6690,   1.0788,2
  33RR20070322,  I09N,    97,  2,      1,      1,2,20070329,0243,-23.5593,  95.0058, 5172,5253.4000,   5253.4,   1.1170,  34.7110,2,  34.7129,4,    204.0,2,    204.9,2,   123.30,2,    32.10,2,     0.00,2,     2.23,2,    0.035,2,    0.010,2,   -0.001,3,   2267.5,6,   2377.4,6,   7.6459,3,    25.00,     41.2,2,  -999.00,9, -999.000,9, -999.000,-999.0000,9,-999.0000,  -999.00,9,  -999.00, -999.000,9, -999.000,   -999.0,9,   -999.0,  -999.00,9,   0.1257,2,   0.0867,2,   0.0463,2,   0.0325,2,   0.0090,2,   0.0004,4,  -0.0020,4,   0.0144,2,   0.0160,3,   0.6648,   1.1170,2