BOTTLE,20150630SIOCCHRJL
EXPOCODE,SECT_ID,STNNBR,CASTNO,SAMPNO,BTLNBR,BTLNBR_FLAG_W,DATE,TIME,LATITUDE,LONGITUDE,DEPTH,CTDRAW,CTDPRS,CTDTMP,CTDSAL,CTDSAL_FLAG_W,SALNTY,SALNTY_FLAG_W,CTDOXY,CTDOXY_FLAG_W,OXYGEN,OXYGEN_FLAG_W,SILCAT,SILCAT_FLAG_W,NITRAT,NITRAT_FLAG_W,NITRIT,NITRIT_FLAG_W,PHSPHT,PHSPHT_FLAG_W,CFC-11,CFC-11_FLAG_W,CFC-12,CFC-12_FLAG_W,CFC113,CFC113_FLAG_W,TCARBN,TCARBN_FLAG_W,ALKALI,ALKALI_FLAG_W,PH_SWS,PH_SWS_FLAG_W,PH_TMP,DOC,DOC_FLAG_W,TDN,TDN_FLAG_W,TRITUM,TRITUM_FLAG_W,TRITER,HELIUM,HELIUM_FLAG_W,HELIER,DELHE3,DELHE3_FLAG_W,DELHER,NEON,NEON_FLAG_W,NEONER,DELC14,DELC14_FLAG_W,C14ERR,DELC13,DELC13_FLAG_W,CDOM325,CDOM325_FLAG_W,CDOM340,CDOM340_FLAG_W,CDOM380,CDOM380_FLAG_W,CDOM412,CDOM412_FLAG_W,CDOM443,CDOM443_FLAG_W,CDOM490,CDOM490_FLAG_W,CDOM555,CDOM555_FLAG_W,CDOMSL,CDOMSL_FLAG_W,CDOMSN,CDOMSN_FLAG_W,THETA,SBE35,SBE35_FLAG_W
,,,,,,,,,,,METERS,,DBAR,ITS-90,PSS-78,,PSS-78,,UMOL/KG,,UMOL/KG,,UMOL/KG,,UMOL/KG,,UMOL/KG,,UMOL/KG,,PMOL/KG,,PMOL/KG,,PMOL/KG,,UMOL/KG,,UMOL/KG,,,,DEG C,UMOL/KG,,UMOL/KG,,TU,,TU,NMOL/KG,,NMOL/KG,PERCNT,,PERCNT,NMOL/KG,,NMOL/KG,/MILLE,,/MILLE,/MILLE,,1/M,,1/M,,1/M,,1/M,,1/M,,1/M,,1/M,,1/NM,,1/NM,,DEG C,ITS-90,
  33RR20070322,  I09N,   199,  2,     36,     38,2,20070427,0241, 18.0032,  89.8512, 2172,   2.5000,      2.5,  29.6602,  32.6509,2,  32.6544,2,    197.6,2,    197.8,2,     2.26,2,     0.01,2,     0.00,2,     0.01,2,    1.539,2,    1.003,2, -999.000,5,   1884.3,6,   2193.1,2,   8.1091,6,    25.00,     76.5,2,     5.47,2, -999.000,9, -999.000,-999.0000,9,-999.0000,  -999.00,9,  -999.00, -999.000,9, -999.000,   -999.0,9,   -999.0,  -999.00,9,   0.0919,3,   0.0626,3,   0.0278,3,   0.0192,3,   0.0024,2,  -0.0005,4,  -0.0027,4,   0.0155,4,   0.0195,4,  29.6596,  29.6778,2
  33RR20070322,  I09N,   199,  2,     35,     35,2,20070427,0241, 18.0032,  89.8512, 2172,  23.2000,     23.2,  29.1594,  32.6593,2,  32.6591,2,    203.3,2,    201.3,2,     2.06,2,     0.01,2,     0.00,2,     0.01,2, -999.000,9, -999.000,9, -999.000,9,   1881.9,2,   2191.0,2,   8.1093,2,    25.00,     74.4,2,     5.26,2, -999.000,9, -999.000,-999.0000,9,-999.0000,  -999.00,9,  -999.00, -999.000,9, -999.000,   -999.0,9,   -999.0,  -999.00,9,   0.0912,2,   0.0611,2,   0.0276,2,   0.0194,2,   0.0027,2,  -0.0003,4,  -0.0024,4,   0.0151,3,   0.0192,3,  29.1538,  29.1509,2
  33RR20070322,  I09N,   199,  2,     34,   9419,2,20070427,0241, 18.0032,  89.8512, 2172,  38.1000,     38.1,  28.4142,  33.1328,2,  33.0007,2,    207.9,2,    210.1,2,     1.87,2,     0.01,2,     0.00,2,     0.01,2, -999.000,9, -999.000,9, -999.000,9,   1888.2,2,   2200.9,2,   8.1156,2,    25.00,     73.3,2,     5.61,2, -999.000,9, -999.000,-999.0000,9,-999.0000,  -999.00,9,  -999.00, -999.000,9, -999.000,   -999.0,9,   -999.0,  -999.00,9,   0.1156,2,   0.0770,2,   0.0350,2,   0.0248,2,   0.0054,2,   0.0009,2,  -0.0017,4,   0.0149,3,   0.0189,3,  28.4052,  28.4177,2
  33RR20070322,  I09N,   199,  2,     33,     33,2,20070427,0241, 18.0032,  89.8512, 2172,  53.1000,     53.1,  27.7917,  33.8376,2,  33.8371,2,    200.6,2,    200.9,2,     1.48,2,     0.01,2,     0.00,2,     0.05,2,    1.589,2,    1.031,2, -999.000,5,   1921.5,2,   2232.5,2,   8.0693,2,    25.00,     71.9,2,     5.44,2, -999.000,9, -999.000,-999.0000,9,-999.0000,  -999.00,9,  -999.00, -999.000,9, -999.000,   -999.0,9,   -999.0,  -999.00,9,   0.1723,2,   0.1193,2,   0.0569,2,   0.0409,2,   0.0138,2,   0.0046,2,   0.0003,4,   0.0149,3,   0.0174,3,  27.7793,  27.7842,2
  33RR20070322,  I09N,   199,  2,     32,     37,2,20070427,0241, 18.0032,  89.8512, 2172,  62.7000,     62.7,  25.8713,  34.1473,2,  34.0925,2,    134.5,2,    121.5,2,     4.57,2,     4.87,2,     0.79,2,     0.57,2, -999.000,9, -999.000,9, -999.000,9,   2023.4,2,   2249.5,2,   7.9386,2,    25.00,     64.6,2,    10.93,2, -999.000,9, -999.000,-999.0000,9,-999.0000,  -999.00,9,  -999.00, -999.000,9, -999.000,   -999.0,9,   -999.0,  -999.00,9,   0.2898,3,   0.2158,3,   0.1137,3,   0.0815,3,   0.0361,2,   0.0145,2,   0.0050,2,   0.0149,3,   0.0154,4,  25.8574,  25.8514,2
  33RR20070322,  I09N,   199,  2,     31,     31,2,20070427,0241, 18.0032,  89.8512, 2172,  72.9000,     72.9,  23.2602,  34.7105,2,  34.6859,2,     36.5,2,     26.6,2,    12.88,2,    19.94,2,     0.19,2,     1.52,2,    1.246,2,    0.797,2, -999.000,5,   2132.1,2,   2270.1,2,   7.7110,2,    25.00,     58.7,2,    24.43,2, -999.000,9, -999.000,-999.0000,9,-999.0000,  -999.00,9,  -999.00, -999.000,9, -999.000,   -999.0,9,   -999.0,  -999.00,9,   0.2466,2,   0.1833,2,   0.1005,2,   0.0746,2,   0.0317,2,   0.0117,2,   0.0035,2,   0.0147,3,   0.0147,3,  23.2452,  23.4431,2
  33RR20070322,  I09N,   199,  2,     30,     30,2,20070427,0241, 18.0032,  89.8512, 2172,  83.7000,     83.7,  21.3071,  34.8462,2,  34.8308,2,     12.7,2,      6.2,2,    17.52,2,    24.08,2,     0.13,2,     1.85,2, -999.000,9, -999.000,9, -999.000,9,   2167.6,2,   2278.9,2,   7.6392,2,    25.00,     53.0,2,    28.92,2, -999.000,9, -999.000,-999.0000,9,-999.0000,  -999.00,9,  -999.00, -999.000,9, -999.000,   -999.0,9,   -999.0,  -999.00,9,   0.2230,3,   0.1660,3,   0.0944,2,   0.0715,2,   0.0300,2,   0.0105,2,   0.0027,2,   0.0146,4,   0.0141,4,  21.2910,  21.4553,2
  33RR20070322,  I09N,   199,  2,     29,     29,2,20070427,0241, 18.0032,  89.8512, 2172,  92.9000,     92.9,  20.2583,  34.8432,2,  34.8440,2,      6.9,2,      2.8,2,    20.42,2,    25.08,2,     0.01,2,     1.95,2,    1.052,2,    0.660,2, -999.000,5,   2182.3,2,   2283.4,2,   7.6280,2,    25.00,     52.1,2,    29.11,2, -999.000,9, -999.000,-999.0000,9,-999.0000,  -999.00,9,  -999.00, -999.000,9, -999.000,   -999.0,9,   -999.0,  -999.00,9,   0.2063,2,   0.1527,2,   0.0873,2,   0.0672,2,   0.0279,2,   0.0090,2,   0.0019,2,   0.0145,3,   0.0139,3,  20.2410,  20.2572,2
  33RR20070322,  I09N,   199,  2,     28,     28,2,20070427,0241, 18.0032,  89.8512, 2172, 122.7000,    122.7,  16.8903,  34.8963,2,  34.8951,2,      3.6,2,      2.5,2,    26.99,2,    27.86,2,     0.01,2,     2.17,2,    0.766,2,    0.473,2, -999.000,5,   2212.2,6,   2294.8,6,   7.5511,6,    25.00,     50.0,2,    31.92,2, -999.000,9, -999.000,-999.0000,9,-999.0000,  -999.00,9,  -999.00, -999.000,9, -999.000,   -999.0,9,   -999.0,  -999.00,9,   0.1932,2,   0.1438,2,   0.0853,2,   0.0672,2,   0.0286,2,   0.0087,2,   0.0017,2,   0.0142,3,   0.0133,3,  16.8702,  16.8893,2
  33RR20070322,  I09N,   199,  2,     27,     27,2,20070427,0241, 18.0032,  89.8512, 2172, 142.7000,    142.7,  15.2372,  34.9278,2,  34.9225,2,      4.7,2,      4.4,2,    29.89,2,    29.52,2,     0.00,2,     2.24,2,    0.640,2,    0.390,2, -999.000,5,   2230.1,2,   2300.8,2,   7.5253,2,    25.00,     48.2,2,    33.26,2, -999.000,9, -999.000,-999.0000,9,-999.0000,  -999.00,9,  -999.00, -999.000,9, -999.000,   -999.0,9,   -999.0,  -999.00,9,   0.1872,2,   0.1388,2,   0.0821,2,   0.0645,2,   0.0272,2,   0.0080,2,   0.0014,2,   0.0142,3,   0.0133,3,  15.2154,  15.2422,2
  33RR20070322,  I09N,   199,  2,     26,     26,2,20070427,0241, 18.0032,  89.8512, 2172, 173.0000,    173.0,  13.6982,  34.9790,2,  34.9791,2,      2.6,2,      2.2,2,    33.37,2,    31.06,2,     0.00,2,     2.35,2,    0.481,2,    0.293,2, -999.000,5,   2246.3,2,   2307.2,2,   7.4830,2,    25.00,     47.5,2,    34.48,2, -999.000,9, -999.000,-999.0000,9,-999.0000,  -999.00,9,  -999.00, -999.000,9, -999.000,   -999.0,9,   -999.0,  -999.00,9,   0.1974,2,   0.1490,2,   0.0915,2,   0.0725,2,   0.0321,2,   0.0099,2,   0.0020,2,   0.0141,3,   0.0127,3,  13.6736,  13.6989,2
  33RR20070322,  I09N,   199,  2,     25,     25,2,20070427,0241, 18.0032,  89.8512, 2172, 222.6000,    222.6,  12.4144,  35.0085,2,  35.0096,2,      2.5,2,      2.4,2,    37.05,2,    32.65,2,     0.00,2,     2.43,2,    0.351,2,    0.210,2, -999.000,5,   2260.7,2,   2313.0,2,   7.4608,2,    25.00,     47.0,2,    35.77,2, -999.000,9, -999.000,-999.0000,9,-999.0000,  -999.00,9,  -999.00, -999.000,9, -999.000,   -999.0,9,   -999.0,  -999.00,9,   0.1938,2,   0.1450,2,   0.0898,2,   0.0732,2,   0.0330,2,   0.0098,2,   0.0020,2,   0.0140,3,   0.0125,3,  12.3847,  12.4023,2
  33RR20070322,  I09N,   199,  2,     24,     24,2,20070427,0241, 18.0032,  89.8512, 2172, 272.8000,    272.8,  11.5397,  35.0236,2,  35.0242,2,      2.8,2,      2.7,2,    39.37,2,    33.72,2,     0.00,2,     2.47,2,    0.287,2,    0.171,2, -999.000,5,   2268.3,2,   2317.4,2,   7.4515,2,    25.00,     46.2,2,    37.30,2, -999.000,9, -999.000,-999.0000,9,-999.0000,  -999.00,9,  -999.00, -999.000,9, -999.000,   -999.0,9,   -999.0,  -999.00,9,   0.2047,2,   0.1550,2,   0.0978,2,   0.0790,2,   0.0372,2,   0.0119,2,   0.0027,2,   0.0139,3,   0.0122,3,  11.5049,  11.5397,2
  33RR20070322,  I09N,   199,  2,     23,     23,2,20070427,0241, 18.0032,  89.8512, 2172, 322.4000,    322.4,  11.0272,  35.0305,2,  35.0291,2,      2.8,2,      2.8,2,    41.11,2,    34.37,2,     0.00,2,     2.51,2,    0.242,2,    0.146,2, -999.000,5,   2273.5,2,   2319.5,2,   7.4362,2,    25.00,     45.2,2,    37.42,2, -999.000,9, -999.000,-999.0000,9,-999.0000,  -999.00,9,  -999.00, -999.000,9, -999.000,   -999.0,9,   -999.0,  -999.00,9,   0.2086,2,   0.1587,2,   0.1003,2,   0.0812,2,   0.0388,2,   0.0129,2,   0.0033,2,   0.0138,3,   0.0121,3,  10.9871,  11.0269,2
  33RR20070322,  I09N,   199,  2,     22,     22,2,20070427,0241, 18.0032,  89.8512, 2172, 373.1000,    373.1,  10.6461,  35.0286,2,  35.0289,2,      2.7,2,      2.7,2,    44.40,2,    34.94,2,     0.00,2,     2.56,2,    0.189,2,    0.114,2, -999.000,5,   2278.5,2,   2320.5,2,   7.4304,2,    25.00,     45.1,2,    38.63,2, -999.000,9, -999.000,-999.0000,9,-999.0000,  -999.00,9,  -999.00, -999.000,9, -999.000,   -999.0,9,   -999.0,  -999.00,9,   0.2129,3,   0.1621,3,   0.1033,3,   0.0833,3,   0.0401,2,   0.0135,2,   0.0033,2,   0.0139,4,   0.0121,4,  10.6007,  10.6470,2
  33RR20070322,  I09N,   199,  2,     21,     21,2,20070427,0241, 18.0032,  89.8512, 2172, 422.7000,    422.7,  10.2603,  35.0261,2,  35.0270,2,      3.3,2,      3.7,2,    46.73,2,    35.51,2,     0.00,2,     2.60,2,    0.147,2,    0.088,2, -999.000,5,   2281.5,2,   2324.7,2,   7.4300,2,    25.00,     44.6,2,    38.56,2, -999.000,9, -999.000,-999.0000,9,-999.0000,  -999.00,9,  -999.00, -999.000,9, -999.000,   -999.0,9,   -999.0,  -999.00,9,   0.2060,2,   0.1559,2,   0.0989,2,   0.0799,2,   0.0381,2,   0.0119,2,   0.0024,2,   0.0140,3,   0.0122,3,  10.2099,  10.2617,2
  33RR20070322,  I09N,   199,  2,     20,     20,2,20070427,0241, 18.0032,  89.8512, 2172, 472.9000,    472.9,   9.9218,  35.0229,2,  35.0230,2,      4.5,2,      6.0,2,    49.44,2,    35.93,2,     0.00,2,     2.63,2, -999.000,9, -999.000,9, -999.000,9,   2284.1,2,   2327.5,2,   7.4323,2,    25.00,     44.2,2,    39.80,2, -999.000,9, -999.000,-999.0000,9,-999.0000,  -999.00,9,  -999.00, -999.000,9, -999.000,   -999.0,9,   -999.0,  -999.00,9,   0.1979,2,   0.1480,2,   0.0923,2,   0.0749,2,   0.0347,2,   0.0105,2,   0.0020,2,   0.0140,3,   0.0124,3,   9.8664,   9.9209,2
  33RR20070322,  I09N,   199,  2,     19,     19,2,20070427,0241, 18.0032,  89.8512, 2172, 523.1000,    523.1,   9.6138,  35.0177,2,  35.0179,2,      7.5,2,      7.9,2,    52.74,2,    36.26,2,     0.00,2,     2.66,2,    0.094,2,    0.059,2, -999.000,5,   2286.9,2,   2332.1,2,   7.4282,2,    25.00,     44.0,2,    38.92,2, -999.000,9, -999.000,-999.0000,9,-999.0000,  -999.00,9,  -999.00, -999.000,9, -999.000,   -999.0,9,   -999.0,  -999.00,9,   0.2052,2,   0.1549,2,   0.0970,2,   0.0770,2,   0.0363,2,   0.0116,2,   0.0024,2,   0.0140,3,   0.0124,3,   9.5535,   9.6137,2
  33RR20070322,  I09N,   199,  2,     18,     18,2,20070427,0241, 18.0032,  89.8512, 2172, 642.9000,    642.9,   8.7814,  34.9989,2,  34.9994,2,     12.6,2,     13.3,2,    61.09,2,    36.91,2,     0.00,2,     2.72,2, -999.000,9, -999.000,9, -999.000,9,   2295.8,2,   2338.5,2,   7.4376,2,    25.00,     43.6,2,    39.82,2, -999.000,9, -999.000,-999.0000,9,-999.0000,  -999.00,9,  -999.00, -999.000,9, -999.000,   -999.0,9,   -999.0,  -999.00,9,   0.2050,2,   0.1543,2,   0.0962,2,   0.0758,2,   0.0356,2,   0.0111,2,   0.0020,2,   0.0141,3,   0.0125,3,   8.7108,   8.7795,2
  33RR20070322,  I09N,   199,  2,     17,     17,2,20070427,0241, 18.0032,  89.8512, 2172, 743.3000,    743.3,   8.0856,  34.9794,2,  34.9799,2,     18.9,2,     20.1,2,    68.28,2,    37.25,2,     0.00,2,     2.76,2,    0.025,2,    0.018,2, -999.000,5,   2300.0,2,   2346.2,2,   7.4375,2,    25.00,     43.6,2,    40.19,2, -999.000,9, -999.000,-999.0000,9,-999.0000,  -999.00,9,  -999.00, -999.000,9, -999.000,   -999.0,9,   -999.0,  -999.00,9,   0.2068,2,   0.1559,2,   0.0964,2,   0.0749,2,   0.0352,2,   0.0110,2,   0.0018,2,   0.0142,3,   0.0127,3,   8.0073,   8.0882,2
  33RR20070322,  I09N,   199,  2,     16,     16,2,20070427,0241, 18.0032,  89.8512, 2172, 843.2000,    843.2,   7.5484,  34.9625,2,  34.9626,2,     24.8,2,     24.3,2,    74.71,2,    37.38,2,     0.00,2,     2.78,2, -999.000,9, -999.000,9, -999.000,9,   2306.4,2,   2352.2,2,   7.4365,2,    25.00,     43.3,2,    39.65,2, -999.000,9, -999.000,-999.0000,9,-999.0000,  -999.00,9,  -999.00, -999.000,9, -999.000,   -999.0,9,   -999.0,  -999.00,9,   0.2037,2,   0.1524,2,   0.0941,2,   0.0728,2,   0.0345,2,   0.0109,2,   0.0019,2,   0.0141,3,   0.0127,3,   7.4624,   7.5487,2
  33RR20070322,  I09N,   199,  2,     15,     15,2,20070427,0241, 18.0032,  89.8512, 2172, 944.0000,    944.0,   6.8855,  34.9399,2,  34.9392,2,     32.5,2,     33.1,2,    81.73,2,    37.53,2,     0.00,2,     2.79,2,    0.010,2,    0.009,2, -999.000,5,   2311.7,2,   2360.8,2,   7.4410,2,    25.00,     42.4,2,    39.57,2, -999.000,9, -999.000,-999.0000,9,-999.0000,  -999.00,9,  -999.00, -999.000,9, -999.000,   -999.0,9,   -999.0,  -999.00,9,   0.1971,2,   0.1458,2,   0.0878,2,   0.0677,2,   0.0313,2,   0.0096,2,   0.0018,2,   0.0141,3,   0.0131,3,   6.7932,   6.8890,2
  33RR20070322,  I09N,   199,  2,     14,     14,2,20070427,0241, 18.0032,  89.8512, 2172,1044.2000,   1044.2,   6.3942,  34.9216,2,  34.9209,2,     41.2,2,     41.2,2,    87.21,2,    37.38,2,     0.00,2,     2.78,2, -999.000,9, -999.000,9, -999.000,9,   2314.2,2,   2365.0,2,   7.4533,2,    25.00,     42.1,2,    39.19,2, -999.000,9, -999.000,-999.0000,9,-999.0000,  -999.00,9,  -999.00, -999.000,9, -999.000,   -999.0,9,   -999.0,  -999.00,9,   0.2020,2,   0.1508,2,   0.0914,2,   0.0691,2,   0.0322,2,   0.0100,2,   0.0017,2,   0.0142,3,   0.0131,3,   6.2952,   6.3936,2
  33RR20070322,  I09N,   199,  2,     13,     13,2,20070427,0241, 18.0032,  89.8512, 2172,1144.8000,   1144.8,   5.9480,  34.9049,2,  34.9065,2,     48.0,2,     48.2,2,    92.10,2,    37.29,2,     0.00,2,     2.77,2,    0.006,2,    0.005,2, -999.000,5,   2317.0,2,   2370.5,2,   7.4632,2,    25.00,     41.8,2,    38.74,2, -999.000,9, -999.000,-999.0000,9,-999.0000,  -999.00,9,  -999.00, -999.000,9, -999.000,   -999.0,9,   -999.0,  -999.00,9,   0.2039,2,   0.1522,2,   0.0919,2,   0.0689,2,   0.0326,2,   0.0105,2,   0.0021,2,   0.0141,3,   0.0131,3,   5.8426,   5.9420,2
  33RR20070322,  I09N,   199,  2,     12,     12,2,20070427,0241, 18.0032,  89.8512, 2172,1245.1000,   1245.1,   5.5175,  34.8890,2,  34.8886,2,     55.5,2,     56.0,2,    96.80,2,    37.20,2,     0.00,2,     2.76,2, -999.000,9, -999.000,9, -999.000,9,   2319.1,2,   2375.2,2,   7.4685,2,    25.00,     41.2,2,    39.09,2, -999.000,9, -999.000,-999.0000,9,-999.0000,  -999.00,9,  -999.00, -999.000,9, -999.000,   -999.0,9,   -999.0,  -999.00,9,   0.2038,2,   0.1516,2,   0.0916,2,   0.0698,2,   0.0341,2,   0.0113,2,   0.0029,2,   0.0139,3,   0.0130,3,   5.4060,   5.5165,2
  33RR20070322,  I09N,   199,  2,     11,     11,2,20070427,0241, 18.0032,  89.8512, 2172,1345.3000,   1345.3,   5.1413,  34.8747,2,  34.8743,2,     62.6,2,     62.5,2,   100.72,2,    37.05,2,     0.00,2,     2.75,2,    0.005,2,    0.005,2, -999.000,5,   2321.5,2,   2380.4,2,   7.4731,2,    25.00,     40.4,2,    38.84,2, -999.000,9, -999.000,-999.0000,9,-999.0000,  -999.00,9,  -999.00, -999.000,9, -999.000,   -999.0,9,   -999.0,  -999.00,9,   0.2025,2,   0.1504,2,   0.0900,2,   0.0677,2,   0.0326,2,   0.0106,2,   0.0026,2,   0.0141,3,   0.0132,3,   5.0237,   5.1424,2
  33RR20070322,  I09N,   199,  2,     10,     10,2,20070427,0241, 18.0032,  89.8512, 2172,1445.9000,   1445.9,   4.7505,  34.8599,2,  34.8601,2,     69.5,2,     69.3,2,   105.83,2,    36.91,2,     0.00,2,     2.73,2, -999.000,9, -999.000,9, -999.000,9,   2324.3,2,   2385.7,2,   7.4807,2,    25.00,     40.2,2,    38.18,2, -999.000,9, -999.000,-999.0000,9,-999.0000,  -999.00,9,  -999.00, -999.000,9, -999.000,   -999.0,9,   -999.0,  -999.00,9,   0.1987,3,   0.1464,3,   0.0873,3,   0.0658,3,   0.0313,2,   0.0100,2,   0.0025,2,   0.0140,4,   0.0133,4,   4.6273,   4.7466,2
  33RR20070322,  I09N,   199,  2,      9,      9,2,20070427,0241, 18.0032,  89.8512, 2172,1547.2000,   1547.2,   4.3622,  34.8449,2,  34.8448,2,     76.8,2,     76.7,2,   109.96,2,    36.72,2,     0.00,2,     2.71,2,    0.004,2,    0.005,2, -999.000,5,   2326.6,2,   2389.0,2,   7.4761,2,    25.00,     40.5,2,    38.03,2, -999.000,9, -999.000,-999.0000,9,-999.0000,  -999.00,9,  -999.00, -999.000,9, -999.000,   -999.0,9,   -999.0,  -999.00,9,   0.2037,2,   0.1511,2,   0.0898,2,   0.0668,2,   0.0320,2,   0.0106,2,   0.0027,2,   0.0140,3,   0.0133,3,   4.2338,   4.3555,2
  33RR20070322,  I09N,   199,  2,      8,      8,2,20070427,0241, 18.0032,  89.8512, 2172,1646.9000,   1646.9,   3.9280,  34.8278,2,  34.8279,2,     85.4,2,     85.2,2,   115.09,2,    36.53,2,     0.00,2,     2.69,2, -999.000,9, -999.000,9, -999.000,9,   2328.7,2,   2393.2,2,   7.4971,2,    25.00,     40.4,2,    37.93,2, -999.000,9, -999.000,-999.0000,9,-999.0000,  -999.00,9,  -999.00, -999.000,9, -999.000,   -999.0,9,   -999.0,  -999.00,9,   0.2020,2,   0.1498,2,   0.0894,2,   0.0668,2,   0.0319,2,   0.0104,2,   0.0025,2,   0.0141,3,   0.0133,3,   3.7955,   3.9286,2
  33RR20070322,  I09N,   199,  2,      7,      7,2,20070427,0241, 18.0032,  89.8512, 2172,1747.7000,   1747.7,   3.4418,  34.8079,2,  34.8076,2,     93.9,2,     94.2,2,   121.21,2,    36.25,2,     0.00,2,     2.67,2,    0.006,2,    0.006,2, -999.000,5,   2330.9,2,   2401.7,2,   7.5030,2,    25.00,     40.3,2,    37.47,2, -999.000,9, -999.000,-999.0000,9,-999.0000,  -999.00,9,  -999.00, -999.000,9, -999.000,   -999.0,9,   -999.0,  -999.00,9,   0.2045,2,   0.1517,2,   0.0899,2,   0.0666,2,   0.0316,2,   0.0104,2,   0.0025,2,   0.0142,3,   0.0134,3,   3.3063,   3.4472,2
  33RR20070322,  I09N,   199,  2,      6,      6,2,20070427,0241, 18.0032,  89.8512, 2172,1848.9000,   1848.9,   3.1375,  34.7950,2,  34.7952,2,    100.9,2,    101.1,2,   124.18,2,    36.06,2,     0.00,2,     2.64,2, -999.000,9, -999.000,9, -999.000,9,   2331.5,2,   2405.4,2,   7.5075,2,    25.00,     40.3,2,    37.62,2, -999.000,9, -999.000,-999.0000,9,-999.0000,  -999.00,9,  -999.00, -999.000,9, -999.000,   -999.0,9,   -999.0,  -999.00,9,   0.2025,2,   0.1503,2,   0.0890,2,   0.0656,2,   0.0308,2,   0.0099,2,   0.0022,2,   0.0142,3,   0.0135,3,   2.9971,   3.1371,2
  33RR20070322,  I09N,   199,  2,      5,      5,2,20070427,0241, 18.0032,  89.8512, 2172,1949.5000,   1949.5,   2.8946,  34.7846,2,  34.7848,2,    106.9,2,    107.0,2,   127.54,2,    35.91,2,     0.00,2,     2.62,2,    0.015,3,    0.005,2, -999.000,5,   2332.8,2,   2409.4,2,   7.5142,2,    25.00,     40.3,2,    37.89,2, -999.000,9, -999.000,-999.0000,9,-999.0000,  -999.00,9,  -999.00, -999.000,9, -999.000,   -999.0,9,   -999.0,  -999.00,9,   0.2063,3,   0.1535,3,   0.0913,2,   0.0675,2,   0.0319,2,   0.0103,2,   0.0024,2,   0.0142,4,   0.0134,4,   2.7486,   2.8940,2