BOTTLE,20150630SIOCCHRJL
EXPOCODE,SECT_ID,STNNBR,CASTNO,SAMPNO,BTLNBR,BTLNBR_FLAG_W,DATE,TIME,LATITUDE,LONGITUDE,DEPTH,CTDRAW,CTDPRS,CTDTMP,CTDSAL,CTDSAL_FLAG_W,SALNTY,SALNTY_FLAG_W,CTDOXY,CTDOXY_FLAG_W,OXYGEN,OXYGEN_FLAG_W,SILCAT,SILCAT_FLAG_W,NITRAT,NITRAT_FLAG_W,NITRIT,NITRIT_FLAG_W,PHSPHT,PHSPHT_FLAG_W,CFC-11,CFC-11_FLAG_W,CFC-12,CFC-12_FLAG_W,CFC113,CFC113_FLAG_W,TCARBN,TCARBN_FLAG_W,ALKALI,ALKALI_FLAG_W,PH_SWS,PH_SWS_FLAG_W,PH_TMP,DOC,DOC_FLAG_W,TDN,TDN_FLAG_W,TRITUM,TRITUM_FLAG_W,TRITER,HELIUM,HELIUM_FLAG_W,HELIER,DELHE3,DELHE3_FLAG_W,DELHER,NEON,NEON_FLAG_W,NEONER,DELC14,DELC14_FLAG_W,C14ERR,DELC13,DELC13_FLAG_W,CDOM325,CDOM325_FLAG_W,CDOM340,CDOM340_FLAG_W,CDOM380,CDOM380_FLAG_W,CDOM412,CDOM412_FLAG_W,CDOM443,CDOM443_FLAG_W,CDOM490,CDOM490_FLAG_W,CDOM555,CDOM555_FLAG_W,CDOMSL,CDOMSL_FLAG_W,CDOMSN,CDOMSN_FLAG_W,THETA,SBE35,SBE35_FLAG_W
,,,,,,,,,,,METERS,,DBAR,ITS-90,PSS-78,,PSS-78,,UMOL/KG,,UMOL/KG,,UMOL/KG,,UMOL/KG,,UMOL/KG,,UMOL/KG,,PMOL/KG,,PMOL/KG,,PMOL/KG,,UMOL/KG,,UMOL/KG,,,,DEG C,UMOL/KG,,UMOL/KG,,TU,,TU,NMOL/KG,,NMOL/KG,PERCNT,,PERCNT,NMOL/KG,,NMOL/KG,/MILLE,,/MILLE,/MILLE,,1/M,,1/M,,1/M,,1/M,,1/M,,1/M,,1/M,,1/NM,,1/NM,,DEG C,ITS-90,
  33RR20070322,  I09N,   180,  1,     36,     38,2,20070422,0932,  8.7868,  86.2663, 3644,   1.9000,      1.9,  31.3417,  33.8072,2,  33.8071,2,    194.4,2,    195.0,2,     1.43,2,     0.10,2,     0.00,2,     0.07,2,    1.518,2,    0.985,2, -999.000,5,   1905.8,6,   2227.7,6,   8.0930,6,    25.00,   -999.0,9,  -999.00,9, -999.000,9, -999.000,-999.0000,9,-999.0000,  -999.00,9,  -999.00, -999.000,9, -999.000,   -999.0,9,   -999.0,  -999.00,9,-999.0000,9,-999.0000,9,-999.0000,9,-999.0000,9,-999.0000,9,-999.0000,9,-999.0000,9,-999.0000,9,-999.0000,9,  31.3412,  31.3522,2
  33RR20070322,  I09N,   180,  1,     35,     35,2,20070422,0932,  8.7868,  86.2663, 3644,  39.1000,     39.1,  28.9453,  34.5979,2,  34.5537,2,    200.6,2,    201.2,2,     1.40,2,     0.10,2,     0.00,2,     0.12,2,    1.562,2,    1.010,2, -999.000,5,   1934.9,2,   2250.0,2,   8.0849,2,    25.00,   -999.0,9,  -999.00,9, -999.000,9, -999.000,-999.0000,9,-999.0000,  -999.00,9,  -999.00, -999.000,9, -999.000,   -999.0,9,   -999.0,  -999.00,9,-999.0000,9,-999.0000,9,-999.0000,9,-999.0000,9,-999.0000,9,-999.0000,9,-999.0000,9,-999.0000,9,-999.0000,9,  28.9359,  28.9447,2
  33RR20070322,  I09N,   180,  1,     34,   9419,2,20070422,0932,  8.7868,  86.2663, 3644,  74.2000,     74.2,  26.8191,  34.5466,2,  34.5496,2,    155.2,2,    141.4,2,     4.29,2,     4.02,2,     0.57,2,     0.51,2,    1.453,2,    0.929,2, -999.000,5,   2002.6,2,   2263.1,2,   7.9905,2,    25.00,   -999.0,9,  -999.00,9, -999.000,9, -999.000,-999.0000,9,-999.0000,  -999.00,9,  -999.00, -999.000,9, -999.000,   -999.0,9,   -999.0,  -999.00,9,-999.0000,9,-999.0000,9,-999.0000,9,-999.0000,9,-999.0000,9,-999.0000,9,-999.0000,9,-999.0000,9,-999.0000,9,  26.8022,  26.8531,2
  33RR20070322,  I09N,   180,  1,     33,     33,2,20070422,0932,  8.7868,  86.2663, 3644,  93.6000,     93.6,  22.5492,  34.5727,2,  34.5423,2,     64.7,2,     64.0,2,    12.84,2,    17.91,2,     0.10,2,     1.30,2,    1.258,2,    0.790,2, -999.000,5,   2095.9,2,   2263.7,2,   7.7794,2,    25.00,   -999.0,9,  -999.00,9, -999.000,9, -999.000,-999.0000,9,-999.0000,  -999.00,9,  -999.00, -999.000,9, -999.000,   -999.0,9,   -999.0,  -999.00,9,-999.0000,9,-999.0000,9,-999.0000,9,-999.0000,9,-999.0000,9,-999.0000,9,-999.0000,9,-999.0000,9,-999.0000,9,  22.5304,  22.5544,2
  33RR20070322,  I09N,   180,  1,     32,     37,2,20070422,0932,  8.7868,  86.2663, 3644, 124.1000,    124.1,  17.6813,  34.8414,2,  34.8406,2,     24.8,2,     27.8,2,    23.54,2,    26.40,2,     0.01,2,     1.89,2,    0.938,2,    0.572,2, -999.000,5,   2183.9,2,   2288.2,2,   7.6163,2,    25.00,   -999.0,9,  -999.00,9, -999.000,9, -999.000,-999.0000,9,-999.0000,  -999.00,9,  -999.00, -999.000,9, -999.000,   -999.0,9,   -999.0,  -999.00,9,-999.0000,9,-999.0000,9,-999.0000,9,-999.0000,9,-999.0000,9,-999.0000,9,-999.0000,9,-999.0000,9,-999.0000,9,  17.6603,  17.6830,2
  33RR20070322,  I09N,   180,  1,     31,     31,2,20070422,0932,  8.7868,  86.2663, 3644, 144.6000,    144.6,  16.8908,  34.9021,2,  34.9022,2,     25.2,2,     26.2,2,    24.48,2,    27.23,2,     0.01,2,     1.95,2,    0.924,2,    0.549,2, -999.000,5,   2195.8,2,   2294.0,2,   7.6047,2,    25.00,   -999.0,9,  -999.00,9, -999.000,9, -999.000,-999.0000,9,-999.0000,  -999.00,9,  -999.00, -999.000,9, -999.000,   -999.0,9,   -999.0,  -999.00,9,-999.0000,9,-999.0000,9,-999.0000,9,-999.0000,9,-999.0000,9,-999.0000,9,-999.0000,9,-999.0000,9,-999.0000,9,  16.8671,  16.9044,2
  33RR20070322,  I09N,   180,  1,     30,     30,2,20070422,0932,  8.7868,  86.2663, 3644, 174.7000,    174.7,  15.1116,  34.9355,2,  34.9343,2,     28.1,2,     27.8,2,    27.97,2,    28.71,2,     0.00,2,     2.06,2,    0.815,2,    0.475,2, -999.000,5,   2213.2,2,   2300.2,2,   7.5360,2,    25.00,   -999.0,9,  -999.00,9, -999.000,9, -999.000,-999.0000,9,-999.0000,  -999.00,9,  -999.00, -999.000,9, -999.000,   -999.0,9,   -999.0,  -999.00,9,-999.0000,9,-999.0000,9,-999.0000,9,-999.0000,9,-999.0000,9,-999.0000,9,-999.0000,9,-999.0000,9,-999.0000,9,  15.0850,  15.1241,2
  33RR20070322,  I09N,   180,  1,     29,     29,2,20070422,0932,  8.7868,  86.2663, 3644, 223.8000,    223.8,  13.5378,  35.0289,2,  35.0277,2,     14.5,2,     13.5,2,    29.51,2,    31.17,2,     0.00,2,     2.25,2,    0.717,2,    0.408,2, -999.000,5,   2239.0,2,   2297.7,2,   7.5030,2,    25.00,   -999.0,9,  -999.00,9, -999.000,9, -999.000,-999.0000,9,-999.0000,  -999.00,9,  -999.00, -999.000,9, -999.000,   -999.0,9,   -999.0,  -999.00,9,-999.0000,9,-999.0000,9,-999.0000,9,-999.0000,9,-999.0000,9,-999.0000,9,-999.0000,9,-999.0000,9,-999.0000,9,  13.5061,  13.5418,2
  33RR20070322,  I09N,   180,  1,     28,     28,2,20070422,0932,  8.7868,  86.2663, 3644, 274.3000,    274.3,  12.4616,  35.0514,2,  35.0496,2,     15.8,2,     16.4,2,    31.63,2,    31.91,2,     0.00,2,     2.28,2, -999.000,9, -999.000,9, -999.000,9,   2249.7,2,   2313.2,2,   7.4963,2,    25.00,   -999.0,9,  -999.00,9, -999.000,9, -999.000,-999.0000,9,-999.0000,  -999.00,9,  -999.00, -999.000,9, -999.000,   -999.0,9,   -999.0,  -999.00,9,-999.0000,9,-999.0000,9,-999.0000,9,-999.0000,9,-999.0000,9,-999.0000,9,-999.0000,9,-999.0000,9,-999.0000,9,  12.4248,  12.4626,2
  33RR20070322,  I09N,   180,  1,     27,     27,2,20070422,0932,  8.7868,  86.2663, 3644, 324.1000,    324.1,  11.6986,  35.0468,2,  35.0449,2,     11.8,2,     11.5,2,    35.51,2,    33.36,2,     0.00,2,     2.39,2,    0.460,2,    0.257,2, -999.000,5,   2262.0,2,   2317.8,6,-999.0000,5,    25.00,   -999.0,9,  -999.00,9, -999.000,9, -999.000,-999.0000,9,-999.0000,  -999.00,9,  -999.00, -999.000,9, -999.000,   -999.0,9,   -999.0,  -999.00,9,-999.0000,9,-999.0000,9,-999.0000,9,-999.0000,9,-999.0000,9,-999.0000,9,-999.0000,9,-999.0000,9,-999.0000,9,  11.6568,  11.6971,2
  33RR20070322,  I09N,   180,  1,     26,     26,2,20070422,0932,  8.7868,  86.2663, 3644, 374.2000,    374.2,  11.2176,  35.0598,2,  35.0585,2,     23.5,2,     23.6,2,    34.51,2,    32.95,2,     0.00,2,     2.32,2, -999.000,9, -999.000,9, -999.000,9,   2257.6,2,   2313.9,2,   7.4835,2,    25.00,   -999.0,9,  -999.00,9, -999.000,9, -999.000,-999.0000,9,-999.0000,  -999.00,9,  -999.00, -999.000,9, -999.000,   -999.0,9,   -999.0,  -999.00,9,-999.0000,9,-999.0000,9,-999.0000,9,-999.0000,9,-999.0000,9,-999.0000,9,-999.0000,9,-999.0000,9,-999.0000,9,  11.1705,  11.2173,2
  33RR20070322,  I09N,   180,  1,     25,     25,2,20070422,0932,  8.7868,  86.2663, 3644, 423.8000,    423.8,  10.8621,  35.0549,2,  35.0539,2,     23.5,2,     23.5,2,    36.82,2,    33.50,2,     0.00,2,     2.37,2,    0.453,2,    0.249,2, -999.000,5,   2259.7,2,   2321.4,2,   7.4730,2,    25.00,   -999.0,9,  -999.00,9, -999.000,9, -999.000,-999.0000,9,-999.0000,  -999.00,9,  -999.00, -999.000,9, -999.000,   -999.0,9,   -999.0,  -999.00,9,-999.0000,9,-999.0000,9,-999.0000,9,-999.0000,9,-999.0000,9,-999.0000,9,-999.0000,9,-999.0000,9,-999.0000,9,  10.8097,  10.8631,2
  33RR20070322,  I09N,   180,  1,     24,     24,2,20070422,0932,  8.7868,  86.2663, 3644, 474.2000,    474.2,  10.4125,  35.0473,2,  35.0459,2,     19.1,2,     18.2,2,    41.89,2,    34.64,2,     0.00,2,     2.48,2, -999.000,9, -999.000,9, -999.000,9,   2269.0,2,   2327.5,2,   7.4572,2,    25.00,   -999.0,9,  -999.00,9, -999.000,9, -999.000,-999.0000,9,-999.0000,  -999.00,9,  -999.00, -999.000,9, -999.000,   -999.0,9,   -999.0,  -999.00,9,-999.0000,9,-999.0000,9,-999.0000,9,-999.0000,9,-999.0000,9,-999.0000,9,-999.0000,9,-999.0000,9,-999.0000,9,  10.3553,  10.4120,2
  33RR20070322,  I09N,   180,  1,     23,     23,2,20070422,0932,  8.7868,  86.2663, 3644, 524.7000,    524.7,  10.0200,  35.0408,2,  35.0396,2,     17.2,2,     16.9,2,    45.77,2,    35.29,2,     0.00,2,     2.55,2,    0.207,2,    0.115,2, -999.000,5,   2275.7,2,   2326.8,2,   7.4511,2,    25.00,   -999.0,9,  -999.00,9, -999.000,9, -999.000,-999.0000,9,-999.0000,  -999.00,9,  -999.00, -999.000,9, -999.000,   -999.0,9,   -999.0,  -999.00,9,-999.0000,9,-999.0000,9,-999.0000,9,-999.0000,9,-999.0000,9,-999.0000,9,-999.0000,9,-999.0000,9,-999.0000,9,   9.9580,  10.0164,2
  33RR20070322,  I09N,   180,  1,     22,     22,2,20070422,0932,  8.7868,  86.2663, 3644, 643.5000,    643.5,   9.0298,  35.0158,2,  35.0146,2,     17.8,2,     17.6,2,    57.30,2,    36.59,2,     0.00,2,     2.67,2,    0.079,2,    0.049,2, -999.000,5,   2290.1,2,   2338.8,2,   7.4396,2,    25.00,   -999.0,9,  -999.00,9, -999.000,9, -999.000,-999.0000,9,-999.0000,  -999.00,9,  -999.00, -999.000,9, -999.000,   -999.0,9,   -999.0,  -999.00,9,-999.0000,9,-999.0000,9,-999.0000,9,-999.0000,9,-999.0000,9,-999.0000,9,-999.0000,9,-999.0000,9,-999.0000,9,   8.9579,   9.0280,2
  33RR20070322,  I09N,   180,  1,     21,     21,2,20070422,0932,  8.7868,  86.2663, 3644, 744.0000,    744.0,   8.4423,  35.0002,2,  34.9994,2,     25.1,2,     25.4,2,    62.97,2,    36.74,2,     0.00,2,     2.69,2, -999.000,9, -999.000,9, -999.000,9,   2294.2,2,   2350.1,2,   7.4524,2,    25.00,   -999.0,9,  -999.00,9, -999.000,9, -999.000,-999.0000,9,-999.0000,  -999.00,9,  -999.00, -999.000,9, -999.000,   -999.0,9,   -999.0,  -999.00,9,-999.0000,9,-999.0000,9,-999.0000,9,-999.0000,9,-999.0000,9,-999.0000,9,-999.0000,9,-999.0000,9,-999.0000,9,   8.3619,   8.4453,2
  33RR20070322,  I09N,   180,  1,     20,     20,2,20070422,0932,  8.7868,  86.2663, 3644, 844.0000,    844.0,   7.7101,  34.9719,2,  34.9719,2,     30.8,2,     30.7,2,    71.60,2,    37.19,2,     0.00,2,     2.73,2,    0.032,2,    0.018,2, -999.000,5,   2302.7,2,   2360.3,2,   7.4499,2,    25.00,   -999.0,9,  -999.00,9, -999.000,9, -999.000,-999.0000,9,-999.0000,  -999.00,9,  -999.00, -999.000,9, -999.000,   -999.0,9,   -999.0,  -999.00,9,-999.0000,9,-999.0000,9,-999.0000,9,-999.0000,9,-999.0000,9,-999.0000,9,-999.0000,9,-999.0000,9,-999.0000,9,   7.6230,   7.7219,2
  33RR20070322,  I09N,   180,  1,     19,     19,2,20070422,0932,  8.7868,  86.2663, 3644, 944.2000,    944.2,   7.1540,  34.9557,2,  34.9541,2,     37.1,2,     36.8,2,    77.87,2,    37.34,2,     0.00,2,     2.75,2, -999.000,9, -999.000,9, -999.000,9,   2307.6,2,   2361.8,2,   7.4517,2,    25.00,   -999.0,9,  -999.00,9, -999.000,9, -999.000,-999.0000,9,-999.0000,  -999.00,9,  -999.00, -999.000,9, -999.000,   -999.0,9,   -999.0,  -999.00,9,-999.0000,9,-999.0000,9,-999.0000,9,-999.0000,9,-999.0000,9,-999.0000,9,-999.0000,9,-999.0000,9,-999.0000,9,   7.0598,   7.1603,2
  33RR20070322,  I09N,   180,  1,     18,     18,2,20070422,0932,  8.7868,  86.2663, 3644,1045.0000,   1045.0,   6.6032,  34.9299,2,  34.9288,2,     46.7,2,     46.9,2,    83.77,2,    37.15,2,     0.00,2,     2.73,2,    0.022,2,    0.010,2, -999.000,5,   2309.4,6,   2372.5,2,   7.4760,2,    25.00,   -999.0,9,  -999.00,9, -999.000,9, -999.000,-999.0000,9,-999.0000,  -999.00,9,  -999.00, -999.000,9, -999.000,   -999.0,9,   -999.0,  -999.00,9,-999.0000,9,-999.0000,9,-999.0000,9,-999.0000,9,-999.0000,9,-999.0000,9,-999.0000,9,-999.0000,9,-999.0000,9,   6.5025,   6.5972,2
  33RR20070322,  I09N,   180,  1,     17,     17,2,20070422,0932,  8.7868,  86.2663, 3644,1145.7000,   1145.7,   6.0961,  34.9115,2,  34.9115,2,     52.5,2,     52.5,2,    89.48,2,    37.20,2,     0.00,2,     2.75,2, -999.000,9, -999.000,9, -999.000,9,   2315.2,2,   2368.7,2,   7.4646,2,    25.00,   -999.0,9,  -999.00,9, -999.000,9, -999.000,-999.0000,9,-999.0000,  -999.00,9,  -999.00, -999.000,9, -999.000,   -999.0,9,   -999.0,  -999.00,9,-999.0000,9,-999.0000,9,-999.0000,9,-999.0000,9,-999.0000,9,-999.0000,9,-999.0000,9,-999.0000,9,-999.0000,9,   5.9893,   6.0974,2
  33RR20070322,  I09N,   180,  1,     16,     16,2,20070422,0932,  8.7868,  86.2663, 3644,1246.5000,   1246.5,   5.5990,  34.8936,2,  34.8930,2,     60.1,2,     61.1,2,    94.80,2,    37.20,2,     0.00,2,     2.73,2,    0.011,2,    0.006,2, -999.000,5,   2317.9,2,   2374.0,2,   7.4774,2,    25.00,   -999.0,9,  -999.00,9, -999.000,9, -999.000,-999.0000,9,-999.0000,  -999.00,9,  -999.00, -999.000,9, -999.000,   -999.0,9,   -999.0,  -999.00,9,-999.0000,9,-999.0000,9,-999.0000,9,-999.0000,9,-999.0000,9,-999.0000,9,-999.0000,9,-999.0000,9,-999.0000,9,   5.4866,   5.6012,2
  33RR20070322,  I09N,   180,  1,     15,     15,2,20070422,0932,  8.7868,  86.2663, 3644,1347.6000,   1347.6,   5.1698,  34.8779,2,  34.8774,2,     67.2,2,     67.8,2,    99.34,2,    37.15,2,     0.00,2,     2.73,2, -999.000,9, -999.000,9, -999.000,9,   2319.0,2,   2378.8,2,   7.4821,2,    25.00,   -999.0,9,  -999.00,9, -999.000,9, -999.000,-999.0000,9,-999.0000,  -999.00,9,  -999.00, -999.000,9, -999.000,   -999.0,9,   -999.0,  -999.00,9,-999.0000,9,-999.0000,9,-999.0000,9,-999.0000,9,-999.0000,9,-999.0000,9,-999.0000,9,-999.0000,9,-999.0000,9,   5.0517,   5.1680,2
  33RR20070322,  I09N,   180,  1,     14,     14,2,20070422,0932,  8.7868,  86.2663, 3644,1446.8000,   1446.8,   4.8698,  34.8675,2,  34.8664,2,     72.8,2,     73.0,2,   102.49,2,    37.10,2,     0.00,2,     2.72,2, -999.000,9, -999.000,9, -999.000,9,   2321.9,2,   2382.7,2,   7.4812,2,    25.00,   -999.0,9,  -999.00,9, -999.000,9, -999.000,-999.0000,9,-999.0000,  -999.00,9,  -999.00, -999.000,9, -999.000,   -999.0,9,   -999.0,  -999.00,9,-999.0000,9,-999.0000,9,-999.0000,9,-999.0000,9,-999.0000,9,-999.0000,9,-999.0000,9,-999.0000,9,-999.0000,9,   4.7452,   4.8737,2
  33RR20070322,  I09N,   180,  1,     13,     13,2,20070422,0932,  8.7868,  86.2663, 3644,1548.0000,   1548.0,   4.4310,  34.8506,2,  34.8499,2,     80.5,2,     81.1,2,   107.64,2,    36.94,2,     0.00,2,     2.71,2,    0.005,2,    0.003,2, -999.000,5,   2324.0,2,   2387.7,2,   7.4985,2,    25.00,   -999.0,9,  -999.00,9, -999.000,9, -999.000,-999.0000,9,-999.0000,  -999.00,9,  -999.00, -999.000,9, -999.000,   -999.0,9,   -999.0,  -999.00,9,-999.0000,9,-999.0000,9,-999.0000,9,-999.0000,9,-999.0000,9,-999.0000,9,-999.0000,9,-999.0000,9,-999.0000,9,   4.3017,   4.4294,2
  33RR20070322,  I09N,   180,  1,     12,     12,2,20070422,0932,  8.7868,  86.2663, 3644,1648.7000,   1648.7,   4.0662,  34.8357,2,  34.8353,2,     87.8,2,     87.4,2,   111.99,2,    36.80,2,     0.00,2,     2.69,2, -999.000,9, -999.000,9, -999.000,9,   2326.7,2,   2383.8,2,   7.5007,2,    25.00,   -999.0,9,  -999.00,9, -999.000,9, -999.000,-999.0000,9,-999.0000,  -999.00,9,  -999.00, -999.000,9, -999.000,   -999.0,9,   -999.0,  -999.00,9,-999.0000,9,-999.0000,9,-999.0000,9,-999.0000,9,-999.0000,9,-999.0000,9,-999.0000,9,-999.0000,9,-999.0000,9,   3.9318,   4.0633,2
  33RR20070322,  I09N,   180,  1,     11,     11,2,20070422,0932,  8.7868,  86.2663, 3644,1749.3000,   1749.3,   3.6763,  34.8198,2,  34.8196,2,     95.6,2,     94.6,2,   115.76,2,    36.65,2,     0.00,2,     2.67,2, -999.000,9, -999.000,9, -999.000,9,   -999.0,5,   2394.4,2,   7.5056,2,    25.00,   -999.0,9,  -999.00,9, -999.000,9, -999.000,-999.0000,9,-999.0000,  -999.00,9,  -999.00, -999.000,9, -999.000,   -999.0,9,   -999.0,  -999.00,9,-999.0000,9,-999.0000,9,-999.0000,9,-999.0000,9,-999.0000,9,-999.0000,9,-999.0000,9,-999.0000,9,-999.0000,9,   3.5376,   3.6713,2
  33RR20070322,  I09N,   180,  1,     10,     10,2,20070422,0932,  8.7868,  86.2663, 3644,1950.2000,   1950.2,   3.0119,  34.7914,2,  34.7681,4,    110.2,2,    110.0,2,   123.54,2,    36.20,2,     0.00,2,     2.62,2,    0.009,2,    0.002,2, -999.000,5,   -999.0,5,   2408.9,2,   7.5321,2,    25.00,   -999.0,9,  -999.00,9, -999.000,9, -999.000,-999.0000,9,-999.0000,  -999.00,9,  -999.00, -999.000,9, -999.000,   -999.0,9,   -999.0,  -999.00,9,-999.0000,9,-999.0000,9,-999.0000,9,-999.0000,9,-999.0000,9,-999.0000,9,-999.0000,9,-999.0000,9,-999.0000,9,   2.8641,   3.0127,2
  33RR20070322,  I09N,   180,  1,      9,      9,2,20070422,0932,  8.7868,  86.2663, 3644,2111.6000,   2111.6,   2.6662,  34.7758,2,  34.7760,2,    118.5,2,    118.3,2,   128.32,2,    35.95,2,     0.00,2,     2.59,2, -999.000,9, -999.000,9, -999.000,9,   -999.0,5,   2416.8,2,   7.5343,2,    25.00,   -999.0,9,  -999.00,9, -999.000,9, -999.000,-999.0000,9,-999.0000,  -999.00,9,  -999.00, -999.000,9, -999.000,   -999.0,9,   -999.0,  -999.00,9,-999.0000,9,-999.0000,9,-999.0000,9,-999.0000,9,-999.0000,9,-999.0000,9,-999.0000,9,-999.0000,9,-999.0000,9,   2.5092,   2.6662,2
  33RR20070322,  I09N,   180,  1,      8,      8,2,20070422,0932,  8.7868,  86.2663, 3644,2364.6000,   2364.6,   2.3245,  34.7602,2,  34.7596,2,    127.1,2,    126.5,2,   132.32,2,    35.75,2,     0.00,2,     2.55,2, -999.000,9, -999.000,9, -999.000,9,   2330.6,2,   2420.9,2,   7.5403,2,    25.00,   -999.0,9,  -999.00,9, -999.000,9, -999.000,-999.0000,9,-999.0000,  -999.00,9,  -999.00, -999.000,9, -999.000,   -999.0,9,   -999.0,  -999.00,9,-999.0000,9,-999.0000,9,-999.0000,9,-999.0000,9,-999.0000,9,-999.0000,9,-999.0000,9,-999.0000,9,-999.0000,9,   2.1502,   2.3245,2
  33RR20070322,  I09N,   180,  1,      7,      7,2,20070422,0932,  8.7868,  86.2663, 3644,2616.0000,   2616.0,   2.0285,  34.7474,2,  34.7463,2,    135.0,2,    135.3,2,   136.32,2,    35.40,2,     0.00,2,     2.51,2,    0.005,2,    0.003,2, -999.000,5,   2330.8,2,   2426.9,2,   7.5519,2,    25.00,   -999.0,9,  -999.00,9, -999.000,9, -999.000,-999.0000,9,-999.0000,  -999.00,9,  -999.00, -999.000,9, -999.000,   -999.0,9,   -999.0,  -999.00,9,-999.0000,9,-999.0000,9,-999.0000,9,-999.0000,9,-999.0000,9,-999.0000,9,-999.0000,9,-999.0000,9,-999.0000,9,   1.8365,   2.0299,2
  33RR20070322,  I09N,   180,  1,      6,      6,2,20070422,0932,  8.7868,  86.2663, 3644,2869.8000,   2869.8,   1.8385,  34.7391,2,  34.7388,2,    141.2,2,    141.4,2,   138.51,2,    35.15,2,     0.00,2,     2.48,2, -999.000,9, -999.000,9, -999.000,9,   2331.2,2,   2431.4,2,   7.5646,2,    25.00,   -999.0,9,  -999.00,9, -999.000,9, -999.000,-999.0000,9,-999.0000,  -999.00,9,  -999.00, -999.000,9, -999.000,   -999.0,9,   -999.0,  -999.00,9,-999.0000,9,-999.0000,9,-999.0000,9,-999.0000,9,-999.0000,9,-999.0000,9,-999.0000,9,-999.0000,9,-999.0000,9,   1.6265,   1.8376,2
  33RR20070322,  I09N,   180,  1,      5,      5,2,20070422,0932,  8.7868,  86.2663, 3644,3122.9000,   3122.9,   1.6879,  34.7329,2,  34.7319,2,    147.7,2,    148.0,2,   139.30,2,    34.86,2,     0.00,2,     2.45,2, -999.000,9, -999.000,9, -999.000,9,   2329.1,2,   2415.6,2,   7.5792,2,    25.00,   -999.0,9,  -999.00,9, -999.000,9, -999.000,-999.0000,9,-999.0000,  -999.00,9,  -999.00, -999.000,9, -999.000,   -999.0,9,   -999.0,  -999.00,9,-999.0000,9,-999.0000,9,-999.0000,9,-999.0000,9,-999.0000,9,-999.0000,9,-999.0000,9,-999.0000,9,-999.0000,9,   1.4547,   1.6870,2