BOTTLE,20150630SIOCCHRJL
EXPOCODE,SECT_ID,STNNBR,CASTNO,SAMPNO,BTLNBR,BTLNBR_FLAG_W,DATE,TIME,LATITUDE,LONGITUDE,DEPTH,CTDRAW,CTDPRS,CTDTMP,CTDSAL,CTDSAL_FLAG_W,SALNTY,SALNTY_FLAG_W,CTDOXY,CTDOXY_FLAG_W,OXYGEN,OXYGEN_FLAG_W,SILCAT,SILCAT_FLAG_W,NITRAT,NITRAT_FLAG_W,NITRIT,NITRIT_FLAG_W,PHSPHT,PHSPHT_FLAG_W,CFC-11,CFC-11_FLAG_W,CFC-12,CFC-12_FLAG_W,CFC113,CFC113_FLAG_W,TCARBN,TCARBN_FLAG_W,ALKALI,ALKALI_FLAG_W,PH_SWS,PH_SWS_FLAG_W,PH_TMP,DOC,DOC_FLAG_W,TDN,TDN_FLAG_W,TRITUM,TRITUM_FLAG_W,TRITER,HELIUM,HELIUM_FLAG_W,HELIER,DELHE3,DELHE3_FLAG_W,DELHER,NEON,NEON_FLAG_W,NEONER,DELC14,DELC14_FLAG_W,C14ERR,DELC13,DELC13_FLAG_W,CDOM325,CDOM325_FLAG_W,CDOM340,CDOM340_FLAG_W,CDOM380,CDOM380_FLAG_W,CDOM412,CDOM412_FLAG_W,CDOM443,CDOM443_FLAG_W,CDOM490,CDOM490_FLAG_W,CDOM555,CDOM555_FLAG_W,CDOMSL,CDOMSL_FLAG_W,CDOMSN,CDOMSN_FLAG_W,THETA,SBE35,SBE35_FLAG_W
,,,,,,,,,,,METERS,,DBAR,ITS-90,PSS-78,,PSS-78,,UMOL/KG,,UMOL/KG,,UMOL/KG,,UMOL/KG,,UMOL/KG,,UMOL/KG,,PMOL/KG,,PMOL/KG,,PMOL/KG,,UMOL/KG,,UMOL/KG,,,,DEG C,UMOL/KG,,UMOL/KG,,TU,,TU,NMOL/KG,,NMOL/KG,PERCNT,,PERCNT,NMOL/KG,,NMOL/KG,/MILLE,,/MILLE,/MILLE,,1/M,,1/M,,1/M,,1/M,,1/M,,1/M,,1/M,,1/NM,,1/NM,,DEG C,ITS-90,
  33RR20070322,  I09N,   169,  2,      4,      4,2,20070419,0606,  8.7203,  87.6325, 3580,3192.5000,   3192.5,   1.6493,  34.7311,2,  34.7306,2,    150.4,2,    151.2,2,   139.68,2,    34.86,2,     0.00,2,     2.43,2, -999.000,9, -999.000,9, -999.000,9,   2326.6,2,   2420.5,2,   7.5813,2,    25.00,     40.9,2,    36.28,2, -999.000,9, -999.000,-999.0000,9,-999.0000,  -999.00,9,  -999.00, -999.000,9, -999.000,   -999.0,9,   -999.0,  -999.00,9,-999.0000,9,-999.0000,9,-999.0000,9,-999.0000,9,-999.0000,9,-999.0000,9,-999.0000,9,-999.0000,9,-999.0000,9,   1.4101,   1.6492,2
  33RR20070322,  I09N,   169,  2,      3,      3,2,20070419,0606,  8.7203,  87.6325, 3580,3446.9000,   3446.9,   1.5105,  34.7253,2,  34.7239,2,    156.7,2,    157.1,2,   141.92,2,    34.65,2,     0.00,2,     2.41,2, -999.000,9, -999.000,9, -999.000,9,   2326.3,2,   2424.1,2,   7.5926,2,    25.00,     40.3,2,    36.17,2, -999.000,9, -999.000,-999.0000,9,-999.0000,  -999.00,9,  -999.00, -999.000,9, -999.000,   -999.0,9,   -999.0,  -999.00,9,-999.0000,9,-999.0000,9,-999.0000,9,-999.0000,9,-999.0000,9,-999.0000,9,-999.0000,9,-999.0000,9,-999.0000,9,   1.2492,   1.5100,2
  33RR20070322,  I09N,   169,  2,      2,      2,2,20070419,0606,  8.7203,  87.6325, 3580,3497.1000,   3497.1,   1.4773,  34.7244,2,  34.7231,2,    157.2,2,    157.5,2,   142.11,2,    34.70,2,     0.00,2,     2.40,2, -999.000,9, -999.000,9, -999.000,9,   2327.6,2,   2426.3,2,   7.5880,3,    25.00,     40.4,2,    35.70,2, -999.000,9, -999.000,-999.0000,9,-999.0000,  -999.00,9,  -999.00, -999.000,9, -999.000,   -999.0,9,   -999.0,  -999.00,9,-999.0000,9,-999.0000,9,-999.0000,9,-999.0000,9,-999.0000,9,-999.0000,9,-999.0000,9,-999.0000,9,-999.0000,9,   1.2117,   1.4784,2
  33RR20070322,  I09N,   169,  2,      1,      1,2,20070419,0606,  8.7203,  87.6325, 3580,3611.6000,   3611.6,   1.4606,  34.7229,2,  34.7225,2,    152.2,2,    152.0,2,   149.07,2,    35.14,2,     0.00,2,     2.42,2,    0.010,2,    0.005,2, -999.000,5,   2339.1,6,   2439.2,6,   7.6153,6,    25.00,     40.9,2,    36.67,2, -999.000,9, -999.000,-999.0000,9,-999.0000,  -999.00,9,  -999.00, -999.000,9, -999.000,   -999.0,9,   -999.0,  -999.00,9,-999.0000,9,-999.0000,9,-999.0000,9,-999.0000,9,-999.0000,9,-999.0000,9,-999.0000,9,-999.0000,9,-999.0000,9,   1.1837,   1.4600,2