BOTTLE,20150630SIOCCHRJL
EXPOCODE,SECT_ID,STNNBR,CASTNO,SAMPNO,BTLNBR,BTLNBR_FLAG_W,DATE,TIME,LATITUDE,LONGITUDE,DEPTH,CTDRAW,CTDPRS,CTDTMP,CTDSAL,CTDSAL_FLAG_W,SALNTY,SALNTY_FLAG_W,CTDOXY,CTDOXY_FLAG_W,OXYGEN,OXYGEN_FLAG_W,SILCAT,SILCAT_FLAG_W,NITRAT,NITRAT_FLAG_W,NITRIT,NITRIT_FLAG_W,PHSPHT,PHSPHT_FLAG_W,CFC-11,CFC-11_FLAG_W,CFC-12,CFC-12_FLAG_W,CFC113,CFC113_FLAG_W,TCARBN,TCARBN_FLAG_W,ALKALI,ALKALI_FLAG_W,PH_SWS,PH_SWS_FLAG_W,PH_TMP,DOC,DOC_FLAG_W,TDN,TDN_FLAG_W,TRITUM,TRITUM_FLAG_W,TRITER,HELIUM,HELIUM_FLAG_W,HELIER,DELHE3,DELHE3_FLAG_W,DELHER,NEON,NEON_FLAG_W,NEONER,DELC14,DELC14_FLAG_W,C14ERR,DELC13,DELC13_FLAG_W,CDOM325,CDOM325_FLAG_W,CDOM340,CDOM340_FLAG_W,CDOM380,CDOM380_FLAG_W,CDOM412,CDOM412_FLAG_W,CDOM443,CDOM443_FLAG_W,CDOM490,CDOM490_FLAG_W,CDOM555,CDOM555_FLAG_W,CDOMSL,CDOMSL_FLAG_W,CDOMSN,CDOMSN_FLAG_W,THETA,SBE35,SBE35_FLAG_W
,,,,,,,,,,,METERS,,DBAR,ITS-90,PSS-78,,PSS-78,,UMOL/KG,,UMOL/KG,,UMOL/KG,,UMOL/KG,,UMOL/KG,,UMOL/KG,,PMOL/KG,,PMOL/KG,,PMOL/KG,,UMOL/KG,,UMOL/KG,,,,DEG C,UMOL/KG,,UMOL/KG,,TU,,TU,NMOL/KG,,NMOL/KG,PERCNT,,PERCNT,NMOL/KG,,NMOL/KG,/MILLE,,/MILLE,/MILLE,,1/M,,1/M,,1/M,,1/M,,1/M,,1/M,,1/M,,1/NM,,1/NM,,DEG C,ITS-90,
  33RR20070322,  I09N,   181,  1,     36,     38,2,20070422,1619,  9.3070,  86.5242, 3603,   2.5000,      2.5,  30.3891,  33.4837,2,  33.4776,2,    196.4,2,    196.4,2,     1.42,2,     0.05,2,     0.00,2,     0.05,2,    1.537,2,    1.000,2, -999.000,5,   1892.5,6,   2207.1,2,   8.0890,6,    25.00,   -999.0,9,  -999.00,9, -999.000,9, -999.000,-999.0000,9,-999.0000,  -999.00,9,  -999.00, -999.000,9, -999.000,   -999.0,9,   -999.0,  -999.00,9,-999.0000,9,-999.0000,9,-999.0000,9,-999.0000,9,-999.0000,9,-999.0000,9,-999.0000,9,-999.0000,9,-999.0000,9,  30.3885,  30.3458,2
  33RR20070322,  I09N,   181,  1,     35,     35,2,20070422,1619,  9.3070,  86.5242, 3603,  19.6000,     19.6,  29.1137,  33.4585,2,  33.4489,2,    196.8,2,    198.8,2,     1.42,2,     0.05,2,     0.00,2,     0.04,2, -999.000,9, -999.000,9, -999.000,9,   -999.0,9,   -999.0,9,-999.0000,9,  -999.00,   -999.0,9,  -999.00,9, -999.000,9, -999.000,-999.0000,9,-999.0000,  -999.00,9,  -999.00, -999.000,9, -999.000,   -999.0,9,   -999.0,  -999.00,9,-999.0000,9,-999.0000,9,-999.0000,9,-999.0000,9,-999.0000,9,-999.0000,9,-999.0000,9,-999.0000,9,-999.0000,9,  29.1090,  29.1103,2
  33RR20070322,  I09N,   181,  1,     34,   9419,2,20070422,1619,  9.3070,  86.5242, 3603,  44.2000,     44.2,  28.6596,  34.1364,2,  34.0945,2,    202.1,2,    200.2,2,     1.41,2,     0.05,2,     0.00,2,     0.09,2,    1.573,2,    1.025,2, -999.000,5,   1920.4,2,   2243.3,2,   8.1046,2,    25.00,   -999.0,9,  -999.00,9, -999.000,9, -999.000,-999.0000,9,-999.0000,  -999.00,9,  -999.00, -999.000,9, -999.000,   -999.0,9,   -999.0,  -999.00,9,-999.0000,9,-999.0000,9,-999.0000,9,-999.0000,9,-999.0000,9,-999.0000,9,-999.0000,9,-999.0000,9,-999.0000,9,  28.6490,  28.6525,2
  33RR20070322,  I09N,   181,  1,     33,     33,2,20070422,1619,  9.3070,  86.5242, 3603,  88.3000,     88.3,  25.9412,  34.2540,2,  34.2548,2,    131.6,2,    125.5,2,     5.47,2,     7.14,2,     0.37,2,     0.65,2,    1.424,2,    0.918,2, -999.000,5,   2013.7,2,   2249.2,2,   7.9449,2,    25.00,   -999.0,9,  -999.00,9, -999.000,9, -999.000,-999.0000,9,-999.0000,  -999.00,9,  -999.00, -999.000,9, -999.000,   -999.0,9,   -999.0,  -999.00,9,-999.0000,9,-999.0000,9,-999.0000,9,-999.0000,9,-999.0000,9,-999.0000,9,-999.0000,9,-999.0000,9,-999.0000,9,  25.9216,  25.9219,2
  33RR20070322,  I09N,   181,  1,     32,     37,2,20070422,1619,  9.3070,  86.5242, 3603, 138.2000,    138.2,  20.3358,  34.8309,2,  34.8344,2,     37.0,2,     38.0,2,    17.50,2,    22.99,2,     0.03,2,     1.65,2,    1.147,2,    0.712,2, -999.000,5,   -999.0,9,   -999.0,9,-999.0000,9,  -999.00,   -999.0,9,  -999.00,9, -999.000,9, -999.000,-999.0000,9,-999.0000,  -999.00,9,  -999.00, -999.000,9, -999.000,   -999.0,9,   -999.0,  -999.00,9,-999.0000,9,-999.0000,9,-999.0000,9,-999.0000,9,-999.0000,9,-999.0000,9,-999.0000,9,-999.0000,9,-999.0000,9,  20.3100,  20.3757,2
  33RR20070322,  I09N,   181,  1,     31,     31,2,20070422,1619,  9.3070,  86.5242, 3603, 163.1000,    163.1,  17.3595,  34.9136,2,  34.9115,2,     13.6,2,      9.9,2,    23.90,2,    28.03,2,     0.00,2,     2.04,2,    0.926,2,    0.556,2, -999.000,5,   2200.7,2,   2291.2,2,   7.5843,2,    25.00,   -999.0,9,  -999.00,9, -999.000,9, -999.000,-999.0000,9,-999.0000,  -999.00,9,  -999.00, -999.000,9, -999.000,   -999.0,9,   -999.0,  -999.00,9,-999.0000,9,-999.0000,9,-999.0000,9,-999.0000,9,-999.0000,9,-999.0000,9,-999.0000,9,-999.0000,9,-999.0000,9,  17.3322,  17.2956,2
  33RR20070322,  I09N,   181,  1,     30,     30,2,20070422,1619,  9.3070,  86.5242, 3603, 189.0000,    189.0,  15.3545,  34.9559,2,  34.9540,2,     15.2,2,     18.4,2,    27.59,2,    29.51,2,     0.00,2,     2.13,2,    0.806,2,    0.475,2, -999.000,5,   -999.0,9,   -999.0,9,-999.0000,9,  -999.00,   -999.0,9,  -999.00,9, -999.000,9, -999.000,-999.0000,9,-999.0000,  -999.00,9,  -999.00, -999.000,9, -999.000,   -999.0,9,   -999.0,  -999.00,9,-999.0000,9,-999.0000,9,-999.0000,9,-999.0000,9,-999.0000,9,-999.0000,9,-999.0000,9,-999.0000,9,-999.0000,9,  15.3254,  15.3414,2
  33RR20070322,  I09N,   181,  1,     29,     29,2,20070422,1619,  9.3070,  86.5242, 3603, 238.8000,    238.8,  13.3307,  35.0251,2,  35.0215,2,     11.9,2,     12.3,2,    30.69,2,    31.54,2,     0.00,2,     2.27,2,    0.661,2,    0.377,2, -999.000,5,   2243.1,2,   2306.7,6,   7.5029,2,    25.00,   -999.0,9,  -999.00,9, -999.000,9, -999.000,-999.0000,9,-999.0000,  -999.00,9,  -999.00, -999.000,9, -999.000,   -999.0,9,   -999.0,  -999.00,9,-999.0000,9,-999.0000,9,-999.0000,9,-999.0000,9,-999.0000,9,-999.0000,9,-999.0000,9,-999.0000,9,-999.0000,9,  13.2972,  13.3216,2
  33RR20070322,  I09N,   181,  1,     28,     28,2,20070422,1619,  9.3070,  86.5242, 3603, 288.3000,    288.3,  12.4672,  35.0032,2,  34.9996,2,     11.0,2,     10.0,2,    35.55,2,    32.88,2,     0.00,2,     2.37,2,    0.459,2,    0.265,2, -999.000,5,   -999.0,9,   -999.0,9,-999.0000,9,  -999.00,   -999.0,9,  -999.00,9, -999.000,9, -999.000,-999.0000,9,-999.0000,  -999.00,9,  -999.00, -999.000,9, -999.000,   -999.0,9,   -999.0,  -999.00,9,-999.0000,9,-999.0000,9,-999.0000,9,-999.0000,9,-999.0000,9,-999.0000,9,-999.0000,9,-999.0000,9,-999.0000,9,  12.4285,  12.4706,2
  33RR20070322,  I09N,   181,  1,     27,     27,2,20070422,1619,  9.3070,  86.5242, 3603, 338.1000,    338.1,  11.7154,  35.0450,2,  35.0449,2,     13.3,2,     10.7,2,    35.53,2,    33.46,2,     0.00,2,     2.39,2, -999.000,9, -999.000,9, -999.000,9,   -999.0,9,   -999.0,9,-999.0000,9,  -999.00,   -999.0,9,  -999.00,9, -999.000,9, -999.000,-999.0000,9,-999.0000,  -999.00,9,  -999.00, -999.000,9, -999.000,   -999.0,9,   -999.0,  -999.00,9,-999.0000,9,-999.0000,9,-999.0000,9,-999.0000,9,-999.0000,9,-999.0000,9,-999.0000,9,-999.0000,9,-999.0000,9,  11.6717,  11.7113,2
  33RR20070322,  I09N,   181,  1,     26,     26,2,20070422,1619,  9.3070,  86.5242, 3603, 388.7000,    388.7,  11.0871,  35.0436,2,  35.0427,2,     13.3,2,     10.6,2,    38.84,2,    34.36,2,     0.00,2,     2.46,2,    0.350,2,    0.197,2, -999.000,5,   2267.7,2,   2320.4,6,   7.4529,2,    25.00,   -999.0,9,  -999.00,9, -999.000,9, -999.000,-999.0000,9,-999.0000,  -999.00,9,  -999.00, -999.000,9, -999.000,   -999.0,9,   -999.0,  -999.00,9,-999.0000,9,-999.0000,9,-999.0000,9,-999.0000,9,-999.0000,9,-999.0000,9,-999.0000,9,-999.0000,9,-999.0000,9,  11.0385,  11.0847,2
  33RR20070322,  I09N,   181,  1,     25,     25,2,20070422,1619,  9.3070,  86.5242, 3603, 438.1000,    438.1,  10.5778,  35.0476,2,  35.0456,2,     15.2,2,     16.7,2,    40.78,2,    34.66,2,     0.00,2,     2.48,2, -999.000,9, -999.000,9, -999.000,9,   -999.0,9,   -999.0,9,-999.0000,9,  -999.00,   -999.0,9,  -999.00,9, -999.000,9, -999.000,-999.0000,9,-999.0000,  -999.00,9,  -999.00, -999.000,9, -999.000,   -999.0,9,   -999.0,  -999.00,9,-999.0000,9,-999.0000,9,-999.0000,9,-999.0000,9,-999.0000,9,-999.0000,9,-999.0000,9,-999.0000,9,-999.0000,9,  10.5245,  10.5863,2
  33RR20070322,  I09N,   181,  1,     24,     24,2,20070422,1619,  9.3070,  86.5242, 3603, 488.7000,    488.7,  10.1707,  35.0393,2,  35.0384,2,     13.3,2,     12.4,2,    45.45,2,    35.59,2,     0.00,2,     2.57,2,    0.206,2,    0.117,2, -999.000,5,   -999.0,9,   -999.0,9,-999.0000,9,  -999.00,   -999.0,9,  -999.00,9, -999.000,9, -999.000,-999.0000,9,-999.0000,  -999.00,9,  -999.00, -999.000,9, -999.000,   -999.0,9,   -999.0,  -999.00,9,-999.0000,9,-999.0000,9,-999.0000,9,-999.0000,9,-999.0000,9,-999.0000,9,-999.0000,9,-999.0000,9,-999.0000,9,  10.1125,  10.1681,2
  33RR20070322,  I09N,   181,  1,     23,     23,2,20070422,1619,  9.3070,  86.5242, 3603, 573.3000,    573.3,   9.5668,  35.0229,2,  35.0212,2,     19.7,2,     21.1,2,    51.48,2,    35.74,2,     0.00,2,     2.59,2, -999.000,9, -999.000,9, -999.000,9,   -999.0,9,   -999.0,9,-999.0000,9,  -999.00,   -999.0,9,  -999.00,9, -999.000,9, -999.000,-999.0000,9,-999.0000,  -999.00,9,  -999.00, -999.000,9, -999.000,   -999.0,9,   -999.0,  -999.00,9,-999.0000,9,-999.0000,9,-999.0000,9,-999.0000,9,-999.0000,9,-999.0000,9,-999.0000,9,-999.0000,9,-999.0000,9,   9.5008,   9.5672,2
  33RR20070322,  I09N,   181,  1,     22,     22,2,20070422,1619,  9.3070,  86.5242, 3603, 674.1000,    674.1,   8.8052,  35.0003,2,  34.9994,2,     25.1,2,     24.6,2,    59.87,2,    36.43,2,     0.00,2,     2.66,2, -999.000,9, -999.000,9, -999.000,9,   -999.0,9,   -999.0,9,-999.0000,9,  -999.00,   -999.0,9,  -999.00,9, -999.000,9, -999.000,-999.0000,9,-999.0000,  -999.00,9,  -999.00, -999.000,9, -999.000,   -999.0,9,   -999.0,  -999.00,9,-999.0000,9,-999.0000,9,-999.0000,9,-999.0000,9,-999.0000,9,-999.0000,9,-999.0000,9,-999.0000,9,-999.0000,9,   8.7309,   8.7951,2
  33RR20070322,  I09N,   181,  1,     21,     21,2,20070422,1619,  9.3070,  86.5242, 3603, 774.4000,    774.4,   8.2325,  34.9825,2,  34.9817,2,     29.9,2,     30.3,2,    66.11,2,    36.68,2,     0.00,2,     2.69,2,    0.069,2,    0.039,2, -999.000,5,   2294.9,2,   2344.5,2,   7.4559,2,    25.00,   -999.0,9,  -999.00,9, -999.000,9, -999.000,-999.0000,9,-999.0000,  -999.00,9,  -999.00, -999.000,9, -999.000,   -999.0,9,   -999.0,  -999.00,9,-999.0000,9,-999.0000,9,-999.0000,9,-999.0000,9,-999.0000,9,-999.0000,9,-999.0000,9,-999.0000,9,-999.0000,9,   8.1499,   8.2211,2
  33RR20070322,  I09N,   181,  1,     20,     20,2,20070422,1619,  9.3070,  86.5242, 3603, 873.9000,    873.9,   7.5252,  34.9618,2,  34.9616,2,     36.4,2,     35.7,2,    73.95,2,    37.13,2,     0.00,2,     2.72,2, -999.000,9, -999.000,9, -999.000,9,   -999.0,9,   -999.0,9,-999.0000,9,  -999.00,   -999.0,9,  -999.00,9, -999.000,9, -999.000,-999.0000,9,-999.0000,  -999.00,9,  -999.00, -999.000,9, -999.000,   -999.0,9,   -999.0,  -999.00,9,-999.0000,9,-999.0000,9,-999.0000,9,-999.0000,9,-999.0000,9,-999.0000,9,-999.0000,9,-999.0000,9,-999.0000,9,   7.4360,   7.5279,2
  33RR20070322,  I09N,   181,  1,     19,     19,2,20070422,1619,  9.3070,  86.5242, 3603, 974.8000,    974.8,   6.9441,  34.9435,2,  34.9433,2,     41.8,2,     41.5,2,    80.22,2,    37.32,2,     0.00,2,     2.75,2,    0.024,2,    0.014,2, -999.000,5,   -999.0,9,   -999.0,9,-999.0000,9,  -999.00,   -999.0,9,  -999.00,9, -999.000,9, -999.000,-999.0000,9,-999.0000,  -999.00,9,  -999.00, -999.000,9, -999.000,   -999.0,9,   -999.0,  -999.00,9,-999.0000,9,-999.0000,9,-999.0000,9,-999.0000,9,-999.0000,9,-999.0000,9,-999.0000,9,-999.0000,9,-999.0000,9,   6.8482,   6.9443,2
  33RR20070322,  I09N,   181,  1,     18,     18,2,20070422,1619,  9.3070,  86.5242, 3603,1074.5000,   1074.5,   6.4023,  34.9235,2,  34.9226,2,     47.8,2,     48.1,2,    86.89,2,    37.42,2,     0.00,2,     2.76,2, -999.000,9, -999.000,9, -999.000,9,   -999.0,9,   -999.0,9,-999.0000,9,  -999.00,   -999.0,9,  -999.00,9, -999.000,9, -999.000,-999.0000,9,-999.0000,  -999.00,9,  -999.00, -999.000,9, -999.000,   -999.0,9,   -999.0,  -999.00,9,-999.0000,9,-999.0000,9,-999.0000,9,-999.0000,9,-999.0000,9,-999.0000,9,-999.0000,9,-999.0000,9,-999.0000,9,   6.3002,   6.4056,2
  33RR20070322,  I09N,   181,  1,     17,     17,2,20070422,1619,  9.3070,  86.5242, 3603,1174.7000,   1174.7,   5.9198,  34.9051,2,  34.9045,2,     54.8,2,     54.6,2,    91.61,2,    37.46,2,     0.00,2,     2.76,2, -999.000,9, -999.000,9, -999.000,9,   -999.0,9,   -999.0,9,-999.0000,9,  -999.00,   -999.0,9,  -999.00,9, -999.000,9, -999.000,-999.0000,9,-999.0000,  -999.00,9,  -999.00, -999.000,9, -999.000,   -999.0,9,   -999.0,  -999.00,9,-999.0000,9,-999.0000,9,-999.0000,9,-999.0000,9,-999.0000,9,-999.0000,9,-999.0000,9,-999.0000,9,-999.0000,9,   5.8116,   5.9173,2
  33RR20070322,  I09N,   181,  1,     16,     16,2,20070422,1619,  9.3070,  86.5242, 3603,1276.2000,   1276.2,   5.4087,  34.8851,2,  34.8850,2,     63.8,2,     64.5,2,    97.11,2,    37.21,2,     0.00,2,     2.73,2, -999.000,9, -999.000,9, -999.000,9,   -999.0,9,   -999.0,9,-999.0000,9,  -999.00,   -999.0,9,  -999.00,9, -999.000,9, -999.000,-999.0000,9,-999.0000,  -999.00,9,  -999.00, -999.000,9, -999.000,   -999.0,9,   -999.0,  -999.00,9,-999.0000,9,-999.0000,9,-999.0000,9,-999.0000,9,-999.0000,9,-999.0000,9,-999.0000,9,-999.0000,9,-999.0000,9,   5.2952,   5.4021,2
  33RR20070322,  I09N,   181,  1,     15,     15,2,20070422,1619,  9.3070,  86.5242, 3603,1376.0000,   1376.0,   4.9666,  34.8686,2,  34.8683,2,     71.0,2,     72.1,2,   102.05,2,    37.10,2,     0.00,2,     2.72,2, -999.000,9, -999.000,9, -999.000,9,   -999.0,9,   -999.0,9,-999.0000,9,  -999.00,   -999.0,9,  -999.00,9, -999.000,9, -999.000,-999.0000,9,-999.0000,  -999.00,9,  -999.00, -999.000,9, -999.000,   -999.0,9,   -999.0,  -999.00,9,-999.0000,9,-999.0000,9,-999.0000,9,-999.0000,9,-999.0000,9,-999.0000,9,-999.0000,9,-999.0000,9,-999.0000,9,   4.8478,   4.9712,2
  33RR20070322,  I09N,   181,  1,     14,     14,2,20070422,1619,  9.3070,  86.5242, 3603,1476.4000,   1476.4,   4.5217,  34.8526,2,  34.8525,2,     77.3,2,     78.7,2,   107.19,2,    37.04,2,     0.00,2,     2.72,2,    0.006,2,    0.003,2, -999.000,5,   -999.0,9,   -999.0,9,-999.0000,9,  -999.00,   -999.0,9,  -999.00,9, -999.000,9, -999.000,-999.0000,9,-999.0000,  -999.00,9,  -999.00, -999.000,9, -999.000,   -999.0,9,   -999.0,  -999.00,9,-999.0000,9,-999.0000,9,-999.0000,9,-999.0000,9,-999.0000,9,-999.0000,9,-999.0000,9,-999.0000,9,-999.0000,9,   4.3981,   4.5239,2
  33RR20070322,  I09N,   181,  1,     13,     13,2,20070422,1619,  9.3070,  86.5242, 3603,1577.3000,   1577.3,   4.0809,  34.8366,2,  34.8358,2,     85.0,2,     86.5,2,   112.14,2,    36.89,2,     0.00,2,     2.71,2, -999.000,9, -999.000,9, -999.000,9,   -999.0,9,   -999.0,9,-999.0000,9,  -999.00,   -999.0,9,  -999.00,9, -999.000,9, -999.000,-999.0000,9,-999.0000,  -999.00,9,  -999.00, -999.000,9, -999.000,   -999.0,9,   -999.0,  -999.00,9,-999.0000,9,-999.0000,9,-999.0000,9,-999.0000,9,-999.0000,9,-999.0000,9,-999.0000,9,-999.0000,9,-999.0000,9,   3.9530,   4.0802,2
  33RR20070322,  I09N,   181,  1,     12,     12,2,20070422,1619,  9.3070,  86.5242, 3603,1677.8000,   1677.8,   3.7320,  34.8222,2,  34.8224,2,     93.0,2,     94.0,2,   115.11,2,    36.63,2,     0.00,2,     2.68,2, -999.000,9, -999.000,9, -999.000,9,   -999.0,9,   -999.0,9,-999.0000,9,  -999.00,   -999.0,9,  -999.00,9, -999.000,9, -999.000,-999.0000,9,-999.0000,  -999.00,9,  -999.00, -999.000,9, -999.000,   -999.0,9,   -999.0,  -999.00,9,-999.0000,9,-999.0000,9,-999.0000,9,-999.0000,9,-999.0000,9,-999.0000,9,-999.0000,9,-999.0000,9,-999.0000,9,   3.5991,   3.7269,2
  33RR20070322,  I09N,   181,  1,     11,     11,2,20070422,1619,  9.3070,  86.5242, 3603,1778.8000,   1778.8,   3.4159,  34.8094,2,  34.8095,2,    100.1,2,    100.2,2,   119.09,2,    36.48,2,     0.00,2,     2.66,2,    0.004,2,    0.002,2, -999.000,5,   2328.3,2,   2396.5,2,   7.5070,2,    25.00,   -999.0,9,  -999.00,9, -999.000,9, -999.000,-999.0000,9,-999.0000,  -999.00,9,  -999.00, -999.000,9, -999.000,   -999.0,9,   -999.0,  -999.00,9,-999.0000,9,-999.0000,9,-999.0000,9,-999.0000,9,-999.0000,9,-999.0000,9,-999.0000,9,-999.0000,9,-999.0000,9,   3.2780,   3.4188,2
  33RR20070322,  I09N,   181,  1,     10,     10,2,20070422,1619,  9.3070,  86.5242, 3603,1980.6000,   1980.6,   2.9226,  34.7874,2,  34.7868,2,    111.9,2,    111.8,2,   125.45,2,    36.17,2,     0.00,2,     2.62,2, -999.000,9, -999.000,9, -999.000,9,   -999.0,9,   -999.0,9,-999.0000,9,  -999.00,   -999.0,9,  -999.00,9, -999.000,9, -999.000,-999.0000,9,-999.0000,  -999.00,9,  -999.00, -999.000,9, -999.000,   -999.0,9,   -999.0,  -999.00,9,-999.0000,9,-999.0000,9,-999.0000,9,-999.0000,9,-999.0000,9,-999.0000,9,-999.0000,9,-999.0000,9,-999.0000,9,   2.7734,   2.9221,2
  33RR20070322,  I09N,   181,  1,      9,      9,2,20070422,1619,  9.3070,  86.5242, 3603,2182.3000,   2182.3,   2.5439,  34.7702,2,  34.7695,2,    121.3,2,    120.9,2,   130.23,2,    35.86,2,     0.00,2,     2.59,2, -999.000,9, -999.000,9, -999.000,9,   -999.0,9,   -999.0,9,-999.0000,9,  -999.00,   -999.0,9,  -999.00,9, -999.000,9, -999.000,-999.0000,9,-999.0000,  -999.00,9,  -999.00, -999.000,9, -999.000,   -999.0,9,   -999.0,  -999.00,9,-999.0000,9,-999.0000,9,-999.0000,9,-999.0000,9,-999.0000,9,-999.0000,9,-999.0000,9,-999.0000,9,-999.0000,9,   2.3825,   2.5437,2
  33RR20070322,  I09N,   181,  1,      8,      8,2,20070422,1619,  9.3070,  86.5242, 3603,2434.6000,   2434.6,   2.2078,  34.7553,2,  34.7548,2,    130.3,2,    130.4,2,   133.83,2,    35.56,2,     0.00,2,     2.54,2, -999.000,9, -999.000,9, -999.000,9,   -999.0,9,   -999.0,9,-999.0000,9,  -999.00,   -999.0,9,  -999.00,9, -999.000,9, -999.000,-999.0000,9,-999.0000,  -999.00,9,  -999.00, -999.000,9, -999.000,   -999.0,9,   -999.0,  -999.00,9,-999.0000,9,-999.0000,9,-999.0000,9,-999.0000,9,-999.0000,9,-999.0000,9,-999.0000,9,-999.0000,9,-999.0000,9,   2.0292,   2.2079,2
  33RR20070322,  I09N,   181,  1,      7,      7,2,20070422,1619,  9.3070,  86.5242, 3603,2687.5000,   2687.5,   1.9447,  34.7438,2,  34.7438,2,    138.9,2,    138.9,2,   136.43,2,    35.20,2,     0.00,2,     2.51,2, -999.000,9, -999.000,9, -999.000,9,   -999.0,9,   -999.0,9,-999.0000,9,  -999.00,   -999.0,9,  -999.00,9, -999.000,9, -999.000,-999.0000,9,-999.0000,  -999.00,9,  -999.00, -999.000,9, -999.000,   -999.0,9,   -999.0,  -999.00,9,-999.0000,9,-999.0000,9,-999.0000,9,-999.0000,9,-999.0000,9,-999.0000,9,-999.0000,9,-999.0000,9,-999.0000,9,   1.7477,   1.9455,2
  33RR20070322,  I09N,   181,  1,      6,      6,2,20070422,1619,  9.3070,  86.5242, 3603,2939.5000,   2939.5,   1.7827,  34.7372,2,  34.7367,2,    147.1,2,    147.1,2,   137.23,2,    34.85,2,     0.00,2,     2.46,2, -999.000,9, -999.000,9, -999.000,9,   -999.0,9,   -999.0,9,-999.0000,9,  -999.00,   -999.0,9,  -999.00,9, -999.000,9, -999.000,-999.0000,9,-999.0000,  -999.00,9,  -999.00, -999.000,9, -999.000,   -999.0,9,   -999.0,  -999.00,9,-999.0000,9,-999.0000,9,-999.0000,9,-999.0000,9,-999.0000,9,-999.0000,9,-999.0000,9,-999.0000,9,-999.0000,9,   1.5652,   1.7834,2
  33RR20070322,  I09N,   181,  1,      5,      5,2,20070422,1619,  9.3070,  86.5242, 3603,3193.1000,   3193.1,   1.6402,  34.7310,2,  34.7308,2,    151.5,2,    152.1,2,   139.63,2,    34.69,2,     0.00,2,     2.44,2, -999.000,9, -999.000,9, -999.000,9,   -999.0,9,   -999.0,9,-999.0000,9,  -999.00,   -999.0,9,  -999.00,9, -999.000,9, -999.000,-999.0000,9,-999.0000,  -999.00,9,  -999.00, -999.000,9, -999.000,   -999.0,9,   -999.0,  -999.00,9,-999.0000,9,-999.0000,9,-999.0000,9,-999.0000,9,-999.0000,9,-999.0000,9,-999.0000,9,-999.0000,9,-999.0000,9,   1.4012,   1.6402,2