BOTTLE,20150630SIOCCHRJL
EXPOCODE,SECT_ID,STNNBR,CASTNO,SAMPNO,BTLNBR,BTLNBR_FLAG_W,DATE,TIME,LATITUDE,LONGITUDE,DEPTH,CTDRAW,CTDPRS,CTDTMP,CTDSAL,CTDSAL_FLAG_W,SALNTY,SALNTY_FLAG_W,CTDOXY,CTDOXY_FLAG_W,OXYGEN,OXYGEN_FLAG_W,SILCAT,SILCAT_FLAG_W,NITRAT,NITRAT_FLAG_W,NITRIT,NITRIT_FLAG_W,PHSPHT,PHSPHT_FLAG_W,CFC-11,CFC-11_FLAG_W,CFC-12,CFC-12_FLAG_W,CFC113,CFC113_FLAG_W,TCARBN,TCARBN_FLAG_W,ALKALI,ALKALI_FLAG_W,PH_SWS,PH_SWS_FLAG_W,PH_TMP,DOC,DOC_FLAG_W,TDN,TDN_FLAG_W,TRITUM,TRITUM_FLAG_W,TRITER,HELIUM,HELIUM_FLAG_W,HELIER,DELHE3,DELHE3_FLAG_W,DELHER,NEON,NEON_FLAG_W,NEONER,DELC14,DELC14_FLAG_W,C14ERR,DELC13,DELC13_FLAG_W,CDOM325,CDOM325_FLAG_W,CDOM340,CDOM340_FLAG_W,CDOM380,CDOM380_FLAG_W,CDOM412,CDOM412_FLAG_W,CDOM443,CDOM443_FLAG_W,CDOM490,CDOM490_FLAG_W,CDOM555,CDOM555_FLAG_W,CDOMSL,CDOMSL_FLAG_W,CDOMSN,CDOMSN_FLAG_W,THETA,SBE35,SBE35_FLAG_W
,,,,,,,,,,,METERS,,DBAR,ITS-90,PSS-78,,PSS-78,,UMOL/KG,,UMOL/KG,,UMOL/KG,,UMOL/KG,,UMOL/KG,,UMOL/KG,,PMOL/KG,,PMOL/KG,,PMOL/KG,,UMOL/KG,,UMOL/KG,,,,DEG C,UMOL/KG,,UMOL/KG,,TU,,TU,NMOL/KG,,NMOL/KG,PERCNT,,PERCNT,NMOL/KG,,NMOL/KG,/MILLE,,/MILLE,/MILLE,,1/M,,1/M,,1/M,,1/M,,1/M,,1/M,,1/M,,1/NM,,1/NM,,DEG C,ITS-90,
  33RR20070322,  I09N,   125,  1,      4,      4,2,20070407,0300, -8.2182,  95.0003, 5004,3836.0000,   3836.0,   1.2271,  34.7170,2,  34.7172,2,    186.9,2,    187.4,2,   129.31,2,    32.99,2,     0.00,2,     2.31,2, -999.000,9, -999.000,9, -999.000,9,   2288.1,2,   2403.2,2,   7.7338,4,    25.00,     40.2,2,  -999.00,9, -999.000,9, -999.000,-999.0000,9,-999.0000,  -999.00,9,  -999.00, -999.000,9, -999.000,   -999.0,9,   -999.0,  -999.00,9,   0.1287,2,   0.0900,2,   0.0500,2,   0.0357,2,   0.0112,2,   0.0017,3,  -0.0011,4,   0.0140,2,   0.0151,3,   0.9330,   1.2268,2
  33RR20070322,  I09N,   125,  1,      3,      3,2,20070407,0300, -8.2182,  95.0003, 5004,4243.4000,   4243.4,   1.1563,  34.7152,2,  34.7156,2,    193.6,2,    193.4,2,   128.11,2,    32.68,2,     0.00,2,     2.27,2, -999.000,9, -999.000,9, -999.000,9,   2284.0,2,   2399.7,2,   7.6230,2,    25.00,     41.0,2,  -999.00,9, -999.000,9, -999.000,-999.0000,9,-999.0000,  -999.00,9,  -999.00, -999.000,9, -999.000,   -999.0,9,   -999.0,  -999.00,9,   0.1238,2,   0.0857,2,   0.0471,2,   0.0331,2,   0.0093,2,   0.0008,3,  -0.0017,4,   0.0142,2,   0.0155,3,   0.8204,   1.1564,2
  33RR20070322,  I09N,   125,  1,      2,      2,2,20070407,0300, -8.2182,  95.0003, 5004,4651.6000,   4651.6,   1.1605,  34.7140,2,  34.7156,2,    197.1,2,    196.9,2,   126.51,2,    32.46,2,     0.00,2,     2.27,2,    0.004,2,    0.002,2, -999.000,5,   2278.7,2,   2392.6,2,   7.6120,2,    25.00,     41.1,2,  -999.00,9, -999.000,9, -999.000,-999.0000,9,-999.0000,  -999.00,9,  -999.00, -999.000,9, -999.000,   -999.0,9,   -999.0,  -999.00,9,-999.0000,5,-999.0000,5,-999.0000,5,-999.0000,5,-999.0000,5,-999.0000,5,-999.0000,5,-999.0000,5,-999.0000,5,   0.7785,   1.1602,2
  33RR20070322,  I09N,   125,  1,      1,      1,2,20070407,0300, -8.2182,  95.0003, 5004,5106.2000,   5106.2,   1.2044,  34.7138,2,  34.7136,2,    198.0,2,    198.1,2,   126.69,2,    32.31,2,     0.00,2,     2.26,2,    0.004,2,    0.002,2, -999.000,5,   2278.3,6,   2391.8,6,   7.6160,6,    25.00,     41.3,2,  -999.00,9, -999.000,9, -999.000,-999.0000,9,-999.0000,  -999.00,9,  -999.00, -999.000,9, -999.000,   -999.0,9,   -999.0,  -999.00,9,   0.1207,2,   0.0833,2,   0.0451,2,   0.0317,2,   0.0084,2,   0.0004,4,  -0.0018,4,   0.0142,2,   0.0158,3,   0.7671,   1.2040,2