BOTTLE,20150630SIOCCHRJL
EXPOCODE,SECT_ID,STNNBR,CASTNO,SAMPNO,BTLNBR,BTLNBR_FLAG_W,DATE,TIME,LATITUDE,LONGITUDE,DEPTH,CTDRAW,CTDPRS,CTDTMP,CTDSAL,CTDSAL_FLAG_W,SALNTY,SALNTY_FLAG_W,CTDOXY,CTDOXY_FLAG_W,OXYGEN,OXYGEN_FLAG_W,SILCAT,SILCAT_FLAG_W,NITRAT,NITRAT_FLAG_W,NITRIT,NITRIT_FLAG_W,PHSPHT,PHSPHT_FLAG_W,CFC-11,CFC-11_FLAG_W,CFC-12,CFC-12_FLAG_W,CFC113,CFC113_FLAG_W,TCARBN,TCARBN_FLAG_W,ALKALI,ALKALI_FLAG_W,PH_SWS,PH_SWS_FLAG_W,PH_TMP,DOC,DOC_FLAG_W,TDN,TDN_FLAG_W,TRITUM,TRITUM_FLAG_W,TRITER,HELIUM,HELIUM_FLAG_W,HELIER,DELHE3,DELHE3_FLAG_W,DELHER,NEON,NEON_FLAG_W,NEONER,DELC14,DELC14_FLAG_W,C14ERR,DELC13,DELC13_FLAG_W,CDOM325,CDOM325_FLAG_W,CDOM340,CDOM340_FLAG_W,CDOM380,CDOM380_FLAG_W,CDOM412,CDOM412_FLAG_W,CDOM443,CDOM443_FLAG_W,CDOM490,CDOM490_FLAG_W,CDOM555,CDOM555_FLAG_W,CDOMSL,CDOMSL_FLAG_W,CDOMSN,CDOMSN_FLAG_W,THETA,SBE35,SBE35_FLAG_W
,,,,,,,,,,,METERS,,DBAR,ITS-90,PSS-78,,PSS-78,,UMOL/KG,,UMOL/KG,,UMOL/KG,,UMOL/KG,,UMOL/KG,,UMOL/KG,,PMOL/KG,,PMOL/KG,,PMOL/KG,,UMOL/KG,,UMOL/KG,,,,DEG C,UMOL/KG,,UMOL/KG,,TU,,TU,NMOL/KG,,NMOL/KG,PERCNT,,PERCNT,NMOL/KG,,NMOL/KG,/MILLE,,/MILLE,/MILLE,,1/M,,1/M,,1/M,,1/M,,1/M,,1/M,,1/M,,1/NM,,1/NM,,DEG C,ITS-90,
  33RR20070322,  I09N,   184,  1,      4,      4,2,20070423,1104, 10.7722,  87.3440, 3374,2920.0000,   2920.0,   1.7827,  34.7370,2,  34.7371,2,    144.0,2,    144.7,2,   138.77,2,    35.28,2,     0.00,2,     2.45,2, -999.000,9, -999.000,9, -999.000,9,   2328.2,2,   2418.8,2,   7.5669,2,    25.00,     39.9,2,    36.41,2, -999.000,9, -999.000,-999.0000,9,-999.0000,  -999.00,9,  -999.00, -999.000,9, -999.000,   -999.0,9,   -999.0,  -999.00,9,-999.0000,9,-999.0000,9,-999.0000,9,-999.0000,9,-999.0000,9,-999.0000,9,-999.0000,9,-999.0000,9,-999.0000,9,   1.5671,   1.7823,2
  33RR20070322,  I09N,   184,  1,      3,      3,2,20070423,1104, 10.7722,  87.3440, 3374,3071.6000,   3071.6,   1.7035,  34.7336,2,  34.7331,2,    146.1,2,    144.2,2,   141.81,2,    35.32,2,     0.00,2,     2.46,2, -999.000,9, -999.000,9, -999.000,9,   2333.6,2,   2424.8,2,   7.5756,2,    25.00,     40.4,2,    36.42,2, -999.000,9, -999.000,-999.0000,9,-999.0000,  -999.00,9,  -999.00, -999.000,9, -999.000,   -999.0,9,   -999.0,  -999.00,9,-999.0000,9,-999.0000,9,-999.0000,9,-999.0000,9,-999.0000,9,-999.0000,9,-999.0000,9,-999.0000,9,-999.0000,9,   1.4750,   1.7029,2
  33RR20070322,  I09N,   184,  1,      2,      2,2,20070423,1104, 10.7722,  87.3440, 3374,3274.7000,   3274.7,   1.5729,  34.7286,2,  34.7276,2,    149.4,2,    150.7,2,   141.83,2,    35.05,2,     0.00,2,     2.42,2,    0.005,2,    0.002,2, -999.000,5,   2331.0,2,   2425.0,2,   7.5730,3,    25.00,     40.6,2,    36.37,2, -999.000,9, -999.000,-999.0000,9,-999.0000,  -999.00,9,  -999.00, -999.000,9, -999.000,   -999.0,9,   -999.0,  -999.00,9,-999.0000,9,-999.0000,9,-999.0000,9,-999.0000,9,-999.0000,9,-999.0000,9,-999.0000,9,-999.0000,9,-999.0000,9,   1.3274,   1.5737,2
  33RR20070322,  I09N,   184,  1,      1,      1,2,20070423,1104, 10.7722,  87.3440, 3374,3401.9000,   3401.9,   1.4710,  34.7254,2,  34.7254,2,    158.4,2,    158.4,2,   140.84,2,    34.77,2,     0.00,2,     2.38,2,    0.007,2,    0.003,2, -999.000,5,   2326.1,6,   2423.9,6,   7.6100,6,    25.00,     40.6,2,    35.97,2, -999.000,9, -999.000,-999.0000,9,-999.0000,  -999.00,9,  -999.00, -999.000,9, -999.000,   -999.0,9,   -999.0,  -999.00,9,-999.0000,9,-999.0000,9,-999.0000,9,-999.0000,9,-999.0000,9,-999.0000,9,-999.0000,9,-999.0000,9,-999.0000,9,   1.2152,   1.4706,2