BOTTLE,20150630SIOCCHRJL
EXPOCODE,SECT_ID,STNNBR,CASTNO,SAMPNO,BTLNBR,BTLNBR_FLAG_W,DATE,TIME,LATITUDE,LONGITUDE,DEPTH,CTDRAW,CTDPRS,CTDTMP,CTDSAL,CTDSAL_FLAG_W,SALNTY,SALNTY_FLAG_W,CTDOXY,CTDOXY_FLAG_W,OXYGEN,OXYGEN_FLAG_W,SILCAT,SILCAT_FLAG_W,NITRAT,NITRAT_FLAG_W,NITRIT,NITRIT_FLAG_W,PHSPHT,PHSPHT_FLAG_W,CFC-11,CFC-11_FLAG_W,CFC-12,CFC-12_FLAG_W,CFC113,CFC113_FLAG_W,TCARBN,TCARBN_FLAG_W,ALKALI,ALKALI_FLAG_W,PH_SWS,PH_SWS_FLAG_W,PH_TMP,DOC,DOC_FLAG_W,TDN,TDN_FLAG_W,TRITUM,TRITUM_FLAG_W,TRITER,HELIUM,HELIUM_FLAG_W,HELIER,DELHE3,DELHE3_FLAG_W,DELHER,NEON,NEON_FLAG_W,NEONER,DELC14,DELC14_FLAG_W,C14ERR,DELC13,DELC13_FLAG_W,CDOM325,CDOM325_FLAG_W,CDOM340,CDOM340_FLAG_W,CDOM380,CDOM380_FLAG_W,CDOM412,CDOM412_FLAG_W,CDOM443,CDOM443_FLAG_W,CDOM490,CDOM490_FLAG_W,CDOM555,CDOM555_FLAG_W,CDOMSL,CDOMSL_FLAG_W,CDOMSN,CDOMSN_FLAG_W,THETA,SBE35,SBE35_FLAG_W
,,,,,,,,,,,METERS,,DBAR,ITS-90,PSS-78,,PSS-78,,UMOL/KG,,UMOL/KG,,UMOL/KG,,UMOL/KG,,UMOL/KG,,UMOL/KG,,PMOL/KG,,PMOL/KG,,PMOL/KG,,UMOL/KG,,UMOL/KG,,,,DEG C,UMOL/KG,,UMOL/KG,,TU,,TU,NMOL/KG,,NMOL/KG,PERCNT,,PERCNT,NMOL/KG,,NMOL/KG,/MILLE,,/MILLE,/MILLE,,1/M,,1/M,,1/M,,1/M,,1/M,,1/M,,1/M,,1/NM,,1/NM,,DEG C,ITS-90,
  33RR20070322,  I09N,   105,  2,      4,      4,2,20070331,1551,-19.0835,  95.0018, 5353,4345.5000,   4345.5,   1.1619,  34.7160,2,  34.7151,2,    198.2,2,    198.5,2,   122.60,2,    32.38,2,     0.00,2,     2.28,2, -999.000,9, -999.000,9, -999.000,9,   2271.9,2,   2385.1,2,   7.6085,2,    25.00,     40.5,2,    34.04,2, -999.000,9, -999.000,-999.0000,9,-999.0000,  -999.00,9,  -999.00, -999.000,9, -999.000,   -999.0,9,   -999.0,  -999.00,9,-999.0000,9,-999.0000,9,-999.0000,9,-999.0000,9,-999.0000,9,-999.0000,9,-999.0000,9,-999.0000,9,-999.0000,9,   0.8146,   1.1621,2
  33RR20070322,  I09N,   105,  2,      3,      3,2,20070331,1551,-19.0835,  95.0018, 5353,4753.6000,   4753.6,   1.0862,  34.7123,2,  34.7106,2,    203.2,2,    203.3,2,   122.60,2,    32.23,2,     0.00,2,     2.25,2, -999.000,9, -999.000,9, -999.000,9,   2267.9,2,   2382.2,2,   7.6090,2,    25.00,     40.5,2,    34.17,2, -999.000,9, -999.000,-999.0000,9,-999.0000,  -999.00,9,  -999.00, -999.000,9, -999.000,   -999.0,9,   -999.0,  -999.00,9,-999.0000,9,-999.0000,9,-999.0000,9,-999.0000,9,-999.0000,9,-999.0000,9,-999.0000,9,-999.0000,9,-999.0000,9,   0.6948,   1.0861,2
  33RR20070322,  I09N,   105,  2,      2,      2,2,20070331,1551,-19.0835,  95.0018, 5353,5264.8000,   5264.8,   1.1217,  34.7111,2,  34.7098,2,    204.0,2,    204.2,2,   122.40,2,    32.18,2,     0.00,2,     2.25,2, -999.000,9, -999.000,9, -999.000,9,   2265.8,2,   2382.0,2,   7.6090,2,    25.00,     40.5,2,    33.82,2, -999.000,9, -999.000,-999.0000,9,-999.0000,  -999.00,9,  -999.00, -999.000,9, -999.000,   -999.0,9,   -999.0,  -999.00,9,-999.0000,9,-999.0000,9,-999.0000,9,-999.0000,9,-999.0000,9,-999.0000,9,-999.0000,9,-999.0000,9,-999.0000,9,   0.6679,   1.1215,2
  33RR20070322,  I09N,   105,  2,      1,      1,2,20070331,1551,-19.0835,  95.0018, 5353,5427.5000,   5427.5,   1.1419,  34.7108,2,  34.7099,2,    203.1,2,    204.1,2,   122.61,2,    32.28,2,     0.00,2,     2.25,2, -999.000,9, -999.000,9, -999.000,9,   2267.8,6,   2384.7,6,   7.8459,3,    25.00,     40.6,2,    33.78,2, -999.000,9, -999.000,-999.0000,9,-999.0000,  -999.00,9,  -999.00, -999.000,9, -999.000,   -999.0,9,   -999.0,  -999.00,9,-999.0000,9,-999.0000,9,-999.0000,9,-999.0000,9,-999.0000,9,-999.0000,9,-999.0000,9,-999.0000,9,-999.0000,9,   0.6672,   1.1420,2