BOTTLE,20150630SIOCCHRJL
EXPOCODE,SECT_ID,STNNBR,CASTNO,SAMPNO,BTLNBR,BTLNBR_FLAG_W,DATE,TIME,LATITUDE,LONGITUDE,DEPTH,CTDRAW,CTDPRS,CTDTMP,CTDSAL,CTDSAL_FLAG_W,SALNTY,SALNTY_FLAG_W,CTDOXY,CTDOXY_FLAG_W,OXYGEN,OXYGEN_FLAG_W,SILCAT,SILCAT_FLAG_W,NITRAT,NITRAT_FLAG_W,NITRIT,NITRIT_FLAG_W,PHSPHT,PHSPHT_FLAG_W,CFC-11,CFC-11_FLAG_W,CFC-12,CFC-12_FLAG_W,CFC113,CFC113_FLAG_W,TCARBN,TCARBN_FLAG_W,ALKALI,ALKALI_FLAG_W,PH_SWS,PH_SWS_FLAG_W,PH_TMP,DOC,DOC_FLAG_W,TDN,TDN_FLAG_W,TRITUM,TRITUM_FLAG_W,TRITER,HELIUM,HELIUM_FLAG_W,HELIER,DELHE3,DELHE3_FLAG_W,DELHER,NEON,NEON_FLAG_W,NEONER,DELC14,DELC14_FLAG_W,C14ERR,DELC13,DELC13_FLAG_W,CDOM325,CDOM325_FLAG_W,CDOM340,CDOM340_FLAG_W,CDOM380,CDOM380_FLAG_W,CDOM412,CDOM412_FLAG_W,CDOM443,CDOM443_FLAG_W,CDOM490,CDOM490_FLAG_W,CDOM555,CDOM555_FLAG_W,CDOMSL,CDOMSL_FLAG_W,CDOMSN,CDOMSN_FLAG_W,THETA,SBE35,SBE35_FLAG_W
,,,,,,,,,,,METERS,,DBAR,ITS-90,PSS-78,,PSS-78,,UMOL/KG,,UMOL/KG,,UMOL/KG,,UMOL/KG,,UMOL/KG,,UMOL/KG,,PMOL/KG,,PMOL/KG,,PMOL/KG,,UMOL/KG,,UMOL/KG,,,,DEG C,UMOL/KG,,UMOL/KG,,TU,,TU,NMOL/KG,,NMOL/KG,PERCNT,,PERCNT,NMOL/KG,,NMOL/KG,/MILLE,,/MILLE,/MILLE,,1/M,,1/M,,1/M,,1/M,,1/M,,1/M,,1/M,,1/NM,,1/NM,,DEG C,ITS-90,
  33RR20070322,  I09N,   183,  2,     36,     38,2,20070423,0528, 10.2993,  87.0623, 3455,   1.6000,      1.6,  30.6038,  33.0259,2,  33.0295,2,    196.2,2,    196.7,2,     1.79,2,     0.06,2,     0.00,2,     0.02,2,    1.532,2,    0.985,2, -999.000,5,   1883.8,6,   2195.8,2,   8.0910,6,    25.00,   -999.0,9,  -999.00,9,    0.874,2,    0.014,   1.7200,2,   0.0005,    -0.90,2,     0.18,    6.712,2,    0.008,   -999.0,9,   -999.0,  -999.00,9,-999.0000,9,-999.0000,9,-999.0000,9,-999.0000,9,-999.0000,9,-999.0000,9,-999.0000,9,-999.0000,9,-999.0000,9,  30.6034,  30.5486,2
  33RR20070322,  I09N,   183,  2,     35,     35,2,20070423,0528, 10.2993,  87.0623, 3455,  28.9000,     28.9,  29.2548,  33.0862,2,  33.0830,2,    201.2,2,    200.6,2,     1.69,2,     0.06,2,     0.00,2,     0.02,2,    1.566,2,    1.016,2, -999.000,5,   -999.0,9,   -999.0,9,-999.0000,9,  -999.00,   -999.0,9,  -999.00,9,    0.922,2,    0.014,   1.7340,2,   0.0002,    -1.26,2,     0.19,    6.738,2,    0.009,   -999.0,9,   -999.0,  -999.00,9,-999.0000,9,-999.0000,9,-999.0000,9,-999.0000,9,-999.0000,9,-999.0000,9,-999.0000,9,-999.0000,9,-999.0000,9,  29.2478,  29.2556,2
  33RR20070322,  I09N,   183,  2,     34,   9419,2,20070423,0528, 10.2993,  87.0623, 3455,  54.4000,     54.4,  27.9778,  33.3255,2,  33.3121,2,    208.9,2,    208.6,2,     1.41,2,     0.06,2,     0.00,2,     0.03,2,    1.633,2,    1.042,2, -999.000,5,   1891.0,2,   2204.9,6,   8.1021,2,    25.00,   -999.0,9,  -999.00,9,    0.884,2,    0.014,   1.7060,2,   0.0008,    -1.49,2,     0.18,    6.714,2,    0.006,   -999.0,9,   -999.0,  -999.00,9,-999.0000,9,-999.0000,9,-999.0000,9,-999.0000,9,-999.0000,9,-999.0000,9,-999.0000,9,-999.0000,9,-999.0000,9,  27.9651,  27.9593,2
  33RR20070322,  I09N,   183,  2,     33,     33,2,20070423,0528, 10.2993,  87.0623, 3455,  78.1000,     78.1,  28.6544,  34.5819,2,  34.5846,2,    199.8,2,    195.0,2,     1.11,2,     0.06,2,     0.00,2,     0.14,2,    1.555,2,    0.994,2, -999.000,5,   -999.0,9,   -999.0,9,-999.0000,9,  -999.00,   -999.0,9,  -999.00,9,    0.635,2,    0.015,   1.7010,2,   0.0004,    -1.14,2,     0.19,    6.695,2,    0.007,   -999.0,9,   -999.0,  -999.00,9,-999.0000,9,-999.0000,9,-999.0000,9,-999.0000,9,-999.0000,9,-999.0000,9,-999.0000,9,-999.0000,9,-999.0000,9,  28.6357,  28.6507,2
  33RR20070322,  I09N,   183,  2,     32,     37,2,20070423,0528, 10.2993,  87.0623, 3455, 103.0000,    103.0,  23.3427,  34.7541,2,  34.7545,2,     49.3,2,     38.6,2,    12.04,2,    20.26,2,     0.09,2,     1.46,2,    1.274,2,    0.804,2, -999.000,5,   2120.9,2,   2270.6,2,   7.7334,2,    25.00,   -999.0,9,  -999.00,9,    0.467,2,    0.010,   1.7210,2,   0.0008,     1.25,2,     0.18,    6.937,2,    0.008,   -999.0,9,   -999.0,  -999.00,9,-999.0000,9,-999.0000,9,-999.0000,9,-999.0000,9,-999.0000,9,-999.0000,9,-999.0000,9,-999.0000,9,-999.0000,9,  23.3215,  23.2588,2
  33RR20070322,  I09N,   183,  2,     31,     31,2,20070423,0528, 10.2993,  87.0623, 3455, 153.3000,    153.3,  15.1126,  34.9337,2,  34.9311,2,     11.3,2,     15.1,2,    28.78,2,    29.64,2,     0.01,2,     2.16,2,    0.721,2,    0.423,2, -999.000,5,   -999.0,9,   -999.0,9,-999.0000,9,  -999.00,   -999.0,9,  -999.00,9,    0.239,2,    0.007,   1.7560,2,   0.0009,     4.68,2,     0.18,    7.307,2,    0.010,   -999.0,9,   -999.0,  -999.00,9,-999.0000,9,-999.0000,9,-999.0000,9,-999.0000,9,-999.0000,9,-999.0000,9,-999.0000,9,-999.0000,9,-999.0000,9,  15.0893,  15.1291,2
  33RR20070322,  I09N,   183,  2,     30,     30,2,20070423,0528, 10.2993,  87.0623, 3455, 203.2000,    203.2,  12.9543,  34.9776,2,  34.9760,2,     10.9,2,     11.1,2,    34.69,2,    32.25,2,     0.00,2,     2.34,2,    0.489,2,    0.286,2, -999.000,5,   -999.0,9,   -999.0,9,-999.0000,9,  -999.00,   -999.0,9,  -999.00,9,    0.154,2,    0.007,   1.7720,2,   0.0005,     5.57,2,     0.18,    7.358,2,    0.008,   -999.0,9,   -999.0,  -999.00,9,-999.0000,9,-999.0000,9,-999.0000,9,-999.0000,9,-999.0000,9,-999.0000,9,-999.0000,9,-999.0000,9,-999.0000,9,  12.9264,  12.9533,2
  33RR20070322,  I09N,   183,  2,     29,     29,2,20070423,0528, 10.2993,  87.0623, 3455, 253.6000,    253.6,  12.1634,  35.0016,2,  34.9992,2,     12.3,2,     12.1,2,    36.55,2,    32.99,2,     0.00,2,     2.37,2,    0.438,2,    0.251,2, -999.000,5,   -999.0,9,   -999.0,9,-999.0000,9,  -999.00,   -999.0,9,  -999.00,9,    0.350,2,    0.009,-999.0000,9,-999.0000,  -999.00,9,  -999.00, -999.000,9, -999.000,   -999.0,9,   -999.0,  -999.00,9,-999.0000,9,-999.0000,9,-999.0000,9,-999.0000,9,-999.0000,9,-999.0000,9,-999.0000,9,-999.0000,9,-999.0000,9,  12.1299,  12.1668,2
  33RR20070322,  I09N,   183,  2,     28,     28,2,20070423,0528, 10.2993,  87.0623, 3455, 302.8000,    302.8,  11.6119,  35.0158,2,  35.0142,2,     13.1,2,     13.4,2,    38.21,2,    33.64,2,     0.00,2,     2.41,2,    0.389,2,    0.221,2, -999.000,5,   -999.0,9,   -999.0,9,-999.0000,9,  -999.00,   -999.0,9,  -999.00,9,    0.251,2,    0.007,   1.8060,2,   0.0003,     5.82,2,     0.17,    7.556,2,    0.009,   -999.0,9,   -999.0,  -999.00,9,-999.0000,9,-999.0000,9,-999.0000,9,-999.0000,9,-999.0000,9,-999.0000,9,-999.0000,9,-999.0000,9,-999.0000,9,  11.5730,  11.6110,2
  33RR20070322,  I09N,   183,  2,     27,     27,2,20070423,0528, 10.2993,  87.0623, 3455, 353.5000,    353.5,  11.3208,  35.0220,2,  35.0205,2,     13.1,2,     13.5,2,    39.67,2,    34.03,2,     0.00,2,     2.44,2,    0.362,2,    0.205,2, -999.000,5,   -999.0,9,   -999.0,9,-999.0000,9,  -999.00,   -999.0,9,  -999.00,9,    0.101,2,    0.006,   1.7830,2,   0.0005,     5.86,2,     0.20,    7.488,2,    0.008,   -999.0,9,   -999.0,  -999.00,9,-999.0000,9,-999.0000,9,-999.0000,9,-999.0000,9,-999.0000,9,-999.0000,9,-999.0000,9,-999.0000,9,-999.0000,9,  11.2761,  11.3200,2
  33RR20070322,  I09N,   183,  2,     26,     26,2,20070423,0528, 10.2993,  87.0623, 3455, 403.3000,    403.3,  10.6813,  35.0318,2,  35.0295,2,     14.0,2,     13.7,2,    42.31,2,    34.82,2,     0.00,2,     2.49,2,    0.294,2,    0.166,2, -999.000,5,   -999.0,9,   -999.0,9,-999.0000,9,  -999.00,   -999.0,9,  -999.00,9,    0.118,2,    0.010,   1.7880,2,   0.0007,     6.16,2,     0.20,    7.515,2,    0.010,   -999.0,9,   -999.0,  -999.00,9,-999.0000,9,-999.0000,9,-999.0000,9,-999.0000,9,-999.0000,9,-999.0000,9,-999.0000,9,-999.0000,9,-999.0000,9,  10.6320,  10.6966,2
  33RR20070322,  I09N,   183,  2,     25,     25,2,20070423,0528, 10.2993,  87.0623, 3455, 452.8000,    452.8,  10.2118,  35.0290,2,  35.0283,2,     16.7,2,     17.4,2,    45.33,2,    35.16,2,     0.00,2,     2.52,2,    0.240,2,    0.136,2, -999.000,5,   -999.0,9,   -999.0,9,-999.0000,9,  -999.00,   -999.0,9,  -999.00,9,    0.187,2,    0.013,   1.7880,2,   0.0006,     6.43,2,     0.20,    7.546,2,    0.014,   -999.0,9,   -999.0,  -999.00,9,-999.0000,9,-999.0000,9,-999.0000,9,-999.0000,9,-999.0000,9,-999.0000,9,-999.0000,9,-999.0000,9,-999.0000,9,  10.1579,  10.2098,2
  33RR20070322,  I09N,   183,  2,     24,     24,2,20070423,0528, 10.2993,  87.0623, 3455, 504.1000,    504.1,   9.8466,  35.0269,2,  35.0256,2,     20.9,2,     20.2,2,    48.17,2,    35.36,2,     0.00,2,     2.55,2, -999.000,9, -999.000,9, -999.000,9,   2275.5,2,   2330.1,2,   7.4876,2,    25.00,   -999.0,9,  -999.00,9, -999.000,9, -999.000,-999.0000,9,-999.0000,  -999.00,9,  -999.00, -999.000,9, -999.000,   -999.0,9,   -999.0,  -999.00,9,-999.0000,9,-999.0000,9,-999.0000,9,-999.0000,9,-999.0000,9,-999.0000,9,-999.0000,9,-999.0000,9,-999.0000,9,   9.7877,   9.8396,2
  33RR20070322,  I09N,   183,  2,     23,     23,2,20070423,0528, 10.2993,  87.0623, 3455, 603.1000,    603.1,   9.0660,  35.0047,2,  35.0035,2,     23.6,2,     23.4,2,    56.65,2,    36.15,2,     0.00,2,     2.63,2,    0.120,2,    0.068,2, -999.000,5,   -999.0,9,   -999.0,9,-999.0000,9,  -999.00,   -999.0,9,  -999.00,9,    0.091,2,    0.005,   1.8190,2,   0.0005,     7.67,2,     0.18,    7.672,2,    0.008,   -999.0,9,   -999.0,  -999.00,9,-999.0000,9,-999.0000,9,-999.0000,9,-999.0000,9,-999.0000,9,-999.0000,9,-999.0000,9,-999.0000,9,-999.0000,9,   8.9986,   9.0650,2
  33RR20070322,  I09N,   183,  2,     22,     22,2,20070423,0528, 10.2993,  87.0623, 3455, 704.3000,    704.3,   8.5189,  34.9921,2,  34.9900,2,     28.2,2,     27.4,2,    62.62,2,    36.49,2,     0.00,2,     2.67,2, -999.000,9, -999.000,9, -999.000,9,   -999.0,9,   -999.0,9,-999.0000,9,  -999.00,   -999.0,9,  -999.00,9, -999.000,9, -999.000,-999.0000,9,-999.0000,  -999.00,9,  -999.00, -999.000,9, -999.000,   -999.0,9,   -999.0,  -999.00,9,-999.0000,9,-999.0000,9,-999.0000,9,-999.0000,9,-999.0000,9,-999.0000,9,-999.0000,9,-999.0000,9,-999.0000,9,   8.4426,   8.5209,2
  33RR20070322,  I09N,   183,  2,     21,     21,2,20070423,0528, 10.2993,  87.0623, 3455, 805.3000,    805.3,   7.9624,  34.9729,2,  34.9711,2,     36.3,2,     35.8,2,    68.59,2,    36.48,2,     0.00,2,     2.67,2,    0.076,2,    0.042,2, -999.000,5,   -999.0,9,   -999.0,9,-999.0000,9,  -999.00,   -999.0,9,  -999.00,9, -999.000,9, -999.000,   1.8240,2,   0.0006,     9.26,2,     0.19,    7.686,2,    0.008,   -999.0,9,   -999.0,  -999.00,9,-999.0000,9,-999.0000,9,-999.0000,9,-999.0000,9,-999.0000,9,-999.0000,9,-999.0000,9,-999.0000,9,-999.0000,9,   7.8780,   7.9585,2
  33RR20070322,  I09N,   183,  2,     20,     20,2,20070423,0528, 10.2993,  87.0623, 3455, 905.0000,    905.0,   7.1914,  34.9475,2,  34.9441,2,     43.0,2,     42.6,2,    77.51,2,    36.82,2,     0.00,2,     2.71,2, -999.000,9, -999.000,9, -999.000,9,   -999.0,9,   -999.0,9,-999.0000,9,  -999.00,   -999.0,9,  -999.00,9, -999.000,9, -999.000,-999.0000,9,-999.0000,  -999.00,9,  -999.00, -999.000,9, -999.000,   -999.0,9,   -999.0,  -999.00,9,-999.0000,9,-999.0000,9,-999.0000,9,-999.0000,9,-999.0000,9,-999.0000,9,-999.0000,9,-999.0000,9,-999.0000,9,   7.1011,   7.1882,2
  33RR20070322,  I09N,   183,  2,     19,     19,2,20070423,0528, 10.2993,  87.0623, 3455,1004.7000,   1004.7,   6.6338,  34.9291,2,  34.9278,2,     47.8,2,     47.3,2,    83.13,2,    37.12,2,     0.00,2,     2.73,2,    0.025,2,    0.013,2, -999.000,5,   2310.3,2,   2358.8,2,   7.4636,2,    25.00,   -999.0,9,  -999.00,9,    0.070,2,    0.015,-999.0000,9,-999.0000,  -999.00,9,  -999.00, -999.000,9, -999.000,   -999.0,9,   -999.0,  -999.00,9,-999.0000,9,-999.0000,9,-999.0000,9,-999.0000,9,-999.0000,9,-999.0000,9,-999.0000,9,-999.0000,9,-999.0000,9,   6.5371,   6.6398,2
  33RR20070322,  I09N,   183,  2,     18,     18,2,20070423,0528, 10.2993,  87.0623, 3455,1104.6000,   1104.6,   6.1241,  34.9104,2,  34.9097,2,     55.4,2,     55.2,2,    88.94,2,    37.07,2,     0.00,2,     2.73,2, -999.000,9, -999.000,9, -999.000,9,   -999.0,9,   -999.0,9,-999.0000,9,  -999.00,   -999.0,9,  -999.00,9, -999.000,9, -999.000,-999.0000,9,-999.0000,  -999.00,9,  -999.00, -999.000,9, -999.000,   -999.0,9,   -999.0,  -999.00,9,-999.0000,9,-999.0000,9,-999.0000,9,-999.0000,9,-999.0000,9,-999.0000,9,-999.0000,9,-999.0000,9,-999.0000,9,   6.0212,   6.1286,2
  33RR20070322,  I09N,   183,  2,     17,     17,2,20070423,0528, 10.2993,  87.0623, 3455,1206.0000,   1206.0,   5.6479,  34.8936,2,  34.8928,2,     61.8,2,     60.9,2,    94.58,2,    37.21,2,     0.00,2,     2.73,2,    0.013,2,    0.006,2, -999.000,5,   -999.0,9,   -999.0,9,-999.0000,9,  -999.00,   -999.0,9,  -999.00,9, -999.000,9, -999.000,-999.0000,9,-999.0000,  -999.00,9,  -999.00, -999.000,9, -999.000,   -999.0,9,   -999.0,  -999.00,9,-999.0000,9,-999.0000,9,-999.0000,9,-999.0000,9,-999.0000,9,-999.0000,9,-999.0000,9,-999.0000,9,-999.0000,9,   5.5390,   5.6475,2
  33RR20070322,  I09N,   183,  2,     16,     16,2,20070423,0528, 10.2993,  87.0623, 3455,1306.3000,   1306.3,   5.2544,  34.8781,2,  34.8768,2,     68.8,2,     68.8,2,    98.65,2,    37.05,2,     0.00,2,     2.72,2, -999.000,9, -999.000,9, -999.000,9,   -999.0,9,   -999.0,9,-999.0000,9,  -999.00,   -999.0,9,  -999.00,9, -999.000,9, -999.000,-999.0000,9,-999.0000,  -999.00,9,  -999.00, -999.000,9, -999.000,   -999.0,9,   -999.0,  -999.00,9,-999.0000,9,-999.0000,9,-999.0000,9,-999.0000,9,-999.0000,9,-999.0000,9,-999.0000,9,-999.0000,9,-999.0000,9,   5.1394,   5.2577,2
  33RR20070322,  I09N,   183,  2,     15,     15,2,20070423,0528, 10.2993,  87.0623, 3455,1406.7000,   1406.7,   4.8677,  34.8648,2,  34.8642,2,     74.2,2,     73.9,2,   103.12,2,    37.04,2,     0.00,2,     2.72,2,    0.008,2,    0.004,2, -999.000,5,   -999.0,9,   -999.0,9,-999.0000,9,  -999.00,   -999.0,9,  -999.00,9,    0.001,2,    0.004,   1.9410,3,   0.0053,    10.60,3,     0.19,    9.406,4,    0.027,   -999.0,9,   -999.0,  -999.00,9,-999.0000,9,-999.0000,9,-999.0000,9,-999.0000,9,-999.0000,9,-999.0000,9,-999.0000,9,-999.0000,9,-999.0000,9,   4.7470,   4.8704,2
  33RR20070322,  I09N,   183,  2,     14,     14,2,20070423,0528, 10.2993,  87.0623, 3455,1507.8000,   1507.8,   4.4996,  34.8521,2,  34.8511,2,     79.5,2,     79.2,2,   107.01,2,    37.03,2,     0.00,2,     2.71,2, -999.000,9, -999.000,9, -999.000,9,   -999.0,9,   -999.0,9,-999.0000,9,  -999.00,   -999.0,9,  -999.00,9, -999.000,9, -999.000,-999.0000,9,-999.0000,  -999.00,9,  -999.00, -999.000,9, -999.000,   -999.0,9,   -999.0,  -999.00,9,-999.0000,9,-999.0000,9,-999.0000,9,-999.0000,9,-999.0000,9,-999.0000,9,-999.0000,9,-999.0000,9,-999.0000,9,   4.3733,   4.4993,2
  33RR20070322,  I09N,   183,  2,     13,     13,2,20070423,0528, 10.2993,  87.0623, 3455,1607.4000,   1607.4,   4.0793,  34.8355,2,  34.8342,2,     86.0,2,     88.2,2,   111.89,2,    36.87,2,     0.00,2,     2.71,2,    0.005,2,    0.002,2, -999.000,5,   -999.0,9,   -999.0,9,-999.0000,9,  -999.00,   -999.0,9,  -999.00,9,    0.001,2,    0.004,   1.8770,2,   0.0006,    12.90,2,     0.18,    8.011,2,    0.009,   -999.0,9,   -999.0,  -999.00,9,-999.0000,9,-999.0000,9,-999.0000,9,-999.0000,9,-999.0000,9,-999.0000,9,-999.0000,9,-999.0000,9,-999.0000,9,   3.9486,   4.0786,2
  33RR20070322,  I09N,   183,  2,     12,     12,2,20070423,0528, 10.2993,  87.0623, 3455,1709.5000,   1709.5,   3.7083,  34.8207,2,  34.8192,2,     92.5,2,     93.7,2,   115.80,2,    36.72,2,     0.00,2,     2.68,2, -999.000,9, -999.000,9, -999.000,9,   -999.0,9,   -999.0,9,-999.0000,9,  -999.00,   -999.0,9,  -999.00,9, -999.000,9, -999.000,-999.0000,9,-999.0000,  -999.00,9,  -999.00, -999.000,9, -999.000,   -999.0,9,   -999.0,  -999.00,9,-999.0000,9,-999.0000,9,-999.0000,9,-999.0000,9,-999.0000,9,-999.0000,9,-999.0000,9,-999.0000,9,-999.0000,9,   3.5728,   3.7079,2
  33RR20070322,  I09N,   183,  2,     11,     11,2,20070423,0528, 10.2993,  87.0623, 3455,1809.5000,   1809.5,   3.3528,  34.8059,2,  34.8047,2,    101.0,2,    101.3,2,   119.71,2,    36.51,2,     0.00,2,     2.67,2,    0.007,2,    0.002,2, -999.000,5,   2329.6,2,   2394.4,2,   7.5164,2,    25.00,   -999.0,9,  -999.00,9, -999.000,9, -999.000,   1.8920,2,   0.0004,    13.10,2,     0.19,    8.129,2,    0.009,   -999.0,9,   -999.0,  -999.00,9,-999.0000,9,-999.0000,9,-999.0000,9,-999.0000,9,-999.0000,9,-999.0000,9,-999.0000,9,-999.0000,9,-999.0000,9,   3.2129,   3.3539,2
  33RR20070322,  I09N,   183,  2,     10,     10,2,20070423,0528, 10.2993,  87.0623, 3455,1910.9000,   1910.9,   3.0733,  34.7939,2,  34.7921,2,    107.1,2,    107.1,2,   124.43,2,    36.36,2,     0.00,2,     2.64,2, -999.000,9, -999.000,9, -999.000,9,   -999.0,9,   -999.0,9,-999.0000,9,  -999.00,   -999.0,9,  -999.00,9, -999.000,9, -999.000,-999.0000,9,-999.0000,  -999.00,9,  -999.00, -999.000,9, -999.000,   -999.0,9,   -999.0,  -999.00,9,-999.0000,9,-999.0000,9,-999.0000,9,-999.0000,9,-999.0000,9,-999.0000,9,-999.0000,9,-999.0000,9,-999.0000,9,   2.9282,   3.0733,2
  33RR20070322,  I09N,   183,  2,      9,      9,2,20070423,0528, 10.2993,  87.0623, 3455,2011.0000,   2011.0,   2.8351,  34.7833,2,  34.7820,2,    112.9,2,    113.4,2,   126.57,2,    36.20,2,     0.00,2,     2.62,2,    0.003,2,    0.002,2, -999.000,5,   -999.0,9,   -999.0,9,-999.0000,9,  -999.00,   -999.0,9,  -999.00,9, -999.000,9, -999.000,   1.8840,2,   0.0006,    13.01,2,     0.18,    8.008,2,    0.009,   -999.0,9,   -999.0,  -999.00,9,-999.0000,9,-999.0000,9,-999.0000,9,-999.0000,9,-999.0000,9,-999.0000,9,-999.0000,9,-999.0000,9,-999.0000,9,   2.6845,   2.8346,2
  33RR20070322,  I09N,   183,  2,      8,      8,2,20070423,0528, 10.2993,  87.0623, 3455,2262.9000,   2262.9,   2.4111,  34.7643,2,  34.7628,2,    123.2,2,    122.9,2,   132.30,2,    35.84,2,     0.00,2,     2.58,2, -999.000,9, -999.000,9, -999.000,9,   -999.0,9,   -999.0,9,-999.0000,9,  -999.00,   -999.0,9,  -999.00,9, -999.000,9, -999.000,-999.0000,9,-999.0000,  -999.00,9,  -999.00, -999.000,9, -999.000,   -999.0,9,   -999.0,  -999.00,9,-999.0000,9,-999.0000,9,-999.0000,9,-999.0000,9,-999.0000,9,-999.0000,9,-999.0000,9,-999.0000,9,-999.0000,9,   2.2446,   2.4081,2
  33RR20070322,  I09N,   183,  2,      7,      7,2,20070423,0528, 10.2993,  87.0623, 3455,2515.1000,   2515.1,   2.1141,  34.7511,2,  34.7500,2,    132.2,2,    132.3,2,   135.84,2,    35.54,2,     0.00,2,     2.54,2,    0.004,2,    0.002,2, -999.000,5,   -999.0,9,   -999.0,9,-999.0000,9,  -999.00,   -999.0,9,  -999.00,9, -999.000,9, -999.000,   1.9070,2,   0.0012,    13.48,2,     0.20,    8.170,2,    0.012,   -999.0,9,   -999.0,  -999.00,9,-999.0000,9,-999.0000,9,-999.0000,9,-999.0000,9,-999.0000,9,-999.0000,9,-999.0000,9,-999.0000,9,-999.0000,9,   1.9299,   2.1135,2
  33RR20070322,  I09N,   183,  2,      6,      6,2,20070423,0528, 10.2993,  87.0623, 3455,2768.1000,   2768.1,   1.9019,  34.7421,2,  34.7402,2,    139.1,2,    138.8,2,   137.79,2,    35.29,2,     0.00,2,     2.51,2, -999.000,9, -999.000,9, -999.000,9,   2332.1,2,   2417.4,6,   7.5618,2,    25.00,   -999.0,9,  -999.00,9, -999.000,9, -999.000,-999.0000,9,-999.0000,  -999.00,9,  -999.00, -999.000,9, -999.000,   -999.0,9,   -999.0,  -999.00,9,-999.0000,9,-999.0000,9,-999.0000,9,-999.0000,9,-999.0000,9,-999.0000,9,-999.0000,9,-999.0000,9,-999.0000,9,   1.6982,   1.9019,2
  33RR20070322,  I09N,   183,  2,      5,      5,2,20070423,0528, 10.2993,  87.0623, 3455,3022.2000,   3022.2,   1.7392,  34.7351,2,  34.7366,4,    144.3,2,    144.3,2,   139.94,2,    35.08,2,     0.00,2,     2.48,2,    0.005,2,    0.002,2, -999.000,5,   -999.0,9,   -999.0,9,-999.0000,9,  -999.00,   -999.0,9,  -999.00,9, -999.000,9, -999.000,   1.8980,2,   0.0004,    12.84,2,     0.18,    8.151,2,    0.010,   -999.0,9,   -999.0,  -999.00,9,-999.0000,9,-999.0000,9,-999.0000,9,-999.0000,9,-999.0000,9,-999.0000,9,-999.0000,9,-999.0000,9,-999.0000,9,   1.5147,   1.7400,2