BOTTLE,20150630SIOCCHRJL
EXPOCODE,SECT_ID,STNNBR,CASTNO,SAMPNO,BTLNBR,BTLNBR_FLAG_W,DATE,TIME,LATITUDE,LONGITUDE,DEPTH,CTDRAW,CTDPRS,CTDTMP,CTDSAL,CTDSAL_FLAG_W,SALNTY,SALNTY_FLAG_W,CTDOXY,CTDOXY_FLAG_W,OXYGEN,OXYGEN_FLAG_W,SILCAT,SILCAT_FLAG_W,NITRAT,NITRAT_FLAG_W,NITRIT,NITRIT_FLAG_W,PHSPHT,PHSPHT_FLAG_W,CFC-11,CFC-11_FLAG_W,CFC-12,CFC-12_FLAG_W,CFC113,CFC113_FLAG_W,TCARBN,TCARBN_FLAG_W,ALKALI,ALKALI_FLAG_W,PH_SWS,PH_SWS_FLAG_W,PH_TMP,DOC,DOC_FLAG_W,TDN,TDN_FLAG_W,TRITUM,TRITUM_FLAG_W,TRITER,HELIUM,HELIUM_FLAG_W,HELIER,DELHE3,DELHE3_FLAG_W,DELHER,NEON,NEON_FLAG_W,NEONER,DELC14,DELC14_FLAG_W,C14ERR,DELC13,DELC13_FLAG_W,CDOM325,CDOM325_FLAG_W,CDOM340,CDOM340_FLAG_W,CDOM380,CDOM380_FLAG_W,CDOM412,CDOM412_FLAG_W,CDOM443,CDOM443_FLAG_W,CDOM490,CDOM490_FLAG_W,CDOM555,CDOM555_FLAG_W,CDOMSL,CDOMSL_FLAG_W,CDOMSN,CDOMSN_FLAG_W,THETA,SBE35,SBE35_FLAG_W
,,,,,,,,,,,METERS,,DBAR,ITS-90,PSS-78,,PSS-78,,UMOL/KG,,UMOL/KG,,UMOL/KG,,UMOL/KG,,UMOL/KG,,UMOL/KG,,PMOL/KG,,PMOL/KG,,PMOL/KG,,UMOL/KG,,UMOL/KG,,,,DEG C,UMOL/KG,,UMOL/KG,,TU,,TU,NMOL/KG,,NMOL/KG,PERCNT,,PERCNT,NMOL/KG,,NMOL/KG,/MILLE,,/MILLE,/MILLE,,1/M,,1/M,,1/M,,1/M,,1/M,,1/M,,1/M,,1/NM,,1/NM,,DEG C,ITS-90,
  33RR20070322,  I09N,    97,  2,     36,     38,2,20070329,0243,-23.5593,  95.0058, 5172,   3.9000,      3.9,  23.7353,  35.6959,2,  35.6970,2,    213.9,2,    214.1,2,     1.99,2,     0.06,2,     0.00,2,     0.09,2,    1.844,2,    1.190,2, -999.000,5,   2014.7,6,   2336.1,6,   8.0355,6,    25.00,     73.5,2,  -999.00,9, -999.000,9, -999.000,-999.0000,9,-999.0000,  -999.00,9,  -999.00, -999.000,9, -999.000,   -999.0,9,   -999.0,  -999.00,9,   0.0524,2,   0.0318,2,   0.0147,2,   0.0119,2,  -0.0050,4,  -0.0047,4,  -0.0041,4,   0.0157,3,   0.0218,3,  23.7345,  23.7330,2
  33RR20070322,  I09N,    97,  2,     35,     35,2,20070329,0243,-23.5593,  95.0058, 5172,  21.8000,     21.8,  23.7256,  35.6975,2,  35.6988,2,    214.2,2,    214.6,2,     1.91,2,     0.07,2,     0.00,2,     0.08,2, -999.000,9, -999.000,9, -999.000,9,   2012.8,2,   2336.4,2,   8.0406,2,    25.00,     73.4,2,  -999.00,9, -999.000,9, -999.000,-999.0000,9,-999.0000,  -999.00,9,  -999.00, -999.000,9, -999.000,   -999.0,9,   -999.0,  -999.00,9,   0.0467,2,   0.0305,2,   0.0142,2,   0.0114,2,  -0.0054,4,  -0.0049,4,  -0.0043,4,   0.0154,2,   0.0202,2,  23.7210,  23.7195,2
  33RR20070322,  I09N,    97,  2,     34,   9419,2,20070329,0243,-23.5593,  95.0058, 5172,  47.1000,     47.1,  23.6923,  35.7002,2,  35.7019,2,    215.3,2,    214.5,2,     2.03,2,     0.07,2,     0.00,2,     0.09,2, -999.000,9, -999.000,9, -999.000,9,   2013.6,2,   2336.7,2,   8.0520,3,    25.00,     73.3,2,  -999.00,9, -999.000,9, -999.000,-999.0000,9,-999.0000,  -999.00,9,  -999.00, -999.000,9, -999.000,   -999.0,9,   -999.0,  -999.00,9,   0.0464,2,   0.0297,2,   0.0139,2,   0.0112,2,  -0.0055,4,  -0.0049,4,  -0.0042,4,   0.0156,2,   0.0207,2,  23.6825,  23.6720,2
  33RR20070322,  I09N,    97,  2,     33,     33,2,20070329,0243,-23.5593,  95.0058, 5172,  91.0000,     91.0,  20.7121,  35.8051,2,  35.8040,2,    228.9,2,    227.3,2,     1.95,2,     0.07,2,     0.00,2,     0.09,2,    2.152,2,    1.339,2, -999.000,5,   2037.6,2,   2343.6,2,   8.0126,2,    25.00,     69.4,2,  -999.00,9, -999.000,9, -999.000,-999.0000,9,-999.0000,  -999.00,9,  -999.00, -999.000,9, -999.000,   -999.0,9,   -999.0,  -999.00,9,   0.1097,2,   0.0752,2,   0.0354,2,   0.0256,2,   0.0028,2,  -0.0006,4,  -0.0021,4,   0.0147,3,   0.0178,3,  20.6948,  20.7108,2
  33RR20070322,  I09N,    97,  2,     32,     37,2,20070329,0243,-23.5593,  95.0058, 5172, 140.6000,    140.6,  19.5031,  35.8576,2,  35.8514,2,    211.9,2,    212.2,2,     2.67,2,     0.63,2,     0.21,2,     0.18,2, -999.000,9, -999.000,9, -999.000,9,   2064.4,2,   2347.8,2,   7.9742,2,    25.00,     62.9,2,  -999.00,9, -999.000,9, -999.000,-999.0000,9,-999.0000,  -999.00,9,  -999.00, -999.000,9, -999.000,   -999.0,9,   -999.0,  -999.00,9,   0.0988,2,   0.0710,2,   0.0366,2,   0.0286,2,   0.0038,3,  -0.0009,4,  -0.0021,4,   0.0139,2,   0.0154,3,  19.4775,  19.5000,2
  33RR20070322,  I09N,    97,  2,     31,     31,2,20070329,0243,-23.5593,  95.0058, 5172, 165.9000,    165.9,  18.9882,  35.8865,2,  35.8838,2,    217.5,2,    212.9,2,     2.59,2,     1.12,2,     0.09,2,     0.20,2, -999.000,9, -999.000,9, -999.000,9,   2070.4,2,   2350.0,2,   7.9743,2,    25.00,     60.0,2,  -999.00,9, -999.000,9, -999.000,-999.0000,9,-999.0000,  -999.00,9,  -999.00, -999.000,9, -999.000,   -999.0,9,   -999.0,  -999.00,9,   0.0920,2,   0.0655,2,   0.0338,2,   0.0264,2,   0.0027,3,  -0.0014,4,  -0.0025,4,   0.0138,2,   0.0155,3,  18.9585,  18.9844,2
  33RR20070322,  I09N,    97,  2,     30,     30,2,20070329,0243,-23.5593,  95.0058, 5172, 190.3000,    190.3,  18.6068,  35.9286,2,  35.9297,2,    224.0,2,    223.8,2,     1.92,2,     0.22,2,     0.10,2,     0.14,2,    2.354,2,    1.430,2, -999.000,5,   2069.3,2,   2353.1,2,   7.9830,3,    25.00,     56.0,2,  -999.00,9, -999.000,9, -999.000,-999.0000,9,-999.0000,  -999.00,9,  -999.00, -999.000,9, -999.000,   -999.0,9,   -999.0,  -999.00,9,   0.1006,2,   0.0715,2,   0.0373,2,   0.0285,2,   0.0040,2,  -0.0005,4,  -0.0020,4,   0.0138,3,   0.0154,4,  18.5732,  18.6096,2
  33RR20070322,  I09N,    97,  2,     29,     29,2,20070329,0243,-23.5593,  95.0058, 5172, 241.0000,    241.0,  17.5016,  35.8736,2,  35.8779,2,    216.9,2,    218.7,2,     1.85,2,     1.35,2,     0.02,2,     0.22,2, -999.000,9, -999.000,9, -999.000,9,   2084.3,2,   2350.4,2,   7.9530,2,    25.00,     53.5,2,  -999.00,9, -999.000,9, -999.000,-999.0000,9,-999.0000,  -999.00,9,  -999.00, -999.000,9, -999.000,   -999.0,9,   -999.0,  -999.00,9,   0.0815,2,   0.0569,2,   0.0280,2,   0.0208,2,  -0.0010,4,  -0.0036,4,  -0.0033,4,   0.0149,2,   0.0171,2,  17.4607,  17.5053,2
  33RR20070322,  I09N,    97,  2,     28,     28,2,20070329,0243,-23.5593,  95.0058, 5172, 291.2000,    291.2,  16.0689,  35.7308,2,  35.7456,2,    223.3,2,    222.8,2,     1.37,2,     2.30,2,     0.01,2,     0.29,2,    2.685,2,    1.607,2, -999.000,5,   2093.3,2,   2345.2,2,   7.9281,2,    25.00,     51.6,2,  -999.00,9, -999.000,9, -999.000,-999.0000,9,-999.0000,  -999.00,9,  -999.00, -999.000,9, -999.000,   -999.0,9,   -999.0,  -999.00,9,   0.0829,2,   0.0579,2,   0.0287,2,   0.0214,2,  -0.0008,4,  -0.0036,4,  -0.0034,4,   0.0150,2,   0.0171,2,  16.0223,  16.0561,2
  33RR20070322,  I09N,    97,  2,     27,     27,2,20070329,0243,-23.5593,  95.0058, 5172, 340.5000,    340.5,  14.3575,  35.4831,2,  35.4888,2,    223.2,2,    223.0,2,     2.08,2,     5.09,2,     0.00,2,     0.47,2, -999.000,9, -999.000,9, -999.000,9,   2103.6,2,   2329.8,2,   7.8925,2,    25.00,     50.5,2,  -999.00,9, -999.000,9, -999.000,-999.0000,9,-999.0000,  -999.00,9,  -999.00, -999.000,9, -999.000,   -999.0,9,   -999.0,  -999.00,9,   0.0838,2,   0.0585,2,   0.0296,2,   0.0219,2,   0.0000,4,  -0.0033,4,  -0.0035,4,   0.0148,2,   0.0168,2,  14.3070,  14.3505,2
  33RR20070322,  I09N,    97,  2,     26,     26,2,20070329,0243,-23.5593,  95.0058, 5172, 390.7000,    390.7,  13.0155,  35.2819,2,  35.2863,2,    230.7,2,    231.6,2,     2.00,2,     7.06,2,     0.00,2,     0.59,2,    3.100,2,    1.842,2,    0.093,3,   2108.8,2,   2319.9,2,   7.8580,3,    25.00,     48.8,2,  -999.00,9, -999.000,9, -999.000,-999.0000,9,-999.0000,  -999.00,9,  -999.00, -999.000,9, -999.000,   -999.0,9,   -999.0,  -999.00,9,   0.0774,2,   0.0528,2,   0.0262,2,   0.0193,2,  -0.0011,4,  -0.0038,4,  -0.0038,4,   0.0148,2,   0.0175,2,  12.9612,  13.0003,2
  33RR20070322,  I09N,    97,  2,     25,     25,2,20070329,0243,-23.5593,  95.0058, 5172, 439.8000,    439.8,  12.0390,  35.1259,2,  35.1439,2,    236.7,2,    236.0,2,     2.33,2,     8.71,2,     0.00,2,     0.68,2, -999.000,9, -999.000,9, -999.000,9,   2111.3,2,   2310.8,2,   7.8558,2,    25.00,     46.9,2,  -999.00,9, -999.000,9, -999.000,-999.0000,9,-999.0000,  -999.00,9,  -999.00, -999.000,9, -999.000,   -999.0,9,   -999.0,  -999.00,9,   0.0739,2,   0.0501,2,   0.0253,2,   0.0188,2,  -0.0011,4,  -0.0038,4,  -0.0039,4,   0.0145,2,   0.0172,2,  11.9808,  12.0253,2
  33RR20070322,  I09N,    97,  2,     24,     24,2,20070329,0243,-23.5593,  95.0058, 5172, 491.1000,    491.1,  11.0784,  34.9645,2,  34.9620,2,    240.5,2,    240.5,2,     2.84,2,    11.12,2,     0.00,2,     0.83,2,    3.435,2,    1.976,2,    0.126,3,   2114.3,2,   2302.4,2,   7.8292,2,    25.00,     45.4,2,  -999.00,9, -999.000,9, -999.000,-999.0000,9,-999.0000,  -999.00,9,  -999.00, -999.000,9, -999.000,   -999.0,9,   -999.0,  -999.00,9,   0.0722,2,   0.0482,2,   0.0250,2,   0.0188,2,  -0.0008,4,  -0.0038,4,  -0.0039,4,   0.0141,2,   0.0168,3,  11.0168,  11.0756,2
  33RR20070322,  I09N,    97,  2,     23,     23,2,20070329,0243,-23.5593,  95.0058, 5172, 576.5000,    576.5,   9.8840,  34.7700,2,  34.7738,2,    243.8,2,    243.5,2,     3.75,2,    14.11,2,     0.00,2,     1.02,2,    3.595,2,    2.042,2,    0.141,3,   2119.4,2,   2292.1,2,   7.7860,2,    25.00,     44.0,2,  -999.00,9, -999.000,9, -999.000,-999.0000,9,-999.0000,  -999.00,9,  -999.00, -999.000,9, -999.000,   -999.0,9,   -999.0,  -999.00,9,   0.0691,2,   0.0456,2,   0.0239,2,   0.0176,2,  -0.0013,4,  -0.0042,4,  -0.0042,4,   0.0142,2,   0.0171,3,   9.8165,   9.8838,2
  33RR20070322,  I09N,    97,  2,     22,     22,2,20070329,0243,-23.5593,  95.0058, 5172, 676.3000,    676.3,   8.9887,  34.6411,2,  34.6427,2,    236.6,2,    235.1,2,     5.66,2,    17.51,2,     0.00,2,     1.23,2,    3.484,2,    1.928,2,    0.152,3,   2128.6,2,   2287.5,2,   7.7764,2,    25.00,     43.0,2,  -999.00,9, -999.000,9, -999.000,-999.0000,9,-999.0000,  -999.00,9,  -999.00, -999.000,9, -999.000,   -999.0,9,   -999.0,  -999.00,9,   0.0735,2,   0.0485,2,   0.0257,2,   0.0192,2,  -0.0001,4,  -0.0034,4,  -0.0038,4,   0.0139,2,   0.0166,3,   8.9136,   8.9905,2
  33RR20070322,  I09N,    97,  2,     21,     21,2,20070329,0243,-23.5593,  95.0058, 5172, 776.4000,    776.4,   7.7997,  34.5283,2,  34.5303,2,    214.1,2,    213.3,2,    11.53,2,    22.41,2,     0.00,2,     1.54,2,    2.607,2,    1.382,2,    0.102,3,   2148.8,2,   2286.9,2,   7.7000,3,    25.00,     42.5,2,  -999.00,9, -999.000,9, -999.000,-999.0000,9,-999.0000,  -999.00,9,  -999.00, -999.000,9, -999.000,   -999.0,9,   -999.0,  -999.00,9,   0.0857,2,   0.0578,2,   0.0315,2,   0.0235,2,   0.0032,3,  -0.0014,4,  -0.0028,4,   0.0134,2,   0.0155,3,   7.7199,   7.8019,2
  33RR20070322,  I09N,    97,  2,     20,     20,2,20070329,0243,-23.5593,  95.0058, 5172, 876.3000,    876.3,   6.1030,  34.4565,2,  34.4567,2,    185.5,2,    182.6,2,    29.11,2,    28.62,2,     0.00,2,     1.98,2, -999.000,9, -999.000,9, -999.000,9,   2188.1,2,   2297.9,2,   7.6173,2,    25.00,     41.8,2,  -999.00,9, -999.000,9, -999.000,-999.0000,9,-999.0000,  -999.00,9,  -999.00, -999.000,9, -999.000,   -999.0,9,   -999.0,  -999.00,9,   0.1000,2,   0.0679,2,   0.0378,2,   0.0285,2,   0.0063,2,  -0.0008,4,  -0.0028,4,   0.0136,2,   0.0150,3,   6.0235,   6.1128,2
  33RR20070322,  I09N,    97,  2,     19,     19,2,20070329,0243,-23.5593,  95.0058, 5172, 977.7000,    977.7,   4.8620,  34.4673,2,  34.4667,2,    163.8,2,    160.6,2,    49.51,2,    32.41,2,     0.00,2,     2.29,2,    0.521,2,    0.262,2,    0.012,3,   2223.2,6,   2315.8,6,   7.5858,6,    25.00,     41.0,2,  -999.00,9, -999.000,9, -999.000,-999.0000,9,-999.0000,  -999.00,9,  -999.00, -999.000,9, -999.000,   -999.0,9,   -999.0,  -999.00,9,   0.1154,2,   0.0794,2,   0.0449,2,   0.0332,2,   0.0096,2,   0.0007,3,  -0.0022,4,   0.0136,2,   0.0148,3,   4.7818,   4.8673,2
  33RR20070322,  I09N,    97,  2,     18,     18,2,20070329,0243,-23.5593,  95.0058, 5172,1078.2000,   1078.2,   4.3613,  34.5257,2,  34.5290,2,    144.0,2,    139.4,2,    68.59,2,    34.44,2,     0.00,2,     2.46,2,    0.193,2,    0.089,2,    0.003,3,   2253.3,2,   2336.2,2,   7.5697,2,    25.00,     40.6,2,  -999.00,9, -999.000,9, -999.000,-999.0000,9,-999.0000,  -999.00,9,  -999.00, -999.000,9, -999.000,   -999.0,9,   -999.0,  -999.00,9,   0.1321,2,   0.0926,2,   0.0534,2,   0.0396,2,   0.0137,2,   0.0022,3,  -0.0016,4,   0.0138,3,   0.0143,3,   4.2761,   4.3612,2
  33RR20070322,  I09N,    97,  2,     17,     17,2,20070329,0243,-23.5593,  95.0058, 5172,1177.8000,   1177.8,   4.0220,  34.5720,2,  34.5735,2,    134.2,2,    131.5,2,    78.53,2,    35.12,2,     0.00,2,     2.52,2, -999.000,9, -999.000,9, -999.000,9,   2267.5,2,   2347.4,2,   7.5601,2,    25.00,     40.8,2,  -999.00,9, -999.000,9, -999.000,-999.0000,9,-999.0000,  -999.00,9,  -999.00, -999.000,9, -999.000,   -999.0,9,   -999.0,  -999.00,9,   0.1361,2,   0.0954,2,   0.0544,2,   0.0400,2,   0.0142,2,   0.0025,3,  -0.0013,4,   0.0138,3,   0.0145,3,   3.9310,   4.0239,2
  33RR20070322,  I09N,    97,  2,     16,     16,2,20070329,0243,-23.5593,  95.0058, 5172,1278.5000,   1278.5,   3.6242,  34.5939,2,  34.5940,2,    134.7,2,    136.1,2,    87.89,2,    34.95,2,     0.00,2,     2.51,2,    0.042,2,    0.014,2,    0.002,3,   2270.7,2,   2351.3,2,   7.5740,2,    25.00,     40.4,2,  -999.00,9, -999.000,9, -999.000,-999.0000,9,-999.0000,  -999.00,9,  -999.00, -999.000,9, -999.000,   -999.0,9,   -999.0,  -999.00,9,   0.1349,2,   0.0942,2,   0.0532,2,   0.0392,2,   0.0137,2,   0.0023,3,  -0.0013,4,   0.0138,3,   0.0146,3,   3.5283,   3.6251,2
  33RR20070322,  I09N,    97,  2,     15,     15,2,20070329,0243,-23.5593,  95.0058, 5172,1379.5000,   1379.5,   3.4375,  34.6280,2,  34.6290,2,    137.0,2,    135.8,2,    87.84,2,    35.05,2,     0.00,2,     2.51,2, -999.000,9, -999.000,9, -999.000,9,   2275.4,2,   2357.4,2,   7.5400,3,    25.00,     40.6,2,  -999.00,9, -999.000,9, -999.000,-999.0000,9,-999.0000,  -999.00,9,  -999.00, -999.000,9, -999.000,   -999.0,9,   -999.0,  -999.00,9,   0.1384,2,   0.0974,2,   0.0554,2,   0.0409,2,   0.0145,2,   0.0025,3,  -0.0013,4,   0.0139,3,   0.0145,3,   3.3348,   3.4368,2
  33RR20070322,  I09N,    97,  2,     14,     14,2,20070329,0243,-23.5593,  95.0058, 5172,1481.4000,   1481.4,   3.2438,  34.6495,2,  34.6504,2,    138.4,2,    138.4,2,    91.19,2,    34.78,2,     0.00,2,     2.50,2, -999.000,9, -999.000,9, -999.000,9,   2278.6,2,   2361.9,2,   7.5752,2,    25.00,     40.6,2,  -999.00,9, -999.000,9, -999.000,-999.0000,9,-999.0000,  -999.00,9,  -999.00, -999.000,9, -999.000,   -999.0,9,   -999.0,  -999.00,9,   0.1368,2,   0.0954,2,   0.0532,2,   0.0387,2,   0.0134,2,   0.0024,3,  -0.0012,4,   0.0139,2,   0.0149,3,   3.1345,   3.2435,2
  33RR20070322,  I09N,    97,  2,     13,     13,2,20070329,0243,-23.5593,  95.0058, 5172,1580.8000,   1580.8,   3.0804,  34.6757,2,  34.6759,2,    139.3,2,    139.7,2,    96.57,2,    34.72,2,     0.00,2,     2.48,2,    0.026,2,    0.007,2,    0.000,3,   2282.0,2,   2367.6,2,   7.5460,3,    25.00,     40.6,2,  -999.00,9, -999.000,9, -999.000,-999.0000,9,-999.0000,  -999.00,9,  -999.00, -999.000,9, -999.000,   -999.0,9,   -999.0,  -999.00,9,   0.1384,2,   0.0968,2,   0.0540,2,   0.0394,2,   0.0139,2,   0.0027,3,  -0.0010,4,   0.0139,3,   0.0148,3,   2.9645,   3.0801,2
  33RR20070322,  I09N,    97,  2,     12,     12,2,20070329,0243,-23.5593,  95.0058, 5172,1783.3000,   1783.3,   2.7108,  34.6992,2,  34.6985,2,    146.4,2,    147.3,2,   102.36,2,    34.24,2,     0.00,2,     2.44,2, -999.000,9, -999.000,9, -999.000,9,   2285.1,2,   2373.9,2,   7.5540,3,    25.00,     40.7,2,  -999.00,9, -999.000,9, -999.000,-999.0000,9,-999.0000,  -999.00,9,  -999.00, -999.000,9, -999.000,   -999.0,9,   -999.0,  -999.00,9,   0.1380,2,   0.0965,2,   0.0532,2,   0.0384,2,   0.0130,2,   0.0022,3,  -0.0013,4,   0.0141,2,   0.0151,3,   2.5823,   2.7120,2
  33RR20070322,  I09N,    97,  2,     11,     11,2,20070329,0243,-23.5593,  95.0058, 5172,1984.9000,   1984.9,   2.4462,  34.7159,2,  34.7168,2,    154.3,2,    154.4,2,   106.55,2,    33.87,2,     0.00,2,     2.41,2,    0.018,3,    0.001,2,    0.001,3,   2285.1,2,   2377.5,2,   7.5897,2,    25.00,     40.8,2,  -999.00,9, -999.000,9, -999.000,-999.0000,9,-999.0000,  -999.00,9,  -999.00, -999.000,9, -999.000,   -999.0,9,   -999.0,  -999.00,9,   0.1379,2,   0.0965,2,   0.0533,2,   0.0387,2,   0.0133,2,   0.0024,3,  -0.0012,4,   0.0140,2,   0.0150,3,   2.3040,   2.4476,2
  33RR20070322,  I09N,    97,  2,     10,     10,2,20070329,0243,-23.5593,  95.0058, 5172,2186.3000,   2186.3,   2.2123,  34.7241,2,  34.7239,2,    159.7,2,    160.0,2,   110.94,2,    33.61,2,     0.00,2,     2.39,2, -999.000,9, -999.000,9, -999.000,9,   2285.9,2,   2381.2,2,   7.6052,2,    25.00,     40.7,2,  -999.00,9, -999.000,9, -999.000,-999.0000,9,-999.0000,  -999.00,9,  -999.00, -999.000,9, -999.000,   -999.0,9,   -999.0,  -999.00,9,   0.1371,2,   0.0961,2,   0.0538,2,   0.0388,2,   0.0135,2,   0.0024,3,  -0.0012,4,   0.0140,2,   0.0148,3,   2.0561,   2.2122,2
  33RR20070322,  I09N,    97,  2,      9,      9,2,20070329,0243,-23.5593,  95.0058, 5172,2439.7000,   2439.7,   1.9858,  34.7273,2,  34.7264,2,    168.3,2,    168.6,2,   112.92,2,    33.08,2,     0.00,2,     2.35,2, -999.000,9, -999.000,9, -999.000,9,   2282.9,2,   2382.0,2,   7.6125,2,    25.00,     40.3,2,  -999.00,9, -999.000,9, -999.000,-999.0000,9,-999.0000,  -999.00,9,  -999.00, -999.000,9, -999.000,   -999.0,9,   -999.0,  -999.00,9,   0.1330,2,   0.0926,2,   0.0505,2,   0.0357,2,   0.0110,2,   0.0014,3,  -0.0016,4,   0.0144,2,   0.0155,3,   1.8109,   1.9846,2
  33RR20070322,  I09N,    97,  2,      8,      8,2,20070329,0243,-23.5593,  95.0058, 5172,2692.2000,   2692.2,   1.8168,  34.7287,2,  34.7298,2,    173.4,2,    173.1,2,   115.71,2,    32.97,2,     0.00,2,     2.33,2,    0.020,3,    0.004,2,   -0.002,3,   2282.7,2,   2384.8,2,   7.5870,2,    25.00,     40.9,2,  -999.00,9, -999.000,9, -999.000,-999.0000,9,-999.0000,  -999.00,9,  -999.00, -999.000,9, -999.000,   -999.0,9,   -999.0,  -999.00,9,   0.1342,2,   0.0937,2,   0.0517,2,   0.0370,2,   0.0122,2,   0.0019,3,  -0.0013,4,   0.0141,2,   0.0152,3,   1.6220,   1.8173,2
  33RR20070322,  I09N,    97,  2,      7,      7,2,20070329,0243,-23.5593,  95.0058, 5172,2945.8000,   2945.8,   1.6698,  34.7283,2,  34.7292,2,    178.6,2,    179.7,2,   116.88,2,    32.71,2,     0.00,2,     2.30,2, -999.000,9, -999.000,9, -999.000,9,   2279.8,2,   2385.6,2,   7.5910,3,    25.00,     40.5,2,  -999.00,9, -999.000,9, -999.000,-999.0000,9,-999.0000,  -999.00,9,  -999.00, -999.000,9, -999.000,   -999.0,9,   -999.0,  -999.00,9,   0.1314,2,   0.0914,2,   0.0503,2,   0.0360,2,   0.0115,2,   0.0015,3,  -0.0015,4,   0.0141,2,   0.0152,3,   1.4542,   1.6702,2
  33RR20070322,  I09N,    97,  2,      6,      6,2,20070329,0243,-23.5593,  95.0058, 5172,3280.0000,   3280.0,   1.4816,  34.7259,2,  34.7254,2,    185.0,2,    185.3,2,   119.47,2,    32.54,2,     0.00,2,     2.29,2, -999.000,9, -999.000,9, -999.000,9,   2278.2,2,   2387.2,2,   7.5970,2,    25.00,     40.2,2,  -999.00,9, -999.000,9, -999.000,-999.0000,9,-999.0000,  -999.00,9,  -999.00, -999.000,9, -999.000,   -999.0,9,   -999.0,  -999.00,9,   0.1280,2,   0.0885,2,   0.0483,2,   0.0342,2,   0.0104,2,   0.0012,3,  -0.0016,4,   0.0141,2,   0.0155,3,   1.2377,   1.4816,2
  33RR20070322,  I09N,    97,  2,      5,      5,2,20070329,0243,-23.5593,  95.0058, 5172,3686.0000,   3686.0,   1.2964,  34.7210,2,  34.7211,2,    190.1,2,    191.2,2,   122.26,2,    32.48,2,     0.00,2,     2.28,2,    0.032,3,    0.006,2,   -0.001,3,   2276.8,2,   2386.3,2,   7.5980,3,    25.00,     40.5,2,  -999.00,9, -999.000,9, -999.000,-999.0000,9,-999.0000,  -999.00,9,  -999.00, -999.000,9, -999.000,   -999.0,9,   -999.0,  -999.00,9,   0.1293,2,   0.0896,2,   0.0490,2,   0.0346,2,   0.0108,2,   0.0015,3,  -0.0014,4,   0.0141,2,   0.0154,3,   1.0161,   1.2963,2