BOTTLE,20150630SIOCCHRJL
EXPOCODE,SECT_ID,STNNBR,CASTNO,SAMPNO,BTLNBR,BTLNBR_FLAG_W,DATE,TIME,LATITUDE,LONGITUDE,DEPTH,CTDRAW,CTDPRS,CTDTMP,CTDSAL,CTDSAL_FLAG_W,SALNTY,SALNTY_FLAG_W,CTDOXY,CTDOXY_FLAG_W,OXYGEN,OXYGEN_FLAG_W,SILCAT,SILCAT_FLAG_W,NITRAT,NITRAT_FLAG_W,NITRIT,NITRIT_FLAG_W,PHSPHT,PHSPHT_FLAG_W,CFC-11,CFC-11_FLAG_W,CFC-12,CFC-12_FLAG_W,CFC113,CFC113_FLAG_W,TCARBN,TCARBN_FLAG_W,ALKALI,ALKALI_FLAG_W,PH_SWS,PH_SWS_FLAG_W,PH_TMP,DOC,DOC_FLAG_W,TDN,TDN_FLAG_W,TRITUM,TRITUM_FLAG_W,TRITER,HELIUM,HELIUM_FLAG_W,HELIER,DELHE3,DELHE3_FLAG_W,DELHER,NEON,NEON_FLAG_W,NEONER,DELC14,DELC14_FLAG_W,C14ERR,DELC13,DELC13_FLAG_W,CDOM325,CDOM325_FLAG_W,CDOM340,CDOM340_FLAG_W,CDOM380,CDOM380_FLAG_W,CDOM412,CDOM412_FLAG_W,CDOM443,CDOM443_FLAG_W,CDOM490,CDOM490_FLAG_W,CDOM555,CDOM555_FLAG_W,CDOMSL,CDOMSL_FLAG_W,CDOMSN,CDOMSN_FLAG_W,THETA,SBE35,SBE35_FLAG_W
,,,,,,,,,,,METERS,,DBAR,ITS-90,PSS-78,,PSS-78,,UMOL/KG,,UMOL/KG,,UMOL/KG,,UMOL/KG,,UMOL/KG,,UMOL/KG,,PMOL/KG,,PMOL/KG,,PMOL/KG,,UMOL/KG,,UMOL/KG,,,,DEG C,UMOL/KG,,UMOL/KG,,TU,,TU,NMOL/KG,,NMOL/KG,PERCNT,,PERCNT,NMOL/KG,,NMOL/KG,/MILLE,,/MILLE,/MILLE,,1/M,,1/M,,1/M,,1/M,,1/M,,1/M,,1/M,,1/NM,,1/NM,,DEG C,ITS-90,
  33RR20070322,  I09N,    95,  2,     36,     38,2,20070328,1035,-24.7325,  95.0140, 5169,   5.3000,      5.3,  23.7996,  35.7629,2,  35.7632,2,    213.1,2,    213.8,2,     2.29,2,     0.06,2,     0.00,2,     0.10,2,    1.917,2,    1.201,2, -999.000,5,   2023.2,6,   2341.8,6,   8.0431,2,    25.00,     75.2,2,  -999.00,9, -999.000,9, -999.000,-999.0000,9,-999.0000,  -999.00,9,  -999.00, -999.000,9, -999.000,   -999.0,9,   -999.0,  -999.00,9,-999.0000,9,-999.0000,9,-999.0000,9,-999.0000,9,-999.0000,9,-999.0000,9,-999.0000,9,-999.0000,9,-999.0000,9,  23.7985,  23.7953,2
  33RR20070322,  I09N,    95,  2,     35,     35,2,20070328,1035,-24.7325,  95.0140, 5169,  32.0000,     32.0,  23.8119,  35.7628,2,  35.7632,2,    214.0,2,    214.1,2,     2.07,2,     0.01,2,     0.00,2,     0.09,2,    1.837,2,    1.161,2, -999.000,5,   2020.8,2,   2341.6,2,   8.0510,6,    25.00,     75.1,2,  -999.00,9, -999.000,9, -999.000,-999.0000,9,-999.0000,  -999.00,9,  -999.00, -999.000,9, -999.000,     50.2,2,      3.4,     0.99,2,-999.0000,9,-999.0000,9,-999.0000,9,-999.0000,9,-999.0000,9,-999.0000,9,-999.0000,9,-999.0000,9,-999.0000,9,  23.8052,  23.8068,2
  33RR20070322,  I09N,    95,  2,     34,   9419,2,20070328,1035,-24.7325,  95.0140, 5169,  57.3000,     57.3,  23.8133,  35.7626,2,  35.7635,2,    213.9,2,    214.2,2,     2.04,2,     0.01,2,     0.00,2,     0.09,2,    1.844,2,    1.182,2, -999.000,5,   2020.7,2,   2341.6,2,-999.0000,5,    25.00,     72.4,2,  -999.00,9, -999.000,9, -999.000,-999.0000,9,-999.0000,  -999.00,9,  -999.00, -999.000,9, -999.000,   -999.0,9,   -999.0,  -999.00,9,-999.0000,9,-999.0000,9,-999.0000,9,-999.0000,9,-999.0000,9,-999.0000,9,-999.0000,9,-999.0000,9,-999.0000,9,  23.8013,  23.8049,2
  33RR20070322,  I09N,    95,  2,     33,     33,2,20070328,1035,-24.7325,  95.0140, 5169,  82.1000,     82.1,  21.7755,  35.8183,2,  35.8177,2,    232.7,2,    233.3,2,     2.22,2,     0.01,2,     0.00,2,     0.08,2,    2.153,2,    1.302,2, -999.000,5,   2034.0,2,   2345.4,2,   8.0310,3,    25.00,     67.0,2,  -999.00,9, -999.000,9, -999.000,-999.0000,9,-999.0000,  -999.00,9,  -999.00, -999.000,9, -999.000,     52.1,2,      3.3,     1.03,2,-999.0000,9,-999.0000,9,-999.0000,9,-999.0000,9,-999.0000,9,-999.0000,9,-999.0000,9,-999.0000,9,-999.0000,9,  21.7593,  21.7768,2
  33RR20070322,  I09N,    95,  2,     32,     37,2,20070328,1035,-24.7325,  95.0140, 5169, 106.0000,    106.0,  20.4848,  35.8611,2,  35.8601,2,    231.8,2,    230.9,2,     1.99,2,     0.01,2,     0.00,2,     0.09,2,    2.248,2,    1.371,2, -999.000,5,   2043.8,2,   2347.9,2,-999.0000,5,    25.00,     64.9,2,  -999.00,9, -999.000,9, -999.000,-999.0000,9,-999.0000,  -999.00,9,  -999.00, -999.000,9, -999.000,   -999.0,9,   -999.0,  -999.00,9,-999.0000,9,-999.0000,9,-999.0000,9,-999.0000,9,-999.0000,9,-999.0000,9,-999.0000,9,-999.0000,9,-999.0000,9,  20.4648,  20.5176,2
  33RR20070322,  I09N,    95,  2,     31,     31,2,20070328,1035,-24.7325,  95.0140, 5169, 156.4000,    156.4,  18.7026,  35.8715,2,  35.8740,2,    213.0,2,    211.9,2,     2.16,2,     0.64,2,     0.15,2,     0.20,2, -999.000,5, -999.000,5, -999.000,5,   2074.1,2,   2349.4,2,-999.0000,5,    25.00,     58.8,2,  -999.00,9, -999.000,9, -999.000,-999.0000,9,-999.0000,  -999.00,9,  -999.00, -999.000,9, -999.000,     66.2,2,      3.1,     0.88,2,-999.0000,9,-999.0000,9,-999.0000,9,-999.0000,9,-999.0000,9,-999.0000,9,-999.0000,9,-999.0000,9,-999.0000,9,  18.6749,  18.7354,2
  33RR20070322,  I09N,    95,  2,     30,     30,2,20070328,1035,-24.7325,  95.0140, 5169, 205.4000,    205.4,  17.0995,  35.8019,2,  35.8044,2,    215.2,2,    219.6,2,     1.74,2,     1.28,2,     0.10,2,     0.25,2, -999.000,5, -999.000,5, -999.000,5,   2087.1,2,   2347.4,2,-999.0000,5,    25.00,     55.4,2,  -999.00,9, -999.000,9, -999.000,-999.0000,9,-999.0000,  -999.00,9,  -999.00, -999.000,9, -999.000,     66.2,2,      3.3,     1.04,2,-999.0000,9,-999.0000,9,-999.0000,9,-999.0000,9,-999.0000,9,-999.0000,9,-999.0000,9,-999.0000,9,-999.0000,9,  17.0653,  17.0892,2
  33RR20070322,  I09N,    95,  2,     29,     29,2,20070328,1035,-24.7325,  95.0140, 5169, 255.7000,    255.7,  15.6822,  35.6530,2,  35.6557,2,    219.6,2,    219.0,2,     1.91,2,     3.24,2,     0.01,2,     0.37,2,    2.752,2,    1.643,2, -999.000,5,   2097.2,2,   2339.4,2,   7.9120,2,    25.00,     53.6,2,  -999.00,9, -999.000,9, -999.000,-999.0000,9,-999.0000,  -999.00,9,  -999.00, -999.000,9, -999.000,     61.9,2,      3.5,     1.08,2,-999.0000,9,-999.0000,9,-999.0000,9,-999.0000,9,-999.0000,9,-999.0000,9,-999.0000,9,-999.0000,9,-999.0000,9,  15.6420,  15.6850,2
  33RR20070322,  I09N,    95,  2,     28,     28,2,20070328,1035,-24.7325,  95.0140, 5169, 307.0000,    307.0,  14.1816,  35.4563,2,  35.4531,2,    224.8,2,    223.7,2,     1.68,2,     5.44,2,     0.00,2,     0.50,2,    2.973,2,    1.754,2, -999.000,5,   2104.2,2,   2328.6,2,-999.0000,5,    25.00,     51.4,2,  -999.00,9, -999.000,9, -999.000,-999.0000,9,-999.0000,  -999.00,9,  -999.00, -999.000,9, -999.000,     54.8,2,      3.0,     1.15,2,-999.0000,9,-999.0000,9,-999.0000,9,-999.0000,9,-999.0000,9,-999.0000,9,-999.0000,9,-999.0000,9,-999.0000,9,  14.1365,  14.1593,2
  33RR20070322,  I09N,    95,  2,     27,     27,2,20070328,1035,-24.7325,  95.0140, 5169, 356.8000,    356.8,  12.9138,  35.2675,2,  35.2672,2,    231.2,2,    231.8,2,     1.86,2,     7.37,2,     0.00,2,     0.62,2,    3.119,2,    1.845,2, -999.000,5,   2108.7,2,   2317.6,2,   7.8550,2,    25.00,     49.9,2,  -999.00,9, -999.000,9, -999.000,-999.0000,9,-999.0000,  -999.00,9,  -999.00, -999.000,9, -999.000,     63.4,2,      3.4,     1.12,2,-999.0000,9,-999.0000,9,-999.0000,9,-999.0000,9,-999.0000,9,-999.0000,9,-999.0000,9,-999.0000,9,-999.0000,9,  12.8645,  12.9066,2
  33RR20070322,  I09N,    95,  2,     26,     26,2,20070328,1035,-24.7325,  95.0140, 5169, 407.3000,    407.3,  12.0871,  35.1301,2,  35.1301,2,    234.8,2,    236.6,2,     2.23,2,     8.97,2,     0.00,2,     0.70,2,    3.289,2,    1.897,2, -999.000,5,   2114.5,2,   2310.9,2,-999.0000,5,    25.00,     47.8,2,  -999.00,9, -999.000,9, -999.000,-999.0000,9,-999.0000,  -999.00,9,  -999.00, -999.000,9, -999.000,     59.3,2,      3.3,     1.19,2,-999.0000,9,-999.0000,9,-999.0000,9,-999.0000,9,-999.0000,9,-999.0000,9,-999.0000,9,-999.0000,9,-999.0000,9,  12.0332,  12.0748,2
  33RR20070322,  I09N,    95,  2,     25,     25,2,20070328,1035,-24.7325,  95.0140, 5169, 457.1000,    457.1,  11.1354,  34.9725,2,  34.9601,2,    237.7,2,    238.5,2,     3.01,2,    11.30,2,     0.00,2,     0.85,2, -999.000,5, -999.000,5, -999.000,5,   2118.5,2,   2301.1,2,   7.7987,2,    25.00,     46.5,2,  -999.00,9, -999.000,9, -999.000,-999.0000,9,-999.0000,  -999.00,9,  -999.00, -999.000,9, -999.000,   -999.0,9,   -999.0,  -999.00,9,-999.0000,9,-999.0000,9,-999.0000,9,-999.0000,9,-999.0000,9,-999.0000,9,-999.0000,9,-999.0000,9,-999.0000,9,  11.0779,  11.1412,2
  33RR20070322,  I09N,    95,  2,     24,     24,2,20070328,1035,-24.7325,  95.0140, 5169, 506.2000,    506.2,  10.4226,  34.8575,2,  34.8686,4,    240.2,2,    241.1,2,     3.18,2,    12.81,2,     0.00,2,     0.94,2,    3.541,2,    2.003,2, -999.000,5,   2120.0,2,   2296.1,2,-999.0000,5,    25.00,     45.4,2,  -999.00,9, -999.000,9, -999.000,-999.0000,9,-999.0000,  -999.00,9,  -999.00, -999.000,9, -999.000,     55.4,2,      3.4,     1.25,2,-999.0000,9,-999.0000,9,-999.0000,9,-999.0000,9,-999.0000,9,-999.0000,9,-999.0000,9,-999.0000,9,-999.0000,9,  10.3615,  10.4267,2
  33RR20070322,  I09N,    95,  2,     23,     23,2,20070328,1035,-24.7325,  95.0140, 5169, 606.2000,    606.2,   9.4297,  34.7034,2,  34.7056,2,    241.2,2,    239.0,2,     4.36,2,    16.08,2,     0.00,2,     1.14,2,    3.594,2,    1.979,2, -999.000,5,   2128.4,2,   2289.4,2,   7.7486,2,    25.00,     44.4,2,  -999.00,9, -999.000,9, -999.000,-999.0000,9,-999.0000,  -999.00,9,  -999.00, -999.000,9, -999.000,     48.2,2,      3.3,     1.26,2,-999.0000,9,-999.0000,9,-999.0000,9,-999.0000,9,-999.0000,9,-999.0000,9,-999.0000,9,-999.0000,9,-999.0000,9,   9.3606,   9.4328,2
  33RR20070322,  I09N,    95,  2,     22,     22,2,20070328,1035,-24.7325,  95.0140, 5169, 707.0000,    707.0,   8.5543,  34.5956,2,  34.5983,2,    230.6,2,    225.1,2,     7.33,2,    19.66,2,     0.00,2,     1.37,2,    3.289,2,    1.732,2, -999.000,5,   2142.5,2,   -999.0,5,-999.0000,5,    25.00,     43.6,2,  -999.00,9, -999.000,9, -999.000,-999.0000,9,-999.0000,  -999.00,9,  -999.00, -999.000,9, -999.000,     37.7,2,      3.2,     1.23,2,-999.0000,9,-999.0000,9,-999.0000,9,-999.0000,9,-999.0000,9,-999.0000,9,-999.0000,9,-999.0000,9,-999.0000,9,   8.4779,   8.5575,2
  33RR20070322,  I09N,    95,  2,     21,     21,2,20070328,1035,-24.7325,  95.0140, 5169, 807.8000,    807.8,   7.1600,  34.4862,2,  34.4844,2,    208.7,2,    202.9,2,    15.91,2,    25.01,2,     0.00,2,     1.72,2,    2.176,2,    1.104,2, -999.000,5,   2166.1,2,   2286.2,2,   7.6556,2,    25.00,     43.0,2,  -999.00,9, -999.000,9, -999.000,-999.0000,9,-999.0000,  -999.00,9,  -999.00, -999.000,9, -999.000,     -9.5,2,      3.2,     1.15,2,-999.0000,9,-999.0000,9,-999.0000,9,-999.0000,9,-999.0000,9,-999.0000,9,-999.0000,9,-999.0000,9,-999.0000,9,   7.0807,   7.1523,2
  33RR20070322,  I09N,    95,  2,     20,     20,2,20070328,1035,-24.7325,  95.0140, 5169, 908.4000,    908.4,   5.4167,  34.4212,2,  34.4226,2,    192.1,2,    184.9,2,    32.12,2,    30.03,2,     0.00,2,     2.09,2,    1.139,2,    0.581,2, -999.000,5,   2198.1,2,   2297.0,2,-999.0000,5,    25.00,     42.4,2,  -999.00,9, -999.000,9, -999.000,-999.0000,9,-999.0000,  -999.00,9,  -999.00, -999.000,9, -999.000,    -63.5,2,      4.2,     0.97,2,-999.0000,9,-999.0000,9,-999.0000,9,-999.0000,9,-999.0000,9,-999.0000,9,-999.0000,9,-999.0000,9,-999.0000,9,   5.3389,   5.4083,2
  33RR20070322,  I09N,    95,  2,     19,     19,2,20070328,1035,-24.7325,  95.0140, 5169,1009.4000,   1009.4,   4.5909,  34.4497,2,  34.4485,2,    171.2,2,    166.4,2,    49.16,2,    32.75,2,     0.00,2,     2.31,2,    0.597,2,    0.306,2, -999.000,5,   2226.7,6,   2312.7,6,   7.5721,6,    25.00,     41.4,2,  -999.00,9, -999.000,9, -999.000,-999.0000,9,-999.0000,  -999.00,9,  -999.00, -999.000,9, -999.000,   -999.0,9,   -999.0,  -999.00,9,-999.0000,9,-999.0000,9,-999.0000,9,-999.0000,9,-999.0000,9,-999.0000,9,-999.0000,9,-999.0000,9,-999.0000,9,   4.5100,   4.5963,2
  33RR20070322,  I09N,    95,  2,     18,     18,2,20070328,1035,-24.7325,  95.0140, 5169,1107.8000,   1107.8,   4.2196,  34.4983,2,  34.4995,2,    152.7,2,    149.1,2,    63.41,2,    34.22,2,     0.00,2,     2.44,2,    0.270,2,    0.146,2, -999.000,5,   2251.2,2,   2327.3,2,-999.0000,5,    25.00,     40.7,2,  -999.00,9, -999.000,9, -999.000,-999.0000,9,-999.0000,  -999.00,9,  -999.00, -999.000,9, -999.000,   -127.4,2,      3.9,     0.60,2,-999.0000,9,-999.0000,9,-999.0000,9,-999.0000,9,-999.0000,9,-999.0000,9,-999.0000,9,-999.0000,9,-999.0000,9,   4.1330,   4.2239,2
  33RR20070322,  I09N,    95,  2,     17,     17,2,20070328,1035,-24.7325,  95.0140, 5169,1209.9000,   1209.9,   3.8709,  34.5423,2,  34.5431,2,    143.3,2,    140.9,2,    73.67,2,    35.06,2,     0.00,2,     2.50,2,    0.117,2,    0.067,2, -999.000,5,   2263.9,2,   2338.8,2,   7.5190,2,    25.00,     40.8,2,  -999.00,9, -999.000,9, -999.000,-999.0000,9,-999.0000,  -999.00,9,  -999.00, -999.000,9, -999.000,   -999.0,9,   -999.0,  -999.00,9,-999.0000,9,-999.0000,9,-999.0000,9,-999.0000,9,-999.0000,9,-999.0000,9,-999.0000,9,-999.0000,9,-999.0000,9,   3.7786,   3.8701,2
  33RR20070322,  I09N,    95,  2,     16,     16,2,20070328,1035,-24.7325,  95.0140, 5169,1310.1000,   1310.1,   3.6026,  34.5690,2,  34.5710,2,    141.3,2,    142.9,2,    79.09,2,    35.26,2,     0.00,2,     2.52,2,    0.058,2,    0.033,2, -999.000,5,   2270.6,2,   2346.1,2,-999.0000,5,    25.00,     40.6,2,  -999.00,9, -999.000,9, -999.000,-999.0000,9,-999.0000,  -999.00,9,  -999.00, -999.000,9, -999.000,   -161.0,2,      3.6,     0.47,2,-999.0000,9,-999.0000,9,-999.0000,9,-999.0000,9,-999.0000,9,-999.0000,9,-999.0000,9,-999.0000,9,-999.0000,9,   3.5043,   3.6018,2
  33RR20070322,  I09N,    95,  2,     15,     15,2,20070328,1035,-24.7325,  95.0140, 5169,1411.0000,   1411.0,   3.3270,  34.6037,2,  34.6034,2,    142.0,2,    141.8,2,    84.33,2,    35.11,2,     0.00,2,     2.51,2,    0.026,2,    0.014,2, -999.000,5,   2276.7,2,   2350.8,2,   7.5307,2,    25.00,     40.7,2,  -999.00,9, -999.000,9, -999.000,-999.0000,9,-999.0000,  -999.00,9,  -999.00, -999.000,9, -999.000,   -999.0,9,   -999.0,  -999.00,9,-999.0000,9,-999.0000,9,-999.0000,9,-999.0000,9,-999.0000,9,-999.0000,9,-999.0000,9,-999.0000,9,-999.0000,9,   3.2229,   3.3265,2
  33RR20070322,  I09N,    95,  2,     14,     14,2,20070328,1035,-24.7325,  95.0140, 5169,1510.6000,   1510.6,   3.0800,  34.6364,2,  34.6370,2,    144.3,2,    144.5,2,    88.96,2,    34.94,2,     0.00,2,     2.49,2, -999.000,9, -999.000,9, -999.000,9,   2281.0,2,   2356.6,2,-999.0000,5,    25.00,     40.3,2,  -999.00,9, -999.000,9, -999.000,-999.0000,9,-999.0000,  -999.00,9,  -999.00, -999.000,9, -999.000,   -159.0,2,      3.3,     0.44,2,-999.0000,9,-999.0000,9,-999.0000,9,-999.0000,9,-999.0000,9,-999.0000,9,-999.0000,9,-999.0000,9,-999.0000,9,   2.9702,   3.0789,2
  33RR20070322,  I09N,    95,  2,     13,     13,2,20070328,1035,-24.7325,  95.0140, 5169,1612.6000,   1612.6,   2.8644,  34.6628,2,  34.6637,2,    147.2,2,    148.2,2,    93.19,2,    34.62,2,     0.00,2,     2.46,2,    0.009,2,    0.003,2, -999.000,5,   2284.9,2,   2361.6,2,   7.5560,3,    25.00,     40.8,2,  -999.00,9, -999.000,9, -999.000,-999.0000,9,-999.0000,  -999.00,9,  -999.00, -999.000,9, -999.000,   -999.0,9,   -999.0,  -999.00,9,-999.0000,9,-999.0000,9,-999.0000,9,-999.0000,9,-999.0000,9,-999.0000,9,-999.0000,9,-999.0000,9,-999.0000,9,   2.7485,   2.8644,2
  33RR20070322,  I09N,    95,  2,     12,     12,2,20070328,1035,-24.7325,  95.0140, 5169,1812.9000,   1812.9,   2.5792,  34.6963,2,  34.6971,2,    153.4,2,    153.8,2,   100.06,2,    34.03,2,     0.00,2,     2.43,2, -999.000,9, -999.000,9, -999.000,9,   2286.0,2,   2373.0,2,-999.0000,5,    25.00,     41.0,2,  -999.00,9, -999.000,9, -999.000,-999.0000,9,-999.0000,  -999.00,9,  -999.00, -999.000,9, -999.000,   -999.0,9,   -999.0,  -999.00,9,-999.0000,9,-999.0000,9,-999.0000,9,-999.0000,9,-999.0000,9,-999.0000,9,-999.0000,9,-999.0000,9,-999.0000,9,   2.4499,   2.5796,2
  33RR20070322,  I09N,    95,  2,     11,     11,2,20070328,1035,-24.7325,  95.0140, 5169,2014.3000,   2014.3,   2.3449,  34.7158,2,  34.7164,2,    157.3,2,    159.2,2,   105.95,2,    33.87,2,     0.00,2,     2.40,2,    0.003,2,    0.001,2, -999.000,5,   2288.9,2,   -999.0,5,   7.5667,2,    25.00,     40.5,2,  -999.00,9, -999.000,9, -999.000,-999.0000,9,-999.0000,  -999.00,9,  -999.00, -999.000,9, -999.000,   -999.0,9,   -999.0,  -999.00,9,-999.0000,9,-999.0000,9,-999.0000,9,-999.0000,9,-999.0000,9,-999.0000,9,-999.0000,9,-999.0000,9,-999.0000,9,   2.2017,   2.3412,2
  33RR20070322,  I09N,    95,  2,     10,     10,2,20070328,1035,-24.7325,  95.0140, 5169,2266.9000,   2266.9,   2.0651,  34.7254,2,  34.7262,2,    165.3,2,    165.9,2,   110.81,2,    33.44,2,     0.00,2,     2.37,2, -999.000,9, -999.000,9, -999.000,9,   2289.3,2,   2378.7,2,-999.0000,5,    25.00,     41.0,2,  -999.00,9, -999.000,9, -999.000,-999.0000,9,-999.0000,  -999.00,9,  -999.00, -999.000,9, -999.000,   -999.0,9,   -999.0,  -999.00,9,-999.0000,9,-999.0000,9,-999.0000,9,-999.0000,9,-999.0000,9,-999.0000,9,-999.0000,9,-999.0000,9,-999.0000,9,   1.9043,   2.0646,2
  33RR20070322,  I09N,    95,  2,      9,      9,2,20070328,1035,-24.7325,  95.0140, 5169,2520.8000,   2520.8,   1.8859,  34.7279,2,  34.7294,4,    170.9,2,    171.1,2,   113.44,2,    33.33,2,     0.00,2,     2.35,2,    0.004,2,    0.000,2, -999.000,5,   2289.9,2,   2381.8,2,   7.5887,2,    25.00,     41.4,2,  -999.00,9, -999.000,9, -999.000,-999.0000,9,-999.0000,  -999.00,9,  -999.00, -999.000,9, -999.000,   -999.0,9,   -999.0,  -999.00,9,-999.0000,9,-999.0000,9,-999.0000,9,-999.0000,9,-999.0000,9,-999.0000,9,-999.0000,9,-999.0000,9,-999.0000,9,   1.7055,   1.8859,2
  33RR20070322,  I09N,    95,  2,      8,      8,2,20070328,1035,-24.7325,  95.0140, 5169,2774.7000,   2774.7,   1.7455,  34.7287,2,  34.7298,2,    176.9,2,    177.0,2,   115.26,2,    32.96,2,     0.00,2,     2.33,2, -999.000,9, -999.000,9, -999.000,9,   2287.3,2,   2382.5,2,-999.0000,5,    25.00,     40.7,2,  -999.00,9, -999.000,9, -999.000,-999.0000,9,-999.0000,  -999.00,9,  -999.00, -999.000,9, -999.000,   -999.0,9,   -999.0,  -999.00,9,-999.0000,9,-999.0000,9,-999.0000,9,-999.0000,9,-999.0000,9,-999.0000,9,-999.0000,9,-999.0000,9,-999.0000,9,   1.5444,   1.7450,2
  33RR20070322,  I09N,    95,  2,      7,      7,2,20070328,1035,-24.7325,  95.0140, 5169,3026.7000,   3026.7,   1.6192,  34.7279,2,  34.7296,4,    180.3,2,    180.2,2,   117.28,2,    32.95,2,     0.00,2,     2.32,2,    0.003,2,    0.000,2, -999.000,5,   2289.2,2,   2384.8,2,   7.5963,2,    25.00,     40.4,2,  -999.00,9, -999.000,9, -999.000,-999.0000,9,-999.0000,  -999.00,9,  -999.00, -999.000,9, -999.000,   -999.0,9,   -999.0,  -999.00,9,-999.0000,9,-999.0000,9,-999.0000,9,-999.0000,9,-999.0000,9,-999.0000,9,-999.0000,9,-999.0000,9,-999.0000,9,   1.3969,   1.6192,2
  33RR20070322,  I09N,    95,  2,      6,      6,2,20070328,1035,-24.7325,  95.0140, 5169,3433.1000,   3433.1,   1.3963,  34.7239,2,  34.7227,2,    186.7,2,    186.8,2,   120.94,2,    32.85,2,     0.00,2,     2.30,2, -999.000,9, -999.000,9, -999.000,9,   2286.0,2,   2386.6,2,-999.0000,5,    25.00,     40.2,2,  -999.00,9, -999.000,9, -999.000,-999.0000,9,-999.0000,  -999.00,9,  -999.00, -999.000,9, -999.000,   -999.0,9,   -999.0,  -999.00,9,-999.0000,9,-999.0000,9,-999.0000,9,-999.0000,9,-999.0000,9,-999.0000,9,-999.0000,9,-999.0000,9,-999.0000,9,   1.1392,   1.3967,2
  33RR20070322,  I09N,    95,  2,      5,      5,2,20070328,1035,-24.7325,  95.0140, 5169,3838.9000,   3838.9,   1.2093,  34.7189,2,  34.7199,2,    194.9,2,    195.0,2,   121.74,2,    32.63,2,     0.00,2,     2.27,2,    0.003,2,    0.001,2, -999.000,5,   2282.8,2,   2381.9,2,   7.6038,2,    25.00,     40.3,2,  -999.00,9, -999.000,9, -999.000,-999.0000,9,-999.0000,  -999.00,9,  -999.00, -999.000,9, -999.000,   -999.0,9,   -999.0,  -999.00,9,-999.0000,9,-999.0000,9,-999.0000,9,-999.0000,9,-999.0000,9,-999.0000,9,-999.0000,9,-999.0000,9,-999.0000,9,   0.9154,   1.2092,2