BOTTLE,20150630SIOCCHRJL
EXPOCODE,SECT_ID,STNNBR,CASTNO,SAMPNO,BTLNBR,BTLNBR_FLAG_W,DATE,TIME,LATITUDE,LONGITUDE,DEPTH,CTDRAW,CTDPRS,CTDTMP,CTDSAL,CTDSAL_FLAG_W,SALNTY,SALNTY_FLAG_W,CTDOXY,CTDOXY_FLAG_W,OXYGEN,OXYGEN_FLAG_W,SILCAT,SILCAT_FLAG_W,NITRAT,NITRAT_FLAG_W,NITRIT,NITRIT_FLAG_W,PHSPHT,PHSPHT_FLAG_W,CFC-11,CFC-11_FLAG_W,CFC-12,CFC-12_FLAG_W,CFC113,CFC113_FLAG_W,TCARBN,TCARBN_FLAG_W,ALKALI,ALKALI_FLAG_W,PH_SWS,PH_SWS_FLAG_W,PH_TMP,DOC,DOC_FLAG_W,TDN,TDN_FLAG_W,TRITUM,TRITUM_FLAG_W,TRITER,HELIUM,HELIUM_FLAG_W,HELIER,DELHE3,DELHE3_FLAG_W,DELHER,NEON,NEON_FLAG_W,NEONER,DELC14,DELC14_FLAG_W,C14ERR,DELC13,DELC13_FLAG_W,CDOM325,CDOM325_FLAG_W,CDOM340,CDOM340_FLAG_W,CDOM380,CDOM380_FLAG_W,CDOM412,CDOM412_FLAG_W,CDOM443,CDOM443_FLAG_W,CDOM490,CDOM490_FLAG_W,CDOM555,CDOM555_FLAG_W,CDOMSL,CDOMSL_FLAG_W,CDOMSN,CDOMSN_FLAG_W,THETA,SBE35,SBE35_FLAG_W
,,,,,,,,,,,METERS,,DBAR,ITS-90,PSS-78,,PSS-78,,UMOL/KG,,UMOL/KG,,UMOL/KG,,UMOL/KG,,UMOL/KG,,UMOL/KG,,PMOL/KG,,PMOL/KG,,PMOL/KG,,UMOL/KG,,UMOL/KG,,,,DEG C,UMOL/KG,,UMOL/KG,,TU,,TU,NMOL/KG,,NMOL/KG,PERCNT,,PERCNT,NMOL/KG,,NMOL/KG,/MILLE,,/MILLE,/MILLE,,1/M,,1/M,,1/M,,1/M,,1/M,,1/M,,1/M,,1/NM,,1/NM,,DEG C,ITS-90,
  33RR20070322,  I09N,   168,  1,     36,     38,2,20070419,0022,  8.3498,  87.9195, 3611,   3.0000,      3.0,  29.6183,  33.4369,2,  33.4398,2,    195.5,2,    195.5,2,     1.36,2,     0.02,2,     0.00,2,     0.06,2,    1.507,2,    0.977,2, -999.000,5,   1887.9,6,   2197.4,2,   8.0930,6,    25.00,   -999.0,9,  -999.00,9,    0.667,2,    0.011,   1.7240,2,   0.0005,    -1.50,2,     0.20,    6.781,2,    0.008,   -999.0,9,   -999.0,  -999.00,9,-999.0000,9,-999.0000,9,-999.0000,9,-999.0000,9,-999.0000,9,-999.0000,9,-999.0000,9,-999.0000,9,-999.0000,9,  29.6176,  29.6007,2
  33RR20070322,  I09N,   168,  1,     35,     35,2,20070419,0022,  8.3498,  87.9195, 3611,  39.7000,     39.7,  29.1000,  34.4246,2,  34.4025,2,    202.3,2,    201.5,2,     1.34,2,     0.02,2,     0.00,2,     0.11,2,    1.546,2,    0.999,2, -999.000,5,   1924.6,2,   2254.6,2,   8.0860,2,    25.00,   -999.0,9,  -999.00,9,    0.619,2,    0.011,   1.7050,2,   0.0005,    -1.59,2,     0.19,    6.686,2,    0.008,   -999.0,9,   -999.0,  -999.00,9,-999.0000,9,-999.0000,9,-999.0000,9,-999.0000,9,-999.0000,9,-999.0000,9,-999.0000,9,-999.0000,9,-999.0000,9,  29.0904,  29.1107,2
  33RR20070322,  I09N,   168,  1,     34,   9419,2,20070419,0022,  8.3498,  87.9195, 3611,  74.3000,     74.3,  24.8322,  34.5337,2,  34.4944,2,    111.5,2,     96.2,2,     8.10,2,    11.59,2,     1.11,2,     0.96,2,    1.332,2,    0.859,2, -999.000,5,   -999.0,9,   -999.0,9,-999.0000,9,  -999.00,   -999.0,9,  -999.00,9,    0.533,2,    0.011,   1.7190,2,   0.0007,     1.06,2,     0.20,    6.910,2,    0.009,   -999.0,9,   -999.0,  -999.00,9,-999.0000,9,-999.0000,9,-999.0000,9,-999.0000,9,-999.0000,9,-999.0000,9,-999.0000,9,-999.0000,9,-999.0000,9,  24.8162,  24.8775,2
  33RR20070322,  I09N,   168,  1,     33,     33,2,20070419,0022,  8.3498,  87.9195, 3611,  94.0000,     94.0,  21.9561,  34.5862,2,  34.5849,2,     58.5,2,     58.2,2,    14.86,2,    19.51,2,     0.03,2,     1.41,2,    1.203,2,    0.756,2, -999.000,5,   2105.6,2,   2268.0,2,   7.7630,2,    25.00,   -999.0,9,  -999.00,9,    0.444,2,    0.009,   1.7000,2,   0.0004,     1.42,2,     0.18,    6.943,2,    0.007,   -999.0,9,   -999.0,  -999.00,9,-999.0000,9,-999.0000,9,-999.0000,9,-999.0000,9,-999.0000,9,-999.0000,9,-999.0000,9,-999.0000,9,-999.0000,9,  21.9376,  21.9524,2
  33RR20070322,  I09N,   168,  1,     32,     37,2,20070419,0022,  8.3498,  87.9195, 3611, 124.2000,    124.2,  18.4557,  34.8237,2,  34.8247,2,     33.4,2,     32.9,2,    21.82,2,    25.22,2,     0.01,2,     1.82,2, -999.000,9, -999.000,9, -999.000,9,   -999.0,9,   -999.0,9,-999.0000,9,  -999.00,   -999.0,9,  -999.00,9,    0.445,2,    0.009,   1.7610,2,   0.0010,     2.75,2,     0.21,    7.221,2,    0.012,   -999.0,9,   -999.0,  -999.00,9,-999.0000,9,-999.0000,9,-999.0000,9,-999.0000,9,-999.0000,9,-999.0000,9,-999.0000,9,-999.0000,9,-999.0000,9,  18.4341,  18.4338,2
  33RR20070322,  I09N,   168,  1,     31,     31,2,20070419,0022,  8.3498,  87.9195, 3611, 143.9000,    143.9,  15.6829,  34.9187,2,  34.9134,2,     19.6,2,     18.5,2,    27.58,2,    28.96,2,     0.01,2,     2.10,2,    0.779,2,    0.463,2, -999.000,5,   2206.1,2,   2295.7,6,   7.5692,2,    25.00,   -999.0,9,  -999.00,9,    0.254,2,    0.006,   1.8250,2,   0.0004,     4.06,2,     0.18,    7.451,2,    0.008,   -999.0,9,   -999.0,  -999.00,9,-999.0000,9,-999.0000,9,-999.0000,9,-999.0000,9,-999.0000,9,-999.0000,9,-999.0000,9,-999.0000,9,-999.0000,9,  15.6605,  15.6643,2
  33RR20070322,  I09N,   168,  1,     30,     30,2,20070419,0022,  8.3498,  87.9195, 3611, 174.9000,    174.9,  13.9442,  34.9865,2,  34.9822,2,     15.1,2,     15.2,2,    30.36,2,    30.81,2,     0.00,2,     2.23,2,    0.678,2,    0.396,2, -999.000,5,   -999.0,9,   -999.0,9,-999.0000,9,  -999.00,   -999.0,9,  -999.00,9,    0.001,2,    0.002,-999.0000,9,-999.0000,  -999.00,9,  -999.00, -999.000,9, -999.000,   -999.0,9,   -999.0,  -999.00,9,-999.0000,9,-999.0000,9,-999.0000,9,-999.0000,9,-999.0000,9,-999.0000,9,-999.0000,9,-999.0000,9,-999.0000,9,  13.9190,  13.9742,2
  33RR20070322,  I09N,   168,  1,     29,     29,2,20070419,0022,  8.3498,  87.9195, 3611, 224.2000,    224.2,  12.7475,  35.0398,2,  35.0391,2,     11.7,2,     12.5,2,    31.93,2,    32.12,2,     0.00,2,     2.30,2,    0.594,2,    0.349,2, -999.000,5,   2244.0,2,   2310.9,2,   7.4866,2,    25.00,   -999.0,9,  -999.00,9,    0.158,2,    0.006,   1.7010,2,   0.0005,     5.16,2,     0.20,    7.141,2,    0.007,   -999.0,9,   -999.0,  -999.00,9,-999.0000,9,-999.0000,9,-999.0000,9,-999.0000,9,-999.0000,9,-999.0000,9,-999.0000,9,-999.0000,9,-999.0000,9,  12.7170,  12.7505,2
  33RR20070322,  I09N,   168,  1,     28,     28,2,20070419,0022,  8.3498,  87.9195, 3611, 273.6000,    273.6,  12.0409,  35.0636,2,  35.0623,2,     17.2,2,     19.8,2,    31.92,2,    32.21,2,     0.00,2,     2.28,2,    0.634,2,    0.359,2, -999.000,5,   -999.0,9,   -999.0,9,-999.0000,9,  -999.00,   -999.0,9,  -999.00,9,    0.283,2,    0.008,   1.7720,2,   0.0013,     5.72,2,     0.20,    7.457,2,    0.011,   -999.0,9,   -999.0,  -999.00,9,-999.0000,9,-999.0000,9,-999.0000,9,-999.0000,9,-999.0000,9,-999.0000,9,-999.0000,9,-999.0000,9,-999.0000,9,  12.0050,  12.0421,2
  33RR20070322,  I09N,   168,  1,     27,     27,2,20070419,0022,  8.3498,  87.9195, 3611, 323.6000,    323.6,  11.4575,  35.0670,2,  35.0660,2,     23.8,2,     25.6,2,    33.10,2,    32.41,2,     0.00,2,     2.29,2,    0.608,2,    0.340,2, -999.000,5,   -999.0,9,   -999.0,9,-999.0000,9,  -999.00,   -999.0,9,  -999.00,9,    0.136,2,    0.005,   1.7890,2,   0.0007,     5.33,2,     0.20,    7.544,2,    0.013,   -999.0,9,   -999.0,  -999.00,9,-999.0000,9,-999.0000,9,-999.0000,9,-999.0000,9,-999.0000,9,-999.0000,9,-999.0000,9,-999.0000,9,-999.0000,9,  11.4163,  11.4567,2
  33RR20070322,  I09N,   168,  1,     26,     26,2,20070419,0022,  8.3498,  87.9195, 3611, 373.6000,    373.6,  10.9959,  35.0626,2,  35.0623,2,     25.1,2,     24.6,2,    35.88,2,    33.23,2,     0.00,2,     2.35,2,    0.493,2,    0.279,2, -999.000,5,   -999.0,9,   -999.0,9,-999.0000,9,  -999.00,   -999.0,9,  -999.00,9,    0.102,2,    0.005,-999.0000,9,-999.0000,  -999.00,9,  -999.00, -999.000,9, -999.000,   -999.0,9,   -999.0,  -999.00,9,-999.0000,9,-999.0000,9,-999.0000,9,-999.0000,9,-999.0000,9,-999.0000,9,-999.0000,9,-999.0000,9,-999.0000,9,  10.9494,  10.9977,2
  33RR20070322,  I09N,   168,  1,     25,     25,2,20070419,0022,  8.3498,  87.9195, 3611, 423.1000,    423.1,  10.6127,  35.0519,2,  35.0509,2,     19.8,2,     19.8,2,    40.26,2,    34.40,2,     0.00,2,     2.45,2,    0.356,2,    0.199,2, -999.000,5,   2264.1,2,   2320.8,2,   7.4721,2,    25.00,   -999.0,9,  -999.00,9,    0.073,2,    0.005,   1.7870,2,   0.0008,     6.07,2,     0.21,    7.518,2,    0.010,   -999.0,9,   -999.0,  -999.00,9,-999.0000,9,-999.0000,9,-999.0000,9,-999.0000,9,-999.0000,9,-999.0000,9,-999.0000,9,-999.0000,9,-999.0000,9,  10.5611,  10.6102,2
  33RR20070322,  I09N,   168,  1,     24,     24,2,20070419,0022,  8.3498,  87.9195, 3611, 474.1000,    474.1,  10.1643,  35.0423,2,  35.0432,2,     17.3,2,     16.7,2,    44.85,2,    35.24,2,     0.00,2,     2.55,2,    0.237,2,    0.130,2, -999.000,5,   -999.0,9,   -999.0,9,-999.0000,9,  -999.00,   -999.0,9,  -999.00,9,    0.045,2,    0.005,   1.7820,2,   0.0011,     6.10,2,     0.18,    7.554,2,    0.010,   -999.0,9,   -999.0,  -999.00,9,-999.0000,9,-999.0000,9,-999.0000,9,-999.0000,9,-999.0000,9,-999.0000,9,-999.0000,9,-999.0000,9,-999.0000,9,  10.1079,  10.1626,2
  33RR20070322,  I09N,   168,  1,     23,     23,2,20070419,0022,  8.3498,  87.9195, 3611, 524.1000,    524.1,   9.7396,  35.0350,2,  35.0351,2,     18.2,2,     19.0,2,    49.03,2,    35.72,2,     0.00,2,     2.59,2,    0.179,2,    0.100,2, -999.000,5,   -999.0,9,   -999.0,9,-999.0000,9,  -999.00,   -999.0,9,  -999.00,9,    0.033,2,    0.004,   4.6800,4,   0.0076,     3.77,3,     0.17,   16.480,4,    0.114,   -999.0,9,   -999.0,  -999.00,9,-999.0000,9,-999.0000,9,-999.0000,9,-999.0000,9,-999.0000,9,-999.0000,9,-999.0000,9,-999.0000,9,-999.0000,9,   9.6787,   9.7437,2
  33RR20070322,  I09N,   168,  1,     22,     22,2,20070419,0022,  8.3498,  87.9195, 3611, 645.4000,    645.4,   8.9754,  35.0183,2,  35.0188,2,     21.3,2,     22.2,2,    57.02,2,    36.45,2,     0.00,2,     2.68,2,    0.096,2,    0.056,2, -999.000,5,   -999.0,9,   -999.0,9,-999.0000,9,  -999.00,   -999.0,9,  -999.00,9,    0.013,2,    0.004,   1.7980,2,   0.0005,     7.43,2,     0.19,    7.607,2,    0.012,   -999.0,9,   -999.0,  -999.00,9,-999.0000,9,-999.0000,9,-999.0000,9,-999.0000,9,-999.0000,9,-999.0000,9,-999.0000,9,-999.0000,9,-999.0000,9,   8.9036,   8.9751,2
  33RR20070322,  I09N,   168,  1,     21,     21,2,20070419,0022,  8.3498,  87.9195, 3611, 744.8000,    744.8,   8.1132,  34.9902,2,  34.9902,2,     27.6,2,     28.6,2,    67.84,2,    36.99,2,     0.00,2,     2.72,2,    0.049,2,    0.029,2, -999.000,5,   2295.3,2,   2349.4,2,   7.4527,2,    25.00,   -999.0,9,  -999.00,9,    0.068,2,    0.004,   1.8390,2,   0.0006,     8.79,2,     0.23,    7.913,2,    0.027,   -999.0,9,   -999.0,  -999.00,9,-999.0000,9,-999.0000,9,-999.0000,9,-999.0000,9,-999.0000,9,-999.0000,9,-999.0000,9,-999.0000,9,-999.0000,9,   8.0346,   8.1143,2
  33RR20070322,  I09N,   168,  1,     20,     20,2,20070419,0022,  8.3498,  87.9195, 3611, 844.7000,    844.7,   7.5373,  34.9688,2,  34.9688,2,     34.5,2,     35.5,2,    73.67,2,    37.23,2,     0.00,2,     2.74,2,    0.036,2,    0.022,2, -999.000,5,   -999.0,9,   -999.0,9,-999.0000,9,  -999.00,   -999.0,9,  -999.00,9, -999.000,9, -999.000,-999.0000,9,-999.0000,  -999.00,9,  -999.00, -999.000,9, -999.000,   -999.0,9,   -999.0,  -999.00,9,-999.0000,9,-999.0000,9,-999.0000,9,-999.0000,9,-999.0000,9,-999.0000,9,-999.0000,9,-999.0000,9,-999.0000,9,   7.4512,   7.5384,2
  33RR20070322,  I09N,   168,  1,     19,     19,2,20070419,0022,  8.3498,  87.9195, 3611, 944.7000,    944.7,   7.0339,  34.9493,2,  34.9492,2,     41.9,2,     42.4,2,    79.28,2,    37.08,2,     0.00,2,     2.74,2,    0.030,2,    0.017,2, -999.000,5,   -999.0,9,   -999.0,9,-999.0000,9,  -999.00,   -999.0,9,  -999.00,9,    0.006,2,    0.003,-999.0000,9,-999.0000,  -999.00,9,  -999.00, -999.000,9, -999.000,   -999.0,9,   -999.0,  -999.00,9,-999.0000,9,-999.0000,9,-999.0000,9,-999.0000,9,-999.0000,9,-999.0000,9,-999.0000,9,-999.0000,9,-999.0000,9,   6.9405,   7.0333,2
  33RR20070322,  I09N,   168,  1,     18,     18,2,20070419,0022,  8.3498,  87.9195, 3611,1046.4000,   1046.4,   6.4584,  34.9289,2,  34.9284,2,     47.4,2,     47.1,2,    86.13,2,    37.32,2,     0.00,2,     2.77,2, -999.000,9, -999.000,9, -999.000,9,   -999.0,9,   -999.0,9,-999.0000,9,  -999.00,   -999.0,9,  -999.00,9, -999.000,9, -999.000,-999.0000,9,-999.0000,  -999.00,9,  -999.00, -999.000,9, -999.000,   -999.0,9,   -999.0,  -999.00,9,-999.0000,9,-999.0000,9,-999.0000,9,-999.0000,9,-999.0000,9,-999.0000,9,-999.0000,9,-999.0000,9,-999.0000,9,   6.3587,   6.4573,2
  33RR20070322,  I09N,   168,  1,     17,     17,2,20070419,0022,  8.3498,  87.9195, 3611,1146.3000,   1146.3,   6.0459,  34.9103,2,  34.9097,2,     54.5,2,     53.9,2,    90.55,2,    37.36,2,     0.00,2,     2.76,2,    0.013,2,    0.008,2, -999.000,5,   -999.0,9,   -999.0,9,-999.0000,9,  -999.00,   -999.0,9,  -999.00,9,    0.091,2,    0.005,-999.0000,9,-999.0000,  -999.00,9,  -999.00, -999.000,9, -999.000,   -999.0,9,   -999.0,  -999.00,9,-999.0000,9,-999.0000,9,-999.0000,9,-999.0000,9,-999.0000,9,-999.0000,9,-999.0000,9,-999.0000,9,-999.0000,9,   5.9395,   6.0475,2
  33RR20070322,  I09N,   168,  1,     16,     16,2,20070419,0022,  8.3498,  87.9195, 3611,1245.6000,   1245.6,   5.5982,  34.8933,2,  34.8933,2,     62.6,2,     61.8,2,    95.40,2,    37.25,2,     0.00,2,     2.75,2, -999.000,9, -999.000,9, -999.000,9,   -999.0,9,   -999.0,9,-999.0000,9,  -999.00,   -999.0,9,  -999.00,9, -999.000,9, -999.000,-999.0000,9,-999.0000,  -999.00,9,  -999.00, -999.000,9, -999.000,   -999.0,9,   -999.0,  -999.00,9,-999.0000,9,-999.0000,9,-999.0000,9,-999.0000,9,-999.0000,9,-999.0000,9,-999.0000,9,-999.0000,9,-999.0000,9,   5.4859,   5.6007,2
  33RR20070322,  I09N,   168,  1,     15,     15,2,20070419,0022,  8.3498,  87.9195, 3611,1347.8000,   1347.8,   5.2104,  34.8777,2,  34.8784,2,     68.2,2,     68.0,2,    99.64,2,    37.25,2,     0.00,2,     2.74,2,    0.010,2,    0.006,2, -999.000,5,   -999.0,9,   -999.0,9,-999.0000,9,  -999.00,   -999.0,9,  -999.00,9, -999.000,9, -999.000,-999.0000,9,-999.0000,  -999.00,9,  -999.00, -999.000,9, -999.000,   -999.0,9,   -999.0,  -999.00,9,-999.0000,9,-999.0000,9,-999.0000,9,-999.0000,9,-999.0000,9,-999.0000,9,-999.0000,9,-999.0000,9,-999.0000,9,   5.0918,   5.2112,2
  33RR20070322,  I09N,   168,  1,     14,     14,2,20070419,0022,  8.3498,  87.9195, 3611,1447.6000,   1447.6,   4.7817,  34.8607,2,  34.8603,2,     76.5,2,     77.3,2,   104.90,2,    36.85,2,     0.00,2,     2.71,2,    0.014,2,    0.005,2, -999.000,5,   -999.0,9,   -999.0,9,-999.0000,9,  -999.00,   -999.0,9,  -999.00,9, -999.000,9, -999.000,-999.0000,9,-999.0000,  -999.00,9,  -999.00, -999.000,9, -999.000,   -999.0,9,   -999.0,  -999.00,9,-999.0000,9,-999.0000,9,-999.0000,9,-999.0000,9,-999.0000,9,-999.0000,9,-999.0000,9,-999.0000,9,-999.0000,9,   4.6580,   4.7815,2
  33RR20070322,  I09N,   168,  1,     13,     13,2,20070419,0022,  8.3498,  87.9195, 3611,1548.2000,   1548.2,   4.3107,  34.8445,2,  34.8449,2,     82.4,2,     83.4,2,   109.56,2,    36.99,2,     0.00,2,     2.71,2,    0.006,2,    0.004,2, -999.000,5,   2319.9,2,   2390.8,6,   7.4943,2,    25.00,   -999.0,9,  -999.00,9, -999.000,9, -999.000,-999.0000,9,-999.0000,  -999.00,9,  -999.00, -999.000,9, -999.000,   -999.0,9,   -999.0,  -999.00,9,-999.0000,9,-999.0000,9,-999.0000,9,-999.0000,9,-999.0000,9,-999.0000,9,-999.0000,9,-999.0000,9,-999.0000,9,   4.1828,   4.3093,2
  33RR20070322,  I09N,   168,  1,     12,     12,2,20070419,0022,  8.3498,  87.9195, 3611,1749.2000,   1749.2,   3.4863,  34.8119,2,  34.8126,2,     97.6,2,     99.8,2,   118.30,2,    36.64,2,     0.00,2,     2.67,2,    0.007,2,    0.004,2, -999.000,5,   -999.0,9,   -999.0,9,-999.0000,9,  -999.00,   -999.0,9,  -999.00,9, -999.000,9, -999.000,-999.0000,9,-999.0000,  -999.00,9,  -999.00, -999.000,9, -999.000,   -999.0,9,   -999.0,  -999.00,9,-999.0000,9,-999.0000,9,-999.0000,9,-999.0000,9,-999.0000,9,-999.0000,9,-999.0000,9,-999.0000,9,-999.0000,9,   3.3501,   3.4860,2
  33RR20070322,  I09N,   168,  1,     11,     11,2,20070419,0022,  8.3498,  87.9195, 3611,1951.0000,   1951.0,   2.9389,  34.7878,2,  34.7892,2,    111.4,2,    111.6,2,   125.23,2,    36.19,2,     0.00,2,     2.63,2,    0.004,2,    0.004,2, -999.000,5,   -999.0,9,   -999.0,9,-999.0000,9,  -999.00,   -999.0,9,  -999.00,9, -999.000,9, -999.000,-999.0000,9,-999.0000,  -999.00,9,  -999.00, -999.000,9, -999.000,   -999.0,9,   -999.0,  -999.00,9,-999.0000,9,-999.0000,9,-999.0000,9,-999.0000,9,-999.0000,9,-999.0000,9,-999.0000,9,-999.0000,9,-999.0000,9,   2.7922,   2.9395,2
  33RR20070322,  I09N,   168,  1,     10,     10,2,20070419,0022,  8.3498,  87.9195, 3611,2113.0000,   2113.0,   2.6469,  34.7748,2,  34.7751,2,    119.6,2,    119.9,2,   128.49,2,    35.94,2,     0.00,2,     2.59,2,    0.004,2,    0.005,2, -999.000,5,   -999.0,9,   -999.0,9,-999.0000,9,  -999.00,   -999.0,9,  -999.00,9, -999.000,9, -999.000,   1.9000,2,   0.0012,    13.02,2,     0.20,    8.157,2,    0.012,   -999.0,9,   -999.0,  -999.00,9,-999.0000,9,-999.0000,9,-999.0000,9,-999.0000,9,-999.0000,9,-999.0000,9,-999.0000,9,-999.0000,9,-999.0000,9,   2.4901,   2.6463,2
  33RR20070322,  I09N,   168,  1,      9,      9,2,20070419,0022,  8.3498,  87.9195, 3611,2363.7000,   2363.7,   2.2972,  34.7593,2,  34.7595,2,    129.6,2,    129.2,2,   131.97,2,    35.64,2,     0.00,2,     2.55,2,    0.004,2,    0.003,2, -999.000,5,   -999.0,9,   -999.0,9,-999.0000,9,  -999.00,   -999.0,9,  -999.00,9, -999.000,9, -999.000,   1.9050,2,   0.0013,    13.08,2,     0.23,    8.238,2,    0.013,   -999.0,9,   -999.0,  -999.00,9,-999.0000,9,-999.0000,9,-999.0000,9,-999.0000,9,-999.0000,9,-999.0000,9,-999.0000,9,-999.0000,9,-999.0000,9,   2.1235,   2.2980,2
  33RR20070322,  I09N,   168,  1,      8,      8,2,20070419,0022,  8.3498,  87.9195, 3611,2616.1000,   2616.1,   1.9994,  34.7460,2,  34.7463,2,    138.2,2,    138.1,2,   136.27,2,    35.29,2,     0.00,2,     2.51,2, -999.000,9, -999.000,9, -999.000,9,   -999.0,9,   -999.0,9,-999.0000,9,  -999.00,   -999.0,9,  -999.00,9, -999.000,9, -999.000,-999.0000,9,-999.0000,  -999.00,9,  -999.00, -999.000,9, -999.000,   -999.0,9,   -999.0,  -999.00,9,-999.0000,9,-999.0000,9,-999.0000,9,-999.0000,9,-999.0000,9,-999.0000,9,-999.0000,9,-999.0000,9,-999.0000,9,   1.8080,   1.9999,2
  33RR20070322,  I09N,   168,  1,      7,      7,2,20070419,0022,  8.3498,  87.9195, 3611,2870.0000,   2870.0,   1.8118,  34.7380,2,  34.7389,2,    146.9,2,    146.8,2,   136.67,2,    34.93,2,     0.00,2,     2.47,2,    0.004,2,    0.003,2, -999.000,5,   -999.0,9,   -999.0,9,-999.0000,9,  -999.00,   -999.0,9,  -999.00,9, -999.000,9, -999.000,   1.9100,2,   0.0005,    12.91,2,     0.21,    8.146,2,    0.015,   -999.0,9,   -999.0,  -999.00,9,-999.0000,9,-999.0000,9,-999.0000,9,-999.0000,9,-999.0000,9,-999.0000,9,-999.0000,9,-999.0000,9,-999.0000,9,   1.6003,   1.8118,2
  33RR20070322,  I09N,   168,  1,      6,      6,2,20070419,0022,  8.3498,  87.9195, 3611,3122.4000,   3122.4,   1.6957,  34.7330,2,  34.7336,2,    150.6,2,    150.6,2,   138.52,2,    34.89,2,     0.00,2,     2.45,2, -999.000,9, -999.000,9, -999.000,9,   -999.0,9,   -999.0,9,-999.0000,9,  -999.00,   -999.0,9,  -999.00,9, -999.000,9, -999.000,-999.0000,9,-999.0000,  -999.00,9,  -999.00, -999.000,9, -999.000,   -999.0,9,   -999.0,  -999.00,9,-999.0000,9,-999.0000,9,-999.0000,9,-999.0000,9,-999.0000,9,-999.0000,9,-999.0000,9,-999.0000,9,-999.0000,9,   1.4624,   1.6955,2
  33RR20070322,  I09N,   168,  1,      5,      5,2,20070419,0022,  8.3498,  87.9195, 3611,3375.9000,   3375.9,   1.5402,  34.7266,2,  34.7275,2,    156.8,2,    157.7,2,   138.71,2,    34.53,2,     0.00,2,     2.42,2,    0.005,2,    0.003,2, -999.000,5,   -999.0,9,   -999.0,9,-999.0000,9,  -999.00,   -999.0,9,  -999.00,9, -999.000,9, -999.000,-999.0000,9,-999.0000,  -999.00,9,  -999.00, -999.000,9, -999.000,   -999.0,9,   -999.0,  -999.00,9,-999.0000,9,-999.0000,9,-999.0000,9,-999.0000,9,-999.0000,9,-999.0000,9,-999.0000,9,-999.0000,9,-999.0000,9,   1.2853,   1.5396,2