BOTTLE,20150630SIOCCHRJL
EXPOCODE,SECT_ID,STNNBR,CASTNO,SAMPNO,BTLNBR,BTLNBR_FLAG_W,DATE,TIME,LATITUDE,LONGITUDE,DEPTH,CTDRAW,CTDPRS,CTDTMP,CTDSAL,CTDSAL_FLAG_W,SALNTY,SALNTY_FLAG_W,CTDOXY,CTDOXY_FLAG_W,OXYGEN,OXYGEN_FLAG_W,SILCAT,SILCAT_FLAG_W,NITRAT,NITRAT_FLAG_W,NITRIT,NITRIT_FLAG_W,PHSPHT,PHSPHT_FLAG_W,CFC-11,CFC-11_FLAG_W,CFC-12,CFC-12_FLAG_W,CFC113,CFC113_FLAG_W,TCARBN,TCARBN_FLAG_W,ALKALI,ALKALI_FLAG_W,PH_SWS,PH_SWS_FLAG_W,PH_TMP,DOC,DOC_FLAG_W,TDN,TDN_FLAG_W,TRITUM,TRITUM_FLAG_W,TRITER,HELIUM,HELIUM_FLAG_W,HELIER,DELHE3,DELHE3_FLAG_W,DELHER,NEON,NEON_FLAG_W,NEONER,DELC14,DELC14_FLAG_W,C14ERR,DELC13,DELC13_FLAG_W,CDOM325,CDOM325_FLAG_W,CDOM340,CDOM340_FLAG_W,CDOM380,CDOM380_FLAG_W,CDOM412,CDOM412_FLAG_W,CDOM443,CDOM443_FLAG_W,CDOM490,CDOM490_FLAG_W,CDOM555,CDOM555_FLAG_W,CDOMSL,CDOMSL_FLAG_W,CDOMSN,CDOMSN_FLAG_W,THETA,SBE35,SBE35_FLAG_W
,,,,,,,,,,,METERS,,DBAR,ITS-90,PSS-78,,PSS-78,,UMOL/KG,,UMOL/KG,,UMOL/KG,,UMOL/KG,,UMOL/KG,,UMOL/KG,,PMOL/KG,,PMOL/KG,,PMOL/KG,,UMOL/KG,,UMOL/KG,,,,DEG C,UMOL/KG,,UMOL/KG,,TU,,TU,NMOL/KG,,NMOL/KG,PERCNT,,PERCNT,NMOL/KG,,NMOL/KG,/MILLE,,/MILLE,/MILLE,,1/M,,1/M,,1/M,,1/M,,1/M,,1/M,,1/M,,1/NM,,1/NM,,DEG C,ITS-90,
  33RR20070322,  I09N,   120,  1,     36,     38,2,20070405,1328,-10.8848,  94.9992, 5374,   1.7000,      1.7,  28.3427,  33.7836,2,  33.7870,2,    197.7,2,    197.6,2,     2.15,2,     0.06,2,     0.00,2,     0.13,2,    1.554,2,    0.989,2, -999.000,5,   1906.8,6,   2200.8,3,   8.0832,2,    25.00,   -999.0,9,  -999.00,9,    0.727,2,    0.012,-999.0000,9,-999.0000,  -999.00,9,  -999.00, -999.000,9, -999.000,   -999.0,9,   -999.0,  -999.00,9,-999.0000,9,-999.0000,9,-999.0000,9,-999.0000,9,-999.0000,9,-999.0000,9,-999.0000,9,-999.0000,9,-999.0000,9,  28.3423,  28.3433,2
  33RR20070322,  I09N,   120,  1,     35,     35,2,20070405,1328,-10.8848,  94.9992, 5374,  42.0000,     42.0,  23.0725,  34.6456,2,  34.6423,2,    176.5,2,    174.9,2,     6.32,2,     4.28,2,     0.21,2,     0.43,2,    1.685,2,    1.047,2, -999.000,5,   -999.0,9,   -999.0,9,-999.0000,9,  -999.00,   -999.0,9,  -999.00,9,    0.614,2,    0.012,   1.8110,2,   0.0005,     0.87,2,     0.18,    7.260,2,    0.012,   -999.0,9,   -999.0,  -999.00,9,-999.0000,9,-999.0000,9,-999.0000,9,-999.0000,9,-999.0000,9,-999.0000,9,-999.0000,9,-999.0000,9,-999.0000,9,  23.0639,  23.1015,2
  33RR20070322,  I09N,   120,  1,     34,   9419,2,20070405,1328,-10.8848,  94.9992, 5374,  77.2000,     77.2,  19.1951,  34.7150,2,  34.7151,2,    101.3,2,    102.1,2,    16.57,2,    16.09,2,     0.25,2,     1.12,2,    1.642,2,    0.987,2, -999.000,5,   2108.7,2,   2284.0,2,-999.0000,5,    25.00,   -999.0,9,  -999.00,9,    0.615,2,    0.010,   1.7760,2,   0.0005,     2.96,2,     0.18,    7.258,2,    0.013,   -999.0,9,   -999.0,  -999.00,9,-999.0000,9,-999.0000,9,-999.0000,9,-999.0000,9,-999.0000,9,-999.0000,9,-999.0000,9,-999.0000,9,-999.0000,9,  19.1813,  19.2112,2
  33RR20070322,  I09N,   120,  1,     33,     33,2,20070405,1328,-10.8848,  94.9992, 5374,  97.0000,     97.0,  17.4122,  34.6903,2,  34.7260,2,     89.7,2,     93.4,2,    20.54,2,    19.09,2,     0.03,2,     1.33,2,    1.575,2,    0.942,2, -999.000,5,   -999.0,9,   -999.0,9,-999.0000,9,  -999.00,   -999.0,9,  -999.00,9,    0.499,2,    0.010,   1.7950,2,   0.0005,     4.58,2,     0.18,    7.367,2,    0.013,   -999.0,9,   -999.0,  -999.00,9,-999.0000,9,-999.0000,9,-999.0000,9,-999.0000,9,-999.0000,9,-999.0000,9,-999.0000,9,-999.0000,9,-999.0000,9,  17.3960,  17.4555,2
  33RR20070322,  I09N,   120,  1,     32,     37,2,20070405,1328,-10.8848,  94.9992, 5374, 126.5000,    126.5,  14.6677,  34.6123,2,  34.6124,2,    103.3,2,    102.8,2,    27.77,2,    21.14,2,     0.01,2,     1.51,2,    1.437,2,    0.832,2, -999.000,5,   2152.7,2,   2294.2,2,   7.7100,3,    25.00,   -999.0,9,  -999.00,9,    0.454,2,    0.009,   1.8010,2,   0.0005,     6.60,2,     0.18,    7.520,2,    0.013,   -999.0,9,   -999.0,  -999.00,9,-999.0000,9,-999.0000,9,-999.0000,9,-999.0000,9,-999.0000,9,-999.0000,9,-999.0000,9,-999.0000,9,-999.0000,9,  14.6489,  14.6839,2
  33RR20070322,  I09N,   120,  1,     31,     31,2,20070405,1328,-10.8848,  94.9992, 5374, 177.1000,    177.1,  12.4985,  34.6800,2,  34.6787,2,    102.7,2,    101.5,2,    33.27,2,    23.79,2,     0.00,2,     1.70,2,    1.296,2,    0.725,2, -999.000,5,   -999.0,9,   -999.0,9,-999.0000,9,  -999.00,   -999.0,9,  -999.00,9,    0.416,2,    0.009,   1.8120,2,   0.0003,     7.82,2,     0.19,    7.414,2,    0.026,   -999.0,9,   -999.0,  -999.00,9,-999.0000,9,-999.0000,9,-999.0000,9,-999.0000,9,-999.0000,9,-999.0000,9,-999.0000,9,-999.0000,9,-999.0000,9,  12.4749,  12.5135,2
  33RR20070322,  I09N,   120,  1,     30,     30,2,20070405,1328,-10.8848,  94.9992, 5374, 226.4000,    226.4,  11.0845,  34.7249,2,  34.7281,2,     76.0,2,     76.6,2,    36.29,2,    28.36,2,     0.00,2,     1.99,2,    0.935,2,    0.517,2, -999.000,5,   2212.0,2,   2309.5,2,-999.0000,5,    25.00,   -999.0,9,  -999.00,9, -999.000,9, -999.000,-999.0000,9,-999.0000,  -999.00,9,  -999.00, -999.000,9, -999.000,   -999.0,9,   -999.0,  -999.00,9,-999.0000,9,-999.0000,9,-999.0000,9,-999.0000,9,-999.0000,9,-999.0000,9,-999.0000,9,-999.0000,9,-999.0000,9,  11.0565,  11.1016,2
  33RR20070322,  I09N,   120,  1,     29,     29,2,20070405,1328,-10.8848,  94.9992, 5374, 276.5000,    276.5,  10.5747,  34.7709,2,  34.7651,2,     73.0,2,     76.6,2,    35.88,2,    29.08,2,     0.00,2,     2.04,2,    0.746,2,    0.408,2, -999.000,5,   -999.0,9,   -999.0,9,-999.0000,9,  -999.00,   -999.0,9,  -999.00,9, -999.000,9, -999.000,   1.7940,2,   0.0003,     7.86,2,     0.19,    7.441,2,    0.011,   -999.0,9,   -999.0,  -999.00,9,-999.0000,9,-999.0000,9,-999.0000,9,-999.0000,9,-999.0000,9,-999.0000,9,-999.0000,9,-999.0000,9,-999.0000,9,  10.5414,  10.5766,2
  33RR20070322,  I09N,   120,  1,     28,     28,2,20070405,1328,-10.8848,  94.9992, 5374, 327.0000,    327.0,  10.0143,  34.7863,2,  34.7858,2,     84.0,2,     86.1,2,    33.94,2,    29.13,2,     0.00,2,     2.02,2, -999.000,5, -999.000,5, -999.000,5,   -999.0,9,   -999.0,9,-999.0000,9,  -999.00,   -999.0,9,  -999.00,9,    0.281,2,    0.007,   1.8040,2,   0.0007,     6.46,2,     0.19,    7.696,2,    0.016,   -999.0,9,   -999.0,  -999.00,9,-999.0000,9,-999.0000,9,-999.0000,9,-999.0000,9,-999.0000,9,-999.0000,9,-999.0000,9,-999.0000,9,-999.0000,9,   9.9762,  10.0136,2
  33RR20070322,  I09N,   120,  1,     27,     27,2,20070405,1328,-10.8848,  94.9992, 5374, 377.5000,    377.5,   9.3580,  34.7551,2,  34.7561,2,     87.5,2,     84.6,2,    37.93,2,    30.59,2,     0.00,2,     2.12,2,    0.674,2,    0.366,2, -999.000,5,   -999.0,9,   -999.0,9,-999.0000,9,  -999.00,   -999.0,9,  -999.00,9,    0.148,2,    0.006,   1.8460,2,   0.0003,     7.50,2,     0.19,    7.573,2,    0.034,   -999.0,9,   -999.0,  -999.00,9,-999.0000,9,-999.0000,9,-999.0000,9,-999.0000,9,-999.0000,9,-999.0000,9,-999.0000,9,-999.0000,9,-999.0000,9,   9.3157,   9.3539,2
  33RR20070322,  I09N,   120,  1,     26,     26,2,20070405,1328,-10.8848,  94.9992, 5374, 427.0000,    427.0,   8.7773,  34.7205,2,  34.7196,2,     79.8,2,     78.7,2,    44.97,2,    32.21,2,     0.00,2,     2.26,2,    0.453,2,    0.249,2, -999.000,5,   -999.0,9,   -999.0,9,-999.0000,9,  -999.00,   -999.0,9,  -999.00,9, -999.000,9, -999.000,   1.8360,2,   0.0005,     8.26,2,     0.19,    7.761,2,    0.014,   -999.0,9,   -999.0,  -999.00,9,-999.0000,9,-999.0000,9,-999.0000,9,-999.0000,9,-999.0000,9,-999.0000,9,-999.0000,9,-999.0000,9,-999.0000,9,   8.7312,   8.7797,2
  33RR20070322,  I09N,   120,  1,     25,     25,2,20070405,1328,-10.8848,  94.9992, 5374, 477.3000,    477.3,   8.3150,  34.7140,2,  34.7155,2,     76.5,2,     76.0,2,    50.50,2,    33.26,2,     0.00,2,     2.37,2,    0.289,2,    0.161,2, -999.000,5,   -999.0,9,   -999.0,9,-999.0000,9,  -999.00,   -999.0,9,  -999.00,9,    0.095,2,    0.006,   1.8340,2,   0.0003,     8.97,2,     0.18,    7.680,2,    0.031,   -999.0,9,   -999.0,  -999.00,9,-999.0000,9,-999.0000,9,-999.0000,9,-999.0000,9,-999.0000,9,-999.0000,9,-999.0000,9,-999.0000,9,-999.0000,9,   8.2649,   8.3199,2
  33RR20070322,  I09N,   120,  1,     24,     24,2,20070405,1328,-10.8848,  94.9992, 5374, 527.5000,    527.5,   7.9149,  34.7106,2,  34.7110,2,     74.5,2,     73.3,2,    56.21,2,    34.14,2,     0.00,2,     2.45,2,    0.198,2,    0.113,2, -999.000,5,   2256.7,2,   2330.6,6,-999.0000,5,    25.00,   -999.0,9,  -999.00,9, -999.000,9, -999.000,   1.8750,2,   0.0003,     9.20,2,     0.18,    7.769,2,    0.035,   -999.0,9,   -999.0,  -999.00,9,-999.0000,9,-999.0000,9,-999.0000,9,-999.0000,9,-999.0000,9,-999.0000,9,-999.0000,9,-999.0000,9,-999.0000,9,   7.8609,   7.9113,2
  33RR20070322,  I09N,   120,  1,     23,     23,2,20070405,1328,-10.8848,  94.9992, 5374, 646.7000,    646.7,   7.0694,  34.6933,2,  34.6927,2,     72.4,2,     71.6,2,    68.85,2,    35.45,2,     0.00,2,     2.58,2,    0.105,2,    0.060,2, -999.000,5,   -999.0,9,   -999.0,9,-999.0000,9,  -999.00,   -999.0,9,  -999.00,9, -999.000,9, -999.000,-999.0000,9,-999.0000,  -999.00,9,  -999.00, -999.000,9, -999.000,   -999.0,9,   -999.0,  -999.00,9,-999.0000,9,-999.0000,9,-999.0000,9,-999.0000,9,-999.0000,9,-999.0000,9,-999.0000,9,-999.0000,9,-999.0000,9,   7.0068,   7.0727,2
  33RR20070322,  I09N,   120,  1,     22,     22,2,20070405,1328,-10.8848,  94.9992, 5374, 747.9000,    747.9,   6.5547,  34.6886,2,  34.6889,2,     73.2,2,     73.1,2,    76.32,2,    35.92,2,     0.00,2,     2.63,2,    0.072,2,    0.042,2, -999.000,5,   -999.0,9,   -999.0,9,-999.0000,9,  -999.00,   -999.0,9,  -999.00,9, -999.000,9, -999.000,   1.8500,2,   0.0005,    12.68,2,     0.19,    7.752,2,    0.008,   -999.0,9,   -999.0,  -999.00,9,-999.0000,9,-999.0000,9,-999.0000,9,-999.0000,9,-999.0000,9,-999.0000,9,-999.0000,9,-999.0000,9,-999.0000,9,   6.4847,   6.5578,2
  33RR20070322,  I09N,   120,  1,     21,     21,2,20070405,1328,-10.8848,  94.9992, 5374, 847.8000,    847.8,   5.8841,  34.6593,2,  34.6588,2,     78.6,2,     78.8,2,    85.93,2,    36.18,2,     0.00,2,     2.66,2, -999.000,9, -999.000,9, -999.000,9,   -999.0,9,   -999.0,9,-999.0000,9,  -999.00,   -999.0,9,  -999.00,9, -999.000,9, -999.000,   1.9140,3,   0.0004,    13.72,2,     0.18,    8.001,2,    0.013,   -999.0,9,   -999.0,  -999.00,9,-999.0000,9,-999.0000,9,-999.0000,9,-999.0000,9,-999.0000,9,-999.0000,9,-999.0000,9,-999.0000,9,-999.0000,9,   5.8085,   5.8850,2
  33RR20070322,  I09N,   120,  1,     20,     20,2,20070405,1328,-10.8848,  94.9992, 5374, 947.7000,    947.7,   5.4291,  34.6564,2,  34.6553,2,     82.3,2,     82.2,2,    92.47,2,    36.49,2,     0.00,2,     2.68,2,    0.047,2,    0.026,2, -999.000,5,   -999.0,9,   -999.0,9,-999.0000,9,  -999.00,   -999.0,9,  -999.00,9, -999.000,9, -999.000,   1.8700,2,   0.0008,    15.19,2,     0.18,    7.927,2,    0.010,   -999.0,9,   -999.0,  -999.00,9,-999.0000,9,-999.0000,9,-999.0000,9,-999.0000,9,-999.0000,9,-999.0000,9,-999.0000,9,-999.0000,9,-999.0000,9,   5.3472,   5.4276,2
  33RR20070322,  I09N,   120,  1,     19,     19,2,20070405,1328,-10.8848,  94.9992, 5374,1047.6000,   1047.6,   4.9953,  34.6548,2,  34.6531,2,     86.9,2,     86.5,2,    99.03,2,    36.64,2,     0.00,2,     2.70,2, -999.000,9, -999.000,9, -999.000,9,   2303.0,2,   2374.2,2,   7.5004,2,    25.00,   -999.0,9,  -999.00,9,    0.024,2,    0.004,   1.8970,2,   0.0012,    15.44,2,     0.23,    8.000,2,    0.011,   -999.0,9,   -999.0,  -999.00,9,-999.0000,9,-999.0000,9,-999.0000,9,-999.0000,9,-999.0000,9,-999.0000,9,-999.0000,9,-999.0000,9,-999.0000,9,   4.9074,   4.9958,2
  33RR20070322,  I09N,   120,  1,     18,     18,2,20070405,1328,-10.8848,  94.9992, 5374,1148.5000,   1148.5,   4.7085,  34.6671,2,  34.6619,2,     89.3,2,     89.2,2,   102.30,2,    36.64,2,     0.00,2,     2.70,2, -999.000,5, -999.000,5, -999.000,5,   -999.0,9,   -999.0,9,-999.0000,9,  -999.00,   -999.0,9,  -999.00,9,    0.008,2,    0.004,   1.8910,2,   0.0008,    15.26,2,     0.20,    7.925,2,    0.011,   -999.0,9,   -999.0,  -999.00,9,-999.0000,9,-999.0000,9,-999.0000,9,-999.0000,9,-999.0000,9,-999.0000,9,-999.0000,9,-999.0000,9,-999.0000,9,   4.6138,   4.7083,2
  33RR20070322,  I09N,   120,  1,     17,     17,2,20070405,1328,-10.8848,  94.9992, 5374,1251.0000,   1251.0,   4.4249,  34.6884,2,  34.6869,2,     92.9,2,     92.3,2,   105.38,2,    36.68,2,     0.00,2,     2.70,2, -999.000,9, -999.000,9, -999.000,9,   -999.0,9,   -999.0,9,-999.0000,9,  -999.00,   -999.0,9,  -999.00,9, -999.000,9, -999.000,-999.0000,9,-999.0000,  -999.00,9,  -999.00, -999.000,9, -999.000,   -999.0,9,   -999.0,  -999.00,9,-999.0000,9,-999.0000,9,-999.0000,9,-999.0000,9,-999.0000,9,-999.0000,9,-999.0000,9,-999.0000,9,-999.0000,9,   4.3235,   4.4259,2
  33RR20070322,  I09N,   120,  1,     16,     16,2,20070405,1328,-10.8848,  94.9992, 5374,1348.3000,   1348.3,   4.1329,  34.7061,2,  34.7060,2,     97.1,2,     97.0,2,   106.71,2,    36.57,2,     0.00,2,     2.69,2,    0.016,2,    0.007,2, -999.000,5,   -999.0,9,   -999.0,9,-999.0000,9,  -999.00,   -999.0,9,  -999.00,9,    0.068,2,    0.004,   1.9050,2,   0.0007,    14.44,2,     0.18,    7.993,2,    0.012,   -999.0,9,   -999.0,  -999.00,9,-999.0000,9,-999.0000,9,-999.0000,9,-999.0000,9,-999.0000,9,-999.0000,9,-999.0000,9,-999.0000,9,-999.0000,9,   4.0256,   4.1375,2
  33RR20070322,  I09N,   120,  1,     15,     15,2,20070405,1328,-10.8848,  94.9992, 5374,1451.4000,   1451.4,   3.7440,  34.7120,2,  34.7121,2,    104.8,2,    105.6,2,   109.21,2,    36.41,2,     0.00,2,     2.66,2, -999.000,9, -999.000,9, -999.000,9,   -999.0,9,   -999.0,9,-999.0000,9,  -999.00,   -999.0,9,  -999.00,9, -999.000,9, -999.000,-999.0000,9,-999.0000,  -999.00,9,  -999.00, -999.000,9, -999.000,   -999.0,9,   -999.0,  -999.00,9,-999.0000,9,-999.0000,9,-999.0000,9,-999.0000,9,-999.0000,9,-999.0000,9,-999.0000,9,-999.0000,9,-999.0000,9,   3.6316,   3.7476,2
  33RR20070322,  I09N,   120,  1,     14,     14,2,20070405,1328,-10.8848,  94.9992, 5374,1550.3000,   1550.3,   3.4430,  34.7246,2,  34.7249,2,    112.3,2,    113.8,2,   110.36,2,    36.08,2,     0.00,2,     2.63,2,    0.006,2,    0.003,2, -999.000,5,   -999.0,9,   -999.0,9,-999.0000,9,  -999.00,   -999.0,9,  -999.00,9,    0.001,2,    0.004,   1.8980,2,   0.0012,    13.91,2,     0.20,    8.098,2,    0.011,   -999.0,9,   -999.0,  -999.00,9,-999.0000,9,-999.0000,9,-999.0000,9,-999.0000,9,-999.0000,9,-999.0000,9,-999.0000,9,-999.0000,9,-999.0000,9,   3.3253,   3.4433,2
  33RR20070322,  I09N,   120,  1,     13,     13,2,20070405,1328,-10.8848,  94.9992, 5374,1752.1000,   1752.1,   3.0192,  34.7442,2,  34.7436,2,    123.9,2,    125.7,2,   112.67,2,    35.62,2,     0.00,2,     2.57,2, -999.000,9, -999.000,9, -999.000,9,   -999.0,9,   -999.0,9,-999.0000,9,  -999.00,   -999.0,9,  -999.00,9, -999.000,9, -999.000,   1.9050,2,   0.0003,    13.66,2,     0.19,    8.107,2,    0.012,   -999.0,9,   -999.0,  -999.00,9,-999.0000,9,-999.0000,9,-999.0000,9,-999.0000,9,-999.0000,9,-999.0000,9,-999.0000,9,-999.0000,9,-999.0000,9,   2.8891,   3.0196,2
  33RR20070322,  I09N,   120,  1,     12,     12,2,20070405,1328,-10.8848,  94.9992, 5374,1953.7000,   1953.7,   2.6181,  34.7451,2,  34.7452,2,    136.8,2,    138.4,2,   116.15,2,    34.97,2,     0.00,2,     2.52,2,    0.004,2,    0.001,2, -999.000,5,   -999.0,9,   -999.0,9,-999.0000,9,  -999.00,   -999.0,9,  -999.00,9,    0.001,2,    0.004,   1.8960,2,   0.0005,    14.18,2,     0.20,    8.077,2,    0.008,   -999.0,9,   -999.0,  -999.00,9,-999.0000,9,-999.0000,9,-999.0000,9,-999.0000,9,-999.0000,9,-999.0000,9,-999.0000,9,-999.0000,9,-999.0000,9,   2.4760,   2.6186,2
  33RR20070322,  I09N,   120,  1,     11,     11,2,20070405,1328,-10.8848,  94.9992, 5374,2116.0000,   2116.0,   2.4099,  34.7422,2,  34.7428,2,    143.4,2,    144.3,2,   117.69,2,    34.76,2,     0.00,2,     2.48,2, -999.000,9, -999.000,9, -999.000,9,   -999.0,9,   -999.0,9,-999.0000,9,  -999.00,   -999.0,9,  -999.00,9, -999.000,9, -999.000,   1.9180,2,   0.0004,    14.27,2,     0.18,    8.214,2,    0.010,   -999.0,9,   -999.0,  -999.00,9,-999.0000,9,-999.0000,9,-999.0000,9,-999.0000,9,-999.0000,9,-999.0000,9,-999.0000,9,-999.0000,9,-999.0000,9,   2.2567,   2.4098,2
  33RR20070322,  I09N,   120,  1,     10,     10,2,20070405,1328,-10.8848,  94.9992, 5374,2368.6000,   2368.6,   2.1321,  34.7378,2,  34.7385,2,    152.5,2,    153.3,2,   120.21,2,    34.44,2,     0.00,2,     2.44,2,    0.004,2,    0.001,2, -999.000,5,   -999.0,9,   -999.0,9,-999.0000,9,  -999.00,   -999.0,9,  -999.00,9, -999.000,9, -999.000,   2.0990,4,   0.0007,    13.38,3,     0.18,    8.866,3,    0.010,   -999.0,9,   -999.0,  -999.00,9,-999.0000,9,-999.0000,9,-999.0000,9,-999.0000,9,-999.0000,9,-999.0000,9,-999.0000,9,-999.0000,9,-999.0000,9,   1.9610,   2.1325,2
  33RR20070322,  I09N,   120,  1,      9,      9,2,20070405,1328,-10.8848,  94.9992, 5374,2620.4000,   2620.4,   1.9188,  34.7342,2,  34.7340,2,    159.9,2,    159.8,2,   122.92,2,    34.12,2,     0.00,2,     2.41,2, -999.000,9, -999.000,9, -999.000,9,   2300.5,2,   2399.3,6,-999.0000,5,    25.00,   -999.0,9,  -999.00,9, -999.000,9, -999.000,   1.9270,2,   0.0006,    13.99,2,     0.19,    8.271,2,    0.009,   -999.0,9,   -999.0,  -999.00,9,-999.0000,9,-999.0000,9,-999.0000,9,-999.0000,9,-999.0000,9,-999.0000,9,-999.0000,9,-999.0000,9,-999.0000,9,   1.7286,   1.9187,2
  33RR20070322,  I09N,   120,  1,      8,      8,2,20070405,1328,-10.8848,  94.9992, 5374,2873.7000,   2873.7,   1.7613,  34.7305,2,  34.7304,2,    164.6,2,    164.0,2,   125.25,2,    34.06,2,     0.00,2,     2.40,2,    0.002,2,    0.001,2, -999.000,5,   -999.0,9,   -999.0,9,-999.0000,9,  -999.00,   -999.0,9,  -999.00,9, -999.000,9, -999.000,   1.9130,2,   0.0005,    13.62,2,     0.19,    8.169,2,    0.013,   -999.0,9,   -999.0,  -999.00,9,-999.0000,9,-999.0000,9,-999.0000,9,-999.0000,9,-999.0000,9,-999.0000,9,-999.0000,9,-999.0000,9,-999.0000,9,   1.5506,   1.7614,2
  33RR20070322,  I09N,   120,  1,      7,      7,2,20070405,1328,-10.8848,  94.9992, 5374,3126.6000,   3126.6,   1.6211,  34.7266,2,  34.7268,2,    169.5,2,    169.1,2,   127.38,2,    33.85,2,     0.00,2,     2.40,2, -999.000,9, -999.000,9, -999.000,9,   -999.0,9,   -999.0,9,-999.0000,9,  -999.00,   -999.0,9,  -999.00,9, -999.000,9, -999.000,-999.0000,9,-999.0000,  -999.00,9,  -999.00, -999.000,9, -999.000,   -999.0,9,   -999.0,  -999.00,9,-999.0000,9,-999.0000,9,-999.0000,9,-999.0000,9,-999.0000,9,-999.0000,9,-999.0000,9,-999.0000,9,-999.0000,9,   1.3891,   1.6206,2
  33RR20070322,  I09N,   120,  1,      6,      6,2,20070405,1328,-10.8848,  94.9992, 5374,3534.0000,   3534.0,   1.3894,  34.7206,2,  34.7211,2,    179.2,2,    179.2,2,   128.73,2,    33.43,2,     0.00,2,     2.34,2,    0.003,2,    0.002,2, -999.000,5,   -999.0,9,   -999.0,9,-999.0000,9,  -999.00,   -999.0,9,  -999.00,9, -999.000,9, -999.000,-999.0000,9,-999.0000,  -999.00,9,  -999.00, -999.000,9, -999.000,   -999.0,9,   -999.0,  -999.00,9,-999.0000,9,-999.0000,9,-999.0000,9,-999.0000,9,-999.0000,9,-999.0000,9,-999.0000,9,-999.0000,9,-999.0000,9,   1.1223,   1.3885,2
  33RR20070322,  I09N,   120,  1,      5,      5,2,20070405,1328,-10.8848,  94.9992, 5374,3939.8000,   3939.8,   1.2361,  34.7173,2,  34.7166,2,    188.4,2,    188.4,2,   127.72,2,    32.90,2,     0.00,2,     2.31,2, -999.000,9, -999.000,9, -999.000,9,   -999.0,9,   -999.0,9,-999.0000,9,  -999.00,   -999.0,9,  -999.00,9, -999.000,9, -999.000,-999.0000,9,-999.0000,  -999.00,9,  -999.00, -999.000,9, -999.000,   -999.0,9,   -999.0,  -999.00,9,-999.0000,9,-999.0000,9,-999.0000,9,-999.0000,9,-999.0000,9,-999.0000,9,-999.0000,9,-999.0000,9,-999.0000,9,   0.9308,   1.2364,2