BOTTLE,20150630SIOCCHRJL
EXPOCODE,SECT_ID,STNNBR,CASTNO,SAMPNO,BTLNBR,BTLNBR_FLAG_W,DATE,TIME,LATITUDE,LONGITUDE,DEPTH,CTDRAW,CTDPRS,CTDTMP,CTDSAL,CTDSAL_FLAG_W,SALNTY,SALNTY_FLAG_W,CTDOXY,CTDOXY_FLAG_W,OXYGEN,OXYGEN_FLAG_W,SILCAT,SILCAT_FLAG_W,NITRAT,NITRAT_FLAG_W,NITRIT,NITRIT_FLAG_W,PHSPHT,PHSPHT_FLAG_W,CFC-11,CFC-11_FLAG_W,CFC-12,CFC-12_FLAG_W,CFC113,CFC113_FLAG_W,TCARBN,TCARBN_FLAG_W,ALKALI,ALKALI_FLAG_W,PH_SWS,PH_SWS_FLAG_W,PH_TMP,DOC,DOC_FLAG_W,TDN,TDN_FLAG_W,TRITUM,TRITUM_FLAG_W,TRITER,HELIUM,HELIUM_FLAG_W,HELIER,DELHE3,DELHE3_FLAG_W,DELHER,NEON,NEON_FLAG_W,NEONER,DELC14,DELC14_FLAG_W,C14ERR,DELC13,DELC13_FLAG_W,CDOM325,CDOM325_FLAG_W,CDOM340,CDOM340_FLAG_W,CDOM380,CDOM380_FLAG_W,CDOM412,CDOM412_FLAG_W,CDOM443,CDOM443_FLAG_W,CDOM490,CDOM490_FLAG_W,CDOM555,CDOM555_FLAG_W,CDOMSL,CDOMSL_FLAG_W,CDOMSN,CDOMSN_FLAG_W,THETA,SBE35,SBE35_FLAG_W
,,,,,,,,,,,METERS,,DBAR,ITS-90,PSS-78,,PSS-78,,UMOL/KG,,UMOL/KG,,UMOL/KG,,UMOL/KG,,UMOL/KG,,UMOL/KG,,PMOL/KG,,PMOL/KG,,PMOL/KG,,UMOL/KG,,UMOL/KG,,,,DEG C,UMOL/KG,,UMOL/KG,,TU,,TU,NMOL/KG,,NMOL/KG,PERCNT,,PERCNT,NMOL/KG,,NMOL/KG,/MILLE,,/MILLE,/MILLE,,1/M,,1/M,,1/M,,1/M,,1/M,,1/M,,1/M,,1/NM,,1/NM,,DEG C,ITS-90,
  33RR20070322,  I09N,   129,  1,     36,     38,2,20070408,1045, -6.0683,  95.0017, 5118,   2.1000,      2.1,  29.5115,  34.0005,2,  33.9784,2,    196.6,2,    196.4,2,     1.57,2,     0.05,2,     0.00,2,     0.08,2,    1.524,2,    0.976,2, -999.000,5,   1908.4,6,   2230.3,6,   8.0015,3,    25.00,     71.0,2,     5.60,2, -999.000,9, -999.000,-999.0000,9,-999.0000,  -999.00,9,  -999.00, -999.000,9, -999.000,   -999.0,9,   -999.0,  -999.00,9,-999.0000,9,-999.0000,9,-999.0000,9,-999.0000,9,-999.0000,9,-999.0000,9,-999.0000,9,-999.0000,9,-999.0000,9,  29.5110,  29.5596,2
  33RR20070322,  I09N,   129,  1,     35,     35,2,20070408,1045, -6.0683,  95.0017, 5118,  40.4000,     40.4,  26.8466,  34.5230,2,  34.5198,2,    204.7,2,    207.3,2,     2.32,2,     0.05,2,     0.00,2,     0.12,2,    1.689,2,    1.073,2, -999.000,5,   1953.6,2,   2264.5,2,   8.0782,2,    25.00,     68.9,2,     5.84,2, -999.000,9, -999.000,-999.0000,9,-999.0000,  -999.00,9,  -999.00, -999.000,9, -999.000,   -999.0,9,   -999.0,  -999.00,9,-999.0000,9,-999.0000,9,-999.0000,9,-999.0000,9,-999.0000,9,-999.0000,9,-999.0000,9,-999.0000,9,-999.0000,9,  26.8374,  26.8049,2
  33RR20070322,  I09N,   129,  1,     34,   9419,2,20070408,1045, -6.0683,  95.0017, 5118,  75.2000,     75.2,  21.7170,  35.0470,2,  35.0487,2,     93.5,2,     89.6,2,    10.82,2,    15.72,2,     0.30,2,     1.14,2,    1.595,2,    0.970,2, -999.000,5,   2112.6,2,   2294.4,2,   7.8088,2,    25.00,     58.7,2,    20.11,2, -999.000,9, -999.000,-999.0000,9,-999.0000,  -999.00,9,  -999.00, -999.000,9, -999.000,   -999.0,9,   -999.0,  -999.00,9,-999.0000,9,-999.0000,9,-999.0000,9,-999.0000,9,-999.0000,9,-999.0000,9,-999.0000,9,-999.0000,9,-999.0000,9,  21.7023,  21.7109,2
  33RR20070322,  I09N,   129,  1,     33,     33,2,20070408,1045, -6.0683,  95.0017, 5118,  95.3000,     95.3,  20.1132,  35.1184,2,  35.1232,2,     64.8,2,     62.5,2,    13.27,2,    19.70,2,     0.88,2,     1.43,2,    1.590,2,    0.958,2, -999.000,5,   2147.4,2,   2296.8,2,   7.7259,2,    25.00,     56.7,2,    25.19,2, -999.000,9, -999.000,-999.0000,9,-999.0000,  -999.00,9,  -999.00, -999.000,9, -999.000,   -999.0,9,   -999.0,  -999.00,9,-999.0000,9,-999.0000,9,-999.0000,9,-999.0000,9,-999.0000,9,-999.0000,9,-999.0000,9,-999.0000,9,-999.0000,9,  20.0955,  20.1021,2
  33RR20070322,  I09N,   129,  1,     32,     37,2,20070408,1045, -6.0683,  95.0017, 5118, 124.5000,    124.5,  16.5699,  34.9565,2,  34.9582,2,     52.5,2,     52.0,2,    20.83,2,    24.68,2,     0.02,2,     1.70,2,    1.400,2,    0.810,2, -999.000,5,   2178.0,2,   2297.6,2,   7.6496,2,    25.00,     53.3,2,    29.07,2, -999.000,9, -999.000,-999.0000,9,-999.0000,  -999.00,9,  -999.00, -999.000,9, -999.000,   -999.0,9,   -999.0,  -999.00,9,-999.0000,9,-999.0000,9,-999.0000,9,-999.0000,9,-999.0000,9,-999.0000,9,-999.0000,9,-999.0000,9,-999.0000,9,  16.5498,  16.5214,2
  33RR20070322,  I09N,   129,  1,     31,     31,2,20070408,1045, -6.0683,  95.0017, 5118, 145.8000,    145.8,  14.5144,  34.8571,2,  34.8566,2,     67.1,2,     61.2,2,    25.35,2,    25.56,2,     0.01,2,     1.77,2,    1.278,2,    0.725,2, -999.000,5,   2188.9,2,   2300.6,2,-999.0000,5,    25.00,     51.8,2,    29.17,2, -999.000,9, -999.000,-999.0000,9,-999.0000,  -999.00,9,  -999.00, -999.000,9, -999.000,   -999.0,9,   -999.0,  -999.00,9,-999.0000,9,-999.0000,9,-999.0000,9,-999.0000,9,-999.0000,9,-999.0000,9,-999.0000,9,-999.0000,9,-999.0000,9,  14.4929,  14.5222,2
  33RR20070322,  I09N,   129,  1,     30,     30,2,20070408,1045, -6.0683,  95.0017, 5118, 175.1000,    175.1,  12.9544,  34.8451,2,  34.8436,2,     62.1,2,     63.3,2,    28.75,2,    27.14,2,     0.00,2,     1.89,2,    1.085,2,    0.605,2, -999.000,5,   2204.4,2,   2305.8,2,   7.5980,3,    25.00,     50.2,2,    30.58,2, -999.000,9, -999.000,-999.0000,9,-999.0000,  -999.00,9,  -999.00, -999.000,9, -999.000,   -999.0,9,   -999.0,  -999.00,9,-999.0000,9,-999.0000,9,-999.0000,9,-999.0000,9,-999.0000,9,-999.0000,9,-999.0000,9,-999.0000,9,-999.0000,9,  12.9304,  12.9304,2
  33RR20070322,  I09N,   129,  1,     29,     29,2,20070408,1045, -6.0683,  95.0017, 5118, 224.4000,    224.4,  12.4553,  35.0192,2,  35.0191,2,     65.5,2,     72.2,2,    22.69,2,    26.28,2,     0.00,2,     1.80,2,    1.222,2,    0.665,2, -999.000,5,   2204.1,2,   2310.8,2,   7.6165,2,    25.00,     49.4,2,    30.15,2, -999.000,9, -999.000,-999.0000,9,-999.0000,  -999.00,9,  -999.00, -999.000,9, -999.000,   -999.0,9,   -999.0,  -999.00,9,-999.0000,9,-999.0000,9,-999.0000,9,-999.0000,9,-999.0000,9,-999.0000,9,-999.0000,9,-999.0000,9,-999.0000,9,  12.4253,  12.4556,2
  33RR20070322,  I09N,   129,  1,     28,     28,2,20070408,1045, -6.0683,  95.0017, 5118, 274.8000,    274.8,  11.5049,  34.9672,2,  34.9683,2,     73.0,2,     71.6,2,    24.57,2,    27.75,2,     0.00,2,     1.88,2,    0.979,2,    0.538,2, -999.000,5,   2212.8,2,   2308.8,2,   7.5817,2,    25.00,     48.6,2,    31.30,2, -999.000,9, -999.000,-999.0000,9,-999.0000,  -999.00,9,  -999.00, -999.000,9, -999.000,   -999.0,9,   -999.0,  -999.00,9,-999.0000,9,-999.0000,9,-999.0000,9,-999.0000,9,-999.0000,9,-999.0000,9,-999.0000,9,-999.0000,9,-999.0000,9,  11.4699,  11.5049,2
  33RR20070322,  I09N,   129,  1,     27,     27,2,20070408,1045, -6.0683,  95.0017, 5118, 325.4000,    325.4,  10.8140,  34.9375,2,  34.9397,2,     68.9,2,     71.7,2,    26.07,2,    29.14,2,     0.00,2,     1.94,2,    0.789,2,    0.427,2, -999.000,5,   2217.3,2,   2308.9,2,   7.5685,2,    25.00,     47.8,2,    32.96,2, -999.000,9, -999.000,-999.0000,9,-999.0000,  -999.00,9,  -999.00, -999.000,9, -999.000,   -999.0,9,   -999.0,  -999.00,9,-999.0000,9,-999.0000,9,-999.0000,9,-999.0000,9,-999.0000,9,-999.0000,9,-999.0000,9,-999.0000,9,-999.0000,9,  10.7741,  10.8174,2
  33RR20070322,  I09N,   129,  1,     26,     26,2,20070408,1045, -6.0683,  95.0017, 5118, 374.9000,    374.9,  10.2379,  34.8933,2,  34.8940,2,     63.8,2,     62.7,2,    30.61,2,    31.20,2,     0.00,2,     2.09,2,    0.491,2,    0.272,2, -999.000,5,   2228.7,2,   2312.1,2,   7.5249,2,    25.00,     46.6,2,    34.70,2, -999.000,9, -999.000,-999.0000,9,-999.0000,  -999.00,9,  -999.00, -999.000,9, -999.000,   -999.0,9,   -999.0,  -999.00,9,-999.0000,9,-999.0000,9,-999.0000,9,-999.0000,9,-999.0000,9,-999.0000,9,-999.0000,9,-999.0000,9,-999.0000,9,  10.1934,  10.2390,2
  33RR20070322,  I09N,   129,  1,     25,     25,2,20070408,1045, -6.0683,  95.0017, 5118, 424.6000,    424.6,   9.8559,  34.8720,2,  34.8725,2,     62.8,2,     62.1,2,    33.82,2,    32.02,2,     0.00,2,     2.17,2,    0.369,2,    0.210,2, -999.000,5,   2233.8,2,   2314.6,2,   7.5378,2,    25.00,     46.1,2,    35.03,2, -999.000,9, -999.000,-999.0000,9,-999.0000,  -999.00,9,  -999.00, -999.000,9, -999.000,   -999.0,9,   -999.0,  -999.00,9,-999.0000,9,-999.0000,9,-999.0000,9,-999.0000,9,-999.0000,9,-999.0000,9,-999.0000,9,-999.0000,9,-999.0000,9,   9.8066,   9.8549,2
  33RR20070322,  I09N,   129,  1,     24,     24,2,20070408,1045, -6.0683,  95.0017, 5118, 475.1000,    475.1,   9.5071,  34.8578,2,  34.8589,2,     62.3,2,     62.1,2,    37.02,2,    32.58,2,     0.00,2,     2.23,2,    0.288,2,    0.159,2, -999.000,5,   2238.5,2,   2317.4,2,   7.5241,2,    25.00,     45.0,2,    35.72,2, -999.000,9, -999.000,-999.0000,9,-999.0000,  -999.00,9,  -999.00, -999.000,9, -999.000,   -999.0,9,   -999.0,  -999.00,9,-999.0000,9,-999.0000,9,-999.0000,9,-999.0000,9,-999.0000,9,-999.0000,9,-999.0000,9,-999.0000,9,-999.0000,9,   9.4530,   9.5009,2
  33RR20070322,  I09N,   129,  1,     23,     23,2,20070408,1045, -6.0683,  95.0017, 5118, 525.8000,    525.8,   9.0361,  34.8424,2,  34.8422,2,     61.4,2,     61.7,2,    42.50,2,    33.42,2,     0.00,2,     2.33,2,    0.192,2,    0.109,2, -999.000,5,   2245.5,2,   2321.1,2,   7.5214,2,    25.00,     44.4,2,    36.13,2, -999.000,9, -999.000,-999.0000,9,-999.0000,  -999.00,9,  -999.00, -999.000,9, -999.000,   -999.0,9,   -999.0,  -999.00,9,-999.0000,9,-999.0000,9,-999.0000,9,-999.0000,9,-999.0000,9,-999.0000,9,-999.0000,9,-999.0000,9,-999.0000,9,   8.9779,   9.0369,2
  33RR20070322,  I09N,   129,  1,     22,     22,2,20070408,1045, -6.0683,  95.0017, 5118, 645.2000,    645.2,   8.3871,  34.8694,2,  34.8725,2,     55.1,2,     54.2,2,    54.07,2,    34.80,2,     0.00,2,     2.50,2,    0.102,2,    0.059,2, -999.000,5,   2267.5,2,   2333.8,2,   7.5047,2,    25.00,     43.2,2,    37.70,2, -999.000,9, -999.000,-999.0000,9,-999.0000,  -999.00,9,  -999.00, -999.000,9, -999.000,   -999.0,9,   -999.0,  -999.00,9,-999.0000,9,-999.0000,9,-999.0000,9,-999.0000,9,-999.0000,9,-999.0000,9,-999.0000,9,-999.0000,9,-999.0000,9,   8.3182,   8.3873,2
  33RR20070322,  I09N,   129,  1,     21,     21,2,20070408,1045, -6.0683,  95.0017, 5118, 745.1000,    745.1,   7.7144,  34.8579,2,  34.8597,2,     54.6,2,     54.0,2,    64.31,2,    35.58,2,     0.00,2,     2.59,2,    0.068,2,    0.038,2, -999.000,5,   2280.5,2,   2344.7,2,   7.4951,2,    25.00,     42.5,2,    38.51,2, -999.000,9, -999.000,-999.0000,9,-999.0000,  -999.00,9,  -999.00, -999.000,9, -999.000,   -999.0,9,   -999.0,  -999.00,9,-999.0000,9,-999.0000,9,-999.0000,9,-999.0000,9,-999.0000,9,-999.0000,9,-999.0000,9,-999.0000,9,-999.0000,9,   7.6381,   7.7157,2
  33RR20070322,  I09N,   129,  1,     20,     20,2,20070408,1045, -6.0683,  95.0017, 5118, 845.7000,    845.7,   6.8196,  34.8115,2,  34.8138,2,     57.1,2,     60.1,2,    75.16,2,    36.26,2,     0.00,2,     2.64,2,    0.035,2,    0.020,2, -999.000,5,   2291.7,2,   2355.4,2,   7.4843,2,    25.00,     41.9,2,    39.12,2, -999.000,9, -999.000,-999.0000,9,-999.0000,  -999.00,9,  -999.00, -999.000,9, -999.000,   -999.0,9,   -999.0,  -999.00,9,-999.0000,9,-999.0000,9,-999.0000,9,-999.0000,9,-999.0000,9,-999.0000,9,-999.0000,9,-999.0000,9,-999.0000,9,   6.7381,   6.8267,2
  33RR20070322,  I09N,   129,  1,     19,     19,2,20070408,1045, -6.0683,  95.0017, 5118, 946.2000,    946.2,   6.2258,  34.7913,2,  34.7932,2,     64.6,2,     65.1,2,    82.97,2,    36.57,2,     0.00,2,     2.66,2,    0.027,2,    0.014,2, -999.000,5,   2299.5,2,   2363.5,2,   7.5105,2,    25.00,     41.6,2,    38.71,2, -999.000,9, -999.000,-999.0000,9,-999.0000,  -999.00,9,  -999.00, -999.000,9, -999.000,   -999.0,9,   -999.0,  -999.00,9,-999.0000,9,-999.0000,9,-999.0000,9,-999.0000,9,-999.0000,9,-999.0000,9,-999.0000,9,-999.0000,9,-999.0000,9,   6.1381,   6.2275,2
  33RR20070322,  I09N,   129,  1,     18,     18,2,20070408,1045, -6.0683,  95.0017, 5118,1047.3000,   1047.3,   5.5077,  34.7518,2,  34.7540,2,     71.8,2,     74.2,2,    91.95,2,    36.57,2,     0.00,2,     2.67,2,    0.024,2,    0.013,2, -999.000,5,   2302.1,6,   2372.9,6,   7.5069,6,    25.00,     41.1,2,    38.02,2, -999.000,9, -999.000,-999.0000,9,-999.0000,  -999.00,9,  -999.00, -999.000,9, -999.000,   -999.0,9,   -999.0,  -999.00,9,-999.0000,9,-999.0000,9,-999.0000,9,-999.0000,9,-999.0000,9,-999.0000,9,-999.0000,9,-999.0000,9,-999.0000,9,   5.4156,   5.5137,2
  33RR20070322,  I09N,   129,  1,     17,     17,2,20070408,1045, -6.0683,  95.0017, 5118,1146.3000,   1146.3,   5.2122,  34.7604,2,  34.7613,2,     76.9,2,     77.4,2,    95.39,2,    36.74,2,     0.00,2,     2.68,2, -999.000,9, -999.000,9, -999.000,9,   2307.8,2,   2375.7,2,   7.5171,2,    25.00,     41.0,2,    37.75,2, -999.000,9, -999.000,-999.0000,9,-999.0000,  -999.00,9,  -999.00, -999.000,9, -999.000,   -999.0,9,   -999.0,  -999.00,9,-999.0000,9,-999.0000,9,-999.0000,9,-999.0000,9,-999.0000,9,-999.0000,9,-999.0000,9,-999.0000,9,-999.0000,9,   5.1132,   5.2233,2
  33RR20070322,  I09N,   129,  1,     16,     16,2,20070408,1045, -6.0683,  95.0017, 5118,1246.9000,   1246.9,   4.8555,  34.7630,2,  34.7646,2,     81.7,2,     81.6,2,    98.83,2,    36.68,2,     0.00,2,     2.68,2,    0.009,2,    0.004,2, -999.000,5,   2310.3,2,   2381.3,2,   7.5036,2,    25.00,     40.9,2,    38.08,2, -999.000,9, -999.000,-999.0000,9,-999.0000,  -999.00,9,  -999.00, -999.000,9, -999.000,   -999.0,9,   -999.0,  -999.00,9,-999.0000,9,-999.0000,9,-999.0000,9,-999.0000,9,-999.0000,9,-999.0000,9,-999.0000,9,-999.0000,9,-999.0000,9,   4.7502,   4.8574,2
  33RR20070322,  I09N,   129,  1,     15,     15,2,20070408,1045, -6.0683,  95.0017, 5118,1347.3000,   1347.3,   4.4611,  34.7672,2,  34.7682,2,     88.1,2,     88.6,2,   102.47,2,    36.69,2,     0.00,2,     2.67,2, -999.000,9, -999.000,9, -999.000,9,   2312.5,2,   2383.4,2,   7.5088,2,    25.00,     40.9,2,    38.24,2, -999.000,9, -999.000,-999.0000,9,-999.0000,  -999.00,9,  -999.00, -999.000,9, -999.000,   -999.0,9,   -999.0,  -999.00,9,-999.0000,9,-999.0000,9,-999.0000,9,-999.0000,9,-999.0000,9,-999.0000,9,-999.0000,9,-999.0000,9,-999.0000,9,   4.3504,   4.4638,2
  33RR20070322,  I09N,   129,  1,     14,     14,2,20070408,1045, -6.0683,  95.0017, 5118,1448.1000,   1448.1,   4.1895,  34.7871,2,  34.7878,2,     94.4,2,     94.9,2,   104.18,2,    36.58,2,     0.00,2,     2.65,2,    0.005,2,    0.002,2, -999.000,5,   2312.2,2,   2388.1,2,   7.5165,2,    25.00,     40.4,2,    38.04,2, -999.000,9, -999.000,-999.0000,9,-999.0000,  -999.00,9,  -999.00, -999.000,9, -999.000,   -999.0,9,   -999.0,  -999.00,9,-999.0000,9,-999.0000,9,-999.0000,9,-999.0000,9,-999.0000,9,-999.0000,9,-999.0000,9,-999.0000,9,-999.0000,9,   4.0723,   4.1886,2
  33RR20070322,  I09N,   129,  1,     13,     13,2,20070408,1045, -6.0683,  95.0017, 5118,1549.7000,   1549.7,   3.8260,  34.7815,2,  34.7827,2,    101.9,2,    103.8,2,   106.86,2,    36.22,2,     0.00,2,     2.62,2, -999.000,9, -999.000,9, -999.000,9,   2311.6,2,   2391.4,2,-999.0000,5,    25.00,     40.4,2,    38.16,2, -999.000,9, -999.000,-999.0000,9,-999.0000,  -999.00,9,  -999.00, -999.000,9, -999.000,   -999.0,9,   -999.0,  -999.00,9,-999.0000,9,-999.0000,9,-999.0000,9,-999.0000,9,-999.0000,9,-999.0000,9,-999.0000,9,-999.0000,9,-999.0000,9,   3.7037,   3.8267,2
  33RR20070322,  I09N,   129,  1,     12,     12,2,20070408,1045, -6.0683,  95.0017, 5118,1750.5000,   1750.5,   3.2182,  34.7732,2,  34.7743,2,    118.0,2,    117.9,2,   112.82,2,    35.66,2,     0.00,2,     2.56,2, -999.000,9, -999.000,9, -999.000,9,   2311.6,2,   2396.8,2,   7.5299,2,    25.00,     40.2,2,    37.16,2, -999.000,9, -999.000,-999.0000,9,-999.0000,  -999.00,9,  -999.00, -999.000,9, -999.000,   -999.0,9,   -999.0,  -999.00,9,-999.0000,9,-999.0000,9,-999.0000,9,-999.0000,9,-999.0000,9,-999.0000,9,-999.0000,9,-999.0000,9,-999.0000,9,   3.0855,   3.2174,2
  33RR20070322,  I09N,   129,  1,     11,     11,2,20070408,1045, -6.0683,  95.0017, 5118,1951.3000,   1951.3,   2.7663,  34.7609,2,  34.7621,2,    129.3,2,    129.3,2,   117.63,2,    35.30,2,     0.00,2,     2.52,2,    0.005,2,    0.001,2, -999.000,5,   2311.0,2,   2399.6,2,   7.5491,2,    25.00,     40.5,2,    37.12,2, -999.000,9, -999.000,-999.0000,9,-999.0000,  -999.00,9,  -999.00, -999.000,9, -999.000,   -999.0,9,   -999.0,  -999.00,9,-999.0000,9,-999.0000,9,-999.0000,9,-999.0000,9,-999.0000,9,-999.0000,9,-999.0000,9,-999.0000,9,-999.0000,9,   2.6221,   2.7673,2
  33RR20070322,  I09N,   129,  1,     10,     10,2,20070408,1045, -6.0683,  95.0017, 5118,2113.7000,   2113.7,   2.4884,  34.7551,2,  34.7565,2,    136.5,2,    137.0,2,   120.90,2,    34.99,2,     0.00,2,     2.48,2, -999.000,9, -999.000,9, -999.000,9,   2311.2,2,   2403.8,2,   7.5685,2,    25.00,     40.3,2,    36.90,2, -999.000,9, -999.000,-999.0000,9,-999.0000,  -999.00,9,  -999.00, -999.000,9, -999.000,   -999.0,9,   -999.0,  -999.00,9,-999.0000,9,-999.0000,9,-999.0000,9,-999.0000,9,-999.0000,9,-999.0000,9,-999.0000,9,-999.0000,9,-999.0000,9,   2.3341,   2.4884,2
  33RR20070322,  I09N,   129,  1,      9,      9,2,20070408,1045, -6.0683,  95.0017, 5118,2364.5000,   2364.5,   2.1592,  34.7470,2,  34.7473,2,    146.2,2,    146.8,2,   125.34,2,    34.68,2,     0.00,2,     2.44,2, -999.000,9, -999.000,9, -999.000,9,   2310.1,2,   2408.0,2,   7.5743,2,    25.00,     40.2,2,    36.46,2, -999.000,9, -999.000,-999.0000,9,-999.0000,  -999.00,9,  -999.00, -999.000,9, -999.000,   -999.0,9,   -999.0,  -999.00,9,-999.0000,9,-999.0000,9,-999.0000,9,-999.0000,9,-999.0000,9,-999.0000,9,-999.0000,9,-999.0000,9,-999.0000,9,   1.9879,   2.1602,2
  33RR20070322,  I09N,   129,  1,      8,      8,2,20070408,1045, -6.0683,  95.0017, 5118,2617.7000,   2617.7,   1.9398,  34.7391,2,  34.7398,2,    154.9,2,    154.3,2,   126.50,2,    34.42,2,     0.00,2,     2.40,2,    0.006,2,    0.001,2, -999.000,5,   2308.7,2,   2409.1,2,   7.5860,2,    25.00,     40.7,2,    36.01,2, -999.000,9, -999.000,-999.0000,9,-999.0000,  -999.00,9,  -999.00, -999.000,9, -999.000,   -999.0,9,   -999.0,  -999.00,9,-999.0000,9,-999.0000,9,-999.0000,9,-999.0000,9,-999.0000,9,-999.0000,9,-999.0000,9,-999.0000,9,-999.0000,9,   1.7494,   1.9410,2
  33RR20070322,  I09N,   129,  1,      7,      7,2,20070408,1045, -6.0683,  95.0017, 5118,2870.5000,   2870.5,   1.7653,  34.7339,2,  34.7349,2,    160.5,2,    160.0,2,   129.00,2,    34.22,2,     0.00,2,     2.39,2, -999.000,9, -999.000,9, -999.000,9,   2309.8,2,   2412.6,2,   6.9185,4,    25.00,     40.4,2,    36.04,2, -999.000,9, -999.000,-999.0000,9,-999.0000,  -999.00,9,  -999.00, -999.000,9, -999.000,   -999.0,9,   -999.0,  -999.00,9,-999.0000,9,-999.0000,9,-999.0000,9,-999.0000,9,-999.0000,9,-999.0000,9,-999.0000,9,-999.0000,9,-999.0000,9,   1.5548,   1.7649,2
  33RR20070322,  I09N,   129,  1,      6,      6,2,20070408,1045, -6.0683,  95.0017, 5118,3125.0000,   3125.0,   1.6160,  34.7290,2,  34.7294,2,    165.9,2,    165.6,2,   130.54,2,    33.97,2,     0.00,2,     2.37,2, -999.000,9, -999.000,9, -999.000,9,   2307.2,2,   2415.8,2,   7.5982,2,    25.00,     40.8,2,    35.37,2, -999.000,9, -999.000,-999.0000,9,-999.0000,  -999.00,9,  -999.00, -999.000,9, -999.000,   -999.0,9,   -999.0,  -999.00,9,-999.0000,9,-999.0000,9,-999.0000,9,-999.0000,9,-999.0000,9,-999.0000,9,-999.0000,9,-999.0000,9,-999.0000,9,   1.3842,   1.6164,2
  33RR20070322,  I09N,   129,  1,      5,      5,2,20070408,1045, -6.0683,  95.0017, 5118,3531.2000,   3531.2,   1.3643,  34.7214,2,  34.7219,2,    177.1,2,    177.7,2,   131.31,2,    33.51,2,     0.00,2,     2.33,2,    0.004,2,    0.001,2, -999.000,5,   2297.8,2,   2414.2,2,   7.6230,3,    25.00,     40.4,2,    35.35,2, -999.000,9, -999.000,-999.0000,9,-999.0000,  -999.00,9,  -999.00, -999.000,9, -999.000,   -999.0,9,   -999.0,  -999.00,9,-999.0000,9,-999.0000,9,-999.0000,9,-999.0000,9,-999.0000,9,-999.0000,9,-999.0000,9,-999.0000,9,-999.0000,9,   1.0981,   1.3645,2