BOTTLE,20150630SIOCCHRJL
EXPOCODE,SECT_ID,STNNBR,CASTNO,SAMPNO,BTLNBR,BTLNBR_FLAG_W,DATE,TIME,LATITUDE,LONGITUDE,DEPTH,CTDRAW,CTDPRS,CTDTMP,CTDSAL,CTDSAL_FLAG_W,SALNTY,SALNTY_FLAG_W,CTDOXY,CTDOXY_FLAG_W,OXYGEN,OXYGEN_FLAG_W,SILCAT,SILCAT_FLAG_W,NITRAT,NITRAT_FLAG_W,NITRIT,NITRIT_FLAG_W,PHSPHT,PHSPHT_FLAG_W,CFC-11,CFC-11_FLAG_W,CFC-12,CFC-12_FLAG_W,CFC113,CFC113_FLAG_W,TCARBN,TCARBN_FLAG_W,ALKALI,ALKALI_FLAG_W,PH_SWS,PH_SWS_FLAG_W,PH_TMP,DOC,DOC_FLAG_W,TDN,TDN_FLAG_W,TRITUM,TRITUM_FLAG_W,TRITER,HELIUM,HELIUM_FLAG_W,HELIER,DELHE3,DELHE3_FLAG_W,DELHER,NEON,NEON_FLAG_W,NEONER,DELC14,DELC14_FLAG_W,C14ERR,DELC13,DELC13_FLAG_W,CDOM325,CDOM325_FLAG_W,CDOM340,CDOM340_FLAG_W,CDOM380,CDOM380_FLAG_W,CDOM412,CDOM412_FLAG_W,CDOM443,CDOM443_FLAG_W,CDOM490,CDOM490_FLAG_W,CDOM555,CDOM555_FLAG_W,CDOMSL,CDOMSL_FLAG_W,CDOMSN,CDOMSN_FLAG_W,THETA,SBE35,SBE35_FLAG_W
,,,,,,,,,,,METERS,,DBAR,ITS-90,PSS-78,,PSS-78,,UMOL/KG,,UMOL/KG,,UMOL/KG,,UMOL/KG,,UMOL/KG,,UMOL/KG,,PMOL/KG,,PMOL/KG,,PMOL/KG,,UMOL/KG,,UMOL/KG,,,,DEG C,UMOL/KG,,UMOL/KG,,TU,,TU,NMOL/KG,,NMOL/KG,PERCNT,,PERCNT,NMOL/KG,,NMOL/KG,/MILLE,,/MILLE,/MILLE,,1/M,,1/M,,1/M,,1/M,,1/M,,1/M,,1/M,,1/NM,,1/NM,,DEG C,ITS-90,
  33RR20070322,  I09N,   182,  1,     36,     38,2,20070422,2220,  9.8270,  86.7823, 3516,   3.0000,      3.0,  30.2660,  33.4633,2,  33.4639,2,    194.7,2,    194.7,2,     1.49,2,     0.05,2,     0.00,2,     0.06,2,    1.510,2,    0.979,2, -999.000,5,   1888.9,6,   2204.8,6,   8.0915,6,    25.00,   -999.0,9,  -999.00,9, -999.000,9, -999.000,-999.0000,9,-999.0000,  -999.00,9,  -999.00, -999.000,9, -999.000,   -999.0,9,   -999.0,  -999.00,9,   0.0772,2,   0.0515,2,   0.0236,2,   0.0165,2,  -0.0003,4,  -0.0016,4,  -0.0030,4,   0.0107,3,   0.0196,3,  30.2653,  30.2623,2
  33RR20070322,  I09N,   182,  1,     35,     35,2,20070422,2220,  9.8270,  86.7823, 3516,  39.6000,     39.6,  29.5216,  33.8773,2,  33.8637,2,    197.6,2,    198.8,2,     1.45,2,     0.05,2,     0.00,2,     0.08,2,    1.538,2,    1.000,2, -999.000,5,   1907.3,2,   2229.3,2,   8.1187,2,    25.00,   -999.0,9,  -999.00,9, -999.000,9, -999.000,-999.0000,9,-999.0000,  -999.00,9,  -999.00, -999.000,9, -999.000,   -999.0,9,   -999.0,  -999.00,9,   0.0932,2,   0.0632,2,   0.0305,2,   0.0218,2,   0.0024,2,  -0.0002,4,  -0.0023,4,   0.0114,3,   0.0177,3,  29.5119,  29.5161,2
  33RR20070322,  I09N,   182,  1,     34,   9419,2,20070422,2220,  9.8270,  86.7823, 3516,  74.4000,     74.4,  28.7299,  34.6858,2,  34.6878,2,    197.1,2,    196.6,2,     1.20,2,     0.05,2,     0.00,2,     0.13,2, -999.000,9, -999.000,9, -999.000,9,   1944.8,2,   2270.0,2,   8.0790,2,    25.00,   -999.0,9,  -999.00,9, -999.000,9, -999.000,-999.0000,9,-999.0000,  -999.00,9,  -999.00, -999.000,9, -999.000,   -999.0,9,   -999.0,  -999.00,9,   0.1190,2,   0.0841,2,   0.0435,2,   0.0324,2,   0.0080,2,   0.0022,2,  -0.0010,4,   0.0118,3,   0.0156,3,  28.7120,  28.7189,2
  33RR20070322,  I09N,   182,  1,     33,     33,2,20070422,2220,  9.8270,  86.7823, 3516,  94.5000,     94.5,  26.1673,  34.4948,2,  34.5182,2,    127.1,2,    126.1,2,     5.45,2,     6.46,2,     1.43,2,     0.68,2,    1.413,2,    0.912,2, -999.000,5,   2021.2,2,   2262.1,2,   7.9479,2,    25.00,   -999.0,9,  -999.00,9, -999.000,9, -999.000,-999.0000,9,-999.0000,  -999.00,9,  -999.00, -999.000,9, -999.000,   -999.0,9,   -999.0,  -999.00,9,   0.1968,2,   0.1464,2,   0.0779,2,   0.0570,2,   0.0210,2,   0.0075,2,   0.0018,2,   0.0126,3,   0.0151,3,  26.1462,  26.1980,2
  33RR20070322,  I09N,   182,  1,     32,     37,2,20070422,2220,  9.8270,  86.7823, 3516, 124.1000,    124.1,  20.6711,  34.7268,2,  34.7305,2,     38.0,2,     38.3,2,    17.52,2,    22.67,2,     0.03,2,     1.62,2,    1.073,2,    0.732,2, -999.000,5,   2144.2,2,   2275.1,2,   7.7012,2,    25.00,   -999.0,9,  -999.00,9, -999.000,9, -999.000,-999.0000,9,-999.0000,  -999.00,9,  -999.00, -999.000,9, -999.000,   -999.0,9,   -999.0,  -999.00,9,   0.1991,2,   0.1468,2,   0.0843,2,   0.0659,2,   0.0262,2,   0.0085,2,   0.0020,2,   0.0133,3,   0.0139,3,  20.6477,  20.6683,2
  33RR20070322,  I09N,   182,  1,     31,     31,2,20070422,2220,  9.8270,  86.7823, 3516, 144.0000,    144.0,  17.9871,  34.8771,2,  34.8751,2,      7.6,2,      4.4,2,    23.72,2,    27.70,2,     0.01,2,     2.07,2,    0.917,2,    0.557,2, -999.000,5,   2199.4,2,   2290.0,2,   7.5601,2,    25.00,   -999.0,9,  -999.00,9, -999.000,9, -999.000,-999.0000,9,-999.0000,  -999.00,9,  -999.00, -999.000,9, -999.000,   -999.0,9,   -999.0,  -999.00,9,   0.1947,2,   0.1446,2,   0.0840,2,   0.0654,2,   0.0271,2,   0.0090,2,   0.0019,2,   0.0131,3,   0.0136,3,  17.9624,  18.0094,2
  33RR20070322,  I09N,   182,  1,     30,     30,2,20070422,2220,  9.8270,  86.7823, 3516, 174.5000,    174.5,  14.9719,  34.9469,2,  34.9469,2,      5.5,2,      6.3,2,    29.54,2,    30.45,2,     0.00,2,     2.25,2,    0.670,2,    0.393,2, -999.000,5,   2230.6,2,   2299.5,2,   7.5228,2,    25.00,   -999.0,9,  -999.00,9, -999.000,9, -999.000,-999.0000,9,-999.0000,  -999.00,9,  -999.00, -999.000,9, -999.000,   -999.0,9,   -999.0,  -999.00,9,   0.1938,2,   0.1451,2,   0.0875,2,   0.0688,2,   0.0298,2,   0.0098,2,   0.0020,2,   0.0122,3,   0.0130,3,  14.9455,  14.9728,2
  33RR20070322,  I09N,   182,  1,     29,     29,2,20070422,2220,  9.8270,  86.7823, 3516, 223.9000,    223.9,  12.9114,  35.0145,2,  35.0154,2,      6.6,2,      6.1,2,    33.21,2,    32.32,2,     0.00,2,     2.35,2,    0.515,2,    0.294,2, -999.000,5,   2250.4,6,   2309.4,6,   7.4823,6,    25.00,   -999.0,9,  -999.00,9, -999.000,9, -999.000,-999.0000,9,-999.0000,  -999.00,9,  -999.00, -999.000,9, -999.000,   -999.0,9,   -999.0,  -999.00,9,   0.1952,2,   0.1473,2,   0.0917,2,   0.0733,2,   0.0332,2,   0.0106,2,   0.0020,2,   0.0130,3,   0.0125,3,  12.8807,  12.9101,2
  33RR20070322,  I09N,   182,  1,     28,     28,2,20070422,2220,  9.8270,  86.7823, 3516, 274.1000,    274.1,  11.8996,  35.0402,2,  35.0382,2,     10.2,2,     11.4,2,    34.74,2,    33.11,2,     0.00,2,     2.36,2,    0.486,2,    0.275,2, -999.000,5,   2258.9,2,   2313.0,2,   7.4707,2,    25.00,   -999.0,9,  -999.00,9, -999.000,9, -999.000,-999.0000,9,-999.0000,  -999.00,9,  -999.00, -999.000,9, -999.000,   -999.0,9,   -999.0,  -999.00,9,   0.1940,2,   0.1463,2,   0.0918,2,   0.0738,2,   0.0336,2,   0.0105,2,   0.0019,2,   0.0139,3,   0.0124,3,  11.8639,  11.8969,2
  33RR20070322,  I09N,   182,  1,     27,     27,2,20070422,2220,  9.8270,  86.7823, 3516, 324.1000,    324.1,  11.2418,  35.0394,2,  35.0398,2,     14.2,2,     13.8,2,    37.44,2,    33.75,2,     0.00,2,     2.39,2,    0.416,2,    0.236,2, -999.000,5,   2263.0,2,   2317.4,2,   7.4668,2,    25.00,   -999.0,9,  -999.00,9, -999.000,9, -999.000,-999.0000,9,-999.0000,  -999.00,9,  -999.00, -999.000,9, -999.000,   -999.0,9,   -999.0,  -999.00,9,   0.1966,2,   0.1484,2,   0.0933,2,   0.0756,2,   0.0352,2,   0.0114,2,   0.0023,2,   0.0138,3,   0.0122,3,  11.2010,  11.2420,2
  33RR20070322,  I09N,   182,  1,     26,     26,2,20070422,2220,  9.8270,  86.7823, 3516, 373.7000,    373.7,  10.7579,  35.0409,2,  35.0404,2,     14.6,2,     15.0,2,    40.34,2,    34.49,2,     0.00,2,     2.45,2, -999.000,9, -999.000,9, -999.000,9,   2269.3,2,   2320.1,2,   7.4423,2,    25.00,   -999.0,9,  -999.00,9, -999.000,9, -999.000,-999.0000,9,-999.0000,  -999.00,9,  -999.00, -999.000,9, -999.000,   -999.0,9,   -999.0,  -999.00,9,   0.1976,2,   0.1491,2,   0.0937,2,   0.0756,2,   0.0352,2,   0.0112,2,   0.0020,2,   0.0139,3,   0.0123,3,  10.7121,  10.7563,2
  33RR20070322,  I09N,   182,  1,     25,     25,2,20070422,2220,  9.8270,  86.7823, 3516, 424.2000,    424.2,  10.4055,  35.0366,2,  35.0337,2,     15.8,2,     15.5,2,    43.43,2,    34.98,2,     0.00,2,     2.50,2,    0.252,2,    0.148,2, -999.000,5,   2272.9,2,   2320.3,2,   7.4584,2,    25.00,   -999.0,9,  -999.00,9, -999.000,9, -999.000,-999.0000,9,-999.0000,  -999.00,9,  -999.00, -999.000,9, -999.000,   -999.0,9,   -999.0,  -999.00,9,   0.1986,2,   0.1499,2,   0.0944,2,   0.0757,2,   0.0356,2,   0.0119,2,   0.0024,2,   0.0137,3,   0.0122,3,  10.3544,  10.4046,2
  33RR20070322,  I09N,   182,  1,     24,     24,2,20070422,2220,  9.8270,  86.7823, 3516, 474.2000,    474.2,  10.0134,  35.0312,2,  35.0308,2,     16.5,2,     16.5,2,    46.73,2,    35.38,2,     0.00,2,     2.55,2,    0.205,2,    0.116,2, -999.000,5,   2276.8,2,   2324.8,2,   7.4582,2,    25.00,   -999.0,9,  -999.00,9, -999.000,9, -999.000,-999.0000,9,-999.0000,  -999.00,9,  -999.00, -999.000,9, -999.000,   -999.0,9,   -999.0,  -999.00,9,   0.1958,2,   0.1474,2,   0.0924,2,   0.0739,2,   0.0344,2,   0.0109,2,   0.0019,2,   0.0139,3,   0.0123,3,   9.9575,  10.0128,2
  33RR20070322,  I09N,   182,  1,     23,     23,2,20070422,2220,  9.8270,  86.7823, 3516, 524.0000,    524.0,   9.6864,  35.0267,2,  35.0227,2,     17.3,2,     16.8,2,    50.02,2,    35.77,2,     0.00,2,     2.59,2,    0.154,2,    0.089,2, -999.000,5,   2280.9,2,   2329.1,2,   7.4552,2,    25.00,   -999.0,9,  -999.00,9, -999.000,9, -999.000,-999.0000,9,-999.0000,  -999.00,9,  -999.00, -999.000,9, -999.000,   -999.0,9,   -999.0,  -999.00,9,   0.1978,2,   0.1488,2,   0.0932,2,   0.0745,2,   0.0350,2,   0.0114,2,   0.0020,2,   0.0138,3,   0.0123,3,   9.6257,   9.6850,2
  33RR20070322,  I09N,   182,  1,     22,     22,2,20070422,2220,  9.8270,  86.7823, 3516, 643.8000,    643.8,   8.9224,  35.0032,2,  35.0021,2,     25.1,2,     24.7,2,    58.62,2,    36.11,2,     0.00,2,     2.63,2,    0.111,2,    0.066,2, -999.000,5,   2287.4,2,   2337.6,2,   7.4708,2,    25.00,   -999.0,9,  -999.00,9, -999.000,9, -999.000,-999.0000,9,-999.0000,  -999.00,9,  -999.00, -999.000,9, -999.000,   -999.0,9,   -999.0,  -999.00,9,   0.1944,2,   0.1456,2,   0.0897,2,   0.0695,2,   0.0316,2,   0.0096,2,   0.0014,2,   0.0141,3,   0.0128,3,   8.8510,   8.9299,2
  33RR20070322,  I09N,   182,  1,     21,     21,2,20070422,2220,  9.8270,  86.7823, 3516, 744.1000,    744.1,   8.1856,  34.9795,2,  34.9787,2,     31.7,2,     32.3,2,    66.26,2,    36.36,2,     0.00,2,     2.66,2,    0.080,2,    0.045,2, -999.000,5,   2294.0,2,   2345.5,2,   7.4608,2,    25.00,   -999.0,9,  -999.00,9, -999.000,9, -999.000,-999.0000,9,-999.0000,  -999.00,9,  -999.00, -999.000,9, -999.000,   -999.0,9,   -999.0,  -999.00,9,   0.1959,2,   0.1465,2,   0.0904,2,   0.0699,2,   0.0322,2,   0.0100,2,   0.0017,2,   0.0141,3,   0.0128,3,   8.1067,   8.1885,2
  33RR20070322,  I09N,   182,  1,     20,     20,2,20070422,2220,  9.8270,  86.7823, 3516, 844.4000,    844.4,   7.5534,  34.9596,2,  34.9592,2,     37.3,2,     38.8,2,    73.12,2,    36.59,2,     0.00,2,     2.68,2,    0.054,2,    0.034,2, -999.000,5,   2299.8,2,   2353.5,2,   7.4632,2,    25.00,   -999.0,9,  -999.00,9, -999.000,9, -999.000,-999.0000,9,-999.0000,  -999.00,9,  -999.00, -999.000,9, -999.000,   -999.0,9,   -999.0,  -999.00,9,   0.1931,2,   0.1440,2,   0.0871,2,   0.0667,2,   0.0302,2,   0.0093,2,   0.0012,2,   0.0141,3,   0.0131,3,   7.4672,   7.5521,2
  33RR20070322,  I09N,   182,  1,     19,     19,2,20070422,2220,  9.8270,  86.7823, 3516, 945.4000,    945.4,   6.9605,  34.9409,2,  34.9401,2,     42.1,2,     42.5,2,    79.79,2,    37.04,2,     0.00,2,     2.72,2,    0.035,2,    0.022,2, -999.000,5,   2307.3,2,   2360.4,2,   7.4742,2,    25.00,   -999.0,9,  -999.00,9, -999.000,9, -999.000,-999.0000,9,-999.0000,  -999.00,9,  -999.00, -999.000,9, -999.000,   -999.0,9,   -999.0,  -999.00,9,   0.1975,2,   0.1479,2,   0.0902,2,   0.0696,2,   0.0322,2,   0.0100,2,   0.0015,2,   0.0141,3,   0.0129,3,   6.8675,   6.9602,2
  33RR20070322,  I09N,   182,  1,     18,     18,2,20070422,2220,  9.8270,  86.7823, 3516,1045.2000,   1045.2,   6.3748,  34.9211,2,  34.9214,2,     47.9,2,     48.9,2,    86.09,2,    37.18,2,     0.00,2,     2.74,2, -999.000,9, -999.000,9, -999.000,9,   2311.8,2,   2366.8,2,   7.4649,2,    25.00,   -999.0,9,  -999.00,9, -999.000,9, -999.000,-999.0000,9,-999.0000,  -999.00,9,  -999.00, -999.000,9, -999.000,   -999.0,9,   -999.0,  -999.00,9,   0.1971,2,   0.1471,2,   0.0896,2,   0.0687,2,   0.0318,2,   0.0098,2,   0.0016,2,   0.0141,3,   0.0130,3,   6.2759,   6.3762,2
  33RR20070322,  I09N,   182,  1,     17,     17,2,20070422,2220,  9.8270,  86.7823, 3516,1145.8000,   1145.8,   5.9206,  34.9044,2,  34.9032,2,     55.1,2,     55.8,2,    91.21,2,    37.12,2,     0.00,2,     2.73,2,    0.028,2,    0.012,2, -999.000,5,   2314.8,2,   2376.6,2,   7.4661,2,    25.00,   -999.0,9,  -999.00,9, -999.000,9, -999.000,-999.0000,9,-999.0000,  -999.00,9,  -999.00, -999.000,9, -999.000,   -999.0,9,   -999.0,  -999.00,9,   0.1952,2,   0.1451,2,   0.0883,2,   0.0671,2,   0.0311,2,   0.0098,2,   0.0015,2,   0.0140,3,   0.0130,3,   5.8153,   5.9169,2
  33RR20070322,  I09N,   182,  1,     16,     16,2,20070422,2220,  9.8270,  86.7823, 3516,1246.3000,   1246.3,   5.5354,  34.8907,2,  34.8908,2,     61.5,2,     61.5,2,    95.53,2,    37.17,2,     0.00,2,     2.73,2, -999.000,9, -999.000,9, -999.000,9,   2316.4,2,   2381.5,2,   7.4793,2,    25.00,   -999.0,9,  -999.00,9, -999.000,9, -999.000,-999.0000,9,-999.0000,  -999.00,9,  -999.00, -999.000,9, -999.000,   -999.0,9,   -999.0,  -999.00,9,   0.1964,2,   0.1459,2,   0.0884,2,   0.0673,2,   0.0315,2,   0.0101,2,   0.0019,2,   0.0140,3,   0.0130,3,   5.4236,   5.5347,2
  33RR20070322,  I09N,   182,  1,     15,     15,2,20070422,2220,  9.8270,  86.7823, 3516,1346.5000,   1346.5,   5.1553,  34.8751,2,  34.8755,2,     69.6,2,     69.8,2,    99.08,2,    36.91,2,     0.00,2,     2.71,2,    0.015,2,    0.009,2, -999.000,5,   2316.9,2,   2379.5,2,   7.4949,2,    25.00,   -999.0,9,  -999.00,9, -999.000,9, -999.000,-999.0000,9,-999.0000,  -999.00,9,  -999.00, -999.000,9, -999.000,   -999.0,9,   -999.0,  -999.00,9,   0.1953,2,   0.1449,2,   0.0880,2,   0.0674,2,   0.0321,2,   0.0107,2,   0.0025,2,   0.0138,3,   0.0129,3,   5.0374,   5.1558,2
  33RR20070322,  I09N,   182,  1,     14,     14,2,20070422,2220,  9.8270,  86.7823, 3516,1447.7000,   1447.7,   4.7596,  34.8608,2,  34.8619,2,     75.5,2,     74.4,2,   103.83,2,    37.00,2,     0.00,2,     2.71,2, -999.000,9, -999.000,9, -999.000,9,   2321.7,2,   2380.3,2,   7.4905,2,    25.00,   -999.0,9,  -999.00,9, -999.000,9, -999.000,-999.0000,9,-999.0000,  -999.00,9,  -999.00, -999.000,9, -999.000,   -999.0,9,   -999.0,  -999.00,9,   0.1961,2,   0.1452,2,   0.0873,2,   0.0665,2,   0.0316,2,   0.0106,2,   0.0026,2,   0.0138,3,   0.0130,3,   4.6361,   4.7659,2
  33RR20070322,  I09N,   182,  1,     13,     13,2,20070422,2220,  9.8270,  86.7823, 3516,1547.8000,   1547.8,   4.3679,  34.8471,2,  34.8468,2,     81.1,2,     83.0,2,   108.38,2,    36.90,2,     0.00,2,     2.70,2,    0.011,2,    0.007,2, -999.000,5,   2323.9,2,   2388.2,2,   7.4973,2,    25.00,   -999.0,9,  -999.00,9, -999.000,9, -999.000,-999.0000,9,-999.0000,  -999.00,9,  -999.00, -999.000,9, -999.000,   -999.0,9,   -999.0,  -999.00,9,   0.1934,2,   0.1427,2,   0.0845,2,   0.0634,2,   0.0298,2,   0.0098,2,   0.0023,2,   0.0139,3,   0.0133,3,   4.2393,   4.3679,2
  33RR20070322,  I09N,   182,  1,     12,     12,2,20070422,2220,  9.8270,  86.7823, 3516,1749.6000,   1749.6,   3.5545,  34.8142,2,  34.8143,2,     96.7,2,     96.9,2,   118.93,2,    36.54,2,     0.00,2,     2.67,2, -999.000,9, -999.000,9, -999.000,9,   2328.8,2,   2396.8,2,   7.5206,2,    25.00,   -999.0,9,  -999.00,9, -999.000,9, -999.000,-999.0000,9,-999.0000,  -999.00,9,  -999.00, -999.000,9, -999.000,   -999.0,9,   -999.0,  -999.00,9,   0.1924,2,   0.1417,2,   0.0842,2,   0.0630,2,   0.0293,2,   0.0096,2,   0.0023,2,   0.0139,3,   0.0134,3,   3.4174,   3.5584,2
  33RR20070322,  I09N,   182,  1,     11,     11,2,20070422,2220,  9.8270,  86.7823, 3516,1950.2000,   1950.2,   2.9426,  34.7882,2,  34.7880,2,    110.6,2,    110.3,2,   124.72,2,    36.13,2,     0.00,2,     2.62,2,    0.009,2,    0.005,2, -999.000,5,   2330.7,2,   2404.4,2,   7.5237,2,    25.00,   -999.0,9,  -999.00,9, -999.000,9, -999.000,-999.0000,9,-999.0000,  -999.00,9,  -999.00, -999.000,9, -999.000,   -999.0,9,   -999.0,  -999.00,9,   0.1909,2,   0.1404,2,   0.0832,2,   0.0622,2,   0.0290,2,   0.0097,2,   0.0024,2,   0.0139,3,   0.0134,3,   2.7959,   2.9400,2
  33RR20070322,  I09N,   182,  1,     10,     10,2,20070422,2220,  9.8270,  86.7823, 3516,2111.8000,   2111.8,   2.5962,  34.7726,2,  34.7730,2,    119.0,2,    118.7,2,   129.31,2,    35.92,2,     0.00,2,     2.58,2, -999.000,9, -999.000,9, -999.000,9,   2331.2,2,   2409.6,2,   7.5373,2,    25.00,   -999.0,9,  -999.00,9, -999.000,9, -999.000,-999.0000,9,-999.0000,  -999.00,9,  -999.00, -999.000,9, -999.000,   -999.0,9,   -999.0,  -999.00,9,   0.1869,2,   0.1368,2,   0.0801,2,   0.0585,2,   0.0267,2,   0.0088,2,   0.0019,2,   0.0139,3,   0.0137,3,   2.4403,   2.5973,2
  33RR20070322,  I09N,   182,  1,      9,      9,2,20070422,2220,  9.8270,  86.7823, 3516,2364.5000,   2364.5,   2.2766,  34.7581,2,  34.7585,2,    125.8,2,    125.5,2,   134.31,2,    35.62,2,     0.00,2,     2.56,2,    0.009,2,    0.006,2, -999.000,5,   2334.4,2,   2422.0,2,   7.5363,2,    25.00,   -999.0,9,  -999.00,9, -999.000,9, -999.000,-999.0000,9,-999.0000,  -999.00,9,  -999.00, -999.000,9, -999.000,   -999.0,9,   -999.0,  -999.00,9,   0.1929,2,   0.1418,2,   0.0832,2,   0.0614,2,   0.0283,2,   0.0095,2,   0.0024,2,   0.0140,3,   0.0136,3,   2.1032,   2.2775,2
  33RR20070322,  I09N,   182,  1,      8,      8,2,20070422,2220,  9.8270,  86.7823, 3516,2617.3000,   2617.3,   2.0034,  34.7463,2,  34.7458,2,    133.4,2,    133.4,2,   137.31,2,    35.42,2,     0.00,2,     2.52,2, -999.000,9, -999.000,9, -999.000,9,   2334.4,2,   2429.7,2,   7.5529,2,    25.00,   -999.0,9,  -999.00,9, -999.000,9, -999.000,-999.0000,9,-999.0000,  -999.00,9,  -999.00, -999.000,9, -999.000,   -999.0,9,   -999.0,  -999.00,9,   0.1926,2,   0.1413,2,   0.0830,2,   0.0612,2,   0.0284,2,   0.0099,2,   0.0027,2,   0.0138,3,   0.0136,3,   1.8118,   2.0029,2
  33RR20070322,  I09N,   182,  1,      7,      7,2,20070422,2220,  9.8270,  86.7823, 3516,2869.1000,   2869.1,   1.8156,  34.7384,2,  34.7383,2,    140.1,2,    140.5,2,   139.10,2,    35.10,2,     0.00,2,     2.49,2,    0.011,2,    0.007,2, -999.000,5,   2333.9,2,   2427.0,2,   7.5674,2,    25.00,   -999.0,9,  -999.00,9, -999.000,9, -999.000,-999.0000,9,-999.0000,  -999.00,9,  -999.00, -999.000,9, -999.000,   -999.0,9,   -999.0,  -999.00,9,   0.1930,2,   0.1418,2,   0.0834,2,   0.0617,2,   0.0290,2,   0.0102,2,   0.0030,2,   0.0137,3,   0.0135,3,   1.6041,   1.8154,2
  33RR20070322,  I09N,   182,  1,      6,      6,2,20070422,2220,  9.8270,  86.7823, 3516,3123.2000,   3123.2,   1.6681,  34.7321,2,  34.7315,2,    146.7,2,    147.4,2,   140.29,2,    34.90,2,     0.00,2,     2.46,2, -999.000,9, -999.000,9, -999.000,9,   2331.9,2,   2431.5,2,   7.5773,2,    25.00,   -999.0,9,  -999.00,9, -999.000,9, -999.000,-999.0000,9,-999.0000,  -999.00,9,  -999.00, -999.000,9, -999.000,   -999.0,9,   -999.0,  -999.00,9,   0.1915,2,   0.1405,2,   0.0825,2,   0.0610,2,   0.0286,2,   0.0099,2,   0.0030,2,   0.0138,3,   0.0135,3,   1.4353,   1.6681,2
  33RR20070322,  I09N,   182,  1,      5,      5,2,20070422,2220,  9.8270,  86.7823, 3516,3346.5000,   3346.5,   1.5379,  34.7272,2,  34.7268,2,    156.2,2,    157.6,2,   138.65,2,    34.40,2,     0.00,2,     2.40,2,    0.009,2,    0.006,2, -999.000,5,   2324.4,2,   2434.2,2,   7.5939,2,    25.00,   -999.0,9,  -999.00,9, -999.000,9, -999.000,-999.0000,9,-999.0000,  -999.00,9,  -999.00, -999.000,9, -999.000,   -999.0,9,   -999.0,  -999.00,9,   0.1745,2,   0.1265,2,   0.0736,2,   0.0545,2,   0.0240,2,   0.0076,2,   0.0019,3,   0.0138,3,   0.0137,3,   1.2861,   1.5385,2