BOTTLE,20150630SIOCCHRJL
EXPOCODE,SECT_ID,STNNBR,CASTNO,SAMPNO,BTLNBR,BTLNBR_FLAG_W,DATE,TIME,LATITUDE,LONGITUDE,DEPTH,CTDRAW,CTDPRS,CTDTMP,CTDSAL,CTDSAL_FLAG_W,SALNTY,SALNTY_FLAG_W,CTDOXY,CTDOXY_FLAG_W,OXYGEN,OXYGEN_FLAG_W,SILCAT,SILCAT_FLAG_W,NITRAT,NITRAT_FLAG_W,NITRIT,NITRIT_FLAG_W,PHSPHT,PHSPHT_FLAG_W,CFC-11,CFC-11_FLAG_W,CFC-12,CFC-12_FLAG_W,CFC113,CFC113_FLAG_W,TCARBN,TCARBN_FLAG_W,ALKALI,ALKALI_FLAG_W,PH_SWS,PH_SWS_FLAG_W,PH_TMP,DOC,DOC_FLAG_W,TDN,TDN_FLAG_W,TRITUM,TRITUM_FLAG_W,TRITER,HELIUM,HELIUM_FLAG_W,HELIER,DELHE3,DELHE3_FLAG_W,DELHER,NEON,NEON_FLAG_W,NEONER,DELC14,DELC14_FLAG_W,C14ERR,DELC13,DELC13_FLAG_W,CDOM325,CDOM325_FLAG_W,CDOM340,CDOM340_FLAG_W,CDOM380,CDOM380_FLAG_W,CDOM412,CDOM412_FLAG_W,CDOM443,CDOM443_FLAG_W,CDOM490,CDOM490_FLAG_W,CDOM555,CDOM555_FLAG_W,CDOMSL,CDOMSL_FLAG_W,CDOMSN,CDOMSN_FLAG_W,THETA,SBE35,SBE35_FLAG_W
,,,,,,,,,,,METERS,,DBAR,ITS-90,PSS-78,,PSS-78,,UMOL/KG,,UMOL/KG,,UMOL/KG,,UMOL/KG,,UMOL/KG,,UMOL/KG,,PMOL/KG,,PMOL/KG,,PMOL/KG,,UMOL/KG,,UMOL/KG,,,,DEG C,UMOL/KG,,UMOL/KG,,TU,,TU,NMOL/KG,,NMOL/KG,PERCNT,,PERCNT,NMOL/KG,,NMOL/KG,/MILLE,,/MILLE,/MILLE,,1/M,,1/M,,1/M,,1/M,,1/M,,1/M,,1/M,,1/NM,,1/NM,,DEG C,ITS-90,
  33RR20070322,  I09N,   170,  1,     36,     38,2,20070419,1129,  9.0878,  87.3512, 3580,   1.8000,      1.8,  29.5908,  33.6453,2,  33.6445,2,    197.9,2,    197.3,2,     1.40,2,     0.04,2,     0.00,2,     0.05,2,    1.544,2,    1.004,2, -999.000,5,   1901.5,6,   2215.7,2,   8.0870,6,    25.00,   -999.0,9,  -999.00,9, -999.000,9, -999.000,-999.0000,9,-999.0000,  -999.00,9,  -999.00, -999.000,9, -999.000,   -999.0,9,   -999.0,  -999.00,9,-999.0000,9,-999.0000,9,-999.0000,9,-999.0000,9,-999.0000,9,-999.0000,9,-999.0000,9,-999.0000,9,-999.0000,9,  29.5904,  29.5826,2
  33RR20070322,  I09N,   170,  1,     35,     35,2,20070419,1129,  9.0878,  87.3512, 3580,  29.6000,     29.6,  28.0470,  33.7777,2,  33.7889,2,    204.0,2,    205.3,2,     1.36,2,     0.04,2,     0.00,2,     0.05,2,    1.641,2,    1.054,2, -999.000,5,   -999.0,9,   -999.0,9,-999.0000,9,  -999.00,   -999.0,9,  -999.00,9, -999.000,9, -999.000,-999.0000,9,-999.0000,  -999.00,9,  -999.00, -999.000,9, -999.000,   -999.0,9,   -999.0,  -999.00,9,-999.0000,9,-999.0000,9,-999.0000,9,-999.0000,9,-999.0000,9,-999.0000,9,-999.0000,9,-999.0000,9,-999.0000,9,  28.0400,  28.0445,2
  33RR20070322,  I09N,   170,  1,     34,   9419,2,20070419,1129,  9.0878,  87.3512, 3580,  53.9000,     53.9,  29.1057,  34.6319,2,  34.6323,2,    204.8,2,    199.8,2,     1.12,2,     0.04,2,     0.00,2,     0.11,2,    1.526,2,    0.973,2, -999.000,5,   -999.0,9,   -999.0,9,-999.0000,9,  -999.00,   -999.0,9,  -999.00,9, -999.000,9, -999.000,-999.0000,9,-999.0000,  -999.00,9,  -999.00, -999.000,9, -999.000,   -999.0,9,   -999.0,  -999.00,9,-999.0000,9,-999.0000,9,-999.0000,9,-999.0000,9,-999.0000,9,-999.0000,9,-999.0000,9,-999.0000,9,-999.0000,9,  29.0926,  29.0945,2
  33RR20070322,  I09N,   170,  1,     33,     33,2,20070419,1129,  9.0878,  87.3512, 3580,  79.3000,     79.3,  27.9003,  34.5649,2,  34.5757,2,    187.3,2,    178.7,2,     2.09,2,     0.48,2,     0.14,2,     0.23,2,    1.531,2,    0.977,2, -999.000,5,   -999.0,9,   -999.0,9,-999.0000,9,  -999.00,   -999.0,9,  -999.00,9, -999.000,9, -999.000,-999.0000,9,-999.0000,  -999.00,9,  -999.00, -999.000,9, -999.000,   -999.0,9,   -999.0,  -999.00,9,-999.0000,9,-999.0000,9,-999.0000,9,-999.0000,9,-999.0000,9,-999.0000,9,-999.0000,9,-999.0000,9,-999.0000,9,  27.8817,  27.8969,2
  33RR20070322,  I09N,   170,  1,     32,     37,2,20070419,1129,  9.0878,  87.3512, 3580, 104.4000,    104.4,  22.5825,  34.5392,2,  34.5235,2,     69.5,2,     67.4,2,    13.31,2,    18.03,2,     0.06,2,     1.29,2,    1.254,2,    0.792,2, -999.000,5,   -999.0,9,   -999.0,9,-999.0000,9,  -999.00,   -999.0,9,  -999.00,9, -999.000,9, -999.000,-999.0000,9,-999.0000,  -999.00,9,  -999.00, -999.000,9, -999.000,   -999.0,9,   -999.0,  -999.00,9,-999.0000,9,-999.0000,9,-999.0000,9,-999.0000,9,-999.0000,9,-999.0000,9,-999.0000,9,-999.0000,9,-999.0000,9,  22.5615,  22.5887,2
  33RR20070322,  I09N,   170,  1,     31,     31,2,20070419,1129,  9.0878,  87.3512, 3580, 154.0000,    154.0,  17.5624,  34.9012,2,  34.8997,2,     17.0,2,     13.7,2,    23.91,2,    27.62,2,     0.01,2,     1.99,2,    0.939,2,    0.563,2, -999.000,5,   -999.0,9,   -999.0,9,-999.0000,9,  -999.00,   -999.0,9,  -999.00,9, -999.000,9, -999.000,-999.0000,9,-999.0000,  -999.00,9,  -999.00, -999.000,9, -999.000,   -999.0,9,   -999.0,  -999.00,9,-999.0000,9,-999.0000,9,-999.0000,9,-999.0000,9,-999.0000,9,-999.0000,9,-999.0000,9,-999.0000,9,-999.0000,9,  17.5364,  17.5752,2
  33RR20070322,  I09N,   170,  1,     30,     30,2,20070419,1129,  9.0878,  87.3512, 3580, 204.1000,    204.1,  14.3271,  34.9839,2,  34.9805,2,      7.9,2,      6.8,2,    30.30,2,    31.08,2,     0.00,2,     2.27,2,    0.656,2,    0.377,2, -999.000,5,   2237.7,2,   2302.5,2,   7.5133,2,    25.00,   -999.0,9,  -999.00,9, -999.000,9, -999.000,-999.0000,9,-999.0000,  -999.00,9,  -999.00, -999.000,9, -999.000,   -999.0,9,   -999.0,  -999.00,9,-999.0000,9,-999.0000,9,-999.0000,9,-999.0000,9,-999.0000,9,-999.0000,9,-999.0000,9,-999.0000,9,-999.0000,9,  14.2971,  14.3321,2
  33RR20070322,  I09N,   170,  1,     29,     29,2,20070419,1129,  9.0878,  87.3512, 3580, 254.2000,    254.2,  12.6014,  35.0319,2,  35.0323,2,     11.3,2,     10.6,2,    33.28,2,    32.41,2,     0.00,2,     2.32,2,    0.547,2,    0.308,2, -999.000,5,   -999.0,9,   -999.0,9,-999.0000,9,  -999.00,   -999.0,9,  -999.00,9, -999.000,9, -999.000,-999.0000,9,-999.0000,  -999.00,9,  -999.00, -999.000,9, -999.000,   -999.0,9,   -999.0,  -999.00,9,-999.0000,9,-999.0000,9,-999.0000,9,-999.0000,9,-999.0000,9,-999.0000,9,-999.0000,9,-999.0000,9,-999.0000,9,  12.5671,  12.6046,2
  33RR20070322,  I09N,   170,  1,     28,     28,2,20070419,1129,  9.0878,  87.3512, 3580, 304.0000,    304.0,  11.5492,  35.0318,2,  35.0303,2,     10.4,2,     11.3,2,    37.47,2,    33.84,2,     0.00,2,     2.40,2,    0.404,2,    0.225,2, -999.000,5,   -999.0,9,   -999.0,9,-999.0000,9,  -999.00,   -999.0,9,  -999.00,9, -999.000,9, -999.000,-999.0000,9,-999.0000,  -999.00,9,  -999.00, -999.000,9, -999.000,   -999.0,9,   -999.0,  -999.00,9,-999.0000,9,-999.0000,9,-999.0000,9,-999.0000,9,-999.0000,9,-999.0000,9,-999.0000,9,-999.0000,9,-999.0000,9,  11.5103,  11.5511,2
  33RR20070322,  I09N,   170,  1,     27,     27,2,20070419,1129,  9.0878,  87.3512, 3580, 354.0000,    354.0,  11.0086,  35.0396,2,  35.0401,2,     13.6,2,     13.8,2,    39.44,2,    34.37,2,     0.00,2,     2.43,2,    0.353,2,    0.196,2, -999.000,5,   2267.9,2,   2316.9,6,   7.4617,2,    25.00,   -999.0,9,  -999.00,9, -999.000,9, -999.000,-999.0000,9,-999.0000,  -999.00,9,  -999.00, -999.000,9, -999.000,   -999.0,9,   -999.0,  -999.00,9,-999.0000,9,-999.0000,9,-999.0000,9,-999.0000,9,-999.0000,9,-999.0000,9,-999.0000,9,-999.0000,9,-999.0000,9,  10.9646,  11.0073,2
  33RR20070322,  I09N,   170,  1,     26,     26,2,20070419,1129,  9.0878,  87.3512, 3580, 404.3000,    404.3,  10.5731,  35.0364,2,  35.0362,2,     14.1,2,     15.5,2,    42.62,2,    34.86,2,     0.00,2,     2.47,2,    0.290,2,    0.161,2, -999.000,5,   -999.0,9,   -999.0,9,-999.0000,9,  -999.00,   -999.0,9,  -999.00,9, -999.000,9, -999.000,-999.0000,9,-999.0000,  -999.00,9,  -999.00, -999.000,9, -999.000,   -999.0,9,   -999.0,  -999.00,9,-999.0000,9,-999.0000,9,-999.0000,9,-999.0000,9,-999.0000,9,-999.0000,9,-999.0000,9,-999.0000,9,-999.0000,9,  10.5240,  10.5725,2
  33RR20070322,  I09N,   170,  1,     25,     25,2,20070419,1129,  9.0878,  87.3512, 3580, 453.9000,    453.9,  10.1967,  35.0320,2,  35.0289,2,     15.5,2,     16.9,2,    46.00,2,    35.20,2,     0.00,2,     2.51,2, -999.000,9, -999.000,9, -999.000,9,   -999.0,9,   -999.0,9,-999.0000,9,  -999.00,   -999.0,9,  -999.00,9, -999.000,9, -999.000,-999.0000,9,-999.0000,  -999.00,9,  -999.00, -999.000,9, -999.000,   -999.0,9,   -999.0,  -999.00,9,-999.0000,9,-999.0000,9,-999.0000,9,-999.0000,9,-999.0000,9,-999.0000,9,-999.0000,9,-999.0000,9,-999.0000,9,  10.1427,  10.1958,2
  33RR20070322,  I09N,   170,  1,     24,     24,2,20070419,1129,  9.0878,  87.3512, 3580, 503.9000,    503.9,   9.8412,  35.0272,2,  35.0268,2,     17.7,2,     17.0,2,    49.39,2,    35.70,2,     0.00,2,     2.56,2,    0.168,2,    0.102,2, -999.000,5,   2280.4,2,   2328.8,6,   7.4518,2,    25.00,   -999.0,9,  -999.00,9, -999.000,9, -999.000,-999.0000,9,-999.0000,  -999.00,9,  -999.00, -999.000,9, -999.000,   -999.0,9,   -999.0,  -999.00,9,-999.0000,9,-999.0000,9,-999.0000,9,-999.0000,9,-999.0000,9,-999.0000,9,-999.0000,9,-999.0000,9,-999.0000,9,   9.7824,   9.8412,2
  33RR20070322,  I09N,   170,  1,     23,     23,2,20070419,1129,  9.0878,  87.3512, 3580, 603.3000,    603.3,   9.1211,  35.0108,2,  35.0096,2,     23.4,2,     20.6,2,    57.01,2,    36.29,2,     0.00,2,     2.63,2, -999.000,9, -999.000,9, -999.000,9,   -999.0,9,   -999.0,9,-999.0000,9,  -999.00,   -999.0,9,  -999.00,9, -999.000,9, -999.000,-999.0000,9,-999.0000,  -999.00,9,  -999.00, -999.000,9, -999.000,   -999.0,9,   -999.0,  -999.00,9,-999.0000,9,-999.0000,9,-999.0000,9,-999.0000,9,-999.0000,9,-999.0000,9,-999.0000,9,-999.0000,9,-999.0000,9,   9.0535,   9.1217,2
  33RR20070322,  I09N,   170,  1,     22,     22,2,20070419,1129,  9.0878,  87.3512, 3580, 704.0000,    704.0,   8.4195,  34.9875,2,  34.9868,2,     28.3,2,     29.0,2,    64.65,2,    36.59,2,     0.00,2,     2.65,2,    0.072,2,    0.042,2, -999.000,5,   2294.5,2,   2342.9,2,   7.4590,2,    25.00,   -999.0,9,  -999.00,9, -999.000,9, -999.000,-999.0000,9,-999.0000,  -999.00,9,  -999.00, -999.000,9, -999.000,   -999.0,9,   -999.0,  -999.00,9,-999.0000,9,-999.0000,9,-999.0000,9,-999.0000,9,-999.0000,9,-999.0000,9,-999.0000,9,-999.0000,9,-999.0000,9,   8.3438,   8.4244,2
  33RR20070322,  I09N,   170,  1,     21,     21,2,20070419,1129,  9.0878,  87.3512, 3580, 804.7000,    804.7,   7.8330,  34.9694,2,  34.9705,2,     35.0,2,     35.0,2,    71.07,2,    36.68,2,     0.00,2,     2.67,2, -999.000,9, -999.000,9, -999.000,9,   -999.0,9,   -999.0,9,-999.0000,9,  -999.00,   -999.0,9,  -999.00,9, -999.000,9, -999.000,-999.0000,9,-999.0000,  -999.00,9,  -999.00, -999.000,9, -999.000,   -999.0,9,   -999.0,  -999.00,9,-999.0000,9,-999.0000,9,-999.0000,9,-999.0000,9,-999.0000,9,-999.0000,9,-999.0000,9,-999.0000,9,-999.0000,9,   7.7494,   7.8261,2
  33RR20070322,  I09N,   170,  1,     20,     20,2,20070419,1129,  9.0878,  87.3512, 3580, 904.8000,    904.8,   7.2409,  34.9524,2,  34.9538,2,     39.1,2,     39.1,2,    77.72,2,    37.08,2,     0.00,2,     2.71,2, -999.000,9, -999.000,9, -999.000,9,   -999.0,9,   -999.0,9,-999.0000,9,  -999.00,   -999.0,9,  -999.00,9, -999.000,9, -999.000,-999.0000,9,-999.0000,  -999.00,9,  -999.00, -999.000,9, -999.000,   -999.0,9,   -999.0,  -999.00,9,-999.0000,9,-999.0000,9,-999.0000,9,-999.0000,9,-999.0000,9,-999.0000,9,-999.0000,9,-999.0000,9,-999.0000,9,   7.1503,   7.2402,2
  33RR20070322,  I09N,   170,  1,     19,     19,2,20070419,1129,  9.0878,  87.3512, 3580,1004.9000,   1004.9,   6.5964,  34.9314,2,  34.9321,2,     46.0,2,     45.8,2,    84.56,2,    37.23,2,     0.00,2,     2.73,2,    0.018,2,    0.012,2, -999.000,5,   2310.9,2,   2365.9,2,   7.4639,2,    25.00,   -999.0,9,  -999.00,9, -999.000,9, -999.000,-999.0000,9,-999.0000,  -999.00,9,  -999.00, -999.000,9, -999.000,   -999.0,9,   -999.0,  -999.00,9,-999.0000,9,-999.0000,9,-999.0000,9,-999.0000,9,-999.0000,9,-999.0000,9,-999.0000,9,-999.0000,9,-999.0000,9,   6.4999,   6.6005,2
  33RR20070322,  I09N,   170,  1,     18,     18,2,20070419,1129,  9.0878,  87.3512, 3580,1105.8000,   1105.8,   6.1631,  34.9147,2,  34.9142,2,     52.2,2,     52.7,2,    89.80,2,    37.28,2,     0.00,2,     2.75,2, -999.000,9, -999.000,9, -999.000,9,   -999.0,9,   -999.0,9,-999.0000,9,  -999.00,   -999.0,9,  -999.00,9, -999.000,9, -999.000,-999.0000,9,-999.0000,  -999.00,9,  -999.00, -999.000,9, -999.000,   -999.0,9,   -999.0,  -999.00,9,-999.0000,9,-999.0000,9,-999.0000,9,-999.0000,9,-999.0000,9,-999.0000,9,-999.0000,9,-999.0000,9,-999.0000,9,   6.0598,   6.1652,2
  33RR20070322,  I09N,   170,  1,     17,     17,2,20070419,1129,  9.0878,  87.3512, 3580,1206.2000,   1206.2,   5.6958,  34.8955,2,  34.8959,2,     59.8,2,     60.1,2,    95.04,2,    37.22,2,     0.00,2,     2.74,2, -999.000,9, -999.000,9, -999.000,9,   -999.0,9,   -999.0,9,-999.0000,9,  -999.00,   -999.0,9,  -999.00,9, -999.000,9, -999.000,-999.0000,9,-999.0000,  -999.00,9,  -999.00, -999.000,9, -999.000,   -999.0,9,   -999.0,  -999.00,9,-999.0000,9,-999.0000,9,-999.0000,9,-999.0000,9,-999.0000,9,-999.0000,9,-999.0000,9,-999.0000,9,-999.0000,9,   5.5865,   5.6956,2
  33RR20070322,  I09N,   170,  1,     16,     16,2,20070419,1129,  9.0878,  87.3512, 3580,1306.0000,   1306.0,   5.3236,  34.8823,2,  34.8823,2,     67.1,2,     66.1,2,    98.67,2,    37.12,2,     0.00,2,     2.73,2, -999.000,9, -999.000,9, -999.000,9,   -999.0,9,   -999.0,9,-999.0000,9,  -999.00,   -999.0,9,  -999.00,9, -999.000,9, -999.000,-999.0000,9,-999.0000,  -999.00,9,  -999.00, -999.000,9, -999.000,   -999.0,9,   -999.0,  -999.00,9,-999.0000,9,-999.0000,9,-999.0000,9,-999.0000,9,-999.0000,9,-999.0000,9,-999.0000,9,-999.0000,9,-999.0000,9,   5.2080,   5.3206,2
  33RR20070322,  I09N,   170,  1,     15,     15,2,20070419,1129,  9.0878,  87.3512, 3580,1406.9000,   1406.9,   4.9857,  34.8685,2,  34.8684,2,     74.2,2,     74.2,2,   103.11,2,    36.87,2,     0.00,2,     2.72,2, -999.000,9, -999.000,9, -999.000,9,   -999.0,9,   -999.0,9,-999.0000,9,  -999.00,   -999.0,9,  -999.00,9, -999.000,9, -999.000,-999.0000,9,-999.0000,  -999.00,9,  -999.00, -999.000,9, -999.000,   -999.0,9,   -999.0,  -999.00,9,-999.0000,9,-999.0000,9,-999.0000,9,-999.0000,9,-999.0000,9,-999.0000,9,-999.0000,9,-999.0000,9,-999.0000,9,   4.8637,   4.9848,2
  33RR20070322,  I09N,   170,  1,     14,     14,2,20070419,1129,  9.0878,  87.3512, 3580,1506.8000,   1506.8,   4.6018,  34.8541,2,  34.8544,2,     80.3,2,     79.2,2,   106.95,2,    36.92,2,     0.00,2,     2.72,2,    0.008,2,    0.003,2, -999.000,5,   -999.0,9,   -999.0,9,-999.0000,9,  -999.00,   -999.0,9,  -999.00,9, -999.000,9, -999.000,-999.0000,9,-999.0000,  -999.00,9,  -999.00, -999.000,9, -999.000,   -999.0,9,   -999.0,  -999.00,9,-999.0000,9,-999.0000,9,-999.0000,9,-999.0000,9,-999.0000,9,-999.0000,9,-999.0000,9,-999.0000,9,-999.0000,9,   4.4744,   4.6093,2
  33RR20070322,  I09N,   170,  1,     13,     13,2,20070419,1129,  9.0878,  87.3512, 3580,1608.3000,   1608.3,   4.2129,  34.8403,2,  34.8406,2,     87.0,2,     85.3,2,   111.00,2,    36.87,2,     0.00,2,     2.72,2, -999.000,9, -999.000,9, -999.000,9,   -999.0,9,   -999.0,9,-999.0000,9,  -999.00,   -999.0,9,  -999.00,9, -999.000,9, -999.000,-999.0000,9,-999.0000,  -999.00,9,  -999.00, -999.000,9, -999.000,   -999.0,9,   -999.0,  -999.00,9,-999.0000,9,-999.0000,9,-999.0000,9,-999.0000,9,-999.0000,9,-999.0000,9,-999.0000,9,-999.0000,9,-999.0000,9,   4.0805,   4.2128,2
  33RR20070322,  I09N,   170,  1,     12,     12,2,20070419,1129,  9.0878,  87.3512, 3580,1708.7000,   1708.7,   3.7814,  34.8231,2,  34.8239,2,     94.2,2,     93.4,2,   115.86,2,    36.71,2,     0.00,2,     2.70,2, -999.000,9, -999.000,9, -999.000,9,   -999.0,9,   -999.0,9,-999.0000,9,  -999.00,   -999.0,9,  -999.00,9, -999.000,9, -999.000,-999.0000,9,-999.0000,  -999.00,9,  -999.00, -999.000,9, -999.000,   -999.0,9,   -999.0,  -999.00,9,-999.0000,9,-999.0000,9,-999.0000,9,-999.0000,9,-999.0000,9,-999.0000,9,-999.0000,9,-999.0000,9,-999.0000,9,   3.6451,   3.7716,2
  33RR20070322,  I09N,   170,  1,     11,     11,2,20070419,1129,  9.0878,  87.3512, 3580,1809.7000,   1809.7,   3.4069,  34.8083,2,  34.8088,2,    101.1,2,    101.0,2,   119.92,2,    36.52,2,     0.00,2,     2.68,2, -999.000,9, -999.000,9, -999.000,9,   -999.0,9,   -999.0,9,-999.0000,9,  -999.00,   -999.0,9,  -999.00,9, -999.000,9, -999.000,-999.0000,9,-999.0000,  -999.00,9,  -999.00, -999.000,9, -999.000,   -999.0,9,   -999.0,  -999.00,9,-999.0000,9,-999.0000,9,-999.0000,9,-999.0000,9,-999.0000,9,-999.0000,9,-999.0000,9,-999.0000,9,-999.0000,9,   3.2663,   3.4051,2
  33RR20070322,  I09N,   170,  1,     10,     10,2,20070419,1129,  9.0878,  87.3512, 3580,1910.2000,   1910.2,   3.0765,  34.7939,2,  34.7936,2,    108.6,2,    109.5,2,   123.37,2,    36.17,2,     0.00,2,     2.64,2, -999.000,9, -999.000,9, -999.000,9,   -999.0,9,   -999.0,9,-999.0000,9,  -999.00,   -999.0,9,  -999.00,9, -999.000,9, -999.000,-999.0000,9,-999.0000,  -999.00,9,  -999.00, -999.000,9, -999.000,   -999.0,9,   -999.0,  -999.00,9,-999.0000,9,-999.0000,9,-999.0000,9,-999.0000,9,-999.0000,9,-999.0000,9,-999.0000,9,-999.0000,9,-999.0000,9,   2.9314,   3.0755,2
  33RR20070322,  I09N,   170,  1,      9,      9,2,20070419,1129,  9.0878,  87.3512, 3580,2010.1000,   2010.1,   2.8244,  34.7829,2,  34.7801,3,    114.8,2,    115.8,2,   126.61,2,    36.02,2,     0.00,2,     2.62,2,    0.003,2,    0.005,2, -999.000,5,   2329.9,2,   2409.3,2,   7.5362,2,    25.00,   -999.0,9,  -999.00,9, -999.000,9, -999.000,-999.0000,9,-999.0000,  -999.00,9,  -999.00, -999.000,9, -999.000,   -999.0,9,   -999.0,  -999.00,9,-999.0000,9,-999.0000,9,-999.0000,9,-999.0000,9,-999.0000,9,-999.0000,9,-999.0000,9,-999.0000,9,-999.0000,9,   2.6741,   2.8260,2
  33RR20070322,  I09N,   170,  1,      8,      8,2,20070419,1129,  9.0878,  87.3512, 3580,2262.9000,   2262.9,   2.4003,  34.7637,2,  34.7640,2,    125.9,2,    125.9,2,   131.91,2,    35.72,2,     0.00,2,     2.58,2, -999.000,9, -999.000,9, -999.000,9,   -999.0,9,   -999.0,9,-999.0000,9,  -999.00,   -999.0,9,  -999.00,9, -999.000,9, -999.000,-999.0000,9,-999.0000,  -999.00,9,  -999.00, -999.000,9, -999.000,   -999.0,9,   -999.0,  -999.00,9,-999.0000,9,-999.0000,9,-999.0000,9,-999.0000,9,-999.0000,9,-999.0000,9,-999.0000,9,-999.0000,9,-999.0000,9,   2.2340,   2.4035,2
  33RR20070322,  I09N,   170,  1,      7,      7,2,20070419,1129,  9.0878,  87.3512, 3580,2515.7000,   2515.7,   2.0956,  34.7502,2,  34.7504,2,    134.8,2,    134.8,2,   135.38,2,    35.37,2,     0.00,2,     2.54,2, -999.000,9, -999.000,9, -999.000,9,   -999.0,9,   -999.0,9,-999.0000,9,  -999.00,   -999.0,9,  -999.00,9, -999.000,9, -999.000,-999.0000,9,-999.0000,  -999.00,9,  -999.00, -999.000,9, -999.000,   -999.0,9,   -999.0,  -999.00,9,-999.0000,9,-999.0000,9,-999.0000,9,-999.0000,9,-999.0000,9,-999.0000,9,-999.0000,9,-999.0000,9,-999.0000,9,   1.9117,   2.0970,2
  33RR20070322,  I09N,   170,  1,      6,      6,2,20070419,1129,  9.0878,  87.3512, 3580,2769.1000,   2769.1,   1.8887,  34.7412,2,  34.7408,2,    141.3,2,    141.9,2,   137.19,2,    35.12,2,     0.00,2,     2.51,2, -999.000,9, -999.000,9, -999.000,9,   -999.0,9,   -999.0,9,-999.0000,9,  -999.00,   -999.0,9,  -999.00,9, -999.000,9, -999.000,-999.0000,9,-999.0000,  -999.00,9,  -999.00, -999.000,9, -999.000,   -999.0,9,   -999.0,  -999.00,9,-999.0000,9,-999.0000,9,-999.0000,9,-999.0000,9,-999.0000,9,-999.0000,9,-999.0000,9,-999.0000,9,-999.0000,9,   1.6852,   1.8885,2
  33RR20070322,  I09N,   170,  1,      5,      5,2,20070419,1129,  9.0878,  87.3512, 3580,3021.5000,   3021.5,   1.7371,  34.7348,2,  34.7347,2,    148.0,2,    149.1,2,   138.60,2,    34.77,2,     0.00,2,     2.47,2,    0.005,2,    0.003,2, -999.000,5,   -999.0,9,   -999.0,9,-999.0000,9,  -999.00,   -999.0,9,  -999.00,9, -999.000,9, -999.000,-999.0000,9,-999.0000,  -999.00,9,  -999.00, -999.000,9, -999.000,   -999.0,9,   -999.0,  -999.00,9,-999.0000,9,-999.0000,9,-999.0000,9,-999.0000,9,-999.0000,9,-999.0000,9,-999.0000,9,-999.0000,9,-999.0000,9,   1.5127,   1.7365,2