BOTTLE,20150630SIOCCHRJL
EXPOCODE,SECT_ID,STNNBR,CASTNO,SAMPNO,BTLNBR,BTLNBR_FLAG_W,DATE,TIME,LATITUDE,LONGITUDE,DEPTH,CTDRAW,CTDPRS,CTDTMP,CTDSAL,CTDSAL_FLAG_W,SALNTY,SALNTY_FLAG_W,CTDOXY,CTDOXY_FLAG_W,OXYGEN,OXYGEN_FLAG_W,SILCAT,SILCAT_FLAG_W,NITRAT,NITRAT_FLAG_W,NITRIT,NITRIT_FLAG_W,PHSPHT,PHSPHT_FLAG_W,CFC-11,CFC-11_FLAG_W,CFC-12,CFC-12_FLAG_W,CFC113,CFC113_FLAG_W,TCARBN,TCARBN_FLAG_W,ALKALI,ALKALI_FLAG_W,PH_SWS,PH_SWS_FLAG_W,PH_TMP,DOC,DOC_FLAG_W,TDN,TDN_FLAG_W,TRITUM,TRITUM_FLAG_W,TRITER,HELIUM,HELIUM_FLAG_W,HELIER,DELHE3,DELHE3_FLAG_W,DELHER,NEON,NEON_FLAG_W,NEONER,DELC14,DELC14_FLAG_W,C14ERR,DELC13,DELC13_FLAG_W,CDOM325,CDOM325_FLAG_W,CDOM340,CDOM340_FLAG_W,CDOM380,CDOM380_FLAG_W,CDOM412,CDOM412_FLAG_W,CDOM443,CDOM443_FLAG_W,CDOM490,CDOM490_FLAG_W,CDOM555,CDOM555_FLAG_W,CDOMSL,CDOMSL_FLAG_W,CDOMSN,CDOMSN_FLAG_W,THETA,SBE35,SBE35_FLAG_W
,,,,,,,,,,,METERS,,DBAR,ITS-90,PSS-78,,PSS-78,,UMOL/KG,,UMOL/KG,,UMOL/KG,,UMOL/KG,,UMOL/KG,,UMOL/KG,,PMOL/KG,,PMOL/KG,,PMOL/KG,,UMOL/KG,,UMOL/KG,,,,DEG C,UMOL/KG,,UMOL/KG,,TU,,TU,NMOL/KG,,NMOL/KG,PERCNT,,PERCNT,NMOL/KG,,NMOL/KG,/MILLE,,/MILLE,/MILLE,,1/M,,1/M,,1/M,,1/M,,1/M,,1/M,,1/M,,1/NM,,1/NM,,DEG C,ITS-90,
  33RR20070322,  I09N,   107,  3,     36,     38,2,20070401,0741,-17.9632,  95.0027, 5937,   2.9000,      2.9,  25.9600,  35.1799,2,  35.1786,2,    205.5,2,    206.3,2,     1.94,2,     0.05,2,     0.00,2,     0.08,2,    1.697,2,    1.075,2, -999.000,5,   1977.7,6,   2303.1,6,   8.0828,6,    25.00,     73.0,2,     5.06,2, -999.000,9, -999.000,-999.0000,9,-999.0000,  -999.00,9,  -999.00, -999.000,9, -999.000,     36.3,2,      3.5,     0.69,2,   0.0539,2,   0.0339,2,   0.0153,2,   0.0118,2,  -0.0048,4,  -0.0045,4,  -0.0043,4,   0.0163,3,   0.0218,3,  25.9594,  25.9574,2
  33RR20070322,  I09N,   107,  3,     35,     35,2,20070401,0741,-17.9632,  95.0027, 5937,  56.8000,     56.8,  25.6835,  35.2265,2,  35.2264,2,    208.7,2,    207.0,2,     1.92,2,     0.05,2,     0.00,2,     0.09,2,    1.719,2,    1.088,2, -999.000,5,   1982.9,2,   2306.1,2,   8.0877,2,    25.00,     72.8,2,     5.23,2, -999.000,9, -999.000,-999.0000,9,-999.0000,  -999.00,9,  -999.00, -999.000,9, -999.000,   -999.0,9,   -999.0,  -999.00,9,   0.0524,2,   0.0349,2,   0.0171,2,   0.0136,2,  -0.0039,4,  -0.0042,4,  -0.0040,4,   0.0142,2,   0.0182,2,  25.6709,  25.6788,2
  33RR20070322,  I09N,   107,  3,     34,   9419,2,20070401,0741,-17.9632,  95.0027, 5937, 106.1000,    106.1,  22.4218,  35.2880,2,  35.2799,2,    214.7,2,    207.2,2,     3.05,2,     0.05,2,     0.00,2,     0.12,2,    1.958,2,    1.201,2, -999.000,5,   2012.5,2,   2313.3,2,   8.0438,2,    25.00,     66.8,2,     5.22,2, -999.000,9, -999.000,-999.0000,9,-999.0000,  -999.00,9,  -999.00, -999.000,9, -999.000,     46.6,2,      3.4,     0.88,2,   0.1252,2,   0.0901,2,   0.0464,2,   0.0351,2,   0.0079,2,   0.0010,3,  -0.0013,4,   0.0145,2,   0.0157,3,  22.4005,  22.4668,2
  33RR20070322,  I09N,   107,  3,     33,     33,2,20070401,0741,-17.9632,  95.0027, 5937, 156.7000,    156.7,  20.9821,  35.5300,2,  35.5158,2,    196.4,2,    192.7,2,     3.40,2,     2.11,2,     0.03,2,     0.24,2,    2.016,2,    1.268,2, -999.000,5,   2045.5,2,   2327.5,2,   8.0076,2,    25.00,     60.1,2,     5.84,2, -999.000,9, -999.000,-999.0000,9,-999.0000,  -999.00,9,  -999.00, -999.000,9, -999.000,     52.4,2,      3.1,     0.69,2,   0.1072,2,   0.0788,2,   0.0431,2,   0.0341,2,   0.0082,2,   0.0020,3,  -0.0011,4,   0.0128,2,   0.0139,2,  20.9521,  20.9871,2
  33RR20070322,  I09N,   107,  3,     32,     37,2,20070401,0741,-17.9632,  95.0027, 5937, 205.8000,    205.8,  19.8471,  35.7346,2,  35.7283,2,    198.2,2,    195.4,2,     3.37,2,     2.45,2,     0.02,2,     0.26,2, -999.000,9, -999.000,9, -999.000,9,   2065.6,2,   2340.3,2,   7.9892,2,    25.00,     56.1,2,     5.47,2, -999.000,9, -999.000,-999.0000,9,-999.0000,  -999.00,9,  -999.00, -999.000,9, -999.000,     49.2,2,      3.3,     0.70,2,   0.0951,2,   0.0683,2,   0.0353,2,   0.0272,2,   0.0028,3,  -0.0017,4,  -0.0028,4,   0.0142,2,   0.0156,2,  19.8091,  19.8246,2
  33RR20070322,  I09N,   107,  3,     31,     31,2,20070401,0741,-17.9632,  95.0027, 5937, 255.3000,    255.3,  18.3763,  35.8225,2,  35.8223,2,    200.5,2,    201.2,2,     3.14,2,     2.73,2,     0.01,2,     0.28,2,    2.308,2,    1.399,2, -999.000,5,   2083.1,2,   2347.6,2,   7.9818,2,    25.00,     54.0,2,     5.97,2, -999.000,9, -999.000,-999.0000,9,-999.0000,  -999.00,9,  -999.00, -999.000,9, -999.000,     53.8,2,      2.9,     0.76,2,   0.0851,2,   0.0613,2,   0.0322,2,   0.0249,2,   0.0015,3,  -0.0022,4,  -0.0030,4,   0.0139,2,   0.0153,2,  18.3315,  18.3778,2
  33RR20070322,  I09N,   107,  3,     30,     30,2,20070401,0741,-17.9632,  95.0027, 5937, 304.8000,    304.8,  16.1750,  35.6501,2,  35.6502,2,    200.8,2,    202.2,2,     3.88,2,     4.86,2,     0.01,2,     0.45,2, -999.000,9, -999.000,9, -999.000,9,   2102.0,2,   2339.3,2,   7.9276,2,    25.00,     52.3,2,     8.85,2, -999.000,9, -999.000,-999.0000,9,-999.0000,  -999.00,9,  -999.00, -999.000,9, -999.000,     51.3,2,      3.5,     0.90,2,   0.0922,2,   0.0668,2,   0.0359,2,   0.0275,2,   0.0035,3,  -0.0014,4,  -0.0028,4,   0.0138,2,   0.0149,2,  16.1260,  16.1359,2
  33RR20070322,  I09N,   107,  3,     29,     29,2,20070401,0741,-17.9632,  95.0027, 5937, 355.7000,    355.7,  13.5357,  35.3295,2,  35.3312,2,    211.5,2,    215.7,2,     3.84,2,     7.74,2,     0.01,2,     0.63,2,    2.948,2,    1.686,2, -999.000,5,   2112.9,2,   2323.3,2,   7.8529,2,    25.00,     51.0,2,    10.93,2, -999.000,9, -999.000,-999.0000,9,-999.0000,  -999.00,9,  -999.00, -999.000,9, -999.000,     56.4,2,      2.8,     1.04,2,   0.0849,2,   0.0607,2,   0.0324,2,   0.0245,2,   0.0019,3,  -0.0024,4,  -0.0036,4,   0.0139,2,   0.0153,2,  13.4850,  13.5348,2
  33RR20070322,  I09N,   107,  3,     28,     28,2,20070401,0741,-17.9632,  95.0027, 5937, 404.9000,    404.9,  11.7791,  35.0690,2,  35.0744,2,    224.9,2,    226.9,2,     3.62,2,    10.43,2,     0.00,2,     0.79,2, -999.000,9, -999.000,9, -999.000,9,   2117.2,2,   2308.7,2,   7.8171,2,    25.00,     50.3,2,    13.90,2, -999.000,9, -999.000,-999.0000,9,-999.0000,  -999.00,9,  -999.00, -999.000,9, -999.000,     56.8,2,      3.2,     1.15,2,   0.0809,2,   0.0568,2,   0.0306,2,   0.0230,2,   0.0012,3,  -0.0024,4,  -0.0035,4,   0.0138,2,   0.0154,2,  11.7264,  11.7735,2
  33RR20070322,  I09N,   107,  3,     27,     27,2,20070401,0741,-17.9632,  95.0027, 5937, 455.2000,    455.2,  10.5348,  34.8781,2,  34.8687,2,    233.5,2,    237.5,2,     3.58,2,    12.97,2,     0.00,2,     0.95,2,    3.515,2,    1.901,2, -999.000,5,   2119.9,2,   2299.1,2,   7.8024,2,    25.00,     49.1,2,    16.17,2, -999.000,9, -999.000,-999.0000,9,-999.0000,  -999.00,9,  -999.00, -999.000,9, -999.000,   -999.0,9,   -999.0,  -999.00,9,   0.0727,2,   0.0502,2,   0.0275,2,   0.0212,2,   0.0006,4,  -0.0029,4,  -0.0038,4,   0.0133,2,   0.0152,2,  10.4796,  10.5302,2
  33RR20070322,  I09N,   107,  3,     26,     26,2,20070401,0741,-17.9632,  95.0027, 5937, 505.5000,    505.5,   9.6178,  34.7372,2,  34.7389,2,    236.6,2,    234.5,2,     4.92,2,    15.65,2,     0.00,2,     1.10,2,    3.563,2,    1.939,2, -999.000,5,   2126.5,2,   2293.1,2,   7.7809,2,    25.00,     48.0,2,    18.20,2, -999.000,9, -999.000,-999.0000,9,-999.0000,  -999.00,9,  -999.00, -999.000,9, -999.000,     41.0,2,      3.2,     1.17,2,   0.0749,2,   0.0512,2,   0.0282,2,   0.0216,2,   0.0011,3,  -0.0029,4,  -0.0039,4,   0.0133,2,   0.0153,2,   9.5598,   9.6278,2
  33RR20070322,  I09N,   107,  3,     25,     25,2,20070401,0741,-17.9632,  95.0027, 5937, 606.2000,    606.2,   8.2027,  34.5894,2,  34.5896,2,    218.7,2,    206.3,2,    12.91,2,    21.91,2,     0.00,2,     1.51,2,    2.719,2,    1.379,2, -999.000,5,   2152.1,2,   2291.5,2,-999.0000,5,    25.00,     47.0,2,    24.64,2, -999.000,9, -999.000,-999.0000,9,-999.0000,  -999.00,9,  -999.00, -999.000,9, -999.000,     10.3,2,      3.0,     1.10,2,   0.0865,2,   0.0598,2,   0.0341,2,   0.0263,2,   0.0044,2,  -0.0013,4,  -0.0031,4,   0.0130,2,   0.0144,3,   8.1392,   8.1939,2
  33RR20070322,  I09N,   107,  3,     24,     24,2,20070401,0741,-17.9632,  95.0027, 5937, 707.2000,    707.2,   6.5856,  34.5689,2,  34.5669,2,    157.7,2,    136.7,2,    44.28,2,    31.50,2,     0.00,2,     2.20,2,    0.529,2,    0.284,2, -999.000,5,   2222.4,2,   2314.8,2,   7.5823,2,    25.00,     44.7,2,    33.78,2, -999.000,9, -999.000,-999.0000,9,-999.0000,  -999.00,9,  -999.00, -999.000,9, -999.000,    -93.4,2,      2.4,     0.69,2,   0.1243,2,   0.0885,2,   0.0518,2,   0.0394,2,   0.0131,2,   0.0023,3,  -0.0016,4,   0.0135,2,   0.0138,3,   6.5196,   6.5839,2
  33RR20070322,  I09N,   107,  3,     23,     23,2,20070401,0741,-17.9632,  95.0027, 5937, 806.7000,    806.7,   6.1003,  34.6401,2,  34.6385,2,    104.5,2,    103.8,2,    64.92,2,    34.54,2,     0.00,2,     2.48,2,    0.109,2,    0.062,2, -999.000,5,   2259.3,2,   2337.5,2,   7.5550,2,    25.00,     43.2,2,    37.39,2, -999.000,9, -999.000,-999.0000,9,-999.0000,  -999.00,9,  -999.00, -999.000,9, -999.000,   -139.6,2,      2.7,     0.45,2,   0.1419,2,   0.1021,2,   0.0602,2,   0.0455,2,   0.0173,2,   0.0040,2,  -0.0010,4,   0.0136,3,   0.0136,3,   6.0273,   6.1031,2
  33RR20070322,  I09N,   107,  3,     22,     22,2,20070401,0741,-17.9632,  95.0027, 5937, 906.9000,    906.9,   5.6635,  34.6676,2,  34.6668,2,     91.5,2,     92.4,2,    78.12,2,    35.92,2,     0.00,2,     2.59,2,    0.036,2,    0.022,2, -999.000,5,   2279.2,2,   2341.4,3,   7.5393,2,    25.00,     41.7,2,    37.97,2, -999.000,9, -999.000,-999.0000,9,-999.0000,  -999.00,9,  -999.00, -999.000,9, -999.000,   -151.5,2,      2.8,     0.29,2,   0.1506,2,   0.1089,2,   0.0644,2,   0.0482,2,   0.0190,2,   0.0045,2,  -0.0009,4,   0.0138,3,   0.0136,3,   5.5837,   5.6630,2
  33RR20070322,  I09N,   107,  3,     21,     21,2,20070401,0741,-17.9632,  95.0027, 5937,1008.9000,   1008.9,   5.2590,  34.6723,2,  34.6717,2,     93.0,2,     92.6,2,    85.62,2,    36.30,2,     0.00,2,     2.63,2, -999.000,9, -999.000,9, -999.000,9,   2287.7,6,   2359.2,6,   7.5084,6,    25.00,     40.9,2,    38.26,2, -999.000,9, -999.000,-999.0000,9,-999.0000,  -999.00,9,  -999.00, -999.000,9, -999.000,   -999.0,9,   -999.0,  -999.00,9,   0.1539,2,   0.1111,2,   0.0657,2,   0.0493,2,   0.0196,2,   0.0047,2,  -0.0009,4,   0.0139,3,   0.0137,3,   5.1726,   5.2595,2
  33RR20070322,  I09N,   107,  3,     20,     20,2,20070401,0741,-17.9632,  95.0027, 5937,1107.9000,   1107.9,   4.8656,  34.6710,2,  34.6700,2,     96.5,2,     98.6,2,    88.97,2,    36.54,2,     0.00,2,     2.63,2,    0.013,2,    0.007,2, -999.000,5,   2290.2,2,   2364.0,2,   7.5141,2,    25.00,     41.0,2,    38.32,2, -999.000,9, -999.000,-999.0000,9,-999.0000,  -999.00,9,  -999.00, -999.000,9, -999.000,   -172.4,2,      2.6,     0.28,2,   0.1539,2,   0.1113,2,   0.0658,2,   0.0495,2,   0.0194,2,   0.0046,2,  -0.0009,4,   0.0139,3,   0.0137,3,   4.7733,   4.8661,2
  33RR20070322,  I09N,   107,  3,     19,     19,2,20070401,0741,-17.9632,  95.0027, 5937,1208.4000,   1208.4,   4.5311,  34.6635,2,  34.6627,2,    104.7,2,    105.1,2,    89.93,2,    36.25,2,     0.00,2,     2.62,2, -999.000,9, -999.000,9, -999.000,9,   2290.0,2,   2364.4,2,   7.5302,2,    25.00,     40.7,2,    37.32,2, -999.000,9, -999.000,-999.0000,9,-999.0000,  -999.00,9,  -999.00, -999.000,9, -999.000,   -999.0,9,   -999.0,  -999.00,9,   0.1506,2,   0.1082,2,   0.0632,2,   0.0468,2,   0.0181,2,   0.0043,3,  -0.0009,4,   0.0138,3,   0.0139,3,   4.4326,   4.5286,2
  33RR20070322,  I09N,   107,  3,     18,     18,2,20070401,0741,-17.9632,  95.0027, 5937,1308.1000,   1308.1,   4.1956,  34.6680,2,  34.6677,2,    108.6,2,    108.4,2,    95.26,2,    36.25,2,     0.00,2,     2.63,2,    0.008,2,    0.004,2, -999.000,5,   2295.2,2,   2370.0,2,   7.5332,2,    25.00,     40.6,2,    37.85,2, -999.000,9, -999.000,-999.0000,9,-999.0000,  -999.00,9,  -999.00, -999.000,9, -999.000,   -178.3,2,      2.6,     0.26,2,   0.1540,2,   0.1112,2,   0.0661,2,   0.0500,2,   0.0198,2,   0.0048,2,  -0.0008,4,   0.0138,3,   0.0136,3,   4.0913,   4.1966,2
  33RR20070322,  I09N,   107,  3,     17,     17,2,20070401,0741,-17.9632,  95.0027, 5937,1409.9000,   1409.9,   3.8835,  34.6756,2,  34.6763,2,    117.0,2,    116.9,2,    95.23,2,    35.92,2,     0.00,2,     2.60,2, -999.000,9, -999.000,9, -999.000,9,   2291.7,2,   2367.2,2,   7.5307,2,    25.00,     40.5,2,    37.69,2, -999.000,9, -999.000,-999.0000,9,-999.0000,  -999.00,9,  -999.00, -999.000,9, -999.000,   -999.0,9,   -999.0,  -999.00,9,   0.1489,2,   0.1067,2,   0.0623,2,   0.0463,2,   0.0180,2,   0.0043,2,  -0.0007,4,   0.0138,3,   0.0139,3,   3.7734,   3.8823,2
  33RR20070322,  I09N,   107,  3,     16,     16,2,20070401,0741,-17.9632,  95.0027, 5937,1510.2000,   1510.2,   3.5868,  34.6846,2,  34.6844,2,    123.2,2,    122.3,2,    98.20,2,    35.83,2,     0.00,2,     2.57,2,    0.005,2,    0.002,2, -999.000,5,   2292.9,2,   2370.1,2,   7.5130,2,    25.00,     40.3,2,    37.04,2, -999.000,9, -999.000,-999.0000,9,-999.0000,  -999.00,9,  -999.00, -999.000,9, -999.000,   -182.2,2,      2.3,     0.31,2,   0.1471,2,   0.1048,2,   0.0609,2,   0.0448,2,   0.0173,2,   0.0042,2,  -0.0007,4,   0.0137,3,   0.0140,3,   3.4711,   3.5864,2
  33RR20070322,  I09N,   107,  3,     15,     15,2,20070401,0741,-17.9632,  95.0027, 5937,1610.2000,   1610.2,   3.3307,  34.6922,2,  34.6921,2,    127.7,2,    127.2,2,   101.75,2,    35.63,2,     0.00,2,     2.56,2, -999.000,9, -999.000,9, -999.000,9,   2294.1,2,   2373.0,2,   7.5170,3,    25.00,     40.6,2,    36.83,2, -999.000,9, -999.000,-999.0000,9,-999.0000,  -999.00,9,  -999.00, -999.000,9, -999.000,   -999.0,9,   -999.0,  -999.00,9,   0.1467,2,   0.1042,2,   0.0604,2,   0.0445,2,   0.0171,2,   0.0040,2,  -0.0004,4,   0.0138,3,   0.0141,3,   3.2092,   3.3294,2
  33RR20070322,  I09N,   107,  3,     14,     14,2,20070401,0741,-17.9632,  95.0027, 5937,1812.5000,   1812.5,   2.8449,  34.7105,2,  34.7096,2,    139.4,2,    140.2,2,   105.31,2,    34.97,2,     0.00,2,     2.50,2,    0.004,2,    0.001,2, -999.000,5,   2291.1,2,   2376.6,2,   7.5170,2,    25.00,     40.7,2,    36.18,2, -999.000,9, -999.000,-999.0000,9,-999.0000,  -999.00,9,  -999.00, -999.000,9, -999.000,   -999.0,9,   -999.0,  -999.00,9,   0.1456,2,   0.1034,2,   0.0600,2,   0.0448,2,   0.0177,2,   0.0047,2,   0.0002,4,   0.0135,3,   0.0139,3,   2.7120,   2.8456,2
  33RR20070322,  I09N,   107,  3,     13,     13,2,20070401,0741,-17.9632,  95.0027, 5937,2012.7000,   2012.7,   2.4448,  34.7218,2,  34.7219,2,    148.5,2,    150.5,2,   110.26,2,    34.49,2,     0.00,2,     2.45,2, -999.000,9, -999.000,9, -999.000,9,   2291.3,2,   2383.5,2,   7.5350,2,    25.00,     40.6,2,    35.52,2, -999.000,9, -999.000,-999.0000,9,-999.0000,  -999.00,9,  -999.00, -999.000,9, -999.000,   -999.0,9,   -999.0,  -999.00,9,   0.1418,2,   0.1000,2,   0.0572,2,   0.0423,2,   0.0158,2,   0.0035,2,  -0.0005,4,   0.0137,3,   0.0143,3,   2.3002,   2.4442,2
  33RR20070322,  I09N,   107,  3,     12,     12,2,20070401,0741,-17.9632,  95.0027, 5937,2265.7000,   2265.7,   2.1122,  34.7272,2,  34.7274,2,    158.5,2,    159.7,2,   114.88,2,    34.07,2,     0.00,2,     2.41,2,    0.003,2,    0.002,2, -999.000,5,   2291.9,2,   2387.8,2,   7.5780,2,    25.00,     40.6,2,    35.73,2, -999.000,9, -999.000,-999.0000,9,-999.0000,  -999.00,9,  -999.00, -999.000,9, -999.000,   -999.0,9,   -999.0,  -999.00,9,   0.1393,2,   0.0984,2,   0.0561,2,   0.0413,2,   0.0152,2,   0.0036,2,  -0.0002,4,   0.0136,2,   0.0143,3,   1.9507,   2.1127,2
  33RR20070322,  I09N,   107,  3,     11,     11,2,20070401,0741,-17.9632,  95.0027, 5937,2518.9000,   2518.9,   1.8895,  34.7286,2,  34.7276,2,    164.7,2,    165.7,2,   118.04,2,    33.78,2,     0.00,2,     2.39,2, -999.000,9, -999.000,9, -999.000,9,   2291.5,2,   2391.6,2,   7.5968,2,    25.00,     40.6,2,    35.11,2, -999.000,9, -999.000,-999.0000,9,-999.0000,  -999.00,9,  -999.00, -999.000,9, -999.000,   -999.0,9,   -999.0,  -999.00,9,-999.0000,5,-999.0000,5,-999.0000,5,-999.0000,5,-999.0000,5,-999.0000,5,-999.0000,5,-999.0000,5,-999.0000,5,   1.7092,   1.8893,2
  33RR20070322,  I09N,   107,  3,     10,     10,2,20070401,0741,-17.9632,  95.0027, 5937,2771.8000,   2771.8,   1.7181,  34.7277,2,  34.7266,2,    169.8,2,    170.0,2,   121.82,2,    33.73,2,     0.00,2,     2.38,2,    0.003,2,    0.001,2, -999.000,5,   2292.8,2,   2395.7,2,   7.5660,2,    25.00,     40.6,2,    35.27,2, -999.000,9, -999.000,-999.0000,9,-999.0000,  -999.00,9,  -999.00, -999.000,9, -999.000,   -999.0,9,   -999.0,  -999.00,9,   0.1369,2,   0.0959,2,   0.0544,2,   0.0402,2,   0.0146,2,   0.0033,3,  -0.0003,4,   0.0136,3,   0.0144,3,   1.5179,   1.7183,2
  33RR20070322,  I09N,   107,  3,      9,      9,2,20070401,0741,-17.9632,  95.0027, 5937,3024.2000,   3024.2,   1.5956,  34.7261,2,  34.7253,2,    173.4,2,    173.0,2,   124.41,2,    33.73,2,     0.00,2,     2.38,2, -999.000,9, -999.000,9, -999.000,9,   2295.8,2,   2399.2,2,   7.6005,2,    25.00,     40.7,2,    34.82,2, -999.000,9, -999.000,-999.0000,9,-999.0000,  -999.00,9,  -999.00, -999.000,9, -999.000,   -999.0,9,   -999.0,  -999.00,9,   0.1346,2,   0.0941,2,   0.0530,2,   0.0383,2,   0.0135,2,   0.0028,3,  -0.0005,4,   0.0137,2,   0.0147,3,   1.3741,   1.5958,2
  33RR20070322,  I09N,   107,  3,      8,      8,2,20070401,0741,-17.9632,  95.0027, 5937,3431.2000,   3431.2,   1.4294,  34.7219,2,  34.7225,2,    178.3,2,    178.3,2,   127.60,2,    33.64,2,     0.00,2,     2.36,2,    0.004,2,    0.003,2, -999.000,5,   2295.1,2,   2401.5,2,   7.5790,2,    25.00,     40.6,2,    34.69,2, -999.000,9, -999.000,-999.0000,9,-999.0000,  -999.00,9,  -999.00, -999.000,9, -999.000,   -999.0,9,   -999.0,  -999.00,9,   0.1370,2,   0.0960,2,   0.0542,2,   0.0398,2,   0.0146,2,   0.0034,2,  -0.0001,4,   0.0136,2,   0.0145,3,   1.1717,   1.4287,2
  33RR20070322,  I09N,   107,  3,      7,      7,2,20070401,0741,-17.9632,  95.0027, 5937,3836.5000,   3836.5,   1.2800,  34.7190,2,  34.7186,2,    187.0,2,    187.6,2,   125.96,2,    33.17,2,     0.00,2,     2.32,2, -999.000,9, -999.000,9, -999.000,9,   2287.5,2,   2396.4,2,   7.5840,3,    25.00,     40.2,2,    34.80,2, -999.000,9, -999.000,-999.0000,9,-999.0000,  -999.00,9,  -999.00, -999.000,9, -999.000,   -999.0,9,   -999.0,  -999.00,9,   0.1297,2,   0.0897,2,   0.0498,2,   0.0362,2,   0.0120,2,   0.0022,3,  -0.0005,4,   0.0138,3,   0.0150,3,   0.9844,   1.2806,2
  33RR20070322,  I09N,   107,  3,      6,      6,2,20070401,0741,-17.9632,  95.0027, 5937,4243.8000,   4243.8,   1.1689,  34.7160,2,  34.7161,2,    196.0,2,    196.5,2,   123.53,2,    32.69,2,     0.00,2,     2.28,2,    0.002,2,    0.001,2, -999.000,5,   2279.0,2,   2391.4,2,   7.6202,2,    25.00,     40.5,2,    34.67,2, -999.000,9, -999.000,-999.0000,9,-999.0000,  -999.00,9,  -999.00, -999.000,9, -999.000,   -999.0,9,   -999.0,  -999.00,9,   0.1232,2,   0.0842,2,   0.0453,2,   0.0321,2,   0.0097,2,   0.0015,3,  -0.0008,4,   0.0138,3,   0.0157,3,   0.8326,   1.1690,2
  33RR20070322,  I09N,   107,  3,      5,      5,2,20070401,0741,-17.9632,  95.0027, 5937,4653.3000,   4653.3,   1.1229,  34.7142,2,  34.7135,2,    200.7,2,    201.6,2,   123.11,2,    32.45,2,     0.00,2,     2.26,2, -999.000,9, -999.000,9, -999.000,9,   2274.6,2,   2382.8,2,   7.6190,2,    25.00,     40.3,2,    33.80,2, -999.000,9, -999.000,-999.0000,9,-999.0000,  -999.00,9,  -999.00, -999.000,9, -999.000,   -999.0,9,   -999.0,  -999.00,9,   0.1241,2,   0.0848,2,   0.0459,2,   0.0325,2,   0.0099,2,   0.0014,3,  -0.0009,4,   0.0139,3,   0.0156,3,   0.7419,   1.1231,2