BOTTLE,20150630SIOCCHRJL
EXPOCODE,SECT_ID,STNNBR,CASTNO,SAMPNO,BTLNBR,BTLNBR_FLAG_W,DATE,TIME,LATITUDE,LONGITUDE,DEPTH,CTDRAW,CTDPRS,CTDTMP,CTDSAL,CTDSAL_FLAG_W,SALNTY,SALNTY_FLAG_W,CTDOXY,CTDOXY_FLAG_W,OXYGEN,OXYGEN_FLAG_W,SILCAT,SILCAT_FLAG_W,NITRAT,NITRAT_FLAG_W,NITRIT,NITRIT_FLAG_W,PHSPHT,PHSPHT_FLAG_W,CFC-11,CFC-11_FLAG_W,CFC-12,CFC-12_FLAG_W,CFC113,CFC113_FLAG_W,TCARBN,TCARBN_FLAG_W,ALKALI,ALKALI_FLAG_W,PH_SWS,PH_SWS_FLAG_W,PH_TMP,DOC,DOC_FLAG_W,TDN,TDN_FLAG_W,TRITUM,TRITUM_FLAG_W,TRITER,HELIUM,HELIUM_FLAG_W,HELIER,DELHE3,DELHE3_FLAG_W,DELHER,NEON,NEON_FLAG_W,NEONER,DELC14,DELC14_FLAG_W,C14ERR,DELC13,DELC13_FLAG_W,CDOM325,CDOM325_FLAG_W,CDOM340,CDOM340_FLAG_W,CDOM380,CDOM380_FLAG_W,CDOM412,CDOM412_FLAG_W,CDOM443,CDOM443_FLAG_W,CDOM490,CDOM490_FLAG_W,CDOM555,CDOM555_FLAG_W,CDOMSL,CDOMSL_FLAG_W,CDOMSN,CDOMSN_FLAG_W,THETA,SBE35,SBE35_FLAG_W
,,,,,,,,,,,METERS,,DBAR,ITS-90,PSS-78,,PSS-78,,UMOL/KG,,UMOL/KG,,UMOL/KG,,UMOL/KG,,UMOL/KG,,UMOL/KG,,PMOL/KG,,PMOL/KG,,PMOL/KG,,UMOL/KG,,UMOL/KG,,,,DEG C,UMOL/KG,,UMOL/KG,,TU,,TU,NMOL/KG,,NMOL/KG,PERCNT,,PERCNT,NMOL/KG,,NMOL/KG,/MILLE,,/MILLE,/MILLE,,1/M,,1/M,,1/M,,1/M,,1/M,,1/M,,1/M,,1/NM,,1/NM,,DEG C,ITS-90,
  33RR20070322,  I09N,   163,  1,     36,     38,2,20070417,1122,  6.5027,  89.3397, 3592,   1.9000,      1.9,  29.9461,  33.5743,2,  33.5649,2,    196.8,2,    197.3,2,     1.37,2,     0.00,2,     0.00,2,     0.06,2,    1.500,2,    0.967,2, -999.000,5,   1888.0,6,   2210.3,6,   8.1113,6,    25.00,     72.7,2,  -999.00,9, -999.000,9, -999.000,-999.0000,9,-999.0000,  -999.00,9,  -999.00, -999.000,9, -999.000,   -999.0,9,   -999.0,  -999.00,9,-999.0000,9,-999.0000,9,-999.0000,9,-999.0000,9,-999.0000,9,-999.0000,9,-999.0000,9,-999.0000,9,-999.0000,9,  29.9456,  29.9531,2
  33RR20070322,  I09N,   163,  1,     35,     35,2,20070417,1122,  6.5027,  89.3397, 3592,  19.0000,     19.0,  29.8031,  33.5954,2,  33.5956,2,    198.1,2,    197.4,2,     1.51,2,     0.00,2,     0.00,2,     0.05,2,    1.483,2,    0.966,2, -999.000,5,   1888.4,2,   2206.5,2,   8.1043,2,    25.00,     70.3,2,  -999.00,9, -999.000,9, -999.000,-999.0000,9,-999.0000,  -999.00,9,  -999.00, -999.000,9, -999.000,   -999.0,9,   -999.0,  -999.00,9,-999.0000,9,-999.0000,9,-999.0000,9,-999.0000,9,-999.0000,9,-999.0000,9,-999.0000,9,-999.0000,9,-999.0000,9,  29.7984,  29.7966,2
  33RR20070322,  I09N,   163,  1,     34,   9419,2,20070417,1122,  6.5027,  89.3397, 3592,  44.2000,     44.2,  28.8939,  33.6711,2,  33.6750,2,    198.0,2,    194.8,2,     1.64,2,     0.00,2,     0.00,2,     0.10,2,    1.502,2,    0.965,2, -999.000,5,   1907.8,2,   2215.8,2,   8.0753,2,    25.00,     68.8,2,  -999.00,9, -999.000,9, -999.000,-999.0000,9,-999.0000,  -999.00,9,  -999.00, -999.000,9, -999.000,   -999.0,9,   -999.0,  -999.00,9,-999.0000,9,-999.0000,9,-999.0000,9,-999.0000,9,-999.0000,9,-999.0000,9,-999.0000,9,-999.0000,9,-999.0000,9,  28.8833,  28.8970,2
  33RR20070322,  I09N,   163,  1,     33,     33,2,20070417,1122,  6.5027,  89.3397, 3592,  88.9000,     88.9,  24.1425,  34.3769,2,  34.3778,2,    100.6,2,    100.4,2,     9.84,2,    12.79,2,     0.29,2,     0.97,2,    1.308,2,    0.837,2, -999.000,5,   2054.4,2,   2254.7,2,   7.8408,2,    25.00,     56.6,2,  -999.00,9, -999.000,9, -999.000,-999.0000,9,-999.0000,  -999.00,9,  -999.00, -999.000,9, -999.000,   -999.0,9,   -999.0,  -999.00,9,-999.0000,9,-999.0000,9,-999.0000,9,-999.0000,9,-999.0000,9,-999.0000,9,-999.0000,9,-999.0000,9,-999.0000,9,  24.1238,  24.1341,2
  33RR20070322,  I09N,   163,  1,     32,     37,2,20070417,1122,  6.5027,  89.3397, 3592, 138.8000,    138.8,  16.0133,  34.9337,2,  34.9325,2,     21.6,2,     43.4,3,    26.49,2,    28.56,2,     0.01,2,     2.05,2,    0.841,2,    0.502,2, -999.000,5,   2208.7,2,   2300.7,2,   7.5704,2,    25.00,     48.7,2,  -999.00,9, -999.000,9, -999.000,-999.0000,9,-999.0000,  -999.00,9,  -999.00, -999.000,9, -999.000,   -999.0,9,   -999.0,  -999.00,9,-999.0000,9,-999.0000,9,-999.0000,9,-999.0000,9,-999.0000,9,-999.0000,9,-999.0000,9,-999.0000,9,-999.0000,9,  15.9914,  16.0082,2
  33RR20070322,  I09N,   163,  1,     31,     31,2,20070417,1122,  6.5027,  89.3397, 3592, 163.9000,    163.9,  14.6043,  34.9377,2,  34.9380,2,     28.1,2,     28.2,2,    29.78,2,    29.27,2,     0.00,2,     2.10,2,    0.743,2,    0.443,2, -999.000,5,   2216.9,2,   2306.0,2,   7.5658,2,    25.00,     46.8,2,  -999.00,9, -999.000,9, -999.000,-999.0000,9,-999.0000,  -999.00,9,  -999.00, -999.000,9, -999.000,   -999.0,9,   -999.0,  -999.00,9,-999.0000,9,-999.0000,9,-999.0000,9,-999.0000,9,-999.0000,9,-999.0000,9,-999.0000,9,-999.0000,9,-999.0000,9,  14.5800,  14.6091,2
  33RR20070322,  I09N,   163,  1,     30,     30,2,20070417,1122,  6.5027,  89.3397, 3592, 188.4000,    188.4,  14.0402,  34.9731,2,  34.9736,2,     28.2,2,     29.3,2,    30.12,2,    29.87,2,     0.00,2,     2.14,2,    0.733,2,    0.426,2, -999.000,5,   2225.6,2,   2308.2,2,   7.5513,2,    25.00,     46.1,2,  -999.00,9, -999.000,9, -999.000,-999.0000,9,-999.0000,  -999.00,9,  -999.00, -999.000,9, -999.000,   -999.0,9,   -999.0,  -999.00,9,-999.0000,9,-999.0000,9,-999.0000,9,-999.0000,9,-999.0000,9,-999.0000,9,-999.0000,9,-999.0000,9,-999.0000,9,  14.0129,  14.0380,2
  33RR20070322,  I09N,   163,  1,     29,     29,2,20070417,1122,  6.5027,  89.3397, 3592, 238.8000,    238.8,  12.5285,  35.0574,2,  35.0555,2,     21.8,2,     20.5,2,    30.86,2,    31.55,2,     0.00,2,     2.26,2,    0.688,2,    0.394,2, -999.000,5,   2244.0,2,   2312.8,2,   7.5068,2,    25.00,     45.0,2,  -999.00,9, -999.000,9, -999.000,-999.0000,9,-999.0000,  -999.00,9,  -999.00, -999.000,9, -999.000,   -999.0,9,   -999.0,  -999.00,9,-999.0000,9,-999.0000,9,-999.0000,9,-999.0000,9,-999.0000,9,-999.0000,9,-999.0000,9,-999.0000,9,-999.0000,9,  12.4964,  12.5290,2
  33RR20070322,  I09N,   163,  1,     28,     28,2,20070417,1122,  6.5027,  89.3397, 3592, 288.8000,    288.8,  11.8094,  35.0607,2,  35.0606,2,     21.6,2,     21.0,2,    34.94,2,    33.02,2,     0.00,2,     2.33,2,    0.604,2,    0.341,2, -999.000,5,   2251.4,2,   2305.2,2,   7.4873,2,    25.00,     44.4,2,  -999.00,9, -999.000,9, -999.000,-999.0000,9,-999.0000,  -999.00,9,  -999.00, -999.000,9, -999.000,   -999.0,9,   -999.0,  -999.00,9,-999.0000,9,-999.0000,9,-999.0000,9,-999.0000,9,-999.0000,9,-999.0000,9,-999.0000,9,-999.0000,9,-999.0000,9,  11.7719,  11.8077,2
  33RR20070322,  I09N,   163,  1,     27,     27,2,20070417,1122,  6.5027,  89.3397, 3592, 338.1000,    338.1,  11.2292,  35.0584,2,  35.0584,2,     24.6,2,     23.5,2,    32.53,2,    32.51,2,     0.00,2,     2.29,2,    0.538,2,    0.294,2, -999.000,5,   2256.7,2,   2313.7,2,   7.4842,2,    25.00,     44.0,2,  -999.00,9, -999.000,9, -999.000,-999.0000,9,-999.0000,  -999.00,9,  -999.00, -999.000,9, -999.000,   -999.0,9,   -999.0,  -999.00,9,-999.0000,9,-999.0000,9,-999.0000,9,-999.0000,9,-999.0000,9,-999.0000,9,-999.0000,9,-999.0000,9,-999.0000,9,  11.1867,  11.2286,2
  33RR20070322,  I09N,   163,  1,     26,     26,2,20070417,1122,  6.5027,  89.3397, 3592, 388.2000,    388.2,  10.8279,  35.0669,2,  35.0639,2,     27.6,2,     28.1,2,    36.61,2,    33.32,2,     0.00,2,     2.36,2,    0.485,2,    0.262,2, -999.000,5,   2257.9,2,   2317.2,2,   7.5134,2,    25.00,     43.6,2,  -999.00,9, -999.000,9, -999.000,-999.0000,9,-999.0000,  -999.00,9,  -999.00, -999.000,9, -999.000,   -999.0,9,   -999.0,  -999.00,9,-999.0000,9,-999.0000,9,-999.0000,9,-999.0000,9,-999.0000,9,-999.0000,9,-999.0000,9,-999.0000,9,-999.0000,9,  10.7801,  10.8251,2
  33RR20070322,  I09N,   163,  1,     25,     25,2,20070417,1122,  6.5027,  89.3397, 3592, 438.5000,    438.5,  10.4917,  35.0528,2,  35.0505,2,     23.5,2,     20.8,2,    40.70,2,    34.44,2,     0.00,2,     2.46,2,    0.361,2,    0.195,2, -999.000,5,   2266.7,2,   2319.2,2,   7.4758,2,    25.00,     43.5,2,  -999.00,9, -999.000,9, -999.000,-999.0000,9,-999.0000,  -999.00,9,  -999.00, -999.000,9, -999.000,   -999.0,9,   -999.0,  -999.00,9,-999.0000,9,-999.0000,9,-999.0000,9,-999.0000,9,-999.0000,9,-999.0000,9,-999.0000,9,-999.0000,9,-999.0000,9,  10.4386,  10.4915,2
  33RR20070322,  I09N,   163,  1,     24,     24,2,20070417,1122,  6.5027,  89.3397, 3592, 488.4000,    488.4,  10.0897,  35.0419,2,  35.0429,2,     19.0,2,     18.6,2,    45.39,2,    35.25,2,     0.00,2,     2.55,2,    0.234,2,    0.125,2, -999.000,5,   2272.9,2,   2324.0,2,   7.4853,2,    25.00,     43.2,2,  -999.00,9, -999.000,9, -999.000,-999.0000,9,-999.0000,  -999.00,9,  -999.00, -999.000,9, -999.000,   -999.0,9,   -999.0,  -999.00,9,-999.0000,9,-999.0000,9,-999.0000,9,-999.0000,9,-999.0000,9,-999.0000,9,-999.0000,9,-999.0000,9,-999.0000,9,  10.0318,  10.0898,2
  33RR20070322,  I09N,   163,  1,     23,     23,2,20070417,1122,  6.5027,  89.3397, 3592, 573.5000,    573.5,   9.4775,  35.0326,2,  35.0326,2,     20.5,2,     21.5,2,    51.65,2,    35.96,2,     0.00,2,     2.63,2,    0.140,2,    0.076,2, -999.000,5,   2277.7,2,   2330.9,6,   7.4507,2,    25.00,     43.1,2,  -999.00,9, -999.000,9, -999.000,-999.0000,9,-999.0000,  -999.00,9,  -999.00, -999.000,9, -999.000,   -999.0,9,   -999.0,  -999.00,9,-999.0000,9,-999.0000,9,-999.0000,9,-999.0000,9,-999.0000,9,-999.0000,9,-999.0000,9,-999.0000,9,-999.0000,9,   9.4118,   9.4767,2
  33RR20070322,  I09N,   163,  1,     22,     22,2,20070417,1122,  6.5027,  89.3397, 3592, 673.8000,    673.8,   8.7862,  35.0075,2,  35.0076,2,     23.7,2,     23.7,2,    59.91,2,    36.63,2,     0.00,2,     2.69,2,    0.082,2,    0.043,2, -999.000,5,   2288.5,2,   2341.3,2,   7.4520,2,    25.00,     42.7,2,  -999.00,9, -999.000,9, -999.000,-999.0000,9,-999.0000,  -999.00,9,  -999.00, -999.000,9, -999.000,   -999.0,9,   -999.0,  -999.00,9,-999.0000,9,-999.0000,9,-999.0000,9,-999.0000,9,-999.0000,9,-999.0000,9,-999.0000,9,-999.0000,9,-999.0000,9,   8.7120,   8.7884,2
  33RR20070322,  I09N,   163,  1,     21,     21,2,20070417,1122,  6.5027,  89.3397, 3592, 774.0000,    774.0,   8.0320,  34.9806,2,  34.9811,2,     33.0,2,     33.1,2,    68.18,2,    36.73,2,     0.00,2,     2.70,2,    0.071,2,    0.036,2, -999.000,5,   2293.7,2,   2348.6,2,   7.4596,2,    25.00,     42.6,2,  -999.00,9, -999.000,9, -999.000,-999.0000,9,-999.0000,  -999.00,9,  -999.00, -999.000,9, -999.000,   -999.0,9,   -999.0,  -999.00,9,-999.0000,9,-999.0000,9,-999.0000,9,-999.0000,9,-999.0000,9,-999.0000,9,-999.0000,9,-999.0000,9,-999.0000,9,   7.9506,   8.0340,2
  33RR20070322,  I09N,   163,  1,     20,     20,2,20070417,1122,  6.5027,  89.3397, 3592, 874.1000,    874.1,   7.4474,  34.9618,2,  34.9627,2,     37.4,2,     38.3,2,    74.89,2,    36.98,2,     0.00,2,     2.72,2,    0.043,2,    0.023,2, -999.000,5,   2300.1,2,   2355.3,2,   7.4607,2,    25.00,     42.4,2,  -999.00,9, -999.000,9, -999.000,-999.0000,9,-999.0000,  -999.00,9,  -999.00, -999.000,9, -999.000,   -999.0,9,   -999.0,  -999.00,9,-999.0000,9,-999.0000,9,-999.0000,9,-999.0000,9,-999.0000,9,-999.0000,9,-999.0000,9,-999.0000,9,-999.0000,9,   7.3587,   7.4517,2
  33RR20070322,  I09N,   163,  1,     19,     19,2,20070417,1122,  6.5027,  89.3397, 3592, 974.4000,    974.4,   6.9008,  34.9420,2,  34.9427,2,     46.0,2,     45.5,2,    80.60,2,    36.97,2,     0.00,2,     2.73,2,    0.034,2,    0.016,2, -999.000,5,   2305.1,2,   2361.1,2,   7.4712,2,    25.00,     42.1,2,  -999.00,9, -999.000,9, -999.000,-999.0000,9,-999.0000,  -999.00,9,  -999.00, -999.000,9, -999.000,   -999.0,9,   -999.0,  -999.00,9,-999.0000,9,-999.0000,9,-999.0000,9,-999.0000,9,-999.0000,9,-999.0000,9,-999.0000,9,-999.0000,9,-999.0000,9,   6.8052,   6.9028,2
  33RR20070322,  I09N,   163,  1,     18,     18,2,20070417,1122,  6.5027,  89.3397, 3592,1075.2000,   1075.2,   6.3795,  34.9226,2,  34.9228,2,     52.4,2,     52.9,2,    86.13,2,    37.01,2,     0.00,2,     2.74,2, -999.000,9, -999.000,9, -999.000,9,   2308.3,6,   2371.4,2,   7.4750,2,    25.00,     41.4,2,  -999.00,9, -999.000,9, -999.000,-999.0000,9,-999.0000,  -999.00,9,  -999.00, -999.000,9, -999.000,   -999.0,9,   -999.0,  -999.00,9,-999.0000,9,-999.0000,9,-999.0000,9,-999.0000,9,-999.0000,9,-999.0000,9,-999.0000,9,-999.0000,9,-999.0000,9,   6.2775,   6.3777,2
  33RR20070322,  I09N,   163,  1,     17,     17,2,20070417,1122,  6.5027,  89.3397, 3592,1175.5000,   1175.5,   5.9499,  34.9067,2,  34.9075,2,     57.3,2,     57.1,2,    91.67,2,    37.22,2,     0.00,2,     2.75,2,    0.017,2,    0.008,2, -999.000,5,   2314.4,2,   2369.8,2,   7.4763,2,    25.00,     41.2,2,  -999.00,9, -999.000,9, -999.000,-999.0000,9,-999.0000,  -999.00,9,  -999.00, -999.000,9, -999.000,   -999.0,9,   -999.0,  -999.00,9,-999.0000,9,-999.0000,9,-999.0000,9,-999.0000,9,-999.0000,9,-999.0000,9,-999.0000,9,-999.0000,9,-999.0000,9,   5.8414,   5.9440,2
  33RR20070322,  I09N,   163,  1,     16,     16,2,20070417,1122,  6.5027,  89.3397, 3592,1275.5000,   1275.5,   5.4922,  34.8876,2,  34.8890,2,     65.4,2,     66.3,2,    96.22,2,    37.05,2,     0.00,2,     2.73,2, -999.000,9, -999.000,9, -999.000,9,   2314.9,2,   2374.6,2,   7.4912,2,    25.00,     41.3,2,  -999.00,9, -999.000,9, -999.000,-999.0000,9,-999.0000,  -999.00,9,  -999.00, -999.000,9, -999.000,   -999.0,9,   -999.0,  -999.00,9,-999.0000,9,-999.0000,9,-999.0000,9,-999.0000,9,-999.0000,9,-999.0000,9,-999.0000,9,-999.0000,9,-999.0000,9,   5.3779,   5.4906,2
  33RR20070322,  I09N,   163,  1,     15,     15,2,20070417,1122,  6.5027,  89.3397, 3592,1376.0000,   1376.0,   5.1073,  34.8740,2,  34.8748,2,     70.8,2,     70.5,2,   100.78,2,    37.15,2,     0.00,2,     2.74,2, -999.000,5, -999.000,5, -999.000,5,   2319.6,2,   2378.3,2,   7.4867,2,    25.00,     41.2,2,  -999.00,9, -999.000,9, -999.000,-999.0000,9,-999.0000,  -999.00,9,  -999.00, -999.000,9, -999.000,   -999.0,9,   -999.0,  -999.00,9,-999.0000,9,-999.0000,9,-999.0000,9,-999.0000,9,-999.0000,9,-999.0000,9,-999.0000,9,-999.0000,9,-999.0000,9,   4.9870,   5.1069,2
  33RR20070322,  I09N,   163,  1,     14,     14,2,20070417,1122,  6.5027,  89.3397, 3592,1477.2000,   1477.2,   4.6384,  34.8561,2,  34.8573,2,     79.8,2,     80.2,2,   105.15,2,    36.89,2,     0.00,2,     2.71,2, -999.000,9, -999.000,9, -999.000,9,   2321.0,2,   2383.6,2,   7.4974,2,    25.00,     40.7,2,  -999.00,9, -999.000,9, -999.000,-999.0000,9,-999.0000,  -999.00,9,  -999.00, -999.000,9, -999.000,   -999.0,9,   -999.0,  -999.00,9,-999.0000,9,-999.0000,9,-999.0000,9,-999.0000,9,-999.0000,9,-999.0000,9,-999.0000,9,-999.0000,9,-999.0000,9,   4.5134,   4.6358,2
  33RR20070322,  I09N,   163,  1,     13,     13,2,20070417,1122,  6.5027,  89.3397, 3592,1577.9000,   1577.9,   4.2275,  34.8414,2,  34.8425,2,     86.7,2,     86.3,2,   109.92,2,    36.88,2,     0.00,2,     2.71,2,    0.007,2,    0.003,2, -999.000,5,   2323.9,2,   2387.6,2,   7.4838,2,    25.00,     41.0,2,  -999.00,9, -999.000,9, -999.000,-999.0000,9,-999.0000,  -999.00,9,  -999.00, -999.000,9, -999.000,   -999.0,9,   -999.0,  -999.00,9,-999.0000,9,-999.0000,9,-999.0000,9,-999.0000,9,-999.0000,9,-999.0000,9,-999.0000,9,-999.0000,9,-999.0000,9,   4.0978,   4.2239,2
  33RR20070322,  I09N,   163,  1,     12,     12,2,20070417,1122,  6.5027,  89.3397, 3592,1678.1000,   1678.1,   3.7518,  34.8237,2,  34.8240,2,     95.0,2,     95.2,2,   114.91,2,    36.72,2,     0.00,2,     2.70,2, -999.000,9, -999.000,9, -999.000,9,   2326.1,2,   2393.1,2,   7.5058,2,    25.00,     40.7,2,  -999.00,9, -999.000,9, -999.000,-999.0000,9,-999.0000,  -999.00,9,  -999.00, -999.000,9, -999.000,   -999.0,9,   -999.0,  -999.00,9,-999.0000,9,-999.0000,9,-999.0000,9,-999.0000,9,-999.0000,9,-999.0000,9,-999.0000,9,-999.0000,9,-999.0000,9,   3.6186,   3.7548,2
  33RR20070322,  I09N,   163,  1,     11,     11,2,20070417,1122,  6.5027,  89.3397, 3592,1779.3000,   1779.3,   3.3598,  34.8071,2,  34.8083,2,    102.5,2,    102.6,2,   119.69,2,    36.51,2,     0.00,2,     2.67,2,    0.005,2,    0.002,2, -999.000,5,   2327.7,2,   2398.3,2,   7.5260,2,    25.00,     41.0,2,  -999.00,9, -999.000,9, -999.000,-999.0000,9,-999.0000,  -999.00,9,  -999.00, -999.000,9, -999.000,   -999.0,9,   -999.0,  -999.00,9,-999.0000,9,-999.0000,9,-999.0000,9,-999.0000,9,-999.0000,9,-999.0000,9,-999.0000,9,-999.0000,9,-999.0000,9,   3.2226,   3.3613,2
  33RR20070322,  I09N,   163,  1,     10,     10,2,20070417,1122,  6.5027,  89.3397, 3592,1879.2000,   1879.2,   3.0436,  34.7931,2,  34.7944,2,    111.1,2,    111.5,2,   122.89,2,    36.14,2,     0.00,2,     2.64,2, -999.000,9, -999.000,9, -999.000,9,   2327.2,2,   2403.9,2,   7.5332,2,    25.00,     40.7,2,  -999.00,9, -999.000,9, -999.000,-999.0000,9,-999.0000,  -999.00,9,  -999.00, -999.000,9, -999.000,   -999.0,9,   -999.0,  -999.00,9,-999.0000,9,-999.0000,9,-999.0000,9,-999.0000,9,-999.0000,9,-999.0000,9,-999.0000,9,-999.0000,9,-999.0000,9,   2.9018,   3.0428,2
  33RR20070322,  I09N,   163,  1,      9,      9,2,20070417,1122,  6.5027,  89.3397, 3592,1980.0000,   1980.0,   2.8013,  34.7818,2,  34.7796,2,    119.3,2,    119.3,2,   124.05,2,    35.87,2,     0.00,2,     2.60,2,    0.006,2,    0.005,2, -999.000,5,   2325.4,2,   2403.0,2,   7.5404,2,    25.00,     41.0,2,  -999.00,9, -999.000,9, -999.000,-999.0000,9,-999.0000,  -999.00,9,  -999.00, -999.000,9, -999.000,   -999.0,9,   -999.0,  -999.00,9,-999.0000,9,-999.0000,9,-999.0000,9,-999.0000,9,-999.0000,9,-999.0000,9,-999.0000,9,-999.0000,9,-999.0000,9,   2.6540,   2.8011,2
  33RR20070322,  I09N,   163,  1,      8,      8,2,20070417,1122,  6.5027,  89.3397, 3592,2182.1000,   2182.1,   2.4884,  34.7682,2,  34.7688,2,   -999.0,9,   -999.0,5,   129.68,2,    35.81,2,     0.00,2,     2.58,2, -999.000,9, -999.000,9, -999.000,9,   2328.4,2,   2411.1,2,   7.5432,2,    25.00,     40.9,2,  -999.00,9, -999.000,9, -999.000,-999.0000,9,-999.0000,  -999.00,9,  -999.00, -999.000,9, -999.000,   -999.0,9,   -999.0,  -999.00,9,-999.0000,9,-999.0000,9,-999.0000,9,-999.0000,9,-999.0000,9,-999.0000,9,-999.0000,9,-999.0000,9,-999.0000,9,   2.3279,   2.4889,2
  33RR20070322,  I09N,   163,  1,      7,      7,2,20070417,1122,  6.5027,  89.3397, 3592,2434.4000,   2434.4,   2.1376,  34.7522,2,  34.7538,3,    137.9,2,    137.6,2,   131.87,2,    35.14,2,     0.00,2,     2.52,2,    0.005,2,    0.004,2, -999.000,5,   2324.9,2,   2418.8,2,   7.5571,2,    25.00,     40.8,2,  -999.00,9, -999.000,9, -999.000,-999.0000,9,-999.0000,  -999.00,9,  -999.00, -999.000,9, -999.000,   -999.0,9,   -999.0,  -999.00,9,-999.0000,9,-999.0000,9,-999.0000,9,-999.0000,9,-999.0000,9,-999.0000,9,-999.0000,9,-999.0000,9,-999.0000,9,   1.9603,   2.1381,2
  33RR20070322,  I09N,   163,  1,      6,      6,2,20070417,1122,  6.5027,  89.3397, 3592,2688.1000,   2688.1,   1.9084,  34.7421,2,  34.7430,2,    144.7,2,    144.4,2,   134.87,2,    34.98,2,     0.00,2,     2.50,2, -999.000,9, -999.000,9, -999.000,9,   2324.1,2,   2425.3,2,   7.5700,2,    25.00,     40.4,2,  -999.00,9, -999.000,9, -999.000,-999.0000,9,-999.0000,  -999.00,9,  -999.00, -999.000,9, -999.000,   -999.0,9,   -999.0,  -999.00,9,-999.0000,9,-999.0000,9,-999.0000,9,-999.0000,9,-999.0000,9,-999.0000,9,-999.0000,9,-999.0000,9,-999.0000,9,   1.7121,   1.9086,2
  33RR20070322,  I09N,   163,  1,      5,      5,2,20070417,1122,  6.5027,  89.3397, 3592,2940.2000,   2940.2,   1.7655,  34.7361,2,  34.7377,3,    151.5,2,    151.5,2,   135.03,2,    34.67,2,     0.00,2,     2.46,2,    0.005,2,    0.002,2, -999.000,5,   2319.7,2,   2412.1,2,   7.5827,2,    25.00,     40.7,2,  -999.00,9, -999.000,9, -999.000,-999.0000,9,-999.0000,  -999.00,9,  -999.00, -999.000,9, -999.000,   -999.0,9,   -999.0,  -999.00,9,-999.0000,9,-999.0000,9,-999.0000,9,-999.0000,9,-999.0000,9,-999.0000,9,-999.0000,9,-999.0000,9,-999.0000,9,   1.5483,   1.7644,2