BOTTLE,20150630SIOCCHRJL
EXPOCODE,SECT_ID,STNNBR,CASTNO,SAMPNO,BTLNBR,BTLNBR_FLAG_W,DATE,TIME,LATITUDE,LONGITUDE,DEPTH,CTDRAW,CTDPRS,CTDTMP,CTDSAL,CTDSAL_FLAG_W,SALNTY,SALNTY_FLAG_W,CTDOXY,CTDOXY_FLAG_W,OXYGEN,OXYGEN_FLAG_W,SILCAT,SILCAT_FLAG_W,NITRAT,NITRAT_FLAG_W,NITRIT,NITRIT_FLAG_W,PHSPHT,PHSPHT_FLAG_W,CFC-11,CFC-11_FLAG_W,CFC-12,CFC-12_FLAG_W,CFC113,CFC113_FLAG_W,TCARBN,TCARBN_FLAG_W,ALKALI,ALKALI_FLAG_W,PH_SWS,PH_SWS_FLAG_W,PH_TMP,DOC,DOC_FLAG_W,TDN,TDN_FLAG_W,TRITUM,TRITUM_FLAG_W,TRITER,HELIUM,HELIUM_FLAG_W,HELIER,DELHE3,DELHE3_FLAG_W,DELHER,NEON,NEON_FLAG_W,NEONER,DELC14,DELC14_FLAG_W,C14ERR,DELC13,DELC13_FLAG_W,CDOM325,CDOM325_FLAG_W,CDOM340,CDOM340_FLAG_W,CDOM380,CDOM380_FLAG_W,CDOM412,CDOM412_FLAG_W,CDOM443,CDOM443_FLAG_W,CDOM490,CDOM490_FLAG_W,CDOM555,CDOM555_FLAG_W,CDOMSL,CDOMSL_FLAG_W,CDOMSN,CDOMSN_FLAG_W,THETA,SBE35,SBE35_FLAG_W
,,,,,,,,,,,METERS,,DBAR,ITS-90,PSS-78,,PSS-78,,UMOL/KG,,UMOL/KG,,UMOL/KG,,UMOL/KG,,UMOL/KG,,UMOL/KG,,PMOL/KG,,PMOL/KG,,PMOL/KG,,UMOL/KG,,UMOL/KG,,,,DEG C,UMOL/KG,,UMOL/KG,,TU,,TU,NMOL/KG,,NMOL/KG,PERCNT,,PERCNT,NMOL/KG,,NMOL/KG,/MILLE,,/MILLE,/MILLE,,1/M,,1/M,,1/M,,1/M,,1/M,,1/M,,1/M,,1/NM,,1/NM,,DEG C,ITS-90,
  33RR20070322,  I09N,   131,  1,      4,      4,2,20070409,0256, -4.9760,  95.0018, 5008,3833.0000,   3833.0,   1.2130,  34.7175,2,  34.7162,2,    186.0,2,    186.9,2,   129.16,2,    33.02,2,     0.00,2,     2.31,2,    0.004,2,    0.001,2, -999.000,5,   2291.8,2,   2400.3,2,   7.6023,2,    25.00,     41.2,2,    34.21,2, -999.000,9, -999.000,-999.0000,9,-999.0000,  -999.00,9,  -999.00, -999.000,9, -999.000,   -999.0,9,   -999.0,  -999.00,9,   0.1368,2,   0.0958,2,   0.0527,2,   0.0376,2,   0.0123,2,   0.0019,3,  -0.0013,4,   0.0142,2,   0.0152,3,   0.9197,   1.2130,2
  33RR20070322,  I09N,   131,  1,      3,      3,2,20070409,0256, -4.9760,  95.0018, 5008,4240.5000,   4240.5,   1.1502,  34.7153,2,  34.7138,2,    193.6,2,    193.4,2,   127.17,2,    32.66,2,     0.00,2,     2.28,2, -999.000,9, -999.000,9, -999.000,9,   2285.9,2,   2395.7,2,   7.6168,2,    25.00,     40.4,2,    34.62,2, -999.000,9, -999.000,-999.0000,9,-999.0000,  -999.00,9,  -999.00, -999.000,9, -999.000,   -999.0,9,   -999.0,  -999.00,9,   0.1320,2,   0.0918,2,   0.0501,2,   0.0356,2,   0.0111,2,   0.0016,3,  -0.0014,4,   0.0142,2,   0.0154,3,   0.8148,   1.1501,2
  33RR20070322,  I09N,   131,  1,      2,      2,2,20070409,0256, -4.9760,  95.0018, 5008,4647.9000,   4647.9,   1.1689,  34.7145,2,  34.7130,2,    195.3,2,    195.1,2,   127.15,2,    32.55,2,     0.00,2,     2.26,2, -999.000,9, -999.000,9, -999.000,9,   2284.2,2,   2396.4,2,   7.6210,2,    25.00,     41.1,2,    33.67,2, -999.000,9, -999.000,-999.0000,9,-999.0000,  -999.00,9,  -999.00, -999.000,9, -999.000,   -999.0,9,   -999.0,  -999.00,9,   0.1327,2,   0.0922,2,   0.0504,2,   0.0354,2,   0.0110,2,   0.0015,3,  -0.0014,4,   0.0143,2,   0.0155,3,   0.7870,   1.1689,2
  33RR20070322,  I09N,   131,  1,      1,      1,2,20070409,0256, -4.9760,  95.0018, 5008,5066.7000,   5066.7,   1.2103,  34.7143,2,  34.7148,3,    196.0,2,    196.4,2,   126.35,2,    32.50,2,     0.00,2,     2.25,2,    0.004,2,    0.002,2, -999.000,5,   2282.2,6,   2395.4,6,   7.6192,6,    25.00,     40.6,2,    33.67,2, -999.000,9, -999.000,-999.0000,9,-999.0000,  -999.00,9,  -999.00, -999.000,9, -999.000,   -999.0,9,   -999.0,  -999.00,9,   0.1344,2,   0.0941,2,   0.0514,2,   0.0367,2,   0.0120,2,   0.0024,3,  -0.0008,4,   0.0140,2,   0.0152,3,   0.7776,   1.2101,2