BOTTLE,20150630SIOCCHRJL
EXPOCODE,SECT_ID,STNNBR,CASTNO,SAMPNO,BTLNBR,BTLNBR_FLAG_W,DATE,TIME,LATITUDE,LONGITUDE,DEPTH,CTDRAW,CTDPRS,CTDTMP,CTDSAL,CTDSAL_FLAG_W,SALNTY,SALNTY_FLAG_W,CTDOXY,CTDOXY_FLAG_W,OXYGEN,OXYGEN_FLAG_W,SILCAT,SILCAT_FLAG_W,NITRAT,NITRAT_FLAG_W,NITRIT,NITRIT_FLAG_W,PHSPHT,PHSPHT_FLAG_W,CFC-11,CFC-11_FLAG_W,CFC-12,CFC-12_FLAG_W,CFC113,CFC113_FLAG_W,TCARBN,TCARBN_FLAG_W,ALKALI,ALKALI_FLAG_W,PH_SWS,PH_SWS_FLAG_W,PH_TMP,DOC,DOC_FLAG_W,TDN,TDN_FLAG_W,TRITUM,TRITUM_FLAG_W,TRITER,HELIUM,HELIUM_FLAG_W,HELIER,DELHE3,DELHE3_FLAG_W,DELHER,NEON,NEON_FLAG_W,NEONER,DELC14,DELC14_FLAG_W,C14ERR,DELC13,DELC13_FLAG_W,CDOM325,CDOM325_FLAG_W,CDOM340,CDOM340_FLAG_W,CDOM380,CDOM380_FLAG_W,CDOM412,CDOM412_FLAG_W,CDOM443,CDOM443_FLAG_W,CDOM490,CDOM490_FLAG_W,CDOM555,CDOM555_FLAG_W,CDOMSL,CDOMSL_FLAG_W,CDOMSN,CDOMSN_FLAG_W,THETA,SBE35,SBE35_FLAG_W
,,,,,,,,,,,METERS,,DBAR,ITS-90,PSS-78,,PSS-78,,UMOL/KG,,UMOL/KG,,UMOL/KG,,UMOL/KG,,UMOL/KG,,UMOL/KG,,PMOL/KG,,PMOL/KG,,PMOL/KG,,UMOL/KG,,UMOL/KG,,,,DEG C,UMOL/KG,,UMOL/KG,,TU,,TU,NMOL/KG,,NMOL/KG,PERCNT,,PERCNT,NMOL/KG,,NMOL/KG,/MILLE,,/MILLE,/MILLE,,1/M,,1/M,,1/M,,1/M,,1/M,,1/M,,1/M,,1/NM,,1/NM,,DEG C,ITS-90,
  33RR20070322,  I09N,    94,  1,     36,     38,2,20070328,0138,-25.3352,  95.0002, 5240,   8.8000,      8.8,  23.9547,  35.8391,2,  35.8392,2,    211.7,2,    211.4,2,     1.99,2,     0.06,2,     0.00,2,     0.11,2,    1.838,2,    1.183,2, -999.000,5,   2026.0,6,   2349.4,2,   8.0500,6,    25.00,   -999.0,9,  -999.00,9, -999.000,9, -999.000,-999.0000,9,-999.0000,  -999.00,9,  -999.00, -999.000,9, -999.000,   -999.0,9,   -999.0,  -999.00,9,-999.0000,9,-999.0000,9,-999.0000,9,-999.0000,9,-999.0000,9,-999.0000,9,-999.0000,9,-999.0000,9,-999.0000,9,  23.9528,  23.9494,2
  33RR20070322,  I09N,    94,  1,     35,     35,2,20070328,0138,-25.3352,  95.0002, 5240,  23.4000,     23.4,  23.9458,  35.8409,2,  35.8410,2,    211.7,2,    211.5,2,     1.95,2,     0.07,2,     0.00,2,     0.09,2,    1.797,2,    1.193,2, -999.000,5,   -999.0,9,   -999.0,9,-999.0000,9,  -999.00,   -999.0,9,  -999.00,9, -999.000,9, -999.000,-999.0000,9,-999.0000,  -999.00,9,  -999.00, -999.000,9, -999.000,   -999.0,9,   -999.0,  -999.00,9,-999.0000,9,-999.0000,9,-999.0000,9,-999.0000,9,-999.0000,9,-999.0000,9,-999.0000,9,-999.0000,9,-999.0000,9,  23.9409,  23.9453,2
  33RR20070322,  I09N,    94,  1,     34,   9419,2,20070328,0138,-25.3352,  95.0002, 5240,  48.0000,     48.0,  23.3824,  36.0912,2,  36.0909,2,    213.6,2,    216.4,2,     1.72,2,     0.01,2,     0.00,2,     0.08,2,    1.925,2,    1.226,2, -999.000,5,   2051.6,2,   2366.0,6,   8.0182,2,    25.00,   -999.0,9,  -999.00,9, -999.000,9, -999.000,-999.0000,9,-999.0000,  -999.00,9,  -999.00, -999.000,9, -999.000,   -999.0,9,   -999.0,  -999.00,9,-999.0000,9,-999.0000,9,-999.0000,9,-999.0000,9,-999.0000,9,-999.0000,9,-999.0000,9,-999.0000,9,-999.0000,9,  23.3724,  23.4070,2
  33RR20070322,  I09N,    94,  1,     33,     33,2,20070328,0138,-25.3352,  95.0002, 5240,  93.0000,     93.0,  18.9680,  35.8817,2,  35.8827,2,    242.0,2,    241.5,2,     1.28,2,     0.01,2,     0.00,2,     0.11,2,    2.435,2,    1.496,2, -999.000,5,   2063.6,2,   2354.9,2,   7.9782,2,    25.00,   -999.0,9,  -999.00,9, -999.000,9, -999.000,-999.0000,9,-999.0000,  -999.00,9,  -999.00, -999.000,9, -999.000,   -999.0,9,   -999.0,  -999.00,9,-999.0000,9,-999.0000,9,-999.0000,9,-999.0000,9,-999.0000,9,-999.0000,9,-999.0000,9,-999.0000,9,-999.0000,9,  18.9514,  18.9787,2
  33RR20070322,  I09N,    94,  1,     32,     37,2,20070328,0138,-25.3352,  95.0002, 5240, 142.8000,    142.8,  17.1654,  35.7934,2,  35.7952,2,    241.4,2,    238.9,2,     1.24,2,     0.07,2,     0.00,2,     0.15,2,    2.570,2,    1.556,2, -999.000,5,   -999.0,9,   -999.0,9,-999.0000,9,  -999.00,   -999.0,9,  -999.00,9, -999.000,9, -999.000,-999.0000,9,-999.0000,  -999.00,9,  -999.00, -999.000,9, -999.000,   -999.0,9,   -999.0,  -999.00,9,-999.0000,9,-999.0000,9,-999.0000,9,-999.0000,9,-999.0000,9,-999.0000,9,-999.0000,9,-999.0000,9,-999.0000,9,  17.1416,  17.1699,2
  33RR20070322,  I09N,    94,  1,     31,     31,2,20070328,0138,-25.3352,  95.0002, 5240, 169.0000,    169.0,  16.2652,  35.7129,2,  35.7170,2,    235.5,2,    231.0,2,     1.20,2,     0.72,2,     0.08,2,     0.23,2,    2.713,2,    1.633,2, -999.000,5,   -999.0,9,   -999.0,9,-999.0000,9,  -999.00,   -999.0,9,  -999.00,9, -999.000,9, -999.000,-999.0000,9,-999.0000,  -999.00,9,  -999.00, -999.000,9, -999.000,   -999.0,9,   -999.0,  -999.00,9,-999.0000,9,-999.0000,9,-999.0000,9,-999.0000,9,-999.0000,9,-999.0000,9,-999.0000,9,-999.0000,9,-999.0000,9,  16.2380,  16.2664,2
  33RR20070322,  I09N,    94,  1,     30,     30,2,20070328,0138,-25.3352,  95.0002, 5240, 193.9000,    193.9,  15.4299,  35.6171,2,  35.6187,2,    225.9,2,    225.2,2,     1.56,2,     2.87,2,     0.08,2,     0.34,2,    2.675,2,    1.562,2, -999.000,5,   -999.0,9,   -999.0,9,-999.0000,9,  -999.00,   -999.0,9,  -999.00,9, -999.000,9, -999.000,-999.0000,9,-999.0000,  -999.00,9,  -999.00, -999.000,9, -999.000,   -999.0,9,   -999.0,  -999.00,9,-999.0000,9,-999.0000,9,-999.0000,9,-999.0000,9,-999.0000,9,-999.0000,9,-999.0000,9,-999.0000,9,-999.0000,9,  15.3998,  15.4234,2
  33RR20070322,  I09N,    94,  1,     29,     29,2,20070328,0138,-25.3352,  95.0002, 5240, 243.9000,    243.9,  14.2618,  35.4668,2,  35.4702,2,    224.6,2,    224.7,2,     1.73,2,     5.04,2,     0.00,2,     0.47,2,    2.886,2,    1.683,2, -999.000,5,   -999.0,9,   -999.0,9,-999.0000,9,  -999.00,   -999.0,9,  -999.00,9, -999.000,9, -999.000,-999.0000,9,-999.0000,  -999.00,9,  -999.00, -999.000,9, -999.000,   -999.0,9,   -999.0,  -999.00,9,-999.0000,9,-999.0000,9,-999.0000,9,-999.0000,9,-999.0000,9,-999.0000,9,-999.0000,9,-999.0000,9,-999.0000,9,  14.2259,  14.2622,2
  33RR20070322,  I09N,    94,  1,     28,     28,2,20070328,0138,-25.3352,  95.0002, 5240, 293.9000,    293.9,  13.0282,  35.2818,2,  35.2829,2,    230.2,2,    231.1,2,     2.09,2,     7.12,2,     0.00,2,     0.59,2,    3.111,2,    1.821,2, -999.000,5,   2111.4,2,   2321.6,6,   7.8531,2,    25.00,   -999.0,9,  -999.00,9, -999.000,9, -999.000,-999.0000,9,-999.0000,  -999.00,9,  -999.00, -999.000,9, -999.000,   -999.0,9,   -999.0,  -999.00,9,-999.0000,9,-999.0000,9,-999.0000,9,-999.0000,9,-999.0000,9,-999.0000,9,-999.0000,9,-999.0000,9,-999.0000,9,  12.9875,  13.0158,2
  33RR20070322,  I09N,    94,  1,     27,     27,2,20070328,0138,-25.3352,  95.0002, 5240, 343.8000,    343.8,  12.1822,  35.1449,2,  35.1448,2,    234.4,2,    236.6,2,     2.26,2,     8.73,2,     0.00,2,     0.69,2,    3.170,2,    1.809,2, -999.000,5,   -999.0,9,   -999.0,9,-999.0000,9,  -999.00,   -999.0,9,  -999.00,9, -999.000,9, -999.000,-999.0000,9,-999.0000,  -999.00,9,  -999.00, -999.000,9, -999.000,   -999.0,9,   -999.0,  -999.00,9,-999.0000,9,-999.0000,9,-999.0000,9,-999.0000,9,-999.0000,9,-999.0000,9,-999.0000,9,-999.0000,9,-999.0000,9,  12.1366,  12.1951,2
  33RR20070322,  I09N,    94,  1,     26,     26,2,20070328,0138,-25.3352,  95.0002, 5240, 392.9000,    392.9,  11.4694,  35.0250,2,  35.0263,2,    237.2,2,    238.5,2,     2.81,2,    10.41,2,     0.00,2,     0.79,2,    3.358,2,    1.903,2, -999.000,5,   -999.0,9,   -999.0,9,-999.0000,9,  -999.00,   -999.0,9,  -999.00,9, -999.000,9, -999.000,-999.0000,9,-999.0000,  -999.00,9,  -999.00, -999.000,9, -999.000,   -999.0,9,   -999.0,  -999.00,9,-999.0000,9,-999.0000,9,-999.0000,9,-999.0000,9,-999.0000,9,-999.0000,9,-999.0000,9,-999.0000,9,-999.0000,9,  11.4192,  11.4700,2
  33RR20070322,  I09N,    94,  1,     25,     25,2,20070328,0138,-25.3352,  95.0002, 5240, 442.4000,    442.4,  10.8023,  34.9187,2,  34.9228,2,    240.7,2,    240.6,2,     3.59,2,    13.48,2,     0.00,2,     0.98,2,    3.452,2,    1.937,2, -999.000,5,   -999.0,9,   -999.0,9,-999.0000,9,  -999.00,   -999.0,9,  -999.00,9, -999.000,9, -999.000,-999.0000,9,-999.0000,  -999.00,9,  -999.00, -999.000,9, -999.000,   -999.0,9,   -999.0,  -999.00,9,-999.0000,9,-999.0000,9,-999.0000,9,-999.0000,9,-999.0000,9,-999.0000,9,-999.0000,9,-999.0000,9,-999.0000,9,  10.7478,  10.8035,2
  33RR20070322,  I09N,    94,  1,     24,     24,2,20070328,0138,-25.3352,  95.0002, 5240, 493.3000,    493.3,  10.1634,  34.8157,2,  34.8178,2,    241.8,2,    242.1,2,     3.55,2,    13.48,2,     0.00,2,     0.98,2,    3.604,2,    1.993,2, -999.000,5,   2119.0,2,   2298.7,6,   7.7838,2,    25.00,   -999.0,9,  -999.00,9, -999.000,9, -999.000,-999.0000,9,-999.0000,  -999.00,9,  -999.00, -999.000,9, -999.000,   -999.0,9,   -999.0,  -999.00,9,-999.0000,9,-999.0000,9,-999.0000,9,-999.0000,9,-999.0000,9,-999.0000,9,-999.0000,9,-999.0000,9,-999.0000,9,  10.1048,  10.1592,2
  33RR20070322,  I09N,    94,  1,     23,     23,2,20070328,0138,-25.3352,  95.0002, 5240, 577.9000,    577.9,   9.4588,  34.7053,2,  34.7114,2,    242.0,2,    241.2,2,     4.31,2,    15.55,2,     0.00,2,     1.10,2,    3.643,2,    2.021,2, -999.000,5,   -999.0,9,   -999.0,9,-999.0000,9,  -999.00,   -999.0,9,  -999.00,9, -999.000,9, -999.000,-999.0000,9,-999.0000,  -999.00,9,  -999.00, -999.000,9, -999.000,   -999.0,9,   -999.0,  -999.00,9,-999.0000,9,-999.0000,9,-999.0000,9,-999.0000,9,-999.0000,9,-999.0000,9,-999.0000,9,-999.0000,9,-999.0000,9,   9.3929,   9.4588,2
  33RR20070322,  I09N,    94,  1,     22,     22,2,20070328,0138,-25.3352,  95.0002, 5240, 678.5000,    678.5,   8.6484,  34.6030,2,  34.6073,2,    232.8,2,    228.1,2,     6.87,2,    19.09,2,     0.00,2,     1.33,2,    3.149,2,    1.627,2, -999.000,5,   -999.0,9,   -999.0,9,-999.0000,9,  -999.00,   -999.0,9,  -999.00,9, -999.000,9, -999.000,-999.0000,9,-999.0000,  -999.00,9,  -999.00, -999.000,9, -999.000,   -999.0,9,   -999.0,  -999.00,9,-999.0000,9,-999.0000,9,-999.0000,9,-999.0000,9,-999.0000,9,-999.0000,9,-999.0000,9,-999.0000,9,-999.0000,9,   8.5748,   8.6536,2
  33RR20070322,  I09N,    94,  1,     21,     21,2,20070328,0138,-25.3352,  95.0002, 5240, 778.9000,    778.9,   7.2188,  34.4874,2,  34.4913,2,    210.9,2,    205.2,2,    14.65,2,    24.45,2,     0.00,2,     1.68,2,    2.279,2,    1.186,2, -999.000,5,   -999.0,9,   -999.0,9,-999.0000,9,  -999.00,   -999.0,9,  -999.00,9, -999.000,9, -999.000,-999.0000,9,-999.0000,  -999.00,9,  -999.00, -999.000,9, -999.000,   -999.0,9,   -999.0,  -999.00,9,-999.0000,9,-999.0000,9,-999.0000,9,-999.0000,9,-999.0000,9,-999.0000,9,-999.0000,9,-999.0000,9,-999.0000,9,   7.1421,   7.2343,2
  33RR20070322,  I09N,    94,  1,     20,     20,2,20070328,0138,-25.3352,  95.0002, 5240, 877.8000,    877.8,   5.5524,  34.4160,2,  34.4196,2,    194.0,2,    190.0,2,    28.85,2,    29.38,2,     0.00,2,     2.02,2,    1.301,2,    0.651,2, -999.000,5,   -999.0,9,   -999.0,9,-999.0000,9,  -999.00,   -999.0,9,  -999.00,9, -999.000,9, -999.000,-999.0000,9,-999.0000,  -999.00,9,  -999.00, -999.000,9, -999.000,   -999.0,9,   -999.0,  -999.00,9,-999.0000,9,-999.0000,9,-999.0000,9,-999.0000,9,-999.0000,9,-999.0000,9,-999.0000,9,-999.0000,9,-999.0000,9,   5.4765,   5.5474,2
  33RR20070322,  I09N,    94,  1,     19,     19,2,20070328,0138,-25.3352,  95.0002, 5240, 981.0000,    981.0,   4.6000,  34.4449,2,  34.4463,2,    173.9,2,    167.9,2,    48.69,2,    32.62,2,     0.00,2,     2.30,2,    0.613,2,    0.315,2, -999.000,5,   -999.0,9,   -999.0,9,-999.0000,9,  -999.00,   -999.0,9,  -999.00,9, -999.000,9, -999.000,-999.0000,9,-999.0000,  -999.00,9,  -999.00, -999.000,9, -999.000,   -999.0,9,   -999.0,  -999.00,9,-999.0000,9,-999.0000,9,-999.0000,9,-999.0000,9,-999.0000,9,-999.0000,9,-999.0000,9,-999.0000,9,-999.0000,9,   4.5215,   4.6003,2
  33RR20070322,  I09N,    94,  1,     18,     18,2,20070328,0138,-25.3352,  95.0002, 5240,1080.2000,   1080.2,   4.1923,  34.4986,2,  34.4993,2,    152.3,2,    149.7,2,    63.75,2,    34.20,2,     0.00,2,     2.43,2,    0.258,2,    0.139,2, -999.000,5,   -999.0,9,   -999.0,9,-999.0000,9,  -999.00,   -999.0,9,  -999.00,9, -999.000,9, -999.000,-999.0000,9,-999.0000,  -999.00,9,  -999.00, -999.000,9, -999.000,   -999.0,9,   -999.0,  -999.00,9,-999.0000,9,-999.0000,9,-999.0000,9,-999.0000,9,-999.0000,9,-999.0000,9,-999.0000,9,-999.0000,9,-999.0000,9,   4.1083,   4.1931,2
  33RR20070322,  I09N,    94,  1,     17,     17,2,20070328,0138,-25.3352,  95.0002, 5240,1181.0000,   1181.0,   3.9197,  34.5360,2,  34.5367,2,    143.5,2,    142.3,2,    72.59,2,    34.94,2,     0.00,2,     2.48,2,    0.130,2,    0.075,2, -999.000,5,   -999.0,9,   -999.0,9,-999.0000,9,  -999.00,   -999.0,9,  -999.00,9, -999.000,9, -999.000,-999.0000,9,-999.0000,  -999.00,9,  -999.00, -999.000,9, -999.000,   -999.0,9,   -999.0,  -999.00,9,-999.0000,9,-999.0000,9,-999.0000,9,-999.0000,9,-999.0000,9,-999.0000,9,-999.0000,9,-999.0000,9,-999.0000,9,   3.8294,   3.9209,2
  33RR20070322,  I09N,    94,  1,     16,     16,2,20070328,0138,-25.3352,  95.0002, 5240,1280.0000,   1280.0,   3.6468,  34.5659,2,  34.5665,2,    140.8,2,    140.0,2,    78.62,2,    35.25,2,     0.00,2,     2.49,2, -999.000,9, -999.000,9, -999.000,9,   -999.0,9,   -999.0,9,-999.0000,9,  -999.00,   -999.0,9,  -999.00,9, -999.000,9, -999.000,-999.0000,9,-999.0000,  -999.00,9,  -999.00, -999.000,9, -999.000,   -999.0,9,   -999.0,  -999.00,9,-999.0000,9,-999.0000,9,-999.0000,9,-999.0000,9,-999.0000,9,-999.0000,9,-999.0000,9,-999.0000,9,-999.0000,9,   3.5506,   3.6507,2
  33RR20070322,  I09N,    94,  1,     15,     15,2,20070328,0138,-25.3352,  95.0002, 5240,1381.5000,   1381.5,   3.3549,  34.5919,2,  34.5919,2,    142.3,2,    142.6,2,    82.83,2,    35.19,2,     0.00,2,     2.48,2,    0.034,2,    0.021,2, -999.000,5,   2270.3,2,   2358.6,2,   7.5434,6,    25.00,   -999.0,9,  -999.00,9, -999.000,9, -999.000,-999.0000,9,-999.0000,  -999.00,9,  -999.00, -999.000,9, -999.000,   -999.0,9,   -999.0,  -999.00,9,-999.0000,9,-999.0000,9,-999.0000,9,-999.0000,9,-999.0000,9,-999.0000,9,-999.0000,9,-999.0000,9,-999.0000,9,   3.2530,   3.3551,2
  33RR20070322,  I09N,    94,  1,     14,     14,2,20070328,0138,-25.3352,  95.0002, 5240,1482.8000,   1482.8,   3.1677,  34.6199,2,  34.6219,2,    143.7,2,    144.8,2,    87.05,2,    35.02,2,     0.00,2,     2.47,2, -999.000,9, -999.000,9, -999.000,9,   -999.0,9,   -999.0,9,-999.0000,9,  -999.00,   -999.0,9,  -999.00,9, -999.000,9, -999.000,-999.0000,9,-999.0000,  -999.00,9,  -999.00, -999.000,9, -999.000,   -999.0,9,   -999.0,  -999.00,9,-999.0000,9,-999.0000,9,-999.0000,9,-999.0000,9,-999.0000,9,-999.0000,9,-999.0000,9,-999.0000,9,-999.0000,9,   3.0593,   3.1676,2
  33RR20070322,  I09N,    94,  1,     13,     13,2,20070328,0138,-25.3352,  95.0002, 5240,1583.8000,   1583.8,   2.9968,  34.6423,2,  34.6428,2,    146.0,2,    147.8,2,    90.05,2,    34.80,2,     0.00,2,     2.45,2,    0.009,2,    0.005,2, -999.000,5,   -999.0,9,   -999.0,9,-999.0000,9,  -999.00,   -999.0,9,  -999.00,9, -999.000,9, -999.000,-999.0000,9,-999.0000,  -999.00,9,  -999.00, -999.000,9, -999.000,   -999.0,9,   -999.0,  -999.00,9,-999.0000,9,-999.0000,9,-999.0000,9,-999.0000,9,-999.0000,9,-999.0000,9,-999.0000,9,-999.0000,9,-999.0000,9,   2.8818,   2.9975,2
  33RR20070322,  I09N,    94,  1,     12,     12,2,20070328,0138,-25.3352,  95.0002, 5240,1784.9000,   1784.9,   2.6895,  34.6843,2,  34.6848,2,    150.7,2,    152.1,2,    97.73,2,    34.32,2,     0.00,2,     2.41,2, -999.000,9, -999.000,9, -999.000,9,   -999.0,9,   -999.0,9,-999.0000,9,  -999.00,   -999.0,9,  -999.00,9, -999.000,9, -999.000,-999.0000,9,-999.0000,  -999.00,9,  -999.00, -999.000,9, -999.000,   -999.0,9,   -999.0,  -999.00,9,-999.0000,9,-999.0000,9,-999.0000,9,-999.0000,9,-999.0000,9,-999.0000,9,-999.0000,9,-999.0000,9,-999.0000,9,   2.5612,   2.6896,2
  33RR20070322,  I09N,    94,  1,     11,     11,2,20070328,0138,-25.3352,  95.0002, 5240,1986.1000,   1986.1,   2.4190,  34.7100,2,  34.7098,2,    156.9,2,    157.7,2,   104.00,2,    33.89,2,     0.00,2,     2.38,2,    0.011,2,    0.004,2,    0.000,3,   -999.0,9,   -999.0,9,-999.0000,9,  -999.00,   -999.0,9,  -999.00,9, -999.000,9, -999.000,-999.0000,9,-999.0000,  -999.00,9,  -999.00, -999.000,9, -999.000,   -999.0,9,   -999.0,  -999.00,9,-999.0000,9,-999.0000,9,-999.0000,9,-999.0000,9,-999.0000,9,-999.0000,9,-999.0000,9,-999.0000,9,-999.0000,9,   2.2771,   2.4190,2
  33RR20070322,  I09N,    94,  1,     10,     10,2,20070328,0138,-25.3352,  95.0002, 5240,2188.8000,   2188.8,   2.1851,  34.7221,2,  34.7240,4,    161.7,2,    162.0,2,   109.88,2,    33.72,2,     0.00,2,     2.37,2, -999.000,9, -999.000,9, -999.000,9,   -999.0,9,   -999.0,9,-999.0000,9,  -999.00,   -999.0,9,  -999.00,9, -999.000,9, -999.000,-999.0000,9,-999.0000,  -999.00,9,  -999.00, -999.000,9, -999.000,   -999.0,9,   -999.0,  -999.00,9,-999.0000,9,-999.0000,9,-999.0000,9,-999.0000,9,-999.0000,9,-999.0000,9,-999.0000,9,-999.0000,9,-999.0000,9,   2.0292,   2.1846,2
  33RR20070322,  I09N,    94,  1,      9,      9,2,20070328,0138,-25.3352,  95.0002, 5240,2441.5000,   2441.5,   1.9819,  34.7271,2,  34.7271,2,    168.8,2,    168.8,2,   112.91,2,    33.40,2,     0.00,2,     2.36,2,    0.020,2,    0.005,2,   -0.001,3,   -999.0,9,   -999.0,9,-999.0000,9,  -999.00,   -999.0,9,  -999.00,9, -999.000,9, -999.000,-999.0000,9,-999.0000,  -999.00,9,  -999.00, -999.000,9, -999.000,   -999.0,9,   -999.0,  -999.00,9,-999.0000,9,-999.0000,9,-999.0000,9,-999.0000,9,-999.0000,9,-999.0000,9,-999.0000,9,-999.0000,9,-999.0000,9,   1.8069,   1.9811,2
  33RR20070322,  I09N,    94,  1,      8,      8,2,20070328,0138,-25.3352,  95.0002, 5240,2695.4000,   2695.4,   1.7954,  34.7286,2,  34.7305,4,    174.7,2,    174.8,2,   114.51,2,    33.03,2,     0.00,2,     2.34,2, -999.000,9, -999.000,9, -999.000,9,   -999.0,9,   -999.0,9,-999.0000,9,  -999.00,   -999.0,9,  -999.00,9, -999.000,9, -999.000,-999.0000,9,-999.0000,  -999.00,9,  -999.00, -999.000,9, -999.000,   -999.0,9,   -999.0,  -999.00,9,-999.0000,9,-999.0000,9,-999.0000,9,-999.0000,9,-999.0000,9,-999.0000,9,-999.0000,9,-999.0000,9,-999.0000,9,   1.6007,   1.7964,2
  33RR20070322,  I09N,    94,  1,      7,      7,2,20070328,0138,-25.3352,  95.0002, 5240,2948.7000,   2948.7,   1.6545,  34.7280,2,  34.7303,4,    179.0,2,    179.2,2,   117.34,2,    33.03,2,     0.00,2,     2.33,2,    0.030,3,    0.002,2,   -0.001,3,   -999.0,9,   -999.0,9,-999.0000,9,  -999.00,   -999.0,9,  -999.00,9, -999.000,9, -999.000,-999.0000,9,-999.0000,  -999.00,9,  -999.00, -999.000,9, -999.000,   -999.0,9,   -999.0,  -999.00,9,-999.0000,9,-999.0000,9,-999.0000,9,-999.0000,9,-999.0000,9,-999.0000,9,-999.0000,9,-999.0000,9,-999.0000,9,   1.4389,   1.6544,2
  33RR20070322,  I09N,    94,  1,      6,      6,2,20070328,0138,-25.3352,  95.0002, 5240,3282.5000,   3282.5,   1.4802,  34.7254,2,  34.7274,4,    184.4,2,    184.3,2,   120.59,2,    32.80,2,     0.00,2,     2.31,2, -999.000,9, -999.000,9, -999.000,9,   -999.0,9,   -999.0,9,-999.0000,9,  -999.00,   -999.0,9,  -999.00,9, -999.000,9, -999.000,-999.0000,9,-999.0000,  -999.00,9,  -999.00, -999.000,9, -999.000,   -999.0,9,   -999.0,  -999.00,9,-999.0000,9,-999.0000,9,-999.0000,9,-999.0000,9,-999.0000,9,-999.0000,9,-999.0000,9,-999.0000,9,-999.0000,9,   1.2361,   1.4798,2
  33RR20070322,  I09N,    94,  1,      5,      5,2,20070328,0138,-25.3352,  95.0002, 5240,3689.0000,   3689.0,   1.2942,  34.7215,2,  34.7236,4,    191.3,2,    191.4,2,   122.40,2,    32.74,2,     0.00,2,     2.29,2,    0.037,3,    0.005,2,    0.002,3,   -999.0,9,   -999.0,9,-999.0000,9,  -999.00,   -999.0,9,  -999.00,9, -999.000,9, -999.000,-999.0000,9,-999.0000,  -999.00,9,  -999.00, -999.000,9, -999.000,   -999.0,9,   -999.0,  -999.00,9,-999.0000,9,-999.0000,9,-999.0000,9,-999.0000,9,-999.0000,9,-999.0000,9,-999.0000,9,-999.0000,9,-999.0000,9,   1.0137,   1.2939,2