BOTTLE,20150630SIOCCHRJL
EXPOCODE,SECT_ID,STNNBR,CASTNO,SAMPNO,BTLNBR,BTLNBR_FLAG_W,DATE,TIME,LATITUDE,LONGITUDE,DEPTH,CTDRAW,CTDPRS,CTDTMP,CTDSAL,CTDSAL_FLAG_W,SALNTY,SALNTY_FLAG_W,CTDOXY,CTDOXY_FLAG_W,OXYGEN,OXYGEN_FLAG_W,SILCAT,SILCAT_FLAG_W,NITRAT,NITRAT_FLAG_W,NITRIT,NITRIT_FLAG_W,PHSPHT,PHSPHT_FLAG_W,CFC-11,CFC-11_FLAG_W,CFC-12,CFC-12_FLAG_W,CFC113,CFC113_FLAG_W,TCARBN,TCARBN_FLAG_W,ALKALI,ALKALI_FLAG_W,PH_SWS,PH_SWS_FLAG_W,PH_TMP,DOC,DOC_FLAG_W,TDN,TDN_FLAG_W,TRITUM,TRITUM_FLAG_W,TRITER,HELIUM,HELIUM_FLAG_W,HELIER,DELHE3,DELHE3_FLAG_W,DELHER,NEON,NEON_FLAG_W,NEONER,DELC14,DELC14_FLAG_W,C14ERR,DELC13,DELC13_FLAG_W,CDOM325,CDOM325_FLAG_W,CDOM340,CDOM340_FLAG_W,CDOM380,CDOM380_FLAG_W,CDOM412,CDOM412_FLAG_W,CDOM443,CDOM443_FLAG_W,CDOM490,CDOM490_FLAG_W,CDOM555,CDOM555_FLAG_W,CDOMSL,CDOMSL_FLAG_W,CDOMSN,CDOMSN_FLAG_W,THETA,SBE35,SBE35_FLAG_W
,,,,,,,,,,,METERS,,DBAR,ITS-90,PSS-78,,PSS-78,,UMOL/KG,,UMOL/KG,,UMOL/KG,,UMOL/KG,,UMOL/KG,,UMOL/KG,,PMOL/KG,,PMOL/KG,,PMOL/KG,,UMOL/KG,,UMOL/KG,,,,DEG C,UMOL/KG,,UMOL/KG,,TU,,TU,NMOL/KG,,NMOL/KG,PERCNT,,PERCNT,NMOL/KG,,NMOL/KG,/MILLE,,/MILLE,/MILLE,,1/M,,1/M,,1/M,,1/M,,1/M,,1/M,,1/M,,1/NM,,1/NM,,DEG C,ITS-90,
  33RR20070322,  I09N,   156,  2,     36,     38,2,20070415,1906,  3.9008,  91.3272, 3875,   2.7000,      2.7,  30.0473,  34.0651,2,  34.0662,2,    195.0,2,    194.9,2,     1.15,2,     0.05,2,     0.00,2,     0.09,2,    1.486,2,    0.969,2, -999.000,5,   1904.1,6,   2228.2,2,   8.1030,6,    25.00,   -999.0,9,  -999.00,9,    0.607,2,    0.010,   1.7050,2,   0.0009,    -1.07,2,     0.19,    6.706,2,    0.009,   -999.0,9,   -999.0,  -999.00,9,-999.0000,9,-999.0000,9,-999.0000,9,-999.0000,9,-999.0000,9,-999.0000,9,-999.0000,9,-999.0000,9,-999.0000,9,  30.0466,  30.0423,2
  33RR20070322,  I09N,   156,  2,     35,     35,2,20070415,1906,  3.9008,  91.3272, 3875,  41.2000,     41.2,  28.3467,  34.4734,2,  34.4725,2,    191.6,2,    193.2,2,     1.72,2,     0.05,2,     0.00,2,     0.16,2,    1.545,2,    0.998,2, -999.000,5,   -999.0,9,   -999.0,9,-999.0000,9,  -999.00,   -999.0,9,  -999.00,9,    0.571,2,    0.010,   1.7020,2,   0.0004,    -0.92,2,     0.19,    6.734,2,    0.011,   -999.0,9,   -999.0,  -999.00,9,-999.0000,9,-999.0000,9,-999.0000,9,-999.0000,9,-999.0000,9,-999.0000,9,-999.0000,9,-999.0000,9,-999.0000,9,  28.3369,  28.3389,2
  33RR20070322,  I09N,   156,  2,     34,   9419,2,20070415,1906,  3.9008,  91.3272, 3875,  75.8000,     75.8,  26.8140,  34.8386,2,  34.8389,2,    171.1,2,    166.7,2,     3.09,2,     2.47,2,     0.07,2,     0.42,2,    1.525,2,    0.974,2, -999.000,5,   2004.8,2,   2280.8,2,   8.0107,2,    25.00,   -999.0,9,  -999.00,9,    0.540,2,    0.009,   1.7340,2,   0.0003,    -0.11,2,     0.19,    6.973,2,    0.012,   -999.0,9,   -999.0,  -999.00,9,-999.0000,9,-999.0000,9,-999.0000,9,-999.0000,9,-999.0000,9,-999.0000,9,-999.0000,9,-999.0000,9,-999.0000,9,  26.7967,  26.8175,2
  33RR20070322,  I09N,   156,  2,     33,     33,2,20070415,1906,  3.9008,  91.3272, 3875,  95.2000,     95.2,  23.7861,  35.2132,2,  35.2125,2,    101.9,2,     98.3,2,     8.41,2,    13.10,2,     0.48,2,     1.04,2,    1.483,2,    0.933,2, -999.000,5,   -999.0,9,   -999.0,9,-999.0000,9,  -999.00,   -999.0,9,  -999.00,9,    0.479,2,    0.009,-999.0000,9,-999.0000,  -999.00,9,  -999.00, -999.000,9, -999.000,   -999.0,9,   -999.0,  -999.00,9,-999.0000,9,-999.0000,9,-999.0000,9,-999.0000,9,-999.0000,9,-999.0000,9,-999.0000,9,-999.0000,9,-999.0000,9,  23.7662,  23.7785,2
  33RR20070322,  I09N,   156,  2,     32,     37,2,20070415,1906,  3.9008,  91.3272, 3875, 125.6000,    125.6,  18.0904,  34.8819,2,  34.9031,2,     43.9,2,     40.4,2,    21.24,2,    24.66,2,     0.02,2,     1.79,2,    1.065,2,    0.659,2, -999.000,5,   2172.1,2,   2292.2,2,   7.6633,2,    25.00,   -999.0,9,  -999.00,9,    0.337,2,    0.008,   1.8020,2,   0.0009,     3.14,2,     0.18,    7.363,2,    0.011,   -999.0,9,   -999.0,  -999.00,9,-999.0000,9,-999.0000,9,-999.0000,9,-999.0000,9,-999.0000,9,-999.0000,9,-999.0000,9,-999.0000,9,-999.0000,9,  18.0688,  18.0962,2
  33RR20070322,  I09N,   156,  2,     31,     31,2,20070415,1906,  3.9008,  91.3272, 3875, 145.8000,    145.8,  17.4492,  35.1003,2,  35.0950,2,     33.8,2,     31.9,2,    20.23,2,    25.98,2,     0.01,2,     1.88,2,    1.190,2,    0.712,2, -999.000,5,   -999.0,9,   -999.0,9,-999.0000,9,  -999.00,   -999.0,9,  -999.00,9,    0.474,2,    0.009,   1.7350,2,   0.0008,     3.34,2,     0.20,    7.130,2,    0.012,   -999.0,9,   -999.0,  -999.00,9,-999.0000,9,-999.0000,9,-999.0000,9,-999.0000,9,-999.0000,9,-999.0000,9,-999.0000,9,-999.0000,9,-999.0000,9,  17.4247,  17.4333,2
  33RR20070322,  I09N,   156,  2,     30,     30,2,20070415,1906,  3.9008,  91.3272, 3875, 175.5000,    175.5,  15.4171,  35.1232,2,  35.1202,2,     39.1,2,     38.5,2,    21.99,2,    26.96,2,     0.00,2,     1.93,2,    1.199,2,    0.694,2, -999.000,5,   2207.9,2,   2305.8,2,   7.5993,2,    25.00,   -999.0,9,  -999.00,9,    0.132,2,    0.151,   1.7610,2,   0.0008,     4.10,2,     0.19,    7.325,2,    0.012,   -999.0,9,   -999.0,  -999.00,9,-999.0000,9,-999.0000,9,-999.0000,9,-999.0000,9,-999.0000,9,-999.0000,9,-999.0000,9,-999.0000,9,-999.0000,9,  15.3900,  15.3991,2
  33RR20070322,  I09N,   156,  2,     29,     29,2,20070415,1906,  3.9008,  91.3272, 3875, 225.4000,    225.4,  13.6603,  35.0755,2,  35.0743,2,     30.9,2,     33.0,2,    25.53,2,    29.20,2,     0.00,2,     2.08,2,    0.979,2,    0.558,2, -999.000,5,   -999.0,9,   -999.0,9,-999.0000,9,  -999.00,   -999.0,9,  -999.00,9,    0.229,2,    0.006,   1.7670,2,   0.0008,     4.60,2,     0.20,    7.321,2,    0.011,   -999.0,9,   -999.0,  -999.00,9,-999.0000,9,-999.0000,9,-999.0000,9,-999.0000,9,-999.0000,9,-999.0000,9,-999.0000,9,-999.0000,9,-999.0000,9,  13.6282,  13.6577,2
  33RR20070322,  I09N,   156,  2,     28,     28,2,20070415,1906,  3.9008,  91.3272, 3875, 275.4000,    275.4,  12.6588,  35.0693,2,  35.0684,2,     33.1,2,     32.4,2,    28.09,2,    30.32,2,     0.00,2,     2.14,2,    0.824,2,    0.474,2, -999.000,5,   -999.0,9,   -999.0,9,-999.0000,9,  -999.00,   -999.0,9,  -999.00,9,    0.170,2,    0.005,-999.0000,9,-999.0000,  -999.00,9,  -999.00, -999.000,9, -999.000,   -999.0,9,   -999.0,  -999.00,9,-999.0000,9,-999.0000,9,-999.0000,9,-999.0000,9,-999.0000,9,-999.0000,9,-999.0000,9,-999.0000,9,-999.0000,9,  12.6214,  12.6481,2
  33RR20070322,  I09N,   156,  2,     27,     27,2,20070415,1906,  3.9008,  91.3272, 3875, 325.1000,    325.1,  12.0875,  35.0764,2,  35.0757,2,     35.2,2,     32.9,2,    29.06,2,    30.82,2,     0.00,2,     2.18,2,    0.787,2,    0.441,2, -999.000,5,   2240.5,2,   2309.3,6,   7.5158,2,    25.00,   -999.0,9,  -999.00,9,    0.161,2,    0.006,   1.7660,2,   0.0003,     4.88,2,     0.18,    7.391,2,    0.012,   -999.0,9,   -999.0,  -999.00,9,-999.0000,9,-999.0000,9,-999.0000,9,-999.0000,9,-999.0000,9,-999.0000,9,-999.0000,9,-999.0000,9,-999.0000,9,  12.0446,  12.0919,2
  33RR20070322,  I09N,   156,  2,     26,     26,2,20070415,1906,  3.9008,  91.3272, 3875, 375.7000,    375.7,  11.3804,  35.0611,2,  35.0614,2,     41.6,2,     41.0,2,    29.83,2,    31.23,2,     0.00,2,     2.18,2,    0.709,2,    0.395,2, -999.000,5,   -999.0,9,   -999.0,9,-999.0000,9,  -999.00,   -999.0,9,  -999.00,9,    0.149,2,    0.005,   1.7560,2,   0.0003,     5.11,2,     0.18,    7.367,2,    0.012,   -999.0,9,   -999.0,  -999.00,9,-999.0000,9,-999.0000,9,-999.0000,9,-999.0000,9,-999.0000,9,-999.0000,9,-999.0000,9,-999.0000,9,-999.0000,9,  11.3326,  11.4142,2
  33RR20070322,  I09N,   156,  2,     25,     25,2,20070415,1906,  3.9008,  91.3272, 3875, 424.8000,    424.8,  10.8277,  35.0466,2,  35.0456,2,     42.2,2,     42.0,2,    32.78,2,    32.04,2,     0.00,2,     2.24,2,    0.564,2,    0.317,2, -999.000,5,   2245.0,2,   2313.7,2,   7.5112,2,    25.00,   -999.0,9,  -999.00,9,    0.115,2,    0.005,   1.7750,2,   0.0006,     5.04,2,     0.19,    7.502,2,    0.012,   -999.0,9,   -999.0,  -999.00,9,-999.0000,9,-999.0000,9,-999.0000,9,-999.0000,9,-999.0000,9,-999.0000,9,-999.0000,9,-999.0000,9,-999.0000,9,  10.7753,  10.8250,2
  33RR20070322,  I09N,   156,  2,     24,     24,2,20070415,1906,  3.9008,  91.3272, 3875, 475.0000,    475.0,  10.5026,  35.0411,2,  35.0405,2,     45.3,2,     44.7,2,    35.14,2,    32.25,2,     0.00,2,     2.28,2,    0.507,2,    0.283,2, -999.000,5,   -999.0,9,   -999.0,9,-999.0000,9,  -999.00,   -999.0,9,  -999.00,9,    0.100,2,    0.005,   1.7900,2,   0.0004,     5.38,2,     0.18,    7.514,2,    0.012,   -999.0,9,   -999.0,  -999.00,9,-999.0000,9,-999.0000,9,-999.0000,9,-999.0000,9,-999.0000,9,-999.0000,9,-999.0000,9,-999.0000,9,-999.0000,9,  10.4449,  10.5020,2
  33RR20070322,  I09N,   156,  2,     23,     23,2,20070415,1906,  3.9008,  91.3272, 3875, 525.2000,    525.2,  10.1100,  35.0352,2,  35.0341,2,     45.7,2,     44.5,2,    38.68,2,    32.96,2,     0.00,2,     2.35,2,    0.396,2,    0.222,2, -999.000,5,   2252.0,2,   2317.8,2,   7.5066,2,    25.00,   -999.0,9,  -999.00,9,    0.068,2,    0.004,   1.8460,2,   0.0009,     5.69,2,     0.20,    7.767,2,    0.011,   -999.0,9,   -999.0,  -999.00,9,-999.0000,9,-999.0000,9,-999.0000,9,-999.0000,9,-999.0000,9,-999.0000,9,-999.0000,9,-999.0000,9,-999.0000,9,  10.0476,  10.1095,2
  33RR20070322,  I09N,   156,  2,     22,     22,2,20070415,1906,  3.9008,  91.3272, 3875, 645.4000,    645.4,   9.3704,  35.0296,2,  35.0297,2,     32.7,2,     27.7,2,    51.15,2,    35.53,2,     0.00,2,     2.60,2,    0.136,2,    0.082,2, -999.000,5,   -999.0,9,   -999.0,9,-999.0000,9,  -999.00,   -999.0,9,  -999.00,9,    0.163,2,    0.005,   1.8590,2,   0.0009,     6.49,2,     0.20,    7.807,2,    0.010,   -999.0,9,   -999.0,  -999.00,9,-999.0000,9,-999.0000,9,-999.0000,9,-999.0000,9,-999.0000,9,-999.0000,9,-999.0000,9,-999.0000,9,-999.0000,9,   9.2967,   9.3723,2
  33RR20070322,  I09N,   156,  2,     21,     21,2,20070415,1906,  3.9008,  91.3272, 3875, 745.1000,    745.1,   8.3619,  34.9964,2,  34.9949,2,     37.4,2,     38.9,2,    61.85,2,    35.83,2,     0.00,2,     2.64,2,    0.101,2,    0.059,2, -999.000,5,   2284.7,2,   2345.5,2,   7.4618,2,    25.00,   -999.0,9,  -999.00,9,    0.012,2,    0.003,   1.8530,2,   0.0007,     7.89,2,     0.20,    7.801,2,    0.014,   -999.0,9,   -999.0,  -999.00,9,-999.0000,9,-999.0000,9,-999.0000,9,-999.0000,9,-999.0000,9,-999.0000,9,-999.0000,9,-999.0000,9,-999.0000,9,   8.2819,   8.3630,2
  33RR20070322,  I09N,   156,  2,     20,     20,2,20070415,1906,  3.9008,  91.3272, 3875, 846.2000,    846.2,   7.6167,  34.9787,2,  34.9782,2,     39.1,2,     40.3,2,    71.98,2,    36.71,2,     0.00,2,     2.71,2,    0.040,2,    0.026,2, -999.000,5,   -999.0,9,   -999.0,9,-999.0000,9,  -999.00,   -999.0,9,  -999.00,9,    0.084,2,    0.004,-999.0000,9,-999.0000,  -999.00,9,  -999.00, -999.000,9, -999.000,   -999.0,9,   -999.0,  -999.00,9,-999.0000,9,-999.0000,9,-999.0000,9,-999.0000,9,-999.0000,9,-999.0000,9,-999.0000,9,-999.0000,9,-999.0000,9,   7.5299,   7.6127,2
  33RR20070322,  I09N,   156,  2,     19,     19,2,20070415,1906,  3.9008,  91.3272, 3875, 946.6000,    946.6,   7.0297,  34.9493,2,  34.9493,2,     49.3,2,     49.8,2,    78.14,2,    36.50,2,     0.00,2,     2.69,2,    0.046,2,    0.027,2, -999.000,5,   -999.0,9,   -999.0,9,-999.0000,9,  -999.00,   -999.0,9,  -999.00,9, -999.000,9, -999.000,   1.8540,2,   0.0006,    10.84,2,     0.19,    7.765,2,    0.013,   -999.0,9,   -999.0,  -999.00,9,-999.0000,9,-999.0000,9,-999.0000,9,-999.0000,9,-999.0000,9,-999.0000,9,-999.0000,9,-999.0000,9,-999.0000,9,   6.9361,   7.0296,2
  33RR20070322,  I09N,   156,  2,     18,     18,2,20070415,1906,  3.9008,  91.3272, 3875,1046.2000,   1046.2,   6.5045,  34.9266,2,  34.9253,2,     56.7,2,     56.4,2,    84.32,2,    36.65,2,     0.00,2,     2.69,2,    0.039,2,    0.022,2, -999.000,5,   2304.0,2,   2366.3,6,   7.4802,2,    25.00,   -999.0,9,  -999.00,9,    0.088,2,    0.005,   1.8410,2,   0.0006,    11.70,2,     0.18,    7.837,2,    0.013,   -999.0,9,   -999.0,  -999.00,9,-999.0000,9,-999.0000,9,-999.0000,9,-999.0000,9,-999.0000,9,-999.0000,9,-999.0000,9,-999.0000,9,-999.0000,9,   6.4045,   6.5069,2
  33RR20070322,  I09N,   156,  2,     17,     17,2,20070415,1906,  3.9008,  91.3272, 3875,1146.0000,   1146.0,   5.9056,  34.9032,2,  34.9025,2,     63.1,2,     62.9,2,    91.09,2,    36.85,2,     0.00,2,     2.71,2, -999.000,9, -999.000,9, -999.000,9,   -999.0,9,   -999.0,9,-999.0000,9,  -999.00,   -999.0,9,  -999.00,9, -999.000,9, -999.000,-999.0000,9,-999.0000,  -999.00,9,  -999.00, -999.000,9, -999.000,   -999.0,9,   -999.0,  -999.00,9,-999.0000,9,-999.0000,9,-999.0000,9,-999.0000,9,-999.0000,9,-999.0000,9,-999.0000,9,-999.0000,9,-999.0000,9,   5.8004,   5.9059,2
  33RR20070322,  I09N,   156,  2,     16,     16,2,20070415,1906,  3.9008,  91.3272, 3875,1246.9000,   1246.9,   5.4777,  34.8856,2,  34.8850,2,     70.1,2,     70.5,2,    95.88,2,    36.74,2,     0.00,2,     2.70,2,    0.025,2,    0.014,2, -999.000,5,   -999.0,9,   -999.0,9,-999.0000,9,  -999.00,   -999.0,9,  -999.00,9, -999.000,9, -999.000,   1.8610,2,   0.0006,    13.08,2,     0.19,    7.870,2,    0.013,   -999.0,9,   -999.0,  -999.00,9,-999.0000,9,-999.0000,9,-999.0000,9,-999.0000,9,-999.0000,9,-999.0000,9,-999.0000,9,-999.0000,9,-999.0000,9,   5.3664,   5.4771,2
  33RR20070322,  I09N,   156,  2,     15,     15,2,20070415,1906,  3.9008,  91.3272, 3875,1347.5000,   1347.5,   4.9588,  34.8681,2,  34.8674,2,     76.9,2,     76.5,2,   101.48,2,    36.89,2,     0.00,2,     2.70,2, -999.000,9, -999.000,9, -999.000,9,   -999.0,9,   -999.0,9,-999.0000,9,  -999.00,   -999.0,9,  -999.00,9, -999.000,9, -999.000,-999.0000,9,-999.0000,  -999.00,9,  -999.00, -999.000,9, -999.000,   -999.0,9,   -999.0,  -999.00,9,-999.0000,9,-999.0000,9,-999.0000,9,-999.0000,9,-999.0000,9,-999.0000,9,-999.0000,9,-999.0000,9,-999.0000,9,   4.8428,   4.9579,2
  33RR20070322,  I09N,   156,  2,     14,     14,2,20070415,1906,  3.9008,  91.3272, 3875,1448.4000,   1448.4,   4.3996,  34.8486,2,  34.8479,2,     84.7,2,     85.6,2,   107.08,2,    36.83,2,     0.00,2,     2.70,2,    0.007,2,    0.008,2, -999.000,5,   -999.0,9,   -999.0,9,-999.0000,9,  -999.00,   -999.0,9,  -999.00,9, -999.000,9, -999.000,   1.8690,2,   0.0004,    12.65,2,     0.19,    7.928,2,    0.014,   -999.0,9,   -999.0,  -999.00,9,-999.0000,9,-999.0000,9,-999.0000,9,-999.0000,9,-999.0000,9,-999.0000,9,-999.0000,9,-999.0000,9,-999.0000,9,   4.2800,   4.3999,2
  33RR20070322,  I09N,   156,  2,     13,     13,2,20070415,1906,  3.9008,  91.3272, 3875,1548.9000,   1548.9,   4.0135,  34.8347,2,  34.8344,2,     92.0,2,     93.7,2,   110.48,2,    36.63,2,     0.00,2,     2.69,2, -999.000,9, -999.000,9, -999.000,9,   -999.0,9,   -999.0,9,-999.0000,9,  -999.00,   -999.0,9,  -999.00,9, -999.000,9, -999.000,-999.0000,9,-999.0000,  -999.00,9,  -999.00, -999.000,9, -999.000,   -999.0,9,   -999.0,  -999.00,9,-999.0000,9,-999.0000,9,-999.0000,9,-999.0000,9,-999.0000,9,-999.0000,9,-999.0000,9,-999.0000,9,-999.0000,9,   3.8890,   4.0160,2
  33RR20070322,  I09N,   156,  2,     12,     12,2,20070415,1906,  3.9008,  91.3272, 3875,1649.9000,   1649.9,   3.7217,  34.8224,2,  34.8222,2,     99.8,2,    100.8,2,   112.28,2,    36.51,2,     0.00,2,     2.66,2,    0.003,2,    0.002,2, -999.000,5,   -999.0,9,   -999.0,9,-999.0000,9,  -999.00,   -999.0,9,  -999.00,9, -999.000,9, -999.000,-999.0000,9,-999.0000,  -999.00,9,  -999.00, -999.000,9, -999.000,   -999.0,9,   -999.0,  -999.00,9,-999.0000,9,-999.0000,9,-999.0000,9,-999.0000,9,-999.0000,9,-999.0000,9,-999.0000,9,-999.0000,9,-999.0000,9,   3.5915,   3.7214,2
  33RR20070322,  I09N,   156,  2,     11,     11,2,20070415,1906,  3.9008,  91.3272, 3875,1750.2000,   1750.2,   3.4549,  34.8098,2,  34.8090,2,    106.0,2,    106.8,2,   114.88,2,    36.25,2,     0.00,2,     2.64,2, -999.000,9, -999.000,9, -999.000,9,   -999.0,9,   -999.0,9,-999.0000,9,  -999.00,   -999.0,9,  -999.00,9, -999.000,9, -999.000,   1.8830,2,   0.0009,    12.74,2,     0.19,    8.025,2,    0.013,   -999.0,9,   -999.0,  -999.00,9,-999.0000,9,-999.0000,9,-999.0000,9,-999.0000,9,-999.0000,9,-999.0000,9,-999.0000,9,-999.0000,9,-999.0000,9,   3.3190,   3.4578,2
  33RR20070322,  I09N,   156,  2,     10,     10,2,20070415,1906,  3.9008,  91.3272, 3875,1851.4000,   1851.4,   3.2382,  34.7996,2,  34.7990,2,    112.1,2,    112.7,2,   117.68,2,    35.99,2,     0.00,2,     2.61,2,    0.004,2,    0.002,2, -999.000,5,   -999.0,9,   -999.0,9,-999.0000,9,  -999.00,   -999.0,9,  -999.00,9, -999.000,9, -999.000,   1.8670,2,   0.0004,    13.45,2,     0.18,    7.999,2,    0.008,   -999.0,9,   -999.0,  -999.00,9,-999.0000,9,-999.0000,9,-999.0000,9,-999.0000,9,-999.0000,9,-999.0000,9,-999.0000,9,-999.0000,9,-999.0000,9,   3.0961,   3.2418,2
  33RR20070322,  I09N,   156,  2,      9,      9,2,20070415,1906,  3.9008,  91.3272, 3875,1951.2000,   1951.2,   2.9726,  34.7889,2,  34.7886,2,    117.6,2,    117.7,2,   121.10,2,    35.83,2,     0.00,2,     2.59,2, -999.000,9, -999.000,9, -999.000,9,   -999.0,9,   -999.0,9,-999.0000,9,  -999.00,   -999.0,9,  -999.00,9, -999.000,9, -999.000,   1.8880,2,   0.0006,    13.18,2,     0.19,    8.084,2,    0.013,   -999.0,9,   -999.0,  -999.00,9,-999.0000,9,-999.0000,9,-999.0000,9,-999.0000,9,-999.0000,9,-999.0000,9,-999.0000,9,-999.0000,9,-999.0000,9,   2.8253,   2.9743,2
  33RR20070322,  I09N,   156,  2,      8,      8,2,20070415,1906,  3.9008,  91.3272, 3875,2112.9000,   2112.9,   2.5387,  34.7698,2,  34.7697,2,    126.5,2,    128.2,2,   126.13,2,    35.52,2,     0.00,2,     2.55,2,    0.005,2,    0.003,2, -999.000,5,   -999.0,9,   -999.0,9,-999.0000,9,  -999.00,   -999.0,9,  -999.00,9, -999.000,9, -999.000,   1.8980,2,   0.0006,    13.92,2,     0.18,    8.315,2,    0.014,   -999.0,9,   -999.0,  -999.00,9,-999.0000,9,-999.0000,9,-999.0000,9,-999.0000,9,-999.0000,9,-999.0000,9,-999.0000,9,-999.0000,9,-999.0000,9,   2.3836,   2.5380,2
  33RR20070322,  I09N,   156,  2,      7,      7,2,20070415,1906,  3.9008,  91.3272, 3875,2365.6000,   2365.6,   2.2120,  34.7548,2,  34.7548,2,    138.1,2,    138.7,2,   128.95,2,    35.30,2,     0.00,2,     2.51,2, -999.000,9, -999.000,9, -999.000,9,   -999.0,9,   -999.0,9,-999.0000,9,  -999.00,   -999.0,9,  -999.00,9, -999.000,9, -999.000,-999.0000,9,-999.0000,  -999.00,9,  -999.00, -999.000,9, -999.000,   -999.0,9,   -999.0,  -999.00,9,-999.0000,9,-999.0000,9,-999.0000,9,-999.0000,9,-999.0000,9,-999.0000,9,-999.0000,9,-999.0000,9,-999.0000,9,   2.0397,   2.2118,2
  33RR20070322,  I09N,   156,  2,      6,      6,2,20070415,1906,  3.9008,  91.3272, 3875,2617.3000,   2617.3,   1.9631,  34.7442,2,  34.7434,2,    148.1,2,    148.1,2,   130.35,2,    34.83,2,     0.00,2,     2.46,2,    0.004,2,    0.003,2, -999.000,5,   -999.0,9,   -999.0,9,-999.0000,9,  -999.00,   -999.0,9,  -999.00,9, -999.000,9, -999.000,   1.9090,2,   0.0006,    13.50,2,     0.18,    8.118,2,    0.013,   -999.0,9,   -999.0,  -999.00,9,-999.0000,9,-999.0000,9,-999.0000,9,-999.0000,9,-999.0000,9,-999.0000,9,-999.0000,9,-999.0000,9,-999.0000,9,   1.7723,   1.9634,2
  33RR20070322,  I09N,   156,  2,      5,      5,2,20070415,1906,  3.9008,  91.3272, 3875,2871.4000,   2871.4,   1.8625,  34.7394,2,  34.7397,2,    153.0,2,    151.6,2,   131.95,2,    34.68,2,     0.00,2,     2.44,2, -999.000,9, -999.000,9, -999.000,9,   -999.0,9,   -999.0,9,-999.0000,9,  -999.00,   -999.0,9,  -999.00,9, -999.000,9, -999.000,-999.0000,9,-999.0000,  -999.00,9,  -999.00, -999.000,9, -999.000,   -999.0,9,   -999.0,  -999.00,9,-999.0000,9,-999.0000,9,-999.0000,9,-999.0000,9,-999.0000,9,-999.0000,9,-999.0000,9,-999.0000,9,-999.0000,9,   1.6498,   1.8622,2