BOTTLE,20150630SIOCCHRJL
EXPOCODE,SECT_ID,STNNBR,CASTNO,SAMPNO,BTLNBR,BTLNBR_FLAG_W,DATE,TIME,LATITUDE,LONGITUDE,DEPTH,CTDRAW,CTDPRS,CTDTMP,CTDSAL,CTDSAL_FLAG_W,SALNTY,SALNTY_FLAG_W,CTDOXY,CTDOXY_FLAG_W,OXYGEN,OXYGEN_FLAG_W,SILCAT,SILCAT_FLAG_W,NITRAT,NITRAT_FLAG_W,NITRIT,NITRIT_FLAG_W,PHSPHT,PHSPHT_FLAG_W,CFC-11,CFC-11_FLAG_W,CFC-12,CFC-12_FLAG_W,CFC113,CFC113_FLAG_W,TCARBN,TCARBN_FLAG_W,ALKALI,ALKALI_FLAG_W,PH_SWS,PH_SWS_FLAG_W,PH_TMP,DOC,DOC_FLAG_W,TDN,TDN_FLAG_W,TRITUM,TRITUM_FLAG_W,TRITER,HELIUM,HELIUM_FLAG_W,HELIER,DELHE3,DELHE3_FLAG_W,DELHER,NEON,NEON_FLAG_W,NEONER,DELC14,DELC14_FLAG_W,C14ERR,DELC13,DELC13_FLAG_W,CDOM325,CDOM325_FLAG_W,CDOM340,CDOM340_FLAG_W,CDOM380,CDOM380_FLAG_W,CDOM412,CDOM412_FLAG_W,CDOM443,CDOM443_FLAG_W,CDOM490,CDOM490_FLAG_W,CDOM555,CDOM555_FLAG_W,CDOMSL,CDOMSL_FLAG_W,CDOMSN,CDOMSN_FLAG_W,THETA,SBE35,SBE35_FLAG_W
,,,,,,,,,,,METERS,,DBAR,ITS-90,PSS-78,,PSS-78,,UMOL/KG,,UMOL/KG,,UMOL/KG,,UMOL/KG,,UMOL/KG,,UMOL/KG,,PMOL/KG,,PMOL/KG,,PMOL/KG,,UMOL/KG,,UMOL/KG,,,,DEG C,UMOL/KG,,UMOL/KG,,TU,,TU,NMOL/KG,,NMOL/KG,PERCNT,,PERCNT,NMOL/KG,,NMOL/KG,/MILLE,,/MILLE,/MILLE,,1/M,,1/M,,1/M,,1/M,,1/M,,1/M,,1/M,,1/NM,,1/NM,,DEG C,ITS-90,
  33RR20070322,  I09N,   147,  2,     36,     38,2,20070413,1028,  0.5480,  93.0245, 4434,   2.5000,      2.5,  29.8797,  34.0399,2,  34.0407,2,    195.1,2,    195.1,2,     1.14,2,     0.01,2,     0.00,2,     0.07,2,    1.474,2,    0.972,2, -999.000,5,   1899.2,6,   2231.1,6,   8.1283,6,    25.00,     75.6,2,     5.12,2, -999.000,9, -999.000,-999.0000,9,-999.0000,  -999.00,9,  -999.00, -999.000,9, -999.000,   -999.0,9,   -999.0,  -999.00,9,-999.0000,9,-999.0000,9,-999.0000,9,-999.0000,9,-999.0000,9,-999.0000,9,-999.0000,9,-999.0000,9,-999.0000,9,  29.8791,  29.8772,2
  33RR20070322,  I09N,   147,  2,     35,     35,2,20070413,1028,  0.5480,  93.0245, 4434,  40.4000,     40.4,  29.7132,  34.0858,2,  34.0840,2,    195.9,2,    195.5,2,     1.11,2,     0.01,2,     0.00,2,     0.06,2,    1.487,2,    0.980,2, -999.000,5,   1901.5,2,   2231.6,2,   8.1174,2,    25.00,     74.5,2,     4.92,2, -999.000,9, -999.000,-999.0000,9,-999.0000,  -999.00,9,  -999.00, -999.000,9, -999.000,   -999.0,9,   -999.0,  -999.00,9,-999.0000,9,-999.0000,9,-999.0000,9,-999.0000,9,-999.0000,9,-999.0000,9,-999.0000,9,-999.0000,9,-999.0000,9,  29.7033,  29.7093,2
  33RR20070322,  I09N,   147,  2,     34,   9419,2,20070413,1028,  0.5480,  93.0245, 4434,  75.0000,     75.0,  28.9938,  34.2562,2,  34.2664,2,    195.8,2,    195.6,2,     1.09,2,     0.01,2,     0.00,2,     0.11,2,    1.527,2,    0.998,2, -999.000,5,   1924.8,2,   2244.5,2,   8.0894,2,    25.00,     70.6,2,     5.23,2, -999.000,9, -999.000,-999.0000,9,-999.0000,  -999.00,9,  -999.00, -999.000,9, -999.000,   -999.0,9,   -999.0,  -999.00,9,-999.0000,9,-999.0000,9,-999.0000,9,-999.0000,9,-999.0000,9,-999.0000,9,-999.0000,9,-999.0000,9,-999.0000,9,  28.9757,  28.9908,2
  33RR20070322,  I09N,   147,  2,     33,     33,2,20070413,1028,  0.5480,  93.0245, 4434,  94.9000,     94.9,  23.2261,  35.2903,2,  35.2936,2,    126.7,2,    116.5,2,     7.11,2,    10.95,2,     0.77,2,     0.92,2,    1.649,2,    1.038,2, -999.000,5,   2086.5,2,   -999.0,5,   7.8718,2,    25.00,     63.8,2,    16.74,2, -999.000,9, -999.000,-999.0000,9,-999.0000,  -999.00,9,  -999.00, -999.000,9, -999.000,   -999.0,9,   -999.0,  -999.00,9,-999.0000,9,-999.0000,9,-999.0000,9,-999.0000,9,-999.0000,9,-999.0000,9,-999.0000,9,-999.0000,9,-999.0000,9,  23.2066,  23.2305,2
  33RR20070322,  I09N,   147,  2,     32,     37,2,20070413,1028,  0.5480,  93.0245, 4434, 124.6000,    124.6,  21.4754,  35.3007,2,  35.2999,2,     89.5,2,     90.0,2,     9.91,2,    16.25,2,     0.05,2,     1.19,2,    1.651,2,    1.009,2, -999.000,5,   2120.3,2,   2308.8,2,   7.8008,2,    25.00,     59.4,2,    20.65,2, -999.000,9, -999.000,-999.0000,9,-999.0000,  -999.00,9,  -999.00, -999.000,9, -999.000,   -999.0,9,   -999.0,  -999.00,9,-999.0000,9,-999.0000,9,-999.0000,9,-999.0000,9,-999.0000,9,-999.0000,9,-999.0000,9,-999.0000,9,-999.0000,9,  21.4512,  21.4714,2
  33RR20070322,  I09N,   147,  2,     31,     31,2,20070413,1028,  0.5480,  93.0245, 4434, 145.6000,    145.6,  20.1197,  35.2817,2,  35.2881,2,     84.8,2,     79.2,2,    11.69,2,    18.36,2,     0.03,2,     1.32,2,    1.639,2,    0.994,2, -999.000,5,   2137.7,2,   2308.2,2,   7.7667,2,    25.00,     56.6,2,    22.31,2, -999.000,9, -999.000,-999.0000,9,-999.0000,  -999.00,9,  -999.00, -999.000,9, -999.000,   -999.0,9,   -999.0,  -999.00,9,-999.0000,9,-999.0000,9,-999.0000,9,-999.0000,9,-999.0000,9,-999.0000,9,-999.0000,9,-999.0000,9,-999.0000,9,  20.0926,  20.1740,2
  33RR20070322,  I09N,   147,  2,     30,     30,2,20070413,1028,  0.5480,  93.0245, 4434, 175.2000,    175.2,  16.5115,  35.1620,2,  35.1626,2,     59.3,2,     56.8,2,    17.72,2,    24.02,2,     0.01,2,     1.69,2,    1.456,2,    0.840,2, -999.000,5,   2182.9,2,   2307.6,2,   7.6586,2,    25.00,     52.6,2,    27.32,2, -999.000,9, -999.000,-999.0000,9,-999.0000,  -999.00,9,  -999.00, -999.000,9, -999.000,   -999.0,9,   -999.0,  -999.00,9,-999.0000,9,-999.0000,9,-999.0000,9,-999.0000,9,-999.0000,9,-999.0000,9,-999.0000,9,-999.0000,9,-999.0000,9,  16.4831,  16.5128,2
  33RR20070322,  I09N,   147,  2,     29,     29,2,20070413,1028,  0.5480,  93.0245, 4434, 224.7000,    224.7,  13.4789,  35.1082,2,  35.1100,2,     57.1,2,     59.8,2,    21.13,2,    26.49,2,     0.01,2,     1.85,2,    1.284,2,    0.714,2, -999.000,5,   2206.5,2,   2312.8,2,   7.6094,2,    25.00,     51.0,2,    30.41,2, -999.000,9, -999.000,-999.0000,9,-999.0000,  -999.00,9,  -999.00, -999.000,9, -999.000,   -999.0,9,   -999.0,  -999.00,9,-999.0000,9,-999.0000,9,-999.0000,9,-999.0000,9,-999.0000,9,-999.0000,9,-999.0000,9,-999.0000,9,-999.0000,9,  13.4472,  13.4686,2
  33RR20070322,  I09N,   147,  2,     28,     28,2,20070413,1028,  0.5480,  93.0245, 4434, 274.9000,    274.9,  12.4161,  35.0873,2,  35.0886,2,     58.5,2,     60.6,2,    23.32,2,    27.80,2,     0.01,2,     1.93,2,    1.119,2,    0.617,2, -999.000,5,   2216.5,2,   2310.9,2,   7.5908,2,    25.00,     49.8,2,    31.04,2, -999.000,9, -999.000,-999.0000,9,-999.0000,  -999.00,9,  -999.00, -999.000,9, -999.000,   -999.0,9,   -999.0,  -999.00,9,-999.0000,9,-999.0000,9,-999.0000,9,-999.0000,9,-999.0000,9,-999.0000,9,-999.0000,9,-999.0000,9,-999.0000,9,  12.3793,  12.4178,2
  33RR20070322,  I09N,   147,  2,     27,     27,2,20070413,1028,  0.5480,  93.0245, 4434, 325.2000,    325.2,  11.7065,  35.0501,2,  35.0510,2,     69.3,2,     71.8,2,    23.50,2,    27.70,2,     0.01,2,     1.91,2,    1.089,2,    0.594,2, -999.000,5,   2214.1,2,   2311.2,2,   7.5846,2,    25.00,     48.2,2,    31.60,2, -999.000,9, -999.000,-999.0000,9,-999.0000,  -999.00,9,  -999.00, -999.000,9, -999.000,   -999.0,9,   -999.0,  -999.00,9,-999.0000,9,-999.0000,9,-999.0000,9,-999.0000,9,-999.0000,9,-999.0000,9,-999.0000,9,-999.0000,9,-999.0000,9,  11.6645,  11.7060,2
  33RR20070322,  I09N,   147,  2,     26,     26,2,20070413,1028,  0.5480,  93.0245, 4434, 375.4000,    375.4,  11.1039,  35.0202,2,  35.0205,2,     74.3,2,     73.1,2,    25.09,2,    28.54,2,     0.01,2,     1.96,2,    0.944,2,    0.510,2, -999.000,5,   2216.9,2,   2311.7,2,   7.5605,2,    25.00,     47.4,2,    31.73,2, -999.000,9, -999.000,-999.0000,9,-999.0000,  -999.00,9,  -999.00, -999.000,9, -999.000,   -999.0,9,   -999.0,  -999.00,9,-999.0000,9,-999.0000,9,-999.0000,9,-999.0000,9,-999.0000,9,-999.0000,9,-999.0000,9,-999.0000,9,-999.0000,9,  11.0569,  11.1097,2
  33RR20070322,  I09N,   147,  2,     25,     25,2,20070413,1028,  0.5480,  93.0245, 4434, 424.9000,    424.9,  10.8770,  35.0164,2,  35.0161,2,     73.7,2,     72.0,2,    26.88,2,    29.11,2,     0.00,2,     2.01,2,    0.894,2,    0.487,2, -999.000,5,   2223.5,2,   2312.1,2,   7.5743,2,    25.00,     45.9,2,    32.91,2, -999.000,9, -999.000,-999.0000,9,-999.0000,  -999.00,9,  -999.00, -999.000,9, -999.000,   -999.0,9,   -999.0,  -999.00,9,-999.0000,9,-999.0000,9,-999.0000,9,-999.0000,9,-999.0000,9,-999.0000,9,-999.0000,9,-999.0000,9,-999.0000,9,  10.8244,  10.8767,2
  33RR20070322,  I09N,   147,  2,     24,     24,2,20070413,1028,  0.5480,  93.0245, 4434, 474.9000,    474.9,  10.4470,  34.9925,2,  34.9957,2,     67.5,2,     67.6,2,    29.68,2,    30.38,2,     0.00,2,     2.10,2,    0.681,2,    0.373,2, -999.000,5,   2228.1,2,   2313.8,2,   7.5553,2,    25.00,     44.0,2,    33.46,2, -999.000,9, -999.000,-999.0000,9,-999.0000,  -999.00,9,  -999.00, -999.000,9, -999.000,   -999.0,9,   -999.0,  -999.00,9,-999.0000,9,-999.0000,9,-999.0000,9,-999.0000,9,-999.0000,9,-999.0000,9,-999.0000,9,-999.0000,9,-999.0000,9,  10.3896,  10.4466,2
  33RR20070322,  I09N,   147,  2,     23,     23,2,20070413,1028,  0.5480,  93.0245, 4434, 524.6000,    524.6,  10.0583,  34.9955,2,  34.9957,2,     63.0,2,     63.0,2,    34.30,2,    31.49,2,     0.00,2,     2.22,2,    0.526,2,    0.289,2, -999.000,5,   2236.5,2,   2316.7,2,   7.5415,2,    25.00,     43.2,2,    34.38,2, -999.000,9, -999.000,-999.0000,9,-999.0000,  -999.00,9,  -999.00, -999.000,9, -999.000,   -999.0,9,   -999.0,  -999.00,9,-999.0000,9,-999.0000,9,-999.0000,9,-999.0000,9,-999.0000,9,-999.0000,9,-999.0000,9,-999.0000,9,-999.0000,9,   9.9962,  10.0572,2
  33RR20070322,  I09N,   147,  2,     22,     22,2,20070413,1028,  0.5480,  93.0245, 4434, 644.8000,    644.8,   9.0224,  34.9996,2,  35.0002,2,     47.3,2,     46.6,2,    49.42,2,    34.49,2,     0.00,2,     2.51,2,    0.154,2,    0.093,2, -999.000,5,   2266.5,2,   2331.8,2,   7.4971,2,    25.00,     42.2,2,    37.35,2, -999.000,9, -999.000,-999.0000,9,-999.0000,  -999.00,9,  -999.00, -999.000,9, -999.000,   -999.0,9,   -999.0,  -999.00,9,-999.0000,9,-999.0000,9,-999.0000,9,-999.0000,9,-999.0000,9,-999.0000,9,-999.0000,9,-999.0000,9,-999.0000,9,   8.9504,   9.0222,2
  33RR20070322,  I09N,   147,  2,     21,     21,2,20070413,1028,  0.5480,  93.0245, 4434, 745.2000,    745.2,   8.6344,  35.0151,2,  35.0118,2,     44.3,2,     43.8,2,    56.47,2,    35.29,2,     0.00,2,     2.60,2,    0.115,2,    0.065,2, -999.000,5,   2277.8,2,   2339.1,6,   7.5059,6,    25.00,     41.4,2,    37.45,2, -999.000,9, -999.000,-999.0000,9,-999.0000,  -999.00,9,  -999.00, -999.000,9, -999.000,   -999.0,9,   -999.0,  -999.00,9,-999.0000,9,-999.0000,9,-999.0000,9,-999.0000,9,-999.0000,9,-999.0000,9,-999.0000,9,-999.0000,9,-999.0000,9,   8.5529,   8.6331,2
  33RR20070322,  I09N,   147,  2,     20,     20,2,20070413,1028,  0.5480,  93.0245, 4434, 846.2000,    846.2,   7.9290,  34.9862,2,  34.9874,2,     42.8,2,     43.1,2,    65.37,2,    36.24,2,     0.00,2,     2.68,2,    0.052,2,    0.031,2, -999.000,5,   2289.1,2,   2348.2,2,   7.4802,2,    25.00,     41.1,2,    39.03,2, -999.000,9, -999.000,-999.0000,9,-999.0000,  -999.00,9,  -999.00, -999.000,9, -999.000,   -999.0,9,   -999.0,  -999.00,9,-999.0000,9,-999.0000,9,-999.0000,9,-999.0000,9,-999.0000,9,-999.0000,9,-999.0000,9,-999.0000,9,-999.0000,9,   7.8403,   7.9220,2
  33RR20070322,  I09N,   147,  2,     19,     19,2,20070413,1028,  0.5480,  93.0245, 4434, 946.0000,    946.0,   7.1130,  34.9656,2,  34.9671,2,     46.4,2,     47.1,2,    76.10,2,    36.94,2,     0.00,2,     2.73,2,    0.026,2,    0.017,2, -999.000,5,   2301.0,2,   2358.9,2,   7.4738,2,    25.00,     41.2,2,    39.42,2, -999.000,9, -999.000,-999.0000,9,-999.0000,  -999.00,9,  -999.00, -999.000,9, -999.000,   -999.0,9,   -999.0,  -999.00,9,-999.0000,9,-999.0000,9,-999.0000,9,-999.0000,9,-999.0000,9,-999.0000,9,-999.0000,9,-999.0000,9,-999.0000,9,   7.0189,   7.1149,2
  33RR20070322,  I09N,   147,  2,     18,     18,2,20070413,1028,  0.5480,  93.0245, 4434,1046.9000,   1046.9,   6.4808,  34.9309,2,  34.9311,2,     53.7,2,     54.1,2,    83.39,2,    37.15,2,     0.00,2,     2.74,2,    0.019,2,    0.011,2, -999.000,5,   2304.3,6,   2366.5,2,   7.4727,2,    25.00,     40.7,2,    39.00,2, -999.000,9, -999.000,-999.0000,9,-999.0000,  -999.00,9,  -999.00, -999.000,9, -999.000,   -999.0,9,   -999.0,  -999.00,9,-999.0000,9,-999.0000,9,-999.0000,9,-999.0000,9,-999.0000,9,-999.0000,9,-999.0000,9,-999.0000,9,-999.0000,9,   6.3809,   6.4680,2
  33RR20070322,  I09N,   147,  2,     17,     17,2,20070413,1028,  0.5480,  93.0245, 4434,1147.0000,   1147.0,   5.8419,  34.8997,2,  34.9010,2,     63.6,2,     63.8,2,    91.31,2,    37.09,2,     0.00,2,     2.73,2,    0.028,2,    0.011,2, -999.000,5,   2311.7,2,   2372.8,2,   7.4831,2,    25.00,     40.6,2,    38.89,2, -999.000,9, -999.000,-999.0000,9,-999.0000,  -999.00,9,  -999.00, -999.000,9, -999.000,   -999.0,9,   -999.0,  -999.00,9,-999.0000,9,-999.0000,9,-999.0000,9,-999.0000,9,-999.0000,9,-999.0000,9,-999.0000,9,-999.0000,9,-999.0000,9,   5.7372,   5.8456,2
  33RR20070322,  I09N,   147,  2,     16,     16,2,20070413,1028,  0.5480,  93.0245, 4434,1247.4000,   1247.4,   5.3975,  34.8850,2,  34.8857,2,     68.8,2,     69.6,2,    95.16,2,    37.25,2,     0.00,2,     2.73,2,    0.009,2,    0.005,2, -999.000,5,   2314.6,2,   2375.3,2,   7.4890,2,    25.00,     40.5,2,    39.23,2, -999.000,9, -999.000,-999.0000,9,-999.0000,  -999.00,9,  -999.00, -999.000,9, -999.000,   -999.0,9,   -999.0,  -999.00,9,-999.0000,9,-999.0000,9,-999.0000,9,-999.0000,9,-999.0000,9,-999.0000,9,-999.0000,9,-999.0000,9,-999.0000,9,   5.2869,   5.3978,2
  33RR20070322,  I09N,   147,  2,     15,     15,2,20070413,1028,  0.5480,  93.0245, 4434,1348.7000,   1348.7,   5.1938,  34.8814,2,  34.8827,2,     72.6,2,     72.8,2,    97.39,2,    37.14,2,     0.00,2,     2.73,2,    0.009,2,    0.004,2, -999.000,5,   2315.3,2,   2378.2,2,   7.4899,2,    25.00,     41.1,2,    38.95,2, -999.000,9, -999.000,-999.0000,9,-999.0000,  -999.00,9,  -999.00, -999.000,9, -999.000,   -999.0,9,   -999.0,  -999.00,9,-999.0000,9,-999.0000,9,-999.0000,9,-999.0000,9,-999.0000,9,-999.0000,9,-999.0000,9,-999.0000,9,-999.0000,9,   5.0753,   5.1924,2
  33RR20070322,  I09N,   147,  2,     14,     14,2,20070413,1028,  0.5480,  93.0245, 4434,1448.8000,   1448.8,   4.6342,  34.8560,2,  34.8576,2,     83.0,2,     82.5,2,   102.67,2,    36.99,2,     0.00,2,     2.71,2, -999.000,9, -999.000,9, -999.000,9,   2317.5,2,   2383.0,2,   7.5025,2,    25.00,     40.9,2,    38.35,2, -999.000,9, -999.000,-999.0000,9,-999.0000,  -999.00,9,  -999.00, -999.000,9, -999.000,   -999.0,9,   -999.0,  -999.00,9,-999.0000,9,-999.0000,9,-999.0000,9,-999.0000,9,-999.0000,9,-999.0000,9,-999.0000,9,-999.0000,9,-999.0000,9,   4.5120,   4.6341,2
  33RR20070322,  I09N,   147,  2,     13,     13,2,20070413,1028,  0.5480,  93.0245, 4434,1549.3000,   1549.3,   4.0212,  34.8281,2,  34.8300,2,     96.6,2,     96.6,2,   107.56,2,    36.67,2,     0.00,2,     2.67,2,    0.003,2,    0.002,2, -999.000,5,   2316.9,2,   2387.1,2,   7.5164,2,    25.00,     40.6,2,    38.25,2, -999.000,9, -999.000,-999.0000,9,-999.0000,  -999.00,9,  -999.00, -999.000,9, -999.000,   -999.0,9,   -999.0,  -999.00,9,-999.0000,9,-999.0000,9,-999.0000,9,-999.0000,9,-999.0000,9,-999.0000,9,-999.0000,9,-999.0000,9,-999.0000,9,   3.8966,   4.0242,2
  33RR20070322,  I09N,   147,  2,     12,     12,2,20070413,1028,  0.5480,  93.0245, 4434,1650.1000,   1650.1,   3.8579,  34.8208,2,  34.8212,2,    101.3,2,    100.8,2,   108.77,2,    36.45,2,     0.00,2,     2.66,2, -999.000,9, -999.000,9, -999.000,9,   2316.6,2,   2388.1,2,   7.5183,2,    25.00,     41.1,2,    38.02,2, -999.000,9, -999.000,-999.0000,9,-999.0000,  -999.00,9,  -999.00, -999.000,9, -999.000,   -999.0,9,   -999.0,  -999.00,9,-999.0000,9,-999.0000,9,-999.0000,9,-999.0000,9,-999.0000,9,-999.0000,9,-999.0000,9,-999.0000,9,-999.0000,9,   3.7260,   3.8587,2
  33RR20070322,  I09N,   147,  2,     11,     11,2,20070413,1028,  0.5480,  93.0245, 4434,1751.1000,   1751.1,   3.4861,  34.8061,2,  34.8074,2,    109.2,2,    108.8,2,   113.05,2,    36.19,2,     0.00,2,     2.63,2,    0.003,2,    0.003,2, -999.000,5,   2316.4,2,   2393.3,2,   7.5350,2,    25.00,     40.6,2,    37.55,2, -999.000,9, -999.000,-999.0000,9,-999.0000,  -999.00,9,  -999.00, -999.000,9, -999.000,   -999.0,9,   -999.0,  -999.00,9,-999.0000,9,-999.0000,9,-999.0000,9,-999.0000,9,-999.0000,9,-999.0000,9,-999.0000,9,-999.0000,9,-999.0000,9,   3.3497,   3.4855,2
  33RR20070322,  I09N,   147,  2,     10,     10,2,20070413,1028,  0.5480,  93.0245, 4434,1950.9000,   1950.9,   2.8854,  34.7822,2,  34.7840,2,    123.1,2,    123.3,2,   119.19,2,    35.71,2,     0.00,2,     2.57,2, -999.000,9, -999.000,9, -999.000,9,   2317.1,2,   2399.1,2,   7.5437,2,    25.00,     40.6,2,    37.13,2, -999.000,9, -999.000,-999.0000,9,-999.0000,  -999.00,9,  -999.00, -999.000,9, -999.000,   -999.0,9,   -999.0,  -999.00,9,-999.0000,9,-999.0000,9,-999.0000,9,-999.0000,9,-999.0000,9,-999.0000,9,-999.0000,9,-999.0000,9,-999.0000,9,   2.7395,   2.8850,2
  33RR20070322,  I09N,   147,  2,      9,      9,2,20070413,1028,  0.5480,  93.0245, 4434,2112.1000,   2112.1,   2.6734,  34.7738,2,  34.7740,2,    128.5,2,    128.8,2,   122.26,2,    35.65,3,     0.00,2,     2.55,2,    0.006,2,    0.005,2, -999.000,5,   2317.7,2,   2402.5,2,   7.5599,2,    25.00,     40.6,2,    36.82,2, -999.000,9, -999.000,-999.0000,9,-999.0000,  -999.00,9,  -999.00, -999.000,9, -999.000,   -999.0,9,   -999.0,  -999.00,9,-999.0000,9,-999.0000,9,-999.0000,9,-999.0000,9,-999.0000,9,-999.0000,9,-999.0000,9,-999.0000,9,-999.0000,9,   2.5162,   2.6737,2
  33RR20070322,  I09N,   147,  2,      8,      8,2,20070413,1028,  0.5480,  93.0245, 4434,2365.5000,   2365.5,   2.1779,  34.7527,2,  34.7537,2,    142.5,2,    142.8,2,   127.38,2,    35.07,2,     0.00,2,     2.49,2, -999.000,9, -999.000,9, -999.000,9,   2315.6,2,   2407.5,2,   7.5737,2,    25.00,     41.0,2,    36.18,2, -999.000,9, -999.000,-999.0000,9,-999.0000,  -999.00,9,  -999.00, -999.000,9, -999.000,   -999.0,9,   -999.0,  -999.00,9,-999.0000,9,-999.0000,9,-999.0000,9,-999.0000,9,-999.0000,9,-999.0000,9,-999.0000,9,-999.0000,9,-999.0000,9,   2.0062,   2.1784,2
  33RR20070322,  I09N,   147,  2,      7,      7,2,20070413,1028,  0.5480,  93.0245, 4434,2618.7000,   2618.7,   1.9110,  34.7417,2,  34.7477,4,    151.5,2,    152.0,2,   129.84,2,    34.74,2,     0.00,2,     2.44,2,    0.003,2,    0.001,2, -999.000,5,   2313.9,2,   2409.6,2,   7.5811,2,    25.00,     40.6,2,    36.59,2, -999.000,9, -999.000,-999.0000,9,-999.0000,  -999.00,9,  -999.00, -999.000,9, -999.000,   -999.0,9,   -999.0,  -999.00,9,-999.0000,9,-999.0000,9,-999.0000,9,-999.0000,9,-999.0000,9,-999.0000,9,-999.0000,9,-999.0000,9,-999.0000,9,   1.7211,   1.9107,2
  33RR20070322,  I09N,   147,  2,      6,      6,2,20070413,1028,  0.5480,  93.0245, 4434,2870.3000,   2870.3,   1.7761,  34.7362,2,  34.7368,2,    156.8,2,    156.4,2,   131.25,2,    34.64,2,     0.00,2,     2.43,2, -999.000,9, -999.000,9, -999.000,9,   2313.4,2,   2411.9,2,   7.5835,2,    25.00,     40.6,2,    36.33,2, -999.000,9, -999.000,-999.0000,9,-999.0000,  -999.00,9,  -999.00, -999.000,9, -999.000,   -999.0,9,   -999.0,  -999.00,9,-999.0000,9,-999.0000,9,-999.0000,9,-999.0000,9,-999.0000,9,-999.0000,9,-999.0000,9,-999.0000,9,-999.0000,9,   1.5653,   1.7762,2
  33RR20070322,  I09N,   147,  2,      5,      5,2,20070413,1028,  0.5480,  93.0245, 4434,3123.3000,   3123.3,   1.6419,  34.7310,2,  34.7321,2,    161.8,2,    161.7,2,   132.05,2,    34.32,2,     0.00,2,     2.40,2,    0.007,2,    0.004,2, -999.000,5,   2312.1,2,   2409.2,2,   7.5983,2,    25.00,     40.8,2,    35.79,2, -999.000,9, -999.000,-999.0000,9,-999.0000,  -999.00,9,  -999.00, -999.000,9, -999.000,   -999.0,9,   -999.0,  -999.00,9,-999.0000,9,-999.0000,9,-999.0000,9,-999.0000,9,-999.0000,9,-999.0000,9,-999.0000,9,-999.0000,9,-999.0000,9,   1.4097,   1.6418,2