BOTTLE,20150630SIOCCHRJL
EXPOCODE,SECT_ID,STNNBR,CASTNO,SAMPNO,BTLNBR,BTLNBR_FLAG_W,DATE,TIME,LATITUDE,LONGITUDE,DEPTH,CTDRAW,CTDPRS,CTDTMP,CTDSAL,CTDSAL_FLAG_W,SALNTY,SALNTY_FLAG_W,CTDOXY,CTDOXY_FLAG_W,OXYGEN,OXYGEN_FLAG_W,SILCAT,SILCAT_FLAG_W,NITRAT,NITRAT_FLAG_W,NITRIT,NITRIT_FLAG_W,PHSPHT,PHSPHT_FLAG_W,CFC-11,CFC-11_FLAG_W,CFC-12,CFC-12_FLAG_W,CFC113,CFC113_FLAG_W,TCARBN,TCARBN_FLAG_W,ALKALI,ALKALI_FLAG_W,PH_SWS,PH_SWS_FLAG_W,PH_TMP,DOC,DOC_FLAG_W,TDN,TDN_FLAG_W,TRITUM,TRITUM_FLAG_W,TRITER,HELIUM,HELIUM_FLAG_W,HELIER,DELHE3,DELHE3_FLAG_W,DELHER,NEON,NEON_FLAG_W,NEONER,DELC14,DELC14_FLAG_W,C14ERR,DELC13,DELC13_FLAG_W,CDOM325,CDOM325_FLAG_W,CDOM340,CDOM340_FLAG_W,CDOM380,CDOM380_FLAG_W,CDOM412,CDOM412_FLAG_W,CDOM443,CDOM443_FLAG_W,CDOM490,CDOM490_FLAG_W,CDOM555,CDOM555_FLAG_W,CDOMSL,CDOMSL_FLAG_W,CDOMSN,CDOMSN_FLAG_W,THETA,SBE35,SBE35_FLAG_W
,,,,,,,,,,,METERS,,DBAR,ITS-90,PSS-78,,PSS-78,,UMOL/KG,,UMOL/KG,,UMOL/KG,,UMOL/KG,,UMOL/KG,,UMOL/KG,,PMOL/KG,,PMOL/KG,,PMOL/KG,,UMOL/KG,,UMOL/KG,,,,DEG C,UMOL/KG,,UMOL/KG,,TU,,TU,NMOL/KG,,NMOL/KG,PERCNT,,PERCNT,NMOL/KG,,NMOL/KG,/MILLE,,/MILLE,/MILLE,,1/M,,1/M,,1/M,,1/M,,1/M,,1/M,,1/M,,1/NM,,1/NM,,DEG C,ITS-90,
  33RR20070322,  I09N,   162,  2,     36,     38,2,20070417,0537,  6.1198,  89.6287, 3109,   1.7000,      1.7,  30.2588,  33.7307,2,  33.7273,2,    196.2,2,    195.9,2,     1.50,2,     0.01,2,     0.00,2,     0.06,2,    1.487,2,    1.001,2, -999.000,5,   1891.4,6,   2215.2,2,   8.1204,6,    25.00,   -999.0,9,  -999.00,9,    0.947,2,    0.018,   1.8550,3,   0.0009,     0.88,3,     0.20,    7.527,4,    0.011,   -999.0,9,   -999.0,  -999.00,9,-999.0000,9,-999.0000,9,-999.0000,9,-999.0000,9,-999.0000,9,-999.0000,9,-999.0000,9,-999.0000,9,-999.0000,9,  30.2584,  30.2478,2
  33RR20070322,  I09N,   162,  2,     35,     35,2,20070417,0537,  6.1198,  89.6287, 3109,  39.5000,     39.5,  29.9406,  33.8176,2,  33.8124,2,    199.4,2,    197.2,2,     1.46,2,     0.01,2,     0.00,2,     0.06,2,    1.485,2,    0.998,2, -999.000,5,   -999.0,9,   -999.0,9,-999.0000,9,  -999.00,   -999.0,9,  -999.00,9,    0.664,2,    0.019,   1.7120,2,   0.0012,    -0.55,2,     0.20,    6.777,2,    0.010,   -999.0,9,   -999.0,  -999.00,9,-999.0000,9,-999.0000,9,-999.0000,9,-999.0000,9,-999.0000,9,-999.0000,9,-999.0000,9,-999.0000,9,-999.0000,9,  29.9308,  29.8999,2
  33RR20070322,  I09N,   162,  2,     34,   9419,2,20070417,0537,  6.1198,  89.6287, 3109,  74.4000,     74.4,  25.6177,  34.3194,2,  34.3321,2,    135.1,2,    133.2,2,     6.13,2,     6.79,2,     0.33,2,     0.65,2,    1.386,2,    0.904,2, -999.000,5,   2015.1,2,   2254.2,2,   7.9374,2,    25.00,   -999.0,9,  -999.00,9, -999.000,9, -999.000,   1.7310,2,   0.0009,     0.55,2,     0.20,    6.923,2,    0.009,   -999.0,9,   -999.0,  -999.00,9,-999.0000,9,-999.0000,9,-999.0000,9,-999.0000,9,-999.0000,9,-999.0000,9,-999.0000,9,-999.0000,9,-999.0000,9,  25.6013,  25.6200,2
  33RR20070322,  I09N,   162,  2,     33,     33,2,20070417,0537,  6.1198,  89.6287, 3109,  94.1000,     94.1,  23.9287,  34.7087,2,  34.7087,2,     88.2,2,     87.4,2,     9.43,2,    13.49,2,     0.97,2,     1.09,2,    1.351,2,    0.888,2, -999.000,5,   -999.0,9,   -999.0,9,-999.0000,9,  -999.00,   -999.0,9,  -999.00,9, -999.000,9, -999.000,   1.7470,2,   0.0007,    -1.11,2,     0.20,    6.798,2,    0.011,   -999.0,9,   -999.0,  -999.00,9,-999.0000,9,-999.0000,9,-999.0000,9,-999.0000,9,-999.0000,9,-999.0000,9,-999.0000,9,-999.0000,9,-999.0000,9,  23.9090,  23.9303,2
  33RR20070322,  I09N,   162,  2,     32,     37,2,20070417,0537,  6.1198,  89.6287, 3109, 124.3000,    124.3,  18.4938,  34.8934,2,  34.8961,2,     41.7,2,     40.7,2,    20.78,2,    24.56,2,     0.02,2,     1.76,2,    1.082,2,    0.668,2, -999.000,5,   -999.0,9,   -999.0,9,-999.0000,9,  -999.00,   -999.0,9,  -999.00,9,    0.343,2,    0.013,   1.7390,2,   0.0005,     2.79,2,     0.20,    7.065,2,    0.011,   -999.0,9,   -999.0,  -999.00,9,-999.0000,9,-999.0000,9,-999.0000,9,-999.0000,9,-999.0000,9,-999.0000,9,-999.0000,9,-999.0000,9,-999.0000,9,  18.4721,  18.5356,2
  33RR20070322,  I09N,   162,  2,     31,     31,2,20070417,0537,  6.1198,  89.6287, 3109, 143.8000,    143.8,  15.7612,  34.9417,2,  34.9363,2,     21.5,2,     22.3,2,    26.83,2,    28.88,2,     0.01,2,     2.06,2,    0.838,2,    0.524,2, -999.000,5,   -999.0,9,   -999.0,9,-999.0000,9,  -999.00,   -999.0,9,  -999.00,9,    0.274,2,    0.011,   1.7850,2,   0.0006,     4.09,2,     0.20,    7.301,2,    0.013,   -999.0,9,   -999.0,  -999.00,9,-999.0000,9,-999.0000,9,-999.0000,9,-999.0000,9,-999.0000,9,-999.0000,9,-999.0000,9,-999.0000,9,-999.0000,9,  15.7387,  15.7596,2
  33RR20070322,  I09N,   162,  2,     30,     30,2,20070417,0537,  6.1198,  89.6287, 3109, 173.7000,    173.7,  14.6887,  35.0032,2,  35.0024,2,     16.6,2,     18.1,2,    27.57,2,    30.20,2,     0.01,2,     2.16,2,    0.817,2,    0.487,2, -999.000,5,   2224.3,2,   2303.3,6,   7.5196,2,    25.00,   -999.0,9,  -999.00,9,    0.232,2,    0.010,-999.0000,9,-999.0000,  -999.00,9,  -999.00, -999.000,9, -999.000,   -999.0,9,   -999.0,  -999.00,9,-999.0000,9,-999.0000,9,-999.0000,9,-999.0000,9,-999.0000,9,-999.0000,9,-999.0000,9,-999.0000,9,-999.0000,9,  14.6628,  14.6853,2
  33RR20070322,  I09N,   162,  2,     29,     29,2,20070417,0537,  6.1198,  89.6287, 3109, 223.8000,    223.8,  13.2179,  35.0338,2,  35.0331,2,     18.3,2,     16.8,2,    30.28,2,    31.53,2,     0.01,2,     2.25,2,    0.697,2,    0.398,2, -999.000,5,   -999.0,9,   -999.0,9,-999.0000,9,  -999.00,   -999.0,9,  -999.00,9,    0.166,2,    0.012,   1.7690,2,   0.0006,     4.97,2,     0.19,    7.399,2,    0.011,   -999.0,9,   -999.0,  -999.00,9,-999.0000,9,-999.0000,9,-999.0000,9,-999.0000,9,-999.0000,9,-999.0000,9,-999.0000,9,-999.0000,9,-999.0000,9,  13.1867,  13.2011,2
  33RR20070322,  I09N,   162,  2,     28,     28,2,20070417,0537,  6.1198,  89.6287, 3109, 273.9000,    273.9,  12.3448,  35.0463,2,  35.0455,2,     21.3,2,     20.4,2,    31.81,2,    32.15,2,     0.00,2,     2.27,2,    0.628,2,    0.368,2, -999.000,5,   -999.0,9,   -999.0,9,-999.0000,9,  -999.00,   -999.0,9,  -999.00,9,    0.158,2,    0.007,   1.7840,2,   0.0009,     4.94,2,     0.20,    7.506,2,    0.017,   -999.0,9,   -999.0,  -999.00,9,-999.0000,9,-999.0000,9,-999.0000,9,-999.0000,9,-999.0000,9,-999.0000,9,-999.0000,9,-999.0000,9,-999.0000,9,  12.3083,  12.3445,2
  33RR20070322,  I09N,   162,  2,     27,     27,2,20070417,0537,  6.1198,  89.6287, 3109, 323.8000,    323.8,  11.7394,  35.0575,2,  35.0565,2,     30.2,2,     21.1,2,    33.15,2,    32.76,2,     0.00,2,     2.29,2,    0.577,2,    0.330,2, -999.000,5,   2252.0,2,   2313.2,2,   7.4865,2,    25.00,   -999.0,9,  -999.00,9,    0.327,2,    0.012,-999.0000,9,-999.0000,  -999.00,9,  -999.00, -999.000,9, -999.000,   -999.0,9,   -999.0,  -999.00,9,-999.0000,9,-999.0000,9,-999.0000,9,-999.0000,9,-999.0000,9,-999.0000,9,-999.0000,9,-999.0000,9,-999.0000,9,  11.6975,  11.7383,2
  33RR20070322,  I09N,   162,  2,     26,     26,2,20070417,0537,  6.1198,  89.6287, 3109, 373.6000,    373.6,  11.3791,  35.0943,2,  35.0919,2,     38.6,2,     40.5,2,    30.35,2,    31.15,2,     0.00,2,     2.19,2,    0.760,2,    0.427,2, -999.000,5,   -999.0,9,   -999.0,9,-999.0000,9,  -999.00,   -999.0,9,  -999.00,9,    0.159,2,    0.007,   1.7920,2,   0.0013,     5.26,2,     0.20,    7.583,2,    0.011,   -999.0,9,   -999.0,  -999.00,9,-999.0000,9,-999.0000,9,-999.0000,9,-999.0000,9,-999.0000,9,-999.0000,9,-999.0000,9,-999.0000,9,-999.0000,9,  11.3316,  11.3781,2
  33RR20070322,  I09N,   162,  2,     25,     25,2,20070417,0537,  6.1198,  89.6287, 3109, 423.7000,    423.7,  10.8393,  35.0556,2,  35.0547,2,     23.4,2,     24.5,2,    37.19,2,    33.67,2,     0.00,2,     2.38,2,    0.457,2,    0.256,2, -999.000,5,   -999.0,9,   -999.0,9,-999.0000,9,  -999.00,   -999.0,9,  -999.00,9,    0.220,2,    0.008,   1.7750,2,   0.0011,     5.49,2,     0.18,    7.518,2,    0.010,   -999.0,9,   -999.0,  -999.00,9,-999.0000,9,-999.0000,9,-999.0000,9,-999.0000,9,-999.0000,9,-999.0000,9,-999.0000,9,-999.0000,9,-999.0000,9,  10.7870,  10.8381,2
  33RR20070322,  I09N,   162,  2,     24,     24,2,20070417,0537,  6.1198,  89.6287, 3109, 473.9000,    473.9,  10.5136,  35.0492,2,  35.0472,2,     21.8,2,     18.7,2,    41.09,2,    34.69,2,     0.00,2,     2.48,2,    0.326,2,    0.182,2, -999.000,5,   -999.0,9,   -999.0,9,-999.0000,9,  -999.00,   -999.0,9,  -999.00,9,    0.228,2,    0.008,   1.7840,2,   0.0005,     5.83,2,     0.19,    7.523,2,    0.012,   -999.0,9,   -999.0,  -999.00,9,-999.0000,9,-999.0000,9,-999.0000,9,-999.0000,9,-999.0000,9,-999.0000,9,-999.0000,9,-999.0000,9,-999.0000,9,  10.4560,  10.5125,2
  33RR20070322,  I09N,   162,  2,     23,     23,2,20070417,0537,  6.1198,  89.6287, 3109, 524.4000,    524.4,  10.1554,  35.0506,2,  35.0504,2,     22.2,2,     21.4,2,    43.61,2,    35.00,2,     0.00,2,     2.51,2,    0.265,2,    0.147,2, -999.000,5,   -999.0,9,   -999.0,9,-999.0000,9,  -999.00,   -999.0,9,  -999.00,9,    0.169,2,    0.007,   1.8120,2,   0.0005,     6.44,2,     0.22,    7.796,2,    0.025,   -999.0,9,   -999.0,  -999.00,9,-999.0000,9,-999.0000,9,-999.0000,9,-999.0000,9,-999.0000,9,-999.0000,9,-999.0000,9,-999.0000,9,-999.0000,9,  10.0929,  10.1527,2
  33RR20070322,  I09N,   162,  2,     22,     22,2,20070417,0537,  6.1198,  89.6287, 3109, 643.5000,    643.5,   9.2569,  35.0225,2,  35.0219,2,     21.1,2,     20.9,2,    54.22,2,    36.44,2,     0.00,2,     2.64,2,    0.120,2,    0.066,2, -999.000,5,   2284.0,2,   2337.5,2,   7.4512,2,    25.00,   -999.0,9,  -999.00,9,    0.127,2,    0.007,   1.8320,2,   0.0010,     7.37,2,     0.20,    7.650,2,    0.012,   -999.0,9,   -999.0,  -999.00,9,-999.0000,9,-999.0000,9,-999.0000,9,-999.0000,9,-999.0000,9,-999.0000,9,-999.0000,9,-999.0000,9,-999.0000,9,   9.1840,   9.2663,2
  33RR20070322,  I09N,   162,  2,     21,     21,2,20070417,0537,  6.1198,  89.6287, 3109, 744.0000,    744.0,   8.4154,  34.9930,2,  34.9925,2,     27.3,2,     28.6,2,    64.06,2,    36.84,2,     0.00,2,     2.68,2,    0.080,2,    0.043,2, -999.000,5,   -999.0,9,   -999.0,9,-999.0000,9,  -999.00,   -999.0,9,  -999.00,9,    0.103,2,    0.004,-999.0000,9,-999.0000,  -999.00,9,  -999.00, -999.000,9, -999.000,   -999.0,9,   -999.0,  -999.00,9,-999.0000,9,-999.0000,9,-999.0000,9,-999.0000,9,-999.0000,9,-999.0000,9,-999.0000,9,-999.0000,9,-999.0000,9,   8.3352,   8.4119,2
  33RR20070322,  I09N,   162,  2,     20,     20,2,20070417,0537,  6.1198,  89.6287, 3109, 844.8000,    844.8,   7.7742,  34.9736,2,  34.9721,2,     35.3,2,     33.7,2,    71.35,2,    37.25,2,     0.00,2,     2.72,2,    0.046,2,    0.024,2, -999.000,5,   -999.0,9,   -999.0,9,-999.0000,9,  -999.00,   -999.0,9,  -999.00,9,    0.095,2,    0.005,-999.0000,9,-999.0000,  -999.00,9,  -999.00, -999.000,9, -999.000,   -999.0,9,   -999.0,  -999.00,9,-999.0000,9,-999.0000,9,-999.0000,9,-999.0000,9,-999.0000,9,-999.0000,9,-999.0000,9,-999.0000,9,-999.0000,9,   7.6866,   7.7707,2
  33RR20070322,  I09N,   162,  2,     19,     19,2,20070417,0537,  6.1198,  89.6287, 3109, 944.1000,    944.1,   7.0416,  34.9455,2,  34.9449,2,     41.2,2,     44.9,2,    79.24,2,    36.98,2,     0.00,2,     2.71,2,    0.044,2,    0.025,2, -999.000,5,   -999.0,9,   -999.0,9,-999.0000,9,  -999.00,   -999.0,9,  -999.00,9, -999.000,9, -999.000,   1.8360,2,   0.0009,    10.46,2,     0.19,    7.727,2,    0.009,   -999.0,9,   -999.0,  -999.00,9,-999.0000,9,-999.0000,9,-999.0000,9,-999.0000,9,-999.0000,9,-999.0000,9,-999.0000,9,-999.0000,9,-999.0000,9,   6.9482,   7.0417,2
  33RR20070322,  I09N,   162,  2,     18,     18,2,20070417,0537,  6.1198,  89.6287, 3109,1044.7000,   1044.7,   6.4597,  34.9252,2,  34.9252,2,     51.6,2,     51.9,2,    85.56,2,    37.13,2,     0.00,2,     2.72,2,    0.029,2,    0.015,2, -999.000,5,   2308.8,2,   2364.9,2,-999.0000,5,    25.00,   -999.0,9,  -999.00,9,    0.019,2,    0.003,-999.0000,9,-999.0000,  -999.00,9,  -999.00, -999.000,9, -999.000,   -999.0,9,   -999.0,  -999.00,9,-999.0000,9,-999.0000,9,-999.0000,9,-999.0000,9,-999.0000,9,-999.0000,9,-999.0000,9,-999.0000,9,-999.0000,9,   6.3602,   6.4605,2
  33RR20070322,  I09N,   162,  2,     17,     17,2,20070417,0537,  6.1198,  89.6287, 3109,1145.2000,   1145.2,   6.0372,  34.9070,2,  34.9075,2,     58.3,2,     59.7,2,    90.69,2,    37.01,2,     0.00,2,     2.71,2, -999.000,9, -999.000,9, -999.000,9,   -999.0,9,   -999.0,9,-999.0000,9,  -999.00,   -999.0,9,  -999.00,9, -999.000,9, -999.000,-999.0000,9,-999.0000,  -999.00,9,  -999.00, -999.000,9, -999.000,   -999.0,9,   -999.0,  -999.00,9,-999.0000,9,-999.0000,9,-999.0000,9,-999.0000,9,-999.0000,9,-999.0000,9,-999.0000,9,-999.0000,9,-999.0000,9,   5.9310,   6.0360,2
  33RR20070322,  I09N,   162,  2,     16,     16,2,20070417,0537,  6.1198,  89.6287, 3109,1245.2000,   1245.2,   5.5662,  34.8916,2,  34.8920,2,     64.0,2,     64.0,2,    95.42,2,    37.22,2,     0.00,2,     2.72,2,    0.016,2,    0.009,2, -999.000,5,   -999.0,9,   -999.0,9,-999.0000,9,  -999.00,   -999.0,9,  -999.00,9, -999.000,9, -999.000,   1.8510,2,   0.0009,    11.76,2,     0.21,    7.875,2,    0.019,   -999.0,9,   -999.0,  -999.00,9,-999.0000,9,-999.0000,9,-999.0000,9,-999.0000,9,-999.0000,9,-999.0000,9,-999.0000,9,-999.0000,9,-999.0000,9,   5.4542,   5.5571,2
  33RR20070322,  I09N,   162,  2,     15,     15,2,20070417,0537,  6.1198,  89.6287, 3109,1345.8000,   1345.8,   5.1081,  34.8719,2,  34.8725,2,     71.8,2,     74.4,2,   100.38,2,    36.84,2,     0.00,2,     2.70,2, -999.000,9, -999.000,9, -999.000,9,   -999.0,9,   -999.0,9,-999.0000,9,  -999.00,   -999.0,9,  -999.00,9, -999.000,9, -999.000,-999.0000,9,-999.0000,  -999.00,9,  -999.00, -999.000,9, -999.000,   -999.0,9,   -999.0,  -999.00,9,-999.0000,9,-999.0000,9,-999.0000,9,-999.0000,9,-999.0000,9,-999.0000,9,-999.0000,9,-999.0000,9,-999.0000,9,   4.9908,   5.1072,2
  33RR20070322,  I09N,   162,  2,     14,     14,2,20070417,0537,  6.1198,  89.6287, 3109,1446.7000,   1446.7,   4.7218,  34.8582,2,  34.8586,2,     80.2,2,     79.6,2,   104.93,2,    36.89,2,     0.00,2,     2.70,2,    0.014,2,    0.007,2, -999.000,5,   -999.0,9,   -999.0,9,-999.0000,9,  -999.00,   -999.0,9,  -999.00,9, -999.000,9, -999.000,   1.8610,2,   0.0009,    12.02,2,     0.19,    7.949,2,    0.015,   -999.0,9,   -999.0,  -999.00,9,-999.0000,9,-999.0000,9,-999.0000,9,-999.0000,9,-999.0000,9,-999.0000,9,-999.0000,9,-999.0000,9,-999.0000,9,   4.5988,   4.7213,2
  33RR20070322,  I09N,   162,  2,     13,     13,2,20070417,0537,  6.1198,  89.6287, 3109,1546.1000,   1546.1,   4.2597,  34.8420,2,  34.8395,2,     86.7,2,     86.9,2,   109.49,2,    36.93,2,     0.00,2,     2.69,2,    0.008,2,    0.005,2, -999.000,5,   -999.0,9,   -999.0,9,-999.0000,9,  -999.00,   -999.0,9,  -999.00,9, -999.000,9, -999.000,   1.8580,2,   0.0011,    12.55,2,     0.20,    7.848,2,    0.013,   -999.0,9,   -999.0,  -999.00,9,-999.0000,9,-999.0000,9,-999.0000,9,-999.0000,9,-999.0000,9,-999.0000,9,-999.0000,9,-999.0000,9,-999.0000,9,   4.1326,   4.2592,2
  33RR20070322,  I09N,   162,  2,     12,     12,2,20070417,0537,  6.1198,  89.6287, 3109,1647.9000,   1647.9,   3.8519,  34.8270,2,  34.8275,2,     93.4,2,     94.0,2,   113.87,2,    36.87,2,     0.00,2,     2.68,2,    0.004,2,    0.004,2, -999.000,5,   -999.0,9,   -999.0,9,-999.0000,9,  -999.00,   -999.0,9,  -999.00,9, -999.000,9, -999.000,   1.8620,2,   0.0009,    13.22,2,     0.20,    8.035,2,    0.017,   -999.0,9,   -999.0,  -999.00,9,-999.0000,9,-999.0000,9,-999.0000,9,-999.0000,9,-999.0000,9,-999.0000,9,-999.0000,9,-999.0000,9,-999.0000,9,   3.7203,   3.8520,2
  33RR20070322,  I09N,   162,  2,     11,     11,2,20070417,0537,  6.1198,  89.6287, 3109,1748.3000,   1748.3,   3.5074,  34.8131,2,  34.8141,2,     99.4,2,    100.1,2,   118.04,2,    36.64,2,     0.00,2,     2.66,2,    0.004,2,    0.002,2, -999.000,5,   -999.0,9,   -999.0,9,-999.0000,9,  -999.00,   -999.0,9,  -999.00,9, -999.000,9, -999.000,   1.8650,2,   0.0011,    13.15,2,     0.21,    7.897,2,    0.015,   -999.0,9,   -999.0,  -999.00,9,-999.0000,9,-999.0000,9,-999.0000,9,-999.0000,9,-999.0000,9,-999.0000,9,-999.0000,9,-999.0000,9,-999.0000,9,   3.3710,   3.5065,2
  33RR20070322,  I09N,   162,  2,     10,     10,2,20070417,0537,  6.1198,  89.6287, 3109,1849.5000,   1849.5,   3.1565,  34.7976,2,  34.7990,2,    106.4,2,    108.3,2,   121.82,2,    36.38,2,     0.00,2,     2.63,2,    0.004,2,    0.003,2, -999.000,5,   -999.0,9,   -999.0,9,-999.0000,9,  -999.00,   -999.0,9,  -999.00,9, -999.000,9, -999.000,   1.9130,2,   0.0010,    12.82,2,     0.18,    8.175,2,    0.011,   -999.0,9,   -999.0,  -999.00,9,-999.0000,9,-999.0000,9,-999.0000,9,-999.0000,9,-999.0000,9,-999.0000,9,-999.0000,9,-999.0000,9,-999.0000,9,   3.0157,   3.1569,2
  33RR20070322,  I09N,   162,  2,      9,      9,2,20070417,0537,  6.1198,  89.6287, 3109,1949.1000,   1949.1,   2.8666,  34.7849,2,  34.7858,2,    114.4,2,    118.8,4,   124.80,2,    36.11,2,     0.00,2,     2.59,2,    0.004,2,    0.005,2, -999.000,5,   -999.0,9,   -999.0,9,-999.0000,9,  -999.00,   -999.0,9,  -999.00,9, -999.000,9, -999.000,   1.9120,2,   0.0010,    12.63,2,     0.20,    8.279,2,    0.015,   -999.0,9,   -999.0,  -999.00,9,-999.0000,9,-999.0000,9,-999.0000,9,-999.0000,9,-999.0000,9,-999.0000,9,-999.0000,9,-999.0000,9,-999.0000,9,   2.7211,   2.8698,2
  33RR20070322,  I09N,   162,  2,      8,      8,2,20070417,0537,  6.1198,  89.6287, 3109,2111.6000,   2111.6,   2.5761,  34.7718,2,  34.7709,2,    124.0,2,    123.4,2,   128.18,2,    35.89,2,     0.00,2,     2.56,2,    0.004,2,    0.004,2, -999.000,5,   2326.5,2,   2406.7,6,   7.5395,2,    25.00,   -999.0,9,  -999.00,9, -999.000,9, -999.000,   1.9070,2,   0.0004,    12.82,2,     0.18,    8.191,2,    0.014,   -999.0,9,   -999.0,  -999.00,9,-999.0000,9,-999.0000,9,-999.0000,9,-999.0000,9,-999.0000,9,-999.0000,9,-999.0000,9,-999.0000,9,-999.0000,9,   2.4205,   2.5758,2
  33RR20070322,  I09N,   162,  2,      7,      7,2,20070417,0537,  6.1198,  89.6287, 3109,2363.9000,   2363.9,   2.2285,  34.7563,2,  34.7553,2,    135.4,2,    135.2,2,   130.97,2,    35.47,2,     0.00,2,     2.52,2, -999.000,9, -999.000,9, -999.000,9,   -999.0,9,   -999.0,9,-999.0000,9,  -999.00,   -999.0,9,  -999.00,9, -999.000,9, -999.000,-999.0000,9,-999.0000,  -999.00,9,  -999.00, -999.000,9, -999.000,   -999.0,9,   -999.0,  -999.00,9,-999.0000,9,-999.0000,9,-999.0000,9,-999.0000,9,-999.0000,9,-999.0000,9,-999.0000,9,-999.0000,9,-999.0000,9,   2.0560,   2.2283,2
  33RR20070322,  I09N,   162,  2,      6,      6,2,20070417,0537,  6.1198,  89.6287, 3109,2616.0000,   2616.0,   1.9824,  34.7452,2,  34.7459,2,    144.9,2,    144.3,2,   132.75,2,    35.04,2,     0.00,2,     2.47,2,    0.007,2,    0.003,2, -999.000,5,   -999.0,9,   -999.0,9,-999.0000,9,  -999.00,   -999.0,9,  -999.00,9, -999.000,9, -999.000,   1.9040,2,   0.0009,    12.66,2,     0.20,    8.163,2,    0.016,   -999.0,9,   -999.0,  -999.00,9,-999.0000,9,-999.0000,9,-999.0000,9,-999.0000,9,-999.0000,9,-999.0000,9,-999.0000,9,-999.0000,9,-999.0000,9,   1.7913,   1.9822,2
  33RR20070322,  I09N,   162,  2,      5,      5,2,20070417,0537,  6.1198,  89.6287, 3109,2868.1000,   2868.1,   1.7900,  34.7374,2,  34.7378,2,    152.2,2,    151.3,2,   134.12,2,    34.73,2,     0.00,2,     2.43,2, -999.000,5, -999.000,5, -999.000,5,   -999.0,9,   -999.0,9,-999.0000,9,  -999.00,   -999.0,9,  -999.00,9, -999.000,9, -999.000,-999.0000,9,-999.0000,  -999.00,9,  -999.00, -999.000,9, -999.000,   -999.0,9,   -999.0,  -999.00,9,-999.0000,9,-999.0000,9,-999.0000,9,-999.0000,9,-999.0000,9,-999.0000,9,-999.0000,9,-999.0000,9,-999.0000,9,   1.5792,   1.7900,2