BOTTLE,20150630SIOCCHRJL
EXPOCODE,SECT_ID,STNNBR,CASTNO,SAMPNO,BTLNBR,BTLNBR_FLAG_W,DATE,TIME,LATITUDE,LONGITUDE,DEPTH,CTDRAW,CTDPRS,CTDTMP,CTDSAL,CTDSAL_FLAG_W,SALNTY,SALNTY_FLAG_W,CTDOXY,CTDOXY_FLAG_W,OXYGEN,OXYGEN_FLAG_W,SILCAT,SILCAT_FLAG_W,NITRAT,NITRAT_FLAG_W,NITRIT,NITRIT_FLAG_W,PHSPHT,PHSPHT_FLAG_W,CFC-11,CFC-11_FLAG_W,CFC-12,CFC-12_FLAG_W,CFC113,CFC113_FLAG_W,TCARBN,TCARBN_FLAG_W,ALKALI,ALKALI_FLAG_W,PH_SWS,PH_SWS_FLAG_W,PH_TMP,DOC,DOC_FLAG_W,TDN,TDN_FLAG_W,TRITUM,TRITUM_FLAG_W,TRITER,HELIUM,HELIUM_FLAG_W,HELIER,DELHE3,DELHE3_FLAG_W,DELHER,NEON,NEON_FLAG_W,NEONER,DELC14,DELC14_FLAG_W,C14ERR,DELC13,DELC13_FLAG_W,CDOM325,CDOM325_FLAG_W,CDOM340,CDOM340_FLAG_W,CDOM380,CDOM380_FLAG_W,CDOM412,CDOM412_FLAG_W,CDOM443,CDOM443_FLAG_W,CDOM490,CDOM490_FLAG_W,CDOM555,CDOM555_FLAG_W,CDOMSL,CDOMSL_FLAG_W,CDOMSN,CDOMSN_FLAG_W,THETA,SBE35,SBE35_FLAG_W
,,,,,,,,,,,METERS,,DBAR,ITS-90,PSS-78,,PSS-78,,UMOL/KG,,UMOL/KG,,UMOL/KG,,UMOL/KG,,UMOL/KG,,UMOL/KG,,PMOL/KG,,PMOL/KG,,PMOL/KG,,UMOL/KG,,UMOL/KG,,,,DEG C,UMOL/KG,,UMOL/KG,,TU,,TU,NMOL/KG,,NMOL/KG,PERCNT,,PERCNT,NMOL/KG,,NMOL/KG,/MILLE,,/MILLE,/MILLE,,1/M,,1/M,,1/M,,1/M,,1/M,,1/M,,1/M,,1/NM,,1/NM,,DEG C,ITS-90,
  33RR20070322,  I09N,   129,  1,      4,      4,2,20070408,1045, -6.0683,  95.0017, 5118,3936.6000,   3936.6,   1.1813,  34.7170,2,  34.7166,2,    189.3,2,    189.6,2,   128.77,2,    33.04,2,     0.00,2,     2.28,2, -999.000,9, -999.000,9, -999.000,9,   2289.2,2,   2400.7,2,   7.6242,2,    25.00,     40.8,2,    34.71,2, -999.000,9, -999.000,-999.0000,9,-999.0000,  -999.00,9,  -999.00, -999.000,9, -999.000,   -999.0,9,   -999.0,  -999.00,9,-999.0000,9,-999.0000,9,-999.0000,9,-999.0000,9,-999.0000,9,-999.0000,9,-999.0000,9,-999.0000,9,-999.0000,9,   0.8779,   1.1816,2
  33RR20070322,  I09N,   129,  1,      3,      3,2,20070408,1045, -6.0683,  95.0017, 5118,4345.5000,   4345.5,   1.1534,  34.7149,2,  34.7164,2,    194.5,2,    194.3,2,   127.19,2,    32.63,2,     0.00,2,     2.25,2, -999.000,9, -999.000,9, -999.000,9,   2284.6,2,   2397.9,2,   7.6233,2,    25.00,     41.2,2,    34.25,2, -999.000,9, -999.000,-999.0000,9,-999.0000,  -999.00,9,  -999.00, -999.000,9, -999.000,   -999.0,9,   -999.0,  -999.00,9,-999.0000,9,-999.0000,9,-999.0000,9,-999.0000,9,-999.0000,9,-999.0000,9,-999.0000,9,-999.0000,9,-999.0000,9,   0.8063,   1.1535,2
  33RR20070322,  I09N,   129,  1,      2,      2,2,20070408,1045, -6.0683,  95.0017, 5118,4751.8000,   4751.8,   1.1824,  34.7145,2,  34.7148,2,    195.7,2,    195.3,2,   126.79,2,    32.64,2,     0.00,2,     2.24,2,    0.005,2,    0.002,2, -999.000,5,   2283.5,2,   2397.3,2,   7.6320,2,    25.00,     40.7,2,    33.65,2, -999.000,9, -999.000,-999.0000,9,-999.0000,  -999.00,9,  -999.00, -999.000,9, -999.000,   -999.0,9,   -999.0,  -999.00,9,-999.0000,9,-999.0000,9,-999.0000,9,-999.0000,9,-999.0000,9,-999.0000,9,-999.0000,9,-999.0000,9,-999.0000,9,   0.7880,   1.1823,2
  33RR20070322,  I09N,   129,  1,      1,      1,2,20070408,1045, -6.0683,  95.0017, 5118,5206.8000,   5206.8,   1.2318,  34.7141,2,  34.7156,2,    195.5,2,    195.9,2,   126.59,2,    32.73,2,     0.00,2,     2.24,2,    0.005,2,    0.002,2, -999.000,5,   2283.9,6,   2398.1,6,   7.6384,6,    25.00,     40.9,2,    33.89,2, -999.000,9, -999.000,-999.0000,9,-999.0000,  -999.00,9,  -999.00, -999.000,9, -999.000,   -999.0,9,   -999.0,  -999.00,9,-999.0000,9,-999.0000,9,-999.0000,9,-999.0000,9,-999.0000,9,-999.0000,9,-999.0000,9,-999.0000,9,-999.0000,9,   0.7812,   1.2315,2