BOTTLE,20150630SIOCCHRJL
EXPOCODE,SECT_ID,STNNBR,CASTNO,SAMPNO,BTLNBR,BTLNBR_FLAG_W,DATE,TIME,LATITUDE,LONGITUDE,DEPTH,CTDRAW,CTDPRS,CTDTMP,CTDSAL,CTDSAL_FLAG_W,SALNTY,SALNTY_FLAG_W,CTDOXY,CTDOXY_FLAG_W,OXYGEN,OXYGEN_FLAG_W,SILCAT,SILCAT_FLAG_W,NITRAT,NITRAT_FLAG_W,NITRIT,NITRIT_FLAG_W,PHSPHT,PHSPHT_FLAG_W,CFC-11,CFC-11_FLAG_W,CFC-12,CFC-12_FLAG_W,CFC113,CFC113_FLAG_W,TCARBN,TCARBN_FLAG_W,ALKALI,ALKALI_FLAG_W,PH_SWS,PH_SWS_FLAG_W,PH_TMP,DOC,DOC_FLAG_W,TDN,TDN_FLAG_W,TRITUM,TRITUM_FLAG_W,TRITER,HELIUM,HELIUM_FLAG_W,HELIER,DELHE3,DELHE3_FLAG_W,DELHER,NEON,NEON_FLAG_W,NEONER,DELC14,DELC14_FLAG_W,C14ERR,DELC13,DELC13_FLAG_W,CDOM325,CDOM325_FLAG_W,CDOM340,CDOM340_FLAG_W,CDOM380,CDOM380_FLAG_W,CDOM412,CDOM412_FLAG_W,CDOM443,CDOM443_FLAG_W,CDOM490,CDOM490_FLAG_W,CDOM555,CDOM555_FLAG_W,CDOMSL,CDOMSL_FLAG_W,CDOMSN,CDOMSN_FLAG_W,THETA,SBE35,SBE35_FLAG_W
,,,,,,,,,,,METERS,,DBAR,ITS-90,PSS-78,,PSS-78,,UMOL/KG,,UMOL/KG,,UMOL/KG,,UMOL/KG,,UMOL/KG,,UMOL/KG,,PMOL/KG,,PMOL/KG,,PMOL/KG,,UMOL/KG,,UMOL/KG,,,,DEG C,UMOL/KG,,UMOL/KG,,TU,,TU,NMOL/KG,,NMOL/KG,PERCNT,,PERCNT,NMOL/KG,,NMOL/KG,/MILLE,,/MILLE,/MILLE,,1/M,,1/M,,1/M,,1/M,,1/M,,1/M,,1/M,,1/NM,,1/NM,,DEG C,ITS-90,
  33RR20070322,  I09N,   138,  1,     36,     38,2,20070411,0057, -2.2017,  94.1320, 4724,   2.6000,      2.6,  29.3696,  33.9688,2,  33.9698,2,    195.7,2,    196.0,2,     1.07,2,     0.00,2,     0.00,2,     0.08,2, -999.000,5, -999.000,5, -999.000,5,   1903.9,6,   2227.0,2,   8.0950,6,    25.00,   -999.0,9,  -999.00,9, -999.000,9, -999.000,-999.0000,9,-999.0000,  -999.00,9,  -999.00, -999.000,9, -999.000,   -999.0,9,   -999.0,  -999.00,9,-999.0000,9,-999.0000,9,-999.0000,9,-999.0000,9,-999.0000,9,-999.0000,9,-999.0000,9,-999.0000,9,-999.0000,9,  29.3690,  29.3637,2
  33RR20070322,  I09N,   138,  1,     35,     35,2,20070411,0057, -2.2017,  94.1320, 4724,  41.0000,     41.0,  28.9456,  34.0598,2,  34.0612,2,    199.4,2,    197.5,2,     1.03,2,     0.00,2,     0.00,2,     0.08,2,    1.518,2,    1.002,2, -999.000,5,   -999.0,9,   -999.0,9,-999.0000,9,  -999.00,   -999.0,9,  -999.00,9, -999.000,9, -999.000,-999.0000,9,-999.0000,  -999.00,9,  -999.00, -999.000,9, -999.000,   -999.0,9,   -999.0,  -999.00,9,-999.0000,9,-999.0000,9,-999.0000,9,-999.0000,9,-999.0000,9,-999.0000,9,-999.0000,9,-999.0000,9,-999.0000,9,  28.9357,  28.9403,2
  33RR20070322,  I09N,   138,  1,     34,   9419,2,20070411,0057, -2.2017,  94.1320, 4724,  74.8000,     74.8,  26.6714,  34.9186,2,  34.9002,2,    180.3,2,    177.5,2,     2.36,2,     1.64,2,     0.06,2,     0.34,2, -999.000,9, -999.000,9, -999.000,9,   1999.0,2,   2283.0,2,   8.0174,2,    25.00,   -999.0,9,  -999.00,9, -999.000,9, -999.000,-999.0000,9,-999.0000,  -999.00,9,  -999.00, -999.000,9, -999.000,   -999.0,9,   -999.0,  -999.00,9,-999.0000,9,-999.0000,9,-999.0000,9,-999.0000,9,-999.0000,9,-999.0000,9,-999.0000,9,-999.0000,9,-999.0000,9,  26.6544,  26.6527,2
  33RR20070322,  I09N,   138,  1,     33,     33,2,20070411,0057, -2.2017,  94.1320, 4724,  94.8000,     94.8,  24.4986,  35.0970,2,  35.1000,2,    138.1,2,    135.7,2,     4.88,2,     7.85,2,     0.36,2,     0.71,2,    1.633,2,    1.019,2, -999.000,5,   -999.0,9,   -999.0,9,-999.0000,9,  -999.00,   -999.0,9,  -999.00,9, -999.000,9, -999.000,-999.0000,9,-999.0000,  -999.00,9,  -999.00, -999.000,9, -999.000,   -999.0,9,   -999.0,  -999.00,9,-999.0000,9,-999.0000,9,-999.0000,9,-999.0000,9,-999.0000,9,-999.0000,9,-999.0000,9,-999.0000,9,-999.0000,9,  24.4783,  24.5144,2
  33RR20070322,  I09N,   138,  1,     32,     37,2,20070411,0057, -2.2017,  94.1320, 4724, 125.1000,    125.1,  20.4231,  35.2973,2,  35.2981,2,     88.2,2,     87.6,2,    10.77,2,    17.16,2,     0.05,2,     1.23,2,    1.688,2,    1.021,2, -999.000,5,   2132.8,2,   2308.9,2,   7.7931,2,    25.00,   -999.0,9,  -999.00,9, -999.000,9, -999.000,-999.0000,9,-999.0000,  -999.00,9,  -999.00, -999.000,9, -999.000,   -999.0,9,   -999.0,  -999.00,9,-999.0000,9,-999.0000,9,-999.0000,9,-999.0000,9,-999.0000,9,-999.0000,9,-999.0000,9,-999.0000,9,-999.0000,9,  20.3996,  20.4212,2
  33RR20070322,  I09N,   138,  1,     31,     31,2,20070411,0057, -2.2017,  94.1320, 4724, 144.6000,    144.6,  18.9650,  35.2557,2,  35.2557,2,     80.1,2,     78.1,2,    12.69,2,    19.32,2,     0.02,2,     1.38,2,    1.660,2,    0.988,2, -999.000,5,   -999.0,9,   -999.0,9,-999.0000,9,  -999.00,   -999.0,9,  -999.00,9, -999.000,9, -999.000,-999.0000,9,-999.0000,  -999.00,9,  -999.00, -999.000,9, -999.000,   -999.0,9,   -999.0,  -999.00,9,-999.0000,9,-999.0000,9,-999.0000,9,-999.0000,9,-999.0000,9,-999.0000,9,-999.0000,9,-999.0000,9,-999.0000,9,  18.9392,  18.9457,2
  33RR20070322,  I09N,   138,  1,     30,     30,2,20070411,0057, -2.2017,  94.1320, 4724, 174.6000,    174.6,  16.0022,  35.1818,2,  35.1832,2,     73.7,2,     74.2,2,    16.40,2,    22.20,2,     0.01,2,     1.55,2,    1.655,2,    0.956,2, -999.000,5,   -999.0,9,   -999.0,9,-999.0000,9,  -999.00,   -999.0,9,  -999.00,9, -999.000,9, -999.000,-999.0000,9,-999.0000,  -999.00,9,  -999.00, -999.000,9, -999.000,   -999.0,9,   -999.0,  -999.00,9,-999.0000,9,-999.0000,9,-999.0000,9,-999.0000,9,-999.0000,9,-999.0000,9,-999.0000,9,-999.0000,9,-999.0000,9,  15.9745,  15.9914,2
  33RR20070322,  I09N,   138,  1,     29,     29,2,20070411,0057, -2.2017,  94.1320, 4724, 224.6000,    224.6,  13.6413,  35.1100,2,  35.1094,2,     65.7,2,     67.3,2,    19.71,2,    25.39,2,     0.00,2,     1.77,2,    1.387,2,    0.773,2, -999.000,5,   2202.3,2,   2310.6,6,   7.6235,2,    25.00,   -999.0,9,  -999.00,9, -999.000,9, -999.000,-999.0000,9,-999.0000,  -999.00,9,  -999.00, -999.000,9, -999.000,   -999.0,9,   -999.0,  -999.00,9,-999.0000,9,-999.0000,9,-999.0000,9,-999.0000,9,-999.0000,9,-999.0000,9,-999.0000,9,-999.0000,9,-999.0000,9,  13.6093,  13.6359,2
  33RR20070322,  I09N,   138,  1,     28,     28,2,20070411,0057, -2.2017,  94.1320, 4724, 275.2000,    275.2,  12.4102,  35.0601,2,  35.0587,2,     75.4,2,     76.3,2,    21.05,2,    26.12,2,     0.00,2,     1.80,2, -999.000,9, -999.000,9, -999.000,9,   -999.0,9,   -999.0,9,-999.0000,9,  -999.00,   -999.0,9,  -999.00,9, -999.000,9, -999.000,-999.0000,9,-999.0000,  -999.00,9,  -999.00, -999.000,9, -999.000,   -999.0,9,   -999.0,  -999.00,9,-999.0000,9,-999.0000,9,-999.0000,9,-999.0000,9,-999.0000,9,-999.0000,9,-999.0000,9,-999.0000,9,-999.0000,9,  12.3734,  12.4100,2
  33RR20070322,  I09N,   138,  1,     27,     27,2,20070411,0057, -2.2017,  94.1320, 4724, 325.0000,    325.0,  11.5834,  35.0437,2,  35.0436,2,     86.5,2,     84.2,2,    22.19,2,    26.48,2,     0.00,2,     1.83,2,    1.254,2,    0.682,2, -999.000,5,   -999.0,9,   -999.0,9,-999.0000,9,  -999.00,   -999.0,9,  -999.00,9, -999.000,9, -999.000,-999.0000,9,-999.0000,  -999.00,9,  -999.00, -999.000,9, -999.000,   -999.0,9,   -999.0,  -999.00,9,-999.0000,9,-999.0000,9,-999.0000,9,-999.0000,9,-999.0000,9,-999.0000,9,-999.0000,9,-999.0000,9,-999.0000,9,  11.5417,  11.5831,2
  33RR20070322,  I09N,   138,  1,     26,     26,2,20070411,0057, -2.2017,  94.1320, 4724, 375.3000,    375.3,  11.1698,  35.0093,2,  35.0097,2,     82.3,2,     83.9,2,    23.13,2,    27.21,2,     0.00,2,     1.87,2, -999.000,9, -999.000,9, -999.000,9,   -999.0,9,   -999.0,9,-999.0000,9,  -999.00,   -999.0,9,  -999.00,9, -999.000,9, -999.000,-999.0000,9,-999.0000,  -999.00,9,  -999.00, -999.000,9, -999.000,   -999.0,9,   -999.0,  -999.00,9,-999.0000,9,-999.0000,9,-999.0000,9,-999.0000,9,-999.0000,9,-999.0000,9,-999.0000,9,-999.0000,9,-999.0000,9,  11.1227,  11.1784,2
  33RR20070322,  I09N,   138,  1,     25,     25,2,20070411,0057, -2.2017,  94.1320, 4724, 424.7000,    424.7,  10.6623,  34.9786,2,  34.9796,2,     76.3,2,     75.7,2,    26.26,2,    29.10,2,     0.00,2,     1.99,2,    0.801,2,    0.437,2, -999.000,5,   2221.0,2,   2312.2,2,   7.5756,2,    25.00,   -999.0,9,  -999.00,9, -999.000,9, -999.000,-999.0000,9,-999.0000,  -999.00,9,  -999.00, -999.000,9, -999.000,   -999.0,9,   -999.0,  -999.00,9,-999.0000,9,-999.0000,9,-999.0000,9,-999.0000,9,-999.0000,9,-999.0000,9,-999.0000,9,-999.0000,9,-999.0000,9,  10.6104,  10.6665,2
  33RR20070322,  I09N,   138,  1,     24,     24,2,20070411,0057, -2.2017,  94.1320, 4724, 475.9000,    475.9,  10.0746,  34.9486,2,  34.9484,2,     72.0,2,     71.3,2,    30.76,2,    30.56,2,     0.00,2,     2.11,2, -999.000,9, -999.000,9, -999.000,9,   -999.0,9,   -999.0,9,-999.0000,9,  -999.00,   -999.0,9,  -999.00,9, -999.000,9, -999.000,-999.0000,9,-999.0000,  -999.00,9,  -999.00, -999.000,9, -999.000,   -999.0,9,   -999.0,  -999.00,9,-999.0000,9,-999.0000,9,-999.0000,9,-999.0000,9,-999.0000,9,-999.0000,9,-999.0000,9,-999.0000,9,-999.0000,9,  10.0184,  10.0793,2
  33RR20070322,  I09N,   138,  1,     23,     23,2,20070411,0057, -2.2017,  94.1320, 4724, 525.5000,    525.5,   9.7838,  34.9666,2,  34.9661,2,     68.9,2,     68.0,2,    34.67,2,    31.46,2,     0.00,2,     2.22,2,    0.483,2,    0.262,2, -999.000,5,   -999.0,9,   -999.0,9,-999.0000,9,  -999.00,   -999.0,9,  -999.00,9, -999.000,9, -999.000,-999.0000,9,-999.0000,  -999.00,9,  -999.00, -999.000,9, -999.000,   -999.0,9,   -999.0,  -999.00,9,-999.0000,9,-999.0000,9,-999.0000,9,-999.0000,9,-999.0000,9,-999.0000,9,-999.0000,9,-999.0000,9,-999.0000,9,   9.7226,   9.7825,2
  33RR20070322,  I09N,   138,  1,     22,     22,2,20070411,0057, -2.2017,  94.1320, 4724, 645.8000,    645.8,   8.9606,  34.9591,2,  34.9600,2,     56.4,2,     53.9,2,    47.31,2,    33.99,2,     0.00,2,     2.45,2, -999.000,9, -999.000,9, -999.000,9,   -999.0,9,   -999.0,9,-999.0000,9,  -999.00,   -999.0,9,  -999.00,9, -999.000,9, -999.000,-999.0000,9,-999.0000,  -999.00,9,  -999.00, -999.000,9, -999.000,   -999.0,9,   -999.0,  -999.00,9,-999.0000,9,-999.0000,9,-999.0000,9,-999.0000,9,-999.0000,9,-999.0000,9,-999.0000,9,-999.0000,9,-999.0000,9,   8.8888,   8.9694,2
  33RR20070322,  I09N,   138,  1,     21,     21,2,20070411,0057, -2.2017,  94.1320, 4724, 744.1000,    744.1,   8.2049,  34.9238,2,  34.9252,2,     52.6,2,     51.7,2,    56.99,2,    35.15,2,     0.00,2,     2.57,2,    0.081,2,    0.049,2, -999.000,5,   2273.3,2,   2338.5,2,   7.4931,2,    25.00,   -999.0,9,  -999.00,9, -999.000,9, -999.000,-999.0000,9,-999.0000,  -999.00,9,  -999.00, -999.000,9, -999.000,   -999.0,9,   -999.0,  -999.00,9,-999.0000,9,-999.0000,9,-999.0000,9,-999.0000,9,-999.0000,9,-999.0000,9,-999.0000,9,-999.0000,9,-999.0000,9,   8.1259,   8.2130,2
  33RR20070322,  I09N,   138,  1,     20,     20,2,20070411,0057, -2.2017,  94.1320, 4724, 845.2000,    845.2,   7.5704,  34.9409,2,  34.9427,2,     49.2,2,     48.0,2,    68.68,2,    36.10,2,     0.00,2,     2.67,2, -999.000,9, -999.000,9, -999.000,9,   -999.0,9,   -999.0,9,-999.0000,9,  -999.00,   -999.0,9,  -999.00,9, -999.000,9, -999.000,-999.0000,9,-999.0000,  -999.00,9,  -999.00, -999.000,9, -999.000,   -999.0,9,   -999.0,  -999.00,9,-999.0000,9,-999.0000,9,-999.0000,9,-999.0000,9,-999.0000,9,-999.0000,9,-999.0000,9,-999.0000,9,-999.0000,9,   7.4840,   7.5717,2
  33RR20070322,  I09N,   138,  1,     19,     19,2,20070411,0057, -2.2017,  94.1320, 4724, 945.5000,    945.5,   6.8523,  34.8892,2,  34.8885,2,     53.5,2,     53.8,2,    76.21,2,    36.63,2,     0.00,2,     2.70,2,    0.020,2,    0.012,2, -999.000,5,   -999.0,9,   -999.0,9,-999.0000,9,  -999.00,   -999.0,9,  -999.00,9, -999.000,9, -999.000,-999.0000,9,-999.0000,  -999.00,9,  -999.00, -999.000,9, -999.000,   -999.0,9,   -999.0,  -999.00,9,-999.0000,9,-999.0000,9,-999.0000,9,-999.0000,9,-999.0000,9,-999.0000,9,-999.0000,9,-999.0000,9,-999.0000,9,   6.7602,   6.8510,2
  33RR20070322,  I09N,   138,  1,     18,     18,2,20070411,0057, -2.2017,  94.1320, 4724,1045.9000,   1045.9,   6.1839,  34.8663,2,  34.8669,2,     59.8,2,     60.0,2,    84.74,2,    37.00,2,     0.00,2,     2.72,2, -999.000,9, -999.000,9, -999.000,9,   2304.4,2,   2366.1,6,   7.5119,2,    25.00,   -999.0,9,  -999.00,9, -999.000,9, -999.000,-999.0000,9,-999.0000,  -999.00,9,  -999.00, -999.000,9, -999.000,   -999.0,9,   -999.0,  -999.00,9,-999.0000,9,-999.0000,9,-999.0000,9,-999.0000,9,-999.0000,9,-999.0000,9,-999.0000,9,-999.0000,9,-999.0000,9,   6.0865,   6.1833,2
  33RR20070322,  I09N,   138,  1,     17,     17,2,20070411,0057, -2.2017,  94.1320, 4724,1145.9000,   1145.9,   5.8592,  34.8758,2,  34.8763,2,     63.9,2,     63.3,2,    88.70,2,    36.94,2,     0.00,2,     2.73,2, -999.000,9, -999.000,9, -999.000,9,   -999.0,9,   -999.0,9,-999.0000,9,  -999.00,   -999.0,9,  -999.00,9, -999.000,9, -999.000,-999.0000,9,-999.0000,  -999.00,9,  -999.00, -999.000,9, -999.000,   -999.0,9,   -999.0,  -999.00,9,-999.0000,9,-999.0000,9,-999.0000,9,-999.0000,9,-999.0000,9,-999.0000,9,-999.0000,9,-999.0000,9,-999.0000,9,   5.7545,   5.8556,2
  33RR20070322,  I09N,   138,  1,     16,     16,2,20070411,0057, -2.2017,  94.1320, 4724,1247.3000,   1247.3,   5.4762,  34.8664,2,  34.8661,2,     68.3,2,     69.4,2,    93.06,2,    36.88,2,     0.00,2,     2.72,2, -999.000,9, -999.000,9, -999.000,9,   -999.0,9,   -999.0,9,-999.0000,9,  -999.00,   -999.0,9,  -999.00,9, -999.000,9, -999.000,-999.0000,9,-999.0000,  -999.00,9,  -999.00, -999.000,9, -999.000,   -999.0,9,   -999.0,  -999.00,9,-999.0000,9,-999.0000,9,-999.0000,9,-999.0000,9,-999.0000,9,-999.0000,9,-999.0000,9,-999.0000,9,-999.0000,9,   5.3649,   5.4800,2
  33RR20070322,  I09N,   138,  1,     15,     15,2,20070411,0057, -2.2017,  94.1320, 4724,1347.0000,   1347.0,   4.9834,  34.8573,2,  34.8561,2,     74.8,2,     77.7,2,    98.02,2,    36.84,2,     0.00,2,     2.71,2, -999.000,9, -999.000,9, -999.000,9,   -999.0,9,   -999.0,9,-999.0000,9,  -999.00,   -999.0,9,  -999.00,9, -999.000,9, -999.000,-999.0000,9,-999.0000,  -999.00,9,  -999.00, -999.000,9, -999.000,   -999.0,9,   -999.0,  -999.00,9,-999.0000,9,-999.0000,9,-999.0000,9,-999.0000,9,-999.0000,9,-999.0000,9,-999.0000,9,-999.0000,9,-999.0000,9,   4.8672,   4.9850,2
  33RR20070322,  I09N,   138,  1,     14,     14,2,20070411,0057, -2.2017,  94.1320, 4724,1448.2000,   1448.2,   4.3909,  34.8241,2,  34.8227,2,     86.1,2,     89.3,2,   102.99,2,    36.56,2,     0.00,2,     2.69,2, -999.000,9, -999.000,9, -999.000,9,   -999.0,9,   -999.0,9,-999.0000,9,  -999.00,   -999.0,9,  -999.00,9, -999.000,9, -999.000,-999.0000,9,-999.0000,  -999.00,9,  -999.00, -999.000,9, -999.000,   -999.0,9,   -999.0,  -999.00,9,-999.0000,9,-999.0000,9,-999.0000,9,-999.0000,9,-999.0000,9,-999.0000,9,-999.0000,9,-999.0000,9,-999.0000,9,   4.2715,   4.3914,2
  33RR20070322,  I09N,   138,  1,     13,     13,2,20070411,0057, -2.2017,  94.1320, 4724,1548.3000,   1548.3,   3.8809,  34.8064,2,  34.8066,2,     96.4,2,    100.9,2,   107.57,2,    36.35,2,     0.00,2,     2.65,2, -999.000,9, -999.000,9, -999.000,9,   -999.0,9,   -999.0,9,-999.0000,9,  -999.00,   -999.0,9,  -999.00,9, -999.000,9, -999.000,-999.0000,9,-999.0000,  -999.00,9,  -999.00, -999.000,9, -999.000,   -999.0,9,   -999.0,  -999.00,9,-999.0000,9,-999.0000,9,-999.0000,9,-999.0000,9,-999.0000,9,-999.0000,9,-999.0000,9,-999.0000,9,-999.0000,9,   3.7581,   3.8889,2
  33RR20070322,  I09N,   138,  1,     12,     12,2,20070411,0057, -2.2017,  94.1320, 4724,1749.9000,   1749.9,   3.1852,  34.7869,2,  34.7869,2,    113.1,2,    116.7,2,   115.59,2,    35.76,2,     0.00,2,     2.59,2, -999.000,9, -999.000,9, -999.000,9,   -999.0,9,   -999.0,9,-999.0000,9,  -999.00,   -999.0,9,  -999.00,9, -999.000,9, -999.000,-999.0000,9,-999.0000,  -999.00,9,  -999.00, -999.000,9, -999.000,   -999.0,9,   -999.0,  -999.00,9,-999.0000,9,-999.0000,9,-999.0000,9,-999.0000,9,-999.0000,9,-999.0000,9,-999.0000,9,-999.0000,9,-999.0000,9,   3.0530,   3.1921,2
  33RR20070322,  I09N,   138,  1,     11,     11,2,20070411,0057, -2.2017,  94.1320, 4724,1950.7000,   1950.7,   2.6952,  34.7706,2,  34.7707,2,    127.5,2,    129.0,2,   119.99,2,    35.29,2,     0.00,2,     2.54,2, -999.000,9, -999.000,9, -999.000,9,   -999.0,9,   -999.0,9,-999.0000,9,  -999.00,   -999.0,9,  -999.00,9, -999.000,9, -999.000,-999.0000,9,-999.0000,  -999.00,9,  -999.00, -999.000,9, -999.000,   -999.0,9,   -999.0,  -999.00,9,-999.0000,9,-999.0000,9,-999.0000,9,-999.0000,9,-999.0000,9,-999.0000,9,-999.0000,9,-999.0000,9,-999.0000,9,   2.5521,   2.6962,2
  33RR20070322,  I09N,   138,  1,     10,     10,2,20070411,0057, -2.2017,  94.1320, 4724,2112.7000,   2112.7,   2.4656,  34.7635,2,  34.7634,2,    135.0,2,    135.4,2,   122.97,2,    35.12,2,     0.00,2,     2.51,2, -999.000,9, -999.000,9, -999.000,9,   2316.0,2,   2402.9,2,   7.5591,2,    25.00,   -999.0,9,  -999.00,9, -999.000,9, -999.000,-999.0000,9,-999.0000,  -999.00,9,  -999.00, -999.000,9, -999.000,   -999.0,9,   -999.0,  -999.00,9,-999.0000,9,-999.0000,9,-999.0000,9,-999.0000,9,-999.0000,9,-999.0000,9,-999.0000,9,-999.0000,9,-999.0000,9,   2.3117,   2.4658,2
  33RR20070322,  I09N,   138,  1,      9,      9,2,20070411,0057, -2.2017,  94.1320, 4724,2365.2000,   2365.2,   2.1707,  34.7503,2,  34.7498,2,    144.8,2,    144.4,2,   125.35,2,    34.80,2,     0.00,2,     2.47,2, -999.000,9, -999.000,9, -999.000,9,   -999.0,9,   -999.0,9,-999.0000,9,  -999.00,   -999.0,9,  -999.00,9, -999.000,9, -999.000,-999.0000,9,-999.0000,  -999.00,9,  -999.00, -999.000,9, -999.000,   -999.0,9,   -999.0,  -999.00,9,-999.0000,9,-999.0000,9,-999.0000,9,-999.0000,9,-999.0000,9,-999.0000,9,-999.0000,9,-999.0000,9,-999.0000,9,   1.9991,   2.1714,2
  33RR20070322,  I09N,   138,  1,      8,      8,2,20070411,0057, -2.2017,  94.1320, 4724,2619.1000,   2619.1,   1.9538,  34.7424,2,  34.7426,2,    151.9,2,    151.3,2,   128.35,2,    34.48,2,     0.00,2,     2.44,2, -999.000,9, -999.000,9, -999.000,9,   -999.0,9,   -999.0,9,-999.0000,9,  -999.00,   -999.0,9,  -999.00,9, -999.000,9, -999.000,-999.0000,9,-999.0000,  -999.00,9,  -999.00, -999.000,9, -999.000,   -999.0,9,   -999.0,  -999.00,9,-999.0000,9,-999.0000,9,-999.0000,9,-999.0000,9,-999.0000,9,-999.0000,9,-999.0000,9,-999.0000,9,-999.0000,9,   1.7630,   1.9576,2
  33RR20070322,  I09N,   138,  1,      7,      7,2,20070411,0057, -2.2017,  94.1320, 4724,2870.5000,   2870.5,   1.7676,  34.7356,2,  34.7357,2,    158.2,2,    157.6,2,   130.73,2,    34.26,2,     0.00,2,     2.41,2, -999.000,9, -999.000,9, -999.000,9,   -999.0,9,   -999.0,9,-999.0000,9,  -999.00,   -999.0,9,  -999.00,9, -999.000,9, -999.000,-999.0000,9,-999.0000,  -999.00,9,  -999.00, -999.000,9, -999.000,   -999.0,9,   -999.0,  -999.00,9,-999.0000,9,-999.0000,9,-999.0000,9,-999.0000,9,-999.0000,9,-999.0000,9,-999.0000,9,-999.0000,9,-999.0000,9,   1.5570,   1.7673,2
  33RR20070322,  I09N,   138,  1,      6,      6,2,20070411,0057, -2.2017,  94.1320, 4724,3123.9000,   3123.9,   1.6634,  34.7313,2,  34.7316,2,    162.7,2,    161.8,2,   131.70,2,    34.21,2,     0.00,2,     2.39,2, -999.000,9, -999.000,9, -999.000,9,   -999.0,9,   -999.0,9,-999.0000,9,  -999.00,   -999.0,9,  -999.00,9, -999.000,9, -999.000,-999.0000,9,-999.0000,  -999.00,9,  -999.00, -999.000,9, -999.000,   -999.0,9,   -999.0,  -999.00,9,-999.0000,9,-999.0000,9,-999.0000,9,-999.0000,9,-999.0000,9,-999.0000,9,-999.0000,9,-999.0000,9,-999.0000,9,   1.4307,   1.6631,2
  33RR20070322,  I09N,   138,  1,      5,      5,2,20070411,0057, -2.2017,  94.1320, 4724,3529.5000,   3529.5,   1.4119,  34.7235,2,  34.7229,2,    174.0,2,    174.0,2,   131.86,2,    33.57,2,     0.00,2,     2.34,2, -999.000,9, -999.000,9, -999.000,9,   -999.0,9,   -999.0,9,-999.0000,9,  -999.00,   -999.0,9,  -999.00,9, -999.000,9, -999.000,-999.0000,9,-999.0000,  -999.00,9,  -999.00, -999.000,9, -999.000,   -999.0,9,   -999.0,  -999.00,9,-999.0000,9,-999.0000,9,-999.0000,9,-999.0000,9,-999.0000,9,-999.0000,9,-999.0000,9,-999.0000,9,-999.0000,9,   1.1447,   1.4121,2