BOTTLE,20150630SIOCCHRJL
EXPOCODE,SECT_ID,STNNBR,CASTNO,SAMPNO,BTLNBR,BTLNBR_FLAG_W,DATE,TIME,LATITUDE,LONGITUDE,DEPTH,CTDRAW,CTDPRS,CTDTMP,CTDSAL,CTDSAL_FLAG_W,SALNTY,SALNTY_FLAG_W,CTDOXY,CTDOXY_FLAG_W,OXYGEN,OXYGEN_FLAG_W,SILCAT,SILCAT_FLAG_W,NITRAT,NITRAT_FLAG_W,NITRIT,NITRIT_FLAG_W,PHSPHT,PHSPHT_FLAG_W,CFC-11,CFC-11_FLAG_W,CFC-12,CFC-12_FLAG_W,CFC113,CFC113_FLAG_W,TCARBN,TCARBN_FLAG_W,ALKALI,ALKALI_FLAG_W,PH_SWS,PH_SWS_FLAG_W,PH_TMP,DOC,DOC_FLAG_W,TDN,TDN_FLAG_W,TRITUM,TRITUM_FLAG_W,TRITER,HELIUM,HELIUM_FLAG_W,HELIER,DELHE3,DELHE3_FLAG_W,DELHER,NEON,NEON_FLAG_W,NEONER,DELC14,DELC14_FLAG_W,C14ERR,DELC13,DELC13_FLAG_W,CDOM325,CDOM325_FLAG_W,CDOM340,CDOM340_FLAG_W,CDOM380,CDOM380_FLAG_W,CDOM412,CDOM412_FLAG_W,CDOM443,CDOM443_FLAG_W,CDOM490,CDOM490_FLAG_W,CDOM555,CDOM555_FLAG_W,CDOMSL,CDOMSL_FLAG_W,CDOMSN,CDOMSN_FLAG_W,THETA,SBE35,SBE35_FLAG_W
,,,,,,,,,,,METERS,,DBAR,ITS-90,PSS-78,,PSS-78,,UMOL/KG,,UMOL/KG,,UMOL/KG,,UMOL/KG,,UMOL/KG,,UMOL/KG,,PMOL/KG,,PMOL/KG,,PMOL/KG,,UMOL/KG,,UMOL/KG,,,,DEG C,UMOL/KG,,UMOL/KG,,TU,,TU,NMOL/KG,,NMOL/KG,PERCNT,,PERCNT,NMOL/KG,,NMOL/KG,/MILLE,,/MILLE,/MILLE,,1/M,,1/M,,1/M,,1/M,,1/M,,1/M,,1/M,,1/NM,,1/NM,,DEG C,ITS-90,
  33RR20070322,  I09N,   103,  1,      4,      4,2,20070330,2323,-20.2002,  94.9997, 5259,4092.2000,   4092.2,   1.2297,  34.7180,2,  34.7187,2,    193.2,2,    193.9,2,   123.69,2,    32.41,2,     0.00,2,     2.29,2, -999.000,9, -999.000,9, -999.000,9,   2279.3,2,   2388.7,2,   7.5840,3,    25.00,     40.0,2,    33.99,2, -999.000,9, -999.000,-999.0000,9,-999.0000,  -999.00,9,  -999.00, -999.000,9, -999.000,   -999.0,9,   -999.0,  -999.00,9,   0.1268,2,   0.0874,2,   0.0477,2,   0.0337,2,   0.0102,2,   0.0013,3,  -0.0013,4,   0.0141,2,   0.0155,3,   0.9082,   1.2297,2
  33RR20070322,  I09N,   103,  1,      3,      3,2,20070330,2323,-20.2002,  94.9997, 5259,4498.6000,   4498.6,   1.1112,  34.7142,2,  34.7138,2,    200.8,2,    201.5,2,   122.05,2,    32.24,2,     0.00,2,     2.26,2,    0.027,2,    0.006,2,   -0.001,3,   2271.6,2,   2381.3,2,   7.5980,2,    25.00,     40.1,2,    33.47,2, -999.000,9, -999.000,-999.0000,9,-999.0000,  -999.00,9,  -999.00, -999.000,9, -999.000,   -999.0,9,   -999.0,  -999.00,9,   0.1241,2,   0.0851,2,   0.0458,2,   0.0324,2,   0.0095,2,   0.0012,3,  -0.0011,4,   0.0140,3,   0.0157,3,   0.7482,   1.1108,2
  33RR20070322,  I09N,   103,  1,      2,      2,2,20070330,2323,-20.2002,  94.9997, 5259,4908.1000,   4908.1,   1.0865,  34.7116,2,  34.7124,2,    204.0,2,    204.0,2,   122.65,2,    32.11,2,     0.00,2,     2.25,2, -999.000,9, -999.000,9, -999.000,9,   2269.6,2,   2378.9,2,   7.5840,2,    25.00,     40.1,2,    33.69,2, -999.000,9, -999.000,-999.0000,9,-999.0000,  -999.00,9,  -999.00, -999.000,9, -999.000,   -999.0,9,   -999.0,  -999.00,9,   0.1232,2,   0.0843,2,   0.0452,2,   0.0318,2,   0.0087,2,   0.0007,3,  -0.0015,4,   0.0142,2,   0.0160,3,   0.6769,   1.0862,2
  33RR20070322,  I09N,   103,  1,      1,      1,2,20070330,2323,-20.2002,  94.9997, 5259,5343.2000,   5343.2,   1.1341,  34.7110,2,  34.7109,2,    203.8,2,    204.4,2,   122.43,2,    32.04,2,     0.00,2,     2.25,2,    0.095,2,    0.043,2, -999.000,5,   2270.7,6,   2379.5,6,   7.6282,3,    25.00,     40.1,2,    33.07,2, -999.000,9, -999.000,-999.0000,9,-999.0000,  -999.00,9,  -999.00, -999.000,9, -999.000,   -999.0,9,   -999.0,  -999.00,9,   0.1270,2,   0.0873,2,   0.0475,2,   0.0334,2,   0.0099,2,   0.0015,3,  -0.0012,4,   0.0141,2,   0.0156,3,   0.6702,   1.1339,2