BOTTLE,20150630SIOCCHRJL
EXPOCODE,SECT_ID,STNNBR,CASTNO,SAMPNO,BTLNBR,BTLNBR_FLAG_W,DATE,TIME,LATITUDE,LONGITUDE,DEPTH,CTDRAW,CTDPRS,CTDTMP,CTDSAL,CTDSAL_FLAG_W,SALNTY,SALNTY_FLAG_W,CTDOXY,CTDOXY_FLAG_W,OXYGEN,OXYGEN_FLAG_W,SILCAT,SILCAT_FLAG_W,NITRAT,NITRAT_FLAG_W,NITRIT,NITRIT_FLAG_W,PHSPHT,PHSPHT_FLAG_W,CFC-11,CFC-11_FLAG_W,CFC-12,CFC-12_FLAG_W,CFC113,CFC113_FLAG_W,TCARBN,TCARBN_FLAG_W,ALKALI,ALKALI_FLAG_W,PH_SWS,PH_SWS_FLAG_W,PH_TMP,DOC,DOC_FLAG_W,TDN,TDN_FLAG_W,TRITUM,TRITUM_FLAG_W,TRITER,HELIUM,HELIUM_FLAG_W,HELIER,DELHE3,DELHE3_FLAG_W,DELHER,NEON,NEON_FLAG_W,NEONER,DELC14,DELC14_FLAG_W,C14ERR,DELC13,DELC13_FLAG_W,CDOM325,CDOM325_FLAG_W,CDOM340,CDOM340_FLAG_W,CDOM380,CDOM380_FLAG_W,CDOM412,CDOM412_FLAG_W,CDOM443,CDOM443_FLAG_W,CDOM490,CDOM490_FLAG_W,CDOM555,CDOM555_FLAG_W,CDOMSL,CDOMSL_FLAG_W,CDOMSN,CDOMSN_FLAG_W,THETA,SBE35,SBE35_FLAG_W
,,,,,,,,,,,METERS,,DBAR,ITS-90,PSS-78,,PSS-78,,UMOL/KG,,UMOL/KG,,UMOL/KG,,UMOL/KG,,UMOL/KG,,UMOL/KG,,PMOL/KG,,PMOL/KG,,PMOL/KG,,UMOL/KG,,UMOL/KG,,,,DEG C,UMOL/KG,,UMOL/KG,,TU,,TU,NMOL/KG,,NMOL/KG,PERCNT,,PERCNT,NMOL/KG,,NMOL/KG,/MILLE,,/MILLE,/MILLE,,1/M,,1/M,,1/M,,1/M,,1/M,,1/M,,1/M,,1/NM,,1/NM,,DEG C,ITS-90,
  33RR20070322,  I09N,    99,  2,     36,     38,2,20070329,1754,-22.4537,  94.9880, 5146,   3.1000,      3.1,  24.7014,  35.6446,2,  35.6461,2,    209.2,2,    210.3,2,     2.08,2,     0.01,2,     0.00,2,     0.11,2,    1.698,2,    1.146,2,    0.170,3,   2009.6,6,   2333.2,6,   8.0487,6,    25.00,     73.1,2,     5.89,2, -999.000,9, -999.000,-999.0000,9,-999.0000,  -999.00,9,  -999.00, -999.000,9, -999.000,   -999.0,9,   -999.0,  -999.00,9,   0.0523,2,   0.0333,2,   0.0170,2,   0.0134,2,  -0.0046,4,  -0.0047,4,  -0.0044,4,   0.0075,3,   0.0186,3,  24.7007,  24.6964,2
  33RR20070322,  I09N,    99,  2,     35,     35,2,20070329,1754,-22.4537,  94.9880, 5146,  41.8000,     41.8,  24.7097,  35.6441,2,  35.6476,2,    210.4,2,    209.9,2,     2.08,2,     0.01,2,     0.00,2,     0.10,2,    1.697,2,    1.118,2,    0.188,3,   2008.6,2,   2333.2,2,   8.0580,3,    25.00,     69.7,2,     4.64,2, -999.000,9, -999.000,-999.0000,9,-999.0000,  -999.00,9,  -999.00, -999.000,9, -999.000,     52.6,2,      2.5,     0.97,2,   0.0455,2,   0.0306,2,   0.0157,2,   0.0126,2,  -0.0052,4,  -0.0050,4,  -0.0046,4,   0.0068,3,   0.0175,3,  24.7007,  24.7021,2
  33RR20070322,  I09N,    99,  2,     34,   9419,2,20070329,1754,-22.4537,  94.9880, 5146,  76.3000,     76.3,  21.9532,  35.7162,2,  35.7167,2,    230.3,2,    230.5,2,     2.28,2,     0.01,2,     0.00,2,     0.09,2,    2.046,2,    1.313,2,    0.197,3,   2026.3,2,   2336.7,2,   8.0230,3,    25.00,     68.5,2,     4.32,2, -999.000,9, -999.000,-999.0000,9,-999.0000,  -999.00,9,  -999.00, -999.000,9, -999.000,     64.3,2,      2.3,     1.03,2,   0.1013,2,   0.0692,2,   0.0324,2,   0.0226,2,   0.0009,3,  -0.0017,4,  -0.0028,4,   0.0119,3,   0.0185,3,  21.9381,  21.9460,2
  33RR20070322,  I09N,    99,  2,     33,     33,2,20070329,1754,-22.4537,  94.9880, 5146,  96.5000,     96.5,  20.8078,  35.7756,2,  35.7757,2,    225.5,2,    224.3,2,     2.46,2,     0.01,2,     0.00,2,     0.11,2,    2.096,2,    1.368,2,    0.188,3,   2039.5,2,   -999.0,5,   8.0400,4,    25.00,     67.4,2,     5.15,2, -999.000,9, -999.000,-999.0000,9,-999.0000,  -999.00,9,  -999.00, -999.000,9, -999.000,     60.5,2,      2.3,     0.96,2,   0.1177,2,   0.0824,2,   0.0404,2,   0.0294,2,   0.0047,2,  -0.0002,4,  -0.0020,4,   0.0121,3,   0.0170,3,  20.7894,  20.8233,2
  33RR20070322,  I09N,    99,  2,     32,     37,2,20070329,1754,-22.4537,  94.9880, 5146, 125.9000,    125.9,  19.8017,  35.8305,2,  35.8316,2,    218.5,2,    214.5,2,     2.46,2,     0.25,2,     0.07,2,     0.15,2,    2.158,2,    1.415,2,    0.179,3,   2057.9,2,   2345.7,2,   7.9890,2,    25.00,     63.3,2,     3.41,2, -999.000,9, -999.000,-999.0000,9,-999.0000,  -999.00,9,  -999.00, -999.000,9, -999.000,     49.6,2,      3.9,     0.92,2,   0.1038,2,   0.0751,2,   0.0396,2,   0.0304,2,   0.0047,2,  -0.0007,4,  -0.0023,4,   0.0115,4,   0.0152,4,  19.7785,  19.8052,2
  33RR20070322,  I09N,    99,  2,     31,     31,2,20070329,1754,-22.4537,  94.9880, 5146, 147.2000,    147.2,  19.2712,  35.8666,2,  35.8737,2,    217.9,2,    216.2,2,     2.26,2,     0.18,2,     0.10,2,     0.16,2,    2.224,2,    1.455,2,    0.167,3,   2065.6,2,   2349.4,2,   7.9800,3,    25.00,     61.2,2,     4.02,2, -999.000,9, -999.000,-999.0000,9,-999.0000,  -999.00,9,  -999.00, -999.000,9, -999.000,     60.5,2,      3.8,     1.11,2,   0.1018,2,   0.0740,2,   0.0391,2,   0.0298,2,   0.0042,3,  -0.0010,4,  -0.0023,4,   0.0116,3,   0.0152,3,  19.2446,  19.3167,2
  33RR20070322,  I09N,    99,  2,     30,     30,2,20070329,1754,-22.4537,  94.9880, 5146, 176.2000,    176.2,  18.6055,  35.8735,2,  35.8737,2,    209.5,2,    209.5,2,     2.45,2,     1.46,2,     0.02,2,     0.22,2,    2.270,2,    1.470,2,    0.120,3,   2078.2,2,   2348.7,2,   7.8063,4,    25.00,     56.9,2,     4.73,2, -999.000,9, -999.000,-999.0000,9,-999.0000,  -999.00,9,  -999.00, -999.000,9, -999.000,     66.6,2,      3.5,     0.90,2,   0.0905,2,   0.0653,2,   0.0355,2,   0.0280,2,   0.0034,3,  -0.0012,4,  -0.0024,4,   0.0134,2,   0.0146,2,  18.5744,  18.5975,2
  33RR20070322,  I09N,    99,  2,     29,     29,2,20070329,1754,-22.4537,  94.9880, 5146, 226.2000,    226.2,  17.0262,  35.8055,2,  35.8087,2,    213.8,2,    214.7,2,     2.26,2,     2.05,2,     0.01,2,     0.28,2,    2.476,2,    1.556,2,    0.089,3,   2092.6,2,   2346.3,2,   7.9310,3,    25.00,     55.1,2,     5.10,2, -999.000,9, -999.000,-999.0000,9,-999.0000,  -999.00,9,  -999.00, -999.000,9, -999.000,     69.0,2,      3.4,     1.01,2,   0.0878,2,   0.0635,2,   0.0340,2,   0.0263,2,   0.0023,3,  -0.0019,4,  -0.0029,4,   0.0138,2,   0.0150,2,  16.9886,  17.0314,2
  33RR20070322,  I09N,    99,  2,     28,     28,2,20070329,1754,-22.4537,  94.9880, 5146, 276.7000,    276.7,  15.4797,  35.6384,2,  35.6322,2,    218.2,2,    220.2,2,     2.25,2,     3.62,2,     0.00,2,     0.39,2,    2.703,2,    1.680,2,    0.111,3,   2102.0,2,   2338.6,2,   7.9050,3,    25.00,     51.9,2,     6.70,2, -999.000,9, -999.000,-999.0000,9,-999.0000,  -999.00,9,  -999.00, -999.000,9, -999.000,     66.0,2,      3.3,     1.10,2,   0.0852,2,   0.0616,2,   0.0329,2,   0.0252,2,   0.0016,3,  -0.0025,4,  -0.0033,4,   0.0140,2,   0.0152,2,  15.4366,  15.4767,2
  33RR20070322,  I09N,    99,  2,     27,     27,2,20070329,1754,-22.4537,  94.9880, 5146, 326.2000,    326.2,  13.8033,  35.4046,2,  35.4008,2,    224.7,2,    225.9,2,     2.25,2,     5.93,2,     0.00,2,     0.54,2,    2.963,2,    1.803,2,    0.109,3,   2109.7,2,   2327.3,2,   7.7712,4,    25.00,     50.2,2,     9.14,2, -999.000,9, -999.000,-999.0000,9,-999.0000,  -999.00,9,  -999.00, -999.000,9, -999.000,     61.2,2,      3.9,     1.17,2,   0.0813,2,   0.0579,2,   0.0314,2,   0.0243,2,   0.0015,3,  -0.0026,4,  -0.0035,4,   0.0136,2,   0.0150,2,  13.7562,  13.7766,2
  33RR20070322,  I09N,    99,  2,     26,     26,2,20070329,1754,-22.4537,  94.9880, 5146, 376.4000,    376.4,  12.5659,  35.2058,2,  35.2102,2,    229.8,2,    230.4,2,     2.64,2,     8.17,2,     0.00,2,     0.66,2,    3.140,2,    1.903,2,    0.119,3,   2114.1,2,   2314.9,2,   8.2098,4,    25.00,     49.0,2,    11.30,2, -999.000,9, -999.000,-999.0000,9,-999.0000,  -999.00,9,  -999.00, -999.000,9, -999.000,     62.7,2,      3.2,     1.16,2,   0.0774,2,   0.0545,2,   0.0294,2,   0.0225,2,   0.0009,3,  -0.0027,4,  -0.0034,4,   0.0135,2,   0.0153,2,  12.5148,  12.5615,2
  33RR20070322,  I09N,    99,  2,     25,     25,2,20070329,1754,-22.4537,  94.9880, 5146, 427.0000,    427.0,  11.6022,  35.0476,2,  35.0418,2,    234.0,2,    234.8,2,     3.22,2,    10.42,2,     0.00,2,     0.80,2,    3.350,2,    1.967,2,    0.116,3,   2115.3,2,   -999.0,9,   7.8662,2,    25.00,     48.4,2,    13.79,2, -999.000,9, -999.000,-999.0000,9,-999.0000,  -999.00,9,  -999.00, -999.000,9, -999.000,   -999.0,9,   -999.0,  -999.00,9,   0.0732,2,   0.0509,2,   0.0283,2,   0.0218,2,   0.0007,3,  -0.0029,4,  -0.0036,4,   0.0132,2,   0.0149,2,  11.5471,  11.5996,2
  33RR20070322,  I09N,    99,  2,     24,     24,2,20070329,1754,-22.4537,  94.9880, 5146, 476.1000,    476.1,  10.6567,  34.8965,2,  34.9029,2,    237.7,2,    238.5,2,     3.63,2,    12.28,2,     0.00,2,     0.92,2,    3.492,2,    2.031,2,    0.156,3,   2119.5,2,   2281.3,3,   7.8507,2,    25.00,     47.0,2,    16.11,2, -999.000,9, -999.000,-999.0000,9,-999.0000,  -999.00,9,  -999.00, -999.000,9, -999.000,     57.3,2,      3.2,     1.18,2,   0.0720,2,   0.0493,2,   0.0272,2,   0.0213,2,   0.0006,3,  -0.0029,4,  -0.0036,4,   0.0131,2,   0.0151,3,  10.5985,  10.6799,2
  33RR20070322,  I09N,    99,  2,     23,     23,2,20070329,1754,-22.4537,  94.9880, 5146, 526.2000,    526.2,  10.1056,  34.8091,2,  34.8185,2,    239.8,2,    239.9,2,     4.02,2,    13.64,2,     0.00,2,     1.00,2,    3.564,2,    2.020,2,    0.162,3,   2120.9,2,   -999.0,9,   7.7891,2,    25.00,     45.5,2,    16.56,2, -999.000,9, -999.000,-999.0000,9,-999.0000,  -999.00,9,  -999.00, -999.000,9, -999.000,   -999.0,9,   -999.0,  -999.00,9,   0.0715,2,   0.0490,2,   0.0275,2,   0.0214,2,   0.0010,3,  -0.0027,4,  -0.0035,4,   0.0129,2,   0.0148,2,  10.0432,  10.1146,2
  33RR20070322,  I09N,    99,  2,     22,     22,2,20070329,1754,-22.4537,  94.9880, 5146, 647.1000,    647.1,   8.7974,  34.6260,2,  34.6308,2,    232.3,2,    227.6,2,     7.18,2,    18.58,2,     0.00,2,     1.31,2,    3.319,2,    1.805,2,    0.158,3,   2135.9,2,   2289.0,2,   7.7440,3,    25.00,     44.5,2,    21.13,2, -999.000,9, -999.000,-999.0000,9,-999.0000,  -999.00,9,  -999.00, -999.000,9, -999.000,     49.0,2,      3.2,     1.24,2,   0.0763,2,   0.0517,2,   0.0290,2,   0.0225,2,   0.0016,3,  -0.0027,4,  -0.0036,4,   0.0131,2,   0.0151,3,   8.7266,   8.7964,2
  33RR20070322,  I09N,    99,  2,     21,     21,2,20070329,1754,-22.4537,  94.9880, 5146, 746.9000,    746.9,   7.3576,  34.5038,2,  34.5090,2,    210.6,2,    204.7,2,    15.12,2,    23.96,2,     0.00,2,     1.66,2,    2.254,2,    1.187,2,    0.090,3,   2157.6,2,   -999.0,9,-999.0000,5,    25.00,     43.7,2,    26.19,2, -999.000,9, -999.000,-999.0000,9,-999.0000,  -999.00,9,  -999.00, -999.000,9, -999.000,   -999.0,9,   -999.0,  -999.00,9,   0.0880,2,   0.0604,2,   0.0343,2,   0.0264,2,   0.0047,2,  -0.0009,4,  -0.0027,4,   0.0130,2,   0.0145,3,   7.2834,   7.3796,2
  33RR20070322,  I09N,    99,  2,     20,     20,2,20070329,1754,-22.4537,  94.9880, 5146, 846.7000,    846.7,   5.6588,  34.4394,2,  34.4387,2,    185.1,2,    180.9,2,    32.79,2,    29.72,2,     0.00,2,     2.07,2,    1.110,2,    0.575,2,    0.050,3,   2194.9,2,   2301.2,2,   7.6180,3,    25.00,     42.8,2,    32.26,2, -999.000,9, -999.000,-999.0000,9,-999.0000,  -999.00,9,  -999.00, -999.000,9, -999.000,    -72.6,6,      3.3,     0.92,6,   0.1017,2,   0.0700,2,   0.0402,2,   0.0305,2,   0.0071,2,  -0.0004,4,  -0.0028,4,   0.0134,2,   0.0145,3,   5.5850,   5.6647,2
  33RR20070322,  I09N,    99,  2,     19,     19,2,20070329,1754,-22.4537,  94.9880, 5146, 947.2000,    947.2,   4.9126,  34.5116,2,  34.5112,2,    149.2,2,    142.6,2,    58.83,2,    33.55,2,     0.00,2,     2.41,2,    0.307,2,    0.138,2,    0.011,3,   2239.6,2,   -999.0,9,   7.5698,2,    25.00,     42.2,2,    35.96,2, -999.000,9, -999.000,-999.0000,9,-999.0000,  -999.00,9,  -999.00, -999.000,9, -999.000,   -999.0,9,   -999.0,  -999.00,9,   0.1215,2,   0.0850,2,   0.0488,2,   0.0367,2,   0.0115,2,   0.0017,3,  -0.0018,4,   0.0136,3,   0.0143,3,   4.8347,   4.9141,2
  33RR20070322,  I09N,    99,  2,     18,     18,2,20070329,1754,-22.4537,  94.9880, 5146,1047.0000,   1047.0,   4.5773,  34.5612,2,  34.5614,2,    133.9,2,    127.1,2,    72.80,2,    34.87,2,     0.00,2,     2.53,2,    0.114,2,    0.058,2,    0.002,3,   2261.1,2,   -999.0,5,   7.2359,4,    25.00,     41.6,2,    36.75,2, -999.000,9, -999.000,-999.0000,9,-999.0000,  -999.00,9,  -999.00, -999.000,9, -999.000,   -148.5,2,      2.7,     0.45,2,   0.1377,2,   0.0984,2,   0.0579,2,   0.0436,2,   0.0157,2,   0.0030,3,  -0.0014,4,   0.0138,3,   0.0138,3,   4.4930,   4.5738,2
  33RR20070322,  I09N,    99,  2,     17,     17,2,20070329,1754,-22.4537,  94.9880, 5146,1148.6000,   1148.6,   4.2798,  34.5988,2,  34.6001,2,    121.5,2,    121.4,2,    82.00,2,    35.60,2,     0.00,2,     2.58,2,    0.051,2,    0.019,2,   -0.002,3,   2273.3,6,   -999.0,9,   7.4905,2,    25.00,     41.5,2,    37.28,2, -999.000,9, -999.000,-999.0000,9,-999.0000,  -999.00,9,  -999.00, -999.000,9, -999.000,   -999.0,9,   -999.0,  -999.00,9,   0.1401,2,   0.0997,2,   0.0582,2,   0.0430,2,   0.0158,2,   0.0034,2,  -0.0010,4,   0.0137,3,   0.0140,3,   4.1890,   4.2751,2
  33RR20070322,  I09N,    99,  2,     16,     16,2,20070329,1754,-22.4537,  94.9880, 5146,1248.1000,   1248.1,   3.8865,  34.6155,2,  34.6146,2,    127.2,2,    126.2,2,    85.40,2,    35.43,2,     0.00,2,     2.57,2, -999.000,9, -999.000,9, -999.000,9,   2276.0,2,   2354.4,6,   7.5420,6,    25.00,     40.9,2,    36.60,2, -999.000,9, -999.000,-999.0000,9,-999.0000,  -999.00,9,  -999.00, -999.000,9, -999.000,   -167.3,2,      2.4,     0.41,2,   0.1417,2,   0.1004,2,   0.0590,2,   0.0446,2,   0.0168,2,   0.0037,2,  -0.0008,4,   0.0136,3,   0.0138,3,   3.7906,   3.8910,2
  33RR20070322,  I09N,    99,  2,     15,     15,2,20070329,1754,-22.4537,  94.9880, 5146,1349.4000,   1349.4,   3.6124,  34.6330,2,  34.6323,2,    130.4,2,    130.0,2,    89.00,2,    35.22,2,     0.00,2,     2.56,2,    0.019,2,    0.007,2, -999.000,5,   2278.2,2,   -999.0,9,   7.5463,2,    25.00,     41.0,2,    36.85,2, -999.000,9, -999.000,-999.0000,9,-999.0000,  -999.00,9,  -999.00, -999.000,9, -999.000,   -999.0,9,   -999.0,  -999.00,9,   0.1365,2,   0.0964,2,   0.0544,2,   0.0396,2,   0.0131,2,   0.0024,3,  -0.0012,4,   0.0141,2,   0.0147,3,   3.5105,   3.6126,2
  33RR20070322,  I09N,    99,  2,     14,     14,2,20070329,1754,-22.4537,  94.9880, 5146,1450.6000,   1450.6,   3.3282,  34.6536,2,  34.6539,2,    135.3,2,    135.0,2,    92.61,2,    35.05,2,     0.00,2,     2.53,2, -999.000,9, -999.000,9, -999.000,9,   2279.8,2,   -999.0,9,   7.5052,2,    25.00,     41.1,2,    36.77,2, -999.000,9, -999.000,-999.0000,9,-999.0000,  -999.00,9,  -999.00, -999.000,9, -999.000,   -999.0,9,   -999.0,  -999.00,9,   0.1415,2,   0.1008,2,   0.0586,2,   0.0437,2,   0.0161,2,   0.0035,3,  -0.0008,4,   0.0137,3,   0.0140,3,   3.2206,   3.3298,2
  33RR20070322,  I09N,    99,  2,     13,     13,2,20070329,1754,-22.4537,  94.9880, 5146,1550.6000,   1550.6,   3.0988,  34.6739,2,  34.6740,2,    136.7,2,    138.8,2,    97.01,2,    34.73,2,     0.00,2,     2.52,2,    0.008,2,    0.004,2, -999.000,5,   2283.3,2,   -999.0,9,   7.5189,2,    25.00,     40.9,2,    36.48,2, -999.000,9, -999.000,-999.0000,9,-999.0000,  -999.00,9,  -999.00, -999.000,9, -999.000,   -999.0,9,   -999.0,  -999.00,9,   0.1426,2,   0.1014,2,   0.0586,2,   0.0434,2,   0.0164,2,   0.0040,2,  -0.0005,4,   0.0136,3,   0.0141,3,   2.9853,   3.0995,2
  33RR20070322,  I09N,    99,  2,     12,     12,2,20070329,1754,-22.4537,  94.9880, 5146,1752.1000,   1752.1,   2.7566,  34.7052,2,  34.7046,2,    144.3,2,    144.9,2,   103.85,2,    34.51,2,     0.00,2,     2.48,2, -999.000,9, -999.000,9, -999.000,9,   2287.3,2,   2374.3,2,   7.5570,3,    25.00,     40.9,2,    35.54,2, -999.000,9, -999.000,-999.0000,9,-999.0000,  -999.00,9,  -999.00, -999.000,9, -999.000,   -187.0,2,      2.9,     0.41,2,   0.1406,2,   0.0997,2,   0.0572,2,   0.0421,2,   0.0150,2,   0.0032,2,  -0.0007,4,   0.0138,2,   0.0143,3,   2.6301,   2.7569,2
  33RR20070322,  I09N,    99,  2,     11,     11,2,20070329,1754,-22.4537,  94.9880, 5146,1953.7000,   1953.7,   2.4444,  34.7164,2,  34.7164,2,    152.7,2,    153.8,2,   107.26,2,    33.92,2,     0.00,2,     2.43,2,    0.006,2,    0.002,2, -999.000,5,   2285.5,2,   -999.0,9,   7.5772,2,    25.00,     40.4,2,    35.41,2, -999.000,9, -999.000,-999.0000,9,-999.0000,  -999.00,9,  -999.00, -999.000,9, -999.000,   -999.0,9,   -999.0,  -999.00,9,   0.1411,2,   0.1000,2,   0.0572,2,   0.0426,2,   0.0158,2,   0.0037,2,  -0.0003,4,   0.0136,3,   0.0142,3,   2.3049,   2.4451,2
  33RR20070322,  I09N,    99,  2,     10,     10,2,20070329,1754,-22.4537,  94.9880, 5146,2115.6000,   2115.6,   2.2381,  34.7229,2,  34.7249,2,    156.8,2,    157.6,2,   111.90,2,    33.86,2,     0.00,2,     2.42,2, -999.000,9, -999.000,9, -999.000,9,   2287.9,2,   -999.0,9,   7.5623,2,    25.00,     40.7,2,    35.50,2, -999.000,9, -999.000,-999.0000,9,-999.0000,  -999.00,9,  -999.00, -999.000,9, -999.000,   -999.0,9,   -999.0,  -999.00,9,   0.1390,2,   0.0983,2,   0.0562,2,   0.0411,2,   0.0146,2,   0.0032,2,  -0.0006,4,   0.0138,2,   0.0144,3,   2.0877,   2.2389,2
  33RR20070322,  I09N,    99,  2,      9,      9,2,20070329,1754,-22.4537,  94.9880, 5146,2368.0000,   2368.0,   2.0117,  34.7273,2,  34.7270,2,    163.3,2,    164.5,2,   115.13,2,    33.59,2,     0.00,2,     2.39,2,    0.008,2,    0.003,2, -999.000,5,   2288.5,2,   -999.0,9,   7.6148,2,    25.00,     41.2,2,    34.73,2, -999.000,9, -999.000,-999.0000,9,-999.0000,  -999.00,9,  -999.00, -999.000,9, -999.000,   -999.0,9,   -999.0,  -999.00,9,   0.1370,2,   0.0966,2,   0.0543,2,   0.0393,2,   0.0135,2,   0.0027,3,  -0.0008,4,   0.0139,2,   0.0147,3,   1.8428,   2.0119,2
  33RR20070322,  I09N,    99,  2,      8,      8,2,20070329,1754,-22.4537,  94.9880, 5146,2621.2000,   2621.2,   1.8308,  34.7282,2,  34.7286,2,    170.4,2,    170.3,2,   117.14,2,    33.38,2,     0.00,2,     2.37,2, -999.000,9, -999.000,9, -999.000,9,   2286.4,2,   2386.1,2,   7.5900,3,    25.00,     40.4,2,    34.84,2, -999.000,9, -999.000,-999.0000,9,-999.0000,  -999.00,9,  -999.00, -999.000,9, -999.000,   -999.0,9,   -999.0,  -999.00,9,   0.1371,2,   0.0967,2,   0.0551,2,   0.0404,2,   0.0145,2,   0.0035,2,  -0.0003,4,   0.0136,2,   0.0144,3,   1.6423,   1.8310,2
  33RR20070322,  I09N,    99,  2,      7,      7,2,20070329,1754,-22.4537,  94.9880, 5146,2874.1000,   2874.1,   1.6916,  34.7280,2,  34.7291,2,    176.8,2,    175.8,2,   118.75,2,    32.95,2,     0.00,2,     2.35,2,    0.007,2,    0.002,2, -999.000,5,   2284.9,6,   -999.0,9,   7.6174,2,    25.00,     40.9,2,    34.22,2, -999.000,9, -999.000,-999.0000,9,-999.0000,  -999.00,9,  -999.00, -999.000,9, -999.000,   -999.0,9,   -999.0,  -999.00,9,   0.1346,2,   0.0945,2,   0.0537,2,   0.0393,2,   0.0134,2,   0.0027,3,  -0.0007,4,   0.0138,2,   0.0146,3,   1.4823,   1.6914,2
  33RR20070322,  I09N,    99,  2,      6,      6,2,20070329,1754,-22.4537,  94.9880, 5146,3126.6000,   3126.6,   1.5736,  34.7275,2,  34.7280,2,    180.8,2,    181.3,2,   118.95,2,    32.84,2,     0.00,2,     2.32,2, -999.000,9, -999.000,9, -999.000,9,   2282.2,2,   -999.0,9,   7.5634,2,    25.00,     40.8,2,    34.52,2, -999.000,9, -999.000,-999.0000,9,-999.0000,  -999.00,9,  -999.00, -999.000,9, -999.000,   -999.0,9,   -999.0,  -999.00,9,   0.1334,2,   0.0933,2,   0.0525,2,   0.0382,2,   0.0128,2,   0.0026,3,  -0.0007,4,   0.0138,2,   0.0147,3,   1.3427,   1.5745,2
  33RR20070322,  I09N,    99,  2,      5,      5,2,20070329,1754,-22.4537,  94.9880, 5146,3533.8000,   3533.8,   1.3773,  34.7226,2,  34.7217,2,    186.5,2,    186.1,2,   123.19,2,    32.83,2,     0.00,2,     2.32,2,    0.011,2,    0.005,2, -999.000,5,   2283.0,2,   -999.0,9,   7.5884,2,    25.00,     40.5,2,    34.15,2, -999.000,9, -999.000,-999.0000,9,-999.0000,  -999.00,9,  -999.00, -999.000,9, -999.000,   -999.0,9,   -999.0,  -999.00,9,   0.1315,2,   0.0920,2,   0.0511,2,   0.0370,2,   0.0122,2,   0.0025,3,  -0.0007,4,   0.0138,2,   0.0149,3,   1.1105,   1.3773,2