BOTTLE,20150630SIOCCHRJL
EXPOCODE,SECT_ID,STNNBR,CASTNO,SAMPNO,BTLNBR,BTLNBR_FLAG_W,DATE,TIME,LATITUDE,LONGITUDE,DEPTH,CTDRAW,CTDPRS,CTDTMP,CTDSAL,CTDSAL_FLAG_W,SALNTY,SALNTY_FLAG_W,CTDOXY,CTDOXY_FLAG_W,OXYGEN,OXYGEN_FLAG_W,SILCAT,SILCAT_FLAG_W,NITRAT,NITRAT_FLAG_W,NITRIT,NITRIT_FLAG_W,PHSPHT,PHSPHT_FLAG_W,CFC-11,CFC-11_FLAG_W,CFC-12,CFC-12_FLAG_W,CFC113,CFC113_FLAG_W,TCARBN,TCARBN_FLAG_W,ALKALI,ALKALI_FLAG_W,PH_SWS,PH_SWS_FLAG_W,PH_TMP,DOC,DOC_FLAG_W,TDN,TDN_FLAG_W,TRITUM,TRITUM_FLAG_W,TRITER,HELIUM,HELIUM_FLAG_W,HELIER,DELHE3,DELHE3_FLAG_W,DELHER,NEON,NEON_FLAG_W,NEONER,DELC14,DELC14_FLAG_W,C14ERR,DELC13,DELC13_FLAG_W,CDOM325,CDOM325_FLAG_W,CDOM340,CDOM340_FLAG_W,CDOM380,CDOM380_FLAG_W,CDOM412,CDOM412_FLAG_W,CDOM443,CDOM443_FLAG_W,CDOM490,CDOM490_FLAG_W,CDOM555,CDOM555_FLAG_W,CDOMSL,CDOMSL_FLAG_W,CDOMSN,CDOMSN_FLAG_W,THETA,SBE35,SBE35_FLAG_W
,,,,,,,,,,,METERS,,DBAR,ITS-90,PSS-78,,PSS-78,,UMOL/KG,,UMOL/KG,,UMOL/KG,,UMOL/KG,,UMOL/KG,,UMOL/KG,,PMOL/KG,,PMOL/KG,,PMOL/KG,,UMOL/KG,,UMOL/KG,,,,DEG C,UMOL/KG,,UMOL/KG,,TU,,TU,NMOL/KG,,NMOL/KG,PERCNT,,PERCNT,NMOL/KG,,NMOL/KG,/MILLE,,/MILLE,/MILLE,,1/M,,1/M,,1/M,,1/M,,1/M,,1/M,,1/M,,1/NM,,1/NM,,DEG C,ITS-90,
  33RR20070322,  I09N,   127,  2,      4,      4,2,20070407,1906, -7.1355,  95.0023, 5179,4090.8000,   4090.8,   1.1512,  34.7155,2,  34.7146,2,    192.6,2,    192.8,2,   127.20,2,    32.62,2,     0.00,2,     2.27,2, -999.000,9, -999.000,9, -999.000,9,   2287.5,2,   2399.7,2,   7.6186,2,    25.00,     40.8,2,  -999.00,9, -999.000,9, -999.000,-999.0000,9,-999.0000,  -999.00,9,  -999.00, -999.000,9, -999.000,   -178.1,2,      2.4,     0.52,2,   0.1319,2,   0.0919,2,   0.0506,2,   0.0362,2,   0.0118,2,   0.0024,3,  -0.0007,4,   0.0139,2,   0.0151,3,   0.8321,   1.1518,2
  33RR20070322,  I09N,   127,  2,      3,      3,2,20070407,1906, -7.1355,  95.0023, 5179,4497.8000,   4497.8,   1.1529,  34.7145,2,  34.7140,2,    195.9,2,    195.6,2,   126.63,2,    32.41,2,     0.00,2,     2.26,2, -999.000,9, -999.000,9, -999.000,9,   2284.4,2,   2395.2,2,   7.6316,2,    25.00,     39.9,2,  -999.00,9, -999.000,9, -999.000,-999.0000,9,-999.0000,  -999.00,9,  -999.00, -999.000,9, -999.000,   -174.0,2,      2.7,     0.52,2,   0.1295,2,   0.0896,2,   0.0488,2,   0.0347,2,   0.0108,2,   0.0020,3,  -0.0009,4,   0.0140,2,   0.0154,3,   0.7887,   1.1531,2
  33RR20070322,  I09N,   127,  2,      2,      2,2,20070407,1906, -7.1355,  95.0023, 5179,4904.9000,   4904.9,   1.1877,  34.7144,2,  34.7134,2,    197.0,2,    196.7,2,   126.07,2,    32.30,2,     0.00,2,     2.25,2, -999.000,9, -999.000,9, -999.000,9,   -999.0,5,   2394.5,2,   7.6386,2,    25.00,     40.6,2,  -999.00,9, -999.000,9, -999.000,-999.0000,9,-999.0000,  -999.00,9,  -999.00, -999.000,9, -999.000,   -173.0,2,      2.8,     0.53,2,   0.1293,2,   0.0897,2,   0.0492,2,   0.0350,2,   0.0109,2,   0.0019,3,  -0.0010,4,   0.0140,2,   0.0153,3,   0.7751,   1.1881,2
  33RR20070322,  I09N,   127,  2,      1,      1,2,20070407,1906, -7.1355,  95.0023, 5179,5268.7000,   5268.7,   1.2287,  34.7140,2,  34.7140,2,    197.4,2,    197.7,2,   125.89,2,    32.30,2,     0.00,2,     2.24,2,    0.007,2,    0.004,2, -999.000,5,   2280.6,6,   2394.7,6,   7.6589,6,    25.00,     40.6,2,  -999.00,9, -999.000,9, -999.000,-999.0000,9,-999.0000,  -999.00,9,  -999.00, -999.000,9, -999.000,   -174.2,2,      2.8,     0.53,2,   0.1321,2,   0.0918,2,   0.0500,2,   0.0356,2,   0.0113,2,   0.0019,3,  -0.0011,4,   0.0141,2,   0.0154,3,   0.7706,   1.2288,2