BOTTLE,20150630SIOCCHRJL
EXPOCODE,SECT_ID,STNNBR,CASTNO,SAMPNO,BTLNBR,BTLNBR_FLAG_W,DATE,TIME,LATITUDE,LONGITUDE,DEPTH,CTDRAW,CTDPRS,CTDTMP,CTDSAL,CTDSAL_FLAG_W,SALNTY,SALNTY_FLAG_W,CTDOXY,CTDOXY_FLAG_W,OXYGEN,OXYGEN_FLAG_W,SILCAT,SILCAT_FLAG_W,NITRAT,NITRAT_FLAG_W,NITRIT,NITRIT_FLAG_W,PHSPHT,PHSPHT_FLAG_W,CFC-11,CFC-11_FLAG_W,CFC-12,CFC-12_FLAG_W,CFC113,CFC113_FLAG_W,TCARBN,TCARBN_FLAG_W,ALKALI,ALKALI_FLAG_W,PH_SWS,PH_SWS_FLAG_W,PH_TMP,DOC,DOC_FLAG_W,TDN,TDN_FLAG_W,TRITUM,TRITUM_FLAG_W,TRITER,HELIUM,HELIUM_FLAG_W,HELIER,DELHE3,DELHE3_FLAG_W,DELHER,NEON,NEON_FLAG_W,NEONER,DELC14,DELC14_FLAG_W,C14ERR,DELC13,DELC13_FLAG_W,CDOM325,CDOM325_FLAG_W,CDOM340,CDOM340_FLAG_W,CDOM380,CDOM380_FLAG_W,CDOM412,CDOM412_FLAG_W,CDOM443,CDOM443_FLAG_W,CDOM490,CDOM490_FLAG_W,CDOM555,CDOM555_FLAG_W,CDOMSL,CDOMSL_FLAG_W,CDOMSN,CDOMSN_FLAG_W,THETA,SBE35,SBE35_FLAG_W
,,,,,,,,,,,METERS,,DBAR,ITS-90,PSS-78,,PSS-78,,UMOL/KG,,UMOL/KG,,UMOL/KG,,UMOL/KG,,UMOL/KG,,UMOL/KG,,PMOL/KG,,PMOL/KG,,PMOL/KG,,UMOL/KG,,UMOL/KG,,,,DEG C,UMOL/KG,,UMOL/KG,,TU,,TU,NMOL/KG,,NMOL/KG,PERCNT,,PERCNT,NMOL/KG,,NMOL/KG,/MILLE,,/MILLE,/MILLE,,1/M,,1/M,,1/M,,1/M,,1/M,,1/M,,1/M,,1/NM,,1/NM,,DEG C,ITS-90,
  33RR20070322,  I09N,   136,  1,     36,     38,2,20070410,1347, -2.8332,  94.3325, 4773,   2.3000,      2.3,  29.4621,  34.0145,2,  34.0142,2,    194.8,2,    196.7,2,     1.24,2,     0.00,2,     0.00,2,     0.08,2,    1.508,2,    0.976,2, -999.000,5,   1907.5,6,   2227.3,2,   8.0910,6,    25.00,   -999.0,9,  -999.00,9, -999.000,9, -999.000,-999.0000,9,-999.0000,  -999.00,9,  -999.00, -999.000,9, -999.000,   -999.0,9,   -999.0,  -999.00,9,-999.0000,9,-999.0000,9,-999.0000,9,-999.0000,9,-999.0000,9,-999.0000,9,-999.0000,9,-999.0000,9,-999.0000,9,  29.4615,  29.4517,2
  33RR20070322,  I09N,   136,  1,     35,     35,2,20070410,1347, -2.8332,  94.3325, 4773,  19.9000,     19.9,  29.1146,  34.0355,2,  34.0348,2,    198.3,2,    197.7,2,     1.24,2,     0.00,2,     0.00,2,     0.08,2,    1.517,2,    0.983,2, -999.000,5,   -999.0,9,   -999.0,9,-999.0000,9,  -999.00,   -999.0,9,  -999.00,9, -999.000,9, -999.000,-999.0000,9,-999.0000,  -999.00,9,  -999.00, -999.000,9, -999.000,   -999.0,9,   -999.0,  -999.00,9,-999.0000,9,-999.0000,9,-999.0000,9,-999.0000,9,-999.0000,9,-999.0000,9,-999.0000,9,-999.0000,9,-999.0000,9,  29.1098,  29.1081,2
  33RR20070322,  I09N,   136,  1,     34,   9419,2,20070410,1347, -2.8332,  94.3325, 4773,  44.9000,     44.9,  28.9120,  34.1073,2,  34.1083,2,    198.9,2,    197.0,2,     1.23,2,     0.00,2,     0.00,2,     0.08,2,    1.503,2,    0.991,2, -999.000,5,   -999.0,9,   -999.0,9,-999.0000,9,  -999.00,   -999.0,9,  -999.00,9, -999.000,9, -999.000,-999.0000,9,-999.0000,  -999.00,9,  -999.00, -999.000,9, -999.000,   -999.0,9,   -999.0,  -999.00,9,-999.0000,9,-999.0000,9,-999.0000,9,-999.0000,9,-999.0000,9,-999.0000,9,-999.0000,9,-999.0000,9,-999.0000,9,  28.9012,  28.9067,2
  33RR20070322,  I09N,   136,  1,     33,     33,2,20070410,1347, -2.8332,  94.3325, 4773,  89.7000,     89.7,  24.0606,  35.2889,2,  35.2882,2,    140.7,2,    135.3,2,     4.87,2,     7.05,2,     1.02,2,     0.73,2,    1.664,2,    1.031,2, -999.000,5,   2070.1,2,   2307.2,2,   7.9130,3,    25.00,   -999.0,9,  -999.00,9, -999.000,9, -999.000,-999.0000,9,-999.0000,  -999.00,9,  -999.00, -999.000,9, -999.000,   -999.0,9,   -999.0,  -999.00,9,-999.0000,9,-999.0000,9,-999.0000,9,-999.0000,9,-999.0000,9,-999.0000,9,-999.0000,9,-999.0000,9,-999.0000,9,  24.0417,  24.0540,2
  33RR20070322,  I09N,   136,  1,     32,     37,2,20070410,1347, -2.8332,  94.3325, 4773, 139.6000,    139.6,  18.3658,  35.1664,2,  35.1582,2,     67.5,2,     65.9,2,    14.83,2,    21.21,2,     0.02,2,     1.48,2,    1.582,2,    0.939,2, -999.000,5,   2161.3,2,   2302.3,2,   7.7164,2,    25.00,   -999.0,9,  -999.00,9, -999.000,9, -999.000,-999.0000,9,-999.0000,  -999.00,9,  -999.00, -999.000,9, -999.000,   -999.0,9,   -999.0,  -999.00,9,-999.0000,9,-999.0000,9,-999.0000,9,-999.0000,9,-999.0000,9,-999.0000,9,-999.0000,9,-999.0000,9,-999.0000,9,  18.3415,  18.3622,2
  33RR20070322,  I09N,   136,  1,     31,     31,2,20070410,1347, -2.8332,  94.3325, 4773, 163.4000,    163.4,  16.0924,  35.0892,2,  35.0910,2,     63.1,2,     62.5,2,    18.28,2,    23.50,2,     0.01,2,     1.64,2,    1.540,2,    0.871,2, -999.000,5,   -999.0,9,   -999.0,9,-999.0000,9,  -999.00,   -999.0,9,  -999.00,9, -999.000,9, -999.000,-999.0000,9,-999.0000,  -999.00,9,  -999.00, -999.000,9, -999.000,   -999.0,9,   -999.0,  -999.00,9,-999.0000,9,-999.0000,9,-999.0000,9,-999.0000,9,-999.0000,9,-999.0000,9,-999.0000,9,-999.0000,9,-999.0000,9,  16.0664,  16.0590,2
  33RR20070322,  I09N,   136,  1,     30,     30,2,20070410,1347, -2.8332,  94.3325, 4773, 189.1000,    189.1,  14.5021,  35.1327,2,  35.1333,2,     67.4,2,     68.1,2,    18.66,2,    24.41,2,     0.00,2,     1.71,2, -999.000,9, -999.000,9, -999.000,9,   -999.0,9,   -999.0,9,-999.0000,9,  -999.00,   -999.0,9,  -999.00,9, -999.000,9, -999.000,-999.0000,9,-999.0000,  -999.00,9,  -999.00, -999.000,9, -999.000,   -999.0,9,   -999.0,  -999.00,9,-999.0000,9,-999.0000,9,-999.0000,9,-999.0000,9,-999.0000,9,-999.0000,9,-999.0000,9,-999.0000,9,-999.0000,9,  14.4741,  14.4993,2
  33RR20070322,  I09N,   136,  1,     29,     29,2,20070410,1347, -2.8332,  94.3325, 4773, 238.9000,    238.9,  12.8549,  35.0743,2,  35.0741,2,     75.8,2,     77.5,2,    20.19,2,    25.22,2,     0.00,2,     1.75,2,    1.378,2,    0.750,2, -999.000,5,   2200.5,2,   2309.9,2,   7.6314,2,    25.00,   -999.0,9,  -999.00,9, -999.000,9, -999.000,-999.0000,9,-999.0000,  -999.00,9,  -999.00, -999.000,9, -999.000,   -999.0,9,   -999.0,  -999.00,9,-999.0000,9,-999.0000,9,-999.0000,9,-999.0000,9,-999.0000,9,-999.0000,9,-999.0000,9,-999.0000,9,-999.0000,9,  12.8222,  12.8552,2
  33RR20070322,  I09N,   136,  1,     28,     28,2,20070410,1347, -2.8332,  94.3325, 4773, 289.6000,    289.6,  11.8928,  35.0334,2,  35.0346,2,     80.6,2,     82.9,2,    20.95,2,    26.03,2,     0.00,2,     1.79,2, -999.000,9, -999.000,9, -999.000,9,   -999.0,9,   -999.0,9,-999.0000,9,  -999.00,   -999.0,9,  -999.00,9, -999.000,9, -999.000,-999.0000,9,-999.0000,  -999.00,9,  -999.00, -999.000,9, -999.000,   -999.0,9,   -999.0,  -999.00,9,-999.0000,9,-999.0000,9,-999.0000,9,-999.0000,9,-999.0000,9,-999.0000,9,-999.0000,9,-999.0000,9,-999.0000,9,  11.8551,  11.8931,2
  33RR20070322,  I09N,   136,  1,     27,     27,2,20070410,1347, -2.8332,  94.3325, 4773, 340.0000,    340.0,  11.2567,  34.9984,2,  34.9994,2,     81.7,2,     82.0,2,    22.87,2,    27.24,2,     0.00,2,     1.86,2,    1.062,2,    0.573,2, -999.000,5,   -999.0,9,   -999.0,9,-999.0000,9,  -999.00,   -999.0,9,  -999.00,9, -999.000,9, -999.000,-999.0000,9,-999.0000,  -999.00,9,  -999.00, -999.000,9, -999.000,   -999.0,9,   -999.0,  -999.00,9,-999.0000,9,-999.0000,9,-999.0000,9,-999.0000,9,-999.0000,9,-999.0000,9,-999.0000,9,-999.0000,9,-999.0000,9,  11.2139,  11.2560,2
  33RR20070322,  I09N,   136,  1,     26,     26,2,20070410,1347, -2.8332,  94.3325, 4773, 389.1000,    389.1,  10.7087,  34.9740,2,  34.9743,2,     73.9,2,     70.9,2,    26.51,2,    29.48,2,     0.00,2,     2.00,2, -999.000,9, -999.000,9, -999.000,9,   -999.0,9,   -999.0,9,-999.0000,9,  -999.00,   -999.0,9,  -999.00,9, -999.000,9, -999.000,-999.0000,9,-999.0000,  -999.00,9,  -999.00, -999.000,9, -999.000,   -999.0,9,   -999.0,  -999.00,9,-999.0000,9,-999.0000,9,-999.0000,9,-999.0000,9,-999.0000,9,-999.0000,9,-999.0000,9,-999.0000,9,-999.0000,9,  10.6611,  10.7124,2
  33RR20070322,  I09N,   136,  1,     25,     25,2,20070410,1347, -2.8332,  94.3325, 4773, 438.1000,    438.1,  10.1514,  34.9584,2,  34.9589,2,     69.9,2,     69.7,2,    30.55,2,    30.60,2,     0.00,2,     2.11,2,    0.565,2,    0.305,2, -999.000,5,   -999.0,9,   -999.0,9,-999.0000,9,  -999.00,   -999.0,9,  -999.00,9, -999.000,9, -999.000,-999.0000,9,-999.0000,  -999.00,9,  -999.00, -999.000,9, -999.000,   -999.0,9,   -999.0,  -999.00,9,-999.0000,9,-999.0000,9,-999.0000,9,-999.0000,9,-999.0000,9,-999.0000,9,-999.0000,9,-999.0000,9,-999.0000,9,  10.0995,  10.1510,2
  33RR20070322,  I09N,   136,  1,     24,     24,2,20070410,1347, -2.8332,  94.3325, 4773, 488.4000,    488.4,   9.8258,  34.9588,2,  34.9589,2,     72.7,2,     71.0,2,    33.61,2,    30.96,2,     0.00,2,     2.18,2, -999.000,9, -999.000,9, -999.000,9,   -999.0,9,   -999.0,9,-999.0000,9,  -999.00,   -999.0,9,  -999.00,9, -999.000,9, -999.000,-999.0000,9,-999.0000,  -999.00,9,  -999.00, -999.000,9, -999.000,   -999.0,9,   -999.0,  -999.00,9,-999.0000,9,-999.0000,9,-999.0000,9,-999.0000,9,-999.0000,9,-999.0000,9,-999.0000,9,-999.0000,9,-999.0000,9,   9.7689,   9.8279,2
  33RR20070322,  I09N,   136,  1,     23,     23,2,20070410,1347, -2.8332,  94.3325, 4773, 575.0000,    575.0,   9.3199,  34.9477,2,  34.9477,2,     64.5,2,     61.9,2,    40.34,2,    32.69,2,     0.00,2,     2.32,2,    0.327,2,    0.165,2, -999.000,5,   -999.0,9,   -999.0,9,-999.0000,9,  -999.00,   -999.0,9,  -999.00,9, -999.000,9, -999.000,-999.0000,9,-999.0000,  -999.00,9,  -999.00, -999.000,9, -999.000,   -999.0,9,   -999.0,  -999.00,9,-999.0000,9,-999.0000,9,-999.0000,9,-999.0000,9,-999.0000,9,-999.0000,9,-999.0000,9,-999.0000,9,-999.0000,9,   9.2548,   9.3205,2
  33RR20070322,  I09N,   136,  1,     22,     22,2,20070410,1347, -2.8332,  94.3325, 4773, 674.5000,    674.5,   8.5192,  34.9367,2,  34.9375,2,     54.6,2,     52.8,2,    52.07,2,    34.64,2,     0.00,2,     2.51,2, -999.000,9, -999.000,9, -999.000,9,   -999.0,9,   -999.0,9,-999.0000,9,  -999.00,   -999.0,9,  -999.00,9, -999.000,9, -999.000,-999.0000,9,-999.0000,  -999.00,9,  -999.00, -999.000,9, -999.000,   -999.0,9,   -999.0,  -999.00,9,-999.0000,9,-999.0000,9,-999.0000,9,-999.0000,9,-999.0000,9,-999.0000,9,-999.0000,9,-999.0000,9,-999.0000,9,   8.4463,   8.5185,2
  33RR20070322,  I09N,   136,  1,     21,     21,2,20070410,1347, -2.8332,  94.3325, 4773, 774.1000,    774.1,   7.8836,  34.9114,2,  34.9122,2,     51.2,2,     50.6,2,    61.89,2,    35.60,2,     0.00,2,     2.61,2,    0.055,2,    0.033,2, -999.000,5,   2278.8,2,   2343.2,2,   7.4930,6,    25.00,   -999.0,9,  -999.00,9, -999.000,9, -999.000,-999.0000,9,-999.0000,  -999.00,9,  -999.00, -999.000,9, -999.000,   -999.0,9,   -999.0,  -999.00,9,-999.0000,9,-999.0000,9,-999.0000,9,-999.0000,9,-999.0000,9,-999.0000,9,-999.0000,9,-999.0000,9,-999.0000,9,   7.8031,   7.8840,2
  33RR20070322,  I09N,   136,  1,     20,     20,2,20070410,1347, -2.8332,  94.3325, 4773, 875.4000,    875.4,   7.2907,  34.8949,2,  34.8959,2,     51.5,2,     51.8,2,    70.78,2,    36.27,2,     0.00,2,     2.67,2, -999.000,9, -999.000,9, -999.000,9,   -999.0,9,   -999.0,9,-999.0000,9,  -999.00,   -999.0,9,  -999.00,9, -999.000,9, -999.000,-999.0000,9,-999.0000,  -999.00,9,  -999.00, -999.000,9, -999.000,   -999.0,9,   -999.0,  -999.00,9,-999.0000,9,-999.0000,9,-999.0000,9,-999.0000,9,-999.0000,9,-999.0000,9,-999.0000,9,-999.0000,9,-999.0000,9,   7.2030,   7.2910,2
  33RR20070322,  I09N,   136,  1,     19,     19,2,20070410,1347, -2.8332,  94.3325, 4773, 974.9000,    974.9,   6.7815,  34.8910,2,  34.8916,2,     54.4,2,     54.1,2,    77.17,2,    36.58,2,     0.00,2,     2.70,2, -999.000,9, -999.000,9, -999.000,9,   -999.0,9,   -999.0,9,-999.0000,9,  -999.00,   -999.0,9,  -999.00,9, -999.000,9, -999.000,-999.0000,9,-999.0000,  -999.00,9,  -999.00, -999.000,9, -999.000,   -999.0,9,   -999.0,  -999.00,9,-999.0000,9,-999.0000,9,-999.0000,9,-999.0000,9,-999.0000,9,-999.0000,9,-999.0000,9,-999.0000,9,-999.0000,9,   6.6868,   6.7793,2
  33RR20070322,  I09N,   136,  1,     18,     18,2,20070410,1347, -2.8332,  94.3325, 4773,1075.5000,   1075.5,   6.1084,  34.8544,2,  34.8552,2,     61.3,2,     61.3,2,    84.53,2,    36.89,2,     0.00,2,     2.71,2,    0.013,2,    0.007,2, -999.000,5,   2302.5,2,   2367.9,6,   7.4855,2,    25.00,   -999.0,9,  -999.00,9, -999.000,9, -999.000,-999.0000,9,-999.0000,  -999.00,9,  -999.00, -999.000,9, -999.000,   -999.0,9,   -999.0,  -999.00,9,-999.0000,9,-999.0000,9,-999.0000,9,-999.0000,9,-999.0000,9,-999.0000,9,-999.0000,9,-999.0000,9,-999.0000,9,   6.0087,   6.1082,2
  33RR20070322,  I09N,   136,  1,     17,     17,2,20070410,1347, -2.8332,  94.3325, 4773,1176.3000,   1176.3,   5.6388,  34.8403,2,  34.8405,2,     67.1,2,     67.2,2,    90.56,2,    36.98,2,     0.00,2,     2.71,2, -999.000,9, -999.000,9, -999.000,9,   -999.0,9,   -999.0,9,-999.0000,9,  -999.00,   -999.0,9,  -999.00,9, -999.000,9, -999.000,-999.0000,9,-999.0000,  -999.00,9,  -999.00, -999.000,9, -999.000,   -999.0,9,   -999.0,  -999.00,9,-999.0000,9,-999.0000,9,-999.0000,9,-999.0000,9,-999.0000,9,-999.0000,9,-999.0000,9,-999.0000,9,-999.0000,9,   5.5330,   5.6386,2
  33RR20070322,  I09N,   136,  1,     16,     16,2,20070410,1347, -2.8332,  94.3325, 4773,1275.3000,   1275.3,   5.1085,  34.8382,2,  34.8383,2,     74.6,2,     75.0,2,    95.80,2,    36.92,2,     0.00,2,     2.71,2, -999.000,9, -999.000,9, -999.000,9,   -999.0,9,   -999.0,9,-999.0000,9,  -999.00,   -999.0,9,  -999.00,9, -999.000,9, -999.000,-999.0000,9,-999.0000,  -999.00,9,  -999.00, -999.000,9, -999.000,   -999.0,9,   -999.0,  -999.00,9,-999.0000,9,-999.0000,9,-999.0000,9,-999.0000,9,-999.0000,9,-999.0000,9,-999.0000,9,-999.0000,9,-999.0000,9,   4.9980,   5.1105,2
  33RR20070322,  I09N,   136,  1,     15,     15,2,20070410,1347, -2.8332,  94.3325, 4773,1376.6000,   1376.6,   4.7062,  34.8275,2,  34.8268,2,     81.9,2,     82.5,2,    99.71,2,    36.77,2,     0.00,2,     2.70,2, -999.000,9, -999.000,9, -999.000,9,   -999.0,9,   -999.0,9,-999.0000,9,  -999.00,   -999.0,9,  -999.00,9, -999.000,9, -999.000,-999.0000,9,-999.0000,  -999.00,9,  -999.00, -999.000,9, -999.000,   -999.0,9,   -999.0,  -999.00,9,-999.0000,9,-999.0000,9,-999.0000,9,-999.0000,9,-999.0000,9,-999.0000,9,-999.0000,9,-999.0000,9,-999.0000,9,   4.5901,   4.7057,2
  33RR20070322,  I09N,   136,  1,     14,     14,2,20070410,1347, -2.8332,  94.3325, 4773,1476.6000,   1476.6,   4.2192,  34.8108,2,  34.8107,2,     91.3,2,     93.3,2,   103.22,2,    36.55,2,     0.00,2,     2.66,2, -999.000,9, -999.000,9, -999.000,9,   -999.0,9,   -999.0,9,-999.0000,9,  -999.00,   -999.0,9,  -999.00,9, -999.000,9, -999.000,-999.0000,9,-999.0000,  -999.00,9,  -999.00, -999.000,9, -999.000,   -999.0,9,   -999.0,  -999.00,9,-999.0000,9,-999.0000,9,-999.0000,9,-999.0000,9,-999.0000,9,-999.0000,9,-999.0000,9,-999.0000,9,-999.0000,9,   4.0991,   4.2191,2
  33RR20070322,  I09N,   136,  1,     13,     13,2,20070410,1347, -2.8332,  94.3325, 4773,1577.7000,   1577.7,   3.7838,  34.8023,2,  34.8030,2,    100.3,2,    102.5,2,   107.91,2,    36.30,2,     0.00,2,     2.63,2, -999.000,9, -999.000,9, -999.000,9,   -999.0,9,   -999.0,9,-999.0000,9,  -999.00,   -999.0,9,  -999.00,9, -999.000,9, -999.000,-999.0000,9,-999.0000,  -999.00,9,  -999.00, -999.000,9, -999.000,   -999.0,9,   -999.0,  -999.00,9,-999.0000,9,-999.0000,9,-999.0000,9,-999.0000,9,-999.0000,9,-999.0000,9,-999.0000,9,-999.0000,9,-999.0000,9,   3.6594,   3.7867,2
  33RR20070322,  I09N,   136,  1,     12,     12,2,20070410,1347, -2.8332,  94.3325, 4773,1678.5000,   1678.5,   3.4220,  34.7939,2,  34.7951,2,    108.9,2,    110.8,2,   112.21,2,    36.04,2,     0.00,2,     2.60,2, -999.000,9, -999.000,9, -999.000,9,   -999.0,9,   -999.0,9,-999.0000,9,  -999.00,   -999.0,9,  -999.00,9, -999.000,9, -999.000,-999.0000,9,-999.0000,  -999.00,9,  -999.00, -999.000,9, -999.000,   -999.0,9,   -999.0,  -999.00,9,-999.0000,9,-999.0000,9,-999.0000,9,-999.0000,9,-999.0000,9,-999.0000,9,-999.0000,9,-999.0000,9,-999.0000,9,   3.2931,   3.4244,2
  33RR20070322,  I09N,   136,  1,     11,     11,2,20070410,1347, -2.8332,  94.3325, 4773,1779.3000,   1779.3,   3.0848,  34.7807,2,  34.7806,2,    116.1,2,    119.0,2,   115.36,2,    35.62,2,     0.00,2,     2.57,2, -999.000,9, -999.000,9, -999.000,9,   -999.0,9,   -999.0,9,-999.0000,9,  -999.00,   -999.0,9,  -999.00,9, -999.000,9, -999.000,-999.0000,9,-999.0000,  -999.00,9,  -999.00, -999.000,9, -999.000,   -999.0,9,   -999.0,  -999.00,9,-999.0000,9,-999.0000,9,-999.0000,9,-999.0000,9,-999.0000,9,-999.0000,9,-999.0000,9,-999.0000,9,-999.0000,9,   2.9513,   3.0832,2
  33RR20070322,  I09N,   136,  1,     10,     10,2,20070410,1347, -2.8332,  94.3325, 4773,1980.9000,   1980.9,   2.6517,  34.7666,2,  34.7671,2,    129.8,2,    130.7,2,   119.48,2,    35.21,2,     0.00,2,     2.52,2, -999.000,9, -999.000,9, -999.000,9,   -999.0,9,   -999.0,9,-999.0000,9,  -999.00,   -999.0,9,  -999.00,9, -999.000,9, -999.000,-999.0000,9,-999.0000,  -999.00,9,  -999.00, -999.000,9, -999.000,   -999.0,9,   -999.0,  -999.00,9,-999.0000,9,-999.0000,9,-999.0000,9,-999.0000,9,-999.0000,9,-999.0000,9,-999.0000,9,-999.0000,9,-999.0000,9,   2.5066,   2.6500,2
  33RR20070322,  I09N,   136,  1,      9,      9,2,20070410,1347, -2.8332,  94.3325, 4773,2183.5000,   2183.5,   2.3500,  34.7576,2,  34.7580,2,    139.2,2,    138.6,2,   123.02,2,    34.90,2,     0.00,2,     2.48,2, -999.000,9, -999.000,9, -999.000,9,   -999.0,9,   -999.0,9,-999.0000,9,  -999.00,   -999.0,9,  -999.00,9, -999.000,9, -999.000,-999.0000,9,-999.0000,  -999.00,9,  -999.00, -999.000,9, -999.000,   -999.0,9,   -999.0,  -999.00,9,-999.0000,9,-999.0000,9,-999.0000,9,-999.0000,9,-999.0000,9,-999.0000,9,-999.0000,9,-999.0000,9,-999.0000,9,   2.1917,   2.3505,2
  33RR20070322,  I09N,   136,  1,      8,      8,2,20070410,1347, -2.8332,  94.3325, 4773,2434.7000,   2434.7,   2.0541,  34.7463,2,  34.7465,2,    148.7,2,    148.3,2,   125.58,2,    34.58,2,     0.00,2,     2.44,2,    0.004,2,    0.001,2, -999.000,5,   2311.8,2,   2407.6,6,   7.5806,2,    25.00,   -999.0,9,  -999.00,9, -999.000,9, -999.000,-999.0000,9,-999.0000,  -999.00,9,  -999.00, -999.000,9, -999.000,   -999.0,9,   -999.0,  -999.00,9,-999.0000,9,-999.0000,9,-999.0000,9,-999.0000,9,-999.0000,9,-999.0000,9,-999.0000,9,-999.0000,9,-999.0000,9,   1.8783,   2.0539,2
  33RR20070322,  I09N,   136,  1,      7,      7,2,20070410,1347, -2.8332,  94.3325, 4773,2689.4000,   2689.4,   1.8705,  34.7393,2,  34.7394,2,    155.2,2,    154.6,2,   128.34,2,    34.27,2,     0.00,2,     2.41,2, -999.000,9, -999.000,9, -999.000,9,   -999.0,9,   -999.0,9,-999.0000,9,  -999.00,   -999.0,9,  -999.00,9, -999.000,9, -999.000,-999.0000,9,-999.0000,  -999.00,9,  -999.00, -999.000,9, -999.000,   -999.0,9,   -999.0,  -999.00,9,-999.0000,9,-999.0000,9,-999.0000,9,-999.0000,9,-999.0000,9,-999.0000,9,-999.0000,9,-999.0000,9,-999.0000,9,   1.6748,   1.8704,2
  33RR20070322,  I09N,   136,  1,      6,      6,2,20070410,1347, -2.8332,  94.3325, 4773,2941.7000,   2941.7,   1.7439,  34.7342,2,  34.7341,2,    159.8,2,    159.0,2,   129.93,2,    34.16,2,     0.00,2,     2.38,2, -999.000,9, -999.000,9, -999.000,9,   -999.0,9,   -999.0,9,-999.0000,9,  -999.00,   -999.0,9,  -999.00,9, -999.000,9, -999.000,-999.0000,9,-999.0000,  -999.00,9,  -999.00, -999.000,9, -999.000,   -999.0,9,   -999.0,  -999.00,9,-999.0000,9,-999.0000,9,-999.0000,9,-999.0000,9,-999.0000,9,-999.0000,9,-999.0000,9,-999.0000,9,-999.0000,9,   1.5270,   1.7432,2
  33RR20070322,  I09N,   136,  1,      5,      5,2,20070410,1347, -2.8332,  94.3325, 4773,3276.3000,   3276.3,   1.5676,  34.7279,2,  34.7288,2,    166.3,2,    166.1,2,   130.72,2,    34.01,2,     0.00,2,     2.36,2, -999.000,9, -999.000,9, -999.000,9,   -999.0,9,   -999.0,9,-999.0000,9,  -999.00,   -999.0,9,  -999.00,9, -999.000,9, -999.000,-999.0000,9,-999.0000,  -999.00,9,  -999.00, -999.000,9, -999.000,   -999.0,9,   -999.0,  -999.00,9,-999.0000,9,-999.0000,9,-999.0000,9,-999.0000,9,-999.0000,9,-999.0000,9,-999.0000,9,-999.0000,9,-999.0000,9,   1.3220,   1.5684,2