BOTTLE,20150630SIOCCHRJL
EXPOCODE,SECT_ID,STNNBR,CASTNO,SAMPNO,BTLNBR,BTLNBR_FLAG_W,DATE,TIME,LATITUDE,LONGITUDE,DEPTH,CTDRAW,CTDPRS,CTDTMP,CTDSAL,CTDSAL_FLAG_W,SALNTY,SALNTY_FLAG_W,CTDOXY,CTDOXY_FLAG_W,OXYGEN,OXYGEN_FLAG_W,SILCAT,SILCAT_FLAG_W,NITRAT,NITRAT_FLAG_W,NITRIT,NITRIT_FLAG_W,PHSPHT,PHSPHT_FLAG_W,CFC-11,CFC-11_FLAG_W,CFC-12,CFC-12_FLAG_W,CFC113,CFC113_FLAG_W,TCARBN,TCARBN_FLAG_W,ALKALI,ALKALI_FLAG_W,PH_SWS,PH_SWS_FLAG_W,PH_TMP,DOC,DOC_FLAG_W,TDN,TDN_FLAG_W,TRITUM,TRITUM_FLAG_W,TRITER,HELIUM,HELIUM_FLAG_W,HELIER,DELHE3,DELHE3_FLAG_W,DELHER,NEON,NEON_FLAG_W,NEONER,DELC14,DELC14_FLAG_W,C14ERR,DELC13,DELC13_FLAG_W,CDOM325,CDOM325_FLAG_W,CDOM340,CDOM340_FLAG_W,CDOM380,CDOM380_FLAG_W,CDOM412,CDOM412_FLAG_W,CDOM443,CDOM443_FLAG_W,CDOM490,CDOM490_FLAG_W,CDOM555,CDOM555_FLAG_W,CDOMSL,CDOMSL_FLAG_W,CDOMSN,CDOMSN_FLAG_W,THETA,SBE35,SBE35_FLAG_W
,,,,,,,,,,,METERS,,DBAR,ITS-90,PSS-78,,PSS-78,,UMOL/KG,,UMOL/KG,,UMOL/KG,,UMOL/KG,,UMOL/KG,,UMOL/KG,,PMOL/KG,,PMOL/KG,,PMOL/KG,,UMOL/KG,,UMOL/KG,,,,DEG C,UMOL/KG,,UMOL/KG,,TU,,TU,NMOL/KG,,NMOL/KG,PERCNT,,PERCNT,NMOL/KG,,NMOL/KG,/MILLE,,/MILLE,/MILLE,,1/M,,1/M,,1/M,,1/M,,1/M,,1/M,,1/M,,1/NM,,1/NM,,DEG C,ITS-90,
  33RR20070322,  I09N,   140,  1,     36,     38,2,20070411,1317, -1.5647,  93.9322, 4669,   2.4000,      2.4,  29.3964,  33.9472,2,  33.9475,2,    196.7,2,    197.0,2,     1.28,2,     0.13,2,     0.00,2,     0.07,2,    1.508,2,    0.979,2, -999.000,5,   1901.0,6,   2223.7,2,   8.1000,6,    25.00,   -999.0,9,  -999.00,9,    0.599,2,    0.010,   1.7100,2,   0.0007,    -0.90,2,     0.18,    6.707,2,    0.009,   -999.0,9,   -999.0,  -999.00,9,-999.0000,9,-999.0000,9,-999.0000,9,-999.0000,9,-999.0000,9,-999.0000,9,-999.0000,9,-999.0000,9,-999.0000,9,  29.3958,  29.3913,2
  33RR20070322,  I09N,   140,  1,     35,     35,2,20070411,1317, -1.5647,  93.9322, 4669,  29.8000,     29.8,  29.2579,  34.1315,2,  34.1336,2,    198.7,2,    197.5,2,     1.28,2,     0.13,2,     0.00,2,     0.08,2,    1.509,2,    0.973,2, -999.000,5,   -999.0,9,   -999.0,9,-999.0000,9,  -999.00,   -999.0,9,  -999.00,9,    0.586,2,    0.010,   1.7030,2,   0.0003,    -1.24,2,     0.18,    6.681,2,    0.011,   -999.0,9,   -999.0,  -999.00,9,-999.0000,9,-999.0000,9,-999.0000,9,-999.0000,9,-999.0000,9,-999.0000,9,-999.0000,9,-999.0000,9,-999.0000,9,  29.2507,  29.2563,2
  33RR20070322,  I09N,   140,  1,     34,   9419,2,20070411,1317, -1.5647,  93.9322, 4669,  54.9000,     54.9,  29.1242,  34.1400,2,  34.1442,2,    198.6,2,    198.0,2,     1.28,2,     0.08,2,     0.00,2,     0.08,2,    1.512,2,    0.980,2, -999.000,5,   -999.0,9,   -999.0,9,-999.0000,9,  -999.00,   -999.0,9,  -999.00,9,    0.586,2,    0.011,   1.7110,2,   0.0007,    -0.98,2,     0.19,    6.750,2,    0.009,   -999.0,9,   -999.0,  -999.00,9,-999.0000,9,-999.0000,9,-999.0000,9,-999.0000,9,-999.0000,9,-999.0000,9,-999.0000,9,-999.0000,9,-999.0000,9,  29.1109,  29.1146,2
  33RR20070322,  I09N,   140,  1,     33,     33,2,20070411,1317, -1.5647,  93.9322, 4669,  80.0000,     80.0,  23.6248,  35.3055,2,  35.3085,2,    130.8,2,    128.3,2,     6.61,2,     8.90,2,     0.82,2,     0.81,2,    1.674,2,    1.036,2, -999.000,5,   -999.0,9,   -999.0,9,-999.0000,9,  -999.00,   -999.0,9,  -999.00,9,    0.636,2,    0.011,   1.7020,2,   0.0009,     0.42,2,     0.20,    6.909,2,    0.009,   -999.0,9,   -999.0,  -999.00,9,-999.0000,9,-999.0000,9,-999.0000,9,-999.0000,9,-999.0000,9,-999.0000,9,-999.0000,9,-999.0000,9,-999.0000,9,  23.6081,  23.6512,2
  33RR20070322,  I09N,   140,  1,     32,     37,2,20070411,1317, -1.5647,  93.9322, 4669, 104.6000,    104.6,  21.4220,  35.3185,2,  35.3193,2,     99.8,2,     99.4,2,     9.57,2,    14.93,2,     0.09,2,     1.10,2,    1.707,2,    1.034,2, -999.000,5,   2115.2,2,   2307.2,2,   7.8271,2,    25.00,   -999.0,9,  -999.00,9,    0.476,2,    0.009,   1.7440,2,   0.0006,     0.95,2,     0.20,    7.064,2,    0.011,   -999.0,9,   -999.0,  -999.00,9,-999.0000,9,-999.0000,9,-999.0000,9,-999.0000,9,-999.0000,9,-999.0000,9,-999.0000,9,-999.0000,9,-999.0000,9,  21.4017,  21.4182,2
  33RR20070322,  I09N,   140,  1,     31,     31,2,20070411,1317, -1.5647,  93.9322, 4669, 154.2000,    154.2,  18.4200,  35.2435,2,  35.2450,2,     71.0,2,     69.6,2,    14.31,2,    20.78,2,     0.02,2,     1.47,2,    1.622,2,    0.959,2, -999.000,5,   -999.0,9,   -999.0,9,-999.0000,9,  -999.00,   -999.0,9,  -999.00,9,    0.401,2,    0.009,   1.7410,2,   0.0007,     2.86,2,     0.20,    7.120,2,    0.009,   -999.0,9,   -999.0,  -999.00,9,-999.0000,9,-999.0000,9,-999.0000,9,-999.0000,9,-999.0000,9,-999.0000,9,-999.0000,9,-999.0000,9,-999.0000,9,  18.3931,  18.4293,2
  33RR20070322,  I09N,   140,  1,     30,     30,2,20070411,1317, -1.5647,  93.9322, 4669, 204.9000,    204.9,  14.5122,  35.1217,2,  35.1217,2,     55.3,2,     58.3,2,    20.05,2,    25.58,2,     0.01,2,     1.80,2,    1.372,2,    0.781,2, -999.000,5,   -999.0,9,   -999.0,9,-999.0000,9,  -999.00,   -999.0,9,  -999.00,9,    0.306,2,    0.007,-999.0000,9,-999.0000,  -999.00,9,  -999.00, -999.000,9, -999.000,   -999.0,9,   -999.0,  -999.00,9,-999.0000,9,-999.0000,9,-999.0000,9,-999.0000,9,-999.0000,9,-999.0000,9,-999.0000,9,-999.0000,9,-999.0000,9,  14.4818,  14.5107,2
  33RR20070322,  I09N,   140,  1,     29,     29,2,20070411,1317, -1.5647,  93.9322, 4669, 254.3000,    254.3,  12.7113,  35.0804,2,  35.0806,2,     69.5,2,     74.4,2,    20.84,2,    25.74,2,     0.01,2,     1.79,2,    1.328,2,    0.721,2, -999.000,5,   2204.2,2,   2310.9,6,   7.6201,2,    25.00,   -999.0,9,  -999.00,9,    0.380,2,    0.008,   1.7730,2,   0.0006,     4.25,2,     0.20,    7.498,2,    0.014,   -999.0,9,   -999.0,  -999.00,9,-999.0000,9,-999.0000,9,-999.0000,9,-999.0000,9,-999.0000,9,-999.0000,9,-999.0000,9,-999.0000,9,-999.0000,9,  12.6767,  12.7147,2
  33RR20070322,  I09N,   140,  1,     28,     28,2,20070411,1317, -1.5647,  93.9322, 4669, 304.7000,    304.7,  11.8239,  35.0561,2,  35.0554,2,     75.3,2,     78.1,2,    22.22,2,    26.70,2,     0.00,2,     1.84,2,    1.192,2,    0.648,2, -999.000,5,   -999.0,9,   -999.0,9,-999.0000,9,  -999.00,   -999.0,9,  -999.00,9,    0.300,2,    0.007,   1.7850,2,   0.0003,     4.43,2,     0.19,    7.492,2,    0.011,   -999.0,9,   -999.0,  -999.00,9,-999.0000,9,-999.0000,9,-999.0000,9,-999.0000,9,-999.0000,9,-999.0000,9,-999.0000,9,-999.0000,9,-999.0000,9,  11.7843,  11.8095,2
  33RR20070322,  I09N,   140,  1,     27,     27,2,20070411,1317, -1.5647,  93.9322, 4669, 354.4000,    354.4,  11.4178,  35.0384,2,  35.0383,2,     71.3,2,     68.9,2,    24.99,2,    28.34,2,     0.00,2,     1.95,2,    0.969,2,    0.519,2, -999.000,5,   -999.0,9,   -999.0,9,-999.0000,9,  -999.00,   -999.0,9,  -999.00,9,    0.182,2,    0.006,   1.7720,2,   0.0006,     4.79,2,     0.20,    7.443,2,    0.012,   -999.0,9,   -999.0,  -999.00,9,-999.0000,9,-999.0000,9,-999.0000,9,-999.0000,9,-999.0000,9,-999.0000,9,-999.0000,9,-999.0000,9,-999.0000,9,  11.3727,  11.4164,2
  33RR20070322,  I09N,   140,  1,     26,     26,2,20070411,1317, -1.5647,  93.9322, 4669, 404.2000,    404.2,  11.0936,  35.0196,2,  35.0193,2,     77.9,2,     78.7,2,    24.78,2,    27.86,2,     0.00,2,     1.92,2,    1.051,2,    0.568,2, -999.000,5,   -999.0,9,   -999.0,9,-999.0000,9,  -999.00,   -999.0,9,  -999.00,9,    0.295,2,    0.008,-999.0000,9,-999.0000,  -999.00,9,  -999.00, -999.000,9, -999.000,   -999.0,9,   -999.0,  -999.00,9,-999.0000,9,-999.0000,9,-999.0000,9,-999.0000,9,-999.0000,9,-999.0000,9,-999.0000,9,-999.0000,9,-999.0000,9,  11.0430,  11.0920,2
  33RR20070322,  I09N,   140,  1,     25,     25,2,20070411,1317, -1.5647,  93.9322, 4669, 454.4000,    454.4,  10.5242,  34.9802,2,  34.9806,2,     76.4,2,     75.0,2,    27.75,2,    29.34,2,     0.00,2,     2.02,2,    0.785,2,    0.420,2, -999.000,5,   -999.0,9,   -999.0,9,-999.0000,9,  -999.00,   -999.0,9,  -999.00,9,    0.134,2,    0.006,   1.8070,2,   0.0012,     4.40,2,     0.20,    7.640,2,    0.011,   -999.0,9,   -999.0,  -999.00,9,-999.0000,9,-999.0000,9,-999.0000,9,-999.0000,9,-999.0000,9,-999.0000,9,-999.0000,9,-999.0000,9,-999.0000,9,  10.4691,  10.5198,2
  33RR20070322,  I09N,   140,  1,     24,     24,2,20070411,1317, -1.5647,  93.9322, 4669, 504.4000,    504.4,  10.0188,  34.9847,2,  34.9845,2,     67.5,2,     65.2,2,    34.08,2,    31.25,2,     0.00,2,     2.20,2,    0.532,2,    0.292,2, -999.000,5,   2234.9,2,   2317.9,6,   7.5457,2,    25.00,   -999.0,9,  -999.00,9,    0.089,2,    0.006,   1.8040,2,   0.0007,     5.25,2,     0.19,    7.579,2,    0.014,   -999.0,9,   -999.0,  -999.00,9,-999.0000,9,-999.0000,9,-999.0000,9,-999.0000,9,-999.0000,9,-999.0000,9,-999.0000,9,-999.0000,9,-999.0000,9,   9.9593,  10.0185,2
  33RR20070322,  I09N,   140,  1,     23,     23,2,20070411,1317, -1.5647,  93.9322, 4669, 604.7000,    604.7,   9.1159,  34.9569,2,  34.9574,2,     56.8,2,     54.9,2,    45.19,2,    33.55,2,     0.00,2,     2.43,2,    0.200,2,    0.112,2, -999.000,5,   -999.0,9,   -999.0,9,-999.0000,9,  -999.00,   -999.0,9,  -999.00,9,    0.154,2,    0.006,   1.8130,2,   0.0007,     6.51,2,     0.20,    7.631,2,    0.012,   -999.0,9,   -999.0,  -999.00,9,-999.0000,9,-999.0000,9,-999.0000,9,-999.0000,9,-999.0000,9,-999.0000,9,-999.0000,9,-999.0000,9,-999.0000,9,   9.0482,   9.1153,2
  33RR20070322,  I09N,   140,  1,     22,     22,2,20070411,1317, -1.5647,  93.9322, 4669, 704.9000,    704.9,   8.5200,  34.9507,2,  34.9526,2,     52.0,2,     51.2,2,    53.72,2,    34.72,2,     0.00,2,     2.54,2,    0.113,2,    0.065,2, -999.000,5,   -999.0,9,   -999.0,9,-999.0000,9,  -999.00,   -999.0,9,  -999.00,9,    0.168,2,    0.006,   1.8180,2,   0.0007,     7.03,2,     0.21,    7.639,2,    0.012,   -999.0,9,   -999.0,  -999.00,9,-999.0000,9,-999.0000,9,-999.0000,9,-999.0000,9,-999.0000,9,-999.0000,9,-999.0000,9,-999.0000,9,-999.0000,9,   8.4437,   8.5235,2
  33RR20070322,  I09N,   140,  1,     21,     21,2,20070411,1317, -1.5647,  93.9322, 4669, 805.5000,    805.5,   7.9442,  34.9432,2,  34.9424,2,     49.3,2,     47.9,2,    63.46,2,    35.78,2,     0.00,2,     2.63,2,    0.057,2,    0.033,2, -999.000,5,   2281.4,2,   2346.4,2,   7.4950,6,    25.00,   -999.0,9,  -999.00,9,    0.081,2,    0.005,   1.8610,2,   0.0007,     8.51,2,     0.20,    7.821,2,    0.013,   -999.0,9,   -999.0,  -999.00,9,-999.0000,9,-999.0000,9,-999.0000,9,-999.0000,9,-999.0000,9,-999.0000,9,-999.0000,9,-999.0000,9,-999.0000,9,   7.8599,   7.9425,2
  33RR20070322,  I09N,   140,  1,     20,     20,2,20070411,1317, -1.5647,  93.9322, 4669, 905.5000,    905.5,   7.2162,  34.9286,2,  34.9287,2,     50.2,2,     49.6,2,    72.82,2,    36.54,2,     0.00,2,     2.69,2,    0.026,2,    0.015,2, -999.000,5,   -999.0,9,   -999.0,9,-999.0000,9,  -999.00,   -999.0,9,  -999.00,9, -999.000,9, -999.000,   1.8460,2,   0.0003,     9.81,2,     0.18,    7.803,2,    0.011,   -999.0,9,   -999.0,  -999.00,9,-999.0000,9,-999.0000,9,-999.0000,9,-999.0000,9,-999.0000,9,-999.0000,9,-999.0000,9,-999.0000,9,-999.0000,9,   7.1257,   7.2150,2
  33RR20070322,  I09N,   140,  1,     19,     19,2,20070411,1317, -1.5647,  93.9322, 4669,1006.2000,   1006.2,   6.6262,  34.9108,2,  34.9112,2,     54.1,2,     53.9,2,    80.39,2,    36.81,2,     0.00,2,     2.72,2,    0.016,2,    0.009,2, -999.000,5,   2298.3,2,   2363.2,2,   7.4605,2,    25.00,   -999.0,9,  -999.00,9,    0.037,2,    0.004,   1.8700,2,   0.0003,    10.32,2,     0.18,    7.782,2,    0.011,   -999.0,9,   -999.0,  -999.00,9,-999.0000,9,-999.0000,9,-999.0000,9,-999.0000,9,-999.0000,9,-999.0000,9,-999.0000,9,-999.0000,9,-999.0000,9,   6.5294,   6.6286,2
  33RR20070322,  I09N,   140,  1,     18,     18,2,20070411,1317, -1.5647,  93.9322, 4669,1105.9000,   1105.9,   6.2206,  34.9008,2,  34.9000,2,     58.1,2,     57.9,2,    85.59,2,    37.02,2,     0.00,2,     2.73,2, -999.000,9, -999.000,9, -999.000,9,   -999.0,9,   -999.0,9,-999.0000,9,  -999.00,   -999.0,9,  -999.00,9, -999.000,9, -999.000,   1.8460,2,   0.0004,    11.77,2,     0.18,    7.784,2,    0.012,   -999.0,9,   -999.0,  -999.00,9,-999.0000,9,-999.0000,9,-999.0000,9,-999.0000,9,-999.0000,9,-999.0000,9,-999.0000,9,-999.0000,9,-999.0000,9,   6.1168,   6.2200,2
  33RR20070322,  I09N,   140,  1,     17,     17,2,20070411,1317, -1.5647,  93.9322, 4669,1206.2000,   1206.2,   5.5801,  34.8683,2,  34.8686,2,     66.4,2,     66.9,2,    92.19,2,    36.86,2,     0.00,2,     2.73,2,    0.006,2,    0.003,2, -999.000,5,   -999.0,9,   -999.0,9,-999.0000,9,  -999.00,   -999.0,9,  -999.00,9,    0.001,2,    0.005,   1.8680,2,   0.0004,    12.04,2,     0.18,    7.827,2,    0.012,   -999.0,9,   -999.0,  -999.00,9,-999.0000,9,-999.0000,9,-999.0000,9,-999.0000,9,-999.0000,9,-999.0000,9,-999.0000,9,-999.0000,9,-999.0000,9,   5.4719,   5.5809,2
  33RR20070322,  I09N,   140,  1,     16,     16,2,20070411,1317, -1.5647,  93.9322, 4669,1307.2000,   1307.2,   5.0671,  34.8600,2,  34.8603,2,     75.7,2,     76.4,2,    96.80,2,    37.03,2,     0.00,2,     2.71,2, -999.000,9, -999.000,9, -999.000,9,   -999.0,9,   -999.0,9,-999.0000,9,  -999.00,   -999.0,9,  -999.00,9, -999.000,9, -999.000,-999.0000,9,-999.0000,  -999.00,9,  -999.00, -999.000,9, -999.000,   -999.0,9,   -999.0,  -999.00,9,-999.0000,9,-999.0000,9,-999.0000,9,-999.0000,9,-999.0000,9,-999.0000,9,-999.0000,9,-999.0000,9,-999.0000,9,   4.9539,   5.0676,2
  33RR20070322,  I09N,   140,  1,     15,     15,2,20070411,1317, -1.5647,  93.9322, 4669,1406.8000,   1406.8,   4.5461,  34.8268,2,  34.8272,2,     82.8,2,     85.9,2,   101.21,2,    36.66,2,     0.00,2,     2.70,2,    0.012,2,    0.002,2, -999.000,5,   -999.0,9,   -999.0,9,-999.0000,9,  -999.00,   -999.0,9,  -999.00,9, -999.000,9, -999.000,   1.8870,2,   0.0003,    12.78,2,     0.19,    7.993,2,    0.012,   -999.0,9,   -999.0,  -999.00,9,-999.0000,9,-999.0000,9,-999.0000,9,-999.0000,9,-999.0000,9,-999.0000,9,-999.0000,9,-999.0000,9,-999.0000,9,   4.4288,   4.5426,2
  33RR20070322,  I09N,   140,  1,     14,     14,2,20070411,1317, -1.5647,  93.9322, 4669,1507.7000,   1507.7,   4.1670,  34.8213,2,  34.8207,2,     92.0,2,     93.6,2,   105.44,2,    36.55,2,     0.00,2,     2.67,2, -999.000,9, -999.000,9, -999.000,9,   -999.0,9,   -999.0,9,-999.0000,9,  -999.00,   -999.0,9,  -999.00,9, -999.000,9, -999.000,-999.0000,9,-999.0000,  -999.00,9,  -999.00, -999.000,9, -999.000,   -999.0,9,   -999.0,  -999.00,9,-999.0000,9,-999.0000,9,-999.0000,9,-999.0000,9,-999.0000,9,-999.0000,9,-999.0000,9,-999.0000,9,-999.0000,9,   4.0445,   4.1666,2
  33RR20070322,  I09N,   140,  1,     13,     13,2,20070411,1317, -1.5647,  93.9322, 4669,1608.3000,   1608.3,   3.6541,  34.8067,2,  34.8061,2,    103.0,2,    105.3,2,   110.47,2,    36.18,2,     0.00,2,     2.64,2,    0.001,2,    0.001,2, -999.000,5,   -999.0,9,   -999.0,9,-999.0000,9,  -999.00,   -999.0,9,  -999.00,9, -999.000,9, -999.000,   1.8710,2,   0.0005,    13.43,2,     0.19,    8.018,2,    0.013,   -999.0,9,   -999.0,  -999.00,9,-999.0000,9,-999.0000,9,-999.0000,9,-999.0000,9,-999.0000,9,-999.0000,9,-999.0000,9,-999.0000,9,-999.0000,9,   3.5285,   3.6543,2
  33RR20070322,  I09N,   140,  1,     12,     12,2,20070411,1317, -1.5647,  93.9322, 4669,1709.1000,   1709.1,   3.3750,  34.7982,2,  34.7977,2,    111.1,2,    112.5,2,   112.88,2,    35.90,2,     0.00,2,     2.62,2, -999.000,9, -999.000,9, -999.000,9,   -999.0,9,   -999.0,9,-999.0000,9,  -999.00,   -999.0,9,  -999.00,9, -999.000,9, -999.000,   1.8880,2,   0.0004,    13.17,2,     0.18,    8.032,2,    0.012,   -999.0,9,   -999.0,  -999.00,9,-999.0000,9,-999.0000,9,-999.0000,9,-999.0000,9,-999.0000,9,-999.0000,9,-999.0000,9,-999.0000,9,-999.0000,9,   3.2439,   3.3754,2
  33RR20070322,  I09N,   140,  1,     11,     11,2,20070411,1317, -1.5647,  93.9322, 4669,1809.5000,   1809.5,   3.1326,  34.7887,2,  34.7883,2,    117.2,2,    118.1,2,   115.70,2,    35.69,2,     0.00,2,     2.60,2,    0.001,2,    0.001,2, -999.000,5,   -999.0,9,   -999.0,9,-999.0000,9,  -999.00,   -999.0,9,  -999.00,9, -999.000,9, -999.000,   1.8910,2,   0.0004,    13.79,2,     0.19,    8.085,2,    0.012,   -999.0,9,   -999.0,  -999.00,9,-999.0000,9,-999.0000,9,-999.0000,9,-999.0000,9,-999.0000,9,-999.0000,9,-999.0000,9,-999.0000,9,-999.0000,9,   2.9958,   3.1331,2
  33RR20070322,  I09N,   140,  1,     10,     10,2,20070411,1317, -1.5647,  93.9322, 4669,2011.7000,   2011.7,   2.6397,  34.7702,2,  34.7700,2,    129.9,2,    130.4,2,   120.95,2,    35.16,2,     0.00,2,     2.54,2, -999.000,9, -999.000,9, -999.000,9,   -999.0,9,   -999.0,9,-999.0000,9,  -999.00,   -999.0,9,  -999.00,9, -999.000,9, -999.000,   1.9150,2,   0.0004,    13.63,2,     0.19,    8.111,2,    0.012,   -999.0,9,   -999.0,  -999.00,9,-999.0000,9,-999.0000,9,-999.0000,9,-999.0000,9,-999.0000,9,-999.0000,9,-999.0000,9,-999.0000,9,-999.0000,9,   2.4921,   2.6391,2
  33RR20070322,  I09N,   140,  1,      9,      9,2,20070411,1317, -1.5647,  93.9322, 4669,2263.4000,   2263.4,   2.3318,  34.7584,2,  34.7578,2,    139.6,2,    139.1,2,   124.80,2,    35.11,3,     0.00,2,     2.51,2,    0.007,2,    0.001,2, -999.000,5,   -999.0,9,   -999.0,9,-999.0000,9,  -999.00,   -999.0,9,  -999.00,9, -999.000,9, -999.000,   1.9100,2,   0.0004,    13.71,2,     0.19,    8.115,2,    0.012,   -999.0,9,   -999.0,  -999.00,9,-999.0000,9,-999.0000,9,-999.0000,9,-999.0000,9,-999.0000,9,-999.0000,9,-999.0000,9,-999.0000,9,-999.0000,9,   2.1666,   2.3323,2
  33RR20070322,  I09N,   140,  1,      8,      8,2,20070411,1317, -1.5647,  93.9322, 4669,2516.6000,   2516.6,   2.0491,  34.7466,2,  34.7457,2,    148.7,2,    148.0,2,   127.02,2,    34.69,2,     0.00,2,     2.46,2, -999.000,9, -999.000,9, -999.000,9,   2311.5,2,   2409.1,2,   7.5766,2,    25.00,   -999.0,9,  -999.00,9, -999.000,9, -999.000,   1.9290,2,   0.0004,    13.38,2,     0.18,    8.219,2,    0.013,   -999.0,9,   -999.0,  -999.00,9,-999.0000,9,-999.0000,9,-999.0000,9,-999.0000,9,-999.0000,9,-999.0000,9,-999.0000,9,-999.0000,9,-999.0000,9,   1.8660,   2.0498,2
  33RR20070322,  I09N,   140,  1,      7,      7,2,20070411,1317, -1.5647,  93.9322, 4669,2769.3000,   2769.3,   1.8401,  34.7381,2,  34.7376,2,    155.8,2,    155.4,2,   129.04,2,    34.52,2,     0.00,2,     2.43,2,    0.004,2,    0.002,2, -999.000,5,   -999.0,9,   -999.0,9,-999.0000,9,  -999.00,   -999.0,9,  -999.00,9, -999.000,9, -999.000,   1.8960,2,   0.0004,    13.50,2,     0.19,    8.005,2,    0.012,   -999.0,9,   -999.0,  -999.00,9,-999.0000,9,-999.0000,9,-999.0000,9,-999.0000,9,-999.0000,9,-999.0000,9,-999.0000,9,-999.0000,9,-999.0000,9,   1.6376,   1.8396,2
  33RR20070322,  I09N,   140,  1,      6,      6,2,20070411,1317, -1.5647,  93.9322, 4669,3022.5000,   3022.5,   1.7329,  34.7339,2,  34.7329,2,    159.6,2,    159.2,2,   130.26,2,    34.32,2,     0.00,2,     2.42,2, -999.000,9, -999.000,9, -999.000,9,   -999.0,9,   -999.0,9,-999.0000,9,  -999.00,   -999.0,9,  -999.00,9, -999.000,9, -999.000,-999.0000,9,-999.0000,  -999.00,9,  -999.00, -999.000,9, -999.000,   -999.0,9,   -999.0,  -999.00,9,-999.0000,9,-999.0000,9,-999.0000,9,-999.0000,9,-999.0000,9,-999.0000,9,-999.0000,9,-999.0000,9,-999.0000,9,   1.5085,   1.7324,2
  33RR20070322,  I09N,   140,  1,      5,      5,2,20070411,1317, -1.5647,  93.9322, 4669,3428.2000,   3428.2,   1.4722,  34.7251,2,  34.7241,2,    170.9,2,    170.6,2,   132.30,2,    33.84,2,     0.00,2,     2.37,2,    0.004,2,    0.003,2, -999.000,5,   -999.0,9,   -999.0,9,-999.0000,9,  -999.00,   -999.0,9,  -999.00,9, -999.000,9, -999.000,   1.9260,2,   0.0004,    12.19,2,     0.18,    8.304,2,    0.013,   -999.0,9,   -999.0,  -999.00,9,-999.0000,9,-999.0000,9,-999.0000,9,-999.0000,9,-999.0000,9,-999.0000,9,-999.0000,9,-999.0000,9,-999.0000,9,   1.2138,   1.4739,2