BOTTLE,20150630SIOCCHRJL
EXPOCODE,SECT_ID,STNNBR,CASTNO,SAMPNO,BTLNBR,BTLNBR_FLAG_W,DATE,TIME,LATITUDE,LONGITUDE,DEPTH,CTDRAW,CTDPRS,CTDTMP,CTDSAL,CTDSAL_FLAG_W,SALNTY,SALNTY_FLAG_W,CTDOXY,CTDOXY_FLAG_W,OXYGEN,OXYGEN_FLAG_W,SILCAT,SILCAT_FLAG_W,NITRAT,NITRAT_FLAG_W,NITRIT,NITRIT_FLAG_W,PHSPHT,PHSPHT_FLAG_W,CFC-11,CFC-11_FLAG_W,CFC-12,CFC-12_FLAG_W,CFC113,CFC113_FLAG_W,TCARBN,TCARBN_FLAG_W,ALKALI,ALKALI_FLAG_W,PH_SWS,PH_SWS_FLAG_W,PH_TMP,DOC,DOC_FLAG_W,TDN,TDN_FLAG_W,TRITUM,TRITUM_FLAG_W,TRITER,HELIUM,HELIUM_FLAG_W,HELIER,DELHE3,DELHE3_FLAG_W,DELHER,NEON,NEON_FLAG_W,NEONER,DELC14,DELC14_FLAG_W,C14ERR,DELC13,DELC13_FLAG_W,CDOM325,CDOM325_FLAG_W,CDOM340,CDOM340_FLAG_W,CDOM380,CDOM380_FLAG_W,CDOM412,CDOM412_FLAG_W,CDOM443,CDOM443_FLAG_W,CDOM490,CDOM490_FLAG_W,CDOM555,CDOM555_FLAG_W,CDOMSL,CDOMSL_FLAG_W,CDOMSN,CDOMSN_FLAG_W,THETA,SBE35,SBE35_FLAG_W
,,,,,,,,,,,METERS,,DBAR,ITS-90,PSS-78,,PSS-78,,UMOL/KG,,UMOL/KG,,UMOL/KG,,UMOL/KG,,UMOL/KG,,UMOL/KG,,PMOL/KG,,PMOL/KG,,PMOL/KG,,UMOL/KG,,UMOL/KG,,,,DEG C,UMOL/KG,,UMOL/KG,,TU,,TU,NMOL/KG,,NMOL/KG,PERCNT,,PERCNT,NMOL/KG,,NMOL/KG,/MILLE,,/MILLE,/MILLE,,1/M,,1/M,,1/M,,1/M,,1/M,,1/M,,1/M,,1/NM,,1/NM,,DEG C,ITS-90,
  33RR20070322,  I09N,   175,  1,     36,     38,2,20070420,2001,  9.9690,  86.1998, 3500,   3.0000,      3.0,  29.9332,  33.4832,2,  33.4828,2,    196.6,2,    196.3,2,     1.61,2,     0.05,2,     0.00,2,     0.05,2,    1.532,2,    1.000,2, -999.000,5,   1894.8,6,   2211.6,2,   8.0910,6,    25.00,   -999.0,9,  -999.00,9, -999.000,9, -999.000,-999.0000,9,-999.0000,  -999.00,9,  -999.00, -999.000,9, -999.000,   -999.0,9,   -999.0,  -999.00,9,-999.0000,9,-999.0000,9,-999.0000,9,-999.0000,9,-999.0000,9,-999.0000,9,-999.0000,9,-999.0000,9,-999.0000,9,  29.9325,  29.9424,2
  33RR20070322,  I09N,   175,  1,     35,     35,2,20070420,2001,  9.9690,  86.1998, 3500,  19.8000,     19.8,  29.2238,  33.4832,2,  33.4842,2,    197.5,2,    198.5,2,     1.38,2,     0.05,2,     0.00,2,     0.05,2,    1.533,2,    1.003,2, -999.000,5,   1896.3,2,   2211.7,6,   8.0302,3,    25.00,   -999.0,9,  -999.00,9, -999.000,9, -999.000,-999.0000,9,-999.0000,  -999.00,9,  -999.00, -999.000,9, -999.000,   -999.0,9,   -999.0,  -999.00,9,-999.0000,9,-999.0000,9,-999.0000,9,-999.0000,9,-999.0000,9,-999.0000,9,-999.0000,9,-999.0000,9,-999.0000,9,  29.2190,  29.2213,2
  33RR20070322,  I09N,   175,  1,     34,   9419,2,20070420,2001,  9.9690,  86.1998, 3500,  45.1000,     45.1,  28.4572,  33.9630,2,  33.9641,2,    201.4,2,    200.4,2,     1.54,2,     0.05,2,     0.00,2,     0.08,2, -999.000,9, -999.000,9, -999.000,9,   -999.0,9,   -999.0,9,-999.0000,9,  -999.00,   -999.0,9,  -999.00,9, -999.000,9, -999.000,-999.0000,9,-999.0000,  -999.00,9,  -999.00, -999.000,9, -999.000,   -999.0,9,   -999.0,  -999.00,9,-999.0000,9,-999.0000,9,-999.0000,9,-999.0000,9,-999.0000,9,-999.0000,9,-999.0000,9,-999.0000,9,-999.0000,9,  28.4465,  28.4271,2
  33RR20070322,  I09N,   175,  1,     33,     33,2,20070420,2001,  9.9690,  86.1998, 3500,  90.0000,     90.0,  24.1899,  34.7401,2,  34.6850,2,     80.3,2,     74.0,2,     9.84,2,    15.38,2,     0.67,2,     1.17,2,    1.321,2,    0.853,2, -999.000,5,   2086.5,2,   2268.6,2,   7.8370,2,    25.00,   -999.0,9,  -999.00,9, -999.000,9, -999.000,-999.0000,9,-999.0000,  -999.00,9,  -999.00, -999.000,9, -999.000,   -999.0,9,   -999.0,  -999.00,9,-999.0000,9,-999.0000,9,-999.0000,9,-999.0000,9,-999.0000,9,-999.0000,9,-999.0000,9,-999.0000,9,-999.0000,9,  24.1709,  24.1823,2
  33RR20070322,  I09N,   175,  1,     32,     37,2,20070420,2001,  9.9690,  86.1998, 3500, 139.5000,    139.5,  18.6380,  34.8483,2,  34.8192,2,     31.8,2,     25.2,2,    21.70,2,    25.77,2,     0.02,2,     1.87,2, -999.000,9, -999.000,9, -999.000,9,   -999.0,9,   -999.0,9,-999.0000,9,  -999.00,   -999.0,9,  -999.00,9, -999.000,9, -999.000,-999.0000,9,-999.0000,  -999.00,9,  -999.00, -999.000,9, -999.000,   -999.0,9,   -999.0,  -999.00,9,-999.0000,9,-999.0000,9,-999.0000,9,-999.0000,9,-999.0000,9,-999.0000,9,-999.0000,9,-999.0000,9,-999.0000,9,  18.6135,  18.6344,2
  33RR20070322,  I09N,   175,  1,     31,     31,2,20070420,2001,  9.9690,  86.1998, 3500, 164.2000,    164.2,  16.1684,  34.9363,2,  34.9349,2,     11.0,2,      8.8,2,    26.63,2,    29.26,2,     0.00,2,     2.15,2,    0.818,2,    0.494,2, -999.000,5,   2213.9,2,   2296.4,2,   7.5651,2,    25.00,   -999.0,9,  -999.00,9, -999.000,9, -999.000,-999.0000,9,-999.0000,  -999.00,9,  -999.00, -999.000,9, -999.000,   -999.0,9,   -999.0,  -999.00,9,-999.0000,9,-999.0000,9,-999.0000,9,-999.0000,9,-999.0000,9,-999.0000,9,-999.0000,9,-999.0000,9,-999.0000,9,  16.1423,  16.1495,2
  33RR20070322,  I09N,   175,  1,     30,     30,2,20070420,2001,  9.9690,  86.1998, 3500, 189.4000,    189.4,  14.7726,  34.9701,2,  34.9703,2,      9.1,2,      8.4,2,    29.17,2,    30.57,2,     0.00,2,     2.24,2,    0.696,2,    0.414,2, -999.000,5,   -999.0,9,   -999.0,9,-999.0000,9,  -999.00,   -999.0,9,  -999.00,9, -999.000,9, -999.000,-999.0000,9,-999.0000,  -999.00,9,  -999.00, -999.000,9, -999.000,   -999.0,9,   -999.0,  -999.00,9,-999.0000,9,-999.0000,9,-999.0000,9,-999.0000,9,-999.0000,9,-999.0000,9,-999.0000,9,-999.0000,9,-999.0000,9,  14.7442,  14.7778,2
  33RR20070322,  I09N,   175,  1,     29,     29,2,20070420,2001,  9.9690,  86.1998, 3500, 239.4000,    239.4,  13.1574,  35.0352,2,  35.0307,2,      9.0,2,     11.8,2,    30.93,2,    31.78,2,     0.00,2,     2.29,2, -999.000,9, -999.000,9, -999.000,9,   -999.0,9,   -999.0,9,-999.0000,9,  -999.00,   -999.0,9,  -999.00,9, -999.000,9, -999.000,-999.0000,9,-999.0000,  -999.00,9,  -999.00, -999.000,9, -999.000,   -999.0,9,   -999.0,  -999.00,9,-999.0000,9,-999.0000,9,-999.0000,9,-999.0000,9,-999.0000,9,-999.0000,9,-999.0000,9,-999.0000,9,-999.0000,9,  13.1241,  13.1574,2
  33RR20070322,  I09N,   175,  1,     28,     28,2,20070420,2001,  9.9690,  86.1998, 3500, 289.0000,    289.0,  12.3188,  35.0511,2,  35.0500,2,     13.4,2,     14.9,2,    32.28,2,    32.25,2,     0.00,2,     2.32,2,    0.594,2,    0.337,2, -999.000,5,   2250.6,2,   2311.1,2,   7.4838,2,    25.00,   -999.0,9,  -999.00,9, -999.000,9, -999.000,-999.0000,9,-999.0000,  -999.00,9,  -999.00, -999.000,9, -999.000,   -999.0,9,   -999.0,  -999.00,9,-999.0000,9,-999.0000,9,-999.0000,9,-999.0000,9,-999.0000,9,-999.0000,9,-999.0000,9,-999.0000,9,-999.0000,9,  12.2803,  12.3289,2
  33RR20070322,  I09N,   175,  1,     27,     27,2,20070420,2001,  9.9690,  86.1998, 3500, 339.0000,    339.0,  11.5495,  35.0469,2,  35.0457,2,     14.9,2,     14.9,2,    35.43,2,    33.42,2,     0.00,2,     2.38,2,    0.469,2,    0.265,2, -999.000,5,   -999.0,9,   -999.0,9,-999.0000,9,  -999.00,   -999.0,9,  -999.00,9, -999.000,9, -999.000,-999.0000,9,-999.0000,  -999.00,9,  -999.00, -999.000,9, -999.000,   -999.0,9,   -999.0,  -999.00,9,-999.0000,9,-999.0000,9,-999.0000,9,-999.0000,9,-999.0000,9,-999.0000,9,-999.0000,9,-999.0000,9,-999.0000,9,  11.5061,  11.5474,2
  33RR20070322,  I09N,   175,  1,     26,     26,2,20070420,2001,  9.9690,  86.1998, 3500, 388.9000,    388.9,  11.0305,  35.0460,2,  35.0461,2,     14.9,2,     14.4,2,    38.38,2,    34.29,2,     0.00,2,     2.43,2, -999.000,9, -999.000,9, -999.000,9,   -999.0,9,   -999.0,9,-999.0000,9,  -999.00,   -999.0,9,  -999.00,9, -999.000,9, -999.000,-999.0000,9,-999.0000,  -999.00,9,  -999.00, -999.000,9, -999.000,   -999.0,9,   -999.0,  -999.00,9,-999.0000,9,-999.0000,9,-999.0000,9,-999.0000,9,-999.0000,9,-999.0000,9,-999.0000,9,-999.0000,9,-999.0000,9,  10.9820,  11.0349,2
  33RR20070322,  I09N,   175,  1,     25,     25,2,20070420,2001,  9.9690,  86.1998, 3500, 439.0000,    439.0,  10.5589,  35.0384,2,  35.0380,2,     16.9,2,     15.8,2,    41.92,2,    34.82,2,     0.00,2,     2.48,2,    0.292,2,    0.166,2, -999.000,5,   2268.5,2,   2321.0,2,   7.4621,2,    25.00,   -999.0,9,  -999.00,9, -999.000,9, -999.000,-999.0000,9,-999.0000,  -999.00,9,  -999.00, -999.000,9, -999.000,   -999.0,9,   -999.0,  -999.00,9,-999.0000,9,-999.0000,9,-999.0000,9,-999.0000,9,-999.0000,9,-999.0000,9,-999.0000,9,-999.0000,9,-999.0000,9,  10.5055,  10.5552,2
  33RR20070322,  I09N,   175,  1,     24,     24,2,20070420,2001,  9.9690,  86.1998, 3500, 489.8000,    489.8,  10.1471,  35.0319,2,  35.0317,2,     15.8,2,     15.8,2,    45.87,2,    35.40,2,     0.00,2,     2.55,2, -999.000,9, -999.000,9, -999.000,9,   -999.0,9,   -999.0,9,-999.0000,9,  -999.00,   -999.0,9,  -999.00,9, -999.000,9, -999.000,-999.0000,9,-999.0000,  -999.00,9,  -999.00, -999.000,9, -999.000,   -999.0,9,   -999.0,  -999.00,9,-999.0000,9,-999.0000,9,-999.0000,9,-999.0000,9,-999.0000,9,-999.0000,9,-999.0000,9,-999.0000,9,-999.0000,9,  10.0889,  10.1449,2
  33RR20070322,  I09N,   175,  1,     23,     23,2,20070420,2001,  9.9690,  86.1998, 3500, 574.9000,    574.9,   9.5719,  35.0271,2,  35.0254,2,     18.7,2,     17.7,2,    51.20,2,    35.94,2,     0.00,2,     2.62,2,    0.148,2,    0.082,2, -999.000,5,   -999.0,9,   -999.0,9,-999.0000,9,  -999.00,   -999.0,9,  -999.00,9, -999.000,9, -999.000,-999.0000,9,-999.0000,  -999.00,9,  -999.00, -999.000,9, -999.000,   -999.0,9,   -999.0,  -999.00,9,-999.0000,9,-999.0000,9,-999.0000,9,-999.0000,9,-999.0000,9,-999.0000,9,-999.0000,9,-999.0000,9,-999.0000,9,   9.5057,   9.5708,2
  33RR20070322,  I09N,   175,  1,     22,     22,2,20070420,2001,  9.9690,  86.1998, 3500, 674.2000,    674.2,   8.7593,  34.9977,2,  34.9988,2,     23.3,2,     25.5,2,    60.33,2,    36.32,2,     0.00,2,     2.66,2,    0.098,2,    0.056,2, -999.000,5,   2288.5,2,   2343.0,2,   7.4559,2,    25.00,   -999.0,9,  -999.00,9, -999.000,9, -999.000,-999.0000,9,-999.0000,  -999.00,9,  -999.00, -999.000,9, -999.000,   -999.0,9,   -999.0,  -999.00,9,-999.0000,9,-999.0000,9,-999.0000,9,-999.0000,9,-999.0000,9,-999.0000,9,-999.0000,9,-999.0000,9,-999.0000,9,   8.6852,   8.7604,2
  33RR20070322,  I09N,   175,  1,     21,     21,2,20070420,2001,  9.9690,  86.1998, 3500, 775.2000,    775.2,   8.1024,  34.9778,2,  34.9776,2,     29.5,2,     31.6,2,    67.28,2,    36.66,2,     0.00,2,     2.69,2, -999.000,9, -999.000,9, -999.000,9,   -999.0,9,   -999.0,9,-999.0000,9,  -999.00,   -999.0,9,  -999.00,9, -999.000,9, -999.000,-999.0000,9,-999.0000,  -999.00,9,  -999.00, -999.000,9, -999.000,   -999.0,9,   -999.0,  -999.00,9,-999.0000,9,-999.0000,9,-999.0000,9,-999.0000,9,-999.0000,9,-999.0000,9,-999.0000,9,-999.0000,9,-999.0000,9,   8.0205,   8.0996,2
  33RR20070322,  I09N,   175,  1,     20,     20,2,20070420,2001,  9.9690,  86.1998, 3500, 875.2000,    875.2,   7.5177,  34.9619,2,  34.9618,2,     35.9,2,     36.4,2,    73.64,2,    36.99,2,     0.00,2,     2.73,2, -999.000,9, -999.000,9, -999.000,9,   -999.0,9,   -999.0,9,-999.0000,9,  -999.00,   -999.0,9,  -999.00,9, -999.000,9, -999.000,-999.0000,9,-999.0000,  -999.00,9,  -999.00, -999.000,9, -999.000,   -999.0,9,   -999.0,  -999.00,9,-999.0000,9,-999.0000,9,-999.0000,9,-999.0000,9,-999.0000,9,-999.0000,9,-999.0000,9,-999.0000,9,-999.0000,9,   7.4284,   7.5197,2
  33RR20070322,  I09N,   175,  1,     19,     19,2,20070420,2001,  9.9690,  86.1998, 3500, 975.6000,    975.6,   6.9749,  34.9439,2,  34.9437,2,     41.2,2,     40.5,2,    79.61,2,    37.24,2,     0.00,2,     2.75,2, -999.000,9, -999.000,9, -999.000,9,   -999.0,9,   -999.0,9,-999.0000,9,  -999.00,   -999.0,9,  -999.00,9, -999.000,9, -999.000,-999.0000,9,-999.0000,  -999.00,9,  -999.00, -999.000,9, -999.000,   -999.0,9,   -999.0,  -999.00,9,-999.0000,9,-999.0000,9,-999.0000,9,-999.0000,9,-999.0000,9,-999.0000,9,-999.0000,9,-999.0000,9,-999.0000,9,   6.8787,   6.9736,2
  33RR20070322,  I09N,   175,  1,     18,     18,2,20070420,2001,  9.9690,  86.1998, 3500,1076.0000,   1076.0,   6.4566,  34.9245,2,  34.9250,2,     47.6,2,     47.5,2,    86.19,2,    37.33,2,     0.00,2,     2.76,2, -999.000,9, -999.000,9, -999.000,9,   -999.0,9,   -999.0,9,-999.0000,9,  -999.00,   -999.0,9,  -999.00,9, -999.000,9, -999.000,-999.0000,9,-999.0000,  -999.00,9,  -999.00, -999.000,9, -999.000,   -999.0,9,   -999.0,  -999.00,9,-999.0000,9,-999.0000,9,-999.0000,9,-999.0000,9,-999.0000,9,-999.0000,9,-999.0000,9,-999.0000,9,-999.0000,9,   6.3539,   6.4554,2
  33RR20070322,  I09N,   175,  1,     17,     17,2,20070420,2001,  9.9690,  86.1998, 3500,1176.1000,   1176.1,   6.0118,  34.9075,2,  34.9061,2,     54.8,2,     54.7,2,    90.78,2,    37.37,2,     0.00,2,     2.75,2,    0.030,2,    0.015,2, -999.000,5,   -999.0,9,   -999.0,9,-999.0000,9,  -999.00,   -999.0,9,  -999.00,9, -999.000,9, -999.000,-999.0000,9,-999.0000,  -999.00,9,  -999.00, -999.000,9, -999.000,   -999.0,9,   -999.0,  -999.00,9,-999.0000,9,-999.0000,9,-999.0000,9,-999.0000,9,-999.0000,9,-999.0000,9,-999.0000,9,-999.0000,9,-999.0000,9,   5.9027,   6.0116,2
  33RR20070322,  I09N,   175,  1,     16,     16,2,20070420,2001,  9.9690,  86.1998, 3500,1276.4000,   1276.4,   5.5433,  34.8885,2,  34.8884,2,     64.5,2,     64.0,2,    95.57,2,    37.06,2,     0.00,2,     2.72,2, -999.000,9, -999.000,9, -999.000,9,   -999.0,9,   -999.0,9,-999.0000,9,  -999.00,   -999.0,9,  -999.00,9, -999.000,9, -999.000,-999.0000,9,-999.0000,  -999.00,9,  -999.00, -999.000,9, -999.000,   -999.0,9,   -999.0,  -999.00,9,-999.0000,9,-999.0000,9,-999.0000,9,-999.0000,9,-999.0000,9,-999.0000,9,-999.0000,9,-999.0000,9,-999.0000,9,   5.4285,   5.5418,2
  33RR20070322,  I09N,   175,  1,     15,     15,2,20070420,2001,  9.9690,  86.1998, 3500,1377.5000,   1377.5,   5.1162,  34.8729,2,  34.8731,2,     70.1,2,     70.0,2,   100.77,2,    37.05,2,     0.00,2,     2.73,2, -999.000,9, -999.000,9, -999.000,9,   -999.0,9,   -999.0,9,-999.0000,9,  -999.00,   -999.0,9,  -999.00,9, -999.000,9, -999.000,-999.0000,9,-999.0000,  -999.00,9,  -999.00, -999.000,9, -999.000,   -999.0,9,   -999.0,  -999.00,9,-999.0000,9,-999.0000,9,-999.0000,9,-999.0000,9,-999.0000,9,-999.0000,9,-999.0000,9,-999.0000,9,-999.0000,9,   4.9957,   5.1129,2
  33RR20070322,  I09N,   175,  1,     14,     14,2,20070420,2001,  9.9690,  86.1998, 3500,1477.6000,   1477.6,   4.7214,  34.8597,2,  34.8597,2,     73.7,2,     74.3,2,   104.97,2,    37.20,2,     0.00,2,     2.74,2, -999.000,9, -999.000,9, -999.000,9,   -999.0,9,   -999.0,9,-999.0000,9,  -999.00,   -999.0,9,  -999.00,9, -999.000,9, -999.000,-999.0000,9,-999.0000,  -999.00,9,  -999.00, -999.000,9, -999.000,   -999.0,9,   -999.0,  -999.00,9,-999.0000,9,-999.0000,9,-999.0000,9,-999.0000,9,-999.0000,9,-999.0000,9,-999.0000,9,-999.0000,9,-999.0000,9,   4.5955,   4.7191,2
  33RR20070322,  I09N,   175,  1,     13,     13,2,20070420,2001,  9.9690,  86.1998, 3500,1577.7000,   1577.7,   4.3354,  34.8450,2,  34.8456,2,     80.7,2,     80.6,2,   109.58,2,    37.09,2,     0.00,2,     2.73,2,    0.008,2,    0.004,2, -999.000,5,   -999.0,9,   -999.0,9,-999.0000,9,  -999.00,   -999.0,9,  -999.00,9, -999.000,9, -999.000,-999.0000,9,-999.0000,  -999.00,9,  -999.00, -999.000,9, -999.000,   -999.0,9,   -999.0,  -999.00,9,-999.0000,9,-999.0000,9,-999.0000,9,-999.0000,9,-999.0000,9,-999.0000,9,-999.0000,9,-999.0000,9,-999.0000,9,   4.2044,   4.3347,2
  33RR20070322,  I09N,   175,  1,     12,     12,2,20070420,2001,  9.9690,  86.1998, 3500,1779.4000,   1779.4,   3.4321,  34.8089,2,  34.8096,2,     97.6,2,     98.8,2,   119.46,2,    36.64,2,     0.00,2,     2.68,2, -999.000,9, -999.000,9, -999.000,9,   -999.0,9,   -999.0,9,-999.0000,9,  -999.00,   -999.0,9,  -999.00,9, -999.000,9, -999.000,-999.0000,9,-999.0000,  -999.00,9,  -999.00, -999.000,9, -999.000,   -999.0,9,   -999.0,  -999.00,9,-999.0000,9,-999.0000,9,-999.0000,9,-999.0000,9,-999.0000,9,-999.0000,9,-999.0000,9,-999.0000,9,-999.0000,9,   3.2939,   3.4319,2
  33RR20070322,  I09N,   175,  1,     11,     11,2,20070420,2001,  9.9690,  86.1998, 3500,1980.9000,   1980.9,   2.8305,  34.7831,2,  34.7828,2,    112.7,2,    112.7,2,   126.53,2,    36.15,2,     0.00,2,     2.63,2,    0.008,2,    0.004,2, -999.000,5,   -999.0,9,   -999.0,9,-999.0000,9,  -999.00,   -999.0,9,  -999.00,9, -999.000,9, -999.000,-999.0000,9,-999.0000,  -999.00,9,  -999.00, -999.000,9, -999.000,   -999.0,9,   -999.0,  -999.00,9,-999.0000,9,-999.0000,9,-999.0000,9,-999.0000,9,-999.0000,9,-999.0000,9,-999.0000,9,-999.0000,9,-999.0000,9,   2.6827,   2.8302,2
  33RR20070322,  I09N,   175,  1,     10,     10,2,20070420,2001,  9.9690,  86.1998, 3500,2183.0000,   2183.0,   2.4996,  34.7684,2,  34.7687,2,    121.5,2,    121.2,2,   130.77,2,    35.89,2,     0.00,2,     2.59,2, -999.000,9, -999.000,9, -999.000,9,   -999.0,9,   -999.0,9,-999.0000,9,  -999.00,   -999.0,9,  -999.00,9, -999.000,9, -999.000,-999.0000,9,-999.0000,  -999.00,9,  -999.00, -999.000,9, -999.000,   -999.0,9,   -999.0,  -999.00,9,-999.0000,9,-999.0000,9,-999.0000,9,-999.0000,9,-999.0000,9,-999.0000,9,-999.0000,9,-999.0000,9,-999.0000,9,   2.3388,   2.4996,2
  33RR20070322,  I09N,   175,  1,      9,      9,2,20070420,2001,  9.9690,  86.1998, 3500,2435.2000,   2435.2,   2.1701,  34.7535,2,  34.7541,2,    129.5,2,    129.1,2,   135.63,2,    35.59,2,     0.00,2,     2.55,2, -999.000,9, -999.000,9, -999.000,9,   -999.0,9,   -999.0,9,-999.0000,9,  -999.00,   -999.0,9,  -999.00,9, -999.000,9, -999.000,-999.0000,9,-999.0000,  -999.00,9,  -999.00, -999.000,9, -999.000,   -999.0,9,   -999.0,  -999.00,9,-999.0000,9,-999.0000,9,-999.0000,9,-999.0000,9,-999.0000,9,-999.0000,9,-999.0000,9,-999.0000,9,-999.0000,9,   1.9922,   2.1709,2
  33RR20070322,  I09N,   175,  1,      8,      8,2,20070420,2001,  9.9690,  86.1998, 3500,2687.7000,   2687.7,   1.9291,  34.7431,2,  34.7437,2,    137.5,2,    137.5,2,   137.85,2,    35.39,2,     0.00,2,     2.52,2, -999.000,9, -999.000,9, -999.000,9,   -999.0,9,   -999.0,9,-999.0000,9,  -999.00,   -999.0,9,  -999.00,9, -999.000,9, -999.000,-999.0000,9,-999.0000,  -999.00,9,  -999.00, -999.000,9, -999.000,   -999.0,9,   -999.0,  -999.00,9,-999.0000,9,-999.0000,9,-999.0000,9,-999.0000,9,-999.0000,9,-999.0000,9,-999.0000,9,-999.0000,9,-999.0000,9,   1.7324,   1.9293,2
  33RR20070322,  I09N,   175,  1,      7,      7,2,20070420,2001,  9.9690,  86.1998, 3500,2940.2000,   2940.2,   1.7569,  34.7357,2,  34.7360,2,    142.2,2,    142.4,2,   140.67,2,    35.14,2,     0.00,2,     2.49,2,    0.007,2,    0.004,2, -999.000,5,   -999.0,9,   -999.0,9,-999.0000,9,  -999.00,   -999.0,9,  -999.00,9, -999.000,9, -999.000,-999.0000,9,-999.0000,  -999.00,9,  -999.00, -999.000,9, -999.000,   -999.0,9,   -999.0,  -999.00,9,-999.0000,9,-999.0000,9,-999.0000,9,-999.0000,9,-999.0000,9,-999.0000,9,-999.0000,9,-999.0000,9,-999.0000,9,   1.5399,   1.7568,2
  33RR20070322,  I09N,   175,  1,      6,      6,2,20070420,2001,  9.9690,  86.1998, 3500,3274.9000,   3274.9,   1.5709,  34.7278,2,  34.7282,2,    151.4,2,    152.9,2,   140.64,2,    34.74,2,     0.00,2,     2.44,2, -999.000,9, -999.000,9, -999.000,9,   -999.0,9,   -999.0,9,-999.0000,9,  -999.00,   -999.0,9,  -999.00,9, -999.000,9, -999.000,-999.0000,9,-999.0000,  -999.00,9,  -999.00, -999.000,9, -999.000,   -999.0,9,   -999.0,  -999.00,9,-999.0000,9,-999.0000,9,-999.0000,9,-999.0000,9,-999.0000,9,-999.0000,9,-999.0000,9,-999.0000,9,-999.0000,9,   1.3254,   1.5703,2
  33RR20070322,  I09N,   175,  1,      5,      5,2,20070420,2001,  9.9690,  86.1998, 3500,3376.1000,   3376.1,   1.5065,  34.7259,2,  34.7264,2,    156.2,2,    157.7,2,   139.79,2,    34.59,2,     0.00,2,     2.41,2,    0.009,2,    0.004,2, -999.000,5,   2324.7,2,   2427.6,6,   7.5871,2,    25.00,   -999.0,9,  -999.00,9, -999.000,9, -999.000,-999.0000,9,-999.0000,  -999.00,9,  -999.00, -999.000,9, -999.000,   -999.0,9,   -999.0,  -999.00,9,-999.0000,9,-999.0000,9,-999.0000,9,-999.0000,9,-999.0000,9,-999.0000,9,-999.0000,9,-999.0000,9,-999.0000,9,   1.2524,   1.5068,2