BOTTLE,20150630SIOCCHRJL
EXPOCODE,SECT_ID,STNNBR,CASTNO,SAMPNO,BTLNBR,BTLNBR_FLAG_W,DATE,TIME,LATITUDE,LONGITUDE,DEPTH,CTDRAW,CTDPRS,CTDTMP,CTDSAL,CTDSAL_FLAG_W,SALNTY,SALNTY_FLAG_W,CTDOXY,CTDOXY_FLAG_W,OXYGEN,OXYGEN_FLAG_W,SILCAT,SILCAT_FLAG_W,NITRAT,NITRAT_FLAG_W,NITRIT,NITRIT_FLAG_W,PHSPHT,PHSPHT_FLAG_W,CFC-11,CFC-11_FLAG_W,CFC-12,CFC-12_FLAG_W,CFC113,CFC113_FLAG_W,TCARBN,TCARBN_FLAG_W,ALKALI,ALKALI_FLAG_W,PH_SWS,PH_SWS_FLAG_W,PH_TMP,DOC,DOC_FLAG_W,TDN,TDN_FLAG_W,TRITUM,TRITUM_FLAG_W,TRITER,HELIUM,HELIUM_FLAG_W,HELIER,DELHE3,DELHE3_FLAG_W,DELHER,NEON,NEON_FLAG_W,NEONER,DELC14,DELC14_FLAG_W,C14ERR,DELC13,DELC13_FLAG_W,CDOM325,CDOM325_FLAG_W,CDOM340,CDOM340_FLAG_W,CDOM380,CDOM380_FLAG_W,CDOM412,CDOM412_FLAG_W,CDOM443,CDOM443_FLAG_W,CDOM490,CDOM490_FLAG_W,CDOM555,CDOM555_FLAG_W,CDOMSL,CDOMSL_FLAG_W,CDOMSN,CDOMSN_FLAG_W,THETA,SBE35,SBE35_FLAG_W
,,,,,,,,,,,METERS,,DBAR,ITS-90,PSS-78,,PSS-78,,UMOL/KG,,UMOL/KG,,UMOL/KG,,UMOL/KG,,UMOL/KG,,UMOL/KG,,PMOL/KG,,PMOL/KG,,PMOL/KG,,UMOL/KG,,UMOL/KG,,,,DEG C,UMOL/KG,,UMOL/KG,,TU,,TU,NMOL/KG,,NMOL/KG,PERCNT,,PERCNT,NMOL/KG,,NMOL/KG,/MILLE,,/MILLE,/MILLE,,1/M,,1/M,,1/M,,1/M,,1/M,,1/M,,1/M,,1/NM,,1/NM,,DEG C,ITS-90,
  33RR20070322,  I09N,    93,  2,      4,      4,2,20070327,1822,-25.9045,  95.0028, 5221,4349.4000,   4349.4,   1.0921,  34.7141,2,  34.7140,2,    201.9,2,    201.9,2,   122.17,2,    32.37,2,     0.00,2,     2.27,2, -999.000,9, -999.000,9, -999.000,9,   2268.3,2,   2389.2,3,   7.6189,2,    25.00,     40.2,2,  -999.00,9, -999.000,9, -999.000,-999.0000,9,-999.0000,  -999.00,9,  -999.00, -999.000,9, -999.000,   -999.0,9,   -999.0,  -999.00,9,   0.1266,2,   0.0873,2,   0.0479,2,   0.0339,2,   0.0096,2,   0.0004,4,  -0.0019,4,   0.0144,2,   0.0156,3,   0.7464,   1.0920,2
  33RR20070322,  I09N,    93,  2,      3,      3,2,20070327,1822,-25.9045,  95.0028, 5221,4756.2000,   4756.2,   1.0770,  34.7123,2,  34.7122,2,    204.0,2,    203.9,2,   122.34,2,    32.26,2,     0.00,2,     2.27,2,    0.010,2,    0.007,2, -999.000,5,   2266.8,2,   2378.2,2,   7.6199,2,    25.00,     41.3,2,  -999.00,9, -999.000,9, -999.000,-999.0000,9,-999.0000,  -999.00,9,  -999.00, -999.000,9, -999.000,   -999.0,9,   -999.0,  -999.00,9,   0.1238,2,   0.0843,2,   0.0449,2,   0.0312,2,   0.0080,2,  -0.0001,4,  -0.0020,4,   0.0146,3,   0.0163,4,   0.6856,   1.0772,2
  33RR20070322,  I09N,    93,  2,      2,      2,2,20070327,1822,-25.9045,  95.0028, 5221,5216.4000,   5216.4,   1.1087,  34.7112,2,  34.7116,2,    204.6,2,    204.6,2,   123.14,2,    32.20,2,     0.00,2,     2.27,2,    0.013,2,    0.010,2, -999.000,5,   2266.1,2,   2379.0,2,   7.6169,2,    25.00,     41.5,2,  -999.00,9, -999.000,9, -999.000,-999.0000,9,-999.0000,  -999.00,9,  -999.00, -999.000,9, -999.000,   -999.0,9,   -999.0,  -999.00,9,   0.1251,2,   0.0856,2,   0.0456,2,   0.0317,2,   0.0082,2,  -0.0001,4,  -0.0020,4,   0.0147,2,   0.0164,3,   0.6613,   1.1092,2
  33RR20070322,  I09N,    93,  2,      1,      1,2,20070327,1822,-25.9045,  95.0028, 5221,5310.3000,   5310.3,   1.1212,  34.7107,2,  34.7113,2,    203.9,2,    204.8,2,   122.70,2,    32.36,2,     0.00,2,     2.27,2,    0.016,2,    0.012,2, -999.000,5,   2267.9,6,   2378.4,6,   7.6124,6,    25.00,     41.1,2,  -999.00,9, -999.000,9, -999.000,-999.0000,9,-999.0000,  -999.00,9,  -999.00, -999.000,9, -999.000,   -999.0,9,   -999.0,  -999.00,9,   0.1240,2,   0.0847,2,   0.0449,2,   0.0312,2,   0.0080,2,  -0.0001,4,  -0.0019,4,   0.0146,2,   0.0164,3,   0.6618,   1.1210,2