BOTTLE,20150630SIOCCHRJL
EXPOCODE,SECT_ID,STNNBR,CASTNO,SAMPNO,BTLNBR,BTLNBR_FLAG_W,DATE,TIME,LATITUDE,LONGITUDE,DEPTH,CTDRAW,CTDPRS,CTDTMP,CTDSAL,CTDSAL_FLAG_W,SALNTY,SALNTY_FLAG_W,CTDOXY,CTDOXY_FLAG_W,OXYGEN,OXYGEN_FLAG_W,SILCAT,SILCAT_FLAG_W,NITRAT,NITRAT_FLAG_W,NITRIT,NITRIT_FLAG_W,PHSPHT,PHSPHT_FLAG_W,CFC-11,CFC-11_FLAG_W,CFC-12,CFC-12_FLAG_W,CFC113,CFC113_FLAG_W,TCARBN,TCARBN_FLAG_W,ALKALI,ALKALI_FLAG_W,PH_SWS,PH_SWS_FLAG_W,PH_TMP,DOC,DOC_FLAG_W,TDN,TDN_FLAG_W,TRITUM,TRITUM_FLAG_W,TRITER,HELIUM,HELIUM_FLAG_W,HELIER,DELHE3,DELHE3_FLAG_W,DELHER,NEON,NEON_FLAG_W,NEONER,DELC14,DELC14_FLAG_W,C14ERR,DELC13,DELC13_FLAG_W,CDOM325,CDOM325_FLAG_W,CDOM340,CDOM340_FLAG_W,CDOM380,CDOM380_FLAG_W,CDOM412,CDOM412_FLAG_W,CDOM443,CDOM443_FLAG_W,CDOM490,CDOM490_FLAG_W,CDOM555,CDOM555_FLAG_W,CDOMSL,CDOMSL_FLAG_W,CDOMSN,CDOMSN_FLAG_W,THETA,SBE35,SBE35_FLAG_W
,,,,,,,,,,,METERS,,DBAR,ITS-90,PSS-78,,PSS-78,,UMOL/KG,,UMOL/KG,,UMOL/KG,,UMOL/KG,,UMOL/KG,,UMOL/KG,,PMOL/KG,,PMOL/KG,,PMOL/KG,,UMOL/KG,,UMOL/KG,,,,DEG C,UMOL/KG,,UMOL/KG,,TU,,TU,NMOL/KG,,NMOL/KG,PERCNT,,PERCNT,NMOL/KG,,NMOL/KG,/MILLE,,/MILLE,/MILLE,,1/M,,1/M,,1/M,,1/M,,1/M,,1/M,,1/M,,1/NM,,1/NM,,DEG C,ITS-90,
  33RR20070322,  I09N,   135,  3,      4,      4,2,20070410,0804, -3.1298,  94.4252, 4791,3530.8000,   3530.8,   1.3663,  34.7223,2,  34.7227,2,    176.8,2,    176.4,2,   132.33,2,    33.66,2,     0.00,2,     2.35,2, -999.000,9, -999.000,9, -999.000,9,   2302.0,2,   2407.2,2,   7.6140,2,    25.00,     41.0,2,    35.17,2, -999.000,9, -999.000,-999.0000,9,-999.0000,  -999.00,9,  -999.00, -999.000,9, -999.000,   -184.4,2,      2.2,     0.41,2,   0.1483,2,   0.1056,2,   0.0601,2,   0.0442,2,   0.0171,2,   0.0051,2,   0.0004,4,   0.0135,2,   0.0142,3,   1.1001,   1.3662,2
  33RR20070322,  I09N,   135,  3,      3,      3,2,20070410,0804, -3.1298,  94.4252, 4791,3938.2000,   3938.2,   1.1657,  34.7161,2,  34.7162,2,    189.9,2,    190.3,2,   128.94,2,    32.97,2,     0.00,2,     2.30,2,    0.002,2,    0.001,2, -999.000,5,   2289.4,2,   2398.5,2,   7.6196,2,    25.00,     40.9,2,    34.07,2, -999.000,9, -999.000,-999.0000,9,-999.0000,  -999.00,9,  -999.00, -999.000,9, -999.000,   -175.2,2,      2.5,     0.46,2,   0.1361,2,   0.0957,2,   0.0532,2,   0.0386,2,   0.0136,2,   0.0038,2,  -0.0001,4,   0.0135,2,   0.0147,3,   0.8626,   1.1659,2
  33RR20070322,  I09N,   135,  3,      2,      2,2,20070410,0804, -3.1298,  94.4252, 4791,4345.6000,   4345.6,   1.1580,  34.7148,2,  34.7147,2,    193.7,2,    193.6,2,   127.72,2,    32.71,2,     0.00,2,     2.28,2, -999.000,9, -999.000,9, -999.000,9,   2285.1,2,   2395.5,2,   7.6394,2,    25.00,     41.0,2,    34.65,2, -999.000,9, -999.000,-999.0000,9,-999.0000,  -999.00,9,  -999.00, -999.000,9, -999.000,   -169.8,2,      2.3,     0.49,2,   0.1342,2,   0.0941,2,   0.0527,2,   0.0383,2,   0.0133,2,   0.0035,2,  -0.0002,4,   0.0135,2,   0.0146,3,   0.8108,   1.1581,2
  33RR20070322,  I09N,   135,  3,      1,      1,2,20070410,0804, -3.1298,  94.4252, 4791,4854.6000,   4854.6,   1.1946,  34.7140,2,  34.7143,2,    194.5,2,    194.9,2,   126.69,2,    32.65,2,     0.00,2,     2.27,2,    0.003,2,    0.001,2, -999.000,5,   2284.5,6,   2394.7,6,   7.6322,6,    25.00,     40.8,2,    33.70,2, -999.000,9, -999.000,-999.0000,9,-999.0000,  -999.00,9,  -999.00, -999.000,9, -999.000,   -172.8,2,      2.8,     0.46,2,   0.1320,2,   0.0921,2,   0.0507,2,   0.0358,2,   0.0115,2,   0.0021,3,  -0.0010,4,   0.0140,2,   0.0153,3,   0.7877,   1.1942,2