BOTTLE,20150630SIOCCHRJL
EXPOCODE,SECT_ID,STNNBR,CASTNO,SAMPNO,BTLNBR,BTLNBR_FLAG_W,DATE,TIME,LATITUDE,LONGITUDE,DEPTH,CTDRAW,CTDPRS,CTDTMP,CTDSAL,CTDSAL_FLAG_W,SALNTY,SALNTY_FLAG_W,CTDOXY,CTDOXY_FLAG_W,OXYGEN,OXYGEN_FLAG_W,SILCAT,SILCAT_FLAG_W,NITRAT,NITRAT_FLAG_W,NITRIT,NITRIT_FLAG_W,PHSPHT,PHSPHT_FLAG_W,CFC-11,CFC-11_FLAG_W,CFC-12,CFC-12_FLAG_W,CFC113,CFC113_FLAG_W,TCARBN,TCARBN_FLAG_W,ALKALI,ALKALI_FLAG_W,PH_SWS,PH_SWS_FLAG_W,PH_TMP,DOC,DOC_FLAG_W,TDN,TDN_FLAG_W,TRITUM,TRITUM_FLAG_W,TRITER,HELIUM,HELIUM_FLAG_W,HELIER,DELHE3,DELHE3_FLAG_W,DELHER,NEON,NEON_FLAG_W,NEONER,DELC14,DELC14_FLAG_W,C14ERR,DELC13,DELC13_FLAG_W,CDOM325,CDOM325_FLAG_W,CDOM340,CDOM340_FLAG_W,CDOM380,CDOM380_FLAG_W,CDOM412,CDOM412_FLAG_W,CDOM443,CDOM443_FLAG_W,CDOM490,CDOM490_FLAG_W,CDOM555,CDOM555_FLAG_W,CDOMSL,CDOMSL_FLAG_W,CDOMSN,CDOMSN_FLAG_W,THETA,SBE35,SBE35_FLAG_W
,,,,,,,,,,,METERS,,DBAR,ITS-90,PSS-78,,PSS-78,,UMOL/KG,,UMOL/KG,,UMOL/KG,,UMOL/KG,,UMOL/KG,,UMOL/KG,,PMOL/KG,,PMOL/KG,,PMOL/KG,,UMOL/KG,,UMOL/KG,,,,DEG C,UMOL/KG,,UMOL/KG,,TU,,TU,NMOL/KG,,NMOL/KG,PERCNT,,PERCNT,NMOL/KG,,NMOL/KG,/MILLE,,/MILLE,/MILLE,,1/M,,1/M,,1/M,,1/M,,1/M,,1/M,,1/M,,1/NM,,1/NM,,DEG C,ITS-90,
  33RR20070322,  I09N,   189,  2,     36,     38,2,20070424,1810, 13.1300,  88.7442, 3013,   2.3000,      2.3,  30.3831,  32.5373,2,  32.5406,2,    197.5,2,    197.2,2,     2.62,2,     0.00,2,     0.00,2,     0.02,2,    1.546,2,    0.975,2, -999.000,5,   1877.7,6,   2183.8,2,   8.0950,3,    25.00,   -999.0,9,  -999.00,9, -999.000,9, -999.000,-999.0000,9,-999.0000,  -999.00,9,  -999.00, -999.000,9, -999.000,   -999.0,9,   -999.0,  -999.00,9,-999.0000,9,-999.0000,9,-999.0000,9,-999.0000,9,-999.0000,9,-999.0000,9,-999.0000,9,-999.0000,9,-999.0000,9,  30.3825,  30.3801,2
  33RR20070322,  I09N,   189,  2,     35,     35,2,20070424,1810, 13.1300,  88.7442, 3013,  29.4000,     29.4,  28.8988,  33.5271,2,  33.5393,2,    204.3,2,    203.5,2,     1.84,2,     0.00,2,     0.00,2,     0.03,2,    1.591,2,    1.010,2, -999.000,5,   1903.8,2,   2219.2,2,   8.1119,2,    25.00,   -999.0,9,  -999.00,9, -999.000,9, -999.000,-999.0000,9,-999.0000,  -999.00,9,  -999.00, -999.000,9, -999.000,   -999.0,9,   -999.0,  -999.00,9,-999.0000,9,-999.0000,9,-999.0000,9,-999.0000,9,-999.0000,9,-999.0000,9,-999.0000,9,-999.0000,9,-999.0000,9,  28.8917,  28.9017,2
  33RR20070322,  I09N,   189,  2,     34,   9419,2,20070424,1810, 13.1300,  88.7442, 3013,  54.1000,     54.1,  27.3979,  33.6304,2,  33.5915,2,    206.8,2,    190.4,2,     1.84,2,     0.00,2,     0.00,2,     0.07,2, -999.000,9, -999.000,9, -999.000,9,   -999.0,9,   -999.0,9,-999.0000,9,  -999.00,   -999.0,9,  -999.00,9, -999.000,9, -999.000,-999.0000,9,-999.0000,  -999.00,9,  -999.00, -999.000,9, -999.000,   -999.0,9,   -999.0,  -999.00,9,-999.0000,9,-999.0000,9,-999.0000,9,-999.0000,9,-999.0000,9,-999.0000,9,-999.0000,9,-999.0000,9,-999.0000,9,  27.3854,  27.3788,2
  33RR20070322,  I09N,   189,  2,     33,     33,2,20070424,1810, 13.1300,  88.7442, 3013,  79.0000,     79.0,  27.0321,  34.2940,2,  34.2619,2,    168.6,2,    163.9,2,     2.61,2,     0.40,2,     0.37,2,     0.25,2,    1.536,2,    0.985,2, -999.000,5,   1974.8,2,   2251.6,2,   8.0120,2,    25.00,   -999.0,9,  -999.00,9, -999.000,9, -999.000,-999.0000,9,-999.0000,  -999.00,9,  -999.00, -999.000,9, -999.000,   -999.0,9,   -999.0,  -999.00,9,-999.0000,9,-999.0000,9,-999.0000,9,-999.0000,9,-999.0000,9,-999.0000,9,-999.0000,9,-999.0000,9,-999.0000,9,  27.0140,  27.0753,2
  33RR20070322,  I09N,   189,  2,     32,     37,2,20070424,1810, 13.1300,  88.7442, 3013,  93.4000,     93.4,  25.7079,  34.7525,2,  34.7306,2,     97.5,2,     79.6,2,     6.86,2,    12.75,2,     0.17,2,     1.00,2, -999.000,9, -999.000,9, -999.000,9,   -999.0,9,   -999.0,9,-999.0000,9,  -999.00,   -999.0,9,  -999.00,9, -999.000,9, -999.000,-999.0000,9,-999.0000,  -999.00,9,  -999.00, -999.000,9, -999.000,   -999.0,9,   -999.0,  -999.00,9,-999.0000,9,-999.0000,9,-999.0000,9,-999.0000,9,-999.0000,9,-999.0000,9,-999.0000,9,-999.0000,9,-999.0000,9,  25.6873,  25.6440,2
  33RR20070322,  I09N,   189,  2,     31,     31,2,20070424,1810, 13.1300,  88.7442, 3013, 103.2000,    103.2,  24.0056,  34.8436,2,  34.8416,2,     51.4,2,     31.3,2,    11.32,2,    20.15,2,     0.06,2,     1.48,2, -999.000,9, -999.000,9, -999.000,9,   -999.0,9,   -999.0,9,-999.0000,9,  -999.00,   -999.0,9,  -999.00,9, -999.000,9, -999.000,-999.0000,9,-999.0000,  -999.00,9,  -999.00, -999.000,9, -999.000,   -999.0,9,   -999.0,  -999.00,9,-999.0000,9,-999.0000,9,-999.0000,9,-999.0000,9,-999.0000,9,-999.0000,9,-999.0000,9,-999.0000,9,-999.0000,9,  23.9839,  24.0101,2
  33RR20070322,  I09N,   189,  2,     30,     30,2,20070424,1810, 13.1300,  88.7442, 3013, 128.5000,    128.5,  19.8042,  34.8647,2,  34.8721,2,     14.6,2,      6.4,2,    20.43,2,    25.62,2,     0.03,2,     1.94,2,    1.069,2,    0.652,2, -999.000,5,   2182.6,2,   2284.0,2,   7.6163,2,    25.00,   -999.0,9,  -999.00,9, -999.000,9, -999.000,-999.0000,9,-999.0000,  -999.00,9,  -999.00, -999.000,9, -999.000,   -999.0,9,   -999.0,  -999.00,9,-999.0000,9,-999.0000,9,-999.0000,9,-999.0000,9,-999.0000,9,-999.0000,9,-999.0000,9,-999.0000,9,-999.0000,9,  19.7806,  19.7882,2
  33RR20070322,  I09N,   189,  2,     29,     29,2,20070424,1810, 13.1300,  88.7442, 3013, 153.3000,    153.3,  16.7066,  34.8588,2,  34.8580,2,     11.2,2,     11.3,2,    27.02,2,    28.01,2,     0.01,2,     2.09,2, -999.000,9, -999.000,9, -999.000,9,   -999.0,9,   -999.0,9,-999.0000,9,  -999.00,   -999.0,9,  -999.00,9, -999.000,9, -999.000,-999.0000,9,-999.0000,  -999.00,9,  -999.00, -999.000,9, -999.000,   -999.0,9,   -999.0,  -999.00,9,-999.0000,9,-999.0000,9,-999.0000,9,-999.0000,9,-999.0000,9,-999.0000,9,-999.0000,9,-999.0000,9,-999.0000,9,  16.6817,  16.6915,2
  33RR20070322,  I09N,   189,  2,     28,     28,2,20070424,1810, 13.1300,  88.7442, 3013, 203.5000,    203.5,  13.6534,  34.9851,2,  34.9843,2,      3.9,2,      3.5,2,    32.46,2,    31.66,2,     0.00,2,     2.34,2,    0.514,2,    0.296,2, -999.000,5,   2247.5,2,   2308.3,6,   7.5073,2,    25.00,   -999.0,9,  -999.00,9, -999.000,9, -999.000,-999.0000,9,-999.0000,  -999.00,9,  -999.00, -999.000,9, -999.000,   -999.0,9,   -999.0,  -999.00,9,-999.0000,9,-999.0000,9,-999.0000,9,-999.0000,9,-999.0000,9,-999.0000,9,-999.0000,9,-999.0000,9,-999.0000,9,  13.6245,  13.6707,2
  33RR20070322,  I09N,   189,  2,     27,     27,2,20070424,1810, 13.1300,  88.7442, 3013, 253.5000,    253.5,  12.1799,  35.0189,2,  35.0171,2,      6.1,2,      6.5,2,    35.75,2,    33.22,2,     0.00,2,     2.40,2, -999.000,9, -999.000,9, -999.000,9,   -999.0,9,   -999.0,9,-999.0000,9,  -999.00,   -999.0,9,  -999.00,9, -999.000,9, -999.000,-999.0000,9,-999.0000,  -999.00,9,  -999.00, -999.000,9, -999.000,   -999.0,9,   -999.0,  -999.00,9,-999.0000,9,-999.0000,9,-999.0000,9,-999.0000,9,-999.0000,9,-999.0000,9,-999.0000,9,-999.0000,9,-999.0000,9,  12.1464,  12.1784,2
  33RR20070322,  I09N,   189,  2,     26,     26,2,20070424,1810, 13.1300,  88.7442, 3013, 303.1000,    303.1,  11.3713,  35.0282,2,  35.0281,2,      9.2,2,     10.0,2,    38.47,2,    33.95,2,     0.00,2,     2.42,2, -999.000,9, -999.000,9, -999.000,9,   -999.0,9,   -999.0,9,-999.0000,9,  -999.00,   -999.0,9,  -999.00,9, -999.000,9, -999.000,-999.0000,9,-999.0000,  -999.00,9,  -999.00, -999.000,9, -999.000,   -999.0,9,   -999.0,  -999.00,9,-999.0000,9,-999.0000,9,-999.0000,9,-999.0000,9,-999.0000,9,-999.0000,9,-999.0000,9,-999.0000,9,-999.0000,9,  11.3329,  11.3779,2
  33RR20070322,  I09N,   189,  2,     25,     25,2,20070424,1810, 13.1300,  88.7442, 3013, 353.3000,    353.3,  10.9025,  35.0279,2,  35.0266,2,      8.2,2,      8.0,2,    42.15,2,    34.72,2,     0.00,2,     2.50,2, -999.000,9, -999.000,9, -999.000,9,   -999.0,9,   -999.0,9,-999.0000,9,  -999.00,   -999.0,9,  -999.00,9, -999.000,9, -999.000,-999.0000,9,-999.0000,  -999.00,9,  -999.00, -999.000,9, -999.000,   -999.0,9,   -999.0,  -999.00,9,-999.0000,9,-999.0000,9,-999.0000,9,-999.0000,9,-999.0000,9,-999.0000,9,-999.0000,9,-999.0000,9,-999.0000,9,  10.8589,  10.9022,2
  33RR20070322,  I09N,   189,  2,     24,     24,2,20070424,1810, 13.1300,  88.7442, 3013, 403.4000,    403.4,  10.5946,  35.0260,2,  35.0260,2,      8.6,2,      8.5,2,    44.29,2,    35.11,2,     0.00,2,     2.53,2, -999.000,9, -999.000,9, -999.000,9,   -999.0,9,   -999.0,9,-999.0000,9,  -999.00,   -999.0,9,  -999.00,9, -999.000,9, -999.000,-999.0000,9,-999.0000,  -999.00,9,  -999.00, -999.000,9, -999.000,   -999.0,9,   -999.0,  -999.00,9,-999.0000,9,-999.0000,9,-999.0000,9,-999.0000,9,-999.0000,9,-999.0000,9,-999.0000,9,-999.0000,9,-999.0000,9,  10.5455,  10.5946,2
  33RR20070322,  I09N,   189,  2,     23,     23,2,20070424,1810, 13.1300,  88.7442, 3013, 453.6000,    453.6,  10.3943,  35.0261,2,  35.0248,2,     10.0,2,      9.9,2,    45.45,2,    35.36,2,     0.00,2,     2.55,2,    0.208,2,    0.116,2, -999.000,5,   2279.2,2,   2322.7,6,   7.4493,2,    25.00,   -999.0,9,  -999.00,9, -999.000,9, -999.000,-999.0000,9,-999.0000,  -999.00,9,  -999.00, -999.000,9, -999.000,   -999.0,9,   -999.0,  -999.00,9,-999.0000,9,-999.0000,9,-999.0000,9,-999.0000,9,-999.0000,9,-999.0000,9,-999.0000,9,-999.0000,9,-999.0000,9,  10.3397,  10.3931,2
  33RR20070322,  I09N,   189,  2,     22,     22,2,20070424,1810, 13.1300,  88.7442, 3013, 503.6000,    503.6,  10.0600,  35.0286,2,  35.0291,2,      8.3,2,      8.2,2,    47.59,2,    35.94,2,     0.00,2,     2.60,2, -999.000,9, -999.000,9, -999.000,9,   -999.0,9,   -999.0,9,-999.0000,9,  -999.00,   -999.0,9,  -999.00,9, -999.000,9, -999.000,-999.0000,9,-999.0000,  -999.00,9,  -999.00, -999.000,9, -999.000,   -999.0,9,   -999.0,  -999.00,9,-999.0000,9,-999.0000,9,-999.0000,9,-999.0000,9,-999.0000,9,-999.0000,9,-999.0000,9,-999.0000,9,-999.0000,9,  10.0004,  10.0632,2
  33RR20070322,  I09N,   189,  2,     21,     21,2,20070424,1810, 13.1300,  88.7442, 3013, 603.5000,    603.5,   9.3069,  35.0121,2,  35.0120,2,     12.5,2,     12.7,2,    55.37,2,    36.67,2,     0.00,2,     2.66,2, -999.000,9, -999.000,9, -999.000,9,   -999.0,9,   -999.0,9,-999.0000,9,  -999.00,   -999.0,9,  -999.00,9, -999.000,9, -999.000,-999.0000,9,-999.0000,  -999.00,9,  -999.00, -999.000,9, -999.000,   -999.0,9,   -999.0,  -999.00,9,-999.0000,9,-999.0000,9,-999.0000,9,-999.0000,9,-999.0000,9,-999.0000,9,-999.0000,9,-999.0000,9,-999.0000,9,   9.2384,   9.3066,2
  33RR20070322,  I09N,   189,  2,     20,     20,2,20070424,1810, 13.1300,  88.7442, 3013, 704.2000,    704.2,   8.5577,  34.9916,2,  34.9919,2,     21.6,2,     22.0,2,    62.77,2,    36.87,2,     0.00,2,     2.68,2, -999.000,9, -999.000,9, -999.000,9,   -999.0,9,   -999.0,9,-999.0000,9,  -999.00,   -999.0,9,  -999.00,9, -999.000,9, -999.000,-999.0000,9,-999.0000,  -999.00,9,  -999.00, -999.000,9, -999.000,   -999.0,9,   -999.0,  -999.00,9,-999.0000,9,-999.0000,9,-999.0000,9,-999.0000,9,-999.0000,9,-999.0000,9,-999.0000,9,-999.0000,9,-999.0000,9,   8.4812,   8.5566,2
  33RR20070322,  I09N,   189,  2,     19,     19,2,20070424,1810, 13.1300,  88.7442, 3013, 804.3000,    804.3,   7.9524,  34.9727,2,  34.9727,2,     30.1,2,     28.4,2,    69.21,2,    37.02,2,     0.00,2,     2.71,2, -999.000,9, -999.000,9, -999.000,9,   -999.0,9,   -999.0,9,-999.0000,9,  -999.00,   -999.0,9,  -999.00,9, -999.000,9, -999.000,-999.0000,9,-999.0000,  -999.00,9,  -999.00, -999.000,9, -999.000,   -999.0,9,   -999.0,  -999.00,9,-999.0000,9,-999.0000,9,-999.0000,9,-999.0000,9,-999.0000,9,-999.0000,9,-999.0000,9,-999.0000,9,-999.0000,9,   7.8681,   7.9516,2
  33RR20070322,  I09N,   189,  2,     18,     18,2,20070424,1810, 13.1300,  88.7442, 3013, 904.7000,    904.7,   7.4124,  34.9561,2,  34.9575,2,     35.8,2,     33.6,2,    75.65,2,    37.26,2,     0.00,2,     2.74,2, -999.000,9, -999.000,9, -999.000,9,   -999.0,9,   -999.0,9,-999.0000,9,  -999.00,   -999.0,9,  -999.00,9, -999.000,9, -999.000,-999.0000,9,-999.0000,  -999.00,9,  -999.00, -999.000,9, -999.000,   -999.0,9,   -999.0,  -999.00,9,-999.0000,9,-999.0000,9,-999.0000,9,-999.0000,9,-999.0000,9,-999.0000,9,-999.0000,9,-999.0000,9,-999.0000,9,   7.3206,   7.4084,2
  33RR20070322,  I09N,   189,  2,     17,     17,2,20070424,1810, 13.1300,  88.7442, 3013,1005.0000,   1005.0,   6.7152,  34.9320,2,  34.9329,2,     43.1,2,     42.7,2,    82.90,2,    37.35,2,     0.00,2,     2.75,2, -999.000,9, -999.000,9, -999.000,9,   -999.0,9,   -999.0,9,-999.0000,9,  -999.00,   -999.0,9,  -999.00,9, -999.000,9, -999.000,-999.0000,9,-999.0000,  -999.00,9,  -999.00, -999.000,9, -999.000,   -999.0,9,   -999.0,  -999.00,9,-999.0000,9,-999.0000,9,-999.0000,9,-999.0000,9,-999.0000,9,-999.0000,9,-999.0000,9,-999.0000,9,-999.0000,9,   6.6178,   6.7139,2
  33RR20070322,  I09N,   189,  2,     16,     16,2,20070424,1810, 13.1300,  88.7442, 3013,1105.5000,   1105.5,   6.1408,  34.9115,2,  34.9113,2,     50.6,2,     49.9,2,    89.75,2,    37.45,2,     0.00,2,     2.75,2, -999.000,9, -999.000,9, -999.000,9,   -999.0,9,   -999.0,9,-999.0000,9,  -999.00,   -999.0,9,  -999.00,9, -999.000,9, -999.000,-999.0000,9,-999.0000,  -999.00,9,  -999.00, -999.000,9, -999.000,   -999.0,9,   -999.0,  -999.00,9,-999.0000,9,-999.0000,9,-999.0000,9,-999.0000,9,-999.0000,9,-999.0000,9,-999.0000,9,-999.0000,9,-999.0000,9,   6.0377,   6.1410,2
  33RR20070322,  I09N,   189,  2,     15,     15,2,20070424,1810, 13.1300,  88.7442, 3013,1205.3000,   1205.3,   5.7261,  34.8958,2,  34.8965,2,     57.9,2,     57.5,2,    94.08,2,    37.29,2,     0.00,2,     2.74,2,    0.024,2,    0.007,2, -999.000,5,   2319.7,2,   2366.5,2,   7.4761,2,    25.00,   -999.0,9,  -999.00,9, -999.000,9, -999.000,-999.0000,9,-999.0000,  -999.00,9,  -999.00, -999.000,9, -999.000,   -999.0,9,   -999.0,  -999.00,9,-999.0000,9,-999.0000,9,-999.0000,9,-999.0000,9,-999.0000,9,-999.0000,9,-999.0000,9,-999.0000,9,-999.0000,9,   5.6166,   5.7261,2
  33RR20070322,  I09N,   189,  2,     14,     14,2,20070424,1810, 13.1300,  88.7442, 3013,1306.2000,   1306.2,   5.3104,  34.8809,2,  34.8816,2,     62.4,2,     62.4,2,    98.80,2,    37.39,2,     0.00,2,     2.75,2, -999.000,9, -999.000,9, -999.000,9,   -999.0,9,   -999.0,9,-999.0000,9,  -999.00,   -999.0,9,  -999.00,9, -999.000,9, -999.000,-999.0000,9,-999.0000,  -999.00,9,  -999.00, -999.000,9, -999.000,   -999.0,9,   -999.0,  -999.00,9,-999.0000,9,-999.0000,9,-999.0000,9,-999.0000,9,-999.0000,9,-999.0000,9,-999.0000,9,-999.0000,9,-999.0000,9,   5.1949,   5.3095,2
  33RR20070322,  I09N,   189,  2,     13,     13,2,20070424,1810, 13.1300,  88.7442, 3013,1406.7000,   1406.7,   4.8779,  34.8653,2,  34.8666,2,     69.0,2,     69.0,2,   103.32,2,    37.34,2,     0.00,2,     2.74,2, -999.000,9, -999.000,9, -999.000,9,   -999.0,9,   -999.0,9,-999.0000,9,  -999.00,   -999.0,9,  -999.00,9, -999.000,9, -999.000,-999.0000,9,-999.0000,  -999.00,9,  -999.00, -999.000,9, -999.000,   -999.0,9,   -999.0,  -999.00,9,-999.0000,9,-999.0000,9,-999.0000,9,-999.0000,9,-999.0000,9,-999.0000,9,-999.0000,9,-999.0000,9,-999.0000,9,   4.7571,   4.8796,2
  33RR20070322,  I09N,   189,  2,     12,     12,2,20070424,1810, 13.1300,  88.7442, 3013,1507.4000,   1507.4,   4.4341,  34.8487,2,  34.8491,2,     76.5,2,     77.3,2,   108.44,2,    37.09,2,     0.00,2,     2.72,2, -999.000,9, -999.000,9, -999.000,9,   -999.0,9,   -999.0,9,-999.0000,9,  -999.00,   -999.0,9,  -999.00,9, -999.000,9, -999.000,-999.0000,9,-999.0000,  -999.00,9,  -999.00, -999.000,9, -999.000,   -999.0,9,   -999.0,  -999.00,9,-999.0000,9,-999.0000,9,-999.0000,9,-999.0000,9,-999.0000,9,-999.0000,9,-999.0000,9,-999.0000,9,-999.0000,9,   4.3086,   4.4330,2
  33RR20070322,  I09N,   189,  2,     11,     11,2,20070424,1810, 13.1300,  88.7442, 3013,1608.0000,   1608.0,   3.9763,  34.8310,2,  34.8308,2,     85.3,2,     86.0,2,   113.98,2,    36.88,2,     0.00,2,     2.70,2, -999.000,9, -999.000,9, -999.000,9,   -999.0,9,   -999.0,9,-999.0000,9,  -999.00,   -999.0,9,  -999.00,9, -999.000,9, -999.000,-999.0000,9,-999.0000,  -999.00,9,  -999.00, -999.000,9, -999.000,   -999.0,9,   -999.0,  -999.00,9,-999.0000,9,-999.0000,9,-999.0000,9,-999.0000,9,-999.0000,9,-999.0000,9,-999.0000,9,-999.0000,9,-999.0000,9,   3.8468,   3.9781,2
  33RR20070322,  I09N,   189,  2,     10,     10,2,20070424,1810, 13.1300,  88.7442, 3013,1707.8000,   1707.8,   3.5248,  34.8125,2,  34.8131,2,     94.6,2,     95.1,2,   119.13,2,    36.64,2,     0.00,2,     2.68,2, -999.000,9, -999.000,9, -999.000,9,   -999.0,9,   -999.0,9,-999.0000,9,  -999.00,   -999.0,9,  -999.00,9, -999.000,9, -999.000,-999.0000,9,-999.0000,  -999.00,9,  -999.00, -999.000,9, -999.000,   -999.0,9,   -999.0,  -999.00,9,-999.0000,9,-999.0000,9,-999.0000,9,-999.0000,9,-999.0000,9,-999.0000,9,-999.0000,9,-999.0000,9,-999.0000,9,   3.3919,   3.5267,2
  33RR20070322,  I09N,   189,  2,      9,      9,2,20070424,1810, 13.1300,  88.7442, 3013,1809.6000,   1809.6,   3.1937,  34.7980,2,  34.7992,2,    102.4,2,    103.4,2,   122.29,2,    36.39,2,     0.00,2,     2.65,2, -999.000,9, -999.000,9, -999.000,9,   -999.0,9,   -999.0,9,-999.0000,9,  -999.00,   -999.0,9,  -999.00,9, -999.000,9, -999.000,-999.0000,9,-999.0000,  -999.00,9,  -999.00, -999.000,9, -999.000,   -999.0,9,   -999.0,  -999.00,9,-999.0000,9,-999.0000,9,-999.0000,9,-999.0000,9,-999.0000,9,-999.0000,9,-999.0000,9,-999.0000,9,-999.0000,9,   3.0560,   3.1950,2
  33RR20070322,  I09N,   189,  2,      8,      8,2,20070424,1810, 13.1300,  88.7442, 3013,1910.8000,   1910.8,   2.9232,  34.7863,2,  34.7874,2,    110.0,2,    109.8,2,   125.47,2,    36.18,2,     0.00,2,     2.62,2, -999.000,9, -999.000,9, -999.000,9,   -999.0,9,   -999.0,9,-999.0000,9,  -999.00,   -999.0,9,  -999.00,9, -999.000,9, -999.000,-999.0000,9,-999.0000,  -999.00,9,  -999.00, -999.000,9, -999.000,   -999.0,9,   -999.0,  -999.00,9,-999.0000,9,-999.0000,9,-999.0000,9,-999.0000,9,-999.0000,9,-999.0000,9,-999.0000,9,-999.0000,9,-999.0000,9,   2.7803,   2.9263,2
  33RR20070322,  I09N,   189,  2,      7,      7,2,20070424,1810, 13.1300,  88.7442, 3013,2011.0000,   2011.0,   2.7153,  34.7774,2,  34.7787,2,    115.8,2,    115.8,2,   127.45,2,    35.99,2,     0.00,2,     2.60,2, -999.000,9, -999.000,9, -999.000,9,   -999.0,9,   -999.0,9,-999.0000,9,  -999.00,   -999.0,9,  -999.00,9, -999.000,9, -999.000,-999.0000,9,-999.0000,  -999.00,9,  -999.00, -999.000,9, -999.000,   -999.0,9,   -999.0,  -999.00,9,-999.0000,9,-999.0000,9,-999.0000,9,-999.0000,9,-999.0000,9,-999.0000,9,-999.0000,9,-999.0000,9,-999.0000,9,   2.5665,   2.7162,2
  33RR20070322,  I09N,   189,  2,      6,      6,2,20070424,1810, 13.1300,  88.7442, 3013,2261.9000,   2261.9,   2.3611,  34.7618,2,  34.7622,2,    124.6,2,    123.2,2,   132.82,2,    35.73,2,     0.00,2,     2.57,2, -999.000,9, -999.000,9, -999.000,9,   -999.0,9,   -999.0,9,-999.0000,9,  -999.00,   -999.0,9,  -999.00,9, -999.000,9, -999.000,-999.0000,9,-999.0000,  -999.00,9,  -999.00, -999.000,9, -999.000,   -999.0,9,   -999.0,  -999.00,9,-999.0000,9,-999.0000,9,-999.0000,9,-999.0000,9,-999.0000,9,-999.0000,9,-999.0000,9,-999.0000,9,-999.0000,9,   2.1956,   2.3602,2
  33RR20070322,  I09N,   189,  2,      5,      5,2,20070424,1810, 13.1300,  88.7442, 3013,2515.4000,   2515.4,   2.0752,  34.7491,2,  34.7500,2,    131.4,2,    131.2,2,   136.41,2,    35.44,2,     0.00,2,     2.53,2, -999.000,9, -999.000,9, -999.000,9,   -999.0,9,   -999.0,9,-999.0000,9,  -999.00,   -999.0,9,  -999.00,9, -999.000,9, -999.000,-999.0000,9,-999.0000,  -999.00,9,  -999.00, -999.000,9, -999.000,   -999.0,9,   -999.0,  -999.00,9,-999.0000,9,-999.0000,9,-999.0000,9,-999.0000,9,-999.0000,9,-999.0000,9,-999.0000,9,-999.0000,9,-999.0000,9,   1.8917,   2.0747,2