BOTTLE,20150630SIOCCHRJL
EXPOCODE,SECT_ID,STNNBR,CASTNO,SAMPNO,BTLNBR,BTLNBR_FLAG_W,DATE,TIME,LATITUDE,LONGITUDE,DEPTH,CTDRAW,CTDPRS,CTDTMP,CTDSAL,CTDSAL_FLAG_W,SALNTY,SALNTY_FLAG_W,CTDOXY,CTDOXY_FLAG_W,OXYGEN,OXYGEN_FLAG_W,SILCAT,SILCAT_FLAG_W,NITRAT,NITRAT_FLAG_W,NITRIT,NITRIT_FLAG_W,PHSPHT,PHSPHT_FLAG_W,CFC-11,CFC-11_FLAG_W,CFC-12,CFC-12_FLAG_W,CFC113,CFC113_FLAG_W,TCARBN,TCARBN_FLAG_W,ALKALI,ALKALI_FLAG_W,PH_SWS,PH_SWS_FLAG_W,PH_TMP,DOC,DOC_FLAG_W,TDN,TDN_FLAG_W,TRITUM,TRITUM_FLAG_W,TRITER,HELIUM,HELIUM_FLAG_W,HELIER,DELHE3,DELHE3_FLAG_W,DELHER,NEON,NEON_FLAG_W,NEONER,DELC14,DELC14_FLAG_W,C14ERR,DELC13,DELC13_FLAG_W,CDOM325,CDOM325_FLAG_W,CDOM340,CDOM340_FLAG_W,CDOM380,CDOM380_FLAG_W,CDOM412,CDOM412_FLAG_W,CDOM443,CDOM443_FLAG_W,CDOM490,CDOM490_FLAG_W,CDOM555,CDOM555_FLAG_W,CDOMSL,CDOMSL_FLAG_W,CDOMSN,CDOMSN_FLAG_W,THETA,SBE35,SBE35_FLAG_W
,,,,,,,,,,,METERS,,DBAR,ITS-90,PSS-78,,PSS-78,,UMOL/KG,,UMOL/KG,,UMOL/KG,,UMOL/KG,,UMOL/KG,,UMOL/KG,,PMOL/KG,,PMOL/KG,,PMOL/KG,,UMOL/KG,,UMOL/KG,,,,DEG C,UMOL/KG,,UMOL/KG,,TU,,TU,NMOL/KG,,NMOL/KG,PERCNT,,PERCNT,NMOL/KG,,NMOL/KG,/MILLE,,/MILLE,/MILLE,,1/M,,1/M,,1/M,,1/M,,1/M,,1/M,,1/M,,1/NM,,1/NM,,DEG C,ITS-90,
  33RR20070322,  I09N,   174,  2,     36,     38,2,20070420,1410,  9.8280,  86.7822, 3508,   1.6000,      1.6,  29.9807,  33.5838,2,  33.5986,3,    196.1,2,    195.7,2,     1.32,2,     0.06,2,     0.00,2,     0.06,2,    1.528,2,    0.981,2, -999.000,5,   1897.0,6,   2212.8,6,   8.0935,6,    25.00,     73.6,2,     5.39,2, -999.000,9, -999.000,-999.0000,9,-999.0000,  -999.00,9,  -999.00, -999.000,9, -999.000,   -999.0,9,   -999.0,  -999.00,9,   0.0744,2,   0.0480,2,   0.0206,2,   0.0144,2,  -0.0023,4,  -0.0034,4,  -0.0037,4,   0.0099,3,   0.0222,3,  29.9803,  30.2079,3
  33RR20070322,  I09N,   174,  2,     35,     35,2,20070420,1410,  9.8280,  86.7822, 3508,  38.6000,     38.6,  28.9035,  34.2133,2,  34.2172,2,    200.4,2,    201.9,2,     1.30,2,     0.06,2,     0.00,2,     0.09,2,    1.575,2,    1.018,2, -999.000,5,   1922.5,2,   2241.1,2,   8.0970,2,    25.00,     73.2,2,     5.43,2, -999.000,9, -999.000,-999.0000,9,-999.0000,  -999.00,9,  -999.00, -999.000,9, -999.000,     37.2,2,      3.3,     1.07,2,   0.1111,2,   0.0752,2,   0.0355,2,   0.0252,2,   0.0036,2,  -0.0001,4,  -0.0019,4,   0.0121,3,   0.0182,3,  28.8942,  28.8954,2
  33RR20070322,  I09N,   174,  2,     34,   9419,2,20070420,1410,  9.8280,  86.7822, 3508,  73.4000,     73.4,  28.6344,  34.6974,2,  34.7013,2,    198.8,2,    197.1,2,     1.28,2,     0.06,2,     0.00,2,     0.13,2,    1.546,2,    0.996,2, -999.000,5,   1947.7,2,   2265.8,2,   8.0910,3,    25.00,     68.1,2,     5.63,2, -999.000,9, -999.000,-999.0000,9,-999.0000,  -999.00,9,  -999.00, -999.000,9, -999.000,   -999.0,9,   -999.0,  -999.00,9,   0.1188,2,   0.0831,2,   0.0415,2,   0.0306,2,   0.0063,2,   0.0009,3,  -0.0015,4,   0.0119,3,   0.0166,3,  28.6168,  28.6399,2
  33RR20070322,  I09N,   174,  2,     33,     33,2,20070420,1410,  9.8280,  86.7822, 3508,  93.2000,     93.2,  26.5419,  34.5577,2,  34.5566,2,    157.8,2,    136.9,2,     4.44,2,     4.59,2,     0.74,2,     0.57,2,    1.435,2,    0.930,2, -999.000,5,   2010.4,2,   2258.0,2,   7.9660,2,    25.00,     63.5,2,    10.07,2, -999.000,9, -999.000,-999.0000,9,-999.0000,  -999.00,9,  -999.00, -999.000,9, -999.000,     21.7,2,      3.4,     0.71,2,   0.1863,2,   0.1365,2,   0.0708,2,   0.0524,2,   0.0183,2,   0.0061,2,   0.0013,2,   0.0135,3,   0.0156,3,  26.5208,  26.5299,2
  33RR20070322,  I09N,   174,  2,     32,     37,2,20070420,1410,  9.8280,  86.7822, 3508, 124.4000,    124.4,  20.5237,  34.7252,2,  34.7242,2,     40.5,2,     40.4,2,    17.56,2,    22.56,2,     0.03,2,     1.61,2,    1.124,2,    0.700,2, -999.000,5,   2143.2,2,   2277.2,2,   7.6784,2,    25.00,     54.3,2,    27.21,2, -999.000,9, -999.000,-999.0000,9,-999.0000,  -999.00,9,  -999.00, -999.000,9, -999.000,   -999.0,9,   -999.0,  -999.00,9,   0.1973,2,   0.1454,2,   0.0823,2,   0.0642,2,   0.0252,2,   0.0079,2,   0.0018,2,   0.0146,3,   0.0141,3,  20.5003,  20.5638,2
  33RR20070322,  I09N,   174,  2,     31,     31,2,20070420,1410,  9.8280,  86.7822, 3508, 143.5000,    143.5,  18.2468,  34.8774,2,  34.8783,2,     23.0,2,     12.9,2,    22.51,2,    27.05,2,     0.01,2,     1.97,2,    0.962,2,    0.580,2, -999.000,5,   2189.3,2,   2288.8,2,   7.6071,2,    25.00,     51.9,2,    30.89,2, -999.000,9, -999.000,-999.0000,9,-999.0000,  -999.00,9,  -999.00, -999.000,9, -999.000,     -6.5,2,      4.1,     0.14,2,   0.1920,2,   0.1424,2,   0.0825,2,   0.0644,2,   0.0262,2,   0.0080,2,   0.0015,2,   0.0144,3,   0.0137,3,  18.2220,  18.2464,2
  33RR20070322,  I09N,   174,  2,     30,     30,2,20070420,1410,  9.8280,  86.7822, 3508, 173.3000,    173.3,  15.2770,  34.9469,2,  34.9405,2,      7.2,2,      6.0,2,    28.46,2,    30.10,2,     0.00,2,     2.22,2,    0.714,2,    0.422,2, -999.000,5,   2224.8,2,   2299.5,2,   7.5297,2,    25.00,     50.6,2,    33.42,2, -999.000,9, -999.000,-999.0000,9,-999.0000,  -999.00,9,  -999.00, -999.000,9, -999.000,   -999.0,9,   -999.0,  -999.00,9,   0.1921,2,   0.1436,2,   0.0860,2,   0.0674,2,   0.0290,2,   0.0089,2,   0.0016,2,   0.0142,3,   0.0131,3,  15.2505,  15.3056,2
  33RR20070322,  I09N,   174,  2,     29,     29,2,20070420,1410,  9.8280,  86.7822, 3508, 223.8000,    223.8,  13.0524,  35.0122,2,  35.0051,2,      7.1,2,      6.6,2,    32.82,2,    32.22,2,     0.00,2,     2.34,2,    0.521,2,    0.302,2, -999.000,5,   2247.8,2,   2307.9,6,-999.0000,5,    25.00,     48.4,2,    36.05,2, -999.000,9, -999.000,-999.0000,9,-999.0000,  -999.00,9,  -999.00, -999.000,9, -999.000,    -37.8,2,      3.2,    -0.06,2,   0.1938,2,   0.1456,2,   0.0896,2,   0.0717,2,   0.0321,2,   0.0100,2,   0.0019,2,   0.0140,3,   0.0126,3,  13.0215,  13.0721,2
  33RR20070322,  I09N,   174,  2,     28,     28,2,20070420,1410,  9.8280,  86.7822, 3508, 273.9000,    273.9,  11.9873,  35.0322,2,  35.0309,2,      9.4,2,      9.4,2,    35.58,2,    33.34,2,     0.00,2,     2.39,2,    0.444,2,    0.252,2, -999.000,5,   2258.6,2,   2313.1,2,   7.4697,2,    25.00,     47.3,2,    36.36,2, -999.000,9, -999.000,-999.0000,9,-999.0000,  -999.00,9,  -999.00, -999.000,9, -999.000,   -999.0,5,   -999.0,  -999.00,5,   0.1938,2,   0.1461,2,   0.0907,2,   0.0728,2,   0.0330,2,   0.0101,2,   0.0019,2,   0.0140,3,   0.0125,3,  11.9515,  11.9831,2
  33RR20070322,  I09N,   174,  2,     27,     27,2,20070420,1410,  9.8280,  86.7822, 3508, 322.8000,    322.8,  11.3918,  35.0348,2,  35.0337,2,     10.8,2,     11.4,2,    37.95,2,    34.07,2,     0.00,2,     2.42,2,    0.381,2,    0.216,2, -999.000,5,   2263.6,2,   2315.9,2,   7.4746,2,    25.00,     46.9,2,    37.28,2, -999.000,9, -999.000,-999.0000,9,-999.0000,  -999.00,9,  -999.00, -999.000,9, -999.000,    -57.3,2,      2.7,     0.21,2,   0.1951,2,   0.1467,2,   0.0912,2,   0.0734,2,   0.0337,2,   0.0105,2,   0.0020,2,   0.0139,3,   0.0124,3,  11.3508,  11.3991,2
  33RR20070322,  I09N,   174,  2,     26,     26,2,20070420,1410,  9.8280,  86.7822, 3508, 373.8000,    373.8,  10.9371,  35.0379,2,  35.0362,2,     13.8,2,     13.0,2,    39.72,2,    34.46,2,     0.00,2,     2.45,2, -999.000,9, -999.000,9, -999.000,9,   2266.5,2,   2318.7,2,   7.4617,2,    25.00,     46.4,2,    38.26,2, -999.000,9, -999.000,-999.0000,9,-999.0000,  -999.00,9,  -999.00, -999.000,9, -999.000,    -60.3,2,      2.7,     0.16,2,   0.1953,2,   0.1470,2,   0.0917,2,   0.0740,2,   0.0341,2,   0.0105,2,   0.0020,2,   0.0139,3,   0.0124,3,  10.8908,  10.9309,2
  33RR20070322,  I09N,   174,  2,     25,     25,2,20070420,1410,  9.8280,  86.7822, 3508, 423.7000,    423.7,  10.5172,  35.0370,2,  35.0354,2,     14.1,2,     15.5,2,    42.89,2,    34.90,2,     0.00,2,     2.49,2,    0.279,2,    0.157,2, -999.000,5,   2269.3,2,   2321.2,2,   7.4593,2,    25.00,     46.0,2,    38.43,2, -999.000,9, -999.000,-999.0000,9,-999.0000,  -999.00,9,  -999.00, -999.000,9, -999.000,    -73.1,2,      3.0,     0.10,2,   0.1943,2,   0.1457,2,   0.0904,2,   0.0722,2,   0.0334,2,   0.0105,2,   0.0019,2,   0.0139,3,   0.0125,3,  10.4659,  10.5164,2
  33RR20070322,  I09N,   174,  2,     24,     24,2,20070420,1410,  9.8280,  86.7822, 3508, 473.0000,    473.0,  10.1342,  35.0323,2,  35.0311,2,     16.8,2,     16.2,2,    46.06,2,    35.19,2,     0.00,2,     2.54,2, -999.000,9, -999.000,9, -999.000,9,   2274.1,2,   2324.9,2,   7.4550,3,    25.00,     45.6,2,    38.27,2, -999.000,9, -999.000,-999.0000,9,-999.0000,  -999.00,9,  -999.00, -999.000,9, -999.000,    -83.9,2,      2.5,     0.06,2,   0.1952,2,   0.1464,2,   0.0909,2,   0.0723,2,   0.0334,2,   0.0103,2,   0.0018,2,   0.0140,3,   0.0125,3,  10.0781,  10.1360,2
  33RR20070322,  I09N,   174,  2,     23,     23,2,20070420,1410,  9.8280,  86.7822, 3508, 523.7000,    523.7,   9.8201,  35.0260,2,  35.0256,2,     17.4,2,     17.7,2,    49.22,2,    35.63,2,     0.00,2,     2.58,2,    0.179,2,    0.100,2, -999.000,5,   2278.0,2,   2321.4,2,   7.4523,2,    25.00,     45.0,2,    37.87,2, -999.000,9, -999.000,-999.0000,9,-999.0000,  -999.00,9,  -999.00, -999.000,9, -999.000,    -94.8,2,      2.8,     0.09,2,   0.1957,2,   0.1468,2,   0.0909,2,   0.0724,2,   0.0338,2,   0.0105,2,   0.0019,2,   0.0139,3,   0.0125,3,   9.7590,   9.8088,2
  33RR20070322,  I09N,   174,  2,     22,     22,2,20070420,1410,  9.8280,  86.7822, 3508, 643.5000,    643.5,   9.0404,  35.0067,2,  35.0056,2,     22.9,2,     23.5,2,    57.59,2,    36.17,2,     0.00,2,     2.63,2,    0.112,2,    0.063,2, -999.000,5,   2288.6,2,   2329.0,2,   7.4428,2,    25.00,     44.5,2,    38.70,2, -999.000,9, -999.000,-999.0000,9,-999.0000,  -999.00,9,  -999.00, -999.000,9, -999.000,   -107.5,2,      3.0,     0.18,2,   0.1943,2,   0.1452,2,   0.0894,2,   0.0703,2,   0.0324,2,   0.0099,2,   0.0016,2,   0.0140,3,   0.0127,3,   8.9685,   9.0331,2
  33RR20070322,  I09N,   174,  2,     21,     21,2,20070420,1410,  9.8280,  86.7822, 3508, 744.1000,    744.1,   8.3241,  34.9830,2,  34.9830,2,     29.9,2,     30.4,2,    65.17,2,    36.36,2,     0.00,2,     2.66,2,    0.083,2,    0.046,2, -999.000,5,   2294.4,2,   2337.7,2,   7.4599,2,    25.00,     44.0,2,    38.58,2, -999.000,9, -999.000,-999.0000,9,-999.0000,  -999.00,9,  -999.00, -999.000,9, -999.000,   -120.1,2,      2.4,     0.09,2,   0.1941,2,   0.1448,2,   0.0878,2,   0.0679,2,   0.0311,2,   0.0095,2,   0.0013,2,   0.0140,3,   0.0129,3,   8.2444,   8.3192,2
  33RR20070322,  I09N,   174,  2,     20,     20,2,20070420,1410,  9.8280,  86.7822, 3508, 844.4000,    844.4,   7.7305,  34.9650,2,  34.9649,2,     36.2,2,     37.1,2,    71.75,2,    36.66,2,     0.00,2,     2.69,2,    0.068,2,    0.034,2, -999.000,5,   2299.9,2,   2344.8,2,   7.4539,2,    25.00,     43.8,2,    38.77,2, -999.000,9, -999.000,-999.0000,9,-999.0000,  -999.00,9,  -999.00, -999.000,9, -999.000,   -132.9,2,      2.5,     0.04,2,   0.1951,2,   0.1456,2,   0.0889,2,   0.0687,2,   0.0316,2,   0.0095,2,   0.0012,2,   0.0141,3,   0.0129,3,   7.6432,   7.7302,2
  33RR20070322,  I09N,   174,  2,     19,     19,2,20070420,1410,  9.8280,  86.7822, 3508, 945.3000,    945.3,   7.1103,  34.9456,2,  34.9448,2,     41.3,2,     41.5,2,    78.35,2,    37.05,2,     0.00,2,     2.72,2,    0.034,2,    0.017,2, -999.000,5,   2305.2,2,   2351.1,2,   7.4640,2,    25.00,     43.5,2,    39.29,2, -999.000,9, -999.000,-999.0000,9,-999.0000,  -999.00,9,  -999.00, -999.000,9, -999.000,   -999.0,9,   -999.0,  -999.00,9,   0.1974,2,   0.1469,2,   0.0886,2,   0.0677,2,   0.0310,2,   0.0094,2,   0.0011,2,   0.0142,3,   0.0131,3,   7.0163,   7.1052,2
  33RR20070322,  I09N,   174,  2,     18,     18,2,20070420,1410,  9.8280,  86.7822, 3508,1044.7000,   1044.7,   6.5387,  34.9272,2,  34.9269,2,     46.8,2,     46.7,2,    85.36,2,    37.24,2,     0.00,2,     2.74,2, -999.000,9, -999.000,9, -999.000,9,   2311.7,6,   2356.3,2,   7.4659,2,    25.00,     42.6,2,    39.05,2, -999.000,9, -999.000,-999.0000,9,-999.0000,  -999.00,9,  -999.00, -999.000,9, -999.000,   -149.2,2,      2.3,     0.04,2,   0.1953,2,   0.1452,2,   0.0878,2,   0.0668,2,   0.0305,2,   0.0091,2,   0.0011,2,   0.0142,3,   0.0131,3,   6.4386,   6.5382,2
  33RR20070322,  I09N,   174,  2,     17,     17,2,20070420,1410,  9.8280,  86.7822, 3508,1144.8000,   1144.8,   6.1000,  34.9109,2,  34.9104,2,     53.4,2,     53.3,2,    90.15,2,    37.24,2,     0.00,2,     2.74,2,    0.015,2,    0.006,2, -999.000,5,   2315.1,2,   2368.8,2,   7.4632,2,    25.00,     42.6,2,    38.37,2, -999.000,9, -999.000,-999.0000,9,-999.0000,  -999.00,9,  -999.00, -999.000,9, -999.000,   -999.0,9,   -999.0,  -999.00,9,   0.1952,2,   0.1447,2,   0.0873,2,   0.0664,2,   0.0305,2,   0.0094,2,   0.0013,2,   0.0141,3,   0.0131,3,   5.9933,   6.1006,2
  33RR20070322,  I09N,   174,  2,     16,     16,2,20070420,1410,  9.8280,  86.7822, 3508,1245.6000,   1245.6,   5.6476,  34.8942,2,  34.8939,2,     60.4,2,     60.2,2,    94.77,2,    37.19,2,     0.00,2,     2.74,2, -999.000,9, -999.000,9, -999.000,9,   2315.7,2,   2374.3,2,   7.4717,2,    25.00,     42.5,2,    38.74,2, -999.000,9, -999.000,-999.0000,9,-999.0000,  -999.00,9,  -999.00, -999.000,9, -999.000,   -999.0,5,   -999.0,  -999.00,5,   0.1959,2,   0.1454,2,   0.0874,2,   0.0662,2,   0.0303,2,   0.0093,2,   0.0013,2,   0.0142,3,   0.0132,3,   5.5348,   5.6474,2
  33RR20070322,  I09N,   174,  2,     15,     15,2,20070420,1410,  9.8280,  86.7822, 3508,1346.2000,   1346.2,   5.2663,  34.8794,2,  34.8790,2,     67.5,2,     67.8,2,    98.98,2,    37.09,2,     0.00,2,     2.72,2,    0.010,2,    0.005,2, -999.000,5,   2317.5,2,   2378.3,2,   7.4814,2,    25.00,     41.8,2,    38.74,2, -999.000,9, -999.000,-999.0000,9,-999.0000,  -999.00,9,  -999.00, -999.000,9, -999.000,   -999.0,9,   -999.0,  -999.00,9,   0.1952,2,   0.1448,2,   0.0873,2,   0.0666,2,   0.0310,2,   0.0095,2,   0.0015,2,   0.0140,3,   0.0131,3,   5.1473,   5.2699,2
  33RR20070322,  I09N,   174,  2,     14,     14,2,20070420,1410,  9.8280,  86.7822, 3508,1446.7000,   1446.7,   4.8651,  34.8648,2,  34.8642,2,     73.6,2,     73.6,2,   103.79,2,    37.09,2,     0.00,2,     2.71,2, -999.000,9, -999.000,9, -999.000,9,   2320.4,2,   2383.5,2,   7.4885,2,    25.00,     41.6,2,    38.52,2, -999.000,9, -999.000,-999.0000,9,-999.0000,  -999.00,9,  -999.00, -999.000,9, -999.000,   -178.2,2,      2.5,     0.04,2,   0.1937,2,   0.1432,2,   0.0857,2,   0.0649,2,   0.0297,2,   0.0090,2,   0.0012,2,   0.0142,3,   0.0133,3,   4.7406,   4.8699,2
  33RR20070322,  I09N,   174,  2,     13,     13,2,20070420,1410,  9.8280,  86.7822, 3508,1547.0000,   1547.0,   4.3932,  34.8470,2,  34.8467,2,     81.2,2,     81.7,2,   109.23,2,    36.93,2,     0.00,2,     2.71,2,    0.006,2,    0.003,2, -999.000,5,   2323.0,2,   2388.4,2,   7.4935,2,    25.00,     41.8,2,    38.70,2, -999.000,9, -999.000,-999.0000,9,-999.0000,  -999.00,9,  -999.00, -999.000,9, -999.000,   -999.0,9,   -999.0,  -999.00,9,   0.1923,2,   0.1419,2,   0.0842,2,   0.0625,2,   0.0282,2,   0.0085,2,   0.0011,2,   0.0142,3,   0.0135,3,   4.2644,   4.3934,2
  33RR20070322,  I09N,   174,  2,     12,     12,2,20070420,1410,  9.8280,  86.7822, 3508,1748.7000,   1748.7,   3.5742,  34.8153,2,  34.8151,2,     95.5,2,     96.5,2,   117.92,2,    36.59,2,     0.00,2,     2.67,2, -999.000,9, -999.000,9, -999.000,9,   2327.5,2,   2399.5,2,   7.5075,2,    25.00,     41.5,2,    37.88,2, -999.000,9, -999.000,-999.0000,9,-999.0000,  -999.00,9,  -999.00, -999.000,9, -999.000,   -999.0,9,   -999.0,  -999.00,9,   0.1943,2,   0.1432,2,   0.0849,2,   0.0630,2,   0.0287,2,   0.0089,2,   0.0015,2,   0.0142,3,   0.0135,3,   3.4369,   3.5750,2
  33RR20070322,  I09N,   174,  2,     11,     11,2,20070420,1410,  9.8280,  86.7822, 3508,1950.0000,   1950.0,   2.9379,  34.7877,2,  34.7876,2,    110.1,2,    110.5,2,   125.20,2,    36.25,2,     0.00,2,     2.62,2,    0.004,2,    0.001,2, -999.000,5,   2328.8,2,   2405.3,2,   7.5250,3,    25.00,     40.9,2,    37.65,2, -999.000,9, -999.000,-999.0000,9,-999.0000,  -999.00,9,  -999.00, -999.000,9, -999.000,   -999.0,9,   -999.0,  -999.00,9,   0.1905,2,   0.1400,2,   0.0824,2,   0.0607,2,   0.0271,2,   0.0083,2,   0.0012,2,   0.0142,3,   0.0137,3,   2.7913,   2.9384,2
  33RR20070322,  I09N,   174,  2,     10,     10,2,20070420,1410,  9.8280,  86.7822, 3508,2111.6000,   2111.6,   2.6078,  34.7730,2,  34.7730,2,    118.9,2,    118.9,2,   129.05,2,    35.95,2,     0.00,2,     2.59,2, -999.000,9, -999.000,9, -999.000,9,   2330.2,2,   2408.2,2,   7.5378,2,    25.00,     40.6,2,    37.00,2, -999.000,9, -999.000,-999.0000,9,-999.0000,  -999.00,9,  -999.00, -999.000,9, -999.000,   -999.0,9,   -999.0,  -999.00,9,   0.1896,2,   0.1394,2,   0.0817,2,   0.0599,2,   0.0264,2,   0.0079,2,   0.0010,2,   0.0143,3,   0.0138,3,   2.4517,   2.6071,2
  33RR20070322,  I09N,   174,  2,      9,      9,2,20070420,1410,  9.8280,  86.7822, 3508,2364.5000,   2364.5,   2.2768,  34.7581,2,  34.7603,3,    126.3,2,    126.0,2,   135.14,2,    35.71,2,     0.00,2,     2.57,2,    0.004,2,    0.001,2, -999.000,5,   2333.7,2,   2414.2,2,   7.5413,2,    25.00,     40.7,2,    37.21,2, -999.000,9, -999.000,-999.0000,9,-999.0000,  -999.00,9,  -999.00, -999.000,9, -999.000,   -999.0,9,   -999.0,  -999.00,9,   0.1924,2,   0.1413,2,   0.0826,2,   0.0603,2,   0.0269,2,   0.0083,2,   0.0013,2,   0.0143,3,   0.0139,3,   2.1034,   2.2762,2
  33RR20070322,  I09N,   174,  2,      8,      8,2,20070420,1410,  9.8280,  86.7822, 3508,2615.2000,   2615.2,   2.0031,  34.7463,2,  34.7459,2,    133.6,2,    133.5,2,   138.18,2,    35.51,2,     0.00,2,     2.52,2, -999.000,9, -999.000,9, -999.000,9,   2334.1,2,   2418.4,2,   7.5425,2,    25.00,     40.6,2,    37.50,2, -999.000,9, -999.000,-999.0000,9,-999.0000,  -999.00,9,  -999.00, -999.000,9, -999.000,   -999.0,9,   -999.0,  -999.00,9,   0.1940,2,   0.1427,2,   0.0833,2,   0.0606,2,   0.0272,2,   0.0087,2,   0.0016,2,   0.0142,3,   0.0139,3,   1.8117,   2.0041,2
  33RR20070322,  I09N,   174,  2,      7,      7,2,20070420,1410,  9.8280,  86.7822, 3508,2869.3000,   2869.3,   1.8200,  34.7384,2,  34.7381,2,    140.8,2,    140.6,2,   139.38,2,    35.22,2,     0.00,2,     2.49,2,    0.006,2,    0.002,2, -999.000,5,   2333.7,2,   2421.8,2,   7.5722,2,    25.00,     40.9,2,    36.28,2, -999.000,9, -999.000,-999.0000,9,-999.0000,  -999.00,9,  -999.00, -999.000,9, -999.000,   -999.0,9,   -999.0,  -999.00,9,   0.1917,2,   0.1407,2,   0.0820,2,   0.0593,2,   0.0264,2,   0.0083,2,   0.0014,2,   0.0143,3,   0.0139,3,   1.6084,   1.8200,2
  33RR20070322,  I09N,   174,  2,      6,      6,2,20070420,1410,  9.8280,  86.7822, 3508,3121.7000,   3121.7,   1.6737,  34.7323,2,  34.7320,2,    146.9,2,    147.2,2,   140.99,2,    35.02,2,     0.00,2,     2.46,2, -999.000,9, -999.000,9, -999.000,9,   2331.8,2,   2424.2,2,   7.5736,2,    25.00,     40.8,2,    36.70,2, -999.000,9, -999.000,-999.0000,9,-999.0000,  -999.00,9,  -999.00, -999.000,9, -999.000,   -999.0,9,   -999.0,  -999.00,9,   0.1863,2,   0.1363,2,   0.0793,2,   0.0578,2,   0.0253,2,   0.0078,2,   0.0012,2,   0.0142,3,   0.0139,3,   1.4409,   1.6738,2
  33RR20070322,  I09N,   174,  2,      5,      5,2,20070420,1410,  9.8280,  86.7822, 3508,3345.6000,   3345.6,   1.5395,  34.7269,2,  34.7263,2,    156.6,2,    157.9,2,   138.31,2,    34.54,2,     0.00,2,     2.40,2,    0.012,2,    0.002,2, -999.000,5,   2323.4,2,   2413.9,2,   7.5901,2,    25.00,     40.7,2,    36.00,2, -999.000,9, -999.000,-999.0000,9,-999.0000,  -999.00,9,  -999.00, -999.000,9, -999.000,   -999.0,9,   -999.0,  -999.00,9,   0.1738,2,   0.1262,2,   0.0737,2,   0.0546,2,   0.0235,2,   0.0072,2,   0.0010,2,   0.0139,3,   0.0138,3,   1.2877,   1.5391,2