BOTTLE,20150630SIOCCHRJL
EXPOCODE,SECT_ID,STNNBR,CASTNO,SAMPNO,BTLNBR,BTLNBR_FLAG_W,DATE,TIME,LATITUDE,LONGITUDE,DEPTH,CTDRAW,CTDPRS,CTDTMP,CTDSAL,CTDSAL_FLAG_W,SALNTY,SALNTY_FLAG_W,CTDOXY,CTDOXY_FLAG_W,OXYGEN,OXYGEN_FLAG_W,SILCAT,SILCAT_FLAG_W,NITRAT,NITRAT_FLAG_W,NITRIT,NITRIT_FLAG_W,PHSPHT,PHSPHT_FLAG_W,CFC-11,CFC-11_FLAG_W,CFC-12,CFC-12_FLAG_W,CFC113,CFC113_FLAG_W,TCARBN,TCARBN_FLAG_W,ALKALI,ALKALI_FLAG_W,PH_SWS,PH_SWS_FLAG_W,PH_TMP,DOC,DOC_FLAG_W,TDN,TDN_FLAG_W,TRITUM,TRITUM_FLAG_W,TRITER,HELIUM,HELIUM_FLAG_W,HELIER,DELHE3,DELHE3_FLAG_W,DELHER,NEON,NEON_FLAG_W,NEONER,DELC14,DELC14_FLAG_W,C14ERR,DELC13,DELC13_FLAG_W,CDOM325,CDOM325_FLAG_W,CDOM340,CDOM340_FLAG_W,CDOM380,CDOM380_FLAG_W,CDOM412,CDOM412_FLAG_W,CDOM443,CDOM443_FLAG_W,CDOM490,CDOM490_FLAG_W,CDOM555,CDOM555_FLAG_W,CDOMSL,CDOMSL_FLAG_W,CDOMSN,CDOMSN_FLAG_W,THETA,SBE35,SBE35_FLAG_W
,,,,,,,,,,,METERS,,DBAR,ITS-90,PSS-78,,PSS-78,,UMOL/KG,,UMOL/KG,,UMOL/KG,,UMOL/KG,,UMOL/KG,,UMOL/KG,,PMOL/KG,,PMOL/KG,,PMOL/KG,,UMOL/KG,,UMOL/KG,,,,DEG C,UMOL/KG,,UMOL/KG,,TU,,TU,NMOL/KG,,NMOL/KG,PERCNT,,PERCNT,NMOL/KG,,NMOL/KG,/MILLE,,/MILLE,/MILLE,,1/M,,1/M,,1/M,,1/M,,1/M,,1/M,,1/M,,1/NM,,1/NM,,DEG C,ITS-90,
  33RR20070322,  I09N,   139,  3,      4,      4,2,20070411,0745, -1.8850,  94.0238, 4706,3681.4000,   3681.4,   1.2700,  34.7193,2,  34.7190,2,    180.9,2,    183.0,2,   129.02,2,    33.16,2,     0.00,2,     2.30,2, -999.000,9, -999.000,9, -999.000,9,   2296.1,2,   2405.0,2,   7.6186,2,    25.00,     40.8,2,    34.75,2, -999.000,9, -999.000,-999.0000,9,-999.0000,  -999.00,9,  -999.00, -999.000,9, -999.000,   -999.0,9,   -999.0,  -999.00,9,   0.1407,2,   0.0993,2,   0.0556,2,   0.0402,2,   0.0143,2,   0.0034,2,  -0.0003,4,   0.0138,2,   0.0147,3,   0.9909,   1.2694,2
  33RR20070322,  I09N,   139,  3,      3,      3,2,20070411,0745, -1.8850,  94.0238, 4706,4088.9000,   4088.9,   1.1546,  34.7153,2,  34.7155,2,    190.8,2,    191.3,2,   127.60,2,    32.74,2,     0.00,2,     2.26,2, -999.000,9, -999.000,9, -999.000,9,   2287.4,2,   2399.2,2,   7.6229,2,    25.00,     40.1,2,    33.85,2, -999.000,9, -999.000,-999.0000,9,-999.0000,  -999.00,9,  -999.00, -999.000,9, -999.000,   -999.0,9,   -999.0,  -999.00,9,   0.1338,2,   0.0936,2,   0.0519,2,   0.0370,2,   0.0123,2,   0.0025,3,  -0.0008,4,   0.0139,2,   0.0150,3,   0.8356,   1.1542,2
  33RR20070322,  I09N,   139,  3,      2,      2,2,20070411,0745, -1.8850,  94.0238, 4706,4496.0000,   4496.0,   1.1739,  34.7147,2,  34.7147,2,    192.8,2,    193.0,2,   127.41,2,    32.53,2,     0.00,2,     2.25,2, -999.000,9, -999.000,9, -999.000,9,   2284.7,2,   2397.8,2,   7.6128,2,    25.00,     40.4,2,    34.07,2, -999.000,9, -999.000,-999.0000,9,-999.0000,  -999.00,9,  -999.00, -999.000,9, -999.000,   -999.0,9,   -999.0,  -999.00,9,   0.1317,2,   0.0920,2,   0.0508,2,   0.0360,2,   0.0116,2,   0.0021,3,  -0.0010,4,   0.0140,2,   0.0152,3,   0.8093,   1.1737,2
  33RR20070322,  I09N,   139,  3,      1,      1,2,20070411,0745, -1.8850,  94.0238, 4706,4763.4000,   4763.4,   1.1951,  34.7144,2,  34.7141,2,    193.5,2,    193.9,2,   126.00,2,    32.58,2,     0.00,2,     2.25,2, -999.000,9, -999.000,9, -999.000,9,   2285.0,6,   2398.2,6,   7.6265,6,    25.00,     40.6,2,    33.87,2, -999.000,9, -999.000,-999.0000,9,-999.0000,  -999.00,9,  -999.00, -999.000,9, -999.000,   -999.0,9,   -999.0,  -999.00,9,   0.1317,2,   0.0920,2,   0.0507,2,   0.0359,2,   0.0115,2,   0.0019,3,  -0.0011,4,   0.0141,2,   0.0152,3,   0.7990,   1.1951,2