BOTTLE,20150630SIOCCHRJL
EXPOCODE,SECT_ID,STNNBR,CASTNO,SAMPNO,BTLNBR,BTLNBR_FLAG_W,DATE,TIME,LATITUDE,LONGITUDE,DEPTH,CTDRAW,CTDPRS,CTDTMP,CTDSAL,CTDSAL_FLAG_W,SALNTY,SALNTY_FLAG_W,CTDOXY,CTDOXY_FLAG_W,OXYGEN,OXYGEN_FLAG_W,SILCAT,SILCAT_FLAG_W,NITRAT,NITRAT_FLAG_W,NITRIT,NITRIT_FLAG_W,PHSPHT,PHSPHT_FLAG_W,CFC-11,CFC-11_FLAG_W,CFC-12,CFC-12_FLAG_W,CFC113,CFC113_FLAG_W,TCARBN,TCARBN_FLAG_W,ALKALI,ALKALI_FLAG_W,PH_SWS,PH_SWS_FLAG_W,PH_TMP,DOC,DOC_FLAG_W,TDN,TDN_FLAG_W,TRITUM,TRITUM_FLAG_W,TRITER,HELIUM,HELIUM_FLAG_W,HELIER,DELHE3,DELHE3_FLAG_W,DELHER,NEON,NEON_FLAG_W,NEONER,DELC14,DELC14_FLAG_W,C14ERR,DELC13,DELC13_FLAG_W,CDOM325,CDOM325_FLAG_W,CDOM340,CDOM340_FLAG_W,CDOM380,CDOM380_FLAG_W,CDOM412,CDOM412_FLAG_W,CDOM443,CDOM443_FLAG_W,CDOM490,CDOM490_FLAG_W,CDOM555,CDOM555_FLAG_W,CDOMSL,CDOMSL_FLAG_W,CDOMSN,CDOMSN_FLAG_W,THETA,SBE35,SBE35_FLAG_W
,,,,,,,,,,,METERS,,DBAR,ITS-90,PSS-78,,PSS-78,,UMOL/KG,,UMOL/KG,,UMOL/KG,,UMOL/KG,,UMOL/KG,,UMOL/KG,,PMOL/KG,,PMOL/KG,,PMOL/KG,,UMOL/KG,,UMOL/KG,,,,DEG C,UMOL/KG,,UMOL/KG,,TU,,TU,NMOL/KG,,NMOL/KG,PERCNT,,PERCNT,NMOL/KG,,NMOL/KG,/MILLE,,/MILLE,/MILLE,,1/M,,1/M,,1/M,,1/M,,1/M,,1/M,,1/M,,1/NM,,1/NM,,DEG C,ITS-90,
  33RR20070322,  I09N,   165,  1,      4,      4,2,20070417,2315,  7.2407,  88.7715, 3720,3122.1000,   3122.1,   1.6876,  34.7328,2,  34.7319,2,    153.9,2,    153.8,2,   135.89,2,    34.62,2,     0.00,2,     2.44,2,    0.005,2,    0.004,2, -999.000,5,   2320.8,2,   2420.5,2,   7.5780,2,    25.00,     40.5,2,    35.94,2, -999.000,9, -999.000,-999.0000,9,-999.0000,  -999.00,9,  -999.00, -999.000,9, -999.000,   -199.2,6,      8.5,     0.02,3,   0.1742,2,   0.1270,2,   0.0742,2,   0.0548,2,   0.0238,2,   0.0071,2,   0.0011,2,   0.0140,3,   0.0138,3,   1.4545,   1.6873,2
  33RR20070322,  I09N,   165,  1,      3,      3,2,20070417,2315,  7.2407,  88.7715, 3720,3375.7000,   3375.7,   1.5454,  34.7271,2,  34.7258,2,    156.9,2,    158.5,2,   138.30,2,    34.56,2,     0.00,2,     2.42,2,    0.004,2,    0.002,2, -999.000,5,   2320.9,2,   2425.7,2,   7.5915,2,    25.00,     40.9,2,    35.68,2, -999.000,9, -999.000,-999.0000,9,-999.0000,  -999.00,9,  -999.00, -999.000,9, -999.000,   -201.6,6,      3.1,     0.17,6,   0.1744,2,   0.1273,2,   0.0742,2,   0.0547,2,   0.0238,2,   0.0071,2,   0.0011,2,   0.0140,3,   0.0138,3,   1.2904,   1.5450,2
  33RR20070322,  I09N,   165,  1,      2,      2,2,20070417,2315,  7.2407,  88.7715, 3720,3629.1000,   3629.1,   1.4589,  34.7235,2,  34.7225,2,    163.3,2,    163.3,2,   139.08,2,    34.29,2,     0.00,2,     2.39,2, -999.000,9, -999.000,9, -999.000,9,   2318.4,2,   2427.6,2,   7.6081,2,    25.00,     40.4,2,    35.63,2, -999.000,9, -999.000,-999.0000,9,-999.0000,  -999.00,9,  -999.00, -999.000,9, -999.000,   -195.2,6,      5.8,     0.28,6,   0.1690,2,   0.1226,2,   0.0713,2,   0.0525,2,   0.0223,2,   0.0066,2,   0.0009,3,   0.0139,3,   0.0138,3,   1.1802,   1.4586,2
  33RR20070322,  I09N,   165,  1,      1,      1,2,20070417,2315,  7.2407,  88.7715, 3720,3759.1000,   3759.1,   1.4320,  34.7220,2,  34.7209,2,    159.4,2,    160.1,2,   143.92,2,    34.64,2,     0.00,2,     2.39,2,    0.024,2,    0.005,2, -999.000,5,   2328.2,6,   2439.1,6,   7.6218,6,    25.00,     40.8,2,    35.96,2, -999.000,9, -999.000,-999.0000,9,-999.0000,  -999.00,9,  -999.00, -999.000,9, -999.000,   -187.8,2,      2.2,     0.36,2,   0.1810,2,   0.1323,2,   0.0764,2,   0.0557,2,   0.0244,2,   0.0076,2,   0.0013,2,   0.0141,3,   0.0140,3,   1.1405,   1.4305,2