BOTTLE,20150630SIOCCHRJL
EXPOCODE,SECT_ID,STNNBR,CASTNO,SAMPNO,BTLNBR,BTLNBR_FLAG_W,DATE,TIME,LATITUDE,LONGITUDE,DEPTH,CTDRAW,CTDPRS,CTDTMP,CTDSAL,CTDSAL_FLAG_W,SALNTY,SALNTY_FLAG_W,CTDOXY,CTDOXY_FLAG_W,OXYGEN,OXYGEN_FLAG_W,SILCAT,SILCAT_FLAG_W,NITRAT,NITRAT_FLAG_W,NITRIT,NITRIT_FLAG_W,PHSPHT,PHSPHT_FLAG_W,CFC-11,CFC-11_FLAG_W,CFC-12,CFC-12_FLAG_W,CFC113,CFC113_FLAG_W,TCARBN,TCARBN_FLAG_W,ALKALI,ALKALI_FLAG_W,PH_SWS,PH_SWS_FLAG_W,PH_TMP,DOC,DOC_FLAG_W,TDN,TDN_FLAG_W,TRITUM,TRITUM_FLAG_W,TRITER,HELIUM,HELIUM_FLAG_W,HELIER,DELHE3,DELHE3_FLAG_W,DELHER,NEON,NEON_FLAG_W,NEONER,DELC14,DELC14_FLAG_W,C14ERR,DELC13,DELC13_FLAG_W,CDOM325,CDOM325_FLAG_W,CDOM340,CDOM340_FLAG_W,CDOM380,CDOM380_FLAG_W,CDOM412,CDOM412_FLAG_W,CDOM443,CDOM443_FLAG_W,CDOM490,CDOM490_FLAG_W,CDOM555,CDOM555_FLAG_W,CDOMSL,CDOMSL_FLAG_W,CDOMSN,CDOMSN_FLAG_W,THETA,SBE35,SBE35_FLAG_W
,,,,,,,,,,,METERS,,DBAR,ITS-90,PSS-78,,PSS-78,,UMOL/KG,,UMOL/KG,,UMOL/KG,,UMOL/KG,,UMOL/KG,,UMOL/KG,,PMOL/KG,,PMOL/KG,,PMOL/KG,,UMOL/KG,,UMOL/KG,,,,DEG C,UMOL/KG,,UMOL/KG,,TU,,TU,NMOL/KG,,NMOL/KG,PERCNT,,PERCNT,NMOL/KG,,NMOL/KG,/MILLE,,/MILLE,/MILLE,,1/M,,1/M,,1/M,,1/M,,1/M,,1/M,,1/M,,1/NM,,1/NM,,DEG C,ITS-90,
  33RR20070322,  I09N,   193,  2,      4,      4,2,20070425,1801, 14.9998,  89.8498, 2701,2566.3000,   2566.3,   2.0301,  34.7472,2,  34.7475,2,    132.8,2,    133.3,2,   136.63,2,    35.09,2,     0.00,2,     2.51,2, -999.000,9, -999.000,9, -999.000,9,   2333.4,2,   2422.8,2,-999.0000,9,  -999.00,     40.5,2,    36.46,2, -999.000,9, -999.000,-999.0000,9,-999.0000,  -999.00,9,  -999.00, -999.000,9, -999.000,   -999.0,9,   -999.0,  -999.00,9,   0.1921,2,   0.1416,2,   0.0829,2,   0.0609,2,   0.0276,2,   0.0084,2,   0.0016,2,   0.0142,3,   0.0137,3,   1.8427,   2.0291,2
  33RR20070322,  I09N,   193,  2,      3,      3,2,20070425,1801, 14.9998,  89.8498, 2701,2616.9000,   2616.9,   1.9837,  34.7452,2,  34.7435,2,    134.9,2,    135.4,2,   135.83,2,    35.04,2,     0.00,2,     2.50,2, -999.000,9, -999.000,9, -999.000,9,   2332.7,2,   2421.3,2,   7.5584,2,    25.00,     41.4,2,    36.54,2, -999.000,9, -999.000,-999.0000,9,-999.0000,  -999.00,9,  -999.00, -999.000,9, -999.000,   -999.0,9,   -999.0,  -999.00,9,   0.1905,2,   0.1402,2,   0.0819,2,   0.0597,2,   0.0269,2,   0.0083,2,   0.0015,2,   0.0142,3,   0.0138,3,   1.7925,   1.9826,2
  33RR20070322,  I09N,   193,  2,      2,      2,2,20070425,1801, 14.9998,  89.8498, 2701,2667.6000,   2667.6,   1.9222,  34.7428,2,  34.7423,2,    138.0,2,    138.2,2,   136.64,2,    34.94,2,     0.00,2,     2.49,2, -999.000,9, -999.000,9, -999.000,9,   2332.0,2,   2421.6,2,   7.5609,2,    25.00,     41.0,2,    36.67,2, -999.000,9, -999.000,-999.0000,9,-999.0000,  -999.00,9,  -999.00, -999.000,9, -999.000,   -999.0,9,   -999.0,  -999.00,9,   0.1910,2,   0.1408,2,   0.0823,2,   0.0601,2,   0.0271,2,   0.0083,2,   0.0016,2,   0.0142,3,   0.0138,3,   1.7275,   1.9208,2
  33RR20070322,  I09N,   193,  2,      1,      1,2,20070425,1801, 14.9998,  89.8498, 2701,2714.5000,   2714.5,   1.8102,  34.7384,2,  34.7378,2,    139.5,2,    139.5,2,   139.46,2,    34.94,2,     0.00,2,     2.48,2, -999.000,9, -999.000,9, -999.000,9,   2336.0,6,   2426.1,6,   7.5746,6,    25.00,     40.9,2,    36.33,2, -999.000,9, -999.000,-999.0000,9,-999.0000,  -999.00,9,  -999.00, -999.000,9, -999.000,   -999.0,9,   -999.0,  -999.00,9,   0.1986,2,   0.1469,2,   0.0856,2,   0.0622,2,   0.0280,2,   0.0087,2,   0.0017,2,   0.0144,3,   0.0139,3,   1.6134,   1.8074,2