BOTTLE,20150630SIOCCHRJL
EXPOCODE,SECT_ID,STNNBR,CASTNO,SAMPNO,BTLNBR,BTLNBR_FLAG_W,DATE,TIME,LATITUDE,LONGITUDE,DEPTH,CTDRAW,CTDPRS,CTDTMP,CTDSAL,CTDSAL_FLAG_W,SALNTY,SALNTY_FLAG_W,CTDOXY,CTDOXY_FLAG_W,OXYGEN,OXYGEN_FLAG_W,SILCAT,SILCAT_FLAG_W,NITRAT,NITRAT_FLAG_W,NITRIT,NITRIT_FLAG_W,PHSPHT,PHSPHT_FLAG_W,CFC-11,CFC-11_FLAG_W,CFC-12,CFC-12_FLAG_W,CFC113,CFC113_FLAG_W,TCARBN,TCARBN_FLAG_W,ALKALI,ALKALI_FLAG_W,PH_SWS,PH_SWS_FLAG_W,PH_TMP,DOC,DOC_FLAG_W,TDN,TDN_FLAG_W,TRITUM,TRITUM_FLAG_W,TRITER,HELIUM,HELIUM_FLAG_W,HELIER,DELHE3,DELHE3_FLAG_W,DELHER,NEON,NEON_FLAG_W,NEONER,DELC14,DELC14_FLAG_W,C14ERR,DELC13,DELC13_FLAG_W,CDOM325,CDOM325_FLAG_W,CDOM340,CDOM340_FLAG_W,CDOM380,CDOM380_FLAG_W,CDOM412,CDOM412_FLAG_W,CDOM443,CDOM443_FLAG_W,CDOM490,CDOM490_FLAG_W,CDOM555,CDOM555_FLAG_W,CDOMSL,CDOMSL_FLAG_W,CDOMSN,CDOMSN_FLAG_W,THETA,SBE35,SBE35_FLAG_W
,,,,,,,,,,,METERS,,DBAR,ITS-90,PSS-78,,PSS-78,,UMOL/KG,,UMOL/KG,,UMOL/KG,,UMOL/KG,,UMOL/KG,,UMOL/KG,,PMOL/KG,,PMOL/KG,,PMOL/KG,,UMOL/KG,,UMOL/KG,,,,DEG C,UMOL/KG,,UMOL/KG,,TU,,TU,NMOL/KG,,NMOL/KG,PERCNT,,PERCNT,NMOL/KG,,NMOL/KG,/MILLE,,/MILLE,/MILLE,,1/M,,1/M,,1/M,,1/M,,1/M,,1/M,,1/M,,1/NM,,1/NM,,DEG C,ITS-90,
  33RR20070322,  I09N,   184,  1,     36,     38,2,20070423,1104, 10.7722,  87.3440, 3374,   1.8000,      1.8,  30.1089,  33.0308,2,  33.0102,2,    198.6,2,    199.4,2,     1.85,2,     0.18,2,     0.00,2,     0.02,2,    1.577,2,    0.994,2, -999.000,5,   1883.5,6,   2194.7,6,   8.1249,6,    25.00,     73.8,2,     4.44,2, -999.000,9, -999.000,-999.0000,9,-999.0000,  -999.00,9,  -999.00, -999.000,9, -999.000,   -999.0,9,   -999.0,  -999.00,9,-999.0000,9,-999.0000,9,-999.0000,9,-999.0000,9,-999.0000,9,-999.0000,9,-999.0000,9,-999.0000,9,-999.0000,9,  30.1085,  30.1040,2
  33RR20070322,  I09N,   184,  1,     35,     35,2,20070423,1104, 10.7722,  87.3440, 3374,  38.7000,     38.7,  28.4136,  33.1551,2,  33.1374,2,    206.3,2,    206.7,2,     1.65,2,     0.18,2,     0.00,2,     0.02,2,    1.641,2,    1.037,2, -999.000,5,   1880.5,3,   2191.4,2,   8.0910,3,    25.00,     74.2,2,     4.65,2, -999.000,9, -999.000,-999.0000,9,-999.0000,  -999.00,9,  -999.00, -999.000,9, -999.000,   -999.0,9,   -999.0,  -999.00,9,-999.0000,9,-999.0000,9,-999.0000,9,-999.0000,9,-999.0000,9,-999.0000,9,-999.0000,9,-999.0000,9,-999.0000,9,  28.4044,  28.4564,2
  33RR20070322,  I09N,   184,  1,     34,   9419,2,20070423,1104, 10.7722,  87.3440, 3374,  73.8000,     73.8,  29.0054,  34.6135,2,  34.5902,2,    203.8,2,    199.4,2,     1.25,2,     0.18,2,     0.00,2,     0.12,2,    1.539,2,    0.981,2, -999.000,5,   1938.8,2,   2265.7,2,   8.1029,2,    25.00,     67.7,2,     5.08,2, -999.000,9, -999.000,-999.0000,9,-999.0000,  -999.00,9,  -999.00, -999.000,9, -999.000,   -999.0,9,   -999.0,  -999.00,9,-999.0000,9,-999.0000,9,-999.0000,9,-999.0000,9,-999.0000,9,-999.0000,9,-999.0000,9,-999.0000,9,-999.0000,9,  28.9876,  28.9911,2
  33RR20070322,  I09N,   184,  1,     33,     33,2,20070423,1104, 10.7722,  87.3440, 3374,  93.8000,     93.8,  25.2697,  34.6351,2,  34.6187,2,     90.9,2,     66.0,2,     8.07,2,    13.01,2,     1.15,2,     1.10,2,    1.361,2,    0.875,2, -999.000,5,   2082.9,2,   2263.2,2,   7.8139,2,    25.00,     63.5,2,    19.77,2, -999.000,9, -999.000,-999.0000,9,-999.0000,  -999.00,9,  -999.00, -999.000,9, -999.000,   -999.0,9,   -999.0,  -999.00,9,-999.0000,9,-999.0000,9,-999.0000,9,-999.0000,9,-999.0000,9,-999.0000,9,-999.0000,9,-999.0000,9,-999.0000,9,  25.2492,  25.2606,2
  33RR20070322,  I09N,   184,  1,     32,     37,2,20070423,1104, 10.7722,  87.3440, 3374, 123.3000,    123.3,  20.1622,  34.8476,2,  34.8475,2,     13.6,2,     11.5,2,    18.96,2,    25.35,2,     0.03,2,     1.87,2,    1.107,2,    0.673,2, -999.000,5,   2171.6,2,   2286.3,2,   7.6330,3,    25.00,     53.6,2,    29.75,2, -999.000,9, -999.000,-999.0000,9,-999.0000,  -999.00,9,  -999.00, -999.000,9, -999.000,   -999.0,9,   -999.0,  -999.00,9,-999.0000,9,-999.0000,9,-999.0000,9,-999.0000,9,-999.0000,9,-999.0000,9,-999.0000,9,-999.0000,9,-999.0000,9,  20.1393,  20.0858,2
  33RR20070322,  I09N,   184,  1,     31,     31,2,20070423,1104, 10.7722,  87.3440, 3374, 143.5000,    143.5,  17.5493,  34.8831,2,  34.8803,2,      7.3,2,      5.9,2,    24.41,2,    28.10,2,     0.02,2,     2.07,2,    0.887,2,    0.533,2, -999.000,5,   2201.7,2,   2290.1,2,   7.5733,2,    25.00,     50.8,2,    32.05,2, -999.000,9, -999.000,-999.0000,9,-999.0000,  -999.00,9,  -999.00, -999.000,9, -999.000,   -999.0,9,   -999.0,  -999.00,9,-999.0000,9,-999.0000,9,-999.0000,9,-999.0000,9,-999.0000,9,-999.0000,9,-999.0000,9,-999.0000,9,-999.0000,9,  17.5251,  17.4839,2
  33RR20070322,  I09N,   184,  1,     30,     30,2,20070423,1104, 10.7722,  87.3440, 3374, 173.0000,    173.0,  14.7895,  34.9444,2,  34.9445,2,      8.9,2,     11.0,2,    29.87,2,    30.63,2,     0.01,2,     2.22,2, -999.000,9, -999.000,9, -999.000,9,   2228.2,2,   2304.3,6,   7.5176,6,    25.00,     49.6,2,    34.14,2, -999.000,9, -999.000,-999.0000,9,-999.0000,  -999.00,9,  -999.00, -999.000,9, -999.000,   -999.0,9,   -999.0,  -999.00,9,-999.0000,9,-999.0000,9,-999.0000,9,-999.0000,9,-999.0000,9,-999.0000,9,-999.0000,9,-999.0000,9,-999.0000,9,  14.7636,  14.7794,2
  33RR20070322,  I09N,   184,  1,     29,     29,2,20070423,1104, 10.7722,  87.3440, 3374, 223.9000,    223.9,  12.5865,  35.0072,2,  35.0072,2,     13.5,2,     14.5,2,    34.35,2,    32.73,2,     0.01,2,     2.30,2,    0.532,2,    0.300,2, -999.000,5,   2248.6,2,   2310.4,2,   7.4902,2,    25.00,     48.6,2,    36.26,2, -999.000,9, -999.000,-999.0000,9,-999.0000,  -999.00,9,  -999.00, -999.000,9, -999.000,   -999.0,9,   -999.0,  -999.00,9,-999.0000,9,-999.0000,9,-999.0000,9,-999.0000,9,-999.0000,9,-999.0000,9,-999.0000,9,-999.0000,9,-999.0000,9,  12.5563,  12.5836,2
  33RR20070322,  I09N,   184,  1,     28,     28,2,20070423,1104, 10.7722,  87.3440, 3374, 273.5000,    273.5,  11.7106,  35.0199,2,  35.0192,2,     16.1,2,     18.9,2,    37.28,2,    33.47,2,     0.01,2,     2.33,2, -999.000,9, -999.000,9, -999.000,9,   2255.1,2,   2315.5,2,   7.4886,2,    25.00,     47.9,2,    37.47,2, -999.000,9, -999.000,-999.0000,9,-999.0000,  -999.00,9,  -999.00, -999.000,9, -999.000,   -999.0,9,   -999.0,  -999.00,9,-999.0000,9,-999.0000,9,-999.0000,9,-999.0000,9,-999.0000,9,-999.0000,9,-999.0000,9,-999.0000,9,-999.0000,9,  11.6754,  11.7105,2
  33RR20070322,  I09N,   184,  1,     27,     27,2,20070423,1104, 10.7722,  87.3440, 3374, 323.6000,    323.6,  11.1009,  35.0298,2,  35.0279,2,     20.2,2,     19.9,2,    39.23,2,    34.16,2,     0.01,2,     2.38,2,    0.408,2,    0.229,2, -999.000,5,   2261.3,2,   2318.1,2,   7.4763,2,    25.00,     46.1,2,    37.58,2, -999.000,9, -999.000,-999.0000,9,-999.0000,  -999.00,9,  -999.00, -999.000,9, -999.000,   -999.0,9,   -999.0,  -999.00,9,-999.0000,9,-999.0000,9,-999.0000,9,-999.0000,9,-999.0000,9,-999.0000,9,-999.0000,9,-999.0000,9,-999.0000,9,  11.0605,  11.1000,2
  33RR20070322,  I09N,   184,  1,     26,     26,2,20070423,1104, 10.7722,  87.3440, 3374, 373.3000,    373.3,  10.6778,  35.0322,2,  35.0307,2,     20.6,2,     20.5,2,    41.58,2,    34.70,2,     0.00,2,     2.42,2, -999.000,9, -999.000,9, -999.000,9,   2265.7,2,   2320.9,2,   7.4742,2,    25.00,     45.5,2,    38.33,2, -999.000,9, -999.000,-999.0000,9,-999.0000,  -999.00,9,  -999.00, -999.000,9, -999.000,   -999.0,9,   -999.0,  -999.00,9,-999.0000,9,-999.0000,9,-999.0000,9,-999.0000,9,-999.0000,9,-999.0000,9,-999.0000,9,-999.0000,9,-999.0000,9,  10.6322,  10.6769,2
  33RR20070322,  I09N,   184,  1,     25,     25,2,20070423,1104, 10.7722,  87.3440, 3374, 423.4000,    423.4,  10.2854,  35.0328,2,  35.0293,2,     18.7,2,     15.9,2,    44.71,2,    35.67,2,     0.00,2,     2.50,2,    0.245,2,    0.137,2, -999.000,5,   2272.4,2,   2323.8,2,   7.4506,2,    25.00,     44.8,2,    39.24,2, -999.000,9, -999.000,-999.0000,9,-999.0000,  -999.00,9,  -999.00, -999.000,9, -999.000,   -999.0,9,   -999.0,  -999.00,9,-999.0000,9,-999.0000,9,-999.0000,9,-999.0000,9,-999.0000,9,-999.0000,9,-999.0000,9,-999.0000,9,-999.0000,9,  10.2348,  10.2852,2
  33RR20070322,  I09N,   184,  1,     24,     24,2,20070423,1104, 10.7722,  87.3440, 3374, 473.1000,    473.1,   9.9694,  35.0303,2,  35.0283,2,     16.6,2,     15.8,2,    47.65,2,    36.14,2,     0.00,2,     2.55,2, -999.000,9, -999.000,9, -999.000,9,   2277.1,2,   2326.6,2,   7.4483,2,    25.00,     44.4,2,    39.88,2, -999.000,9, -999.000,-999.0000,9,-999.0000,  -999.00,9,  -999.00, -999.000,9, -999.000,   -999.0,9,   -999.0,  -999.00,9,-999.0000,9,-999.0000,9,-999.0000,9,-999.0000,9,-999.0000,9,-999.0000,9,-999.0000,9,-999.0000,9,-999.0000,9,   9.9138,   9.9685,2
  33RR20070322,  I09N,   184,  1,     23,     23,2,20070423,1104, 10.7722,  87.3440, 3374, 523.1000,    523.1,   9.6234,  35.0204,2,  35.0210,2,     20.5,2,     21.9,2,    50.98,2,    36.02,2,     0.00,2,     2.55,2,    0.184,2,    0.103,2, -999.000,5,   2277.8,2,   2332.8,2,   7.4586,2,    25.00,     44.0,2,    38.47,2, -999.000,9, -999.000,-999.0000,9,-999.0000,  -999.00,9,  -999.00, -999.000,9, -999.000,   -999.0,9,   -999.0,  -999.00,9,-999.0000,9,-999.0000,9,-999.0000,9,-999.0000,9,-999.0000,9,-999.0000,9,-999.0000,9,-999.0000,9,-999.0000,9,   9.5631,   9.6278,2
  33RR20070322,  I09N,   184,  1,     22,     22,2,20070423,1104, 10.7722,  87.3440, 3374, 643.3000,    643.3,   8.8950,  35.0017,2,  35.0005,2,     26.5,2,     26.0,2,    58.61,2,    36.66,2,     0.00,2,     2.61,2, -999.000,9, -999.000,9, -999.000,9,   2288.6,2,   2337.0,2,   7.4485,2,    25.00,     43.8,2,    38.80,2, -999.000,9, -999.000,-999.0000,9,-999.0000,  -999.00,9,  -999.00, -999.000,9, -999.000,   -999.0,9,   -999.0,  -999.00,9,-999.0000,9,-999.0000,9,-999.0000,9,-999.0000,9,-999.0000,9,-999.0000,9,-999.0000,9,-999.0000,9,-999.0000,9,   8.8238,   8.8967,2
  33RR20070322,  I09N,   184,  1,     21,     21,2,20070423,1104, 10.7722,  87.3440, 3374, 743.6000,    743.6,   8.2157,  34.9822,2,  34.9812,2,     27.2,2,     29.5,2,    66.46,2,    37.36,2,     0.00,2,     2.67,2,    0.062,2,    0.035,2, -999.000,5,   2295.9,2,   2351.4,2,   7.4668,2,    25.00,     43.3,2,    39.89,2, -999.000,9, -999.000,-999.0000,9,-999.0000,  -999.00,9,  -999.00, -999.000,9, -999.000,   -999.0,9,   -999.0,  -999.00,9,-999.0000,9,-999.0000,9,-999.0000,9,-999.0000,9,-999.0000,9,-999.0000,9,-999.0000,9,-999.0000,9,-999.0000,9,   8.1366,   8.2143,2
  33RR20070322,  I09N,   184,  1,     20,     20,2,20070423,1104, 10.7722,  87.3440, 3374, 844.4000,    844.4,   7.6404,  34.9655,2,  34.9576,3,     32.7,2,     32.8,2,    73.15,2,    37.78,2,     0.00,2,     2.71,2, -999.000,9, -999.000,9, -999.000,9,   2301.7,2,   2350.3,2,   7.4520,2,    25.00,     42.7,2,    40.38,2, -999.000,9, -999.000,-999.0000,9,-999.0000,  -999.00,9,  -999.00, -999.000,9, -999.000,   -999.0,9,   -999.0,  -999.00,9,-999.0000,9,-999.0000,9,-999.0000,9,-999.0000,9,-999.0000,9,-999.0000,9,-999.0000,9,-999.0000,9,-999.0000,9,   7.5537,   7.6409,2
  33RR20070322,  I09N,   184,  1,     19,     19,2,20070423,1104, 10.7722,  87.3440, 3374, 944.1000,    944.1,   7.0842,  34.9462,2,  34.9458,2,     39.5,2,     39.1,2,    78.87,2,    37.93,2,     0.00,2,     2.72,2,    0.024,2,    0.012,2, -999.000,5,   2307.2,2,   2365.9,2,   7.4713,2,    25.00,     42.6,2,    40.29,2, -999.000,9, -999.000,-999.0000,9,-999.0000,  -999.00,9,  -999.00, -999.000,9, -999.000,   -999.0,9,   -999.0,  -999.00,9,-999.0000,9,-999.0000,9,-999.0000,9,-999.0000,9,-999.0000,9,-999.0000,9,-999.0000,9,-999.0000,9,-999.0000,9,   6.9905,   7.0853,2
  33RR20070322,  I09N,   184,  1,     18,     18,2,20070423,1104, 10.7722,  87.3440, 3374,1045.4000,   1045.4,   6.5306,  34.9267,2,  34.9265,2,     46.5,2,     46.4,2,    85.57,2,    38.03,2,     0.00,2,     2.73,2, -999.000,9, -999.000,9, -999.000,9,   2312.3,6,   2365.1,2,   7.4676,2,    25.00,     41.8,2,    39.11,2, -999.000,9, -999.000,-999.0000,9,-999.0000,  -999.00,9,  -999.00, -999.000,9, -999.000,   -999.0,9,   -999.0,  -999.00,9,-999.0000,9,-999.0000,9,-999.0000,9,-999.0000,9,-999.0000,9,-999.0000,9,-999.0000,9,-999.0000,9,-999.0000,9,   6.4305,   6.5241,2
  33RR20070322,  I09N,   184,  1,     17,     17,2,20070423,1104, 10.7722,  87.3440, 3374,1144.7000,   1144.7,   5.9991,  34.9069,2,  34.9080,2,     54.3,2,     54.1,2,    90.72,2,    37.96,2,     0.00,2,     2.73,2, -999.000,9, -999.000,9, -999.000,9,   2314.4,2,   2369.9,2,   7.4613,2,    25.00,     41.7,2,    39.95,2, -999.000,9, -999.000,-999.0000,9,-999.0000,  -999.00,9,  -999.00, -999.000,9, -999.000,   -999.0,9,   -999.0,  -999.00,9,-999.0000,9,-999.0000,9,-999.0000,9,-999.0000,9,-999.0000,9,-999.0000,9,-999.0000,9,-999.0000,9,-999.0000,9,   5.8932,   5.9971,2
  33RR20070322,  I09N,   184,  1,     16,     16,2,20070423,1104, 10.7722,  87.3440, 3374,1245.1000,   1245.1,   5.5679,  34.8909,2,  34.8913,2,     61.8,2,     61.1,2,    95.09,2,    37.85,2,     0.00,2,     2.72,2,    0.011,2,    0.004,2, -999.000,5,   2317.2,2,   2374.8,2,   7.4833,2,    25.00,     41.5,2,    39.06,2, -999.000,9, -999.000,-999.0000,9,-999.0000,  -999.00,9,  -999.00, -999.000,9, -999.000,   -999.0,9,   -999.0,  -999.00,9,-999.0000,9,-999.0000,9,-999.0000,9,-999.0000,9,-999.0000,9,-999.0000,9,-999.0000,9,-999.0000,9,-999.0000,9,   5.4559,   5.5677,2
  33RR20070322,  I09N,   184,  1,     15,     15,2,20070423,1104, 10.7722,  87.3440, 3374,1345.9000,   1345.9,   5.1380,  34.8747,2,  34.8757,2,     68.8,2,     69.0,2,   100.05,2,    37.78,2,     0.00,2,     2.71,2, -999.000,9, -999.000,9, -999.000,9,   2320.4,2,   2379.8,2,   7.4893,2,    25.00,     41.2,2,    39.42,2, -999.000,9, -999.000,-999.0000,9,-999.0000,  -999.00,9,  -999.00, -999.000,9, -999.000,   -999.0,9,   -999.0,  -999.00,9,-999.0000,9,-999.0000,9,-999.0000,9,-999.0000,9,-999.0000,9,-999.0000,9,-999.0000,9,-999.0000,9,-999.0000,9,   5.0203,   5.1372,2
  33RR20070322,  I09N,   184,  1,     14,     14,2,20070423,1104, 10.7722,  87.3440, 3374,1446.4000,   1446.4,   4.7290,  34.8590,2,  34.8598,2,     76.2,2,     76.3,2,   105.22,2,    37.56,2,     0.00,2,     2.70,2, -999.000,9, -999.000,9, -999.000,9,   2322.3,2,   2383.6,2,   7.4934,2,    25.00,     40.9,2,    38.91,2, -999.000,9, -999.000,-999.0000,9,-999.0000,  -999.00,9,  -999.00, -999.000,9, -999.000,   -999.0,9,   -999.0,  -999.00,9,-999.0000,9,-999.0000,9,-999.0000,9,-999.0000,9,-999.0000,9,-999.0000,9,-999.0000,9,-999.0000,9,-999.0000,9,   4.6060,   4.7284,2
  33RR20070322,  I09N,   184,  1,     13,     13,2,20070423,1104, 10.7722,  87.3440, 3374,1546.8000,   1546.8,   4.2993,  34.8432,2,  34.8394,2,     83.3,2,     84.0,2,   109.60,2,    37.43,2,     0.00,2,     2.69,2,    0.006,2,    0.003,2, -999.000,5,   2325.2,2,   2388.7,2,   7.4991,2,    25.00,     40.5,2,    38.63,2, -999.000,9, -999.000,-999.0000,9,-999.0000,  -999.00,9,  -999.00, -999.000,9, -999.000,   -999.0,9,   -999.0,  -999.00,9,-999.0000,9,-999.0000,9,-999.0000,9,-999.0000,9,-999.0000,9,-999.0000,9,-999.0000,9,-999.0000,9,-999.0000,9,   4.1717,   4.3077,2
  33RR20070322,  I09N,   184,  1,     12,     12,2,20070423,1104, 10.7722,  87.3440, 3374,1648.9000,   1648.9,   3.9271,  34.8299,2,  34.8297,2,     89.5,2,     89.6,2,   114.00,2,    37.37,2,     0.00,2,     2.68,2, -999.000,9, -999.000,9, -999.000,9,   2327.7,2,   2394.0,2,   7.5151,2,    25.00,     40.1,2,    38.44,2, -999.000,9, -999.000,-999.0000,9,-999.0000,  -999.00,9,  -999.00, -999.000,9, -999.000,   -999.0,9,   -999.0,  -999.00,9,-999.0000,9,-999.0000,9,-999.0000,9,-999.0000,9,-999.0000,9,-999.0000,9,-999.0000,9,-999.0000,9,-999.0000,9,   3.7944,   3.9207,2
  33RR20070322,  I09N,   184,  1,     11,     11,2,20070423,1104, 10.7722,  87.3440, 3374,1748.3000,   1748.3,   3.5325,  34.8136,2,  34.8140,2,     97.1,2,     97.0,2,   118.00,2,    37.14,2,     0.00,2,     2.66,2, -999.000,9, -999.000,9, -999.000,9,   2329.0,2,   2395.5,2,   7.5127,2,    25.00,     40.0,2,    38.78,2, -999.000,9, -999.000,-999.0000,9,-999.0000,  -999.00,9,  -999.00, -999.000,9, -999.000,   -999.0,9,   -999.0,  -999.00,9,-999.0000,9,-999.0000,9,-999.0000,9,-999.0000,9,-999.0000,9,-999.0000,9,-999.0000,9,-999.0000,9,-999.0000,9,   3.3958,   3.5304,2
  33RR20070322,  I09N,   184,  1,     10,     10,2,20070423,1104, 10.7722,  87.3440, 3374,1848.3000,   1848.3,   3.1536,  34.7975,2,  34.7976,2,    104.2,2,    104.5,2,   123.41,2,    36.97,2,     0.00,2,     2.63,2,    0.004,2,    0.002,2, -999.000,5,   2331.3,2,   2407.7,2,   7.5200,2,    25.00,     40.1,2,    38.78,2, -999.000,9, -999.000,-999.0000,9,-999.0000,  -999.00,9,  -999.00, -999.000,9, -999.000,   -999.0,9,   -999.0,  -999.00,9,-999.0000,9,-999.0000,9,-999.0000,9,-999.0000,9,-999.0000,9,-999.0000,9,-999.0000,9,-999.0000,9,-999.0000,9,   3.0130,   3.1559,2
  33RR20070322,  I09N,   184,  1,      9,      9,2,20070423,1104, 10.7722,  87.3440, 3374,1950.3000,   1950.3,   2.8913,  34.7858,2,  34.7862,2,    111.8,2,    111.9,2,   126.23,2,    36.63,2,     0.00,2,     2.60,2, -999.000,9, -999.000,9, -999.000,9,   2331.3,2,   2407.8,2,   7.5248,2,    25.00,     40.2,2,    37.86,2, -999.000,9, -999.000,-999.0000,9,-999.0000,  -999.00,9,  -999.00, -999.000,9, -999.000,   -999.0,9,   -999.0,  -999.00,9,-999.0000,9,-999.0000,9,-999.0000,9,-999.0000,9,-999.0000,9,-999.0000,9,-999.0000,9,-999.0000,9,-999.0000,9,   2.7453,   2.8934,2
  33RR20070322,  I09N,   184,  1,      8,      8,2,20070423,1104, 10.7722,  87.3440, 3374,2110.9000,   2110.9,   2.5944,  34.7725,2,  34.7711,2,    119.3,2,    118.7,2,   129.66,2,    36.46,2,     0.00,2,     2.58,2, -999.000,9, -999.000,9, -999.000,9,   2333.3,2,   2408.7,2,   7.5375,2,    25.00,     40.1,2,    38.40,2, -999.000,9, -999.000,-999.0000,9,-999.0000,  -999.00,9,  -999.00, -999.000,9, -999.000,   -999.0,9,   -999.0,  -999.00,9,-999.0000,9,-999.0000,9,-999.0000,9,-999.0000,9,-999.0000,9,-999.0000,9,-999.0000,9,-999.0000,9,-999.0000,9,   2.4386,   2.5977,2
  33RR20070322,  I09N,   184,  1,      7,      7,2,20070423,1104, 10.7722,  87.3440, 3374,2363.8000,   2363.8,   2.2470,  34.7568,2,  34.7559,2,    127.7,2,    127.7,2,   134.29,2,    36.12,2,     0.00,2,     2.54,2, -999.000,9, -999.000,9, -999.000,9,   2333.3,2,   2422.3,2,   7.5364,2,    25.00,     40.6,2,    37.35,2, -999.000,9, -999.000,-999.0000,9,-999.0000,  -999.00,9,  -999.00, -999.000,9, -999.000,   -999.0,9,   -999.0,  -999.00,9,-999.0000,9,-999.0000,9,-999.0000,9,-999.0000,9,-999.0000,9,-999.0000,9,-999.0000,9,-999.0000,9,-999.0000,9,   2.0742,   2.2450,2
  33RR20070322,  I09N,   184,  1,      6,      6,2,20070423,1104, 10.7722,  87.3440, 3374,2616.7000,   2616.7,   1.9822,  34.7457,2,  34.7451,2,    135.9,2,    135.8,2,   137.52,2,    35.68,2,     0.00,2,     2.50,2,    0.004,2,    0.001,2, -999.000,5,   2332.5,2,   2427.6,2,   7.5583,2,    25.00,     40.5,2,    36.87,2, -999.000,9, -999.000,-999.0000,9,-999.0000,  -999.00,9,  -999.00, -999.000,9, -999.000,   -999.0,9,   -999.0,  -999.00,9,-999.0000,9,-999.0000,9,-999.0000,9,-999.0000,9,-999.0000,9,-999.0000,9,-999.0000,9,-999.0000,9,-999.0000,9,   1.7911,   1.9822,2
  33RR20070322,  I09N,   184,  1,      5,      5,2,20070423,1104, 10.7722,  87.3440, 3374,2870.1000,   2870.1,   1.8173,  34.7384,2,  34.7396,2,    140.7,2,    140.6,2,   139.95,2,    35.57,2,     0.00,2,     2.48,2, -999.000,9, -999.000,9, -999.000,9,   2333.7,2,   2422.0,2,   7.5773,2,    25.00,     40.0,2,    36.90,2, -999.000,9, -999.000,-999.0000,9,-999.0000,  -999.00,9,  -999.00, -999.000,9, -999.000,   -999.0,9,   -999.0,  -999.00,9,-999.0000,9,-999.0000,9,-999.0000,9,-999.0000,9,-999.0000,9,-999.0000,9,-999.0000,9,-999.0000,9,-999.0000,9,   1.6057,   1.8162,2