BOTTLE,20150630SIOCCHRJL
EXPOCODE,SECT_ID,STNNBR,CASTNO,SAMPNO,BTLNBR,BTLNBR_FLAG_W,DATE,TIME,LATITUDE,LONGITUDE,DEPTH,CTDRAW,CTDPRS,CTDTMP,CTDSAL,CTDSAL_FLAG_W,SALNTY,SALNTY_FLAG_W,CTDOXY,CTDOXY_FLAG_W,OXYGEN,OXYGEN_FLAG_W,SILCAT,SILCAT_FLAG_W,NITRAT,NITRAT_FLAG_W,NITRIT,NITRIT_FLAG_W,PHSPHT,PHSPHT_FLAG_W,CFC-11,CFC-11_FLAG_W,CFC-12,CFC-12_FLAG_W,CFC113,CFC113_FLAG_W,TCARBN,TCARBN_FLAG_W,ALKALI,ALKALI_FLAG_W,PH_SWS,PH_SWS_FLAG_W,PH_TMP,DOC,DOC_FLAG_W,TDN,TDN_FLAG_W,TRITUM,TRITUM_FLAG_W,TRITER,HELIUM,HELIUM_FLAG_W,HELIER,DELHE3,DELHE3_FLAG_W,DELHER,NEON,NEON_FLAG_W,NEONER,DELC14,DELC14_FLAG_W,C14ERR,DELC13,DELC13_FLAG_W,CDOM325,CDOM325_FLAG_W,CDOM340,CDOM340_FLAG_W,CDOM380,CDOM380_FLAG_W,CDOM412,CDOM412_FLAG_W,CDOM443,CDOM443_FLAG_W,CDOM490,CDOM490_FLAG_W,CDOM555,CDOM555_FLAG_W,CDOMSL,CDOMSL_FLAG_W,CDOMSN,CDOMSN_FLAG_W,THETA,SBE35,SBE35_FLAG_W
,,,,,,,,,,,METERS,,DBAR,ITS-90,PSS-78,,PSS-78,,UMOL/KG,,UMOL/KG,,UMOL/KG,,UMOL/KG,,UMOL/KG,,UMOL/KG,,PMOL/KG,,PMOL/KG,,PMOL/KG,,UMOL/KG,,UMOL/KG,,,,DEG C,UMOL/KG,,UMOL/KG,,TU,,TU,NMOL/KG,,NMOL/KG,PERCNT,,PERCNT,NMOL/KG,,NMOL/KG,/MILLE,,/MILLE,/MILLE,,1/M,,1/M,,1/M,,1/M,,1/M,,1/M,,1/M,,1/NM,,1/NM,,DEG C,ITS-90,
  33RR20070322,  I09N,   114,  1,     36,     38,2,20070403,1531,-14.0840,  94.9925, 5402,  40.9000,     40.9,  27.3069,  34.7719,2,  34.7713,2,    201.0,2,    201.2,2,     1.82,2,     0.06,2,     0.00,2,     0.07,2,    1.579,2,    1.056,2,    0.158,3,   1955.6,6,   2282.7,2,   8.0966,6,    25.00,   -999.0,9,  -999.00,9,    0.608,2,    0.011,   1.7440,2,   0.0005,    -1.18,2,     0.18,    6.926,2,    0.007,   -999.0,9,   -999.0,  -999.00,9,-999.0000,9,-999.0000,9,-999.0000,9,-999.0000,9,-999.0000,9,-999.0000,9,-999.0000,9,-999.0000,9,-999.0000,9,  27.2975,  27.3013,2
  33RR20070322,  I09N,   114,  1,     35,     35,2,20070403,1531,-14.0840,  94.9925, 5402,  76.0000,     76.0,  24.9539,  35.0497,2,  35.0284,2,    213.3,2,    212.5,2,     2.60,2,     0.07,2,     0.00,2,     0.09,2,    1.776,2,    1.177,2,    0.170,3,   -999.0,9,   -999.0,9,-999.0000,9,  -999.00,   -999.0,9,  -999.00,9,    0.595,2,    0.012,   3.9710,4,   0.0054,    -0.15,3,     0.18,   14.890,4,    0.082,   -999.0,9,   -999.0,  -999.00,9,-999.0000,9,-999.0000,9,-999.0000,9,-999.0000,9,-999.0000,9,-999.0000,9,-999.0000,9,-999.0000,9,-999.0000,9,  24.9374,  24.9701,2
  33RR20070322,  I09N,   114,  1,     34,   9419,2,20070403,1531,-14.0840,  94.9925, 5402, 124.9000,    124.9,  20.4641,  34.9368,2,  34.9385,2,    139.8,2,    134.1,2,    11.31,2,    10.67,2,     0.03,2,     0.77,2,    1.750,2,    1.125,2,    0.050,3,   2078.9,2,   2293.9,2,   7.8823,2,    25.00,   -999.0,9,  -999.00,9,    0.570,2,    0.012,   1.7430,2,   0.0005,     1.93,2,     0.19,    7.106,2,    0.007,   -999.0,9,   -999.0,  -999.00,9,-999.0000,9,-999.0000,9,-999.0000,9,-999.0000,9,-999.0000,9,-999.0000,9,-999.0000,9,-999.0000,9,-999.0000,9,  20.4407,  20.3573,2
  33RR20070322,  I09N,   114,  1,     33,     33,2,20070403,1531,-14.0840,  94.9925, 5402, 175.8000,    175.8,  18.1686,  35.2550,2,  35.2456,2,    142.6,2,    146.1,2,    12.28,2,    10.69,2,     0.01,2,     0.79,2,    1.915,2,    1.164,2, -999.000,5,   -999.0,9,   -999.0,9,-999.0000,9,  -999.00,   -999.0,9,  -999.00,9,    0.588,2,    0.011,-999.0000,9,-999.0000,  -999.00,9,  -999.00, -999.000,9, -999.000,   -999.0,9,   -999.0,  -999.00,9,-999.0000,9,-999.0000,9,-999.0000,9,-999.0000,9,-999.0000,9,-999.0000,9,-999.0000,9,-999.0000,9,-999.0000,9,  18.1382,  18.1263,2
  33RR20070322,  I09N,   114,  1,     32,     37,2,20070403,1531,-14.0840,  94.9925, 5402, 176.7000,    176.7,  18.1479,  35.2509,2,  35.2429,2,    142.6,2,    145.9,2,    12.27,2,    10.79,2,     0.01,2,     0.79,2,    1.870,2,    1.178,2,    0.015,3,   2103.9,2,   2315.8,6,   7.8824,2,    25.00,   -999.0,9,  -999.00,9,    0.567,2,    0.012,   1.7610,2,   0.0005,     2.21,2,     0.18,    7.225,2,    0.007,   -999.0,9,   -999.0,  -999.00,9,-999.0000,9,-999.0000,9,-999.0000,9,-999.0000,9,-999.0000,9,-999.0000,9,-999.0000,9,-999.0000,9,-999.0000,9,  18.1173,  18.1427,2
  33RR20070322,  I09N,   114,  1,     31,     31,2,20070403,1531,-14.0840,  94.9925, 5402, 226.4000,    226.4,  14.0788,  34.8102,2,  34.8045,2,    116.8,2,    118.1,2,    26.55,2,    19.69,2,     0.00,2,     1.42,2,    1.542,2,    0.903,2,    0.022,3,   -999.0,9,   -999.0,9,-999.0000,9,  -999.00,   -999.0,9,  -999.00,9,    0.455,2,    0.009,   1.7800,2,   0.0009,     6.33,3,     0.19,    7.374,2,    0.010,   -999.0,9,   -999.0,  -999.00,9,-999.0000,9,-999.0000,9,-999.0000,9,-999.0000,9,-999.0000,9,-999.0000,9,-999.0000,9,-999.0000,9,-999.0000,9,  14.0460,  14.0660,2
  33RR20070322,  I09N,   114,  1,     30,     30,2,20070403,1531,-14.0840,  94.9925, 5402, 274.8000,    274.8,  13.2876,  35.0675,2,  35.0691,2,    139.7,2,    144.0,2,    19.98,2,    16.69,2,     0.00,2,     1.22,2,    1.883,2,    1.101,2,    0.039,3,   -999.0,9,   -999.0,9,-999.0000,9,  -999.00,   -999.0,9,  -999.00,9,    0.387,2,    0.008,   1.7780,2,   0.0005,     4.49,2,     0.19,    7.482,2,    0.007,   -999.0,9,   -999.0,  -999.00,9,-999.0000,9,-999.0000,9,-999.0000,9,-999.0000,9,-999.0000,9,-999.0000,9,-999.0000,9,-999.0000,9,-999.0000,9,  13.2491,  13.2988,2
  33RR20070322,  I09N,   114,  1,     29,     29,2,20070403,1531,-14.0840,  94.9925, 5402, 324.6000,    324.6,  11.4719,  34.9053,2,  34.8973,2,    137.2,2,    138.5,2,    24.53,2,    20.62,2,     0.00,2,     1.48,2,    1.835,2,    1.062,2,    0.049,3,   2173.7,2,   2314.1,6,   7.6879,2,    25.00,   -999.0,9,  -999.00,9,    0.474,2,    0.011,-999.0000,9,-999.0000,  -999.00,9,  -999.00, -999.000,9, -999.000,   -999.0,9,   -999.0,  -999.00,9,-999.0000,9,-999.0000,9,-999.0000,9,-999.0000,9,-999.0000,9,-999.0000,9,-999.0000,9,-999.0000,9,-999.0000,9,  11.4306,  11.4745,2
  33RR20070322,  I09N,   114,  1,     28,     28,2,20070403,1531,-14.0840,  94.9925, 5402, 375.3000,    375.3,  10.6758,  34.8821,2,  34.8746,2,    172.5,2,    177.6,2,    16.19,2,    18.30,2,     0.00,2,     1.31,2,    2.472,2,    1.389,2,    0.099,3,   -999.0,9,   -999.0,9,-999.0000,9,  -999.00,   -999.0,9,  -999.00,9,    0.280,2,    0.006,   1.8100,2,   0.0005,     3.08,2,     0.18,    7.607,2,    0.014,   -999.0,9,   -999.0,  -999.00,9,-999.0000,9,-999.0000,9,-999.0000,9,-999.0000,9,-999.0000,9,-999.0000,9,-999.0000,9,-999.0000,9,-999.0000,9,  10.6301,  10.6704,2
  33RR20070322,  I09N,   114,  1,     27,     27,2,20070403,1531,-14.0840,  94.9925, 5402, 427.5000,    427.5,   9.7398,  34.7627,2,  34.7649,2,    162.6,2,    155.6,2,    23.13,2,    22.48,2,     0.00,2,     1.58,2,    2.021,2,    1.100,2,    0.068,3,   -999.0,9,   -999.0,9,-999.0000,9,  -999.00,   -999.0,9,  -999.00,9,    0.355,2,    0.010,   1.7980,2,   0.0005,     5.03,2,     0.18,    7.605,2,    0.013,   -999.0,9,   -999.0,  -999.00,9,-999.0000,9,-999.0000,9,-999.0000,9,-999.0000,9,-999.0000,9,-999.0000,9,-999.0000,9,-999.0000,9,-999.0000,9,   9.6906,   9.7568,2
  33RR20070322,  I09N,   114,  1,     26,     26,2,20070403,1531,-14.0840,  94.9925, 5402, 475.1000,    475.1,   8.9540,  34.6931,2,  34.6948,2,    131.2,2,    130.4,2,    31.64,2,    26.74,2,     0.00,2,     1.87,2,    1.433,2,    0.739,2,    0.043,3,   2199.2,2,   2310.6,2,   7.6239,2,    25.00,   -999.0,9,  -999.00,9,    0.193,2,    0.006,   1.8210,2,   0.0005,     6.16,2,     0.18,    7.705,2,    0.012,   -999.0,9,   -999.0,  -999.00,9,-999.0000,9,-999.0000,9,-999.0000,9,-999.0000,9,-999.0000,9,-999.0000,9,-999.0000,9,-999.0000,9,-999.0000,9,   8.9019,   8.9621,2
  33RR20070322,  I09N,   114,  1,     25,     25,2,20070403,1531,-14.0840,  94.9925, 5402, 526.1000,    526.1,   8.3013,  34.6647,2,  34.6647,2,    123.3,2,    115.9,2,    38.58,2,    29.50,2,     0.00,2,     2.08,2, -999.000,5,    0.426,2,    0.024,3,   -999.0,9,   -999.0,9,-999.0000,9,  -999.00,   -999.0,9,  -999.00,9,    0.114,2,    0.004,   1.8330,2,   0.0005,     7.13,2,     0.18,    7.781,2,    0.008,   -999.0,9,   -999.0,  -999.00,9,-999.0000,9,-999.0000,9,-999.0000,9,-999.0000,9,-999.0000,9,-999.0000,9,-999.0000,9,-999.0000,9,-999.0000,9,   8.2460,   8.3029,2
  33RR20070322,  I09N,   114,  1,     24,     24,2,20070403,1531,-14.0840,  94.9925, 5402, 576.8000,    576.8,   7.8359,  34.6629,2,  34.6620,2,    106.0,2,    105.4,2,    45.72,2,    31.44,2,     0.00,2,     2.23,2,    0.484,2,    0.254,2,    0.011,3,   2231.3,2,   2318.2,2,-999.0000,5,    25.00,   -999.0,9,  -999.00,9, -999.000,9, -999.000,   1.8670,2,   0.0005,     7.71,2,     0.18,    7.976,2,    0.024,   -999.0,9,   -999.0,  -999.00,9,-999.0000,9,-999.0000,9,-999.0000,9,-999.0000,9,-999.0000,9,-999.0000,9,-999.0000,9,-999.0000,9,-999.0000,9,   7.7771,   7.8373,2
  33RR20070322,  I09N,   114,  1,     23,     23,2,20070403,1531,-14.0840,  94.9925, 5402, 646.9000,    646.9,   7.2383,  34.6661,2,  34.6665,2,     87.7,2,     88.4,2,    59.63,2,    33.74,2,     0.00,2,     2.43,2,    0.227,2,    0.123,2,    0.005,3,   -999.0,9,   -999.0,9,-999.0000,9,  -999.00,   -999.0,9,  -999.00,9,    0.053,2,    0.004,   1.8760,2,   0.0005,    10.25,2,     0.18,    7.935,2,    0.008,   -999.0,9,   -999.0,  -999.00,9,-999.0000,9,-999.0000,9,-999.0000,9,-999.0000,9,-999.0000,9,-999.0000,9,-999.0000,9,-999.0000,9,-999.0000,9,   7.1749,   7.2366,2
  33RR20070322,  I09N,   114,  1,     22,     22,2,20070403,1531,-14.0840,  94.9925, 5402, 746.4000,    746.4,   6.4963,  34.6468,2,  34.6454,2,     81.6,2,     80.6,2,    75.57,2,    35.32,2,     0.00,2,     2.57,2,    0.122,2,    0.068,2,    0.011,3,   2277.7,2,   2346.6,2,   7.5210,3,    25.00,   -999.0,9,  -999.00,9, -999.000,9, -999.000,   1.8710,2,   0.0010,    12.28,2,     0.19,    7.930,2,    0.014,   -999.0,9,   -999.0,  -999.00,9,-999.0000,9,-999.0000,9,-999.0000,9,-999.0000,9,-999.0000,9,-999.0000,9,-999.0000,9,-999.0000,9,-999.0000,9,   6.4268,   6.4951,2
  33RR20070322,  I09N,   114,  1,     21,     21,2,20070403,1531,-14.0840,  94.9925, 5402, 845.5000,    845.5,   6.0841,  34.6688,2,  34.6684,2,     83.7,2,     83.7,2,    79.15,2,    35.63,2,     0.00,2,     2.60,2,    0.091,2,    0.042,2,    0.010,3,   -999.0,9,   -999.0,9,-999.0000,9,  -999.00,   -999.0,9,  -999.00,9,    0.024,2,    0.004,   1.8810,2,   0.0005,    12.24,2,     0.19,    7.946,2,    0.008,   -999.0,9,   -999.0,  -999.00,9,-999.0000,9,-999.0000,9,-999.0000,9,-999.0000,9,-999.0000,9,-999.0000,9,-999.0000,9,-999.0000,9,-999.0000,9,   6.0074,   6.0865,2
  33RR20070322,  I09N,   114,  1,     20,     20,2,20070403,1531,-14.0840,  94.9925, 5402, 947.6000,    947.6,   5.5285,  34.6459,2,  34.6452,2,     85.7,2,     85.7,2,    89.34,2,    36.10,2,     0.00,2,     2.64,2,    0.068,2,    0.035,2,    0.003,3,   -999.0,9,   -999.0,9,-999.0000,9,  -999.00,   -999.0,9,  -999.00,9, -999.000,9, -999.000,   1.8850,2,   0.0005,    14.22,2,     0.19,    8.034,2,    0.026,   -999.0,9,   -999.0,  -999.00,9,-999.0000,9,-999.0000,9,-999.0000,9,-999.0000,9,-999.0000,9,-999.0000,9,-999.0000,9,-999.0000,9,-999.0000,9,   5.4459,   5.5288,2
  33RR20070322,  I09N,   114,  1,     19,     19,2,20070403,1531,-14.0840,  94.9925, 5402,1046.6000,   1046.6,   5.0990,  34.6462,2,  34.6456,2,     88.8,2,     88.6,2,    95.14,2,    36.30,2,     0.00,2,     2.66,2, -999.000,9, -999.000,9, -999.000,9,   2299.6,2,   2369.3,2,-999.0000,5,    25.00,   -999.0,9,  -999.00,9,    0.016,2,    0.004,-999.0000,9,-999.0000,  -999.00,9,  -999.00, -999.000,9, -999.000,   -999.0,9,   -999.0,  -999.00,9,-999.0000,9,-999.0000,9,-999.0000,9,-999.0000,9,-999.0000,9,-999.0000,9,-999.0000,9,-999.0000,9,-999.0000,9,   5.0104,   5.0990,2
  33RR20070322,  I09N,   114,  1,     18,     18,2,20070403,1531,-14.0840,  94.9925, 5402,1148.0000,   1148.0,   4.7067,  34.6440,2,  34.6417,2,     92.5,2,     93.0,2,   100.75,2,    36.41,2,     0.00,2,     2.67,2,    0.054,2,    0.027,2,   -0.001,3,   -999.0,9,   -999.0,9,-999.0000,9,  -999.00,   -999.0,9,  -999.00,9, -999.000,9, -999.000,   1.8850,2,   0.0005,    15.40,2,     0.19,    7.916,2,    0.014,   -999.0,9,   -999.0,  -999.00,9,-999.0000,9,-999.0000,9,-999.0000,9,-999.0000,9,-999.0000,9,-999.0000,9,-999.0000,9,-999.0000,9,-999.0000,9,   4.6121,   4.7077,2
  33RR20070322,  I09N,   114,  1,     17,     17,2,20070403,1531,-14.0840,  94.9925, 5402,1248.7000,   1248.7,   4.3920,  34.6472,2,  34.6454,2,     96.0,2,     96.3,2,   105.77,2,    36.51,2,     0.00,2,     2.67,2,    0.044,2,    0.018,2,   -0.002,3,   -999.0,9,   -999.0,9,-999.0000,9,  -999.00,   -999.0,9,  -999.00,9,    0.004,2,    0.004,   1.9060,2,   0.0006,    15.44,2,     0.20,    7.967,2,    0.013,   -999.0,9,   -999.0,  -999.00,9,-999.0000,9,-999.0000,9,-999.0000,9,-999.0000,9,-999.0000,9,-999.0000,9,-999.0000,9,-999.0000,9,-999.0000,9,   4.2912,   4.3933,2
  33RR20070322,  I09N,   114,  1,     16,     16,2,20070403,1531,-14.0840,  94.9925, 5402,1348.0000,   1348.0,   4.1023,  34.6597,2,  34.6574,2,    101.0,2,    102.8,2,   107.15,2,    36.51,2,     0.00,2,     2.66,2,    0.039,2,    0.015,2,    0.000,3,   -999.0,9,   -999.0,9,-999.0000,9,  -999.00,   -999.0,9,  -999.00,9, -999.000,9, -999.000,   1.7950,3,   0.0006,    13.79,2,     0.22,   -0.007,4,   -0.001,   -999.0,9,   -999.0,  -999.00,9,-999.0000,9,-999.0000,9,-999.0000,9,-999.0000,9,-999.0000,9,-999.0000,9,-999.0000,9,-999.0000,9,-999.0000,9,   3.9954,   4.1023,2
  33RR20070322,  I09N,   114,  1,     15,     15,2,20070403,1531,-14.0840,  94.9925, 5402,1448.1000,   1448.1,   3.8269,  34.6779,2,  34.6773,2,    106.6,2,    107.2,2,   109.15,2,    36.19,2,     0.00,2,     2.65,2,    0.042,2,    0.014,2,    0.000,3,   -999.0,9,   -999.0,9,-999.0000,9,  -999.00,   -999.0,9,  -999.00,9,    0.064,2,    0.004,   1.8890,2,   0.0005,    14.60,2,     0.20,    7.975,2,    0.014,   -999.0,9,   -999.0,  -999.00,9,-999.0000,9,-999.0000,9,-999.0000,9,-999.0000,9,-999.0000,9,-999.0000,9,-999.0000,9,-999.0000,9,-999.0000,9,   3.7140,   3.8264,2
  33RR20070322,  I09N,   114,  1,     14,     14,2,20070403,1531,-14.0840,  94.9925, 5402,1550.1000,   1550.1,   3.5345,  34.6935,2,  34.6915,2,    113.3,2,    113.4,2,   109.54,2,    36.03,2,     0.00,2,     2.62,2,    0.025,2,    0.009,2,   -0.002,3,   -999.0,9,   -999.0,9,-999.0000,9,  -999.00,   -999.0,9,  -999.00,9, -999.000,9, -999.000,   1.9130,2,   0.0006,    14.05,2,     0.18,    8.083,2,    0.017,   -999.0,9,   -999.0,  -999.00,9,-999.0000,9,-999.0000,9,-999.0000,9,-999.0000,9,-999.0000,9,-999.0000,9,-999.0000,9,-999.0000,9,-999.0000,9,   3.4158,   3.5343,2
  33RR20070322,  I09N,   114,  1,     13,     13,2,20070403,1531,-14.0840,  94.9925, 5402,1751.9000,   1751.9,   3.0376,  34.7185,2,  34.7170,2,    125.8,2,    126.8,2,   112.33,2,    35.66,2,     0.00,2,     2.57,2,    0.041,2,    0.010,2,    0.002,3,   -999.0,9,   -999.0,9,-999.0000,9,  -999.00,   -999.0,9,  -999.00,9,    0.001,2,    0.004,   1.9090,2,   0.0005,    13.65,2,     0.20,    8.130,2,    0.014,   -999.0,9,   -999.0,  -999.00,9,-999.0000,9,-999.0000,9,-999.0000,9,-999.0000,9,-999.0000,9,-999.0000,9,-999.0000,9,-999.0000,9,-999.0000,9,   2.9074,   3.0389,2
  33RR20070322,  I09N,   114,  1,     12,     12,2,20070403,1531,-14.0840,  94.9925, 5402,1953.4000,   1953.4,   2.6288,  34.7284,2,  34.7245,2,    137.2,2,    137.5,2,   116.15,2,    35.07,2,     0.00,2,     2.52,2, -999.000,5,    0.009,2,    0.002,3,   -999.0,9,   -999.0,9,-999.0000,9,  -999.00,   -999.0,9,  -999.00,9, -999.000,9, -999.000,   1.9230,2,   0.0005,    14.02,2,     0.19,    8.230,2,    0.014,   -999.0,9,   -999.0,  -999.00,9,-999.0000,9,-999.0000,9,-999.0000,9,-999.0000,9,-999.0000,9,-999.0000,9,-999.0000,9,-999.0000,9,-999.0000,9,   2.4866,   2.6295,2
  33RR20070322,  I09N,   114,  1,     11,     11,2,20070403,1531,-14.0840,  94.9925, 5402,2114.7000,   2114.7,   2.3467,  34.7315,2,  34.7304,2,    146.4,2,    147.3,2,   118.55,2,    34.65,2,     0.00,2,     2.47,2, -999.000,5,    0.013,2,    0.000,3,   -999.0,9,   -999.0,9,-999.0000,9,  -999.00,   -999.0,9,  -999.00,9, -999.000,9, -999.000,   1.8940,2,   0.0005,    14.04,2,     0.19,    8.131,2,    0.013,   -999.0,9,   -999.0,  -999.00,9,-999.0000,9,-999.0000,9,-999.0000,9,-999.0000,9,-999.0000,9,-999.0000,9,-999.0000,9,-999.0000,9,-999.0000,9,   2.1946,   2.3466,2
  33RR20070322,  I09N,   114,  1,     10,     10,2,20070403,1531,-14.0840,  94.9925, 5402,2366.9000,   2366.9,   2.0631,  34.7309,2,  34.7298,2,    158.5,2,    158.5,2,   118.33,2,    34.06,2,     0.00,2,     2.40,2, -999.000,9, -999.000,9, -999.000,9,   -999.0,9,   -999.0,9,-999.0000,9,  -999.00,   -999.0,9,  -999.00,9, -999.000,9, -999.000,-999.0000,9,-999.0000,  -999.00,9,  -999.00, -999.000,9, -999.000,   -999.0,9,   -999.0,  -999.00,9,-999.0000,9,-999.0000,9,-999.0000,9,-999.0000,9,-999.0000,9,-999.0000,9,-999.0000,9,-999.0000,9,-999.0000,9,   1.8934,   2.0635,2
  33RR20070322,  I09N,   114,  1,      9,      9,2,20070403,1531,-14.0840,  94.9925, 5402,2618.2000,   2618.2,   1.8510,  34.7294,2,  34.7284,2,    164.9,2,    165.4,2,   121.14,2,    33.80,2,     0.00,2,     2.38,2, -999.000,5,    0.014,2,    0.001,3,   -999.0,9,   -999.0,9,-999.0000,9,  -999.00,   -999.0,9,  -999.00,9, -999.000,9, -999.000,   1.9170,2,   0.0006,    13.46,2,     0.19,    8.287,2,    0.022,   -999.0,9,   -999.0,  -999.00,9,-999.0000,9,-999.0000,9,-999.0000,9,-999.0000,9,-999.0000,9,-999.0000,9,-999.0000,9,-999.0000,9,-999.0000,9,   1.6624,   1.8511,2
  33RR20070322,  I09N,   114,  1,      8,      8,2,20070403,1531,-14.0840,  94.9925, 5402,2871.0000,   2871.0,   1.6719,  34.7269,2,  34.7255,2,    169.3,2,    168.8,2,   125.17,2,    33.80,2,     0.00,2,     2.38,2, -999.000,9, -999.000,9, -999.000,9,   -999.0,9,   -999.0,9,-999.0000,9,  -999.00,   -999.0,9,  -999.00,9, -999.000,9, -999.000,-999.0000,9,-999.0000,  -999.00,9,  -999.00, -999.000,9, -999.000,   -999.0,9,   -999.0,  -999.00,9,-999.0000,9,-999.0000,9,-999.0000,9,-999.0000,9,-999.0000,9,-999.0000,9,-999.0000,9,-999.0000,9,-999.0000,9,   1.4633,   1.6730,2
  33RR20070322,  I09N,   114,  1,      7,      7,2,20070403,1531,-14.0840,  94.9925, 5402,3126.9000,   3126.9,   1.5264,  34.7242,2,  34.7247,2,    174.0,2,    169.0,3,   125.35,2,    33.80,2,     0.00,2,     2.38,2, -999.000,5,    0.013,2,    0.000,3,   -999.0,9,   -999.0,9,-999.0000,9,  -999.00,   -999.0,9,  -999.00,9, -999.000,9, -999.000,   1.9340,2,   0.0006,    13.22,2,     0.18,    8.295,2,    0.015,   -999.0,9,   -999.0,  -999.00,9,-999.0000,9,-999.0000,9,-999.0000,9,-999.0000,9,-999.0000,9,-999.0000,9,-999.0000,9,-999.0000,9,-999.0000,9,   1.2965,   1.5266,2
  33RR20070322,  I09N,   114,  1,      6,      6,2,20070403,1531,-14.0840,  94.9925, 5402,3531.7000,   3531.7,   1.3390,  34.7198,2,  34.7209,4,    182.1,2,    174.0,3,   127.16,2,    33.63,2,     0.00,2,     2.37,2, -999.000,5,    0.010,2,   -0.003,3,   -999.0,9,   -999.0,9,-999.0000,9,  -999.00,   -999.0,9,  -999.00,9, -999.000,9, -999.000,   1.9150,2,   0.0006,    12.80,2,     0.18,    8.275,2,    0.020,   -999.0,9,   -999.0,  -999.00,9,-999.0000,9,-999.0000,9,-999.0000,9,-999.0000,9,-999.0000,9,-999.0000,9,-999.0000,9,-999.0000,9,-999.0000,9,   1.0734,   1.3389,2
  33RR20070322,  I09N,   114,  1,      5,      5,2,20070403,1531,-14.0840,  94.9925, 5402,3937.5000,   3937.5,   1.2161,  34.7170,2,  34.7144,2,    189.9,2,    190.0,2,   127.54,2,    32.90,2,     0.00,2,     2.30,2,    0.069,3,    0.010,2,    0.000,3,   -999.0,9,   -999.0,9,-999.0000,9,  -999.00,   -999.0,9,  -999.00,9, -999.000,9, -999.000,   1.9070,2,   0.0006,    11.39,2,     0.18,    8.174,2,    0.014,   -999.0,9,   -999.0,  -999.00,9,-999.0000,9,-999.0000,9,-999.0000,9,-999.0000,9,-999.0000,9,-999.0000,9,-999.0000,9,-999.0000,9,-999.0000,9,   0.9116,   1.2161,2