BOTTLE,20150630SIOCCHRJL
EXPOCODE,SECT_ID,STNNBR,CASTNO,SAMPNO,BTLNBR,BTLNBR_FLAG_W,DATE,TIME,LATITUDE,LONGITUDE,DEPTH,CTDRAW,CTDPRS,CTDTMP,CTDSAL,CTDSAL_FLAG_W,SALNTY,SALNTY_FLAG_W,CTDOXY,CTDOXY_FLAG_W,OXYGEN,OXYGEN_FLAG_W,SILCAT,SILCAT_FLAG_W,NITRAT,NITRAT_FLAG_W,NITRIT,NITRIT_FLAG_W,PHSPHT,PHSPHT_FLAG_W,CFC-11,CFC-11_FLAG_W,CFC-12,CFC-12_FLAG_W,CFC113,CFC113_FLAG_W,TCARBN,TCARBN_FLAG_W,ALKALI,ALKALI_FLAG_W,PH_SWS,PH_SWS_FLAG_W,PH_TMP,DOC,DOC_FLAG_W,TDN,TDN_FLAG_W,TRITUM,TRITUM_FLAG_W,TRITER,HELIUM,HELIUM_FLAG_W,HELIER,DELHE3,DELHE3_FLAG_W,DELHER,NEON,NEON_FLAG_W,NEONER,DELC14,DELC14_FLAG_W,C14ERR,DELC13,DELC13_FLAG_W,CDOM325,CDOM325_FLAG_W,CDOM340,CDOM340_FLAG_W,CDOM380,CDOM380_FLAG_W,CDOM412,CDOM412_FLAG_W,CDOM443,CDOM443_FLAG_W,CDOM490,CDOM490_FLAG_W,CDOM555,CDOM555_FLAG_W,CDOMSL,CDOMSL_FLAG_W,CDOMSN,CDOMSN_FLAG_W,THETA,SBE35,SBE35_FLAG_W
,,,,,,,,,,,METERS,,DBAR,ITS-90,PSS-78,,PSS-78,,UMOL/KG,,UMOL/KG,,UMOL/KG,,UMOL/KG,,UMOL/KG,,UMOL/KG,,PMOL/KG,,PMOL/KG,,PMOL/KG,,UMOL/KG,,UMOL/KG,,,,DEG C,UMOL/KG,,UMOL/KG,,TU,,TU,NMOL/KG,,NMOL/KG,PERCNT,,PERCNT,NMOL/KG,,NMOL/KG,/MILLE,,/MILLE,/MILLE,,1/M,,1/M,,1/M,,1/M,,1/M,,1/M,,1/M,,1/NM,,1/NM,,DEG C,ITS-90,
  33RR20070322,  I09N,   122,  1,     36,     38,2,20070406,0429, -9.8168,  95.0008, 5199,   1.4000,      1.4,  28.9311,  33.7232,2,  33.7251,2,    198.2,2,    198.0,2,     1.92,2,     0.06,2,     0.00,2,     0.10,2,    1.528,2,    0.989,2, -999.000,5,   1896.9,6,   2212.7,2,   8.0780,3,    25.00,   -999.0,9,  -999.00,9, -999.000,9, -999.000,-999.0000,9,-999.0000,  -999.00,9,  -999.00, -999.000,9, -999.000,   -999.0,9,   -999.0,  -999.00,9,-999.0000,9,-999.0000,9,-999.0000,9,-999.0000,9,-999.0000,9,-999.0000,9,-999.0000,9,-999.0000,9,-999.0000,9,  28.9308,  28.9292,2
  33RR20070322,  I09N,   122,  1,     35,     35,2,20070406,0429, -9.8168,  95.0008, 5199,  31.1000,     31.1,  21.0943,  34.5789,2,  34.5714,2,    141.2,2,    129.4,2,    12.32,2,    12.06,2,     0.29,2,     0.88,2,    1.621,2,    0.999,2, -999.000,5,   -999.0,9,   -999.0,9,-999.0000,9,  -999.00,   -999.0,9,  -999.00,9, -999.000,9, -999.000,-999.0000,9,-999.0000,  -999.00,9,  -999.00, -999.000,9, -999.000,   -999.0,9,   -999.0,  -999.00,9,-999.0000,9,-999.0000,9,-999.0000,9,-999.0000,9,-999.0000,9,-999.0000,9,-999.0000,9,-999.0000,9,-999.0000,9,  21.0884,  21.1097,2
  33RR20070322,  I09N,   122,  1,     34,   9419,2,20070406,0429, -9.8168,  95.0008, 5199,  56.1000,     56.1,  17.7017,  34.7817,2,  34.7802,2,    115.4,2,    113.7,2,    19.44,2,    16.36,2,     0.03,2,     1.16,2,    1.652,2,    0.982,2, -999.000,5,   2116.9,2,   2291.3,2,   7.7800,2,    25.00,   -999.0,9,  -999.00,9, -999.000,9, -999.000,-999.0000,9,-999.0000,  -999.00,9,  -999.00, -999.000,9, -999.000,   -999.0,9,   -999.0,  -999.00,9,-999.0000,9,-999.0000,9,-999.0000,9,-999.0000,9,-999.0000,9,-999.0000,9,-999.0000,9,-999.0000,9,-999.0000,9,  17.6922,  17.6958,2
  33RR20070322,  I09N,   122,  1,     33,     33,2,20070406,0429, -9.8168,  95.0008, 5199,  82.0000,     82.0,  15.1126,  34.6384,2,  34.6599,2,    108.0,2,    106.2,2,    26.77,2,    20.29,2,     0.01,2,     1.44,2,    1.485,2,    0.857,2, -999.000,5,   -999.0,9,   -999.0,9,-999.0000,9,  -999.00,   -999.0,9,  -999.00,9, -999.000,9, -999.000,-999.0000,9,-999.0000,  -999.00,9,  -999.00, -999.000,9, -999.000,   -999.0,9,   -999.0,  -999.00,9,-999.0000,9,-999.0000,9,-999.0000,9,-999.0000,9,-999.0000,9,-999.0000,9,-999.0000,9,-999.0000,9,-999.0000,9,  15.1002,  15.1542,2
  33RR20070322,  I09N,   122,  1,     32,     37,2,20070406,0429, -9.8168,  95.0008, 5199, 106.1000,    106.1,  13.6501,  34.6895,2,  34.7170,3,    109.0,2,    107.6,2,    28.89,2,    21.27,2,     0.01,2,     1.52,2,    1.440,2,    0.824,2, -999.000,5,   2160.5,2,   2299.7,2,   7.6970,3,    25.00,   -999.0,9,  -999.00,9, -999.000,9, -999.000,-999.0000,9,-999.0000,  -999.00,9,  -999.00, -999.000,9, -999.000,   -999.0,9,   -999.0,  -999.00,9,-999.0000,9,-999.0000,9,-999.0000,9,-999.0000,9,-999.0000,9,-999.0000,9,-999.0000,9,-999.0000,9,-999.0000,9,  13.6351,  13.6323,2
  33RR20070322,  I09N,   122,  1,     31,     31,2,20070406,0429, -9.8168,  95.0008, 5199, 155.1000,    155.1,  11.8404,  34.7087,2,  34.7052,2,     82.2,2,     78.0,2,    35.08,2,    27.25,2,     0.00,2,     1.92,2,    1.036,2,    0.574,2, -999.000,5,   -999.0,9,   -999.0,9,-999.0000,9,  -999.00,   -999.0,9,  -999.00,9, -999.000,9, -999.000,-999.0000,9,-999.0000,  -999.00,9,  -999.00, -999.000,9, -999.000,   -999.0,9,   -999.0,  -999.00,9,-999.0000,9,-999.0000,9,-999.0000,9,-999.0000,9,-999.0000,9,-999.0000,9,-999.0000,9,-999.0000,9,-999.0000,9,  11.8204,  11.8409,2
  33RR20070322,  I09N,   122,  1,     30,     30,2,20070406,0429, -9.8168,  95.0008, 5199, 205.5000,    205.5,  11.2875,  34.7979,2,  34.8024,2,     65.8,2,     70.1,2,    33.35,2,    28.75,2,     0.00,2,     2.00,2,    0.903,2,    0.492,2, -999.000,5,   -999.0,9,   -999.0,9,-999.0000,9,  -999.00,   -999.0,9,  -999.00,9, -999.000,9, -999.000,-999.0000,9,-999.0000,  -999.00,9,  -999.00, -999.000,9, -999.000,   -999.0,9,   -999.0,  -999.00,9,-999.0000,9,-999.0000,9,-999.0000,9,-999.0000,9,-999.0000,9,-999.0000,9,-999.0000,9,-999.0000,9,-999.0000,9,  11.2618,  11.2979,2
  33RR20070322,  I09N,   122,  1,     29,     29,2,20070406,0429, -9.8168,  95.0008, 5199, 255.6000,    255.6,  10.8142,  34.8678,2,  34.8652,2,     86.0,2,     83.0,2,    29.13,2,    28.02,2,     0.00,2,     1.93,2,    0.994,2,    0.532,2, -999.000,5,   2211.1,2,   2308.6,2,   7.6064,2,    25.00,   -999.0,9,  -999.00,9, -999.000,9, -999.000,-999.0000,9,-999.0000,  -999.00,9,  -999.00, -999.000,9, -999.000,   -999.0,9,   -999.0,  -999.00,9,-999.0000,9,-999.0000,9,-999.0000,9,-999.0000,9,-999.0000,9,-999.0000,9,-999.0000,9,-999.0000,9,-999.0000,9,  10.7830,  10.8260,2
  33RR20070322,  I09N,   122,  1,     28,     28,2,20070406,0429, -9.8168,  95.0008, 5199, 305.2000,    305.2,  10.3514,  34.8574,2,  34.8576,2,     82.4,2,     88.4,2,    28.56,2,    28.48,2,     0.00,2,     1.94,2,    0.938,2,    0.498,2, -999.000,5,   -999.0,9,   -999.0,9,-999.0000,9,  -999.00,   -999.0,9,  -999.00,9, -999.000,9, -999.000,-999.0000,9,-999.0000,  -999.00,9,  -999.00, -999.000,9, -999.000,   -999.0,9,   -999.0,  -999.00,9,-999.0000,9,-999.0000,9,-999.0000,9,-999.0000,9,-999.0000,9,-999.0000,9,-999.0000,9,-999.0000,9,-999.0000,9,  10.3151,  10.3505,2
  33RR20070322,  I09N,   122,  1,     27,     27,2,20070406,0429, -9.8168,  95.0008, 5199, 355.7000,    355.7,   9.8326,  34.8318,2,  34.8335,2,     90.6,2,     90.1,2,    30.11,2,    29.41,2,     0.00,2,     2.01,2,    0.782,2,    0.415,2, -999.000,5,   -999.0,9,   -999.0,9,-999.0000,9,  -999.00,   -999.0,9,  -999.00,9, -999.000,9, -999.000,-999.0000,9,-999.0000,  -999.00,9,  -999.00, -999.000,9, -999.000,   -999.0,9,   -999.0,  -999.00,9,-999.0000,9,-999.0000,9,-999.0000,9,-999.0000,9,-999.0000,9,-999.0000,9,-999.0000,9,-999.0000,9,-999.0000,9,   9.7915,   9.8431,2
  33RR20070322,  I09N,   122,  1,     26,     26,2,20070406,0429, -9.8168,  95.0008, 5199, 406.8000,    406.8,   9.2771,  34.7875,2,  34.7888,2,     92.3,2,     95.9,2,    33.99,2,    29.83,2,     0.00,2,     2.05,2,    0.726,2,    0.388,2, -999.000,5,   -999.0,9,   -999.0,9,-999.0000,9,  -999.00,   -999.0,9,  -999.00,9, -999.000,9, -999.000,-999.0000,9,-999.0000,  -999.00,9,  -999.00, -999.000,9, -999.000,   -999.0,9,   -999.0,  -999.00,9,-999.0000,9,-999.0000,9,-999.0000,9,-999.0000,9,-999.0000,9,-999.0000,9,-999.0000,9,-999.0000,9,-999.0000,9,   9.2317,   9.2691,2
  33RR20070322,  I09N,   122,  1,     25,     25,2,20070406,0429, -9.8168,  95.0008, 5199, 455.3000,    455.3,   8.8432,  34.7793,2,  34.7786,2,     86.7,2,     89.5,2,    39.40,2,    31.33,2,     0.00,2,     2.18,2,    0.506,2,    0.271,2, -999.000,5,   -999.0,9,   -999.0,9,-999.0000,9,  -999.00,   -999.0,9,  -999.00,9, -999.000,9, -999.000,-999.0000,9,-999.0000,  -999.00,9,  -999.00, -999.000,9, -999.000,   -999.0,9,   -999.0,  -999.00,9,-999.0000,9,-999.0000,9,-999.0000,9,-999.0000,9,-999.0000,9,-999.0000,9,-999.0000,9,-999.0000,9,-999.0000,9,   8.7937,   8.8421,2
  33RR20070322,  I09N,   122,  1,     24,     24,2,20070406,0429, -9.8168,  95.0008, 5199, 505.7000,    505.7,   8.4291,  34.7799,2,  34.7817,2,     79.3,2,     81.5,2,    46.18,2,    32.68,2,     0.00,2,     2.32,2,    0.311,2,    0.172,2, -999.000,5,   2238.7,2,   2321.6,6,   7.4997,3,    25.00,   -999.0,9,  -999.00,9, -999.000,9, -999.000,-999.0000,9,-999.0000,  -999.00,9,  -999.00, -999.000,9, -999.000,   -999.0,9,   -999.0,  -999.00,9,-999.0000,9,-999.0000,9,-999.0000,9,-999.0000,9,-999.0000,9,-999.0000,9,-999.0000,9,-999.0000,9,-999.0000,9,   8.3754,   8.4284,2
  33RR20070322,  I09N,   122,  1,     23,     23,2,20070406,0429, -9.8168,  95.0008, 5199, 605.7000,    605.7,   7.5378,  34.7453,2,  34.7449,2,     75.9,2,     73.7,2,    60.32,2,    34.76,2,     0.00,2,     2.49,2,    0.130,2,    0.074,2, -999.000,5,   -999.0,9,   -999.0,9,-999.0000,9,  -999.00,   -999.0,9,  -999.00,9, -999.000,9, -999.000,-999.0000,9,-999.0000,  -999.00,9,  -999.00, -999.000,9, -999.000,   -999.0,9,   -999.0,  -999.00,9,-999.0000,9,-999.0000,9,-999.0000,9,-999.0000,9,-999.0000,9,-999.0000,9,-999.0000,9,-999.0000,9,-999.0000,9,   7.4772,   7.5365,2
  33RR20070322,  I09N,   122,  1,     22,     22,2,20070406,0429, -9.8168,  95.0008, 5199, 706.7000,    706.7,   6.8746,  34.7404,2,  34.7402,2,     71.4,2,     68.3,2,    72.37,2,    35.92,2,     0.00,2,     2.61,2, -999.000,9, -999.000,9, -999.000,9,   -999.0,9,   -999.0,9,-999.0000,9,  -999.00,   -999.0,9,  -999.00,9, -999.000,9, -999.000,-999.0000,9,-999.0000,  -999.00,9,  -999.00, -999.000,9, -999.000,   -999.0,9,   -999.0,  -999.00,9,-999.0000,9,-999.0000,9,-999.0000,9,-999.0000,9,-999.0000,9,-999.0000,9,-999.0000,9,-999.0000,9,-999.0000,9,   6.8069,   6.8766,2
  33RR20070322,  I09N,   122,  1,     21,     21,2,20070406,0429, -9.8168,  95.0008, 5199, 806.0000,    806.0,   6.1999,  34.7113,2,  34.7113,2,     70.8,2,     72.3,2,    83.48,2,    36.39,2,     0.00,2,     2.65,2,    0.045,2,    0.024,2, -999.000,5,   -999.0,9,   -999.0,9,-999.0000,9,  -999.00,   -999.0,9,  -999.00,9, -999.000,9, -999.000,-999.0000,9,-999.0000,  -999.00,9,  -999.00, -999.000,9, -999.000,   -999.0,9,   -999.0,  -999.00,9,-999.0000,9,-999.0000,9,-999.0000,9,-999.0000,9,-999.0000,9,-999.0000,9,-999.0000,9,-999.0000,9,-999.0000,9,   6.1263,   6.2027,2
  33RR20070322,  I09N,   122,  1,     20,     20,2,20070406,0429, -9.8168,  95.0008, 5199, 907.2000,    907.2,   5.6465,  34.6894,2,  34.6890,2,     76.3,2,     76.8,2,    90.93,2,    36.75,2,     0.00,2,     2.67,2, -999.000,9, -999.000,9, -999.000,9,   -999.0,9,   -999.0,9,-999.0000,9,  -999.00,   -999.0,9,  -999.00,9, -999.000,9, -999.000,-999.0000,9,-999.0000,  -999.00,9,  -999.00, -999.000,9, -999.000,   -999.0,9,   -999.0,  -999.00,9,-999.0000,9,-999.0000,9,-999.0000,9,-999.0000,9,-999.0000,9,-999.0000,9,-999.0000,9,-999.0000,9,-999.0000,9,   5.5668,   5.6451,2
  33RR20070322,  I09N,   122,  1,     19,     19,2,20070406,0429, -9.8168,  95.0008, 5199,1007.9000,   1007.9,   5.1915,  34.6817,2,  34.6804,2,     81.8,2,     82.3,2,    97.21,2,    36.75,2,     0.00,2,     2.68,2,    0.028,2,    0.016,2, -999.000,5,   2296.8,2,   2371.0,2,   7.5171,2,    25.00,   -999.0,9,  -999.00,9, -999.000,9, -999.000,-999.0000,9,-999.0000,  -999.00,9,  -999.00, -999.000,9, -999.000,   -999.0,9,   -999.0,  -999.00,9,-999.0000,9,-999.0000,9,-999.0000,9,-999.0000,9,-999.0000,9,-999.0000,9,-999.0000,9,-999.0000,9,-999.0000,9,   5.1057,   5.1932,2
  33RR20070322,  I09N,   122,  1,     18,     18,2,20070406,0429, -9.8168,  95.0008, 5199,1107.7000,   1107.7,   4.8533,  34.6871,2,  34.6875,2,     85.8,2,     85.4,2,   101.54,2,    36.80,2,     0.00,2,     2.68,2, -999.000,9, -999.000,9, -999.000,9,   -999.0,9,   -999.0,9,-999.0000,9,  -999.00,   -999.0,9,  -999.00,9, -999.000,9, -999.000,-999.0000,9,-999.0000,  -999.00,9,  -999.00, -999.000,9, -999.000,   -999.0,9,   -999.0,  -999.00,9,-999.0000,9,-999.0000,9,-999.0000,9,-999.0000,9,-999.0000,9,-999.0000,9,-999.0000,9,-999.0000,9,-999.0000,9,   4.7610,   4.8545,2
  33RR20070322,  I09N,   122,  1,     17,     17,2,20070406,0429, -9.8168,  95.0008, 5199,1208.3000,   1208.3,   4.6310,  34.7085,2,  34.7085,2,     88.4,2,     87.8,2,   103.13,2,    36.91,2,     0.00,2,     2.69,2, -999.000,9, -999.000,9, -999.000,9,   -999.0,9,   -999.0,9,-999.0000,9,  -999.00,   -999.0,9,  -999.00,9, -999.000,9, -999.000,-999.0000,9,-999.0000,  -999.00,9,  -999.00, -999.000,9, -999.000,   -999.0,9,   -999.0,  -999.00,9,-999.0000,9,-999.0000,9,-999.0000,9,-999.0000,9,-999.0000,9,-999.0000,9,-999.0000,9,-999.0000,9,-999.0000,9,   4.5315,   4.6376,2
  33RR20070322,  I09N,   122,  1,     16,     16,2,20070406,0429, -9.8168,  95.0008, 5199,1309.5000,   1309.5,   4.3074,  34.7184,2,  34.7178,2,     92.8,2,     92.8,2,   105.90,2,    36.85,2,     0.00,2,     2.69,2, -999.000,9, -999.000,9, -999.000,9,   -999.0,9,   -999.0,9,-999.0000,9,  -999.00,   -999.0,9,  -999.00,9, -999.000,9, -999.000,-999.0000,9,-999.0000,  -999.00,9,  -999.00, -999.000,9, -999.000,   -999.0,9,   -999.0,  -999.00,9,-999.0000,9,-999.0000,9,-999.0000,9,-999.0000,9,-999.0000,9,-999.0000,9,-999.0000,9,-999.0000,9,-999.0000,9,   4.2018,   4.3112,2
  33RR20070322,  I09N,   122,  1,     15,     15,2,20070406,0429, -9.8168,  95.0008, 5199,1409.3000,   1409.3,   4.0308,  34.7325,2,  34.7323,2,     98.1,2,     98.7,2,   107.50,2,    36.64,2,     0.00,2,     2.68,2, -999.000,9, -999.000,9, -999.000,9,   -999.0,9,   -999.0,9,-999.0000,9,  -999.00,   -999.0,9,  -999.00,9, -999.000,9, -999.000,-999.0000,9,-999.0000,  -999.00,9,  -999.00, -999.000,9, -999.000,   -999.0,9,   -999.0,  -999.00,9,-999.0000,9,-999.0000,9,-999.0000,9,-999.0000,9,-999.0000,9,-999.0000,9,-999.0000,9,-999.0000,9,-999.0000,9,   3.9190,   4.0318,2
  33RR20070322,  I09N,   122,  1,     14,     14,2,20070406,0429, -9.8168,  95.0008, 5199,1509.6000,   1509.6,   3.7436,  34.7407,2,  34.7408,2,    103.6,2,    105.1,2,   109.30,2,    36.53,2,     0.00,2,     2.66,2,    0.007,2,    0.003,2, -999.000,5,   -999.0,9,   -999.0,9,-999.0000,9,  -999.00,   -999.0,9,  -999.00,9, -999.000,9, -999.000,-999.0000,9,-999.0000,  -999.00,9,  -999.00, -999.000,9, -999.000,   -999.0,9,   -999.0,  -999.00,9,-999.0000,9,-999.0000,9,-999.0000,9,-999.0000,9,-999.0000,9,-999.0000,9,-999.0000,9,-999.0000,9,-999.0000,9,   3.6260,   3.7444,2
  33RR20070322,  I09N,   122,  1,     13,     13,2,20070406,0429, -9.8168,  95.0008, 5199,1609.8000,   1609.8,   3.4670,  34.7447,2,  34.7435,2,    111.7,2,    112.6,2,   111.09,2,    36.22,2,     0.00,2,     2.63,2, -999.000,9, -999.000,9, -999.000,9,   -999.0,9,   -999.0,9,-999.0000,9,  -999.00,   -999.0,9,  -999.00,9, -999.000,9, -999.000,-999.0000,9,-999.0000,  -999.00,9,  -999.00, -999.000,9, -999.000,   -999.0,9,   -999.0,  -999.00,9,-999.0000,9,-999.0000,9,-999.0000,9,-999.0000,9,-999.0000,9,-999.0000,9,-999.0000,9,-999.0000,9,-999.0000,9,   3.3437,   3.4682,2
  33RR20070322,  I09N,   122,  1,     12,     12,2,20070406,0429, -9.8168,  95.0008, 5199,1811.8000,   1811.8,   2.9359,  34.7460,2,  34.7469,2,    125.5,2,    127.7,2,   115.25,2,    35.58,2,     0.00,2,     2.56,2, -999.000,9, -999.000,9, -999.000,9,   -999.0,9,   -999.0,9,-999.0000,9,  -999.00,   -999.0,9,  -999.00,9, -999.000,9, -999.000,-999.0000,9,-999.0000,  -999.00,9,  -999.00, -999.000,9, -999.000,   -999.0,9,   -999.0,  -999.00,9,-999.0000,9,-999.0000,9,-999.0000,9,-999.0000,9,-999.0000,9,-999.0000,9,-999.0000,9,-999.0000,9,-999.0000,9,   2.8017,   2.9370,2
  33RR20070322,  I09N,   122,  1,     11,     11,2,20070406,0429, -9.8168,  95.0008, 5199,2014.5000,   2014.5,   2.5528,  34.7443,2,  34.7441,2,    136.5,2,    137.4,2,   119.82,2,    35.27,2,     0.00,2,     2.53,2, -999.000,9, -999.000,9, -999.000,9,   -999.0,9,   -999.0,9,-999.0000,9,  -999.00,   -999.0,9,  -999.00,9, -999.000,9, -999.000,-999.0000,9,-999.0000,  -999.00,9,  -999.00, -999.000,9, -999.000,   -999.0,9,   -999.0,  -999.00,9,-999.0000,9,-999.0000,9,-999.0000,9,-999.0000,9,-999.0000,9,-999.0000,9,-999.0000,9,-999.0000,9,-999.0000,9,   2.4063,   2.5545,2
  33RR20070322,  I09N,   122,  1,     10,     10,2,20070406,0429, -9.8168,  95.0008, 5199,2265.9000,   2265.9,   2.2980,  34.7435,2,  34.7439,2,    146.1,2,    145.7,2,   122.41,2,    34.85,2,     0.00,2,     2.48,2, -999.000,9, -999.000,9, -999.000,9,   -999.0,9,   -999.0,9,-999.0000,9,  -999.00,   -999.0,9,  -999.00,9, -999.000,9, -999.000,-999.0000,9,-999.0000,  -999.00,9,  -999.00, -999.000,9, -999.000,   -999.0,9,   -999.0,  -999.00,9,-999.0000,9,-999.0000,9,-999.0000,9,-999.0000,9,-999.0000,9,-999.0000,9,-999.0000,9,-999.0000,9,-999.0000,9,   2.1332,   2.2972,2
  33RR20070322,  I09N,   122,  1,      9,      9,2,20070406,0429, -9.8168,  95.0008, 5199,2518.3000,   2518.3,   2.0504,  34.7389,2,  34.7390,2,    154.9,2,    154.5,2,   124.03,2,    34.49,2,     0.00,2,     2.45,2,    0.005,2,    0.001,2, -999.000,5,   2301.2,2,   2399.1,6,   7.6046,3,    25.00,   -999.0,9,  -999.00,9, -999.000,9, -999.000,-999.0000,9,-999.0000,  -999.00,9,  -999.00, -999.000,9, -999.000,   -999.0,9,   -999.0,  -999.00,9,-999.0000,9,-999.0000,9,-999.0000,9,-999.0000,9,-999.0000,9,-999.0000,9,-999.0000,9,-999.0000,9,-999.0000,9,   1.8671,   2.0506,2
  33RR20070322,  I09N,   122,  1,      8,      8,2,20070406,0429, -9.8168,  95.0008, 5199,2771.4000,   2771.4,   1.8422,  34.7333,2,  34.7341,2,    162.6,2,    161.8,2,   126.23,2,    34.22,2,     0.00,2,     2.41,2, -999.000,9, -999.000,9, -999.000,9,   -999.0,9,   -999.0,9,-999.0000,9,  -999.00,   -999.0,9,  -999.00,9, -999.000,9, -999.000,-999.0000,9,-999.0000,  -999.00,9,  -999.00, -999.000,9, -999.000,   -999.0,9,   -999.0,  -999.00,9,-999.0000,9,-999.0000,9,-999.0000,9,-999.0000,9,-999.0000,9,-999.0000,9,-999.0000,9,-999.0000,9,-999.0000,9,   1.6395,   1.8425,2
  33RR20070322,  I09N,   122,  1,      7,      7,2,20070406,0429, -9.8168,  95.0008, 5199,3025.0000,   3025.0,   1.6733,  34.7286,2,  34.7284,2,    167.2,2,    167.0,2,   128.63,2,    34.12,2,     0.00,2,     2.39,2, -999.000,9, -999.000,9, -999.000,9,   -999.0,9,   -999.0,9,-999.0000,9,  -999.00,   -999.0,9,  -999.00,9, -999.000,9, -999.000,-999.0000,9,-999.0000,  -999.00,9,  -999.00, -999.000,9, -999.000,   -999.0,9,   -999.0,  -999.00,9,-999.0000,9,-999.0000,9,-999.0000,9,-999.0000,9,-999.0000,9,-999.0000,9,-999.0000,9,-999.0000,9,-999.0000,9,   1.4500,   1.6730,2
  33RR20070322,  I09N,   122,  1,      6,      6,2,20070406,0429, -9.8168,  95.0008, 5199,3430.1000,   3430.1,   1.4611,  34.7222,2,  34.7221,2,    176.0,2,    175.8,2,   130.45,2,    33.65,2,     0.00,2,     2.36,2, -999.000,9, -999.000,9, -999.000,9,   -999.0,9,   -999.0,9,-999.0000,9,  -999.00,   -999.0,9,  -999.00,9, -999.000,9, -999.000,-999.0000,9,-999.0000,  -999.00,9,  -999.00, -999.000,9, -999.000,   -999.0,9,   -999.0,  -999.00,9,-999.0000,9,-999.0000,9,-999.0000,9,-999.0000,9,-999.0000,9,-999.0000,9,-999.0000,9,-999.0000,9,-999.0000,9,   1.2027,   1.4607,2
  33RR20070322,  I09N,   122,  1,      5,      5,2,20070406,0429, -9.8168,  95.0008, 5199,3837.0000,   3837.0,   1.2590,  34.7174,2,  34.7174,2,    185.9,2,    186.7,2,   129.49,2,    33.24,2,     0.00,2,     2.31,2,    0.003,2,    0.001,2, -999.000,5,   -999.0,9,   -999.0,9,-999.0000,9,  -999.00,   -999.0,9,  -999.00,9, -999.000,9, -999.000,-999.0000,9,-999.0000,  -999.00,9,  -999.00, -999.000,9, -999.000,   -999.0,9,   -999.0,  -999.00,9,-999.0000,9,-999.0000,9,-999.0000,9,-999.0000,9,-999.0000,9,-999.0000,9,-999.0000,9,-999.0000,9,-999.0000,9,   0.9640,   1.2604,2