BOTTLE,20150630SIOCCHRJL
EXPOCODE,SECT_ID,STNNBR,CASTNO,SAMPNO,BTLNBR,BTLNBR_FLAG_W,DATE,TIME,LATITUDE,LONGITUDE,DEPTH,CTDRAW,CTDPRS,CTDTMP,CTDSAL,CTDSAL_FLAG_W,SALNTY,SALNTY_FLAG_W,CTDOXY,CTDOXY_FLAG_W,OXYGEN,OXYGEN_FLAG_W,SILCAT,SILCAT_FLAG_W,NITRAT,NITRAT_FLAG_W,NITRIT,NITRIT_FLAG_W,PHSPHT,PHSPHT_FLAG_W,CFC-11,CFC-11_FLAG_W,CFC-12,CFC-12_FLAG_W,CFC113,CFC113_FLAG_W,TCARBN,TCARBN_FLAG_W,ALKALI,ALKALI_FLAG_W,PH_SWS,PH_SWS_FLAG_W,PH_TMP,DOC,DOC_FLAG_W,TDN,TDN_FLAG_W,TRITUM,TRITUM_FLAG_W,TRITER,HELIUM,HELIUM_FLAG_W,HELIER,DELHE3,DELHE3_FLAG_W,DELHER,NEON,NEON_FLAG_W,NEONER,DELC14,DELC14_FLAG_W,C14ERR,DELC13,DELC13_FLAG_W,CDOM325,CDOM325_FLAG_W,CDOM340,CDOM340_FLAG_W,CDOM380,CDOM380_FLAG_W,CDOM412,CDOM412_FLAG_W,CDOM443,CDOM443_FLAG_W,CDOM490,CDOM490_FLAG_W,CDOM555,CDOM555_FLAG_W,CDOMSL,CDOMSL_FLAG_W,CDOMSN,CDOMSN_FLAG_W,THETA,SBE35,SBE35_FLAG_W
,,,,,,,,,,,METERS,,DBAR,ITS-90,PSS-78,,PSS-78,,UMOL/KG,,UMOL/KG,,UMOL/KG,,UMOL/KG,,UMOL/KG,,UMOL/KG,,PMOL/KG,,PMOL/KG,,PMOL/KG,,UMOL/KG,,UMOL/KG,,,,DEG C,UMOL/KG,,UMOL/KG,,TU,,TU,NMOL/KG,,NMOL/KG,PERCNT,,PERCNT,NMOL/KG,,NMOL/KG,/MILLE,,/MILLE,/MILLE,,1/M,,1/M,,1/M,,1/M,,1/M,,1/M,,1/M,,1/NM,,1/NM,,DEG C,ITS-90,
  33RR20070322,  I09N,   155,  1,      4,      4,2,20070415,1216,  3.4308,  91.5398, 4116,3527.5000,   3527.5,   1.4267,  34.7238,2,  34.7246,2,    170.7,2,    171.0,2,   132.32,2,    33.72,2,     0.00,2,     2.33,2,    0.006,2,    0.003,2, -999.000,5,   2307.3,2,   2408.9,2,   7.6304,2,    25.00,     41.0,2,  -999.00,9, -999.000,9, -999.000,-999.0000,9,-999.0000,  -999.00,9,  -999.00, -999.000,9, -999.000,   -195.2,2,      2.7,     0.39,2,-999.0000,9,-999.0000,9,-999.0000,9,-999.0000,9,-999.0000,9,-999.0000,9,-999.0000,9,-999.0000,9,-999.0000,9,   1.1593,   1.4269,2
  33RR20070322,  I09N,   155,  1,      3,      3,2,20070415,1216,  3.4308,  91.5398, 4116,3782.1000,   3782.1,   1.2251,  34.7178,2,  34.7188,2,    182.7,2,    183.7,2,   129.69,2,    33.06,2,     0.00,2,     2.29,2, -999.000,9, -999.000,9, -999.000,9,   2295.3,2,   2401.2,2,   7.6043,2,    25.00,     41.2,2,  -999.00,9, -999.000,9, -999.000,-999.0000,9,-999.0000,  -999.00,9,  -999.00, -999.000,9, -999.000,   -181.5,2,      2.7,     0.42,2,-999.0000,9,-999.0000,9,-999.0000,9,-999.0000,9,-999.0000,9,-999.0000,9,-999.0000,9,-999.0000,9,-999.0000,9,   0.9367,   1.2255,2
  33RR20070322,  I09N,   155,  1,      2,      2,2,20070415,1216,  3.4308,  91.5398, 4116,3986.0000,   3986.0,   1.1472,  34.7150,2,  34.7164,2,    190.4,2,    190.2,2,   128.07,2,    32.70,2,     0.00,2,     2.26,2,    0.012,2,    0.003,2, -999.000,5,   2289.8,2,   2395.6,2,   7.6180,2,    25.00,     41.2,2,  -999.00,9, -999.000,9, -999.000,-999.0000,9,-999.0000,  -999.00,9,  -999.00, -999.000,9, -999.000,   -180.3,2,      2.5,     0.44,2,-999.0000,9,-999.0000,9,-999.0000,9,-999.0000,9,-999.0000,9,-999.0000,9,-999.0000,9,-999.0000,9,-999.0000,9,   0.8395,   1.1471,2
  33RR20070322,  I09N,   155,  1,      1,      1,2,20070415,1216,  3.4308,  91.5398, 4116,4158.0000,   4158.0,   1.1546,  34.7146,2,  34.7146,2,    191.7,2,    191.8,2,   127.66,2,    32.70,2,     0.00,2,     2.26,2,    0.005,2,    0.001,2, -999.000,5,   2288.3,6,   2398.0,6,   7.6324,6,    25.00,     41.0,2,  -999.00,9, -999.000,9, -999.000,-999.0000,9,-999.0000,  -999.00,9,  -999.00, -999.000,9, -999.000,   -178.8,2,      2.7,     0.41,2,-999.0000,9,-999.0000,9,-999.0000,9,-999.0000,9,-999.0000,9,-999.0000,9,-999.0000,9,-999.0000,9,-999.0000,9,   0.8281,   1.1542,2