BOTTLE,20150630SIOCCHRJL
EXPOCODE,SECT_ID,STNNBR,CASTNO,SAMPNO,BTLNBR,BTLNBR_FLAG_W,DATE,TIME,LATITUDE,LONGITUDE,DEPTH,CTDRAW,CTDPRS,CTDTMP,CTDSAL,CTDSAL_FLAG_W,SALNTY,SALNTY_FLAG_W,CTDOXY,CTDOXY_FLAG_W,OXYGEN,OXYGEN_FLAG_W,SILCAT,SILCAT_FLAG_W,NITRAT,NITRAT_FLAG_W,NITRIT,NITRIT_FLAG_W,PHSPHT,PHSPHT_FLAG_W,CFC-11,CFC-11_FLAG_W,CFC-12,CFC-12_FLAG_W,CFC113,CFC113_FLAG_W,TCARBN,TCARBN_FLAG_W,ALKALI,ALKALI_FLAG_W,PH_SWS,PH_SWS_FLAG_W,PH_TMP,DOC,DOC_FLAG_W,TDN,TDN_FLAG_W,TRITUM,TRITUM_FLAG_W,TRITER,HELIUM,HELIUM_FLAG_W,HELIER,DELHE3,DELHE3_FLAG_W,DELHER,NEON,NEON_FLAG_W,NEONER,DELC14,DELC14_FLAG_W,C14ERR,DELC13,DELC13_FLAG_W,CDOM325,CDOM325_FLAG_W,CDOM340,CDOM340_FLAG_W,CDOM380,CDOM380_FLAG_W,CDOM412,CDOM412_FLAG_W,CDOM443,CDOM443_FLAG_W,CDOM490,CDOM490_FLAG_W,CDOM555,CDOM555_FLAG_W,CDOMSL,CDOMSL_FLAG_W,CDOMSN,CDOMSN_FLAG_W,THETA,SBE35,SBE35_FLAG_W
,,,,,,,,,,,METERS,,DBAR,ITS-90,PSS-78,,PSS-78,,UMOL/KG,,UMOL/KG,,UMOL/KG,,UMOL/KG,,UMOL/KG,,UMOL/KG,,PMOL/KG,,PMOL/KG,,PMOL/KG,,UMOL/KG,,UMOL/KG,,,,DEG C,UMOL/KG,,UMOL/KG,,TU,,TU,NMOL/KG,,NMOL/KG,PERCNT,,PERCNT,NMOL/KG,,NMOL/KG,/MILLE,,/MILLE,/MILLE,,1/M,,1/M,,1/M,,1/M,,1/M,,1/M,,1/M,,1/NM,,1/NM,,DEG C,ITS-90,
  33RR20070322,  I09N,   104,  2,     36,     38,2,20070331,0744,-19.6335,  95.0017, 5104,   3.1000,      3.1,  26.1301,  35.1565,2,  35.1573,2,    205.6,2,    205.6,2,     2.20,2,     0.05,2,     0.00,2,     0.10,2, -999.000,5, -999.000,5, -999.000,5,   1972.2,6,   2301.6,6,   8.0690,6,    25.00,   -999.0,9,  -999.00,9, -999.000,9, -999.000,-999.0000,9,-999.0000,  -999.00,9,  -999.00, -999.000,9, -999.000,   -999.0,9,   -999.0,  -999.00,9,-999.0000,9,-999.0000,9,-999.0000,9,-999.0000,9,-999.0000,9,-999.0000,9,-999.0000,9,-999.0000,9,-999.0000,9,  26.1294,  26.1296,2
  33RR20070322,  I09N,   104,  2,     35,     35,2,20070331,0744,-19.6335,  95.0017, 5104,  31.4000,     31.4,  26.1322,  35.1560,2,  35.1559,2,    206.4,2,    204.8,2,     2.19,2,     0.00,2,     0.00,2,     0.09,2, -999.000,5, -999.000,5, -999.000,5,   1971.3,2,   2299.4,2,   8.0590,2,    25.00,   -999.0,9,  -999.00,9, -999.000,9, -999.000,-999.0000,9,-999.0000,  -999.00,9,  -999.00, -999.000,9, -999.000,   -999.0,9,   -999.0,  -999.00,9,-999.0000,9,-999.0000,9,-999.0000,9,-999.0000,9,-999.0000,9,-999.0000,9,-999.0000,9,-999.0000,9,-999.0000,9,  26.1252,  26.1239,2
  33RR20070322,  I09N,   104,  2,     34,   9419,2,20070331,0744,-19.6335,  95.0017, 5104,  56.0000,     56.0,  25.3480,  35.2788,2,  35.2717,2,    213.0,2,    213.5,2,     2.37,2,     0.00,2,     0.00,2,     0.09,2, -999.000,5,    1.106,2, -999.000,5,   -999.0,9,   -999.0,9,-999.0000,9,  -999.00,   -999.0,9,  -999.00,9, -999.000,9, -999.000,-999.0000,9,-999.0000,  -999.00,9,  -999.00, -999.000,9, -999.000,   -999.0,9,   -999.0,  -999.00,9,-999.0000,9,-999.0000,9,-999.0000,9,-999.0000,9,-999.0000,9,-999.0000,9,-999.0000,9,-999.0000,9,-999.0000,9,  25.3357,  25.3557,2
  33RR20070322,  I09N,   104,  2,     33,     33,2,20070331,0744,-19.6335,  95.0017, 5104,  81.7000,     81.7,  23.0542,  35.4487,2,  35.4488,2,    226.1,2,    222.6,2,     2.56,2,     0.00,2,     0.00,2,     0.09,2,    2.011,2,    1.229,2, -999.000,5,   -999.0,9,   -999.0,9,-999.0000,9,  -999.00,   -999.0,9,  -999.00,9, -999.000,9, -999.000,-999.0000,9,-999.0000,  -999.00,9,  -999.00, -999.000,9, -999.000,   -999.0,9,   -999.0,  -999.00,9,-999.0000,9,-999.0000,9,-999.0000,9,-999.0000,9,-999.0000,9,-999.0000,9,-999.0000,9,-999.0000,9,-999.0000,9,  23.0375,  23.0491,2
  33RR20070322,  I09N,   104,  2,     32,     37,2,20070331,0744,-19.6335,  95.0017, 5104, 106.5000,    106.5,  21.9844,  35.5404,2,  35.5352,2,    218.8,2,    218.0,2,     2.75,2,     0.00,2,     0.00,2,     0.10,2, -999.000,9, -999.000,9, -999.000,9,   2019.2,2,   2325.4,2,   8.0170,2,    25.00,   -999.0,9,  -999.00,9, -999.000,9, -999.000,-999.0000,9,-999.0000,  -999.00,9,  -999.00, -999.000,9, -999.000,   -999.0,9,   -999.0,  -999.00,9,-999.0000,9,-999.0000,9,-999.0000,9,-999.0000,9,-999.0000,9,-999.0000,9,-999.0000,9,-999.0000,9,-999.0000,9,  21.9633,  22.0412,2
  33RR20070322,  I09N,   104,  2,     31,     31,2,20070331,0744,-19.6335,  95.0017, 5104, 157.3000,    157.3,  20.0091,  35.7213,2,  35.7197,2,    202.4,2,    194.7,2,     3.93,2,     2.32,2,     0.09,2,     0.26,2,    2.185,2,    1.302,2, -999.000,5,   -999.0,9,   -999.0,9,-999.0000,9,  -999.00,   -999.0,9,  -999.00,9, -999.000,9, -999.000,-999.0000,9,-999.0000,  -999.00,9,  -999.00, -999.000,9, -999.000,   -999.0,9,   -999.0,  -999.00,9,-999.0000,9,-999.0000,9,-999.0000,9,-999.0000,9,-999.0000,9,-999.0000,9,-999.0000,9,-999.0000,9,-999.0000,9,  19.9799,  19.9967,2
  33RR20070322,  I09N,   104,  2,     30,     30,2,20070331,0744,-19.6335,  95.0017, 5104, 206.8000,    206.8,  18.8121,  35.7508,2,  35.7633,2,    191.2,2,    192.0,2,     4.11,2,     3.24,2,     0.01,2,     0.32,2, -999.000,9, -999.000,9, -999.000,9,   -999.0,9,   -999.0,9,-999.0000,9,  -999.00,   -999.0,9,  -999.00,9, -999.000,9, -999.000,-999.0000,9,-999.0000,  -999.00,9,  -999.00, -999.000,9, -999.000,   -999.0,9,   -999.0,  -999.00,9,-999.0000,9,-999.0000,9,-999.0000,9,-999.0000,9,-999.0000,9,-999.0000,9,-999.0000,9,-999.0000,9,-999.0000,9,  18.7753,  18.8271,2
  33RR20070322,  I09N,   104,  2,     29,     29,2,20070331,0744,-19.6335,  95.0017, 5104, 256.7000,    256.7,  17.0786,  35.6990,2,  35.6857,2,    185.9,2,    191.7,2,     5.28,2,     5.08,2,     0.01,2,     0.45,2,    2.447,2,    1.409,2, -999.000,5,   2095.3,2,   2337.0,6,   7.9234,2,    25.00,   -999.0,9,  -999.00,9, -999.000,9, -999.000,-999.0000,9,-999.0000,  -999.00,9,  -999.00, -999.000,9, -999.000,   -999.0,9,   -999.0,  -999.00,9,-999.0000,9,-999.0000,9,-999.0000,9,-999.0000,9,-999.0000,9,-999.0000,9,-999.0000,9,-999.0000,9,-999.0000,9,  17.0358,  17.0866,2
  33RR20070322,  I09N,   104,  2,     28,     28,2,20070331,0744,-19.6335,  95.0017, 5104, 306.2000,    306.2,  15.4941,  35.5901,2,  35.5965,2,    205.4,2,    207.8,2,     3.69,2,     4.98,2,     0.01,2,     0.46,2, -999.000,9, -999.000,9, -999.000,9,   -999.0,9,   -999.0,9,-999.0000,9,  -999.00,   -999.0,9,  -999.00,9, -999.000,9, -999.000,-999.0000,9,-999.0000,  -999.00,9,  -999.00, -999.000,9, -999.000,   -999.0,9,   -999.0,  -999.00,9,-999.0000,9,-999.0000,9,-999.0000,9,-999.0000,9,-999.0000,9,-999.0000,9,-999.0000,9,-999.0000,9,-999.0000,9,  15.4463,  15.4741,2
  33RR20070322,  I09N,   104,  2,     27,     27,2,20070331,0744,-19.6335,  95.0017, 5104, 356.6000,    356.6,  13.6557,  35.3338,2,  35.3324,2,    212.4,2,    213.2,2,     4.28,2,     7.75,2,     0.01,2,     0.63,2,    3.013,2,    1.659,2, -999.000,5,   -999.0,9,   -999.0,9,-999.0000,9,  -999.00,   -999.0,9,  -999.00,9, -999.000,9, -999.000,-999.0000,9,-999.0000,  -999.00,9,  -999.00, -999.000,9, -999.000,   -999.0,9,   -999.0,  -999.00,9,-999.0000,9,-999.0000,9,-999.0000,9,-999.0000,9,-999.0000,9,-999.0000,9,-999.0000,9,-999.0000,9,-999.0000,9,  13.6046,  13.6687,2
  33RR20070322,  I09N,   104,  2,     26,     26,2,20070331,0744,-19.6335,  95.0017, 5104, 406.6000,    406.6,  11.7651,  35.0574,2,  35.0777,2,    223.6,2,    222.8,2,     4.66,2,    10.62,2,     0.01,2,     0.80,2, -999.000,9, -999.000,9, -999.000,9,   -999.0,9,   -999.0,9,-999.0000,9,  -999.00,   -999.0,9,  -999.00,9, -999.000,9, -999.000,-999.0000,9,-999.0000,  -999.00,9,  -999.00, -999.000,9, -999.000,   -999.0,9,   -999.0,  -999.00,9,-999.0000,9,-999.0000,9,-999.0000,9,-999.0000,9,-999.0000,9,-999.0000,9,-999.0000,9,-999.0000,9,-999.0000,9,  11.7122,  11.7563,2
  33RR20070322,  I09N,   104,  2,     25,     25,2,20070331,0744,-19.6335,  95.0017, 5104, 455.6000,    455.6,  10.5803,  34.8828,2,  34.8914,2,    229.8,2,    229.5,2,     4.85,2,    13.02,2,     0.01,2,     0.96,2,    3.470,2,    1.822,2, -999.000,5,   -999.0,9,   -999.0,9,-999.0000,9,  -999.00,   -999.0,9,  -999.00,9, -999.000,9, -999.000,-999.0000,9,-999.0000,  -999.00,9,  -999.00, -999.000,9, -999.000,   -999.0,9,   -999.0,  -999.00,9,-999.0000,9,-999.0000,9,-999.0000,9,-999.0000,9,-999.0000,9,-999.0000,9,-999.0000,9,-999.0000,9,-999.0000,9,  10.5249,  10.6087,2
  33RR20070322,  I09N,   104,  2,     24,     24,2,20070331,0744,-19.6335,  95.0017, 5104, 505.8000,    505.8,   9.6629,  34.7475,2,  34.7490,2,    232.1,2,    232.6,2,     5.63,2,    15.52,2,     0.00,2,     1.10,2, -999.000,9, -999.000,9, -999.000,9,   2122.7,2,   2295.7,2,   7.7983,2,    25.00,   -999.0,9,  -999.00,9, -999.000,9, -999.000,-999.0000,9,-999.0000,  -999.00,9,  -999.00, -999.000,9, -999.000,   -999.0,9,   -999.0,  -999.00,9,-999.0000,9,-999.0000,9,-999.0000,9,-999.0000,9,-999.0000,9,-999.0000,9,-999.0000,9,-999.0000,9,-999.0000,9,   9.6047,   9.6543,2
  33RR20070322,  I09N,   104,  2,     23,     23,2,20070331,0744,-19.6335,  95.0017, 5104, 605.7000,    605.7,   8.2833,  34.5837,2,  34.5843,2,    217.8,2,    215.2,2,    10.57,2,    20.99,2,     0.00,2,     1.46,2, -999.000,9, -999.000,9, -999.000,9,   -999.0,9,   -999.0,9,-999.0000,9,  -999.00,   -999.0,9,  -999.00,9, -999.000,9, -999.000,-999.0000,9,-999.0000,  -999.00,9,  -999.00, -999.000,9, -999.000,   -999.0,9,   -999.0,  -999.00,9,-999.0000,9,-999.0000,9,-999.0000,9,-999.0000,9,-999.0000,9,-999.0000,9,-999.0000,9,-999.0000,9,-999.0000,9,   8.2195,   8.2940,2
  33RR20070322,  I09N,   104,  2,     22,     22,2,20070331,0744,-19.6335,  95.0017, 5104, 705.9000,    705.9,   6.5521,  34.5095,2,  34.5099,2,    177.7,2,    164.7,2,    33.70,2,    29.06,2,     0.01,2,     2.03,2, -999.000,9, -999.000,9, -999.000,9,   -999.0,9,   -999.0,9,-999.0000,9,  -999.00,   -999.0,9,  -999.00,9, -999.000,9, -999.000,-999.0000,9,-999.0000,  -999.00,9,  -999.00, -999.000,9, -999.000,   -999.0,9,   -999.0,  -999.00,9,-999.0000,9,-999.0000,9,-999.0000,9,-999.0000,9,-999.0000,9,-999.0000,9,-999.0000,9,-999.0000,9,-999.0000,9,   6.4864,   6.5418,2
  33RR20070322,  I09N,   104,  2,     21,     21,2,20070331,0744,-19.6335,  95.0017, 5104, 807.5000,    807.5,   5.8969,  34.5834,2,  34.5818,2,    128.1,2,    118.7,2,    59.68,4,    33.70,4,     0.00,4,     2.41,4, -999.000,9, -999.000,9, -999.000,9,   -999.0,9,   -999.0,9,-999.0000,9,  -999.00,   -999.0,9,  -999.00,9, -999.000,9, -999.000,-999.0000,9,-999.0000,  -999.00,9,  -999.00, -999.000,9, -999.000,   -999.0,9,   -999.0,  -999.00,9,-999.0000,9,-999.0000,9,-999.0000,9,-999.0000,9,-999.0000,9,-999.0000,9,-999.0000,9,-999.0000,9,-999.0000,9,   5.8251,   5.8971,2
  33RR20070322,  I09N,   104,  2,     20,     20,2,20070331,0744,-19.6335,  95.0017, 5104, 907.9000,    907.9,   5.4807,  34.6251,2,  34.6260,2,    107.0,2,    102.3,2,    59.86,2,    33.64,2,     0.00,2,     2.42,2, -999.000,9, -999.000,9, -999.000,9,   -999.0,9,   -999.0,9,-999.0000,9,  -999.00,   -999.0,9,  -999.00,9, -999.000,9, -999.000,-999.0000,9,-999.0000,  -999.00,9,  -999.00, -999.000,9, -999.000,   -999.0,9,   -999.0,  -999.00,9,-999.0000,9,-999.0000,9,-999.0000,9,-999.0000,9,-999.0000,9,-999.0000,9,-999.0000,9,-999.0000,9,-999.0000,9,   5.4022,   5.4783,2
  33RR20070322,  I09N,   104,  2,     19,     19,2,20070331,0744,-19.6335,  95.0017, 5104,1007.6000,   1007.6,   5.1388,  34.6396,2,  34.6403,2,    101.5,2,    100.2,2,    82.37,2,    35.74,2,     0.01,2,     2.61,2, -999.000,9, -999.000,9, -999.000,9,   2278.4,2,   2358.6,6,   7.5381,2,    25.00,   -999.0,9,  -999.00,9, -999.000,9, -999.000,-999.0000,9,-999.0000,  -999.00,9,  -999.00, -999.000,9, -999.000,   -999.0,9,   -999.0,  -999.00,9,-999.0000,9,-999.0000,9,-999.0000,9,-999.0000,9,-999.0000,9,-999.0000,9,-999.0000,9,-999.0000,9,-999.0000,9,   5.0535,   5.1441,2
  33RR20070322,  I09N,   104,  2,     18,     18,2,20070331,0744,-19.6335,  95.0017, 5104,1107.4000,   1107.4,   4.7960,  34.6452,2,  34.6458,2,    103.1,2,    102.8,2,    86.95,2,    36.00,2,     0.01,2,     2.62,2, -999.000,9, -999.000,9, -999.000,9,   -999.0,9,   -999.0,9,-999.0000,9,  -999.00,   -999.0,9,  -999.00,9, -999.000,9, -999.000,-999.0000,9,-999.0000,  -999.00,9,  -999.00, -999.000,9, -999.000,   -999.0,9,   -999.0,  -999.00,9,-999.0000,9,-999.0000,9,-999.0000,9,-999.0000,9,-999.0000,9,-999.0000,9,-999.0000,9,-999.0000,9,-999.0000,9,   4.7043,   4.7955,2
  33RR20070322,  I09N,   104,  2,     17,     17,2,20070331,0744,-19.6335,  95.0017, 5104,1208.2000,   1208.2,   4.4243,  34.6440,2,  34.6441,2,    108.2,2,    108.9,2,    89.35,2,    35.84,2,     0.00,2,     2.62,2, -999.000,9, -999.000,9, -999.000,9,   -999.0,9,   -999.0,9,-999.0000,9,  -999.00,   -999.0,9,  -999.00,9, -999.000,9, -999.000,-999.0000,9,-999.0000,  -999.00,9,  -999.00, -999.000,9, -999.000,   -999.0,9,   -999.0,  -999.00,9,-999.0000,9,-999.0000,9,-999.0000,9,-999.0000,9,-999.0000,9,-999.0000,9,-999.0000,9,-999.0000,9,-999.0000,9,   4.3268,   4.4247,2
  33RR20070322,  I09N,   104,  2,     16,     16,2,20070331,0744,-19.6335,  95.0017, 5104,1308.1000,   1308.1,   4.0694,  34.6457,2,  34.6464,2,    114.1,2,    114.8,2,    92.14,2,    35.66,2,     0.00,2,     2.61,2, -999.000,9, -999.000,9, -999.000,9,   -999.0,9,   -999.0,9,-999.0000,9,  -999.00,   -999.0,9,  -999.00,9, -999.000,9, -999.000,-999.0000,9,-999.0000,  -999.00,9,  -999.00, -999.000,9, -999.000,   -999.0,9,   -999.0,  -999.00,9,-999.0000,9,-999.0000,9,-999.0000,9,-999.0000,9,-999.0000,9,-999.0000,9,-999.0000,9,-999.0000,9,-999.0000,9,   3.9664,   4.0682,2
  33RR20070322,  I09N,   104,  2,     15,     15,2,20070331,0744,-19.6335,  95.0017, 5104,1409.2000,   1409.2,   3.7700,  34.6574,2,  34.6580,2,    119.9,2,    121.0,2,    94.14,2,    35.60,2,     0.01,2,     2.58,2, -999.000,9, -999.000,9, -999.000,9,   -999.0,9,   -999.0,9,-999.0000,9,  -999.00,   -999.0,9,  -999.00,9, -999.000,9, -999.000,-999.0000,9,-999.0000,  -999.00,9,  -999.00, -999.000,9, -999.000,   -999.0,9,   -999.0,  -999.00,9,-999.0000,9,-999.0000,9,-999.0000,9,-999.0000,9,-999.0000,9,-999.0000,9,-999.0000,9,-999.0000,9,-999.0000,9,   3.6612,   3.7714,2
  33RR20070322,  I09N,   104,  2,     14,     14,2,20070331,0744,-19.6335,  95.0017, 5104,1511.2000,   1511.2,   3.4561,  34.6695,2,  34.6696,2,    127.9,2,    129.1,2,    95.34,2,    35.22,2,     0.00,2,     2.55,2, -999.000,9, -999.000,9, -999.000,9,   -999.0,9,   -999.0,9,-999.0000,9,  -999.00,   -999.0,9,  -999.00,9, -999.000,9, -999.000,-999.0000,9,-999.0000,  -999.00,9,  -999.00, -999.000,9, -999.000,   -999.0,9,   -999.0,  -999.00,9,-999.0000,9,-999.0000,9,-999.0000,9,-999.0000,9,-999.0000,9,-999.0000,9,-999.0000,9,-999.0000,9,-999.0000,9,   3.3418,   3.4541,2
  33RR20070322,  I09N,   104,  2,     13,     13,2,20070331,0744,-19.6335,  95.0017, 5104,1610.5000,   1610.5,   3.1923,  34.6794,2,  34.6765,2,    133.6,2,    134.3,2,    97.74,2,    35.06,2,     0.00,2,     2.52,2, -999.000,9, -999.000,9, -999.000,9,   -999.0,9,   -999.0,9,-999.0000,9,  -999.00,   -999.0,9,  -999.00,9, -999.000,9, -999.000,-999.0000,9,-999.0000,  -999.00,9,  -999.00, -999.000,9, -999.000,   -999.0,9,   -999.0,  -999.00,9,-999.0000,9,-999.0000,9,-999.0000,9,-999.0000,9,-999.0000,9,-999.0000,9,-999.0000,9,-999.0000,9,-999.0000,9,   3.0725,   3.1923,2
  33RR20070322,  I09N,   104,  2,     12,     12,2,20070331,0744,-19.6335,  95.0017, 5104,1813.4000,   1813.4,   2.7438,  34.7015,2,  34.6995,2,    143.7,2,    144.6,2,   104.15,2,    34.46,2,     0.00,2,     2.47,2, -999.000,9, -999.000,9, -999.000,9,   -999.0,9,   -999.0,9,-999.0000,9,  -999.00,   -999.0,9,  -999.00,9, -999.000,9, -999.000,-999.0000,9,-999.0000,  -999.00,9,  -999.00, -999.000,9, -999.000,   -999.0,9,   -999.0,  -999.00,9,-999.0000,9,-999.0000,9,-999.0000,9,-999.0000,9,-999.0000,9,-999.0000,9,-999.0000,9,-999.0000,9,-999.0000,9,   2.6122,   2.7415,2
  33RR20070322,  I09N,   104,  2,     11,     11,2,20070331,0744,-19.6335,  95.0017, 5104,2014.4000,   2014.4,   2.4407,  34.7194,2,  34.7197,2,    150.9,2,    151.7,2,   109.38,2,    34.03,2,     0.01,2,     2.44,2, -999.000,9, -999.000,9, -999.000,9,   -999.0,9,   -999.0,9,-999.0000,9,  -999.00,   -999.0,9,  -999.00,9, -999.000,9, -999.000,-999.0000,9,-999.0000,  -999.00,9,  -999.00, -999.000,9, -999.000,   -999.0,9,   -999.0,  -999.00,9,-999.0000,9,-999.0000,9,-999.0000,9,-999.0000,9,-999.0000,9,-999.0000,9,-999.0000,9,-999.0000,9,-999.0000,9,   2.2960,   2.4406,2
  33RR20070322,  I09N,   104,  2,     10,     10,2,20070331,0744,-19.6335,  95.0017, 5104,2266.8000,   2266.8,   2.1255,  34.7253,2,  34.7254,2,    158.9,2,    159.9,2,   114.20,2,    33.65,2,     0.01,2,     2.41,2, -999.000,9, -999.000,9, -999.000,9,   -999.0,9,   -999.0,9,-999.0000,9,  -999.00,   -999.0,9,  -999.00,9, -999.000,9, -999.000,-999.0000,9,-999.0000,  -999.00,9,  -999.00, -999.000,9, -999.000,   -999.0,9,   -999.0,  -999.00,9,-999.0000,9,-999.0000,9,-999.0000,9,-999.0000,9,-999.0000,9,-999.0000,9,-999.0000,9,-999.0000,9,-999.0000,9,   1.9636,   2.1254,2
  33RR20070322,  I09N,   104,  2,      9,      9,2,20070331,0744,-19.6335,  95.0017, 5104,2518.5000,   2518.5,   1.9358,  34.7279,2,  34.7256,2,    165.6,2,    166.5,2,   116.42,2,    33.43,2,     0.01,2,     2.36,2, -999.000,9, -999.000,9, -999.000,9,   2286.9,2,   2389.6,2,   7.6026,2,    25.00,   -999.0,9,  -999.00,9, -999.000,9, -999.000,-999.0000,9,-999.0000,  -999.00,9,  -999.00, -999.000,9, -999.000,   -999.0,9,   -999.0,  -999.00,9,-999.0000,9,-999.0000,9,-999.0000,9,-999.0000,9,-999.0000,9,-999.0000,9,-999.0000,9,-999.0000,9,-999.0000,9,   1.7547,   1.9353,2
  33RR20070322,  I09N,   104,  2,      8,      8,2,20070331,0744,-19.6335,  95.0017, 5104,2771.1000,   2771.1,   1.7810,  34.7282,2,  34.7282,2,    171.2,2,    171.2,2,   118.84,2,    33.10,2,     0.01,2,     2.36,2, -999.000,9, -999.000,9, -999.000,9,   -999.0,9,   -999.0,9,-999.0000,9,  -999.00,   -999.0,9,  -999.00,9, -999.000,9, -999.000,-999.0000,9,-999.0000,  -999.00,9,  -999.00, -999.000,9, -999.000,   -999.0,9,   -999.0,  -999.00,9,-999.0000,9,-999.0000,9,-999.0000,9,-999.0000,9,-999.0000,9,-999.0000,9,-999.0000,9,-999.0000,9,-999.0000,9,   1.5796,   1.7813,2
  33RR20070322,  I09N,   104,  2,      7,      7,2,20070331,0744,-19.6335,  95.0017, 5104,3026.5000,   3026.5,   1.6620,  34.7271,2,  34.7274,2,    172.8,2,    172.0,2,   123.08,2,    33.25,2,     0.01,2,     2.36,2, -999.000,9, -999.000,9, -999.000,9,   -999.0,9,   -999.0,9,-999.0000,9,  -999.00,   -999.0,9,  -999.00,9, -999.000,9, -999.000,-999.0000,9,-999.0000,  -999.00,9,  -999.00, -999.000,9, -999.000,   -999.0,9,   -999.0,  -999.00,9,-999.0000,9,-999.0000,9,-999.0000,9,-999.0000,9,-999.0000,9,-999.0000,9,-999.0000,9,-999.0000,9,-999.0000,9,   1.4388,   1.6608,2
  33RR20070322,  I09N,   104,  2,      6,      6,2,20070331,0744,-19.6335,  95.0017, 5104,3431.0000,   3431.0,   1.4878,  34.7236,2,  34.7213,2,    177.2,2,    176.9,2,   126.51,2,    33.45,2,     0.01,2,     2.36,2, -999.000,9, -999.000,9, -999.000,9,   -999.0,9,   -999.0,9,-999.0000,9,  -999.00,   -999.0,9,  -999.00,9, -999.000,9, -999.000,-999.0000,9,-999.0000,  -999.00,9,  -999.00, -999.000,9, -999.000,   -999.0,9,   -999.0,  -999.00,9,-999.0000,9,-999.0000,9,-999.0000,9,-999.0000,9,-999.0000,9,-999.0000,9,-999.0000,9,-999.0000,9,-999.0000,9,   1.2287,   1.4880,2
  33RR20070322,  I09N,   104,  2,      5,      5,2,20070331,0744,-19.6335,  95.0017, 5104,3838.7000,   3838.7,   1.3298,  34.7197,2,  34.7174,2,    185.8,2,    186.9,2,   125.70,2,    33.02,2,     0.00,2,     2.32,2, -999.000,9, -999.000,9, -999.000,9,   -999.0,9,   -999.0,9,-999.0000,9,  -999.00,   -999.0,9,  -999.00,9, -999.000,9, -999.000,-999.0000,9,-999.0000,  -999.00,9,  -999.00, -999.000,9, -999.000,   -999.0,9,   -999.0,  -999.00,9,-999.0000,9,-999.0000,9,-999.0000,9,-999.0000,9,-999.0000,9,-999.0000,9,-999.0000,9,-999.0000,9,-999.0000,9,   1.0327,   1.3303,2