BOTTLE,20150630SIOCCHRJL
EXPOCODE,SECT_ID,STNNBR,CASTNO,SAMPNO,BTLNBR,BTLNBR_FLAG_W,DATE,TIME,LATITUDE,LONGITUDE,DEPTH,CTDRAW,CTDPRS,CTDTMP,CTDSAL,CTDSAL_FLAG_W,SALNTY,SALNTY_FLAG_W,CTDOXY,CTDOXY_FLAG_W,OXYGEN,OXYGEN_FLAG_W,SILCAT,SILCAT_FLAG_W,NITRAT,NITRAT_FLAG_W,NITRIT,NITRIT_FLAG_W,PHSPHT,PHSPHT_FLAG_W,CFC-11,CFC-11_FLAG_W,CFC-12,CFC-12_FLAG_W,CFC113,CFC113_FLAG_W,TCARBN,TCARBN_FLAG_W,ALKALI,ALKALI_FLAG_W,PH_SWS,PH_SWS_FLAG_W,PH_TMP,DOC,DOC_FLAG_W,TDN,TDN_FLAG_W,TRITUM,TRITUM_FLAG_W,TRITER,HELIUM,HELIUM_FLAG_W,HELIER,DELHE3,DELHE3_FLAG_W,DELHER,NEON,NEON_FLAG_W,NEONER,DELC14,DELC14_FLAG_W,C14ERR,DELC13,DELC13_FLAG_W,CDOM325,CDOM325_FLAG_W,CDOM340,CDOM340_FLAG_W,CDOM380,CDOM380_FLAG_W,CDOM412,CDOM412_FLAG_W,CDOM443,CDOM443_FLAG_W,CDOM490,CDOM490_FLAG_W,CDOM555,CDOM555_FLAG_W,CDOMSL,CDOMSL_FLAG_W,CDOMSN,CDOMSN_FLAG_W,THETA,SBE35,SBE35_FLAG_W
,,,,,,,,,,,METERS,,DBAR,ITS-90,PSS-78,,PSS-78,,UMOL/KG,,UMOL/KG,,UMOL/KG,,UMOL/KG,,UMOL/KG,,UMOL/KG,,PMOL/KG,,PMOL/KG,,PMOL/KG,,UMOL/KG,,UMOL/KG,,,,DEG C,UMOL/KG,,UMOL/KG,,TU,,TU,NMOL/KG,,NMOL/KG,PERCNT,,PERCNT,NMOL/KG,,NMOL/KG,/MILLE,,/MILLE,/MILLE,,1/M,,1/M,,1/M,,1/M,,1/M,,1/M,,1/M,,1/NM,,1/NM,,DEG C,ITS-90,
  33RR20070322,  I09N,   194,  1,     36,     38,2,20070425,2324, 15.5002,  89.8498, 2635,   2.6000,      2.6,  30.2959,  32.7376,2,  32.7401,2,    195.1,2,    194.9,2,     2.04,2,     0.00,2,     0.00,2,     0.02,2,    1.492,2,    0.983,2, -999.000,5,   1892.6,6,   2201.0,2,   8.0910,3,    25.00,   -999.0,9,  -999.00,9, -999.000,9, -999.000,-999.0000,9,-999.0000,  -999.00,9,  -999.00, -999.000,9, -999.000,   -999.0,9,   -999.0,  -999.00,9,-999.0000,9,-999.0000,9,-999.0000,9,-999.0000,9,-999.0000,9,-999.0000,9,-999.0000,9,-999.0000,9,-999.0000,9,  30.2953,  30.2892,2
  33RR20070322,  I09N,   194,  1,     35,     35,2,20070425,2324, 15.5002,  89.8498, 2635,  19.1000,     19.1,  29.6976,  33.3421,2,  33.3500,2,    200.7,2,    202.4,2,     1.86,2,     0.00,2,     0.00,2,     0.02,2, -999.000,9, -999.000,9, -999.000,9,   1900.9,2,   2221.3,2,   8.1020,3,    25.00,   -999.0,9,  -999.00,9, -999.000,9, -999.000,-999.0000,9,-999.0000,  -999.00,9,  -999.00, -999.000,9, -999.000,   -999.0,9,   -999.0,  -999.00,9,-999.0000,9,-999.0000,9,-999.0000,9,-999.0000,9,-999.0000,9,-999.0000,9,-999.0000,9,-999.0000,9,-999.0000,9,  29.6929,  29.7180,2
  33RR20070322,  I09N,   194,  1,     34,   9419,2,20070425,2324, 15.5002,  89.8498, 2635,  43.5000,     43.5,  26.7675,  34.3127,2,  34.3171,2,    179.5,2,    162.3,2,     2.24,2,     0.44,2,     0.14,2,     0.30,2, -999.000,9, -999.000,9, -999.000,9,   -999.0,9,   -999.0,9,-999.0000,9,  -999.00,   -999.0,9,  -999.00,9, -999.000,9, -999.000,-999.0000,9,-999.0000,  -999.00,9,  -999.00, -999.000,9, -999.000,   -999.0,9,   -999.0,  -999.00,9,-999.0000,9,-999.0000,9,-999.0000,9,-999.0000,9,-999.0000,9,-999.0000,9,-999.0000,9,-999.0000,9,-999.0000,9,  26.7576,  26.7543,2
  33RR20070322,  I09N,   194,  1,     33,     33,2,20070425,2324, 15.5002,  89.8498, 2635,  63.7000,     63.7,  24.1895,  34.7859,2,  34.8064,2,     64.9,2,     46.3,2,     9.53,2,    17.59,2,     0.37,2,     1.34,2,    1.305,2,    0.836,2, -999.000,5,   2109.9,2,   2273.6,6,   7.7747,2,    25.00,   -999.0,9,  -999.00,9, -999.000,9, -999.000,-999.0000,9,-999.0000,  -999.00,9,  -999.00, -999.000,9, -999.000,   -999.0,9,   -999.0,  -999.00,9,-999.0000,9,-999.0000,9,-999.0000,9,-999.0000,9,-999.0000,9,-999.0000,9,-999.0000,9,-999.0000,9,-999.0000,9,  24.1760,  24.3103,2
  33RR20070322,  I09N,   194,  1,     32,     37,2,20070425,2324, 15.5002,  89.8498, 2635,  88.3000,     88.3,  19.9227,  34.8647,2,  34.8634,2,      7.1,2,      2.9,2,    20.85,2,    25.26,2,     0.02,2,     1.97,2, -999.000,9, -999.000,9, -999.000,9,   -999.0,9,   -999.0,9,-999.0000,9,  -999.00,   -999.0,9,  -999.00,9, -999.000,9, -999.000,-999.0000,9,-999.0000,  -999.00,9,  -999.00, -999.000,9, -999.000,   -999.0,9,   -999.0,  -999.00,9,-999.0000,9,-999.0000,9,-999.0000,9,-999.0000,9,-999.0000,9,-999.0000,9,-999.0000,9,-999.0000,9,-999.0000,9,  19.9065,  19.8800,2
  33RR20070322,  I09N,   194,  1,     31,     31,2,20070425,2324, 15.5002,  89.8498, 2635, 113.8000,    113.8,  16.9077,  34.9092,2,  34.9077,2,      3.1,2,      1.7,2,    26.79,2,    27.74,2,     0.01,2,     2.16,2,    0.789,2,    0.484,2, -999.000,5,   2213.3,2,   2294.3,2,   7.5532,2,    25.00,   -999.0,9,  -999.00,9, -999.000,9, -999.000,-999.0000,9,-999.0000,  -999.00,9,  -999.00, -999.000,9, -999.000,   -999.0,9,   -999.0,  -999.00,9,-999.0000,9,-999.0000,9,-999.0000,9,-999.0000,9,-999.0000,9,-999.0000,9,-999.0000,9,-999.0000,9,-999.0000,9,  16.8890,  16.9117,2
  33RR20070322,  I09N,   194,  1,     30,     30,2,20070425,2324, 15.5002,  89.8498, 2635, 138.5000,    138.5,  14.9625,  34.9503,2,  34.9566,2,      2.4,2,      1.9,2,    31.41,2,    30.00,2,     0.01,2,     2.30,2, -999.000,9, -999.000,9, -999.000,9,   -999.0,9,   -999.0,9,-999.0000,9,  -999.00,   -999.0,9,  -999.00,9, -999.000,9, -999.000,-999.0000,9,-999.0000,  -999.00,9,  -999.00, -999.000,9, -999.000,   -999.0,9,   -999.0,  -999.00,9,-999.0000,9,-999.0000,9,-999.0000,9,-999.0000,9,-999.0000,9,-999.0000,9,-999.0000,9,-999.0000,9,-999.0000,9,  14.9416,  14.9641,2
  33RR20070322,  I09N,   194,  1,     29,     29,2,20070425,2324, 15.5002,  89.8498, 2635, 163.6000,    163.6,  13.5349,  34.9970,2,  34.9930,2,      2.6,2,      3.5,2,    32.95,2,    31.42,2,     0.00,2,     2.35,2,    0.521,2,    0.306,2, -999.000,5,   -999.0,9,   -999.0,9,-999.0000,9,  -999.00,   -999.0,9,  -999.00,9, -999.000,9, -999.000,-999.0000,9,-999.0000,  -999.00,9,  -999.00, -999.000,9, -999.000,   -999.0,9,   -999.0,  -999.00,9,-999.0000,9,-999.0000,9,-999.0000,9,-999.0000,9,-999.0000,9,-999.0000,9,-999.0000,9,-999.0000,9,-999.0000,9,  13.5118,  13.5421,2
  33RR20070322,  I09N,   194,  1,     28,     28,2,20070425,2324, 15.5002,  89.8498, 2635, 188.4000,    188.4,  12.8690,  35.0092,2,  35.0090,2,      3.3,2,      3.0,2,    34.49,2,    32.20,2,     0.00,2,     2.39,2, -999.000,9, -999.000,9, -999.000,9,   2255.1,2,   2309.8,2,   7.4831,2,    25.00,   -999.0,9,  -999.00,9, -999.000,9, -999.000,-999.0000,9,-999.0000,  -999.00,9,  -999.00, -999.000,9, -999.000,   -999.0,9,   -999.0,  -999.00,9,-999.0000,9,-999.0000,9,-999.0000,9,-999.0000,9,-999.0000,9,-999.0000,9,-999.0000,9,-999.0000,9,-999.0000,9,  12.8433,  12.8768,2
  33RR20070322,  I09N,   194,  1,     27,     27,2,20070425,2324, 15.5002,  89.8498, 2635, 238.1000,    238.1,  11.7637,  35.0261,2,  35.0259,2,      2.9,2,      2.9,2,    38.14,2,    33.58,2,     0.00,2,     2.46,2,    0.329,2,    0.188,2, -999.000,5,   -999.0,9,   -999.0,9,-999.0000,9,  -999.00,   -999.0,9,  -999.00,9, -999.000,9, -999.000,-999.0000,9,-999.0000,  -999.00,9,  -999.00, -999.000,9, -999.000,   -999.0,9,   -999.0,  -999.00,9,-999.0000,9,-999.0000,9,-999.0000,9,-999.0000,9,-999.0000,9,-999.0000,9,-999.0000,9,-999.0000,9,-999.0000,9,  11.7330,  11.7653,2
  33RR20070322,  I09N,   194,  1,     26,     26,2,20070425,2324, 15.5002,  89.8498, 2635, 288.5000,    288.5,  11.2361,  35.0304,2,  35.0286,2,      2.8,2,      2.8,2,    40.26,2,    34.31,2,     0.00,2,     2.51,2, -999.000,9, -999.000,9, -999.000,9,   -999.0,9,   -999.0,9,-999.0000,9,  -999.00,   -999.0,9,  -999.00,9, -999.000,9, -999.000,-999.0000,9,-999.0000,  -999.00,9,  -999.00, -999.000,9, -999.000,   -999.0,9,   -999.0,  -999.00,9,-999.0000,9,-999.0000,9,-999.0000,9,-999.0000,9,-999.0000,9,-999.0000,9,-999.0000,9,-999.0000,9,-999.0000,9,  11.1999,  11.2220,2
  33RR20070322,  I09N,   194,  1,     25,     25,2,20070425,2324, 15.5002,  89.8498, 2635, 338.2000,    338.2,  10.7550,  35.0297,2,  35.0300,2,      2.6,2,      2.7,2,    43.35,2,    35.05,2,     0.00,2,     2.56,2,    0.209,2,    0.120,2, -999.000,5,   -999.0,9,   -999.0,9,-999.0000,9,  -999.00,   -999.0,9,  -999.00,9, -999.000,9, -999.000,-999.0000,9,-999.0000,  -999.00,9,  -999.00, -999.000,9, -999.000,   -999.0,9,   -999.0,  -999.00,9,-999.0000,9,-999.0000,9,-999.0000,9,-999.0000,9,-999.0000,9,-999.0000,9,-999.0000,9,-999.0000,9,-999.0000,9,  10.7136,  10.7382,2
  33RR20070322,  I09N,   194,  1,     24,     24,2,20070425,2324, 15.5002,  89.8498, 2635, 388.2000,    388.2,  10.4618,  35.0304,2,  35.0302,2,      3.7,2,      3.9,2,    45.08,2,    35.49,2,     0.00,2,     2.59,2, -999.000,9, -999.000,9, -999.000,9,   -999.0,9,   -999.0,9,-999.0000,9,  -999.00,   -999.0,9,  -999.00,9, -999.000,9, -999.000,-999.0000,9,-999.0000,  -999.00,9,  -999.00, -999.000,9, -999.000,   -999.0,9,   -999.0,  -999.00,9,-999.0000,9,-999.0000,9,-999.0000,9,-999.0000,9,-999.0000,9,-999.0000,9,-999.0000,9,-999.0000,9,-999.0000,9,  10.4150,  10.4613,2
  33RR20070322,  I09N,   194,  1,     23,     23,2,20070425,2324, 15.5002,  89.8498, 2635, 438.5000,    438.5,  10.1076,  35.0255,2,  35.0247,2,      4.8,2,      5.1,2,    47.78,2,    35.93,2,     0.00,2,     2.62,2,    0.146,2,    0.085,2, -999.000,5,   2282.0,2,   2326.4,2,   7.4191,2,    25.00,   -999.0,9,  -999.00,9, -999.000,9, -999.000,-999.0000,9,-999.0000,  -999.00,9,  -999.00, -999.000,9, -999.000,   -999.0,9,   -999.0,  -999.00,9,-999.0000,9,-999.0000,9,-999.0000,9,-999.0000,9,-999.0000,9,-999.0000,9,-999.0000,9,-999.0000,9,-999.0000,9,  10.0557,  10.1067,2
  33RR20070322,  I09N,   194,  1,     22,     22,2,20070425,2324, 15.5002,  89.8498, 2635, 488.4000,    488.4,   9.8330,  35.0239,2,  35.0233,2,      6.2,2,      5.3,2,    50.29,2,    36.37,2,     0.00,2,     2.65,2, -999.000,9, -999.000,9, -999.000,9,   -999.0,9,   -999.0,9,-999.0000,9,  -999.00,   -999.0,9,  -999.00,9, -999.000,9, -999.000,-999.0000,9,-999.0000,  -999.00,9,  -999.00, -999.000,9, -999.000,   -999.0,9,   -999.0,  -999.00,9,-999.0000,9,-999.0000,9,-999.0000,9,-999.0000,9,-999.0000,9,-999.0000,9,-999.0000,9,-999.0000,9,-999.0000,9,   9.7761,   9.8270,2
  33RR20070322,  I09N,   194,  1,     21,     21,2,20070425,2324, 15.5002,  89.8498, 2635, 573.5000,    573.5,   9.3084,  35.0137,2,  35.0126,2,      8.2,2,      8.0,2,    55.89,2,    36.91,2,     0.00,2,     2.70,2,    0.067,2,    0.039,2, -999.000,5,   -999.0,9,   -999.0,9,-999.0000,9,  -999.00,   -999.0,9,  -999.00,9, -999.000,9, -999.000,-999.0000,9,-999.0000,  -999.00,9,  -999.00, -999.000,9, -999.000,   -999.0,9,   -999.0,  -999.00,9,-999.0000,9,-999.0000,9,-999.0000,9,-999.0000,9,-999.0000,9,-999.0000,9,-999.0000,9,-999.0000,9,-999.0000,9,   9.2434,   9.3085,2
  33RR20070322,  I09N,   194,  1,     20,     20,2,20070425,2324, 15.5002,  89.8498, 2635, 673.4000,    673.4,   8.5947,  34.9957,2,  34.9949,2,     14.7,2,     15.1,2,    62.64,2,    37.21,2,     0.00,2,     2.74,2, -999.000,9, -999.000,9, -999.000,9,   -999.0,9,   -999.0,9,-999.0000,9,  -999.00,   -999.0,9,  -999.00,9, -999.000,9, -999.000,-999.0000,9,-999.0000,  -999.00,9,  -999.00, -999.000,9, -999.000,   -999.0,9,   -999.0,  -999.00,9,-999.0000,9,-999.0000,9,-999.0000,9,-999.0000,9,-999.0000,9,-999.0000,9,-999.0000,9,-999.0000,9,-999.0000,9,   8.5215,   8.5925,2
  33RR20070322,  I09N,   194,  1,     19,     19,2,20070425,2324, 15.5002,  89.8498, 2635, 773.8000,    773.8,   7.9891,  34.9774,2,  34.9768,2,     20.8,2,     20.4,2,    69.22,2,    37.45,2,     0.00,2,     2.78,2,    0.024,2,    0.014,2, -999.000,5,   -999.0,9,   -999.0,9,-999.0000,9,  -999.00,   -999.0,9,  -999.00,9, -999.000,9, -999.000,-999.0000,9,-999.0000,  -999.00,9,  -999.00, -999.000,9, -999.000,   -999.0,9,   -999.0,  -999.00,9,-999.0000,9,-999.0000,9,-999.0000,9,-999.0000,9,-999.0000,9,-999.0000,9,-999.0000,9,-999.0000,9,-999.0000,9,   7.9080,   7.9835,2
  33RR20070322,  I09N,   194,  1,     18,     18,2,20070425,2324, 15.5002,  89.8498, 2635, 874.0000,    874.0,   7.3264,  34.9558,2,  34.9556,2,     28.0,2,     28.1,2,    76.79,2,    37.75,2,     0.00,2,     2.80,2, -999.000,9, -999.000,9, -999.000,9,   -999.0,9,   -999.0,9,-999.0000,9,  -999.00,   -999.0,9,  -999.00,9, -999.000,9, -999.000,-999.0000,9,-999.0000,  -999.00,9,  -999.00, -999.000,9, -999.000,   -999.0,9,   -999.0,  -999.00,9,-999.0000,9,-999.0000,9,-999.0000,9,-999.0000,9,-999.0000,9,-999.0000,9,-999.0000,9,-999.0000,9,-999.0000,9,   7.2385,   7.3355,2
  33RR20070322,  I09N,   194,  1,     17,     17,2,20070425,2324, 15.5002,  89.8498, 2635, 974.1000,    974.1,   6.7926,  34.9365,2,  34.9368,2,     36.4,2,     35.5,2,    82.42,2,    37.69,2,     0.00,2,     2.80,2,    0.011,2,    0.005,2, -999.000,5,   -999.0,9,   -999.0,9,-999.0000,9,  -999.00,   -999.0,9,  -999.00,9, -999.000,9, -999.000,-999.0000,9,-999.0000,  -999.00,9,  -999.00, -999.000,9, -999.000,   -999.0,9,   -999.0,  -999.00,9,-999.0000,9,-999.0000,9,-999.0000,9,-999.0000,9,-999.0000,9,-999.0000,9,-999.0000,9,-999.0000,9,-999.0000,9,   6.6979,   6.7923,2
  33RR20070322,  I09N,   194,  1,     16,     16,2,20070425,2324, 15.5002,  89.8498, 2635,1074.9000,   1074.9,   6.2536,  34.9167,2,  34.9156,2,     45.3,2,     45.6,2,    88.45,2,    37.48,2,     0.00,2,     2.79,2, -999.000,9, -999.000,9, -999.000,9,   -999.0,9,   -999.0,9,-999.0000,9,  -999.00,   -999.0,9,  -999.00,9, -999.000,9, -999.000,-999.0000,9,-999.0000,  -999.00,9,  -999.00, -999.000,9, -999.000,   -999.0,9,   -999.0,  -999.00,9,-999.0000,9,-999.0000,9,-999.0000,9,-999.0000,9,-999.0000,9,-999.0000,9,-999.0000,9,-999.0000,9,-999.0000,9,   6.1526,   6.2583,2
  33RR20070322,  I09N,   194,  1,     15,     15,2,20070425,2324, 15.5002,  89.8498, 2635,1175.6000,   1175.6,   5.7883,  34.8986,2,  34.8998,2,     52.3,2,     52.3,2,    93.51,2,    37.39,2,     0.00,2,     2.78,2,    0.006,2,    0.006,2, -999.000,5,   2318.9,2,   2372.9,6,   7.4577,2,    25.00,   -999.0,9,  -999.00,9, -999.000,9, -999.000,-999.0000,9,-999.0000,  -999.00,9,  -999.00, -999.000,9, -999.000,   -999.0,9,   -999.0,  -999.00,9,-999.0000,9,-999.0000,9,-999.0000,9,-999.0000,9,-999.0000,9,-999.0000,9,-999.0000,9,-999.0000,9,-999.0000,9,   5.6812,   5.7965,2
  33RR20070322,  I09N,   194,  1,     14,     14,2,20070425,2324, 15.5002,  89.8498, 2635,1275.8000,   1275.8,   5.3550,  34.8828,2,  34.8833,2,     59.3,2,     59.7,2,    98.20,2,    37.43,2,     0.00,2,     2.77,2, -999.000,9, -999.000,9, -999.000,9,   -999.0,9,   -999.0,9,-999.0000,9,  -999.00,   -999.0,9,  -999.00,9, -999.000,9, -999.000,-999.0000,9,-999.0000,  -999.00,9,  -999.00, -999.000,9, -999.000,   -999.0,9,   -999.0,  -999.00,9,-999.0000,9,-999.0000,9,-999.0000,9,-999.0000,9,-999.0000,9,-999.0000,9,-999.0000,9,-999.0000,9,-999.0000,9,   5.2420,   5.3532,2
  33RR20070322,  I09N,   194,  1,     13,     13,2,20070425,2324, 15.5002,  89.8498, 2635,1376.3000,   1376.3,   4.9669,  34.8685,2,  34.8680,2,     65.8,2,     66.5,2,   102.90,2,    37.27,2,     0.00,2,     2.76,2,    0.004,2,    0.003,2, -999.000,5,   -999.0,9,   -999.0,9,-999.0000,9,  -999.00,   -999.0,9,  -999.00,9, -999.000,9, -999.000,-999.0000,9,-999.0000,  -999.00,9,  -999.00, -999.000,9, -999.000,   -999.0,9,   -999.0,  -999.00,9,-999.0000,9,-999.0000,9,-999.0000,9,-999.0000,9,-999.0000,9,-999.0000,9,-999.0000,9,-999.0000,9,-999.0000,9,   4.8481,   4.9688,2
  33RR20070322,  I09N,   194,  1,     12,     12,2,20070425,2324, 15.5002,  89.8498, 2635,1477.0000,   1477.0,   4.5295,  34.8512,2,  34.8520,2,     74.3,2,     75.3,2,   107.41,2,    37.03,2,     0.00,2,     2.73,2, -999.000,9, -999.000,9, -999.000,9,   -999.0,9,   -999.0,9,-999.0000,9,  -999.00,   -999.0,9,  -999.00,9, -999.000,9, -999.000,-999.0000,9,-999.0000,  -999.00,9,  -999.00, -999.000,9, -999.000,   -999.0,9,   -999.0,  -999.00,9,-999.0000,9,-999.0000,9,-999.0000,9,-999.0000,9,-999.0000,9,-999.0000,9,-999.0000,9,-999.0000,9,-999.0000,9,   4.4058,   4.5308,2
  33RR20070322,  I09N,   194,  1,     11,     11,2,20070425,2324, 15.5002,  89.8498, 2635,1577.3000,   1577.3,   4.1512,  34.8365,2,  34.8371,2,     82.2,2,     82.8,2,   111.72,2,    36.82,2,     0.00,2,     2.70,2,    0.004,2,    0.005,2, -999.000,5,   -999.0,9,   -999.0,9,-999.0000,9,  -999.00,   -999.0,9,  -999.00,9, -999.000,9, -999.000,-999.0000,9,-999.0000,  -999.00,9,  -999.00, -999.000,9, -999.000,   -999.0,9,   -999.0,  -999.00,9,-999.0000,9,-999.0000,9,-999.0000,9,-999.0000,9,-999.0000,9,-999.0000,9,-999.0000,9,-999.0000,9,-999.0000,9,   4.0224,   4.1509,2
  33RR20070322,  I09N,   194,  1,     10,     10,2,20070425,2324, 15.5002,  89.8498, 2635,1678.1000,   1678.1,   3.7065,  34.8189,2,  34.8188,2,     90.4,2,     90.9,2,   117.04,2,    36.62,2,     0.00,2,     2.68,2, -999.000,9, -999.000,9, -999.000,9,   -999.0,9,   -999.0,9,-999.0000,9,  -999.00,   -999.0,9,  -999.00,9, -999.000,9, -999.000,-999.0000,9,-999.0000,  -999.00,9,  -999.00, -999.000,9, -999.000,   -999.0,9,   -999.0,  -999.00,9,-999.0000,9,-999.0000,9,-999.0000,9,-999.0000,9,-999.0000,9,-999.0000,9,-999.0000,9,-999.0000,9,-999.0000,9,   3.5739,   3.7058,2
  33RR20070322,  I09N,   194,  1,      9,      9,2,20070425,2324, 15.5002,  89.8498, 2635,1778.7000,   1778.7,   3.3738,  34.8053,2,  34.8056,2,     97.2,2,     98.1,2,   121.17,2,    36.41,2,     0.00,2,     2.67,2,    0.003,2,    0.002,2, -999.000,5,   -999.0,9,   -999.0,9,-999.0000,9,  -999.00,   -999.0,9,  -999.00,9, -999.000,9, -999.000,-999.0000,9,-999.0000,  -999.00,9,  -999.00, -999.000,9, -999.000,   -999.0,9,   -999.0,  -999.00,9,-999.0000,9,-999.0000,9,-999.0000,9,-999.0000,9,-999.0000,9,-999.0000,9,-999.0000,9,-999.0000,9,-999.0000,9,   3.2364,   3.3668,2
  33RR20070322,  I09N,   194,  1,      8,      8,2,20070425,2324, 15.5002,  89.8498, 2635,1879.0000,   1879.0,   3.0708,  34.7926,2,  34.7928,2,    104.3,2,    104.4,2,   124.53,2,    36.21,2,     0.00,2,     2.65,2, -999.000,9, -999.000,9, -999.000,9,   -999.0,9,   -999.0,9,-999.0000,9,  -999.00,   -999.0,9,  -999.00,9, -999.000,9, -999.000,-999.0000,9,-999.0000,  -999.00,9,  -999.00, -999.000,9, -999.000,   -999.0,9,   -999.0,  -999.00,9,-999.0000,9,-999.0000,9,-999.0000,9,-999.0000,9,-999.0000,9,-999.0000,9,-999.0000,9,-999.0000,9,-999.0000,9,   2.9286,   3.0714,2
  33RR20070322,  I09N,   194,  1,      7,      7,2,20070425,2324, 15.5002,  89.8498, 2635,1980.2000,   1980.2,   2.8426,  34.7827,2,  34.7831,2,    109.9,2,    110.4,2,   126.90,2,    36.06,2,     0.00,2,     2.63,2,    0.007,2,    0.004,2, -999.000,5,   -999.0,9,   -999.0,9,-999.0000,9,  -999.00,   -999.0,9,  -999.00,9, -999.000,9, -999.000,-999.0000,9,-999.0000,  -999.00,9,  -999.00, -999.000,9, -999.000,   -999.0,9,   -999.0,  -999.00,9,-999.0000,9,-999.0000,9,-999.0000,9,-999.0000,9,-999.0000,9,-999.0000,9,-999.0000,9,-999.0000,9,-999.0000,9,   2.6947,   2.8427,2
  33RR20070322,  I09N,   194,  1,      6,      6,2,20070425,2324, 15.5002,  89.8498, 2635,2182.2000,   2182.2,   2.5035,  34.7678,2,  34.7686,2,    119.5,2,    118.7,2,   130.86,2,    35.76,2,     0.00,2,     2.60,2, -999.000,9, -999.000,9, -999.000,9,   -999.0,9,   -999.0,9,-999.0000,9,  -999.00,   -999.0,9,  -999.00,9, -999.000,9, -999.000,-999.0000,9,-999.0000,  -999.00,9,  -999.00, -999.000,9, -999.000,   -999.0,9,   -999.0,  -999.00,9,-999.0000,9,-999.0000,9,-999.0000,9,-999.0000,9,-999.0000,9,-999.0000,9,-999.0000,9,-999.0000,9,-999.0000,9,   2.3428,   2.5031,2
  33RR20070322,  I09N,   194,  1,      5,      5,2,20070425,2324, 15.5002,  89.8498, 2635,2312.8000,   2312.8,   2.3417,  34.7607,2,  34.7615,2,    124.3,2,    123.3,2,   133.25,2,    35.55,2,     0.00,2,     2.57,2,    0.004,2,    0.003,2, -999.000,5,   -999.0,9,   -999.0,9,-999.0000,9,  -999.00,   -999.0,9,  -999.00,9, -999.000,9, -999.000,-999.0000,9,-999.0000,  -999.00,9,  -999.00, -999.000,9, -999.000,   -999.0,9,   -999.0,  -999.00,9,-999.0000,9,-999.0000,9,-999.0000,9,-999.0000,9,-999.0000,9,-999.0000,9,-999.0000,9,-999.0000,9,-999.0000,9,   2.1719,   2.3435,2