BOTTLE,20150630SIOCCHRJL
EXPOCODE,SECT_ID,STNNBR,CASTNO,SAMPNO,BTLNBR,BTLNBR_FLAG_W,DATE,TIME,LATITUDE,LONGITUDE,DEPTH,CTDRAW,CTDPRS,CTDTMP,CTDSAL,CTDSAL_FLAG_W,SALNTY,SALNTY_FLAG_W,CTDOXY,CTDOXY_FLAG_W,OXYGEN,OXYGEN_FLAG_W,SILCAT,SILCAT_FLAG_W,NITRAT,NITRAT_FLAG_W,NITRIT,NITRIT_FLAG_W,PHSPHT,PHSPHT_FLAG_W,CFC-11,CFC-11_FLAG_W,CFC-12,CFC-12_FLAG_W,CFC113,CFC113_FLAG_W,TCARBN,TCARBN_FLAG_W,ALKALI,ALKALI_FLAG_W,PH_SWS,PH_SWS_FLAG_W,PH_TMP,DOC,DOC_FLAG_W,TDN,TDN_FLAG_W,TRITUM,TRITUM_FLAG_W,TRITER,HELIUM,HELIUM_FLAG_W,HELIER,DELHE3,DELHE3_FLAG_W,DELHER,NEON,NEON_FLAG_W,NEONER,DELC14,DELC14_FLAG_W,C14ERR,DELC13,DELC13_FLAG_W,CDOM325,CDOM325_FLAG_W,CDOM340,CDOM340_FLAG_W,CDOM380,CDOM380_FLAG_W,CDOM412,CDOM412_FLAG_W,CDOM443,CDOM443_FLAG_W,CDOM490,CDOM490_FLAG_W,CDOM555,CDOM555_FLAG_W,CDOMSL,CDOMSL_FLAG_W,CDOMSN,CDOMSN_FLAG_W,THETA,SBE35,SBE35_FLAG_W
,,,,,,,,,,,METERS,,DBAR,ITS-90,PSS-78,,PSS-78,,UMOL/KG,,UMOL/KG,,UMOL/KG,,UMOL/KG,,UMOL/KG,,UMOL/KG,,PMOL/KG,,PMOL/KG,,PMOL/KG,,UMOL/KG,,UMOL/KG,,,,DEG C,UMOL/KG,,UMOL/KG,,TU,,TU,NMOL/KG,,NMOL/KG,PERCNT,,PERCNT,NMOL/KG,,NMOL/KG,/MILLE,,/MILLE,/MILLE,,1/M,,1/M,,1/M,,1/M,,1/M,,1/M,,1/M,,1/NM,,1/NM,,DEG C,ITS-90,
  33RR20070322,  I09N,   117,  2,     36,     38,2,20070404,1526,-12.4842,  95.0070, 4525,   3.8000,      3.8,  28.0056,  34.5048,2,  34.5039,2,    198.1,2,    198.4,2,     1.67,2,     0.06,2,     0.00,2,     0.10,2,    1.574,2,    1.006,2, -999.000,5,   1937.0,6,   2268.1,6,-999.0000,5,    25.00,     72.4,2,  -999.00,9, -999.000,9, -999.000,-999.0000,9,-999.0000,  -999.00,9,  -999.00, -999.000,9, -999.000,   -999.0,9,   -999.0,  -999.00,9,-999.0000,9,-999.0000,9,-999.0000,9,-999.0000,9,-999.0000,9,-999.0000,9,-999.0000,9,-999.0000,9,-999.0000,9,  28.0047,  28.0032,2
  33RR20070322,  I09N,   117,  2,     35,     35,2,20070404,1526,-12.4842,  95.0070, 4525,  41.7000,     41.7,  26.7407,  34.9749,2,  34.9702,2,    208.7,2,    211.3,2,     2.06,2,     0.06,2,     0.00,2,     0.10,2,    1.733,2,    1.091,2, -999.000,5,   1968.2,2,   2291.8,2,   8.0684,2,    25.00,     72.5,2,  -999.00,9, -999.000,9, -999.000,-999.0000,9,-999.0000,  -999.00,9,  -999.00, -999.000,9, -999.000,     56.3,2,      3.6,     1.14,2,-999.0000,9,-999.0000,9,-999.0000,9,-999.0000,9,-999.0000,9,-999.0000,9,-999.0000,9,-999.0000,9,-999.0000,9,  26.7312,  26.7422,2
  33RR20070322,  I09N,   117,  2,     34,   9419,2,20070404,1526,-12.4842,  95.0070, 4525,  76.8000,     76.8,  22.5966,  34.8408,2,  34.8416,2,    164.4,2,    162.6,2,     6.89,2,     4.89,2,     0.44,2,     0.48,2,    1.771,2,    1.104,2, -999.000,5,   2030.9,2,   2286.2,2,   7.9460,3,    25.00,     64.4,2,  -999.00,9, -999.000,9, -999.000,-999.0000,9,-999.0000,  -999.00,9,  -999.00, -999.000,9, -999.000,   -999.0,9,   -999.0,  -999.00,9,-999.0000,9,-999.0000,9,-999.0000,9,-999.0000,9,-999.0000,9,-999.0000,9,-999.0000,9,-999.0000,9,-999.0000,9,  22.5811,  22.6986,2
  33RR20070322,  I09N,   117,  2,     33,     33,2,20070404,1526,-12.4842,  95.0070, 4525,  96.3000,     96.3,  20.4165,  34.9130,2,  34.9123,2,    139.7,2,    134.1,2,    11.54,2,    10.65,2,     0.04,2,     0.80,2,    1.770,2,    1.084,2, -999.000,5,   2077.1,2,   2292.3,2,   7.8638,2,    25.00,     56.0,2,  -999.00,9, -999.000,9, -999.000,-999.0000,9,-999.0000,  -999.00,9,  -999.00, -999.000,9, -999.000,     40.7,2,      3.5,     0.42,2,-999.0000,9,-999.0000,9,-999.0000,9,-999.0000,9,-999.0000,9,-999.0000,9,-999.0000,9,-999.0000,9,-999.0000,9,  20.3985,  20.4167,2
  33RR20070322,  I09N,   117,  2,     32,     37,2,20070404,1526,-12.4842,  95.0070, 4525, 126.2000,    126.2,  18.5112,  34.9821,2,  34.9864,2,    131.8,2,    131.3,2,    14.83,2,    12.80,2,     0.02,2,     0.95,2,    1.768,2,    1.063,2, -999.000,5,   2100.8,2,   2299.8,2,   7.8338,2,    25.00,     54.0,2,  -999.00,9, -999.000,9, -999.000,-999.0000,9,-999.0000,  -999.00,9,  -999.00, -999.000,9, -999.000,   -999.0,9,   -999.0,  -999.00,9,-999.0000,9,-999.0000,9,-999.0000,9,-999.0000,9,-999.0000,9,-999.0000,9,-999.0000,9,-999.0000,9,-999.0000,9,  18.4891,  18.5251,2
  33RR20070322,  I09N,   117,  2,     31,     31,2,20070404,1526,-12.4842,  95.0070, 4525, 146.1000,    146.1,  16.5907,  34.8726,2,  34.8814,2,    125.5,2,    122.7,2,    20.06,2,    15.93,2,     0.01,2,     1.17,2,    1.674,2,    0.992,2, -999.000,5,   2124.0,2,   2301.3,2,-999.0000,5,    25.00,     52.5,2,  -999.00,9, -999.000,9, -999.000,-999.0000,9,-999.0000,  -999.00,9,  -999.00, -999.000,9, -999.000,     26.1,2,      3.5,     0.41,2,-999.0000,9,-999.0000,9,-999.0000,9,-999.0000,9,-999.0000,9,-999.0000,9,-999.0000,9,-999.0000,9,-999.0000,9,  16.5670,  16.5925,2
  33RR20070322,  I09N,   117,  2,     30,     30,2,20070404,1526,-12.4842,  95.0070, 4525, 175.5000,    175.5,  15.2096,  34.7462,2,  34.7477,2,    116.8,2,    116.0,2,    24.52,2,    18.63,2,     0.00,2,     1.35,2,    1.556,2,    0.903,2, -999.000,5,   2140.4,2,   2297.5,2,   7.7365,2,    25.00,     50.2,2,  -999.00,9, -999.000,9, -999.000,-999.0000,9,-999.0000,  -999.00,9,  -999.00, -999.000,9, -999.000,   -999.0,9,   -999.0,  -999.00,9,-999.0000,9,-999.0000,9,-999.0000,9,-999.0000,9,-999.0000,9,-999.0000,9,-999.0000,9,-999.0000,9,-999.0000,9,  15.1828,  15.1927,2
  33RR20070322,  I09N,   117,  2,     29,     29,2,20070404,1526,-12.4842,  95.0070, 4525, 226.9000,    226.9,  12.7826,  34.6336,2,  34.6387,2,    101.9,2,    102.8,2,    32.67,2,    23.31,2,     0.00,2,     1.67,2,    1.314,2,    0.747,2, -999.000,5,   2173.2,2,   2299.6,2,   7.6789,2,    25.00,     49.3,2,  -999.00,9, -999.000,9, -999.000,-999.0000,9,-999.0000,  -999.00,9,  -999.00, -999.000,9, -999.000,    -10.6,2,      2.8,     0.27,2,-999.0000,9,-999.0000,9,-999.0000,9,-999.0000,9,-999.0000,9,-999.0000,9,-999.0000,9,-999.0000,9,-999.0000,9,  12.7518,  12.7696,2
  33RR20070322,  I09N,   117,  2,     28,     28,2,20070404,1526,-12.4842,  95.0070, 4525, 276.3000,    276.3,  11.7081,  34.7044,2,  34.6963,2,   -999.0,9,   -999.0,5,    34.81,2,    24.50,2,     0.00,2,     1.76,2,    1.283,2,    0.717,2, -999.000,5,   2185.9,2,   2306.1,2,   7.6320,2,    25.00,     47.6,2,  -999.00,9, -999.000,9, -999.000,-999.0000,9,-999.0000,  -999.00,9,  -999.00, -999.000,9, -999.000,    -23.1,2,      3.4,     0.34,2,-999.0000,9,-999.0000,9,-999.0000,9,-999.0000,9,-999.0000,9,-999.0000,9,-999.0000,9,-999.0000,9,-999.0000,9,  11.6726,  11.7120,2
  33RR20070322,  I09N,   117,  2,     27,     27,2,20070404,1526,-12.4842,  95.0070, 4525, 325.9000,    325.9,  10.8712,  34.8483,2,  34.8487,2,    133.2,2,    140.2,2,    25.31,2,    21.59,2,     0.00,2,     1.55,2,    1.863,2,    1.026,2, -999.000,5,   2174.7,2,   2310.6,2,   7.6434,4,    25.00,     46.8,2,  -999.00,9, -999.000,9, -999.000,-999.0000,9,-999.0000,  -999.00,9,  -999.00, -999.000,9, -999.000,     -7.9,2,      3.3,     0.66,2,-999.0000,9,-999.0000,9,-999.0000,9,-999.0000,9,-999.0000,9,-999.0000,9,-999.0000,9,-999.0000,9,-999.0000,9,  10.8311,  10.8713,2
  33RR20070322,  I09N,   117,  2,     26,     26,2,20070404,1526,-12.4842,  95.0070, 4525, 376.1000,    376.1,   9.7037,  34.7478,2,  34.7493,2,    137.2,2,    139.6,2,    27.64,2,    24.13,2,     0.00,2,     1.71,2, -999.000,5, -999.000,5, -999.000,5,   2185.9,2,   2307.9,2,   7.6540,3,    25.00,     46.0,2,  -999.00,9, -999.000,9, -999.000,-999.0000,9,-999.0000,  -999.00,9,  -999.00, -999.000,9, -999.000,    -19.2,2,      3.0,     0.69,2,-999.0000,9,-999.0000,9,-999.0000,9,-999.0000,9,-999.0000,9,-999.0000,9,-999.0000,9,-999.0000,9,-999.0000,9,   9.6606,   9.7093,2
  33RR20070322,  I09N,   117,  2,     25,     25,2,20070404,1526,-12.4842,  95.0070, 4525, 425.9000,    425.9,   8.9513,  34.6912,2,  34.6916,2,    121.3,2,    121.8,2,    35.03,2,    27.53,2,     0.00,2,     1.94,2,    1.236,2,    0.653,2, -999.000,5,   2205.6,2,   2308.8,2,-999.0000,5,    25.00,     45.5,2,  -999.00,9, -999.000,9, -999.000,-999.0000,9,-999.0000,  -999.00,9,  -999.00, -999.000,9, -999.000,   -999.0,9,   -999.0,  -999.00,9,-999.0000,9,-999.0000,9,-999.0000,9,-999.0000,9,-999.0000,9,-999.0000,9,-999.0000,9,-999.0000,9,-999.0000,9,   8.9047,   8.9534,2
  33RR20070322,  I09N,   117,  2,     24,     24,2,20070404,1526,-12.4842,  95.0070, 4525, 475.7000,    475.7,   8.3805,  34.6709,2,  34.6705,2,    100.9,2,     96.3,2,    45.91,2,    31.09,2,     0.00,2,     2.21,2,    0.622,2,    0.335,2, -999.000,5,   2231.2,2,   2316.1,2,   7.5502,2,    25.00,     45.1,2,  -999.00,9, -999.000,9, -999.000,-999.0000,9,-999.0000,  -999.00,9,  -999.00, -999.000,9, -999.000,    -87.0,2,      3.0,     0.40,2,-999.0000,9,-999.0000,9,-999.0000,9,-999.0000,9,-999.0000,9,-999.0000,9,-999.0000,9,-999.0000,9,-999.0000,9,   8.3304,   8.3837,2
  33RR20070322,  I09N,   117,  2,     23,     23,2,20070404,1526,-12.4842,  95.0070, 4525, 526.7000,    526.7,   7.8401,  34.6600,2,  34.6601,2,     97.3,2,     91.3,2,    52.14,2,    32.50,2,     0.00,2,     2.32,2,    0.401,2,    0.213,2, -999.000,5,   2241.6,2,   2322.4,2,   7.5287,2,    25.00,     44.7,2,  -999.00,9, -999.000,9, -999.000,-999.0000,9,-999.0000,  -999.00,9,  -999.00, -999.000,9, -999.000,    -95.2,2,      3.7,     0.38,2,-999.0000,9,-999.0000,9,-999.0000,9,-999.0000,9,-999.0000,9,-999.0000,9,-999.0000,9,-999.0000,9,-999.0000,9,   7.7865,   7.8476,2
  33RR20070322,  I09N,   117,  2,     22,     22,2,20070404,1526,-12.4842,  95.0070, 4525, 647.9000,    647.9,   6.8466,  34.6544,2,  34.6532,2,     82.3,2,     81.6,2,    69.11,2,    34.82,2,     0.00,2,     2.52,2,    0.141,2,    0.082,2, -999.000,5,   2267.2,2,   2341.1,2,   7.5113,2,    25.00,     44.3,2,  -999.00,9, -999.000,9, -999.000,-999.0000,9,-999.0000,  -999.00,9,  -999.00, -999.000,9, -999.000,   -122.5,2,      2.9,     0.17,2,-999.0000,9,-999.0000,9,-999.0000,9,-999.0000,9,-999.0000,9,-999.0000,9,-999.0000,9,-999.0000,9,-999.0000,9,   6.7850,   6.8466,2
  33RR20070322,  I09N,   117,  2,     21,     21,2,20070404,1526,-12.4842,  95.0070, 4525, 747.8000,    747.8,   6.2340,  34.6402,2,  34.6394,2,     81.6,2,     81.7,2,    79.10,2,    35.60,2,     0.00,2,     2.58,2,    0.099,2,    0.057,2, -999.000,5,   2280.1,2,   2351.4,2,   7.5065,2,    25.00,     43.9,2,  -999.00,9, -999.000,9, -999.000,-999.0000,9,-999.0000,  -999.00,9,  -999.00, -999.000,9, -999.000,   -152.2,2,      2.8,     0.20,2,-999.0000,9,-999.0000,9,-999.0000,9,-999.0000,9,-999.0000,9,-999.0000,9,-999.0000,9,-999.0000,9,-999.0000,9,   6.1659,   6.2422,2
  33RR20070322,  I09N,   117,  2,     20,     20,2,20070404,1526,-12.4842,  95.0070, 4525, 846.7000,    846.7,   5.7748,  34.6412,2,  34.6398,2,     82.9,2,     82.9,2,    87.15,2,    35.97,2,     0.00,2,     2.62,2,    0.081,2,    0.047,2, -999.000,5,   2288.8,2,   2360.8,2,-999.0000,5,    25.00,     43.4,2,  -999.00,9, -999.000,9, -999.000,-999.0000,9,-999.0000,  -999.00,9,  -999.00, -999.000,9, -999.000,   -130.1,3,      3.3,     0.21,2,-999.0000,9,-999.0000,9,-999.0000,9,-999.0000,9,-999.0000,9,-999.0000,9,-999.0000,9,-999.0000,9,-999.0000,9,   5.7000,   5.7752,2
  33RR20070322,  I09N,   117,  2,     19,     19,2,20070404,1526,-12.4842,  95.0070, 4525, 947.5000,    947.5,   5.2842,  34.6468,2,  34.6450,2,     86.0,2,     85.8,2,    93.84,2,    36.34,2,     0.00,2,     2.66,2,    0.054,2,    0.031,2, -999.000,5,   2296.3,2,   2364.2,2,   7.5017,2,    25.00,     43.0,2,  -999.00,9, -999.000,9, -999.000,-999.0000,9,-999.0000,  -999.00,9,  -999.00, -999.000,9, -999.000,   -150.2,2,      2.9,    -0.28,3,-999.0000,9,-999.0000,9,-999.0000,9,-999.0000,9,-999.0000,9,-999.0000,9,-999.0000,9,-999.0000,9,-999.0000,9,   5.2033,   5.2883,2
  33RR20070322,  I09N,   117,  2,     18,     18,2,20070404,1526,-12.4842,  95.0070, 4525,1047.2000,   1047.2,   4.8867,  34.6501,2,  34.6479,2,     89.0,2,     89.0,2,    99.96,2,    36.59,2,     0.00,2,     2.66,2,    0.044,2,    0.024,2, -999.000,5,   2302.0,6,   2371.3,6,   7.4911,6,    25.00,     42.4,2,  -999.00,9, -999.000,9, -999.000,-999.0000,9,-999.0000,  -999.00,9,  -999.00, -999.000,9, -999.000,   -999.0,9,   -999.0,  -999.00,9,-999.0000,9,-999.0000,9,-999.0000,9,-999.0000,9,-999.0000,9,-999.0000,9,-999.0000,9,-999.0000,9,-999.0000,9,   4.7997,   4.8866,2
  33RR20070322,  I09N,   117,  2,     17,     17,2,20070404,1526,-12.4842,  95.0070, 4525,1147.7000,   1147.7,   4.4932,  34.6537,2,  34.6520,2,     92.8,2,     93.1,2,   104.71,2,    36.53,2,     0.00,2,     2.66,2, -999.000,9, -999.000,9, -999.000,9,   2307.0,2,   2377.1,2,-999.0000,5,    25.00,     41.9,2,  -999.00,9, -999.000,9, -999.000,-999.0000,9,-999.0000,  -999.00,9,  -999.00, -999.000,9, -999.000,   -179.2,2,      2.8,     0.18,2,-999.0000,9,-999.0000,9,-999.0000,9,-999.0000,9,-999.0000,9,-999.0000,9,-999.0000,9,-999.0000,9,-999.0000,9,   4.4005,   4.4944,2
  33RR20070322,  I09N,   117,  2,     16,     16,2,20070404,1526,-12.4842,  95.0070, 4525,1247.4000,   1247.4,   4.1961,  34.6677,2,  34.6648,2,     97.1,2,     97.5,2,   107.48,2,    36.58,2,     0.00,2,     2.66,2,    0.020,2,    0.010,2, -999.000,5,   2309.3,2,   2380.3,2,   7.5111,2,    25.00,     41.2,2,  -999.00,9, -999.000,9, -999.000,-999.0000,9,-999.0000,  -999.00,9,  -999.00, -999.000,9, -999.000,   -999.0,9,   -999.0,  -999.00,9,-999.0000,9,-999.0000,9,-999.0000,9,-999.0000,9,-999.0000,9,-999.0000,9,-999.0000,9,-999.0000,9,-999.0000,9,   4.0972,   4.2000,2
  33RR20070322,  I09N,   117,  2,     15,     15,2,20070404,1526,-12.4842,  95.0070, 4525,1350.6000,   1350.6,   3.9424,  34.6865,2,  34.6853,2,    101.1,2,    102.3,2,   109.28,2,    36.52,2,     0.00,2,     2.65,2, -999.000,9, -999.000,9, -999.000,9,   2309.3,2,   2382.9,2,   7.5010,2,    25.00,     41.2,2,  -999.00,9, -999.000,9, -999.000,-999.0000,9,-999.0000,  -999.00,9,  -999.00, -999.000,9, -999.000,   -174.8,2,      2.9,     0.21,2,-999.0000,9,-999.0000,9,-999.0000,9,-999.0000,9,-999.0000,9,-999.0000,9,-999.0000,9,-999.0000,9,-999.0000,9,   3.8369,   3.9461,2
  33RR20070322,  I09N,   117,  2,     14,     14,2,20070404,1526,-12.4842,  95.0070, 4525,1449.7000,   1449.7,   3.6830,  34.7027,2,  34.7000,2,    107.2,2,    108.2,2,   109.69,2,    36.41,2,     0.00,2,     2.62,2,    0.010,2,    0.004,2, -999.000,5,   2307.9,2,   2385.2,2,   7.4368,4,    25.00,     40.7,2,  -999.00,9, -999.000,9, -999.000,-999.0000,9,-999.0000,  -999.00,9,  -999.00, -999.000,9, -999.000,   -999.0,9,   -999.0,  -999.00,9,-999.0000,9,-999.0000,9,-999.0000,9,-999.0000,9,-999.0000,9,-999.0000,9,-999.0000,9,-999.0000,9,-999.0000,9,   3.5715,   3.6827,2
  33RR20070322,  I09N,   117,  2,     13,     13,2,20070404,1526,-12.4842,  95.0070, 4525,1550.1000,   1550.1,   3.4128,  34.7193,2,  34.7174,2,    112.0,2,    115.3,2,   110.31,2,    36.08,2,     0.00,2,     2.60,2, -999.000,9, -999.000,9, -999.000,9,   2306.6,2,   2386.8,2,   7.5244,2,    25.00,     40.6,2,  -999.00,9, -999.000,9, -999.000,-999.0000,9,-999.0000,  -999.00,9,  -999.00, -999.000,9, -999.000,   -182.0,2,      2.9,     0.22,2,-999.0000,9,-999.0000,9,-999.0000,9,-999.0000,9,-999.0000,9,-999.0000,9,-999.0000,9,-999.0000,9,-999.0000,9,   3.2955,   3.4115,2
  33RR20070322,  I09N,   117,  2,     12,     12,2,20070404,1526,-12.4842,  95.0070, 4525,1651.6000,   1651.6,   3.1411,  34.7304,2,  34.7276,2,    119.0,2,    122.9,2,   111.91,2,    35.87,2,     0.00,2,     2.57,2,    0.008,2,    0.004,2, -999.000,5,   2305.2,2,   2389.3,2,   7.5295,2,    25.00,     40.5,2,  -999.00,9, -999.000,9, -999.000,-999.0000,9,-999.0000,  -999.00,9,  -999.00, -999.000,9, -999.000,   -999.0,9,   -999.0,  -999.00,9,-999.0000,9,-999.0000,9,-999.0000,9,-999.0000,9,-999.0000,9,-999.0000,9,-999.0000,9,-999.0000,9,-999.0000,9,   3.0182,   3.1402,2
  33RR20070322,  I09N,   117,  2,     11,     11,2,20070404,1526,-12.4842,  95.0070, 4525,1752.2000,   1752.2,   2.9405,  34.7382,2,  34.7367,2,    125.2,2,    128.4,2,   113.11,2,    35.49,2,     0.00,2,     2.55,2, -999.000,9, -999.000,9, -999.000,9,   2304.2,2,   2390.3,2,   7.5355,2,    25.00,     40.3,2,  -999.00,9, -999.000,9, -999.000,-999.0000,9,-999.0000,  -999.00,9,  -999.00, -999.000,9, -999.000,   -999.0,9,   -999.0,  -999.00,9,-999.0000,9,-999.0000,9,-999.0000,9,-999.0000,9,-999.0000,9,-999.0000,9,-999.0000,9,-999.0000,9,-999.0000,9,   2.8115,   2.9395,2
  33RR20070322,  I09N,   117,  2,     10,     10,2,20070404,1526,-12.4842,  95.0070, 4525,1953.2000,   1953.2,   2.5932,  34.7392,2,  34.7377,2,    137.3,2,    139.6,2,   115.70,2,    35.01,2,     0.00,2,     2.50,2,    0.007,2,    0.003,2, -999.000,5,   2301.4,2,   2393.9,2,   7.5448,2,    25.00,     40.6,2,  -999.00,9, -999.000,9, -999.000,-999.0000,9,-999.0000,  -999.00,9,  -999.00, -999.000,9, -999.000,   -999.0,9,   -999.0,  -999.00,9,-999.0000,9,-999.0000,9,-999.0000,9,-999.0000,9,-999.0000,9,-999.0000,9,-999.0000,9,-999.0000,9,-999.0000,9,   2.4515,   2.5934,2
  33RR20070322,  I09N,   117,  2,      9,      9,2,20070404,1526,-12.4842,  95.0070, 4525,2114.3000,   2114.3,   2.4046,  34.7378,2,  34.7375,2,    144.5,2,    146.3,2,   117.11,2,    34.79,2,     0.00,2,     2.47,2, -999.000,9, -999.000,9, -999.000,9,   2299.8,2,   2376.4,3,   7.5489,2,    25.00,     40.4,2,  -999.00,9, -999.000,9, -999.000,-999.0000,9,-999.0000,  -999.00,9,  -999.00, -999.000,9, -999.000,   -999.0,9,   -999.0,  -999.00,9,-999.0000,9,-999.0000,9,-999.0000,9,-999.0000,9,-999.0000,9,-999.0000,9,-999.0000,9,-999.0000,9,-999.0000,9,   2.2516,   2.4047,2
  33RR20070322,  I09N,   117,  2,      8,      8,2,20070404,1526,-12.4842,  95.0070, 4525,2366.5000,   2366.5,   2.0926,  34.7346,2,  34.7331,2,    155.9,2,    156.2,2,   119.71,2,    34.36,2,     0.00,2,     2.42,2,    0.009,2,    0.003,2, -999.000,5,   2297.1,2,   2395.7,2,   7.5778,2,    25.00,     40.6,2,  -999.00,9, -999.000,9, -999.000,-999.0000,9,-999.0000,  -999.00,9,  -999.00, -999.000,9, -999.000,   -999.0,9,   -999.0,  -999.00,9,-999.0000,9,-999.0000,9,-999.0000,9,-999.0000,9,-999.0000,9,-999.0000,9,-999.0000,9,-999.0000,9,-999.0000,9,   1.9224,   2.0915,2
  33RR20070322,  I09N,   117,  2,      7,      7,2,20070404,1526,-12.4842,  95.0070, 4525,2619.4000,   2619.4,   1.8796,  34.7318,2,  34.7302,2,    163.6,2,    163.2,2,   121.73,2,    33.99,2,     0.00,2,     2.40,2, -999.000,9, -999.000,9, -999.000,9,   2296.0,2,   2398.3,2,   7.5880,2,    25.00,     40.2,2,  -999.00,9, -999.000,9, -999.000,-999.0000,9,-999.0000,  -999.00,9,  -999.00, -999.000,9, -999.000,   -999.0,9,   -999.0,  -999.00,9,-999.0000,9,-999.0000,9,-999.0000,9,-999.0000,9,-999.0000,9,-999.0000,9,-999.0000,9,-999.0000,9,-999.0000,9,   1.6903,   1.8801,2
  33RR20070322,  I09N,   117,  2,      6,      6,2,20070404,1526,-12.4842,  95.0070, 4525,2874.1000,   2874.1,   1.7128,  34.7287,2,  34.7272,2,    168.1,2,    167.4,2,   125.12,2,    33.88,2,     0.00,2,     2.39,2,    0.007,2,    0.003,2, -999.000,5,   2296.7,2,   2404.2,2,   7.6274,2,    25.00,     40.7,2,  -999.00,9, -999.000,9, -999.000,-999.0000,9,-999.0000,  -999.00,9,  -999.00, -999.000,9, -999.000,   -999.0,9,   -999.0,  -999.00,9,-999.0000,9,-999.0000,9,-999.0000,9,-999.0000,9,-999.0000,9,-999.0000,9,-999.0000,9,-999.0000,9,-999.0000,9,   1.5031,   1.7137,2
  33RR20070322,  I09N,   117,  2,      5,      5,2,20070404,1526,-12.4842,  95.0070, 4525,3126.3000,   3126.3,   1.5552,  34.7255,2,  34.7245,2,    172.9,2,    172.2,2,   127.94,2,    33.77,2,     0.00,2,     2.37,2, -999.000,9, -999.000,9, -999.000,9,   2296.5,2,   2399.8,2,   7.5960,3,    25.00,     40.3,2,  -999.00,9, -999.000,9, -999.000,-999.0000,9,-999.0000,  -999.00,9,  -999.00, -999.000,9, -999.000,   -999.0,9,   -999.0,  -999.00,9,-999.0000,9,-999.0000,9,-999.0000,9,-999.0000,9,-999.0000,9,-999.0000,9,-999.0000,9,-999.0000,9,-999.0000,9,   1.3247,   1.5553,2