BOTTLE,20150630SIOCCHRJL
EXPOCODE,SECT_ID,STNNBR,CASTNO,SAMPNO,BTLNBR,BTLNBR_FLAG_W,DATE,TIME,LATITUDE,LONGITUDE,DEPTH,CTDRAW,CTDPRS,CTDTMP,CTDSAL,CTDSAL_FLAG_W,SALNTY,SALNTY_FLAG_W,CTDOXY,CTDOXY_FLAG_W,OXYGEN,OXYGEN_FLAG_W,SILCAT,SILCAT_FLAG_W,NITRAT,NITRAT_FLAG_W,NITRIT,NITRIT_FLAG_W,PHSPHT,PHSPHT_FLAG_W,CFC-11,CFC-11_FLAG_W,CFC-12,CFC-12_FLAG_W,CFC113,CFC113_FLAG_W,TCARBN,TCARBN_FLAG_W,ALKALI,ALKALI_FLAG_W,PH_SWS,PH_SWS_FLAG_W,PH_TMP,DOC,DOC_FLAG_W,TDN,TDN_FLAG_W,TRITUM,TRITUM_FLAG_W,TRITER,HELIUM,HELIUM_FLAG_W,HELIER,DELHE3,DELHE3_FLAG_W,DELHER,NEON,NEON_FLAG_W,NEONER,DELC14,DELC14_FLAG_W,C14ERR,DELC13,DELC13_FLAG_W,CDOM325,CDOM325_FLAG_W,CDOM340,CDOM340_FLAG_W,CDOM380,CDOM380_FLAG_W,CDOM412,CDOM412_FLAG_W,CDOM443,CDOM443_FLAG_W,CDOM490,CDOM490_FLAG_W,CDOM555,CDOM555_FLAG_W,CDOMSL,CDOMSL_FLAG_W,CDOMSN,CDOMSN_FLAG_W,THETA,SBE35,SBE35_FLAG_W
,,,,,,,,,,,METERS,,DBAR,ITS-90,PSS-78,,PSS-78,,UMOL/KG,,UMOL/KG,,UMOL/KG,,UMOL/KG,,UMOL/KG,,UMOL/KG,,PMOL/KG,,PMOL/KG,,PMOL/KG,,UMOL/KG,,UMOL/KG,,,,DEG C,UMOL/KG,,UMOL/KG,,TU,,TU,NMOL/KG,,NMOL/KG,PERCNT,,PERCNT,NMOL/KG,,NMOL/KG,/MILLE,,/MILLE,/MILLE,,1/M,,1/M,,1/M,,1/M,,1/M,,1/M,,1/M,,1/NM,,1/NM,,DEG C,ITS-90,
  33RR20070322,  I09N,   133,  2,      4,      4,2,20070409,1748, -4.0693,  94.7157, 4892,4088.6000,   4088.6,   1.1481,  34.7153,2,  34.7153,2,    192.7,2,    193.1,2,   125.49,2,    32.54,2,     0.00,2,     2.27,2, -999.000,9, -999.000,9, -999.000,9,   2285.8,2,   2398.6,2,   7.6116,2,    25.00,     40.5,2,    34.32,2, -999.000,9, -999.000,-999.0000,9,-999.0000,  -999.00,9,  -999.00, -999.000,9, -999.000,   -999.0,9,   -999.0,  -999.00,9,-999.0000,9,-999.0000,9,-999.0000,9,-999.0000,9,-999.0000,9,-999.0000,9,-999.0000,9,-999.0000,9,-999.0000,9,   0.8294,   1.1478,2
  33RR20070322,  I09N,   133,  2,      3,      3,2,20070409,1748, -4.0693,  94.7157, 4892,4497.1000,   4497.1,   1.1603,  34.7145,2,  34.7148,2,    195.4,2,    195.2,2,   124.52,2,    32.39,2,     0.00,2,     2.25,2,    0.007,2,    0.002,2, -999.000,5,   2282.3,2,   2397.0,2,   7.6178,2,    25.00,     40.6,2,    34.20,2, -999.000,9, -999.000,-999.0000,9,-999.0000,  -999.00,9,  -999.00, -999.000,9, -999.000,   -999.0,9,   -999.0,  -999.00,9,-999.0000,9,-999.0000,9,-999.0000,9,-999.0000,9,-999.0000,9,-999.0000,9,-999.0000,9,-999.0000,9,-999.0000,9,   0.7960,   1.1603,2
  33RR20070322,  I09N,   133,  2,      2,      2,2,20070409,1748, -4.0693,  94.7157, 4892,4853.5000,   4853.5,   1.1921,  34.7142,2,  34.7140,2,    195.6,2,    196.3,2,   124.54,2,    32.39,2,     0.00,2,     2.25,2, -999.000,9, -999.000,9, -999.000,9,   2280.8,2,   2397.4,2,   7.6377,2,    25.00,     40.7,2,    34.18,2, -999.000,9, -999.000,-999.0000,9,-999.0000,  -999.00,9,  -999.00, -999.000,9, -999.000,   -999.0,9,   -999.0,  -999.00,9,-999.0000,9,-999.0000,9,-999.0000,9,-999.0000,9,-999.0000,9,-999.0000,9,-999.0000,9,-999.0000,9,-999.0000,9,   0.7855,   1.1921,2
  33RR20070322,  I09N,   133,  2,      1,      1,2,20070409,1748, -4.0693,  94.7157, 4892,4954.8000,   4954.8,   1.2046,  34.7141,2,  34.7136,2,    195.9,2,    195.9,2,   124.55,2,    32.33,2,     0.00,2,     2.25,2,    0.004,2,    0.001,2, -999.000,5,   2282.1,6,   2402.1,6,   7.6318,6,    25.00,     40.0,2,    34.20,2, -999.000,9, -999.000,-999.0000,9,-999.0000,  -999.00,9,  -999.00, -999.000,9, -999.000,   -999.0,9,   -999.0,  -999.00,9,-999.0000,9,-999.0000,9,-999.0000,9,-999.0000,9,-999.0000,9,-999.0000,9,-999.0000,9,-999.0000,9,-999.0000,9,   0.7855,   1.2044,2