BOTTLE,20150630SIOCCHRJL
EXPOCODE,SECT_ID,STNNBR,CASTNO,SAMPNO,BTLNBR,BTLNBR_FLAG_W,DATE,TIME,LATITUDE,LONGITUDE,DEPTH,CTDRAW,CTDPRS,CTDTMP,CTDSAL,CTDSAL_FLAG_W,SALNTY,SALNTY_FLAG_W,CTDOXY,CTDOXY_FLAG_W,OXYGEN,OXYGEN_FLAG_W,SILCAT,SILCAT_FLAG_W,NITRAT,NITRAT_FLAG_W,NITRIT,NITRIT_FLAG_W,PHSPHT,PHSPHT_FLAG_W,CFC-11,CFC-11_FLAG_W,CFC-12,CFC-12_FLAG_W,CFC113,CFC113_FLAG_W,TCARBN,TCARBN_FLAG_W,ALKALI,ALKALI_FLAG_W,PH_SWS,PH_SWS_FLAG_W,PH_TMP,DOC,DOC_FLAG_W,TDN,TDN_FLAG_W,TRITUM,TRITUM_FLAG_W,TRITER,HELIUM,HELIUM_FLAG_W,HELIER,DELHE3,DELHE3_FLAG_W,DELHER,NEON,NEON_FLAG_W,NEONER,DELC14,DELC14_FLAG_W,C14ERR,DELC13,DELC13_FLAG_W,CDOM325,CDOM325_FLAG_W,CDOM340,CDOM340_FLAG_W,CDOM380,CDOM380_FLAG_W,CDOM412,CDOM412_FLAG_W,CDOM443,CDOM443_FLAG_W,CDOM490,CDOM490_FLAG_W,CDOM555,CDOM555_FLAG_W,CDOMSL,CDOMSL_FLAG_W,CDOMSN,CDOMSN_FLAG_W,THETA,SBE35,SBE35_FLAG_W
,,,,,,,,,,,METERS,,DBAR,ITS-90,PSS-78,,PSS-78,,UMOL/KG,,UMOL/KG,,UMOL/KG,,UMOL/KG,,UMOL/KG,,UMOL/KG,,PMOL/KG,,PMOL/KG,,PMOL/KG,,UMOL/KG,,UMOL/KG,,,,DEG C,UMOL/KG,,UMOL/KG,,TU,,TU,NMOL/KG,,NMOL/KG,PERCNT,,PERCNT,NMOL/KG,,NMOL/KG,/MILLE,,/MILLE,/MILLE,,1/M,,1/M,,1/M,,1/M,,1/M,,1/M,,1/M,,1/NM,,1/NM,,DEG C,ITS-90,
  33RR20070322,  I09N,    92,  2,     36,     38,2,20070327,0942,-26.5177,  94.9960, 4798,   6.0000,      6.0,  22.6850,  36.0807,2,  36.0807,2,    217.2,2,    217.8,2,     2.17,2,     0.10,2,     0.00,2,     0.10,2,    1.924,2,    1.218,2, -999.000,5,   2050.9,6,   2360.8,2,   8.0187,2,    25.00,   -999.0,9,  -999.00,9, -999.000,9, -999.000,-999.0000,9,-999.0000,  -999.00,9,  -999.00, -999.000,9, -999.000,   -999.0,9,   -999.0,  -999.00,9,-999.0000,9,-999.0000,9,-999.0000,9,-999.0000,9,-999.0000,9,-999.0000,9,-999.0000,9,-999.0000,9,-999.0000,9,  22.6838,  22.6800,2
  33RR20070322,  I09N,    92,  2,     35,     35,2,20070327,0942,-26.5177,  94.9960, 4798,  36.0000,     36.0,  22.6881,  36.0803,2,  36.0797,2,    217.7,2,    217.1,2,     2.15,2,     0.10,2,     0.00,2,     0.10,2,    1.922,2,    1.216,2, -999.000,5,   2050.4,2,   2361.8,6,   8.0253,2,    25.00,   -999.0,9,  -999.00,9, -999.000,9, -999.000,-999.0000,9,-999.0000,  -999.00,9,  -999.00, -999.000,9, -999.000,   -999.0,9,   -999.0,  -999.00,9,-999.0000,9,-999.0000,9,-999.0000,9,-999.0000,9,-999.0000,9,-999.0000,9,-999.0000,9,-999.0000,9,-999.0000,9,  22.6808,  22.6752,2
  33RR20070322,  I09N,    92,  2,     34,   9419,2,20070327,0942,-26.5177,  94.9960, 4798,  60.2000,     60.2,  22.0097,  36.0370,2,  36.0513,2,    221.7,2,    222.0,2,     1.93,2,     0.10,2,     0.00,2,     0.10,2,    2.042,2,    1.261,2, -999.000,5,   -999.0,9,   -999.0,9,-999.0000,9,  -999.00,   -999.0,9,  -999.00,9, -999.000,9, -999.000,-999.0000,9,-999.0000,  -999.00,9,  -999.00, -999.000,9, -999.000,   -999.0,9,   -999.0,  -999.00,9,-999.0000,9,-999.0000,9,-999.0000,9,-999.0000,9,-999.0000,9,-999.0000,9,-999.0000,9,-999.0000,9,-999.0000,9,  21.9977,  22.1868,2
  33RR20070322,  I09N,    92,  2,     33,     33,2,20070327,0942,-26.5177,  94.9960, 4798,  85.2000,     85.2,  18.7020,  35.8563,2,  35.8568,2,    248.3,2,    249.0,2,     1.51,2,     0.10,2,     0.00,2,     0.13,2,    2.468,2,    1.515,2, -999.000,5,   -999.0,9,   -999.0,9,-999.0000,9,  -999.00,   -999.0,9,  -999.00,9, -999.000,9, -999.000,-999.0000,9,-999.0000,  -999.00,9,  -999.00, -999.000,9, -999.000,   -999.0,9,   -999.0,  -999.00,9,-999.0000,9,-999.0000,9,-999.0000,9,-999.0000,9,-999.0000,9,-999.0000,9,-999.0000,9,-999.0000,9,-999.0000,9,  18.6869,  18.7986,2
  33RR20070322,  I09N,    92,  2,     32,     37,2,20070327,0942,-26.5177,  94.9960, 4798, 110.0000,    110.0,  17.0245,  35.7459,2,  35.7523,2,    249.2,2,    247.4,2,     1.49,2,     0.09,2,     0.00,2,     0.16,2,    2.606,2,    1.573,2, -999.000,5,   2071.8,2,   2345.9,6,   7.9636,2,    25.00,   -999.0,9,  -999.00,9, -999.000,9, -999.000,-999.0000,9,-999.0000,  -999.00,9,  -999.00, -999.000,9, -999.000,   -999.0,9,   -999.0,  -999.00,9,-999.0000,9,-999.0000,9,-999.0000,9,-999.0000,9,-999.0000,9,-999.0000,9,-999.0000,9,-999.0000,9,-999.0000,9,  17.0063,  16.9792,2
  33RR20070322,  I09N,    92,  2,     31,     31,2,20070327,0942,-26.5177,  94.9960, 4798, 161.7000,    161.7,  15.1677,  35.5586,2,  35.5630,2,    233.5,2,    235.6,2,     1.67,2,     2.03,2,     0.54,2,     0.33,2, -999.000,9, -999.000,9, -999.000,9,   -999.0,9,   -999.0,9,-999.0000,9,  -999.00,   -999.0,9,  -999.00,9, -999.000,9, -999.000,-999.0000,9,-999.0000,  -999.00,9,  -999.00, -999.000,9, -999.000,   -999.0,9,   -999.0,  -999.00,9,-999.0000,9,-999.0000,9,-999.0000,9,-999.0000,9,-999.0000,9,-999.0000,9,-999.0000,9,-999.0000,9,-999.0000,9,  15.1429,  15.1783,2
  33RR20070322,  I09N,    92,  2,     30,     30,2,20070327,0942,-26.5177,  94.9960, 4798, 209.8000,    209.8,  14.0267,  35.4111,2,  35.4182,2,    224.9,2,    227.4,2,     2.26,2,     5.55,2,     0.01,2,     0.50,2,    2.989,2,    1.761,2, -999.000,5,   -999.0,9,   -999.0,9,-999.0000,9,  -999.00,   -999.0,9,  -999.00,9, -999.000,9, -999.000,-999.0000,9,-999.0000,  -999.00,9,  -999.00, -999.000,9, -999.000,   -999.0,9,   -999.0,  -999.00,9,-999.0000,9,-999.0000,9,-999.0000,9,-999.0000,9,-999.0000,9,-999.0000,9,-999.0000,9,-999.0000,9,-999.0000,9,  13.9962,  14.0246,2
  33RR20070322,  I09N,    92,  2,     29,     29,2,20070327,0942,-26.5177,  94.9960, 4798, 260.5000,    260.5,  13.1649,  35.3041,2,  35.2987,4,    228.2,2,    229.8,2,     2.64,2,     7.04,2,     0.01,2,     0.60,2, -999.000,9, -999.000,9, -999.000,9,   2106.1,2,   2320.3,6,   7.8473,2,    25.00,   -999.0,9,  -999.00,9, -999.000,9, -999.000,-999.0000,9,-999.0000,  -999.00,9,  -999.00, -999.000,9, -999.000,   -999.0,9,   -999.0,  -999.00,9,-999.0000,9,-999.0000,9,-999.0000,9,-999.0000,9,-999.0000,9,-999.0000,9,-999.0000,9,-999.0000,9,-999.0000,9,  13.1286,  13.1588,2
  33RR20070322,  I09N,    92,  2,     28,     28,2,20070327,0942,-26.5177,  94.9960, 4798, 310.2000,    310.2,  12.2684,  35.1630,2,  35.1664,2,    232.1,2,    234.5,2,     2.62,2,     8.58,2,     0.00,2,     0.68,2,    3.248,2,    1.886,2, -999.000,5,   -999.0,9,   -999.0,9,-999.0000,9,  -999.00,   -999.0,9,  -999.00,9, -999.000,9, -999.000,-999.0000,9,-999.0000,  -999.00,9,  -999.00, -999.000,9, -999.000,   -999.0,9,   -999.0,  -999.00,9,-999.0000,9,-999.0000,9,-999.0000,9,-999.0000,9,-999.0000,9,-999.0000,9,-999.0000,9,-999.0000,9,-999.0000,9,  12.2271,  12.2826,2
  33RR20070322,  I09N,    92,  2,     27,     27,2,20070327,0942,-26.5177,  94.9960, 4798, 359.9000,    359.9,  11.3804,  35.0147,2,  33.0560,4,    235.7,2,    237.3,2,     3.20,2,    10.70,2,     0.00,2,     0.81,2, -999.000,9, -999.000,9, -999.000,9,   -999.0,9,   -999.0,9,-999.0000,9,  -999.00,   -999.0,9,  -999.00,9, -999.000,9, -999.000,-999.0000,9,-999.0000,  -999.00,9,  -999.00, -999.000,9, -999.000,   -999.0,9,   -999.0,  -999.00,9,-999.0000,9,-999.0000,9,-999.0000,9,-999.0000,9,-999.0000,9,-999.0000,9,-999.0000,9,-999.0000,9,-999.0000,9,  11.3347,  11.3757,2
  33RR20070322,  I09N,    92,  2,     26,     26,2,20070327,0942,-26.5177,  94.9960, 4798, 410.4000,    410.4,  10.8456,  34.9264,2,  34.9294,2,    239.2,2,    239.6,2,     3.58,2,    11.98,2,     0.00,2,     0.88,2,    3.489,2,    1.953,2, -999.000,5,   -999.0,9,   -999.0,9,-999.0000,9,  -999.00,   -999.0,9,  -999.00,9, -999.000,9, -999.000,-999.0000,9,-999.0000,  -999.00,9,  -999.00, -999.000,9, -999.000,   -999.0,9,   -999.0,  -999.00,9,-999.0000,9,-999.0000,9,-999.0000,9,-999.0000,9,-999.0000,9,-999.0000,9,-999.0000,9,-999.0000,9,-999.0000,9,  10.7950,  10.8440,2
  33RR20070322,  I09N,    92,  2,     25,     25,2,20070327,0942,-26.5177,  94.9960, 4798, 460.8000,    460.8,  10.3113,  34.8400,2,  34.8444,2,    241.6,2,    241.5,2,     3.98,2,    13.25,2,     0.00,2,     0.96,2, -999.000,9, -999.000,9, -999.000,9,   -999.0,9,   -999.0,9,-999.0000,9,  -999.00,   -999.0,9,  -999.00,9, -999.000,9, -999.000,-999.0000,9,-999.0000,  -999.00,9,  -999.00, -999.000,9, -999.000,   -999.0,9,   -999.0,  -999.00,9,-999.0000,9,-999.0000,9,-999.0000,9,-999.0000,9,-999.0000,9,-999.0000,9,-999.0000,9,-999.0000,9,-999.0000,9,  10.2562,  10.3113,2
  33RR20070322,  I09N,    92,  2,     24,     24,2,20070327,0942,-26.5177,  94.9960, 4798, 511.4000,    511.4,   9.8871,  34.7726,2,  34.7758,2,    243.0,2,    242.4,2,     4.15,2,    14.43,2,     0.00,2,     1.04,2,    3.650,2,    2.022,2, -999.000,5,   2118.0,2,   2292.9,6,   7.7702,2,    25.00,   -999.0,9,  -999.00,9, -999.000,9, -999.000,-999.0000,9,-999.0000,  -999.00,9,  -999.00, -999.000,9, -999.000,   -999.0,9,   -999.0,  -999.00,9,-999.0000,9,-999.0000,9,-999.0000,9,-999.0000,9,-999.0000,9,-999.0000,9,-999.0000,9,-999.0000,9,-999.0000,9,   9.8274,   9.8898,2
  33RR20070322,  I09N,    92,  2,     23,     23,2,20070327,0942,-26.5177,  94.9960, 4798, 610.0000,    610.0,   9.1345,  34.6640,2,  34.6681,2,    239.9,2,    236.1,2,     5.54,2,    17.19,2,     0.00,2,     1.20,2,    3.534,2,    1.924,2, -999.000,5,   -999.0,9,   -999.0,9,-999.0000,9,  -999.00,   -999.0,9,  -999.00,9, -999.000,9, -999.000,-999.0000,9,-999.0000,  -999.00,9,  -999.00, -999.000,9, -999.000,   -999.0,9,   -999.0,  -999.00,9,-999.0000,9,-999.0000,9,-999.0000,9,-999.0000,9,-999.0000,9,-999.0000,9,-999.0000,9,-999.0000,9,-999.0000,9,   9.0663,   9.1410,2
  33RR20070322,  I09N,    92,  2,     22,     22,2,20070327,0942,-26.5177,  94.9960, 4798, 712.9000,    712.9,   8.1333,  34.5581,2,  34.5582,2,    223.2,2,    217.6,2,     9.95,2,    21.46,2,     0.00,2,     1.49,2,    2.908,2,    1.515,2, -999.000,5,   -999.0,9,   -999.0,9,-999.0000,9,  -999.00,   -999.0,9,  -999.00,9, -999.000,9, -999.000,-999.0000,9,-999.0000,  -999.00,9,  -999.00, -999.000,9, -999.000,   -999.0,9,   -999.0,  -999.00,9,-999.0000,9,-999.0000,9,-999.0000,9,-999.0000,9,-999.0000,9,-999.0000,9,-999.0000,9,-999.0000,9,-999.0000,9,   8.0585,   8.1395,2
  33RR20070322,  I09N,    92,  2,     21,     21,2,20070327,0942,-26.5177,  94.9960, 4798, 811.0000,    811.0,   6.7216,  34.4602,2,  34.4608,2,    202.6,2,    199.2,2,    19.17,2,    26.25,2,     0.00,2,     1.80,2,    1.927,2,    0.986,2, -999.000,5,   -999.0,9,   -999.0,9,-999.0000,9,  -999.00,   -999.0,9,  -999.00,9, -999.000,9, -999.000,-999.0000,9,-999.0000,  -999.00,9,  -999.00, -999.000,9, -999.000,   -999.0,9,   -999.0,  -999.00,9,-999.0000,9,-999.0000,9,-999.0000,9,-999.0000,9,-999.0000,9,-999.0000,9,-999.0000,9,-999.0000,9,-999.0000,9,   6.6446,   6.7229,2
  33RR20070322,  I09N,    92,  2,     20,     20,2,20070327,0942,-26.5177,  94.9960, 4798, 911.9000,    911.9,   5.4352,  34.4208,2,  34.4208,2,    187.6,2,    185.1,2,    32.63,2,    30.16,2,     0.00,2,     2.08,2,    1.191,2,    0.603,2, -999.000,5,   -999.0,9,   -999.0,9,-999.0000,9,  -999.00,   -999.0,9,  -999.00,9, -999.000,9, -999.000,-999.0000,9,-999.0000,  -999.00,9,  -999.00, -999.000,9, -999.000,   -999.0,9,   -999.0,  -999.00,9,-999.0000,9,-999.0000,9,-999.0000,9,-999.0000,9,-999.0000,9,-999.0000,9,-999.0000,9,-999.0000,9,-999.0000,9,   5.3569,   5.4339,2
  33RR20070322,  I09N,    92,  2,     19,     19,2,20070327,0942,-26.5177,  94.9960, 4798,1011.4000,   1011.4,   4.4902,  34.4464,2,  34.4471,2,    167.1,2,    168.1,2,    50.33,2,    32.91,2,     0.00,2,     2.32,2,    0.553,2,    0.281,2, -999.000,5,   2221.3,6,   -999.0,5,   7.5866,2,    25.00,   -999.0,9,  -999.00,9, -999.000,9, -999.000,-999.0000,9,-999.0000,  -999.00,9,  -999.00, -999.000,9, -999.000,   -999.0,9,   -999.0,  -999.00,9,-999.0000,9,-999.0000,9,-999.0000,9,-999.0000,9,-999.0000,9,-999.0000,9,-999.0000,9,-999.0000,9,-999.0000,9,   4.4099,   4.4878,2
  33RR20070322,  I09N,    92,  2,     18,     18,2,20070327,0942,-26.5177,  94.9960, 4798,1112.9000,   1112.9,   4.0574,  34.4835,2,  34.4836,2,    156.2,2,    157.0,2,    61.22,2,    34.00,2,     0.00,2,     2.40,2, -999.000,9, -999.000,9, -999.000,9,   -999.0,9,   -999.0,9,-999.0000,9,  -999.00,   -999.0,9,  -999.00,9, -999.000,9, -999.000,-999.0000,9,-999.0000,  -999.00,9,  -999.00, -999.000,9, -999.000,   -999.0,9,   -999.0,  -999.00,9,-999.0000,9,-999.0000,9,-999.0000,9,-999.0000,9,-999.0000,9,-999.0000,9,-999.0000,9,-999.0000,9,-999.0000,9,   3.9718,   4.0571,2
  33RR20070322,  I09N,    92,  2,     17,     17,2,20070327,0942,-26.5177,  94.9960, 4798,1213.2000,   1213.2,   3.7638,  34.5440,2,  34.5443,2,    144.2,2,    143.9,2,    73.93,2,    34.98,2,     0.00,2,     2.50,2,    0.090,2,    0.052,2, -999.000,5,   -999.0,9,   -999.0,9,-999.0000,9,  -999.00,   -999.0,9,  -999.00,9, -999.000,9, -999.000,-999.0000,9,-999.0000,  -999.00,9,  -999.00, -999.000,9, -999.000,   -999.0,9,   -999.0,  -999.00,9,-999.0000,9,-999.0000,9,-999.0000,9,-999.0000,9,-999.0000,9,-999.0000,9,-999.0000,9,-999.0000,9,-999.0000,9,   3.6722,   3.7634,2
  33RR20070322,  I09N,    92,  2,     16,     16,2,20070327,0942,-26.5177,  94.9960, 4798,1314.6000,   1314.6,   3.5212,  34.5734,2,  34.5791,4,    142.8,2,    142.7,2,    79.19,2,    35.23,2,     0.00,2,     2.50,2, -999.000,9, -999.000,9, -999.000,9,   -999.0,9,   -999.0,9,-999.0000,9,  -999.00,   -999.0,9,  -999.00,9, -999.000,9, -999.000,-999.0000,9,-999.0000,  -999.00,9,  -999.00, -999.000,9, -999.000,   -999.0,9,   -999.0,  -999.00,9,-999.0000,9,-999.0000,9,-999.0000,9,-999.0000,9,-999.0000,9,-999.0000,9,-999.0000,9,-999.0000,9,-999.0000,9,   3.4233,   3.5219,2
  33RR20070322,  I09N,    92,  2,     15,     15,2,20070327,0942,-26.5177,  94.9960, 4798,1412.7000,   1412.7,   3.2797,  34.6059,2,  34.6052,2,    144.8,2,    144.7,2,    84.04,2,    35.17,2,     0.00,2,     2.50,2, -999.000,9, -999.000,9, -999.000,9,   -999.0,9,   -999.0,9,-999.0000,9,  -999.00,   -999.0,9,  -999.00,9, -999.000,9, -999.000,-999.0000,9,-999.0000,  -999.00,9,  -999.00, -999.000,9, -999.000,   -999.0,9,   -999.0,  -999.00,9,-999.0000,9,-999.0000,9,-999.0000,9,-999.0000,9,-999.0000,9,-999.0000,9,-999.0000,9,-999.0000,9,-999.0000,9,   3.1760,   3.2781,2
  33RR20070322,  I09N,    92,  2,     14,     14,2,20070327,0942,-26.5177,  94.9960, 4798,1515.0000,   1515.0,   3.0987,  34.6326,2,  34.6323,2,    146.5,2,    146.4,2,    87.27,2,    34.95,2,     0.00,2,     2.48,2,    0.018,2,    0.010,2, -999.000,5,   -999.0,9,   -999.0,9,-999.0000,9,  -999.00,   -999.0,9,  -999.00,9, -999.000,9, -999.000,-999.0000,9,-999.0000,  -999.00,9,  -999.00, -999.000,9, -999.000,   -999.0,9,   -999.0,  -999.00,9,-999.0000,9,-999.0000,9,-999.0000,9,-999.0000,9,-999.0000,9,-999.0000,9,-999.0000,9,-999.0000,9,-999.0000,9,   2.9883,   3.0972,2
  33RR20070322,  I09N,    92,  2,     13,     13,2,20070327,0942,-26.5177,  94.9960, 4798,1615.6000,   1615.6,   2.9267,  34.6589,2,  34.6590,2,    149.0,2,    149.3,2,    91.33,2,    34.62,2,     0.00,2,     2.45,2, -999.000,9, -999.000,9, -999.000,9,   -999.0,9,   -999.0,9,-999.0000,9,  -999.00,   -999.0,9,  -999.00,9, -999.000,9, -999.000,-999.0000,9,-999.0000,  -999.00,9,  -999.00, -999.000,9, -999.000,   -999.0,9,   -999.0,  -999.00,9,-999.0000,9,-999.0000,9,-999.0000,9,-999.0000,9,-999.0000,9,-999.0000,9,-999.0000,9,-999.0000,9,-999.0000,9,   2.8098,   2.9269,2
  33RR20070322,  I09N,    92,  2,     12,     12,2,20070327,0942,-26.5177,  94.9960, 4798,1717.0000,   1717.0,   2.7858,  34.6788,2,  34.6789,2,    151.5,2,    151.4,2,    95.38,2,    34.36,2,     0.00,2,     2.44,2, -999.000,9, -999.000,9, -999.000,9,   -999.0,9,   -999.0,9,-999.0000,9,  -999.00,   -999.0,9,  -999.00,9, -999.000,9, -999.000,-999.0000,9,-999.0000,  -999.00,9,  -999.00, -999.000,9, -999.000,   -999.0,9,   -999.0,  -999.00,9,-999.0000,9,-999.0000,9,-999.0000,9,-999.0000,9,-999.0000,9,-999.0000,9,-999.0000,9,-999.0000,9,-999.0000,9,   2.6620,   2.7859,2
  33RR20070322,  I09N,    92,  2,     11,     11,2,20070327,0942,-26.5177,  94.9960, 4798,1817.6000,   1817.6,   2.6359,  34.6937,2,  34.6946,2,    155.1,2,    154.9,2,    98.22,2,    34.14,2,     0.00,2,     2.42,2,    0.008,2,    0.004,2, -999.000,5,   -999.0,9,   -999.0,9,-999.0000,9,  -999.00,   -999.0,9,  -999.00,9, -999.000,9, -999.000,-999.0000,9,-999.0000,  -999.00,9,  -999.00, -999.000,9, -999.000,   -999.0,9,   -999.0,  -999.00,9,-999.0000,9,-999.0000,9,-999.0000,9,-999.0000,9,-999.0000,9,-999.0000,9,-999.0000,9,-999.0000,9,-999.0000,9,   2.5055,   2.6359,2
  33RR20070322,  I09N,    92,  2,     10,     10,2,20070327,0942,-26.5177,  94.9960, 4798,2020.5000,   2020.5,   2.3468,  34.7140,2,  34.7142,2,    161.0,2,    163.4,4,   103.92,2,    33.71,2,     0.00,2,     2.39,2, -999.000,9, -999.000,9, -999.000,9,   -999.0,9,   -999.0,9,-999.0000,9,  -999.00,   -999.0,9,  -999.00,9, -999.000,9, -999.000,-999.0000,9,-999.0000,  -999.00,9,  -999.00, -999.000,9, -999.000,   -999.0,9,   -999.0,  -999.00,9,-999.0000,9,-999.0000,9,-999.0000,9,-999.0000,9,-999.0000,9,-999.0000,9,-999.0000,9,-999.0000,9,-999.0000,9,   2.2030,   2.3463,2
  33RR20070322,  I09N,    92,  2,      9,      9,2,20070327,0942,-26.5177,  94.9960, 4798,2271.9000,   2271.9,   2.1030,  34.7243,2,  34.7244,2,    166.0,2,    166.6,2,   109.43,2,    33.55,2,     0.00,2,     2.36,2, -999.000,9, -999.000,9, -999.000,9,   -999.0,9,   -999.0,9,-999.0000,9,  -999.00,   -999.0,9,  -999.00,9, -999.000,9, -999.000,-999.0000,9,-999.0000,  -999.00,9,  -999.00, -999.000,9, -999.000,   -999.0,9,   -999.0,  -999.00,9,-999.0000,9,-999.0000,9,-999.0000,9,-999.0000,9,-999.0000,9,-999.0000,9,-999.0000,9,-999.0000,9,-999.0000,9,   1.9411,   2.1046,2
  33RR20070322,  I09N,    92,  2,      8,      8,2,20070327,0942,-26.5177,  94.9960, 4798,2524.7000,   2524.7,   1.8928,  34.7281,2,  34.7284,2,    173.3,2,    174.1,2,   111.46,2,    33.18,2,     0.00,2,     2.34,2,    0.005,2,    0.002,2, -999.000,5,   -999.0,9,   -999.0,9,-999.0000,9,  -999.00,   -999.0,9,  -999.00,9, -999.000,9, -999.000,-999.0000,9,-999.0000,  -999.00,9,  -999.00, -999.000,9, -999.000,   -999.0,9,   -999.0,  -999.00,9,-999.0000,9,-999.0000,9,-999.0000,9,-999.0000,9,-999.0000,9,-999.0000,9,-999.0000,9,-999.0000,9,-999.0000,9,   1.7119,   1.8920,2
  33RR20070322,  I09N,    92,  2,      7,      7,2,20070327,0942,-26.5177,  94.9960, 4798,2778.1000,   2778.1,   1.7147,  34.7290,2,  34.7264,4,    179.5,2,    180.0,2,   114.10,2,    32.86,4,     0.00,2,     2.31,2, -999.000,9, -999.000,9, -999.000,9,   -999.0,9,   -999.0,9,-999.0000,9,  -999.00,   -999.0,9,  -999.00,9, -999.000,9, -999.000,-999.0000,9,-999.0000,  -999.00,9,  -999.00, -999.000,9, -999.000,   -999.0,9,   -999.0,  -999.00,9,-999.0000,9,-999.0000,9,-999.0000,9,-999.0000,9,-999.0000,9,-999.0000,9,-999.0000,9,-999.0000,9,-999.0000,9,   1.5140,   1.7143,2
  33RR20070322,  I09N,    92,  2,      6,      6,2,20070327,0942,-26.5177,  94.9960, 4798,3031.7000,   3031.7,   1.5669,  34.7276,2,  34.7150,4,    182.7,2,    182.9,2,   117.38,2,    33.01,2,     0.00,2,     2.31,2, -999.000,9, -999.000,9, -999.000,9,   -999.0,9,   -999.0,9,-999.0000,9,  -999.00,   -999.0,9,  -999.00,9, -999.000,9, -999.000,-999.0000,9,-999.0000,  -999.00,9,  -999.00, -999.000,9, -999.000,   -999.0,9,   -999.0,  -999.00,9,-999.0000,9,-999.0000,9,-999.0000,9,-999.0000,9,-999.0000,9,-999.0000,9,-999.0000,9,-999.0000,9,-999.0000,9,   1.3453,   1.5672,2
  33RR20070322,  I09N,    92,  2,      5,      5,2,20070327,0942,-26.5177,  94.9960, 4798,3437.1000,   3437.1,   1.3777,  34.7235,2,  34.7237,2,    188.1,2,    189.2,2,   121.06,2,    32.84,2,     0.00,2,     2.30,2,    0.000,2,    0.001,2, -999.000,5,   -999.0,9,   -999.0,9,-999.0000,9,  -999.00,   -999.0,9,  -999.00,9, -999.000,9, -999.000,-999.0000,9,-999.0000,  -999.00,9,  -999.00, -999.000,9, -999.000,   -999.0,9,   -999.0,  -999.00,9,-999.0000,9,-999.0000,9,-999.0000,9,-999.0000,9,-999.0000,9,-999.0000,9,-999.0000,9,-999.0000,9,-999.0000,9,   1.1207,   1.3775,2