BOTTLE,20150630SIOCCHRJL
EXPOCODE,SECT_ID,STNNBR,CASTNO,SAMPNO,BTLNBR,BTLNBR_FLAG_W,DATE,TIME,LATITUDE,LONGITUDE,DEPTH,CTDRAW,CTDPRS,CTDTMP,CTDSAL,CTDSAL_FLAG_W,SALNTY,SALNTY_FLAG_W,CTDOXY,CTDOXY_FLAG_W,OXYGEN,OXYGEN_FLAG_W,SILCAT,SILCAT_FLAG_W,NITRAT,NITRAT_FLAG_W,NITRIT,NITRIT_FLAG_W,PHSPHT,PHSPHT_FLAG_W,CFC-11,CFC-11_FLAG_W,CFC-12,CFC-12_FLAG_W,CFC113,CFC113_FLAG_W,TCARBN,TCARBN_FLAG_W,ALKALI,ALKALI_FLAG_W,PH_SWS,PH_SWS_FLAG_W,PH_TMP,DOC,DOC_FLAG_W,TDN,TDN_FLAG_W,TRITUM,TRITUM_FLAG_W,TRITER,HELIUM,HELIUM_FLAG_W,HELIER,DELHE3,DELHE3_FLAG_W,DELHER,NEON,NEON_FLAG_W,NEONER,DELC14,DELC14_FLAG_W,C14ERR,DELC13,DELC13_FLAG_W,CDOM325,CDOM325_FLAG_W,CDOM340,CDOM340_FLAG_W,CDOM380,CDOM380_FLAG_W,CDOM412,CDOM412_FLAG_W,CDOM443,CDOM443_FLAG_W,CDOM490,CDOM490_FLAG_W,CDOM555,CDOM555_FLAG_W,CDOMSL,CDOMSL_FLAG_W,CDOMSN,CDOMSN_FLAG_W,THETA,SBE35,SBE35_FLAG_W
,,,,,,,,,,,METERS,,DBAR,ITS-90,PSS-78,,PSS-78,,UMOL/KG,,UMOL/KG,,UMOL/KG,,UMOL/KG,,UMOL/KG,,UMOL/KG,,PMOL/KG,,PMOL/KG,,PMOL/KG,,UMOL/KG,,UMOL/KG,,,,DEG C,UMOL/KG,,UMOL/KG,,TU,,TU,NMOL/KG,,NMOL/KG,PERCNT,,PERCNT,NMOL/KG,,NMOL/KG,/MILLE,,/MILLE,/MILLE,,1/M,,1/M,,1/M,,1/M,,1/M,,1/M,,1/M,,1/NM,,1/NM,,DEG C,ITS-90,
  33RR20070322,  I09N,   157,  1,     36,     38,2,20070416,0019,  4.2863,  91.0460, 2686,   3.0000,      3.0,  30.0327,  34.0581,2,  34.0591,2,    194.8,2,    195.2,2,     1.25,2,     0.06,2,     0.00,2,     0.08,2,    1.465,2,    0.960,2, -999.000,5,   1903.3,6,   2233.8,6,   8.1264,6,    25.00,     71.3,2,     4.55,2, -999.000,9, -999.000,-999.0000,9,-999.0000,  -999.00,9,  -999.00, -999.000,9, -999.000,   -999.0,9,   -999.0,  -999.00,9,   0.0653,2,   0.0441,2,   0.0209,2,   0.0158,2,  -0.0010,4,  -0.0016,4,  -0.0033,4,   0.0096,3,   0.0181,3,  30.0320,  30.0283,2
  33RR20070322,  I09N,   157,  1,     35,     35,2,20070416,0019,  4.2863,  91.0460, 2686,  19.2000,     19.2,  30.0291,  34.0579,2,  34.0587,2,    195.9,2,    195.5,2,     1.22,2,     0.01,2,     0.00,2,     0.07,2,    1.480,2,    0.967,2, -999.000,5,   1903.5,2,   -999.0,5,   8.0866,2,    25.00,     70.5,2,     4.78,2, -999.000,9, -999.000,-999.0000,9,-999.0000,  -999.00,9,  -999.00, -999.000,9, -999.000,   -999.0,9,   -999.0,  -999.00,9,   0.0640,2,   0.0434,2,   0.0201,2,   0.0146,2,  -0.0027,4,  -0.0029,4,  -0.0037,4,   0.0090,3,   0.0196,3,  30.0243,  30.0240,2
  33RR20070322,  I09N,   157,  1,     34,   9419,2,20070416,0019,  4.2863,  91.0460, 2686,  44.5000,     44.5,  28.0390,  34.5501,2,  34.5458,2,    191.8,2,    192.1,2,     1.98,2,     0.01,2,     0.00,2,     0.16,2,    1.553,2,    0.997,2, -999.000,5,   1954.9,2,   2262.3,2,   8.0706,2,    25.00,     65.7,2,     4.65,2, -999.000,9, -999.000,-999.0000,9,-999.0000,  -999.00,9,  -999.00, -999.000,9, -999.000,   -999.0,9,   -999.0,  -999.00,9,   0.1426,2,   0.1030,2,   0.0548,2,   0.0401,2,   0.0119,2,   0.0040,2,  -0.0003,4,   0.0125,3,   0.0152,3,  28.0285,  28.0424,2
  33RR20070322,  I09N,   157,  1,     33,     33,2,20070416,0019,  4.2863,  91.0460, 2686,  88.6000,     88.6,  23.3417,  35.2892,2,  35.2933,2,    104.4,2,     94.3,2,     8.30,2,    12.74,2,     1.38,2,     1.08,2,    1.503,2,    0.936,2, -999.000,5,   2103.4,2,   2302.8,2,   7.8538,2,    25.00,     57.2,2,    18.52,2, -999.000,9, -999.000,-999.0000,9,-999.0000,  -999.00,9,  -999.00, -999.000,9, -999.000,   -999.0,9,   -999.0,  -999.00,9,   0.2022,2,   0.1508,2,   0.0818,2,   0.0602,2,   0.0211,2,   0.0066,2,   0.0009,2,   0.0138,3,   0.0150,3,  23.3234,  23.3969,2
  33RR20070322,  I09N,   157,  1,     32,     37,2,20070416,0019,  4.2863,  91.0460, 2686, 138.9000,    138.9,  17.7345,  35.0870,2,  35.0973,2,     32.3,2,     30.1,2,    19.97,2,    25.66,2,     0.03,2,     1.86,2,    1.209,2,    0.716,2, -999.000,5,   2188.0,2,   2302.2,2,   7.6322,2,    25.00,     53.9,2,    29.32,2, -999.000,9, -999.000,-999.0000,9,-999.0000,  -999.00,9,  -999.00, -999.000,9, -999.000,   -999.0,9,   -999.0,  -999.00,9,   0.1837,2,   0.1351,2,   0.0777,2,   0.0604,2,   0.0232,2,   0.0077,2,   0.0011,2,   0.0142,3,   0.0138,3,  17.7109,  17.7594,2
  33RR20070322,  I09N,   157,  1,     31,     31,2,20070416,0019,  4.2863,  91.0460, 2686, 163.7000,    163.7,  15.5954,  35.0832,2,  35.0843,2,     28.4,2,     29.5,2,    23.11,2,    27.71,2,     0.01,2,     1.99,2,    1.100,2,    0.651,2, -999.000,5,   -999.0,9,   -999.0,9,-999.0000,9,  -999.00,     52.2,2,    31.23,2, -999.000,9, -999.000,-999.0000,9,-999.0000,  -999.00,9,  -999.00, -999.000,9, -999.000,   -999.0,9,   -999.0,  -999.00,9,   0.1783,2,   0.1324,2,   0.0780,2,   0.0610,2,   0.0239,2,   0.0073,2,   0.0008,2,   0.0141,3,   0.0134,3,  15.5699,  15.5973,2
  33RR20070322,  I09N,   157,  1,     30,     30,2,20070416,0019,  4.2863,  91.0460, 2686, 188.5000,    188.5,  14.2441,  35.0411,2,  35.0416,2,     31.4,2,     31.9,2,    26.26,2,    28.99,2,     0.00,2,     2.06,2,    0.935,2,    0.549,2, -999.000,5,   2218.8,2,   2303.2,2,   7.5515,2,    25.00,     50.6,2,    32.48,2, -999.000,9, -999.000,-999.0000,9,-999.0000,  -999.00,9,  -999.00, -999.000,9, -999.000,   -999.0,9,   -999.0,  -999.00,9,   0.1753,2,   0.1303,2,   0.0778,2,   0.0609,2,   0.0245,2,   0.0071,2,   0.0006,3,   0.0141,3,   0.0132,3,  14.2165,  14.2618,2
  33RR20070322,  I09N,   157,  1,     29,     29,2,20070416,0019,  4.2863,  91.0460, 2686, 238.4000,    238.4,  13.0702,  35.0622,2,  35.0542,2,     29.7,2,     29.9,2,    28.21,2,    30.07,2,     0.00,2,     2.14,2,    0.837,2,    0.482,2, -999.000,5,   2231.1,2,   2310.2,2,   7.5347,2,    25.00,     49.8,2,    33.17,2, -999.000,9, -999.000,-999.0000,9,-999.0000,  -999.00,9,  -999.00, -999.000,9, -999.000,   -999.0,9,   -999.0,  -999.00,9,   0.1814,2,   0.1361,2,   0.0827,2,   0.0643,2,   0.0277,2,   0.0092,2,   0.0016,2,   0.0137,3,   0.0128,3,  13.0372,  13.0778,2
  33RR20070322,  I09N,   157,  1,     28,     28,2,20070416,0019,  4.2863,  91.0460, 2686, 288.1000,    288.1,  12.2931,  35.0860,2,  35.0862,2,     38.1,2,     37.8,2,    27.18,2,    30.01,2,     0.00,2,     2.12,2,    0.882,2,    0.494,2, -999.000,5,   2233.8,2,   2307.8,2,   7.5214,2,    25.00,     49.1,2,    33.30,2, -999.000,9, -999.000,-999.0000,9,-999.0000,  -999.00,9,  -999.00, -999.000,9, -999.000,   -999.0,9,   -999.0,  -999.00,9,   0.1721,2,   0.1287,2,   0.0782,2,   0.0620,2,   0.0255,2,   0.0073,2,   0.0003,4,   0.0139,3,   0.0129,3,  12.2547,  12.3004,2
  33RR20070322,  I09N,   157,  1,     27,     27,2,20070416,0019,  4.2863,  91.0460, 2686, 338.7000,    338.7,  11.7613,  35.0782,2,  35.0778,2,     38.8,2,     38.6,2,    29.14,2,    30.73,2,     0.00,2,     2.16,2,    0.811,2,    0.457,2, -999.000,5,   2238.9,2,   2314.5,2,   7.5200,2,    25.00,     48.6,2,    34.45,2, -999.000,9, -999.000,-999.0000,9,-999.0000,  -999.00,9,  -999.00, -999.000,9, -999.000,   -999.0,9,   -999.0,  -999.00,9,   0.1828,2,   0.1382,2,   0.0872,2,   0.0719,2,   0.0326,2,   0.0100,2,   0.0016,2,   0.0136,3,   0.0120,3,  11.7174,  11.7640,2
  33RR20070322,  I09N,   157,  1,     26,     26,2,20070416,0019,  4.2863,  91.0460, 2686, 388.8000,    388.8,  11.1677,  35.0555,2,  35.0563,2,     38.9,2,     38.6,2,    31.88,2,    31.75,2,     0.00,2,     2.23,2,    0.634,2,    0.361,2, -999.000,5,   2245.6,2,   2315.6,2,   7.5093,2,    25.00,     47.9,2,    34.86,2, -999.000,9, -999.000,-999.0000,9,-999.0000,  -999.00,9,  -999.00, -999.000,9, -999.000,   -999.0,9,   -999.0,  -999.00,9,   0.1811,2,   0.1365,2,   0.0860,2,   0.0706,2,   0.0325,2,   0.0101,2,   0.0015,2,   0.0136,3,   0.0120,3,  11.1188,  11.1662,2
  33RR20070322,  I09N,   157,  1,     25,     25,2,20070416,0019,  4.2863,  91.0460, 2686, 439.4000,    439.4,  10.6530,  35.0494,2,  35.0486,2,     33.4,2,     32.6,2,    36.61,2,    33.18,2,     0.00,2,     2.35,2,    0.449,2,    0.257,2, -999.000,5,   2254.4,2,   2320.8,2,   7.4901,2,    25.00,     47.4,2,    37.16,2, -999.000,9, -999.000,-999.0000,9,-999.0000,  -999.00,9,  -999.00, -999.000,9, -999.000,   -999.0,9,   -999.0,  -999.00,9,   0.1872,2,   0.1415,2,   0.0897,2,   0.0733,2,   0.0340,2,   0.0106,2,   0.0018,2,   0.0137,3,   0.0120,3,  10.5993,  10.6542,2
  33RR20070322,  I09N,   157,  1,     24,     24,2,20070416,0019,  4.2863,  91.0460, 2686, 488.1000,    488.1,  10.1696,  35.0382,2,  35.0401,2,     39.9,2,     41.3,2,    38.95,2,    33.13,2,     0.00,2,     2.37,2,    0.395,2,    0.228,2, -999.000,5,   2254.4,2,   2325.7,2,   7.5041,2,    25.00,     46.8,2,    36.64,2, -999.000,9, -999.000,-999.0000,9,-999.0000,  -999.00,9,  -999.00, -999.000,9, -999.000,   -999.0,9,   -999.0,  -999.00,9,   0.1814,2,   0.1363,2,   0.0855,2,   0.0694,2,   0.0317,2,   0.0097,2,   0.0014,2,   0.0136,3,   0.0122,3,  10.1115,  10.1744,2
  33RR20070322,  I09N,   157,  1,     23,     23,2,20070416,0019,  4.2863,  91.0460, 2686, 573.8000,    573.8,   9.7241,  35.0318,2,  35.0320,2,     39.3,2,     37.9,2,    44.48,2,    34.10,2,     0.00,2,     2.48,2,    0.255,2,    0.149,2, -999.000,5,   2263.1,2,   2331.7,2,   7.4932,2,    25.00,     45.2,2,    36.24,2, -999.000,9, -999.000,-999.0000,9,-999.0000,  -999.00,9,  -999.00, -999.000,9, -999.000,   -999.0,9,   -999.0,  -999.00,9,   0.1840,2,   0.1383,2,   0.0867,2,   0.0702,2,   0.0324,2,   0.0101,2,   0.0016,2,   0.0136,3,   0.0122,3,   9.6574,   9.7231,2
  33RR20070322,  I09N,   157,  1,     22,     22,2,20070416,0019,  4.2863,  91.0460, 2686, 674.0000,    674.0,   9.0619,  35.0207,2,  35.0208,2,     29.4,2,     28.6,2,    54.98,2,    35.86,2,     0.00,2,     2.65,2,    0.109,2,    0.068,2, -999.000,5,   2280.3,2,   2341.8,2,   7.4667,2,    25.00,     44.3,2,    38.31,2, -999.000,9, -999.000,-999.0000,9,-999.0000,  -999.00,9,  -999.00, -999.000,9, -999.000,   -999.0,9,   -999.0,  -999.00,9,   0.1926,2,   0.1450,2,   0.0909,2,   0.0732,2,   0.0344,2,   0.0108,2,   0.0018,2,   0.0137,3,   0.0122,3,   8.9863,   9.0635,2
  33RR20070322,  I09N,   157,  1,     21,     21,2,20070416,0019,  4.2863,  91.0460, 2686, 773.9000,    773.9,   8.2016,  34.9920,2,  34.9909,2,     39.0,2,     39.6,2,    64.10,2,    36.00,2,     0.00,2,     2.66,2,    0.085,2,    0.056,2, -999.000,5,   2286.3,6,   2343.8,6,   7.4833,6,    25.00,     43.8,2,    38.90,2, -999.000,9, -999.000,-999.0000,9,-999.0000,  -999.00,9,  -999.00, -999.000,9, -999.000,   -999.0,9,   -999.0,  -999.00,9,   0.1896,2,   0.1421,2,   0.0882,2,   0.0695,2,   0.0320,2,   0.0098,2,   0.0012,2,   0.0139,3,   0.0125,3,   8.1192,   8.1989,2
  33RR20070322,  I09N,   157,  1,     20,     20,2,20070416,0019,  4.2863,  91.0460, 2686, 873.9000,    873.9,   7.4184,  34.9805,2,  34.9816,2,     41.6,2,     41.7,2,    73.63,2,    36.88,2,     0.00,2,     2.74,2,    0.030,2,    0.027,2, -999.000,5,   2297.2,2,   2352.1,2,   7.4750,2,    25.00,     43.5,2,    39.68,2, -999.000,9, -999.000,-999.0000,9,-999.0000,  -999.00,9,  -999.00, -999.000,9, -999.000,   -999.0,9,   -999.0,  -999.00,9,   0.2018,2,   0.1529,2,   0.0966,2,   0.0788,2,   0.0393,2,   0.0135,2,   0.0032,2,   0.0135,3,   0.0119,3,   7.3299,   7.4185,2
  33RR20070322,  I09N,   157,  1,     19,     19,2,20070416,0019,  4.2863,  91.0460, 2686, 974.3000,    974.3,   6.9322,  34.9562,2,  34.9552,2,     46.8,2,     47.1,2,    79.59,2,    36.98,2,     0.00,2,     2.75,2, -999.000,5, -999.000,5, -999.000,5,   2302.2,2,   2363.6,2,   7.4716,2,    25.00,     42.9,2,    39.33,2, -999.000,9, -999.000,-999.0000,9,-999.0000,  -999.00,9,  -999.00, -999.000,9, -999.000,   -999.0,9,   -999.0,  -999.00,9,   0.1915,2,   0.1434,2,   0.0881,2,   0.0684,2,   0.0315,2,   0.0098,2,   0.0012,2,   0.0139,3,   0.0127,3,   6.8364,   6.9328,2
  33RR20070322,  I09N,   157,  1,     18,     18,2,20070416,0019,  4.2863,  91.0460, 2686,1074.1000,   1074.1,   6.2225,  34.9157,2,  34.9151,2,     58.1,2,     59.7,2,    87.34,2,    36.67,2,     0.00,2,     2.72,2, -999.000,9, -999.000,9, -999.000,9,   2305.9,2,   2370.7,2,   7.4795,2,    25.00,     42.5,2,    37.83,2, -999.000,9, -999.000,-999.0000,9,-999.0000,  -999.00,9,  -999.00, -999.000,9, -999.000,   -999.0,9,   -999.0,  -999.00,9,   0.1999,2,   0.1495,2,   0.0928,2,   0.0740,2,   0.0371,2,   0.0127,2,   0.0038,2,   0.0135,3,   0.0123,3,   6.1219,   6.2226,2
  33RR20070322,  I09N,   157,  1,     17,     17,2,20070416,0019,  4.2863,  91.0460, 2686,1174.9000,   1174.9,   5.7399,  34.8956,2,  34.8948,2,     66.7,2,     66.1,2,    93.12,2,    36.77,2,     0.00,2,     2.71,2,    0.028,3,    0.017,2, -999.000,5,   2309.5,2,   2374.6,2,   7.4843,2,    25.00,     42.1,2,    38.29,2, -999.000,9, -999.000,-999.0000,9,-999.0000,  -999.00,9,  -999.00, -999.000,9, -999.000,   -999.0,9,   -999.0,  -999.00,9,   0.1999,2,   0.1493,2,   0.0921,2,   0.0724,2,   0.0362,2,   0.0125,2,   0.0039,2,   0.0135,3,   0.0124,3,   5.6333,   5.7395,2
  33RR20070322,  I09N,   157,  1,     16,     16,2,20070416,0019,  4.2863,  91.0460, 2686,1276.1000,   1276.1,   5.4104,  34.8833,2,  34.8838,2,     71.2,2,     70.7,2,    96.68,2,    36.82,2,     0.00,2,     2.71,2, -999.000,9, -999.000,9, -999.000,9,   2311.5,2,   2380.5,2,   7.4925,2,    25.00,     41.8,2,    37.91,2, -999.000,9, -999.000,-999.0000,9,-999.0000,  -999.00,9,  -999.00, -999.000,9, -999.000,   -999.0,9,   -999.0,  -999.00,9,   0.1979,2,   0.1474,2,   0.0903,2,   0.0702,2,   0.0348,2,   0.0121,2,   0.0037,2,   0.0135,3,   0.0126,3,   5.2969,   5.4099,2
  33RR20070322,  I09N,   157,  1,     15,     15,2,20070416,0019,  4.2863,  91.0460, 2686,1376.7000,   1376.7,   5.0699,  34.8719,2,  34.8708,2,     74.4,2,     73.8,2,   100.26,2,    36.92,2,     0.00,2,     2.73,2,    0.010,2,    0.007,2, -999.000,5,   2314.3,2,   2385.1,2,   7.4732,2,    25.00,     41.5,2,    38.49,2, -999.000,9, -999.000,-999.0000,9,-999.0000,  -999.00,9,  -999.00, -999.000,9, -999.000,   -999.0,9,   -999.0,  -999.00,9,   0.1985,2,   0.1477,2,   0.0905,2,   0.0708,2,   0.0353,2,   0.0124,2,   0.0040,2,   0.0134,3,   0.0125,3,   4.9500,   5.0674,2
  33RR20070322,  I09N,   157,  1,     14,     14,2,20070416,0019,  4.2863,  91.0460, 2686,1477.7000,   1477.7,   4.3885,  34.8483,2,  34.8478,2,     83.4,2,     83.9,2,   107.86,2,    37.01,2,     0.00,2,     2.72,2, -999.000,9, -999.000,9, -999.000,9,   -999.0,9,   -999.0,9,-999.0000,9,  -999.00,     41.4,2,    38.32,2, -999.000,9, -999.000,-999.0000,9,-999.0000,  -999.00,9,  -999.00, -999.000,9, -999.000,   -999.0,9,   -999.0,  -999.00,9,   0.1985,2,   0.1476,2,   0.0905,2,   0.0712,2,   0.0352,2,   0.0121,2,   0.0038,2,   0.0135,3,   0.0125,3,   4.2663,   4.3823,2
  33RR20070322,  I09N,   157,  1,     13,     13,2,20070416,0019,  4.2863,  91.0460, 2686,1576.6000,   1576.6,   3.8743,  34.8283,2,  34.8285,2,     91.7,2,     93.9,2,   113.46,2,    36.75,2,     0.00,2,     2.70,2,    0.004,2,    0.004,2, -999.000,5,   2321.0,2,   2397.0,2,   7.5360,2,    25.00,     41.4,2,    38.01,2, -999.000,9, -999.000,-999.0000,9,-999.0000,  -999.00,9,  -999.00, -999.000,9, -999.000,   -999.0,9,   -999.0,  -999.00,9,   0.1936,2,   0.1433,2,   0.0868,2,   0.0669,2,   0.0325,2,   0.0110,2,   0.0033,2,   0.0136,3,   0.0128,3,   3.7489,   3.8757,2
  33RR20070322,  I09N,   157,  1,     12,     12,2,20070416,0019,  4.2863,  91.0460, 2686,1677.5000,   1677.5,   3.5348,  34.8146,2,  34.8155,2,    101.8,2,    101.6,2,   116.04,2,    36.49,2,     0.00,2,     2.67,2, -999.000,9, -999.000,9, -999.000,9,   -999.0,9,   -999.0,9,-999.0000,9,  -999.00,     40.5,2,    38.09,2, -999.000,9, -999.000,-999.0000,9,-999.0000,  -999.00,9,  -999.00, -999.000,9, -999.000,   -999.0,9,   -999.0,  -999.00,9,   0.1915,2,   0.1414,2,   0.0855,2,   0.0658,2,   0.0317,2,   0.0106,2,   0.0032,2,   0.0137,3,   0.0129,3,   3.4045,   3.5348,2
  33RR20070322,  I09N,   157,  1,     11,     11,2,20070416,0019,  4.2863,  91.0460, 2686,1778.5000,   1778.5,   3.2623,  34.8026,2,  34.8029,2,    108.2,2,    108.2,2,   119.02,2,    36.38,2,     0.00,2,     2.65,2, -999.000,9, -999.000,9, -999.000,9,   2321.3,2,   2402.5,2,   7.5233,2,    25.00,     40.7,2,    37.64,2, -999.000,9, -999.000,-999.0000,9,-999.0000,  -999.00,9,  -999.00, -999.000,9, -999.000,   -999.0,9,   -999.0,  -999.00,9,   0.1901,2,   0.1407,2,   0.0847,2,   0.0650,2,   0.0312,2,   0.0107,2,   0.0032,2,   0.0136,3,   0.0129,3,   3.1265,   3.2653,2
  33RR20070322,  I09N,   157,  1,     10,     10,2,20070416,0019,  4.2863,  91.0460, 2686,1878.2000,   1878.2,   2.9833,  34.7902,2,  34.7905,2,    114.4,2,    114.5,2,   122.01,2,    36.27,2,     0.00,2,     2.63,2, -999.000,9, -999.000,9, -999.000,9,   -999.0,9,   -999.0,9,-999.0000,9,  -999.00,     40.6,2,    38.00,2, -999.000,9, -999.000,-999.0000,9,-999.0000,  -999.00,9,  -999.00, -999.000,9, -999.000,   -999.0,9,   -999.0,  -999.00,9,   0.1921,2,   0.1420,2,   0.0861,2,   0.0671,2,   0.0326,2,   0.0110,2,   0.0033,2,   0.0136,3,   0.0128,3,   2.8424,   2.9846,2
  33RR20070322,  I09N,   157,  1,      9,      9,2,20070416,0019,  4.2863,  91.0460, 2686,1980.3000,   1980.3,   2.8232,  34.7833,2,  34.7811,4,    118.4,2,    118.7,2,   124.99,2,    35.96,2,     0.00,2,     2.60,2,    0.003,2,    0.004,2, -999.000,5,   2323.8,2,   2406.4,2,   7.5363,2,    25.00,     40.7,2,    37.69,2, -999.000,9, -999.000,-999.0000,9,-999.0000,  -999.00,9,  -999.00, -999.000,9, -999.000,   -999.0,9,   -999.0,  -999.00,9,   0.1905,2,   0.1403,2,   0.0841,2,   0.0642,2,   0.0304,2,   0.0101,2,   0.0029,2,   0.0137,3,   0.0131,3,   2.6756,   2.8224,2
  33RR20070322,  I09N,   157,  1,      8,      8,2,20070416,0019,  4.2863,  91.0460, 2686,2081.3000,   2081.3,   2.6133,  34.7732,2,  34.7744,2,    125.4,2,    124.6,2,   126.36,2,    35.75,2,     0.00,2,     2.57,2, -999.000,9, -999.000,9, -999.000,9,   -999.0,9,   -999.0,9,-999.0000,9,  -999.00,     40.6,2,    37.07,2, -999.000,9, -999.000,-999.0000,9,-999.0000,  -999.00,9,  -999.00, -999.000,9, -999.000,   -999.0,9,   -999.0,  -999.00,9,   0.1866,2,   0.1371,2,   0.0821,2,   0.0627,2,   0.0296,2,   0.0100,2,   0.0030,2,   0.0136,3,   0.0131,3,   2.4598,   2.6129,2
  33RR20070322,  I09N,   157,  1,      7,      7,2,20070416,0019,  4.2863,  91.0460, 2686,2181.7000,   2181.7,   2.3915,  34.7633,2,  34.7642,2,    132.2,2,    132.0,2,   126.92,2,    35.39,2,     0.00,2,     2.53,2, -999.000,9, -999.000,9, -999.000,9,   2320.0,2,   2413.6,2,   7.5519,2,    25.00,     41.0,2,    36.49,2, -999.000,9, -999.000,-999.0000,9,-999.0000,  -999.00,9,  -999.00, -999.000,9, -999.000,   -999.0,9,   -999.0,  -999.00,9,   0.1846,2,   0.1358,2,   0.0816,2,   0.0628,2,   0.0299,2,   0.0103,2,   0.0033,2,   0.0135,3,   0.0129,3,   2.2326,   2.3918,2
  33RR20070322,  I09N,   157,  1,      6,      6,2,20070416,0019,  4.2863,  91.0460, 2686,2313.7000,   2313.7,   2.3056,  34.7590,2,  34.7596,2,    135.1,2,    134.8,2,   129.11,2,    35.33,2,     0.00,2,     2.52,2, -999.000,9, -999.000,9, -999.000,9,   2319.5,2,   2408.4,2,   7.5815,2,    25.00,     40.4,2,    36.50,2, -999.000,9, -999.000,-999.0000,9,-999.0000,  -999.00,9,  -999.00, -999.000,9, -999.000,   -999.0,9,   -999.0,  -999.00,9,   0.1872,2,   0.1377,2,   0.0830,2,   0.0645,2,   0.0308,2,   0.0103,2,   0.0030,2,   0.0136,3,   0.0129,3,   2.1363,   2.3049,2
  33RR20070322,  I09N,   157,  1,      5,      5,2,20070416,0019,  4.2863,  91.0460, 2686,2434.0000,   2434.0,   2.1394,  34.7516,2,  34.7517,2,    140.5,2,    140.0,2,   130.08,2,    35.12,2,     0.00,2,     2.49,2, -999.000,5, -999.000,5, -999.000,5,   2319.0,2,   2412.2,2,   7.5641,2,    25.00,     40.4,2,    36.61,2, -999.000,9, -999.000,-999.0000,9,-999.0000,  -999.00,9,  -999.00, -999.000,9, -999.000,   -999.0,9,   -999.0,  -999.00,9,   0.1785,2,   0.1305,2,   0.0777,2,   0.0586,2,   0.0268,2,   0.0087,2,   0.0023,2,   0.0137,3,   0.0133,3,   1.9621,   2.1402,2