BOTTLE,20150630SIOCCHRJL
EXPOCODE,SECT_ID,STNNBR,CASTNO,SAMPNO,BTLNBR,BTLNBR_FLAG_W,DATE,TIME,LATITUDE,LONGITUDE,DEPTH,CTDRAW,CTDPRS,CTDTMP,CTDSAL,CTDSAL_FLAG_W,SALNTY,SALNTY_FLAG_W,CTDOXY,CTDOXY_FLAG_W,OXYGEN,OXYGEN_FLAG_W,SILCAT,SILCAT_FLAG_W,NITRAT,NITRAT_FLAG_W,NITRIT,NITRIT_FLAG_W,PHSPHT,PHSPHT_FLAG_W,CFC-11,CFC-11_FLAG_W,CFC-12,CFC-12_FLAG_W,CFC113,CFC113_FLAG_W,TCARBN,TCARBN_FLAG_W,ALKALI,ALKALI_FLAG_W,PH_SWS,PH_SWS_FLAG_W,PH_TMP,DOC,DOC_FLAG_W,TDN,TDN_FLAG_W,TRITUM,TRITUM_FLAG_W,TRITER,HELIUM,HELIUM_FLAG_W,HELIER,DELHE3,DELHE3_FLAG_W,DELHER,NEON,NEON_FLAG_W,NEONER,DELC14,DELC14_FLAG_W,C14ERR,DELC13,DELC13_FLAG_W,CDOM325,CDOM325_FLAG_W,CDOM340,CDOM340_FLAG_W,CDOM380,CDOM380_FLAG_W,CDOM412,CDOM412_FLAG_W,CDOM443,CDOM443_FLAG_W,CDOM490,CDOM490_FLAG_W,CDOM555,CDOM555_FLAG_W,CDOMSL,CDOMSL_FLAG_W,CDOMSN,CDOMSN_FLAG_W,THETA,SBE35,SBE35_FLAG_W
,,,,,,,,,,,METERS,,DBAR,ITS-90,PSS-78,,PSS-78,,UMOL/KG,,UMOL/KG,,UMOL/KG,,UMOL/KG,,UMOL/KG,,UMOL/KG,,PMOL/KG,,PMOL/KG,,PMOL/KG,,UMOL/KG,,UMOL/KG,,,,DEG C,UMOL/KG,,UMOL/KG,,TU,,TU,NMOL/KG,,NMOL/KG,PERCNT,,PERCNT,NMOL/KG,,NMOL/KG,/MILLE,,/MILLE,/MILLE,,1/M,,1/M,,1/M,,1/M,,1/M,,1/M,,1/M,,1/NM,,1/NM,,DEG C,ITS-90,
  33RR20070322,  I09N,   144,  1,     36,     38,2,20070412,1223, -0.3168,  93.5518, 4547,   2.8000,      2.8,  29.5673,  33.9766,2,  33.9765,2,    194.2,2,    195.3,2,     1.09,2,     0.07,2,     0.00,2,     0.07,2,    1.490,2,    0.971,2, -999.000,5,   1898.0,6,   2227.1,6,   8.1060,6,    25.00,   -999.0,9,  -999.00,9, -999.000,9, -999.000,-999.0000,9,-999.0000,  -999.00,9,  -999.00, -999.000,9, -999.000,   -999.0,9,   -999.0,  -999.00,9,-999.0000,9,-999.0000,9,-999.0000,9,-999.0000,9,-999.0000,9,-999.0000,9,-999.0000,9,-999.0000,9,-999.0000,9,  29.5666,  29.5631,2
  33RR20070322,  I09N,   144,  1,     35,     35,2,20070412,1223, -0.3168,  93.5518, 4547,  40.2000,     40.2,  29.6312,  34.0718,2,  34.0697,2,    196.7,2,    195.6,2,     1.07,2,     0.02,2,     0.00,2,     0.07,2,    1.490,2,    0.977,2, -999.000,5,   -999.0,9,   -999.0,9,-999.0000,9,  -999.00,   -999.0,9,  -999.00,9, -999.000,9, -999.000,-999.0000,9,-999.0000,  -999.00,9,  -999.00, -999.000,9, -999.000,   -999.0,9,   -999.0,  -999.00,9,-999.0000,9,-999.0000,9,-999.0000,9,-999.0000,9,-999.0000,9,-999.0000,9,-999.0000,9,-999.0000,9,-999.0000,9,  29.6213,  29.6257,2
  33RR20070322,  I09N,   144,  1,     34,   9419,2,20070412,1223, -0.3168,  93.5518, 4547,  74.9000,     74.9,  24.6876,  35.2512,2,  35.2319,2,    153.6,2,    141.0,2,     5.06,2,     7.06,2,     0.52,2,     0.69,2,    1.590,2,    1.025,2, -999.000,5,   -999.0,9,   -999.0,9,-999.0000,9,  -999.00,   -999.0,9,  -999.00,9, -999.000,9, -999.000,-999.0000,9,-999.0000,  -999.00,9,  -999.00, -999.000,9, -999.000,   -999.0,9,   -999.0,  -999.00,9,-999.0000,9,-999.0000,9,-999.0000,9,-999.0000,9,-999.0000,9,-999.0000,9,-999.0000,9,-999.0000,9,-999.0000,9,  24.6715,  24.7171,2
  33RR20070322,  I09N,   144,  1,     33,     33,2,20070412,1223, -0.3168,  93.5518, 4547,  94.0000,     94.0,  22.6939,  35.3136,2,  35.3137,2,    123.5,2,    133.1,2,     6.63,2,     9.63,2,     0.90,2,     0.81,2,    1.752,2,    1.079,2, -999.000,5,   -999.0,9,   -999.0,9,-999.0000,9,  -999.00,   -999.0,9,  -999.00,9, -999.000,9, -999.000,-999.0000,9,-999.0000,  -999.00,9,  -999.00, -999.000,9, -999.000,   -999.0,9,   -999.0,  -999.00,9,-999.0000,9,-999.0000,9,-999.0000,9,-999.0000,9,-999.0000,9,-999.0000,9,-999.0000,9,-999.0000,9,-999.0000,9,  22.6749,  22.6543,2
  33RR20070322,  I09N,   144,  1,     32,     37,2,20070412,1223, -0.3168,  93.5518, 4547, 124.3000,    124.3,  21.4173,  35.3053,2,  35.3058,2,    111.4,2,    112.3,2,     8.61,2,    13.68,2,     0.05,2,     1.02,2,    1.753,2,    1.077,2, -999.000,5,   2107.5,2,   2314.9,2,   7.8443,2,    25.00,   -999.0,9,  -999.00,9, -999.000,9, -999.000,-999.0000,9,-999.0000,  -999.00,9,  -999.00, -999.000,9, -999.000,   -999.0,9,   -999.0,  -999.00,9,-999.0000,9,-999.0000,9,-999.0000,9,-999.0000,9,-999.0000,9,-999.0000,9,-999.0000,9,-999.0000,9,-999.0000,9,  21.3932,  21.4058,2
  33RR20070322,  I09N,   144,  1,     31,     31,2,20070412,1223, -0.3168,  93.5518, 4547, 144.8000,    144.8,  20.0761,  35.2900,2,  35.3127,2,     83.8,2,     83.6,2,    10.99,2,    17.65,2,     0.03,2,     1.27,2,    1.696,2,    1.032,2, -999.000,5,   -999.0,9,   -999.0,9,-999.0000,9,  -999.00,   -999.0,9,  -999.00,9, -999.000,9, -999.000,-999.0000,9,-999.0000,  -999.00,9,  -999.00, -999.000,9, -999.000,   -999.0,9,   -999.0,  -999.00,9,-999.0000,9,-999.0000,9,-999.0000,9,-999.0000,9,-999.0000,9,-999.0000,9,-999.0000,9,-999.0000,9,-999.0000,9,  20.0492,  20.1818,2
  33RR20070322,  I09N,   144,  1,     30,     30,2,20070412,1223, -0.3168,  93.5518, 4547, 175.0000,    175.0,  17.8048,  35.2161,2,  35.2178,2,     64.1,2,     64.1,2,    15.39,2,    21.93,2,     0.01,2,     1.56,2,    1.542,2,    0.909,2, -999.000,5,   -999.0,9,   -999.0,9,-999.0000,9,  -999.00,   -999.0,9,  -999.00,9, -999.000,9, -999.000,-999.0000,9,-999.0000,  -999.00,9,  -999.00, -999.000,9, -999.000,   -999.0,9,   -999.0,  -999.00,9,-999.0000,9,-999.0000,9,-999.0000,9,-999.0000,9,-999.0000,9,-999.0000,9,-999.0000,9,-999.0000,9,-999.0000,9,  17.7749,  17.8002,2
  33RR20070322,  I09N,   144,  1,     29,     29,2,20070412,1223, -0.3168,  93.5518, 4547, 224.8000,    224.8,  13.6017,  35.1081,2,  35.1096,2,     58.9,2,     58.2,2,    21.19,2,    26.47,2,     0.00,2,     1.85,2,    1.277,2,    0.711,2, -999.000,5,   -999.0,9,   -999.0,9,-999.0000,9,  -999.00,   -999.0,9,  -999.00,9, -999.000,9, -999.000,-999.0000,9,-999.0000,  -999.00,9,  -999.00, -999.000,9, -999.000,   -999.0,9,   -999.0,  -999.00,9,-999.0000,9,-999.0000,9,-999.0000,9,-999.0000,9,-999.0000,9,-999.0000,9,-999.0000,9,-999.0000,9,-999.0000,9,  13.5698,  13.5958,2
  33RR20070322,  I09N,   144,  1,     28,     28,2,20070412,1223, -0.3168,  93.5518, 4547, 274.8000,    274.8,  12.2098,  35.0703,2,  35.0722,2,     71.5,2,     78.6,2,    21.17,2,    26.04,2,     0.00,2,     1.80,2,    1.299,2,    0.708,2, -999.000,5,   2206.8,2,   2316.7,2,   7.6098,2,    25.00,   -999.0,9,  -999.00,9, -999.000,9, -999.000,-999.0000,9,-999.0000,  -999.00,9,  -999.00, -999.000,9, -999.000,   -999.0,9,   -999.0,  -999.00,9,-999.0000,9,-999.0000,9,-999.0000,9,-999.0000,9,-999.0000,9,-999.0000,9,-999.0000,9,-999.0000,9,-999.0000,9,  12.1734,  12.2150,2
  33RR20070322,  I09N,   144,  1,     27,     27,2,20070412,1223, -0.3168,  93.5518, 4547, 324.3000,    324.3,  11.7335,  35.0497,2,  35.0511,2,     77.0,2,     79.6,2,    22.35,2,    26.73,2,     0.00,2,     1.84,2,    1.206,2,    0.656,2, -999.000,5,   -999.0,9,   -999.0,9,-999.0000,9,  -999.00,   -999.0,9,  -999.00,9, -999.000,9, -999.000,-999.0000,9,-999.0000,  -999.00,9,  -999.00, -999.000,9, -999.000,   -999.0,9,   -999.0,  -999.00,9,-999.0000,9,-999.0000,9,-999.0000,9,-999.0000,9,-999.0000,9,-999.0000,9,-999.0000,9,-999.0000,9,-999.0000,9,  11.6916,  11.7319,2
  33RR20070322,  I09N,   144,  1,     26,     26,2,20070412,1223, -0.3168,  93.5518, 4547, 373.6000,    373.6,  11.1739,  35.0167,2,  35.0177,2,     78.9,2,     77.4,2,    24.35,2,    27.95,2,     0.00,2,     1.91,2,    1.010,2,    0.545,2, -999.000,5,   -999.0,9,   -999.0,9,-999.0000,9,  -999.00,   -999.0,9,  -999.00,9, -999.000,9, -999.000,-999.0000,9,-999.0000,  -999.00,9,  -999.00, -999.000,9, -999.000,   -999.0,9,   -999.0,  -999.00,9,-999.0000,9,-999.0000,9,-999.0000,9,-999.0000,9,-999.0000,9,-999.0000,9,-999.0000,9,-999.0000,9,-999.0000,9,  11.1270,  11.1644,2
  33RR20070322,  I09N,   144,  1,     25,     25,2,20070412,1223, -0.3168,  93.5518, 4547, 424.0000,    424.0,  10.7385,  34.9897,2,  34.9903,2,     75.5,2,     75.3,2,    26.53,2,    29.00,2,     0.00,2,     1.99,2,    0.840,2,    0.453,2, -999.000,5,   -999.0,9,   -999.0,9,-999.0000,9,  -999.00,   -999.0,9,  -999.00,9, -999.000,9, -999.000,-999.0000,9,-999.0000,  -999.00,9,  -999.00, -999.000,9, -999.000,   -999.0,9,   -999.0,  -999.00,9,-999.0000,9,-999.0000,9,-999.0000,9,-999.0000,9,-999.0000,9,-999.0000,9,-999.0000,9,-999.0000,9,-999.0000,9,  10.6865,  10.7376,2
  33RR20070322,  I09N,   144,  1,     24,     24,2,20070412,1223, -0.3168,  93.5518, 4547, 474.5000,    474.5,  10.2627,  34.9897,2,  34.9901,2,     70.9,2,     68.4,2,    30.94,2,    30.54,2,     0.00,2,     2.13,2,    0.643,2,    0.352,2, -999.000,5,   -999.0,9,   -999.0,9,-999.0000,9,  -999.00,   -999.0,9,  -999.00,9, -999.000,9, -999.000,-999.0000,9,-999.0000,  -999.00,9,  -999.00, -999.000,9, -999.000,   -999.0,9,   -999.0,  -999.00,9,-999.0000,9,-999.0000,9,-999.0000,9,-999.0000,9,-999.0000,9,-999.0000,9,-999.0000,9,-999.0000,9,-999.0000,9,  10.2060,  10.2665,2
  33RR20070322,  I09N,   144,  1,     23,     23,2,20070412,1223, -0.3168,  93.5518, 4547, 524.2000,    524.2,   9.7464,  34.9741,2,  34.9742,2,     62.8,2,     61.1,2,    37.16,2,    31.96,2,     0.00,2,     2.28,2,    0.390,2,    0.220,2, -999.000,5,   -999.0,9,   -999.0,9,-999.0000,9,  -999.00,   -999.0,9,  -999.00,9, -999.000,9, -999.000,-999.0000,9,-999.0000,  -999.00,9,  -999.00, -999.000,9, -999.000,   -999.0,9,   -999.0,  -999.00,9,-999.0000,9,-999.0000,9,-999.0000,9,-999.0000,9,-999.0000,9,-999.0000,9,-999.0000,9,-999.0000,9,-999.0000,9,   9.6855,   9.7482,2
  33RR20070322,  I09N,   144,  1,     22,     22,2,20070412,1223, -0.3168,  93.5518, 4547, 644.6000,    644.6,   8.9242,  35.0100,2,  35.0115,2,     45.5,2,     44.2,2,    51.66,2,    34.68,2,     0.00,2,     2.54,2,    0.150,2,    0.088,2, -999.000,5,   2269.6,2,   2330.9,2,   7.4920,2,    25.00,   -999.0,9,  -999.00,9, -999.000,9, -999.000,-999.0000,9,-999.0000,  -999.00,9,  -999.00, -999.000,9, -999.000,   -999.0,9,   -999.0,  -999.00,9,-999.0000,9,-999.0000,9,-999.0000,9,-999.0000,9,-999.0000,9,-999.0000,9,-999.0000,9,-999.0000,9,-999.0000,9,   8.8527,   8.9232,2
  33RR20070322,  I09N,   144,  1,     21,     21,2,20070412,1223, -0.3168,  93.5518, 4547, 744.4000,    744.4,   8.5213,  35.0027,2,  35.0029,2,     48.1,2,     45.5,2,    56.69,2,    35.05,2,     0.00,2,     2.58,2, -999.000,9, -999.000,9, -999.000,9,   -999.0,9,   -999.0,9,-999.0000,9,  -999.00,   -999.0,9,  -999.00,9, -999.000,9, -999.000,-999.0000,9,-999.0000,  -999.00,9,  -999.00, -999.000,9, -999.000,   -999.0,9,   -999.0,  -999.00,9,-999.0000,9,-999.0000,9,-999.0000,9,-999.0000,9,-999.0000,9,-999.0000,9,-999.0000,9,-999.0000,9,-999.0000,9,   8.4405,   8.5199,2
  33RR20070322,  I09N,   144,  1,     20,     20,2,20070412,1223, -0.3168,  93.5518, 4547, 846.4000,    846.4,   7.8181,  34.9776,2,  34.9779,2,     45.4,2,     44.8,2,    66.39,2,    36.16,2,     0.00,2,     2.69,2,    0.044,2,    0.029,2, -999.000,5,   2288.1,2,   2345.4,2,   7.4865,6,    25.00,   -999.0,9,  -999.00,9, -999.000,9, -999.000,-999.0000,9,-999.0000,  -999.00,9,  -999.00, -999.000,9, -999.000,   -999.0,9,   -999.0,  -999.00,9,-999.0000,9,-999.0000,9,-999.0000,9,-999.0000,9,-999.0000,9,-999.0000,9,-999.0000,9,-999.0000,9,-999.0000,9,   7.7300,   7.8143,2
  33RR20070322,  I09N,   144,  1,     19,     19,2,20070412,1223, -0.3168,  93.5518, 4547, 946.7000,    946.7,   6.9734,  34.9534,2,  34.9537,2,     48.8,2,     48.9,2,    76.51,2,    36.80,2,     0.00,2,     2.73,2, -999.000,5, -999.000,5, -999.000,5,   -999.0,9,   -999.0,9,-999.0000,9,  -999.00,   -999.0,9,  -999.00,9, -999.000,9, -999.000,-999.0000,9,-999.0000,  -999.00,9,  -999.00, -999.000,9, -999.000,   -999.0,9,   -999.0,  -999.00,9,-999.0000,9,-999.0000,9,-999.0000,9,-999.0000,9,-999.0000,9,-999.0000,9,-999.0000,9,-999.0000,9,-999.0000,9,   6.8802,   6.9738,2
  33RR20070322,  I09N,   144,  1,     18,     18,2,20070412,1223, -0.3168,  93.5518, 4547,1045.5000,   1045.5,   6.4484,  34.9258,2,  34.9269,2,     53.9,2,     54.3,2,    83.20,2,    37.17,2,     0.00,2,     2.74,2,    0.017,2,    0.011,2, -999.000,5,   2304.7,2,   2362.0,2,   7.4814,2,    25.00,   -999.0,9,  -999.00,9, -999.000,9, -999.000,-999.0000,9,-999.0000,  -999.00,9,  -999.00, -999.000,9, -999.000,   -999.0,9,   -999.0,  -999.00,9,-999.0000,9,-999.0000,9,-999.0000,9,-999.0000,9,-999.0000,9,-999.0000,9,-999.0000,9,-999.0000,9,-999.0000,9,   6.3489,   6.4485,2
  33RR20070322,  I09N,   144,  1,     17,     17,2,20070412,1223, -0.3168,  93.5518, 4547,1146.5000,   1146.5,   5.7305,  34.8916,2,  34.8927,2,     63.9,2,     64.6,2,    91.13,2,    37.22,2,     0.00,2,     2.73,2, -999.000,9, -999.000,9, -999.000,9,   -999.0,9,   -999.0,9,-999.0000,9,  -999.00,   -999.0,9,  -999.00,9, -999.000,9, -999.000,-999.0000,9,-999.0000,  -999.00,9,  -999.00, -999.000,9, -999.000,   -999.0,9,   -999.0,  -999.00,9,-999.0000,9,-999.0000,9,-999.0000,9,-999.0000,9,-999.0000,9,-999.0000,9,-999.0000,9,-999.0000,9,-999.0000,9,   5.6268,   5.7312,2
  33RR20070322,  I09N,   144,  1,     16,     16,2,20070412,1223, -0.3168,  93.5518, 4547,1246.0000,   1246.0,   5.3622,  34.8776,2,  34.8779,2,     70.3,2,     70.7,2,    94.59,2,    37.00,2,     0.00,2,     2.73,2,    0.009,2,    0.004,2, -999.000,5,   -999.0,9,   -999.0,9,-999.0000,9,  -999.00,   -999.0,9,  -999.00,9, -999.000,9, -999.000,-999.0000,9,-999.0000,  -999.00,9,  -999.00, -999.000,9, -999.000,   -999.0,9,   -999.0,  -999.00,9,-999.0000,9,-999.0000,9,-999.0000,9,-999.0000,9,-999.0000,9,-999.0000,9,-999.0000,9,-999.0000,9,-999.0000,9,   5.2521,   5.3627,2
  33RR20070322,  I09N,   144,  1,     15,     15,2,20070412,1223, -0.3168,  93.5518, 4547,1347.5000,   1347.5,   5.0340,  34.8696,2,  34.8696,2,     75.9,2,     76.0,2,    98.05,2,    36.94,2,     0.00,2,     2.73,2, -999.000,9, -999.000,9, -999.000,9,   -999.0,9,   -999.0,9,-999.0000,9,  -999.00,   -999.0,9,  -999.00,9, -999.000,9, -999.000,-999.0000,9,-999.0000,  -999.00,9,  -999.00, -999.000,9, -999.000,   -999.0,9,   -999.0,  -999.00,9,-999.0000,9,-999.0000,9,-999.0000,9,-999.0000,9,-999.0000,9,-999.0000,9,-999.0000,9,-999.0000,9,-999.0000,9,   4.9172,   5.0341,2
  33RR20070322,  I09N,   144,  1,     14,     14,2,20070412,1223, -0.3168,  93.5518, 4547,1447.2000,   1447.2,   4.7736,  34.8578,2,  34.8584,2,     81.5,2,     83.3,2,   100.49,2,    36.77,2,     0.00,2,     2.72,2,    0.004,2,    0.003,2, -999.000,5,   -999.0,9,   -999.0,9,-999.0000,9,  -999.00,   -999.0,9,  -999.00,9, -999.000,9, -999.000,-999.0000,9,-999.0000,  -999.00,9,  -999.00, -999.000,9, -999.000,   -999.0,9,   -999.0,  -999.00,9,-999.0000,9,-999.0000,9,-999.0000,9,-999.0000,9,-999.0000,9,-999.0000,9,-999.0000,9,-999.0000,9,-999.0000,9,   4.6500,   4.7730,2
  33RR20070322,  I09N,   144,  1,     13,     13,2,20070412,1223, -0.3168,  93.5518, 4547,1548.3000,   1548.3,   4.0912,  34.8267,2,  34.8276,2,     94.5,2,     95.9,2,   106.62,2,    36.45,2,     0.00,2,     2.67,2, -999.000,9, -999.000,9, -999.000,9,   -999.0,9,   -999.0,9,-999.0000,9,  -999.00,   -999.0,9,  -999.00,9, -999.000,9, -999.000,-999.0000,9,-999.0000,  -999.00,9,  -999.00, -999.000,9, -999.000,   -999.0,9,   -999.0,  -999.00,9,-999.0000,9,-999.0000,9,-999.0000,9,-999.0000,9,-999.0000,9,-999.0000,9,-999.0000,9,-999.0000,9,-999.0000,9,   3.9659,   4.0944,2
  33RR20070322,  I09N,   144,  1,     12,     12,2,20070412,1223, -0.3168,  93.5518, 4547,1649.5000,   1649.5,   3.6394,  34.8127,2,  34.8130,2,    104.5,2,    105.6,2,   110.92,2,    36.12,2,     0.00,2,     2.64,2, -999.000,9, -999.000,9, -999.000,9,   -999.0,9,   -999.0,9,-999.0000,9,  -999.00,   -999.0,9,  -999.00,9, -999.000,9, -999.000,-999.0000,9,-999.0000,  -999.00,9,  -999.00, -999.000,9, -999.000,   -999.0,9,   -999.0,  -999.00,9,-999.0000,9,-999.0000,9,-999.0000,9,-999.0000,9,-999.0000,9,-999.0000,9,-999.0000,9,-999.0000,9,-999.0000,9,   3.5103,   3.6375,2
  33RR20070322,  I09N,   144,  1,     11,     11,2,20070412,1223, -0.3168,  93.5518, 4547,1750.3000,   1750.3,   3.3249,  34.8002,2,  34.8006,2,    112.6,2,    112.4,2,   114.00,2,    35.95,2,     0.00,2,     2.62,2, -999.000,9, -999.000,9, -999.000,9,   -999.0,9,   -999.0,9,-999.0000,9,  -999.00,   -999.0,9,  -999.00,9, -999.000,9, -999.000,-999.0000,9,-999.0000,  -999.00,9,  -999.00, -999.000,9, -999.000,   -999.0,9,   -999.0,  -999.00,9,-999.0000,9,-999.0000,9,-999.0000,9,-999.0000,9,-999.0000,9,-999.0000,9,-999.0000,9,-999.0000,9,-999.0000,9,   3.1908,   3.3255,2
  33RR20070322,  I09N,   144,  1,     10,     10,2,20070412,1223, -0.3168,  93.5518, 4547,1950.0000,   1950.0,   2.8178,  34.7791,2,  34.7792,2,    125.5,2,    125.7,2,   120.17,2,    35.47,2,     0.00,2,     2.57,2, -999.000,9, -999.000,9, -999.000,9,   2314.5,2,   2395.9,2,   7.5492,2,    25.00,   -999.0,9,  -999.00,9, -999.000,9, -999.000,-999.0000,9,-999.0000,  -999.00,9,  -999.00, -999.000,9, -999.000,   -999.0,9,   -999.0,  -999.00,9,-999.0000,9,-999.0000,9,-999.0000,9,-999.0000,9,-999.0000,9,-999.0000,9,-999.0000,9,-999.0000,9,-999.0000,9,   2.6729,   2.8201,2
  33RR20070322,  I09N,   144,  1,      9,      9,2,20070412,1223, -0.3168,  93.5518, 4547,2112.9000,   2112.9,   2.4980,  34.7652,2,  34.7662,2,    134.6,2,    134.5,2,   123.46,2,    35.20,2,     0.00,2,     2.53,2, -999.000,9, -999.000,9, -999.000,9,   -999.0,9,   -999.0,9,-999.0000,9,  -999.00,   -999.0,9,  -999.00,9, -999.000,9, -999.000,-999.0000,9,-999.0000,  -999.00,9,  -999.00, -999.000,9, -999.000,   -999.0,9,   -999.0,  -999.00,9,-999.0000,9,-999.0000,9,-999.0000,9,-999.0000,9,-999.0000,9,-999.0000,9,-999.0000,9,-999.0000,9,-999.0000,9,   2.3436,   2.4975,2
  33RR20070322,  I09N,   144,  1,      8,      8,2,20070412,1223, -0.3168,  93.5518, 4547,2365.3000,   2365.3,   2.1859,  34.7529,2,  34.7536,2,    143.6,2,    142.9,2,   127.38,2,    34.93,2,     0.00,2,     2.50,2, -999.000,9, -999.000,9, -999.000,9,   -999.0,9,   -999.0,9,-999.0000,9,  -999.00,   -999.0,9,  -999.00,9, -999.000,9, -999.000,-999.0000,9,-999.0000,  -999.00,9,  -999.00, -999.000,9, -999.000,   -999.0,9,   -999.0,  -999.00,9,-999.0000,9,-999.0000,9,-999.0000,9,-999.0000,9,-999.0000,9,-999.0000,9,-999.0000,9,-999.0000,9,-999.0000,9,   2.0141,   2.1858,2
  33RR20070322,  I09N,   144,  1,      7,      7,2,20070412,1223, -0.3168,  93.5518, 4547,2617.9000,   2617.9,   1.9381,  34.7427,2,  34.7430,2,    151.4,2,    151.2,2,   129.03,2,    34.61,2,     0.00,2,     2.46,2, -999.000,9, -999.000,9, -999.000,9,   -999.0,9,   -999.0,9,-999.0000,9,  -999.00,   -999.0,9,  -999.00,9, -999.000,9, -999.000,-999.0000,9,-999.0000,  -999.00,9,  -999.00, -999.000,9, -999.000,   -999.0,9,   -999.0,  -999.00,9,-999.0000,9,-999.0000,9,-999.0000,9,-999.0000,9,-999.0000,9,-999.0000,9,-999.0000,9,-999.0000,9,-999.0000,9,   1.7477,   1.9383,2
  33RR20070322,  I09N,   144,  1,      6,      6,2,20070412,1223, -0.3168,  93.5518, 4547,2870.6000,   2870.6,   1.8404,  34.7384,2,  34.7388,2,    155.8,2,    154.9,2,   130.27,2,    34.55,2,     0.00,2,     2.44,2, -999.000,9, -999.000,9, -999.000,9,   -999.0,9,   -999.0,9,-999.0000,9,  -999.00,   -999.0,9,  -999.00,9, -999.000,9, -999.000,-999.0000,9,-999.0000,  -999.00,9,  -999.00, -999.000,9, -999.000,   -999.0,9,   -999.0,  -999.00,9,-999.0000,9,-999.0000,9,-999.0000,9,-999.0000,9,-999.0000,9,-999.0000,9,-999.0000,9,-999.0000,9,-999.0000,9,   1.6283,   1.8402,2
  33RR20070322,  I09N,   144,  1,      5,      5,2,20070412,1223, -0.3168,  93.5518, 4547,3123.0000,   3123.0,   1.6547,  34.7315,2,  34.7321,2,    161.2,2,    161.4,2,   132.97,2,    34.32,2,     0.00,2,     2.41,2,    0.003,2,    0.001,2, -999.000,5,   -999.0,9,   -999.0,9,-999.0000,9,  -999.00,   -999.0,9,  -999.00,9, -999.000,9, -999.000,-999.0000,9,-999.0000,  -999.00,9,  -999.00, -999.000,9, -999.000,   -999.0,9,   -999.0,  -999.00,9,-999.0000,9,-999.0000,9,-999.0000,9,-999.0000,9,-999.0000,9,-999.0000,9,-999.0000,9,-999.0000,9,-999.0000,9,   1.4222,   1.6580,2